BOTTLE,20020809WHPSIObren
EXPOCODE,SECT_ID,STNNBR,CASTNO,SAMPNO,BTLNBR,BTLNBR_FLAG_W,DATE,TIME,LATITUDE,LONGITUDE,DEPTH,CTDPRS,CTDTMP,CTDSAL,CTDSAL_FLAG_W,SALNTY,SALNTY_FLAG_W,CTDOXY,CTDOXY_FLAG_W,OXYGEN,OXYGEN_FLAG_W,SILCAT,SILCAT_FLAG_W,NO2+NO3,NO2+NO3_FLAG_W,PHSPHT,PHSPHT_FLAG_W,CTDRAW,REVTMP,REVPRS,THETA
,,,,,,,,,,,,DBAR,ITS-90,PSS-78,,PSS-78,,UMOL/KG,,UMOL/KG,,UMOL/KG,,UMOL/KG,,UMOL/KG,,,DEG C,DBAR,ITS-90
     32MW085_1,  PRS2,     2, 12,     18,     18,2,19970709,2358, 22.8015,-157.9907, 4700,      4.8,  25.5409,  35.0590,2,-999.0000,5,    207.4,1,   -999.0,9,  -999.00,9,  -999.00,9,  -999.00,9,      5,-999.000,  -999.0, 25.5398
     32MW085_1,  PRS2,     2, 12,     16,     16,2,19970709,2358, 22.8015,-157.9907, 4700,      4.8,  25.5431,  35.0589,2,-999.0000,5,    207.4,1,   -999.0,9,  -999.00,9,  -999.00,9,  -999.00,9,      4,-999.000,  -999.0, 25.5420
     32MW085_1,  PRS2,     2, 12,     14,     14,2,19970709,2358, 22.8015,-157.9907, 4700,      4.8,  25.5442,  35.0589,2,-999.0000,5,    207.4,1,   -999.0,9,  -999.00,9,  -999.00,9,  -999.00,9,      5,-999.000,  -999.0, 25.5431
     32MW085_1,  PRS2,     2, 12,     19,     19,2,19970709,2358, 22.8015,-157.9907, 4700,      4.9,  25.5398,  35.0590,2,-999.0000,5,    207.4,1,   -999.0,9,  -999.00,9,  -999.00,9,  -999.00,9,      5,-999.000,  -999.0, 25.5387
     32MW085_1,  PRS2,     2, 12,     17,     17,2,19970709,2358, 22.8015,-157.9907, 4700,      4.9,  25.5416,  35.0590,2,-999.0000,5,    207.4,1,   -999.0,9,  -999.00,9,  -999.00,9,  -999.00,9,      5,-999.000,  -999.0, 25.5405
     32MW085_1,  PRS2,     2, 12,     15,     15,2,19970709,2358, 22.8015,-157.9907, 4700,      4.9,  25.5433,  35.0588,2,-999.0000,5,    207.4,1,   -999.0,9,  -999.00,9,  -999.00,9,  -999.00,9,      6,-999.000,  -999.0, 25.5422
     32MW085_1,  PRS2,     2, 12,     13,     13,2,19970709,2358, 22.8015,-157.9907, 4700,      4.9,  25.5442,  35.0589,2,  35.0682,2,    207.3,1,   -999.0,9,  -999.00,9,  -999.00,9,  -999.00,9,      5,-999.000,  -999.0, 25.5432
     32MW085_1,  PRS2,     2, 12,     12,     12,2,19970709,2358, 22.8015,-157.9907, 4700,     24.4,  25.5114,  35.0557,2,  35.0571,2,    207.2,1,   -999.0,9,  -999.00,9,  -999.00,9,  -999.00,9,     24,-999.000,  -999.0, 25.5060
     32MW085_1,  PRS2,     2, 12,     11,     11,2,19970709,2358, 22.8015,-157.9907, 4700,     49.7,  25.4633,  35.0583,2,  35.0558,2,    207.4,1,   -999.0,9,  -999.00,9,  -999.00,9,  -999.00,9,     51,-999.000,  -999.0, 25.4524
     32MW085_1,  PRS2,     2, 12,     10,     32,2,19970709,2358, 22.8015,-157.9907, 4700,     74.6,  23.9011,  34.9846,2,  34.9881,2,    217.2,1,   -999.0,9,  -999.00,9,  -999.00,9,  -999.00,9,     74,-999.000,  -999.0, 23.8854
     32MW085_1,  PRS2,     2, 12,      9,      3,2,19970709,2358, 22.8015,-157.9907, 4700,     99.4,  23.0444,  35.0294,2,  35.0309,2,    210.0,1,   -999.0,9,  -999.00,9,  -999.00,9,  -999.00,9,     99,-999.000,  -999.0, 23.0241
     32MW085_1,  PRS2,     2, 12,      8,     29,2,19970709,2358, 22.8015,-157.9907, 4700,    124.9,  21.9463,  35.0499,2,  35.0487,2,    201.4,1,   -999.0,9,  -999.00,9,  -999.00,9,  -999.00,9,    126,-999.000,  -999.0, 21.9217
     32MW085_1,  PRS2,     2, 12,      7,     28,2,19970709,2358, 22.8015,-157.9907, 4700,    154.6,  20.6409,  35.0656,2,  35.0708,2,    194.9,1,   -999.0,9,  -999.00,9,  -999.00,9,  -999.00,9,    155,-999.000,  -999.0, 20.6117
     32MW085_1,  PRS2,     2, 12,      6,      7,2,19970709,2358, 22.8015,-157.9907, 4700,    175.9,  20.1231,  35.0610,2,  35.0616,2,    194.7,1,   -999.0,9,  -999.00,9,  -999.00,9,  -999.00,9,    176,-999.000,  -999.0, 20.0904
     32MW085_1,  PRS2,     2, 12,      5,     38,2,19970709,2358, 22.8015,-157.9907, 4700,    249.6,  15.9348,  34.6060,2,  34.5941,2,    183.6,1,   -999.0,9,  -999.00,9,  -999.00,9,  -999.00,9,    249,-999.000,  -999.0, 15.8954
     32MW085_1,  PRS2,     2, 12,      4,     36,2,19970709,2358, 22.8015,-157.9907, 4700,    500.2,   7.7067,  34.0565,2,  34.0579,2,    141.2,1,   -999.0,9,  -999.00,9,  -999.00,9,  -999.00,9,    500,-999.000,  -999.0,  7.6569
     32MW085_1,  PRS2,     2, 12,      3,     35,2,19970709,2358, 22.8015,-157.9907, 4700,    550.2,   6.4941,  34.0223,2,  34.0279,2,    120.7,1,   -999.0,9,  -999.00,9,  -999.00,9,  -999.00,9,    550,-999.000,  -999.0,  6.4442
     32MW085_1,  PRS2,     2, 12,      2,     34,2,19970709,2358, 22.8015,-157.9907, 4700,    750.9,   4.8316,  34.3043,2,  34.3099,2,     27.3,1,   -999.0,9,  -999.00,9,  -999.00,9,  -999.00,9,    752,-999.000,  -999.0,  4.7716
     32MW085_1,  PRS2,     2, 12,      1,     33,2,19970709,2358, 22.8015,-157.9907, 4700,   1020.0,   4.0022,  34.4908,2,  34.4681,4,     41.2,1,   -999.0,9,  -999.00,9,  -999.00,9,  -999.00,9,   1020,-999.000,  -999.0,  3.9249
     32MW085_1,  PRS2,     2, 13,     24,     31,2,19970710,0300, 22.8087,-158.0427, 4721,      2.5,  25.5362,  35.0517,2,  35.0524,2,    207.5,1,   -999.0,9,  -999.00,9,  -999.00,9,  -999.00,9,      3,-999.000,  -999.0, 25.5357
     32MW085_1,  PRS2,     2, 13,     23,     30,2,19970710,0300, 22.8087,-158.0427, 4721,      4.5,  25.5397,  35.0511,2,  35.0481,2,    207.4,1,   -999.0,9,  -999.00,9,  -999.00,9,  -999.00,9,      5,-999.000,  -999.0, 25.5387
     32MW085_1,  PRS2,     2, 13,     22,     22,2,19970710,0300, 22.8087,-158.0427, 4721,      9.6,  25.5397,  35.0510,2,  35.0471,2,    207.4,1,   -999.0,9,  -999.00,9,  -999.00,9,  -999.00,9,     10,-999.000,  -999.0, 25.5376
     32MW085_1,  PRS2,     2, 13,     21,     21,2,19970710,0300, 22.8087,-158.0427, 4721,     14.4,  25.5411,  35.0509,2,  35.0479,2,    207.4,1,   -999.0,9,  -999.00,9,  -999.00,9,  -999.00,9,     14,-999.000,  -999.0, 25.5379
     32MW085_1,  PRS2,     2, 13,     20,     20,2,19970710,0300, 22.8087,-158.0427, 4721,     19.5,  25.5393,  35.0500,2,  35.0475,2,    207.4,1,   -999.0,9,  -999.00,9,  -999.00,9,  -999.00,9,     20,-999.000,  -999.0, 25.5350
     32MW085_1,  PRS2,     2, 13,     19,     19,2,19970710,0300, 22.8087,-158.0427, 4721,     24.4,  25.5478,  35.0512,2,  35.0482,2,    207.4,1,   -999.0,9,  -999.00,9,  -999.00,9,  -999.00,9,     24,-999.000,  -999.0, 25.5425
     32MW085_1,  PRS2,     2, 13,     18,     18,2,19970710,0300, 22.8087,-158.0427, 4721,     29.6,  25.5346,  35.0485,2,  35.0508,2,    207.4,1,   -999.0,9,  -999.00,9,  -999.00,9,  -999.00,9,     29,-999.000,  -999.0, 25.5281
     32MW085_1,  PRS2,     2, 13,     17,     17,2,19970710,0300, 22.8087,-158.0427, 4721,     34.4,  25.5059,  35.0443,2,  35.0470,2,    207.4,1,   -999.0,9,  -999.00,9,  -999.00,9,  -999.00,9,     35,-999.000,  -999.0, 25.4984
     32MW085_1,  PRS2,     2, 13,     16,     16,2,19970710,0300, 22.8087,-158.0427, 4721,     39.6,  25.4956,  35.0428,2,  35.0415,2,    207.4,1,   -999.0,9,  -999.00,9,  -999.00,9,  -999.00,9,     40,-999.000,  -999.0, 25.4869
     32MW085_1,  PRS2,     2, 13,     15,     15,2,19970710,0300, 22.8087,-158.0427, 4721,     44.8,  25.4610,  35.0445,2,  35.0437,2,    207.6,1,   -999.0,9,  -999.00,9,  -999.00,9,  -999.00,9,     45,-999.000,  -999.0, 25.4511
     32MW085_1,  PRS2,     2, 13,     14,     14,3,19970710,0300, 22.8087,-158.0427, 4721,     50.3,  25.4144,  35.0498,2,  35.0474,2,    208.1,1,   -999.0,9,  -999.00,9,  -999.00,9,  -999.00,9,     51,-999.000,  -999.0, 25.4034
     32MW085_1,  PRS2,     2, 13,     13,     13,2,19970710,0300, 22.8087,-158.0427, 4721,     55.3,  25.3792,  35.0656,2,  35.0654,2,    208.6,1,   -999.0,9,  -999.00,9,  -999.00,9,  -999.00,9,     56,-999.000,  -999.0, 25.3671
     32MW085_1,  PRS2,     2, 13,     12,     12,2,19970710,0300, 22.8087,-158.0427, 4721,     65.0,  25.3609,  35.0652,2,  35.0700,2,    208.9,1,   -999.0,9,  -999.00,9,  -999.00,9,  -999.00,9,     65,-999.000,  -999.0, 25.3466
     32MW085_1,  PRS2,     2, 13,     11,     11,2,19970710,0300, 22.8087,-158.0427, 4721,     74.8,  24.1641,  34.9848,2,  34.9820,2,    216.9,1,   -999.0,9,  -999.00,9,  -999.00,9,  -999.00,9,     76,-999.000,  -999.0, 24.1482
     32MW085_1,  PRS2,     2, 13,     10,     32,2,19970710,0300, 22.8087,-158.0427, 4721,     83.3,  23.9269,  34.9927,2,  34.9934,2,    216.5,1,   -999.0,9,  -999.00,9,  -999.00,9,  -999.00,9,     83,-999.000,  -999.0, 23.9094
     32MW085_1,  PRS2,     2, 13,      9,      3,2,19970710,0300, 22.8087,-158.0427, 4721,     94.9,  23.6041,  35.0050,2,  35.0048,2,    214.6,1,   -999.0,9,  -999.00,9,  -999.00,9,  -999.00,9,     96,-999.000,  -999.0, 23.5844
     32MW085_1,  PRS2,     2, 13,      8,     29,2,19970710,0300, 22.8087,-158.0427, 4721,    106.2,  23.1330,  35.0290,2,  35.0309,2,    210.9,1,   -999.0,9,  -999.00,9,  -999.00,9,  -999.00,9,    107,-999.000,  -999.0, 23.1112
     32MW085_1,  PRS2,     2, 13,      7,     28,2,19970710,0300, 22.8087,-158.0427, 4721,    115.3,  22.8256,  35.0337,2,  35.0345,2,    209.5,1,   -999.0,9,  -999.00,9,  -999.00,9,  -999.00,9,    116,-999.000,  -999.0, 22.8022
     32MW085_1,  PRS2,     2, 13,      6,      7,2,19970710,0300, 22.8087,-158.0427, 4721,    125.5,  22.5498,  35.0400,2,  35.0410,2,    206.4,1,   -999.0,9,  -999.00,9,  -999.00,9,  -999.00,9,    125,-999.000,  -999.0, 22.5245
     32MW085_1,  PRS2,     2, 13,      5,     38,2,19970710,0300, 22.8087,-158.0427, 4721,    150.1,  21.5181,  35.0553,2,  35.0564,2,    200.0,1,   -999.0,9,  -999.00,9,  -999.00,9,  -999.00,9,    150,-999.000,  -999.0, 21.4889
     32MW085_1,  PRS2,     2, 13,      4,     36,2,19970710,0300, 22.8087,-158.0427, 4721,    175.2,  20.4524,  35.0576,2,  35.0589,2,    194.4,1,   -999.0,9,  -999.00,9,  -999.00,9,  -999.00,9,    176,-999.000,  -999.0, 20.4195
     32MW085_1,  PRS2,     2, 13,      3,     35,2,19970710,0300, 22.8087,-158.0427, 4721,    252.0,  16.3336,  34.6492,2,  34.6511,2,    185.4,1,   -999.0,9,  -999.00,9,  -999.00,9,  -999.00,9,    252,-999.000,  -999.0, 16.2932
     32MW085_1,  PRS2,     2, 13,      2,     34,2,19970710,0300, 22.8087,-158.0427, 4721,    531.6,   6.6101,  34.0246,2,  34.0264,2,    121.7,1,   -999.0,9,  -999.00,9,  -999.00,9,  -999.00,9,    532,-999.000,  -999.0,  6.5615
     32MW085_1,  PRS2,     2, 13,      1,     33,2,19970710,0300, 22.8087,-158.0427, 4721,   1019.6,   4.0219,  34.4890,2,  34.4896,2,     41.0,1,   -999.0,9,  -999.00,9,  -999.00,9,  -999.00,9,   1020,-999.000,  -999.0,  3.9445
     32MW085_1,  PRS2,     2, 14,     23,     30,2,19970710,0600, 22.8013,-158.0355, 4719,      3.8,  25.4895,  35.0528,2,  35.0503,2,    207.8,1,   -999.0,9,  -999.00,9,  -999.00,9,  -999.00,9,      4,-999.000,  -999.0, 25.4887
     32MW085_1,  PRS2,     2, 14,     22,     22,2,19970710,0600, 22.8013,-158.0355, 4719,     20.0,  25.4937,  35.0531,2,  35.0499,2,    207.8,1,   -999.0,9,  -999.00,9,  -999.00,9,  -999.00,9,     21,-999.000,  -999.0, 25.4893
     32MW085_1,  PRS2,     2, 14,     21,     21,2,19970710,0600, 22.8013,-158.0355, 4719,     24.7,  25.4925,  35.0531,2,  35.0510,2,    207.7,1,   -999.0,9,  -999.00,9,  -999.00,9,  -999.00,9,     25,-999.000,  -999.0, 25.4871
     32MW085_1,  PRS2,     2, 14,     20,     20,2,19970710,0600, 22.8013,-158.0355, 4719,     24.7,  25.4926,  35.0531,2,  35.0507,2,    207.7,1,   -999.0,9,  -999.00,9,  -999.00,9,  -999.00,9,     25,-999.000,  -999.0, 25.4871
     32MW085_1,  PRS2,     2, 14,     19,     19,2,19970710,0600, 22.8013,-158.0355, 4719,     39.1,  25.4890,  35.0506,2,  35.0480,2,    207.7,1,   -999.0,9,  -999.00,9,  -999.00,9,  -999.00,9,     39,-999.000,  -999.0, 25.4804
     32MW085_1,  PRS2,     2, 14,     18,     18,2,19970710,0600, 22.8013,-158.0355, 4719,     44.8,  25.4764,  35.0474,2,  35.0455,2,    207.5,1,   -999.0,9,  -999.00,9,  -999.00,9,  -999.00,9,     45,-999.000,  -999.0, 25.4666
     32MW085_1,  PRS2,     2, 14,     17,     17,2,19970710,0600, 22.8013,-158.0355, 4719,     59.4,  25.3822,  35.0504,2,  35.0492,2,    207.8,1,   -999.0,9,  -999.00,9,  -999.00,9,  -999.00,9,     60,-999.000,  -999.0, 25.3692
     32MW085_1,  PRS2,     2, 14,     16,     16,2,19970710,0600, 22.8013,-158.0355, 4719,     74.3,  25.2885,  35.0487,2,  35.0492,2,    209.2,1,   -999.0,9,  -999.00,9,  -999.00,9,  -999.00,9,     74,-999.000,  -999.0, 25.2723
     32MW085_1,  PRS2,     2, 14,     15,     15,2,19970710,0600, 22.8013,-158.0355, 4719,     78.7,  24.6006,  35.0009,2,  35.0175,3,    213.0,1,   -999.0,9,  -999.00,9,  -999.00,9,  -999.00,9,     79,-999.000,  -999.0, 24.5838
     32MW085_1,  PRS2,     2, 14,     14,     14,2,19970710,0600, 22.8013,-158.0355, 4719,    101.1,  23.5386,  35.0054,2,  35.0055,2,    213.5,1,   -999.0,9,  -999.00,9,  -999.00,9,  -999.00,9,    101,-999.000,  -999.0, 23.5176
     32MW085_1,  PRS2,     2, 14,     13,     13,2,19970710,0600, 22.8013,-158.0355, 4719,    119.7,  23.0091,  35.0305,2,  35.0307,2,    210.4,1,   -999.0,9,  -999.00,9,  -999.00,9,  -999.00,9,    120,-999.000,  -999.0, 22.9847
     32MW085_1,  PRS2,     2, 14,     12,     12,2,19970710,0600, 22.8013,-158.0355, 4719,    124.4,  22.6827,  35.0366,2,  35.0356,2,    207.9,1,   -999.0,9,  -999.00,9,  -999.00,9,  -999.00,9,    125,-999.000,  -999.0, 22.6575
     32MW085_1,  PRS2,     2, 14,      6,      7,2,19970710,0600, 22.8013,-158.0355, 4719,    139.4,  22.1199,  35.0468,2,  35.0466,2,    200.9,1,   -999.0,9,  -999.00,9,  -999.00,9,  -999.00,9,    140,-999.000,  -999.0, 22.0922
     32MW085_1,  PRS2,     2, 14,      8,     29,2,19970710,0600, 22.8013,-158.0355, 4719,    139.5,  22.1196,  35.0470,2,  35.0475,2,    201.4,1,   -999.0,9,  -999.00,9,  -999.00,9,  -999.00,9,    139,-999.000,  -999.0, 22.0919
     32MW085_1,  PRS2,     2, 14,      7,     28,2,19970710,0600, 22.8013,-158.0355, 4719,    139.5,  22.1196,  35.0469,2,  35.0465,2,    201.1,1,   -999.0,9,  -999.00,9,  -999.00,9,  -999.00,9,    140,-999.000,  -999.0, 22.0919
     32MW085_1,  PRS2,     2, 14,     11,     11,2,19970710,0600, 22.8013,-158.0355, 4719,    139.6,  22.1203,  35.0471,2,  35.0470,2,    202.0,1,   -999.0,9,  -999.00,9,  -999.00,9,  -999.00,9,    140,-999.000,  -999.0, 22.0926
     32MW085_1,  PRS2,     2, 14,     10,     32,2,19970710,0600, 22.8013,-158.0355, 4719,    139.6,  22.1211,  35.0473,2,  35.0471,2,    201.8,1,   -999.0,9,  -999.00,9,  -999.00,9,  -999.00,9,    140,-999.000,  -999.0, 22.0934
     32MW085_1,  PRS2,     2, 14,      9,      3,2,19970710,0600, 22.8013,-158.0355, 4719,    139.6,  22.1205,  35.0470,2,  35.0468,2,    201.6,1,   -999.0,9,  -999.00,9,  -999.00,9,  -999.00,9,    140,-999.000,  -999.0, 22.0928
     32MW085_1,  PRS2,     2, 14,      5,     38,2,19970710,0600, 22.8013,-158.0355, 4719,    149.4,  21.7717,  35.0543,2,  35.0545,2,    200.9,1,   -999.0,9,  -999.00,9,  -999.00,9,  -999.00,9,    150,-999.000,  -999.0, 21.7423
     32MW085_1,  PRS2,     2, 14,      4,     36,2,19970710,0600, 22.8013,-158.0355, 4719,    173.8,  20.6947,  35.0556,2,-999.0000,5,    194.5,1,   -999.0,9,  -999.00,9,  -999.00,9,  -999.00,9,    174,-999.000,  -999.0, 20.6618
     32MW085_1,  PRS2,     2, 14,      3,     35,2,19970710,0600, 22.8013,-158.0355, 4719,    528.7,   6.6031,  34.0238,2,  34.0245,2,    121.1,1,   -999.0,9,  -999.00,9,  -999.00,9,  -999.00,9,    528,-999.000,  -999.0,  6.5548
     32MW085_1,  PRS2,     2, 14,      2,     34,2,19970710,0600, 22.8013,-158.0355, 4719,    697.9,   5.0312,  34.2479,2,  34.2442,2,     30.7,1,   -999.0,9,  -999.00,9,  -999.00,9,  -999.00,9,    698,-999.000,  -999.0,  4.9747
     32MW085_1,  PRS2,     2, 14,      1,     33,2,19970710,0600, 22.8013,-158.0355, 4719,   1025.5,   3.9585,  34.4962,2,  34.4950,2,     41.9,1,   -999.0,9,  -999.00,9,  -999.00,9,  -999.00,9,   1026,-999.000,  -999.0,  3.8811
     32MW085_1,  PRS2,     8,  1,     11,     11,2,19970711,0529, 22.4765,-158.1330, 4830,      5.4,  25.6695,  35.0189,2,  35.0183,2,    206.3,2,    206.2,2,  -999.00,9,  -999.00,9,  -999.00,9,      6,-999.000,  -999.0, 25.6684
     32MW085_1,  PRS2,     8,  1,     10,     32,2,19970711,0529, 22.4765,-158.1330, 4830,     25.0,  25.6547,  35.0168,2,  35.0161,2,    206.5,2,   -999.0,5,  -999.00,9,  -999.00,9,  -999.00,9,     25,-999.000,  -999.0, 25.6492
     32MW085_1,  PRS2,     8,  1,      9,      3,2,19970711,0529, 22.4765,-158.1330, 4830,     44.6,  25.3477,  35.0535,2,  35.0547,2,    209.2,2,   -999.0,5,  -999.00,9,  -999.00,9,  -999.00,9,     45,-999.000,  -999.0, 25.3379
     32MW085_1,  PRS2,     8,  1,      8,     29,2,19970711,0529, 22.4765,-158.1330, 4830,     74.8,  23.5214,  35.0047,2,  35.0060,2,    214.7,2,    214.9,2,  -999.00,9,  -999.00,9,  -999.00,9,     75,-999.000,  -999.0, 23.5059
     32MW085_1,  PRS2,     8,  1,      7,     28,2,19970711,0529, 22.4765,-158.1330, 4830,    100.1,  22.6890,  35.0801,2,  35.0786,2,    210.0,2,   -999.0,5,  -999.00,9,  -999.00,9,  -999.00,9,    100,-999.000,  -999.0, 22.6687
     32MW085_1,  PRS2,     8,  1,      6,      7,2,19970711,0529, 22.4765,-158.1330, 4830,    124.9,  21.6380,  35.0710,2,  35.0782,2,    208.0,2,    207.9,2,  -999.00,9,  -999.00,9,  -999.00,9,    125,-999.000,  -999.0, 21.6136
     32MW085_1,  PRS2,     8,  1,      5,     38,2,19970711,0529, 22.4765,-158.1330, 4830,    150.2,  20.5688,  35.0495,2,  35.0507,2,    192.0,2,   -999.0,5,  -999.00,9,  -999.00,9,  -999.00,9,    151,-999.000,  -999.0, 20.5405
     32MW085_1,  PRS2,     8,  1,      4,     36,2,19970711,0529, 22.4765,-158.1330, 4830,    174.6,  19.6772,  35.0147,2,  35.0149,2,    192.2,2,    192.1,2,  -999.00,9,  -999.00,9,  -999.00,9,    175,-999.000,  -999.0, 19.6453
     32MW085_1,  PRS2,     8,  1,      3,     35,2,19970711,0529, 22.4765,-158.1330, 4830,    504.5,   7.4145,  34.0590,2,  34.0600,2,    127.4,2,    127.4,2,  -999.00,9,  -999.00,9,  -999.00,9,    505,-999.000,  -999.0,  7.3653
     32MW085_1,  PRS2,     8,  1,      2,     34,2,19970711,0529, 22.4765,-158.1330, 4830,    800.7,   4.7317,  34.3414,2,  34.3412,2,     26.4,2,     26.4,2,  -999.00,9,  -999.00,9,  -999.00,9,    800,-999.000,  -999.0,  4.6680
     32MW085_1,  PRS2,     8,  1,      1,     33,2,19970711,0529, 22.4765,-158.1330, 4830,   1018.2,   4.0715,  34.4825,2,  34.4832,2,     38.7,2,     38.7,2,  -999.00,9,  -999.00,9,  -999.00,9,   1017,-999.000,  -999.0,  3.9938