BOTTLE,20020809WHPSIObren
EXPOCODE,SECT_ID,STNNBR,CASTNO,SAMPNO,BTLNBR,BTLNBR_FLAG_W,DATE,TIME,LATITUDE,LONGITUDE,DEPTH,CTDPRS,CTDTMP,CTDSAL,CTDSAL_FLAG_W,SALNTY,SALNTY_FLAG_W,CTDOXY,CTDOXY_FLAG_W,OXYGEN,OXYGEN_FLAG_W,SILCAT,SILCAT_FLAG_W,NO2+NO3,NO2+NO3_FLAG_W,PHSPHT,PHSPHT_FLAG_W,CTDRAW,REVTMP,REVPRS,THETA
,,,,,,,,,,,,DBAR,ITS-90,PSS-78,,PSS-78,,UMOL/KG,,UMOL/KG,,UMOL/KG,,UMOL/KG,,UMOL/KG,,,DEG C,DBAR,ITS-90
     32MW085_1,  PRS2,     2,  7,     24,     31,2,19970709,0920, 22.7685,-157.9740, 4705,      4.5,  25.5103,  35.0504,2,  35.0499,2,    206.5,1,   -999.0,9,  -999.00,9,  -999.00,9,  -999.00,9,      5,-999.000,  -999.0, 25.5093
     32MW085_1,  PRS2,     2,  7,     23,     30,2,19970709,0920, 22.7685,-157.9740, 4705,     25.6,  25.5188,  35.0497,2,  35.0529,2,    206.5,1,   -999.0,9,  -999.00,9,  -999.00,9,  -999.00,9,     25,-999.000,  -999.0, 25.5132
     32MW085_1,  PRS2,     2,  7,     22,     22,2,19970709,0920, 22.7685,-157.9740, 4705,     50.8,  25.5216,  35.0494,2,  35.0515,2,    206.5,1,   -999.0,9,  -999.00,9,  -999.00,9,  -999.00,9,     50,-999.000,  -999.0, 25.5104
     32MW085_1,  PRS2,     2,  7,     21,     21,2,19970709,0920, 22.7685,-157.9740, 4705,     72.5,  25.3603,  35.0564,2,  35.0595,2,    207.7,1,   -999.0,9,  -999.00,9,  -999.00,9,  -999.00,9,     72,-999.000,  -999.0, 25.3444
     32MW085_1,  PRS2,     2,  7,     20,     20,2,19970709,0920, 22.7685,-157.9740, 4705,    100.9,  23.5636,  35.0069,2,  35.0044,2,    213.1,1,   -999.0,9,  -999.00,9,  -999.00,9,  -999.00,9,    101,-999.000,  -999.0, 23.5426
     32MW085_1,  PRS2,     2,  7,     19,     19,2,19970709,0920, 22.7685,-157.9740, 4705,    125.6,  22.7279,  35.0334,2,  35.0339,2,    208.6,1,   -999.0,9,  -999.00,9,  -999.00,9,  -999.00,9,    127,-999.000,  -999.0, 22.7024
     32MW085_1,  PRS2,     2,  7,     16,     16,2,19970709,0920, 22.7685,-157.9740, 4705,    139.3,  22.2134,  35.0458,2,  35.0465,2,    202.0,1,   -999.0,9,  -999.00,9,  -999.00,9,  -999.00,9,    139,-999.000,  -999.0, 22.1857
     32MW085_1,  PRS2,     2,  7,     15,     15,2,19970709,0920, 22.7685,-157.9740, 4705,    139.3,  22.2154,  35.0470,2,  35.0482,2,    201.7,1,   -999.0,9,  -999.00,9,  -999.00,9,  -999.00,9,    139,-999.000,  -999.0, 22.1876
     32MW085_1,  PRS2,     2,  7,     14,     14,3,19970709,0920, 22.7685,-157.9740, 4705,    139.3,  22.2154,  35.0470,2,  35.0458,2,    201.5,1,   -999.0,9,  -999.00,9,  -999.00,9,  -999.00,9,    139,-999.000,  -999.0, 22.1876
     32MW085_1,  PRS2,     2,  7,     18,     18,2,19970709,0920, 22.7685,-157.9740, 4705,    139.7,  22.1171,  35.0488,2,  35.0475,2,    202.7,1,   -999.0,9,  -999.00,9,  -999.00,9,  -999.00,9,    140,-999.000,  -999.0, 22.0894
     32MW085_1,  PRS2,     2,  7,     17,     17,2,19970709,0920, 22.7685,-157.9740, 4705,    139.8,  22.1749,  35.0484,2,  35.0463,2,    202.3,1,   -999.0,9,  -999.00,9,  -999.00,9,  -999.00,9,    140,-999.000,  -999.0, 22.1471
     32MW085_1,  PRS2,     2,  7,     13,     13,2,19970709,0920, 22.7685,-157.9740, 4705,    152.0,  21.6602,  35.0544,2,  35.0556,2,    199.7,1,   -999.0,9,  -999.00,9,  -999.00,9,  -999.00,9,    152,-999.000,  -999.0, 21.6305
     32MW085_1,  PRS2,     2,  7,     12,     12,2,19970709,0920, 22.7685,-157.9740, 4705,    175.3,  20.6336,  35.0597,2,  35.0680,2,    192.9,1,   -999.0,9,  -999.00,9,  -999.00,9,  -999.00,9,    175,-999.000,  -999.0, 20.6004
     32MW085_1,  PRS2,     2,  7,     11,     11,2,19970709,0920, 22.7685,-157.9740, 4705,    202.6,  19.4061,  35.0030,2,  35.0054,2,    189.8,1,   -999.0,9,  -999.00,9,  -999.00,9,  -999.00,9,    202,-999.000,  -999.0, 19.3695
     32MW085_1,  PRS2,     2,  7,     10,     32,2,19970709,0920, 22.7685,-157.9740, 4705,    225.8,  18.3244,  34.8936,2,  34.9089,2,    194.6,1,   -999.0,9,  -999.00,9,  -999.00,9,  -999.00,9,    226,-999.000,  -999.0, 18.2851
     32MW085_1,  PRS2,     2,  7,      9,      3,2,19970709,0920, 22.7685,-157.9740, 4705,    251.5,  16.2419,  34.6524,2,  34.6723,3,    187.9,1,   -999.0,9,  -999.00,9,  -999.00,9,  -999.00,9,    252,-999.000,  -999.0, 16.2017
     32MW085_1,  PRS2,     2,  7,      8,     29,2,19970709,0920, 22.7685,-157.9740, 4705,    301.0,  13.4097,  34.3722,2,  34.3742,2,    186.9,1,   -999.0,9,  -999.00,9,  -999.00,9,  -999.00,9,    301,-999.000,  -999.0, 13.3675
     32MW085_1,  PRS2,     2,  7,      7,     28,2,19970709,0920, 22.7685,-157.9740, 4705,    397.7,   9.4980,  34.1086,2,  34.1100,2,    184.1,1,   -999.0,9,  -999.00,9,  -999.00,9,  -999.00,9,    397,-999.000,  -999.0,  9.4534
     32MW085_1,  PRS2,     2,  7,      6,      7,2,19970709,0920, 22.7685,-157.9740, 4705,    498.1,   7.4223,  34.0515,2,  34.0557,2,    137.9,1,   -999.0,9,  -999.00,9,  -999.00,9,  -999.00,9,    499,-999.000,  -999.0,  7.3737
     32MW085_1,  PRS2,     2,  7,      5,     38,2,19970709,0920, 22.7685,-157.9740, 4705,    598.9,   5.9286,  34.0567,2,  34.0639,2,     80.8,1,   -999.0,9,  -999.00,9,  -999.00,9,  -999.00,9,    600,-999.000,  -999.0,  5.8766
     32MW085_1,  PRS2,     2,  7,      4,     36,2,19970709,0920, 22.7685,-157.9740, 4705,    702.1,   5.1092,  34.2324,2,  34.2333,2,     31.7,1,   -999.0,9,  -999.00,9,  -999.00,9,  -999.00,9,    702,-999.000,  -999.0,  5.0519
     32MW085_1,  PRS2,     2,  7,      3,     35,2,19970709,0920, 22.7685,-157.9740, 4705,    750.6,   4.8636,  34.3071,2,  34.3085,2,     27.0,1,   -999.0,9,  -999.00,9,  -999.00,9,  -999.00,9,    751,-999.000,  -999.0,  4.8035
     32MW085_1,  PRS2,     2,  7,      2,     34,2,19970709,0920, 22.7685,-157.9740, 4705,    799.0,   4.6596,  34.3573,2,  34.3580,2,     27.2,1,   -999.0,9,  -999.00,9,  -999.00,9,  -999.00,9,    799,-999.000,  -999.0,  4.5965
     32MW085_1,  PRS2,     2,  7,      1,     33,2,19970709,0920, 22.7685,-157.9740, 4705,   1021.5,   3.9885,  34.4939,2,  34.4936,2,     41.1,1,   -999.0,9,  -999.00,9,  -999.00,9,  -999.00,9,   1022,-999.000,  -999.0,  3.9111
     32MW085_1,  PRS2,     2,  8,      4,     36,2,19970709,1259, 22.8105,-157.9610, 4680,      4.8,  25.4920,  35.0562,2,  35.0605,2,    206.7,1,   -999.0,9,  -999.00,9,  -999.00,9,  -999.00,9,      5,-999.000,  -999.0, 25.4909
     32MW085_1,  PRS2,     2,  8,      3,     35,2,19970709,1259, 22.8105,-157.9610, 4680,    150.6,  20.8400,  35.0553,2,  35.0563,2,    192.3,1,   -999.0,9,  -999.00,9,  -999.00,9,  -999.00,9,    150,-999.000,  -999.0, 20.8113
     32MW085_1,  PRS2,     2,  8,      2,     34,2,19970709,1259, 22.8105,-157.9610, 4680,    531.9,   6.6573,  34.0232,2,  34.0258,2,    121.5,1,   -999.0,9,  -999.00,9,  -999.00,9,  -999.00,9,    532,-999.000,  -999.0,  6.6085
     32MW085_1,  PRS2,     2,  8,      1,     33,2,19970709,1259, 22.8105,-157.9610, 4680,   1019.4,   4.0517,  34.4862,2,  34.4868,2,     39.7,1,   -999.0,9,  -999.00,9,  -999.00,9,  -999.00,9,   1020,-999.000,  -999.0,  3.9741
     32MW085_1,  PRS2,     2,  9,     24,     31,2,19970709,1541, 22.7612,-157.9923, 4715,      2.6,  25.4864,  35.0560,2,  35.0528,2,    206.3,1,   -999.0,9,  -999.00,9,  -999.00,9,  -999.00,9,      3,-999.000,  -999.0, 25.4859
     32MW085_1,  PRS2,     2,  9,     23,     30,2,19970709,1541, 22.7612,-157.9923, 4715,      4.8,  25.4871,  35.0565,2,  35.0537,2,    206.3,1,   -999.0,9,  -999.00,9,  -999.00,9,  -999.00,9,      5,-999.000,  -999.0, 25.4861
     32MW085_1,  PRS2,     2,  9,     22,     22,2,19970709,1541, 22.7612,-157.9923, 4715,     10.0,  25.4927,  35.0562,2,  35.0537,2,    206.3,1,   -999.0,9,  -999.00,9,  -999.00,9,  -999.00,9,     11,-999.000,  -999.0, 25.4905
     32MW085_1,  PRS2,     2,  9,     21,     21,2,19970709,1541, 22.7612,-157.9923, 4715,     14.8,  25.4938,  35.0565,2,  35.0528,2,    206.4,1,   -999.0,9,  -999.00,9,  -999.00,9,  -999.00,9,     14,-999.000,  -999.0, 25.4906
     32MW085_1,  PRS2,     2,  9,     20,     20,2,19970709,1541, 22.7612,-157.9923, 4715,     19.2,  25.4989,  35.0562,2,  35.0578,2,    206.4,1,   -999.0,9,  -999.00,9,  -999.00,9,  -999.00,9,     19,-999.000,  -999.0, 25.4947
     32MW085_1,  PRS2,     2,  9,     19,     19,2,19970709,1541, 22.7612,-157.9923, 4715,     24.6,  25.5004,  35.0561,2,  35.0552,2,    206.5,1,   -999.0,9,  -999.00,9,  -999.00,9,  -999.00,9,     24,-999.000,  -999.0, 25.4950
     32MW085_1,  PRS2,     2,  9,     18,     18,2,19970709,1541, 22.7612,-157.9923, 4715,     29.9,  25.5008,  35.0560,2,  35.0539,2,    206.6,1,   -999.0,9,  -999.00,9,  -999.00,9,  -999.00,9,     30,-999.000,  -999.0, 25.4943
     32MW085_1,  PRS2,     2,  9,     17,     17,2,19970709,1541, 22.7612,-157.9923, 4715,     34.9,  25.5008,  35.0558,2,  35.0566,2,    206.7,1,   -999.0,9,  -999.00,9,  -999.00,9,  -999.00,9,     35,-999.000,  -999.0, 25.4931
     32MW085_1,  PRS2,     2,  9,     16,     16,2,19970709,1541, 22.7612,-157.9923, 4715,     40.0,  25.5017,  35.0555,2,  35.0540,2,    206.8,1,   -999.0,9,  -999.00,9,  -999.00,9,  -999.00,9,     40,-999.000,  -999.0, 25.4929
     32MW085_1,  PRS2,     2,  9,     15,     15,2,19970709,1541, 22.7612,-157.9923, 4715,     45.6,  25.5038,  35.0549,2,  35.0545,2,    206.9,1,   -999.0,9,  -999.00,9,  -999.00,9,  -999.00,9,     46,-999.000,  -999.0, 25.4937
     32MW085_1,  PRS2,     2,  9,     14,     14,2,19970709,1541, 22.7612,-157.9923, 4715,     49.9,  25.5030,  35.0551,2,  35.0554,2,    207.1,1,   -999.0,9,  -999.00,9,  -999.00,9,  -999.00,9,     52,-999.000,  -999.0, 25.4921
     32MW085_1,  PRS2,     2,  9,     13,     13,2,19970709,1541, 22.7612,-157.9923, 4715,     55.6,  25.4253,  35.0659,2,  35.0589,2,    207.2,1,   -999.0,9,  -999.00,9,  -999.00,9,  -999.00,9,     55,-999.000,  -999.0, 25.4131
     32MW085_1,  PRS2,     2,  9,     12,     12,2,19970709,1541, 22.7612,-157.9923, 4715,     63.8,  25.3221,  35.0537,2,  35.0600,2,    207.4,1,   -999.0,9,  -999.00,9,  -999.00,9,  -999.00,9,     64,-999.000,  -999.0, 25.3081
     32MW085_1,  PRS2,     2,  9,     11,     11,2,19970709,1541, 22.7612,-157.9923, 4715,     75.0,  24.1849,  34.9722,2,  34.9745,2,    214.5,1,   -999.0,9,  -999.00,9,  -999.00,9,  -999.00,9,     75,-999.000,  -999.0, 24.1690
     32MW085_1,  PRS2,     2,  9,     10,     32,2,19970709,1541, 22.7612,-157.9923, 4715,     84.7,  23.9026,  34.9856,2,  34.9897,2,    216.5,1,   -999.0,9,  -999.00,9,  -999.00,9,  -999.00,9,     85,-999.000,  -999.0, 23.8849
     32MW085_1,  PRS2,     2,  9,      9,      3,2,19970709,1541, 22.7612,-157.9923, 4715,     94.5,  23.7023,  34.9957,2,  34.9949,2,    214.2,1,   -999.0,9,  -999.00,9,  -999.00,9,  -999.00,9,     95,-999.000,  -999.0, 23.6826
     32MW085_1,  PRS2,     2,  9,      8,     29,2,19970709,1541, 22.7612,-157.9923, 4715,    105.2,  23.2892,  35.0185,2,  35.0244,2,    211.7,1,   -999.0,9,  -999.00,9,  -999.00,9,  -999.00,9,    106,-999.000,  -999.0, 23.2675
     32MW085_1,  PRS2,     2,  9,      7,     28,2,19970709,1541, 22.7612,-157.9923, 4715,    115.9,  23.0781,  35.0298,2,  35.0299,2,    210.6,1,   -999.0,9,  -999.00,9,  -999.00,9,  -999.00,9,    117,-999.000,  -999.0, 23.0544
     32MW085_1,  PRS2,     2,  9,      6,      7,2,19970709,1541, 22.7612,-157.9923, 4715,    124.9,  22.9665,  35.0330,2,  35.0321,2,    209.9,1,   -999.0,9,  -999.00,9,  -999.00,9,  -999.00,9,    126,-999.000,  -999.0, 22.9411
     32MW085_1,  PRS2,     2,  9,      5,     38,2,19970709,1541, 22.7612,-157.9923, 4715,    150.6,  21.9585,  35.0476,2,  35.0479,2,    201.6,1,   -999.0,9,  -999.00,9,  -999.00,9,  -999.00,9,    151,-999.000,  -999.0, 21.9288
     32MW085_1,  PRS2,     2,  9,      4,     36,2,19970709,1541, 22.7612,-157.9923, 4715,    173.9,  20.7866,  35.0651,2,  35.0687,2,    195.7,1,   -999.0,9,  -999.00,9,  -999.00,9,  -999.00,9,    174,-999.000,  -999.0, 20.7535
     32MW085_1,  PRS2,     2,  9,      3,     35,2,19970709,1541, 22.7612,-157.9923, 4715,    253.5,  16.4651,  34.6781,2,  34.6902,2,    187.6,1,   -999.0,9,  -999.00,9,  -999.00,9,  -999.00,9,    254,-999.000,  -999.0, 16.4242
     32MW085_1,  PRS2,     2,  9,      2,     34,2,19970709,1541, 22.7612,-157.9923, 4715,    510.3,   6.9333,  34.0255,2,  34.0261,2,    131.5,1,   -999.0,9,  -999.00,9,  -999.00,9,  -999.00,9,    510,-999.000,  -999.0,  6.8855
     32MW085_1,  PRS2,     2,  9,      1,     33,2,19970709,1541, 22.7612,-157.9923, 4715,   1017.8,   4.0071,  34.4916,2,  34.4909,2,     40.6,1,   -999.0,9,  -999.00,9,  -999.00,9,  -999.00,9,   1018,-999.000,  -999.0,  3.9299
     32MW085_1,  PRS2,     2, 10,     14,     14,2,19970709,1828, 22.7703,-158.0010, 4720,      5.3,  25.4889,  35.0441,2,  35.0444,2,    206.0,1,   -999.0,9,  -999.00,9,  -999.00,9,  -999.00,9,      6,-999.000,  -999.0, 25.4878
     32MW085_1,  PRS2,     2, 10,     13,     13,2,19970709,1828, 22.7703,-158.0010, 4720,     25.1,  25.4929,  35.0440,2,  35.0451,2,    206.0,1,   -999.0,9,  -999.00,9,  -999.00,9,  -999.00,9,     25,-999.000,  -999.0, 25.4874
     32MW085_1,  PRS2,     2, 10,     12,     12,2,19970709,1828, 22.7703,-158.0010, 4720,     45.3,  25.4946,  35.0434,2,  35.0477,2,    206.0,1,   -999.0,9,  -999.00,9,  -999.00,9,  -999.00,9,     46,-999.000,  -999.0, 25.4847
     32MW085_1,  PRS2,     2, 10,     11,     11,2,19970709,1828, 22.7703,-158.0010, 4720,     75.7,  25.0071,  35.0220,2,  35.0299,2,    208.7,1,   -999.0,9,  -999.00,9,  -999.00,9,  -999.00,9,     75,-999.000,  -999.0, 24.9907
     32MW085_1,  PRS2,     2, 10,     10,     32,2,19970709,1828, 22.7703,-158.0010, 4720,    100.1,  23.5458,  35.0072,2,  35.0108,2,    211.8,1,   -999.0,9,  -999.00,9,  -999.00,9,  -999.00,9,    101,-999.000,  -999.0, 23.5250
     32MW085_1,  PRS2,     2, 10,      9,      3,2,19970709,1828, 22.7703,-158.0010, 4720,    125.2,  22.4796,  35.0399,2,  35.0545,4,    205.2,1,   -999.0,9,  -999.00,9,  -999.00,9,  -999.00,9,    126,-999.000,  -999.0, 22.4544
     32MW085_1,  PRS2,     2, 10,      8,     29,2,19970709,1828, 22.7703,-158.0010, 4720,    149.3,  21.5590,  35.0558,2,  35.0566,2,    198.1,1,   -999.0,9,  -999.00,9,  -999.00,9,  -999.00,9,    148,-999.000,  -999.0, 21.5299
     32MW085_1,  PRS2,     2, 10,      7,     28,2,19970709,1828, 22.7703,-158.0010, 4720,    174.2,  20.5534,  35.0598,2,  35.0615,2,    193.3,1,   -999.0,9,  -999.00,9,  -999.00,9,  -999.00,9,    175,-999.000,  -999.0, 20.5206
     32MW085_1,  PRS2,     2, 10,      6,      7,2,19970709,1828, 22.7703,-158.0010, 4720,    180.4,  20.4347,  35.0557,2,  35.0612,2,    192.6,1,   -999.0,9,  -999.00,9,  -999.00,9,  -999.00,9,    181,-999.000,  -999.0, 20.4008
     32MW085_1,  PRS2,     2, 10,      5,     38,2,19970709,1828, 22.7703,-158.0010, 4720,    249.9,  17.5508,  34.8173,2,  34.8184,2,    192.3,1,   -999.0,9,  -999.00,9,  -999.00,9,  -999.00,9,    251,-999.000,  -999.0, 17.5086
     32MW085_1,  PRS2,     2, 10,      4,     36,2,19970709,1828, 22.7703,-158.0010, 4720,    501.0,   7.1628,  34.0332,2,  34.0339,2,    139.1,1,   -999.0,9,  -999.00,9,  -999.00,9,  -999.00,9,    502,-999.000,  -999.0,  7.1150
     32MW085_1,  PRS2,     2, 10,      3,     35,2,19970709,1828, 22.7703,-158.0010, 4720,    521.3,   6.6569,  34.0256,2,  34.0257,2,    118.2,1,   -999.0,9,  -999.00,9,  -999.00,9,  -999.00,9,    521,-999.000,  -999.0,  6.6091
     32MW085_1,  PRS2,     2, 10,      2,     34,2,19970709,1828, 22.7703,-158.0010, 4720,    749.7,   4.7926,  34.3156,2,  34.3131,2,     26.3,1,   -999.0,9,  -999.00,9,  -999.00,9,  -999.00,9,    750,-999.000,  -999.0,  4.7329
     32MW085_1,  PRS2,     2, 10,      1,     33,2,19970709,1828, 22.7703,-158.0010, 4720,   1019.9,   3.9623,  34.4956,2,  34.4987,2,     41.8,1,   -999.0,9,  -999.00,9,  -999.00,9,  -999.00,9,   1018,-999.000,  -999.0,  3.8853
     32MW085_1,  PRS2,     2, 11,     11,     11,2,19970709,2100, 22.7802,-158.0087, 4715,      4.6,  25.5129,  35.0434,2,  35.0430,2,    206.2,1,   -999.0,9,  -999.00,9,  -999.00,9,  -999.00,9,      5,-999.000,  -999.0, 25.5119
     32MW085_1,  PRS2,     2, 11,     10,     32,2,19970709,2100, 22.7802,-158.0087, 4715,     24.9,  25.4966,  35.0424,2,  35.0430,2,    206.3,1,   -999.0,9,  -999.00,9,  -999.00,9,  -999.00,9,     25,-999.000,  -999.0, 25.4912
     32MW085_1,  PRS2,     2, 11,      9,      3,2,19970709,2100, 22.7802,-158.0087, 4715,     44.7,  25.4912,  35.0411,2,  35.0434,2,    206.2,1,   -999.0,9,  -999.00,9,  -999.00,9,  -999.00,9,     45,-999.000,  -999.0, 25.4814
     32MW085_1,  PRS2,     2, 11,      8,     29,2,19970709,2100, 22.7802,-158.0087, 4715,     75.9,  24.0529,  34.9805,2,  34.9799,2,    217.2,1,   -999.0,9,  -999.00,9,  -999.00,9,  -999.00,9,     77,-999.000,  -999.0, 24.0369
     32MW085_1,  PRS2,     2, 11,      7,     28,2,19970709,2100, 22.7802,-158.0087, 4715,    100.4,  23.2544,  35.0231,2,  35.0241,2,    211.0,1,   -999.0,9,  -999.00,9,  -999.00,9,  -999.00,9,    101,-999.000,  -999.0, 23.2337
     32MW085_1,  PRS2,     2, 11,      6,      7,2,19970709,2100, 22.7802,-158.0087, 4715,    125.2,  22.5055,  35.0405,2,  35.0461,2,    206.3,1,   -999.0,9,  -999.00,9,  -999.00,9,  -999.00,9,    124,-999.000,  -999.0, 22.4803
     32MW085_1,  PRS2,     2, 11,      5,     38,2,19970709,2100, 22.7802,-158.0087, 4715,    150.1,  21.5579,  35.0553,2,  35.0562,2,    198.0,1,   -999.0,9,  -999.00,9,  -999.00,9,  -999.00,9,    151,-999.000,  -999.0, 21.5287
     32MW085_1,  PRS2,     2, 11,      4,     36,2,19970709,2100, 22.7802,-158.0087, 4715,    170.5,  20.6419,  35.0624,2,  35.0544,2,    194.2,1,   -999.0,9,  -999.00,9,  -999.00,9,  -999.00,9,    171,-999.000,  -999.0, 20.6097
     32MW085_1,  PRS2,     2, 11,      3,     35,2,19970709,2100, 22.7802,-158.0087, 4715,    180.2,  20.3817,  35.0558,2,  34.0272,4,    192.3,1,   -999.0,9,  -999.00,9,  -999.00,9,  -999.00,9,    180,-999.000,  -999.0, 20.3480
     32MW085_1,  PRS2,     2, 11,      2,     34,2,19970709,2100, 22.7802,-158.0087, 4715,    541.1,   6.6781,  34.0270,2,  34.4877,4,    119.2,1,   -999.0,9,  -999.00,9,  -999.00,9,  -999.00,9,    540,-999.000,  -999.0,  6.6283
     32MW085_1,  PRS2,     2, 11,      1,     33,2,19970709,2100, 22.7802,-158.0087, 4715,   1021.1,   4.0167,  34.4883,2,-999.0000,5,     40.9,1,   -999.0,9,  -999.00,9,  -999.00,9,  -999.00,9,   1021,-999.000,  -999.0,  3.9392