BOTTLE,20020809WHPSIObren
EXPOCODE,SECT_ID,STNNBR,CASTNO,SAMPNO,BTLNBR,BTLNBR_FLAG_W,DATE,TIME,LATITUDE,LONGITUDE,DEPTH,CTDPRS,CTDTMP,CTDSAL,CTDSAL_FLAG_W,SALNTY,SALNTY_FLAG_W,CTDOXY,CTDOXY_FLAG_W,OXYGEN,OXYGEN_FLAG_W,SILCAT,SILCAT_FLAG_W,NO2+NO3,NO2+NO3_FLAG_W,PHSPHT,PHSPHT_FLAG_W,CTDRAW,REVTMP,REVPRS,THETA
,,,,,,,,,,,,DBAR,ITS-90,PSS-78,,PSS-78,,UMOL/KG,,UMOL/KG,,UMOL/KG,,UMOL/KG,,UMOL/KG,,,DEG C,DBAR,ITS-90
     32MW085_1,  PRS2,     2,  3,     17,     17,2,19970708,2207, 22.7958,-158.0117, 4710,      4.8,  25.5727,  35.0477,2,  35.0473,2,    206.2,1,   -999.0,9,  -999.00,9,  -999.00,9,  -999.00,9,      6,-999.000,  -999.0, 25.5716
     32MW085_1,  PRS2,     2,  3,     16,     16,2,19970708,2207, 22.7958,-158.0117, 4710,      4.9,  25.5729,  35.0476,2,  35.0469,2,    206.2,1,   -999.0,9,  -999.00,9,  -999.00,9,  -999.00,9,      6,-999.000,  -999.0, 25.5718
     32MW085_1,  PRS2,     2,  3,     15,     15,2,19970708,2207, 22.7958,-158.0117, 4710,     24.4,  25.5151,  35.0469,2,  35.0480,2,    206.1,1,   -999.0,9,  -999.00,9,  -999.00,9,  -999.00,9,     24,-999.000,  -999.0, 25.5098
     32MW085_1,  PRS2,     2,  3,     14,     14,2,19970708,2207, 22.7958,-158.0117, 4710,     24.5,  25.5145,  35.0470,2,  35.0468,2,    206.2,1,   -999.0,9,  -999.00,9,  -999.00,9,  -999.00,9,     25,-999.000,  -999.0, 25.5091
     32MW085_1,  PRS2,     2,  3,     13,     13,2,19970708,2207, 22.7958,-158.0117, 4710,     44.4,  25.3872,  35.0684,2,  34.9230,4,    207.2,1,   -999.0,9,  -999.00,9,  -999.00,9,  -999.00,9,     44,-999.000,  -999.0, 25.3775
     32MW085_1,  PRS2,     2,  3,     12,     12,2,19970708,2207, 22.7958,-158.0117, 4710,     74.2,  23.8881,  34.9821,2,  34.9839,2,    216.1,1,   -999.0,9,  -999.00,9,  -999.00,9,  -999.00,9,     74,-999.000,  -999.0, 23.8725
     32MW085_1,  PRS2,     2,  3,     11,     11,2,19970708,2207, 22.7958,-158.0117, 4710,     99.8,  23.1721,  35.0255,2,  35.0247,2,    209.7,1,   -999.0,9,  -999.00,9,  -999.00,9,  -999.00,9,    100,-999.000,  -999.0, 23.1516
     32MW085_1,  PRS2,     2,  3,     10,     32,2,19970708,2207, 22.7958,-158.0117, 4710,    124.2,  22.0447,  35.0517,2,  35.0695,4,    200.2,1,   -999.0,9,  -999.00,9,  -999.00,9,  -999.00,9,    125,-999.000,  -999.0, 22.0201
     32MW085_1,  PRS2,     2,  3,      9,      3,2,19970708,2207, 22.7958,-158.0117, 4710,    129.8,  21.9286,  35.0543,2,  35.0571,2,    200.5,1,   -999.0,9,  -999.00,9,  -999.00,9,  -999.00,9,    129,-999.000,  -999.0, 21.9030
     32MW085_1,  PRS2,     2,  3,      8,     29,2,19970708,2207, 22.7958,-158.0117, 4710,    150.0,  20.9898,  35.0610,2,  35.0610,2,    194.8,1,   -999.0,9,  -999.00,9,  -999.00,9,  -999.00,9,    150,-999.000,  -999.0, 20.9611
     32MW085_1,  PRS2,     2,  3,      7,     28,2,19970708,2207, 22.7958,-158.0117, 4710,    174.2,  20.2770,  35.0683,2,  35.0707,2,    191.1,1,   -999.0,9,  -999.00,9,  -999.00,9,  -999.00,9,    174,-999.000,  -999.0, 20.2444
     32MW085_1,  PRS2,     2,  3,      6,      7,2,19970708,2207, 22.7958,-158.0117, 4710,    179.3,  20.1504,  35.0705,2,  35.0638,2,    191.3,1,   -999.0,9,  -999.00,9,  -999.00,9,  -999.00,9,    180,-999.000,  -999.0, 20.1170
     32MW085_1,  PRS2,     2,  3,      5,     38,2,19970708,2207, 22.7958,-158.0117, 4710,    249.4,  16.4144,  34.6580,2,  34.6564,2,    186.4,1,   -999.0,9,  -999.00,9,  -999.00,9,  -999.00,9,    250,-999.000,  -999.0, 16.3743
     32MW085_1,  PRS2,     2,  3,      4,     36,2,19970708,2207, 22.7958,-158.0117, 4710,    501.4,   6.9169,  34.0257,2,  34.0248,2,    130.5,1,   -999.0,9,  -999.00,9,  -999.00,9,  -999.00,9,    501,-999.000,  -999.0,  6.8700
     32MW085_1,  PRS2,     2,  3,      3,     35,2,19970708,2207, 22.7958,-158.0117, 4710,    520.1,   6.5849,  34.0218,2,  34.0236,2,    117.2,1,   -999.0,9,  -999.00,9,  -999.00,9,  -999.00,9,    521,-999.000,  -999.0,  6.5374
     32MW085_1,  PRS2,     2,  3,      2,     34,2,19970708,2207, 22.7958,-158.0117, 4710,    750.5,   4.8488,  34.2901,2,  34.2892,2,     27.4,1,   -999.0,9,  -999.00,9,  -999.00,9,  -999.00,9,    750,-999.000,  -999.0,  4.7888
     32MW085_1,  PRS2,     2,  3,      1,     33,2,19970708,2207, 22.7958,-158.0117, 4710,   1020.5,   3.9756,  34.4943,2,  34.4954,2,     41.2,1,   -999.0,9,  -999.00,9,  -999.00,9,  -999.00,9,   1020,-999.000,  -999.0,  3.8984
     32MW085_1,  PRS2,     2,  4,     19,     19,3,19970709,0029, 22.7352,-158.0003, 4720,      4.8,  25.5971,  35.0423,2,  35.0424,2,    206.1,1,   -999.0,9,  -999.00,9,  -999.00,9,  -999.00,9,      5,-999.000,  -999.0, 25.5960
     32MW085_1,  PRS2,     2,  4,     18,     18,2,19970709,0029, 22.7352,-158.0003, 4720,      4.8,  25.5957,  35.0421,2,  35.0400,2,    206.1,1,   -999.0,9,  -999.00,9,  -999.00,9,  -999.00,9,      5,-999.000,  -999.0, 25.5946
     32MW085_1,  PRS2,     2,  4,     17,     17,2,19970709,0029, 22.7352,-158.0003, 4720,     23.9,  25.5424,  35.0368,2,-999.0000,5,    206.7,1,   -999.0,9,  -999.00,9,  -999.00,9,  -999.00,9,     24,-999.000,  -999.0, 25.5371
     32MW085_1,  PRS2,     2,  4,     16,     16,2,19970709,0029, 22.7352,-158.0003, 4720,     24.0,  25.5438,  35.0366,2,  35.0353,2,    206.7,1,   -999.0,9,  -999.00,9,  -999.00,9,  -999.00,9,     25,-999.000,  -999.0, 25.5385
     32MW085_1,  PRS2,     2,  4,     15,     15,2,19970709,0029, 22.7352,-158.0003, 4720,     24.0,  25.5444,  35.0369,2,  35.0388,2,    206.7,1,   -999.0,9,  -999.00,9,  -999.00,9,  -999.00,9,     24,-999.000,  -999.0, 25.5392
     32MW085_1,  PRS2,     2,  4,     14,     14,2,19970709,0029, 22.7352,-158.0003, 4720,     44.8,  25.4555,  35.0499,2,-999.0000,5,    207.4,1,   -999.0,9,  -999.00,9,  -999.00,9,  -999.00,9,     44,-999.000,  -999.0, 25.4457
     32MW085_1,  PRS2,     2,  4,     13,     13,2,19970709,0029, 22.7352,-158.0003, 4720,     44.8,  25.4562,  35.0494,2,  35.0491,2,    207.5,1,   -999.0,9,  -999.00,9,  -999.00,9,  -999.00,9,     45,-999.000,  -999.0, 25.4464
     32MW085_1,  PRS2,     2,  4,     12,     12,2,19970709,0029, 22.7352,-158.0003, 4720,     74.7,  23.7831,  34.9939,2,  34.9957,2,    214.0,1,   -999.0,9,  -999.00,9,  -999.00,9,  -999.00,9,     75,-999.000,  -999.0, 23.7675
     32MW085_1,  PRS2,     2,  4,     11,     11,3,19970709,0029, 22.7352,-158.0003, 4720,     99.8,  23.2084,  35.0245,2,  35.0216,2,    211.1,1,   -999.0,9,  -999.00,9,  -999.00,9,  -999.00,9,    100,-999.000,  -999.0, 23.1879
     32MW085_1,  PRS2,     2,  4,     10,     32,2,19970709,0029, 22.7352,-158.0003, 4720,    124.5,  21.6974,  35.0564,2,  35.0616,2,    198.6,1,   -999.0,9,  -999.00,9,  -999.00,9,  -999.00,9,    125,-999.000,  -999.0, 21.6730
     32MW085_1,  PRS2,     2,  4,      9,      3,2,19970709,0029, 22.7352,-158.0003, 4720,    129.1,  21.4413,  35.0589,2,  35.0583,2,    197.9,1,   -999.0,9,  -999.00,9,  -999.00,9,  -999.00,9,    130,-999.000,  -999.0, 21.4163
     32MW085_1,  PRS2,     2,  4,      8,     29,2,19970709,0029, 22.7352,-158.0003, 4720,    139.5,  20.9297,  35.0623,2,  35.0667,2,    193.0,1,   -999.0,9,  -999.00,9,  -999.00,9,  -999.00,9,    140,-999.000,  -999.0, 20.9031
     32MW085_1,  PRS2,     2,  4,      7,     28,2,19970709,0029, 22.7352,-158.0003, 4720,    148.9,  20.5881,  35.0498,2,  35.0533,2,    194.5,1,   -999.0,9,  -999.00,9,  -999.00,9,  -999.00,9,    151,-999.000,  -999.0, 20.5600
     32MW085_1,  PRS2,     2,  4,      6,      7,2,19970709,0029, 22.7352,-158.0003, 4720,    174.5,  19.6308,  35.0140,2,  35.0158,2,    190.0,1,   -999.0,9,  -999.00,9,  -999.00,9,  -999.00,9,    174,-999.000,  -999.0, 19.5989
     32MW085_1,  PRS2,     2,  4,      5,     38,2,19970709,0029, 22.7352,-158.0003, 4720,    250.1,  15.4893,  34.5610,2,  34.5706,2,    186.1,1,   -999.0,9,  -999.00,9,  -999.00,9,  -999.00,9,    250,-999.000,  -999.0, 15.4507
     32MW085_1,  PRS2,     2,  4,      4,     36,2,19970709,0029, 22.7352,-158.0003, 4720,    500.5,   7.0807,  34.0276,2,  34.0274,2,    137.5,1,   -999.0,9,  -999.00,9,  -999.00,9,  -999.00,9,    501,-999.000,  -999.0,  7.0333
     32MW085_1,  PRS2,     2,  4,      3,     35,2,19970709,0029, 22.7352,-158.0003, 4720,    521.0,   6.5354,  34.0207,2,  34.0205,2,    117.6,1,   -999.0,9,  -999.00,9,  -999.00,9,  -999.00,9,    522,-999.000,  -999.0,  6.4881
     32MW085_1,  PRS2,     2,  4,      2,     34,2,19970709,0029, 22.7352,-158.0003, 4720,    750.3,   4.8517,  34.2941,2,  34.2938,2,     27.3,1,   -999.0,9,  -999.00,9,  -999.00,9,  -999.00,9,    750,-999.000,  -999.0,  4.7916
     32MW085_1,  PRS2,     2,  4,      1,     33,2,19970709,0029, 22.7352,-158.0003, 4720,   1018.4,   4.0362,  34.4880,2,  34.4895,2,     40.6,1,   -999.0,9,  -999.00,9,  -999.00,9,  -999.00,9,   1018,-999.000,  -999.0,  3.9587
     32MW085_1,  PRS2,     2,  5,     17,     17,2,19970709,0300, 22.7525,-157.9930, 4717,      5.0,  25.5665,  35.0542,2,  35.0536,2,    206.8,2,    206.6,2,  -999.00,5,  -999.00,5,  -999.00,5,      5,-999.000,  -999.0, 25.5654
     32MW085_1,  PRS2,     2,  5,     16,     16,2,19970709,0300, 22.7525,-157.9930, 4717,    160.6,  21.2685,  35.0602,2,  35.0592,2,    195.8,2,    196.1,2,  -999.00,5,  -999.00,5,  -999.00,5,    160,-999.000,  -999.0, 21.2374
     32MW085_1,  PRS2,     2,  5,     15,     15,2,19970709,0300, 22.7525,-157.9930, 4717,    209.1,  19.5928,  35.0097,2,  35.0359,3,    188.6,3,    189.8,2,  -999.00,5,  -999.00,5,  -999.00,5,    210,-999.000,  -999.0, 19.5547
     32MW085_1,  PRS2,     2,  5,     14,     14,2,19970709,0300, 22.7525,-157.9930, 4717,    225.6,  18.9333,  34.9610,2,  34.9730,2,    191.8,2,    190.9,2,     3.06,2,     2.61,2,     0.26,2,    226,-999.000,  -999.0, 18.8931
     32MW085_1,  PRS2,     2,  5,     13,     13,2,19970709,0300, 22.7525,-157.9930, 4717,    235.4,  18.0527,  34.8710,2,  34.8879,2,    193.0,2,    191.6,2,     3.62,2,     3.28,2,     0.30,2,    236,-999.000,  -999.0, 18.0122
     32MW085_1,  PRS2,     2,  5,     12,     12,2,19970709,0300, 22.7525,-157.9930, 4717,    251.4,  17.0799,  34.7358,2,  34.7600,3,    184.9,3,    186.8,2,     4.38,2,     4.59,2,     0.40,2,    252,-999.000,  -999.0, 17.0383
     32MW085_1,  PRS2,     2,  5,     11,     11,2,19970709,0300, 22.7525,-157.9930, 4717,    273.1,  15.7220,  34.5816,2,  34.5931,2,    184.3,2,    185.1,2,     5.83,2,     6.40,2,     0.54,2,    272,-999.000,  -999.0, 15.6793
     32MW085_1,  PRS2,     2,  5,     10,     32,2,19970709,0300, 22.7525,-157.9930, 4717,    299.3,  14.2642,  34.4361,2,  34.4345,2,    182.6,2,    183.7,2,     8.43,2,     8.54,2,     0.67,2,    299,-999.000,  -999.0, 14.2205
     32MW085_1,  PRS2,     2,  5,      9,      3,2,19970709,0300, 22.7525,-157.9930, 4717,    325.3,  12.9204,  34.3270,2,  34.3255,2,    185.1,2,    191.5,3,    10.58,2,    10.93,2,     0.83,2,    326,-999.000,  -999.0, 12.8759
     32MW085_1,  PRS2,     2,  5,      8,     29,2,19970709,0300, 22.7525,-157.9930, 4717,    344.4,  11.7693,  34.2371,2,  34.2386,2,    181.3,2,    182.4,2,    13.95,2,    13.32,2,     1.01,2,    344,-999.000,  -999.0, 11.7250
     32MW085_1,  PRS2,     2,  5,      7,     28,2,19970709,0300, 22.7525,-157.9930, 4717,    399.4,   9.5005,  34.1077,2,  34.4063,4,    186.7,3,    182.2,2,    22.33,2,    18.18,2,     1.31,2,    400,-999.000,  -999.0,  9.4557
     32MW085_1,  PRS2,     2,  5,      6,      7,2,19970709,0300, 22.7525,-157.9930, 4717,    503.6,   7.0776,  34.0267,2,  34.0313,2,    136.9,2,    136.1,2,    44.10,2,    27.09,2,     1.93,2,    504,-999.000,  -999.0,  7.0298
     32MW085_1,  PRS2,     2,  5,      5,     38,2,19970709,0300, 22.7525,-157.9930, 4717,    599.8,   5.5525,  34.0818,2,  34.0812,2,     65.1,2,     67.0,2,    72.34,2,    36.04,2,     2.65,2,    599,-999.000,  -999.0,  5.5022
     32MW085_1,  PRS2,     2,  5,      4,     36,2,19970709,0300, 22.7525,-157.9930, 4717,    700.7,   4.9840,  34.2484,2,  34.2465,2,     29.4,2,     27.6,2,    89.42,2,    40.33,2,     3.00,2,    700,-999.000,  -999.0,  4.9275
     32MW085_1,  PRS2,     2,  5,      3,     35,2,19970709,0300, 22.7525,-157.9930, 4717,    797.8,   4.6965,  34.3637,2,  34.3615,2,     27.2,2,     27.3,2,    96.84,2,    41.23,2,     3.06,2,    798,-999.000,  -999.0,  4.6332
     32MW085_1,  PRS2,     2,  5,      2,     34,2,19970709,0300, 22.7525,-157.9930, 4717,    897.2,   4.3689,  34.4370,2,  34.4354,2,     32.2,2,     31.4,2,   103.58,2,    41.61,2,     3.08,2,    898,-999.000,  -999.0,  4.2993
     32MW085_1,  PRS2,     2,  5,      1,     33,3,19970709,0300, 22.7525,-157.9930, 4717,   1020.3,   4.0707,  34.4852,2,  34.4864,2,     39.5,2,     38.7,2,   109.56,2,    41.57,2,     3.05,2,   1020,-999.000,  -999.0,  3.9928
     32MW085_1,  PRS2,     2,  6,     23,     30,2,19970709,0557, 22.7492,-158.0043, 4724,      5.1,  25.5263,  35.0384,2,  35.0361,2,    206.7,2,   -999.0,5,  -999.00,5,  -999.00,5,  -999.00,5,      5,-999.000,  -999.0, 25.5251
     32MW085_1,  PRS2,     2,  6,     22,     22,2,19970709,0557, 22.7492,-158.0043, 4724,      5.1,  25.5263,  35.0383,2,  35.0396,2,    206.7,2,    206.6,2,     1.56,2,     0.00,2,     0.04,2,      6,-999.000,  -999.0, 25.5252
     32MW085_1,  PRS2,     2,  6,     21,     21,2,19970709,0557, 22.7492,-158.0043, 4724,     14.8,  25.5228,  35.0391,2,  35.0371,2,    206.7,2,    206.4,2,     1.47,2,     0.00,2,     0.04,2,     15,-999.000,  -999.0, 25.5196
     32MW085_1,  PRS2,     2,  6,     20,     20,2,19970709,0557, 22.7492,-158.0043, 4724,     24.1,  25.5280,  35.0372,2,  35.0359,2,    206.7,2,    206.2,2,  -999.00,5,  -999.00,5,  -999.00,5,     24,-999.000,  -999.0, 25.5227
     32MW085_1,  PRS2,     2,  6,     19,     19,2,19970709,0557, 22.7492,-158.0043, 4724,     24.4,  25.5270,  35.0373,2,  35.0353,2,    206.7,2,    206.5,2,     1.70,2,     0.00,2,     0.04,2,     26,-999.000,  -999.0, 25.5217
     32MW085_1,  PRS2,     2,  6,     18,     18,2,19970709,0557, 22.7492,-158.0043, 4724,     35.8,  25.5245,  35.0374,2,  35.0402,2,    206.7,2,    206.6,2,     1.60,2,     0.00,2,     0.05,2,     37,-999.000,  -999.0, 25.5167
     32MW085_1,  PRS2,     2,  6,     17,     17,2,19970709,0557, 22.7492,-158.0043, 4724,     45.3,  25.5152,  35.0386,2,  35.0416,2,    206.7,2,    206.4,2,     1.48,2,     0.00,2,     0.04,2,     45,-999.000,  -999.0, 25.5052
     32MW085_1,  PRS2,     2,  6,     16,     16,2,19970709,0557, 22.7492,-158.0043, 4724,     59.4,  25.4252,  35.0517,2,  35.0770,4,    207.4,3,    207.7,2,     1.43,2,     0.01,2,     0.04,2,     60,-999.000,  -999.0, 25.4122
     32MW085_1,  PRS2,     2,  6,     15,     15,2,19970709,0557, 22.7492,-158.0043, 4724,     75.3,  24.1586,  34.9849,2,  34.9853,2,    216.6,2,    217.9,2,     1.55,2,     0.01,2,     0.04,2,     75,-999.000,  -999.0, 24.1426
     32MW085_1,  PRS2,     2,  6,     14,     14,2,19970709,0557, 22.7492,-158.0043, 4724,     84.0,  23.8270,  34.9951,2,  34.9927,2,    215.4,2,    215.7,2,     1.53,2,     0.01,2,     0.04,2,     85,-999.000,  -999.0, 23.8094
     32MW085_1,  PRS2,     2,  6,     13,     13,2,19970709,0557, 22.7492,-158.0043, 4724,     94.3,  23.6151,  35.0017,2,  34.9987,2,    214.1,2,    214.3,2,     1.60,2,     0.01,2,     0.05,2,     95,-999.000,  -999.0, 23.5955
     32MW085_1,  PRS2,     2,  6,     12,     12,2,19970709,0557, 22.7492,-158.0043, 4724,    104.3,  23.3515,  35.0169,2,  35.0153,2,    212.1,2,    211.8,2,     1.61,2,     0.02,2,     0.05,2,    104,-999.000,  -999.0, 23.3300
     32MW085_1,  PRS2,     2,  6,     11,     11,2,19970709,0557, 22.7492,-158.0043, 4724,    115.0,  22.9751,  35.0377,2,  35.0373,2,    208.8,2,    208.0,2,     1.66,2,     0.03,2,     0.07,2,    116,-999.000,  -999.0, 22.9516
     32MW085_1,  PRS2,     2,  6,     10,     32,2,19970709,0557, 22.7492,-158.0043, 4724,    124.3,  22.2805,  35.0476,2,  35.0508,2,    200.9,2,    202.1,2,     1.81,2,     0.21,2,     0.11,2,    124,-999.000,  -999.0, 22.2557
     32MW085_1,  PRS2,     2,  6,      9,      3,2,19970709,0557, 22.7492,-158.0043, 4724,    134.5,  21.9385,  35.0507,2,  35.0550,2,    198.4,2,    201.0,2,     1.86,2,     0.34,2,     0.11,2,    135,-999.000,  -999.0, 21.9119
     32MW085_1,  PRS2,     2,  6,      8,     29,2,19970709,0557, 22.7492,-158.0043, 4724,    150.1,  21.5776,  35.0562,2,  35.0569,2,    199.5,2,    220.7,4,     1.94,2,     0.55,2,     0.13,2,    151,-999.000,  -999.0, 21.5483
     32MW085_1,  PRS2,     2,  6,      7,     28,2,19970709,0557, 22.7492,-158.0043, 4724,    158.8,  21.1548,  35.0599,2,  35.0708,2,    197.9,2,    195.5,2,  -999.00,5,  -999.00,5,  -999.00,5,    160,-999.000,  -999.0, 21.1242
     32MW085_1,  PRS2,     2,  6,      6,      7,2,19970709,0557, 22.7492,-158.0043, 4724,    174.2,  20.4881,  35.0480,2,  35.0509,2,    195.4,2,    193.1,2,     2.31,2,     1.37,2,     0.18,2,    174,-999.000,  -999.0, 20.4553
     32MW085_1,  PRS2,     2,  6,      5,     38,2,19970709,0557, 22.7492,-158.0043, 4724,    183.8,  20.1291,  35.0480,2,  35.0445,2,    192.1,2,    191.5,2,  -999.00,5,  -999.00,5,  -999.00,5,    184,-999.000,  -999.0, 20.0950
     32MW085_1,  PRS2,     2,  6,      4,     36,2,19970709,0557, 22.7492,-158.0043, 4724,    200.3,  19.2765,  34.9924,2,  34.9867,2,    191.2,2,    190.5,2,     2.89,2,     2.37,2,     0.24,2,    201,-999.000,  -999.0, 19.2404
     32MW085_1,  PRS2,     2,  6,      3,     35,2,19970709,0557, 22.7492,-158.0043, 4724,    541.2,   6.7971,  34.0230,2,  34.0278,2,    126.3,2,    126.4,2,  -999.00,5,  -999.00,5,  -999.00,5,    543,-999.000,  -999.0,  6.7468
     32MW085_1,  PRS2,     2,  6,      2,     34,2,19970709,0557, 22.7492,-158.0043, 4724,    753.5,   4.7589,  34.3399,2,  34.3437,2,     27.1,2,     25.6,2,  -999.00,5,  -999.00,5,  -999.00,5,    753,-999.000,  -999.0,  4.6991
     32MW085_1,  PRS2,     2,  6,      1,     33,2,19970709,0557, 22.7492,-158.0043, 4724,   1018.7,   3.9759,  34.4943,2,  34.5061,4,     41.2,3,     41.7,2,  -999.00,5,  -999.00,5,  -999.00,5,   1019,-999.000,  -999.0,  3.8989