BOTTLE,20020809WHPSIObren
#code : jjward hyd_to_exchange.pl 
#original files copied from HTML directory: 20020809
#original HYD file: /whpo/11/HOTS/BOTTLE/hot85/hot85.sea   Fri Aug  9 09:51:38 2002
#original SUM file: /whpo/11/HOTS/BOTTLE/hot85/hot85.sum   Fri Aug  9 13:30:41 2002
EXPOCODE,SECT_ID,STNNBR,CASTNO,SAMPNO,BTLNBR,BTLNBR_FLAG_W,DATE,TIME,LATITUDE,LONGITUDE,DEPTH,CTDPRS,CTDTMP,CTDSAL,CTDSAL_FLAG_W,SALNTY,SALNTY_FLAG_W,CTDOXY,CTDOXY_FLAG_W,OXYGEN,OXYGEN_FLAG_W,SILCAT,SILCAT_FLAG_W,NO2+NO3,NO2+NO3_FLAG_W,PHSPHT,PHSPHT_FLAG_W,CTDRAW,REVTMP,REVPRS,THETA
,,,,,,,,,,,,DBAR,ITS-90,PSS-78,,PSS-78,,UMOL/KG,,UMOL/KG,,UMOL/KG,,UMOL/KG,,UMOL/KG,,,DEG C,DBAR,ITS-90
     32MW085_1,  PRS2,     1,  1,     24,     31,2,19970707,2222, 21.3425,-158.2703, 1475,      4.0,  26.6012,  34.7353,2,  34.7390,2,    204.0,2,    204.3,2,  -999.00,5,  -999.00,5,  -999.00,5,      4,-999.000,  -999.0, 26.6002
     32MW085_1,  PRS2,     1,  1,     23,     30,2,19970707,2222, 21.3425,-158.2703, 1475,      4.0,  26.6199,  34.7394,2,  34.7936,4,    203.9,3,    204.5,2,     1.80,2,     0.00,2,     0.07,2,      5,-999.000,  -999.0, 26.6190
     32MW085_1,  PRS2,     1,  1,     22,     22,2,19970707,2222, 21.3425,-158.2703, 1475,     24.7,  26.1532,  34.7317,2,  34.7304,2,    204.4,2,   -999.0,5,  -999.00,5,  -999.00,5,  -999.00,5,     25,-999.000,  -999.0, 26.1477
     32MW085_1,  PRS2,     1,  1,     21,     21,2,19970707,2222, 21.3425,-158.2703, 1475,     24.7,  26.1530,  34.7317,2,  34.7482,4,    204.4,3,    204.6,2,     2.37,2,     0.00,2,     0.07,2,     25,-999.000,  -999.0, 26.1475
     32MW085_1,  PRS2,     1,  1,     20,     20,2,19970707,2222, 21.3425,-158.2703, 1475,     45.7,  25.8766,  34.7570,2,  34.7564,2,    206.2,2,    207.2,2,     1.82,2,     0.01,2,     0.06,2,     46,-999.000,  -999.0, 25.8664
     32MW085_1,  PRS2,     1,  1,     19,     19,2,19970707,2222, 21.3425,-158.2703, 1475,     59.8,  25.0803,  34.8424,2,  34.8301,2,    211.3,2,    210.3,2,     1.93,2,     0.01,2,     0.05,2,     60,-999.000,  -999.0, 25.0673
     32MW085_1,  PRS2,     1,  1,     18,     18,2,19970707,2222, 21.3425,-158.2703, 1475,     74.5,  23.9918,  34.9350,2,  34.9341,2,    210.7,2,    211.4,2,     1.55,2,     0.00,2,     0.04,2,     75,-999.000,  -999.0, 23.9761
     32MW085_1,  PRS2,     1,  1,     17,     17,2,19970707,2222, 21.3425,-158.2703, 1475,     95.1,  22.7815,  35.0062,2,  35.0090,2,    209.6,2,    208.1,2,     2.29,2,     0.00,2,     0.05,2,     95,-999.000,  -999.0, 22.7623
     32MW085_1,  PRS2,     1,  1,     16,     16,2,19970707,2222, 21.3425,-158.2703, 1475,    104.5,  22.2070,  35.0351,2,  35.0340,2,    207.4,2,    206.6,2,     2.34,2,     0.04,2,     0.05,2,    105,-999.000,  -999.0, 22.1863
     32MW085_1,  PRS2,     1,  1,     15,     15,2,19970707,2222, 21.3425,-158.2703, 1475,    114.9,  21.4920,  35.0369,2,  35.0370,2,    201.9,2,    201.7,2,     2.29,2,     0.34,2,     0.08,2,    115,-999.000,  -999.0, 21.4696
     32MW085_1,  PRS2,     1,  1,     14,     14,2,19970707,2222, 21.3425,-158.2703, 1475,    125.6,  20.6347,  35.0120,2,  35.0104,2,    193.6,2,    195.5,2,     2.45,2,     1.17,2,     0.15,2,    126,-999.000,  -999.0, 20.6110
     32MW085_1,  PRS2,     1,  1,     13,     13,2,19970707,2222, 21.3425,-158.2703, 1475,    150.6,  20.0629,  34.9994,2,  34.9972,2,    195.8,2,   -999.0,5,  -999.00,5,  -999.00,5,  -999.00,5,    151,-999.000,  -999.0, 20.0350
     32MW085_1,  PRS2,     1,  1,     12,     12,2,19970707,2222, 21.3425,-158.2703, 1475,    150.6,  20.0583,  34.9992,2,  34.9975,2,    195.3,2,   -999.0,5,  -999.00,5,  -999.00,5,  -999.00,5,    151,-999.000,  -999.0, 20.0305
     32MW085_1,  PRS2,     1,  1,     11,     11,2,19970707,2222, 21.3425,-158.2703, 1475,    150.6,  20.0145,  34.9944,2,  34.9964,2,    194.8,2,    192.3,2,     4.22,3,     1.82,2,     0.18,2,    150,-999.000,  -999.0, 19.9867
     32MW085_1,  PRS2,     1,  1,     10,     32,2,19970707,2222, 21.3425,-158.2703, 1475,    175.4,  18.2997,  34.8687,2,  34.8688,2,    185.7,2,    185.4,2,     3.88,2,     3.80,2,     0.30,2,    176,-999.000,  -999.0, 18.2693
     32MW085_1,  PRS2,     1,  1,      9,      3,2,19970707,2222, 21.3425,-158.2703, 1475,    200.8,  17.2553,  34.7703,2,  34.7681,2,    184.5,2,    192.4,3,     4.91,2,     4.89,2,     0.38,2,    201,-999.000,  -999.0, 17.2219
     32MW085_1,  PRS2,     1,  1,      8,     29,2,19970707,2222, 21.3425,-158.2703, 1475,    224.7,  16.2548,  34.6477,2,  34.6445,2,    182.3,2,    183.7,2,     6.23,2,     6.31,2,     0.49,2,    225,-999.000,  -999.0, 16.2189
     32MW085_1,  PRS2,     1,  1,      7,     28,2,19970707,2222, 21.3425,-158.2703, 1475,    251.3,  13.6002,  34.3931,2,  34.3976,2,    182.0,2,    183.0,2,     9.95,2,    10.09,2,     0.74,2,    251,-999.000,  -999.0, 13.5647
     32MW085_1,  PRS2,     1,  1,      6,      7,2,19970707,2222, 21.3425,-158.2703, 1475,    299.4,  11.0029,  34.1904,2,  34.1959,2,    181.0,2,    180.6,2,    16.37,2,    14.94,2,     1.07,2,    300,-999.000,  -999.0, 10.9661
     32MW085_1,  PRS2,     1,  1,      5,     38,2,19970707,2222, 21.3425,-158.2703, 1475,    375.7,   8.5648,  34.1076,2,  34.1090,2,    142.0,2,    143.7,2,    32.56,2,    23.19,2,     1.70,2,    376,-999.000,  -999.0,  8.5252
     32MW085_1,  PRS2,     1,  1,      4,     36,2,19970707,2222, 21.3425,-158.2703, 1475,    496.9,   6.9914,  34.1393,2,  34.1405,2,     94.0,2,     90.8,2,    54.05,2,    30.80,2,     2.30,2,    497,-999.000,  -999.0,  6.9445
     32MW085_1,  PRS2,     1,  1,      3,     35,2,19970707,2222, 21.3425,-158.2703, 1475,    597.8,   5.7402,  34.2216,2,  34.2225,2,     44.9,2,     44.0,2,    74.93,2,    37.32,2,     2.80,2,    597,-999.000,  -999.0,  5.6890
     32MW085_1,  PRS2,     1,  1,      2,     34,2,19970707,2222, 21.3425,-158.2703, 1475,    731.7,   4.9582,  34.3734,2,  34.3737,2,     31.3,2,     31.0,2,    91.82,2,    40.29,2,     3.00,2,    731,-999.000,  -999.0,  4.8990
     32MW085_1,  PRS2,     1,  1,      1,     33,2,19970707,2222, 21.3425,-158.2703, 1475,   1022.3,   4.0948,  34.4937,2,  34.4964,2,     41.5,2,     43.7,2,   108.24,2,    41.19,2,     3.03,2,   1022,-999.000,  -999.0,  4.0166
     32MW085_1,  PRS2,     2,  1,     24,     31,4,19970708,1350, 22.7483,-158.0037, 4730,      5.0,  25.4913,  35.0486,2,-999.0000,5,    206.8,2,   -999.0,5,  -999.00,5,  -999.00,5,  -999.00,5,      5,-999.000,  -999.0, 25.4902
     32MW085_1,  PRS2,     2,  1,     23,     30,2,19970708,1350, 22.7483,-158.0037, 4730,    162.2,  21.2629,  35.0589,2,  35.0663,2,    197.2,2,    198.3,2,     1.88,2,     0.56,2,     0.12,2,    163,-999.000,  -999.0, 21.2316
     32MW085_1,  PRS2,     2,  1,     22,     22,2,19970708,1350, 22.7483,-158.0037, 4730,    530.9,   6.3862,  34.0251,2,  34.0240,2,    113.9,2,    112.0,2,    67.44,4,    30.21,2,     2.16,2,    531,-999.000,  -999.0,  6.3385
     32MW085_1,  PRS2,     2,  1,     21,     21,2,19970708,1350, 22.7483,-158.0037, 4730,    999.9,   4.0748,  34.4818,2,  34.4823,2,     39.4,2,     39.1,2,   122.32,4,    41.23,2,     3.00,2,    999,-999.000,  -999.0,  3.9986
     32MW085_1,  PRS2,     2,  1,     20,     20,2,19970708,1350, 22.7483,-158.0037, 4730,   1399.5,   3.0778,  34.5602,2,  34.5609,2,     59.2,2,     59.3,2,   127.83,2,    40.99,2,     2.97,2,   1398,-999.000,  -999.0,  2.9774
     32MW085_1,  PRS2,     2,  1,     19,     19,2,19970708,1350, 22.7483,-158.0037, 4730,   1600.7,   2.7140,  34.5839,2,  34.5849,2,     68.2,2,     67.7,2,   138.24,2,    40.72,2,     2.87,2,   1601,-999.000,  -999.0,  2.6011
     32MW085_1,  PRS2,     2,  1,     18,     18,2,19970708,1350, 22.7483,-158.0037, 4730,   1805.4,   2.4035,  34.6036,2,  34.6032,2,     77.8,2,     77.1,2,   145.29,2,    40.27,2,     2.87,2,   1806,-999.000,  -999.0,  2.2776
     32MW085_1,  PRS2,     2,  1,     17,     17,2,19970708,1350, 22.7483,-158.0037, 4730,   2001.6,   2.1477,  34.6206,2,  34.6245,3,     87.3,3,     86.9,2,   150.56,2,    39.73,2,     2.82,2,   2002,-999.000,  -999.0,  2.0089
     32MW085_1,  PRS2,     2,  1,     16,     16,2,19970708,1350, 22.7483,-158.0037, 4730,   2200.9,   1.9533,  34.6340,2,  34.6352,2,     94.9,2,     95.1,2,   152.32,3,    39.38,2,     2.78,2,   2200,-999.000,  -999.0,  1.8005
     32MW085_1,  PRS2,     2,  1,     15,     15,2,19970708,1350, 22.7483,-158.0037, 4730,   2398.4,   1.8172,  34.6441,2,  34.6425,2,    100.7,2,    101.8,2,   158.40,2,    39.00,2,     2.75,2,   2397,-999.000,  -999.0,  1.6495
     32MW085_1,  PRS2,     2,  1,     14,     14,2,19970708,1350, 22.7483,-158.0037, 4730,   2599.7,   1.7054,  34.6534,2,  34.6516,2,    107.2,2,    107.1,2,   160.94,2,    38.62,2,     2.74,3,   2599,-999.000,  -999.0,  1.5216
     32MW085_1,  PRS2,     2,  1,     13,     13,2,19970708,1350, 22.7483,-158.0037, 4730,   2799.8,   1.6357,  34.6611,2,  34.6609,2,    113.6,2,    115.9,2,   160.71,2,    38.22,2,     2.69,2,   2801,-999.000,  -999.0,  1.4349
     32MW085_1,  PRS2,     2,  1,     12,     12,2,19970708,1350, 22.7483,-158.0037, 4730,   2999.4,   1.5724,  34.6683,2,  34.6681,2,    120.9,2,    121.2,2,   160.74,2,    37.75,2,     2.66,2,   2999,-999.000,  -999.0,  1.3541
     32MW085_1,  PRS2,     2,  1,     11,     11,2,19970708,1350, 22.7483,-158.0037, 4730,   3199.6,   1.5273,  34.6739,2,  34.6737,2,    126.7,2,    127.9,2,   159.48,2,    37.40,2,     2.61,2,   3200,-999.000,  -999.0,  1.2907
     32MW085_1,  PRS2,     2,  1,     10,     32,2,19970708,1350, 22.7483,-158.0037, 4730,   3399.5,   1.5001,  34.6785,2,  34.6781,2,    133.0,2,   -999.0,5,   157.50,2,    36.89,2,     2.58,2,   3400,-999.000,  -999.0,  1.2442
     32MW085_1,  PRS2,     2,  1,      9,      3,2,19970708,1350, 22.7483,-158.0037, 4730,   3598.8,   1.4774,  34.6816,2,  34.6837,2,    137.9,2,    138.2,2,   155.54,2,    36.62,2,     2.56,2,   3599,-999.000,  -999.0,  1.2017
     32MW085_1,  PRS2,     2,  1,      8,     29,2,19970708,1350, 22.7483,-158.0037, 4730,   3800.3,   1.4643,  34.6851,2,  34.6846,2,    143.0,2,    142.7,2,   154.22,2,    36.43,2,     2.53,2,   3799,-999.000,  -999.0,  1.1678
     32MW085_1,  PRS2,     2,  1,      7,     28,2,19970708,1350, 22.7483,-158.0037, 4730,   4001.3,   1.4637,  34.6871,2,  34.6860,2,    146.3,2,    145.7,2,   153.14,2,    36.15,2,     2.51,2,   4001,-999.000,  -999.0,  1.1456
     32MW085_1,  PRS2,     2,  1,      6,      7,2,19970708,1350, 22.7483,-158.0037, 4730,   4198.3,   1.4696,  34.6886,2,  34.6914,2,    148.7,2,    148.8,2,   151.52,2,    35.93,2,     2.49,2,   4198,-999.000,  -999.0,  1.1297
     32MW085_1,  PRS2,     2,  1,      5,     38,2,19970708,1350, 22.7483,-158.0037, 4730,   4302.4,   1.4742,  34.6892,2,  34.6877,2,    150.1,2,   -999.0,5,   150.78,2,    35.90,2,     2.49,2,   4301,-999.000,  -999.0,  1.1226
     32MW085_1,  PRS2,     2,  1,      4,     36,2,19970708,1350, 22.7483,-158.0037, 4730,   4399.3,   1.4807,  34.6898,2,  34.6915,2,    151.0,2,    150.5,2,   150.48,2,    35.77,2,     2.47,2,   4398,-999.000,  -999.0,  1.1178
     32MW085_1,  PRS2,     2,  1,      3,     35,2,19970708,1350, 22.7483,-158.0037, 4730,   4498.4,   1.4847,  34.6906,2,  34.6931,2,    152.6,2,    151.6,2,   149.66,2,    35.67,2,     2.47,2,   4497,-999.000,  -999.0,  1.1104
     32MW085_1,  PRS2,     2,  1,      2,     34,2,19970708,1350, 22.7483,-158.0037, 4730,   4602.9,   1.4914,  34.6910,2,  34.6189,4,    152.5,3,   -999.0,5,   148.49,2,    39.82,4,     2.79,4,   4603,-999.000,  -999.0,  1.1048
     32MW085_1,  PRS2,     2,  1,      1,     33,2,19970708,1350, 22.7483,-158.0037, 4730,   4801.2,   1.5020,  34.6923,2,  34.6928,2,    155.8,2,   -999.0,5,   147.52,2,    35.73,3,     2.45,2,   4800,-999.000,  -999.0,  1.0916
     32MW085_1,  PRS2,     2,  2,     24,     31,2,19970708,1909, 22.7747,-158.0167, 4715,      4.6,  25.5106,  35.0431,2,  35.0426,2,    206.2,2,    206.2,2,    14.93,4,     0.00,2,     0.05,2,      5,-999.000,  -999.0, 25.5096
     32MW085_1,  PRS2,     2,  2,     23,     30,2,19970708,1909, 22.7747,-158.0167, 4715,     54.5,  25.3817,  35.0672,2,  35.0674,2,    207.1,2,    207.2,2,     1.80,2,     0.00,2,     0.03,2,     56,-999.000,  -999.0, 25.3698
     32MW085_1,  PRS2,     2,  2,     22,     22,2,19970708,1909, 22.7747,-158.0167, 4715,     74.7,  24.9735,  35.0350,2,  35.0077,3,    211.1,3,    214.1,2,     5.63,4,     0.01,2,     0.04,2,     75,-999.000,  -999.0, 24.9573
     32MW085_1,  PRS2,     2,  2,     21,     21,2,19970708,1909, 22.7747,-158.0167, 4715,     90.2,  23.8224,  34.9863,2,  34.9897,2,    214.9,2,    215.0,2,     1.74,2,     0.01,2,     0.03,2,     91,-999.000,  -999.0, 23.8035
     32MW085_1,  PRS2,     2,  2,     20,     20,2,19970708,1909, 22.7747,-158.0167, 4715,    119.4,  22.7993,  35.0390,2,  35.0394,2,    204.4,2,    206.0,2,     1.75,2,     0.02,2,     0.06,2,    119,-999.000,  -999.0, 22.7751
     32MW085_1,  PRS2,     2,  2,     19,     19,2,19970708,1909, 22.7747,-158.0167, 4715,    185.0,  20.1656,  35.0640,2,  35.0651,2,    192.1,2,    192.0,2,     2.76,2,     1.54,2,     0.17,2,    184,-999.000,  -999.0, 20.1312
     32MW085_1,  PRS2,     2,  2,     18,     18,2,19970708,1909, 22.7747,-158.0167, 4715,    205.3,  19.1294,  34.9862,2,  34.9845,2,    197.3,2,    195.3,2,     3.05,2,     2.12,2,     0.19,2,    206,-999.000,  -999.0, 19.0926
     32MW085_1,  PRS2,     2,  2,     17,     17,2,19970708,1909, 22.7747,-158.0167, 4715,    260.5,  16.4986,  34.6620,2,  34.6439,2,    182.9,2,    184.1,2,     5.30,2,     5.52,2,     0.45,2,    261,-999.000,  -999.0, 16.4565
     32MW085_1,  PRS2,     2,  2,     16,     16,2,19970708,1909, 22.7747,-158.0167, 4715,    341.3,  12.5225,  34.2963,2,  34.2940,2,    185.4,2,    184.9,2,    11.45,2,    11.60,2,     0.84,2,    342,-999.000,  -999.0, 12.4768
     32MW085_1,  PRS2,     2,  2,     15,     15,2,19970708,1909, 22.7747,-158.0167, 4715,    375.5,  11.2238,  34.2017,2,  34.2011,2,    176.0,2,    173.4,2,    16.00,2,    15.32,2,     1.12,2,    376,-999.000,  -999.0, 11.1770
     32MW085_1,  PRS2,     2,  2,     14,     14,2,19970708,1909, 22.7747,-158.0167, 4715,    382.7,  10.8220,  34.1785,2,  34.1888,2,    174.2,2,    177.0,2,    16.95,2,    15.74,2,     1.14,2,    384,-999.000,  -999.0, 10.7753
     32MW085_1,  PRS2,     2,  2,     13,     13,2,19970708,1909, 22.7747,-158.0167, 4715,    410.5,   9.7767,  34.1158,2,  34.1150,2,    187.6,2,    187.9,2,    20.43,2,    17.20,2,     1.19,2,    410,-999.000,  -999.0,  9.7297
     32MW085_1,  PRS2,     2,  2,     12,     12,2,19970708,1909, 22.7747,-158.0167, 4715,    442.8,   8.8008,  34.0852,2,  34.0861,2,    170.5,2,    171.4,2,    27.52,2,    20.90,2,     1.48,2,    443,-999.000,  -999.0,  8.7533
     32MW085_1,  PRS2,     2,  2,     11,     11,2,19970708,1909, 22.7747,-158.0167, 4715,    500.2,   7.3436,  34.0365,2,  34.0357,2,    144.0,2,    141.7,2,    42.02,2,    26.52,2,     1.85,2,    500,-999.000,  -999.0,  7.2951
     32MW085_1,  PRS2,     2,  2,     10,     32,2,19970708,1909, 22.7747,-158.0167, 4715,    524.3,   6.7158,  34.0213,2,  34.0208,2,    122.9,2,    122.6,2,    50.05,2,    29.56,2,     2.11,2,    524,-999.000,  -999.0,  6.6674
     32MW085_1,  PRS2,     2,  2,      9,      3,2,19970708,1909, 22.7747,-158.0167, 4715,    536.5,   6.4556,  34.0230,2,  34.0232,2,    116.3,2,    114.1,2,    53.82,2,    30.80,2,     2.20,2,    537,-999.000,  -999.0,  6.4071
     32MW085_1,  PRS2,     2,  2,      8,     29,2,19970708,1909, 22.7747,-158.0167, 4715,    586.3,   5.7255,  34.0552,2,  34.0546,2,     80.5,2,     79.8,2,    67.91,2,    35.02,2,     2.53,2,    587,-999.000,  -999.0,  5.6756
     32MW085_1,  PRS2,     2,  2,      7,     28,2,19970708,1909, 22.7747,-158.0167, 4715,    637.6,   5.3620,  34.1360,2,  34.1344,2,     48.9,2,     24.8,4,    78.51,2,    38.27,2,     2.80,2,    638,-999.000,  -999.0,  5.3091
     32MW085_1,  PRS2,     2,  2,      6,      7,2,19970708,1909, 22.7747,-158.0167, 4715,    696.7,   5.0015,  34.2146,2,  34.2139,2,     31.8,2,     32.6,2,    88.39,2,    40.16,2,     2.96,2,    697,-999.000,  -999.0,  4.9453
     32MW085_1,  PRS2,     2,  2,      5,     38,2,19970708,1909, 22.7747,-158.0167, 4715,    769.4,   4.8106,  34.3161,2,  34.3151,2,     26.8,2,     26.4,2,    94.33,2,    41.09,2,     3.05,2,    770,-999.000,  -999.0,  4.7491
     32MW085_1,  PRS2,     2,  2,      4,     36,2,19970708,1909, 22.7747,-158.0167, 4715,    795.6,   4.7427,  34.3465,2,  34.3462,2,     27.1,2,     26.5,2,    96.01,2,    41.32,2,     3.05,2,    796,-999.000,  -999.0,  4.6794
     32MW085_1,  PRS2,     2,  2,      3,     35,2,19970708,1909, 22.7747,-158.0167, 4715,    873.6,   4.5263,  34.4064,2,  34.4048,2,     29.2,2,     29.0,2,   100.70,2,    41.64,2,     3.10,2,    873,-999.000,  -999.0,  4.4576
     32MW085_1,  PRS2,     2,  2,      2,     34,2,19970708,1909, 22.7747,-158.0167, 4715,    951.2,   4.2519,  34.4620,2,  34.4609,2,     35.9,2,     35.2,2,   106.07,2,    41.76,2,     3.06,2,    951,-999.000,  -999.0,  4.1785
     32MW085_1,  PRS2,     2,  2,      1,     33,2,19970708,1909, 22.7747,-158.0167, 4715,   1022.0,   3.9992,  34.4921,2,  34.4909,2,     40.9,2,     41.1,2,   110.96,2,    41.76,2,     3.05,2,   1022,-999.000,  -999.0,  3.9218