BOTTLE,20081215PRINUNIVRMKPRINUNIVRMK
EXPOCODE,SECT_ID,STNNBR,CASTNO,BTLNBR,BTLNBR_FLAG_W,DATE,LATITUDE,LONGITUDE,DEPTH,CTDPRS,CTDTMP,CTDSAL,CTDSAL_FLAG_W,SALNTY,SALNTY_FLAG_W,OXYGEN,OXYGEN_FLAG_W,SILCAT,SILCAT_FLAG_W,NITRAT,NITRAT_FLAG_W,NITRIT,NITRIT_FLAG_W,PHSPHT,PHSPHT_FLAG_W,TCARBN,TCARBN_FLAG_W,ALKALI,ALKALI_FLAG_W,THETA
,,,,,,,,,METERS,DBARS,ITS-90,PSS-78,,PSS-78,,UMOL/KG,,UMOL/KG,,UMOL/KG,,UMOL/KG,,UMOL/KG,,UMOL/KG,,UMOL/KG,,DEGC
  58AA19940203,   GNS,   441,  1,      1,2,19940221, 77.5667,   1.1667, 3207,      8.0,   0.6490,  34.9110,2,  34.9310,2,    340.3,3,  -999.00,9,    11.00,2,     0.10,2,     0.90,2,   2147.1,2,   2242.4,3, 0.648670292
  58AA19940203,   GNS,   441,  1,      2,2,19940221, 77.5667,   1.1667, 3207,     52.0,   0.6680,  34.9110,2,  34.9310,2,    342.0,3,  -999.00,9,    11.10,2,     0.10,2,     0.80,2,   2147.3,2,   2253.2,3, 0.665828053
  58AA19940203,   GNS,   441,  1,      3,2,19940221, 77.5667,   1.1667, 3207,    103.0,   0.6700,  34.9100,2,  34.9310,2,    339.8,3,  -999.00,9,    11.20,2,     0.10,2,     0.80,2,   2146.5,2,   2306.5,3,  0.66564934
  58AA19940203,   GNS,   441,  1,      4,2,19940221, 77.5667,   1.1667, 3207,    501.0,   0.6800,  34.9100,2,  34.9300,2,    339.0,3,  -999.00,9,    11.30,2,     0.10,2,     0.80,2,   2144.5,2,   -999.0,9, 0.657030369
  58AA19940203,   GNS,   441,  1,      5,2,19940221, 77.5667,   1.1667, 3207,   2969.0,  -0.9900,  34.8800,2,  34.9030,2,    315.9,3,  -999.00,9,    13.30,2,     0.10,2,     1.00,2,   2154.9,2,   2301.7,3, -1.14960368