BOTTLE,20100322CCHDOSIODM
EXPOCODE,SECT_ID,STNNBR,CASTNO,SAMPNO,BTLNBR,BTLNBR_FLAG_W,DATE,TIME,LATITUDE,LONGITUDE,DEPTH,CTDPRS,CTDTMP,CTDSAL,CTDSAL_FLAG_W,SALNTY,SALNTY_FLAG_W,CTDOXY,CTDOXY_FLAG_W,OXYGEN,OXYGEN_FLAG_W,SILCAT,SILCAT_FLAG_W,NITRAT,NITRAT_FLAG_W,NITRIT,NITRIT_FLAG_W,PHSPHT,PHSPHT_FLAG_W,CFC-11,CFC-11_FLAG_W,CFC-12,CFC-12_FLAG_W,CCL4,CCL4_FLAG_W,TCARBN,TCARBN_FLAG_W,ALKALI,ALKALI_FLAG_W,PH_SWS,PH_SWS_FLAG_W,PH_TMP,THETA
,,,,,,,,,,,METERS,DBAR,ITS-90,PSS-78,,PSS-78,,UMOL/KG,,UMOL/KG,,UMOL/KG,,UMOL/KG,,UMOL/KG,,UMOL/KG,,PMOL/KG,,PMOL/KG,,PMOL/KG,,UMOL/KG,,UMOL/KG,,,,DEG C,DEG C
06AQ19960712,ARKXII,77,1,23,167685,2,19960818,0437,82.5150,141.7200,1487,     9.7, -1.7002, 32.6162,2, 32.6097,2,  -999.0,9,   373.5,2,    2.83,2,    2.44,2, -999.00,9,    0.39,2,   6.953,2,   3.382,2,   8.015,2,  -999.0,9,  -999.0,9,-999.0000,9,  -999.00, -1.6972
06AQ19960712,ARKXII,77,1,22,167684,2,19960818,0437,82.5150,141.7200,1487,    19.8, -1.6878, 32.7127,2, 32.7106,2,  -999.0,9,   370.0,2,    2.93,2,    2.73,2, -999.00,9,    0.42,2,   6.873,2,   3.344,2,   7.796,2,  -999.0,9,  -999.0,9,-999.0000,9,  -999.00, -1.6843
06AQ19960712,ARKXII,77,1,21,167683,2,19960818,0437,82.5150,141.7200,1487,    29.7, -1.6826, 33.2085,2, 33.3840,2,  -999.0,9,   346.4,2,    4.00,2,    4.98,2, -999.00,9,    0.56,2,   6.723,2,   3.142,2,   6.140,2,  -999.0,9,  -999.0,9,-999.0000,9,  -999.00, -1.6796
06AQ19960712,ARKXII,77,1,20,167682,2,19960818,0437,82.5150,141.7200,1487,    39.5, -1.6835, 33.6853,2, 33.7405,2,  -999.0,9,   336.1,2,    4.00,2,    6.05,2, -999.00,9,    0.59,2,   6.442,2,   3.045,2,   5.397,2,  -999.0,9,  -999.0,9,-999.0000,9,  -999.00, -1.6808
06AQ19960712,ARKXII,77,1,19,167681,2,19960818,0437,82.5150,141.7200,1487,    59.9, -1.6319, 34.0212,2, 34.0302,2,  -999.0,9,   331.6,2,    3.90,2,    6.93,2, -999.00,9,    0.61,2,   6.562,2,   3.000,2,   5.373,2,  -999.0,9,  -999.0,9,-999.0000,9,  -999.00, -1.6302
06AQ19960712,ARKXII,77,1,18,167680,2,19960818,0437,82.5150,141.7200,1487,    80.4, -1.2950, 34.2229,2, 34.2030,2,  -999.0,9,   331.1,2,    4.00,2,    7.80,2, -999.00,9,    0.67,2,   6.160,2,   2.874,2,   5.096,2,  -999.0,9,  -999.0,9,-999.0000,9,  -999.00, -1.2939
06AQ19960712,ARKXII,77,1,17,167679,2,19960818,0437,82.5150,141.7200,1487,   100.1, -0.7723, 34.3384,2, 34.3493,2,  -999.0,9,   319.1,2,    4.68,2,    8.59,2, -999.00,9,    0.71,2,   5.681,2,   2.700,2,   5.380,2,  -999.0,9,  -999.0,9,-999.0000,9,  -999.00, -0.7719
06AQ19960712,ARKXII,77,1,16,167678,2,19960818,0437,82.5150,141.7200,1487,   124.8,  0.0629, 34.5129,2, 34.5207,2,  -999.0,9,   310.4,2,    4.59,2,    9.46,2, -999.00,9,    0.76,2,   5.499,2,   2.583,2,   5.247,2,  -999.0,9,  -999.0,9,-999.0000,9,  -999.00,  0.0624
06AQ19960712,ARKXII,77,1,15,167677,2,19960818,0437,82.5150,141.7200,1487,   150.3,  0.8554, 34.6841,2, 34.6857,2,  -999.0,9,   304.8,2,    5.07,2,   10.54,2, -999.00,9,    0.80,2,   5.038,2,   2.390,2,   5.261,2,  -999.0,9,  -999.0,9,-999.0000,9,  -999.00,  0.8524
06AQ19960712,ARKXII,77,1,14,167676,2,19960818,0437,82.5150,141.7200,1487,   199.9,  1.5734, 34.8340,2, 34.8337,2,  -999.0,9,   302.6,2,    5.85,2,   11.41,2, -999.00,9,    0.83,2,   4.890,2,   2.371,2,   5.310,2,  -999.0,9,  -999.0,9,-999.0000,9,  -999.00,  1.5679
06AQ19960712,ARKXII,77,1,13,167675,2,19960818,0437,82.5150,141.7200,1487,   248.4,  1.7789, 34.8787,2, 34.8782,2,  -999.0,9,   303.5,2,    5.27,2,   11.41,2, -999.00,9,    0.86,2,   4.787,2,   2.289,2,   5.616,2,  -999.0,9,  -999.0,9,-999.0000,9,  -999.00,  1.7699
06AQ19960712,ARKXII,77,1,12,167674,2,19960818,0437,82.5150,141.7200,1487,   300.1,  1.6196, 34.8875,2, 34.8863,2,  -999.0,9,   304.7,2,    5.27,2,   11.22,2, -999.00,9,    0.86,2,   5.178,2,   2.441,2,   5.508,2,  -999.0,9,  -999.0,9,-999.0000,9,  -999.00,  1.6084
06AQ19960712,ARKXII,77,1,11,167673,2,19960818,0437,82.5150,141.7200,1487,   400.3,  1.1862, 34.8912,2, 34.8911,2,  -999.0,9,   305.5,2,    5.46,2,   11.32,2, -999.00,9,    0.87,2,   4.607,2,   2.147,2,   5.419,2,  -999.0,9,  -999.0,9,-999.0000,9,  -999.00,  1.1703
06AQ19960712,ARKXII,77,1,10,167672,2,19960818,0437,82.5150,141.7200,1487,   499.8,  0.6305, 34.8700,2, 34.8683,2,  -999.0,9,   304.0,2,    5.85,2,   11.22,2, -999.00,9,    0.87,2,   4.133,2,   1.918,2,   5.096,2,  -999.0,9,  -999.0,9,-999.0000,9,  -999.00,  0.6113
06AQ19960712,ARKXII,77,1,9,167671,2,19960818,0437,82.5150,141.7200,1487,   600.1,  0.3807, 34.8685,2, 34.8683,2,  -999.0,9,   306.6,2,    5.85,2,   11.22,2, -999.00,9,    0.87,2,   4.443,2,   2.115,2,   5.350,2,  -999.0,9,  -999.0,9,-999.0000,9,  -999.00,  0.3585
06AQ19960712,ARKXII,77,1,8,167670,2,19960818,0437,82.5150,141.7200,1487,   699.9,  0.1503, 34.8717,2, 34.8718,2,  -999.0,9,   307.3,2,    5.76,2,   11.22,2, -999.00,9,    0.87,2,   4.663,2,   2.192,2,   5.668,2,  -999.0,9,  -999.0,9,-999.0000,9,  -999.00,  0.1238
06AQ19960712,ARKXII,77,1,7,167669,2,19960818,0437,82.5150,141.7200,1487,   800.0, -0.0287, 34.8736,2, 34.8701,2,  -999.0,9,   308.3,2,    6.05,2,   10.93,2, -999.00,9,    0.89,2,   4.770,2,   2.319,2,   5.458,2,  -999.0,9,  -999.0,9,-999.0000,9,  -999.00, -0.0591
06AQ19960712,ARKXII,77,1,6,167668,2,19960818,0437,82.5150,141.7200,1487,  1000.6, -0.2166, 34.8858,2, 34.8862,2,  -999.0,9,   307.0,2,    6.05,2,   11.22,2, -999.00,9,    0.90,2,   3.981,2,   1.846,2,   4.969,2,  -999.0,9,  -999.0,9,-999.0000,9,  -999.00, -0.2559
06AQ19960712,ARKXII,77,1,5,167667,2,19960818,0437,82.5150,141.7200,1487,  1200.6, -0.3475, 34.8992,2, 34.8995,2,  -999.0,9,   304.5,2,    6.15,2,   11.02,2, -999.00,9,    0.88,2,   2.981,2,   1.340,2,   4.439,2,  -999.0,9,  -999.0,9,-999.0000,9,  -999.00, -0.3964
06AQ19960712,ARKXII,77,1,4,167666,2,19960818,0437,82.5150,141.7200,1487,  1375.6, -0.4303, 34.9076,2, 34.9075,2,  -999.0,9,   302.7,2,    6.83,2,   11.41,2, -999.00,9,    0.92,2,   2.324,2,   1.125,2,   3.275,2,  -999.0,9,  -999.0,9,-999.0000,9,  -999.00, -0.4882
06AQ19960712,ARKXII,77,1,3,167665,2,19960818,0437,82.5150,141.7200,1487,  1400.6, -0.4407, 34.9098,2, 34.9085,2,  -999.0,9,   302.2,2,    7.90,2,   11.80,2, -999.00,9,    0.94,2,   2.280,2,   0.980,2,   3.198,2,  -999.0,9,  -999.0,9,-999.0000,9,  -999.00, -0.4995
06AQ19960712,ARKXII,77,1,2,167664,2,19960818,0437,82.5150,141.7200,1487,  1426.9, -0.4542, 34.9107,2, 34.9110,2,  -999.0,9,   301.8,2,    8.39,2,   12.59,2, -999.00,9,    0.96,2,   2.070,2,   0.921,2,   2.988,2,  -999.0,9,  -999.0,9,-999.0000,9,  -999.00, -0.5149
06AQ19960712,ARKXII,77,1,1,167663,2,19960818,0437,82.5150,141.7200,1487,  1474.7, -0.4872, 34.9104,2, 34.9114,2,  -999.0,9,   301.1,2,    8.88,2,   12.39,2, -999.00,9,    0.96,2,   1.909,2,   0.907,2,   2.972,2,  -999.0,9,  -999.0,9,-999.0000,9,  -999.00, -0.5503
06AQ19960712,ARKXII,78,1,36,167734,2,19960818,1332,82.5017,140.0500,2307,    60.3, -1.5012, 34.0916,2, 34.0920,2,  -999.0,9,   318.6,2,    4.68,2,    8.00,2, -999.00,9,    0.67,2,-999.000,9,-999.000,9,-999.000,9,  2144.0,2,  2260.7,2,   7.6575,2,    25.00, -1.4993
06AQ19960712,ARKXII,78,1,34,167732,2,19960818,1332,82.5017,140.0500,2307,    80.4, -1.1698, 34.2939,2, 34.2905,2,  -999.0,9,   316.7,2,    4.59,2,    8.10,2, -999.00,9,    0.71,2,   6.127,2,   2.937,2,   5.487,2,  2140.1,2,  2266.8,2,   7.6632,2,    25.00, -1.1680
06AQ19960712,ARKXII,78,1,35,167733,2,19960818,1332,82.5017,140.0500,2307,    80.4, -1.0943, 34.3034,2,-999.0000,9,  -999.0,9,  -999.0,9, -999.00,9, -999.00,9, -999.00,9, -999.00,9,-999.000,9,-999.000,9,-999.000,9,  -999.0,9,  -999.0,9,-999.0000,9,  -999.00,-999.0000
06AQ19960712,ARKXII,78,1,33,167731,2,19960818,1332,82.5017,140.0500,2307,   100.2, -0.7145, 34.4065,2,-999.0000,9,  -999.0,9,  -999.0,9, -999.00,9, -999.00,9, -999.00,9, -999.00,9,-999.000,9,-999.000,9,-999.000,9,  -999.0,9,  -999.0,9,-999.0000,9,  -999.00,-999.0000
06AQ19960712,ARKXII,78,1,32,167730,2,19960818,1332,82.5017,140.0500,2307,   100.2, -0.6998, 34.4033,2, 34.3943,2,  -999.0,9,   314.0,2,    4.78,2,    8.68,2, -999.00,9,    0.72,2,   5.597,2,   2.720,2,   5.494,2,  2146.2,2,  2272.1,2,   7.6651,2,    25.00, -0.6990
06AQ19960712,ARKXII,78,1,30,167728,2,19960818,1332,82.5017,140.0500,2307,   149.8,  0.3536, 34.6521,2,-999.0000,9,  -999.0,9,   307.4,2,    5.07,2,    9.95,2, -999.00,9,    0.79,2,   5.420,2,   2.563,2,   5.611,2,  2146.7,2,  2282.0,2,-999.0000,9  -999.00,-999.0000
06AQ19960712,ARKXII,78,1,31,167729,2,19960818,1332,82.5017,140.0500,2307,   149.9,  0.3002, 34.6386,2,-999.0000,9,  -999.0,9,  -999.0,9, -999.00,9, -999.00,9, -999.00,9, -999.00,9,-999.000,9,-999.000,9,-999.000,9,  -999.0,9,  -999.0,9,-999.0000,9,  -999.00,-999.0000
06AQ19960712,ARKXII,78,1,28,167726,2,19960818,1332,82.5017,140.0500,2307,   200.6,  1.1784, 34.8048,2, 34.8050,2,  -999.0,9,   304.2,2,    5.37,2,   10.93,2, -999.00,9,    0.82,2,   5.021,2,   2.511,2,   5.658,2,  -999.0,9,  -999.0,9,-999.0000,9,  -999.00,  1.1725
06AQ19960712,ARKXII,78,1,29,167727,2,19960818,1332,82.5017,140.0500,2307,   200.6,  1.1862, 34.8052,2,-999.0000,9,  -999.0,9,  -999.0,9, -999.00,9, -999.00,9, -999.00,9, -999.00,9,-999.000,9,-999.000,9,-999.000,9,  -999.0,9,  -999.0,9,-999.0000,9,  -999.00,-999.0000
06AQ19960712,ARKXII,78,1,24,167722,2,19960818,1332,82.5017,140.0500,2307,   249.8,  1.3706, 34.8476,2,-999.0000,9,  -999.0,9,   304.9,2, -999.00,9, -999.00,9, -999.00,9, -999.00,9,   5.063,2,   2.372,2,   5.589,2,  2142.1,2,  2291.3,2,-999.0000,9  -999.00,-999.0000
06AQ19960712,ARKXII,78,1,27,167725,2,19960818,1332,82.5017,140.0500,2307,   249.8,  1.3696, 34.8454,2,-999.0000,9,  -999.0,9,  -999.0,9, -999.00,9, -999.00,9, -999.00,9, -999.00,9,-999.000,9,-999.000,9,-999.000,9,  -999.0,9,  -999.0,9,-999.0000,9,  -999.00,-999.0000
06AQ19960712,ARKXII,78,1,26,167724,2,19960818,1332,82.5017,140.0500,2307,   249.8,  1.3653, 34.8462,2,-999.0000,9,  -999.0,9,  -999.0,9, -999.00,9, -999.00,9, -999.00,9, -999.00,9,-999.000,9,-999.000,9,-999.000,9,  -999.0,9,  -999.0,9,-999.0000,9,  -999.00,-999.0000
06AQ19960712,ARKXII,78,1,25,167723,2,19960818,1332,82.5017,140.0500,2307,   249.8,  1.3692, 34.8439,2,-999.0000,9,  -999.0,9,  -999.0,9, -999.00,9, -999.00,9, -999.00,9, -999.00,9,-999.000,9,-999.000,9,-999.000,9,  -999.0,9,  -999.0,9,-999.0000,9,  -999.00,-999.0000
06AQ19960712,ARKXII,78,1,22,167720,2,19960818,1332,82.5017,140.0500,2307,   300.2,  1.2744, 34.8663,2, 34.8637,2,  -999.0,9,   306.9,2,    5.46,2,   11.32,2, -999.00,9,    0.84,2,-999.000,9,-999.000,9,-999.000,9,  -999.0,9,  -999.0,9,-999.0000,9,  -999.00,  1.2633
06AQ19960712,ARKXII,78,1,23,167721,2,19960818,1332,82.5017,140.0500,2307,   300.2,  1.2754, 34.8643,2,-999.0000,9,  -999.0,9,  -999.0,9, -999.00,9, -999.00,9, -999.00,9, -999.00,9,-999.000,9,-999.000,9,-999.000,9,  -999.0,9,  -999.0,9,-999.0000,9,  -999.00,-999.0000
06AQ19960712,ARKXII,78,1,21,167719,2,19960818,1332,82.5017,140.0500,2307,   399.9,  0.9297, 34.8698,2, 34.8715,2,  -999.0,9,   306.7,2,    5.66,2,   11.41,2, -999.00,9,    0.88,2,   4.933,2,   2.470,2,   5.742,2,  2151.4,2,  2293.2,2,   7.6948,2,    25.00,  0.9152
06AQ19960712,ARKXII,78,1,20,167718,2,19960818,1332,82.5017,140.0500,2307,   499.9,  0.7079, 34.8779,2, 34.8675,2,  -999.0,9,   307.1,2,    5.95,2,   11.71,2, -999.00,9,    0.88,2,-999.000,9,-999.000,9,-999.000,9,  -999.0,9,  -999.0,9,-999.0000,9,  -999.00,  0.6890
06AQ19960712,ARKXII,78,1,19,167717,2,19960818,1332,82.5017,140.0500,2307,   600.8,  0.3426, 34.8694,2, 34.8620,2,  -999.0,9,   308.8,2,    5.95,2,   11.41,2, -999.00,9,    0.87,2,   4.764,2,   2.361,2,   5.994,2,  2153.5,2,  2298.1,2,   7.6842,2,    25.00,  0.3196
06AQ19960712,ARKXII,78,1,18,167716,2,19960818,1332,82.5017,140.0500,2307,   699.5,  0.1267, 34.8678,2, 34.8669,2,  -999.0,9,   310.1,2,    6.15,2,   11.32,2, -999.00,9,    0.88,2,-999.000,9,-999.000,9,-999.000,9,  -999.0,9,  -999.0,9,-999.0000,9,  -999.00,  0.1009
06AQ19960712,ARKXII,78,1,17,167715,2,19960818,1332,82.5017,140.0500,2307,   799.9, -0.0033, 34.8732,2, 34.8734,2,  -999.0,9,   309.6,2,    6.15,2,   11.22,2, -999.00,9,    0.88,2,   4.784,2,   2.359,2,   5.862,2,  -999.0,9,  -999.0,9,-999.0000,9,  -999.00, -0.0343
06AQ19960712,ARKXII,78,1,14,167712,2,19960818,1332,82.5017,140.0500,2307,  1000.4, -0.1672, 34.8857,2,-999.0000,9,  -999.0,9,  -999.0,9, -999.00,9, -999.00,9, -999.00,9, -999.00,9,-999.000,9,-999.000,9,-999.000,9,  -999.0,9,  -999.0,9,-999.0000,9,  -999.00,-999.0000
06AQ19960712,ARKXII,78,1,16,167714,2,19960818,1332,82.5017,140.0500,2307,  1000.4, -0.1647, 34.8846,2, 34.8804,2,  -999.0,9,   309.3,2,    6.73,2,   11.61,2, -999.00,9,    0.91,2,   4.920,2,   2.279,2,   5.715,2,  2163.0,2,  2296.5,2,   7.6697,2,    25.00, -0.2043
06AQ19960712,ARKXII,78,1,15,167713,2,19960818,1332,82.5017,140.0500,2307,  1000.4, -0.1646, 34.8845,2,-999.0000,9,  -999.0,9,  -999.0,9, -999.00,9, -999.00,9, -999.00,9, -999.00,9,-999.000,9,-999.000,9,-999.000,9,  -999.0,9,  -999.0,9,-999.0000,9,  -999.00,-999.0000
06AQ19960712,ARKXII,78,1,13,167711,2,19960818,1332,82.5017,140.0500,2307,  1200.0, -0.2689, 34.9008,2, 34.9002,2,  -999.0,9,   306.3,2,    7.61,2,   12.39,2, -999.00,9,    0.93,2,   3.883,2,   1.808,2,   5.085,2,  -999.0,9,  -999.0,9,-999.0000,9,  -999.00, -0.3181
06AQ19960712,ARKXII,78,1,12,167710,2,19960818,1332,82.5017,140.0500,2307,  1400.3, -0.4425, 34.9067,2, 34.9065,2,  -999.0,9,   304.5,2,    8.68,2,   13.17,2, -999.00,9,    0.97,2,   2.470,2,   1.203,2,   3.724,2,  -999.0,9,  -999.0,9,-999.0000,9,  -999.00, -0.5015
06AQ19960712,ARKXII,78,1,11,167709,2,19960818,1332,82.5017,140.0500,2307,  1600.6, -0.5686, 34.9126,2, 34.9124,2,  -999.0,9,   302.1,2, -999.00,9,   13.95,2, -999.00,9,    0.99,2,   1.200,2,   0.562,2,   2.394,2,  -999.0,9,  -999.0,9,-999.0000,9,  -999.00, -0.6377
06AQ19960712,ARKXII,78,1,10,167708,2,19960818,1332,82.5017,140.0500,2307,  1798.6, -0.6489, 34.9168,2, 34.9174,2,  -999.0,9,   301.2,2,   10.05,2,   13.76,2, -999.00,9,    1.02,2,   0.626,2,   0.286,2,   1.940,2,  2158.3,2,  2279.2,2,   7.6842,2,    25.00, -0.7286
06AQ19960712,ARKXII,78,1,9,167707,2,19960818,1332,82.5017,140.0500,2307,  1999.9, -0.7171, 34.9178,2, 34.9166,2,  -999.0,9,   300.3,2,   10.44,2,   13.95,2, -999.00,9,    1.01,2,   0.598,2,   0.265,2,   1.620,2,  -999.0,9,  -999.0,9,-999.0000,9,  -999.00, -0.8094
06AQ19960712,ARKXII,78,1,8,167706,2,19960818,1332,82.5017,140.0500,2307,  2099.7, -0.7375, 34.9194,2, 34.9215,2,  -999.0,9,   300.0,2,   10.54,2,   13.85,2, -999.00,9,    1.03,2,   0.524,2,   0.278,2,   1.442,2,  -999.0,9,  -999.0,9,-999.0000,9,  -999.00, -0.8356
06AQ19960712,ARKXII,78,1,7,167705,2,19960818,1332,82.5017,140.0500,2307,  2200.8, -0.7500, 34.9199,2, 34.9176,2,  -999.0,9,   300.0,2,   10.73,2,   13.46,2, -999.00,9,    1.02,2,   0.544,2,   0.232,2,   1.310,2,  2157.1,2,  2300.1,2,   7.6842,2,    25.00, -0.8542
06AQ19960712,ARKXII,78,1,6,167704,2,19960818,1332,82.5017,140.0500,2307,  2250.7, -0.7543, 34.9204,2, 34.9203,2,  -999.0,9,   299.8,2,   10.83,2,   13.56,2, -999.00,9,    1.02,2,-999.000,9,-999.000,9,-999.000,9,  2160.2,2,  2301.1,2,   7.6765,2,    25.00, -0.8626
06AQ19960712,ARKXII,78,1,5,167703,2,19960818,1332,82.5017,140.0500,2307,  2298.1, -0.7548, 34.9206,2, 34.9220,2,  -999.0,9,   299.7,2,   10.93,2,   13.66,2, -999.00,9,    1.01,2,   0.456,2,   0.197,2,   1.175,2,  2156.5,2,  2297.8,2,   7.6842,2,    25.00, -0.8658
06AQ19960712,ARKXII,78,1,1,167699,2,19960818,1332,82.5017,140.0500,2307,  2351.8, -0.7712, 34.9225,2,-999.0000,9,  -999.0,9,  -999.0,9, -999.00,9, -999.00,9, -999.00,9, -999.00,9,-999.000,9,-999.000,9,-999.000,9,  -999.0,9,  -999.0,9,-999.0000,9,  -999.00,-999.0000
06AQ19960712,ARKXII,78,1,2,167700,2,19960818,1332,82.5017,140.0500,2307,  2351.9, -0.7711, 34.9224,2,-999.0000,9,  -999.0,9,  -999.0,9, -999.00,9, -999.00,9, -999.00,9, -999.00,9,-999.000,9,-999.000,9,-999.000,9,  -999.0,9,  -999.0,9,-999.0000,9,  -999.00,-999.0000
06AQ19960712,ARKXII,78,1,4,167702,2,19960818,1332,82.5017,140.0500,2307,  2351.9, -0.7716, 34.9229,2, 34.9232,2,  -999.0,9,   298.3,2,   11.12,2,   13.56,2, -999.00,9,    1.02,2,-999.000,9,-999.000,9,-999.000,9,  2159.5,2,  2298.4,2,   7.6919,2,    25.00, -0.8863
06AQ19960712,ARKXII,78,1,3,167701,2,19960818,1332,82.5017,140.0500,2307,  2351.9, -0.7710, 34.9223,2,-999.0000,9,  -999.0,9,  -999.0,9, -999.00,9, -999.00,9, -999.00,9, -999.00,9,-999.000,9,-999.000,9,-999.000,9,  -999.0,9,  -999.0,9,-999.0000,9,  -999.00,-999.0000
06AQ19960712,ARKXII,78,3,10,167744,2,19960818,1637,82.5050,140.0817,2318,     1.7, -1.6110, 32.5107,2,-999.0000,9,  -999.0,9,  -999.0,9, -999.00,9, -999.00,9, -999.00,9, -999.00,9,-999.000,9,-999.000,9,-999.000,9,  -999.0,9,  -999.0,9,-999.0000,9,  -999.00,-999.0000
06AQ19960712,ARKXII,78,3,8,167742,2,19960818,1637,82.5050,140.0817,2318,    10.4, -1.6809, 32.5077,2, 32.5380,2,  -999.0,9,   373.4,2,    3.61,2,    2.34,2, -999.00,9,    0.40,2,   7.021,2,   3.366,2,   8.217,2,  2099.1,2,  2223.6,2,   7.6888,2,    25.00, -1.6812
06AQ19960712,ARKXII,78,3,9,167743,2,19960818,1637,82.5050,140.0817,2318,    10.5, -1.6582, 32.5054,2,-999.0000,9,  -999.0,9,  -999.0,9, -999.00,9, -999.00,9, -999.00,9, -999.00,9,-999.000,9,-999.000,9,-999.000,9,  -999.0,9,  -999.0,9,-999.0000,9,  -999.00,-999.0000
06AQ19960712,ARKXII,78,3,7,167741,2,19960818,1637,82.5050,140.0817,2318,    20.6, -1.6821, 32.5446,2,-999.0000,9,  -999.0,9,  -999.0,9, -999.00,9, -999.00,9, -999.00,9, -999.00,9,-999.000,9,-999.000,9,-999.000,9,  -999.0,9,  -999.0,9,-999.0000,9,  -999.00,-999.0000
06AQ19960712,ARKXII,78,3,6,167740,2,19960818,1637,82.5050,140.0817,2318,    20.6, -1.6835, 32.5267,2, 32.6067,2,  -999.0,9,   371.7,2,    2.93,2,    2.63,2, -999.00,9,    0.40,2,-999.000,9,-999.000,9,-999.000,9,  2102.1,2,  2222.4,2,   7.6868,2,    25.00, -1.6844
06AQ19960712,ARKXII,78,3,5,167739,2,19960818,1637,82.5050,140.0817,2318,    30.8, -1.6919, 32.6482,2,-999.0000,9,  -999.0,9,  -999.0,9, -999.00,9, -999.00,9, -999.00,9, -999.00,9,-999.000,9,-999.000,9,-999.000,9,  -999.0,9,  -999.0,9,-999.0000,9,  -999.00,-999.0000
06AQ19960712,ARKXII,78,3,4,167738,2,19960818,1637,82.5050,140.0817,2318,    30.8, -1.6729, 32.8217,2, 32.8731,2,  -999.0,9,   359.3,2,    3.12,2,    3.61,2, -999.00,9,    0.46,2,   6.938,2,   3.352,2,   7.453,2,  -999.0,9,  -999.0,9,-999.0000,9,  -999.00, -1.6735
06AQ19960712,ARKXII,78,3,3,167737,2,19960818,1637,82.5050,140.0817,2318,    40.2, -1.5849, 33.6670,2,-999.0000,9,  -999.0,9,  -999.0,9, -999.00,9, -999.00,9, -999.00,9, -999.00,9,-999.000,9,-999.000,9,-999.000,9,  -999.0,9,  -999.0,9,-999.0000,9,  -999.00,-999.0000
06AQ19960712,ARKXII,78,3,2,167736,2,19960818,1637,82.5050,140.0817,2318,    40.2, -1.5737, 33.7664,2, 33.7269,2,  -999.0,9,   325.3,2,    4.49,2,    6.54,2, -999.00,9,    0.62,2,   6.551,2,   3.140,2,   5.566,2,  2138.1,2,  2241.2,2,   7.6490,2,    25.00, -1.5748
06AQ19960712,ARKXII,78,3,1,167735,2,19960818,1637,82.5050,140.0817,2318,    50.4, -1.5552, 33.9045,2,-999.0000,9,  -999.0,9,  -999.0,9, -999.00,9, -999.00,9, -999.00,9, -999.00,9,-999.000,9,-999.000,9,-999.000,9,  -999.0,9,  -999.0,9,-999.0000,9,  -999.00,-999.0000