BOTTLE,20100322CCHDOSIODM
EXPOCODE,SECT_ID,STNNBR,CASTNO,SAMPNO,BTLNBR,BTLNBR_FLAG_W,DATE,TIME,LATITUDE,LONGITUDE,DEPTH,CTDPRS,CTDTMP,CTDSAL,CTDSAL_FLAG_W,SALNTY,SALNTY_FLAG_W,CTDOXY,CTDOXY_FLAG_W,OXYGEN,OXYGEN_FLAG_W,SILCAT,SILCAT_FLAG_W,NITRAT,NITRAT_FLAG_W,NITRIT,NITRIT_FLAG_W,PHSPHT,PHSPHT_FLAG_W,CFC-11,CFC-11_FLAG_W,CFC-12,CFC-12_FLAG_W,CCL4,CCL4_FLAG_W,TCARBN,TCARBN_FLAG_W,ALKALI,ALKALI_FLAG_W,PH_SWS,PH_SWS_FLAG_W,PH_TMP,THETA
,,,,,,,,,,,METERS,DBAR,ITS-90,PSS-78,,PSS-78,,UMOL/KG,,UMOL/KG,,UMOL/KG,,UMOL/KG,,UMOL/KG,,UMOL/KG,,PMOL/KG,,PMOL/KG,,PMOL/KG,,UMOL/KG,,UMOL/KG,,,,DEG C,DEG C
06AQ19960712,ARKXII,33,1,22,166058,2,19960801,2101,82.0633,91.2583,1006,     9.9, -1.7590, 33.8588,2, 33.8587,2,  -999.0,9,   346.2,2,    2.83,2,    4.78,2, -999.00,9,    0.35,2,-999.000,9,-999.000,9,-999.000,9,  2105.4,2,  2263.4,2,   7.7366,2,    25.00, -1.7562
06AQ19960712,ARKXII,33,1,21,166057,2,19960801,2101,82.0633,91.2583,1006,    19.9, -1.7788, 33.8936,2, 33.8953,2,  -999.0,9,   344.9,2,    2.83,2,    4.98,2, -999.00,9,    0.37,2,   6.859,2,   3.132,2,   7.908,2,  -999.0,9,  -999.0,9,-999.0000,9,  -999.00, -1.7754
06AQ19960712,ARKXII,33,1,20,166056,2,19960801,2101,82.0633,91.2583,1006,    30.4, -1.7924, 33.9076,2, 33.9099,2,  -999.0,9,   343.9,2,    2.83,2,    5.17,2, -999.00,9,    0.38,2,-999.000,9,-999.000,9,-999.000,9,  2111.5,2,  2266.6,2,   7.7356,2,    25.00, -1.7896
06AQ19960712,ARKXII,33,1,19,166055,2,19960801,2101,82.0633,91.2583,1006,    40.2, -1.7962, 33.9187,2, 33.9167,2,  -999.0,9,   343.7,2,    3.02,2,    5.07,2, -999.00,9,    0.38,2,   6.780,2,   3.127,2,   7.785,2,  -999.0,9,  -999.0,9,-999.0000,9,  -999.00, -1.7937
06AQ19960712,ARKXII,33,1,18,166054,2,19960801,2101,82.0633,91.2583,1006,    50.1, -1.7960, 33.9202,2, 33.9204,2,  -999.0,9,   343.8,2,    2.93,2,    5.17,2, -999.00,9,    0.39,2,-999.000,9,-999.000,9,-999.000,9,  2110.3,2,  2274.6,2,   7.7366,2,    25.00, -1.7939
06AQ19960712,ARKXII,33,1,17,166053,2,19960801,2101,82.0633,91.2583,1006,    60.1, -1.7997, 33.9573,2, 33.9634,2,  -999.0,9,   340.8,2,    3.12,2,    5.46,2, -999.00,9,    0.41,2,   6.385,2,   3.140,2,   7.601,2,  -999.0,9,  -999.0,9,-999.0000,9,  -999.00, -1.7971
06AQ19960712,ARKXII,33,1,16,166052,2,19960801,2101,82.0633,91.2583,1006,    80.3, -1.6993, 34.1650,2, 34.1626,2,  -999.0,9,   329.6,2,    3.80,2,    6.93,2, -999.00,9,    0.49,2,-999.000,9,-999.000,9,-999.000,9,  2128.5,2,  2279.2,2,   7.7123,2,    25.00, -1.6976
06AQ19960712,ARKXII,33,1,15,166051,2,19960801,2101,82.0633,91.2583,1006,    99.9, -1.4509, 34.2896,2, 34.2933,2,  -999.0,9,   324.2,2,    4.29,2,    7.90,2, -999.00,9,    0.55,2,   6.331,2,   2.921,2,   7.075,2,  2133.7,2,  2298.0,3,   7.7046,2,    25.00, -1.4503
06AQ19960712,ARKXII,33,1,14,166050,2,19960801,2101,82.0633,91.2583,1006,   124.7, -0.7152, 34.4346,2, 34.4381,2,  -999.0,9,   319.6,2,    4.29,2,    8.88,2, -999.00,9,    0.59,2,-999.000,9,-999.000,9,-999.000,9,  -999.0,9,  -999.0,9,-999.0000,9,  -999.00, -0.7157
06AQ19960712,ARKXII,33,1,13,166049,2,19960801,2101,82.0633,91.2583,1006,   149.9, -0.0493, 34.5864,2, 34.5836,2,  -999.0,9,   316.3,2,    4.59,2,    9.56,2, -999.00,9,    0.62,2,   5.396,2,   2.633,2,   6.295,2,  -999.0,9,  -999.0,9,-999.0000,9,  -999.00, -0.0514
06AQ19960712,ARKXII,33,1,12,166048,2,19960801,2101,82.0633,91.2583,1006,   214.2,  1.4400, 34.8170,2, 34.8165,2,  -999.0,9,   307.1,2,    5.37,2,   11.61,2, -999.00,9,    0.72,2,-999.000,9,-999.000,9,-999.000,9,  2140.5,2,  2290.6,2,   7.7151,2,    25.00,  1.4334
06AQ19960712,ARKXII,33,1,11,166047,2,19960801,2101,82.0633,91.2583,1006,   249.7,  1.2132, 34.8132,2, 34.8090,2,  -999.0,9,   309.1,2,    5.27,2,   11.41,2, -999.00,9,    0.70,2,   5.316,2,   2.637,2,   6.355,2,  -999.0,9,  -999.0,9,-999.0000,9,  -999.00,  1.2050
06AQ19960712,ARKXII,33,1,10,166046,2,19960801,2101,82.0633,91.2583,1006,   299.9,  1.3214, 34.8595,2, 34.8574,2,  -999.0,9,   307.9,2,    5.46,2,   12.00,2, -999.00,9,    0.75,2,-999.000,9,-999.000,9,-999.000,9,  2142.0,2,  2292.3,2,   7.7121,2,    25.00,  1.3102
06AQ19960712,ARKXII,33,1,9,166045,2,19960801,2101,82.0633,91.2583,1006,   399.4,  0.6840, 34.8479,2, 34.8460,2,  -999.0,9,   310.1,2,    5.66,2,   11.51,2, -999.00,9,    0.75,2,   5.375,2,   2.499,2,   6.195,2,  -999.0,9,  -999.0,9,-999.0000,9,  -999.00,  0.6701
06AQ19960712,ARKXII,33,1,8,166044,2,19960801,2101,82.0633,91.2583,1006,   499.5, -0.0286, 34.8469,2, 34.8462,2,  -999.0,9,   311.8,2,    6.15,2,   11.32,2, -999.00,9,    0.75,2,-999.000,9,-999.000,9,-999.000,9,  2158.4,2,  2300.4,2,   7.6880,2,    25.00, -0.0449
06AQ19960712,ARKXII,33,1,7,166043,2,19960801,2101,82.0633,91.2583,1006,   599.7, -0.3679, 34.8508,2, 34.8503,2,  -999.0,9,   312.5,2,    6.44,2,   11.22,2, -999.00,9,    0.75,2,   5.659,2,   2.872,2,   6.779,2,  -999.0,9,  -999.0,9,-999.0000,9,  -999.00, -0.3868
06AQ19960712,ARKXII,33,1,6,166042,2,19960801,2101,82.0633,91.2583,1006,   699.6, -0.3501, 34.8562,2, 34.8564,2,  -999.0,9,   311.7,2,    6.54,2,   11.51,2, -999.00,9,    0.76,2,-999.000,9,-999.000,9,-999.000,9,  2165.1,2,  2308.1,2,   7.6774,2,    25.00, -0.3733
06AQ19960712,ARKXII,33,1,5,166041,2,19960801,2101,82.0633,91.2583,1006,   799.9, -0.3446, 34.8617,2, 34.8612,2,  -999.0,9,   310.8,2,    6.54,2,   11.71,2, -999.00,9,    0.77,2,   5.631,2,   2.695,2,   7.232,2,  -999.0,9,  -999.0,9,-999.0000,9,  -999.00, -0.3730
06AQ19960712,ARKXII,33,1,4,166040,2,19960801,2101,82.0633,91.2583,1006,   899.5, -0.3298, 34.8633,2, 34.8620,2,  -999.0,9,   310.5,2,    6.63,2,   11.61,2, -999.00,9,    0.76,2,-999.000,9,-999.000,9,-999.000,9,  2164.3,2,  2300.0,2,   7.6688,2,    25.00, -0.3629
06AQ19960712,ARKXII,33,1,3,166039,2,19960801,2101,82.0633,91.2583,1006,   978.1, -0.3555, 34.8613,2, 34.8606,2,  -999.0,9,   310.9,2,    6.54,2,   11.71,2, -999.00,9,    0.75,2,   5.668,2,   2.815,2,   7.008,2,  2163.9,2,  2295.8,2,   7.6717,2,    25.00, -0.3926
06AQ19960712,ARKXII,33,1,2,166038,2,19960801,2101,82.0633,91.2583,1006,   988.2, -0.3549, 34.8609,2, 34.8623,2,  -999.0,9,   311.1,2,    6.93,2,   11.61,2, -999.00,9,    0.76,2,-999.000,9,-999.000,9,-999.000,9,  2165.0,2,  2294.6,2,   7.6726,2,    25.00, -0.3921
06AQ19960712,ARKXII,33,1,1,166037,2,19960801,2101,82.0633,91.2583,1006,   997.6, -0.3549, 34.8607,2, 34.8617,2,  -999.0,9,   310.9,2,    6.73,2,   11.61,2, -999.00,9,    0.74,2,   5.877,2,   2.807,2,   7.030,2,  2163.6,2,  2268.8,3,   7.6755,2,    25.00, -0.3926
06AQ19960712,ARKXII,34,1,27,166085,2,19960802,0205,82.0917,91.5017,1532,     9.9, -1.7752, 33.8830,2, 33.8733,2,  -999.0,9,   344.9,2,    2.73,2,    4.78,2, -999.00,9,    0.39,2,-999.000,9,-999.000,9,-999.000,9,  2109.9,2,  2264.0,2,   7.7356,2,    25.00, -1.7722
06AQ19960712,ARKXII,34,1,26,166084,2,19960802,0205,82.0917,91.5017,1532,    20.4, -1.7878, 33.8984,2, 33.9105,2,  -999.0,9,   343.9,2,    2.83,2,    4.98,2, -999.00,9,    0.38,2,-999.000,9,-999.000,9,-999.000,9,  -999.0,9,  -999.0,9,-999.0000,9,  -999.00, -1.7844
06AQ19960712,ARKXII,34,1,25,166083,2,19960802,0205,82.0917,91.5017,1532,    29.7, -1.7917, 33.9057,2, 33.9027,2,  -999.0,9,   344.1,2,    2.73,2,    4.78,2, -999.00,9,    0.41,2,   6.350,2,   3.207,2,   7.590,2,  2107.3,2,  2266.4,2,   7.7317,2,    25.00, -1.7886
06AQ19960712,ARKXII,34,1,24,166082,2,19960802,0205,82.0917,91.5017,1532,    40.1, -1.7928, 33.9254,2, 33.9225,2,  -999.0,9,   345.4,2,    2.63,2,    5.07,2, -999.00,9,    0.42,2,-999.000,9,-999.000,9,-999.000,9,  -999.0,9,  -999.0,9,-999.0000,9,  -999.00, -1.7897
06AQ19960712,ARKXII,34,1,23,166081,2,19960802,0205,82.0917,91.5017,1532,    49.8, -1.7860, 33.9412,2, 33.9439,2,  -999.0,9,   342.6,2,    2.73,2,    5.17,2, -999.00,9,    0.42,2,   6.457,2,   3.099,2,   7.569,2,  2109.8,2,  2265.3,2,   7.7346,2,    25.00, -1.7839
06AQ19960712,ARKXII,34,1,22,166080,2,19960802,0205,82.0917,91.5017,1532,    59.6, -1.7818, 33.9986,2, 33.9965,2,  -999.0,9,   338.1,2,    3.02,2,    5.56,2, -999.00,9,    0.44,2,-999.000,9,-999.000,9,-999.000,9,  -999.0,9,  -999.0,9,-999.0000,9,  -999.00, -1.7791
06AQ19960712,ARKXII,34,1,21,166079,2,19960802,0205,82.0917,91.5017,1532,    79.8, -1.5074, 34.1821,2, 34.1858,2,  -999.0,9,   327.6,2,    3.41,2,    6.93,2, -999.00,9,    0.53,2,   6.136,2,   2.982,2,   6.895,2,  2121.7,2,  2262.7,2,   7.7152,2,    25.00, -1.5058
06AQ19960712,ARKXII,34,1,20,166078,2,19960802,0205,82.0917,91.5017,1532,    99.7, -0.9206, 34.3347,2, 34.3339,2,  -999.0,9,   321.1,2,    3.71,2,    7.80,2, -999.00,9, -999.00,9,-999.000,9,-999.000,9,-999.000,9,  2128.7,2,  2271.6,2,   7.7056,2,    25.00, -0.9198
06AQ19960712,ARKXII,34,1,19,166077,2,19960802,0205,82.0917,91.5017,1532,   125.2, -0.3389, 34.4483,2, 34.4417,2,  -999.0,9,   316.6,2, -999.00,9,    8.49,2, -999.00,9, -999.00,9,   5.865,2,   2.863,2,   6.614,2,  -999.0,9,  -999.0,9,-999.0000,9,  -999.00, -0.3391
06AQ19960712,ARKXII,34,1,18,166076,2,19960802,0205,82.0917,91.5017,1532,   150.1, -0.1800, 34.5442,2, 34.5410,2,  -999.0,9,   315.5,2,    4.20,2,    8.98,2, -999.00,9, -999.00,9,-999.000,9,-999.000,9,-999.000,9,  2136.5,2,  2288.8,2,   7.7045,2,    25.00, -0.1812
06AQ19960712,ARKXII,34,1,17,166075,2,19960802,0205,82.0917,91.5017,1532,   200.1,  1.2279, 34.7474,2, 34.7480,2,  -999.0,9,   307.9,2,    4.78,2,   10.63,2, -999.00,9,    0.70,2,-999.000,9,-999.000,9,-999.000,9,  2141.1,2,  2287.7,2,   7.7160,2,    25.00,  1.2225
06AQ19960712,ARKXII,34,1,16,166074,2,19960802,0205,82.0917,91.5017,1532,   261.2,  2.1074, 34.8800,2,-999.0000,9,  -999.0,9,  -999.0,9, -999.00,9, -999.00,9, -999.00,9, -999.00,9,-999.000,9,-999.000,9,-999.000,9,  -999.0,9,  -999.0,9,-999.0000,9,  -999.00,-999.0000
06AQ19960712,ARKXII,34,1,15,166073,2,19960802,0205,82.0917,91.5017,1532,   299.7,  1.7798, 34.8765,2, 34.8765,2,  -999.0,9,   305.5,2,    5.46,2,   11.51,2, -999.00,9,    0.74,2,   5.154,2,   2.608,2,   5.660,2,  2144.1,2,  2294.9,2,   7.7170,2,    25.00,  1.7681
06AQ19960712,ARKXII,34,1,14,166072,2,19960802,0205,82.0917,91.5017,1532,   400.2,  0.8961, 34.8452,2, 34.8482,2,  -999.0,9,   308.3,2,    5.46,2,   11.41,2, -999.00,9,    0.75,2,-999.000,9,-999.000,9,-999.000,9,  2148.1,2,  2296.9,2,   7.7073,2,    25.00,  0.8813
06AQ19960712,ARKXII,34,1,13,166071,2,19960802,0205,82.0917,91.5017,1532,   499.8,  0.1142, 34.8474,2, 34.8467,2,  -999.0,9,   310.2,2,    5.95,2,   10.93,2, -999.00,9,    0.77,2,   5.288,2,   2.611,2,   6.224,2,  2158.2,2,  2297.2,2,   7.6880,2,    25.00,  0.0975
06AQ19960712,ARKXII,34,1,12,166070,2,19960802,0205,82.0917,91.5017,1532,   600.0, -0.1310, 34.8535,2, 34.8532,2,  -999.0,9,   310.3,2,    6.34,2,   11.12,2, -999.00,9,    0.76,2,-999.000,9,-999.000,9,-999.000,9,  2162.3,2,  2301.4,2,   7.6823,2,    25.00, -0.1510
06AQ19960712,ARKXII,34,1,11,166069,2,19960802,0205,82.0917,91.5017,1532,   699.9, -0.3405, 34.8654,2, 34.8668,2,  -999.0,9,   309.3,2,    6.73,2,   11.41,2, -999.00,9,    0.78,2,   5.616,2,   2.756,2,   6.751,2,  2174.9,2,  2283.0,3,   7.6726,2,    25.00, -0.3644
06AQ19960712,ARKXII,34,1,10,166068,2,19960802,0205,82.0917,91.5017,1532,   799.4, -0.3323, 34.8732,2, 34.8740,2,  -999.0,9,  -999.0,9,    7.12,2,   11.32,2, -999.00,9,    0.80,2,-999.000,9,-999.000,9,-999.000,9,  2177.0,2,  2300.6,2,   7.6640,2,    25.00, -0.3610
06AQ19960712,ARKXII,34,1,9,166067,2,19960802,0205,82.0917,91.5017,1532,   900.0, -0.3053, 34.8788,2, 34.8795,2,  -999.0,9,   306.6,2,    7.22,2,   11.51,2, -999.00,9,    0.84,2,   5.685,2,   2.855,2,   6.438,2,  2172.8,2,  2298.3,2,   7.6621,2,    25.00, -0.3391
06AQ19960712,ARKXII,34,1,8,166066,2,19960802,0205,82.0917,91.5017,1532,   999.9, -0.3085, 34.8792,2, 34.8796,2,  -999.0,9,   306.6,2,    7.41,2,   11.61,2, -999.00,9,    0.80,2,-999.000,9,-999.000,9,-999.000,9,  2173.5,2,  2300.7,2,   7.6640,2,    25.00, -0.3471
06AQ19960712,ARKXII,34,1,7,166065,2,19960802,0205,82.0917,91.5017,1532,  1100.2, -0.2831, 34.8848,2, 34.8855,2,  -999.0,9,   305.3,2,    7.51,2,   11.41,2, -999.00,9,    0.83,2,   5.404,2,   2.707,2,   6.460,2,  2171.4,2,  2286.2,2,   7.6611,2,    25.00, -0.3265
06AQ19960712,ARKXII,34,1,6,166064,2,19960802,0205,82.0917,91.5017,1532,  1200.0, -0.2541, 34.8984,2, 34.9026,2,  -999.0,9,   302.9,2,    8.10,2,   12.20,2, -999.00,9,    0.85,2,-999.000,9,-999.000,9,-999.000,9,  2172.9,2,  2296.6,2,   7.6553,2,    25.00, -0.3032
06AQ19960712,ARKXII,34,1,5,166063,2,19960802,0205,82.0917,91.5017,1532,  1300.1, -0.3453, 34.9061,2, 34.9072,2,  -999.0,9,   301.1,2,    8.88,2,   13.37,2, -999.00,9,    0.88,2,   3.196,2,   1.513,2,   4.052,2,  2166.7,2,  -999.0,9,   7.6764,2,    25.00, -0.3999
06AQ19960712,ARKXII,34,1,4,166062,2,19960802,0205,82.0917,91.5017,1532,  1399.9, -0.5195, 34.9101,2, 34.9118,2,  -999.0,9,   299.5,2,    9.76,2,   14.15,2, -999.00,9,    0.91,2,-999.000,9,-999.000,9,-999.000,9,  2157.6,2,  2288.5,2,   7.6813,2,    25.00, -0.5776
06AQ19960712,ARKXII,34,1,3,166061,2,19960802,0205,82.0917,91.5017,1532,  1481.1, -0.5566, 34.9116,2, 34.9156,2,  -999.0,9,   299.2,2,    9.85,2,   13.95,2, -999.00,9,    0.91,2,   1.570,2,   0.776,2,   2.524,2,  2160.0,2,  2300.9,2,   7.6861,2,    25.00, -0.6188
06AQ19960712,ARKXII,34,1,2,166060,2,19960802,0205,82.0917,91.5017,1532,  1489.8, -0.5762, 34.9123,2, 34.9109,2,  -999.0,9,   299.1,2,    9.95,2,   14.15,2, -999.00,9,    0.90,2,-999.000,9,-999.000,9,-999.000,9,  2160.3,2,  2293.6,2,   7.6861,2,    25.00, -0.6391
06AQ19960712,ARKXII,34,1,1,166059,2,19960802,0205,82.0917,91.5017,1532,  1506.4, -0.5852, 34.9121,2, 34.9113,2,  -999.0,9,   298.9,2,   10.05,2,   14.44,2, -999.00,9,    0.94,2,   1.672,2,   0.638,2,   2.376,2,  2157.9,2,  2255.9,3,   7.6823,2,    25.00, -0.6489