BOTTLE,20100322CCHDOSIODM
EXPOCODE,SECT_ID,STNNBR,CASTNO,SAMPNO,BTLNBR,BTLNBR_FLAG_W,DATE,TIME,LATITUDE,LONGITUDE,DEPTH,CTDPRS,CTDTMP,CTDSAL,CTDSAL_FLAG_W,SALNTY,SALNTY_FLAG_W,CTDOXY,CTDOXY_FLAG_W,OXYGEN,OXYGEN_FLAG_W,SILCAT,SILCAT_FLAG_W,NITRAT,NITRAT_FLAG_W,NITRIT,NITRIT_FLAG_W,PHSPHT,PHSPHT_FLAG_W,CFC-11,CFC-11_FLAG_W,CFC-12,CFC-12_FLAG_W,CCL4,CCL4_FLAG_W,TCARBN,TCARBN_FLAG_W,ALKALI,ALKALI_FLAG_W,PH_SWS,PH_SWS_FLAG_W,PH_TMP,THETA
,,,,,,,,,,,METERS,DBAR,ITS-90,PSS-78,,PSS-78,,UMOL/KG,,UMOL/KG,,UMOL/KG,,UMOL/KG,,UMOL/KG,,UMOL/KG,,PMOL/KG,,PMOL/KG,,PMOL/KG,,UMOL/KG,,UMOL/KG,,,,DEG C,DEG C
06AQ19960712,ARKXII,37,1,31,166188,2,19960802,2308,82.5167,92.2967,2926,    10.1, -1.8103, 34.0568,2, 34.0567,2,  -999.0,9,   347.9,2,    3.22,2,    7.32,2, -999.00,9,    0.48,2,-999.000,9,-999.000,9,-999.000,9,  2090.2,2,  -999.0,9,   7.7481,2,    25.00, -1.8072
06AQ19960712,ARKXII,37,1,30,166187,2,19960802,2308,82.5167,92.2967,2926,    20.1, -1.8131, 34.0590,2, 34.0578,2,  -999.0,9,   347.8,2,    3.22,2,    7.32,2, -999.00,9,    0.49,2,-999.000,9,-999.000,9,-999.000,9,  -999.0,9,  -999.0,9,-999.0000,9,  -999.00, -1.8104
06AQ19960712,ARKXII,37,1,29,166186,2,19960802,2308,82.5167,92.2967,2926,    30.0, -1.8132, 34.0591,2, 34.0570,2,  -999.0,9,   347.4,2,    3.32,2,    7.61,2, -999.00,9,    0.51,2,   6.225,2,   2.907,2,   6.994,2,  2089.5,2,  -999.0,9,   7.7510,2,    25.00, -1.8106
06AQ19960712,ARKXII,37,1,28,166185,2,19960802,2308,82.5167,92.2967,2926,    39.9, -1.8119, 34.0613,2, 34.0594,2,  -999.0,9,   346.8,2,    3.32,2,    7.32,2, -999.00,9,    0.52,2,-999.000,9,-999.000,9,-999.000,9,  2089.5,2,  -999.0,9,   7.7472,2,    25.00, -1.8097
06AQ19960712,ARKXII,37,1,27,166184,2,19960802,2308,82.5167,92.2967,2926,    59.7, -1.7987, 34.0661,2, 34.0640,2,  -999.0,9,   346.7,2,    3.41,2,    7.51,2, -999.00,9,    0.51,2,   6.300,2,   2.876,2,   7.076,2,  2091.5,2,  -999.0,9,   7.7462,2,    25.00, -1.7961
06AQ19960712,ARKXII,37,1,26,166183,2,19960802,2308,82.5167,92.2967,2926,    76.5, -1.3410, 34.2036,2, 34.2923,2,  -999.0,9,   325.6,2,    4.20,2,    9.17,2, -999.00,9,    0.61,2,-999.000,9,-999.000,9,-999.000,9,  2116.7,2,  -999.0,9,   7.7200,2,    25.00, -1.3398
06AQ19960712,ARKXII,37,1,25,166182,2,19960802,2308,82.5167,92.2967,2926,    76.6, -1.0193, 34.2592,2, 34.2406,2,  -999.0,9,   328.6,2,    4.00,2,    8.78,2, -999.00,9,    0.60,2,   5.652,2,   2.803,2,   6.040,2,  2113.9,2,  -999.0,9,   7.7210,2,    25.00, -1.0180
06AQ19960712,ARKXII,37,1,24,166181,2,19960802,2308,82.5167,92.2967,2926,    99.9,  0.7804, 34.5606,2, 34.5284,2,  -999.0,9,   311.7,2,    5.17,2,   10.63,2, -999.00,9,    0.70,2,-999.000,9,-999.000,9,-999.000,9,  2129.8,2,  -999.0,9,   7.7064,2,    25.00,  0.7798
06AQ19960712,ARKXII,37,1,23,166180,2,19960802,2308,82.5167,92.2967,2926,   150.6,  2.3601, 34.8354,2, 34.8351,2,  -999.0,9,   302.3,2,    5.66,2,   11.71,2, -999.00,9,    0.79,2,   5.251,2,   2.375,2,   5.196,2,  2135.9,2,  -999.0,9,   7.7208,2,    25.00,  2.3555
06AQ19960712,ARKXII,37,1,22,166179,2,19960802,2308,82.5167,92.2967,2926,   200.3,  2.6932, 34.9145,2, 34.9138,2,  -999.0,9,   301.6,2,    5.95,2,   12.10,2, -999.00,9,    0.77,2,-999.000,9,-999.000,9,-999.000,9,  2143.0,2,  -999.0,9,   7.7198,2,    25.00,  2.6860
06AQ19960712,ARKXII,37,1,21,166178,2,19960802,2308,82.5167,92.2967,2926,   250.0,  2.7115, 34.9444,2, 34.9452,2,  -999.0,9,   302.4,2,    5.95,2,   12.20,2, -999.00,9,    0.77,2,   5.544,2,   2.384,2,   5.393,2,  -999.0,9,  -999.0,9,-999.0000,9,  -999.00,  2.7009
06AQ19960712,ARKXII,37,1,20,166177,2,19960802,2308,82.5167,92.2967,2926,   286.1,  2.6621, 34.9538,2, 34.9556,2,  -999.0,9,   302.5,2,    5.95,2,   12.49,2, -999.00,9,    0.79,2,-999.000,9,-999.000,9,-999.000,9,  2144.5,2,  -999.0,9,   7.7217,2,    25.00,  2.6497
06AQ19960712,ARKXII,37,1,19,166176,2,19960802,2308,82.5167,92.2967,2926,   300.6,  2.6231, 34.9591,2, 34.9599,2,  -999.0,9,   303.5,2,    6.05,2,   12.29,2, -999.00,9,    0.78,2,   5.001,2,   2.405,2,   5.584,2,  2146.3,2,  -999.0,9,   7.7169,2,    25.00,  2.6099
06AQ19960712,ARKXII,37,1,18,166175,2,19960802,2308,82.5167,92.2967,2926,   400.2,  2.2355, 34.9634,2, 34.9617,2,  -999.0,9,   304.0,2,    6.24,2,   12.29,2, -999.00,9,    0.79,2,-999.000,9,-999.000,9,-999.000,9,  -999.0,9,  -999.0,9,-999.0000,9,  -999.00,  2.2169
06AQ19960712,ARKXII,37,1,17,166174,2,19960802,2308,82.5167,92.2967,2926,   500.3,  1.5901, 34.9384,2, 34.9387,2,  -999.0,9,   303.1,2,    6.54,2,   12.49,2, -999.00,9,    0.81,2,   4.644,2,   2.018,2,   5.110,2,  2152.9,2,  -999.0,9,   7.6928,2,    25.00,  1.5673
06AQ19960712,ARKXII,37,1,16,166173,2,19960802,2308,82.5167,92.2967,2926,   599.4,  1.1317, 34.9263,2, 34.9271,2,  -999.0,9,   302.0,2,    6.73,2,   12.49,2, -999.00,9,    0.81,2,-999.000,9,-999.000,9,-999.000,9,  -999.0,9,  -999.0,9,-999.0000,9,  -999.00,  1.1058
06AQ19960712,ARKXII,37,1,15,166172,2,19960802,2308,82.5167,92.2967,2926,   700.4,  0.7000, 34.9199,2, 34.9200,2,  -999.0,9,   302.2,2,    7.22,2,   12.78,2, -999.00,9,    0.82,2,   3.079,2,   1.362,2,   4.023,2,  2158.7,2,  -999.0,9,   7.6928,2,    25.00,  0.6705
06AQ19960712,ARKXII,37,1,14,166171,2,19960802,2308,82.5167,92.2967,2926,   800.3,  0.2624, 34.9128,2, 34.9120,2,  -999.0,9,   302.8,2,    7.71,2,   13.17,2, -999.00,9,    0.84,2,-999.000,9,-999.000,9,-999.000,9,  -999.0,9,  -999.0,9,-999.0000,9,  -999.00,  0.2299
06AQ19960712,ARKXII,37,1,13,166170,2,19960802,2308,82.5167,92.2967,2926,   999.9, -0.2356, 34.9104,2, 34.9102,2,  -999.0,9,   301.9,2,    8.68,2,   13.56,2, -999.00,9,    0.87,2,   1.901,2,   0.807,2,   3.022,2,  2158.0,2,  -999.0,9,   7.6841,2,    25.00, -0.2748
06AQ19960712,ARKXII,37,1,12,166169,2,19960802,2308,82.5167,92.2967,2926,  1200.4, -0.4921, 34.9110,2, 34.9113,2,  -999.0,9,   300.5,2,    9.76,2,   14.05,2, -999.00,9,    0.91,2,-999.000,9,-999.000,9,-999.000,9,  -999.0,9,  -999.0,9,-999.0000,9,  -999.00, -0.5389
06AQ19960712,ARKXII,37,1,11,166168,2,19960802,2308,82.5167,92.2967,2926,  1399.5, -0.6182, 34.9126,2, 34.9135,2,  -999.0,9,   300.2,2,   10.34,2,   14.15,2, -999.00,9,    0.91,2,   1.032,2,   0.473,2,   2.094,2,  -999.0,9,  -999.0,9,-999.0000,9,  -999.00, -0.6755
06AQ19960712,ARKXII,37,1,10,166167,2,19960802,2308,82.5167,92.2967,2926,  1599.7, -0.6939, 34.9160,2, 34.9154,2,  -999.0,9,   299.6,2,   10.73,2,   14.44,2, -999.00,9,    0.92,2,-999.000,9,-999.000,9,-999.000,9,  2159.4,2,  -999.0,9,   7.6851,2,    25.00, -0.7610
06AQ19960712,ARKXII,37,1,9,166166,2,19960802,2308,82.5167,92.2967,2926,  1799.8, -0.7370, 34.9172,2, 34.9182,2,  -999.0,9,   299.5,2,   10.93,2,   14.34,2, -999.00,9,    0.92,2,-999.000,9,   0.364,2,   1.634,2,  -999.0,9,  -999.0,9,-999.0000,9,  -999.00, -0.8154
06AQ19960712,ARKXII,37,1,8,166165,2,19960802,2308,82.5167,92.2967,2926,  2000.4, -0.7673, 34.9197,2, 34.9199,2,  -999.0,9,   299.3,2,   11.12,2,   14.34,2, -999.00,9,    0.92,2,-999.000,9,-999.000,9,-999.000,9,  -999.0,9,  -999.0,9,-999.0000,9,  -999.00, -0.8586
06AQ19960712,ARKXII,37,1,7,166164,2,19960802,2308,82.5167,92.2967,2926,  2200.1, -0.7851, 34.9214,2, 34.9215,2,  -999.0,9,   299.2,2,   11.22,2,   14.44,2, -999.00,9,    0.91,2,   0.563,2,   0.260,2,   1.243,2,  2151.5,2,  -999.0,9,   7.6832,2,    25.00, -0.8896
06AQ19960712,ARKXII,37,1,6,166163,2,19960802,2308,82.5167,92.2967,2926,  2400.0, -0.7916, 34.9248,2, 34.9256,2,  -999.0,9,   299.3,2,   11.22,2,   14.44,2, -999.00,9,    0.93,2,-999.000,9,-999.000,9,-999.000,9,  -999.0,9,  -999.0,9,-999.0000,9,  -999.00, -0.9094
06AQ19960712,ARKXII,37,1,5,166162,2,19960802,2308,82.5167,92.2967,2926,  2599.9, -0.7894, 34.9292,2, 34.9283,2,  -999.0,9,   299.1,2,   11.41,2,   14.34,2, -999.00,9,    0.91,2,   0.418,2,   0.203,2,   0.875,2,  2153.8,2,  -999.0,9,   7.6889,2,    25.00, -0.9220
06AQ19960712,ARKXII,37,1,4,166161,2,19960802,2308,82.5167,92.2967,2926,  2799.8, -0.7840, 34.9354,2, 34.9344,2,  -999.0,9,   298.1,2,   11.51,2,   14.34,2, -999.00,9,    0.92,2,-999.000,9,-999.000,9,-999.000,9,  2151.5,2,  -999.0,9,   7.6995,2,    25.00, -0.9313
06AQ19960712,ARKXII,37,1,3,166160,2,19960802,2308,82.5167,92.2967,2926,  2871.6, -0.7725, 34.9396,2, 34.9389,2,  -999.0,9,   295.6,2,   11.90,2,   14.34,2, -999.00,9,    0.94,2,   0.146,2,   0.063,2,   0.371,2,  2151.9,2,  -999.0,9,   7.6986,2,    25.00, -0.9262
06AQ19960712,ARKXII,37,1,2,166159,2,19960802,2308,82.5167,92.2967,2926,  2891.6, -0.7680, 34.9390,2,-999.0000,9,  -999.0,9,   295.4,2, -999.00,9, -999.00,9, -999.00,9, -999.00,9,-999.000,9,-999.000,9,-999.000,9,  -999.0,9,  -999.0,9,-999.0000,9,  -999.00, -0.9229
06AQ19960712,ARKXII,37,1,1,166158,2,19960802,2308,82.5167,92.2967,2926,  2891.6, -0.7693, 34.9398,2, 34.9395,2,  -999.0,9,   295.6,2,   12.00,2,   14.54,2, -999.00,9,    0.93,2,   0.107,2,   0.021,2,   0.266,2,  2153.6,2,  -999.0,9,   7.6976,2,    25.00, -0.9248
06AQ19960712,ARKXII,38,2,31,166219,2,19960803,0618,82.6750,92.5167,3082,    10.0, -1.8022, 34.0594,2, 34.0680,2,  -999.0,9,   345.6,2,    3.22,2,    7.61,2, -999.00,9,    0.58,2,   5.944,2,   2.887,2,   6.722,2,  2089.5,2,  -999.0,9,   7.7520,2,    25.00, -1.7992
06AQ19960712,ARKXII,38,2,30,166218,2,19960803,0618,82.6750,92.5167,3082,    19.8, -1.8186, 34.0837,2, 34.0836,2,  -999.0,9,   345.0,2,    3.22,2,    7.71,2, -999.00,9,    0.59,2,-999.000,9,-999.000,9,-999.000,9,  2094.2,2,  -999.0,9,   7.7510,2,    25.00, -1.8154
06AQ19960712,ARKXII,38,2,29,166217,2,19960803,0618,82.6750,92.5167,3082,    30.4, -1.8184, 34.0851,2, 34.0848,2,  -999.0,9,   344.9,2,    3.22,2,    7.61,2, -999.00,9,    0.59,2,   6.118,2,   3.109,2,   7.044,2,  2089.7,2,  -999.0,9,   7.7510,2,    25.00, -1.8156
06AQ19960712,ARKXII,38,2,28,166216,2,19960803,0618,82.6750,92.5167,3082,    40.2, -1.8169, 34.0867,2, 34.0862,2,  -999.0,9,   344.6,2,    3.22,2,    7.80,2, -999.00,9,    0.59,2,   5.846,2,   2.880,2,   6.801,2,  2090.3,2,  -999.0,9,   7.7452,2,    25.00, -1.8147
06AQ19960712,ARKXII,38,2,27,166215,2,19960803,0618,82.6750,92.5167,3082,    59.8, -1.7970, 34.0984,2, 34.0965,2,  -999.0,9,   344.0,2,    3.22,2,    8.10,2, -999.00,9,    0.59,2,   5.985,2,   2.846,2,   6.887,2,  2092.6,2,  -999.0,9,   7.7520,2,    25.00, -1.7951
06AQ19960712,ARKXII,38,2,26,166214,2,19960803,0618,82.6750,92.5167,3082,    70.0, -1.7108, 34.1288,2, 34.1143,2,  -999.0,9,   343.1,2,    3.32,2,    8.00,2, -999.00,9,    0.60,2,-999.000,9,-999.000,9,-999.000,9,  2095.0,2,  -999.0,9,   7.7423,2,    25.00, -1.7084
06AQ19960712,ARKXII,38,2,25,166213,2,19960803,0618,82.6750,92.5167,3082,    83.2, -1.2695, 34.2553,2, 34.2606,2,  -999.0,9,   328.5,2,    4.00,2,    9.27,2, -999.00,9,    0.66,2,   5.828,2,   2.711,2,   5.771,2,  2113.9,2,  -999.0,9,   7.7248,2,    25.00, -1.2680
06AQ19960712,ARKXII,38,2,24,166212,2,19960803,0618,82.6750,92.5167,3082,   100.1,  0.5803, 34.4941,2, 34.4769,2,  -999.0,9,   313.6,2,    4.88,2,   10.73,2, -999.00,9,    0.73,2,-999.000,9,-999.000,9,-999.000,9,  2129.1,2,  -999.0,9,   7.7064,2,    25.00,  0.5799
06AQ19960712,ARKXII,38,2,23,166211,2,19960803,0618,82.6750,92.5167,3082,   149.9,  2.2083, 34.8076,2, 34.7995,2,  -999.0,9,   302.1,2,    5.46,2,   11.90,2, -999.00,9,    0.79,2,   5.145,2,   2.474,2,   5.524,2,  2141.5,2,  -999.0,9,   7.7198,2,    25.00,  2.2047
06AQ19960712,ARKXII,38,2,22,166210,2,19960803,0618,82.6750,92.5167,3082,   200.8,  2.5595, 34.9035,2, 34.8926,2,  -999.0,9,   301.9,2,    5.76,2,   12.29,2, -999.00,9,    0.81,2,-999.000,9,-999.000,9,-999.000,9,  2142.6,2,  -999.0,9,   7.7227,2,    25.00,  2.5522
06AQ19960712,ARKXII,38,2,21,166209,2,19960803,0618,82.6750,92.5167,3082,   249.9,  2.7002, 34.9443,2, 34.9456,2,  -999.0,9,   302.7,2,    5.85,2, -999.00,9, -999.00,9,    0.80,2,   4.671,2,   2.342,2,   5.525,2,  -999.0,9,  -999.0,9,-999.0000,9,  -999.00,  2.6899
06AQ19960712,ARKXII,38,2,20,166208,2,19960803,0618,82.6750,92.5167,3082,   259.8,  2.6760, 34.9458,2, 34.9458,2,  -999.0,9,   302.0,2,    5.85,2,   12.39,2, -999.00,9,    0.84,2,   4.986,2,   2.453,2,   5.685,2,  2147.0,2,  -999.0,9,   7.7227,2,    25.00,  2.6643
06AQ19960712,ARKXII,38,2,19,166207,2,19960803,0618,82.6750,92.5167,3082,   300.5,  2.6219, 34.9590,2, 34.9613,2,  -999.0,9,   302.7,2,    5.85,2,   12.59,2, -999.00,9,    0.84,2,   4.836,2,   2.310,2,   5.703,2,  2141.4,2,  -999.0,9,   7.7237,2,    25.00,  2.6079
06AQ19960712,ARKXII,38,2,18,166206,2,19960803,0618,82.6750,92.5167,3082,   400.2,  2.1592, 34.9615,2, 34.9615,2,  -999.0,9,   304.3,2,    6.05,2,   12.68,2, -999.00,9,    0.85,2,-999.000,9,-999.000,9,-999.000,9,  -999.0,9,  -999.0,9,-999.0000,9,  -999.00,  2.1411
06AQ19960712,ARKXII,38,2,17,166205,2,19960803,0618,82.6750,92.5167,3082,   499.7,  1.5820, 34.9390,2, 34.9397,2,  -999.0,9,   303.5,2,    6.44,2,   12.88,2, -999.00,9,    0.86,2,   4.374,2,   2.010,2,   5.209,2,  2148.3,2,  -999.0,9,   7.7044,2,    25.00,  1.5593
06AQ19960712,ARKXII,38,2,16,166204,2,19960803,0618,82.6750,92.5167,3082,   600.1,  1.0873, 34.9254,2, 34.9251,2,  -999.0,9,   302.8,2,    6.73,2,   12.98,2, -999.00,9,    0.87,2,-999.000,9,-999.000,9,-999.000,9,  -999.0,9,  -999.0,9,-999.0000,9,  -999.00,  1.0609
06AQ19960712,ARKXII,38,2,15,166203,2,19960803,0618,82.6750,92.5167,3082,   699.7,  0.6350, 34.9170,2, 34.9175,2,  -999.0,9,   303.7,2,    7.12,2,   13.17,2, -999.00,9,    0.89,2,   3.117,2,   1.460,2,   4.301,2,  2153.9,2,  -999.0,9,   7.6947,2,    25.00,  0.6059
06AQ19960712,ARKXII,38,2,14,166202,2,19960803,0618,82.6750,92.5167,3082,   799.9,  0.1788, 34.9106,2, 34.9096,2,  -999.0,9,   302.9,2,    7.71,2,   13.56,2, -999.00,9,    0.90,2,-999.000,9,-999.000,9,-999.000,9,  -999.0,9,  -999.0,9,-999.0000,9,  -999.00,  0.1475
06AQ19960712,ARKXII,38,2,13,166201,2,19960803,0618,82.6750,92.5167,3082,  1000.5, -0.2840, 34.9107,2, 34.9106,2,  -999.0,9,   302.2,2,    8.59,2,   14.05,2, -999.00,9,    0.95,2,   1.725,2,   0.755,2,   3.143,2,  2156.3,2,  -999.0,9,   7.6860,2,    25.00, -0.3224
06AQ19960712,ARKXII,38,2,12,166200,2,19960803,0618,82.6750,92.5167,3082,  1199.6, -0.5077, 34.9123,2, 34.9121,2,  -999.0,9,   301.2,2,    9.46,2,   14.05,2, -999.00,9,    0.96,2,   1.197,2,   0.577,2,   2.342,2,  -999.0,9,  -999.0,9,-999.0000,9,  -999.00, -0.5548
06AQ19960712,ARKXII,38,2,11,166199,2,19960803,0618,82.6750,92.5167,3082,  1400.2, -0.6326, 34.9147,2, 34.9145,2,  -999.0,9,   301.4,2,   10.15,2,   14.44,2, -999.00,9,    0.97,2,   1.016,2,   0.436,2,   1.992,2,  -999.0,9,  -999.0,9,-999.0000,9,  -999.00, -0.6893
06AQ19960712,ARKXII,38,2,10,166198,2,19960803,0618,82.6750,92.5167,3082,  1600.1, -0.7062, 34.9169,2, 34.9168,2,  -999.0,9,   301.2,2,   10.54,2,   14.44,2, -999.00,9,    0.98,2,-999.000,9,-999.000,9,-999.000,9,  2156.2,2,  -999.0,9,   7.6880,2,    25.00, -0.7738
06AQ19960712,ARKXII,38,2,9,166197,2,19960803,0618,82.6750,92.5167,3082,  1799.9, -0.7502, 34.9184,2, 34.9188,2,  -999.0,9,   300.9,2,   10.83,2,   14.44,2, -999.00,9,    0.98,2,   0.599,2,   0.281,2,   1.663,2,  -999.0,9,  -999.0,9,-999.0000,9,  -999.00, -0.8292
06AQ19960712,ARKXII,38,2,8,166196,2,19960803,0618,82.6750,92.5167,3082,  2000.0, -0.7799, 34.9205,2, 34.9209,2,  -999.0,9,   301.1,2,   11.02,2,   14.73,2, -999.00,9,    0.99,2,-999.000,9,-999.000,9,-999.000,9,  -999.0,9,  -999.0,9,-999.0000,9,  -999.00, -0.8704
06AQ19960712,ARKXII,38,2,7,166195,2,19960803,0618,82.6750,92.5167,3082,  2200.3, -0.7952, 34.9229,2, 34.9235,2,  -999.0,9,   300.7,2,   11.02,2,   14.54,2, -999.00,9,    0.98,2,   0.470,2,   0.146,2,   1.091,2,  2155.5,2,  -999.0,9,   7.6938,2,    25.00, -0.8994
06AQ19960712,ARKXII,38,2,6,166194,2,19960803,0618,82.6750,92.5167,3082,  2400.1, -0.7989, 34.9255,2, 34.9260,2,  -999.0,9,   300.7,2,   11.22,2,   14.24,2, -999.00,9,    1.00,2,-999.000,9,-999.000,9,-999.000,9,  -999.0,9,  -999.0,9,-999.0000,9,  -999.00, -0.9162
06AQ19960712,ARKXII,38,2,5,166193,2,19960803,0618,82.6750,92.5167,3082,  2600.1, -0.7934, 34.9289,2, 34.9293,2,  -999.0,9,   300.4,2,   11.22,2,   14.63,2, -999.00,9,    0.97,2,-999.000,9,   0.115,2,   0.796,2,  -999.0,9,  -999.0,9,-999.0000,9,  -999.00, -0.9259
06AQ19960712,ARKXII,38,2,4,166192,2,19960803,0618,82.6750,92.5167,3082,  2800.2, -0.7842, 34.9331,2, 34.9328,2,  -999.0,9,   300.2,2,   11.32,2,   14.44,2, -999.00,9,    0.97,2,-999.000,9,-999.000,9,-999.000,9,  -999.0,9,  -999.0,9,-999.0000,9,  -999.00, -0.9323
06AQ19960712,ARKXII,38,2,3,166191,2,19960803,0618,82.6750,92.5167,3082,  2999.9, -0.7712, 34.9388,2, 34.9384,2,  -999.0,9,   298.4,2,   11.61,2,   14.63,2, -999.00,9,    0.97,2,   0.152,2,   0.060,2,   0.421,2,  2152.4,2,  -999.0,9,   7.7034,2,    25.00, -0.9354
06AQ19960712,ARKXII,38,2,2,166190,2,19960803,0618,82.6750,92.5167,3082,  3036.5, -0.7604, 34.9416,2, 34.9425,2,  -999.0,9,   296.8,2,   11.90,2,   14.73,2, -999.00,9,    0.97,2,-999.000,9,-999.000,9,-999.000,9,  2155.2,2,  -999.0,9,   7.7034,2,    25.00, -0.9277
06AQ19960712,ARKXII,38,2,1,166189,2,19960803,0618,82.6750,92.5167,3082,  3059.5, -0.7573, 34.9398,2, 34.9421,2,  -999.0,9,  -999.0,9,   11.90,2,   14.83,2, -999.00,9,    0.97,2,-999.000,9,   0.066,2,   0.206,2,  2154.5,2,  -999.0,9,   7.7005,2,    25.00, -0.9266