BOTTLE,20100322CCHDOSIODM
EXPOCODE,SECT_ID,STNNBR,CASTNO,SAMPNO,BTLNBR,BTLNBR_FLAG_W,DATE,TIME,LATITUDE,LONGITUDE,DEPTH,CTDPRS,CTDTMP,CTDSAL,CTDSAL_FLAG_W,SALNTY,SALNTY_FLAG_W,CTDOXY,CTDOXY_FLAG_W,OXYGEN,OXYGEN_FLAG_W,SILCAT,SILCAT_FLAG_W,NITRAT,NITRAT_FLAG_W,NITRIT,NITRIT_FLAG_W,PHSPHT,PHSPHT_FLAG_W,CFC-11,CFC-11_FLAG_W,CFC-12,CFC-12_FLAG_W,CCL4,CCL4_FLAG_W,TCARBN,TCARBN_FLAG_W,ALKALI,ALKALI_FLAG_W,PH_SWS,PH_SWS_FLAG_W,PH_TMP,THETA
,,,,,,,,,,,METERS,DBAR,ITS-90,PSS-78,,PSS-78,,UMOL/KG,,UMOL/KG,,UMOL/KG,,UMOL/KG,,UMOL/KG,,UMOL/KG,,PMOL/KG,,PMOL/KG,,PMOL/KG,,UMOL/KG,,UMOL/KG,,,,DEG C,DEG C
06AQ19960712,ARKXII,11,1,26,165539,2,19960726,1849,81.3950,73.3133,557,    10.0, -1.8073, 33.6377,2,-999.0000,9,  -999.0,9,  -999.0,9, -999.00,9, -999.00,9, -999.00,9, -999.00,9,-999.000,9,-999.000,9,-999.000,9,  -999.0,9,  -999.0,9,-999.0000,9,  -999.00,-999.0000
06AQ19960712,ARKXII,11,1,25,165538,2,19960726,1849,81.3950,73.3133,557,    10.0, -1.8072, 33.6356,2,-999.0000,9,  -999.0,9,  -999.0,9, -999.00,9, -999.00,9, -999.00,9, -999.00,9,-999.000,9,-999.000,9,-999.000,9,  -999.0,9,  -999.0,9,-999.0000,9,  -999.00,-999.0000
06AQ19960712,ARKXII,11,1,24,165537,2,19960726,1849,81.3950,73.3133,557,    10.1, -1.8068, 33.6365,2,-999.0000,9,  -999.0,9,   356.0,2,    3.51,2,    4.20,2, -999.00,9,    0.43,2,-999.000,9,-999.000,9,-999.000,9,  -999.0,9,  -999.0,9,-999.0000,9,  -999.00,-999.0000
06AQ19960712,ARKXII,11,1,23,165536,2,19960726,1849,81.3950,73.3133,557,    20.1, -1.8069, 33.6463,2, 33.6631,2,  -999.0,9,   355.3,2,    3.51,2,    4.29,2, -999.00,9,    0.43,2,   6.706,2,   3.198,2,   8.400,2,  -999.0,9,  -999.0,9,-999.0000,9,  -999.00, -1.8034
06AQ19960712,ARKXII,11,1,22,165535,2,19960726,1849,81.3950,73.3133,557,    30.2, -1.8047, 33.6678,2, 33.6664,2,  -999.0,9,   354.9,2,    3.51,2,    4.29,2, -999.00,9,    0.43,2,-999.000,9,   3.187,2,   8.814,2,  -999.0,9,  -999.0,9,-999.0000,9,  -999.00, -1.8015
06AQ19960712,ARKXII,11,1,21,165534,2,19960726,1849,81.3950,73.3133,557,    40.4, -1.8004, 33.7214,2, 33.8052,2,  -999.0,9,   350.3,2,    3.41,2,    4.59,2, -999.00,9,    0.45,2,   6.940,2,   3.397,2,   9.023,2,  -999.0,9,  -999.0,9,-999.0000,9,  -999.00, -1.7977
06AQ19960712,ARKXII,11,1,20,165533,2,19960726,1849,81.3950,73.3133,557,    50.1, -1.8157, 33.8877,2, 33.9306,2,  -999.0,9,   345.3,2,    3.32,2,    4.88,2, -999.00,9,    0.48,2,   6.911,2,   3.122,2,   8.483,2,  -999.0,9,  -999.0,9,-999.0000,9,  -999.00, -1.8129
06AQ19960712,ARKXII,11,1,19,165532,2,19960726,1849,81.3950,73.3133,557,    60.1, -1.8220, 33.9751,2, 33.9751,2,  -999.0,9,   343.8,2,    3.41,2,    5.27,2, -999.00,9,    0.49,2,   6.705,2,   3.241,2,   8.444,2,  -999.0,9,  -999.0,9,-999.0000,9,  -999.00, -1.8201
06AQ19960712,ARKXII,11,1,18,165531,2,19960726,1849,81.3950,73.3133,557,    79.9, -1.5754, 34.2951,2, 34.2720,2,  -999.0,9,   330.9,2,    3.61,2,    7.32,2, -999.00,9,    0.58,2,   6.334,2,   3.078,2,   8.082,2,  -999.0,9,  -999.0,9,-999.0000,9,  -999.00, -1.6067
06AQ19960712,ARKXII,11,1,17,165530,2,19960726,1849,81.3950,73.3133,557,   100.0, -0.8566, 34.5293,2, 34.5288,2,  -999.0,9,   322.2,2,    4.10,2,    8.98,2, -999.00,9,    0.66,2,   6.165,2,   2.898,2,   7.465,2,  -999.0,9,  -999.0,9,-999.0000,9,  -999.00, -0.8708
06AQ19960712,ARKXII,11,1,16,165529,2,19960726,1849,81.3950,73.3133,557,   124.9,  0.2365, 34.6952,2,-999.0000,9,  -999.0,9,  -999.0,9, -999.00,9, -999.00,9, -999.00,9, -999.00,9,-999.000,9,-999.000,9,-999.000,9,  -999.0,9,  -999.0,9,-999.0000,9,  -999.00,-999.0000
06AQ19960712,ARKXII,11,1,15,165528,2,19960726,1849,81.3950,73.3133,557,   150.1,  0.6806, 34.7659,2, 34.7692,2,  -999.0,9,   310.0,2,    4.98,2,   11.12,2, -999.00,9,    0.74,2,-999.000,9,   2.711,2,   6.790,2,  -999.0,9,  -999.0,9,-999.0000,9,  -999.00,  0.6776
06AQ19960712,ARKXII,11,1,14,165527,2,19960726,1849,81.3950,73.3133,557,   200.1,  1.0198, 34.8263,2, 34.8215,2,  -999.0,9,   308.6,2,    5.17,2,   11.51,2, -999.00,9,    0.77,2,   5.650,2,   2.643,2,   6.487,2,  -999.0,9,  -999.0,9,-999.0000,9,  -999.00,  1.0008
06AQ19960712,ARKXII,11,1,12,165525,2,19960726,1849,81.3950,73.3133,557,   250.2,  0.7771, 34.8317,2,-999.0000,9,  -999.0,9,  -999.0,9, -999.00,9, -999.00,9, -999.00,9, -999.00,9,-999.000,9,-999.000,9,-999.000,9,  -999.0,9,  -999.0,9,-999.0000,9,  -999.00,-999.0000
06AQ19960712,ARKXII,11,1,13,165526,2,19960726,1849,81.3950,73.3133,557,   250.2,  0.7726, 34.8322,2,-999.0000,9,  -999.0,9,  -999.0,9, -999.00,9, -999.00,9, -999.00,9, -999.00,9,-999.000,9,-999.000,9,-999.000,9,  -999.0,9,  -999.0,9,-999.0000,9,  -999.00,-999.0000
06AQ19960712,ARKXII,11,1,11,165524,2,19960726,1849,81.3950,73.3133,557,   250.3,  0.7647, 34.8333,2, 34.8379,2,  -999.0,9,   308.8,2,    5.07,2,   10.83,2, -999.00,9,    0.75,2,   5.546,2,   2.575,2,   6.401,2,  -999.0,9,  -999.0,9,-999.0000,9,  -999.00,  0.7589
06AQ19960712,ARKXII,11,1,10,165523,2,19960726,1849,81.3950,73.3133,557,   300.5,  0.7325, 34.8568,2, 34.8519,2,  -999.0,9,   308.0,2,    5.95,2,   11.61,2, -999.00,9,    0.81,2,   5.507,2,   2.506,2,   6.551,2,  -999.0,9,  -999.0,9,-999.0000,9,  -999.00,  0.7556
06AQ19960712,ARKXII,11,1,9,165522,2,19960726,1849,81.3950,73.3133,557,   350.4,  0.2257, 34.8493,2, 34.8510,2,  -999.0,9,   308.6,2,    5.95,2,   11.61,2, -999.00,9,    0.80,2,-999.000,9,   2.488,2,   6.537,2,  -999.0,9,  -999.0,9,-999.0000,9,  -999.00,  0.2317
06AQ19960712,ARKXII,11,1,8,165521,2,19960726,1849,81.3950,73.3133,557,   400.5, -0.3457, 34.8469,2, 34.8513,2,  -999.0,9,   310.8,2,    6.34,2,   11.02,2, -999.00,9,    0.79,2,   6.076,2,   2.909,2,   7.397,2,  -999.0,9,  -999.0,9,-999.0000,9,  -999.00, -0.3595
06AQ19960712,ARKXII,11,1,7,165520,2,19960726,1849,81.3950,73.3133,557,   450.6, -0.3027, 34.8871,2, 34.8934,2,  -999.0,9,   304.1,2,    7.71,2,   12.10,2, -999.00,9,    0.87,2,   6.593,2,   2.942,2,   7.212,2,  -999.0,9,  -999.0,9,-999.0000,9,  -999.00, -0.3167
06AQ19960712,ARKXII,11,1,6,165519,2,19960726,1849,81.3950,73.3133,557,   500.7, -0.3082, 34.9014,2, 34.9013,2,  -999.0,9,   301.2,2,    8.39,2,   12.49,2, -999.00,9,    0.90,2,   6.316,2,   3.023,2,   7.099,2,  -999.0,9,  -999.0,9,-999.0000,9,  -999.00, -0.3228
06AQ19960712,ARKXII,11,1,5,165518,2,19960726,1849,81.3950,73.3133,557,   527.6, -0.3067, 34.9022,2, 34.8998,2,  -999.0,9,   301.2,2,    8.49,2,   12.59,2, -999.00,9,    0.91,2,   6.468,2,   3.092,2,   6.957,2,  -999.0,9,  -999.0,9,-999.0000,9,  -999.00, -0.3230
06AQ19960712,ARKXII,11,1,4,165517,2,19960726,1849,81.3950,73.3133,557,   537.3, -0.3062, 34.9012,2, 34.8975,2,  -999.0,9,   301.2,2,    8.49,2,   12.49,2, -999.00,9,    0.90,2,-999.000,9,   3.162,2,   7.624,2,  -999.0,9,  -999.0,9,-999.0000,9,  -999.00, -0.3224
06AQ19960712,ARKXII,11,1,1,165514,2,19960726,1849,81.3950,73.3133,557,   547.2, -0.3054, 34.9016,2, 34.9005,2,  -999.0,9,   301.3,2,    8.49,2,   12.49,2, -999.00,9,    0.92,2,   6.420,2,   3.003,2,   7.491,2,  -999.0,9,  -999.0,9,-999.0000,9,  -999.00, -0.3228
06AQ19960712,ARKXII,11,1,3,165516,2,19960726,1849,81.3950,73.3133,557,   547.2, -0.3051, 34.9015,2,-999.0000,9,  -999.0,9,  -999.0,9, -999.00,9, -999.00,9, -999.00,9, -999.00,9,-999.000,9,-999.000,9,-999.000,9,  -999.0,9,  -999.0,9,-999.0000,9,  -999.00,-999.0000
06AQ19960712,ARKXII,11,1,2,165515,2,19960726,1849,81.3950,73.3133,557,   547.2, -0.3051, 34.9018,2,-999.0000,9,  -999.0,9,  -999.0,9, -999.00,9, -999.00,9, -999.00,9, -999.00,9,-999.000,9,-999.000,9,-999.000,9,  -999.0,9,  -999.0,9,-999.0000,9,  -999.00,-999.0000
06AQ19960712,ARKXII,12,1,36,165575,2,19960727,0331,81.4367,73.7917,526,     9.8, -1.8042, 33.6805,2,-999.0000,9,  -999.0,9,  -999.0,9, -999.00,9, -999.00,9, -999.00,9, -999.00,9,-999.000,9,-999.000,9,-999.000,9,  -999.0,9,  -999.0,9,-999.0000,9,  -999.00,-999.0000
06AQ19960712,ARKXII,12,1,35,165574,2,19960727,0331,81.4367,73.7917,526,     9.8, -1.8045, 33.6833,2, 33.6817,2,  -999.0,9,   356.7,2,    3.41,2,    3.90,2, -999.00,9,    0.32,2,   7.466,2,   3.340,2,   9.011,2,  2119.3,2,  -999.0,9,   7.7183,2,    25.00, -1.8012
06AQ19960712,ARKXII,12,1,33,165572,2,19960727,0331,81.4367,73.7917,526,    19.7, -1.8004, 33.7149,2, 33.7137,2,  -999.0,9,   355.4,2,    3.51,2,    3.90,2, -999.00,9,    0.33,2,   6.703,2,   3.208,2,   8.248,2,  2129.4,2,  -999.0,9,   7.7163,2,    25.00, -1.7974
06AQ19960712,ARKXII,12,1,34,165573,2,19960727,0331,81.4367,73.7917,526,    19.7, -1.8013, 33.7098,2,-999.0000,9,  -999.0,9,  -999.0,9, -999.00,9, -999.00,9, -999.00,9, -999.00,9,-999.000,9,-999.000,9,-999.000,9,  -999.0,9,  -999.0,9,-999.0000,9,  -999.00,-999.0000
06AQ19960712,ARKXII,12,1,32,165571,2,19960727,0331,81.4367,73.7917,526,    29.8, -1.7958, 33.7439,2,-999.0000,9,  -999.0,9,  -999.0,9, -999.00,9, -999.00,9, -999.00,9, -999.00,9,-999.000,9,-999.000,9,-999.000,9,  -999.0,9,  -999.0,9,-999.0000,9,  -999.00,-999.0000
06AQ19960712,ARKXII,12,1,31,165570,2,19960727,0331,81.4367,73.7917,526,    29.8, -1.7962, 33.7489,2, 33.7582,2,  -999.0,9,   354.2,2,    3.32,2,    4.00,2, -999.00,9,    0.34,2,   6.656,2,   3.113,2,   8.475,2,  2125.1,2,  -999.0,9,   7.7076,2,    25.00, -1.7935
06AQ19960712,ARKXII,12,1,30,165569,2,19960727,0331,81.4367,73.7917,526,    39.6, -1.7992, 33.7772,2,-999.0000,9,  -999.0,9,  -999.0,9, -999.00,9, -999.00,9, -999.00,9, -999.00,9,-999.000,9,-999.000,9,-999.000,9,  -999.0,9,  -999.0,9,-999.0000,9,  -999.00,-999.0000
06AQ19960712,ARKXII,12,1,29,165568,2,19960727,0331,81.4367,73.7917,526,    39.6, -1.7989, 33.7757,2, 33.7664,2,  -999.0,9,   353.3,2,    3.41,2,    4.20,2, -999.00,9,    0.35,2,   7.066,2,   3.348,2,   8.536,2,  2128.6,2,  -999.0,9,   7.7115,2,    25.00, -1.7967
06AQ19960712,ARKXII,12,1,28,165567,2,19960727,0331,81.4367,73.7917,526,    49.3, -1.8028, 33.8206,2, 33.8964,2,  -999.0,9,   347.4,2,    3.41,2,    4.88,2, -999.00,9,    0.38,2,   6.968,2,   3.231,2,   8.289,2,  2134.1,2,  -999.0,9,   7.6912,2,    25.00, -1.8009
06AQ19960712,ARKXII,12,1,26,165565,2,19960727,0331,81.4367,73.7917,526,    60.0, -1.8260, 33.9699,2, 33.9752,2,  -999.0,9,   344.3,2,    3.51,2,    5.37,2, -999.00,9,    0.42,2,   6.537,2,   2.928,2,   8.203,2,  2139.8,2,  -999.0,9,   7.6902,2,    25.00, -1.8231
06AQ19960712,ARKXII,12,1,27,165566,2,19960727,0331,81.4367,73.7917,526,    60.0, -1.8280, 33.9611,2,-999.0000,9,  -999.0,9,  -999.0,9, -999.00,9, -999.00,9, -999.00,9, -999.00,9,-999.000,9,-999.000,9,-999.000,9,  -999.0,9,  -999.0,9,-999.0000,9,  -999.00,-999.0000
06AQ19960712,ARKXII,12,1,25,165564,2,19960727,0331,81.4367,73.7917,526,    77.4, -1.5095, 34.3480,2,-999.0000,9,  -999.0,9,  -999.0,9, -999.00,9, -999.00,9, -999.00,9, -999.00,9,-999.000,9,-999.000,9,-999.000,9,  -999.0,9,  -999.0,9,-999.0000,9,  -999.00,-999.0000
06AQ19960712,ARKXII,12,1,24,165563,2,19960727,0331,81.4367,73.7917,526,    80.4, -1.3818, 34.4079,2, 34.3931,2,  -999.0,9,   327.0,2,    3.90,2,    8.59,2, -999.00,9,    0.57,2,   6.538,2,   3.247,2,   7.734,2,  2141.0,2,  -999.0,9,   7.6968,2,    25.00, -1.3779
06AQ19960712,ARKXII,12,1,22,165561,2,19960727,0331,81.4367,73.7917,526,   100.2,  0.0780, 34.6445,2, 34.6157,2,  -999.0,9,   320.3,2,    4.59,2,    9.85,2, -999.00,9,    0.62,2,   5.768,2,   2.758,2,   7.057,2,  2140.7,2,  -999.0,9,   7.7045,2,    25.00,  0.1303
06AQ19960712,ARKXII,12,1,23,165562,2,19960727,0331,81.4367,73.7917,526,   100.2, -0.1947, 34.7023,2,-999.0000,9,  -999.0,9,  -999.0,9, -999.00,9, -999.00,9, -999.00,9, -999.00,9,-999.000,9,-999.000,9,-999.000,9,  -999.0,9,  -999.0,9,-999.0000,9,  -999.00,-999.0000
06AQ19960712,ARKXII,12,1,21,165560,2,19960727,0331,81.4367,73.7917,526,   124.3,  0.6655, 34.7304,2, 34.7345,2,  -999.0,9,  -999.0,9,    4.98,2, -999.00,9, -999.00,9,    0.69,2,   5.660,2,   2.658,2,   6.436,2,  2144.8,2,  -999.0,9,   7.7112,2,    25.00,  0.6508
06AQ19960712,ARKXII,12,1,19,165558,2,19960727,0331,81.4367,73.7917,526,   150.2,  0.9849, 34.7996,2, 34.7971,2,  -999.0,9,   308.5,2,    5.17,2, -999.00,9, -999.00,9,    0.72,2,   5.333,2,   2.661,2,   5.422,2,  2145.2,2,  -999.0,9,   7.7131,2,    25.00,  0.9922
06AQ19960712,ARKXII,12,1,20,165559,2,19960727,0331,81.4367,73.7917,526,   150.2,  1.0343, 34.8014,2,-999.0000,9,  -999.0,9,  -999.0,9, -999.00,9, -999.00,9, -999.00,9, -999.00,9,-999.000,9,-999.000,9,-999.000,9,  -999.0,9,  -999.0,9,-999.0000,9,  -999.00,-999.0000
06AQ19960712,ARKXII,12,1,18,165557,2,19960727,0331,81.4367,73.7917,526,   200.6, -0.6438, 34.7453,2,-999.0000,9,  -999.0,9,  -999.0,9, -999.00,9, -999.00,9, -999.00,9, -999.00,9,-999.000,9,-999.000,9,-999.000,9,  -999.0,9,  -999.0,9,-999.0000,9,  -999.00,-999.0000
06AQ19960712,ARKXII,12,1,17,165556,2,19960727,0331,81.4367,73.7917,526,   200.7, -0.5959, 34.7360,2, 34.7392,2,  -999.0,9,   319.5,2,    5.17,2, -999.00,9, -999.00,9,    0.65,2,   5.615,2,   2.682,2,   7.011,2,  2148.9,2,  -999.0,9,   7.7044,2,    25.00, -0.6174
06AQ19960712,ARKXII,12,1,15,165554,2,19960727,0331,81.4367,73.7917,526,   250.1, -0.6111, 34.7684,2, 34.7647,2,  -999.0,9,   319.9,2,    5.07,2, -999.00,9, -999.00,9,    0.68,2,   6.291,2,   2.887,2,   7.324,2,  2149.9,2,  -999.0,9,   7.6996,2,    25.00, -0.6161
06AQ19960712,ARKXII,12,1,16,165555,2,19960727,0331,81.4367,73.7917,526,   250.1, -0.5956, 34.7646,2,-999.0000,9,  -999.0,9,  -999.0,9, -999.00,9, -999.00,9, -999.00,9, -999.00,9,-999.000,9,-999.000,9,-999.000,9,  -999.0,9,  -999.0,9,-999.0000,9,  -999.00,-999.0000
06AQ19960712,ARKXII,12,1,13,165552,2,19960727,0331,81.4367,73.7917,526,   300.5, -0.9684, 34.7749,2, 34.7832,2,  -999.0,9,   321.5,2,    5.37,2, -999.00,9, -999.00,9,    0.68,2,   6.171,2,   2.855,2,   7.900,2,  2155.1,2,  -999.0,9,   7.6890,2,    25.00, -0.9291
06AQ19960712,ARKXII,12,1,14,165553,2,19960727,0331,81.4367,73.7917,526,   300.5, -0.9591, 34.7774,2,-999.0000,9,  -999.0,9,  -999.0,9, -999.00,9, -999.00,9, -999.00,9, -999.00,9,-999.000,9,-999.000,9,-999.000,9,  -999.0,9,  -999.0,9,-999.0000,9,  -999.00,-999.0000
06AQ19960712,ARKXII,12,1,12,165551,2,19960727,0331,81.4367,73.7917,526,   350.6, -0.6409, 34.8352,2, 34.8328,2,  -999.0,9,   317.2,2,    6.24,2, -999.00,9, -999.00,9,    0.74,2,   6.122,2,   2.967,2,   7.594,2,  2161.4,2,  -999.0,9,   7.6736,2,    25.00, -0.6517
06AQ19960712,ARKXII,12,1,11,165550,2,19960727,0331,81.4367,73.7917,526,   401.0, -0.4574, 34.8686,2, 34.8679,2,  -999.0,9,   309.8,2,    7.12,2, -999.00,9, -999.00,9,    0.80,2,   6.137,2,   2.772,2,   6.984,2,  2171.2,2,  -999.0,9,   7.6572,2,    25.00, -0.4662
06AQ19960712,ARKXII,12,1,10,165549,2,19960727,0331,81.4367,73.7917,526,   449.9, -0.4285, 34.8735,2, 34.8726,2,  -999.0,9,   308.6,2,    7.32,2, -999.00,9, -999.00,9,    0.81,2,   6.311,2,   3.146,2,   7.425,2,  2169.0,2,  -999.0,9,   7.6591,2,    25.00, -0.4412
06AQ19960712,ARKXII,12,1,7,165546,2,19960727,0331,81.4367,73.7917,526,   490.2, -0.4245, 34.8717,2, 34.8720,2,  -999.0,9,  -999.0,9, -999.00,9, -999.00,9, -999.00,9, -999.00,9,-999.000,9,-999.000,9,-999.000,9,  -999.0,9,  -999.0,9,-999.0000,9,  -999.00,-999.0000
06AQ19960712,ARKXII,12,1,8,165547,2,19960727,0331,81.4367,73.7917,526,   490.2, -0.4256, 34.8722,2, 34.8716,2,  -999.0,9,  -999.0,9, -999.00,9, -999.00,9, -999.00,9, -999.00,9,-999.000,9,-999.000,9,-999.000,9,  -999.0,9,  -999.0,9,-999.0000,9,  -999.00,-999.0000
06AQ19960712,ARKXII,12,1,9,165548,2,19960727,0331,81.4367,73.7917,526,   490.2, -0.4249, 34.8716,2, 34.8722,2,  -999.0,9,  -999.0,9, -999.00,9, -999.00,9, -999.00,9, -999.00,9,-999.000,9,-999.000,9,-999.000,9,  -999.0,9,  -999.0,9,-999.0000,9,  -999.00,-999.0000
06AQ19960712,ARKXII,12,1,6,165545,2,19960727,0331,81.4367,73.7917,526,   490.2, -0.4244, 34.8716,2, 34.8718,2,  -999.0,9,  -999.0,9, -999.00,9, -999.00,9, -999.00,9, -999.00,9,-999.000,9,-999.000,9,-999.000,9,  -999.0,9,  -999.0,9,-999.0000,9,  -999.00,-999.0000
06AQ19960712,ARKXII,12,1,5,165544,2,19960727,0331,81.4367,73.7917,526,   490.2, -0.4253, 34.8721,2, 34.8728,2,  -999.0,9,  -999.0,9, -999.00,9, -999.00,9, -999.00,9, -999.00,9,-999.000,9,-999.000,9,-999.000,9,  -999.0,9,  -999.0,9,-999.0000,9,  -999.00,-999.0000
06AQ19960712,ARKXII,12,1,4,165543,2,19960727,0331,81.4367,73.7917,526,   490.2, -0.4260, 34.8725,2, 34.8721,2,  -999.0,9,  -999.0,9, -999.00,9, -999.00,9, -999.00,9, -999.00,9,-999.000,9,-999.000,9,-999.000,9,  -999.0,9,  -999.0,9,-999.0000,9,  -999.00,-999.0000
06AQ19960712,ARKXII,12,1,3,165542,2,19960727,0331,81.4367,73.7917,526,   490.2, -0.4269, 34.8735,2, 34.8721,2,  -999.0,9,   308.6,2,    7.32,2, -999.00,9, -999.00,9,    0.81,2,-999.000,9,   3.004,2,   7.328,2,  2169.1,2,  -999.0,9,   7.6620,2,    25.00, -0.4409
06AQ19960712,ARKXII,12,1,2,165541,2,19960727,0331,81.4367,73.7917,526,   502.8, -0.4276, 34.8723,2,-999.0000,9,  -999.0,9,   309.5,2,    6.73,2, -999.00,9, -999.00,9,    0.77,2,   7.151,2,-999.000,9,   7.745,2,  2167.3,2,  -999.0,9,-999.0000,9,  -999.00,-999.0000
06AQ19960712,ARKXII,12,1,1,165540,2,19960727,0331,81.4367,73.7917,526,   512.9, -0.4286, 34.8722,2,-999.0000,9,  -999.0,9,   308.7,2,    6.63,2, -999.00,9, -999.00,9,    0.74,2,   6.172,2,   3.034,2,   7.488,2,  2161.0,2,  -999.0,9,-999.0000,9,  -999.00,-999.0000