BOTTLE,20100322CCHDOSIODM
EXPOCODE,SECT_ID,STNNBR,CASTNO,SAMPNO,BTLNBR,BTLNBR_FLAG_W,DATE,TIME,LATITUDE,LONGITUDE,DEPTH,CTDPRS,CTDTMP,CTDSAL,CTDSAL_FLAG_W,SALNTY,SALNTY_FLAG_W,CTDOXY,CTDOXY_FLAG_W,OXYGEN,OXYGEN_FLAG_W,SILCAT,SILCAT_FLAG_W,NITRAT,NITRAT_FLAG_W,NITRIT,NITRIT_FLAG_W,PHSPHT,PHSPHT_FLAG_W,CFC-11,CFC-11_FLAG_W,CFC-12,CFC-12_FLAG_W,CCL4,CCL4_FLAG_W,TCARBN,TCARBN_FLAG_W,ALKALI,ALKALI_FLAG_W,PH_SWS,PH_SWS_FLAG_W,PH_TMP,THETA
,,,,,,,,,,,METERS,DBAR,ITS-90,PSS-78,,PSS-78,,UMOL/KG,,UMOL/KG,,UMOL/KG,,UMOL/KG,,UMOL/KG,,UMOL/KG,,PMOL/KG,,PMOL/KG,,PMOL/KG,,UMOL/KG,,UMOL/KG,,,,DEG C,DEG C
06AQ19960712,ARKXII,75,1,26,167626,2,19960816,2354,82.6550,145.4550,2212,    10.3, -1.6610, 32.6985,2, 32.6985,2,  -999.0,9,   373.7,2,    3.32,2,    2.63,2, -999.00,9,    0.34,2,-999.000,9,-999.000,9,-999.000,9,  -999.0,9,  -999.0,9,-999.0000,9,  -999.00, -1.6582
06AQ19960712,ARKXII,75,1,25,167625,2,19960816,2354,82.6550,145.4550,2212,    20.3, -1.7036, 32.7006,2, 32.7005,2,  -999.0,9,   373.4,2,    3.41,2,    2.73,2, -999.00,9,    0.36,2,-999.000,9,-999.000,9,-999.000,9,  -999.0,9,  -999.0,9,-999.0000,9,  -999.00, -1.7003
06AQ19960712,ARKXII,75,1,24,167624,2,19960816,2354,82.6550,145.4550,2212,    30.7, -1.7079, 32.7011,2, 32.7038,2,  -999.0,9,   373.1,2,    3.41,2,    2.73,2, -999.00,9,    0.35,2,   7.064,2,   3.380,2,   7.793,2,  -999.0,9,  -999.0,9,-999.0000,9,  -999.00, -1.7055
06AQ19960712,ARKXII,75,1,23,167623,2,19960816,2354,82.6550,145.4550,2212,    39.1, -1.6985, 32.7559,2, 32.9413,2,  -999.0,9,   364.0,2,    3.71,2,    3.80,2, -999.00,9,    0.46,2,   7.241,2,   3.301,2,   7.136,2,  -999.0,9,  -999.0,9,-999.0000,9,  -999.00, -1.6957
06AQ19960712,ARKXII,75,1,22,167622,2,19960816,2354,82.6550,145.4550,2212,    60.0, -1.6642, 33.8670,2, 33.8286,2,  -999.0,9,   333.7,2,    4.10,2,    6.54,2, -999.00,9,    0.55,2,   6.426,2,   3.073,2,   5.177,2,  -999.0,9,  -999.0,9,-999.0000,9,  -999.00, -1.6622
06AQ19960712,ARKXII,75,1,21,167621,2,19960816,2354,82.6550,145.4550,2212,    79.4, -1.5047, 34.1366,2, 34.1586,2,  -999.0,9,   324.3,2,    4.39,2,    8.29,2, -999.00,9,    0.60,2,   6.060,2,   2.884,2,   5.053,2,  -999.0,9,  -999.0,9,-999.0000,9,  -999.00, -1.5027
06AQ19960712,ARKXII,75,1,20,167620,2,19960816,2354,82.6550,145.4550,2212,   100.0, -0.9927, 34.2957,2, 34.4900,2,  -999.0,9,   316.0,2,    4.29,2,    8.59,2, -999.00,9,    0.67,2,   5.625,2,   2.696,2,   4.844,2,  -999.0,9,  -999.0,9,-999.0000,9,  -999.00, -0.9917
06AQ19960712,ARKXII,75,1,19,167619,2,19960816,2354,82.6550,145.4550,2212,   125.1,  0.0239, 34.4921,2, 34.4894,2,  -999.0,9,   309.2,2,    4.68,2,    9.76,2, -999.00,9,    0.71,2,-999.000,9,-999.000,9,-999.000,9,  -999.0,9,  -999.0,9,-999.0000,9,  -999.00,  0.0235
06AQ19960712,ARKXII,75,1,18,167618,2,19960816,2354,82.6550,145.4550,2212,   149.3,  0.8134, 34.6609,2, 34.6577,2,  -999.0,9,   304.1,2,    4.88,2,   10.54,2, -999.00,9,    0.72,2,   5.031,2,   2.344,2,   4.989,2,  -999.0,9,  -999.0,9,-999.0000,9,  -999.00,  0.8105
06AQ19960712,ARKXII,75,1,17,167617,2,19960816,2354,82.6550,145.4550,2212,   200.0,  1.4672, 34.8286,2, 34.8235,2,  -999.0,9,   302.1,2,    5.37,2,   11.22,2, -999.00,9,    0.78,2,   4.698,2,   2.269,2,   5.160,2,  -999.0,9,  -999.0,9,-999.0000,9,  -999.00,  1.4611
06AQ19960712,ARKXII,75,1,16,167616,2,19960816,2354,82.6550,145.4550,2212,   249.8,  1.5496, 34.8658,2, 34.8661,2,  -999.0,9,   303.6,2,    5.17,2,   11.41,2, -999.00,9,    0.79,2,   4.807,2,   2.273,2,   5.537,2,  -999.0,9,  -999.0,9,-999.0000,9,  -999.00,  1.5413
06AQ19960712,ARKXII,75,1,15,167615,2,19960816,2354,82.6550,145.4550,2212,   300.7,  1.3063, 34.8704,2, 34.8695,2,  -999.0,9,   304.0,2,    5.37,2,   11.41,2, -999.00,9,    0.79,2,   4.598,2,   2.161,2,   5.300,2,  -999.0,9,  -999.0,9,-999.0000,9,  -999.00,  1.2952
06AQ19960712,ARKXII,75,1,14,167614,2,19960816,2354,82.6550,145.4550,2212,   399.5,  0.9108, 34.8731,2, 34.8736,2,  -999.0,9,   304.7,2,    5.66,2,   11.32,2, -999.00,9,    0.81,2,   4.415,2,   2.058,2,   5.163,2,  -999.0,9,  -999.0,9,-999.0000,9,  -999.00,  0.8963
06AQ19960712,ARKXII,75,1,13,167613,2,19960816,2354,82.6550,145.4550,2212,   500.0,  0.5639, 34.8700,2, 34.8700,2,  -999.0,9,   305.1,2,    5.66,2,   11.51,2, -999.00,9,    0.81,2,   4.413,2,   2.129,2,   5.171,2,  -999.0,9,  -999.0,9,-999.0000,9,  -999.00,  0.5456
06AQ19960712,ARKXII,75,1,12,167612,2,19960816,2354,82.6550,145.4550,2212,   600.5,  0.2919, 34.8671,2, 34.8679,2,  -999.0,9,   306.2,2,    5.76,2,   11.41,2, -999.00,9,    0.80,2,-999.000,9,-999.000,9,-999.000,9,  -999.0,9,  -999.0,9,-999.0000,9,  -999.00,  0.2699
06AQ19960712,ARKXII,75,1,11,167611,2,19960816,2354,82.6550,145.4550,2212,   699.9,  0.0702, 34.8669,2, 34.8677,2,  -999.0,9,   307.1,2,    6.15,2,   11.61,2, -999.00,9, -999.00,9,   4.385,2,   2.050,2,   5.285,2,  -999.0,9,  -999.0,9,-999.0000,9,  -999.00,  0.0442
06AQ19960712,ARKXII,75,1,10,167610,2,19960816,2354,82.6550,145.4550,2212,   799.4, -0.0437, 34.8725,2, 34.8848,2,  -999.0,9,   307.2,2,    6.15,2,   11.51,2, -999.00,9,    0.82,2,   4.340,2,   2.047,2,   5.535,2,  -999.0,9,  -999.0,9,-999.0000,9,  -999.00, -0.0740
06AQ19960712,ARKXII,75,1,9,167609,2,19960816,2354,82.6550,145.4550,2212,   999.3, -0.2311, 34.8842,2, 34.8847,2,  -999.0,9,   306.1,2,    6.73,2,   12.00,2, -999.00,9,    0.85,2,   3.535,2,   1.672,2,   4.798,2,  -999.0,9,  -999.0,9,-999.0000,9,  -999.00, -0.2697
06AQ19960712,ARKXII,75,1,8,167608,2,19960816,2354,82.6550,145.4550,2212,  1199.6, -0.3466, 34.9018,2, 34.9012,2,  -999.0,9,   303.1,2,    7.41,2,   12.59,2, -999.00,9,    0.86,2,   3.062,2,   1.070,2,   3.666,2,  -999.0,9,  -999.0,9,-999.0000,9,  -999.00, -0.3953
06AQ19960712,ARKXII,75,1,7,167607,2,19960816,2354,82.6550,145.4550,2212,  1399.6, -0.4330, 34.9160,2, 34.9160,2,  -999.0,9,   300.3,2,    8.59,2,   12.98,2, -999.00,9,    0.90,2,   1.304,2,   0.596,2,   2.465,2,  -999.0,9,  -999.0,9,-999.0000,9,  -999.00, -0.4916
06AQ19960712,ARKXII,75,1,6,167606,2,19960816,2354,82.6550,145.4550,2212,  1600.1, -0.4275, 34.9347,2, 34.9344,2,  -999.0,9,   293.5,2,   10.34,2,   13.56,2, -999.00,9,    0.94,2,   0.479,2,   0.201,2,   0.788,2,  -999.0,9,  -999.0,9,-999.0000,9,  -999.00, -0.4985
06AQ19960712,ARKXII,75,1,5,167605,2,19960816,2354,82.6550,145.4550,2212,  1799.8, -0.4220, 34.9449,2, 34.9438,2,  -999.0,9,   289.5,2,   11.32,2,   13.85,2, -999.00,9,    0.96,2,   0.260,2,   0.078,2,   0.300,2,  -999.0,9,  -999.0,9,-999.0000,9,  -999.00, -0.5050
06AQ19960712,ARKXII,75,1,4,167604,2,19960816,2354,82.6550,145.4550,2212,  2000.6, -0.4164, 34.9494,2, 34.9491,2,  -999.0,9,   287.7,2,   12.00,2,   13.66,2, -999.00,9,    1.00,2,   0.112,2,   0.041,2,   0.246,2,  -999.0,9,  -999.0,9,-999.0000,9,  -999.00, -0.5133
06AQ19960712,ARKXII,75,1,3,167603,2,19960816,2354,82.6550,145.4550,2212,  2093.1, -0.4074, 34.9511,2, 34.9513,2,  -999.0,9,   286.4,2,   12.39,2,   14.24,2, -999.00,9,    0.97,2,-999.000,9,   0.059,2,   0.165,2,  -999.0,9,  -999.0,9,-999.0000,9,  -999.00, -0.5107
06AQ19960712,ARKXII,75,1,2,167602,2,19960816,2354,82.6550,145.4550,2212,  2144.8, -0.4008, 34.9530,2, 34.9521,2,  -999.0,9,   285.6,2,   12.49,2,   14.05,2, -999.00,9,    0.95,2,-999.000,9,   0.025,2,   0.100,2,  -999.0,9,  -999.0,9,-999.0000,9,  -999.00, -0.5074
06AQ19960712,ARKXII,75,1,1,167601,2,19960816,2354,82.6550,145.4550,2212,  2197.3, -0.3969, 34.9525,2, 34.9528,2,  -999.0,9,   285.6,2,   12.59,2,   13.95,2, -999.00,9,    1.00,2,   0.088,2,   0.033,2,   0.172,2,  -999.0,9,  -999.0,9,-999.0000,9,  -999.00, -0.5072
06AQ19960712,ARKXII,76,1,34,167660,2,19960817,0540,82.5250,143.5633,1958,     2.7, -1.7008, 32.6822,2, 32.6832,2,  -999.0,9,   374.3,2, -999.00,9, -999.00,9, -999.00,9, -999.00,9,-999.000,9,-999.000,9,-999.000,9,  -999.0,9,  -999.0,9,-999.0000,9,  -999.00, -1.6970
06AQ19960712,ARKXII,76,1,33,167659,2,19960817,0540,82.5250,143.5633,1958,    10.0, -1.7079, 32.6826,2,-999.0000,9,  -999.0,9,  -999.0,9, -999.00,9, -999.00,9, -999.00,9, -999.00,9,-999.000,9,-999.000,9,-999.000,9,  -999.0,9,  -999.0,9,-999.0000,9,  -999.00,-999.0000
06AQ19960712,ARKXII,76,1,32,167658,2,19960817,0540,82.5250,143.5633,1958,    19.8, -1.7076, 32.7041,2,-999.0000,9,  -999.0,9,  -999.0,9, -999.00,9, -999.00,9, -999.00,9, -999.00,9,-999.000,9,-999.000,9,-999.000,9,  -999.0,9,  -999.0,9,-999.0000,9,  -999.00,-999.0000
06AQ19960712,ARKXII,76,1,31,167657,2,19960817,0540,82.5250,143.5633,1958,    19.8, -1.7059, 32.7198,2, 32.7123,2,  -999.0,9,   373.6,2, -999.00,9, -999.00,9, -999.00,9, -999.00,9,-999.000,9,-999.000,9,-999.000,9,  2105.7,2,  2235.1,2,-999.0000,9  -999.00, -1.7033
06AQ19960712,ARKXII,76,1,30,167656,2,19960817,0540,82.5250,143.5633,1958,    19.8, -1.7070, 32.7070,2, 32.7944,2,  -999.0,9,   369.8,2,    3.02,2,    2.44,2, -999.00,9,    0.39,2,   6.972,2,   3.378,2,   7.403,2,  -999.0,9,  -999.0,9,-999.0000,9,  -999.00, -1.7043
06AQ19960712,ARKXII,76,1,29,167655,2,19960817,0540,82.5250,143.5633,1958,    29.6, -1.7031, 32.7379,2, 32.7364,2,  -999.0,9,   371.5,2,    3.12,2,    2.63,2, -999.00,9,    0.40,2,   7.303,2,   3.602,2,   7.612,2,  2111.1,2,  2237.6,2,-999.0000,9  -999.00, -1.7005
06AQ19960712,ARKXII,76,1,28,167654,2,19960817,0540,82.5250,143.5633,1958,    40.0, -1.7136, 33.0508,2, 33.1723,2,  -999.0,9,   353.9,2,    3.41,2,    2.93,2, -999.00,9,    0.42,2,   6.799,2,   3.282,2,   6.220,2,  -999.0,9,  -999.0,9,-999.0000,9,  -999.00, -1.7107
06AQ19960712,ARKXII,76,1,27,167653,2,19960817,0540,82.5250,143.5633,1958,    60.0, -1.6646, 33.9211,2, 33.9060,2,  -999.0,9,   334.6,2,    3.51,2,    2.83,2, -999.00,9,    0.41,2,-999.000,9,-999.000,9,-999.000,9,  2125.6,2,  2260.5,2,-999.0000,9  -999.00, -1.6622
06AQ19960712,ARKXII,76,1,26,167652,2,19960817,0540,82.5250,143.5633,1958,    79.9, -1.5072, 34.1223,2, 34.1233,2,  -999.0,9,   328.0,2, -999.00,9,    4.59,2, -999.00,9,    0.51,2,   6.180,2,   2.887,2,   4.780,2,  2125.8,2,  2266.2,2,-999.0000,9  -999.00, -1.5058
06AQ19960712,ARKXII,76,1,25,167651,2,19960817,0540,82.5250,143.5633,1958,    99.7, -1.0123, 34.2903,2, 34.2845,2,  -999.0,9,   318.3,2,    4.00,2,    6.44,2, -999.00,9,    0.60,2,-999.000,9,-999.000,9,-999.000,9,  2127.1,2,  2266.4,2,-999.0000,9  -999.00, -1.0117
06AQ19960712,ARKXII,76,1,24,167650,2,19960817,0540,82.5250,143.5633,1958,   125.8,  0.0575, 34.5095,2, 34.4867,2,  -999.0,9,   309.9,2,    4.00,2,    7.32,2, -999.00,9,    0.64,2,   5.498,2,   2.605,2,   4.646,2,  2136.9,2,  2274.3,2,-999.0000,9  -999.00,  0.0564
06AQ19960712,ARKXII,76,1,23,167649,2,19960817,0540,82.5250,143.5633,1958,   149.9,  0.8110, 34.6620,2, 34.6555,2,  -999.0,9,   304.0,2,    4.29,2,    8.20,2, -999.00,9,    0.72,2,-999.000,9,-999.000,9,-999.000,9,  2141.6,2,  2280.4,2,-999.0000,9  -999.00,  0.8085
06AQ19960712,ARKXII,76,1,22,167648,2,19960817,0540,82.5250,143.5633,1958,   200.4,  1.4479, 34.8221,2, 34.8210,2,  -999.0,9,   302.8,2,    5.27,2,   11.02,2, -999.00,9,    0.85,2,   5.051,2,   2.329,2,   5.035,2,  -999.0,9,  -999.0,9,-999.0000,9,  -999.00,  1.4421
06AQ19960712,ARKXII,76,1,20,167646,2,19960817,0540,82.5250,143.5633,1958,   252.9,  1.6520, 34.8766,2,-999.0000,9,  -999.0,9,  -999.0,9, -999.00,9, -999.00,9, -999.00,9, -999.00,9,-999.000,9,-999.000,9,-999.000,9,  -999.0,9,  -999.0,9,-999.0000,9,  -999.00,-999.0000
06AQ19960712,ARKXII,76,1,21,167647,2,19960817,0540,82.5250,143.5633,1958,   252.9,  1.6393, 34.8696,2,-999.0000,9,  -999.0,9,  -999.0,9, -999.00,9, -999.00,9, -999.00,9, -999.00,9,-999.000,9,-999.000,9,-999.000,9,  -999.0,9,  -999.0,9,-999.0000,9,  -999.00,-999.0000
06AQ19960712,ARKXII,76,1,19,167645,2,19960817,0540,82.5250,143.5633,1958,   259.1,  1.6615, 34.8818,2, 34.8834,2,  -999.0,9,   304.5,2,    5.37,2,   11.22,2, -999.00,9,    0.88,2,   4.975,2,   2.286,2,   5.352,2,  2142.5,2,  2293.0,2,-999.0000,9  -999.00,  1.6526
06AQ19960712,ARKXII,76,1,18,167644,2,19960817,0540,82.5250,143.5633,1958,   300.1,  1.3499, 34.8701,2, 34.8699,2,  -999.0,9,   304.3,2,    5.46,2,   11.12,2, -999.00,9,    0.87,2,-999.000,9,-999.000,9,-999.000,9,  -999.0,9,  -999.0,9,-999.0000,9,  -999.00,  1.3391
06AQ19960712,ARKXII,76,1,17,167643,2,19960817,0540,82.5250,143.5633,1958,   399.7,  0.9352, 34.8772,2, 34.8757,2,  -999.0,9,   306.1,2,    5.46,2,   11.12,2, -999.00,9,    0.88,2,   4.663,2,   2.259,2,   5.326,2,  2147.1,2,  2289.7,2,-999.0000,9  -999.00,  0.9202
06AQ19960712,ARKXII,76,1,16,167642,2,19960817,0540,82.5250,143.5633,1958,   499.8,  0.5633, 34.8708,2, 34.8714,2,  -999.0,9,   306.9,2,    5.85,2,   11.12,2, -999.00,9,    0.86,2,-999.000,9,-999.000,9,-999.000,9,  -999.0,9,  -999.0,9,-999.0000,9,  -999.00,  0.5446
06AQ19960712,ARKXII,76,1,15,167641,2,19960817,0540,82.5250,143.5633,1958,   600.1,  0.2657, 34.8661,2, 34.8657,2,  -999.0,9,   307.9,2,    6.05,2,   10.83,2, -999.00,9,    0.88,2,   4.836,2,   2.363,2,   5.381,2,  2152.4,2,  2294.7,2,-999.0000,9  -999.00,  0.2440
06AQ19960712,ARKXII,76,1,14,167640,2,19960817,0540,82.5250,143.5633,1958,   700.1,  0.0617, 34.8681,2, 34.8677,2,  -999.0,9,   308.1,2,    6.24,2,   11.02,2, -999.00,9,    0.89,2,-999.000,9,-999.000,9,-999.000,9,  -999.0,9,  -999.0,9,-999.0000,9,  -999.00,  0.0363
06AQ19960712,ARKXII,76,1,13,167639,2,19960817,0540,82.5250,143.5633,1958,   800.0, -0.0695, 34.8724,2, 34.8706,2,  -999.0,9,   307.9,2,    6.15,2,   11.02,2, -999.00,9,    0.90,2,   4.273,2,   2.090,2,   5.193,2,  2152.6,2,  2287.7,2,-999.0000,9  -999.00, -0.0998
06AQ19960712,ARKXII,76,1,10,167636,2,19960817,0540,82.5250,143.5633,1958,  1000.0, -0.2575, 34.8842,2, 34.8839,2,  -999.0,9,   308.3,2,    6.73,2,   11.61,2, -999.00,9,    0.91,2,   4.014,2,   1.940,2,   4.972,2,  2157.9,2,  2295.5,2,-999.0000,9  -999.00, -0.2965
06AQ19960712,ARKXII,76,1,12,167638,2,19960817,0540,82.5250,143.5633,1958,  1000.0, -0.2514, 34.8827,2,-999.0000,9,  -999.0,9,  -999.0,9, -999.00,9, -999.00,9, -999.00,9, -999.00,9,-999.000,9,-999.000,9,-999.000,9,  -999.0,9,  -999.0,9,-999.0000,9,  -999.00,-999.0000
06AQ19960712,ARKXII,76,1,11,167637,2,19960817,0540,82.5250,143.5633,1958,  1000.0, -0.2518, 34.8826,2,-999.0000,9,  -999.0,9,  -999.0,9, -999.00,9, -999.00,9, -999.00,9, -999.00,9,-999.000,9,-999.000,9,-999.000,9,  -999.0,9,  -999.0,9,-999.0000,9,  -999.00,-999.0000
06AQ19960712,ARKXII,76,1,9,167635,2,19960817,0540,82.5250,143.5633,1958,  1200.2, -0.3786, 34.9002,2, 34.9006,2,  -999.0,9,   305.3,2,    7.90,2,   11.90,2, -999.00,9,    0.95,2,   2.851,2,   1.245,2,   3.820,2,  -999.0,9,  -999.0,9,-999.0000,9,  -999.00, -0.4270
06AQ19960712,ARKXII,76,1,8,167634,2,19960817,0540,82.5250,143.5633,1958,  1400.5, -0.4338, 34.9180,2, 34.9179,2,  -999.0,9,   300.5,2,    9.37,2,   12.59,2, -999.00,9,    0.98,2,   1.226,2,   0.547,2,   2.184,2,  2150.6,2,  2287.9,2,-999.0000,9  -999.00, -0.4926
06AQ19960712,ARKXII,76,1,7,167633,2,19960817,0540,82.5250,143.5633,1958,  1600.0, -0.4277, 34.9376,2, 34.9350,2,  -999.0,9,   293.8,2,   10.63,2,   12.98,2, -999.00,9,    1.01,2,   0.291,2,   0.194,2,   0.735,2,  -999.0,9,  -999.0,9,-999.0000,9,  -999.00, -0.4985
06AQ19960712,ARKXII,76,1,6,167632,2,19960817,0540,82.5250,143.5633,1958,  1800.5, -0.4250, 34.9464,2, 34.9456,2,  -999.0,9,   289.4,2,   10.73,2,   12.98,2, -999.00,9,    1.00,2,   0.231,2,   0.138,2,   0.326,2,  2152.4,2,  2298.4,2,-999.0000,9  -999.00, -0.5080
06AQ19960712,ARKXII,76,1,5,167631,2,19960817,0540,82.5250,143.5633,1958,  1836.4, -0.4241, 34.9479,2, 34.9440,2,  -999.0,9,   289.2,2,   12.00,2,   13.37,2, -999.00,9,    1.03,2,   0.139,2,   0.076,2,   0.148,2,  -999.0,9,  -999.0,9,-999.0000,9,  -999.00, -0.5093
06AQ19960712,ARKXII,76,1,4,167630,2,19960817,0540,82.5250,143.5633,1958,  1907.9, -0.4185, 34.9501,2, 34.9503,2,  -999.0,9,   286.7,2,   12.39,2,   13.37,2, -999.00,9,    1.04,2,-999.000,9,-999.000,9,-999.000,9,  2151.0,2,  2288.2,2,-999.0000,9  -999.00, -0.5091
06AQ19960712,ARKXII,76,1,3,167629,2,19960817,0540,82.5250,143.5633,1958,  1939.1, -0.4098, 34.9507,2,-999.0000,9,  -999.0,9,  -999.0,9, -999.00,9, -999.00,9, -999.00,9, -999.00,9,-999.000,9,-999.000,9,-999.000,9,  -999.0,9,  -999.0,9,-999.0000,9,  -999.00,-999.0000
06AQ19960712,ARKXII,76,1,2,167628,2,19960817,0540,82.5250,143.5633,1958,  1939.1, -0.4097, 34.9506,2,-999.0000,9,  -999.0,9,  -999.0,9, -999.00,9, -999.00,9, -999.00,9, -999.00,9,-999.000,9,-999.000,9,-999.000,9,  -999.0,9,  -999.0,9,-999.0000,9,  -999.00,-999.0000
06AQ19960712,ARKXII,76,1,1,167627,2,19960817,0540,82.5250,143.5633,1958,  1939.1, -0.4100, 34.9508,2, 34.9525,2,  -999.0,9,   285.7,2,   12.88,2,   13.17,2, -999.00,9,    1.05,2,   0.080,2,   0.033,2,   0.135,2,  2154.1,2,  2293.5,2,-999.0000,9  -999.00, -0.5023