BOTTLE,20100322CCHDOSIODM
EXPOCODE,SECT_ID,STNNBR,CASTNO,SAMPNO,BTLNBR,BTLNBR_FLAG_W,DATE,TIME,LATITUDE,LONGITUDE,DEPTH,CTDPRS,CTDTMP,CTDSAL,CTDSAL_FLAG_W,SALNTY,SALNTY_FLAG_W,CTDOXY,CTDOXY_FLAG_W,OXYGEN,OXYGEN_FLAG_W,SILCAT,SILCAT_FLAG_W,NITRAT,NITRAT_FLAG_W,NITRIT,NITRIT_FLAG_W,PHSPHT,PHSPHT_FLAG_W,CFC-11,CFC-11_FLAG_W,CFC-12,CFC-12_FLAG_W,CCL4,CCL4_FLAG_W,TCARBN,TCARBN_FLAG_W,ALKALI,ALKALI_FLAG_W,PH_SWS,PH_SWS_FLAG_W,PH_TMP,THETA
,,,,,,,,,,,METERS,DBAR,ITS-90,PSS-78,,PSS-78,,UMOL/KG,,UMOL/KG,,UMOL/KG,,UMOL/KG,,UMOL/KG,,UMOL/KG,,PMOL/KG,,PMOL/KG,,PMOL/KG,,UMOL/KG,,UMOL/KG,,,,DEG C,DEG C
06AQ19960712,ARKXII,94,1,21,168322,2,19960829,0732,80.1533,150.0617,1299,     9.7, -1.7695, 33.1483,2, 33.1602,2,  -999.0,9,   351.2,2,    3.32,2,    4.20,2, -999.00,9,    0.51,2,   6.694,2,   3.286,2,   6.749,2,  -999.0,9,  2246.1,2,   7.6751,2,    25.00, -1.7652
06AQ19960712,ARKXII,94,1,20,168321,2,19960829,0732,80.1533,150.0617,1299,    19.4, -1.7704, 33.1672,2, 33.1689,2,  -999.0,9,   350.9,2,    3.51,2,    4.20,2, -999.00,9,    0.51,2,-999.000,9,-999.000,9,-999.000,9,  2119.1,2,  2247.2,2,   7.6732,2,    25.00, -1.7663
06AQ19960712,ARKXII,94,1,19,168320,2,19960829,0732,80.1533,150.0617,1299,    29.6, -1.7689, 33.1860,2, 33.1855,2,  -999.0,9,   349.4,2,    3.51,2,    4.39,2, -999.00,9,    0.53,2,   6.765,2,   3.333,2,   6.796,2,  2123.4,2,  2249.5,2,   7.6713,2,    25.00, -1.7665
06AQ19960712,ARKXII,94,1,18,168319,2,19960829,0732,80.1533,150.0617,1299,    39.8, -1.7668, 33.2172,2, 33.2121,2,  -999.0,9,   346.9,2,    3.71,2,    4.59,2, -999.00,9,    0.54,2,-999.000,9,-999.000,9,-999.000,9,  -999.0,9,  -999.0,9,-999.0000,9,  -999.00, -1.7647
06AQ19960712,ARKXII,94,1,17,168318,2,19960829,0732,80.1533,150.0617,1299,    60.2, -1.6634, 33.5795,2, 33.5230,2,  -999.0,9,   324.9,2, -999.00,9,    6.34,2, -999.00,9,    0.66,2,   6.730,2,   3.290,2,   6.207,2,  2147.1,2,  2258.4,2,   7.6338,2,    25.00, -1.6582
06AQ19960712,ARKXII,94,1,16,168317,2,19960829,0732,80.1533,150.0617,1299,    80.0, -1.3819, 34.0360,2, 33.9819,2,  -999.0,9,   324.9,2, -999.00,9,    7.90,2, -999.00,9,    0.73,2,-999.000,9,-999.000,9,-999.000,9,  2149.2,2,  2264.0,2,   7.6413,2,    25.00, -1.3858
06AQ19960712,ARKXII,94,1,15,168316,2,19960829,0732,80.1533,150.0617,1299,   100.2, -1.2113, 34.2376,2, 34.2218,2,  -999.0,9,   313.5,2, -999.00,9,    8.78,2, -999.00,9,    0.78,2,   6.263,2,   3.015,2,   5.594,2,  2155.0,2,  2272.0,2,   7.6421,2,    25.00, -1.2135
06AQ19960712,ARKXII,94,1,14,168315,2,19960829,0732,80.1533,150.0617,1299,   149.9, -0.6034, 34.5226,2, 34.5116,2,  -999.0,9,   308.5,2,    4.98,2,    9.85,2, -999.00,9,    0.83,2,-999.000,9,-999.000,9,-999.000,9,  2154.0,2,  2282.3,2,   7.6679,2,    25.00, -0.6057
06AQ19960712,ARKXII,94,1,13,168314,2,19960829,0732,80.1533,150.0617,1299,   200.3,  0.3557, 34.7070,2, 34.6863,2,  -999.0,9,   306.4,2,    5.07,2,   10.93,2, -999.00,9,    0.88,2,   5.620,2,   2.696,2,   5.688,2,  -999.0,9,  -999.0,9,-999.0000,9,  -999.00,  0.3659
06AQ19960712,ARKXII,94,1,12,168313,2,19960829,0732,80.1533,150.0617,1299,   250.2,  0.9761, 34.7981,2, 34.7928,2,  -999.0,9,   304.5,2,    5.37,2,   11.71,2, -999.00,9,    0.91,2,-999.000,9,-999.000,9,-999.000,9,  2147.3,2,  2286.1,2,   7.6987,2,    25.00,  0.9795
06AQ19960712,ARKXII,94,1,11,168312,2,19960829,0732,80.1533,150.0617,1299,   300.7,  1.0836, 34.8343,2, 34.8324,2,  -999.0,9,   305.0,2,    5.46,2,   12.00,2, -999.00,9,    0.92,2,   5.221,2,   2.543,2,   5.636,2,  -999.0,9,  -999.0,9,-999.0000,9,  -999.00,  1.0708
06AQ19960712,ARKXII,94,1,10,168311,2,19960829,0732,80.1533,150.0617,1299,   400.2,  0.8073, 34.8454,2, 34.8458,2,  -999.0,9,   306.6,2,    5.66,2,   12.00,2, -999.00,9,    0.92,2,-999.000,9,-999.000,9,-999.000,9,  -999.0,9,  -999.0,9,-999.0000,9,  -999.00,  0.7916
06AQ19960712,ARKXII,94,1,9,168310,2,19960829,0732,80.1533,150.0617,1299,   500.1,  0.6457, 34.8582,2, 34.8601,2,  -999.0,9,   306.9,2,    5.66,2,   12.10,2, -999.00,9,    0.93,2,   5.008,2,   2.381,2,   5.632,2,  2151.4,2,  2293.3,2,   7.6909,2,    25.00,  0.6253
06AQ19960712,ARKXII,94,1,8,168309,2,19960829,0732,80.1533,150.0617,1299,   600.1,  0.4481, 34.8648,2, 34.8630,2,  -999.0,9,   307.7,2,    5.85,2,   12.20,2, -999.00,9,    0.93,2,   5.063,2,   2.422,2,   5.626,2,  -999.0,9,  -999.0,9,-999.0000,9,  -999.00,  0.4251
06AQ19960712,ARKXII,94,1,7,168308,2,19960829,0732,80.1533,150.0617,1299,   699.4,  0.3074, 34.8713,2, 34.8720,2,  -999.0,9,   306.9,2,    5.95,2,   12.39,2, -999.00,9,    0.96,2,-999.000,9,-999.000,9,-999.000,9,  2154.6,2,  2292.2,2,   7.6900,2,    25.00,  0.2799
06AQ19960712,ARKXII,94,1,6,168307,2,19960829,0732,80.1533,150.0617,1299,   796.5,  0.0586, 34.8639,2, 34.8653,2,  -999.0,9,  -999.0,9,    5.85,2,   12.10,2, -999.00,9,    0.93,2,-999.000,9,-999.000,9,-999.000,9,  -999.0,9,  -999.0,9,-999.0000,9,  -999.00,  0.0295
06AQ19960712,ARKXII,94,1,5,168306,2,19960829,0732,80.1533,150.0617,1299,  1000.3, -0.0590, 34.8807,2, 34.8811,2,  -999.0,9,   307.8,2,    6.54,2,   12.49,2, -999.00,9,    0.98,2,-999.000,9,-999.000,9,-999.000,9,  2161.5,2,  2295.2,2,   7.6755,2,    25.00, -0.0992
06AQ19960712,ARKXII,94,1,4,168305,2,19960829,0732,80.1533,150.0617,1299,  1100.2, -0.1434, 34.8908,2, 34.8901,2,  -999.0,9,   306.8,2,    6.93,2,   12.78,2, -999.00,9,    0.99,2,   4.559,2,   2.189,2,   5.271,2,  -999.0,9,  -999.0,9,-999.0000,9,  -999.00, -0.1888
06AQ19960712,ARKXII,94,1,3,168304,2,19960829,0732,80.1533,150.0617,1299,  1180.0, -0.2206, 34.8948,2, 34.8938,2,  -999.0,9,   306.4,2,    7.12,2,   12.88,2, -999.00,9,    0.99,2,   4.213,2,   2.012,2,   5.061,2,  2167.2,2,  2296.3,2,   7.6717,2,    25.00, -0.2704
06AQ19960712,ARKXII,94,1,2,168303,2,19960829,0732,80.1533,150.0617,1299,  1230.4, -0.2758, 34.8988,2, 34.8977,2,  -999.0,9,   305.6,2,    7.41,2,   12.98,2, -999.00,9,    0.97,2,   3.456,2,   1.456,2,   4.241,2,  2165.5,2,  2294.9,2,   7.6678,2,    25.00, -0.3237
06AQ19960712,ARKXII,94,1,1,168302,2,19960829,0732,80.1533,150.0617,1299,  1280.0, -0.3650, 34.9026,2, 34.9049,2,  -999.0,9,   304.1,2,    8.10,2,   13.37,2, -999.00,9,    1.01,2,-999.000,9,-999.000,9,-999.000,9,  2165.5,2,  2293.5,2,   7.6726,2,    25.00, -0.4175
06AQ19960712,ARKXII,95,1,19,168343,2,19960829,1915,79.9967,149.9283,713,     3.3, -1.7823, 33.1841,2,-999.0000,9,  -999.0,9,  -999.0,9, -999.00,9, -999.00,9, -999.00,9, -999.00,9,-999.000,9,-999.000,9,-999.000,9,  -999.0,9,  -999.0,9,-999.0000,9,  -999.00,-999.0000
06AQ19960712,ARKXII,95,1,18,168342,2,19960829,1915,79.9967,149.9283,713,    10.3, -1.7833, 33.1870,2, 33.1885,2,  -999.0,9,   344.1,2,    4.49,2,    4.10,2, -999.00,9,    0.44,2,   7.015,2,   3.283,2,   6.691,2,  2131.0,2,  2242.1,2,   7.6636,2,    25.00, -1.7792
06AQ19960712,ARKXII,95,1,17,168341,2,19960829,1915,79.9967,149.9283,713,    20.9, -1.7815, 33.1890,2, 33.1910,2,  -999.0,9,   344.9,2,    4.39,2,    4.00,2, -999.00,9,    0.46,2,   7.049,2,   3.270,2,   6.930,2,  -999.0,9,  -999.0,9,-999.0000,9,  -999.00, -1.7783
06AQ19960712,ARKXII,95,1,16,168340,2,19960829,1915,79.9967,149.9283,713,    30.9, -1.7724, 33.2070,2, 33.2060,2,  -999.0,9,   343.5,2,    4.39,2,    4.00,2, -999.00,9,    0.47,2,   6.940,2,   3.133,2,   6.794,2,  2129.1,2,  2246.0,2,   7.6626,2,    25.00, -1.7695
06AQ19960712,ARKXII,95,1,15,168339,2,19960829,1915,79.9967,149.9283,713,    40.8, -1.7676, 33.2681,2, 33.2613,2,  -999.0,9,   339.3,2,    4.59,2,    4.39,2, -999.00,9,    0.49,2,   7.008,2,   3.266,2,   7.018,2,  -999.0,9,  -999.0,9,-999.0000,9,  -999.00, -1.7647
06AQ19960712,ARKXII,95,1,14,168338,2,19960829,1915,79.9967,149.9283,713,    60.8, -1.6877, 33.5723,2, 33.5586,2,  -999.0,9,   313.7,2, -999.00,9,    6.63,2, -999.00,9,    0.62,2,   6.751,2,   3.151,2,   6.045,2,  2151.6,2,  2259.3,2,   7.6089,2,    25.00, -1.6672
06AQ19960712,ARKXII,95,1,13,168337,2,19960829,1915,79.9967,149.9283,713,    80.9, -1.3067, 34.0204,2, 33.9932,2,  -999.0,9,   307.1,2, -999.00,9,    7.71,2, -999.00,9,    0.65,2,   6.531,2,   2.961,2,   5.800,2,  2158.2,2,  2265.5,2,   7.6269,2,    25.00, -1.2959
06AQ19960712,ARKXII,95,1,12,168336,2,19960829,1915,79.9967,149.9283,713,   100.9, -1.1481, 34.2590,2, 34.2510,2,  -999.0,9,   306.6,2, -999.00,9,    8.29,2, -999.00,9,    0.67,2,   6.654,2,   3.046,2,   6.099,2,  2154.6,2,  2272.5,2,   7.6431,2,    25.00, -1.1495
06AQ19960712,ARKXII,95,1,11,168335,2,19960829,1915,79.9967,149.9283,713,   125.8, -0.9214, 34.4206,2, 34.4067,2,  -999.0,9,   307.6,2, -999.00,9,    8.98,2, -999.00,9,    0.70,2,   6.350,2,   2.839,2,   6.077,2,  -999.0,9,  -999.0,9,-999.0000,9,  -999.00, -0.9125
06AQ19960712,ARKXII,95,1,10,168334,2,19960829,1915,79.9967,149.9283,713,   150.6, -0.5342, 34.5283,2, 34.5416,2,  -999.0,9,   307.6,2,    5.56,2,    9.37,2, -999.00,9,    0.72,2,   6.124,2,   2.743,2,   6.157,2,  2158.5,2,  2279.0,2,   7.6708,2,    25.00, -0.5358
06AQ19960712,ARKXII,95,1,9,168333,2,19960829,1915,79.9967,149.9283,713,   201.1,  0.6091, 34.7226,2, 34.7261,2,  -999.0,9,   304.6,2,    6.05,2,   10.73,2, -999.00,9,    0.77,2,   5.675,2,   2.620,2,   6.070,2,  -999.0,9,  -999.0,9,-999.0000,9,  -999.00,  0.6065
06AQ19960712,ARKXII,95,1,8,168332,2,19960829,1915,79.9967,149.9283,713,   271.2,  1.3280, 34.8499,2, 34.8500,2,  -999.0,9,   304.3,2,    6.15,2,   11.51,2, -999.00,9,    0.79,2,   5.447,2,   2.468,2,   5.907,2,  2150.8,2,  2289.9,2,   7.6996,2,    25.00,  1.3187
06AQ19960712,ARKXII,95,1,7,168331,2,19960829,1915,79.9967,149.9283,713,   301.4,  1.2472, 34.8526,2, 34.8529,2,  -999.0,9,   304.7,2,    6.05,2,   11.51,2, -999.00,9,    0.80,2,   5.262,2,   2.380,2,   5.905,2,  -999.0,9,  -999.0,9,-999.0000,9,  -999.00,  1.2364
06AQ19960712,ARKXII,95,1,6,168330,2,19960829,1915,79.9967,149.9283,713,   400.9,  1.0233, 34.8590,2, 34.8588,2,  -999.0,9,   305.4,2,    6.15,2,   11.80,2, -999.00,9,    0.80,2,   5.505,2,   2.541,2,   6.146,2,  2151.2,2,  -999.0,9,   7.7005,2,    25.00,  1.0109
06AQ19960712,ARKXII,95,1,5,168329,2,19960829,1915,79.9967,149.9283,713,   501.2,  0.8483, 34.8648,2, 34.8651,2,  -999.0,9,   306.6,2,    6.05,2,   11.61,2, -999.00,9,    0.80,2,   5.338,2,   2.446,2,   6.025,2,  -999.0,9,  -999.0,9,-999.0000,9,  -999.00,  0.8284
06AQ19960712,ARKXII,95,1,4,168328,2,19960829,1915,79.9967,149.9283,713,   601.5,  0.7315, 34.8660,2, 34.8653,2,  -999.0,9,   307.1,2,    6.05,2,   11.41,2, -999.00,9,    0.80,2,   5.239,2,   2.355,2,   6.031,2,  2155.6,2,  2288.3,2,   7.6929,2,    25.00,  0.7048
06AQ19960712,ARKXII,95,1,3,168327,2,19960829,1915,79.9967,149.9283,713,   679.1,  0.6068, 34.8656,2, 34.8753,2,  -999.0,9,   307.5,2, -999.00,9,   11.71,2, -999.00,9,    0.82,2,   5.266,2,   2.484,2,   6.050,2,  2151.9,2,  2289.1,2,   7.6909,2,    25.00,  0.5753
06AQ19960712,ARKXII,95,1,2,168326,2,19960829,1915,79.9967,149.9283,713,   689.2,  0.5899, 34.8654,2, 34.8749,2,  -999.0,9,   307.3,2,    6.15,2,   11.51,2, -999.00,9,    0.80,2,   5.222,2,   2.369,2,   6.034,2,  2152.6,2,  2290.6,2,   7.6929,2,    25.00,  0.5619
06AQ19960712,ARKXII,95,1,1,168325,2,19960829,1915,79.9967,149.9283,713,   698.5,  0.5423, 34.8652,2, 34.8670,2,  -999.0,9,  -999.0,9,    6.24,2,   11.41,2, -999.00,9,    0.78,2,   5.098,2,   2.269,2,   6.048,2,  2151.6,2,  2292.3,2,   7.6919,2,    25.00,  0.5176
06AQ19960712,ARKXII,96,1,25,168369,2,19960830,0514,79.8233,149.2200,500,     9.4, -1.7719, 33.0865,2, 33.0918,2,  -999.0,9,  -999.0,9, -999.00,9, -999.00,9, -999.00,9, -999.00,9,-999.000,9,-999.000,9,-999.000,9,  -999.0,9,  -999.0,9,-999.0000,9,  -999.00,-999.0000
06AQ19960712,ARKXII,96,1,24,168368,2,19960830,0514,79.8233,149.2200,500,     9.5, -1.7689, 33.0891,2,-999.0000,9,  -999.0,9,  -999.0,9, -999.00,9, -999.00,9, -999.00,9, -999.00,9,-999.000,9,-999.000,9,-999.000,9,  -999.0,9,  -999.0,9,-999.0000,9,  -999.00,-999.0000
06AQ19960712,ARKXII,96,1,23,168367,2,19960830,0514,79.8233,149.2200,500,     9.5, -1.7675, 33.0893,2,-999.0000,9,  -999.0,9,  -999.0,9, -999.00,9, -999.00,9, -999.00,9, -999.00,9,-999.000,9,-999.000,9,-999.000,9,  -999.0,9,  -999.0,9,-999.0000,9,  -999.00,-999.0000
06AQ19960712,ARKXII,96,1,22,168366,2,19960830,0514,79.8233,149.2200,500,     9.5, -1.7679, 33.0875,2,-999.0000,9,  -999.0,9,  -999.0,9, -999.00,9, -999.00,9, -999.00,9, -999.00,9,-999.000,9,-999.000,9,-999.000,9,  -999.0,9,  -999.0,9,-999.0000,9,  -999.00,-999.0000
06AQ19960712,ARKXII,96,1,21,168365,2,19960830,0514,79.8233,149.2200,500,    19.5, -1.7691, 33.1143,2, 33.1214,2,  -999.0,9,   331.9,2, -999.00,9,    4.59,2, -999.00,9,    0.48,2,   6.738,2,   3.234,2,   6.157,2,  2129.5,2,  2242.9,2,   7.6416,2,    25.00, -1.7663
06AQ19960712,ARKXII,96,1,20,168364,2,19960830,0514,79.8233,149.2200,500,    30.3, -1.7639, 33.1392,2, 33.1467,2,  -999.0,9,   331.2,2, -999.00,9,    4.98,2, -999.00,9,    0.50,2,   6.734,2,   3.194,2,   6.229,2,  2132.3,2,  2241.2,2,   7.6425,2,    25.00, -1.7615
06AQ19960712,ARKXII,96,1,19,168363,2,19960830,0514,79.8233,149.2200,500,    41.0, -1.7570, 33.2735,2, 33.3020,2,  -999.0,9,   317.4,2, -999.00,9,    6.34,2, -999.00,9,    0.58,2,   6.819,2,   3.274,2,   6.116,2,  2148.6,2,  2253.4,2,   7.6157,2,    25.00, -1.7547
06AQ19960712,ARKXII,96,1,18,168362,2,19960830,0514,79.8233,149.2200,500,    59.4, -1.6724, 33.5437,2, 33.5418,2,  -999.0,9,   307.8,2, -999.00,9,    7.41,2, -999.00,9,    0.63,2,   6.959,2,   3.281,2,   5.938,2,  -999.0,9,  -999.0,9,-999.0000,9,  -999.00, -1.6691
06AQ19960712,ARKXII,96,1,17,168361,2,19960830,0514,79.8233,149.2200,500,    74.9, -1.4478, 33.9270,2, 33.9947,2,  -999.0,9,   309.3,2, -999.00,9,    8.00,2, -999.00,9,    0.63,2,   6.875,2,   3.137,2,   6.292,2,  -999.0,9,  -999.0,9,-999.0000,9,  -999.00, -1.4507
06AQ19960712,ARKXII,96,1,16,168360,2,19960830,0514,79.8233,149.2200,500,    80.1, -1.3241, 34.1079,2, 34.0894,2,  -999.0,9,   308.7,2, -999.00,9,    8.10,2, -999.00,9,    0.65,2,   6.626,2,   3.048,2,   6.173,2,  2154.6,2,  2262.5,2,   7.6326,2,    25.00, -1.3229
06AQ19960712,ARKXII,96,1,15,168359,2,19960830,0514,79.8233,149.2200,500,   100.5, -1.1529, 34.2943,2, 34.2907,2,  -999.0,9,   308.8,2, -999.00,9,    8.68,2, -999.00,9,    0.66,2,   6.419,2,   3.075,2,   6.137,2,  2152.1,2,  2268.5,2,   7.6488,2,    25.00, -1.1516
06AQ19960712,ARKXII,96,1,14,168358,2,19960830,0514,79.8233,149.2200,500,   150.0, -0.4724, 34.5232,2, 34.5215,2,  -999.0,9,   308.5,2, -999.00,9,   10.15,2, -999.00,9,    0.70,2,   6.009,2,   2.824,2,   6.181,2,  2153.3,2,  2275.2,2,   7.6718,2,    25.00, -0.4768
06AQ19960712,ARKXII,96,1,13,168357,2,19960830,0514,79.8233,149.2200,500,   202.7,  0.6921, 34.7312,2, 34.7153,2,  -999.0,9,   304.8,2,    5.07,2,   11.22,2, -999.00,9,    0.75,2,   5.569,2,   2.568,2,   6.019,2,  2144.9,2,  2279.2,2,   7.6881,2,    25.00,  0.7012
06AQ19960712,ARKXII,96,1,10,168354,2,19960830,0514,79.8233,149.2200,500,   276.5,  1.3258, 34.8336,2,-999.0000,9,  -999.0,9,  -999.0,9, -999.00,9, -999.00,9, -999.00,9, -999.00,9,-999.000,9,-999.000,9,-999.000,9,  -999.0,9,  -999.0,9,-999.0000,9,  -999.00,-999.0000
06AQ19960712,ARKXII,96,1,12,168356,2,19960830,0514,79.8233,149.2200,500,   276.5,  1.3257, 34.8341,2, 34.8366,2,  -999.0,9,   303.6,2,    5.46,2,   12.10,2, -999.00,9,    0.79,2,   5.325,2,   2.493,2,   5.807,2,  2145.4,2,  2293.1,2,   7.6996,2,    25.00,  1.3164
06AQ19960712,ARKXII,96,1,11,168355,2,19960830,0514,79.8233,149.2200,500,   276.5,  1.3266, 34.8340,2,-999.0000,9,  -999.0,9,  -999.0,9, -999.00,9, -999.00,9, -999.00,9, -999.00,9,-999.000,9,-999.000,9,-999.000,9,  -999.0,9,  -999.0,9,-999.0000,9,  -999.00,-999.0000
06AQ19960712,ARKXII,96,1,9,168353,2,19960830,0514,79.8233,149.2200,500,   276.5,  1.3369, 34.8382,2,-999.0000,9,  -999.0,9,  -999.0,9, -999.00,9, -999.00,9, -999.00,9, -999.00,9,-999.000,9,-999.000,9,-999.000,9,  -999.0,9,  -999.0,9,-999.0000,9,  -999.00,-999.0000
06AQ19960712,ARKXII,96,1,8,168352,2,19960830,0514,79.8233,149.2200,500,   300.7,  1.1352, 34.8326,2, 34.8339,2,  -999.0,9,   304.9,2,    5.56,2,   12.00,2, -999.00,9,    0.80,2,-999.000,9,-999.000,9,-999.000,9,  2151.0,2,  2284.6,2,   7.6996,2,    25.00,  1.1287
06AQ19960712,ARKXII,96,1,7,168351,2,19960830,0514,79.8233,149.2200,500,   342.7,  1.1894, 34.8585,2, 34.8578,2,  -999.0,9,   305.1,2,    5.56,2,   12.10,2, -999.00,9,    0.80,2,   5.197,2,   2.547,2,   5.974,2,  2152.8,2,  2291.9,2,   7.6996,2,    25.00,  1.1883
06AQ19960712,ARKXII,96,1,6,168350,2,19960830,0514,79.8233,149.2200,500,   404.8,  0.8333, 34.8446,2, 34.8433,2,  -999.0,9,   306.5,2,    5.76,2,   12.00,2, -999.00,9,    0.80,2,   5.231,2,   2.427,2,   5.942,2,  2156.0,2,  2271.9,3,   7.6938,2,    25.00,  0.8183
06AQ19960712,ARKXII,96,1,5,168349,2,19960830,0514,79.8233,149.2200,500,   444.8,  0.8707, 34.8601,2, 34.8594,2,  -999.0,9,   306.5,2,    5.76,2,   12.10,2, -999.00,9,    0.80,2,   5.262,2,   2.506,2,   5.993,2,  2156.4,2,  2288.7,2,   7.6938,2,    25.00,  0.8542
06AQ19960712,ARKXII,96,1,2,168346,2,19960830,0514,79.8233,149.2200,500,   493.2,  0.8918, 34.8629,2,-999.0000,9,  -999.0,9,  -999.0,9, -999.00,9, -999.00,9, -999.00,9, -999.00,9,-999.000,9,-999.000,9,-999.000,9,  -999.0,9,  -999.0,9,-999.0000,9,  -999.00,-999.0000
06AQ19960712,ARKXII,96,1,1,168345,2,19960830,0514,79.8233,149.2200,500,   493.2,  0.8919, 34.8630,2, 34.8658,2,  -999.0,9,   306.0,2,    5.76,2,   12.10,2, -999.00,9,    0.79,2,   5.100,2,   2.503,2,   6.140,2,  2158.2,2,  2295.9,2,   7.6977,2,    25.00,  0.8726
06AQ19960712,ARKXII,96,1,4,168348,2,19960830,0514,79.8233,149.2200,500,   493.3,  0.8914, 34.8625,2,-999.0000,9,  -999.0,9,  -999.0,9, -999.00,9, -999.00,9, -999.00,9, -999.00,9,-999.000,9,-999.000,9,-999.000,9,  -999.0,9,  -999.0,9,-999.0000,9,  -999.00,-999.0000
06AQ19960712,ARKXII,96,1,3,168347,2,19960830,0514,79.8233,149.2200,500,   493.3,  0.8919, 34.8624,2,-999.0000,9,  -999.0,9,  -999.0,9, -999.00,9, -999.00,9, -999.00,9, -999.00,9,-999.000,9,-999.000,9,-999.000,9,  -999.0,9,  -999.0,9,-999.0000,9,  -999.00,-999.0000