BOTTLE,20100322CCHDOSIODM
EXPOCODE,SECT_ID,STNNBR,CASTNO,SAMPNO,BTLNBR,BTLNBR_FLAG_W,DATE,TIME,LATITUDE,LONGITUDE,DEPTH,CTDPRS,CTDTMP,CTDSAL,CTDSAL_FLAG_W,SALNTY,SALNTY_FLAG_W,CTDOXY,CTDOXY_FLAG_W,OXYGEN,OXYGEN_FLAG_W,SILCAT,SILCAT_FLAG_W,NITRAT,NITRAT_FLAG_W,NITRIT,NITRIT_FLAG_W,PHSPHT,PHSPHT_FLAG_W,CFC-11,CFC-11_FLAG_W,CFC-12,CFC-12_FLAG_W,CCL4,CCL4_FLAG_W,TCARBN,TCARBN_FLAG_W,ALKALI,ALKALI_FLAG_W,PH_SWS,PH_SWS_FLAG_W,PH_TMP,THETA
,,,,,,,,,,,METERS,DBAR,ITS-90,PSS-78,,PSS-78,,UMOL/KG,,UMOL/KG,,UMOL/KG,,UMOL/KG,,UMOL/KG,,UMOL/KG,,PMOL/KG,,PMOL/KG,,PMOL/KG,,UMOL/KG,,UMOL/KG,,,,DEG C,DEG C
06AQ19960712,ARKXII,15,1,36,165661,2,19960727,2059,81.4183,74.5567,292,    10.6, -1.7367, 33.8823,2,-999.0000,9,  -999.0,9,  -999.0,9, -999.00,9, -999.00,9, -999.00,9, -999.00,9,-999.000,9,-999.000,9,-999.000,9,  -999.0,9,  -999.0,9,-999.0000,9,  -999.00,-999.0000
06AQ19960712,ARKXII,15,1,35,165660,2,19960727,2059,81.4183,74.5567,292,    10.6, -1.7354, 33.8817,2, 33.8468,2,  -999.0,9,   350.1,2,    3.22,2,    4.88,2, -999.00,9,    0.45,2,   7.198,2,   3.285,2,   8.264,2,  2122.2,2,  2266.4,2,   7.7095,2,    25.00, -1.7322
06AQ19960712,ARKXII,15,1,33,165658,2,19960727,2059,81.4183,74.5567,292,    20.2, -1.7305, 33.8995,2, 33.8866,2,  -999.0,9,   348.2,2,    3.32,2,    4.98,2, -999.00,9,    0.48,2,   7.058,2,   3.334,2,   8.326,2,  -999.0,9,  2271.1,2,   7.7057,2,    25.00, -1.7274
06AQ19960712,ARKXII,15,1,34,165659,2,19960727,2059,81.4183,74.5567,292,    21.5, -1.7317, 33.8924,2,-999.0000,9,  -999.0,9,  -999.0,9, -999.00,9, -999.00,9, -999.00,9, -999.00,9,-999.000,9,-999.000,9,-999.000,9,  -999.0,9,  -999.0,9,-999.0000,9,  -999.00,-999.0000
06AQ19960712,ARKXII,15,1,32,165657,2,19960727,2059,81.4183,74.5567,292,    29.9, -1.7455, 33.8805,2,-999.0000,9,  -999.0,9,  -999.0,9, -999.00,9, -999.00,9, -999.00,9, -999.00,9,-999.000,9,-999.000,9,-999.000,9,  -999.0,9,  -999.0,9,-999.0000,9,  -999.00,-999.0000
06AQ19960712,ARKXII,15,1,31,165656,2,19960727,2059,81.4183,74.5567,292,    29.9, -1.7218, 33.9102,2, 34.1238,2,  -999.0,9,   331.6,2,    4.49,2,    6.83,2, -999.00,9,    0.61,2,   6.537,2,-999.000,9,   7.729,2,  2136.1,2,  2277.3,2,   7.6834,2,    25.00, -1.7186
06AQ19960712,ARKXII,15,1,29,165654,2,19960727,2059,81.4183,74.5567,292,    39.8, -0.8908, 34.4585,2, 34.4575,2,  -999.0,9,   305.6,2,    6.54,2,    9.46,2, -999.00,9,    0.78,2,-999.000,9,-999.000,9,-999.000,9,  2168.6,2,  2288.4,2,   7.6382,2,    25.00, -0.8881
06AQ19960712,ARKXII,15,1,30,165655,2,19960727,2059,81.4183,74.5567,292,    39.8, -0.8911, 34.4578,2,-999.0000,9,  -999.0,9,  -999.0,9, -999.00,9, -999.00,9, -999.00,9, -999.00,9,-999.000,9,-999.000,9,-999.000,9,  -999.0,9,  -999.0,9,-999.0000,9,  -999.00,-999.0000
06AQ19960712,ARKXII,15,1,28,165653,2,19960727,2059,81.4183,74.5567,292,    50.0, -0.9294, 34.5087,2,-999.0000,9,  -999.0,9,  -999.0,9, -999.00,9, -999.00,9, -999.00,9, -999.00,9,-999.000,9,-999.000,9,-999.000,9,  -999.0,9,  -999.0,9,-999.0000,9,  -999.00,-999.0000
06AQ19960712,ARKXII,15,1,27,165652,2,19960727,2059,81.4183,74.5567,292,    50.0, -0.9292, 34.5089,2, 34.5121,2,  -999.0,9,   306.4,2,    6.83,2,    9.66,2, -999.00,9,    0.80,2,-999.000,9,   3.373,2,   6.553,2,  2169.8,2,  2283.7,2,   7.6411,2,    25.00, -0.9274
06AQ19960712,ARKXII,15,1,26,165651,2,19960727,2059,81.4183,74.5567,292,    59.9, -1.0629, 34.5361,2, 34.5368,2,  -999.0,9,   310.2,2,    6.54,2,    9.56,2, -999.00,9,    0.78,2,   6.420,2,   3.277,2,   6.921,2,  2167.9,2,  2284.2,2,   7.6478,2,    25.00, -1.0606
06AQ19960712,ARKXII,15,1,25,165650,2,19960727,2059,81.4183,74.5567,292,    74.9, -1.1762, 34.5546,2,-999.0000,9,  -999.0,9,  -999.0,9, -999.00,9, -999.00,9, -999.00,9, -999.00,9,-999.000,9,-999.000,9,-999.000,9,  -999.0,9,  -999.0,9,-999.0000,9,  -999.00,-999.0000
06AQ19960712,ARKXII,15,1,24,165649,2,19960727,2059,81.4183,74.5567,292,    79.9, -1.2645, 34.5698,2, 34.5840,2,  -999.0,9,   318.0,2,    5.56,2,    9.46,2, -999.00,9,    0.72,2,   6.887,2,   3.358,2,   7.519,2,  2156.8,2,  -999.0,9,   7.6756,2,    25.00, -1.2630
06AQ19960712,ARKXII,15,1,22,165647,2,19960727,2059,81.4183,74.5567,292,    99.8, -1.3176, 34.6469,2, 34.6453,2,  -999.0,9,   323.7,2,    4.68,2,    9.27,2, -999.00,9,    0.68,2,   6.323,2,   3.270,2,   7.964,2,  2151.4,2,  2287.5,2,   7.6987,2,    25.00, -1.3165
06AQ19960712,ARKXII,15,1,23,165648,2,19960727,2059,81.4183,74.5567,292,    99.8, -1.3058, 34.6460,2,-999.0000,9,  -999.0,9,  -999.0,9, -999.00,9, -999.00,9, -999.00,9, -999.00,9,-999.000,9,-999.000,9,-999.000,9,  -999.0,9,  -999.0,9,-999.0000,9,  -999.00,-999.0000
06AQ19960712,ARKXII,15,1,21,165646,2,19960727,2059,81.4183,74.5567,292,   124.8, -0.9150, 34.7175,2, 34.7139,2,  -999.0,9,  -999.0,9,    4.68,2,    9.85,2, -999.00,9,    0.70,2,-999.000,9,   3.183,2,   7.807,2,  2147.5,2,  2291.5,2,   7.7016,2,    25.00, -0.9156
06AQ19960712,ARKXII,15,1,19,165644,2,19960727,2059,81.4183,74.5567,292,   149.9, -1.4049, 34.7098,2, 34.7082,2,  -999.0,9,   326.9,2,    4.78,2,    9.37,2, -999.00,9,    0.68,2,-999.000,9,   3.113,2,   8.255,2,  -999.0,9,  2295.9,2,-999.0000,9  -999.00, -1.4057
06AQ19960712,ARKXII,15,1,20,165645,2,19960727,2059,81.4183,74.5567,292,   150.0, -1.3864, 34.7109,2,-999.0000,9,  -999.0,9,  -999.0,9, -999.00,9, -999.00,9, -999.00,9, -999.00,9,-999.000,9,-999.000,9,-999.000,9,  -999.0,9,  -999.0,9,-999.0000,9,  -999.00,-999.0000
06AQ19960712,ARKXII,15,1,17,165642,2,19960727,2059,81.4183,74.5567,292,   199.6, -1.3116, 34.7432,2, 34.7387,2,  -999.0,9,   323.2,2,    5.07,2,    9.37,2, -999.00,9,    0.69,2,-999.000,9,-999.000,9,-999.000,9,  2154.4,2,  2286.1,2,   7.6967,2,    25.00, -1.3132
06AQ19960712,ARKXII,15,1,18,165643,2,19960727,2059,81.4183,74.5567,292,   199.7, -1.3054, 34.7450,2,-999.0000,9,  -999.0,9,  -999.0,9, -999.00,9, -999.00,9, -999.00,9, -999.00,9,-999.000,9,-999.000,9,-999.000,9,  -999.0,9,  -999.0,9,-999.0000,9,  -999.00,-999.0000
06AQ19960712,ARKXII,15,1,15,165640,2,19960727,2059,81.4183,74.5567,292,   249.8, -1.2839, 34.7498,2, 34.7457,2,  -999.0,9,   323.2,2,    5.07,2,    9.46,2, -999.00,9,    0.69,2,   6.358,2,   3.014,2,   8.162,2,  2156.0,2,  2285.2,2,   7.6948,2,    25.00, -1.2867
06AQ19960712,ARKXII,15,1,16,165641,2,19960727,2059,81.4183,74.5567,292,   249.8, -1.2850, 34.7504,2,-999.0000,9,  -999.0,9,  -999.0,9, -999.00,9, -999.00,9, -999.00,9, -999.00,9,-999.000,9,-999.000,9,-999.000,9,  -999.0,9,  -999.0,9,-999.0000,9,  -999.00,-999.0000
06AQ19960712,ARKXII,15,1,14,165639,2,19960727,2059,81.4183,74.5567,292,   264.2, -1.2823, 34.7496,2, 34.7465,2,  -999.0,9,  -999.0,9,    5.07,2,    9.37,2, -999.00,9,    0.69,2,-999.000,9,-999.000,9,-999.000,9,  2155.3,2,  2296.4,2,   7.7025,2,    25.00, -1.2861
06AQ19960712,ARKXII,15,1,3,165628,2,19960727,2059,81.4183,74.5567,292,   274.4, -1.2873, 34.7511,2, 34.7464,2,  -999.0,9,  -999.0,9,    5.17,2,    9.37,2, -999.00,9,    0.69,2,-999.000,9,-999.000,9,-999.000,9,  2155.8,2,  2294.3,2,   7.6958,2,    25.00, -1.2914
06AQ19960712,ARKXII,15,1,8,165633,2,19960727,2059,81.4183,74.5567,292,   274.5, -1.2800, 34.7492,2,-999.0000,9,  -999.0,9,  -999.0,9, -999.00,9, -999.00,9, -999.00,9, -999.00,9,-999.000,9,-999.000,9,-999.000,9,  -999.0,9,  -999.0,9,-999.0000,9,  -999.00,-999.0000
06AQ19960712,ARKXII,15,1,7,165632,2,19960727,2059,81.4183,74.5567,292,   274.5, -1.2806, 34.7492,2,-999.0000,9,  -999.0,9,  -999.0,9, -999.00,9, -999.00,9, -999.00,9, -999.00,9,-999.000,9,-999.000,9,-999.000,9,  -999.0,9,  -999.0,9,-999.0000,9,  -999.00,-999.0000
06AQ19960712,ARKXII,15,1,4,165629,2,19960727,2059,81.4183,74.5567,292,   274.5, -1.2846, 34.7504,2,-999.0000,9,  -999.0,9,  -999.0,9, -999.00,9, -999.00,9, -999.00,9, -999.00,9,-999.000,9,-999.000,9,-999.000,9,  -999.0,9,  -999.0,9,-999.0000,9,  -999.00,-999.0000
06AQ19960712,ARKXII,15,1,5,165630,2,19960727,2059,81.4183,74.5567,292,   274.5, -1.2852, 34.7497,2,-999.0000,9,  -999.0,9,  -999.0,9, -999.00,9, -999.00,9, -999.00,9, -999.00,9,-999.000,9,-999.000,9,-999.000,9,  -999.0,9,  -999.0,9,-999.0000,9,  -999.00,-999.0000
06AQ19960712,ARKXII,15,1,6,165631,2,19960727,2059,81.4183,74.5567,292,   274.5, -1.2823, 34.7502,2,-999.0000,9,  -999.0,9,  -999.0,9, -999.00,9, -999.00,9, -999.00,9, -999.00,9,-999.000,9,-999.000,9,-999.000,9,  -999.0,9,  -999.0,9,-999.0000,9,  -999.00,-999.0000
06AQ19960712,ARKXII,15,1,13,165638,2,19960727,2059,81.4183,74.5567,292,   274.6, -1.2843, 34.7505,2,-999.0000,9,  -999.0,9,  -999.0,9, -999.00,9, -999.00,9, -999.00,9, -999.00,9,-999.000,9,-999.000,9,-999.000,9,  -999.0,9,  -999.0,9,-999.0000,9,  -999.00,-999.0000
06AQ19960712,ARKXII,15,1,12,165637,2,19960727,2059,81.4183,74.5567,292,   274.6, -1.2876, 34.7504,2,-999.0000,9,  -999.0,9,  -999.0,9, -999.00,9, -999.00,9, -999.00,9, -999.00,9,-999.000,9,-999.000,9,-999.000,9,  -999.0,9,  -999.0,9,-999.0000,9,  -999.00,-999.0000
06AQ19960712,ARKXII,15,1,11,165636,2,19960727,2059,81.4183,74.5567,292,   274.6, -1.2849, 34.7503,2,-999.0000,9,  -999.0,9,  -999.0,9, -999.00,9, -999.00,9, -999.00,9, -999.00,9,-999.000,9,-999.000,9,-999.000,9,  -999.0,9,  -999.0,9,-999.0000,9,  -999.00,-999.0000
06AQ19960712,ARKXII,15,1,10,165635,2,19960727,2059,81.4183,74.5567,292,   274.6, -1.2821, 34.7507,2,-999.0000,9,  -999.0,9,  -999.0,9, -999.00,9, -999.00,9, -999.00,9, -999.00,9,-999.000,9,-999.000,9,-999.000,9,  -999.0,9,  -999.0,9,-999.0000,9,  -999.00,-999.0000
06AQ19960712,ARKXII,15,1,9,165634,2,19960727,2059,81.4183,74.5567,292,   274.6, -1.2822, 34.7503,2,-999.0000,9,  -999.0,9,  -999.0,9, -999.00,9, -999.00,9, -999.00,9, -999.00,9,-999.000,9,-999.000,9,-999.000,9,  -999.0,9,  -999.0,9,-999.0000,9,  -999.00,-999.0000
06AQ19960712,ARKXII,15,1,1,165626,2,19960727,2059,81.4183,74.5567,292,   283.6, -1.2915, 34.7507,2, 34.7457,2,  -999.0,9,   323.6,2,    5.17,2,    9.37,2, -999.00,9,    0.69,2,   6.679,2,   3.367,2,   8.204,2,  2155.2,2,  2296.4,2,   7.6967,2,    25.00, -1.2957
06AQ19960712,ARKXII,15,1,2,165627,2,19960727,2059,81.4183,74.5567,292,   283.7, -1.2932, 34.7510,2,-999.0000,9,  -999.0,9,  -999.0,9, -999.00,9, -999.00,9, -999.00,9, -999.00,9,-999.000,9,-999.000,9,-999.000,9,  -999.0,9,  -999.0,9,-999.0000,9,  -999.00,-999.0000
06AQ19960712,ARKXII,16,1,23,165684,2,19960728,0007,81.4150,74.7617,200,     9.9, -1.5939, 34.0071,2, 34.0851,2,  -999.0,9,   336.3,2,    4.10,2,    6.34,2, -999.00,9,    0.58,2,   6.777,2,   3.105,2,   8.334,2,  2147.1,2,  -999.0,9,   7.6911,2,    25.00, -1.5912
06AQ19960712,ARKXII,16,1,22,165683,2,19960728,0007,81.4150,74.7617,200,    20.2, -1.5550, 34.0718,2, 34.1091,2,  -999.0,9,   333.9,2,    4.39,2,    6.63,2, -999.00,9,    0.58,2,   7.087,2,   3.191,2,   8.209,2,  -999.0,9,  -999.0,9,   7.6834,2,    25.00, -1.5524
06AQ19960712,ARKXII,16,1,21,165682,2,19960728,0007,81.4150,74.7617,200,    29.7, -1.1158, 34.4620,2, 34.4755,2,  -999.0,9,   311.2,2,    6.24,2,    9.27,2, -999.00,9,    0.75,2,   6.580,2,   3.150,2,   7.114,2,  2170.9,2,  -999.0,9,   7.6506,2,    25.00, -1.1128
06AQ19960712,ARKXII,16,1,20,165681,2,19960728,0007,81.4150,74.7617,200,    39.9, -1.0978, 34.5219,2, 34.5374,2,  -999.0,9,   313.0,2,    6.15,2,    9.37,2, -999.00,9,    0.75,2,   6.594,2,   3.133,2,   7.504,2,  2169.3,2,  -999.0,9,   7.6593,2,    25.00, -1.0950
06AQ19960712,ARKXII,16,1,19,165680,2,19960728,0007,81.4150,74.7617,200,    50.0, -1.2160, 34.5495,2, 34.5497,2,  -999.0,9,  -999.0,9,    6.05,2,    9.46,2, -999.00,9,    0.74,2,-999.000,9,-999.000,9,-999.000,9,  2165.0,2,  -999.0,9,   7.6602,2,    25.00, -1.2142
06AQ19960712,ARKXII,16,1,18,165679,2,19960728,0007,81.4150,74.7617,200,    60.0, -1.2281, 34.5736,2, 34.5749,2,  -999.0,9,   316.9,2,    5.66,2,    9.46,2, -999.00,9,    0.72,2,   6.640,2,   3.025,2,   7.403,2,  2164.3,2,  -999.0,9,   7.6717,2,    25.00, -1.2265
06AQ19960712,ARKXII,16,1,17,165678,2,19960728,0007,81.4150,74.7617,200,    79.9, -0.8267, 34.6733,2, 34.6699,2,  -999.0,9,  -999.0,9,    4.98,2,    9.85,2, -999.00,9,    0.71,2,   6.070,2,   2.997,2,   7.950,2,  2154.9,2,  -999.0,9,   7.7006,2,    25.00, -0.8253
06AQ19960712,ARKXII,16,1,16,165677,2,19960728,0007,81.4150,74.7617,200,   100.0, -1.2186, 34.7102,2, 34.7087,2,  -999.0,9,   323.0,2,    4.68,2,    9.46,2, -999.00,9,    0.68,2,   6.104,2,   3.018,2,   8.054,2,  2153.9,2,  -999.0,9,   7.6977,2,    25.00, -1.2176
06AQ19960712,ARKXII,16,1,15,165676,2,19960728,0007,81.4150,74.7617,200,   124.8, -1.2303, 34.7242,2, 34.7239,2,  -999.0,9,  -999.0,9,    4.88,2,    9.46,2, -999.00,9,    0.68,2,   6.473,2,   3.099,2,   8.401,2,  2154.2,2,  -999.0,9,   7.6996,2,    25.00, -1.2302
06AQ19960712,ARKXII,16,1,14,165675,2,19960728,0007,81.4150,74.7617,200,   149.9, -1.2682, 34.7276,2, 34.7274,2,  -999.0,9,   322.9,2,    4.88,2,    9.46,2, -999.00,9,    0.67,2,   6.179,2,   3.096,2,   8.272,2,  2154.0,2,  -999.0,9,   7.6948,2,    25.00, -1.2689
06AQ19960712,ARKXII,16,1,13,165674,2,19960728,0007,81.4150,74.7617,200,   176.6, -1.2821, 34.7299,2, 34.7283,2,  -999.0,9,   323.1,2,    4.78,2,    9.46,2, -999.00,9,    0.67,2,   6.511,2,   3.105,2,   8.396,2,  2152.5,2,  -999.0,9,   7.6977,2,    25.00, -1.2836
06AQ19960712,ARKXII,16,1,9,165670,2,19960728,0007,81.4150,74.7617,200,   187.1, -1.2828, 34.7297,2,-999.0000,9,  -999.0,9,  -999.0,9, -999.00,9, -999.00,9, -999.00,9, -999.00,9,-999.000,9,-999.000,9,-999.000,9,  -999.0,9,  -999.0,9,-999.0000,9,  -999.00,-999.0000
06AQ19960712,ARKXII,16,1,2,165663,2,19960728,0007,81.4150,74.7617,200,   187.1, -1.2845, 34.7293,2, 34.7290,2,  -999.0,9,  -999.0,9,    4.78,2,    9.46,2, -999.00,9,    0.67,2,-999.000,9,-999.000,9,-999.000,9,  2147.9,2,  -999.0,9,   7.6948,2,    25.00, -1.2859
06AQ19960712,ARKXII,16,1,3,165664,2,19960728,0007,81.4150,74.7617,200,   187.1, -1.2843, 34.7289,2,-999.0000,9,  -999.0,9,  -999.0,9, -999.00,9, -999.00,9, -999.00,9, -999.00,9,-999.000,9,-999.000,9,-999.000,9,  -999.0,9,  -999.0,9,-999.0000,9,  -999.00,-999.0000
06AQ19960712,ARKXII,16,1,4,165665,2,19960728,0007,81.4150,74.7617,200,   187.1, -1.2845, 34.7290,2,-999.0000,9,  -999.0,9,  -999.0,9, -999.00,9, -999.00,9, -999.00,9, -999.00,9,-999.000,9,-999.000,9,-999.000,9,  -999.0,9,  -999.0,9,-999.0000,9,  -999.00,-999.0000
06AQ19960712,ARKXII,16,1,7,165668,2,19960728,0007,81.4150,74.7617,200,   187.1, -1.2833, 34.7290,2,-999.0000,9,  -999.0,9,  -999.0,9, -999.00,9, -999.00,9, -999.00,9, -999.00,9,-999.000,9,-999.000,9,-999.000,9,  -999.0,9,  -999.0,9,-999.0000,9,  -999.00,-999.0000
06AQ19960712,ARKXII,16,1,8,165669,2,19960728,0007,81.4150,74.7617,200,   187.1, -1.2826, 34.7294,2,-999.0000,9,  -999.0,9,  -999.0,9, -999.00,9, -999.00,9, -999.00,9, -999.00,9,-999.000,9,-999.000,9,-999.000,9,  -999.0,9,  -999.0,9,-999.0000,9,  -999.00,-999.0000
06AQ19960712,ARKXII,16,1,5,165666,2,19960728,0007,81.4150,74.7617,200,   187.2, -1.2831, 34.7293,2,-999.0000,9,  -999.0,9,  -999.0,9, -999.00,9, -999.00,9, -999.00,9, -999.00,9,-999.000,9,-999.000,9,-999.000,9,  -999.0,9,  -999.0,9,-999.0000,9,  -999.00,-999.0000
06AQ19960712,ARKXII,16,1,6,165667,2,19960728,0007,81.4150,74.7617,200,   187.2, -1.2830, 34.7297,2,-999.0000,9,  -999.0,9,  -999.0,9, -999.00,9, -999.00,9, -999.00,9, -999.00,9,-999.000,9,-999.000,9,-999.000,9,  -999.0,9,  -999.0,9,-999.0000,9,  -999.00,-999.0000
06AQ19960712,ARKXII,16,1,12,165673,2,19960728,0007,81.4150,74.7617,200,   187.2, -1.2822, 34.7291,2,-999.0000,9,  -999.0,9,  -999.0,9, -999.00,9, -999.00,9, -999.00,9, -999.00,9,-999.000,9,-999.000,9,-999.000,9,  -999.0,9,  -999.0,9,-999.0000,9,  -999.00,-999.0000
06AQ19960712,ARKXII,16,1,10,165671,2,19960728,0007,81.4150,74.7617,200,   187.2, -1.2831, 34.7297,2,-999.0000,9,  -999.0,9,  -999.0,9, -999.00,9, -999.00,9, -999.00,9, -999.00,9,-999.000,9,-999.000,9,-999.000,9,  -999.0,9,  -999.0,9,-999.0000,9,  -999.00,-999.0000
06AQ19960712,ARKXII,16,1,11,165672,2,19960728,0007,81.4150,74.7617,200,   187.2, -1.2829, 34.7296,2,-999.0000,9,  -999.0,9,  -999.0,9, -999.00,9, -999.00,9, -999.00,9, -999.00,9,-999.000,9,-999.000,9,-999.000,9,  -999.0,9,  -999.0,9,-999.0000,9,  -999.00,-999.0000
06AQ19960712,ARKXII,16,1,1,165662,2,19960728,0007,81.4150,74.7617,200,   196.4, -1.2875, 34.7295,2, 34.7293,2,  -999.0,9,   322.8,2,    4.78,2,    9.37,2, -999.00,9,    0.67,2,-999.000,9,-999.000,9,-999.000,9,  2155.2,2,  -999.0,9,   7.6794,2,    25.00, -1.2891
06AQ19960712,ARKXII,17,1,10,165694,2,19960728,0330,81.4167,75.7567,125,    10.3, -1.6323, 34.2561,2, 34.2510,2,  -999.0,9,   334.6,2,    4.10,2,    7.41,2, -999.00,9,    0.58,2,-999.000,9,-999.000,9,-999.000,9,  2125.6,2,  2276.6,2,   7.7065,2,    25.00, -1.6292
06AQ19960712,ARKXII,17,1,9,165693,2,19960728,0330,81.4167,75.7567,125,    20.2, -1.6361, 34.2519,2, 34.2750,2,  -999.0,9,   333.5,2,    4.10,2,    7.51,2, -999.00,9,    0.59,2,   6.563,2,   3.092,2,   8.085,2,  2125.3,2,  2282.0,2,   7.7046,2,    25.00, -1.6334
06AQ19960712,ARKXII,17,1,8,165692,2,19960728,0330,81.4167,75.7567,125,    30.2, -1.5379, 34.3998,2, 34.3804,2,  -999.0,9,   329.7,2,    4.29,2,    8.10,2, -999.00,9,    0.61,2,-999.000,9,-999.000,9,-999.000,9,  2132.1,2,  2286.7,2,   7.7036,2,    25.00, -1.5346
06AQ19960712,ARKXII,17,1,7,165691,2,19960728,0330,81.4167,75.7567,125,    39.8, -1.2808, 34.5834,2, 34.5952,2,  -999.0,9,   323.2,2,    4.59,2,    9.17,2, -999.00,9,    0.67,2,   6.406,2,   3.141,2,   8.005,2,  2140.4,2,  2290.4,2,   7.7016,2,    25.00, -1.2780
06AQ19960712,ARKXII,17,1,6,165690,2,19960728,0330,81.4167,75.7567,125,    49.8, -1.1137, 34.6314,2, 34.6379,2,  -999.0,9,   322.0,2,    4.59,2,    9.46,2, -999.00,9,    0.69,2,-999.000,9,-999.000,9,-999.000,9,  2135.7,2,  2290.6,2,   7.7055,2,    25.00, -1.1113
06AQ19960712,ARKXII,17,1,5,165689,2,19960728,0330,81.4167,75.7567,125,    60.0, -0.7946, 34.6812,2,-999.0000,9,  -999.0,9,   320.6,2,    4.59,2,    9.76,2, -999.00,9,    0.70,2,   6.264,2,   2.946,2,   7.871,2,  2136.5,2,  2297.3,2,-999.0000,9  -999.00,-999.0000
06AQ19960712,ARKXII,17,1,4,165688,2,19960728,0330,81.4167,75.7567,125,    80.0, -0.4104, 34.7362,2, 34.7363,2,  -999.0,9,   317.2,2,    4.88,2,   10.34,2, -999.00,9,    0.72,2,-999.000,9,-999.000,9,-999.000,9,  2138.8,2,  2299.1,2,   7.7131,2,    25.00, -0.4096
06AQ19960712,ARKXII,17,1,3,165687,2,19960728,0330,81.4167,75.7567,125,   104.3, -0.8600, 34.7267,2, 34.7257,2,  -999.0,9,   319.1,2,    4.78,2,    9.76,2, -999.00,9,    0.69,2,   6.628,2,   3.051,2,   7.902,2,  2142.6,2,  2300.5,2,   7.7025,2,    25.00, -0.8590
06AQ19960712,ARKXII,17,1,2,165686,2,19960728,0330,81.4167,75.7567,125,   113.4, -0.8691, 34.7248,2, 34.7240,2,  -999.0,9,   319.5,2,    4.88,2,    9.56,2, -999.00,9,    0.69,2,-999.000,9,-999.000,9,-999.000,9,  2171.4,3,  2294.9,2,   7.7054,2,    25.00, -0.8693
06AQ19960712,ARKXII,17,1,1,165685,2,19960728,0330,81.4167,75.7567,125,   122.3, -0.8800, 34.7236,2, 34.7236,2,  -999.0,9,   321.1,2,    4.78,2,    9.66,2, -999.00,9,    0.69,2,   6.209,2,   2.965,2,   7.911,2,  2158.7,2,  -999.0,9,   7.7035,2,    25.00, -0.8795