BOTTLE,20100322CCHDOSIODM
EXPOCODE,SECT_ID,STNNBR,CASTNO,SAMPNO,BTLNBR,BTLNBR_FLAG_W,DATE,TIME,LATITUDE,LONGITUDE,DEPTH,CTDPRS,CTDTMP,CTDSAL,CTDSAL_FLAG_W,SALNTY,SALNTY_FLAG_W,CTDOXY,CTDOXY_FLAG_W,OXYGEN,OXYGEN_FLAG_W,SILCAT,SILCAT_FLAG_W,NITRAT,NITRAT_FLAG_W,NITRIT,NITRIT_FLAG_W,PHSPHT,PHSPHT_FLAG_W,CFC-11,CFC-11_FLAG_W,CFC-12,CFC-12_FLAG_W,CCL4,CCL4_FLAG_W,TCARBN,TCARBN_FLAG_W,ALKALI,ALKALI_FLAG_W,PH_SWS,PH_SWS_FLAG_W,PH_TMP,THETA
,,,,,,,,,,,METERS,DBAR,ITS-90,PSS-78,,PSS-78,,UMOL/KG,,UMOL/KG,,UMOL/KG,,UMOL/KG,,UMOL/KG,,UMOL/KG,,PMOL/KG,,PMOL/KG,,PMOL/KG,,UMOL/KG,,UMOL/KG,,,,DEG C,DEG C
06AQ19960712,ARKXII,42,1,36,166376,2,19960804,2323,83.8300,98.3950,3781,   100.5,  0.2918, 34.5211,2, 34.5002,2,  -999.0,9,   310.0,2,    4.59,2,   10.73,2, -999.00,9,    0.74,2,   4.716,2,   2.119,2,   4.521,2,  2134.4,2,  -999.0,9,   7.7093,2,    25.00,  0.2921
06AQ19960712,ARKXII,42,1,35,166375,2,19960804,2323,83.8300,98.3950,3781,   150.1,  2.1007, 34.8365,2, 34.8381,2,  -999.0,9,   302.8,2,    5.46,2,   12.20,2, -999.00,9,    0.81,2,   4.818,2,   2.406,2,   5.500,2,  2147.0,2,  -999.0,9,   7.7227,2,    25.00,  2.0968
06AQ19960712,ARKXII,42,1,34,166374,2,19960804,2323,83.8300,98.3950,3781,   199.3,  2.3385, 34.9076,2, 34.9098,2,  -999.0,9,   302.2,2,    5.46,2,   12.49,2, -999.00,9,    0.83,2,   4.807,2,   2.391,2,   5.957,2,  2146.3,2,  -999.0,9,   7.7227,2,    25.00,  2.3317
06AQ19960712,ARKXII,42,1,31,166371,2,19960804,2323,83.8300,98.3950,3781,   208.9,  2.4515, 34.9268,2,-999.0000,9,  -999.0,9,  -999.0,9, -999.00,9, -999.00,9, -999.00,9, -999.00,9,-999.000,9,-999.000,9,-999.000,9,  -999.0,9,  -999.0,9,-999.0000,9,  -999.00,-999.0000
06AQ19960712,ARKXII,42,1,33,166373,2,19960804,2323,83.8300,98.3950,3781,   208.9,  2.4099, 34.9161,2, 34.9247,2,  -999.0,9,   302.5,2,    5.46,2,   12.49,2, -999.00,9,    0.83,2,-999.000,9,-999.000,9,-999.000,9,  2140.9,2,  -999.0,9,   7.7227,2,    25.00,  2.4020
06AQ19960712,ARKXII,42,1,32,166372,2,19960804,2323,83.8300,98.3950,3781,   208.9,  2.4143, 34.9190,2,-999.0000,9,  -999.0,9,  -999.0,9, -999.00,9, -999.00,9, -999.00,9, -999.00,9,-999.000,9,-999.000,9,-999.000,9,  -999.0,9,  -999.0,9,-999.0000,9,  -999.00,-999.0000
06AQ19960712,ARKXII,42,1,30,166370,2,19960804,2323,83.8300,98.3950,3781,   250.3,  2.2672, 34.9287,2, 34.9310,2,  -999.0,9,   301.4,2,    5.56,2,   12.59,2, -999.00,9,    0.86,2,   4.674,2,   2.257,2,   5.382,2,  -999.0,9,  -999.0,9,-999.0000,9,  -999.00,  2.2578
06AQ19960712,ARKXII,42,1,29,166369,2,19960804,2323,83.8300,98.3950,3781,   300.5,  2.1114, 34.9313,2, 34.9327,2,  -999.0,9,   302.9,2,    5.66,2,   12.68,2, -999.00,9,    0.86,2,   4.451,2,   2.175,2,   5.291,2,  2144.1,2,  -999.0,9,   7.7188,2,    25.00,  2.0992
06AQ19960712,ARKXII,42,1,28,166368,2,19960804,2323,83.8300,98.3950,3781,   400.5,  1.7870, 34.9349,2, 34.9374,2,  -999.0,9,   306.0,2,    5.76,2,   12.68,2, -999.00,9,    0.85,2,   4.430,2,   2.131,2,   5.550,2,  -999.0,9,  -999.0,9,-999.0000,9,  -999.00,  1.7693
06AQ19960712,ARKXII,42,1,27,166367,2,19960804,2323,83.8300,98.3950,3781,   500.2,  1.3069, 34.9235,2, 34.9215,2,  -999.0,9,   304.8,2,    6.05,2,   12.68,2, -999.00,9,    0.85,2,   3.971,2,   1.996,2,   5.125,2,  2145.9,2,  -999.0,9,   7.7101,2,    25.00,  1.2855
06AQ19960712,ARKXII,42,1,26,166366,2,19960804,2323,83.8300,98.3950,3781,   600.4,  0.8588, 34.9053,2, 34.9060,2,  -999.0,9,   303.1,2,    6.24,2,   12.78,2, -999.00,9,    0.85,2,   3.034,2,   1.384,2,   4.332,2,  -999.0,9,  -999.0,9,-999.0000,9,  -999.00,  0.8341
06AQ19960712,ARKXII,42,1,25,166365,2,19960804,2323,83.8300,98.3950,3781,   700.4,  0.4421, 34.8976,2, 34.8999,2,  -999.0,9,   306.9,2,    6.54,2,   12.78,2, -999.00,9,    0.85,2,   3.042,2,   1.386,2,   4.520,2,  2149.9,2,  -999.0,9,   7.6986,2,    25.00,  0.4140
06AQ19960712,ARKXII,42,1,24,166364,2,19960804,2323,83.8300,98.3950,3781,   800.5,  0.1615, 34.8981,2, 34.8989,2,  -999.0,9,   303.2,2,    6.63,2,   12.88,2, -999.00,9,    0.88,2,   2.672,2,   1.142,2,   4.069,2,  -999.0,9,  -999.0,9,-999.0000,9,  -999.00,  0.1296
06AQ19960712,ARKXII,42,1,23,166363,2,19960804,2323,83.8300,98.3950,3781,  1000.3, -0.2003, 34.9051,2, 34.9068,2,  -999.0,9,   303.4,2,    7.61,2,   13.17,2, -999.00,9,    0.93,2,   1.823,2,   0.857,2,   3.458,2,  2156.0,2,  -999.0,9,   7.6870,2,    25.00, -0.2400
06AQ19960712,ARKXII,42,1,22,166362,2,19960804,2323,83.8300,98.3950,3781,  1200.6, -0.4254, 34.9128,2, 34.9144,2,  -999.0,9,   301.8,2,    8.98,2,   13.66,2, -999.00,9,    0.94,2,   1.294,2,   0.629,2,   2.607,2,  -999.0,9,  -999.0,9,-999.0000,9,  -999.00, -0.4736
06AQ19960712,ARKXII,42,1,21,166361,2,19960804,2323,83.8300,98.3950,3781,  1399.9, -0.5801, 34.9160,2, 34.9180,2,  -999.0,9,   301.3,2,    9.66,2,   13.85,2, -999.00,9,    0.96,2,   0.903,2,   0.384,2,   2.032,2,  -999.0,9,  -999.0,9,-999.0000,9,  -999.00, -0.6369
06AQ19960712,ARKXII,42,1,20,166360,2,19960804,2323,83.8300,98.3950,3781,  1600.0, -0.6739, 34.9170,2, 34.9185,2,  -999.0,9,   300.6,2,   10.24,2,   14.15,2, -999.00,9,    0.98,2,   0.657,2,   0.325,2,   1.682,2,  2155.7,2,  -999.0,9,   7.6851,2,    25.00, -0.7413
06AQ19960712,ARKXII,42,1,19,166359,2,19960804,2323,83.8300,98.3950,3781,  1800.5, -0.7241, 34.9193,2, 34.9205,2,  -999.0,9,   300.9,2,   10.44,2,   14.34,2, -999.00,9,    0.97,2,   0.476,2,   0.236,2,   1.500,2,  -999.0,9,  -999.0,9,-999.0000,9,  -999.00, -0.8037
06AQ19960712,ARKXII,42,1,17,166357,2,19960804,2323,83.8300,98.3950,3781,  2000.6, -0.7644, 34.9207,2,-999.0000,9,  -999.0,9,  -999.0,9, -999.00,9, -999.00,9, -999.00,9, -999.00,9,-999.000,9,-999.000,9,-999.000,9,  -999.0,9,  -999.0,9,-999.0000,9,  -999.00,-999.0000
06AQ19960712,ARKXII,42,1,18,166358,2,19960804,2323,83.8300,98.3950,3781,  2000.7, -0.7644, 34.9199,2, 34.9223,2,  -999.0,9,   300.7,2,   10.54,2,   14.34,2, -999.00,9,    0.99,2,   0.421,2,   0.214,2,   1.191,2,  -999.0,9,  -999.0,9,-999.0000,9,  -999.00, -0.8557
06AQ19960712,ARKXII,42,1,16,166356,2,19960804,2323,83.8300,98.3950,3781,  2000.8, -0.7651, 34.9205,2,-999.0000,9,  -999.0,9,  -999.0,9, -999.00,9, -999.00,9, -999.00,9, -999.00,9,-999.000,9,-999.000,9,-999.000,9,  -999.0,9,  -999.0,9,-999.0000,9,  -999.00,-999.0000
06AQ19960712,ARKXII,42,1,15,166355,2,19960804,2323,83.8300,98.3950,3781,  2200.1, -0.7892, 34.9223,2, 34.9244,2,  -999.0,9,   300.9,2,   10.73,2,   14.34,2, -999.00,9,    0.99,2,-999.000,9,-999.000,9,-999.000,9,  2153.6,2,  -999.0,9,   7.6928,2,    25.00, -0.8935
06AQ19960712,ARKXII,42,1,14,166354,2,19960804,2323,83.8300,98.3950,3781,  2399.8, -0.7976, 34.9257,2, 34.9307,2,  -999.0,9,   300.6,2,   10.73,2,   14.34,2, -999.00,9,    0.98,2,   0.291,2,   0.158,2,   0.823,2,  -999.0,9,  -999.0,9,-999.0000,9,  -999.00, -0.9153
06AQ19960712,ARKXII,42,1,13,166353,2,19960804,2323,83.8300,98.3950,3781,  2600.0, -0.7968, 34.9278,2, 34.9309,2,  -999.0,9,   300.7,2,   10.93,2,   14.44,2, -999.00,9,    1.00,2,   0.230,2,   0.118,2,   0.644,2,  -999.0,9,  -999.0,9,-999.0000,9,  -999.00, -0.9288
06AQ19960712,ARKXII,42,1,12,166352,2,19960804,2323,83.8300,98.3950,3781,  2800.5, -0.7915, 34.9307,2, 34.9328,2,  -999.0,9,   300.6,2,   11.12,2,   14.73,2, -999.00,9,    1.01,2,   0.244,2,   0.135,2,   0.502,2,  2152.3,2,  -999.0,9,   7.7053,2,    25.00, -0.9392
06AQ19960712,ARKXII,42,1,11,166351,2,19960804,2323,83.8300,98.3950,3781,  3000.1, -0.7825, 34.9342,2, 34.9354,2,  -999.0,9,   300.0,2,   11.02,2,   14.44,2, -999.00,9,    0.99,2,-999.000,9,   0.100,2,   0.436,2,  -999.0,9,  -999.0,9,-999.0000,9,  -999.00, -0.9461
06AQ19960712,ARKXII,42,1,10,166350,2,19960804,2323,83.8300,98.3950,3781,  3199.9, -0.7644, 34.9374,2, 34.9393,2,  -999.0,9,   298.9,2,   11.22,2,   14.44,2, -999.00,9,    0.99,2,-999.000,9,   0.105,2,   0.310,2,  -999.0,9,  -999.0,9,-999.0000,9,  -999.00, -0.9450
06AQ19960712,ARKXII,42,1,9,166349,2,19960804,2323,83.8300,98.3950,3781,  3399.5, -0.7388, 34.9406,2, 34.9417,2,  -999.0,9,   297.8,2,   11.41,2,   14.44,2, -999.00,9,    0.99,2,-999.000,9,-999.000,9,-999.000,9,  2153.2,2,  -999.0,9,   7.7034,2,    25.00, -0.9368
06AQ19960712,ARKXII,42,1,8,166348,2,19960804,2323,83.8300,98.3950,3781,  3599.6, -0.7214, 34.9402,2, 34.9421,2,  -999.0,9,   298.2,2,   11.22,2,   14.44,2, -999.00,9,    0.99,2,   0.192,2,   0.093,2,   0.330,2,  -999.0,9,  -999.0,9,-999.0000,9,  -999.00, -0.9380
06AQ19960712,ARKXII,42,1,7,166347,2,19960804,2323,83.8300,98.3950,3781,  3676.3, -0.7149, 34.9402,2, 34.9422,2,  -999.0,9,   298.4,2,   11.32,2,   14.44,2, -999.00,9,    0.97,2,-999.000,9,-999.000,9,-999.000,9,  2153.7,2,  -999.0,9,   7.7034,2,    25.00, -0.9380
06AQ19960712,ARKXII,42,1,6,166346,2,19960804,2323,83.8300,98.3950,3781,  3725.5, -0.7099, 34.9402,2, 34.9422,2,  -999.0,9,   298.2,2,   11.22,2,   14.44,2, -999.00,9,    0.97,2,   0.162,2,   0.068,2,   0.406,2,  2153.3,2,  -999.0,9,   7.7005,2,    25.00, -0.9378
06AQ19960712,ARKXII,42,1,1,166341,2,19960804,2323,83.8300,98.3950,3781,  3768.3, -0.7058, 34.9396,2, 34.9422,2,  -999.0,9,   297.6,2,   11.32,2,   14.54,2, -999.00,9,    0.97,2,-999.000,9,-999.000,9,-999.000,9,  2155.1,2,  -999.0,9,   7.7053,2,    25.00, -0.9378
06AQ19960712,ARKXII,42,1,2,166342,2,19960804,2323,83.8300,98.3950,3781,  3768.4, -0.7044, 34.9386,2,-999.0000,9,  -999.0,9,  -999.0,9, -999.00,9, -999.00,9, -999.00,9, -999.00,9,-999.000,9,-999.000,9,-999.000,9,  -999.0,9,  -999.0,9,-999.0000,9,  -999.00,-999.0000
06AQ19960712,ARKXII,42,1,4,166344,2,19960804,2323,83.8300,98.3950,3781,  3768.5, -0.7054, 34.9392,2,-999.0000,9,  -999.0,9,  -999.0,9, -999.00,9, -999.00,9, -999.00,9, -999.00,9,-999.000,9,-999.000,9,-999.000,9,  -999.0,9,  -999.0,9,-999.0000,9,  -999.00,-999.0000
06AQ19960712,ARKXII,42,1,3,166343,2,19960804,2323,83.8300,98.3950,3781,  3768.5, -0.7053, 34.9390,2,-999.0000,9,  -999.0,9,  -999.0,9, -999.00,9, -999.00,9, -999.00,9, -999.00,9,-999.000,9,-999.000,9,-999.000,9,  -999.0,9,  -999.0,9,-999.0000,9,  -999.00,-999.0000
06AQ19960712,ARKXII,42,1,5,166345,2,19960804,2323,83.8300,98.3950,3781,  3768.6, -0.7055, 34.9393,2,-999.0000,9,  -999.0,9,  -999.0,9, -999.00,9, -999.00,9, -999.00,9, -999.00,9,-999.000,9,-999.000,9,-999.000,9,  -999.0,9,  -999.0,9,-999.0000,9,  -999.00,-999.0000
06AQ19960712,ARKXII,42,2,11,166387,2,19960805,0319,83.8183,98.4483,3759,     1.7, -1.7815, 34.2259,2,-999.0000,9,  -999.0,9,  -999.0,9, -999.00,9, -999.00,9, -999.00,9, -999.00,9,-999.000,9,-999.000,9,-999.000,9,  -999.0,9,  -999.0,9,-999.0000,9,  -999.00,-999.0000
06AQ19960712,ARKXII,42,2,10,166386,2,19960805,0319,83.8183,98.4483,3759,    10.1, -1.7810, 34.2223,2, 34.2311,2,  -999.0,9,   356.7,2, -999.00,9, -999.00,9, -999.00,9, -999.00,9,-999.000,9,-999.000,9,-999.000,9,  -999.0,9,  -999.0,9,-999.0000,9,  -999.00,-999.0000
06AQ19960712,ARKXII,42,2,9,166385,2,19960805,0319,83.8183,98.4483,3759,    20.6, -1.7805, 34.2506,2,-999.0000,9,  -999.0,9,  -999.0,9, -999.00,9, -999.00,9, -999.00,9, -999.00,9,-999.000,9,-999.000,9,-999.000,9,  -999.0,9,  -999.0,9,-999.0000,9,  -999.00,-999.0000
06AQ19960712,ARKXII,42,2,8,166384,2,19960805,0319,83.8183,98.4483,3759,    20.6, -1.7814, 34.2502,2,-999.0000,9,  -999.0,9,  -999.0,9, -999.00,9, -999.00,9, -999.00,9, -999.00,9,-999.000,9,-999.000,9,-999.000,9,  -999.0,9,  -999.0,9,-999.0000,9,  -999.00,-999.0000
06AQ19960712,ARKXII,42,2,7,166383,2,19960805,0319,83.8183,98.4483,3759,    20.6, -1.7826, 34.2506,2, 34.2546,2,  -999.0,9,   355.7,2, -999.00,9, -999.00,9, -999.00,9, -999.00,9,-999.000,9,-999.000,9,-999.000,9,  -999.0,9,  -999.0,9,-999.0000,9,  -999.00,-999.0000
06AQ19960712,ARKXII,42,2,6,166382,2,19960805,0319,83.8183,98.4483,3759,    30.3, -1.7903, 34.2584,2, 34.2591,2,  -999.0,9,   355.5,2, -999.00,9, -999.00,9, -999.00,9, -999.00,9,-999.000,9,-999.000,9,-999.000,9,  -999.0,9,  -999.0,9,-999.0000,9,  -999.00,-999.0000
06AQ19960712,ARKXII,42,2,5,166381,2,19960805,0319,83.8183,98.4483,3759,    40.1, -1.7939, 34.2594,2, 34.2592,2,  -999.0,9,   355.8,2, -999.00,9, -999.00,9, -999.00,9, -999.00,9,-999.000,9,-999.000,9,-999.000,9,  -999.0,9,  -999.0,9,-999.0000,9,  -999.00,-999.0000
06AQ19960712,ARKXII,42,2,4,166380,2,19960805,0319,83.8183,98.4483,3759,    49.9, -1.7880, 34.2633,2,-999.0000,9,  -999.0,9,   354.8,2, -999.00,9, -999.00,9, -999.00,9, -999.00,9,-999.000,9,-999.000,9,-999.000,9,  -999.0,9,  -999.0,9,-999.0000,9,  -999.00,-999.0000
06AQ19960712,ARKXII,42,2,3,166379,2,19960805,0319,83.8183,98.4483,3759,    59.4, -1.7839, 34.2674,2, 34.2679,2,  -999.0,9,   354.5,2, -999.00,9, -999.00,9, -999.00,9, -999.00,9,-999.000,9,-999.000,9,-999.000,9,  -999.0,9,  -999.0,9,-999.0000,9,  -999.00,-999.0000
06AQ19960712,ARKXII,42,2,2,166378,2,19960805,0319,83.8183,98.4483,3759,    63.2, -1.7793, 34.2673,2, 34.2724,2,  -999.0,9,   353.2,2, -999.00,9, -999.00,9, -999.00,9, -999.00,9,-999.000,9,-999.000,9,-999.000,9,  -999.0,9,  -999.0,9,-999.0000,9,  -999.00,-999.0000
06AQ19960712,ARKXII,42,2,1,166377,2,19960805,0319,83.8183,98.4483,3759,    82.2, -0.7253, 34.3813,2, 34.3603,2,  -999.0,9,   325.8,2, -999.00,9, -999.00,9, -999.00,9, -999.00,9,-999.000,9,-999.000,9,-999.000,9,  -999.0,9,  -999.0,9,-999.0000,9,  -999.00,-999.0000