BOTTLE,20100322CCHDOSIODM
EXPOCODE,SECT_ID,STNNBR,CASTNO,SAMPNO,BTLNBR,BTLNBR_FLAG_W,DATE,TIME,LATITUDE,LONGITUDE,DEPTH,CTDPRS,CTDTMP,CTDSAL,CTDSAL_FLAG_W,SALNTY,SALNTY_FLAG_W,CTDOXY,CTDOXY_FLAG_W,OXYGEN,OXYGEN_FLAG_W,SILCAT,SILCAT_FLAG_W,NITRAT,NITRAT_FLAG_W,NITRIT,NITRIT_FLAG_W,PHSPHT,PHSPHT_FLAG_W,CFC-11,CFC-11_FLAG_W,CFC-12,CFC-12_FLAG_W,CCL4,CCL4_FLAG_W,TCARBN,TCARBN_FLAG_W,ALKALI,ALKALI_FLAG_W,PH_SWS,PH_SWS_FLAG_W,PH_TMP,THETA
,,,,,,,,,,,METERS,DBAR,ITS-90,PSS-78,,PSS-78,,UMOL/KG,,UMOL/KG,,UMOL/KG,,UMOL/KG,,UMOL/KG,,UMOL/KG,,PMOL/KG,,PMOL/KG,,PMOL/KG,,UMOL/KG,,UMOL/KG,,,,DEG C,DEG C
06AQ19960712,ARKXII,82,2,28,167916,2,19960820,0808,82.5233,132.8967,3972,     1.6, -1.6997, 32.5686,2,-999.0000,9,  -999.0,9,  -999.0,9, -999.00,9, -999.00,9, -999.00,9, -999.00,9,-999.000,9,-999.000,9,-999.000,9,  -999.0,9,  -999.0,9,-999.0000,9,  -999.00,-999.0000
06AQ19960712,ARKXII,82,2,27,167915,2,19960820,0808,82.5233,132.8967,3972,    10.1, -1.7135, 32.6098,2,-999.0000,9,  -999.0,9,  -999.0,9, -999.00,9, -999.00,9, -999.00,9, -999.00,9,-999.000,9,-999.000,9,-999.000,9,  -999.0,9,  -999.0,9,-999.0000,9,  -999.00,-999.0000
06AQ19960712,ARKXII,82,2,26,167914,2,19960820,0808,82.5233,132.8967,3972,    10.1, -1.7138, 32.6072,2,-999.0000,9,  -999.0,9,  -999.0,9, -999.00,9, -999.00,9, -999.00,9, -999.00,9,-999.000,9,-999.000,9,-999.000,9,  -999.0,9,  -999.0,9,-999.0000,9,  -999.00,-999.0000
06AQ19960712,ARKXII,82,2,25,167913,2,19960820,0808,82.5233,132.8967,3972,    10.1, -1.7135, 32.6089,2,-999.0000,9,  -999.0,9,  -999.0,9, -999.00,9, -999.00,9, -999.00,9, -999.00,9,-999.000,9,-999.000,9,-999.000,9,  -999.0,9,  -999.0,9,-999.0000,9,  -999.00,-999.0000
06AQ19960712,ARKXII,82,2,24,167912,2,19960820,0808,82.5233,132.8967,3972,    10.2, -1.7137, 32.6094,2, 32.6175,2,  -999.0,9,   384.1,2,    3.02,2,    2.05,2, -999.00,9,    0.39,2,-999.000,9,-999.000,9,-999.000,9,  2107.1,2,  2237.4,2,   7.6964,2,    25.00, -1.7142
06AQ19960712,ARKXII,82,2,23,167911,2,19960820,0808,82.5233,132.8967,3972,    20.2, -1.7112, 32.6189,2,-999.0000,9,  -999.0,9,  -999.0,9, -999.00,9, -999.00,9, -999.00,9, -999.00,9,-999.000,9,-999.000,9,-999.000,9,  -999.0,9,  -999.0,9,-999.0000,9,  -999.00,-999.0000
06AQ19960712,ARKXII,82,2,22,167910,2,19960820,0808,82.5233,132.8967,3972,    20.2, -1.7112, 32.6204,2, 32.6317,2,  -999.0,9,   383.9,2,    3.12,2,    1.95,2, -999.00,9,    0.40,2,   7.261,2,   3.507,2,   8.228,2,  2106.5,2,  2236.5,2,   7.6878,2,    25.00, -1.7123
06AQ19960712,ARKXII,82,2,21,167909,2,19960820,0808,82.5233,132.8967,3972,    30.4, -1.7079, 32.6764,2,-999.0000,9,  -999.0,9,  -999.0,9, -999.00,9, -999.00,9, -999.00,9, -999.00,9,-999.000,9,-999.000,9,-999.000,9,  -999.0,9,  -999.0,9,-999.0000,9,  -999.00,-999.0000
06AQ19960712,ARKXII,82,2,20,167908,2,19960820,0808,82.5233,132.8967,3972,    30.4, -1.7091, 32.7000,2, 32.7221,2,  -999.0,9,   382.0,2,    3.12,2,    2.24,2, -999.00,9,    0.41,2,   7.302,2,   3.653,2,   7.917,2,  2112.8,2,  2243.9,2,   7.6887,2,    25.00, -1.7105
06AQ19960712,ARKXII,82,2,19,167907,2,19960820,0808,82.5233,132.8967,3972,    40.1, -1.7406, 33.1151,2,-999.0000,9,  -999.0,9,  -999.0,9, -999.00,9, -999.00,9, -999.00,9, -999.00,9,-999.000,9,-999.000,9,-999.000,9,  -999.0,9,  -999.0,9,-999.0000,9,  -999.00,-999.0000
06AQ19960712,ARKXII,82,2,18,167906,2,19960820,0808,82.5233,132.8967,3972,    40.1, -1.7368, 33.0436,2, 33.0858,2,  -999.0,9,   366.9,2,    3.51,2,    3.71,2, -999.00,9,    0.48,2,-999.000,9,-999.000,9,-999.000,9,  -999.0,9,  -999.0,9,-999.0000,9,  -999.00, -1.7377
06AQ19960712,ARKXII,82,2,17,167905,2,19960820,0808,82.5233,132.8967,3972,    50.3, -1.7692, 33.6130,2,-999.0000,9,  -999.0,9,  -999.0,9, -999.00,9, -999.00,9, -999.00,9, -999.00,9,-999.000,9,-999.000,9,-999.000,9,  -999.0,9,  -999.0,9,-999.0000,9,  -999.00,-999.0000
06AQ19960712,ARKXII,82,2,16,167904,2,19960820,0808,82.5233,132.8967,3972,    50.3, -1.7673, 33.6342,2,-999.0000,9,  -999.0,9,  -999.0,9, -999.00,9, -999.00,9, -999.00,9, -999.00,9,-999.000,9,-999.000,9,-999.000,9,  -999.0,9,  -999.0,9,-999.0000,9,  -999.00,-999.0000
06AQ19960712,ARKXII,82,2,15,167903,2,19960820,0808,82.5233,132.8967,3972,    60.6, -1.6800, 33.8000,2, 33.8060,2,  -999.0,9,   334.6,2,    4.20,2,    6.15,2, -999.00,9,    0.60,2,   6.778,2,   3.139,2,   5.458,2,  2131.6,2,  2254.5,2,   7.6749,2,    25.00, -1.6812
06AQ19960712,ARKXII,82,2,14,167902,2,19960820,0808,82.5233,132.8967,3972,    80.0, -1.6150, 34.0284,2,-999.0000,9,  -999.0,9,  -999.0,9, -999.00,9, -999.00,9, -999.00,9, -999.00,9,-999.000,9,-999.000,9,-999.000,9,  -999.0,9,  -999.0,9,-999.0000,9,  -999.00,-999.0000
06AQ19960712,ARKXII,82,2,13,167901,2,19960820,0808,82.5233,132.8967,3972,    80.0, -1.5634, 34.0634,2, 34.0631,2,  -999.0,9,   325.3,2,    4.39,2,    6.73,2, -999.00,9,    0.64,2,   6.485,2,   3.199,2,   5.404,2,  2137.4,2,  2266.5,2,   7.6710,2,    25.00, -1.5657
06AQ19960712,ARKXII,82,2,11,167899,2,19960820,0808,82.5233,132.8967,3972,   100.2, -1.2132, 34.2329,2, 34.2360,2,  -999.0,9,   320.9,2,    4.39,2,    7.61,2, -999.00,9,    0.71,2,   6.204,2,   3.045,2,   5.289,2,  2135.1,2,  2267.1,2,   7.6767,2,    25.00, -1.2155
06AQ19960712,ARKXII,82,2,12,167900,2,19960820,0808,82.5233,132.8967,3972,   100.2, -1.2999, 34.2072,2,-999.0000,9,  -999.0,9,  -999.0,9, -999.00,9, -999.00,9, -999.00,9, -999.00,9,-999.000,9,-999.000,9,-999.000,9,  -999.0,9,  -999.0,9,-999.0000,9,  -999.00,-999.0000
06AQ19960712,ARKXII,82,2,10,167898,2,19960820,0808,82.5233,132.8967,3972,   125.6, -0.3479, 34.4209,2, 34.4183,2,  -999.0,9,   314.9,2,    4.49,2,    8.59,2, -999.00,9,    0.74,2,   5.751,2,   2.703,2,   5.343,2,  -999.0,9,  -999.0,9,-999.0000,9,  -999.00, -0.3521
06AQ19960712,ARKXII,82,2,9,167897,2,19960820,0808,82.5233,132.8967,3972,   149.9,  0.4233, 34.5684,2, 34.5822,2,  -999.0,9,   308.7,2,    4.98,2,    9.46,2, -999.00,9,    0.78,2,   5.365,2,   2.640,2,   5.177,2,  2140.5,2,  2280.0,2,   7.6901,2,    25.00,  0.4170
06AQ19960712,ARKXII,82,2,8,167896,2,19960820,0808,82.5233,132.8967,3972,   200.6,  1.5192, 34.8171,2, 34.8254,2,  -999.0,9,   302.6,2,    5.46,2,   10.73,2, -999.00,9,    0.84,2,   4.907,2,   2.478,2,   5.294,2,  -999.0,9,  -999.0,9,-999.0000,9,  -999.00,  1.5099
06AQ19960712,ARKXII,82,2,7,167895,2,19960820,0808,82.5233,132.8967,3972,   260.1,  1.8020, 34.8813,2, 34.8914,2,  -999.0,9,   304.1,2,    5.46,2,   11.02,2, -999.00,9,    0.87,2,   4.789,2,   2.282,2,   5.469,2,  2142.9,2,  2293.1,2,   7.7121,2,    25.00,  1.7882
06AQ19960712,ARKXII,82,2,6,167894,2,19960820,0808,82.5233,132.8967,3972,   300.5,  1.5761, 34.8708,2, 34.8841,2,  -999.0,9,   304.2,2,    5.56,2,   10.93,2, -999.00,9,    0.85,2,   5.138,2,   2.340,2,   5.593,2,  -999.0,9,  -999.0,9,-999.0000,9,  -999.00,  1.5605
06AQ19960712,ARKXII,82,2,5,167893,2,19960820,0808,82.5233,132.8967,3972,   400.3,  1.2119, 34.8813,2, 34.8918,2,  -999.0,9,   304.9,2,    5.76,2,   11.02,2, -999.00,9,    0.87,2,   4.494,2,   2.137,2,   5.407,2,  2146.9,2,  2294.3,2,   7.7006,2,    25.00,  1.1923
06AQ19960712,ARKXII,82,2,4,167892,2,19960820,0808,82.5233,132.8967,3972,   500.8,  0.7535, 34.8714,2, 34.8815,2,  -999.0,9,   305.3,2,    5.85,2,   11.12,2, -999.00,9,    0.87,2,-999.000,9,-999.000,9,-999.000,9,  -999.0,9,  -999.0,9,-999.0000,9,  -999.00,  0.7308
06AQ19960712,ARKXII,82,2,3,167891,2,19960820,0808,82.5233,132.8967,3972,   600.5,  0.3795, 34.8647,2, 34.8745,2,  -999.0,9,   306.4,2,    5.95,2,   10.93,2, -999.00,9,    0.89,2,   4.265,2,   2.085,2,   5.235,2,  2151.2,2,  2288.9,2,   7.6871,2,    25.00,  0.3534
06AQ19960712,ARKXII,82,2,2,167890,2,19960820,0808,82.5233,132.8967,3972,   699.5,  0.0545, 34.8590,2, 34.8703,2,  -999.0,9,   307.7,2,    6.15,2,   10.83,2, -999.00,9,    0.88,2,-999.000,9,-999.000,9,-999.000,9,  -999.0,9,  -999.0,9,-999.0000,9,  -999.00,  0.0253
06AQ19960712,ARKXII,82,2,1,167889,2,19960820,0808,82.5233,132.8967,3972,   800.1, -0.1004, 34.8613,2, 34.8727,2,  -999.0,9,   308.1,2,    6.34,2,   10.83,2, -999.00,9,    0.88,2,   4.370,2,   2.170,2,   5.288,2,  -999.0,9,  -999.0,9,-999.0000,9,  -999.00, -0.1336
06AQ19960712,ARKXII,84,1,36,167964,2,19960823,0936,81.0733,138.9217,1757,     2.1, -1.7188, 32.6978,2,-999.0000,9,  -999.0,9,  -999.0,9, -999.00,9, -999.00,9, -999.00,9, -999.00,9,-999.000,9,-999.000,9,-999.000,9,  -999.0,9,  -999.0,9,-999.0000,9,  -999.00,-999.0000
06AQ19960712,ARKXII,84,1,35,167963,2,19960823,0936,81.0733,138.9217,1757,     9.1, -1.7216, 32.6905,2, 32.6878,2,  -999.0,9,   370.4,2,    2.05,2,    1.95,2, -999.00,9,    0.38,2,   7.153,2,   3.367,2,   8.299,2,  2095.0,2,  2242.6,2,   7.6983,2,    25.00, -1.7192
06AQ19960712,ARKXII,84,1,34,167962,2,19960823,0936,81.0733,138.9217,1757,    20.0, -1.7198, 32.7349,2, 32.8930,2,  -999.0,9,   362.9,2,    2.54,2,    2.73,2, -999.00,9,    0.42,2,   7.140,2,   3.375,2,   7.815,2,  -999.0,9,  -999.0,9,-999.0000,9,  -999.00, -1.7164
06AQ19960712,ARKXII,84,1,33,167961,2,19960823,0936,81.0733,138.9217,1757,    29.0, -1.7404, 33.1230,2, 33.0885,2,  -999.0,9,   355.3,2,    3.12,2,    3.41,2, -999.00,9,    0.47,2,   7.062,2,   3.221,2,   7.687,2,  2120.7,2,  2247.4,2,   7.6703,2,    25.00, -1.7385
06AQ19960712,ARKXII,84,1,32,167960,2,19960823,0936,81.0733,138.9217,1757,    39.6, -1.7490, 33.5786,2, 33.5491,2,  -999.0,9,   330.3,2,    4.88,2,    5.56,2, -999.00,9,    0.60,2,   6.827,2,   3.273,2,   6.855,2,  -999.0,9,  -999.0,9,-999.0000,9,  -999.00, -1.7427
06AQ19960712,ARKXII,84,1,31,167959,2,19960823,0936,81.0733,138.9217,1757,    49.9, -1.6633, 33.7635,2,-999.0000,9,  -999.0,9,  -999.0,9, -999.00,9, -999.00,9, -999.00,9, -999.00,9,-999.000,9,-999.000,9,-999.000,9,  -999.0,9,  -999.0,9,-999.0000,9,  -999.00,-999.0000
06AQ19960712,ARKXII,84,1,30,167958,2,19960823,0936,81.0733,138.9217,1757,    60.1, -1.5488, 33.9147,2, 33.9221,2,  -999.0,9,   317.7,2,    5.07,2,    6.93,2, -999.00,9,    0.66,2,   6.766,2,   3.144,2,   6.316,2,  2148.2,2,  2266.6,2,   7.6432,2,    25.00, -1.5373
06AQ19960712,ARKXII,84,1,29,167957,2,19960823,0936,81.0733,138.9217,1757,    79.8, -1.3388, 34.2043,2,-999.0000,9,  -999.0,9,  -999.0,9, -999.00,9, -999.00,9, -999.00,9, -999.00,9,-999.000,9,-999.000,9,-999.000,9,  -999.0,9,  -999.0,9,-999.0000,9,  -999.00,-999.0000
06AQ19960712,ARKXII,84,1,28,167956,2,19960823,0936,81.0733,138.9217,1757,    79.8, -1.3572, 34.1926,2, 34.1692,2,  -999.0,9,   314.3,2,    4.88,2,    7.71,2, -999.00,9,    0.69,2,   6.623,2,   3.096,2,   5.986,2,  2145.0,2,  2271.9,2,   7.6517,2,    25.00, -1.3329
06AQ19960712,ARKXII,84,1,27,167955,2,19960823,0936,81.0733,138.9217,1757,    99.4, -1.1574, 34.3255,2,-999.0000,9,  -999.0,9,  -999.0,9, -999.00,9, -999.00,9, -999.00,9, -999.00,9,-999.000,9,-999.000,9,-999.000,9,  -999.0,9,  -999.0,9,-999.0000,9,  -999.00,-999.0000
06AQ19960712,ARKXII,84,1,26,167954,2,19960823,0936,81.0733,138.9217,1757,    99.5, -1.1496, 34.3322,2, 34.3240,2,  -999.0,9,   316.1,2,    4.49,2,    8.20,2, -999.00,9,    0.71,2,   6.320,2,   2.962,2,   5.866,2,  2142.4,2,  2275.2,2,   7.6651,2,    25.00, -1.1286
06AQ19960712,ARKXII,84,1,24,167952,2,19960823,0936,81.0733,138.9217,1757,   149.3, -0.2199, 34.5714,2, 34.5645,2,  -999.0,9,   311.4,2,    4.59,2,    9.17,2, -999.00,9,    0.75,2,   5.905,2,   2.722,2,   6.156,2,  2144.9,2,  2287.7,2,   7.6814,2,    25.00, -0.2222
06AQ19960712,ARKXII,84,1,25,167953,2,19960823,0936,81.0733,138.9217,1757,   149.3, -0.2925, 34.5602,2,-999.0000,9,  -999.0,9,  -999.0,9, -999.00,9, -999.00,9, -999.00,9, -999.00,9,-999.000,9,-999.000,9,-999.000,9,  -999.0,9,  -999.0,9,-999.0000,9,  -999.00,-999.0000
06AQ19960712,ARKXII,84,1,22,167950,2,19960823,0936,81.0733,138.9217,1757,   200.1,  1.1225, 34.7953,2, 34.7898,2,  -999.0,9,   305.5,2,    5.17,2,   10.83,2, -999.00,9,    0.83,2,-999.000,9,-999.000,9,-999.000,9,  -999.0,9,  -999.0,9,-999.0000,9,  -999.00,  1.1246
06AQ19960712,ARKXII,84,1,23,167951,2,19960823,0936,81.0733,138.9217,1757,   200.1,  1.0619, 34.7879,2,-999.0000,9,  -999.0,9,  -999.0,9, -999.00,9, -999.00,9, -999.00,9, -999.00,9,-999.000,9,-999.000,9,-999.000,9,  -999.0,9,  -999.0,9,-999.0000,9,  -999.00,-999.0000
06AQ19960712,ARKXII,84,1,21,167949,2,19960823,0936,81.0733,138.9217,1757,   249.9,  1.3226, 34.8455,2,-999.0000,9,  -999.0,9,  -999.0,9, -999.00,9, -999.00,9, -999.00,9, -999.00,9,-999.000,9,-999.000,9,-999.000,9,  -999.0,9,  -999.0,9,-999.0000,9,  -999.00,-999.0000
06AQ19960712,ARKXII,84,1,20,167948,2,19960823,0936,81.0733,138.9217,1757,   259.2,  1.3022, 34.8469,2, 34.8457,2,  -999.0,9,   306.0,2,    5.37,2,   11.02,2, -999.00,9,    0.84,2,   5.169,2,   2.495,2,   5.817,2,  2144.2,2,  2297.5,2,   7.7044,2,    25.00,  1.2914
06AQ19960712,ARKXII,84,1,18,167946,2,19960823,0936,81.0733,138.9217,1757,   300.1,  1.1044, 34.8406,2, 34.8400,2,  -999.0,9,   307.4,2,    5.27,2,   10.93,2, -999.00,9,    0.83,2,-999.000,9,-999.000,9,-999.000,9,  -999.0,9,  -999.0,9,-999.0000,9,  -999.00,  1.0977
06AQ19960712,ARKXII,84,1,19,167947,2,19960823,0936,81.0733,138.9217,1757,   300.1,  1.1209, 34.8389,2,-999.0000,9,  -999.0,9,  -999.0,9, -999.00,9, -999.00,9, -999.00,9, -999.00,9,-999.000,9,-999.000,9,-999.000,9,  -999.0,9,  -999.0,9,-999.0000,9,  -999.00,-999.0000
06AQ19960712,ARKXII,84,1,17,167945,2,19960823,0936,81.0733,138.9217,1757,   399.4,  0.9139, 34.8663,2, 34.8651,2,  -999.0,9,   307.2,2,    5.56,2,   11.02,2, -999.00,9,    0.85,2,   5.189,2,   2.378,2,   5.862,2,  2148.6,2,  2294.8,2,   7.6957,2,    25.00,  0.9062
06AQ19960712,ARKXII,84,1,15,167943,2,19960823,0936,81.0733,138.9217,1757,   500.0,  0.6860, 34.8746,2, 34.8736,2,  -999.0,9,   307.9,2,    5.76,2,   11.41,2, -999.00,9,    0.86,2,   4.945,2,   2.246,2,   5.823,2,  2145.6,2,  2293.3,2,   7.6938,2,    25.00,  0.6681
06AQ19960712,ARKXII,84,1,16,167944,2,19960823,0936,81.0733,138.9217,1757,   500.1,  0.6886, 34.8736,2,-999.0000,9,  -999.0,9,  -999.0,9, -999.00,9, -999.00,9, -999.00,9, -999.00,9,-999.000,9,-999.000,9,-999.000,9,  -999.0,9,  -999.0,9,-999.0000,9,  -999.00,-999.0000
06AQ19960712,ARKXII,84,1,14,167942,2,19960823,0936,81.0733,138.9217,1757,   600.1,  0.3396, 34.8669,2, 34.8659,2,  -999.0,9,   309.3,2,    5.85,2,   11.51,2, -999.00,9,    0.87,2,-999.000,9,-999.000,9,-999.000,9,  -999.0,9,  -999.0,9,-999.0000,9,  -999.00,  0.3176
06AQ19960712,ARKXII,84,1,13,167941,2,19960823,0936,81.0733,138.9217,1757,   699.6,  0.0447, 34.8602,2, 34.8596,2,  -999.0,9,   312.3,2,    5.76,2,   11.22,2, -999.00,9,    0.85,2,   5.194,2,   2.479,2,   6.242,2,  2149.9,2,  2293.5,2,   7.6794,2,    25.00,  0.0194
06AQ19960712,ARKXII,84,1,12,167940,2,19960823,0936,81.0733,138.9217,1757,   749.2,  0.0066, 34.8644,2,-999.0000,9,  -999.0,9,  -999.0,9, -999.00,9, -999.00,9, -999.00,9, -999.00,9,-999.000,9,-999.000,9,-999.000,9,  -999.0,9,  -999.0,9,-999.0000,9,  -999.00,-999.0000
06AQ19960712,ARKXII,84,1,11,167939,2,19960823,0936,81.0733,138.9217,1757,   798.4, -0.0310, 34.8687,2, 34.8700,2,  -999.0,9,   311.5,2,    5.95,2,   11.41,2, -999.00,9,    0.87,2,   5.252,2,   2.359,2,   6.163,2,  -999.0,9,  -999.0,9,-999.0000,9,  -999.00, -0.0600
06AQ19960712,ARKXII,84,1,9,167937,2,19960823,0936,81.0733,138.9217,1757,   998.8, -0.1990, 34.8801,2, 34.8794,2,  -999.0,9,   311.2,2,    6.44,2,   11.32,2, -999.00,9,    0.87,2,-999.000,9,-999.000,9,-999.000,9,  2154.9,2,  2296.2,2,   7.6717,2,    25.00, -0.2380
06AQ19960712,ARKXII,84,1,10,167938,2,19960823,0936,81.0733,138.9217,1757,   998.9, -0.1935, 34.8792,2,-999.0000,9,  -999.0,9,  -999.0,9, -999.00,9, -999.00,9, -999.00,9, -999.00,9,-999.000,9,-999.000,9,-999.000,9,  -999.0,9,  -999.0,9,-999.0000,9,  -999.00,-999.0000
06AQ19960712,ARKXII,84,1,8,167936,2,19960823,0936,81.0733,138.9217,1757,  1199.5, -0.2576, 34.8978,2, 34.8983,2,  -999.0,9,   308.5,2,    7.22,2,   12.00,2, -999.00,9,    0.91,2,   4.551,2,   2.049,2,   5.372,2,  2158.7,2,  2296.0,2,   7.6649,2,    25.00, -0.3062
06AQ19960712,ARKXII,84,1,7,167935,2,19960823,0936,81.0733,138.9217,1757,  1400.5, -0.3809, 34.9073,2, 34.9081,2,  -999.0,9,   304.8,2,    8.20,2,   12.20,2, -999.00,9,    0.93,2,   2.975,2,   1.395,2,   4.293,2,  -999.0,9,  -999.0,9,-999.0000,9,  -999.00, -0.4392
06AQ19960712,ARKXII,84,1,6,167934,2,19960823,0936,81.0733,138.9217,1757,  1499.5, -0.4656, 34.9088,2,-999.0000,9,  -999.0,9,  -999.0,9, -999.00,9, -999.00,9, -999.00,9, -999.00,9,-999.000,9,-999.000,9,-999.000,9,  -999.0,9,  -999.0,9,-999.0000,9,  -999.00,-999.0000
06AQ19960712,ARKXII,84,1,5,167933,2,19960823,0936,81.0733,138.9217,1757,  1600.1, -0.5365, 34.9137,2, 34.9140,2,  -999.0,9,   301.4,2,    9.27,2,   12.88,2, -999.00,9,    0.99,2,-999.000,9,-999.000,9,-999.000,9,  2155.7,2,  2296.4,2,   7.6832,2,    25.00, -0.6060
06AQ19960712,ARKXII,84,1,4,167932,2,19960823,0936,81.0733,138.9217,1757,  1704.9, -0.6903, 34.9210,2, 34.9199,2,  -999.0,9,   298.0,2,   10.54,2,   13.37,2, -999.00,9,    1.01,2,   0.942,2,   0.351,2,   1.681,2,  2157.1,2,  2297.5,2,   7.6842,2,    25.00, -0.7633
06AQ19960712,ARKXII,84,1,3,167931,2,19960823,0936,81.0733,138.9217,1757,  1714.3, -0.7187, 34.9202,2, 34.9204,2,  -999.0,9,   297.8,2,   10.54,2,   13.56,2, -999.00,9,    1.01,2,   0.579,2,   0.287,2,   1.554,2,  2160.5,2,  2293.4,2,   7.6794,2,    25.00, -0.7925
06AQ19960712,ARKXII,84,1,2,167930,2,19960823,0936,81.0733,138.9217,1757,  1723.4, -0.7312, 34.9190,2,-999.0000,9,  -999.0,9,  -999.0,9, -999.00,9, -999.00,9, -999.00,9, -999.00,9,-999.000,9,-999.000,9,-999.000,9,  -999.0,9,  -999.0,9,-999.0000,9,  -999.00,-999.0000
06AQ19960712,ARKXII,84,1,1,167929,2,19960823,0936,81.0733,138.9217,1757,  1723.4, -0.7206, 34.9172,2, 34.9216,2,  -999.0,9,   296.9,2,   10.63,2,   13.37,2, -999.00,9,    1.00,2,   0.576,2,   0.285,2,   1.465,2,  2161.1,2,  2295.7,2,   7.6813,2,    25.00, -0.8009