BOTTLE,20100322CCHDOSIODM
EXPOCODE,SECT_ID,STNNBR,CASTNO,SAMPNO,BTLNBR,BTLNBR_FLAG_W,DATE,TIME,LATITUDE,LONGITUDE,DEPTH,CTDPRS,CTDTMP,CTDSAL,CTDSAL_FLAG_W,SALNTY,SALNTY_FLAG_W,CTDOXY,CTDOXY_FLAG_W,OXYGEN,OXYGEN_FLAG_W,SILCAT,SILCAT_FLAG_W,NITRAT,NITRAT_FLAG_W,NITRIT,NITRIT_FLAG_W,PHSPHT,PHSPHT_FLAG_W,CFC-11,CFC-11_FLAG_W,CFC-12,CFC-12_FLAG_W,CCL4,CCL4_FLAG_W,TCARBN,TCARBN_FLAG_W,ALKALI,ALKALI_FLAG_W,PH_SWS,PH_SWS_FLAG_W,PH_TMP,THETA
,,,,,,,,,,,METERS,DBAR,ITS-90,PSS-78,,PSS-78,,UMOL/KG,,UMOL/KG,,UMOL/KG,,UMOL/KG,,UMOL/KG,,UMOL/KG,,PMOL/KG,,PMOL/KG,,PMOL/KG,,UMOL/KG,,UMOL/KG,,,,DEG C,DEG C
06AQ19960712,ARKXII,52,2,36,166807,2,19960808,1040,85.4050,113.0100,4424,    10.6, -1.7686, 34.1059,2, 34.1052,2,  -999.0,9,   367.3,2,    2.44,2,    5.17,2, -999.00,9,    0.45,2,   6.360,2,   2.997,2,   6.197,2,  2103.7,2,  -999.0,9,   7.7520,2,    25.00, -1.7682
06AQ19960712,ARKXII,52,2,35,166806,2,19960808,1040,85.4050,113.0100,4424,    20.5, -1.7752, 34.1019,2, 34.1065,2,  -999.0,9,   367.1,2,    2.63,2,    5.66,2, -999.00,9,    0.49,2,   6.169,2,   3.013,2,   5.803,2,  2119.7,2,  -999.0,9,   7.7471,2,    25.00, -1.7714
06AQ19960712,ARKXII,52,2,34,166805,2,19960808,1040,85.4050,113.0100,4424,    31.2, -1.7899, 34.2063,2, 34.2285,2,  -999.0,9,   362.7,2,    2.73,2,    5.66,2, -999.00,9,    0.50,2,   6.163,2,   2.902,2,   5.862,2,  -999.0,9,  -999.0,9,-999.0000,9,  -999.00, -1.7866
06AQ19960712,ARKXII,52,2,33,166804,2,19960808,1040,85.4050,113.0100,4424,    40.8, -1.8040, 34.2306,2, 34.2355,2,  -999.0,9,   362.2,2, -999.00,9, -999.00,9, -999.00,9, -999.00,9,-999.000,9,-999.000,9,-999.000,9,  -999.0,9,  -999.0,9,-999.0000,9,  -999.00, -1.8008
06AQ19960712,ARKXII,52,2,32,166802,2,19960808,1040,85.4050,113.0100,4424,    61.1, -1.8456, 34.2903,2, 34.2901,2,  -999.0,9,   357.4,2,    2.73,2,    6.05,2, -999.00,9,    0.51,2,-999.000,9,-999.000,9,-999.000,9,  -999.0,9,  -999.0,9,   7.7577,2,    25.00, -1.8421
06AQ19960712,ARKXII,52,2,31,166801,2,19960808,1040,85.4050,113.0100,4424,    80.7, -1.8372, 34.2960,2, 34.2944,2,  -999.0,9,   358.7,2,    2.83,2,    6.15,2, -999.00,9,    0.52,2,   6.059,2,   2.476,2,   5.297,2,  2114.1,2,  -999.0,9,   7.7432,2,    25.00, -1.8355
06AQ19960712,ARKXII,52,2,30,166800,2,19960808,1040,85.4050,113.0100,4424,    80.7, -1.8399, 34.2955,2, 34.2983,2,  -999.0,9,   358.0,2,    2.83,2,    6.15,2, -999.00,9,    0.52,2,   6.052,2,   2.804,2,   5.355,2,  2119.9,2,  -999.0,9,   7.7451,2,    25.00, -1.8375
06AQ19960712,ARKXII,52,2,29,166799,2,19960808,1040,85.4050,113.0100,4424,   100.2, -1.8091, 34.3002,2, 34.3008,2,  -999.0,9,   357.2,2,    2.83,2,    6.15,2, -999.00,9,    0.51,2,   6.116,2,   2.811,2,   5.259,2,  2116.4,2,  -999.0,9,   7.7403,2,    25.00, -1.8080
06AQ19960712,ARKXII,52,2,28,166798,2,19960808,1040,85.4050,113.0100,4424,   150.6, -0.1840, 34.5137,2, 34.5120,2,  -999.0,9,   305.0,2,    4.78,2,    9.76,2, -999.00,9,    0.73,2,-999.000,9,-999.000,9,-999.000,9,  -999.0,9,  -999.0,9,-999.0000,9,  -999.00, -0.1483
06AQ19960712,ARKXII,52,2,27,166797,2,19960808,1040,85.4050,113.0100,4424,   200.7,  1.3430, 34.8115,2, 34.8739,2,  -999.0,9,   299.9,2,    5.37,2,   11.22,2, -999.00,9,    0.81,2,   4.526,2,   2.085,2,   4.595,2,  2138.0,2,  -999.0,9,   7.7131,2,    25.00,  1.3353
06AQ19960712,ARKXII,52,2,26,166796,2,19960808,1040,85.4050,113.0100,4424,   250.6,  1.4569, 34.8739,2, 34.8742,2,  -999.0,9,   301.7,2,    5.56,2,   11.51,2, -999.00,9,    0.82,2,   4.469,2,   1.958,2,   4.781,2,  -999.0,9,  -999.0,9,-999.0000,9,  -999.00,  1.4545
06AQ19960712,ARKXII,52,2,25,166795,2,19960808,1040,85.4050,113.0100,4424,   401.1,  1.0171, 34.8893,2, 34.8882,2,  -999.0,9,   302.3,2,    5.85,2,   11.61,2, -999.00,9,    0.84,2,   3.555,2,   1.707,2,   4.679,2,  2144.3,2,  -999.0,9,   7.7102,2,    25.00,  1.0038
06AQ19960712,ARKXII,52,2,24,166794,2,19960808,1040,85.4050,113.0100,4424,   500.0,  0.6843, 34.8922,2, 34.8915,2,  -999.0,9,   302.6,2,    5.95,2,   11.61,2, -999.00,9,    0.84,2,-999.000,9,-999.000,9,-999.000,9,  -999.0,9,  -999.0,9,-999.0000,9,  -999.00,  0.6581
06AQ19960712,ARKXII,52,2,23,166793,2,19960808,1040,85.4050,113.0100,4424,   650.3,  0.1820, 34.8836,2, 34.8826,2,  -999.0,9,   305.1,2,    6.24,2,   11.51,2, -999.00,9,    0.84,2,   4.166,2,   1.740,2,   4.738,2,  2154.9,2,  -999.0,9,   7.6909,2,    25.00,  0.1590
06AQ19960712,ARKXII,52,2,22,166792,2,19960808,1040,85.4050,113.0100,4424,   800.4, -0.1256, 34.8850,2, 34.8846,2,  -999.0,9,   304.6,2,    6.63,2,   11.61,2, -999.00,9,    0.84,2,   3.092,2,   1.488,2,   4.514,2,  -999.0,9,  -999.0,9,-999.0000,9,  -999.00, -0.1545
06AQ19960712,ARKXII,52,2,21,166791,2,19960808,1040,85.4050,113.0100,4424,   950.7, -0.4505, 34.8725,2, 34.8735,2,  -999.0,9,   307.8,2,    6.44,3,   11.32,2, -999.00,9,    0.83,2,-999.000,9,-999.000,9,-999.000,9,  2158.6,2,  -999.0,9,   7.6841,2,    25.00, -0.4865
06AQ19960712,ARKXII,52,2,20,166790,2,19960808,1040,85.4050,113.0100,4424,  1050.8, -0.4567, 34.8775,2, 34.8778,2,  -999.0,9,   307.5,2,    6.63,3,   11.41,2, -999.00,9,    0.85,2,   3.768,2,   1.703,2,   5.316,2,  2162.2,2,  -999.0,9,   7.6832,2,    25.00, -0.4965
06AQ19960712,ARKXII,52,2,19,166789,2,19960808,1040,85.4050,113.0100,4424,  1220.7, -0.3630, 34.9072,2, 34.9071,2,  -999.0,9,   302.9,2,    7.80,2,   12.10,2, -999.00,9,    0.89,2,   2.266,2,   0.906,2,   3.306,2,  2159.5,2,  -999.0,9,   7.6928,2,    25.00, -0.4123
06AQ19960712,ARKXII,52,2,18,166788,2,19960808,1040,85.4050,113.0100,4424,  1400.3, -0.4901, 34.9150,2, 34.9147,2,  -999.0,9,   302.1,2,    8.49,2,   12.39,2, -999.00,9,    0.90,2,-999.000,9,-999.000,9,-999.000,9,  2160.2,2,  -999.0,9,   7.6909,2,    25.00, -0.5479
06AQ19960712,ARKXII,52,2,17,166787,2,19960808,1040,85.4050,113.0100,4424,  1600.6, -0.5860, 34.9199,2, 34.9174,2,  -999.0,9,   300.3,2,    9.46,2,   12.68,2, -999.00,9,    0.96,2,   1.379,2,   0.499,2,   1.849,2,  -999.0,9,  -999.0,9,-999.0000,9,  -999.00, -0.6534
06AQ19960712,ARKXII,52,2,16,166786,2,19960808,1040,85.4050,113.0100,4424,  1800.8, -0.6559, 34.9223,2, 34.9221,2,  -999.0,9,   299.5,2,   10.15,2,   13.27,2, -999.00,9,    0.95,2,-999.000,9,-999.000,9,-999.000,9,  2155.4,2,  -999.0,9,   7.7005,2,    25.00, -0.7346
06AQ19960712,ARKXII,52,2,15,166785,2,19960808,1040,85.4050,113.0100,4424,  2000.5, -0.7196, 34.9220,2, 34.9215,2,  -999.0,9,   299.8,2,   10.34,2,   13.37,2, -999.00,9,    0.97,2,   0.469,2,   0.238,2,   1.220,2,  -999.0,9,  -999.0,9,-999.0000,9,  -999.00, -0.8114
06AQ19960712,ARKXII,52,2,14,166784,2,19960808,1040,85.4050,113.0100,4424,  2200.5, -0.7546, 34.9242,2, 34.9243,2,  -999.0,9,   300.0,2,   10.63,2,   13.37,2, -999.00,9,    0.97,2,-999.000,9,-999.000,9,-999.000,9,  -999.0,9,  -999.0,9,-999.0000,9,  -999.00, -0.8591
06AQ19960712,ARKXII,52,2,13,166783,2,19960808,1040,85.4050,113.0100,4424,  2400.2, -0.7732, 34.9262,2, 34.9250,2,  -999.0,9,   300.1,2,   10.44,2,   13.56,2, -999.00,9,    0.98,2,   0.440,2,   0.137,2,   0.802,2,  -999.0,9,  -999.0,9,-999.0000,9,  -999.00, -0.8907
06AQ19960712,ARKXII,52,2,12,166782,2,19960808,1040,85.4050,113.0100,4424,  2599.7, -0.7836, 34.9288,2, 34.9282,2,  -999.0,9,   300.1,2,   10.83,2,   13.66,2, -999.00,9,    0.98,2,-999.000,9,-999.000,9,-999.000,9,  2158.0,2,  -999.0,9,   7.6986,2,    25.00, -0.9161
06AQ19960712,ARKXII,52,2,11,166781,2,19960808,1040,85.4050,113.0100,4424,  2799.8, -0.7852, 34.9312,2, 34.9313,2,  -999.0,9,   299.8,2,   10.93,2,   13.66,2, -999.00,9,    0.98,2,   0.410,2,   0.116,2,   0.497,2,  -999.0,9,  -999.0,9,-999.0000,9,  -999.00, -0.9323
06AQ19960712,ARKXII,52,2,10,166780,2,19960808,1040,85.4050,113.0100,4424,  3000.5, -0.7784, 34.9338,2, 34.9338,2,  -999.0,9,   299.1,2,   11.02,2,   13.66,2, -999.00,9,    0.99,2,-999.000,9,-999.000,9,-999.000,9,  -999.0,9,  -999.0,9,-999.0000,9,  -999.00, -0.9422
06AQ19960712,ARKXII,52,2,9,166779,2,19960808,1040,85.4050,113.0100,4424,  3199.7, -0.7697, 34.9363,2, 34.9350,2,  -999.0,9,   299.1,2,   11.02,2,   13.66,2, -999.00,9,    0.97,2,-999.000,9,   0.106,2,   0.386,2,  2153.7,2,  -999.0,9,   7.7015,2,    25.00, -0.9499
06AQ19960712,ARKXII,52,2,8,166778,2,19960808,1040,85.4050,113.0100,4424,  3399.6, -0.7567, 34.9380,2, 34.9369,2,  -999.0,9,   298.9,2,   11.02,2,   13.56,2, -999.00,9,    0.97,2,-999.000,9,-999.000,9,-999.000,9,  -999.0,9,  -999.0,9,-999.0000,9,  -999.00, -0.9543
06AQ19960712,ARKXII,52,2,7,166777,2,19960808,1040,85.4050,113.0100,4424,  3599.5, -0.7384, 34.9398,2, 34.9392,2,  -999.0,9,   298.5,2,   11.12,2,   13.56,2, -999.00,9,    0.97,2,   0.203,2,   0.100,2,   0.308,2,  -999.0,9,  -999.0,9,-999.0000,9,  -999.00, -0.9544
06AQ19960712,ARKXII,52,2,6,166776,2,19960808,1040,85.4050,113.0100,4424,  3801.6, -0.7133, 34.9421,2, 34.9422,2,  -999.0,9,   298.1,2,   11.22,2,   13.56,2, -999.00,9,    0.97,2,-999.000,9,-999.000,9,-999.000,9,  -999.0,9,  -999.0,9,-999.0000,9,  -999.00, -0.9486
06AQ19960712,ARKXII,52,2,5,166775,2,19960808,1040,85.4050,113.0100,4424,  3999.9, -0.6939, 34.9421,2, 34.9421,2,  -999.0,9,   297.9,2,   11.22,2,   13.56,2, -999.00,9,    0.97,2,-999.000,9,   0.122,2,   0.247,2,  -999.0,9,  -999.0,9,-999.0000,9,  -999.00, -0.9480
06AQ19960712,ARKXII,52,2,4,166774,2,19960808,1040,85.4050,113.0100,4424,  4198.8, -0.6736, 34.9418,2, 34.9425,2,  -999.0,9,   298.1,2,   11.22,2,   13.56,2, -999.00,9,    0.96,2,-999.000,9,-999.000,9,-999.000,9,  -999.0,9,  -999.0,9,-999.0000,9,  -999.00, -0.9480
06AQ19960712,ARKXII,52,2,3,166773,2,19960808,1040,85.4050,113.0100,4424,  4354.3, -0.6575, 34.9417,2, 34.9421,2,  -999.0,9,   297.8,2,   11.22,2, -999.00,9, -999.00,9,    0.96,2,-999.000,9,   0.095,2,   0.285,2,  2148.6,2,  -999.0,9,   7.7072,2,    25.00, -0.9481
06AQ19960712,ARKXII,52,2,2,166772,2,19960808,1040,85.4050,113.0100,4424,  4404.2, -0.6521, 34.9419,2, 34.9423,2,  -999.0,9,   297.7,2,   11.22,2,   13.46,2, -999.00,9,    0.97,2,-999.000,9,-999.000,9,-999.000,9,  2161.2,2,  -999.0,9,   7.7053,2,    25.00, -0.9474
06AQ19960712,ARKXII,52,2,1,166771,2,19960808,1040,85.4050,113.0100,4424,  4455.1, -0.6461, 34.9405,2, 34.9436,2,  -999.0,9,   297.9,2,   11.22,2,   13.27,2, -999.00,9,    0.97,2,-999.000,9,   0.065,2,   0.222,2,  2157.8,2,  -999.0,9,   7.7072,2,    25.00, -0.9468
06AQ19960712,ARKXII,54,1,36,166843,2,19960808,2041,85.7583,117.4683,4430,   101.0, -0.8511, 34.3677,2, 34.3693,2,  -999.0,9,   316.6,2,    4.29,2,    8.68,2, -999.00,9,    0.68,2,   4.823,2,   2.260,2,   4.207,2,  -999.0,9,  -999.0,9,-999.0000,9,  -999.00, -0.8618
06AQ19960712,ARKXII,54,1,35,166842,2,19960808,2041,85.7583,117.4683,4430,   150.2,  1.2178, 34.7607,2, 34.7717,2,  -999.0,9,   299.3,2,    5.37,2,   11.12,2, -999.00,9,    0.78,2,-999.000,9,-999.000,9,-999.000,9,  -999.0,9,  -999.0,9,-999.0000,9,  -999.00,  1.2159
06AQ19960712,ARKXII,54,1,34,166841,2,19960808,2041,85.7583,117.4683,4430,   200.9,  1.6166, 34.8804,2, 34.8818,2,  -999.0,9,   301.3,2,    5.56,2,   11.71,2, -999.00,9,    0.82,2,   4.438,2,   2.119,2,   4.968,2,  -999.0,9,  -999.0,9,-999.0000,9,  -999.00,  1.6108
06AQ19960712,ARKXII,54,1,31,166838,2,19960808,2041,85.7583,117.4683,4430,   203.6,  1.6141, 34.8818,2,-999.0000,9,  -999.0,9,  -999.0,9, -999.00,9, -999.00,9, -999.00,9, -999.00,9,-999.000,9,-999.000,9,-999.000,9,  -999.0,9,  -999.0,9,-999.0000,9,  -999.00,-999.0000
06AQ19960712,ARKXII,54,1,32,166839,2,19960808,2041,85.7583,117.4683,4430,   203.7,  1.6151, 34.8817,2,-999.0000,9,  -999.0,9,  -999.0,9, -999.00,9, -999.00,9, -999.00,9, -999.00,9,-999.000,9,-999.000,9,-999.000,9,  -999.0,9,  -999.0,9,-999.0000,9,  -999.00,-999.0000
06AQ19960712,ARKXII,54,1,33,166840,2,19960808,2041,85.7583,117.4683,4430,   203.7,  1.6150, 34.8817,2, 34.8824,2,  -999.0,9,   301.3,2,    5.46,2,   11.61,2, -999.00,9,    0.82,2,   4.494,2,   2.036,2,   4.940,2,  -999.0,9,  -999.0,9,-999.0000,9,  -999.00,  1.6087
06AQ19960712,ARKXII,54,1,30,166837,2,19960808,2041,85.7583,117.4683,4430,   300.9,  1.3575, 34.9018,2, 34.9043,2,  -999.0,9,   301.0,2,    5.76,2,   12.00,2, -999.00,9,    0.82,2,   3.772,2,   1.803,2,   4.696,2,  -999.0,9,  -999.0,9,-999.0000,9,  -999.00,  1.3471
06AQ19960712,ARKXII,54,1,29,166836,2,19960808,2041,85.7583,117.4683,4430,   401.1,  1.4841, 34.9445,2, 34.9446,2,  -999.0,9,   304.4,2,    5.85,2,   12.59,2, -999.00,9,    0.86,2,-999.000,9,-999.000,9,-999.000,9,  -999.0,9,  -999.0,9,-999.0000,9,  -999.00,  1.4673
06AQ19960712,ARKXII,54,1,28,166835,2,19960808,2041,85.7583,117.4683,4430,   501.0,  1.0714, 34.9249,2, 34.9266,2,  -999.0,9,   305.5,2,    5.95,2,   12.29,2, -999.00,9,    0.86,2,   4.054,2,   1.791,2,   4.900,2,  -999.0,9,  -999.0,9,-999.0000,9,  -999.00,  1.0524
06AQ19960712,ARKXII,54,1,27,166834,2,19960808,2041,85.7583,117.4683,4430,   600.9,  0.5933, 34.8996,2, 34.8997,2,  -999.0,9,   303.8,2,    6.15,2,   12.10,2, -999.00,9,    0.86,2,   3.883,2,   1.841,2,   4.924,2,  -999.0,9,  -999.0,9,-999.0000,9,  -999.00,  0.5703
06AQ19960712,ARKXII,54,1,26,166833,2,19960808,2041,85.7583,117.4683,4430,   699.5,  0.3623, 34.8884,2, 34.8887,2,  -999.0,9,   304.6,2,    6.05,2,   12.20,2, -999.00,9,    0.85,2,   4.089,2,   1.860,2,   5.137,2,  -999.0,9,  -999.0,9,-999.0000,9,  -999.00,  0.3346
06AQ19960712,ARKXII,54,1,25,166832,2,19960808,2041,85.7583,117.4683,4430,   800.5,  0.1445, 34.8783,2, 34.8780,2,  -999.0,9,   305.3,2,    5.95,2,   11.80,2, -999.00,9,    0.85,2,   4.314,2,   1.989,2,   5.352,2,  -999.0,9,  -999.0,9,-999.0000,9,  -999.00,  0.1138
06AQ19960712,ARKXII,54,1,24,166831,2,19960808,2041,85.7583,117.4683,4430,  1000.5, -0.1007, 34.8843,2, 34.8845,2,  -999.0,9,   305.3,2,    6.54,2,   11.90,2, -999.00,9,    0.86,2,   3.554,2,   1.693,2,   4.732,2,  -999.0,9,  -999.0,9,-999.0000,9,  -999.00, -0.1418
06AQ19960712,ARKXII,54,1,23,166830,2,19960808,2041,85.7583,117.4683,4430,  1200.5, -0.2730, 34.9007,2, 34.9011,2,  -999.0,9,   303.2,2,    7.41,2,   12.29,2, -999.00,9,    0.89,2,   3.816,2,   1.722,2,   4.845,2,  -999.0,9,  -999.0,9,-999.0000,9,  -999.00, -0.3211
06AQ19960712,ARKXII,54,1,22,166829,2,19960808,2041,85.7583,117.4683,4430,  1400.8, -0.4316, 34.9127,2, 34.9129,2,  -999.0,9,   302.3,2,    8.39,2,   12.78,2, -999.00,9,    0.92,2,   1.629,2,   0.752,2,   2.988,2,  -999.0,9,  -999.0,9,-999.0000,9,  -999.00, -0.4907
06AQ19960712,ARKXII,54,1,21,166828,2,19960808,2041,85.7583,117.4683,4430,  1601.4, -0.5600, 34.9187,2, 34.9195,2,  -999.0,9,   301.5,2,    9.07,2,   13.17,2, -999.00,9,    0.93,2,   1.236,2,   0.490,2,   2.070,2,  -999.0,9,  -999.0,9,-999.0000,9,  -999.00, -0.6288
06AQ19960712,ARKXII,54,1,20,166827,2,19960808,2041,85.7583,117.4683,4430,  1800.3, -0.6345, 34.9211,2, 34.9226,2,  -999.0,9,   300.5,2,    9.85,2,   13.66,2, -999.00,9,    0.95,2,-999.000,9,-999.000,9,-999.000,9,  -999.0,9,  -999.0,9,-999.0000,9,  -999.00, -0.7149
06AQ19960712,ARKXII,54,1,17,166824,2,19960808,2041,85.7583,117.4683,4430,  2000.5, -0.7023, 34.9232,2,-999.0000,9,  -999.0,9,  -999.0,9, -999.00,9, -999.00,9, -999.00,9, -999.00,9,-999.000,9,-999.000,9,-999.000,9,  -999.0,9,  -999.0,9,-999.0000,9,  -999.00,-999.0000
06AQ19960712,ARKXII,54,1,18,166825,2,19960808,2041,85.7583,117.4683,4430,  2000.9, -0.7031, 34.9226,2,-999.0000,9,  -999.0,9,  -999.0,9, -999.00,9, -999.00,9, -999.00,9, -999.00,9,-999.000,9,-999.000,9,-999.000,9,  -999.0,9,  -999.0,9,-999.0000,9,  -999.00,-999.0000
06AQ19960712,ARKXII,54,1,19,166826,2,19960808,2041,85.7583,117.4683,4430,  2001.2, -0.7033, 34.9230,2, 34.9228,2,  -999.0,9,   300.7,2,   10.24,2,   13.76,2, -999.00,9,    0.96,2,   0.520,2,   0.220,2,   1.376,2,  -999.0,9,  -999.0,9,-999.0000,9,  -999.00, -0.7957
06AQ19960712,ARKXII,54,1,16,166823,2,19960808,2041,85.7583,117.4683,4430,  2200.3, -0.7450, 34.9235,2, 34.9237,2,  -999.0,9,   300.9,2,   10.34,2,   13.76,2, -999.00,9,    0.97,2,   0.397,2,   0.168,2,   1.128,2,  -999.0,9,  -999.0,9,-999.0000,9,  -999.00, -0.8493
06AQ19960712,ARKXII,54,1,15,166822,2,19960808,2041,85.7583,117.4683,4430,  2400.7, -0.7694, 34.9262,2, 34.9251,2,  -999.0,9,   301.1,2,   10.54,2,   13.85,2, -999.00,9,    0.97,2,   0.532,2,   0.154,2,   0.962,2,  -999.0,9,  -999.0,9,-999.0000,9,  -999.00, -0.8878
06AQ19960712,ARKXII,54,1,14,166821,2,19960808,2041,85.7583,117.4683,4430,  2599.8, -0.7829, 34.9291,2, 34.9286,2,  -999.0,9,   300.4,2,   10.54,2,   13.76,2, -999.00,9,    0.98,2,-999.000,9,-999.000,9,-999.000,9,  -999.0,9,  -999.0,9,-999.0000,9,  -999.00, -0.9151
06AQ19960712,ARKXII,54,1,13,166820,2,19960808,2041,85.7583,117.4683,4430,  2799.4, -0.7834, 34.9322,2, 34.9313,2,  -999.0,9,   300.3,2,   10.73,2,   13.66,2, -999.00,9,    0.97,2,   0.252,2,   0.144,2,   0.666,2,  -999.0,9,  -999.0,9,-999.0000,9,  -999.00, -0.9313
06AQ19960712,ARKXII,54,1,12,166819,2,19960808,2041,85.7583,117.4683,4430,  2999.9, -0.7789, 34.9346,2, 34.9340,2,  -999.0,9,   300.0,2,   10.83,2,   13.66,2, -999.00,9,    0.98,2,   0.301,2,   0.112,2,   0.364,2,  -999.0,9,  -999.0,9,-999.0000,9,  -999.00, -0.9423
06AQ19960712,ARKXII,54,1,11,166818,2,19960808,2041,85.7583,117.4683,4430,  3199.1, -0.7685, 34.9366,2, 34.9365,2,  -999.0,9,   299.9,2,   10.93,2,   13.85,2, -999.00,9,    0.98,2,   0.266,2,   0.102,2,   0.393,2,  -999.0,9,  -999.0,9,-999.0000,9,  -999.00, -0.9489
06AQ19960712,ARKXII,54,1,10,166817,2,19960808,2041,85.7583,117.4683,4430,  3399.8, -0.7573, 34.9395,2, 34.9384,2,  -999.0,9,   299.6,2,   10.93,2,   13.56,2, -999.00,9,    1.00,2,-999.000,9,-999.000,9,-999.000,9,  -999.0,9,  -999.0,9,-999.0000,9,  -999.00, -0.9553
06AQ19960712,ARKXII,54,1,9,166816,2,19960808,2041,85.7583,117.4683,4430,  3600.0, -0.7391, 34.9408,2, 34.9407,2,  -999.0,9,   299.0,2,   11.12,2,   13.66,2, -999.00,9,    0.96,2,   0.219,2,   0.100,2,   0.416,2,  -999.0,9,  -999.0,9,-999.0000,9,  -999.00, -0.9556
06AQ19960712,ARKXII,54,1,8,166815,2,19960808,2041,85.7583,117.4683,4430,  3800.1, -0.7134, 34.9431,2, 34.9436,2,  -999.0,9,   298.7,2,   11.02,2,   13.66,2, -999.00,9,    1.00,2,   0.126,2,   0.100,2,   0.391,2,  -999.0,9,  -999.0,9,-999.0000,9,  -999.00, -0.9486
06AQ19960712,ARKXII,54,1,7,166814,2,19960808,2041,85.7583,117.4683,4430,  4000.2, -0.6938, 34.9433,2, 34.9434,2,  -999.0,9,   298.4,2,   11.22,2,   13.56,2, -999.00,9,    0.99,2,   0.239,2,   0.063,2,   0.395,2,  -999.0,9,  -999.0,9,-999.0000,9,  -999.00, -0.9481
06AQ19960712,ARKXII,54,1,6,166813,2,19960808,2041,85.7583,117.4683,4430,  4199.9, -0.6734, 34.9432,2, 34.9434,2,  -999.0,9,   298.4,2,   11.22,2,   13.66,2, -999.00,9,    0.96,2,-999.000,9,   0.057,2,   0.323,2,  -999.0,9,  -999.0,9,-999.0000,9,  -999.00, -0.9482
06AQ19960712,ARKXII,54,1,5,166812,2,19960808,2041,85.7583,117.4683,4430,  4342.8, -0.6587, 34.9432,2, 34.9433,2,  -999.0,9,   299.4,2,   11.02,2,   13.66,2, -999.00,9,    0.96,2,   0.232,2,   0.119,2,   0.381,2,  -999.0,9,  -999.0,9,-999.0000,9,  -999.00, -0.9480
06AQ19960712,ARKXII,54,1,4,166811,2,19960808,2041,85.7583,117.4683,4430,  4393.8, -0.6533, 34.9430,2, 34.9431,2,  -999.0,9,   299.0,2,   11.22,2,   13.76,2, -999.00,9,    0.99,2,   0.135,2,   0.082,2,   0.342,2,  -999.0,9,  -999.0,9,-999.0000,9,  -999.00, -0.9483
06AQ19960712,ARKXII,54,1,3,166810,2,19960808,2041,85.7583,117.4683,4430,  4443.2, -0.6475, 34.9418,2, 34.9436,2,  -999.0,9,  -999.0,9,   11.12,2,   13.66,2, -999.00,9,    0.97,2,-999.000,9,   0.080,2,   0.380,2,  -999.0,9,  -999.0,9,-999.0000,9,  -999.00, -0.9476
06AQ19960712,ARKXII,54,1,2,166809,2,19960808,2041,85.7583,117.4683,4430,  4443.7, -0.6475, 34.9419,2,-999.0000,9,  -999.0,9,  -999.0,9, -999.00,9, -999.00,9, -999.00,9, -999.00,9,-999.000,9,-999.000,9,-999.000,9,  -999.0,9,  -999.0,9,-999.0000,9,  -999.00,-999.0000
06AQ19960712,ARKXII,54,1,1,166808,2,19960808,2041,85.7583,117.4683,4430,  4444.2, -0.6475, 34.9424,2,-999.0000,9,  -999.0,9,  -999.0,9, -999.00,9, -999.00,9, -999.00,9, -999.00,9,-999.000,9,-999.000,9,-999.000,9,  -999.0,9,  -999.0,9,-999.0000,9,  -999.00,-999.0000