BOTTLE,20100322CCHDOSIODM
EXPOCODE,SECT_ID,STNNBR,CASTNO,SAMPNO,BTLNBR,BTLNBR_FLAG_W,DATE,TIME,LATITUDE,LONGITUDE,DEPTH,CTDPRS,CTDTMP,CTDSAL,CTDSAL_FLAG_W,SALNTY,SALNTY_FLAG_W,CTDOXY,CTDOXY_FLAG_W,OXYGEN,OXYGEN_FLAG_W,SILCAT,SILCAT_FLAG_W,NITRAT,NITRAT_FLAG_W,NITRIT,NITRIT_FLAG_W,PHSPHT,PHSPHT_FLAG_W,CFC-11,CFC-11_FLAG_W,CFC-12,CFC-12_FLAG_W,CCL4,CCL4_FLAG_W,TCARBN,TCARBN_FLAG_W,ALKALI,ALKALI_FLAG_W,PH_SWS,PH_SWS_FLAG_W,PH_TMP,THETA
,,,,,,,,,,,METERS,DBAR,ITS-90,PSS-78,,PSS-78,,UMOL/KG,,UMOL/KG,,UMOL/KG,,UMOL/KG,,UMOL/KG,,UMOL/KG,,PMOL/KG,,PMOL/KG,,PMOL/KG,,UMOL/KG,,UMOL/KG,,,,DEG C,DEG C
06AQ19960712,ARKXII,43,1,32,166419,2,19960805,1329,84.2017,100.5333,3777,   799.6, -0.0191, 34.8889,2,-999.0000,9,  -999.0,9,  -999.0,9, -999.00,9, -999.00,9, -999.00,9, -999.00,9,-999.000,9,-999.000,9,-999.000,9,  -999.0,9,  -999.0,9,-999.0000,9,  -999.00,-999.0000
06AQ19960712,ARKXII,43,1,33,166420,2,19960805,1329,84.2017,100.5333,3777,   799.6, -0.0193, 34.8884,2,-999.0000,9,  -999.0,9,  -999.0,9, -999.00,9, -999.00,9, -999.00,9, -999.00,9,-999.000,9,-999.000,9,-999.000,9,  -999.0,9,  -999.0,9,-999.0000,9,  -999.00,-999.0000
06AQ19960712,ARKXII,43,1,34,166421,2,19960805,1329,84.2017,100.5333,3777,   799.6, -0.0193, 34.8882,2,-999.0000,9,  -999.0,9,  -999.0,9, -999.00,9, -999.00,9, -999.00,9, -999.00,9,-999.000,9,-999.000,9,-999.000,9,  -999.0,9,  -999.0,9,-999.0000,9,  -999.00,-999.0000
06AQ19960712,ARKXII,43,1,35,166422,2,19960805,1329,84.2017,100.5333,3777,   799.7, -0.0192, 34.8881,2,-999.0000,9,  -999.0,9,  -999.0,9, -999.00,9, -999.00,9, -999.00,9, -999.00,9,-999.000,9,-999.000,9,-999.000,9,  -999.0,9,  -999.0,9,-999.0000,9,  -999.00,-999.0000
06AQ19960712,ARKXII,43,1,36,166423,2,19960805,1329,84.2017,100.5333,3777,   799.7, -0.0187, 34.8874,2,-999.0000,9,  -999.0,9,  -999.0,9, -999.00,9, -999.00,9, -999.00,9, -999.00,9,-999.000,9,-999.000,9,-999.000,9,  -999.0,9,  -999.0,9,-999.0000,9,  -999.00,-999.0000
06AQ19960712,ARKXII,43,1,31,166418,2,19960805,1329,84.2017,100.5333,3777,  1000.6, -0.2189, 34.9054,2, 34.9057,2,  -999.0,9,   302.5,2,    7.51,2,   13.27,2, -999.00,9,    0.87,2,-999.000,9,-999.000,9,-999.000,9,  2159.6,2,  -999.0,9,   7.6918,2,    25.00, -0.2579
06AQ19960712,ARKXII,43,1,30,166417,2,19960805,1329,84.2017,100.5333,3777,  1200.1, -0.4069, 34.9141,2, 34.9138,2,  -999.0,9,   301.9,2,    8.39,2,   13.56,2, -999.00,9,    0.91,2,   1.174,2,   0.541,2,   2.716,2,  -999.0,9,  -999.0,9,-999.0000,9,  -999.00, -0.4548
06AQ19960712,ARKXII,43,1,29,166416,2,19960805,1329,84.2017,100.5333,3777,  1400.2, -0.5493, 34.9186,2, 34.9172,2,  -999.0,9,   301.1,2,    9.17,2,   13.85,2, -999.00,9,    0.92,2,   0.906,2,   0.377,2,   2.080,2,  -999.0,9,  -999.0,9,-999.0000,9,  -999.00, -0.6073
06AQ19960712,ARKXII,43,1,24,166411,2,19960805,1329,84.2017,100.5333,3777,  1499.7, -0.6000, 34.9203,2,-999.0000,9,  -999.0,9,  -999.0,9, -999.00,9, -999.00,9, -999.00,9, -999.00,9,-999.000,9,-999.000,9,-999.000,9,  -999.0,9,  -999.0,9,-999.0000,9,  -999.00,-999.0000
06AQ19960712,ARKXII,43,1,25,166412,2,19960805,1329,84.2017,100.5333,3777,  1499.7, -0.5992, 34.9202,2,-999.0000,9,  -999.0,9,  -999.0,9, -999.00,9, -999.00,9, -999.00,9, -999.00,9,-999.000,9,-999.000,9,-999.000,9,  -999.0,9,  -999.0,9,-999.0000,9,  -999.00,-999.0000
06AQ19960712,ARKXII,43,1,26,166413,2,19960805,1329,84.2017,100.5333,3777,  1499.8, -0.5990, 34.9199,2,-999.0000,9,  -999.0,9,  -999.0,9, -999.00,9, -999.00,9, -999.00,9, -999.00,9,-999.000,9,-999.000,9,-999.000,9,  -999.0,9,  -999.0,9,-999.0000,9,  -999.00,-999.0000
06AQ19960712,ARKXII,43,1,27,166414,2,19960805,1329,84.2017,100.5333,3777,  1499.9, -0.5990, 34.9198,2,-999.0000,9,  -999.0,9,  -999.0,9, -999.00,9, -999.00,9, -999.00,9, -999.00,9,-999.000,9,-999.000,9,-999.000,9,  -999.0,9,  -999.0,9,-999.0000,9,  -999.00,-999.0000
06AQ19960712,ARKXII,43,1,28,166415,2,19960805,1329,84.2017,100.5333,3777,  1499.9, -0.5991, 34.9199,2,-999.0000,9,  -999.0,9,  -999.0,9, -999.00,9, -999.00,9, -999.00,9, -999.00,9,-999.000,9,-999.000,9,-999.000,9,  -999.0,9,  -999.0,9,-999.0000,9,  -999.00,-999.0000
06AQ19960712,ARKXII,43,1,23,166410,2,19960805,1329,84.2017,100.5333,3777,  1600.4, -0.6417, 34.9208,2, 34.9204,2,  -999.0,9,   300.0,2,    9.95,2,   14.15,2, -999.00,9,    0.94,2,   0.634,2,   0.258,2,   1.640,2,  -999.0,9,  -999.0,9,-999.0000,9,  -999.00, -0.7097
06AQ19960712,ARKXII,43,1,22,166409,2,19960805,1329,84.2017,100.5333,3777,  1800.5, -0.7099, 34.9221,2, 34.9222,2,  -999.0,9,   300.2,2,   10.24,2,   14.34,2, -999.00,9,    0.96,2,-999.000,9,-999.000,9,-999.000,9,  2152.7,2,  -999.0,9,   7.6889,2,    25.00, -0.7889
06AQ19960712,ARKXII,43,1,21,166408,2,19960805,1329,84.2017,100.5333,3777,  2000.1, -0.7528, 34.9239,2, 34.9238,2,  -999.0,9,   300.0,2,   10.44,2,   14.24,2, -999.00,9,    0.95,2,   0.568,2,   0.207,2,   1.088,2,  -999.0,9,  -999.0,9,-999.0000,9,  -999.00, -0.8438
06AQ19960712,ARKXII,43,1,20,166407,2,19960805,1329,84.2017,100.5333,3777,  2200.5, -0.7802, 34.9256,2, 34.9256,2,  -999.0,9,   300.2,2,   10.63,2,   14.44,2, -999.00,9,    0.97,2,   0.269,2,   0.132,2,   0.749,2,  -999.0,9,  -999.0,9,-999.0000,9,  -999.00, -0.8847
06AQ19960712,ARKXII,43,1,19,166406,2,19960805,1329,84.2017,100.5333,3777,  2400.4, -0.7949, 34.9279,2, 34.9288,2,  -999.0,9,   299.6,2,   10.83,2,   14.44,2, -999.00,9,    0.96,2,-999.000,9,   0.138,2,   0.749,2,  -999.0,9,  -999.0,9,-999.0000,9,  -999.00, -0.9123
06AQ19960712,ARKXII,43,1,14,166401,2,19960805,1329,84.2017,100.5333,3777,  2500.5, -0.7972, 34.9295,2,-999.0000,9,  -999.0,9,  -999.0,9, -999.00,9, -999.00,9, -999.00,9, -999.00,9,-999.000,9,-999.000,9,-999.000,9,  -999.0,9,  -999.0,9,-999.0000,9,  -999.00,-999.0000
06AQ19960712,ARKXII,43,1,15,166402,2,19960805,1329,84.2017,100.5333,3777,  2500.7, -0.7973, 34.9295,2,-999.0000,9,  -999.0,9,  -999.0,9, -999.00,9, -999.00,9, -999.00,9, -999.00,9,-999.000,9,-999.000,9,-999.000,9,  -999.0,9,  -999.0,9,-999.0000,9,  -999.00,-999.0000
06AQ19960712,ARKXII,43,1,16,166403,2,19960805,1329,84.2017,100.5333,3777,  2500.8, -0.7972, 34.9292,2,-999.0000,9,  -999.0,9,  -999.0,9, -999.00,9, -999.00,9, -999.00,9, -999.00,9,-999.000,9,-999.000,9,-999.000,9,  -999.0,9,  -999.0,9,-999.0000,9,  -999.00,-999.0000
06AQ19960712,ARKXII,43,1,17,166404,2,19960805,1329,84.2017,100.5333,3777,  2501.0, -0.7969, 34.9292,2,-999.0000,9,  -999.0,9,  -999.0,9, -999.00,9, -999.00,9, -999.00,9, -999.00,9,-999.000,9,-999.000,9,-999.000,9,  -999.0,9,  -999.0,9,-999.0000,9,  -999.00,-999.0000
06AQ19960712,ARKXII,43,1,18,166405,2,19960805,1329,84.2017,100.5333,3777,  2501.1, -0.7970, 34.9293,2,-999.0000,9,  -999.0,9,  -999.0,9, -999.00,9, -999.00,9, -999.00,9, -999.00,9,-999.000,9,-999.000,9,-999.000,9,  -999.0,9,  -999.0,9,-999.0000,9,  -999.00,-999.0000
06AQ19960712,ARKXII,43,1,13,166400,2,19960805,1329,84.2017,100.5333,3777,  2600.2, -0.7972, 34.9306,2, 34.9312,2,  -999.0,9,   299.9,2,   10.83,2,   14.24,2, -999.00,9,    0.95,2,   0.215,2,   0.109,2,   0.610,2,  2150.8,2,  -999.0,9,   7.6986,2,    25.00, -0.9298
06AQ19960712,ARKXII,43,1,12,166399,2,19960805,1329,84.2017,100.5333,3777,  2799.3, -0.7932, 34.9337,2, 34.9337,2,  -999.0,9,   299.7,2,   10.93,2,   14.44,2, -999.00,9,    0.97,2,   0.193,2,   0.110,2,   0.497,2,  -999.0,9,  -999.0,9,-999.0000,9,  -999.00, -0.9410
06AQ19960712,ARKXII,43,1,11,166398,2,19960805,1329,84.2017,100.5333,3777,  2999.5, -0.7833, 34.9375,2, 34.9369,2,  -999.0,9,   298.7,2,   11.02,2,   14.34,2, -999.00,9,    0.97,2,-999.000,9,-999.000,9,-999.000,9,  -999.0,9,  -999.0,9,-999.0000,9,  -999.00, -0.9471
06AQ19960712,ARKXII,43,1,10,166397,2,19960805,1329,84.2017,100.5333,3777,  3199.7, -0.7634, 34.9398,2, 34.9403,2,  -999.0,9,   297.9,2,   11.12,2,   14.24,2, -999.00,9,    0.96,2,-999.000,9,   0.131,2,   0.435,2,  -999.0,9,  -999.0,9,-999.0000,9,  -999.00, -0.9441
06AQ19960712,ARKXII,43,1,9,166396,2,19960805,1329,84.2017,100.5333,3777,  3400.2, -0.7400, 34.9416,2, 34.9411,2,  -999.0,9,   297.2,2,   11.32,2,   14.54,2, -999.00,9,    0.96,2,-999.000,9,-999.000,9,-999.000,9,  2157.0,2,  -999.0,9,   7.7024,2,    25.00, -0.9378
06AQ19960712,ARKXII,43,1,8,166395,2,19960805,1329,84.2017,100.5333,3777,  3674.1, -0.7144, 34.9420,2, 34.9427,2,  -999.0,9,   297.4,2,   11.41,2,   14.44,2, -999.00,9,    0.96,2,   0.168,2,   0.098,2,   0.370,2,  2152.8,2,  -999.0,9,   7.6947,2,    25.00, -0.9379
06AQ19960712,ARKXII,43,1,7,166394,2,19960805,1329,84.2017,100.5333,3777,  3727.2, -0.7094, 34.9418,2, 34.9424,2,  -999.0,9,   297.5,2,   11.32,2,   14.34,2, -999.00,9,    0.94,2,-999.000,9,-999.000,9,-999.000,9,  2155.9,2,  -999.0,9,   7.7015,2,    25.00, -0.9379
06AQ19960712,ARKXII,43,1,1,166388,2,19960805,1329,84.2017,100.5333,3777,  3778.4, -0.7041, 34.9422,2,-999.0000,9,  -999.0,9,  -999.0,9, -999.00,9, -999.00,9, -999.00,9, -999.00,9,-999.000,9,-999.000,9,-999.000,9,  -999.0,9,  -999.0,9,-999.0000,9,  -999.00,-999.0000
06AQ19960712,ARKXII,43,1,2,166389,2,19960805,1329,84.2017,100.5333,3777,  3778.5, -0.7040, 34.9419,2,-999.0000,9,  -999.0,9,  -999.0,9, -999.00,9, -999.00,9, -999.00,9, -999.00,9,-999.000,9,-999.000,9,-999.000,9,  -999.0,9,  -999.0,9,-999.0000,9,  -999.00,-999.0000
06AQ19960712,ARKXII,43,1,5,166392,2,19960805,1329,84.2017,100.5333,3777,  3778.6, -0.7039, 34.9423,2,-999.0000,9,  -999.0,9,  -999.0,9, -999.00,9, -999.00,9, -999.00,9, -999.00,9,-999.000,9,-999.000,9,-999.000,9,  -999.0,9,  -999.0,9,-999.0000,9,  -999.00,-999.0000
06AQ19960712,ARKXII,43,1,4,166391,2,19960805,1329,84.2017,100.5333,3777,  3778.6, -0.7039, 34.9422,2,-999.0000,9,  -999.0,9,  -999.0,9, -999.00,9, -999.00,9, -999.00,9, -999.00,9,-999.000,9,-999.000,9,-999.000,9,  -999.0,9,  -999.0,9,-999.0000,9,  -999.00,-999.0000
06AQ19960712,ARKXII,43,1,3,166390,2,19960805,1329,84.2017,100.5333,3777,  3778.6, -0.7039, 34.9419,2,-999.0000,9,  -999.0,9,  -999.0,9, -999.00,9, -999.00,9, -999.00,9, -999.00,9,-999.000,9,-999.000,9,-999.000,9,  -999.0,9,  -999.0,9,-999.0000,9,  -999.00,-999.0000
06AQ19960712,ARKXII,43,1,6,166393,2,19960805,1329,84.2017,100.5333,3777,  3778.7, -0.7039, 34.9421,2, 34.9420,2,  -999.0,9,   297.3,2,   11.41,2,   13.85,2, -999.00,9,    0.97,2,   0.153,2,   0.087,2,   0.352,2,  2156.0,2,  -999.0,9,   7.6909,2,    25.00, -0.9368
06AQ19960712,ARKXII,43,2,33,166456,2,19960805,1615,84.1900,100.5633,3780,    10.1, -1.7991, 34.2312,2, 34.2317,2,  -999.0,9,   355.3,2,    3.02,2,    6.83,2, -999.00,9,    0.56,2,   6.426,2,   2.886,2,   5.878,2,  2101.8,2,  -999.0,9,   7.7568,2,    25.00, -1.7962
06AQ19960712,ARKXII,43,2,32,166455,2,19960805,1615,84.1900,100.5633,3780,    20.3, -1.8128, 34.2477,2, 34.2486,2,  -999.0,9,   354.0,2,    3.02,2,    6.83,2, -999.00,9,    0.57,2,   5.981,2,   2.786,2,   5.689,2,  -999.0,9,  -999.0,9,-999.0000,9,  -999.00, -1.8104
06AQ19960712,ARKXII,43,2,31,166454,2,19960805,1615,84.1900,100.5633,3780,    30.3, -1.8179, 34.2536,2, 34.2566,2,  -999.0,9,   353.4,2,    3.02,2,    7.02,2, -999.00,9,    0.59,2,   6.086,2,   2.733,2,   5.900,2,  2106.3,2,  -999.0,9,   7.7481,2,    25.00, -1.8156
06AQ19960712,ARKXII,43,2,30,166453,2,19960805,1615,84.1900,100.5633,3780,    39.7, -1.8206, 34.2590,2, 34.2793,2,  -999.0,9,   353.7,2,    3.02,2,    7.12,2, -999.00,9,    0.58,2,   5.885,2,   2.736,2,   5.625,2,  -999.0,9,  -999.0,9,-999.0000,9,  -999.00, -1.8178
06AQ19960712,ARKXII,43,2,29,166452,2,19960805,1615,84.1900,100.5633,3780,    50.7, -1.8347, 34.2929,2,-999.0000,9,  -999.0,9,  -999.0,9, -999.00,9, -999.00,9, -999.00,9, -999.00,9,-999.000,9,-999.000,9,-999.000,9,  -999.0,9,  -999.0,9,-999.0000,9,  -999.00,-999.0000
06AQ19960712,ARKXII,43,2,28,166451,2,19960805,1615,84.1900,100.5633,3780,    50.7, -1.8323, 34.2902,2,-999.0000,9,  -999.0,9,  -999.0,9, -999.00,9, -999.00,9, -999.00,9, -999.00,9,-999.000,9,-999.000,9,-999.000,9,  -999.0,9,  -999.0,9,-999.0000,9,  -999.00,-999.0000
06AQ19960712,ARKXII,43,2,27,166450,2,19960805,1615,84.1900,100.5633,3780,    50.7, -1.8320, 34.2886,2,-999.0000,9,  -999.0,9,  -999.0,9, -999.00,9, -999.00,9, -999.00,9, -999.00,9,-999.000,9,-999.000,9,-999.000,9,  -999.0,9,  -999.0,9,-999.0000,9,  -999.00,-999.0000
06AQ19960712,ARKXII,43,2,25,166448,2,19960805,1615,84.1900,100.5633,3780,    50.7, -1.8331, 34.2914,2,-999.0000,9,  -999.0,9,  -999.0,9, -999.00,9, -999.00,9, -999.00,9, -999.00,9,-999.000,9,-999.000,9,-999.000,9,  -999.0,9,  -999.0,9,-999.0000,9,  -999.00,-999.0000
06AQ19960712,ARKXII,43,2,26,166449,2,19960805,1615,84.1900,100.5633,3780,    50.8, -1.8315, 34.2878,2,-999.0000,9,  -999.0,9,  -999.0,9, -999.00,9, -999.00,9, -999.00,9, -999.00,9,-999.000,9,-999.000,9,-999.000,9,  -999.0,9,  -999.0,9,-999.0000,9,  -999.00,-999.0000
06AQ19960712,ARKXII,43,2,24,166447,2,19960805,1615,84.1900,100.5633,3780,    60.2, -1.8219, 34.3034,2, 34.3026,2,  -999.0,9,   353.1,2,    3.02,2,    7.22,2, -999.00,9, -999.00,9,   5.900,2,   2.706,2,   5.675,2,  2110.0,2,  -999.0,9,   7.7471,2,    25.00, -1.8202
06AQ19960712,ARKXII,43,2,22,166445,2,19960805,1615,84.1900,100.5633,3780,    80.3, -1.8200, 34.3109,2, 34.3100,2,  -999.0,9,   351.4,2,    3.12,2,    7.22,2, -999.00,9,    0.60,2,   6.176,2,   2.827,2,   5.244,2,  2111.8,2,  -999.0,9,   7.7384,2,    25.00, -1.8186
06AQ19960712,ARKXII,43,2,23,166446,2,19960805,1615,84.1900,100.5633,3780,    80.3, -1.8269, 34.3083,2, 34.3102,2,  -999.0,9,   351.5,2,    3.12,2,    7.12,2, -999.00,9,    0.59,2,   6.116,2,   2.856,2,   5.493,2,  2115.3,2,  -999.0,9,   7.7374,2,    25.00, -1.8256
06AQ19960712,ARKXII,43,2,21,166444,2,19960805,1615,84.1900,100.5633,3780,   100.2, -1.5673, 34.3213,2, 34.3898,2,  -999.0,9,   328.0,2,    4.00,2,    8.88,2, -999.00,9,    0.66,2,-999.000,9,-999.000,9,-999.000,9,  2125.1,2,  -999.0,9,   7.7161,2,    25.00, -1.5662
06AQ19960712,ARKXII,43,2,20,166443,2,19960805,1615,84.1900,100.5633,3780,   149.9,  0.9854, 34.6699,2, 34.6719,2,  -999.0,9,   300.8,2,    5.27,2,   11.41,2, -999.00,9,    0.79,2,   4.031,2,   1.896,2,   4.315,2,  2138.0,2,  -999.0,9,   7.7044,2,    25.00,  0.9823
06AQ19960712,ARKXII,43,2,19,166442,2,19960805,1615,84.1900,100.5633,3780,   200.4,  1.7937, 34.8493,2, 34.8498,2,  -999.0,9,   300.0,2,    5.56,2,   12.10,2, -999.00,9,    0.83,2,-999.000,9,-999.000,9,-999.000,9,  -999.0,9,  -999.0,9,-999.0000,9,  -999.00,  1.7875
06AQ19960712,ARKXII,43,2,18,166441,2,19960805,1615,84.1900,100.5633,3780,   235.0,  2.1230, 34.9228,2, 34.9214,2,  -999.0,9,   301.5,2,    5.66,2,   12.59,2, -999.00,9,    0.84,2,   4.517,2,   2.151,2,   5.225,2,  2139.7,2,  -999.0,9,   7.7256,2,    25.00,  2.1140
06AQ19960712,ARKXII,43,2,12,166435,2,19960805,1615,84.1900,100.5633,3780,   249.7,  2.1016, 34.9226,2, 34.9230,2,  -999.0,9,   301.8,2,    5.76,2,   12.88,2, -999.00,9, -999.00,9,   4.343,2,   2.092,2,   5.111,2,  2148.6,2,  -999.0,9,   7.7217,2,    25.00,  2.0921
06AQ19960712,ARKXII,43,2,13,166436,2,19960805,1615,84.1900,100.5633,3780,   249.7,  2.1138, 34.9230,2,-999.0000,9,  -999.0,9,  -999.0,9, -999.00,9, -999.00,9, -999.00,9, -999.00,9,-999.000,9,-999.000,9,-999.000,9,  -999.0,9,  -999.0,9,-999.0000,9,  -999.00,-999.0000
06AQ19960712,ARKXII,43,2,15,166438,2,19960805,1615,84.1900,100.5633,3780,   249.8,  2.1162, 34.9229,2,-999.0000,9,  -999.0,9,  -999.0,9, -999.00,9, -999.00,9, -999.00,9, -999.00,9,-999.000,9,-999.000,9,-999.000,9,  -999.0,9,  -999.0,9,-999.0000,9,  -999.00,-999.0000
06AQ19960712,ARKXII,43,2,17,166440,2,19960805,1615,84.1900,100.5633,3780,   249.8,  2.1177, 34.9234,2,-999.0000,9,  -999.0,9,  -999.0,9, -999.00,9, -999.00,9, -999.00,9, -999.00,9,-999.000,9,-999.000,9,-999.000,9,  -999.0,9,  -999.0,9,-999.0000,9,  -999.00,-999.0000
06AQ19960712,ARKXII,43,2,14,166437,2,19960805,1615,84.1900,100.5633,3780,   249.8,  2.1159, 34.9230,2,-999.0000,9,  -999.0,9,  -999.0,9, -999.00,9, -999.00,9, -999.00,9, -999.00,9,-999.000,9,-999.000,9,-999.000,9,  -999.0,9,  -999.0,9,-999.0000,9,  -999.00,-999.0000
06AQ19960712,ARKXII,43,2,16,166439,2,19960805,1615,84.1900,100.5633,3780,   249.8,  2.1164, 34.9236,2,-999.0000,9,  -999.0,9,  -999.0,9, -999.00,9, -999.00,9, -999.00,9, -999.00,9,-999.000,9,-999.000,9,-999.000,9,  -999.0,9,  -999.0,9,-999.0000,9,  -999.00,-999.0000
06AQ19960712,ARKXII,43,2,11,166434,2,19960805,1615,84.1900,100.5633,3780,   300.6,  1.6272, 34.8929,2, 34.8904,2,  -999.0,9,   300.8,2,    5.76,2,   12.59,2, -999.00,9,    0.83,2,-999.000,9,-999.000,9,-999.000,9,  -999.0,9,  -999.0,9,-999.0000,9,  -999.00,  1.6154
06AQ19960712,ARKXII,43,2,7,166430,2,19960805,1615,84.1900,100.5633,3780,   400.5,  1.3518, 34.9079,2,-999.0000,9,  -999.0,9,  -999.0,9, -999.00,9, -999.00,9, -999.00,9, -999.00,9,-999.000,9,-999.000,9,-999.000,9,  -999.0,9,  -999.0,9,-999.0000,9,  -999.00,-999.0000
06AQ19960712,ARKXII,43,2,5,166428,2,19960805,1615,84.1900,100.5633,3780,   400.5,  1.3457, 34.9099,2,-999.0000,9,  -999.0,9,  -999.0,9, -999.00,9, -999.00,9, -999.00,9, -999.00,9,-999.000,9,-999.000,9,-999.000,9,  -999.0,9,  -999.0,9,-999.0000,9,  -999.00,-999.0000
06AQ19960712,ARKXII,43,2,6,166429,2,19960805,1615,84.1900,100.5633,3780,   400.5,  1.3513, 34.9084,2,-999.0000,9,  -999.0,9,  -999.0,9, -999.00,9, -999.00,9, -999.00,9, -999.00,9,-999.000,9,-999.000,9,-999.000,9,  -999.0,9,  -999.0,9,-999.0000,9,  -999.00,-999.0000
06AQ19960712,ARKXII,43,2,8,166431,2,19960805,1615,84.1900,100.5633,3780,   400.6,  1.3521, 34.9075,2,-999.0000,9,  -999.0,9,  -999.0,9, -999.00,9, -999.00,9, -999.00,9, -999.00,9,-999.000,9,-999.000,9,-999.000,9,  -999.0,9,  -999.0,9,-999.0000,9,  -999.00,-999.0000
06AQ19960712,ARKXII,43,2,9,166432,2,19960805,1615,84.1900,100.5633,3780,   400.6,  1.3518, 34.9078,2,-999.0000,9,  -999.0,9,  -999.0,9, -999.00,9, -999.00,9, -999.00,9, -999.00,9,-999.000,9,-999.000,9,-999.000,9,  -999.0,9,  -999.0,9,-999.0000,9,  -999.00,-999.0000
06AQ19960712,ARKXII,43,2,10,166433,2,19960805,1615,84.1900,100.5633,3780,   400.6,  1.3514, 34.9081,2, 34.9081,2,  -999.0,9,   301.5,2,    5.85,2,   12.78,2, -999.00,9,    0.85,2,   4.013,2,   1.780,2,   5.005,2,  2144.6,2,  -999.0,9,   7.7140,2,    25.00,  1.3357
06AQ19960712,ARKXII,43,2,4,166427,2,19960805,1615,84.1900,100.5633,3780,   500.1,  1.0171, 34.9126,2, 34.9124,2,  -999.0,9,   301.5,2,    6.15,2,   12.98,2, -999.00,9,    0.85,2,-999.000,9,-999.000,9,-999.000,9,  -999.0,9,  -999.0,9,-999.0000,9,  -999.00,  0.9967
06AQ19960712,ARKXII,43,2,3,166426,2,19960805,1615,84.1900,100.5633,3780,   600.4,  0.6257, 34.9051,2, 34.9043,2,  -999.0,9,   302.4,2,    6.24,2,   12.98,2, -999.00,9,    0.84,2,   3.217,2,   1.430,2,   4.643,2,  -999.0,9,  -999.0,9,-999.0000,9,  -999.00,  0.6022
06AQ19960712,ARKXII,43,2,2,166425,2,19960805,1615,84.1900,100.5633,3780,   699.7,  0.2179, 34.8909,2, 34.8910,2,  -999.0,9,   303.7,2,    6.44,2,   12.59,2, -999.00,9,    0.86,2,-999.000,9,-999.000,9,-999.000,9,  -999.0,9,  -999.0,9,-999.0000,9,  -999.00,  0.1913
06AQ19960712,ARKXII,43,2,1,166424,2,19960805,1615,84.1900,100.5633,3780,   800.7,  0.0360, 34.8936,2, 34.8935,2,  -999.0,9,   303.3,2,    6.83,2,   12.49,2, -999.00,9,    0.84,2,   2.888,2,   1.251,2,   4.174,2,  2154.3,2,  -999.0,9,   7.6841,2,    25.00,  0.0054