BOTTLE,20100322CCHDOSIODM
EXPOCODE,SECT_ID,STNNBR,CASTNO,SAMPNO,BTLNBR,BTLNBR_FLAG_W,DATE,TIME,LATITUDE,LONGITUDE,DEPTH,CTDPRS,CTDTMP,CTDSAL,CTDSAL_FLAG_W,SALNTY,SALNTY_FLAG_W,CTDOXY,CTDOXY_FLAG_W,OXYGEN,OXYGEN_FLAG_W,SILCAT,SILCAT_FLAG_W,NITRAT,NITRAT_FLAG_W,NITRIT,NITRIT_FLAG_W,PHSPHT,PHSPHT_FLAG_W,CFC-11,CFC-11_FLAG_W,CFC-12,CFC-12_FLAG_W,CCL4,CCL4_FLAG_W,TCARBN,TCARBN_FLAG_W,ALKALI,ALKALI_FLAG_W,PH_SWS,PH_SWS_FLAG_W,PH_TMP,THETA
,,,,,,,,,,,METERS,DBAR,ITS-90,PSS-78,,PSS-78,,UMOL/KG,,UMOL/KG,,UMOL/KG,,UMOL/KG,,UMOL/KG,,UMOL/KG,,PMOL/KG,,PMOL/KG,,PMOL/KG,,UMOL/KG,,UMOL/KG,,,,DEG C,DEG C
06AQ19960712,ARKXII,7,1,32,165430,2,19960725,1415,81.2250,70.0600,603,     9.4, -1.7697, 33.8141,2,-999.0000,9,  -999.0,9,  -999.0,9, -999.00,9, -999.00,9, -999.00,9, -999.00,9,-999.000,9,-999.000,9,-999.000,9,  -999.0,9,  -999.0,9,-999.0000,9,  -999.00,-999.0000
06AQ19960712,ARKXII,7,1,31,165429,2,19960725,1415,81.2250,70.0600,603,     9.4, -1.7663, 33.8160,2,-999.0000,9,  -999.0,9,  -999.0,9, -999.00,9, -999.00,9, -999.00,9, -999.00,9,-999.000,9,-999.000,9,-999.000,9,  -999.0,9,  -999.0,9,-999.0000,9,  -999.00,-999.0000
06AQ19960712,ARKXII,7,1,30,165428,2,19960725,1415,81.2250,70.0600,603,     9.5, -1.7671, 33.8152,2, 33.8113,2,  -999.0,9,   352.2,2,    2.63,2,    3.80,2, -999.00,9,    0.46,2,   6.511,2,   3.183,2,   8.033,2,  2120.2,2,  2255.7,2,   7.7347,2,    25.00, -1.7652
06AQ19960712,ARKXII,7,1,29,165427,2,19960725,1415,81.2250,70.0600,603,    18.7, -1.7706, 33.8168,2, 33.8220,2,  -999.0,9,   351.5,2,    2.63,2,    3.90,2, -999.00,9,    0.47,2,-999.000,9,-999.000,9,-999.000,9,  -999.0,9,  2257.8,2,   7.7308,2,    25.00, -1.7664
06AQ19960712,ARKXII,7,1,28,165426,2,19960725,1415,81.2250,70.0600,603,    29.7, -1.7722, 33.8226,2, 33.8822,2,  -999.0,9,   348.2,2,    2.93,2,    4.39,2, -999.00,9,    0.48,2,   6.492,2,   3.137,2,   8.228,2,  2128.5,2,  2269.2,2,   7.7240,2,    25.00, -1.7706
06AQ19960712,ARKXII,7,1,27,165425,2,19960725,1415,81.2250,70.0600,603,    39.5, -1.7978, 34.0509,2, 34.0369,2,  -999.0,9,   337.0,2,    3.51,2,    5.66,2, -999.00,9,    0.58,2,-999.000,9,-999.000,9,-999.000,9,  2143.9,2,  2273.5,2,   7.7018,2,    25.00, -1.7958
06AQ19960712,ARKXII,7,1,26,165424,2,19960725,1415,81.2250,70.0600,603,    49.2, -1.7778, 34.1176,2, 34.1199,2,  -999.0,9,   334.5,2,    3.41,2,    6.15,2, -999.00,9,    0.59,2,   6.785,2,   3.135,2,   8.206,2,  2137.7,2,  2262.9,2,   7.7056,2,    25.00, -1.7749
06AQ19960712,ARKXII,7,1,25,165423,2,19960725,1415,81.2250,70.0600,603,    59.8, -1.7545, 34.1471,2, 34.1714,2,  -999.0,9,   334.4,2,    3.61,2,    6.15,2, -999.00,9,    0.60,2,-999.000,9,-999.000,9,-999.000,9,  2143.0,2,  2267.2,2,   7.6979,2,    25.00, -1.7522
06AQ19960712,ARKXII,7,1,24,165422,2,19960725,1415,81.2250,70.0600,603,    79.6, -1.6240, 34.2920,2, 34.3073,2,  -999.0,9,   330.0,2,    3.71,2,    6.63,2, -999.00,9,    0.62,2,   6.459,2,   3.108,2,   8.010,2,  2151.4,2,  2275.5,2,   7.6959,2,    25.00, -1.6287
06AQ19960712,ARKXII,7,1,23,165421,2,19960725,1415,81.2250,70.0600,603,    99.9, -0.9186, 34.4386,2, 34.4534,2,  -999.0,9,   322.8,2,    3.71,2,    7.80,2, -999.00,9,    0.68,2,-999.000,9,-999.000,9,-999.000,9,  2154.3,2,  2272.4,2,   7.6978,2,    25.00, -0.9198
06AQ19960712,ARKXII,7,1,22,165420,2,19960725,1415,81.2250,70.0600,603,   124.5, -0.0245, 34.6129,2, 34.5860,2,  -999.0,9,   318.3,2,    4.20,2,    8.68,2, -999.00,9,    0.71,2,   5.761,2,   2.841,2,   7.337,2,  2152.2,2,  2284.0,2,   7.7035,2,    25.00, -0.0375
06AQ19960712,ARKXII,7,1,19,165417,2,19960725,1415,81.2250,70.0600,603,   149.6,  0.7908, 34.7362,2,-999.0000,9,  -999.0,9,  -999.0,9, -999.00,9, -999.00,9, -999.00,9, -999.00,9,-999.000,9,-999.000,9,-999.000,9,  -999.0,9,  -999.0,9,-999.0000,9,  -999.00,-999.0000
06AQ19960712,ARKXII,7,1,18,165416,2,19960725,1415,81.2250,70.0600,603,   149.6,  0.7887, 34.7352,2,-999.0000,9,  -999.0,9,  -999.0,9, -999.00,9, -999.00,9, -999.00,9, -999.00,9,-999.000,9,-999.000,9,-999.000,9,  -999.0,9,  -999.0,9,-999.0000,9,  -999.00,-999.0000
06AQ19960712,ARKXII,7,1,21,165419,2,19960725,1415,81.2250,70.0600,603,   149.7,  0.7892, 34.7350,2, 34.7219,2,  -999.0,9,   311.7,2,    4.68,2,    9.66,2, -999.00,9,    0.79,2,-999.000,9,-999.000,9,-999.000,9,  2152.9,2,  2286.7,2,   7.7093,2,    25.00,  0.7865
06AQ19960712,ARKXII,7,1,20,165418,2,19960725,1415,81.2250,70.0600,603,   149.7,  0.7917, 34.7335,2,-999.0000,9,  -999.0,9,  -999.0,9, -999.00,9, -999.00,9, -999.00,9, -999.00,9,-999.000,9,-999.000,9,-999.000,9,  -999.0,9,  -999.0,9,-999.0000,9,  -999.00,-999.0000
06AQ19960712,ARKXII,7,1,15,165413,2,19960725,1415,81.2250,70.0600,603,   199.0,  1.3030, 34.8223,2,-999.0000,9,  -999.0,9,  -999.0,9, -999.00,9, -999.00,9, -999.00,9, -999.00,9,-999.000,9,-999.000,9,-999.000,9,  -999.0,9,  -999.0,9,-999.0000,9,  -999.00,-999.0000
06AQ19960712,ARKXII,7,1,16,165414,2,19960725,1415,81.2250,70.0600,603,   199.0,  1.3769, 34.8318,2,-999.0000,9,  -999.0,9,  -999.0,9, -999.00,9, -999.00,9, -999.00,9, -999.00,9,-999.000,9,-999.000,9,-999.000,9,  -999.0,9,  -999.0,9,-999.0000,9,  -999.00,-999.0000
06AQ19960712,ARKXII,7,1,17,165415,2,19960725,1415,81.2250,70.0600,603,   199.0,  1.4020, 34.8293,2, 34.8242,2,  -999.0,9,   307.0,2,    4.88,2,   10.54,2, -999.00,9,    0.83,2,   5.492,2,   2.584,2,   6.318,2,  2166.5,2,  2294.1,2,   7.7112,2,    25.00,  1.3932
06AQ19960712,ARKXII,7,1,14,165412,2,19960725,1415,81.2250,70.0600,603,   248.9,  1.3647, 34.8549,2, 34.8560,2,  -999.0,9,   307.0,2,    5.17,2,   10.83,2, -999.00,9,    0.84,2,   5.280,2,   2.562,2,   6.355,2,  2158.0,2,  2294.7,2,   7.7092,2,    25.00,  1.3667
06AQ19960712,ARKXII,7,1,13,165411,2,19960725,1415,81.2250,70.0600,603,   300.0,  1.5119, 34.8950,2, 34.8874,2,  -999.0,9,   306.8,2,    5.76,2,   11.12,2, -999.00,9,    0.86,2,   5.132,2,   2.576,2,   6.190,2,  2163.8,2,  2296.5,2,   7.7121,2,    25.00,  1.4658
06AQ19960712,ARKXII,7,1,12,165410,2,19960725,1415,81.2250,70.0600,603,   349.9,  1.0621, 34.8763,2,-999.0000,9,  -999.0,9,   307.1,2,    5.66,2,   11.12,2, -999.00,9,    0.86,2,   5.336,2,   2.575,2,   6.301,2,  2164.7,2,  2296.1,2,-999.0000,9  -999.00,-999.0000
06AQ19960712,ARKXII,7,1,9,165407,2,19960725,1415,81.2250,70.0600,603,   399.9,  0.1923, 34.8306,2,-999.0000,9,  -999.0,9,  -999.0,9, -999.00,9, -999.00,9, -999.00,9, -999.00,9,-999.000,9,-999.000,9,-999.000,9,  -999.0,9,  -999.0,9,-999.0000,9,  -999.00,-999.0000
06AQ19960712,ARKXII,7,1,10,165408,2,19960725,1415,81.2250,70.0600,603,   399.9,  0.1650, 34.8277,2,-999.0000,9,  -999.0,9,  -999.0,9, -999.00,9, -999.00,9, -999.00,9, -999.00,9,-999.000,9,-999.000,9,-999.000,9,  -999.0,9,  -999.0,9,-999.0000,9,  -999.00,-999.0000
06AQ19960712,ARKXII,7,1,11,165409,2,19960725,1415,81.2250,70.0600,603,   399.9,  0.1379, 34.8243,2, 34.8258,2,  -999.0,9,   312.0,2,    5.46,2,   10.34,2, -999.00,9,    0.83,2,   5.202,2,   2.534,2,   6.595,2,  2169.5,2,  2289.3,2,   7.6948,2,    25.00,  0.1239
06AQ19960712,ARKXII,7,1,8,165406,2,19960725,1415,81.2250,70.0600,603,   449.8, -0.3701, 34.8252,2, 34.8242,2,  -999.0,9,   313.5,2,    5.66,2,    9.76,2, -999.00,9,    0.80,2,   5.959,2,   2.843,2,   7.284,2,  -999.0,9,  -999.0,9,   7.6822,2,    25.00, -0.3665
06AQ19960712,ARKXII,7,1,7,165405,2,19960725,1415,81.2250,70.0600,603,   499.7, -0.3508, 34.8690,2, 34.8680,2,  -999.0,9,   309.7,2,    6.54,2,   10.44,2, -999.00,9,    0.87,2,   6.605,2,   3.032,2,   7.490,2,  2182.9,2,  2291.8,2,   7.6592,2,    25.00, -0.3686
06AQ19960712,ARKXII,7,1,6,165404,2,19960725,1415,81.2250,70.0600,603,   549.7, -0.2812, 34.9048,2, 34.9041,2,  -999.0,9,   304.0,2,    7.90,2,   11.32,2, -999.00,9,    0.94,2,-999.000,9,-999.000,9,-999.000,9,  2173.7,2,  2290.8,2,   7.6419,2,    25.00, -0.2991
06AQ19960712,ARKXII,7,1,5,165403,2,19960725,1415,81.2250,70.0600,603,   562.1, -0.2946, 34.9050,2, 34.9067,2,  -999.0,9,   302.9,2,    8.29,2,   11.41,2, -999.00,9,    0.95,2,   6.281,2,   3.100,2,   7.193,2,  2192.1,2,  2293.0,2,   7.6381,2,    25.00, -0.3125
06AQ19960712,ARKXII,7,1,4,165402,2,19960725,1415,81.2250,70.0600,603,   571.5, -0.3110, 34.9071,2, 34.9073,2,  -999.0,9,   301.1,2,    8.59,2,   11.71,2, -999.00,9,    0.95,2,-999.000,9,-999.000,9,-999.000,9,  2194.4,2,  2291.5,2,   7.6333,2,    25.00, -0.3289
06AQ19960712,ARKXII,7,1,1,165399,2,19960725,1415,81.2250,70.0600,603,   581.6, -0.3116, 34.9062,2,-999.0000,9,  -999.0,9,  -999.0,9, -999.00,9, -999.00,9, -999.00,9, -999.00,9,-999.000,9,-999.000,9,-999.000,9,  -999.0,9,  -999.0,9,-999.0000,9,  -999.00,-999.0000
06AQ19960712,ARKXII,7,1,2,165400,2,19960725,1415,81.2250,70.0600,603,   581.6, -0.3117, 34.9063,2,-999.0000,9,  -999.0,9,  -999.0,9, -999.00,9, -999.00,9, -999.00,9, -999.00,9,-999.000,9,-999.000,9,-999.000,9,  -999.0,9,  -999.0,9,-999.0000,9,  -999.00,-999.0000
06AQ19960712,ARKXII,7,1,3,165401,2,19960725,1415,81.2250,70.0600,603,   581.7, -0.3109, 34.9054,2, 34.9086,2,  -999.0,9,  -999.0,9,    8.68,2,   11.71,2, -999.00,9,    0.97,2,   6.097,2,   3.022,2,   7.138,2,  2194.0,2,  2287.5,2,   7.6352,2,    25.00, -0.3293
06AQ19960712,ARKXII,8,1,21,165451,2,19960725,2026,81.2633,70.9533,615,    10.1, -1.7878, 33.7566,2, 33.7461,2,  -999.0,9,   352.3,2,    3.02,2,    3.90,2, -999.00,9,    0.43,2,   6.657,2,   3.274,2,   8.350,2,  2116.3,2,  2272.5,2,   7.7289,2,    25.00, -1.7842
06AQ19960712,ARKXII,8,1,20,165450,2,19960725,2026,81.2633,70.9533,615,    19.9, -1.7901, 33.7741,2, 33.7901,2,  -999.0,9,   351.2,2,    3.12,2,    4.29,2, -999.00,9,    0.45,2,   6.536,2,   3.246,2,   8.121,2,  2122.1,2,  2267.6,2,   7.7269,2,    25.00, -1.7864
06AQ19960712,ARKXII,8,1,19,165449,2,19960725,2026,81.2633,70.9533,615,    30.3, -1.7956, 33.8287,2, 33.8326,2,  -999.0,9,   348.0,2,    3.51,2,    4.59,2, -999.00,9,    0.46,2,   6.647,2,   3.255,2,   8.346,2,  2125.2,2,  2270.9,2,   7.7182,2,    25.00, -1.7925
06AQ19960712,ARKXII,8,1,18,165448,2,19960725,2026,81.2633,70.9533,615,    40.0, -1.8013, 33.9028,2, 33.9192,2,  -999.0,9,   343.9,2,    3.41,2,    4.98,2, -999.00,9,    0.49,2,   6.769,2,   3.379,2,   8.138,2,  2132.3,2,  -999.0,9,   7.7143,2,    25.00, -1.7987
06AQ19960712,ARKXII,8,1,17,165447,2,19960725,2026,81.2633,70.9533,615,    50.0, -1.7961, 34.0847,2, 34.0633,2,  -999.0,9,   337.3,2,    3.61,2,    5.85,2, -999.00,9,    0.55,2,   6.560,2,   3.291,2,   7.824,2,  2136.4,2,  2278.0,2,   7.7047,2,    25.00, -1.8009
06AQ19960712,ARKXII,8,1,16,165446,2,19960725,2026,81.2633,70.9533,615,    59.8, -1.7814, 34.1074,2, 34.1030,2,  -999.0,9,   336.4,2,    3.51,2,    6.05,2, -999.00,9,    0.56,2,   7.052,2,   3.340,2,   7.976,2,  2134.0,2,  2274.5,2,   7.7056,2,    25.00, -1.7792
06AQ19960712,ARKXII,8,1,15,165445,2,19960725,2026,81.2633,70.9533,615,    80.0, -1.6784, 34.2013,2, 34.2118,2,  -999.0,9,   332.7,2,    3.80,2,    6.34,2, -999.00,9,    0.59,2,   6.443,2,   3.033,2,   7.612,2,  2136.5,2,  2275.3,2,   7.6998,2,    25.00, -1.6856
06AQ19960712,ARKXII,8,1,14,165444,2,19960725,2026,81.2633,70.9533,615,   100.0, -1.1666, 34.3769,2, 34.3741,2,  -999.0,9,   324.9,2,    3.80,2,    7.32,2, -999.00,9,    0.63,2,-999.000,9,   2.944,2,   7.257,2,  2138.0,2,  2283.5,2,   7.7036,2,    25.00, -1.1715
06AQ19960712,ARKXII,8,1,13,165443,2,19960725,2026,81.2633,70.9533,615,   124.5, -0.2825, 34.5596,2, 34.5835,2,  -999.0,9,   318.0,2,    4.29,2,    8.88,2, -999.00,9,    0.71,2,   5.447,2,   2.702,2,   6.391,2,  2141.0,2,  2289.9,2,   7.7093,2,    25.00, -0.2852
06AQ19960712,ARKXII,8,1,12,165442,2,19960725,2026,81.2633,70.9533,615,   150.0,  1.0324, 34.7585,2, 34.7359,2,  -999.0,9,   309.4,2,    4.78,2,   10.05,2, -999.00,9,    0.78,2,-999.000,9,   2.616,2,   6.169,2,  2139.6,2,  2295.1,2,   7.7151,2,    25.00,  0.9743
06AQ19960712,ARKXII,8,1,11,165441,2,19960725,2026,81.2633,70.9533,615,   200.1,  1.3708, 34.8278,2, 34.8181,2,  -999.0,9,  -999.0,9,    5.17,2,   10.54,2, -999.00,9,    0.81,2,-999.000,9,-999.000,9,-999.000,9,  -999.0,9,  -999.0,9,   7.7102,2,    25.00,  1.3692
06AQ19960712,ARKXII,8,1,10,165440,2,19960725,2026,81.2633,70.9533,615,   250.1,  1.2732, 34.8416,2, 34.8189,2,  -999.0,9,   307.2,2,    5.37,2,   11.02,2, -999.00,9,    0.82,2,   5.688,2,   2.630,2,   5.985,2,  2146.3,2,  2301.0,2,   7.7121,2,    25.00,  1.2729
06AQ19960712,ARKXII,8,1,9,165439,2,19960725,2026,81.2633,70.9533,615,   300.4,  1.0807, 34.8528,2, 34.8477,2,  -999.0,9,   307.8,2,    5.66,2,   11.02,2, -999.00,9,    0.84,2,   4.948,2,   2.456,2,   5.790,2,  2148.2,2,  2300.6,2,   7.7102,2,    25.00,  1.1107
06AQ19960712,ARKXII,8,1,8,165438,2,19960725,2026,81.2633,70.9533,615,   350.6,  0.7275, 34.8469,2, 34.8463,2,  -999.0,9,   309.1,2,    5.76,2,   10.93,2, -999.00,9,    0.83,2,   5.256,2,   2.546,2,   6.331,2,  2149.4,2,  2298.6,2,   7.7035,2,    25.00,  0.7043
06AQ19960712,ARKXII,8,1,7,165437,2,19960725,2026,81.2633,70.9533,615,   400.4, -0.4707, 34.7986,2, 34.7966,2,  -999.0,9,   316.7,2,    5.27,2,    9.46,2, -999.00,9,    0.79,2,   5.775,2,   2.900,2,   7.194,2,  2154.2,2,  2294.6,2,   7.6958,2,    25.00, -0.4721
06AQ19960712,ARKXII,8,1,6,165436,2,19960725,2026,81.2633,70.9533,615,   450.7, -1.0033, 34.7893,2, 34.7875,2,  -999.0,9,   318.8,2,    5.76,2,    8.98,2, -999.00,9,    0.76,2,   6.123,2,   3.060,2,   7.834,2,  2162.5,2,  2302.2,2,   7.6803,2,    25.00, -1.0170
06AQ19960712,ARKXII,8,1,5,165435,2,19960725,2026,81.2633,70.9533,615,   500.3, -0.7609, 34.8212,2, 34.8132,2,  -999.0,9,   316.4,2,    5.95,2,    9.46,2, -999.00,9,    0.80,2,   6.455,2,   3.104,2,   7.897,2,  2164.7,2,  2302.0,2,   7.6765,2,    25.00, -0.7798
06AQ19960712,ARKXII,8,1,4,165434,2,19960725,2026,81.2633,70.9533,615,   550.3, -0.3319, 34.8810,2, 34.8778,2,  -999.0,9,   306.0,2,    7.51,2,   11.02,2, -999.00,9,    0.91,2,   6.205,2,   3.135,2,   6.922,2,  2174.2,2,  2303.5,2,   7.6534,2,    25.00, -0.3488
06AQ19960712,ARKXII,8,1,3,165433,2,19960725,2026,81.2633,70.9533,615,   583.4, -0.3036, 34.9045,2, 34.9060,2,  -999.0,9,   301.7,2,    8.49,2,   11.71,2, -999.00,9,    0.96,2,   6.114,2,   3.000,2,   7.055,2,  2178.6,2,  2296.0,2,   7.6409,2,    25.00, -0.3224
06AQ19960712,ARKXII,8,1,2,165432,2,19960725,2026,81.2633,70.9533,615,   592.2, -0.3043, 34.9040,2, 34.9038,2,  -999.0,9,   301.1,2,    8.59,2,   11.61,2, -999.00,9,    0.96,2,-999.000,9,-999.000,9,-999.000,9,  2183.6,2,  2300.7,2,   7.6400,2,    25.00, -0.3238
06AQ19960712,ARKXII,8,1,1,165431,2,19960725,2026,81.2633,70.9533,615,   602.2, -0.3082, 34.9045,2, 34.9051,2,  -999.0,9,   300.9,2,    8.59,2,   11.71,2, -999.00,9,    0.98,2,   6.425,2,   2.983,2,   6.881,2,  2183.9,2,  2305.2,2,   7.6390,2,    25.00, -0.3282