BOTTLE,20100322CCHDOSIODM
EXPOCODE,SECT_ID,STNNBR,CASTNO,SAMPNO,BTLNBR,BTLNBR_FLAG_W,DATE,TIME,LATITUDE,LONGITUDE,DEPTH,CTDPRS,CTDTMP,CTDSAL,CTDSAL_FLAG_W,SALNTY,SALNTY_FLAG_W,CTDOXY,CTDOXY_FLAG_W,OXYGEN,OXYGEN_FLAG_W,SILCAT,SILCAT_FLAG_W,NITRAT,NITRAT_FLAG_W,NITRIT,NITRIT_FLAG_W,PHSPHT,PHSPHT_FLAG_W,CFC-11,CFC-11_FLAG_W,CFC-12,CFC-12_FLAG_W,CCL4,CCL4_FLAG_W,TCARBN,TCARBN_FLAG_W,ALKALI,ALKALI_FLAG_W,PH_SWS,PH_SWS_FLAG_W,PH_TMP,THETA
,,,,,,,,,,,METERS,DBAR,ITS-90,PSS-78,,PSS-78,,UMOL/KG,,UMOL/KG,,UMOL/KG,,UMOL/KG,,UMOL/KG,,UMOL/KG,,PMOL/KG,,PMOL/KG,,PMOL/KG,,UMOL/KG,,UMOL/KG,,,,DEG C,DEG C
06AQ19960712,ARKXII,97,1,36,168405,2,19960830,0944,79.6583,148.6767,288,     3.1, -1.7646, 32.9836,2,-999.0000,9,  -999.0,9,  -999.0,9, -999.00,9, -999.00,9, -999.00,9, -999.00,9,-999.000,9,-999.000,9,-999.000,9,  -999.0,9,  -999.0,9,-999.0000,9,  -999.00,-999.0000
06AQ19960712,ARKXII,97,1,35,168404,2,19960830,0944,79.6583,148.6767,288,    10.1, -1.7650, 32.9898,2,-999.0000,9,  -999.0,9,  -999.0,9, -999.00,9, -999.00,9, -999.00,9, -999.00,9,-999.000,9,-999.000,9,-999.000,9,  -999.0,9,  -999.0,9,-999.0000,9,  -999.00,-999.0000
06AQ19960712,ARKXII,97,1,34,168403,2,19960830,0944,79.6583,148.6767,288,    10.2, -1.7663, 32.9860,2, 33.0035,2,  -999.0,9,   333.1,2, -999.00,9,    4.39,2, -999.00,9,    0.50,2,   6.539,2,   3.189,2,   5.800,2,  2127.5,2,  2234.6,2,   7.6426,2,    25.00, -1.7632
06AQ19960712,ARKXII,97,1,33,168402,2,19960830,0944,79.6583,148.6767,288,    20.3, -1.7641, 32.9960,2,-999.0000,9,  -999.0,9,  -999.0,9, -999.00,9, -999.00,9, -999.00,9, -999.00,9,-999.000,9,-999.000,9,-999.000,9,  -999.0,9,  -999.0,9,-999.0000,9,  -999.00,-999.0000
06AQ19960712,ARKXII,97,1,32,168401,2,19960830,0944,79.6583,148.6767,288,    20.4, -1.7641, 32.9968,2, 32.9984,2,  -999.0,9,   332.9,2, -999.00,9,    4.29,2, -999.00,9,    0.50,2,   6.513,2,   3.248,2,   5.798,2,  2129.9,2,  2234.8,2,   7.6397,2,    25.00, -1.7613
06AQ19960712,ARKXII,97,1,30,168399,2,19960830,0944,79.6583,148.6767,288,    30.3, -1.7577, 33.0377,2, 33.1376,2,  -999.0,9,   324.6,2, -999.00,9,    5.37,2, -999.00,9,    0.54,2,   6.699,2,   3.241,2,   5.895,2,  2141.1,2,  2236.4,2,   7.6148,2,    25.00, -1.7535
06AQ19960712,ARKXII,97,1,31,168400,2,19960830,0944,79.6583,148.6767,288,    30.3, -1.7531, 33.0917,2,-999.0000,9,  -999.0,9,  -999.0,9, -999.00,9, -999.00,9, -999.00,9, -999.00,9,-999.000,9,-999.000,9,-999.000,9,  -999.0,9,  -999.0,9,-999.0000,9,  -999.00,-999.0000
06AQ19960712,ARKXII,97,1,28,168397,2,19960830,0944,79.6583,148.6767,288,    40.4, -1.7454, 33.2253,2, 33.2230,2,  -999.0,9,   320.7,2, -999.00,9,    5.76,2, -999.00,9,    0.57,2,   6.561,2,   3.221,2,   5.897,2,  2140.9,2,  2238.2,2,   7.6167,2,    25.00, -1.7387
06AQ19960712,ARKXII,97,1,29,168398,2,19960830,0944,79.6583,148.6767,288,    40.4, -1.7288, 33.2859,2,-999.0000,9,  -999.0,9,  -999.0,9, -999.00,9, -999.00,9, -999.00,9, -999.00,9,-999.000,9,-999.000,9,-999.000,9,  -999.0,9,  -999.0,9,-999.0000,9,  -999.00,-999.0000
06AQ19960712,ARKXII,97,1,27,168396,2,19960830,0944,79.6583,148.6767,288,    50.7, -1.7002, 33.3996,2,-999.0000,9,  -999.0,9,  -999.0,9, -999.00,9, -999.00,9, -999.00,9, -999.00,9,-999.000,9,-999.000,9,-999.000,9,  -999.0,9,  -999.0,9,-999.0000,9,  -999.00,-999.0000
06AQ19960712,ARKXII,97,1,26,168395,2,19960830,0944,79.6583,148.6767,288,    60.7, -1.5045, 33.7318,2, 33.6610,2,  -999.0,9,   308.4,2, -999.00,9,    7.41,2, -999.00,9,    0.60,2,   6.566,2,   3.168,2,   5.881,2,  2158.3,2,  2255.1,2,   7.6070,2,    25.00, -1.4923
06AQ19960712,ARKXII,97,1,25,168394,2,19960830,0944,79.6583,148.6767,288,    80.7, -1.2313, 34.1098,2,-999.0000,9,  -999.0,9,  -999.0,9, -999.00,9, -999.00,9, -999.00,9, -999.00,9,-999.000,9,-999.000,9,-999.000,9,  -999.0,9,  -999.0,9,-999.0000,9,  -999.00,-999.0000
06AQ19960712,ARKXII,97,1,24,168393,2,19960830,0944,79.6583,148.6767,288,    80.8, -1.1936, 34.1326,2, 34.1085,2,  -999.0,9,   306.1,2, -999.00,9,    8.29,2, -999.00,9,    0.67,2,   6.510,2,   3.046,2,   5.904,2,  2156.1,2,  2269.7,2,   7.6307,2,    25.00, -1.1990
06AQ19960712,ARKXII,97,1,22,168391,2,19960830,0944,79.6583,148.6767,288,   100.8, -0.9991, 34.3293,2, 34.3313,2,  -999.0,9,   305.7,2, -999.00,9,    8.98,2, -999.00,9,    0.68,2,   6.367,2,   3.129,2,   5.972,2,  2153.1,2,  2276.7,2,   7.6421,2,    25.00, -0.9927
06AQ19960712,ARKXII,97,1,23,168392,2,19960830,0944,79.6583,148.6767,288,   100.8, -1.0109, 34.3155,2,-999.0000,9,  -999.0,9,  -999.0,9, -999.00,9, -999.00,9, -999.00,9, -999.00,9,-999.000,9,-999.000,9,-999.000,9,  -999.0,9,  -999.0,9,-999.0000,9,  -999.00,-999.0000
06AQ19960712,ARKXII,97,1,20,168389,2,19960830,0944,79.6583,148.6767,288,   150.8,  0.0514, 34.6179,2, 34.6089,2,  -999.0,9,   308.4,2,    4.88,2,    9.95,2, -999.00,9,    0.71,2,   5.709,2,   2.737,2,   6.042,2,  2147.1,2,  2281.7,2,   7.6746,2,    25.00,  0.0495
06AQ19960712,ARKXII,97,1,21,168390,2,19960830,0944,79.6583,148.6767,288,   150.8,  0.0195, 34.6070,2,-999.0000,9,  -999.0,9,  -999.0,9, -999.00,9, -999.00,9, -999.00,9, -999.00,9,-999.000,9,-999.000,9,-999.000,9,  -999.0,9,  -999.0,9,-999.0000,9,  -999.00,-999.0000
06AQ19960712,ARKXII,97,1,19,168388,2,19960830,0944,79.6583,148.6767,288,   201.3,  0.6921, 34.7463,2,-999.0000,9,  -999.0,9,  -999.0,9, -999.00,9, -999.00,9, -999.00,9, -999.00,9,-999.000,9,-999.000,9,-999.000,9,  -999.0,9,  -999.0,9,-999.0000,9,  -999.00,-999.0000
06AQ19960712,ARKXII,97,1,18,168387,2,19960830,0944,79.6583,148.6767,288,   201.3,  0.7285, 34.7529,2, 34.7454,2,  -999.0,9,   305.4,2,    5.27,2,   10.93,2, -999.00,9,    0.77,2,   5.593,2,   2.647,2,   5.977,2,  -999.0,9,  -999.0,9,-999.0000,9,  -999.00,  0.7273
06AQ19960712,ARKXII,97,1,17,168386,2,19960830,0944,79.6583,148.6767,288,   251.1,  0.9061, 34.7934,2,-999.0000,9,  -999.0,9,  -999.0,9, -999.00,9, -999.00,9, -999.00,9, -999.00,9,-999.000,9,-999.000,9,-999.000,9,  -999.0,9,  -999.0,9,-999.0000,9,  -999.00,-999.0000
06AQ19960712,ARKXII,97,1,16,168385,2,19960830,0944,79.6583,148.6767,288,   251.2,  0.8976, 34.7941,2, 34.7937,2,  -999.0,9,   304.6,2,    5.56,2,   11.32,2, -999.00,9,    0.77,2,   5.385,2,   2.676,2,   6.139,2,  2146.5,2,  2293.0,2,   7.6909,2,    25.00,  0.8887
06AQ19960712,ARKXII,97,1,15,168384,2,19960830,0944,79.6583,148.6767,288,   267.9,  0.9247, 34.8047,2, 34.8051,2,  -999.0,9,   303.5,2,    5.95,2,   11.41,2, -999.00,9,    0.79,2,   5.258,2,   2.531,2,   5.805,2,  2149.3,2,  2293.6,2,   7.6881,2,    25.00,  0.9168
06AQ19960712,ARKXII,97,1,14,168383,2,19960830,0944,79.6583,148.6767,288,   276.6,  0.9309, 34.8064,2, 34.8057,2,  -999.0,9,   303.4,2,    6.05,2,   11.61,2, -999.00,9,    0.74,2,   5.488,2,   2.522,2,   5.926,2,  2150.7,2,  2292.8,2,   7.6890,2,    25.00,  0.9224
06AQ19960712,ARKXII,97,1,1,168370,2,19960830,0944,79.6583,148.6767,288,   286.3,  0.9381, 34.8085,2, 34.8080,2,  -999.0,9,   302.4,2,    6.15,2,   11.61,2, -999.00,9,    0.76,2,   5.254,2,   2.594,2,   5.919,2,  2150.0,2,  2291.5,2,   7.6929,2,    25.00,  0.9299
06AQ19960712,ARKXII,97,1,2,168371,2,19960830,0944,79.6583,148.6767,288,   286.4,  0.9400, 34.8081,2,-999.0000,9,  -999.0,9,  -999.0,9, -999.00,9, -999.00,9, -999.00,9, -999.00,9,-999.000,9,-999.000,9,-999.000,9,  -999.0,9,  -999.0,9,-999.0000,9,  -999.00,-999.0000
06AQ19960712,ARKXII,97,1,12,168381,2,19960830,0944,79.6583,148.6767,288,   286.4,  0.9408, 34.8072,2,-999.0000,9,  -999.0,9,  -999.0,9, -999.00,9, -999.00,9, -999.00,9, -999.00,9,-999.000,9,-999.000,9,-999.000,9,  -999.0,9,  -999.0,9,-999.0000,9,  -999.00,-999.0000
06AQ19960712,ARKXII,97,1,11,168380,2,19960830,0944,79.6583,148.6767,288,   286.4,  0.9407, 34.8075,2,-999.0000,9,  -999.0,9,  -999.0,9, -999.00,9, -999.00,9, -999.00,9, -999.00,9,-999.000,9,-999.000,9,-999.000,9,  -999.0,9,  -999.0,9,-999.0000,9,  -999.00,-999.0000
06AQ19960712,ARKXII,97,1,10,168379,2,19960830,0944,79.6583,148.6767,288,   286.4,  0.9409, 34.8074,2,-999.0000,9,  -999.0,9,  -999.0,9, -999.00,9, -999.00,9, -999.00,9, -999.00,9,-999.000,9,-999.000,9,-999.000,9,  -999.0,9,  -999.0,9,-999.0000,9,  -999.00,-999.0000
06AQ19960712,ARKXII,97,1,9,168378,2,19960830,0944,79.6583,148.6767,288,   286.4,  0.9409, 34.8075,2,-999.0000,9,  -999.0,9,  -999.0,9, -999.00,9, -999.00,9, -999.00,9, -999.00,9,-999.000,9,-999.000,9,-999.000,9,  -999.0,9,  -999.0,9,-999.0000,9,  -999.00,-999.0000
06AQ19960712,ARKXII,97,1,8,168377,2,19960830,0944,79.6583,148.6767,288,   286.4,  0.9414, 34.8073,2,-999.0000,9,  -999.0,9,  -999.0,9, -999.00,9, -999.00,9, -999.00,9, -999.00,9,-999.000,9,-999.000,9,-999.000,9,  -999.0,9,  -999.0,9,-999.0000,9,  -999.00,-999.0000
06AQ19960712,ARKXII,97,1,5,168374,2,19960830,0944,79.6583,148.6767,288,   286.4,  0.9405, 34.8076,2,-999.0000,9,  -999.0,9,  -999.0,9, -999.00,9, -999.00,9, -999.00,9, -999.00,9,-999.000,9,-999.000,9,-999.000,9,  -999.0,9,  -999.0,9,-999.0000,9,  -999.00,-999.0000
06AQ19960712,ARKXII,97,1,4,168373,2,19960830,0944,79.6583,148.6767,288,   286.4,  0.9410, 34.8077,2,-999.0000,9,  -999.0,9,  -999.0,9, -999.00,9, -999.00,9, -999.00,9, -999.00,9,-999.000,9,-999.000,9,-999.000,9,  -999.0,9,  -999.0,9,-999.0000,9,  -999.00,-999.0000
06AQ19960712,ARKXII,97,1,3,168372,2,19960830,0944,79.6583,148.6767,288,   286.4,  0.9409, 34.8078,2,-999.0000,9,  -999.0,9,  -999.0,9, -999.00,9, -999.00,9, -999.00,9, -999.00,9,-999.000,9,-999.000,9,-999.000,9,  -999.0,9,  -999.0,9,-999.0000,9,  -999.00,-999.0000
06AQ19960712,ARKXII,97,1,7,168376,2,19960830,0944,79.6583,148.6767,288,   286.4,  0.9417, 34.8073,2,-999.0000,9,  -999.0,9,  -999.0,9, -999.00,9, -999.00,9, -999.00,9, -999.00,9,-999.000,9,-999.000,9,-999.000,9,  -999.0,9,  -999.0,9,-999.0000,9,  -999.00,-999.0000
06AQ19960712,ARKXII,97,1,13,168382,2,19960830,0944,79.6583,148.6767,288,   286.4,  0.9409, 34.8071,2,-999.0000,9,  -999.0,9,  -999.0,9, -999.00,9, -999.00,9, -999.00,9, -999.00,9,-999.000,9,-999.000,9,-999.000,9,  -999.0,9,  -999.0,9,-999.0000,9,  -999.00,-999.0000
06AQ19960712,ARKXII,97,1,6,168375,2,19960830,0944,79.6583,148.6767,288,   286.5,  0.9411, 34.8075,2,-999.0000,9,  -999.0,9,  -999.0,9, -999.00,9, -999.00,9, -999.00,9, -999.00,9,-999.000,9,-999.000,9,-999.000,9,  -999.0,9,  -999.0,9,-999.0000,9,  -999.00,-999.0000
06AQ19960712,ARKXII,98,1,23,168428,2,19960901,0856,78.5200,133.9167,1828,    10.2, -1.7340, 32.4893,2, 32.4925,2,  -999.0,9,   371.0,2, -999.00,9,    2.44,2, -999.00,9,    0.37,2,   7.210,2,   3.253,2,   8.183,2,  2087.7,2,  2219.7,2,   7.7003,2,    25.00, -1.7332
06AQ19960712,ARKXII,98,1,22,168427,2,19960901,0856,78.5200,133.9167,1828,    20.7, -1.7161, 32.7049,2, 32.7088,2,  -999.0,9,   364.3,2, -999.00,9,    3.22,2, -999.00,9,    0.41,2,   7.071,2,   3.387,2,   7.962,2,  -999.0,9,  -999.0,9,-999.0000,9,  -999.00, -1.7114
06AQ19960712,ARKXII,98,1,21,168426,2,19960901,0856,78.5200,133.9167,1828,    30.2, -1.7151, 32.9912,2, 33.1133,2,  -999.0,9,   350.1,2, -999.00,9,    4.39,2, -999.00,9,    0.49,2,   7.209,2,   3.245,2,   8.031,2,  2129.5,2,  2248.1,2,   7.6626,2,    25.00, -1.7135
06AQ19960712,ARKXII,98,1,20,168425,2,19960901,0856,78.5200,133.9167,1828,    40.6, -1.7041, 33.3362,2, 33.3801,2,  -999.0,9,   340.9,2, -999.00,9,    4.98,2, -999.00,9,    0.51,2,   7.060,2,   3.430,2,   7.763,2,  -999.0,9,  -999.0,9,-999.0000,9,  -999.00, -1.6988
06AQ19960712,ARKXII,98,1,19,168424,2,19960901,0856,78.5200,133.9167,1828,    60.2, -1.7351, 33.9129,2, 33.9074,2,  -999.0,9,   337.3,2,    3.71,2,    5.46,2, -999.00,9,    0.50,2,   7.203,2,   3.294,2,   8.241,2,  2146.3,2,  2264.8,2,   7.6605,2,    25.00, -1.7362
06AQ19960712,ARKXII,98,1,18,168423,2,19960901,0856,78.5200,133.9167,1828,    80.2, -1.6604, 34.1316,2, 34.1228,2,  -999.0,9,   331.5,2,    3.71,2,    6.15,2, -999.00,9,    0.53,2,   6.789,2,   3.111,2,   7.400,2,  2144.0,2,  2271.2,2,   7.6748,2,    25.00, -1.6566
06AQ19960712,ARKXII,98,1,17,168422,2,19960901,0856,78.5200,133.9167,1828,    99.9, -1.4529, 34.2604,2, 34.2580,2,  -999.0,9,   324.1,2,    3.90,2,    7.32,2, -999.00,9,    0.60,2,   6.618,2,   2.981,2,   7.131,2,  2143.1,2,  2272.0,2,   7.6738,2,    25.00, -1.4723
06AQ19960712,ARKXII,98,1,16,168421,2,19960901,0856,78.5200,133.9167,1828,   149.9, -0.3772, 34.5190,2, 34.5214,2,  -999.0,9,   313.6,2,    4.39,2,    9.27,2, -999.00,9,    0.68,2,   6.092,2,   2.849,2,   6.374,2,  2144.0,2,  2278.5,2,   7.6824,2,    25.00, -0.4189
06AQ19960712,ARKXII,98,1,15,168420,2,19960901,0856,78.5200,133.9167,1828,   199.5,  0.9849, 34.7535,2, 34.7535,2,  -999.0,9,   305.5,2,    5.07,2,   11.02,2, -999.00,9,    0.79,2,   5.380,2,   2.449,2,   6.140,2,  -999.0,9,  -999.0,9,-999.0000,9,  -999.00,  0.9629
06AQ19960712,ARKXII,98,1,14,168419,2,19960901,0856,78.5200,133.9167,1828,   249.8,  1.4175, 34.8332,2, 34.8308,2,  -999.0,9,   304.4,2,    5.46,2,   11.71,2, -999.00,9,    0.79,2,   5.270,2,   2.560,2,   5.992,2,  2142.2,2,  2291.0,2,   7.7015,2,    25.00,  1.3986
06AQ19960712,ARKXII,98,1,13,168418,2,19960901,0856,78.5200,133.9167,1828,   290.1,  1.3599, 34.8508,2, 34.8500,2,  -999.0,9,   305.1,2,    5.46,2,   11.71,2, -999.00,9,    0.78,2,   5.271,2,   2.465,2,   6.021,2,  -999.0,9,  -999.0,9,-999.0000,9,  -999.00,  1.3576
06AQ19960712,ARKXII,98,1,12,168417,2,19960901,0856,78.5200,133.9167,1828,   399.8,  1.1631, 34.8794,2, 34.8765,2,  -999.0,9,   305.7,2,    5.66,2,   11.80,2, -999.00,9,    0.79,2,   5.191,2,   2.439,2,   6.124,2,  -999.0,9,  -999.0,9,-999.0000,9,  -999.00,  1.1464
06AQ19960712,ARKXII,98,1,11,168416,2,19960901,0856,78.5200,133.9167,1828,   499.9,  0.8542, 34.8839,2, 34.8832,2,  -999.0,9,   307.0,2,    5.85,2,   12.10,2, -999.00,9,    0.80,2,   5.031,2,   2.349,2,   6.154,2,  2150.5,2,  2285.9,2,   7.6929,2,    25.00,  0.8344
06AQ19960712,ARKXII,98,1,10,168415,2,19960901,0856,78.5200,133.9167,1828,   600.1,  0.4611, 34.8721,2, 34.8714,2,  -999.0,9,   307.8,2,    5.85,2,   11.80,2, -999.00,9,    0.79,2,   5.189,2,   2.551,2,   6.318,2,  -999.0,9,  -999.0,9,-999.0000,9,  -999.00,  0.4400
06AQ19960712,ARKXII,98,1,9,168414,2,19960901,0856,78.5200,133.9167,1828,   700.7,  0.2397, 34.8683,2, 34.8681,2,  -999.0,9,   309.3,2,    5.85,2,   11.71,2, -999.00,9,    0.79,2,   5.285,2,   2.345,2,   6.598,2,  2158.1,2,  2280.0,2,   7.6803,2,    25.00,  0.2152
06AQ19960712,ARKXII,98,1,8,168413,2,19960901,0856,78.5200,133.9167,1828,   799.8,  0.0726, 34.8674,2, 34.8659,2,  -999.0,9,   310.6,2,    5.85,2,   11.80,2, -999.00,9,    0.80,2,   5.334,2,   2.450,2,   6.317,2,  -999.0,9,  -999.0,9,-999.0000,9,  -999.00,  0.0452
06AQ19960712,ARKXII,98,1,7,168412,2,19960901,0856,78.5200,133.9167,1828,  1000.4, -0.2266, 34.8732,2, 34.8741,2,  -999.0,9,   312.6,2,    6.24,2,   11.80,2, -999.00,9,    0.81,2,   5.091,2,   2.319,2,   6.515,2,  2163.3,2,  2287.7,2,   7.6707,2,    25.00, -0.2658
06AQ19960712,ARKXII,98,1,6,168411,2,19960901,0856,78.5200,133.9167,1828,  1198.8, -0.3243, 34.8849,2, 34.8838,2,  -999.0,9,   311.8,2,    6.93,2,   11.90,2, -999.00,9,    0.84,2,   4.844,2,   2.367,2,   6.163,2,  -999.0,9,  -999.0,9,-999.0000,9,  -999.00, -0.3725
06AQ19960712,ARKXII,98,1,5,168410,2,19960901,0856,78.5200,133.9167,1828,  1400.7, -0.4086, 34.9050,2, 34.9054,2,  -999.0,9,   305.6,2,    8.39,2,   13.17,2, -999.00,9,    0.90,2,   3.088,2,   1.488,2,   4.509,2,  2162.6,2,  2288.0,2,   7.6774,2,    25.00, -0.4669
06AQ19960712,ARKXII,98,1,4,168409,2,19960901,0856,78.5200,133.9167,1828,  1600.4, -0.5705, 34.9109,2, 34.9103,2,  -999.0,9,   301.7,2,    8.98,2,   13.95,2, -999.00,9,    0.93,2,   1.795,2,   0.746,2,   2.849,2,  -999.0,9,  -999.0,9,-999.0000,9,  -999.00, -0.6396
06AQ19960712,ARKXII,98,1,3,168408,2,19960901,0856,78.5200,133.9167,1828,  1710.8, -0.6124, 34.9123,2, 34.9126,2,  -999.0,9,   301.3,2,   10.24,2,   13.95,2, -999.00,9,    0.92,2,   1.355,2,   0.645,2,   2.546,2,  2159.1,2,  2292.5,2,   7.6813,2,    25.00, -0.6866
06AQ19960712,ARKXII,98,1,2,168407,2,19960901,0856,78.5200,133.9167,1828,  1759.0, -0.6236, 34.9132,2, 34.9126,2,  -999.0,9,   300.9,2,   10.15,2,   13.85,2, -999.00,9,    0.90,2,   1.349,2,   0.652,2,   2.369,2,  2161.1,2,  2292.7,2,   7.6813,2,    25.00, -0.7014
06AQ19960712,ARKXII,98,1,1,168406,2,19960901,0856,78.5200,133.9167,1828,  1807.1, -0.6355, 34.9145,2, 34.9142,2,  -999.0,9,   299.7,2,   10.34,2,   14.05,2, -999.00,9,    0.92,2,   1.081,2,   0.523,2,   2.316,2,  2164.5,2,  2284.0,2,   7.6803,2,    25.00, -0.7162