BOTTLE,20100322CCHDOSIODM
EXPOCODE,SECT_ID,STNNBR,CASTNO,SAMPNO,BTLNBR,BTLNBR_FLAG_W,DATE,TIME,LATITUDE,LONGITUDE,DEPTH,CTDPRS,CTDTMP,CTDSAL,CTDSAL_FLAG_W,SALNTY,SALNTY_FLAG_W,CTDOXY,CTDOXY_FLAG_W,OXYGEN,OXYGEN_FLAG_W,SILCAT,SILCAT_FLAG_W,NITRAT,NITRAT_FLAG_W,NITRIT,NITRIT_FLAG_W,PHSPHT,PHSPHT_FLAG_W,CFC-11,CFC-11_FLAG_W,CFC-12,CFC-12_FLAG_W,CCL4,CCL4_FLAG_W,TCARBN,TCARBN_FLAG_W,ALKALI,ALKALI_FLAG_W,PH_SWS,PH_SWS_FLAG_W,PH_TMP,THETA
,,,,,,,,,,,METERS,DBAR,ITS-90,PSS-78,,PSS-78,,UMOL/KG,,UMOL/KG,,UMOL/KG,,UMOL/KG,,UMOL/KG,,UMOL/KG,,PMOL/KG,,PMOL/KG,,PMOL/KG,,UMOL/KG,,UMOL/KG,,,,DEG C,DEG C
06AQ19960712,ARKXII,9,1,33,165487,2,19960726,0312,81.2900,72.0200,608,     3.1, -1.7961, 33.7291,2,-999.0000,9,  -999.0,9,   353.5,2, -999.00,9, -999.00,9, -999.00,9, -999.00,9,-999.000,9,-999.000,9,-999.000,9,  -999.0,9,  -999.0,9,-999.0000,9,  -999.00,-999.0000
06AQ19960712,ARKXII,9,1,32,165486,2,19960726,0312,81.2900,72.0200,608,    10.2, -1.7982, 33.7241,2,-999.0000,9,  -999.0,9,  -999.0,9, -999.00,9, -999.00,9, -999.00,9, -999.00,9,-999.000,9,-999.000,9,-999.000,9,  -999.0,9,  -999.0,9,-999.0000,9,  -999.00,-999.0000
06AQ19960712,ARKXII,9,1,31,165485,2,19960726,0312,81.2900,72.0200,608,    10.2, -1.7984, 33.7322,2, 33.7349,2,  -999.0,9,   352.4,2,    3.22,2,    4.20,2, -999.00,9,    0.42,2,-999.000,9,-999.000,9,-999.000,9,  2114.2,2,  2252.3,2,   7.7260,2,    25.00, -1.7922
06AQ19960712,ARKXII,9,1,30,165484,2,19960726,0312,81.2900,72.0200,608,    19.6, -1.8027, 33.7403,2,-999.0000,9,  -999.0,9,  -999.0,9, -999.00,9, -999.00,9, -999.00,9, -999.00,9,-999.000,9,-999.000,9,-999.000,9,  -999.0,9,  -999.0,9,-999.0000,9,  -999.00,-999.0000
06AQ19960712,ARKXII,9,1,29,165483,2,19960726,0312,81.2900,72.0200,608,    19.6, -1.8029, 33.7438,2, 33.7624,2,  -999.0,9,   351.0,2, -999.00,9, -999.00,9, -999.00,9, -999.00,9,   7.192,2,   3.216,2,   8.205,2,  2113.9,2,  2263.3,2,   7.7231,2,    25.00, -1.8004
06AQ19960712,ARKXII,9,1,28,165482,2,19960726,0312,81.2900,72.0200,608,    29.7, -1.8067, 33.8438,2,-999.0000,9,  -999.0,9,  -999.0,9, -999.00,9, -999.00,9, -999.00,9, -999.00,9,-999.000,9,-999.000,9,-999.000,9,  -999.0,9,  -999.0,9,-999.0000,9,  -999.00,-999.0000
06AQ19960712,ARKXII,9,1,27,165481,2,19960726,0312,81.2900,72.0200,608,    29.7, -1.8072, 33.8434,2, 33.8482,2,  -999.0,9,   346.6,2,    3.51,2,    4.68,2, -999.00,9,    0.47,2,-999.000,9,-999.000,9,-999.000,9,  2122.2,2,  2268.6,2,   7.7115,2,    25.00, -1.8045
06AQ19960712,ARKXII,9,1,25,165479,2,19960726,0312,81.2900,72.0200,608,    39.2, -1.8100, 33.8749,2, 33.9154,2,  -999.0,9,   342.3,2,    3.61,2,    5.37,2, -999.00,9,    0.48,2,   6.615,2,   3.237,2,   8.140,2,  2134.2,2,  2268.1,2,   7.7037,2,    25.00, -1.8077
06AQ19960712,ARKXII,9,1,26,165480,2,19960726,0312,81.2900,72.0200,608,    39.2, -1.8090, 33.8746,2,-999.0000,9,  -999.0,9,  -999.0,9, -999.00,9, -999.00,9, -999.00,9, -999.00,9,-999.000,9,-999.000,9,-999.000,9,  -999.0,9,  -999.0,9,-999.0000,9,  -999.00,-999.0000
06AQ19960712,ARKXII,9,1,23,165477,2,19960726,0312,81.2900,72.0200,608,    50.2, -1.8061, 34.0136,2, 34.1175,2,  -999.0,9,   334.5,2,    3.71,2,    6.34,2, -999.00,9,    0.54,2,-999.000,9,-999.000,9,-999.000,9,  2130.0,2,  2268.6,2,   7.6969,2,    25.00, -1.8029
06AQ19960712,ARKXII,9,1,24,165478,2,19960726,0312,81.2900,72.0200,608,    50.2, -1.8073, 34.0181,2,-999.0000,9,  -999.0,9,  -999.0,9, -999.00,9, -999.00,9, -999.00,9, -999.00,9,-999.000,9,-999.000,9,-999.000,9,  -999.0,9,  -999.0,9,-999.0000,9,  -999.00,-999.0000
06AQ19960712,ARKXII,9,1,22,165476,2,19960726,0312,81.2900,72.0200,608,    60.0, -1.7849, 34.1209,2, 34.1322,2,  -999.0,9,   335.5,2, -999.00,9,    6.34,2, -999.00,9,    0.54,2,   6.200,2,   3.184,2,   7.769,2,  2133.1,2,  2273.5,2,   7.6969,2,    25.00, -1.7842
06AQ19960712,ARKXII,9,1,21,165475,2,19960726,0312,81.2900,72.0200,608,    75.0, -1.6097, 34.2159,2,-999.0000,9,  -999.0,9,   328.7,2, -999.00,9, -999.00,9, -999.00,9, -999.00,9,-999.000,9,-999.000,9,-999.000,9,  -999.0,9,  -999.0,9,-999.0000,9,  -999.00,-999.0000
06AQ19960712,ARKXII,9,1,20,165474,2,19960726,0312,81.2900,72.0200,608,    80.2, -1.5120, 34.2466,2, 34.3631,2,  -999.0,9,   323.7,2,    3.71,2,    8.10,2, -999.00,9,    0.60,2,-999.000,9,-999.000,9,-999.000,9,  2130.3,2,  2270.0,2,   7.7007,2,    25.00, -1.5198
06AQ19960712,ARKXII,9,1,18,165472,2,19960726,0312,81.2900,72.0200,608,    99.7, -0.9160, 34.4111,2, 34.3880,2,  -999.0,9,   322.8,2,    3.61,2,    8.10,2, -999.00,9,    0.62,2,   5.908,2,   3.029,2,   7.179,2,  2130.8,2,  2259.5,3,   7.7046,2,    25.00, -0.9388
06AQ19960712,ARKXII,9,1,19,165473,2,19960726,0312,81.2900,72.0200,608,    99.7, -0.9831, 34.3811,2,-999.0000,9,  -999.0,9,  -999.0,9, -999.00,9, -999.00,9, -999.00,9, -999.00,9,-999.000,9,-999.000,9,-999.000,9,  -999.0,9,  -999.0,9,-999.0000,9,  -999.00,-999.0000
06AQ19960712,ARKXII,9,1,17,165471,2,19960726,0312,81.2900,72.0200,608,   118.7, -0.1093, 34.5407,2, 34.5583,2,  -999.0,9,   315.8,2, -999.00,9, -999.00,9, -999.00,9, -999.00,9,-999.000,9,-999.000,9,-999.000,9,  2134.1,2,  2276.6,2,   7.7026,2,    25.00, -0.1242
06AQ19960712,ARKXII,9,1,15,165469,2,19960726,0312,81.2900,72.0200,608,   148.8,  1.3966, 34.7794,2, 34.7794,2,  -999.0,9,   306.5,2,    4.88,2,   10.93,2, -999.00,9,    0.76,2,   5.301,2,   2.599,2,   6.080,2,  2137.2,2,  2286.2,2,   7.7102,2,    25.00,  1.4167
06AQ19960712,ARKXII,9,1,16,165470,2,19960726,0312,81.2900,72.0200,608,   148.8,  1.4454, 34.7828,2,-999.0000,9,  -999.0,9,  -999.0,9, -999.00,9, -999.00,9, -999.00,9, -999.00,9,-999.000,9,-999.000,9,-999.000,9,  -999.0,9,  -999.0,9,-999.0000,9,  -999.00,-999.0000
06AQ19960712,ARKXII,9,1,13,165467,2,19960726,0312,81.2900,72.0200,608,   200.1,  1.6796, 34.8513,2, 34.8487,2,  -999.0,9,   304.8,2,    5.27,2,   11.41,2, -999.00,9,    0.78,2,   5.777,2,   2.597,2,   6.328,2,  2138.9,2,  2288.2,2,   7.7131,2,    25.00,  1.6697
06AQ19960712,ARKXII,9,1,14,165468,2,19960726,0312,81.2900,72.0200,608,   200.1,  1.6700, 34.8499,2,-999.0000,9,  -999.0,9,  -999.0,9, -999.00,9, -999.00,9, -999.00,9, -999.00,9,-999.000,9,-999.000,9,-999.000,9,  -999.0,9,  -999.0,9,-999.0000,9,  -999.00,-999.0000
06AQ19960712,ARKXII,9,1,12,165466,2,19960726,0312,81.2900,72.0200,608,   250.2,  1.8098, 34.8926,2,-999.0000,9,  -999.0,9,  -999.0,9, -999.00,9, -999.00,9, -999.00,9, -999.00,9,-999.000,9,-999.000,9,-999.000,9,  -999.0,9,  -999.0,9,-999.0000,9,  -999.00,-999.0000
06AQ19960712,ARKXII,9,1,11,165465,2,19960726,0312,81.2900,72.0200,608,   250.2,  1.7858, 34.8905,2, 34.8933,2,  -999.0,9,   304.8,2, -999.00,9,   11.80,2, -999.00,9,    0.81,2,   4.995,2,   2.506,2,   6.211,2,  2141.6,2,  2291.3,2,   7.7092,2,    25.00,  1.7768
06AQ19960712,ARKXII,9,1,10,165464,2,19960726,0312,81.2900,72.0200,608,   275.6,  1.5672, 34.8838,2,-999.0000,9,  -999.0,9,  -999.0,9, -999.00,9, -999.00,9, -999.00,9, -999.00,9,-999.000,9,-999.000,9,-999.000,9,  -999.0,9,  -999.0,9,-999.0000,9,  -999.00,-999.0000
06AQ19960712,ARKXII,9,1,9,165463,2,19960726,0312,81.2900,72.0200,608,   300.6,  1.4209, 34.8800,2, 34.8800,2,  -999.0,9,   305.8,2,    5.56,2,   12.39,2, -999.00,9,    0.82,2,   5.284,2,   2.572,2,   6.068,2,  2142.3,2,  2289.7,2,   7.7025,2,    25.00,  1.4099
06AQ19960712,ARKXII,9,1,8,165462,2,19960726,0312,81.2900,72.0200,608,   350.4,  1.0771, 34.8758,2, 34.8676,2,  -999.0,9,   306.1,2,    5.85,2,   11.80,2, -999.00,9,    0.82,2,   5.246,2,   2.563,2,   6.143,2,  2148.6,2,  2291.1,2,   7.6986,2,    25.00,  1.0693
06AQ19960712,ARKXII,9,1,7,165461,2,19960726,0312,81.2900,72.0200,608,   400.9,  0.8609, 34.8738,2, 34.8802,2,  -999.0,9,   305.1,2,    6.15,2,   12.10,2, -999.00,9,    0.84,2,-999.000,9,-999.000,9,-999.000,9,  2151.5,2,  2284.3,2,   7.6852,2,    25.00,  0.8424
06AQ19960712,ARKXII,9,1,6,165460,2,19960726,0312,81.2900,72.0200,608,   451.1,  0.2065, 34.8516,2, 34.8543,2,  -999.0,9,   308.2,2,    5.95,2,   11.51,2, -999.00,9,    0.81,2,   5.203,2,   2.440,2,   6.361,2,  2153.5,2,  -999.0,9,   7.6880,2,    25.00,  0.1893
06AQ19960712,ARKXII,9,1,5,165459,2,19960726,0312,81.2900,72.0200,608,   500.3, -0.3439, 34.8460,2, 34.8454,2,  -999.0,9,   310.1,2,    6.05,2,   10.93,2, -999.00,9,    0.80,2,-999.000,9,-999.000,9,-999.000,9,  2159.4,2,  2295.2,2,   7.6707,2,    25.00, -0.3616
06AQ19960712,ARKXII,9,1,4,165458,2,19960726,0312,81.2900,72.0200,608,   555.5, -0.2857, 34.8983,2, 34.8961,2,  -999.0,9,   303.7,2,    7.51,2,   11.71,2, -999.00,9,    0.88,2,-999.000,9,   3.041,2,   7.056,2,  2172.8,2,  2304.4,2,   7.6457,2,    25.00, -0.3033
06AQ19960712,ARKXII,9,1,3,165457,2,19960726,0312,81.2900,72.0200,608,   575.5, -0.2893, 34.9021,2, 34.9024,2,  -999.0,9,   301.8,2,    8.39,2,   12.39,2, -999.00,9,    0.92,2,-999.000,9,-999.000,9,-999.000,9,  2175.4,2,  2291.9,2,   7.6390,2,    25.00, -0.3081
06AQ19960712,ARKXII,9,1,2,165456,2,19960726,0312,81.2900,72.0200,608,   585.2, -0.2969, 34.9037,2, 34.9024,2,  -999.0,9,   301.1,2,    8.49,2,   12.49,2, -999.00,9,    0.92,2,   6.525,2,   3.001,2,   7.341,2,  2178.9,2,  2299.9,2,   7.6419,2,    25.00, -0.3165
06AQ19960712,ARKXII,9,1,1,165455,2,19960726,0312,81.2900,72.0200,608,   596.0, -0.3005, 34.9030,2, 34.8920,2,  -999.0,9,   301.0,2,    8.68,2,   12.20,2, -999.00,9,    0.92,2,-999.000,9,-999.000,9,-999.000,9,  2179.1,2,  2302.5,2,   7.6390,2,    25.00, -0.3200
06AQ19960712,ARKXII,10,1,26,165513,2,19960726,0928,81.3750,72.9917,598,     9.5, -1.7966, 33.6383,2,-999.0000,9,  -999.0,9,  -999.0,9, -999.00,9, -999.00,9, -999.00,9, -999.00,9,-999.000,9,-999.000,9,-999.000,9,  -999.0,9,  -999.0,9,-999.0000,9,  -999.00,-999.0000
06AQ19960712,ARKXII,10,1,25,165512,2,19960726,0928,81.3750,72.9917,598,     9.5, -1.7981, 33.6376,2,-999.0000,9,  -999.0,9,  -999.0,9, -999.00,9, -999.00,9, -999.00,9, -999.00,9,-999.000,9,-999.000,9,-999.000,9,  -999.0,9,  -999.0,9,-999.0000,9,  -999.00,-999.0000
06AQ19960712,ARKXII,10,1,24,165511,2,19960726,0928,81.3750,72.9917,598,     9.5, -1.7993, 33.6400,2, 33.6380,2,  -999.0,9,   356.1,2, -999.00,9,    4.29,2, -999.00,9, -999.00,9,-999.000,9,-999.000,9,-999.000,9,  2124.1,2,  2265.5,2,   7.7221,2,    25.00, -1.7952
06AQ19960712,ARKXII,10,1,23,165510,2,19960726,0928,81.3750,72.9917,598,    19.5, -1.8079, 33.6452,2, 33.6716,2,  -999.0,9,   354.7,2,    2.63,2,    3.51,2, -999.00,9,    0.35,2,   6.920,2,   3.266,2,   8.176,2,  2124.9,2,  2267.5,2,   7.7221,2,    25.00, -1.8053
06AQ19960712,ARKXII,10,1,22,165509,2,19960726,0928,81.3750,72.9917,598,    29.6, -1.8090, 33.6656,2, 33.6659,2,  -999.0,9,   354.8,2,    2.83,2,    3.61,2, -999.00,9,    0.39,2,-999.000,9,-999.000,9,-999.000,9,  2125.1,2,  2266.6,2,   7.7212,2,    25.00, -1.8065
06AQ19960712,ARKXII,10,1,21,165508,2,19960726,0928,81.3750,72.9917,598,    39.7, -1.8074, 33.7022,2, 33.7263,2,  -999.0,9,   351.6,2,    2.73,2,    3.71,2, -999.00,9,    0.39,2,   6.553,2,   3.197,2,   8.503,2,  2127.8,2,  2265.1,2,   7.7192,2,    25.00, -1.8047
06AQ19960712,ARKXII,10,1,20,165507,2,19960726,0928,81.3750,72.9917,598,    50.3, -1.8082, 33.8556,2, 33.9691,2,  -999.0,9,   341.4,2, -999.00,9, -999.00,9, -999.00,9, -999.00,9,-999.000,9,-999.000,9,-999.000,9,  2135.3,2,  2273.0,2,   7.6979,2,    25.00, -1.8069
06AQ19960712,ARKXII,10,1,19,165506,2,19960726,0928,81.3750,72.9917,598,    59.9, -1.8203, 34.0471,2, 34.0403,2,  -999.0,9,   338.7,2,    2.83,2,    4.68,2, -999.00,9,    0.44,2,   6.599,2,   3.261,2,   7.927,2,  2144.9,2,  2269.9,2,   7.6921,2,    25.00, -1.8181
06AQ19960712,ARKXII,10,1,18,165505,2,19960726,0928,81.3750,72.9917,598,    80.1, -1.7068, 34.2571,2, 34.2345,2,  -999.0,9,   333.3,2,    3.32,2,    6.24,2, -999.00,9,    0.55,2,-999.000,9,-999.000,9,-999.000,9,  2142.1,2,  2263.9,2,   7.6969,2,    25.00, -1.7076
06AQ19960712,ARKXII,10,1,17,165504,2,19960726,0928,81.3750,72.9917,598,   100.1, -1.1303, 34.4245,2, 34.4153,2,  -999.0,9,   324.9,2,    3.90,2,    8.39,2, -999.00,9,    0.64,2,   6.055,2,   2.995,2,   7.771,2,  2142.4,2,  2276.2,2,   7.6959,2,    25.00, -1.1426
06AQ19960712,ARKXII,10,1,16,165503,2,19960726,0928,81.3750,72.9917,598,   125.2, -0.5778, 34.5898,2, 34.5829,2,  -999.0,9,   320.4,2,    4.29,2,    9.46,2, -999.00,9,    0.68,2,-999.000,9,-999.000,9,-999.000,9,  2142.8,2,  2267.0,2,   7.7026,2,    25.00, -0.5699
06AQ19960712,ARKXII,10,1,15,165502,2,19960726,0928,81.3750,72.9917,598,   149.9,  0.4152, 34.7019,2, 34.7373,2,  -999.0,9,   311.5,2,    4.88,2,   10.93,2, -999.00,9,    0.75,2,   5.855,2,   2.810,2,   6.483,2,  2143.0,2,  2274.7,2,   7.7122,2,    25.00,  0.4369
06AQ19960712,ARKXII,10,1,14,165501,2,19960726,0928,81.3750,72.9917,598,   200.0,  0.6817, 34.7714,2, 34.7705,2,  -999.0,9,   311.0,2,    5.07,2,   11.02,2, -999.00,9, -999.00,9,   5.610,2,   2.641,2,   6.675,2,  2144.7,2,  2289.6,2,   7.7102,2,    25.00,  0.6764
06AQ19960712,ARKXII,10,1,11,165498,2,19960726,0928,81.3750,72.9917,598,   250.3,  0.7244, 34.8062,2, 34.8080,2,  -999.0,9,   309.7,2,    5.27,2,   11.12,2, -999.00,9,    0.79,2,   5.449,2,   2.662,2,   6.403,2,  2146.5,2,  2287.6,2,   7.7054,2,    25.00,  0.7280
06AQ19960712,ARKXII,10,1,13,165500,2,19960726,0928,81.3750,72.9917,598,   250.3,  0.6302, 34.7958,2,-999.0000,9,  -999.0,9,  -999.0,9, -999.00,9, -999.00,9, -999.00,9, -999.00,9,-999.000,9,-999.000,9,-999.000,9,  -999.0,9,  -999.0,9,-999.0000,9,  -999.00,-999.0000
06AQ19960712,ARKXII,10,1,12,165499,2,19960726,0928,81.3750,72.9917,598,   250.3,  0.6313, 34.7951,2,-999.0000,9,  -999.0,9,  -999.0,9, -999.00,9, -999.00,9, -999.00,9, -999.00,9,-999.000,9,-999.000,9,-999.000,9,  -999.0,9,  -999.0,9,-999.0000,9,  -999.00,-999.0000
06AQ19960712,ARKXII,10,1,10,165497,2,19960726,0928,81.3750,72.9917,598,   300.0,  1.0525, 34.8694,2, 34.8695,2,  -999.0,9,   305.9,2, -999.00,9, -999.00,9, -999.00,9,    0.68,2,   5.797,2,   2.609,2,   6.451,2,  2151.9,2,  2292.4,2,   7.6996,2,    25.00,  1.0429
06AQ19960712,ARKXII,10,1,9,165496,2,19960726,0928,81.3750,72.9917,598,   349.4,  0.7382, 34.8608,2,-999.0000,9,  -999.0,9,   305.6,2,    4.98,2,    9.76,2, -999.00,9,    0.70,2,   5.300,2,   2.436,2,   5.985,2,  2151.9,2,  2288.9,2,-999.0000,9  -999.00,-999.0000
06AQ19960712,ARKXII,10,1,8,165495,2,19960726,0928,81.3750,72.9917,598,   400.4, -0.2863, 34.8229,2, 34.8090,2,  -999.0,9,   314.0,2,    4.68,2,    8.98,2, -999.00,9,    0.72,2,-999.000,9,-999.000,9,-999.000,9,  2153.8,2,  2291.3,2,   7.6909,2,    25.00, -0.2778
06AQ19960712,ARKXII,10,1,7,165494,2,19960726,0928,81.3750,72.9917,598,   450.4, -0.6019, 34.8354,2, 34.8344,2,  -999.0,9,   314.1,2,    4.88,2,    8.20,2, -999.00,9, -999.00,9,   6.052,2,   2.880,2,   7.240,2,  2163.7,2,  2293.9,2,   7.6736,2,    25.00, -0.6056
06AQ19960712,ARKXII,10,1,6,165493,2,19960726,0928,81.3750,72.9917,598,   500.2, -0.3652, 34.8783,2, 34.8789,2,  -999.0,9,   306.3,2,    6.63,2,   10.34,2, -999.00,9,    0.77,2,-999.000,9,-999.000,9,-999.000,9,  2175.0,2,  2293.3,2,   7.6573,2,    25.00, -0.3885
06AQ19960712,ARKXII,10,1,5,165492,2,19960726,0928,81.3750,72.9917,598,   556.9, -0.3086, 34.8988,2, 34.8994,2,  -999.0,9,   301.4,2,    8.00,2,   11.51,2, -999.00,9,    0.87,2,   6.436,2,   3.162,2,   7.024,2,  2180.2,2,  2294.7,2,   7.6419,2,    25.00, -0.3262
06AQ19960712,ARKXII,10,1,4,165491,2,19960726,0928,81.3750,72.9917,598,   565.7, -0.3066, 34.9005,2, 34.8998,2,  -999.0,9,   300.6,2, -999.00,9, -999.00,9, -999.00,9, -999.00,9,-999.000,9,-999.000,9,-999.000,9,  2179.5,2,  2295.8,2,   7.6448,2,    25.00, -0.3246
06AQ19960712,ARKXII,10,1,3,165490,2,19960726,0928,81.3750,72.9917,598,   577.0, -0.3056, 34.9005,2,-999.0000,9,  -999.0,9,  -999.0,9, -999.00,9, -999.00,9, -999.00,9, -999.00,9,-999.000,9,-999.000,9,-999.000,9,  -999.0,9,  -999.0,9,-999.0000,9,  -999.00,-999.0000
06AQ19960712,ARKXII,10,1,2,165489,2,19960726,0928,81.3750,72.9917,598,   577.0, -0.3053, 34.9003,2,-999.0000,9,  -999.0,9,  -999.0,9, -999.00,9, -999.00,9, -999.00,9, -999.00,9,-999.000,9,-999.000,9,-999.000,9,  -999.0,9,  -999.0,9,-999.0000,9,  -999.00,-999.0000
06AQ19960712,ARKXII,10,1,1,165488,2,19960726,0928,81.3750,72.9917,598,   577.0, -0.3056, 34.9006,2, 34.9002,2,  -999.0,9,   300.7,2, -999.00,9, -999.00,9, -999.00,9, -999.00,9,   6.956,2,   3.065,2,   7.282,2,  2178.4,2,  2294.5,2,   7.6438,2,    25.00, -0.3241