BOTTLE,20100322CCHDOSIODM
EXPOCODE,SECT_ID,STNNBR,CASTNO,SAMPNO,BTLNBR,BTLNBR_FLAG_W,DATE,TIME,LATITUDE,LONGITUDE,DEPTH,CTDPRS,CTDTMP,CTDSAL,CTDSAL_FLAG_W,SALNTY,SALNTY_FLAG_W,CTDOXY,CTDOXY_FLAG_W,OXYGEN,OXYGEN_FLAG_W,SILCAT,SILCAT_FLAG_W,NITRAT,NITRAT_FLAG_W,NITRIT,NITRIT_FLAG_W,PHSPHT,PHSPHT_FLAG_W,CFC-11,CFC-11_FLAG_W,CFC-12,CFC-12_FLAG_W,CCL4,CCL4_FLAG_W,TCARBN,TCARBN_FLAG_W,ALKALI,ALKALI_FLAG_W,PH_SWS,PH_SWS_FLAG_W,PH_TMP,THETA
,,,,,,,,,,,METERS,DBAR,ITS-90,PSS-78,,PSS-78,,UMOL/KG,,UMOL/KG,,UMOL/KG,,UMOL/KG,,UMOL/KG,,UMOL/KG,,PMOL/KG,,PMOL/KG,,PMOL/KG,,UMOL/KG,,UMOL/KG,,,,DEG C,DEG C
06AQ19960712,ARKXII,79,1,32,167776,2,19960818,2100,82.5000,138.4717,3599,    10.5, -1.6767, 32.3662,2, 32.3614,2,  -999.0,9,   376.7,2, -999.00,9, -999.00,9, -999.00,9, -999.00,9,   7.144,2,   3.466,2,   8.582,2,  -999.0,9,  -999.0,9,-999.0000,9,  -999.00, -1.6732
06AQ19960712,ARKXII,79,1,31,167775,2,19960818,2100,82.5000,138.4717,3599,    19.9, -1.6793, 32.3703,2, 32.3702,2,  -999.0,9,   376.6,2,    2.44,2,    1.95,2, -999.00,9,    0.38,2,   7.172,2,   3.497,2,   8.464,2,  -999.0,9,  -999.0,9,-999.0000,9,  -999.00, -1.6763
06AQ19960712,ARKXII,79,1,30,167774,2,19960818,2100,82.5000,138.4717,3599,    29.5, -1.6943, 32.5060,2, 32.6435,2,  -999.0,9,   365.2,2,    3.02,2,    2.83,2, -999.00,9,    0.43,2,   7.115,2,   3.510,2,   7.978,2,  -999.0,9,  -999.0,9,-999.0000,9,  -999.00, -1.6915
06AQ19960712,ARKXII,79,1,29,167773,2,19960818,2100,82.5000,138.4717,3599,    39.8, -1.7187, 32.9173,2, 32.9772,2,  -999.0,9,   348.4,2,    3.80,2,    4.10,2, -999.00,9,    0.51,2,   6.961,2,   3.420,2,   7.249,2,  -999.0,9,  -999.0,9,-999.0000,9,  -999.00, -1.7157
06AQ19960712,ARKXII,79,1,28,167772,2,19960818,2100,82.5000,138.4717,3599,    59.9, -1.5320, 33.9076,2, 33.9082,2,  -999.0,9,   320.3,2,    4.59,2,    6.83,2, -999.00,9,    0.64,2,   6.598,2,   3.176,2,   5.580,2,  -999.0,9,  -999.0,9,-999.0000,9,  -999.00, -1.5303
06AQ19960712,ARKXII,79,1,27,167771,2,19960818,2100,82.5000,138.4717,3599,    80.1, -1.5000, 34.1763,2, 34.1634,2,  -999.0,9,   321.0,2,    4.20,2,    7.41,2, -999.00,9,    0.66,2,   6.301,2,   3.132,2,   5.664,2,  -999.0,9,  -999.0,9,-999.0000,9,  -999.00, -1.4988
06AQ19960712,ARKXII,79,1,26,167770,2,19960818,2100,82.5000,138.4717,3599,   100.1, -0.9099, 34.3254,2, 34.3310,2,  -999.0,9,   319.6,2,    4.29,2,    8.29,2, -999.00,9,    0.70,2,   5.842,2,   2.819,2,   5.290,2,  -999.0,9,  -999.0,9,-999.0000,9,  -999.00, -0.9088
06AQ19960712,ARKXII,79,1,25,167769,2,19960818,2100,82.5000,138.4717,3599,   150.3,  0.2610, 34.5998,2, 34.5742,2,  -999.0,9,   308.8,2,    4.78,2,    9.56,2, -999.00,9,    0.77,2,   5.413,2,   2.710,2,   5.416,2,  -999.0,9,  -999.0,9,-999.0000,9,  -999.00,  0.2592
06AQ19960712,ARKXII,79,1,24,167768,2,19960818,2100,82.5000,138.4717,3599,   200.0,  1.4237, 34.8267,2, 34.8254,2,  -999.0,9,   302.6,2,    5.37,2,   11.12,2, -999.00,9,    0.84,2,   5.252,2,   2.551,2,   5.400,2,  -999.0,9,  -999.0,9,-999.0000,9,  -999.00,  1.4181
06AQ19960712,ARKXII,79,1,23,167767,2,19960818,2100,82.5000,138.4717,3599,   249.8,  1.6603, 34.8728,2, 34.8671,2,  -999.0,9,   302.9,2,    5.46,2,   11.22,2, -999.00,9,    0.84,2,   4.877,2,   2.416,2,   5.419,2,  -999.0,9,  -999.0,9,-999.0000,9,  -999.00,  1.6521
06AQ19960712,ARKXII,79,1,22,167766,2,19960818,2100,82.5000,138.4717,3599,   299.9,  1.6435, 34.8861,2, 34.8855,2,  -999.0,9,   304.0,2,    5.66,2,   11.22,2, -999.00,9,    0.87,2,   4.752,2,   2.310,2,   5.380,2,  -999.0,9,  -999.0,9,-999.0000,9,  -999.00,  1.6324
06AQ19960712,ARKXII,79,1,21,167765,2,19960818,2100,82.5000,138.4717,3599,   399.9,  1.3030, 34.8987,2, 34.8965,2,  -999.0,9,   304.5,2,    5.85,2,   11.51,2, -999.00,9,    0.87,2,   4.549,2,   2.266,2,   5.268,2,  -999.0,9,  -999.0,9,-999.0000,9,  -999.00,  1.2870
06AQ19960712,ARKXII,79,1,20,167764,2,19960818,2100,82.5000,138.4717,3599,   500.2,  0.9307, 34.8974,2, 34.8965,2,  -999.0,9,   304.7,2,    5.95,2,   11.61,2, -999.00,9,    0.89,2,   4.358,2,   2.068,2,   5.252,2,  -999.0,9,  -999.0,9,-999.0000,9,  -999.00,  0.9110
06AQ19960712,ARKXII,79,1,19,167763,2,19960818,2100,82.5000,138.4717,3599,   600.2,  0.5780, 34.8903,2, 34.8903,2,  -999.0,9,   305.5,2,    6.24,2,   11.71,2, -999.00,9,    0.90,2,   4.139,2,   2.029,2,   5.054,2,  -999.0,9,  -999.0,9,-999.0000,9,  -999.00,  0.5545
06AQ19960712,ARKXII,79,1,18,167762,2,19960818,2100,82.5000,138.4717,3599,   700.3,  0.3003, 34.8924,2, 34.8911,2,  -999.0,9,   305.9,2,    6.73,2,   11.80,2, -999.00,9,    0.90,2,   4.029,2,   1.889,2,   5.053,2,  -999.0,9,  -999.0,9,-999.0000,9,  -999.00,  0.2729
06AQ19960712,ARKXII,79,1,17,167761,2,19960818,2100,82.5000,138.4717,3599,   800.2,  0.0318, 34.8907,2, 34.8934,2,  -999.0,9,   307.2,2, -999.00,9,   11.80,2, -999.00,9,    0.91,2,   4.274,2,   2.014,2,   5.069,2,  -999.0,9,  -999.0,9,-999.0000,9,  -999.00,  0.0015
06AQ19960712,ARKXII,79,1,16,167760,2,19960818,2100,82.5000,138.4717,3599,  1000.0, -0.2098, 34.8985,2, 34.8958,2,  -999.0,9,   306.8,2,    7.22,2,   12.10,2, -999.00,9,    0.93,2,   3.805,2,   1.843,2,   4.862,2,  -999.0,9,  -999.0,9,-999.0000,9,  -999.00, -0.2489
06AQ19960712,ARKXII,79,1,15,167759,2,19960818,2100,82.5000,138.4717,3599,  1200.1, -0.3579, 34.9072,2, 34.9062,2,  -999.0,9,   304.9,2,    8.00,2,   12.78,2, -999.00,9,    0.95,2,   3.049,2,   1.519,2,   4.161,2,  -999.0,9,  -999.0,9,-999.0000,9,  -999.00, -0.4062
06AQ19960712,ARKXII,79,1,14,167758,2,19960818,2100,82.5000,138.4717,3599,  1399.7, -0.5326, 34.9111,2, 34.9095,2,  -999.0,9,   303.3,2,    9.17,2,   13.37,2, -999.00,9,    0.98,2,   1.931,2,   0.923,2,   3.070,2,  -999.0,9,  -999.0,9,-999.0000,9,  -999.00, -0.5904
06AQ19960712,ARKXII,79,1,13,167757,2,19960818,2100,82.5000,138.4717,3599,  1600.4, -0.6195, 34.9160,2, 34.9148,2,  -999.0,9,   301.3,2,    9.76,2,   13.76,2, -999.00,9,    1.00,2,   0.925,2,   0.411,2,   2.043,2,  -999.0,9,  -999.0,9,-999.0000,9,  -999.00, -0.6879
06AQ19960712,ARKXII,79,1,12,167756,2,19960818,2100,82.5000,138.4717,3599,  1800.1, -0.6834, 34.9181,2, 34.9178,2,  -999.0,9,   300.5,2,   10.44,2,   13.76,2, -999.00,9,    1.02,2,   0.819,2,   0.380,2,   1.756,2,  -999.0,9,  -999.0,9,-999.0000,9,  -999.00, -0.7632
06AQ19960712,ARKXII,79,1,11,167755,2,19960818,2100,82.5000,138.4717,3599,  2000.4, -0.7298, 34.9193,2, 34.9196,2,  -999.0,9,   301.3,2,   10.54,2,   13.85,2, -999.00,9,    1.02,2,   0.698,2,   0.311,2,   1.479,2,  -999.0,9,  -999.0,9,-999.0000,9,  -999.00, -0.8212
06AQ19960712,ARKXII,79,1,10,167754,2,19960818,2100,82.5000,138.4717,3599,  2200.4, -0.7563, 34.9218,2, 34.9221,2,  -999.0,9,   300.6,2,   10.93,2,   13.76,2, -999.00,9,    1.02,2,   0.437,2,   0.202,2,   1.205,2,  -999.0,9,  -999.0,9,-999.0000,9,  -999.00, -0.8611
06AQ19960712,ARKXII,79,1,9,167753,2,19960818,2100,82.5000,138.4717,3599,  2400.0, -0.7736, 34.9244,2, 34.9241,2,  -999.0,9,   300.8,2,   10.93,2,   13.85,2, -999.00,9,    1.01,2,   0.425,2,   0.177,2,   1.045,2,  -999.0,9,  -999.0,9,-999.0000,9,  -999.00, -0.8917
06AQ19960712,ARKXII,79,1,8,167752,2,19960818,2100,82.5000,138.4717,3599,  2600.0, -0.7807, 34.9262,2, 34.9259,2,  -999.0,9,   300.7,2,   11.12,2,   13.85,2, -999.00,9,    1.02,2,   0.349,2,   0.158,2,   0.877,2,  -999.0,9,  -999.0,9,-999.0000,9,  -999.00, -0.9131
06AQ19960712,ARKXII,79,1,7,167751,2,19960818,2100,82.5000,138.4717,3599,  2800.2, -0.7787, 34.9302,2, 34.9292,2,  -999.0,9,   300.2,2,   11.22,2,   14.05,2, -999.00,9,    1.01,2,   0.229,2,   0.101,2,   0.569,2,  -999.0,9,  -999.0,9,-999.0000,9,  -999.00, -0.9264
06AQ19960712,ARKXII,79,1,6,167750,2,19960818,2100,82.5000,138.4717,3599,  3000.4, -0.7719, 34.9331,2, 34.9328,2,  -999.0,9,   299.6,2,   11.32,2,   13.66,2, -999.00,9,    1.03,2,-999.000,9,   0.055,2,   0.440,2,  -999.0,9,  -999.0,9,-999.0000,9,  -999.00, -0.9354
06AQ19960712,ARKXII,79,1,5,167749,2,19960818,2100,82.5000,138.4717,3599,  3200.1, -0.7553, 34.9367,2, 34.9371,2,  -999.0,9,   298.0,2,   11.71,2,   13.95,2, -999.00,9,    1.02,2,-999.000,9,   0.053,2,   0.379,2,  -999.0,9,  -999.0,9,-999.0000,9,  -999.00, -0.9362
06AQ19960712,ARKXII,79,1,4,167748,2,19960818,2100,82.5000,138.4717,3599,  3400.5, -0.7339, 34.9397,2, 34.9399,2,  -999.0,9,   296.5,2,   11.90,2,   14.24,2, -999.00,9,    1.02,2,   0.087,2,   0.057,2,   0.303,2,  -999.0,9,  -999.0,9,-999.0000,9,  -999.00, -0.9320
06AQ19960712,ARKXII,79,1,3,167747,2,19960818,2100,82.5000,138.4717,3599,  3504.1, -0.7256, 34.9411,2, 34.9406,2,  -999.0,9,   296.7,2,   11.71,2,   13.76,2, -999.00,9,    1.02,2,   0.099,2,   0.046,2,   0.309,2,  -999.0,9,  -999.0,9,-999.0000,9,  -999.00, -0.9333
06AQ19960712,ARKXII,79,1,2,167746,2,19960818,2100,82.5000,138.4717,3599,  3554.6, -0.7233, 34.9409,2, 34.9410,2,  -999.0,9,   296.7,2,   11.90,2,   13.85,2, -999.00,9,    1.01,2,   0.104,2,   0.065,2,   0.340,2,  -999.0,9,  -999.0,9,-999.0000,9,  -999.00, -0.9359
06AQ19960712,ARKXII,79,1,1,167745,2,19960818,2100,82.5000,138.4717,3599,  3604.3, -0.7189, 34.9409,2, 34.9424,2,  -999.0,9,   296.0,2,   12.00,2,   13.66,2, -999.00,9,    1.04,2,   0.135,2,   0.081,2,   0.332,2,  -999.0,9,  -999.0,9,-999.0000,9,  -999.00, -0.9354
06AQ19960712,ARKXII,80,1,36,167816,2,19960818,0509,82.4967,136.4133,3903,     3.8, -1.6598, 32.3234,2,-999.0000,9,  -999.0,9,   382.3,2, -999.00,9, -999.00,9, -999.00,9, -999.00,9,-999.000,9,-999.000,9,-999.000,9,  -999.0,9,  -999.0,9,-999.0000,9,  -999.00,-999.0000
06AQ19960712,ARKXII,80,1,35,167815,2,19960818,0509,82.4967,136.4133,3903,    10.4, -1.6689, 32.3149,2, 32.3364,2,  -999.0,9,   382.5,2,    2.34,2,    1.56,2, -999.00,9,    0.36,2,   7.346,2,   3.447,2,   8.838,2,  2099.4,2,  2227.9,2,   7.6658,2,    25.00, -1.6662
06AQ19960712,ARKXII,80,1,34,167814,2,19960818,0509,82.4967,136.4133,3903,    20.4, -1.6820, 32.3598,2, 32.3628,2,  -999.0,9,   381.9,2,    2.44,2,    1.66,2, -999.00,9,    0.37,2,   7.284,2,   3.452,2,   8.614,2,  -999.0,9,  -999.0,9,-999.0000,9,  -999.00, -1.6793
06AQ19960712,ARKXII,80,1,33,167813,2,19960818,0509,82.4967,136.4133,3903,    30.5, -1.6848, 32.3865,2, 32.3801,2,  -999.0,9,   382.1,2,    2.54,2,    1.66,2, -999.00,9,    0.37,2,   7.278,2,   3.433,2,   8.567,2,  2102.0,2,  2232.9,2,   7.6888,2,    25.00, -1.6825
06AQ19960712,ARKXII,80,1,32,167812,2,19960818,0509,82.4967,136.4133,3903,    39.8, -1.7233, 32.6742,2, 32.9617,2,  -999.0,9,   355.8,2,    3.90,2,    4.00,2, -999.00,9,    0.49,2,-999.000,9,-999.000,9,-999.000,9,  -999.0,9,  -999.0,9,-999.0000,9,  -999.00, -1.7207
06AQ19960712,ARKXII,80,1,31,167811,2,19960818,0509,82.4967,136.4133,3903,    60.7, -1.6073, 33.8559,2,-999.0000,9,  -999.0,9,   325.9,2,    4.20,2,    6.63,2, -999.00,9,    0.63,2,   6.570,2,   3.178,2,   5.609,2,  2133.3,2,  2260.2,2,-999.0000,9  -999.00,-999.0000
06AQ19960712,ARKXII,80,1,30,167810,2,19960818,0509,82.4967,136.4133,3903,    80.6, -1.5425, 34.1432,2, 34.1985,2,  -999.0,9,   321.5,2,    4.20,2,    7.61,2, -999.00,9,    0.67,2,-999.000,9,-999.000,9,-999.000,9,  2134.4,2,  2266.8,2,   7.6767,2,    25.00, -1.5447
06AQ19960712,ARKXII,80,1,29,167809,2,19960818,0509,82.4967,136.4133,3903,   100.3, -1.1175, 34.2916,2, 34.2749,2,  -999.0,9,   320.1,2,    4.29,2,    8.20,2, -999.00,9,    0.69,2,   5.864,2,   2.804,2,   5.414,2,  2133.0,2,  2262.5,2,   7.6815,2,    25.00, -1.0926
06AQ19960712,ARKXII,80,1,28,167808,2,19960818,0509,82.4967,136.4133,3903,   124.8, -0.4012, 34.4301,2, 34.4222,2,  -999.0,9,   314.5,2,    4.59,2,    8.88,2, -999.00,9,    0.72,2,-999.000,9,-999.000,9,-999.000,9,  -999.0,9,  -999.0,9,-999.0000,9,  -999.00, -0.4031
06AQ19960712,ARKXII,80,1,27,167807,2,19960818,0509,82.4967,136.4133,3903,   150.0,  0.3143, 34.5854,2, 34.5800,2,  -999.0,9,   309.3,2,    4.78,2,    9.76,2, -999.00,9,    0.75,2,   5.403,2,   2.563,2,   5.484,2,  2142.0,2,  2278.5,2,   7.6881,2,    25.00,  0.3181
06AQ19960712,ARKXII,80,1,26,167806,2,19960818,0509,82.4967,136.4133,3903,   200.6,  1.4613, 34.8264,2, 34.8131,2,  -999.0,9,   302.8,2,    5.37,2,   11.12,2, -999.00,9,    0.84,2,   4.733,2,   2.310,2,   5.160,2,  -999.0,9,  -999.0,9,-999.0000,9,  -999.00,  1.4621
06AQ19960712,ARKXII,80,1,25,167805,2,19960818,0509,82.4967,136.4133,3903,   250.4,  1.6503, 34.8648,2, 34.8603,2,  -999.0,9,   302.8,2,    5.56,2,   11.32,2, -999.00,9,    0.85,2,   4.506,2,   2.116,2,   5.460,2,  2139.7,2,  2290.2,2,   7.7131,2,    25.00,  1.6511
06AQ19960712,ARKXII,80,1,24,167804,2,19960818,0509,82.4967,136.4133,3903,   300.9,  1.7129, 34.8896,2, 34.8895,2,  -999.0,9,   303.6,2,    5.46,2,   11.41,2, -999.00,9,    0.83,2,-999.000,9,-999.000,9,-999.000,9,  2143.7,2,  2291.8,2,   7.7141,2,    25.00,  1.6952
06AQ19960712,ARKXII,80,1,23,167803,2,19960818,0509,82.4967,136.4133,3903,   401.0,  1.3332, 34.9005,2, 34.9005,2,  -999.0,9,   304.7,2,    5.76,2,   11.61,2, -999.00,9,    0.88,2,   3.860,2,   1.877,2,   5.036,2,  -999.0,9,  -999.0,9,-999.0000,9,  -999.00,  1.3169
06AQ19960712,ARKXII,80,1,22,167802,2,19960818,0509,82.4967,136.4133,3903,   500.2,  0.9381, 34.8992,2, 34.8997,2,  -999.0,9,   304.6,2,    6.44,2,   12.10,2, -999.00,9,    0.89,2,-999.000,9,-999.000,9,-999.000,9,  -999.0,9,  -999.0,9,-999.0000,9,  -999.00,  0.9160
06AQ19960712,ARKXII,80,1,21,167801,2,19960818,0509,82.4967,136.4133,3903,   599.9,  0.5628, 34.8939,2, 34.8968,2,  -999.0,9,   304.9,2,    6.34,2,   12.00,2, -999.00,9,    0.90,2,   3.991,2,   1.906,2,   5.174,2,  -999.0,9,  -999.0,9,-999.0000,9,  -999.00,  0.5405
06AQ19960712,ARKXII,80,1,20,167800,2,19960818,0509,82.4967,136.4133,3903,   700.1,  0.2639, 34.8932,2, 34.8942,2,  -999.0,9,   305.6,2,    6.34,2,   12.10,2, -999.00,9,    0.90,2,-999.000,9,-999.000,9,-999.000,9,  2149.6,2,  2265.1,3,   7.6871,2,    25.00,  0.2341
06AQ19960712,ARKXII,80,1,19,167799,2,19960818,0509,82.4967,136.4133,3903,   800.0,  0.0041, 34.8901,2, 34.8907,2,  -999.0,9,   306.3,2,    6.54,2,   12.00,2, -999.00,9,    0.91,2,   2.907,2,   1.373,2,   3.993,2,  -999.0,9,  -999.0,9,-999.0000,9,  -999.00, -0.0263
06AQ19960712,ARKXII,80,1,18,167798,2,19960818,0509,82.4967,136.4133,3903,  1000.2, -0.2161, 34.8979,2, 34.8985,2,  -999.0,9,   306.5,2,    7.51,2,   11.90,2, -999.00,9,    0.94,2,-999.000,9,-999.000,9,-999.000,9,  2160.5,2,  2266.3,3,   7.6707,2,    25.00, -0.2549
06AQ19960712,ARKXII,80,1,17,167797,2,19960818,0509,82.4967,136.4133,3903,  1200.2, -0.3936, 34.9043,2, 34.9044,2,  -999.0,9,   304.3,2,    8.00,2,   12.49,2, -999.00,9,    0.94,2,   0.911,2,   0.450,2,   2.144,2,  -999.0,9,  -999.0,9,-999.0000,9,  -999.00, -0.4419
06AQ19960712,ARKXII,80,1,16,167796,2,19960818,0509,82.4967,136.4133,3903,  1400.3, -0.5388, 34.9101,2, 34.9107,2,  -999.0,9,   302.6,2,    9.07,2,   12.98,2, -999.00,9,    0.99,2,-999.000,9,-999.000,9,-999.000,9,  2155.0,2,  2294.8,2,   7.6832,2,    25.00, -0.5964
06AQ19960712,ARKXII,80,1,15,167795,2,19960818,0509,82.4967,136.4133,3903,  1600.5, -0.6320, 34.9161,2, 34.9164,2,  -999.0,9,   299.8,2,   10.24,2,   13.85,2, -999.00,9,    1.00,2,   0.907,2,   0.419,2,   2.052,2,  -999.0,9,  -999.0,9,-999.0000,9,  -999.00, -0.7008
06AQ19960712,ARKXII,80,1,14,167794,2,19960818,0509,82.4967,136.4133,3903,  1800.8, -0.6873, 34.9194,2, 34.9180,2,  -999.0,9,   299.9,2,   10.44,2,   13.85,2, -999.00,9,    1.00,2,-999.000,9,-999.000,9,-999.000,9,  -999.0,9,  -999.0,9,-999.0000,9,  -999.00, -0.7682
06AQ19960712,ARKXII,80,1,13,167793,2,19960818,0509,82.4967,136.4133,3903,  2000.5, -0.7334, 34.9200,2, 34.9197,2,  -999.0,9,   299.5,2,   10.63,2,   13.95,2, -999.00,9,    1.00,2,   0.646,2,   0.238,2,   1.329,2,  2152.7,2,  2291.9,2,   7.6919,2,    25.00, -0.8251
06AQ19960712,ARKXII,80,1,12,167792,2,19960818,0509,82.4967,136.4133,3903,  2199.9, -0.7638, 34.9226,2, 34.9232,2,  -999.0,9,   299.8,2,   10.73,2,   13.95,2, -999.00,9,    1.02,2,   0.348,2,   0.182,2,   1.094,2,  -999.0,9,  -999.0,9,-999.0000,9,  -999.00, -0.8679
06AQ19960712,ARKXII,80,1,11,167791,2,19960818,0509,82.4967,136.4133,3903,  2400.5, -0.7810, 34.9254,2, 34.9260,2,  -999.0,9,   299.9,2,   10.93,2,   13.95,2, -999.00,9,    1.00,2,   0.426,2,   0.207,2,   0.963,2,  -999.0,9,  -999.0,9,-999.0000,9,  -999.00, -0.8996
06AQ19960712,ARKXII,80,1,10,167790,2,19960818,0509,82.4967,136.4133,3903,  2599.7, -0.7858, 34.9281,2, 34.9276,2,  -999.0,9,   299.7,2,   11.02,2,   13.76,2, -999.00,9,    1.03,2,   0.343,2,   0.136,2,   0.724,2,  2150.8,2,  2290.0,2,   7.6986,2,    25.00, -0.9180
06AQ19960712,ARKXII,80,1,9,167789,2,19960818,0509,82.4967,136.4133,3903,  2799.9, -0.7851, 34.9317,2, 34.9323,2,  -999.0,9,   299.1,2,   11.41,2,   13.76,2, -999.00,9,    1.02,2,   0.221,2,   0.096,2,   0.454,2,  -999.0,9,  -999.0,9,-999.0000,9,  -999.00, -0.9333
06AQ19960712,ARKXII,80,1,8,167788,2,19960818,0509,82.4967,136.4133,3903,  2999.8, -0.7776, 34.9344,2, 34.9350,2,  -999.0,9,   298.5,2,   11.51,2,   13.95,2, -999.00,9,    1.01,2,   0.240,2,   0.106,2,   0.553,2,  -999.0,9,  -999.0,9,-999.0000,9,  -999.00, -0.9413
06AQ19960712,ARKXII,80,1,7,167787,2,19960818,0509,82.4967,136.4133,3903,  3198.6, -0.7639, 34.9377,2, 34.9389,2,  -999.0,9,   297.7,2,   11.61,2,   13.66,2, -999.00,9,    1.03,2,   0.151,2,   0.083,2,   0.392,2,  2148.0,2,  2289.0,2,   7.7025,2,    25.00, -0.9441
06AQ19960712,ARKXII,80,1,6,167786,2,19960818,0509,82.4967,136.4133,3903,  3399.7, -0.7499, 34.9395,2, 34.9391,2,  -999.0,9,   297.5,2,   11.32,2,   13.46,2, -999.00,9,    1.01,2,-999.000,9,-999.000,9,-999.000,9,  -999.0,9,  -999.0,9,-999.0000,9,  -999.00, -0.9476
06AQ19960712,ARKXII,80,1,5,167785,2,19960818,0509,82.4967,136.4133,3903,  3592.5, -0.7314, 34.9411,2, 34.9409,2,  -999.0,9,   297.2,2,   11.80,2,   13.46,2, -999.00,9,    1.02,2,   0.122,2,   0.077,2,   0.189,2,  2148.2,2,  2291.4,2,   7.7044,2,    25.00, -0.9472
06AQ19960712,ARKXII,80,1,4,167784,2,19960818,0509,82.4967,136.4133,3903,  3798.0, -0.7094, 34.9431,2, 34.9444,2,  -999.0,9,   296.9,2,   11.32,2,   13.56,2, -999.00,9,    1.01,2,-999.000,9,-999.000,9,-999.000,9,  -999.0,9,  -999.0,9,-999.0000,9,  -999.00, -0.9445
06AQ19960712,ARKXII,80,1,3,167783,2,19960818,0509,82.4967,136.4133,3903,  3937.5, -0.6964, 34.9436,2, 34.9426,2,  -999.0,9,   297.0,2,   11.41,2,   13.27,2, -999.00,9,    1.01,2,   0.139,2,   0.069,2,   0.338,2,  2149.4,2,  2296.3,2,   7.7034,2,    25.00, -0.9450
06AQ19960712,ARKXII,80,1,2,167782,2,19960818,0509,82.4967,136.4133,3903,  3987.2, -0.6913, 34.9436,2, 34.9426,2,  -999.0,9,   296.9,2,   11.41,2,   13.17,2, -999.00,9,    1.00,2,-999.000,9,-999.000,9,-999.000,9,  -999.0,9,  -999.0,9,-999.0000,9,  -999.00, -0.9449
06AQ19960712,ARKXII,80,1,1,167781,2,19960818,0509,82.4967,136.4133,3903,  4037.1, -0.6852, 34.9421,2, 34.9418,2,  -999.0,9,   296.9,2,   11.32,2,   13.27,2, -999.00,9,    1.02,2,-999.000,9,   0.083,2,   0.240,2,  2150.1,2,  2301.2,2,   7.7015,2,    25.00, -0.9439