BOTTLE,20100322CCHDOSIODM
EXPOCODE,SECT_ID,STNNBR,CASTNO,SAMPNO,BTLNBR,BTLNBR_FLAG_W,DATE,TIME,LATITUDE,LONGITUDE,DEPTH,CTDPRS,CTDTMP,CTDSAL,CTDSAL_FLAG_W,SALNTY,SALNTY_FLAG_W,CTDOXY,CTDOXY_FLAG_W,OXYGEN,OXYGEN_FLAG_W,SILCAT,SILCAT_FLAG_W,NITRAT,NITRAT_FLAG_W,NITRIT,NITRIT_FLAG_W,PHSPHT,PHSPHT_FLAG_W,CFC-11,CFC-11_FLAG_W,CFC-12,CFC-12_FLAG_W,CCL4,CCL4_FLAG_W,TCARBN,TCARBN_FLAG_W,ALKALI,ALKALI_FLAG_W,PH_SWS,PH_SWS_FLAG_W,PH_TMP,THETA
,,,,,,,,,,,METERS,DBAR,ITS-90,PSS-78,,PSS-78,,UMOL/KG,,UMOL/KG,,UMOL/KG,,UMOL/KG,,UMOL/KG,,UMOL/KG,,PMOL/KG,,PMOL/KG,,PMOL/KG,,UMOL/KG,,UMOL/KG,,,,DEG C,DEG C
06AQ19960712,ARKXII,72,2,36,167514,2,19960815,0248,85.8117,161.5883,3928,   400.1,  0.5165, 34.8456,2,-999.0000,9,  -999.0,9,  -999.0,9, -999.00,9, -999.00,9, -999.00,9, -999.00,9,-999.000,9,-999.000,9,-999.000,9,  -999.0,9,  -999.0,9,-999.0000,9,  -999.00,-999.0000
06AQ19960712,ARKXII,72,2,35,167513,2,19960815,0248,85.8117,161.5883,3928,   400.1,  0.5115, 34.8463,2, 34.8484,2,  -999.0,9,   295.8,2,    6.93,2,   11.90,2, -999.00,9,    0.84,2,   2.227,2,   0.990,2,   3.460,2,  2144.2,2,  2291.5,2,   7.7093,2,    25.00,  0.4976
06AQ19960712,ARKXII,72,2,33,167511,2,19960815,0248,85.8117,161.5883,3928,   499.6,  0.4791, 34.8683,2, 34.8707,2,  -999.0,9,   298.8,2,    6.54,2,   11.90,2, -999.00,9,    0.85,2,-999.000,9,   1.076,2,   3.611,2,  -999.0,9,  -999.0,9,-999.0000,9,  -999.00,  0.4609
06AQ19960712,ARKXII,72,2,34,167512,2,19960815,0248,85.8117,161.5883,3928,   499.7,  0.4848, 34.8677,2,-999.0000,9,  -999.0,9,  -999.0,9, -999.00,9, -999.00,9, -999.00,9, -999.00,9,-999.000,9,-999.000,9,-999.000,9,  -999.0,9,  -999.0,9,-999.0000,9,  -999.00,-999.0000
06AQ19960712,ARKXII,72,2,32,167510,2,19960815,0248,85.8117,161.5883,3928,   599.7,  0.2974, 34.8709,2, 34.8741,2,  -999.0,9,   300.6,2,    6.63,2,   11.80,2, -999.00,9,    0.85,2,   2.525,2,   1.174,2,   3.884,2,  2147.1,2,  2291.3,2,   7.7015,2,    25.00,  0.2749
06AQ19960712,ARKXII,72,2,31,167509,2,19960815,0248,85.8117,161.5883,3928,   700.4,  0.1173, 34.8742,2, 34.8770,2,  -999.0,9,   302.1,2,    6.73,2,   11.80,2, -999.00,9,    0.83,2,   2.691,2,   1.289,2,   3.962,2,  -999.0,9,  -999.0,9,-999.0000,9,  -999.00,  0.0909
06AQ19960712,ARKXII,72,2,30,167508,2,19960815,0248,85.8117,161.5883,3928,   750.0,  0.0513, 34.8799,2,-999.0000,9,  -999.0,9,  -999.0,9, -999.00,9, -999.00,9, -999.00,9, -999.00,9,-999.000,9,-999.000,9,-999.000,9,  -999.0,9,  -999.0,9,-999.0000,9,  -999.00,-999.0000
06AQ19960712,ARKXII,72,2,29,167507,2,19960815,0248,85.8117,161.5883,3928,   800.1, -0.0123, 34.8822,2, 34.8815,2,  -999.0,9,   302.1,2,    6.83,2,   11.80,2, -999.00,9,    0.89,2,   2.370,2,   1.107,2,   3.564,2,  -999.0,9,  -999.0,9,-999.0000,9,  -999.00, -0.0432
06AQ19960712,ARKXII,72,2,27,167505,2,19960815,0248,85.8117,161.5883,3928,  1000.3, -0.1552, 34.8948,2, 34.8905,2,  -999.0,9,   301.0,2,    7.51,2,   12.10,2, -999.00,9,    0.89,2,   1.624,2,   0.745,2,   2.776,2,  2143.5,2,  2290.7,2,   7.7035,2,    25.00, -0.1944
06AQ19960712,ARKXII,72,2,28,167506,2,19960815,0248,85.8117,161.5883,3928,  1000.8, -0.1565, 34.8951,2,-999.0000,9,  -999.0,9,  -999.0,9, -999.00,9, -999.00,9, -999.00,9, -999.00,9,-999.000,9,-999.000,9,-999.000,9,  -999.0,9,  -999.0,9,-999.0000,9,  -999.00,-999.0000
06AQ19960712,ARKXII,72,2,26,167504,2,19960815,0248,85.8117,161.5883,3928,  1300.0, -0.3088, 34.9166,2, 34.9159,2,  -999.0,9,   298.2,2,    8.49,2,   12.68,2, -999.00,9,    0.95,2,   0.478,2,   0.218,2,   1.288,2,  -999.0,9,  -999.0,9,-999.0000,9,  -999.00, -0.3633
06AQ19960712,ARKXII,72,2,25,167503,2,19960815,0248,85.8117,161.5883,3928,  1399.1, -0.3381, 34.9237,2, 34.9221,2,  -999.0,9,   296.8,2,    9.17,2,   12.88,2, -999.00,9,    0.95,2,   0.331,2,   0.148,2,   0.899,2,  -999.0,9,  -999.0,9,-999.0000,9,  -999.00, -0.3976
06AQ19960712,ARKXII,72,2,24,167502,2,19960815,0248,85.8117,161.5883,3928,  1499.9, -0.3725, 34.9285,2,-999.0000,9,  -999.0,9,  -999.0,9, -999.00,9, -999.00,9, -999.00,9, -999.00,9,-999.000,9,-999.000,9,-999.000,9,  -999.0,9,  -999.0,9,-999.0000,9,  -999.00,-999.0000
06AQ19960712,ARKXII,72,2,23,167501,2,19960815,0248,85.8117,161.5883,3928,  1599.9, -0.3836, 34.9348,2, 34.9341,2,  -999.0,9,   293.6,2,   10.34,2,   13.27,2, -999.00,9,    0.99,2,   0.138,2,   0.063,2,   0.342,2,  -999.0,9,  -999.0,9,-999.0000,9,  -999.00, -0.4550
06AQ19960712,ARKXII,72,2,22,167500,2,19960815,0248,85.8117,161.5883,3928,  1800.3, -0.4021, 34.9437,2, 34.9428,2,  -999.0,9,   290.4,2,   11.41,2,   13.46,2, -999.00,9,    0.99,2,   0.128,2,   0.066,2,   0.168,2,  2139.2,2,  2290.4,2,   7.7073,2,    25.00, -0.4853
06AQ19960712,ARKXII,72,2,18,167496,2,19960815,0248,85.8117,161.5883,3928,  2000.0, -0.4093, 34.9481,2, 34.9475,2,  -999.0,9,   288.5,2,   12.20,2,   13.66,2, -999.00,9,    1.00,2,   0.060,2,   0.044,2,   0.126,2,  -999.0,9,  -999.0,9,-999.0000,9,  -999.00, -0.5063
06AQ19960712,ARKXII,72,2,19,167497,2,19960815,0248,85.8117,161.5883,3928,  2000.1, -0.4091, 34.9478,2,-999.0000,9,  -999.0,9,  -999.0,9, -999.00,9, -999.00,9, -999.00,9, -999.00,9,-999.000,9,-999.000,9,-999.000,9,  -999.0,9,  -999.0,9,-999.0000,9,  -999.00,-999.0000
06AQ19960712,ARKXII,72,2,21,167499,2,19960815,0248,85.8117,161.5883,3928,  2000.2, -0.4090, 34.9479,2,-999.0000,9,  -999.0,9,  -999.0,9, -999.00,9, -999.00,9, -999.00,9, -999.00,9,-999.000,9,-999.000,9,-999.000,9,  -999.0,9,  -999.0,9,-999.0000,9,  -999.00,-999.0000
06AQ19960712,ARKXII,72,2,20,167498,2,19960815,0248,85.8117,161.5883,3928,  2000.2, -0.4091, 34.9479,2,-999.0000,9,  -999.0,9,  -999.0,9, -999.00,9, -999.00,9, -999.00,9, -999.00,9,-999.000,9,-999.000,9,-999.000,9,  -999.0,9,  -999.0,9,-999.0000,9,  -999.00,-999.0000
06AQ19960712,ARKXII,72,2,17,167495,2,19960815,0248,85.8117,161.5883,3928,  2199.3, -0.4056, 34.9508,2, 34.9494,2,  -999.0,9,   287.2,2,   12.39,2,   13.76,2, -999.00,9,    1.02,2,   0.051,2,   0.030,2,   0.151,2,  2151.9,2,  2291.4,2,   7.7054,2,    25.00, -0.5161
06AQ19960712,ARKXII,72,2,16,167494,2,19960815,0248,85.8117,161.5883,3928,  2400.2, -0.3957, 34.9522,2, 34.9510,2,  -999.0,9,   286.5,2,   12.78,2,   13.85,2, -999.00,9,    1.01,2,   0.017,2,   0.005,2,   0.098,2,  -999.0,9,  -999.0,9,-999.0000,9,  -999.00, -0.5208
06AQ19960712,ARKXII,72,2,15,167493,2,19960815,0248,85.8117,161.5883,3928,  2500.1, -0.3900, 34.9530,2,-999.0000,9,  -999.0,9,  -999.0,9, -999.00,9, -999.00,9, -999.00,9, -999.00,9,-999.000,9,-999.000,9,-999.000,9,  -999.0,9,  -999.0,9,-999.0000,9,  -999.00,-999.0000
06AQ19960712,ARKXII,72,2,14,167492,2,19960815,0248,85.8117,161.5883,3928,  2600.2, -0.3842, 34.9529,2, 34.9514,2,  -999.0,9,   286.4,2,   12.98,2,   13.85,2, -999.00,9,    1.01,2,   0.047,2,   0.025,2,   0.083,2,  2145.5,2,  2295.1,2,   7.7044,2,    25.00, -0.5242
06AQ19960712,ARKXII,72,2,13,167491,2,19960815,0248,85.8117,161.5883,3928,  2800.0, -0.3730, 34.9529,2, 34.9496,2,  -999.0,9,   286.9,2,   12.78,2,   13.85,2, -999.00,9,    1.02,2,-999.000,9,-999.000,9,-999.000,9,  -999.0,9,  -999.0,9,-999.0000,9,  -999.00, -0.5291
06AQ19960712,ARKXII,72,2,11,167489,2,19960815,0248,85.8117,161.5883,3928,  2999.7, -0.3615, 34.9532,2, 34.9541,2,  -999.0,9,   287.5,2,   12.78,2,   13.85,2, -999.00,9,    1.01,2,   0.042,2,   0.006,2,   0.049,2,  2149.4,2,  2298.5,2,   7.7034,2,    25.00, -0.5348
06AQ19960712,ARKXII,72,2,12,167490,2,19960815,0248,85.8117,161.5883,3928,  2999.9, -0.3611, 34.9528,2,-999.0000,9,  -999.0,9,  -999.0,9, -999.00,9, -999.00,9, -999.00,9, -999.00,9,-999.000,9,-999.000,9,-999.000,9,  -999.0,9,  -999.0,9,-999.0000,9,  -999.00,-999.0000
06AQ19960712,ARKXII,72,2,10,167488,2,19960815,0248,85.8117,161.5883,3928,  3199.3, -0.3490, 34.9531,2, 34.9543,2,  -999.0,9,   288.2,2,   13.07,2,   13.76,2, -999.00,9,    1.00,2,   0.011,2,   0.003,2,   0.042,2,  -999.0,9,  -999.0,9,-999.0000,9,  -999.00, -0.5390
06AQ19960712,ARKXII,72,2,9,167487,2,19960815,0248,85.8117,161.5883,3928,  3399.3, -0.3340, 34.9534,2, 34.9527,2,  -999.0,9,   288.6,2,   12.39,2,   13.76,2, -999.00,9,    1.01,2,   0.055,2,   0.003,2,   0.053,2,  2147.3,2,  2295.9,2,   7.7102,2,    25.00, -0.5420
06AQ19960712,ARKXII,72,2,8,167486,2,19960815,0248,85.8117,161.5883,3928,  3600.3, -0.3163, 34.9530,2, 34.9527,2,  -999.0,9,   289.5,2,   12.29,2,   13.76,2, -999.00,9,    1.00,2,-999.000,9,   0.000,2,   0.057,2,  -999.0,9,  -999.0,9,   7.7092,2,    25.00, -0.5438
06AQ19960712,ARKXII,72,2,7,167485,2,19960815,0248,85.8117,161.5883,3928,  3699.6, -0.3072, 34.9522,2, 34.9527,2,  -999.0,9,   289.5,2,   12.49,2,   13.66,2, -999.00,9,    1.00,2,-999.000,9,   0.018,2,   0.088,2,  2149.2,2,  2298.3,2,   7.7054,2,    25.00, -0.5443
06AQ19960712,ARKXII,72,2,6,167484,2,19960815,0248,85.8117,161.5883,3928,  3800.5, -0.2977, 34.9525,2, 34.9517,2,  -999.0,9,   289.7,2,   12.20,2,   13.56,2, -999.00,9,    1.00,2,   0.052,2,   0.016,2,   0.000,2,  2149.5,2,  2292.5,2,   7.7083,2,    25.00, -0.5442
06AQ19960712,ARKXII,72,2,5,167483,2,19960815,0248,85.8117,161.5883,3928,  3850.2, -0.2924, 34.9520,2, 34.9529,2,  -999.0,9,   289.7,2,   12.20,2,   13.76,2, -999.00,9,    1.00,2,   0.000,2,   0.000,2,   0.000,2,  2145.3,2,  2293.9,2,   7.7083,2,    25.00, -0.5441
06AQ19960712,ARKXII,72,2,1,167479,2,19960815,0248,85.8117,161.5883,3928,  3900.0, -0.2873, 34.9519,2, 34.9531,2,  -999.0,9,   289.8,2,   12.20,2,   13.66,2, -999.00,9,    1.03,2,   0.005,2,   0.000,2,   0.036,2,  2145.3,2,  2297.7,2,   7.7121,2,    25.00, -0.5440
06AQ19960712,ARKXII,72,2,2,167480,2,19960815,0248,85.8117,161.5883,3928,  3900.1, -0.2870, 34.9516,2,-999.0000,9,  -999.0,9,  -999.0,9, -999.00,9, -999.00,9, -999.00,9, -999.00,9,-999.000,9,-999.000,9,-999.000,9,  -999.0,9,  -999.0,9,-999.0000,9,  -999.00,-999.0000
06AQ19960712,ARKXII,72,2,4,167482,2,19960815,0248,85.8117,161.5883,3928,  3900.2, -0.2872, 34.9518,2,-999.0000,9,  -999.0,9,  -999.0,9, -999.00,9, -999.00,9, -999.00,9, -999.00,9,-999.000,9,-999.000,9,-999.000,9,  -999.0,9,  -999.0,9,-999.0000,9,  -999.00,-999.0000
06AQ19960712,ARKXII,72,2,3,167481,2,19960815,0248,85.8117,161.5883,3928,  3900.2, -0.2873, 34.9518,2,-999.0000,9,  -999.0,9,  -999.0,9, -999.00,9, -999.00,9, -999.00,9, -999.00,9,-999.000,9,-999.000,9,-999.000,9,  -999.0,9,  -999.0,9,-999.0000,9,  -999.00,-999.0000
06AQ19960712,ARKXII,73,1,35,167549,2,19960816,0720,83.0183,150.2783,2630,   200.4,  1.4300, 34.8159,2, 34.8201,2,  -999.0,9,   301.6,2,    5.17,2,   11.12,2, -999.00,9,    0.77,2,   5.050,2,   2.314,2,   5.186,2,  -999.0,9,  -999.0,9,-999.0000,9,  -999.00,  1.4241
06AQ19960712,ARKXII,73,1,36,167550,2,19960816,0720,83.0183,150.2783,2630,   200.5,  1.4311, 34.8150,2,-999.0000,9,  -999.0,9,  -999.0,9, -999.00,9, -999.00,9, -999.00,9, -999.00,9,-999.000,9,-999.000,9,-999.000,9,  -999.0,9,  -999.0,9,-999.0000,9,  -999.00,-999.0000
06AQ19960712,ARKXII,73,1,31,167545,2,19960816,0720,83.0183,150.2783,2630,   250.6,  1.5227, 34.8574,2, 34.8625,2,  -999.0,9,   303.4,2,    5.17,2,   11.22,2, -999.00,9,    0.78,2,   4.929,2,   2.400,2,   5.415,2,  2140.6,2,  2291.7,2,   7.7150,2,    25.00,  1.5143
06AQ19960712,ARKXII,73,1,32,167546,2,19960816,0720,83.0183,150.2783,2630,   250.6,  1.5136, 34.8548,2,-999.0000,9,  -999.0,9,  -999.0,9, -999.00,9, -999.00,9, -999.00,9, -999.00,9,-999.000,9,-999.000,9,-999.000,9,  -999.0,9,  -999.0,9,-999.0000,9,  -999.00,-999.0000
06AQ19960712,ARKXII,73,1,34,167548,2,19960816,0720,83.0183,150.2783,2630,   250.6,  1.5152, 34.8540,2,-999.0000,9,  -999.0,9,  -999.0,9, -999.00,9, -999.00,9, -999.00,9, -999.00,9,-999.000,9,-999.000,9,-999.000,9,  -999.0,9,  -999.0,9,-999.0000,9,  -999.00,-999.0000
06AQ19960712,ARKXII,73,1,33,167547,2,19960816,0720,83.0183,150.2783,2630,   250.6,  1.5131, 34.8548,2,-999.0000,9,  -999.0,9,  -999.0,9, -999.00,9, -999.00,9, -999.00,9, -999.00,9,-999.000,9,-999.000,9,-999.000,9,  -999.0,9,  -999.0,9,-999.0000,9,  -999.00,-999.0000
06AQ19960712,ARKXII,73,1,29,167543,2,19960816,0720,83.0183,150.2783,2630,   300.3,  1.2903, 34.8606,2, 34.8631,2,  -999.0,9,   302.8,2,    5.37,2,   11.32,2, -999.00,9,    0.78,2,   4.665,2,   2.274,2,   5.350,2,  -999.0,9,  -999.0,9,-999.0000,9,  -999.00,  1.2793
06AQ19960712,ARKXII,73,1,30,167544,2,19960816,0720,83.0183,150.2783,2630,   300.4,  1.3016, 34.8605,2,-999.0000,9,  -999.0,9,  -999.0,9, -999.00,9, -999.00,9, -999.00,9, -999.00,9,-999.000,9,-999.000,9,-999.000,9,  -999.0,9,  -999.0,9,-999.0000,9,  -999.00,-999.0000
06AQ19960712,ARKXII,73,1,28,167542,2,19960816,0720,83.0183,150.2783,2630,   400.3,  0.9213, 34.8676,2, 34.8916,2,  -999.0,9,   303.4,2,    5.56,2,   11.41,2, -999.00,9,    0.78,2,   4.701,2,   2.106,2,   5.466,2,  -999.0,9,  -999.0,9,-999.0000,9,  -999.00,  0.9062
06AQ19960712,ARKXII,73,1,27,167541,2,19960816,0720,83.0183,150.2783,2630,   500.2,  0.6279, 34.8670,2,-999.0000,9,  -999.0,9,  -999.0,9, -999.00,9, -999.00,9, -999.00,9, -999.00,9,-999.000,9,-999.000,9,-999.000,9,  -999.0,9,  -999.0,9,-999.0000,9,  -999.00,-999.0000
06AQ19960712,ARKXII,73,1,26,167540,2,19960816,0720,83.0183,150.2783,2630,   500.2,  0.6264, 34.8666,2, 34.8709,2,  -999.0,9,   303.5,2,    5.66,2,   11.41,2, -999.00,9,    0.79,2,   4.195,2,   1.954,2,   5.233,2,  -999.0,9,  -999.0,9,-999.0000,9,  -999.00,  0.6073
06AQ19960712,ARKXII,73,1,25,167539,2,19960816,0720,83.0183,150.2783,2630,   600.1,  0.3347, 34.8603,2, 34.8656,2,  -999.0,9,   305.1,2,    5.95,2,   11.61,2, -999.00,9,    0.79,2,   4.294,2,   2.084,2,   5.193,2,  2151.3,2,  2289.2,2,   7.6948,2,    25.00,  0.3127
06AQ19960712,ARKXII,73,1,24,167538,2,19960816,0720,83.0183,150.2783,2630,   700.6,  0.1201, 34.8607,2, 34.8666,2,  -999.0,9,   306.2,2,    5.95,2,   11.51,2, -999.00,9,    0.79,2,   4.171,2,   1.979,2,   5.360,2,  -999.0,9,  -999.0,9,-999.0000,9,  -999.00,  0.0939
06AQ19960712,ARKXII,73,1,23,167537,2,19960816,0720,83.0183,150.2783,2630,   750.6,  0.0361, 34.8617,2,-999.0000,9,  -999.0,9,  -999.0,9, -999.00,9, -999.00,9, -999.00,9, -999.00,9,-999.000,9,-999.000,9,-999.000,9,  -999.0,9,  -999.0,9,-999.0000,9,  -999.00,-999.0000
06AQ19960712,ARKXII,73,1,22,167536,2,19960816,0720,83.0183,150.2783,2630,   800.7, -0.0351, 34.8629,2, 34.8689,2,  -999.0,9,   307.0,2,    6.05,2,   11.51,2, -999.00,9,    0.80,2,   4.490,2,   2.064,2,   5.428,2,  -999.0,9,  -999.0,9,-999.0000,9,  -999.00, -0.0651
06AQ19960712,ARKXII,73,1,20,167534,2,19960816,0720,83.0183,150.2783,2630,  1000.6, -0.2106, 34.8777,2, 34.8833,2,  -999.0,9,   304.8,2,    6.83,2,   12.10,2, -999.00,9,    0.85,2,   3.340,2,   1.549,2,   4.908,2,  2154.4,2,  2284.5,2,   7.6871,2,    25.00, -0.2500
06AQ19960712,ARKXII,73,1,21,167535,2,19960816,0720,83.0183,150.2783,2630,  1000.7, -0.2100, 34.8778,2,-999.0000,9,  -999.0,9,  -999.0,9, -999.00,9, -999.00,9, -999.00,9, -999.00,9,-999.000,9,-999.000,9,-999.000,9,  -999.0,9,  -999.0,9,-999.0000,9,  -999.00,-999.0000
06AQ19960712,ARKXII,73,1,19,167533,2,19960816,0720,83.0183,150.2783,2630,  1199.7, -0.3289, 34.8946,2, 34.8942,2,  -999.0,9,   302.2,2,    7.51,2,   12.59,2, -999.00,9,    0.86,2,   2.285,2,   1.009,2,   3.466,2,  -999.0,9,  -999.0,9,-999.0000,9,  -999.00, -0.3775
06AQ19960712,ARKXII,73,1,18,167532,2,19960816,0720,83.0183,150.2783,2630,  1400.0, -0.4052, 34.9091,2, 34.9149,2,  -999.0,9,   299.5,2,    8.39,2,   12.88,2, -999.00,9,    0.90,2,   1.165,2,   0.512,2,   2.172,2,  2151.5,2,  2297.3,2,   7.6986,2,    25.00, -0.4639
06AQ19960712,ARKXII,73,1,17,167531,2,19960816,0720,83.0183,150.2783,2630,  1500.3, -0.4179, 34.9223,2,-999.0000,9,  -999.0,9,  -999.0,9, -999.00,9, -999.00,9, -999.00,9, -999.00,9,-999.000,9,-999.000,9,-999.000,9,  -999.0,9,  -999.0,9,-999.0000,9,  -999.00,-999.0000
06AQ19960712,ARKXII,73,1,16,167530,2,19960816,0720,83.0183,150.2783,2630,  1599.6, -0.4184, 34.9292,2, 34.9311,2,  -999.0,9,   293.9,2,    9.85,2,   13.37,2, -999.00,9,    0.92,2,   0.408,2,   0.155,2,   0.936,2,  -999.0,9,  -999.0,9,-999.0000,9,  -999.00, -0.4896
06AQ19960712,ARKXII,73,1,15,167529,2,19960816,0720,83.0183,150.2783,2630,  1800.2, -0.4172, 34.9398,2, 34.9349,2,  -999.0,9,   290.1,2,   11.02,2,   13.56,2, -999.00,9,    0.95,2,   0.119,2,   0.057,2,   0.481,2,  2146.8,2,  2298.7,2,   7.7092,2,    25.00, -0.5001
06AQ19960712,ARKXII,73,1,13,167527,2,19960816,0720,83.0183,150.2783,2630,  2000.4, -0.4140, 34.9443,2,-999.0000,9,  -999.0,9,  -999.0,9, -999.00,9, -999.00,9, -999.00,9, -999.00,9,-999.000,9,-999.000,9,-999.000,9,  -999.0,9,  -999.0,9,-999.0000,9,  -999.00,-999.0000
06AQ19960712,ARKXII,73,1,14,167528,2,19960816,0720,83.0183,150.2783,2630,  2000.4, -0.4138, 34.9441,2,-999.0000,9,  -999.0,9,  -999.0,9, -999.00,9, -999.00,9, -999.00,9, -999.00,9,-999.000,9,-999.000,9,-999.000,9,  -999.0,9,  -999.0,9,-999.0000,9,  -999.00,-999.0000
06AQ19960712,ARKXII,73,1,11,167525,2,19960816,0720,83.0183,150.2783,2630,  2000.4, -0.4149, 34.9454,2, 34.9464,2,  -999.0,9,   288.1,2,   11.80,2,   13.76,2, -999.00,9,    0.99,2,   0.089,2,   0.055,2,   0.218,2,  -999.0,9,  -999.0,9,-999.0000,9,  -999.00, -0.5113
06AQ19960712,ARKXII,73,1,12,167526,2,19960816,0720,83.0183,150.2783,2630,  2000.4, -0.4144, 34.9448,2,-999.0000,9,  -999.0,9,  -999.0,9, -999.00,9, -999.00,9, -999.00,9, -999.00,9,-999.000,9,-999.000,9,-999.000,9,  -999.0,9,  -999.0,9,-999.0000,9,  -999.00,-999.0000
06AQ19960712,ARKXII,73,1,10,167524,2,19960816,0720,83.0183,150.2783,2630,  2200.2, -0.4062, 34.9479,2, 34.9498,2,  -999.0,9,   286.7,2,   12.29,2,   13.85,2, -999.00,9,    0.96,2,-999.000,9,   0.028,2,   0.063,2,  2150.0,2,  2295.7,2,   7.7063,2,    25.00, -0.5162
06AQ19960712,ARKXII,73,1,9,167523,2,19960816,0720,83.0183,150.2783,2630,  2400.5, -0.3876, 34.9502,2, 34.9511,2,  -999.0,9,   285.5,2,   12.49,2,   13.95,2, -999.00,9,    0.97,2,   0.040,2,   0.025,2,   0.178,2,  2147.8,2,  2300.3,2,   7.7044,2,    25.00, -0.5131
06AQ19960712,ARKXII,73,1,8,167522,2,19960816,0720,83.0183,150.2783,2630,  2500.3, -0.3788, 34.9507,2,-999.0000,9,  -999.0,9,  -999.0,9, -999.00,9, -999.00,9, -999.00,9, -999.00,9,-999.000,9,-999.000,9,-999.000,9,  -999.0,9,  -999.0,9,-999.0000,9,  -999.00,-999.0000
06AQ19960712,ARKXII,73,1,7,167521,2,19960816,0720,83.0183,150.2783,2630,  2520.4, -0.3772, 34.9504,2, 34.9488,2,  -999.0,9,   285.2,2,   12.59,2,   13.76,2, -999.00,9,    0.96,2,   0.153,2,   0.077,2,   0.116,2,  2149.6,2,  2295.0,2,   7.7054,2,    25.00, -0.5112
06AQ19960712,ARKXII,73,1,6,167520,2,19960816,0720,83.0183,150.2783,2630,  2570.2, -0.3735, 34.9507,2, 34.9503,2,  -999.0,9,   285.2,2,   12.68,2,   14.05,2, -999.00,9,    0.96,2,   0.069,2,-999.000,9,-999.000,9,  2151.2,2,  2294.8,2,   7.7044,2,    25.00, -0.5121
06AQ19960712,ARKXII,73,1,1,167515,2,19960816,0720,83.0183,150.2783,2630,  2620.3, -0.3687, 34.9497,2, 34.9538,2,  -999.0,9,   285.0,2,   12.78,2,   13.85,2, -999.00,9,    0.99,2,   0.069,2,   0.000,2,   0.242,2,  2151.7,2,  2295.7,2,   7.7005,2,    25.00, -0.5110
06AQ19960712,ARKXII,73,1,2,167516,2,19960816,0720,83.0183,150.2783,2630,  2620.4, -0.3687, 34.9495,2,-999.0000,9,  -999.0,9,  -999.0,9, -999.00,9, -999.00,9, -999.00,9, -999.00,9,-999.000,9,-999.000,9,-999.000,9,  -999.0,9,  -999.0,9,-999.0000,9,  -999.00,-999.0000
06AQ19960712,ARKXII,73,1,3,167517,2,19960816,0720,83.0183,150.2783,2630,  2620.5, -0.3689, 34.9493,2,-999.0000,9,  -999.0,9,  -999.0,9, -999.00,9, -999.00,9, -999.00,9, -999.00,9,-999.000,9,-999.000,9,-999.000,9,  -999.0,9,  -999.0,9,-999.0000,9,  -999.00,-999.0000
06AQ19960712,ARKXII,73,1,4,167518,2,19960816,0720,83.0183,150.2783,2630,  2620.5, -0.3687, 34.9491,2,-999.0000,9,  -999.0,9,  -999.0,9, -999.00,9, -999.00,9, -999.00,9, -999.00,9,-999.000,9,-999.000,9,-999.000,9,  -999.0,9,  -999.0,9,-999.0000,9,  -999.00,-999.0000
06AQ19960712,ARKXII,73,1,5,167519,2,19960816,0720,83.0183,150.2783,2630,  2620.6, -0.3687, 34.9488,2,-999.0000,9,  -999.0,9,  -999.0,9, -999.00,9, -999.00,9, -999.00,9, -999.00,9,-999.000,9,-999.000,9,-999.000,9,  -999.0,9,  -999.0,9,-999.0000,9,  -999.00,-999.0000