BOTTLE,20100322CCHDOSIODM
EXPOCODE,SECT_ID,STNNBR,CASTNO,SAMPNO,BTLNBR,BTLNBR_FLAG_W,DATE,TIME,LATITUDE,LONGITUDE,DEPTH,CTDPRS,CTDTMP,CTDSAL,CTDSAL_FLAG_W,SALNTY,SALNTY_FLAG_W,CTDOXY,CTDOXY_FLAG_W,OXYGEN,OXYGEN_FLAG_W,SILCAT,SILCAT_FLAG_W,NITRAT,NITRAT_FLAG_W,NITRIT,NITRIT_FLAG_W,PHSPHT,PHSPHT_FLAG_W,CFC-11,CFC-11_FLAG_W,CFC-12,CFC-12_FLAG_W,CCL4,CCL4_FLAG_W,TCARBN,TCARBN_FLAG_W,ALKALI,ALKALI_FLAG_W,PH_SWS,PH_SWS_FLAG_W,PH_TMP,THETA
,,,,,,,,,,,METERS,DBAR,ITS-90,PSS-78,,PSS-78,,UMOL/KG,,UMOL/KG,,UMOL/KG,,UMOL/KG,,UMOL/KG,,UMOL/KG,,PMOL/KG,,PMOL/KG,,PMOL/KG,,UMOL/KG,,UMOL/KG,,,,DEG C,DEG C
06AQ19960712,ARKXII,67,1,35,167319,2,19960813,2143,86.3217,150.8300,1180,     2.3, -1.6318, 33.4421,2,-999.0000,9,  -999.0,9,  -999.0,9, -999.00,9, -999.00,9, -999.00,9, -999.00,9,-999.000,9,-999.000,9,-999.000,9,  -999.0,9,  -999.0,9,-999.0000,9,  -999.00,-999.0000
06AQ19960712,ARKXII,67,1,33,167317,2,19960813,2143,86.3217,150.8300,1180,     9.9, -1.6926, 33.4458,2,-999.0000,9,  -999.0,9,  -999.0,9, -999.00,9, -999.00,9, -999.00,9, -999.00,9,-999.000,9,-999.000,9,-999.000,9,  -999.0,9,  -999.0,9,-999.0000,9,  -999.00,-999.0000
06AQ19960712,ARKXII,67,1,34,167318,2,19960813,2143,86.3217,150.8300,1180,     9.9, -1.6912, 33.4473,2, 33.4476,2,  -999.0,9,   374.7,2,    2.63,2,    3.41,2, -999.00,9,    0.39,2,   7.071,2,   3.354,2,   7.178,2,  -999.0,9,  2265.2,2,   7.7444,2,    25.00, -1.6882
06AQ19960712,ARKXII,67,1,31,167315,2,19960813,2143,86.3217,150.8300,1180,    20.1, -1.7123, 33.4593,2,-999.0000,9,  -999.0,9,  -999.0,9, -999.00,9, -999.00,9, -999.00,9, -999.00,9,-999.000,9,-999.000,9,-999.000,9,  -999.0,9,  -999.0,9,-999.0000,9,  -999.00,-999.0000
06AQ19960712,ARKXII,67,1,32,167316,2,19960813,2143,86.3217,150.8300,1180,    20.1, -1.7099, 33.4621,2, 33.4617,2,  -999.0,9,   374.7,2,    2.63,2,    3.41,2, -999.00,9,    0.41,2,-999.000,9,-999.000,9,-999.000,9,  -999.0,9,  -999.0,9,-999.0000,9,  -999.00, -1.7074
06AQ19960712,ARKXII,67,1,29,167313,2,19960813,2143,86.3217,150.8300,1180,    30.0, -1.7131, 33.4761,2,-999.0000,9,  -999.0,9,  -999.0,9, -999.00,9, -999.00,9, -999.00,9, -999.00,9,-999.000,9,-999.000,9,-999.000,9,  -999.0,9,  -999.0,9,-999.0000,9,  -999.00,-999.0000
06AQ19960712,ARKXII,67,1,30,167314,2,19960813,2143,86.3217,150.8300,1180,    30.0, -1.7130, 33.4759,2, 33.4890,2,  -999.0,9,   373.5,2,    2.44,2,    3.51,2, -999.00,9,    0.42,2,   6.965,2,   3.307,2,   7.051,2,  -999.0,9,  2269.1,2,   7.7405,2,    25.00, -1.7106
06AQ19960712,ARKXII,67,1,28,167312,2,19960813,2143,86.3217,150.8300,1180,    39.8, -1.7508, 33.5984,2, 33.5921,2,  -999.0,9,   369.6,2,    2.73,2,    4.00,2, -999.00,9,    0.46,2,   6.961,2,   3.251,2,   6.453,2,  -999.0,9,  -999.0,9,-999.0000,9,  -999.00, -1.7477
06AQ19960712,ARKXII,67,1,27,167311,2,19960813,2143,86.3217,150.8300,1180,    39.9, -1.7484, 33.5917,2,-999.0000,9,  -999.0,9,  -999.0,9, -999.00,9, -999.00,9, -999.00,9, -999.00,9,-999.000,9,-999.000,9,-999.000,9,  -999.0,9,  -999.0,9,-999.0000,9,  -999.00,-999.0000
06AQ19960712,ARKXII,67,1,26,167310,2,19960813,2143,86.3217,150.8300,1180,    50.1, -1.8028, 33.7728,2,-999.0000,9,  -999.0,9,  -999.0,9, -999.00,9, -999.00,9, -999.00,9, -999.00,9,-999.000,9,-999.000,9,-999.000,9,  -999.0,9,  -999.0,9,-999.0000,9,  -999.00,-999.0000
06AQ19960712,ARKXII,67,1,25,167309,2,19960813,2143,86.3217,150.8300,1180,    50.1, -1.8138, 33.8099,2,-999.0000,9,  -999.0,9,  -999.0,9, -999.00,9, -999.00,9, -999.00,9, -999.00,9,-999.000,9,-999.000,9,-999.000,9,  -999.0,9,  -999.0,9,-999.0000,9,  -999.00,-999.0000
06AQ19960712,ARKXII,67,1,24,167308,2,19960813,2143,86.3217,150.8300,1180,    59.0, -1.8311, 33.8709,2, 33.8628,2,  -999.0,9,   364.6,2,    3.02,2,    4.78,2, -999.00,9,    0.50,2,   6.767,2,   3.038,2,   5.820,2,  -999.0,9,  2285.2,2,   7.7211,2,    25.00, -1.8291
06AQ19960712,ARKXII,67,1,23,167307,2,19960813,2143,86.3217,150.8300,1180,    80.0, -1.7181, 34.0317,2, 34.0648,2,  -999.0,9,   334.4,2,    4.39,2,    6.63,2, -999.00,9,    0.62,2,   5.884,2,   2.653,2,   4.711,2,  -999.0,9,  2285.1,2,   7.6854,2,    25.00, -1.7166
06AQ19960712,ARKXII,67,1,22,167306,2,19960813,2143,86.3217,150.8300,1180,    80.0, -1.6909, 34.0523,2,-999.0000,9,  -999.0,9,  -999.0,9, -999.00,9, -999.00,9, -999.00,9, -999.00,9,-999.000,9,-999.000,9,-999.000,9,  -999.0,9,  -999.0,9,-999.0000,9,  -999.00,-999.0000
06AQ19960712,ARKXII,67,1,21,167305,2,19960813,2143,86.3217,150.8300,1180,   100.1, -1.3548, 34.2297,2, 34.2633,2,  -999.0,9,   312.1,2,    5.27,2,    8.49,2, -999.00,9,    0.72,2,   4.992,2,   2.270,2,   4.123,2,  -999.0,9,  -999.0,9,-999.0000,9,  -999.00, -1.3534
06AQ19960712,ARKXII,67,1,20,167304,2,19960813,2143,86.3217,150.8300,1180,   100.1, -1.2996, 34.2424,2,-999.0000,9,  -999.0,9,  -999.0,9, -999.00,9, -999.00,9, -999.00,9, -999.00,9,-999.000,9,-999.000,9,-999.000,9,  -999.0,9,  -999.0,9,-999.0000,9,  -999.00,-999.0000
06AQ19960712,ARKXII,67,1,19,167303,2,19960813,2143,86.3217,150.8300,1180,   125.0, -0.6593, 34.4177,2, 34.4158,2,  -999.0,9,   302.5,2,    5.76,2,    9.37,2, -999.00,9,    0.77,2,   4.585,2,   1.897,2,   3.987,2,  -999.0,9,  -999.0,9,-999.0000,9,  -999.00, -0.6598
06AQ19960712,ARKXII,67,1,17,167301,2,19960813,2143,86.3217,150.8300,1180,   150.2, -0.1220, 34.5480,2, 34.5434,2,  -999.0,9,   299.7,2,    6.05,2,    9.85,2, -999.00,9,    0.79,2,   3.917,2,   1.813,2,   3.770,2,  -999.0,9,  -999.0,9,-999.0000,9,  -999.00, -0.1233
06AQ19960712,ARKXII,67,1,18,167302,2,19960813,2143,86.3217,150.8300,1180,   150.2, -0.1219, 34.5477,2,-999.0000,9,  -999.0,9,  -999.0,9, -999.00,9, -999.00,9, -999.00,9, -999.00,9,-999.000,9,-999.000,9,-999.000,9,  -999.0,9,  -999.0,9,-999.0000,9,  -999.00,-999.0000
06AQ19960712,ARKXII,67,1,15,167299,2,19960813,2143,86.3217,150.8300,1180,   199.8,  0.7154, 34.7452,2, 34.7486,2,  -999.0,9,   296.9,2,    6.05,2,   10.83,2, -999.00,9,    0.84,2,-999.000,9,-999.000,9,-999.000,9,  -999.0,9,  2284.3,2,   7.6958,2,    25.00,  0.7104
06AQ19960712,ARKXII,67,1,16,167300,2,19960813,2143,86.3217,150.8300,1180,   199.8,  0.6795, 34.7316,2,-999.0000,9,  -999.0,9,  -999.0,9, -999.00,9, -999.00,9, -999.00,9, -999.00,9,-999.000,9,-999.000,9,-999.000,9,  -999.0,9,  -999.0,9,-999.0000,9,  -999.00,-999.0000
06AQ19960712,ARKXII,67,1,14,167298,2,19960813,2143,86.3217,150.8300,1180,   224.4,  0.8239, 34.7931,2, 34.7927,2,  -999.0,9,   298.5,2,    6.15,2,   11.12,2, -999.00,9,    0.85,2,   3.727,2,   1.636,2,   4.309,2,  -999.0,9,  2300.1,2,-999.0000,9  -999.00,  0.8180
06AQ19960712,ARKXII,67,1,12,167296,2,19960813,2143,86.3217,150.8300,1180,   250.2,  1.0232, 34.8449,2, 34.8432,2,  -999.0,9,   300.5,2,    5.85,2,   11.22,2, -999.00,9,    0.86,2,   3.968,2,   1.819,2,   4.680,2,  -999.0,9,  2301.0,2,   7.7102,2,    25.00,  1.0154
06AQ19960712,ARKXII,67,1,13,167297,2,19960813,2143,86.3217,150.8300,1180,   250.3,  1.0648, 34.8438,2,-999.0000,9,  -999.0,9,  -999.0,9, -999.00,9, -999.00,9, -999.00,9, -999.00,9,-999.000,9,-999.000,9,-999.000,9,  -999.0,9,  -999.0,9,-999.0000,9,  -999.00,-999.0000
06AQ19960712,ARKXII,67,1,11,167295,2,19960813,2143,86.3217,150.8300,1180,   299.9,  0.8284, 34.8499,2,-999.0000,9,  -999.0,9,  -999.0,9, -999.00,9, -999.00,9, -999.00,9, -999.00,9,-999.000,9,-999.000,9,-999.000,9,  -999.0,9,  -999.0,9,-999.0000,9,  -999.00,-999.0000
06AQ19960712,ARKXII,67,1,10,167294,2,19960813,2143,86.3217,150.8300,1180,   299.9,  0.8715, 34.8569,2, 34.8571,2,  -999.0,9,   300.7,2,    5.85,2,   11.41,2, -999.00,9,    0.89,2,   3.721,2,   1.638,2,   4.518,2,  -999.0,9,  -999.0,9,-999.0000,9,  -999.00,  0.8623
06AQ19960712,ARKXII,67,1,9,167293,2,19960813,2143,86.3217,150.8300,1180,   400.2,  0.5967, 34.8608,2, 34.8601,2,  -999.0,9,   299.0,2,    6.15,2,   11.61,2, -999.00,9,    0.88,2,   3.030,2,   1.334,2,   3.980,2,  -999.0,9,  -999.0,9,-999.0000,9,  -999.00,  0.5833
06AQ19960712,ARKXII,67,1,8,167292,2,19960813,2143,86.3217,150.8300,1180,   499.6,  0.4310, 34.8691,2, 34.8695,2,  -999.0,9,   298.1,2,    6.54,2,   11.80,2, -999.00,9,    0.88,2,   2.246,2,   0.951,2,   3.442,2,  -999.0,9,  -999.0,9,-999.0000,9,  -999.00,  0.4131
06AQ19960712,ARKXII,67,1,7,167291,2,19960813,2143,86.3217,150.8300,1180,   599.8,  0.2338, 34.8739,2, 34.8744,2,  -999.0,9,   302.1,2,    6.44,2,   11.90,2, -999.00,9,    0.89,2,   3.044,2,   1.310,2,   3.916,2,  -999.0,9,  -999.0,9,   7.6976,2,    25.00,  0.2122
06AQ19960712,ARKXII,67,1,6,167290,2,19960813,2143,86.3217,150.8300,1180,   699.7,  0.0771, 34.8761,2, 34.8769,2,  -999.0,9,   302.2,2,    6.63,2,   11.71,2, -999.00,9,    0.89,2,-999.000,9,-999.000,9,-999.000,9,  -999.0,9,  -999.0,9,-999.0000,9,  -999.00,  0.0512
06AQ19960712,ARKXII,67,1,5,167289,2,19960813,2143,86.3217,150.8300,1180,   799.8, -0.0356, 34.8831,2, 34.8830,2,  -999.0,9,   302.0,2,    6.83,2,   11.71,2, -999.00,9, -999.00,9,   2.268,2,   1.055,2,   3.368,2,  -999.0,9,  -999.0,9,   7.7005,2,    25.00, -0.0661
06AQ19960712,ARKXII,67,1,4,167288,2,19960813,2143,86.3217,150.8300,1180,   999.9, -0.2186, 34.8972,2, 34.8976,2,  -999.0,9,   301.9,2,    7.51,2,   12.39,2, -999.00,9,    0.91,2,   2.122,2,   0.976,2,   3.109,2,  -999.0,9,  2272.8,3,   7.6948,2,    25.00, -0.2579
06AQ19960712,ARKXII,67,1,3,167287,2,19960813,2143,86.3217,150.8300,1180,  1049.5, -0.2701, 34.9007,2, 34.9013,2,  -999.0,9,   301.8,2,    7.90,2,   12.49,2, -999.00,9,    0.94,2,   1.976,2,   0.943,2,   3.039,2,  -999.0,9,  2274.5,3,   7.6919,2,    25.00, -0.3111
06AQ19960712,ARKXII,67,1,2,167286,2,19960813,2143,86.3217,150.8300,1180,  1099.9, -0.3277, 34.9032,2, 34.9027,2,  -999.0,9,   302.2,2,    8.10,2,   12.49,2, -999.00,9,    0.93,2,   2.155,2,   1.034,2,   2.982,2,  -999.0,9,  2286.7,2,   7.6948,2,    25.00, -0.3712
06AQ19960712,ARKXII,67,1,1,167285,2,19960813,2143,86.3217,150.8300,1180,  1150.9, -0.3692, 34.9070,2, 34.9079,2,  -999.0,9,   301.3,2,    8.20,2,   12.29,2, -999.00,9,    0.94,2,   1.634,2,   0.799,2,   2.700,2,  -999.0,9,  2289.4,2,   7.6977,2,    25.00, -0.4145
06AQ19960712,ARKXII,68,1,23,167343,2,19960814,0208,86.2433,153.0183,1513,    10.2, -1.7095, 33.4646,2, 33.4652,2,  -999.0,9,   375.7,2,    2.34,2,    3.61,2, -999.00,9,    0.40,2,-999.000,9,-999.000,9,-999.000,9,  2079.7,2,  2260.1,2,   7.7464,2,    25.00, -1.7062
06AQ19960712,ARKXII,68,1,22,167342,2,19960814,0208,86.2433,153.0183,1513,    20.2, -1.7104, 33.4652,2, 33.4644,2,  -999.0,9,   375.2,2,    2.34,2,    3.51,2, -999.00,9,    0.41,2,-999.000,9,-999.000,9,-999.000,9,  -999.0,9,  -999.0,9,-999.0000,9,  -999.00, -1.7074
06AQ19960712,ARKXII,68,1,21,167341,2,19960814,0208,86.2433,153.0183,1513,    30.4, -1.7211, 33.4660,2, 33.4779,2,  -999.0,9,   374.9,2,    2.34,2,    3.61,2, -999.00,9,    0.42,2,-999.000,9,-999.000,9,-999.000,9,  -999.0,9,  2256.7,2,   7.7425,2,    25.00, -1.7185
06AQ19960712,ARKXII,68,1,20,167340,2,19960814,0208,86.2433,153.0183,1513,    40.0, -1.7368, 33.5401,2, 33.5329,2,  -999.0,9,   373.5,2,    2.54,2,    3.90,2, -999.00,9,    0.42,2,-999.000,9,-999.000,9,-999.000,9,  -999.0,9,  -999.0,9,-999.0000,9,  -999.00, -1.7337
06AQ19960712,ARKXII,68,1,19,167339,2,19960814,0208,86.2433,153.0183,1513,    59.7, -1.7909, 33.8760,2, 33.9091,2,  -999.0,9,   348.5,2,    3.71,2,    5.66,2, -999.00,9,    0.56,2,-999.000,9,-999.000,9,-999.000,9,  2138.5,2,  2269.3,2,   7.6980,2,    25.00, -1.7891
06AQ19960712,ARKXII,68,1,18,167338,2,19960814,0208,86.2433,153.0183,1513,    79.7, -1.5604, 34.1226,2, 34.1071,2,  -999.0,9,   326.2,2,    4.78,2,    7.22,2, -999.00,9,    0.66,2,-999.000,9,-999.000,9,-999.000,9,  -999.0,9,  2283.3,2,   7.6825,2,    25.00, -1.5587
06AQ19960712,ARKXII,68,1,17,167337,2,19960814,0208,86.2433,153.0183,1513,    99.5, -1.2569, 34.2508,2, 34.2390,2,  -999.0,9,   311.1,2,    5.46,2,    8.78,2, -999.00,9,    0.72,2,-999.000,9,-999.000,9,-999.000,9,  -999.0,9,  -999.0,9,-999.0000,9,  -999.00, -1.2555
06AQ19960712,ARKXII,68,1,16,167336,2,19960814,0208,86.2433,153.0183,1513,   124.9, -0.8125, 34.3844,2, 34.3726,2,  -999.0,9,   304.4,2,    5.76,2,    9.56,2, -999.00,9,    0.75,2,-999.000,9,-999.000,9,-999.000,9,  -999.0,9,  -999.0,9,-999.0000,9,  -999.00, -0.8126
06AQ19960712,ARKXII,68,1,15,167335,2,19960814,0208,86.2433,153.0183,1513,   149.9, -0.0370, 34.5336,2, 34.5282,2,  -999.0,9,   302.4,2,    5.56,2,    9.85,2, -999.00,9,    0.79,2,-999.000,9,-999.000,9,-999.000,9,  2125.5,2,  2293.4,2,   7.6814,2,    25.00, -0.0384
06AQ19960712,ARKXII,68,1,14,167334,2,19960814,0208,86.2433,153.0183,1513,   199.8,  0.7582, 34.7378,2, 34.7280,2,  -999.0,9,   297.8,2,    6.05,2,   10.93,2, -999.00,9,    0.82,2,-999.000,9,-999.000,9,-999.000,9,  -999.0,9,  -999.0,9,-999.0000,9,  -999.00,  0.7533
06AQ19960712,ARKXII,68,1,13,167333,2,19960814,0208,86.2433,153.0183,1513,   249.5,  1.1150, 34.8492,2, 34.8478,2,  -999.0,9,   301.5,2,    5.66,2,   11.32,2, -999.00,9,    0.83,2,-999.000,9,-999.000,9,-999.000,9,  2118.4,3,  2305.2,2,   7.7131,2,    25.00,  1.1072
06AQ19960712,ARKXII,68,1,12,167332,2,19960814,0208,86.2433,153.0183,1513,   300.3,  0.7321, 34.8284,2, 34.8260,2,  -999.0,9,   298.6,2,    6.15,2,   11.41,2, -999.00,9,    0.86,2,-999.000,9,-999.000,9,-999.000,9,  -999.0,9,  -999.0,9,-999.0000,9,  -999.00,  0.7227
06AQ19960712,ARKXII,68,1,11,167331,2,19960814,0208,86.2433,153.0183,1513,   399.9,  0.7200, 34.8648,2, 34.8656,2,  -999.0,9,   302.5,2,    5.95,2,   11.61,2, -999.00,9,    0.86,2,-999.000,9,-999.000,9,-999.000,9,  -999.0,9,  2304.1,2,   7.7044,2,    25.00,  0.7059
06AQ19960712,ARKXII,68,1,10,167330,2,19960814,0208,86.2433,153.0183,1513,   499.7,  0.4872, 34.8694,2, 34.8683,2,  -999.0,9,   298.1,2,    6.54,2,   11.80,2, -999.00,9,    0.88,2,-999.000,9,-999.000,9,-999.000,9,  -999.0,9,  -999.0,9,-999.0000,9,  -999.00,  0.4689
06AQ19960712,ARKXII,68,1,9,167329,2,19960814,0208,86.2433,153.0183,1513,   600.1,  0.3001, 34.8728,2, 34.8719,2,  -999.0,9,   301.7,2,    6.54,2,   11.80,2, -999.00,9,    0.90,2,-999.000,9,-999.000,9,-999.000,9,  2146.6,2,  2302.8,2,   7.7044,2,    25.00,  0.2779
06AQ19960712,ARKXII,68,1,8,167328,2,19960814,0208,86.2433,153.0183,1513,   699.9,  0.1215, 34.8754,2, 34.8758,2,  -999.0,9,   301.6,2,    6.73,2,   12.00,2, -999.00,9,    0.93,2,-999.000,9,-999.000,9,-999.000,9,  -999.0,9,  -999.0,9,-999.0000,9,  -999.00,  0.0949
06AQ19960712,ARKXII,68,1,7,167327,2,19960814,0208,86.2433,153.0183,1513,   799.7, -0.0066, 34.8830,2, 34.8820,2,  -999.0,9,   302.0,2,    7.02,2,   11.90,2, -999.00,9,    0.92,2,-999.000,9,-999.000,9,-999.000,9,  -999.0,9,  -999.0,9,-999.0000,9,  -999.00, -0.0372
06AQ19960712,ARKXII,68,1,6,167326,2,19960814,0208,86.2433,153.0183,1513,  1000.2, -0.1878, 34.8966,2,-999.0000,9,  -999.0,9,  -999.0,9, -999.00,9, -999.00,9, -999.00,9, -999.00,9,-999.000,9,-999.000,9,-999.000,9,  -999.0,9,  -999.0,9,-999.0000,9,  -999.00,-999.0000
06AQ19960712,ARKXII,68,1,5,167325,2,19960814,0208,86.2433,153.0183,1513,  1200.1, -0.3257, 34.9093,2, 34.9087,2,  -999.0,9,   301.2,2,    8.20,2,   12.68,2, -999.00,9,    0.95,2,-999.000,9,-999.000,9,-999.000,9,  2132.4,3,  2305.5,2,   7.6986,2,    25.00, -0.3746
06AQ19960712,ARKXII,68,1,4,167324,2,19960814,0208,86.2433,153.0183,1513,  1300.2, -0.3744, 34.9179,2, 34.9180,2,  -999.0,9,   298.9,2,    8.98,2,   12.59,2, -999.00,9,    0.97,2,-999.000,9,-999.000,9,-999.000,9,  -999.0,9,  -999.0,9,-999.0000,9,  -999.00, -0.4286
06AQ19960712,ARKXII,68,1,3,167323,2,19960814,0208,86.2433,153.0183,1513,  1370.8, -0.4059, 34.9249,2, 34.9248,2,  -999.0,9,   296.6,2,    9.66,2,   12.98,2, -999.00,9,    0.98,2,-999.000,9,-999.000,9,-999.000,9,  2149.8,2,  2304.7,2,   7.7005,2,    25.00, -0.4633
06AQ19960712,ARKXII,68,1,2,167322,2,19960814,0208,86.2433,153.0183,1513,  1420.7, -0.4149, 34.9331,2, 34.9319,2,  -999.0,9,   294.1,2,   10.44,2,   13.07,2, -999.00,9,    1.00,2,-999.000,9,-999.000,9,-999.000,9,  2135.4,3,  2308.3,2,   7.7082,2,    25.00, -0.4750
06AQ19960712,ARKXII,68,1,1,167321,2,19960814,0208,86.2433,153.0183,1513,  1470.3, -0.4293, 34.9404,2, 34.9399,2,  -999.0,9,   290.3,2,   11.32,2,   12.98,2, -999.00,9,    1.00,2,-999.000,9,-999.000,9,-999.000,9,  2147.5,2,  2308.6,2,   7.7121,2,    25.00, -0.4927