BOTTLE,20100322CCHDOSIODM
EXPOCODE,SECT_ID,STNNBR,CASTNO,SAMPNO,BTLNBR,BTLNBR_FLAG_W,DATE,TIME,LATITUDE,LONGITUDE,DEPTH,CTDPRS,CTDTMP,CTDSAL,CTDSAL_FLAG_W,SALNTY,SALNTY_FLAG_W,CTDOXY,CTDOXY_FLAG_W,OXYGEN,OXYGEN_FLAG_W,SILCAT,SILCAT_FLAG_W,NITRAT,NITRAT_FLAG_W,NITRIT,NITRIT_FLAG_W,PHSPHT,PHSPHT_FLAG_W,CFC-11,CFC-11_FLAG_W,CFC-12,CFC-12_FLAG_W,CCL4,CCL4_FLAG_W,TCARBN,TCARBN_FLAG_W,ALKALI,ALKALI_FLAG_W,PH_SWS,PH_SWS_FLAG_W,PH_TMP,THETA
,,,,,,,,,,,METERS,DBAR,ITS-90,PSS-78,,PSS-78,,UMOL/KG,,UMOL/KG,,UMOL/KG,,UMOL/KG,,UMOL/KG,,UMOL/KG,,PMOL/KG,,PMOL/KG,,PMOL/KG,,UMOL/KG,,UMOL/KG,,,,DEG C,DEG C
06AQ19960712,ARKXII,71,1,31,167446,2,19960814,1825,85.9667,160.5100,2907,     9.8, -1.5974, 33.1895,2, 33.1986,2,  -999.0,9,   373.8,2,    2.83,2,    3.12,2, -999.00,9,    0.39,2,   6.979,2,   3.311,2,   7.969,2,  2098.8,2,  2248.0,2,   7.7281,2,    25.00, -1.5942
06AQ19960712,ARKXII,71,1,30,167445,2,19960814,1825,85.9667,160.5100,2907,    20.6, -1.6266, 33.2616,2, 33.4845,2,  -999.0,9,   370.3,2,    2.93,2,    3.71,2, -999.00,9,    0.40,2,   6.785,2,   3.262,2,   7.086,2,  -999.0,9,  -999.0,9,-999.0000,9,  -999.00, -1.6234
06AQ19960712,ARKXII,71,1,29,167444,2,19960814,1825,85.9667,160.5100,2907,    30.1, -1.6786, 33.4413,2, 33.4460,2,  -999.0,9,   372.0,2,    2.83,2,    3.61,2, -999.00,9,    0.36,2,   6.800,2,   3.241,2,   7.225,2,  2106.3,2,  2259.2,2,   7.7270,2,    25.00, -1.6756
06AQ19960712,ARKXII,71,1,28,167443,2,19960814,1825,85.9667,160.5100,2907,    40.5, -1.7869, 33.6803,2, 33.6504,2,  -999.0,9,   369.4,2,    3.12,2,    4.20,2, -999.00,9,    0.40,2,   6.728,2,   3.175,2,   6.153,2,  -999.0,9,  -999.0,9,-999.0000,9,  -999.00, -1.7847
06AQ19960712,ARKXII,71,1,27,167442,2,19960814,1825,85.9667,160.5100,2907,    60.3, -1.8393, 33.9863,2, 33.9802,2,  -999.0,9,   358.8,2,    3.51,2,    5.17,2, -999.00,9,    0.47,2,   6.635,2,   2.992,2,   5.528,2,  2125.3,2,  2256.9,2,   7.6893,2,    25.00, -1.8371
06AQ19960712,ARKXII,71,1,26,167441,2,19960814,1825,85.9667,160.5100,2907,    80.2, -1.8500, 34.0169,2, 34.0154,2,  -999.0,9,   358.7,2,    3.71,2,    5.27,2, -999.00,9,    0.46,2,   6.441,2,   3.031,2,   5.660,2,  2122.5,2,  2263.1,2,   7.7172,2,    25.00, -1.8485
06AQ19960712,ARKXII,71,1,25,167440,2,19960814,1825,85.9667,160.5100,2907,   100.4, -1.8157, 34.0463,2, 34.0447,2,  -999.0,9,   352.6,2,    3.80,2,    5.66,2, -999.00,9,    0.48,2,   6.343,2,   2.898,2,   5.435,2,  2125.4,2,  2281.8,2,   7.7095,2,    25.00, -1.8139
06AQ19960712,ARKXII,71,1,24,167439,2,19960814,1825,85.9667,160.5100,2907,   149.4, -0.6123, 34.4291,2, 34.4317,2,  -999.0,9,   301.8,2,    5.95,2,    9.56,2, -999.00,9,    0.71,2,   3.814,2,   1.883,2,   4.288,2,  2140.4,2,  2273.1,2,   7.6728,2,    25.00, -0.6136
06AQ19960712,ARKXII,71,1,23,167438,2,19960814,1825,85.9667,160.5100,2907,   200.1,  0.7340, 34.7332,2, 34.7362,2,  -999.0,9,   297.4,2,    6.24,2,   11.02,2, -999.00,9,    0.79,2,   4.505,2,   2.145,2,   5.041,2,  -999.0,9,  -999.0,9,-999.0000,9,  -999.00,  0.7293
06AQ19960712,ARKXII,71,1,22,167437,2,19960814,1825,85.9667,160.5100,2907,   240.3,  1.3799, 34.8488,2, 34.8485,2,  -999.0,9,   301.2,2,    5.76,2,   11.41,2, -999.00,9,    0.78,2,   4.558,2,   2.177,2,   5.161,2,  -999.0,9,  -999.0,9,-999.0000,9,  -999.00,  1.3722
06AQ19960712,ARKXII,71,1,21,167436,2,19960814,1825,85.9667,160.5100,2907,   250.5,  1.4184, 34.8660,2, 34.8648,2,  -999.0,9,   301.9,2,    5.95,2,   11.51,2, -999.00,9,    0.80,2,   4.473,2,   1.983,2,   5.128,2,  2136.6,2,  2292.7,2,   7.7121,2,    25.00,  1.4105
06AQ19960712,ARKXII,71,1,20,167435,2,19960814,1825,85.9667,160.5100,2907,   300.3,  0.5619, 34.8169,2, 34.8168,2,  -999.0,9,   296.6,2,    6.73,2,   11.61,2, -999.00,9,    0.81,2,   2.940,2,   1.405,2,   4.019,2,  -999.0,9,  -999.0,9,-999.0000,9,  -999.00,  0.5531
06AQ19960712,ARKXII,71,1,19,167434,2,19960814,1825,85.9667,160.5100,2907,   400.4,  0.5701, 34.8545,2, 34.8531,2,  -999.0,9,   297.5,2,    6.73,2,   11.71,2, -999.00,9,    0.82,2,   2.619,2,   1.226,2,   3.856,2,  2140.8,2,  2291.5,2,   7.7035,2,    25.00,  0.5564
06AQ19960712,ARKXII,71,1,18,167433,2,19960814,1825,85.9667,160.5100,2907,   500.8,  0.4545, 34.8695,2, 34.8682,2,  -999.0,9,   296.7,2,    7.12,2,   11.90,2, -999.00,9,    0.83,2,   1.837,2,   0.871,2,   3.102,2,  -999.0,9,  -999.0,9,-999.0000,9,  -999.00,  0.4360
06AQ19960712,ARKXII,71,1,17,167432,2,19960814,1825,85.9667,160.5100,2907,   600.7,  0.2406, 34.8751,2, 34.8747,2,  -999.0,9,   299.9,2,    7.02,2,   11.80,2, -999.00,9,    0.84,2,   2.171,2,   1.042,2,   3.404,2,  2141.9,2,  2288.6,2,   7.7015,2,    25.00,  0.2181
06AQ19960712,ARKXII,71,1,16,167431,2,19960814,1825,85.9667,160.5100,2907,   700.3,  0.0801, 34.8777,2, 34.8768,2,  -999.0,9,   301.5,2,    7.12,2,   11.71,2, -999.00,9,    0.84,2,   2.501,2,   1.118,2,   3.657,2,  -999.0,9,  -999.0,9,-999.0000,9,  -999.00,  0.0542
06AQ19960712,ARKXII,71,1,15,167430,2,19960814,1825,85.9667,160.5100,2907,   800.6, -0.0563, 34.8835,2, 34.8835,2,  -999.0,9,   302.2,2,    7.71,2,   11.71,2, -999.00,9,    0.84,2,   2.297,2,   1.089,2,   3.587,2,  -999.0,9,  -999.0,9,-999.0000,9,  -999.00, -0.0870
06AQ19960712,ARKXII,71,1,14,167429,2,19960814,1825,85.9667,160.5100,2907,  1001.0, -0.1818, 34.8991,2, 34.8990,2,  -999.0,9,   300.4,2,    7.61,2,   11.90,2, -999.00,9,    0.89,2,   1.100,2,   0.441,2,   2.260,2,  2141.7,2,  2288.3,2,   7.7015,2,    25.00, -0.2212
06AQ19960712,ARKXII,71,1,13,167428,2,19960814,1825,85.9667,160.5100,2907,  1200.3, -0.2972, 34.9127,2, 34.9123,2,  -999.0,9,   299.2,2,    8.68,2,   12.49,2, -999.00,9,    0.91,2,   0.589,2,   0.272,2,   1.587,2,  -999.0,9,  -999.0,9,-999.0000,9,  -999.00, -0.3468
06AQ19960712,ARKXII,71,1,12,167427,2,19960814,1825,85.9667,160.5100,2907,  1400.7, -0.4076, 34.9216,2, 34.9211,2,  -999.0,9,   297.5,2,   10.05,2,   12.88,2, -999.00,9,    0.93,2,   0.669,2,   0.292,2,   1.498,2,  2147.7,2,  2293.1,2,   7.7015,2,    25.00, -0.4669
06AQ19960712,ARKXII,71,1,11,167426,2,19960814,1825,85.9667,160.5100,2907,  1600.0, -0.4355, 34.9298,2, 34.9301,2,  -999.0,9,   294.3,2,   10.83,2,   13.27,2, -999.00,9,    0.96,2,   0.651,2,   0.217,2,   1.042,2,  -999.0,9,  -999.0,9,-999.0000,9,  -999.00, -0.5063
06AQ19960712,ARKXII,71,1,10,167425,2,19960814,1825,85.9667,160.5100,2907,  1800.0, -0.4412, 34.9397,2, 34.9395,2,  -999.0,9,   290.6,2,   11.90,2,   13.56,2, -999.00,9,    0.98,2,   0.544,2,   0.099,2,   0.602,2,  2147.0,2,  2296.8,2,   7.7044,2,    25.00, -0.5247
06AQ19960712,ARKXII,71,1,9,167424,2,19960814,1825,85.9667,160.5100,2907,  1999.9, -0.4351, 34.9432,2, 34.9430,2,  -999.0,9,   289.3,2,   12.00,2,   13.66,2, -999.00,9,    0.99,2,   0.208,2,   0.083,2,   0.332,2,  -999.0,9,  -999.0,9,-999.0000,9,  -999.00, -0.5309
06AQ19960712,ARKXII,71,1,8,167423,2,19960814,1825,85.9667,160.5100,2907,  2200.0, -0.4007, 34.9498,2, 34.9479,2,  -999.0,9,   286.3,2,   12.68,2,   13.76,2, -999.00,9,    0.99,2,   0.104,2,   0.048,2,   0.140,2,  2145.5,2,  2298.0,2,   7.7054,2,    25.00, -0.5113
06AQ19960712,ARKXII,71,1,7,167422,2,19960814,1825,85.9667,160.5100,2907,  2400.7, -0.3910, 34.9513,2, 34.9507,2,  -999.0,9,   286.2,2,   12.68,2,   13.85,2, -999.00,9,    0.99,2,-999.000,9,   0.034,2,   0.056,2,  -999.0,9,  -999.0,9,-999.0000,9,  -999.00, -0.5160
06AQ19960712,ARKXII,71,1,6,167421,2,19960814,1825,85.9667,160.5100,2907,  2600.6, -0.3823, 34.9508,2, 34.9504,2,  -999.0,9,   286.6,2,   12.78,2,   13.85,2, -999.00,9,    1.00,2,   0.055,2,   0.042,2,   0.060,2,  2144.7,2,  2298.8,2,   7.7054,2,    25.00, -0.5233
06AQ19960712,ARKXII,71,1,5,167420,2,19960814,1825,85.9667,160.5100,2907,  2700.2, -0.3756, 34.9515,2, 34.9510,2,  -999.0,9,   286.6,2,   12.88,2,   13.85,2, -999.00,9,    0.99,2,-999.000,9,   0.020,2,   0.065,2,  2144.8,2,  2301.5,2,   7.7054,2,    25.00, -0.5241
06AQ19960712,ARKXII,71,1,4,167419,2,19960814,1825,85.9667,160.5100,2907,  2700.2, -0.3757, 34.9514,2, 34.9504,2,  -999.0,9,   286.4,2,   12.68,2,   13.85,2, -999.00,9,    0.99,2,   0.023,2,   0.016,2,   0.099,2,  -999.0,9,  -999.0,9,-999.0000,9,  -999.00, -0.5241
06AQ19960712,ARKXII,71,1,3,167418,2,19960814,1825,85.9667,160.5100,2907,  2790.0, -0.3712, 34.9503,2, 34.9510,2,  -999.0,9,   286.8,2,   12.88,2,   13.76,2, -999.00,9,    0.98,2,   0.060,2,   0.018,2,   0.156,2,  2145.5,2,  2293.7,2,   7.7054,2,    25.00, -0.5264
06AQ19960712,ARKXII,71,1,2,167417,2,19960814,1825,85.9667,160.5100,2907,  2839.9, -0.3675, 34.9513,2, 34.9511,2,  -999.0,9,   287.0,2,   12.68,2,   13.66,2, -999.00,9,    0.96,2,   0.020,2,   0.009,2,   0.122,2,  2148.3,2,  2296.0,2,   7.7025,2,    25.00, -0.5275
06AQ19960712,ARKXII,71,1,1,167416,2,19960814,1825,85.9667,160.5100,2907,  2890.5, -0.3626, 34.9503,2, 34.9515,2,  -999.0,9,   286.3,2,   12.49,2,   13.66,2, -999.00,9,    1.01,2,-999.000,9,   0.002,2,   0.068,2,  2147.4,2,  2296.0,2,   7.7063,2,    25.00, -0.5267
06AQ19960712,ARKXII,72,1,27,167478,2,19960814,2126,85.8283,161.6800,3923,     9.9, -1.6615, 33.2723,2, 33.2644,2,  -999.0,9,   374.5,2,    2.63,2,    3.41,2, -999.00,9,    0.38,2,-999.000,9,-999.000,9,-999.000,9,  2095.5,2,  2245.7,2,   7.7310,2,    25.00, -1.6582
06AQ19960712,ARKXII,72,1,26,167477,2,19960814,2126,85.8283,161.6800,3923,    20.3, -1.6586, 33.2532,2,-999.0000,9,  -999.0,9,  -999.0,9, -999.00,9, -999.00,9, -999.00,9, -999.00,9,-999.000,9,-999.000,9,-999.000,9,  -999.0,9,  -999.0,9,-999.0000,9,  -999.00,-999.0000
06AQ19960712,ARKXII,72,1,24,167475,2,19960814,2126,85.8283,161.6800,3923,    20.3, -1.6882, 33.3685,2,-999.0000,9,  -999.0,9,  -999.0,9, -999.00,9, -999.00,9, -999.00,9, -999.00,9,-999.000,9,-999.000,9,-999.000,9,  -999.0,9,  -999.0,9,-999.0000,9,  -999.00,-999.0000
06AQ19960712,ARKXII,72,1,25,167476,2,19960814,2126,85.8283,161.6800,3923,    20.3, -1.6743, 33.3134,2,-999.0000,9,  -999.0,9,  -999.0,9, -999.00,9, -999.00,9, -999.00,9, -999.00,9,-999.000,9,-999.000,9,-999.000,9,  -999.0,9,  -999.0,9,-999.0000,9,  -999.00,-999.0000
06AQ19960712,ARKXII,72,1,23,167474,2,19960814,2126,85.8283,161.6800,3923,    20.4, -1.6793, 33.3372,2, 33.4054,2,  -999.0,9,   375.9,2,    2.83,2,    3.61,2, -999.00,9,    0.40,2,-999.000,9,-999.000,9,-999.000,9,  -999.0,9,  -999.0,9,-999.0000,9,  -999.00, -1.6764
06AQ19960712,ARKXII,72,1,21,167472,2,19960814,2126,85.8283,161.6800,3923,    30.4, -1.7246, 33.4957,2, 33.5572,2,  -999.0,9,   374.5,2,    3.02,2,    3.90,2, -999.00,9,    0.41,2,-999.000,9,-999.000,9,-999.000,9,  2110.4,2,  2259.9,2,   7.7251,2,    25.00, -1.7216
06AQ19960712,ARKXII,72,1,22,167473,2,19960814,2126,85.8283,161.6800,3923,    30.4, -1.7175, 33.4681,2,-999.0000,9,  -999.0,9,  -999.0,9, -999.00,9, -999.00,9, -999.00,9, -999.00,9,-999.000,9,-999.000,9,-999.000,9,  -999.0,9,  -999.0,9,-999.0000,9,  -999.00,-999.0000
06AQ19960712,ARKXII,72,1,19,167470,2,19960814,2126,85.8283,161.6800,3923,    40.5, -1.7715, 33.6520,2, 33.7142,2,  -999.0,9,   370.8,2,    3.32,2,    4.29,2, -999.00,9,    0.45,2,-999.000,9,-999.000,9,-999.000,9,  2115.5,2,  2263.6,2,   7.7221,2,    25.00, -1.7688
06AQ19960712,ARKXII,72,1,20,167471,2,19960814,2126,85.8283,161.6800,3923,    40.5, -1.7625, 33.6295,2,-999.0000,9,  -999.0,9,  -999.0,9, -999.00,9, -999.00,9, -999.00,9, -999.00,9,-999.000,9,-999.000,9,-999.000,9,  -999.0,9,  -999.0,9,-999.0000,9,  -999.00,-999.0000
06AQ19960712,ARKXII,72,1,18,167469,2,19960814,2126,85.8283,161.6800,3923,    50.2, -1.8131, 33.7845,2,-999.0000,9,  -999.0,9,  -999.0,9, -999.00,9, -999.00,9, -999.00,9, -999.00,9,-999.000,9,-999.000,9,-999.000,9,  -999.0,9,  -999.0,9,-999.0000,9,  -999.00,-999.0000
06AQ19960712,ARKXII,72,1,17,167468,2,19960814,2126,85.8283,161.6800,3923,    50.3, -1.8148, 33.7876,2,-999.0000,9,  -999.0,9,  -999.0,9, -999.00,9, -999.00,9, -999.00,9, -999.00,9,-999.000,9,-999.000,9,-999.000,9,  -999.0,9,  -999.0,9,-999.0000,9,  -999.00,-999.0000
06AQ19960712,ARKXII,72,1,16,167467,2,19960814,2126,85.8283,161.6800,3923,    60.2, -1.8345, 33.8570,2, 33.8625,2,  -999.0,9,   363.0,2,    3.71,2,    4.98,2, -999.00,9,    0.49,2,-999.000,9,-999.000,9,-999.000,9,  2125.2,2,  2270.9,2,   7.7144,2,    25.00, -1.8321
06AQ19960712,ARKXII,72,1,14,167465,2,19960814,2126,85.8283,161.6800,3923,    80.1, -1.7498, 33.9904,2, 33.9828,2,  -999.0,9,   342.6,2,    4.29,2,    6.34,2, -999.00,9,    0.57,2,-999.000,9,-999.000,9,-999.000,9,  2141.4,2,  2263.6,2,   7.6893,2,    25.00, -1.7476
06AQ19960712,ARKXII,72,1,15,167466,2,19960814,2126,85.8283,161.6800,3923,    80.1, -1.7603, 33.9717,2,-999.0000,9,  -999.0,9,  -999.0,9, -999.00,9, -999.00,9, -999.00,9, -999.00,9,-999.000,9,-999.000,9,-999.000,9,  -999.0,9,  -999.0,9,-999.0000,9,  -999.00,-999.0000
06AQ19960712,ARKXII,72,1,12,167463,2,19960814,2126,85.8283,161.6800,3923,   100.3, -1.4942, 34.1439,2, 34.1336,2,  -999.0,9,   318.1,2,    5.37,2,    8.10,2, -999.00,9,    0.65,2,-999.000,9,-999.000,9,-999.000,9,  2142.2,2,  2270.7,2,   7.6690,2,    25.00, -1.4932
06AQ19960712,ARKXII,72,1,13,167464,2,19960814,2126,85.8283,161.6800,3923,   100.3, -1.4934, 34.1425,2,-999.0000,9,  -999.0,9,  -999.0,9, -999.00,9, -999.00,9, -999.00,9, -999.00,9,-999.000,9,-999.000,9,-999.000,9,  -999.0,9,  -999.0,9,-999.0000,9,  -999.00,-999.0000
06AQ19960712,ARKXII,72,1,11,167462,2,19960814,2126,85.8283,161.6800,3923,   125.2, -0.9320, 34.3458,2, 34.3394,2,  -999.0,9,   304.9,2,    5.85,2,    9.27,2, -999.00,9,    0.74,2,-999.000,9,-999.000,9,-999.000,9,  -999.0,9,  -999.0,9,-999.0000,9,  -999.00, -0.9325
06AQ19960712,ARKXII,72,1,10,167461,2,19960814,2126,85.8283,161.6800,3923,   150.3, -0.5122, 34.4627,2,-999.0000,9,  -999.0,9,  -999.0,9, -999.00,9, -999.00,9, -999.00,9, -999.00,9,-999.000,9,-999.000,9,-999.000,9,  -999.0,9,  -999.0,9,-999.0000,9,  -999.00,-999.0000
06AQ19960712,ARKXII,72,1,9,167460,2,19960814,2126,85.8283,161.6800,3923,   150.4, -0.4466, 34.4784,2, 34.4664,2,  -999.0,9,   301.4,2,    6.05,2,    9.85,2, -999.00,9,    0.76,2,-999.000,9,-999.000,9,-999.000,9,  2147.9,2,  2270.8,2,   7.6776,2,    25.00, -0.4479
06AQ19960712,ARKXII,72,1,7,167458,2,19960814,2126,85.8283,161.6800,3923,   200.0,  0.4307, 34.6983,2, 34.6868,2,  -999.0,9,   296.7,2,    6.63,2,   11.02,2, -999.00,9,    0.82,2,-999.000,9,-999.000,9,-999.000,9,  -999.0,9,  -999.0,9,-999.0000,9,  -999.00,  0.4269
06AQ19960712,ARKXII,72,1,8,167459,2,19960814,2126,85.8283,161.6800,3923,   200.0,  0.3751, 34.6774,2,-999.0000,9,  -999.0,9,  -999.0,9, -999.00,9, -999.00,9, -999.00,9, -999.00,9,-999.000,9,-999.000,9,-999.000,9,  -999.0,9,  -999.0,9,-999.0000,9,  -999.00,-999.0000
06AQ19960712,ARKXII,72,1,3,167454,2,19960814,2126,85.8283,161.6800,3923,   258.5,  0.9607, 34.8398,2, 34.8389,2,  -999.0,9,   300.5,2,    6.34,2,   11.51,2, -999.00,9,    0.83,2,-999.000,9,-999.000,9,-999.000,9,  2141.6,2,  2285.8,2,   7.7102,2,    25.00,  0.9531
06AQ19960712,ARKXII,72,1,4,167455,2,19960814,2126,85.8283,161.6800,3923,   258.5,  0.9703, 34.8394,2,-999.0000,9,  -999.0,9,  -999.0,9, -999.00,9, -999.00,9, -999.00,9, -999.00,9,-999.000,9,-999.000,9,-999.000,9,  -999.0,9,  -999.0,9,-999.0000,9,  -999.00,-999.0000
06AQ19960712,ARKXII,72,1,6,167457,2,19960814,2126,85.8283,161.6800,3923,   258.6,  0.9707, 34.8379,2,-999.0000,9,  -999.0,9,  -999.0,9, -999.00,9, -999.00,9, -999.00,9, -999.00,9,-999.000,9,-999.000,9,-999.000,9,  -999.0,9,  -999.0,9,-999.0000,9,  -999.00,-999.0000
06AQ19960712,ARKXII,72,1,5,167456,2,19960814,2126,85.8283,161.6800,3923,   258.6,  0.9711, 34.8387,2,-999.0000,9,  -999.0,9,  -999.0,9, -999.00,9, -999.00,9, -999.00,9, -999.00,9,-999.000,9,-999.000,9,-999.000,9,  -999.0,9,  -999.0,9,-999.0000,9,  -999.00,-999.0000
06AQ19960712,ARKXII,72,1,1,167452,2,19960814,2126,85.8283,161.6800,3923,   300.0,  0.6684, 34.8233,2, 34.8232,2,  -999.0,9,   297.7,2,    6.34,2,   11.51,2, -999.00,9,    0.86,2,-999.000,9,-999.000,9,-999.000,9,  -999.0,9,  -999.0,9,-999.0000,9,  -999.00,  0.6588
06AQ19960712,ARKXII,72,1,2,167453,2,19960814,2126,85.8283,161.6800,3923,   300.0,  0.6626, 34.8227,2,-999.0000,9,  -999.0,9,  -999.0,9, -999.00,9, -999.00,9, -999.00,9, -999.00,9,-999.000,9,-999.000,9,-999.000,9,  -999.0,9,  -999.0,9,-999.0000,9,  -999.00,-999.0000