BOTTLE,20100322CCHDOSIODM
EXPOCODE,SECT_ID,STNNBR,CASTNO,SAMPNO,BTLNBR,BTLNBR_FLAG_W,DATE,TIME,LATITUDE,LONGITUDE,DEPTH,CTDPRS,CTDTMP,CTDSAL,CTDSAL_FLAG_W,SALNTY,SALNTY_FLAG_W,CTDOXY,CTDOXY_FLAG_W,OXYGEN,OXYGEN_FLAG_W,SILCAT,SILCAT_FLAG_W,NITRAT,NITRAT_FLAG_W,NITRIT,NITRIT_FLAG_W,PHSPHT,PHSPHT_FLAG_W,CFC-11,CFC-11_FLAG_W,CFC-12,CFC-12_FLAG_W,CCL4,CCL4_FLAG_W,TCARBN,TCARBN_FLAG_W,ALKALI,ALKALI_FLAG_W,PH_SWS,PH_SWS_FLAG_W,PH_TMP,THETA
,,,,,,,,,,,METERS,DBAR,ITS-90,PSS-78,,PSS-78,,UMOL/KG,,UMOL/KG,,UMOL/KG,,UMOL/KG,,UMOL/KG,,UMOL/KG,,PMOL/KG,,PMOL/KG,,PMOL/KG,,UMOL/KG,,UMOL/KG,,,,DEG C,DEG C
06AQ19960712,ARKXII,39,1,32,166251,2,19960803,1413,82.8417,92.3167,3248,    10.4, -1.8139, 34.0832,2, 34.0835,2,  -999.0,9,   345.6,2,    2.93,2,    7.61,2, -999.00,9,    0.60,2,   5.984,2,   2.804,2,   7.059,2,  -999.0,9,  -999.0,9,-999.0000,9,  -999.00, -1.8112
06AQ19960712,ARKXII,39,1,31,166250,2,19960803,1413,82.8417,92.3167,3248,    20.6, -1.8173, 34.0859,2, 34.0858,2,  -999.0,9,   345.5,2,    2.93,2,    7.71,2, -999.00,9,    0.60,2,   6.100,2,   2.886,2,   6.867,2,  -999.0,9,  -999.0,9,-999.0000,9,  -999.00, -1.8144
06AQ19960712,ARKXII,39,1,30,166249,2,19960803,1413,82.8417,92.3167,3248,    29.7, -1.8192, 34.0867,2, 34.0886,2,  -999.0,9,   345.1,2,    2.93,2,    7.80,2, -999.00,9,    0.60,2,   6.393,2,   2.793,2,   7.183,2,  -999.0,9,  -999.0,9,-999.0000,9,  -999.00, -1.8166
06AQ19960712,ARKXII,39,1,29,166248,2,19960803,1413,82.8417,92.3167,3248,    40.5, -1.8208, 34.0889,2, 34.0914,2,  -999.0,9,   344.4,2,    2.93,2,    7.80,2, -999.00,9,    0.60,2,   5.961,2,   2.816,2,   7.361,2,  -999.0,9,  -999.0,9,-999.0000,9,  -999.00, -1.8188
06AQ19960712,ARKXII,39,1,28,166247,2,19960803,1413,82.8417,92.3167,3248,    60.3, -1.8176, 34.1022,2, 34.1011,2,  -999.0,9,   343.8,2,    3.02,2,    8.10,2, -999.00,9,    0.60,2,   6.408,2,   2.856,2,   7.008,2,  -999.0,9,  -999.0,9,-999.0000,9,  -999.00, -1.8151
06AQ19960712,ARKXII,39,1,27,166246,2,19960803,1413,82.8417,92.3167,3248,    79.9, -1.2790, 34.2107,2, 34.2425,2,  -999.0,9,   329.3,2,    3.80,2,    9.37,2, -999.00,9,    0.68,2,   5.939,2,   2.616,2,   5.796,2,  -999.0,9,  -999.0,9,-999.0000,9,  -999.00, -1.2779
06AQ19960712,ARKXII,39,1,26,166245,2,19960803,1413,82.8417,92.3167,3248,    80.2, -0.9651, 34.2573,2, 34.2803,2,  -999.0,9,   325.9,2,    4.00,2,    9.66,2, -999.00,9,    0.70,2,   5.543,2,   2.548,2,   5.742,2,  -999.0,9,  -999.0,9,-999.0000,9,  -999.00, -0.9642
06AQ19960712,ARKXII,39,1,25,166244,2,19960803,1413,82.8417,92.3167,3248,   100.1,  0.2634, 34.4373,2, 34.4271,2,  -999.0,9,   316.1,2,    4.49,2,   10.34,2, -999.00,9,    0.73,2,-999.000,9,-999.000,9,-999.000,9,  -999.0,9,  -999.0,9,-999.0000,9,  -999.00,  0.2632
06AQ19960712,ARKXII,39,1,24,166243,2,19960803,1413,82.8417,92.3167,3248,   150.4,  2.1098, 34.7930,2, 34.7939,2,  -999.0,9,   302.1,2,    5.37,2,   11.71,2, -999.00,9,    0.79,2,   5.371,2,   2.364,2,   5.626,2,  -999.0,9,  -999.0,9,-999.0000,9,  -999.00,  2.1058
06AQ19960712,ARKXII,39,1,23,166242,2,19960803,1413,82.8417,92.3167,3248,   200.4,  2.3936, 34.8649,2, 34.8648,2,  -999.0,9,   301.4,2,    5.46,2,   12.00,2, -999.00,9,    0.82,2,-999.000,9,-999.000,9,-999.000,9,  -999.0,9,  -999.0,9,-999.0000,9,  -999.00,  2.3865
06AQ19960712,ARKXII,39,1,22,166241,2,19960803,1413,82.8417,92.3167,3248,   250.4,  2.5187, 34.9127,2, 34.9139,2,  -999.0,9,   302.0,2,    5.66,2,   12.29,2, -999.00,9,    0.84,2,   4.938,2,   2.385,2,   5.804,2,  -999.0,9,  -999.0,9,-999.0000,9,  -999.00,  2.5083
06AQ19960712,ARKXII,39,1,21,166240,2,19960803,1413,82.8417,92.3167,3248,   275.4,  2.5765, 34.9370,2, 34.9414,2,  -999.0,9,   302.6,2,    5.66,2,   12.29,2, -999.00,9,    0.84,2,   4.753,2,   2.293,2,   5.562,2,  -999.0,9,  -999.0,9,-999.0000,9,  -999.00,  2.5646
06AQ19960712,ARKXII,39,1,20,166239,2,19960803,1413,82.8417,92.3167,3248,   300.2,  2.6701, 34.9613,2, 34.9620,2,  -999.0,9,   302.7,2,    5.76,2,   12.39,2, -999.00,9,    0.84,2,   4.774,2,   2.336,2,   5.880,2,  -999.0,9,  -999.0,9,-999.0000,9,  -999.00,  2.6568
06AQ19960712,ARKXII,39,1,19,166238,2,19960803,1413,82.8417,92.3167,3248,   400.6,  2.2207, 34.9629,2, 34.9621,2,  -999.0,9,   303.9,2,    5.85,2,   12.49,2, -999.00,9,    0.84,2,-999.000,9,-999.000,9,-999.000,9,  -999.0,9,  -999.0,9,-999.0000,9,  -999.00,  2.2019
06AQ19960712,ARKXII,39,1,18,166237,2,19960803,1413,82.8417,92.3167,3248,   500.2,  1.6036, 34.9390,2,-999.0000,9,  -999.0,9,   302.8,2,    6.24,2,   12.59,2, -999.00,9,    0.86,2,   4.421,2,   1.984,2,   5.409,2,  -999.0,9,  -999.0,9,-999.0000,9,  -999.00,  1.5812
06AQ19960712,ARKXII,39,1,17,166236,2,19960803,1413,82.8417,92.3167,3248,   600.5,  1.0581, 34.9237,2, 34.9240,2,  -999.0,9,   303.0,2,    6.63,2,   12.78,2, -999.00,9,    0.87,2,-999.000,9,-999.000,9,-999.000,9,  -999.0,9,  -999.0,9,-999.0000,9,  -999.00,  1.0320
06AQ19960712,ARKXII,39,1,16,166235,2,19960803,1413,82.8417,92.3167,3248,   700.2,  0.6658, 34.9203,2,-999.0000,9,  -999.0,9,  -999.0,9, -999.00,9, -999.00,9, -999.00,9, -999.00,9,-999.000,9,-999.000,9,-999.000,9,  -999.0,9,  -999.0,9,-999.0000,9,  -999.00,-999.0000
06AQ19960712,ARKXII,39,1,15,166234,2,19960803,1413,82.8417,92.3167,3248,   800.3,  0.2329, 34.9119,2, 34.9106,2,  -999.0,9,   303.1,2,    7.41,2,   13.27,2, -999.00,9,    0.90,2,-999.000,9,-999.000,9,-999.000,9,  -999.0,9,  -999.0,9,-999.0000,9,  -999.00,  0.2011
06AQ19960712,ARKXII,39,1,14,166233,2,19960803,1413,82.8417,92.3167,3248,  1000.4, -0.2809, 34.9094,2, 34.9091,2,  -999.0,9,   302.5,2,    8.59,2,   13.56,2, -999.00,9,    0.93,2,   1.763,2,   0.825,2,   3.131,2,  -999.0,9,  -999.0,9,-999.0000,9,  -999.00, -0.3194
06AQ19960712,ARKXII,39,1,13,166232,2,19960803,1413,82.8417,92.3167,3248,  1200.4, -0.5053, 34.9118,2, 34.9124,2,  -999.0,9,   301.8,2,    9.37,2,   14.05,2, -999.00,9,    0.95,2,-999.000,9,-999.000,9,-999.000,9,  -999.0,9,  -999.0,9,-999.0000,9,  -999.00, -0.5528
06AQ19960712,ARKXII,39,1,12,166231,2,19960803,1413,82.8417,92.3167,3248,  1400.7, -0.6311, 34.9146,2, 34.9152,2,  -999.0,9,   300.6,2,   10.05,2,   14.54,2, -999.00,9,    0.98,2,   0.915,2,   0.418,2,   1.959,2,  -999.0,9,  -999.0,9,-999.0000,9,  -999.00, -0.6874
06AQ19960712,ARKXII,39,1,11,166230,2,19960803,1413,82.8417,92.3167,3248,  1600.3, -0.7095, 34.9166,2, 34.9164,2,  -999.0,9,   300.2,2,   10.54,2,   14.73,2, -999.00,9,    0.98,2,-999.000,9,-999.000,9,-999.000,9,  -999.0,9,  -999.0,9,-999.0000,9,  -999.00, -0.7768
06AQ19960712,ARKXII,39,1,10,166229,2,19960803,1413,82.8417,92.3167,3248,  1801.0, -0.7476, 34.9187,2, 34.9187,2,  -999.0,9,   300.2,2,   10.73,2,   14.54,2, -999.00,9,    0.98,2,   0.755,2,   0.256,2,   1.657,2,  -999.0,9,  -999.0,9,-999.0000,9,  -999.00, -0.8263
06AQ19960712,ARKXII,39,1,9,166228,2,19960803,1413,82.8417,92.3167,3248,  2000.6, -0.7820, 34.9209,2, 34.9201,2,  -999.0,9,   300.8,2,   11.02,2,   14.44,2, -999.00,9,    0.99,2,-999.000,9,-999.000,9,-999.000,9,  -999.0,9,  -999.0,9,-999.0000,9,  -999.00, -0.8724
06AQ19960712,ARKXII,39,1,8,166227,2,19960803,1413,82.8417,92.3167,3248,  2199.4, -0.7955, 34.9230,2, 34.9217,2,  -999.0,9,   300.6,2,   11.02,2,   14.34,2, -999.00,9,    0.98,2,-999.000,9,-999.000,9,-999.000,9,  -999.0,9,  -999.0,9,-999.0000,9,  -999.00, -0.8993
06AQ19960712,ARKXII,39,1,7,166226,2,19960803,1413,82.8417,92.3167,3248,  2399.8, -0.7984, 34.9253,2, 34.9258,2,  -999.0,9,   300.4,2,   11.12,2,   14.34,2, -999.00,9,    0.97,2,-999.000,9,-999.000,9,-999.000,9,  -999.0,9,  -999.0,9,-999.0000,9,  -999.00, -0.9162
06AQ19960712,ARKXII,39,1,6,166225,2,19960803,1413,82.8417,92.3167,3248,  2600.6, -0.7930, 34.9286,2, 34.9280,2,  -999.0,9,   300.5,2,   11.12,2,   14.34,2, -999.00,9,    0.98,2,-999.000,9,   0.150,2,   0.802,2,  -999.0,9,  -999.0,9,-999.0000,9,  -999.00, -0.9250
06AQ19960712,ARKXII,39,1,5,166224,2,19960803,1413,82.8417,92.3167,3248,  2800.1, -0.7835, 34.9323,2, 34.9318,2,  -999.0,9,   299.6,2,   11.32,2,   14.44,2, -999.00,9,    1.00,2,-999.000,9,-999.000,9,-999.000,9,  -999.0,9,  -999.0,9,-999.0000,9,  -999.00, -0.9313
06AQ19960712,ARKXII,39,1,4,166223,2,19960803,1413,82.8417,92.3167,3248,  3000.2, -0.7720, 34.9353,2, 34.9355,2,  -999.0,9,   299.3,2,   11.32,2,   14.63,2, -999.00,9,    0.98,2,-999.000,9,   0.089,2,   0.478,2,  -999.0,9,  -999.0,9,-999.0000,9,  -999.00, -0.9354
06AQ19960712,ARKXII,39,1,3,166222,2,19960803,1413,82.8417,92.3167,3248,  3200.3, -0.7473, 34.9417,2, 34.9422,2,  -999.0,9,   296.2,2,   11.80,2,   14.63,2, -999.00,9,    0.98,2,-999.000,9,-999.000,9,-999.000,9,  -999.0,9,  -999.0,9,-999.0000,9,  -999.00, -0.9285
06AQ19960712,ARKXII,39,1,2,166221,2,19960803,1413,82.8417,92.3167,3248,  3227.6, -0.7452, 34.9404,2, 34.9416,2,  -999.0,9,   296.2,2,   11.80,2,   14.73,2, -999.00,9,    0.97,2,   0.158,2,   0.050,2,   0.285,2,  -999.0,9,  -999.0,9,-999.0000,9,  -999.00, -0.9289
06AQ19960712,ARKXII,39,1,1,166220,2,19960803,1413,82.8417,92.3167,3248,  3247.5, -0.7433, 34.9411,2, 34.9410,2,  -999.0,9,   296.2,2,   11.80,2,   14.73,2, -999.00,9,    0.98,2,-999.000,9,-999.000,9,-999.000,9,  -999.0,9,  -999.0,9,-999.0000,9,  -999.00, -0.9286
06AQ19960712,ARKXII,40,1,33,166284,2,19960804,0035,83.1983,94.0350,3456,     9.5, -1.7912, 34.0664,2, 34.0661,2,  -999.0,9,  -999.0,9,    2.44,2,    6.63,2, -999.00,9,    0.55,2,-999.000,9,-999.000,9,-999.000,9,  2089.4,2,  -999.0,9,   7.7646,2,    25.00, -1.7902
06AQ19960712,ARKXII,40,1,32,166283,2,19960804,0035,83.1983,94.0350,3456,    19.9, -1.8019, 34.1090,2, 34.1089,2,  -999.0,9,   352.1,2,    2.54,2,    6.93,2, -999.00,9,    0.56,2,-999.000,9,-999.000,9,-999.000,9,  -999.0,9,  -999.0,9,-999.0000,9,  -999.00, -1.7994
06AQ19960712,ARKXII,40,1,31,166282,2,19960804,0035,83.1983,94.0350,3456,    29.4, -1.8058, 34.1093,2, 34.1101,2,  -999.0,9,   351.9,2,    2.44,2,    6.93,2, -999.00,9,    0.55,2,   6.259,2,   3.065,2,   6.772,2,  2093.8,2,  -999.0,9,   7.7626,2,    25.00, -1.8026
06AQ19960712,ARKXII,40,1,30,166281,2,19960804,0035,83.1983,94.0350,3456,    39.4, -1.8131, 34.1110,2, 34.1162,2,  -999.0,9,   351.7,2,    2.44,2,    6.83,2, -999.00,9,    0.55,2,-999.000,9,-999.000,9,-999.000,9,  2091.1,2,  -999.0,9,   7.7617,2,    25.00, -1.8108
06AQ19960712,ARKXII,40,1,29,166280,2,19960804,0035,83.1983,94.0350,3456,    59.4, -1.8209, 34.1226,2, 34.1225,2,  -999.0,9,   351.8,2,    2.44,2,    6.73,2, -999.00,9,    0.55,2,   6.400,2,   3.007,2,   6.651,2,  2094.5,2,  -999.0,9,   7.7539,2,    25.00, -1.8191
06AQ19960712,ARKXII,40,1,28,166279,2,19960804,0035,83.1983,94.0350,3456,    79.1, -1.8335, 34.1760,2, 34.1708,2,  -999.0,9,   351.6,2,    2.44,2,    6.63,2, -999.00,9,    0.55,2,-999.000,9,-999.000,9,-999.000,9,  2093.5,2,  -999.0,9,   7.7616,2,    25.00, -1.8315
06AQ19960712,ARKXII,40,1,27,166278,2,19960804,0035,83.1983,94.0350,3456,    98.9, -1.7180, 34.2357,2, 34.2076,2,  -999.0,9,   353.5,2,    2.63,2,    6.83,2, -999.00,9,    0.55,2,   6.254,2,   3.101,2,   6.377,2,  2104.0,2,  -999.0,9,   7.7578,2,    25.00, -1.6751
06AQ19960712,ARKXII,40,1,26,166277,2,19960804,0035,83.1983,94.0350,3456,   105.3, -1.5692, 34.2434,2, 34.2321,2,  -999.0,9,   345.0,2,    3.02,2,    7.32,2, -999.00,9,    0.60,2,-999.000,9,-999.000,9,-999.000,9,  2105.3,2,  -999.0,9,   7.7452,2,    25.00, -1.6053
06AQ19960712,ARKXII,40,1,25,166276,2,19960804,0035,83.1983,94.0350,3456,   149.2,  0.4384, 34.5422,2, 34.5376,2,  -999.0,9,   307.6,2,    4.88,2,    9.95,2, -999.00,9,    0.74,2,   4.369,2,   2.169,2,   4.619,2,  2136.7,2,  -999.0,9,   7.7064,2,    25.00,  0.4540
06AQ19960712,ARKXII,40,1,24,166275,2,19960804,0035,83.1983,94.0350,3456,   199.0,  1.8323, 34.8104,2, 34.8108,2,  -999.0,9,   300.0,2,    5.37,2,   12.00,2, -999.00,9,    0.83,2,-999.000,9,-999.000,9,-999.000,9,  2144.2,2,  -999.0,9,   7.7160,2,    25.00,  1.8235
06AQ19960712,ARKXII,40,1,23,166274,2,19960804,0035,83.1983,94.0350,3456,   248.7,  2.1104, 34.9020,2, 34.9044,2,  -999.0,9,   301.2,2,    5.56,2,   12.39,2, -999.00,9,    0.84,2,   4.400,2,   2.195,2,   5.127,2,  -999.0,9,  -999.0,9,-999.0000,9,  -999.00,  2.0882
06AQ19960712,ARKXII,40,1,22,166273,2,19960804,0035,83.1983,94.0350,3456,   269.5,  2.1729, 34.9253,2, 34.9245,2,  -999.0,9,   301.5,2,    5.66,2,   12.39,2, -999.00,9,    0.84,2,   4.602,2,   2.191,2,   4.989,2,  2145.2,2,  -999.0,9,   7.7237,2,    25.00,  2.1618
06AQ19960712,ARKXII,40,1,21,166272,2,19960804,0035,83.1983,94.0350,3456,   298.9,  2.0289, 34.9213,2, 34.9182,2,  -999.0,9,   301.4,2,    5.76,2,   12.39,2, -999.00,9,    0.84,2,   4.638,2,   2.088,2,   4.725,2,  2150.8,2,  -999.0,9,   7.7198,2,    25.00,  2.0174
06AQ19960712,ARKXII,40,1,20,166271,2,19960804,0035,83.1983,94.0350,3456,   399.1,  1.5603, 34.9262,2, 34.9231,2,  -999.0,9,   302.1,2,    6.05,2,   12.68,2, -999.00,9,    0.85,2,   3.983,2,   1.839,2,   4.884,2,  -999.0,9,  -999.0,9,-999.0000,9,  -999.00,  1.5451
06AQ19960712,ARKXII,40,1,19,166270,2,19960804,0035,83.1983,94.0350,3456,   499.1,  1.1840, 34.9266,2, 34.9247,2,  -999.0,9,   301.9,2,    6.24,2,   12.88,2, -999.00,9,    0.87,2,-999.000,9,-999.000,9,-999.000,9,  2153.5,2,  -999.0,9,   7.7073,2,    25.00,  1.1759
06AQ19960712,ARKXII,40,1,18,166269,2,19960804,0035,83.1983,94.0350,3456,   598.9,  0.7345, 34.9162,2, 34.9147,2,  -999.0,9,   302.3,2,    6.63,2,   12.98,2, -999.00,9,    0.87,2,   2.955,2,   1.419,2,   4.271,2,  -999.0,9,  -999.0,9,-999.0000,9,  -999.00,  0.7127
06AQ19960712,ARKXII,40,1,17,166268,2,19960804,0035,83.1983,94.0350,3456,   699.0,  0.2650, 34.9013,2, 34.8998,2,  -999.0,9,   303.7,2,    6.73,2,   12.88,2, -999.00,9,    0.87,2,   2.518,2,   1.183,2,   3.873,2,  2156.7,2,  -999.0,9,   7.6957,2,    25.00,  0.2430
06AQ19960712,ARKXII,40,1,16,166267,2,19960804,0035,83.1983,94.0350,3456,   798.9,  0.0555, 34.9039,2, 34.9033,2,  -999.0,9,   303.5,2,    7.22,2,   13.27,2, -999.00,9,    0.89,2,   2.568,2,   1.122,2,   3.887,2,  -999.0,9,  -999.0,9,-999.0000,9,  -999.00,  0.0253
06AQ19960712,ARKXII,40,1,15,166266,2,19960804,0035,83.1983,94.0350,3456,   999.3, -0.2698, 34.9101,2, 34.9098,2,  -999.0,9,   302.8,2,    8.10,2,   13.56,2, -999.00,9,    0.92,2,   1.625,2,   0.767,2,   2.875,2,  2159.6,2,  -999.0,9,   7.6938,2,    25.00, -0.3065
06AQ19960712,ARKXII,40,1,14,166265,2,19960804,0035,83.1983,94.0350,3456,  1198.7, -0.4734, 34.9153,2, 34.9142,2,  -999.0,9,   301.8,2,    9.17,2,   13.95,2, -999.00,9,    0.95,2,   1.084,2,   0.449,2,   2.184,2,  -999.0,9,  -999.0,9,-999.0000,9,  -999.00, -0.5201
06AQ19960712,ARKXII,40,1,13,166264,2,19960804,0035,83.1983,94.0350,3456,  1397.9, -0.6029, 34.9181,2, 34.9183,2,  -999.0,9,   301.3,2,    9.76,2,   14.15,2, -999.00,9,    0.97,2,-999.000,9,   0.298,2,   1.845,2,  -999.0,9,  -999.0,9,-999.0000,9,  -999.00, -0.6586
06AQ19960712,ARKXII,40,1,12,166263,2,19960804,0035,83.1983,94.0350,3456,  1599.9, -0.6895, 34.9194,2, 34.9189,2,  -999.0,9,   300.1,2,   10.34,2,   14.44,2, -999.00,9,    0.98,2,   0.630,2,   0.297,2,   1.534,2,  2160.8,2,  -999.0,9,   7.6928,2,    25.00, -0.7571
06AQ19960712,ARKXII,40,1,11,166262,2,19960804,0035,83.1983,94.0350,3456,  1799.9, -0.7445, 34.9210,2, 34.9201,2,  -999.0,9,   300.7,2,   10.54,2,   14.54,2, -999.00,9,    0.98,2,   0.610,2,   0.220,2,   1.265,2,  -999.0,9,  -999.0,9,-999.0000,9,  -999.00, -0.8223
06AQ19960712,ARKXII,40,1,10,166261,2,19960804,0035,83.1983,94.0350,3456,  1999.5, -0.7766, 34.9228,2, 34.9229,2,  -999.0,9,   300.7,2,   10.63,2,   14.54,2, -999.00,9,    0.97,2,   0.449,2,   0.137,2,   0.956,2,  -999.0,9,  -999.0,9,-999.0000,9,  -999.00, -0.8675
06AQ19960712,ARKXII,40,1,9,166260,2,19960804,0035,83.1983,94.0350,3456,  2199.7, -0.7926, 34.9253,2, 34.9252,2,  -999.0,9,   301.1,2,   10.83,2,   14.54,2, -999.00,9,    0.97,2,   0.264,2,   0.115,2,   0.818,2,  2155.1,2,  -999.0,9,   7.7005,2,    25.00, -0.8964
06AQ19960712,ARKXII,40,1,8,166259,2,19960804,0035,83.1983,94.0350,3456,  2399.3, -0.8005, 34.9267,2, 34.9278,2,  -999.0,9,   300.9,2,   11.02,2,   14.63,2, -999.00,9,    1.00,2,   0.292,2,   0.111,2,   0.673,2,  -999.0,9,  -999.0,9,-999.0000,9,  -999.00, -0.9192
06AQ19960712,ARKXII,40,1,7,166258,2,19960804,0035,83.1983,94.0350,3456,  2598.8, -0.8000, 34.9303,2, 34.9308,2,  -999.0,9,   300.5,2,   11.02,2,   14.63,2, -999.00,9,    0.99,2,   0.137,2,   0.087,2,   0.585,2,  -999.0,9,  -999.0,9,-999.0000,9,  -999.00, -0.9327
06AQ19960712,ARKXII,40,1,6,166257,2,19960804,0035,83.1983,94.0350,3456,  2799.3, -0.7934, 34.9334,2, 34.9325,2,  -999.0,9,   300.4,2,   11.02,2,   14.63,2, -999.00,9,    1.00,2,   0.237,2,   0.110,2,   0.451,2,  -999.0,9,  -999.0,9,-999.0000,9,  -999.00, -0.9411
06AQ19960712,ARKXII,40,1,5,166256,2,19960804,0035,83.1983,94.0350,3456,  2999.1, -0.7824, 34.9375,2, 34.9365,2,  -999.0,9,   299.7,2,   11.22,2,   14.63,2, -999.00,9,    0.99,2,   0.117,2,   0.067,2,   0.312,2,  2157.7,2,  -999.0,9,   7.7072,2,    25.00, -0.9462
06AQ19960712,ARKXII,40,1,4,166255,2,19960804,0035,83.1983,94.0350,3456,  3198.4, -0.7575, 34.9414,2, 34.9414,2,  -999.0,9,   297.6,2,   11.32,2,   14.63,2, -999.00,9,    0.98,2,   0.100,2,   0.064,2,   0.222,2,  -999.0,9,  -999.0,9,-999.0000,9,  -999.00, -0.9381
06AQ19960712,ARKXII,40,1,3,166254,2,19960804,0035,83.1983,94.0350,3456,  3398.7, -0.7379, 34.9420,2, 34.9416,2,  -999.0,9,   297.8,2,   11.41,2,   14.54,2, -999.00,9,    0.98,2,-999.000,9,   0.086,2,   0.237,2,  2155.3,2,  -999.0,9,   7.7101,2,    25.00, -0.9358
06AQ19960712,ARKXII,40,1,2,166253,2,19960804,0035,83.1983,94.0350,3456,  3450.3, -0.7341, 34.9420,2, 34.9418,2,  -999.0,9,   298.2,2,   11.32,2,   14.54,2, -999.00,9,    0.98,2,   0.144,2,   0.080,2,   0.273,2,  2155.8,2,  -999.0,9,   7.7121,2,    25.00, -0.9374
06AQ19960712,ARKXII,40,1,1,166252,2,19960804,0035,83.1983,94.0350,3456,  3462.1, -0.7326, 34.9412,2, 34.9424,2,  -999.0,9,   298.1,2,   11.41,2,   14.54,2, -999.00,9,    0.95,2,   0.162,2,   0.053,2,   0.298,2,  2154.8,2,  -999.0,9,   7.7140,2,    25.00, -0.9365