BOTTLE,20100322CCHDOSIODM
EXPOCODE,SECT_ID,STNNBR,CASTNO,SAMPNO,BTLNBR,BTLNBR_FLAG_W,DATE,TIME,LATITUDE,LONGITUDE,DEPTH,CTDPRS,CTDTMP,CTDSAL,CTDSAL_FLAG_W,SALNTY,SALNTY_FLAG_W,CTDOXY,CTDOXY_FLAG_W,OXYGEN,OXYGEN_FLAG_W,SILCAT,SILCAT_FLAG_W,NITRAT,NITRAT_FLAG_W,NITRIT,NITRIT_FLAG_W,PHSPHT,PHSPHT_FLAG_W,CFC-11,CFC-11_FLAG_W,CFC-12,CFC-12_FLAG_W,CCL4,CCL4_FLAG_W,TCARBN,TCARBN_FLAG_W,ALKALI,ALKALI_FLAG_W,PH_SWS,PH_SWS_FLAG_W,PH_TMP,THETA
,,,,,,,,,,,METERS,DBAR,ITS-90,PSS-78,,PSS-78,,UMOL/KG,,UMOL/KG,,UMOL/KG,,UMOL/KG,,UMOL/KG,,UMOL/KG,,PMOL/KG,,PMOL/KG,,PMOL/KG,,UMOL/KG,,UMOL/KG,,,,DEG C,DEG C
06AQ19960712,ARKXII,56,2,36,166979,2,19960810,0001,86.1517,125.9467,4384,   249.6,  1.5815, 34.8806,2, 34.8804,2,  -999.0,9,   302.7,2,    5.66,2,   11.90,2, -999.00,9,    0.79,2,-999.000,9,-999.000,9,-999.000,9,  2155.8,2,  2295.4,2,   7.7121,2,    25.00,  1.5732
06AQ19960712,ARKXII,56,2,34,166977,2,19960810,0001,86.1517,125.9467,4384,   299.6,  1.3027, 34.8688,2, 34.8729,2,  -999.0,9,   302.3,2,    5.56,2,   11.71,2, -999.00,9,    0.79,2,-999.000,9,-999.000,9,-999.000,9,  -999.0,9,  -999.0,9,-999.0000,9,  -999.00,  1.2922
06AQ19960712,ARKXII,56,2,35,166978,2,19960810,0001,86.1517,125.9467,4384,   299.7,  1.3020, 34.8688,2,-999.0000,9,  -999.0,9,  -999.0,9, -999.00,9, -999.00,9, -999.00,9, -999.00,9,-999.000,9,-999.000,9,-999.000,9,  -999.0,9,  -999.0,9,-999.0000,9,  -999.00,-999.0000
06AQ19960712,ARKXII,56,2,33,166976,2,19960810,0001,86.1517,125.9467,4384,   400.4,  1.0935, 34.8906,2, 34.8900,2,  -999.0,9,   302.7,2,    5.85,2,   11.90,2, -999.00,9,    0.80,2,-999.000,9,-999.000,9,-999.000,9,  2162.5,2,  2294.1,2,   7.7092,2,    25.00,  1.0786
06AQ19960712,ARKXII,56,2,31,166974,2,19960810,0001,86.1517,125.9467,4384,   500.4,  0.7541, 34.8920,2, 34.8922,2,  -999.0,9,   303.4,2,    6.05,2,   11.80,2, -999.00,9,    0.81,2,   3.391,2,   1.578,2,   4.723,2,  -999.0,9,  -999.0,9,-999.0000,9,  -999.00,  0.7348
06AQ19960712,ARKXII,56,2,32,166975,2,19960810,0001,86.1517,125.9467,4384,   500.6,  0.7559, 34.8919,2,-999.0000,9,  -999.0,9,  -999.0,9, -999.00,9, -999.00,9, -999.00,9, -999.00,9,-999.000,9,-999.000,9,-999.000,9,  -999.0,9,  -999.0,9,-999.0000,9,  -999.00,-999.0000
06AQ19960712,ARKXII,56,2,30,166973,2,19960810,0001,86.1517,125.9467,4384,   599.9,  0.3744, 34.8827,2, 34.8819,2,  -999.0,9,   306.2,2,    6.15,2,   11.80,2, -999.00,9,    0.82,2,   3.766,2,   1.765,2,   5.020,2,  2144.8,2,  2294.7,2,   7.6928,2,    25.00,  0.3515
06AQ19960712,ARKXII,56,2,29,166972,2,19960810,0001,86.1517,125.9467,4384,   699.8,  0.0980, 34.8791,2, 34.8800,2,  -999.0,9,   307.1,2,    6.24,2,   11.90,2, -999.00,9,    0.83,2,   3.847,2,   1.763,2,   5.028,2,  -999.0,9,  -999.0,9,-999.0000,9,  -999.00,  0.0721
06AQ19960712,ARKXII,56,2,28,166971,2,19960810,0001,86.1517,125.9467,4384,   749.6, -0.0044, 34.8788,2,-999.0000,9,  -999.0,9,  -999.0,9, -999.00,9, -999.00,9, -999.00,9, -999.00,9,-999.000,9,-999.000,9,-999.000,9,  -999.0,9,  -999.0,9,-999.0000,9,  -999.00,-999.0000
06AQ19960712,ARKXII,56,2,27,166970,2,19960810,0001,86.1517,125.9467,4384,   799.8, -0.0631, 34.8824,2, 34.8833,2,  -999.0,9,   306.4,2,    6.63,2,   12.00,2, -999.00,9,    0.84,2,   3.765,2,   1.595,2,   4.819,2,  -999.0,9,  -999.0,9,-999.0000,9,  -999.00, -0.0929
06AQ19960712,ARKXII,56,2,25,166968,2,19960810,0001,86.1517,125.9467,4384,   999.1, -0.2572, 34.8965,2, 34.8973,2,  -999.0,9,   305.4,2,    7.32,2,   12.39,2, -999.00,9,    0.87,2,   2.742,2,   1.267,2,   4.019,2,  2170.2,2,  2296.1,2,   7.6861,2,    25.00, -0.2965
06AQ19960712,ARKXII,56,2,26,166969,2,19960810,0001,86.1517,125.9467,4384,   999.5, -0.2575, 34.8965,2,-999.0000,9,  -999.0,9,  -999.0,9, -999.00,9, -999.00,9, -999.00,9, -999.00,9,-999.000,9,-999.000,9,-999.000,9,  -999.0,9,  -999.0,9,-999.0000,9,  -999.00,-999.0000
06AQ19960712,ARKXII,56,2,24,166967,2,19960810,0001,86.1517,125.9467,4384,  1200.3, -0.4082, 34.9097,2, 34.9092,2,  -999.0,9,   303.8,2,    8.10,2,   12.98,2, -999.00,9,    0.89,2,-999.000,9,-999.000,9,-999.000,9,  -999.0,9,  -999.0,9,-999.0000,9,  -999.00, -0.4558
06AQ19960712,ARKXII,56,2,23,166966,2,19960810,0001,86.1517,125.9467,4384,  1399.6, -0.5253, 34.9162,2,-999.0000,9,  -999.0,9,  -999.0,9, -999.00,9, -999.00,9, -999.00,9, -999.00,9,-999.000,9,-999.000,9,-999.000,9,  -999.0,9,  -999.0,9,-999.0000,9,  -999.00,-999.0000
06AQ19960712,ARKXII,56,2,22,166965,2,19960810,0001,86.1517,125.9467,4384,  1499.9, -0.5701, 34.9178,2,-999.0000,9,  -999.0,9,  -999.0,9, -999.00,9, -999.00,9, -999.00,9, -999.00,9,-999.000,9,-999.000,9,-999.000,9,  -999.0,9,  -999.0,9,-999.0000,9,  -999.00,-999.0000
06AQ19960712,ARKXII,56,2,21,166964,2,19960810,0001,86.1517,125.9467,4384,  1599.8, -0.6068, 34.9196,2, 34.9196,2,  -999.0,9,   301.1,2,    9.66,2,   13.66,2, -999.00,9,    0.93,2,-999.000,9,-999.000,9,-999.000,9,  -999.0,9,  -999.0,9,-999.0000,9,  -999.00, -0.6751
06AQ19960712,ARKXII,56,2,20,166963,2,19960810,0001,86.1517,125.9467,4384,  1798.8, -0.6674, 34.9215,2, 34.9224,2,  -999.0,9,   300.3,2,   10.15,2,   13.85,2, -999.00,9,    0.94,2,-999.000,9,-999.000,9,-999.000,9,  2170.5,2,  2297.4,2,   7.6919,2,    25.00, -0.7474
06AQ19960712,ARKXII,56,2,18,166961,2,19960810,0001,86.1517,125.9467,4384,  1999.6, -0.7224, 34.9217,2, 34.9222,2,  -999.0,9,   300.3,2,   10.34,2,   13.95,2, -999.00,9,    0.95,2,-999.000,9,-999.000,9,-999.000,9,  -999.0,9,  -999.0,9,-999.0000,9,  -999.00, -0.8143
06AQ19960712,ARKXII,56,2,19,166962,2,19960810,0001,86.1517,125.9467,4384,  2000.0, -0.7226, 34.9218,2,-999.0000,9,  -999.0,9,  -999.0,9, -999.00,9, -999.00,9, -999.00,9, -999.00,9,-999.000,9,-999.000,9,-999.000,9,  -999.0,9,  -999.0,9,-999.0000,9,  -999.00,-999.0000
06AQ19960712,ARKXII,56,2,17,166960,2,19960810,0001,86.1517,125.9467,4384,  2199.9, -0.7539, 34.9231,2, 34.9218,2,  -999.0,9,   300.4,2,   10.54,2,   13.95,2, -999.00,9,    0.96,2,-999.000,9,-999.000,9,-999.000,9,  -999.0,9,  -999.0,9,-999.0000,9,  -999.00, -0.8581
06AQ19960712,ARKXII,56,2,16,166959,2,19960810,0001,86.1517,125.9467,4384,  2399.9, -0.7729, 34.9247,2, 34.9259,2,  -999.0,9,   300.3,2,   10.83,2,   13.95,2, -999.00,9,    0.95,2,-999.000,9,-999.000,9,-999.000,9,  -999.0,9,  -999.0,9,-999.0000,9,  -999.00, -0.8907
06AQ19960712,ARKXII,56,2,15,166958,2,19960810,0001,86.1517,125.9467,4384,  2500.0, -0.7776, 34.9263,2,-999.0000,9,  -999.0,9,  -999.0,9, -999.00,9, -999.00,9, -999.00,9, -999.00,9,-999.000,9,-999.000,9,-999.000,9,  -999.0,9,  -999.0,9,-999.0000,9,  -999.00,-999.0000
06AQ19960712,ARKXII,56,2,14,166957,2,19960810,0001,86.1517,125.9467,4384,  2600.5, -0.7815, 34.9280,2, 34.9267,2,  -999.0,9,   300.0,2,   10.93,2,   13.95,2, -999.00,9,    0.95,2,-999.000,9,-999.000,9,-999.000,9,  2169.0,2,  2292.8,2,   7.6967,2,    25.00, -0.9142
06AQ19960712,ARKXII,56,2,13,166956,2,19960810,0001,86.1517,125.9467,4384,  2799.1, -0.7827, 34.9306,2, 34.9287,2,  -999.0,9,   299.6,2,   11.02,2,   13.85,2, -999.00,9,    0.95,2,-999.000,9,-999.000,9,-999.000,9,  -999.0,9,  -999.0,9,-999.0000,9,  -999.00, -0.9302
06AQ19960712,ARKXII,56,2,12,166955,2,19960810,0001,86.1517,125.9467,4384,  3000.3, -0.7776, 34.9323,2, 34.9324,2,  -999.0,9,   299.8,2,   11.02,2,   13.85,2, -999.00,9,    0.94,2,-999.000,9,-999.000,9,-999.000,9,  -999.0,9,  -999.0,9,-999.0000,9,  -999.00, -0.9412
06AQ19960712,ARKXII,56,2,10,166953,2,19960810,0001,86.1517,125.9467,4384,  3199.8, -0.7669, 34.9352,2, 34.9358,2,  -999.0,9,   299.1,2,   11.02,2,   13.76,2, -999.00,9,    0.95,2,-999.000,9,-999.000,9,-999.000,9,  -999.0,9,  -999.0,9,-999.0000,9,  -999.00, -0.9470
06AQ19960712,ARKXII,56,2,11,166954,2,19960810,0001,86.1517,125.9467,4384,  3199.9, -0.7668, 34.9351,2,-999.0000,9,  -999.0,9,  -999.0,9, -999.00,9, -999.00,9, -999.00,9, -999.00,9,-999.000,9,-999.000,9,-999.000,9,  -999.0,9,  -999.0,9,-999.0000,9,  -999.00,-999.0000
06AQ19960712,ARKXII,56,2,9,166952,2,19960810,0001,86.1517,125.9467,4384,  3399.5, -0.7546, 34.9369,2, 34.9375,2,  -999.0,9,   298.6,2,   11.02,2,   13.66,2, -999.00,9,    0.95,2,-999.000,9,-999.000,9,-999.000,9,  2164.5,2,  2296.1,2,   7.7025,2,    25.00, -0.9524
06AQ19960712,ARKXII,56,2,8,166951,2,19960810,0001,86.1517,125.9467,4384,  3600.1, -0.7386, 34.9385,2, 34.9391,2,  -999.0,9,   298.5,2,   11.02,2,   13.76,2, -999.00,9,    0.96,2,-999.000,9,-999.000,9,-999.000,9,  -999.0,9,  -999.0,9,-999.0000,9,  -999.00, -0.9545
06AQ19960712,ARKXII,56,2,7,166950,2,19960810,0001,86.1517,125.9467,4384,  3800.2, -0.7148, 34.9410,2, 34.9418,2,  -999.0,9,   297.8,2,   11.12,2,   13.56,2, -999.00,9,    0.96,2,-999.000,9,-999.000,9,-999.000,9,  -999.0,9,  -999.0,9,-999.0000,9,  -999.00, -0.9495
06AQ19960712,ARKXII,56,2,6,166949,2,19960810,0001,86.1517,125.9467,4384,  3999.8, -0.6939, 34.9418,2, 34.9413,2,  -999.0,9,   298.2,2,   11.12,2,   13.56,2, -999.00,9,    0.96,2,-999.000,9,-999.000,9,-999.000,9,  -999.0,9,  -999.0,9,-999.0000,9,  -999.00, -0.9480
06AQ19960712,ARKXII,56,2,5,166948,2,19960810,0001,86.1517,125.9467,4384,  4200.4, -0.6733, 34.9415,2, 34.9415,2,  -999.0,9,   297.8,2,   11.22,2,   13.46,2, -999.00,9,    0.96,2,-999.000,9,-999.000,9,-999.000,9,  -999.0,9,  -999.0,9,-999.0000,9,  -999.00, -0.9481
06AQ19960712,ARKXII,56,2,4,166947,2,19960810,0001,86.1517,125.9467,4384,  4307.7, -0.6621, 34.9413,2, 34.9420,2,  -999.0,9,   297.8,2,   11.12,2,   13.46,2, -999.00,9,    0.96,2,-999.000,9,-999.000,9,-999.000,9,  2162.7,2,  2300.7,2,   7.7034,2,    25.00, -0.9473
06AQ19960712,ARKXII,56,2,3,166946,2,19960810,0001,86.1517,125.9467,4384,  4358.4, -0.6569, 34.9420,2, 34.9426,2,  -999.0,9,   298.0,2,   11.22,2,   13.46,2, -999.00,9,    0.95,2,-999.000,9,-999.000,9,-999.000,9,  2170.8,3,  2305.0,2,   7.7073,2,    25.00, -0.9475
06AQ19960712,ARKXII,56,2,1,166944,2,19960810,0001,86.1517,125.9467,4384,  4410.8, -0.6514, 34.9415,2, 34.9432,2,  -999.0,9,   297.9,2,   11.12,2,   13.46,2, -999.00,9,    0.97,2,-999.000,9,-999.000,9,-999.000,9,  2165.0,2,  2300.3,2,   7.7063,2,    25.00, -0.9481
06AQ19960712,ARKXII,56,2,2,166945,2,19960810,0001,86.1517,125.9467,4384,  4411.0, -0.6511, 34.9410,2,-999.0000,9,  -999.0,9,  -999.0,9, -999.00,9, -999.00,9, -999.00,9, -999.00,9,-999.000,9,-999.000,9,-999.000,9,  -999.0,9,  -999.0,9,-999.0000,9,  -999.00,-999.0000
06AQ19960712,ARKXII,57,1,36,167015,2,19960810,0520,86.2967,130.6250,4339,     9.9, -1.3560, 32.9559,2, 33.3776,2,  -999.0,9,   377.6,2, -999.00,9, -999.00,9, -999.00,9, -999.00,9,   7.003,2,   3.364,2,   7.347,2,  2094.7,2,  2250.0,2,   7.7483,2,    25.00, -1.3532
06AQ19960712,ARKXII,57,1,35,167014,2,19960810,0520,86.2967,130.6250,4339,    20.3, -1.8220, 33.8296,2, 33.8257,2,  -999.0,9,   377.9,2,    2.34,2,    4.29,2, -999.00,9,    0.42,2,   6.884,2,   3.212,2,   6.485,2,  -999.0,9,  -999.0,9,-999.0000,9,  -999.00, -1.8194
06AQ19960712,ARKXII,57,1,34,167013,2,19960810,0520,86.2967,130.6250,4339,    30.2, -1.8144, 33.9198,2, 33.9224,2,  -999.0,9,   372.9,2,    2.44,2, -999.00,9, -999.00,9,    0.45,2,-999.000,9,-999.000,9,-999.000,9,  2106.7,2,  2267.7,2,   7.7491,2,    25.00, -1.8115
06AQ19960712,ARKXII,57,1,33,167012,2,19960810,0520,86.2967,130.6250,4339,    40.0, -1.8269, 33.9465,2, 33.9574,2,  -999.0,9,   370.0,2,    2.54,2,    4.88,2, -999.00,9,    0.44,2,   6.537,2,   3.139,2,   5.842,2,  -999.0,9,  -999.0,9,-999.0000,9,  -999.00, -1.8247
06AQ19960712,ARKXII,57,1,32,167011,2,19960810,0520,86.2967,130.6250,4339,    60.2, -1.8318, 34.0133,2, 34.0318,2,  -999.0,9,   360.9,2,    2.73,2,    5.37,2, -999.00,9,    0.48,2,   6.359,2,   2.988,2,   5.458,2,  2115.0,2,  2270.3,2,   7.7356,2,    25.00, -1.8301
06AQ19960712,ARKXII,57,1,31,167010,2,19960810,0520,86.2967,130.6250,4339,    79.8, -1.8487, 34.0680,2, 34.0846,2,  -999.0,9,   365.5,2,    2.63,2,    5.27,2, -999.00,9,    0.46,2,-999.000,9,-999.000,9,-999.000,9,  2112.9,2,  2273.4,2,   7.7433,2,    25.00, -1.8465
06AQ19960712,ARKXII,57,1,30,167009,2,19960810,0520,86.2967,130.6250,4339,   100.3, -1.8412, 34.1541,2, 34.1791,2,  -999.0,9,   358.8,2,    2.83,2,    5.85,2, -999.00,9,    0.49,2,   6.396,2,   2.828,2,   5.426,2,  2115.3,2,  2276.1,2,   7.7423,2,    25.00, -1.8399
06AQ19960712,ARKXII,57,1,29,167008,2,19960810,0520,86.2967,130.6250,4339,   149.8, -0.6403, 34.3831,2, 34.4020,2,  -999.0,9,   311.6,2,    4.98,2,    9.27,2, -999.00,9, -999.00,9,   5.020,2,   2.341,2,   4.521,2,  2133.9,2,  2272.4,2,   7.6940,2,    25.00, -0.6416
06AQ19960712,ARKXII,57,1,28,167007,2,19960810,0520,86.2967,130.6250,4339,   199.9,  1.2919, 34.7658,2, 34.7660,2,  -999.0,9,   301.1,2,    5.27,2,   10.93,2, -999.00,9,    0.79,2,-999.000,9,-999.000,9,-999.000,9,  -999.0,9,  -999.0,9,-999.0000,9,  -999.00,  1.2864
06AQ19960712,ARKXII,57,1,27,167006,2,19960810,0520,86.2967,130.6250,4339,   269.6,  1.6567, 34.8754,2, 34.8771,2,  -999.0,9,   303.0,2,    5.46,2,   11.41,2, -999.00,9,    0.80,2,   4.743,2,   2.184,2,   5.181,2,  2140.5,2,  2290.8,2,   7.7160,2,    25.00,  1.6470
06AQ19960712,ARKXII,57,1,26,167005,2,19960810,0520,86.2967,130.6250,4339,   300.7,  1.4948, 34.8767,2, 34.8757,2,  -999.0,9,   302.1,2,    5.56,2,   11.51,2, -999.00,9,    0.81,2,   4.357,2,   1.959,2,   4.940,2,  -999.0,9,  -999.0,9,-999.0000,9,  -999.00,  1.4837
06AQ19960712,ARKXII,57,1,25,167004,2,19960810,0520,86.2967,130.6250,4339,   400.5,  1.1628, 34.8899,2, 34.8895,2,  -999.0,9,   302.8,2,    5.76,2,   11.80,2, -999.00,9,    0.80,2,-999.000,9,-999.000,9,-999.000,9,  2145.1,2,  2290.2,2,   7.7092,2,    25.00,  1.1474
06AQ19960712,ARKXII,57,1,24,167003,2,19960810,0520,86.2967,130.6250,4339,   500.5,  0.8026, 34.8882,2, 34.8881,2,  -999.0,9,   303.8,2,    6.05,2,   11.71,2, -999.00,9,    0.82,2,   3.913,2,   1.829,2,   4.978,2,  2146.1,2,  2298.4,2,   7.7015,2,    25.00,  0.7835
06AQ19960712,ARKXII,57,1,23,167002,2,19960810,0520,86.2967,130.6250,4339,   600.1,  0.4021, 34.8780,2,-999.0000,9,  -999.0,9,  -999.0,9, -999.00,9, -999.00,9, -999.00,9, -999.00,9,-999.000,9,-999.000,9,-999.000,9,  -999.0,9,  -999.0,9,-999.0000,9,  -999.00,-999.0000
06AQ19960712,ARKXII,57,1,22,167001,2,19960810,0520,86.2967,130.6250,4339,   700.0,  0.1273, 34.8762,2, 34.8763,2,  -999.0,9,   306.4,2,    6.15,2,   11.61,2, -999.00,9,    0.82,2,   4.138,2,   1.884,2,   5.050,2,  -999.0,9,  -999.0,9,-999.0000,9,  -999.00,  0.1009
06AQ19960712,ARKXII,57,1,21,167000,2,19960810,0520,86.2967,130.6250,4339,   800.1, -0.0431, 34.8779,2, 34.8780,2,  -999.0,9,   306.8,2,    6.34,2,   11.61,2, -999.00,9,    0.82,2,-999.000,9,-999.000,9,-999.000,9,  -999.0,9,  -999.0,9,-999.0000,9,  -999.00, -0.0730
06AQ19960712,ARKXII,57,1,20,166999,2,19960810,0520,86.2967,130.6250,4339,  1000.3, -0.2512, 34.8904,2, 34.8912,2,  -999.0,9,   305.8,2,    7.12,2,   12.00,2, -999.00,9,    0.86,2,   3.270,2,   1.548,2,   4.707,2,  -999.0,9,  -999.0,9,-999.0000,9,  -999.00, -0.2906
06AQ19960712,ARKXII,57,1,19,166998,2,19960810,0520,86.2967,130.6250,4339,  1199.8, -0.3994, 34.9030,2, 34.9026,2,  -999.0,9,   303.9,2,    8.10,2,   12.49,2, -999.00,9,    0.90,2,   2.541,2,   1.094,2,   3.747,2,  -999.0,9,  -999.0,9,-999.0000,9,  -999.00, -0.4478
06AQ19960712,ARKXII,57,1,18,166997,2,19960810,0520,86.2967,130.6250,4339,  1399.9, -0.5245, 34.9128,2, 34.9126,2,  -999.0,9,   301.6,2,    9.07,2,   12.98,2, -999.00,9,    0.91,2,   1.422,2,   0.564,2,   2.590,2,  -999.0,9,  -999.0,9,-999.0000,9,  -999.00, -0.5825
06AQ19960712,ARKXII,57,1,17,166996,2,19960810,0520,86.2967,130.6250,4339,  1600.4, -0.6219, 34.9162,2, 34.9157,2,  -999.0,9,   300.9,2,   10.05,2,   13.27,2, -999.00,9,    0.94,2,-999.000,9,-999.000,9,-999.000,9,  -999.0,9,  -999.0,9,-999.0000,9,  -999.00, -0.6899
06AQ19960712,ARKXII,57,1,16,166995,2,19960810,0520,86.2967,130.6250,4339,  1800.0, -0.6825, 34.9196,2, 34.9190,2,  -999.0,9,   300.1,2,   10.24,2,   13.37,2, -999.00,9,    0.96,2,   0.758,2,   0.269,2,   1.544,2,  2156.4,2,  -999.0,9,   7.6938,2,    25.00, -0.7622
06AQ19960712,ARKXII,57,1,15,166994,2,19960810,0520,86.2967,130.6250,4339,  2000.3, -0.7349, 34.9202,2, 34.9200,2,  -999.0,9,   300.5,2,   10.63,2,   13.37,2, -999.00,9,    0.97,2,   0.433,2,   0.170,2,   1.250,2,  -999.0,9,  -999.0,9,-999.0000,9,  -999.00, -0.8261
06AQ19960712,ARKXII,57,1,14,166993,2,19960810,0520,86.2967,130.6250,4339,  2199.9, -0.7643, 34.9228,2, 34.9218,2,  -999.0,9,   300.4,2,   10.73,2,   13.56,2, -999.00,9,    0.97,2,-999.000,9,   0.113,2,   1.007,2,  -999.0,9,  -999.0,9,-999.0000,9,  -999.00, -0.8689
06AQ19960712,ARKXII,57,1,13,166992,2,19960810,0520,86.2967,130.6250,4339,  2400.1, -0.7804, 34.9248,2, 34.9247,2,  -999.0,9,   300.7,2,   10.93,2,   13.56,2, -999.00,9,    0.97,2,-999.000,9,   0.131,2,   0.824,2,  -999.0,9,  -999.0,9,-999.0000,9,  -999.00, -0.8986
06AQ19960712,ARKXII,57,1,12,166991,2,19960810,0520,86.2967,130.6250,4339,  2600.2, -0.7869, 34.9271,2, 34.9274,2,  -999.0,9,   299.6,2,   11.02,2,   13.66,2, -999.00,9,    0.95,2,-999.000,9,-999.000,9,-999.000,9,  2150.3,2,  2302.2,2,   7.7015,2,    25.00, -0.9190
06AQ19960712,ARKXII,57,1,11,166990,2,19960810,0520,86.2967,130.6250,4339,  2800.6, -0.7843, 34.9304,2, 34.9306,2,  -999.0,9,   299.8,2,   11.12,2,   13.56,2, -999.00,9,    0.97,2,   0.269,2,   0.069,2,   0.563,2,  -999.0,9,  -999.0,9,-999.0000,9,  -999.00, -0.9323
06AQ19960712,ARKXII,57,1,10,166989,2,19960810,0520,86.2967,130.6250,4339,  2999.8, -0.7774, 34.9322,2, 34.9341,2,  -999.0,9,   299.5,2,   11.12,2,   13.66,2, -999.00,9,    0.97,2,-999.000,9,   0.091,2,   0.578,2,  -999.0,9,  -999.0,9,-999.0000,9,  -999.00, -0.9413
06AQ19960712,ARKXII,57,1,9,166988,2,19960810,0520,86.2967,130.6250,4339,  3200.0, -0.7670, 34.9352,2, 34.9349,2,  -999.0,9,   299.3,2,   11.22,2,   13.66,2, -999.00,9,    0.97,2,   0.237,2,   0.076,2,   0.449,2,  -999.0,9,  -999.0,9,-999.0000,9,  -999.00, -0.9470
06AQ19960712,ARKXII,57,1,8,166987,2,19960810,0520,86.2967,130.6250,4339,  3400.1, -0.7540, 34.9361,2, 34.9370,2,  -999.0,9,   299.2,2,   11.22,2,   13.66,2, -999.00,9,    0.97,2,-999.000,9,-999.000,9,-999.000,9,  2154.1,2,  2304.9,2,   7.7073,2,    25.00, -0.9514
06AQ19960712,ARKXII,57,1,7,166986,2,19960810,0520,86.2967,130.6250,4339,  3600.3, -0.7384, 34.9381,2, 34.9394,2,  -999.0,9,   298.9,2,   11.12,2,   13.56,2, -999.00,9,    0.97,2,-999.000,9,   0.068,2,   0.291,2,  -999.0,9,  -999.0,9,-999.0000,9,  -999.00, -0.9545
06AQ19960712,ARKXII,57,1,6,166985,2,19960810,0520,86.2967,130.6250,4339,  3800.8, -0.7131, 34.9404,2, 34.9421,2,  -999.0,9,   298.6,2,   11.22,2,   13.56,2, -999.00,9,    0.96,2,   0.120,2,   0.069,2,   0.372,2,  -999.0,9,  -999.0,9,-999.0000,9,  -999.00, -0.9486
06AQ19960712,ARKXII,57,1,5,166984,2,19960810,0520,86.2967,130.6250,4339,  4000.3, -0.6936, 34.9406,2, 34.9417,2,  -999.0,9,   298.4,2,   11.02,2,   13.56,2, -999.00,9,    0.97,2,-999.000,9,   0.060,2,   0.377,2,  -999.0,9,  -999.0,9,-999.0000,9,  -999.00, -0.9480
06AQ19960712,ARKXII,57,1,4,166983,2,19960810,0520,86.2967,130.6250,4339,  4200.4, -0.6733, 34.9410,2, 34.9413,2,  -999.0,9,   298.3,2,   11.12,2,   13.56,2, -999.00,9,    0.97,2,-999.000,9,   0.059,2,   0.384,2,  -999.0,9,  -999.0,9,-999.0000,9,  -999.00, -0.9481
06AQ19960712,ARKXII,57,1,3,166982,2,19960810,0520,86.2967,130.6250,4339,  4271.5, -0.6660, 34.9406,2, 34.9411,2,  -999.0,9,   298.6,2,   11.22,2,   13.56,2, -999.00,9,    0.98,2,-999.000,9,-999.000,9,-999.000,9,  2152.7,2,  2300.2,2,   7.7054,2,    25.00, -0.9476
06AQ19960712,ARKXII,57,1,2,166981,2,19960810,0520,86.2967,130.6250,4339,  4319.4, -0.6608, 34.9407,2, 34.9417,2,  -999.0,9,   298.3,2,   11.12,2,   13.56,2, -999.00,9,    0.96,2,-999.000,9,   0.057,2,   0.394,2,  2153.4,2,  2299.9,2,   7.7034,2,    25.00, -0.9474
06AQ19960712,ARKXII,57,1,1,166980,2,19960810,0520,86.2967,130.6250,4339,  4373.6, -0.6548, 34.9404,2, 34.9421,2,  -999.0,9,   297.6,2,   11.32,2,   13.37,2, -999.00,9,    0.96,2,   0.121,2,   0.041,2,   0.394,2,  2169.7,3,  2300.7,2,   7.7073,2,    25.00, -0.9472