BOTTLE,20100322CCHDOSIODM
EXPOCODE,SECT_ID,STNNBR,CASTNO,SAMPNO,BTLNBR,BTLNBR_FLAG_W,DATE,TIME,LATITUDE,LONGITUDE,DEPTH,CTDPRS,CTDTMP,CTDSAL,CTDSAL_FLAG_W,SALNTY,SALNTY_FLAG_W,CTDOXY,CTDOXY_FLAG_W,OXYGEN,OXYGEN_FLAG_W,SILCAT,SILCAT_FLAG_W,NITRAT,NITRAT_FLAG_W,NITRIT,NITRIT_FLAG_W,PHSPHT,PHSPHT_FLAG_W,CFC-11,CFC-11_FLAG_W,CFC-12,CFC-12_FLAG_W,CCL4,CCL4_FLAG_W,TCARBN,TCARBN_FLAG_W,ALKALI,ALKALI_FLAG_W,PH_SWS,PH_SWS_FLAG_W,PH_TMP,THETA
,,,,,,,,,,,METERS,DBAR,ITS-90,PSS-78,,PSS-78,,UMOL/KG,,UMOL/KG,,UMOL/KG,,UMOL/KG,,UMOL/KG,,UMOL/KG,,PMOL/KG,,PMOL/KG,,PMOL/KG,,UMOL/KG,,UMOL/KG,,,,DEG C,DEG C
06AQ19960712,ARKXII,73,2,21,167571,2,19960816,1136,83.0050,150.2950,2572,     2.0, -1.6930, 32.6862,2,-999.0000,9,  -999.0,9,  -999.0,9, -999.00,9, -999.00,9, -999.00,9, -999.00,9,-999.000,9,-999.000,9,-999.000,9,  -999.0,9,  -999.0,9,-999.0000,9,  -999.00,-999.0000
06AQ19960712,ARKXII,73,2,20,167570,2,19960816,1136,83.0050,150.2950,2572,    10.4, -1.6982, 32.6862,2,-999.0000,9,  -999.0,9,  -999.0,9, -999.00,9, -999.00,9, -999.00,9, -999.00,9,-999.000,9,-999.000,9,-999.000,9,  -999.0,9,  -999.0,9,-999.0000,9,  -999.00,-999.0000
06AQ19960712,ARKXII,73,2,19,167569,2,19960816,1136,83.0050,150.2950,2572,    10.4, -1.6984, 32.6864,2, 32.6997,2,  -999.0,9,   376.4,2,    3.22,2,    2.83,2, -999.00,9,    0.33,2,   7.331,2,   3.501,2,   8.623,2,  2101.8,2,  2237.1,2,   7.7051,2,    25.00, -1.6992
06AQ19960712,ARKXII,73,2,17,167567,2,19960816,1136,83.0050,150.2950,2572,    20.0, -1.7051, 32.6872,2,-999.0000,9,  -999.0,9,  -999.0,9, -999.00,9, -999.00,9, -999.00,9, -999.00,9,-999.000,9,-999.000,9,-999.000,9,  -999.0,9,  -999.0,9,-999.0000,9,  -999.00,-999.0000
06AQ19960712,ARKXII,73,2,16,167566,2,19960816,1136,83.0050,150.2950,2572,    20.0, -1.7052, 32.6869,2,-999.0000,9,  -999.0,9,  -999.0,9, -999.00,9, -999.00,9, -999.00,9, -999.00,9,-999.000,9,-999.000,9,-999.000,9,  -999.0,9,  -999.0,9,-999.0000,9,  -999.00,-999.0000
06AQ19960712,ARKXII,73,2,15,167565,2,19960816,1136,83.0050,150.2950,2572,    20.0, -1.7048, 32.6930,2, 32.7110,2,  -999.0,9,   376.0,2,    3.32,2,    2.83,2, -999.00,9,    0.33,2,   7.435,2,   3.443,2,   8.392,2,  -999.0,9,  -999.0,9,-999.0000,9,  -999.00, -1.7053
06AQ19960712,ARKXII,73,2,18,167568,2,19960816,1136,83.0050,150.2950,2572,    20.0, -1.7052, 32.6873,2,-999.0000,9,  -999.0,9,  -999.0,9, -999.00,9, -999.00,9, -999.00,9, -999.00,9,-999.000,9,-999.000,9,-999.000,9,  -999.0,9,  -999.0,9,-999.0000,9,  -999.00,-999.0000
06AQ19960712,ARKXII,73,2,14,167564,2,19960816,1136,83.0050,150.2950,2572,    30.7, -1.7020, 32.7218,2,-999.0000,9,  -999.0,9,  -999.0,9, -999.00,9, -999.00,9, -999.00,9, -999.00,9,-999.000,9,-999.000,9,-999.000,9,  -999.0,9,  -999.0,9,-999.0000,9,  -999.00,-999.0000
06AQ19960712,ARKXII,73,2,13,167563,2,19960816,1136,83.0050,150.2950,2572,    30.7, -1.7027, 32.7195,2, 32.7481,2,  -999.0,9,   375.2,2,    3.12,2,    3.02,2, -999.00,9,    0.34,2,   7.270,2,   3.484,2,   8.337,2,  2103.6,2,  2239.9,2,   7.7051,2,    25.00, -1.7035
06AQ19960712,ARKXII,73,2,12,167562,2,19960816,1136,83.0050,150.2950,2572,    39.7, -1.7175, 33.1159,2,-999.0000,9,  -999.0,9,  -999.0,9, -999.00,9, -999.00,9, -999.00,9, -999.00,9,-999.000,9,-999.000,9,-999.000,9,  -999.0,9,  -999.0,9,-999.0000,9,  -999.00,-999.0000
06AQ19960712,ARKXII,73,2,11,167561,2,19960816,1136,83.0050,150.2950,2572,    39.7, -1.7199, 33.1654,2, 33.5545,2,  -999.0,9,   348.6,2,    3.41,2,    5.56,2, -999.00,9,    0.48,2,   6.916,2,   3.186,2,   5.869,2,  -999.0,9,  -999.0,9,-999.0000,9,  -999.00, -1.7207
06AQ19960712,ARKXII,73,2,10,167560,2,19960816,1136,83.0050,150.2950,2572,    50.6, -1.6971, 33.8003,2,-999.0000,9,  -999.0,9,  -999.0,9, -999.00,9, -999.00,9, -999.00,9, -999.00,9,-999.000,9,-999.000,9,-999.000,9,  -999.0,9,  -999.0,9,-999.0000,9,  -999.00,-999.0000
06AQ19960712,ARKXII,73,2,9,167559,2,19960816,1136,83.0050,150.2950,2572,    50.6, -1.6742, 33.8260,2, 33.8391,2,  -999.0,9,   336.4,2,    3.80,2,    6.44,2, -999.00,9,    0.51,2,   6.482,2,   3.110,2,   5.376,2,  -999.0,9,  -999.0,9,-999.0000,9,  -999.00, -1.6760
06AQ19960712,ARKXII,73,2,8,167558,2,19960816,1136,83.0050,150.2950,2572,    60.3, -1.6025, 33.9666,2, 33.9805,2,  -999.0,9,   330.4,2,    3.80,2,    7.12,2, -999.00,9,    0.54,2,   6.341,2,   3.013,2,   5.283,2,  2122.5,2,  2262.5,2,   7.6989,2,    25.00, -1.6042
06AQ19960712,ARKXII,73,2,7,167557,2,19960816,1136,83.0050,150.2950,2572,    80.6, -1.4347, 34.1425,2,-999.0000,9,  -999.0,9,  -999.0,9, -999.00,9, -999.00,9, -999.00,9, -999.00,9,-999.000,9,-999.000,9,-999.000,9,  -999.0,9,  -999.0,9,-999.0000,9,  -999.00,-999.0000
06AQ19960712,ARKXII,73,2,6,167556,2,19960816,1136,83.0050,150.2950,2572,    80.6, -1.3835, 34.1602,2, 34.1515,2,  -999.0,9,   325.2,2,    3.80,2,    7.80,2, -999.00,9,    0.59,2,   6.050,2,   2.845,2,   5.215,2,  2123.9,2,  2265.8,2,   7.7017,2,    25.00, -1.3859
06AQ19960712,ARKXII,73,2,5,167555,2,19960816,1136,83.0050,150.2950,2572,   100.0, -0.9758, 34.2775,2,-999.0000,9,  -999.0,9,  -999.0,9, -999.00,9, -999.00,9, -999.00,9, -999.00,9,-999.000,9,-999.000,9,-999.000,9,  -999.0,9,  -999.0,9,-999.0000,9,  -999.00,-999.0000
06AQ19960712,ARKXII,73,2,4,167554,2,19960816,1136,83.0050,150.2950,2572,   100.0, -0.8842, 34.2989,2, 34.3054,2,  -999.0,9,   314.8,2,    4.29,2,    8.59,2, -999.00,9,    0.64,2,   5.685,2,   2.633,2,   5.062,2,  2130.4,2,  2262.7,2,   7.6911,2,    25.00, -0.8868
06AQ19960712,ARKXII,73,2,3,167553,2,19960816,1136,83.0050,150.2950,2572,   125.1,  0.0112, 34.4802,2, 34.5133,2,  -999.0,9,   306.5,2,    4.78,2,    9.85,2, -999.00,9,    0.70,2,   5.234,2,   2.505,2,   5.109,2,  -999.0,9,  -999.0,9,-999.0000,9,  -999.00,  0.0065
06AQ19960712,ARKXII,73,2,1,167551,2,19960816,1136,83.0050,150.2950,2572,   149.7,  0.8012, 34.6499,2, 34.6266,2,  -999.0,9,   304.1,2,    4.88,2,   10.15,2, -999.00,9,    0.71,2,   4.997,2,   2.423,2,   5.147,2,  2139.1,2,  2272.1,2,   7.6997,2,    25.00,  0.7945
06AQ19960712,ARKXII,73,2,2,167552,2,19960816,1136,83.0050,150.2950,2572,   149.7,  0.7916, 34.6552,2,-999.0000,9,  -999.0,9,  -999.0,9, -999.00,9, -999.00,9, -999.00,9, -999.00,9,-999.000,9,-999.000,9,-999.000,9,  -999.0,9,  -999.0,9,-999.0000,9,  -999.00,-999.0000
06AQ19960712,ARKXII,74,1,27,167598,2,19960816,1717,82.8283,147.6900,2410,    10.2, -1.6879, 32.7021,2, 32.7020,2,  -999.0,9,   375.0,2,    3.41,2,    2.83,2, -999.00,9,    0.32,2,   7.333,2,   3.504,2,   8.091,2,  -999.0,9,  -999.0,9,-999.0000,9,  -999.00, -1.6852
06AQ19960712,ARKXII,74,1,26,167597,2,19960816,1717,82.8283,147.6900,2410,    20.7, -1.6930, 32.7033,2, 32.7031,2,  -999.0,9,   375.0,2,    3.51,2,    2.83,2, -999.00,9,    0.33,2,   7.455,2,   3.501,2,   7.940,2,  -999.0,9,  -999.0,9,-999.0000,9,  -999.00, -1.6904
06AQ19960712,ARKXII,74,1,25,167596,2,19960816,1717,82.8283,147.6900,2410,    38.8, -1.7129, 32.9710,2, 32.8247,2,  -999.0,9,   371.8,2,    3.41,2,    3.22,2, -999.00,9,    0.34,2,   7.362,2,   3.498,2,   7.601,2,  -999.0,9,  -999.0,9,-999.0000,9,  -999.00, -1.7107
06AQ19960712,ARKXII,74,1,24,167595,2,19960816,1717,82.8283,147.6900,2410,    40.3, -1.7363, 33.5306,2, 33.4540,2,  -999.0,9,   346.8,2,    3.71,2,    5.46,2, -999.00,9,    0.46,2,   6.980,2,   3.339,2,   5.112,2,  -999.0,9,  -999.0,9,-999.0000,9,  -999.00, -1.7337
06AQ19960712,ARKXII,74,1,23,167594,2,19960816,1717,82.8283,147.6900,2410,    60.4, -1.6391, 33.8391,2, 33.8508,2,  -999.0,9,   331.0,2,    4.00,2,    6.73,2, -999.00,9,    0.53,2,   6.494,2,   3.063,2,   4.931,2,  -999.0,9,  -999.0,9,-999.0000,9,  -999.00, -1.6372
06AQ19960712,ARKXII,74,1,22,167593,2,19960816,1717,82.8283,147.6900,2410,    80.4, -1.3867, 34.1380,2, 34.1287,2,  -999.0,9,   321.6,2,    4.20,2,    7.90,2, -999.00,9,    0.60,2,   6.063,2,   2.899,2,   4.685,2,  -999.0,9,  -999.0,9,-999.0000,9,  -999.00, -1.3848
06AQ19960712,ARKXII,74,1,21,167592,2,19960816,1717,82.8283,147.6900,2410,   100.4, -0.8587, 34.3260,2, 34.3304,2,  -999.0,9,   313.5,2,    4.59,2,    8.78,2, -999.00,9,    0.63,2,-999.000,9,-999.000,9,-999.000,9,  -999.0,9,  -999.0,9,-999.0000,9,  -999.00, -0.8578
06AQ19960712,ARKXII,74,1,20,167591,2,19960816,1717,82.8283,147.6900,2410,   150.0,  0.8102, 34.6669,2, 34.6552,2,  -999.0,9,   303.6,2,    5.07,2,   10.24,2, -999.00,9,    0.73,2,   5.048,2,   2.496,2,   4.812,2,  -999.0,9,  -999.0,9,-999.0000,9,  -999.00,  0.8075
06AQ19960712,ARKXII,74,1,19,167590,2,19960816,1717,82.8283,147.6900,2410,   200.3,  1.4105, 34.8198,2, 34.8200,2,  -999.0,9,   301.4,2,    5.27,2,   11.02,2, -999.00,9,    0.75,2,-999.000,9,-999.000,9,-999.000,9,  -999.0,9,  -999.0,9,-999.0000,9,  -999.00,  1.4052
06AQ19960712,ARKXII,74,1,18,167589,2,19960816,1717,82.8283,147.6900,2410,   250.4,  1.5635, 34.8623,2, 34.8620,2,  -999.0,9,   303.2,2,    5.37,2,   11.22,2, -999.00,9,    0.75,2,   4.852,2,   2.339,2,   5.297,2,  -999.0,9,  -999.0,9,-999.0000,9,  -999.00,  1.5553
06AQ19960712,ARKXII,74,1,17,167588,2,19960816,1717,82.8283,147.6900,2410,   250.4,  1.5575, 34.8626,2, 34.8612,2,  -999.0,9,   303.8,2,    5.27,2,   11.02,2, -999.00,9,    0.77,2,-999.000,9,-999.000,9,-999.000,9,  -999.0,9,  -999.0,9,-999.0000,9,  -999.00,  1.5493
06AQ19960712,ARKXII,74,1,16,167587,2,19960816,1717,82.8283,147.6900,2410,   300.5,  1.3578, 34.8681,2, 34.8673,2,  -999.0,9,   303.9,2,    5.46,2,   11.32,2, -999.00,9,    0.76,2,   4.851,2,   2.290,2,   5.146,2,  -999.0,9,  -999.0,9,-999.0000,9,  -999.00,  1.3471
06AQ19960712,ARKXII,74,1,15,167586,2,19960816,1717,82.8283,147.6900,2410,   400.1,  0.9362, 34.8736,2, 34.8727,2,  -999.0,9,   305.5,2,    5.66,2,   11.32,2, -999.00,9,    0.77,2,   4.693,2,   2.244,2,   5.202,2,  -999.0,9,  -999.0,9,-999.0000,9,  -999.00,  0.9212
06AQ19960712,ARKXII,74,1,14,167585,2,19960816,1717,82.8283,147.6900,2410,   500.5,  0.6213, 34.8712,2, 34.8709,2,  -999.0,9,   305.2,2,    5.66,2,   11.22,2, -999.00,9,    0.78,2,   4.436,2,   2.025,2,   5.116,2,  -999.0,9,  -999.0,9,-999.0000,9,  -999.00,  0.6023
06AQ19960712,ARKXII,74,1,13,167584,2,19960816,1717,82.8283,147.6900,2410,   600.9,  0.2918, 34.8654,2, 34.8652,2,  -999.0,9,   307.6,2,    5.76,2,   11.32,2, -999.00,9,    0.77,2,   4.585,2,   2.236,2,   5.381,2,  -999.0,9,  -999.0,9,-999.0000,9,  -999.00,  0.2699
06AQ19960712,ARKXII,74,1,12,167583,2,19960816,1717,82.8283,147.6900,2410,   700.6,  0.0948, 34.8666,2, 34.8669,2,  -999.0,9,   307.4,2,    5.76,2,   11.32,2, -999.00,9,    0.79,2,-999.000,9,-999.000,9,-999.000,9,  -999.0,9,  -999.0,9,-999.0000,9,  -999.00,  0.0690
06AQ19960712,ARKXII,74,1,11,167582,2,19960816,1717,82.8283,147.6900,2410,   800.8, -0.0611, 34.8692,2, 34.8693,2,  -999.0,9,   308.7,2,    6.05,2,   11.22,2, -999.00,9,    0.79,2,   4.749,2,   2.215,2,   5.338,2,  -999.0,9,  -999.0,9,-999.0000,9,  -999.00, -0.0909
06AQ19960712,ARKXII,74,1,10,167581,2,19960816,1717,82.8283,147.6900,2410,  1000.8, -0.2361, 34.8832,2, 34.8830,2,  -999.0,9,   307.2,2,    6.73,2,   11.80,2, -999.00,9,    0.81,2,-999.000,9,-999.000,9,-999.000,9,  -999.0,9,  -999.0,9,-999.0000,9,  -999.00, -0.2748
06AQ19960712,ARKXII,74,1,9,167580,2,19960816,1717,82.8283,147.6900,2410,  1200.3, -0.3368, 34.9021,2, 34.9022,2,  -999.0,9,   303.6,2,    7.51,2,   12.20,2, -999.00,9,    0.85,2,   2.254,2,   1.110,2,   3.404,2,  -999.0,9,  -999.0,9,-999.0000,9,  -999.00, -0.3854
06AQ19960712,ARKXII,74,1,8,167579,2,19960816,1717,82.8283,147.6900,2410,  1400.3, -0.4192, 34.9159,2, 34.9167,2,  -999.0,9,   300.8,2,    8.49,2,   12.59,2, -999.00,9,    0.87,2,   1.185,2,   0.547,2,   2.157,2,  -999.0,9,  -999.0,9,-999.0000,9,  -999.00, -0.4778
06AQ19960712,ARKXII,74,1,7,167578,2,19960816,1717,82.8283,147.6900,2410,  1600.6, -0.4220, 34.9336,2, 34.9336,2,  -999.0,9,   294.6,2,   10.05,2,   13.07,2, -999.00,9,    0.91,2,   0.304,2,   0.140,2,   0.810,2,  -999.0,9,  -999.0,9,-999.0000,9,  -999.00, -0.4926
06AQ19960712,ARKXII,74,1,6,167577,2,19960816,1717,82.8283,147.6900,2410,  1800.5, -0.4191, 34.9432,2, 34.9424,2,  -999.0,9,   290.6,2,   11.41,2,   13.56,2, -999.00,9,    0.93,2,-999.000,9,-999.000,9,-999.000,9,  -999.0,9,  -999.0,9,-999.0000,9,  -999.00, -0.5021
06AQ19960712,ARKXII,74,1,5,167576,2,19960816,1717,82.8283,147.6900,2410,  2000.0, -0.4156, 34.9482,2, 34.9471,2,  -999.0,9,   288.6,2,   11.90,2,   13.46,2, -999.00,9,    0.94,2,-999.000,9,   0.066,2,   0.258,2,  -999.0,9,  -999.0,9,-999.0000,9,  -999.00, -0.5122
06AQ19960712,ARKXII,74,1,4,167575,2,19960816,1717,82.8283,147.6900,2410,  2199.9, -0.4036, 34.9512,2, 34.9512,2,  -999.0,9,   287.0,2,   12.29,2,   13.56,2, -999.00,9,    0.96,2,   0.032,2,   0.032,2,   0.188,2,  -999.0,9,  -999.0,9,-999.0000,9,  -999.00, -0.5142
06AQ19960712,ARKXII,74,1,3,167574,2,19960816,1717,82.8283,147.6900,2410,  2362.7, -0.3881, 34.9526,2, 34.9519,2,  -999.0,9,   286.3,2,   12.88,2,   13.66,2, -999.00,9,    0.97,2,-999.000,9,   0.026,2,   0.193,2,  -999.0,9,  -999.0,9,-999.0000,9,  -999.00, -0.5103
06AQ19960712,ARKXII,74,1,2,167573,2,19960816,1717,82.8283,147.6900,2410,  2411.7, -0.3844, 34.9522,2, 34.9527,2,  -999.0,9,   285.7,2,   12.68,2,   13.85,2, -999.00,9,    0.96,2,   0.050,2,   0.020,2,   0.284,2,  -999.0,9,  -999.0,9,-999.0000,9,  -999.00, -0.5109
06AQ19960712,ARKXII,74,1,1,167572,2,19960816,1717,82.8283,147.6900,2410,  2461.2, -0.3805, 34.9524,2, 34.9527,2,  -999.0,9,   285.7,2,   12.78,2,   13.46,2, -999.00,9,    1.00,2,-999.000,9,-999.000,9,-999.000,9,  -999.0,9,  -999.0,9,-999.0000,9,  -999.00, -0.5107