BOTTLE,20100322CCHDOSIODM
EXPOCODE,SECT_ID,STNNBR,CASTNO,SAMPNO,BTLNBR,BTLNBR_FLAG_W,DATE,TIME,LATITUDE,LONGITUDE,DEPTH,CTDPRS,CTDTMP,CTDSAL,CTDSAL_FLAG_W,SALNTY,SALNTY_FLAG_W,CTDOXY,CTDOXY_FLAG_W,OXYGEN,OXYGEN_FLAG_W,SILCAT,SILCAT_FLAG_W,NITRAT,NITRAT_FLAG_W,NITRIT,NITRIT_FLAG_W,PHSPHT,PHSPHT_FLAG_W,CFC-11,CFC-11_FLAG_W,CFC-12,CFC-12_FLAG_W,CCL4,CCL4_FLAG_W,TCARBN,TCARBN_FLAG_W,ALKALI,ALKALI_FLAG_W,PH_SWS,PH_SWS_FLAG_W,PH_TMP,THETA
,,,,,,,,,,,METERS,DBAR,ITS-90,PSS-78,,PSS-78,,UMOL/KG,,UMOL/KG,,UMOL/KG,,UMOL/KG,,UMOL/KG,,UMOL/KG,,PMOL/KG,,PMOL/KG,,PMOL/KG,,UMOL/KG,,UMOL/KG,,,,DEG C,DEG C
06AQ19960712,ARKXII,13,1,18,165593,2,19960727,1523,81.4333,74.2150,437,    13.8, -1.8064, 33.7308,2, 33.7282,2,  -999.0,9,   357.2,2,    2.93,2,    4.10,2, -999.00,9,    0.36,2,-999.000,9,-999.000,9,-999.000,9,  2116.2,2,  2256.3,2,   7.7173,2,    25.00, -1.8032
06AQ19960712,ARKXII,13,1,17,165592,2,19960727,1523,81.4333,74.2150,437,    23.9, -1.8074, 33.7636,2, 33.7628,2,  -999.0,9,   354.9,2,    2.93,2,    3.90,2, -999.00,9,    0.36,2,-999.000,9,-999.000,9,-999.000,9,  2126.7,2,  2292.9,3,   7.7144,2,    25.00, -1.8044
06AQ19960712,ARKXII,13,1,16,165591,2,19960727,1523,81.4333,74.2150,437,    33.9, -1.8089, 33.7835,2,-999.0000,9,  -999.0,9,  -999.0,9, -999.00,9, -999.00,9, -999.00,9, -999.00,9,-999.000,9,-999.000,9,-999.000,9,  -999.0,9,  -999.0,9,-999.0000,9,  -999.00,-999.0000
06AQ19960712,ARKXII,13,1,15,165590,2,19960727,1523,81.4333,74.2150,437,    43.8, -1.8015, 33.8473,2, 33.9430,2,  -999.0,9,   346.2,2,    3.32,2,    4.88,2, -999.00,9,    0.43,2,-999.000,9,-999.000,9,-999.000,9,  2136.6,2,  2292.9,3,   7.6989,2,    25.00, -1.7987
06AQ19960712,ARKXII,13,1,14,165589,2,19960727,1523,81.4333,74.2150,437,    53.3, -1.7226, 34.0798,2, 34.0649,2,  -999.0,9,   342.2,2,    3.22,2,    5.07,2, -999.00,9,    0.43,2,-999.000,9,-999.000,9,-999.000,9,  2141.2,2,  2267.6,2,   7.6989,2,    25.00, -1.7190
06AQ19960712,ARKXII,13,1,13,165588,2,19960727,1523,81.4333,74.2150,437,    63.6, -1.6886, 34.3079,2, 34.3528,2,  -999.0,9,   333.8,2,    4.00,2,    7.22,2, -999.00,9,    0.57,2,   7.500,2,   3.129,2,   8.618,2,  2145.6,2,  2292.9,2,   7.6959,2,    25.00, -1.6942
06AQ19960712,ARKXII,13,1,12,165587,2,19960727,1523,81.4333,74.2150,437,    83.6, -1.4531, 34.5172,2, 34.5119,2,  -999.0,9,   319.7,2,    5.56,2,    8.78,2, -999.00,9,    0.68,2,   6.549,2,   3.069,2,   7.344,2,  2160.5,2,  2285.6,2,   7.6727,2,    25.00, -1.3979
06AQ19960712,ARKXII,13,1,11,165586,2,19960727,1523,81.4333,74.2150,437,   103.6, -1.5505, 34.6028,2, 34.6194,2,  -999.0,9,   325.6,2,    5.07,2,    8.68,2, -999.00,9,    0.62,2,   6.740,2,   3.000,2,   8.274,2,  2151.1,2,  2292.9,2,   7.6958,2,    25.00, -1.5513
06AQ19960712,ARKXII,13,1,10,165585,2,19960727,1523,81.4333,74.2150,437,   127.9, -1.3222, 34.6769,2, 34.6777,2,  -999.0,9,   325.8,2,    5.07,2,    8.98,2, -999.00,9,    0.63,2,   6.722,2,   2.974,2,   8.091,2,  2140.0,2,  2285.3,2,   7.7045,2,    25.00, -1.3251
06AQ19960712,ARKXII,13,1,9,165584,2,19960727,1523,81.4333,74.2150,437,   153.7, -0.6123, 34.7341,2, 34.7491,2,  -999.0,9,   320.0,2,    5.46,2, -999.00,9, -999.00,9,    0.60,2,   6.067,2,   2.864,2,   7.587,2,  2148.3,2,  2290.6,2,   7.7064,2,    25.00, -0.6457
06AQ19960712,ARKXII,13,1,8,165583,2,19960727,1523,81.4333,74.2150,437,   203.8, -0.8995, 34.7583,2, 34.7713,2,  -999.0,9,   322.0,2,    5.27,2, -999.00,9, -999.00,9,    0.57,2,   6.172,2,   2.963,2,   7.784,2,  2152.8,2,  2292.9,2,   7.7006,2,    25.00, -0.8909
06AQ19960712,ARKXII,13,1,7,165582,2,19960727,1523,81.4333,74.2150,437,   253.9, -1.0274, 34.7862,2, 34.7853,2,  -999.0,9,   323.8,2,    5.66,2, -999.00,9, -999.00,9,    0.58,2,   6.617,2,   2.972,2,   8.502,2,  2164.7,2,  2292.9,2,   7.6900,2,    25.00, -1.0213
06AQ19960712,ARKXII,13,1,6,165581,2,19960727,1523,81.4333,74.2150,437,   303.8, -1.0707, 34.7938,2, 34.7919,2,  -999.0,9,   323.1,2,    6.24,2, -999.00,9, -999.00,9,    0.60,2,   6.404,2,   3.040,2,   8.380,2,  2164.5,2,  -999.0,9,   7.6890,2,    25.00, -1.0767
06AQ19960712,ARKXII,13,1,5,165580,2,19960727,1523,81.4333,74.2150,437,   354.3, -1.0401, 34.7959,2, 34.7945,2,  -999.0,9,   323.1,2,    5.66,2, -999.00,9, -999.00,9,    0.55,2,   6.303,2,   3.048,2,   8.088,2,  2164.1,2,  -999.0,9,   7.6899,2,    25.00, -1.0474
06AQ19960712,ARKXII,13,1,4,165579,2,19960727,1523,81.4333,74.2150,437,   404.2, -1.0187, 34.7978,2, 34.7969,2,  -999.0,9,   322.7,2,    6.24,2, -999.00,9, -999.00,9,    0.61,2,   6.874,2,   3.100,2,   8.161,2,  2164.3,2,  2298.9,2,   7.6880,2,    25.00, -1.0272
06AQ19960712,ARKXII,13,1,3,165578,2,19960727,1523,81.4333,74.2150,437,   407.2, -1.0179, 34.7976,2, 34.7975,2,  -999.0,9,   322.5,2,    6.24,2, -999.00,9, -999.00,9,    0.61,2,   6.603,2,   3.107,2,   8.389,2,  2160.6,2,  2295.6,2,   7.6919,2,    25.00, -1.0263
06AQ19960712,ARKXII,13,1,2,165577,2,19960727,1523,81.4333,74.2150,437,   416.6, -1.0177, 34.7973,2, 34.7967,2,  -999.0,9,   322.7,2, -999.00,9, -999.00,9, -999.00,9,    0.59,2,   6.398,2,   3.096,2,   8.436,2,  2162.8,2,  2295.5,2,   7.6842,2,    25.00, -1.0266
06AQ19960712,ARKXII,13,1,1,165576,2,19960727,1523,81.4333,74.2150,437,   426.2, -1.0168, 34.7981,2, 34.7977,2,  -999.0,9,   322.7,2,    6.15,2, -999.00,9, -999.00,9,    0.61,2,   6.503,2,   3.088,2,   8.375,2,  2160.8,2,  2295.1,2,   7.6688,2,    25.00, -1.0260
06AQ19960712,ARKXII,14,1,32,165625,2,19960727,1756,81.4233,74.4067,377,    10.0, -1.7994, 33.7681,2, 33.7669,2,  -999.0,9,  -999.0,9,    3.12,2,    3.90,2, -999.00,9,    0.44,2,-999.000,9,-999.000,9,-999.000,9,  -999.0,9,  -999.0,9,-999.0000,9,  -999.00, -1.7962
06AQ19960712,ARKXII,14,1,31,165624,2,19960727,1756,81.4233,74.4067,377,    19.7, -1.8012, 33.7684,2, 33.7695,2,  -999.0,9,   355.8,2,    3.12,2,    3.90,2, -999.00,9,    0.44,2,   7.456,2,   3.308,2,   8.448,2,  2118.1,2,  2259.4,2,-999.0000,9  -999.00, -1.7984
06AQ19960712,ARKXII,14,1,30,165623,2,19960727,1756,81.4233,74.4067,377,    29.8, -1.8054, 33.7743,2, 33.7805,2,  -999.0,9,   354.7,2,    3.12,2,    3.90,2, -999.00,9,    0.45,2,   6.623,2,   3.194,2,   8.395,2,  2116.7,2,  2265.6,2,-999.0000,9  -999.00, -1.8025
06AQ19960712,ARKXII,14,1,29,165622,2,19960727,1756,81.4233,74.4067,377,    40.1, -1.6945, 34.0472,2, 34.0808,2,  -999.0,9,   339.7,2,    4.00,2,    5.66,2, -999.00,9,    0.55,2,-999.000,9,-999.000,9,-999.000,9,  2138.9,2,  2265.8,2,   7.6941,2,    25.00, -1.6918
06AQ19960712,ARKXII,14,1,28,165621,2,19960727,1756,81.4233,74.4067,377,    50.2, -1.0468, 34.4014,2, 34.4104,2,  -999.0,9,   313.7,2,    6.05,2,    8.49,2, -999.00,9,    0.74,2,   6.584,2,   3.194,2,   6.834,2,  2164.7,2,  2287.7,2,   7.6555,2,    25.00, -1.0443
06AQ19960712,ARKXII,14,1,27,165620,2,19960727,1756,81.4233,74.4067,377,    60.0, -1.2186, 34.4650,2, 34.4598,2,  -999.0,9,   318.2,2,    6.15,2,    8.39,2, -999.00,9,    0.79,2,-999.000,9,-999.000,9,-999.000,9,  2162.5,2,  -999.0,9,   7.6574,2,    25.00, -1.2165
06AQ19960712,ARKXII,14,1,26,165619,2,19960727,1756,81.4233,74.4067,377,    79.7, -1.5491, 34.5699,2, 34.5758,2,  -999.0,9,   324.5,2,    5.07,2,    8.59,2, -999.00,9,    0.69,2,   6.550,2,   3.230,2,   7.811,2,  2151.6,2,  2283.0,2,   7.6939,2,    25.00, -1.5478
06AQ19960712,ARKXII,14,1,25,165618,2,19960727,1756,81.4233,74.4067,377,    99.7, -0.4556, 34.6920,2, 34.6994,2,  -999.0,9,   319.2,2,    4.78,2,    9.85,2, -999.00,9,    0.72,2,-999.000,9,-999.000,9,-999.000,9,  2140.7,2,  2291.3,2,   7.7151,2,    25.00, -0.4552
06AQ19960712,ARKXII,14,1,24,165617,2,19960727,1756,81.4233,74.4067,377,   124.8,  0.0251, 34.7592,2, 34.7585,2,  -999.0,9,   315.8,2,    5.07,2,   10.34,2, -999.00,9,    0.75,2,   5.639,2,   2.743,2,   6.969,2,  2144.0,2,  2292.0,2,   7.7131,2,    25.00,  0.0244
06AQ19960712,ARKXII,14,1,19,165612,2,19960727,1756,81.4233,74.4067,377,   150.0,  0.0036, 34.7760,2,-999.0000,9,  -999.0,9,  -999.0,9, -999.00,9, -999.00,9, -999.00,9, -999.00,9,-999.000,9,-999.000,9,-999.000,9,  -999.0,9,  -999.0,9,-999.0000,9,  -999.00,-999.0000
06AQ19960712,ARKXII,14,1,20,165613,2,19960727,1756,81.4233,74.4067,377,   150.0,  0.0055, 34.7764,2,-999.0000,9,  -999.0,9,  -999.0,9, -999.00,9, -999.00,9, -999.00,9, -999.00,9,-999.000,9,-999.000,9,-999.000,9,  -999.0,9,  -999.0,9,-999.0000,9,  -999.00,-999.0000
06AQ19960712,ARKXII,14,1,18,165611,2,19960727,1756,81.4233,74.4067,377,   150.0,  0.0169, 34.7734,2, 34.7865,2,  -999.0,9,   315.0,2,    5.17,2,   10.34,2, -999.00,9,    0.75,2,   5.647,2,   2.699,2,   6.920,2,  2143.8,2,  2282.0,2,   7.7141,2,    25.00,  0.0155
06AQ19960712,ARKXII,14,1,23,165616,2,19960727,1756,81.4233,74.4067,377,   150.1,  0.0074, 34.7768,2,-999.0000,9,  -999.0,9,  -999.0,9, -999.00,9, -999.00,9, -999.00,9, -999.00,9,-999.000,9,-999.000,9,-999.000,9,  -999.0,9,  -999.0,9,-999.0000,9,  -999.00,-999.0000
06AQ19960712,ARKXII,14,1,22,165615,2,19960727,1756,81.4233,74.4067,377,   150.1,  0.0084, 34.7769,2,-999.0000,9,  -999.0,9,  -999.0,9, -999.00,9, -999.00,9, -999.00,9, -999.00,9,-999.000,9,-999.000,9,-999.000,9,  -999.0,9,  -999.0,9,-999.0000,9,  -999.00,-999.0000
06AQ19960712,ARKXII,14,1,21,165614,2,19960727,1756,81.4233,74.4067,377,   150.1,  0.0067, 34.7765,2,-999.0000,9,  -999.0,9,  -999.0,9, -999.00,9, -999.00,9, -999.00,9, -999.00,9,-999.000,9,-999.000,9,-999.000,9,  -999.0,9,  -999.0,9,-999.0000,9,  -999.00,-999.0000
06AQ19960712,ARKXII,14,1,12,165605,2,19960727,1756,81.4233,74.4067,377,   200.5, -0.4519, 34.7803,2, 34.7885,2,  -999.0,9,   318.6,2,    5.37,2,   10.15,2, -999.00,9,    0.76,2,   5.670,2,   2.565,2,   7.047,2,  2153.2,2,  2291.3,2,   7.7054,2,    25.00, -0.4547
06AQ19960712,ARKXII,14,1,15,165608,2,19960727,1756,81.4233,74.4067,377,   200.6, -0.5194, 34.7768,2,-999.0000,9,  -999.0,9,  -999.0,9, -999.00,9, -999.00,9, -999.00,9, -999.00,9,-999.000,9,-999.000,9,-999.000,9,  -999.0,9,  -999.0,9,-999.0000,9,  -999.00,-999.0000
06AQ19960712,ARKXII,14,1,13,165606,2,19960727,1756,81.4233,74.4067,377,   200.6, -0.5111, 34.7783,2,-999.0000,9,  -999.0,9,  -999.0,9, -999.00,9, -999.00,9, -999.00,9, -999.00,9,-999.000,9,-999.000,9,-999.000,9,  -999.0,9,  -999.0,9,-999.0000,9,  -999.00,-999.0000
06AQ19960712,ARKXII,14,1,14,165607,2,19960727,1756,81.4233,74.4067,377,   200.6, -0.5073, 34.7789,2,-999.0000,9,  -999.0,9,  -999.0,9, -999.00,9, -999.00,9, -999.00,9, -999.00,9,-999.000,9,-999.000,9,-999.000,9,  -999.0,9,  -999.0,9,-999.0000,9,  -999.00,-999.0000
06AQ19960712,ARKXII,14,1,17,165610,2,19960727,1756,81.4233,74.4067,377,   200.7, -0.5156, 34.7767,2,-999.0000,9,  -999.0,9,  -999.0,9, -999.00,9, -999.00,9, -999.00,9, -999.00,9,-999.000,9,-999.000,9,-999.000,9,  -999.0,9,  -999.0,9,-999.0000,9,  -999.00,-999.0000
06AQ19960712,ARKXII,14,1,16,165609,2,19960727,1756,81.4233,74.4067,377,   200.7, -0.5162, 34.7787,2,-999.0000,9,  -999.0,9,  -999.0,9, -999.00,9, -999.00,9, -999.00,9, -999.00,9,-999.000,9,-999.000,9,-999.000,9,  -999.0,9,  -999.0,9,-999.0000,9,  -999.00,-999.0000
06AQ19960712,ARKXII,14,1,11,165604,2,19960727,1756,81.4233,74.4067,377,   250.4, -1.2555, 34.7636,2, 34.7656,2,  -999.0,9,  -999.0,9,    5.56,2,    9.07,2, -999.00,9,    0.71,2,-999.000,9,-999.000,9,-999.000,9,  2154.1,2,  2298.8,2,   7.6919,2,    25.00, -1.2587
06AQ19960712,ARKXII,14,1,10,165603,2,19960727,1756,81.4233,74.4067,377,   300.1, -1.2126, 34.7699,2, 34.7696,2,  -999.0,9,   324.0,2,    5.56,2,    8.98,2, -999.00,9,    0.71,2,   6.855,2,   3.028,2,   8.122,2,  2156.1,2,  2297.5,2,   7.6929,2,    25.00, -1.2174
06AQ19960712,ARKXII,14,1,3,165596,2,19960727,1756,81.4233,74.4067,377,   349.8, -1.1998, 34.7708,2, 34.7701,2,  -999.0,9,   323.3,2,    5.46,2,    9.07,2, -999.00,9,    0.71,2,-999.000,9,-999.000,9,-999.000,9,  2154.5,2,  2294.9,2,   7.6919,2,    25.00, -1.2059
06AQ19960712,ARKXII,14,1,4,165597,2,19960727,1756,81.4233,74.4067,377,   349.8, -1.1996, 34.7702,2, 34.7704,2,  -999.0,9,   323.6,2,    5.56,2,    9.07,2, -999.00,9,    0.71,2,   6.760,2,   3.149,2,   8.203,2,  2156.4,2,  2294.7,2,   7.6929,2,    25.00, -1.2059
06AQ19960712,ARKXII,14,1,9,165602,2,19960727,1756,81.4233,74.4067,377,   349.9, -1.1990, 34.7709,2,-999.0000,9,  -999.0,9,  -999.0,9, -999.00,9, -999.00,9, -999.00,9, -999.00,9,-999.000,9,-999.000,9,-999.000,9,  -999.0,9,  -999.0,9,-999.0000,9,  -999.00,-999.0000
06AQ19960712,ARKXII,14,1,8,165601,2,19960727,1756,81.4233,74.4067,377,   349.9, -1.1990, 34.7707,2,-999.0000,9,  -999.0,9,  -999.0,9, -999.00,9, -999.00,9, -999.00,9, -999.00,9,-999.000,9,-999.000,9,-999.000,9,  -999.0,9,  -999.0,9,-999.0000,9,  -999.00,-999.0000
06AQ19960712,ARKXII,14,1,7,165600,2,19960727,1756,81.4233,74.4067,377,   349.9, -1.1995, 34.7701,2,-999.0000,9,  -999.0,9,  -999.0,9, -999.00,9, -999.00,9, -999.00,9, -999.00,9,-999.000,9,-999.000,9,-999.000,9,  -999.0,9,  -999.0,9,-999.0000,9,  -999.00,-999.0000
06AQ19960712,ARKXII,14,1,6,165599,2,19960727,1756,81.4233,74.4067,377,   349.9, -1.2006, 34.7713,2,-999.0000,9,  -999.0,9,  -999.0,9, -999.00,9, -999.00,9, -999.00,9, -999.00,9,-999.000,9,-999.000,9,-999.000,9,  -999.0,9,  -999.0,9,-999.0000,9,  -999.00,-999.0000
06AQ19960712,ARKXII,14,1,5,165598,2,19960727,1756,81.4233,74.4067,377,   349.9, -1.2008, 34.7714,2,-999.0000,9,  -999.0,9,  -999.0,9, -999.00,9, -999.00,9, -999.00,9, -999.00,9,-999.000,9,-999.000,9,-999.000,9,  -999.0,9,  -999.0,9,-999.0000,9,  -999.00,-999.0000
06AQ19960712,ARKXII,14,1,2,165595,2,19960727,1756,81.4233,74.4067,377,   361.1, -1.1964, 34.7704,2, 34.7699,2,  -999.0,9,   323.5,2,    5.46,2,    9.46,2, -999.00,9,    0.70,2,   6.451,2,   3.068,2,   8.113,2,  2154.4,2,  2298.1,2,   7.6919,2,    25.00, -1.2033
06AQ19960712,ARKXII,14,1,1,165594,2,19960727,1756,81.4233,74.4067,377,   370.6, -1.1962, 34.7698,2, 34.7702,2,  -999.0,9,   323.4,2,    5.37,2,    9.37,2, -999.00,9,    0.70,2,-999.000,9,-999.000,9,-999.000,9,  2154.6,2,  2299.9,2,   7.6958,2,    25.00, -1.2036