BOTTLE,20100322CCHDOSIODM
EXPOCODE,SECT_ID,STNNBR,CASTNO,SAMPNO,BTLNBR,BTLNBR_FLAG_W,DATE,TIME,LATITUDE,LONGITUDE,DEPTH,CTDPRS,CTDTMP,CTDSAL,CTDSAL_FLAG_W,SALNTY,SALNTY_FLAG_W,CTDOXY,CTDOXY_FLAG_W,OXYGEN,OXYGEN_FLAG_W,SILCAT,SILCAT_FLAG_W,NITRAT,NITRAT_FLAG_W,NITRIT,NITRIT_FLAG_W,PHSPHT,PHSPHT_FLAG_W,CFC-11,CFC-11_FLAG_W,CFC-12,CFC-12_FLAG_W,CCL4,CCL4_FLAG_W,TCARBN,TCARBN_FLAG_W,ALKALI,ALKALI_FLAG_W,PH_SWS,PH_SWS_FLAG_W,PH_TMP,THETA
,,,,,,,,,,,METERS,DBAR,ITS-90,PSS-78,,PSS-78,,UMOL/KG,,UMOL/KG,,UMOL/KG,,UMOL/KG,,UMOL/KG,,UMOL/KG,,PMOL/KG,,PMOL/KG,,PMOL/KG,,UMOL/KG,,UMOL/KG,,,,DEG C,DEG C
06AQ19960712,ARKXII,50,2,36,166734,2,19960807,2023,85.1683,109.2883,4422,     9.4, -1.7507, 34.1798,2, 34.1800,2,  -999.0,9,   361.7,2,    2.73,2,    5.66,2, -999.00,9,    0.50,2,-999.000,9,-999.000,9,-999.000,9,  -999.0,9,  -999.0,9,-999.0000,9,  -999.00, -1.7452
06AQ19960712,ARKXII,50,2,35,166733,2,19960807,2023,85.1683,109.2883,4422,    19.8, -1.7588, 34.1802,2, 34.1893,2,  -999.0,9,  -999.0,9,    2.83,2,    5.56,2, -999.00,9,    0.50,2,-999.000,9,-999.000,9,-999.000,9,  -999.0,9,  -999.0,9,-999.0000,9,  -999.00, -1.7554
06AQ19960712,ARKXII,50,2,34,166732,2,19960807,2023,85.1683,109.2883,4422,    30.2, -1.8027, 34.2461,2, 34.2626,2,  -999.0,9,   360.5,2,    2.83,2,    5.85,2, -999.00,9,    0.52,2,-999.000,9,-999.000,9,-999.000,9,  -999.0,9,  -999.0,9,-999.0000,9,  -999.00, -1.7996
06AQ19960712,ARKXII,50,2,33,166731,2,19960807,2023,85.1683,109.2883,4422,    39.9, -1.8312, 34.2710,2, 34.2706,2,  -999.0,9,  -999.0,9,    2.73,2,    5.95,2, -999.00,9,    0.53,2,-999.000,9,-999.000,9,-999.000,9,  -999.0,9,  -999.0,9,-999.0000,9,  -999.00, -1.8258
06AQ19960712,ARKXII,50,2,32,166730,2,19960807,2023,85.1683,109.2883,4422,    60.4, -1.8413, 34.2917,2, 34.2923,2,  -999.0,9,   358.8,2,    2.93,2,    6.15,2, -999.00,9,    0.53,2,-999.000,9,-999.000,9,-999.000,9,  -999.0,9,  -999.0,9,-999.0000,9,  -999.00, -1.8391
06AQ19960712,ARKXII,50,2,31,166729,2,19960807,2023,85.1683,109.2883,4422,    80.4, -1.8315, 34.2965,2, 34.2980,2,  -999.0,9,  -999.0,9,    2.93,2,    6.24,2, -999.00,9,    0.55,2,-999.000,9,-999.000,9,-999.000,9,  -999.0,9,  -999.0,9,-999.0000,9,  -999.00, -1.8296
06AQ19960712,ARKXII,50,2,30,166728,2,19960807,2023,85.1683,109.2883,4422,   100.1, -1.8035, 34.3007,2, 34.3064,2,  -999.0,9,   356.7,2,    3.02,2,    6.44,2, -999.00,9,    0.55,2,-999.000,9,-999.000,9,-999.000,9,  -999.0,9,  -999.0,9,-999.0000,9,  -999.00, -1.8040
06AQ19960712,ARKXII,50,2,29,166727,2,19960807,2023,85.1683,109.2883,4422,   150.1, -0.6039, 34.4302,2, 34.4357,2,  -999.0,9,  -999.0,9,    4.59,2,    9.46,2, -999.00,9,    0.72,2,-999.000,9,-999.000,9,-999.000,9,  -999.0,9,  -999.0,9,-999.0000,9,  -999.00, -0.7045
06AQ19960712,ARKXII,50,2,28,166726,2,19960807,2023,85.1683,109.2883,4422,   200.1,  1.1736, 34.7569,2, 34.7836,2,  -999.0,9,   299.1,2,    5.46,2,   11.12,2, -999.00,9,    0.82,2,-999.000,9,-999.000,9,-999.000,9,  -999.0,9,  -999.0,9,-999.0000,9,  -999.00,  1.1716
06AQ19960712,ARKXII,50,2,27,166725,2,19960807,2023,85.1683,109.2883,4422,   239.3,  1.5164, 34.8738,2, 34.8733,2,  -999.0,9,   300.3,2,    5.66,2,   11.61,2, -999.00,9,    0.84,2,-999.000,9,-999.000,9,-999.000,9,  -999.0,9,  -999.0,9,-999.0000,9,  -999.00,  1.5079
06AQ19960712,ARKXII,50,2,26,166724,2,19960807,2023,85.1683,109.2883,4422,   301.0,  1.2746, 34.8683,2, 34.8680,2,  -999.0,9,   300.3,2,    5.76,2,   11.41,2, -999.00,9,    0.84,2,-999.000,9,-999.000,9,-999.000,9,  -999.0,9,  -999.0,9,-999.0000,9,  -999.00,  1.2643
06AQ19960712,ARKXII,50,2,25,166723,2,19960807,2023,85.1683,109.2883,4422,   400.0,  1.0996, 34.8937,2, 34.8927,2,  -999.0,9,  -999.0,9,    5.85,2,   11.80,2, -999.00,9,    0.85,2,-999.000,9,-999.000,9,-999.000,9,  -999.0,9,  -999.0,9,-999.0000,9,  -999.00,  1.0856
06AQ19960712,ARKXII,50,2,24,166722,2,19960807,2023,85.1683,109.2883,4422,   500.0,  0.8209, 34.9010,2, 34.9010,2,  -999.0,9,   301.7,2,    6.15,2,   12.00,2, -999.00,9,    0.87,2,-999.000,9,-999.000,9,-999.000,9,  -999.0,9,  -999.0,9,-999.0000,9,  -999.00,  0.8005
06AQ19960712,ARKXII,50,2,23,166721,2,19960807,2023,85.1683,109.2883,4422,   600.0,  0.4581, 34.8930,2, 34.8937,2,  -999.0,9,   304.0,2,    6.15,2,   11.90,2, -999.00,9,    0.88,2,-999.000,9,-999.000,9,-999.000,9,  -999.0,9,  -999.0,9,-999.0000,9,  -999.00,  0.4371
06AQ19960712,ARKXII,50,2,22,166720,2,19960807,2023,85.1683,109.2883,4422,   700.0,  0.1201, 34.8845,2, 34.8841,2,  -999.0,9,  -999.0,9,    6.44,2,   11.61,2, -999.00,9,    0.86,2,-999.000,9,-999.000,9,-999.000,9,  -999.0,9,  -999.0,9,-999.0000,9,  -999.00,  0.0979
06AQ19960712,ARKXII,50,2,21,166719,2,19960807,2023,85.1683,109.2883,4422,   799.7, -0.0603, 34.8858,2, 34.8864,2,  -999.0,9,   305.3,2,    6.83,2,   11.61,2, -999.00,9,    0.88,2,-999.000,9,-999.000,9,-999.000,9,  -999.0,9,  -999.0,9,-999.0000,9,  -999.00, -0.0889
06AQ19960712,ARKXII,50,2,20,166718,2,19960807,2023,85.1683,109.2883,4422,   999.9, -0.2595, 34.8979,2, 34.8991,2,  -999.0,9,   303.9,2,    7.41,2,   12.10,2, -999.00,9,    0.91,2,-999.000,9,-999.000,9,-999.000,9,  -999.0,9,  -999.0,9,-999.0000,9,  -999.00, -0.2985
06AQ19960712,ARKXII,50,2,19,166717,2,19960807,2023,85.1683,109.2883,4422,  1200.2, -0.4007, 34.9104,2, 34.9103,2,  -999.0,9,   302.9,2,    8.10,2,   12.59,2, -999.00,9,    0.91,2,-999.000,9,-999.000,9,-999.000,9,  -999.0,9,  -999.0,9,-999.0000,9,  -999.00, -0.4488
06AQ19960712,ARKXII,50,2,18,166716,2,19960807,2023,85.1683,109.2883,4422,  1400.4, -0.5207, 34.9156,2, 34.9154,2,  -999.0,9,   301.9,2,    8.98,2,   12.98,2, -999.00,9,    0.94,2,-999.000,9,-999.000,9,-999.000,9,  -999.0,9,  -999.0,9,-999.0000,9,  -999.00, -0.5776
06AQ19960712,ARKXII,50,2,17,166715,2,19960807,2023,85.1683,109.2883,4422,  1599.9, -0.6081, 34.9200,2, 34.9191,2,  -999.0,9,   301.1,2,    9.76,2,   13.37,2, -999.00,9,    0.97,2,-999.000,9,-999.000,9,-999.000,9,  -999.0,9,  -999.0,9,-999.0000,9,  -999.00, -0.6761
06AQ19960712,ARKXII,50,2,16,166714,2,19960807,2023,85.1683,109.2883,4422,  1800.6, -0.6767, 34.9217,2, 34.9209,2,  -999.0,9,   300.8,2,   10.34,2,   13.37,2, -999.00,9,    0.99,2,-999.000,9,-999.000,9,-999.000,9,  -999.0,9,  -999.0,9,-999.0000,9,  -999.00, -0.7563
06AQ19960712,ARKXII,50,2,15,166713,2,19960807,2023,85.1683,109.2883,4422,  2000.7, -0.7305, 34.9224,2, 34.9222,2,  -999.0,9,   301.2,2,   10.44,2,   13.56,2, -999.00,9,    0.99,2,-999.000,9,-999.000,9,-999.000,9,  -999.0,9,  -999.0,9,-999.0000,9,  -999.00, -0.8222
06AQ19960712,ARKXII,50,2,14,166712,2,19960807,2023,85.1683,109.2883,4422,  2200.6, -0.7623, 34.9244,2, 34.9246,2,  -999.0,9,  -999.0,9,   10.63,2,   13.37,2, -999.00,9,    1.00,2,-999.000,9,-999.000,9,-999.000,9,  -999.0,9,  -999.0,9,-999.0000,9,  -999.00, -0.8670
06AQ19960712,ARKXII,50,2,13,166711,2,19960807,2023,85.1683,109.2883,4422,  2400.1, -0.7819, 34.9267,2, 34.9263,2,  -999.0,9,   301.5,2,   10.73,2,   13.56,2, -999.00,9,    1.00,2,-999.000,9,-999.000,9,-999.000,9,  -999.0,9,  -999.0,9,-999.0000,9,  -999.00, -0.8996
06AQ19960712,ARKXII,50,2,12,166710,2,19960807,2023,85.1683,109.2883,4422,  2600.4, -0.7899, 34.9292,2, 34.9293,2,  -999.0,9,  -999.0,9,   10.83,2,   13.46,2, -999.00,9,    0.99,2,-999.000,9,-999.000,9,-999.000,9,  -999.0,9,  -999.0,9,-999.0000,9,  -999.00, -0.9220
06AQ19960712,ARKXII,50,2,11,166709,2,19960807,2023,85.1683,109.2883,4422,  2800.0, -0.7884, 34.9327,2, 34.9310,2,  -999.0,9,   300.7,2,   10.73,2,   13.66,2, -999.00,9,    1.00,2,-999.000,9,-999.000,9,-999.000,9,  -999.0,9,  -999.0,9,-999.0000,9,  -999.00, -0.9352
06AQ19960712,ARKXII,50,2,10,166708,2,19960807,2023,85.1683,109.2883,4422,  2999.8, -0.7821, 34.9343,2, 34.9341,2,  -999.0,9,   300.1,2,   10.93,2,   13.85,2, -999.00,9,    1.00,2,-999.000,9,-999.000,9,-999.000,9,  -999.0,9,  -999.0,9,-999.0000,9,  -999.00, -0.9461
06AQ19960712,ARKXII,50,2,9,166707,2,19960807,2023,85.1683,109.2883,4422,  3200.3, -0.7717, 34.9365,2, 34.9353,2,  -999.0,9,  -999.0,9,   10.93,2,   13.66,2, -999.00,9,    1.00,2,-999.000,9,-999.000,9,-999.000,9,  -999.0,9,  -999.0,9,-999.0000,9,  -999.00, -0.9519
06AQ19960712,ARKXII,50,2,8,166706,2,19960807,2023,85.1683,109.2883,4422,  3400.3, -0.7553, 34.9386,2, 34.9376,2,  -999.0,9,   299.8,2,   11.02,2,   13.95,2, -999.00,9,    1.00,2,-999.000,9,-999.000,9,-999.000,9,  -999.0,9,  -999.0,9,-999.0000,9,  -999.00, -0.9533
06AQ19960712,ARKXII,50,2,7,166705,2,19960807,2023,85.1683,109.2883,4422,  3600.7, -0.7351, 34.9403,2, 34.9390,2,  -999.0,9,   299.4,2,   11.12,2,   13.95,2, -999.00,9,    1.00,2,-999.000,9,-999.000,9,-999.000,9,  -999.0,9,  -999.0,9,-999.0000,9,  -999.00, -0.9517
06AQ19960712,ARKXII,50,2,6,166704,2,19960807,2023,85.1683,109.2883,4422,  3800.3, -0.7134, 34.9415,2, 34.9415,2,  -999.0,9,   299.4,2,   11.02,2,   13.76,2, -999.00,9,    1.00,2,-999.000,9,-999.000,9,-999.000,9,  -999.0,9,  -999.0,9,-999.0000,9,  -999.00, -0.9485
06AQ19960712,ARKXII,50,2,5,166703,2,19960807,2023,85.1683,109.2883,4422,  4000.3, -0.6937, 34.9417,2, 34.9411,2,  -999.0,9,   299.0,2,   11.12,2,   13.66,2, -999.00,9,    0.99,2,-999.000,9,-999.000,9,-999.000,9,  -999.0,9,  -999.0,9,-999.0000,9,  -999.00, -0.9480
06AQ19960712,ARKXII,50,2,4,166702,2,19960807,2023,85.1683,109.2883,4422,  4200.2, -0.6734, 34.9420,2, 34.9415,2,  -999.0,9,   299.1,2,   11.32,2,   13.56,2, -999.00,9,    0.99,2,-999.000,9,-999.000,9,-999.000,9,  -999.0,9,  -999.0,9,-999.0000,9,  -999.00, -0.9481
06AQ19960712,ARKXII,50,2,3,166701,2,19960807,2023,85.1683,109.2883,4422,  4343.9, -0.6585, 34.9417,2, 34.9415,2,  -999.0,9,   299.1,2,   11.32,2,   13.37,2, -999.00,9,    0.98,2,-999.000,9,-999.000,9,-999.000,9,  -999.0,9,  -999.0,9,-999.0000,9,  -999.00, -0.9479
06AQ19960712,ARKXII,50,2,2,166700,2,19960807,2023,85.1683,109.2883,4422,  4399.6, -0.6526, 34.9413,2, 34.9419,2,  -999.0,9,   298.9,2,   11.12,2,   13.85,2, -999.00,9,    0.99,2,-999.000,9,-999.000,9,-999.000,9,  -999.0,9,  -999.0,9,-999.0000,9,  -999.00, -0.9478
06AQ19960712,ARKXII,50,2,1,166699,2,19960807,2023,85.1683,109.2883,4422,  4450.5, -0.6465, 34.9408,2, 34.9411,2,  -999.0,9,   298.5,2,   11.51,2,   13.66,2, -999.00,9,    0.97,2,-999.000,9,-999.000,9,-999.000,9,  -999.0,9,  -999.0,9,-999.0000,9,  -999.00, -0.9472
06AQ19960712,ARKXII,51,1,36,166770,2,19960808,0309,85.2833,111.5883,4363,     9.3, -1.7480, 34.1551,2, 34.1553,2,  -999.0,9,   363.7,2,    2.63,2,    5.37,2, -999.00,9,    0.47,2,   6.547,2,   3.092,2,   5.865,2,  2122.0,2,  -999.0,9,   7.7433,2,    25.00, -1.7452
06AQ19960712,ARKXII,51,1,35,166769,2,19960808,0309,85.2833,111.5883,4363,    19.4, -1.7760, 34.2013,2, 34.1764,2,  -999.0,9,   363.1,2,    2.63,2,    5.46,2, -999.00,9,    0.47,2,   6.219,2,   3.067,2,   5.608,2,  -999.0,9,  -999.0,9,-999.0000,9,  -999.00, -1.7694
06AQ19960712,ARKXII,51,1,34,166768,2,19960808,0309,85.2833,111.5883,4363,    28.5, -1.7894, 34.2270,2, 34.2242,2,  -999.0,9,   361.6,2,    2.63,2,    5.85,2, -999.00,9,    0.49,2,   6.371,2,   2.995,2,   5.567,2,  2122.3,2,  -999.0,9,   7.7461,2,    25.00, -1.7876
06AQ19960712,ARKXII,51,1,33,166767,2,19960808,0309,85.2833,111.5883,4363,    39.7, -1.8300, 34.2717,2, 34.2685,2,  -999.0,9,   359.8,2,    2.63,2,    5.95,2, -999.00,9,    0.50,2,   6.185,2,   2.997,2,   5.334,2,  -999.0,9,  -999.0,9,-999.0000,9,  -999.00, -1.8268
06AQ19960712,ARKXII,51,1,32,166766,2,19960808,0309,85.2833,111.5883,4363,    59.4, -1.8466, 34.2939,2, 34.2949,2,  -999.0,9,   357.7,2,    2.83,2,    6.15,2, -999.00,9,    0.52,2,   6.048,2,   2.953,2,   4.988,2,  2118.9,2,  -999.0,9,   7.7393,2,    25.00, -1.8461
06AQ19960712,ARKXII,51,1,31,166765,2,19960808,0309,85.2833,111.5883,4363,    79.5, -1.8180, 34.2983,2, 34.2998,2,  -999.0,9,   355.8,2,    2.83,2,    6.24,2, -999.00,9,    0.52,2,   6.041,2,   2.989,2,   5.125,2,  2127.3,2,  -999.0,9,   7.7451,2,    25.00, -1.8186
06AQ19960712,ARKXII,51,1,30,166764,2,19960808,0309,85.2833,111.5883,4363,    98.4, -1.7983, 34.3014,2, 34.3197,2,  -999.0,9,   349.7,2,    3.02,2,    6.73,2, -999.00,9,    0.55,2,-999.000,9,-999.000,9,-999.000,9,  2122.4,2,  -999.0,9,   7.7297,2,    25.00, -1.7970
06AQ19960712,ARKXII,51,1,29,166763,2,19960808,0309,85.2833,111.5883,4363,   149.5,  0.4043, 34.5980,2, 34.6055,2,  -999.0,9,   301.4,2,    5.07,2,   10.54,2, -999.00,9,    0.77,2,   3.847,2,   1.871,2,   3.954,2,  2143.1,2,  -999.0,9,   7.6948,2,    25.00,  0.3730
06AQ19960712,ARKXII,51,1,28,166762,2,19960808,0309,85.2833,111.5883,4363,   199.2,  1.3618, 34.8138,2, 34.8134,2,  -999.0,9,   298.6,2,    5.46,2,   11.41,2, -999.00,9,    0.81,2,-999.000,9,-999.000,9,-999.000,9,  -999.0,9,  -999.0,9,-999.0000,9,  -999.00,  1.3513
06AQ19960712,ARKXII,51,1,27,166761,2,19960808,0309,85.2833,111.5883,4363,   231.1,  1.5447, 34.8806,2, 34.8785,2,  -999.0,9,   301.1,2,    5.56,2,   11.51,2, -999.00,9,    0.81,2,   3.990,2,   1.922,2,   4.585,2,  2148.0,2,  -999.0,9,   7.7140,2,    25.00,  1.5412
06AQ19960712,ARKXII,51,1,26,166760,2,19960808,0309,85.2833,111.5883,4363,   299.9,  1.3156, 34.8981,2, 34.8966,2,  -999.0,9,   302.8,2,    5.76,2,   11.71,2, -999.00,9,    0.83,2,-999.000,9,-999.000,9,-999.000,9,  -999.0,9,  -999.0,9,-999.0000,9,  -999.00,  1.3061
06AQ19960712,ARKXII,51,1,25,166759,2,19960808,0309,85.2833,111.5883,4363,   399.2,  0.9872, 34.8934,2, 34.8927,2,  -999.0,9,   302.5,2,    6.05,2,   11.90,2, -999.00,9,    0.84,2,   3.652,2,   1.744,2,   4.476,2,  2147.0,2,  -999.0,9,   7.7005,2,    25.00,  0.9720
06AQ19960712,ARKXII,51,1,24,166758,2,19960808,0309,85.2833,111.5883,4363,   499.3,  0.6199, 34.8901,2, 34.8893,2,  -999.0,9,   302.3,2,    6.15,2,   11.71,2, -999.00,9,    0.84,2,-999.000,9,-999.000,9,-999.000,9,  -999.0,9,  -999.0,9,-999.0000,9,  -999.00,  0.6023
06AQ19960712,ARKXII,51,1,23,166757,2,19960808,0309,85.2833,111.5883,4363,   599.2,  0.2258, 34.8854,2, 34.8848,2,  -999.0,9,   303.7,2,    6.34,2,   11.80,2, -999.00,9,    0.85,2,   3.101,2,   1.485,2,   4.305,2,  2150.5,2,  -999.0,9,   7.6928,2,    25.00,  0.2072
06AQ19960712,ARKXII,51,1,22,166756,2,19960808,0309,85.2833,111.5883,4363,   699.6, -0.0110, 34.8845,2, 34.8846,2,  -999.0,9,   303.8,2,    6.54,2,   11.90,2, -999.00,9,    0.86,2,-999.000,9,-999.000,9,-999.000,9,  -999.0,9,  -999.0,9,-999.0000,9,  -999.00, -0.0344
06AQ19960712,ARKXII,51,1,21,166755,2,19960808,0309,85.2833,111.5883,4363,   799.4, -0.1566, 34.8906,2, 34.8907,2,  -999.0,9,   303.4,2,    6.83,2,   11.90,2, -999.00,9,    0.87,2,   2.376,2,   1.138,2,   3.801,2,  -999.0,9,  -999.0,9,-999.0000,9,  -999.00, -0.1863
06AQ19960712,ARKXII,51,1,20,166754,2,19960808,0309,85.2833,111.5883,4363,   999.2, -0.3523, 34.9085,2, 34.9078,2,  -999.0,9,   302.3,2,    7.51,2,   12.39,2, -999.00,9,    0.89,2,-999.000,9,-999.000,9,-999.000,9,  2156.3,2,  -999.0,9,   7.6889,2,    25.00, -0.3898
06AQ19960712,ARKXII,51,1,19,166753,2,19960808,0309,85.2833,111.5883,4363,  1199.2, -0.4870, 34.9187,2, 34.9174,2,  -999.0,9,   302.1,2,    8.20,2,   12.68,2, -999.00,9,    0.92,2,   0.521,2,   0.271,2,   1.798,2,  -999.0,9,  -999.0,9,-999.0000,9,  -999.00, -0.5340
06AQ19960712,ARKXII,51,1,18,166752,2,19960808,0309,85.2833,111.5883,4363,  1399.7, -0.5239, 34.9273,2, 34.9256,2,  -999.0,9,   297.2,2,    9.56,2,   13.17,2, -999.00,9,    0.96,2,-999.000,9,-999.000,9,-999.000,9,  -999.0,9,  -999.0,9,-999.0000,9,  -999.00, -0.5816
06AQ19960712,ARKXII,51,1,17,166751,2,19960808,0309,85.2833,111.5883,4363,  1599.7, -0.5268, 34.9308,2, 34.9301,2,  -999.0,9,   295.3,2,   10.05,2,   13.37,2, -999.00,9,    0.97,2,   0.193,2,   0.117,2,   0.404,2,  -999.0,9,  -999.0,9,-999.0000,9,  -999.00, -0.5962
06AQ19960712,ARKXII,51,1,16,166750,2,19960808,0309,85.2833,111.5883,4363,  1799.9, -0.5225, 34.9354,2, 34.9354,2,  -999.0,9,   294.5,2,   10.44,2,   13.66,2, -999.00,9,    0.97,2,-999.000,9,-999.000,9,-999.000,9,  2148.7,2,  -999.0,9,   7.7034,2,    25.00, -0.6045
06AQ19960712,ARKXII,51,1,15,166749,2,19960808,0309,85.2833,111.5883,4363,  1999.9, -0.5442, 34.9360,2, 34.9364,2,  -999.0,9,   294.5,2,   10.63,2,   13.66,2, -999.00,9,    0.98,2,   0.196,2,   0.100,2,   0.288,2,  -999.0,9,  -999.0,9,-999.0000,9,  -999.00, -0.6382
06AQ19960712,ARKXII,51,1,14,166748,2,19960808,0309,85.2833,111.5883,4363,  2199.9, -0.5917, 34.9331,2, 34.9317,2,  -999.0,9,   296.8,2,   10.15,2,   13.76,2, -999.00,9,    0.97,2,-999.000,9,-999.000,9,-999.000,9,  -999.0,9,  -999.0,9,-999.0000,9,  -999.00, -0.6989
06AQ19960712,ARKXII,51,1,13,166747,2,19960808,0309,85.2833,111.5883,4363,  2399.5, -0.6398, 34.9297,2, 34.9284,2,  -999.0,9,   299.1,2,    9.85,3,   13.17,2, -999.00,9,    0.98,2,   0.264,2,   0.118,2,   0.628,2,  -999.0,9,  -999.0,9,-999.0000,9,  -999.00, -0.7592
06AQ19960712,ARKXII,51,1,12,166746,2,19960808,0309,85.2833,111.5883,4363,  2599.1, -0.7183, 34.9258,2, 34.9236,2,  -999.0,9,   300.5,2,   10.44,2,   13.27,2, -999.00,9,    0.96,2,-999.000,9,-999.000,9,-999.000,9,  2154.7,2,  -999.0,9,   7.6986,2,    25.00, -0.8514
06AQ19960712,ARKXII,51,1,11,166745,2,19960808,0309,85.2833,111.5883,4363,  2799.8, -0.7509, 34.9271,2, 34.9272,2,  -999.0,9,   300.5,2,   10.54,2,   13.56,2, -999.00,9,    0.95,2,-999.000,9,   0.124,2,   0.754,2,  -999.0,9,  -999.0,9,-999.0000,9,  -999.00, -0.8990
06AQ19960712,ARKXII,51,1,10,166744,2,19960808,0309,85.2833,111.5883,4363,  2998.6, -0.7621, 34.9302,2, 34.9303,2,  -999.0,9,   299.9,2,   10.63,2,   13.76,2, -999.00,9,    0.98,2,-999.000,9,-999.000,9,-999.000,9,  -999.0,9,  -999.0,9,-999.0000,9,  -999.00, -0.9265
06AQ19960712,ARKXII,51,1,9,166743,2,19960808,0309,85.2833,111.5883,4363,  3199.0, -0.7615, 34.9331,2, 34.9328,2,  -999.0,9,   299.6,2,   10.83,2,   13.76,2, -999.00,9,    0.97,2,   0.163,2,   0.100,2,   0.635,2,  -999.0,9,  -999.0,9,-999.0000,9,  -999.00, -0.9421
06AQ19960712,ARKXII,51,1,8,166742,2,19960808,0309,85.2833,111.5883,4363,  3399.5, -0.7519, 34.9359,2, 34.9360,2,  -999.0,9,   299.0,2,   10.93,2,   13.66,2, -999.00,9,    0.97,2,-999.000,9,-999.000,9,-999.000,9,  2151.1,2,  -999.0,9,   7.7044,2,    25.00, -0.9494
06AQ19960712,ARKXII,51,1,7,166741,2,19960808,0309,85.2833,111.5883,4363,  3599.4, -0.7384, 34.9384,2, 34.9389,2,  -999.0,9,   298.6,2,   11.02,2,   14.05,2, -999.00,9,    0.98,2,-999.000,9,   0.075,2,   0.512,2,  -999.0,9,  -999.0,9,-999.0000,9,  -999.00, -0.9545
06AQ19960712,ARKXII,51,1,6,166740,2,19960808,0309,85.2833,111.5883,4363,  3799.3, -0.7178, 34.9403,2, 34.9409,2,  -999.0,9,   298.0,2,   11.02,2,   13.76,2, -999.00,9,    0.99,2,-999.000,9,-999.000,9,-999.000,9,  -999.0,9,  -999.0,9,-999.0000,9,  -999.00, -0.9523
06AQ19960712,ARKXII,51,1,5,166739,2,19960808,0309,85.2833,111.5883,4363,  3999.8, -0.6935, 34.9421,2, 34.9436,2,  -999.0,9,   297.5,2,   11.12,2,   13.66,2, -999.00,9,    0.98,2,-999.000,9,   0.106,2,   0.445,2,  -999.0,9,  -999.0,9,-999.0000,9,  -999.00, -0.9480
06AQ19960712,ARKXII,51,1,4,166738,2,19960808,0309,85.2833,111.5883,4363,  4199.9, -0.6734, 34.9425,2, 34.9434,2,  -999.0,9,   297.9,2,   11.22,2,   13.85,2, -999.00,9,    0.99,2,-999.000,9,-999.000,9,-999.000,9,  -999.0,9,  -999.0,9,-999.0000,9,  -999.00, -0.9482
06AQ19960712,ARKXII,51,1,3,166737,2,19960808,0309,85.2833,111.5883,4363,  4315.7, -0.6613, 34.9420,2, 34.9434,2,  -999.0,9,   297.5,2,   11.12,2,   13.76,2, -999.00,9,    0.96,2,-999.000,9,   0.110,2,   0.396,2,  2152.7,2,  -999.0,9,   7.6995,2,    25.00, -0.9480
06AQ19960712,ARKXII,51,1,2,166736,2,19960808,0309,85.2833,111.5883,4363,  4364.7, -0.6564, 34.9429,2, 34.9434,2,  -999.0,9,   297.8,2,   11.12,2,   13.56,2, -999.00,9,    0.95,2,   0.135,2,   0.100,2,   0.410,2,  2151.5,2,  -999.0,9,   7.7005,2,    25.00, -0.9473
06AQ19960712,ARKXII,51,1,1,166735,2,19960808,0309,85.2833,111.5883,4363,  4416.1, -0.6491, 34.9411,2, 34.9432,2,  -999.0,9,   298.0,2,   11.12,2,   13.37,2, -999.00,9,    0.97,2,-999.000,9,-999.000,9,-999.000,9,  2147.9,2,  -999.0,9,   7.6995,2,    25.00, -0.9467