BOTTLE,20100322CCHDOSIODM
#Nutrient, CFC, CO2 and THETA data from the CARINA Project Exchange File were merged into the Jim Swift Exchange File based on the ODF CTD data, final Salinity and final Dissolved Oxygen.
#Carina file has BIO numbers for BTLNBRs while the ODF file had no BIO numbers but actual bottle numbers (1-36) for SAMPNO and BTLNBR
#Carina file had no SAMPNO or TIME. Positions appear to be an average of all cast positions for the station. ODF positions are start up position for each cast.
#
#Following changes were made to the Carina file:
# Added SECT_ID "ARKXII". This is the AWI designation of the cruise. No SECT_ID in CARINA file. SECT_ID is "NA" in ODF bottle data files.
# Reordered sample pressures for Stations 56, 72, 80, 84 & 94 to be contiguous from surface to bottom.
# Changed pH parameter order from "PH_SWS,PH_TEMP,PH_SWS_FLAG_W" to "PH_SWS,PH_SWS_FLAG_W,PH_TMP" so JOA associates flag with PH_SWS instead of PHTMP.
# Exchange file, dated May 29, 2009, was taken from Project CARINA section of CCHDO website.
# Changed CASTNO Station 31 BTLNBR 166014-165996 CTDPRS 11-485db from 1 to 2 to match ODF & ConOps. No info on Cast 1.
# Changed CASTNO Station 38 BTLNBR 166219-166189 CTDPRS 10-3060db from 1 to 2 to match ODF & ConOps. 
## ConOps for Sta 38 Cast 1 shows 13 sample bottles from 0 to 300 MWO with Note:"No BIO#'s"
# Changed CASTNO Station 41 BTLNBR 166340-166410 CTDPRS 282 -3617db from 1 to 2 to match ODF & ConOps 
# Changed CASTNO Station 43 BTLNBR 166456-166424 CTDPRS 10-801db from 1 to 2 to match ODF & ConOps 
# Changed CASTNO Station 44 BTLNBR 166490-166457 CTDPRS 10-3762.0db from 1 to 2 to match ODF & ConOps, Cast 1 is "Shallow Phyto (No BIO ids)
# Changed CASTNO Station 46 BTLNBR 166562-166527 CTDPRS 10-4206.0db from 1 to 2 to match ODF & ConOps, Cast 1 12 bottles, No sample log - Phyto?
# Changed CASTNO Station 47 BTLNBR 166604-166569 CTDPRS 10-4206.0db from 1 to 2 to match ODF & ConOps, 
# Changed CASTNO Station 48 BTLNBR 166662-166630 CTDPRS 10-4206.0db from 1 to 2 to match ODF & ConOps, 
# Changed CASTNO Station 50 BTLNBR 166734-166699 CTDPRS  9-4450.0db from 1 to 2 to match ODF & ConOps, Cast 1 is "phyto only"
# Changed CASTNO Station 52 BTLNBR 166806-166771 CTDPRS 10-4455db from 1 to 2 to match ODF & ConOps. Cast 1 "Shallow Phyto no BIO#s".
# Changed CASTNO Station 52 BTLNBR 166806-166803 CTDPRS 10.1-40.8db to BTLNBRs 166807-166804. No 166803 in Sample Log. 
## ODF BIONBR vs ODF Sample Number file shows:
##Sta Ca ODF# BIO#  WireOut(ConOps)
## 52  2  32 166802 60
## 52  2  33 166804 40
## 52  2  34 166805 30
## 52  2  35 166806 20
## 52  2  36 166807 10
## ConOps notes indicate CTD problems Station 52 Cast 2. Assuming ODF bottle file correct.
# Changed CASTNO Station 54 BTLNBR 166851,166848-166844 CTDPRS 11-80db from 1 to 2 to match ODF & ConOps
# Changed CASTNO Station 55 BTLNBR 166923-166893 CTDPRS 10-799db from 1 to 2 to match ODF & ConOps
# Changed CASTNO Station 56 BTLNBR 166923-166893 CTDPRS 10-799db from 1 to 2 to match ODF & ConOps
# Changed CASTNO Station 58 BTLNBR 167050-167015 CTDPRS 10-4020db from 1 to 2 to match ODF & ConOps. Cast 1 "Shallow Phyto no BIO#s".
# Changed CASTNO Station 62 BTLNBR 167186-167151 CTDPRS 10-1154db from 1 to 2 to match ODF & ConOps. Cast 1 "Seabird CTD/ADCP cast".
# Changed CASTNO Station 63 BTLNBR 167206-167187 CTDPRS 10-956db from 1 to 2 to match ODF & ConOps. No info on Cast 1.               
# Changed CASTNO Station 64 BTLNBR 167230-167207 CTDPRS 10-863db from 1 to 2 to match ODF & ConOps. No info on Cast 1.               
# Changed CASTNO Station 72 BTLNBR 167514-167475 CTDPRS 400-3900db from 1 to 2 to match ODF & ConOps. 
# Changed CASTNO Station 73 BTLNBR 167551-167569 CTDPRS 10-150db from 1 to 2 to match ODF & ConOps. 
# Changed CASTNO Station 78 BTLNBR 167742-167736 CTDPRS 10-40db from 1 to 2 to match ODF & ConOps. 
# Changed CASTNO Station 82 BTLNBR 167912-167889 CTDPRS 10-800db from 1 to 2 to match ODF & ConOps
# Changed CASTNO Station 87 BTLNBR 168092-168062 CTDPRS 300-3067db from 1 to 2 to match ODF & ConOps
# Changed CASTNO Station 88 BTLNBR 168129-168098 CTDPRS 10-1514db from 1 to 2 to match ODF & ConOps
#
#Original header of Carina file:
#BOTTLE,20090513PRINUNIVRMK
# 4/25/05 Initialized README file  
# 4/11/04 data from Kozyr via CARINA site 
# 5/5/05 another version of data from L. Anderson with more values for most 
# 	paramteres 
# Ship: Polarstern cruise 06ARKXII (called AQN12 in CARINA) 
# Dates: 7/12/- 9/6/1996 
# EXPOCODE: 06AQ19960712 
# Cruise Report: The expedition ARCTIC '96 of RV "Polarstern" (ARK XII) with the Arctic Climate System Study (ACSYS), Ber. Polarforsch. 234, ISSN 0176-5027, 1997. 
# 102 stations with 24 place Rosette 
# Chief Scientist: E. Augstein 
# Hydro: Who - SIO; Status - final 
# 	Notes: from L. Anderson file 
# Nuts/O2: Who - ???; Status - final 
# 	Notes: nuts converted from umol/l to umol/kg with 1.025 
# TCO2: Who - L. Anderson; Status - final 
# 	Notes: CRM??? 
# 	Data from Anderson 
# TA: Who - L. Anderson; Status - final 
# 	Notes: CRM??? 
# 	Data from Anderson 
# pH: Who - L. Anderson; Status - final 
# 	Notes: Temperature 15C, spectrophotometric, total scale 
# 	Data from Anderson 
# 	Converted to SWS at 25C 
# CFC: Who - BIO/IfMK; Status - final 
# 	Notes: Includes CCl4 
# H-3/He-3: Who -  LDEO/IUP; Status - collected, no data in file   
# 	Notes:  
# Other: O-18, minor trace elements (Oregon State), volatile halogenated organics, 
# 	DOM, DOC, Pu 
#EXPOCODE,SECT_ID,STNNBR,CASTNO,BTLNBR,BTLNBR_FLAG_W,DATE,LATITUDE,LONGITUDE,DEPTH,CTDPRS,CTDTMP,SALNTY,SALNTY_FLAG_W,OXYGEN,OXYGEN_FLAG_W,SILCAT,SILCAT_FLAG_W,NITRAT,NITRAT_FLAG_W,PHSPHT,PHSPHT_FLAG_W,CFC-11,CFC-11_FLAG_W,CFC-12,CFC-12_FLAG_W,CCL4,CCL4_FLAG_W,TCARBN,TCARBN_FLAG_W,ALKALI,ALKALI_FLAG_W,PH_SWS,PH_TEMP,PH_SWS_FLAG_W,THETA
#,,,,,,,,METERS,DBARS,ITS-90,PSS-78,,UMOL/KG,,UMOL/KG,,UMOL/KG,,UMOL/KG,,PMOL/KG,,PMOL/KG,,PMOL/KG,,UMOL/KG,,UMOL/KG,,,DEGC,,DEGC
#
#Following changes made to the ODF exchange file:
#STNNBR 47 CASTNO 1 SAMPNOs 7 and 8 deleted. No BIO number for use as BTLNBR. No record of samples taken.
#STNNBR 72 CASTNO 1 SAMPNOs 28 and 29 deleted. No BIO number for use as BTLNBR. No record of samples taken.
## CCHDO merge program stops with BTLNBR -999 even though no samples to be merged.
#EXPOCODE changed from 06AQARKXII to 06AQ19960712.
#SECT_ID changed from NA to ARKXII.
# Deleted Station 83 from ODF bottle file, Seabird CTD trip data not corrected. Other Seabird CTD cast, Station 53, not in ODF file.
#
#Original ODF exchange file header with first data line:
#BOTTLE,20010515WHPSIOdm
#code : jjward hyd_to_exchange.pl
#original files copied from HTML directory: 20010515
#original HYD file: a96hy.txt   Mon May 14 14:39:54 2001
#original SUM file: a96su.txt   Mon May 14 14:40:24 2001
#EXPOCODE,SECT_ID,STNNBR,CASTNO,SAMPNO,BTLNBR,BTLNBR_FLAG_W,DATE,TIME,LATITUDE,LONGITUDE,DEPTH,CTDPRS,CTDTMP,CTDSAL,CTDSAL_FLAG_W,SALNTY,SALNTY_FLAG_W,CTDOXY,CTDOXY_FLAG_W,OXYGEN,OXYGEN_FLAG_W,SILCAT,SILCAT_FLAG_W,NITRAT,NITRAT_FLAG_W,NITRIT,NITRIT_FLAG_W,PHSPHT,PHSPHT_FLAG_W,CFC-11,CFC-11_FLAG_W,CFC-12,CFC-12_FLAG_W
#,,,,,,,,,,,,DBAR,ITS-90,PSS-78,,PSS-78,,UMOL/KG,,UMOL/KG,,UMOL/KG,,UMOL/KG,,UMOL/KG,,UMOL/KG,,PMOL/KG,,PMOL/KG,
#    06AQARKXII,    NA,     3,  1,     23,     23,2,19960724,1559, 81.3800,  65.8650,  241,      4.9,  -1.2832,  33.5710,2,  33.5792,2,   -999.0,9,    385.6,2,  -999.00,9,  -999.00,9,  -999.00,9,  -999.00,9, -999.000,9, -999.000,9
#
#BOTTLE,20100309CCHDOSIODM
#code : merge_exchange.rb 
#original files copied from HTML directory: 2010-03-09
#original HYD file: /Users/dave/CCHD10/ARK96/TESTCUTMERGE/NA_bio2btl--999btls_hy1.csv  2010-03-09
EXPOCODE,SECT_ID,STNNBR,CASTNO,SAMPNO,BTLNBR,BTLNBR_FLAG_W,DATE,TIME,LATITUDE,LONGITUDE,DEPTH,CTDPRS,CTDTMP,CTDSAL,CTDSAL_FLAG_W,SALNTY,SALNTY_FLAG_W,CTDOXY,CTDOXY_FLAG_W,OXYGEN,OXYGEN_FLAG_W,SILCAT,SILCAT_FLAG_W,NITRAT,NITRAT_FLAG_W,NITRIT,NITRIT_FLAG_W,PHSPHT,PHSPHT_FLAG_W,CFC-11,CFC-11_FLAG_W,CFC-12,CFC-12_FLAG_W,CCL4,CCL4_FLAG_W,TCARBN,TCARBN_FLAG_W,ALKALI,ALKALI_FLAG_W,PH_SWS,PH_SWS_FLAG_W,PH_TMP,THETA
,,,,,,,,,,,METERS,DBAR,ITS-90,PSS-78,,PSS-78,,UMOL/KG,,UMOL/KG,,UMOL/KG,,UMOL/KG,,UMOL/KG,,UMOL/KG,,PMOL/KG,,PMOL/KG,,PMOL/KG,,UMOL/KG,,UMOL/KG,,,,DEG C,DEG C
06AQ19960712,ARKXII,3,1,23,165323,2,19960724,1559,81.3800,64.8650,241,     4.9, -1.2832, 33.5710,2, 33.5792,2,  -999.0,9,   385.6,2,    2.34,2,    1.27,2, -999.00,9,    0.21,2,   6.528,2,   3.160,2,   9.249,2,  2056.6,2,  2236.3,2,   7.7978,2,    25.00, -1.2801
06AQ19960712,ARKXII,3,1,24,165324,2,19960724,1559,81.3800,64.8650,241,     4.9, -1.2836, 33.5696,2,-999.0000,9,  -999.0,9,  -999.0,9, -999.00,9, -999.00,9, -999.00,9, -999.00,9,-999.000,9,-999.000,9,-999.000,9,  -999.0,9,  -999.0,9,-999.0000,9,  -999.00,-999.0000
06AQ19960712,ARKXII,3,1,22,165322,2,19960724,1559,81.3800,64.8650,241,    15.6, -1.2972, 33.6157,2, 33.6289,2,  -999.0,9,  -999.0,9, -999.00,9, -999.00,9, -999.00,9, -999.00,9,-999.000,9,-999.000,9,-999.000,9,  -999.0,9,  -999.0,9,-999.0000,9,  -999.00,-999.0000
06AQ19960712,ARKXII,3,1,21,165321,2,19960724,1559,81.3800,64.8650,241,    15.6, -1.2889, 33.6199,2, 33.6576,2,  -999.0,9,   380.3,2,    2.54,2,    1.76,2, -999.00,9,    0.25,2,   6.439,2,   3.099,2,   8.671,2,  2068.4,2,  2234.4,2,   7.7900,2,    25.00, -1.2863
06AQ19960712,ARKXII,3,1,20,165320,2,19960724,1559,81.3800,64.8650,241,    25.9, -1.1282, 33.9729,2, 34.0972,2,  -999.0,9,  -999.0,9, -999.00,9, -999.00,9, -999.00,9, -999.00,9,-999.000,9,-999.000,9,-999.000,9,  -999.0,9,  -999.0,9,-999.0000,9,  -999.00,-999.0000
06AQ19960712,ARKXII,3,1,19,165319,2,19960724,1559,81.3800,64.8650,241,    25.9, -1.1128, 34.0061,2, 34.0243,2,  -999.0,9,   356.4,2,    3.22,2,    4.49,2, -999.00,9,    0.39,2,   6.731,2,   3.084,2,   8.269,2,  2104.1,2,  2247.1,2,   7.7414,2,    25.00, -1.1196
06AQ19960712,ARKXII,3,1,18,165318,2,19960724,1559,81.3800,64.8650,241,    35.7, -1.3767, 34.2379,2, 34.2337,2,  -999.0,9,  -999.0,9, -999.00,9, -999.00,9, -999.00,9, -999.00,9,-999.000,9,-999.000,9,-999.000,9,  -999.0,9,  -999.0,9,-999.0000,9,  -999.00,-999.0000
06AQ19960712,ARKXII,3,1,17,165317,2,19960724,1559,81.3800,64.8650,241,    35.7, -1.4153, 34.2534,2, 34.2446,2,  -999.0,9,   338.1,2,    3.80,2,    7.32,2, -999.00,9,    0.54,2,   6.435,2,   2.997,2,   8.061,2,  2120.5,2,  2254.1,2,   7.7143,2,    25.00, -1.3958
06AQ19960712,ARKXII,3,1,16,165316,2,19960724,1559,81.3800,64.8650,241,    46.2, -1.5183, 34.3336,2, 34.3465,2,  -999.0,9,  -999.0,9, -999.00,9, -999.00,9, -999.00,9, -999.00,9,-999.000,9,-999.000,9,-999.000,9,  -999.0,9,  -999.0,9,-999.0000,9,  -999.00,-999.0000
06AQ19960712,ARKXII,3,1,15,165315,2,19960724,1559,81.3800,64.8650,241,    46.2, -1.5497, 34.3718,2, 34.3724,2,  -999.0,9,   326.0,2,    4.39,2,    8.78,2, -999.00,9,    0.60,2,   6.109,2,   2.995,2,   7.260,2,  2131.7,2,  2270.4,2,   7.6949,2,    25.00, -1.5250
06AQ19960712,ARKXII,3,1,13,165313,2,19960724,1559,81.3800,64.8650,241,    66.4, -1.6328, 34.4675,2, 34.4538,2,  -999.0,9,   316.4,2,    4.98,2,    9.95,2, -999.00,9,    0.68,2,   6.285,2,   2.967,2,   7.260,2,  2140.0,2,  2266.4,2,   7.6795,2,    25.00, -1.6254
06AQ19960712,ARKXII,3,1,14,165314,2,19960724,1559,81.3800,64.8650,241,    66.4, -1.6056, 34.4632,2, 34.4645,2,  -999.0,9,  -999.0,9, -999.00,9, -999.00,9, -999.00,9, -999.00,9,-999.000,9,-999.000,9,-999.000,9,  -999.0,9,  -999.0,9,-999.0000,9,  -999.00,-999.0000
06AQ19960712,ARKXII,3,1,12,165312,2,19960724,1559,81.3800,64.8650,241,    86.5, -1.5518, 34.4812,2, 34.4876,2,  -999.0,9,   316.0,2,    5.07,2,   10.05,2, -999.00,9,    0.69,2,   6.382,2,   2.952,2,   8.037,2,  2139.8,2,  2270.1,2,   7.6766,2,    25.00, -1.5519
06AQ19960712,ARKXII,3,1,11,165311,2,19960724,1559,81.3800,64.8650,241,    86.5, -1.5195, 34.4894,2,-999.0000,9,  -999.0,9,  -999.0,9, -999.00,9, -999.00,9, -999.00,9, -999.00,9,-999.000,9,-999.000,9,-999.000,9,  -999.0,9,  -999.0,9,-999.0000,9,  -999.00,-999.0000
06AQ19960712,ARKXII,3,1,9,165309,2,19960724,1559,81.3800,64.8650,241,   112.0,  0.0888, 34.6186,2, 34.6279,2,  -999.0,9,   310.5,2,    5.17,2,   10.63,2, -999.00,9,    0.71,2,   5.642,2,   2.767,2,   6.731,2,  2138.7,2,  2271.7,2,   7.6968,2,    25.00,  0.0569
06AQ19960712,ARKXII,3,1,10,165310,2,19960724,1559,81.3800,64.8650,241,   112.1,  0.0372, 34.6156,2, 34.6257,2,  -999.0,9,  -999.0,9, -999.00,9, -999.00,9, -999.00,9, -999.00,9,-999.000,9,-999.000,9,-999.000,9,  -999.0,9,  -999.0,9,-999.0000,9,  -999.00,-999.0000
06AQ19960712,ARKXII,3,1,7,165307,2,19960724,1559,81.3800,64.8650,241,   136.9,  0.9050, 34.7171,2, 34.7204,2,  -999.0,9,   307.5,2,    5.46,2,   11.22,2, -999.00,9,    0.73,2,   5.318,2,   2.617,2,   6.393,2,  2139.2,2,  2282.0,2,   7.7064,2,    25.00,  0.8930
06AQ19960712,ARKXII,3,1,8,165308,2,19960724,1559,81.3800,64.8650,241,   136.9,  0.8894, 34.7143,2,-999.0000,9,  -999.0,9,  -999.0,9, -999.00,9, -999.00,9, -999.00,9, -999.00,9,-999.000,9,-999.000,9,-999.000,9,  -999.0,9,  -999.0,9,-999.0000,9,  -999.00,-999.0000
06AQ19960712,ARKXII,3,1,5,165305,2,19960724,1559,81.3800,64.8650,241,   186.8,  1.7245, 34.8482,2, 34.8338,2,  -999.0,9,   305.0,2,    5.85,2,   11.90,2, -999.00,9,    0.76,2,   5.174,2,   2.575,2,   6.692,2,  2139.0,2,  2288.6,2,   7.7122,2,    25.00,  1.7174
06AQ19960712,ARKXII,3,1,6,165306,2,19960724,1559,81.3800,64.8650,241,   186.9,  1.7200, 34.8478,2, 34.8459,2,  -999.0,9,  -999.0,9, -999.00,9, -999.00,9, -999.00,9, -999.00,9,-999.000,9,-999.000,9,-999.000,9,  -999.0,9,  -999.0,9,-999.0000,9,  -999.00,-999.0000
06AQ19960712,ARKXII,3,1,3,165303,2,19960724,1559,81.3800,64.8650,241,   221.8,  1.0434, 34.8041,2, 34.8005,2,  -999.0,9,   304.8,2,    6.24,2,   11.90,2, -999.00,9,    0.76,2,   5.316,2,   2.627,2,   6.325,2,  2148.9,2,  -999.0,9,   7.6967,2,    25.00,  1.0458
06AQ19960712,ARKXII,3,1,4,165304,2,19960724,1559,81.3800,64.8650,241,   222.0,  1.0445, 34.8043,2, 34.7977,2,  -999.0,9,  -999.0,9,    6.24,2,   11.80,2, -999.00,9,    0.77,2,   5.517,2,   2.624,2,   6.467,2,  -999.0,9,  2291.2,2,   7.6996,2,    25.00,  1.0378
06AQ19960712,ARKXII,3,1,2,165302,2,19960724,1559,81.3800,64.8650,241,   230.4,  1.0015, 34.8036,2, 34.8009,2,  -999.0,9,  -999.0,9, -999.00,9, -999.00,9, -999.00,9, -999.00,9,-999.000,9,-999.000,9,-999.000,9,  -999.0,9,  -999.0,9,-999.0000,9,  -999.00,-999.0000
06AQ19960712,ARKXII,3,1,1,165301,2,19960724,1559,81.3800,64.8650,241,   230.4,  1.0051, 34.8033,2, 34.8022,2,  -999.0,9,   304.9,2,    6.15,2,   11.80,2, -999.00,9,    0.76,2,   5.655,2,   2.718,2,   6.426,2,  2147.5,2,  2290.8,2,   7.6987,2,    25.00,  0.9975
06AQ19960712,ARKXII,4,1,17,165342,2,19960724,1905,81.4817,65.8417,400,     9.7, -1.7264, 33.9004,2, 33.8904,2,  -999.0,9,   347.8,2,    2.44,2,    4.88,2, -999.00,9,    0.43,2,   6.525,2,   3.199,2,   7.718,2,  -999.0,9,  -999.0,9,-999.0000,9,  -999.00, -1.7232
06AQ19960712,ARKXII,4,1,16,165341,2,19960724,1905,81.4817,65.8417,400,    19.6, -1.7295, 33.8494,2, 33.8455,2,  -999.0,9,   349.4,2,    2.44,2,    4.88,2, -999.00,9,    0.41,2,   5.975,2,   2.858,2,   7.283,2,  2097.8,2,  -999.0,9,   7.7375,2,    25.00, -1.7284
06AQ19960712,ARKXII,4,1,15,165340,2,19960724,1905,81.4817,65.8417,400,    29.7, -1.7329, 33.8668,2, 33.9614,2,  -999.0,9,   342.7,2,    2.63,2,    5.46,2, -999.00,9,    0.45,2,   6.093,2,   3.021,2,   7.337,2,  2103.4,2,  -999.0,9,   7.7394,2,    25.00, -1.7286
06AQ19960712,ARKXII,4,1,14,165339,2,19960724,1905,81.4817,65.8417,400,    39.8, -1.5614, 34.2003,2, 34.1905,2,  -999.0,9,   331.2,2,    3.22,2,    7.22,2, -999.00,9,    0.55,2,   6.533,2,   3.055,2,   6.525,2,  2116.0,2,  -999.0,9,   7.7191,2,    25.00, -1.5798
06AQ19960712,ARKXII,4,1,13,165338,2,19960724,1905,81.4817,65.8417,400,    49.8, -1.3334, 34.2711,2, 34.2786,2,  -999.0,9,   328.0,2,    3.41,2,    8.10,2, -999.00,9,    0.59,2,   5.974,2,   2.763,2,   6.567,2,  2117.2,2,  -999.0,9,   7.7190,2,    25.00, -1.3622
06AQ19960712,ARKXII,4,1,12,165337,2,19960724,1905,81.4817,65.8417,400,    59.8, -0.3617, 34.4147,2, 34.3663,2,  -999.0,9,   322.1,2,    3.71,2,    8.78,2, -999.00,9,    0.62,2,   6.025,2,   2.839,2,   6.724,2,  2123.0,2,  -999.0,9,   7.7142,2,    25.00, -0.5948
06AQ19960712,ARKXII,4,1,11,165336,2,19960724,1905,81.4817,65.8417,400,    79.9,  1.9203, 34.7488,2, 34.7783,2,  -999.0,9,   301.6,2,    5.17,2,   11.51,2, -999.00,9,    0.75,2,   4.892,2,   2.244,2,   5.220,2,  2142.8,2,  -999.0,9,   7.7227,2,    25.00,  1.9018
06AQ19960712,ARKXII,4,1,10,165335,2,19960724,1905,81.4817,65.8417,400,    99.4,  2.7627, 34.8686,2, 34.8738,2,  -999.0,9,   298.3,2,    5.46,2,   12.00,2, -999.00,9,    0.77,2,-999.000,9,-999.000,9,-999.000,9,  -999.0,9,  -999.0,9,   7.7256,2,    25.00,  2.7301
06AQ19960712,ARKXII,4,1,9,165334,2,19960724,1905,81.4817,65.8417,400,   125.2,  2.0484, 34.8071,2, 34.8204,2,  -999.0,9,   301.7,2,    5.37,2,   11.61,2, -999.00,9,    0.74,2,   5.149,2,   2.550,2,   5.609,2,  2141.2,2,  -999.0,9,   7.7218,2,    25.00,  2.0422
06AQ19960712,ARKXII,4,1,8,165333,2,19960724,1905,81.4817,65.8417,400,   150.0,  3.0533, 34.9375,2, 34.9385,2,  -999.0,9,   298.6,2,    5.66,2,   12.39,2, -999.00,9,    0.81,2,   4.390,2,   2.153,2,   5.213,2,  2143.7,2,  -999.0,9,   7.7285,2,    25.00,  3.0486
06AQ19960712,ARKXII,4,1,7,165332,2,19960724,1905,81.4817,65.8417,400,   200.1,  2.9709, 34.9632,2, 34.9597,2,  -999.0,9,   300.4,2,    5.85,2,   12.49,2, -999.00,9,    0.81,2,   4.684,2,   2.418,2,   5.313,2,  2142.1,2,  -999.0,9,   7.7256,2,    25.00,  2.9626
06AQ19960712,ARKXII,4,1,6,165331,2,19960724,1905,81.4817,65.8417,400,   251.3,  2.4212, 34.9340,2, 34.9377,2,  -999.0,9,   302.0,2,    5.95,2,   12.39,2, -999.00,9,    0.81,2,   4.995,2,   2.450,2,   5.568,2,  2145.5,2,  -999.0,9,   7.7266,2,    25.00,  2.4254
06AQ19960712,ARKXII,4,1,5,165330,2,19960724,1905,81.4817,65.8417,400,   301.6,  1.8918, 34.9022,2, 34.9001,2,  -999.0,9,   302.4,2,    6.05,2,   12.49,2, -999.00,9,    0.81,2,   4.945,2,   2.216,2,   5.331,2,  2147.0,2,  -999.0,9,   7.7140,2,    25.00,  1.8807
06AQ19960712,ARKXII,4,1,4,165329,2,19960724,1905,81.4817,65.8417,400,   351.2,  1.6869, 34.8949,2, 34.8886,2,  -999.0,9,   301.5,2,    6.24,2,   12.39,2, -999.00,9,    0.82,2,   4.946,2,   2.507,2,   5.591,2,  2148.1,2,  -999.0,9,   7.7044,2,    25.00,  1.6715
06AQ19960712,ARKXII,4,1,3,165328,2,19960724,1905,81.4817,65.8417,400,   363.0,  1.7024, 34.9008,2, 34.9004,2,  -999.0,9,   302.5,2,    6.15,2,   12.39,2, -999.00,9,    0.81,2,   4.847,2,   2.493,2,   5.328,2,  2148.5,2,  -999.0,9,   7.7063,2,    25.00,  1.6877
06AQ19960712,ARKXII,4,1,2,165327,2,19960724,1905,81.4817,65.8417,400,   372.4,  1.6946, 34.9013,2, 34.9011,2,  -999.0,9,   302.2,2,    6.34,2,   12.49,2, -999.00,9,    0.81,2,   4.980,2,   2.569,2,   5.565,2,  2152.1,2,  -999.0,9,   7.7044,2,    25.00,  1.6773
06AQ19960712,ARKXII,4,1,1,165326,2,19960724,1905,81.4817,65.8417,400,   381.7,  1.6816, 34.9012,2, 34.8999,2,  -999.0,9,   303.1,2,    6.34,2,   12.39,2, -999.00,9,    0.80,2,   4.896,2,   2.395,2,   5.600,2,  2144.1,2,  -999.0,9,   7.7024,2,    25.00,  1.6658