BOTTLE,20100322CCHDOSIODM
EXPOCODE,SECT_ID,STNNBR,CASTNO,SAMPNO,BTLNBR,BTLNBR_FLAG_W,DATE,TIME,LATITUDE,LONGITUDE,DEPTH,CTDPRS,CTDTMP,CTDSAL,CTDSAL_FLAG_W,SALNTY,SALNTY_FLAG_W,CTDOXY,CTDOXY_FLAG_W,OXYGEN,OXYGEN_FLAG_W,SILCAT,SILCAT_FLAG_W,NITRAT,NITRAT_FLAG_W,NITRIT,NITRIT_FLAG_W,PHSPHT,PHSPHT_FLAG_W,CFC-11,CFC-11_FLAG_W,CFC-12,CFC-12_FLAG_W,CCL4,CCL4_FLAG_W,TCARBN,TCARBN_FLAG_W,ALKALI,ALKALI_FLAG_W,PH_SWS,PH_SWS_FLAG_W,PH_TMP,THETA
,,,,,,,,,,,METERS,DBAR,ITS-90,PSS-78,,PSS-78,,UMOL/KG,,UMOL/KG,,UMOL/KG,,UMOL/KG,,UMOL/KG,,UMOL/KG,,PMOL/KG,,PMOL/KG,,PMOL/KG,,UMOL/KG,,UMOL/KG,,,,DEG C,DEG C
06AQ19960712,ARKXII,5,1,34,165376,2,19960724,2342,81.4650,66.8617,550,     3.2, -1.7561, 33.9545,2,-999.0000,9,  -999.0,9,   345.1,2, -999.00,9, -999.00,9, -999.00,9, -999.00,9,   6.624,2,   3.110,2,   8.264,2,  2101.0,2,  -999.0,9,-999.0000,9,  -999.00,-999.0000
06AQ19960712,ARKXII,5,1,33,165375,2,19960724,2342,81.4650,66.8617,550,    10.3, -1.7579, 33.9532,2,-999.0000,9,  -999.0,9,  -999.0,9, -999.00,9, -999.00,9, -999.00,9, -999.00,9,-999.000,9,-999.000,9,-999.000,9,  -999.0,9,  -999.0,9,-999.0000,9,  -999.00,-999.0000
06AQ19960712,ARKXII,5,1,32,165374,2,19960724,2342,81.4650,66.8617,550,    10.3, -1.7596, 33.9535,2, 33.9502,2,  -999.0,9,   345.1,2,    3.02,2,    5.95,2, -999.00,9,    0.56,2,   6.399,2,   3.104,2,   8.170,2,  2095.3,2,  -999.0,9,   7.7346,2,    25.00, -1.7552
06AQ19960712,ARKXII,5,1,31,165373,2,19960724,2342,81.4650,66.8617,550,    20.2, -1.7658, 33.9573,2,-999.0000,9,  -999.0,9,  -999.0,9, -999.00,9, -999.00,9, -999.00,9, -999.00,9,-999.000,9,-999.000,9,-999.000,9,  -999.0,9,  -999.0,9,-999.0000,9,  -999.00,-999.0000
06AQ19960712,ARKXII,5,1,30,165372,2,19960724,2342,81.4650,66.8617,550,    20.2, -1.7659, 33.9581,2, 33.9655,2,  -999.0,9,   344.8,2,    2.73,2,    6.05,2, -999.00,9,    0.56,2,   6.443,2,   3.121,2,   8.240,2,  2098.0,2,  2255.3,2,   7.7366,2,    25.00, -1.7634
06AQ19960712,ARKXII,5,1,29,165371,2,19960724,2342,81.4650,66.8617,550,    30.3, -1.7576, 34.0084,2,-999.0000,9,  -999.0,9,  -999.0,9, -999.00,9, -999.00,9, -999.00,9, -999.00,9,-999.000,9,-999.000,9,-999.000,9,  -999.0,9,  -999.0,9,-999.0000,9,  -999.00,-999.0000
06AQ19960712,ARKXII,5,1,28,165370,2,19960724,2342,81.4650,66.8617,550,    30.3, -1.7440, 34.0277,2, 34.0327,2,  -999.0,9,   340.4,2,    2.93,2,    6.44,2, -999.00,9,    0.59,2,   6.104,2,   3.037,2,   7.844,2,  2105.6,2,  2258.4,2,   7.7307,2,    25.00, -1.7466
06AQ19960712,ARKXII,5,1,27,165369,2,19960724,2342,81.4650,66.8617,550,    40.0, -1.6458, 34.1363,2,-999.0000,9,  -999.0,9,  -999.0,9, -999.00,9, -999.00,9, -999.00,9, -999.00,9,-999.000,9,-999.000,9,-999.000,9,  -999.0,9,  -999.0,9,-999.0000,9,  -999.00,-999.0000
06AQ19960712,ARKXII,5,1,26,165368,2,19960724,2342,81.4650,66.8617,550,    40.0, -1.5939, 34.1563,2, 34.2518,2,  -999.0,9,   325.8,2,    3.61,2,    8.29,2, -999.00,9,    0.67,2,   6.119,2,   2.980,2,   7.311,2,  2112.4,2,  2270.1,2,   7.7201,2,    25.00, -1.6208
06AQ19960712,ARKXII,5,1,24,165366,2,19960724,2342,81.4650,66.8617,550,    49.8, -0.9891, 34.2858,2, 34.3232,2,  -999.0,9,   321.8,2,    4.00,2,    9.07,2, -999.00,9,    0.70,2,   5.914,2,   2.832,2,   7.083,2,  2103.3,2,  2266.8,2,   7.7210,2,    25.00, -1.0003
06AQ19960712,ARKXII,5,1,25,165367,2,19960724,2342,81.4650,66.8617,550,    49.9, -1.0246, 34.2764,2,-999.0000,9,  -999.0,9,  -999.0,9, -999.00,9, -999.00,9, -999.00,9, -999.00,9,-999.000,9,-999.000,9,-999.000,9,  -999.0,9,  -999.0,9,-999.0000,9,  -999.00,-999.0000
06AQ19960712,ARKXII,5,1,23,165365,2,19960724,2342,81.4650,66.8617,550,    59.9,  0.7894, 34.5258,2, 34.5508,2,  -999.0,9,   309.7,2,    4.78,2,   10.54,2, -999.00,9,    0.78,2,   5.205,2,   2.528,2,   5.948,2,  2117.2,2,  2273.4,2,   7.7219,2,    25.00,  0.7625
06AQ19960712,ARKXII,5,1,22,165364,2,19960724,2342,81.4650,66.8617,550,    74.0,  2.0731, 34.7244,2,-999.0000,9,  -999.0,9,   302.4,2, -999.00,9, -999.00,9, -999.00,9, -999.00,9,-999.000,9,-999.000,9,-999.000,9,  2123.5,2,  2280.7,2,-999.0000,9  -999.00,-999.0000
06AQ19960712,ARKXII,5,1,21,165363,2,19960724,2342,81.4650,66.8617,550,    78.6,  2.2710, 34.7624,2, 34.7768,2,  -999.0,9,   301.1,2,    5.56,2,   11.90,2, -999.00,9,    0.82,2,   5.144,2,   2.451,2,   5.979,2,  2118.4,2,  2287.6,2,   7.7238,2,    25.00,  2.2597
06AQ19960712,ARKXII,5,1,19,165361,2,19960724,2342,81.4650,66.8617,550,    98.7,  2.7709, 34.8525,2, 34.8583,2,  -999.0,9,   298.8,2,    6.05,2,   12.39,2, -999.00,9,    0.84,2,   4.911,2,   2.346,2,   5.769,2,  2119.2,2,  2296.5,2,   7.7276,2,    25.00,  2.7681
06AQ19960712,ARKXII,5,1,20,165362,2,19960724,2342,81.4650,66.8617,550,    98.8,  2.7673, 34.8505,2,-999.0000,9,  -999.0,9,  -999.0,9, -999.00,9, -999.00,9, -999.00,9, -999.00,9,-999.000,9,-999.000,9,-999.000,9,  -999.0,9,  -999.0,9,-999.0000,9,  -999.00,-999.0000
06AQ19960712,ARKXII,5,1,17,165359,2,19960724,2342,81.4650,66.8617,550,   123.3,  2.8351, 34.8847,2, 34.8780,2,  -999.0,9,   299.9,2, -999.00,9,   12.68,2, -999.00,9, -999.00,9,   5.143,2,   2.450,2,   5.921,2,  2134.2,2,  2302.2,2,   7.7247,2,    25.00,  2.8185
06AQ19960712,ARKXII,5,1,18,165360,2,19960724,2342,81.4650,66.8617,550,   123.4,  2.8108, 34.8768,2, 34.8845,2,  -999.0,9,  -999.0,9, -999.00,9,   12.68,2, -999.00,9,    0.86,2,-999.000,9,-999.000,9,-999.000,9,  -999.0,9,  -999.0,9,-999.0000,9,  -999.00,  2.8085
06AQ19960712,ARKXII,5,1,15,165357,2,19960724,2342,81.4650,66.8617,550,   148.7,  2.9345, 34.9139,2, 34.9152,2,  -999.0,9,   300.3,2,    6.15,2,   12.68,2, -999.00,9,    0.93,2,   4.651,2,   2.361,2,   5.819,2,  2139.0,2,  2294.1,2,   7.7257,2,    25.00,  2.9359
06AQ19960712,ARKXII,5,1,16,165358,2,19960724,2342,81.4650,66.8617,550,   148.9,  2.9430, 34.9151,2,-999.0000,9,  -999.0,9,  -999.0,9, -999.00,9, -999.00,9, -999.00,9, -999.00,9,-999.000,9,-999.000,9,-999.000,9,  -999.0,9,  -999.0,9,-999.0000,9,  -999.00,-999.0000
06AQ19960712,ARKXII,5,1,13,165355,2,19960724,2342,81.4650,66.8617,550,   198.8,  2.9828, 34.9547,2, 34.9577,2,  -999.0,9,   301.3,2,    6.24,2,   12.98,2, -999.00,9,    0.94,2,   5.002,2,   2.459,2,   6.012,2,  2145.1,2,  2304.3,2,   7.7218,2,    25.00,  2.9776
06AQ19960712,ARKXII,5,1,14,165356,2,19960724,2342,81.4650,66.8617,550,   198.9,  2.9905, 34.9552,2,-999.0000,9,  -999.0,9,  -999.0,9, -999.00,9, -999.00,9, -999.00,9, -999.00,9,-999.000,9,-999.000,9,-999.000,9,  -999.0,9,  -999.0,9,-999.0000,9,  -999.00,-999.0000
06AQ19960712,ARKXII,5,1,11,165353,2,19960724,2342,81.4650,66.8617,550,   248.9,  2.8158, 34.9636,2, 34.9668,2,  -999.0,9,   302.3,2,    6.24,2,   12.98,2, -999.00,9,    0.93,2,   4.900,2,   2.408,2,   6.110,2,  2145.7,2,  2290.9,2,   7.7199,2,    25.00,  2.8047
06AQ19960712,ARKXII,5,1,12,165354,2,19960724,2342,81.4650,66.8617,550,   249.0,  2.8163, 34.9632,2,-999.0000,9,  -999.0,9,  -999.0,9, -999.00,9, -999.00,9, -999.00,9, -999.00,9,-999.000,9,-999.000,9,-999.000,9,  -999.0,9,  -999.0,9,-999.0000,9,  -999.00,-999.0000
06AQ19960712,ARKXII,5,1,9,165351,2,19960724,2342,81.4650,66.8617,550,   299.2,  2.5145, 34.9565,2, 34.9540,2,  -999.0,9,   303.7,2,    6.24,2,   12.88,2, -999.00,9,    0.93,2,   5.062,2,   2.406,2,-999.000,9,  2143.9,2,  2295.0,2,   7.7179,2,    25.00,  2.5083
06AQ19960712,ARKXII,5,1,10,165352,2,19960724,2342,81.4650,66.8617,550,   299.4,  2.5147, 34.9549,2,-999.0000,9,  -999.0,9,  -999.0,9, -999.00,9, -999.00,9, -999.00,9, -999.00,9,-999.000,9,-999.000,9,-999.000,9,  -999.0,9,  -999.0,9,-999.0000,9,  -999.00,-999.0000
06AQ19960712,ARKXII,5,1,8,165350,2,19960724,2342,81.4650,66.8617,550,   349.2,  2.1299, 34.9367,2, 34.9385,2,  -999.0,9,   303.8,2,    6.44,2,   12.98,2, -999.00,9,    0.94,2,   4.872,2,   2.362,2,   5.916,2,  2147.5,2,  2289.0,2,   7.7112,2,    25.00,  2.1552
06AQ19960712,ARKXII,5,1,7,165349,2,19960724,2342,81.4650,66.8617,550,   398.9,  1.7133, 34.9200,2, 34.9186,2,  -999.0,9,   302.6,2,    6.83,2,   12.88,2, -999.00,9,    0.94,2,   4.985,2,   2.340,2,   5.935,2,  2150.0,2,  2295.6,2,   7.7015,2,    25.00,  1.7046
06AQ19960712,ARKXII,5,1,6,165348,2,19960724,2342,81.4650,66.8617,550,   449.1,  1.5198, 34.9149,2, 34.9148,2,  -999.0,9,   304.0,2,    6.63,2,   12.88,2, -999.00,9,    0.94,2,   5.056,2,   2.354,2,   5.967,2,  2144.9,2,  2294.8,2,   7.7034,2,    25.00,  1.4965
06AQ19960712,ARKXII,5,1,5,165347,2,19960724,2342,81.4650,66.8617,550,   499.9,  1.3233, 34.9163,2, 34.9160,2,  -999.0,9,   302.0,2,    7.02,2,   13.17,2, -999.00,9,    0.94,2,   4.570,2,   2.242,2,   5.732,2,  2150.8,2,  2296.7,2,   7.6957,2,    25.00,  1.3064
06AQ19960712,ARKXII,5,1,3,165345,2,19960724,2342,81.4650,66.8617,550,   522.6,  1.1284, 34.9115,2, 34.9046,2,  -999.0,9,   302.8,2,    7.12,2,   12.88,2, -999.00,9,    0.93,2,   4.328,2,   2.131,2,   5.782,2,  2152.0,2,  2292.7,2,   7.6957,2,    25.00,  1.1080
06AQ19960712,ARKXII,5,1,4,165346,2,19960724,2342,81.4650,66.8617,550,   522.7,  1.1329, 34.9116,2, 34.9049,2,  -999.0,9,   302.9,2,    7.12,2,   12.88,2, -999.00,9,    0.94,2,-999.000,9,-999.000,9,-999.000,9,  2141.4,2,  -999.0,9,-999.0000,9,  -999.00,  1.1110
06AQ19960712,ARKXII,5,1,2,165344,2,19960724,2342,81.4650,66.8617,550,   532.7,  1.0404, 34.9068,2, 34.9120,2,  -999.0,9,   301.6,2,    7.32,2,   13.07,2, -999.00,9,    0.93,2,-999.000,9,   2.080,2,   5.618,2,  2153.4,2,  2295.8,2,   7.6909,2,    25.00,  1.0168
06AQ19960712,ARKXII,5,1,1,165343,2,19960724,2342,81.4650,66.8617,550,   542.7,  0.9652, 34.9124,2, 34.9111,2,  -999.0,9,   301.3,2,    7.41,2,   13.07,2, -999.00,9,    0.91,2,   4.414,2,   2.025,2,   5.474,2,  2152.0,2,  2293.6,2,   7.6928,2,    25.00,  0.9356
06AQ19960712,ARKXII,6,1,22,165398,2,19960725,0546,81.3717,68.3267,601,     2.0, -1.7668, 33.9146,2, 33.8985,2,  -999.0,9,   349.4,2,    2.15,2,    5.17,2, -999.00,9,    0.44,2,-999.000,9,-999.000,9,-999.000,9,  -999.0,9,  -999.0,9,-999.0000,9,  -999.00, -1.7630
06AQ19960712,ARKXII,6,1,21,165397,2,19960725,0546,81.3717,68.3267,601,    10.4, -1.7625, 33.9135,2, 33.9019,2,  -999.0,9,   348.1,2,    2.44,2,    5.07,2, -999.00,9,    0.43,2,   6.247,2,   2.933,2,   7.079,2,  -999.0,9,  2251.2,2,   7.7482,2,    25.00, -1.7602
06AQ19960712,ARKXII,6,1,20,165396,2,19960725,0546,81.3717,68.3267,601,    20.6, -1.7731, 33.9172,2, 33.9177,2,  -999.0,9,   348.9,2,    2.24,2,    5.07,2, -999.00,9,    0.44,2,-999.000,9,-999.000,9,-999.000,9,  2106.3,2,  2257.1,2,   7.7492,2,    25.00, -1.7704
06AQ19960712,ARKXII,6,1,19,165395,2,19960725,0546,81.3717,68.3267,601,    30.0, -1.7739, 33.9217,2, 33.9239,2,  -999.0,9,   348.7,2,    2.24,2,    5.07,2, -999.00,9,    0.43,2,   6.258,2,   2.931,2,   7.008,2,  2105.7,2,  2254.9,2,   7.7482,2,    25.00, -1.7716
06AQ19960712,ARKXII,6,1,18,165394,2,19960725,0546,81.3717,68.3267,601,    40.4, -1.7765, 34.0440,2, 34.0616,2,  -999.0,9,   337.1,2,    2.93,2,    6.05,2, -999.00,9,    0.51,2,-999.000,9,-999.000,9,-999.000,9,  2123.9,2,  2263.1,2,   7.7269,2,    25.00, -1.7748
06AQ19960712,ARKXII,6,1,17,165393,2,19960725,0546,81.3717,68.3267,601,    50.7, -1.7097, 34.1530,2, 34.1566,2,  -999.0,9,   330.7,2,    3.12,2,    7.22,2, -999.00,9,    0.57,2,   6.061,2,   2.763,2,   6.380,2,  2127.3,2,  2259.6,2,   7.7172,2,    25.00, -1.7090
06AQ19960712,ARKXII,6,1,16,165392,2,19960725,0546,81.3717,68.3267,601,    60.3, -1.5498, 34.2090,2, 34.2191,2,  -999.0,9,   327.3,2,    3.61,2,    7.41,2, -999.00,9,    0.58,2,   6.237,2,   2.929,2,   6.439,2,  2134.3,2,  2269.6,2,   7.7085,2,    25.00, -1.5533
06AQ19960712,ARKXII,6,1,15,165391,2,19960725,0546,81.3717,68.3267,601,    80.1, -0.9212, 34.3802,2, 34.3964,2,  -999.0,9,   320.0,2,    4.10,2,    8.29,2, -999.00,9,    0.62,2,-999.000,9,-999.000,9,-999.000,9,  2145.3,2,  2275.4,2,   7.7055,2,    25.00, -0.9242
06AQ19960712,ARKXII,6,1,14,165390,2,19960725,0546,81.3717,68.3267,601,   100.1,  0.5244, 34.5899,2, 34.5958,2,  -999.0,9,   312.0,2,    4.29,2,    9.76,2, -999.00,9,    0.70,2,   5.381,2,   2.615,2,   5.692,2,  2143.5,2,  2285.6,2,   7.7093,2,    25.00,  0.5200
06AQ19960712,ARKXII,6,1,13,165389,2,19960725,0546,81.3717,68.3267,601,   124.7,  1.8507, 34.7947,2, 34.7955,2,  -999.0,9,   305.5,2,    5.07,2,   10.83,2, -999.00,9,    0.76,2,-999.000,9,-999.000,9,-999.000,9,  2148.9,2,  2291.6,2,   7.7199,2,    25.00,  1.8555
06AQ19960712,ARKXII,6,1,12,165388,2,19960725,0546,81.3717,68.3267,601,   150.4,  1.9262, 34.8236,2, 34.8340,2,  -999.0,9,   304.6,2,    5.17,2,   11.41,2, -999.00,9,    0.77,2,   4.849,2,   2.347,2,   5.108,2,  2149.5,2,  2289.6,2,   7.7199,2,    25.00,  1.9200
06AQ19960712,ARKXII,6,1,11,165387,2,19960725,0546,81.3717,68.3267,601,   200.3,  2.1356, 34.8874,2, 34.8908,2,  -999.0,9,   303.9,2,    5.37,2,   11.71,2, -999.00,9,    0.79,2,-999.000,9,-999.000,9,-999.000,9,  2150.1,2,  2288.9,2,   7.7218,2,    25.00,  2.1249
06AQ19960712,ARKXII,6,1,10,165386,2,19960725,0546,81.3717,68.3267,601,   250.5,  2.0080, 34.9042,2, 34.9101,2,  -999.0,9,   304.3,2,    5.46,2,   11.80,2, -999.00,9,    0.80,2,-999.000,9,   2.305,2,   5.154,2,  2150.5,2,  2297.0,2,   7.7199,2,    25.00,  1.9973
06AQ19960712,ARKXII,6,1,9,165385,2,19960725,0546,81.3717,68.3267,601,   300.4,  1.9082, 34.9214,2, 34.9206,2,  -999.0,9,   305.4,2,    5.66,2,   12.00,2, -999.00,9,    0.85,2,-999.000,9,-999.000,9,-999.000,9,  2147.1,2,  2297.5,2,   7.7141,2,    25.00,  1.9007
06AQ19960712,ARKXII,6,1,8,165384,2,19960725,0546,81.3717,68.3267,601,   350.5,  1.6142, 34.9173,2, 34.9202,2,  -999.0,9,   303.9,2,    5.95,2,   12.10,2, -999.00,9,    0.85,2,   4.759,2,   2.270,2,   5.125,2,  2150.6,2,  2296.9,2,   7.7073,2,    25.00,  1.6017
06AQ19960712,ARKXII,6,1,7,165383,2,19960725,0546,81.3717,68.3267,601,   400.6,  1.3578, 34.9102,2, 34.9042,2,  -999.0,9,   303.6,2,    6.15,2,   12.29,2, -999.00,9,    0.85,2,   4.427,2,   2.076,2,   4.876,2,  2154.2,2,  2288.0,2,   7.6996,2,    25.00,  1.3408
06AQ19960712,ARKXII,6,1,6,165382,2,19960725,0546,81.3717,68.3267,601,   450.4,  1.0717, 34.9019,2, 34.8907,2,  -999.0,9,   303.8,2,    6.24,2,   12.10,2, -999.00,9,    0.83,2,   4.514,2,   2.113,2,   4.938,2,  2151.9,2,  2296.1,2,   7.6957,2,    25.00,  1.0671
06AQ19960712,ARKXII,6,1,5,165381,2,19960725,0546,81.3717,68.3267,601,   500.4,  0.1420, 34.8536,2, 34.8526,2,  -999.0,9,   308.8,2,    5.85,2,   11.22,2, -999.00,9,    0.79,2,   4.935,2,   2.350,2,   5.616,2,  2155.8,2,  2292.4,2,   7.6890,2,    25.00,  0.1333
06AQ19960712,ARKXII,6,1,4,165380,2,19960725,0546,81.3717,68.3267,601,   550.3, -0.2845, 34.8721,2, 34.8780,2,  -999.0,9,   310.3,2,    7.12,2, -999.00,9, -999.00,9, -999.00,9,   5.670,2,   2.669,2,   6.081,2,  2172.0,2,  2298.1,2,   7.6544,2,    25.00, -0.3030
06AQ19960712,ARKXII,6,1,3,165379,2,19960725,0546,81.3717,68.3267,601,   567.0, -0.3037, 34.9000,2, 34.9004,2,  -999.0,9,   301.7,2,    8.39,2,   12.20,2, -999.00,9,    0.89,2,   5.910,2,   2.886,2,   6.063,2,  2180.5,2,  2290.0,2,   7.6371,2,    25.00, -0.3187
06AQ19960712,ARKXII,6,1,2,165378,2,19960725,0546,81.3717,68.3267,601,   576.5, -0.3220, 34.9048,2, 34.9046,2,  -999.0,9,   300.2,2,    8.68,2,   11.61,2, -999.00,9,    0.91,2,   6.449,2,   2.895,2,   6.120,2,  2184.5,2,  2298.1,2,   7.6323,2,    25.00, -0.3400
06AQ19960712,ARKXII,6,1,1,165377,2,19960725,0546,81.3717,68.3267,601,   586.4, -0.3261, 34.9041,2, 34.9060,2,  -999.0,9,   300.1,2,    8.78,2,   12.29,2, -999.00,9,    0.89,2,   6.120,2,   2.824,2,   5.993,2,  2188.4,2,  2292.1,2,   7.6333,2,    25.00, -0.3444