BOTTLE,20100322CCHDOSIODM
EXPOCODE,SECT_ID,STNNBR,CASTNO,SAMPNO,BTLNBR,BTLNBR_FLAG_W,DATE,TIME,LATITUDE,LONGITUDE,DEPTH,CTDPRS,CTDTMP,CTDSAL,CTDSAL_FLAG_W,SALNTY,SALNTY_FLAG_W,CTDOXY,CTDOXY_FLAG_W,OXYGEN,OXYGEN_FLAG_W,SILCAT,SILCAT_FLAG_W,NITRAT,NITRAT_FLAG_W,NITRIT,NITRIT_FLAG_W,PHSPHT,PHSPHT_FLAG_W,CFC-11,CFC-11_FLAG_W,CFC-12,CFC-12_FLAG_W,CCL4,CCL4_FLAG_W,TCARBN,TCARBN_FLAG_W,ALKALI,ALKALI_FLAG_W,PH_SWS,PH_SWS_FLAG_W,PH_TMP,THETA
,,,,,,,,,,,METERS,DBAR,ITS-90,PSS-78,,PSS-78,,UMOL/KG,,UMOL/KG,,UMOL/KG,,UMOL/KG,,UMOL/KG,,UMOL/KG,,PMOL/KG,,PMOL/KG,,PMOL/KG,,UMOL/KG,,UMOL/KG,,,,DEG C,DEG C
06AQ19960712,ARKXII,18,1,17,165713,2,19960728,1426,81.4583,77.4583,123,     9.0, -1.7083, 34.1829,2, 34.1821,2,  -999.0,9,   338.1,2,    3.71,2,    6.24,2, -999.00,9,    0.55,2,-999.000,9,-999.000,9,-999.000,9,  -999.0,9,  -999.0,9,-999.0000,9,  -999.00, -1.7052
06AQ19960712,ARKXII,18,1,18,165714,2,19960728,1426,81.4583,77.4583,123,     9.0, -1.7069, 34.1816,2,-999.0000,9,  -999.0,9,  -999.0,9, -999.00,9, -999.00,9, -999.00,9, -999.00,9,-999.000,9,-999.000,9,-999.000,9,  -999.0,9,  -999.0,9,-999.0000,9,  -999.00,-999.0000
06AQ19960712,ARKXII,18,1,15,165711,2,19960728,1426,81.4583,77.4583,123,    20.2, -1.6594, 34.2588,2, 34.2625,2,  -999.0,9,   331.5,2,    3.80,2,    6.93,2, -999.00,9,    0.58,2,   6.360,2,   2.942,2,   7.669,2,  -999.0,9,  -999.0,9,-999.0000,9,  -999.00, -1.6564
06AQ19960712,ARKXII,18,1,16,165712,2,19960728,1426,81.4583,77.4583,123,    20.2, -1.6618, 34.2525,2,-999.0000,9,  -999.0,9,  -999.0,9, -999.00,9, -999.00,9, -999.00,9, -999.00,9,-999.000,9,-999.000,9,-999.000,9,  -999.0,9,  -999.0,9,-999.0000,9,  -999.00,-999.0000
06AQ19960712,ARKXII,18,1,13,165709,2,19960728,1426,81.4583,77.4583,123,    30.0, -1.6409, 34.2718,2, 34.2777,2,  -999.0,9,   330.1,2,    3.80,2,    6.83,2, -999.00,9,    0.60,2,-999.000,9,-999.000,9,-999.000,9,  -999.0,9,  -999.0,9,-999.0000,9,  -999.00, -1.6386
06AQ19960712,ARKXII,18,1,14,165710,2,19960728,1426,81.4583,77.4583,123,    30.0, -1.6585, 34.2626,2,-999.0000,9,  -999.0,9,  -999.0,9, -999.00,9, -999.00,9, -999.00,9, -999.00,9,-999.000,9,-999.000,9,-999.000,9,  -999.0,9,  -999.0,9,-999.0000,9,  -999.00,-999.0000
06AQ19960712,ARKXII,18,1,11,165707,2,19960728,1426,81.4583,77.4583,123,    40.2, -1.5434, 34.3271,2, 34.3820,2,  -999.0,9,   323.6,2,    4.10,2,    7.32,2, -999.00,9,    0.62,2,-999.000,9,-999.000,9,-999.000,9,  -999.0,9,  -999.0,9,-999.0000,9,  -999.00, -1.5409
06AQ19960712,ARKXII,18,1,12,165708,2,19960728,1426,81.4583,77.4583,123,    40.3, -1.5549, 34.3166,2,-999.0000,9,  -999.0,9,  -999.0,9, -999.00,9, -999.00,9, -999.00,9, -999.00,9,-999.000,9,-999.000,9,-999.000,9,  -999.0,9,  -999.0,9,-999.0000,9,  -999.00,-999.0000
06AQ19960712,ARKXII,18,1,9,165705,2,19960728,1426,81.4583,77.4583,123,    50.5, -0.6452, 34.6228,2, 34.6190,2,  -999.0,9,   316.1,2,    4.49,2,    8.88,2, -999.00,9,    0.68,2,-999.000,9,-999.000,9,-999.000,9,  -999.0,9,  -999.0,9,-999.0000,9,  -999.00, -0.6435
06AQ19960712,ARKXII,18,1,10,165706,2,19960728,1426,81.4583,77.4583,123,    50.5, -0.6603, 34.6098,2,-999.0000,9,  -999.0,9,  -999.0,9, -999.00,9, -999.00,9, -999.00,9, -999.00,9,-999.000,9,-999.000,9,-999.000,9,  -999.0,9,  -999.0,9,-999.0000,9,  -999.00,-999.0000
06AQ19960712,ARKXII,18,1,7,165703,2,19960728,1426,81.4583,77.4583,123,    60.0, -0.2390, 34.7104,2, 34.7180,2,  -999.0,9,   311.4,2,    4.68,2,    9.27,2, -999.00,9,    0.71,2,   5.744,2,   2.753,2,   7.159,2,  -999.0,9,  -999.0,9,-999.0000,9,  -999.00, -0.2370
06AQ19960712,ARKXII,18,1,8,165704,2,19960728,1426,81.4583,77.4583,123,    60.0, -0.2755, 34.7009,2,-999.0000,9,  -999.0,9,  -999.0,9, -999.00,9, -999.00,9, -999.00,9, -999.00,9,-999.000,9,-999.000,9,-999.000,9,  -999.0,9,  -999.0,9,-999.0000,9,  -999.00,-999.0000
06AQ19960712,ARKXII,18,1,5,165701,2,19960728,1426,81.4583,77.4583,123,    79.9, -0.0089, 34.7534,2, 34.7488,2,  -999.0,9,   310.1,2,    4.88,2,    9.56,2, -999.00,9,    0.72,2,-999.000,9,-999.000,9,-999.000,9,  -999.0,9,  -999.0,9,-999.0000,9,  -999.00, -0.0079
06AQ19960712,ARKXII,18,1,6,165702,2,19960728,1426,81.4583,77.4583,123,    79.9, -0.0237, 34.7504,2,-999.0000,9,  -999.0,9,  -999.0,9, -999.00,9, -999.00,9, -999.00,9, -999.00,9,-999.000,9,-999.000,9,-999.000,9,  -999.0,9,  -999.0,9,-999.0000,9,  -999.00,-999.0000
06AQ19960712,ARKXII,18,1,4,165700,2,19960728,1426,81.4583,77.4583,123,   100.3,  0.0277, 34.7650,2,-999.0000,9,  -999.0,9,  -999.0,9, -999.00,9, -999.00,9, -999.00,9, -999.00,9,-999.000,9,-999.000,9,-999.000,9,  -999.0,9,  -999.0,9,-999.0000,9,  -999.00,-999.0000
06AQ19960712,ARKXII,18,1,3,165699,2,19960728,1426,81.4583,77.4583,123,   100.3,  0.0350, 34.7678,2, 34.7648,2,  -999.0,9,   310.0,2,    4.88,2,    9.46,2, -999.00,9,    0.72,2,   5.862,2,   2.781,2,   7.238,2,  -999.0,9,  -999.0,9,-999.0000,9,  -999.00,  0.0353
06AQ19960712,ARKXII,18,1,1,165697,2,19960728,1426,81.4583,77.4583,123,   125.3,  0.0508, 34.7695,2, 34.7701,2,  -999.0,9,   309.4,2,    4.98,2,    9.56,2, -999.00,9,    0.71,2,   5.922,2,   2.761,2,   7.333,2,  -999.0,9,  -999.0,9,-999.0000,9,  -999.00,  0.0504
06AQ19960712,ARKXII,18,1,2,165698,2,19960728,1426,81.4583,77.4583,123,   125.3,  0.0506, 34.7698,2,-999.0000,9,  -999.0,9,  -999.0,9, -999.00,9, -999.00,9, -999.00,9, -999.00,9,-999.000,9,-999.000,9,-999.000,9,  -999.0,9,  -999.0,9,-999.0000,9,  -999.00,-999.0000
06AQ19960712,ARKXII,19,1,11,165725,2,19960729,0014,81.4550,78.9567,119,     1.8, -1.7856, 34.1125,2, 34.1198,2,  -999.0,9,   336.6,2,    3.71,2,    6.83,2, -999.00,9,    0.57,2,-999.000,9,-999.000,9,-999.000,9,  -999.0,9,  -999.0,9,-999.0000,9,  -999.00, -1.7820
06AQ19960712,ARKXII,19,1,10,165724,2,19960729,0014,81.4550,78.9567,119,    10.1, -1.7882, 34.1172,2, 34.1235,2,  -999.0,9,   336.3,2,    3.71,2,    6.73,2, -999.00,9,    0.57,2,   6.364,2,   3.145,2,   7.379,2,  -999.0,9,  -999.0,9,-999.0000,9,  -999.00, -1.7852
06AQ19960712,ARKXII,19,1,9,165723,2,19960729,0014,81.4550,78.9567,119,    20.0, -1.7857, 34.1476,2, 34.1603,2,  -999.0,9,   332.9,2,    3.71,2,    6.93,2, -999.00,9,    0.59,2,   6.474,2,   3.092,2,   7.350,2,  -999.0,9,  -999.0,9,-999.0000,9,  -999.00, -1.7824
06AQ19960712,ARKXII,19,1,8,165722,2,19960729,0014,81.4550,78.9567,119,    29.8, -1.6064, 34.2584,2, 34.2862,2,  -999.0,9,   325.1,2,    4.00,2,    7.61,2, -999.00,9,    0.63,2,   6.022,2,   2.993,2,   7.275,2,  -999.0,9,  -999.0,9,-999.0000,9,  -999.00, -1.6036
06AQ19960712,ARKXII,19,1,7,165721,2,19960729,0014,81.4550,78.9567,119,    40.1, -1.1812, 34.4040,2, 34.4464,2,  -999.0,9,   317.9,2,    4.29,2,    8.49,2, -999.00,9,    0.69,2,   5.996,2,   2.944,2,   7.157,2,  -999.0,9,  -999.0,9,-999.0000,9,  -999.00, -1.1790
06AQ19960712,ARKXII,19,1,6,165720,2,19960729,0014,81.4550,78.9567,119,    49.8, -1.0302, 34.4402,2, 34.4675,2,  -999.0,9,   317.0,2,    4.29,2,    8.49,2, -999.00,9,    0.72,2,   5.975,2,   2.943,2,   7.097,2,  -999.0,9,  -999.0,9,-999.0000,9,  -999.00, -1.0283
06AQ19960712,ARKXII,19,1,5,165719,2,19960729,0014,81.4550,78.9567,119,    60.0, -0.4648, 34.6143,2, 34.6212,2,  -999.0,9,   311.1,2,    4.78,2,    9.27,2, -999.00,9,    0.75,2,   6.050,2,   2.990,2,   6.999,2,  -999.0,9,  -999.0,9,-999.0000,9,  -999.00, -0.4629
06AQ19960712,ARKXII,19,1,4,165718,2,19960729,0014,81.4550,78.9567,119,    80.2,  0.0620, 34.7299,2, 34.7348,2,  -999.0,9,   306.8,2,    4.98,2,    9.85,2, -999.00,9,    0.80,2,   5.937,2,   2.841,2,   6.670,2,  -999.0,9,  -999.0,9,-999.0000,9,  -999.00,  0.0631
06AQ19960712,ARKXII,19,1,3,165717,2,19960729,0014,81.4550,78.9567,119,    96.6,  0.1194, 34.7418,2, 34.7413,2,  -999.0,9,   306.8,2,    4.98,2,   10.15,2, -999.00,9,    0.78,2,   6.026,2,   2.879,2,   6.517,2,  -999.0,9,  -999.0,9,-999.0000,9,  -999.00,  0.1194
06AQ19960712,ARKXII,19,1,2,165716,2,19960729,0014,81.4550,78.9567,119,   106.4,  0.1235, 34.7425,2, 34.7426,2,  -999.0,9,   306.7,2,    4.98,2,   10.24,2, -999.00,9,    0.79,2,   5.824,2,   2.953,2,   6.712,2,  -999.0,9,  -999.0,9,-999.0000,9,  -999.00,  0.1230
06AQ19960712,ARKXII,19,1,1,165715,2,19960729,0014,81.4550,78.9567,119,   116.0,  0.1352, 34.7457,2, 34.7453,2,  -999.0,9,   306.4,2,    5.07,2,   10.15,2, -999.00,9,    0.79,2,   5.849,2,   2.932,2,   6.747,2,  -999.0,9,  -999.0,9,-999.0000,9,  -999.00,  0.1346
06AQ19960712,ARKXII,20,1,9,165734,2,19960729,0523,81.4550,80.4200,188,    49.9, -0.5876, 34.6384,2, 34.6291,2,  -999.0,9,   317.3,2,    4.39,2,    9.17,2, -999.00,9,    0.70,2,   6.378,2,   3.029,2,   7.226,2,  -999.0,9,  -999.0,9,-999.0000,9,  -999.00, -0.5855
06AQ19960712,ARKXII,20,1,8,165733,2,19960729,0523,81.4550,80.4200,188,    59.9, -0.2796, 34.7029,2, 34.7027,2,  -999.0,9,   315.4,2,    4.59,2,    9.56,2, -999.00,9,    0.72,2,   5.900,2,   2.902,2,   7.015,2,  -999.0,9,  -999.0,9,-999.0000,9,  -999.00, -0.2780
06AQ19960712,ARKXII,20,1,7,165732,2,19960729,0523,81.4550,80.4200,188,    79.9,  0.1236, 34.7680,2, 34.7694,2,  -999.0,9,   312.6,2,    5.07,2,   10.34,2, -999.00,9,    0.79,2,   5.711,2,   2.847,2,   6.806,2,  -999.0,9,  -999.0,9,-999.0000,9,  -999.00,  0.1240
06AQ19960712,ARKXII,20,1,6,165731,2,19960729,0523,81.4550,80.4200,188,   100.1,  0.0033, 34.7815,2, 34.7853,2,  -999.0,9,   312.1,2,    5.27,2,   10.44,2, -999.00,9,    0.79,2,   5.980,2,   2.980,2,   6.917,2,  -999.0,9,  -999.0,9,-999.0000,9,  -999.00,  0.0034
06AQ19960712,ARKXII,20,1,5,165730,2,19960729,0523,81.4550,80.4200,188,   124.8, -0.1451, 34.7793,2, 34.7786,2,  -999.0,9,   312.7,2,    5.37,2, -999.00,9, -999.00,9, -999.00,9,   5.842,2,   2.884,2,   7.171,2,  -999.0,9,  -999.0,9,-999.0000,9,  -999.00, -0.1454
06AQ19960712,ARKXII,20,1,4,165729,2,19960729,0523,81.4550,80.4200,188,   149.6, -0.1551, 34.7812,2, 34.7815,2,  -999.0,9,   313.0,2,    5.37,2,   10.34,2, -999.00,9,    0.78,2,   5.826,2,   2.911,2,   7.093,2,  -999.0,9,  -999.0,9,-999.0000,9,  -999.00, -0.1563
06AQ19960712,ARKXII,20,1,3,165728,2,19960729,0523,81.4550,80.4200,188,   163.8, -0.1745, 34.7847,2, 34.7852,2,  -999.0,9,   313.3,2,    5.56,2,   10.34,2, -999.00,9,    0.78,2,   5.941,2,   2.905,2,   7.047,2,  -999.0,9,  -999.0,9,-999.0000,9,  -999.00, -0.1768
06AQ19960712,ARKXII,20,1,2,165727,2,19960729,0523,81.4550,80.4200,188,   173.1, -0.2108, 34.7857,2, 34.7850,2,  -999.0,9,   313.5,2,    5.56,2,   10.24,2, -999.00,9,    0.78,2,   5.954,2,   2.904,2,   7.052,2,  -999.0,9,  -999.0,9,-999.0000,9,  -999.00, -0.2131
06AQ19960712,ARKXII,20,1,1,165726,2,19960729,0523,81.4550,80.4200,188,   182.1, -0.2553, 34.7850,2, 34.7852,2,  -999.0,9,   314.0,2,    5.56,2,   10.24,2, -999.00,9,    0.78,2,   5.828,2,   2.834,2,   7.230,2,  -999.0,9,  -999.0,9,-999.0000,9,  -999.00, -0.2584
06AQ19960712,ARKXII,21,1,35,165772,2,19960729,2116,81.4683,81.8533,252,    -5.6, -1.8053, 34.1108,2,-999.0000,9,  -999.0,9,   347.0,2, -999.00,9, -999.00,9, -999.00,9, -999.00,9,-999.000,9,-999.000,9,-999.000,9,  -999.0,9,  -999.0,9,-999.0000,9,  -999.00,-999.0000
06AQ19960712,ARKXII,21,1,34,165771,2,19960729,2116,81.4683,81.8533,252,    10.0, -1.8111, 34.1159,2,-999.0000,9,  -999.0,9,  -999.0,9, -999.00,9, -999.00,9, -999.00,9, -999.00,9,-999.000,9,-999.000,9,-999.000,9,  -999.0,9,  -999.0,9,-999.0000,9,  -999.00,-999.0000
06AQ19960712,ARKXII,21,1,33,165770,2,19960729,2116,81.4683,81.8533,252,    10.0, -1.8111, 34.1155,2, 34.1160,2,  -999.0,9,   345.5,2,    3.41,2,    5.56,2, -999.00,9,    0.53,2,-999.000,9,-999.000,9,-999.000,9,  2125.2,2,  2272.8,2,   7.7278,2,    25.00, -1.8082
06AQ19960712,ARKXII,21,1,31,165768,2,19960729,2116,81.4683,81.8533,252,    20.2, -1.7077, 34.2245,2, 34.2369,2,  -999.0,9,   336.6,2,    3.80,2,    6.54,2, -999.00,9,    0.59,2,   6.293,2,   3.146,2,   7.834,2,  2133.3,2,  2279.0,2,   7.7143,2,    25.00, -1.7044
06AQ19960712,ARKXII,21,1,32,165769,2,19960729,2116,81.4683,81.8533,252,    20.2, -1.7355, 34.1976,2,-999.0000,9,  -999.0,9,  -999.0,9, -999.00,9, -999.00,9, -999.00,9, -999.00,9,-999.000,9,-999.000,9,-999.000,9,  -999.0,9,  -999.0,9,-999.0000,9,  -999.00,-999.0000
06AQ19960712,ARKXII,21,1,29,165766,2,19960729,2116,81.4683,81.8533,252,    30.0, -1.6383, 34.3260,2, 34.3238,2,  -999.0,9,   331.1,2,    4.00,2,    7.32,2, -999.00,9,    0.63,2,-999.000,9,-999.000,9,-999.000,9,  2135.8,2,  2286.1,2,   7.7084,2,    25.00, -1.6356
06AQ19960712,ARKXII,21,1,30,165767,2,19960729,2116,81.4683,81.8533,252,    30.0, -1.6496, 34.3073,2,-999.0000,9,  -999.0,9,  -999.0,9, -999.00,9, -999.00,9, -999.00,9, -999.00,9,-999.000,9,-999.000,9,-999.000,9,  -999.0,9,  -999.0,9,-999.0000,9,  -999.00,-999.0000
06AQ19960712,ARKXII,21,1,27,165764,2,19960729,2116,81.4683,81.8533,252,    40.1, -1.4450, 34.5105,2, 34.5110,2,  -999.0,9,   324.9,2,    4.20,2,    8.20,2, -999.00,9,    0.68,2,   6.212,2,   2.983,2,   7.599,2,  2147.5,2,  2285.1,2,   7.7016,2,    25.00, -1.4429
06AQ19960712,ARKXII,21,1,28,165765,2,19960729,2116,81.4683,81.8533,252,    40.1, -1.4963, 34.4855,2,-999.0000,9,  -999.0,9,  -999.0,9, -999.00,9, -999.00,9, -999.00,9, -999.00,9,-999.000,9,-999.000,9,-999.000,9,  -999.0,9,  -999.0,9,-999.0000,9,  -999.00,-999.0000
06AQ19960712,ARKXII,21,1,25,165762,2,19960729,2116,81.4683,81.8533,252,    49.8, -1.0423, 34.6057,2, 34.5882,2,  -999.0,9,   323.7,2,    4.39,2,    8.68,2, -999.00,9,    0.70,2,-999.000,9,-999.000,9,-999.000,9,  2144.8,2,  2291.4,2,   7.7064,2,    25.00, -1.0403
06AQ19960712,ARKXII,21,1,26,165763,2,19960729,2116,81.4683,81.8533,252,    49.8, -1.1857, 34.5807,2,-999.0000,9,  -999.0,9,  -999.0,9, -999.00,9, -999.00,9, -999.00,9, -999.00,9,-999.000,9,-999.000,9,-999.000,9,  -999.0,9,  -999.0,9,-999.0000,9,  -999.00,-999.0000
06AQ19960712,ARKXII,21,1,24,165761,2,19960729,2116,81.4683,81.8533,252,    60.1, -0.5708, 34.6814,2, 34.6495,2,  -999.0,9,   320.7,2,    4.49,2,    9.17,2, -999.00,9,    0.73,2,-999.000,9,-999.000,9,-999.000,9,  2147.8,2,  2296.8,2,   7.7122,2,    25.00, -0.5689
06AQ19960712,ARKXII,21,1,23,165760,2,19960729,2116,81.4683,81.8533,252,    74.8,  0.5630, 34.7699,2,-999.0000,9,  -999.0,9,   312.2,2, -999.00,9, -999.00,9, -999.00,9, -999.00,9,-999.000,9,-999.000,9,-999.000,9,  -999.0,9,  -999.0,9,-999.0000,9,  -999.00,-999.0000
06AQ19960712,ARKXII,21,1,22,165759,2,19960729,2116,81.4683,81.8533,252,    79.8,  0.6122, 34.7787,2, 34.7716,2,  -999.0,9,   311.6,2,    4.88,2,   10.24,2, -999.00,9,    0.79,2,   6.253,2,   2.947,2,   7.346,2,  2148.9,2,  2297.2,2,   7.7170,2,    25.00,  0.6127
06AQ19960712,ARKXII,21,1,20,165757,2,19960729,2116,81.4683,81.8533,252,    99.7,  0.8795, 34.8199,2, 34.8135,2,  -999.0,9,   310.5,2,    5.27,2,   11.02,2, -999.00,9,    0.85,2,-999.000,9,-999.000,9,-999.000,9,  2151.5,2,  2298.7,2,   7.7170,2,    25.00,  0.8796
06AQ19960712,ARKXII,21,1,21,165758,2,19960729,2116,81.4683,81.8533,252,    99.7,  0.7553, 34.8060,2,-999.0000,9,  -999.0,9,  -999.0,9, -999.00,9, -999.00,9, -999.00,9, -999.00,9,-999.000,9,-999.000,9,-999.000,9,  -999.0,9,  -999.0,9,-999.0000,9,  -999.00,-999.0000
06AQ19960712,ARKXII,21,1,19,165756,2,19960729,2116,81.4683,81.8533,252,   124.7,  0.5062, 34.8112,2, 34.8074,2,  -999.0,9,   311.8,2,    5.27,2,   10.93,2, -999.00,9,    0.85,2,   5.548,2,   2.711,2,   6.861,2,  2150.6,2,  2297.1,2,   7.7122,2,    25.00,  0.5049
06AQ19960712,ARKXII,21,1,17,165754,2,19960729,2116,81.4683,81.8533,252,   149.5,  0.5979, 34.8354,2, 34.8298,2,  -999.0,9,   310.5,2,    5.56,2,   11.12,2, -999.00,9,    0.86,2,   5.582,2,   2.694,2,   6.543,2,  2150.7,2,  2301.7,2,   7.7083,2,    25.00,  0.5957
06AQ19960712,ARKXII,21,1,18,165755,2,19960729,2116,81.4683,81.8533,252,   149.6,  0.6572, 34.8368,2,-999.0000,9,  -999.0,9,  -999.0,9, -999.00,9, -999.00,9, -999.00,9, -999.00,9,-999.000,9,-999.000,9,-999.000,9,  -999.0,9,  -999.0,9,-999.0000,9,  -999.00,-999.0000
06AQ19960712,ARKXII,21,1,15,165752,2,19960729,2116,81.4683,81.8533,252,   199.4, -0.5706, 34.7880,2, 34.7806,2,  -999.0,9,   317.9,2,    5.66,2,    9.85,2, -999.00,9,    0.80,2,   6.358,2,   2.917,2,   7.472,2,  2154.4,2,  2297.6,2,   7.6996,2,    25.00, -0.5734
06AQ19960712,ARKXII,21,1,16,165753,2,19960729,2116,81.4683,81.8533,252,   199.4, -0.5278, 34.7862,2,-999.0000,9,  -999.0,9,  -999.0,9, -999.00,9, -999.00,9, -999.00,9, -999.00,9,-999.000,9,-999.000,9,-999.000,9,  -999.0,9,  -999.0,9,-999.0000,9,  -999.00,-999.0000
06AQ19960712,ARKXII,21,1,14,165751,2,19960729,2116,81.4683,81.8533,252,   222.1, -0.6990, 34.7922,2, 34.7860,2,  -999.0,9,   317.9,2,    5.66,2,    9.95,2, -999.00,9,    0.79,2,-999.000,9,-999.000,9,-999.000,9,  -999.0,9,  -999.0,9,-999.0000,9,  -999.00, -0.7020
06AQ19960712,ARKXII,21,1,7,165745,2,19960729,2116,81.4683,81.8533,252,   226.1, -0.7018, 34.7924,2,-999.0000,9,  -999.0,9,  -999.0,9, -999.00,9, -999.00,9, -999.00,9, -999.00,9,-999.000,9,-999.000,9,-999.000,9,  -999.0,9,  -999.0,9,-999.0000,9,  -999.00,-999.0000
06AQ19960712,ARKXII,21,1,6,165744,2,19960729,2116,81.4683,81.8533,252,   226.1, -0.7002, 34.7914,2,-999.0000,9,  -999.0,9,  -999.0,9, -999.00,9, -999.00,9, -999.00,9, -999.00,9,-999.000,9,-999.000,9,-999.000,9,  -999.0,9,  -999.0,9,-999.0000,9,  -999.00,-999.0000
06AQ19960712,ARKXII,21,1,5,165743,2,19960729,2116,81.4683,81.8533,252,   226.1, -0.7005, 34.7916,2,-999.0000,9,  -999.0,9,  -999.0,9, -999.00,9, -999.00,9, -999.00,9, -999.00,9,-999.000,9,-999.000,9,-999.000,9,  -999.0,9,  -999.0,9,-999.0000,9,  -999.00,-999.0000
06AQ19960712,ARKXII,21,1,3,165741,2,19960729,2116,81.4683,81.8533,252,   226.1, -0.7014, 34.7925,2, 34.7855,2,  -999.0,9,   317.8,2,    5.66,2,    9.85,2, -999.00,9,    0.79,2,-999.000,9,   2.971,2,   7.458,2,  2156.3,2,  2296.7,2,   7.6938,2,    25.00, -0.7051
06AQ19960712,ARKXII,21,1,4,165742,2,19960729,2116,81.4683,81.8533,252,   226.1, -0.7002, 34.7915,2,-999.0000,9,  -999.0,9,  -999.0,9, -999.00,9, -999.00,9, -999.00,9, -999.00,9,-999.000,9,-999.000,9,-999.000,9,  -999.0,9,  -999.0,9,-999.0000,9,  -999.00,-999.0000
06AQ19960712,ARKXII,21,1,13,-999.0,2,19960729,2116,81.4683,81.8533,252,   226.2, -0.6992, 34.7904,2,-999.0000,9,  -999.0,9,  -999.0,9, -999.00,9, -999.00,9, -999.00,9, -999.00,9,-999.000,9,-999.000,9,-999.000,9,  -999.0,9,  -999.0,9,-999.0000,9,  -999.00,-999.0000
06AQ19960712,ARKXII,21,1,12,165750,2,19960729,2116,81.4683,81.8533,252,   226.2, -0.6997, 34.7909,2,-999.0000,9,  -999.0,9,  -999.0,9, -999.00,9, -999.00,9, -999.00,9, -999.00,9,-999.000,9,-999.000,9,-999.000,9,  -999.0,9,  -999.0,9,-999.0000,9,  -999.00,-999.0000
06AQ19960712,ARKXII,21,1,11,165749,2,19960729,2116,81.4683,81.8533,252,   226.2, -0.7009, 34.7920,2,-999.0000,9,  -999.0,9,  -999.0,9, -999.00,9, -999.00,9, -999.00,9, -999.00,9,-999.000,9,-999.000,9,-999.000,9,  -999.0,9,  -999.0,9,-999.0000,9,  -999.00,-999.0000
06AQ19960712,ARKXII,21,1,10,165748,2,19960729,2116,81.4683,81.8533,252,   226.2, -0.7003, 34.7916,2,-999.0000,9,  -999.0,9,  -999.0,9, -999.00,9, -999.00,9, -999.00,9, -999.00,9,-999.000,9,-999.000,9,-999.000,9,  -999.0,9,  -999.0,9,-999.0000,9,  -999.00,-999.0000
06AQ19960712,ARKXII,21,1,9,165747,2,19960729,2116,81.4683,81.8533,252,   226.2, -0.7011, 34.7915,2,-999.0000,9,  -999.0,9,  -999.0,9, -999.00,9, -999.00,9, -999.00,9, -999.00,9,-999.000,9,-999.000,9,-999.000,9,  -999.0,9,  -999.0,9,-999.0000,9,  -999.00,-999.0000
06AQ19960712,ARKXII,21,1,8,165746,2,19960729,2116,81.4683,81.8533,252,   226.2, -0.7017, 34.7913,2,-999.0000,9,  -999.0,9,  -999.0,9, -999.00,9, -999.00,9, -999.00,9, -999.00,9,-999.000,9,-999.000,9,-999.000,9,  -999.0,9,  -999.0,9,-999.0000,9,  -999.00,-999.0000
06AQ19960712,ARKXII,21,1,2,165740,2,19960729,2116,81.4683,81.8533,252,   233.1, -0.7046, 34.7920,2,-999.0000,9,  -999.0,9,  -999.0,9, -999.00,9, -999.00,9, -999.00,9, -999.00,9,-999.000,9,-999.000,9,-999.000,9,  -999.0,9,  -999.0,9,-999.0000,9,  -999.00,-999.0000
06AQ19960712,ARKXII,21,1,1,165739,2,19960729,2116,81.4683,81.8533,252,   233.1, -0.7039, 34.7913,2, 34.7860,2,  -999.0,9,   317.6,2,    5.76,2,    9.85,2, -999.00,9,    0.78,2,   6.748,2,   2.949,2,   7.458,2,  2155.5,2,  2275.4,3,   7.6958,2,    25.00, -0.7074