BOTTLE,20100322CCHDOSIODM
EXPOCODE,SECT_ID,STNNBR,CASTNO,SAMPNO,BTLNBR,BTLNBR_FLAG_W,DATE,TIME,LATITUDE,LONGITUDE,DEPTH,CTDPRS,CTDTMP,CTDSAL,CTDSAL_FLAG_W,SALNTY,SALNTY_FLAG_W,CTDOXY,CTDOXY_FLAG_W,OXYGEN,OXYGEN_FLAG_W,SILCAT,SILCAT_FLAG_W,NITRAT,NITRAT_FLAG_W,NITRIT,NITRIT_FLAG_W,PHSPHT,PHSPHT_FLAG_W,CFC-11,CFC-11_FLAG_W,CFC-12,CFC-12_FLAG_W,CCL4,CCL4_FLAG_W,TCARBN,TCARBN_FLAG_W,ALKALI,ALKALI_FLAG_W,PH_SWS,PH_SWS_FLAG_W,PH_TMP,THETA
,,,,,,,,,,,METERS,DBAR,ITS-90,PSS-78,,PSS-78,,UMOL/KG,,UMOL/KG,,UMOL/KG,,UMOL/KG,,UMOL/KG,,UMOL/KG,,PMOL/KG,,PMOL/KG,,PMOL/KG,,UMOL/KG,,UMOL/KG,,,,DEG C,DEG C
06AQ19960712,ARKXII,105,1,21,168653,2,19960903,1828,78.1317,132.4517,1264,    10.3, -1.7394, 32.3633,2, 32.4018,2,  -999.0,9,   372.1,2,    3.51,2,    0.88,2, -999.00,9,    0.33,2,   7.002,2,   3.407,2,   6.656,2,  2061.7,2,  2201.2,2,   7.7216,2,    25.00, -1.7382
06AQ19960712,ARKXII,105,1,20,168652,2,19960903,1828,78.1317,132.4517,1264,    20.1, -1.6545, 32.6480,2, 32.6573,2,  -999.0,9,   361.4,2,    4.29,2,    1.85,2, -999.00,9,    0.39,2,   6.916,2,   3.169,2,   6.637,2,  -999.0,9,  -999.0,9,-999.0000,9,  -999.00, -1.6423
06AQ19960712,ARKXII,105,1,19,168651,2,19960903,1828,78.1317,132.4517,1264,    30.0, -1.6286, 32.6907,2, 32.6925,2,  -999.0,9,   359.9,2,    4.29,2,    2.15,2, -999.00,9,    0.40,2,   6.831,2,   3.254,2,   6.680,2,  2084.8,2,  2212.6,2,   7.7003,2,    25.00, -1.6275
06AQ19960712,ARKXII,105,1,18,168650,2,19960903,1828,78.1317,132.4517,1264,    39.9, -1.4199, 33.3221,2, 33.2592,2,  -999.0,9,   333.2,2, -999.00,9,    4.78,2, -999.00,9,    0.52,2,   6.875,2,   3.296,2,   6.683,2,  -999.0,9,  -999.0,9,-999.0000,9,  -999.00, -1.4188
06AQ19960712,ARKXII,105,1,17,168649,2,19960903,1828,78.1317,132.4517,1264,    58.4, -1.2990, 33.8196,2, 33.7094,2,  -999.0,9,   318.7,2, -999.00,9,    6.15,2, -999.00,9,    0.59,2,   6.602,2,   3.085,2,   6.496,2,  2150.2,2,  2257.0,2,   7.6356,2,    25.00, -1.2963
06AQ19960712,ARKXII,105,1,16,168648,2,19960903,1828,78.1317,132.4517,1264,    80.3, -1.3120, 34.1935,2, 34.2092,2,  -999.0,9,   316.5,2, -999.00,9,    7.02,2, -999.00,9,    0.61,2,   6.562,2,   3.111,2,   6.563,2,  2152.2,2,  2266.2,2,   7.6584,2,    25.00, -1.3099
06AQ19960712,ARKXII,105,1,15,168647,2,19960903,1828,78.1317,132.4517,1264,   100.1, -1.1188, 34.3795,2, 34.3835,2,  -999.0,9,   314.2,2,    4.88,2,    7.71,2, -999.00,9,    0.64,2,   6.260,2,   2.964,2,   6.406,2,  2152.6,2,  2273.0,2,   7.6603,2,    25.00, -1.1266
06AQ19960712,ARKXII,105,1,14,168646,2,19960903,1828,78.1317,132.4517,1264,   125.4, -0.7750, 34.4797,2, 34.4792,2,  -999.0,9,   311.6,2,    4.88,2,    8.29,2, -999.00,9,    0.66,2,   6.236,2,   2.870,2,   6.342,2,  -999.0,9,  -999.0,9,-999.0000,9,  -999.00, -0.7767
06AQ19960712,ARKXII,105,1,13,168645,2,19960903,1828,78.1317,132.4517,1264,   150.4, -0.1366, 34.5881,2, 34.5894,2,  -999.0,9,   310.4,2,    4.88,2,    9.17,2, -999.00,9,    0.70,2,   6.099,2,   2.837,2,   6.293,2,  2149.7,2,  2280.5,2,   7.6795,2,    25.00, -0.1433
06AQ19960712,ARKXII,105,1,12,168644,2,19960903,1828,78.1317,132.4517,1264,   200.1,  1.2197, 34.7714,2, 34.7736,2,  -999.0,9,   303.6,2,    5.27,2,   10.83,2, -999.00,9,    0.77,2,   5.205,2,   2.360,2,   5.697,2,  -999.0,9,  -999.0,9,-999.0000,9,  -999.00,  1.2135
06AQ19960712,ARKXII,105,1,11,168643,2,19960903,1828,78.1317,132.4517,1264,   235.8,  1.5213, 34.8292,2, 34.8325,2,  -999.0,9,   303.3,2,    5.46,2,   11.12,2, -999.00,9,    0.78,2,   5.194,2,   2.540,2,   5.714,2,  2146.2,2,  2287.7,2,   7.7112,2,    25.00,  1.5141
06AQ19960712,ARKXII,105,1,10,168642,2,19960903,1828,78.1317,132.4517,1264,   300.7,  1.2070, 34.8365,2, 34.8381,2,  -999.0,9,   304.3,2,    5.66,2,   11.02,2, -999.00,9,    0.81,2,   5.367,2,   2.574,2,   5.960,2,  -999.0,9,  -999.0,9,-999.0000,9,  -999.00,  1.1975
06AQ19960712,ARKXII,105,1,9,168641,2,19960903,1828,78.1317,132.4517,1264,   399.9,  1.4084, 34.8959,2, 34.9010,2,  -999.0,9,   304.5,2,    5.85,2,   11.61,2, -999.00,9,    0.78,2,   4.956,2,   2.260,2,   5.712,2,  -999.0,9,  -999.0,9,-999.0000,9,  -999.00,  1.3936
06AQ19960712,ARKXII,105,1,8,168640,2,19960903,1828,78.1317,132.4517,1264,   500.0,  0.9799, 34.8856,2, 34.8878,2,  -999.0,9,   304.9,2,    5.95,2,   11.71,2, -999.00,9,    0.81,2,   4.969,2,   2.363,2,   5.813,2,  2154.3,2,  2289.4,2,   7.6938,2,    25.00,  0.9598
06AQ19960712,ARKXII,105,1,7,168639,2,19960903,1828,78.1317,132.4517,1264,   600.2,  0.5721, 34.8724,2, 34.8756,2,  -999.0,9,   305.7,2,    6.15,2,   11.41,2, -999.00,9,    0.81,2,   5.035,2,   2.455,2,   5.951,2,  -999.0,9,  -999.0,9,-999.0000,9,  -999.00,  0.5475
06AQ19960712,ARKXII,105,1,6,168638,2,19960903,1828,78.1317,132.4517,1264,   700.4,  0.4210, 34.8712,2, 34.8756,2,  -999.0,9,   306.0,2,    6.24,2,   11.32,2, -999.00,9,    0.81,2,   5.130,2,   2.438,2,   6.066,2,  2157.2,2,  2288.6,2,   7.6765,2,    25.00,  0.3932
06AQ19960712,ARKXII,105,1,5,168637,2,19960903,1828,78.1317,132.4517,1264,   800.4,  0.2691, 34.8706,2, 34.8746,2,  -999.0,9,   306.3,2,    6.24,2,   11.32,2, -999.00,9,    0.81,2,   5.200,2,   2.435,2,   6.161,2,  -999.0,9,  -999.0,9,-999.0000,9,  -999.00,  0.2379
06AQ19960712,ARKXII,105,1,4,168636,2,19960903,1828,78.1317,132.4517,1264,  1000.6,  0.0025, 34.8707,2, 34.8736,2,  -999.0,9,   309.3,2,    6.24,2,   11.22,2, -999.00,9,    0.81,2,   5.091,2,   2.300,2,   6.106,2,  2161.6,2,  2290.0,2,   7.6774,2,    25.00, -0.0367
06AQ19960712,ARKXII,105,1,3,168635,2,19960903,1828,78.1317,132.4517,1264,  1175.2, -0.2334, 34.8729,2, 34.8750,2,  -999.0,9,   311.2,2,    6.44,2,   11.22,2, -999.00,9,    0.81,2,   5.231,2,   2.122,2,   6.150,2,  2164.2,2,  2292.8,2,   7.6803,2,    25.00, -0.2810
06AQ19960712,ARKXII,105,1,2,168634,2,19960903,1828,78.1317,132.4517,1264,  1225.4, -0.2611, 34.8742,2, 34.8765,2,  -999.0,9,   311.4,2, -999.00,9,   11.12,2, -999.00,9,    0.80,2,   4.991,2,   2.347,2,   6.035,2,  2164.8,2,  -999.0,9,   7.6745,2,    25.00, -0.3115
06AQ19960712,ARKXII,105,1,1,168633,2,19960903,1828,78.1317,132.4517,1264,  1275.2, -0.2707, 34.8760,2, 34.8771,2,  -999.0,9,   311.3,2,    6.73,2,   11.02,2, -999.00,9,    0.78,2,   4.958,2,   2.186,2,   6.275,2,  2164.4,2,  2285.0,2,   7.6794,2,    25.00, -0.3242
06AQ19960712,ARKXII,106,1,30,168686,2,19960903,2318,78.0300,132.3733,548,     2.8, -1.6412, 32.4475,2,-999.0000,9,  -999.0,9,  -999.0,9, -999.00,9, -999.00,9, -999.00,9, -999.00,9,-999.000,9,-999.000,9,-999.000,9,  -999.0,9,  -999.0,9,-999.0000,9,  -999.00,-999.0000
06AQ19960712,ARKXII,106,1,29,168685,2,19960903,2318,78.0300,132.3733,548,    10.5, -1.7348, 32.4683,2,-999.0000,9,  -999.0,9,  -999.0,9, -999.00,9, -999.00,9, -999.00,9, -999.00,9,-999.000,9,-999.000,9,-999.000,9,  -999.0,9,  -999.0,9,-999.0000,9,  -999.00,-999.0000
06AQ19960712,ARKXII,106,1,28,168684,2,19960903,2318,78.0300,132.3733,548,    10.5, -1.7388, 32.4624,2, 32.4568,2,  -999.0,9,   375.1,2,    2.73,2,    0.78,2, -999.00,9,    0.32,2,   6.884,2,   3.104,2,   6.317,2,  2062.5,2,  2206.5,2,   7.7273,2,    25.00, -1.7352
06AQ19960712,ARKXII,106,1,27,168683,2,19960903,2318,78.0300,132.3733,548,    20.4, -1.7229, 32.5448,2,-999.0000,9,  -999.0,9,  -999.0,9, -999.00,9, -999.00,9, -999.00,9, -999.00,9,-999.000,9,-999.000,9,-999.000,9,  -999.0,9,  -999.0,9,-999.0000,9,  -999.00,-999.0000
06AQ19960712,ARKXII,106,1,26,168682,2,19960903,2318,78.0300,132.3733,548,    20.4, -1.7217, 32.5470,2, 32.5841,2,  -999.0,9,   368.6,2,    3.22,2,    1.46,2, -999.00,9,    0.36,2,   6.713,2,   3.208,2,   6.508,2,  -999.0,9,  -999.0,9,-999.0000,9,  -999.00, -1.7193
06AQ19960712,ARKXII,106,1,25,168681,2,19960903,2318,78.0300,132.3733,548,    30.7, -1.4519, 33.2426,2,-999.0000,9,  -999.0,9,  -999.0,9, -999.00,9, -999.00,9, -999.00,9, -999.00,9,-999.000,9,-999.000,9,-999.000,9,  -999.0,9,  -999.0,9,-999.0000,9,  -999.00,-999.0000
06AQ19960712,ARKXII,106,1,24,168680,2,19960903,2318,78.0300,132.3733,548,    30.7, -1.4476, 33.2496,2, 33.2620,2,  -999.0,9,   334.0,2, -999.00,9,    4.88,2, -999.00,9,    0.51,2,   6.500,2,   3.063,2,   6.684,2,  2129.3,2,  -999.0,9,   7.6521,2,    25.00, -1.4476
06AQ19960712,ARKXII,106,1,22,168678,2,19960903,2318,78.0300,132.3733,548,    40.5, -1.3110, 33.8452,2, 33.8744,2,  -999.0,9,   319.9,2, -999.00,9,    6.24,2, -999.00,9,    0.58,2,   6.584,2,   3.036,2,   6.661,2,  -999.0,9,  -999.0,9,-999.0000,9,  -999.00, -1.3199
06AQ19960712,ARKXII,106,1,23,168679,2,19960903,2318,78.0300,132.3733,548,    40.5, -1.3313, 33.8171,2,-999.0000,9,  -999.0,9,  -999.0,9, -999.00,9, -999.00,9, -999.00,9, -999.00,9,-999.000,9,-999.000,9,-999.000,9,  -999.0,9,  -999.0,9,-999.0000,9,  -999.00,-999.0000
06AQ19960712,ARKXII,106,1,21,168677,2,19960903,2318,78.0300,132.3733,548,    50.6, -1.2772, 34.1499,2,-999.0000,9,  -999.0,9,  -999.0,9, -999.00,9, -999.00,9, -999.00,9, -999.00,9,-999.000,9,-999.000,9,-999.000,9,  -999.0,9,  -999.0,9,-999.0000,9,  -999.00,-999.0000
06AQ19960712,ARKXII,106,1,20,168676,2,19960903,2318,78.0300,132.3733,548,    60.5, -1.3868, 34.2248,2, 34.2340,2,  -999.0,9,   319.6,2,    5.27,2,    6.73,2, -999.00,9,    0.59,2,   6.618,2,   2.912,2,   6.631,2,  2149.0,2,  2275.1,2,   7.6651,2,    25.00, -1.3684
06AQ19960712,ARKXII,106,1,18,168674,2,19960903,2318,78.0300,132.3733,548,    80.9, -0.9637, 34.3972,2, 34.3952,2,  -999.0,9,   305.9,2,    5.66,2,    8.29,2, -999.00,9,    0.66,2,   6.196,2,   2.881,2,   6.204,2,  2156.8,2,  2280.2,2,   7.6497,2,    25.00, -0.9652
06AQ19960712,ARKXII,106,1,19,168675,2,19960903,2318,78.0300,132.3733,548,    81.0, -0.9715, 34.3946,2,-999.0000,9,  -999.0,9,  -999.0,9, -999.00,9, -999.00,9, -999.00,9, -999.00,9,-999.000,9,-999.000,9,-999.000,9,  -999.0,9,  -999.0,9,-999.0000,9,  -999.00,-999.0000
06AQ19960712,ARKXII,106,1,16,168672,2,19960903,2318,78.0300,132.3733,548,   100.6, -0.9084, 34.4278,2, 34.4261,2,  -999.0,9,   306.7,2,    5.56,2,    8.29,2, -999.00,9,    0.67,2,   6.259,2,   2.890,2,   6.392,2,  2156.8,2,  2282.0,2,   7.6516,2,    25.00, -0.9078
06AQ19960712,ARKXII,106,1,17,168673,2,19960903,2318,78.0300,132.3733,548,   100.7, -0.9078, 34.4272,2,-999.0000,9,  -999.0,9,  -999.0,9, -999.00,9, -999.00,9, -999.00,9, -999.00,9,-999.000,9,-999.000,9,-999.000,9,  -999.0,9,  -999.0,9,-999.0000,9,  -999.00,-999.0000
06AQ19960712,ARKXII,106,1,14,168670,2,19960903,2318,78.0300,132.3733,548,   150.5, -0.7223, 34.5163,2, 34.5118,2,  -999.0,9,   307.0,2,    5.37,2,    8.78,2, -999.00,9,    0.71,2,   6.100,2,   2.835,2,   6.366,2,  2157.2,2,  2287.0,2,   7.6574,2,    25.00, -0.7245
06AQ19960712,ARKXII,106,1,15,168671,2,19960903,2318,78.0300,132.3733,548,   150.6, -0.7229, 34.5156,2,-999.0000,9,  -999.0,9,  -999.0,9, -999.00,9, -999.00,9, -999.00,9, -999.00,9,-999.000,9,-999.000,9,-999.000,9,  -999.0,9,  -999.0,9,-999.0000,9,  -999.00,-999.0000
06AQ19960712,ARKXII,106,1,12,168668,2,19960903,2318,78.0300,132.3733,548,   200.4, -0.3602, 34.6019,2, 34.6012,2,  -999.0,9,   307.5,2,    5.27,2,    9.27,2, -999.00,9,    0.72,2,   5.935,2,   2.762,2,   6.274,2,  -999.0,9,  -999.0,9,-999.0000,9,  -999.00, -0.3728
06AQ19960712,ARKXII,106,1,13,168669,2,19960903,2318,78.0300,132.3733,548,   200.6, -0.3710, 34.6000,2,-999.0000,9,  -999.0,9,  -999.0,9, -999.00,9, -999.00,9, -999.00,9, -999.00,9,-999.000,9,-999.000,9,-999.000,9,  -999.0,9,  -999.0,9,-999.0000,9,  -999.00,-999.0000
06AQ19960712,ARKXII,106,1,10,168666,2,19960903,2318,78.0300,132.3733,548,   250.2, -0.0567, 34.6621,2, 34.6645,2,  -999.0,9,   306.5,2,    5.27,2,    9.66,2, -999.00,9,    0.73,2,   5.765,2,   2.658,2,   6.221,2,  2153.8,2,  2296.1,2,   7.6727,2,    25.00, -0.0652
06AQ19960712,ARKXII,106,1,11,168667,2,19960903,2318,78.0300,132.3733,548,   250.4, -0.0581, 34.6623,2,-999.0000,9,  -999.0,9,  -999.0,9, -999.00,9, -999.00,9, -999.00,9, -999.00,9,-999.000,9,-999.000,9,-999.000,9,  -999.0,9,  -999.0,9,-999.0000,9,  -999.00,-999.0000
06AQ19960712,ARKXII,106,1,8,168664,2,19960903,2318,78.0300,132.3733,548,   301.2,  0.4854, 34.7418,2, 34.7426,2,  -999.0,9,   305.7,2,    5.95,2,   10.15,2, -999.00,9,    0.76,2,   5.635,2,   2.604,2,   6.122,2,  -999.0,9,  -999.0,9,-999.0000,9,  -999.00,  0.4763
06AQ19960712,ARKXII,106,1,9,168665,2,19960903,2318,78.0300,132.3733,548,   301.3,  0.4789, 34.7404,2,-999.0000,9,  -999.0,9,  -999.0,9, -999.00,9, -999.00,9, -999.00,9, -999.00,9,-999.000,9,-999.000,9,-999.000,9,  -999.0,9,  -999.0,9,-999.0000,9,  -999.00,-999.0000
06AQ19960712,ARKXII,106,1,7,168663,2,19960903,2318,78.0300,132.3733,548,   351.1,  0.7685, 34.7911,2, 34.7901,2,  -999.0,9,   305.2,2,    6.05,2,   10.54,2, -999.00,9,    0.77,2,   5.434,2,   2.505,2,   6.108,2,  -999.0,9,  -999.0,9,-999.0000,9,  -999.00,  0.7582
06AQ19960712,ARKXII,106,1,6,168662,2,19960903,2318,78.0300,132.3733,548,   400.1,  0.8717, 34.8110,2, 34.8186,2,  -999.0,9,   304.8,2,    6.05,2,   10.54,2, -999.00,9,    0.76,2,   5.383,2,   2.538,2,   5.983,2,  2150.1,2,  2297.5,2,   7.6938,2,    25.00,  0.8445
06AQ19960712,ARKXII,106,1,5,168661,2,19960903,2318,78.0300,132.3733,548,   450.4,  0.8759, 34.8306,2, 34.8301,2,  -999.0,9,   304.7,2,    6.24,2,   10.93,2, -999.00,9,    0.79,2,   5.455,2,   2.506,2,   6.122,2,  -999.0,9,  -999.0,9,-999.0000,9,  -999.00,  0.8589
06AQ19960712,ARKXII,106,1,3,168659,2,19960903,2318,78.0300,132.3733,548,   501.6,  0.9483, 34.8453,2, 34.8450,2,  -999.0,9,   304.6,2,    6.24,2,   10.93,2, -999.00,9,    0.79,2,   5.338,2,   2.501,2,   5.926,2,  2150.6,2,  2295.9,2,   7.6948,2,    25.00,  0.9290
06AQ19960712,ARKXII,106,1,4,168660,2,19960903,2318,78.0300,132.3733,548,   501.6,  0.9500, 34.8446,2,-999.0000,9,  -999.0,9,  -999.0,9, -999.00,9, -999.00,9, -999.00,9, -999.00,9,-999.000,9,-999.000,9,-999.000,9,  -999.0,9,  -999.0,9,-999.0000,9,  -999.00,-999.0000
06AQ19960712,ARKXII,106,1,1,168657,2,19960903,2318,78.0300,132.3733,548,   539.8,  0.9602, 34.8526,2, 34.8531,2,  -999.0,9,   303.6,2,    6.24,2,   10.93,2, -999.00,9,    0.77,2,   5.229,2,   2.430,2,   5.936,2,  2149.1,2,  2296.3,2,   7.6929,2,    25.00,  0.9379
06AQ19960712,ARKXII,106,1,2,168658,2,19960903,2318,78.0300,132.3733,548,   539.9,  0.9618, 34.8537,2,-999.0000,9,  -999.0,9,  -999.0,9, -999.00,9, -999.00,9, -999.00,9, -999.00,9,-999.000,9,-999.000,9,-999.000,9,  -999.0,9,  -999.0,9,-999.0000,9,  -999.00,-999.0000