BOTTLE,20100322CCHDOSIODM
EXPOCODE,SECT_ID,STNNBR,CASTNO,SAMPNO,BTLNBR,BTLNBR_FLAG_W,DATE,TIME,LATITUDE,LONGITUDE,DEPTH,CTDPRS,CTDTMP,CTDSAL,CTDSAL_FLAG_W,SALNTY,SALNTY_FLAG_W,CTDOXY,CTDOXY_FLAG_W,OXYGEN,OXYGEN_FLAG_W,SILCAT,SILCAT_FLAG_W,NITRAT,NITRAT_FLAG_W,NITRIT,NITRIT_FLAG_W,PHSPHT,PHSPHT_FLAG_W,CFC-11,CFC-11_FLAG_W,CFC-12,CFC-12_FLAG_W,CCL4,CCL4_FLAG_W,TCARBN,TCARBN_FLAG_W,ALKALI,ALKALI_FLAG_W,PH_SWS,PH_SWS_FLAG_W,PH_TMP,THETA
,,,,,,,,,,,METERS,DBAR,ITS-90,PSS-78,,PSS-78,,UMOL/KG,,UMOL/KG,,UMOL/KG,,UMOL/KG,,UMOL/KG,,UMOL/KG,,PMOL/KG,,PMOL/KG,,PMOL/KG,,UMOL/KG,,UMOL/KG,,,,DEG C,DEG C
06AQ19960712,ARKXII,103,1,26,168592,2,19960903,0616,78.4517,132.6650,2202,     9.3, -1.7406, 32.2980,2, 32.2937,2,  -999.0,9,   372.7,2, -999.00,9,    1.85,2, -999.00,9,    0.35,2,   6.737,2,   3.263,2,   7.450,2,  -999.0,9,  -999.0,9,-999.0000,9,  -999.00, -1.7372
06AQ19960712,ARKXII,103,1,25,168591,2,19960903,0616,78.4517,132.6650,2202,    19.9, -1.7320, 32.3488,2, 32.3614,2,  -999.0,9,   371.4,2, -999.00,9,    2.05,2, -999.00,9,    0.36,2,-999.000,9,-999.000,9,-999.000,9,  -999.0,9,  -999.0,9,-999.0000,9,  -999.00, -1.7293
06AQ19960712,ARKXII,103,1,24,168590,2,19960903,0616,78.4517,132.6650,2202,    30.0, -1.7160, 32.7098,2, 32.6468,2,  -999.0,9,   366.1,2, -999.00,9,    2.83,2, -999.00,9,    0.41,2,   7.071,2,   3.477,2,   7.902,2,  -999.0,9,  -999.0,9,-999.0000,9,  -999.00, -1.7135
06AQ19960712,ARKXII,103,1,23,168589,2,19960903,0616,78.4517,132.6650,2202,    39.5, -1.7242, 32.9316,2, 32.9863,2,  -999.0,9,   359.7,2, -999.00,9,    3.80,2, -999.00,9,    0.45,2,-999.000,9,-999.000,9,-999.000,9,  -999.0,9,  -999.0,9,-999.0000,9,  -999.00, -1.7207
06AQ19960712,ARKXII,103,1,22,168588,2,19960903,0616,78.4517,132.6650,2202,    60.1, -1.7588, 33.8862,2, 33.8705,2,  -999.0,9,   339.3,2, -999.00,9,    5.27,2, -999.00,9,    0.49,2,   6.745,2,   3.154,2,   7.632,2,  -999.0,9,  -999.0,9,-999.0000,9,  -999.00, -1.7541
06AQ19960712,ARKXII,103,1,21,168587,2,19960903,0616,78.4517,132.6650,2202,    78.9, -1.6887, 34.1367,2, 34.1273,2,  -999.0,9,   333.9,2,    3.41,2,    5.95,2, -999.00,9,    0.52,2,-999.000,9,-999.000,9,-999.000,9,  -999.0,9,  -999.0,9,-999.0000,9,  -999.00, -1.6886
06AQ19960712,ARKXII,103,1,20,168586,2,19960903,0616,78.4517,132.6650,2202,    99.1, -1.4092, 34.2846,2, 34.3196,2,  -999.0,9,   319.2,2,    4.00,2,    7.80,2, -999.00,9,    0.61,2,   6.194,2,   2.800,2,   5.732,2,  -999.0,9,  -999.0,9,-999.0000,9,  -999.00, -1.4143
06AQ19960712,ARKXII,103,1,19,168585,2,19960903,0616,78.4517,132.6650,2202,   149.3, -0.3077, 34.5472,2, 34.5446,2,  -999.0,9,   311.8,2,    4.59,2,    9.07,2, -999.00,9,    0.67,2,-999.000,9,-999.000,9,-999.000,9,  -999.0,9,  -999.0,9,-999.0000,9,  -999.00, -0.3081
06AQ19960712,ARKXII,103,1,18,168584,2,19960903,0616,78.4517,132.6650,2202,   199.4,  0.8483, 34.7456,2, 34.7451,2,  -999.0,9,   306.6,2,    5.27,2,   10.63,2, -999.00,9,    0.73,2,   5.459,2,   2.668,2,   5.681,2,  -999.0,9,  -999.0,9,-999.0000,9,  -999.00,  0.8391
06AQ19960712,ARKXII,103,1,17,168583,2,19960903,0616,78.4517,132.6650,2202,   248.8,  1.1113, 34.8195,2, 34.8175,2,  -999.0,9,   305.6,2,    5.66,2,   11.12,2, -999.00,9,    0.75,2,   5.241,2,   2.389,2,   5.559,2,  -999.0,9,  -999.0,9,-999.0000,9,  -999.00,  1.0554
06AQ19960712,ARKXII,103,1,16,168582,2,19960903,0616,78.4517,132.6650,2202,   299.3,  1.1831, 34.8422,2, 34.8429,2,  -999.0,9,   306.5,2,    5.66,2,   11.12,2, -999.00,9,    0.76,2,   4.983,2,   2.363,2,   5.717,2,  -999.0,9,  -999.0,9,-999.0000,9,  -999.00,  1.1825
06AQ19960712,ARKXII,103,1,15,168581,2,19960903,0616,78.4517,132.6650,2202,   399.0,  1.0058, 34.8713,2, 34.8713,2,  -999.0,9,   306.8,2,    5.85,2,   11.32,2, -999.00,9,    0.78,2,-999.000,9,-999.000,9,-999.000,9,  -999.0,9,  -999.0,9,-999.0000,9,  -999.00,  0.9870
06AQ19960712,ARKXII,103,1,14,168580,2,19960903,0616,78.4517,132.6650,2202,   499.3,  0.7191, 34.8787,2, 34.8802,2,  -999.0,9,   307.0,2,    5.95,2,   11.41,2, -999.00,9,    0.78,2,   4.806,2,   2.266,2,   5.612,2,  -999.0,9,  -999.0,9,-999.0000,9,  -999.00,  0.7238
06AQ19960712,ARKXII,103,1,13,168579,2,19960903,0616,78.4517,132.6650,2202,   598.8,  0.3726, 34.8706,2, 34.8723,2,  -999.0,9,   307.2,2,    6.05,2,   11.22,2, -999.00,9,    0.78,2,-999.000,9,-999.000,9,-999.000,9,  -999.0,9,  -999.0,9,-999.0000,9,  -999.00,  0.3515
06AQ19960712,ARKXII,103,1,12,168578,2,19960903,0616,78.4517,132.6650,2202,   699.6,  0.1818, 34.8684,2, 34.8694,2,  -999.0,9,   309.1,2,    6.05,2,   11.22,2, -999.00,9,    0.78,2,   5.223,2,   2.522,2,   6.096,2,  -999.0,9,  -999.0,9,-999.0000,9,  -999.00,  0.1566
06AQ19960712,ARKXII,103,1,11,168577,2,19960903,0616,78.4517,132.6650,2202,   799.2, -0.0031, 34.8710,2, 34.8729,2,  -999.0,9,   310.2,2,    6.24,2,   11.12,2, -999.00,9,    0.78,2,-999.000,9,-999.000,9,-999.000,9,  -999.0,9,  -999.0,9,-999.0000,9,  -999.00, -0.0323
06AQ19960712,ARKXII,103,1,10,168576,2,19960903,0616,78.4517,132.6650,2202,   999.6, -0.2605, 34.8736,2, 34.8794,2,  -999.0,9,   312.7,2,    6.73,2,   11.12,2, -999.00,9,    0.77,2,   4.979,2,   2.334,2,   5.930,2,  -999.0,9,  -999.0,9,-999.0000,9,  -999.00, -0.2965
06AQ19960712,ARKXII,103,1,9,168575,2,19960903,0616,78.4517,132.6650,2202,  1198.8, -0.3033, 34.8907,2, 34.8922,2,  -999.0,9,   310.4,2,    7.32,2,   11.71,2, -999.00,9,    0.82,2,-999.000,9,-999.000,9,-999.000,9,  -999.0,9,  -999.0,9,-999.0000,9,  -999.00, -0.3517
06AQ19960712,ARKXII,103,1,8,168574,2,19960903,0616,78.4517,132.6650,2202,  1400.2, -0.3788, 34.9038,2, 34.9065,2,  -999.0,9,   305.4,2,    8.59,2,   12.59,2, -999.00,9,    0.87,2,   3.067,2,   1.387,2,   4.344,2,  -999.0,9,  -999.0,9,-999.0000,9,  -999.00, -0.4382
06AQ19960712,ARKXII,103,1,7,168573,2,19960903,0616,78.4517,132.6650,2202,  1600.6, -0.5509, 34.9097,2, 34.9110,2,  -999.0,9,   301.9,2,    9.76,2,   13.46,2, -999.00,9,    0.91,2,   1.553,2,   0.700,2,   2.697,2,  -999.0,9,  -999.0,9,-999.0000,9,  -999.00, -0.6198
06AQ19960712,ARKXII,103,1,6,168572,2,19960903,0616,78.4517,132.6650,2202,  1800.3, -0.6842, 34.9144,2, 34.9159,2,  -999.0,9,   299.8,2,   10.54,2,   13.95,2, -999.00,9,    0.93,2,   0.968,2,   0.405,2,   1.985,2,  -999.0,9,  -999.0,9,-999.0000,9,  -999.00, -0.7632
06AQ19960712,ARKXII,103,1,5,168571,2,19960903,0616,78.4517,132.6650,2202,  1999.9, -0.7575, 34.9195,2, 34.9204,2,  -999.0,9,   298.7,2,   11.12,2,   14.15,2, -999.00,9,    0.94,2,-999.000,9,-999.000,9,-999.000,9,  -999.0,9,  -999.0,9,-999.0000,9,  -999.00, -0.8487
06AQ19960712,ARKXII,103,1,4,168570,2,19960903,0616,78.4517,132.6650,2202,  2090.6, -0.7721, 34.9216,2, 34.9222,2,  -999.0,9,   298.5,2,   11.32,2,   14.15,2, -999.00,9,    0.94,2,   0.573,2,   0.220,2,   1.232,2,  -999.0,9,  -999.0,9,-999.0000,9,  -999.00, -0.8694
06AQ19960712,ARKXII,103,1,3,168569,2,19960903,0616,78.4517,132.6650,2202,  2140.2, -0.7767, 34.9226,2, 34.9242,2,  -999.0,9,   298.2,2,   11.61,2,   14.15,2, -999.00,9,    0.93,2,-999.000,9,-999.000,9,-999.000,9,  -999.0,9,  -999.0,9,-999.0000,9,  -999.00, -0.8766
06AQ19960712,ARKXII,103,1,2,168568,2,19960903,0616,78.4517,132.6650,2202,  2189.9, -0.7768, 34.9229,2, 34.9240,2,  -999.0,9,   297.3,2,   11.61,2,   14.05,2, -999.00,9,    0.90,2,   0.281,2,   0.111,2,   1.118,2,  -999.0,9,  -999.0,9,-999.0000,9,  -999.00, -0.8800
06AQ19960712,ARKXII,103,1,1,168567,2,19960903,0616,78.4517,132.6650,2202,  2189.9, -0.7770, 34.9231,2,-999.0000,9,  -999.0,9,  -999.0,9, -999.00,9, -999.00,9, -999.00,9, -999.00,9,-999.000,9,-999.000,9,-999.000,9,  -999.0,9,  -999.0,9,-999.0000,9,  -999.00,-999.0000
06AQ19960712,ARKXII,104,1,35,168631,2,19960903,1220,78.2933,132.5417,1906,     2.3, -1.7255, 32.2265,2,-999.0000,9,  -999.0,9,  -999.0,9, -999.00,9, -999.00,9, -999.00,9, -999.00,9,-999.000,9,-999.000,9,-999.000,9,  -999.0,9,  -999.0,9,-999.0000,9,  -999.00,-999.0000
06AQ19960712,ARKXII,104,1,34,168630,2,19960903,1220,78.2933,132.5417,1906,    10.2, -1.7322, 32.2245,2, 32.2242,2,  -999.0,9,   375.7,2, -999.00,9,    1.17,2, -999.00,9,    0.32,2,   6.979,2,   3.264,2,   7.155,2,  2068.0,2,  2191.5,2,   7.7236,2,    25.00, -1.7292
06AQ19960712,ARKXII,104,1,33,168629,2,19960903,1220,78.2933,132.5417,1906,    20.3, -1.7282, 32.2423,2, 32.2335,2,  -999.0,9,   374.9,2, -999.00,9,    1.37,2, -999.00,9,    0.32,2,   6.869,2,   3.272,2,   7.106,2,  -999.0,9,  -999.0,9,-999.0000,9,  -999.00, -1.7233
06AQ19960712,ARKXII,104,1,32,168628,2,19960903,1220,78.2933,132.5417,1906,    30.1, -1.7101, 32.5272,2, 32.5392,2,  -999.0,9,   370.0,2, -999.00,9,    2.44,2, -999.00,9,    0.37,2,   7.052,2,   3.328,2,   7.529,2,  2108.5,2,  2222.2,2,   7.7013,2,    25.00, -1.7075
06AQ19960712,ARKXII,104,1,31,168627,2,19960903,1220,78.2933,132.5417,1906,    39.8, -1.7232, 33.0521,2, 33.0624,2,  -999.0,9,   356.5,2, -999.00,9,    4.10,2, -999.00,9,    0.46,2,   7.075,2,   3.334,2,   7.738,2,  -999.0,9,  -999.0,9,-999.0000,9,  -999.00, -1.7207
06AQ19960712,ARKXII,104,1,30,168626,2,19960903,1220,78.2933,132.5417,1906,    50.2, -1.5070, 33.5700,2,-999.0000,9,  -999.0,9,  -999.0,9, -999.00,9, -999.00,9, -999.00,9, -999.00,9,-999.000,9,-999.000,9,-999.000,9,  -999.0,9,  -999.0,9,-999.0000,9,  -999.00,-999.0000
06AQ19960712,ARKXII,104,1,29,168625,2,19960903,1220,78.2933,132.5417,1906,    59.9, -1.2752, 33.8700,2, 33.8660,2,  -999.0,9,   315.9,2, -999.00,9,    6.54,2, -999.00,9,    0.62,2,   6.577,2,   3.139,2,   6.480,2,  2168.9,2,  2256.1,2,   7.6365,2,    25.00, -1.2824
06AQ19960712,ARKXII,104,1,28,168624,2,19960903,1220,78.2933,132.5417,1906,    80.0, -1.2510, 34.1917,2, 34.1686,2,  -999.0,9,   313.5,2, -999.00,9,    7.12,2, -999.00,9,    0.62,2,   6.550,2,   3.100,2,   6.313,2,  2169.0,2,  2269.8,2,   7.6450,2,    25.00, -1.2499
06AQ19960712,ARKXII,104,1,26,168622,2,19960903,1220,78.2933,132.5417,1906,   100.2, -1.2313, 34.3111,2, 34.3092,2,  -999.0,9,   314.3,2,    5.07,2,    7.51,2, -999.00,9,    0.62,2,   6.424,2,   3.122,2,   6.740,2,  2161.4,2,  2272.1,2,   7.6584,2,    25.00, -1.2305
06AQ19960712,ARKXII,104,1,27,168623,2,19960903,1220,78.2933,132.5417,1906,   100.3, -1.2327, 34.3080,2,-999.0000,9,  -999.0,9,  -999.0,9, -999.00,9, -999.00,9, -999.00,9, -999.00,9,-999.000,9,-999.000,9,-999.000,9,  -999.0,9,  -999.0,9,-999.0000,9,  -999.00,-999.0000
06AQ19960712,ARKXII,104,1,24,168620,2,19960903,1220,78.2933,132.5417,1906,   149.9, -0.3014, 34.5489,2, 34.5428,2,  -999.0,9,   310.5,2,    4.88,2,    8.98,2, -999.00,9,    0.67,2,   5.959,2,   2.666,2,   6.137,2,  2156.8,2,  2279.0,2,   7.6766,2,    25.00, -0.3071
06AQ19960712,ARKXII,104,1,25,168621,2,19960903,1220,78.2933,132.5417,1906,   149.9, -0.3084, 34.5469,2,-999.0000,9,  -999.0,9,  -999.0,9, -999.00,9, -999.00,9, -999.00,9, -999.00,9,-999.000,9,-999.000,9,-999.000,9,  -999.0,9,  -999.0,9,-999.0000,9,  -999.00,-999.0000
06AQ19960712,ARKXII,104,1,22,168618,2,19960903,1220,78.2933,132.5417,1906,   200.5,  0.9191, 34.7472,2, 34.7392,2,  -999.0,9,   304.7,2,    5.27,2,   10.63,2, -999.00,9,    0.75,2,   5.490,2,   2.550,2,   5.838,2,  -999.0,9,  -999.0,9,-999.0000,9,  -999.00,  0.9160
06AQ19960712,ARKXII,104,1,23,168619,2,19960903,1220,78.2933,132.5417,1906,   200.5,  0.9307, 34.7450,2,-999.0000,9,  -999.0,9,  -999.0,9, -999.00,9, -999.00,9, -999.00,9, -999.00,9,-999.000,9,-999.000,9,-999.000,9,  -999.0,9,  -999.0,9,-999.0000,9,  -999.00,-999.0000
06AQ19960712,ARKXII,104,1,20,168616,2,19960903,1220,78.2933,132.5417,1906,   250.2,  1.3888, 34.8341,2, 34.8330,2,  -999.0,9,   303.8,2,    5.56,2,   11.22,2, -999.00,9,    0.78,2,   5.176,2,   2.553,2,   5.657,2,  2151.1,2,  2290.2,2,   7.7044,2,    25.00,  1.4006
06AQ19960712,ARKXII,104,1,21,168617,2,19960903,1220,78.2933,132.5417,1906,   250.2,  1.3674, 34.8218,2,-999.0000,9,  -999.0,9,  -999.0,9, -999.00,9, -999.00,9, -999.00,9, -999.00,9,-999.000,9,-999.000,9,-999.000,9,  -999.0,9,  -999.0,9,-999.0000,9,  -999.00,-999.0000
06AQ19960712,ARKXII,104,1,18,168614,2,19960903,1220,78.2933,132.5417,1906,   290.2,  1.3448, 34.8492,2, 34.8452,2,  -999.0,9,   304.2,2,    5.66,2,   11.32,2, -999.00,9,    0.78,2,   5.259,2,   2.542,2,   5.873,2,  -999.0,9,  -999.0,9,-999.0000,9,  -999.00,  1.3496
06AQ19960712,ARKXII,104,1,19,168615,2,19960903,1220,78.2933,132.5417,1906,   290.2,  1.3711, 34.8504,2,-999.0000,9,  -999.0,9,  -999.0,9, -999.00,9, -999.00,9, -999.00,9, -999.00,9,-999.000,9,-999.000,9,-999.000,9,  -999.0,9,  -999.0,9,-999.0000,9,  -999.00,-999.0000
06AQ19960712,ARKXII,104,1,17,168613,2,19960903,1220,78.2933,132.5417,1906,   400.0,  1.2441, 34.8848,2, 34.8847,2,  -999.0,9,   304.5,2,    5.85,2,   11.51,2, -999.00,9,    0.81,2,   5.051,2,   2.447,2,   5.828,2,  -999.0,9,  -999.0,9,-999.0000,9,  -999.00,  1.2321
06AQ19960712,ARKXII,104,1,15,168611,2,19960903,1220,78.2933,132.5417,1906,   500.6,  0.7696, 34.8727,2, 34.8735,2,  -999.0,9,   305.7,2,    5.85,2,   11.41,2, -999.00,9,    0.80,2,   5.101,2,   2.480,2,   5.875,2,  2159.7,2,  2293.2,2,   7.6919,2,    25.00,  0.7537
06AQ19960712,ARKXII,104,1,16,168612,2,19960903,1220,78.2933,132.5417,1906,   500.6,  0.7813, 34.8721,2,-999.0000,9,  -999.0,9,  -999.0,9, -999.00,9, -999.00,9, -999.00,9, -999.00,9,-999.000,9,-999.000,9,-999.000,9,  -999.0,9,  -999.0,9,-999.0000,9,  -999.00,-999.0000
06AQ19960712,ARKXII,104,1,14,168610,2,19960903,1220,78.2933,132.5417,1906,   600.2,  0.4460, 34.8696,2, 34.8694,2,  -999.0,9,   306.5,2,    6.15,2,   11.32,2, -999.00,9,    0.80,2,   5.119,2,   2.465,2,   6.123,2,  -999.0,9,  -999.0,9,-999.0000,9,  -999.00,  0.4241
06AQ19960712,ARKXII,104,1,13,168609,2,19960903,1220,78.2933,132.5417,1906,   700.3,  0.1432, 34.8664,2, 34.8690,2,  -999.0,9,   308.9,2,    6.15,2,   11.32,2, -999.00,9,    0.81,2,   5.041,2,   2.478,2,   5.934,2,  2164.6,2,  2291.5,2,   7.6774,2,    25.00,  0.1178
06AQ19960712,ARKXII,104,1,12,168608,2,19960903,1220,78.2933,132.5417,1906,   750.2,  0.0829, 34.8716,2,-999.0000,9,  -999.0,9,  -999.0,9, -999.00,9, -999.00,9, -999.00,9, -999.00,9,-999.000,9,-999.000,9,-999.000,9,  -999.0,9,  -999.0,9,-999.0000,9,  -999.00,-999.0000
06AQ19960712,ARKXII,104,1,11,168607,2,19960903,1220,78.2933,132.5417,1906,   800.2, -0.0021, 34.8722,2, 34.8741,2,  -999.0,9,   309.1,2,    6.44,2,   11.32,2, -999.00,9,    0.82,2,   5.086,2,   2.504,2,   6.127,2,  2161.2,2,  2292.2,2,   7.6774,2,    25.00, -0.0313
06AQ19960712,ARKXII,104,1,9,168605,2,19960903,1220,78.2933,132.5417,1906,  1000.4, -0.1438, 34.8742,2, 34.8753,2,  -999.0,9,   310.2,2,    6.73,2,   11.32,2, -999.00,9,    0.82,2,   5.043,2,   2.460,2,   6.139,2,  2160.5,2,  2293.7,2,   7.6774,2,    25.00, -0.1835
06AQ19960712,ARKXII,104,1,10,168606,2,19960903,1220,78.2933,132.5417,1906,  1000.6, -0.1447, 34.8735,2,-999.0000,9,  -999.0,9,  -999.0,9, -999.00,9, -999.00,9, -999.00,9, -999.00,9,-999.000,9,-999.000,9,-999.000,9,  -999.0,9,  -999.0,9,-999.0000,9,  -999.00,-999.0000
06AQ19960712,ARKXII,104,1,8,168604,2,19960903,1220,78.2933,132.5417,1906,  1200.2, -0.3261, 34.8841,2, 34.8853,2,  -999.0,9,   311.1,2,    7.02,2,   11.51,2, -999.00,9,    0.84,2,   4.800,2,   2.220,2,   5.862,2,  2162.6,2,  2293.3,2,   7.6784,2,    25.00, -0.3745
06AQ19960712,ARKXII,104,1,7,168603,2,19960903,1220,78.2933,132.5417,1906,  1400.1, -0.3888, 34.9001,2, 34.9030,2,  -999.0,9,   306.2,2,    8.29,2,   12.20,2, -999.00,9,    0.88,2,   3.543,2,   1.641,2,   4.695,2,  2161.1,2,  2294.7,2,   7.6784,2,    25.00, -0.4471
06AQ19960712,ARKXII,104,1,6,168602,2,19960903,1220,78.2933,132.5417,1906,  1500.7, -0.4619, 34.9067,2,-999.0000,9,  -999.0,9,  -999.0,9, -999.00,9, -999.00,9, -999.00,9, -999.00,9,-999.000,9,-999.000,9,-999.000,9,  -999.0,9,  -999.0,9,-999.0000,9,  -999.00,-999.0000
06AQ19960712,ARKXII,104,1,5,168601,2,19960903,1220,78.2933,132.5417,1906,  1600.6, -0.6000, 34.9108,2, 34.9128,2,  -999.0,9,   300.5,2, -999.00,9,   13.56,2, -999.00,9,    0.94,2,   1.266,2,   0.566,2,   2.511,2,  -999.0,9,  -999.0,9,-999.0000,9,  -999.00, -0.6682
06AQ19960712,ARKXII,104,1,4,168600,2,19960903,1220,78.2933,132.5417,1906,  1781.3, -0.6892, 34.9139,2, 34.9153,2,  -999.0,9,   299.0,2,   10.63,2,   13.85,2, -999.00,9,    0.95,2,   0.863,2,   0.439,2,   1.809,2,  2156.1,2,  2294.1,2,   7.6899,2,    25.00, -0.7669
06AQ19960712,ARKXII,104,1,2,168598,2,19960903,1220,78.2933,132.5417,1906,  1828.1, -0.7083, 34.9158,2,-999.0000,9,  -999.0,9,  -999.0,9, -999.00,9, -999.00,9, -999.00,9, -999.00,9,-999.000,9,-999.000,9,-999.000,9,  -999.0,9,  -999.0,9,-999.0000,9,  -999.00,-999.0000
06AQ19960712,ARKXII,104,1,3,168599,2,19960903,1220,78.2933,132.5417,1906,  1828.1, -0.7066, 34.9156,2, 34.9155,2,  -999.0,9,   298.4,2,   10.93,2,   13.95,2, -999.00,9,    0.95,2,   0.733,2,   0.312,2,   1.733,2,  2156.8,2,  2289.6,2,   7.6909,2,    25.00, -0.7875
06AQ19960712,ARKXII,104,1,1,168597,2,19960903,1220,78.2933,132.5417,1906,  1877.7, -0.7183, 34.9162,2, 34.9189,2,  -999.0,9,   298.7,2,   10.93,2,   13.76,2, -999.00,9,    0.92,2,   1.010,2,   0.356,2,   1.722,2,  2155.8,2,  2292.5,2,   7.6919,2,    25.00, -0.8025