BOTTLE,20100322CCHDOSIODM
EXPOCODE,SECT_ID,STNNBR,CASTNO,SAMPNO,BTLNBR,BTLNBR_FLAG_W,DATE,TIME,LATITUDE,LONGITUDE,DEPTH,CTDPRS,CTDTMP,CTDSAL,CTDSAL_FLAG_W,SALNTY,SALNTY_FLAG_W,CTDOXY,CTDOXY_FLAG_W,OXYGEN,OXYGEN_FLAG_W,SILCAT,SILCAT_FLAG_W,NITRAT,NITRAT_FLAG_W,NITRIT,NITRIT_FLAG_W,PHSPHT,PHSPHT_FLAG_W,CFC-11,CFC-11_FLAG_W,CFC-12,CFC-12_FLAG_W,CCL4,CCL4_FLAG_W,TCARBN,TCARBN_FLAG_W,ALKALI,ALKALI_FLAG_W,PH_SWS,PH_SWS_FLAG_W,PH_TMP,THETA
,,,,,,,,,,,METERS,DBAR,ITS-90,PSS-78,,PSS-78,,UMOL/KG,,UMOL/KG,,UMOL/KG,,UMOL/KG,,UMOL/KG,,UMOL/KG,,PMOL/KG,,PMOL/KG,,PMOL/KG,,UMOL/KG,,UMOL/KG,,,,DEG C,DEG C
06AQ19960712,ARKXII,23,1,34,165807,2,19960730,1233,81.5417,82.7033,293,     2.4, -1.6981, 33.8878,2,-999.0000,9,  -999.0,9,  -999.0,9, -999.00,9, -999.00,9, -999.00,9, -999.00,9,-999.000,9,-999.000,9,-999.000,9,  -999.0,9,  -999.0,9,-999.0000,9,  -999.00,-999.0000
06AQ19960712,ARKXII,23,1,32,165805,2,19960730,1233,81.5417,82.7033,293,    10.1, -1.7393, 33.8934,2,-999.0000,9,  -999.0,9,  -999.0,9, -999.00,9, -999.00,9, -999.00,9, -999.00,9,-999.000,9,-999.000,9,-999.000,9,  -999.0,9,  -999.0,9,-999.0000,9,  -999.00,-999.0000
06AQ19960712,ARKXII,23,1,31,165804,2,19960730,1233,81.5417,82.7033,293,    10.1, -1.7488, 33.8938,2,-999.0000,9,  -999.0,9,  -999.0,9, -999.00,9, -999.00,9, -999.00,9, -999.00,9,-999.000,9,-999.000,9,-999.000,9,  -999.0,9,  -999.0,9,-999.0000,9,  -999.00,-999.0000
06AQ19960712,ARKXII,23,1,33,165806,2,19960730,1233,81.5417,82.7033,293,    10.1, -1.7299, 33.8910,2, 33.8917,2,  -999.0,9,   352.8,2,    3.71,2,    4.78,2, -999.00,9,    0.42,2,   6.853,2,   3.212,2,   8.284,2,  2127.3,2,  2270.7,2,   7.7230,2,    25.00, -1.7272
06AQ19960712,ARKXII,23,1,30,165803,2,19960730,1233,81.5417,82.7033,293,    10.1, -1.7600, 33.8963,2,-999.0000,9,  -999.0,9,  -999.0,9, -999.00,9, -999.00,9, -999.00,9, -999.00,9,-999.000,9,-999.000,9,-999.000,9,  -999.0,9,  -999.0,9,-999.0000,9,  -999.00,-999.0000
06AQ19960712,ARKXII,23,1,28,165801,2,19960730,1233,81.5417,82.7033,293,    20.2, -1.7977, 33.9203,2,-999.0000,9,  -999.0,9,  -999.0,9, -999.00,9, -999.00,9, -999.00,9, -999.00,9,-999.000,9,-999.000,9,-999.000,9,  -999.0,9,  -999.0,9,-999.0000,9,  -999.00,-999.0000
06AQ19960712,ARKXII,23,1,29,165802,2,19960730,1233,81.5417,82.7033,293,    20.2, -1.7984, 33.9118,2, 33.9202,2,  -999.0,9,   349.7,2,    3.71,2,    5.07,2, -999.00,9,    0.43,2,-999.000,9,-999.000,9,-999.000,9,  2130.0,2,  2272.1,2,   7.7201,2,    25.00, -1.7954
06AQ19960712,ARKXII,23,1,26,165799,2,19960730,1233,81.5417,82.7033,293,    30.0, -1.7628, 34.0662,2,-999.0000,9,  -999.0,9,  -999.0,9, -999.00,9, -999.00,9, -999.00,9, -999.00,9,-999.000,9,-999.000,9,-999.000,9,  -999.0,9,  -999.0,9,-999.0000,9,  -999.00,-999.0000
06AQ19960712,ARKXII,23,1,27,165800,2,19960730,1233,81.5417,82.7033,293,    30.0, -1.7889, 33.9672,2, 33.9795,2,  -999.0,9,   343.6,2,    3.90,2,    5.46,2, -999.00,9,    0.45,2,   6.620,2,   3.204,2,   8.380,2,  2134.0,2,  2281.4,3,   7.7085,2,    25.00, -1.7866
06AQ19960712,ARKXII,23,1,24,165797,2,19960730,1233,81.5417,82.7033,293,    40.2, -1.5891, 34.3948,2,-999.0000,9,  -999.0,9,  -999.0,9, -999.00,9, -999.00,9, -999.00,9, -999.00,9,-999.000,9,-999.000,9,-999.000,9,  -999.0,9,  -999.0,9,-999.0000,9,  -999.00,-999.0000
06AQ19960712,ARKXII,23,1,25,165798,2,19960730,1233,81.5417,82.7033,293,    40.2, -1.5762, 34.4067,2, 34.3911,2,  -999.0,9,   327.5,2,    4.49,2,    7.80,2, -999.00,9,    0.57,2,-999.000,9,-999.000,9,-999.000,9,  2148.3,2,  2283.4,2,   7.6901,2,    25.00, -1.5739
06AQ19960712,ARKXII,23,1,23,165796,2,19960730,1233,81.5417,82.7033,293,    50.3, -1.5382, 34.4247,2, 34.4414,2,  -999.0,9,   325.8,2,    4.59,2,    8.10,2, -999.00,9,    0.59,2,   6.224,2,   3.028,2,   7.849,2,  2143.3,2,  2285.9,2,   7.6930,2,    25.00, -1.5361
06AQ19960712,ARKXII,23,1,22,165795,2,19960730,1233,81.5417,82.7033,293,    50.3, -1.5340, 34.4250,2,-999.0000,9,  -999.0,9,  -999.0,9, -999.00,9, -999.00,9, -999.00,9, -999.00,9,-999.000,9,-999.000,9,-999.000,9,  -999.0,9,  -999.0,9,-999.0000,9,  -999.00,-999.0000
06AQ19960712,ARKXII,23,1,21,165794,2,19960730,1233,81.5417,82.7033,293,    60.1, -1.2054, 34.5243,2, 34.5305,2,  -999.0,9,   323.5,2,    4.59,2,    8.68,2, -999.00,9,    0.61,2,-999.000,9,-999.000,9,-999.000,9,  2143.6,2,  2290.5,2,   7.6939,2,    25.00, -1.2035
06AQ19960712,ARKXII,23,1,20,165793,2,19960730,1233,81.5417,82.7033,293,    60.1, -1.2150, 34.5279,2,-999.0000,9,  -999.0,9,  -999.0,9, -999.00,9, -999.00,9, -999.00,9, -999.00,9,-999.000,9,-999.000,9,-999.000,9,  -999.0,9,  -999.0,9,-999.0000,9,  -999.00,-999.0000
06AQ19960712,ARKXII,23,1,19,165792,2,19960730,1233,81.5417,82.7033,293,    80.1,  0.0972, 34.7012,2, 34.7060,2,  -999.0,9,   313.6,2,    5.07,2,   10.15,2, -999.00,9,    0.68,2,   5.712,2,   2.817,2,   6.860,2,  2143.3,2,  2290.7,2,   7.7054,2,    25.00,  0.0981
06AQ19960712,ARKXII,23,1,18,165791,2,19960730,1233,81.5417,82.7033,293,    80.1,  0.4252, 34.7486,2,-999.0000,9,  -999.0,9,  -999.0,9, -999.00,9, -999.00,9, -999.00,9, -999.00,9,-999.000,9,-999.000,9,-999.000,9,  -999.0,9,  -999.0,9,-999.0000,9,  -999.00,-999.0000
06AQ19960712,ARKXII,23,1,17,165790,2,19960730,1233,81.5417,82.7033,293,   100.4,  0.8175, 34.7826,2, 34.7803,2,  -999.0,9,   309.4,2,    5.27,2,   10.73,2, -999.00,9,    0.72,2,   5.599,2,   2.757,2,   6.481,2,  2145.8,2,  2293.0,2,   7.7122,2,    25.00,  0.8177
06AQ19960712,ARKXII,23,1,16,165789,2,19960730,1233,81.5417,82.7033,293,   100.4,  0.8426, 34.7855,2,-999.0000,9,  -999.0,9,  -999.0,9, -999.00,9, -999.00,9, -999.00,9, -999.00,9,-999.000,9,-999.000,9,-999.000,9,  -999.0,9,  -999.0,9,-999.0000,9,  -999.00,-999.0000
06AQ19960712,ARKXII,23,1,15,165788,2,19960730,1233,81.5417,82.7033,293,   125.0,  0.9557, 34.8074,2, 34.8079,2,  -999.0,9,   308.3,2,    5.46,2,   11.02,2, -999.00,9,    0.73,2,   5.384,2,   2.713,2,   6.649,2,  2146.8,2,  2290.6,2,   7.7102,2,    25.00,  0.9544
06AQ19960712,ARKXII,23,1,14,165787,2,19960730,1233,81.5417,82.7033,293,   125.0,  0.9560, 34.8106,2,-999.0000,9,  -999.0,9,  -999.0,9, -999.00,9, -999.00,9, -999.00,9, -999.00,9,-999.000,9,-999.000,9,-999.000,9,  -999.0,9,  -999.0,9,-999.0000,9,  -999.00,-999.0000
06AQ19960712,ARKXII,23,1,12,165785,2,19960730,1233,81.5417,82.7033,293,   150.2,  0.9719, 34.8322,2,-999.0000,9,  -999.0,9,  -999.0,9, -999.00,9, -999.00,9, -999.00,9, -999.00,9,-999.000,9,-999.000,9,-999.000,9,  -999.0,9,  -999.0,9,-999.0000,9,  -999.00,-999.0000
06AQ19960712,ARKXII,23,1,13,165786,2,19960730,1233,81.5417,82.7033,293,   150.2,  0.9760, 34.8297,2, 34.8300,2,  -999.0,9,   308.1,2,    5.56,2,   11.22,2, -999.00,9,    0.73,2,   5.298,2,   2.639,2,   6.209,2,  2154.7,2,  2292.9,2,   7.7083,2,    25.00,  0.9732
06AQ19960712,ARKXII,23,1,8,165781,2,19960730,1233,81.5417,82.7033,293,   200.1, -0.5647, 34.7624,2,-999.0000,9,  -999.0,9,  -999.0,9, -999.00,9, -999.00,9, -999.00,9, -999.00,9,-999.000,9,-999.000,9,-999.000,9,  -999.0,9,  -999.0,9,-999.0000,9,  -999.00,-999.0000
06AQ19960712,ARKXII,23,1,9,165782,2,19960730,1233,81.5417,82.7033,293,   200.1, -0.4134, 34.7712,2,-999.0000,9,  -999.0,9,  -999.0,9, -999.00,9, -999.00,9, -999.00,9, -999.00,9,-999.000,9,-999.000,9,-999.000,9,  -999.0,9,  -999.0,9,-999.0000,9,  -999.00,-999.0000
06AQ19960712,ARKXII,23,1,10,165783,2,19960730,1233,81.5417,82.7033,293,   200.2, -0.4159, 34.7699,2,-999.0000,9,  -999.0,9,  -999.0,9, -999.00,9, -999.00,9, -999.00,9, -999.00,9,-999.000,9,-999.000,9,-999.000,9,  -999.0,9,  -999.0,9,-999.0000,9,  -999.00,-999.0000
06AQ19960712,ARKXII,23,1,11,165784,2,19960730,1233,81.5417,82.7033,293,   200.2, -0.4201, 34.7691,2, 34.7640,2,  -999.0,9,   317.9,2,    5.37,2,   10.05,2, -999.00,9,    0.68,2,   5.863,2,   2.932,2,   7.526,2,  2152.4,2,  2292.1,2,   7.6987,2,    25.00, -0.4227
06AQ19960712,ARKXII,23,1,7,165780,2,19960730,1233,81.5417,82.7033,293,   249.9, -1.1344, 34.7613,2, 34.7607,2,  -999.0,9,   321.4,2,    5.46,2,    9.27,2, -999.00,9,    0.65,2,   6.637,2,   2.958,2,   8.025,2,  2157.6,2,  2296.0,2,   7.6890,2,    25.00, -1.1380
06AQ19960712,ARKXII,23,1,6,165779,2,19960730,1233,81.5417,82.7033,293,   249.9, -1.1316, 34.7640,2,-999.0000,9,  -999.0,9,  -999.0,9, -999.00,9, -999.00,9, -999.00,9, -999.00,9,-999.000,9,-999.000,9,-999.000,9,  -999.0,9,  -999.0,9,-999.0000,9,  -999.00,-999.0000
06AQ19960712,ARKXII,23,1,5,165778,2,19960730,1233,81.5417,82.7033,293,   267.1, -1.1113, 34.7681,2, 34.7646,2,  -999.0,9,   321.1,2,    5.46,2,    9.27,2, -999.00,9,    0.65,2,   6.120,2,   3.071,2,   7.772,2,  2159.0,2,  2298.5,2,   7.6861,2,    25.00, -1.1156
06AQ19960712,ARKXII,23,1,4,165777,2,19960730,1233,81.5417,82.7033,293,   277.3, -1.1103, 34.7690,2, 34.7663,2,  -999.0,9,   320.7,2,    5.56,2,    9.37,2, -999.00,9,    0.64,2,-999.000,9,-999.000,9,-999.000,9,  2157.0,2,  2296.0,2,   7.6832,2,    25.00, -1.1149
06AQ19960712,ARKXII,23,1,3,165776,2,19960730,1233,81.5417,82.7033,293,   286.8, -1.1058, 34.7670,2,-999.0000,9,  -999.0,9,  -999.0,9, -999.00,9, -999.00,9, -999.00,9, -999.00,9,-999.000,9,-999.000,9,-999.000,9,  -999.0,9,  -999.0,9,-999.0000,9,  -999.00,-999.0000
06AQ19960712,ARKXII,23,1,2,165775,2,19960730,1233,81.5417,82.7033,293,   286.8, -1.1066, 34.7681,2,-999.0000,9,  -999.0,9,  -999.0,9, -999.00,9, -999.00,9, -999.00,9, -999.00,9,-999.000,9,-999.000,9,-999.000,9,  -999.0,9,  -999.0,9,-999.0000,9,  -999.00,-999.0000
06AQ19960712,ARKXII,23,1,1,165774,2,19960730,1233,81.5417,82.7033,293,   286.8, -1.1058, 34.7689,2, 34.7662,2,  -999.0,9,   320.6,2,    5.56,2,    9.46,2, -999.00,9,    0.67,2,   6.160,2,   3.096,2,   8.069,2,  2157.8,2,  2263.0,4,   7.6852,2,    25.00, -1.1102
06AQ19960712,ARKXII,24,1,29,165838,2,19960730,1725,81.7000,82.1533,334,     1.1, -1.7957, 33.9318,2,-999.0000,9,  -999.0,9,  -999.0,9, -999.00,9, -999.00,9, -999.00,9, -999.00,9,-999.000,9,-999.000,9,-999.000,9,  -999.0,9,  -999.0,9,-999.0000,9,  -999.00,-999.0000
06AQ19960712,ARKXII,24,1,28,165837,2,19960730,1725,81.7000,82.1533,334,     9.9, -1.7942, 33.9305,2,-999.0000,9,  -999.0,9,  -999.0,9, -999.00,9, -999.00,9, -999.00,9, -999.00,9,-999.000,9,-999.000,9,-999.000,9,  -999.0,9,  -999.0,9,-999.0000,9,  -999.00,-999.0000
06AQ19960712,ARKXII,24,1,27,165836,2,19960730,1725,81.7000,82.1533,334,     9.9, -1.7908, 33.9231,2, 33.9342,2,  -999.0,9,   351.1,2,    3.32,2,    5.17,2, -999.00,9,    0.35,2,   6.662,2,   3.194,2,   8.234,2,  -999.0,9,  -999.0,9,-999.0000,9,  -999.00, -1.7872
06AQ19960712,ARKXII,24,1,25,165834,2,19960730,1725,81.7000,82.1533,334,    19.8, -1.8027, 33.9876,2, 33.9963,2,  -999.0,9,   344.6,2,    3.51,2,    5.66,2, -999.00,9,    0.38,2,-999.000,9,-999.000,9,-999.000,9,  -999.0,9,  -999.0,9,-999.0000,9,  -999.00, -1.7994
06AQ19960712,ARKXII,24,1,26,165835,2,19960730,1725,81.7000,82.1533,334,    19.8, -1.8025, 33.9856,2,-999.0000,9,  -999.0,9,  -999.0,9, -999.00,9, -999.00,9, -999.00,9, -999.00,9,-999.000,9,-999.000,9,-999.000,9,  -999.0,9,  -999.0,9,-999.0000,9,  -999.00,-999.0000
06AQ19960712,ARKXII,24,1,23,165832,2,19960730,1725,81.7000,82.1533,334,    29.9, -1.7822, 34.0801,2, 34.0896,2,  -999.0,9,   340.5,2,    3.61,2,    6.15,2, -999.00,9,    0.43,2,   7.082,2,   3.217,2,   8.061,2,  -999.0,9,  -999.0,9,-999.0000,9,  -999.00, -1.7796
06AQ19960712,ARKXII,24,1,24,165833,2,19960730,1725,81.7000,82.1533,334,    29.9, -1.7830, 34.0716,2,-999.0000,9,  -999.0,9,  -999.0,9, -999.00,9, -999.00,9, -999.00,9, -999.00,9,-999.000,9,-999.000,9,-999.000,9,  -999.0,9,  -999.0,9,-999.0000,9,  -999.00,-999.0000
06AQ19960712,ARKXII,24,1,21,165830,2,19960730,1725,81.7000,82.1533,334,    39.6, -1.7739, 34.1500,2, 34.1502,2,  -999.0,9,   337.7,2,    3.71,2,    6.44,2, -999.00,9,    0.44,2,-999.000,9,-999.000,9,-999.000,9,  -999.0,9,  -999.0,9,-999.0000,9,  -999.00, -1.7718
06AQ19960712,ARKXII,24,1,22,165831,2,19960730,1725,81.7000,82.1533,334,    39.6, -1.7740, 34.1437,2,-999.0000,9,  -999.0,9,  -999.0,9, -999.00,9, -999.00,9, -999.00,9, -999.00,9,-999.000,9,-999.000,9,-999.000,9,  -999.0,9,  -999.0,9,-999.0000,9,  -999.00,-999.0000
06AQ19960712,ARKXII,24,1,19,165828,2,19960730,1725,81.7000,82.1533,334,    50.1, -1.7318, 34.2220,2, 34.2220,2,  -999.0,9,   334.2,2,    3.80,2,    6.83,2, -999.00,9,    0.46,2,-999.000,9,-999.000,9,-999.000,9,  -999.0,9,  -999.0,9,-999.0000,9,  -999.00, -1.7290
06AQ19960712,ARKXII,24,1,20,165829,2,19960730,1725,81.7000,82.1533,334,    50.1, -1.7413, 34.2078,2,-999.0000,9,  -999.0,9,  -999.0,9, -999.00,9, -999.00,9, -999.00,9, -999.00,9,-999.000,9,-999.000,9,-999.000,9,  -999.0,9,  -999.0,9,-999.0000,9,  -999.00,-999.0000
06AQ19960712,ARKXII,24,1,18,165827,2,19960730,1725,81.7000,82.1533,334,    59.9, -1.5605, 34.3788,2, 34.3432,2,  -999.0,9,   330.1,2,    4.00,2,    7.51,2, -999.00,9,    0.50,2,   6.597,2,   3.228,2,   7.781,2,  -999.0,9,  -999.0,9,-999.0000,9,  -999.00, -1.5583
06AQ19960712,ARKXII,24,1,16,165825,2,19960730,1725,81.7000,82.1533,334,    80.0, -1.1740, 34.5600,2, 34.5574,2,  -999.0,9,   323.5,2,    4.29,2,    8.68,2, -999.00,9,    0.55,2,   6.233,2,   2.986,2,   7.822,2,  -999.0,9,  -999.0,9,-999.0000,9,  -999.00, -1.1731
06AQ19960712,ARKXII,24,1,17,165826,2,19960730,1725,81.7000,82.1533,334,    80.0, -1.2199, 34.5502,2,-999.0000,9,  -999.0,9,  -999.0,9, -999.00,9, -999.00,9, -999.00,9, -999.00,9,-999.000,9,-999.000,9,-999.000,9,  -999.0,9,  -999.0,9,-999.0000,9,  -999.00,-999.0000
06AQ19960712,ARKXII,24,1,14,165823,2,19960730,1725,81.7000,82.1533,334,    99.8, -0.8446, 34.6309,2, 34.6319,2,  -999.0,9,   321.3,2,    4.49,2,    9.27,2, -999.00,9,    0.57,2,   6.195,2,   3.031,2,   7.602,2,  -999.0,9,  -999.0,9,-999.0000,9,  -999.00, -0.8439
06AQ19960712,ARKXII,24,1,15,165824,2,19960730,1725,81.7000,82.1533,334,    99.8, -0.8994, 34.6266,2,-999.0000,9,  -999.0,9,  -999.0,9, -999.00,9, -999.00,9, -999.00,9, -999.00,9,-999.000,9,-999.000,9,-999.000,9,  -999.0,9,  -999.0,9,-999.0000,9,  -999.00,-999.0000
06AQ19960712,ARKXII,24,1,13,165822,2,19960730,1725,81.7000,82.1533,334,   125.0, -0.0337, 34.7215,2, 34.7172,2,  -999.0,9,   315.0,2,    4.78,2,    9.95,2, -999.00,9,    0.63,2,   6.020,2,   2.855,2,   7.122,2,  -999.0,9,  -999.0,9,-999.0000,9,  -999.00, -0.0345
06AQ19960712,ARKXII,24,1,11,165820,2,19960730,1725,81.7000,82.1533,334,   149.9, -0.7502, 34.7035,2, 34.7126,2,  -999.0,9,   320.2,2,    4.98,2,    9.37,2, -999.00,9,    0.60,2,   5.880,2,   2.860,2,   7.663,2,  -999.0,9,  -999.0,9,-999.0000,9,  -999.00, -0.7515
06AQ19960712,ARKXII,24,1,12,165821,2,19960730,1725,81.7000,82.1533,334,   150.0, -0.7802, 34.7060,2,-999.0000,9,  -999.0,9,  -999.0,9, -999.00,9, -999.00,9, -999.00,9, -999.00,9,-999.000,9,-999.000,9,-999.000,9,  -999.0,9,  -999.0,9,-999.0000,9,  -999.00,-999.0000
06AQ19960712,ARKXII,24,1,10,165819,2,19960730,1725,81.7000,82.1533,334,   199.6, -0.2111, 34.7847,2,-999.0000,9,  -999.0,9,  -999.0,9, -999.00,9, -999.00,9, -999.00,9, -999.00,9,-999.000,9,-999.000,9,-999.000,9,  -999.0,9,  -999.0,9,-999.0000,9,  -999.00,-999.0000
06AQ19960712,ARKXII,24,1,9,165818,2,19960730,1725,81.7000,82.1533,334,   199.6, -0.2227, 34.7874,2, 34.7868,2,  -999.0,9,   315.8,2,    5.17,2,   10.34,2, -999.00,9,    0.65,2,   5.735,2,   2.858,2,   7.306,2,  -999.0,9,  -999.0,9,-999.0000,9,  -999.00, -0.2261
06AQ19960712,ARKXII,24,1,8,165817,2,19960730,1725,81.7000,82.1533,334,   250.3, -1.1039, 34.7714,2,-999.0000,9,  -999.0,9,  -999.0,9, -999.00,9, -999.00,9, -999.00,9, -999.00,9,-999.000,9,-999.000,9,-999.000,9,  -999.0,9,  -999.0,9,-999.0000,9,  -999.00,-999.0000
06AQ19960712,ARKXII,24,1,7,165816,2,19960730,1725,81.7000,82.1533,334,   250.3, -1.0969, 34.7721,2, 34.7732,2,  -999.0,9,   320.0,2,    5.46,2,    9.37,2, -999.00,9,    0.61,2,   6.443,2,   3.219,2,   8.107,2,  -999.0,9,  -999.0,9,-999.0000,9,  -999.00, -1.1001
06AQ19960712,ARKXII,24,1,6,165815,2,19960730,1725,81.7000,82.1533,334,   302.3, -0.9614, 34.7820,2,-999.0000,9,  -999.0,9,  -999.0,9, -999.00,9, -999.00,9, -999.00,9, -999.00,9,-999.000,9,-999.000,9,-999.000,9,  -999.0,9,  -999.0,9,-999.0000,9,  -999.00,-999.0000
06AQ19960712,ARKXII,24,1,5,165814,2,19960730,1725,81.7000,82.1533,334,   302.3, -0.9617, 34.7822,2, 34.7820,2,  -999.0,9,   319.0,2,    5.46,2,    9.56,2, -999.00,9,    0.63,2,   6.471,2,   3.044,2,   7.948,2,  -999.0,9,  -999.0,9,-999.0000,9,  -999.00, -0.9671
06AQ19960712,ARKXII,24,1,4,165813,2,19960730,1725,81.7000,82.1533,334,   302.3, -0.9588, 34.7827,2, 34.7815,2,  -999.0,9,   319.0,2,    5.46,2,    9.46,2, -999.00,9,    0.63,2,-999.000,9,-999.000,9,-999.000,9,  -999.0,9,  -999.0,9,-999.0000,9,  -999.00, -0.9641
06AQ19960712,ARKXII,24,1,3,165812,2,19960730,1725,81.7000,82.1533,334,   312.9, -0.9212, 34.7874,2, 34.7878,2,  -999.0,9,   318.7,2,    5.56,2,    9.46,2, -999.00,9,    0.63,2,   6.042,2,   2.937,2,   7.893,2,  -999.0,9,  -999.0,9,-999.0000,9,  -999.00, -0.9275
06AQ19960712,ARKXII,24,1,1,165810,2,19960730,1725,81.7000,82.1533,334,   322.8, -0.9324, 34.7843,2,-999.0000,9,  -999.0,9,  -999.0,9, -999.00,9, -999.00,9, -999.00,9, -999.00,9,-999.000,9,-999.000,9,-999.000,9,  -999.0,9,  -999.0,9,-999.0000,9,  -999.00,-999.0000
06AQ19960712,ARKXII,24,1,2,165811,2,19960730,1725,81.7000,82.1533,334,   322.9, -0.9248, 34.7863,2, 34.7836,2,  -999.0,9,   318.6,2,    5.56,2,    9.37,2, -999.00,9,    0.61,2,   6.245,2,   3.099,2,   7.916,2,  -999.0,9,  -999.0,9,-999.0000,9,  -999.00, -0.9309