BOTTLE,20100322CCHDOSIODM
EXPOCODE,SECT_ID,STNNBR,CASTNO,SAMPNO,BTLNBR,BTLNBR_FLAG_W,DATE,TIME,LATITUDE,LONGITUDE,DEPTH,CTDPRS,CTDTMP,CTDSAL,CTDSAL_FLAG_W,SALNTY,SALNTY_FLAG_W,CTDOXY,CTDOXY_FLAG_W,OXYGEN,OXYGEN_FLAG_W,SILCAT,SILCAT_FLAG_W,NITRAT,NITRAT_FLAG_W,NITRIT,NITRIT_FLAG_W,PHSPHT,PHSPHT_FLAG_W,CFC-11,CFC-11_FLAG_W,CFC-12,CFC-12_FLAG_W,CCL4,CCL4_FLAG_W,TCARBN,TCARBN_FLAG_W,ALKALI,ALKALI_FLAG_W,PH_SWS,PH_SWS_FLAG_W,PH_TMP,THETA
,,,,,,,,,,,METERS,DBAR,ITS-90,PSS-78,,PSS-78,,UMOL/KG,,UMOL/KG,,UMOL/KG,,UMOL/KG,,UMOL/KG,,UMOL/KG,,PMOL/KG,,PMOL/KG,,PMOL/KG,,UMOL/KG,,UMOL/KG,,,,DEG C,DEG C
06AQ19960712,ARKXII,48,2,33,166662,2,19960807,0305,84.7783,105.7817,3863,    28.9, -1.7782, 34.2071,2,-999.0000,9,  -999.0,9,  -999.0,9, -999.00,9, -999.00,9, -999.00,9, -999.00,9,-999.000,9,-999.000,9,-999.000,9,  -999.0,9,  -999.0,9,-999.0000,9,  -999.00,-999.0000
06AQ19960712,ARKXII,48,2,32,166661,2,19960807,0305,84.7783,105.7817,3863,    28.9, -1.7778, 34.2068,2, 34.2097,2,  -999.0,9,   364.7,2,    2.63,2,    5.95,2, -999.00,9,    0.53,2,-999.000,9,-999.000,9,-999.000,9,  -999.0,9,  -999.0,9,-999.0000,9,  -999.00, -1.7756
06AQ19960712,ARKXII,48,2,31,166660,2,19960807,0305,84.7783,105.7817,3863,   236.7,  1.6218, 34.8830,2, 34.8835,2,  -999.0,9,   301.6,2,    5.46,2,   12.20,2, -999.00,9,    0.86,2,   4.122,2,   1.955,2,   4.695,2,  2142.2,2,  -999.0,9,   7.7150,2,    25.00,  1.6148
06AQ19960712,ARKXII,48,2,30,166659,2,19960807,0305,84.7783,105.7817,3863,   399.2,  1.0763, 34.8913,2, 34.8927,2,  -999.0,9,   301.6,2,    5.85,2,   12.29,2, -999.00,9,    0.91,2,-999.000,9,-999.000,9,-999.000,9,  -999.0,9,  -999.0,9,-999.0000,9,  -999.00,  1.0538
06AQ19960712,ARKXII,48,2,29,166658,2,19960807,0305,84.7783,105.7817,3863,   499.1,  0.7970, 34.8984,2,-999.0000,9,  -999.0,9,  -999.0,9, -999.00,9, -999.00,9, -999.00,9, -999.00,9,-999.000,9,-999.000,9,-999.000,9,  -999.0,9,  -999.0,9,-999.0000,9,  -999.00,-999.0000
06AQ19960712,ARKXII,48,2,28,166657,2,19960807,0305,84.7783,105.7817,3863,   499.1,  0.7828, 34.8980,2, 34.8984,2,  -999.0,9,   302.6,2,    6.15,2,   12.29,2, -999.00,9,    0.88,2,-999.000,9,-999.000,9,-999.000,9,  -999.0,9,  -999.0,9,-999.0000,9,  -999.00,  0.7508
06AQ19960712,ARKXII,48,2,27,166656,2,19960807,0305,84.7783,105.7817,3863,   600.0,  0.4303, 34.8930,2, 34.8942,2,  -999.0,9,   304.5,2,    6.24,2,   12.20,2, -999.00,9,    0.88,2,-999.000,9,-999.000,9,-999.000,9,  -999.0,9,  -999.0,9,-999.0000,9,  -999.00,  0.4082
06AQ19960712,ARKXII,48,2,26,166655,2,19960807,0305,84.7783,105.7817,3863,   699.4,  0.1074, 34.8861,2, 34.8867,2,  -999.0,9,   305.7,2,    6.44,2,   12.10,2, -999.00,9,    0.88,2,-999.000,9,-999.000,9,-999.000,9,  -999.0,9,  -999.0,9,-999.0000,9,  -999.00,  0.0770
06AQ19960712,ARKXII,48,2,25,166654,2,19960807,0305,84.7783,105.7817,3863,   750.1, -0.0009, 34.8869,2,-999.0000,9,  -999.0,9,  -999.0,9, -999.00,9, -999.00,9, -999.00,9, -999.00,9,-999.000,9,-999.000,9,-999.000,9,  -999.0,9,  -999.0,9,-999.0000,9,  -999.00,-999.0000
06AQ19960712,ARKXII,48,2,24,166653,2,19960807,0305,84.7783,105.7817,3863,   800.3, -0.0870, 34.8869,2, 34.8861,2,  -999.0,9,   306.1,2,    6.63,2,   12.20,2, -999.00,9,    0.90,2,-999.000,9,-999.000,9,-999.000,9,  -999.0,9,  -999.0,9,-999.0000,9,  -999.00, -0.1188
06AQ19960712,ARKXII,48,2,23,166652,2,19960807,0305,84.7783,105.7817,3863,   999.5, -0.2735, 34.8999,2,-999.0000,9,  -999.0,9,  -999.0,9, -999.00,9, -999.00,9, -999.00,9, -999.00,9,-999.000,9,-999.000,9,-999.000,9,  -999.0,9,  -999.0,9,-999.0000,9,  -999.00,-999.0000
06AQ19960712,ARKXII,48,2,22,166651,2,19960807,0305,84.7783,105.7817,3863,   999.8, -0.2833, 34.9005,2, 34.8999,2,  -999.0,9,   304.1,2,    7.41,2,   12.49,2, -999.00,9,    0.91,2,-999.000,9,-999.000,9,-999.000,9,  2157.0,2,  -999.0,9,   7.6793,2,    25.00, -0.3204
06AQ19960712,ARKXII,48,2,21,166650,2,19960807,0305,84.7783,105.7817,3863,  1199.4, -0.4195, 34.9105,2, 34.9109,2,  -999.0,9,   303.1,2,    8.10,2,   13.07,2, -999.00,9,    0.95,2,   1.620,2,   0.775,2,   2.805,2,  -999.0,9,  -999.0,9,-999.0000,9,  -999.00, -0.4676
06AQ19960712,ARKXII,48,2,20,166649,2,19960807,0305,84.7783,105.7817,3863,  1399.8, -0.5438, 34.9166,2, 34.9175,2,  -999.0,9,   301.8,2,    9.07,2,   13.46,2, -999.00,9,    0.98,2,-999.000,9,-999.000,9,-999.000,9,  -999.0,9,  -999.0,9,-999.0000,9,  -999.00, -0.6023
06AQ19960712,ARKXII,48,2,19,166648,2,19960807,0305,84.7783,105.7817,3863,  1499.5, -0.5874, 34.9187,2,-999.0000,9,  -999.0,9,  -999.0,9, -999.00,9, -999.00,9, -999.00,9, -999.00,9,-999.000,9,-999.000,9,-999.000,9,  -999.0,9,  -999.0,9,-999.0000,9,  -999.00,-999.0000
06AQ19960712,ARKXII,48,2,18,166647,2,19960807,0305,84.7783,105.7817,3863,  1600.3, -0.6253, 34.9209,2, 34.9208,2,  -999.0,9,   301.0,2,    9.85,2,   13.76,2, -999.00,9,    1.00,2,-999.000,9,-999.000,9,-999.000,9,  -999.0,9,  -999.0,9,-999.0000,9,  -999.00, -0.6939
06AQ19960712,ARKXII,48,2,17,166646,2,19960807,0305,84.7783,105.7817,3863,  1799.8, -0.6916, 34.9224,2, 34.9216,2,  -999.0,9,   300.4,2,   10.24,2,   13.95,2, -999.00,9,    1.00,2,-999.000,9,-999.000,9,-999.000,9,  2153.1,2,  -999.0,9,   7.6928,2,    25.00, -0.7721
06AQ19960712,ARKXII,48,2,15,166644,2,19960807,0305,84.7783,105.7817,3863,  2000.6, -0.7436, 34.9227,2, 34.9222,2,  -999.0,9,   300.9,2,   10.44,2,   14.15,2, -999.00,9,    1.00,2,   0.387,2,   0.170,2,   1.166,2,  -999.0,9,  -999.0,9,-999.0000,9,  -999.00, -0.8350
06AQ19960712,ARKXII,48,2,16,166645,2,19960807,0305,84.7783,105.7817,3863,  2000.7, -0.7430, 34.9219,2,-999.0000,9,  -999.0,9,  -999.0,9, -999.00,9, -999.00,9, -999.00,9, -999.00,9,-999.000,9,-999.000,9,-999.000,9,  -999.0,9,  -999.0,9,-999.0000,9,  -999.00,-999.0000
06AQ19960712,ARKXII,48,2,14,166643,2,19960807,0305,84.7783,105.7817,3863,  2199.7, -0.7737, 34.9243,2, 34.9243,2,  -999.0,9,   300.9,2,   10.63,2,   14.15,2, -999.00,9,    1.01,2,   0.381,2,   0.141,2,   0.845,2,  -999.0,9,  -999.0,9,-999.0000,9,  -999.00, -0.8778
06AQ19960712,ARKXII,48,2,13,166642,2,19960807,0305,84.7783,105.7817,3863,  2399.4, -0.7904, 34.9272,2, 34.9269,2,  -999.0,9,   300.8,2,   10.63,2,   14.15,2, -999.00,9,    1.01,2,-999.000,9,-999.000,9,-999.000,9,  -999.0,9,  -999.0,9,-999.0000,9,  -999.00, -0.9083
06AQ19960712,ARKXII,48,2,12,166641,2,19960807,0305,84.7783,105.7817,3863,  2500.2, -0.7934, 34.9285,2,-999.0000,9,  -999.0,9,  -999.0,9, -999.00,9, -999.00,9, -999.00,9, -999.00,9,-999.000,9,-999.000,9,-999.000,9,  -999.0,9,  -999.0,9,-999.0000,9,  -999.00,-999.0000
06AQ19960712,ARKXII,48,2,11,166640,2,19960807,0305,84.7783,105.7817,3863,  2600.5, -0.7950, 34.9293,2, 34.9300,2,  -999.0,9,   300.7,2,   10.93,2,   14.05,2, -999.00,9,    1.00,2,-999.000,9,   0.108,2,   0.714,2,  2152.5,2,  -999.0,9,   7.7005,2,    25.00, -0.9278
06AQ19960712,ARKXII,48,2,10,166639,2,19960807,0305,84.7783,105.7817,3863,  2799.7, -0.7934, 34.9331,2, 34.9329,2,  -999.0,9,   300.2,2,   10.93,2,   14.05,2, -999.00,9,    1.00,2,-999.000,9,-999.000,9,-999.000,9,  -999.0,9,  -999.0,9,-999.0000,9,  -999.00, -0.9411
06AQ19960712,ARKXII,48,2,9,166638,2,19960807,0305,84.7783,105.7817,3863,  3000.0, -0.7845, 34.9347,2,-999.0000,9,  -999.0,9,  -999.0,9, -999.00,9, -999.00,9, -999.00,9, -999.00,9,-999.000,9,-999.000,9,-999.000,9,  -999.0,9,  -999.0,9,-999.0000,9,  -999.00,-999.0000
06AQ19960712,ARKXII,48,2,8,166637,2,19960807,0305,84.7783,105.7817,3863,  3000.0, -0.7849, 34.9351,2, 34.9359,2,  -999.0,9,   299.9,2,   11.02,2,   13.95,2, -999.00,9,    1.01,2,   0.177,2,   0.070,2,   0.544,2,  -999.0,9,  -999.0,9,-999.0000,9,  -999.00, -0.9491
06AQ19960712,ARKXII,48,2,7,166636,2,19960807,0305,84.7783,105.7817,3863,  3200.3, -0.7677, 34.9384,2, 34.9378,2,  -999.0,9,   298.9,2,   11.12,2,   13.95,2, -999.00,9,    1.01,2,-999.000,9,   0.098,2,   0.341,2,  -999.0,9,  -999.0,9,-999.0000,9,  -999.00, -0.9480
06AQ19960712,ARKXII,48,2,6,166635,2,19960807,0305,84.7783,105.7817,3863,  3399.8, -0.7454, 34.9396,2, 34.9390,2,  -999.0,9,   298.2,2,   11.32,2,   13.85,2, -999.00,9,    1.01,2,   0.232,2,   0.085,2,   0.351,2,  2155.5,2,  -999.0,9,   7.7024,2,    25.00, -0.9436
06AQ19960712,ARKXII,48,2,5,166634,2,19960807,0305,84.7783,105.7817,3863,  3599.5, -0.7279, 34.9407,2, 34.9409,2,  -999.0,9,   298.4,2,   11.22,2,   13.85,2, -999.00,9,    1.01,2,-999.000,9,   0.091,2,   0.479,2,  -999.0,9,  -999.0,9,-999.0000,9,  -999.00, -0.9438
06AQ19960712,ARKXII,48,2,4,166633,2,19960807,0305,84.7783,105.7817,3863,  3791.4, -0.7119, 34.9413,2, 34.9423,2,  -999.0,9,   298.4,2,   11.32,2,   13.56,2, -999.00,9,    1.00,2,-999.000,9,-999.000,9,-999.000,9,  2150.6,2,  -999.0,9,   7.7015,2,    25.00, -0.9457
06AQ19960712,ARKXII,48,2,3,166632,2,19960807,0305,84.7783,105.7817,3863,  3842.4, -0.7073, 34.9415,2, 34.9415,2,  -999.0,9,   298.6,2,   11.02,2,   13.85,2, -999.00,9,    1.01,2,   0.221,2,   0.088,2,   0.422,2,  2157.2,2,  -999.0,9,   7.6995,2,    25.00, -0.9467
06AQ19960712,ARKXII,48,2,1,166630,2,19960807,0305,84.7783,105.7817,3863,  3893.2, -0.7005, 34.9400,2, 34.9411,2,  -999.0,9,   298.9,2,   11.22,2,   13.85,2, -999.00,9,    1.00,2,   0.200,2,   0.075,2,   0.392,2,  2151.9,2,  -999.0,9,   7.6995,2,    25.00, -0.9446
06AQ19960712,ARKXII,48,2,2,166631,2,19960807,0305,84.7783,105.7817,3863,  3893.2, -0.7001, 34.9392,2,-999.0000,9,  -999.0,9,  -999.0,9, -999.00,9, -999.00,9, -999.00,9, -999.00,9,-999.000,9,-999.000,9,-999.000,9,  -999.0,9,  -999.0,9,-999.0000,9,  -999.00,-999.0000
06AQ19960712,ARKXII,49,1,34,166696,2,19960807,1320,85.0000,107.6283,3896,    10.1, -1.6939, 34.1255,2, 34.1234,2,  -999.0,9,   365.6,2,    2.73,2,    5.17,2, -999.00,9,    0.48,2,   6.307,2,   2.977,2,   6.382,2,  2105.9,2,  -999.0,9,   7.7539,2,    25.00, -1.6912
06AQ19960712,ARKXII,49,1,33,166695,2,19960807,1320,85.0000,107.6283,3896,    20.4, -1.7142, 34.1514,2, 34.1502,2,  -999.0,9,   365.1,2,    2.63,2,    5.27,2, -999.00,9,    0.48,2,   6.286,2,   3.090,2,   6.131,2,  -999.0,9,  -999.0,9,-999.0000,9,  -999.00, -1.7104
06AQ19960712,ARKXII,49,1,32,166694,2,19960807,1320,85.0000,107.6283,3896,    30.4, -1.7402, 34.1842,2, 34.1921,2,  -999.0,9,   363.9,2,    2.63,2,    5.46,2, -999.00,9,    0.49,2,-999.000,9,-999.000,9,-999.000,9,  2115.5,2,  -999.0,9,   7.7510,2,    25.00, -1.7386
06AQ19960712,ARKXII,49,1,31,166693,2,19960807,1320,85.0000,107.6283,3896,    40.2, -1.7839, 34.2250,2, 34.2381,2,  -999.0,9,   363.1,2,    2.73,2,    5.46,2, -999.00,9,    0.50,2,   6.060,2,   2.924,2,   5.786,2,  -999.0,9,  -999.0,9,-999.0000,9,  -999.00, -1.7818
06AQ19960712,ARKXII,49,1,30,166692,2,19960807,1320,85.0000,107.6283,3896,    59.5, -1.8164, 34.2615,2, 34.2726,2,  -999.0,9,   360.0,2,    2.83,2,    5.85,2, -999.00,9,    0.51,2,   6.119,2,   2.878,2,   5.583,2,  2118.2,2,  -999.0,9,   7.7432,2,    25.00, -1.8142
06AQ19960712,ARKXII,49,1,29,166691,2,19960807,1320,85.0000,107.6283,3896,    79.9, -1.8210, 34.2809,2, 34.2810,2,  -999.0,9,   359.2,2,    2.73,2,    6.05,2, -999.00,9,    0.53,2,   6.313,2,   2.783,2,   5.708,2,  2118.4,2,  -999.0,9,   7.7451,2,    25.00, -1.8216
06AQ19960712,ARKXII,49,1,28,166690,2,19960807,1320,85.0000,107.6283,3896,   100.2, -1.8479, 34.2877,2, 34.2897,2,  -999.0,9,   358.8,2,    2.83,2,    6.15,2, -999.00,9,    0.53,2,-999.000,9,-999.000,9,-999.000,9,  2115.5,2,  -999.0,9,   7.7413,2,    25.00, -1.8470
06AQ19960712,ARKXII,49,1,27,166689,2,19960807,1320,85.0000,107.6283,3896,   149.6, -0.3213, 34.4739,2, 34.4421,2,  -999.0,9,   309.9,2,    4.78,2,    9.46,2, -999.00,9,    0.74,2,   4.486,2,   2.002,2,   4.008,2,  2135.8,2,  -999.0,9,   7.6901,2,    25.00, -0.3090
06AQ19960712,ARKXII,49,1,26,166688,2,19960807,1320,85.0000,107.6283,3896,   200.6,  1.3562, 34.7997,2, 34.8005,2,  -999.0,9,   298.8,2,    5.46,2,   11.12,2, -999.00,9,    0.81,2,   4.169,2,   1.884,2,   4.645,2,  -999.0,9,  -999.0,9,-999.0000,9,  -999.00,  1.3472
06AQ19960712,ARKXII,49,1,25,166687,2,19960807,1320,85.0000,107.6283,3896,   244.2,  1.4877, 34.8751,2, 34.8749,2,  -999.0,9,   301.0,2,    5.66,2,   11.41,2, -999.00,9,    0.83,2,   4.123,2,   1.959,2,   4.733,2,  2142.3,2,  -999.0,9,   7.7082,2,    25.00,  1.4797
06AQ19960712,ARKXII,49,1,24,166686,2,19960807,1320,85.0000,107.6283,3896,   249.5,  1.4646, 34.8746,2, 34.8726,2,  -999.0,9,   300.3,2,    5.66,2,   11.41,2, -999.00,9,    0.83,2,   4.017,2,   1.821,2,   4.701,2,  2143.7,2,  -999.0,9,   7.7111,2,    25.00,  1.4595
06AQ19960712,ARKXII,49,1,23,166685,2,19960807,1320,85.0000,107.6283,3896,   300.2,  1.3015, 34.8823,2, 34.8842,2,  -999.0,9,   301.7,2,    5.66,2,   11.80,2, -999.00,9,    0.83,2,   4.559,2,   1.874,2,   4.970,2,  -999.0,9,  -999.0,9,-999.0000,9,  -999.00,  1.2902
06AQ19960712,ARKXII,49,1,22,166684,2,19960807,1320,85.0000,107.6283,3896,   400.2,  1.0853, 34.8920,2, 34.8912,2,  -999.0,9,   301.5,2,    5.85,2,   11.90,2, -999.00,9,    0.84,2,-999.000,9,-999.000,9,-999.000,9,  2144.4,2,  -999.0,9,   7.7102,2,    25.00,  1.0706
06AQ19960712,ARKXII,49,1,21,166683,2,19960807,1320,85.0000,107.6283,3896,   499.0,  0.8073, 34.8991,2, 34.8985,2,  -999.0,9,   301.7,2,    6.15,2,   11.90,2, -999.00,9,    0.86,2,   2.967,2,   1.377,2,   4.451,2,  -999.0,9,  -999.0,9,-999.0000,9,  -999.00,  0.7915
06AQ19960712,ARKXII,49,1,20,166682,2,19960807,1320,85.0000,107.6283,3896,   599.6,  0.4374, 34.8929,2, 34.8909,2,  -999.0,9,   303.8,2,    6.34,2,   11.90,2, -999.00,9,    0.86,2,-999.000,9,-999.000,9,-999.000,9,  2150.1,2,  -999.0,9,   7.6928,2,    25.00,  0.4162
06AQ19960712,ARKXII,49,1,19,166681,2,19960807,1320,85.0000,107.6283,3896,   699.9,  0.1421, 34.8865,2, 34.8859,2,  -999.0,9,   303.9,2,    6.34,2,   11.80,2, -999.00,9,    0.86,2,   3.542,2,   1.522,2,   4.424,2,  -999.0,9,  -999.0,9,-999.0000,9,  -999.00,  0.1167
06AQ19960712,ARKXII,49,1,18,166680,2,19960807,1320,85.0000,107.6283,3896,   799.6, -0.0739, 34.8870,2, 34.8867,2,  -999.0,9,   304.6,2,    6.63,2,   11.90,2, -999.00,9,    0.87,2,-999.000,9,-999.000,9,-999.000,9,  -999.0,9,  -999.0,9,-999.0000,9,  -999.00, -0.0998
06AQ19960712,ARKXII,49,1,17,166679,2,19960807,1320,85.0000,107.6283,3896,  1000.6, -0.2771, 34.8988,2, 34.8974,2,  -999.0,9,   303.5,2,    7.41,2,   12.10,2, -999.00,9,    0.89,2,   2.420,2,   1.026,2,   3.994,2,  -999.0,9,  -999.0,9,   7.6841,2,    25.00, -0.3154
06AQ19960712,ARKXII,49,1,16,166678,2,19960807,1320,85.0000,107.6283,3896,  1199.6, -0.4178, 34.9095,2, 34.9099,2,  -999.0,9,   303.1,2,    8.20,2,   12.39,2, -999.00,9,    0.92,2,-999.000,9,-999.000,9,-999.000,9,  -999.0,9,  -999.0,9,-999.0000,9,  -999.00, -0.4657
06AQ19960712,ARKXII,49,1,15,166677,2,19960807,1320,85.0000,107.6283,3896,  1399.9, -0.5375, 34.9151,2, 34.9135,2,  -999.0,9,   302.2,2,    8.98,2,   12.49,2, -999.00,9,    0.92,2,   1.136,2,   0.518,2,   2.438,2,  -999.0,9,  -999.0,9,-999.0000,9,  -999.00, -0.5944
06AQ19960712,ARKXII,49,1,14,166676,2,19960807,1320,85.0000,107.6283,3896,  1600.1, -0.6147, 34.9187,2, 34.9200,2,  -999.0,9,   300.9,2,    9.66,2,   12.88,2, -999.00,9,    0.96,2,-999.000,9,-999.000,9,-999.000,9,  -999.0,9,  -999.0,9,-999.0000,9,  -999.00, -0.6820
06AQ19960712,ARKXII,49,1,13,166675,2,19960807,1320,85.0000,107.6283,3896,  1800.5, -0.6832, 34.9205,2, 34.9204,2,  -999.0,9,   300.6,2,   10.15,2,   13.07,2, -999.00,9,    0.98,2,   0.400,2,   0.247,2,   1.210,2,  2153.4,2,  -999.0,9,   7.6947,2,    25.00, -0.7623
06AQ19960712,ARKXII,49,1,12,166674,2,19960807,1320,85.0000,107.6283,3896,  2000.3, -0.7402, 34.9214,2, 34.9213,2,  -999.0,9,   300.7,2,   10.15,2,   13.37,2, -999.00,9,    0.98,2,-999.000,9,-999.000,9,-999.000,9,  -999.0,9,  -999.0,9,-999.0000,9,  -999.00, -0.8310
06AQ19960712,ARKXII,49,1,11,166673,2,19960807,1320,85.0000,107.6283,3896,  2199.2, -0.7702, 34.9235,2, 34.9245,2,  -999.0,9,   300.9,2,   10.44,2,   13.56,2, -999.00,9,    0.98,2,   0.344,2,   0.142,2,   0.980,2,  -999.0,9,  -999.0,9,-999.0000,9,  -999.00, -0.8738
06AQ19960712,ARKXII,49,1,10,166672,2,19960807,1320,85.0000,107.6283,3896,  2399.7, -0.7878, 34.9256,2, 34.9259,2,  -999.0,9,   301.0,2,   10.44,2,   13.46,2, -999.00,9,    0.99,2,-999.000,9,-999.000,9,-999.000,9,  -999.0,9,  -999.0,9,-999.0000,9,  -999.00, -0.9054
06AQ19960712,ARKXII,49,1,9,166671,2,19960807,1320,85.0000,107.6283,3896,  2600.4, -0.7946, 34.9283,2, 34.9282,2,  -999.0,9,   300.1,2, -999.00,9, -999.00,9, -999.00,9, -999.00,9,   0.329,2,   0.074,2,   0.622,2,  2151.6,2,  -999.0,9,   7.7034,2,    25.00, -0.9269
06AQ19960712,ARKXII,49,1,8,166670,2,19960807,1320,85.0000,107.6283,3896,  2800.3, -0.7923, 34.9312,2, 34.9304,2,  -999.0,9,   300.7,2,   10.93,2,   13.46,2, -999.00,9,    0.98,2,-999.000,9,-999.000,9,-999.000,9,  -999.0,9,  -999.0,9,-999.0000,9,  -999.00, -0.9402
06AQ19960712,ARKXII,49,1,7,166669,2,19960807,1320,85.0000,107.6283,3896,  3000.4, -0.7848, 34.9335,2, 34.9333,2,  -999.0,9,   299.8,2,   10.93,2,   13.46,2, -999.00,9,    0.99,2,   0.203,2,   0.096,2,   0.426,2,  -999.0,9,  -999.0,9,-999.0000,9,  -999.00, -0.9482
06AQ19960712,ARKXII,49,1,6,166668,2,19960807,1320,85.0000,107.6283,3896,  3200.3, -0.7704, 34.9360,2, 34.9359,2,  -999.0,9,   298.8,2,   11.12,2,   13.27,2, -999.00,9,    0.98,2,-999.000,9,-999.000,9,-999.000,9,  -999.0,9,  -999.0,9,-999.0000,9,  -999.00, -0.9510
06AQ19960712,ARKXII,49,1,5,166667,2,19960807,1320,85.0000,107.6283,3896,  3399.4, -0.7474, 34.9381,2, 34.9393,2,  -999.0,9,   298.5,2,   11.12,2,   13.46,2, -999.00,9,    0.98,2,-999.000,9,   0.056,2,   0.371,2,  2151.7,2,  -999.0,9,   7.6976,2,    25.00, -0.9456
06AQ19960712,ARKXII,49,1,4,166666,2,19960807,1320,85.0000,107.6283,3896,  3599.7, -0.7288, 34.9394,2, 34.9397,2,  -999.0,9,   298.3,2,   11.22,2,   13.46,2, -999.00,9,    0.99,2,   0.195,2,   0.057,2,   0.268,2,  -999.0,9,  -999.0,9,-999.0000,9,  -999.00, -0.9448
06AQ19960712,ARKXII,49,1,3,166665,2,19960807,1320,85.0000,107.6283,3896,  3833.9, -0.7078, 34.9399,2, 34.9414,2,  -999.0,9,   298.3,2,   11.12,2,   13.66,2, -999.00,9,    0.98,2,   0.219,2,   0.075,2,-999.000,9,  2152.8,2,  -999.0,9,   7.6966,2,    25.00, -0.9459
06AQ19960712,ARKXII,49,1,2,166664,2,19960807,1320,85.0000,107.6283,3896,  3884.5, -0.7034, 34.9403,2, 34.9397,2,  -999.0,9,   298.9,2,   11.12,2,   13.46,2, -999.00,9,    0.98,2,   0.158,2,   0.075,2,   0.319,2,  2155.5,2,  -999.0,9,   7.7024,2,    25.00, -0.9468
06AQ19960712,ARKXII,49,1,1,166663,2,19960807,1320,85.0000,107.6283,3896,  3935.5, -0.6983, 34.9401,2, 34.9403,2,  -999.0,9,   298.4,2,   11.12,2,   13.17,2, -999.00,9,    0.97,2,   0.134,2,   0.053,2,   0.297,2,  2154.5,2,  -999.0,9,   7.7034,2,    25.00, -0.9458