BOTTLE,20100322CCHDOSIODM
EXPOCODE,SECT_ID,STNNBR,CASTNO,SAMPNO,BTLNBR,BTLNBR_FLAG_W,DATE,TIME,LATITUDE,LONGITUDE,DEPTH,CTDPRS,CTDTMP,CTDSAL,CTDSAL_FLAG_W,SALNTY,SALNTY_FLAG_W,CTDOXY,CTDOXY_FLAG_W,OXYGEN,OXYGEN_FLAG_W,SILCAT,SILCAT_FLAG_W,NITRAT,NITRAT_FLAG_W,NITRIT,NITRIT_FLAG_W,PHSPHT,PHSPHT_FLAG_W,CFC-11,CFC-11_FLAG_W,CFC-12,CFC-12_FLAG_W,CCL4,CCL4_FLAG_W,TCARBN,TCARBN_FLAG_W,ALKALI,ALKALI_FLAG_W,PH_SWS,PH_SWS_FLAG_W,PH_TMP,THETA
,,,,,,,,,,,METERS,DBAR,ITS-90,PSS-78,,PSS-78,,UMOL/KG,,UMOL/KG,,UMOL/KG,,UMOL/KG,,UMOL/KG,,UMOL/KG,,PMOL/KG,,PMOL/KG,,PMOL/KG,,UMOL/KG,,UMOL/KG,,,,DEG C,DEG C
06AQ19960712,ARKXII,41,1,23,166307,2,19960804,0955,83.4933,96.5800,3615,     2.5, -1.7930, 34.1709,2,-999.0000,9,  -999.0,9,  -999.0,9, -999.00,9, -999.00,9, -999.00,9, -999.00,9,-999.000,9,-999.000,9,-999.000,9,  -999.0,9,  -999.0,9,-999.0000,9,  -999.00,-999.0000
06AQ19960712,ARKXII,41,1,21,166305,2,19960804,0955,83.4933,96.5800,3615,    10.4, -1.8003, 34.1816,2, 34.1956,2,  -999.0,9,   361.1,2,    2.44,2,    6.15,2, -999.00,9,    0.52,2,   6.190,2,   2.924,2,   6.553,2,  2100.9,2,  -999.0,9,   7.7723,2,    25.00, -1.7972
06AQ19960712,ARKXII,41,1,22,166306,2,19960804,0955,83.4933,96.5800,3615,    10.5, -1.8026, 34.1796,2,-999.0000,9,  -999.0,9,  -999.0,9, -999.00,9, -999.00,9, -999.00,9, -999.00,9,-999.000,9,-999.000,9,-999.000,9,  -999.0,9,  -999.0,9,-999.0000,9,  -999.00,-999.0000
06AQ19960712,ARKXII,41,1,19,166303,2,19960804,0955,83.4933,96.5800,3615,    19.9, -1.8200, 34.2134,2, 34.2122,2,  -999.0,9,   360.9,2,    2.54,2,    6.24,2, -999.00,9,    0.51,2,-999.000,9,-999.000,9,-999.000,9,  2101.8,2,  -999.0,9,   7.7675,2,    25.00, -1.8174
06AQ19960712,ARKXII,41,1,20,166304,2,19960804,0955,83.4933,96.5800,3615,    20.0, -1.8151, 34.2107,2,-999.0000,9,  -999.0,9,  -999.0,9, -999.00,9, -999.00,9, -999.00,9, -999.00,9,-999.000,9,-999.000,9,-999.000,9,  -999.0,9,  -999.0,9,-999.0000,9,  -999.00,-999.0000
06AQ19960712,ARKXII,41,1,18,166302,2,19960804,0955,83.4933,96.5800,3615,    29.9, -1.8246, 34.2121,2,-999.0000,9,  -999.0,9,  -999.0,9, -999.00,9, -999.00,9, -999.00,9, -999.00,9,-999.000,9,-999.000,9,-999.000,9,  -999.0,9,  -999.0,9,-999.0000,9,  -999.00,-999.0000
06AQ19960712,ARKXII,41,1,17,166301,2,19960804,0955,83.4933,96.5800,3615,    29.9, -1.8250, 34.2127,2, 34.2275,2,  -999.0,9,   360.2,2,    2.73,2,    6.24,2, -999.00,9,    0.52,2,   6.082,2,   2.909,2,   6.502,2,  2098.9,2,  -999.0,9,   7.7684,2,    25.00, -1.8226
06AQ19960712,ARKXII,41,1,16,166300,2,19960804,0955,83.4933,96.5800,3615,    39.7, -1.8209, 34.2132,2,-999.0000,9,  -999.0,9,  -999.0,9, -999.00,9, -999.00,9, -999.00,9, -999.00,9,-999.000,9,-999.000,9,-999.000,9,  -999.0,9,  -999.0,9,-999.0000,9,  -999.00,-999.0000
06AQ19960712,ARKXII,41,1,15,166299,2,19960804,0955,83.4933,96.5800,3615,    39.7, -1.8222, 34.2142,2, 34.2134,2,  -999.0,9,   360.9,2,    2.44,2,    6.24,2, -999.00,9,    0.53,2,-999.000,9,-999.000,9,-999.000,9,  2104.4,2,  -999.0,9,   7.7675,2,    25.00, -1.8198
06AQ19960712,ARKXII,41,1,13,166297,2,19960804,0955,83.4933,96.5800,3615,    50.0, -1.8277, 34.2138,2, 34.2138,2,  -999.0,9,   360.4,2,    2.54,2,    6.54,2, -999.00,9,    0.53,2,   6.196,2,   2.897,2,   6.645,2,  -999.0,9,  -999.0,9,-999.0000,9,  -999.00, -1.8249
06AQ19960712,ARKXII,41,1,14,166298,2,19960804,0955,83.4933,96.5800,3615,    50.0, -1.8278, 34.2139,2,-999.0000,9,  -999.0,9,  -999.0,9, -999.00,9, -999.00,9, -999.00,9, -999.00,9,-999.000,9,-999.000,9,-999.000,9,  -999.0,9,  -999.0,9,-999.0000,9,  -999.00,-999.0000
06AQ19960712,ARKXII,41,1,12,166296,2,19960804,0955,83.4933,96.5800,3615,    60.1, -1.8276, 34.2152,2, 34.2151,2,  -999.0,9,   360.4,2,    2.44,2,    6.44,2, -999.00,9,    0.53,2,-999.000,9,-999.000,9,-999.000,9,  2104.0,2,  -999.0,9,   7.7665,2,    25.00, -1.8251
06AQ19960712,ARKXII,41,1,10,166294,2,19960804,0955,83.4933,96.5800,3615,    80.1, -1.8302, 34.2290,2, 34.2319,2,  -999.0,9,   357.5,2,    2.63,2,    6.63,2, -999.00,9,    0.54,2,   6.096,2,   2.911,2,   6.200,2,  2104.2,2,  -999.0,9,   7.7597,2,    25.00, -1.8285
06AQ19960712,ARKXII,41,1,11,166295,2,19960804,0955,83.4933,96.5800,3615,    80.1, -1.8302, 34.2283,2,-999.0000,9,  -999.0,9,  -999.0,9, -999.00,9, -999.00,9, -999.00,9, -999.00,9,-999.000,9,-999.000,9,-999.000,9,  -999.0,9,  -999.0,9,-999.0000,9,  -999.00,-999.0000
06AQ19960712,ARKXII,41,1,9,166293,2,19960804,0955,83.4933,96.5800,3615,    80.2, -1.8274, 34.2320,2,-999.0000,9,  -999.0,9,  -999.0,9, -999.00,9, -999.00,9, -999.00,9, -999.00,9,-999.000,9,-999.000,9,-999.000,9,  -999.0,9,  -999.0,9,-999.0000,9,  -999.00,-999.0000
06AQ19960712,ARKXII,41,1,8,166292,2,19960804,0955,83.4933,96.5800,3615,   100.2, -1.5311, 34.2771,2, 34.2891,2,  -999.0,9,   340.1,2,    3.41,2,    8.10,2, -999.00,9,    0.61,2,   5.624,2,   2.617,2,   5.317,2,  2119.2,2,  -999.0,9,   7.7306,2,    25.00, -1.5302
06AQ19960712,ARKXII,41,1,7,166291,2,19960804,0955,83.4933,96.5800,3615,   100.2, -1.4477, 34.3013,2,-999.0000,9,  -999.0,9,  -999.0,9, -999.00,9, -999.00,9, -999.00,9, -999.00,9,-999.000,9,-999.000,9,-999.000,9,  -999.0,9,  -999.0,9,-999.0000,9,  -999.00,-999.0000
06AQ19960712,ARKXII,41,1,5,166289,2,19960804,0955,83.4933,96.5800,3615,   150.2,  0.5677, 34.5851,2, 34.5858,2,  -999.0,9,   304.0,2,    5.07,2,   11.02,2, -999.00,9,    0.76,2,   4.011,2,   1.873,2,   4.385,2,  2145.2,2,  -999.0,9,   7.7006,2,    25.00,  0.5658
06AQ19960712,ARKXII,41,1,6,166290,2,19960804,0955,83.4933,96.5800,3615,   150.2,  0.5231, 34.5713,2,-999.0000,9,  -999.0,9,  -999.0,9, -999.00,9, -999.00,9, -999.00,9, -999.00,9,-999.000,9,-999.000,9,-999.000,9,  -999.0,9,  -999.0,9,-999.0000,9,  -999.00,-999.0000
06AQ19960712,ARKXII,41,1,3,166287,2,19960804,0955,83.4933,96.5800,3615,   200.2,  1.8494, 34.8453,2, 34.8288,2,  -999.0,9,   299.9,2,    5.46,2,   12.10,2, -999.00,9,    0.81,2,-999.000,9,-999.000,9,-999.000,9,  2149.0,2,  -999.0,9,   7.7160,2,    25.00,  1.8434
06AQ19960712,ARKXII,41,1,4,166288,2,19960804,0955,83.4933,96.5800,3615,   200.2,  1.8022, 34.8338,2,-999.0000,9,  -999.0,9,  -999.0,9, -999.00,9, -999.00,9, -999.00,9, -999.00,9,-999.000,9,-999.000,9,-999.000,9,  -999.0,9,  -999.0,9,-999.0000,9,  -999.00,-999.0000
06AQ19960712,ARKXII,41,1,1,166285,2,19960804,0955,83.4933,96.5800,3615,   250.6,  2.0604, 34.9052,2, 34.9045,2,  -999.0,9,   300.7,2,    5.66,2,   12.39,2, -999.00,9, -999.00,9,   4.563,2,   2.206,2,   5.200,2,  2146.0,2,  -999.0,9,   7.7208,2,    25.00,  2.0512
06AQ19960712,ARKXII,41,1,2,166286,2,19960804,0955,83.4933,96.5800,3615,   250.6,  2.0581, 34.9044,2,-999.0000,9,  -999.0,9,  -999.0,9, -999.00,9, -999.00,9, -999.00,9, -999.00,9,-999.000,9,-999.000,9,-999.000,9,  -999.0,9,  -999.0,9,-999.0000,9,  -999.00,-999.0000
06AQ19960712,ARKXII,41,2,32,166340,2,19960804,1138,83.4833,96.5650,3616,   281.7,  2.2522, 34.9412,2, 34.9397,2,  -999.0,9,   302.5,2,    5.66,2,   12.68,2, -999.00,9,    0.84,2,   5.016,2,   2.130,2,   5.360,2,  -999.0,9,  -999.0,9,-999.0000,9,  -999.00,  2.2409
06AQ19960712,ARKXII,41,2,30,166338,2,19960804,1138,83.4833,96.5650,3616,   300.8,  2.0770, 34.9296,2,-999.0000,9,  -999.0,9,  -999.0,9, -999.00,9, -999.00,9, -999.00,9, -999.00,9,-999.000,9,-999.000,9,-999.000,9,  -999.0,9,  -999.0,9,-999.0000,9,  -999.00,-999.0000
06AQ19960712,ARKXII,41,2,31,166339,2,19960804,1138,83.4833,96.5650,3616,   300.9,  2.0799, 34.9280,2, 34.9185,2,  -999.0,9,   301.8,2,    5.66,2,   12.68,2, -999.00,9,    0.85,2,   4.187,2,   1.981,2,   5.115,2,  -999.0,9,  -999.0,9,-999.0000,9,  -999.00,  2.0672
06AQ19960712,ARKXII,41,2,29,166337,2,19960804,1138,83.4833,96.5650,3616,   400.6,  1.4127, 34.9142,2, 34.9134,2,  -999.0,9,   301.7,2,    5.85,2,   12.78,2, -999.00,9,    0.86,2,-999.000,9,-999.000,9,-999.000,9,  2159.2,2,  -999.0,9,   7.7111,2,    25.00,  1.3965
06AQ19960712,ARKXII,41,2,27,166335,2,19960804,1138,83.4833,96.5650,3616,   499.2,  1.1224, 34.9202,2,-999.0000,9,  -999.0,9,  -999.0,9, -999.00,9, -999.00,9, -999.00,9, -999.00,9,-999.000,9,-999.000,9,-999.000,9,  -999.0,9,  -999.0,9,-999.0000,9,  -999.00,-999.0000
06AQ19960712,ARKXII,41,2,28,166336,2,19960804,1138,83.4833,96.5650,3616,   499.3,  1.1415, 34.9193,2, 34.9185,2,  -999.0,9,   302.0,2,    6.15,2,   12.88,2, -999.00,9,    0.87,2,   3.585,2,   1.468,2,   4.541,2,  -999.0,9,  -999.0,9,-999.0000,9,  -999.00,  1.1212
06AQ19960712,ARKXII,41,2,26,166334,2,19960804,1138,83.4833,96.5650,3616,   600.4,  0.7247, 34.9115,2, 34.9110,2,  -999.0,9,   302.5,2,    6.34,2,   12.98,2, -999.00,9,    0.87,2,-999.000,9,-999.000,9,-999.000,9,  -999.0,9,  -999.0,9,-999.0000,9,  -999.00,  0.7007
06AQ19960712,ARKXII,41,2,25,166333,2,19960804,1138,83.4833,96.5650,3616,   700.1,  0.3097, 34.8991,2, 34.8983,2,  -999.0,9,   303.1,2,    6.54,2,   12.98,2, -999.00,9,    0.87,2,   2.640,2,   1.302,2,   4.269,2,  2159.5,2,  -999.0,9,   7.6918,2,    25.00,  0.2828
06AQ19960712,ARKXII,41,2,24,166332,2,19960804,1138,83.4833,96.5650,3616,   750.3,  0.1932, 34.9029,2,-999.0000,9,  -999.0,9,  -999.0,9, -999.00,9, -999.00,9, -999.00,9, -999.00,9,-999.000,9,-999.000,9,-999.000,9,  -999.0,9,  -999.0,9,-999.0000,9,  -999.00,-999.0000
06AQ19960712,ARKXII,41,2,23,166331,2,19960804,1138,83.4833,96.5650,3616,   800.2,  0.1008, 34.9063,2, 34.9054,2,  -999.0,9,   302.6,2,    7.12,2,   13.27,2, -999.00,9,    0.89,2,-999.000,9,-999.000,9,-999.000,9,  -999.0,9,  -999.0,9,-999.0000,9,  -999.00,  0.0700
06AQ19960712,ARKXII,41,2,22,166330,2,19960804,1138,83.4833,96.5650,3616,  1000.6, -0.2453, 34.9106,2, 34.9101,2,  -999.0,9,   301.8,2,    7.90,2,   13.56,2, -999.00,9,    0.92,2,   1.847,2,   0.768,2,   3.342,2,  2161.3,2,  -999.0,9,   7.6880,2,    25.00, -0.2847
06AQ19960712,ARKXII,41,2,21,166329,2,19960804,1138,83.4833,96.5650,3616,  1000.6, -0.2473, 34.9107,2,-999.0000,9,  -999.0,9,  -999.0,9, -999.00,9, -999.00,9, -999.00,9, -999.00,9,-999.000,9,-999.000,9,-999.000,9,  -999.0,9,  -999.0,9,-999.0000,9,  -999.00,-999.0000
06AQ19960712,ARKXII,41,2,20,166328,2,19960804,1138,83.4833,96.5650,3616,  1200.6, -0.4648, 34.9151,2, 34.9064,2,  -999.0,9,   300.5,2,    8.88,2,   13.95,2, -999.00,9,    0.93,2,-999.000,9,-999.000,9,-999.000,9,  -999.0,9,  -999.0,9,-999.0000,9,  -999.00, -0.5122
06AQ19960712,ARKXII,41,2,19,166327,2,19960804,1138,83.4833,96.5650,3616,  1400.4, -0.5965, 34.9189,2, 34.9180,2,  -999.0,9,   300.3,2,    9.46,2,   14.15,2, -999.00,9,    0.94,2,   0.886,2,   0.433,2,   1.980,2,  -999.0,9,  -999.0,9,-999.0000,9,  -999.00, -0.6537
06AQ19960712,ARKXII,41,2,18,166326,2,19960804,1138,83.4833,96.5650,3616,  1500.5, -0.6445, 34.9189,2,-999.0000,9,  -999.0,9,  -999.0,9, -999.00,9, -999.00,9, -999.00,9, -999.00,9,-999.000,9,-999.000,9,-999.000,9,  -999.0,9,  -999.0,9,-999.0000,9,  -999.00,-999.0000
06AQ19960712,ARKXII,41,2,17,166325,2,19960804,1138,83.4833,96.5650,3616,  1601.2, -0.6738, 34.9215,2, 34.9207,2,  -999.0,9,   300.0,2,   10.05,2,   14.54,2, -999.00,9,    0.98,2,   0.552,2,   0.265,2,   1.643,2,  2161.7,2,  -999.0,9,   7.6909,2,    25.00, -0.7413
06AQ19960712,ARKXII,41,2,16,166324,2,19960804,1138,83.4833,96.5650,3616,  1799.1, -0.7347, 34.9219,2, 34.9205,2,  -999.0,9,   299.8,2,   10.34,2,   14.63,2, -999.00,9,    0.99,2,   0.391,2,   0.171,2,   1.207,2,  -999.0,9,  -999.0,9,-999.0000,9,  -999.00, -0.8134
06AQ19960712,ARKXII,41,2,14,166322,2,19960804,1138,83.4833,96.5650,3616,  1999.7, -0.7723, 34.9235,2,-999.0000,9,  -999.0,9,  -999.0,9, -999.00,9, -999.00,9, -999.00,9, -999.00,9,-999.000,9,-999.000,9,-999.000,9,  -999.0,9,  -999.0,9,-999.0000,9,  -999.00,-999.0000
06AQ19960712,ARKXII,41,2,15,166323,2,19960804,1138,83.4833,96.5650,3616,  1999.7, -0.7716, 34.9233,2, 34.9225,2,  -999.0,9,   299.8,2,   10.54,2,   14.73,2, -999.00,9,    0.99,2,-999.000,9,-999.000,9,-999.000,9,  -999.0,9,  -999.0,9,-999.0000,9,  -999.00, -0.8625
06AQ19960712,ARKXII,41,2,13,166321,2,19960804,1138,83.4833,96.5650,3616,  2200.5, -0.7893, 34.9260,2, 34.9253,2,  -999.0,9,   300.0,2,   10.73,2,   14.73,2, -999.00,9,    0.98,2,-999.000,9,   0.141,2,   0.903,2,  2160.8,2,  -999.0,9,   7.6918,2,    25.00, -0.8936
06AQ19960712,ARKXII,41,2,12,166320,2,19960804,1138,83.4833,96.5650,3616,  2400.5, -0.7994, 34.9284,2, 34.9274,2,  -999.0,9,   299.8,2,   10.83,2,   14.73,2, -999.00,9,    0.99,2,-999.000,9,-999.000,9,-999.000,9,  -999.0,9,  -999.0,9,-999.0000,9,  -999.00, -0.9173
06AQ19960712,ARKXII,41,2,11,166319,2,19960804,1138,83.4833,96.5650,3616,  2500.4, -0.8024, 34.9288,2,-999.0000,9,  -999.0,9,  -999.0,9, -999.00,9, -999.00,9, -999.00,9, -999.00,9,-999.000,9,-999.000,9,-999.000,9,  -999.0,9,  -999.0,9,-999.0000,9,  -999.00,-999.0000
06AQ19960712,ARKXII,41,2,10,166318,2,19960804,1138,83.4833,96.5650,3616,  2600.5, -0.7995, 34.9308,2, 34.9316,2,  -999.0,9,   299.5,2,   10.93,2,   14.83,2, -999.00,9,    0.99,2,   0.201,2,   0.111,2,   0.604,2,  -999.0,9,  -999.0,9,-999.0000,9,  -999.00, -0.9318
06AQ19960712,ARKXII,41,2,9,166317,2,19960804,1138,83.4833,96.5650,3616,  2800.5, -0.7932, 34.9331,2, 34.9333,2,  -999.0,9,   299.2,2,   10.93,2,   14.83,2, -999.00,9,    0.99,2,   0.184,2,   0.090,2,   0.539,2,  2159.8,2,  -999.0,9,   7.6986,2,    25.00, -0.9412
06AQ19960712,ARKXII,41,2,6,166314,2,19960804,1138,83.4833,96.5650,3616,  3000.5, -0.7823, 34.9367,2,-999.0000,9,  -999.0,9,  -999.0,9, -999.00,9, -999.00,9, -999.00,9, -999.00,9,-999.000,9,-999.000,9,-999.000,9,  -999.0,9,  -999.0,9,-999.0000,9,  -999.00,-999.0000
06AQ19960712,ARKXII,41,2,8,166316,2,19960804,1138,83.4833,96.5650,3616,  3000.6, -0.7821, 34.9363,2,-999.0000,9,  -999.0,9,  -999.0,9, -999.00,9, -999.00,9, -999.00,9, -999.00,9,-999.000,9,-999.000,9,-999.000,9,  -999.0,9,  -999.0,9,-999.0000,9,  -999.00,-999.0000
06AQ19960712,ARKXII,41,2,7,166315,2,19960804,1138,83.4833,96.5650,3616,  3000.6, -0.7821, 34.9364,2, 34.9367,2,  -999.0,9,   298.7,2,   11.12,2,   14.73,2, -999.00,9,    0.97,2,-999.000,9,   0.089,2,   0.459,2,  -999.0,9,  -999.0,9,-999.0000,9,  -999.00, -0.9462
06AQ19960712,ARKXII,41,2,5,166313,2,19960804,1138,83.4833,96.5650,3616,  3200.7, -0.7608, 34.9400,2, 34.9395,2,  -999.0,9,   297.5,2,   11.22,2, -999.00,9, -999.00,9,    0.98,2,-999.000,9,-999.000,9,-999.000,9,  2162.1,2,  -999.0,9,   7.6986,2,    25.00, -0.9412
06AQ19960712,ARKXII,41,2,4,166312,2,19960804,1138,83.4833,96.5650,3616,  3400.3, -0.7374, 34.9414,2, 34.9412,2,  -999.0,9,   296.8,2,   11.32,2,   14.44,2, -999.00,9,    0.98,2,   0.171,2,   0.082,2,   0.269,2,  2162.4,2,  -999.0,9,   7.7005,2,    25.00, -0.9358
06AQ19960712,ARKXII,41,2,3,166311,2,19960804,1138,83.4833,96.5650,3616,  3596.6, -0.7207, 34.9419,2, 34.9424,2,  -999.0,9,   297.0,2,   11.32,2,   14.44,2, -999.00,9,    0.98,2,-999.000,9,-999.000,9,-999.000,9,  2160.9,2,  -999.0,9,   7.7034,2,    25.00, -0.9367
06AQ19960712,ARKXII,41,2,1,166309,2,19960804,1138,83.4833,96.5650,3616,  3616.4, -0.7188, 34.9415,2,-999.0000,9,  -999.0,9,  -999.0,9, -999.00,9, -999.00,9, -999.00,9, -999.00,9,-999.000,9,-999.000,9,-999.000,9,  -999.0,9,  -999.0,9,-999.0000,9,  -999.00,-999.0000
06AQ19960712,ARKXII,41,2,2,166310,2,19960804,1138,83.4833,96.5650,3616,  3616.5, -0.7185, 34.9412,2, 34.9418,2,  -999.0,9,   296.9,2,   11.61,2,   14.44,2, -999.00,9,    0.96,2,-999.000,9,   0.060,2,   0.374,2,  2161.4,2,  -999.0,9,   7.7024,2,    25.00, -0.9366