BOTTLE,20100322CCHDOSIODM
EXPOCODE,SECT_ID,STNNBR,CASTNO,SAMPNO,BTLNBR,BTLNBR_FLAG_W,DATE,TIME,LATITUDE,LONGITUDE,DEPTH,CTDPRS,CTDTMP,CTDSAL,CTDSAL_FLAG_W,SALNTY,SALNTY_FLAG_W,CTDOXY,CTDOXY_FLAG_W,OXYGEN,OXYGEN_FLAG_W,SILCAT,SILCAT_FLAG_W,NITRAT,NITRAT_FLAG_W,NITRIT,NITRIT_FLAG_W,PHSPHT,PHSPHT_FLAG_W,CFC-11,CFC-11_FLAG_W,CFC-12,CFC-12_FLAG_W,CCL4,CCL4_FLAG_W,TCARBN,TCARBN_FLAG_W,ALKALI,ALKALI_FLAG_W,PH_SWS,PH_SWS_FLAG_W,PH_TMP,THETA
,,,,,,,,,,,METERS,DBAR,ITS-90,PSS-78,,PSS-78,,UMOL/KG,,UMOL/KG,,UMOL/KG,,UMOL/KG,,UMOL/KG,,UMOL/KG,,PMOL/KG,,PMOL/KG,,PMOL/KG,,UMOL/KG,,UMOL/KG,,,,DEG C,DEG C
06AQ19960712,ARKXII,88,2,32,168129,2,19960824,2327,81.0767,139.7133,1539,    10.4, -1.7246, 32.6449,2, 32.6472,2,  -999.0,9,   371.9,2,    1.76,2,    1.85,2, -999.00,9,    0.40,2,   7.188,2,   3.364,2,   8.087,2,  2094.7,2,  -999.0,9,   7.6965,2,    25.00, -1.7202
06AQ19960712,ARKXII,88,2,31,168128,2,19960824,2327,81.0767,139.7133,1539,    20.1, -1.7271, 32.6477,2, 32.6547,2,  -999.0,9,   371.9,2,    1.85,2,    1.95,2, -999.00,9,    0.40,2,   6.932,2,   3.345,2,   7.881,2,  -999.0,9,  -999.0,9,-999.0000,9,  -999.00, -1.7243
06AQ19960712,ARKXII,88,2,30,168127,2,19960824,2327,81.0767,139.7133,1539,    30.4, -1.7150, 32.7819,2, 32.9554,2,  -999.0,9,   356.4,2,    2.93,2,    3.71,2, -999.00,9,    0.50,2,   7.018,2,   3.354,2,   7.247,2,  2114.4,2,  -999.0,9,   7.6704,2,    25.00, -1.7115
06AQ19960712,ARKXII,88,2,29,168126,2,19960824,2327,81.0767,139.7133,1539,    40.1, -1.6681, 33.4933,2, 33.5219,2,  -999.0,9,   333.5,2,    4.49,2,    6.24,2, -999.00,9,    0.60,2,   6.819,2,   3.186,2,   5.795,2,  -999.0,9,  -999.0,9,-999.0000,9,  -999.00, -1.6768
06AQ19960712,ARKXII,88,2,28,168125,2,19960824,2327,81.0767,139.7133,1539,    60.2, -1.5548, 33.9737,2, 33.9493,2,  -999.0,9,   324.1,2,    4.98,2,    7.41,2, -999.00,9,    0.66,2,   6.439,2,   3.052,2,   5.238,2,  2132.7,2,  -999.0,9,   7.6576,2,    25.00, -1.5503
06AQ19960712,ARKXII,88,2,27,168124,2,19960824,2327,81.0767,139.7133,1539,    80.0, -1.3058, 34.2132,2, 34.2050,2,  -999.0,9,   319.1,2,    4.98,2,    8.39,2, -999.00,9,    0.71,2,   6.157,2,   2.960,2,   5.093,2,  2131.9,2,  -999.0,9,   7.6815,2,    25.00, -1.3129
06AQ19960712,ARKXII,88,2,26,168123,2,19960824,2327,81.0767,139.7133,1539,   100.1, -0.6650, 34.3686,2, 34.3619,2,  -999.0,9,   312.4,2,    5.27,2,    9.27,2, -999.00,9,    0.74,2,   5.681,2,   2.837,2,   4.868,2,  2133.9,2,  -999.0,9,   7.6766,2,    25.00, -0.6750
06AQ19960712,ARKXII,88,2,25,168122,2,19960824,2327,81.0767,139.7133,1539,   150.2,  0.4804, 34.6527,2, 34.6388,2,  -999.0,9,   306.7,2,    5.17,2,   10.15,2, -999.00,9,    0.80,2,   5.460,2,   2.601,2,   5.595,2,  2142.0,2,  -999.0,9,   7.6852,2,    25.00,  0.4340
06AQ19960712,ARKXII,88,2,24,168121,2,19960824,2327,81.0767,139.7133,1539,   200.4,  1.2981, 34.8106,2, 34.8066,2,  -999.0,9,   303.0,2,    5.46,2,   11.22,2, -999.00,9,    0.85,2,   5.145,2,   2.323,2,   5.518,2,  -999.0,9,  -999.0,9,-999.0000,9,  -999.00,  1.2954
06AQ19960712,ARKXII,88,2,17,168114,2,19960824,2327,81.0767,139.7133,1539,   266.3,  1.5107, 34.8601,2,-999.0000,9,  -999.0,9,  -999.0,9, -999.00,9, -999.00,9, -999.00,9, -999.00,9,-999.000,9,-999.000,9,-999.000,9,  -999.0,9,  -999.0,9,-999.0000,9,  -999.00,-999.0000
06AQ19960712,ARKXII,88,2,16,168113,2,19960824,2327,81.0767,139.7133,1539,   266.3,  1.5104, 34.8607,2,-999.0000,9,  -999.0,9,  -999.0,9, -999.00,9, -999.00,9, -999.00,9, -999.00,9,-999.000,9,-999.000,9,-999.000,9,  -999.0,9,  -999.0,9,-999.0000,9,  -999.00,-999.0000
06AQ19960712,ARKXII,88,2,15,168112,2,19960824,2327,81.0767,139.7133,1539,   266.3,  1.5107, 34.8603,2,-999.0000,9,  -999.0,9,  -999.0,9, -999.00,9, -999.00,9, -999.00,9, -999.00,9,-999.000,9,-999.000,9,-999.000,9,  -999.0,9,  -999.0,9,-999.0000,9,  -999.00,-999.0000
06AQ19960712,ARKXII,88,2,14,168111,2,19960824,2327,81.0767,139.7133,1539,   266.3,  1.5106, 34.8606,2,-999.0000,9,  -999.0,9,  -999.0,9, -999.00,9, -999.00,9, -999.00,9, -999.00,9,-999.000,9,-999.000,9,-999.000,9,  -999.0,9,  -999.0,9,-999.0000,9,  -999.00,-999.0000
06AQ19960712,ARKXII,88,2,18,168115,2,19960824,2327,81.0767,139.7133,1539,   266.3,  1.5117, 34.8597,2,-999.0000,9,  -999.0,9,  -999.0,9, -999.00,9, -999.00,9, -999.00,9, -999.00,9,-999.000,9,-999.000,9,-999.000,9,  -999.0,9,  -999.0,9,-999.0000,9,  -999.00,-999.0000
06AQ19960712,ARKXII,88,2,19,168116,2,19960824,2327,81.0767,139.7133,1539,   266.3,  1.5118, 34.8592,2,-999.0000,9,  -999.0,9,  -999.0,9, -999.00,9, -999.00,9, -999.00,9, -999.00,9,-999.000,9,-999.000,9,-999.000,9,  -999.0,9,  -999.0,9,-999.0000,9,  -999.00,-999.0000
06AQ19960712,ARKXII,88,2,13,168110,2,19960824,2327,81.0767,139.7133,1539,   266.3,  1.5099, 34.8625,2, 34.8627,2,  -999.0,9,   304.0,2,    5.76,2,   11.32,2, -999.00,9,    0.85,2,-999.000,9,-999.000,9,-999.000,9,  2139.4,2,  -999.0,9,   7.7063,2,    25.00,  1.5015
06AQ19960712,ARKXII,88,2,20,168117,2,19960824,2327,81.0767,139.7133,1539,   266.3,  1.5108, 34.8601,2,-999.0000,9,  -999.0,9,  -999.0,9, -999.00,9, -999.00,9, -999.00,9, -999.00,9,-999.000,9,-999.000,9,-999.000,9,  -999.0,9,  -999.0,9,-999.0000,9,  -999.00,-999.0000
06AQ19960712,ARKXII,88,2,21,168118,2,19960824,2327,81.0767,139.7133,1539,   266.3,  1.5111, 34.8591,2,-999.0000,9,  -999.0,9,  -999.0,9, -999.00,9, -999.00,9, -999.00,9, -999.00,9,-999.000,9,-999.000,9,-999.000,9,  -999.0,9,  -999.0,9,-999.0000,9,  -999.00,-999.0000
06AQ19960712,ARKXII,88,2,23,168120,2,19960824,2327,81.0767,139.7133,1539,   266.3,  1.5099, 34.8604,2,-999.0000,9,  -999.0,9,  -999.0,9, -999.00,9, -999.00,9, -999.00,9, -999.00,9,-999.000,9,-999.000,9,-999.000,9,  -999.0,9,  -999.0,9,-999.0000,9,  -999.00,-999.0000
06AQ19960712,ARKXII,88,2,22,168119,2,19960824,2327,81.0767,139.7133,1539,   266.3,  1.5107, 34.8594,2,-999.0000,9,  -999.0,9,  -999.0,9, -999.00,9, -999.00,9, -999.00,9, -999.00,9,-999.000,9,-999.000,9,-999.000,9,  -999.0,9,  -999.0,9,-999.0000,9,  -999.00,-999.0000
06AQ19960712,ARKXII,88,2,12,168109,2,19960824,2327,81.0767,139.7133,1539,   301.0,  1.3256, 34.8581,2, 34.8580,2,  -999.0,9,   304.6,2,    5.76,2,   11.71,2, -999.00,9,    0.85,2,   5.132,2,   2.352,2,   5.733,2,  -999.0,9,  -999.0,9,-999.0000,9,  -999.00,  1.3192
06AQ19960712,ARKXII,88,2,11,168108,2,19960824,2327,81.0767,139.7133,1539,   400.7,  1.0867, 34.8767,2, 34.8768,2,  -999.0,9,   305.2,2,    5.85,2,   11.71,2, -999.00,9,    0.87,2,   4.893,2,   2.388,2,   5.777,2,  -999.0,9,  -999.0,9,-999.0000,9,  -999.00,  1.0747
06AQ19960712,ARKXII,88,2,10,168107,2,19960824,2327,81.0767,139.7133,1539,   500.5,  0.7156, 34.8765,2, 34.8754,2,  -999.0,9,   305.6,2,    6.15,2,   11.61,2, -999.00,9,    0.86,2,   4.963,2,   2.387,2,   5.609,2,  2150.0,2,  -999.0,9,   7.6880,2,    25.00,  0.7029
06AQ19960712,ARKXII,88,2,9,168106,2,19960824,2327,81.0767,139.7133,1539,   600.3,  0.4111, 34.8718,2, 34.8716,2,  -999.0,9,   306.1,2,    6.24,2,   11.61,2, -999.00,9,    0.88,2,   5.088,2,   2.378,2,   5.576,2,  -999.0,9,  -999.0,9,-999.0000,9,  -999.00,  0.3903
06AQ19960712,ARKXII,88,2,8,168105,2,19960824,2327,81.0767,139.7133,1539,   700.2,  0.1969, 34.8710,2, 34.8716,2,  -999.0,9,   307.2,2,    6.15,2,   11.41,2, -999.00,9,    0.88,2,-999.000,9,-999.000,9,-999.000,9,  2156.9,2,  -999.0,9,   7.6803,2,    25.00,  0.1705
06AQ19960712,ARKXII,88,2,7,168104,2,19960824,2327,81.0767,139.7133,1539,   799.9,  0.0570, 34.8751,2, 34.8768,2,  -999.0,9,   307.7,2,    6.54,2,   11.90,2, -999.00,9,    0.91,2,   5.032,2,   2.445,2,   5.763,2,  -999.0,9,  -999.0,9,-999.0000,9,  -999.00,  0.0263
06AQ19960712,ARKXII,88,2,6,168103,2,19960824,2327,81.0767,139.7133,1539,   999.6, -0.1250, 34.8888,2, 34.8898,2,  -999.0,9,   307.3,2,    6.93,2,   12.00,2, -999.00,9,    0.93,2,   4.620,2,   2.280,2,   5.656,2,  2161.4,2,  -999.0,9,   7.6678,2,    25.00, -0.1656
06AQ19960712,ARKXII,88,2,5,168102,2,19960824,2327,81.0767,139.7133,1539,  1199.6, -0.2907, 34.8983,2, 34.8964,2,  -999.0,9,   305.7,2,    7.51,2,   12.59,2, -999.00,9,    0.95,2,   3.770,2,   1.864,2,   5.004,2,  -999.0,9,  -999.0,9,-999.0000,9,  -999.00, -0.3399
06AQ19960712,ARKXII,88,2,4,168101,2,19960824,2327,81.0767,139.7133,1539,  1400.4, -0.4384, 34.9084,2, 34.9074,2,  -999.0,9,   302.8,2,    8.88,2,   13.37,2, -999.00,9,    0.98,2,   2.601,2,   1.280,2,   3.750,2,  2156.0,2,  -999.0,9,   7.6639,2,    25.00, -0.4976
06AQ19960712,ARKXII,88,2,3,168100,2,19960824,2327,81.0767,139.7133,1539,  1413.7, -0.4498, 34.9089,2,-999.0000,9,  -999.0,9,  -999.0,9, -999.00,9, -999.00,9, -999.00,9, -999.00,9,-999.000,9,-999.000,9,-999.000,9,  -999.0,9,  -999.0,9,-999.0000,9,  -999.00,-999.0000
06AQ19960712,ARKXII,88,2,2,168099,2,19960824,2327,81.0767,139.7133,1539,  1464.1, -0.5183, 34.9127,2, 34.9109,2,  -999.0,9,   301.4,2,    9.27,2,   13.56,2, -999.00,9,    0.99,2,   1.886,2,   0.917,2,   3.186,2,  2156.4,2,  -999.0,9,   7.6745,2,    25.00, -0.5822
06AQ19960712,ARKXII,88,2,1,168098,2,19960824,2327,81.0767,139.7133,1539,  1514.1, -0.6003, 34.9217,2, 34.9207,2,  -999.0,9,   297.7,2,   10.34,2,   13.85,2, -999.00,9,    1.00,2,   1.274,2,   0.605,2,   2.049,2,  2148.1,2,  -999.0,9,   7.6918,2,    25.00, -0.6642
06AQ19960712,ARKXII,89,1,30,168163,2,19960825,1154,80.9867,141.8017,1697,     9.9, -1.7158, 32.6636,2,-999.0000,9,  -999.0,9,  -999.0,9, -999.00,9, -999.00,9, -999.00,9, -999.00,9,-999.000,9,-999.000,9,-999.000,9,  -999.0,9,  -999.0,9,-999.0000,9,  -999.00,-999.0000
06AQ19960712,ARKXII,89,1,29,168162,2,19960825,1154,80.9867,141.8017,1697,     9.9, -1.7141, 32.6692,2,-999.0000,9,  -999.0,9,  -999.0,9, -999.00,9, -999.00,9, -999.00,9, -999.00,9,-999.000,9,-999.000,9,-999.000,9,  -999.0,9,  -999.0,9,-999.0000,9,  -999.00,-999.0000
06AQ19960712,ARKXII,89,1,28,168161,2,19960825,1154,80.9867,141.8017,1697,    10.0, -1.7137, 32.6654,2, 32.6662,2,  -999.0,9,   373.9,2,    2.05,2,    2.15,2, -999.00,9,    0.40,2,   7.252,2,   3.441,2,   8.189,2,  2105.5,2,  2230.7,2,   7.6839,2,    25.00, -1.7122
06AQ19960712,ARKXII,89,1,27,168160,2,19960825,1154,80.9867,141.8017,1697,    20.2, -1.7141, 32.6681,2, 32.6633,2,  -999.0,9,   373.8,2,    1.95,2,    2.05,2, -999.00,9,    0.40,2,   7.026,2,   3.368,2,   8.077,2,  -999.0,9,  -999.0,9,-999.0000,9,  -999.00, -1.7113
06AQ19960712,ARKXII,89,1,26,168159,2,19960825,1154,80.9867,141.8017,1697,    30.0, -1.7213, 32.7531,2, 32.7385,2,  -999.0,9,   369.7,2,    2.05,2,    2.44,2, -999.00,9,    0.41,2,   7.083,2,   3.456,2,   7.917,2,  2115.9,2,  2236.5,2,   7.6801,2,    25.00, -1.7195
06AQ19960712,ARKXII,89,1,25,168158,2,19960825,1154,80.9867,141.8017,1697,    40.6, -1.7246, 33.0588,2, 33.1196,2,  -999.0,9,   348.4,2,    3.32,2,    4.20,2, -999.00,9,    0.50,2,   6.958,2,   3.375,2,   7.264,2,  -999.0,9,  -999.0,9,-999.0000,9,  -999.00, -1.7217
06AQ19960712,ARKXII,89,1,24,168157,2,19960825,1154,80.9867,141.8017,1697,    59.9, -1.5605, 33.8884,2, 33.8666,2,  -999.0,9,   320.7,2,    4.98,2,    7.22,2, -999.00,9,    0.65,2,   6.619,2,   3.113,2,   6.036,2,  2132.1,2,  2256.0,2,   7.6423,2,    25.00, -1.5652
06AQ19960712,ARKXII,89,1,23,168156,2,19960825,1154,80.9867,141.8017,1697,    80.8, -1.3417, 34.1812,2, 34.1815,2,  -999.0,9,   313.6,2,    5.17,2,    8.20,2, -999.00,9,    0.69,2,   6.445,2,   3.081,2,   6.109,2,  2144.5,2,  2274.3,2,   7.6489,2,    25.00, -1.3349
06AQ19960712,ARKXII,89,1,22,168155,2,19960825,1154,80.9867,141.8017,1697,   100.7, -0.8785, 34.3464,2, 34.3309,2,  -999.0,9,   315.6,2,    4.88,2,    9.07,2, -999.00,9,    0.74,2,   5.991,2,   2.880,2,   5.353,2,  2135.3,2,  2273.0,2,   7.6738,2,    25.00, -0.8748
06AQ19960712,ARKXII,89,1,21,168154,2,19960825,1154,80.9867,141.8017,1697,   150.9,  0.6201, 34.6695,2, 34.8997,2,  -999.0,9,   306.2,2,    5.27,2,   10.83,2, -999.00,9,    0.82,2,   5.336,2,   2.524,2,   5.513,2,  2142.7,2,  2277.0,2,   7.6890,2,    25.00,  0.6156
06AQ19960712,ARKXII,89,1,20,168153,2,19960825,1154,80.9867,141.8017,1697,   201.4,  1.4497, 34.8237,2, 34.8235,2,  -999.0,9,   302.9,2,    5.56,2,   11.71,2, -999.00,9,    0.86,2,   4.960,2,   2.480,2,   5.380,2,  -999.0,9,  -999.0,9,-999.0000,9,  -999.00,  1.4431
06AQ19960712,ARKXII,89,1,17,168150,2,19960825,1154,80.9867,141.8017,1697,   275.3,  1.5908, 34.8732,2, 34.8757,2,  -999.0,9,   305.3,2,    5.76,2,   11.90,2, -999.00,9,    0.87,2,   4.880,2,   2.321,2,   5.571,2,  2138.0,2,  2290.6,2,   7.7073,2,    25.00,  1.5859
06AQ19960712,ARKXII,89,1,18,168151,2,19960825,1154,80.9867,141.8017,1697,   275.3,  1.6097, 34.8753,2,-999.0000,9,  -999.0,9,  -999.0,9, -999.00,9, -999.00,9, -999.00,9, -999.00,9,-999.000,9,-999.000,9,-999.000,9,  -999.0,9,  -999.0,9,-999.0000,9,  -999.00,-999.0000
06AQ19960712,ARKXII,89,1,19,168152,2,19960825,1154,80.9867,141.8017,1697,   275.3,  1.6105, 34.8754,2,-999.0000,9,  -999.0,9,  -999.0,9, -999.00,9, -999.00,9, -999.00,9, -999.00,9,-999.000,9,-999.000,9,-999.000,9,  -999.0,9,  -999.0,9,-999.0000,9,  -999.00,-999.0000
06AQ19960712,ARKXII,89,1,16,168149,2,19960825,1154,80.9867,141.8017,1697,   301.0,  1.3635, 34.8678,2, 34.8674,2,  -999.0,9,   305.4,2,    5.76,2,   11.90,2, -999.00,9,    0.87,2,   5.017,2,   2.372,2,   5.774,2,  -999.0,9,  -999.0,9,-999.0000,9,  -999.00,  1.3541
06AQ19960712,ARKXII,89,1,15,168148,2,19960825,1154,80.9867,141.8017,1697,   400.5,  1.0612, 34.8795,2, 34.8805,2,  -999.0,9,   306.7,2,    6.05,2,   12.10,2, -999.00,9,    0.88,2,   4.783,2,   2.300,2,   5.545,2,  -999.0,9,  -999.0,9,-999.0000,9,  -999.00,  1.0527
06AQ19960712,ARKXII,89,1,14,168147,2,19960825,1154,80.9867,141.8017,1697,   500.2,  0.6973, 34.8794,2, 34.8789,2,  -999.0,9,   306.4,2,    5.95,2,   12.00,2, -999.00,9,    0.87,2,   4.819,2,   2.225,2,   5.687,2,  2143.4,2,  2293.8,2,   7.6909,2,    25.00,  0.6800
06AQ19960712,ARKXII,89,1,13,168146,2,19960825,1154,80.9867,141.8017,1697,   600.3,  0.3686, 34.8701,2, 34.8710,2,  -999.0,9,   307.6,2,    6.05,2,   12.00,2, -999.00,9,    0.89,2,   4.660,2,   2.285,2,   5.483,2,  -999.0,9,  -999.0,9,-999.0000,9,  -999.00,  0.3455
06AQ19960712,ARKXII,89,1,12,168145,2,19960825,1154,80.9867,141.8017,1697,   700.7,  0.1380, 34.8690,2, 34.8702,2,  -999.0,9,   308.5,2,    6.24,2,   12.00,2, -999.00,9,    0.89,2,   4.853,2,   2.282,2,   5.641,2,  2147.7,2,  2291.2,2,   7.6794,2,    25.00,  0.1108
06AQ19960712,ARKXII,89,1,11,168144,2,19960825,1154,80.9867,141.8017,1697,   800.1, -0.0591, 34.8697,2, 34.8692,2,  -999.0,9,   309.3,2,    6.44,2,   12.00,2, -999.00,9,    0.89,2,   4.521,2,   2.200,2,   5.767,2,  -999.0,9,  -999.0,9,-999.0000,9,  -999.00, -0.0889
06AQ19960712,ARKXII,89,1,9,168142,2,19960825,1154,80.9867,141.8017,1697,  1000.4, -0.2205, 34.8822,2,-999.0000,9,  -999.0,9,  -999.0,9, -999.00,9, -999.00,9, -999.00,9, -999.00,9,-999.000,9,-999.000,9,-999.000,9,  -999.0,9,  -999.0,9,-999.0000,9,  -999.00,-999.0000
06AQ19960712,ARKXII,89,1,8,168141,2,19960825,1154,80.9867,141.8017,1697,  1000.5, -0.2228, 34.8827,2, 34.8843,2,  -999.0,9,   308.1,2,    6.93,2,   12.39,2, -999.00,9,    0.93,2,   3.956,2,   1.974,2,   5.202,2,  2151.3,2,  -999.0,9,   7.6764,2,    25.00, -0.2619
06AQ19960712,ARKXII,89,1,10,168143,2,19960825,1154,80.9867,141.8017,1697,  1000.5, -0.2200, 34.8815,2,-999.0000,9,  -999.0,9,  -999.0,9, -999.00,9, -999.00,9, -999.00,9, -999.00,9,-999.000,9,-999.000,9,-999.000,9,  -999.0,9,  -999.0,9,-999.0000,9,  -999.00,-999.0000
06AQ19960712,ARKXII,89,1,7,168140,2,19960825,1154,80.9867,141.8017,1697,  1199.9, -0.3482, 34.8979,2, 34.8976,2,  -999.0,9,   306.3,2,    8.00,2,   12.78,2, -999.00,9,    0.95,2,   3.445,2,   1.598,2,   4.536,2,  -999.0,9,  -999.0,9,-999.0000,9,  -999.00, -0.3953
06AQ19960712,ARKXII,89,1,6,168139,2,19960825,1154,80.9867,141.8017,1697,  1400.7, -0.4553, 34.9118,2, 34.9117,2,  -999.0,9,   301.8,2,    8.98,2,   13.37,2, -999.00,9,    0.99,2,   1.821,2,   0.887,2,   2.984,2,  2149.0,2,  2287.8,2,   7.6890,2,    25.00, -0.5134
06AQ19960712,ARKXII,89,1,5,168138,2,19960825,1154,80.9867,141.8017,1697,  1559.6, -0.4595, 34.9308,2, 34.9293,2,  -999.0,9,   295.9,2,   10.63,2,   13.85,2, -999.00,9,    1.02,2,   0.724,2,   0.405,2,   1.460,2,  -999.0,9,  2297.1,2,   7.6967,2,    25.00, -0.5276
06AQ19960712,ARKXII,89,1,4,168137,2,19960825,1154,80.9867,141.8017,1697,  1608.4, -0.4392, 34.9396,2, 34.9385,2,  -999.0,9,   291.8,2,   11.51,2,   14.05,2, -999.00,9,    1.04,2,   0.471,2,   0.193,2,   0.785,2,  2146.8,2,  2291.3,2,   7.6967,2,    25.00, -0.5099
06AQ19960712,ARKXII,89,1,1,168134,2,19960825,1154,80.9867,141.8017,1697,  1656.3, -0.4536, 34.9458,2, 34.9468,2,  -999.0,9,   287.2,2,   12.59,2,   14.24,2, -999.00,9,    1.04,2,   0.192,2,   0.092,2,   0.366,2,  2149.6,2,  2286.2,2,   7.7006,2,    25.00, -0.5276
06AQ19960712,ARKXII,89,1,2,168135,2,19960825,1154,80.9867,141.8017,1697,  1656.4, -0.4532, 34.9461,2,-999.0000,9,  -999.0,9,  -999.0,9, -999.00,9, -999.00,9, -999.00,9, -999.00,9,-999.000,9,-999.000,9,-999.000,9,  -999.0,9,  -999.0,9,-999.0000,9,  -999.00,-999.0000
06AQ19960712,ARKXII,89,1,3,168136,2,19960825,1154,80.9867,141.8017,1697,  1656.4, -0.4532, 34.9462,2,-999.0000,9,  -999.0,9,  -999.0,9, -999.00,9, -999.00,9, -999.00,9, -999.00,9,-999.000,9,-999.000,9,-999.000,9,  -999.0,9,  -999.0,9,-999.0000,9,  -999.00,-999.0000