BOTTLE,20100322CCHDOSIODM
EXPOCODE,SECT_ID,STNNBR,CASTNO,SAMPNO,BTLNBR,BTLNBR_FLAG_W,DATE,TIME,LATITUDE,LONGITUDE,DEPTH,CTDPRS,CTDTMP,CTDSAL,CTDSAL_FLAG_W,SALNTY,SALNTY_FLAG_W,CTDOXY,CTDOXY_FLAG_W,OXYGEN,OXYGEN_FLAG_W,SILCAT,SILCAT_FLAG_W,NITRAT,NITRAT_FLAG_W,NITRIT,NITRIT_FLAG_W,PHSPHT,PHSPHT_FLAG_W,CFC-11,CFC-11_FLAG_W,CFC-12,CFC-12_FLAG_W,CCL4,CCL4_FLAG_W,TCARBN,TCARBN_FLAG_W,ALKALI,ALKALI_FLAG_W,PH_SWS,PH_SWS_FLAG_W,PH_TMP,THETA
,,,,,,,,,,,METERS,DBAR,ITS-90,PSS-78,,PSS-78,,UMOL/KG,,UMOL/KG,,UMOL/KG,,UMOL/KG,,UMOL/KG,,UMOL/KG,,PMOL/KG,,PMOL/KG,,PMOL/KG,,UMOL/KG,,UMOL/KG,,,,DEG C,DEG C
06AQ19960712,ARKXII,69,1,26,167369,2,19960814,0747,86.1700,155.0050,1340,    10.2, -1.6840, 33.3876,2, 33.3877,2,  -999.0,9,   374.6,2,    2.54,2,    3.61,2, -999.00,9,    0.36,2,-999.000,9,-999.000,9,-999.000,9,  -999.0,9,  2257.2,2,   7.7270,2,    25.00, -1.6812
06AQ19960712,ARKXII,69,1,25,167368,2,19960814,0747,86.1700,155.0050,1340,    20.3, -1.6918, 33.3938,2, 33.3946,2,  -999.0,9,   374.1,2,    2.73,2,    3.61,2, -999.00,9,    0.37,2,-999.000,9,-999.000,9,-999.000,9,  -999.0,9,  -999.0,9,-999.0000,9,  -999.00, -1.6884
06AQ19960712,ARKXII,69,1,24,167367,2,19960814,0747,86.1700,155.0050,1340,    31.0, -1.6965, 33.4023,2, 33.4031,2,  -999.0,9,   374.5,2,    2.54,2,    3.71,2, -999.00,9,    0.37,2,-999.000,9,-999.000,9,-999.000,9,  -999.0,9,  2257.6,2,   7.7309,2,    25.00, -1.6936
06AQ19960712,ARKXII,69,1,23,167366,2,19960814,0747,86.1700,155.0050,1340,    40.5, -1.7127, 33.4204,2, 33.4396,2,  -999.0,9,   373.4,2,    2.63,2,    3.80,2, -999.00,9,    0.38,2,-999.000,9,-999.000,9,-999.000,9,  -999.0,9,  -999.0,9,-999.0000,9,  -999.00, -1.7098
06AQ19960712,ARKXII,69,1,21,167364,2,19960814,0747,86.1700,155.0050,1340,    61.1, -1.8044, 33.8619,2, 33.8757,2,  -999.0,9,   350.8,2,    3.80,2,    5.56,2, -999.00,9,    0.49,2,   6.543,2,   3.140,2,   5.577,2,  -999.0,9,  2276.9,2,   7.6970,2,    25.00, -1.8021
06AQ19960712,ARKXII,69,1,22,167365,2,19960814,0747,86.1700,155.0050,1340,    61.1, -1.8061, 33.8530,2,-999.0000,9,  -999.0,9,  -999.0,9, -999.00,9, -999.00,9, -999.00,9, -999.00,9,-999.000,9,-999.000,9,-999.000,9,  -999.0,9,  -999.0,9,-999.0000,9,  -999.00,-999.0000
06AQ19960712,ARKXII,69,1,20,167363,2,19960814,0747,86.1700,155.0050,1340,    81.0, -1.6752, 34.0539,2, 34.0593,2,  -999.0,9,   328.9,2,    4.68,2,    7.12,2, -999.00,9,    0.58,2,   5.737,2,   2.702,2,   4.721,2,  -999.0,9,  2279.6,2,   7.6844,2,    25.00, -1.6736
06AQ19960712,ARKXII,69,1,19,167362,2,19960814,0747,86.1700,155.0050,1340,   100.1, -1.3140, 34.2246,2, 34.2082,2,  -999.0,9,   311.9,2,    5.46,2,    8.59,2, -999.00,9,    0.65,2,   5.117,2,   2.342,2,   4.254,2,  -999.0,9,  2274.3,2,   7.6709,2,    25.00, -1.3134
06AQ19960712,ARKXII,69,1,18,167361,2,19960814,0747,86.1700,155.0050,1340,   125.6, -0.8006, 34.3885,2, 34.3665,2,  -999.0,9,   304.6,2,    5.76,2,    9.37,2, -999.00,9,    0.70,2,-999.000,9,-999.000,9,-999.000,9,  -999.0,9,  -999.0,9,-999.0000,9,  -999.00, -0.8006
06AQ19960712,ARKXII,69,1,17,167360,2,19960814,0747,86.1700,155.0050,1340,   150.5, -0.2525, 34.5277,2, 34.5158,2,  -999.0,9,   299.8,2,    6.05,2,   10.24,2, -999.00,9,    0.72,2,-999.000,9,-999.000,9,-999.000,9,  -999.0,9,  2290.9,2,   7.6775,2,    25.00, -0.2542
06AQ19960712,ARKXII,69,1,16,167359,2,19960814,0747,86.1700,155.0050,1340,   200.9,  0.6480, 34.7283,2, 34.7304,2,  -999.0,9,   296.9,2,    6.15,2,   11.32,2, -999.00,9,    0.76,2,-999.000,9,-999.000,9,-999.000,9,  -999.0,9,  -999.0,9,-999.0000,9,  -999.00,  0.6434
06AQ19960712,ARKXII,69,1,14,167357,2,19960814,0747,86.1700,155.0050,1340,   250.3,  1.1231, 34.8316,2, 34.8517,2,  -999.0,9,   301.4,2,    5.56,2,   11.51,2, -999.00,9,    0.81,2,-999.000,9,-999.000,9,-999.000,9,  -999.0,9,  2300.6,2,   7.7141,2,    25.00,  1.1152
06AQ19960712,ARKXII,69,1,15,167358,2,19960814,0747,86.1700,155.0050,1340,   250.4,  1.0757, 34.8263,2,-999.0000,9,  -999.0,9,  -999.0,9, -999.00,9, -999.00,9, -999.00,9, -999.00,9,-999.000,9,-999.000,9,-999.000,9,  -999.0,9,  -999.0,9,-999.0000,9,  -999.00,-999.0000
06AQ19960712,ARKXII,69,1,13,167356,2,19960814,0747,86.1700,155.0050,1340,   300.7,  0.8071, 34.8336,2, 34.8342,2,  -999.0,9,   298.7,2,    6.05,2,   11.51,2, -999.00,9,    0.82,2,   3.794,2,   1.843,2,   4.556,2,  -999.0,9,  -999.0,9,-999.0000,9,  -999.00,  0.7974
06AQ19960712,ARKXII,69,1,12,167355,2,19960814,0747,86.1700,155.0050,1340,   399.4,  0.6639, 34.8573,2, 34.8577,2,  -999.0,9,   298.8,2,    6.24,2,   11.90,2, -999.00,9,    0.81,2,   3.306,2,   1.474,2,   4.405,2,  -999.0,9,  2300.5,2,   7.7006,2,    25.00,  0.6501
06AQ19960712,ARKXII,69,1,11,167354,2,19960814,0747,86.1700,155.0050,1340,   500.4,  0.4925, 34.8707,2, 34.8695,2,  -999.0,9,   299.1,2,    6.63,2,   12.00,2, -999.00,9,    0.83,2,   2.623,2,   1.200,2,   3.790,2,  -999.0,9,  -999.0,9,-999.0000,9,  -999.00,  0.4739
06AQ19960712,ARKXII,69,1,9,167352,2,19960814,0747,86.1700,155.0050,1340,   600.4,  0.2822, 34.8728,2, 34.8724,2,  -999.0,9,   301.6,2,    6.44,2,   11.90,2, -999.00,9,    0.82,2,   2.884,2,   1.243,2,   4.065,2,  -999.0,9,  2298.3,2,   7.6996,2,    25.00,  0.2600
06AQ19960712,ARKXII,69,1,10,167353,2,19960814,0747,86.1700,155.0050,1340,   600.4,  0.2902, 34.8723,2,-999.0000,9,  -999.0,9,  -999.0,9, -999.00,9, -999.00,9, -999.00,9, -999.00,9,-999.000,9,-999.000,9,-999.000,9,  -999.0,9,  -999.0,9,-999.0000,9,  -999.00,-999.0000
06AQ19960712,ARKXII,69,1,8,167351,2,19960814,0747,86.1700,155.0050,1340,   700.5,  0.0887, 34.8752,2, 34.8746,2,  -999.0,9,   302.6,2,    6.63,2,   12.10,2, -999.00,9,    0.85,2,   2.842,2,   1.194,2,   3.994,2,  -999.0,9,  -999.0,9,-999.0000,9,  -999.00,  0.0631
06AQ19960712,ARKXII,69,1,7,167350,2,19960814,0747,86.1700,155.0050,1340,   800.7, -0.0354, 34.8808,2, 34.8814,2,  -999.0,9,   303.1,2,    6.83,2,   12.20,2, -999.00,9,    0.84,2,-999.000,9,-999.000,9,-999.000,9,  -999.0,9,  -999.0,9,-999.0000,9,  -999.00, -0.0661
06AQ19960712,ARKXII,69,1,6,167349,2,19960814,0747,86.1700,155.0050,1340,   999.6, -0.2167, 34.8956,2, 34.8979,2,  -999.0,9,  -999.0,9,    7.51,2,   12.59,2, -999.00,9,    0.87,2,   2.229,2,   0.933,2,   3.125,2,  -999.0,9,  2297.1,2,   7.6948,2,    25.00, -0.2559
06AQ19960712,ARKXII,69,1,5,167348,2,19960814,0747,86.1700,155.0050,1340,  1187.2, -0.3343, 34.9099,2, 34.9101,2,  -999.0,9,   300.2,2,    8.39,2,   12.88,2, -999.00,9,    0.93,2,   1.375,2,   0.625,2,   2.501,2,  -999.0,9,  2299.7,2,   7.6986,2,    25.00, -0.3828
06AQ19960712,ARKXII,69,1,3,167346,2,19960814,0747,86.1700,155.0050,1340,  1239.4, -0.3541, 34.9138,2, 34.9136,2,  -999.0,9,   299.5,2,    8.78,2,   12.88,2, -999.00,9,    0.94,2,   1.159,2,   0.529,2,   2.049,2,  -999.0,9,  2298.5,2,   7.7141,2,    25.00, -0.4044
06AQ19960712,ARKXII,69,1,4,167347,2,19960814,0747,86.1700,155.0050,1340,  1239.5, -0.3541, 34.9128,2,-999.0000,9,  -999.0,9,  -999.0,9, -999.00,9, -999.00,9, -999.00,9, -999.00,9,-999.000,9,-999.000,9,-999.000,9,  -999.0,9,  -999.0,9,-999.0000,9,  -999.00,-999.0000
06AQ19960712,ARKXII,69,1,2,167345,2,19960814,0747,86.1700,155.0050,1340,  1287.7, -0.3599, 34.9180,2,-999.0000,9,  -999.0,9,  -999.0,9, -999.00,9, -999.00,9, -999.00,9, -999.00,9,-999.000,9,-999.000,9,-999.000,9,  -999.0,9,  -999.0,9,-999.0000,9,  -999.00,-999.0000
06AQ19960712,ARKXII,69,1,1,167344,2,19960814,0747,86.1700,155.0050,1340,  1287.7, -0.3604, 34.9184,2, 34.9183,2,  -999.0,9,   297.4,2,    8.88,2,   12.88,2, -999.00,9,    0.96,2,   1.105,2,   0.504,2,   1.746,2,  -999.0,9,  2300.4,2,   7.7054,2,    25.00, -0.4141
06AQ19960712,ARKXII,70,1,36,167415,2,19960814,1310,85.9900,159.9733,2217,     2.3, -1.5735, 33.2054,2,-999.0000,9,  -999.0,9,  -999.0,9, -999.00,9, -999.00,9, -999.00,9, -999.00,9,-999.000,9,-999.000,9,-999.000,9,  -999.0,9,  -999.0,9,-999.0000,9,  -999.00,-999.0000
06AQ19960712,ARKXII,70,1,35,167414,2,19960814,1310,85.9900,159.9733,2217,     9.2, -1.5762, 33.2061,2,-999.0000,9,  -999.0,9,  -999.0,9, -999.00,9, -999.00,9, -999.00,9, -999.00,9,-999.000,9,-999.000,9,-999.000,9,  -999.0,9,  -999.0,9,-999.0000,9,  -999.00,-999.0000
06AQ19960712,ARKXII,70,1,34,167413,2,19960814,1310,85.9900,159.9733,2217,     9.2, -1.5764, 33.2063,2, 33.2050,2,  -999.0,9,   372.8,2,    2.54,2,    3.32,2, -999.00,9,    0.34,2,   7.339,2,   3.498,2,   8.196,2,  2102.1,2,  2243.2,2,   7.7290,2,    25.00, -1.5732
06AQ19960712,ARKXII,70,1,33,167412,2,19960814,1310,85.9900,159.9733,2217,    17.8, -1.5762, 33.2071,2,-999.0000,9,  -999.0,9,  -999.0,9, -999.00,9, -999.00,9, -999.00,9, -999.00,9,-999.000,9,-999.000,9,-999.000,9,  -999.0,9,  -999.0,9,-999.0000,9,  -999.00,-999.0000
06AQ19960712,ARKXII,70,1,32,167411,2,19960814,1310,85.9900,159.9733,2217,    20.7, -1.5917, 33.2141,2, 33.2459,2,  -999.0,9,   373.6,2,    2.63,2,    3.32,2, -999.00,9,    0.35,2,   6.989,2,   3.290,2,   7.932,2,  -999.0,9,  -999.0,9,-999.0000,9,  -999.00, -1.5884
06AQ19960712,ARKXII,70,1,31,167410,2,19960814,1310,85.9900,159.9733,2217,    29.9, -1.6655, 33.4159,2,-999.0000,9,  -999.0,9,  -999.0,9, -999.00,9, -999.00,9, -999.00,9, -999.00,9,-999.000,9,-999.000,9,-999.000,9,  -999.0,9,  -999.0,9,-999.0000,9,  -999.00,-999.0000
06AQ19960712,ARKXII,70,1,30,167409,2,19960814,1310,85.9900,159.9733,2217,    30.0, -1.6685, 33.4268,2, 33.5510,2,  -999.0,9,   370.8,2,    2.83,2,    3.90,2, -999.00,9,    0.40,2,-999.000,9,-999.000,9,-999.000,9,  2112.5,2,  2259.4,2,   7.7260,2,    25.00, -1.6656
06AQ19960712,ARKXII,70,1,29,167408,2,19960814,1310,85.9900,159.9733,2217,    39.9, -1.7725, 33.6297,2,-999.0000,9,  -999.0,9,  -999.0,9, -999.00,9, -999.00,9, -999.00,9, -999.00,9,-999.000,9,-999.000,9,-999.000,9,  -999.0,9,  -999.0,9,-999.0000,9,  -999.00,-999.0000
06AQ19960712,ARKXII,70,1,28,167407,2,19960814,1310,85.9900,159.9733,2217,    39.9, -1.7736, 33.6317,2, 33.6596,2,  -999.0,9,   370.6,2,    3.12,2,    4.20,2, -999.00,9,    0.44,2,   6.951,2,   3.344,2,   6.507,2,  -999.0,9,  -999.0,9,-999.0000,9,  -999.00, -1.7707
06AQ19960712,ARKXII,70,1,27,167406,2,19960814,1310,85.9900,159.9733,2217,    50.0, -1.7940, 33.7829,2,-999.0000,9,  -999.0,9,  -999.0,9, -999.00,9, -999.00,9, -999.00,9, -999.00,9,-999.000,9,-999.000,9,-999.000,9,  -999.0,9,  -999.0,9,-999.0000,9,  -999.00,-999.0000
06AQ19960712,ARKXII,70,1,26,167405,2,19960814,1310,85.9900,159.9733,2217,    60.0, -1.8329, 33.8473,2, 33.8543,2,  -999.0,9,   364.6,2,    3.22,2,    4.78,2, -999.00,9,    0.47,2,   6.712,2,   3.188,2,   5.907,2,  2127.5,2,  2277.6,2,   7.7153,2,    25.00, -1.8311
06AQ19960712,ARKXII,70,1,24,167403,2,19960814,1310,85.9900,159.9733,2217,    80.5, -1.7526, 33.9767,2, 34.0018,2,  -999.0,9,   337.5,2,    4.88,2,    6.73,2, -999.00,9,    0.59,2,   5.887,2,   2.680,2,   4.840,2,  2143.8,2,  2277.9,2,   7.6787,2,    25.00, -1.7506
06AQ19960712,ARKXII,70,1,25,167404,2,19960814,1310,85.9900,159.9733,2217,    80.5, -1.7552, 33.9733,2,-999.0000,9,  -999.0,9,  -999.0,9, -999.00,9, -999.00,9, -999.00,9, -999.00,9,-999.000,9,-999.000,9,-999.000,9,  -999.0,9,  -999.0,9,-999.0000,9,  -999.00,-999.0000
06AQ19960712,ARKXII,70,1,22,167401,2,19960814,1310,85.9900,159.9733,2217,    99.7, -1.5330, 34.1247,2, 34.1318,2,  -999.0,9,   317.6,2,    5.37,2,    8.39,2, -999.00,9,    0.66,2,   5.342,2,   2.442,2,   4.490,2,  2143.1,2,  2263.0,2,   7.6633,2,    25.00, -1.5322
06AQ19960712,ARKXII,70,1,23,167402,2,19960814,1310,85.9900,159.9733,2217,    99.7, -1.5368, 34.1225,2,-999.0000,9,  -999.0,9,  -999.0,9, -999.00,9, -999.00,9, -999.00,9, -999.00,9,-999.000,9,-999.000,9,-999.000,9,  -999.0,9,  -999.0,9,-999.0000,9,  -999.00,-999.0000
06AQ19960712,ARKXII,70,1,20,167399,2,19960814,1310,85.9900,159.9733,2217,   149.7, -0.3040, 34.5036,2, 34.5052,2,  -999.0,9,   300.6,2,    6.05,2,   10.15,2, -999.00,9,    0.76,2,   4.095,2,   2.003,2,   3.967,2,  2146.1,2,  2275.0,2,   7.6699,2,    25.00, -0.3051
06AQ19960712,ARKXII,70,1,21,167400,2,19960814,1310,85.9900,159.9733,2217,   149.8, -0.3031, 34.5041,2,-999.0000,9,  -999.0,9,  -999.0,9, -999.00,9, -999.00,9, -999.00,9, -999.00,9,-999.000,9,-999.000,9,-999.000,9,  -999.0,9,  -999.0,9,-999.0000,9,  -999.00,-999.0000
06AQ19960712,ARKXII,70,1,18,167397,2,19960814,1310,85.9900,159.9733,2217,   200.1,  1.0356, 34.7738,2, 34.7763,2,  -999.0,9,   299.2,2,    5.76,2,   11.61,2, -999.00,9,    0.81,2,   4.094,2,   1.838,2,   4.556,2,  -999.0,9,  -999.0,9,-999.0000,9,  -999.00,  1.0308
06AQ19960712,ARKXII,70,1,19,167398,2,19960814,1310,85.9900,159.9733,2217,   200.9,  1.1317, 34.7896,2,-999.0000,9,  -999.0,9,  -999.0,9, -999.00,9, -999.00,9, -999.00,9, -999.00,9,-999.000,9,-999.000,9,-999.000,9,  -999.0,9,  -999.0,9,-999.0000,9,  -999.00,-999.0000
06AQ19960712,ARKXII,70,1,16,167395,2,19960814,1310,85.9900,159.9733,2217,   250.6,  1.4723, 34.8670,2,-999.0000,9,  -999.0,9,  -999.0,9, -999.00,9, -999.00,9, -999.00,9, -999.00,9,-999.000,9,-999.000,9,-999.000,9,  -999.0,9,  -999.0,9,-999.0000,9,  -999.00,-999.0000
06AQ19960712,ARKXII,70,1,17,167396,2,19960814,1310,85.9900,159.9733,2217,   251.0,  1.4768, 34.8688,2, 34.8660,2,  -999.0,9,   302.1,2,    5.66,2,   11.71,2, -999.00,9,    0.82,2,   4.613,2,   2.160,2,   5.322,2,  2139.0,2,  2302.5,2,   7.7083,2,    25.00,  1.4684
06AQ19960712,ARKXII,70,1,14,167393,2,19960814,1310,85.9900,159.9733,2217,   299.3,  0.9824, 34.8434,2,-999.0000,9,  -999.0,9,  -999.0,9, -999.00,9, -999.00,9, -999.00,9, -999.00,9,-999.000,9,-999.000,9,-999.000,9,  -999.0,9,  -999.0,9,-999.0000,9,  -999.00,-999.0000
06AQ19960712,ARKXII,70,1,15,167394,2,19960814,1310,85.9900,159.9733,2217,   299.6,  0.9729, 34.8435,2, 34.8448,2,  -999.0,9,   300.6,2,    5.95,2,   11.90,2, -999.00,9,    0.82,2,   3.985,2,   1.752,2,   4.733,2,  -999.0,9,  -999.0,9,-999.0000,9,  -999.00,  0.9631
06AQ19960712,ARKXII,70,1,13,167392,2,19960814,1310,85.9900,159.9733,2217,   399.9,  0.6571, 34.8557,2, 34.8534,2,  -999.0,9,   299.3,2,    6.44,2,   11.90,2, -999.00,9,    0.85,2,   3.149,2,   1.454,2,   4.411,2,  2150.7,2,  2291.8,2,   7.7025,2,    25.00,  0.6431
06AQ19960712,ARKXII,70,1,12,167391,2,19960814,1310,85.9900,159.9733,2217,   500.0,  0.4593, 34.8695,2, 34.8679,2,  -999.0,9,   298.2,2,    6.44,2,   12.00,2, -999.00,9,    0.84,2,   2.439,2,   1.083,2,   3.528,2,  -999.0,9,  -999.0,9,-999.0000,9,  -999.00,  0.4410
06AQ19960712,ARKXII,70,1,11,167390,2,19960814,1310,85.9900,159.9733,2217,   600.6,  0.2751, 34.8734,2, 34.8732,2,  -999.0,9,   301.4,2,    6.73,2,   12.00,2, -999.00,9,    0.84,2,   2.702,2,   1.223,2,   3.842,2,  2150.0,2,  2294.8,2,   7.7015,2,    25.00,  0.2529
06AQ19960712,ARKXII,70,1,10,167389,2,19960814,1310,85.9900,159.9733,2217,   700.9,  0.0760, 34.8743,2, 34.8755,2,  -999.0,9,   303.8,2,    6.34,2,   11.80,2, -999.00,9,    0.84,2,   3.226,2,   1.539,2,   4.386,2,  -999.0,9,  -999.0,9,-999.0000,9,  -999.00,  0.0501
06AQ19960712,ARKXII,70,1,9,167388,2,19960814,1310,85.9900,159.9733,2217,   800.7, -0.0560, 34.8810,2, 34.8788,2,  -999.0,9,   303.3,2,    6.73,2,   11.80,2, -999.00,9,    0.86,2,   2.608,2,   1.220,2,   3.787,2,  -999.0,9,  -999.0,9,-999.0000,9,  -999.00, -0.0860
06AQ19960712,ARKXII,70,1,8,167387,2,19960814,1310,85.9900,159.9733,2217,  1000.6, -0.2122, 34.8961,2, 34.8976,2,  -999.0,9,   301.9,2,    7.41,2,   12.10,2, -999.00,9,    0.87,2,-999.000,9,-999.000,9,-999.000,9,  2153.6,2,  2293.8,2,   7.6977,2,    25.00, -0.2520
06AQ19960712,ARKXII,70,1,7,167386,2,19960814,1310,85.9900,159.9733,2217,  1199.9, -0.3034, 34.9146,2, 34.9139,2,  -999.0,9,   298.7,2,    8.39,2,   12.78,2, -999.00,9,    0.91,2,   0.429,2,   0.190,2,   1.369,2,  2147.4,2,  2301.4,2,   7.7063,2,    25.00, -0.3528
06AQ19960712,ARKXII,70,1,6,167385,2,19960814,1310,85.9900,159.9733,2217,  1400.7, -0.4242, 34.9234,2, 34.9241,2,  -999.0,9,   296.4,2,    9.95,2,   13.17,2, -999.00,9,    0.97,2,-999.000,9,-999.000,9,-999.000,9,  2152.1,2,  2296.6,2,   7.7025,2,    25.00, -0.4828
06AQ19960712,ARKXII,70,1,5,167384,2,19960814,1310,85.9900,159.9733,2217,  1600.6, -0.4403, 34.9344,2, 34.9347,2,  -999.0,9,   292.3,2,   10.93,2,   13.27,2, -999.00,9,    0.98,2,   0.331,2,   0.160,2,   0.851,2,  2150.8,2,  2295.8,2,   7.7034,2,    25.00, -0.5114
06AQ19960712,ARKXII,70,1,4,167383,2,19960814,1310,85.9900,159.9733,2217,  1850.7, -0.4335, 34.9417,2, 34.9425,2,  -999.0,9,   289.4,2,   11.71,2,   13.56,2, -999.00,9,    0.97,2,-999.000,9,-999.000,9,-999.000,9,  -999.0,9,  -999.0,9,-999.0000,9,  -999.00, -0.5201
06AQ19960712,ARKXII,70,1,3,167382,2,19960814,1310,85.9900,159.9733,2217,  2065.1, -0.4308, 34.9452,2, 34.9443,2,  -999.0,9,   288.3,2,   12.10,2,   13.76,2, -999.00,9,    0.99,2,   0.152,2,   0.070,2,   0.301,2,  2153.5,2,  2300.9,2,   7.7044,2,    25.00, -0.5314
06AQ19960712,ARKXII,70,1,2,167381,2,19960814,1310,85.9900,159.9733,2217,  2117.1, -0.4185, 34.9472,2, 34.9468,2,  -999.0,9,   287.5,2,   12.29,2,   13.85,2, -999.00,9,    0.96,2,-999.000,9,-999.000,9,-999.000,9,  2150.8,2,  2295.9,2,   7.7025,2,    25.00, -0.5232
06AQ19960712,ARKXII,70,1,1,167380,2,19960814,1310,85.9900,159.9733,2217,  2167.0, -0.4136, 34.9456,2, 34.9448,2,  -999.0,9,   287.4,2,   12.49,2,   14.05,2, -999.00,9,    0.99,2,   0.052,2,   0.029,2,   0.159,2,  2155.6,2,  2300.4,2,   7.7054,2,    25.00, -0.5217