BOTTLE,20100322CCHDOSIODM
EXPOCODE,SECT_ID,STNNBR,CASTNO,SAMPNO,BTLNBR,BTLNBR_FLAG_W,DATE,TIME,LATITUDE,LONGITUDE,DEPTH,CTDPRS,CTDTMP,CTDSAL,CTDSAL_FLAG_W,SALNTY,SALNTY_FLAG_W,CTDOXY,CTDOXY_FLAG_W,OXYGEN,OXYGEN_FLAG_W,SILCAT,SILCAT_FLAG_W,NITRAT,NITRAT_FLAG_W,NITRIT,NITRIT_FLAG_W,PHSPHT,PHSPHT_FLAG_W,CFC-11,CFC-11_FLAG_W,CFC-12,CFC-12_FLAG_W,CCL4,CCL4_FLAG_W,TCARBN,TCARBN_FLAG_W,ALKALI,ALKALI_FLAG_W,PH_SWS,PH_SWS_FLAG_W,PH_TMP,THETA
,,,,,,,,,,,METERS,DBAR,ITS-90,PSS-78,,PSS-78,,UMOL/KG,,UMOL/KG,,UMOL/KG,,UMOL/KG,,UMOL/KG,,UMOL/KG,,PMOL/KG,,PMOL/KG,,PMOL/KG,,UMOL/KG,,UMOL/KG,,,,DEG C,DEG C
06AQ19960712,ARKXII,54,2,9,-999.0,2,19960809,0054,85.7633,117.7250,4370,     1.6, -1.6326, 33.8346,2,-999.0000,9,  -999.0,9,  -999.0,9, -999.00,9, -999.00,9, -999.00,9, -999.00,9,-999.000,9,-999.000,9,-999.000,9,  -999.0,9,  -999.0,9,-999.0000,9,  -999.00,-999.0000
06AQ19960712,ARKXII,54,2,8,166851,2,19960809,0054,85.7633,117.7250,4370,    10.6, -1.6349, 33.8290,2, 33.8459,2,  -999.0,9,   375.2,2,    2.24,2,    3.90,2, -999.00,9,    0.39,2,-999.000,9,-999.000,9,-999.000,9,  -999.0,9,  -999.0,9,-999.0000,9,  -999.00, -1.6352
06AQ19960712,ARKXII,54,2,7,166850,2,19960809,0054,85.7633,117.7250,4370,    20.2, -1.6307, 33.8374,2,-999.0000,9,  -999.0,9,  -999.0,9, -999.00,9, -999.00,9, -999.00,9, -999.00,9,-999.000,9,-999.000,9,-999.000,9,  -999.0,9,  -999.0,9,-999.0000,9,  -999.00,-999.0000
06AQ19960712,ARKXII,54,2,6,166849,2,19960809,0054,85.7633,117.7250,4370,    20.2, -1.6296, 33.8466,2,-999.0000,9,  -999.0,9,  -999.0,9, -999.00,9, -999.00,9, -999.00,9, -999.00,9,-999.000,9,-999.000,9,-999.000,9,  -999.0,9,  -999.0,9,-999.0000,9,  -999.00,-999.0000
06AQ19960712,ARKXII,54,2,5,166848,2,19960809,0054,85.7633,117.7250,4370,    20.2, -1.6305, 33.8468,2, 33.8959,2,  -999.0,9,   375.4,2,    2.24,2,    3.80,2, -999.00,9,    0.39,2,-999.000,9,-999.000,9,-999.000,9,  -999.0,9,  -999.0,9,-999.0000,9,  -999.00, -1.6314
06AQ19960712,ARKXII,54,2,4,166847,2,19960809,0054,85.7633,117.7250,4370,    30.2, -1.7689, 34.0021,2, 34.0779,2,  -999.0,9,   368.8,2,    2.54,2,    4.88,2, -999.00,9,    0.46,2,-999.000,9,-999.000,9,-999.000,9,  -999.0,9,  -999.0,9,-999.0000,9,  -999.00, -1.7696
06AQ19960712,ARKXII,54,2,3,166846,2,19960809,0054,85.7633,117.7250,4370,    40.6, -1.8222, 34.1129,2, 34.1339,2,  -999.0,9,   365.2,2,    2.63,2,    4.98,2, -999.00,9,    0.49,2,-999.000,9,-999.000,9,-999.000,9,  -999.0,9,  -999.0,9,-999.0000,9,  -999.00, -1.8238
06AQ19960712,ARKXII,54,2,2,166845,2,19960809,0054,85.7633,117.7250,4370,    60.1, -1.8096, 34.1824,2, 34.2018,2,  -999.0,9,   356.2,2,    2.73,2,    5.85,2, -999.00,9,    0.49,2,-999.000,9,-999.000,9,-999.000,9,  -999.0,9,  -999.0,9,-999.0000,9,  -999.00, -1.8112
06AQ19960712,ARKXII,54,2,1,166844,2,19960809,0054,85.7633,117.7250,4370,    80.0, -1.4530, 34.2579,2, 34.2540,2,  -999.0,9,   341.8,2,    3.32,2,    7.02,2, -999.00,9,    0.57,2,-999.000,9,-999.000,9,-999.000,9,  -999.0,9,  -999.0,9,-999.0000,9,  -999.00, -1.4548
06AQ19960712,ARKXII,55,1,36,166887,2,19960809,0759,85.8783,121.2350,4427,   800.4, -0.0243, 34.8827,2, 34.8825,2,  -999.0,9,   305.3,2,    6.44,2,   11.51,2, -999.00,9,    0.86,2,-999.000,9,-999.000,9,-999.000,9,  -999.0,9,  -999.0,9,-999.0000,9,  -999.00, -0.0551
06AQ19960712,ARKXII,55,1,35,166886,2,19960809,0759,85.8783,121.2350,4427,  1001.0, -0.2377, 34.8937,2, 34.8942,2,  -999.0,9,   304.0,2,    7.22,2,   11.80,2, -999.00,9,    0.88,2,   2.821,2,   1.191,2,   3.975,2,  2151.1,2,  2292.3,2,   7.6871,2,    25.00, -0.2768
06AQ19960712,ARKXII,55,1,34,166885,2,19960809,0759,85.8783,121.2350,4427,  1200.5, -0.3789, 34.9063,2, 34.9064,2,  -999.0,9,   303.0,2,    7.90,2,   12.10,2, -999.00,9,    0.89,2,-999.000,9,-999.000,9,-999.000,9,  -999.0,9,  -999.0,9,-999.0000,9,  -999.00, -0.4271
06AQ19960712,ARKXII,55,1,33,166884,2,19960809,0759,85.8783,121.2350,4427,  1399.9, -0.5015, 34.9145,2, 34.9136,2,  -999.0,9,   301.1,2,    8.68,2,   12.49,2, -999.00,9,    0.91,2,   1.595,2,   0.507,2,   2.535,2,  -999.0,9,  -999.0,9,-999.0000,9,  -999.00, -0.5598
06AQ19960712,ARKXII,55,1,28,166879,2,19960809,0759,85.8783,121.2350,4427,  1501.0, -0.5580, 34.9168,2,-999.0000,9,  -999.0,9,  -999.0,9, -999.00,9, -999.00,9, -999.00,9, -999.00,9,-999.000,9,-999.000,9,-999.000,9,  -999.0,9,  -999.0,9,-999.0000,9,  -999.00,-999.0000
06AQ19960712,ARKXII,55,1,29,166880,2,19960809,0759,85.8783,121.2350,4427,  1501.1, -0.5582, 34.9156,2,-999.0000,9,  -999.0,9,  -999.0,9, -999.00,9, -999.00,9, -999.00,9, -999.00,9,-999.000,9,-999.000,9,-999.000,9,  -999.0,9,  -999.0,9,-999.0000,9,  -999.00,-999.0000
06AQ19960712,ARKXII,55,1,32,166883,2,19960809,0759,85.8783,121.2350,4427,  1501.2, -0.5581, 34.9165,2,-999.0000,9,  -999.0,9,  -999.0,9, -999.00,9, -999.00,9, -999.00,9, -999.00,9,-999.000,9,-999.000,9,-999.000,9,  -999.0,9,  -999.0,9,-999.0000,9,  -999.00,-999.0000
06AQ19960712,ARKXII,55,1,30,166881,2,19960809,0759,85.8783,121.2350,4427,  1501.2, -0.5581, 34.9145,2,-999.0000,9,  -999.0,9,  -999.0,9, -999.00,9, -999.00,9, -999.00,9, -999.00,9,-999.000,9,-999.000,9,-999.000,9,  -999.0,9,  -999.0,9,-999.0000,9,  -999.00,-999.0000
06AQ19960712,ARKXII,55,1,31,166882,2,19960809,0759,85.8783,121.2350,4427,  1501.2, -0.5583, 34.9141,2,-999.0000,9,  -999.0,9,  -999.0,9, -999.00,9, -999.00,9, -999.00,9, -999.00,9,-999.000,9,-999.000,9,-999.000,9,  -999.0,9,  -999.0,9,-999.0000,9,  -999.00,-999.0000
06AQ19960712,ARKXII,55,1,27,166878,2,19960809,0759,85.8783,121.2350,4427,  1601.4, -0.5992, 34.9186,2, 34.9181,2,  -999.0,9,   300.4,2,    9.46,2,   12.68,2, -999.00,9,    0.94,2,-999.000,9,-999.000,9,-999.000,9,  -999.0,9,  -999.0,9,-999.0000,9,  -999.00, -0.6683
06AQ19960712,ARKXII,55,1,26,166877,2,19960809,0759,85.8783,121.2350,4427,  1800.8, -0.6644, 34.9210,2, 34.9202,2,  -999.0,9,   299.4,2,   10.15,2,   13.17,2, -999.00,9,    0.96,2,   0.632,2,   0.237,2,   1.488,2,  2149.4,2,  2297.1,2,   7.6948,2,    25.00, -0.7445
06AQ19960712,ARKXII,55,1,25,166876,2,19960809,0759,85.8783,121.2350,4427,  2001.0, -0.7223, 34.9164,2, 34.9196,2,  -999.0,9,   300.4,2,   10.24,2,   13.27,2, -999.00,9,    0.96,2,-999.000,9,-999.000,9,-999.000,9,  -999.0,9,  -999.0,9,-999.0000,9,  -999.00, -0.8144
06AQ19960712,ARKXII,55,1,24,166875,2,19960809,0759,85.8783,121.2350,4427,  2199.5, -0.7564, 34.9233,2, 34.9229,2,  -999.0,9,   300.1,2,   10.54,2, -999.00,9, -999.00,9,    0.97,2,-999.000,9,-999.000,9,-999.000,9,  -999.0,9,  -999.0,9,-999.0000,9,  -999.00, -0.8611
06AQ19960712,ARKXII,55,1,23,166874,2,19960809,0759,85.8783,121.2350,4427,  2399.9, -0.7769, 34.9256,2, 34.9225,2,  -999.0,9,   300.2,2,   10.63,2, -999.00,9, -999.00,9,    0.98,2,   0.374,2,   0.125,2,   0.888,2,  -999.0,9,  -999.0,9,-999.0000,9,  -999.00, -0.8946
06AQ19960712,ARKXII,55,1,21,166872,2,19960809,0759,85.8783,121.2350,4427,  2500.0, -0.7824, 34.9264,2,-999.0000,9,  -999.0,9,  -999.0,9, -999.00,9, -999.00,9, -999.00,9, -999.00,9,-999.000,9,-999.000,9,-999.000,9,  -999.0,9,  -999.0,9,-999.0000,9,  -999.00,-999.0000
06AQ19960712,ARKXII,55,1,22,166873,2,19960809,0759,85.8783,121.2350,4427,  2500.0, -0.7824, 34.9264,2,-999.0000,9,  -999.0,9,  -999.0,9, -999.00,9, -999.00,9, -999.00,9, -999.00,9,-999.000,9,-999.000,9,-999.000,9,  -999.0,9,  -999.0,9,-999.0000,9,  -999.00,-999.0000
06AQ19960712,ARKXII,55,1,20,166871,2,19960809,0759,85.8783,121.2350,4427,  2500.1, -0.7823, 34.9262,2,-999.0000,9,  -999.0,9,  -999.0,9, -999.00,9, -999.00,9, -999.00,9, -999.00,9,-999.000,9,-999.000,9,-999.000,9,  -999.0,9,  -999.0,9,-999.0000,9,  -999.00,-999.0000
06AQ19960712,ARKXII,55,1,18,166869,2,19960809,0759,85.8783,121.2350,4427,  2500.2, -0.7824, 34.9263,2,-999.0000,9,  -999.0,9,  -999.0,9, -999.00,9, -999.00,9, -999.00,9, -999.00,9,-999.000,9,-999.000,9,-999.000,9,  -999.0,9,  -999.0,9,-999.0000,9,  -999.00,-999.0000
06AQ19960712,ARKXII,55,1,19,166870,2,19960809,0759,85.8783,121.2350,4427,  2500.2, -0.7823, 34.9262,2,-999.0000,9,  -999.0,9,  -999.0,9, -999.00,9, -999.00,9, -999.00,9, -999.00,9,-999.000,9,-999.000,9,-999.000,9,  -999.0,9,  -999.0,9,-999.0000,9,  -999.00,-999.0000
06AQ19960712,ARKXII,55,1,17,166868,2,19960809,0759,85.8783,121.2350,4427,  2600.5, -0.7858, 34.9275,2, 34.9268,2,  -999.0,9,   300.1,2,   10.63,2,   13.56,2, -999.00,9,    0.98,2,-999.000,9,-999.000,9,-999.000,9,  2149.3,2,  2295.2,2,   7.7025,2,    25.00, -0.9181
06AQ19960712,ARKXII,55,1,16,166867,2,19960809,0759,85.8783,121.2350,4427,  2800.7, -0.7849, 34.9303,2, 34.9303,2,  -999.0,9,   299.4,2,   10.73,2,   13.56,2, -999.00,9,    0.99,2,-999.000,9,-999.000,9,-999.000,9,  -999.0,9,  -999.0,9,-999.0000,9,  -999.00, -0.9323
06AQ19960712,ARKXII,55,1,15,166866,2,19960809,0759,85.8783,121.2350,4427,  3000.8, -0.7793, 34.9290,2, 34.9316,2,  -999.0,9,   298.9,2,   10.83,2,   13.66,2, -999.00,9,    0.98,2,   0.342,2,   0.057,2,   0.505,2,  -999.0,9,  -999.0,9,-999.0000,9,  -999.00, -0.9433
06AQ19960712,ARKXII,55,1,14,166865,2,19960809,0759,85.8783,121.2350,4427,  3200.5, -0.7694, 34.9348,2, 34.9347,2,  -999.0,9,   298.4,2,   10.93,2,   13.56,2, -999.00,9,    0.97,2,-999.000,9,-999.000,9,-999.000,9,  -999.0,9,  -999.0,9,-999.0000,9,  -999.00, -0.9500
06AQ19960712,ARKXII,55,1,13,166864,2,19960809,0759,85.8783,121.2350,4427,  3399.9, -0.7571, 34.9364,2, 34.9366,2,  -999.0,9,   298.9,2,   10.83,2,   13.56,2, -999.00,9,    0.97,2,-999.000,9,-999.000,9,-999.000,9,  2151.4,2,  2298.6,2,   7.7005,2,    25.00, -0.9553
06AQ19960712,ARKXII,55,1,12,166863,2,19960809,0759,85.8783,121.2350,4427,  3600.3, -0.7393, 34.9394,2, 34.9380,2,  -999.0,9,   298.6,2,   10.93,2,   13.56,2, -999.00,9,    0.97,2,-999.000,9,   0.064,2,   0.477,2,  -999.0,9,  -999.0,9,-999.0000,9,  -999.00, -0.9555
06AQ19960712,ARKXII,55,1,11,166862,2,19960809,0759,85.8783,121.2350,4427,  3800.0, -0.7139, 34.9410,2, 34.9432,2,  -999.0,9,   297.3,2,   11.22,2,   13.56,2, -999.00,9,    0.96,2,-999.000,9,-999.000,9,-999.000,9,  -999.0,9,  -999.0,9,-999.0000,9,  -999.00, -0.9485
06AQ19960712,ARKXII,55,1,10,166861,2,19960809,0759,85.8783,121.2350,4427,  4000.2, -0.6936, 34.9417,2, 34.9410,2,  -999.0,9,   298.0,2,   11.22,2,   13.56,2, -999.00,9,    0.96,2,-999.000,9,-999.000,9,-999.000,9,  -999.0,9,  -999.0,9,-999.0000,9,  -999.00, -0.9480
06AQ19960712,ARKXII,55,1,9,166860,2,19960809,0759,85.8783,121.2350,4427,  4200.4, -0.6733, 34.9379,2, 34.9390,2,  -999.0,9,   297.9,2,   11.22,2,   13.46,2, -999.00,9,    0.96,2,   0.238,2,   0.056,2,   0.395,2,  -999.0,9,  -999.0,9,-999.0000,9,  -999.00, -0.9481
06AQ19960712,ARKXII,55,1,8,166859,2,19960809,0759,85.8783,121.2350,4427,  4336.3, -0.6593, 34.9408,2, 34.9412,2,  -999.0,9,   297.9,2,   11.12,2,   13.46,2, -999.00,9,    0.97,2,-999.000,9,-999.000,9,-999.000,9,  2145.9,2,  2297.6,2,   7.7034,2,    25.00, -0.9482
06AQ19960712,ARKXII,55,1,7,166858,2,19960809,0759,85.8783,121.2350,4427,  4387.4, -0.6540, 34.9411,2, 34.9408,2,  -999.0,9,   298.3,2,   11.02,2,   13.37,2, -999.00,9,    0.95,2,-999.000,9,-999.000,9,-999.000,9,  2146.4,2,  2297.0,2,   7.7054,2,    25.00, -0.9476
06AQ19960712,ARKXII,55,1,1,166852,2,19960809,0759,85.8783,121.2350,4427,  4438.6, -0.6479, 34.9408,2, 34.9413,2,  -999.0,9,   297.2,2,   11.02,2,   13.37,2, -999.00,9,    0.97,2,-999.000,9,   0.054,2,   0.399,2,  2148.4,2,  2297.3,2,   7.7054,2,    25.00, -0.9471
06AQ19960712,ARKXII,55,1,2,166853,2,19960809,0759,85.8783,121.2350,4427,  4438.8, -0.6477, 34.9408,2,-999.0000,9,  -999.0,9,  -999.0,9, -999.00,9, -999.00,9, -999.00,9, -999.00,9,-999.000,9,-999.000,9,-999.000,9,  -999.0,9,  -999.0,9,-999.0000,9,  -999.00,-999.0000
06AQ19960712,ARKXII,55,1,3,166854,2,19960809,0759,85.8783,121.2350,4427,  4438.9, -0.6479, 34.9409,2,-999.0000,9,  -999.0,9,  -999.0,9, -999.00,9, -999.00,9, -999.00,9, -999.00,9,-999.000,9,-999.000,9,-999.000,9,  -999.0,9,  -999.0,9,-999.0000,9,  -999.00,-999.0000
06AQ19960712,ARKXII,55,1,4,166855,2,19960809,0759,85.8783,121.2350,4427,  4439.0, -0.6480, 34.9411,2,-999.0000,9,  -999.0,9,  -999.0,9, -999.00,9, -999.00,9, -999.00,9, -999.00,9,-999.000,9,-999.000,9,-999.000,9,  -999.0,9,  -999.0,9,-999.0000,9,  -999.00,-999.0000
06AQ19960712,ARKXII,55,1,5,166856,2,19960809,0759,85.8783,121.2350,4427,  4439.1, -0.6477, 34.9411,2,-999.0000,9,  -999.0,9,  -999.0,9, -999.00,9, -999.00,9, -999.00,9, -999.00,9,-999.000,9,-999.000,9,-999.000,9,  -999.0,9,  -999.0,9,-999.0000,9,  -999.00,-999.0000
06AQ19960712,ARKXII,55,1,6,166857,2,19960809,0759,85.8783,121.2350,4427,  4439.2, -0.6477, 34.9409,2,-999.0000,9,  -999.0,9,  -999.0,9, -999.00,9, -999.00,9, -999.00,9, -999.00,9,-999.000,9,-999.000,9,-999.000,9,  -999.0,9,  -999.0,9,-999.0000,9,  -999.00,-999.0000