BOTTLE,20100322CCHDOSIODM
EXPOCODE,SECT_ID,STNNBR,CASTNO,SAMPNO,BTLNBR,BTLNBR_FLAG_W,DATE,TIME,LATITUDE,LONGITUDE,DEPTH,CTDPRS,CTDTMP,CTDSAL,CTDSAL_FLAG_W,SALNTY,SALNTY_FLAG_W,CTDOXY,CTDOXY_FLAG_W,OXYGEN,OXYGEN_FLAG_W,SILCAT,SILCAT_FLAG_W,NITRAT,NITRAT_FLAG_W,NITRIT,NITRIT_FLAG_W,PHSPHT,PHSPHT_FLAG_W,CFC-11,CFC-11_FLAG_W,CFC-12,CFC-12_FLAG_W,CCL4,CCL4_FLAG_W,TCARBN,TCARBN_FLAG_W,ALKALI,ALKALI_FLAG_W,PH_SWS,PH_SWS_FLAG_W,PH_TMP,THETA
,,,,,,,,,,,METERS,DBAR,ITS-90,PSS-78,,PSS-78,,UMOL/KG,,UMOL/KG,,UMOL/KG,,UMOL/KG,,UMOL/KG,,UMOL/KG,,PMOL/KG,,PMOL/KG,,PMOL/KG,,UMOL/KG,,UMOL/KG,,,,DEG C,DEG C
06AQ19960712,ARKXII,60,1,30,167117,2,19960812,1116,86.4433,138.9900,3018,    10.2, -1.6031, 33.1699,2, 33.1717,2,  -999.0,9,   371.7,2,    2.63,2,    3.12,2, -999.00,9,    0.37,2,-999.000,9,-999.000,9,-999.000,9,  -999.0,9,  2238.4,2,   7.7445,2,    25.00, -1.6002
06AQ19960712,ARKXII,60,1,29,167116,2,19960812,1116,86.4433,138.9900,3018,    20.5, -1.6041, 33.1692,2, 33.1680,2,  -999.0,9,   372.1,2,    2.63,2,    3.12,2, -999.00,9,    0.35,2,   7.009,2,   3.279,2,   8.203,2,  -999.0,9,  2237.5,2,   7.7445,2,    25.00, -1.6014
06AQ19960712,ARKXII,60,1,28,167115,2,19960812,1116,86.4433,138.9900,3018,    30.7, -1.6055, 33.2038,2, 33.2103,2,  -999.0,9,   369.5,2,    2.73,2,    3.32,2, -999.00,9,    0.37,2,   6.907,2,   3.177,2,   7.757,2,  -999.0,9,  2240.3,2,   7.7387,2,    25.00, -1.6026
06AQ19960712,ARKXII,60,1,27,167114,2,19960812,1116,86.4433,138.9900,3018,    40.5, -1.6364, 33.4107,2, 33.5268,2,  -999.0,9,   356.0,2,    3.32,2,    4.68,2, -999.00,9,    0.46,2,-999.000,9,-999.000,9,-999.000,9,  -999.0,9,  -999.0,9,-999.0000,9,  -999.00, -1.6338
06AQ19960712,ARKXII,60,1,26,167113,2,19960812,1116,86.4433,138.9900,3018,    60.6, -1.6476, 34.0838,2, 34.1268,2,  -999.0,9,   340.9,2,    3.80,2,    7.12,2, -999.00,9,    0.58,2,   6.253,2,   2.868,2,   5.056,2,  -999.0,9,  2267.4,2,   7.7095,2,    25.00, -1.6452
06AQ19960712,ARKXII,60,1,25,167112,2,19960812,1116,86.4433,138.9900,3018,    80.6, -1.4299, 34.2273,2, 34.2339,2,  -999.0,9,   327.2,2,    4.78,2,    9.17,2, -999.00,9,    0.69,2,   5.723,2,   2.709,2,   4.901,2,  -999.0,9,  2266.8,2,   7.7085,2,    25.00, -1.4288
06AQ19960712,ARKXII,60,1,24,167111,2,19960812,1116,86.4433,138.9900,3018,   100.7, -0.5555, 34.3942,2, 34.3980,2,  -999.0,9,   312.1,2,    4.78,2,    9.17,2, -999.00,9,    0.69,2,   5.293,2,   2.479,2,   4.869,2,  -999.0,9,  2271.5,2,   7.6901,2,    25.00, -0.5551
06AQ19960712,ARKXII,60,1,23,167110,2,19960812,1116,86.4433,138.9900,3018,   150.5,  1.0612, 34.7097,2, 34.7286,2,  -999.0,9,   302.9,2,    5.17,2,   10.73,2, -999.00,9,    0.79,2,-999.000,9,-999.000,9,-999.000,9,  -999.0,9,  2284.7,2,   7.7141,2,    25.00,  1.0581
06AQ19960712,ARKXII,60,1,22,167109,2,19960812,1116,86.4433,138.9900,3018,   200.7,  1.6075, 34.8341,2, 34.8348,2,  -999.0,9,   302.1,2,    5.37,2,   11.12,2, -999.00,9,    0.80,2,   4.848,2,   2.211,2,   5.244,2,  -999.0,9,  -999.0,9,-999.0000,9,  -999.00,  1.6018
06AQ19960712,ARKXII,60,1,21,167108,2,19960812,1116,86.4433,138.9900,3018,   225.0,  1.7541, 34.8683,2, 34.8707,2,  -999.0,9,   303.4,2,    5.46,2,   11.51,2, -999.00,9,    0.80,2,   4.940,2,   2.342,2,   5.483,2,  -999.0,9,  2291.2,2,   7.7218,2,    25.00,  1.7462
06AQ19960712,ARKXII,60,1,20,167107,2,19960812,1116,86.4433,138.9900,3018,   300.7,  1.4667, 34.8751,2, 34.8782,2,  -999.0,9,   303.9,2,    5.56,2,   11.61,2, -999.00,9,    0.81,2,   4.621,2,   2.078,2,   5.315,2,  -999.0,9,  -999.0,9,-999.0000,9,  -999.00,  1.4558
06AQ19960712,ARKXII,60,1,19,167106,2,19960812,1116,86.4433,138.9900,3018,   400.9,  0.9107, 34.8702,2, 34.8723,2,  -999.0,9,   302.9,2,    5.95,2,   11.71,2, -999.00,9,    0.81,2,-999.000,9,-999.000,9,-999.000,9,  -999.0,9,  2290.4,2,   7.7102,2,    25.00,  0.8962
06AQ19960712,ARKXII,60,1,18,167105,2,19960812,1116,86.4433,138.9900,3018,   500.5,  0.6189, 34.8705,2, 34.8701,2,  -999.0,9,   303.9,2,    5.95,2,   11.61,2, -999.00,9,    0.81,2,   4.122,2,   1.894,2,   5.092,2,  -999.0,9,  -999.0,9,-999.0000,9,  -999.00,  0.6003
06AQ19960712,ARKXII,60,1,17,167104,2,19960812,1116,86.4433,138.9900,3018,   600.6,  0.3255, 34.8668,2, 34.8671,2,  -999.0,9,   307.9,2,    5.95,2,   11.51,2, -999.00,9,    0.83,2,   4.575,2,   2.099,2,   5.549,2,  -999.0,9,  2289.3,2,   7.6957,2,    25.00,  0.3027
06AQ19960712,ARKXII,60,1,16,167103,2,19960812,1116,86.4433,138.9900,3018,   700.8,  0.1143, 34.8670,2, 34.8663,2,  -999.0,9,   308.6,2,    5.95,2,   11.51,2, -999.00,9,    0.84,2,-999.000,9,-999.000,9,-999.000,9,  -999.0,9,  -999.0,9,-999.0000,9,  -999.00,  0.0879
06AQ19960712,ARKXII,60,1,15,167102,2,19960812,1116,86.4433,138.9900,3018,   800.7, -0.0534, 34.8688,2, 34.8683,2,  -999.0,9,   309.2,2,    6.24,2,   11.51,2, -999.00,9,    0.83,2,   4.635,2,   2.218,2,   5.815,2,  -999.0,9,  -999.0,9,-999.0000,9,  -999.00, -0.0840
06AQ19960712,ARKXII,60,1,14,167101,2,19960812,1116,86.4433,138.9900,3018,  1000.9, -0.2386, 34.8824,2, 34.8826,2,  -999.0,9,   308.4,2,    6.73,2,   11.80,2, -999.00,9,    0.85,2,-999.000,9,-999.000,9,-999.000,9,  -999.0,9,  2292.3,2,   7.6851,2,    25.00, -0.2777
06AQ19960712,ARKXII,60,1,13,167100,2,19960812,1116,86.4433,138.9900,3018,  1200.9, -0.3572, 34.8974,2, 34.8975,2,  -999.0,9,   306.2,2,    7.71,2,   12.29,2, -999.00,9,    0.89,2,   3.112,2,   1.426,2,   4.431,2,  -999.0,9,  -999.0,9,-999.0000,9,  -999.00, -0.4053
06AQ19960712,ARKXII,60,1,12,167099,2,19960812,1116,86.4433,138.9900,3018,  1400.7, -0.4760, 34.9074,2, 34.9075,2,  -999.0,9,   302.8,2,    8.98,2,   12.88,2, -999.00,9,    0.93,2,-999.000,9,-999.000,9,-999.000,9,  -999.0,9,  2294.4,2,   7.6928,2,    25.00, -0.5341
06AQ19960712,ARKXII,60,1,11,167098,2,19960812,1116,86.4433,138.9900,3018,  1600.7, -0.5615, 34.9147,2, 34.9147,2,  -999.0,9,   303.5,2,    9.76,2,   13.27,2, -999.00,9,    0.96,2,   1.299,2,   0.651,2,   2.389,2,  -999.0,9,  -999.0,9,-999.0000,9,  -999.00, -0.6307
06AQ19960712,ARKXII,60,1,10,167097,2,19960812,1116,86.4433,138.9900,3018,  1800.1, -0.6438, 34.9160,2, 34.9161,2,  -999.0,9,   300.0,2,   10.24,2,   13.56,2, -999.00,9,    0.97,2,-999.000,9,-999.000,9,-999.000,9,  -999.0,9,  2293.7,2,   7.6938,2,    25.00, -0.7238
06AQ19960712,ARKXII,60,1,9,167096,2,19960812,1116,86.4433,138.9900,3018,  2000.5, -0.7125, 34.9177,2, 34.9165,2,  -999.0,9,   300.8,2,   10.54,2,   13.66,2, -999.00,9,    0.97,2,   0.687,2,   0.328,2,   1.628,2,  -999.0,9,  -999.0,9,-999.0000,9,  -999.00, -0.8045
06AQ19960712,ARKXII,60,1,8,167095,2,19960812,1116,86.4433,138.9900,3018,  2200.7, -0.7434, 34.9189,2, 34.9192,2,  -999.0,9,   300.4,2,   10.73,2,   13.66,2, -999.00,9,    0.97,2,-999.000,9,-999.000,9,-999.000,9,  -999.0,9,  -999.0,9,-999.0000,9,  -999.00, -0.8483
06AQ19960712,ARKXII,60,1,7,167094,2,19960812,1116,86.4433,138.9900,3018,  2400.4, -0.7639, 34.9221,2, 34.9217,2,  -999.0,9,   300.0,2,   10.93,2,   13.66,2, -999.00,9,    0.96,2,   0.322,2,   0.182,2,   1.031,2,  -999.0,9,  -999.0,9,-999.0000,9,  -999.00, -0.8819
06AQ19960712,ARKXII,60,1,6,167093,2,19960812,1116,86.4433,138.9900,3018,  2600.0, -0.7714, 34.9241,2, 34.9245,2,  -999.0,9,   300.0,2,   11.02,2,   13.66,2, -999.00,9,    0.98,2,-999.000,9,-999.000,9,-999.000,9,  -999.0,9,  2294.6,2,   7.6986,2,    25.00, -0.9043
06AQ19960712,ARKXII,60,1,5,167092,2,19960812,1116,86.4433,138.9900,3018,  2800.3, -0.7700, 34.9277,2, 34.9274,2,  -999.0,9,   298.9,2,   11.12,2,   13.66,2, -999.00,9,    0.97,2,   0.221,2,   0.095,2,   0.904,2,  -999.0,9,  -999.0,9,-999.0000,9,  -999.00, -0.9176
06AQ19960712,ARKXII,60,1,4,167091,2,19960812,1116,86.4433,138.9900,3018,  2908.3, -0.7693, 34.9310,2, 34.9297,2,  -999.0,9,   298.6,2,   11.22,2,   13.56,2, -999.00,9,    0.97,2,-999.000,9,-999.000,9,-999.000,9,  -999.0,9,  2296.7,2,   7.7025,2,    25.00, -0.9261
06AQ19960712,ARKXII,60,1,3,167090,2,19960812,1116,86.4433,138.9900,3018,  2956.8, -0.7679, 34.9314,2, 34.9317,2,  -999.0,9,   298.5,2,   11.02,2,   13.56,2, -999.00,9,    0.96,2,   0.215,2,   0.091,2,   0.362,2,  -999.0,9,  2296.1,2,   7.7102,2,    25.00, -0.9280
06AQ19960712,ARKXII,60,1,2,167089,2,19960812,1116,86.4433,138.9900,3018,  3006.1, -0.7644, 34.9323,2, 34.9326,2,  -999.0,9,   298.2,2,   11.22,2,   13.37,2, -999.00,9,    0.98,2,-999.000,9,-999.000,9,-999.000,9,  -999.0,9,  2296.3,2,   7.7160,2,    25.00, -0.9290
06AQ19960712,ARKXII,60,1,1,167088,2,19960812,1116,86.4433,138.9900,3018,  3006.5, -0.7644, 34.9318,2,-999.0000,9,  -999.0,9,  -999.0,9, -999.00,9, -999.00,9, -999.00,9, -999.00,9,-999.000,9,-999.000,9,-999.000,9,  -999.0,9,  -999.0,9,-999.0000,9,  -999.00,-999.0000
06AQ19960712,ARKXII,61,1,33,167150,2,19960812,1434,86.4633,140.1917,2149,    10.3, -1.6238, 33.4011,2, 33.4019,2,  -999.0,9,   371.2,2,    2.24,2,    3.61,2, -999.00,9,    0.39,2,   7.180,2,   3.318,2,   7.780,2,  2093.1,2,  2245.6,2,   7.7493,2,    25.00, -1.6202
06AQ19960712,ARKXII,61,1,32,167149,2,19960812,1434,86.4633,140.1917,2149,    20.5, -1.6342, 33.4207,2, 33.4296,2,  -999.0,9,   371.0,2,    2.34,2,    4.88,2, -999.00,9,    0.41,2,   6.980,2,   3.420,2,   7.722,2,  -999.0,9,  -999.0,9,-999.0000,9,  -999.00, -1.6314
06AQ19960712,ARKXII,61,1,31,167148,2,19960812,1434,86.4633,140.1917,2149,    30.6, -1.6393, 33.4309,2, 33.4628,2,  -999.0,9,   369.6,2,    2.44,2,    3.90,2, -999.00,9,    0.40,2,   6.933,2,   3.296,2,   7.337,2,  2092.6,2,  2247.5,2,   7.7454,2,    25.00, -1.6366
06AQ19960712,ARKXII,61,1,30,167147,2,19960812,1434,86.4633,140.1917,2149,    40.6, -1.6626, 33.6049,2, 33.9214,2,  -999.0,9,   342.1,2,    3.41,2,    6.44,2, -999.00,9,    0.54,2,   6.593,2,   3.126,2,   5.431,2,  -999.0,9,  -999.0,9,-999.0000,9,  -999.00, -1.6598
06AQ19960712,ARKXII,61,1,29,167146,2,19960812,1434,86.4633,140.1917,2149,    60.6, -1.6139, 34.1120,2, 34.1278,2,  -999.0,9,   335.2,2,    3.51,2,    7.32,2, -999.00,9,    0.58,2,   6.309,2,   3.050,2,   5.269,2,  2119.1,2,  2265.2,2,   7.7162,2,    25.00, -1.6123
06AQ19960712,ARKXII,61,1,28,167145,2,19960812,1434,86.4633,140.1917,2149,    80.3, -1.1839, 34.2735,2, 34.2819,2,  -999.0,9,   320.7,2,    4.10,2,    8.78,2, -999.00,9,    0.66,2,   5.839,2,   2.660,2,   4.887,2,  2128.5,2,  2266.7,2,   7.6959,2,    25.00, -1.1820
06AQ19960712,ARKXII,61,1,27,167144,2,19960812,1434,86.4633,140.1917,2149,   100.4, -0.6500, 34.3731,2, 34.3789,2,  -999.0,9,   314.6,2,    4.49,2,    9.27,2, -999.00,9,    0.68,2,-999.000,9,-999.000,9,-999.000,9,  2131.7,2,  2270.3,2,   7.6969,2,    25.00, -0.6490
06AQ19960712,ARKXII,61,1,26,167143,2,19960812,1434,86.4633,140.1917,2149,   150.3,  1.0225, 34.7041,2, 34.7073,2,  -999.0,9,   304.2,2,    5.17,2,   11.22,2, -999.00,9,    0.78,2,   5.273,2,   2.505,2,   5.241,2,  2135.4,2,  2285.5,2,   7.7064,2,    25.00,  1.0202
06AQ19960712,ARKXII,61,1,25,167142,2,19960812,1434,86.4633,140.1917,2149,   200.2,  1.6551, 34.8396,2, 34.8394,2,  -999.0,9,   301.9,2,    5.37,2,   11.80,2, -999.00,9,    0.81,2,-999.000,9,-999.000,9,-999.000,9,  -999.0,9,  -999.0,9,-999.0000,9,  -999.00,  1.6488
06AQ19960712,ARKXII,61,1,22,167139,2,19960812,1434,86.4633,140.1917,2149,   230.4,  1.7894, 34.8774,2,-999.0000,9,  -999.0,9,  -999.0,9, -999.00,9, -999.00,9, -999.00,9, -999.00,9,-999.000,9,-999.000,9,-999.000,9,  -999.0,9,  -999.0,9,-999.0000,9,  -999.00,-999.0000
06AQ19960712,ARKXII,61,1,23,167140,2,19960812,1434,86.4633,140.1917,2149,   230.6,  1.7914, 34.8775,2,-999.0000,9,  -999.0,9,  -999.0,9, -999.00,9, -999.00,9, -999.00,9, -999.00,9,-999.000,9,-999.000,9,-999.000,9,  -999.0,9,  -999.0,9,-999.0000,9,  -999.00,-999.0000
06AQ19960712,ARKXII,61,1,24,167141,2,19960812,1434,86.4633,140.1917,2149,   230.7,  1.7964, 34.8786,2, 34.8766,2,  -999.0,9,   303.2,2,    5.46,2,   11.90,2, -999.00,9,    0.81,2,   4.937,2,   2.421,2,   5.473,2,  2136.1,2,  2291.6,2,   7.7189,2,    25.00,  1.7888
06AQ19960712,ARKXII,61,1,21,167138,2,19960812,1434,86.4633,140.1917,2149,   250.5,  1.7655, 34.8875,2, 34.8872,2,  -999.0,9,   303.8,2,    5.46,2,   12.00,2, -999.00,9,    0.82,2,   5.214,2,   2.474,2,   5.514,2,  2142.5,2,  2292.2,2,   7.7179,2,    25.00,  1.7568
06AQ19960712,ARKXII,61,1,20,167137,2,19960812,1434,86.4633,140.1917,2149,   300.5,  1.4615, 34.8814,2, 34.8825,2,  -999.0,9,   305.4,2,    5.56,2,   11.90,2, -999.00,9,    0.83,2,   5.091,2,   2.396,2,   5.691,2,  -999.0,9,  -999.0,9,-999.0000,9,  -999.00,  1.4508
06AQ19960712,ARKXII,61,1,19,167136,2,19960812,1434,86.4633,140.1917,2149,   400.6,  1.0023, 34.8789,2, 34.8779,2,  -999.0,9,   305.9,2,    5.66,2,   12.10,2, -999.00,9,    0.83,2,-999.000,9,-999.000,9,-999.000,9,  -999.0,9,  -999.0,9,-999.0000,9,  -999.00,  0.9869
06AQ19960712,ARKXII,61,1,18,167135,2,19960812,1434,86.4633,140.1917,2149,   500.2,  0.5937, 34.8714,2, 34.8705,2,  -999.0,9,   306.7,2,    5.76,2,   12.00,2, -999.00,9,    0.83,2,   4.884,2,   2.296,2,   5.691,2,  2150.1,2,  2291.6,2,   7.6957,2,    25.00,  0.5755
06AQ19960712,ARKXII,61,1,17,167134,2,19960812,1434,86.4633,140.1917,2149,   600.5,  0.3218, 34.8676,2, 34.8668,2,  -999.0,9,   307.3,2,    5.95,2,   12.00,2, -999.00,9,    0.85,2,-999.000,9,-999.000,9,-999.000,9,  -999.0,9,  -999.0,9,-999.0000,9,  -999.00,  0.2997
06AQ19960712,ARKXII,61,1,16,167133,2,19960812,1434,86.4633,140.1917,2149,   700.2,  0.1208, 34.8671,2, 34.8670,2,  -999.0,9,   307.6,2,    5.95,2,   11.90,2, -999.00,9,    0.84,2,   4.655,2,   2.106,2,   5.576,2,  2153.6,2,  2293.7,2,   7.6880,2,    25.00,  0.0949
06AQ19960712,ARKXII,61,1,15,167132,2,19960812,1434,86.4633,140.1917,2149,   800.7, -0.0700, 34.8689,2, 34.8683,2,  -999.0,9,   308.4,2,    6.05,2,   11.90,2, -999.00,9,    0.85,2,-999.000,9,-999.000,9,-999.000,9,  -999.0,9,  -999.0,9,-999.0000,9,  -999.00, -0.0999
06AQ19960712,ARKXII,61,1,13,167130,2,19960812,1434,86.4633,140.1917,2149,  1000.7, -0.2293, 34.8829,2,-999.0000,9,  -999.0,9,  -999.0,9, -999.00,9, -999.00,9, -999.00,9, -999.00,9,-999.000,9,-999.000,9,-999.000,9,  -999.0,9,  -999.0,9,-999.0000,9,  -999.00,-999.0000
06AQ19960712,ARKXII,61,1,12,167129,2,19960812,1434,86.4633,140.1917,2149,  1000.7, -0.2290, 34.8823,2,-999.0000,9,  -999.0,9,  -999.0,9, -999.00,9, -999.00,9, -999.00,9, -999.00,9,-999.000,9,-999.000,9,-999.000,9,  -999.0,9,  -999.0,9,-999.0000,9,  -999.00,-999.0000
06AQ19960712,ARKXII,61,1,14,167131,2,19960812,1434,86.4633,140.1917,2149,  1000.8, -0.2296, 34.8823,2, 34.8827,2,  -999.0,9,   307.2,2,    6.73,2,   12.20,2, -999.00,9,    0.85,2,   4.495,2,   2.110,2,   5.324,2,  2157.4,2,  2292.5,2,   7.6794,2,    25.00, -0.2688
06AQ19960712,ARKXII,61,1,11,167128,2,19960812,1434,86.4633,140.1917,2149,  1200.1, -0.3517, 34.8987,2, 34.8994,2,  -999.0,9,   305.7,2,    7.61,2,   12.78,2, -999.00,9,    0.90,2,-999.000,9,-999.000,9,-999.000,9,  -999.0,9,  -999.0,9,-999.0000,9,  -999.00, -0.4003
06AQ19960712,ARKXII,61,1,10,167127,2,19960812,1434,86.4633,140.1917,2149,  1400.2, -0.4736, 34.9080,2, 34.9088,2,  -999.0,9,   302.9,2,    8.59,2,   13.27,2, -999.00,9,    0.91,2,   2.276,2,   0.968,2,   3.444,2,  2155.7,2,  2295.6,2,   7.6861,2,    25.00, -0.5321
06AQ19960712,ARKXII,61,1,9,167126,2,19960812,1434,86.4633,140.1917,2149,  1600.4, -0.5444, 34.9152,2, 34.9145,2,  -999.0,9,   300.1,2, -999.00,9, -999.00,9, -999.00,9, -999.00,9,-999.000,9,-999.000,9,-999.000,9,  -999.0,9,  -999.0,9,-999.0000,9,  -999.00, -0.6139
06AQ19960712,ARKXII,61,1,8,167125,2,19960812,1434,86.4633,140.1917,2149,  1800.2, -0.6275, 34.9181,2, 34.9184,2,  -999.0,9,   299.3,2,   10.05,2,   14.15,2, -999.00,9,    0.97,2,-999.000,9,   0.506,2,   1.980,2,  2155.0,2,  2296.3,2,   7.6899,2,    25.00, -0.7080
06AQ19960712,ARKXII,61,1,6,167123,2,19960812,1434,86.4633,140.1917,2149,  2010.6, -0.7164, 34.9192,2, 34.9194,2,  -999.0,9,   299.5,2,   10.54,2,   13.95,2, -999.00,9,    0.97,2,-999.000,9,-999.000,9,-999.000,9,  -999.0,9,  -999.0,9,-999.0000,9,  -999.00, -0.8091
06AQ19960712,ARKXII,61,1,7,167124,2,19960812,1434,86.4633,140.1917,2149,  2010.6, -0.7122, 34.9187,2, 34.9192,2,  -999.0,9,   299.2,2,   10.44,2,   14.15,2, -999.00,9,    0.95,2,   0.832,2,   0.349,2,   1.505,2,  2151.4,2,  2296.2,2,   7.6967,2,    25.00, -0.8052
06AQ19960712,ARKXII,61,1,5,167122,2,19960812,1434,86.4633,140.1917,2149,  2060.2, -0.7394, 34.9206,2, 34.9208,2,  -999.0,9,   299.6,2,   10.44,2,   13.85,2, -999.00,9,    0.98,2,   0.549,2,   0.234,2,   1.549,2,  2152.6,2,  2295.4,2,   7.6948,2,    25.00, -0.8350
06AQ19960712,ARKXII,61,1,1,167118,2,19960812,1434,86.4633,140.1917,2149,  2108.0, -0.7554, 34.9207,2,-999.0000,9,  -999.0,9,  -999.0,9, -999.00,9, -999.00,9, -999.00,9, -999.00,9,-999.000,9,-999.000,9,-999.000,9,  -999.0,9,  -999.0,9,-999.0000,9,  -999.00,-999.0000
06AQ19960712,ARKXII,61,1,3,167120,2,19960812,1434,86.4633,140.1917,2149,  2108.0, -0.7558, 34.9210,2,-999.0000,9,  -999.0,9,  -999.0,9, -999.00,9, -999.00,9, -999.00,9, -999.00,9,-999.000,9,-999.000,9,-999.000,9,  -999.0,9,  -999.0,9,-999.0000,9,  -999.00,-999.0000
06AQ19960712,ARKXII,61,1,4,167121,2,19960812,1434,86.4633,140.1917,2149,  2108.0, -0.7560, 34.9212,2, 34.9287,2,  -999.0,9,   298.5,2,   10.63,2,   13.56,2, -999.00,9,    0.98,2,-999.000,9,-999.000,9,-999.000,9,  2150.7,2,  2296.4,2,   7.6957,2,    25.00, -0.8539
06AQ19960712,ARKXII,61,1,2,167119,2,19960812,1434,86.4633,140.1917,2149,  2108.1, -0.7555, 34.9207,2,-999.0000,9,  -999.0,9,  -999.0,9, -999.00,9, -999.00,9, -999.00,9, -999.00,9,-999.000,9,-999.000,9,-999.000,9,  -999.0,9,  -999.0,9,-999.0000,9,  -999.00,-999.0000