BOTTLE,20100322CCHDOSIODM
EXPOCODE,SECT_ID,STNNBR,CASTNO,SAMPNO,BTLNBR,BTLNBR_FLAG_W,DATE,TIME,LATITUDE,LONGITUDE,DEPTH,CTDPRS,CTDTMP,CTDSAL,CTDSAL_FLAG_W,SALNTY,SALNTY_FLAG_W,CTDOXY,CTDOXY_FLAG_W,OXYGEN,OXYGEN_FLAG_W,SILCAT,SILCAT_FLAG_W,NITRAT,NITRAT_FLAG_W,NITRIT,NITRIT_FLAG_W,PHSPHT,PHSPHT_FLAG_W,CFC-11,CFC-11_FLAG_W,CFC-12,CFC-12_FLAG_W,CCL4,CCL4_FLAG_W,TCARBN,TCARBN_FLAG_W,ALKALI,ALKALI_FLAG_W,PH_SWS,PH_SWS_FLAG_W,PH_TMP,THETA
,,,,,,,,,,,METERS,DBAR,ITS-90,PSS-78,,PSS-78,,UMOL/KG,,UMOL/KG,,UMOL/KG,,UMOL/KG,,UMOL/KG,,UMOL/KG,,PMOL/KG,,PMOL/KG,,PMOL/KG,,UMOL/KG,,UMOL/KG,,,,DEG C,DEG C
06AQ19960712,ARKXII,87,1,25,-999.0,2,19960824,0156,81.0767,135.6900,3088,     2.2, -1.7285, 32.8798,2,-999.0000,9,  -999.0,9,  -999.0,9, -999.00,9, -999.00,9, -999.00,9, -999.00,9,-999.000,9,-999.000,9,-999.000,9,  -999.0,9,  -999.0,9,-999.0000,9,  -999.00,-999.0000
06AQ19960712,ARKXII,87,1,24,168060,2,19960824,0156,81.0767,135.6900,3088,    10.2, -1.7315, 32.8685,2,-999.0000,9,  -999.0,9,  -999.0,9, -999.00,9, -999.00,9, -999.00,9, -999.00,9,-999.000,9,-999.000,9,-999.000,9,  -999.0,9,  -999.0,9,-999.0000,9,  -999.00,-999.0000
06AQ19960712,ARKXII,87,1,23,168059,2,19960824,0156,81.0767,135.6900,3088,    10.2, -1.7280, 32.9030,2,-999.0000,9,  -999.0,9,  -999.0,9, -999.00,9, -999.00,9, -999.00,9, -999.00,9,-999.000,9,-999.000,9,-999.000,9,  -999.0,9,  -999.0,9,-999.0000,9,  -999.00,-999.0000
06AQ19960712,ARKXII,87,1,21,168057,2,19960824,0156,81.0767,135.6900,3088,    10.2, -1.7277, 32.8935,2, 32.9844,2,  -999.0,9,   369.7,2,    2.34,2,    2.73,2, -999.00,9,    0.42,2,   7.005,2,   3.455,2,   7.739,2,  2103.6,2,  -999.0,9,   7.7050,2,    25.00, -1.7282
06AQ19960712,ARKXII,87,1,22,168058,2,19960824,0156,81.0767,135.6900,3088,    10.2, -1.7332, 32.8563,2,-999.0000,9,  -999.0,9,  -999.0,9, -999.00,9, -999.00,9, -999.00,9, -999.00,9,-999.000,9,-999.000,9,-999.000,9,  -999.0,9,  -999.0,9,-999.0000,9,  -999.00,-999.0000
06AQ19960712,ARKXII,87,1,20,168056,2,19960824,0156,81.0767,135.6900,3088,    20.3, -1.7316, 33.0745,2, 33.0711,2,  -999.0,9,   366.6,2,    2.44,2,    3.02,2, -999.00,9,    0.41,2,   7.026,2,   3.417,2,   7.420,2,  -999.0,9,  -999.0,9,-999.0000,9,  -999.00, -1.7323
06AQ19960712,ARKXII,87,1,19,168055,2,19960824,0156,81.0767,135.6900,3088,    20.3, -1.7311, 33.0680,2,-999.0000,9,  -999.0,9,  -999.0,9, -999.00,9, -999.00,9, -999.00,9, -999.00,9,-999.000,9,-999.000,9,-999.000,9,  -999.0,9,  -999.0,9,-999.0000,9,  -999.00,-999.0000
06AQ19960712,ARKXII,87,1,18,168054,2,19960824,0156,81.0767,135.6900,3088,    30.8, -1.7520, 33.1827,2, 33.2041,2,  -999.0,9,   360.1,2,    2.63,2,    3.61,2, -999.00,9,    0.45,2,   7.065,2,   3.429,2,   7.533,2,  2123.2,2,  -999.0,9,   7.6838,2,    25.00, -1.7525
06AQ19960712,ARKXII,87,1,17,168053,2,19960824,0156,81.0767,135.6900,3088,    30.8, -1.7608, 33.2215,2,-999.0000,9,  -999.0,9,  -999.0,9, -999.00,9, -999.00,9, -999.00,9, -999.00,9,-999.000,9,-999.000,9,-999.000,9,  -999.0,9,  -999.0,9,-999.0000,9,  -999.00,-999.0000
06AQ19960712,ARKXII,87,1,16,168052,2,19960824,0156,81.0767,135.6900,3088,    39.7, -1.7674, 33.2717,2, 33.3022,2,  -999.0,9,   351.3,2,    3.51,2,    4.59,2, -999.00,9,    0.50,2,   6.999,2,   3.522,2,   7.274,2,  2134.9,2,  -999.0,9,   7.6626,2,    25.00, -1.7687
06AQ19960712,ARKXII,87,1,15,168051,2,19960824,0156,81.0767,135.6900,3088,    39.8, -1.7674, 33.3121,2,-999.0000,9,  -999.0,9,  -999.0,9, -999.00,9, -999.00,9, -999.00,9, -999.00,9,-999.000,9,-999.000,9,-999.000,9,  -999.0,9,  -999.0,9,-999.0000,9,  -999.00,-999.0000
06AQ19960712,ARKXII,87,1,13,168049,2,19960824,0156,81.0767,135.6900,3088,    51.0, -1.7948, 33.4964,2,-999.0000,9,  -999.0,9,  -999.0,9, -999.00,9, -999.00,9, -999.00,9, -999.00,9,-999.000,9,-999.000,9,-999.000,9,  -999.0,9,  -999.0,9,-999.0000,9,  -999.00,-999.0000
06AQ19960712,ARKXII,87,1,14,168050,2,19960824,0156,81.0767,135.6900,3088,    51.0, -1.7930, 33.4826,2,-999.0000,9,  -999.0,9,  -999.0,9, -999.00,9, -999.00,9, -999.00,9, -999.00,9,-999.000,9,-999.000,9,-999.000,9,  -999.0,9,  -999.0,9,-999.0000,9,  -999.00,-999.0000
06AQ19960712,ARKXII,87,1,12,168048,2,19960824,0156,81.0767,135.6900,3088,    60.3, -1.7901, 33.5736,2, 33.5763,2,  -999.0,9,   327.8,2,    5.46,2,    6.44,2, -999.00,9,    0.60,2,   6.928,2,   3.313,2,   6.934,2,  2150.9,2,  -999.0,9,   7.6337,2,    25.00, -1.7921
06AQ19960712,ARKXII,87,1,10,168046,2,19960824,0156,81.0767,135.6900,3088,    80.0, -1.5415, 33.9384,2, 33.9335,2,  -999.0,9,   319.3,2,    4.98,2,    7.22,2, -999.00,9,    0.65,2,   6.589,2,   3.187,2,   6.337,2,  2148.5,2,  -999.0,9,   7.6307,2,    25.00, -1.5437
06AQ19960712,ARKXII,87,1,11,168047,2,19960824,0156,81.0767,135.6900,3088,    80.0, -1.6316, 33.8376,2,-999.0000,9,  -999.0,9,  -999.0,9, -999.00,9, -999.00,9, -999.00,9, -999.00,9,-999.000,9,-999.000,9,-999.000,9,  -999.0,9,  -999.0,9,-999.0000,9,  -999.00,-999.0000
06AQ19960712,ARKXII,87,1,8,168044,2,19960824,0156,81.0767,135.6900,3088,   100.2, -1.3262, 34.2537,2, 34.2481,2,  -999.0,9,   317.6,2,    4.29,2,    8.00,2, -999.00,9,    0.66,2,   6.383,2,   2.927,2,   5.947,2,  2137.2,2,  -999.0,9,   7.6709,2,    25.00, -1.3294
06AQ19960712,ARKXII,87,1,9,168045,2,19960824,0156,81.0767,135.6900,3088,   100.2, -1.4063, 34.2218,2,-999.0000,9,  -999.0,9,  -999.0,9, -999.00,9, -999.00,9, -999.00,9, -999.00,9,-999.000,9,-999.000,9,-999.000,9,  -999.0,9,  -999.0,9,-999.0000,9,  -999.00,-999.0000
06AQ19960712,ARKXII,87,1,7,168043,2,19960824,0156,81.0767,135.6900,3088,   125.1, -0.8557, 34.4279,2, 34.4372,2,  -999.0,9,   313.3,2,    4.39,2,    9.17,2, -999.00,9,    0.73,2,   6.019,2,   2.992,2,   6.007,2,  -999.0,9,  -999.0,9,-999.0000,9,  -999.00, -0.8596
06AQ19960712,ARKXII,87,1,5,168041,2,19960824,0156,81.0767,135.6900,3088,   150.3, -0.3487, 34.5368,2, 34.5483,2,  -999.0,9,   310.8,2,    4.68,2,    9.85,2, -999.00,9,    0.75,2,   5.868,2,   2.956,2,   5.801,2,  2147.2,2,  -999.0,9,   7.6756,2,    25.00, -0.3540
06AQ19960712,ARKXII,87,1,6,168042,2,19960824,0156,81.0767,135.6900,3088,   150.3, -0.3465, 34.5334,2,-999.0000,9,  -999.0,9,  -999.0,9, -999.00,9, -999.00,9, -999.00,9, -999.00,9,-999.000,9,-999.000,9,-999.000,9,  -999.0,9,  -999.0,9,-999.0000,9,  -999.00,-999.0000
06AQ19960712,ARKXII,87,1,3,168039,2,19960824,0156,81.0767,135.6900,3088,   200.8,  0.9084, 34.7430,2, 34.7581,2,  -999.0,9,   304.9,2,    5.37,2,   11.51,2, -999.00,9,    0.82,2,   5.292,2,   2.625,2,   5.394,2,  -999.0,9,  -999.0,9,-999.0000,9,  -999.00,  0.9000
06AQ19960712,ARKXII,87,1,4,168040,2,19960824,0156,81.0767,135.6900,3088,   200.8,  0.9027, 34.7430,2,-999.0000,9,  -999.0,9,  -999.0,9, -999.00,9, -999.00,9, -999.00,9, -999.00,9,-999.000,9,-999.000,9,-999.000,9,  -999.0,9,  -999.0,9,-999.0000,9,  -999.00,-999.0000
06AQ19960712,ARKXII,87,1,1,168037,2,19960824,0156,81.0767,135.6900,3088,   265.5,  1.5010, 34.8509,2, 34.8656,2,  -999.0,9,   303.6,2,    5.56,2,   11.71,2, -999.00,9,    0.82,2,   5.150,2,   2.520,2,   5.431,2,  2138.3,2,  -999.0,9,   7.7092,2,    25.00,  1.4876
06AQ19960712,ARKXII,87,1,2,168038,2,19960824,0156,81.0767,135.6900,3088,   265.6,  1.5015, 34.8506,2,-999.0000,9,  -999.0,9,  -999.0,9, -999.00,9, -999.00,9, -999.00,9, -999.00,9,-999.000,9,-999.000,9,-999.000,9,  -999.0,9,  -999.0,9,-999.0000,9,  -999.00,-999.0000
06AQ19960712,ARKXII,87,2,31,168092,2,19960824,0355,81.0833,135.6833,3092,   301.3,  1.3658, 34.8560,2, 34.8554,2,  -999.0,9,   305.8,2,    5.56,2,   11.41,2, -999.00,9,    0.86,2,   5.054,2,   2.504,2,   5.555,2,  -999.0,9,  -999.0,9,-999.0000,9,  -999.00,  1.3551
06AQ19960712,ARKXII,87,2,32,168093,2,19960824,0355,81.0833,135.6833,3092,   301.4,  1.3639, 34.8551,2,-999.0000,9,  -999.0,9,  -999.0,9, -999.00,9, -999.00,9, -999.00,9, -999.00,9,-999.000,9,-999.000,9,-999.000,9,  -999.0,9,  -999.0,9,-999.0000,9,  -999.00,-999.0000
06AQ19960712,ARKXII,87,2,30,168091,2,19960824,0355,81.0833,135.6833,3092,   401.0,  1.0880, 34.8730,2, 34.8750,2,  -999.0,9,   306.7,2,    5.95,2,   11.71,2, -999.00,9,    0.87,2,   4.970,2,   2.414,2,   5.502,2,  -999.0,9,  -999.0,9,-999.0000,9,  -999.00,  1.0687
06AQ19960712,ARKXII,87,2,28,168089,2,19960824,0355,81.0833,135.6833,3092,   500.6,  0.9127, 34.8930,2, 34.8906,2,  -999.0,9,   305.9,2,    6.24,2,   12.10,2, -999.00,9,    0.89,2,   4.538,2,   2.160,2,   5.419,2,  2145.1,2,  -999.0,9,   7.6986,2,    25.00,  0.8921
06AQ19960712,ARKXII,87,2,29,168090,2,19960824,0355,81.0833,135.6833,3092,   500.6,  0.8747, 34.8888,2,-999.0000,9,  -999.0,9,  -999.0,9, -999.00,9, -999.00,9, -999.00,9, -999.00,9,-999.000,9,-999.000,9,-999.000,9,  -999.0,9,  -999.0,9,-999.0000,9,  -999.00,-999.0000
06AQ19960712,ARKXII,87,2,27,168088,2,19960824,0355,81.0833,135.6833,3092,   601.0,  0.5521, 34.8872,2, 34.8868,2,  -999.0,9,   306.2,2,    6.54,2,   12.49,2, -999.00,9,    0.90,2,   4.228,2,   1.971,2,   5.271,2,  -999.0,9,  -999.0,9,-999.0000,9,  -999.00,  0.5405
06AQ19960712,ARKXII,87,2,26,168087,2,19960824,0355,81.0833,135.6833,3092,   700.6,  0.2732, 34.8883,2, 34.8872,2,  -999.0,9,   306.6,2,    6.83,2,   12.39,2, -999.00,9,    0.89,2,   3.954,2,   1.932,2,   4.992,2,  2149.5,2,  -999.0,9,   7.6889,2,    25.00,  0.2460
06AQ19960712,ARKXII,87,2,25,168086,2,19960824,0355,81.0833,135.6833,3092,   750.5,  0.1930, 34.8898,2,-999.0000,9,  -999.0,9,  -999.0,9, -999.00,9, -999.00,9, -999.00,9, -999.00,9,-999.000,9,-999.000,9,-999.000,9,  -999.0,9,  -999.0,9,-999.0000,9,  -999.00,-999.0000
06AQ19960712,ARKXII,87,2,24,168085,2,19960824,0355,81.0833,135.6833,3092,   800.5,  0.0516, 34.8891,2, 34.8892,2,  -999.0,9,   306.2,2,    6.83,2,   12.59,2, -999.00,9,    0.93,2,   3.787,2,   1.706,2,   4.930,2,  -999.0,9,  -999.0,9,-999.0000,9,  -999.00,  0.0184
06AQ19960712,ARKXII,87,2,22,168083,2,19960824,0355,81.0833,135.6833,3092,  1000.7, -0.2245, 34.8968,2, 34.8978,2,  -999.0,9,   305.7,2,    7.41,2,   12.68,2, -999.00,9,    0.94,2,   3.760,2,   1.699,2,   4.776,2,  2153.9,2,  -999.0,9,   7.6745,2,    25.00, -0.2658
06AQ19960712,ARKXII,87,2,23,168084,2,19960824,0355,81.0833,135.6833,3092,  1000.8, -0.2176, 34.8961,2,-999.0000,9,  -999.0,9,  -999.0,9, -999.00,9, -999.00,9, -999.00,9, -999.00,9,-999.000,9,-999.000,9,-999.000,9,  -999.0,9,  -999.0,9,-999.0000,9,  -999.00,-999.0000
06AQ19960712,ARKXII,87,2,21,168082,2,19960824,0355,81.0833,135.6833,3092,  1201.3, -0.3972, 34.9060,2, 34.9068,2,  -999.0,9,   303.8,2,    8.39,2,   13.37,2, -999.00,9,    0.95,2,   2.537,2,   1.154,2,   3.722,2,  2152.3,2,  -999.0,9,   7.6755,2,    25.00, -0.4459
06AQ19960712,ARKXII,87,2,20,168081,2,19960824,0355,81.0833,135.6833,3092,  1400.7, -0.5405, 34.9112,2, 34.9123,2,  -999.0,9,   301.6,2,    9.27,2,   13.76,2, -999.00,9,    0.98,2,   1.598,2,   0.738,2,   2.815,2,  -999.0,9,  -999.0,9,-999.0000,9,  -999.00, -0.5994
06AQ19960712,ARKXII,87,2,19,168080,2,19960824,0355,81.0833,135.6833,3092,  1500.8, -0.5860, 34.9147,2,-999.0000,9,  -999.0,9,  -999.0,9, -999.00,9, -999.00,9, -999.00,9, -999.00,9,-999.000,9,-999.000,9,-999.000,9,  -999.0,9,  -999.0,9,-999.0000,9,  -999.00,-999.0000
06AQ19960712,ARKXII,87,2,18,168079,2,19960824,0355,81.0833,135.6833,3092,  1600.8, -0.6381, 34.9159,2, 34.9160,2,  -999.0,9,   299.8,2,   10.15,2,   13.85,2, -999.00,9,    0.97,2,   0.759,2,   0.352,2,   1.988,2,  2150.2,2,  -999.0,9,   7.6812,2,    25.00, -0.7067
06AQ19960712,ARKXII,87,2,17,168078,2,19960824,0355,81.0833,135.6833,3092,  1801.3, -0.7022, 34.9175,2, 34.9170,2,  -999.0,9,   299.4,2,   10.54,2,   13.95,2, -999.00,9,    1.02,2,   0.671,2,   0.232,2,   1.611,2,  -999.0,9,  -999.0,9,-999.0000,9,  -999.00, -0.7830
06AQ19960712,ARKXII,87,2,13,168074,2,19960824,0355,81.0833,135.6833,3092,  2001.3, -0.7435, 34.9188,2, 34.9176,2,  -999.0,9,   299.5,2,   10.83,2,   14.54,2, -999.00,9,    1.03,2,   0.461,2,   0.197,2,   1.465,2,  2148.9,2,  -999.0,9,   7.6832,2,    25.00, -0.8350
06AQ19960712,ARKXII,87,2,15,168076,2,19960824,0355,81.0833,135.6833,3092,  2001.3, -0.7415, 34.9178,2,-999.0000,9,  -999.0,9,  -999.0,9, -999.00,9, -999.00,9, -999.00,9, -999.00,9,-999.000,9,-999.000,9,-999.000,9,  -999.0,9,  -999.0,9,-999.0000,9,  -999.00,-999.0000
06AQ19960712,ARKXII,87,2,14,168075,2,19960824,0355,81.0833,135.6833,3092,  2001.4, -0.7421, 34.9181,2,-999.0000,9,  -999.0,9,  -999.0,9, -999.00,9, -999.00,9, -999.00,9, -999.00,9,-999.000,9,-999.000,9,-999.000,9,  -999.0,9,  -999.0,9,-999.0000,9,  -999.00,-999.0000
06AQ19960712,ARKXII,87,2,16,168077,2,19960824,0355,81.0833,135.6833,3092,  2001.4, -0.7418, 34.9175,2,-999.0000,9,  -999.0,9,  -999.0,9, -999.00,9, -999.00,9, -999.00,9, -999.00,9,-999.000,9,-999.000,9,-999.000,9,  -999.0,9,  -999.0,9,-999.0000,9,  -999.00,-999.0000
06AQ19960712,ARKXII,87,2,12,168073,2,19960824,0355,81.0833,135.6833,3092,  2200.2, -0.7724, 34.9216,2, 34.9207,2,  -999.0,9,   299.6,2,   11.02,2,   14.54,2, -999.00,9,    1.03,2,   0.387,2,   0.186,2,   1.280,2,  -999.0,9,  -999.0,9,-999.0000,9,  -999.00, -0.8768
06AQ19960712,ARKXII,87,2,11,168072,2,19960824,0355,81.0833,135.6833,3092,  2400.7, -0.7847, 34.9239,2, 34.9247,2,  -999.0,9,   299.2,2,   11.12,2,   14.54,2, -999.00,9,    1.04,2,   0.339,2,   0.159,2,   1.032,2,  -999.0,9,  -999.0,9,-999.0000,9,  -999.00, -0.9025
06AQ19960712,ARKXII,87,2,10,168071,2,19960824,0355,81.0833,135.6833,3092,  2501.0, -0.7884, 34.9263,2,-999.0000,9,  -999.0,9,  -999.0,9, -999.00,9, -999.00,9, -999.00,9, -999.00,9,-999.000,9,-999.000,9,-999.000,9,  -999.0,9,  -999.0,9,-999.0000,9,  -999.00,-999.0000
06AQ19960712,ARKXII,87,2,9,168070,2,19960824,0355,81.0833,135.6833,3092,  2600.4, -0.7884, 34.9280,2, 34.9274,2,  -999.0,9,   298.9,2,   11.12,2,   14.44,2, -999.00,9,    1.03,2,   0.233,2,   0.093,2,   0.808,2,  2148.5,2,  -999.0,9,   7.6928,2,    25.00, -0.9210
06AQ19960712,ARKXII,87,2,8,168069,2,19960824,0355,81.0833,135.6833,3092,  2799.7, -0.7847, 34.9328,2, 34.9321,2,  -999.0,9,   298.1,2,   11.32,2,   14.34,2, -999.00,9,    1.03,2,   0.142,2,   0.070,2,   0.554,2,  -999.0,9,  -999.0,9,-999.0000,9,  -999.00, -0.9323
06AQ19960712,ARKXII,87,2,6,168067,2,19960824,0355,81.0833,135.6833,3092,  2967.8, -0.7714, 34.9359,2, 34.9366,2,  -999.0,9,   296.9,2,   11.41,2,   14.44,2, -999.00,9,    1.03,2,   0.123,2,   0.057,2,   0.394,2,  2144.2,2,  -999.0,9,   7.6986,2,    25.00, -0.9328
06AQ19960712,ARKXII,87,2,7,168068,2,19960824,0355,81.0833,135.6833,3092,  2967.8, -0.7719, 34.9352,2,-999.0000,9,  -999.0,9,  -999.0,9, -999.00,9, -999.00,9, -999.00,9, -999.00,9,-999.000,9,-999.000,9,-999.000,9,  -999.0,9,  -999.0,9,-999.0000,9,  -999.00,-999.0000
06AQ19960712,ARKXII,87,2,5,168066,2,19960824,0355,81.0833,135.6833,3092,  3017.1, -0.7662, 34.9370,2, 34.9374,2,  -999.0,9,   296.1,2,   11.51,2,   14.44,2, -999.00,9,    1.03,2,   0.130,2,   0.045,2,   0.326,2,  2148.1,2,  -999.0,9,   7.6957,2,    25.00, -0.9309
06AQ19960712,ARKXII,87,2,1,168062,2,19960824,0355,81.0833,135.6833,3092,  3066.9, -0.7567, 34.9392,2, 34.9390,2,  -999.0,9,   294.6,2,   11.80,2,   14.44,2, -999.00,9,    1.02,2,-999.000,9,-999.000,9,-999.000,9,  2149.8,2,  -999.0,9,   7.6966,2,    25.00, -0.9262
06AQ19960712,ARKXII,87,2,4,168065,2,19960824,0355,81.0833,135.6833,3092,  3067.0, -0.7573, 34.9402,2,-999.0000,9,  -999.0,9,  -999.0,9, -999.00,9, -999.00,9, -999.00,9, -999.00,9,-999.000,9,-999.000,9,-999.000,9,  -999.0,9,  -999.0,9,-999.0000,9,  -999.00,-999.0000
06AQ19960712,ARKXII,87,2,3,168064,2,19960824,0355,81.0833,135.6833,3092,  3067.0, -0.7566, 34.9387,2,-999.0000,9,  -999.0,9,  -999.0,9, -999.00,9, -999.00,9, -999.00,9, -999.00,9,-999.000,9,-999.000,9,-999.000,9,  -999.0,9,  -999.0,9,-999.0000,9,  -999.00,-999.0000
06AQ19960712,ARKXII,87,2,2,168063,2,19960824,0355,81.0833,135.6833,3092,  3067.0, -0.7565, 34.9389,2,-999.0000,9,  -999.0,9,  -999.0,9, -999.00,9, -999.00,9, -999.00,9, -999.00,9,-999.000,9,-999.000,9,-999.000,9,  -999.0,9,  -999.0,9,-999.0000,9,  -999.00,-999.0000