BOTTLE,20100322CCHDOSIODM
EXPOCODE,SECT_ID,STNNBR,CASTNO,SAMPNO,BTLNBR,BTLNBR_FLAG_W,DATE,TIME,LATITUDE,LONGITUDE,DEPTH,CTDPRS,CTDTMP,CTDSAL,CTDSAL_FLAG_W,SALNTY,SALNTY_FLAG_W,CTDOXY,CTDOXY_FLAG_W,OXYGEN,OXYGEN_FLAG_W,SILCAT,SILCAT_FLAG_W,NITRAT,NITRAT_FLAG_W,NITRIT,NITRIT_FLAG_W,PHSPHT,PHSPHT_FLAG_W,CFC-11,CFC-11_FLAG_W,CFC-12,CFC-12_FLAG_W,CCL4,CCL4_FLAG_W,TCARBN,TCARBN_FLAG_W,ALKALI,ALKALI_FLAG_W,PH_SWS,PH_SWS_FLAG_W,PH_TMP,THETA
,,,,,,,,,,,METERS,DBAR,ITS-90,PSS-78,,PSS-78,,UMOL/KG,,UMOL/KG,,UMOL/KG,,UMOL/KG,,UMOL/KG,,UMOL/KG,,PMOL/KG,,PMOL/KG,,PMOL/KG,,UMOL/KG,,UMOL/KG,,,,DEG C,DEG C
06AQ19960712,ARKXII,62,2,36,167186,2,19960812,1855,86.4450,141.1033,1191,     2.4, -1.6676, 33.3998,2,-999.0000,9,  -999.0,9,  -999.0,9, -999.00,9, -999.00,9, -999.00,9, -999.00,9,-999.000,9,-999.000,9,-999.000,9,  -999.0,9,  -999.0,9,-999.0000,9,  -999.00,-999.0000
06AQ19960712,ARKXII,62,2,35,167185,2,19960812,1855,86.4450,141.1033,1191,    10.3, -1.6653, 33.3998,2,-999.0000,9,  -999.0,9,  -999.0,9, -999.00,9, -999.00,9, -999.00,9, -999.00,9,-999.000,9,-999.000,9,-999.000,9,  -999.0,9,  -999.0,9,-999.0000,9,  -999.00,-999.0000
06AQ19960712,ARKXII,62,2,34,167184,2,19960812,1855,86.4450,141.1033,1191,    10.4, -1.6663, 33.4002,2, 33.4039,2,  -999.0,9,   372.8,2,    2.24,2,    3.61,2, -999.00,9,    0.40,2,   6.789,2,   3.257,2,   7.470,2,  2094.1,2,  2247.7,2,   7.7474,2,    25.00, -1.6632
06AQ19960712,ARKXII,62,2,33,167183,2,19960812,1855,86.4450,141.1033,1191,    20.2, -1.6804, 33.4227,2,-999.0000,9,  -999.0,9,  -999.0,9, -999.00,9, -999.00,9, -999.00,9, -999.00,9,-999.000,9,-999.000,9,-999.000,9,  -999.0,9,  -999.0,9,-999.0000,9,  -999.00,-999.0000
06AQ19960712,ARKXII,62,2,32,167182,2,19960812,1855,86.4450,141.1033,1191,    20.2, -1.6801, 33.4216,2, 33.4697,2,  -999.0,9,   370.5,2,    2.24,2,    3.80,2, -999.00,9,    0.41,2,   6.861,2,   3.306,2,   7.177,2,  -999.0,9,  -999.0,9,-999.0000,9,  -999.00, -1.6774
06AQ19960712,ARKXII,62,2,30,167180,2,19960812,1855,86.4450,141.1033,1191,    30.4, -1.6790, 33.4391,2, 33.6231,2,  -999.0,9,   361.6,2,    2.63,2,    4.68,2, -999.00,9,    0.46,2,   6.861,2,   3.298,2,   6.557,2,  2107.3,2,  2255.6,2,   7.7289,2,    25.00, -1.6766
06AQ19960712,ARKXII,62,2,31,167181,2,19960812,1855,86.4450,141.1033,1191,    30.4, -1.6791, 33.4366,2,-999.0000,9,  -999.0,9,  -999.0,9, -999.00,9, -999.00,9, -999.00,9, -999.00,9,-999.000,9,-999.000,9,-999.000,9,  -999.0,9,  -999.0,9,-999.0000,9,  -999.00,-999.0000
06AQ19960712,ARKXII,62,2,28,167178,2,19960812,1855,86.4450,141.1033,1191,    40.5, -1.7046, 33.7313,2, 33.7616,2,  -999.0,9,   353.0,2,    3.02,2,    5.46,2, -999.00,9,    0.51,2,   6.636,2,   3.135,2,   5.854,2,  2113.7,2,  2257.6,2,   7.7231,2,    25.00, -1.7018
06AQ19960712,ARKXII,62,2,29,167179,2,19960812,1855,86.4450,141.1033,1191,    40.6, -1.7005, 33.6971,2,-999.0000,9,  -999.0,9,  -999.0,9, -999.00,9, -999.00,9, -999.00,9, -999.00,9,-999.000,9,-999.000,9,-999.000,9,  -999.0,9,  -999.0,9,-999.0000,9,  -999.00,-999.0000
06AQ19960712,ARKXII,62,2,27,167177,2,19960812,1855,86.4450,141.1033,1191,    50.2, -1.7112, 33.8988,2,-999.0000,9,  -999.0,9,  -999.0,9, -999.00,9, -999.00,9, -999.00,9, -999.00,9,-999.000,9,-999.000,9,-999.000,9,  -999.0,9,  -999.0,9,-999.0000,9,  -999.00,-999.0000
06AQ19960712,ARKXII,62,2,26,167176,2,19960812,1855,86.4450,141.1033,1191,    60.4, -1.6417, 34.0480,2, 34.0651,2,  -999.0,9,   336.6,2,    3.61,2,    6.93,2, -999.00,9,    0.59,2,   6.428,2,   3.040,2,   5.195,2,  2127.0,2,  2258.6,2,   7.7076,2,    25.00, -1.6392
06AQ19960712,ARKXII,62,2,24,167174,2,19960812,1855,86.4450,141.1033,1191,    80.7, -1.5334, 34.2085,2, 34.2133,2,  -999.0,9,   336.6,2,    3.41,2,    7.32,2, -999.00,9,    0.60,2,   5.975,2,   2.831,2,   4.911,2,  2128.1,2,  2269.5,2,   7.7162,2,    25.00, -1.5318
06AQ19960712,ARKXII,62,2,25,167175,2,19960812,1855,86.4450,141.1033,1191,    81.0, -1.5328, 34.2093,2,-999.0000,9,  -999.0,9,  -999.0,9, -999.00,9, -999.00,9, -999.00,9, -999.00,9,-999.000,9,-999.000,9,-999.000,9,  -999.0,9,  -999.0,9,-999.0000,9,  -999.00,-999.0000
06AQ19960712,ARKXII,62,2,22,167172,2,19960812,1855,86.4450,141.1033,1191,   100.9, -0.7531, 34.3555,2, 34.3549,2,  -999.0,9,   316.7,2,    4.29,2,    9.07,2, -999.00,9,    0.70,2,   5.612,2,   2.644,2,   4.852,2,  2126.7,2,  2269.1,2,   7.6978,2,    25.00, -0.7529
06AQ19960712,ARKXII,62,2,23,167173,2,19960812,1855,86.4450,141.1033,1191,   101.4, -0.7270, 34.3606,2,-999.0000,9,  -999.0,9,  -999.0,9, -999.00,9, -999.00,9, -999.00,9, -999.00,9,-999.000,9,-999.000,9,-999.000,9,  -999.0,9,  -999.0,9,-999.0000,9,  -999.00,-999.0000
06AQ19960712,ARKXII,62,2,20,167170,2,19960812,1855,86.4450,141.1033,1191,   150.7,  0.9951, 34.7007,2, 34.7019,2,  -999.0,9,   304.4,2,    4.98,2,   10.73,2, -999.00,9,    0.80,2,   5.215,2,   2.468,2,   5.128,2,  2137.2,2,  2284.2,2,   7.7093,2,    25.00,  0.9922
06AQ19960712,ARKXII,62,2,21,167171,2,19960812,1855,86.4450,141.1033,1191,   151.0,  0.9944, 34.7008,2,-999.0000,9,  -999.0,9,  -999.0,9, -999.00,9, -999.00,9, -999.00,9, -999.00,9,-999.000,9,-999.000,9,-999.000,9,  -999.0,9,  -999.0,9,-999.0000,9,  -999.00,-999.0000
06AQ19960712,ARKXII,62,2,18,167168,2,19960812,1855,86.4450,141.1033,1191,   200.4,  1.5972, 34.8359,2, 34.8346,2,  -999.0,9,   303.0,2,    5.17,2,   11.41,2, -999.00,9,    0.81,2,   5.015,2,   2.411,2,   5.249,2,  -999.0,9,  -999.0,9,-999.0000,9,  -999.00,  1.5909
06AQ19960712,ARKXII,62,2,19,167169,2,19960812,1855,86.4450,141.1033,1191,   200.5,  1.5999, 34.8356,2,-999.0000,9,  -999.0,9,  -999.0,9, -999.00,9, -999.00,9, -999.00,9, -999.00,9,-999.000,9,-999.000,9,-999.000,9,  -999.0,9,  -999.0,9,-999.0000,9,  -999.00,-999.0000
06AQ19960712,ARKXII,62,2,17,167167,2,19960812,1855,86.4450,141.1033,1191,   235.3,  1.7599, 34.8762,2, 34.8749,2,  -999.0,9,   303.9,2,    5.27,2,   11.51,2, -999.00,9,    0.83,2,-999.000,9,-999.000,9,-999.000,9,  2139.3,2,  2291.6,2,   7.7179,2,    25.00,  1.7517
06AQ19960712,ARKXII,62,2,15,167165,2,19960812,1855,86.4450,141.1033,1191,   250.3,  1.7143, 34.8767,2, 34.8769,2,  -999.0,9,   304.9,2,    5.17,2,   11.61,2, -999.00,9,    0.80,2,   5.027,2,   2.442,2,   5.522,2,  2139.9,2,  2290.8,2,   7.7160,2,    25.00,  1.7060
06AQ19960712,ARKXII,62,2,16,167166,2,19960812,1855,86.4450,141.1033,1191,   250.4,  1.7144, 34.8767,2,-999.0000,9,  -999.0,9,  -999.0,9, -999.00,9, -999.00,9, -999.00,9, -999.00,9,-999.000,9,-999.000,9,-999.000,9,  -999.0,9,  -999.0,9,-999.0000,9,  -999.00,-999.0000
06AQ19960712,ARKXII,62,2,13,167163,2,19960812,1855,86.4450,141.1033,1191,   300.2,  1.5397, 34.8799,2, 34.8790,2,  -999.0,9,   305.4,2,    5.27,2,   11.61,2, -999.00,9,    0.82,2,-999.000,9,-999.000,9,-999.000,9,  -999.0,9,  -999.0,9,-999.0000,9,  -999.00,  1.5286
06AQ19960712,ARKXII,62,2,14,167164,2,19960812,1855,86.4450,141.1033,1191,   300.5,  1.5436, 34.8800,2,-999.0000,9,  -999.0,9,  -999.0,9, -999.00,9, -999.00,9, -999.00,9, -999.00,9,-999.000,9,-999.000,9,-999.000,9,  -999.0,9,  -999.0,9,-999.0000,9,  -999.00,-999.0000
06AQ19960712,ARKXII,62,2,12,167162,2,19960812,1855,86.4450,141.1033,1191,   400.4,  1.0636, 34.8799,2, 34.8788,2,  -999.0,9,   306.6,2,    5.56,2,   11.80,2, -999.00,9,    0.83,2,   4.710,2,   2.266,2,   5.674,2,  2143.5,2,  2292.8,2,   7.7083,2,    25.00,  1.0488
06AQ19960712,ARKXII,62,2,10,167160,2,19960812,1855,86.4450,141.1033,1191,   500.3,  0.6404, 34.8702,2, 34.8704,2,  -999.0,9,   307.5,2,    5.46,2,   11.71,2, -999.00,9,    0.84,2,-999.000,9,-999.000,9,-999.000,9,  -999.0,9,  -999.0,9,-999.0000,9,  -999.00,  0.6213
06AQ19960712,ARKXII,62,2,11,167161,2,19960812,1855,86.4450,141.1033,1191,   500.5,  0.6385, 34.8700,2,-999.0000,9,  -999.0,9,  -999.0,9, -999.00,9, -999.00,9, -999.00,9, -999.00,9,-999.000,9,-999.000,9,-999.000,9,  -999.0,9,  -999.0,9,-999.0000,9,  -999.00,-999.0000
06AQ19960712,ARKXII,62,2,9,167159,2,19960812,1855,86.4450,141.1033,1191,   600.5,  0.3360, 34.8676,2, 34.8675,2,  -999.0,9,   308.4,2,    5.66,2,   11.90,2, -999.00,9,    0.84,2,-999.000,9,-999.000,9,-999.000,9,  2152.8,2,  2293.2,2,   7.6938,2,    25.00,  0.3137
06AQ19960712,ARKXII,62,2,8,167158,2,19960812,1855,86.4450,141.1033,1191,   700.5,  0.1139, 34.8670,2, 34.8671,2,  -999.0,9,   309.4,2,    5.76,2,   11.80,2, -999.00,9,    0.85,2,   4.717,2,   2.289,2,   5.554,2,  -999.0,9,  -999.0,9,-999.0000,9,  -999.00,  0.0879
06AQ19960712,ARKXII,62,2,7,167157,2,19960812,1855,86.4450,141.1033,1191,   750.4,  0.0340, 34.8680,2,-999.0000,9,  -999.0,9,  -999.0,9, -999.00,9, -999.00,9, -999.00,9, -999.00,9,-999.000,9,-999.000,9,-999.000,9,  -999.0,9,  -999.0,9,-999.0000,9,  -999.00,-999.0000
06AQ19960712,ARKXII,62,2,6,167156,2,19960812,1855,86.4450,141.1033,1191,   800.4,  0.0073, 34.8733,2, 34.8734,2,  -999.0,9,   308.7,2,    5.95,2,   12.00,2, -999.00,9,    0.85,2,   4.626,2,   2.261,2,   5.580,2,  2154.0,2,  2292.9,2,   7.6880,2,    25.00, -0.0233
06AQ19960712,ARKXII,62,2,4,167154,2,19960812,1855,86.4450,141.1033,1191,  1000.3, -0.1753, 34.8835,2, 34.8840,2,  -999.0,9,   306.8,2,    6.54,2,   12.29,2, -999.00,9,    0.87,2,   3.609,2,   1.723,2,   4.701,2,  2155.5,2,  2293.3,2,   7.6871,2,    25.00, -0.2152
06AQ19960712,ARKXII,62,2,5,167155,2,19960812,1855,86.4450,141.1033,1191,  1000.4, -0.1751, 34.8834,2,-999.0000,9,  -999.0,9,  -999.0,9, -999.00,9, -999.00,9, -999.00,9, -999.00,9,-999.000,9,-999.000,9,-999.000,9,  -999.0,9,  -999.0,9,-999.0000,9,  -999.00,-999.0000
06AQ19960712,ARKXII,62,2,3,167153,2,19960812,1855,86.4450,141.1033,1191,  1055.2, -0.2403, 34.8856,2, 34.8855,2,  -999.0,9,   307.9,2,    6.73,2,   12.39,2, -999.00,9,    0.87,2,-999.000,9,-999.000,9,-999.000,9,  2150.9,2,  2292.3,2,   7.6851,2,    25.00, -0.2825
06AQ19960712,ARKXII,62,2,2,167152,2,19960812,1855,86.4450,141.1033,1191,  1107.0, -0.2693, 34.8894,2, 34.8899,2,  -999.0,9,   306.8,2,    6.83,2,   12.49,2, -999.00,9,    0.87,2,   3.743,2,   1.851,2,   4.845,2,  2156.6,2,  2297.3,2,   7.6822,2,    25.00, -0.3140
06AQ19960712,ARKXII,62,2,1,167151,2,19960812,1855,86.4450,141.1033,1191,  1153.7, -0.2980, 34.8934,2, 34.8916,2,  -999.0,9,   305.7,2,    7.02,2,   12.59,2, -999.00,9,    0.89,2,   3.436,2,   1.713,2,   4.509,2,  2157.5,2,  2293.6,2,   7.6851,2,    25.00, -0.3443
06AQ19960712,ARKXII,63,2,20,167206,2,19960812,0008,86.4450,143.1250,980,     9.6, -1.6549, 33.3680,2, 33.3683,2,  -999.0,9,   372.7,2,    2.34,2,    3.51,2, -999.00,9,    0.40,2,   7.079,2,   3.345,2,   7.877,2,  2090.6,2,  2243.5,2,   7.8153,25.00,     3.00, -1.6522
06AQ19960712,ARKXII,63,2,19,167205,2,19960812,0008,86.4450,143.1250,980,    19.9, -1.6541, 33.3673,2, 33.3642,2,  -999.0,9,   372.3,2,    2.24,2,    3.51,2, -999.00,9,    0.40,2,   7.119,2,   3.412,2,   7.585,2,  -999.0,9,  -999.0,9,-999.0000,9,  -999.00, -1.6514
06AQ19960712,ARKXII,63,2,18,167204,2,19960812,0008,86.4450,143.1250,980,    28.7, -1.6519, 33.3809,2, 33.4091,2,  -999.0,9,   372.3,2,    2.15,2,    3.51,2, -999.00,9,    0.40,2,   7.034,2,   3.229,2,   7.717,2,  2091.2,2,  2243.4,2,   7.7464,2,    25.00, -1.6495
06AQ19960712,ARKXII,63,2,17,167203,2,19960812,0008,86.4450,143.1250,980,    39.8, -1.6685, 33.5234,2, 33.5541,2,  -999.0,9,   371.3,2,    2.34,2,    4.00,2, -999.00,9,    0.43,2,   6.907,2,   3.160,2,   7.239,2,  -999.0,9,  -999.0,9,-999.0000,9,  -999.00, -1.6658
06AQ19960712,ARKXII,63,2,16,167202,2,19960812,0008,86.4450,143.1250,980,    59.9, -1.7271, 34.0257,2, 34.0360,2,  -999.0,9,   340.3,2,    3.71,2,    6.63,2, -999.00,9,    0.58,2,   6.364,2,   2.987,2,   5.129,2,  2133.5,2,  2265.0,2,   7.7008,2,    25.00, -1.7252
06AQ19960712,ARKXII,63,2,15,167201,2,19960812,0008,86.4450,143.1250,980,    79.9, -1.4760, 34.2084,2, 34.2077,2,  -999.0,9,   329.5,2,    3.90,2,    7.71,2, -999.00,9,    0.64,2,   6.033,2,   2.616,2,   4.952,2,  2129.1,2,  2266.4,2,   7.7027,2,    25.00, -1.4748
06AQ19960712,ARKXII,63,2,14,167200,2,19960812,0008,86.4450,143.1250,980,   100.2, -1.0349, 34.3111,2, 34.3207,2,  -999.0,9,   310.7,2,    4.88,2,    9.17,2, -999.00,9,    0.71,2,   5.110,2,   2.347,2,   4.501,2,  2139.3,2,  2267.5,2,   7.6844,2,    25.00, -1.0337
06AQ19960712,ARKXII,63,2,13,167199,2,19960812,0008,86.4450,143.1250,980,   125.2, -0.3072, 34.4772,2, 34.4810,2,  -999.0,9,   303.6,2,    5.27,2,   10.05,2, -999.00,9,    0.77,2,   4.552,2,   2.152,2,   4.250,2,  2141.3,2,  2272.9,2,   7.6862,2,    25.00, -0.3082
06AQ19960712,ARKXII,63,2,12,167198,2,19960812,0008,86.4450,143.1250,980,   150.3,  0.4722, 34.6258,2, 34.6293,2,  -999.0,9,   300.9,2,    5.37,2,   10.73,2, -999.00,9,    0.80,2,   4.411,2,   2.024,2,   4.673,2,  2140.3,2,  2278.0,2,   7.6978,2,    25.00,  0.4699
06AQ19960712,ARKXII,63,2,11,167197,2,19960812,0008,86.4450,143.1250,980,   200.3,  1.2531, 34.8061,2, 34.8028,2,  -999.0,9,   299.6,2,    5.46,2,   11.51,2, -999.00,9,    0.84,2,   4.338,2,   1.981,2,   5.041,2,  -999.0,9,  -999.0,9,-999.0000,9,  -999.00,  1.2474
06AQ19960712,ARKXII,63,2,10,167196,2,19960812,0008,86.4450,143.1250,980,   250.5,  1.4332, 34.8700,2, 34.8678,2,  -999.0,9,   302.5,2,    5.27,2,   11.71,2, -999.00,9,    0.85,2,   4.634,2,   1.985,2,   5.101,2,  2143.7,2,  2288.6,2,   7.7160,2,    25.00,  1.4245
06AQ19960712,ARKXII,63,2,9,167195,2,19960812,0008,86.4450,143.1250,980,   300.4,  1.1285, 34.8581,2, 34.8586,2,  -999.0,9,   301.2,2,    5.56,2,   11.80,2, -999.00,9,    0.85,2,   4.309,2,   1.860,2,   5.042,2,  -999.0,9,  -999.0,9,-999.0000,9,  -999.00,  1.1187
06AQ19960712,ARKXII,63,2,8,167194,2,19960812,0008,86.4450,143.1250,980,   400.0,  0.8417, 34.8697,2, 34.8690,2,  -999.0,9,   302.5,2,    5.66,2,   11.90,2, -999.00,9,    0.86,2,   4.065,2,   1.789,2,   5.144,2,  -999.0,9,  -999.0,9,-999.0000,9,  -999.00,  0.8275
06AQ19960712,ARKXII,63,2,7,167193,2,19960812,0008,86.4450,143.1250,980,   499.9,  0.5791, 34.8733,2, 34.8724,2,  -999.0,9,   302.3,2,    5.95,2,   11.90,2, -999.00,9,    0.87,2,   3.619,2,   1.713,2,   4.537,2,  2146.3,2,  2290.9,2,   7.7035,2,    25.00,  0.5605
06AQ19960712,ARKXII,63,2,6,167192,2,19960812,0008,86.4450,143.1250,980,   600.1,  0.3207, 34.8711,2, 34.8712,2,  -999.0,9,   304.5,2,    5.85,2,   11.80,2, -999.00,9,    0.86,2,   4.005,2,   1.861,2,   5.149,2,  -999.0,9,  -999.0,9,-999.0000,9,  -999.00,  0.2988
06AQ19960712,ARKXII,63,2,5,167191,2,19960812,0008,86.4450,143.1250,980,   700.6,  0.1035, 34.8729,2, 34.8726,2,  -999.0,9,   305.3,2,    6.05,2,   11.80,2, -999.00,9,    0.86,2,   3.797,2,   1.833,2,   4.813,2,  2151.7,2,  2291.0,2,   7.6900,2,    25.00,  0.0770
06AQ19960712,ARKXII,63,2,4,167190,2,19960812,0008,86.4450,143.1250,980,   800.5, -0.0201, 34.8799,2, 34.8797,2,  -999.0,9,   304.7,2,    6.34,2,   12.10,2, -999.00,9,    0.89,2,   3.580,2,   1.680,2,   4.594,2,  2154.8,2,  2290.9,2,   7.6919,2,    25.00, -0.0502
06AQ19960712,ARKXII,63,2,3,167189,2,19960812,0008,86.4450,143.1250,980,   858.4, -0.0888, 34.8832,2, 34.8833,2,  -999.0,9,   304.4,2,    6.54,2,   12.20,2, -999.00,9,    0.88,2,   3.549,2,   1.593,2,   4.560,2,  2156.0,2,  2292.8,2,   7.6928,2,    25.00, -0.1216
06AQ19960712,ARKXII,63,2,2,167188,2,19960812,0008,86.4450,143.1250,980,   908.6, -0.1409, 34.8854,2, 34.8850,2,  -999.0,9,   305.2,2,    6.73,2,   12.20,2, -999.00,9,    0.88,2,   3.494,2,   1.649,2,   4.405,2,  2155.9,2,  2291.1,2,   7.6890,2,    25.00, -0.1758
06AQ19960712,ARKXII,63,2,1,167187,2,19960812,0008,86.4450,143.1250,980,   956.0, -0.1983, 34.8893,2, 34.8892,2,  -999.0,9,   304.0,2,    6.83,2,   12.29,2, -999.00,9,    0.89,2,   3.217,2,   1.556,2,   4.177,2,  2151.7,2,  2291.8,2,   7.6900,2,    25.00, -0.2358