BOTTLE,20100322CCHDOSIODM
EXPOCODE,SECT_ID,STNNBR,CASTNO,SAMPNO,BTLNBR,BTLNBR_FLAG_W,DATE,TIME,LATITUDE,LONGITUDE,DEPTH,CTDPRS,CTDTMP,CTDSAL,CTDSAL_FLAG_W,SALNTY,SALNTY_FLAG_W,CTDOXY,CTDOXY_FLAG_W,OXYGEN,OXYGEN_FLAG_W,SILCAT,SILCAT_FLAG_W,NITRAT,NITRAT_FLAG_W,NITRIT,NITRIT_FLAG_W,PHSPHT,PHSPHT_FLAG_W,CFC-11,CFC-11_FLAG_W,CFC-12,CFC-12_FLAG_W,CCL4,CCL4_FLAG_W,TCARBN,TCARBN_FLAG_W,ALKALI,ALKALI_FLAG_W,PH_SWS,PH_SWS_FLAG_W,PH_TMP,THETA
,,,,,,,,,,,METERS,DBAR,ITS-90,PSS-78,,PSS-78,,UMOL/KG,,UMOL/KG,,UMOL/KG,,UMOL/KG,,UMOL/KG,,UMOL/KG,,PMOL/KG,,PMOL/KG,,PMOL/KG,,UMOL/KG,,UMOL/KG,,,,DEG C,DEG C
06AQ19960712,ARKXII,107,1,23,168715,2,19960904,0205,77.9917,132.5000,268,     2.2, -1.7291, 32.5533,2,-999.0000,9,  -999.0,9,  -999.0,9, -999.00,9, -999.00,9, -999.00,9, -999.00,9,-999.000,9,-999.000,9,-999.000,9,  -999.0,9,  -999.0,9,-999.0000,9,  -999.00,-999.0000
06AQ19960712,ARKXII,107,1,21,168713,2,19960904,0205,77.9917,132.5000,268,    10.9, -1.7276, 32.5895,2, 32.6594,2,  -999.0,9,   365.0,2,    3.51,2,    1.17,2, -999.00,9,    0.38,2,   6.721,2,   3.180,2,   6.506,2,  2085.4,2,  2222.2,2,   7.7099,2,    25.00, -1.7232
06AQ19960712,ARKXII,107,1,22,168714,2,19960904,0205,77.9917,132.5000,268,    10.9, -1.7294, 32.5797,2,-999.0000,9,  -999.0,9,  -999.0,9, -999.00,9, -999.00,9, -999.00,9, -999.00,9,-999.000,9,-999.000,9,-999.000,9,  -999.0,9,  -999.0,9,-999.0000,9,  -999.00,-999.0000
06AQ19960712,ARKXII,107,1,20,168712,2,19960904,0205,77.9917,132.5000,268,    20.1, -1.6937, 32.8539,2,-999.0000,9,  -999.0,9,  -999.0,9, -999.00,9, -999.00,9, -999.00,9, -999.00,9,-999.000,9,-999.000,9,-999.000,9,  -999.0,9,  -999.0,9,-999.0000,9,  -999.00,-999.0000
06AQ19960712,ARKXII,107,1,19,168711,2,19960904,0205,77.9917,132.5000,268,    20.1, -1.6853, 32.8859,2, 32.9503,2,  -999.0,9,   346.2,2,    5.07,2,    3.22,2, -999.00,9,    0.46,2,   6.717,2,   3.342,2,   6.377,2,  2114.4,2,  2242.2,2,   7.6665,2,    25.00, -1.6893
06AQ19960712,ARKXII,107,1,17,168709,2,19960904,0205,77.9917,132.5000,268,    30.2, -1.6622, 33.5689,2, 33.5754,2,  -999.0,9,   315.5,2, -999.00,9,    6.05,2, -999.00,9,    0.62,2,   6.841,2,   3.114,2,   6.421,2,  2175.9,2,  -999.0,9,   7.5984,2,    25.00, -1.6686
06AQ19960712,ARKXII,107,1,18,168710,2,19960904,0205,77.9917,132.5000,268,    30.2, -1.7065, 33.5338,2,-999.0000,9,  -999.0,9,  -999.0,9, -999.00,9, -999.00,9, -999.00,9, -999.00,9,-999.000,9,-999.000,9,-999.000,9,  -999.0,9,  -999.0,9,-999.0000,9,  -999.00,-999.0000
06AQ19960712,ARKXII,107,1,15,168707,2,19960904,0205,77.9917,132.5000,268,    40.7, -1.3597, 33.8518,2, 33.8673,2,  -999.0,9,   319.7,2,    5.76,2,    6.24,2, -999.00,9,    0.58,2,   6.480,2,   3.004,2,   6.682,2,  2153.1,2,  2280.1,2,   7.6394,2,    25.00, -1.3559
06AQ19960712,ARKXII,107,1,16,168708,2,19960904,0205,77.9917,132.5000,268,    40.7, -1.3518, 33.8267,2,-999.0000,9,  -999.0,9,  -999.0,9, -999.00,9, -999.00,9, -999.00,9, -999.00,9,-999.000,9,-999.000,9,-999.000,9,  -999.0,9,  -999.0,9,-999.0000,9,  -999.00,-999.0000
06AQ19960712,ARKXII,107,1,14,168706,2,19960904,0205,77.9917,132.5000,268,    51.0, -1.2827, 34.1206,2,-999.0000,9,  -999.0,9,  -999.0,9, -999.00,9, -999.00,9, -999.00,9, -999.00,9,-999.000,9,-999.000,9,-999.000,9,  -999.0,9,  -999.0,9,-999.0000,9,  -999.00,-999.0000
06AQ19960712,ARKXII,107,1,13,168705,2,19960904,0205,77.9917,132.5000,268,    60.9, -1.2595, 34.2043,2, 34.2002,2,  -999.0,9,   315.6,2,    5.07,2,    6.73,2, -999.00,9,    0.60,2,   6.572,2,   3.020,2,   6.543,2,  2151.0,2,  2286.4,2,   7.6575,2,    25.00, -1.2535
06AQ19960712,ARKXII,107,1,11,168703,2,19960904,0205,77.9917,132.5000,268,    80.3, -1.1274, 34.3305,2, 34.3299,2,  -999.0,9,   310.0,2,    5.17,2,    7.51,2, -999.00,9,    0.63,2,   6.342,2,   2.994,2,   6.475,2,  2152.0,2,  2282.8,2,   7.6565,2,    25.00, -1.1460
06AQ19960712,ARKXII,107,1,12,168704,2,19960904,0205,77.9917,132.5000,268,    80.3, -1.1479, 34.3313,2,-999.0000,9,  -999.0,9,  -999.0,9, -999.00,9, -999.00,9, -999.00,9, -999.00,9,-999.000,9,-999.000,9,-999.000,9,  -999.0,9,  -999.0,9,-999.0000,9,  -999.00,-999.0000
06AQ19960712,ARKXII,107,1,9,168701,2,19960904,0205,77.9917,132.5000,268,    99.5, -1.0085, 34.3750,2, 34.3771,2,  -999.0,9,   305.3,2,    5.66,2,    8.10,2, -999.00,9,    0.66,2,   6.289,2,   3.090,2,   6.093,2,  2156.6,2,  2290.7,2,   7.6517,2,    25.00, -1.0077
06AQ19960712,ARKXII,107,1,10,168702,2,19960904,0205,77.9917,132.5000,268,    99.5, -1.0089, 34.3744,2,-999.0000,9,  -999.0,9,  -999.0,9, -999.00,9, -999.00,9, -999.00,9, -999.00,9,-999.000,9,-999.000,9,-999.000,9,  -999.0,9,  -999.0,9,-999.0000,9,  -999.00,-999.0000
06AQ19960712,ARKXII,107,1,7,168699,2,19960904,0205,77.9917,132.5000,268,   150.6, -0.8308, 34.4624,2, 34.4629,2,  -999.0,9,   306.1,2,    5.46,2,    8.29,2, -999.00,9,    0.66,2,   6.095,2,   2.833,2,   6.324,2,  2156.5,2,  2294.7,2,   7.6564,2,    25.00, -0.8334
06AQ19960712,ARKXII,107,1,8,168700,2,19960904,0205,77.9917,132.5000,268,   150.6, -0.8340, 34.4604,2,-999.0000,9,  -999.0,9,  -999.0,9, -999.00,9, -999.00,9, -999.00,9, -999.00,9,-999.000,9,-999.000,9,-999.000,9,  -999.0,9,  -999.0,9,-999.0000,9,  -999.00,-999.0000
06AQ19960712,ARKXII,107,1,5,168697,2,19960904,0205,77.9917,132.5000,268,   209.1, -0.4001, 34.5794,2, 34.6025,2,  -999.0,9,   306.4,2,    5.66,2,    9.37,2, -999.00,9,    0.69,2,   5.905,2,   2.740,2,   6.374,2,  -999.0,9,  -999.0,9,-999.0000,9,  -999.00, -0.3960
06AQ19960712,ARKXII,107,1,6,168698,2,19960904,0205,77.9917,132.5000,268,   209.2, -0.4098, 34.5799,2,-999.0000,9,  -999.0,9,  -999.0,9, -999.00,9, -999.00,9, -999.00,9, -999.00,9,-999.000,9,-999.000,9,-999.000,9,  -999.0,9,  -999.0,9,-999.0000,9,  -999.00,-999.0000
06AQ19960712,ARKXII,107,1,3,168695,2,19960904,0205,77.9917,132.5000,268,   250.6,  0.1389, 34.6639,2, 34.6717,2,  -999.0,9,   306.1,2,    5.37,2,    9.85,2, -999.00,9,    0.71,2,   5.690,2,   2.860,2,   5.999,2,  2150.7,2,  2300.9,2,   7.6813,2,    25.00,  0.1253
06AQ19960712,ARKXII,107,1,4,168696,2,19960904,0205,77.9917,132.5000,268,   250.7,  0.1265, 34.6629,2,-999.0000,9,  -999.0,9,  -999.0,9, -999.00,9, -999.00,9, -999.00,9, -999.00,9,-999.000,9,-999.000,9,-999.000,9,  -999.0,9,  -999.0,9,-999.0000,9,  -999.00,-999.0000
06AQ19960712,ARKXII,107,1,1,168693,2,19960904,0205,77.9917,132.5000,268,   267.9,  0.2324, 34.6870,2, 34.6837,2,  -999.0,9,   306.4,2,    5.46,2,    9.85,2, -999.00,9,    0.70,2,   5.469,2,   2.512,2,   5.782,2,  2151.8,2,  2303.8,2,   7.6852,2,    25.00,  0.2234
06AQ19960712,ARKXII,107,1,2,168694,2,19960904,0205,77.9917,132.5000,268,   267.9,  0.2174, 34.6847,2,-999.0000,9,  -999.0,9,  -999.0,9, -999.00,9, -999.00,9, -999.00,9, -999.00,9,-999.000,9,-999.000,9,-999.000,9,  -999.0,9,  -999.0,9,-999.0000,9,  -999.00,-999.0000