BOTTLE,20100322CCHDOSIODM
EXPOCODE,SECT_ID,STNNBR,CASTNO,SAMPNO,BTLNBR,BTLNBR_FLAG_W,DATE,TIME,LATITUDE,LONGITUDE,DEPTH,CTDPRS,CTDTMP,CTDSAL,CTDSAL_FLAG_W,SALNTY,SALNTY_FLAG_W,CTDOXY,CTDOXY_FLAG_W,OXYGEN,OXYGEN_FLAG_W,SILCAT,SILCAT_FLAG_W,NITRAT,NITRAT_FLAG_W,NITRIT,NITRIT_FLAG_W,PHSPHT,PHSPHT_FLAG_W,CFC-11,CFC-11_FLAG_W,CFC-12,CFC-12_FLAG_W,CCL4,CCL4_FLAG_W,TCARBN,TCARBN_FLAG_W,ALKALI,ALKALI_FLAG_W,PH_SWS,PH_SWS_FLAG_W,PH_TMP,THETA
,,,,,,,,,,,METERS,DBAR,ITS-90,PSS-78,,PSS-78,,UMOL/KG,,UMOL/KG,,UMOL/KG,,UMOL/KG,,UMOL/KG,,UMOL/KG,,PMOL/KG,,PMOL/KG,,PMOL/KG,,UMOL/KG,,UMOL/KG,,,,DEG C,DEG C
06AQ19960712,ARKXII,27,1,33,165940,2,19960801,0108,81.8367,88.5350,328,     2.5, -1.7119, 33.4388,2,-999.0000,9,  -999.0,9,   368.4,2, -999.00,9, -999.00,9, -999.00,9, -999.00,9,-999.000,9,-999.000,9,-999.000,9,  2076.7,2,  -999.0,9,   7.7746,2,    25.00, -1.7070
06AQ19960712,ARKXII,27,1,32,165939,2,19960801,0108,81.8367,88.5350,328,    10.6, -1.7324, 33.4329,2,-999.0000,9,  -999.0,9,  -999.0,9, -999.00,9, -999.00,9, -999.00,9, -999.00,9,-999.000,9,-999.000,9,-999.000,9,  -999.0,9,  -999.0,9,-999.0000,9,  -999.00,-999.0000
06AQ19960712,ARKXII,27,1,31,165938,2,19960801,0108,81.8367,88.5350,328,    10.7, -1.7253, 33.4404,2, 33.6156,2,  -999.0,9,   358.6,2,    2.73,2,    2.93,2, -999.00,9,    0.29,2,   6.520,2,   3.212,2,   7.574,2,  2090.3,2,  -999.0,9,   7.7570,2,    25.00, -1.7242
06AQ19960712,ARKXII,27,1,29,165936,2,19960801,0108,81.8367,88.5350,328,    20.5, -1.7791, 33.6645,2,-999.0000,9,  -999.0,9,  -999.0,9, -999.00,9, -999.00,9, -999.00,9, -999.00,9,-999.000,9,-999.000,9,-999.000,9,  -999.0,9,  -999.0,9,-999.0000,9,  -999.00,-999.0000
06AQ19960712,ARKXII,27,1,27,165934,2,19960801,0108,81.8367,88.5350,328,    20.5, -1.7726, 33.6992,2, 33.7036,2,  -999.0,9,   350.5,2,    2.93,2,    3.61,2, -999.00,9,    0.34,2,   6.369,2,   3.214,2,   7.430,2,  2099.3,2,  -999.0,9,   7.7434,2,    25.00, -1.7694
06AQ19960712,ARKXII,27,1,28,165935,2,19960801,0108,81.8367,88.5350,328,    20.5, -1.7757, 33.6837,2,-999.0000,9,  -999.0,9,  -999.0,9, -999.00,9, -999.00,9, -999.00,9, -999.00,9,-999.000,9,-999.000,9,-999.000,9,  -999.0,9,  -999.0,9,-999.0000,9,  -999.00,-999.0000
06AQ19960712,ARKXII,27,1,30,165937,2,19960801,0108,81.8367,88.5350,328,    20.5, -1.7763, 33.6927,2,-999.0000,9,  -999.0,9,  -999.0,9, -999.00,9, -999.00,9, -999.00,9, -999.00,9,-999.000,9,-999.000,9,-999.000,9,  -999.0,9,  -999.0,9,-999.0000,9,  -999.00,-999.0000
06AQ19960712,ARKXII,27,1,26,165933,2,19960801,0108,81.8367,88.5350,328,    30.5, -1.7687, 33.8567,2,-999.0000,9,  -999.0,9,  -999.0,9, -999.00,9, -999.00,9, -999.00,9, -999.00,9,-999.000,9,-999.000,9,-999.000,9,  -999.0,9,  -999.0,9,-999.0000,9,  -999.00,-999.0000
06AQ19960712,ARKXII,27,1,25,165932,2,19960801,0108,81.8367,88.5350,328,    30.5, -1.7690, 33.8512,2, 33.8814,2,  -999.0,9,   335.2,2, -999.00,9,    4.98,2, -999.00,9,    0.45,2,   6.363,2,   3.171,2,   7.283,2,  2116.7,2,  -999.0,9,   7.7182,2,    25.00, -1.7666
06AQ19960712,ARKXII,27,1,24,165931,2,19960801,0108,81.8367,88.5350,328,    40.7, -1.7872, 33.9958,2,-999.0000,9,  -999.0,9,  -999.0,9, -999.00,9, -999.00,9, -999.00,9, -999.00,9,-999.000,9,-999.000,9,-999.000,9,  -999.0,9,  -999.0,9,-999.0000,9,  -999.00,-999.0000
06AQ19960712,ARKXII,27,1,23,165930,2,19960801,0108,81.8367,88.5350,328,    40.7, -1.7905, 34.0115,2, 34.0251,2,  -999.0,9,   332.0,2, -999.00,9,    5.66,2, -999.00,9,    0.47,2,   6.221,2,   3.129,2,   7.220,2,  2119.0,2,  -999.0,9,   7.7153,2,    25.00, -1.7878
06AQ19960712,ARKXII,27,1,22,165929,2,19960801,0108,81.8367,88.5350,328,    50.7, -1.7900, 34.2134,2, 34.2170,2,  -999.0,9,   324.0,2,    3.32,2,    6.63,2, -999.00,9,    0.51,2,   6.329,2,   2.994,2,   7.052,2,  2127.7,2,  -999.0,9,   7.7104,2,    25.00, -1.7880
06AQ19960712,ARKXII,27,1,21,165928,2,19960801,0108,81.8367,88.5350,328,    50.7, -1.7867, 34.2195,2,-999.0000,9,  -999.0,9,  -999.0,9, -999.00,9, -999.00,9, -999.00,9, -999.00,9,-999.000,9,-999.000,9,-999.000,9,  -999.0,9,  -999.0,9,-999.0000,9,  -999.00,-999.0000
06AQ19960712,ARKXII,27,1,20,165927,2,19960801,0108,81.8367,88.5350,328,    60.6, -1.7811, 34.3205,2, 34.3176,2,  -999.0,9,   320.9,2,    3.51,2,    7.12,2, -999.00,9,    0.54,2,   6.430,2,   3.037,2,   7.276,2,  2130.2,2,  -999.0,9,   7.7075,2,    25.00, -1.7892
06AQ19960712,ARKXII,27,1,19,165926,2,19960801,0108,81.8367,88.5350,328,    75.4, -1.3144, 34.4161,2, 34.4057,2,  -999.0,9,   320.0,2,    4.00,2,    8.10,2, -999.00,9,    0.59,2,   6.428,2,   3.052,2,   7.193,2,  2133.3,2,  -999.0,9,   7.7026,2,    25.00, -1.3208
06AQ19960712,ARKXII,27,1,18,165925,2,19960801,0108,81.8367,88.5350,328,    80.5, -1.3753, 34.4409,2, 34.4439,2,  -999.0,9,   319.3,2,    3.80,2,    7.90,2, -999.00,9,    0.58,2,   6.346,2,   3.066,2,   7.029,2,  2132.5,2,  -999.0,9,   7.7055,2,    25.00, -1.3899
06AQ19960712,ARKXII,27,1,16,165923,2,19960801,0108,81.8367,88.5350,328,   100.5, -0.2421, 34.6245,2, 34.6256,2,  -999.0,9,   313.2,2,    4.29,2,    9.07,2, -999.00,9,    0.64,2,   5.865,2,   2.861,2,   6.799,2,  2137.1,2,  -999.0,9,   7.7045,2,    25.00, -0.2424
06AQ19960712,ARKXII,27,1,17,165924,2,19960801,0108,81.8367,88.5350,328,   100.5, -0.2487, 34.6193,2,-999.0000,9,  -999.0,9,  -999.0,9, -999.00,9, -999.00,9, -999.00,9, -999.00,9,-999.000,9,-999.000,9,-999.000,9,  -999.0,9,  -999.0,9,-999.0000,9,  -999.00,-999.0000
06AQ19960712,ARKXII,27,1,15,165922,2,19960801,0108,81.8367,88.5350,328,   125.7,  0.8288, 34.7707,2, 34.7756,2,  -999.0,9,   306.5,2,    4.98,2,   10.24,2, -999.00,9,    0.72,2,   5.532,2,   2.752,2,   6.222,2,  2142.8,2,  -999.0,9,   7.7034,2,    25.00,  0.8006
06AQ19960712,ARKXII,27,1,14,165921,2,19960801,0108,81.8367,88.5350,328,   150.7,  1.0485, 34.8205,2,-999.0000,9,  -999.0,9,  -999.0,9, -999.00,9, -999.00,9, -999.00,9, -999.00,9,-999.000,9,-999.000,9,-999.000,9,  -999.0,9,  -999.0,9,-999.0000,9,  -999.00,-999.0000
06AQ19960712,ARKXII,27,1,13,165920,2,19960801,0108,81.8367,88.5350,328,   160.5,  1.1217, 34.8368,2, 34.8366,2,  -999.0,9,   305.6,2,    5.46,2,   11.22,2, -999.00,9,    0.75,2,   5.424,2,   2.729,2,   6.123,2,  2142.8,2,  -999.0,9,   7.7034,2,    25.00,  1.1196
06AQ19960712,ARKXII,27,1,9,165916,2,19960801,0108,81.8367,88.5350,328,   201.5,  0.8612, 34.8443,2, 34.8465,2,  -999.0,9,   306.7,2,    5.56,2,   11.22,2, -999.00,9,    0.76,2,   5.496,2,   2.598,2,   6.185,2,  2146.7,2,  -999.0,9,   7.6986,2,    25.00,  0.8581
06AQ19960712,ARKXII,27,1,10,165917,2,19960801,0108,81.8367,88.5350,328,   201.5,  0.8646, 34.8453,2,-999.0000,9,  -999.0,9,  -999.0,9, -999.00,9, -999.00,9, -999.00,9, -999.00,9,-999.000,9,-999.000,9,-999.000,9,  -999.0,9,  -999.0,9,-999.0000,9,  -999.00,-999.0000
06AQ19960712,ARKXII,27,1,11,165918,2,19960801,0108,81.8367,88.5350,328,   201.5,  0.8654, 34.8455,2,-999.0000,9,  -999.0,9,  -999.0,9, -999.00,9, -999.00,9, -999.00,9, -999.00,9,-999.000,9,-999.000,9,-999.000,9,  -999.0,9,  -999.0,9,-999.0000,9,  -999.00,-999.0000
06AQ19960712,ARKXII,27,1,12,165919,2,19960801,0108,81.8367,88.5350,328,   201.5,  0.8644, 34.8456,2,-999.0000,9,  -999.0,9,  -999.0,9, -999.00,9, -999.00,9, -999.00,9, -999.00,9,-999.000,9,-999.000,9,-999.000,9,  -999.0,9,  -999.0,9,-999.0000,9,  -999.00,-999.0000
06AQ19960712,ARKXII,27,1,7,165914,2,19960801,0108,81.8367,88.5350,328,   251.5,  0.0378, 34.8215,2, 34.8237,2,  -999.0,9,   306.4,2,    5.66,2,   10.73,2, -999.00,9,    0.75,2,   5.802,2,   2.953,2,   6.563,2,  2157.3,2,  -999.0,9,   7.6822,2,    25.00,  0.0345
06AQ19960712,ARKXII,27,1,8,165915,2,19960801,0108,81.8367,88.5350,328,   251.5,  0.0348, 34.8215,2,-999.0000,9,  -999.0,9,  -999.0,9, -999.00,9, -999.00,9, -999.00,9, -999.00,9,-999.000,9,-999.000,9,-999.000,9,  -999.0,9,  -999.0,9,-999.0000,9,  -999.00,-999.0000
06AQ19960712,ARKXII,27,1,6,165913,2,19960801,0108,81.8367,88.5350,328,   300.9,  0.0054, 34.8202,2, 34.8197,2,  -999.0,9,   306.5,2,    5.66,2,   10.83,2, -999.00,9,    0.76,2,   6.018,2,   2.991,2,   6.601,2,  2157.3,2,  -999.0,9,   7.6803,2,    25.00, -0.0024
06AQ19960712,ARKXII,27,1,3,165910,2,19960801,0108,81.8367,88.5350,328,   310.1,  0.0081, 34.8199,2,-999.0000,9,  -999.0,9,  -999.0,9, -999.00,9, -999.00,9, -999.00,9, -999.00,9,-999.000,9,-999.000,9,-999.000,9,  -999.0,9,  -999.0,9,-999.0000,9,  -999.00,-999.0000
06AQ19960712,ARKXII,27,1,5,165912,2,19960801,0108,81.8367,88.5350,328,   310.2,  0.0082, 34.8197,2,-999.0000,9,  -999.0,9,  -999.0,9, -999.00,9, -999.00,9, -999.00,9, -999.00,9,-999.000,9,-999.000,9,-999.000,9,  -999.0,9,  -999.0,9,-999.0000,9,  -999.00,-999.0000
06AQ19960712,ARKXII,27,1,4,165911,2,19960801,0108,81.8367,88.5350,328,   310.2,  0.0081, 34.8199,2,-999.0000,9,  -999.0,9,  -999.0,9, -999.00,9, -999.00,9, -999.00,9, -999.00,9,-999.000,9,-999.000,9,-999.000,9,  -999.0,9,  -999.0,9,-999.0000,9,  -999.00,-999.0000
06AQ19960712,ARKXII,27,1,2,165909,2,19960801,0108,81.8367,88.5350,328,   310.2,  0.0045, 34.8204,2, 34.8194,2,  -999.0,9,   306.3,2,    5.66,2,   10.63,2, -999.00,9,    0.75,2,   5.829,2,   2.865,2,   6.618,2,  2156.0,2,  -999.0,9,   7.6765,2,    25.00, -0.0039
06AQ19960712,ARKXII,27,1,1,165908,2,19960801,0108,81.8367,88.5350,328,   319.4,  0.0099, 34.8196,2, 34.8198,2,  -999.0,9,   306.4,2,    5.66,2,   10.73,2, -999.00,9,    0.74,2,   5.824,2,   2.868,2,   6.695,2,  2155.8,2,  2264.0,3,   7.6823,2,    25.00,  0.0018
06AQ19960712,ARKXII,28,1,23,165963,2,19960801,0400,81.8067,89.3067,193,    10.7, -1.7163, 33.4611,2, 33.4694,2,  -999.0,9,   369.9,2,    2.63,2,    2.63,2, -999.00,9,    0.30,2,-999.000,9,-999.000,9,-999.000,9,  2087.2,2,  2273.4,3,   7.7570,2,    25.00, -1.7172
06AQ19960712,ARKXII,28,1,22,165962,2,19960801,0400,81.8067,89.3067,193,    20.6, -1.6234, 33.9966,2, 33.9769,2,  -999.0,9,   325.3,2,    3.71,2,    6.34,2, -999.00,9,    0.53,2,   6.314,2,   3.112,2,   7.284,2,  -999.0,9,  2280.9,2,   7.6960,2,    25.00, -1.6294
06AQ19960712,ARKXII,28,1,21,165961,2,19960801,0400,81.8067,89.3067,193,    30.3, -1.6366, 34.2648,2, 34.2390,2,  -999.0,9,   319.9,2,    3.80,2,    7.32,2, -999.00,9,    0.55,2,   6.233,2,   3.117,2,   7.297,2,  -999.0,9,  2280.5,2,   7.6979,2,    25.00, -1.6286
06AQ19960712,ARKXII,28,1,20,165960,2,19960801,0400,81.8067,89.3067,193,    40.5, -1.6386, 34.3429,2, 34.3401,2,  -999.0,9,   319.3,2,    3.71,2,    7.51,2, -999.00,9,    0.55,2,   6.393,2,   3.072,2,   7.420,2,  2132.3,2,  2284.5,2,   7.6978,2,    25.00, -1.6318
06AQ19960712,ARKXII,28,1,19,165959,2,19960801,0400,81.8067,89.3067,193,    50.0, -1.5593, 34.4196,2, 34.4154,2,  -999.0,9,   320.2,2,    3.51,2,    7.71,2, -999.00,9,    0.56,2,   6.548,2,   3.048,2,   7.021,2,  2131.7,2,  2285.8,2,   7.7036,2,    25.00, -1.5731
06AQ19960712,ARKXII,28,1,18,165958,2,19960801,0400,81.8067,89.3067,193,    60.4, -1.1026, 34.4930,2, 34.4765,2,  -999.0,9,   317.2,2,    3.80,2,    8.00,2, -999.00,9,    0.59,2,   6.242,2,   3.075,2,   7.454,2,  2137.9,2,  2295.1,2,   7.7026,2,    25.00, -1.1155
06AQ19960712,ARKXII,28,1,17,165957,2,19960801,0400,81.8067,89.3067,193,    80.5, -0.1614, 34.6444,2, 34.6386,2,  -999.0,9,   312.2,2,    4.10,2,    9.17,2, -999.00,9,    0.65,2,   6.291,2,   2.963,2,   6.853,2,  2144.5,2,  2301.4,2,   7.7025,2,    25.00, -0.1927
06AQ19960712,ARKXII,28,1,16,165956,2,19960801,0400,81.8067,89.3067,193,   100.4, -0.0243, 34.7219,2, 34.7182,2,  -999.0,9,   310.3,2,    4.59,2,    9.95,2, -999.00,9,    0.68,2,   6.333,2,   2.990,2,   6.553,2,  2150.9,2,  2289.9,2,   7.6919,2,    25.00, -0.0246
06AQ19960712,ARKXII,28,1,15,165955,2,19960801,0400,81.8067,89.3067,193,   124.3,  0.6446, 34.8022,2, 34.8033,2,  -999.0,9,   307.1,2,    5.17,2,   10.93,2, -999.00,9,    0.74,2,-999.000,9,   2.840,2,   6.609,2,  2150.1,2,  2289.8,2,   7.6987,2,    25.00,  0.6178
06AQ19960712,ARKXII,28,1,14,165954,2,19960801,0400,81.8067,89.3067,193,   140.0,  0.1368, 34.7761,2, 34.7756,2,  -999.0,9,   307.7,2,    5.27,2,   10.73,2, -999.00,9,    0.72,2,   6.046,2,   2.949,2,   6.760,2,  2156.4,2,  2286.7,2,   7.6842,2,    25.00,  0.1417
06AQ19960712,ARKXII,28,1,13,165953,2,19960801,0400,81.8067,89.3067,193,   160.2,  0.0461, 34.7745,2, 34.7735,2,  -999.0,9,   307.7,2,    5.27,2,   10.54,2, -999.00,9,    0.71,2,   5.885,2,   2.914,2,   6.893,2,  2155.9,2,  2295.5,2,   7.6881,2,    25.00,  0.0441
06AQ19960712,ARKXII,28,1,12,165952,2,19960801,0400,81.8067,89.3067,193,   170.6,  0.0554, 34.7741,2,-999.0000,9,  -999.0,9,  -999.0,9, -999.00,9, -999.00,9, -999.00,9, -999.00,9,-999.000,9,-999.000,9,-999.000,9,  -999.0,9,  -999.0,9,-999.0000,9,  -999.00,-999.0000
06AQ19960712,ARKXII,28,1,11,165951,2,19960801,0400,81.8067,89.3067,193,   170.6,  0.0519, 34.7740,2,-999.0000,9,  -999.0,9,  -999.0,9, -999.00,9, -999.00,9, -999.00,9, -999.00,9,-999.000,9,-999.000,9,-999.000,9,  -999.0,9,  -999.0,9,-999.0000,9,  -999.00,-999.0000
06AQ19960712,ARKXII,28,1,10,165950,2,19960801,0400,81.8067,89.3067,193,   170.6,  0.0493, 34.7734,2,-999.0000,9,  -999.0,9,  -999.0,9, -999.00,9, -999.00,9, -999.00,9, -999.00,9,-999.000,9,-999.000,9,-999.000,9,  -999.0,9,  -999.0,9,-999.0000,9,  -999.00,-999.0000
06AQ19960712,ARKXII,28,1,4,165944,2,19960801,0400,81.8067,89.3067,193,   170.6,  0.0597, 34.7756,2,-999.0000,9,  -999.0,9,  -999.0,9, -999.00,9, -999.00,9, -999.00,9, -999.00,9,-999.000,9,-999.000,9,-999.000,9,  -999.0,9,  -999.0,9,-999.0000,9,  -999.00,-999.0000
06AQ19960712,ARKXII,28,1,5,165945,2,19960801,0400,81.8067,89.3067,193,   170.6,  0.0578, 34.7758,2,-999.0000,9,  -999.0,9,  -999.0,9, -999.00,9, -999.00,9, -999.00,9, -999.00,9,-999.000,9,-999.000,9,-999.000,9,  -999.0,9,  -999.0,9,-999.0000,9,  -999.00,-999.0000
06AQ19960712,ARKXII,28,1,6,165946,2,19960801,0400,81.8067,89.3067,193,   170.6,  0.0554, 34.7756,2,-999.0000,9,  -999.0,9,  -999.0,9, -999.00,9, -999.00,9, -999.00,9, -999.00,9,-999.000,9,-999.000,9,-999.000,9,  -999.0,9,  -999.0,9,-999.0000,9,  -999.00,-999.0000
06AQ19960712,ARKXII,28,1,7,165947,2,19960801,0400,81.8067,89.3067,193,   170.6,  0.0522, 34.7742,2,-999.0000,9,  -999.0,9,  -999.0,9, -999.00,9, -999.00,9, -999.00,9, -999.00,9,-999.000,9,-999.000,9,-999.000,9,  -999.0,9,  -999.0,9,-999.0000,9,  -999.00,-999.0000
06AQ19960712,ARKXII,28,1,8,165948,2,19960801,0400,81.8067,89.3067,193,   170.6,  0.0495, 34.7739,2,-999.0000,9,  -999.0,9,  -999.0,9, -999.00,9, -999.00,9, -999.00,9, -999.00,9,-999.000,9,-999.000,9,-999.000,9,  -999.0,9,  -999.0,9,-999.0000,9,  -999.00,-999.0000
06AQ19960712,ARKXII,28,1,9,165949,2,19960801,0400,81.8067,89.3067,193,   170.6,  0.0473, 34.7747,2,-999.0000,9,  -999.0,9,  -999.0,9, -999.00,9, -999.00,9, -999.00,9, -999.00,9,-999.000,9,-999.000,9,-999.000,9,  -999.0,9,  -999.0,9,-999.0000,9,  -999.00,-999.0000
06AQ19960712,ARKXII,28,1,2,165942,2,19960801,0400,81.8067,89.3067,193,   170.6,  0.0596, 34.7761,2, 34.7759,2,  -999.0,9,   308.1,2,    5.27,2,   10.83,2, -999.00,9,    0.72,2,-999.000,9,   2.980,2,   6.851,2,  2155.6,2,  2302.5,2,   7.6823,2,    25.00,  0.0576
06AQ19960712,ARKXII,28,1,3,165943,2,19960801,0400,81.8067,89.3067,193,   170.6,  0.0597, 34.7760,2,-999.0000,9,  -999.0,9,  -999.0,9, -999.00,9, -999.00,9, -999.00,9, -999.00,9,-999.000,9,-999.000,9,-999.000,9,  -999.0,9,  -999.0,9,-999.0000,9,  -999.00,-999.0000
06AQ19960712,ARKXII,28,1,1,165941,2,19960801,0400,81.8067,89.3067,193,   182.9,  0.0571, 34.7749,2, 34.7755,2,  -999.0,9,   308.1,2,    5.37,2,   10.63,2, -999.00,9,    0.71,2,   6.079,2,   2.937,2,   6.721,2,  2155.2,2,  -999.0,9,   7.6851,2,    25.00,  0.0542
06AQ19960712,ARKXII,29,1,17,165980,2,19960801,0650,81.7467,90.2533,99,     2.9, -1.6856, 33.7995,2,-999.0000,9,  -999.0,9,  -999.0,9, -999.00,9, -999.00,9, -999.00,9, -999.00,9,-999.000,9,-999.000,9,-999.000,9,  -999.0,9,  -999.0,9,-999.0000,9,  -999.00,-999.0000
06AQ19960712,ARKXII,29,1,15,165978,2,19960801,0650,81.7467,90.2533,99,    10.7, -1.6509, 33.9440,2, 33.9399,2,  -999.0,9,   339.3,2,    3.02,2,    4.88,2, -999.00,9,    0.45,2,   7.179,2,   3.184,2,   7.377,2,  -999.0,9,  -999.0,9,   7.7250,2,    25.00, -1.6692
06AQ19960712,ARKXII,29,1,16,165979,2,19960801,0650,81.7467,90.2533,99,    10.8, -1.6776, 33.8465,2,-999.0000,9,  -999.0,9,  -999.0,9, -999.00,9, -999.00,9, -999.00,9, -999.00,9,-999.000,9,-999.000,9,-999.000,9,  -999.0,9,  -999.0,9,-999.0000,9,  -999.00,-999.0000
06AQ19960712,ARKXII,29,1,13,165976,2,19960801,0650,81.7467,90.2533,99,    20.8, -1.6221, 34.0527,2, 34.0313,2,  -999.0,9,   331.8,2,    3.32,2,    5.76,2, -999.00,9,    0.50,2,-999.000,9,-999.000,9,-999.000,9,  -999.0,9,  -999.0,9,   7.7124,2,    25.00, -1.6214
06AQ19960712,ARKXII,29,1,14,165977,2,19960801,0650,81.7467,90.2533,99,    20.8, -1.6292, 34.0189,2,-999.0000,9,  -999.0,9,  -999.0,9, -999.00,9, -999.00,9, -999.00,9, -999.00,9,-999.000,9,-999.000,9,-999.000,9,  -999.0,9,  -999.0,9,-999.0000,9,  -999.00,-999.0000
06AQ19960712,ARKXII,29,1,11,165974,2,19960801,0650,81.7467,90.2533,99,    30.8, -1.4722, 34.2575,2, 34.2466,2,  -999.0,9,   320.8,2,    3.51,2,    7.02,2, -999.00,9,    0.58,2,   6.857,2,   3.144,2,   7.300,2,  -999.0,9,  -999.0,9,   7.6930,2,    25.00, -1.5456
06AQ19960712,ARKXII,29,1,12,165975,2,19960801,0650,81.7467,90.2533,99,    30.8, -1.5788, 34.2007,2,-999.0000,9,  -999.0,9,  -999.0,9, -999.00,9, -999.00,9, -999.00,9, -999.00,9,-999.000,9,-999.000,9,-999.000,9,  -999.0,9,  -999.0,9,-999.0000,9,  -999.00,-999.0000
06AQ19960712,ARKXII,29,1,9,165972,2,19960801,0650,81.7467,90.2533,99,    40.6, -1.1448, 34.4306,2, 34.4010,2,  -999.0,9,   318.5,2, -999.00,9, -999.00,9, -999.00,9, -999.00,9,   6.664,2,   2.982,2,   7.103,2,  -999.0,9,  -999.0,9,   7.6891,2,    25.00, -1.1980
06AQ19960712,ARKXII,29,1,10,165973,2,19960801,0650,81.7467,90.2533,99,    40.6, -1.2546, 34.3969,2,-999.0000,9,  -999.0,9,  -999.0,9, -999.00,9, -999.00,9, -999.00,9, -999.00,9,-999.000,9,-999.000,9,-999.000,9,  -999.0,9,  -999.0,9,-999.0000,9,  -999.00,-999.0000
06AQ19960712,ARKXII,29,1,7,165970,2,19960801,0650,81.7467,90.2533,99,    50.8, -0.8290, 34.5273,2, 34.4886,2,  -999.0,9,   316.1,2,    4.00,2,    8.20,2, -999.00,9,    0.64,2,   6.719,2,   3.019,2,   7.033,2,  -999.0,9,  -999.0,9,   7.6881,2,    25.00, -0.8614
06AQ19960712,ARKXII,29,1,8,165971,2,19960801,0650,81.7467,90.2533,99,    50.8, -0.9758, 34.4879,2,-999.0000,9,  -999.0,9,  -999.0,9, -999.00,9, -999.00,9, -999.00,9, -999.00,9,-999.000,9,-999.000,9,-999.000,9,  -999.0,9,  -999.0,9,-999.0000,9,  -999.00,-999.0000
06AQ19960712,ARKXII,29,1,6,165969,2,19960801,0650,81.7467,90.2533,99,    61.0, -0.5800, 34.6075,2, 34.5863,2,  -999.0,9,   312.6,2,    4.49,2,    8.88,2, -999.00,9,    0.64,2,-999.000,9,-999.000,9,-999.000,9,  -999.0,9,  -999.0,9,   7.6823,2,    25.00, -0.5608
06AQ19960712,ARKXII,29,1,4,165967,2,19960801,0650,81.7467,90.2533,99,    80.6, -0.7028, 34.6357,2, 34.6319,2,  -999.0,9,   307.4,2,    5.37,2,    9.85,2, -999.00,9,    0.73,2,   6.633,2,   2.995,2,   7.025,2,  -999.0,9,  -999.0,9,   7.6650,2,    25.00, -0.7014
06AQ19960712,ARKXII,29,1,5,165968,2,19960801,0650,81.7467,90.2533,99,    80.7, -0.7014, 34.6347,2,-999.0000,9,  -999.0,9,  -999.0,9, -999.00,9, -999.00,9, -999.00,9, -999.00,9,-999.000,9,-999.000,9,-999.000,9,  -999.0,9,  -999.0,9,-999.0000,9,  -999.00,-999.0000
06AQ19960712,ARKXII,29,1,2,165965,2,19960801,0650,81.7467,90.2533,99,    89.9, -0.7038, 34.6365,2, 34.6329,2,  -999.0,9,   307.7,2,    5.37,2,    9.95,2, -999.00,9,    0.76,2,-999.000,9,-999.000,9,-999.000,9,  -999.0,9,  -999.0,9,   7.6621,2,    25.00, -0.7027
06AQ19960712,ARKXII,29,1,3,165966,2,19960801,0650,81.7467,90.2533,99,    90.0, -0.7028, 34.6351,2,-999.0000,9,  -999.0,9,  -999.0,9, -999.00,9, -999.00,9, -999.00,9, -999.00,9,-999.000,9,-999.000,9,-999.000,9,  -999.0,9,  -999.0,9,-999.0000,9,  -999.00,-999.0000
06AQ19960712,ARKXII,29,1,1,165964,2,19960801,0650,81.7467,90.2533,99,    99.5, -0.7029, 34.6370,2, 34.6323,2,  -999.0,9,   310.9,2,    5.37,2,    9.95,2, -999.00,9,    0.72,2,   6.298,2,   3.140,2,   6.859,2,  -999.0,9,  -999.0,9,   7.6650,2,    25.00, -0.7019