BOTTLE,20100322CCHDOSIODM
EXPOCODE,SECT_ID,STNNBR,CASTNO,SAMPNO,BTLNBR,BTLNBR_FLAG_W,DATE,TIME,LATITUDE,LONGITUDE,DEPTH,CTDPRS,CTDTMP,CTDSAL,CTDSAL_FLAG_W,SALNTY,SALNTY_FLAG_W,CTDOXY,CTDOXY_FLAG_W,OXYGEN,OXYGEN_FLAG_W,SILCAT,SILCAT_FLAG_W,NITRAT,NITRAT_FLAG_W,NITRIT,NITRIT_FLAG_W,PHSPHT,PHSPHT_FLAG_W,CFC-11,CFC-11_FLAG_W,CFC-12,CFC-12_FLAG_W,CCL4,CCL4_FLAG_W,TCARBN,TCARBN_FLAG_W,ALKALI,ALKALI_FLAG_W,PH_SWS,PH_SWS_FLAG_W,PH_TMP,THETA
,,,,,,,,,,,METERS,DBAR,ITS-90,PSS-78,,PSS-78,,UMOL/KG,,UMOL/KG,,UMOL/KG,,UMOL/KG,,UMOL/KG,,UMOL/KG,,PMOL/KG,,PMOL/KG,,PMOL/KG,,UMOL/KG,,UMOL/KG,,,,DEG C,DEG C
06AQ19960712,ARKXII,64,2,24,167230,2,19960813,0559,86.4167,144.4933,878,    10.3, -1.6350, 33.2805,2, 33.2790,2,  -999.0,9,   372.3,2,    2.34,2,    3.41,2, -999.00,9,    0.40,2,   6.969,2,   3.442,2,   7.814,2,  2095.6,2,  2246.0,2,   7.7406,2,    25.00, -1.6322
06AQ19960712,ARKXII,64,2,23,167229,2,19960813,0559,86.4167,144.4933,878,    20.3, -1.6322, 33.2915,2, 33.3562,2,  -999.0,9,   371.8,2,    2.34,2,    3.51,2, -999.00,9,    0.42,2,   6.902,2,   3.392,2,   7.531,2,  -999.0,9,  -999.0,9,-999.0000,9,  -999.00, -1.6294
06AQ19960712,ARKXII,64,2,22,167228,2,19960813,0559,86.4167,144.4933,878,    30.3, -1.6470, 33.3194,2, 33.4951,2,  -999.0,9,   366.8,2,    2.63,2,    4.10,2, -999.00,9,    0.45,2,   6.853,2,   3.417,2,   6.862,2,  2105.2,2,  2256.0,2,   7.7318,2,    25.00, -1.6446
06AQ19960712,ARKXII,64,2,21,167227,2,19960813,0559,86.4167,144.4933,878,    40.2, -1.7090, 33.6421,2, 33.8834,2,  -999.0,9,   347.5,2,    3.41,2,    5.85,2, -999.00,9,    0.55,2,   6.575,2,   3.137,2,   5.683,2,  -999.0,9,  -999.0,9,-999.0000,9,  -999.00, -1.7068
06AQ19960712,ARKXII,64,2,20,167226,2,19960813,0559,86.4167,144.4933,878,    59.8, -1.6720, 34.0610,2,-999.0000,9,  -999.0,9,  -999.0,9, -999.00,9, -999.00,9, -999.00,9, -999.00,9,-999.000,9,-999.000,9,-999.000,9,  -999.0,9,  -999.0,9,-999.0000,9,  -999.00,-999.0000
06AQ19960712,ARKXII,64,2,19,167225,2,19960813,0559,86.4167,144.4933,878,    59.8, -1.6696, 34.0667,2, 34.0747,2,  -999.0,9,   337.2,2,    3.80,2,    6.73,2, -999.00,9,    0.60,2,   6.103,2,   2.902,2,   4.996,2,  2131.5,2,  2269.0,2,   7.6979,2,    25.00, -1.6672
06AQ19960712,ARKXII,64,2,18,167224,2,19960813,0559,86.4167,144.4933,878,    80.0, -1.5376, 34.2005,2, 34.2056,2,  -999.0,9,   333.1,2,    3.71,2,    7.32,2, -999.00,9,    0.63,2,   5.973,2,   2.858,2,   4.963,2,  2129.4,2,  2271.9,2,   7.7104,2,    25.00, -1.5357
06AQ19960712,ARKXII,64,2,17,167223,2,19960813,0559,86.4167,144.4933,878,    99.3, -0.9038, 34.3422,2, 34.3492,2,  -999.0,9,   308.1,2,    5.17,2,    9.07,2, -999.00,9,    0.73,2,   4.931,2,   2.323,2,   4.236,2,  -999.0,9,  2272.6,2,   7.6795,2,    25.00, -0.9027
06AQ19960712,ARKXII,64,2,16,167222,2,19960813,0559,86.4167,144.4933,878,   124.7, -0.1651, 34.4974,2, 34.4975,2,  -999.0,9,   303.0,2,    5.46,2,    9.76,2, -999.00,9,    0.78,2,   4.569,2,   2.060,2,   4.287,2,  -999.0,9,  2281.9,2,   7.6920,2,    25.00, -0.1653
06AQ19960712,ARKXII,64,2,15,167221,2,19960813,0559,86.4167,144.4933,878,   148.4,  0.3797, 34.6175,2,-999.0000,9,  -999.0,9,   300.0,2, -999.00,9, -999.00,9, -999.00,9, -999.00,9,-999.000,9,-999.000,9,-999.000,9,  -999.0,9,  -999.0,9,-999.0000,9,  -999.00,-999.0000
06AQ19960712,ARKXII,64,2,14,167220,2,19960813,0559,86.4167,144.4933,878,   200.1,  1.3778, 34.8143,2, 34.6256,2,  -999.0,9,   300.5,2,    5.27,2,   11.22,2, -999.00,9,    0.82,2,   4.561,2,   2.160,2,   4.962,2,  -999.0,9,  -999.0,9,-999.0000,9,  -999.00,  1.3723
06AQ19960712,ARKXII,64,2,12,167218,2,19960813,0559,86.4167,144.4933,878,   249.9,  1.4913, 34.8715,2, 34.8699,2,  -999.0,9,   303.1,2,    5.37,2,   11.41,2, -999.00,9,    0.85,2,   4.809,2,   2.199,2,   5.488,2,  2143.8,2,  2294.8,2,   7.7112,2,    25.00,  1.4824
06AQ19960712,ARKXII,64,2,13,167219,2,19960813,0559,86.4167,144.4933,878,   249.9,  1.4924, 34.8711,2,-999.0000,9,  -999.0,9,  -999.0,9, -999.00,9, -999.00,9, -999.00,9, -999.00,9,-999.000,9,-999.000,9,-999.000,9,  -999.0,9,  -999.0,9,-999.0000,9,  -999.00,-999.0000
06AQ19960712,ARKXII,64,2,11,167217,2,19960813,0559,86.4167,144.4933,878,   300.0,  1.2034, 34.8624,2, 34.8599,2,  -999.0,9,   301.9,2,    5.66,2,   11.51,2, -999.00,9,    0.84,2,   4.247,2,   2.046,2,   5.012,2,  -999.0,9,  -999.0,9,-999.0000,9,  -999.00,  1.1925
06AQ19960712,ARKXII,64,2,10,167216,2,19960813,0559,86.4167,144.4933,878,   400.2,  0.8406, 34.8701,2, 34.8697,2,  -999.0,9,   302.8,2,    5.85,2,   11.61,2, -999.00,9,    0.85,2,   3.951,2,   1.947,2,   5.000,2,  2148.6,2,  2294.4,2,   7.7083,2,    25.00,  0.8265
06AQ19960712,ARKXII,64,2,8,167214,2,19960813,0559,86.4167,144.4933,878,   497.3,  0.5843, 34.8718,2, 34.8704,2,  -999.0,9,   303.7,2,    5.85,2,   11.71,2, -999.00,9,    0.87,2,   4.071,2,   1.945,2,   5.012,2,  -999.0,9,  -999.0,9,-999.0000,9,  -999.00,  0.5656
06AQ19960712,ARKXII,64,2,9,167215,2,19960813,0559,86.4167,144.4933,878,   497.5,  0.5849, 34.8721,2,-999.0000,9,  -999.0,9,  -999.0,9, -999.00,9, -999.00,9, -999.00,9, -999.00,9,-999.000,9,-999.000,9,-999.000,9,  -999.0,9,  -999.0,9,-999.0000,9,  -999.00,-999.0000
06AQ19960712,ARKXII,64,2,7,167213,2,19960813,0559,86.4167,144.4933,878,   600.1,  0.3044, 34.8703,2, 34.8704,2,  -999.0,9,   304.0,2,    5.95,2,   11.90,2, -999.00,9,    0.86,2,   3.942,2,   1.835,2,   4.922,2,  2153.0,2,  2295.3,2,   7.6977,2,    25.00,  0.2819
06AQ19960712,ARKXII,64,2,6,167212,2,19960813,0559,86.4167,144.4933,878,   699.6,  0.0937, 34.8711,2, 34.8716,2,  -999.0,9,   305.6,2,    6.05,2,   11.80,2, -999.00,9,    0.85,2,   4.025,2,   1.854,2,   5.072,2,  -999.0,9,  -999.0,9,-999.0000,9,  -999.00,  0.0681
06AQ19960712,ARKXII,64,2,5,167211,2,19960813,0559,86.4167,144.4933,878,   761.6,  0.0282, 34.8762,2, 34.8753,2,  -999.0,9,   304.8,2,    6.24,2,   11.80,2, -999.00,9,    0.88,2,   3.640,2,   1.747,2,   4.711,2,  2155.1,2,  2296.6,2,   7.6900,2,    25.00, -0.0006
06AQ19960712,ARKXII,64,2,3,167209,2,19960813,0559,86.4167,144.4933,878,   815.2, -0.0292, 34.8795,2, 34.8802,2,  -999.0,9,   304.9,2,    6.44,2,   11.90,2, -999.00,9,    0.88,2,-999.000,9,   1.644,2,   4.556,2,  2154.8,2,  2298.3,2,   7.6900,2,    25.00, -0.0598
06AQ19960712,ARKXII,64,2,4,167210,2,19960813,0559,86.4167,144.4933,878,   815.3, -0.0282, 34.8793,2,-999.0000,9,  -999.0,9,  -999.0,9, -999.00,9, -999.00,9, -999.00,9, -999.00,9,-999.000,9,-999.000,9,-999.000,9,  -999.0,9,  -999.0,9,-999.0000,9,  -999.00,-999.0000
06AQ19960712,ARKXII,64,2,1,167207,2,19960813,0559,86.4167,144.4933,878,   862.6, -0.1088, 34.8821,2, 34.8821,2,  -999.0,9,   304.8,2,    6.63,2,   11.90,2, -999.00,9,    0.88,2,   3.631,2,   1.711,2,   4.598,2,  2158.5,2,  2302.9,2,   7.6774,2,    25.00, -0.1417
06AQ19960712,ARKXII,64,2,2,167208,2,19960813,0559,86.4167,144.4933,878,   862.7, -0.1087, 34.8822,2,-999.0000,9,  -999.0,9,  -999.0,9, -999.00,9, -999.00,9, -999.00,9, -999.00,9,-999.000,9,-999.000,9,-999.000,9,  -999.0,9,  -999.0,9,-999.0000,9,  -999.00,-999.0000
06AQ19960712,ARKXII,65,1,23,167253,2,19960813,1130,86.4200,146.3583,1063,     2.6, -1.6423, 33.3888,2,-999.0000,9,  -999.0,9,  -999.0,9, -999.00,9, -999.00,9, -999.00,9, -999.00,9,-999.000,9,-999.000,9,-999.000,9,  -999.0,9,  -999.0,9,-999.0000,9,  -999.00,-999.0000
06AQ19960712,ARKXII,65,1,22,167252,2,19960813,1130,86.4200,146.3583,1063,    10.3, -1.6472, 33.3893,2, 33.3868,2,  -999.0,9,   374.3,2,    2.34,2,    3.51,2, -999.00,9,    0.40,2,-999.000,9,-999.000,9,-999.000,9,  -999.0,9,  -999.0,9,-999.0000,9,  -999.00, -1.6442
06AQ19960712,ARKXII,65,1,21,167251,2,19960813,1130,86.4200,146.3583,1063,    20.6, -1.6428, 33.3915,2, 33.3907,2,  -999.0,9,   373.9,2,    2.34,2,    3.51,2, -999.00,9,    0.40,2,-999.000,9,-999.000,9,-999.000,9,  -999.0,9,  -999.0,9,-999.0000,9,  -999.00, -1.6394
06AQ19960712,ARKXII,65,1,20,167250,2,19960813,1130,86.4200,146.3583,1063,    30.6, -1.6409, 33.3917,2, 33.3920,2,  -999.0,9,   374.1,2,    2.34,2,    3.51,2, -999.00,9,    0.40,2,   6.951,2,   3.302,2,   7.663,2,  -999.0,9,  -999.0,9,-999.0000,9,  -999.00, -1.6386
06AQ19960712,ARKXII,65,1,19,167249,2,19960813,1130,86.4200,146.3583,1063,    40.5, -1.6446, 33.4062,2, 33.5155,2,  -999.0,9,   367.4,2,    2.63,2,    4.20,2, -999.00,9,    0.45,2,   6.907,2,   3.391,2,   6.893,2,  -999.0,9,  -999.0,9,-999.0000,9,  -999.00, -1.6418
06AQ19960712,ARKXII,65,1,18,167248,2,19960813,1130,86.4200,146.3583,1063,    50.5, -1.7597, 33.8982,2,-999.0000,9,  -999.0,9,  -999.0,9, -999.00,9, -999.00,9, -999.00,9, -999.00,9,-999.000,9,-999.000,9,-999.000,9,  -999.0,9,  -999.0,9,-999.0000,9,  -999.00,-999.0000
06AQ19960712,ARKXII,65,1,17,167247,2,19960813,1130,86.4200,146.3583,1063,    60.5, -1.7249, 34.0419,2, 34.0509,2,  -999.0,9,   340.9,2,    3.90,2,    6.44,2, -999.00,9,    0.60,2,-999.000,9,-999.000,9,-999.000,9,  -999.0,9,  -999.0,9,-999.0000,9,  -999.00, -1.7232
06AQ19960712,ARKXII,65,1,16,167246,2,19960813,1130,86.4200,146.3583,1063,    80.4, -1.5407, 34.1900,2, 34.1948,2,  -999.0,9,   333.5,2,    3.90,2,    7.22,2, -999.00,9,    0.63,2,-999.000,9,-999.000,9,-999.000,9,  -999.0,9,  -999.0,9,-999.0000,9,  -999.00, -1.5387
06AQ19960712,ARKXII,65,1,15,167245,2,19960813,1130,86.4200,146.3583,1063,   100.3, -1.0860, 34.2982,2, 34.3264,2,  -999.0,9,   311.9,2,    5.07,2,    8.88,2, -999.00,9,    0.72,2,-999.000,9,-999.000,9,-999.000,9,  -999.0,9,  -999.0,9,-999.0000,9,  -999.00, -1.0846
06AQ19960712,ARKXII,65,1,14,167244,2,19960813,1130,86.4200,146.3583,1063,   150.8,  0.1992, 34.5860,2, 34.5904,2,  -999.0,9,   300.9,2, -999.00,9,   10.15,2, -999.00,9,    0.79,2,   4.201,2,   1.949,2,   4.264,2,  -999.0,9,  -999.0,9,-999.0000,9,  -999.00,  0.1972
06AQ19960712,ARKXII,65,1,13,167243,2,19960813,1130,86.4200,146.3583,1063,   200.4,  1.4852, 34.8223,2, 34.8219,2,  -999.0,9,   302.0,2,    5.27,2,   11.12,2, -999.00,9,    0.85,2,-999.000,9,-999.000,9,-999.000,9,  -999.0,9,  -999.0,9,-999.0000,9,  -999.00,  1.4790
06AQ19960712,ARKXII,65,1,12,167242,2,19960813,1130,86.4200,146.3583,1063,   235.2,  1.7754, 34.8783,2, 34.8765,2,  -999.0,9,   303.6,2,    5.37,2,   11.22,2, -999.00,9,    0.87,2,   5.311,2,   2.337,2,   5.495,2,  -999.0,9,  -999.0,9,-999.0000,9,  -999.00,  1.7677
06AQ19960712,ARKXII,65,1,11,167241,2,19960813,1130,86.4200,146.3583,1063,   250.5,  1.7679, 34.8855,2, 34.8865,2,  -999.0,9,   304.6,2,    5.27,2,   11.32,2, -999.00,9,    0.87,2,-999.000,9,-999.000,9,-999.000,9,  -999.0,9,  -999.0,9,-999.0000,9,  -999.00,  1.7588
06AQ19960712,ARKXII,65,1,10,167240,2,19960813,1130,86.4200,146.3583,1063,   299.9,  1.1900, 34.8560,2, 34.8582,2,  -999.0,9,   302.3,2,    5.56,2,   11.41,2, -999.00,9,    0.88,2,   4.220,2,   2.052,2,   4.933,2,  -999.0,9,  -999.0,9,-999.0000,9,  -999.00,  1.1795
06AQ19960712,ARKXII,65,1,9,167239,2,19960813,1130,86.4200,146.3583,1063,   400.3,  0.8794, 34.8722,2, 34.8709,2,  -999.0,9,   304.5,2,    5.85,2,   11.51,2, -999.00,9,    0.88,2,-999.000,9,-999.000,9,-999.000,9,  -999.0,9,  -999.0,9,-999.0000,9,  -999.00,  0.8644
06AQ19960712,ARKXII,65,1,8,167238,2,19960813,1130,86.4200,146.3583,1063,   500.3,  0.6016, 34.8717,2, 34.8703,2,  -999.0,9,   304.6,2,    5.85,2,   11.51,2, -999.00,9,    0.89,2,-999.000,9,-999.000,9,-999.000,9,  -999.0,9,  -999.0,9,-999.0000,9,  -999.00,  0.5834
06AQ19960712,ARKXII,65,1,7,167237,2,19960813,1130,86.4200,146.3583,1063,   600.6,  0.3542, 34.8701,2, 34.8686,2,  -999.0,9,   305.1,2,    5.95,2,   11.61,2, -999.00,9,    0.89,2,-999.000,9,-999.000,9,-999.000,9,  -999.0,9,  -999.0,9,-999.0000,9,  -999.00,  0.3316
06AQ19960712,ARKXII,65,1,6,167236,2,19960813,1130,86.4200,146.3583,1063,   700.7,  0.1295, 34.8708,2, 34.8703,2,  -999.0,9,   306.8,2,    6.05,2,   11.61,2, -999.00,9,    0.89,2,   3.997,2,   1.925,2,   5.079,2,  -999.0,9,  -999.0,9,-999.0000,9,  -999.00,  0.1028
06AQ19960712,ARKXII,65,1,5,167235,2,19960813,1130,86.4200,146.3583,1063,   800.5, -0.0152, 34.8743,2, 34.8742,2,  -999.0,9,   306.6,2,    6.15,2,   11.61,2, -999.00,9,    0.90,2,-999.000,9,-999.000,9,-999.000,9,  -999.0,9,  -999.0,9,-999.0000,9,  -999.00, -0.0452
06AQ19960712,ARKXII,65,1,4,167234,2,19960813,1130,86.4200,146.3583,1063,   900.9, -0.1124, 34.8799,2, 34.8801,2,  -999.0,9,   306.1,2,    6.44,2,   11.80,2, -999.00,9,    0.90,2,-999.000,9,-999.000,9,-999.000,9,  -999.0,9,  -999.0,9,-999.0000,9,  -999.00, -0.1476
06AQ19960712,ARKXII,65,1,3,167233,2,19960813,1130,86.4200,146.3583,1063,   945.3, -0.1615, 34.8827,2, 34.8838,2,  -999.0,9,   306.0,2,    6.63,2,   11.80,2, -999.00,9,    0.89,2,-999.000,9,-999.000,9,-999.000,9,  -999.0,9,  -999.0,9,-999.0000,9,  -999.00, -0.1985
06AQ19960712,ARKXII,65,1,2,167232,2,19960813,1130,86.4200,146.3583,1063,   995.6, -0.2662, 34.8866,2, 34.8862,2,  -999.0,9,   306.6,2,    6.83,2,   11.90,2, -999.00,9,    0.89,2,   3.749,2,   1.732,2,   4.740,2,  -999.0,9,  -999.0,9,-999.0000,9,  -999.00, -0.3053
06AQ19960712,ARKXII,65,1,1,167231,2,19960813,1130,86.4200,146.3583,1063,  1044.1, -0.3149, 34.8914,2, 34.8895,2,  -999.0,9,   305.7,2,    7.02,2,   12.00,2, -999.00,9,    0.90,2,   3.414,2,   1.627,2,   4.465,2,  -999.0,9,  -999.0,9,-999.0000,9,  -999.00, -0.3553
06AQ19960712,ARKXII,66,1,20,167278,2,19960813,1639,86.3567,148.1183,988,     9.9, -1.7252, 33.4822,2, 33.4893,2,  -999.0,9,   374.1,2,    2.44,2,    3.51,2, -999.00,9,    0.41,2,   7.254,2,   3.330,2,   7.181,2,  2081.4,2,  2257.1,2,   7.7396,2,    25.00, -1.7222
06AQ19960712,ARKXII,66,1,19,167277,2,19960813,1639,86.3567,148.1183,988,    20.8, -1.7171, 33.5025,2, 33.5096,2,  -999.0,9,   374.1,2,    2.63,2,    3.71,2, -999.00,9,    0.42,2,   6.967,2,   3.160,2,   7.166,2,  -999.0,9,  -999.0,9,-999.0000,9,  -999.00, -1.7144
06AQ19960712,ARKXII,66,1,18,167276,2,19960813,1639,86.3567,148.1183,988,    30.3, -1.7208, 33.5923,2, 33.5642,2,  -999.0,9,   374.1,2,    2.54,2,    3.71,2, -999.00,9,    0.42,2,   6.867,2,   3.258,2,   6.909,2,  2100.0,2,  2261.3,2,   7.7357,2,    25.00, -1.7176
06AQ19960712,ARKXII,66,1,17,167275,2,19960813,1639,86.3567,148.1183,988,    40.7, -1.8150, 33.8033,2, 33.8061,2,  -999.0,9,   369.7,2,    2.93,2,    4.68,2, -999.00,9,    0.48,2,   6.597,2,   3.148,2,   5.926,2,  -999.0,9,  -999.0,9,-999.0000,9,  -999.00, -1.8127
06AQ19960712,ARKXII,66,1,16,167274,2,19960813,1639,86.3567,148.1183,988,    59.6, -1.8340, 33.8911,2, 33.8895,2,  -999.0,9,   364.1,2,    3.22,2,    4.98,2, -999.00,9,    0.50,2,   6.507,2,   3.022,2,   5.686,2,  2116.2,2,  2273.4,2,   7.7211,2,    25.00, -1.8321
06AQ19960712,ARKXII,66,1,15,167273,2,19960813,1639,86.3567,148.1183,988,    80.4, -1.6943, 34.0527,2, 34.0581,2,  -999.0,9,   335.7,2,    4.39,2,    6.93,2, -999.00,9,    0.62,2,   5.886,2,   2.698,2,   4.911,2,  2132.8,2,  2275.7,2,   7.6873,2,    25.00, -1.6926
06AQ19960712,ARKXII,66,1,14,167272,2,19960813,1639,86.3567,148.1183,988,   100.6, -1.3982, 34.1947,2, 34.2006,2,  -999.0,9,   317.1,2,    5.17,2,    8.49,2, -999.00,9,    0.69,2,   5.045,2,   2.293,2,   4.302,2,  2132.2,2,  2274.0,2,   7.6757,2,    25.00, -1.3973
06AQ19960712,ARKXII,66,1,13,167271,2,19960813,1639,86.3567,148.1183,988,   150.4, -0.1270, 34.5369,2, 34.5482,2,  -999.0,9,   301.1,2,    5.95,2,   10.15,2, -999.00,9,    0.79,2,   4.057,2,   1.809,2,   4.133,2,  -999.0,9,  -999.0,9,-999.0000,9,  -999.00, -0.1283
06AQ19960712,ARKXII,66,1,12,167270,2,19960813,1639,86.3567,148.1183,988,   200.6,  0.5011, 34.7177,2, 34.7344,2,  -999.0,9,   297.2,2,    5.95,2,   11.22,2, -999.00,9,    0.84,2,   3.540,2,   1.631,2,   4.192,2,  2137.8,2,  2287.4,2,   7.7006,2,    25.00,  0.4967
06AQ19960712,ARKXII,66,1,11,167269,2,19960813,1639,86.3567,148.1183,988,   210.6,  0.7849, 34.7581,2, 34.7693,2,  -999.0,9,   299.0,2,    5.76,2,   11.32,2, -999.00,9,    0.83,2,   3.967,2,   1.740,2,   4.421,2,  2133.1,2,  2290.6,2,   7.7016,2,    25.00,  0.7797
06AQ19960712,ARKXII,66,1,10,167268,2,19960813,1639,86.3567,148.1183,988,   250.6,  0.8084, 34.8109,2, 34.8205,2,  -999.0,9,   299.3,2,    5.85,2,   11.51,2, -999.00,9,    0.84,2,   3.546,2,   1.664,2,   4.483,2,  2147.6,2,  2292.6,2,   7.7064,2,    25.00,  0.8008
06AQ19960712,ARKXII,66,1,9,167267,2,19960813,1639,86.3567,148.1183,988,   299.5,  0.6680, 34.8260,2, 34.8280,2,  -999.0,9,   299.0,2,    5.95,2,   11.61,2, -999.00,9,    0.85,2,   3.378,2,   1.454,2,   4.276,2,  2146.9,2,  2292.9,2,   7.7073,2,    25.00,  0.6588
06AQ19960712,ARKXII,66,1,8,167266,2,19960813,1639,86.3567,148.1183,988,   400.7,  0.6916, 34.8669,2, 34.8684,2,  -999.0,9,   303.3,2,    5.85,2,   11.90,2, -999.00,9,    0.87,2,   4.091,2,   1.756,2,   4.777,2,  -999.0,9,  -999.0,9,-999.0000,9,  -999.00,  0.6779
06AQ19960712,ARKXII,66,1,7,167265,2,19960813,1639,86.3567,148.1183,988,   499.9,  0.4813, 34.8702,2, 34.8704,2,  -999.0,9,   300.0,2,    6.54,2,   12.20,2, -999.00,9,    0.89,2,   2.811,2,   1.231,2,   3.871,2,  2152.1,2,  2294.8,2,   7.7064,2,    25.00,  0.4629
06AQ19960712,ARKXII,66,1,6,167264,2,19960813,1639,86.3567,148.1183,988,   600.0,  0.2915, 34.8733,2, 34.8735,2,  -999.0,9,   302.6,2,    6.34,2,   12.20,2, -999.00,9,    0.89,2,   2.612,2,   1.261,2,   3.853,2,  -999.0,9,  -999.0,9,-999.0000,9,  -999.00,  0.2689
06AQ19960712,ARKXII,66,1,5,167263,2,19960813,1639,86.3567,148.1183,988,   700.1,  0.1060, 34.8759,2, 34.8753,2,  -999.0,9,   302.6,2,    6.54,2,   12.10,2, -999.00,9,    0.90,2,   2.356,2,   1.130,2,   3.829,2,  -999.0,9,  -999.0,9,-999.0000,9,  -999.00,  0.0800
06AQ19960712,ARKXII,66,1,4,167262,2,19960813,1639,86.3567,148.1183,988,   800.2, -0.0260, 34.8801,2, 34.8798,2,  -999.0,9,   304.6,2,    6.63,2,   12.20,2, -999.00,9,    0.90,2,   2.660,2,   1.251,2,   3.972,2,  -999.0,9,  -999.0,9,-999.0000,9,  -999.00, -0.0561
06AQ19960712,ARKXII,66,1,3,167261,2,19960813,1639,86.3567,148.1183,988,   865.2, -0.1468, 34.8806,2, 34.8812,2,  -999.0,9,   306.8,2,    6.63,2,   12.29,2, -999.00,9,    0.89,2,   3.495,2,   1.578,2,   4.638,2,  2157.3,2,  2297.0,2,   7.6871,2,    25.00, -0.1795
06AQ19960712,ARKXII,66,1,2,167260,2,19960813,1639,86.3567,148.1183,988,   915.3, -0.2066, 34.8823,2, 34.8837,2,  -999.0,9,   306.3,2,    6.73,2,   12.20,2, -999.00,9,    0.89,2,   3.414,2,   1.582,2,   4.606,2,  2153.7,2,  2298.2,2,-999.0000,9  -999.00, -0.2416
06AQ19960712,ARKXII,66,1,1,167259,2,19960813,1639,86.3567,148.1183,988,   966.5, -0.2609, 34.8871,2, 34.8880,2,  -999.0,9,   307.1,2,    6.93,2,   11.80,2, -999.00,9,    0.91,2,   3.337,2,   1.544,2,   4.728,2,  2158.5,2,  2298.3,2,   7.6871,2,    25.00, -0.2978