BOTTLE,20100322CCHDOSIODM
EXPOCODE,SECT_ID,STNNBR,CASTNO,SAMPNO,BTLNBR,BTLNBR_FLAG_W,DATE,TIME,LATITUDE,LONGITUDE,DEPTH,CTDPRS,CTDTMP,CTDSAL,CTDSAL_FLAG_W,SALNTY,SALNTY_FLAG_W,CTDOXY,CTDOXY_FLAG_W,OXYGEN,OXYGEN_FLAG_W,SILCAT,SILCAT_FLAG_W,NITRAT,NITRAT_FLAG_W,NITRIT,NITRIT_FLAG_W,PHSPHT,PHSPHT_FLAG_W,CFC-11,CFC-11_FLAG_W,CFC-12,CFC-12_FLAG_W,CCL4,CCL4_FLAG_W,TCARBN,TCARBN_FLAG_W,ALKALI,ALKALI_FLAG_W,PH_SWS,PH_SWS_FLAG_W,PH_TMP,THETA
,,,,,,,,,,,METERS,DBAR,ITS-90,PSS-78,,PSS-78,,UMOL/KG,,UMOL/KG,,UMOL/KG,,UMOL/KG,,UMOL/KG,,UMOL/KG,,PMOL/KG,,PMOL/KG,,PMOL/KG,,UMOL/KG,,UMOL/KG,,,,DEG C,DEG C
06AQ19960712,ARKXII,92,1,24,168265,2,19960827,1825,80.4300,149.4867,1931,    10.5, -1.7669, 32.9138,2,-999.0000,9,  -999.0,9,   363.1,2,    2.54,2,    3.32,2, -999.00,9,    0.45,2,   6.940,2,   3.367,2,   7.757,2,  2109.0,2,  2233.3,2,-999.0000,9  -999.00,-999.0000
06AQ19960712,ARKXII,92,1,23,168264,2,19960827,1825,80.4300,149.4867,1931,    20.5, -1.7694, 32.9155,2, 32.9123,2,  -999.0,9,   362.7,2,    2.63,2,    3.41,2, -999.00,9,    0.46,2,   7.131,2,   3.592,2,   7.796,2,  -999.0,9,  -999.0,9,-999.0000,9,  -999.00, -1.7663
06AQ19960712,ARKXII,92,1,22,168263,2,19960827,1825,80.4300,149.4867,1931,    30.3, -1.7651, 32.9246,2, 32.9223,2,  -999.0,9,   362.5,2,    2.54,2,    3.41,2, -999.00,9,    0.48,2,   6.986,2,   3.454,2,   7.801,2,  2114.5,2,  2234.5,2,   7.6886,2,    25.00, -1.7625
06AQ19960712,ARKXII,92,1,21,168262,2,19960827,1825,80.4300,149.4867,1931,    40.3, -1.7608, 32.9785,2, 33.1105,2,  -999.0,9,   351.3,2,    3.22,2,    4.49,2, -999.00,9,    0.54,2,   7.078,2,   3.502,2,   7.488,2,  -999.0,9,  -999.0,9,-999.0000,9,  -999.00, -1.7577
06AQ19960712,ARKXII,92,1,20,168261,2,19960827,1825,80.4300,149.4867,1931,    60.1, -1.7008, 33.5497,2, 33.5607,2,  -999.0,9,   327.0,2,    4.78,2,    6.44,2, -999.00,9,    0.66,2,   6.870,2,   3.411,2,   6.722,2,  2144.2,2,  2250.9,2,   7.6433,2,    25.00, -1.7021
06AQ19960712,ARKXII,92,1,19,168260,2,19960827,1825,80.4300,149.4867,1931,    80.2, -1.4115, 34.0772,2, 34.0731,2,  -999.0,9,   314.1,2,    5.17,2,    8.00,2, -999.00,9,    0.73,2,   6.585,2,   3.226,2,   5.783,2,  2153.6,2,  2258.8,2,   7.6451,2,    25.00, -1.4138
06AQ19960712,ARKXII,92,1,18,168259,2,19960827,1825,80.4300,149.4867,1931,   100.0, -1.2755, 34.2563,2, 34.2599,2,  -999.0,9,   312.2,2,    5.07,2,    8.68,2, -999.00,9,    0.75,2,   6.517,2,   3.027,2,   5.895,2,  2151.8,2,  2260.7,2,   7.6594,2,    25.00, -1.2834
06AQ19960712,ARKXII,92,1,17,168258,2,19960827,1825,80.4300,149.4867,1931,   150.1, -0.3545, 34.5326,2, 34.5306,2,  -999.0,9,   309.5,2,    4.88,2,    9.76,2, -999.00,9,    0.80,2,   6.117,2,   2.900,2,   5.978,2,  2153.3,2,  2273.2,2,   7.6679,2,    25.00, -0.3480
06AQ19960712,ARKXII,92,1,16,168257,2,19960827,1825,80.4300,149.4867,1931,   200.0,  0.9394, 34.7626,2, 34.7592,2,  -999.0,9,   304.0,2,    5.27,2,   11.22,2, -999.00,9,    0.90,2,   5.439,2,   2.696,2,   5.738,2,  -999.0,9,  -999.0,9,-999.0000,9,  -999.00,  0.9350
06AQ19960712,ARKXII,92,1,15,168256,2,19960827,1825,80.4300,149.4867,1931,   250.6,  1.1100, 34.8056,2, 34.8092,2,  -999.0,9,   304.1,2,    5.37,2,   11.41,2, -999.00,9,    0.91,2,   5.296,2,   2.648,2,   5.706,2,  -999.0,9,  -999.0,9,-999.0000,9,  -999.00,  1.1022
06AQ19960712,ARKXII,92,1,14,168255,2,19960827,1825,80.4300,149.4867,1931,   300.2,  1.4021, 34.8654,2, 34.8705,2,  -999.0,9,   304.7,2,    5.46,2,   11.71,2, -999.00,9,    0.93,2,   5.109,2,   2.420,2,   5.596,2,  2148.4,2,  2285.6,2,   7.7064,2,    25.00,  1.3920
06AQ19960712,ARKXII,92,1,13,168254,2,19960827,1825,80.4300,149.4867,1931,   400.3,  1.0962, 34.8798,2, 34.8763,2,  -999.0,9,   306.0,2,    5.66,2,   11.80,2, -999.00,9,    0.94,2,   5.201,2,   2.462,2,   5.733,2,  -999.0,9,  -999.0,9,-999.0000,9,  -999.00,  1.0816
06AQ19960712,ARKXII,92,1,12,168253,2,19960827,1825,80.4300,149.4867,1931,   500.1,  0.7394, 34.8776,2, 34.8761,2,  -999.0,9,   306.6,2,    5.85,2,   11.90,2, -999.00,9,    0.94,2,   4.940,2,   2.472,2,   5.877,2,  2149.6,2,  2284.6,2,   7.6900,2,    25.00,  0.7258
06AQ19960712,ARKXII,92,1,11,168252,2,19960827,1825,80.4300,149.4867,1931,   600.6,  0.4521, 34.8761,2, 34.8748,2,  -999.0,9,   306.9,2,    6.05,2,   11.80,2, -999.00,9,    0.96,2,   4.836,2,   2.381,2,   5.582,2,  -999.0,9,  -999.0,9,-999.0000,9,  -999.00,  0.4291
06AQ19960712,ARKXII,92,1,10,168251,2,19960827,1825,80.4300,149.4867,1931,   700.3,  0.1770, 34.8722,2, 34.8716,2,  -999.0,9,   308.3,2,    6.05,2,   11.80,2, -999.00,9,    0.95,2,   5.200,2,   2.450,2,   5.759,2,  2156.8,2,  2288.5,2,   7.6823,2,    25.00,  0.1525
06AQ19960712,ARKXII,92,1,9,168250,2,19960827,1825,80.4300,149.4867,1931,   800.3,  0.0418, 34.8759,2, 34.8744,2,  -999.0,9,   308.8,2,    6.05,2,   11.80,2, -999.00,9,    0.95,2,   4.997,2,   2.494,2,   5.825,2,  -999.0,9,  -999.0,9,-999.0000,9,  -999.00,  0.0134
06AQ19960712,ARKXII,92,1,8,168249,2,19960827,1825,80.4300,149.4867,1931,  1000.2, -0.0977, 34.8909,2, 34.8902,2,  -999.0,9,   307.0,2,    6.63,2,   12.10,2, -999.00,9,    0.99,2,   4.859,2,   2.210,2,   5.634,2,  2159.9,2,  2291.2,2,   7.6755,2,    25.00, -0.1369
06AQ19960712,ARKXII,92,1,7,168248,2,19960827,1825,80.4300,149.4867,1931,  1200.4, -0.2406, 34.9027,2, 34.9022,2,  -999.0,9,   306.1,2,    7.32,2,   12.49,2, -999.00,9,    1.00,2,   4.112,2,   2.031,2,   5.037,2,  -999.0,9,  -999.0,9,-999.0000,9,  -999.00, -0.2894
06AQ19960712,ARKXII,92,1,6,168247,2,19960827,1825,80.4300,149.4867,1931,  1400.7, -0.4033, 34.9099,2, 34.9098,2,  -999.0,9,   304.1,2,    8.20,2,   12.98,2, -999.00,9,    1.02,2,   2.891,2,   1.464,2,   4.310,2,  2160.5,2,  2292.7,2,   7.6813,2,    25.00, -0.4620
06AQ19960712,ARKXII,92,1,5,168246,2,19960827,1825,80.4300,149.4867,1931,  1601.4, -0.4904, 34.9236,2, 34.9250,2,  -999.0,9,   299.2,2,    9.56,2,   13.56,2, -999.00,9,    1.06,2,   1.364,2,   0.606,2,   2.112,2,  -999.0,9,  -999.0,9,-999.0000,9,  -999.00, -0.5607
06AQ19960712,ARKXII,92,1,3,168244,2,19960827,1825,80.4300,149.4867,1931,  1801.2, -0.4427, 34.9496,2, 34.9497,2,  -999.0,9,   289.2,2,   11.90,2,   13.85,2, -999.00,9,    1.11,2,   0.324,2,   0.186,2,   0.447,2,  -999.0,9,  2291.3,2,   7.7005,2,    25.00, -0.5258
06AQ19960712,ARKXII,92,1,4,168245,2,19960827,1825,80.4300,149.4867,1931,  1801.5, -0.4425, 34.9491,2, 34.9510,2,  -999.0,9,   289.7,2,   11.90,2,   13.95,2, -999.00,9,    1.11,2,   0.334,2,   0.205,2,   0.483,2,  -999.0,9,  -999.0,9,-999.0000,9,  -999.00, -0.5258
06AQ19960712,ARKXII,92,1,2,168243,2,19960827,1825,80.4300,149.4867,1931,  1853.7, -0.4370, 34.9532,2, 34.9541,2,  -999.0,9,   286.1,2,   12.78,2,   13.95,2, -999.00,9,    1.12,2,   0.273,2,   0.065,2,   0.242,2,  2153.0,2,  2291.9,2,   7.7005,2,    25.00, -0.5262
06AQ19960712,ARKXII,92,1,1,168242,2,19960827,1825,80.4300,149.4867,1931,  1902.9, -0.4135, 34.9565,2, 34.9577,2,  -999.0,9,   284.2,2,   13.27,2,   14.05,2, -999.00,9,    1.16,2,   0.179,2,   0.070,2,   0.118,2,  2153.9,2,  2292.0,2,   7.7015,2,    25.00, -0.5038
06AQ19960712,ARKXII,93,1,36,168301,2,19960828,1851,80.3233,150.1150,1730,     2.8, -1.7548, 32.8919,2,-999.0000,9,  -999.0,9,  -999.0,9, -999.00,9, -999.00,9, -999.00,9, -999.00,9,-999.000,9,-999.000,9,-999.000,9,  -999.0,9,  -999.0,9,-999.0000,9,  -999.00,-999.0000
06AQ19960712,ARKXII,93,1,35,168300,2,19960828,1851,80.3233,150.1150,1730,     9.1, -1.7620, 32.8858,2, 32.8901,2,  -999.0,9,   365.1,2,    2.15,2,    3.12,2, -999.00,9,    0.44,2,   6.944,2,   3.317,2,   7.412,2,  2108.8,2,  2248.1,2,   7.6925,2,    25.00, -1.7582
06AQ19960712,ARKXII,93,1,34,168299,2,19960828,1851,80.3233,150.1150,1730,    19.2, -1.7560, 32.9170,2,-999.0000,9,  -999.0,9,  -999.0,9, -999.00,9, -999.00,9, -999.00,9, -999.00,9,-999.000,9,-999.000,9,-999.000,9,  -999.0,9,  -999.0,9,-999.0000,9,  -999.00,-999.0000
06AQ19960712,ARKXII,93,1,33,168298,2,19960828,1851,80.3233,150.1150,1730,    19.2, -1.7555, 32.9178,2, 32.9191,2,  -999.0,9,   363.9,2,    2.24,2,    3.22,2, -999.00,9,    0.46,2,-999.000,9,-999.000,9,-999.000,9,  -999.0,9,  -999.0,9,-999.0000,9,  -999.00, -1.7523
06AQ19960712,ARKXII,93,1,32,168297,2,19960828,1851,80.3233,150.1150,1730,    29.4, -1.7539, 32.9395,2, 32.9383,2,  -999.0,9,   362.5,2,    2.34,2,    3.32,2, -999.00,9,    0.47,2,   6.873,2,   3.276,2,   7.470,2,  2109.1,2,  2241.5,2,   7.6886,2,    25.00, -1.7515
06AQ19960712,ARKXII,93,1,31,168296,2,19960828,1851,80.3233,150.1150,1730,    39.3, -1.7534, 32.9524,2, 32.9702,2,  -999.0,9,   361.4,2,    2.34,2,    3.51,2, -999.00,9,    0.48,2,-999.000,9,-999.000,9,-999.000,9,  -999.0,9,  -999.0,9,-999.0000,9,  -999.00, -1.7507
06AQ19960712,ARKXII,93,1,30,168295,2,19960828,1851,80.3233,150.1150,1730,    49.5, -1.7521, 33.2150,2, 32.9680,2,  -999.0,9,  -999.0,9, -999.00,9, -999.00,9, -999.00,9, -999.00,9,-999.000,9,-999.000,9,-999.000,9,  -999.0,9,  -999.0,9,-999.0000,9,  -999.00,-999.0000
06AQ19960712,ARKXII,93,1,29,168294,2,19960828,1851,80.3233,150.1150,1730,    59.6, -1.6167, 33.7355,2, 33.7350,2,  -999.0,9,   322.5,2,    4.78,2,    7.22,2, -999.00,9,    0.68,2,   6.657,2,   3.158,2,   6.049,2,  2145.6,2,  2260.7,2,   7.6442,2,    25.00, -1.5942
06AQ19960712,ARKXII,93,1,28,168293,2,19960828,1851,80.3233,150.1150,1730,    80.0, -1.4602, 34.0789,2, 34.0850,2,  -999.0,9,   316.6,2,    4.78,2,    8.20,2, -999.00,9,    0.73,2,-999.000,9,-999.000,9,-999.000,9,  2146.4,2,  2269.4,2,   7.6575,2,    25.00, -1.4558
06AQ19960712,ARKXII,93,1,27,168292,2,19960828,1851,80.3233,150.1150,1730,    99.3, -1.1936, 34.2714,2,-999.0000,9,  -999.0,9,  -999.0,9, -999.00,9, -999.00,9, -999.00,9, -999.00,9,-999.000,9,-999.000,9,-999.000,9,  -999.0,9,  -999.0,9,-999.0000,9,  -999.00,-999.0000
06AQ19960712,ARKXII,93,1,26,168291,2,19960828,1851,80.3233,150.1150,1730,    99.3, -1.2953, 34.2516,2, 34.2329,2,  -999.0,9,   314.3,2,    4.88,2,    8.78,2, -999.00,9,    0.77,2,   6.247,2,   2.906,2,   5.589,2,  2143.5,2,  2267.9,2,   7.6613,2,    25.00, -1.2704
06AQ19960712,ARKXII,93,1,25,168290,2,19960828,1851,80.3233,150.1150,1730,   149.4, -0.5342, 34.5210,2,-999.0000,9,  -999.0,9,  -999.0,9, -999.00,9, -999.00,9, -999.00,9, -999.00,9,-999.000,9,-999.000,9,-999.000,9,  -999.0,9,  -999.0,9,-999.0000,9,  -999.00,-999.0000
06AQ19960712,ARKXII,93,1,24,168289,2,19960828,1851,80.3233,150.1150,1730,   149.4, -0.6034, 34.4920,2, 34.4929,2,  -999.0,9,   309.2,2,    4.98,2,    9.95,2, -999.00,9,    0.83,2,-999.000,9,-999.000,9,-999.000,9,  2152.3,2,  2281.5,2,   7.6699,2,    25.00, -0.6206
06AQ19960712,ARKXII,93,1,22,168287,2,19960828,1851,80.3233,150.1150,1730,   199.2,  0.2819, 34.6737,2, 34.6750,2,  -999.0,9,   306.6,2,    5.07,2,   11.02,2, -999.00,9,    0.87,2,   5.589,2,   2.667,2,   5.730,2,  -999.0,9,  -999.0,9,-999.0000,9,  -999.00,  0.2891
06AQ19960712,ARKXII,93,1,23,168288,2,19960828,1851,80.3233,150.1150,1730,   199.2,  0.3840, 34.6922,2,-999.0000,9,  -999.0,9,  -999.0,9, -999.00,9, -999.00,9, -999.00,9, -999.00,9,-999.000,9,-999.000,9,-999.000,9,  -999.0,9,  -999.0,9,-999.0000,9,  -999.00,-999.0000
06AQ19960712,ARKXII,93,1,20,168285,2,19960828,1851,80.3233,150.1150,1730,   249.6,  0.8066, 34.7757,2, 34.7761,2,  -999.0,9,   305.4,2,    5.27,2,   11.61,2, -999.00,9,    0.90,2,   5.368,2,   2.601,2,   5.718,2,  -999.0,9,  2293.4,2,   7.6958,2,    25.00,  0.7939
06AQ19960712,ARKXII,93,1,21,168286,2,19960828,1851,80.3233,150.1150,1730,   249.6,  0.7866, 34.7753,2,-999.0000,9,  -999.0,9,  -999.0,9, -999.00,9, -999.00,9, -999.00,9, -999.00,9,-999.000,9,-999.000,9,-999.000,9,  -999.0,9,  -999.0,9,-999.0000,9,  -999.00,-999.0000
06AQ19960712,ARKXII,93,1,18,168283,2,19960828,1851,80.3233,150.1150,1730,   299.4,  0.8281, 34.8104,2, 34.8068,2,  -999.0,9,   305.9,2,    5.46,2,   11.90,2, -999.00,9,    0.91,2,-999.000,9,-999.000,9,-999.000,9,  -999.0,9,  -999.0,9,-999.0000,9,  -999.00,  0.8185
06AQ19960712,ARKXII,93,1,19,168284,2,19960828,1851,80.3233,150.1150,1730,   299.4,  0.8278, 34.8102,2,-999.0000,9,  -999.0,9,  -999.0,9, -999.00,9, -999.00,9, -999.00,9, -999.00,9,-999.000,9,-999.000,9,-999.000,9,  -999.0,9,  -999.0,9,-999.0000,9,  -999.00,-999.0000
06AQ19960712,ARKXII,93,1,17,168282,2,19960828,1851,80.3233,150.1150,1730,   399.3,  0.8327, 34.8545,2, 34.8537,2,  -999.0,9,   306.8,2,    5.56,2,   12.20,2, -999.00,9,    0.93,2,   5.242,2,   2.405,2,   5.819,2,  -999.0,9,  -999.0,9,-999.0000,9,  -999.00,  0.8116
06AQ19960712,ARKXII,93,1,16,168281,2,19960828,1851,80.3233,150.1150,1730,   499.7,  0.5762, 34.8576,2,-999.0000,9,  -999.0,9,  -999.0,9, -999.00,9, -999.00,9, -999.00,9, -999.00,9,-999.000,9,-999.000,9,-999.000,9,  -999.0,9,  -999.0,9,-999.0000,9,  -999.00,-999.0000
06AQ19960712,ARKXII,93,1,15,168280,2,19960828,1851,80.3233,150.1150,1730,   499.7,  0.5843, 34.8578,2, 34.8563,2,  -999.0,9,   307.2,2,    5.85,2,   12.20,2, -999.00,9,    0.94,2,-999.000,9,-999.000,9,-999.000,9,  2157.3,2,  2295.6,2,   7.6900,2,    25.00,  0.5615
06AQ19960712,ARKXII,93,1,14,168279,2,19960828,1851,80.3233,150.1150,1730,   599.8,  0.3975, 34.8627,2, 34.8631,2,  -999.0,9,   307.9,2,    5.85,2,   12.20,2, -999.00,9,    0.93,2,   4.984,2,   2.401,2,   5.699,2,  -999.0,9,  -999.0,9,-999.0000,9,  -999.00,  0.3753
06AQ19960712,ARKXII,93,1,13,168278,2,19960828,1851,80.3233,150.1150,1730,   699.7,  0.1689, 34.8641,2, 34.8638,2,  -999.0,9,   309.1,2,    5.85,2,   12.10,2, -999.00,9,    0.91,2,-999.000,9,-999.000,9,-999.000,9,  2157.6,2,  2300.3,2,   7.6813,2,    25.00,  0.1417
06AQ19960712,ARKXII,93,1,12,168277,2,19960828,1851,80.3233,150.1150,1730,   749.5,  0.0903, 34.8637,2,-999.0000,9,  -999.0,9,  -999.0,9, -999.00,9, -999.00,9, -999.00,9, -999.00,9,-999.000,9,-999.000,9,-999.000,9,  -999.0,9,  -999.0,9,-999.0000,9,  -999.00,-999.0000
06AQ19960712,ARKXII,93,1,11,168276,2,19960828,1851,80.3233,150.1150,1730,   799.6,  0.0399, 34.8681,2, 34.8681,2,  -999.0,9,   308.9,2,    5.95,2,   12.29,2, -999.00,9,    0.95,2,-999.000,9,-999.000,9,-999.000,9,  -999.0,9,  -999.0,9,-999.0000,9,  -999.00,  0.0075
06AQ19960712,ARKXII,93,1,10,168275,2,19960828,1851,80.3233,150.1150,1730,   999.7, -0.1037, 34.8821,2,-999.0000,9,  -999.0,9,  -999.0,9, -999.00,9, -999.00,9, -999.00,9, -999.00,9,-999.000,9,-999.000,9,-999.000,9,  -999.0,9,  -999.0,9,-999.0000,9,  -999.00,-999.0000
06AQ19960712,ARKXII,93,1,9,168274,2,19960828,1851,80.3233,150.1150,1730,   999.7, -0.0992, 34.8821,2, 34.8834,2,  -999.0,9,   308.0,2,    6.54,2,   12.59,2, -999.00,9,    0.97,2,   4.748,2,   2.266,2,   5.532,2,  2161.4,2,  2295.0,2,   7.6746,2,    25.00, -0.1408
06AQ19960712,ARKXII,93,1,8,168273,2,19960828,1851,80.3233,150.1150,1730,  1199.7, -0.2557, 34.8939,2, 34.8934,2,  -999.0,9,   306.6,2,    7.12,2,   13.07,2, -999.00,9,    1.00,2,-999.000,9,-999.000,9,-999.000,9,  2165.3,2,  2296.0,2,   7.6726,2,    25.00, -0.3062
06AQ19960712,ARKXII,93,1,7,168272,2,19960828,1851,80.3233,150.1150,1730,  1400.0, -0.3917, 34.9048,2, 34.9059,2,  -999.0,9,   304.1,2,    8.10,2,   13.56,2, -999.00,9,    1.03,2,   3.008,2,   1.341,2,   4.180,2,  -999.0,9,  -999.0,9,-999.0000,9,  -999.00, -0.4500
06AQ19960712,ARKXII,93,1,6,168271,2,19960828,1851,80.3233,150.1150,1730,  1500.4, -0.4619, 34.9087,2,-999.0000,9,  -999.0,9,  -999.0,9, -999.00,9, -999.00,9, -999.00,9, -999.00,9,-999.000,9,-999.000,9,-999.000,9,  -999.0,9,  -999.0,9,-999.0000,9,  -999.00,-999.0000
06AQ19960712,ARKXII,93,1,4,168269,2,19960828,1851,80.3233,150.1150,1730,  1600.8, -0.5233, 34.9159,2, 34.9160,2,  -999.0,9,   299.8,2,    9.56,2,   14.24,2, -999.00,9,    1.06,2,   1.557,2,   0.748,2,   2.570,2,  2156.9,2,  2295.6,2,   7.6861,2,    25.00, -0.5942
06AQ19960712,ARKXII,93,1,5,168270,2,19960828,1851,80.3233,150.1150,1730,  1600.9, -0.5243, 34.9158,2, 34.9157,2,  -999.0,9,   299.6,2,    9.66,2,   14.24,2, -999.00,9,    1.07,2,-999.000,9,-999.000,9,-999.000,9,  -999.0,9,  -999.0,9,-999.0000,9,  -999.00, -0.5932
06AQ19960712,ARKXII,93,1,3,168268,2,19960828,1851,80.3233,150.1150,1730,  1659.1, -0.5121, 34.9287,2, 34.9284,2,  -999.0,9,   295.1,2,   10.63,2,   14.54,2, -999.00,9,    1.10,2,-999.000,9,-999.000,9,-999.000,9,  2153.2,2,  2295.8,2,   7.6996,2,    25.00, -0.5859
06AQ19960712,ARKXII,93,1,2,168267,2,19960828,1851,80.3233,150.1150,1730,  1707.5, -0.5073, 34.9362,2,-999.0000,9,  -999.0,9,  -999.0,9, -999.00,9, -999.00,9, -999.00,9, -999.00,9,-999.000,9,-999.000,9,-999.000,9,  -999.0,9,  -999.0,9,-999.0000,9,  -999.00,-999.0000
06AQ19960712,ARKXII,93,1,1,168266,2,19960828,1851,80.3233,150.1150,1730,  1707.5, -0.5093, 34.9363,2, 34.9356,2,  -999.0,9,   291.0,2,   11.41,2,   14.54,2, -999.00,9,    1.08,2,   0.446,2,   0.193,2,   0.854,2,  2155.9,2,  2299.3,2,   7.6976,2,    25.00, -0.5859