BOTTLE,20100322CCHDOSIODM
EXPOCODE,SECT_ID,STNNBR,CASTNO,SAMPNO,BTLNBR,BTLNBR_FLAG_W,DATE,TIME,LATITUDE,LONGITUDE,DEPTH,CTDPRS,CTDTMP,CTDSAL,CTDSAL_FLAG_W,SALNTY,SALNTY_FLAG_W,CTDOXY,CTDOXY_FLAG_W,OXYGEN,OXYGEN_FLAG_W,SILCAT,SILCAT_FLAG_W,NITRAT,NITRAT_FLAG_W,NITRIT,NITRIT_FLAG_W,PHSPHT,PHSPHT_FLAG_W,CFC-11,CFC-11_FLAG_W,CFC-12,CFC-12_FLAG_W,CCL4,CCL4_FLAG_W,TCARBN,TCARBN_FLAG_W,ALKALI,ALKALI_FLAG_W,PH_SWS,PH_SWS_FLAG_W,PH_TMP,THETA
,,,,,,,,,,,METERS,DBAR,ITS-90,PSS-78,,PSS-78,,UMOL/KG,,UMOL/KG,,UMOL/KG,,UMOL/KG,,UMOL/KG,,UMOL/KG,,PMOL/KG,,PMOL/KG,,PMOL/KG,,UMOL/KG,,UMOL/KG,,,,DEG C,DEG C
06AQ19960712,ARKXII,30,1,15,165995,2,19960801,1335,81.9850,90.8300,306,    10.5, -1.7422, 33.7945,2, 33.7960,2,  -999.0,9,   353.9,2,    2.63,2,    3.71,2, -999.00,9,    0.40,2,-999.000,9,-999.000,9,-999.000,9,  -999.0,9,  -999.0,9,-999.0000,9,  -999.00, -1.7392
06AQ19960712,ARKXII,30,1,14,165994,2,19960801,1335,81.9850,90.8300,306,    20.8, -1.7496, 33.8284,2, 33.8303,2,  -999.0,9,   351.7,2,    2.63,2,    4.10,2, -999.00,9,    0.41,2,   6.660,2,   3.001,2,   7.960,2,  -999.0,9,  -999.0,9,-999.0000,9,  -999.00, -1.7464
06AQ19960712,ARKXII,30,1,13,165993,2,19960801,1335,81.9850,90.8300,306,    30.5, -1.7867, 33.9141,2, 33.9157,2,  -999.0,9,   345.9,2,    2.73,2,    4.68,2, -999.00,9,    0.46,2,-999.000,9,-999.000,9,-999.000,9,  -999.0,9,  -999.0,9,-999.0000,9,  -999.00, -1.7826
06AQ19960712,ARKXII,30,1,12,165992,2,19960801,1335,81.9850,90.8300,306,    40.2, -1.7828, 33.9810,2, 33.9754,2,  -999.0,9,   341.1,2,    2.73,2,    5.07,2, -999.00,9,    0.46,2,   6.064,2,   2.960,2,   7.675,2,  -999.0,9,  -999.0,9,-999.0000,9,  -999.00, -1.7808
06AQ19960712,ARKXII,30,1,11,165991,2,19960801,1335,81.9850,90.8300,306,    50.4, -1.7237, 34.1221,2, 34.1096,2,  -999.0,9,   332.2,2,    3.02,2,    6.24,2, -999.00,9,    0.51,2,-999.000,9,-999.000,9,-999.000,9,  -999.0,9,  -999.0,9,-999.0000,9,  -999.00, -1.7210
06AQ19960712,ARKXII,30,1,10,165990,2,19960801,1335,81.9850,90.8300,306,    60.6, -1.5854, 34.2453,2, 34.2667,2,  -999.0,9,   323.4,2,    3.41,2,    7.41,2, -999.00,9,    0.59,2,   6.060,2,   2.857,2,   7.544,2,  -999.0,9,  -999.0,9,-999.0000,9,  -999.00, -1.5783
06AQ19960712,ARKXII,30,1,9,165989,2,19960801,1335,81.9850,90.8300,306,    80.8, -1.5196, 34.3510,2, 34.3646,2,  -999.0,9,   321.7,2,    3.61,2,    8.00,2, -999.00,9,    0.61,2,-999.000,9,-999.000,9,   7.099,2,  -999.0,9,  -999.0,9,-999.0000,9,  -999.00, -1.5308
06AQ19960712,ARKXII,30,1,8,165988,2,19960801,1335,81.9850,90.8300,306,   100.9, -1.0162, 34.5098,2, 34.5250,2,  -999.0,9,   318.9,2,    3.61,2,    8.59,2, -999.00,9,    0.64,2,-999.000,9,-999.000,9,   6.788,2,  -999.0,9,  -999.0,9,-999.0000,9,  -999.00, -1.0277
06AQ19960712,ARKXII,30,1,7,165987,2,19960801,1335,81.9850,90.8300,306,   125.7,  0.4634, 34.7243,2, 34.7237,2,  -999.0,9,   310.7,2,    4.29,2,   10.54,2, -999.00,9,    0.73,2,-999.000,9,-999.000,9,-999.000,9,  -999.0,9,  -999.0,9,-999.0000,9,  -999.00,  0.4640
06AQ19960712,ARKXII,30,1,6,165986,2,19960801,1335,81.9850,90.8300,306,   150.9,  0.7518, 34.7882,2, 34.7934,2,  -999.0,9,   309.5,2,    4.68,2,   11.02,2, -999.00,9,    0.77,2,   5.591,2,   2.893,2,   6.324,2,  -999.0,9,  -999.0,9,-999.0000,9,  -999.00,  0.7525
06AQ19960712,ARKXII,30,1,5,165985,2,19960801,1335,81.9850,90.8300,306,   201.1,  0.8757, 34.8463,2, 34.8431,2,  -999.0,9,   308.3,2,    5.17,2,   11.61,2, -999.00,9,    0.79,2,-999.000,9,-999.000,9,-999.000,9,  -999.0,9,  -999.0,9,-999.0000,9,  -999.00,  0.8750
06AQ19960712,ARKXII,30,1,4,165984,2,19960801,1335,81.9850,90.8300,306,   251.4,  0.3063, 34.8277,2, 34.8257,2,  -999.0,9,   307.8,2,    5.17,2,   11.41,2, -999.00,9,    0.78,2,   5.611,2,   2.694,2,   6.672,2,  -999.0,9,  -999.0,9,-999.0000,9,  -999.00,  0.3009
06AQ19960712,ARKXII,30,1,3,165983,2,19960801,1335,81.9850,90.8300,306,   279.0,  0.3083, 34.8276,2, 34.8253,2,  -999.0,9,   307.7,2,    5.27,2,   11.22,2, -999.00,9,    0.79,2,-999.000,9,-999.000,9,-999.000,9,  -999.0,9,  -999.0,9,-999.0000,9,  -999.00,  0.3017
06AQ19960712,ARKXII,30,1,2,165982,2,19960801,1335,81.9850,90.8300,306,   287.9,  0.3022, 34.8274,2, 34.8255,2,  -999.0,9,   307.9,2,    5.37,2,   11.41,2, -999.00,9,    0.79,2,-999.000,9,-999.000,9,-999.000,9,  -999.0,9,  -999.0,9,-999.0000,9,  -999.00,  0.2943
06AQ19960712,ARKXII,30,1,1,165981,2,19960801,1335,81.9850,90.8300,306,   298.8,  0.3079, 34.8268,2, 34.8260,2,  -999.0,9,   307.8,2,    5.27,2,   11.22,2, -999.00,9,    0.77,2,-999.000,9,-999.000,9,-999.000,9,  -999.0,9,  -999.0,9,-999.0000,9,  -999.00,  0.2978
06AQ19960712,ARKXII,31,2,19,166014,2,19960801,1606,82.0283,90.8333,497,    10.8, -1.7803, 33.8745,2, 33.8722,2,  -999.0,9,   345.5,2,    2.83,2,    4.49,2, -999.00,9,    0.40,2,   7.456,2,   3.369,2,   7.780,2,  2109.1,2,  2270.6,2,   7.7346,2,    25.00, -1.7762
06AQ19960712,ARKXII,31,2,18,166013,2,19960801,1606,82.0283,90.8333,497,    20.5, -1.7859, 33.8822,2, 33.8798,2,  -999.0,9,   344.9,2,    2.83,2,    4.68,2, -999.00,9,    0.42,2,   6.931,2,   3.103,2,   7.600,2,  -999.0,9,  -999.0,9,-999.0000,9,  -999.00, -1.7834
06AQ19960712,ARKXII,31,2,17,166012,2,19960801,1606,82.0283,90.8333,497,    29.8, -1.7980, 33.8937,2, 33.8921,2,  -999.0,9,   344.7,2,    2.83,2,    4.88,2, -999.00,9,    0.42,2,   6.901,2,   3.169,2,   7.803,2,  2111.9,2,  2270.0,2,   7.7298,2,    25.00, -1.7936
06AQ19960712,ARKXII,31,2,16,166011,2,19960801,1606,82.0283,90.8333,497,    39.5, -1.8046, 33.9057,2, 33.9092,2,  -999.0,9,   343.9,2,    2.93,2,    4.98,2, -999.00,9,    0.42,2,-999.000,9,-999.000,9,-999.000,9,  -999.0,9,  -999.0,9,-999.0000,9,  -999.00, -1.8017
06AQ19960712,ARKXII,31,2,15,166010,2,19960801,1606,82.0283,90.8333,497,    50.1, -1.8045, 33.9901,2, 33.9850,2,  -999.0,9,   340.2,2,    2.93,2,    5.37,2, -999.00,9,    0.44,2,-999.000,9,-999.000,9,-999.000,9,  2117.1,2,  2277.7,2,   7.7269,2,    25.00, -1.8019
06AQ19960712,ARKXII,31,2,14,166009,2,19960801,1606,82.0283,90.8333,497,    60.7, -1.7994, 34.0182,2, 34.0020,2,  -999.0,9,   339.4,2, -999.00,9,    5.56,2, -999.00,9,    0.45,2,   6.913,2,   3.140,2,   7.483,2,  -999.0,9,  -999.0,9,-999.0000,9,  -999.00, -1.7991
06AQ19960712,ARKXII,31,2,13,166008,2,19960801,1606,82.0283,90.8333,497,    80.4, -1.7351, 34.2360,2, 34.2157,2,  -999.0,9,   326.2,2, -999.00,9,    7.32,2, -999.00,9,    0.54,2,   6.551,2,   2.925,2,   7.279,2,  2123.8,2,  2268.8,3,   7.7046,2,    25.00, -1.7356
06AQ19960712,ARKXII,31,2,12,166007,2,19960801,1606,82.0283,90.8333,497,   100.2, -1.4377, 34.3338,2, 34.3146,2,  -999.0,9,   324.0,2, -999.00,9,    7.71,2, -999.00,9, -999.00,9,-999.000,9,-999.000,9,-999.000,9,  2135.0,2,  2291.3,2,   7.7026,2,    25.00, -1.4393
06AQ19960712,ARKXII,31,2,11,166006,2,19960801,1606,82.0283,90.8333,497,   125.3, -0.7766, 34.5108,2, 34.5061,2,  -999.0,9,   321.3,2,    4.00,2,    8.88,2, -999.00,9,    0.62,2,   6.381,2,   2.991,2,   6.999,2,  -999.0,9,  -999.0,9,-999.0000,9,  -999.00, -0.7887
06AQ19960712,ARKXII,31,2,10,166005,2,19960801,1606,82.0283,90.8333,497,   150.2, -0.1813, 34.6229,2, 34.6390,2,  -999.0,9,   316.4,2,    4.39,2,   10.05,2, -999.00,9,    0.67,2,   6.023,2,   2.801,2,   6.489,2,  2142.4,2,  2294.2,2,   7.7064,2,    25.00, -0.2052
06AQ19960712,ARKXII,31,2,9,166004,2,19960801,1606,82.0283,90.8333,497,   200.4,  0.5473, 34.7563,2, 34.7568,2,  -999.0,9,   312.2,2,    4.78,2,   11.12,2, -999.00,9,    0.72,2,-999.000,9,-999.000,9,-999.000,9,  2144.4,2,  2297.5,2,   7.7083,2,    25.00,  0.5416
06AQ19960712,ARKXII,31,2,8,166003,2,19960801,1606,82.0283,90.8333,497,   250.6,  0.8278, 34.8190,2, 34.8196,2,  -999.0,9,   310.9,2,    5.07,2,   11.32,2, -999.00,9,    0.74,2,   5.682,2,   2.548,2,   6.103,2,  -999.0,9,  -999.0,9,-999.0000,9,  -999.00,  0.8218
06AQ19960712,ARKXII,31,2,7,166002,2,19960801,1606,82.0283,90.8333,497,   300.8,  0.6028, 34.8283,2, 34.8272,2,  -999.0,9,   310.9,2,    5.37,2,   11.32,2, -999.00,9,    0.75,2,-999.000,9,-999.000,9,-999.000,9,  2149.9,2,  2288.8,2,   7.7044,2,    25.00,  0.6060
06AQ19960712,ARKXII,31,2,6,166001,2,19960801,1606,82.0283,90.8333,497,   351.1, -0.1574, 34.8127,2, 34.8117,2,  -999.0,9,   311.3,2,    5.56,2,   11.12,2, -999.00,9,    0.73,2,   6.223,2,   2.838,2,   6.494,2,  -999.0,9,  -999.0,9,-999.0000,9,  -999.00, -0.1701
06AQ19960712,ARKXII,31,2,5,166000,2,19960801,1606,82.0283,90.8333,497,   401.0, -0.1850, 34.8127,2, 34.8105,2,  -999.0,9,   311.2,2,    5.46,2,   10.93,2, -999.00,9,    0.72,2,-999.000,9,-999.000,9,-999.000,9,  2156.4,2,  2288.8,2,   7.6842,2,    25.00, -0.1960
06AQ19960712,ARKXII,31,2,4,165999,2,19960801,1606,82.0283,90.8333,497,   450.9, -0.1903, 34.8121,2, 34.8105,2,  -999.0,9,   310.8,2,    5.56,2,   10.93,2, -999.00,9,    0.74,2,   6.420,2,   2.947,2,   6.543,2,  2157.5,2,  2298.7,2,   7.6861,2,    25.00, -0.2041
06AQ19960712,ARKXII,31,2,3,165998,2,19960801,1606,82.0283,90.8333,497,   465.4, -0.1784, 34.8127,2, 34.8107,2,  -999.0,9,   310.8,2,    5.66,2,   10.93,2, -999.00,9,    0.77,2,   6.185,2,   2.782,2,   6.504,2,  2158.2,2,  2293.7,2,   7.6852,2,    25.00, -0.1948
06AQ19960712,ARKXII,31,2,2,165997,2,19960801,1606,82.0283,90.8333,497,   475.5, -0.1750, 34.8125,2, 34.8105,2,  -999.0,9,   311.0,2,    5.56,2,   10.73,2, -999.00,9,    0.78,2,   6.206,2,   2.836,2,   6.476,2,  2150.9,2,  2297.7,2,   7.6852,2,    25.00, -0.1892
06AQ19960712,ARKXII,31,2,1,165996,2,19960801,1606,82.0283,90.8333,497,   486.0, -0.1769, 34.8122,2, 34.8109,2,  -999.0,9,   311.1,2,    5.37,2,   10.83,2, -999.00,9,    0.76,2,-999.000,9,-999.000,9,-999.000,9,  2153.6,2,  -999.0,9,   7.6861,2,    25.00, -0.1926
06AQ19960712,ARKXII,32,1,22,166036,2,19960801,1801,82.0400,91.2000,734,    10.8, -1.7540, 33.8586,2, 33.8630,2,  -999.0,9,   345.9,2,    2.83,2,    5.37,2, -999.00,9,    0.38,2,-999.000,9,-999.000,9,-999.000,9,  -999.0,9,  -999.0,9,-999.0000,9,  -999.00, -1.7512
06AQ19960712,ARKXII,32,1,21,166035,2,19960801,1801,82.0400,91.2000,734,    20.3, -1.7814, 33.8903,2, 33.8942,2,  -999.0,9,   345.3,2,    2.73,2,    5.37,2, -999.00,9,    0.39,2,-999.000,9,-999.000,9,-999.000,9,  -999.0,9,  -999.0,9,-999.0000,9,  -999.00, -1.7774
06AQ19960712,ARKXII,32,1,20,166034,2,19960801,1801,82.0400,91.2000,734,    30.6, -1.7850, 33.9079,2, 33.9078,2,  -999.0,9,   345.8,2,    2.63,2,    5.46,2, -999.00,9,    0.39,2,-999.000,9,-999.000,9,-999.000,9,  -999.0,9,  -999.0,9,-999.0000,9,  -999.00, -1.7816
06AQ19960712,ARKXII,32,1,19,166033,2,19960801,1801,82.0400,91.2000,734,    39.8, -1.7873, 33.9115,2, 33.9124,2,  -999.0,9,   345.9,2,    2.63,2,    5.46,2, -999.00,9,    0.39,2,-999.000,9,-999.000,9,-999.000,9,  -999.0,9,  -999.0,9,-999.0000,9,  -999.00, -1.7857
06AQ19960712,ARKXII,32,1,18,166032,2,19960801,1801,82.0400,91.2000,734,    50.6, -1.8000, 33.9284,2, 33.9212,2,  -999.0,9,   342.9,2,    2.83,2,    5.66,2, -999.00,9,    0.41,2,-999.000,9,-999.000,9,-999.000,9,  -999.0,9,  -999.0,9,-999.0000,9,  -999.00, -1.7979
06AQ19960712,ARKXII,32,1,17,166031,2,19960801,1801,82.0400,91.2000,734,    60.4, -1.7962, 34.0266,2, 34.0122,2,  -999.0,9,   337.6,2,    3.22,2,    6.24,2, -999.00,9,    0.45,2,-999.000,9,-999.000,9,-999.000,9,  -999.0,9,  -999.0,9,-999.0000,9,  -999.00, -1.7941
06AQ19960712,ARKXII,32,1,16,166030,2,19960801,1801,82.0400,91.2000,734,    80.3, -1.7479, 34.2051,2, 34.2032,2,  -999.0,9,   327.3,2,    4.00,2,    7.80,2, -999.00,9, -999.00,9,-999.000,9,-999.000,9,-999.000,9,  -999.0,9,  -999.0,9,-999.0000,9,  -999.00, -1.7116
06AQ19960712,ARKXII,32,1,15,166029,2,19960801,1801,82.0400,91.2000,734,   100.4, -1.3616, 34.3449,2, 34.3378,2,  -999.0,9,   323.8,2,    4.10,2,    8.39,2, -999.00,9,    0.57,2,-999.000,9,-999.000,9,-999.000,9,  -999.0,9,  -999.0,9,-999.0000,9,  -999.00, -1.3454
06AQ19960712,ARKXII,32,1,14,166028,2,19960801,1801,82.0400,91.2000,734,   124.2, -0.4648, 34.4737,2, 34.4734,2,  -999.0,9,   318.1,2,    4.29,2,    9.07,2, -999.00,9,    0.61,2,-999.000,9,-999.000,9,-999.000,9,  -999.0,9,  -999.0,9,-999.0000,9,  -999.00, -0.4670
06AQ19960712,ARKXII,32,1,13,166027,2,19960801,1801,82.0400,91.2000,734,   150.4, -0.5916, 34.5324,2, 34.5370,2,  -999.0,9,   319.8,2,    4.39,2,    8.78,2, -999.00,9,    0.61,2,-999.000,9,-999.000,9,-999.000,9,  -999.0,9,  -999.0,9,-999.0000,9,  -999.00, -0.5927
06AQ19960712,ARKXII,32,1,12,166026,2,19960801,1801,82.0400,91.2000,734,   199.5,  0.6520, 34.7248,2, 34.7127,2,  -999.0,9,   312.4,2,    4.88,2,   10.44,2, -999.00,9,    0.68,2,-999.000,9,-999.000,9,-999.000,9,  -999.0,9,  -999.0,9,-999.0000,9,  -999.00,  0.6405
06AQ19960712,ARKXII,32,1,11,166025,2,19960801,1801,82.0400,91.2000,734,   250.3,  1.3054, 34.8532,2, 34.8558,2,  -999.0,9,   308.2,2,    5.56,2,   12.00,2, -999.00,9,    0.75,2,-999.000,9,-999.000,9,-999.000,9,  -999.0,9,  -999.0,9,-999.0000,9,  -999.00,  1.2988
06AQ19960712,ARKXII,32,1,10,166024,2,19960801,1801,82.0400,91.2000,734,   300.3,  1.0911, 34.8528,2, 34.8465,2,  -999.0,9,   309.3,2,    5.76,2,   11.51,2, -999.00,9,    0.74,2,-999.000,9,-999.000,9,-999.000,9,  -999.0,9,  -999.0,9,-999.0000,9,  -999.00,  1.1247
06AQ19960712,ARKXII,32,1,9,166023,2,19960801,1801,82.0400,91.2000,734,   350.4,  0.5312, 34.8383,2, 34.8401,2,  -999.0,9,   310.7,2,    5.85,2,   11.51,2, -999.00,9,    0.73,2,-999.000,9,-999.000,9,-999.000,9,  -999.0,9,  -999.0,9,-999.0000,9,  -999.00,  0.5368
06AQ19960712,ARKXII,32,1,8,166022,2,19960801,1801,82.0400,91.2000,734,   400.6,  0.4063, 34.8519,2, 34.8534,2,  -999.0,9,   310.1,2,    6.15,2,   11.80,2, -999.00,9,    0.75,2,-999.000,9,-999.000,9,-999.000,9,  -999.0,9,  -999.0,9,-999.0000,9,  -999.00,  0.3900
06AQ19960712,ARKXII,32,1,7,166021,2,19960801,1801,82.0400,91.2000,734,   450.6,  0.3035, 34.8600,2, 34.8598,2,  -999.0,9,   309.7,2,    6.34,2,   12.00,2, -999.00,9,    0.76,2,-999.000,9,-999.000,9,-999.000,9,  -999.0,9,  -999.0,9,-999.0000,9,  -999.00,  0.2880
06AQ19960712,ARKXII,32,1,6,166020,2,19960801,1801,82.0400,91.2000,734,   500.3, -0.3726, 34.8218,2, 34.8217,2,  -999.0,9,   314.3,2,    6.05,2,   10.73,2, -999.00,9,    0.71,2,-999.000,9,-999.000,9,-999.000,9,  -999.0,9,  -999.0,9,-999.0000,9,  -999.00, -0.3845
06AQ19960712,ARKXII,32,1,5,166019,2,19960801,1801,82.0400,91.2000,734,   550.5, -0.3679, 34.8286,2, 34.8289,2,  -999.0,9,   314.1,2,    6.15,2,   10.93,2, -999.00,9,    0.72,2,-999.000,9,-999.000,9,-999.000,9,  -999.0,9,  -999.0,9,-999.0000,9,  -999.00, -0.3856
06AQ19960712,ARKXII,32,1,4,166018,2,19960801,1801,82.0400,91.2000,734,   600.7, -0.3594, 34.8321,2, 34.8327,2,  -999.0,9,   314.0,2,    6.15,2,   11.02,2, -999.00,9,    0.72,2,-999.000,9,-999.000,9,-999.000,9,  -999.0,9,  -999.0,9,-999.0000,9,  -999.00, -0.3788
06AQ19960712,ARKXII,32,1,3,166017,2,19960801,1801,82.0400,91.2000,734,   700.2, -0.3677, 34.8381,2, 34.8387,2,  -999.0,9,   313.6,2,    6.34,2,   11.32,2, -999.00,9,    0.73,2,-999.000,9,-999.000,9,-999.000,9,  -999.0,9,  -999.0,9,-999.0000,9,  -999.00, -0.3912
06AQ19960712,ARKXII,32,1,2,166016,2,19960801,1801,82.0400,91.2000,734,   710.5, -0.3613, 34.8385,2, 34.8420,2,  -999.0,9,   313.5,2,    6.24,2,   11.41,2, -999.00,9,    0.73,2,-999.000,9,-999.000,9,-999.000,9,  -999.0,9,  -999.0,9,-999.0000,9,  -999.00, -0.3847
06AQ19960712,ARKXII,32,1,1,166015,2,19960801,1801,82.0400,91.2000,734,   720.6, -0.3595, 34.8378,2, 34.8451,2,  -999.0,9,   313.1,2,    6.05,2,   11.41,2, -999.00,9,    0.72,2,-999.000,9,-999.000,9,-999.000,9,  -999.0,9,  -999.0,9,-999.0000,9,  -999.00, -0.3842