BOTTLE,20100322CCHDOSIODM
EXPOCODE,SECT_ID,STNNBR,CASTNO,SAMPNO,BTLNBR,BTLNBR_FLAG_W,DATE,TIME,LATITUDE,LONGITUDE,DEPTH,CTDPRS,CTDTMP,CTDSAL,CTDSAL_FLAG_W,SALNTY,SALNTY_FLAG_W,CTDOXY,CTDOXY_FLAG_W,OXYGEN,OXYGEN_FLAG_W,SILCAT,SILCAT_FLAG_W,NITRAT,NITRAT_FLAG_W,NITRIT,NITRIT_FLAG_W,PHSPHT,PHSPHT_FLAG_W,CFC-11,CFC-11_FLAG_W,CFC-12,CFC-12_FLAG_W,CCL4,CCL4_FLAG_W,TCARBN,TCARBN_FLAG_W,ALKALI,ALKALI_FLAG_W,PH_SWS,PH_SWS_FLAG_W,PH_TMP,THETA
,,,,,,,,,,,METERS,DBAR,ITS-90,PSS-78,,PSS-78,,UMOL/KG,,UMOL/KG,,UMOL/KG,,UMOL/KG,,UMOL/KG,,UMOL/KG,,PMOL/KG,,PMOL/KG,,PMOL/KG,,UMOL/KG,,UMOL/KG,,,,DEG C,DEG C
06AQ19960712,ARKXII,44,2,34,166490,2,19960805,2159,84.3550,101.9750,3762,     9.9, -1.7854, 34.1945,2, 34.2168,2,  -999.0,9,   360.6,2,    2.83,2,    5.95,2, -999.00,9,    0.51,2,-999.000,9,-999.000,9,-999.000,9,  -999.0,9,  -999.0,9,   7.7549,2,    25.00, -1.7822
06AQ19960712,ARKXII,44,2,33,166489,2,19960805,2159,84.3550,101.9750,3762,    20.0, -1.7929, 34.2487,2, 34.2475,2,  -999.0,9,   359.6,2,    2.83,2,    6.24,2, -999.00,9,    0.53,2,-999.000,9,-999.000,9,-999.000,9,  -999.0,9,  -999.0,9,-999.0000,9,  -999.00, -1.7904
06AQ19960712,ARKXII,44,2,32,166488,2,19960805,2159,84.3550,101.9750,3762,    30.0, -1.8051, 34.2530,2, 34.2530,2,  -999.0,9,   358.4,2,    2.83,2,    6.34,2, -999.00,9,    0.55,2,-999.000,9,-999.000,9,-999.000,9,  2108.5,2,  -999.0,9,   7.7461,2,    25.00, -1.8026
06AQ19960712,ARKXII,44,2,31,166487,2,19960805,2159,84.3550,101.9750,3762,    40.0, -1.8118, 34.2552,2, 34.2585,2,  -999.0,9,   357.7,2,    2.93,2,    6.44,2, -999.00,9,    0.53,2,-999.000,9,-999.000,9,-999.000,9,  -999.0,9,  -999.0,9,-999.0000,9,  -999.00, -1.8098
06AQ19960712,ARKXII,44,2,30,166486,2,19960805,2159,84.3550,101.9750,3762,    59.6, -1.8193, 34.2818,2, 34.2884,2,  -999.0,9,   354.6,2,    2.93,2, -999.00,9, -999.00,9, -999.00,9,-999.000,9,-999.000,9,-999.000,9,  2110.6,2,  -999.0,9,   7.7422,2,    25.00, -1.8172
06AQ19960712,ARKXII,44,2,29,166485,2,19960805,2159,84.3550,101.9750,3762,    69.4, -1.8178, 34.2945,2, 34.2947,2,  -999.0,9,   354.0,2, -999.00,9, -999.00,9, -999.00,9, -999.00,9,-999.000,9,-999.000,9,-999.000,9,  2115.3,2,  -999.0,9,   7.7442,2,    25.00, -1.8163
06AQ19960712,ARKXII,44,2,28,166484,2,19960805,2159,84.3550,101.9750,3762,    80.4, -1.7822, 34.2984,2, 34.2961,2,  -999.0,9,   353.1,2, -999.00,9, -999.00,9, -999.00,9, -999.00,9,-999.000,9,-999.000,9,-999.000,9,  2115.7,2,  -999.0,9,   7.7403,2,    25.00, -1.7806
06AQ19960712,ARKXII,44,2,27,166483,2,19960805,2159,84.3550,101.9750,3762,   100.2, -1.7997, 34.2975,2, 34.2970,2,  -999.0,9,   353.3,2,    2.93,2,    7.02,2, -999.00,9,    0.55,2,-999.000,9,-999.000,9,-999.000,9,  2114.2,2,  -999.0,9,   7.7413,2,    25.00, -1.7980
06AQ19960712,ARKXII,44,2,26,166482,2,19960805,2159,84.3550,101.9750,3762,   149.9, -0.0325, 34.5290,2, 34.5244,2,  -999.0,9,   305.3,2,    4.98,2,   10.34,2, -999.00,9,    0.73,2,-999.000,9,-999.000,9,-999.000,9,  2140.0,2,  -999.0,9,   7.6910,2,    25.00, -0.0344
06AQ19960712,ARKXII,44,2,25,166481,2,19960805,2159,84.3550,101.9750,3762,   200.1,  1.4432, 34.8017,2, 34.7945,2,  -999.0,9,   299.7,2,    5.56,2,   11.71,2, -999.00,9,    0.79,2,-999.000,9,-999.000,9,-999.000,9,  -999.0,9,  -999.0,9,-999.0000,9,  -999.00,  1.4371
06AQ19960712,ARKXII,44,2,24,166480,2,19960805,2159,84.3550,101.9750,3762,   229.7,  1.4765, 34.8235,2, 34.8234,2,  -999.0,9,   299.6,2,    5.56,2,   11.90,2, -999.00,9,    0.78,2,-999.000,9,-999.000,9,-999.000,9,  2140.5,2,  -999.0,9,   7.7121,2,    25.00,  1.4695
06AQ19960712,ARKXII,44,2,23,166479,2,19960805,2159,84.3550,101.9750,3762,   250.3,  1.6601, 34.8900,2, 34.8858,2,  -999.0,9,   300.9,2,    5.76,2,   12.20,2, -999.00,9,    0.82,2,-999.000,9,-999.000,9,-999.000,9,  2141.2,2,  -999.0,9,   7.7140,2,    25.00,  1.6511
06AQ19960712,ARKXII,44,2,22,166478,2,19960805,2159,84.3550,101.9750,3762,   299.9,  1.3603, 34.8750,2, 34.8742,2,  -999.0,9,   300.6,2,    5.76,2,   12.39,2, -999.00,9,    0.81,2,-999.000,9,-999.000,9,-999.000,9,  -999.0,9,  -999.0,9,-999.0000,9,  -999.00,  1.3491
06AQ19960712,ARKXII,44,2,21,166477,2,19960805,2159,84.3550,101.9750,3762,   400.6,  1.1452, 34.8995,2, 34.8978,2,  -999.0,9,   301.6,2,    5.95,2,   12.39,2, -999.00,9,    0.82,2,-999.000,9,-999.000,9,-999.000,9,  2147.5,2,  -999.0,9,   7.7082,2,    25.00,  1.1294
06AQ19960712,ARKXII,44,2,20,166476,2,19960805,2159,84.3550,101.9750,3762,   499.9,  0.8365, 34.9029,2, 34.9019,2,  -999.0,9,   301.7,2,    6.24,2,   12.39,2, -999.00,9,    0.83,2,-999.000,9,-999.000,9,-999.000,9,  -999.0,9,  -999.0,9,-999.0000,9,  -999.00,  0.8174
06AQ19960712,ARKXII,44,2,19,166475,2,19960805,2159,84.3550,101.9750,3762,   600.2,  0.5280, 34.9028,2, 34.8984,2,  -999.0,9,   303.1,2,    6.34,2,   12.29,2, -999.00,9,    0.85,2,-999.000,9,-999.000,9,-999.000,9,  2152.2,2,  -999.0,9,   7.6995,2,    25.00,  0.5047
06AQ19960712,ARKXII,44,2,18,166474,2,19960805,2159,84.3550,101.9750,3762,   700.4,  0.2313, 34.8983,2, 34.8964,2,  -999.0,9,   303.4,2,    6.73,2,   12.68,2, -999.00,9,    0.86,2,-999.000,9,-999.000,9,-999.000,9,  -999.0,9,  -999.0,9,-999.0000,9,  -999.00,  0.2043
06AQ19960712,ARKXII,44,2,17,166473,2,19960805,2159,84.3550,101.9750,3762,   800.0, -0.0175, 34.8938,2, 34.8938,2,  -999.0,9,   303.9,2,    7.02,2,   12.78,2, -999.00,9,    0.89,2,-999.000,9,-999.000,9,-999.000,9,  -999.0,9,  -999.0,9,-999.0000,9,  -999.00, -0.0482
06AQ19960712,ARKXII,44,2,16,166472,2,19960805,2159,84.3550,101.9750,3762,  1000.0, -0.2483, 34.9076,2, 34.9048,2,  -999.0,9,   302.9,2,    7.90,2,   13.17,2, -999.00,9,    0.90,2,-999.000,9,-999.000,9,-999.000,9,  2157.3,2,  -999.0,9,   7.6909,2,    25.00, -0.2876
06AQ19960712,ARKXII,44,2,15,166471,2,19960805,2159,84.3550,101.9750,3762,  1200.2, -0.4216, 34.9151,2, 34.9147,2,  -999.0,9,   302.0,2,    8.59,2,   13.66,2, -999.00,9,    0.93,2,-999.000,9,-999.000,9,-999.000,9,  -999.0,9,  -999.0,9,-999.0000,9,  -999.00, -0.4696
06AQ19960712,ARKXII,44,2,14,166470,2,19960805,2159,84.3550,101.9750,3762,  1400.8, -0.5619, 34.9196,2, 34.9168,2,  -999.0,9,   301.3,2,    9.37,2,   13.95,2, -999.00,9,    0.94,2,-999.000,9,-999.000,9,-999.000,9,  -999.0,9,  -999.0,9,-999.0000,9,  -999.00, -0.6192
06AQ19960712,ARKXII,44,2,13,166469,2,19960805,2159,84.3550,101.9750,3762,  1599.4, -0.6481, 34.9225,2, 34.9196,2,  -999.0,9,   300.3,2,   10.15,2,   13.95,2, -999.00,9,    0.95,2,-999.000,9,-999.000,9,-999.000,9,  -999.0,9,  -999.0,9,-999.0000,9,  -999.00, -0.7155
06AQ19960712,ARKXII,44,2,12,166468,2,19960805,2159,84.3550,101.9750,3762,  1799.5, -0.7106, 34.9236,2, 34.9217,2,  -999.0,9,   300.3,2,   10.54,2,   14.15,2, -999.00,9,    0.96,2,-999.000,9,-999.000,9,-999.000,9,  2156.9,2,  -999.0,9,   7.6928,2,    25.00, -0.7898
06AQ19960712,ARKXII,44,2,11,166467,2,19960805,2159,84.3550,101.9750,3762,  2000.4, -0.7574, 34.9241,2, 34.9239,2,  -999.0,9,   300.5,2,   10.54,2,   14.34,2, -999.00,9,    0.97,2,-999.000,9,-999.000,9,-999.000,9,  -999.0,9,  -999.0,9,-999.0000,9,  -999.00, -0.8488
06AQ19960712,ARKXII,44,2,10,166466,2,19960805,2159,84.3550,101.9750,3762,  2200.5, -0.7841, 34.9266,2, 34.9252,2,  -999.0,9,   300.6,2,   10.83,2,   14.15,2, -999.00,9,    0.97,2,-999.000,9,-999.000,9,-999.000,9,  -999.0,9,  -999.0,9,-999.0000,9,  -999.00, -0.8887
06AQ19960712,ARKXII,44,2,9,166465,2,19960805,2159,84.3550,101.9750,3762,  2401.2, -0.7964, 34.9285,2, 34.9280,2,  -999.0,9,   300.2,2,   11.02,2,   14.44,2, -999.00,9,    0.98,2,-999.000,9,-999.000,9,-999.000,9,  -999.0,9,  -999.0,9,-999.0000,9,  -999.00, -0.9144
06AQ19960712,ARKXII,44,2,8,166464,2,19960805,2159,84.3550,101.9750,3762,  2600.0, -0.7994, 34.9318,2, 34.9311,2,  -999.0,9,   300.2,2,   10.93,2,   14.44,2, -999.00,9,    0.97,2,-999.000,9,-999.000,9,-999.000,9,  2153.8,2,  -999.0,9,   7.6986,2,    25.00, -0.9318
06AQ19960712,ARKXII,44,2,7,166463,2,19960805,2159,84.3550,101.9750,3762,  2799.2, -0.7944, 34.9339,2, 34.9337,2,  -999.0,9,   299.7,2, -999.00,9,   14.44,2, -999.00,9,    0.97,2,-999.000,9,-999.000,9,-999.000,9,  -999.0,9,  -999.0,9,-999.0000,9,  -999.00, -0.9420
06AQ19960712,ARKXII,44,2,6,166462,2,19960805,2159,84.3550,101.9750,3762,  2999.9, -0.7834, 34.9378,2, 34.9370,2,  -999.0,9,   298.8,2,   11.22,2,   14.44,2, -999.00,9,    0.97,2,-999.000,9,-999.000,9,-999.000,9,  -999.0,9,  -999.0,9,-999.0000,9,  -999.00, -0.9471
06AQ19960712,ARKXII,44,2,5,166461,2,19960805,2159,84.3550,101.9750,3762,  3199.6, -0.7618, 34.9405,2, 34.9406,2,  -999.0,9,   297.8,2,   11.32,2,   14.63,2, -999.00,9,    0.97,2,-999.000,9,-999.000,9,-999.000,9,  -999.0,9,  -999.0,9,-999.0000,9,  -999.00, -0.9421
06AQ19960712,ARKXII,44,2,4,166460,2,19960805,2159,84.3550,101.9750,3762,  3400.3, -0.7394, 34.9419,2, 34.9406,2,  -999.0,9,   297.3,2,   11.41,2,   14.63,2, -999.00,9,    0.96,2,-999.000,9,-999.000,9,-999.000,9,  2155.3,2,  -999.0,9,   7.6976,2,    25.00, -0.9378
06AQ19960712,ARKXII,44,2,3,166459,2,19960805,2159,84.3550,101.9750,3762,  3659.9, -0.7188, 34.9422,2, 34.9419,2,  -999.0,9,   297.5,2,   11.32,2,   14.15,2, -999.00,9,    0.97,2,-999.000,9,-999.000,9,-999.000,9,  2154.4,2,  -999.0,9,   7.7034,2,    25.00, -0.9405
06AQ19960712,ARKXII,44,2,2,166458,2,19960805,2159,84.3550,101.9750,3762,  3712.2, -0.7143, 34.9421,2, 34.9431,2,  -999.0,9,   297.6,2,   11.41,2,   14.34,2, -999.00,9,    0.97,2,-999.000,9,-999.000,9,-999.000,9,  2156.6,2,  -999.0,9,   7.6995,2,    25.00, -0.9414
06AQ19960712,ARKXII,44,2,1,166457,2,19960805,2159,84.3550,101.9750,3762,  3761.7, -0.7095, 34.9416,2, 34.9417,2,  -999.0,9,   297.6,2,   11.41,2,   14.24,2, -999.00,9,    0.96,2,-999.000,9,-999.000,9,-999.000,9,  2156.7,2,  -999.0,9,   7.7044,2,    25.00, -0.9411
06AQ19960712,ARKXII,45,1,36,166526,2,19960806,0347,84.4833,102.9283,4009,     9.9, -1.7913, 34.2058,2, 34.2040,2,  -999.0,9,   362.7,2,    2.83,2,    5.95,2, -999.00,9,    0.51,2,   6.140,2,   2.718,2,   6.108,2,  -999.0,9,  -999.0,9,-999.0000,9,  -999.00, -1.7882
06AQ19960712,ARKXII,45,1,35,166525,2,19960806,0347,84.4833,102.9283,4009,    20.5, -1.7989, 34.2391,2, 34.2260,2,  -999.0,9,   361.5,2,    2.83,2,    6.05,2, -999.00,9,    0.50,2,   6.460,2,   2.741,2,   5.900,2,  2102.9,2,  -999.0,9,   7.7510,2,    25.00, -1.7964
06AQ19960712,ARKXII,45,1,34,166524,2,19960806,0347,84.4833,102.9283,4009,    30.9, -1.8061, 34.2521,2, 34.2470,2,  -999.0,9,   360.9,2,    2.93,2,    6.15,2, -999.00,9,    0.51,2,   6.097,2,   2.710,2,   5.853,2,  2105.8,2,  -999.0,9,   7.7500,2,    25.00, -1.8036
06AQ19960712,ARKXII,45,1,33,166523,2,19960806,0347,84.4833,102.9283,4009,    40.1, -1.8151, 34.2584,2, 34.2556,2,  -999.0,9,   360.3,2,    2.83,2,    6.24,2, -999.00,9,    0.52,2,   6.143,2,   2.760,2,   5.967,2,  -999.0,9,  -999.0,9,-999.0000,9,  -999.00, -1.8128
06AQ19960712,ARKXII,45,1,32,166522,2,19960806,0347,84.4833,102.9283,4009,    50.5, -1.8234, 34.2669,2, 34.2630,2,  -999.0,9,   359.5,2,    2.93,2,    6.24,2, -999.00,9,    0.53,2,   6.030,2,   2.675,2,   5.781,2,  2107.7,2,  -999.0,9,   7.7452,2,    25.00, -1.8210
06AQ19960712,ARKXII,45,1,31,166521,2,19960806,0347,84.4833,102.9283,4009,    80.5, -1.8167, 34.2959,2, 34.2956,2,  -999.0,9,   357.2,2,    3.02,2,    6.54,2, -999.00,9,    0.54,2,   6.061,2,   2.651,2,   5.618,2,  2112.1,2,  -999.0,9,   7.7451,2,    25.00, -1.8146
06AQ19960712,ARKXII,45,1,30,166520,2,19960806,0347,84.4833,102.9283,4009,    99.0, -1.8167, 34.2997,2, 34.3014,2,  -999.0,9,   355.7,2,    3.12,2,    7.02,2, -999.00,9,    0.55,2,   5.916,2,   2.642,2,   5.270,2,  2114.6,2,  -999.0,9,   7.7432,2,    25.00, -1.8150
06AQ19960712,ARKXII,45,1,29,166519,2,19960806,0347,84.4833,102.9283,4009,   149.7,  0.3442, 34.5617,2, 34.5504,2,  -999.0,9,   305.5,2,    5.07,2,   10.54,2, -999.00,9,    0.75,2,   3.879,2,   1.733,2,   4.108,2,  2135.4,2,  -999.0,9,   7.6920,2,    25.00,  0.3421
06AQ19960712,ARKXII,45,1,28,166518,2,19960806,0347,84.4833,102.9283,4009,   200.3,  1.6713, 34.8298,2, 34.8106,2,  -999.0,9,   301.1,2,    5.56,2,   11.71,2, -999.00,9,    0.82,2,   4.404,2,   1.853,2,   4.905,2,  -999.0,9,  -999.0,9,-999.0000,9,  -999.00,  1.6657
06AQ19960712,ARKXII,45,1,27,166517,2,19960806,0347,84.4833,102.9283,4009,   232.5,  1.7118, 34.8620,2, 34.8842,2,  -999.0,9,   301.2,2,    5.76,2,   12.00,2, -999.00,9,    0.84,2,   4.253,2,   1.958,2,   5.114,2,  2141.1,2,  -999.0,9,   7.7140,2,    25.00,  1.7039
06AQ19960712,ARKXII,45,1,26,166516,2,19960806,0347,84.4833,102.9283,4009,   299.8,  1.4917, 34.9035,2, 34.8940,2,  -999.0,9,   302.0,2,    5.85,2,   12.10,2, -999.00,9,    0.82,2,   4.096,2,   1.741,2,   4.884,2,  -999.0,9,  -999.0,9,-999.0000,9,  -999.00,  1.4808
06AQ19960712,ARKXII,45,1,25,166515,2,19960806,0347,84.4833,102.9283,4009,   399.8,  1.1361, 34.8990,2, 34.8968,2,  -999.0,9,   302.2,2,    6.05,2,   12.29,2, -999.00,9,    0.84,2,-999.000,9,-999.000,9,-999.000,9,  2147.2,2,  -999.0,9,   7.7082,2,    25.00,  1.1205
06AQ19960712,ARKXII,45,1,24,166514,2,19960806,0347,84.4833,102.9283,4009,   499.6,  0.8757, 34.9053,2, 34.9053,2,  -999.0,9,   302.2,2,    6.34,2,   12.29,2, -999.00,9,    0.85,2,   3.225,2,   1.325,2,   4.380,2,  -999.0,9,  -999.0,9,-999.0000,9,  -999.00,  0.8563
06AQ19960712,ARKXII,45,1,23,166513,2,19960806,0347,84.4833,102.9283,4009,   600.0,  0.5201, 34.9019,2, 34.9025,2,  -999.0,9,   303.2,2,    6.54,2,   12.39,2, -999.00,9,    0.85,2,   3.054,2,   1.337,2,   4.270,2,  2151.8,2,  -999.0,9,   7.6967,2,    25.00,  0.4967
06AQ19960712,ARKXII,45,1,22,166512,2,19960806,0347,84.4833,102.9283,4009,   700.4,  0.2332, 34.9001,2, 34.8978,2,  -999.0,9,   303.9,2,    6.73,2,   12.39,2, -999.00,9,    0.87,2,   3.051,2,   1.240,2,   4.237,2,  -999.0,9,  -999.0,9,-999.0000,9,  -999.00,  0.2063
06AQ19960712,ARKXII,45,1,21,166511,2,19960806,0347,84.4833,102.9283,4009,   800.4,  0.0239, 34.9016,2, 34.9018,2,  -999.0,9,   303.7,2,    7.02,2,   12.49,2, -999.00,9,    0.89,2,-999.000,9,-999.000,9,-999.000,9,  -999.0,9,  -999.0,9,-999.0000,9,  -999.00, -0.0065
06AQ19960712,ARKXII,45,1,20,166510,2,19960806,0347,84.4833,102.9283,4009,   999.7, -0.2470, 34.9096,2, 34.9094,2,  -999.0,9,   303.1,2,    7.90,2,   12.88,2, -999.00,9,    0.91,2,   1.690,2,   0.782,2,   3.414,2,  2154.0,2,  -999.0,9,   7.6899,2,    25.00, -0.2857
06AQ19960712,ARKXII,45,1,19,166509,2,19960806,0347,84.4833,102.9283,4009,  1200.8, -0.4363, 34.9158,2, 34.9147,2,  -999.0,9,   302.2,2,    8.68,2,   13.17,2, -999.00,9,    0.93,2,-999.000,9,-999.000,9,-999.000,9,  -999.0,9,  -999.0,9,-999.0000,9,  -999.00, -0.4845
06AQ19960712,ARKXII,45,1,18,166508,2,19960806,0347,84.4833,102.9283,4009,  1400.7, -0.5704, 34.9188,2, 34.9185,2,  -999.0,9,   301.2,2,    9.46,2,   13.46,2, -999.00,9,    0.96,2,   0.723,2,   0.365,2,   1.982,2,  -999.0,9,  -999.0,9,-999.0000,9,  -999.00, -0.6281
06AQ19960712,ARKXII,45,1,17,166507,2,19960806,0347,84.4833,102.9283,4009,  1600.1, -0.6522, 34.9217,2, 34.9209,2,  -999.0,9,   300.7,2,   10.05,2,   13.66,2, -999.00,9,    0.97,2,-999.000,9,-999.000,9,-999.000,9,  -999.0,9,  -999.0,9,-999.0000,9,  -999.00, -0.7205
06AQ19960712,ARKXII,45,1,16,166506,2,19960806,0347,84.4833,102.9283,4009,  1800.1, -0.7163, 34.9225,2, 34.9197,2,  -999.0,9,   300.6,2,   10.54,2,   13.76,2, -999.00,9,    0.95,2,   0.511,2,   0.205,2,   1.334,2,  2156.5,2,  -999.0,9,   7.6909,2,    25.00, -0.7957
06AQ19960712,ARKXII,45,1,15,166505,2,19960806,0347,84.4833,102.9283,4009,  2000.2, -0.7562, 34.9241,2, 34.9236,2,  -999.0,9,   300.8,2,   10.63,2,   13.76,2, -999.00,9,    0.96,2,-999.000,9,-999.000,9,-999.000,9,  -999.0,9,  -999.0,9,-999.0000,9,  -999.00, -0.8478
06AQ19960712,ARKXII,45,1,14,166504,2,19960806,0347,84.4833,102.9283,4009,  2200.0, -0.7807, 34.9261,2,-999.0000,9,  -999.0,9,  -999.0,9, -999.00,9, -999.00,9, -999.00,9, -999.00,9,-999.000,9,-999.000,9,-999.000,9,  -999.0,9,  -999.0,9,-999.0000,9,  -999.00,-999.0000
06AQ19960712,ARKXII,45,1,13,166503,2,19960806,0347,84.4833,102.9283,4009,  2399.7, -0.7944, 34.9284,2, 34.9270,2,  -999.0,9,   300.8,2,   10.83,2,   13.85,2, -999.00,9,    1.00,2,-999.000,9,-999.000,9,-999.000,9,  -999.0,9,  -999.0,9,-999.0000,9,  -999.00, -0.9123
06AQ19960712,ARKXII,45,1,12,166502,2,19960806,0347,84.4833,102.9283,4009,  2597.3, -0.7977, 34.9306,2, 34.9311,2,  -999.0,9,   300.4,2,   11.02,2,   13.95,2, -999.00,9,    0.99,2,   0.155,2,   0.062,2,   0.487,2,  2152.6,2,  -999.0,9,   7.6976,2,    25.00, -0.9296
06AQ19960712,ARKXII,45,1,11,166501,2,19960806,0347,84.4833,102.9283,4009,  2799.8, -0.7944, 34.9338,2, 34.9337,2,  -999.0,9,   300.1,2,   11.12,2,   13.95,2, -999.00,9,    0.98,2,-999.000,9,-999.000,9,-999.000,9,  -999.0,9,  -999.0,9,-999.0000,9,  -999.00, -0.9421
06AQ19960712,ARKXII,45,1,10,166500,2,19960806,0347,84.4833,102.9283,4009,  3000.0, -0.7843, 34.9369,2, 34.9372,2,  -999.0,9,   299.3,2,   11.22,2,   13.95,2, -999.00,9,    0.98,2,   0.123,2,   0.065,2,   0.552,2,  -999.0,9,  -999.0,9,-999.0000,9,  -999.00, -0.9481
06AQ19960712,ARKXII,45,1,9,166499,2,19960806,0347,84.4833,102.9283,4009,  3200.2, -0.7614, 34.9402,2, 34.9412,2,  -999.0,9,   298.2,2,   11.51,2,   14.05,2, -999.00,9,    0.99,2,-999.000,9,-999.000,9,-999.000,9,  -999.0,9,  -999.0,9,-999.0000,9,  -999.00, -0.9421
06AQ19960712,ARKXII,45,1,8,166498,2,19960806,0347,84.4833,102.9283,4009,  3400.1, -0.7405, 34.9416,2, 34.9420,2,  -999.0,9,   297.9,2,   11.41,2,   13.85,2, -999.00,9,    0.99,2,   0.121,2,   0.047,2,   0.311,2,  2153.9,2,  -999.0,9,   7.7034,2,    25.00, -0.9387
06AQ19960712,ARKXII,45,1,7,166497,2,19960806,0347,84.4833,102.9283,4009,  3599.5, -0.7233, 34.9411,2, 34.9424,2,  -999.0,9,   298.0,2,   11.41,2,   13.85,2, -999.00,9,    0.98,2,   0.097,2,   0.031,2,-999.000,9,  -999.0,9,  -999.0,9,-999.0000,9,  -999.00, -0.9399
06AQ19960712,ARKXII,45,1,6,166496,2,19960806,0347,84.4833,102.9283,4009,  3799.3, -0.7067, 34.9421,2, 34.9432,2,  -999.0,9,   298.5,2,   11.22,2,   13.76,2, -999.00,9,    0.99,2,-999.000,9,-999.000,9,-999.000,9,  -999.0,9,  -999.0,9,-999.0000,9,  -999.00, -0.9416
06AQ19960712,ARKXII,45,1,5,166495,2,19960806,0347,84.4833,102.9283,4009,  3912.6, -0.6973, 34.9420,2, 34.9428,2,  -999.0,9,   298.1,2,   11.41,2,   13.76,2, -999.00,9,    0.98,2,   0.137,2,   0.069,2,   0.300,2,  2155.5,2,  -999.0,9,   7.7034,2,    25.00, -0.9436
06AQ19960712,ARKXII,45,1,4,166494,2,19960806,0347,84.4833,102.9283,4009,  3964.7, -0.6926, 34.9428,2, 34.9422,2,  -999.0,9,   298.1,2,   11.32,2,   13.85,2, -999.00,9,    0.99,2,   0.132,2,   0.060,2,-999.000,9,  2150.6,2,  -999.0,9,   7.7015,2,    25.00, -0.9437
06AQ19960712,ARKXII,45,1,1,166491,2,19960806,0347,84.4833,102.9283,4009,  4016.1, -0.6869, 34.9421,2, 34.9434,2,  -999.0,9,   298.3,2,   11.32,2,   13.76,2, -999.00,9,    0.97,2,   0.131,2,   0.074,2,   0.279,2,  2152.7,2,  -999.0,9,   7.7034,2,    25.00, -0.9428
06AQ19960712,ARKXII,45,1,2,166492,2,19960806,0347,84.4833,102.9283,4009,  4016.2, -0.6869, 34.9420,2,-999.0000,9,  -999.0,9,  -999.0,9, -999.00,9, -999.00,9, -999.00,9, -999.00,9,-999.000,9,-999.000,9,-999.000,9,  -999.0,9,  -999.0,9,-999.0000,9,  -999.00,-999.0000
06AQ19960712,ARKXII,45,1,3,166493,2,19960806,0347,84.4833,102.9283,4009,  4016.2, -0.6866, 34.9420,2,-999.0000,9,  -999.0,9,  -999.0,9, -999.00,9, -999.00,9, -999.00,9, -999.00,9,-999.000,9,-999.000,9,-999.000,9,  -999.0,9,  -999.0,9,-999.0000,9,  -999.00,-999.0000