BOTTLE,20100322CCHDOSIODM
EXPOCODE,SECT_ID,STNNBR,CASTNO,SAMPNO,BTLNBR,BTLNBR_FLAG_W,DATE,TIME,LATITUDE,LONGITUDE,DEPTH,CTDPRS,CTDTMP,CTDSAL,CTDSAL_FLAG_W,SALNTY,SALNTY_FLAG_W,CTDOXY,CTDOXY_FLAG_W,OXYGEN,OXYGEN_FLAG_W,SILCAT,SILCAT_FLAG_W,NITRAT,NITRAT_FLAG_W,NITRIT,NITRIT_FLAG_W,PHSPHT,PHSPHT_FLAG_W,CFC-11,CFC-11_FLAG_W,CFC-12,CFC-12_FLAG_W,CCL4,CCL4_FLAG_W,TCARBN,TCARBN_FLAG_W,ALKALI,ALKALI_FLAG_W,PH_SWS,PH_SWS_FLAG_W,PH_TMP,THETA
,,,,,,,,,,,METERS,DBAR,ITS-90,PSS-78,,PSS-78,,UMOL/KG,,UMOL/KG,,UMOL/KG,,UMOL/KG,,UMOL/KG,,UMOL/KG,,PMOL/KG,,PMOL/KG,,PMOL/KG,,UMOL/KG,,UMOL/KG,,,,DEG C,DEG C
06AQ19960712,ARKXII,85,1,35,167999,2,19960823,1402,81.0650,138.0267,2256,    10.4, -1.7384, 32.8195,2,-999.0000,9,  -999.0,9,  -999.0,9, -999.00,9, -999.00,9, -999.00,9, -999.00,9,-999.000,9,-999.000,9,-999.000,9,  -999.0,9,  -999.0,9,-999.0000,9,  -999.00,-999.0000
06AQ19960712,ARKXII,85,1,34,167998,2,19960823,1402,81.0650,138.0267,2256,    10.4, -1.7382, 32.8208,2,-999.0000,9,  -999.0,9,  -999.0,9, -999.00,9, -999.00,9, -999.00,9, -999.00,9,-999.000,9,-999.000,9,-999.000,9,  -999.0,9,  -999.0,9,-999.0000,9,  -999.00,-999.0000
06AQ19960712,ARKXII,85,1,33,167997,2,19960823,1402,81.0650,138.0267,2256,    10.4, -1.7390, 32.8177,2,-999.0000,9,  -999.0,9,  -999.0,9, -999.00,9, -999.00,9, -999.00,9, -999.00,9,-999.000,9,-999.000,9,-999.000,9,  -999.0,9,  -999.0,9,-999.0000,9,  -999.00,-999.0000
06AQ19960712,ARKXII,85,1,32,167996,2,19960823,1402,81.0650,138.0267,2256,    10.4, -1.7389, 32.8177,2, 32.8189,2,  -999.0,9,   370.2,2,    2.15,2,    1.85,2, -999.00,9,    0.40,2,-999.000,9,-999.000,9,-999.000,9,  2092.6,2,  2230.2,2,   7.6935,2,    25.00, -1.7362
06AQ19960712,ARKXII,85,1,31,167995,2,19960823,1402,81.0650,138.0267,2256,    20.4, -1.7410, 32.8385,2, 32.8395,2,  -999.0,9,   369.3,2,    2.15,2,    2.05,2, -999.00,9,    0.40,2,   7.160,2,   3.450,2,   8.003,2,  -999.0,9,  -999.0,9,-999.0000,9,  -999.00, -1.7383
06AQ19960712,ARKXII,85,1,30,167994,2,19960823,1402,81.0650,138.0267,2256,    30.8, -1.7515, 33.2527,2, 33.4834,2,  -999.0,9,   334.6,2,    4.59,2,    5.07,2, -999.00,9,    0.59,2,   6.739,2,   3.199,2,   6.753,2,  2143.2,2,  2254.8,2,   7.6443,2,    25.00, -1.7466
06AQ19960712,ARKXII,85,1,29,167993,2,19960823,1402,81.0650,138.0267,2256,    40.6, -1.7931, 33.5327,2, 33.5669,2,  -999.0,9,   329.8,2,    5.07,2,    5.46,2, -999.00,9,    0.60,2,   6.888,2,   3.177,2,   6.807,2,  -999.0,9,  -999.0,9,-999.0000,9,  -999.00, -1.7917
06AQ19960712,ARKXII,85,1,28,167992,2,19960823,1402,81.0650,138.0267,2256,    50.4, -1.7655, 33.6669,2,-999.0000,9,  -999.0,9,  -999.0,9, -999.00,9, -999.00,9, -999.00,9, -999.00,9,-999.000,9,-999.000,9,-999.000,9,  -999.0,9,  -999.0,9,-999.0000,9,  -999.00,-999.0000
06AQ19960712,ARKXII,85,1,27,167991,2,19960823,1402,81.0650,138.0267,2256,    59.9, -1.6543, 33.8232,2, 33.8201,2,  -999.0,9,   320.4,2,    5.27,2,    6.24,2, -999.00,9,    0.66,2,   6.701,2,   3.243,2,   6.295,2,  2148.1,2,  2266.7,2,   7.6346,2,    25.00, -1.6632
06AQ19960712,ARKXII,85,1,26,167990,2,19960823,1402,81.0650,138.0267,2256,    80.6, -1.4119, 34.1408,2, 34.1408,2,  -999.0,9,   316.7,2,    4.68,2,    7.22,2, -999.00,9,    0.69,2,-999.000,9,-999.000,9,-999.000,9,  2137.3,2,  2270.6,2,   7.6517,2,    25.00, -1.4128
06AQ19960712,ARKXII,85,1,25,167989,2,19960823,1402,81.0650,138.0267,2256,   100.6, -1.1882, 34.2995,2, 34.3035,2,  -999.0,9,   311.2,2,    4.98,2,    7.61,2, -999.00,9,    0.71,2,   6.443,2,   3.112,2,   6.102,2,  2145.7,2,  2274.2,2,   7.6536,2,    25.00, -1.1955
06AQ19960712,ARKXII,85,1,24,167988,2,19960823,1402,81.0650,138.0267,2256,   150.8, -0.0260, 34.6097,2, 34.5992,2,  -999.0,9,   310.3,2,    4.78,2,    9.37,2, -999.00,9,    0.77,2,-999.000,9,-999.000,9,-999.000,9,  2140.9,2,  2277.0,2,   7.6747,2,    25.00, -0.0414
06AQ19960712,ARKXII,85,1,23,167987,2,19960823,1402,81.0650,138.0267,2256,   200.8,  0.7808, 34.7452,2, 34.7493,2,  -999.0,9,   306.6,2,    5.27,2,   10.34,2, -999.00,9,    0.80,2,   5.432,2,   2.587,2,   5.714,2,  -999.0,9,  -999.0,9,-999.0000,9,  -999.00,  0.7643
06AQ19960712,ARKXII,85,1,21,167985,2,19960823,1402,81.0650,138.0267,2256,   261.0,  1.2360, 34.8397,2,-999.0000,9,  -999.0,9,  -999.0,9, -999.00,9, -999.00,9, -999.00,9, -999.00,9,-999.000,9,-999.000,9,-999.000,9,  -999.0,9,  -999.0,9,-999.0000,9,  -999.00,-999.0000
06AQ19960712,ARKXII,85,1,20,167984,2,19960823,1402,81.0650,138.0267,2256,   261.1,  1.2393, 34.8415,2, 34.8417,2,  -999.0,9,   305.7,2,    5.46,2,   10.93,2, -999.00,9,    0.85,2,   5.378,2,   2.339,2,   5.838,2,  2142.9,2,  2296.4,2,   7.7015,2,    25.00,  1.2324
06AQ19960712,ARKXII,85,1,22,167986,2,19960823,1402,81.0650,138.0267,2256,   261.1,  1.2358, 34.8386,2,-999.0000,9,  -999.0,9,  -999.0,9, -999.00,9, -999.00,9, -999.00,9, -999.00,9,-999.000,9,-999.000,9,-999.000,9,  -999.0,9,  -999.0,9,-999.0000,9,  -999.00,-999.0000
06AQ19960712,ARKXII,85,1,19,167983,2,19960823,1402,81.0650,138.0267,2256,   301.2,  1.1241, 34.8474,2, 34.8497,2,  -999.0,9,   306.7,2,    5.66,2,   10.83,2, -999.00,9,    0.83,2,   5.344,2,   2.577,2,   5.914,2,  -999.0,9,  -999.0,9,-999.0000,9,  -999.00,  1.1237
06AQ19960712,ARKXII,85,1,18,167982,2,19960823,1402,81.0650,138.0267,2256,   401.1,  0.8590, 34.8612,2, 34.8632,2,  -999.0,9,   307.7,2,    5.76,2,   10.63,2, -999.00,9,    0.85,2,-999.000,9,-999.000,9,-999.000,9,  -999.0,9,  -999.0,9,-999.0000,9,  -999.00,  0.8504
06AQ19960712,ARKXII,85,1,17,167981,2,19960823,1402,81.0650,138.0267,2256,   500.6,  0.6192, 34.8687,2, 34.8683,2,  -999.0,9,   308.2,2,    5.76,2,   11.12,2, -999.00,9,    0.88,2,   4.975,2,   2.386,2,   5.831,2,  2148.0,2,  2293.1,2,   7.6909,2,    25.00,  0.6004
06AQ19960712,ARKXII,85,1,16,167980,2,19960823,1402,81.0650,138.0267,2256,   600.8,  0.3388, 34.8649,2, 34.8665,2,  -999.0,9,   307.7,2,    5.76,2,   10.83,2, -999.00,9,    0.88,2,-999.000,9,-999.000,9,-999.000,9,  -999.0,9,  -999.0,9,-999.0000,9,  -999.00,  0.3137
06AQ19960712,ARKXII,85,1,15,167979,2,19960823,1402,81.0650,138.0267,2256,   700.5,  0.0990, 34.8629,2, 34.8637,2,  -999.0,9,   310.8,2,    5.85,2,   10.93,2, -999.00,9,    0.88,2,   5.198,2,   2.482,2,   6.038,2,  2150.6,2,  2295.9,2,   7.6813,2,    25.00,  0.0721
06AQ19960712,ARKXII,85,1,14,167978,2,19960823,1402,81.0650,138.0267,2256,   800.7, -0.0444, 34.8661,2, 34.8662,2,  -999.0,9,   311.6,2,    6.05,2,   11.12,2, -999.00,9,    0.88,2,-999.000,9,-999.000,9,-999.000,9,  -999.0,9,  -999.0,9,-999.0000,9,  -999.00, -0.0750
06AQ19960712,ARKXII,85,1,13,167977,2,19960823,1402,81.0650,138.0267,2256,  1001.0, -0.1857, 34.8821,2, 34.8827,2,  -999.0,9,   311.0,2,    6.54,2,   11.41,2, -999.00,9,    0.90,2,   4.846,2,-999.000,9,   5.612,2,  2157.1,2,  2296.3,2,   7.6707,2,    25.00, -0.2252
06AQ19960712,ARKXII,85,1,12,167976,2,19960823,1402,81.0650,138.0267,2256,  1200.7, -0.2662, 34.8992,2, 34.8989,2,  -999.0,9,   308.0,2,    7.41,2,   11.80,2, -999.00,9,    0.94,2,-999.000,9,-999.000,9,-999.000,9,  2158.3,2,  2299.2,2,   7.6707,2,    25.00, -0.3162
06AQ19960712,ARKXII,85,1,11,167975,2,19960823,1402,81.0650,138.0267,2256,  1400.8, -0.4030, 34.9080,2, 34.9101,2,  -999.0,9,   304.0,2,    8.49,2,   12.29,2, -999.00,9,    0.96,2,   2.742,2,   1.155,2,   3.822,2,  2157.0,2,  2299.2,2,   7.6745,2,    25.00, -0.4669
06AQ19960712,ARKXII,85,1,10,167974,2,19960823,1402,81.0650,138.0267,2256,  1600.5, -0.5658, 34.9120,2, 34.9128,2,  -999.0,9,   302.1,2,    9.46,2,   12.78,2, -999.00,9,    0.99,2,   1.709,2,   0.643,2,   2.798,2,  -999.0,9,  -999.0,9,-999.0000,9,  -999.00, -0.6346
06AQ19960712,ARKXII,85,1,9,167973,2,19960823,1402,81.0650,138.0267,2256,  1800.5, -0.6775, 34.9162,2, 34.9175,2,  -999.0,9,   299.8,2,   10.24,2,   13.27,2, -999.00,9,    1.00,2,   1.061,2,   0.434,2,   1.918,2,  2151.8,2,  2299.7,2,   7.6832,2,    25.00, -0.7563
06AQ19960712,ARKXII,85,1,7,167971,2,19960823,1402,81.0650,138.0267,2256,  2001.0, -0.7545, 34.9196,2,-999.0000,9,  -999.0,9,  -999.0,9, -999.00,9, -999.00,9, -999.00,9, -999.00,9,-999.000,9,-999.000,9,-999.000,9,  -999.0,9,  -999.0,9,-999.0000,9,  -999.00,-999.0000
06AQ19960712,ARKXII,85,1,8,167972,2,19960823,1402,81.0650,138.0267,2256,  2001.0, -0.7544, 34.9195,2,-999.0000,9,  -999.0,9,  -999.0,9, -999.00,9, -999.00,9, -999.00,9, -999.00,9,-999.000,9,-999.000,9,-999.000,9,  -999.0,9,  -999.0,9,-999.0000,9,  -999.00,-999.0000
06AQ19960712,ARKXII,85,1,6,167970,2,19960823,1402,81.0650,138.0267,2256,  2001.0, -0.7573, 34.9212,2, 34.9196,2,  -999.0,9,   299.4,2,   10.93,2,   13.95,2, -999.00,9,    1.03,2,   0.444,2,   0.111,2,   1.514,2,  -999.0,9,  -999.0,9,-999.0000,9,  -999.00, -0.8478
06AQ19960712,ARKXII,85,1,5,167969,2,19960823,1402,81.0650,138.0267,2256,  2129.8, -0.7791, 34.9246,2, 34.9241,2,  -999.0,9,   298.4,2,   11.12,2,   13.85,2, -999.00,9,    1.03,2,   0.405,2,   0.130,2,   1.127,2,  2149.5,2,  2297.0,2,   7.6890,2,    25.00, -0.8790
06AQ19960712,ARKXII,85,1,4,167968,2,19960823,1402,81.0650,138.0267,2256,  2179.4, -0.7876, 34.9260,2, 34.9262,2,  -999.0,9,   297.5,2,   11.32,2,   13.66,2, -999.00,9,    1.03,2,-999.000,9,-999.000,9,-999.000,9,  2151.9,2,  2300.1,2,   7.6899,2,    25.00, -0.8901
06AQ19960712,ARKXII,85,1,3,167967,2,19960823,1402,81.0650,138.0267,2256,  2228.4, -0.7903, 34.9256,2,-999.0000,9,  -999.0,9,  -999.0,9, -999.00,9, -999.00,9, -999.00,9, -999.00,9,-999.000,9,-999.000,9,-999.000,9,  -999.0,9,  -999.0,9,-999.0000,9,  -999.00,-999.0000
06AQ19960712,ARKXII,85,1,2,167966,2,19960823,1402,81.0650,138.0267,2256,  2228.4, -0.7913, 34.9265,2,-999.0000,9,  -999.0,9,  -999.0,9, -999.00,9, -999.00,9, -999.00,9, -999.00,9,-999.000,9,-999.000,9,-999.000,9,  -999.0,9,  -999.0,9,-999.0000,9,  -999.00,-999.0000
06AQ19960712,ARKXII,85,1,1,167965,2,19960823,1402,81.0650,138.0267,2256,  2228.4, -0.7913, 34.9271,2, 34.9277,2,  -999.0,9,   297.2,2,   11.22,2,   13.66,2, -999.00,9,    1.02,2,   0.404,2,   0.206,2,   1.092,2,  2152.3,2,  2301.0,2,   7.6928,2,    25.00, -0.8974
06AQ19960712,ARKXII,86,1,36,168036,2,19960823,1949,81.0750,136.7533,2750,    10.2, -1.7416, 32.8532,2, 32.8549,2,  -999.0,9,   375.8,2,    2.15,2,    1.95,2, -999.00,9,    0.36,2,   7.059,2,   3.359,2,   8.043,2,  2100.8,2,  2247.3,2,   7.7050,2,    25.00, -1.7382
06AQ19960712,ARKXII,86,1,35,168035,2,19960823,1949,81.0750,136.7533,2750,    20.5, -1.7368, 32.8795,2, 32.8813,2,  -999.0,9,   374.5,2,    2.15,2,    2.05,2, -999.00,9,    0.38,2,   7.249,2,   3.504,2,   8.260,2,  -999.0,9,  -999.0,9,-999.0000,9,  -999.00, -1.7343
06AQ19960712,ARKXII,86,1,34,168034,2,19960823,1949,81.0750,136.7533,2750,    30.6, -1.7372, 32.9523,2, 32.9710,2,  -999.0,9,   369.6,2,    2.34,2,    2.54,2, -999.00,9,    0.40,2,   7.078,2,   3.474,2,   7.858,2,  2107.9,2,  2242.0,2,   7.6954,2,    25.00, -1.7345
06AQ19960712,ARKXII,86,1,33,168033,2,19960823,1949,81.0750,136.7533,2750,    40.2, -1.7405, 33.0812,2, 33.0768,2,  -999.0,9,   363.2,2,    2.63,2,    3.12,2, -999.00,9,    0.43,2,   7.069,2,   3.426,2,   7.751,2,  -999.0,9,  -999.0,9,-999.0000,9,  -999.00, -1.7377
06AQ19960712,ARKXII,86,1,32,168032,2,19960823,1949,81.0750,136.7533,2750,    59.5, -1.6682, 33.7630,2, 33.7386,2,  -999.0,9,   326.4,2,    4.68,2,    6.73,2, -999.00,9,    0.61,2,   6.724,2,   3.173,2,   6.733,2,  2146.1,2,  2262.3,2,   7.6366,2,    25.00, -1.6941
06AQ19960712,ARKXII,86,1,31,168031,2,19960823,1949,81.0750,136.7533,2750,    79.9, -1.4825, 34.1076,2, 34.1025,2,  -999.0,9,   319.3,2,    4.20,2,    7.80,2, -999.00,9,    0.65,2,   6.661,2,   3.055,2,   6.236,2,  2141.7,2,  2271.8,2,   7.6546,2,    25.00, -1.4818
06AQ19960712,ARKXII,86,1,30,168030,2,19960823,1949,81.0750,136.7533,2750,    99.8, -1.2142, 34.2946,2, 34.3351,2,  -999.0,9,   316.3,2,    4.39,2,    8.98,2, -999.00,9,    0.75,2,   6.197,2,   2.940,2,   5.812,2,  2144.8,2,  2283.5,2,   7.6709,2,    25.00, -1.2035
06AQ19960712,ARKXII,86,1,29,168029,2,19960823,1949,81.0750,136.7533,2750,   149.6, -0.0553, 34.5616,2, 34.5685,2,  -999.0,9,   309.8,2,    4.68,2,   10.34,2, -999.00,9,    0.76,2,   5.900,2,   2.647,2,   5.780,2,  2147.2,2,  2286.6,2,   7.6785,2,    25.00, -0.0584
06AQ19960712,ARKXII,86,1,28,168028,2,19960823,1949,81.0750,136.7533,2750,   200.7,  1.1817, 34.8052,2, 34.7973,2,  -999.0,9,   304.1,2,    5.27,2,   11.80,2, -999.00,9,    0.82,2,   5.191,2,   2.429,2,   5.594,2,  -999.0,9,  -999.0,9,-999.0000,9,  -999.00,  1.1676
06AQ19960712,ARKXII,86,1,19,168019,2,19960823,1949,81.0750,136.7533,2750,   260.4,  1.3666, 34.8501,2, 34.8522,2,  -999.0,9,   304.3,2,    5.46,2,   12.20,2, -999.00,9,    0.83,2,   5.418,2,   2.513,2,   5.656,2,  2142.9,2,  2304.6,2,   7.7044,2,    25.00,  1.3582
06AQ19960712,ARKXII,86,1,27,168027,2,19960823,1949,81.0750,136.7533,2750,   260.4,  1.3620, 34.8497,2,-999.0000,9,  -999.0,9,  -999.0,9, -999.00,9, -999.00,9, -999.00,9, -999.00,9,-999.000,9,-999.000,9,-999.000,9,  -999.0,9,  -999.0,9,-999.0000,9,  -999.00,-999.0000
06AQ19960712,ARKXII,86,1,20,168020,2,19960823,1949,81.0750,136.7533,2750,   260.4,  1.3672, 34.8502,2,-999.0000,9,  -999.0,9,  -999.0,9, -999.00,9, -999.00,9, -999.00,9, -999.00,9,-999.000,9,-999.000,9,-999.000,9,  -999.0,9,  -999.0,9,-999.0000,9,  -999.00,-999.0000
06AQ19960712,ARKXII,86,1,21,168021,2,19960823,1949,81.0750,136.7533,2750,   260.4,  1.3667, 34.8498,2,-999.0000,9,  -999.0,9,  -999.0,9, -999.00,9, -999.00,9, -999.00,9, -999.00,9,-999.000,9,-999.000,9,-999.000,9,  -999.0,9,  -999.0,9,-999.0000,9,  -999.00,-999.0000
06AQ19960712,ARKXII,86,1,22,168022,2,19960823,1949,81.0750,136.7533,2750,   260.4,  1.3691, 34.8519,2,-999.0000,9,  -999.0,9,  -999.0,9, -999.00,9, -999.00,9, -999.00,9, -999.00,9,-999.000,9,-999.000,9,-999.000,9,  -999.0,9,  -999.0,9,-999.0000,9,  -999.00,-999.0000
06AQ19960712,ARKXII,86,1,23,168023,2,19960823,1949,81.0750,136.7533,2750,   260.4,  1.3687, 34.8498,2,-999.0000,9,  -999.0,9,  -999.0,9, -999.00,9, -999.00,9, -999.00,9, -999.00,9,-999.000,9,-999.000,9,-999.000,9,  -999.0,9,  -999.0,9,-999.0000,9,  -999.00,-999.0000
06AQ19960712,ARKXII,86,1,24,168024,2,19960823,1949,81.0750,136.7533,2750,   260.4,  1.3677, 34.8501,2,-999.0000,9,  -999.0,9,  -999.0,9, -999.00,9, -999.00,9, -999.00,9, -999.00,9,-999.000,9,-999.000,9,-999.000,9,  -999.0,9,  -999.0,9,-999.0000,9,  -999.00,-999.0000
06AQ19960712,ARKXII,86,1,25,168025,2,19960823,1949,81.0750,136.7533,2750,   260.4,  1.3659, 34.8507,2,-999.0000,9,  -999.0,9,  -999.0,9, -999.00,9, -999.00,9, -999.00,9, -999.00,9,-999.000,9,-999.000,9,-999.000,9,  -999.0,9,  -999.0,9,-999.0000,9,  -999.00,-999.0000
06AQ19960712,ARKXII,86,1,26,168026,2,19960823,1949,81.0750,136.7533,2750,   260.4,  1.3650, 34.8497,2,-999.0000,9,  -999.0,9,  -999.0,9, -999.00,9, -999.00,9, -999.00,9, -999.00,9,-999.000,9,-999.000,9,-999.000,9,  -999.0,9,  -999.0,9,-999.0000,9,  -999.00,-999.0000
06AQ19960712,ARKXII,86,1,18,168018,2,19960823,1949,81.0750,136.7533,2750,   300.7,  1.1758, 34.8433,2, 34.8445,2,  -999.0,9,   305.6,2,    5.66,2,   12.00,2, -999.00,9,    0.83,2,   5.200,2,   2.454,2,   5.783,2,  -999.0,9,  -999.0,9,-999.0000,9,  -999.00,  1.1686
06AQ19960712,ARKXII,86,1,17,168017,2,19960823,1949,81.0750,136.7533,2750,   401.2,  1.1080, 34.8764,2, 34.8777,2,  -999.0,9,   306.5,2,    5.66,2,   12.20,2, -999.00,9,    0.83,2,   4.758,2,   2.257,2,   5.606,2,  -999.0,9,  -999.0,9,-999.0000,9,  -999.00,  1.0955
06AQ19960712,ARKXII,86,1,16,168016,2,19960823,1949,81.0750,136.7533,2750,   500.4,  0.8561, 34.8861,2, 34.8875,2,  -999.0,9,   305.8,2,    6.05,2,   12.68,2, -999.00,9,    0.89,2,   4.807,2,   2.243,2,   5.657,2,  2150.4,2,  2295.0,2,   7.6938,2,    25.00,  0.8413
06AQ19960712,ARKXII,86,1,15,168015,2,19960823,1949,81.0750,136.7533,2750,   600.4,  0.4475, 34.8726,2, 34.8727,2,  -999.0,9,   307.3,2,    6.15,2,   12.49,2, -999.00,9,    0.89,2,   5.018,2,   2.256,2,   5.793,2,  -999.0,9,  -999.0,9,-999.0000,9,  -999.00,  0.4202
06AQ19960712,ARKXII,86,1,14,168014,2,19960823,1949,81.0750,136.7533,2750,   699.5,  0.1554, 34.8720,2, 34.8748,2,  -999.0,9,   308.3,2,    6.34,2,   12.49,2, -999.00,9,    0.90,2,   4.502,2,   2.204,2,   5.530,2,  2155.5,2,  2296.1,2,   7.6851,2,    25.00,  0.1626
06AQ19960712,ARKXII,86,1,13,168013,2,19960823,1949,81.0750,136.7533,2750,   800.5,  0.0192, 34.8785,2, 34.8795,2,  -999.0,9,   309.1,2,    6.54,2,   12.49,2, -999.00,9,    0.90,2,   4.467,2,   2.121,2,   5.491,2,  -999.0,9,  -999.0,9,-999.0000,9,  -999.00, -0.0095
06AQ19960712,ARKXII,86,1,12,168012,2,19960823,1949,81.0750,136.7533,2750,   999.7, -0.1725, 34.8949,2, 34.8956,2,  -999.0,9,   307.1,2,    7.22,2,   12.78,2, -999.00,9,    0.94,2,   4.131,2,   1.985,2,   5.281,2,  2161.9,2,  2300.7,2,   7.6707,2,    25.00, -0.2113
06AQ19960712,ARKXII,86,1,11,168011,2,19960823,1949,81.0750,136.7533,2750,  1200.4, -0.3149, 34.9058,2, 34.9068,2,  -999.0,9,   305.2,2,    8.00,2,   13.27,2, -999.00,9,    0.97,2,   3.298,2,   1.629,2,   4.367,2,  2165.1,2,  2299.1,2,   7.6668,2,    25.00, -0.3617
06AQ19960712,ARKXII,86,1,10,168010,2,19960823,1949,81.0750,136.7533,2750,  1399.7, -0.4955, 34.9100,2, 34.9111,2,  -999.0,9,   302.6,2,    8.88,2,   14.15,2, -999.00,9,    0.99,2,   1.904,2,   0.863,2,   3.176,2,  2161.2,2,  2298.6,2,   7.6707,2,    25.00, -0.5539
06AQ19960712,ARKXII,86,1,9,168009,2,19960823,1949,81.0750,136.7533,2750,  1599.8, -0.6115, 34.9126,2, 34.9136,2,  -999.0,9,   301.3,2,    9.66,2,   14.34,2, -999.00,9,    1.00,2,   1.098,2,   0.547,2,   2.363,2,  -999.0,9,  -999.0,9,-999.0000,9,  -999.00, -0.6800
06AQ19960712,ARKXII,86,1,8,168008,2,19960823,1949,81.0750,136.7533,2750,  1800.5, -0.6829, 34.9159,2, 34.9163,2,  -999.0,9,   300.3,2,   10.34,2,   14.44,2, -999.00,9,    1.02,2,   0.700,2,   0.342,2,   1.693,2,  2158.3,2,  2298.8,2,   7.6774,2,    25.00, -0.7622
06AQ19960712,ARKXII,86,1,7,168007,2,19960823,1949,81.0750,136.7533,2750,  1999.9, -0.7322, 34.9187,2, 34.9171,2,  -999.0,9,   299.5,2,   10.73,2,   14.54,2, -999.00,9,    1.01,2,   0.544,2,   0.266,2,   1.467,2,  -999.0,9,  -999.0,9,-999.0000,9,  -999.00, -0.8241
06AQ19960712,ARKXII,86,1,6,168006,2,19960823,1949,81.0750,136.7533,2750,  2199.0, -0.7684, 34.9224,2, 34.9216,2,  -999.0,9,   299.6,2,   10.93,2,   14.44,2, -999.00,9,    1.01,2,   0.387,2,   0.190,2,   1.258,2,  -999.0,9,  -999.0,9,-999.0000,9,  -999.00, -0.8728
06AQ19960712,ARKXII,86,1,5,168005,2,19960823,1949,81.0750,136.7533,2750,  2399.7, -0.7872, 34.9267,2, 34.9261,2,  -999.0,9,   298.8,2,   11.02,2,   14.54,2, -999.00,9,    1.01,2,   0.329,2,   0.152,2,   0.954,2,  2158.7,2,  2301.2,2,   7.6861,2,    25.00, -0.9054
06AQ19960712,ARKXII,86,1,4,168004,2,19960823,1949,81.0750,136.7533,2750,  2599.6, -0.7894, 34.9330,2, 34.9323,2,  -999.0,9,   297.0,2,   11.51,2,   14.63,2, -999.00,9,    1.04,2,   0.248,2,   0.077,2,   0.668,2,  -999.0,9,  -999.0,9,-999.0000,9,  -999.00, -0.9220
06AQ19960712,ARKXII,86,1,3,168003,2,19960823,1949,81.0750,136.7533,2750,  2640.1, -0.7873, 34.9346,2, 34.9341,2,  -999.0,9,   296.8,2,   11.61,2,   14.54,2, -999.00,9,    1.02,2,   0.191,2,   0.094,2,   0.560,2,  2150.7,2,  2300.9,2,   7.6861,2,    25.00, -0.9221
06AQ19960712,ARKXII,86,1,2,168002,2,19960823,1949,81.0750,136.7533,2750,  2689.8, -0.7830, 34.9360,2, 34.9356,2,  -999.0,9,   295.7,2,   11.71,2,   14.44,2, -999.00,9,    1.00,2,   0.206,2,   0.090,2,   0.371,2,  2148.6,2,  2295.7,2,   7.6822,2,    25.00, -0.9219
06AQ19960712,ARKXII,86,1,1,168001,2,19960823,1949,81.0750,136.7533,2750,  2738.6, -0.7789, 34.9367,2, 34.9368,2,  -999.0,9,   294.4,2,   11.90,2,   14.15,2, -999.00,9,    1.01,2,   0.205,2,-999.000,9,   0.306,2,  2152.3,2,  -999.0,9,   7.6909,2,    25.00, -0.9217