BOTTLE,20100322CCHDOSIODM
EXPOCODE,SECT_ID,STNNBR,CASTNO,SAMPNO,BTLNBR,BTLNBR_FLAG_W,DATE,TIME,LATITUDE,LONGITUDE,DEPTH,CTDPRS,CTDTMP,CTDSAL,CTDSAL_FLAG_W,SALNTY,SALNTY_FLAG_W,CTDOXY,CTDOXY_FLAG_W,OXYGEN,OXYGEN_FLAG_W,SILCAT,SILCAT_FLAG_W,NITRAT,NITRAT_FLAG_W,NITRIT,NITRIT_FLAG_W,PHSPHT,PHSPHT_FLAG_W,CFC-11,CFC-11_FLAG_W,CFC-12,CFC-12_FLAG_W,CCL4,CCL4_FLAG_W,TCARBN,TCARBN_FLAG_W,ALKALI,ALKALI_FLAG_W,PH_SWS,PH_SWS_FLAG_W,PH_TMP,THETA
,,,,,,,,,,,METERS,DBAR,ITS-90,PSS-78,,PSS-78,,UMOL/KG,,UMOL/KG,,UMOL/KG,,UMOL/KG,,UMOL/KG,,UMOL/KG,,PMOL/KG,,PMOL/KG,,PMOL/KG,,UMOL/KG,,UMOL/KG,,,,DEG C,DEG C
06AQ19960712,ARKXII,58,2,35,167050,2,19960810,1127,86.3917,134.1900,3989,    10.1, -1.2896, 32.8120,2, 32.8164,2,  -999.0,9,   373.9,2,    2.93,2,    2.05,2, -999.00,9,    0.31,2,-999.000,9,-999.000,9,-999.000,9,  2079.6,2,  2231.3,2,   7.7311,2,    25.00, -1.2862
06AQ19960712,ARKXII,58,2,34,167049,2,19960810,1127,86.3917,134.1900,3989,    20.4, -1.3542, 32.9723,2, 33.2452,2,  -999.0,9,   375.9,2,    2.83,2,    3.02,2, -999.00,9,    0.36,2,-999.000,9,-999.000,9,-999.000,9,  2101.8,2,  2251.2,2,   7.7310,2,    25.00, -1.3514
06AQ19960712,ARKXII,58,2,33,167048,2,19960810,1127,86.3917,134.1900,3989,    30.2, -1.6628, 33.3395,2, 33.3663,2,  -999.0,9,   376.4,2,    2.73,2,    3.32,2, -999.00,9,    0.37,2,-999.000,9,-999.000,9,-999.000,9,  2105.1,2,  2265.2,3,   7.7319,2,    25.00, -1.6596
06AQ19960712,ARKXII,58,2,32,167047,2,19960810,1127,86.3917,134.1900,3989,    39.9, -1.7479, 33.5594,2, 33.5666,2,  -999.0,9,   370.1,2,    2.83,2,    4.10,2, -999.00,9,    0.41,2,-999.000,9,-999.000,9,-999.000,9,  -999.0,9,  -999.0,9,-999.0000,9,  -999.00, -1.7457
06AQ19960712,ARKXII,58,2,31,167046,2,19960810,1127,86.3917,134.1900,3989,    60.1, -1.7046, 33.9054,2, 33.9116,2,  -999.0,9,   339.2,2,    3.80,2,    6.34,2, -999.00,9,    0.54,2,-999.000,9,-999.000,9,-999.000,9,  2117.7,2,  2254.6,2,   7.7018,2,    25.00, -1.7022
06AQ19960712,ARKXII,58,2,30,167045,2,19960810,1127,86.3917,134.1900,3989,    80.7, -1.5121, 34.1181,2, 34.1767,2,  -999.0,9,   325.4,2,    4.10,2,    7.80,2, -999.00,9,    0.62,2,-999.000,9,-999.000,9,-999.000,9,  2121.7,2,  2261.7,2,   7.6969,2,    25.00, -1.5108
06AQ19960712,ARKXII,58,2,29,167044,2,19960810,1127,86.3917,134.1900,3989,   100.4, -1.2220, 34.2381,2, 34.2464,2,  -999.0,9,   322.9,2,    4.10,2,    8.49,2, -999.00,9,    0.64,2,-999.000,9,-999.000,9,-999.000,9,  2131.8,2,  2262.5,2,   7.7037,2,    25.00, -1.2215
06AQ19960712,ARKXII,58,2,28,167043,2,19960810,1127,86.3917,134.1900,3989,   150.2,  0.9407, 34.6743,2, 34.6757,2,  -999.0,9,   305.4,2,    4.88,2,   10.54,2, -999.00,9,    0.75,2,-999.000,9,-999.000,9,-999.000,9,  2133.3,2,  2281.8,2,   7.7055,2,    25.00,  0.9383
06AQ19960712,ARKXII,58,2,27,167042,2,19960810,1127,86.3917,134.1900,3989,   209.5,  1.5401, 34.8551,2, 34.8533,2,  -999.0,9,   304.9,2,    5.27,2,   11.32,2, -999.00,9,    0.79,2,-999.000,9,-999.000,9,-999.000,9,  2139.2,2,  2302.6,3,   7.7141,2,    25.00,  1.5334
06AQ19960712,ARKXII,58,2,26,167041,2,19960810,1127,86.3917,134.1900,3989,   250.4,  1.3548, 34.8670,2, 34.8672,2,  -999.0,9,   306.2,2,    5.37,2,   11.41,2, -999.00,9,    0.80,2,-999.000,9,-999.000,9,-999.000,9,  2146.5,2,  2289.5,2,   7.7073,2,    25.00,  1.3467
06AQ19960712,ARKXII,58,2,25,167040,2,19960810,1127,86.3917,134.1900,3989,   300.5,  1.1965, 34.8838,2, 34.8823,2,  -999.0,9,   306.0,2,    5.66,2,   11.71,2, -999.00,9,    0.79,2,-999.000,9,-999.000,9,-999.000,9,  -999.0,9,  -999.0,9,-999.0000,9,  -999.00,  1.1864
06AQ19960712,ARKXII,58,2,24,167039,2,19960810,1127,86.3917,134.1900,3989,   400.2,  0.7692, 34.8778,2, 34.8749,2,  -999.0,9,   306.3,2,    5.76,2,   11.80,2, -999.00,9,    0.81,2,-999.000,9,-999.000,9,-999.000,9,  -999.0,9,  2293.9,2,   7.6977,2,    25.00,  0.7547
06AQ19960712,ARKXII,58,2,23,167038,2,19960810,1127,86.3917,134.1900,3989,   500.4,  0.4083, 34.8744,2, 34.8725,2,  -999.0,9,   307.2,2,    5.95,2,   11.71,2, -999.00,9,    0.82,2,-999.000,9,-999.000,9,-999.000,9,  -999.0,9,  -999.0,9,-999.0000,9,  -999.00,  0.3902
06AQ19960712,ARKXII,58,2,22,167037,2,19960810,1127,86.3917,134.1900,3989,   600.5,  0.1805, 34.8753,2, 34.8750,2,  -999.0,9,   307.1,2,    6.05,2,   11.71,2, -999.00,9,    0.80,2,-999.000,9,-999.000,9,-999.000,9,  -999.0,9,  2293.0,2,   7.6890,2,    25.00,  0.1584
06AQ19960712,ARKXII,58,2,21,167036,2,19960810,1127,86.3917,134.1900,3989,   700.7,  0.0206, 34.8779,2, 34.8772,2,  -999.0,9,   307.1,2,    6.24,2,   11.80,2, -999.00,9,    0.82,2,-999.000,9,-999.000,9,-999.000,9,  -999.0,9,  -999.0,9,-999.0000,9,  -999.00, -0.0055
06AQ19960712,ARKXII,58,2,20,167035,2,19960810,1127,86.3917,134.1900,3989,   800.3, -0.1500, 34.8794,2, 34.8789,2,  -999.0,9,   308.1,2,    6.44,2,   11.80,2, -999.00,9,    0.83,2,-999.000,9,-999.000,9,-999.000,9,  -999.0,9,  -999.0,9,-999.0000,9,  -999.00, -0.1793
06AQ19960712,ARKXII,58,2,19,167034,2,19960810,1127,86.3917,134.1900,3989,  1000.7, -0.2738, 34.8951,2, 34.8936,2,  -999.0,9,   305.3,2,    7.32,2,   12.20,2, -999.00,9,    0.87,2,-999.000,9,-999.000,9,-999.000,9,  2155.4,2,  2295.0,2,   7.6822,2,    25.00, -0.3125
06AQ19960712,ARKXII,58,2,18,167033,2,19960810,1127,86.3917,134.1900,3989,  1200.7, -0.4281, 34.9054,2, 34.9052,2,  -999.0,9,   303.8,2,    8.29,2,   12.68,2, -999.00,9,    0.90,2,-999.000,9,-999.000,9,-999.000,9,  -999.0,9,  -999.0,9,-999.0000,9,  -999.00, -0.4756
06AQ19960712,ARKXII,58,2,17,167032,2,19960810,1127,86.3917,134.1900,3989,  1400.6, -0.5486, 34.9136,2, 34.9136,2,  -999.0,9,   301.5,2,    9.27,2,   13.17,2, -999.00,9,    0.93,2,-999.000,9,-999.000,9,-999.000,9,  -999.0,9,  -999.0,9,-999.0000,9,  -999.00, -0.6063
06AQ19960712,ARKXII,58,2,16,167031,2,19960810,1127,86.3917,134.1900,3989,  1600.6, -0.6257, 34.9182,2, 34.9179,2,  -999.0,9,   299.8,2,   10.05,2,   13.46,2, -999.00,9,    0.94,2,-999.000,9,-999.000,9,-999.000,9,  -999.0,9,  -999.0,9,-999.0000,9,  -999.00, -0.6939
06AQ19960712,ARKXII,58,2,15,167030,2,19960810,1127,86.3917,134.1900,3989,  1800.5, -0.7007, 34.9186,2, 34.9171,2,  -999.0,9,   300.2,2,   10.34,2,   13.66,2, -999.00,9,    0.94,2,-999.000,9,-999.000,9,-999.000,9,  2157.0,2,  2295.5,2,   7.6890,2,    25.00, -0.7800
06AQ19960712,ARKXII,58,2,14,167029,2,19960810,1127,86.3917,134.1900,3989,  2000.9, -0.7391, 34.9206,2, 34.9157,2,  -999.0,9,   300.1,2,   10.63,2,   13.66,2, -999.00,9,    0.97,2,-999.000,9,-999.000,9,-999.000,9,  -999.0,9,  -999.0,9,-999.0000,9,  -999.00, -0.8311
06AQ19960712,ARKXII,58,2,13,167028,2,19960810,1127,86.3917,134.1900,3989,  2200.4, -0.7683, 34.9230,2, 34.9228,2,  -999.0,9,  -999.0,9,   11.02,2,   13.85,2, -999.00,9,    0.97,2,-999.000,9,-999.000,9,-999.000,9,  -999.0,9,  -999.0,9,-999.0000,9,  -999.00, -0.8729
06AQ19960712,ARKXII,58,2,12,167027,2,19960810,1127,86.3917,134.1900,3989,  2400.7, -0.7815, 34.9252,2, 34.9251,2,  -999.0,9,   299.4,2,   11.02,2,   13.95,2, -999.00,9,    0.98,2,-999.000,9,-999.000,9,-999.000,9,  -999.0,9,  -999.0,9,-999.0000,9,  -999.00, -0.8996
06AQ19960712,ARKXII,58,2,11,167026,2,19960810,1127,86.3917,134.1900,3989,  2600.6, -0.7852, 34.9274,2, 34.9281,2,  -999.0,9,   298.9,2,   11.22,2,   13.85,2, -999.00,9,    0.98,2,-999.000,9,-999.000,9,-999.000,9,  2157.0,2,  2297.0,2,   7.6899,2,    25.00, -0.9181
06AQ19960712,ARKXII,58,2,10,167025,2,19960810,1127,86.3917,134.1900,3989,  2800.5, -0.7821, 34.9299,2, 34.9308,2,  -999.0,9,   299.1,2,   10.93,2,   13.76,2, -999.00,9,    0.98,2,-999.000,9,-999.000,9,-999.000,9,  -999.0,9,  -999.0,9,-999.0000,9,  -999.00, -0.9304
06AQ19960712,ARKXII,58,2,9,167024,2,19960810,1127,86.3917,134.1900,3989,  3000.3, -0.7733, 34.9329,2, 34.9329,2,  -999.0,9,   298.7,2,   11.02,2,   13.76,2, -999.00,9,    0.98,2,-999.000,9,-999.000,9,-999.000,9,  -999.0,9,  -999.0,9,-999.0000,9,  -999.00, -0.9373
06AQ19960712,ARKXII,58,2,8,167023,2,19960810,1127,86.3917,134.1900,3989,  3200.2, -0.7589, 34.9351,2, 34.9361,2,  -999.0,9,   298.1,2,   11.12,2,   13.95,2, -999.00,9,    0.98,2,-999.000,9,-999.000,9,-999.000,9,  -999.0,9,  -999.0,9,-999.0000,9,  -999.00, -0.9392
06AQ19960712,ARKXII,58,2,7,167022,2,19960810,1127,86.3917,134.1900,3989,  3400.0, -0.7475, 34.9373,2, 34.9376,2,  -999.0,9,   297.9,2,   11.41,2,   13.95,2, -999.00,9,    0.97,2,-999.000,9,-999.000,9,-999.000,9,  2158.7,2,  2298.2,2,   7.7034,2,    25.00, -0.9455
06AQ19960712,ARKXII,58,2,6,167021,2,19960810,1127,86.3917,134.1900,3989,  3600.3, -0.7318, 34.9389,2, 34.9394,2,  -999.0,9,   298.0,2,   11.12,2,   13.95,2, -999.00,9,    0.97,2,-999.000,9,-999.000,9,-999.000,9,  -999.0,9,  -999.0,9,-999.0000,9,  -999.00, -0.9477
06AQ19960712,ARKXII,58,2,5,167020,2,19960810,1127,86.3917,134.1900,3989,  3800.0, -0.7144, 34.9409,2, 34.9403,2,  -999.0,9,   298.2,2,   11.12,2,   13.95,2, -999.00,9,    0.96,2,-999.000,9,-999.000,9,-999.000,9,  -999.0,9,  -999.0,9,-999.0000,9,  -999.00, -0.9495
06AQ19960712,ARKXII,58,2,4,167019,2,19960810,1127,86.3917,134.1900,3989,  3920.2, -0.7010, 34.9419,2, 34.9425,2,  -999.0,9,   297.9,2,   11.32,2,   13.95,2, -999.00,9,    0.95,2,-999.000,9,-999.000,9,-999.000,9,  2157.0,2,  2296.2,2,   7.7044,2,    25.00, -0.9472
06AQ19960712,ARKXII,58,2,3,167018,2,19960810,1127,86.3917,134.1900,3989,  3969.2, -0.6960, 34.9415,2, 34.9393,2,  -999.0,9,   298.0,2,   11.22,2,   14.05,2, -999.00,9,    0.96,2,-999.000,9,-999.000,9,-999.000,9,  2149.0,2,  2293.3,2,   7.7044,2,    25.00, -0.9470
06AQ19960712,ARKXII,58,2,2,167017,2,19960810,1127,86.3917,134.1900,3989,  4020.1, -0.6905, 34.9414,2, 34.9438,2,  -999.0,9,   298.1,2,   11.12,2,   13.95,2, -999.00,9,    0.95,2,-999.000,9,-999.000,9,-999.000,9,  2147.6,2,  2297.7,2,   7.7044,2,    25.00, -0.9470
06AQ19960712,ARKXII,58,2,1,167016,2,19960810,1127,86.3917,134.1900,3989,  4020.1, -0.6906, 34.9414,2,-999.0000,9,  -999.0,9,  -999.0,9, -999.00,9, -999.00,9, -999.00,9, -999.00,9,-999.000,9,-999.000,9,-999.000,9,  -999.0,9,  -999.0,9,-999.0000,9,  -999.00,-999.0000
06AQ19960712,ARKXII,59,1,33,167084,2,19960810,1719,86.4300,136.0433,3635,    10.2, -1.1216, 32.8479,2, 32.8489,2,  -999.0,9,   373.6,2,    3.02,2,    2.44,2, -999.00,9,    0.32,2,   7.071,2,   3.343,2,   8.700,2,  2071.0,2,  2228.8,2,-999.0000,9  -999.00, -1.1182
06AQ19960712,ARKXII,59,1,32,167083,2,19960810,1719,86.4300,136.0433,3635,    20.1, -1.2294, 32.8694,2, 33.0523,2,  -999.0,9,   376.4,2,    2.93,2,    2.93,2, -999.00,9,    0.35,2,   7.159,2,   3.430,2,   7.959,2,  -999.0,9,  -999.0,9,-999.0000,9,  -999.00, -1.2264
06AQ19960712,ARKXII,59,1,31,167082,2,19960810,1719,86.4300,136.0433,3635,    30.1, -1.7261, 33.4307,2, 33.6581,2,  -999.0,9,   362.0,2,    3.12,2,    4.98,2, -999.00,9,    0.46,2,   6.737,2,   3.253,2,   6.228,2,  2104.8,2,  2258.6,2,-999.0000,9  -999.00, -1.7236
06AQ19960712,ARKXII,59,1,30,167081,2,19960810,1719,86.4300,136.0433,3635,    39.8, -1.7086, 33.8675,2, 33.9616,2,  -999.0,9,   339.5,2,    3.80,2,    6.73,2, -999.00,9,    0.55,2,   6.232,2,   2.924,2,   5.150,2,  -999.0,9,  -999.0,9,-999.0000,9,  -999.00, -1.7058
06AQ19960712,ARKXII,59,1,29,167080,2,19960810,1719,86.4300,136.0433,3635,    60.4, -1.6669, 34.0781,2, 34.0777,2,  -999.0,9,   339.3,2,    3.61,2,    6.93,2, -999.00,9,    0.56,2,   6.214,2,   2.929,2,   5.021,2,  2112.0,2,  2264.1,2,-999.0000,9  -999.00, -1.6652
06AQ19960712,ARKXII,59,1,28,167079,2,19960810,1719,86.4300,136.0433,3635,    80.2, -1.7370, 34.1893,2, 34.1940,2,  -999.0,9,   349.3,2,    3.02,2,    6.54,2, -999.00,9,    0.52,2,   6.457,2,   2.792,2,   5.188,2,  2112.3,2,  2271.3,2,-999.0000,9  -999.00, -1.7356
06AQ19960712,ARKXII,59,1,27,167078,2,19960810,1719,86.4300,136.0433,3635,   100.6, -1.1947, 34.2787,2, 34.2956,2,  -999.0,9,   320.8,2,    4.29,2,    8.68,2, -999.00,9,    0.65,2,   5.380,2,   2.575,2,   4.695,2,  2118.2,2,  2266.7,2,-999.0000,9  -999.00, -1.1935
06AQ19960712,ARKXII,59,1,26,167077,2,19960810,1719,86.4300,136.0433,3635,   149.9,  0.8708, 34.6607,2, 34.6634,2,  -999.0,9,   306.0,2,    5.07,2,   10.54,2, -999.00,9,    0.76,2,   5.050,2,   2.305,2,   5.238,2,  2127.9,2,  2282.2,2,-999.0000,9  -999.00,  0.8684
06AQ19960712,ARKXII,59,1,25,167076,2,19960810,1719,86.4300,136.0433,3635,   200.5,  1.6294, 34.8384,2, 34.8416,2,  -999.0,9,   302.4,2,    5.37,2,   11.22,2, -999.00,9,    0.80,2,   4.987,2,   2.344,2,   5.240,2,  2131.5,2,  2289.6,2,-999.0000,9  -999.00,  1.6238
06AQ19960712,ARKXII,59,1,24,167075,2,19960810,1719,86.4300,136.0433,3635,   250.6,  1.7383, 34.8890,2, 34.8879,2,  -999.0,9,   304.3,2,    5.46,2,   11.51,2, -999.00,9,    0.82,2,   4.745,2,   2.221,2,   5.688,2,  2131.9,2,  2290.9,2,-999.0000,9  -999.00,  1.7298
06AQ19960712,ARKXII,59,1,23,167074,2,19960810,1719,86.4300,136.0433,3635,   301.2,  1.4726, 34.8911,2, 34.8893,2,  -999.0,9,   305.7,2,    5.76,2,   11.41,2, -999.00,9,    0.83,2,   4.791,2,   2.348,2,   5.538,2,  -999.0,9,  -999.0,9,-999.0000,9,  -999.00,  1.4618
06AQ19960712,ARKXII,59,1,22,167073,2,19960810,1719,86.4300,136.0433,3635,   401.2,  0.9598, 34.8842,2, 34.8842,2,  -999.0,9,   305.9,2,    5.76,2,   11.51,2, -999.00,9,    0.83,2,   4.724,2,   2.131,2,   5.388,2,  2138.7,2,  2291.5,2,-999.0000,9  -999.00,  0.9450
06AQ19960712,ARKXII,59,1,21,167072,2,19960810,1719,86.4300,136.0433,3635,   500.5,  0.5925, 34.8788,2, 34.8786,2,  -999.0,9,   306.3,2,    6.05,2,   11.51,2, -999.00,9,    0.83,2,   4.679,2,   2.047,2,   5.254,2,  -999.0,9,  -999.0,9,-999.0000,9,  -999.00,  0.5734
06AQ19960712,ARKXII,59,1,20,167071,2,19960810,1719,86.4300,136.0433,3635,   600.8,  0.2716, 34.8746,2, 34.8731,2,  -999.0,9,   307.6,2,    5.95,2,   11.51,2, -999.00,9,    0.83,2,   4.976,2,   2.139,2,   5.462,2,  2142.6,2,  2291.4,2,-999.0000,9  -999.00,  0.2490
06AQ19960712,ARKXII,59,1,19,167070,2,19960810,1719,86.4300,136.0433,3635,   701.2,  0.0540, 34.8735,2, 34.8741,2,  -999.0,9,   307.8,2,    6.15,2,   11.51,2, -999.00,9,    0.84,2,   4.123,2,   1.951,2,   4.972,2,  2146.7,2,  2294.5,2,-999.0000,9  -999.00,  0.0283
06AQ19960712,ARKXII,59,1,18,167069,2,19960810,1719,86.4300,136.0433,3635,   801.1, -0.0657, 34.8795,2, 34.8782,2,  -999.0,9,   307.3,2,    6.34,2,   11.61,2, -999.00,9,    0.85,2,   4.339,2,   1.894,2,   5.123,2,  2145.3,2,  2291.5,2,-999.0000,9  -999.00, -0.0959
06AQ19960712,ARKXII,59,1,17,167068,2,19960810,1719,86.4300,136.0433,3635,  1000.7, -0.2690, 34.8899,2, 34.8896,2,  -999.0,9,   308.1,2,    7.02,2,   11.80,2, -999.00,9,    0.90,2,   4.160,2,   1.934,2,   5.195,2,  2153.3,2,  2293.1,2,-999.0000,9  -999.00, -0.3075
06AQ19960712,ARKXII,59,1,16,167067,2,19960810,1719,86.4300,136.0433,3635,  1200.2, -0.3837, 34.9029,2, 34.9010,2,  -999.0,9,   305.5,2,    7.71,2,   12.39,2, -999.00,9,    0.93,2,   2.994,2,   1.370,2,   3.850,2,  2152.1,2,  2294.5,2,-999.0000,9  -999.00, -0.4320
06AQ19960712,ARKXII,59,1,15,167066,2,19960810,1719,86.4300,136.0433,3635,  1401.0, -0.4980, 34.9117,2, 34.9108,2,  -999.0,9,   303.1,2,    8.88,2,   12.98,2, -999.00,9,    0.97,2,   1.890,2,   0.626,2,   2.890,2,  2153.6,2,  2294.0,2,-999.0000,9  -999.00, -0.5559
06AQ19960712,ARKXII,59,1,14,167065,2,19960810,1719,86.4300,136.0433,3635,  1600.8, -0.6010, 34.9171,2, 34.9161,2,  -999.0,9,   300.7,2,    9.85,2,   13.46,2, -999.00,9,    0.99,2,   1.108,2,   0.459,2,   1.943,2,  2148.9,2,  2295.9,2,-999.0000,9  -999.00, -0.6693
06AQ19960712,ARKXII,59,1,13,167064,2,19960810,1719,86.4300,136.0433,3635,  1800.1, -0.6863, 34.9186,2, 34.9163,2,  -999.0,9,   301.2,2,   10.34,2,   13.56,2, -999.00,9,    1.00,2,   0.882,2,   0.342,2,   1.629,2,  2148.7,2,  2296.4,2,-999.0000,9  -999.00, -0.7661
06AQ19960712,ARKXII,59,1,12,167063,2,19960810,1719,86.4300,136.0433,3635,  1999.6, -0.7360, 34.9202,2, 34.9190,2,  -999.0,9,   300.3,2,   10.63,2,   13.76,2, -999.00,9,    1.00,2,   0.653,2,   0.299,2,   1.351,2,  -999.0,9,  -999.0,9,-999.0000,9,  -999.00, -0.8271
06AQ19960712,ARKXII,59,1,11,167062,2,19960810,1719,86.4300,136.0433,3635,  2200.5, -0.7660, 34.9218,2, 34.9241,2,  -999.0,9,   300.7,2,   10.83,2,   13.76,2, -999.00,9,    1.00,2,   0.571,2,   0.229,2,   1.124,2,  -999.0,9,  2293.9,2,-999.0000,9  -999.00, -0.8700
06AQ19960712,ARKXII,59,1,10,167061,2,19960810,1719,86.4300,136.0433,3635,  2400.5, -0.7790, 34.9250,2, 34.9264,2,  -999.0,9,   300.2,2,   10.93,2,   13.85,2, -999.00,9,    1.00,2,   0.384,2,   0.180,2,   0.961,2,  2146.7,2,  2294.8,2,-999.0000,9  -999.00, -0.8967
06AQ19960712,ARKXII,59,1,9,167060,2,19960810,1719,86.4300,136.0433,3635,  2600.1, -0.7825, 34.9277,2, 34.9288,2,  -999.0,9,   300.2,2,   10.83,2,   13.76,2, -999.00,9,    1.02,2,   0.442,2,   0.194,2,   0.841,2,  2145.0,2,  2296.7,2,-999.0000,9  -999.00, -0.9151
06AQ19960712,ARKXII,59,1,8,167059,2,19960810,1719,86.4300,136.0433,3635,  2800.5, -0.7784, 34.9303,2, 34.9311,2,  -999.0,9,   299.6,2,   11.12,2,   13.85,2, -999.00,9,    1.01,2,   0.407,2,   0.205,2,   0.657,2,  2145.9,2,  2295.0,2,-999.0000,9  -999.00, -0.9265
06AQ19960712,ARKXII,59,1,7,167058,2,19960810,1719,86.4300,136.0433,3635,  3000.3, -0.7690, 34.9330,2, 34.9294,2,  -999.0,9,   299.0,2,   11.22,2,   13.76,2, -999.00,9,    1.01,2,   0.208,2,   0.106,2,   0.513,2,  -999.0,9,  2290.2,2,-999.0000,9  -999.00, -0.9324
06AQ19960712,ARKXII,59,1,6,167057,2,19960810,1719,86.4300,136.0433,3635,  3200.2, -0.7572, 34.9356,2, 34.9356,2,  -999.0,9,   298.7,2,   11.32,2,   13.95,2, -999.00,9,    1.01,2,-999.000,9,-999.000,9,-999.000,9,  2145.1,2,  2298.1,2,-999.0000,9  -999.00, -0.9382
06AQ19960712,ARKXII,59,1,5,167056,2,19960810,1719,86.4300,136.0433,3635,  3400.1, -0.7459, 34.9378,2, 34.9380,2,  -999.0,9,   298.6,2,   11.32,2,   13.66,2, -999.00,9,    1.00,2,   0.226,2,   0.109,2,   0.404,2,  2144.5,2,  2300.2,2,-999.0000,9  -999.00, -0.9436
06AQ19960712,ARKXII,59,1,4,167055,2,19960810,1719,86.4300,136.0433,3635,  3550.3, -0.7346, 34.9393,2, 34.9397,2,  -999.0,9,   298.5,2,   11.32,2,   13.66,2, -999.00,9,    1.00,2,-999.000,9,   0.119,2,   0.337,2,  2143.8,2,  2292.1,2,-999.0000,9  -999.00, -0.9461
06AQ19960712,ARKXII,59,1,3,167054,2,19960810,1719,86.4300,136.0433,3635,  3650.4, -0.7265, 34.9398,2, 34.9401,2,  -999.0,9,   299.0,2,   11.22,2,   13.56,2, -999.00,9,    0.99,2,   0.197,2,   0.066,2,   0.420,2,  2144.8,2,  2295.9,2,-999.0000,9  -999.00, -0.9473
06AQ19960712,ARKXII,59,1,2,167053,2,19960810,1719,86.4300,136.0433,3635,  3700.1, -0.7219, 34.9401,2, 34.9419,2,  -999.0,9,   298.3,2,   11.22,2,   13.56,2, -999.00,9,    0.99,2,   0.185,2,   0.073,2,   0.354,2,  2147.7,2,  2297.0,2,-999.0000,9  -999.00, -0.9471
06AQ19960712,ARKXII,59,1,1,167052,2,19960810,1719,86.4300,136.0433,3635,  3749.8, -0.7158, 34.9410,2, 34.9442,2,  -999.0,9,   298.0,2,   11.12,2,   13.56,2, -999.00,9,    1.00,2,   0.107,2,   0.076,2,   0.338,2,  2150.4,2,  2297.2,2,-999.0000,9  -999.00, -0.9458