BOTTLE,20100322CCHDOSIODM
EXPOCODE,SECT_ID,STNNBR,CASTNO,SAMPNO,BTLNBR,BTLNBR_FLAG_W,DATE,TIME,LATITUDE,LONGITUDE,DEPTH,CTDPRS,CTDTMP,CTDSAL,CTDSAL_FLAG_W,SALNTY,SALNTY_FLAG_W,CTDOXY,CTDOXY_FLAG_W,OXYGEN,OXYGEN_FLAG_W,SILCAT,SILCAT_FLAG_W,NITRAT,NITRAT_FLAG_W,NITRIT,NITRIT_FLAG_W,PHSPHT,PHSPHT_FLAG_W,CFC-11,CFC-11_FLAG_W,CFC-12,CFC-12_FLAG_W,CCL4,CCL4_FLAG_W,TCARBN,TCARBN_FLAG_W,ALKALI,ALKALI_FLAG_W,PH_SWS,PH_SWS_FLAG_W,PH_TMP,THETA
,,,,,,,,,,,METERS,DBAR,ITS-90,PSS-78,,PSS-78,,UMOL/KG,,UMOL/KG,,UMOL/KG,,UMOL/KG,,UMOL/KG,,UMOL/KG,,PMOL/KG,,PMOL/KG,,PMOL/KG,,UMOL/KG,,UMOL/KG,,,,DEG C,DEG C
06AQ19960712,ARKXII,35,1,36,166121,2,19960802,0745,82.1917,91.9067,2075,     9.8, -1.7976, 33.9255,2, 33.9253,2,  -999.0,9,   347.6,2,    2.73,2,    5.66,2, -999.00,9,    0.43,2,   6.589,2,   3.076,2,   7.437,2,  2107.4,2,  -999.0,9,   7.7308,2,    25.00, -1.7942
06AQ19960712,ARKXII,35,1,35,166120,2,19960802,0745,82.1917,91.9067,2075,    20.3, -1.7805, 33.9410,2, 33.9373,2,  -999.0,9,   347.9,2,    2.83,2,    5.66,2, -999.00,9,    0.41,2,-999.000,9,-999.000,9,-999.000,9,  -999.0,9,  -999.0,9,-999.0000,9,  -999.00, -1.7774
06AQ19960712,ARKXII,35,1,34,166119,2,19960802,0745,82.1917,91.9067,2075,    30.4, -1.7775, 33.9448,2, 33.9429,2,  -999.0,9,   348.3,2,    2.83,2,    5.66,2, -999.00,9, -999.00,9,   6.573,2,   3.068,2,   7.753,2,  2103.5,2,  2293.2,3,   7.7317,2,    25.00, -1.7746
06AQ19960712,ARKXII,35,1,33,166118,2,19960802,0745,82.1917,91.9067,2075,    40.4, -1.7869, 33.9532,2, 33.9510,2,  -999.0,9,   348.6,2,    3.02,2,    5.76,2, -999.00,9,    0.44,2,   6.281,2,   3.133,2,   7.555,2,  -999.0,9,  -999.0,9,-999.0000,9,  -999.00, -1.7847
06AQ19960712,ARKXII,35,1,32,166117,2,19960802,0745,82.1917,91.9067,2075,    50.1, -1.7634, 34.0172,2, 34.0381,2,  -999.0,9,   343.1,2,    2.63,2,    6.05,2, -999.00,9,    0.46,2,   6.425,2,   3.196,2,   7.255,2,  2102.3,2,  2273.6,2,   7.7288,2,    25.00, -1.7610
06AQ19960712,ARKXII,35,1,31,166116,2,19960802,0745,82.1917,91.9067,2075,    60.2, -1.6230, 34.1289,2, 34.1513,2,  -999.0,9,   335.7,2,    2.83,2,    7.12,2, -999.00,9,    0.51,2,   5.998,2,   2.928,2,   6.771,2,  -999.0,9,  -999.0,9,-999.0000,9,  -999.00, -1.6212
06AQ19960712,ARKXII,35,1,30,166115,2,19960802,0745,82.1917,91.9067,2075,    80.4, -0.8559, 34.2923,2, 34.3675,2,  -999.0,9,   319.8,2,    3.71,2,    8.59,2, -999.00,9,    0.59,2,-999.000,9,-999.000,9,-999.000,9,  2125.3,2,  2280.4,2,   7.7017,2,    25.00, -0.8542
06AQ19960712,ARKXII,35,1,29,166114,2,19960802,0745,82.1917,91.9067,2075,   100.2,  0.5743, 34.5360,2, 34.5530,2,  -999.0,9,   311.4,2,    4.68,2,   10.54,2, -999.00,9,    0.68,2,   5.380,2,   2.712,2,   6.131,2,  2130.7,2,  2284.8,2,   7.7045,2,    25.00,  0.5739
06AQ19960712,ARKXII,35,1,28,166113,2,19960802,0745,82.1917,91.9067,2075,   125.2,  1.7916, 34.7510,2, 34.7351,2,  -999.0,9,   305.6,2,    5.46,2,   11.32,2, -999.00,9,    0.72,2,   4.839,2,   2.566,2,   5.914,2,  -999.0,9,  -999.0,9,-999.0000,9,  -999.00,  1.7896
06AQ19960712,ARKXII,35,1,27,166112,2,19960802,0745,82.1917,91.9067,2075,   150.1,  2.3637, 34.8347,2, 34.8338,2,  -999.0,9,   302.9,2,    5.66,2,   11.90,2, -999.00,9,    0.72,2,-999.000,9,-999.000,9,-999.000,9,  2139.2,2,  2297.9,2,   7.7131,2,    25.00,  2.3595
06AQ19960712,ARKXII,35,1,26,166111,2,19960802,0745,82.1917,91.9067,2075,   200.2,  2.6961, 34.9139,2, 34.9228,2,  -999.0,9,   301.9,2,    6.34,2,   12.10,2, -999.00,9, -999.00,9,   5.011,2,   2.454,2,   5.732,2,  -999.0,9,  -999.0,9,-999.0000,9,  -999.00,  2.6890
06AQ19960712,ARKXII,35,1,25,166110,2,19960802,0745,82.1917,91.9067,2075,   250.0,  2.7391, 34.9447,2, 34.9433,2,  -999.0,9,   302.0,2, -999.00,9,   12.39,2, -999.00,9,    0.77,2,   4.901,2,   2.399,2,   5.547,2,  2140.6,2,  2292.8,2,   7.7160,2,    25.00,  2.7288
06AQ19960712,ARKXII,35,1,24,166109,2,19960802,0745,82.1917,91.9067,2075,   300.5,  2.5354, 34.9485,2, 34.9478,2,  -999.0,9,   303.7,2,    6.44,2, -999.00,9, -999.00,9,    0.79,2,-999.000,9,-999.000,9,-999.000,9,  2141.7,2,  2292.0,2,   7.7179,2,    25.00,  2.5221
06AQ19960712,ARKXII,35,1,23,166108,2,19960802,0745,82.1917,91.9067,2075,   350.3,  2.4133, 34.9554,2, 34.9555,2,  -999.0,9,   303.7,2,    5.95,2,   12.29,2, -999.00,9,    0.79,2,   4.684,2,   2.298,2,   5.672,2,  -999.0,9,  -999.0,9,-999.0000,9,  -999.00,  2.3974
06AQ19960712,ARKXII,35,1,22,166107,2,19960802,0745,82.1917,91.9067,2075,   399.7,  2.1533, 34.9531,2, 34.9533,2,  -999.0,9,   303.9,2,    6.15,2,   11.90,2, -999.00,9,    0.79,2,-999.000,9,   2.331,2,   5.946,2,  2146.8,2,  2292.0,2,   7.7121,2,    25.00,  2.1351
06AQ19960712,ARKXII,35,1,21,166106,2,19960802,0745,82.1917,91.9067,2075,   450.8,  1.8605, 34.9428,2, 34.9431,2,  -999.0,9,   303.5,2,    6.54,2,   12.20,2, -999.00,9,    0.80,2,-999.000,9,-999.000,9,-999.000,9,  -999.0,9,  -999.0,9,-999.0000,9,  -999.00,  1.8401
06AQ19960712,ARKXII,35,1,20,166105,2,19960802,0745,82.1917,91.9067,2075,   500.4,  1.5947, 34.9330,2, 34.9338,2,  -999.0,9,   303.3,2,    6.63,2,   12.29,2, -999.00,9,    0.81,2,   4.233,2,   2.153,2,   5.674,2,  2148.6,2,  2273.8,3,   7.7006,2,    25.00,  1.5723
06AQ19960712,ARKXII,35,1,19,166104,2,19960802,0745,82.1917,91.9067,2075,   551.0,  1.4412, 34.9313,2, 34.9319,2,  -999.0,9,   302.7,2,    6.73,2,   12.59,2, -999.00,9,    0.80,2,-999.000,9,-999.000,9,-999.000,9,  -999.0,9,  -999.0,9,-999.0000,9,  -999.00,  1.4160
06AQ19960712,ARKXII,35,1,18,166103,2,19960802,0745,82.1917,91.9067,2075,   600.9,  1.1914, 34.9265,2, 34.9259,2,  -999.0,9,   301.8,2,    7.02,2,   12.49,2, -999.00,9, -999.00,9,   4.026,2,   1.905,2,   5.007,2,  2150.7,2,  2293.8,2,   7.6957,2,    25.00,  1.1644
06AQ19960712,ARKXII,35,1,17,166102,2,19960802,0745,82.1917,91.9067,2075,   700.6,  0.7208, 34.9174,2, 34.9148,2,  -999.0,9,   302.8,2,    7.61,2,   12.78,2, -999.00,9,    0.84,2,   3.320,2,   1.629,2,   4.628,2,  -999.0,9,  -999.0,9,-999.0000,9,  -999.00,  0.6914
06AQ19960712,ARKXII,35,1,16,166101,2,19960802,0745,82.1917,91.9067,2075,   800.2,  0.0707, 34.8915,2, 34.8915,2,  -999.0,9,   304.9,2,    7.61,2,   12.00,2, -999.00,9,    0.80,2,   4.644,2,   1.927,2,   5.382,2,  2156.5,2,  2289.5,2,   7.6774,2,    25.00,  0.0402
06AQ19960712,ARKXII,35,1,15,166100,2,19960802,0745,82.1917,91.9067,2075,   900.0, -0.0595, 34.9025,2, 34.9030,2,  -999.0,9,   303.0,2,    8.29,2,   12.49,2, -999.00,9,    0.84,2,-999.000,9,-999.000,9,-999.000,9,  -999.0,9,  -999.0,9,-999.0000,9,  -999.00, -0.0950
06AQ19960712,ARKXII,35,1,14,166099,2,19960802,0745,82.1917,91.9067,2075,  1000.0, -0.2348, 34.9013,2, 34.9013,2,  -999.0,9,   302.9,2,    8.39,2,   12.49,2, -999.00,9,    0.83,2,   4.904,2,   2.311,2,   5.959,2,  2167.9,2,  2290.2,2,   7.6544,2,    25.00, -0.2737
06AQ19960712,ARKXII,35,1,13,166098,2,19960802,0745,82.1917,91.9067,2075,  1099.7, -0.3163, 34.9074,2, 34.9067,2,  -999.0,9,   301.8,2,    8.88,2,   13.17,2, -999.00,9,    0.86,2,-999.000,9,-999.000,9,-999.000,9,  -999.0,9,  -999.0,9,-999.0000,9,  -999.00, -0.3603
06AQ19960712,ARKXII,35,1,12,166097,2,19960802,0745,82.1917,91.9067,2075,  1199.5, -0.4134, 34.9096,2, 34.9102,2,  -999.0,9,   301.0,2,    9.27,2,   13.56,2, -999.00,9,    0.89,2,   1.977,2,   0.861,2,   3.098,2,  2157.7,2,  2291.3,2,   7.6774,2,    25.00, -0.4617
06AQ19960712,ARKXII,35,1,11,166096,2,19960802,0745,82.1917,91.9067,2075,  1300.4, -0.5091, 34.9113,2, 34.9118,2,  -999.0,9,   300.8,2,    9.66,2,   13.85,2, -999.00,9,    0.90,2,-999.000,9,-999.000,9,-999.000,9,  -999.0,9,  -999.0,9,-999.0000,9,  -999.00, -0.5612
06AQ19960712,ARKXII,35,1,10,166095,2,19960802,0745,82.1917,91.9067,2075,  1399.7, -0.5857, 34.9122,2, 34.9129,2,  -999.0,9,   300.0,2,    9.95,2,   14.15,2, -999.00,9,    0.93,2,-999.000,9,   0.514,2,   2.476,2,  2160.3,2,  2302.2,2,   7.6726,2,    25.00, -0.6429
06AQ19960712,ARKXII,35,1,9,166094,2,19960802,0745,82.1917,91.9067,2075,  1500.5, -0.6334, 34.9131,2, 34.9138,2,  -999.0,9,   299.7,2,   10.15,2,   14.24,2, -999.00,9,    0.92,2,-999.000,9,-999.000,9,-999.000,9,  -999.0,9,  -999.0,9,-999.0000,9,  -999.00, -0.6960
06AQ19960712,ARKXII,35,1,8,166093,2,19960802,0745,82.1917,91.9067,2075,  1600.0, -0.6635, 34.9138,2, 34.9141,2,  -999.0,9,   299.6,2,   10.34,2,   14.34,2, -999.00,9,    0.92,2,   1.098,2,   0.442,2,   2.035,2,  2158.1,2,  2289.0,2,   7.6813,2,    25.00, -0.7314
06AQ19960712,ARKXII,35,1,7,166092,2,19960802,0745,82.1917,91.9067,2075,  1800.2, -0.7206, 34.9159,2, 34.9167,2,  -999.0,9,   299.0,2,   10.73,2,   14.05,2, -999.00,9,    0.95,2,-999.000,9,-999.000,9,-999.000,9,  2155.7,2,  2296.4,2,   7.6803,2,    25.00, -0.7997
06AQ19960712,ARKXII,35,1,6,166091,2,19960802,0745,82.1917,91.9067,2075,  1899.7, -0.7377, 34.9167,2, 34.9178,2,  -999.0,9,   299.6,2,   10.93,2,   14.15,2, -999.00,9,    0.93,2,-999.000,9,   0.389,2,   1.726,2,  2160.4,2,  2301.9,2,   7.6765,2,    25.00, -0.8227
06AQ19960712,ARKXII,35,1,5,166090,2,19960802,0745,82.1917,91.9067,2075,  2050.6, -0.7657, 34.9195,2, 34.9208,2,  -999.0,9,   298.2,2,   11.32,2,   14.44,2, -999.00,9,    0.91,2,-999.000,9,-999.000,9,-999.000,9,  2156.6,2,  2295.8,2,   7.6822,2,    25.00, -0.8599
06AQ19960712,ARKXII,35,1,1,166086,2,19960802,0745,82.1917,91.9067,2075,  2070.3, -0.7682, 34.9204,2, 34.9223,2,  -999.0,9,   298.3,2,   11.22,2,   15.02,2, -999.00,9,    0.93,2,-999.000,9,   0.210,2,   1.539,2,  2156.9,2,  2299.2,2,   7.6822,2,    25.00, -0.8642
06AQ19960712,ARKXII,35,1,2,166087,2,19960802,0745,82.1917,91.9067,2075,  2070.5, -0.7662, 34.9195,2,-999.0000,9,  -999.0,9,  -999.0,9, -999.00,9, -999.00,9, -999.00,9, -999.00,9,-999.000,9,-999.000,9,-999.000,9,  -999.0,9,  -999.0,9,-999.0000,9,  -999.00,-999.0000
06AQ19960712,ARKXII,35,1,3,166088,2,19960802,0745,82.1917,91.9067,2075,  2070.5, -0.7649, 34.9196,2,-999.0000,9,  -999.0,9,  -999.0,9, -999.00,9, -999.00,9, -999.00,9, -999.00,9,-999.000,9,-999.000,9,-999.000,9,  -999.0,9,  -999.0,9,-999.0000,9,  -999.00,-999.0000
06AQ19960712,ARKXII,35,1,4,166089,2,19960802,0745,82.1917,91.9067,2075,  2070.6, -0.7632, 34.9191,2,-999.0000,9,  -999.0,9,  -999.0,9, -999.00,9, -999.00,9, -999.00,9, -999.00,9,-999.000,9,-999.000,9,-999.000,9,  -999.0,9,  -999.0,9,-999.0000,9,  -999.00,-999.0000
06AQ19960712,ARKXII,36,1,36,166157,2,19960802,1811,82.3333,91.9967,2936,     3.0, -1.7343, 33.9424,2,-999.0000,9,  -999.0,9,  -999.0,9, -999.00,9, -999.00,9, -999.00,9, -999.00,9,-999.000,9,-999.000,9,-999.000,9,  -999.0,9,  -999.0,9,-999.0000,9,  -999.00,-999.0000
06AQ19960712,ARKXII,36,1,35,166156,2,19960802,1811,82.3333,91.9967,2936,    10.1, -1.7646, 33.9669,2,-999.0000,9,  -999.0,9,   348.2,2,    3.32,2,    6.44,2, -999.00,9,    0.41,2,-999.000,9,-999.000,9,-999.000,9,  2093.8,2,  -999.0,9,-999.0000,9,  -999.00,-999.0000
06AQ19960712,ARKXII,36,1,34,166155,2,19960802,1811,82.3333,91.9967,2936,    20.1, -1.7812, 34.0087,2, 34.0054,2,  -999.0,9,   346.9,2,    3.22,2,    6.24,2, -999.00,9,    0.40,2,   6.676,2,   2.993,2,   7.248,2,  2097.1,2,  -999.0,9,   7.7423,2,    25.00, -1.7784
06AQ19960712,ARKXII,36,1,33,166154,2,19960802,1811,82.3333,91.9967,2936,    30.5, -1.7849, 34.0137,2, 34.0150,2,  -999.0,9,   346.5,2,    3.32,2,    6.44,2, -999.00,9,    0.41,2,   6.325,2,   3.006,2,   7.329,2,  2097.3,2,  -999.0,9,   7.7452,2,    25.00, -1.7826
06AQ19960712,ARKXII,36,1,32,166153,2,19960802,1811,82.3333,91.9967,2936,    40.0, -1.7863, 34.0183,2, 34.0183,2,  -999.0,9,   346.3,2,    3.22,2,    6.34,2, -999.00,9,    0.41,2,   6.211,2,   2.987,2,   7.590,2,  2099.0,2,  -999.0,9,   7.7414,2,    25.00, -1.7838
06AQ19960712,ARKXII,36,1,31,166152,2,19960802,1811,82.3333,91.9967,2936,    50.2, -1.7848, 34.0284,2, 34.0314,2,  -999.0,9,   345.7,2,    3.32,2,    6.54,2, -999.00,9,    0.43,2,-999.000,9,-999.000,9,-999.000,9,  -999.0,9,  -999.0,9,-999.0000,9,  -999.00, -1.7819
06AQ19960712,ARKXII,36,1,30,166151,2,19960802,1811,82.3333,91.9967,2936,    59.3, -1.7931, 34.0359,2, 34.0848,2,  -999.0,9,   341.4,2,    3.32,2,    6.93,2, -999.00,9,    0.47,2,   6.232,2,   2.943,2,   6.873,2,  2099.1,2,  -999.0,9,   7.7346,2,    25.00, -1.7911
06AQ19960712,ARKXII,36,1,29,166150,2,19960802,1811,82.3333,91.9967,2936,    75.1, -1.1785, 34.2117,2, 34.2026,2,  -999.0,9,   331.6,2,    3.61,2,    8.00,2, -999.00,9,    0.52,2,   5.880,2,   2.827,2,   6.346,2,  2110.7,2,  -999.0,9,   7.7278,2,    25.00, -1.1769
06AQ19960712,ARKXII,36,1,28,166149,2,19960802,1811,82.3333,91.9967,2936,    80.3, -0.7388, 34.2995,2, 34.2627,2,  -999.0,9,   326.6,2,    4.10,2,    8.78,2, -999.00,9,    0.56,2,-999.000,9,-999.000,9,-999.000,9,  2110.7,2,  -999.0,9,   7.7210,2,    25.00, -0.7373
06AQ19960712,ARKXII,36,1,27,166148,2,19960802,1811,82.3333,91.9967,2936,    99.7,  0.2976, 34.5037,2, 34.5104,2,  -999.0,9,   312.4,2,    4.59,2,    9.85,2, -999.00,9,    0.61,2,   5.396,2,   2.617,2,   6.019,2,  2130.5,2,  -999.0,9,   7.7055,2,    25.00,  0.2982
06AQ19960712,ARKXII,36,1,26,166147,2,19960802,1811,82.3333,91.9967,2936,   149.9,  2.2592, 34.8261,2, 34.8274,2,  -999.0,9,   303.1,2,    5.66,2,   11.90,2, -999.00,9,    0.72,2,   4.956,2,   2.419,2,   5.662,2,  -999.0,9,  -999.0,9,-999.0000,9,  -999.00,  2.2556
06AQ19960712,ARKXII,36,1,25,166146,2,19960802,1811,82.3333,91.9967,2936,   200.6,  2.7231, 34.9170,2, 34.9177,2,  -999.0,9,   301.4,2,    5.95,2,   12.20,2, -999.00,9,    0.74,2,-999.000,9,-999.000,9,-999.000,9,  2140.5,2,  -999.0,9,   7.7217,2,    25.00,  2.7159
06AQ19960712,ARKXII,36,1,24,166145,2,19960802,1811,82.3333,91.9967,2936,   250.0,  2.7869, 34.9516,2,-999.0000,9,  -999.0,9,  -999.0,9, -999.00,9, -999.00,9, -999.00,9, -999.00,9,-999.000,9,-999.000,9,-999.000,9,  -999.0,9,  -999.0,9,-999.0000,9,  -999.00,-999.0000
06AQ19960712,ARKXII,36,1,23,166144,2,19960802,1811,82.3333,91.9967,2936,   250.1,  2.7853, 34.9515,2, 34.9525,2,  -999.0,9,   302.3,2,    6.05,2,   12.29,2, -999.00,9,    0.75,2,-999.000,9,   2.353,2,   5.511,2,  -999.0,9,  -999.0,9,-999.0000,9,  -999.00,  2.7747
06AQ19960712,ARKXII,36,1,22,166143,2,19960802,1811,82.3333,91.9967,2936,   275.2,  2.7585, 34.9579,2,-999.0000,9,  -999.0,9,  -999.0,9, -999.00,9, -999.00,9, -999.00,9, -999.00,9,-999.000,9,-999.000,9,-999.000,9,  -999.0,9,  -999.0,9,-999.0000,9,  -999.00,-999.0000
06AQ19960712,ARKXII,36,1,21,166142,2,19960802,1811,82.3333,91.9967,2936,   300.0,  2.6590, 34.9574,2, 34.9584,2,  -999.0,9,   303.8,2,    6.24,2,   12.29,2, -999.00,9,    0.76,2,   4.829,2,   2.311,2,   5.778,2,  2142.5,2,  -999.0,9,   7.7208,2,    25.00,  2.6449
06AQ19960712,ARKXII,36,1,20,166141,2,19960802,1811,82.3333,91.9967,2936,   399.6,  2.1515, 34.9509,2, 34.9519,2,  -999.0,9,   305.3,2,    6.34,2,   12.29,2, -999.00,9,    0.77,2,   4.732,2,   2.299,2,   5.615,2,  -999.0,9,  -999.0,9,-999.0000,9,  -999.00,  2.1331
06AQ19960712,ARKXII,36,1,19,166140,2,19960802,1811,82.3333,91.9967,2936,   499.5,  1.5950, 34.9340,2,-999.0000,9,  -999.0,9,  -999.0,9, -999.00,9, -999.00,9, -999.00,9, -999.00,9,-999.000,9,-999.000,9,-999.000,9,  -999.0,9,  -999.0,9,-999.0000,9,  -999.00,-999.0000
06AQ19960712,ARKXII,36,1,18,166139,2,19960802,1811,82.3333,91.9967,2936,   500.0,  1.5577, 34.9316,2, 34.9334,2,  -999.0,9,   303.3,2,    6.83,2,   12.49,2, -999.00,9,    0.80,2,   4.745,2,   2.075,2,   5.380,2,  2149.5,2,  -999.0,9,   7.7034,2,    25.00,  1.5354
06AQ19960712,ARKXII,36,1,17,166138,2,19960802,1811,82.3333,91.9967,2936,   599.9,  1.1560, 34.9219,2, 34.9210,2,  -999.0,9,   302.5,2,    7.12,2,   12.59,2, -999.00,9,    0.81,2,-999.000,9,-999.000,9,-999.000,9,  -999.0,9,  -999.0,9,-999.0000,9,  -999.00,  1.1296
06AQ19960712,ARKXII,36,1,16,166137,2,19960802,1811,82.3333,91.9967,2936,   700.1,  0.7256, 34.9134,2, 34.9133,2,  -999.0,9,   303.7,2,    7.41,2,   12.78,2, -999.00,9,    0.81,2,   3.993,2,   1.686,2,   5.091,2,  2150.8,2,  -999.0,9,   7.6966,2,    25.00,  0.6964
06AQ19960712,ARKXII,36,1,15,166136,2,19960802,1811,82.3333,91.9967,2936,   800.3,  0.3212, 34.9131,2, 34.9115,2,  -999.0,9,   303.1,2,    7.80,2,   13.07,2, -999.00,9,    0.82,2,-999.000,9,-999.000,9,-999.000,9,  -999.0,9,  -999.0,9,-999.0000,9,  -999.00,  0.2886
06AQ19960712,ARKXII,36,1,13,166134,2,19960802,1811,82.3333,91.9967,2936,  1000.1, -0.2008, 34.9094,2, 34.9082,2,  -999.0,9,   302.0,2,    8.88,2,   13.56,2, -999.00,9,    0.86,2,   2.340,2,   0.859,2,   3.223,2,  2150.8,2,  -999.0,9,   7.6928,2,    25.00, -0.2400
06AQ19960712,ARKXII,36,1,14,166135,2,19960802,1811,82.3333,91.9967,2936,  1000.1, -0.1963, 34.9094,2,-999.0000,9,  -999.0,9,   302.9,2, -999.00,9, -999.00,9, -999.00,9, -999.00,9,-999.000,9,-999.000,9,-999.000,9,  -999.0,9,  -999.0,9,-999.0000,9,  -999.00,-999.0000
06AQ19960712,ARKXII,36,1,12,166133,2,19960802,1811,82.3333,91.9967,2936,  1200.2, -0.4445, 34.9107,2, 34.9092,2,  -999.0,9,   301.8,2,    9.66,2,   13.95,2, -999.00,9,    0.89,2,-999.000,9,-999.000,9,-999.000,9,  -999.0,9,  -999.0,9,-999.0000,9,  -999.00, -0.4924
06AQ19960712,ARKXII,36,1,11,166132,2,19960802,1811,82.3333,91.9967,2936,  1400.1, -0.5925, 34.9133,2, 34.9129,2,  -999.0,9,   301.0,2,   10.24,2,   13.95,2, -999.00,9,    0.90,2,-999.000,9,   0.452,2,   2.226,2,  -999.0,9,  -999.0,9,-999.0000,9,  -999.00, -0.6498
06AQ19960712,ARKXII,36,1,10,166131,2,19960802,1811,82.3333,91.9967,2936,  1600.1, -0.6673, 34.9152,2, 34.9142,2,  -999.0,9,   300.6,2,   10.63,2,   14.24,2, -999.00,9,    0.91,2,-999.000,9,-999.000,9,-999.000,9,  2153.3,2,  -999.0,9,   7.6851,2,    25.00, -0.7353
06AQ19960712,ARKXII,36,1,9,166130,2,19960802,1811,82.3333,91.9967,2936,  1799.6, -0.7231, 34.9172,2, 34.9148,2,  -999.0,9,   300.3,2,   11.02,2,   14.24,2, -999.00,9,    0.92,2,   0.686,2,   0.301,2,   1.649,2,  -999.0,9,  -999.0,9,-999.0000,9,  -999.00, -0.8026
06AQ19960712,ARKXII,36,1,8,166129,2,19960802,1811,82.3333,91.9967,2936,  2000.0, -0.7533, 34.9179,2,-999.0000,9,  -999.0,9,  -999.0,9, -999.00,9, -999.00,9, -999.00,9, -999.00,9,-999.000,9,-999.000,9,-999.000,9,  -999.0,9,  -999.0,9,-999.0000,9,  -999.00,-999.0000
06AQ19960712,ARKXII,36,1,7,166128,2,19960802,1811,82.3333,91.9967,2936,  2000.0, -0.7540, 34.9184,2, 34.9168,2,  -999.0,9,   300.6,2,   11.22,2,   14.44,2, -999.00,9,    0.92,2,-999.000,9,-999.000,9,-999.000,9,  2155.4,2,  -999.0,9,   7.6889,2,    25.00, -0.8448
06AQ19960712,ARKXII,36,1,6,166127,2,19960802,1811,82.3333,91.9967,2936,  2200.0, -0.7757, 34.9211,2, 34.9201,2,  -999.0,9,   300.2,2,   11.22,2,   14.44,2, -999.00,9,    0.92,2,-999.000,9,   0.261,2,   1.595,2,  2152.5,2,  -999.0,9,   7.6899,2,    25.00, -0.8797
06AQ19960712,ARKXII,36,1,5,166126,2,19960802,1811,82.3333,91.9967,2936,  2400.3, -0.7869, 34.9244,2, 34.9236,2,  -999.0,9,   300.0,2,   11.32,2,   14.44,2, -999.00,9,    0.92,2,-999.000,9,-999.000,9,-999.000,9,  2150.8,2,  -999.0,9,   7.6966,2,    25.00, -0.9044
06AQ19960712,ARKXII,36,1,4,166125,2,19960802,1811,82.3333,91.9967,2936,  2500.2, -0.7884, 34.9264,2,-999.0000,9,  -999.0,9,  -999.0,9, -999.00,9, -999.00,9, -999.00,9, -999.00,9,-999.000,9,-999.000,9,-999.000,9,  -999.0,9,  -999.0,9,-999.0000,9,  -999.00,-999.0000
06AQ19960712,ARKXII,36,1,3,166124,2,19960802,1811,82.3333,91.9967,2936,  2600.2, -0.7828, 34.9320,2, 34.9299,2,  -999.0,9,   297.6,2,   11.90,2,   14.44,2, -999.00,9,    0.92,2,-999.000,9,   0.138,2,   0.827,2,  2156.2,2,  -999.0,9,   7.6957,2,    25.00, -0.9151
06AQ19960712,ARKXII,36,1,2,166123,2,19960802,1811,82.3333,91.9967,2936,  2620.0, -0.7804, 34.9320,2,-999.0000,9,  -999.0,9,  -999.0,9, -999.00,9, -999.00,9, -999.00,9, -999.00,9,-999.000,9,-999.000,9,-999.000,9,  -999.0,9,  -999.0,9,-999.0000,9,  -999.00,-999.0000
06AQ19960712,ARKXII,36,1,1,166122,2,19960802,1811,82.3333,91.9967,2936,  2620.0, -0.7807, 34.9325,2, 34.9318,2,  -999.0,9,   296.4,2,   12.00,2,   14.63,2, -999.00,9,    0.92,2,-999.000,9,-999.000,9,-999.000,9,  2154.2,2,  -999.0,9,   7.6966,2,    25.00, -0.9146