BOTTLE,20100322CCHDOSIODM
EXPOCODE,SECT_ID,STNNBR,CASTNO,SAMPNO,BTLNBR,BTLNBR_FLAG_W,DATE,TIME,LATITUDE,LONGITUDE,DEPTH,CTDPRS,CTDTMP,CTDSAL,CTDSAL_FLAG_W,SALNTY,SALNTY_FLAG_W,CTDOXY,CTDOXY_FLAG_W,OXYGEN,OXYGEN_FLAG_W,SILCAT,SILCAT_FLAG_W,NITRAT,NITRAT_FLAG_W,NITRIT,NITRIT_FLAG_W,PHSPHT,PHSPHT_FLAG_W,CFC-11,CFC-11_FLAG_W,CFC-12,CFC-12_FLAG_W,CCL4,CCL4_FLAG_W,TCARBN,TCARBN_FLAG_W,ALKALI,ALKALI_FLAG_W,PH_SWS,PH_SWS_FLAG_W,PH_TMP,THETA
,,,,,,,,,,,METERS,DBAR,ITS-90,PSS-78,,PSS-78,,UMOL/KG,,UMOL/KG,,UMOL/KG,,UMOL/KG,,UMOL/KG,,UMOL/KG,,PMOL/KG,,PMOL/KG,,PMOL/KG,,UMOL/KG,,UMOL/KG,,,,DEG C,DEG C
06AQ19960712,ARKXII,81,1,35,167851,2,19960819,1755,82.4983,134.6050,3891,    10.6, -1.6910, 32.4018,2, 32.4018,2,  -999.0,9,   381.5,2,    2.83,2,    1.76,2, -999.00,9,    0.38,2,-999.000,9,-999.000,9,-999.000,9,  -999.0,9,  -999.0,9,-999.0000,9,  -999.00, -1.6882
06AQ19960712,ARKXII,81,1,34,167850,2,19960819,1755,82.4983,134.6050,3891,    21.0, -1.6910, 32.3993,2, 32.4069,2,  -999.0,9,   381.4,2,    2.93,2,    1.85,2, -999.00,9,    0.39,2,   7.220,2,   3.533,2,   8.288,2,  -999.0,9,  -999.0,9,-999.0000,9,  -999.00, -1.6883
06AQ19960712,ARKXII,81,1,33,167849,2,19960819,1755,82.4983,134.6050,3891,    31.1, -1.7015, 32.5233,2, 32.5267,2,  -999.0,9,   377.2,2,    3.12,2,    2.24,2, -999.00,9,    0.43,2,   7.243,2,   3.582,2,   7.951,2,  -999.0,9,  -999.0,9,-999.0000,9,  -999.00, -1.6985
06AQ19960712,ARKXII,81,1,32,167848,2,19960819,1755,82.4983,134.6050,3891,    40.6, -1.7448, 33.3675,2, 33.3595,2,  -999.0,9,   348.8,2,    3.71,2,    5.27,2, -999.00,9,    0.56,2,-999.000,9,-999.000,9,-999.000,9,  -999.0,9,  -999.0,9,-999.0000,9,  -999.00, -1.7397
06AQ19960712,ARKXII,81,1,31,167847,2,19960819,1755,82.4983,134.6050,3891,    60.7, -1.6858, 33.8230,2, 33.8161,2,  -999.0,9,   333.9,2,    3.90,2,    6.34,2, -999.00,9,    0.60,2,   6.609,2,   3.203,2,   5.170,2,  -999.0,9,  -999.0,9,-999.0000,9,  -999.00, -1.6872
06AQ19960712,ARKXII,81,1,30,167846,2,19960819,1755,82.4983,134.6050,3891,    81.1, -1.5504, 34.0614,2, 34.0772,2,  -999.0,9,   323.4,2,    4.39,2,    7.12,2, -999.00,9,    0.66,2,-999.000,9,-999.000,9,-999.000,9,  -999.0,9,  -999.0,9,-999.0000,9,  -999.00, -1.5507
06AQ19960712,ARKXII,81,1,29,167845,2,19960819,1755,82.4983,134.6050,3891,   101.0, -1.3494, 34.2253,2, 34.2170,2,  -999.0,9,   320.7,2,    4.29,2,    7.61,2, -999.00,9,    0.69,2,   6.295,2,   2.926,2,   5.211,2,  -999.0,9,  -999.0,9,-999.0000,9,  -999.00, -1.3474
06AQ19960712,ARKXII,81,1,28,167844,2,19960819,1755,82.4983,134.6050,3891,   151.1,  0.0155, 34.5187,2, 34.5120,2,  -999.0,9,   310.3,2,    4.68,2,    9.27,2, -999.00,9,    0.76,2,-999.000,9,-999.000,9,-999.000,9,  -999.0,9,  -999.0,9,-999.0000,9,  -999.00,  0.0315
06AQ19960712,ARKXII,81,1,27,167843,2,19960819,1755,82.4983,134.6050,3891,   200.7,  1.0001, 34.7615,2, 34.7547,2,  -999.0,9,   304.5,2,    5.07,2,   10.44,2, -999.00,9,    0.83,2,   5.189,2,   2.588,2,   5.218,2,  -999.0,9,  -999.0,9,-999.0000,9,  -999.00,  0.9939
06AQ19960712,ARKXII,81,1,26,167842,2,19960819,1755,82.4983,134.6050,3891,   251.8,  1.5548, 34.8606,2, 34.8533,2,  -999.0,9,   303.8,2,    5.27,2,   11.12,2, -999.00,9,    0.87,2,-999.000,9,-999.000,9,-999.000,9,  -999.0,9,  -999.0,9,-999.0000,9,  -999.00,  1.5462
06AQ19960712,ARKXII,81,1,25,167841,2,19960819,1755,82.4983,134.6050,3891,   275.5,  1.6296, 34.8786,2, 34.8857,2,  -999.0,9,   304.2,2,    5.27,2,   11.22,2, -999.00,9,    0.85,2,   4.930,2,   2.342,2,   5.275,2,  -999.0,9,  -999.0,9,-999.0000,9,  -999.00,  1.6198
06AQ19960712,ARKXII,81,1,24,167840,2,19960819,1755,82.4983,134.6050,3891,   300.9,  1.3169, 34.8575,2, 34.8717,2,  -999.0,9,   305.3,2,    5.46,2,   11.12,2, -999.00,9,    0.85,2,   4.935,2,   2.419,2,   5.484,2,  -999.0,9,  -999.0,9,-999.0000,9,  -999.00,  1.3092
06AQ19960712,ARKXII,81,1,23,167839,2,19960819,1755,82.4983,134.6050,3891,   400.2,  1.0522, 34.8839,2,-999.0000,9,  -999.0,9,   305.5,2,    5.66,2,   11.41,2, -999.00,9,    0.87,2,-999.000,9,-999.000,9,-999.000,9,  -999.0,9,  -999.0,9,-999.0000,9,  -999.00,  1.0359
06AQ19960712,ARKXII,81,1,22,167838,2,19960819,1755,82.4983,134.6050,3891,   500.8,  0.7074, 34.8859,2, 34.8841,2,  -999.0,9,   305.8,2,    5.76,2,   11.51,2, -999.00,9,    0.87,2,-999.000,9,-999.000,9,-999.000,9,  -999.0,9,  -999.0,9,-999.0000,9,  -999.00,  0.6890
06AQ19960712,ARKXII,81,1,21,167837,2,19960819,1755,82.4983,134.6050,3891,   600.5,  0.3065, 34.8765,2, 34.8782,2,  -999.0,9,   307.2,2,    5.95,2,   11.41,2, -999.00,9,    0.87,2,   4.302,2,   2.035,2,   5.025,2,  -999.0,9,  -999.0,9,-999.0000,9,  -999.00,  0.2789
06AQ19960712,ARKXII,81,1,20,167836,2,19960819,1755,82.4983,134.6050,3891,   700.0,  0.0923, 34.8812,2, 34.8835,2,  -999.0,9,   307.3,2,    6.15,2,   11.61,2, -999.00,9,    0.88,2,-999.000,9,-999.000,9,-999.000,9,  -999.0,9,  -999.0,9,-999.0000,9,  -999.00,  0.0711
06AQ19960712,ARKXII,81,1,19,167835,2,19960819,1755,82.4983,134.6050,3891,   800.1, -0.0828, 34.8846,2, 34.8851,2,  -999.0,9,   307.6,2,    6.34,2,   11.41,2, -999.00,9,    0.89,2,   4.141,2,   2.001,2,   4.956,2,  -999.0,9,  -999.0,9,-999.0000,9,  -999.00, -0.1137
06AQ19960712,ARKXII,81,1,18,167834,2,19960819,1755,82.4983,134.6050,3891,  1000.2, -0.2662, 34.8965,2, 34.8965,2,  -999.0,9,   306.7,2,    7.12,2,   11.71,2, -999.00,9,    0.91,2,-999.000,9,-999.000,9,-999.000,9,  -999.0,9,  -999.0,9,-999.0000,9,  -999.00, -0.3065
06AQ19960712,ARKXII,81,1,17,167833,2,19960819,1755,82.4983,134.6050,3891,  1201.0, -0.4087, 34.9053,2, 34.9049,2,  -999.0,9,   305.4,2,    8.10,2,   11.80,2, -999.00,9,    0.97,2,   3.037,2,   1.461,2,   3.995,2,  -999.0,9,  -999.0,9,-999.0000,9,  -999.00, -0.4568
06AQ19960712,ARKXII,81,1,16,167832,2,19960819,1755,82.4983,134.6050,3891,  1400.6, -0.5357, 34.9130,2, 34.9120,2,  -999.0,9,   302.4,2,    9.07,2,   12.88,2, -999.00,9,    0.98,2,-999.000,9,-999.000,9,-999.000,9,  -999.0,9,  -999.0,9,-999.0000,9,  -999.00, -0.5934
06AQ19960712,ARKXII,81,1,15,167831,2,19960819,1755,82.4983,134.6050,3891,  1601.1, -0.6387, 34.9167,2, 34.9157,2,  -999.0,9,   301.4,2,   10.15,2,   13.17,2, -999.00,9,    1.00,2,   0.853,2,   0.397,2,   1.642,2,  -999.0,9,  -999.0,9,-999.0000,9,  -999.00, -0.7068
06AQ19960712,ARKXII,81,1,14,167830,2,19960819,1755,82.4983,134.6050,3891,  1800.6, -0.7067, 34.9184,2, 34.9171,2,  -999.0,9,   301.0,2,   10.15,2,   13.17,2, -999.00,9,    1.00,2,-999.000,9,-999.000,9,-999.000,9,  -999.0,9,  -999.0,9,-999.0000,9,  -999.00, -0.7859
06AQ19960712,ARKXII,81,1,13,167829,2,19960819,1755,82.4983,134.6050,3891,  2000.1, -0.7444, 34.9201,2, 34.9206,2,  -999.0,9,   301.2,2,   10.34,2,   13.46,2, -999.00,9,    1.01,2,   0.343,2,   0.167,2,   1.092,2,  -999.0,9,  -999.0,9,-999.0000,9,  -999.00, -0.8360
06AQ19960712,ARKXII,81,1,12,167828,2,19960819,1755,82.4983,134.6050,3891,  2200.2, -0.7704, 34.9228,2, 34.9230,2,  -999.0,9,   300.7,2,   10.54,2,   13.37,2, -999.00,9,    1.01,2,-999.000,9,-999.000,9,-999.000,9,  -999.0,9,  -999.0,9,-999.0000,9,  -999.00, -0.8748
06AQ19960712,ARKXII,81,1,11,167827,2,19960819,1755,82.4983,134.6050,3891,  2399.8, -0.7886, 34.9264,2, 34.9275,2,  -999.0,9,   301.3,2,   10.93,2,   13.17,2, -999.00,9,    1.01,2,   0.435,2,   0.207,2,   0.674,2,  -999.0,9,  -999.0,9,-999.0000,9,  -999.00, -0.9064
06AQ19960712,ARKXII,81,1,10,167826,2,19960819,1755,82.4983,134.6050,3891,  2599.1, -0.7934, 34.9281,2, 34.9287,2,  -999.0,9,   300.7,2,   10.63,2,   13.37,2, -999.00,9,    1.01,2,-999.000,9,-999.000,9,-999.000,9,  -999.0,9,  -999.0,9,-999.0000,9,  -999.00, -0.9258
06AQ19960712,ARKXII,81,1,9,167825,2,19960819,1755,82.4983,134.6050,3891,  2799.7, -0.7909, 34.9319,2, 34.9312,2,  -999.0,9,   300.5,2,   10.63,2,   13.27,2, -999.00,9,    1.01,2,   0.326,2,   0.144,2,   0.436,2,  -999.0,9,  -999.0,9,-999.0000,9,  -999.00, -0.9381
06AQ19960712,ARKXII,81,1,8,167824,2,19960819,1755,82.4983,134.6050,3891,  2999.2, -0.7832, 34.9349,2, 34.9342,2,  -999.0,9,   300.2,2,   10.63,2,   13.17,2, -999.00,9,    1.00,2,-999.000,9,-999.000,9,-999.000,9,  -999.0,9,  -999.0,9,-999.0000,9,  -999.00, -0.9471
06AQ19960712,ARKXII,81,1,7,167823,2,19960819,1755,82.4983,134.6050,3891,  3199.3, -0.7703, 34.9369,2,-999.0000,9,  -999.0,9,   299.8,2,   10.73,2,   13.27,2, -999.00,9,    1.01,2,   0.176,2,   0.079,2,   0.279,2,  -999.0,9,  -999.0,9,-999.0000,9,  -999.00,-999.0000
06AQ19960712,ARKXII,81,1,6,167822,2,19960819,1755,82.4983,134.6050,3891,  3400.0, -0.7522, 34.9402,2, 34.9405,2,  -999.0,9,   299.5,2,   10.73,2,   13.07,2, -999.00,9,    1.00,2,-999.000,9,-999.000,9,-999.000,9,  -999.0,9,  -999.0,9,-999.0000,9,  -999.00, -0.9495
06AQ19960712,ARKXII,81,1,5,167821,2,19960819,1755,82.4983,134.6050,3891,  3599.8, -0.7332, 34.9420,2, 34.9415,2,  -999.0,9,   298.7,2,   10.93,2,   12.98,2, -999.00,9,    1.00,2,   0.274,2,   0.120,2,   0.258,2,  -999.0,9,  -999.0,9,-999.0000,9,  -999.00, -0.9487
06AQ19960712,ARKXII,81,1,4,167820,2,19960819,1755,82.4983,134.6050,3891,  3800.0, -0.7111, 34.9419,2, 34.9422,2,  -999.0,9,   298.5,2,   10.93,2,   13.07,2, -999.00,9,    1.00,2,-999.000,9,-999.000,9,-999.000,9,  -999.0,9,  -999.0,9,-999.0000,9,  -999.00, -0.9457
06AQ19960712,ARKXII,81,1,3,167819,2,19960819,1755,82.4983,134.6050,3891,  3925.1, -0.6990, 34.9416,2, 34.9424,2,  -999.0,9,   298.7,2,   10.83,2,   13.17,2, -999.00,9,    1.00,2,   0.143,2,   0.062,2,   0.328,2,  -999.0,9,  -999.0,9,-999.0000,9,  -999.00, -0.9458
06AQ19960712,ARKXII,81,1,2,167818,2,19960819,1755,82.4983,134.6050,3891,  3977.7, -0.6939, 34.9430,2, 34.9434,2,  -999.0,9,   298.3,2,   10.93,2,   12.98,2, -999.00,9,    0.99,2,   0.133,2,   0.059,2,   0.370,2,  -999.0,9,  -999.0,9,-999.0000,9,  -999.00, -0.9459
06AQ19960712,ARKXII,81,1,1,167817,2,19960819,1755,82.4983,134.6050,3891,  4028.2, -0.6870, 34.9405,2, 34.9409,2,  -999.0,9,   297.6,2,   10.93,2,   12.88,2, -999.00,9,    1.02,2,-999.000,9,-999.000,9,-999.000,9,  -999.0,9,  -999.0,9,-999.0000,9,  -999.00, -0.9439
06AQ19960712,ARKXII,82,1,36,167888,2,19960820,0450,82.5217,132.9533,3857,   151.1,  0.3612, 34.5606,2,-999.0000,9,  -999.0,9,  -999.0,9, -999.00,9, -999.00,9, -999.00,9, -999.00,9,-999.000,9,-999.000,9,-999.000,9,  -999.0,9,  -999.0,9,-999.0000,9,  -999.00,-999.0000
06AQ19960712,ARKXII,82,1,35,167887,2,19960820,0450,82.5217,132.9533,3857,   200.7,  1.5064, 34.8223,2,-999.0000,9,  -999.0,9,  -999.0,9, -999.00,9, -999.00,9, -999.00,9, -999.00,9,-999.000,9,-999.000,9,-999.000,9,  -999.0,9,  -999.0,9,-999.0000,9,  -999.00,-999.0000
06AQ19960712,ARKXII,82,1,32,167884,2,19960820,0450,82.5217,132.9533,3857,   260.2,  1.7350, 34.8838,2,-999.0000,9,  -999.0,9,  -999.0,9, -999.00,9, -999.00,9, -999.00,9, -999.00,9,-999.000,9,-999.000,9,-999.000,9,  -999.0,9,  -999.0,9,-999.0000,9,  -999.00,-999.0000
06AQ19960712,ARKXII,82,1,34,167886,2,19960820,0450,82.5217,132.9533,3857,   260.2,  1.7103, 34.8795,2,-999.0000,9,  -999.0,9,  -999.0,9, -999.00,9, -999.00,9, -999.00,9, -999.00,9,-999.000,9,-999.000,9,-999.000,9,  -999.0,9,  -999.0,9,-999.0000,9,  -999.00,-999.0000
06AQ19960712,ARKXII,82,1,33,167885,2,19960820,0450,82.5217,132.9533,3857,   260.2,  1.7292, 34.8823,2,-999.0000,9,  -999.0,9,  -999.0,9, -999.00,9, -999.00,9, -999.00,9, -999.00,9,-999.000,9,-999.000,9,-999.000,9,  -999.0,9,  -999.0,9,-999.0000,9,  -999.00,-999.0000
06AQ19960712,ARKXII,82,1,31,167883,2,19960820,0450,82.5217,132.9533,3857,   300.8,  1.5530, 34.8763,2,-999.0000,9,  -999.0,9,  -999.0,9, -999.00,9, -999.00,9, -999.00,9, -999.00,9,-999.000,9,-999.000,9,-999.000,9,  -999.0,9,  -999.0,9,-999.0000,9,  -999.00,-999.0000
06AQ19960712,ARKXII,82,1,30,167882,2,19960820,0450,82.5217,132.9533,3857,   499.6,  0.7565, 34.8836,2,-999.0000,9,  -999.0,9,  -999.0,9, -999.00,9, -999.00,9, -999.00,9, -999.00,9,-999.000,9,-999.000,9,-999.000,9,  -999.0,9,  -999.0,9,-999.0000,9,  -999.00,-999.0000
06AQ19960712,ARKXII,82,1,29,167881,2,19960820,0450,82.5217,132.9533,3857,   749.0, -0.0157, 34.8714,2,-999.0000,9,  -999.0,9,  -999.0,9, -999.00,9, -999.00,9, -999.00,9, -999.00,9,-999.000,9,-999.000,9,-999.000,9,  -999.0,9,  -999.0,9,-999.0000,9,  -999.00,-999.0000
06AQ19960712,ARKXII,82,1,27,167879,2,19960820,0450,82.5217,132.9533,3857,  1000.5, -0.2808, 34.8891,2, 34.8904,2,  -999.0,9,   306.7,2,    7.22,2,   11.51,2, -999.00,9,    0.93,2,   3.513,2,   1.647,2,   4.752,2,  2158.0,2,  2291.4,2,   7.6755,2,    25.00, -0.3194
06AQ19960712,ARKXII,82,1,28,167880,2,19960820,0450,82.5217,132.9533,3857,  1000.6, -0.2834, 34.8877,2,-999.0000,9,  -999.0,9,  -999.0,9, -999.00,9, -999.00,9, -999.00,9, -999.00,9,-999.000,9,-999.000,9,-999.000,9,  -999.0,9,  -999.0,9,-999.0000,9,  -999.00,-999.0000
06AQ19960712,ARKXII,82,1,26,167878,2,19960820,0450,82.5217,132.9533,3857,  1200.1, -0.3949, 34.9062,2, 34.9049,2,  -999.0,9,   302.4,2,    8.39,2,   12.10,2, -999.00,9,    0.97,2,   1.942,2,   0.878,2,   3.321,2,  -999.0,9,  -999.0,9,-999.0000,9,  -999.00, -0.4429
06AQ19960712,ARKXII,82,1,25,167877,2,19960820,0450,82.5217,132.9533,3857,  1400.1, -0.5355, 34.9126,2, 34.9128,2,  -999.0,9,   301.1,2,    9.66,2,   12.49,2, -999.00,9,    1.00,2,   1.121,2,   0.455,2,   2.414,2,  2156.5,2,  2297.1,2,   7.6842,2,    25.00, -0.5934
06AQ19960712,ARKXII,82,1,24,167876,2,19960820,0450,82.5217,132.9533,3857,  1500.9, -0.6027, 34.9132,2,-999.0000,9,  -999.0,9,  -999.0,9, -999.00,9, -999.00,9, -999.00,9, -999.00,9,-999.000,9,-999.000,9,-999.000,9,  -999.0,9,  -999.0,9,-999.0000,9,  -999.00,-999.0000
06AQ19960712,ARKXII,82,1,23,167875,2,19960820,0450,82.5217,132.9533,3857,  1601.5, -0.6371, 34.9159,2, 34.9130,2,  -999.0,9,   300.1,2,    9.85,2,   12.68,2, -999.00,9,    1.00,2,   0.769,2,   0.303,2,   1.768,2,  -999.0,9,  -999.0,9,-999.0000,9,  -999.00, -0.7028
06AQ19960712,ARKXII,82,1,22,167874,2,19960820,0450,82.5217,132.9533,3857,  1800.0, -0.7020, 34.9169,2, 34.9159,2,  -999.0,9,   300.1,2,   10.34,2,   12.49,2, -999.00,9,    1.04,2,   0.488,2,   0.260,2,   1.503,2,  2153.3,2,  2295.5,2,   7.6842,2,    25.00, -0.7809
06AQ19960712,ARKXII,82,1,18,167870,2,19960820,0450,82.5217,132.9533,3857,  1999.3, -0.7435, 34.9175,2, 34.9183,2,  -999.0,9,   300.0,2,   10.54,2,   13.17,2, -999.00,9,    1.03,2,   0.376,2,   0.172,2,   1.323,2,  -999.0,9,  -999.0,9,-999.0000,9,  -999.00, -0.8339
06AQ19960712,ARKXII,82,1,19,167871,2,19960820,0450,82.5217,132.9533,3857,  1999.3, -0.7421, 34.9182,2,-999.0000,9,  -999.0,9,  -999.0,9, -999.00,9, -999.00,9, -999.00,9, -999.00,9,-999.000,9,-999.000,9,-999.000,9,  -999.0,9,  -999.0,9,-999.0000,9,  -999.00,-999.0000
06AQ19960712,ARKXII,82,1,20,167872,2,19960820,0450,82.5217,132.9533,3857,  1999.3, -0.7414, 34.9174,2,-999.0000,9,  -999.0,9,  -999.0,9, -999.00,9, -999.00,9, -999.00,9, -999.00,9,-999.000,9,-999.000,9,-999.000,9,  -999.0,9,  -999.0,9,-999.0000,9,  -999.00,-999.0000
06AQ19960712,ARKXII,82,1,21,167873,2,19960820,0450,82.5217,132.9533,3857,  1999.4, -0.7413, 34.9173,2,-999.0000,9,  -999.0,9,  -999.0,9, -999.00,9, -999.00,9, -999.00,9, -999.00,9,-999.000,9,-999.000,9,-999.000,9,  -999.0,9,  -999.0,9,-999.0000,9,  -999.00,-999.0000
06AQ19960712,ARKXII,82,1,17,167869,2,19960820,0450,82.5217,132.9533,3857,  2200.1, -0.7672, 34.9215,2, 34.9204,2,  -999.0,9,   299.9,2,   10.63,2,   13.07,2, -999.00,9,    1.02,2,   0.262,2,   0.123,2,   0.894,2,  2154.1,2,  2299.3,2,   7.6890,2,    25.00, -0.8709
06AQ19960712,ARKXII,82,1,16,167868,2,19960820,0450,82.5217,132.9533,3857,  2400.1, -0.7854, 34.9240,2, 34.9214,2,  -999.0,9,   300.1,2,   10.83,2,   13.27,2, -999.00,9,    1.01,2,   0.309,2,   0.096,2,   0.609,2,  -999.0,9,  -999.0,9,-999.0000,9,  -999.00, -0.9035
06AQ19960712,ARKXII,82,1,15,167867,2,19960820,0450,82.5217,132.9533,3857,  2500.3, -0.7915, 34.9248,2,-999.0000,9,  -999.0,9,  -999.0,9, -999.00,9, -999.00,9, -999.00,9, -999.00,9,-999.000,9,-999.000,9,-999.000,9,  -999.0,9,  -999.0,9,-999.0000,9,  -999.00,-999.0000
06AQ19960712,ARKXII,82,1,14,167866,2,19960820,0450,82.5217,132.9533,3857,  2601.9, -0.7926, 34.9260,2, 34.9259,2,  -999.0,9,   299.7,2,   10.73,2,   13.56,2, -999.00,9,    1.03,2,   0.160,2,   0.096,2,   0.622,2,  2152.0,2,  2300.0,2,   7.6928,2,    25.00, -0.9250
06AQ19960712,ARKXII,82,1,13,167865,2,19960820,0450,82.5217,132.9533,3857,  2799.7, -0.7916, 34.9299,2, 34.9297,2,  -999.0,9,   299.4,2,   11.12,2,   13.37,2, -999.00,9,    1.01,2,   0.134,2,   0.077,2,   0.444,2,  -999.0,9,  -999.0,9,-999.0000,9,  -999.00, -0.9391
06AQ19960712,ARKXII,82,1,11,167863,2,19960820,0450,82.5217,132.9533,3857,  2998.6, -0.7850, 34.9316,2, 34.9330,2,  -999.0,9,   299.0,2,   10.83,2,   13.46,2, -999.00,9,    1.00,2,   0.095,2,   0.057,2,   0.354,2,  2152.6,2,  2298.8,2,   7.6986,2,    25.00, -0.9480
06AQ19960712,ARKXII,82,1,12,167864,2,19960820,0450,82.5217,132.9533,3857,  2998.7, -0.7844, 34.9323,2,-999.0000,9,  -999.0,9,  -999.0,9, -999.00,9, -999.00,9, -999.00,9, -999.00,9,-999.000,9,-999.000,9,-999.000,9,  -999.0,9,  -999.0,9,-999.0000,9,  -999.00,-999.0000
06AQ19960712,ARKXII,82,1,10,167862,2,19960820,0450,82.5217,132.9533,3857,  3198.6, -0.7725, 34.9348,2, 34.9361,2,  -999.0,9,   298.5,2,   10.93,2,   13.56,2, -999.00,9,    1.02,2,   0.049,2,   0.022,2,   0.475,2,  -999.0,9,  -999.0,9,-999.0000,9,  -999.00, -0.9528
06AQ19960712,ARKXII,82,1,9,167861,2,19960820,0450,82.5217,132.9533,3857,  3397.0, -0.7543, 34.9367,2, 34.9375,2,  -999.0,9,   297.9,2,   11.02,2,   13.46,2, -999.00,9,    1.02,2,   0.152,2,   0.112,2,   0.477,2,  2152.6,2,  2300.8,2,   7.6996,2,    25.00, -0.9512
06AQ19960712,ARKXII,82,1,8,167860,2,19960820,0450,82.5217,132.9533,3857,  3598.5, -0.7343, 34.9386,2, 34.9373,2,  -999.0,9,   297.7,2,   11.02,2,   13.46,2, -999.00,9,    1.02,2,   0.094,2,   0.076,2,   0.530,2,  -999.0,9,  -999.0,9,-999.0000,9,  -999.00, -0.9506
06AQ19960712,ARKXII,82,1,7,167859,2,19960820,0450,82.5217,132.9533,3857,  3800.7, -0.7110, 34.9398,2, 34.9401,2,  -999.0,9,   297.3,2,   11.02,2,   13.17,2, -999.00,9,    1.00,2,   0.095,2,   0.111,2,   0.216,2,  -999.0,9,  -999.0,9,-999.0000,9,  -999.00, -0.9458
06AQ19960712,ARKXII,82,1,6,167858,2,19960820,0450,82.5217,132.9533,3857,  3818.8, -0.7094, 34.9399,2, 34.9395,2,  -999.0,9,   297.2,2,   11.02,2,   13.46,2, -999.00,9,    1.00,2,   0.208,2,   0.111,2,   0.483,2,  2148.1,2,  2301.5,2,   7.6986,2,    25.00, -0.9465
06AQ19960712,ARKXII,82,1,5,167857,2,19960820,0450,82.5217,132.9533,3857,  3867.6, -0.7046, 34.9397,2, 34.9405,2,  -999.0,9,   297.3,2,   11.22,2,   13.46,2, -999.00,9,    1.00,2,-999.000,9,   0.077,2,   0.366,2,  2148.8,2,  2301.3,2,   7.6986,2,    25.00, -0.9461
06AQ19960712,ARKXII,82,1,1,167853,2,19960820,0450,82.5217,132.9533,3857,  3919.8, -0.6989, 34.9395,2, 34.9417,2,  -999.0,9,   297.3,2,   11.02,2,   13.37,2, -999.00,9,    1.02,2,   0.100,2,   0.057,2,   0.483,2,  2146.8,2,  2302.1,2,   7.6986,2,    25.00, -0.9453
06AQ19960712,ARKXII,82,1,2,167854,2,19960820,0450,82.5217,132.9533,3857,  3919.9, -0.6989, 34.9393,2,-999.0000,9,  -999.0,9,  -999.0,9, -999.00,9, -999.00,9, -999.00,9, -999.00,9,-999.000,9,-999.000,9,-999.000,9,  -999.0,9,  -999.0,9,-999.0000,9,  -999.00,-999.0000
06AQ19960712,ARKXII,82,1,3,167855,2,19960820,0450,82.5217,132.9533,3857,  3919.9, -0.6989, 34.9393,2,-999.0000,9,  -999.0,9,  -999.0,9, -999.00,9, -999.00,9, -999.00,9, -999.00,9,-999.000,9,-999.000,9,-999.000,9,  -999.0,9,  -999.0,9,-999.0000,9,  -999.00,-999.0000
06AQ19960712,ARKXII,82,1,4,167856,2,19960820,0450,82.5217,132.9533,3857,  3919.9, -0.6989, 34.9393,2,-999.0000,9,  -999.0,9,  -999.0,9, -999.00,9, -999.00,9, -999.00,9, -999.00,9,-999.000,9,-999.000,9,-999.000,9,  -999.0,9,  -999.0,9,-999.0000,9,  -999.00,-999.0000