BOTTLE,20100322CCHDOSIODM
EXPOCODE,SECT_ID,STNNBR,CASTNO,SAMPNO,BTLNBR,BTLNBR_FLAG_W,DATE,TIME,LATITUDE,LONGITUDE,DEPTH,CTDPRS,CTDTMP,CTDSAL,CTDSAL_FLAG_W,SALNTY,SALNTY_FLAG_W,CTDOXY,CTDOXY_FLAG_W,OXYGEN,OXYGEN_FLAG_W,SILCAT,SILCAT_FLAG_W,NITRAT,NITRAT_FLAG_W,NITRIT,NITRIT_FLAG_W,PHSPHT,PHSPHT_FLAG_W,CFC-11,CFC-11_FLAG_W,CFC-12,CFC-12_FLAG_W,CCL4,CCL4_FLAG_W,TCARBN,TCARBN_FLAG_W,ALKALI,ALKALI_FLAG_W,PH_SWS,PH_SWS_FLAG_W,PH_TMP,THETA
,,,,,,,,,,,METERS,DBAR,ITS-90,PSS-78,,PSS-78,,UMOL/KG,,UMOL/KG,,UMOL/KG,,UMOL/KG,,UMOL/KG,,UMOL/KG,,PMOL/KG,,PMOL/KG,,PMOL/KG,,UMOL/KG,,UMOL/KG,,,,DEG C,DEG C
06AQ19960712,ARKXII,55,2,36,166923,2,19960809,1326,85.8600,121.4550,4413,    10.2, -1.5929, 33.6880,2, 33.7311,2,  -999.0,9,   371.6,2,    2.15,2,    3.80,2, -999.00,9,    0.44,2,   6.703,2,   3.195,2,   7.300,2,  2088.9,2,  2254.0,2,   7.7521,2,    25.00, -1.5932
06AQ19960712,ARKXII,55,2,35,166922,2,19960809,1326,85.8600,121.4550,4413,    20.3, -1.6964, 33.9350,2, 33.9310,2,  -999.0,9,  -999.0,9,    2.24,2,    4.10,2, -999.00,9,    0.46,2,-999.000,9,-999.000,9,-999.000,9,  -999.0,9,  -999.0,9,-999.0000,9,  -999.00, -1.6974
06AQ19960712,ARKXII,55,2,34,166921,2,19960809,1326,85.8600,121.4550,4413,    30.4, -1.7446, 33.9719,2, 33.9836,2,  -999.0,9,   373.4,2,    2.24,2,    4.20,2, -999.00,9,    0.45,2,   6.843,2,   3.181,2,   6.561,2,  2105.5,2,  2269.8,2,   7.7501,2,    25.00, -1.7456
06AQ19960712,ARKXII,55,2,33,166920,2,19960809,1326,85.8600,121.4550,4413,    39.9, -1.7518, 33.9742,2, 33.9879,2,  -999.0,9,   373.9,2,    2.34,2,    4.29,2, -999.00,9,    0.46,2,   6.546,2,   3.136,2,   6.594,2,  -999.0,9,  -999.0,9,-999.0000,9,  -999.00, -1.7528
06AQ19960712,ARKXII,55,2,32,166919,2,19960809,1326,85.8600,121.4550,4413,    50.2, -1.7790, 34.0048,2,-999.0000,9,  -999.0,9,  -999.0,9, -999.00,9, -999.00,9, -999.00,9, -999.00,9,-999.000,9,-999.000,9,-999.000,9,  -999.0,9,  -999.0,9,-999.0000,9,  -999.00,-999.0000
06AQ19960712,ARKXII,55,2,31,166918,2,19960809,1326,85.8600,121.4550,4413,    50.2, -1.7787, 34.0056,2,-999.0000,9,  -999.0,9,  -999.0,9, -999.00,9, -999.00,9, -999.00,9, -999.00,9,-999.000,9,-999.000,9,-999.000,9,  -999.0,9,  -999.0,9,-999.0000,9,  -999.00,-999.0000
06AQ19960712,ARKXII,55,2,30,166917,2,19960809,1326,85.8600,121.4550,4413,    50.2, -1.7787, 34.0050,2,-999.0000,9,  -999.0,9,  -999.0,9, -999.00,9, -999.00,9, -999.00,9, -999.00,9,-999.000,9,-999.000,9,-999.000,9,  -999.0,9,  -999.0,9,-999.0000,9,  -999.00,-999.0000
06AQ19960712,ARKXII,55,2,29,166916,2,19960809,1326,85.8600,121.4550,4413,    50.2, -1.7796, 34.0065,2,-999.0000,9,  -999.0,9,  -999.0,9, -999.00,9, -999.00,9, -999.00,9, -999.00,9,-999.000,9,-999.000,9,-999.000,9,  -999.0,9,  -999.0,9,-999.0000,9,  -999.00,-999.0000
06AQ19960712,ARKXII,55,2,28,166915,2,19960809,1326,85.8600,121.4550,4413,    50.2, -1.7854, 34.0173,2,-999.0000,9,  -999.0,9,  -999.0,9, -999.00,9, -999.00,9, -999.00,9, -999.00,9,-999.000,9,-999.000,9,-999.000,9,  -999.0,9,  -999.0,9,-999.0000,9,  -999.00,-999.0000
06AQ19960712,ARKXII,55,2,27,166914,2,19960809,1326,85.8600,121.4550,4413,    59.9, -1.8297, 34.0894,2, 34.0999,2,  -999.0,9,   364.3,2,    2.54,2,    4.98,2, -999.00,9,    0.52,2,   6.491,2,   3.043,2,   6.009,2,  2112.3,2,  2272.7,2,   7.7375,2,    25.00, -1.8311
06AQ19960712,ARKXII,55,2,26,166913,2,19960809,1326,85.8600,121.4550,4413,    80.7, -1.8103, 34.1725,2, 34.1968,2,  -999.0,9,   352.7,2,    2.73,2,    5.66,2, -999.00,9,    0.55,2,   6.478,2,   2.848,2,   5.142,2,  2117.1,2,  2275.0,2,   7.7259,2,    25.00, -1.8126
06AQ19960712,ARKXII,55,2,25,166912,2,19960809,1326,85.8600,121.4550,4413,   100.7, -1.6826, 34.2182,2, 34.2345,2,  -999.0,9,   346.4,2,    3.02,2,    6.34,2, -999.00,9,    0.58,2,   5.880,2,   2.746,2,   5.059,2,  2123.3,2,  2272.5,2,   7.7191,2,    25.00, -1.6851
06AQ19960712,ARKXII,55,2,24,166911,2,19960809,1326,85.8600,121.4550,4413,   124.9, -0.8599, 34.3467,2, 34.3643,2,  -999.0,9,   315.3,2,    4.20,2,    8.59,2, -999.00,9,    0.71,2,   4.712,2,   2.315,2,   4.316,2,  2129.0,2,  2270.2,2,   7.6911,2,    25.00, -0.8635
06AQ19960712,ARKXII,55,2,23,166910,2,19960809,1326,85.8600,121.4550,4413,   150.4,  0.1480, 34.5165,2, 34.5262,2,  -999.0,9,  -999.0,9,    4.88,2,    9.76,2, -999.00,9,    0.76,2,-999.000,9,-999.000,9,-999.000,9,  -999.0,9,  -999.0,9,-999.0000,9,  -999.00,  0.1424
06AQ19960712,ARKXII,55,2,22,166909,2,19960809,1326,85.8600,121.4550,4413,   200.7,  1.4822, 34.8077,2, 34.8167,2,  -999.0,9,   299.5,2,    5.27,2,   11.02,2, -999.00,9,    0.83,2,   4.276,2,   2.083,2,   4.654,2,  2141.1,2,  2289.3,2,   7.7122,2,    25.00,  1.4730
06AQ19960712,ARKXII,55,2,17,166904,2,19960809,1326,85.8600,121.4550,4413,   250.6,  1.6654, 34.8733,2,-999.0000,9,  -999.0,9,  -999.0,9, -999.00,9, -999.00,9, -999.00,9, -999.00,9,-999.000,9,-999.000,9,-999.000,9,  -999.0,9,  -999.0,9,-999.0000,9,  -999.00,-999.0000
06AQ19960712,ARKXII,55,2,21,166908,2,19960809,1326,85.8600,121.4550,4413,   250.6,  1.6664, 34.8724,2,-999.0000,9,  -999.0,9,  -999.0,9, -999.00,9, -999.00,9, -999.00,9, -999.00,9,-999.000,9,-999.000,9,-999.000,9,  -999.0,9,  -999.0,9,-999.0000,9,  -999.00,-999.0000
06AQ19960712,ARKXII,55,2,18,166905,2,19960809,1326,85.8600,121.4550,4413,   250.6,  1.6659, 34.8729,2,-999.0000,9,  -999.0,9,  -999.0,9, -999.00,9, -999.00,9, -999.00,9, -999.00,9,-999.000,9,-999.000,9,-999.000,9,  -999.0,9,  -999.0,9,-999.0000,9,  -999.00,-999.0000
06AQ19960712,ARKXII,55,2,20,166907,2,19960809,1326,85.8600,121.4550,4413,   250.6,  1.6660, 34.8728,2,-999.0000,9,  -999.0,9,  -999.0,9, -999.00,9, -999.00,9, -999.00,9, -999.00,9,-999.000,9,-999.000,9,-999.000,9,  -999.0,9,  -999.0,9,-999.0000,9,  -999.00,-999.0000
06AQ19960712,ARKXII,55,2,16,166903,2,19960809,1326,85.8600,121.4550,4413,   250.6,  1.6585, 34.8731,2,-999.0000,9,  -999.0,9,   302.2,2,    5.37,2,   11.32,2, -999.00,9,    0.84,2,-999.000,9,-999.000,9,-999.000,9,  -999.0,9,  -999.0,9,-999.0000,9,  -999.00,-999.0000
06AQ19960712,ARKXII,55,2,19,166906,2,19960809,1326,85.8600,121.4550,4413,   250.6,  1.6656, 34.8737,2,-999.0000,9,  -999.0,9,  -999.0,9, -999.00,9, -999.00,9, -999.00,9, -999.00,9,-999.000,9,-999.000,9,-999.000,9,  -999.0,9,  -999.0,9,-999.0000,9,  -999.00,-999.0000
06AQ19960712,ARKXII,55,2,15,166902,2,19960809,1326,85.8600,121.4550,4413,   300.7,  1.3355, 34.8587,2, 34.8689,2,  -999.0,9,   300.9,2,    5.66,2,   11.41,2, -999.00,9,    0.84,2,   3.953,2,   1.870,2,   4.800,2,  2143.9,2,  2291.2,2,   7.7093,2,    25.00,  1.3211
06AQ19960712,ARKXII,55,2,12,166899,2,19960809,1326,85.8600,121.4550,4413,   400.7,  1.1480, 34.8809,2,-999.0000,9,  -999.0,9,  -999.0,9, -999.00,9, -999.00,9, -999.00,9, -999.00,9,-999.000,9,-999.000,9,-999.000,9,  -999.0,9,  -999.0,9,-999.0000,9,  -999.00,-999.0000
06AQ19960712,ARKXII,55,2,11,166898,2,19960809,1326,85.8600,121.4550,4413,   400.7,  1.1479, 34.8813,2,-999.0000,9,  -999.0,9,  -999.0,9, -999.00,9, -999.00,9, -999.00,9, -999.00,9,-999.000,9,-999.000,9,-999.000,9,  -999.0,9,  -999.0,9,-999.0000,9,  -999.00,-999.0000
06AQ19960712,ARKXII,55,2,10,166897,2,19960809,1326,85.8600,121.4550,4413,   400.7,  1.1477, 34.8815,2,-999.0000,9,  -999.0,9,  -999.0,9, -999.00,9, -999.00,9, -999.00,9, -999.00,9,-999.000,9,-999.000,9,-999.000,9,  -999.0,9,  -999.0,9,-999.0000,9,  -999.00,-999.0000
06AQ19960712,ARKXII,55,2,13,166900,2,19960809,1326,85.8600,121.4550,4413,   400.7,  1.1484, 34.8807,2,-999.0000,9,  -999.0,9,  -999.0,9, -999.00,9, -999.00,9, -999.00,9, -999.00,9,-999.000,9,-999.000,9,-999.000,9,  -999.0,9,  -999.0,9,-999.0000,9,  -999.00,-999.0000
06AQ19960712,ARKXII,55,2,14,166901,2,19960809,1326,85.8600,121.4550,4413,   400.7,  1.1476, 34.8807,2,-999.0000,9,  -999.0,9,  -999.0,9, -999.00,9, -999.00,9, -999.00,9, -999.00,9,-999.000,9,-999.000,9,-999.000,9,  -999.0,9,  -999.0,9,-999.0000,9,  -999.00,-999.0000
06AQ19960712,ARKXII,55,2,9,166896,2,19960809,1326,85.8600,121.4550,4413,   400.7,  1.1383, 34.8807,2, 34.8921,2,  -999.0,9,   301.5,2,    5.76,2,   11.61,2, -999.00,9,    0.85,2,   3.640,2,   1.724,2,   4.761,2,  2142.6,2,  2294.3,2,   7.7083,2,    25.00,  1.1195
06AQ19960712,ARKXII,55,2,8,166895,2,19960809,1326,85.8600,121.4550,4413,   500.7,  0.8120, 34.8841,2,-999.0000,9,  -999.0,9,  -999.0,9,    5.85,2,   11.51,2, -999.00,9,    0.85,2,-999.000,9,-999.000,9,-999.000,9,  -999.0,9,  -999.0,9,-999.0000,9,  -999.00,-999.0000
06AQ19960712,ARKXII,55,2,7,166894,2,19960809,1326,85.8600,121.4550,4413,   600.8,  0.4940, 34.8783,2, 34.8897,2,  -999.0,9,   304.5,2,    6.05,2,   11.41,2, -999.00,9,    0.85,2,   3.832,2,   1.673,2,   4.987,2,  2148.4,2,  2293.3,2,   7.6996,2,    25.00,  0.4669
06AQ19960712,ARKXII,55,2,6,166893,2,19960809,1326,85.8600,121.4550,4413,   700.1,  0.1715, 34.8711,2, 34.8830,2,  -999.0,9,   303.4,2,    6.15,2,   11.41,2, -999.00,9,    0.85,2,   3.501,2,   1.672,2,   4.795,2,  -999.0,9,  -999.0,9,-999.0000,9,  -999.00,  0.1416
06AQ19960712,ARKXII,55,2,1,166888,2,19960809,1326,85.8600,121.4550,4413,   800.2, -0.0204, 34.8713,2,-999.0000,9,  -999.0,9,  -999.0,9, -999.00,9, -999.00,9, -999.00,9, -999.00,9,-999.000,9,-999.000,9,-999.000,9,  -999.0,9,  -999.0,9,-999.0000,9,  -999.00,-999.0000
06AQ19960712,ARKXII,55,2,2,166889,2,19960809,1326,85.8600,121.4550,4413,   800.3, -0.0205, 34.8713,2,-999.0000,9,  -999.0,9,  -999.0,9, -999.00,9, -999.00,9, -999.00,9, -999.00,9,-999.000,9,-999.000,9,-999.000,9,  -999.0,9,  -999.0,9,-999.0000,9,  -999.00,-999.0000
06AQ19960712,ARKXII,55,2,3,166890,2,19960809,1326,85.8600,121.4550,4413,   800.3, -0.0196, 34.8702,2,-999.0000,9,  -999.0,9,  -999.0,9, -999.00,9, -999.00,9, -999.00,9, -999.00,9,-999.000,9,-999.000,9,-999.000,9,  -999.0,9,  -999.0,9,-999.0000,9,  -999.00,-999.0000
06AQ19960712,ARKXII,55,2,4,166891,2,19960809,1326,85.8600,121.4550,4413,   800.3, -0.0201, 34.8708,2,-999.0000,9,  -999.0,9,  -999.0,9, -999.00,9, -999.00,9, -999.00,9, -999.00,9,-999.000,9,-999.000,9,-999.000,9,  -999.0,9,  -999.0,9,-999.0000,9,  -999.00,-999.0000
06AQ19960712,ARKXII,55,2,5,166892,2,19960809,1326,85.8600,121.4550,4413,   800.3, -0.0208, 34.8716,2,-999.0000,9,  -999.0,9,  -999.0,9, -999.00,9, -999.00,9, -999.00,9, -999.00,9,-999.000,9,-999.000,9,-999.000,9,  -999.0,9,  -999.0,9,-999.0000,9,  -999.00,-999.0000
06AQ19960712,ARKXII,56,1,20,166943,2,19960809,2125,86.1600,125.8133,4384,     2.2, -1.4192, 33.0400,2,-999.0000,9,  -999.0,9,  -999.0,9, -999.00,9, -999.00,9, -999.00,9, -999.00,9,-999.000,9,-999.000,9,-999.000,9,  -999.0,9,  -999.0,9,-999.0000,9,  -999.00,-999.0000
06AQ19960712,ARKXII,56,1,19,166942,2,19960809,2125,86.1600,125.8133,4384,    10.2, -1.4063, 33.0740,2,-999.0000,9,  -999.0,9,  -999.0,9, -999.00,9, -999.00,9, -999.00,9, -999.00,9,-999.000,9,-999.000,9,-999.000,9,  -999.0,9,  -999.0,9,-999.0000,9,  -999.00,-999.0000
06AQ19960712,ARKXII,56,1,18,166941,2,19960809,2125,86.1600,125.8133,4384,    10.2, -1.4434, 33.2005,2, 33.3604,2,  -999.0,9,   373.5,2,    2.34,2,    3.12,2, -999.00,9,    0.35,2,-999.000,9,-999.000,9,-999.000,9,  2100.8,2,  2247.7,2,   7.7474,2,    25.00, -1.4442
06AQ19960712,ARKXII,56,1,17,166940,2,19960809,2125,86.1600,125.8133,4384,    20.2, -1.6362, 33.8919,2,-999.0000,9,  -999.0,9,  -999.0,9, -999.00,9, -999.00,9, -999.00,9, -999.00,9,-999.000,9,-999.000,9,-999.000,9,  -999.0,9,  -999.0,9,-999.0000,9,  -999.00,-999.0000
06AQ19960712,ARKXII,56,1,16,166939,2,19960809,2125,86.1600,125.8133,4384,    20.2, -1.6632, 33.9166,2, 33.9740,2,  -999.0,9,   373.5,2,    2.34,2,    4.20,2, -999.00,9,    0.40,2,-999.000,9,-999.000,9,-999.000,9,  2118.4,2,  2268.6,2,   7.7540,2,    25.00, -1.6644
06AQ19960712,ARKXII,56,1,15,166938,2,19960809,2125,86.1600,125.8133,4384,    30.2, -1.7762, 34.0154,2,-999.0000,9,  -999.0,9,  -999.0,9, -999.00,9, -999.00,9, -999.00,9, -999.00,9,-999.000,9,-999.000,9,-999.000,9,  -999.0,9,  -999.0,9,-999.0000,9,  -999.00,-999.0000
06AQ19960712,ARKXII,56,1,14,166937,2,19960809,2125,86.1600,125.8133,4384,    30.3, -1.7758, 34.0140,2, 34.0315,2,  -999.0,9,   370.5,2,    2.44,2,    4.59,2, -999.00,9,    0.42,2,-999.000,9,-999.000,9,-999.000,9,  2125.5,2,  2276.7,2,   7.7472,2,    25.00, -1.7766
06AQ19960712,ARKXII,56,1,13,166936,2,19960809,2125,86.1600,125.8133,4384,    40.4, -1.8002, 34.0993,2,-999.0000,9,  -999.0,9,  -999.0,9, -999.00,9, -999.00,9, -999.00,9, -999.00,9,-999.000,9,-999.000,9,-999.000,9,  -999.0,9,  -999.0,9,-999.0000,9,  -999.00,-999.0000
06AQ19960712,ARKXII,56,1,12,166935,2,19960809,2125,86.1600,125.8133,4384,    40.4, -1.8013, 34.1008,2, 34.1125,2,  -999.0,9,   370.8,2,    2.44,2,    4.78,2, -999.00,9,    0.43,2,-999.000,9,-999.000,9,-999.000,9,  2128.2,2,  2276.8,2,   7.7520,2,    25.00, -1.8028
06AQ19960712,ARKXII,56,1,11,166934,2,19960809,2125,86.1600,125.8133,4384,    50.3, -1.8390, 34.1365,2,-999.0000,9,  -999.0,9,  -999.0,9, -999.00,9, -999.00,9, -999.00,9, -999.00,9,-999.000,9,-999.000,9,-999.000,9,  -999.0,9,  -999.0,9,-999.0000,9,  -999.00,-999.0000
06AQ19960712,ARKXII,56,1,10,166933,2,19960809,2125,86.1600,125.8133,4384,    60.0, -1.8314, 34.1597,2, 34.1737,2,  -999.0,9,   367.2,2,    2.54,2,    5.17,2, -999.00,9,    0.44,2,-999.000,9,-999.000,9,-999.000,9,  2132.0,2,  2275.9,2,   7.7471,2,    25.00, -1.8331
06AQ19960712,ARKXII,56,1,9,166932,2,19960809,2125,86.1600,125.8133,4384,    80.2, -1.7926, 34.1852,2,-999.0000,9,  -999.0,9,  -999.0,9, -999.00,9, -999.00,9, -999.00,9, -999.00,9,-999.000,9,-999.000,9,-999.000,9,  -999.0,9,  -999.0,9,-999.0000,9,  -999.00,-999.0000
06AQ19960712,ARKXII,56,1,8,166931,2,19960809,2125,86.1600,125.8133,4384,    80.2, -1.7940, 34.1858,2, 34.1970,2,  -999.0,9,   356.4,2,    2.83,2,    5.66,2, -999.00,9,    0.47,2,-999.000,9,-999.000,9,-999.000,9,  2138.7,2,  2277.7,2,   7.7326,2,    25.00, -1.7956
06AQ19960712,ARKXII,56,1,7,166930,2,19960809,2125,86.1600,125.8133,4384,   100.3, -1.6182, 34.2173,2,-999.0000,9,  -999.0,9,  -999.0,9, -999.00,9, -999.00,9, -999.00,9, -999.00,9,-999.000,9,-999.000,9,-999.000,9,  -999.0,9,  -999.0,9,-999.0000,9,  -999.00,-999.0000
06AQ19960712,ARKXII,56,1,6,166929,2,19960809,2125,86.1600,125.8133,4384,   100.3, -1.6122, 34.2190,2, 34.2502,2,  -999.0,9,   338.0,2,    3.32,2,    6.93,2, -999.00,9,    0.54,2,-999.000,9,-999.000,9,-999.000,9,  2140.7,2,  2274.7,2,   7.7181,2,    25.00, -1.6151
06AQ19960712,ARKXII,56,1,4,166927,2,19960809,2125,86.1600,125.8133,4384,   149.5,  0.0879, 34.5260,2, 34.5364,2,  -999.0,9,   303.4,2,    4.88,2,    9.85,2, -999.00,9,    0.69,2,-999.000,9,-999.000,9,-999.000,9,  2155.4,2,  2278.9,2,   7.6910,2,    25.00,  0.0824
06AQ19960712,ARKXII,56,1,5,166928,2,19960809,2125,86.1600,125.8133,4384,   149.5,  0.0306, 34.5080,2,-999.0000,9,  -999.0,9,  -999.0,9, -999.00,9, -999.00,9, -999.00,9, -999.00,9,-999.000,9,-999.000,9,-999.000,9,  -999.0,9,  -999.0,9,-999.0000,9,  -999.00,-999.0000
06AQ19960712,ARKXII,56,1,3,166926,2,19960809,2125,86.1600,125.8133,4384,   199.9,  1.4556, 34.8063,2,-999.0000,9,  -999.0,9,  -999.0,9, -999.00,9, -999.00,9, -999.00,9, -999.00,9,-999.000,9,-999.000,9,-999.000,9,  -999.0,9,  -999.0,9,-999.0000,9,  -999.00,-999.0000
06AQ19960712,ARKXII,56,1,2,166925,2,19960809,2125,86.1600,125.8133,4384,   200.1,  1.4533, 34.8067,2, 34.8148,2,  -999.0,9,   299.5,2,    5.37,2,   11.02,2, -999.00,9,    0.78,2,-999.000,9,-999.000,9,-999.000,9,  2151.0,2,  2289.9,2,   7.7122,2,    25.00,  1.4441
06AQ19960712,ARKXII,56,1,1,166924,2,19960809,2125,86.1600,125.8133,4384,   250.8,  1.5718, 34.8706,2,-999.0000,9,  -999.0,9,  -999.0,9, -999.00,9, -999.00,9, -999.00,9, -999.00,9,-999.000,9,-999.000,9,-999.000,9,  -999.0,9,  -999.0,9,-999.0000,9,  -999.00,-999.0000