BOTTLE,20100322CCHDOSIODM
EXPOCODE,SECT_ID,STNNBR,CASTNO,SAMPNO,BTLNBR,BTLNBR_FLAG_W,DATE,TIME,LATITUDE,LONGITUDE,DEPTH,CTDPRS,CTDTMP,CTDSAL,CTDSAL_FLAG_W,SALNTY,SALNTY_FLAG_W,CTDOXY,CTDOXY_FLAG_W,OXYGEN,OXYGEN_FLAG_W,SILCAT,SILCAT_FLAG_W,NITRAT,NITRAT_FLAG_W,NITRIT,NITRIT_FLAG_W,PHSPHT,PHSPHT_FLAG_W,CFC-11,CFC-11_FLAG_W,CFC-12,CFC-12_FLAG_W,CCL4,CCL4_FLAG_W,TCARBN,TCARBN_FLAG_W,ALKALI,ALKALI_FLAG_W,PH_SWS,PH_SWS_FLAG_W,PH_TMP,THETA
,,,,,,,,,,,METERS,DBAR,ITS-90,PSS-78,,PSS-78,,UMOL/KG,,UMOL/KG,,UMOL/KG,,UMOL/KG,,UMOL/KG,,UMOL/KG,,PMOL/KG,,PMOL/KG,,PMOL/KG,,UMOL/KG,,UMOL/KG,,,,DEG C,DEG C
06AQ19960712,ARKXII,90,1,36,168205,2,19960826,0612,80.9233,144.2717,1846,     2.7, -1.7203, 32.6737,2,-999.0000,9,  -999.0,9,  -999.0,9, -999.00,9, -999.00,9, -999.00,9, -999.00,9,-999.000,9,-999.000,9,-999.000,9,  -999.0,9,  -999.0,9,-999.0000,9,  -999.00,-999.0000
06AQ19960712,ARKXII,90,1,35,168204,2,19960826,0612,80.9233,144.2717,1846,     9.9, -1.7310, 32.6632,2, 32.6711,2,  -999.0,9,   372.8,2,    2.44,2,    2.73,2, -999.00,9,    0.40,2,   7.142,2,   3.397,2,   7.701,2,  2118.1,2,  2235.5,2,   7.6887,2,    25.00, -1.7272
06AQ19960712,ARKXII,90,1,34,168203,2,19960826,0612,80.9233,144.2717,1846,    19.1, -1.7293, 32.6879,2, 32.6861,2,  -999.0,9,   372.3,2,    2.54,2,    2.83,2, -999.00,9,    0.41,2,   7.069,2,   3.477,2,   7.572,2,  -999.0,9,  -999.0,9,-999.0000,9,  -999.00, -1.7263
06AQ19960712,ARKXII,90,1,33,168202,2,19960826,0612,80.9233,144.2717,1846,    29.8, -1.7292, 32.7333,2, 32.7308,2,  -999.0,9,   369.9,2,    2.73,2,    3.02,2, -999.00,9,    0.43,2,   7.118,2,   3.318,2,   7.495,2,  2110.3,2,  2236.3,2,   7.6868,2,    25.00, -1.7265
06AQ19960712,ARKXII,90,1,32,168201,2,19960826,0612,80.9233,144.2717,1846,    39.1, -1.7430, 32.8485,2, 33.0490,2,  -999.0,9,   352.0,2,    3.41,2,    4.39,2, -999.00,9,    0.49,2,   7.092,2,   3.476,2,   7.174,2,  -999.0,9,  -999.0,9,-999.0000,9,  -999.00, -1.7387
06AQ19960712,ARKXII,90,1,31,168200,2,19960826,0612,80.9233,144.2717,1846,    49.7, -1.6849, 33.5423,2,-999.0000,9,  -999.0,9,  -999.0,9, -999.00,9, -999.00,9, -999.00,9, -999.00,9,-999.000,9,-999.000,9,-999.000,9,  -999.0,9,  -999.0,9,-999.0000,9,  -999.00,-999.0000
06AQ19960712,ARKXII,90,1,30,168199,2,19960826,0612,80.9233,144.2717,1846,    59.7, -1.6500, 33.7920,2, 33.8809,2,  -999.0,9,   327.8,2,    4.59,2,    7.41,2, -999.00,9,    0.62,2,   6.539,2,   3.090,2,   5.084,2,  2129.1,2,  2253.8,2,   7.6749,2,    25.00, -1.6482
06AQ19960712,ARKXII,90,1,29,168198,2,19960826,0612,80.9233,144.2717,1846,    79.6, -1.5093, 34.0281,2,-999.0000,9,  -999.0,9,  -999.0,9, -999.00,9, -999.00,9, -999.00,9, -999.00,9,-999.000,9,-999.000,9,-999.000,9,  -999.0,9,  -999.0,9,-999.0000,9,  -999.00,-999.0000
06AQ19960712,ARKXII,90,1,28,168197,2,19960826,0612,80.9233,144.2717,1846,    79.6, -1.5080, 34.0368,2, 34.0559,2,  -999.0,9,   319.8,2,    4.98,2,    8.10,2, -999.00,9,    0.66,2,   6.391,2,   3.001,2,   5.442,2,  2137.7,2,  2260.3,2,   7.6633,2,    25.00, -1.5077
06AQ19960712,ARKXII,90,1,26,168195,2,19960826,0612,80.9233,144.2717,1846,    98.9, -1.2302, 34.2428,2, 34.2356,2,  -999.0,9,   320.4,2,    4.59,2,    8.88,2, -999.00,9,    0.71,2,   6.162,2,   2.820,2,   5.077,2,  2135.3,2,  2261.7,2,   7.6882,2,    25.00, -1.2415
06AQ19960712,ARKXII,90,1,27,168196,2,19960826,0612,80.9233,144.2717,1846,    98.9, -1.2737, 34.2297,2,-999.0000,9,  -999.0,9,  -999.0,9, -999.00,9, -999.00,9, -999.00,9, -999.00,9,-999.000,9,-999.000,9,-999.000,9,  -999.0,9,  -999.0,9,-999.0000,9,  -999.00,-999.0000
06AQ19960712,ARKXII,90,1,24,168193,2,19960826,0612,80.9233,144.2717,1846,   149.4,  0.5388, 34.5950,2, 34.5939,2,  -999.0,9,   307.1,2,    5.17,2,   10.73,2, -999.00,9,    0.79,2,   5.734,2,   2.504,2,   5.117,2,  2136.6,2,  2277.6,2,   7.6968,2,    25.00,  0.5119
06AQ19960712,ARKXII,90,1,25,168194,2,19960826,0612,80.9233,144.2717,1846,   149.4,  0.4504, 34.5873,2,-999.0000,9,  -999.0,9,  -999.0,9, -999.00,9, -999.00,9, -999.00,9, -999.00,9,-999.000,9,-999.000,9,-999.000,9,  -999.0,9,  -999.0,9,-999.0000,9,  -999.00,-999.0000
06AQ19960712,ARKXII,90,1,22,168191,2,19960826,0612,80.9233,144.2717,1846,   199.2,  1.4297, 34.8222,2, 34.8217,2,  -999.0,9,   303.0,2,    5.46,2,   11.90,2, -999.00,9,    0.85,2,   5.030,2,   2.324,2,   5.384,2,  -999.0,9,  -999.0,9,-999.0000,9,  -999.00,  1.4241
06AQ19960712,ARKXII,90,1,23,168192,2,19960826,0612,80.9233,144.2717,1846,   199.2,  1.4301, 34.8216,2,-999.0000,9,  -999.0,9,  -999.0,9, -999.00,9, -999.00,9, -999.00,9, -999.00,9,-999.000,9,-999.000,9,-999.000,9,  -999.0,9,  -999.0,9,-999.0000,9,  -999.00,-999.0000
06AQ19960712,ARKXII,90,1,20,168189,2,19960826,0612,80.9233,144.2717,1846,   249.7,  1.5868, 34.8631,2, 34.8684,2,  -999.0,9,   304.6,2,    5.66,2,   12.00,2, -999.00,9,    0.86,2,   5.133,2,   2.318,2,   5.438,2,  2141.2,2,  2287.2,2,   7.7122,2,    25.00,  1.5782
06AQ19960712,ARKXII,90,1,21,168190,2,19960826,0612,80.9233,144.2717,1846,   249.7,  1.5897, 34.8638,2,-999.0000,9,  -999.0,9,  -999.0,9, -999.00,9, -999.00,9, -999.00,9, -999.00,9,-999.000,9,-999.000,9,-999.000,9,  -999.0,9,  -999.0,9,-999.0000,9,  -999.00,-999.0000
06AQ19960712,ARKXII,90,1,18,168187,2,19960826,0612,80.9233,144.2717,1846,   299.8,  1.4034, 34.8730,2, 34.8726,2,  -999.0,9,   305.4,2,    5.66,2,   12.00,2, -999.00,9,    0.87,2,   4.863,2,   2.271,2,   5.498,2,  -999.0,9,  -999.0,9,-999.0000,9,  -999.00,  1.3990
06AQ19960712,ARKXII,90,1,19,168188,2,19960826,0612,80.9233,144.2717,1846,   299.8,  1.4121, 34.8728,2,-999.0000,9,  -999.0,9,  -999.0,9, -999.00,9, -999.00,9, -999.00,9, -999.00,9,-999.000,9,-999.000,9,-999.000,9,  -999.0,9,  -999.0,9,-999.0000,9,  -999.00,-999.0000
06AQ19960712,ARKXII,90,1,17,168186,2,19960826,0612,80.9233,144.2717,1846,   399.5,  0.9793, 34.8763,2, 34.8749,2,  -999.0,9,   305.4,2,    5.85,2,   12.10,2, -999.00,9,    0.88,2,   4.730,2,   2.191,2,   5.592,2,  -999.0,9,  -999.0,9,-999.0000,9,  -999.00,  0.9670
06AQ19960712,ARKXII,90,1,15,168184,2,19960826,0612,80.9233,144.2717,1846,   499.6,  0.5857, 34.8682,2, 34.8655,2,  -999.0,9,   307.0,2,    5.95,2,   12.00,2, -999.00,9,    0.86,2,   4.637,2,   2.121,2,   5.413,2,  2149.5,2,  2290.3,2,   7.6957,2,    25.00,  0.5695
06AQ19960712,ARKXII,90,1,16,168185,2,19960826,0612,80.9233,144.2717,1846,   499.6,  0.5975, 34.8664,2,-999.0000,9,  -999.0,9,  -999.0,9, -999.00,9, -999.00,9, -999.00,9, -999.00,9,-999.000,9,-999.000,9,-999.000,9,  -999.0,9,  -999.0,9,-999.0000,9,  -999.00,-999.0000
06AQ19960712,ARKXII,90,1,14,168183,2,19960826,0612,80.9233,144.2717,1846,   599.6,  0.2950, 34.8657,2, 34.8643,2,  -999.0,9,   307.3,2,    6.05,2,   12.10,2, -999.00,9,    0.89,2,   4.636,2,   2.232,2,   5.425,2,  -999.0,9,  -999.0,9,-999.0000,9,  -999.00,  0.2789
06AQ19960712,ARKXII,90,1,13,168182,2,19960826,0612,80.9233,144.2717,1846,   699.6,  0.1004, 34.8659,2, 34.8655,2,  -999.0,9,   308.3,2,    6.24,2,   12.10,2, -999.00,9,    0.90,2,   4.677,2,   2.230,2,   5.658,2,  2155.3,2,  2289.7,2,   7.6861,2,    25.00,  0.0751
06AQ19960712,ARKXII,90,1,12,168181,2,19960826,0612,80.9233,144.2717,1846,   749.4,  0.0261, 34.8684,2,-999.0000,9,  -999.0,9,  -999.0,9, -999.00,9, -999.00,9, -999.00,9, -999.00,9,-999.000,9,-999.000,9,-999.000,9,  -999.0,9,  -999.0,9,-999.0000,9,  -999.00,-999.0000
06AQ19960712,ARKXII,90,1,11,168180,2,19960826,0612,80.9233,144.2717,1846,   799.2, -0.0393, 34.8708,2, 34.8708,2,  -999.0,9,   308.3,2,    6.44,2,   12.20,2, -999.00,9,    0.90,2,   4.512,2,   2.019,2,   5.390,2,  -999.0,9,  -999.0,9,-999.0000,9,  -999.00, -0.0680
06AQ19960712,ARKXII,90,1,9,168178,2,19960826,0612,80.9233,144.2717,1846,   999.4, -0.2307, 34.8834,2,-999.0000,9,  -999.0,9,  -999.0,9, -999.00,9, -999.00,9, -999.00,9, -999.00,9,-999.000,9,-999.000,9,-999.000,9,  -999.0,9,  -999.0,9,-999.0000,9,  -999.00,-999.0000
06AQ19960712,ARKXII,90,1,10,168179,2,19960826,0612,80.9233,144.2717,1846,   999.4, -0.2289, 34.8819,2, 34.8830,2,  -999.0,9,   307.5,2,    7.02,2,   12.49,2, -999.00,9,    0.93,2,   3.881,2,   1.865,2,   5.086,2,  2158.3,2,  2289.7,2,   7.6794,2,    25.00, -0.2678
06AQ19960712,ARKXII,90,1,8,168177,2,19960826,0612,80.9233,144.2717,1846,  1199.9, -0.3322, 34.9021,2, 34.9027,2,  -999.0,9,   304.0,2,    8.00,2,   13.07,2, -999.00,9,    0.96,2,   2.351,2,   1.100,2,   3.649,2,  -999.0,9,  -999.0,9,-999.0000,9,  -999.00, -0.3815
06AQ19960712,ARKXII,90,1,6,168175,2,19960826,0612,80.9233,144.2717,1846,  1528.7, -0.4879, 34.9247,2,-999.0000,9,  -999.0,9,  -999.0,9, -999.00,9, -999.00,9, -999.00,9, -999.00,9,-999.000,9,-999.000,9,-999.000,9,  -999.0,9,  -999.0,9,-999.0000,9,  -999.00,-999.0000
06AQ19960712,ARKXII,90,1,7,168176,2,19960826,0612,80.9233,144.2717,1846,  1528.7, -0.4804, 34.9239,2, 34.9250,2,  -999.0,9,   297.3,2,   10.54,2,   14.05,2, -999.00,9,    1.02,2,   0.860,2,   0.422,2,   1.760,2,  2152.1,2,  2290.8,2,   7.6928,2,    25.00, -0.5455
06AQ19960712,ARKXII,90,1,5,168174,2,19960826,0612,80.9233,144.2717,1846,  1599.8, -0.4508, 34.9351,2, 34.9357,2,  -999.0,9,   293.7,2,   11.12,2,   14.15,2, -999.00,9,    1.01,2,   0.394,2,   0.197,2,   0.812,2,  -999.0,9,  -999.0,9,-999.0000,9,  -999.00, -0.5212
06AQ19960712,ARKXII,90,1,4,168173,2,19960826,0612,80.9233,144.2717,1846,  1699.7, -0.4374, 34.9428,2, 34.9408,2,  -999.0,9,   292.7,2,   11.80,2,   14.44,2, -999.00,9,    1.05,2,   0.310,2,   0.147,2,-999.000,9,  2151.1,2,  2292.3,2,   7.7044,2,    25.00, -0.5144
06AQ19960712,ARKXII,90,1,3,168172,2,19960826,0612,80.9233,144.2717,1846,  1749.8, -0.4265, 34.9459,2, 34.9449,2,  -999.0,9,   290.5,2,   12.10,2,   14.54,2, -999.00,9,    1.05,2,   0.146,2,   0.078,2,   0.202,2,  2153.0,2,  2290.6,2,   7.7015,2,    25.00, -0.5067
06AQ19960712,ARKXII,90,1,1,168170,2,19960826,0612,80.9233,144.2717,1846,  1798.7, -0.4183, 34.9464,2, 34.9469,2,  -999.0,9,   287.6,2,   12.59,2,   14.54,2, -999.00,9,    1.05,2,   0.138,2,   0.060,2,   0.200,2,  2156.3,2,  2291.6,2,   7.7034,2,    25.00, -0.5019
06AQ19960712,ARKXII,90,1,2,168171,2,19960826,0612,80.9233,144.2717,1846,  1798.8, -0.4181, 34.9459,2,-999.0000,9,  -999.0,9,  -999.0,9, -999.00,9, -999.00,9, -999.00,9, -999.00,9,-999.000,9,-999.000,9,-999.000,9,  -999.0,9,  -999.0,9,-999.0000,9,  -999.00,-999.0000
06AQ19960712,ARKXII,91,1,36,168241,2,19960827,1134,80.5183,148.5967,1987,    10.0, -1.7575, 32.8341,2,-999.0000,9,  -999.0,9,  -999.0,9, -999.00,9, -999.00,9, -999.00,9, -999.00,9,-999.000,9,-999.000,9,-999.000,9,  -999.0,9,  -999.0,9,-999.0000,9,  -999.00,-999.0000
06AQ19960712,ARKXII,91,1,35,168240,2,19960827,1134,80.5183,148.5967,1987,    10.0, -1.7570, 32.8340,2,-999.0000,9,  -999.0,9,  -999.0,9, -999.00,9, -999.00,9, -999.00,9, -999.00,9,-999.000,9,-999.000,9,-999.000,9,  -999.0,9,  -999.0,9,-999.0000,9,  -999.00,-999.0000
06AQ19960712,ARKXII,91,1,34,168239,2,19960827,1134,80.5183,148.5967,1987,    10.0, -1.7555, 32.8351,2, 32.8362,2,  -999.0,9,   366.6,2,    2.34,2,    2.83,2, -999.00,9,    0.42,2,   7.309,2,   3.485,2,   8.047,2,  2114.0,2,  2237.0,2,   7.6848,2,    25.00, -1.7532
06AQ19960712,ARKXII,91,1,33,168238,2,19960827,1134,80.5183,148.5967,1987,    19.8, -1.7564, 32.8350,2, 32.8343,2,  -999.0,9,   366.6,2,    2.34,2,    2.83,2, -999.00,9,    0.44,2,   7.087,2,   3.340,2,   8.023,2,  2110.8,2,  2237.4,2,   7.6867,2,    25.00, -1.7533
06AQ19960712,ARKXII,91,1,32,168237,2,19960827,1134,80.5183,148.5967,1987,    29.5, -1.7547, 32.8475,2, 32.8565,2,  -999.0,9,   365.4,2,    2.44,2,    3.02,2, -999.00,9,    0.45,2,   7.044,2,   3.546,2,   7.841,2,  -999.0,9,  -999.0,9,-999.0000,9,  -999.00, -1.7515
06AQ19960712,ARKXII,91,1,31,168236,2,19960827,1134,80.5183,148.5967,1987,    49.4, -1.7670, 33.4908,2, 33.5711,2,  -999.0,9,   326.2,2,    4.88,2,    6.24,2, -999.00,9,    0.65,2,   6.818,2,   3.200,2,   6.652,2,  2147.2,2,  2254.0,2,   7.6385,2,    25.00, -1.7649
06AQ19960712,ARKXII,91,1,30,168235,2,19960827,1134,80.5183,148.5967,1987,    79.7, -1.4733, 33.9548,2, 34.0442,2,  -999.0,9,   314.6,2,    5.07,2,    7.71,2, -999.00,9,    0.73,2,   6.544,2,   3.184,2,   5.925,2,  2149.7,2,  2258.5,2,   7.6470,2,    25.00, -1.4818
06AQ19960712,ARKXII,91,1,29,168234,2,19960827,1134,80.5183,148.5967,1987,    99.7, -1.2991, 34.2342,2, 34.2468,2,  -999.0,9,   312.3,2,    5.07,2,    8.49,2, -999.00,9,    0.75,2,   6.356,2,   3.128,2,   5.801,2,  2147.8,2,  2265.9,2,   7.6575,2,    25.00, -1.3064
06AQ19960712,ARKXII,91,1,28,168233,2,19960827,1134,80.5183,148.5967,1987,   149.5, -0.1259, 34.5456,2, 34.5565,2,  -999.0,9,   308.8,2,    5.07,2,    9.95,2, -999.00,9,    0.82,2,   5.738,2,   2.874,2,   5.709,2,  2148.5,2,  2273.5,2,   7.6737,2,    25.00, -0.1383
06AQ19960712,ARKXII,91,1,27,168232,2,19960827,1134,80.5183,148.5967,1987,   199.6,  0.9109, 34.7571,2, 34.7560,2,  -999.0,9,   304.1,2,    5.27,2,   11.22,2, -999.00,9,    0.89,2,   5.314,2,   2.496,2,   5.689,2,  -999.0,9,  -999.0,9,-999.0000,9,  -999.00,  0.9050
06AQ19960712,ARKXII,91,1,19,168224,2,19960827,1134,80.5183,148.5967,1987,   269.6,  1.4378, 34.8514,2, 34.8509,2,  -999.0,9,   303.7,2,    5.66,2,   11.71,2, -999.00,9,    0.91,2,   5.165,2,   2.539,2,   5.725,2,  2143.6,2,  2286.9,2,   7.7025,2,    25.00,  1.4325
06AQ19960712,ARKXII,91,1,20,168225,2,19960827,1134,80.5183,148.5967,1987,   269.6,  1.4432, 34.8513,2,-999.0000,9,  -999.0,9,  -999.0,9, -999.00,9, -999.00,9, -999.00,9, -999.00,9,-999.000,9,-999.000,9,-999.000,9,  -999.0,9,  -999.0,9,-999.0000,9,  -999.00,-999.0000
06AQ19960712,ARKXII,91,1,21,168226,2,19960827,1134,80.5183,148.5967,1987,   269.6,  1.4438, 34.8515,2,-999.0000,9,  -999.0,9,  -999.0,9, -999.00,9, -999.00,9, -999.00,9, -999.00,9,-999.000,9,-999.000,9,-999.000,9,  -999.0,9,  -999.0,9,-999.0000,9,  -999.00,-999.0000
06AQ19960712,ARKXII,91,1,22,168227,2,19960827,1134,80.5183,148.5967,1987,   269.7,  1.4521, 34.8527,2,-999.0000,9,  -999.0,9,  -999.0,9, -999.00,9, -999.00,9, -999.00,9, -999.00,9,-999.000,9,-999.000,9,-999.000,9,  -999.0,9,  -999.0,9,-999.0000,9,  -999.00,-999.0000
06AQ19960712,ARKXII,91,1,23,168228,2,19960827,1134,80.5183,148.5967,1987,   269.7,  1.4562, 34.8520,2,-999.0000,9,  -999.0,9,  -999.0,9, -999.00,9, -999.00,9, -999.00,9, -999.00,9,-999.000,9,-999.000,9,-999.000,9,  -999.0,9,  -999.0,9,-999.0000,9,  -999.00,-999.0000
06AQ19960712,ARKXII,91,1,25,168230,2,19960827,1134,80.5183,148.5967,1987,   269.7,  1.4562, 34.8526,2,-999.0000,9,  -999.0,9,  -999.0,9, -999.00,9, -999.00,9, -999.00,9, -999.00,9,-999.000,9,-999.000,9,-999.000,9,  -999.0,9,  -999.0,9,-999.0000,9,  -999.00,-999.0000
06AQ19960712,ARKXII,91,1,24,168229,2,19960827,1134,80.5183,148.5967,1987,   269.7,  1.4548, 34.8526,2,-999.0000,9,  -999.0,9,  -999.0,9, -999.00,9, -999.00,9, -999.00,9, -999.00,9,-999.000,9,-999.000,9,-999.000,9,  -999.0,9,  -999.0,9,-999.0000,9,  -999.00,-999.0000
06AQ19960712,ARKXII,91,1,26,168231,2,19960827,1134,80.5183,148.5967,1987,   269.8,  1.4592, 34.8526,2,-999.0000,9,  -999.0,9,  -999.0,9, -999.00,9, -999.00,9, -999.00,9, -999.00,9,-999.000,9,-999.000,9,-999.000,9,  -999.0,9,  -999.0,9,-999.0000,9,  -999.00,-999.0000
06AQ19960712,ARKXII,91,1,18,168223,2,19960827,1134,80.5183,148.5967,1987,   298.7,  1.3713, 34.8587,2, 34.8574,2,  -999.0,9,   304.8,2,    5.56,2,   11.71,2, -999.00,9,    0.91,2,   5.250,2,   2.523,2,   5.972,2,  -999.0,9,  -999.0,9,-999.0000,9,  -999.00,  1.3671
06AQ19960712,ARKXII,91,1,17,168222,2,19960827,1134,80.5183,148.5967,1987,   399.4,  1.0237, 34.8653,2, 34.8648,2,  -999.0,9,   306.2,2,    6.15,2,   11.61,2, -999.00,9,    0.90,2,   5.090,2,   2.398,2,   5.864,2,  -999.0,9,  -999.0,9,-999.0000,9,  -999.00,  1.0099
06AQ19960712,ARKXII,91,1,16,168221,2,19960827,1134,80.5183,148.5967,1987,   499.6,  0.7426, 34.8689,2, 34.8684,2,  -999.0,9,   306.9,2,    5.76,2,   12.00,2, -999.00,9,    0.92,2,   5.043,2,   2.495,2,   6.024,2,  2150.2,2,  2288.0,2,   7.6900,2,    25.00,  0.7219
06AQ19960712,ARKXII,91,1,15,168220,2,19960827,1134,80.5183,148.5967,1987,   599.5,  0.5287, 34.8756,2, 34.8743,2,  -999.0,9,   306.4,2,    6.05,2,   12.20,2, -999.00,9,    0.94,2,   4.864,2,   2.425,2,   5.672,2,  -999.0,9,  -999.0,9,-999.0000,9,  -999.00,  0.5067
06AQ19960712,ARKXII,91,1,14,168219,2,19960827,1134,80.5183,148.5967,1987,   699.2,  0.2538, 34.8726,2, 34.8710,2,  -999.0,9,   307.1,2,    6.05,2,   12.10,2, -999.00,9,    0.95,2,   4.706,2,   2.237,2,   5.631,2,  2154.3,2,  2286.1,2,   7.6871,2,    25.00,  0.2292
06AQ19960712,ARKXII,91,1,11,168216,2,19960827,1134,80.5183,148.5967,1987,   800.4,  0.0700, 34.8725,2, 34.8729,2,  -999.0,9,   307.6,2,    6.15,2,   12.10,2, -999.00,9,    0.95,2,   4.824,2,   2.338,2,   5.593,2,  -999.0,9,  -999.0,9,-999.0000,9,  -999.00,  0.0392
06AQ19960712,ARKXII,91,1,12,168217,2,19960827,1134,80.5183,148.5967,1987,   800.7,  0.0706, 34.8722,2,-999.0000,9,  -999.0,9,  -999.0,9, -999.00,9, -999.00,9, -999.00,9, -999.00,9,-999.000,9,-999.000,9,-999.000,9,  -999.0,9,  -999.0,9,-999.0000,9,  -999.00,-999.0000
06AQ19960712,ARKXII,91,1,13,168218,2,19960827,1134,80.5183,148.5967,1987,   800.8,  0.0705, 34.8719,2,-999.0000,9,  -999.0,9,  -999.0,9, -999.00,9, -999.00,9, -999.00,9, -999.00,9,-999.000,9,-999.000,9,-999.000,9,  -999.0,9,  -999.0,9,-999.0000,9,  -999.00,-999.0000
06AQ19960712,ARKXII,91,1,10,168215,2,19960827,1134,80.5183,148.5967,1987,  1000.1, -0.1481, 34.8826,2, 34.8818,2,  -999.0,9,   307.4,2,    6.54,2,   12.39,2, -999.00,9,    0.98,2,   4.568,2,   2.281,2,   5.380,2,  2155.6,2,  2288.9,2,   7.6765,2,    25.00, -0.1875
06AQ19960712,ARKXII,91,1,9,168214,2,19960827,1134,80.5183,148.5967,1987,  1200.2, -0.3002, 34.8937,2, 34.8940,2,  -999.0,9,   306.2,2,    7.22,2,   12.88,2, -999.00,9,    1.00,2,   3.820,2,   1.799,2,   4.658,2,  -999.0,9,  -999.0,9,-999.0000,9,  -999.00, -0.3488
06AQ19960712,ARKXII,91,1,8,168213,2,19960827,1134,80.5183,148.5967,1987,  1400.5, -0.4214, 34.9074,2, 34.9082,2,  -999.0,9,   303.4,2,    8.29,2,   13.46,2, -999.00,9,    1.04,2,   2.543,2,   1.109,2,   3.644,2,  2158.6,2,  2287.3,2,   7.6851,2,    25.00, -0.4798
06AQ19960712,ARKXII,91,1,7,168212,2,19960827,1134,80.5183,148.5967,1987,  1600.7, -0.4758, 34.9263,2, 34.9276,2,  -999.0,9,   296.4,2,   10.93,2,   14.24,2, -999.00,9,    1.07,2,   0.803,2,   0.347,2,   1.648,2,  -999.0,9,  -999.0,9,-999.0000,9,  -999.00, -0.5469
06AQ19960712,ARKXII,91,1,6,168211,2,19960827,1134,80.5183,148.5967,1987,  1800.6, -0.4281, 34.9465,2, 34.9453,2,  -999.0,9,   289.0,2,   11.80,2,   14.54,2, -999.00,9,    1.11,2,   0.211,2,   0.128,2,   0.347,2,  -999.0,9,  -999.0,9,-999.0000,9,  -999.00, -0.5110
06AQ19960712,ARKXII,91,1,5,168210,2,19960827,1134,80.5183,148.5967,1987,  1865.5, -0.4201, 34.9498,2, 34.9493,2,  -999.0,9,   287.2,2,   12.39,2,   14.73,2, -999.00,9,    1.12,2,   0.111,2,   0.111,2,   0.223,2,  2149.9,2,  2294.2,2,   7.7044,2,    25.00, -0.5073
06AQ19960712,ARKXII,91,1,4,168209,2,19960827,1134,80.5183,148.5967,1987,  1915.6, -0.4121, 34.9533,2, 34.9516,2,  -999.0,9,   285.8,2,   12.78,2,   14.83,2, -999.00,9,    1.12,2,   0.102,2,   0.043,2,   0.084,2,  2151.4,2,  2293.5,2,   7.7034,2,    25.00, -0.5036
06AQ19960712,ARKXII,91,1,1,168206,2,19960827,1134,80.5183,148.5967,1987,  1964.6, -0.4046, 34.9533,2, 34.9540,2,  -999.0,9,   284.6,2,   13.07,2,   14.73,2, -999.00,9,    1.11,2,   0.198,2,   0.066,2,   0.307,2,  2155.0,2,  2295.4,2,   7.6967,2,    25.00, -0.4990
06AQ19960712,ARKXII,91,1,2,168207,2,19960827,1134,80.5183,148.5967,1987,  1964.8, -0.4046, 34.9535,2,-999.0000,9,  -999.0,9,  -999.0,9, -999.00,9, -999.00,9, -999.00,9, -999.00,9,-999.000,9,-999.000,9,-999.000,9,  -999.0,9,  -999.0,9,-999.0000,9,  -999.00,-999.0000
06AQ19960712,ARKXII,91,1,3,168208,2,19960827,1134,80.5183,148.5967,1987,  1964.9, -0.4046, 34.9534,2,-999.0000,9,  -999.0,9,  -999.0,9, -999.00,9, -999.00,9, -999.00,9, -999.00,9,-999.000,9,-999.000,9,-999.000,9,  -999.0,9,  -999.0,9,-999.0000,9,  -999.00,-999.0000