BOTTLE,20100322CCHDOSIODM
EXPOCODE,SECT_ID,STNNBR,CASTNO,SAMPNO,BTLNBR,BTLNBR_FLAG_W,DATE,TIME,LATITUDE,LONGITUDE,DEPTH,CTDPRS,CTDTMP,CTDSAL,CTDSAL_FLAG_W,SALNTY,SALNTY_FLAG_W,CTDOXY,CTDOXY_FLAG_W,OXYGEN,OXYGEN_FLAG_W,SILCAT,SILCAT_FLAG_W,NITRAT,NITRAT_FLAG_W,NITRIT,NITRIT_FLAG_W,PHSPHT,PHSPHT_FLAG_W,CFC-11,CFC-11_FLAG_W,CFC-12,CFC-12_FLAG_W,CCL4,CCL4_FLAG_W,TCARBN,TCARBN_FLAG_W,ALKALI,ALKALI_FLAG_W,PH_SWS,PH_SWS_FLAG_W,PH_TMP,THETA
,,,,,,,,,,,METERS,DBAR,ITS-90,PSS-78,,PSS-78,,UMOL/KG,,UMOL/KG,,UMOL/KG,,UMOL/KG,,UMOL/KG,,UMOL/KG,,PMOL/KG,,PMOL/KG,,PMOL/KG,,UMOL/KG,,UMOL/KG,,,,DEG C,DEG C
06AQ19960712,ARKXII,101,1,29,168529,2,19960902,1333,78.7167,132.6667,2924,    10.2, -1.7146, 32.4426,2,-999.0000,9,  -999.0,9,   377.4,2, -999.00,9,    1.95,2, -999.00,9,    0.31,2,   6.894,2,   3.447,2,   7.515,2,  -999.0,9,  -999.0,9,-999.0000,9,  -999.00,-999.0000
06AQ19960712,ARKXII,101,1,28,168528,2,19960902,1333,78.7167,132.6667,2924,    20.5, -1.7410, 32.4619,2, 32.4405,2,  -999.0,9,   374.9,2, -999.00,9,    2.15,2, -999.00,9,    0.33,2,-999.000,9,-999.000,9,-999.000,9,  -999.0,9,  -999.0,9,-999.0000,9,  -999.00, -1.7363
06AQ19960712,ARKXII,101,1,27,168527,2,19960902,1333,78.7167,132.6667,2924,    30.5, -1.7191, 32.9632,2, 32.9661,2,  -999.0,9,   362.9,2, -999.00,9,    3.71,2, -999.00,9,    0.42,2,   6.943,2,   3.402,2,   7.672,2,  -999.0,9,  -999.0,9,-999.0000,9,  -999.00, -1.7165
06AQ19960712,ARKXII,101,1,26,168526,2,19960902,1333,78.7167,132.6667,2924,    40.6, -1.7417, 33.2516,2, 33.2443,2,  -999.0,9,   355.2,2, -999.00,9,    4.29,2, -999.00,9,    0.44,2,-999.000,9,-999.000,9,-999.000,9,  -999.0,9,  -999.0,9,-999.0000,9,  -999.00, -1.7377
06AQ19960712,ARKXII,101,1,25,168525,2,19960902,1333,78.7167,132.6667,2924,    60.1, -1.6543, 33.9109,2, 33.8979,2,  -999.0,9,   332.7,2, -999.00,9,    5.95,2, -999.00,9,    0.52,2,   6.812,2,   3.361,2,   7.232,2,  -999.0,9,  -999.0,9,-999.0000,9,  -999.00, -1.6592
06AQ19960712,ARKXII,101,1,24,168524,2,19960902,1333,78.7167,132.6667,2924,    80.0, -1.7483, 34.1250,2, 34.1129,2,  -999.0,9,   336.7,2,    3.41,2,    5.85,2, -999.00,9,    0.50,2,-999.000,9,-999.000,9,-999.000,9,  -999.0,9,  -999.0,9,-999.0000,9,  -999.00, -1.7456
06AQ19960712,ARKXII,101,1,23,168523,2,19960902,1333,78.7167,132.6667,2924,    99.2, -1.6851, 34.2161,2, 34.2149,2,  -999.0,9,   335.5,2,    3.12,2,    6.15,2, -999.00,9,    0.51,2,   6.609,2,   3.235,2,   7.030,2,  -999.0,9,  -999.0,9,-999.0000,9,  -999.00, -1.7030
06AQ19960712,ARKXII,101,1,22,168522,2,19960902,1333,78.7167,132.6667,2924,   150.2, -0.4120, 34.5277,2, 34.5160,2,  -999.0,9,   312.9,2,    4.59,2,    9.17,2, -999.00,9,    0.65,2,-999.000,9,-999.000,9,-999.000,9,  -999.0,9,  -999.0,9,-999.0000,9,  -999.00, -0.4009
06AQ19960712,ARKXII,101,1,21,168521,2,19960902,1333,78.7167,132.6667,2924,   199.7,  1.1822, 34.7771,2, 34.7817,2,  -999.0,9,   303.9,2,    5.27,2,   11.02,2, -999.00,9,    0.74,2,   5.231,2,   2.576,2,   5.628,2,  -999.0,9,  -999.0,9,-999.0000,9,  -999.00,  1.1925
06AQ19960712,ARKXII,101,1,20,168520,2,19960902,1333,78.7167,132.6667,2924,   249.9,  1.5921, 34.8596,2, 34.8576,2,  -999.0,9,   303.1,2,    5.46,2,   11.51,2, -999.00,9,    0.77,2,-999.000,9,-999.000,9,-999.000,9,  -999.0,9,  2287.4,2,   7.7093,2,    25.00,  1.5842
06AQ19960712,ARKXII,101,1,19,168519,2,19960902,1333,78.7167,132.6667,2924,   300.4,  1.5599, 34.8842,2, 34.8794,2,  -999.0,9,   304.3,2,    5.85,2,   11.61,2, -999.00,9,    0.77,2,   5.040,2,   2.463,2,   5.743,2,  -999.0,9,  -999.0,9,-999.0000,9,  -999.00,  1.5506
06AQ19960712,ARKXII,101,1,18,168518,2,19960902,1333,78.7167,132.6667,2924,   400.3,  1.1003, 34.8878,2, 34.8822,2,  -999.0,9,   305.7,2,    6.15,2,   11.71,2, -999.00,9,    0.78,2,-999.000,9,-999.000,9,-999.000,9,  -999.0,9,  -999.0,9,-999.0000,9,  -999.00,  1.0816
06AQ19960712,ARKXII,101,1,17,168517,2,19960902,1333,78.7167,132.6667,2924,   499.9,  0.6976, 34.8788,2, 34.8761,2,  -999.0,9,   306.3,2,    6.15,2,   11.61,2, -999.00,9,    0.75,2,   4.872,2,   2.399,2,   5.717,2,  -999.0,9,  2287.7,2,   7.6938,2,    25.00,  0.6770
06AQ19960712,ARKXII,101,1,16,168516,2,19960902,1333,78.7167,132.6667,2924,   600.2,  0.3446, 34.8718,2, 34.8681,2,  -999.0,9,   307.8,2,    6.15,2,   11.61,2, -999.00,9,    0.78,2,-999.000,9,-999.000,9,-999.000,9,  -999.0,9,  -999.0,9,-999.0000,9,  -999.00,  0.3226
06AQ19960712,ARKXII,101,1,15,168515,2,19960902,1333,78.7167,132.6667,2924,   699.1,  0.0740, 34.8679,2, 34.8647,2,  -999.0,9,   309.2,2,    6.15,2,   11.61,2, -999.00,9,    0.79,2,   4.990,2,   2.471,2,   5.914,2,  -999.0,9,  2288.6,2,   7.6842,2,    25.00,  0.0522
06AQ19960712,ARKXII,101,1,14,168514,2,19960902,1333,78.7167,132.6667,2924,   800.1, -0.0676, 34.8714,2, 34.8681,2,  -999.0,9,   310.8,2,    6.15,2,   11.61,2, -999.00,9,    0.80,2,-999.000,9,-999.000,9,-999.000,9,  -999.0,9,  -999.0,9,-999.0000,9,  -999.00, -0.0978
06AQ19960712,ARKXII,101,1,13,168513,2,19960902,1333,78.7167,132.6667,2924,   999.3, -0.1837, 34.8879,2, 34.8854,2,  -999.0,9,   308.8,2,    7.41,2,   12.00,2, -999.00,9,    0.82,2,   4.460,2,   2.133,2,   5.523,2,  -999.0,9,  2290.8,2,   7.6784,2,    25.00, -0.2231
06AQ19960712,ARKXII,101,1,12,168512,2,19960902,1333,78.7167,132.6667,2924,  1199.8, -0.2866, 34.9011,2, 34.9003,2,  -999.0,9,   307.2,2,    7.51,2,   12.39,2, -999.00,9,    0.85,2,-999.000,9,-999.000,9,-999.000,9,  -999.0,9,  -999.0,9,-999.0000,9,  -999.00, -0.3359
06AQ19960712,ARKXII,101,1,11,168511,2,19960902,1333,78.7167,132.6667,2924,  1400.2, -0.4142, 34.9099,2, 34.9099,2,  -999.0,9,   302.9,2,    8.78,2,   13.37,2, -999.00,9,    0.89,2,   2.526,2,   1.253,2,   3.710,2,  -999.0,9,  2291.3,2,   7.6794,2,    25.00, -0.4718
06AQ19960712,ARKXII,101,1,10,168510,2,19960902,1333,78.7167,132.6667,2924,  1600.2, -0.5775, 34.9126,2, 34.9129,2,  -999.0,9,   300.9,2,    9.76,2,   14.15,2, -999.00,9,    0.90,2,-999.000,9,-999.000,9,-999.000,9,  -999.0,9,  -999.0,9,-999.0000,9,  -999.00, -0.6445
06AQ19960712,ARKXII,101,1,9,168509,2,19960902,1333,78.7167,132.6667,2924,  1800.5, -0.6586, 34.9147,2, 34.9147,2,  -999.0,9,   299.9,2,   10.44,2,   14.44,2, -999.00,9,    0.93,2,   0.864,2,   0.399,2,   1.863,2,  -999.0,9,  -999.0,9,-999.0000,9,  -999.00, -0.7376
06AQ19960712,ARKXII,101,1,8,168508,2,19960902,1333,78.7167,132.6667,2924,  2000.8, -0.7106, 34.9156,2, 34.9176,2,  -999.0,9,   299.6,2,   10.93,2,   14.54,2, -999.00,9,    0.94,2,-999.000,9,-999.000,9,-999.000,9,  -999.0,9,  -999.0,9,-999.0000,9,  -999.00, -0.8025
06AQ19960712,ARKXII,101,1,7,168507,2,19960902,1333,78.7167,132.6667,2924,  2199.9, -0.7464, 34.9187,2, 34.9200,2,  -999.0,9,   299.6,2,   11.02,2,   14.63,2, -999.00,9,    0.94,2,   0.536,2,   0.210,2,   1.345,2,  -999.0,9,  -999.0,9,-999.0000,9,  -999.00, -0.8512
06AQ19960712,ARKXII,101,1,6,168506,2,19960902,1333,78.7167,132.6667,2924,  2401.1, -0.7695, 34.9211,2, 34.9229,2,  -999.0,9,   299.7,2,   11.02,2,   14.63,2, -999.00,9,    0.94,2,-999.000,9,-999.000,9,-999.000,9,  -999.0,9,  -999.0,9,-999.0000,9,  -999.00, -0.8878
06AQ19960712,ARKXII,101,1,5,168505,2,19960902,1333,78.7167,132.6667,2924,  2601.1, -0.7775, 34.9234,2, 34.9247,2,  -999.0,9,   299.1,2,   11.22,2,   14.63,2, -999.00,9,    0.94,2,   0.316,2,   0.100,2,   0.907,2,  -999.0,9,  -999.0,9,-999.0000,9,  -999.00, -0.9102
06AQ19960712,ARKXII,101,1,4,168504,2,19960902,1333,78.7167,132.6667,2924,  2800.6, -0.7766, 34.9292,2, 34.9308,2,  -999.0,9,   298.1,2,   11.32,2,   14.73,2, -999.00,9,    0.94,2,-999.000,9,-999.000,9,-999.000,9,  -999.0,9,  -999.0,9,-999.0000,9,  -999.00, -0.9245
06AQ19960712,ARKXII,101,1,3,168503,2,19960902,1333,78.7167,132.6667,2924,  2893.6, -0.7679, 34.9335,2, 34.9342,2,  -999.0,9,   296.3,2,   11.80,2,   14.73,2, -999.00,9,    0.94,2,   0.118,2,   0.048,2,   0.387,2,  -999.0,9,  -999.0,9,-999.0000,9,  -999.00, -0.9239
06AQ19960712,ARKXII,101,1,2,168502,2,19960902,1333,78.7167,132.6667,2924,  2942.8, -0.7597, 34.9359,2, 34.9363,2,  -999.0,9,   294.8,2,   11.90,2,   14.93,2, -999.00,9,    0.93,2,-999.000,9,-999.000,9,-999.000,9,  -999.0,9,  -999.0,9,-999.0000,9,  -999.00, -0.9191
06AQ19960712,ARKXII,101,1,1,168501,2,19960902,1333,78.7167,132.6667,2924,  2991.7, -0.7573, 34.9375,2, 34.9397,2,  -999.0,9,   293.8,2,   12.00,2,   14.24,2, -999.00,9,    0.90,2,   0.073,2,   0.063,2,   0.311,2,  -999.0,9,  -999.0,9,-999.0000,9,  -999.00, -0.9211
06AQ19960712,ARKXII,102,1,29,168559,2,19960902,2303,78.5567,132.2217,2604,     2.6, -1.7380, 32.2900,2,-999.0000,9,  -999.0,9,  -999.0,9, -999.00,9, -999.00,9, -999.00,9, -999.00,9,-999.000,9,-999.000,9,-999.000,9,  -999.0,9,  -999.0,9,-999.0000,9,  -999.00,-999.0000
06AQ19960712,ARKXII,102,1,28,168558,2,19960902,2303,78.5567,132.2217,2604,     9.4, -1.7436, 32.2719,2, 32.3066,2,  -999.0,9,   378.6,2, -999.00,9,    1.66,2, -999.00,9,    0.30,2,   6.966,2,   3.485,2,   7.541,2,  2071.4,2,  2206.2,2,   7.7129,2,    25.00, -1.7382
06AQ19960712,ARKXII,102,1,27,168557,2,19960902,2303,78.5567,132.2217,2604,    18.8, -1.7293, 32.4632,2, 32.5585,2,  -999.0,9,   371.8,2, -999.00,9,    2.34,2, -999.00,9,    0.33,2,   6.924,2,   3.432,2,   7.531,2,  -999.0,9,  -999.0,9,-999.0000,9,  -999.00, -1.7283
06AQ19960712,ARKXII,102,1,26,168556,2,19960902,2303,78.5567,132.2217,2604,    29.4, -1.7117, 33.0459,2, 33.0275,2,  -999.0,9,   361.8,2, -999.00,9,    3.41,2, -999.00,9,    0.39,2,   7.034,2,   3.356,2,   7.656,2,  2117.4,2,  2240.4,2,   7.6848,2,    25.00, -1.7095
06AQ19960712,ARKXII,102,1,25,168555,2,19960902,2303,78.5567,132.2217,2604,    39.4, -1.7288, 33.1537,2, 33.1486,2,  -999.0,9,   353.5,2, -999.00,9,    4.00,2, -999.00,9,    0.44,2,   6.871,2,   3.353,2,   7.509,2,  -999.0,9,  -999.0,9,-999.0000,9,  -999.00, -1.7277
06AQ19960712,ARKXII,102,1,24,168554,2,19960902,2303,78.5567,132.2217,2604,    59.7, -1.7491, 33.9196,2, 33.8744,2,  -999.0,9,   339.3,2,    3.51,2,    5.27,2, -999.00,9,    0.47,2,   6.903,2,   3.381,2,   7.602,2,  2142.2,2,  2264.4,2,   7.6691,2,    25.00, -1.7472
06AQ19960712,ARKXII,102,1,23,168553,2,19960902,2303,78.5567,132.2217,2604,    79.1, -1.7407, 34.0928,2, 34.0934,2,  -999.0,9,   335.8,2,    3.51,2,    5.66,2, -999.00,9,    0.50,2,   6.682,2,   3.214,2,   6.944,2,  2142.6,2,  2267.8,2,   7.6787,2,    25.00, -1.7386
06AQ19960712,ARKXII,102,1,22,168552,2,19960902,2303,78.5567,132.2217,2604,    99.6, -1.5316, 34.2219,2, 34.2210,2,  -999.0,9,   326.8,2,    3.61,2,    7.02,2, -999.00,9,    0.55,2,   6.427,2,   3.137,2,   6.309,2,  2131.7,2,  2253.7,2,   7.6854,2,    25.00, -1.5752
06AQ19960712,ARKXII,102,1,21,168551,2,19960902,2303,78.5567,132.2217,2604,   148.2, -0.4117, 34.5110,2, 34.5282,2,  -999.0,9,   312.5,2,    4.59,2,    8.98,2, -999.00,9,    0.63,2,   5.897,2,   2.834,2,   5.897,2,  2145.4,2,  2277.6,2,   7.6920,2,    25.00, -0.4498
06AQ19960712,ARKXII,102,1,20,168550,2,19960902,2303,78.5567,132.2217,2604,   199.3,  1.0157, 34.7581,2, 34.7571,2,  -999.0,9,   304.9,2,    5.27,2,   10.93,2, -999.00,9,    0.73,2,   5.304,2,   2.601,2,   5.758,2,  -999.0,9,  -999.0,9,-999.0000,9,  -999.00,  1.0088
06AQ19960712,ARKXII,102,1,19,168549,2,19960902,2303,78.5567,132.2217,2604,   249.6,  1.2457, 34.8146,2, 34.8150,2,  -999.0,9,   304.1,2,    5.46,2,   11.22,2, -999.00,9,    0.74,2,   5.185,2,   2.588,2,   5.764,2,  2146.0,2,  2286.9,2,   7.7073,2,    25.00,  1.2290
06AQ19960712,ARKXII,102,1,18,168548,2,19960902,2303,78.5567,132.2217,2604,   298.9,  1.3058, 34.8538,2, 34.8525,2,  -999.0,9,   305.0,2,    5.66,2,   11.51,2, -999.00,9,    0.75,2,   5.140,2,   2.550,2,   5.599,2,  -999.0,9,  -999.0,9,-999.0000,9,  -999.00,  1.2953
06AQ19960712,ARKXII,102,1,17,168547,2,19960902,2303,78.5567,132.2217,2604,   399.5,  1.1238, 34.8915,2, 34.8927,2,  -999.0,9,   305.1,2,    5.95,2,   11.90,2, -999.00,9,    0.78,2,   4.753,2,   2.321,2,   5.632,2,  -999.0,9,  -999.0,9,-999.0000,9,  -999.00,  1.1085
06AQ19960712,ARKXII,102,1,16,168546,2,19960902,2303,78.5567,132.2217,2604,   499.7,  0.6098, 34.8755,2, 34.8744,2,  -999.0,9,   305.8,2,    6.05,2,   11.61,2, -999.00,9,    0.77,2,   4.914,2,   2.339,2,   6.059,2,  2156.5,2,  2291.4,2,   7.6861,2,    25.00,  0.5924
06AQ19960712,ARKXII,102,1,15,168545,2,19960902,2303,78.5567,132.2217,2604,   599.6,  0.3305, 34.8705,2, 34.8691,2,  -999.0,9,   307.0,2,    6.05,2,   11.51,2, -999.00,9,    0.77,2,   5.143,2,   2.513,2,   5.934,2,  -999.0,9,  -999.0,9,-999.0000,9,  -999.00,  0.3097
06AQ19960712,ARKXII,102,1,14,168544,2,19960902,2303,78.5567,132.2217,2604,   699.2,  0.1241, 34.8713,2, 34.8704,2,  -999.0,9,   308.4,2,    6.44,2,   11.51,2, -999.00,9,    0.77,2,   5.116,2,   2.460,2,   6.147,2,  2159.0,2,  2290.4,2,   7.6832,2,    25.00,  0.0979
06AQ19960712,ARKXII,102,1,13,168543,2,19960902,2303,78.5567,132.2217,2604,   799.3, -0.0276, 34.8741,2, 34.8745,2,  -999.0,9,   309.2,2,    6.44,2,   11.61,2, -999.00,9,    0.78,2,   5.067,2,   2.563,2,   6.250,2,  -999.0,9,  -999.0,9,-999.0000,9,  -999.00, -0.0571
06AQ19960712,ARKXII,102,1,12,168542,2,19960902,2303,78.5567,132.2217,2604,   999.2, -0.2920, 34.8768,2, 34.8764,2,  -999.0,9,   311.9,2,    6.63,2,   11.61,2, -999.00,9,    0.78,2,   5.108,2,   2.219,2,   6.089,2,  2159.0,2,  2289.6,2,   7.6794,2,    25.00, -0.3302
06AQ19960712,ARKXII,102,1,11,168541,2,19960902,2303,78.5567,132.2217,2604,  1199.8, -0.2959, 34.8983,2, 34.8998,2,  -999.0,9,   307.3,2,    8.29,2, -999.00,9, -999.00,9,    0.82,2,   4.156,2,   1.881,2,   5.267,2,  -999.0,9,  -999.0,9,-999.0000,9,  -999.00, -0.3458
06AQ19960712,ARKXII,102,1,10,168540,2,19960902,2303,78.5567,132.2217,2604,  1383.8, -0.4333, 34.9050,2, 34.9064,2,  -999.0,9,   304.4,2,    8.59,2,   12.98,2, -999.00,9,    0.86,2,   2.979,2,   1.400,2,   4.035,2,  2159.6,2,  2289.4,2,   7.6803,2,    25.00, -0.4897
06AQ19960712,ARKXII,102,1,9,168539,2,19960902,2303,78.5567,132.2217,2604,  1600.2, -0.5984, 34.9115,2, 34.9127,2,  -999.0,9,   300.4,2,   10.44,2,   13.66,2, -999.00,9,    0.90,2,   1.309,2,   0.620,2,   2.428,2,  -999.0,9,  -999.0,9,-999.0000,9,  -999.00, -0.6662
06AQ19960712,ARKXII,102,1,8,168538,2,19960902,2303,78.5567,132.2217,2604,  1799.7, -0.6880, 34.9157,2, 34.9156,2,  -999.0,9,   299.5,2,   10.54,2,   14.05,2, -999.00,9,    0.92,2,   0.783,2,   0.345,2,   1.780,2,  2153.8,2,  2289.5,2,   7.6909,2,    25.00, -0.7671
06AQ19960712,ARKXII,102,1,7,168537,2,19960902,2303,78.5567,132.2217,2604,  2000.4, -0.7400, 34.9178,2, 34.9183,2,  -999.0,9,   299.5,2,   10.93,2,   14.15,2, -999.00,9,    0.92,2,   0.496,2,   0.167,2,   1.416,2,  -999.0,9,  -999.0,9,-999.0000,9,  -999.00, -0.8311
06AQ19960712,ARKXII,102,1,6,168536,2,19960902,2303,78.5567,132.2217,2604,  2199.6, -0.7708, 34.9208,2, 34.9216,2,  -999.0,9,   299.2,2,   11.12,2,   14.15,2, -999.00,9,    0.91,2,   0.468,2,   0.210,2,   1.176,2,  -999.0,9,  -999.0,9,-999.0000,9,  -999.00, -0.8748
06AQ19960712,ARKXII,102,1,5,168535,2,19960902,2303,78.5567,132.2217,2604,  2399.8, -0.7925, 34.9256,2, 34.9255,2,  -999.0,9,   298.9,2,   11.22,2,   14.05,2, -999.00,9,    0.88,2,   0.389,2,   0.192,2,   0.914,2,  -999.0,9,  -999.0,9,-999.0000,9,  -999.00, -0.9103
06AQ19960712,ARKXII,102,1,4,168534,2,19960902,2303,78.5567,132.2217,2604,  2545.2, -0.7939, 34.9310,2, 34.9305,2,  -999.0,9,   297.3,2,   11.61,2,   14.34,2, -999.00,9,    0.95,2,   0.260,2,   0.144,2,   0.561,2,  2153.4,2,  2293.0,2,   7.7025,2,    25.00, -0.9218
06AQ19960712,ARKXII,102,1,3,168533,2,19960902,2303,78.5567,132.2217,2604,  2607.8, -0.7844, 34.9351,2, 34.9350,2,  -999.0,9,   295.0,2,   12.00,2,   14.34,2, -999.00,9,    0.94,2,-999.000,9,-999.000,9,-999.000,9,  2146.5,2,  2293.0,2,   7.7005,2,    25.00, -0.9177
06AQ19960712,ARKXII,102,1,2,168532,2,19960902,2303,78.5567,132.2217,2604,  2658.6, -0.7792, 34.9364,2,-999.0000,9,  -999.0,9,  -999.0,9, -999.00,9, -999.00,9, -999.00,9, -999.00,9,-999.000,9,-999.000,9,-999.000,9,  -999.0,9,  -999.0,9,-999.0000,9,  -999.00,-999.0000
06AQ19960712,ARKXII,102,1,1,168531,2,19960902,2303,78.5567,132.2217,2604,  2658.6, -0.7789, 34.9363,2, 34.9380,2,  -999.0,9,   293.5,2,   12.29,2,   14.34,2, -999.00,9,    0.92,2,   0.308,2,   0.125,2,   0.405,2,  2150.7,2,  2291.6,2,   7.7034,2,    25.00, -0.9156