BOTTLE,20100322CCHDOSIODM
EXPOCODE,SECT_ID,STNNBR,CASTNO,SAMPNO,BTLNBR,BTLNBR_FLAG_W,DATE,TIME,LATITUDE,LONGITUDE,DEPTH,CTDPRS,CTDTMP,CTDSAL,CTDSAL_FLAG_W,SALNTY,SALNTY_FLAG_W,CTDOXY,CTDOXY_FLAG_W,OXYGEN,OXYGEN_FLAG_W,SILCAT,SILCAT_FLAG_W,NITRAT,NITRAT_FLAG_W,NITRIT,NITRIT_FLAG_W,PHSPHT,PHSPHT_FLAG_W,CFC-11,CFC-11_FLAG_W,CFC-12,CFC-12_FLAG_W,CCL4,CCL4_FLAG_W,TCARBN,TCARBN_FLAG_W,ALKALI,ALKALI_FLAG_W,PH_SWS,PH_SWS_FLAG_W,PH_TMP,THETA
,,,,,,,,,,,METERS,DBAR,ITS-90,PSS-78,,PSS-78,,UMOL/KG,,UMOL/KG,,UMOL/KG,,UMOL/KG,,UMOL/KG,,UMOL/KG,,PMOL/KG,,PMOL/KG,,PMOL/KG,,UMOL/KG,,UMOL/KG,,,,DEG C,DEG C
06AQ19960712,ARKXII,47,2,36,166604,2,19960806,1947,84.6950,104.3550,4013,    99.9, -1.8191, 34.2926,2, 34.2924,2,  -999.0,9,   357.5,2,    2.83,2, -999.00,9, -999.00,9,    0.55,2,   6.036,2,   3.002,2,   5.414,2,  -999.0,9,  -999.0,9,   7.7393,2,    25.00, -1.8180
06AQ19960712,ARKXII,47,2,35,166603,2,19960806,1947,84.6950,104.3550,4013,   149.4,  0.0452, 34.5374,2,-999.0000,9,  -999.0,9,  -999.0,9, -999.00,9, -999.00,9, -999.00,9, -999.00,9,-999.000,9,-999.000,9,-999.000,9,  -999.0,9,  -999.0,9,-999.0000,9,  -999.00,-999.0000
06AQ19960712,ARKXII,47,2,34,166602,2,19960806,1947,84.6950,104.3550,4013,   199.5,  1.4154, 34.8084,2, 34.7996,2,  -999.0,9,   299.3,2,    5.46,2,   11.61,2, -999.00,9,    0.81,2,   4.260,2,   1.997,2,   4.530,2,  -999.0,9,  -999.0,9,-999.0000,9,  -999.00,  1.4182
06AQ19960712,ARKXII,47,2,33,166601,2,19960806,1947,84.6950,104.3550,4013,   233.6,  1.5584, 34.8650,2,-999.0000,9,  -999.0,9,  -999.0,9, -999.00,9, -999.00,9, -999.00,9, -999.00,9,-999.000,9,-999.000,9,-999.000,9,  -999.0,9,  -999.0,9,-999.0000,9,  -999.00,-999.0000
06AQ19960712,ARKXII,47,2,32,166600,2,19960806,1947,84.6950,104.3550,4013,   233.6,  1.5635, 34.8788,2,-999.0000,9,  -999.0,9,  -999.0,9, -999.00,9, -999.00,9, -999.00,9, -999.00,9,-999.000,9,-999.000,9,-999.000,9,  -999.0,9,  -999.0,9,-999.0000,9,  -999.00,-999.0000
06AQ19960712,ARKXII,47,2,31,166599,2,19960806,1947,84.6950,104.3550,4013,   233.6,  1.5682, 34.8776,2, 34.8770,2,  -999.0,9,   301.1,2,    5.66,2,   12.00,2, -999.00,9,    0.83,2,   4.193,2,   1.976,2,   4.740,2,  -999.0,9,  -999.0,9,   7.7073,2,    25.00,  1.5591
06AQ19960712,ARKXII,47,2,30,166598,2,19960806,1947,84.6950,104.3550,4013,   250.0,  1.4754, 34.8768,2, 34.8768,2,  -999.0,9,  -999.0,9,    5.66,2,   12.10,2, -999.00,9,    0.84,2,   4.055,2,   1.956,2,   4.636,2,  -999.0,9,  -999.0,9,   7.7111,2,    25.00,  1.4674
06AQ19960712,ARKXII,47,2,29,166597,2,19960806,1947,84.6950,104.3550,4013,   299.4,  1.3231, 34.8865,2, 34.8811,2,  -999.0,9,   302.5,2,    5.76,2,   12.10,2, -999.00,9,    0.84,2,   4.040,2,   2.025,2,   4.759,2,  -999.0,9,  -999.0,9,-999.0000,9,  -999.00,  1.3242
06AQ19960712,ARKXII,47,2,28,166596,2,19960806,1947,84.6950,104.3550,4013,   399.6,  1.0780, 34.8920,2, 34.8913,2,  -999.0,9,  -999.0,9,    5.95,2,   12.20,2, -999.00,9,    0.86,2,   3.726,2,   1.772,2,   4.457,2,  -999.0,9,  -999.0,9,   7.7044,2,    25.00,  1.0547
06AQ19960712,ARKXII,47,2,27,166595,2,19960806,1947,84.6950,104.3550,4013,   498.9,  0.7908, 34.8987,2, 34.8978,2,  -999.0,9,   303.0,2,    6.05,2,   12.29,2, -999.00,9,    0.87,2,   3.351,2,   1.623,2,   4.365,2,  -999.0,9,  -999.0,9,-999.0000,9,  -999.00,  0.7737
06AQ19960712,ARKXII,47,2,26,166594,2,19960806,1947,84.6950,104.3550,4013,   600.0,  0.4139, 34.8928,2, 34.8925,2,  -999.0,9,  -999.0,9,    6.15,2,   12.20,2, -999.00,9,    0.88,2,   3.584,2,   1.648,2,   4.637,2,  -999.0,9,  -999.0,9,   7.6899,2,    25.00,  0.3942
06AQ19960712,ARKXII,47,2,25,166593,2,19960806,1947,84.6950,104.3550,4013,   699.5,  0.1100, 34.8851,2, 34.8825,2,  -999.0,9,  -999.0,9,    6.34,2,   12.10,2, -999.00,9,    0.86,2,   3.780,2,   1.730,2,   4.677,2,  -999.0,9,  -999.0,9,-999.0000,9,  -999.00,  0.0840
06AQ19960712,ARKXII,47,2,24,166592,2,19960806,1947,84.6950,104.3550,4013,   800.3, -0.0826, 34.8864,2, 34.8858,2,  -999.0,9,  -999.0,9,    6.73,2,   12.10,2, -999.00,9,    0.88,2,   3.923,2,   1.825,2,   4.621,2,  -999.0,9,  -999.0,9,-999.0000,9,  -999.00, -0.1098
06AQ19960712,ARKXII,47,2,23,166591,2,19960806,1947,84.6950,104.3550,4013,   999.7, -0.2759, 34.9000,2, 34.8990,2,  -999.0,9,   304.1,2,    7.61,2,   12.49,2, -999.00,9,    0.92,2,   2.443,2,   1.163,2,   4.072,2,  -999.0,9,  -999.0,9,   7.6745,2,    25.00, -0.3114
06AQ19960712,ARKXII,47,2,22,166590,2,19960806,1947,84.6950,104.3550,4013,  1200.3, -0.4260, 34.9104,2, 34.9115,2,  -999.0,9,   302.9,2,    8.39,2,   12.78,2, -999.00,9,    0.95,2,   1.841,2,   0.845,2,   3.005,2,  -999.0,9,  -999.0,9,-999.0000,9,  -999.00, -0.4726
06AQ19960712,ARKXII,47,2,21,166589,2,19960806,1947,84.6950,104.3550,4013,  1399.5, -0.5499, 34.9163,2, 34.9164,2,  -999.0,9,   301.8,2,    9.17,2,   13.17,2, -999.00,9,    0.97,2,   1.322,2,   0.543,2,   2.256,2,  -999.0,9,  -999.0,9,-999.0000,9,  -999.00, -0.6083
06AQ19960712,ARKXII,47,2,20,166588,2,19960806,1947,84.6950,104.3550,4013,  1601.2, -0.6303, 34.9194,2, 34.9196,2,  -999.0,9,   300.6,2,    9.95,2,   13.46,2, -999.00,9,    0.99,2,   0.895,2,   0.307,2,   1.661,2,  -999.0,9,  -999.0,9,-999.0000,9,  -999.00, -0.6989
06AQ19960712,ARKXII,47,2,19,166587,2,19960806,1947,84.6950,104.3550,4013,  1799.3, -0.6934, 34.9220,2, 34.9209,2,  -999.0,9,   300.5,2,   10.34,2,   13.66,2, -999.00,9,    1.00,2,   0.516,2,   0.220,2,   1.336,2,  -999.0,9,  -999.0,9,   7.6860,2,    25.00, -0.7730
06AQ19960712,ARKXII,47,2,18,166586,2,19960806,1947,84.6950,104.3550,4013,  2000.7, -0.7423, 34.9201,2,-999.0000,9,  -999.0,9,  -999.0,9, -999.00,9, -999.00,9, -999.00,9, -999.00,9,-999.000,9,-999.000,9,-999.000,9,  -999.0,9,  -999.0,9,-999.0000,9,  -999.00,-999.0000
06AQ19960712,ARKXII,47,2,17,166585,2,19960806,1947,84.6950,104.3550,4013,  2000.7, -0.7433, 34.9209,2,-999.0000,9,  -999.0,9,  -999.0,9, -999.00,9, -999.00,9, -999.00,9, -999.00,9,-999.000,9,-999.000,9,-999.000,9,  -999.0,9,  -999.0,9,-999.0000,9,  -999.00,-999.0000
06AQ19960712,ARKXII,47,2,16,166584,2,19960806,1947,84.6950,104.3550,4013,  2000.7, -0.7454, 34.9218,2, 34.9213,2,  -999.0,9,   300.9,2,   10.44,2,   13.66,2, -999.00,9,    1.01,2,   0.396,2,   0.175,2,   1.152,2,  -999.0,9,  -999.0,9,-999.0000,9,  -999.00, -0.8370
06AQ19960712,ARKXII,47,2,15,166583,2,19960806,1947,84.6950,104.3550,4013,  2200.6, -0.7736, 34.9239,2, 34.9231,2,  -999.0,9,   300.9,2,   10.73,2,   13.66,2, -999.00,9,    1.01,2,-999.000,9,   0.140,2,   0.935,2,  -999.0,9,  -999.0,9,-999.0000,9,  -999.00, -0.8778
06AQ19960712,ARKXII,47,2,14,166582,2,19960806,1947,84.6950,104.3550,4013,  2399.6, -0.7909, 34.9267,2, 34.9258,2,  -999.0,9,   301.0,2,   10.63,2,   13.46,2, -999.00,9,    1.02,2,   0.202,2,   0.150,2,   0.791,2,  -999.0,9,  -999.0,9,-999.0000,9,  -999.00, -0.9084
06AQ19960712,ARKXII,47,2,13,166581,2,19960806,1947,84.6950,104.3550,4013,  2600.1, -0.7958, 34.9294,2, 34.9278,2,  -999.0,9,   301.4,2,   10.83,2, -999.00,9, -999.00,9,    0.98,2,   0.277,2,   0.130,2,   0.585,2,  -999.0,9,  -999.0,9,   7.6976,2,    25.00, -0.9278
06AQ19960712,ARKXII,47,2,12,166580,2,19960806,1947,84.6950,104.3550,4013,  2798.9, -0.7934, 34.9320,2, 34.9319,2,  -999.0,9,   300.9,2,   10.93,2, -999.00,9, -999.00,9,    0.99,2,-999.000,9,   0.126,2,   0.455,2,  -999.0,9,  -999.0,9,-999.0000,9,  -999.00, -0.9410
06AQ19960712,ARKXII,47,2,11,166579,2,19960806,1947,84.6950,104.3550,4013,  2999.7, -0.7845, 34.9348,2, 34.9347,2,  -999.0,9,   300.5,2,   11.02,2,   13.66,2, -999.00,9,    0.98,2,   0.303,2,   0.118,2,   0.533,2,  -999.0,9,  -999.0,9,-999.0000,9,  -999.00, -0.9481
06AQ19960712,ARKXII,47,2,10,166578,2,19960806,1947,84.6950,104.3550,4013,  3200.0, -0.7671, 34.9380,2, 34.9390,2,  -999.0,9,   299.0,2,   11.12,2,   13.76,2, -999.00,9,    0.99,2,-999.000,9,   0.082,2,   0.344,2,  -999.0,9,  -999.0,9,-999.0000,9,  -999.00, -0.9470
06AQ19960712,ARKXII,47,2,9,166577,2,19960806,1947,84.6950,104.3550,4013,  3400.1, -0.7438, 34.9390,2, 34.9407,2,  -999.0,9,   299.0,2,   11.32,2,   13.76,2, -999.00,9,    0.99,2,   0.141,2,   0.088,2,   0.437,2,  -999.0,9,  -999.0,9,   7.7034,2,    25.00, -0.9417
06AQ19960712,ARKXII,47,2,8,166576,2,19960806,1947,84.6950,104.3550,4013,  3599.7, -0.7254, 34.9403,2, 34.9419,2,  -999.0,9,   298.5,2,   11.41,2,   13.76,2, -999.00,9,    1.00,2,   0.152,2,   0.116,2,   0.493,2,  -999.0,9,  -999.0,9,-999.0000,9,  -999.00, -0.9419
06AQ19960712,ARKXII,47,2,7,166575,2,19960806,1947,84.6950,104.3550,4013,  3800.0, -0.7094, 34.9403,2, 34.9419,2,  -999.0,9,   298.9,2,   11.32,2,   13.66,2, -999.00,9,    0.98,2,   0.258,2,   0.128,2,-999.000,9,  -999.0,9,  -999.0,9,-999.0000,9,  -999.00, -0.9446
06AQ19960712,ARKXII,47,2,6,166574,2,19960806,1947,84.6950,104.3550,4013,  3874.3, -0.7028, 34.9412,2, 34.9423,2,  -999.0,9,   298.8,2,   11.12,2,   13.66,2, -999.00,9,    0.99,2,-999.000,9,   0.060,2,   0.426,2,  -999.0,9,  -999.0,9,   7.7044,2,    25.00, -0.9448
06AQ19960712,ARKXII,47,2,5,166573,2,19960806,1947,84.6950,104.3550,4013,  3913.9, -0.6999, 34.9412,2, 34.9415,2,  -999.0,9,   299.2,2,   11.12,2,   13.66,2, -999.00,9,    0.97,2,-999.000,9,   0.093,2,   0.422,2,  -999.0,9,  -999.0,9,   7.7053,2,    25.00, -0.9456
06AQ19960712,ARKXII,47,2,4,166572,2,19960806,1947,84.6950,104.3550,4013,  3964.9, -0.6945, 34.9416,2, 34.9427,2,  -999.0,9,   299.3,2,   11.12,2,   13.66,2, -999.00,9,    0.96,2,   0.143,2,   0.087,2,   0.405,2,  -999.0,9,  -999.0,9,   7.7005,2,    25.00, -0.9456
06AQ19960712,ARKXII,47,2,2,166570,2,19960806,1947,84.6950,104.3550,4013,  4016.0, -0.6878, 34.9394,2,-999.0000,9,  -999.0,9,  -999.0,9, -999.00,9, -999.00,9, -999.00,9, -999.00,9,-999.000,9,-999.000,9,-999.000,9,  -999.0,9,  -999.0,9,-999.0000,9,  -999.00,-999.0000
06AQ19960712,ARKXII,47,2,3,166571,2,19960806,1947,84.6950,104.3550,4013,  4016.0, -0.6881, 34.9397,2,-999.0000,9,  -999.0,9,  -999.0,9, -999.00,9, -999.00,9, -999.00,9, -999.00,9,-999.000,9,-999.000,9,-999.000,9,  -999.0,9,  -999.0,9,-999.0000,9,  -999.00,-999.0000
06AQ19960712,ARKXII,47,2,1,166569,2,19960806,1947,84.6950,104.3550,4013,  4016.0, -0.6879, 34.9395,2, 34.9425,2,  -999.0,9,   299.1,2,   11.12,2,   13.66,2, -999.00,9,    0.98,2,-999.000,9,   0.056,2,   0.465,2,  -999.0,9,  -999.0,9,   7.7015,2,    25.00, -0.9437
06AQ19960712,ARKXII,48,1,23,166627,2,19960807,0042,84.7783,105.7750,3861,     1.9, -1.7684, 34.1992,2, 34.1962,2,  -999.0,9,   364.5,2, -999.00,9, -999.00,9, -999.00,9, -999.00,9,-999.000,9,-999.000,9,-999.000,9,  2109.7,2,  -999.0,9,   7.7510,2,    25.00, -1.7650
06AQ19960712,ARKXII,48,1,22,166626,2,19960807,0042,84.7783,105.7750,3861,     9.7, -1.7782, 34.1974,2,-999.0000,9,  -999.0,9,  -999.0,9, -999.00,9, -999.00,9, -999.00,9, -999.00,9,-999.000,9,-999.000,9,-999.000,9,  -999.0,9,  -999.0,9,-999.0000,9,  -999.00,-999.0000
06AQ19960712,ARKXII,48,1,21,166625,2,19960807,0042,84.7783,105.7750,3861,     9.7, -1.7785, 34.1979,2, 34.1980,2,  -999.0,9,   364.4,2,    3.12,2,    5.56,2, -999.00,9,    0.49,2,-999.000,9,-999.000,9,-999.000,9,  -999.0,9,  -999.0,9,-999.0000,9,  -999.00, -1.7752
06AQ19960712,ARKXII,48,1,20,166624,2,19960807,0042,84.7783,105.7750,3861,    20.1, -1.7755, 34.2066,2,-999.0000,9,  -999.0,9,  -999.0,9, -999.00,9, -999.00,9, -999.00,9, -999.00,9,-999.000,9,-999.000,9,-999.000,9,  -999.0,9,  -999.0,9,-999.0000,9,  -999.00,-999.0000
06AQ19960712,ARKXII,48,1,19,166623,2,19960807,0042,84.7783,105.7750,3861,    20.1, -1.7777, 34.2099,2, 34.2079,2,  -999.0,9,   364.7,2,    3.12,2,    5.56,2, -999.00,9,    0.50,2,-999.000,9,-999.000,9,-999.000,9,  2112.9,2,  -999.0,9,   7.7510,2,    25.00, -1.7744
06AQ19960712,ARKXII,48,1,18,166622,2,19960807,0042,84.7783,105.7750,3861,    40.1, -1.8100, 34.2406,2,-999.0000,9,  -999.0,9,  -999.0,9, -999.00,9, -999.00,9, -999.00,9, -999.00,9,-999.000,9,-999.000,9,-999.000,9,  -999.0,9,  -999.0,9,-999.0000,9,  -999.00,-999.0000
06AQ19960712,ARKXII,48,1,17,166621,2,19960807,0042,84.7783,105.7750,3861,    40.1, -1.8099, 34.2411,2, 34.2388,2,  -999.0,9,   363.1,2, -999.00,9,    5.66,2, -999.00,9,    0.51,2,-999.000,9,-999.000,9,-999.000,9,  -999.0,9,  -999.0,9,-999.0000,9,  -999.00, -1.8078
06AQ19960712,ARKXII,48,1,15,166619,2,19960807,0042,84.7783,105.7750,3861,    50.0, -1.8131, 34.2437,2,-999.0000,9,  -999.0,9,  -999.0,9, -999.00,9, -999.00,9, -999.00,9, -999.00,9,-999.000,9,-999.000,9,-999.000,9,  -999.0,9,  -999.0,9,-999.0000,9,  -999.00,-999.0000
06AQ19960712,ARKXII,48,1,16,166620,2,19960807,0042,84.7783,105.7750,3861,    50.0, -1.8132, 34.2429,2,-999.0000,9,  -999.0,9,  -999.0,9, -999.00,9, -999.00,9, -999.00,9, -999.00,9,-999.000,9,-999.000,9,-999.000,9,  -999.0,9,  -999.0,9,-999.0000,9,  -999.00,-999.0000
06AQ19960712,ARKXII,48,1,14,166618,2,19960807,0042,84.7783,105.7750,3861,    60.3, -1.8084, 34.2528,2, 34.2490,2,  -999.0,9,   362.3,2, -999.00,9,    5.85,2, -999.00,9,    0.51,2,-999.000,9,-999.000,9,-999.000,9,  2113.4,2,  -999.0,9,   7.7519,2,    25.00, -1.8062
06AQ19960712,ARKXII,48,1,12,166616,2,19960807,0042,84.7783,105.7750,3861,    79.9, -1.8112, 34.2783,2, 34.2709,2,  -999.0,9,   359.2,2, -999.00,9, -999.00,9, -999.00,9, -999.00,9,-999.000,9,-999.000,9,-999.000,9,  2115.0,2,  -999.0,9,   7.7490,2,    25.00, -1.8096
06AQ19960712,ARKXII,48,1,13,166617,2,19960807,0042,84.7783,105.7750,3861,    79.9, -1.8122, 34.2711,2,-999.0000,9,  -999.0,9,  -999.0,9, -999.00,9, -999.00,9, -999.00,9, -999.00,9,-999.000,9,-999.000,9,-999.000,9,  -999.0,9,  -999.0,9,-999.0000,9,  -999.00,-999.0000
06AQ19960712,ARKXII,48,1,10,166614,2,19960807,0042,84.7783,105.7750,3861,   100.1, -1.7867, 34.2925,2, 34.2909,2,  -999.0,9,   357.1,2, -999.00,9, -999.00,9, -999.00,9, -999.00,9,-999.000,9,-999.000,9,-999.000,9,  -999.0,9,  -999.0,9,-999.0000,9,  -999.00, -1.7850
06AQ19960712,ARKXII,48,1,11,166615,2,19960807,0042,84.7783,105.7750,3861,   100.1, -1.8072, 34.2909,2,-999.0000,9,  -999.0,9,  -999.0,9, -999.00,9, -999.00,9, -999.00,9, -999.00,9,-999.000,9,-999.000,9,-999.000,9,  -999.0,9,  -999.0,9,-999.0000,9,  -999.00,-999.0000
06AQ19960712,ARKXII,48,1,9,166613,2,19960807,0042,84.7783,105.7750,3861,   124.6, -0.9552, 34.3679,2, 34.3651,2,  -999.0,9,   323.5,2, -999.00,9, -999.00,9, -999.00,9, -999.00,9,-999.000,9,-999.000,9,-999.000,9,  2131.2,2,  -999.0,9,   7.7103,2,    25.00, -0.9554
06AQ19960712,ARKXII,48,1,7,166611,2,19960807,0042,84.7783,105.7750,3861,   149.4,  0.0408, 34.5271,2, 34.5194,2,  -999.0,9,   305.3,2,    5.17,2,    9.85,2, -999.00,9,    0.76,2,-999.000,9,-999.000,9,-999.000,9,  2140.0,2,  -999.0,9,   7.6910,2,    25.00,  0.0395
06AQ19960712,ARKXII,48,1,8,166612,2,19960807,0042,84.7783,105.7750,3861,   149.5,  0.0106, 34.4725,2,-999.0000,9,  -999.0,9,  -999.0,9, -999.00,9, -999.00,9, -999.00,9, -999.00,9,-999.000,9,-999.000,9,-999.000,9,  -999.0,9,  -999.0,9,-999.0000,9,  -999.00,-999.0000
06AQ19960712,ARKXII,48,1,5,166609,2,19960807,0042,84.7783,105.7750,3861,   199.7,  1.4552, 34.8187,2, 34.8182,2,  -999.0,9,   299.5,2, -999.00,9, -999.00,9, -999.00,9, -999.00,9,-999.000,9,-999.000,9,-999.000,9,  -999.0,9,  -999.0,9,-999.0000,9,  -999.00,  1.4491
06AQ19960712,ARKXII,48,1,6,166610,2,19960807,0042,84.7783,105.7750,3861,   199.7,  1.4539, 34.8190,2,-999.0000,9,  -999.0,9,  -999.0,9, -999.00,9, -999.00,9, -999.00,9, -999.00,9,-999.000,9,-999.000,9,-999.000,9,  -999.0,9,  -999.0,9,-999.0000,9,  -999.00,-999.0000
06AQ19960712,ARKXII,48,1,4,166608,2,19960807,0042,84.7783,105.7750,3861,   249.7,  1.4809, 34.8781,2,-999.0000,9,  -999.0,9,  -999.0,9, -999.00,9, -999.00,9, -999.00,9, -999.00,9,-999.000,9,-999.000,9,-999.000,9,  -999.0,9,  -999.0,9,-999.0000,9,  -999.00,-999.0000
06AQ19960712,ARKXII,48,1,3,166607,2,19960807,0042,84.7783,105.7750,3861,   249.8,  1.4851, 34.8782,2, 34.8771,2,  -999.0,9,   301.2,2, -999.00,9, -999.00,9, -999.00,9, -999.00,9,-999.000,9,-999.000,9,-999.000,9,  -999.0,9,  -999.0,9,-999.0000,9,  -999.00,  1.4764
06AQ19960712,ARKXII,48,1,1,166605,2,19960807,0042,84.7783,105.7750,3861,   299.4,  1.3030, 34.8706,2, 34.8690,2,  -999.0,9,   301.0,2,    5.46,2, -999.00,9, -999.00,9, -999.00,9,-999.000,9,-999.000,9,-999.000,9,  2144.3,2,  -999.0,9,   7.7092,2,    25.00,  1.2923
06AQ19960712,ARKXII,48,1,2,166606,2,19960807,0042,84.7783,105.7750,3861,   299.4,  1.3080, 34.8753,2,-999.0000,9,  -999.0,9,  -999.0,9, -999.00,9, -999.00,9, -999.00,9, -999.00,9,-999.000,9,-999.000,9,-999.000,9,  -999.0,9,  -999.0,9,-999.0000,9,  -999.00,-999.0000