BOTTLE,20100322CCHDOSIODM
EXPOCODE,SECT_ID,STNNBR,CASTNO,SAMPNO,BTLNBR,BTLNBR_FLAG_W,DATE,TIME,LATITUDE,LONGITUDE,DEPTH,CTDPRS,CTDTMP,CTDSAL,CTDSAL_FLAG_W,SALNTY,SALNTY_FLAG_W,CTDOXY,CTDOXY_FLAG_W,OXYGEN,OXYGEN_FLAG_W,SILCAT,SILCAT_FLAG_W,NITRAT,NITRAT_FLAG_W,NITRIT,NITRIT_FLAG_W,PHSPHT,PHSPHT_FLAG_W,CFC-11,CFC-11_FLAG_W,CFC-12,CFC-12_FLAG_W,CCL4,CCL4_FLAG_W,TCARBN,TCARBN_FLAG_W,ALKALI,ALKALI_FLAG_W,PH_SWS,PH_SWS_FLAG_W,PH_TMP,THETA
,,,,,,,,,,,METERS,DBAR,ITS-90,PSS-78,,PSS-78,,UMOL/KG,,UMOL/KG,,UMOL/KG,,UMOL/KG,,UMOL/KG,,UMOL/KG,,PMOL/KG,,PMOL/KG,,PMOL/KG,,UMOL/KG,,UMOL/KG,,,,DEG C,DEG C
06AQ19960712,ARKXII,25,1,33,165871,2,19960731,0707,81.8583,83.9167,417,    10.2, -1.7848, 33.9464,2, 33.9473,2,  -999.0,9,   348.8,2, -999.00,9,    4.88,2, -999.00,9,    0.48,2,   6.774,2,-999.000,9,   8.191,2,  -999.0,9,  -999.0,9,-999.0000,9,  -999.00, -1.7812
06AQ19960712,ARKXII,25,1,32,165870,2,19960731,0707,81.8583,83.9167,417,    20.0, -1.7804, 33.9946,2,-999.0000,9,  -999.0,9,  -999.0,9, -999.00,9, -999.00,9, -999.00,9, -999.00,9,-999.000,9,-999.000,9,-999.000,9,  -999.0,9,  -999.0,9,-999.0000,9,  -999.00,-999.0000
06AQ19960712,ARKXII,25,1,31,165869,2,19960731,0707,81.8583,83.9167,417,    20.0, -1.7796, 33.9938,2,-999.0000,9,  -999.0,9,  -999.0,9, -999.00,9, -999.00,9, -999.00,9, -999.00,9,-999.000,9,-999.000,9,-999.000,9,  -999.0,9,  -999.0,9,-999.0000,9,  -999.00,-999.0000
06AQ19960712,ARKXII,25,1,30,165868,2,19960731,0707,81.8583,83.9167,417,    20.0, -1.7798, 33.9942,2, 33.9990,2,  -999.0,9,   345.7,2,    3.51,2,    5.17,2, -999.00,9,    0.51,2,   6.485,2,-999.000,9,   8.136,2,  -999.0,9,  -999.0,9,-999.0000,9,  -999.00, -1.7764
06AQ19960712,ARKXII,25,1,29,165867,2,19960731,0707,81.8583,83.9167,417,    30.4, -1.7935, 34.0074,2, 34.0094,2,  -999.0,9,   345.1,2,    3.51,2,    5.27,2, -999.00,9,    0.54,2,   6.790,2,-999.000,9,   8.253,2,  -999.0,9,  -999.0,9,-999.0000,9,  -999.00, -1.7906
06AQ19960712,ARKXII,25,1,28,165866,2,19960731,0707,81.8583,83.9167,417,    40.0, -1.8108, 34.0393,2, 34.0396,2,  -999.0,9,   343.5,2,    3.51,2,    5.37,2, -999.00,9,    0.54,2,   6.676,2,-999.000,9,   8.180,2,  -999.0,9,  -999.0,9,-999.0000,9,  -999.00, -1.8087
06AQ19960712,ARKXII,25,1,27,165865,2,19960731,0707,81.8583,83.9167,417,    50.0, -1.8127, 34.1060,2, 34.1055,2,  -999.0,9,   340.2,2,    3.71,2,    6.05,2, -999.00,9,    0.56,2,   6.562,2,-999.000,9,   8.140,2,  -999.0,9,  -999.0,9,-999.0000,9,  -999.00, -1.8099
06AQ19960712,ARKXII,25,1,26,165864,2,19960731,0707,81.8583,83.9167,417,    60.1, -1.7953, 34.1871,2, 34.1842,2,  -999.0,9,   336.4,2,    4.00,2,    6.54,2, -999.00,9,    0.59,2,   6.296,2,-999.000,9,   7.941,2,  -999.0,9,  -999.0,9,-999.0000,9,  -999.00, -1.7932
06AQ19960712,ARKXII,25,1,25,165863,2,19960731,0707,81.8583,83.9167,417,    79.8, -1.7694, 34.2724,2, 34.2609,2,  -999.0,9,   331.6,2,    4.20,2,    7.02,2, -999.00,9,    0.62,2,   6.835,2,-999.000,9,   8.121,2,  -999.0,9,  -999.0,9,-999.0000,9,  -999.00, -1.7676
06AQ19960712,ARKXII,25,1,24,165862,2,19960731,0707,81.8583,83.9167,417,    99.7, -1.2339, 34.4944,2, 34.4883,2,  -999.0,9,   324.2,2,    4.29,2,    8.39,2, -999.00,9,    0.69,2,   6.318,2,-999.000,9,   7.564,2,  -999.0,9,  -999.0,9,-999.0000,9,  -999.00, -1.2325
06AQ19960712,ARKXII,25,1,23,165861,2,19960731,0707,81.8583,83.9167,417,   124.7, -0.8683, 34.5969,2, 34.5961,2,  -999.0,9,   321.2,2,    4.49,2,    8.98,2, -999.00,9,    0.71,2,   6.176,2,-999.000,9,   7.567,2,  -999.0,9,  -999.0,9,-999.0000,9,  -999.00, -0.8686
06AQ19960712,ARKXII,25,1,20,165858,2,19960731,0707,81.8583,83.9167,417,   149.9, -0.4823, 34.6702,2, 34.6702,2,  -999.0,9,   318.8,2,    4.59,2,    9.56,2, -999.00,9,    0.76,2,   5.834,2,-999.000,9,   7.420,2,  -999.0,9,  -999.0,9,-999.0000,9,  -999.00, -0.4839
06AQ19960712,ARKXII,25,1,22,165860,2,19960731,0707,81.8583,83.9167,417,   149.9, -0.5622, 34.6637,2,-999.0000,9,  -999.0,9,  -999.0,9, -999.00,9, -999.00,9, -999.00,9, -999.00,9,-999.000,9,-999.000,9,-999.000,9,  -999.0,9,  -999.0,9,-999.0000,9,  -999.00,-999.0000
06AQ19960712,ARKXII,25,1,21,165859,2,19960731,0707,81.8583,83.9167,417,   149.9, -0.5685, 34.6648,2,-999.0000,9,  -999.0,9,  -999.0,9, -999.00,9, -999.00,9, -999.00,9, -999.00,9,-999.000,9,-999.000,9,-999.000,9,  -999.0,9,  -999.0,9,-999.0000,9,  -999.00,-999.0000
06AQ19960712,ARKXII,25,1,19,165857,2,19960731,0707,81.8583,83.9167,417,   200.1,  0.3460, 34.7967,2, 34.7944,2,  -999.0,9,   311.9,2,    5.37,2,   10.73,2, -999.00,9,    0.84,2,   5.500,2,-999.000,9,   6.897,2,  -999.0,9,  -999.0,9,-999.0000,9,  -999.00,  0.3420
06AQ19960712,ARKXII,25,1,18,165856,2,19960731,0707,81.8583,83.9167,417,   250.2, -0.0690, 34.8115,2, 34.8091,2,  -999.0,9,   313.1,2,    5.56,2,   10.54,2, -999.00,9,    0.84,2,   5.462,2,-999.000,9,   6.840,2,  -999.0,9,  -999.0,9,-999.0000,9,  -999.00, -0.0743
06AQ19960712,ARKXII,25,1,17,165855,2,19960731,0707,81.8583,83.9167,417,   299.9, -0.6762, 34.8008,2, 34.7991,2,  -999.0,9,   317.4,2,    5.66,2,   10.05,2, -999.00,9,    0.82,2,   6.188,2,-999.000,9,   7.470,2,  -999.0,9,  -999.0,9,-999.0000,9,  -999.00, -0.6827
06AQ19960712,ARKXII,25,1,16,165854,2,19960731,0707,81.8583,83.9167,417,   350.1, -0.5324, 34.8276,2, 34.8228,2,  -999.0,9,   314.8,2,    5.95,2,   10.44,2, -999.00,9,    0.84,2,   5.945,2,-999.000,9,   7.435,2,  -999.0,9,  -999.0,9,-999.0000,9,  -999.00, -0.5410
06AQ19960712,ARKXII,25,1,15,165853,2,19960731,0707,81.8583,83.9167,417,   385.0, -0.6493, 34.8286,2, 34.8263,2,  -999.0,9,   315.4,2,    6.15,2,   10.34,2, -999.00,9,    0.84,2,   6.456,2,-999.000,9,   7.645,2,  -999.0,9,  -999.0,9,-999.0000,9,  -999.00, -0.6589
06AQ19960712,ARKXII,25,1,2,165840,2,19960731,0707,81.8583,83.9167,417,   396.2, -0.6470, 34.8292,2, 34.8274,2,  -999.0,9,   315.5,2,    6.15,2,   10.34,2, -999.00,9,    0.84,2,   6.091,2,-999.000,9,   7.625,2,  -999.0,9,  -999.0,9,-999.0000,9,  -999.00, -0.6563
06AQ19960712,ARKXII,25,1,3,165841,2,19960731,0707,81.8583,83.9167,417,   396.2, -0.6479, 34.8290,2,-999.0000,9,  -999.0,9,  -999.0,9, -999.00,9, -999.00,9, -999.00,9, -999.00,9,-999.000,9,-999.000,9,-999.000,9,  -999.0,9,  -999.0,9,-999.0000,9,  -999.00,-999.0000
06AQ19960712,ARKXII,25,1,7,165845,2,19960731,0707,81.8583,83.9167,417,   396.3, -0.6474, 34.8283,2,-999.0000,9,  -999.0,9,  -999.0,9, -999.00,9, -999.00,9, -999.00,9, -999.00,9,-999.000,9,-999.000,9,-999.000,9,  -999.0,9,  -999.0,9,-999.0000,9,  -999.00,-999.0000
06AQ19960712,ARKXII,25,1,8,165846,2,19960731,0707,81.8583,83.9167,417,   396.3, -0.6475, 34.8285,2,-999.0000,9,  -999.0,9,  -999.0,9, -999.00,9, -999.00,9, -999.00,9, -999.00,9,-999.000,9,-999.000,9,-999.000,9,  -999.0,9,  -999.0,9,-999.0000,9,  -999.00,-999.0000
06AQ19960712,ARKXII,25,1,9,165847,2,19960731,0707,81.8583,83.9167,417,   396.3, -0.6472, 34.8288,2,-999.0000,9,  -999.0,9,  -999.0,9, -999.00,9, -999.00,9, -999.00,9, -999.00,9,-999.000,9,-999.000,9,-999.000,9,  -999.0,9,  -999.0,9,-999.0000,9,  -999.00,-999.0000
06AQ19960712,ARKXII,25,1,10,165848,2,19960731,0707,81.8583,83.9167,417,   396.3, -0.6464, 34.8281,2,-999.0000,9,  -999.0,9,  -999.0,9, -999.00,9, -999.00,9, -999.00,9, -999.00,9,-999.000,9,-999.000,9,-999.000,9,  -999.0,9,  -999.0,9,-999.0000,9,  -999.00,-999.0000
06AQ19960712,ARKXII,25,1,11,165849,2,19960731,0707,81.8583,83.9167,417,   396.3, -0.6459, 34.8284,2,-999.0000,9,  -999.0,9,  -999.0,9, -999.00,9, -999.00,9, -999.00,9, -999.00,9,-999.000,9,-999.000,9,-999.000,9,  -999.0,9,  -999.0,9,-999.0000,9,  -999.00,-999.0000
06AQ19960712,ARKXII,25,1,6,165844,2,19960731,0707,81.8583,83.9167,417,   396.3, -0.6474, 34.8283,2,-999.0000,9,  -999.0,9,  -999.0,9, -999.00,9, -999.00,9, -999.00,9, -999.00,9,-999.000,9,-999.000,9,-999.000,9,  -999.0,9,  -999.0,9,-999.0000,9,  -999.00,-999.0000
06AQ19960712,ARKXII,25,1,5,165843,2,19960731,0707,81.8583,83.9167,417,   396.3, -0.6468, 34.8277,2,-999.0000,9,  -999.0,9,  -999.0,9, -999.00,9, -999.00,9, -999.00,9, -999.00,9,-999.000,9,-999.000,9,-999.000,9,  -999.0,9,  -999.0,9,-999.0000,9,  -999.00,-999.0000
06AQ19960712,ARKXII,25,1,4,165842,2,19960731,0707,81.8583,83.9167,417,   396.3, -0.6474, 34.8283,2,-999.0000,9,  -999.0,9,  -999.0,9, -999.00,9, -999.00,9, -999.00,9, -999.00,9,-999.000,9,-999.000,9,-999.000,9,  -999.0,9,  -999.0,9,-999.0000,9,  -999.00,-999.0000
06AQ19960712,ARKXII,25,1,12,165850,2,19960731,0707,81.8583,83.9167,417,   396.4, -0.6470, 34.8286,2,-999.0000,9,  -999.0,9,  -999.0,9, -999.00,9, -999.00,9, -999.00,9, -999.00,9,-999.000,9,-999.000,9,-999.000,9,  -999.0,9,  -999.0,9,-999.0000,9,  -999.00,-999.0000
06AQ19960712,ARKXII,25,1,13,165851,2,19960731,0707,81.8583,83.9167,417,   396.4, -0.6471, 34.8290,2,-999.0000,9,  -999.0,9,  -999.0,9, -999.00,9, -999.00,9, -999.00,9, -999.00,9,-999.000,9,-999.000,9,-999.000,9,  -999.0,9,  -999.0,9,-999.0000,9,  -999.00,-999.0000
06AQ19960712,ARKXII,25,1,14,165852,2,19960731,0707,81.8583,83.9167,417,   396.4, -0.6459, 34.8285,2,-999.0000,9,  -999.0,9,  -999.0,9, -999.00,9, -999.00,9, -999.00,9, -999.00,9,-999.000,9,-999.000,9,-999.000,9,  -999.0,9,  -999.0,9,-999.0000,9,  -999.00,-999.0000
06AQ19960712,ARKXII,25,1,1,165839,2,19960731,0707,81.8583,83.9167,417,   405.7, -0.6423, 34.8302,2, 34.8295,2,  -999.0,9,   315.1,2,    6.15,2,   10.34,2, -999.00,9,    0.83,2,   6.164,2,-999.000,9,   7.648,2,  -999.0,9,  -999.0,9,-999.0000,9,  -999.00, -0.6527
06AQ19960712,ARKXII,26,1,36,165907,2,19960731,1749,81.8317,85.9967,371,     2.6, -1.7871, 33.9287,2,-999.0000,9,  -999.0,9,  -999.0,9, -999.00,9, -999.00,9, -999.00,9, -999.00,9,-999.000,9,-999.000,9,-999.000,9,  -999.0,9,  -999.0,9,-999.0000,9,  -999.00,-999.0000
06AQ19960712,ARKXII,26,1,35,165906,2,19960731,1749,81.8317,85.9967,371,    10.6, -1.7887, 33.9252,2,-999.0000,9,  -999.0,9,  -999.0,9, -999.00,9, -999.00,9, -999.00,9, -999.00,9,-999.000,9,-999.000,9,-999.000,9,  -999.0,9,  -999.0,9,-999.0000,9,  -999.00,-999.0000
06AQ19960712,ARKXII,26,1,34,165905,2,19960731,1749,81.8317,85.9967,371,    10.6, -1.7898, 33.9360,2, 33.9374,2,  -999.0,9,   346.6,2,    3.12,2,    5.17,2, -999.00,9,    0.44,2,   6.421,2,   3.165,2,   7.828,2,  2115.9,2,  2272.2,2,   7.7279,2,    25.00, -1.7872
06AQ19960712,ARKXII,26,1,33,165904,2,19960731,1749,81.8317,85.9967,371,    20.9, -1.8010, 33.9664,2,-999.0000,9,  -999.0,9,  -999.0,9, -999.00,9, -999.00,9, -999.00,9, -999.00,9,-999.000,9,-999.000,9,-999.000,9,  -999.0,9,  -999.0,9,-999.0000,9,  -999.00,-999.0000
06AQ19960712,ARKXII,26,1,32,165903,2,19960731,1749,81.8317,85.9967,371,    20.9, -1.8028, 33.9685,2, 33.9690,2,  -999.0,9,   345.1,2,    3.32,2,    5.46,2, -999.00,9,    0.46,2,-999.000,9,-999.000,9,-999.000,9,  2120.7,2,  2269.7,2,   7.7201,2,    25.00, -1.7994
06AQ19960712,ARKXII,26,1,31,165902,2,19960731,1749,81.8317,85.9967,371,    30.3, -1.8042, 33.9780,2,-999.0000,9,  -999.0,9,  -999.0,9, -999.00,9, -999.00,9, -999.00,9, -999.00,9,-999.000,9,-999.000,9,-999.000,9,  -999.0,9,  -999.0,9,-999.0000,9,  -999.00,-999.0000
06AQ19960712,ARKXII,26,1,30,165901,2,19960731,1749,81.8317,85.9967,371,    30.4, -1.8061, 33.9939,2, 34.0593,2,  -999.0,9,   337.6,2,    3.61,2,    6.15,2, -999.00,9,    0.50,2,   6.900,2,   3.150,2,   7.930,2,  -999.0,9,  -999.0,9,-999.0000,9,  -999.00, -1.8036
06AQ19960712,ARKXII,26,1,29,165900,2,19960731,1749,81.8317,85.9967,371,    41.0, -1.7980, 34.0759,2,-999.0000,9,  -999.0,9,  -999.0,9, -999.00,9, -999.00,9, -999.00,9, -999.00,9,-999.000,9,-999.000,9,-999.000,9,  -999.0,9,  -999.0,9,-999.0000,9,  -999.00,-999.0000
06AQ19960712,ARKXII,26,1,28,165899,2,19960731,1749,81.8317,85.9967,371,    41.0, -1.7967, 34.0900,2, 34.1249,2,  -999.0,9,   332.7,2,    3.80,2,    6.73,2, -999.00,9,    0.56,2,-999.000,9,-999.000,9,-999.000,9,  2132.2,2,  2274.7,2,   7.7027,2,    25.00, -1.7948
06AQ19960712,ARKXII,26,1,26,165897,2,19960731,1749,81.8317,85.9967,371,    50.6, -1.7654, 34.1943,2, 34.2118,2,  -999.0,9,   327.7,2,    3.90,2,    7.22,2, -999.00,9,    0.58,2,   6.612,2,   3.177,2,   7.558,2,  -999.0,9,  -999.0,9,-999.0000,9,  -999.00, -1.7650
06AQ19960712,ARKXII,26,1,27,165898,2,19960731,1749,81.8317,85.9967,371,    50.6, -1.7701, 34.1827,2,-999.0000,9,  -999.0,9,  -999.0,9, -999.00,9, -999.00,9, -999.00,9, -999.00,9,-999.000,9,-999.000,9,-999.000,9,  -999.0,9,  -999.0,9,-999.0000,9,  -999.00,-999.0000
06AQ19960712,ARKXII,26,1,25,165896,2,19960731,1749,81.8317,85.9967,371,    60.7, -1.6883, 34.2590,2, 34.2551,2,  -999.0,9,   326.9,2,    4.00,2,    7.51,2, -999.00,9,    0.60,2,   6.250,2,   3.079,2,   7.600,2,  2132.2,2,  2277.7,2,   7.6988,2,    25.00, -1.6872
06AQ19960712,ARKXII,26,1,23,165894,2,19960731,1749,81.8317,85.9967,371,    81.0, -1.5143, 34.3255,2, 34.3277,2,  -999.0,9,   325.7,2,    4.00,2,    7.71,2, -999.00,9,    0.62,2,   6.312,2,   3.100,2,   7.718,2,  2128.9,2,  2285.7,2,   7.6988,2,    25.00, -1.5148
06AQ19960712,ARKXII,26,1,24,165895,2,19960731,1749,81.8317,85.9967,371,    81.0, -1.6276, 34.3200,2,-999.0000,9,  -999.0,9,  -999.0,9, -999.00,9, -999.00,9, -999.00,9, -999.00,9,-999.000,9,-999.000,9,-999.000,9,  -999.0,9,  -999.0,9,-999.0000,9,  -999.00,-999.0000
06AQ19960712,ARKXII,26,1,21,165892,2,19960731,1749,81.8317,85.9967,371,   100.7, -1.1066, 34.4528,2, 34.4534,2,  -999.0,9,   324.0,2,    4.00,2,    8.39,2, -999.00,9,    0.65,2,   6.209,2,   2.972,2,   7.274,2,  2137.8,2,  2291.4,2,   7.7016,2,    25.00, -1.0986
06AQ19960712,ARKXII,26,1,22,165893,2,19960731,1749,81.8317,85.9967,371,   100.7, -1.0803, 34.4496,2,-999.0000,9,  -999.0,9,  -999.0,9, -999.00,9, -999.00,9, -999.00,9, -999.00,9,-999.000,9,-999.000,9,-999.000,9,  -999.0,9,  -999.0,9,-999.0000,9,  -999.00,-999.0000
06AQ19960712,ARKXII,26,1,20,165891,2,19960731,1749,81.8317,85.9967,371,   125.8, -0.8771, 34.5596,2, 34.5595,2,  -999.0,9,   322.3,2,    4.20,2,    8.88,2, -999.00,9,    0.68,2,   5.900,2,   3.014,2,   7.328,2,  -999.0,9,  -999.0,9,-999.0000,9,  -999.00, -0.8866
06AQ19960712,ARKXII,26,1,18,165889,2,19960731,1749,81.8317,85.9967,371,   151.0,  0.0919, 34.6997,2, 34.6926,2,  -999.0,9,   315.7,2,    4.59,2,   10.15,2, -999.00,9,    0.74,2,   5.656,2,   2.847,2,   6.554,2,  -999.0,9,  -999.0,9,-999.0000,9,  -999.00,  0.0145
06AQ19960712,ARKXII,26,1,19,165890,2,19960731,1749,81.8317,85.9967,371,   151.1,  0.0601, 34.6975,2,-999.0000,9,  -999.0,9,  -999.0,9, -999.00,9, -999.00,9, -999.00,9, -999.00,9,-999.000,9,-999.000,9,-999.000,9,  -999.0,9,  -999.0,9,-999.0000,9,  -999.00,-999.0000
06AQ19960712,ARKXII,26,1,16,165887,2,19960731,1749,81.8317,85.9967,371,   201.6,  0.6493, 34.8080,2, 34.8087,2,  -999.0,9,   311.5,2,    5.17,2,   11.12,2, -999.00,9,    0.79,2,   5.632,2,   2.693,2,   6.579,2,  2143.1,2,  2290.4,2,   7.7073,2,    25.00,  0.6504
06AQ19960712,ARKXII,26,1,17,165888,2,19960731,1749,81.8317,85.9967,371,   201.6,  0.6638, 34.8083,2,-999.0000,9,  -999.0,9,  -999.0,9, -999.00,9, -999.00,9, -999.00,9, -999.00,9,-999.000,9,-999.000,9,-999.000,9,  -999.0,9,  -999.0,9,-999.0000,9,  -999.00,-999.0000
06AQ19960712,ARKXII,26,1,14,165885,2,19960731,1749,81.8317,85.9967,371,   251.6,  0.1240, 34.8140,2, 34.8116,2,  -999.0,9,   313.7,2,    5.56,2,   11.12,2, -999.00,9,    0.81,2,   5.900,2,   2.716,2,   6.858,2,  -999.0,9,  -999.0,9,-999.0000,9,  -999.00,  0.1353
06AQ19960712,ARKXII,26,1,15,165886,2,19960731,1749,81.8317,85.9967,371,   251.6,  0.1749, 34.8139,2,-999.0000,9,  -999.0,9,  -999.0,9, -999.00,9, -999.00,9, -999.00,9, -999.00,9,-999.000,9,-999.000,9,-999.000,9,  -999.0,9,  -999.0,9,-999.0000,9,  -999.00,-999.0000
06AQ19960712,ARKXII,26,1,13,165884,2,19960731,1749,81.8317,85.9967,371,   301.8, -0.7459, 34.7959,2,-999.0000,9,  -999.0,9,  -999.0,9, -999.00,9, -999.00,9, -999.00,9, -999.00,9,-999.000,9,-999.000,9,-999.000,9,  -999.0,9,  -999.0,9,-999.0000,9,  -999.00,-999.0000
06AQ19960712,ARKXII,26,1,12,165883,2,19960731,1749,81.8317,85.9967,371,   301.8, -0.7394, 34.7964,2, 34.7962,2,  -999.0,9,   318.2,2,    5.56,2,   10.05,2, -999.00,9,    0.78,2,   6.005,2,   3.031,2,   7.669,2,  2154.1,2,  2295.9,2,   7.6832,2,    25.00, -0.7496
06AQ19960712,ARKXII,26,1,11,165882,2,19960731,1749,81.8317,85.9967,371,   343.8, -0.7570, 34.8057,2, 34.8057,2,  -999.0,9,   317.2,2,    5.85,2,   10.24,2, -999.00,9,    0.78,2,-999.000,9,-999.000,9,-999.000,9,  2155.6,2,  2293.6,2,   7.6784,2,    25.00, -0.7690
06AQ19960712,ARKXII,26,1,2,165873,2,19960731,1749,81.8317,85.9967,371,   353.5, -0.7422, 34.8076,2, 34.8071,2,  -999.0,9,   317.4,2,    5.76,2,   10.24,2, -999.00,9,    0.78,2,   6.307,2,   3.046,2,   7.580,2,  2156.0,2,  2294.4,2,   7.6794,2,    25.00, -0.7504
06AQ19960712,ARKXII,26,1,3,165874,2,19960731,1749,81.8317,85.9967,371,   353.5, -0.7420, 34.8075,2,-999.0000,9,  -999.0,9,  -999.0,9, -999.00,9, -999.00,9, -999.00,9, -999.00,9,-999.000,9,-999.000,9,-999.000,9,  -999.0,9,  -999.0,9,-999.0000,9,  -999.00,-999.0000
06AQ19960712,ARKXII,26,1,4,165875,2,19960731,1749,81.8317,85.9967,371,   353.6, -0.7416, 34.8075,2,-999.0000,9,  -999.0,9,  -999.0,9, -999.00,9, -999.00,9, -999.00,9, -999.00,9,-999.000,9,-999.000,9,-999.000,9,  -999.0,9,  -999.0,9,-999.0000,9,  -999.00,-999.0000
06AQ19960712,ARKXII,26,1,6,165877,2,19960731,1749,81.8317,85.9967,371,   353.6, -0.7427, 34.8075,2,-999.0000,9,  -999.0,9,  -999.0,9, -999.00,9, -999.00,9, -999.00,9, -999.00,9,-999.000,9,-999.000,9,-999.000,9,  -999.0,9,  -999.0,9,-999.0000,9,  -999.00,-999.0000
06AQ19960712,ARKXII,26,1,7,165878,2,19960731,1749,81.8317,85.9967,371,   353.6, -0.7439, 34.8074,2,-999.0000,9,  -999.0,9,  -999.0,9, -999.00,9, -999.00,9, -999.00,9, -999.00,9,-999.000,9,-999.000,9,-999.000,9,  -999.0,9,  -999.0,9,-999.0000,9,  -999.00,-999.0000
06AQ19960712,ARKXII,26,1,5,165876,2,19960731,1749,81.8317,85.9967,371,   353.6, -0.7417, 34.8075,2,-999.0000,9,  -999.0,9,  -999.0,9, -999.00,9, -999.00,9, -999.00,9, -999.00,9,-999.000,9,-999.000,9,-999.000,9,  -999.0,9,  -999.0,9,-999.0000,9,  -999.00,-999.0000
06AQ19960712,ARKXII,26,1,8,165879,2,19960731,1749,81.8317,85.9967,371,   353.7, -0.7432, 34.8074,2,-999.0000,9,  -999.0,9,  -999.0,9, -999.00,9, -999.00,9, -999.00,9, -999.00,9,-999.000,9,-999.000,9,-999.000,9,  -999.0,9,  -999.0,9,-999.0000,9,  -999.00,-999.0000
06AQ19960712,ARKXII,26,1,10,165881,2,19960731,1749,81.8317,85.9967,371,   353.7, -0.7433, 34.8075,2,-999.0000,9,  -999.0,9,  -999.0,9, -999.00,9, -999.00,9, -999.00,9, -999.00,9,-999.000,9,-999.000,9,-999.000,9,  -999.0,9,  -999.0,9,-999.0000,9,  -999.00,-999.0000
06AQ19960712,ARKXII,26,1,9,165880,2,19960731,1749,81.8317,85.9967,371,   353.7, -0.7446, 34.8074,2,-999.0000,9,  -999.0,9,  -999.0,9, -999.00,9, -999.00,9, -999.00,9, -999.00,9,-999.000,9,-999.000,9,-999.000,9,  -999.0,9,  -999.0,9,-999.0000,9,  -999.00,-999.0000
06AQ19960712,ARKXII,26,1,1,165872,2,19960731,1749,81.8317,85.9967,371,   362.3, -0.7386, 34.8080,2, 34.8084,2,  -999.0,9,   317.0,2,    5.85,2,   10.44,2, -999.00,9,    0.79,2,-999.000,9,-999.000,9,-999.000,9,  2157.3,2,  2272.6,4,   7.6707,2,    25.00, -0.7487