BOTTLE,20100322CCHDOSIODM
EXPOCODE,SECT_ID,STNNBR,CASTNO,SAMPNO,BTLNBR,BTLNBR_FLAG_W,DATE,TIME,LATITUDE,LONGITUDE,DEPTH,CTDPRS,CTDTMP,CTDSAL,CTDSAL_FLAG_W,SALNTY,SALNTY_FLAG_W,CTDOXY,CTDOXY_FLAG_W,OXYGEN,OXYGEN_FLAG_W,SILCAT,SILCAT_FLAG_W,NITRAT,NITRAT_FLAG_W,NITRIT,NITRIT_FLAG_W,PHSPHT,PHSPHT_FLAG_W,CFC-11,CFC-11_FLAG_W,CFC-12,CFC-12_FLAG_W,CCL4,CCL4_FLAG_W,TCARBN,TCARBN_FLAG_W,ALKALI,ALKALI_FLAG_W,PH_SWS,PH_SWS_FLAG_W,PH_TMP,THETA
,,,,,,,,,,,METERS,DBAR,ITS-90,PSS-78,,PSS-78,,UMOL/KG,,UMOL/KG,,UMOL/KG,,UMOL/KG,,UMOL/KG,,UMOL/KG,,PMOL/KG,,PMOL/KG,,PMOL/KG,,UMOL/KG,,UMOL/KG,,,,DEG C,DEG C
06AQ19960712,ARKXII,99,1,29,168457,2,19960901,2127,78.9667,133.1500,3004,     9.6, -1.7558, 32.5170,2, 32.5304,2,  -999.0,9,   376.5,2, -999.00,9,    1.66,2, -999.00,9,    0.30,2,   6.813,2,   3.205,2,   7.378,2,  2076.7,2,  2213.1,2,   7.7196,2,    25.00, -1.7522
06AQ19960712,ARKXII,99,1,28,168456,2,19960901,2127,78.9667,133.1500,3004,    20.0, -1.7251, 32.6455,2, 32.7622,2,  -999.0,9,   378.8,2, -999.00,9,    1.66,2, -999.00,9,    0.32,2,   7.054,2,   3.382,2,   8.070,2,  -999.0,9,  -999.0,9,-999.0000,9,  -999.00, -1.7243
06AQ19960712,ARKXII,99,1,27,168455,2,19960901,2127,78.9667,133.1500,3004,    29.2, -1.7083, 33.0518,2, 33.0560,2,  -999.0,9,   376.0,2, -999.00,9,    2.15,2, -999.00,9,    0.32,2,   7.085,2,   3.248,2,   8.317,2,  2111.1,2,  2245.8,2,   7.7050,2,    25.00, -1.7035
06AQ19960712,ARKXII,99,1,26,168454,2,19960901,2127,78.9667,133.1500,3004,    39.0, -1.7135, 33.1177,2, 33.1144,2,  -999.0,9,   380.2,2,    2.15,2,    1.95,2, -999.00,9,    0.31,2,   7.176,2,   3.463,2,   8.489,2,  -999.0,9,  -999.0,9,-999.0000,9,  -999.00, -1.7107
06AQ19960712,ARKXII,99,1,25,168453,2,19960901,2127,78.9667,133.1500,3004,    59.4, -1.7904, 33.5521,2, 33.5847,2,  -999.0,9,   354.0,2,    2.73,2,    3.90,2, -999.00,9,    0.41,2,   7.077,2,   3.408,2,   8.364,2,  2133.0,2,  2259.4,2,   7.6846,2,    25.00, -1.7861
06AQ19960712,ARKXII,99,1,24,168452,2,19960901,2127,78.9667,133.1500,3004,    79.3, -1.6653, 34.0192,2, 34.0251,2,  -999.0,9,   330.3,2,    3.32,2,    6.15,2, -999.00,9,    0.53,2,   6.500,2,   2.982,2,   6.414,2,  2134.8,2,  2256.5,2,   7.6777,2,    25.00, -1.6716
06AQ19960712,ARKXII,99,1,23,168451,2,19960901,2127,78.9667,133.1500,3004,    99.4, -1.1647, 34.3442,2, 34.3418,2,  -999.0,9,   316.2,2,    4.20,2,    7.90,2, -999.00,9,    0.61,2,   6.174,2,   2.845,2,   5.731,2,  2139.1,2,  2254.7,2,   7.6767,2,    25.00, -1.1686
06AQ19960712,ARKXII,99,1,22,168450,2,19960901,2127,78.9667,133.1500,3004,   149.4, -0.3488, 34.5615,2, 34.5624,2,  -999.0,9,   310.9,2,    4.78,2,    9.17,2, -999.00,9,    0.67,2,   5.865,2,   2.682,2,   5.951,2,  2136.9,2,  2276.2,2,   7.6708,2,    25.00, -0.3550
06AQ19960712,ARKXII,99,1,21,168449,2,19960901,2127,78.9667,133.1500,3004,   199.1,  0.7813, 34.7525,2, 34.7701,2,  -999.0,9,   304.9,2,    5.27,2,   10.63,2, -999.00,9,    0.74,2,   5.456,2,   2.606,2,   5.643,2,  -999.0,9,  -999.0,9,-999.0000,9,  -999.00,  0.7393
06AQ19960712,ARKXII,99,1,20,168448,2,19960901,2127,78.9667,133.1500,3004,   249.0,  1.2673, 34.8472,2, 34.8472,2,  -999.0,9,   304.8,2,    5.56,2,   11.02,2, -999.00,9,    0.77,2,   5.164,2,   2.300,2,   5.698,2,  2146.4,2,  2288.2,2,   7.7054,2,    25.00,  1.2609
06AQ19960712,ARKXII,99,1,19,168447,2,19960901,2127,78.9667,133.1500,3004,   299.3,  1.1286, 34.8581,2, 34.8563,2,  -999.0,9,   305.5,2,    5.76,2,   11.12,2, -999.00,9,    0.76,2,   5.052,2,   2.314,2,   5.688,2,  -999.0,9,  -999.0,9,-999.0000,9,  -999.00,  1.1217
06AQ19960712,ARKXII,99,1,18,168446,2,19960901,2127,78.9667,133.1500,3004,   398.9,  0.9099, 34.8733,2, 34.8722,2,  -999.0,9,   305.7,2,    5.85,2,   11.32,2, -999.00,9,    0.78,2,   4.943,2,   2.301,2,   5.695,2,  2149.4,2,  2288.9,2,   7.6967,2,    25.00,  0.8983
06AQ19960712,ARKXII,99,1,17,168445,2,19960901,2127,78.9667,133.1500,3004,   499.1,  0.5609, 34.8737,2, 34.8738,2,  -999.0,9,   306.1,2,    5.95,2,   11.41,2, -999.00,9, -999.00,9,   4.817,2,   2.080,2,   5.653,2,  -999.0,9,  -999.0,9,-999.0000,9,  -999.00,  0.5436
06AQ19960712,ARKXII,99,1,16,168444,2,19960901,2127,78.9667,133.1500,3004,   599.1,  0.3151, 34.8761,2, 34.8773,2,  -999.0,9,   306.9,2,    6.15,2,   11.61,2, -999.00,9,    0.80,2,   4.493,2,   2.040,2,   5.476,2,  2149.4,2,  2288.4,2,   7.6938,2,    25.00,  0.2928
06AQ19960712,ARKXII,99,1,15,168443,2,19960901,2127,78.9667,133.1500,3004,   698.8,  0.0567, 34.8754,2, 34.8749,2,  -999.0,9,   308.4,2,    6.24,2,   11.41,2, -999.00,9,    0.80,2,   4.665,2,   2.215,2,   5.575,2,  -999.0,9,  -999.0,9,-999.0000,9,  -999.00,  0.0263
06AQ19960712,ARKXII,99,1,14,168442,2,19960901,2127,78.9667,133.1500,3004,   799.1, -0.1489, 34.8741,2, 34.8713,2,  -999.0,9,   310.2,2,    6.34,2,   11.32,2, -999.00,9,    0.80,2,   4.844,2,   2.314,2,   5.942,2,  -999.0,9,  -999.0,9,-999.0000,9,  -999.00, -0.1783
06AQ19960712,ARKXII,99,1,13,168441,2,19960901,2127,78.9667,133.1500,3004,   999.6, -0.2907, 34.8883,2, 34.8883,2,  -999.0,9,   309.5,2,    6.93,2,   11.61,2, -999.00,9,    0.81,2,   4.723,2,   2.136,2,   5.837,2,  2159.0,2,  2292.7,2,   7.6774,2,    25.00, -0.3293
06AQ19960712,ARKXII,99,1,12,168440,2,19960901,2127,78.9667,133.1500,3004,  1198.5, -0.3648, 34.9049,2, 34.9051,2,  -999.0,9,   305.2,2,    8.10,2,   12.49,2, -999.00,9,    0.85,2,   3.700,2,   1.683,2,   4.752,2,  -999.0,9,  -999.0,9,-999.0000,9,  -999.00, -0.4131
06AQ19960712,ARKXII,99,1,11,168439,2,19960901,2127,78.9667,133.1500,3004,  1399.2, -0.5255, 34.9117,2, 34.9115,2,  -999.0,9,   301.2,2,    9.27,2,   13.27,2, -999.00,9,    0.86,2,   1.706,2,   0.786,2,   3.027,2,  -999.0,9,  -999.0,9,-999.0000,9,  -999.00, -0.5825
06AQ19960712,ARKXII,99,1,10,168438,2,19960901,2127,78.9667,133.1500,3004,  1599.5, -0.6403, 34.9149,2, 34.9153,2,  -999.0,9,   299.8,2,   10.34,2,   13.76,2, -999.00,9,    0.94,2,   1.015,2,   0.454,2,   2.084,2,  -999.0,9,  -999.0,9,-999.0000,9,  -999.00, -0.7077
06AQ19960712,ARKXII,99,1,9,168437,2,19960901,2127,78.9667,133.1500,3004,  1799.4, -0.7033, 34.9174,2, 34.9172,2,  -999.0,9,   299.1,2,   10.73,2,   13.37,2, -999.00,9,    0.94,2,   0.832,2,   0.366,2,   1.727,2,  2153.4,2,  2290.2,2,   7.6909,2,    25.00, -0.7819
06AQ19960712,ARKXII,99,1,8,168436,2,19960901,2127,78.9667,133.1500,3004,  2000.0, -0.7455, 34.9181,2, 34.9195,2,  -999.0,9,   299.1,2,   10.83,2,   13.56,2, -999.00,9,    0.94,2,   0.657,2,   0.243,2,   1.490,2,  -999.0,9,  -999.0,9,-999.0000,9,  -999.00, -0.8370
06AQ19960712,ARKXII,99,1,7,168435,2,19960901,2127,78.9667,133.1500,3004,  2199.7, -0.7710, 34.9209,2, 34.9218,2,  -999.0,9,   299.3,2,   11.12,2,   13.56,2, -999.00,9,    0.95,2,   0.424,2,   0.212,2,   1.255,2,  -999.0,9,  -999.0,9,-999.0000,9,  -999.00, -0.8748
06AQ19960712,ARKXII,99,1,6,168434,2,19960901,2127,78.9667,133.1500,3004,  2400.1, -0.7853, 34.9239,2, 34.9235,2,  -999.0,9,   299.2,2,   11.22,2,   13.66,2, -999.00,9,    0.99,2,   0.271,2,   0.163,2,   1.075,2,  -999.0,9,  -999.0,9,-999.0000,9,  -999.00, -0.9035
06AQ19960712,ARKXII,99,1,5,168433,2,19960901,2127,78.9667,133.1500,3004,  2599.9, -0.7880, 34.9278,2, 34.9269,2,  -999.0,9,   298.7,2,   11.22,2,   13.66,2, -999.00,9,    0.96,2,   0.250,2,   0.113,2,   0.919,2,  2150.3,2,  2291.2,2,   7.6967,2,    25.00, -0.9200
06AQ19960712,ARKXII,99,1,4,168432,2,19960901,2127,78.9667,133.1500,3004,  2799.5, -0.7809, 34.9322,2, 34.9314,2,  -999.0,9,   297.4,2,   11.41,2,   13.66,2, -999.00,9,    0.95,2,   0.205,2,   0.076,2,   0.620,2,  -999.0,9,  -999.0,9,-999.0000,9,  -999.00, -0.9284
06AQ19960712,ARKXII,99,1,3,168431,2,19960901,2127,78.9667,133.1500,3004,  2899.4, -0.7694, 34.9365,2, 34.9344,2,  -999.0,9,   295.9,2,   11.80,2,   13.95,2, -999.00,9,    0.95,2,   0.110,2,   0.063,2,   0.542,2,  2149.5,2,  2291.2,2,   7.6996,2,    25.00, -0.9254
06AQ19960712,ARKXII,99,1,2,168430,2,19960901,2127,78.9667,133.1500,3004,  2949.9, -0.7633, 34.9384,2, 34.9371,2,  -999.0,9,   295.0,2,   11.90,2,   14.15,2, -999.00,9,    0.95,2,   0.229,2,   0.066,2,   0.249,2,  2150.9,2,  2291.8,2,   7.7015,2,    25.00, -0.9236
06AQ19960712,ARKXII,99,1,1,168429,2,19960901,2127,78.9667,133.1500,3004,  3000.4, -0.7564, 34.9400,2, 34.9394,2,  -999.0,9,   292.9,2,   12.00,2,   14.05,2, -999.00,9,    0.92,2,   0.140,2,   0.059,2,   0.281,2,  2148.6,2,  2295.4,2,   7.7025,2,    25.00, -0.9208
06AQ19960712,ARKXII,100,1,36,168500,2,19960902,0905,78.8233,132.8117,2990,     2.3, -1.7307, 32.5321,2,-999.0000,9,  -999.0,9,  -999.0,9, -999.00,9, -999.00,9, -999.00,9, -999.00,9,-999.000,9,-999.000,9,-999.000,9,  -999.0,9,  -999.0,9,-999.0000,9,  -999.00,-999.0000
06AQ19960712,ARKXII,100,1,35,168499,2,19960902,0905,78.8233,132.8117,2990,     8.9, -1.7313, 32.5414,2, 32.6110,2,  -999.0,9,   372.1,2, -999.00,9,    2.24,2, -999.00,9,    0.35,2,   6.934,2,   3.478,2,   7.548,2,  2089.5,2,  2219.5,2,   7.7051,2,    25.00, -1.7272
06AQ19960712,ARKXII,100,1,34,168498,2,19960902,0905,78.8233,132.8117,2990,    19.2, -1.7118, 32.7665,2, 32.7483,2,  -999.0,9,   371.6,2, -999.00,9,    2.44,2, -999.00,9,    0.35,2,-999.000,9,-999.000,9,-999.000,9,  -999.0,9,  -999.0,9,-999.0000,9,  -999.00, -1.7053
06AQ19960712,ARKXII,100,1,33,168497,2,19960902,0905,78.8233,132.8117,2990,    29.0, -1.7038, 33.0180,2, 32.9936,2,  -999.0,9,   369.4,2, -999.00,9,    2.83,2, -999.00,9,    0.36,2,   7.124,2,   3.527,2,   7.965,2,  2111.0,2,  2239.5,2,   7.6934,2,    25.00, -1.6985
06AQ19960712,ARKXII,100,1,32,168496,2,19960902,0905,78.8233,132.8117,2990,    39.5, -1.7290, 33.1595,2, 33.2810,2,  -999.0,9,   351.6,2, -999.00,9,    4.29,2, -999.00,9,    0.44,2,-999.000,9,-999.000,9,-999.000,9,  -999.0,9,  -999.0,9,-999.0000,9,  -999.00, -1.7257
06AQ19960712,ARKXII,100,1,31,168495,2,19960902,0905,78.8233,132.8117,2990,    49.3, -1.7137, 33.3226,2,-999.0000,9,  -999.0,9,  -999.0,9, -999.00,9, -999.00,9, -999.00,9, -999.00,9,-999.000,9,-999.000,9,-999.000,9,  -999.0,9,  -999.0,9,-999.0000,9,  -999.00,-999.0000
06AQ19960712,ARKXII,100,1,30,168494,2,19960902,0905,78.8233,132.8117,2990,    59.2, -1.7543, 33.7170,2, 33.9374,2,  -999.0,9,   335.4,2, -999.00,9,    5.66,2, -999.00,9,    0.49,2,-999.000,9,-999.000,9,-999.000,9,  2145.6,2,  2266.4,2,   7.6672,2,    25.00, -1.7531
06AQ19960712,ARKXII,100,1,29,168493,2,19960902,0905,78.8233,132.8117,2990,    79.3, -1.6757, 34.1200,2, 34.1254,2,  -999.0,9,   332.0,2, -999.00,9,    5.95,2, -999.00,9,    0.50,2,   6.701,2,   3.197,2,   7.028,2,  2148.8,2,  2267.3,2,   7.6738,2,    25.00, -1.6576
06AQ19960712,ARKXII,100,1,28,168492,2,19960902,0905,78.8233,132.8117,2990,    99.3, -1.6306, 34.2348,2, 34.2500,2,  -999.0,9,   327.8,2,    3.41,2,    6.83,2, -999.00,9,    0.55,2,   6.384,2,   3.073,2,   6.336,2,  2147.2,2,  2267.3,2,   7.6873,2,    25.00, -1.6351
06AQ19960712,ARKXII,100,1,27,168491,2,19960902,0905,78.8233,132.8117,2990,   149.1, -0.2288, 34.5454,2, 34.5426,2,  -999.0,9,   311.8,2,    4.49,2,    9.17,2, -999.00,9,    0.66,2,   5.757,2,   2.862,2,   5.820,2,  2148.3,2,  2271.8,2,   7.6853,2,    25.00, -0.2431
06AQ19960712,ARKXII,100,1,26,168490,2,19960902,0905,78.8233,132.8117,2990,   199.3,  1.1521, 34.8021,2, 34.8000,2,  -999.0,9,   304.4,2,    5.37,2,   10.93,2, -999.00,9,    0.73,2,   5.186,2,   2.503,2,   5.478,2,  -999.0,9,  -999.0,9,-999.0000,9,  -999.00,  1.1716
06AQ19960712,ARKXII,100,1,25,168489,2,19960902,0905,78.8233,132.8117,2990,   248.9,  1.3338, 34.8477,2, 34.8443,2,  -999.0,9,   304.1,2,    5.46,2,   11.32,2, -999.00,9,    0.75,2,   5.035,2,   2.424,2,   5.468,2,  2147.2,2,  2288.7,2,   7.7083,2,    25.00,  1.3008
06AQ19960712,ARKXII,100,1,24,168488,2,19960902,0905,78.8233,132.8117,2990,   299.4,  1.2624, 34.8510,2, 34.8415,2,  -999.0,9,   304.9,2,    5.56,2,   11.22,2, -999.00,9,    0.75,2,   5.145,2,   2.471,2,   5.695,2,  -999.0,9,  -999.0,9,-999.0000,9,  -999.00,  1.2524
06AQ19960712,ARKXII,100,1,23,168487,2,19960902,0905,78.8233,132.8117,2990,   399.4,  1.0637, 34.8792,2, 34.8871,2,  -999.0,9,   306.0,2,    5.95,2,   11.61,2, -999.00,9,    0.77,2,   4.818,2,   2.334,2,   5.467,2,  -999.0,9,  -999.0,9,-999.0000,9,  -999.00,  1.0487
06AQ19960712,ARKXII,100,1,21,168485,2,19960902,0905,78.8233,132.8117,2990,   499.7,  0.6542, 34.8778,2, 34.8772,2,  -999.0,9,   306.9,2,    6.05,2,   11.61,2, -999.00,9,    0.77,2,   4.617,2,   2.276,2,   5.470,2,  2151.8,2,  2289.4,2,   7.6919,2,    25.00,  0.6392
06AQ19960712,ARKXII,100,1,22,168486,2,19960902,0905,78.8233,132.8117,2990,   499.7,  0.6617, 34.8783,2,-999.0000,9,  -999.0,9,  -999.0,9, -999.00,9, -999.00,9, -999.00,9, -999.00,9,-999.000,9,-999.000,9,-999.000,9,  -999.0,9,  -999.0,9,-999.0000,9,  -999.00,-999.0000
06AQ19960712,ARKXII,100,1,20,168484,2,19960902,0905,78.8233,132.8117,2990,   599.4,  0.2620, 34.8683,2, 34.8670,2,  -999.0,9,   309.0,2,    6.05,2,   11.41,2, -999.00,9,    0.76,2,   5.205,2,   2.367,2,   5.814,2,  -999.0,9,  -999.0,9,-999.0000,9,  -999.00,  0.2411
06AQ19960712,ARKXII,100,1,19,168483,2,19960902,0905,78.8233,132.8117,2990,   699.7,  0.0202, 34.8667,2, 34.8648,2,  -999.0,9,   310.7,2,    6.24,2,   11.12,2, -999.00,9,    0.75,2,   5.137,2,   2.495,2,   5.789,2,  2160.4,2,  2283.5,2,   7.6852,2,    25.00, -0.0045
06AQ19960712,ARKXII,100,1,18,168482,2,19960902,0905,78.8233,132.8117,2990,   749.6, -0.0591, 34.8686,2,-999.0000,9,  -999.0,9,  -999.0,9, -999.00,9, -999.00,9, -999.00,9, -999.00,9,-999.000,9,-999.000,9,-999.000,9,  -999.0,9,  -999.0,9,-999.0000,9,  -999.00,-999.0000
06AQ19960712,ARKXII,100,1,17,168481,2,19960902,0905,78.8233,132.8117,2990,   799.6, -0.1255, 34.8712,2, 34.8708,2,  -999.0,9,   311.4,2,    6.44,2,   11.02,2, -999.00,9,    0.74,2,   4.778,2,   2.367,2,   5.760,2,  -999.0,9,  -999.0,9,-999.0000,9,  -999.00, -0.1555
06AQ19960712,ARKXII,100,1,16,168480,2,19960902,0905,78.8233,132.8117,2990,   999.0, -0.2818, 34.8830,2, 34.8822,2,  -999.0,9,   311.8,2,    6.83,2,   11.41,2, -999.00,9,    0.78,2,-999.000,9,-999.000,9,-999.000,9,  2163.3,2,  -999.0,9,   7.6764,2,    25.00, -0.3213
06AQ19960712,ARKXII,100,1,15,168479,2,19960902,0905,78.8233,132.8117,2990,  1199.5, -0.3344, 34.8991,2, 34.8986,2,  -999.0,9,   308.1,2,    7.71,2,   12.00,2, -999.00,9,    0.82,2,   3.981,2,   1.933,2,   5.221,2,  -999.0,9,  -999.0,9,-999.0000,9,  -999.00, -0.3835
06AQ19960712,ARKXII,100,1,14,168478,2,19960902,0905,78.8233,132.8117,2990,  1399.5, -0.4595, 34.9086,2, 34.9092,2,  -999.0,9,   303.6,2,    9.17,2,   12.98,2, -999.00,9,    0.88,2,   2.191,2,   1.054,2,   3.533,2,  -999.0,9,  -999.0,9,-999.0000,9,  -999.00, -0.5173
06AQ19960712,ARKXII,100,1,13,168477,2,19960902,0905,78.8233,132.8117,2990,  1499.6, -0.5394, 34.9110,2,-999.0000,9,  -999.0,9,  -999.0,9, -999.00,9, -999.00,9, -999.00,9, -999.00,9,-999.000,9,-999.000,9,-999.000,9,  -999.0,9,  -999.0,9,-999.0000,9,  -999.00,-999.0000
06AQ19960712,ARKXII,100,1,12,168476,2,19960902,0905,78.8233,132.8117,2990,  1599.8, -0.6049, 34.9121,2, 34.9125,2,  -999.0,9,   301.1,2,   10.05,2,   13.56,2, -999.00,9,    0.89,2,-999.000,9,-999.000,9,-999.000,9,  2155.4,2,  2284.0,2,   7.6909,2,    25.00, -0.6731
06AQ19960712,ARKXII,100,1,11,168475,2,19960902,0905,78.8233,132.8117,2990,  1799.8, -0.6811, 34.9141,2, 34.9158,2,  -999.0,9,   300.4,2,   10.63,2,   13.76,2, -999.00,9,    0.90,2,   0.531,2,   0.267,2,   1.770,2,  -999.0,9,  -999.0,9,-999.0000,9,  -999.00, -0.7602
06AQ19960712,ARKXII,100,1,10,168474,2,19960902,0905,78.8233,132.8117,2990,  2000.2, -0.7295, 34.9162,2, 34.9172,2,  -999.0,9,   300.8,2,   10.83,2,   13.85,2, -999.00,9,    0.91,2,   0.549,2,   0.229,2,   1.604,2,  2153.4,2,  2285.9,2,   7.6871,2,    25.00, -0.8212
06AQ19960712,ARKXII,100,1,9,168473,2,19960902,0905,78.8233,132.8117,2990,  2199.8, -0.7604, 34.9191,2, 34.9201,2,  -999.0,9,   300.6,2,   11.02,2,   13.85,2, -999.00,9,    0.91,2,   0.395,2,   0.201,2,   1.364,2,  -999.0,9,  -999.0,9,-999.0000,9,  -999.00, -0.8650
06AQ19960712,ARKXII,100,1,8,168472,2,19960902,0905,78.8233,132.8117,2990,  2400.1, -0.7799, 34.9220,2, 34.9226,2,  -999.0,9,   300.7,2,   11.22,2,   13.95,2, -999.00,9,    0.90,2,   0.231,2,   0.136,2,   1.065,2,  -999.0,9,  2291.2,2,   7.6948,2,    25.00, -0.8976
06AQ19960712,ARKXII,100,1,7,168471,2,19960902,0905,78.8233,132.8117,2990,  2500.0, -0.7828, 34.9239,2,-999.0000,9,  -999.0,9,  -999.0,9, -999.00,9, -999.00,9, -999.00,9, -999.00,9,-999.000,9,-999.000,9,-999.000,9,  -999.0,9,  -999.0,9,-999.0000,9,  -999.00,-999.0000
06AQ19960712,ARKXII,100,1,6,168470,2,19960902,0905,78.8233,132.8117,2990,  2599.8, -0.7840, 34.9254,2, 34.9269,2,  -999.0,9,   300.2,2,   11.22,2,   13.95,2, -999.00,9,    0.91,2,   0.241,2,   0.130,2,   0.908,2,  -999.0,9,  -999.0,9,-999.0000,9,  -999.00, -0.9161
06AQ19960712,ARKXII,100,1,5,168469,2,19960902,0905,78.8233,132.8117,2990,  2799.9, -0.7805, 34.9296,2, 34.9298,2,  -999.0,9,   299.3,2,   11.32,2,   13.95,2, -999.00,9,    0.91,2,   0.200,2,   0.103,2,   0.735,2,  -999.0,9,  -999.0,9,-999.0000,9,  -999.00, -0.9284
06AQ19960712,ARKXII,100,1,4,168468,2,19960902,0905,78.8233,132.8117,2990,  2946.0, -0.7719, 34.9351,2, 34.9351,2,  -999.0,9,   298.3,2,   11.41,2, -999.00,9, -999.00,9,    0.95,2,   0.123,2,   0.059,2,   0.403,2,  2149.8,2,  2292.9,2,   7.7044,2,    25.00, -0.9311
06AQ19960712,ARKXII,100,1,3,168467,2,19960902,0905,78.8233,132.8117,2990,  2996.0, -0.7630, 34.9381,2, 34.9364,2,  -999.0,9,   297.0,2,   11.71,2,   14.05,2, -999.00,9, -999.00,9,   0.202,2,   0.093,2,   0.357,2,  2148.5,2,  2292.5,2,   7.7015,2,    25.00, -0.9263
06AQ19960712,ARKXII,100,1,1,168465,2,19960902,0905,78.8233,132.8117,2990,  3044.6, -0.7544, 34.9340,2, 34.9379,2,  -999.0,9,   294.4,2,   11.80,2,   13.95,2, -999.00,9, -999.00,9,   0.267,2,   0.124,2,   0.457,2,  2152.3,2,  2293.5,2,   7.7025,2,    25.00, -0.9224
06AQ19960712,ARKXII,100,1,2,168466,2,19960902,0905,78.8233,132.8117,2990,  3044.6, -0.7543, 34.9397,2, 34.9388,2,  -999.0,9,  -999.0,9, -999.00,9, -999.00,9, -999.00,9, -999.00,9,-999.000,9,-999.000,9,-999.000,9,  -999.0,9,  -999.0,9,-999.0000,9,  -999.00,-999.0000