BOTTLE,20100322CCHDOSIODM
EXPOCODE,SECT_ID,STNNBR,CASTNO,SAMPNO,BTLNBR,BTLNBR_FLAG_W,DATE,TIME,LATITUDE,LONGITUDE,DEPTH,CTDPRS,CTDTMP,CTDSAL,CTDSAL_FLAG_W,SALNTY,SALNTY_FLAG_W,CTDOXY,CTDOXY_FLAG_W,OXYGEN,OXYGEN_FLAG_W,SILCAT,SILCAT_FLAG_W,NITRAT,NITRAT_FLAG_W,NITRIT,NITRIT_FLAG_W,PHSPHT,PHSPHT_FLAG_W,CFC-11,CFC-11_FLAG_W,CFC-12,CFC-12_FLAG_W,CCL4,CCL4_FLAG_W,TCARBN,TCARBN_FLAG_W,ALKALI,ALKALI_FLAG_W,PH_SWS,PH_SWS_FLAG_W,PH_TMP,THETA
,,,,,,,,,,,METERS,DBAR,ITS-90,PSS-78,,PSS-78,,UMOL/KG,,UMOL/KG,,UMOL/KG,,UMOL/KG,,UMOL/KG,,UMOL/KG,,PMOL/KG,,PMOL/KG,,PMOL/KG,,UMOL/KG,,UMOL/KG,,,,DEG C,DEG C
06AQ19960712,ARKXII,46,2,36,166562,2,19960806,1221,84.5517,103.6067,4192,     9.5, -1.7823, 34.2101,2, 34.2013,2,  -999.0,9,   362.3,2,    2.73,2,    5.76,2, -999.00,9,    0.52,2,-999.000,9,-999.000,9,-999.000,9,  -999.0,9,  -999.0,9,-999.0000,9,  -999.00, -1.7782
06AQ19960712,ARKXII,46,2,35,166561,2,19960806,1221,84.5517,103.6067,4192,    19.8, -1.7870, 34.2274,2, 34.2267,2,  -999.0,9,   361.3,2,    2.73,2,    5.85,2, -999.00,9,    0.51,2,-999.000,9,-999.000,9,-999.000,9,  -999.0,9,  -999.0,9,-999.0000,9,  -999.00, -1.7844
06AQ19960712,ARKXII,46,2,34,166560,2,19960806,1221,84.5517,103.6067,4192,    30.3, -1.7941, 34.2357,2, 34.2328,2,  -999.0,9,   361.6,2,    2.73,2,    5.85,2, -999.00,9,    0.52,2,-999.000,9,-999.000,9,-999.000,9,  -999.0,9,  -999.0,9,-999.0000,9,  -999.00, -1.7936
06AQ19960712,ARKXII,46,2,33,166559,2,19960806,1221,84.5517,103.6067,4192,    39.6, -1.8119, 34.2534,2, 34.2504,2,  -999.0,9,   359.7,2,    2.73,2,    6.05,2, -999.00,9,    0.52,2,-999.000,9,-999.000,9,-999.000,9,  -999.0,9,  -999.0,9,-999.0000,9,  -999.00, -1.8098
06AQ19960712,ARKXII,46,2,32,166558,2,19960806,1221,84.5517,103.6067,4192,    59.8, -1.8252, 34.2697,2, 34.2698,2,  -999.0,9,   357.9,2,    2.83,2,    6.15,2, -999.00,9,    0.55,2,-999.000,9,-999.000,9,-999.000,9,  -999.0,9,  -999.0,9,-999.0000,9,  -999.00, -1.8232
06AQ19960712,ARKXII,46,2,31,166557,2,19960806,1221,84.5517,103.6067,4192,    79.5, -1.8173, 34.2961,2, 34.2943,2,  -999.0,9,   355.9,2,    2.93,2,    6.44,2, -999.00,9,    0.56,2,-999.000,9,-999.000,9,-999.000,9,  -999.0,9,  -999.0,9,-999.0000,9,  -999.00, -1.8116
06AQ19960712,ARKXII,46,2,30,166556,2,19960806,1221,84.5517,103.6067,4192,    99.7, -1.8345, 34.2961,2, 34.2968,2,  -999.0,9,   355.3,2,    2.93,2,    6.44,2, -999.00,9,    0.55,2,-999.000,9,-999.000,9,-999.000,9,  -999.0,9,  -999.0,9,-999.0000,9,  -999.00, -1.8300
06AQ19960712,ARKXII,46,2,29,166555,2,19960806,1221,84.5517,103.6067,4192,   149.7, -0.4385, 34.4609,2, 34.4738,2,  -999.0,9,   309.2,2,    4.88,2,    9.66,2, -999.00,9,    0.72,2,-999.000,9,-999.000,9,-999.000,9,  -999.0,9,  -999.0,9,-999.0000,9,  -999.00, -0.5108
06AQ19960712,ARKXII,46,2,28,166554,2,19960806,1221,84.5517,103.6067,4192,   200.0,  1.4168, 34.7874,2, 34.7841,2,  -999.0,9,   300.3,2,    5.37,2,   11.22,2, -999.00,9,    0.82,2,   4.145,2,   2.011,2,   4.700,2,  -999.0,9,  -999.0,9,-999.0000,9,  -999.00,  1.4071
06AQ19960712,ARKXII,46,2,27,166553,2,19960806,1221,84.5517,103.6067,4192,   248.9,  1.6008, 34.8843,2, 34.8878,2,  -999.0,9,   301.6,2,    5.76,2,   11.61,2, -999.00,9,    0.86,2,-999.000,9,-999.000,9,-999.000,9,  -999.0,9,  -999.0,9,-999.0000,9,  -999.00,  1.6222
06AQ19960712,ARKXII,46,2,26,166552,2,19960806,1221,84.5517,103.6067,4192,   248.9,  1.6535, 34.8893,2, 34.8893,2,  -999.0,9,   301.3,2,    5.76,2,   11.80,2, -999.00,9,    0.84,2,   4.351,2,   1.919,2,   5.041,2,  -999.0,9,  -999.0,9,-999.0000,9,  -999.00,  1.6032
06AQ19960712,ARKXII,46,2,25,166551,2,19960806,1221,84.5517,103.6067,4192,   300.1,  1.3573, 34.8739,2, 34.8744,2,  -999.0,9,   301.3,2,    5.76,2,   11.80,2, -999.00,9,    0.85,2,-999.000,9,-999.000,9,-999.000,9,  -999.0,9,  -999.0,9,-999.0000,9,  -999.00,  1.3421
06AQ19960712,ARKXII,46,2,24,166550,2,19960806,1221,84.5517,103.6067,4192,   400.2,  1.0795, 34.8944,2, 34.8936,2,  -999.0,9,   301.7,2,    5.95,2,   12.00,2, -999.00,9,    0.85,2,   3.202,2,   1.516,2,   4.383,2,  -999.0,9,  -999.0,9,-999.0000,9,  -999.00,  1.0666
06AQ19960712,ARKXII,46,2,23,166549,2,19960806,1221,84.5517,103.6067,4192,   500.1,  0.8323, 34.9027,2, 34.9025,2,  -999.0,9,   302.1,2,    6.24,2,   12.10,2, -999.00,9,    0.87,2,-999.000,9,-999.000,9,-999.000,9,  -999.0,9,  -999.0,9,-999.0000,9,  -999.00,  0.7994
06AQ19960712,ARKXII,46,2,22,166548,2,19960806,1221,84.5517,103.6067,4192,   599.9,  0.4596, 34.8962,2, 34.8968,2,  -999.0,9,   303.8,2,    6.44,2,   12.10,2, -999.00,9,    0.87,2,-999.000,9,-999.000,9,-999.000,9,  -999.0,9,  -999.0,9,-999.0000,9,  -999.00,  0.4340
06AQ19960712,ARKXII,46,2,21,166547,2,19960806,1221,84.5517,103.6067,4192,   699.9,  0.1374, 34.8902,2, 34.8913,2,  -999.0,9,   304.3,2,    6.63,2,   12.10,2, -999.00,9,    0.88,2,-999.000,9,-999.000,9,-999.000,9,  -999.0,9,  -999.0,9,-999.0000,9,  -999.00,  0.1128
06AQ19960712,ARKXII,46,2,20,166546,2,19960806,1221,84.5517,103.6067,4192,   800.0, -0.0621, 34.8898,2, 34.8921,2,  -999.0,9,   304.6,2,    6.93,2,   12.20,2, -999.00,9,    0.90,2,-999.000,9,-999.000,9,-999.000,9,  -999.0,9,  -999.0,9,-999.0000,9,  -999.00, -0.0919
06AQ19960712,ARKXII,46,2,19,166545,2,19960806,1221,84.5517,103.6067,4192,  1000.0, -0.2855, 34.9001,2, 34.9015,2,  -999.0,9,   303.5,2,    7.71,2,   12.39,2, -999.00,9,    0.92,2,-999.000,9,-999.000,9,-999.000,9,  -999.0,9,  -999.0,9,-999.0000,9,  -999.00, -0.3254
06AQ19960712,ARKXII,46,2,18,166544,2,19960806,1221,84.5517,103.6067,4192,  1200.7, -0.4286, 34.9120,2, 34.9125,2,  -999.0,9,   302.8,2,    8.59,2,   12.88,2, -999.00,9,    0.93,2,-999.000,9,-999.000,9,-999.000,9,  -999.0,9,  -999.0,9,-999.0000,9,  -999.00, -0.4746
06AQ19960712,ARKXII,46,2,17,166543,2,19960806,1221,84.5517,103.6067,4192,  1400.5, -0.5585, 34.9171,2, 34.9162,2,  -999.0,9,   301.8,2,    9.17,2,   13.17,2, -999.00,9,    0.98,2,-999.000,9,-999.000,9,-999.000,9,  -999.0,9,  -999.0,9,-999.0000,9,  -999.00, -0.6152
06AQ19960712,ARKXII,46,2,16,166542,2,19960806,1221,84.5517,103.6067,4192,  1601.3, -0.6411, 34.9196,2, 34.9203,2,  -999.0,9,   301.0,2,   10.15,2,   13.56,2, -999.00,9,    1.01,2,-999.000,9,-999.000,9,-999.000,9,  -999.0,9,  -999.0,9,-999.0000,9,  -999.00, -0.7087
06AQ19960712,ARKXII,46,2,15,166541,2,19960806,1221,84.5517,103.6067,4192,  1800.9, -0.7033, 34.9224,2, 34.9221,2,  -999.0,9,   301.0,2,   10.34,2,   13.66,2, -999.00,9,    1.02,2,-999.000,9,-999.000,9,-999.000,9,  -999.0,9,  -999.0,9,-999.0000,9,  -999.00, -0.7820
06AQ19960712,ARKXII,46,2,14,166540,2,19960806,1221,84.5517,103.6067,4192,  2001.0, -0.7483, 34.9222,2, 34.9227,2,  -999.0,9,   301.2,2,   10.83,2,   13.85,2, -999.00,9, -999.00,9,-999.000,9,-999.000,9,-999.000,9,  -999.0,9,  -999.0,9,-999.0000,9,  -999.00, -0.8400
06AQ19960712,ARKXII,46,2,13,166539,2,19960806,1221,84.5517,103.6067,4192,  2201.1, -0.7777, 34.9244,2, 34.9238,2,  -999.0,9,   301.1,2,   10.63,2, -999.00,9, -999.00,9, -999.00,9,-999.000,9,-999.000,9,-999.000,9,  -999.0,9,  -999.0,9,-999.0000,9,  -999.00, -0.8818
06AQ19960712,ARKXII,46,2,12,166538,2,19960806,1221,84.5517,103.6067,4192,  2400.3, -0.7926, 34.9268,2, 34.9274,2,  -999.0,9,   301.0,2,   10.83,2,   13.76,2, -999.00,9,    0.97,2,-999.000,9,-999.000,9,-999.000,9,  -999.0,9,  -999.0,9,-999.0000,9,  -999.00, -0.9104
06AQ19960712,ARKXII,46,2,11,166537,2,19960806,1221,84.5517,103.6067,4192,  2600.8, -0.7965, 34.9295,2, 34.9305,2,  -999.0,9,   300.7,2,   11.02,2,   13.76,2, -999.00,9,    0.98,2,-999.000,9,-999.000,9,-999.000,9,  -999.0,9,  -999.0,9,-999.0000,9,  -999.00, -0.9289
06AQ19960712,ARKXII,46,2,10,166536,2,19960806,1221,84.5517,103.6067,4192,  2800.8, -0.7940, 34.9318,2, 34.9319,2,  -999.0,9,   300.4,2,   11.12,2,   13.95,2, -999.00,9,    1.00,2,-999.000,9,-999.000,9,-999.000,9,  -999.0,9,  -999.0,9,-999.0000,9,  -999.00, -0.9411
06AQ19960712,ARKXII,46,2,9,166535,2,19960806,1221,84.5517,103.6067,4192,  3001.0, -0.7844, 34.9348,2, 34.9352,2,  -999.0,9,   299.2,2,   11.22,2,   13.95,2, -999.00,9,    0.98,2,-999.000,9,-999.000,9,-999.000,9,  -999.0,9,  -999.0,9,-999.0000,9,  -999.00, -0.9482
06AQ19960712,ARKXII,46,2,8,166534,2,19960806,1221,84.5517,103.6067,4192,  3200.5, -0.7656, 34.9379,2, 34.9326,2,  -999.0,9,   298.4,2,   11.41,2,   13.95,2, -999.00,9,    0.97,2,-999.000,9,-999.000,9,-999.000,9,  -999.0,9,  -999.0,9,-999.0000,9,  -999.00, -0.9461
06AQ19960712,ARKXII,46,2,7,166533,2,19960806,1221,84.5517,103.6067,4192,  3400.5, -0.7438, 34.9394,2, 34.9401,2,  -999.0,9,   297.9,2,   11.41,2,   13.95,2, -999.00,9,    0.98,2,   0.305,2,   0.139,2,   0.412,2,  -999.0,9,  -999.0,9,-999.0000,9,  -999.00, -0.9417
06AQ19960712,ARKXII,46,2,6,166532,2,19960806,1221,84.5517,103.6067,4192,  3600.6, -0.7254, 34.9407,2, 34.9421,2,  -999.0,9,   298.1,2,   11.61,2,   13.95,2, -999.00,9,    0.99,2,-999.000,9,-999.000,9,-999.000,9,  -999.0,9,  -999.0,9,-999.0000,9,  -999.00, -0.9419
06AQ19960712,ARKXII,46,2,5,166531,2,19960806,1221,84.5517,103.6067,4192,  3800.2, -0.7094, 34.9401,2, 34.9415,2,  -999.0,9,   298.4,2,   11.41,2,   13.95,2, -999.00,9,    0.99,2,   0.195,2,   0.128,2,   0.400,2,  2154.6,2,  -999.0,9,   7.7015,2,    25.00, -0.9446
06AQ19960712,ARKXII,46,2,4,166530,2,19960806,1221,84.5517,103.6067,4192,  4000.2, -0.6893, 34.9411,2, 34.9426,2,  -999.0,9,   298.5,2,   11.41,2,   13.85,2, -999.00,9,    0.98,2,-999.000,9,-999.000,9,-999.000,9,  2154.3,2,  -999.0,9,   7.7053,2,    25.00, -0.9432
06AQ19960712,ARKXII,46,2,3,166529,2,19960806,1221,84.5517,103.6067,4192,  4095.0, -0.6797, 34.9403,2, 34.9426,2,  -999.0,9,   298.4,2,   11.22,2,   13.85,2, -999.00,9,    0.99,2,   0.335,2,   0.145,2,   0.450,2,  2152.4,2,  -999.0,9,   7.7015,2,    25.00, -0.9436
06AQ19960712,ARKXII,46,2,2,166528,2,19960806,1221,84.5517,103.6067,4192,  4154.9, -0.6736, 34.9401,2, 34.9422,2,  -999.0,9,   298.8,2,   11.32,2,   13.95,2, -999.00,9,    0.98,2,-999.000,9,-999.000,9,-999.000,9,  2156.8,2,  -999.0,9,   7.6986,2,    25.00, -0.9437
06AQ19960712,ARKXII,46,2,1,166527,2,19960806,1221,84.5517,103.6067,4192,  4206.1, -0.6681, 34.9395,2, 34.9413,2,  -999.0,9,   298.3,2,   11.22,2,   13.85,2, -999.00,9,    0.98,2,   0.197,2,   0.088,2,-999.000,9,  2154.0,2,  -999.0,9,   7.6976,2,    25.00, -0.9429
06AQ19960712,ARKXII,47,1,6,166568,2,19960806,1747,84.6950,104.3683,3817,    10.1, -1.7431, 34.1603,2, 34.1587,2,  -999.0,9,   367.3,2,    2.63,2,    5.46,2, -999.00,9,    0.48,2,-999.000,9,-999.000,9,-999.000,9,  -999.0,9,  -999.0,9,   7.7568,2,    25.00, -1.7402
06AQ19960712,ARKXII,47,1,5,166567,2,19960806,1747,84.6950,104.3683,3817,    20.1, -1.7554, 34.1608,2, 34.1604,2,  -999.0,9,   367.3,2,    2.63,2,    5.46,2, -999.00,9,    0.48,2,   6.363,2,   3.025,2,   5.955,2,  -999.0,9,  -999.0,9,   7.7520,2,    25.00, -1.7524
06AQ19960712,ARKXII,47,1,4,166566,2,19960806,1747,84.6950,104.3683,3817,    29.4, -1.7625, 34.1630,2, 34.1643,2,  -999.0,9,   367.0,2,    2.63,2,    5.46,2, -999.00,9,    0.51,2,-999.000,9,-999.000,9,-999.000,9,  -999.0,9,  -999.0,9,   7.7491,2,    25.00, -1.7596
06AQ19960712,ARKXII,47,1,3,166565,2,19960806,1747,84.6950,104.3683,3817,    39.8, -1.7869, 34.2191,2, 34.2205,2,  -999.0,9,   366.3,2,    2.63,2,    5.56,2, -999.00,9,    0.50,2,   6.242,2,   2.950,2,   5.869,2,  -999.0,9,  -999.0,9,   7.7510,2,    25.00, -1.7848
06AQ19960712,ARKXII,47,1,2,166564,2,19960806,1747,84.6950,104.3683,3817,    60.1, -1.8359, 34.2658,2, 34.2679,2,  -999.0,9,   362.0,2,    2.73,2,    5.95,2, -999.00,9,    0.55,2,   6.140,2,   2.879,2,   5.611,2,  -999.0,9,  -999.0,9,   7.7374,2,    25.00, -1.8341
06AQ19960712,ARKXII,47,1,1,166563,2,19960806,1747,84.6950,104.3683,3817,    80.1, -1.8366, 34.2903,2, 34.2869,2,  -999.0,9,   358.6,2,    3.02,2,    6.24,2, -999.00,9,    0.54,2,   6.047,2,   2.889,2,   5.664,2,  -999.0,9,  -999.0,9,   7.7393,2,    25.00, -1.8345