BOTTLE,20090923WHPSIOMYS
EXPOCODE,SECT_ID,STNNBR,CASTNO,SAMPNO,BTLNBR,BTLNBR_FLAG_W,DATE,TIME,LATITUDE,LONGITUDE,DEPTH,CTDRAW,CTDPRS,CTDTMP,CTDSAL,CTDSAL_FLAG_W,SALNTY,SALNTY_FLAG_W,CTDOXY,CTDOXY_FLAG_W,THETA,OXYGEN,OXYGEN_FLAG_W,SILCAT,SILCAT_FLAG_W,NO2+NO3,NO2+NO3_FLAG_W,PHSPHT,PHSPHT_FLAG_W,REVPRS,REVTMP
,,,,,,,,,,,,,DBAR,ITS-90,PSS-78,,PSS-78,,UMOL/KG,,ITS-90,UMOL/KG,,UMOL/KG,,UMOL/KG,,UMOL/KG,,DBAR,DEG C
     33KI158_1,  PRS2,     2,  7,     20,     20,3,20040421,0922, 22.7520,-157.9980, 4723,      6,      4.7,  23.9244,  34.9757,2,  34.9924,4,    213.0,3, 23.9234,   -999.0,5,  -999.00,9,  -999.00,9,  -999.00,9,  -999.0,-999.000
     33KI158_1,  PRS2,     2,  7,     19,     19,3,20040421,0922, 22.7520,-157.9980, 4723,      5,      4.7,  23.9231,  34.9756,2,  34.9776,2,    213.0,2, 23.9221,    212.5,2,  -999.00,9,  -999.00,9,  -999.00,9,  -999.0,-999.000
     33KI158_1,  PRS2,     2,  7,     18,     18,3,20040421,0922, 22.7520,-157.9980, 4723,     15,     14.4,  23.9249,  34.9768,2,  34.9770,2,    212.9,2, 23.9219,    212.7,2,  -999.00,9,  -999.00,9,  -999.00,9,  -999.0,-999.000
     33KI158_1,  PRS2,     2,  7,     17,     17,3,20040421,0922, 22.7520,-157.9980, 4723,     25,     24.9,  23.9142,  34.9801,2,-999.0000,5,    212.9,2, 23.9089,   -999.0,5,  -999.00,9,  -999.00,9,  -999.00,9,  -999.0,-999.000
     33KI158_1,  PRS2,     2,  7,     16,     16,3,20040421,0922, 22.7520,-157.9980, 4723,     25,     24.9,  23.9095,  34.9815,2,  34.9912,2,    212.9,2, 23.9043,    212.6,2,  -999.00,9,  -999.00,9,  -999.00,9,  -999.0,-999.000
     33KI158_1,  PRS2,     2,  7,     15,    102,2,20040421,0922, 22.7520,-157.9980, 4723,     36,     35.0,  23.8508,  35.0680,2,  35.0900,3,    212.9,3, 23.8435,    212.9,2,  -999.00,9,  -999.00,9,  -999.00,9,  -999.0,-999.000
     33KI158_1,  PRS2,     2,  7,     14,    101,2,20040421,0922, 22.7520,-157.9980, 4723,     45,     44.4,  23.8547,  35.0981,2,  35.1004,2,    212.9,2, 23.8454,    212.9,2,  -999.00,9,  -999.00,9,  -999.00,9,  -999.0,-999.000
     33KI158_1,  PRS2,     2,  7,     13,     42,2,20040421,0922, 22.7520,-157.9980, 4723,     62,     60.9,  23.8465,  35.0978,2,  35.0979,2,    213.1,2, 23.8337,    212.5,2,  -999.00,9,  -999.00,9,  -999.00,9,  -999.0,-999.000
     33KI158_1,  PRS2,     2,  7,     12,     12,2,20040421,0922, 22.7520,-157.9980, 4723,     75,     75.1,  23.7337,  35.1420,2,  35.1339,2,    211.5,2, 23.7180,    211.9,2,  -999.00,9,  -999.00,9,  -999.00,9,  -999.0,-999.000
     33KI158_1,  PRS2,     2,  7,     11,     39,2,20040421,0922, 22.7520,-157.9980, 4723,     86,     84.9,  23.3006,  35.2525,2,  35.2484,2,    213.2,2, 23.2831,    211.6,2,  -999.00,9,  -999.00,9,  -999.00,9,  -999.0,-999.000
     33KI158_1,  PRS2,     2,  7,     10,     32,2,20040421,0922, 22.7520,-157.9980, 4723,    100,     99.9,  22.8886,  35.2909,2,  35.2945,2,    211.1,2, 22.8683,    211.9,2,  -999.00,9,  -999.00,9,  -999.00,9,  -999.0,-999.000
     33KI158_1,  PRS2,     2,  7,      9,      3,2,20040421,0922, 22.7520,-157.9980, 4723,    114,    113.4,  22.6073,  35.3164,2,  35.3148,2,    210.2,2, 22.5844,    211.4,2,  -999.00,9,  -999.00,9,  -999.00,9,  -999.0,-999.000
     33KI158_1,  PRS2,     2,  7,      8,     29,2,20040421,0922, 22.7520,-157.9980, 4723,    126,    125.2,  22.3399,  35.3327,2,  35.3325,2,    206.9,2, 22.3148,    207.9,2,  -999.00,9,  -999.00,9,  -999.00,9,  -999.0,-999.000
     33KI158_1,  PRS2,     2,  7,      7,     28,2,20040421,0922, 22.7520,-157.9980, 4723,    150,    149.4,  21.6998,  35.3637,2,  35.3461,4,    205.6,3, 21.6705,    205.8,2,  -999.00,9,  -999.00,9,  -999.00,9,  -999.0,-999.000
     33KI158_1,  PRS2,     2,  7,      6,     13,2,20040421,0922, 22.7520,-157.9980, 4723,    165,    164.5,  20.4669,  35.1664,2,  35.1703,2,    192.5,2, 20.4359,    195.8,2,  -999.00,9,  -999.00,9,  -999.00,9,  -999.0,-999.000
     33KI158_1,  PRS2,     2,  7,      5,     38,2,20040421,0922, 22.7520,-157.9980, 4723,    175,    173.8,  20.1213,  35.1312,2,  35.1335,2,    194.6,2, 20.0890,    195.8,2,  -999.00,9,  -999.00,9,  -999.00,9,  -999.0,-999.000
     33KI158_1,  PRS2,     2,  7,      4,     36,2,20040421,0922, 22.7520,-157.9980, 4723,    200,    199.3,  18.1801,  34.8994,2,  34.8995,2,    196.7,2, 18.1456,    196.5,2,  -999.00,9,  -999.00,9,  -999.00,9,  -999.0,-999.000
     33KI158_1,  PRS2,     2,  7,      3,     35,2,20040421,0922, 22.7520,-157.9980, 4723,    525,    524.7,   6.6253,  34.0638,2,  34.0619,2,    100.7,2,  6.5772,     97.9,2,  -999.00,9,  -999.00,9,  -999.00,9,  -999.0,-999.000
     33KI158_1,  PRS2,     2,  7,      2,     34,2,20040421,0922, 22.7520,-157.9980, 4723,    799,    798.2,   4.6473,  34.3473,2,  34.3472,2,     34.0,2,  4.5844,     32.6,2,  -999.00,9,  -999.00,9,  -999.00,9,  -999.0,-999.000
     33KI158_1,  PRS2,     2,  7,      1,     33,2,20040421,0922, 22.7520,-157.9980, 4723,   1020,   1019.1,   3.9227,  34.4722,2,  34.4727,2,     44.3,2,  3.8461,     44.9,2,  -999.00,9,  -999.00,9,  -999.00,9,  -999.0,-999.000
     33KI158_1,  PRS2,     2,  8,     22,     22,2,20040421,1156, 22.7492,-158.0020, 4722,      5,      3.8,  23.9088,  34.9704,2,  34.9703,2,    210.2,1, 23.9080,   -999.0,9,  -999.00,9,  -999.00,9,  -999.00,9,  -999.0,-999.000
     33KI158_1,  PRS2,     2,  8,     21,     21,3,20040421,1156, 22.7492,-158.0020, 4722,      5,      3.9,  23.9094,  34.9707,2,  34.9790,2,    210.3,1, 23.9086,   -999.0,9,  -999.00,9,  -999.00,9,  -999.00,9,  -999.0,-999.000
     33KI158_1,  PRS2,     2,  8,     20,     20,3,20040421,1156, 22.7492,-158.0020, 4722,      5,      3.9,  23.9096,  34.9707,2,-999.0000,5,    210.3,1, 23.9087,   -999.0,9,  -999.00,9,  -999.00,9,  -999.00,9,  -999.0,-999.000
     33KI158_1,  PRS2,     2,  8,     19,     19,3,20040421,1156, 22.7492,-158.0020, 4722,     24,     23.1,  23.8552,  35.0056,2,  35.0020,2,    212.5,1, 23.8504,   -999.0,9,  -999.00,9,  -999.00,9,  -999.00,9,  -999.0,-999.000
     33KI158_1,  PRS2,     2,  8,     18,     18,3,20040421,1156, 22.7492,-158.0020, 4722,     24,     23.1,  23.8546,  35.0083,2,-999.0000,5,    212.5,1, 23.8498,   -999.0,9,  -999.00,9,  -999.00,9,  -999.00,9,  -999.0,-999.000
     33KI158_1,  PRS2,     2,  8,     17,     17,3,20040421,1156, 22.7492,-158.0020, 4722,     24,     23.1,  23.8575,  35.0031,2,  34.9953,2,    212.5,1, 23.8526,   -999.0,9,  -999.00,9,  -999.00,9,  -999.00,9,  -999.0,-999.000
     33KI158_1,  PRS2,     2,  8,     15,    102,2,20040421,1156, 22.7492,-158.0020, 4722,     45,     44.0,  23.8523,  35.1021,2,  35.1020,2,    212.7,1, 23.8431,   -999.0,9,  -999.00,9,  -999.00,9,  -999.00,9,  -999.0,-999.000
     33KI158_1,  PRS2,     2,  8,     14,    101,2,20040421,1156, 22.7492,-158.0020, 4722,     45,     44.0,  23.8528,  35.1020,2,  35.1026,2,    212.6,1, 23.8436,   -999.0,9,  -999.00,9,  -999.00,9,  -999.00,9,  -999.0,-999.000
     33KI158_1,  PRS2,     2,  8,     16,     16,3,20040421,1156, 22.7492,-158.0020, 4722,     45,     44.2,  23.8520,  35.1021,2,-999.0000,5,    212.7,1, 23.8427,   -999.0,9,  -999.00,9,  -999.00,9,  -999.00,9,  -999.0,-999.000
     33KI158_1,  PRS2,     2,  8,     13,     42,2,20040421,1156, 22.7492,-158.0020, 4722,     75,     73.4,  23.2984,  35.2528,2,  35.2513,2,    210.8,1, 23.2832,   -999.0,9,  -999.00,9,  -999.00,9,  -999.00,9,  -999.0,-999.000
     33KI158_1,  PRS2,     2,  8,     12,     12,3,20040421,1156, 22.7492,-158.0020, 4722,     75,     73.4,  23.2995,  35.2527,2,  35.2464,2,    211.0,1, 23.2844,   -999.0,9,  -999.00,9,  -999.00,9,  -999.00,9,  -999.0,-999.000
     33KI158_1,  PRS2,     2,  8,     11,     39,2,20040421,1156, 22.7492,-158.0020, 4722,     75,     73.4,  23.2984,  35.2530,2,  35.2533,2,    211.1,1, 23.2833,   -999.0,9,  -999.00,9,  -999.00,9,  -999.00,9,  -999.0,-999.000
     33KI158_1,  PRS2,     2,  8,      8,     29,2,20040421,1156, 22.7492,-158.0020, 4722,     99,     98.4,  22.8469,  35.2920,2,  35.2913,2,    212.0,1, 22.8269,   -999.0,9,  -999.00,9,  -999.00,9,  -999.00,9,  -999.0,-999.000
     33KI158_1,  PRS2,     2,  8,      9,      3,2,20040421,1156, 22.7492,-158.0020, 4722,     99,     98.5,  22.8473,  35.2917,2,  35.2907,2,    211.9,1, 22.8272,   -999.0,9,  -999.00,9,  -999.00,9,  -999.00,9,  -999.0,-999.000
     33KI158_1,  PRS2,     2,  8,     10,     32,2,20040421,1156, 22.7492,-158.0020, 4722,    100,     98.6,  22.8432,  35.2922,2,  35.2907,2,    211.9,1, 22.8232,   -999.0,9,  -999.00,9,  -999.00,9,  -999.00,9,  -999.0,-999.000
     33KI158_1,  PRS2,     2,  8,      6,     13,2,20040421,1156, 22.7492,-158.0020, 4722,    125,    123.6,  22.2898,  35.3234,2,  35.3211,2,    205.3,1, 22.2651,   -999.0,9,  -999.00,9,  -999.00,9,  -999.00,9,  -999.0,-999.000
     33KI158_1,  PRS2,     2,  8,      5,     38,2,20040421,1156, 22.7492,-158.0020, 4722,    125,    123.6,  22.2898,  35.3234,2,  35.3230,2,    205.0,1, 22.2651,   -999.0,9,  -999.00,9,  -999.00,9,  -999.00,9,  -999.0,-999.000
     33KI158_1,  PRS2,     2,  8,      7,     28,2,20040421,1156, 22.7492,-158.0020, 4722,    125,    123.7,  22.2866,  35.3234,2,  35.3217,2,    205.7,1, 22.2619,   -999.0,9,  -999.00,9,  -999.00,9,  -999.00,9,  -999.0,-999.000
     33KI158_1,  PRS2,     2,  8,      4,     36,2,20040421,1156, 22.7492,-158.0020, 4722,    150,    148.3,  21.7188,  35.3704,2,  35.3676,2,    207.4,1, 21.6897,   -999.0,9,  -999.00,9,  -999.00,9,  -999.00,9,  -999.0,-999.000
     33KI158_1,  PRS2,     2,  8,      3,     35,2,20040421,1156, 22.7492,-158.0020, 4722,    176,    174.1,  20.1071,  35.1307,2,  35.1298,2,    194.2,1, 20.0748,   -999.0,9,  -999.00,9,  -999.00,9,  -999.00,9,  -999.0,-999.000
     33KI158_1,  PRS2,     2,  8,      2,     34,2,20040421,1156, 22.7492,-158.0020, 4722,    522,    522.7,   6.9390,  34.0623,2,  34.0637,2,    109.8,1,  6.8899,   -999.0,9,  -999.00,9,  -999.00,9,  -999.00,9,  -999.0,-999.000
     33KI158_1,  PRS2,     2,  8,      1,     33,2,20040421,1156, 22.7492,-158.0020, 4722,   1021,   1020.0,   3.9047,  34.4900,2,  34.4909,2,     46.9,1,  3.8281,   -999.0,9,  -999.00,9,  -999.00,9,  -999.00,9,  -999.0,-999.000
     33KI158_1,  PRS2,     2,  9,      4,     36,3,20040421,1456, 22.7155,-157.9588, 4720,      5,      4.0,  23.9266,  34.9692,2,  34.9697,2,    212.4,1, 23.9258,   -999.0,9,  -999.00,9,  -999.00,9,  -999.00,9,  -999.0,-999.000
     33KI158_1,  PRS2,     2,  9,      3,     35,2,20040421,1456, 22.7155,-157.9588, 4720,    155,    154.4,  22.1507,  35.3523,2,  35.3502,2,    213.6,1, 22.1199,   -999.0,9,  -999.00,9,  -999.00,9,  -999.00,9,  -999.0,-999.000
     33KI158_1,  PRS2,     2,  9,      2,     34,2,20040421,1456, 22.7155,-157.9588, 4720,    774,    773.4,   4.6893,  34.3618,2,  34.3582,2,     33.9,1,  4.6282,   -999.0,9,  -999.00,9,  -999.00,9,  -999.00,9,  -999.0,-999.000
     33KI158_1,  PRS2,     2,  9,      1,     33,2,20040421,1456, 22.7155,-157.9588, 4720,   1020,   1019.2,   3.8848,  34.4901,2,  34.4905,2,     46.9,1,  3.8085,   -999.0,9,  -999.00,9,  -999.00,9,  -999.00,9,  -999.0,-999.000
     33KI158_1,  PRS2,     2, 10,     10,     32,2,20040421,1755, 22.7343,-157.9745, 4720,      5,      4.0,  23.9628,  34.9684,2,  34.9680,2,    212.3,1, 23.9620,   -999.0,9,  -999.00,9,  -999.00,9,  -999.00,9,  -999.0,-999.000
     33KI158_1,  PRS2,     2, 10,      9,      3,2,20040421,1755, 22.7343,-157.9745, 4720,     25,     24.5,  23.9364,  34.9700,2,  34.9686,2,    212.4,1, 23.9313,   -999.0,9,  -999.00,9,  -999.00,9,  -999.00,9,  -999.0,-999.000
     33KI158_1,  PRS2,     2, 10,      8,     29,2,20040421,1755, 22.7343,-157.9745, 4720,     47,     45.6,  23.8738,  35.1055,2,  35.1061,2,    212.5,1, 23.8642,   -999.0,9,  -999.00,9,  -999.00,9,  -999.00,9,  -999.0,-999.000
     33KI158_1,  PRS2,     2, 10,      7,     28,2,20040421,1755, 22.7343,-157.9745, 4720,     75,     73.8,  23.8532,  35.1092,2,  35.1101,2,    212.3,1, 23.8377,   -999.0,9,  -999.00,9,  -999.00,9,  -999.00,9,  -999.0,-999.000
     33KI158_1,  PRS2,     2, 10,      6,     13,2,20040421,1755, 22.7343,-157.9745, 4720,    100,     99.1,  23.3248,  35.2617,2,  35.2592,2,    208.2,1, 23.3044,   -999.0,9,  -999.00,9,  -999.00,9,  -999.00,9,  -999.0,-999.000
     33KI158_1,  PRS2,     2, 10,      5,     38,2,20040421,1755, 22.7343,-157.9745, 4720,    125,    124.2,  22.9136,  35.2912,2,  35.2913,2,    210.3,1, 22.8883,   -999.0,9,  -999.00,9,  -999.00,9,  -999.00,9,  -999.0,-999.000
     33KI158_1,  PRS2,     2, 10,      4,     36,2,20040421,1755, 22.7343,-157.9745, 4720,    150,    148.6,  22.2526,  35.3446,2,  35.3443,2,    213.3,1, 22.2229,   -999.0,9,  -999.00,9,  -999.00,9,  -999.00,9,  -999.0,-999.000
     33KI158_1,  PRS2,     2, 10,      3,     35,2,20040421,1755, 22.7343,-157.9745, 4720,    175,    174.6,  20.5845,  35.1837,2,  35.1826,2,    189.2,1, 20.5515,   -999.0,9,  -999.00,9,  -999.00,9,  -999.00,9,  -999.0,-999.000
     33KI158_1,  PRS2,     2, 10,      2,     34,2,20040421,1755, 22.7343,-157.9745, 4720,    514,    513.6,   7.6039,  34.0766,2,  34.0753,2,    124.5,1,  7.5531,   -999.0,9,  -999.00,9,  -999.00,9,  -999.00,9,  -999.0,-999.000
     33KI158_1,  PRS2,     2, 10,      1,     33,2,20040421,1755, 22.7343,-157.9745, 4720,   1021,   1019.8,   4.0245,  34.4874,2,  34.4876,2,     46.3,1,  3.9471,   -999.0,9,  -999.00,9,  -999.00,9,  -999.00,9,  -999.0,-999.000
     33KI158_1,  PRS2,     2, 11,     24,     31,2,20040421,2057, 22.7363,-157.9708, 4725,      5,      4.2,  24.1327,  34.9682,2,-999.0000,5,    212.9,1, 24.1318,   -999.0,9,  -999.00,9,  -999.00,9,  -999.00,9,  -999.0,-999.000
     33KI158_1,  PRS2,     2, 11,     23,     30,2,20040421,2057, 22.7363,-157.9708, 4725,      5,      4.2,  24.1022,  34.9669,2,-999.0000,5,    213.0,1, 24.1014,   -999.0,9,  -999.00,9,  -999.00,9,  -999.00,9,  -999.0,-999.000
     33KI158_1,  PRS2,     2, 11,     22,     22,2,20040421,2057, 22.7363,-157.9708, 4725,     10,      9.0,  23.9568,  34.9663,2,  34.9684,2,    213.0,1, 23.9549,   -999.0,9,  -999.00,9,  -999.00,9,  -999.00,9,  -999.0,-999.000
     33KI158_1,  PRS2,     2, 11,     21,     21,2,20040421,2057, 22.7363,-157.9708, 4725,     25,     24.1,  23.8415,  35.0089,2,  35.0091,2,    213.0,1, 23.8364,   -999.0,9,  -999.00,9,  -999.00,9,  -999.00,9,  -999.0,-999.000
     33KI158_1,  PRS2,     2, 11,     20,     20,3,20040421,2057, 22.7363,-157.9708, 4725,     45,     44.1,  23.8504,  35.1060,2,  35.1046,2,    212.6,1, 23.8412,   -999.0,9,  -999.00,9,  -999.00,9,  -999.00,9,  -999.0,-999.000
     33KI158_1,  PRS2,     2, 11,     19,     19,2,20040421,2057, 22.7363,-157.9708, 4725,     59,     58.8,  23.8420,  35.1079,2,  35.1093,2,    212.2,1, 23.8296,   -999.0,9,  -999.00,9,  -999.00,9,  -999.00,9,  -999.0,-999.000
     33KI158_1,  PRS2,     2, 11,     18,     18,3,20040421,2057, 22.7363,-157.9708, 4725,     75,     74.0,  23.7575,  35.1317,2,  35.1278,2,    211.8,1, 23.7420,   -999.0,9,  -999.00,9,  -999.00,9,  -999.00,9,  -999.0,-999.000
     33KI158_1,  PRS2,     2, 11,     17,     17,3,20040421,2057, 22.7363,-157.9708, 4725,     85,     83.8,  23.2516,  35.2165,2,  35.2166,2,    211.2,1, 23.2344,   -999.0,9,  -999.00,9,  -999.00,9,  -999.00,9,  -999.0,-999.000
     33KI158_1,  PRS2,     2, 11,     16,     16,3,20040421,2057, 22.7363,-157.9708, 4725,    100,     99.5,  23.0435,  35.2666,2,  35.2612,2,    208.9,1, 23.0232,   -999.0,9,  -999.00,9,  -999.00,9,  -999.00,9,  -999.0,-999.000
     33KI158_1,  PRS2,     2, 11,     15,    102,2,20040421,2057, 22.7363,-157.9708, 4725,    124,    123.3,  22.4131,  35.3330,2,  35.3307,2,    211.1,1, 22.3884,   -999.0,9,  -999.00,9,  -999.00,9,  -999.00,9,  -999.0,-999.000
     33KI158_1,  PRS2,     2, 11,     14,    101,2,20040421,2057, 22.7363,-157.9708, 4725,    149,    148.8,  21.8905,  35.3039,2,  35.3053,2,    201.4,1, 21.8611,   -999.0,9,  -999.00,9,  -999.00,9,  -999.00,9,  -999.0,-999.000
     33KI158_1,  PRS2,     2, 11,     13,     42,2,20040421,2057, 22.7363,-157.9708, 4725,    174,    173.5,  20.4040,  35.1680,2,  35.1648,2,    194.8,1, 20.3714,   -999.0,9,  -999.00,9,  -999.00,9,  -999.00,9,  -999.0,-999.000
     33KI158_1,  PRS2,     2, 11,     12,     12,2,20040421,2057, 22.7363,-157.9708, 4725,    199,    198.5,  18.7172,  34.9702,2,  34.9546,2,    195.6,1, 18.6822,   -999.0,9,  -999.00,9,  -999.00,9,  -999.00,9,  -999.0,-999.000
     33KI158_1,  PRS2,     2, 11,     11,     39,2,20040421,2057, 22.7363,-157.9708, 4725,    229,    228.6,  15.9956,  34.6190,2,  34.6239,2,    198.8,1, 15.9595,   -999.0,9,  -999.00,9,  -999.00,9,  -999.00,9,  -999.0,-999.000
     33KI158_1,  PRS2,     2, 11,     10,     32,2,20040421,2057, 22.7363,-157.9708, 4725,    260,    259.0,  14.8655,  34.4831,2,  34.4668,2,    201.2,1, 14.8266,   -999.0,9,  -999.00,9,  -999.00,9,  -999.00,9,  -999.0,-999.000
     33KI158_1,  PRS2,     2, 11,      9,      3,2,20040421,2057, 22.7363,-157.9708, 4725,    290,    289.1,  13.8468,  34.3835,2,  34.3822,2,    204.9,1, 13.8055,   -999.0,9,  -999.00,9,  -999.00,9,  -999.00,9,  -999.0,-999.000
     33KI158_1,  PRS2,     2, 11,      8,     29,2,20040421,2057, 22.7363,-157.9708, 4725,    320,    319.0,  12.7378,  34.2989,2,  34.2990,2,    206.6,1, 12.6946,   -999.0,9,  -999.00,9,  -999.00,9,  -999.00,9,  -999.0,-999.000
     33KI158_1,  PRS2,     2, 11,      7,     28,3,20040421,2057, 22.7363,-157.9708, 4725,    352,    350.3,  11.6538,  34.2255,2,  34.2241,2,    203.3,1, 11.6090,   -999.0,9,  -999.00,9,  -999.00,9,  -999.00,9,  -999.0,-999.000
     33KI158_1,  PRS2,     2, 11,      6,     13,2,20040421,2057, 22.7363,-157.9708, 4725,    381,    380.1,  10.9032,  34.1886,2,  34.1878,2,    200.7,1, 10.8566,   -999.0,9,  -999.00,9,  -999.00,9,  -999.00,9,  -999.0,-999.000
     33KI158_1,  PRS2,     2, 11,      5,     38,2,20040421,2057, 22.7363,-157.9708, 4725,    409,    408.3,  10.1602,  34.1619,2,  34.1627,2,    180.4,1, 10.1123,   -999.0,9,  -999.00,9,  -999.00,9,  -999.00,9,  -999.0,-999.000
     33KI158_1,  PRS2,     2, 11,      4,     36,2,20040421,2057, 22.7363,-157.9708, 4725,    439,    438.9,   9.4188,  34.1379,2,  34.1360,2,    170.8,1,  9.3697,   -999.0,9,  -999.00,9,  -999.00,9,  -999.00,9,  -999.0,-999.000
     33KI158_1,  PRS2,     2, 11,      3,     35,2,20040421,2057, 22.7363,-157.9708, 4725,    470,    469.0,   8.3404,  34.0879,2,  34.0898,2,    149.0,1,  8.2915,   -999.0,9,  -999.00,9,  -999.00,9,  -999.00,9,  -999.0,-999.000
     33KI158_1,  PRS2,     2, 11,      2,     34,2,20040421,2057, 22.7363,-157.9708, 4725,    500,    499.7,   7.6145,  34.0710,2,  34.0712,2,    127.8,1,  7.5651,   -999.0,9,  -999.00,9,  -999.00,9,  -999.00,9,  -999.0,-999.000
     33KI158_1,  PRS2,     2, 11,      1,     33,2,20040421,2057, 22.7363,-157.9708, 4725,   1021,   1020.6,   3.9279,  34.4894,2,  34.4899,2,     46.6,1,  3.8511,   -999.0,9,  -999.00,9,  -999.00,9,  -999.00,9,  -999.0,-999.000