BOTTLE,20090923WHPSIOMYS
EXPOCODE,SECT_ID,STNNBR,CASTNO,SAMPNO,BTLNBR,BTLNBR_FLAG_W,DATE,TIME,LATITUDE,LONGITUDE,DEPTH,CTDRAW,CTDPRS,CTDTMP,CTDSAL,CTDSAL_FLAG_W,SALNTY,SALNTY_FLAG_W,CTDOXY,CTDOXY_FLAG_W,THETA,OXYGEN,OXYGEN_FLAG_W,SILCAT,SILCAT_FLAG_W,NO2+NO3,NO2+NO3_FLAG_W,PHSPHT,PHSPHT_FLAG_W,REVPRS,REVTMP
,,,,,,,,,,,,,DBAR,ITS-90,PSS-78,,PSS-78,,UMOL/KG,,ITS-90,UMOL/KG,,UMOL/KG,,UMOL/KG,,UMOL/KG,,DBAR,DEG C
     33KI158_1,  PRS2,     2,  3,     20,     20,3,20040420,2110, 22.7578,-157.9945, 4720,      5,      4.4,  23.8447,  35.0241,2,-999.0000,5,    211.8,1, 23.8438,   -999.0,9,  -999.00,9,  -999.00,9,  -999.00,9,  -999.0,-999.000
     33KI158_1,  PRS2,     2,  3,     19,     19,3,20040420,2110, 22.7578,-157.9945, 4720,      5,      4.4,  23.8488,  35.0242,2,-999.0000,5,    211.9,1, 23.8479,   -999.0,9,  -999.00,9,  -999.00,9,  -999.00,9,  -999.0,-999.000
     33KI158_1,  PRS2,     2,  3,     18,     18,3,20040420,2110, 22.7578,-157.9945, 4720,      5,      4.4,  23.8488,  35.0241,2,  35.0290,2,    211.9,1, 23.8479,   -999.0,9,  -999.00,9,  -999.00,9,  -999.00,9,  -999.0,-999.000
     33KI158_1,  PRS2,     2,  3,     15,    102,2,20040420,2110, 22.7578,-157.9945, 4720,     10,      8.8,  23.8292,  35.0238,2,-999.0000,5,    212.1,1, 23.8274,   -999.0,9,  -999.00,9,  -999.00,9,  -999.00,9,  -999.0,-999.000
     33KI158_1,  PRS2,     2,  3,     14,    101,2,20040420,2110, 22.7578,-157.9945, 4720,     10,      8.8,  23.8231,  35.0240,2,-999.0000,5,    212.5,1, 23.8212,   -999.0,9,  -999.00,9,  -999.00,9,  -999.00,9,  -999.0,-999.000
     33KI158_1,  PRS2,     2,  3,     17,     17,2,20040420,2110, 22.7578,-157.9945, 4720,     10,      8.9,  23.8391,  35.0239,2,  35.0256,2,    211.8,1, 23.8372,   -999.0,9,  -999.00,9,  -999.00,9,  -999.00,9,  -999.0,-999.000
     33KI158_1,  PRS2,     2,  3,     16,     16,2,20040420,2110, 22.7578,-157.9945, 4720,      9,      8.9,  23.8300,  35.0241,2,  35.0256,2,    212.0,1, 23.8282,   -999.0,9,  -999.00,9,  -999.00,9,  -999.00,9,  -999.0,-999.000
     33KI158_1,  PRS2,     2,  3,     13,     42,2,20040420,2110, 22.7578,-157.9945, 4720,     25,     23.8,  23.7724,  35.0237,2,  35.0282,2,    212.5,1, 23.7674,   -999.0,9,  -999.00,9,  -999.00,9,  -999.00,9,  -999.0,-999.000
     33KI158_1,  PRS2,     2,  3,     12,     12,2,20040420,2110, 22.7578,-157.9945, 4720,     45,     44.7,  23.7592,  35.0243,2,  35.0254,2,    212.3,1, 23.7499,   -999.0,9,  -999.00,9,  -999.00,9,  -999.00,9,  -999.0,-999.000
     33KI158_1,  PRS2,     2,  3,     11,     39,2,20040420,2110, 22.7578,-157.9945, 4720,     59,     58.5,  23.8402,  35.0882,2,  35.0878,2,    212.5,1, 23.8279,   -999.0,9,  -999.00,9,  -999.00,9,  -999.00,9,  -999.0,-999.000
     33KI158_1,  PRS2,     2,  3,     10,     32,2,20040420,2110, 22.7578,-157.9945, 4720,     74,     73.6,  23.8132,  35.0983,2,  35.1016,2,    212.0,1, 23.7978,   -999.0,9,  -999.00,9,  -999.00,9,  -999.00,9,  -999.0,-999.000
     33KI158_1,  PRS2,     2,  3,      9,      3,2,20040420,2110, 22.7578,-157.9945, 4720,     85,     84.6,  23.6372,  35.1407,2,  35.1483,2,    212.1,1, 23.6196,   -999.0,9,  -999.00,9,  -999.00,9,  -999.00,9,  -999.0,-999.000
     33KI158_1,  PRS2,     2,  3,      8,     29,2,20040420,2110, 22.7578,-157.9945, 4720,    101,     99.1,  23.0471,  35.2871,2,  35.2858,2,    211.8,1, 23.0269,   -999.0,9,  -999.00,9,  -999.00,9,  -999.00,9,  -999.0,-999.000
     33KI158_1,  PRS2,     2,  3,      7,     28,3,20040420,2110, 22.7578,-157.9945, 4720,    116,    114.6,  22.7268,  35.3076,2,  35.3047,2,    209.0,1, 22.7036,   -999.0,9,  -999.00,9,  -999.00,9,  -999.00,9,  -999.0,-999.000
     33KI158_1,  PRS2,     2,  3,      6,     13,2,20040420,2110, 22.7578,-157.9945, 4720,    125,    124.4,  22.6176,  35.3212,2,  35.3203,2,    209.9,1, 22.5925,   -999.0,9,  -999.00,9,  -999.00,9,  -999.00,9,  -999.0,-999.000
     33KI158_1,  PRS2,     2,  3,      5,     38,2,20040420,2110, 22.7578,-157.9945, 4720,    150,    148.8,  21.8004,  35.2635,2,  35.2673,2,    198.0,1, 21.7711,   -999.0,9,  -999.00,9,  -999.00,9,  -999.00,9,  -999.0,-999.000
     33KI158_1,  PRS2,     2,  3,      4,     36,2,20040420,2110, 22.7578,-157.9945, 4720,    176,    174.2,  20.4854,  35.1760,2,  35.1794,2,    196.9,1, 20.4527,   -999.0,9,  -999.00,9,  -999.00,9,  -999.00,9,  -999.0,-999.000
     33KI158_1,  PRS2,     2,  3,      3,     35,2,20040420,2110, 22.7578,-157.9945, 4720,    201,    200.2,  18.3984,  34.9276,2,  34.9322,2,    192.7,1, 18.3635,   -999.0,9,  -999.00,9,  -999.00,9,  -999.00,9,  -999.0,-999.000
     33KI158_1,  PRS2,     2,  3,      2,     34,2,20040420,2110, 22.7578,-157.9945, 4720,    550,    549.2,   6.6031,  34.0760,2,  34.0792,2,     93.1,1,  6.5528,   -999.0,9,  -999.00,9,  -999.00,9,  -999.00,9,  -999.0,-999.000
     33KI158_1,  PRS2,     2,  3,      1,     33,2,20040420,2110, 22.7578,-157.9945, 4720,   1021,   1020.0,   3.8373,  34.4761,2,  34.4754,2,     44.4,1,  3.7613,   -999.0,9,  -999.00,9,  -999.00,9,  -999.00,9,  -999.0,-999.000
     33KI158_1,  PRS2,     2,  4,     14,    101,2,20040421,0001, 22.7662,-158.0045, 4718,      5,      3.9,  23.9355,  35.0096,2,  35.0081,2,    212.2,1, 23.9347,   -999.0,9,  -999.00,9,  -999.00,9,  -999.00,9,  -999.0,-999.000
     33KI158_1,  PRS2,     2,  4,     13,     42,2,20040421,0001, 22.7662,-158.0045, 4718,     25,     24.1,  23.7796,  35.0186,2,  35.0203,2,    212.7,1, 23.7746,   -999.0,9,  -999.00,9,  -999.00,9,  -999.00,9,  -999.0,-999.000
     33KI158_1,  PRS2,     2,  4,     12,     12,3,20040421,0001, 22.7662,-158.0045, 4718,     45,     43.8,  23.7653,  35.0219,2,  35.0278,2,    213.0,1, 23.7561,   -999.0,9,  -999.00,9,  -999.00,9,  -999.00,9,  -999.0,-999.000
     33KI158_1,  PRS2,     2,  4,     11,     39,2,20040421,0001, 22.7662,-158.0045, 4718,     75,     74.2,  23.8090,  35.1118,2,  35.1109,2,    212.3,1, 23.7935,   -999.0,9,  -999.00,9,  -999.00,9,  -999.00,9,  -999.0,-999.000
     33KI158_1,  PRS2,     2,  4,     10,     32,2,20040421,0001, 22.7662,-158.0045, 4718,    100,     98.8,  23.1203,  35.2820,2,  35.2834,2,    212.1,1, 23.1001,   -999.0,9,  -999.00,9,  -999.00,9,  -999.00,9,  -999.0,-999.000
     33KI158_1,  PRS2,     2,  4,      9,      3,2,20040421,0001, 22.7662,-158.0045, 4718,    124,    123.7,  22.6269,  35.3145,2,  35.3167,2,    209.0,1, 22.6019,   -999.0,9,  -999.00,9,  -999.00,9,  -999.00,9,  -999.0,-999.000
     33KI158_1,  PRS2,     2,  4,      8,     29,2,20040421,0001, 22.7662,-158.0045, 4718,    149,    147.6,  21.5975,  35.2454,2,  35.2448,2,    193.8,1, 21.5687,   -999.0,9,  -999.00,9,  -999.00,9,  -999.00,9,  -999.0,-999.000
     33KI158_1,  PRS2,     2,  4,      7,     28,3,20040421,0001, 22.7662,-158.0045, 4718,    175,    173.9,  19.6878,  35.0854,2,  35.0857,2,    193.2,1, 19.6560,   -999.0,9,  -999.00,9,  -999.00,9,  -999.00,9,  -999.0,-999.000
     33KI158_1,  PRS2,     2,  4,      6,     13,2,20040421,0001, 22.7662,-158.0045, 4718,    200,    199.3,  18.5134,  34.9420,2,  34.9434,2,    192.6,1, 18.4785,   -999.0,9,  -999.00,9,  -999.00,9,  -999.00,9,  -999.0,-999.000
     33KI158_1,  PRS2,     2,  4,      5,     38,2,20040421,0001, 22.7662,-158.0045, 4718,    250,    249.6,  15.4968,  34.5574,2,  34.5597,2,    200.0,1, 15.4582,   -999.0,9,  -999.00,9,  -999.00,9,  -999.00,9,  -999.0,-999.000
     33KI158_1,  PRS2,     2,  4,      3,     35,2,20040421,0001, 22.7662,-158.0045, 4718,    352,    351.4,  11.4819,  34.2217,2,  34.2217,2,    203.9,1, 11.4374,   -999.0,9,  -999.00,9,  -999.00,9,  -999.00,9,  -999.0,-999.000
     33KI158_1,  PRS2,     2,  4,      4,     36,2,20040421,0001, 22.7662,-158.0045, 4718,    353,    352.0,  11.4748,  34.2212,2,  34.2201,2,    204.3,1, 11.4303,   -999.0,9,  -999.00,9,  -999.00,9,  -999.00,9,  -999.0,-999.000
     33KI158_1,  PRS2,     2,  4,      2,     34,2,20040421,0001, 22.7662,-158.0045, 4718,    731,    730.4,   4.7796,  34.3135,2,  34.3110,2,     32.4,1,  4.7216,   -999.0,9,  -999.00,9,  -999.00,9,  -999.00,9,  -999.0,-999.000
     33KI158_1,  PRS2,     2,  4,      1,     33,2,20040421,0001, 22.7662,-158.0045, 4718,   1018,   1017.6,   3.8476,  34.4746,2,  34.4768,2,     44.5,1,  3.7718,   -999.0,9,  -999.00,9,  -999.00,9,  -999.00,9,  -999.0,-999.000
     33KI158_1,  PRS2,     2,  5,     15,    102,2,20040421,0247, 22.7525,-158.0035, 4722,      5,      4.1,  24.0210,  34.9868,2,-999.0000,5,    212.6,1, 24.0201,   -999.0,9,  -999.00,9,  -999.00,9,  -999.00,9,  -999.0,-999.000
     33KI158_1,  PRS2,     2,  5,     14,    101,3,20040421,0247, 22.7525,-158.0035, 4722,      5,      4.1,  24.0206,  34.9867,2,  34.9890,2,    212.5,1, 24.0198,   -999.0,9,  -999.00,9,  -999.00,9,  -999.00,9,  -999.0,-999.000
     33KI158_1,  PRS2,     2,  5,     16,     16,2,20040421,0247, 22.7525,-158.0035, 4722,      5,      4.2,  24.0212,  34.9868,2,  34.9875,2,    212.5,1, 24.0204,   -999.0,9,  -999.00,9,  -999.00,9,  -999.00,9,  -999.0,-999.000
     33KI158_1,  PRS2,     2,  5,     13,     42,3,20040421,0247, 22.7525,-158.0035, 4722,     25,     24.4,  23.8482,  34.9976,2,  35.3433,4,    213.0,1, 23.8431,   -999.0,9,  -999.00,9,  -999.00,9,  -999.00,9,  -999.0,-999.000
     33KI158_1,  PRS2,     2,  5,     12,     12,3,20040421,0247, 22.7525,-158.0035, 4722,     45,     44.4,  23.8237,  35.0460,2,  35.0494,2,    213.6,1, 23.8145,   -999.0,9,  -999.00,9,  -999.00,9,  -999.00,9,  -999.0,-999.000
     33KI158_1,  PRS2,     2,  5,     11,     39,2,20040421,0247, 22.7525,-158.0035, 4722,     75,     74.4,  23.8472,  35.0951,2,  35.0943,2,    212.8,1, 23.8317,   -999.0,9,  -999.00,9,  -999.00,9,  -999.00,9,  -999.0,-999.000
     33KI158_1,  PRS2,     2,  5,     10,     32,2,20040421,0247, 22.7525,-158.0035, 4722,    101,     99.4,  23.5537,  35.1957,2,  35.1747,3,    211.6,1, 23.5330,   -999.0,9,  -999.00,9,  -999.00,9,  -999.00,9,  -999.0,-999.000
     33KI158_1,  PRS2,     2,  5,      9,      3,2,20040421,0247, 22.7525,-158.0035, 4722,    125,    124.5,  22.8274,  35.3007,2,  35.3027,2,    212.6,1, 22.8021,   -999.0,9,  -999.00,9,  -999.00,9,  -999.00,9,  -999.0,-999.000
     33KI158_1,  PRS2,     2,  5,      8,     29,2,20040421,0247, 22.7525,-158.0035, 4722,    150,    148.7,  22.5105,  35.3196,2,  35.3286,2,    209.8,1, 22.4806,   -999.0,9,  -999.00,9,  -999.00,9,  -999.00,9,  -999.0,-999.000
     33KI158_1,  PRS2,     2,  5,      7,     28,2,20040421,0247, 22.7525,-158.0035, 4722,    175,    174.6,  21.0022,  35.2123,2,  35.2206,2,    192.2,1, 20.9687,   -999.0,9,  -999.00,9,  -999.00,9,  -999.00,9,  -999.0,-999.000
     33KI158_1,  PRS2,     2,  5,      6,     13,2,20040421,0247, 22.7525,-158.0035, 4722,    200,    198.7,  19.9145,  35.1073,2,  35.1052,2,    195.5,1, 19.8779,   -999.0,9,  -999.00,9,  -999.00,9,  -999.00,9,  -999.0,-999.000
     33KI158_1,  PRS2,     2,  5,      5,     38,2,20040421,0247, 22.7525,-158.0035, 4722,    251,    250.1,  17.1813,  34.7678,2,  34.7736,2,    196.2,1, 17.1397,   -999.0,9,  -999.00,9,  -999.00,9,  -999.00,9,  -999.0,-999.000
     33KI158_1,  PRS2,     2,  5,      3,     35,2,20040421,0247, 22.7525,-158.0035, 4722,    350,    349.9,  11.6287,  34.2298,2,  34.2292,2,    205.7,1, 11.5841,   -999.0,9,  -999.00,9,  -999.00,9,  -999.00,9,  -999.0,-999.000
     33KI158_1,  PRS2,     2,  5,      4,     36,2,20040421,0247, 22.7525,-158.0035, 4722,    351,    350.2,  11.5968,  34.2306,2,  34.2313,2,    205.8,1, 11.5522,   -999.0,9,  -999.00,9,  -999.00,9,  -999.00,9,  -999.0,-999.000
     33KI158_1,  PRS2,     2,  5,      2,     34,2,20040421,0247, 22.7525,-158.0035, 4722,    551,    551.2,   6.3177,  34.0570,2,  34.0594,2,     90.4,1,  6.2684,   -999.0,9,  -999.00,9,  -999.00,9,  -999.00,9,  -999.0,-999.000
     33KI158_1,  PRS2,     2,  5,      1,     33,2,20040421,0247, 22.7525,-158.0035, 4722,   1021,   1020.3,   3.8177,  34.4787,2,  34.4795,2,     45.0,1,  3.7418,   -999.0,9,  -999.00,9,  -999.00,9,  -999.00,9,  -999.0,-999.000
     33KI158_1,  PRS2,     2,  6,     16,     16,3,20040421,0552, 22.7503,-158.0065, 4700,      5,      4.6,  23.9421,  34.9920,2,-999.0000,5,    212.3,1, 23.9411,   -999.0,9,  -999.00,9,  -999.00,9,  -999.00,9,  -999.0,-999.000
     33KI158_1,  PRS2,     2,  6,     15,    102,2,20040421,0552, 22.7503,-158.0065, 4700,      5,      4.6,  23.9419,  34.9921,2,  34.9918,2,    212.6,1, 23.9409,   -999.0,9,  -999.00,9,  -999.00,9,  -999.00,9,  -999.0,-999.000
     33KI158_1,  PRS2,     2,  6,     14,    101,2,20040421,0552, 22.7503,-158.0065, 4700,      5,      4.6,  23.9419,  34.9921,2,  34.9926,2,    212.5,1, 23.9409,   -999.0,9,  -999.00,9,  -999.00,9,  -999.00,9,  -999.0,-999.000
     33KI158_1,  PRS2,     2,  6,     13,     42,2,20040421,0552, 22.7503,-158.0065, 4700,     15,     14.3,  23.9385,  34.9925,2,  34.9934,2,    212.7,1, 23.9355,   -999.0,9,  -999.00,9,  -999.00,9,  -999.00,9,  -999.0,-999.000
     33KI158_1,  PRS2,     2,  6,     12,     12,2,20040421,0552, 22.7503,-158.0065, 4700,     24,     24.2,  23.8639,  35.0001,2,  35.0048,2,    213.0,1, 23.8589,   -999.0,9,  -999.00,9,  -999.00,9,  -999.00,9,  -999.0,-999.000
     33KI158_1,  PRS2,     2,  6,     11,     39,3,20040421,0552, 22.7503,-158.0065, 4700,     35,     34.5,  23.8600,  35.0353,2,  35.0372,2,    213.2,1, 23.8528,   -999.0,9,  -999.00,9,  -999.00,9,  -999.00,9,  -999.0,-999.000
     33KI158_1,  PRS2,     2,  6,     10,     32,2,20040421,0552, 22.7503,-158.0065, 4700,     35,     34.5,  23.8604,  35.0357,2,  35.0396,2,    213.1,1, 23.8531,   -999.0,9,  -999.00,9,  -999.00,9,  -999.00,9,  -999.0,-999.000
     33KI158_1,  PRS2,     2,  6,      9,      3,2,20040421,0552, 22.7503,-158.0065, 4700,     45,     44.1,  23.8490,  35.0887,2,  35.0967,2,    213.0,1, 23.8398,   -999.0,9,  -999.00,9,  -999.00,9,  -999.00,9,  -999.0,-999.000
     33KI158_1,  PRS2,     2,  6,      8,     29,2,20040421,0552, 22.7503,-158.0065, 4700,     60,     59.7,  23.8487,  35.0961,2,  35.0945,2,    212.7,1, 23.8362,   -999.0,9,  -999.00,9,  -999.00,9,  -999.00,9,  -999.0,-999.000
     33KI158_1,  PRS2,     2,  6,      7,     28,2,20040421,0552, 22.7503,-158.0065, 4700,     76,     75.7,  23.8378,  35.1014,2,  35.0996,2,    212.7,1, 23.8219,   -999.0,9,  -999.00,9,  -999.00,9,  -999.00,9,  -999.0,-999.000
     33KI158_1,  PRS2,     2,  6,      6,     13,2,20040421,0552, 22.7503,-158.0065, 4700,    100,     98.9,  23.2166,  35.2616,2,  35.2653,2,    212.4,1, 23.1963,   -999.0,9,  -999.00,9,  -999.00,9,  -999.00,9,  -999.0,-999.000
     33KI158_1,  PRS2,     2,  6,      5,     38,3,20040421,0552, 22.7503,-158.0065, 4700,    125,    124.1,  22.6222,  35.3178,2,  35.3096,2,    208.3,1, 22.5971,   -999.0,9,  -999.00,9,  -999.00,9,  -999.00,9,  -999.0,-999.000
     33KI158_1,  PRS2,     2,  6,      4,     36,2,20040421,0552, 22.7503,-158.0065, 4700,    150,    148.8,  22.0203,  35.3427,2,  35.3408,2,    205.3,1, 21.9908,   -999.0,9,  -999.00,9,  -999.00,9,  -999.00,9,  -999.0,-999.000
     33KI158_1,  PRS2,     2,  6,      3,     35,2,20040421,0552, 22.7503,-158.0065, 4700,    175,    174.5,  20.6076,  35.1784,2,  35.1942,2,    193.3,1, 20.5746,   -999.0,9,  -999.00,9,  -999.00,9,  -999.00,9,  -999.0,-999.000
     33KI158_1,  PRS2,     2,  6,      2,     34,2,20040421,0552, 22.7503,-158.0065, 4700,    550,    548.9,   6.3923,  34.0592,2,  34.0569,2,     92.7,1,  6.3430,   -999.0,9,  -999.00,9,  -999.00,9,  -999.00,9,  -999.0,-999.000
     33KI158_1,  PRS2,     2,  6,      1,     33,2,20040421,0552, 22.7503,-158.0065, 4700,   1021,   1020.3,   3.9622,  34.4640,2,  34.4628,2,     43.2,1,  3.8852,   -999.0,9,  -999.00,9,  -999.00,9,  -999.00,9,  -999.0,-999.000