BOTTLE,20090923WHPSIOMYS
#code : jjward hyd_to_exchange.pl 
#original files copied from HTML directory: 20090923
#original HYD file: 33KI158_1_hy.txt   Wed Sep 23 17:55:53 2009
#original SUM file: ../33KI158_1su.txt   Wed Sep 23 17:55:52 2009
EXPOCODE,SECT_ID,STNNBR,CASTNO,SAMPNO,BTLNBR,BTLNBR_FLAG_W,DATE,TIME,LATITUDE,LONGITUDE,DEPTH,CTDRAW,CTDPRS,CTDTMP,CTDSAL,CTDSAL_FLAG_W,SALNTY,SALNTY_FLAG_W,CTDOXY,CTDOXY_FLAG_W,THETA,OXYGEN,OXYGEN_FLAG_W,SILCAT,SILCAT_FLAG_W,NO2+NO3,NO2+NO3_FLAG_W,PHSPHT,PHSPHT_FLAG_W,REVPRS,REVTMP
,,,,,,,,,,,,,DBAR,ITS-90,PSS-78,,PSS-78,,UMOL/KG,,ITS-90,UMOL/KG,,UMOL/KG,,UMOL/KG,,UMOL/KG,,DBAR,DEG C
     33KI158_1,  PRS2,     1,  1,     24,     31,2,20040420,0003, 21.3418,-158.2735, 1750,      5,      4.8,  25.3150,  34.6348,2,  34.6374,2,    208.8,2, 25.3140,    209.0,2,  -999.00,9,  -999.00,9,  -999.00,9,  -999.0,-999.000
     33KI158_1,  PRS2,     1,  1,     23,     30,2,20040420,0003, 21.3418,-158.2735, 1750,      5,      4.8,  25.3114,  34.6344,2,  34.6372,2,    208.8,2, 25.3104,    208.7,2,  -999.00,9,  -999.00,9,  -999.00,9,  -999.0,-999.000
     33KI158_1,  PRS2,     1,  1,     22,     22,2,20040420,0003, 21.3418,-158.2735, 1750,     25,     24.5,  25.0151,  34.6272,2,  34.6304,2,    208.4,2, 25.0098,    209.3,2,  -999.00,9,  -999.00,9,  -999.00,9,  -999.0,-999.000
     33KI158_1,  PRS2,     1,  1,     21,     21,2,20040420,0003, 21.3418,-158.2735, 1750,     45,     44.5,  24.9987,  34.6316,2,  34.6355,2,    209.3,2, 24.9890,    208.9,2,  -999.00,9,  -999.00,9,  -999.00,9,  -999.0,-999.000
     33KI158_1,  PRS2,     1,  1,     20,     20,2,20040420,0003, 21.3418,-158.2735, 1750,     61,     59.7,  24.9845,  34.6381,2,  34.6406,2,    209.7,2, 24.9716,    209.2,2,  -999.00,9,  -999.00,9,  -999.00,9,  -999.0,-999.000
     33KI158_1,  PRS2,     1,  1,     19,     19,2,20040420,0003, 21.3418,-158.2735, 1750,     76,     74.4,  24.7641,  34.7469,2,  34.7550,2,    211.1,2, 24.7481,    210.4,2,  -999.00,9,  -999.00,9,  -999.00,9,  -999.0,-999.000
     33KI158_1,  PRS2,     1,  1,     18,     18,3,20040420,0003, 21.3418,-158.2735, 1750,    100,     99.5,  23.4804,  35.1267,2,  35.0130,4,    204.8,3, 23.4597,    204.8,2,  -999.00,9,  -999.00,9,  -999.00,9,  -999.0,-999.000
     33KI158_1,  PRS2,     1,  1,     17,     17,2,20040420,0003, 21.3418,-158.2735, 1750,    115,    114.2,  22.8119,  35.2261,2,  35.2273,2,    204.9,2, 22.7887,    206.8,2,  -999.00,9,  -999.00,9,  -999.00,9,  -999.0,-999.000
     33KI158_1,  PRS2,     1,  1,     16,     16,3,20040420,0003, 21.3418,-158.2735, 1750,    125,    124.7,  22.6484,  35.2893,2,  35.2750,4,    210.0,3, 22.6232,    208.7,2,  -999.00,9,  -999.00,9,  -999.00,9,  -999.0,-999.000
     33KI158_1,  PRS2,     1,  1,     15,    102,2,20040420,0003, 21.3418,-158.2735, 1750,    150,    149.5,  21.8192,  35.2552,2,  35.2616,2,    203.0,2, 21.7898,    203.1,2,  -999.00,9,  -999.00,9,  -999.00,9,  -999.0,-999.000
     33KI158_1,  PRS2,     1,  1,     14,    101,2,20040420,0003, 21.3418,-158.2735, 1750,    175,    174.2,  21.2903,  35.2144,2,  35.2184,2,    201.0,2, 21.2566,    200.6,2,  -999.00,9,  -999.00,9,  -999.00,9,  -999.0,-999.000
     33KI158_1,  PRS2,     1,  1,     13,     42,2,20040420,0003, 21.3418,-158.2735, 1750,    200,    199.4,  19.9576,  35.0884,2,  35.0902,2,    195.4,2, 19.9208,    195.3,2,  -999.00,9,  -999.00,9,  -999.00,9,  -999.0,-999.000
     33KI158_1,  PRS2,     1,  1,     12,     12,3,20040420,0003, 21.3418,-158.2735, 1750,    225,    224.8,  17.7025,  34.8289,2,  34.8381,2,    195.7,2, 17.6643,    195.9,2,  -999.00,9,  -999.00,9,  -999.00,9,  -999.0,-999.000
     33KI158_1,  PRS2,     1,  1,     11,     39,2,20040420,0003, 21.3418,-158.2735, 1750,    250,    249.1,  15.6141,  34.5702,2,  34.5707,2,    198.6,2, 15.5754,    198.5,2,  -999.00,9,  -999.00,9,  -999.00,9,  -999.0,-999.000
     33KI158_1,  PRS2,     1,  1,     10,     32,2,20040420,0003, 21.3418,-158.2735, 1750,    301,    300.2,  14.1590,  34.4115,2,  34.4218,2,    201.1,2, 14.1154,    202.0,2,  -999.00,9,  -999.00,9,  -999.00,9,  -999.0,-999.000
     33KI158_1,  PRS2,     1,  1,      9,      3,2,20040420,0003, 21.3418,-158.2735, 1750,    350,    349.2,  11.4688,  34.2116,2,  34.2113,2,    193.3,2, 11.4246,    193.1,2,  -999.00,9,  -999.00,9,  -999.00,9,  -999.0,-999.000
     33KI158_1,  PRS2,     1,  1,      8,     29,2,20040420,0003, 21.3418,-158.2735, 1750,    400,    399.5,   9.6006,  34.1464,2,  34.1494,2,    163.9,2,  9.5554,    163.4,2,  -999.00,9,  -999.00,9,  -999.00,9,  -999.0,-999.000
     33KI158_1,  PRS2,     1,  1,      7,     28,2,20040420,0003, 21.3418,-158.2735, 1750,    501,    500.0,   7.4037,  34.1448,2,  34.1450,2,     99.7,2,  7.3550,     95.9,2,  -999.00,9,  -999.00,9,  -999.00,9,  -999.0,-999.000
     33KI158_1,  PRS2,     1,  1,      6,     13,2,20040420,0003, 21.3418,-158.2735, 1750,    600,    599.3,   5.9380,  34.2512,2,  34.2511,2,     42.6,2,  5.8857,     42.1,2,  -999.00,9,  -999.00,9,  -999.00,9,  -999.0,-999.000
     33KI158_1,  PRS2,     1,  1,      5,     38,2,20040420,0003, 21.3418,-158.2735, 1750,    699,    699.1,   5.2631,  34.3542,2,  34.3545,2,     34.1,2,  5.2052,     33.7,2,  -999.00,9,  -999.00,9,  -999.00,9,  -999.0,-999.000
     33KI158_1,  PRS2,     1,  1,      4,     36,2,20040420,0003, 21.3418,-158.2735, 1750,    750,    749.1,   5.0186,  34.3791,2,  34.3810,2,     35.3,2,  4.9576,     35.6,2,  -999.00,9,  -999.00,9,  -999.00,9,  -999.0,-999.000
     33KI158_1,  PRS2,     1,  1,      3,     35,2,20040420,0003, 21.3418,-158.2735, 1750,    800,    799.2,   4.8061,  34.4097,2,  34.4102,2,     36.3,2,  4.7420,     36.5,2,  -999.00,9,  -999.00,9,  -999.00,9,  -999.0,-999.000
     33KI158_1,  PRS2,     1,  1,      2,     34,2,20040420,0003, 21.3418,-158.2735, 1750,    900,    899.4,   4.3852,  34.4864,2,  34.4868,2,     41.5,2,  4.3152,     41.6,2,  -999.00,9,  -999.00,9,  -999.00,9,  -999.0,-999.000
     33KI158_1,  PRS2,     1,  1,      1,     33,2,20040420,0003, 21.3418,-158.2735, 1750,   1021,   1020.3,   3.9474,  34.5090,2,  34.5110,2,     47.6,2,  3.8704,     47.9,2,  -999.00,9,  -999.00,9,  -999.00,9,  -999.0,-999.000
     33KI158_1,  PRS2,     2,  1,     24,     31,2,20040420,1257, 22.7498,-157.9845, 4714,      5,      4.3,  23.7626,  35.0233,2,  35.0254,2,    212.3,2, 23.7617,    212.4,2,     1.11,2,     0.09,2,     0.01,2,  -999.0,-999.000
     33KI158_1,  PRS2,     2,  1,     23,     30,2,20040420,1257, 22.7498,-157.9845, 4714,    477,    476.4,   8.7788,  34.0941,2,  34.0951,2,    168.0,2,  8.7276,    166.0,2,    28.07,2,    21.62,2,     1.57,2,  -999.0,-999.000
     33KI158_1,  PRS2,     2,  1,     22,     22,2,20040420,1257, 22.7498,-157.9845, 4714,    750,    748.6,   4.8158,  34.2823,2,  34.2823,2,     32.7,2,  4.7561,     33.0,2,    66.82,3,    40.13,2,     2.99,2,  -999.0,-999.000
     33KI158_1,  PRS2,     2,  1,     21,     21,2,20040420,1257, 22.7498,-157.9845, 4714,   1002,   1001.1,   3.8782,  34.4703,2,  34.4709,2,     44.0,2,  3.8035,     43.7,2,   104.81,3,    41.22,2,     3.05,2,  -999.0,-999.000
     33KI158_1,  PRS2,     2,  1,     20,     20,2,20040420,1257, 22.7498,-157.9845, 4714,   1202,   1202.6,   3.4061,  34.5320,2,  34.5328,2,     54.7,2,  3.3187,     54.6,2,   120.89,2,    41.18,2,     3.02,2,  -999.0,-999.000
     33KI158_1,  PRS2,     2,  1,     19,     19,2,20040420,1257, 22.7498,-157.9845, 4714,   1405,   1406.2,   2.9792,  34.5602,2,  34.5595,2,     63.4,2,  2.8794,     63.4,2,   131.93,2,    40.61,2,     2.96,2,  -999.0,-999.000
     33KI158_1,  PRS2,     2,  1,     18,     18,2,20040420,1257, 22.7498,-157.9845, 4714,   1598,   1597.4,   2.6792,  34.5802,2,  34.5807,2,     71.1,2,  2.5671,     71.3,2,   141.04,2,    40.23,2,     2.93,2,  -999.0,-999.000
     33KI158_1,  PRS2,     2,  1,     17,     17,2,20040420,1257, 22.7498,-157.9845, 4714,   1799,   1797.9,   2.3811,  34.5963,2,  34.5974,2,     78.2,2,  2.2561,     78.5,2,   146.21,2,    39.85,2,     2.89,2,  -999.0,-999.000
     33KI158_1,  PRS2,     2,  1,     16,     16,2,20040420,1257, 22.7498,-157.9845, 4714,   1998,   1998.5,   2.0930,  34.6177,2,  34.6184,2,     88.1,2,  1.9553,     88.2,2,   152.62,2,    39.66,2,     2.84,2,  -999.0,-999.000
     33KI158_1,  PRS2,     2,  1,     15,    102,2,20040420,1257, 22.7498,-157.9845, 4714,   2199,   2199.9,   1.9417,  34.6327,2,  34.6335,2,     96.9,2,  1.7891,     97.2,2,   157.54,2,    39.13,2,     2.78,2,  -999.0,-999.000
     33KI158_1,  PRS2,     2,  1,     14,    101,2,20040420,1257, 22.7498,-157.9845, 4714,   2399,   2398.0,   1.8069,  34.6442,2,  34.6449,2,    102.9,2,  1.6393,    104.7,2,   157.26,2,    38.75,2,     2.75,2,  -999.0,-999.000
     33KI158_1,  PRS2,     2,  1,     13,     42,2,20040420,1257, 22.7498,-157.9845, 4714,   2597,   2597.3,   1.6993,  34.6539,2,  34.6561,2,    111.5,2,  1.5159,    111.6,2,   159.32,2,    38.20,2,     2.74,2,  -999.0,-999.000
     33KI158_1,  PRS2,     2,  1,     12,     12,2,20040420,1257, 22.7498,-157.9845, 4714,   2796,   2796.2,   1.6145,  34.6626,2,  35.2332,4,    117.9,3,  1.4145,    211.2,4,   158.43,2,     0.27,4,     0.10,4,  -999.0,-999.000
     33KI158_1,  PRS2,     2,  1,     11,     39,2,20040420,1257, 22.7498,-157.9845, 4714,   2999,   2998.3,   1.5482,  34.6695,2,  34.6699,2,    124.4,2,  1.3305,    124.5,2,   159.14,2,    37.42,2,     2.66,2,  -999.0,-999.000
     33KI158_1,  PRS2,     2,  1,     10,     32,2,20040420,1257, 22.7498,-157.9845, 4714,   3198,   3197.8,   1.5068,  34.6746,2,  34.6712,3,    130.8,3,  1.2708,    129.3,2,   154.56,3,    36.86,2,     2.63,2,  -999.0,-999.000
     33KI158_1,  PRS2,     2,  1,      9,      3,2,20040420,1257, 22.7498,-157.9845, 4714,   3400,   3399.1,   1.4843,  34.6786,2,  34.6793,2,    135.8,2,  1.2288,    135.8,2,   155.21,2,    36.82,2,     2.60,2,  -999.0,-999.000
     33KI158_1,  PRS2,     2,  1,      8,     29,2,20040420,1257, 22.7498,-157.9845, 4714,   3601,   3599.5,   1.4630,  34.6823,2,  34.6822,2,    140.7,2,  1.1876,    140.7,2,   154.03,2,    36.27,2,     2.56,2,  -999.0,-999.000
     33KI158_1,  PRS2,     2,  1,      7,     28,2,20040420,1257, 22.7498,-157.9845, 4714,   3799,   3798.8,   1.4497,  34.6854,2,  34.6852,2,    145.3,2,  1.1537,    145.3,2,   151.46,2,    35.90,2,     2.54,2,  -999.0,-999.000
     33KI158_1,  PRS2,     2,  1,      6,     13,2,20040420,1257, 22.7498,-157.9845, 4714,   3999,   3998.7,   1.4522,  34.6871,2,  34.6872,2,    147.9,2,  1.1348,    148.1,2,   150.52,2,    35.76,2,     2.53,2,  -999.0,-999.000
     33KI158_1,  PRS2,     2,  1,      5,     38,2,20040420,1257, 22.7498,-157.9845, 4714,   4200,   4198.8,   1.4613,  34.6884,2,  34.6885,2,    150.1,2,  1.1216,    149.8,2,   150.24,2,    35.88,2,     2.50,2,  -999.0,-999.000
     33KI158_1,  PRS2,     2,  1,      4,     36,2,20040420,1257, 22.7498,-157.9845, 4714,   4400,   4399.1,   1.4770,  34.6891,2,  34.6893,2,    151.1,2,  1.1143,    150.4,2,   149.79,2,    35.59,2,     2.49,2,  -999.0,-999.000
     33KI158_1,  PRS2,     2,  1,      3,     35,2,20040420,1257, 22.7498,-157.9845, 4714,   4500,   4499.2,   1.4868,  34.6893,2,  34.6899,2,    151.6,2,  1.1123,    151.2,2,   149.71,2,    35.66,2,     2.48,2,  -999.0,-999.000
     33KI158_1,  PRS2,     2,  1,      2,     34,2,20040420,1257, 22.7498,-157.9845, 4714,   4601,   4599.5,   1.4979,  34.6894,2,  34.6893,2,    151.6,2,  1.1114,    152.0,2,   149.70,2,    35.58,2,     2.50,2,  -999.0,-999.000
     33KI158_1,  PRS2,     2,  1,      1,     33,2,20040420,1257, 22.7498,-157.9845, 4714,   4800,   4799.6,   1.5132,  34.6900,2,  34.6901,2,    152.8,2,  1.1026,    153.2,2,   148.23,2,    35.46,2,     2.46,2,  -999.0,-999.000
     33KI158_1,  PRS2,     2,  2,     24,     31,2,20040420,1800, 22.7477,-158.0008, 4733,      5,      3.7,  23.7831,  35.0167,2,  35.0178,2,    212.2,2, 23.7823,    212.4,2,     1.03,2,     0.03,2,     0.10,2,  -999.0,-999.000
     33KI158_1,  PRS2,     2,  2,     23,     30,2,20040420,1800, 22.7477,-158.0008, 4733,     58,     57.0,  23.7907,  35.0312,2,  35.0317,2,    212.4,2, 23.7788,    212.4,2,     1.03,2,     0.12,2,     0.04,2,  -999.0,-999.000
     33KI158_1,  PRS2,     2,  2,     22,     22,2,20040420,1800, 22.7477,-158.0008, 4733,    111,    109.9,  23.2120,  35.2658,2,  35.2623,2,    211.3,2, 23.1894,    211.5,2,     1.00,2,     0.11,2,     0.08,2,  -999.0,-999.000
     33KI158_1,  PRS2,     2,  2,     21,     21,2,20040420,1800, 22.7477,-158.0008, 4733,    157,    154.6,  21.6475,  35.2433,2,  35.2420,2,    192.3,2, 21.6172,    198.2,2,     1.67,2,     1.07,3,     0.04,2,  -999.0,-999.000
     33KI158_1,  PRS2,     2,  2,     20,     20,2,20040420,1800, 22.7477,-158.0008, 4733,    193,    191.8,  19.2677,  35.0411,2,  35.0431,2,    192.6,2, 19.2332,    195.2,2,     2.50,2,     2.44,2,     0.05,4,  -999.0,-999.000
     33KI158_1,  PRS2,     2,  2,     19,     19,2,20040420,1800, 22.7477,-158.0008, 4733,    257,    256.5,  14.9792,  34.4997,2,  34.5027,2,    200.9,2, 14.9405,    200.2,2,     5.45,2,     6.49,2,     0.57,2,  -999.0,-999.000
     33KI158_1,  PRS2,     2,  2,     18,     18,2,20040420,1800, 22.7477,-158.0008, 4733,    307,    305.5,  13.2693,  34.3396,2,  34.3365,2,    206.2,2, 13.2268,    205.6,2,     8.18,2,     8.92,2,     0.71,2,  -999.0,-999.000
     33KI158_1,  PRS2,     2,  2,     17,     17,2,20040420,1800, 22.7477,-158.0008, 4733,    357,    354.9,  11.3653,  34.2154,2,  34.2176,2,    203.3,2, 11.3207,    203.2,2,    13.10,2,    12.89,2,     1.00,2,  -999.0,-999.000
     33KI158_1,  PRS2,     2,  2,     16,     16,2,20040420,1800, 22.7477,-158.0008, 4733,    397,    395.5,  10.3831,  34.1656,2,  34.1648,2,    192.5,2, 10.3361,    194.7,2,    17.30,2,    15.57,2,     1.17,2,  -999.0,-999.000
     33KI158_1,  PRS2,     2,  2,     15,    102,2,20040420,1800, 22.7477,-158.0008, 4733,    450,    449.1,   9.0349,  34.1054,2,  34.1060,2,    166.8,2,  8.9859,    167.8,2,    26.63,2,    20.67,2,     1.55,2,  -999.0,-999.000
     33KI158_1,  PRS2,     2,  2,     14,    101,2,20040420,1800, 22.7477,-158.0008, 4733,    515,    513.7,   7.4752,  34.0787,2,  34.0780,2,    119.3,2,  7.4248,    120.5,2,    43.32,2,    27.81,2,     2.07,2,  -999.0,-999.000
     33KI158_1,  PRS2,     2,  2,     13,     42,2,20040420,1800, 22.7477,-158.0008, 4733,    548,    547.0,   6.8529,  34.0929,2,  34.0949,2,     99.2,2,  6.8018,     97.3,2,    52.41,2,    30.88,2,     2.33,2,  -999.0,-999.000
     33KI158_1,  PRS2,     2,  2,     12,     12,2,20040420,1800, 22.7477,-158.0008, 4733,    590,    588.8,   5.8732,  34.0799,2,  34.0804,2,     72.8,2,  5.8224,     72.8,2,    65.18,2,    34.84,2,     2.63,2,  -999.0,-999.000
     33KI158_1,  PRS2,     2,  2,     11,     39,2,20040420,1800, 22.7477,-158.0008, 4733,    650,    649.7,   5.4400,  34.1278,2,  34.1270,2,     54.0,2,  5.3857,     53.3,2,    74.01,2,    37.43,2,     2.79,2,  -999.0,-999.000
     33KI158_1,  PRS2,     2,  2,     10,     32,2,20040420,1800, 22.7477,-158.0008, 4733,    709,    707.6,   5.0774,  34.2079,2,  34.2054,2,     42.2,2,  5.0198,     40.7,2,    71.08,3,    39.03,2,     2.90,2,  -999.0,-999.000
     33KI158_1,  PRS2,     2,  2,      9,      3,2,20040420,1800, 22.7477,-158.0008, 4733,    748,    747.2,   4.8573,  34.2519,2,  34.2513,2,     34.4,2,  4.7976,     33.4,2,    74.04,3,    40.00,2,     2.97,2,  -999.0,-999.000
     33KI158_1,  PRS2,     2,  2,      8,     29,2,20040420,1800, 22.7477,-158.0008, 4733,    789,    787.1,   4.7111,  34.2933,2,  34.3015,3,     31.8,3,  4.6488,   -999.0,5,    74.79,3,    40.52,2,     3.02,2,  -999.0,-999.000
     33KI158_1,  PRS2,     2,  2,      7,     28,2,20040420,1800, 22.7477,-158.0008, 4733,    826,    824.1,   4.6976,  34.3582,2,  34.3573,2,     33.9,2,  4.6321,     33.0,2,    71.62,3,    40.60,2,     3.01,2,  -999.0,-999.000
     33KI158_1,  PRS2,     2,  2,      6,     13,2,20040420,1800, 22.7477,-158.0008, 4733,    859,    858.5,   4.5662,  34.4064,2,  34.4047,2,     36.0,2,  4.4985,     35.9,2,    86.08,3,    40.85,2,     3.02,2,  -999.0,-999.000
     33KI158_1,  PRS2,     2,  2,      5,     38,2,20040420,1800, 22.7477,-158.0008, 4733,    899,    898.3,   4.2775,  34.4011,2,  34.4046,2,     36.4,2,  4.2084,     35.6,2,    81.94,3,    41.19,2,     3.02,2,  -999.0,-999.000
     33KI158_1,  PRS2,     2,  2,      4,     36,2,20040420,1800, 22.7477,-158.0008, 4733,    937,    936.3,   4.1635,  34.4182,2,  34.4185,2,     36.7,2,  4.0921,     36.3,2,    99.34,3,    41.09,2,     3.03,2,  -999.0,-999.000
     33KI158_1,  PRS2,     2,  2,      3,     35,2,20040420,1800, 22.7477,-158.0008, 4733,    975,    974.2,   4.0761,  34.4335,2,  34.4332,2,     38.5,2,  4.0021,     38.5,2,    72.67,3,    41.44,2,     3.00,2,  -999.0,-999.000
     33KI158_1,  PRS2,     2,  2,      2,     34,2,20040420,1800, 22.7477,-158.0008, 4733,   1015,   1014.0,   3.9508,  34.4566,2,  34.4568,2,     41.5,2,  3.8745,     41.1,2,    59.96,3,    41.42,2,     2.99,2,  -999.0,-999.000
     33KI158_1,  PRS2,     2,  2,      1,     33,2,20040420,1800, 22.7477,-158.0008, 4733,   1028,   1026.9,   3.9170,  34.4630,2,  34.4628,2,     42.4,2,  3.8398,     42.3,2,   102.82,3,    41.26,2,     3.01,2,  -999.0,-999.000