BOTTLE,20090923WHPSIOMYS
EXPOCODE,SECT_ID,STNNBR,CASTNO,SAMPNO,BTLNBR,BTLNBR_FLAG_W,DATE,TIME,LATITUDE,LONGITUDE,DEPTH,CTDRAW,CTDPRS,CTDTMP,CTDSAL,CTDSAL_FLAG_W,SALNTY,SALNTY_FLAG_W,CTDOXY,CTDOXY_FLAG_W,THETA,OXYGEN,OXYGEN_FLAG_W,SILCAT,SILCAT_FLAG_W,NO2+NO3,NO2+NO3_FLAG_W,PHSPHT,PHSPHT_FLAG_W,REVPRS,REVTMP
,,,,,,,,,,,,,DBAR,ITS-90,PSS-78,,PSS-78,,UMOL/KG,,ITS-90,UMOL/KG,,UMOL/KG,,UMOL/KG,,UMOL/KG,,DBAR,DEG C
     33KI158_1,  PRS2,     2, 12,     11,     39,2,20040421,2356, 22.7632,-157.9922, 4722,      5,      4.0,  24.3072,  34.9718,2,  34.9717,2,    212.2,1, 24.3064,   -999.0,9,  -999.00,9,  -999.00,9,  -999.00,9,  -999.0,-999.000
     33KI158_1,  PRS2,     2, 12,     10,     32,2,20040421,2356, 22.7632,-157.9922, 4722,     25,     24.3,  23.8916,  34.9800,2,  34.9819,2,    212.6,1, 23.8866,   -999.0,9,  -999.00,9,  -999.00,9,  -999.00,9,  -999.0,-999.000
     33KI158_1,  PRS2,     2, 12,      9,      3,2,20040421,2356, 22.7632,-157.9922, 4722,     46,     45.3,  23.8553,  35.1069,2,  35.1077,2,    213.0,1, 23.8458,   -999.0,9,  -999.00,9,  -999.00,9,  -999.00,9,  -999.0,-999.000
     33KI158_1,  PRS2,     2, 12,      8,     29,2,20040421,2356, 22.7632,-157.9922, 4722,     75,     74.5,  23.8146,  35.1125,2,  35.1107,2,    213.1,1, 23.7990,   -999.0,9,  -999.00,9,  -999.00,9,  -999.00,9,  -999.0,-999.000
     33KI158_1,  PRS2,     2, 12,      7,     28,3,20040421,2356, 22.7632,-157.9922, 4722,     99,     98.8,  23.1457,  35.2438,2,  35.2432,2,    209.4,1, 23.1254,   -999.0,9,  -999.00,9,  -999.00,9,  -999.00,9,  -999.0,-999.000
     33KI158_1,  PRS2,     2, 12,      6,     13,2,20040421,2356, 22.7632,-157.9922, 4722,    126,    124.4,  22.5554,  35.3199,2,  35.3175,2,    210.2,1, 22.5303,   -999.0,9,  -999.00,9,  -999.00,9,  -999.00,9,  -999.0,-999.000
     33KI158_1,  PRS2,     2, 12,      5,     38,2,20040421,2356, 22.7632,-157.9922, 4722,    150,    149.3,  22.2112,  35.3464,2,  35.3615,4,    215.9,1, 22.1814,   -999.0,9,  -999.00,9,  -999.00,9,  -999.00,9,  -999.0,-999.000
     33KI158_1,  PRS2,     2, 12,      4,     36,2,20040421,2356, 22.7632,-157.9922, 4722,    249,    248.4,  16.0514,  34.6264,2,  34.6253,2,    200.1,1, 16.0120,   -999.0,9,  -999.00,9,  -999.00,9,  -999.00,9,  -999.0,-999.000
     33KI158_1,  PRS2,     2, 12,      3,     35,2,20040421,2356, 22.7632,-157.9922, 4722,    350,    349.0,  11.0606,  34.1995,2,  34.1990,2,    203.0,1, 11.0175,   -999.0,9,  -999.00,9,  -999.00,9,  -999.00,9,  -999.0,-999.000
     33KI158_1,  PRS2,     2, 12,      2,     34,2,20040421,2356, 22.7632,-157.9922, 4722,    750,    749.5,   4.8109,  34.3065,2,  34.3055,2,     33.7,1,  4.7512,   -999.0,9,  -999.00,9,  -999.00,9,  -999.00,9,  -999.0,-999.000
     33KI158_1,  PRS2,     2, 12,      1,     33,2,20040421,2356, 22.7632,-157.9922, 4722,   1022,   1019.9,   3.8644,  34.4752,2,  34.4746,2,     44.6,1,  3.7882,   -999.0,9,  -999.00,9,  -999.00,9,  -999.00,9,  -999.0,-999.000
     33KI158_1,  PRS2,     2, 13,      5,     38,2,20040422,0252, 22.7952,-158.0332, 4719,      5,      3.9,  24.3564,  34.9710,2,  34.9697,2,    211.2,1, 24.3556,   -999.0,9,  -999.00,9,  -999.00,9,  -999.00,9,  -999.0,-999.000
     33KI158_1,  PRS2,     2, 13,      4,     36,2,20040422,0252, 22.7952,-158.0332, 4719,      5,      3.9,  24.3512,  34.9714,2,  34.9729,2,    211.3,1, 24.3504,   -999.0,9,  -999.00,9,  -999.00,9,  -999.00,9,  -999.0,-999.000
     33KI158_1,  PRS2,     2, 13,      3,     35,2,20040422,0252, 22.7952,-158.0332, 4719,    552,    551.2,   6.4476,  34.0524,2,  34.0490,2,     95.5,1,  6.3977,   -999.0,9,  -999.00,9,  -999.00,9,  -999.00,9,  -999.0,-999.000
     33KI158_1,  PRS2,     2, 13,      2,     34,2,20040422,0252, 22.7952,-158.0332, 4719,    860,    859.5,   4.3670,  34.4100,2,  34.4044,2,     36.8,1,  4.3006,   -999.0,9,  -999.00,9,  -999.00,9,  -999.00,9,  -999.0,-999.000
     33KI158_1,  PRS2,     2, 13,      1,     33,2,20040422,0252, 22.7952,-158.0332, 4719,   1022,   1020.1,   3.8298,  34.4785,2,  34.4766,2,     44.9,1,  3.7538,   -999.0,9,  -999.00,9,  -999.00,9,  -999.00,9,  -999.0,-999.000
     33KI158_1,  PRS2,     2, 14,     24,     31,2,20040422,0536, 22.7788,-158.0062, 4715,      6,      4.4,  24.2679,  34.9696,2,-999.0000,5,    213.2,1, 24.2670,   -999.0,9,  -999.00,9,  -999.00,9,  -999.00,9,  -999.0,-999.000
     33KI158_1,  PRS2,     2, 14,     23,     30,3,20040422,0536, 22.7788,-158.0062, 4715,      5,      4.4,  24.2652,  34.9699,2,-999.0000,5,    213.2,1, 24.2643,   -999.0,9,  -999.00,9,  -999.00,9,  -999.00,9,  -999.0,-999.000
     33KI158_1,  PRS2,     2, 14,     22,     22,3,20040422,0536, 22.7788,-158.0062, 4715,      5,      4.4,  24.2628,  34.9695,2,  34.9721,2,    213.1,1, 24.2618,   -999.0,9,  -999.00,9,  -999.00,9,  -999.00,9,  -999.0,-999.000
     33KI158_1,  PRS2,     2, 14,     21,     21,3,20040422,0536, 22.7788,-158.0062, 4715,      5,      4.4,  24.2629,  34.9694,2,  34.9693,2,    213.1,1, 24.2619,   -999.0,9,  -999.00,9,  -999.00,9,  -999.00,9,  -999.0,-999.000
     33KI158_1,  PRS2,     2, 14,     20,     20,3,20040422,0536, 22.7788,-158.0062, 4715,     25,     24.0,  23.9900,  34.9635,2,  34.9636,2,    213.0,1, 23.9850,   -999.0,9,  -999.00,9,  -999.00,9,  -999.00,9,  -999.0,-999.000
     33KI158_1,  PRS2,     2, 14,     19,     19,3,20040422,0536, 22.7788,-158.0062, 4715,     25,     24.1,  23.9900,  34.9635,2,  34.9638,2,    213.0,1, 23.9849,   -999.0,9,  -999.00,9,  -999.00,9,  -999.00,9,  -999.0,-999.000
     33KI158_1,  PRS2,     2, 14,     17,     17,2,20040422,0536, 22.7788,-158.0062, 4715,     46,     44.4,  23.8848,  35.1054,2,  35.0841,4,    212.8,1, 23.8755,   -999.0,9,  -999.00,9,  -999.00,9,  -999.00,9,  -999.0,-999.000
     33KI158_1,  PRS2,     2, 14,     18,     18,2,20040422,0536, 22.7788,-158.0062, 4715,     45,     44.5,  23.8848,  35.1053,2,  35.1018,2,    212.8,1, 23.8755,   -999.0,9,  -999.00,9,  -999.00,9,  -999.00,9,  -999.0,-999.000
     33KI158_1,  PRS2,     2, 14,     16,     16,2,20040422,0536, 22.7788,-158.0062, 4715,     60,     59.2,  23.8784,  35.1084,2,  35.1038,2,    212.8,1, 23.8660,   -999.0,9,  -999.00,9,  -999.00,9,  -999.00,9,  -999.0,-999.000
     33KI158_1,  PRS2,     2, 14,     14,    101,3,20040422,0536, 22.7788,-158.0062, 4715,     75,     74.1,  23.8202,  35.1223,2,  35.1193,2,    212.4,1, 23.8047,   -999.0,9,  -999.00,9,  -999.00,9,  -999.00,9,  -999.0,-999.000
     33KI158_1,  PRS2,     2, 14,     15,    102,2,20040422,0536, 22.7788,-158.0062, 4715,     75,     74.2,  23.8179,  35.1234,2,  35.1197,2,    212.4,1, 23.8024,   -999.0,9,  -999.00,9,  -999.00,9,  -999.00,9,  -999.0,-999.000
     33KI158_1,  PRS2,     2, 14,     13,     42,2,20040422,0536, 22.7788,-158.0062, 4715,     85,     84.6,  23.4315,  35.2435,2,  35.2413,2,    208.5,1, 23.4140,   -999.0,9,  -999.00,9,  -999.00,9,  -999.00,9,  -999.0,-999.000
     33KI158_1,  PRS2,     2, 14,     12,     12,2,20040422,0536, 22.7788,-158.0062, 4715,    101,     99.3,  23.1031,  35.2766,2,  35.2734,2,    214.6,1, 23.0827,   -999.0,9,  -999.00,9,  -999.00,9,  -999.00,9,  -999.0,-999.000
     33KI158_1,  PRS2,     2, 14,     11,     39,2,20040422,0536, 22.7788,-158.0062, 4715,    101,     99.4,  23.1047,  35.2753,2,  35.2815,2,    214.8,1, 23.0843,   -999.0,9,  -999.00,9,  -999.00,9,  -999.00,9,  -999.0,-999.000
     33KI158_1,  PRS2,     2, 14,     10,     32,2,20040422,0536, 22.7788,-158.0062, 4715,    116,    114.9,  22.8302,  35.2971,2,  35.2960,2,    213.3,1, 22.8068,   -999.0,9,  -999.00,9,  -999.00,9,  -999.00,9,  -999.0,-999.000
     33KI158_1,  PRS2,     2, 14,      9,      3,2,20040422,0536, 22.7788,-158.0062, 4715,    126,    124.5,  22.6613,  35.3157,2,  35.3148,2,    209.2,1, 22.6361,   -999.0,9,  -999.00,9,  -999.00,9,  -999.00,9,  -999.0,-999.000
     33KI158_1,  PRS2,     2, 14,      8,     29,2,20040422,0536, 22.7788,-158.0062, 4715,    126,    124.5,  22.6541,  35.3158,2,  35.3142,2,    209.0,1, 22.6290,   -999.0,9,  -999.00,9,  -999.00,9,  -999.00,9,  -999.0,-999.000
     33KI158_1,  PRS2,     2, 14,      7,     28,2,20040422,0536, 22.7788,-158.0062, 4715,    134,    133.7,  22.5317,  35.3258,2,  35.3266,2,    210.5,1, 22.5048,   -999.0,9,  -999.00,9,  -999.00,9,  -999.00,9,  -999.0,-999.000
     33KI158_1,  PRS2,     2, 14,      6,     13,2,20040422,0536, 22.7788,-158.0062, 4715,    150,    148.5,  22.1456,  35.3514,2,  35.3522,2,    215.2,1, 22.1160,   -999.0,9,  -999.00,9,  -999.00,9,  -999.00,9,  -999.0,-999.000
     33KI158_1,  PRS2,     2, 14,      5,     38,4,20040422,0536, 22.7788,-158.0062, 4715,    150,    148.5,  22.1421,  35.3505,2,  35.3412,2,    214.8,1, 22.1126,   -999.0,9,  -999.00,9,  -999.00,9,  -999.00,9,  -999.0,-999.000
     33KI158_1,  PRS2,     2, 14,      4,     36,2,20040422,0536, 22.7788,-158.0062, 4715,    175,    174.0,  21.1022,  35.2536,2,  35.2889,4,    198.1,1, 21.0687,   -999.0,9,  -999.00,9,  -999.00,9,  -999.00,9,  -999.0,-999.000
     33KI158_1,  PRS2,     2, 14,      3,     35,2,20040422,0536, 22.7788,-158.0062, 4715,    175,    174.0,  21.0084,  35.2439,2,  35.2901,4,    198.1,1, 20.9750,   -999.0,9,  -999.00,9,  -999.00,9,  -999.00,9,  -999.0,-999.000
     33KI158_1,  PRS2,     2, 14,      2,     34,2,20040422,0536, 22.7788,-158.0062, 4715,    502,    501.3,   7.6792,  34.0657,2,  34.0661,2,    132.1,1,  7.6294,   -999.0,9,  -999.00,9,  -999.00,9,  -999.00,9,  -999.0,-999.000
     33KI158_1,  PRS2,     2, 14,      1,     33,2,20040422,0536, 22.7788,-158.0062, 4715,   1020,   1019.1,   3.8361,  34.4762,2,  34.4760,2,     44.9,1,  3.7602,   -999.0,9,  -999.00,9,  -999.00,9,  -999.00,9,  -999.0,-999.000
     33KI158_1,  PRS2,     2, 15,     14,    101,2,20040422,0731, 22.7518,-158.0075, 4723,      5,      4.4,  24.1378,  34.9756,2,  34.9751,2,    212.1,2, 24.1369,    212.2,2,  -999.00,9,  -999.00,9,  -999.00,9,  -999.0,-999.000
     33KI158_1,  PRS2,     2, 15,     13,     42,2,20040422,0731, 22.7518,-158.0075, 4723,     45,     44.5,  23.8693,  35.1113,2,  35.1117,2,    212.5,2, 23.8600,   -999.0,5,  -999.00,9,  -999.00,9,  -999.00,9,  -999.0,-999.000
     33KI158_1,  PRS2,     2, 15,     12,     12,3,20040422,0731, 22.7518,-158.0075, 4723,     46,     44.5,  23.8693,  35.1112,2,  35.1071,2,    212.6,2, 23.8600,   -999.0,5,  -999.00,9,  -999.00,9,  -999.00,9,  -999.0,-999.000
     33KI158_1,  PRS2,     2, 15,     11,     39,3,20040422,0731, 22.7518,-158.0075, 4723,    161,    159.6,  21.4411,  35.2757,2,  35.2813,2,    197.9,2, 21.4100,    200.9,2,  -999.00,9,  -999.00,9,  -999.00,9,  -999.0,-999.000
     33KI158_1,  PRS2,     2, 15,     10,     32,2,20040422,0731, 22.7518,-158.0075, 4723,    499,    498.4,   7.3542,  34.0791,2,  34.0780,2,    118.4,2,  7.3059,    117.4,2,  -999.00,9,  -999.00,9,  -999.00,9,  -999.0,-999.000
     33KI158_1,  PRS2,     2, 15,      9,      3,2,20040422,0731, 22.7518,-158.0075, 4723,    800,    798.9,   4.6828,  34.3768,2,  34.3751,2,     34.6,2,  4.6195,     33.9,2,  -999.00,9,  -999.00,9,  -999.00,9,  -999.0,-999.000
     33KI158_1,  PRS2,     2, 15,      8,     29,2,20040422,0731, 22.7518,-158.0075, 4723,   1001,   1000.0,   3.9607,  34.4929,2,  34.4921,2,     47.1,2,  3.8854,     46.9,2,  -999.00,9,  -999.00,9,  -999.00,9,  -999.0,-999.000
     33KI158_1,  PRS2,     2, 15,      6,     13,2,20040422,0731, 22.7518,-158.0075, 4723,   2001,   1999.8,   2.0458,  34.6216,2,  34.6209,2,     89.7,2,  1.9087,     90.3,2,  -999.00,9,  -999.00,9,  -999.00,9,  -999.0,-999.000
     33KI158_1,  PRS2,     2, 15,      7,     28,2,20040422,0731, 22.7518,-158.0075, 4723,   2001,   2000.1,   2.0458,  34.6215,2,-999.0000,5,     89.7,2,  1.9087,   -999.0,5,  -999.00,9,  -999.00,9,  -999.00,9,  -999.0,-999.000
     33KI158_1,  PRS2,     2, 15,      4,     36,2,20040422,0731, 22.7518,-158.0075, 4723,   3001,   2999.2,   1.5351,  34.6710,2,  34.6703,2,    125.9,2,  1.3176,    126.4,2,  -999.00,9,  -999.00,9,  -999.00,9,  -999.0,-999.000
     33KI158_1,  PRS2,     2, 15,      5,     38,2,20040422,0731, 22.7518,-158.0075, 4723,   3000,   2999.5,   1.5353,  34.6709,2,-999.0000,5,    125.9,2,  1.3178,   -999.0,5,  -999.00,9,  -999.00,9,  -999.00,9,  -999.0,-999.000
     33KI158_1,  PRS2,     2, 15,      3,     35,2,20040422,0731, 22.7518,-158.0075, 4723,   3999,   3998.4,   1.4520,  34.6875,2,-999.0000,5,    148.0,2,  1.1346,   -999.0,5,  -999.00,9,  -999.00,9,  -999.00,9,  -999.0,-999.000
     33KI158_1,  PRS2,     2, 15,      2,     34,2,20040422,0731, 22.7518,-158.0075, 4723,   4000,   3998.4,   1.4520,  34.6875,2,  34.6852,2,    148.0,2,  1.1346,    148.3,2,  -999.00,9,  -999.00,9,  -999.00,9,  -999.0,-999.000
     33KI158_1,  PRS2,     2, 15,      1,     33,2,20040422,0731, 22.7518,-158.0075, 4723,   4805,   4804.4,   1.5149,  34.6904,2,  34.6897,2,    152.3,2,  1.1037,    148.4,4,  -999.00,9,  -999.00,9,  -999.00,9,  -999.0,-999.000
     33KI158_1,  PRS2,     2, 16,      8,     29,2,20040422,2358, 22.7628,-157.9908, 4718,      5,      4.3,  24.3920,  35.0463,2,  35.0426,2,    211.4,1, 24.3911,   -999.0,9,  -999.00,9,  -999.00,9,  -999.00,9,  -999.0,-999.000
     33KI158_1,  PRS2,     2, 16,      7,     28,2,20040422,2358, 22.7628,-157.9908, 4718,      5,      4.3,  24.3832,  35.0455,2,  35.0416,2,    211.4,1, 24.3823,   -999.0,9,  -999.00,9,  -999.00,9,  -999.00,9,  -999.0,-999.000
     33KI158_1,  PRS2,     2, 16,      6,     13,2,20040422,2358, 22.7628,-157.9908, 4718,     45,     43.8,  23.8622,  35.1154,2,  35.1156,2,    211.9,1, 23.8531,   -999.0,9,  -999.00,9,  -999.00,9,  -999.00,9,  -999.0,-999.000
     33KI158_1,  PRS2,     2, 16,      5,     38,2,20040422,2358, 22.7628,-157.9908, 4718,     45,     43.9,  23.8622,  35.1153,2,  35.1154,2,    211.9,1, 23.8530,   -999.0,9,  -999.00,9,  -999.00,9,  -999.00,9,  -999.0,-999.000
     33KI158_1,  PRS2,     2, 16,      4,     36,2,20040422,2358, 22.7628,-157.9908, 4718,     75,     74.5,  23.3305,  35.2533,2,  35.2444,2,    207.1,1, 23.3151,   -999.0,9,  -999.00,9,  -999.00,9,  -999.00,9,  -999.0,-999.000
     33KI158_1,  PRS2,     2, 16,      3,     35,2,20040422,2358, 22.7628,-157.9908, 4718,     75,     74.5,  23.3256,  35.2570,2,  35.2470,2,    206.8,1, 23.3102,   -999.0,9,  -999.00,9,  -999.00,9,  -999.00,9,  -999.0,-999.000
     33KI158_1,  PRS2,     2, 16,      2,     34,2,20040422,2358, 22.7628,-157.9908, 4718,    100,     99.3,  22.9462,  35.2956,2,  35.2956,2,    205.3,1, 22.9260,   -999.0,9,  -999.00,9,  -999.00,9,  -999.00,9,  -999.0,-999.000
     33KI158_1,  PRS2,     2, 16,      1,     33,2,20040422,2358, 22.7628,-157.9908, 4718,    100,     99.3,  22.9453,  35.2957,2,  35.2952,2,    205.4,1, 22.9251,   -999.0,9,  -999.00,9,  -999.00,9,  -999.00,9,  -999.0,-999.000
     33KI158_1,  PRS2,     6,  1,     13,     42,2,20040423,0652, 21.8470,-158.3633, 2465,      5,      4.5,  25.0098,  34.6484,2,  34.6492,2,    208.5,1, 25.0088,   -999.0,9,  -999.00,9,  -999.00,9,  -999.00,9,  -999.0,-999.000
     33KI158_1,  PRS2,     6,  1,     12,     12,2,20040423,0652, 21.8470,-158.3633, 2465,     25,     24.4,  25.0191,  34.6485,2,  34.6492,2,    208.5,1, 25.0138,   -999.0,9,  -999.00,9,  -999.00,9,  -999.00,9,  -999.0,-999.000
     33KI158_1,  PRS2,     6,  1,     11,     39,3,20040423,0652, 21.8470,-158.3633, 2465,     46,     44.7,  24.9279,  34.6797,2,  34.6775,2,    209.1,1, 24.9183,   -999.0,9,  -999.00,9,  -999.00,9,  -999.00,9,  -999.0,-999.000
     33KI158_1,  PRS2,     6,  1,     10,     32,3,20040423,0652, 21.8470,-158.3633, 2465,     74,     74.2,  23.7871,  35.0866,2,  35.0865,2,    204.6,1, 23.7716,   -999.0,9,  -999.00,9,  -999.00,9,  -999.00,9,  -999.0,-999.000
     33KI158_1,  PRS2,     6,  1,      9,      3,2,20040423,0652, 21.8470,-158.3633, 2465,    101,     99.7,  23.2003,  35.1631,2,  35.1601,2,    206.7,1, 23.1798,   -999.0,9,  -999.00,9,  -999.00,9,  -999.00,9,  -999.0,-999.000
     33KI158_1,  PRS2,     6,  1,      8,     29,2,20040423,0652, 21.8470,-158.3633, 2465,    126,    125.2,  22.2163,  35.2276,2,  35.2285,2,    197.6,1, 22.1913,   -999.0,9,  -999.00,9,  -999.00,9,  -999.00,9,  -999.0,-999.000
     33KI158_1,  PRS2,     6,  1,      7,     28,2,20040423,0652, 21.8470,-158.3633, 2465,    150,    149.2,  20.9130,  35.1536,2,  35.1512,2,    193.3,1, 20.8846,   -999.0,9,  -999.00,9,  -999.00,9,  -999.00,9,  -999.0,-999.000
     33KI158_1,  PRS2,     6,  1,      6,     13,2,20040423,0652, 21.8470,-158.3633, 2465,    176,    175.0,  19.6875,  35.0611,2,  35.0620,2,    189.3,1, 19.6555,   -999.0,9,  -999.00,9,  -999.00,9,  -999.00,9,  -999.0,-999.000
     33KI158_1,  PRS2,     6,  1,      5,     38,2,20040423,0652, 21.8470,-158.3633, 2465,    501,    500.2,   7.2823,  34.1378,2,  34.1366,2,     96.7,1,  7.2340,   -999.0,9,  -999.00,9,  -999.00,9,  -999.00,9,  -999.0,-999.000
     33KI158_1,  PRS2,     6,  1,      4,     36,2,20040423,0652, 21.8470,-158.3633, 2465,   1002,   1000.8,   4.0660,  34.4768,2,  34.4723,2,     44.5,1,  3.9898,   -999.0,9,  -999.00,9,  -999.00,9,  -999.00,9,  -999.0,-999.000
     33KI158_1,  PRS2,     6,  1,      3,     35,2,20040423,0652, 21.8470,-158.3633, 2465,   1501,   1500.4,   2.9471,  34.5662,2,  34.5644,2,     66.3,1,  2.8399,   -999.0,9,  -999.00,9,  -999.00,9,  -999.00,9,  -999.0,-999.000
     33KI158_1,  PRS2,     6,  1,      2,     34,2,20040423,0652, 21.8470,-158.3633, 2465,   2002,   2001.4,   2.1815,  34.6147,2,  34.6143,2,     86.9,1,  2.0422,   -999.0,9,  -999.00,9,  -999.00,9,  -999.00,9,  -999.0,-999.000
     33KI158_1,  PRS2,     6,  1,      1,     33,2,20040423,0652, 21.8470,-158.3633, 2465,   2480,   2479.6,   1.7483,  34.6495,2,  34.6502,2,    108.6,1,  1.5746,   -999.0,9,  -999.00,9,  -999.00,9,  -999.00,9,  -999.0,-999.000