BOTTLE,20090923WHPSIOMYS
EXPOCODE,SECT_ID,STNNBR,CASTNO,SAMPNO,BTLNBR,BTLNBR_FLAG_W,DATE,TIME,LATITUDE,LONGITUDE,DEPTH,CTDRAW,CTDPRS,CTDTMP,CTDSAL,CTDSAL_FLAG_W,SALNTY,SALNTY_FLAG_W,CTDOXY,CTDOXY_FLAG_W,THETA,OXYGEN,OXYGEN_FLAG_W,SILCAT,SILCAT_FLAG_W,NO2+NO3,NO2+NO3_FLAG_W,PHSPHT,PHSPHT_FLAG_W,REVPRS,REVTMP
,,,,,,,,,,,,,DBAR,ITS-90,PSS-78,,PSS-78,,UMOL/KG,,ITS-90,UMOL/KG,,UMOL/KG,,UMOL/KG,,UMOL/KG,,DBAR,DEG C
     33KB184_1,  PRS2,     2,  3,     24,   8030,2,20060808,1430, 22.7525,-157.9827, 4734,     30,     31.6,  26.3070,  34.8903,2,-999.0000,9,    205.6,1, 26.2999,   -999.0,9,  -999.00,9,  -999.00,9,  -999.00,9,  -999.0,-999.000
     33KB184_1,  PRS2,     2,  3,      4,   8038,2,20060808,1430, 22.7525,-157.9827, 4734,     31,     31.6,  26.3013,  34.8901,2,-999.0000,9,    205.1,1, 26.2942,   -999.0,9,  -999.00,9,  -999.00,9,  -999.00,9,  -999.0,-999.000
     33KB184_1,  PRS2,     2,  3,      3,   8054,2,20060808,1430, 22.7525,-157.9827, 4734,     30,     31.6,  26.3006,  34.8902,2,-999.0000,9,    205.0,1, 26.2935,   -999.0,9,  -999.00,9,  -999.00,9,  -999.00,9,  -999.0,-999.000
     33KB184_1,  PRS2,     2,  3,     12,   8036,2,20060808,1430, 22.7525,-157.9827, 4734,     31,     31.8,  26.3064,  34.8900,2,-999.0000,9,    205.6,1, 26.2992,   -999.0,9,  -999.00,9,  -999.00,9,  -999.00,9,  -999.0,-999.000
     33KB184_1,  PRS2,     2,  3,      8,   8035,2,20060808,1430, 22.7525,-157.9827, 4734,     31,     31.9,  26.3028,  34.8900,2,-999.0000,9,    205.5,1, 26.2956,   -999.0,9,  -999.00,9,  -999.00,9,  -999.00,9,  -999.0,-999.000
     33KB184_1,  PRS2,     2,  3,      7,   8046,2,20060808,1430, 22.7525,-157.9827, 4734,     31,     31.9,  26.3026,  34.8903,2,-999.0000,9,    205.4,1, 26.2954,   -999.0,9,  -999.00,9,  -999.00,9,  -999.00,9,  -999.0,-999.000
     33KB184_1,  PRS2,     2,  3,     22,   8058,2,20060808,1430, 22.7525,-157.9827, 4734,     32,     32.0,  26.3071,  34.8902,2,-999.0000,9,    205.6,1, 26.2999,   -999.0,9,  -999.00,9,  -999.00,9,  -999.00,9,  -999.0,-999.000
     33KB184_1,  PRS2,     2,  3,      9,   8047,2,20060808,1430, 22.7525,-157.9827, 4734,     31,     32.0,  26.3030,  34.8903,2,-999.0000,9,    205.5,1, 26.2958,   -999.0,9,  -999.00,9,  -999.00,9,  -999.00,9,  -999.0,-999.000
     33KB184_1,  PRS2,     2,  3,      2,   8053,2,20060808,1430, 22.7525,-157.9827, 4734,     32,     32.0,  26.3003,  34.8900,2,-999.0000,9,    204.9,1, 26.2931,   -999.0,9,  -999.00,9,  -999.00,9,  -999.00,9,  -999.0,-999.000
     33KB184_1,  PRS2,     2,  3,      1,   8027,2,20060808,1430, 22.7525,-157.9827, 4734,     33,     32.0,  26.2997,  34.8900,2,-999.0000,9,    204.9,1, 26.2925,   -999.0,9,  -999.00,9,  -999.00,9,  -999.00,9,  -999.0,-999.000
     33KB184_1,  PRS2,     2,  3,     21,   8052,2,20060808,1430, 22.7525,-157.9827, 4734,     31,     32.1,  26.3071,  34.8902,2,-999.0000,9,    205.6,1, 26.2998,   -999.0,9,  -999.00,9,  -999.00,9,  -999.00,9,  -999.0,-999.000
     33KB184_1,  PRS2,     2,  3,     11,   8050,2,20060808,1430, 22.7525,-157.9827, 4734,     32,     32.1,  26.3058,  34.8899,2,-999.0000,9,    205.5,1, 26.2986,   -999.0,9,  -999.00,9,  -999.00,9,  -999.00,9,  -999.0,-999.000
     33KB184_1,  PRS2,     2,  3,      6,   8048,2,20060808,1430, 22.7525,-157.9827, 4734,     32,     32.1,  26.3025,  34.8903,2,-999.0000,9,    205.2,1, 26.2953,   -999.0,9,  -999.00,9,  -999.00,9,  -999.00,9,  -999.0,-999.000
     33KB184_1,  PRS2,     2,  3,      5,   8037,2,20060808,1430, 22.7525,-157.9827, 4734,     32,     32.1,  26.3017,  34.8902,2,-999.0000,9,    205.1,1, 26.2945,   -999.0,9,  -999.00,9,  -999.00,9,  -999.00,9,  -999.0,-999.000
     33KB184_1,  PRS2,     2,  3,     18,   8045,2,20060808,1430, 22.7525,-157.9827, 4734,     31,     32.2,  26.3069,  34.8901,2,-999.0000,9,    205.6,1, 26.2996,   -999.0,9,  -999.00,9,  -999.00,9,  -999.00,9,  -999.0,-999.000
     33KB184_1,  PRS2,     2,  3,     15,   8033,2,20060808,1430, 22.7525,-157.9827, 4734,     31,     32.2,  26.3064,  34.8906,2,-999.0000,9,    205.7,1, 26.2992,   -999.0,9,  -999.00,9,  -999.00,9,  -999.00,9,  -999.0,-999.000
     33KB184_1,  PRS2,     2,  3,     14,   8029,2,20060808,1430, 22.7525,-157.9827, 4734,     32,     32.2,  26.3066,  34.8903,2,-999.0000,9,    205.7,1, 26.2994,   -999.0,9,  -999.00,9,  -999.00,9,  -999.00,9,  -999.0,-999.000
     33KB184_1,  PRS2,     2,  3,     13,   8055,2,20060808,1430, 22.7525,-157.9827, 4734,     32,     32.2,  26.3067,  34.8902,2,-999.0000,9,    205.7,1, 26.2995,   -999.0,9,  -999.00,9,  -999.00,9,  -999.00,9,  -999.0,-999.000
     33KB184_1,  PRS2,     2,  3,     20,   8049,2,20060808,1430, 22.7525,-157.9827, 4734,     33,     32.3,  26.3070,  34.8902,2,-999.0000,9,    205.6,1, 26.2998,   -999.0,9,  -999.00,9,  -999.00,9,  -999.00,9,  -999.0,-999.000
     33KB184_1,  PRS2,     2,  3,     16,   8034,2,20060808,1430, 22.7525,-157.9827, 4734,     33,     32.3,  26.3064,  34.8905,2,-999.0000,9,    205.6,1, 26.2992,   -999.0,9,  -999.00,9,  -999.00,9,  -999.00,9,  -999.0,-999.000
     33KB184_1,  PRS2,     2,  3,     23,   8039,2,20060808,1430, 22.7525,-157.9827, 4734,     33,     32.4,  26.3071,  34.8901,2,-999.0000,9,    205.6,1, 26.2998,   -999.0,9,  -999.00,9,  -999.00,9,  -999.00,9,  -999.0,-999.000
     33KB184_1,  PRS2,     2,  3,     19,   8043,2,20060808,1430, 22.7525,-157.9827, 4734,     32,     32.4,  26.3070,  34.8900,2,-999.0000,9,    205.6,1, 26.2997,   -999.0,9,  -999.00,9,  -999.00,9,  -999.00,9,  -999.0,-999.000
     33KB184_1,  PRS2,     2,  3,     17,   8007,2,20060808,1430, 22.7525,-157.9827, 4734,     32,     32.4,  26.3069,  34.8901,2,-999.0000,9,    205.6,1, 26.2996,   -999.0,9,  -999.00,9,  -999.00,9,  -999.00,9,  -999.0,-999.000
     33KB184_1,  PRS2,     2,  3,     10,   8052,2,20060808,1430, 22.7525,-157.9827, 4734,     33,     32.5,  26.3042,  34.8902,2,-999.0000,9,    205.5,1, 26.2969,   -999.0,9,  -999.00,9,  -999.00,9,  -999.00,9,  -999.0,-999.000
     33KB184_1,  PRS2,     2,  4,     24,   8030,2,20060808,1608, 22.7503,-157.9990, 4747,      6,      7.3,  26.2940,  34.8666,2,  34.8658,2,    205.3,2, 26.2924,    204.8,2,     0.51,3,     0.02,2,     0.07,2,  -999.0,-999.000
     33KB184_1,  PRS2,     2,  4,     23,   8039,2,20060808,1608, 22.7503,-157.9990, 4747,    498,    500.0,   7.0838,  34.0860,2,  34.1218,4,     98.1,3,  7.0364,     98.1,2,    48.66,2,    30.45,2,     2.24,2,  -999.0,-999.000
     33KB184_1,  PRS2,     2,  4,     22,   8058,2,20060808,1608, 22.7503,-157.9990, 4747,   1001,   1000.5,   4.3048,  34.4960,2,  34.4940,2,     41.8,2,  4.2267,     41.4,2,   102.62,2,    41.14,2,     3.01,2,  -999.0,-999.000
     33KB184_1,  PRS2,     2,  4,     20,   8049,2,20060808,1608, 22.7503,-157.9990, 4747,   1199,   1199.8,   3.7022,  34.5276,2,  34.5243,3,     50.4,3,  3.6124,     49.6,2,   115.30,2,    41.12,2,     2.99,2,  -999.0,-999.000
     33KB184_1,  PRS2,     2,  4,     21,   8052,2,20060808,1608, 22.7503,-157.9990, 4747,   1199,   1200.1,   3.7070,  34.5265,2,  34.5252,2,     50.3,2,  3.6171,     49.9,2,   113.25,3,    41.15,2,     3.00,2,  -999.0,-999.000
     33KB184_1,  PRS2,     2,  4,     19,   8043,2,20060808,1608, 22.7503,-157.9990, 4747,   1398,   1399.0,   3.1392,  34.5568,2,  34.5574,2,     59.3,2,  3.0383,     59.3,2,   127.77,2,    41.00,2,     2.96,2,  -999.0,-999.000
     33KB184_1,  PRS2,     2,  4,     18,   8045,2,20060808,1608, 22.7503,-157.9990, 4747,   1600,   1599.3,   2.7458,  34.5780,2,  34.5777,2,     69.4,2,  2.6328,     68.9,2,   137.00,2,    40.59,2,     2.92,2,  -999.0,-999.000
     33KB184_1,  PRS2,     2,  4,     17,   8007,2,20060808,1608, 22.7503,-157.9990, 4747,   1799,   1800.2,   2.4331,  34.5973,2,  34.5975,2,     78.8,2,  2.3072,     78.8,2,   142.31,2,    39.95,2,     2.86,2,  -999.0,-999.000
     33KB184_1,  PRS2,     2,  4,     16,   8034,2,20060808,1608, 22.7503,-157.9990, 4747,   2002,   2000.9,   2.1944,  34.6180,2,  34.6191,2,     87.2,2,  2.0550,     86.9,2,   148.19,2,    39.64,2,     2.83,2,  -999.0,-999.000
     33KB184_1,  PRS2,     2,  4,     15,   8033,2,20060808,1608, 22.7503,-157.9990, 4747,   2201,   2200.0,   1.9883,  34.6316,2,  34.6288,2,     95.2,2,  1.8350,     96.0,2,   151.95,2,    39.06,2,     2.77,2,  -999.0,-999.000
     33KB184_1,  PRS2,     2,  4,     14,   8029,2,20060808,1608, 22.7503,-157.9990, 4747,   2400,   2400.1,   1.8371,  34.6434,2,  34.6409,2,    103.5,2,  1.6688,    102.9,2,   155.50,2,    38.46,2,     2.73,2,  -999.0,-999.000
     33KB184_1,  PRS2,     2,  4,     13,   8055,2,20060808,1608, 22.7503,-157.9990, 4747,   2597,   2598.8,   1.7179,  34.6534,2,  34.6527,2,    111.0,2,  1.5340,    111.2,2,   156.97,2,    38.18,2,     2.69,2,  -999.0,-999.000
     33KB184_1,  PRS2,     2,  4,     12,   8036,2,20060808,1608, 22.7503,-157.9990, 4747,   2801,   2799.8,   1.6428,  34.6611,2,  34.6586,2,    117.7,2,  1.4418,    117.3,2,   158.05,2,    37.99,2,     2.66,2,  -999.0,-999.000
     33KB184_1,  PRS2,     2,  4,     11,   8050,2,20060808,1608, 22.7503,-157.9990, 4747,   3000,   2999.7,   1.5697,  34.6682,2,  34.6686,2,    123.9,2,  1.3514,    123.2,2,   157.99,2,    37.39,2,     2.63,2,  -999.0,-999.000
     33KB184_1,  PRS2,     2,  4,     10,   8052,2,20060808,1608, 22.7503,-157.9990, 4747,   3200,   3200.5,   1.5213,  34.6732,2,  34.6739,2,    128.8,2,  1.2847,    128.6,2,   156.77,2,    36.93,2,     2.59,2,  -999.0,-999.000
     33KB184_1,  PRS2,     2,  4,      9,   8047,2,20060808,1608, 22.7503,-157.9990, 4747,   3400,   3400.2,   1.4915,  34.6779,2,  34.6780,2,    134.9,2,  1.2357,    133.9,2,   155.79,2,    36.57,2,     2.56,2,  -999.0,-999.000
     33KB184_1,  PRS2,     2,  4,      8,   8035,2,20060808,1608, 22.7503,-157.9990, 4747,   3601,   3600.0,   1.4786,  34.6809,2,  34.6805,2,    138.8,2,  1.2027,    138.0,2,   154.91,2,    36.33,2,     2.54,2,  -999.0,-999.000
     33KB184_1,  PRS2,     2,  4,      7,   8046,2,20060808,1608, 22.7503,-157.9990, 4747,   3801,   3799.8,   1.4647,  34.6840,2,  34.6828,2,    143.1,2,  1.1683,    144.8,2,   151.37,2,    36.11,2,     2.53,2,  -999.0,-999.000
     33KB184_1,  PRS2,     2,  4,      6,   8048,2,20060808,1608, 22.7503,-157.9990, 4747,   3998,   3999.2,   1.4638,  34.6861,2,  34.6864,2,    146.3,2,  1.1460,    145.9,2,   151.17,2,    35.75,2,     2.50,2,  -999.0,-999.000
     33KB184_1,  PRS2,     2,  4,      5,   8037,2,20060808,1608, 22.7503,-157.9990, 4747,   4198,   4199.5,   1.4718,  34.6873,2,  34.6863,2,    148.1,2,  1.1318,    148.2,2,   149.27,2,    35.79,2,     2.50,2,  -999.0,-999.000
     33KB184_1,  PRS2,     2,  4,      4,   8038,2,20060808,1608, 22.7503,-157.9990, 4747,   4400,   4399.4,   1.4847,  34.6882,2,  34.6883,2,    149.5,2,  1.1218,    149.0,2,   149.68,2,    35.60,2,     2.49,2,  -999.0,-999.000
     33KB184_1,  PRS2,     2,  4,      3,   8054,2,20060808,1608, 22.7503,-157.9990, 4747,   4498,   4498.6,   1.4931,  34.6886,2,  34.6875,2,    150.1,2,  1.1185,    150.2,2,   147.83,2,    35.66,2,     2.49,2,  -999.0,-999.000
     33KB184_1,  PRS2,     2,  4,      2,   8053,2,20060808,1608, 22.7503,-157.9990, 4747,   4598,   4598.8,   1.5016,  34.6888,2,  34.6912,2,    150.4,2,  1.1151,    149.8,2,   149.80,2,    35.45,2,     2.49,2,  -999.0,-999.000
     33KB184_1,  PRS2,     2,  4,      1,   8027,2,20060808,1608, 22.7503,-157.9990, 4747,   4802,   4801.9,   1.5231,  34.6892,2,  34.6893,2,    150.3,2,  1.1120,    151.3,2,   147.18,2,    35.57,2,     2.49,2,  -999.0,-999.000
     33KB184_1,  PRS2,     2,  5,     24,   8030,2,20060808,2154, 22.7698,-157.9285, 4712,     18,     18.7,  26.2904,  34.8818,2,  34.8818,2,    203.3,2, 26.2862,    203.5,2,     0.38,3,     0.04,2,     0.06,2,  -999.0,-999.000
     33KB184_1,  PRS2,     2,  5,     23,   8039,2,20060808,2154, 22.7698,-157.9285, 4712,     40,     40.1,  25.3801,  35.1459,2,  35.1447,2,    212.6,2, 25.3713,    211.6,2,     0.25,3,     0.07,2,     0.01,2,  -999.0,-999.000
     33KB184_1,  PRS2,     2,  5,     22,   8058,2,20060808,2154, 22.7698,-157.9285, 4712,     65,     64.2,  23.6602,  35.2098,2,  35.2103,2,    220.5,2, 23.6468,    220.5,2,     0.65,2,     0.07,2,     0.05,2,  -999.0,-999.000
     33KB184_1,  PRS2,     2,  5,     21,   8052,2,20060808,2154, 22.7698,-157.9285, 4712,    106,    106.4,  21.9976,  35.2169,2,  35.2180,2,    207.9,2, 21.9766,    207.8,2,     0.92,2,     0.19,2,     0.04,2,  -999.0,-999.000
     33KB184_1,  PRS2,     2,  5,     20,   8049,2,20060808,2154, 22.7698,-157.9285, 4712,    172,    171.7,  19.4051,  34.9890,2,  35.0022,2,    193.6,2, 19.3741,    194.6,2,     1.98,2,     2.26,2,     0.20,2,  -999.0,-999.000
     33KB184_1,  PRS2,     2,  5,     19,   8043,2,20060808,2154, 22.7698,-157.9285, 4712,    233,    232.1,  15.9019,  34.5373,2,  34.5356,2,    191.5,2, 15.8654,    192.3,2,     4.39,2,     5.64,2,     0.46,2,  -999.0,-999.000
     33KB184_1,  PRS2,     2,  5,     18,   8045,2,20060808,2154, 22.7698,-157.9285, 4712,    272,    273.0,  13.3306,  34.2937,2,  34.2862,2,    197.6,2, 13.2925,    198.0,2,     7.71,2,     9.13,2,     0.69,2,  -999.0,-999.000
     33KB184_1,  PRS2,     2,  5,     17,   8007,2,20060808,2154, 22.7698,-157.9285, 4712,    308,    309.6,  11.6196,  34.1861,2,  34.1934,2,    197.1,2, 11.5802,    196.9,2,    11.23,2,    12.12,2,     0.89,2,  -999.0,-999.000
     33KB184_1,  PRS2,     2,  5,     16,   8034,2,20060808,2154, 22.7698,-157.9285, 4712,    356,    356.2,  10.3170,  34.1414,2,  34.1403,2,    184.0,2, 10.2750,    182.4,2,    17.83,2,    16.68,2,     1.22,2,  -999.0,-999.000
     33KB184_1,  PRS2,     2,  5,     15,   8033,2,20060808,2154, 22.7698,-157.9285, 4712,    402,    402.7,   8.9807,  34.1165,2,  34.1174,2,    149.6,2,  8.9370,    150.6,2,    27.89,2,    22.19,2,     1.62,2,  -999.0,-999.000
     33KB184_1,  PRS2,     2,  5,     14,   8029,2,20060808,2154, 22.7698,-157.9285, 4712,    441,    441.6,   8.2860,  34.1156,2,  34.1154,2,    120.1,2,  8.2403,    120.9,2,    35.53,3,    26.47,3,     1.95,3,  -999.0,-999.000
     33KB184_1,  PRS2,     2,  5,     13,   8055,2,20060808,2154, 22.7698,-157.9285, 4712,    484,    482.0,   7.2756,  34.0636,2,  34.0627,2,    113.8,2,  7.2292,    112.8,2,    44.85,2,    29.34,2,     2.13,2,  -999.0,-999.000
     33KB184_1,  PRS2,     2,  5,     12,   8036,2,20060808,2154, 22.7698,-157.9285, 4712,    512,    512.2,   6.9076,  34.0899,2,  34.0976,2,     88.8,2,  6.8596,     84.9,2,    51.16,2,    32.29,2,     2.37,2,  -999.0,-999.000
     33KB184_1,  PRS2,     2,  5,     11,   8050,2,20060808,2154, 22.7698,-157.9285, 4712,    555,    556.4,   6.3853,  34.1614,2,  34.1636,2,     56.3,2,  6.3351,     56.4,2,    62.99,2,    35.78,2,     2.67,2,  -999.0,-999.000
     33KB184_1,  PRS2,     2,  5,     10,   8052,2,20060808,2154, 22.7698,-157.9285, 4712,    600,    600.4,   5.8489,  34.2012,2,  34.2044,2,     40.2,2,  5.7970,     41.0,2,    70.79,2,    37.48,2,     2.78,2,  -999.0,-999.000
     33KB184_1,  PRS2,     2,  5,      9,   8047,2,20060808,2154, 22.7698,-157.9285, 4712,    656,    656.9,   5.6097,  34.3080,2,  34.3070,2,     31.9,2,  5.5537,     31.6,2,    78.47,2,    38.97,2,     2.88,2,  -999.0,-999.000
     33KB184_1,  PRS2,     2,  5,      8,   8035,2,20060808,2154, 22.7698,-157.9285, 4712,    715,    715.3,   5.1056,  34.2963,2,  34.2968,2,     36.2,2,  5.0472,     36.0,2,    86.44,2,    39.61,2,     2.91,2,  -999.0,-999.000
     33KB184_1,  PRS2,     2,  5,      7,   8046,2,20060808,2154, 22.7698,-157.9285, 4712,    775,    774.1,   4.9628,  34.3434,2,  34.3427,2,     32.8,2,  4.9000,     32.3,2,    89.37,2,    40.18,2,     2.95,2,  -999.0,-999.000
     33KB184_1,  PRS2,     2,  5,      6,   8048,2,20060808,2154, 22.7698,-157.9285, 4712,    820,    818.9,   4.8565,  34.3936,2,  34.3921,2,     32.4,2,  4.7904,     32.6,2,    92.46,2,    40.48,2,     2.97,2,  -999.0,-999.000
     33KB184_1,  PRS2,     2,  5,      5,   8037,2,20060808,2154, 22.7698,-157.9285, 4712,    868,    868.5,   4.7467,  34.4383,2,  34.4371,2,     34.8,2,  4.6769,     35.1,2,    94.03,2,    40.82,2,     2.99,2,  -999.0,-999.000
     33KB184_1,  PRS2,     2,  5,      4,   8038,2,20060808,2154, 22.7698,-157.9285, 4712,    907,    906.2,   4.4488,  34.4257,2,  34.4273,2,     37.1,2,  4.3779,     38.8,2,   100.23,2,    40.77,2,     2.97,2,  -999.0,-999.000
     33KB184_1,  PRS2,     2,  5,      3,   8054,2,20060808,2154, 22.7698,-157.9285, 4712,    943,    943.8,   4.3431,  34.4483,2,  34.4495,2,     39.5,2,  4.2696,     38.4,2,   100.55,2,    40.91,2,     2.98,2,  -999.0,-999.000
     33KB184_1,  PRS2,     2,  5,      2,   8053,2,20060808,2154, 22.7698,-157.9285, 4712,    983,    983.4,   4.1642,  34.4551,2,  34.4546,2,     40.4,2,  4.0888,     41.0,2,   105.96,2,    40.93,2,     2.99,2,  -999.0,-999.000
     33KB184_1,  PRS2,     2,  5,      1,   8027,2,20060808,2154, 22.7698,-157.9285, 4712,   1021,   1022.1,   4.0482,  34.4698,2,  34.4699,2,     42.5,2,  3.9704,     43.1,2,   108.64,2,    41.01,2,     2.99,2,  -999.0,-999.000