BOTTLE,20090923WHPSIOMYS
#code : jjward hyd_to_exchange.pl 
#original files copied from HTML directory: 20090923
#original HYD file: 33KB184_1_hy.txt   Wed Sep 23 17:59:51 2009
#original SUM file: ../33KB184_1su.txt   Wed Sep 23 17:59:49 2009
EXPOCODE,SECT_ID,STNNBR,CASTNO,SAMPNO,BTLNBR,BTLNBR_FLAG_W,DATE,TIME,LATITUDE,LONGITUDE,DEPTH,CTDRAW,CTDPRS,CTDTMP,CTDSAL,CTDSAL_FLAG_W,SALNTY,SALNTY_FLAG_W,CTDOXY,CTDOXY_FLAG_W,THETA,OXYGEN,OXYGEN_FLAG_W,SILCAT,SILCAT_FLAG_W,NO2+NO3,NO2+NO3_FLAG_W,PHSPHT,PHSPHT_FLAG_W,REVPRS,REVTMP
,,,,,,,,,,,,,DBAR,ITS-90,PSS-78,,PSS-78,,UMOL/KG,,ITS-90,UMOL/KG,,UMOL/KG,,UMOL/KG,,UMOL/KG,,DBAR,DEG C
     33KB184_1,  PRS2,     1,  1,     24,   8030,2,20060808,0045, 21.3428,-158.2737, 1572,      8,      8.5,  27.2221,  34.7845,2,  34.7832,2,    203.0,2, 27.2201,    201.3,2,  -999.00,9,  -999.00,9,  -999.00,9,  -999.0,-999.000
     33KB184_1,  PRS2,     1,  1,     23,   8039,3,20060808,0045, 21.3428,-158.2737, 1572,      8,      8.5,  27.1764,  34.7830,2,  34.7830,2,    203.4,2, 27.1744,    201.1,2,  -999.00,9,  -999.00,9,  -999.00,9,  -999.0,-999.000
     33KB184_1,  PRS2,     1,  1,     22,   8058,2,20060808,0045, 21.3428,-158.2737, 1572,     24,     24.7,  26.9481,  34.7780,2,  34.7779,2,    203.7,2, 26.9424,    202.0,2,  -999.00,9,  -999.00,9,  -999.00,9,  -999.0,-999.000
     33KB184_1,  PRS2,     1,  1,     21,   8052,2,20060808,0045, 21.3428,-158.2737, 1572,     44,     44.9,  26.9296,  34.7753,2,  34.7742,2,    203.9,2, 26.9193,    201.4,2,  -999.00,9,  -999.00,9,  -999.00,9,  -999.0,-999.000
     33KB184_1,  PRS2,     1,  1,     20,   8049,2,20060808,0045, 21.3428,-158.2737, 1572,     59,     59.6,  26.9157,  34.7636,2,  34.7742,2,    203.9,2, 26.9021,    201.5,2,  -999.00,9,  -999.00,9,  -999.00,9,  -999.0,-999.000
     33KB184_1,  PRS2,     1,  1,     19,   8043,2,20060808,0045, 21.3428,-158.2737, 1572,     75,     74.1,  26.2663,  34.8716,2,  34.8660,2,    211.5,2, 26.2497,    209.4,2,  -999.00,9,  -999.00,9,  -999.00,9,  -999.0,-999.000
     33KB184_1,  PRS2,     1,  1,     18,   8045,2,20060808,0045, 21.3428,-158.2737, 1572,     99,    100.2,  25.0667,  35.0538,2,  35.0541,2,    215.6,2, 25.0450,    213.5,2,  -999.00,9,  -999.00,9,  -999.00,9,  -999.0,-999.000
     33KB184_1,  PRS2,     1,  1,     17,   8007,2,20060808,0045, 21.3428,-158.2737, 1572,    115,    115.3,  23.8036,  35.1035,2,  35.1018,2,    213.7,2, 23.7794,    201.1,4,  -999.00,9,  -999.00,9,  -999.00,9,  -999.0,-999.000
     33KB184_1,  PRS2,     1,  1,     16,   8034,2,20060808,0045, 21.3428,-158.2737, 1572,    125,    125.4,  23.1275,  35.1167,2,  35.1207,2,    211.2,2, 23.1017,    209.6,2,  -999.00,9,  -999.00,9,  -999.00,9,  -999.0,-999.000
     33KB184_1,  PRS2,     1,  1,     15,   8033,2,20060808,0045, 21.3428,-158.2737, 1572,    151,    151.3,  21.9159,  35.1935,2,  35.1930,2,    204.0,2, 21.8860,    201.3,2,  -999.00,9,  -999.00,9,  -999.00,9,  -999.0,-999.000
     33KB184_1,  PRS2,     1,  1,     14,   8029,2,20060808,0045, 21.3428,-158.2737, 1572,    174,    174.5,  20.4783,  35.0599,4,  35.0939,2,    196.4,4, 20.4455,    194.4,2,  -999.00,9,  -999.00,9,  -999.00,9,  -999.0,-999.000
     33KB184_1,  PRS2,     1,  1,     13,   8055,2,20060808,0045, 21.3428,-158.2737, 1572,    199,    199.6,  18.8607,  34.8582,4,  34.8918,2,    192.0,4, 18.8253,    191.5,2,  -999.00,9,  -999.00,9,  -999.00,9,  -999.0,-999.000
     33KB184_1,  PRS2,     1,  1,     12,   8036,2,20060808,0045, 21.3428,-158.2737, 1572,    225,    225.5,  16.8193,  34.5625,4,  34.6217,2,    191.0,4, 16.7824,    191.6,2,  -999.00,9,  -999.00,9,  -999.00,9,  -999.0,-999.000
     33KB184_1,  PRS2,     1,  1,     11,   8050,2,20060808,0045, 21.3428,-158.2737, 1572,    249,    250.1,  14.9421,  34.3335,4,  34.4010,2,    188.2,4, 14.9045,    187.2,2,  -999.00,9,  -999.00,9,  -999.00,9,  -999.0,-999.000
     33KB184_1,  PRS2,     1,  1,     10,   8052,2,20060808,0045, 21.3428,-158.2737, 1572,    300,    299.9,  12.5295,  34.1883,4,  34.2203,2,    190.8,4, 12.4894,    188.0,2,  -999.00,9,  -999.00,9,  -999.00,9,  -999.0,-999.000
     33KB184_1,  PRS2,     1,  1,      9,   8047,2,20060808,0045, 21.3428,-158.2737, 1572,    350,    349.9,  10.8018,  33.7204,4,  34.1566,2,   -999.0,5, 10.7595,    169.1,2,  -999.00,9,  -999.00,9,  -999.00,9,  -999.0,-999.000
     33KB184_1,  PRS2,     1,  1,      8,   8035,2,20060808,0045, 21.3428,-158.2737, 1572,    400,    400.1,   8.9794,  33.9361,4,  34.1417,2,   -999.0,5,  8.9361,    128.5,2,  -999.00,9,  -999.00,9,  -999.00,9,  -999.0,-999.000
     33KB184_1,  PRS2,     1,  1,      7,   8046,2,20060808,0045, 21.3428,-158.2737, 1572,    499,    500.0,   7.1380,  34.0573,4,  34.1787,2,    101.1,4,  7.0903,     78.3,2,  -999.00,9,  -999.00,9,  -999.00,9,  -999.0,-999.000
     33KB184_1,  PRS2,     1,  1,      6,   8048,2,20060808,0045, 21.3428,-158.2737, 1572,    600,    600.1,   6.0383,  34.1818,4,  34.2593,2,     51.4,4,  5.9856,     40.2,2,  -999.00,9,  -999.00,9,  -999.00,9,  -999.0,-999.000
     33KB184_1,  PRS2,     1,  1,      5,   8037,2,20060808,0045, 21.3428,-158.2737, 1572,    700,    699.9,   5.2961,  34.3378,4,  34.3478,2,     34.0,4,  5.2380,     33.5,2,  -999.00,9,  -999.00,9,  -999.00,9,  -999.0,-999.000
     33KB184_1,  PRS2,     1,  1,      4,   8038,2,20060808,0045, 21.3428,-158.2737, 1572,    750,    750.9,   5.1633,  34.3705,4,  34.3813,2,     29.6,4,  5.1013,     32.7,2,  -999.00,9,  -999.00,9,  -999.00,9,  -999.0,-999.000
     33KB184_1,  PRS2,     1,  1,      3,   8054,2,20060808,0045, 21.3428,-158.2737, 1572,    801,    800.6,   4.9622,  34.3892,4,  34.4047,2,     24.6,4,  4.8971,     34.0,2,  -999.00,9,  -999.00,9,  -999.00,9,  -999.0,-999.000
     33KB184_1,  PRS2,     1,  1,      2,   8053,2,20060808,0045, 21.3428,-158.2737, 1572,    900,    900.7,   4.6428,  34.4397,4,  34.4595,2,     28.0,4,  4.5710,     36.2,2,  -999.00,9,  -999.00,9,  -999.00,9,  -999.0,-999.000
     33KB184_1,  PRS2,     1,  1,      1,   8027,2,20060808,0045, 21.3428,-158.2737, 1572,   1001,   1001.0,   4.2656,  34.4911,4,  34.5044,2,     25.8,4,  4.1878,     47.7,2,  -999.00,9,  -999.00,9,  -999.00,9,  -999.0,-999.000
     33KB184_1,  PRS2,     2,  1,     22,   8058,2,20060808,1111, 22.7527,-157.9827, 4745,      7,      6.9,  26.2931,  34.9143,2,-999.0000,9,    204.4,1, 26.2915,   -999.0,9,  -999.00,9,  -999.00,9,  -999.00,9,  -999.0,-999.000
     33KB184_1,  PRS2,     2,  1,     24,   8030,2,20060808,1111, 22.7527,-157.9827, 4745,      7,      7.0,  26.2939,  34.9142,2,-999.0000,9,    204.3,1, 26.2923,   -999.0,9,  -999.00,9,  -999.00,9,  -999.00,9,  -999.0,-999.000
     33KB184_1,  PRS2,     2,  1,     23,   8039,2,20060808,1111, 22.7527,-157.9827, 4745,      5,      7.0,  26.2936,  34.9142,2,-999.0000,9,    204.4,1, 26.2920,   -999.0,9,  -999.00,9,  -999.00,9,  -999.00,9,  -999.0,-999.000
     33KB184_1,  PRS2,     2,  1,     19,   8043,2,20060808,1111, 22.7527,-157.9827, 4745,      8,      7.0,  26.2937,  34.9143,2,-999.0000,9,    204.6,1, 26.2921,   -999.0,9,  -999.00,9,  -999.00,9,  -999.00,9,  -999.0,-999.000
     33KB184_1,  PRS2,     2,  1,     18,   8045,2,20060808,1111, 22.7527,-157.9827, 4745,      7,      7.0,  26.2928,  34.9144,2,-999.0000,9,    204.7,1, 26.2912,   -999.0,9,  -999.00,9,  -999.00,9,  -999.00,9,  -999.0,-999.000
     33KB184_1,  PRS2,     2,  1,     21,   8052,2,20060808,1111, 22.7527,-157.9827, 4745,      8,      7.2,  26.2942,  34.9139,2,-999.0000,9,    204.5,1, 26.2926,   -999.0,9,  -999.00,9,  -999.00,9,  -999.00,9,  -999.0,-999.000
     33KB184_1,  PRS2,     2,  1,     20,   8049,2,20060808,1111, 22.7527,-157.9827, 4745,      8,      7.2,  26.2943,  34.9144,2,-999.0000,9,    204.6,1, 26.2927,   -999.0,9,  -999.00,9,  -999.00,9,  -999.00,9,  -999.0,-999.000
     33KB184_1,  PRS2,     2,  1,     11,   8050,2,20060808,1111, 22.7527,-157.9827, 4745,     24,     25.0,  26.3054,  34.9153,2,-999.0000,9,    204.8,1, 26.2997,   -999.0,9,  -999.00,9,  -999.00,9,  -999.00,9,  -999.0,-999.000
     33KB184_1,  PRS2,     2,  1,     12,   8036,2,20060808,1111, 22.7527,-157.9827, 4745,     24,     25.2,  26.3049,  34.9160,2,-999.0000,9,    204.7,1, 26.2993,   -999.0,9,  -999.00,9,  -999.00,9,  -999.00,9,  -999.0,-999.000
     33KB184_1,  PRS2,     2,  1,     17,   8007,2,20060808,1111, 22.7527,-157.9827, 4745,     25,     25.3,  26.3033,  34.9141,2,-999.0000,9,    204.7,1, 26.2976,   -999.0,9,  -999.00,9,  -999.00,9,  -999.00,9,  -999.0,-999.000
     33KB184_1,  PRS2,     2,  1,     14,   8029,2,20060808,1111, 22.7527,-157.9827, 4745,     25,     25.4,  26.3033,  34.9148,2,-999.0000,9,    204.7,1, 26.2976,   -999.0,9,  -999.00,9,  -999.00,9,  -999.00,9,  -999.0,-999.000
     33KB184_1,  PRS2,     2,  1,     13,   8055,2,20060808,1111, 22.7527,-157.9827, 4745,     26,     25.4,  26.3040,  34.9159,2,-999.0000,9,    204.7,1, 26.2982,   -999.0,9,  -999.00,9,  -999.00,9,  -999.00,9,  -999.0,-999.000
     33KB184_1,  PRS2,     2,  1,     16,   8034,2,20060808,1111, 22.7527,-157.9827, 4745,     26,     25.6,  26.3033,  34.9139,2,-999.0000,9,    204.7,1, 26.2976,   -999.0,9,  -999.00,9,  -999.00,9,  -999.00,9,  -999.0,-999.000
     33KB184_1,  PRS2,     2,  1,     15,   8033,2,20060808,1111, 22.7527,-157.9827, 4745,     26,     25.6,  26.3031,  34.9141,2,-999.0000,9,    204.7,1, 26.2974,   -999.0,9,  -999.00,9,  -999.00,9,  -999.00,9,  -999.0,-999.000
     33KB184_1,  PRS2,     2,  1,      9,   8047,2,20060808,1111, 22.7527,-157.9827, 4745,     29,     30.3,  26.2980,  34.8922,2,-999.0000,9,    204.9,1, 26.2912,   -999.0,9,  -999.00,9,  -999.00,9,  -999.00,9,  -999.0,-999.000
     33KB184_1,  PRS2,     2,  1,     10,   8052,2,20060808,1111, 22.7527,-157.9827, 4745,     29,     30.4,  26.2997,  34.8966,2,-999.0000,9,    204.8,1, 26.2929,   -999.0,9,  -999.00,9,  -999.00,9,  -999.00,9,  -999.0,-999.000
     33KB184_1,  PRS2,     2,  1,      8,   8035,2,20060808,1111, 22.7527,-157.9827, 4745,     30,     30.6,  26.2973,  34.8689,2,-999.0000,9,    205.0,1, 26.2904,   -999.0,9,  -999.00,9,  -999.00,9,  -999.00,9,  -999.0,-999.000
     33KB184_1,  PRS2,     2,  1,      6,   8048,2,20060808,1111, 22.7527,-157.9827, 4745,     45,     45.6,  25.0910,  35.0900,2,-999.0000,9,    107.7,1, 25.0811,   -999.0,9,  -999.00,9,  -999.00,9,  -999.00,9,  -999.0,-999.000
     33KB184_1,  PRS2,     2,  1,      5,   8037,2,20060808,1111, 22.7527,-157.9827, 4745,     45,     45.6,  25.0921,  35.0877,2,-999.0000,9,    108.9,1, 25.0822,   -999.0,9,  -999.00,9,  -999.00,9,  -999.00,9,  -999.0,-999.000
     33KB184_1,  PRS2,     2,  1,      2,   8053,2,20060808,1111, 22.7527,-157.9827, 4745,     45,     45.6,  25.0802,  35.0241,2,-999.0000,9,    112.5,1, 25.0703,   -999.0,9,  -999.00,9,  -999.00,9,  -999.00,9,  -999.0,-999.000
     33KB184_1,  PRS2,     2,  1,      7,   8046,2,20060808,1111, 22.7527,-157.9827, 4745,     45,     45.7,  25.0977,  35.0847,2,-999.0000,9,    106.4,1, 25.0878,   -999.0,9,  -999.00,9,  -999.00,9,  -999.00,9,  -999.0,-999.000
     33KB184_1,  PRS2,     2,  1,      4,   8038,2,20060808,1111, 22.7527,-157.9827, 4745,     45,     45.7,  25.0919,  35.0622,2,-999.0000,9,    110.0,1, 25.0819,   -999.0,9,  -999.00,9,  -999.00,9,  -999.00,9,  -999.0,-999.000
     33KB184_1,  PRS2,     2,  1,      3,   8054,2,20060808,1111, 22.7527,-157.9827, 4745,     45,     45.7,  25.0862,  35.0374,2,-999.0000,9,    111.1,1, 25.0763,   -999.0,9,  -999.00,9,  -999.00,9,  -999.00,9,  -999.0,-999.000
     33KB184_1,  PRS2,     2,  1,      1,   8027,2,20060808,1111, 22.7527,-157.9827, 4745,     45,     45.7,  25.0753,  34.9858,2,-999.0000,9,    114.3,1, 25.0654,   -999.0,9,  -999.00,9,  -999.00,9,  -999.00,9,  -999.0,-999.000
     33KB184_1,  PRS2,     2,  2,     22,   8058,2,20060808,1254, 22.7527,-157.9827, 4736,     28,     29.4,  26.2907,  34.9046,2,-999.0000,9,    205.8,1, 26.2840,   -999.0,9,  -999.00,9,  -999.00,9,  -999.00,9,  -999.0,-999.000
     33KB184_1,  PRS2,     2,  2,     23,   8039,2,20060808,1254, 22.7527,-157.9827, 4736,     30,     29.7,  26.2915,  34.9041,2,-999.0000,9,    205.7,1, 26.2848,   -999.0,9,  -999.00,9,  -999.00,9,  -999.00,9,  -999.0,-999.000
     33KB184_1,  PRS2,     2,  2,     24,   8030,2,20060808,1254, 22.7527,-157.9827, 4736,     30,     29.9,  26.2918,  34.9040,2,-999.0000,9,    205.6,1, 26.2850,   -999.0,9,  -999.00,9,  -999.00,9,  -999.00,9,  -999.0,-999.000
     33KB184_1,  PRS2,     2,  2,     21,   8052,2,20060808,1254, 22.7527,-157.9827, 4736,     75,     75.5,  23.5602,  35.1990,2,-999.0000,9,    181.0,1, 23.5445,   -999.0,9,  -999.00,9,  -999.00,9,  -999.00,9,  -999.0,-999.000
     33KB184_1,  PRS2,     2,  2,     20,   8049,2,20060808,1254, 22.7527,-157.9827, 4736,     75,     75.5,  23.5611,  35.1994,2,-999.0000,9,    180.2,1, 23.5454,   -999.0,9,  -999.00,9,  -999.00,9,  -999.00,9,  -999.0,-999.000
     33KB184_1,  PRS2,     2,  2,     19,   8043,2,20060808,1254, 22.7527,-157.9827, 4736,     75,     75.6,  23.5610,  35.1992,2,-999.0000,9,    179.2,1, 23.5453,   -999.0,9,  -999.00,9,  -999.00,9,  -999.00,9,  -999.0,-999.000
     33KB184_1,  PRS2,     2,  2,     18,   8045,2,20060808,1254, 22.7527,-157.9827, 4736,     75,     75.6,  23.5593,  35.1991,2,-999.0000,9,    178.2,1, 23.5436,   -999.0,9,  -999.00,9,  -999.00,9,  -999.00,9,  -999.0,-999.000
     33KB184_1,  PRS2,     2,  2,     15,   8033,2,20060808,1254, 22.7527,-157.9827, 4736,     75,     75.6,  23.5575,  35.1995,2,-999.0000,9,    179.7,1, 23.5417,   -999.0,9,  -999.00,9,  -999.00,9,  -999.00,9,  -999.0,-999.000
     33KB184_1,  PRS2,     2,  2,     17,   8007,2,20060808,1254, 22.7527,-157.9827, 4736,     75,     75.7,  23.5580,  35.1993,2,-999.0000,9,    178.0,1, 23.5423,   -999.0,9,  -999.00,9,  -999.00,9,  -999.00,9,  -999.0,-999.000
     33KB184_1,  PRS2,     2,  2,     16,   8034,2,20060808,1254, 22.7527,-157.9827, 4736,     75,     75.7,  23.5576,  35.1994,2,-999.0000,9,    178.7,1, 23.5419,   -999.0,9,  -999.00,9,  -999.00,9,  -999.00,9,  -999.0,-999.000
     33KB184_1,  PRS2,     2,  2,     13,   8055,2,20060808,1254, 22.7527,-157.9827, 4736,     98,     99.2,  23.0279,  35.2019,2,-999.0000,9,    219.5,1, 23.0076,   -999.0,9,  -999.00,9,  -999.00,9,  -999.00,9,  -999.0,-999.000
     33KB184_1,  PRS2,     2,  2,     12,   8036,2,20060808,1254, 22.7527,-157.9827, 4736,     97,     99.5,  23.0272,  35.2012,2,-999.0000,9,    219.5,1, 23.0069,   -999.0,9,  -999.00,9,  -999.00,9,  -999.00,9,  -999.0,-999.000
     33KB184_1,  PRS2,     2,  2,     11,   8050,2,20060808,1254, 22.7527,-157.9827, 4736,     99,     99.5,  23.0249,  35.2022,2,-999.0000,9,    219.5,1, 23.0046,   -999.0,9,  -999.00,9,  -999.00,9,  -999.00,9,  -999.0,-999.000
     33KB184_1,  PRS2,     2,  2,      8,   8035,2,20060808,1254, 22.7527,-157.9827, 4736,     99,     99.7,  23.0093,  35.2076,2,-999.0000,9,    220.0,1, 22.9889,   -999.0,9,  -999.00,9,  -999.00,9,  -999.00,9,  -999.0,-999.000
     33KB184_1,  PRS2,     2,  2,     10,   8052,2,20060808,1254, 22.7527,-157.9827, 4736,     99,     99.8,  23.0214,  35.2036,2,-999.0000,9,    219.6,1, 23.0010,   -999.0,9,  -999.00,9,  -999.00,9,  -999.00,9,  -999.0,-999.000
     33KB184_1,  PRS2,     2,  2,      9,   8047,2,20060808,1254, 22.7527,-157.9827, 4736,    100,     99.9,  23.0156,  35.2062,2,-999.0000,9,    219.9,1, 22.9952,   -999.0,9,  -999.00,9,  -999.00,9,  -999.00,9,  -999.0,-999.000
     33KB184_1,  PRS2,     2,  2,     14,   8029,2,20060808,1254, 22.7527,-157.9827, 4736,    101,    100.0,  23.0266,  35.2023,2,-999.0000,9,    219.5,1, 23.0061,   -999.0,9,  -999.00,9,  -999.00,9,  -999.00,9,  -999.0,-999.000
     33KB184_1,  PRS2,     2,  2,      7,   8046,2,20060808,1254, 22.7527,-157.9827, 4736,    125,    126.1,  22.0942,  35.2375,2,-999.0000,9,    211.1,1, 22.0691,   -999.0,9,  -999.00,9,  -999.00,9,  -999.00,9,  -999.0,-999.000
     33KB184_1,  PRS2,     2,  2,      6,   8048,2,20060808,1254, 22.7527,-157.9827, 4736,    125,    126.1,  22.0930,  35.2375,2,-999.0000,9,    211.0,1, 22.0679,   -999.0,9,  -999.00,9,  -999.00,9,  -999.00,9,  -999.0,-999.000
     33KB184_1,  PRS2,     2,  2,      3,   8054,2,20060808,1254, 22.7527,-157.9827, 4736,    125,    126.2,  22.0897,  35.2371,2,-999.0000,9,    210.6,1, 22.0646,   -999.0,9,  -999.00,9,  -999.00,9,  -999.00,9,  -999.0,-999.000
     33KB184_1,  PRS2,     2,  2,      2,   8053,2,20060808,1254, 22.7527,-157.9827, 4736,    126,    126.2,  22.0878,  35.2368,2,-999.0000,9,    210.4,1, 22.0628,   -999.0,9,  -999.00,9,  -999.00,9,  -999.00,9,  -999.0,-999.000
     33KB184_1,  PRS2,     2,  2,      4,   8038,2,20060808,1254, 22.7527,-157.9827, 4736,    127,    126.3,  22.0901,  35.2370,2,-999.0000,9,    210.7,1, 22.0650,   -999.0,9,  -999.00,9,  -999.00,9,  -999.00,9,  -999.0,-999.000
     33KB184_1,  PRS2,     2,  2,      1,   8027,2,20060808,1254, 22.7527,-157.9827, 4736,    126,    126.3,  22.0840,  35.2370,2,-999.0000,9,    210.3,1, 22.0590,   -999.0,9,  -999.00,9,  -999.00,9,  -999.00,9,  -999.0,-999.000
     33KB184_1,  PRS2,     2,  2,      5,   8037,2,20060808,1254, 22.7527,-157.9827, 4736,    126,    126.4,  22.0915,  35.2369,2,-999.0000,9,    210.8,1, 22.0664,   -999.0,9,  -999.00,9,  -999.00,9,  -999.00,9,  -999.0,-999.000