BOTTLE,20090923WHPSIOMYS
EXPOCODE,SECT_ID,STNNBR,CASTNO,SAMPNO,BTLNBR,BTLNBR_FLAG_W,DATE,TIME,LATITUDE,LONGITUDE,DEPTH,CTDRAW,CTDPRS,CTDTMP,CTDSAL,CTDSAL_FLAG_W,SALNTY,SALNTY_FLAG_W,CTDOXY,CTDOXY_FLAG_W,THETA,OXYGEN,OXYGEN_FLAG_W,SILCAT,SILCAT_FLAG_W,NO2+NO3,NO2+NO3_FLAG_W,PHSPHT,PHSPHT_FLAG_W,REVPRS,REVTMP
,,,,,,,,,,,,,DBAR,ITS-90,PSS-78,,PSS-78,,UMOL/KG,,ITS-90,UMOL/KG,,UMOL/KG,,UMOL/KG,,UMOL/KG,,DBAR,DEG C
     33KB184_1,  PRS2,     2,  6,     20,   8049,2,20060809,0028, 22.7862,-157.9282, 4700,      5,      5.2,  26.3396,  34.9046,2,  34.9054,2,    203.3,1, 26.3385,   -999.0,9,  -999.00,9,  -999.00,9,  -999.00,9,  -999.0,-999.000
     33KB184_1,  PRS2,     2,  6,     19,   8043,2,20060809,0028, 22.7862,-157.9282, 4700,     25,     25.9,  26.3074,  34.9073,2,  34.9059,2,    203.0,1, 26.3015,   -999.0,9,  -999.00,9,  -999.00,9,  -999.00,9,  -999.0,-999.000
     33KB184_1,  PRS2,     2,  6,     18,   8045,2,20060809,0028, 22.7862,-157.9282, 4700,     44,     44.9,  25.9143,  35.0487,2,  35.0618,2,    207.3,1, 25.9044,   -999.0,9,  -999.00,9,  -999.00,9,  -999.00,9,  -999.0,-999.000
     33KB184_1,  PRS2,     2,  6,     17,   8007,2,20060809,0028, 22.7862,-157.9282, 4700,     75,     74.5,  23.5431,  35.2043,2,  35.2024,2,    219.9,1, 23.5276,   -999.0,9,  -999.00,9,  -999.00,9,  -999.00,9,  -999.0,-999.000
     33KB184_1,  PRS2,     2,  6,     16,   8034,2,20060809,0028, 22.7862,-157.9282, 4700,     99,     99.7,  22.8842,  35.2135,2,-999.0000,5,    216.1,1, 22.8639,   -999.0,9,  -999.00,9,  -999.00,9,  -999.00,9,  -999.0,-999.000
     33KB184_1,  PRS2,     2,  6,     15,   8033,2,20060809,0028, 22.7862,-157.9282, 4700,    100,     99.9,  22.8759,  35.2134,2,  35.2160,2,    216.0,1, 22.8556,   -999.0,9,  -999.00,9,  -999.00,9,  -999.00,9,  -999.0,-999.000
     33KB184_1,  PRS2,     2,  6,     14,   8029,2,20060809,0028, 22.7862,-157.9282, 4700,    125,    125.1,  22.2005,  35.2210,2,-999.0000,5,    210.1,1, 22.1756,   -999.0,9,  -999.00,9,  -999.00,9,  -999.00,9,  -999.0,-999.000
     33KB184_1,  PRS2,     2,  6,     13,   8055,2,20060809,0028, 22.7862,-157.9282, 4700,    126,    125.3,  22.1845,  35.2206,2,  35.2213,2,    209.9,1, 22.1595,   -999.0,9,  -999.00,9,  -999.00,9,  -999.00,9,  -999.0,-999.000
     33KB184_1,  PRS2,     2,  6,     11,   8050,2,20060809,0028, 22.7862,-157.9282, 4700,    149,    150.3,  21.3401,  35.2073,2,  35.2044,2,    198.3,1, 21.3110,   -999.0,9,  -999.00,9,  -999.00,9,  -999.00,9,  -999.0,-999.000
     33KB184_1,  PRS2,     2,  6,     12,   8036,2,20060809,0028, 22.7862,-157.9282, 4700,    149,    150.4,  21.3395,  35.2071,2,-999.0000,5,    198.4,1, 21.3104,   -999.0,9,  -999.00,9,  -999.00,9,  -999.00,9,  -999.0,-999.000
     33KB184_1,  PRS2,     2,  6,     10,   8052,2,20060809,0028, 22.7862,-157.9282, 4700,    201,    200.1,  18.2000,  34.8342,2,-999.0000,5,    194.2,1, 18.1654,   -999.0,9,  -999.00,9,  -999.00,9,  -999.00,9,  -999.0,-999.000
     33KB184_1,  PRS2,     2,  6,      9,   8047,2,20060809,0028, 22.7862,-157.9282, 4700,    201,    200.1,  18.1808,  34.8290,2,-999.0000,5,    194.0,1, 18.1462,   -999.0,9,  -999.00,9,  -999.00,9,  -999.00,9,  -999.0,-999.000
     33KB184_1,  PRS2,     2,  6,      8,   8035,2,20060809,0028, 22.7862,-157.9282, 4700,    251,    250.8,  15.0508,  34.4348,2,  34.4400,2,    191.3,1, 15.0128,   -999.0,9,  -999.00,9,  -999.00,9,  -999.00,9,  -999.0,-999.000
     33KB184_1,  PRS2,     2,  6,      7,   8046,2,20060809,0028, 22.7862,-157.9282, 4700,    301,    301.0,  12.5309,  34.2408,2,-999.0000,5,    198.6,1, 12.4906,   -999.0,9,  -999.00,9,  -999.00,9,  -999.00,9,  -999.0,-999.000
     33KB184_1,  PRS2,     2,  6,      6,   8048,2,20060809,0028, 22.7862,-157.9282, 4700,    301,    301.0,  12.5280,  34.2410,2,-999.0000,5,    198.8,1, 12.4878,   -999.0,9,  -999.00,9,  -999.00,9,  -999.00,9,  -999.0,-999.000
     33KB184_1,  PRS2,     2,  6,      5,   8037,2,20060809,0028, 22.7862,-157.9282, 4700,    349,    350.2,  10.9519,  34.1488,2,  34.1575,2,    187.5,1, 10.9090,   -999.0,9,  -999.00,9,  -999.00,9,  -999.00,9,  -999.0,-999.000
     33KB184_1,  PRS2,     2,  6,      4,   8038,2,20060809,0028, 22.7862,-157.9282, 4700,    473,    474.0,   7.7279,  34.0632,2,  34.0639,2,    134.4,1,  7.6807,   -999.0,9,  -999.00,9,  -999.00,9,  -999.00,9,  -999.0,-999.000
     33KB184_1,  PRS2,     2,  6,      3,   8054,2,20060809,0028, 22.7862,-157.9282, 4700,    500,    500.1,   7.0892,  34.0717,2,-999.0000,5,    102.6,1,  7.0417,   -999.0,9,  -999.00,9,  -999.00,9,  -999.00,9,  -999.0,-999.000
     33KB184_1,  PRS2,     2,  6,      2,   8053,2,20060809,0028, 22.7862,-157.9282, 4700,    770,    770.1,   4.9538,  34.3295,2,  34.3278,2,     33.4,1,  4.8914,   -999.0,9,  -999.00,9,  -999.00,9,  -999.00,9,  -999.0,-999.000
     33KB184_1,  PRS2,     2,  6,      1,   8027,2,20060809,0028, 22.7862,-157.9282, 4700,   1020,   1020.2,   4.1372,  34.4744,2,  34.4767,2,     42.4,1,  4.0589,   -999.0,9,  -999.00,9,  -999.00,9,  -999.00,9,  -999.0,-999.000
     33KB184_1,  PRS2,     2,  7,     18,   8045,2,20060809,0309, 22.7670,-157.9725, 4731,      9,      8.2,  26.3789,  34.8732,2,-999.0000,5,    203.0,1, 26.3771,   -999.0,9,  -999.00,9,  -999.00,9,  -999.00,9,  -999.0,-999.000
     33KB184_1,  PRS2,     2,  7,     17,   8007,2,20060809,0309, 22.7670,-157.9725, 4731,      8,      8.2,  26.3780,  34.8730,2,  34.8709,2,    203.1,1, 26.3762,   -999.0,9,  -999.00,9,  -999.00,9,  -999.00,9,  -999.0,-999.000
     33KB184_1,  PRS2,     2,  7,     16,   8034,2,20060809,0309, 22.7670,-157.9725, 4731,     15,     15.7,  26.3844,  34.8728,2,  34.8762,2,    203.1,1, 26.3809,   -999.0,9,  -999.00,9,  -999.00,9,  -999.00,9,  -999.0,-999.000
     33KB184_1,  PRS2,     2,  7,     15,   8033,2,20060809,0309, 22.7670,-157.9725, 4731,     23,     23.3,  26.3551,  34.8721,2,-999.0000,5,    203.0,1, 26.3498,   -999.0,9,  -999.00,9,  -999.00,9,  -999.00,9,  -999.0,-999.000
     33KB184_1,  PRS2,     2,  7,     14,   8029,2,20060809,0309, 22.7670,-157.9725, 4731,     24,     23.3,  26.3556,  34.8724,2,  34.8774,2,    203.0,1, 26.3503,   -999.0,9,  -999.00,9,  -999.00,9,  -999.00,9,  -999.0,-999.000
     33KB184_1,  PRS2,     2,  7,     13,   8055,2,20060809,0309, 22.7670,-157.9725, 4731,     35,     35.3,  26.2994,  34.8759,2,  34.8747,2,    203.5,1, 26.2915,   -999.0,9,  -999.00,9,  -999.00,9,  -999.00,9,  -999.0,-999.000
     33KB184_1,  PRS2,     2,  7,     12,   8036,2,20060809,0309, 22.7670,-157.9725, 4731,     35,     35.3,  26.2998,  34.8755,2,  34.8800,2,    203.4,1, 26.2919,   -999.0,9,  -999.00,9,  -999.00,9,  -999.00,9,  -999.0,-999.000
     33KB184_1,  PRS2,     2,  7,     11,   8050,2,20060809,0309, 22.7670,-157.9725, 4731,     46,     45.3,  26.0838,  35.0781,2,-999.0000,5,    206.7,1, 26.0736,   -999.0,9,  -999.00,9,  -999.00,9,  -999.00,9,  -999.0,-999.000
     33KB184_1,  PRS2,     2,  7,     10,   8052,2,20060809,0309, 22.7670,-157.9725, 4731,     45,     45.3,  26.0965,  35.0698,2,  35.0618,2,    207.2,1, 26.0864,   -999.0,9,  -999.00,9,  -999.00,9,  -999.00,9,  -999.0,-999.000
     33KB184_1,  PRS2,     2,  7,      9,   8047,2,20060809,0309, 22.7670,-157.9725, 4731,     59,     59.3,  24.8142,  35.1813,2,  35.1809,2,    217.6,1, 24.8014,   -999.0,9,  -999.00,9,  -999.00,9,  -999.00,9,  -999.0,-999.000
     33KB184_1,  PRS2,     2,  7,      8,   8035,2,20060809,0309, 22.7670,-157.9725, 4731,     76,     75.5,  23.5472,  35.1869,2,-999.0000,5,    220.5,1, 23.5316,   -999.0,9,  -999.00,9,  -999.00,9,  -999.00,9,  -999.0,-999.000
     33KB184_1,  PRS2,     2,  7,      7,   8046,2,20060809,0309, 22.7670,-157.9725, 4731,     75,     75.5,  23.5483,  35.1868,2,  35.1859,2,    220.5,1, 23.5326,   -999.0,9,  -999.00,9,  -999.00,9,  -999.00,9,  -999.0,-999.000
     33KB184_1,  PRS2,     2,  7,      6,   8048,2,20060809,0309, 22.7670,-157.9725, 4731,    100,    100.1,  22.5848,  35.2217,2,  35.2227,2,    212.3,1, 22.5646,   -999.0,9,  -999.00,9,  -999.00,9,  -999.00,9,  -999.0,-999.000
     33KB184_1,  PRS2,     2,  7,      5,   8037,2,20060809,0309, 22.7670,-157.9725, 4731,    126,    124.9,  22.2549,  35.2302,2,  35.2296,2,    209.5,1, 22.2300,   -999.0,9,  -999.00,9,  -999.00,9,  -999.00,9,  -999.0,-999.000
     33KB184_1,  PRS2,     2,  7,      4,   8038,2,20060809,0309, 22.7670,-157.9725, 4731,    150,    150.5,  21.3731,  35.2065,2,  35.2140,2,    199.8,1, 21.3439,   -999.0,9,  -999.00,9,  -999.00,9,  -999.00,9,  -999.0,-999.000
     33KB184_1,  PRS2,     2,  7,      3,   8054,2,20060809,0309, 22.7670,-157.9725, 4731,    175,    175.4,  19.9311,  35.0626,2,  35.0768,2,    195.1,1, 19.8987,   -999.0,9,  -999.00,9,  -999.00,9,  -999.00,9,  -999.0,-999.000
     33KB184_1,  PRS2,     2,  7,      2,   8053,2,20060809,0309, 22.7670,-157.9725, 4731,    449,    450.2,   8.3373,  34.1029,2,  34.1027,2,    136.6,1,  8.2904,   -999.0,9,  -999.00,9,  -999.00,9,  -999.00,9,  -999.0,-999.000
     33KB184_1,  PRS2,     2,  7,      1,   8027,2,20060809,0309, 22.7670,-157.9725, 4731,   1020,   1020.8,   4.0966,  34.4636,2,  34.4634,2,     42.3,1,  4.0185,   -999.0,9,  -999.00,9,  -999.00,9,  -999.00,9,  -999.0,-999.000
     33KB184_1,  PRS2,     2,  8,     22,   8058,2,20060809,0601, 22.7468,-158.0045, 4754,      7,      7.8,  26.3663,  34.8748,2,-999.0000,5,    203.0,1, 26.3646,   -999.0,9,  -999.00,9,  -999.00,9,  -999.00,9,  -999.0,-999.000
     33KB184_1,  PRS2,     2,  8,     21,   8052,2,20060809,0601, 22.7468,-158.0045, 4754,      9,      7.8,  26.3661,  34.8748,2,  34.8751,2,    202.9,1, 26.3644,   -999.0,9,  -999.00,9,  -999.00,9,  -999.00,9,  -999.0,-999.000
     33KB184_1,  PRS2,     2,  8,     20,   8049,2,20060809,0601, 22.7468,-158.0045, 4754,     24,     24.2,  26.3330,  34.8842,2,-999.0000,5,    202.8,1, 26.3275,   -999.0,9,  -999.00,9,  -999.00,9,  -999.00,9,  -999.0,-999.000
     33KB184_1,  PRS2,     2,  8,     19,   8043,2,20060809,0601, 22.7468,-158.0045, 4754,     24,     24.4,  26.3325,  34.8843,2,  34.8812,2,    202.8,1, 26.3270,   -999.0,9,  -999.00,9,  -999.00,9,  -999.00,9,  -999.0,-999.000
     33KB184_1,  PRS2,     2,  8,     17,   8007,2,20060809,0601, 22.7468,-158.0045, 4754,     45,     45.6,  24.3710,  35.1551,2,  35.1534,2,    219.2,1, 24.3613,   -999.0,9,  -999.00,9,  -999.00,9,  -999.00,9,  -999.0,-999.000
     33KB184_1,  PRS2,     2,  8,     18,   8045,2,20060809,0601, 22.7468,-158.0045, 4754,     46,     45.7,  24.4229,  35.1556,2,-999.0000,5,    218.7,1, 24.4132,   -999.0,9,  -999.00,9,  -999.00,9,  -999.00,9,  -999.0,-999.000
     33KB184_1,  PRS2,     2,  8,     16,   8034,2,20060809,0601, 22.7468,-158.0045, 4754,     59,     60.3,  23.6699,  35.1761,2,  35.1731,2,    220.9,1, 23.6573,   -999.0,9,  -999.00,9,  -999.00,9,  -999.00,9,  -999.0,-999.000
     33KB184_1,  PRS2,     2,  8,     14,   8029,2,20060809,0601, 22.7468,-158.0045, 4754,     75,     74.2,  23.1255,  35.2045,2,  35.2101,2,    217.9,1, 23.1103,   -999.0,9,  -999.00,9,  -999.00,9,  -999.00,9,  -999.0,-999.000
     33KB184_1,  PRS2,     2,  8,     15,   8033,2,20060809,0601, 22.7468,-158.0045, 4754,     74,     74.3,  23.1311,  35.2045,2,-999.0000,5,    218.0,1, 23.1158,   -999.0,9,  -999.00,9,  -999.00,9,  -999.00,9,  -999.0,-999.000
     33KB184_1,  PRS2,     2,  8,     13,   8055,2,20060809,0601, 22.7468,-158.0045, 4754,     84,     84.9,  22.6951,  35.2183,2,  35.2227,2,    214.0,1, 22.6779,   -999.0,9,  -999.00,9,  -999.00,9,  -999.00,9,  -999.0,-999.000
     33KB184_1,  PRS2,     2,  8,     12,   8036,2,20060809,0601, 22.7468,-158.0045, 4754,    100,    100.7,  22.3917,  35.2349,2,-999.0000,5,    210.1,1, 22.3716,   -999.0,9,  -999.00,9,  -999.00,9,  -999.00,9,  -999.0,-999.000
     33KB184_1,  PRS2,     2,  8,     11,   8050,2,20060809,0601, 22.7468,-158.0045, 4754,    100,    100.8,  22.3918,  35.2350,2,  35.2331,2,    210.1,1, 22.3716,   -999.0,9,  -999.00,9,  -999.00,9,  -999.00,9,  -999.0,-999.000
     33KB184_1,  PRS2,     2,  8,     10,   8052,2,20060809,0601, 22.7468,-158.0045, 4754,    114,    114.5,  22.0404,  35.2486,2,  35.2469,2,    208.2,1, 22.0177,   -999.0,9,  -999.00,9,  -999.00,9,  -999.00,9,  -999.0,-999.000
     33KB184_1,  PRS2,     2,  8,      9,   8047,2,20060809,0601, 22.7468,-158.0045, 4754,    123,    124.4,  21.6887,  35.2208,2,-999.0000,5,    205.5,1, 21.6643,   -999.0,9,  -999.00,9,  -999.00,9,  -999.00,9,  -999.0,-999.000
     33KB184_1,  PRS2,     2,  8,      8,   8035,2,20060809,0601, 22.7468,-158.0045, 4754,    123,    124.4,  21.6914,  35.2207,2,  35.2260,2,    205.2,1, 21.6671,   -999.0,9,  -999.00,9,  -999.00,9,  -999.00,9,  -999.0,-999.000
     33KB184_1,  PRS2,     2,  8,      7,   8046,2,20060809,0601, 22.7468,-158.0045, 4754,    134,    135.6,  21.2544,  35.1885,2,  35.1868,2,    199.7,1, 21.2282,   -999.0,9,  -999.00,9,  -999.00,9,  -999.00,9,  -999.0,-999.000
     33KB184_1,  PRS2,     2,  8,      5,   8037,2,20060809,0601, 22.7468,-158.0045, 4754,    149,    149.4,  20.7986,  35.1483,2,  35.1482,2,    195.8,1, 20.7702,   -999.0,9,  -999.00,9,  -999.00,9,  -999.00,9,  -999.0,-999.000
     33KB184_1,  PRS2,     2,  8,      6,   8048,2,20060809,0601, 22.7468,-158.0045, 4754,    150,    149.6,  20.8014,  35.1487,2,-999.0000,5,    195.7,1, 20.7729,   -999.0,9,  -999.00,9,  -999.00,9,  -999.00,9,  -999.0,-999.000
     33KB184_1,  PRS2,     2,  8,      3,   8054,2,20060809,0601, 22.7468,-158.0045, 4754,    172,    173.9,  19.7521,  35.0369,2,  35.0431,2,    194.2,1, 19.7202,   -999.0,9,  -999.00,9,  -999.00,9,  -999.00,9,  -999.0,-999.000
     33KB184_1,  PRS2,     2,  8,      4,   8038,2,20060809,0601, 22.7468,-158.0045, 4754,    173,    174.1,  19.7591,  35.0378,2,-999.0000,5,    194.0,1, 19.7272,   -999.0,9,  -999.00,9,  -999.00,9,  -999.00,9,  -999.0,-999.000
     33KB184_1,  PRS2,     2,  8,      2,   8053,2,20060809,0601, 22.7468,-158.0045, 4754,    498,    499.3,   7.0519,  34.0887,2,  34.0942,2,     93.3,1,  7.0047,   -999.0,9,  -999.00,9,  -999.00,9,  -999.00,9,  -999.0,-999.000
     33KB184_1,  PRS2,     2,  8,      1,   8027,2,20060809,0601, 22.7468,-158.0045, 4754,   1021,   1021.2,   4.3230,  34.4896,2,  34.4897,2,     41.1,1,  4.2431,   -999.0,9,  -999.00,9,  -999.00,9,  -999.00,9,  -999.0,-999.000
     33KB184_1,  PRS2,     2,  9,     23,   8039,2,20060809,0913, 22.7463,-157.9903, 4754,      7,      7.5,  26.3261,  34.8756,2,  34.8804,2,    203.0,2, 26.3244,   -999.0,5,  -999.00,9,  -999.00,9,  -999.00,9,  -999.0,-999.000
     33KB184_1,  PRS2,     2,  9,     22,   8058,2,20060809,0913, 22.7463,-157.9903, 4754,      7,      7.5,  26.3296,  34.8778,2,  34.8737,2,    203.1,2, 26.3279,    202.6,2,  -999.00,9,  -999.00,9,  -999.00,9,  -999.0,-999.000
     33KB184_1,  PRS2,     2,  9,     21,   8052,2,20060809,0913, 22.7463,-157.9903, 4754,     15,     15.4,  26.3288,  34.8757,2,  34.8759,2,    203.1,2, 26.3253,   -999.0,5,  -999.00,9,  -999.00,9,  -999.00,9,  -999.0,-999.000
     33KB184_1,  PRS2,     2,  9,     20,   8049,2,20060809,0913, 22.7463,-157.9903, 4754,     26,     25.7,  26.3229,  34.8940,2,  34.9042,2,    203.3,2, 26.3171,   -999.0,5,  -999.00,9,  -999.00,9,  -999.00,9,  -999.0,-999.000
     33KB184_1,  PRS2,     2,  9,     19,   8043,2,20060809,0913, 22.7463,-157.9903, 4754,     26,     25.8,  26.3224,  34.8940,2,  34.9144,4,    203.4,3, 26.3166,    204.1,2,  -999.00,9,  -999.00,9,  -999.00,9,  -999.0,-999.000
     33KB184_1,  PRS2,     2,  9,     18,   8045,2,20060809,0913, 22.7463,-157.9903, 4754,     34,     34.7,  25.5757,  35.1511,2,  35.1498,2,    212.7,2, 25.5681,   -999.0,5,  -999.00,9,  -999.00,9,  -999.00,9,  -999.0,-999.000
     33KB184_1,  PRS2,     2,  9,     17,   8007,2,20060809,0913, 22.7463,-157.9903, 4754,     44,     44.8,  23.9874,  35.1594,2,  35.1583,2,    221.4,2, 23.9780,    220.6,2,  -999.00,9,  -999.00,9,  -999.00,9,  -999.0,-999.000
     33KB184_1,  PRS2,     2,  9,     16,   8034,2,20060809,0913, 22.7463,-157.9903, 4754,     60,     60.0,  23.3447,  35.1975,2,  35.1959,2,    219.7,2, 23.3324,   -999.0,5,  -999.00,9,  -999.00,9,  -999.00,9,  -999.0,-999.000
     33KB184_1,  PRS2,     2,  9,     15,   8033,2,20060809,0913, 22.7463,-157.9903, 4754,     74,     74.6,  22.6709,  35.2155,2,  35.2115,2,    213.2,2, 22.6558,    215.5,2,  -999.00,9,  -999.00,9,  -999.00,9,  -999.0,-999.000
     33KB184_1,  PRS2,     2,  9,     14,   8029,2,20060809,0913, 22.7463,-157.9903, 4754,     86,     86.5,  22.4440,  35.2298,2,  35.2288,2,    211.2,2, 22.4266,    211.9,2,  -999.00,9,  -999.00,9,  -999.00,9,  -999.0,-999.000
     33KB184_1,  PRS2,     2,  9,     13,   8055,2,20060809,0913, 22.7463,-157.9903, 4754,     89,     89.8,  22.3446,  35.2348,2,  35.2369,2,    210.2,2, 22.3266,   -999.0,5,  -999.00,9,  -999.00,9,  -999.00,9,  -999.0,-999.000
     33KB184_1,  PRS2,     2,  9,     12,   8036,2,20060809,0913, 22.7463,-157.9903, 4754,    102,    100.9,  21.9901,  35.2484,2,  35.2467,2,    207.1,2, 21.9701,    207.4,2,  -999.00,9,  -999.00,9,  -999.00,9,  -999.0,-999.000
     33KB184_1,  PRS2,     2,  9,     11,   8050,2,20060809,0913, 22.7463,-157.9903, 4754,    111,    110.8,  21.6682,  35.2203,2,  35.2128,2,    205.5,2, 21.6465,   -999.0,5,  -999.00,9,  -999.00,9,  -999.00,9,  -999.0,-999.000
     33KB184_1,  PRS2,     2,  9,     10,   8052,2,20060809,0913, 22.7463,-157.9903, 4754,    115,    115.0,  21.3506,  35.1992,2,  35.1904,2,    202.6,2, 21.3283,    201.1,2,  -999.00,9,  -999.00,9,  -999.00,9,  -999.0,-999.000
     33KB184_1,  PRS2,     2,  9,      9,   8047,2,20060809,0913, 22.7463,-157.9903, 4754,    126,    125.9,  20.9893,  35.1633,2,  35.1603,2,    197.0,2, 20.9652,    197.6,2,  -999.00,9,  -999.00,9,  -999.00,9,  -999.0,-999.000
     33KB184_1,  PRS2,     2,  9,      8,   8035,2,20060809,0913, 22.7463,-157.9903, 4754,    130,    130.5,  20.6662,  35.1320,2,  35.1321,2,    194.5,2, 20.6415,   -999.0,5,  -999.00,9,  -999.00,9,  -999.00,9,  -999.0,-999.000
     33KB184_1,  PRS2,     2,  9,      7,   8046,2,20060809,0913, 22.7463,-157.9903, 4754,    150,    150.5,  19.7709,  35.0389,2,  35.0455,2,    194.3,2, 19.7433,    195.4,2,  -999.00,9,  -999.00,9,  -999.00,9,  -999.0,-999.000
     33KB184_1,  PRS2,     2,  9,      6,   8048,2,20060809,0913, 22.7463,-157.9903, 4754,    164,    164.5,  19.3735,  34.9883,2,  34.9772,2,    193.5,2, 19.3438,    193.7,2,  -999.00,9,  -999.00,9,  -999.00,9,  -999.0,-999.000
     33KB184_1,  PRS2,     2,  9,      5,   8037,2,20060809,0913, 22.7463,-157.9903, 4754,    174,    174.8,  18.5786,  34.8841,2,  34.8880,2,    193.5,2, 18.5479,    193.6,2,  -999.00,9,  -999.00,9,  -999.00,9,  -999.0,-999.000
     33KB184_1,  PRS2,     2,  9,      4,   8038,2,20060809,0913, 22.7463,-157.9903, 4754,    201,    200.7,  16.7909,  34.6449,2,  34.6525,2,    191.7,2, 16.7581,    192.0,2,  -999.00,9,  -999.00,9,  -999.00,9,  -999.0,-999.000
     33KB184_1,  PRS2,     2,  9,      3,   8054,2,20060809,0913, 22.7463,-157.9903, 4754,    490,    489.9,   7.2065,  34.0867,2,  34.0907,2,    100.7,2,  7.1596,     99.8,2,  -999.00,9,  -999.00,9,  -999.00,9,  -999.0,-999.000
     33KB184_1,  PRS2,     2,  9,      2,   8053,2,20060809,0913, 22.7463,-157.9903, 4754,    710,    710.3,   5.2713,  34.3305,2,  34.3284,2,     30.0,2,  5.2123,     29.6,2,  -999.00,9,  -999.00,9,  -999.00,9,  -999.0,-999.000
     33KB184_1,  PRS2,     2,  9,      1,   8027,2,20060809,0913, 22.7463,-157.9903, 4754,   1019,   1020.0,   4.2523,  34.4960,2,  34.4954,2,     41.5,2,  4.1730,     42.5,2,  -999.00,9,  -999.00,9,  -999.00,9,  -999.0,-999.000