BOTTLE,20090923WHPSIOMYS
EXPOCODE,SECT_ID,STNNBR,CASTNO,SAMPNO,BTLNBR,BTLNBR_FLAG_W,DATE,TIME,LATITUDE,LONGITUDE,DEPTH,CTDRAW,CTDPRS,CTDTMP,CTDSAL,CTDSAL_FLAG_W,SALNTY,SALNTY_FLAG_W,CTDOXY,CTDOXY_FLAG_W,THETA,OXYGEN,OXYGEN_FLAG_W,SILCAT,SILCAT_FLAG_W,NO2+NO3,NO2+NO3_FLAG_W,PHSPHT,PHSPHT_FLAG_W,REVPRS,REVTMP
,,,,,,,,,,,,,DBAR,ITS-90,PSS-78,,PSS-78,,UMOL/KG,,ITS-90,UMOL/KG,,UMOL/KG,,UMOL/KG,,UMOL/KG,,DBAR,DEG C
     33KB184_1,  PRS2,     2, 15,     15,   8033,2,20060810,0307, 22.7650,-157.9342, 4711,      7,      7.3,  26.4132,  34.8880,2,  34.8879,2,    204.0,1, 26.4116,   -999.0,9,  -999.00,9,  -999.00,9,  -999.00,9,  -999.0,-999.000
     33KB184_1,  PRS2,     2, 15,     14,   8029,2,20060810,0307, 22.7650,-157.9342, 4711,     25,     24.7,  26.4172,  34.8881,2,  34.8875,2,    204.0,1, 26.4116,   -999.0,9,  -999.00,9,  -999.00,9,  -999.00,9,  -999.0,-999.000
     33KB184_1,  PRS2,     2, 15,     13,   8055,2,20060810,0307, 22.7650,-157.9342, 4711,     45,     44.5,  26.0133,  35.1332,2,  35.1323,2,    211.1,1, 26.0033,   -999.0,9,  -999.00,9,  -999.00,9,  -999.00,9,  -999.0,-999.000
     33KB184_1,  PRS2,     2, 15,     12,   8036,2,20060810,0307, 22.7650,-157.9342, 4711,     75,     74.7,  23.8064,  35.1679,2,-999.0000,5,    221.2,1, 23.7907,   -999.0,9,  -999.00,9,  -999.00,9,  -999.00,9,  -999.0,-999.000
     33KB184_1,  PRS2,     2, 15,     11,   8050,2,20060810,0307, 22.7650,-157.9342, 4711,     75,     75.0,  23.8081,  35.1677,2,  35.1658,2,    221.2,1, 23.7924,   -999.0,9,  -999.00,9,  -999.00,9,  -999.00,9,  -999.0,-999.000
     33KB184_1,  PRS2,     2, 15,     10,   8052,2,20060810,0307, 22.7650,-157.9342, 4711,    100,     99.7,  23.1541,  35.2049,2,  35.2028,2,    218.8,1, 23.1336,   -999.0,9,  -999.00,9,  -999.00,9,  -999.00,9,  -999.0,-999.000
     33KB184_1,  PRS2,     2, 15,      9,   8047,2,20060810,0307, 22.7650,-157.9342, 4711,    125,    124.7,  22.4316,  35.2303,2,  35.2024,4,    211.6,1, 22.4066,   -999.0,9,  -999.00,9,  -999.00,9,  -999.00,9,  -999.0,-999.000
     33KB184_1,  PRS2,     2, 15,      8,   8035,2,20060810,0307, 22.7650,-157.9342, 4711,    148,    149.6,  21.9161,  35.2252,2,  35.2272,2,    207.1,1, 21.8866,   -999.0,9,  -999.00,9,  -999.00,9,  -999.00,9,  -999.0,-999.000
     33KB184_1,  PRS2,     2, 15,      7,   8046,2,20060810,0307, 22.7650,-157.9342, 4711,    175,    175.1,  20.6887,  35.1487,2,  35.1463,2,    195.6,1, 20.6555,   -999.0,9,  -999.00,9,  -999.00,9,  -999.00,9,  -999.0,-999.000
     33KB184_1,  PRS2,     2, 15,      6,   8048,2,20060810,0307, 22.7650,-157.9342, 4711,    201,    200.6,  19.2347,  34.9682,2,  34.9711,2,    194.3,1, 19.1986,   -999.0,9,  -999.00,9,  -999.00,9,  -999.00,9,  -999.0,-999.000
     33KB184_1,  PRS2,     2, 15,      5,   8037,2,20060810,0307, 22.7650,-157.9342, 4711,    249,    249.5,  15.1666,  34.4561,2,  34.4665,2,    193.5,1, 15.1286,   -999.0,9,  -999.00,9,  -999.00,9,  -999.00,9,  -999.0,-999.000
     33KB184_1,  PRS2,     2, 15,      3,   8054,2,20060810,0307, 22.7650,-157.9342, 4711,    349,    349.9,  11.2752,  34.1748,2,  34.1748,2,    195.9,1, 11.2315,   -999.0,9,  -999.00,9,  -999.00,9,  -999.00,9,  -999.0,-999.000
     33KB184_1,  PRS2,     2, 15,      4,   8038,2,20060810,0307, 22.7650,-157.9342, 4711,    352,    350.4,  11.2805,  34.1746,2,  34.1754,2,    196.0,1, 11.2367,   -999.0,9,  -999.00,9,  -999.00,9,  -999.00,9,  -999.0,-999.000
     33KB184_1,  PRS2,     2, 15,      2,   8053,2,20060810,0307, 22.7650,-157.9342, 4711,    500,    500.1,   7.2772,  34.0634,2,  34.0619,2,    116.7,1,  7.2290,   -999.0,9,  -999.00,9,  -999.00,9,  -999.00,9,  -999.0,-999.000
     33KB184_1,  PRS2,     2, 15,      1,   8027,2,20060810,0307, 22.7650,-157.9342, 4711,   1020,   1019.9,   4.1126,  34.4705,2,  34.4710,2,     42.5,1,  4.0344,   -999.0,9,  -999.00,9,  -999.00,9,  -999.00,9,  -999.0,-999.000
     33KB184_1,  PRS2,     2, 16,     14,   8029,2,20060810,0603, 22.7637,-157.9458, 4714,      7,      7.7,  26.3539,  34.9053,2,  34.9046,2,    203.6,1, 26.3522,   -999.0,9,  -999.00,9,  -999.00,9,  -999.00,9,  -999.0,-999.000
     33KB184_1,  PRS2,     2, 16,     13,   8055,2,20060810,0603, 22.7637,-157.9458, 4714,     25,     25.5,  26.3605,  34.9051,2,  34.9046,2,    203.6,1, 26.3548,   -999.0,9,  -999.00,9,  -999.00,9,  -999.00,9,  -999.0,-999.000
     33KB184_1,  PRS2,     2, 16,     12,   8036,2,20060810,0603, 22.7637,-157.9458, 4714,     45,     44.7,  25.6411,  35.1494,2,  35.1510,2,    213.8,1, 25.6312,   -999.0,9,  -999.00,9,  -999.00,9,  -999.00,9,  -999.0,-999.000
     33KB184_1,  PRS2,     2, 16,     11,   8050,2,20060810,0603, 22.7637,-157.9458, 4714,     60,     60.6,  23.8951,  35.1698,2,  35.1729,2,    220.7,1, 23.8824,   -999.0,9,  -999.00,9,  -999.00,9,  -999.00,9,  -999.0,-999.000
     33KB184_1,  PRS2,     2, 16,     10,   8052,2,20060810,0603, 22.7637,-157.9458, 4714,     75,     74.4,  23.4431,  35.1903,2,  35.1878,2,    220.0,1, 23.4277,   -999.0,9,  -999.00,9,  -999.00,9,  -999.00,9,  -999.0,-999.000
     33KB184_1,  PRS2,     2, 16,      9,   8047,2,20060810,0603, 22.7637,-157.9458, 4714,     83,     83.7,  23.1383,  35.2032,2,  35.2010,2,    218.4,1, 23.1212,   -999.0,9,  -999.00,9,  -999.00,9,  -999.00,9,  -999.0,-999.000
     33KB184_1,  PRS2,     2, 16,      8,   8035,2,20060810,0603, 22.7637,-157.9458, 4714,     98,     98.4,  22.7181,  35.2184,2,  35.2176,2,    213.4,1, 22.6982,   -999.0,9,  -999.00,9,  -999.00,9,  -999.00,9,  -999.0,-999.000
     33KB184_1,  PRS2,     2, 16,      7,   8046,2,20060810,0603, 22.7637,-157.9458, 4714,    114,    114.2,  22.3188,  35.2391,2,  35.2367,2,    210.2,1, 22.2960,   -999.0,9,  -999.00,9,  -999.00,9,  -999.00,9,  -999.0,-999.000
     33KB184_1,  PRS2,     2, 16,      6,   8048,2,20060810,0603, 22.7637,-157.9458, 4714,    126,    125.5,  21.9862,  35.2477,2,  35.2475,2,    207.6,1, 21.9613,   -999.0,9,  -999.00,9,  -999.00,9,  -999.00,9,  -999.0,-999.000
     33KB184_1,  PRS2,     2, 16,      5,   8037,2,20060810,0603, 22.7637,-157.9458, 4714,    135,    135.1,  21.6541,  35.2192,2,  35.2239,2,    205.5,1, 21.6276,   -999.0,9,  -999.00,9,  -999.00,9,  -999.00,9,  -999.0,-999.000
     33KB184_1,  PRS2,     2, 16,      4,   8038,2,20060810,0603, 22.7637,-157.9458, 4714,    150,    149.5,  20.7504,  35.1528,2,  35.1498,2,    194.8,1, 20.7220,   -999.0,9,  -999.00,9,  -999.00,9,  -999.00,9,  -999.0,-999.000
     33KB184_1,  PRS2,     2, 16,      3,   8054,2,20060810,0603, 22.7637,-157.9458, 4714,    174,    174.6,  19.2857,  34.9766,2,  34.9770,2,    193.6,1, 19.2543,   -999.0,9,  -999.00,9,  -999.00,9,  -999.00,9,  -999.0,-999.000
     33KB184_1,  PRS2,     2, 16,      2,   8053,2,20060810,0603, 22.7637,-157.9458, 4714,    490,    489.0,   7.4009,  34.0649,2,  34.0658,2,    117.4,1,  7.3534,   -999.0,9,  -999.00,9,  -999.00,9,  -999.00,9,  -999.0,-999.000
     33KB184_1,  PRS2,     2, 16,      1,   8027,2,20060810,0603, 22.7637,-157.9458, 4714,   1022,   1021.5,   4.1752,  34.4594,2,  34.4677,4,     40.8,1,  4.0964,   -999.0,9,  -999.00,9,  -999.00,9,  -999.00,9,  -999.0,-999.000
     33KB184_1,  PRS2,     2, 17,     10,   8052,2,20060810,0905, 22.7635,-157.9638, 4729,      7,      7.5,  26.3440,  34.8999,2,  34.8985,2,    203.5,1, 26.3423,   -999.0,9,  -999.00,9,  -999.00,9,  -999.00,9,  -999.0,-999.000
     33KB184_1,  PRS2,     2, 17,      9,   8047,2,20060810,0905, 22.7635,-157.9638, 4729,     25,     25.6,  26.3398,  34.9094,2,  34.9087,2,    203.4,1, 26.3341,   -999.0,9,  -999.00,9,  -999.00,9,  -999.00,9,  -999.0,-999.000
     33KB184_1,  PRS2,     2, 17,      8,   8035,2,20060810,0905, 22.7635,-157.9638, 4729,     46,     45.9,  24.1698,  35.1632,2,  35.1664,2,    221.4,1, 24.1601,   -999.0,9,  -999.00,9,  -999.00,9,  -999.00,9,  -999.0,-999.000
     33KB184_1,  PRS2,     2, 17,      7,   8046,2,20060810,0905, 22.7635,-157.9638, 4729,     76,     75.9,  22.9700,  35.2060,2,  35.2040,2,    216.8,1, 22.9546,   -999.0,9,  -999.00,9,  -999.00,9,  -999.00,9,  -999.0,-999.000
     33KB184_1,  PRS2,     2, 17,      6,   8048,2,20060810,0905, 22.7635,-157.9638, 4729,    100,    100.1,  22.1066,  35.2508,2,  35.2471,2,    209.5,1, 22.0867,   -999.0,9,  -999.00,9,  -999.00,9,  -999.00,9,  -999.0,-999.000
     33KB184_1,  PRS2,     2, 17,      5,   8037,2,20060810,0905, 22.7635,-157.9638, 4729,    125,    125.2,  21.2799,  35.1940,2,-999.0000,5,    199.9,1, 21.2557,   -999.0,9,  -999.00,9,  -999.00,9,  -999.00,9,  -999.0,-999.000
     33KB184_1,  PRS2,     2, 17,      4,   8038,2,20060810,0905, 22.7635,-157.9638, 4729,    150,    150.3,  19.8507,  35.0493,2,  35.0746,3,    194.9,1, 19.8231,   -999.0,9,  -999.00,9,  -999.00,9,  -999.00,9,  -999.0,-999.000
     33KB184_1,  PRS2,     2, 17,      3,   8054,2,20060810,0905, 22.7635,-157.9638, 4729,    175,    176.0,  18.1480,  34.8261,2,  34.8196,2,    193.5,1, 18.1176,   -999.0,9,  -999.00,9,  -999.00,9,  -999.00,9,  -999.0,-999.000
     33KB184_1,  PRS2,     2, 17,      2,   8053,2,20060810,0905, 22.7635,-157.9638, 4729,    480,    480.7,   7.4658,  34.0712,2,  34.0705,2,    115.7,1,  7.4189,   -999.0,9,  -999.00,9,  -999.00,9,  -999.00,9,  -999.0,-999.000
     33KB184_1,  PRS2,     2, 17,      1,   8027,2,20060810,0905, 22.7635,-157.9638, 4729,   1020,   1020.4,   4.1149,  34.4643,2,  34.4636,2,     42.3,1,  4.0367,   -999.0,9,  -999.00,9,  -999.00,9,  -999.00,9,  -999.0,-999.000
     33KB184_1,  PRS2,    11,  1,     12,   8036,2,20060810,1700, 22.8007,-158.1720, 4784,     81,     80.8,  23.0044,  35.2096,2,-999.0000,9,    215.7,1, 22.9879,   -999.0,9,  -999.00,9,  -999.00,9,  -999.00,9,  -999.0,-999.000
     33KB184_1,  PRS2,    11,  1,      7,   8046,2,20060810,1700, 22.8007,-158.1720, 4784,     80,     80.8,  22.9530,  35.2098,2,-999.0000,9,    215.7,1, 22.9366,   -999.0,9,  -999.00,9,  -999.00,9,  -999.00,9,  -999.0,-999.000
     33KB184_1,  PRS2,    11,  1,     11,   8050,2,20060810,1700, 22.8007,-158.1720, 4784,     79,     80.9,  22.9995,  35.2098,2,-999.0000,9,    215.8,1, 22.9829,   -999.0,9,  -999.00,9,  -999.00,9,  -999.00,9,  -999.0,-999.000
     33KB184_1,  PRS2,    11,  1,     10,   8052,2,20060810,1700, 22.8007,-158.1720, 4784,     80,     80.9,  22.9971,  35.2094,2,-999.0000,9,    215.8,1, 22.9806,   -999.0,9,  -999.00,9,  -999.00,9,  -999.00,9,  -999.0,-999.000
     33KB184_1,  PRS2,    11,  1,      9,   8047,2,20060810,1700, 22.8007,-158.1720, 4784,     81,     80.9,  22.9864,  35.2097,2,-999.0000,9,    215.9,1, 22.9699,   -999.0,9,  -999.00,9,  -999.00,9,  -999.00,9,  -999.0,-999.000
     33KB184_1,  PRS2,    11,  1,      8,   8035,2,20060810,1700, 22.8007,-158.1720, 4784,     80,     80.9,  22.9673,  35.2097,2,-999.0000,9,    215.8,1, 22.9508,   -999.0,9,  -999.00,9,  -999.00,9,  -999.00,9,  -999.0,-999.000
     33KB184_1,  PRS2,    11,  1,      6,   8048,2,20060810,1700, 22.8007,-158.1720, 4784,    124,    124.7,  22.0405,  35.2480,2,-999.0000,9,    206.2,1, 22.0158,   -999.0,9,  -999.00,9,  -999.00,9,  -999.00,9,  -999.0,-999.000
     33KB184_1,  PRS2,    11,  1,      5,   8037,2,20060810,1700, 22.8007,-158.1720, 4784,    128,    127.6,  21.9216,  35.2467,2,-999.0000,9,    204.1,1, 21.8964,   -999.0,9,  -999.00,9,  -999.00,9,  -999.00,9,  -999.0,-999.000
     33KB184_1,  PRS2,    11,  1,      4,   8038,2,20060810,1700, 22.8007,-158.1720, 4784,    128,    128.9,  21.9058,  35.2459,2,-999.0000,9,    204.2,1, 21.8803,   -999.0,9,  -999.00,9,  -999.00,9,  -999.00,9,  -999.0,-999.000
     33KB184_1,  PRS2,    11,  1,      3,   8054,2,20060810,1700, 22.8007,-158.1720, 4784,    128,    129.2,  21.9019,  35.2454,2,-999.0000,9,    204.2,1, 21.8764,   -999.0,9,  -999.00,9,  -999.00,9,  -999.00,9,  -999.0,-999.000
     33KB184_1,  PRS2,    11,  1,      2,   8053,2,20060810,1700, 22.8007,-158.1720, 4784,    128,    129.3,  21.9003,  35.2458,2,-999.0000,9,    204.2,1, 21.8748,   -999.0,9,  -999.00,9,  -999.00,9,  -999.00,9,  -999.0,-999.000
     33KB184_1,  PRS2,    11,  1,      1,   8027,2,20060810,1700, 22.8007,-158.1720, 4784,    129,    129.3,  21.8996,  35.2452,2,-999.0000,9,    204.2,1, 21.8741,   -999.0,9,  -999.00,9,  -999.00,9,  -999.00,9,  -999.0,-999.000
     33KB184_1,  PRS2,    12,  1,      9,   8047,2,20060810,1904, 22.8512,-158.3442, 4785,     80,     80.5,  23.1801,  35.2106,2,-999.0000,5,    217.2,1, 23.1635,   -999.0,9,  -999.00,9,  -999.00,9,  -999.00,9,  -999.0,-999.000
     33KB184_1,  PRS2,    12,  1,     12,   8036,2,20060810,1904, 22.8512,-158.3442, 4785,     80,     80.8,  23.1839,  35.2105,2,-999.0000,5,    217.6,1, 23.1673,   -999.0,9,  -999.00,9,  -999.00,9,  -999.00,9,  -999.0,-999.000
     33KB184_1,  PRS2,    12,  1,     10,   8052,2,20060810,1904, 22.8512,-158.3442, 4785,     80,     80.8,  23.1815,  35.2110,2,-999.0000,5,    217.3,1, 23.1650,   -999.0,9,  -999.00,9,  -999.00,9,  -999.00,9,  -999.0,-999.000
     33KB184_1,  PRS2,    12,  1,     15,   8033,2,20060810,1904, 22.8512,-158.3442, 4785,     81,     80.9,  23.1836,  35.2103,2,-999.0000,5,    217.6,1, 23.1670,   -999.0,9,  -999.00,9,  -999.00,9,  -999.00,9,  -999.0,-999.000
     33KB184_1,  PRS2,    12,  1,     14,   8029,2,20060810,1904, 22.8512,-158.3442, 4785,     81,     80.9,  23.1842,  35.2101,2,  35.2109,2,    217.6,1, 23.1675,   -999.0,9,  -999.00,9,  -999.00,9,  -999.00,9,  -999.0,-999.000
     33KB184_1,  PRS2,    12,  1,     13,   8055,2,20060810,1904, 22.8512,-158.3442, 4785,     80,     80.9,  23.1839,  35.2101,2,-999.0000,5,    217.6,1, 23.1673,   -999.0,9,  -999.00,9,  -999.00,9,  -999.00,9,  -999.0,-999.000
     33KB184_1,  PRS2,    12,  1,     11,   8050,2,20060810,1904, 22.8512,-158.3442, 4785,     81,     80.9,  23.1821,  35.2107,2,-999.0000,5,    217.4,1, 23.1655,   -999.0,9,  -999.00,9,  -999.00,9,  -999.00,9,  -999.0,-999.000
     33KB184_1,  PRS2,    12,  1,      8,   8035,2,20060810,1904, 22.8512,-158.3442, 4785,    130,    130.3,  21.5312,  35.2167,2,-999.0000,5,    199.7,1, 21.5058,   -999.0,9,  -999.00,9,  -999.00,9,  -999.00,9,  -999.0,-999.000
     33KB184_1,  PRS2,    12,  1,      5,   8037,2,20060810,1904, 22.8512,-158.3442, 4785,    130,    130.3,  21.5375,  35.2187,2,-999.0000,5,    199.2,1, 21.5121,   -999.0,9,  -999.00,9,  -999.00,9,  -999.00,9,  -999.0,-999.000
     33KB184_1,  PRS2,    12,  1,      4,   8038,2,20060810,1904, 22.8512,-158.3442, 4785,    130,    130.3,  21.5253,  35.2190,2,-999.0000,5,    199.1,1, 21.4999,   -999.0,9,  -999.00,9,  -999.00,9,  -999.00,9,  -999.0,-999.000
     33KB184_1,  PRS2,    12,  1,      3,   8054,2,20060810,1904, 22.8512,-158.3442, 4785,    130,    130.3,  21.5148,  35.2182,2,-999.0000,5,    198.9,1, 21.4894,   -999.0,9,  -999.00,9,  -999.00,9,  -999.00,9,  -999.0,-999.000
     33KB184_1,  PRS2,    12,  1,      7,   8046,2,20060810,1904, 22.8512,-158.3442, 4785,    130,    130.4,  21.5380,  35.2185,2,-999.0000,5,    199.5,1, 21.5126,   -999.0,9,  -999.00,9,  -999.00,9,  -999.00,9,  -999.0,-999.000
     33KB184_1,  PRS2,    12,  1,      6,   8048,2,20060810,1904, 22.8512,-158.3442, 4785,    131,    130.4,  21.5389,  35.2183,2,-999.0000,5,    199.4,1, 21.5135,   -999.0,9,  -999.00,9,  -999.00,9,  -999.00,9,  -999.0,-999.000
     33KB184_1,  PRS2,    12,  1,      2,   8053,2,20060810,1904, 22.8512,-158.3442, 4785,    439,    440.5,   8.2170,  34.0865,2,  34.0821,2,    143.2,1,  8.1716,   -999.0,9,  -999.00,9,  -999.00,9,  -999.00,9,  -999.0,-999.000
     33KB184_1,  PRS2,    12,  1,      1,   8027,2,20060810,1904, 22.8512,-158.3442, 4785,   1021,   1021.1,   4.0532,  34.4843,2,  34.4848,2,     44.5,1,  3.9754,   -999.0,9,  -999.00,9,  -999.00,9,  -999.00,9,  -999.0,-999.000
     33KB184_1,  PRS2,    13,  1,      9,   8047,2,20060810,2240, 22.9005,-158.5148, 4790,     76,     75.8,  22.7019,  35.2143,2,-999.0000,5,    213.1,1, 22.6866,   -999.0,9,  -999.00,9,  -999.00,9,  -999.00,9,  -999.0,-999.000
     33KB184_1,  PRS2,    13,  1,     13,   8055,2,20060810,2240, 22.9005,-158.5148, 4790,     76,     76.0,  22.7029,  35.2141,2,-999.0000,5,    213.8,1, 22.6875,   -999.0,9,  -999.00,9,  -999.00,9,  -999.00,9,  -999.0,-999.000
     33KB184_1,  PRS2,    13,  1,     12,   8036,2,20060810,2240, 22.9005,-158.5148, 4790,     76,     76.0,  22.7016,  35.2143,2,-999.0000,5,    213.7,1, 22.6863,   -999.0,9,  -999.00,9,  -999.00,9,  -999.00,9,  -999.0,-999.000
     33KB184_1,  PRS2,    13,  1,     11,   8050,2,20060810,2240, 22.9005,-158.5148, 4790,     76,     76.0,  22.7018,  35.2143,2,-999.0000,5,    213.5,1, 22.6864,   -999.0,9,  -999.00,9,  -999.00,9,  -999.00,9,  -999.0,-999.000
     33KB184_1,  PRS2,    13,  1,     15,   8033,2,20060810,2240, 22.9005,-158.5148, 4790,     75,     76.1,  22.7037,  35.2141,2,-999.0000,5,    214.2,1, 22.6883,   -999.0,9,  -999.00,9,  -999.00,9,  -999.00,9,  -999.0,-999.000
     33KB184_1,  PRS2,    13,  1,     14,   8029,2,20060810,2240, 22.9005,-158.5148, 4790,     76,     76.1,  22.7017,  35.2142,2,-999.0000,5,    214.0,1, 22.6863,   -999.0,9,  -999.00,9,  -999.00,9,  -999.00,9,  -999.0,-999.000
     33KB184_1,  PRS2,    13,  1,     10,   8052,2,20060810,2240, 22.9005,-158.5148, 4790,     76,     76.1,  22.7015,  35.2144,2,-999.0000,5,    213.3,1, 22.6862,   -999.0,9,  -999.00,9,  -999.00,9,  -999.00,9,  -999.0,-999.000
     33KB184_1,  PRS2,    13,  1,      8,   8035,2,20060810,2240, 22.9005,-158.5148, 4790,    120,    120.0,  21.7850,  35.2279,2,  35.2255,2,    204.0,1, 21.7614,   -999.0,9,  -999.00,9,  -999.00,9,  -999.00,9,  -999.0,-999.000
     33KB184_1,  PRS2,    13,  1,      4,   8038,2,20060810,2240, 22.9005,-158.5148, 4790,    120,    120.0,  21.7879,  35.2270,2,-999.0000,5,    203.7,1, 21.7643,   -999.0,9,  -999.00,9,  -999.00,9,  -999.00,9,  -999.0,-999.000
     33KB184_1,  PRS2,    13,  1,      6,   8048,2,20060810,2240, 22.9005,-158.5148, 4790,    120,    120.1,  21.7912,  35.2282,2,-999.0000,5,    203.7,1, 21.7676,   -999.0,9,  -999.00,9,  -999.00,9,  -999.00,9,  -999.0,-999.000
     33KB184_1,  PRS2,    13,  1,      5,   8037,2,20060810,2240, 22.9005,-158.5148, 4790,    120,    120.1,  21.7910,  35.2281,2,-999.0000,5,    203.7,1, 21.7673,   -999.0,9,  -999.00,9,  -999.00,9,  -999.00,9,  -999.0,-999.000
     33KB184_1,  PRS2,    13,  1,      3,   8054,2,20060810,2240, 22.9005,-158.5148, 4790,    119,    120.1,  21.7774,  35.2280,2,-999.0000,5,    203.6,1, 21.7538,   -999.0,9,  -999.00,9,  -999.00,9,  -999.00,9,  -999.0,-999.000
     33KB184_1,  PRS2,    13,  1,      7,   8046,2,20060810,2240, 22.9005,-158.5148, 4790,    120,    120.2,  21.7884,  35.2277,2,-999.0000,5,    203.8,1, 21.7648,   -999.0,9,  -999.00,9,  -999.00,9,  -999.00,9,  -999.0,-999.000
     33KB184_1,  PRS2,    13,  1,      2,   8053,2,20060810,2240, 22.9005,-158.5148, 4790,    500,    500.6,   7.2556,  34.1158,2,  34.1150,2,     93.2,1,  7.2074,   -999.0,9,  -999.00,9,  -999.00,9,  -999.00,9,  -999.0,-999.000
     33KB184_1,  PRS2,    13,  1,      1,   8027,2,20060810,2240, 22.9005,-158.5148, 4790,   1019,   1020.2,   3.9402,  34.4711,2,  34.4718,2,     40.0,1,  3.8634,   -999.0,9,  -999.00,9,  -999.00,9,  -999.00,9,  -999.0,-999.000