BOTTLE,20090923WHPSIOMYS
EXPOCODE,SECT_ID,STNNBR,CASTNO,SAMPNO,BTLNBR,BTLNBR_FLAG_W,DATE,TIME,LATITUDE,LONGITUDE,DEPTH,CTDRAW,CTDPRS,CTDTMP,CTDSAL,CTDSAL_FLAG_W,SALNTY,SALNTY_FLAG_W,CTDOXY,CTDOXY_FLAG_W,THETA,OXYGEN,OXYGEN_FLAG_W,SILCAT,SILCAT_FLAG_W,NO2+NO3,NO2+NO3_FLAG_W,PHSPHT,PHSPHT_FLAG_W,REVPRS,REVTMP
,,,,,,,,,,,,,DBAR,ITS-90,PSS-78,,PSS-78,,UMOL/KG,,ITS-90,UMOL/KG,,UMOL/KG,,UMOL/KG,,UMOL/KG,,DBAR,DEG C
     33KB184_1,  PRS2,    14,  1,     11,   8050,2,20060811,0040, 22.9503,-158.6863, 4757,     85,     85.4,  23.0325,  35.2164,2,-999.0000,5,    216.2,1, 23.0150,   -999.0,9,  -999.00,9,  -999.00,9,  -999.00,9,  -999.0,-999.000
     33KB184_1,  PRS2,    14,  1,      9,   8047,2,20060811,0040, 22.9503,-158.6863, 4757,     84,     85.4,  23.0263,  35.2160,2,-999.0000,5,    216.1,1, 23.0089,   -999.0,9,  -999.00,9,  -999.00,9,  -999.00,9,  -999.0,-999.000
     33KB184_1,  PRS2,    14,  1,     15,   8033,2,20060811,0040, 22.9503,-158.6863, 4757,     85,     85.5,  23.0386,  35.2167,2,-999.0000,5,    217.0,1, 23.0211,   -999.0,9,  -999.00,9,  -999.00,9,  -999.00,9,  -999.0,-999.000
     33KB184_1,  PRS2,    14,  1,     14,   8029,2,20060811,0040, 22.9503,-158.6863, 4757,     85,     85.5,  23.0388,  35.2165,2,-999.0000,5,    216.8,1, 23.0213,   -999.0,9,  -999.00,9,  -999.00,9,  -999.00,9,  -999.0,-999.000
     33KB184_1,  PRS2,    14,  1,     13,   8055,2,20060811,0040, 22.9503,-158.6863, 4757,     86,     85.5,  23.0381,  35.2163,2,-999.0000,5,    216.6,1, 23.0207,   -999.0,9,  -999.00,9,  -999.00,9,  -999.00,9,  -999.0,-999.000
     33KB184_1,  PRS2,    14,  1,     12,   8036,2,20060811,0040, 22.9503,-158.6863, 4757,     86,     85.5,  23.0376,  35.2163,2,-999.0000,5,    216.4,1, 23.0201,   -999.0,9,  -999.00,9,  -999.00,9,  -999.00,9,  -999.0,-999.000
     33KB184_1,  PRS2,    14,  1,     10,   8052,2,20060811,0040, 22.9503,-158.6863, 4757,     84,     85.5,  23.0279,  35.2157,2,-999.0000,5,    216.1,1, 23.0104,   -999.0,9,  -999.00,9,  -999.00,9,  -999.00,9,  -999.0,-999.000
     33KB184_1,  PRS2,    14,  1,      4,   8038,2,20060811,0040, 22.9503,-158.6863, 4757,    115,    115.0,  21.9895,  35.2397,2,-999.0000,5,    207.1,1, 21.9667,   -999.0,9,  -999.00,9,  -999.00,9,  -999.00,9,  -999.0,-999.000
     33KB184_1,  PRS2,    14,  1,      8,   8035,2,20060811,0040, 22.9503,-158.6863, 4757,    115,    115.1,  22.0154,  35.2412,2,-999.0000,5,    207.6,1, 21.9926,   -999.0,9,  -999.00,9,  -999.00,9,  -999.00,9,  -999.0,-999.000
     33KB184_1,  PRS2,    14,  1,      3,   8054,2,20060811,0040, 22.9503,-158.6863, 4757,    115,    115.1,  21.9770,  35.2391,2,  35.2416,2,    206.9,1, 21.9543,   -999.0,9,  -999.00,9,  -999.00,9,  -999.00,9,  -999.0,-999.000
     33KB184_1,  PRS2,    14,  1,      7,   8046,2,20060811,0040, 22.9503,-158.6863, 4757,    115,    115.2,  22.0115,  35.2407,2,-999.0000,5,    207.5,1, 21.9887,   -999.0,9,  -999.00,9,  -999.00,9,  -999.00,9,  -999.0,-999.000
     33KB184_1,  PRS2,    14,  1,      6,   8048,2,20060811,0040, 22.9503,-158.6863, 4757,    115,    115.2,  22.0020,  35.2404,2,-999.0000,5,    207.4,1, 21.9792,   -999.0,9,  -999.00,9,  -999.00,9,  -999.00,9,  -999.0,-999.000
     33KB184_1,  PRS2,    14,  1,      5,   8037,2,20060811,0040, 22.9503,-158.6863, 4757,    116,    115.2,  21.9953,  35.2399,2,-999.0000,5,    207.3,1, 21.9725,   -999.0,9,  -999.00,9,  -999.00,9,  -999.00,9,  -999.0,-999.000
     33KB184_1,  PRS2,    14,  1,      2,   8053,2,20060811,0040, 22.9503,-158.6863, 4757,    449,    449.7,   8.5461,  34.1035,2,  34.1042,2,    140.0,1,  8.4986,   -999.0,9,  -999.00,9,  -999.00,9,  -999.00,9,  -999.0,-999.000
     33KB184_1,  PRS2,    14,  1,      1,   8027,2,20060811,0040, 22.9503,-158.6863, 4757,   1020,   1020.2,   3.9681,  34.4430,2,  34.4410,2,     35.4,1,  3.8911,   -999.0,9,  -999.00,9,  -999.00,9,  -999.00,9,  -999.0,-999.000
     33KB184_1,  PRS2,    15,  1,      9,   8047,2,20060811,0345, 23.0008,-158.8575, 4761,     89,     89.2,  23.0979,  35.2101,2,  35.2079,2,    218.2,1, 23.0796,   -999.0,9,  -999.00,9,  -999.00,9,  -999.00,9,  -999.0,-999.000
     33KB184_1,  PRS2,    15,  1,     13,   8055,2,20060811,0345, 23.0008,-158.8575, 4761,     89,     89.3,  23.1020,  35.2098,2,-999.0000,5,    218.2,1, 23.0837,   -999.0,9,  -999.00,9,  -999.00,9,  -999.00,9,  -999.0,-999.000
     33KB184_1,  PRS2,    15,  1,     11,   8050,2,20060811,0345, 23.0008,-158.8575, 4761,     89,     89.3,  23.0984,  35.2098,2,-999.0000,5,    218.2,1, 23.0801,   -999.0,9,  -999.00,9,  -999.00,9,  -999.00,9,  -999.0,-999.000
     33KB184_1,  PRS2,    15,  1,     10,   8052,2,20060811,0345, 23.0008,-158.8575, 4761,     89,     89.3,  23.0976,  35.2099,2,-999.0000,5,    218.2,1, 23.0793,   -999.0,9,  -999.00,9,  -999.00,9,  -999.00,9,  -999.0,-999.000
     33KB184_1,  PRS2,    15,  1,     14,   8029,2,20060811,0345, 23.0008,-158.8575, 4761,     89,     89.4,  23.1053,  35.2094,2,-999.0000,5,    218.2,1, 23.0869,   -999.0,9,  -999.00,9,  -999.00,9,  -999.00,9,  -999.0,-999.000
     33KB184_1,  PRS2,    15,  1,     12,   8036,2,20060811,0345, 23.0008,-158.8575, 4761,     89,     89.4,  23.0995,  35.2098,2,-999.0000,5,    218.2,1, 23.0812,   -999.0,9,  -999.00,9,  -999.00,9,  -999.00,9,  -999.0,-999.000
     33KB184_1,  PRS2,    15,  1,      7,   8046,2,20060811,0345, 23.0008,-158.8575, 4761,    131,    130.8,  21.6327,  35.2269,2,-999.0000,5,    204.4,1, 21.6071,   -999.0,9,  -999.00,9,  -999.00,9,  -999.00,9,  -999.0,-999.000
     33KB184_1,  PRS2,    15,  1,      4,   8038,2,20060811,0345, 23.0008,-158.8575, 4761,    131,    130.8,  21.6148,  35.2256,2,-999.0000,5,    204.2,1, 21.5892,   -999.0,9,  -999.00,9,  -999.00,9,  -999.00,9,  -999.0,-999.000
     33KB184_1,  PRS2,    15,  1,      3,   8054,2,20060811,0345, 23.0008,-158.8575, 4761,    131,    130.8,  21.6101,  35.2247,2,  35.2225,2,    204.1,1, 21.5846,   -999.0,9,  -999.00,9,  -999.00,9,  -999.00,9,  -999.0,-999.000
     33KB184_1,  PRS2,    15,  1,      8,   8035,2,20060811,0345, 23.0008,-158.8575, 4761,    130,    130.9,  21.6329,  35.2265,2,-999.0000,5,    204.4,1, 21.6073,   -999.0,9,  -999.00,9,  -999.00,9,  -999.00,9,  -999.0,-999.000
     33KB184_1,  PRS2,    15,  1,      6,   8048,2,20060811,0345, 23.0008,-158.8575, 4761,    131,    130.9,  21.6288,  35.2262,2,-999.0000,5,    204.4,1, 21.6032,   -999.0,9,  -999.00,9,  -999.00,9,  -999.00,9,  -999.0,-999.000
     33KB184_1,  PRS2,    15,  1,      5,   8037,2,20060811,0345, 23.0008,-158.8575, 4761,    131,    130.9,  21.6228,  35.2261,2,-999.0000,5,    204.4,1, 21.5972,   -999.0,9,  -999.00,9,  -999.00,9,  -999.00,9,  -999.0,-999.000
     33KB184_1,  PRS2,    15,  1,      2,   8053,2,20060811,0345, 23.0008,-158.8575, 4761,    520,    520.2,   7.4144,  34.0966,2,  34.0968,2,    107.0,1,  7.3637,   -999.0,9,  -999.00,9,  -999.00,9,  -999.00,9,  -999.0,-999.000
     33KB184_1,  PRS2,    15,  1,      1,   8027,2,20060811,0345, 23.0008,-158.8575, 4761,   1022,   1021.8,   3.8830,  34.4637,2,  34.4630,2,     39.3,1,  3.8065,   -999.0,9,  -999.00,9,  -999.00,9,  -999.00,9,  -999.0,-999.000
     33KB184_1,  PRS2,    50,  1,      3,   8054,2,20060810,1109, 22.7670,-157.9247, 4708,     10,      9.9,  26.3193,  34.9068,2,-999.0000,5,    203.2,1, 26.3171,   -999.0,9,  -999.00,9,  -999.00,9,  -999.00,9,  -999.0,-999.000
     33KB184_1,  PRS2,    50,  1,      2,   8053,2,20060810,1109, 22.7670,-157.9247, 4708,     10,      9.9,  26.3194,  34.9068,2,  34.9042,2,    203.2,1, 26.3172,   -999.0,9,  -999.00,9,  -999.00,9,  -999.00,9,  -999.0,-999.000
     33KB184_1,  PRS2,    50,  1,      5,   8037,2,20060810,1109, 22.7670,-157.9247, 4708,      9,     10.1,  26.3185,  34.9067,2,-999.0000,5,    203.2,1, 26.3162,   -999.0,9,  -999.00,9,  -999.00,9,  -999.00,9,  -999.0,-999.000
     33KB184_1,  PRS2,    50,  1,      4,   8038,2,20060810,1109, 22.7670,-157.9247, 4708,     10,     10.1,  26.3193,  34.9068,2,-999.0000,5,    203.2,1, 26.3171,   -999.0,9,  -999.00,9,  -999.00,9,  -999.00,9,  -999.0,-999.000
     33KB184_1,  PRS2,    50,  1,      1,   8027,2,20060810,1109, 22.7670,-157.9247, 4708,    205,    205.5,  16.9835,  34.6786,2,  34.6783,2,    193.5,1, 16.9497,   -999.0,9,  -999.00,9,  -999.00,9,  -999.00,9,  -999.0,-999.000