BOTTLE,20090923WHPSIOMYS
EXPOCODE,SECT_ID,STNNBR,CASTNO,SAMPNO,BTLNBR,BTLNBR_FLAG_W,DATE,TIME,LATITUDE,LONGITUDE,DEPTH,CTDRAW,CTDPRS,CTDTMP,CTDSAL,CTDSAL_FLAG_W,SALNTY,SALNTY_FLAG_W,CTDOXY,CTDOXY_FLAG_W,THETA,OXYGEN,OXYGEN_FLAG_W,SILCAT,SILCAT_FLAG_W,NO2+NO3,NO2+NO3_FLAG_W,PHSPHT,PHSPHT_FLAG_W,REVPRS,REVTMP
,,,,,,,,,,,,,DBAR,ITS-90,PSS-78,,PSS-78,,UMOL/KG,,ITS-90,UMOL/KG,,UMOL/KG,,UMOL/KG,,UMOL/KG,,DBAR,DEG C
     33KB184_1,  PRS2,     2, 10,     24,   8030,2,20060809,1201, 22.7477,-157.9710, 4754,      7,      8.0,  26.2978,  34.8703,2,  34.8727,2,    203.7,1, 26.2960,   -999.0,9,  -999.00,9,  -999.00,9,  -999.00,9,  -999.0,-999.000
     33KB184_1,  PRS2,     2, 10,     23,   8039,2,20060809,1201, 22.7477,-157.9710, 4754,      7,      8.3,  26.2980,  34.8702,2,  34.8721,2,    203.7,1, 26.2962,   -999.0,9,  -999.00,9,  -999.00,9,  -999.00,9,  -999.0,-999.000
     33KB184_1,  PRS2,     2, 10,     22,   8058,2,20060809,1201, 22.7477,-157.9710, 4754,      8,      8.4,  26.2982,  34.8701,2,  34.8692,2,    203.6,1, 26.2963,   -999.0,9,  -999.00,9,  -999.00,9,  -999.00,9,  -999.0,-999.000
     33KB184_1,  PRS2,     2, 10,     21,   8052,2,20060809,1201, 22.7477,-157.9710, 4754,     25,     25.1,  26.3071,  34.8709,2,  34.8717,2,    203.6,1, 26.3015,   -999.0,9,  -999.00,9,  -999.00,9,  -999.00,9,  -999.0,-999.000
     33KB184_1,  PRS2,     2, 10,     20,   8049,2,20060809,1201, 22.7477,-157.9710, 4754,     25,     25.1,  26.3077,  34.8704,2,  34.8821,3,    203.6,1, 26.3021,   -999.0,9,  -999.00,9,  -999.00,9,  -999.00,9,  -999.0,-999.000
     33KB184_1,  PRS2,     2, 10,     19,   8043,2,20060809,1201, 22.7477,-157.9710, 4754,     24,     25.1,  26.3086,  34.8702,2,  34.8849,4,    203.7,1, 26.3029,   -999.0,9,  -999.00,9,  -999.00,9,  -999.00,9,  -999.0,-999.000
     33KB184_1,  PRS2,     2, 10,     18,   8045,2,20060809,1201, 22.7477,-157.9710, 4754,     44,     44.8,  25.6010,  35.1528,2,  35.1506,2,    212.5,1, 25.5911,   -999.0,9,  -999.00,9,  -999.00,9,  -999.00,9,  -999.0,-999.000
     33KB184_1,  PRS2,     2, 10,     17,   8007,2,20060809,1201, 22.7477,-157.9710, 4754,     44,     45.0,  25.5886,  35.1508,2,  35.1514,2,    212.8,1, 25.5786,   -999.0,9,  -999.00,9,  -999.00,9,  -999.00,9,  -999.0,-999.000
     33KB184_1,  PRS2,     2, 10,     16,   8034,2,20060809,1201, 22.7477,-157.9710, 4754,     45,     45.0,  25.5886,  35.1508,2,  35.1591,2,    213.2,1, 25.5786,   -999.0,9,  -999.00,9,  -999.00,9,  -999.00,9,  -999.0,-999.000
     33KB184_1,  PRS2,     2, 10,     13,   8055,2,20060809,1201, 22.7477,-157.9710, 4754,     74,     75.3,  23.4340,  35.1918,2,  35.1930,2,    220.2,1, 23.4184,   -999.0,9,  -999.00,9,  -999.00,9,  -999.00,9,  -999.0,-999.000
     33KB184_1,  PRS2,     2, 10,     15,   8033,2,20060809,1201, 22.7477,-157.9710, 4754,     75,     75.4,  23.4330,  35.1923,2,  35.1920,2,    220.2,1, 23.4174,   -999.0,9,  -999.00,9,  -999.00,9,  -999.00,9,  -999.0,-999.000
     33KB184_1,  PRS2,     2, 10,     14,   8029,2,20060809,1201, 22.7477,-157.9710, 4754,     76,     75.6,  23.4317,  35.1925,2,  35.1920,2,    220.2,1, 23.4161,   -999.0,9,  -999.00,9,  -999.00,9,  -999.00,9,  -999.0,-999.000
     33KB184_1,  PRS2,     2, 10,     10,   8052,2,20060809,1201, 22.7477,-157.9710, 4754,    101,    101.3,  22.6464,  35.2182,2,  35.2178,2,    213.7,1, 22.6259,   -999.0,9,  -999.00,9,  -999.00,9,  -999.00,9,  -999.0,-999.000
     33KB184_1,  PRS2,     2, 10,     12,   8036,2,20060809,1201, 22.7477,-157.9710, 4754,    101,    101.4,  22.6438,  35.2184,2,  35.2211,2,    213.6,1, 22.6233,   -999.0,9,  -999.00,9,  -999.00,9,  -999.00,9,  -999.0,-999.000
     33KB184_1,  PRS2,     2, 10,     11,   8050,2,20060809,1201, 22.7477,-157.9710, 4754,    101,    101.5,  22.6463,  35.2182,2,  35.2170,2,    213.6,1, 22.6258,   -999.0,9,  -999.00,9,  -999.00,9,  -999.00,9,  -999.0,-999.000
     33KB184_1,  PRS2,     2, 10,      9,   8047,2,20060809,1201, 22.7477,-157.9710, 4754,    125,    125.5,  21.6320,  35.2173,2,  35.2203,2,    204.8,1, 21.6075,   -999.0,9,  -999.00,9,  -999.00,9,  -999.00,9,  -999.0,-999.000
     33KB184_1,  PRS2,     2, 10,      8,   8035,2,20060809,1201, 22.7477,-157.9710, 4754,    125,    125.6,  21.6301,  35.2183,2,  35.2190,2,    204.8,1, 21.6056,   -999.0,9,  -999.00,9,  -999.00,9,  -999.00,9,  -999.0,-999.000
     33KB184_1,  PRS2,     2, 10,      7,   8046,2,20060809,1201, 22.7477,-157.9710, 4754,    127,    125.7,  21.6305,  35.2183,2,  35.2166,2,    204.7,1, 21.6059,   -999.0,9,  -999.00,9,  -999.00,9,  -999.00,9,  -999.0,-999.000
     33KB184_1,  PRS2,     2, 10,      6,   8048,2,20060809,1201, 22.7477,-157.9710, 4754,    150,    150.1,  20.3669,  35.1006,2,  35.1026,2,    194.4,1, 20.3388,   -999.0,9,  -999.00,9,  -999.00,9,  -999.00,9,  -999.0,-999.000
     33KB184_1,  PRS2,     2, 10,      5,   8037,2,20060809,1201, 22.7477,-157.9710, 4754,    175,    175.1,  19.6809,  35.0248,2,  35.0242,2,    195.5,1, 19.6489,   -999.0,9,  -999.00,9,  -999.00,9,  -999.00,9,  -999.0,-999.000
     33KB184_1,  PRS2,     2, 10,      4,   8038,2,20060809,1201, 22.7477,-157.9710, 4754,    488,    489.6,   7.6208,  34.1008,2,  34.1064,2,    109.6,1,  7.5724,   -999.0,9,  -999.00,9,  -999.00,9,  -999.00,9,  -999.0,-999.000
     33KB184_1,  PRS2,     2, 10,      2,   8053,2,20060809,1201, 22.7477,-157.9710, 4754,    751,    751.3,   5.2142,  34.3837,2,-999.0000,5,     29.7,1,  5.1519,   -999.0,9,  -999.00,9,  -999.00,9,  -999.00,9,  -999.0,-999.000
     33KB184_1,  PRS2,     2, 10,      3,   8054,2,20060809,1201, 22.7477,-157.9710, 4754,    752,    751.4,   5.2141,  34.3835,2,-999.0000,5,     29.7,1,  5.1518,   -999.0,9,  -999.00,9,  -999.00,9,  -999.00,9,  -999.0,-999.000
     33KB184_1,  PRS2,     2, 10,      1,   8027,2,20060809,1201, 22.7477,-157.9710, 4754,   1019,   1020.7,   3.9986,  34.4752,2,  34.4758,2,     44.2,1,  3.9213,   -999.0,9,  -999.00,9,  -999.00,9,  -999.00,9,  -999.0,-999.000
     33KB184_1,  PRS2,     2, 11,      4,   8038,2,20060809,1420, 22.7468,-157.9728, 4754,     25,     26.4,  26.2994,  34.8710,2,  34.8701,2,    202.9,1, 26.2935,   -999.0,9,  -999.00,9,  -999.00,9,  -999.00,9,  -999.0,-999.000
     33KB184_1,  PRS2,     2, 11,      3,   8054,2,20060809,1420, 22.7468,-157.9728, 4754,    110,    110.4,  22.7196,  35.2142,2,  35.2162,2,    214.2,1, 22.6972,   -999.0,9,  -999.00,9,  -999.00,9,  -999.00,9,  -999.0,-999.000
     33KB184_1,  PRS2,     2, 11,      2,   8053,2,20060809,1420, 22.7468,-157.9728, 4754,    499,    499.6,   7.3744,  34.1030,2,  34.1019,2,    100.1,1,  7.3258,   -999.0,9,  -999.00,9,  -999.00,9,  -999.00,9,  -999.0,-999.000
     33KB184_1,  PRS2,     2, 11,      1,   8027,2,20060809,1420, 22.7468,-157.9728, 4754,   1020,   1019.9,   4.1216,  34.4624,2,  34.4618,2,     42.0,1,  4.0434,   -999.0,9,  -999.00,9,  -999.00,9,  -999.00,9,  -999.0,-999.000
     33KB184_1,  PRS2,     2, 12,     10,   8052,2,20060809,1757, 22.7787,-157.9157, 4754,      6,      6.5,  26.2878,  34.8727,2,-999.0000,5,    203.1,1, 26.2863,   -999.0,9,  -999.00,9,  -999.00,9,  -999.00,9,  -999.0,-999.000
     33KB184_1,  PRS2,     2, 12,      9,   8047,2,20060809,1757, 22.7787,-157.9157, 4754,     24,     25.6,  26.2898,  34.8725,2,  34.8709,2,    203.1,1, 26.2841,   -999.0,9,  -999.00,9,  -999.00,9,  -999.00,9,  -999.0,-999.000
     33KB184_1,  PRS2,     2, 12,      8,   8035,2,20060809,1757, 22.7787,-157.9157, 4754,     45,     45.9,  26.2424,  34.9306,2,-999.0000,5,    203.3,1, 26.2321,   -999.0,9,  -999.00,9,  -999.00,9,  -999.00,9,  -999.0,-999.000
     33KB184_1,  PRS2,     2, 12,      7,   8046,2,20060809,1757, 22.7787,-157.9157, 4754,     75,     75.4,  23.5034,  35.2020,2,-999.0000,5,    219.4,1, 23.4878,   -999.0,9,  -999.00,9,  -999.00,9,  -999.00,9,  -999.0,-999.000
     33KB184_1,  PRS2,     2, 12,      6,   8048,2,20060809,1757, 22.7787,-157.9157, 4754,    100,     99.9,  22.8439,  35.2154,2,-999.0000,5,    215.7,1, 22.8236,   -999.0,9,  -999.00,9,  -999.00,9,  -999.00,9,  -999.0,-999.000
     33KB184_1,  PRS2,     2, 12,      5,   8037,2,20060809,1757, 22.7787,-157.9157, 4754,    124,    124.4,  22.1875,  35.2237,2,  35.2227,2,    209.0,1, 22.1627,   -999.0,9,  -999.00,9,  -999.00,9,  -999.00,9,  -999.0,-999.000
     33KB184_1,  PRS2,     2, 12,      4,   8038,2,20060809,1757, 22.7787,-157.9157, 4754,    150,    150.4,  21.3002,  35.1975,2,-999.0000,5,    198.7,1, 21.2711,   -999.0,9,  -999.00,9,  -999.00,9,  -999.00,9,  -999.0,-999.000
     33KB184_1,  PRS2,     2, 12,      3,   8054,2,20060809,1757, 22.7787,-157.9157, 4754,    175,    176.1,  19.6989,  35.0303,2,-999.0000,5,    194.8,1, 19.6667,   -999.0,9,  -999.00,9,  -999.00,9,  -999.00,9,  -999.0,-999.000
     33KB184_1,  PRS2,     2, 12,      2,   8053,2,20060809,1757, 22.7787,-157.9157, 4754,    502,    501.9,   7.1477,  34.0649,2,  34.0642,2,    108.7,1,  7.0998,   -999.0,9,  -999.00,9,  -999.00,9,  -999.00,9,  -999.0,-999.000
     33KB184_1,  PRS2,     2, 12,      1,   8027,2,20060809,1757, 22.7787,-157.9157, 4754,   1021,   1020.7,   4.1222,  34.4637,2,  34.4620,2,     41.8,1,  4.0439,   -999.0,9,  -999.00,9,  -999.00,9,  -999.00,9,  -999.0,-999.000
     33KB184_1,  PRS2,     2, 13,     22,   8058,2,20060809,2100, 22.7523,-157.9648, 4754,      5,      6.6,  26.3430,  34.8856,2,  34.8843,2,    203.7,1, 26.3415,   -999.0,9,  -999.00,9,  -999.00,9,  -999.00,9,  -999.0,-999.000
     33KB184_1,  PRS2,     2, 13,     21,   8052,2,20060809,2100, 22.7523,-157.9648, 4754,     25,     25.3,  26.3069,  34.8905,2,  34.8896,2,    203.3,1, 26.3012,   -999.0,9,  -999.00,9,  -999.00,9,  -999.00,9,  -999.0,-999.000
     33KB184_1,  PRS2,     2, 13,     13,   8055,2,20060809,2100, 22.7523,-157.9648, 4754,     30,     30.4,  26.0303,  35.0990,2,-999.0000,5,    211.1,1, 26.0235,   -999.0,9,  -999.00,9,  -999.00,9,  -999.00,9,  -999.0,-999.000
     33KB184_1,  PRS2,     2, 13,     17,   8007,2,20060809,2100, 22.7523,-157.9648, 4754,     30,     30.6,  26.0566,  35.0866,2,-999.0000,5,    209.3,1, 26.0498,   -999.0,9,  -999.00,9,  -999.00,9,  -999.00,9,  -999.0,-999.000
     33KB184_1,  PRS2,     2, 13,     18,   8045,3,20060809,2100, 22.7523,-157.9648, 4754,     31,     30.7,  26.0639,  35.0838,2,-999.0000,5,    208.8,1, 26.0571,   -999.0,9,  -999.00,9,  -999.00,9,  -999.00,9,  -999.0,-999.000
     33KB184_1,  PRS2,     2, 13,     16,   8034,2,20060809,2100, 22.7523,-157.9648, 4754,     30,     30.7,  26.0542,  35.0865,2,-999.0000,5,    209.8,1, 26.0473,   -999.0,9,  -999.00,9,  -999.00,9,  -999.00,9,  -999.0,-999.000
     33KB184_1,  PRS2,     2, 13,     14,   8029,2,20060809,2100, 22.7523,-157.9648, 4754,     31,     30.7,  26.0342,  35.0973,2,-999.0000,5,    210.8,1, 26.0274,   -999.0,9,  -999.00,9,  -999.00,9,  -999.00,9,  -999.0,-999.000
     33KB184_1,  PRS2,     2, 13,     20,   8049,2,20060809,2100, 22.7523,-157.9648, 4754,     30,     30.8,  26.0676,  35.0830,2,-999.0000,5,    208.2,1, 26.0607,   -999.0,9,  -999.00,9,  -999.00,9,  -999.00,9,  -999.0,-999.000
     33KB184_1,  PRS2,     2, 13,     15,   8033,2,20060809,2100, 22.7523,-157.9648, 4754,     31,     30.8,  26.0466,  35.0888,2,-999.0000,5,    210.3,1, 26.0397,   -999.0,9,  -999.00,9,  -999.00,9,  -999.00,9,  -999.0,-999.000
     33KB184_1,  PRS2,     2, 13,     19,   8043,2,20060809,2100, 22.7523,-157.9648, 4754,     31,     30.9,  26.0581,  35.0855,2,-999.0000,5,    208.4,1, 26.0512,   -999.0,9,  -999.00,9,  -999.00,9,  -999.00,9,  -999.0,-999.000
     33KB184_1,  PRS2,     2, 13,     12,   8036,2,20060809,2100, 22.7523,-157.9648, 4754,     46,     45.7,  23.8143,  35.1679,2,  35.1715,2,    221.3,1, 23.8047,   -999.0,9,  -999.00,9,  -999.00,9,  -999.00,9,  -999.0,-999.000
     33KB184_1,  PRS2,     2, 13,     11,   8050,2,20060809,2100, 22.7523,-157.9648, 4754,     60,     60.5,  23.1647,  35.2050,2,  35.2054,2,    218.1,1, 23.1523,   -999.0,9,  -999.00,9,  -999.00,9,  -999.00,9,  -999.0,-999.000
     33KB184_1,  PRS2,     2, 13,     10,   8052,2,20060809,2100, 22.7523,-157.9648, 4754,     75,     75.1,  22.6581,  35.2177,2,  35.2201,2,    215.2,1, 22.6429,   -999.0,9,  -999.00,9,  -999.00,9,  -999.00,9,  -999.0,-999.000
     33KB184_1,  PRS2,     2, 13,      9,   8047,2,20060809,2100, 22.7523,-157.9648, 4754,     84,     85.0,  22.5188,  35.2257,2,  35.2288,2,    213.3,1, 22.5017,   -999.0,9,  -999.00,9,  -999.00,9,  -999.00,9,  -999.0,-999.000
     33KB184_1,  PRS2,     2, 13,      8,   8035,2,20060809,2100, 22.7523,-157.9648, 4754,    100,    100.1,  22.0236,  35.2462,2,  35.2499,2,    208.4,1, 22.0038,   -999.0,9,  -999.00,9,  -999.00,9,  -999.00,9,  -999.0,-999.000
     33KB184_1,  PRS2,     2, 13,      7,   8046,2,20060809,2100, 22.7523,-157.9648, 4754,    116,    116.0,  21.6076,  35.2147,2,  35.2075,2,    204.7,1, 21.5850,   -999.0,9,  -999.00,9,  -999.00,9,  -999.00,9,  -999.0,-999.000
     33KB184_1,  PRS2,     2, 13,      6,   8048,2,20060809,2100, 22.7523,-157.9648, 4754,    125,    125.5,  21.0167,  35.1744,2,  35.1731,2,    198.1,1, 20.9927,   -999.0,9,  -999.00,9,  -999.00,9,  -999.00,9,  -999.0,-999.000
     33KB184_1,  PRS2,     2, 13,      5,   8037,2,20060809,2100, 22.7523,-157.9648, 4754,    151,    150.5,  20.0035,  35.0680,2,  35.0728,2,    195.0,1, 19.9757,   -999.0,9,  -999.00,9,  -999.00,9,  -999.00,9,  -999.0,-999.000
     33KB184_1,  PRS2,     2, 13,      4,   8038,2,20060809,2100, 22.7523,-157.9648, 4754,    177,    176.2,  18.8701,  34.9217,2,  34.9217,2,    193.9,1, 18.8389,   -999.0,9,  -999.00,9,  -999.00,9,  -999.00,9,  -999.0,-999.000
     33KB184_1,  PRS2,     2, 13,      3,   8054,2,20060809,2100, 22.7523,-157.9648, 4754,    201,    201.9,  17.4248,  34.7314,2,  34.7429,2,    192.7,1, 17.3909,   -999.0,9,  -999.00,9,  -999.00,9,  -999.00,9,  -999.0,-999.000
     33KB184_1,  PRS2,     2, 13,      2,   8053,2,20060809,2100, 22.7523,-157.9648, 4754,    490,    490.3,   7.3660,  34.1044,2,  34.1040,2,     98.8,1,  7.3184,   -999.0,9,  -999.00,9,  -999.00,9,  -999.00,9,  -999.0,-999.000
     33KB184_1,  PRS2,     2, 13,      1,   8027,2,20060809,2100, 22.7523,-157.9648, 4754,   1021,   1020.9,   4.0563,  34.4689,2,  34.4691,2,     42.9,1,  3.9785,   -999.0,9,  -999.00,9,  -999.00,9,  -999.00,9,  -999.0,-999.000
     33KB184_1,  PRS2,     2, 14,     24,   8030,2,20060809,2354, 22.7537,-157.9648, 4754,      6,      6.5,  26.4039,  34.8957,2,  34.8959,2,    203.4,1, 26.4024,   -999.0,9,  -999.00,9,  -999.00,9,  -999.00,9,  -999.0,-999.000
     33KB184_1,  PRS2,     2, 14,     23,   8039,2,20060809,2354, 22.7537,-157.9648, 4754,     25,     25.4,  26.3804,  34.8962,2,  34.8953,2,    203.6,1, 26.3746,   -999.0,9,  -999.00,9,  -999.00,9,  -999.00,9,  -999.0,-999.000
     33KB184_1,  PRS2,     2, 14,     22,   8058,2,20060809,2354, 22.7537,-157.9648, 4754,     29,     30.0,  26.3838,  34.8961,2,-999.0000,5,    203.6,1, 26.3771,   -999.0,9,  -999.00,9,  -999.00,9,  -999.00,9,  -999.0,-999.000
     33KB184_1,  PRS2,     2, 14,     13,   8055,2,20060809,2354, 22.7537,-157.9648, 4754,     30,     30.0,  26.3790,  34.8959,2,-999.0000,5,    203.3,1, 26.3722,   -999.0,9,  -999.00,9,  -999.00,9,  -999.00,9,  -999.0,-999.000
     33KB184_1,  PRS2,     2, 14,     21,   8052,2,20060809,2354, 22.7537,-157.9648, 4754,     30,     30.1,  26.3857,  34.8958,2,-999.0000,5,    203.6,1, 26.3790,   -999.0,9,  -999.00,9,  -999.00,9,  -999.00,9,  -999.0,-999.000
     33KB184_1,  PRS2,     2, 14,     20,   8049,2,20060809,2354, 22.7537,-157.9648, 4754,     30,     30.1,  26.3858,  34.8957,2,-999.0000,5,    203.5,1, 26.3790,   -999.0,9,  -999.00,9,  -999.00,9,  -999.00,9,  -999.0,-999.000
     33KB184_1,  PRS2,     2, 14,     19,   8043,2,20060809,2354, 22.7537,-157.9648, 4754,     30,     30.1,  26.3875,  34.8957,2,-999.0000,5,    203.4,1, 26.3807,   -999.0,9,  -999.00,9,  -999.00,9,  -999.00,9,  -999.0,-999.000
     33KB184_1,  PRS2,     2, 14,     18,   8045,2,20060809,2354, 22.7537,-157.9648, 4754,     30,     30.2,  26.3863,  34.8957,2,-999.0000,5,    203.4,1, 26.3795,   -999.0,9,  -999.00,9,  -999.00,9,  -999.00,9,  -999.0,-999.000
     33KB184_1,  PRS2,     2, 14,     17,   8007,2,20060809,2354, 22.7537,-157.9648, 4754,     30,     30.2,  26.3854,  34.8959,2,-999.0000,5,    203.4,1, 26.3786,   -999.0,9,  -999.00,9,  -999.00,9,  -999.00,9,  -999.0,-999.000
     33KB184_1,  PRS2,     2, 14,     16,   8034,2,20060809,2354, 22.7537,-157.9648, 4754,     30,     30.2,  26.3848,  34.8958,2,-999.0000,5,    203.4,1, 26.3779,   -999.0,9,  -999.00,9,  -999.00,9,  -999.00,9,  -999.0,-999.000
     33KB184_1,  PRS2,     2, 14,     15,   8033,2,20060809,2354, 22.7537,-157.9648, 4754,     30,     30.2,  26.3834,  34.8957,2,-999.0000,5,    203.4,1, 26.3766,   -999.0,9,  -999.00,9,  -999.00,9,  -999.00,9,  -999.0,-999.000
     33KB184_1,  PRS2,     2, 14,     14,   8029,2,20060809,2354, 22.7537,-157.9648, 4754,     30,     30.2,  26.3812,  34.8959,2,-999.0000,5,    203.3,1, 26.3744,   -999.0,9,  -999.00,9,  -999.00,9,  -999.00,9,  -999.0,-999.000
     33KB184_1,  PRS2,     2, 14,     12,   8036,2,20060809,2354, 22.7537,-157.9648, 4754,     44,     45.0,  26.0992,  35.0507,2,  35.0894,3,    207.3,1, 26.0891,   -999.0,9,  -999.00,9,  -999.00,9,  -999.00,9,  -999.0,-999.000
     33KB184_1,  PRS2,     2, 14,     11,   8050,2,20060809,2354, 22.7537,-157.9648, 4754,     75,     75.7,  23.5190,  35.1841,2,  35.1849,2,    220.1,1, 23.5033,   -999.0,9,  -999.00,9,  -999.00,9,  -999.00,9,  -999.0,-999.000
     33KB184_1,  PRS2,     2, 14,     10,   8052,2,20060809,2354, 22.7537,-157.9648, 4754,    100,    100.9,  22.7414,  35.2177,2,  35.2180,2,    214.0,1, 22.7210,   -999.0,9,  -999.00,9,  -999.00,9,  -999.00,9,  -999.0,-999.000
     33KB184_1,  PRS2,     2, 14,      9,   8047,2,20060809,2354, 22.7537,-157.9648, 4754,    125,    125.5,  22.0462,  35.2419,2,  35.2406,2,    208.9,1, 22.0213,   -999.0,9,  -999.00,9,  -999.00,9,  -999.00,9,  -999.0,-999.000
     33KB184_1,  PRS2,     2, 14,      8,   8035,2,20060809,2354, 22.7537,-157.9648, 4754,    150,    150.1,  21.1561,  35.1833,2,  35.1634,3,    198.9,1, 21.1272,   -999.0,9,  -999.00,9,  -999.00,9,  -999.00,9,  -999.0,-999.000
     33KB184_1,  PRS2,     2, 14,      7,   8046,2,20060809,2354, 22.7537,-157.9648, 4754,    175,    175.0,  19.6564,  35.0210,2,  35.0008,3,    194.2,1, 19.6244,   -999.0,9,  -999.00,9,  -999.00,9,  -999.00,9,  -999.0,-999.000
     33KB184_1,  PRS2,     2, 14,      6,   8048,2,20060809,2354, 22.7537,-157.9648, 4754,    200,    200.5,  17.8745,  34.7940,2,  34.7895,2,    193.7,1, 17.8403,   -999.0,9,  -999.00,9,  -999.00,9,  -999.00,9,  -999.0,-999.000
     33KB184_1,  PRS2,     2, 14,      5,   8037,2,20060809,2354, 22.7537,-157.9648, 4754,    251,    251.2,  14.6972,  34.4070,2,  34.4080,2,    194.3,1, 14.6598,   -999.0,9,  -999.00,9,  -999.00,9,  -999.00,9,  -999.0,-999.000
     33KB184_1,  PRS2,     2, 14,      4,   8038,2,20060809,2354, 22.7537,-157.9648, 4754,    350,    350.3,  11.1391,  34.1656,2,-999.0000,5,    193.2,1, 11.0957,   -999.0,9,  -999.00,9,  -999.00,9,  -999.00,9,  -999.0,-999.000
     33KB184_1,  PRS2,     2, 14,      3,   8054,2,20060809,2354, 22.7537,-157.9648, 4754,    350,    350.4,  11.1252,  34.1645,2,  34.1701,2,    193.1,1, 11.0818,   -999.0,9,  -999.00,9,  -999.00,9,  -999.00,9,  -999.0,-999.000
     33KB184_1,  PRS2,     2, 14,      2,   8053,2,20060809,2354, 22.7537,-157.9648, 4754,    490,    491.2,   7.6085,  34.1148,2,  34.1136,2,    102.1,1,  7.5599,   -999.0,9,  -999.00,9,  -999.00,9,  -999.00,9,  -999.0,-999.000
     33KB184_1,  PRS2,     2, 14,      1,   8027,2,20060809,2354, 22.7537,-157.9648, 4754,   1017,   1019.0,   4.0129,  34.4725,2,  34.4718,2,     42.4,1,  3.9356,   -999.0,9,  -999.00,9,  -999.00,9,  -999.00,9,  -999.0,-999.000