BOTTLE,20100303CCHDOSIOCBG
#code : Justin Fields hyd_to_exchange.rb 
#original files copied from HTML directory: 2010-03-03
#original HYD file: kess_33RR20050617hy.txt  2010-03-03
#original SUM file: kess_33RR20050617su.txt  2010-02-10
EXPOCODE,SECT_ID,STNNBR,CASTNO,SAMPNO,BTLNBR,BTLNBR_FLAG_W,DATE,TIME,LATITUDE,LONGITUDE,DEPTH,CTDRAW,CTDPRS,CTDTMP,CTDSAL,CTDSAL_FLAG_W,CTDOXY,CTDOXY_FLAG_W,THETA,SALNTY,SALNTY_FLAG_W,OXYGEN,OXYGEN_FLAG_W,SILCAT,SILCAT_FLAG_W,NITRAT,NITRAT_FLAG_W,NITRIT,NITRIT_FLAG_W,PHSPHT,PHSPHT_FLAG_W,CFC-11,CFC-11_FLAG_W,CFC-12,CFC-12_FLAG_W,CFC113,CFC113_FLAG_W,TCARBN,TCARBN_FLAG_W,ALKALI,ALKALI_FLAG_W,PCO2,PCO2_FLAG_W,PCO2TMP,PH_SWS,PH_SWS_FLAG_W,PH_TMP,CCL4,CCL4_FLAG_W
,,,,,,,,,,,,,DBAR,ITS-90,PSS-78,,UMOL/KG,,DEG C,PSS-78,,UMOL/KG,,UMOL/KG,,UMOL/KG,,UMOL/KG,,UMOL/KG,,PMOL/KG,,PMOL/KG,,PMOL/KG,,UMOL/KG,,UMOL/KG,,UATM,,DEG C,,,DEG C,PMOL/KG,
33RR20050617,KESS,        1,        1,        3,        3,2,20050618,2151,30.0180,143.3042,0,     4.40,      4.4,  23.3071,  33.9723,2,   -999.0,9,  23.3062,  33.9702,2,   -999.0,9,  -999.00,9,  -999.00,9,  -999.00,9,  -999.00,9, -999.000,9, -999.000,9, -999.000,9,   -999.0,9,   -999.0,9,   -999.0,9,    20.00,-999.0000,9,    25.00, -999.000,9
33RR20050617,KESS,        1,        1,        2,        2,2,20050618,2151,30.0180,143.3042,0,     4.40,      4.4,  23.2948,  33.9740,2,   -999.0,9,  23.2939,  33.9786,2,   -999.0,9,  -999.00,9,  -999.00,9,  -999.00,9,  -999.00,9, -999.000,9, -999.000,9, -999.000,9,   -999.0,9,   -999.0,9,   -999.0,9,    20.00,-999.0000,9,    25.00, -999.000,9
33RR20050617,KESS,        1,        1,        4,        4,2,20050618,2151,30.0180,143.3042,0,     4.50,      4.5,  23.3348,  33.9625,2,   -999.0,9,  23.3339,  33.9661,2,   -999.0,9,  -999.00,9,  -999.00,9,  -999.00,9,  -999.00,9, -999.000,9, -999.000,9, -999.000,9,   -999.0,9,   -999.0,9,   -999.0,9,    20.00,-999.0000,9,    25.00, -999.000,9
33RR20050617,KESS,        1,        1,       12,       12,2,20050618,2151,30.0180,143.3042,0,   205.70,    205.7,  17.6243,  34.8288,2,   -999.0,9,  17.5895,  34.8294,2,   -999.0,9,  -999.00,9,  -999.00,9,  -999.00,9,  -999.00,9, -999.000,9, -999.000,9, -999.000,9,   -999.0,9,   -999.0,9,   -999.0,9,    20.00,-999.0000,9,    25.00, -999.000,9
33RR20050617,KESS,        1,        1,        1,        1,2,20050618,2151,30.0180,143.3042,0,   205.90,    205.9,  17.6234,  34.8289,2,   -999.0,9,  17.5886,  34.8279,2,   -999.0,9,  -999.00,9,  -999.00,9,  -999.00,9,  -999.00,9, -999.000,9, -999.000,9, -999.000,9,   -999.0,9,   -999.0,9,   -999.0,9,    20.00,-999.0000,9,    25.00, -999.000,9
33RR20050617,KESS,        1,        1,       10,       10,2,20050618,2151,30.0180,143.3042,0,   757.20,    757.2,   5.7891,  33.9984,2,   -999.0,9,   5.7234,  34.0012,2,   -999.0,9,  -999.00,9,  -999.00,9,  -999.00,9,  -999.00,9, -999.000,9, -999.000,9, -999.000,9,   -999.0,9,   -999.0,9,   -999.0,9,    20.00,-999.0000,9,    25.00, -999.000,9
33RR20050617,KESS,        1,        1,       11,       11,2,20050618,2151,30.0180,143.3042,0,   757.40,    757.4,   5.7591,  33.9983,2,   -999.0,9,   5.6936,  34.0033,2,   -999.0,9,  -999.00,9,  -999.00,9,  -999.00,9,  -999.00,9, -999.000,9, -999.000,9, -999.000,9,   -999.0,9,   -999.0,9,   -999.0,9,    20.00,-999.0000,9,    25.00, -999.000,9
33RR20050617,KESS,        1,        1,        8,        8,2,20050618,2151,30.0180,143.3042,0,  2017.10,   2017.1,   2.0208,  34.5944,2,   -999.0,9,   1.8827,  34.5965,2,   -999.0,9,  -999.00,9,  -999.00,9,  -999.00,9,  -999.00,9, -999.000,9, -999.000,9, -999.000,9,   -999.0,9,   -999.0,9,   -999.0,9,    20.00,-999.0000,9,    25.00, -999.000,9
33RR20050617,KESS,        1,        1,        9,        9,2,20050618,2151,30.0180,143.3042,0,  2017.20,   2017.2,   2.0186,  34.5947,2,   -999.0,9,   1.8805,  34.5948,2,   -999.0,9,  -999.00,9,  -999.00,9,  -999.00,9,  -999.00,9, -999.000,9, -999.000,9, -999.000,9,   -999.0,9,   -999.0,9,   -999.0,9,    20.00,-999.0000,9,    25.00, -999.000,9
33RR20050617,KESS,        1,        1,        7,        7,2,20050618,2151,30.0180,143.3042,0,  4912.20,   4912.2,   1.5048,  34.6912,2,   -999.0,9,   1.0810,  34.6922,2,   -999.0,9,  -999.00,9,  -999.00,9,  -999.00,9,  -999.00,9, -999.000,9, -999.000,9, -999.000,9,   -999.0,9,   -999.0,9,   -999.0,9,    20.00,-999.0000,9,    25.00, -999.000,9
33RR20050617,KESS,        1,        1,        6,        6,2,20050618,2151,30.0180,143.3042,0,  4912.30,   4912.3,   1.5048,  34.6911,2,   -999.0,9,   1.0810,  34.6920,2,   -999.0,9,  -999.00,9,  -999.00,9,  -999.00,9,  -999.00,9, -999.000,9, -999.000,9, -999.000,9,   -999.0,9,   -999.0,9,   -999.0,9,    20.00,-999.0000,9,    25.00, -999.000,9
33RR20050617,KESS,        1,        1,        5,        5,2,20050618,2151,30.0180,143.3042,0,  6043.30,   6043.3,   1.6204,  34.6938,2,   -999.0,9,   1.0480,  34.6952,2,   -999.0,9,  -999.00,9,  -999.00,9,  -999.00,9,  -999.00,9, -999.000,9, -999.000,9, -999.000,9,   -999.0,9,   -999.0,9,   -999.0,9,    20.00,-999.0000,9,    25.00, -999.000,9
33RR20050617,KESS,        2,        1,       12,       12,2,20050619,0909,30.6102,143.6155,0,     2.60,      2.6,  23.4112,  34.5103,2,   -999.0,9,  23.4106,  34.5116,2,   -999.0,9,  -999.00,9,  -999.00,9,  -999.00,9,  -999.00,9, -999.000,9, -999.000,9, -999.000,9,   -999.0,9,   -999.0,9,   -999.0,9,    20.00,-999.0000,9,    25.00, -999.000,9
33RR20050617,KESS,        2,        1,       11,       11,2,20050619,0909,30.6102,143.6155,0,     2.60,      2.6,  23.4117,  34.5102,2,   -999.0,9,  23.4111,  34.5108,2,   -999.0,9,  -999.00,9,  -999.00,9,  -999.00,9,  -999.00,9, -999.000,9, -999.000,9, -999.000,9,   -999.0,9,   -999.0,9,   -999.0,9,    20.00,-999.0000,9,    25.00, -999.000,9
33RR20050617,KESS,        2,        1,        9,        9,2,20050619,0909,30.6102,143.6155,0,   103.90,    103.9,  19.8007,  34.9625,2,   -999.0,9,  19.7817,  34.9607,2,   -999.0,9,  -999.00,9,  -999.00,9,  -999.00,9,  -999.00,9, -999.000,9, -999.000,9, -999.000,9,   -999.0,9,   -999.0,9,   -999.0,9,    20.00,-999.0000,9,    25.00, -999.000,9
33RR20050617,KESS,        2,        1,       10,       10,2,20050619,0909,30.6102,143.6155,0,   103.90,    103.9,  19.7982,  34.9627,2,   -999.0,9,  19.7791,  34.9655,2,   -999.0,9,  -999.00,9,  -999.00,9,  -999.00,9,  -999.00,9, -999.000,9, -999.000,9, -999.000,9,   -999.0,9,   -999.0,9,   -999.0,9,    20.00,-999.0000,9,    25.00, -999.000,9
33RR20050617,KESS,        2,        1,        7,        7,2,20050619,0909,30.6102,143.6155,0,   806.80,    806.8,   5.4269,  34.0775,2,   -999.0,9,   5.3587,  34.0791,2,   -999.0,9,  -999.00,9,  -999.00,9,  -999.00,9,  -999.00,9, -999.000,9, -999.000,9, -999.000,9,   -999.0,9,   -999.0,9,   -999.0,9,    20.00,-999.0000,9,    25.00, -999.000,9
33RR20050617,KESS,        2,        1,        8,        8,2,20050619,0909,30.6102,143.6155,0,   806.90,    806.9,   5.4390,  34.0757,2,   -999.0,9,   5.3708,  34.9621,3,   -999.0,9,  -999.00,9,  -999.00,9,  -999.00,9,  -999.00,9, -999.000,9, -999.000,9, -999.000,9,   -999.0,9,   -999.0,9,   -999.0,9,    20.00,-999.0000,9,    25.00, -999.000,9
33RR20050617,KESS,        2,        1,        6,        6,2,20050619,0909,30.6102,143.6155,0,  3031.20,   3031.2,   1.5819,  34.6641,2,   -999.0,9,   1.3604,  34.6645,2,   -999.0,9,  -999.00,9,  -999.00,9,  -999.00,9,  -999.00,9, -999.000,9, -999.000,9, -999.000,9,   -999.0,9,   -999.0,9,   -999.0,9,    20.00,-999.0000,9,    25.00, -999.000,9
33RR20050617,KESS,        2,        1,        5,        5,2,20050619,0909,30.6102,143.6155,0,  3031.40,   3031.4,   1.5820,  34.6641,2,   -999.0,9,   1.3605,  34.6668,2,   -999.0,9,  -999.00,9,  -999.00,9,  -999.00,9,  -999.00,9, -999.000,9, -999.000,9, -999.000,9,   -999.0,9,   -999.0,9,   -999.0,9,    20.00,-999.0000,9,    25.00, -999.000,9
33RR20050617,KESS,        2,        1,        3,        3,2,20050619,0909,30.6102,143.6155,0,  5072.20,   5072.2,   1.5057,  34.6932,2,   -999.0,9,   1.0623,  34.6989,2,   -999.0,9,  -999.00,9,  -999.00,9,  -999.00,9,  -999.00,9, -999.000,9, -999.000,9, -999.000,9,   -999.0,9,   -999.0,9,   -999.0,9,    20.00,-999.0000,9,    25.00, -999.000,9
33RR20050617,KESS,        2,        1,        4,        4,2,20050619,0909,30.6102,143.6155,0,  5072.30,   5072.3,   1.5057,  34.6932,2,   -999.0,9,   1.0623,  34.7087,2,   -999.0,9,  -999.00,9,  -999.00,9,  -999.00,9,  -999.00,9, -999.000,9, -999.000,9, -999.000,9,   -999.0,9,   -999.0,9,   -999.0,9,    20.00,-999.0000,9,    25.00, -999.000,9
33RR20050617,KESS,        2,        1,        2,        2,2,20050619,0909,30.6102,143.6155,0,  5726.70,   5726.7,   1.5776,  34.6939,2,   -999.0,9,   1.0488,  34.6939,2,   -999.0,9,  -999.00,9,  -999.00,9,  -999.00,9,  -999.00,9, -999.000,9, -999.000,9, -999.000,9,   -999.0,9,   -999.0,9,   -999.0,9,    20.00,-999.0000,9,    25.00, -999.000,9
33RR20050617,KESS,        2,        1,        1,        1,2,20050619,0909,30.6102,143.6155,0,  5726.80,   5726.8,   1.5776,  34.6940,2,   -999.0,9,   1.0488,  34.6945,2,   -999.0,9,  -999.00,9,  -999.00,9,  -999.00,9,  -999.00,9, -999.000,9, -999.000,9, -999.000,9,   -999.0,9,   -999.0,9,   -999.0,9,    20.00,-999.0000,9,    25.00, -999.000,9
33RR20050617,KESS,        3,        1,       12,       12,2,20050619,1946,31.4908,144.0873,0,     3.80,      3.8,  22.7513,  34.6707,2,   -999.0,9,  22.7506,  34.6691,2,   -999.0,9,  -999.00,9,  -999.00,9,  -999.00,9,  -999.00,9, -999.000,9, -999.000,9, -999.000,9,   -999.0,9,   -999.0,9,   -999.0,9,    20.00,-999.0000,9,    25.00, -999.000,9
33RR20050617,KESS,        3,        1,       11,       11,2,20050619,1946,31.4908,144.0873,0,     3.80,      3.8,  22.7585,  34.6702,2,   -999.0,9,  22.7577,  34.6714,2,   -999.0,9,  -999.00,9,  -999.00,9,  -999.00,9,  -999.00,9, -999.000,9, -999.000,9, -999.000,9,   -999.0,9,   -999.0,9,   -999.0,9,    20.00,-999.0000,9,    25.00, -999.000,9
33RR20050617,KESS,        3,        1,       10,       10,2,20050619,1946,31.4908,144.0873,0,   306.20,    306.2,  17.1169,  34.7789,2,   -999.0,9,  17.0661,  34.7789,2,   -999.0,9,  -999.00,9,  -999.00,9,  -999.00,9,  -999.00,9, -999.000,9, -999.000,9, -999.000,9,   -999.0,9,   -999.0,9,   -999.0,9,    20.00,-999.0000,9,    25.00, -999.000,9
33RR20050617,KESS,        3,        1,        9,        9,2,20050619,1946,31.4908,144.0873,0,   306.20,    306.2,  17.1093,  34.7782,2,   -999.0,9,  17.0585,  34.7785,2,   -999.0,9,  -999.00,9,  -999.00,9,  -999.00,9,  -999.00,9, -999.000,9, -999.000,9, -999.000,9,   -999.0,9,   -999.0,9,   -999.0,9,    20.00,-999.0000,9,    25.00, -999.000,9
33RR20050617,KESS,        3,        1,        7,        7,2,20050619,1946,31.4908,144.0873,0,   707.00,    707.0,   6.6253,  33.8375,2,   -999.0,9,   6.5599,  33.8399,2,   -999.0,9,  -999.00,9,  -999.00,9,  -999.00,9,  -999.00,9, -999.000,9, -999.000,9, -999.000,9,   -999.0,9,   -999.0,9,   -999.0,9,    20.00,-999.0000,9,    25.00, -999.000,9
33RR20050617,KESS,        3,        1,        8,        8,2,20050619,1946,31.4908,144.0873,0,   707.10,    707.1,   6.6364,  33.8396,2,   -999.0,9,   6.5709,  33.8387,2,   -999.0,9,  -999.00,9,  -999.00,9,  -999.00,9,  -999.00,9, -999.000,9, -999.000,9, -999.000,9,   -999.0,9,   -999.0,9,   -999.0,9,    20.00,-999.0000,9,    25.00, -999.000,9
33RR20050617,KESS,        3,        1,        5,        5,2,20050619,1946,31.4908,144.0873,0,  3030.60,   3030.6,   1.6018,  34.6606,2,   -999.0,9,   1.3799,  34.6605,2,   -999.0,9,  -999.00,9,  -999.00,9,  -999.00,9,  -999.00,9, -999.000,9, -999.000,9, -999.000,9,   -999.0,9,   -999.0,9,   -999.0,9,    20.00,-999.0000,9,    25.00, -999.000,9
33RR20050617,KESS,        3,        1,        6,        6,2,20050619,1946,31.4908,144.0873,0,  3030.60,   3030.6,   1.6008,  34.6607,2,   -999.0,9,   1.3789,  34.6603,2,   -999.0,9,  -999.00,9,  -999.00,9,  -999.00,9,  -999.00,9, -999.000,9, -999.000,9, -999.000,9,   -999.0,9,   -999.0,9,   -999.0,9,    20.00,-999.0000,9,    25.00, -999.000,9
33RR20050617,KESS,        3,        1,        4,        4,2,20050619,1946,31.4908,144.0873,0,  5071.70,   5071.7,   1.5129,  34.6924,2,   -999.0,9,   1.0694,  34.6932,2,   -999.0,9,  -999.00,9,  -999.00,9,  -999.00,9,  -999.00,9, -999.000,9, -999.000,9, -999.000,9,   -999.0,9,   -999.0,9,   -999.0,9,    20.00,-999.0000,9,    25.00, -999.000,9
33RR20050617,KESS,        3,        1,        3,        3,2,20050619,1946,31.4908,144.0873,0,  5071.80,   5071.8,   1.5127,  34.6923,2,   -999.0,9,   1.0692,  34.6918,2,   -999.0,9,  -999.00,9,  -999.00,9,  -999.00,9,  -999.00,9, -999.000,9, -999.000,9, -999.000,9,   -999.0,9,   -999.0,9,   -999.0,9,    20.00,-999.0000,9,    25.00, -999.000,9
33RR20050617,KESS,        3,        1,        1,        1,2,20050619,1946,31.4908,144.0873,0,  5949.60,   5949.6,   1.5983,  34.6946,2,   -999.0,9,   1.0393,  34.6959,2,   -999.0,9,  -999.00,9,  -999.00,9,  -999.00,9,  -999.00,9, -999.000,9, -999.000,9, -999.000,9,   -999.0,9,   -999.0,9,   -999.0,9,    20.00,-999.0000,9,    25.00, -999.000,9
33RR20050617,KESS,        3,        1,        2,        2,2,20050619,1946,31.4908,144.0873,0,  5949.80,   5949.8,   1.5981,  34.6947,2,   -999.0,9,   1.0391,  34.6958,2,   -999.0,9,  -999.00,9,  -999.00,9,  -999.00,9,  -999.00,9, -999.000,9, -999.000,9, -999.000,9,   -999.0,9,   -999.0,9,   -999.0,9,    20.00,-999.0000,9,    25.00, -999.000,9
33RR20050617,KESS,        4,        1,       11,       11,2,20050620,0839,32.3683,145.5158,0,    20.60,     20.6,  23.0149,  34.5706,2,   -999.0,9,  23.0107,  34.5713,2,   -999.0,9,  -999.00,9,  -999.00,9,  -999.00,9,  -999.00,9, -999.000,9, -999.000,9, -999.000,9,   -999.0,9,   -999.0,9,   -999.0,9,    20.00,-999.0000,9,    25.00, -999.000,9
33RR20050617,KESS,        4,        1,       12,       12,2,20050620,0839,32.3683,145.5158,0,    20.60,     20.6,  23.0253,  34.5685,2,   -999.0,9,  23.0211,  34.5690,2,   -999.0,9,  -999.00,9,  -999.00,9,  -999.00,9,  -999.00,9, -999.000,9, -999.000,9, -999.000,9,   -999.0,9,   -999.0,9,   -999.0,9,    20.00,-999.0000,9,    25.00, -999.000,9
33RR20050617,KESS,        4,        1,        9,        9,2,20050620,0839,32.3683,145.5158,0,   105.30,    105.3,  19.6838,  34.9370,2,   -999.0,9,  19.6646,  34.9374,2,   -999.0,9,  -999.00,9,  -999.00,9,  -999.00,9,  -999.00,9, -999.000,9, -999.000,9, -999.000,9,   -999.0,9,   -999.0,9,   -999.0,9,    20.00,-999.0000,9,    25.00, -999.000,9
33RR20050617,KESS,        4,        1,       10,       10,2,20050620,0839,32.3683,145.5158,0,   105.40,    105.4,  19.6834,  34.9370,2,   -999.0,9,  19.6642,  34.9376,2,   -999.0,9,  -999.00,9,  -999.00,9,  -999.00,9,  -999.00,9, -999.000,9, -999.000,9, -999.000,9,   -999.0,9,   -999.0,9,   -999.0,9,    20.00,-999.0000,9,    25.00, -999.000,9
33RR20050617,KESS,        4,        1,        7,        7,2,20050620,0839,32.3683,145.5158,0,   906.30,    906.3,   5.5273,  34.0144,2,   -999.0,9,   5.4494,  34.0187,2,   -999.0,9,  -999.00,9,  -999.00,9,  -999.00,9,  -999.00,9, -999.000,9, -999.000,9, -999.000,9,   -999.0,9,   -999.0,9,   -999.0,9,    20.00,-999.0000,9,    25.00, -999.000,9
33RR20050617,KESS,        4,        1,        8,        8,2,20050620,0839,32.3683,145.5158,0,   906.50,    906.5,   5.5255,  34.0138,2,   -999.0,9,   5.4477,  34.0165,2,   -999.0,9,  -999.00,9,  -999.00,9,  -999.00,9,  -999.00,9, -999.000,9, -999.000,9, -999.000,9,   -999.0,9,   -999.0,9,   -999.0,9,    20.00,-999.0000,9,    25.00, -999.000,9
33RR20050617,KESS,        4,        1,        6,        6,2,20050620,0839,32.3683,145.5158,0,  3029.70,   3029.7,   1.6089,  34.6586,2,   -999.0,9,   1.3869,  34.6578,2,   -999.0,9,  -999.00,9,  -999.00,9,  -999.00,9,  -999.00,9, -999.000,9, -999.000,9, -999.000,9,   -999.0,9,   -999.0,9,   -999.0,9,    20.00,-999.0000,9,    25.00, -999.000,9
33RR20050617,KESS,        4,        1,        5,        5,2,20050620,0839,32.3683,145.5158,0,  3029.90,   3029.9,   1.6090,  34.6586,2,   -999.0,9,   1.3871,  34.6573,2,   -999.0,9,  -999.00,9,  -999.00,9,  -999.00,9,  -999.00,9, -999.000,9, -999.000,9, -999.000,9,   -999.0,9,   -999.0,9,   -999.0,9,    20.00,-999.0000,9,    25.00, -999.000,9
33RR20050617,KESS,        4,        1,        3,        3,2,20050620,0839,32.3683,145.5158,0,  5071.10,   5071.1,   1.5155,  34.6922,2,   -999.0,9,   1.0720,  34.6924,2,   -999.0,9,  -999.00,9,  -999.00,9,  -999.00,9,  -999.00,9, -999.000,9, -999.000,9, -999.000,9,   -999.0,9,   -999.0,9,   -999.0,9,    20.00,-999.0000,9,    25.00, -999.000,9
33RR20050617,KESS,        4,        1,        4,        4,2,20050620,0839,32.3683,145.5158,0,  5071.40,   5071.4,   1.5153,  34.6922,2,   -999.0,9,   1.0718,  34.6915,2,   -999.0,9,  -999.00,9,  -999.00,9,  -999.00,9,  -999.00,9, -999.000,9, -999.000,9, -999.000,9,   -999.0,9,   -999.0,9,   -999.0,9,    20.00,-999.0000,9,    25.00, -999.000,9
33RR20050617,KESS,        4,        1,        1,        1,2,20050620,0839,32.3683,145.5158,0,  5939.30,   5939.3,   1.5970,  34.6948,2,   -999.0,9,   1.0395,  34.6959,2,   -999.0,9,  -999.00,9,  -999.00,9,  -999.00,9,  -999.00,9, -999.000,9, -999.000,9, -999.000,9,   -999.0,9,   -999.0,9,   -999.0,9,    20.00,-999.0000,9,    25.00, -999.000,9
33RR20050617,KESS,        4,        1,        2,        2,2,20050620,0839,32.3683,145.5158,0,  5939.50,   5939.5,   1.5973,  34.6948,2,   -999.0,9,   1.0397,  34.6952,2,   -999.0,9,  -999.00,9,  -999.00,9,  -999.00,9,  -999.00,9, -999.000,9, -999.000,9, -999.000,9,   -999.0,9,   -999.0,9,   -999.0,9,    20.00,-999.0000,9,    25.00, -999.000,9