BOTTLE,20100303CCHDOSIOCBG
EXPOCODE,SECT_ID,STNNBR,CASTNO,SAMPNO,BTLNBR,BTLNBR_FLAG_W,DATE,TIME,LATITUDE,LONGITUDE,DEPTH,CTDRAW,CTDPRS,CTDTMP,CTDSAL,CTDSAL_FLAG_W,CTDOXY,CTDOXY_FLAG_W,THETA,SALNTY,SALNTY_FLAG_W,OXYGEN,OXYGEN_FLAG_W,SILCAT,SILCAT_FLAG_W,NITRAT,NITRAT_FLAG_W,NITRIT,NITRIT_FLAG_W,PHSPHT,PHSPHT_FLAG_W,CFC-11,CFC-11_FLAG_W,CFC-12,CFC-12_FLAG_W,CFC113,CFC113_FLAG_W,TCARBN,TCARBN_FLAG_W,ALKALI,ALKALI_FLAG_W,PCO2,PCO2_FLAG_W,PCO2TMP,PH_SWS,PH_SWS_FLAG_W,PH_TMP,CCL4,CCL4_FLAG_W
,,,,,,,,,,,,,DBAR,ITS-90,PSS-78,,UMOL/KG,,DEG C,PSS-78,,UMOL/KG,,UMOL/KG,,UMOL/KG,,UMOL/KG,,UMOL/KG,,PMOL/KG,,PMOL/KG,,PMOL/KG,,UMOL/KG,,UMOL/KG,,UATM,,DEG C,,,DEG C,PMOL/KG,
33RR20050617,KESS,        5,        1,       12,       12,2,20050620,1915,32.3703,144.5705,0,     4.40,      4.4,  22.9369,  34.5340,2,   -999.0,9,  22.9360,  34.5337,2,   -999.0,9,  -999.00,9,  -999.00,9,  -999.00,9,  -999.00,9, -999.000,9, -999.000,9, -999.000,9,   -999.0,9,   -999.0,9,   -999.0,9,    20.00,-999.0000,9,    25.00, -999.000,9
33RR20050617,KESS,        5,        1,       11,       11,2,20050620,1915,32.3703,144.5705,0,     4.40,      4.4,  22.9372,  34.5338,2,   -999.0,9,  22.9363,  34.5342,2,   -999.0,9,  -999.00,9,  -999.00,9,  -999.00,9,  -999.00,9, -999.000,9, -999.000,9, -999.000,9,   -999.0,9,   -999.0,9,   -999.0,9,    20.00,-999.0000,9,    25.00, -999.000,9
33RR20050617,KESS,        5,        1,        9,        9,2,20050620,1915,32.3703,144.5705,0,   201.80,    201.8,  18.3651,  34.8587,2,   -999.0,9,  18.3300,  34.8647,2,   -999.0,9,  -999.00,9,  -999.00,9,  -999.00,9,  -999.00,9, -999.000,9, -999.000,9, -999.000,9,   -999.0,9,   -999.0,9,   -999.0,9,    20.00,-999.0000,9,    25.00, -999.000,9
33RR20050617,KESS,        5,        1,       10,       10,2,20050620,1915,32.3703,144.5705,0,   202.50,    202.5,  18.3554,  34.8584,2,   -999.0,9,  18.3202,  34.8587,2,   -999.0,9,  -999.00,9,  -999.00,9,  -999.00,9,  -999.00,9, -999.000,9, -999.000,9, -999.000,9,   -999.0,9,   -999.0,9,   -999.0,9,    20.00,-999.0000,9,    25.00, -999.000,9
33RR20050617,KESS,        5,        1,        8,        8,2,20050620,1915,32.3703,144.5705,0,   712.40,    712.4,   7.3084,  33.9140,2,   -999.0,9,   7.2388,  33.9210,2,   -999.0,9,  -999.00,9,  -999.00,9,  -999.00,9,  -999.00,9, -999.000,9, -999.000,9, -999.000,9,   -999.0,9,   -999.0,9,   -999.0,9,    20.00,-999.0000,9,    25.00, -999.000,9
33RR20050617,KESS,        5,        1,        7,        7,2,20050620,1915,32.3703,144.5705,0,   712.80,    712.8,   7.2976,  33.9122,2,   -999.0,9,   7.2279,  33.9234,2,   -999.0,9,  -999.00,9,  -999.00,9,  -999.00,9,  -999.00,9, -999.000,9, -999.000,9, -999.000,9,   -999.0,9,   -999.0,9,   -999.0,9,    20.00,-999.0000,9,    25.00, -999.000,9
33RR20050617,KESS,        5,        1,        6,        6,2,20050620,1915,32.3703,144.5705,0,  3030.00,   3030.0,   1.5774,  34.6624,2,   -999.0,9,   1.3561,  34.6622,2,   -999.0,9,  -999.00,9,  -999.00,9,  -999.00,9,  -999.00,9, -999.000,9, -999.000,9, -999.000,9,   -999.0,9,   -999.0,9,   -999.0,9,    20.00,-999.0000,9,    25.00, -999.000,9
33RR20050617,KESS,        5,        1,        5,        5,2,20050620,1915,32.3703,144.5705,0,  3030.80,   3030.8,   1.5772,  34.6624,2,   -999.0,9,   1.3558,  34.6611,2,   -999.0,9,  -999.00,9,  -999.00,9,  -999.00,9,  -999.00,9, -999.000,9, -999.000,9, -999.000,9,   -999.0,9,   -999.0,9,   -999.0,9,    20.00,-999.0000,9,    25.00, -999.000,9
33RR20050617,KESS,        5,        1,        4,        4,2,20050620,1915,32.3703,144.5705,0,  5072.10,   5072.1,   1.5034,  34.6931,2,   -999.0,9,   1.0603,  34.6924,2,   -999.0,9,  -999.00,9,  -999.00,9,  -999.00,9,  -999.00,9, -999.000,9, -999.000,9, -999.000,9,   -999.0,9,   -999.0,9,   -999.0,9,    20.00,-999.0000,9,    25.00, -999.000,9
33RR20050617,KESS,        5,        1,        3,        3,2,20050620,1915,32.3703,144.5705,0,  5072.10,   5072.1,   1.5032,  34.6932,2,   -999.0,9,   1.0601,  34.6926,2,   -999.0,9,  -999.00,9,  -999.00,9,  -999.00,9,  -999.00,9, -999.000,9, -999.000,9, -999.000,9,   -999.0,9,   -999.0,9,   -999.0,9,    20.00,-999.0000,9,    25.00, -999.000,9
33RR20050617,KESS,        5,        1,        2,        2,2,20050620,1915,32.3703,144.5705,0,  5749.30,   5749.3,   1.5751,  34.6942,2,   -999.0,9,   1.0434,  34.6948,2,   -999.0,9,  -999.00,9,  -999.00,9,  -999.00,9,  -999.00,9, -999.000,9, -999.000,9, -999.000,9,   -999.0,9,   -999.0,9,   -999.0,9,    20.00,-999.0000,9,    25.00, -999.000,9
33RR20050617,KESS,        5,        1,        1,        1,2,20050620,1915,32.3703,144.5705,0,  5749.50,   5749.5,   1.5752,  34.6939,2,   -999.0,9,   1.0435,  34.6947,2,   -999.0,9,  -999.00,9,  -999.00,9,  -999.00,9,  -999.00,9, -999.000,9, -999.000,9, -999.000,9,   -999.0,9,   -999.0,9,   -999.0,9,    20.00,-999.0000,9,    25.00, -999.000,9
33RR20050617,KESS,        6,        1,       11,       11,2,20050621,0706,33.1955,144.1100,0,    15.00,     15.0,  21.3945,  34.4253,2,   -999.0,9,  21.3916,  34.4259,2,   -999.0,9,  -999.00,9,  -999.00,9,  -999.00,9,  -999.00,9, -999.000,9, -999.000,9, -999.000,9,   -999.0,9,   -999.0,9,   -999.0,9,    20.00,-999.0000,9,    25.00, -999.000,9
33RR20050617,KESS,        6,        1,       12,       12,2,20050621,0706,33.1955,144.1100,0,    15.00,     15.0,  21.3983,  34.4244,2,   -999.0,9,  21.3954,  34.4245,2,   -999.0,9,  -999.00,9,  -999.00,9,  -999.00,9,  -999.00,9, -999.000,9, -999.000,9, -999.000,9,   -999.0,9,   -999.0,9,   -999.0,9,    20.00,-999.0000,9,    25.00, -999.000,9
33RR20050617,KESS,        6,        1,        9,        9,2,20050621,0706,33.1955,144.1100,0,    52.90,     52.9,  18.5383,  34.8104,2,   -999.0,9,  18.5291,  34.8186,2,   -999.0,9,  -999.00,9,  -999.00,9,  -999.00,9,  -999.00,9, -999.000,9, -999.000,9, -999.000,9,   -999.0,9,   -999.0,9,   -999.0,9,    20.00,-999.0000,9,    25.00, -999.000,9
33RR20050617,KESS,        6,        1,       10,       10,2,20050621,0706,33.1955,144.1100,0,    53.40,     53.4,  18.4756,  34.8072,2,   -999.0,9,  18.4663,  34.8165,2,   -999.0,9,  -999.00,9,  -999.00,9,  -999.00,9,  -999.00,9, -999.000,9, -999.000,9, -999.000,9,   -999.0,9,   -999.0,9,   -999.0,9,    20.00,-999.0000,9,    25.00, -999.000,9
33RR20050617,KESS,        6,        1,        8,        8,2,20050621,0706,33.1955,144.1100,0,   542.10,    542.1,   7.8982,  34.1377,2,   -999.0,9,   7.8432,  34.1401,2,   -999.0,9,  -999.00,9,  -999.00,9,  -999.00,9,  -999.00,9, -999.000,9, -999.000,9, -999.000,9,   -999.0,9,   -999.0,9,   -999.0,9,    20.00,-999.0000,9,    25.00, -999.000,9
33RR20050617,KESS,        6,        1,        7,        7,2,20050621,0706,33.1955,144.1100,0,   543.00,    543.0,   7.8928,  34.1371,2,   -999.0,9,   7.8378,  34.1382,2,   -999.0,9,  -999.00,9,  -999.00,9,  -999.00,9,  -999.00,9, -999.000,9, -999.000,9, -999.000,9,   -999.0,9,   -999.0,9,   -999.0,9,    20.00,-999.0000,9,    25.00, -999.000,9
33RR20050617,KESS,        6,        1,        6,        6,2,20050621,0706,33.1955,144.1100,0,  3015.70,   3015.7,   1.5548,  34.6649,2,   -999.0,9,   1.3354,  34.6648,2,   -999.0,9,  -999.00,9,  -999.00,9,  -999.00,9,  -999.00,9, -999.000,9, -999.000,9, -999.000,9,   -999.0,9,   -999.0,9,   -999.0,9,    20.00,-999.0000,9,    25.00, -999.000,9
33RR20050617,KESS,        6,        1,        5,        5,2,20050621,0706,33.1955,144.1100,0,  3015.80,   3015.8,   1.5545,  34.6650,2,   -999.0,9,   1.3351,  34.6648,2,   -999.0,9,  -999.00,9,  -999.00,9,  -999.00,9,  -999.00,9, -999.000,9, -999.000,9, -999.000,9,   -999.0,9,   -999.0,9,   -999.0,9,    20.00,-999.0000,9,    25.00, -999.000,9
33RR20050617,KESS,        6,        1,        3,        3,2,20050621,0706,33.1955,144.1100,0,  5020.00,   5020.0,   1.5004,  34.6929,2,   -999.0,9,   1.0637,  34.6910,2,   -999.0,9,  -999.00,9,  -999.00,9,  -999.00,9,  -999.00,9, -999.000,9, -999.000,9, -999.000,9,   -999.0,9,   -999.0,9,   -999.0,9,    20.00,-999.0000,9,    25.00, -999.000,9
33RR20050617,KESS,        6,        1,        4,        4,2,20050621,0706,33.1955,144.1100,0,  5020.20,   5020.2,   1.5001,  34.6930,2,   -999.0,9,   1.0634,  34.6937,2,   -999.0,9,  -999.00,9,  -999.00,9,  -999.00,9,  -999.00,9, -999.000,9, -999.000,9, -999.000,9,   -999.0,9,   -999.0,9,   -999.0,9,    20.00,-999.0000,9,    25.00, -999.000,9
33RR20050617,KESS,        6,        1,        1,        1,2,20050621,0706,33.1955,144.1100,0,  5604.90,   5604.9,   1.5608,  34.6940,2,   -999.0,9,   1.0485,  34.6932,2,   -999.0,9,  -999.00,9,  -999.00,9,  -999.00,9,  -999.00,9, -999.000,9, -999.000,9, -999.000,9,   -999.0,9,   -999.0,9,   -999.0,9,    20.00,-999.0000,9,    25.00, -999.000,9
33RR20050617,KESS,        6,        1,        2,        2,2,20050621,0706,33.1955,144.1100,0,  5605.50,   5605.5,   1.5609,  34.6941,2,   -999.0,9,   1.0485,  34.6924,2,   -999.0,9,  -999.00,9,  -999.00,9,  -999.00,9,  -999.00,9, -999.000,9, -999.000,9, -999.000,9,   -999.0,9,   -999.0,9,   -999.0,9,    20.00,-999.0000,9,    25.00, -999.000,9
33RR20050617,KESS,        7,        1,        9,        9,2,20050621,2113,34.8253,145.0388,0,     3.90,      3.9,  23.0247,  34.4077,2,   -999.0,9,  23.0239,  34.4098,2,   -999.0,9,  -999.00,9,  -999.00,9,  -999.00,9,  -999.00,9, -999.000,9, -999.000,9, -999.000,9,   -999.0,9,   -999.0,9,   -999.0,9,    20.00,-999.0000,9,    25.00, -999.000,9
33RR20050617,KESS,        7,        1,       10,       10,2,20050621,2113,34.8253,145.0388,0,     4.00,      4.0,  23.0213,  34.4085,2,   -999.0,9,  23.0205,  34.4086,2,   -999.0,9,  -999.00,9,  -999.00,9,  -999.00,9,  -999.00,9, -999.000,9, -999.000,9, -999.000,9,   -999.0,9,   -999.0,9,   -999.0,9,    20.00,-999.0000,9,    25.00, -999.000,9
33RR20050617,KESS,        7,        1,        8,        8,2,20050621,2113,34.8253,145.0388,0,   854.80,    854.8,   5.6922,  34.2812,2,   -999.0,9,   5.6177,  34.2817,2,   -999.0,9,  -999.00,9,  -999.00,9,  -999.00,9,  -999.00,9, -999.000,9, -999.000,9, -999.000,9,   -999.0,9,   -999.0,9,   -999.0,9,    20.00,-999.0000,9,    25.00, -999.000,9
33RR20050617,KESS,        7,        1,        7,        7,2,20050621,2113,34.8253,145.0388,0,   854.80,    854.8,   5.6883,  34.2813,2,   -999.0,9,   5.6139,  34.2825,2,   -999.0,9,  -999.00,9,  -999.00,9,  -999.00,9,  -999.00,9, -999.000,9, -999.000,9, -999.000,9,   -999.0,9,   -999.0,9,   -999.0,9,    20.00,-999.0000,9,    25.00, -999.000,9
33RR20050617,KESS,        7,        1,        6,        6,2,20050621,2113,34.8253,145.0388,0,  5068.10,   5068.1,   1.5129,  34.6922,2,   -999.0,9,   1.0698,  34.6939,2,   -999.0,9,  -999.00,9,  -999.00,9,  -999.00,9,  -999.00,9, -999.000,9, -999.000,9, -999.000,9,   -999.0,9,   -999.0,9,   -999.0,9,    20.00,-999.0000,9,    25.00, -999.000,9
33RR20050617,KESS,        7,        1,        5,        5,2,20050621,2113,34.8253,145.0388,0,  5068.20,   5068.2,   1.5128,  34.6922,2,   -999.0,9,   1.0697,  34.6931,2,   -999.0,9,  -999.00,9,  -999.00,9,  -999.00,9,  -999.00,9, -999.000,9, -999.000,9, -999.000,9,   -999.0,9,   -999.0,9,   -999.0,9,    20.00,-999.0000,9,    25.00, -999.000,9
33RR20050617,KESS,        7,        1,        2,        2,2,20050621,2113,34.8253,145.0388,0,  5936.50,   5936.5,   1.6009,  34.6942,2,   -999.0,9,   1.0436,  34.6959,2,   -999.0,9,  -999.00,9,  -999.00,9,  -999.00,9,  -999.00,9, -999.000,9, -999.000,9, -999.000,9,   -999.0,9,   -999.0,9,   -999.0,9,    20.00,-999.0000,9,    25.00, -999.000,9
33RR20050617,KESS,        7,        1,        3,        3,2,20050621,2113,34.8253,145.0388,0,  5936.70,   5936.7,   1.6009,  34.6941,2,   -999.0,9,   1.0435,  34.6957,2,   -999.0,9,  -999.00,9,  -999.00,9,  -999.00,9,  -999.00,9, -999.000,9, -999.000,9, -999.000,9,   -999.0,9,   -999.0,9,   -999.0,9,    20.00,-999.0000,9,    25.00, -999.000,9
33RR20050617,KESS,        7,        1,        4,        4,2,20050621,2113,34.8253,145.0388,0,  5936.70,   5936.7,   1.6008,  34.6941,2,   -999.0,9,   1.0434,  34.6953,2,   -999.0,9,  -999.00,9,  -999.00,9,  -999.00,9,  -999.00,9, -999.000,9, -999.000,9, -999.000,9,   -999.0,9,   -999.0,9,   -999.0,9,    20.00,-999.0000,9,    25.00, -999.000,9
33RR20050617,KESS,        8,        1,       10,       10,2,20050622,1459,36.3473,145.9870,0,     5.20,      5.2,  18.3010,  33.9742,2,   -999.0,9,  18.3001,  33.9831,2,   -999.0,9,  -999.00,9,  -999.00,9,  -999.00,9,  -999.00,9, -999.000,9, -999.000,9, -999.000,9,   -999.0,9,   -999.0,9,   -999.0,9,    20.00,-999.0000,9,    25.00, -999.000,9
33RR20050617,KESS,        8,        1,        9,        9,2,20050622,1459,36.3473,145.9870,0,   706.60,    706.6,   3.1579,  34.3965,2,   -999.0,9,   3.1108,  34.3958,2,   -999.0,9,  -999.00,9,  -999.00,9,  -999.00,9,  -999.00,9, -999.000,9, -999.000,9, -999.000,9,   -999.0,9,   -999.0,9,   -999.0,9,    20.00,-999.0000,9,    25.00, -999.000,9
33RR20050617,KESS,        8,        1,        8,        8,2,20050622,1459,36.3473,145.9870,0,   706.70,    706.7,   3.1558,  34.3965,2,   -999.0,9,   3.1087,  34.3956,2,   -999.0,9,  -999.00,9,  -999.00,9,  -999.00,9,  -999.00,9, -999.000,9, -999.000,9, -999.000,9,   -999.0,9,   -999.0,9,   -999.0,9,    20.00,-999.0000,9,    25.00, -999.000,9
33RR20050617,KESS,        8,        1,        6,        6,2,20050622,1459,36.3473,145.9870,0,  3028.70,   3028.7,   1.4987,  34.6715,2,   -999.0,9,   1.2792,  34.6711,2,   -999.0,9,  -999.00,9,  -999.00,9,  -999.00,9,  -999.00,9, -999.000,9, -999.000,9, -999.000,9,   -999.0,9,   -999.0,9,   -999.0,9,    20.00,-999.0000,9,    25.00, -999.000,9
33RR20050617,KESS,        8,        1,        7,        7,2,20050622,1459,36.3473,145.9870,0,  3029.10,   3029.1,   1.4989,  34.6715,2,   -999.0,9,   1.2794,  34.6712,2,   -999.0,9,  -999.00,9,  -999.00,9,  -999.00,9,  -999.00,9, -999.000,9, -999.000,9, -999.000,9,   -999.0,9,   -999.0,9,   -999.0,9,    20.00,-999.0000,9,    25.00, -999.000,9
33RR20050617,KESS,        8,        1,        5,        5,2,20050622,1459,36.3473,145.9870,0,  5065.30,   5065.3,   1.5031,  34.6934,2,   -999.0,9,   1.0608,  34.6930,2,   -999.0,9,  -999.00,9,  -999.00,9,  -999.00,9,  -999.00,9, -999.000,9, -999.000,9, -999.000,9,   -999.0,9,   -999.0,9,   -999.0,9,    20.00,-999.0000,9,    25.00, -999.000,9
33RR20050617,KESS,        8,        1,        4,        4,2,20050622,1459,36.3473,145.9870,0,  5065.80,   5065.8,   1.5030,  34.6935,2,   -999.0,9,   1.0606,  34.6919,2,   -999.0,9,  -999.00,9,  -999.00,9,  -999.00,9,  -999.00,9, -999.000,9, -999.000,9, -999.000,9,   -999.0,9,   -999.0,9,   -999.0,9,    20.00,-999.0000,9,    25.00, -999.000,9
33RR20050617,KESS,        8,        1,        2,        2,2,20050622,1459,36.3473,145.9870,0,  5597.50,   5597.5,   1.5570,  34.6946,2,   -999.0,9,   1.0458,  34.6947,2,   -999.0,9,  -999.00,9,  -999.00,9,  -999.00,9,  -999.00,9, -999.000,9, -999.000,9, -999.000,9,   -999.0,9,   -999.0,9,   -999.0,9,    20.00,-999.0000,9,    25.00, -999.000,9
33RR20050617,KESS,        8,        1,        3,        3,2,20050622,1459,36.3473,145.9870,0,  5597.50,   5597.5,   1.5570,  34.6945,2,   -999.0,9,   1.0458,  34.6936,2,   -999.0,9,  -999.00,9,  -999.00,9,  -999.00,9,  -999.00,9, -999.000,9, -999.000,9, -999.000,9,   -999.0,9,   -999.0,9,   -999.0,9,    20.00,-999.0000,9,    25.00, -999.000,9
33RR20050617,KESS,        9,        1,       10,       10,2,20050623,0003,37.1037,146.4593,0,     2.90,      2.9,  19.0599,  33.6434,2,   -999.0,9,  19.0594,  33.6462,2,   -999.0,9,  -999.00,9,  -999.00,9,  -999.00,9,  -999.00,9, -999.000,9, -999.000,9, -999.000,9,   -999.0,9,   -999.0,9,   -999.0,9,    20.00,-999.0000,9,    25.00, -999.000,9
33RR20050617,KESS,        9,        1,        9,        9,2,20050623,0003,37.1037,146.4593,0,   758.90,    758.9,   3.4142,  34.3620,2,   -999.0,9,   3.3618,  34.3634,2,   -999.0,9,  -999.00,9,  -999.00,9,  -999.00,9,  -999.00,9, -999.000,9, -999.000,9, -999.000,9,   -999.0,9,   -999.0,9,   -999.0,9,    20.00,-999.0000,9,    25.00, -999.000,9
33RR20050617,KESS,        9,        1,        8,        8,2,20050623,0003,37.1037,146.4593,0,   759.10,    759.1,   3.4142,  34.3618,2,   -999.0,9,   3.3618,  34.3621,2,   -999.0,9,  -999.00,9,  -999.00,9,  -999.00,9,  -999.00,9, -999.000,9, -999.000,9, -999.000,9,   -999.0,9,   -999.0,9,   -999.0,9,    20.00,-999.0000,9,    25.00, -999.000,9
33RR20050617,KESS,        9,        1,        6,        6,2,20050623,0003,37.1037,146.4593,0,  2019.20,   2019.2,   1.7951,  34.6199,2,   -999.0,9,   1.6603,  34.6202,2,   -999.0,9,  -999.00,9,  -999.00,9,  -999.00,9,  -999.00,9, -999.000,9, -999.000,9, -999.000,9,   -999.0,9,   -999.0,9,   -999.0,9,    20.00,-999.0000,9,    25.00, -999.000,9
33RR20050617,KESS,        9,        1,        7,        7,2,20050623,0003,37.1037,146.4593,0,  2019.50,   2019.5,   1.7952,  34.6199,2,   -999.0,9,   1.6603,  34.6195,2,   -999.0,9,  -999.00,9,  -999.00,9,  -999.00,9,  -999.00,9, -999.000,9, -999.000,9, -999.000,9,   -999.0,9,   -999.0,9,   -999.0,9,    20.00,-999.0000,9,    25.00, -999.000,9
33RR20050617,KESS,        9,        1,        5,        5,2,20050623,0003,37.1037,146.4593,0,  5074.70,   5074.7,   1.5078,  34.6931,2,   -999.0,9,   1.0642,-999.0000,1,   -999.0,9,  -999.00,9,  -999.00,9,  -999.00,9,  -999.00,9, -999.000,9, -999.000,9, -999.000,9,   -999.0,9,   -999.0,9,   -999.0,9,    20.00,-999.0000,9,    25.00, -999.000,9
33RR20050617,KESS,        9,        1,        4,        4,2,20050623,0003,37.1037,146.4593,0,  5075.60,   5075.6,   1.5078,  34.6931,2,   -999.0,9,   1.0640,  34.6926,2,   -999.0,9,  -999.00,9,  -999.00,9,  -999.00,9,  -999.00,9, -999.000,9, -999.000,9, -999.000,9,   -999.0,9,   -999.0,9,   -999.0,9,    20.00,-999.0000,9,    25.00, -999.000,9
33RR20050617,KESS,        9,        1,        2,        2,2,20050623,0003,37.1037,146.4593,0,  5681.10,   5681.1,   1.5712,  34.6943,2,   -999.0,9,   1.0486,  34.6950,2,   -999.0,9,  -999.00,9,  -999.00,9,  -999.00,9,  -999.00,9, -999.000,9, -999.000,9, -999.000,9,   -999.0,9,   -999.0,9,   -999.0,9,    20.00,-999.0000,9,    25.00, -999.000,9
33RR20050617,KESS,        9,        1,        3,        3,2,20050623,0003,37.1037,146.4593,0,  5681.30,   5681.3,   1.5712,  34.6943,2,   -999.0,9,   1.0486,  34.6947,2,   -999.0,9,  -999.00,9,  -999.00,9,  -999.00,9,  -999.00,9, -999.000,9, -999.000,9, -999.000,9,   -999.0,9,   -999.0,9,   -999.0,9,    20.00,-999.0000,9,    25.00, -999.000,9