BOTTLE,20100303CCHDOSIOCBG
EXPOCODE,SECT_ID,STNNBR,CASTNO,SAMPNO,BTLNBR,BTLNBR_FLAG_W,DATE,TIME,LATITUDE,LONGITUDE,DEPTH,CTDRAW,CTDPRS,CTDTMP,CTDSAL,CTDSAL_FLAG_W,CTDOXY,CTDOXY_FLAG_W,THETA,SALNTY,SALNTY_FLAG_W,OXYGEN,OXYGEN_FLAG_W,SILCAT,SILCAT_FLAG_W,NITRAT,NITRAT_FLAG_W,NITRIT,NITRIT_FLAG_W,PHSPHT,PHSPHT_FLAG_W,CFC-11,CFC-11_FLAG_W,CFC-12,CFC-12_FLAG_W,CFC113,CFC113_FLAG_W,TCARBN,TCARBN_FLAG_W,ALKALI,ALKALI_FLAG_W,PCO2,PCO2_FLAG_W,PCO2TMP,PH_SWS,PH_SWS_FLAG_W,PH_TMP,CCL4,CCL4_FLAG_W
,,,,,,,,,,,,,DBAR,ITS-90,PSS-78,,UMOL/KG,,DEG C,PSS-78,,UMOL/KG,,UMOL/KG,,UMOL/KG,,UMOL/KG,,UMOL/KG,,PMOL/KG,,PMOL/KG,,PMOL/KG,,UMOL/KG,,UMOL/KG,,UATM,,DEG C,,,DEG C,PMOL/KG,
33RR20050617,KESS,       66,        1,        4,        4,2,20050708,0225,36.4023,148.6748,0,    18.00,     18.0,  25.0047,  34.2659,2,   -999.0,9,  25.0008,-999.0000,9,   -999.0,9,  -999.00,9,  -999.00,9,  -999.00,9,  -999.00,9, -999.000,9, -999.000,9, -999.000,9,   -999.0,9,   -999.0,9,   -999.0,9,    20.00,-999.0000,9,    25.00, -999.000,9
33RR20050617,KESS,       66,        1,        3,        3,2,20050708,0225,36.4023,148.6748,0,  1001.60,   1001.6,   2.9857,  34.3700,2,   -999.0,9,   2.9180,-999.0000,9,   -999.0,9,  -999.00,9,  -999.00,9,  -999.00,9,  -999.00,9, -999.000,9, -999.000,9, -999.000,9,   -999.0,9,   -999.0,9,   -999.0,9,    20.00,-999.0000,9,    25.00, -999.000,9
33RR20050617,KESS,       66,        1,        2,        2,2,20050708,0225,36.4023,148.6748,0,  1516.20,   1516.2,   2.3079,  34.5293,2,   -999.0,9,   2.2069,  34.5307,2,   -999.0,9,  -999.00,9,  -999.00,9,  -999.00,9,  -999.00,9, -999.000,9, -999.000,9, -999.000,9,   -999.0,9,   -999.0,9,   -999.0,9,    20.00,-999.0000,9,    25.00, -999.000,9
33RR20050617,KESS,       67,        1,        4,        4,2,20050708,0426,36.5063,148.6115,0,    13.00,     13.0,  24.6094,  34.2188,2,   -999.0,9,  24.6066,-999.0000,9,   -999.0,9,  -999.00,9,  -999.00,9,  -999.00,9,  -999.00,9, -999.000,9, -999.000,9, -999.000,9,   -999.0,9,   -999.0,9,   -999.0,9,    20.00,-999.0000,9,    25.00, -999.000,9
33RR20050617,KESS,       67,        1,        3,        3,2,20050708,0426,36.5063,148.6115,0,   820.60,    820.6,   3.4544,  34.2928,2,   -999.0,9,   3.3972,-999.0000,9,   -999.0,9,  -999.00,9,  -999.00,9,  -999.00,9,  -999.00,9, -999.000,9, -999.000,9, -999.000,9,   -999.0,9,   -999.0,9,   -999.0,9,    20.00,-999.0000,9,    25.00, -999.000,9
33RR20050617,KESS,       67,        1,        2,        2,2,20050708,0426,36.5063,148.6115,0,  1411.70,   1411.7,   2.3792,  34.5159,2,   -999.0,9,   2.2856,  34.5177,2,   -999.0,9,  -999.00,9,  -999.00,9,  -999.00,9,  -999.00,9, -999.000,9, -999.000,9, -999.000,9,   -999.0,9,   -999.0,9,   -999.0,9,    20.00,-999.0000,9,    25.00, -999.000,9
33RR20050617,KESS,       68,        1,        2,        2,2,20050708,0643,36.6185,148.5647,0,  1026.30,   1026.3,   2.9133,  34.4182,2,   -999.0,9,   2.8442,  34.5419,3,   -999.0,9,  -999.00,9,  -999.00,9,  -999.00,9,  -999.00,9, -999.000,9, -999.000,9, -999.000,9,   -999.0,9,   -999.0,9,   -999.0,9,    20.00,-999.0000,9,    25.00, -999.000,9
33RR20050617,KESS,       68,        1,        4,        4,2,20050708,0643,36.6185,148.5647,0,  1500.60,   1500.6,   2.2649,  34.5393,2,   -999.0,9,   2.1656,-999.0000,9,   -999.0,9,  -999.00,9,  -999.00,9,  -999.00,9,  -999.00,9, -999.000,9, -999.000,9, -999.000,9,   -999.0,9,   -999.0,9,   -999.0,9,    20.00,-999.0000,9,    25.00, -999.000,9
33RR20050617,KESS,       68,        1,        3,        3,2,20050708,0643,36.6185,148.5647,0,  1507.10,   1507.1,   2.2593,  34.5402,2,   -999.0,9,   2.1596,-999.0000,9,   -999.0,9,  -999.00,9,  -999.00,9,  -999.00,9,  -999.00,9, -999.000,9, -999.000,9, -999.000,9,   -999.0,9,   -999.0,9,   -999.0,9,    20.00,-999.0000,9,    25.00, -999.000,9
33RR20050617,KESS,       69,        1,        4,        4,2,20050708,0915,36.7000,148.4670,0,    12.40,     12.4,  23.6438,  34.2607,2,   -999.0,9,  23.6412,-999.0000,9,   -999.0,9,  -999.00,9,  -999.00,9,  -999.00,9,  -999.00,9, -999.000,9, -999.000,9, -999.000,9,   -999.0,9,   -999.0,9,   -999.0,9,    20.00,-999.0000,9,    25.00, -999.000,9
33RR20050617,KESS,       69,        1,        3,        3,2,20050708,0915,36.7000,148.4670,0,   727.60,    727.6,   3.5820,  34.2949,2,   -999.0,9,   3.5311,-999.0000,9,   -999.0,9,  -999.00,9,  -999.00,9,  -999.00,9,  -999.00,9, -999.000,9, -999.000,9, -999.000,9,   -999.0,9,   -999.0,9,   -999.0,9,    20.00,-999.0000,9,    25.00, -999.000,9
33RR20050617,KESS,       69,        1,        2,        2,2,20050708,0915,36.7000,148.4670,0,  1509.50,   1509.5,   2.2153,  34.5424,2,   -999.0,9,   2.1159,  34.5439,2,   -999.0,9,  -999.00,9,  -999.00,9,  -999.00,9,  -999.00,9, -999.000,9, -999.000,9, -999.000,9,   -999.0,9,   -999.0,9,   -999.0,9,    20.00,-999.0000,9,    25.00, -999.000,9
33RR20050617,KESS,       70,        1,        4,        4,2,20050708,1105,36.8002,148.4002,0,    12.60,     12.6,  21.4060,  34.0742,2,   -999.0,9,  21.4036,-999.0000,9,   -999.0,9,  -999.00,9,  -999.00,9,  -999.00,9,  -999.00,9, -999.000,9, -999.000,9, -999.000,9,   -999.0,9,   -999.0,9,   -999.0,9,    20.00,-999.0000,9,    25.00, -999.000,9
33RR20050617,KESS,       70,        1,        3,        3,2,20050708,1105,36.8002,148.4002,0,  1006.00,   1006.0,   2.8840,  34.4302,2,   -999.0,9,   2.8166,-999.0000,9,   -999.0,9,  -999.00,9,  -999.00,9,  -999.00,9,  -999.00,9, -999.000,9, -999.000,9, -999.000,9,   -999.0,9,   -999.0,9,   -999.0,9,    20.00,-999.0000,9,    25.00, -999.000,9
33RR20050617,KESS,       70,        1,        2,        2,2,20050708,1105,36.8002,148.4002,0,  1510.20,   1510.2,   2.1913,  34.5458,2,   -999.0,9,   2.0920,-999.0000,1,   -999.0,9,  -999.00,9,  -999.00,9,  -999.00,9,  -999.00,9, -999.000,9, -999.000,9, -999.000,9,   -999.0,9,   -999.0,9,   -999.0,9,    20.00,-999.0000,9,    25.00, -999.000,9
33RR20050617,KESS,       71,        1,        4,        4,2,20050708,1254,36.9000,148.3333,0,    12.00,     12.0,  21.0060,  34.1045,2,   -999.0,9,  21.0037,-999.0000,9,   -999.0,9,  -999.00,9,  -999.00,9,  -999.00,9,  -999.00,9, -999.000,9, -999.000,9, -999.000,9,   -999.0,9,   -999.0,9,   -999.0,9,    20.00,-999.0000,9,    25.00, -999.000,9
33RR20050617,KESS,       71,        1,        3,        3,2,20050708,1254,36.9000,148.3333,0,  1005.50,   1005.5,   2.8584,  34.4324,2,   -999.0,9,   2.7913,-999.0000,9,   -999.0,9,  -999.00,9,  -999.00,9,  -999.00,9,  -999.00,9, -999.000,9, -999.000,9, -999.000,9,   -999.0,9,   -999.0,9,   -999.0,9,    20.00,-999.0000,9,    25.00, -999.000,9
33RR20050617,KESS,       71,        1,        2,        2,2,20050708,1254,36.9000,148.3333,0,  1509.50,   1509.5,   2.1818,  34.5474,2,   -999.0,9,   2.0828,-999.0000,1,   -999.0,9,  -999.00,9,  -999.00,9,  -999.00,9,  -999.00,9, -999.000,9, -999.000,9, -999.000,9,   -999.0,9,   -999.0,9,   -999.0,9,    20.00,-999.0000,9,    25.00, -999.000,9
33RR20050617,KESS,       72,        1,        8,        8,2,20050708,1554,37.1017,148.3483,0,    14.00,     14.0,  20.2216,  33.8853,2,   -999.0,9,  20.2190,  33.8919,2,   -999.0,9,  -999.00,9,  -999.00,9,  -999.00,9,  -999.00,9, -999.000,9, -999.000,9, -999.000,9,   -999.0,9,   -999.0,9,   -999.0,9,    20.00,-999.0000,9,    25.00, -999.000,9
33RR20050617,KESS,       72,        1,        7,        7,2,20050708,1554,37.1017,148.3483,0,   129.20,    129.2,   7.0259,  33.8344,2,   -999.0,9,   7.0141,  33.8935,3,   -999.0,9,  -999.00,9,  -999.00,9,  -999.00,9,  -999.00,9, -999.000,9, -999.000,9, -999.000,9,   -999.0,9,   -999.0,9,   -999.0,9,    20.00,-999.0000,9,    25.00, -999.000,9
33RR20050617,KESS,       72,        1,        6,        6,2,20050708,1554,37.1017,148.3483,0,   485.30,    485.3,   4.2087,  34.1374,2,   -999.0,9,   4.1734,  34.1391,2,   -999.0,9,  -999.00,9,  -999.00,9,  -999.00,9,  -999.00,9, -999.000,9, -999.000,9, -999.000,9,   -999.0,9,   -999.0,9,   -999.0,9,    20.00,-999.0000,9,    25.00, -999.000,9
33RR20050617,KESS,       72,        1,        5,        5,2,20050708,1554,37.1017,148.3483,0,  1007.50,   1007.5,   2.8297,  34.4356,2,   -999.0,9,   2.7627,  34.4373,2,   -999.0,9,  -999.00,9,  -999.00,9,  -999.00,9,  -999.00,9, -999.000,9, -999.000,9, -999.000,9,   -999.0,9,   -999.0,9,   -999.0,9,    20.00,-999.0000,9,    25.00, -999.000,9
33RR20050617,KESS,       72,        1,        4,        4,2,20050708,1554,37.1017,148.3483,0,  2017.20,   2017.2,   1.7988,  34.6191,2,   -999.0,9,   1.6640,  34.6196,2,   -999.0,9,  -999.00,9,  -999.00,9,  -999.00,9,  -999.00,9, -999.000,9, -999.000,9, -999.000,9,   -999.0,9,   -999.0,9,   -999.0,9,    20.00,-999.0000,9,    25.00, -999.000,9
33RR20050617,KESS,       72,        1,        3,        3,2,20050708,1554,37.1017,148.3483,0,  3031.00,   3031.0,   1.5188,  34.6685,2,   -999.0,9,   1.2987,  34.6673,2,   -999.0,9,  -999.00,9,  -999.00,9,  -999.00,9,  -999.00,9, -999.000,9, -999.000,9, -999.000,9,   -999.0,9,   -999.0,9,   -999.0,9,    20.00,-999.0000,9,    25.00, -999.000,9
33RR20050617,KESS,       72,        1,        1,        1,2,20050708,1554,37.1017,148.3483,0,  3998.70,   3998.7,   1.4586,  34.6846,2,   -999.0,9,   1.1410,  34.6857,2,   -999.0,9,  -999.00,9,  -999.00,9,  -999.00,9,  -999.00,9, -999.000,9, -999.000,9, -999.000,9,   -999.0,9,   -999.0,9,   -999.0,9,    20.00,-999.0000,9,    25.00, -999.000,9
33RR20050617,KESS,       72,        1,        2,        2,2,20050708,1554,37.1017,148.3483,0,  3998.80,   3998.8,   1.4583,  34.6846,2,   -999.0,9,   1.1407,  34.6845,2,   -999.0,9,  -999.00,9,  -999.00,9,  -999.00,9,  -999.00,9, -999.000,9, -999.000,9, -999.000,9,   -999.0,9,   -999.0,9,   -999.0,9,    20.00,-999.0000,9,    25.00, -999.000,9
33RR20050617,KESS,       73,        1,        3,        3,2,20050708,1852,37.1000,148.6000,0,  1511.30,   1511.3,   2.1944,  34.5467,2,   -999.0,9,   2.0951,  34.5470,2,   -999.0,9,  -999.00,9,  -999.00,9,  -999.00,9,  -999.00,9, -999.000,9, -999.000,9, -999.000,9,   -999.0,9,   -999.0,9,   -999.0,9,    20.00,-999.0000,9,    25.00, -999.000,9
33RR20050617,KESS,       73,        1,        1,        1,2,20050708,1852,37.1000,148.6000,0,  1511.50,   1511.5,   2.1936,  34.5469,2,   -999.0,9,   2.0943,  34.5470,2,   -999.0,9,  -999.00,9,  -999.00,9,  -999.00,9,  -999.00,9, -999.000,9, -999.000,9, -999.000,9,   -999.0,9,   -999.0,9,   -999.0,9,    20.00,-999.0000,9,    25.00, -999.000,9
33RR20050617,KESS,       73,        1,        2,        2,2,20050708,1852,37.1000,148.6000,0,  1511.50,   1511.5,   2.1942,  34.5468,2,   -999.0,9,   2.0949,  34.5474,2,   -999.0,9,  -999.00,9,  -999.00,9,  -999.00,9,  -999.00,9, -999.000,9, -999.000,9, -999.000,9,   -999.0,9,   -999.0,9,   -999.0,9,    20.00,-999.0000,9,    25.00, -999.000,9
33RR20050617,KESS,       74,        1,        2,        2,2,20050708,2040,36.9997,148.6673,0,  1510.80,   1510.8,   2.1852,  34.5487,2,   -999.0,9,   2.0860,-999.0000,9,   -999.0,9,  -999.00,9,  -999.00,9,  -999.00,9,  -999.00,9, -999.000,9, -999.000,9, -999.000,9,   -999.0,9,   -999.0,9,   -999.0,9,    20.00,-999.0000,9,    25.00, -999.000,9
33RR20050617,KESS,       74,        1,        1,        1,2,20050708,2040,36.9997,148.6673,0,  1510.80,   1510.8,   2.1855,  34.5487,2,   -999.0,9,   2.0863,  34.5501,2,   -999.0,9,  -999.00,9,  -999.00,9,  -999.00,9,  -999.00,9, -999.000,9, -999.000,9, -999.000,9,   -999.0,9,   -999.0,9,   -999.0,9,    20.00,-999.0000,9,    25.00, -999.000,9
33RR20050617,KESS,       74,        1,        3,        3,2,20050708,2040,36.9997,148.6673,0,  1510.90,   1510.9,   2.1854,  34.5486,2,   -999.0,9,   2.0862,-999.0000,9,   -999.0,9,  -999.00,9,  -999.00,9,  -999.00,9,  -999.00,9, -999.000,9, -999.000,9, -999.000,9,   -999.0,9,   -999.0,9,   -999.0,9,    20.00,-999.0000,9,    25.00, -999.000,9
33RR20050617,KESS,       75,        1,        1,        1,2,20050708,2221,36.9000,148.7250,0,  1510.80,   1510.8,   2.2105,  34.5445,2,   -999.0,9,   2.1110,  34.5447,2,   -999.0,9,  -999.00,9,  -999.00,9,  -999.00,9,  -999.00,9, -999.000,9, -999.000,9, -999.000,9,   -999.0,9,   -999.0,9,   -999.0,9,    20.00,-999.0000,9,    25.00, -999.000,9
33RR20050617,KESS,       75,        1,        2,        2,2,20050708,2221,36.9000,148.7250,0,  1510.80,   1510.8,   2.2083,  34.5448,2,   -999.0,9,   2.1089,-999.0000,9,   -999.0,9,  -999.00,9,  -999.00,9,  -999.00,9,  -999.00,9, -999.000,9, -999.000,9, -999.000,9,   -999.0,9,   -999.0,9,   -999.0,9,    20.00,-999.0000,9,    25.00, -999.000,9
33RR20050617,KESS,       75,        1,        3,        3,2,20050708,2221,36.9000,148.7250,0,  1510.90,   1510.9,   2.2091,  34.5447,2,   -999.0,9,   2.1096,-999.0000,9,   -999.0,9,  -999.00,9,  -999.00,9,  -999.00,9,  -999.00,9, -999.000,9, -999.000,9, -999.000,9,   -999.0,9,   -999.0,9,   -999.0,9,    20.00,-999.0000,9,    25.00, -999.000,9
33RR20050617,KESS,       76,        1,        2,        2,2,20050709,0016,36.8000,148.7833,0,  1510.60,   1510.6,   2.2138,  34.5462,2,   -999.0,9,   2.1142,-999.0000,9,   -999.0,9,  -999.00,9,  -999.00,9,  -999.00,9,  -999.00,9, -999.000,9, -999.000,9, -999.000,9,   -999.0,9,   -999.0,9,   -999.0,9,    20.00,-999.0000,9,    25.00, -999.000,9
33RR20050617,KESS,       76,        1,        3,        3,2,20050709,0016,36.8000,148.7833,0,  1510.70,   1510.7,   2.2133,  34.5462,2,   -999.0,9,   2.1138,-999.0000,9,   -999.0,9,  -999.00,9,  -999.00,9,  -999.00,9,  -999.00,9, -999.000,9, -999.000,9, -999.000,9,   -999.0,9,   -999.0,9,   -999.0,9,    20.00,-999.0000,9,    25.00, -999.000,9
33RR20050617,KESS,       76,        1,        1,        1,2,20050709,0016,36.8000,148.7833,0,  1510.80,   1510.8,   2.2133,  34.5462,2,   -999.0,9,   2.1138,  34.5464,2,   -999.0,9,  -999.00,9,  -999.00,9,  -999.00,9,  -999.00,9, -999.000,9, -999.000,9, -999.000,9,   -999.0,9,   -999.0,9,   -999.0,9,    20.00,-999.0000,9,    25.00, -999.000,9
33RR20050617,KESS,       77,        1,        3,        3,2,20050709,0208,36.7002,148.8463,0,  1508.00,   1508.0,   2.2315,  34.5409,2,   -999.0,9,   2.1320,-999.0000,9,   -999.0,9,  -999.00,9,  -999.00,9,  -999.00,9,  -999.00,9, -999.000,9, -999.000,9, -999.000,9,   -999.0,9,   -999.0,9,   -999.0,9,    20.00,-999.0000,9,    25.00, -999.000,9
33RR20050617,KESS,       77,        1,        1,        1,2,20050709,0208,36.7002,148.8463,0,  1508.10,   1508.1,   2.2321,  34.5408,2,   -999.0,9,   2.1326,  34.5413,2,   -999.0,9,  -999.00,9,  -999.00,9,  -999.00,9,  -999.00,9, -999.000,9, -999.000,9, -999.000,9,   -999.0,9,   -999.0,9,   -999.0,9,    20.00,-999.0000,9,    25.00, -999.000,9
33RR20050617,KESS,       77,        1,        2,        2,2,20050709,0208,36.7002,148.8463,0,  1508.20,   1508.2,   2.2317,  34.5409,2,   -999.0,9,   2.1322,-999.0000,9,   -999.0,9,  -999.00,9,  -999.00,9,  -999.00,9,  -999.00,9, -999.000,9, -999.000,9, -999.000,9,   -999.0,9,   -999.0,9,   -999.0,9,    20.00,-999.0000,9,    25.00, -999.000,9
33RR20050617,KESS,       78,        1,        1,        1,2,20050709,0357,36.5973,148.9047,0,  1540.80,   1540.8,   2.2208,  34.5401,2,   -999.0,9,   2.1189,  34.5411,2,   -999.0,9,  -999.00,9,  -999.00,9,  -999.00,9,  -999.00,9, -999.000,9, -999.000,9, -999.000,9,   -999.0,9,   -999.0,9,   -999.0,9,    20.00,-999.0000,9,    25.00, -999.000,9
33RR20050617,KESS,       79,        1,        1,        1,2,20050709,0550,36.5003,148.9585,0,  1544.30,   1544.3,   2.2738,  34.5344,2,   -999.0,9,   2.1709,  34.5353,2,   -999.0,9,  -999.00,9,  -999.00,9,  -999.00,9,  -999.00,9, -999.000,9, -999.000,9, -999.000,9,   -999.0,9,   -999.0,9,   -999.0,9,    20.00,-999.0000,9,    25.00, -999.000,9
33RR20050617,KESS,       79,        1,        2,        2,2,20050709,0550,36.5003,148.9585,0,  1545.20,   1545.2,   2.2689,  34.5345,2,   -999.0,9,   2.1661,-999.0000,9,   -999.0,9,  -999.00,9,  -999.00,9,  -999.00,9,  -999.00,9, -999.000,9, -999.000,9, -999.000,9,   -999.0,9,   -999.0,9,   -999.0,9,    20.00,-999.0000,9,    25.00, -999.000,9
33RR20050617,KESS,       79,        1,        3,        3,2,20050709,0550,36.5003,148.9585,0,  1545.90,   1545.9,   2.2677,  34.5346,2,   -999.0,9,   2.1648,-999.0000,9,   -999.0,9,  -999.00,9,  -999.00,9,  -999.00,9,  -999.00,9, -999.000,9, -999.000,9, -999.000,9,   -999.0,9,   -999.0,9,   -999.0,9,    20.00,-999.0000,9,    25.00, -999.000,9
33RR20050617,KESS,       80,        1,        1,        1,2,20050709,0751,36.4002,149.0172,0,  1525.90,   1525.9,   2.3470,  34.5196,2,   -999.0,9,   2.2448,  34.5190,2,   -999.0,9,  -999.00,9,  -999.00,9,  -999.00,9,  -999.00,9, -999.000,9, -999.000,9, -999.000,9,   -999.0,9,   -999.0,9,   -999.0,9,    20.00,-999.0000,9,    25.00, -999.000,9
33RR20050617,KESS,       80,        1,        2,        2,2,20050709,0751,36.4002,149.0172,0,  1526.20,   1526.2,   2.3471,  34.5198,2,   -999.0,9,   2.2448,-999.0000,9,   -999.0,9,  -999.00,9,  -999.00,9,  -999.00,9,  -999.00,9, -999.000,9, -999.000,9, -999.000,9,   -999.0,9,   -999.0,9,   -999.0,9,    20.00,-999.0000,9,    25.00, -999.000,9
33RR20050617,KESS,       80,        1,        3,        3,2,20050709,0751,36.4002,149.0172,0,  1526.40,   1526.4,   2.3469,  34.5198,2,   -999.0,9,   2.2447,-999.0000,9,   -999.0,9,  -999.00,9,  -999.00,9,  -999.00,9,  -999.00,9, -999.000,9, -999.000,9, -999.000,9,   -999.0,9,   -999.0,9,   -999.0,9,    20.00,-999.0000,9,    25.00, -999.000,9
33RR20050617,KESS,       81,        1,        1,        1,2,20050709,0939,36.3002,149.0753,0,  1509.90,   1509.9,   2.3600,  34.5102,2,   -999.0,9,   2.2589,  34.5115,2,   -999.0,9,  -999.00,9,  -999.00,9,  -999.00,9,  -999.00,9, -999.000,9, -999.000,9, -999.000,9,   -999.0,9,   -999.0,9,   -999.0,9,    20.00,-999.0000,9,    25.00, -999.000,9
33RR20050617,KESS,       81,        1,        2,        2,2,20050709,0939,36.3002,149.0753,0,  1510.40,   1510.4,   2.3591,  34.5103,2,   -999.0,9,   2.2580,-999.0000,9,   -999.0,9,  -999.00,9,  -999.00,9,  -999.00,9,  -999.00,9, -999.000,9, -999.000,9, -999.000,9,   -999.0,9,   -999.0,9,   -999.0,9,    20.00,-999.0000,9,    25.00, -999.000,9
33RR20050617,KESS,       81,        1,        3,        3,2,20050709,0939,36.3002,149.0753,0,  1510.70,   1510.7,   2.3591,  34.5104,2,   -999.0,9,   2.2580,-999.0000,9,   -999.0,9,  -999.00,9,  -999.00,9,  -999.00,9,  -999.00,9, -999.000,9, -999.000,9, -999.000,9,   -999.0,9,   -999.0,9,   -999.0,9,    20.00,-999.0000,9,    25.00, -999.000,9
33RR20050617,KESS,       82,        1,        3,        3,2,20050709,1124,36.2010,149.1397,0,  1505.80,   1505.8,   2.4241,  34.5100,2,   -999.0,9,   2.3226,-999.0000,9,   -999.0,9,  -999.00,9,  -999.00,9,  -999.00,9,  -999.00,9, -999.000,9, -999.000,9, -999.000,9,   -999.0,9,   -999.0,9,   -999.0,9,    20.00,-999.0000,9,    25.00, -999.000,9
33RR20050617,KESS,       82,        1,        2,        2,2,20050709,1124,36.2010,149.1397,0,  1505.80,   1505.8,   2.4241,  34.5100,2,   -999.0,9,   2.3226,-999.0000,9,   -999.0,9,  -999.00,9,  -999.00,9,  -999.00,9,  -999.00,9, -999.000,9, -999.000,9, -999.000,9,   -999.0,9,   -999.0,9,   -999.0,9,    20.00,-999.0000,9,    25.00, -999.000,9
33RR20050617,KESS,       82,        1,        1,        1,2,20050709,1124,36.2010,149.1397,0,  1506.00,   1506.0,   2.4242,  34.5100,2,   -999.0,9,   2.3226,  34.5101,2,   -999.0,9,  -999.00,9,  -999.00,9,  -999.00,9,  -999.00,9, -999.000,9, -999.000,9, -999.000,9,   -999.0,9,   -999.0,9,   -999.0,9,    20.00,-999.0000,9,    25.00, -999.000,9