BOTTLE,20100303CCHDOSIOCBG
EXPOCODE,SECT_ID,STNNBR,CASTNO,SAMPNO,BTLNBR,BTLNBR_FLAG_W,DATE,TIME,LATITUDE,LONGITUDE,DEPTH,CTDRAW,CTDPRS,CTDTMP,CTDSAL,CTDSAL_FLAG_W,CTDOXY,CTDOXY_FLAG_W,THETA,SALNTY,SALNTY_FLAG_W,OXYGEN,OXYGEN_FLAG_W,SILCAT,SILCAT_FLAG_W,NITRAT,NITRAT_FLAG_W,NITRIT,NITRIT_FLAG_W,PHSPHT,PHSPHT_FLAG_W,CFC-11,CFC-11_FLAG_W,CFC-12,CFC-12_FLAG_W,CFC113,CFC113_FLAG_W,TCARBN,TCARBN_FLAG_W,ALKALI,ALKALI_FLAG_W,PCO2,PCO2_FLAG_W,PCO2TMP,PH_SWS,PH_SWS_FLAG_W,PH_TMP,CCL4,CCL4_FLAG_W
,,,,,,,,,,,,,DBAR,ITS-90,PSS-78,,UMOL/KG,,DEG C,PSS-78,,UMOL/KG,,UMOL/KG,,UMOL/KG,,UMOL/KG,,UMOL/KG,,PMOL/KG,,PMOL/KG,,PMOL/KG,,UMOL/KG,,UMOL/KG,,UATM,,DEG C,,,DEG C,PMOL/KG,
33RR20050617,KESS,       28,        1,       10,       10,2,20050701,0300,32.3713,147.4045,0,    80.80,     80.8,  20.1705,  34.8383,2,   -999.0,9,  20.1555,  34.8421,2,   -999.0,9,  -999.00,9,  -999.00,9,  -999.00,9,  -999.00,9, -999.000,9, -999.000,9, -999.000,9,   -999.0,9,   -999.0,9,   -999.0,9,    20.00,-999.0000,9,    25.00, -999.000,9
33RR20050617,KESS,       28,        1,        9,        9,2,20050701,0300,32.3713,147.4045,0,   807.30,    807.3,   5.7789,  33.9812,2,   -999.0,9,   5.7086,  33.9813,2,   -999.0,9,  -999.00,9,  -999.00,9,  -999.00,9,  -999.00,9, -999.000,9, -999.000,9, -999.000,9,   -999.0,9,   -999.0,9,   -999.0,9,    20.00,-999.0000,9,    25.00, -999.000,9
33RR20050617,KESS,       28,        1,        8,        8,2,20050701,0300,32.3713,147.4045,0,   807.40,    807.4,   5.7618,  33.9805,2,   -999.0,9,   5.6917,  33.9759,2,   -999.0,9,  -999.00,9,  -999.00,9,  -999.00,9,  -999.00,9, -999.000,9, -999.000,9, -999.000,9,   -999.0,9,   -999.0,9,   -999.0,9,    20.00,-999.0000,9,    25.00, -999.000,9
33RR20050617,KESS,       28,        1,        7,        7,2,20050701,0300,32.3713,147.4045,0,  3030.50,   3030.5,   1.5932,  34.6606,2,   -999.0,9,   1.3715,  34.6598,2,   -999.0,9,  -999.00,9,  -999.00,9,  -999.00,9,  -999.00,9, -999.000,9, -999.000,9, -999.000,9,   -999.0,9,   -999.0,9,   -999.0,9,    20.00,-999.0000,9,    25.00, -999.000,9
33RR20050617,KESS,       28,        1,        6,        6,2,20050701,0300,32.3713,147.4045,0,  3030.60,   3030.6,   1.5933,  34.6606,2,   -999.0,9,   1.3716,  34.6595,2,   -999.0,9,  -999.00,9,  -999.00,9,  -999.00,9,  -999.00,9, -999.000,9, -999.000,9, -999.000,9,   -999.0,9,   -999.0,9,   -999.0,9,    20.00,-999.0000,9,    25.00, -999.000,9
33RR20050617,KESS,       28,        1,        4,        4,2,20050701,0300,32.3713,147.4045,0,  5071.30,   5071.3,   1.5134,  34.6920,2,   -999.0,9,   1.0700,  34.6921,2,   -999.0,9,  -999.00,9,  -999.00,9,  -999.00,9,  -999.00,9, -999.000,9, -999.000,9, -999.000,9,   -999.0,9,   -999.0,9,   -999.0,9,    20.00,-999.0000,9,    25.00, -999.000,9
33RR20050617,KESS,       28,        1,        5,        5,2,20050701,0300,32.3713,147.4045,0,  5071.60,   5071.6,   1.5133,  34.6920,2,   -999.0,9,   1.0699,  34.6914,2,   -999.0,9,  -999.00,9,  -999.00,9,  -999.00,9,  -999.00,9, -999.000,9, -999.000,9, -999.000,9,   -999.0,9,   -999.0,9,   -999.0,9,    20.00,-999.0000,9,    25.00, -999.000,9
33RR20050617,KESS,       28,        1,        3,        3,2,20050701,0300,32.3713,147.4045,0,  6118.90,   6118.9,   1.6198,  34.6945,2,   -999.0,9,   1.0372,  34.6951,2,   -999.0,9,  -999.00,9,  -999.00,9,  -999.00,9,  -999.00,9, -999.000,9, -999.000,9, -999.000,9,   -999.0,9,   -999.0,9,   -999.0,9,    20.00,-999.0000,9,    25.00, -999.000,9
33RR20050617,KESS,       28,        1,        2,        2,2,20050701,0300,32.3713,147.4045,0,  6118.90,   6118.9,   1.6198,  34.6944,2,   -999.0,9,   1.0372,  34.6947,2,   -999.0,9,  -999.00,9,  -999.00,9,  -999.00,9,  -999.00,9, -999.000,9, -999.000,9, -999.000,9,   -999.0,9,   -999.0,9,   -999.0,9,    20.00,-999.0000,9,    25.00, -999.000,9
33RR20050617,KESS,       29,        1,        9,        9,2,20050701,1152,33.2022,147.8765,0,   124.80,    124.8,  20.5188,  34.8210,2,   -999.0,9,  20.4953,  34.8174,2,   -999.0,9,  -999.00,9,  -999.00,9,  -999.00,9,  -999.00,9, -999.000,9, -999.000,9, -999.000,9,   -999.0,9,   -999.0,9,   -999.0,9,    20.00,-999.0000,9,    25.00, -999.000,9
33RR20050617,KESS,       29,        1,       10,       10,2,20050701,1152,33.2022,147.8765,0,   125.00,    125.0,  20.5209,  34.8207,2,   -999.0,9,  20.4974,  34.8159,2,   -999.0,9,  -999.00,9,  -999.00,9,  -999.00,9,  -999.00,9, -999.000,9, -999.000,9, -999.000,9,   -999.0,9,   -999.0,9,   -999.0,9,    20.00,-999.0000,9,    25.00, -999.000,9
33RR20050617,KESS,       29,        1,        7,        7,2,20050701,1152,33.2022,147.8765,0,   842.90,    842.9,   3.6192,  34.0355,2,   -999.0,9,   3.5596,  34.0347,2,   -999.0,9,  -999.00,9,  -999.00,9,  -999.00,9,  -999.00,9, -999.000,9, -999.000,9, -999.000,9,   -999.0,9,   -999.0,9,   -999.0,9,    20.00,-999.0000,9,    25.00, -999.000,9
33RR20050617,KESS,       29,        1,        8,        8,2,20050701,1152,33.2022,147.8765,0,   843.30,    843.3,   3.6202,  34.0352,2,   -999.0,9,   3.5606,  34.0341,2,   -999.0,9,  -999.00,9,  -999.00,9,  -999.00,9,  -999.00,9, -999.000,9, -999.000,9, -999.000,9,   -999.0,9,   -999.0,9,   -999.0,9,    20.00,-999.0000,9,    25.00, -999.000,9
33RR20050617,KESS,       29,        1,        6,        6,2,20050701,1152,33.2022,147.8765,0,  2870.00,   2870.0,   1.5980,  34.6582,2,   -999.0,9,   1.3915,  34.6551,2,   -999.0,9,  -999.00,9,  -999.00,9,  -999.00,9,  -999.00,9, -999.000,9, -999.000,9, -999.000,9,   -999.0,9,   -999.0,9,   -999.0,9,    20.00,-999.0000,9,    25.00, -999.000,9
33RR20050617,KESS,       29,        1,        5,        5,2,20050701,1152,33.2022,147.8765,0,  5028.80,   5028.8,   1.5153,  34.6915,2,   -999.0,9,   1.0770,  34.6928,2,   -999.0,9,  -999.00,9,  -999.00,9,  -999.00,9,  -999.00,9, -999.000,9, -999.000,9, -999.000,9,   -999.0,9,   -999.0,9,   -999.0,9,    20.00,-999.0000,9,    25.00, -999.000,9
33RR20050617,KESS,       29,        1,        4,        4,2,20050701,1152,33.2022,147.8765,0,  5030.20,   5030.2,   1.5154,  34.6915,2,   -999.0,9,   1.0770,  34.6869,2,   -999.0,9,  -999.00,9,  -999.00,9,  -999.00,9,  -999.00,9, -999.000,9, -999.000,9, -999.000,9,   -999.0,9,   -999.0,9,   -999.0,9,    20.00,-999.0000,9,    25.00, -999.000,9
33RR20050617,KESS,       29,        1,        3,        3,2,20050701,1152,33.2022,147.8765,0,  6300.70,   6300.7,   1.6454,  34.6945,2,   -999.0,9,   1.0370,  34.6922,2,   -999.0,9,  -999.00,9,  -999.00,9,  -999.00,9,  -999.00,9, -999.000,9, -999.000,9, -999.000,9,   -999.0,9,   -999.0,9,   -999.0,9,    20.00,-999.0000,9,    25.00, -999.000,9
33RR20050617,KESS,       29,        1,        2,        2,2,20050701,1152,33.2022,147.8765,0,  6301.80,   6301.8,   1.6455,  34.6945,2,   -999.0,9,   1.0369,  34.6966,2,   -999.0,9,  -999.00,9,  -999.00,9,  -999.00,9,  -999.00,9, -999.000,9, -999.000,9, -999.000,9,   -999.0,9,   -999.0,9,   -999.0,9,    20.00,-999.0000,9,    25.00, -999.000,9
33RR20050617,KESS,       30,        1,       10,       10,2,20050701,2137,32.3718,148.3495,0,    21.20,     21.2,  23.5265,  34.6232,2,   -999.0,9,  23.5221,  34.6244,2,   -999.0,9,  -999.00,9,  -999.00,9,  -999.00,9,  -999.00,9, -999.000,9, -999.000,9, -999.000,9,   -999.0,9,   -999.0,9,   -999.0,9,    20.00,-999.0000,9,    25.00, -999.000,9
33RR20050617,KESS,       30,        1,        9,        9,2,20050701,2137,32.3718,148.3495,0,    21.40,     21.4,  23.4605,  34.6224,2,   -999.0,9,  23.4560,  34.7052,3,   -999.0,9,  -999.00,9,  -999.00,9,  -999.00,9,  -999.00,9, -999.000,9, -999.000,9, -999.000,9,   -999.0,9,   -999.0,9,   -999.0,9,    20.00,-999.0000,9,    25.00, -999.000,9
33RR20050617,KESS,       30,        1,        7,        7,2,20050701,2137,32.3718,148.3495,0,  3026.60,   3026.6,   1.6057,  34.6597,2,   -999.0,9,   1.3841,  34.6574,2,   -999.0,9,  -999.00,9,  -999.00,9,  -999.00,9,  -999.00,9, -999.000,9, -999.000,9, -999.000,9,   -999.0,9,   -999.0,9,   -999.0,9,    20.00,-999.0000,9,    25.00, -999.000,9
33RR20050617,KESS,       30,        1,        6,        6,2,20050701,2137,32.3718,148.3495,0,  3027.00,   3027.0,   1.6055,  34.6598,2,   -999.0,9,   1.3839,  34.6576,2,   -999.0,9,  -999.00,9,  -999.00,9,  -999.00,9,  -999.00,9, -999.000,9, -999.000,9, -999.000,9,   -999.0,9,   -999.0,9,   -999.0,9,    20.00,-999.0000,9,    25.00, -999.000,9
33RR20050617,KESS,       30,        1,        8,        8,2,20050701,2137,32.3718,148.3495,0,  3027.10,   3027.1,   1.6057,  34.6597,2,   -999.0,9,   1.3841,  34.6590,2,   -999.0,9,  -999.00,9,  -999.00,9,  -999.00,9,  -999.00,9, -999.000,9, -999.000,9, -999.000,9,   -999.0,9,   -999.0,9,   -999.0,9,    20.00,-999.0000,9,    25.00, -999.000,9
33RR20050617,KESS,       30,        1,        4,        4,2,20050701,2137,32.3718,148.3495,0,  4045.00,   4045.0,   1.4960,  34.6824,2,   -999.0,9,   1.1724,  34.6783,2,   -999.0,9,  -999.00,9,  -999.00,9,  -999.00,9,  -999.00,9, -999.000,9, -999.000,9, -999.000,9,   -999.0,9,   -999.0,9,   -999.0,9,    20.00,-999.0000,9,    25.00, -999.000,9
33RR20050617,KESS,       30,        1,        5,        5,2,20050701,2137,32.3718,148.3495,0,  4045.40,   4045.4,   1.4960,  34.6825,2,   -999.0,9,   1.1723,  34.6786,2,   -999.0,9,  -999.00,9,  -999.00,9,  -999.00,9,  -999.00,9, -999.000,9, -999.000,9, -999.000,9,   -999.0,9,   -999.0,9,   -999.0,9,    20.00,-999.0000,9,    25.00, -999.000,9
33RR20050617,KESS,       30,        1,        2,        2,2,20050701,2137,32.3718,148.3495,0,  5806.90,   5806.9,   1.5681,  34.6952,2,   -999.0,9,   1.0292,  34.6966,2,   -999.0,9,  -999.00,9,  -999.00,9,  -999.00,9,  -999.00,9, -999.000,9, -999.000,9, -999.000,9,   -999.0,9,   -999.0,9,   -999.0,9,    20.00,-999.0000,9,    25.00, -999.000,9
33RR20050617,KESS,       30,        1,        3,        3,2,20050701,2137,32.3718,148.3495,0,  5807.00,   5807.0,   1.5681,  34.6952,2,   -999.0,9,   1.0292,  34.6923,2,   -999.0,9,  -999.00,9,  -999.00,9,  -999.00,9,  -999.00,9, -999.000,9, -999.000,9, -999.000,9,   -999.0,9,   -999.0,9,   -999.0,9,    20.00,-999.0000,9,    25.00, -999.000,9
33RR20050617,KESS,       31,        1,       10,       10,2,20050702,1309,33.8545,148.2495,0,    15.20,     15.2,  23.9342,  34.4825,2,   -999.0,9,  23.9310,  34.4827,2,   -999.0,9,  -999.00,9,  -999.00,9,  -999.00,9,  -999.00,9, -999.000,9, -999.000,9, -999.000,9,   -999.0,9,   -999.0,9,   -999.0,9,    20.00,-999.0000,9,    25.00, -999.000,9
33RR20050617,KESS,       31,        1,        9,        9,2,20050702,1309,33.8545,148.2495,0,   123.20,    123.2,  19.7081,  34.8610,2,   -999.0,9,  19.6856,  34.8616,2,   -999.0,9,  -999.00,9,  -999.00,9,  -999.00,9,  -999.00,9, -999.000,9, -999.000,9, -999.000,9,   -999.0,9,   -999.0,9,   -999.0,9,    20.00,-999.0000,9,    25.00, -999.000,9
33RR20050617,KESS,       31,        1,        8,        8,2,20050702,1309,33.8545,148.2495,0,   150.10,    150.1,  18.9513,  34.8272,2,   -999.0,9,  18.9246,  34.8351,2,   -999.0,9,  -999.00,9,  -999.00,9,  -999.00,9,  -999.00,9, -999.000,9, -999.000,9, -999.000,9,   -999.0,9,   -999.0,9,   -999.0,9,    20.00,-999.0000,9,    25.00, -999.000,9
33RR20050617,KESS,       31,        1,        7,        7,2,20050702,1309,33.8545,148.2495,0,   498.00,    498.0,   8.1225,  34.1543,2,   -999.0,9,   8.0713,  34.1513,2,   -999.0,9,  -999.00,9,  -999.00,9,  -999.00,9,  -999.00,9, -999.000,9, -999.000,9, -999.000,9,   -999.0,9,   -999.0,9,   -999.0,9,    20.00,-999.0000,9,    25.00, -999.000,9
33RR20050617,KESS,       31,        1,        6,        6,2,20050702,1309,33.8545,148.2495,0,   959.10,    959.1,   3.6542,  34.2992,2,   -999.0,9,   3.5848,  34.2990,2,   -999.0,9,  -999.00,9,  -999.00,9,  -999.00,9,  -999.00,9, -999.000,9, -999.000,9, -999.000,9,   -999.0,9,   -999.0,9,   -999.0,9,    20.00,-999.0000,9,    25.00, -999.000,9
33RR20050617,KESS,       31,        1,        5,        5,2,20050702,1309,33.8545,148.2495,0,  1917.20,   1917.2,   2.0501,  34.5793,2,   -999.0,9,   1.9200,  34.5800,2,   -999.0,9,  -999.00,9,  -999.00,9,  -999.00,9,  -999.00,9, -999.000,9, -999.000,9, -999.000,9,   -999.0,9,   -999.0,9,   -999.0,9,    20.00,-999.0000,9,    25.00, -999.000,9
33RR20050617,KESS,       31,        1,        4,        4,2,20050702,1309,33.8545,148.2495,0,  2950.20,   2950.2,   1.5946,  34.6589,2,   -999.0,9,   1.3805,  34.6568,2,   -999.0,9,  -999.00,9,  -999.00,9,  -999.00,9,  -999.00,9, -999.000,9, -999.000,9, -999.000,9,   -999.0,9,   -999.0,9,   -999.0,9,    20.00,-999.0000,9,    25.00, -999.000,9
33RR20050617,KESS,       31,        1,        3,        3,2,20050702,1309,33.8545,148.2495,0,  5012.40,   5012.4,   1.5142,  34.6905,2,   -999.0,9,   1.0780,  34.6903,2,   -999.0,9,  -999.00,9,  -999.00,9,  -999.00,9,  -999.00,9, -999.000,9, -999.000,9, -999.000,9,   -999.0,9,   -999.0,9,   -999.0,9,    20.00,-999.0000,9,    25.00, -999.000,9
33RR20050617,KESS,       31,        1,        2,        2,2,20050702,1309,33.8545,148.2495,0,  6251.20,   6251.2,   1.6401,  34.6935,2,   -999.0,9,   1.0387,  34.6935,2,   -999.0,9,  -999.00,9,  -999.00,9,  -999.00,9,  -999.00,9, -999.000,9, -999.000,9, -999.000,9,   -999.0,9,   -999.0,9,   -999.0,9,    20.00,-999.0000,9,    25.00, -999.000,9
33RR20050617,KESS,       32,        1,       10,       10,2,20050703,0929,36.3453,148.8528,0,    17.60,     17.6,  23.9046,  34.4458,2,   -999.0,9,  23.9009,-999.0000,1,   -999.0,9,  -999.00,9,  -999.00,9,  -999.00,9,  -999.00,9, -999.000,9, -999.000,9, -999.000,9,   -999.0,9,   -999.0,9,   -999.0,9,    20.00,-999.0000,9,    25.00, -999.000,9
33RR20050617,KESS,       32,        1,        9,        9,2,20050703,0929,36.3453,148.8528,0,    47.50,     47.5,  21.0820,  34.7135,2,   -999.0,9,  21.0729,-999.0000,1,   -999.0,9,  -999.00,9,  -999.00,9,  -999.00,9,  -999.00,9, -999.000,9, -999.000,9, -999.000,9,   -999.0,9,   -999.0,9,   -999.0,9,    20.00,-999.0000,9,    25.00, -999.000,9
33RR20050617,KESS,       32,        1,        8,        8,2,20050703,0929,36.3453,148.8528,0,   300.90,    300.9,   7.4121,  33.8638,2,   -999.0,9,   7.3833,-999.0000,1,   -999.0,9,  -999.00,9,  -999.00,9,  -999.00,9,  -999.00,9, -999.000,9, -999.000,9, -999.000,9,   -999.0,9,   -999.0,9,   -999.0,9,    20.00,-999.0000,9,    25.00, -999.000,9
33RR20050617,KESS,       32,        1,        7,        7,2,20050703,0929,36.3453,148.8528,0,   422.30,    422.3,   7.1642,  34.2211,2,   -999.0,9,   7.1240,-999.0000,1,   -999.0,9,  -999.00,9,  -999.00,9,  -999.00,9,  -999.00,9, -999.000,9, -999.000,9, -999.000,9,   -999.0,9,   -999.0,9,   -999.0,9,    20.00,-999.0000,9,    25.00, -999.000,9
33RR20050617,KESS,       32,        1,        6,        6,2,20050703,0929,36.3453,148.8528,0,   991.50,    991.5,   3.0931,  34.3908,2,   -999.0,9,   3.0253,-999.0000,1,   -999.0,9,  -999.00,9,  -999.00,9,  -999.00,9,  -999.00,9, -999.000,9, -999.000,9, -999.000,9,   -999.0,9,   -999.0,9,   -999.0,9,    20.00,-999.0000,9,    25.00, -999.000,9
33RR20050617,KESS,       32,        1,        5,        5,2,20050703,0929,36.3453,148.8528,0,  1992.80,   1992.8,   1.9071,  34.6025,2,   -999.0,9,   1.7728,-999.0000,1,   -999.0,9,  -999.00,9,  -999.00,9,  -999.00,9,  -999.00,9, -999.000,9, -999.000,9, -999.000,9,   -999.0,9,   -999.0,9,   -999.0,9,    20.00,-999.0000,9,    25.00, -999.000,9
33RR20050617,KESS,       32,        1,        4,        4,2,20050703,0929,36.3453,148.8528,0,  5067.20,   5067.2,   1.5107,  34.6915,2,   -999.0,9,   1.0679,-999.0000,1,   -999.0,9,  -999.00,9,  -999.00,9,  -999.00,9,  -999.00,9, -999.000,9, -999.000,9, -999.000,9,   -999.0,9,   -999.0,9,   -999.0,9,    20.00,-999.0000,9,    25.00, -999.000,9
33RR20050617,KESS,       32,        1,        3,        3,2,20050703,0929,36.3453,148.8528,0,  5067.40,   5067.4,   1.5107,  34.6915,2,   -999.0,9,   1.0679,-999.0000,1,   -999.0,9,  -999.00,9,  -999.00,9,  -999.00,9,  -999.00,9, -999.000,9, -999.000,9, -999.000,9,   -999.0,9,   -999.0,9,   -999.0,9,    20.00,-999.0000,9,    25.00, -999.000,9
33RR20050617,KESS,       32,        1,        2,        2,2,20050703,0929,36.3453,148.8528,0,  5928.50,   5928.5,   1.5984,  34.6934,2,   -999.0,9,   1.0423,-999.0000,1,   -999.0,9,  -999.00,9,  -999.00,9,  -999.00,9,  -999.00,9, -999.000,9, -999.000,9, -999.000,9,   -999.0,9,   -999.0,9,   -999.0,9,    20.00,-999.0000,9,    25.00, -999.000,9
33RR20050617,KESS,       33,        1,       10,       10,2,20050703,1830,37.1018,148.3482,0,    45.60,     45.6,  11.8496,  34.0737,2,   -999.0,9,  11.8438,  34.0771,2,   -999.0,9,  -999.00,9,  -999.00,9,  -999.00,9,  -999.00,9, -999.000,9, -999.000,9, -999.000,9,   -999.0,9,   -999.0,9,   -999.0,9,    20.00,-999.0000,9,    25.00, -999.000,9
33RR20050617,KESS,       33,        1,        9,        9,2,20050703,1830,37.1018,148.3482,0,    45.60,     45.6,  11.8323,  34.0746,2,   -999.0,9,  11.8265,  34.0809,2,   -999.0,9,  -999.00,9,  -999.00,9,  -999.00,9,  -999.00,9, -999.000,9, -999.000,9, -999.000,9,   -999.0,9,   -999.0,9,   -999.0,9,    20.00,-999.0000,9,    25.00, -999.000,9
33RR20050617,KESS,       33,        1,        8,        8,2,20050703,1830,37.1018,148.3482,0,   276.00,    276.0,   4.8416,  33.8672,2,   -999.0,9,   4.8207,  33.8697,2,   -999.0,9,  -999.00,9,  -999.00,9,  -999.00,9,  -999.00,9, -999.000,9, -999.000,9, -999.000,9,   -999.0,9,   -999.0,9,   -999.0,9,    20.00,-999.0000,9,    25.00, -999.000,9
33RR20050617,KESS,       33,        1,        7,        7,2,20050703,1830,37.1018,148.3482,0,   276.20,    276.2,   4.8398,  33.8687,2,   -999.0,9,   4.8189,  33.8695,2,   -999.0,9,  -999.00,9,  -999.00,9,  -999.00,9,  -999.00,9, -999.000,9, -999.000,9, -999.000,9,   -999.0,9,   -999.0,9,   -999.0,9,    20.00,-999.0000,9,    25.00, -999.000,9
33RR20050617,KESS,       33,        1,        5,        5,2,20050703,1830,37.1018,148.3482,0,   326.20,    326.2,   5.2011,  34.0177,2,   -999.0,9,   5.1753,  34.0190,2,   -999.0,9,  -999.00,9,  -999.00,9,  -999.00,9,  -999.00,9, -999.000,9, -999.000,9, -999.000,9,   -999.0,9,   -999.0,9,   -999.0,9,    20.00,-999.0000,9,    25.00, -999.000,9
33RR20050617,KESS,       33,        1,        6,        6,2,20050703,1830,37.1018,148.3482,0,   326.20,    326.2,   5.2011,  34.0174,2,   -999.0,9,   5.1753,  34.0183,2,   -999.0,9,  -999.00,9,  -999.00,9,  -999.00,9,  -999.00,9, -999.000,9, -999.000,9, -999.000,9,   -999.0,9,   -999.0,9,   -999.0,9,    20.00,-999.0000,9,    25.00, -999.000,9
33RR20050617,KESS,       33,        1,        4,        4,2,20050703,1830,37.1018,148.3482,0,  2019.00,   2019.0,   1.8406,  34.6131,2,   -999.0,9,   1.7051,  34.6135,2,   -999.0,9,  -999.00,9,  -999.00,9,  -999.00,9,  -999.00,9, -999.000,9, -999.000,9, -999.000,9,   -999.0,9,   -999.0,9,   -999.0,9,    20.00,-999.0000,9,    25.00, -999.000,9
33RR20050617,KESS,       33,        1,        2,        2,2,20050703,1830,37.1018,148.3482,0,  5813.40,   5813.4,   1.5827,  34.6935,2,   -999.0,9,   1.0423,  34.6944,2,   -999.0,9,  -999.00,9,  -999.00,9,  -999.00,9,  -999.00,9, -999.000,9, -999.000,9, -999.000,9,   -999.0,9,   -999.0,9,   -999.0,9,    20.00,-999.0000,9,    25.00, -999.000,9
33RR20050617,KESS,       33,        1,        3,        3,2,20050703,1830,37.1018,148.3482,0,  5813.40,   5813.4,   1.5829,  34.6934,2,   -999.0,9,   1.0425,  34.6944,2,   -999.0,9,  -999.00,9,  -999.00,9,  -999.00,9,  -999.00,9, -999.000,9, -999.000,9, -999.000,9,   -999.0,9,   -999.0,9,   -999.0,9,    20.00,-999.0000,9,    25.00, -999.000,9