BOTTLE,20100303CCHDOSIOCBG
EXPOCODE,SECT_ID,STNNBR,CASTNO,SAMPNO,BTLNBR,BTLNBR_FLAG_W,DATE,TIME,LATITUDE,LONGITUDE,DEPTH,CTDRAW,CTDPRS,CTDTMP,CTDSAL,CTDSAL_FLAG_W,CTDOXY,CTDOXY_FLAG_W,THETA,SALNTY,SALNTY_FLAG_W,OXYGEN,OXYGEN_FLAG_W,SILCAT,SILCAT_FLAG_W,NITRAT,NITRAT_FLAG_W,NITRIT,NITRIT_FLAG_W,PHSPHT,PHSPHT_FLAG_W,CFC-11,CFC-11_FLAG_W,CFC-12,CFC-12_FLAG_W,CFC113,CFC113_FLAG_W,TCARBN,TCARBN_FLAG_W,ALKALI,ALKALI_FLAG_W,PCO2,PCO2_FLAG_W,PCO2TMP,PH_SWS,PH_SWS_FLAG_W,PH_TMP,CCL4,CCL4_FLAG_W
,,,,,,,,,,,,,DBAR,ITS-90,PSS-78,,UMOL/KG,,DEG C,PSS-78,,UMOL/KG,,UMOL/KG,,UMOL/KG,,UMOL/KG,,UMOL/KG,,PMOL/KG,,PMOL/KG,,PMOL/KG,,UMOL/KG,,UMOL/KG,,UATM,,DEG C,,,DEG C,PMOL/KG,
33RR20050617,KESS,       16,        1,       10,       10,2,20050626,0116,33.9193,144.6227,0,    26.50,     26.5,  23.5065,  34.4809,2,   -999.0,9,  23.5011,  34.4881,2,   -999.0,9,  -999.00,9,  -999.00,9,  -999.00,9,  -999.00,9, -999.000,9, -999.000,9, -999.000,9,   -999.0,9,   -999.0,9,   -999.0,9,    20.00,-999.0000,9,    25.00, -999.000,9
33RR20050617,KESS,       16,        1,        8,        8,2,20050626,0116,33.9193,144.6227,0,   123.10,    123.1,  19.4462,  34.9268,2,   -999.0,9,  19.4239,  34.9329,2,   -999.0,9,  -999.00,9,  -999.00,9,  -999.00,9,  -999.00,9, -999.000,9, -999.000,9, -999.000,9,   -999.0,9,   -999.0,9,   -999.0,9,    20.00,-999.0000,9,    25.00, -999.000,9
33RR20050617,KESS,       16,        1,        9,        9,2,20050626,0116,33.9193,144.6227,0,   123.20,    123.2,  19.4406,  34.9257,2,   -999.0,9,  19.4183,  34.9299,2,   -999.0,9,  -999.00,9,  -999.00,9,  -999.00,9,  -999.00,9, -999.000,9, -999.000,9, -999.000,9,   -999.0,9,   -999.0,9,   -999.0,9,    20.00,-999.0000,9,    25.00, -999.000,9
33RR20050617,KESS,       16,        1,        7,        7,2,20050626,0116,33.9193,144.6227,0,   703.20,    703.2,   7.0391,  34.1642,2,   -999.0,9,   6.9716,  34.1646,2,   -999.0,9,  -999.00,9,  -999.00,9,  -999.00,9,  -999.00,9, -999.000,9, -999.000,9, -999.000,9,   -999.0,9,   -999.0,9,   -999.0,9,    20.00,-999.0000,9,    25.00, -999.000,9
33RR20050617,KESS,       16,        1,        6,        6,2,20050626,0116,33.9193,144.6227,0,  2017.20,   2017.2,   2.0761,  34.5754,2,   -999.0,9,   1.9372,  34.5757,2,   -999.0,9,  -999.00,9,  -999.00,9,  -999.00,9,  -999.00,9, -999.000,9, -999.000,9, -999.000,9,   -999.0,9,   -999.0,9,   -999.0,9,    20.00,-999.0000,9,    25.00, -999.000,9
33RR20050617,KESS,       16,        1,        5,        5,2,20050626,0116,33.9193,144.6227,0,  3031.00,   3031.0,   1.5655,  34.6636,2,   -999.0,9,   1.3444,  34.6639,2,   -999.0,9,  -999.00,9,  -999.00,9,  -999.00,9,  -999.00,9, -999.000,9, -999.000,9, -999.000,9,   -999.0,9,   -999.0,9,   -999.0,9,    20.00,-999.0000,9,    25.00, -999.000,9
33RR20050617,KESS,       16,        1,        4,        4,2,20050626,0116,33.9193,144.6227,0,  4049.50,   4049.5,   1.4705,  34.6849,2,   -999.0,9,   1.1470,  34.6886,2,   -999.0,9,  -999.00,9,  -999.00,9,  -999.00,9,  -999.00,9, -999.000,9, -999.000,9, -999.000,9,   -999.0,9,   -999.0,9,   -999.0,9,    20.00,-999.0000,9,    25.00, -999.000,9
33RR20050617,KESS,       16,        1,        3,        3,2,20050626,0116,33.9193,144.6227,0,  5868.70,   5868.7,   1.5875,  34.6946,2,   -999.0,9,   1.0397,  34.6955,2,   -999.0,9,  -999.00,9,  -999.00,9,  -999.00,9,  -999.00,9, -999.000,9, -999.000,9, -999.000,9,   -999.0,9,   -999.0,9,   -999.0,9,    20.00,-999.0000,9,    25.00, -999.000,9
33RR20050617,KESS,       16,        1,        2,        2,2,20050626,0116,33.9193,144.6227,0,  5868.70,   5868.7,   1.5875,  34.6946,2,   -999.0,9,   1.0397,  34.6953,2,   -999.0,9,  -999.00,9,  -999.00,9,  -999.00,9,  -999.00,9, -999.000,9, -999.000,9, -999.000,9,   -999.0,9,   -999.0,9,   -999.0,9,    20.00,-999.0000,9,    25.00, -999.000,9
33RR20050617,KESS,       17,        1,       10,       10,2,20050626,1058,33.1913,145.0322,0,    15.90,     15.9,  23.8523,  34.5064,2,   -999.0,9,  23.8489,  34.5125,2,   -999.0,9,  -999.00,9,  -999.00,9,  -999.00,9,  -999.00,9, -999.000,9, -999.000,9, -999.000,9,   -999.0,9,   -999.0,9,   -999.0,9,    20.00,-999.0000,9,    25.00, -999.000,9
33RR20050617,KESS,       17,        1,        9,        9,2,20050626,1058,33.1913,145.0322,0,   702.70,    702.7,   7.0480,  33.8977,2,   -999.0,9,   6.9807,  33.9005,2,   -999.0,9,  -999.00,9,  -999.00,9,  -999.00,9,  -999.00,9, -999.000,9, -999.000,9, -999.000,9,   -999.0,9,   -999.0,9,   -999.0,9,    20.00,-999.0000,9,    25.00, -999.000,9
33RR20050617,KESS,       17,        1,        8,        8,2,20050626,1058,33.1913,145.0322,0,   702.80,    702.8,   7.0501,  33.8982,2,   -999.0,9,   6.9828,  33.9001,2,   -999.0,9,  -999.00,9,  -999.00,9,  -999.00,9,  -999.00,9, -999.000,9, -999.000,9, -999.000,9,   -999.0,9,   -999.0,9,   -999.0,9,    20.00,-999.0000,9,    25.00, -999.000,9
33RR20050617,KESS,       17,        1,        7,        7,2,20050626,1058,33.1913,145.0322,0,  2016.50,   2016.5,   2.0824,  34.5770,2,   -999.0,9,   1.9435,  34.5768,2,   -999.0,9,  -999.00,9,  -999.00,9,  -999.00,9,  -999.00,9, -999.000,9, -999.000,9, -999.000,9,   -999.0,9,   -999.0,9,   -999.0,9,    20.00,-999.0000,9,    25.00, -999.000,9
33RR20050617,KESS,       17,        1,        6,        6,2,20050626,1058,33.1913,145.0322,0,  2076.10,   2076.1,   2.0321,  34.5858,2,   -999.0,9,   1.8889,  34.5856,2,   -999.0,9,  -999.00,9,  -999.00,9,  -999.00,9,  -999.00,9, -999.000,9, -999.000,9, -999.000,9,   -999.0,9,   -999.0,9,   -999.0,9,    20.00,-999.0000,9,    25.00, -999.000,9
33RR20050617,KESS,       17,        1,        4,        4,2,20050626,1058,33.1913,145.0322,0,  5071.20,   5071.2,   1.5116,  34.6924,2,   -999.0,9,   1.0683,  34.6908,2,   -999.0,9,  -999.00,9,  -999.00,9,  -999.00,9,  -999.00,9, -999.000,9, -999.000,9, -999.000,9,   -999.0,9,   -999.0,9,   -999.0,9,    20.00,-999.0000,9,    25.00, -999.000,9
33RR20050617,KESS,       17,        1,        5,        5,2,20050626,1058,33.1913,145.0322,0,  5071.40,   5071.4,   1.5118,  34.6923,2,   -999.0,9,   1.0684,  34.6919,2,   -999.0,9,  -999.00,9,  -999.00,9,  -999.00,9,  -999.00,9, -999.000,9, -999.000,9, -999.000,9,   -999.0,9,   -999.0,9,   -999.0,9,    20.00,-999.0000,9,    25.00, -999.000,9
33RR20050617,KESS,       17,        1,        3,        3,2,20050626,1058,33.1913,145.0322,0,  5841.30,   5841.3,   1.5925,  34.6939,2,   -999.0,9,   1.0481,  34.6944,2,   -999.0,9,  -999.00,9,  -999.00,9,  -999.00,9,  -999.00,9, -999.000,9, -999.000,9, -999.000,9,   -999.0,9,   -999.0,9,   -999.0,9,    20.00,-999.0000,9,    25.00, -999.000,9
33RR20050617,KESS,       17,        1,        2,        2,2,20050626,1058,33.1913,145.0322,0,  5841.40,   5841.4,   1.5925,  34.6939,2,   -999.0,9,   1.0481,  34.6942,2,   -999.0,9,  -999.00,9,  -999.00,9,  -999.00,9,  -999.00,9, -999.000,9, -999.000,9, -999.000,9,   -999.0,9,   -999.0,9,   -999.0,9,    20.00,-999.0000,9,    25.00, -999.000,9
33RR20050617,KESS,       18,        1,       10,       10,2,20050626,1906,33.1870,145.9928,0,    21.20,     21.2,  23.5733,  34.4848,2,   -999.0,9,  23.5689,  34.4852,2,   -999.0,9,  -999.00,9,  -999.00,9,  -999.00,9,  -999.00,9, -999.000,9, -999.000,9, -999.000,9,   -999.0,9,   -999.0,9,   -999.0,9,    20.00,-999.0000,9,    25.00, -999.000,9
33RR20050617,KESS,       18,        1,        9,        9,2,20050626,1906,33.1870,145.9928,0,    95.90,     95.9,  19.9460,  34.9453,2,   -999.0,9,  19.9284,  34.9581,2,   -999.0,9,  -999.00,9,  -999.00,9,  -999.00,9,  -999.00,9, -999.000,9, -999.000,9, -999.000,9,   -999.0,9,   -999.0,9,   -999.0,9,    20.00,-999.0000,9,    25.00, -999.000,9
33RR20050617,KESS,       18,        1,        8,        8,2,20050626,1906,33.1870,145.9928,0,   884.70,    884.7,   5.7396,  34.2121,2,   -999.0,9,   5.6621,  34.2141,2,   -999.0,9,  -999.00,9,  -999.00,9,  -999.00,9,  -999.00,9, -999.000,9, -999.000,9, -999.000,9,   -999.0,9,   -999.0,9,   -999.0,9,    20.00,-999.0000,9,    25.00, -999.000,9
33RR20050617,KESS,       18,        1,        6,        6,2,20050626,1906,33.1870,145.9928,0,  2009.60,   2009.6,   2.1012,  34.5698,2,   -999.0,9,   1.9626,  34.5695,2,   -999.0,9,  -999.00,9,  -999.00,9,  -999.00,9,  -999.00,9, -999.000,9, -999.000,9, -999.000,9,   -999.0,9,   -999.0,9,   -999.0,9,    20.00,-999.0000,9,    25.00, -999.000,9
33RR20050617,KESS,       18,        1,        7,        7,2,20050626,1906,33.1870,145.9928,0,  2011.40,   2011.4,   2.0989,  34.5703,2,   -999.0,9,   1.9602,  34.5703,2,   -999.0,9,  -999.00,9,  -999.00,9,  -999.00,9,  -999.00,9, -999.000,9, -999.000,9, -999.000,9,   -999.0,9,   -999.0,9,   -999.0,9,    20.00,-999.0000,9,    25.00, -999.000,9
33RR20050617,KESS,       18,        1,        5,        5,2,20050626,1906,33.1870,145.9928,0,  4024.70,   4024.7,   1.4816,  34.6836,2,   -999.0,9,   1.1606,  34.6833,2,   -999.0,9,  -999.00,9,  -999.00,9,  -999.00,9,  -999.00,9, -999.000,9, -999.000,9, -999.000,9,   -999.0,9,   -999.0,9,   -999.0,9,    20.00,-999.0000,9,    25.00, -999.000,9
33RR20050617,KESS,       18,        1,        4,        4,2,20050626,1906,33.1870,145.9928,0,  4025.10,   4025.1,   1.4815,  34.6836,2,   -999.0,9,   1.1604,  34.6833,2,   -999.0,9,  -999.00,9,  -999.00,9,  -999.00,9,  -999.00,9, -999.000,9, -999.000,9, -999.000,9,   -999.0,9,   -999.0,9,   -999.0,9,    20.00,-999.0000,9,    25.00, -999.000,9
33RR20050617,KESS,       18,        1,        2,        2,2,20050626,1906,33.1870,145.9928,0,  5830.60,   5830.6,   1.5900,  34.6939,2,   -999.0,9,   1.0472,  34.6947,2,   -999.0,9,  -999.00,9,  -999.00,9,  -999.00,9,  -999.00,9, -999.000,9, -999.000,9, -999.000,9,   -999.0,9,   -999.0,9,   -999.0,9,    20.00,-999.0000,9,    25.00, -999.000,9
33RR20050617,KESS,       18,        1,        3,        3,2,20050626,1906,33.1870,145.9928,0,  5831.10,   5831.1,   1.5900,  34.6939,2,   -999.0,9,   1.0471,  34.6943,2,   -999.0,9,  -999.00,9,  -999.00,9,  -999.00,9,  -999.00,9, -999.000,9, -999.000,9, -999.000,9,   -999.0,9,   -999.0,9,   -999.0,9,    20.00,-999.0000,9,    25.00, -999.000,9
33RR20050617,KESS,       19,        1,       10,       10,2,20050627,0529,33.9465,146.4567,0,   126.00,    126.0,  19.2082,  34.7614,2,   -999.0,9,  19.1856,  34.7638,2,   -999.0,9,  -999.00,9,  -999.00,9,  -999.00,9,  -999.00,9, -999.000,9, -999.000,9, -999.000,9,   -999.0,9,   -999.0,9,   -999.0,9,    20.00,-999.0000,9,    25.00, -999.000,9
33RR20050617,KESS,       19,        1,        8,        8,2,20050627,0529,33.9465,146.4567,0,   468.00,    468.0,   7.2859,  34.0017,2,   -999.0,9,   7.2409,  33.9930,2,   -999.0,9,  -999.00,9,  -999.00,9,  -999.00,9,  -999.00,9, -999.000,9, -999.000,9, -999.000,9,   -999.0,9,   -999.0,9,   -999.0,9,    20.00,-999.0000,9,    25.00, -999.000,9
33RR20050617,KESS,       19,        1,        9,        9,2,20050627,0529,33.9465,146.4567,0,   471.60,    471.6,   7.2473,  34.0088,2,   -999.0,9,   7.2021,  34.0043,2,   -999.0,9,  -999.00,9,  -999.00,9,  -999.00,9,  -999.00,9, -999.000,9, -999.000,9, -999.000,9,   -999.0,9,   -999.0,9,   -999.0,9,    20.00,-999.0000,9,    25.00, -999.000,9
33RR20050617,KESS,       19,        1,        6,        6,2,20050627,0529,33.9465,146.4567,0,  1415.50,   1415.5,   2.5890,  34.4805,2,   -999.0,9,   2.4929,  34.4794,2,   -999.0,9,  -999.00,9,  -999.00,9,  -999.00,9,  -999.00,9, -999.000,9, -999.000,9, -999.000,9,   -999.0,9,   -999.0,9,   -999.0,9,    20.00,-999.0000,9,    25.00, -999.000,9
33RR20050617,KESS,       19,        1,        7,        7,2,20050627,0529,33.9465,146.4567,0,  1421.00,   1421.0,   2.5772,  34.4822,2,   -999.0,9,   2.4808,  34.4796,2,   -999.0,9,  -999.00,9,  -999.00,9,  -999.00,9,  -999.00,9, -999.000,9, -999.000,9, -999.000,9,   -999.0,9,   -999.0,9,   -999.0,9,    20.00,-999.0000,9,    25.00, -999.000,9
33RR20050617,KESS,       19,        1,        4,        4,2,20050627,0529,33.9465,146.4567,0,  3238.70,   3238.7,   1.5359,  34.6698,2,   -999.0,9,   1.2952,  34.6688,2,   -999.0,9,  -999.00,9,  -999.00,9,  -999.00,9,  -999.00,9, -999.000,9, -999.000,9, -999.000,9,   -999.0,9,   -999.0,9,   -999.0,9,    20.00,-999.0000,9,    25.00, -999.000,9
33RR20050617,KESS,       19,        1,        5,        5,2,20050627,0529,33.9465,146.4567,0,  3240.00,   3240.0,   1.5360,  34.6698,2,   -999.0,9,   1.2952,  34.6686,2,   -999.0,9,  -999.00,9,  -999.00,9,  -999.00,9,  -999.00,9, -999.000,9, -999.000,9, -999.000,9,   -999.0,9,   -999.0,9,   -999.0,9,    20.00,-999.0000,9,    25.00, -999.000,9
33RR20050617,KESS,       19,        1,        3,        3,2,20050627,0529,33.9465,146.4567,0,  5614.60,   5614.6,   1.5618,  34.6939,2,   -999.0,9,   1.0482,  34.6941,2,   -999.0,9,  -999.00,9,  -999.00,9,  -999.00,9,  -999.00,9, -999.000,9, -999.000,9, -999.000,9,   -999.0,9,   -999.0,9,   -999.0,9,    20.00,-999.0000,9,    25.00, -999.000,9
33RR20050617,KESS,       19,        1,        2,        2,2,20050627,0529,33.9465,146.4567,0,  5617.40,   5617.4,   1.5621,  34.6939,2,   -999.0,9,   1.0482,  34.6942,2,   -999.0,9,  -999.00,9,  -999.00,9,  -999.00,9,  -999.00,9, -999.000,9, -999.000,9, -999.000,9,   -999.0,9,   -999.0,9,   -999.0,9,    20.00,-999.0000,9,    25.00, -999.000,9
33RR20050617,KESS,       20,        1,       10,       10,2,20050627,2000,34.8188,146.9252,0,    26.80,     26.8,  23.5617,  34.4540,2,   -999.0,9,  23.5561,  34.4544,2,   -999.0,9,  -999.00,9,  -999.00,9,  -999.00,9,  -999.00,9, -999.000,9, -999.000,9, -999.000,9,   -999.0,9,   -999.0,9,   -999.0,9,    20.00,-999.0000,9,    25.00, -999.000,9
33RR20050617,KESS,       20,        1,        9,        9,2,20050627,2000,34.8188,146.9252,0,   146.50,    146.5,  19.0708,  34.8563,2,   -999.0,9,  19.0446,  34.8562,2,   -999.0,9,  -999.00,9,  -999.00,9,  -999.00,9,  -999.00,9, -999.000,9, -999.000,9, -999.000,9,   -999.0,9,   -999.0,9,   -999.0,9,    20.00,-999.0000,9,    25.00, -999.000,9
33RR20050617,KESS,       20,        1,        8,        8,2,20050627,2000,34.8188,146.9252,0,   596.20,    596.2,   6.3051,  34.0500,2,   -999.0,9,   6.2516,  34.0535,2,   -999.0,9,  -999.00,9,  -999.00,9,  -999.00,9,  -999.00,9, -999.000,9, -999.000,9, -999.000,9,   -999.0,9,   -999.0,9,   -999.0,9,    20.00,-999.0000,9,    25.00, -999.000,9
33RR20050617,KESS,       20,        1,        6,        6,2,20050627,2000,34.8188,146.9252,0,  1508.80,   1508.8,   2.4858,  34.4995,2,   -999.0,9,   2.3834,  34.4990,2,   -999.0,9,  -999.00,9,  -999.00,9,  -999.00,9,  -999.00,9, -999.000,9, -999.000,9, -999.000,9,   -999.0,9,   -999.0,9,   -999.0,9,    20.00,-999.0000,9,    25.00, -999.000,9
33RR20050617,KESS,       20,        1,        7,        7,2,20050627,2000,34.8188,146.9252,0,  1509.40,   1509.4,   2.4851,  34.4997,2,   -999.0,9,   2.3827,  34.4990,2,   -999.0,9,  -999.00,9,  -999.00,9,  -999.00,9,  -999.00,9, -999.000,9, -999.000,9, -999.000,9,   -999.0,9,   -999.0,9,   -999.0,9,    20.00,-999.0000,9,    25.00, -999.000,9
33RR20050617,KESS,       20,        1,        4,        4,2,20050627,2000,34.8188,146.9252,0,  4028.90,   4028.9,   1.4902,  34.6827,2,   -999.0,9,   1.1684,  34.6808,2,   -999.0,9,  -999.00,9,  -999.00,9,  -999.00,9,  -999.00,9, -999.000,9, -999.000,9, -999.000,9,   -999.0,9,   -999.0,9,   -999.0,9,    20.00,-999.0000,9,    25.00, -999.000,9
33RR20050617,KESS,       20,        1,        5,        5,2,20050627,2000,34.8188,146.9252,0,  4029.40,   4029.4,   1.4902,  34.6828,2,   -999.0,9,   1.1684,  34.6825,2,   -999.0,9,  -999.00,9,  -999.00,9,  -999.00,9,  -999.00,9, -999.000,9, -999.000,9, -999.000,9,   -999.0,9,   -999.0,9,   -999.0,9,    20.00,-999.0000,9,    25.00, -999.000,9
33RR20050617,KESS,       20,        1,        3,        3,2,20050627,2000,34.8188,146.9252,0,  6054.00,   6054.0,   1.6220,  34.6935,2,   -999.0,9,   1.0481,  34.7158,3,   -999.0,9,  -999.00,9,  -999.00,9,  -999.00,9,  -999.00,9, -999.000,9, -999.000,9, -999.000,9,   -999.0,9,   -999.0,9,   -999.0,9,    20.00,-999.0000,9,    25.00, -999.000,9
33RR20050617,KESS,       20,        1,        2,        2,2,20050627,2000,34.8188,146.9252,0,  6054.70,   6054.7,   1.6222,  34.6935,2,   -999.0,9,   1.0482,  34.7329,3,   -999.0,9,  -999.00,9,  -999.00,9,  -999.00,9,  -999.00,9, -999.000,9, -999.000,9, -999.000,9,   -999.0,9,   -999.0,9,   -999.0,9,    20.00,-999.0000,9,    25.00, -999.000,9
33RR20050617,KESS,       21,        1,        9,        9,2,20050628,0510,35.5873,147.4040,0,   112.40,    112.4,  19.5153,  34.8457,2,   -999.0,9,  19.4949,  34.8458,2,   -999.0,9,  -999.00,9,  -999.00,9,  -999.00,9,  -999.00,9, -999.000,9, -999.000,9, -999.000,9,   -999.0,9,   -999.0,9,   -999.0,9,    20.00,-999.0000,9,    25.00, -999.000,9
33RR20050617,KESS,       21,        1,       10,       10,2,20050628,0510,35.5873,147.4040,0,   113.40,    113.4,  19.4950,  34.8449,2,   -999.0,9,  19.4744,  34.8472,2,   -999.0,9,  -999.00,9,  -999.00,9,  -999.00,9,  -999.00,9, -999.000,9, -999.000,9, -999.000,9,   -999.0,9,   -999.0,9,   -999.0,9,    20.00,-999.0000,9,    25.00, -999.000,9
33RR20050617,KESS,       21,        1,        8,        8,2,20050628,0510,35.5873,147.4040,0,   672.40,    672.4,   5.1169,  34.0536,2,   -999.0,9,   5.0624,  34.0465,2,   -999.0,9,  -999.00,9,  -999.00,9,  -999.00,9,  -999.00,9, -999.000,9, -999.000,9, -999.000,9,   -999.0,9,   -999.0,9,   -999.0,9,    20.00,-999.0000,9,    25.00, -999.000,9
33RR20050617,KESS,       21,        1,        7,        7,2,20050628,0510,35.5873,147.4040,0,   673.30,    673.3,   4.9684,  34.0375,2,   -999.0,9,   4.9146,  34.0449,2,   -999.0,9,  -999.00,9,  -999.00,9,  -999.00,9,  -999.00,9, -999.000,9, -999.000,9, -999.000,9,   -999.0,9,   -999.0,9,   -999.0,9,    20.00,-999.0000,9,    25.00, -999.000,9
33RR20050617,KESS,       21,        1,        6,        6,2,20050628,0510,35.5873,147.4040,0,  2004.00,   2004.0,   1.9516,  34.5966,2,   -999.0,9,   1.8157,  34.5960,2,   -999.0,9,  -999.00,9,  -999.00,9,  -999.00,9,  -999.00,9, -999.000,9, -999.000,9, -999.000,9,   -999.0,9,   -999.0,9,   -999.0,9,    20.00,-999.0000,9,    25.00, -999.000,9
33RR20050617,KESS,       21,        1,        4,        4,2,20050628,0510,35.5873,147.4040,0,  5069.10,   5069.1,   1.5109,  34.6924,2,   -999.0,9,   1.0678,  34.6929,2,   -999.0,9,  -999.00,9,  -999.00,9,  -999.00,9,  -999.00,9, -999.000,9, -999.000,9, -999.000,9,   -999.0,9,   -999.0,9,   -999.0,9,    20.00,-999.0000,9,    25.00, -999.000,9
33RR20050617,KESS,       21,        1,        5,        5,2,20050628,0510,35.5873,147.4040,0,  5069.40,   5069.4,   1.5108,  34.6924,2,   -999.0,9,   1.0677,  34.6915,2,   -999.0,9,  -999.00,9,  -999.00,9,  -999.00,9,  -999.00,9, -999.000,9, -999.000,9, -999.000,9,   -999.0,9,   -999.0,9,   -999.0,9,    20.00,-999.0000,9,    25.00, -999.000,9
33RR20050617,KESS,       21,        1,        3,        3,2,20050628,0510,35.5873,147.4040,0,  5902.10,   5902.1,   1.5988,  34.6938,2,   -999.0,9,   1.0461,  34.6945,2,   -999.0,9,  -999.00,9,  -999.00,9,  -999.00,9,  -999.00,9, -999.000,9, -999.000,9, -999.000,9,   -999.0,9,   -999.0,9,   -999.0,9,    20.00,-999.0000,9,    25.00, -999.000,9
33RR20050617,KESS,       21,        1,        2,        2,2,20050628,0510,35.5873,147.4040,0,  5902.10,   5902.1,   1.5989,  34.6938,2,   -999.0,9,   1.0463,  34.6932,2,   -999.0,9,  -999.00,9,  -999.00,9,  -999.00,9,  -999.00,9, -999.000,9, -999.000,9, -999.000,9,   -999.0,9,   -999.0,9,   -999.0,9,    20.00,-999.0000,9,    25.00, -999.000,9