BOTTLE,20100303CCHDOSIOCBG
EXPOCODE,SECT_ID,STNNBR,CASTNO,SAMPNO,BTLNBR,BTLNBR_FLAG_W,DATE,TIME,LATITUDE,LONGITUDE,DEPTH,CTDRAW,CTDPRS,CTDTMP,CTDSAL,CTDSAL_FLAG_W,CTDOXY,CTDOXY_FLAG_W,THETA,SALNTY,SALNTY_FLAG_W,OXYGEN,OXYGEN_FLAG_W,SILCAT,SILCAT_FLAG_W,NITRAT,NITRAT_FLAG_W,NITRIT,NITRIT_FLAG_W,PHSPHT,PHSPHT_FLAG_W,CFC-11,CFC-11_FLAG_W,CFC-12,CFC-12_FLAG_W,CFC113,CFC113_FLAG_W,TCARBN,TCARBN_FLAG_W,ALKALI,ALKALI_FLAG_W,PCO2,PCO2_FLAG_W,PCO2TMP,PH_SWS,PH_SWS_FLAG_W,PH_TMP,CCL4,CCL4_FLAG_W
,,,,,,,,,,,,,DBAR,ITS-90,PSS-78,,UMOL/KG,,DEG C,PSS-78,,UMOL/KG,,UMOL/KG,,UMOL/KG,,UMOL/KG,,UMOL/KG,,PMOL/KG,,PMOL/KG,,PMOL/KG,,UMOL/KG,,UMOL/KG,,UATM,,DEG C,,,DEG C,PMOL/KG,
33RR20050617,KESS,       10,        1,        9,        9,2,20050623,0840,37.1027,147.4027,0,   104.80,    104.8,   8.3915,  33.9111,2,   -999.0,9,   8.3808,  33.9291,2,   -999.0,9,  -999.00,9,  -999.00,9,  -999.00,9,  -999.00,9, -999.000,9, -999.000,9, -999.000,9,   -999.0,9,   -999.0,9,   -999.0,9,    20.00,-999.0000,9,    25.00, -999.000,9
33RR20050617,KESS,       10,        1,       10,       10,2,20050623,0840,37.1027,147.4027,0,   104.90,    104.9,   8.3772,  33.9099,2,   -999.0,9,   8.3665,  33.9310,2,   -999.0,9,  -999.00,9,  -999.00,9,  -999.00,9,  -999.00,9, -999.000,9, -999.000,9, -999.000,9,   -999.0,9,   -999.0,9,   -999.0,9,    20.00,-999.0000,9,    25.00, -999.000,9
33RR20050617,KESS,       10,        1,        8,        8,2,20050623,0840,37.1027,147.4027,0,   908.20,    908.2,   2.9859,  34.3864,2,   -999.0,9,   2.9251,  34.3847,2,   -999.0,9,  -999.00,9,  -999.00,9,  -999.00,9,  -999.00,9, -999.000,9, -999.000,9, -999.000,9,   -999.0,9,   -999.0,9,   -999.0,9,    20.00,-999.0000,9,    25.00, -999.000,9
33RR20050617,KESS,       10,        1,        7,        7,2,20050623,0840,37.1027,147.4027,0,   908.50,    908.5,   2.9806,  34.3863,2,   -999.0,9,   2.9199,  34.3849,2,   -999.0,9,  -999.00,9,  -999.00,9,  -999.00,9,  -999.00,9, -999.000,9, -999.000,9, -999.000,9,   -999.0,9,   -999.0,9,   -999.0,9,    20.00,-999.0000,9,    25.00, -999.000,9
33RR20050617,KESS,       10,        1,        6,        6,2,20050623,0840,37.1027,147.4027,0,  3032.90,   3032.9,   1.5229,  34.6684,2,   -999.0,9,   1.3025,  34.6681,2,   -999.0,9,  -999.00,9,  -999.00,9,  -999.00,9,  -999.00,9, -999.000,9, -999.000,9, -999.000,9,   -999.0,9,   -999.0,9,   -999.0,9,    20.00,-999.0000,9,    25.00, -999.000,9
33RR20050617,KESS,       10,        1,        5,        5,2,20050623,0840,37.1027,147.4027,0,  3033.00,   3033.0,   1.5229,  34.6685,2,   -999.0,9,   1.3024,  34.6671,2,   -999.0,9,  -999.00,9,  -999.00,9,  -999.00,9,  -999.00,9, -999.000,9, -999.000,9, -999.000,9,   -999.0,9,   -999.0,9,   -999.0,9,    20.00,-999.0000,9,    25.00, -999.000,9
33RR20050617,KESS,       10,        1,        3,        3,2,20050623,0840,37.1027,147.4027,0,  5074.10,   5074.1,   1.5095,  34.6930,2,   -999.0,9,   1.0658,  34.6954,2,   -999.0,9,  -999.00,9,  -999.00,9,  -999.00,9,  -999.00,9, -999.000,9, -999.000,9, -999.000,9,   -999.0,9,   -999.0,9,   -999.0,9,    20.00,-999.0000,9,    25.00, -999.000,9
33RR20050617,KESS,       10,        1,        4,        4,2,20050623,0840,37.1027,147.4027,0,  5074.10,   5074.1,   1.5093,  34.6930,2,   -999.0,9,   1.0657,  34.6918,2,   -999.0,9,  -999.00,9,  -999.00,9,  -999.00,9,  -999.00,9, -999.000,9, -999.000,9, -999.000,9,   -999.0,9,   -999.0,9,   -999.0,9,    20.00,-999.0000,9,    25.00, -999.000,9
33RR20050617,KESS,       10,        1,        2,        2,2,20050623,0840,37.1027,147.4027,0,  5721.70,   5721.7,   1.5760,  34.6943,2,   -999.0,9,   1.0479,  34.6954,2,   -999.0,9,  -999.00,9,  -999.00,9,  -999.00,9,  -999.00,9, -999.000,9, -999.000,9, -999.000,9,   -999.0,9,   -999.0,9,   -999.0,9,    20.00,-999.0000,9,    25.00, -999.000,9
33RR20050617,KESS,       11,        1,        9,        9,2,20050623,1659,36.3465,146.9220,0,   156.70,    156.7,   6.2272,  33.8358,2,   -999.0,9,   6.2138,  33.8382,2,   -999.0,9,  -999.00,9,  -999.00,9,  -999.00,9,  -999.00,9, -999.000,9, -999.000,9, -999.000,9,   -999.0,9,   -999.0,9,   -999.0,9,    20.00,-999.0000,9,    25.00, -999.000,9
33RR20050617,KESS,       11,        1,       10,       10,2,20050623,1659,36.3465,146.9220,0,   156.90,    156.9,   6.2241,  33.8355,2,   -999.0,9,   6.2107,  33.8374,2,   -999.0,9,  -999.00,9,  -999.00,9,  -999.00,9,  -999.00,9, -999.000,9, -999.000,9, -999.000,9,   -999.0,9,   -999.0,9,   -999.0,9,    20.00,-999.0000,9,    25.00, -999.000,9
33RR20050617,KESS,       11,        1,        7,        7,2,20050623,1659,36.3465,146.9220,0,  1009.80,   1009.8,   2.7210,  34.4563,2,   -999.0,9,   2.6546,  34.4563,2,   -999.0,9,  -999.00,9,  -999.00,9,  -999.00,9,  -999.00,9, -999.000,9, -999.000,9, -999.000,9,   -999.0,9,   -999.0,9,   -999.0,9,    20.00,-999.0000,9,    25.00, -999.000,9
33RR20050617,KESS,       11,        1,        8,        8,2,20050623,1659,36.3465,146.9220,0,  1010.00,   1010.0,   2.7212,  34.4563,2,   -999.0,9,   2.6548,  34.4536,2,   -999.0,9,  -999.00,9,  -999.00,9,  -999.00,9,  -999.00,9, -999.000,9, -999.000,9, -999.000,9,   -999.0,9,   -999.0,9,   -999.0,9,    20.00,-999.0000,9,    25.00, -999.000,9
33RR20050617,KESS,       11,        1,        6,        6,2,20050623,1659,36.3465,146.9220,0,  5073.50,   5073.5,   1.5008,  34.6937,2,   -999.0,9,   1.0575,  34.6938,2,   -999.0,9,  -999.00,9,  -999.00,9,  -999.00,9,  -999.00,9, -999.000,9, -999.000,9, -999.000,9,   -999.0,9,   -999.0,9,   -999.0,9,    20.00,-999.0000,9,    25.00, -999.000,9
33RR20050617,KESS,       11,        1,        5,        5,2,20050623,1659,36.3465,146.9220,0,  5073.60,   5073.6,   1.5006,  34.6938,2,   -999.0,9,   1.0574,  34.6930,2,   -999.0,9,  -999.00,9,  -999.00,9,  -999.00,9,  -999.00,9, -999.000,9, -999.000,9, -999.000,9,   -999.0,9,   -999.0,9,   -999.0,9,    20.00,-999.0000,9,    25.00, -999.000,9
33RR20050617,KESS,       11,        1,        2,        2,2,20050623,1659,36.3465,146.9220,0,  5689.00,   5689.0,   1.5666,  34.6947,2,   -999.0,9,   1.0432,  34.6948,2,   -999.0,9,  -999.00,9,  -999.00,9,  -999.00,9,  -999.00,9, -999.000,9, -999.000,9, -999.000,9,   -999.0,9,   -999.0,9,   -999.0,9,    20.00,-999.0000,9,    25.00, -999.000,9
33RR20050617,KESS,       11,        1,        4,        4,2,20050623,1659,36.3465,146.9220,0,  5689.40,   5689.4,   1.5667,  34.6947,2,   -999.0,9,   1.0432,  34.6948,2,   -999.0,9,  -999.00,9,  -999.00,9,  -999.00,9,  -999.00,9, -999.000,9, -999.000,9, -999.000,9,   -999.0,9,   -999.0,9,   -999.0,9,    20.00,-999.0000,9,    25.00, -999.000,9
33RR20050617,KESS,       11,        1,        3,        3,2,20050623,1659,36.3465,146.9220,0,  5689.40,   5689.4,   1.5667,  34.6946,2,   -999.0,9,   1.0432,  34.6952,2,   -999.0,9,  -999.00,9,  -999.00,9,  -999.00,9,  -999.00,9, -999.000,9, -999.000,9, -999.000,9,   -999.0,9,   -999.0,9,   -999.0,9,    20.00,-999.0000,9,    25.00, -999.000,9
33RR20050617,KESS,       12,        1,       12,       12,9,20050624,0228,35.5878,146.4493,0,   495.90,    495.9,   4.3765,  33.9109,2,   -999.0,9,   4.3399,-999.0000,9,   -999.0,9,  -999.00,9,  -999.00,9,  -999.00,9,  -999.00,9, -999.000,9, -999.000,9, -999.000,9,   -999.0,9,   -999.0,9,   -999.0,9,    20.00,-999.0000,9,    25.00, -999.000,9
33RR20050617,KESS,       12,        1,       10,       10,2,20050624,0228,35.5878,146.4493,0,   495.90,    495.9,   4.3735,  33.9110,2,   -999.0,9,   4.3369,  33.9126,2,   -999.0,9,  -999.00,9,  -999.00,9,  -999.00,9,  -999.00,9, -999.000,9, -999.000,9, -999.000,9,   -999.0,9,   -999.0,9,   -999.0,9,    20.00,-999.0000,9,    25.00, -999.000,9
33RR20050617,KESS,       12,        1,       11,       11,9,20050624,0228,35.5878,146.4493,0,   496.10,    496.1,   4.3815,  33.9118,2,   -999.0,9,   4.3449,-999.0000,9,   -999.0,9,  -999.00,9,  -999.00,9,  -999.00,9,  -999.00,9, -999.000,9, -999.000,9, -999.000,9,   -999.0,9,   -999.0,9,   -999.0,9,    20.00,-999.0000,9,    25.00, -999.000,9
33RR20050617,KESS,       12,        1,        9,        9,2,20050624,0228,35.5878,146.4493,0,   496.30,    496.3,   4.3299,  33.9053,2,   -999.0,9,   4.2934,  33.9042,2,   -999.0,9,  -999.00,9,  -999.00,9,  -999.00,9,  -999.00,9, -999.000,9, -999.000,9, -999.000,9,   -999.0,9,   -999.0,9,   -999.0,9,    20.00,-999.0000,9,    25.00, -999.000,9
33RR20050617,KESS,       12,        1,        8,        8,2,20050624,0228,35.5878,146.4493,0,  2010.80,   2010.8,   1.8733,  34.6097,2,   -999.0,9,   1.7379,  34.6093,2,   -999.0,9,  -999.00,9,  -999.00,9,  -999.00,9,  -999.00,9, -999.000,9, -999.000,9, -999.000,9,   -999.0,9,   -999.0,9,   -999.0,9,    20.00,-999.0000,9,    25.00, -999.000,9
33RR20050617,KESS,       12,        1,        7,        7,2,20050624,0228,35.5878,146.4493,0,  2011.00,   2011.0,   1.8729,  34.6098,2,   -999.0,9,   1.7375,  34.6099,2,   -999.0,9,  -999.00,9,  -999.00,9,  -999.00,9,  -999.00,9, -999.000,9, -999.000,9, -999.000,9,   -999.0,9,   -999.0,9,   -999.0,9,    20.00,-999.0000,9,    25.00, -999.000,9
33RR20050617,KESS,       12,        1,        6,        6,2,20050624,0228,35.5878,146.4493,0,  5062.90,   5062.9,   1.5053,  34.6934,2,   -999.0,9,   1.0632,  34.6936,2,   -999.0,9,  -999.00,9,  -999.00,9,  -999.00,9,  -999.00,9, -999.000,9, -999.000,9, -999.000,9,   -999.0,9,   -999.0,9,   -999.0,9,    20.00,-999.0000,9,    25.00, -999.000,9
33RR20050617,KESS,       12,        1,        5,        5,2,20050624,0228,35.5878,146.4493,0,  5063.00,   5063.0,   1.5053,  34.6934,2,   -999.0,9,   1.0632,  34.6930,2,   -999.0,9,  -999.00,9,  -999.00,9,  -999.00,9,  -999.00,9, -999.000,9, -999.000,9, -999.000,9,   -999.0,9,   -999.0,9,   -999.0,9,    20.00,-999.0000,9,    25.00, -999.000,9
33RR20050617,KESS,       12,        1,        3,        3,2,20050624,0228,35.5878,146.4493,0,  5838.70,   5838.7,   1.5893,  34.6945,2,   -999.0,9,   1.0454,  34.6966,2,   -999.0,9,  -999.00,9,  -999.00,9,  -999.00,9,  -999.00,9, -999.000,9, -999.000,9, -999.000,9,   -999.0,9,   -999.0,9,   -999.0,9,    20.00,-999.0000,9,    25.00, -999.000,9
33RR20050617,KESS,       12,        1,        2,        2,2,20050624,0228,35.5878,146.4493,0,  5838.80,   5838.8,   1.5894,  34.6945,2,   -999.0,9,   1.0454,  34.6960,2,   -999.0,9,  -999.00,9,  -999.00,9,  -999.00,9,  -999.00,9, -999.000,9, -999.000,9, -999.000,9,   -999.0,9,   -999.0,9,   -999.0,9,    20.00,-999.0000,9,    25.00, -999.000,9
33RR20050617,KESS,       12,        1,        4,        4,2,20050624,0228,35.5878,146.4493,0,  5839.00,   5839.0,   1.5893,  34.6946,2,   -999.0,9,   1.0453,  34.6944,2,   -999.0,9,  -999.00,9,  -999.00,9,  -999.00,9,  -999.00,9, -999.000,9, -999.000,9, -999.000,9,   -999.0,9,   -999.0,9,   -999.0,9,    20.00,-999.0000,9,    25.00, -999.000,9
33RR20050617,KESS,       13,        1,       10,       10,2,20050624,1705,35.5903,145.5263,0,   126.60,    126.6,  18.6854,  34.7689,2,   -999.0,9,  18.6631,  34.7681,2,   -999.0,9,  -999.00,9,  -999.00,9,  -999.00,9,  -999.00,9, -999.000,9, -999.000,9, -999.000,9,   -999.0,9,   -999.0,9,   -999.0,9,    20.00,-999.0000,9,    25.00, -999.000,9
33RR20050617,KESS,       13,        1,        9,        9,2,20050624,1705,35.5903,145.5263,0,   126.70,    126.7,  18.6779,  34.7681,2,   -999.0,9,  18.6556,  34.7650,2,   -999.0,9,  -999.00,9,  -999.00,9,  -999.00,9,  -999.00,9, -999.000,9, -999.000,9, -999.000,9,   -999.0,9,   -999.0,9,   -999.0,9,    20.00,-999.0000,9,    25.00, -999.000,9
33RR20050617,KESS,       13,        1,        8,        8,2,20050624,1705,35.5903,145.5263,0,   685.90,    685.9,   4.9586,  34.2547,2,   -999.0,9,   4.9035,  34.2660,2,   -999.0,9,  -999.00,9,  -999.00,9,  -999.00,9,  -999.00,9, -999.000,9, -999.000,9, -999.000,9,   -999.0,9,   -999.0,9,   -999.0,9,    20.00,-999.0000,9,    25.00, -999.000,9
33RR20050617,KESS,       13,        1,        7,        7,2,20050624,1705,35.5903,145.5263,0,   693.00,    693.0,   5.0801,  34.2903,2,   -999.0,9,   5.0238,  34.2853,2,   -999.0,9,  -999.00,9,  -999.00,9,  -999.00,9,  -999.00,9, -999.000,9, -999.000,9, -999.000,9,   -999.0,9,   -999.0,9,   -999.0,9,    20.00,-999.0000,9,    25.00, -999.000,9
33RR20050617,KESS,       13,        1,        6,        6,2,20050624,1705,35.5903,145.5263,0,  4037.80,   4037.8,   1.4715,  34.6850,2,   -999.0,9,   1.1493,  34.6837,2,   -999.0,9,  -999.00,9,  -999.00,9,  -999.00,9,  -999.00,9, -999.000,9, -999.000,9, -999.000,9,   -999.0,9,   -999.0,9,   -999.0,9,    20.00,-999.0000,9,    25.00, -999.000,9
33RR20050617,KESS,       13,        1,        5,        5,2,20050624,1705,35.5903,145.5263,0,  4038.20,   4038.2,   1.4714,  34.6851,2,   -999.0,9,   1.1492,  34.6829,2,   -999.0,9,  -999.00,9,  -999.00,9,  -999.00,9,  -999.00,9, -999.000,9, -999.000,9, -999.000,9,   -999.0,9,   -999.0,9,   -999.0,9,    20.00,-999.0000,9,    25.00, -999.000,9
33RR20050617,KESS,       13,        1,        2,        2,2,20050624,1705,35.5903,145.5263,0,  5927.00,   5927.0,   1.6013,  34.6945,2,   -999.0,9,   1.0452,  34.6945,2,   -999.0,9,  -999.00,9,  -999.00,9,  -999.00,9,  -999.00,9, -999.000,9, -999.000,9, -999.000,9,   -999.0,9,   -999.0,9,   -999.0,9,    20.00,-999.0000,9,    25.00, -999.000,9
33RR20050617,KESS,       13,        1,        3,        3,2,20050624,1705,35.5903,145.5263,0,  5927.30,   5927.3,   1.6014,  34.6945,2,   -999.0,9,   1.0453,  34.6938,2,   -999.0,9,  -999.00,9,  -999.00,9,  -999.00,9,  -999.00,9, -999.000,9, -999.000,9, -999.000,9,   -999.0,9,   -999.0,9,   -999.0,9,    20.00,-999.0000,9,    25.00, -999.000,9
33RR20050617,KESS,       13,        1,        4,        4,2,20050624,1705,35.5903,145.5263,0,  5927.40,   5927.4,   1.6014,  34.6945,2,   -999.0,9,   1.0453,  34.6935,2,   -999.0,9,  -999.00,9,  -999.00,9,  -999.00,9,  -999.00,9, -999.000,9, -999.000,9, -999.000,9,   -999.0,9,   -999.0,9,   -999.0,9,    20.00,-999.0000,9,    25.00, -999.000,9
33RR20050617,KESS,       14,        1,        9,        9,2,20050625,0059,34.8267,145.9877,0,    21.00,     21.0,  23.6681,  34.4878,2,   -999.0,9,  23.6638,  34.4882,2,   -999.0,9,  -999.00,9,  -999.00,9,  -999.00,9,  -999.00,9, -999.000,9, -999.000,9, -999.000,9,   -999.0,9,   -999.0,9,   -999.0,9,    20.00,-999.0000,9,    25.00, -999.000,9
33RR20050617,KESS,       14,        1,       10,       10,2,20050625,0059,34.8267,145.9877,0,    21.00,     21.0,  23.6699,  34.4884,2,   -999.0,9,  23.6655,  34.4866,2,   -999.0,9,  -999.00,9,  -999.00,9,  -999.00,9,  -999.00,9, -999.000,9, -999.000,9, -999.000,9,   -999.0,9,   -999.0,9,   -999.0,9,    20.00,-999.0000,9,    25.00, -999.000,9
33RR20050617,KESS,       14,        1,        7,        7,2,20050625,0059,34.8267,145.9877,0,   613.30,    613.3,   6.5550,  34.0765,2,   -999.0,9,   6.4988,  34.0794,2,   -999.0,9,  -999.00,9,  -999.00,9,  -999.00,9,  -999.00,9, -999.000,9, -999.000,9, -999.000,9,   -999.0,9,   -999.0,9,   -999.0,9,    20.00,-999.0000,9,    25.00, -999.000,9
33RR20050617,KESS,       14,        1,        8,        8,2,20050625,0059,34.8267,145.9877,0,   613.40,    613.4,   6.5516,  34.0767,2,   -999.0,9,   6.4953,  34.0784,2,   -999.0,9,  -999.00,9,  -999.00,9,  -999.00,9,  -999.00,9, -999.000,9, -999.000,9, -999.000,9,   -999.0,9,   -999.0,9,   -999.0,9,    20.00,-999.0000,9,    25.00, -999.000,9
33RR20050617,KESS,       14,        1,        5,        5,2,20050625,0059,34.8267,145.9877,0,  4048.70,   4048.7,   1.4826,  34.6844,2,   -999.0,9,   1.1589,  34.6829,2,   -999.0,9,  -999.00,9,  -999.00,9,  -999.00,9,  -999.00,9, -999.000,9, -999.000,9, -999.000,9,   -999.0,9,   -999.0,9,   -999.0,9,    20.00,-999.0000,9,    25.00, -999.000,9
33RR20050617,KESS,       14,        1,        6,        6,2,20050625,0059,34.8267,145.9877,0,  4048.70,   4048.7,   1.4825,  34.6844,2,   -999.0,9,   1.1588,  34.6833,2,   -999.0,9,  -999.00,9,  -999.00,9,  -999.00,9,  -999.00,9, -999.000,9, -999.000,9, -999.000,9,   -999.0,9,   -999.0,9,   -999.0,9,    20.00,-999.0000,9,    25.00, -999.000,9
33RR20050617,KESS,       14,        1,        3,        3,2,20050625,0059,34.8267,145.9877,0,  6058.20,   6058.2,   1.6153,  34.6948,2,   -999.0,9,   1.0411,  34.6939,2,   -999.0,9,  -999.00,9,  -999.00,9,  -999.00,9,  -999.00,9, -999.000,9, -999.000,9, -999.000,9,   -999.0,9,   -999.0,9,   -999.0,9,    20.00,-999.0000,9,    25.00, -999.000,9
33RR20050617,KESS,       14,        1,        2,        2,2,20050625,0059,34.8267,145.9877,0,  6058.30,   6058.3,   1.6153,  34.6948,2,   -999.0,9,   1.0411,  34.6967,2,   -999.0,9,  -999.00,9,  -999.00,9,  -999.00,9,  -999.00,9, -999.000,9, -999.000,9, -999.000,9,   -999.0,9,   -999.0,9,   -999.0,9,    20.00,-999.0000,9,    25.00, -999.000,9
33RR20050617,KESS,       14,        1,        4,        4,2,20050625,0059,34.8267,145.9877,0,  6058.40,   6058.4,   1.6154,  34.6948,2,   -999.0,9,   1.0411,  34.6972,2,   -999.0,9,  -999.00,9,  -999.00,9,  -999.00,9,  -999.00,9, -999.000,9, -999.000,9, -999.000,9,   -999.0,9,   -999.0,9,   -999.0,9,    20.00,-999.0000,9,    25.00, -999.000,9
33RR20050617,KESS,       15,        1,       10,       10,2,20050625,1358,34.0103,145.5047,0,    26.30,     26.3,  22.7602,  34.4482,2,   -999.0,9,  22.7549,  34.4403,2,   -999.0,9,  -999.00,9,  -999.00,9,  -999.00,9,  -999.00,9, -999.000,9, -999.000,9, -999.000,9,   -999.0,9,   -999.0,9,   -999.0,9,    20.00,-999.0000,9,    25.00, -999.000,9
33RR20050617,KESS,       15,        1,        9,        9,2,20050625,1358,34.0103,145.5047,0,   156.00,    156.0,  19.3078,  34.8840,2,   -999.0,9,  19.2797,  34.8836,2,   -999.0,9,  -999.00,9,  -999.00,9,  -999.00,9,  -999.00,9, -999.000,9, -999.000,9, -999.000,9,   -999.0,9,   -999.0,9,   -999.0,9,    20.00,-999.0000,9,    25.00, -999.000,9
33RR20050617,KESS,       15,        1,        8,        8,2,20050625,1358,34.0103,145.5047,0,   706.00,    706.0,   6.7899,  34.0498,2,   -999.0,9,   6.7235,  34.0518,2,   -999.0,9,  -999.00,9,  -999.00,9,  -999.00,9,  -999.00,9, -999.000,9, -999.000,9, -999.000,9,   -999.0,9,   -999.0,9,   -999.0,9,    20.00,-999.0000,9,    25.00, -999.000,9
33RR20050617,KESS,       15,        1,        7,        7,2,20050625,1358,34.0103,145.5047,0,  2016.40,   2016.4,   2.0640,  34.5787,2,   -999.0,9,   1.9254,  34.5775,2,   -999.0,9,  -999.00,9,  -999.00,9,  -999.00,9,  -999.00,9, -999.000,9, -999.000,9, -999.000,9,   -999.0,9,   -999.0,9,   -999.0,9,    20.00,-999.0000,9,    25.00, -999.000,9
33RR20050617,KESS,       15,        1,        6,        6,2,20050625,1358,34.0103,145.5047,0,  2016.50,   2016.5,   2.0627,  34.5789,2,   -999.0,9,   1.9241,  34.5789,2,   -999.0,9,  -999.00,9,  -999.00,9,  -999.00,9,  -999.00,9, -999.000,9, -999.000,9, -999.000,9,   -999.0,9,   -999.0,9,   -999.0,9,    20.00,-999.0000,9,    25.00, -999.000,9
33RR20050617,KESS,       15,        1,        5,        5,2,20050625,1358,34.0103,145.5047,0,  5070.20,   5070.2,   1.5127,  34.6922,2,   -999.0,9,   1.0694,  34.6913,2,   -999.0,9,  -999.00,9,  -999.00,9,  -999.00,9,  -999.00,9, -999.000,9, -999.000,9, -999.000,9,   -999.0,9,   -999.0,9,   -999.0,9,    20.00,-999.0000,9,    25.00, -999.000,9
33RR20050617,KESS,       15,        1,        4,        4,2,20050625,1358,34.0103,145.5047,0,  5070.20,   5070.2,   1.5126,  34.6922,2,   -999.0,9,   1.0693,  34.6917,2,   -999.0,9,  -999.00,9,  -999.00,9,  -999.00,9,  -999.00,9, -999.000,9, -999.000,9, -999.000,9,   -999.0,9,   -999.0,9,   -999.0,9,    20.00,-999.0000,9,    25.00, -999.000,9
33RR20050617,KESS,       15,        1,        2,        2,2,20050625,1358,34.0103,145.5047,0,  5902.30,   5902.3,   1.5959,  34.6941,2,   -999.0,9,   1.0433,  34.6952,2,   -999.0,9,  -999.00,9,  -999.00,9,  -999.00,9,  -999.00,9, -999.000,9, -999.000,9, -999.000,9,   -999.0,9,   -999.0,9,   -999.0,9,    20.00,-999.0000,9,    25.00, -999.000,9
33RR20050617,KESS,       15,        1,        3,        3,2,20050625,1358,34.0103,145.5047,0,  5902.50,   5902.5,   1.5959,  34.6942,2,   -999.0,9,   1.0433,  34.6950,2,   -999.0,9,  -999.00,9,  -999.00,9,  -999.00,9,  -999.00,9, -999.000,9, -999.000,9, -999.000,9,   -999.0,9,   -999.0,9,   -999.0,9,    20.00,-999.0000,9,    25.00, -999.000,9