BOTTLE,20100303CCHDOSIOCBG
EXPOCODE,SECT_ID,STNNBR,CASTNO,SAMPNO,BTLNBR,BTLNBR_FLAG_W,DATE,TIME,LATITUDE,LONGITUDE,DEPTH,CTDRAW,CTDPRS,CTDTMP,CTDSAL,CTDSAL_FLAG_W,CTDOXY,CTDOXY_FLAG_W,THETA,SALNTY,SALNTY_FLAG_W,OXYGEN,OXYGEN_FLAG_W,SILCAT,SILCAT_FLAG_W,NITRAT,NITRAT_FLAG_W,NITRIT,NITRIT_FLAG_W,PHSPHT,PHSPHT_FLAG_W,CFC-11,CFC-11_FLAG_W,CFC-12,CFC-12_FLAG_W,CFC113,CFC113_FLAG_W,TCARBN,TCARBN_FLAG_W,ALKALI,ALKALI_FLAG_W,PCO2,PCO2_FLAG_W,PCO2TMP,PH_SWS,PH_SWS_FLAG_W,PH_TMP,CCL4,CCL4_FLAG_W
,,,,,,,,,,,,,DBAR,ITS-90,PSS-78,,UMOL/KG,,DEG C,PSS-78,,UMOL/KG,,UMOL/KG,,UMOL/KG,,UMOL/KG,,UMOL/KG,,PMOL/KG,,PMOL/KG,,PMOL/KG,,UMOL/KG,,UMOL/KG,,UATM,,DEG C,,,DEG C,PMOL/KG,
33RR20050617,KESS,       48,        1,        2,        2,2,20050706,0801,35.4833,147.9500,0,  1501.40,   1501.4,   2.4465,  34.5081,2,   -999.0,9,   2.3451,-999.0000,1,   -999.0,9,  -999.00,9,  -999.00,9,  -999.00,9,  -999.00,9, -999.000,9, -999.000,9, -999.000,9,   -999.0,9,   -999.0,9,   -999.0,9,    20.00,-999.0000,9,    25.00, -999.000,9
33RR20050617,KESS,       48,        1,        3,        3,2,20050706,0801,35.4833,147.9500,0,  1501.50,   1501.5,   2.4448,  34.5084,2,   -999.0,9,   2.3435,-999.0000,9,   -999.0,9,  -999.00,9,  -999.00,9,  -999.00,9,  -999.00,9, -999.000,9, -999.000,9, -999.000,9,   -999.0,9,   -999.0,9,   -999.0,9,    20.00,-999.0000,9,    25.00, -999.000,9
33RR20050617,KESS,       48,        1,        4,        4,2,20050706,0801,35.4833,147.9500,0,  1501.70,   1501.7,   2.4443,  34.5085,2,   -999.0,9,   2.3429,-999.0000,9,   -999.0,9,  -999.00,9,  -999.00,9,  -999.00,9,  -999.00,9, -999.000,9, -999.000,9, -999.000,9,   -999.0,9,   -999.0,9,   -999.0,9,    20.00,-999.0000,9,    25.00, -999.000,9
33RR20050617,KESS,       49,        1,        3,        3,2,20050706,1010,35.4833,148.1500,0,  1495.40,   1495.4,   2.5098,  34.4919,2,   -999.0,9,   2.4082,-999.0000,9,   -999.0,9,  -999.00,9,  -999.00,9,  -999.00,9,  -999.00,9, -999.000,9, -999.000,9, -999.000,9,   -999.0,9,   -999.0,9,   -999.0,9,    20.00,-999.0000,9,    25.00, -999.000,9
33RR20050617,KESS,       49,        1,        4,        4,2,20050706,1010,35.4833,148.1500,0,  1495.50,   1495.5,   2.5099,  34.4918,2,   -999.0,9,   2.4083,-999.0000,9,   -999.0,9,  -999.00,9,  -999.00,9,  -999.00,9,  -999.00,9, -999.000,9, -999.000,9, -999.000,9,   -999.0,9,   -999.0,9,   -999.0,9,    20.00,-999.0000,9,    25.00, -999.000,9
33RR20050617,KESS,       49,        1,        2,        2,2,20050706,1010,35.4833,148.1500,0,  1495.60,   1495.6,   2.5088,  34.4920,2,   -999.0,9,   2.4072,-999.0000,1,   -999.0,9,  -999.00,9,  -999.00,9,  -999.00,9,  -999.00,9, -999.000,9, -999.000,9, -999.000,9,   -999.0,9,   -999.0,9,   -999.0,9,    20.00,-999.0000,9,    25.00, -999.000,9
33RR20050617,KESS,       50,        1,        2,        2,2,20050706,1218,35.4833,148.3500,0,  1493.40,   1493.4,   2.5301,  34.4803,2,   -999.0,9,   2.4284,-999.0000,1,   -999.0,9,  -999.00,9,  -999.00,9,  -999.00,9,  -999.00,9, -999.000,9, -999.000,9, -999.000,9,   -999.0,9,   -999.0,9,   -999.0,9,    20.00,-999.0000,9,    25.00, -999.000,9
33RR20050617,KESS,       50,        1,        3,        3,2,20050706,1218,35.4833,148.3500,0,  1493.70,   1493.7,   2.5299,  34.4804,2,   -999.0,9,   2.4282,-999.0000,9,   -999.0,9,  -999.00,9,  -999.00,9,  -999.00,9,  -999.00,9, -999.000,9, -999.000,9, -999.000,9,   -999.0,9,   -999.0,9,   -999.0,9,    20.00,-999.0000,9,    25.00, -999.000,9
33RR20050617,KESS,       50,        1,        4,        4,2,20050706,1218,35.4833,148.3500,0,  1493.70,   1493.7,   2.5294,  34.4805,2,   -999.0,9,   2.4277,-999.0000,9,   -999.0,9,  -999.00,9,  -999.00,9,  -999.00,9,  -999.00,9, -999.000,9, -999.000,9, -999.000,9,   -999.0,9,   -999.0,9,   -999.0,9,    20.00,-999.0000,9,    25.00, -999.000,9
33RR20050617,KESS,       51,        1,        2,        2,2,20050706,1425,35.4833,148.5500,0,  1498.00,   1498.0,   2.5935,  34.4650,2,   -999.0,9,   2.4908,-999.0000,1,   -999.0,9,  -999.00,9,  -999.00,9,  -999.00,9,  -999.00,9, -999.000,9, -999.000,9, -999.000,9,   -999.0,9,   -999.0,9,   -999.0,9,    20.00,-999.0000,9,    25.00, -999.000,9
33RR20050617,KESS,       51,        1,        3,        3,2,20050706,1425,35.4833,148.5500,0,  1498.70,   1498.7,   2.5923,  34.4652,2,   -999.0,9,   2.4895,-999.0000,9,   -999.0,9,  -999.00,9,  -999.00,9,  -999.00,9,  -999.00,9, -999.000,9, -999.000,9, -999.000,9,   -999.0,9,   -999.0,9,   -999.0,9,    20.00,-999.0000,9,    25.00, -999.000,9
33RR20050617,KESS,       51,        1,        4,        4,2,20050706,1425,35.4833,148.5500,0,  1499.40,   1499.4,   2.5912,  34.4655,2,   -999.0,9,   2.4884,-999.0000,9,   -999.0,9,  -999.00,9,  -999.00,9,  -999.00,9,  -999.00,9, -999.000,9, -999.000,9, -999.000,9,   -999.0,9,   -999.0,9,   -999.0,9,    20.00,-999.0000,9,    25.00, -999.000,9
33RR20050617,KESS,       52,        1,        2,        2,2,20050706,1633,35.4837,148.7500,0,  1500.50,   1500.5,   2.6068,  34.4683,2,   -999.0,9,   2.5037,-999.0000,1,   -999.0,9,  -999.00,9,  -999.00,9,  -999.00,9,  -999.00,9, -999.000,9, -999.000,9, -999.000,9,   -999.0,9,   -999.0,9,   -999.0,9,    20.00,-999.0000,9,    25.00, -999.000,9
33RR20050617,KESS,       52,        1,        3,        3,2,20050706,1633,35.4837,148.7500,0,  1500.80,   1500.8,   2.6020,  34.4682,2,   -999.0,9,   2.4990,-999.0000,9,   -999.0,9,  -999.00,9,  -999.00,9,  -999.00,9,  -999.00,9, -999.000,9, -999.000,9, -999.000,9,   -999.0,9,   -999.0,9,   -999.0,9,    20.00,-999.0000,9,    25.00, -999.000,9
33RR20050617,KESS,       52,        1,        4,        4,2,20050706,1633,35.4837,148.7500,0,  1501.10,   1501.1,   2.6012,  34.4682,2,   -999.0,9,   2.4982,-999.0000,9,   -999.0,9,  -999.00,9,  -999.00,9,  -999.00,9,  -999.00,9, -999.000,9, -999.000,9, -999.000,9,   -999.0,9,   -999.0,9,   -999.0,9,    20.00,-999.0000,9,    25.00, -999.000,9
33RR20050617,KESS,       53,        1,        2,        2,2,20050706,1833,35.4833,148.9500,0,  1501.90,   1501.9,   2.6344,  34.4630,2,   -999.0,9,   2.5309,-999.0000,1,   -999.0,9,  -999.00,9,  -999.00,9,  -999.00,9,  -999.00,9, -999.000,9, -999.000,9, -999.000,9,   -999.0,9,   -999.0,9,   -999.0,9,    20.00,-999.0000,9,    25.00, -999.000,9
33RR20050617,KESS,       53,        1,        4,        4,2,20050706,1833,35.4833,148.9500,0,  1502.10,   1502.1,   2.6330,  34.4630,2,   -999.0,9,   2.5295,-999.0000,9,   -999.0,9,  -999.00,9,  -999.00,9,  -999.00,9,  -999.00,9, -999.000,9, -999.000,9, -999.000,9,   -999.0,9,   -999.0,9,   -999.0,9,    20.00,-999.0000,9,    25.00, -999.000,9
33RR20050617,KESS,       53,        1,        3,        3,2,20050706,1833,35.4833,148.9500,0,  1502.20,   1502.2,   2.6328,  34.4631,2,   -999.0,9,   2.5293,-999.0000,9,   -999.0,9,  -999.00,9,  -999.00,9,  -999.00,9,  -999.00,9, -999.000,9, -999.000,9, -999.000,9,   -999.0,9,   -999.0,9,   -999.0,9,    20.00,-999.0000,9,    25.00, -999.000,9
33RR20050617,KESS,       54,        1,        2,        2,2,20050707,0048,34.8255,148.8188,0,  3004.50,   3004.5,   1.6258,  34.6555,2,   -999.0,9,   1.4059,  34.6559,2,   -999.0,9,  -999.00,9,  -999.00,9,  -999.00,9,  -999.00,9, -999.000,9, -999.000,9, -999.000,9,   -999.0,9,   -999.0,9,   -999.0,9,    20.00,-999.0000,9,    25.00, -999.000,9
33RR20050617,KESS,       54,        1,        3,        3,2,20050707,0048,34.8255,148.8188,0,  3005.30,   3005.3,   1.6258,  34.6555,2,   -999.0,9,   1.4058,-999.0000,9,   -999.0,9,  -999.00,9,  -999.00,9,  -999.00,9,  -999.00,9, -999.000,9, -999.000,9, -999.000,9,   -999.0,9,   -999.0,9,   -999.0,9,    20.00,-999.0000,9,    25.00, -999.000,9
33RR20050617,KESS,       54,        1,        4,        4,2,20050707,0048,34.8255,148.8188,0,  3005.90,   3005.9,   1.6253,  34.6556,2,   -999.0,9,   1.4053,-999.0000,9,   -999.0,9,  -999.00,9,  -999.00,9,  -999.00,9,  -999.00,9, -999.000,9, -999.000,9, -999.000,9,   -999.0,9,   -999.0,9,   -999.0,9,    20.00,-999.0000,9,    25.00, -999.000,9
33RR20050617,KESS,       55,        1,        4,        4,2,20050707,0558,35.2498,149.4003,0,  1507.90,   1507.9,   2.7041,  34.4616,2,   -999.0,9,   2.5993,-999.0000,9,   -999.0,9,  -999.00,9,  -999.00,9,  -999.00,9,  -999.00,9, -999.000,9, -999.000,9, -999.000,9,   -999.0,9,   -999.0,9,   -999.0,9,    20.00,-999.0000,9,    25.00, -999.000,9
33RR20050617,KESS,       55,        1,        2,        2,2,20050707,0558,35.2498,149.4003,0,  1508.10,   1508.1,   2.7044,  34.4616,2,   -999.0,9,   2.5996,  34.4617,2,   -999.0,9,  -999.00,9,  -999.00,9,  -999.00,9,  -999.00,9, -999.000,9, -999.000,9, -999.000,9,   -999.0,9,   -999.0,9,   -999.0,9,    20.00,-999.0000,9,    25.00, -999.000,9
33RR20050617,KESS,       55,        1,        3,        3,2,20050707,0558,35.2498,149.4003,0,  1508.20,   1508.2,   2.7040,  34.4617,2,   -999.0,9,   2.5992,-999.0000,9,   -999.0,9,  -999.00,9,  -999.00,9,  -999.00,9,  -999.00,9, -999.000,9, -999.000,9, -999.000,9,   -999.0,9,   -999.0,9,   -999.0,9,    20.00,-999.0000,9,    25.00, -999.000,9
33RR20050617,KESS,       56,        1,        4,        4,2,20050707,0806,35.4000,149.3333,0,  1508.40,   1508.4,   2.6871,  34.4615,2,   -999.0,9,   2.5825,-999.0000,9,   -999.0,9,  -999.00,9,  -999.00,9,  -999.00,9,  -999.00,9, -999.000,9, -999.000,9, -999.000,9,   -999.0,9,   -999.0,9,   -999.0,9,    20.00,-999.0000,9,    25.00, -999.000,9
33RR20050617,KESS,       56,        1,        3,        3,2,20050707,0806,35.4000,149.3333,0,  1508.40,   1508.4,   2.6876,  34.4615,2,   -999.0,9,   2.5830,-999.0000,9,   -999.0,9,  -999.00,9,  -999.00,9,  -999.00,9,  -999.00,9, -999.000,9, -999.000,9, -999.000,9,   -999.0,9,   -999.0,9,   -999.0,9,    20.00,-999.0000,9,    25.00, -999.000,9
33RR20050617,KESS,       56,        1,        2,        2,2,20050707,0806,35.4000,149.3333,0,  1508.40,   1508.4,   2.6802,  34.4621,2,   -999.0,9,   2.5756,  34.4619,2,   -999.0,9,  -999.00,9,  -999.00,9,  -999.00,9,  -999.00,9, -999.000,9, -999.000,9, -999.000,9,   -999.0,9,   -999.0,9,   -999.0,9,    20.00,-999.0000,9,    25.00, -999.000,9
33RR20050617,KESS,       57,        1,        4,        4,2,20050707,0956,35.5000,149.2667,0,  1507.50,   1507.5,   2.6446,  34.4629,2,   -999.0,9,   2.5406,-999.0000,9,   -999.0,9,  -999.00,9,  -999.00,9,  -999.00,9,  -999.00,9, -999.000,9, -999.000,9, -999.000,9,   -999.0,9,   -999.0,9,   -999.0,9,    20.00,-999.0000,9,    25.00, -999.000,9
33RR20050617,KESS,       57,        1,        3,        3,2,20050707,0956,35.5000,149.2667,0,  1507.60,   1507.6,   2.6454,  34.4630,2,   -999.0,9,   2.5413,-999.0000,9,   -999.0,9,  -999.00,9,  -999.00,9,  -999.00,9,  -999.00,9, -999.000,9, -999.000,9, -999.000,9,   -999.0,9,   -999.0,9,   -999.0,9,    20.00,-999.0000,9,    25.00, -999.000,9
33RR20050617,KESS,       57,        1,        2,        2,2,20050707,0956,35.5000,149.2667,0,  1507.80,   1507.8,   2.6441,  34.4630,2,   -999.0,9,   2.5400,  34.4641,2,   -999.0,9,  -999.00,9,  -999.00,9,  -999.00,9,  -999.00,9, -999.000,9, -999.000,9, -999.000,9,   -999.0,9,   -999.0,9,   -999.0,9,    20.00,-999.0000,9,    25.00, -999.000,9
33RR20050617,KESS,       58,        1,        3,        3,2,20050707,1149,35.6000,149.2000,0,  1503.90,   1503.9,   2.6699,  34.4661,2,   -999.0,9,   2.5659,-999.0000,9,   -999.0,9,  -999.00,9,  -999.00,9,  -999.00,9,  -999.00,9, -999.000,9, -999.000,9, -999.000,9,   -999.0,9,   -999.0,9,   -999.0,9,    20.00,-999.0000,9,    25.00, -999.000,9
33RR20050617,KESS,       58,        1,        2,        2,2,20050707,1149,35.6000,149.2000,0,  1504.10,   1504.1,   2.6729,  34.4660,2,   -999.0,9,   2.5688,  34.4645,2,   -999.0,9,  -999.00,9,  -999.00,9,  -999.00,9,  -999.00,9, -999.000,9, -999.000,9, -999.000,9,   -999.0,9,   -999.0,9,   -999.0,9,    20.00,-999.0000,9,    25.00, -999.000,9
33RR20050617,KESS,       58,        1,        4,        4,2,20050707,1149,35.6000,149.2000,0,  1504.20,   1504.2,   2.6701,  34.4661,2,   -999.0,9,   2.5660,-999.0000,9,   -999.0,9,  -999.00,9,  -999.00,9,  -999.00,9,  -999.00,9, -999.000,9, -999.000,9, -999.000,9,   -999.0,9,   -999.0,9,   -999.0,9,    20.00,-999.0000,9,    25.00, -999.000,9
33RR20050617,KESS,       59,        1,        3,        3,2,20050707,1340,35.7000,149.1333,0,  1499.40,   1499.4,   2.6453,  34.4716,2,   -999.0,9,   2.5419,-999.0000,9,   -999.0,9,  -999.00,9,  -999.00,9,  -999.00,9,  -999.00,9, -999.000,9, -999.000,9, -999.000,9,   -999.0,9,   -999.0,9,   -999.0,9,    20.00,-999.0000,9,    25.00, -999.000,9
33RR20050617,KESS,       59,        1,        2,        2,2,20050707,1340,35.7000,149.1333,0,  1499.50,   1499.5,   2.6450,  34.4716,2,   -999.0,9,   2.5415,  34.4730,2,   -999.0,9,  -999.00,9,  -999.00,9,  -999.00,9,  -999.00,9, -999.000,9, -999.000,9, -999.000,9,   -999.0,9,   -999.0,9,   -999.0,9,    20.00,-999.0000,9,    25.00, -999.000,9
33RR20050617,KESS,       59,        1,        4,        4,2,20050707,1340,35.7000,149.1333,0,  1499.50,   1499.5,   2.6446,  34.4717,2,   -999.0,9,   2.5411,-999.0000,9,   -999.0,9,  -999.00,9,  -999.00,9,  -999.00,9,  -999.00,9, -999.000,9, -999.000,9, -999.000,9,   -999.0,9,   -999.0,9,   -999.0,9,    20.00,-999.0000,9,    25.00, -999.000,9
33RR20050617,KESS,       60,        1,        2,        2,2,20050707,1529,35.8002,149.0672,0,  1500.20,   1500.2,   2.5989,  34.4800,2,   -999.0,9,   2.4959,  34.4807,2,   -999.0,9,  -999.00,9,  -999.00,9,  -999.00,9,  -999.00,9, -999.000,9, -999.000,9, -999.000,9,   -999.0,9,   -999.0,9,   -999.0,9,    20.00,-999.0000,9,    25.00, -999.000,9
33RR20050617,KESS,       60,        1,        3,        3,2,20050707,1529,35.8002,149.0672,0,  1500.40,   1500.4,   2.5965,  34.4803,2,   -999.0,9,   2.4935,-999.0000,9,   -999.0,9,  -999.00,9,  -999.00,9,  -999.00,9,  -999.00,9, -999.000,9, -999.000,9, -999.000,9,   -999.0,9,   -999.0,9,   -999.0,9,    20.00,-999.0000,9,    25.00, -999.000,9
33RR20050617,KESS,       60,        1,        4,        4,2,20050707,1529,35.8002,149.0672,0,  1500.70,   1500.7,   2.5964,  34.4804,2,   -999.0,9,   2.4934,-999.0000,9,   -999.0,9,  -999.00,9,  -999.00,9,  -999.00,9,  -999.00,9, -999.000,9, -999.000,9, -999.000,9,   -999.0,9,   -999.0,9,   -999.0,9,    20.00,-999.0000,9,    25.00, -999.000,9
33RR20050617,KESS,       61,        1,        2,        2,2,20050707,1719,35.9002,149.0008,0,  1500.50,   1500.5,   2.5627,  34.4895,2,   -999.0,9,   2.4601,  34.4893,2,   -999.0,9,  -999.00,9,  -999.00,9,  -999.00,9,  -999.00,9, -999.000,9, -999.000,9, -999.000,9,   -999.0,9,   -999.0,9,   -999.0,9,    20.00,-999.0000,9,    25.00, -999.000,9
33RR20050617,KESS,       61,        1,        3,        3,2,20050707,1719,35.9002,149.0008,0,  1501.50,   1501.5,   2.5593,  34.4899,2,   -999.0,9,   2.4567,-999.0000,9,   -999.0,9,  -999.00,9,  -999.00,9,  -999.00,9,  -999.00,9, -999.000,9, -999.000,9, -999.000,9,   -999.0,9,   -999.0,9,   -999.0,9,    20.00,-999.0000,9,    25.00, -999.000,9
33RR20050617,KESS,       61,        1,        4,        4,2,20050707,1719,35.9002,149.0008,0,  1501.90,   1501.9,   2.5580,  34.4900,2,   -999.0,9,   2.4553,-999.0000,9,   -999.0,9,  -999.00,9,  -999.00,9,  -999.00,9,  -999.00,9, -999.000,9, -999.000,9, -999.000,9,   -999.0,9,   -999.0,9,   -999.0,9,    20.00,-999.0000,9,    25.00, -999.000,9
33RR20050617,KESS,       62,        1,        2,        2,2,20050707,1904,36.0000,148.9340,0,  1500.90,   1500.9,   2.5193,  34.4931,2,   -999.0,9,   2.4171,  34.4941,2,   -999.0,9,  -999.00,9,  -999.00,9,  -999.00,9,  -999.00,9, -999.000,9, -999.000,9, -999.000,9,   -999.0,9,   -999.0,9,   -999.0,9,    20.00,-999.0000,9,    25.00, -999.000,9
33RR20050617,KESS,       62,        1,        3,        3,2,20050707,1904,36.0000,148.9340,0,  1501.20,   1501.2,   2.5192,  34.4932,2,   -999.0,9,   2.4171,-999.0000,9,   -999.0,9,  -999.00,9,  -999.00,9,  -999.00,9,  -999.00,9, -999.000,9, -999.000,9, -999.000,9,   -999.0,9,   -999.0,9,   -999.0,9,    20.00,-999.0000,9,    25.00, -999.000,9
33RR20050617,KESS,       62,        1,        4,        4,2,20050707,1904,36.0000,148.9340,0,  1501.80,   1501.8,   2.5183,  34.4933,2,   -999.0,9,   2.4161,-999.0000,9,   -999.0,9,  -999.00,9,  -999.00,9,  -999.00,9,  -999.00,9, -999.000,9, -999.000,9, -999.000,9,   -999.0,9,   -999.0,9,   -999.0,9,    20.00,-999.0000,9,    25.00, -999.000,9
33RR20050617,KESS,       63,        1,        2,        2,2,20050707,2055,36.1000,148.8670,0,  1498.50,   1498.5,   2.4918,  34.4963,2,   -999.0,9,   2.3901,  34.4969,2,   -999.0,9,  -999.00,9,  -999.00,9,  -999.00,9,  -999.00,9, -999.000,9, -999.000,9, -999.000,9,   -999.0,9,   -999.0,9,   -999.0,9,    20.00,-999.0000,9,    25.00, -999.000,9
33RR20050617,KESS,       63,        1,        3,        3,2,20050707,2055,36.1000,148.8670,0,  1499.60,   1499.6,   2.4844,  34.4977,2,   -999.0,9,   2.3827,-999.0000,9,   -999.0,9,  -999.00,9,  -999.00,9,  -999.00,9,  -999.00,9, -999.000,9, -999.000,9, -999.000,9,   -999.0,9,   -999.0,9,   -999.0,9,    20.00,-999.0000,9,    25.00, -999.000,9
33RR20050617,KESS,       63,        1,        4,        4,2,20050707,2055,36.1000,148.8670,0,  1500.60,   1500.6,   2.4785,  34.4988,2,   -999.0,9,   2.3769,-999.0000,9,   -999.0,9,  -999.00,9,  -999.00,9,  -999.00,9,  -999.00,9, -999.000,9, -999.000,9, -999.000,9,   -999.0,9,   -999.0,9,   -999.0,9,    20.00,-999.0000,9,    25.00, -999.000,9
33RR20050617,KESS,       64,        1,        2,        2,2,20050707,2244,36.2000,148.8002,0,  1504.20,   1504.2,   2.4301,  34.5087,2,   -999.0,9,   2.3287,  34.5091,2,   -999.0,9,  -999.00,9,  -999.00,9,  -999.00,9,  -999.00,9, -999.000,9, -999.000,9, -999.000,9,   -999.0,9,   -999.0,9,   -999.0,9,    20.00,-999.0000,9,    25.00, -999.000,9
33RR20050617,KESS,       64,        1,        3,        3,2,20050707,2244,36.2000,148.8002,0,  1505.00,   1505.0,   2.4300,  34.5089,2,   -999.0,9,   2.3285,-999.0000,9,   -999.0,9,  -999.00,9,  -999.00,9,  -999.00,9,  -999.00,9, -999.000,9, -999.000,9, -999.000,9,   -999.0,9,   -999.0,9,   -999.0,9,    20.00,-999.0000,9,    25.00, -999.000,9
33RR20050617,KESS,       64,        1,        4,        4,2,20050707,2244,36.2000,148.8002,0,  1505.30,   1505.3,   2.4299,  34.5090,2,   -999.0,9,   2.3284,-999.0000,9,   -999.0,9,  -999.00,9,  -999.00,9,  -999.00,9,  -999.00,9, -999.000,9, -999.000,9, -999.000,9,   -999.0,9,   -999.0,9,   -999.0,9,    20.00,-999.0000,9,    25.00, -999.000,9
33RR20050617,KESS,       65,        1,        4,        4,2,20050708,0035,36.3005,148.7357,0,  1476.20,   1476.2,   2.4008,  34.5123,2,   -999.0,9,   2.3019,-999.0000,9,   -999.0,9,  -999.00,9,  -999.00,9,  -999.00,9,  -999.00,9, -999.000,9, -999.000,9, -999.000,9,   -999.0,9,   -999.0,9,   -999.0,9,    20.00,-999.0000,9,    25.00, -999.000,9
33RR20050617,KESS,       65,        1,        3,        3,2,20050708,0035,36.3005,148.7357,0,  1479.00,   1479.0,   2.4005,  34.5124,2,   -999.0,9,   2.3014,-999.0000,9,   -999.0,9,  -999.00,9,  -999.00,9,  -999.00,9,  -999.00,9, -999.000,9, -999.000,9, -999.000,9,   -999.0,9,   -999.0,9,   -999.0,9,    20.00,-999.0000,9,    25.00, -999.000,9
33RR20050617,KESS,       65,        1,        2,        2,2,20050708,0035,36.3005,148.7357,0,  1481.30,   1481.3,   2.4006,  34.5124,2,   -999.0,9,   2.3013,  34.5130,2,   -999.0,9,  -999.00,9,  -999.00,9,  -999.00,9,  -999.00,9, -999.000,9, -999.000,9, -999.000,9,   -999.0,9,   -999.0,9,   -999.0,9,    20.00,-999.0000,9,    25.00, -999.000,9