BOTTLE,20040202WHPSIOSA
EXPOCODE,SECT_ID,STNNBR,CASTNO,SAMPNO,BTLNBR,BTLNBR_FLAG_W,DATE,TIME,LATITUDE,LONGITUDE,DEPTH,CTDPRS,CTDTMP,CTDSAL,CTDSAL_FLAG_W,SALNTY,SALNTY_FLAG_W,CTDOXY,CTDOXY_FLAG_W,OXYGEN,OXYGEN_FLAG_W,SILCAT,SILCAT_FLAG_W,NO2+NO3,NO2+NO3_FLAG_W,PHSPHT,PHSPHT_FLAG_W,THETA
,,,,,,,,,,,,DBAR,ITS-90,PSS-78,,PSS-78,,UMOL/KG,,UMOL/KG,,UMOL/KG,,UMOL/KG,,UMOL/KG,,DEG C
  492SSY9310_1,  P02E,    59,  1,      1,     23,2,19931023,2212, 29.9983, 171.7550, 5111,     49.4,  21.4155,  34.9315,2,  34.8924,3,   -999.0,9,    230.2,2,     1.95,3,     0.00,3,     0.00,3, 21.4059
  492SSY9310_1,  P02E,    59,  1,      2,     22,2,19931023,2212, 29.9983, 171.7550, 5111,     99.2,  17.6927,  34.8150,2,  34.8086,2,   -999.0,9,    215.3,2,     3.90,3,     2.35,3,     0.19,3, 17.6759
  492SSY9310_1,  P02E,    59,  1,      3,     21,2,19931023,2212, 29.9983, 171.7550, 5111,    199.2,  16.1045,  34.7135,2,  34.7131,2,   -999.0,9,    214.4,2,     4.87,3,     5.05,3,     0.37,3, 16.0730
  492SSY9310_1,  P02E,    59,  1,      4,     20,2,19931023,2212, 29.9983, 171.7550, 5111,    298.7,  14.0509,  34.5368,2,  34.5378,2,   -999.0,9,    207.0,2,    10.72,3,     8.88,3,     0.66,3, 14.0078
  492SSY9310_1,  P02E,    59,  1,      5,     19,2,19931023,2212, 29.9983, 171.7550, 5111,    400.2,  11.8172,  34.3637,2,  34.3662,2,   -999.0,9,    210.0,2,    16.56,3,    12.20,3,     0.90,3, 11.7655
  492SSY9310_1,  P02E,    59,  1,      6,     18,2,19931023,2212, 29.9983, 171.7550, 5111,    499.9,   9.7184,  34.2079,2,  34.1999,2,   -999.0,9,    190.8,2,    26.30,3,    17.82,3,     1.31,3,  9.6612
  492SSY9310_1,  P02E,    59,  1,      7,     17,2,19931023,2212, 29.9983, 171.7550, 5111,    598.7,   7.4211,  34.0668,2,  34.0670,2,   -999.0,9,    167.7,2,    44.80,3,    24.47,3,     1.80,3,  7.3625
  492SSY9310_1,  P02E,    59,  1,      8,     16,2,19931023,2212, 29.9983, 171.7550, 5111,    698.4,   5.9188,  34.0318,2,  34.0311,2,   -999.0,9,    131.9,2,    64.27,3,    30.04,3,     2.28,3,  5.8579
  492SSY9310_1,  P02E,    59,  1,      9,     15,2,19931023,2212, 29.9983, 171.7550, 5111,    799.1,   4.8476,  34.0862,2,  34.0880,2,   -999.0,9,     89.7,2,    84.73,3,    35.96,3,     2.66,3,  4.7838
  492SSY9310_1,  P02E,    59,  1,     10,     14,2,19931023,2212, 29.9983, 171.7550, 5111,    900.3,   4.1646,  34.1887,2,  34.1891,2,   -999.0,9,     58.7,2,   105.17,3,    39.67,3,     2.87,3,  4.0965
  492SSY9310_1,  P02E,    59,  1,     11,     13,2,19931023,2212, 29.9983, 171.7550, 5111,    999.0,   3.7474,  34.2684,2,  34.2774,2,   -999.0,9,     43.1,2,   117.81,3,    41.32,3,     2.97,3,  3.6742
  492SSY9310_1,  P02E,    59,  1,     12,     12,2,19931023,2212, 29.9983, 171.7550, 5111,   1248.6,   3.0385,  34.4208,2,  34.4249,2,   -999.0,9,     33.1,2,   141.15,3,    43.17,3,     3.10,6,  2.9511
  492SSY9310_1,  P02E,    59,  1,     13,     11,2,19931023,2212, 29.9983, 171.7550, 5111,   1500.2,   2.5043,  34.5152,2,  34.5186,2,   -999.0,9,     44.4,2,   155.74,3,    42.80,3,     3.03,3,  2.4023
  492SSY9310_1,  P02E,    59,  1,     14,     10,2,19931023,2212, 29.9983, 171.7550, 5111,   1749.9,   2.2079,  34.5572,2,  34.5578,2,   -999.0,9,     57.0,2,   161.58,3,    42.52,3,     2.96,3,  2.0893
  492SSY9310_1,  P02E,    59,  1,     15,      9,2,19931023,2212, 29.9983, 171.7550, 5111,   2001.0,   1.9311,  34.6005,2,  34.6026,2,   -999.0,9,     78.7,2,   165.47,3,    41.35,3,     2.88,3,  1.7957
  492SSY9310_1,  P02E,    59,  1,     16,      8,2,19931023,2212, 29.9983, 171.7550, 5111,   2250.7,   1.7646,  34.6267,2,  34.6293,2,   -999.0,9,     95.2,2,   165.46,3,    39.05,3,     2.80,4,  1.6106
  492SSY9310_1,  P02E,    59,  1,     17,      7,2,19931023,2212, 29.9983, 171.7550, 5111,   2500.1,   1.6456,  34.6447,2,  34.6462,2,   -999.0,9,    109.1,2,   165.46,3,    39.06,3,     2.73,3,  1.4719
  492SSY9310_1,  P02E,    59,  1,     18,      6,2,19931023,2212, 29.9983, 171.7550, 5111,   2999.9,   1.5244,  34.6675,2,  34.6655,2,   -999.0,9,    129.1,2,   160.60,3,    37.53,3,     2.66,3,  1.3071
  492SSY9310_1,  P02E,    59,  1,     19,      5,2,19931023,2212, 29.9983, 171.7550, 5111,   3501.2,   1.4507,  34.6793,2,  34.6808,2,   -999.0,9,    145.7,2,   155.73,3,    36.63,3,     2.57,3,  1.1857
  492SSY9310_1,  P02E,    59,  1,     20,      4,2,19931023,2212, 29.9983, 171.7550, 5111,   3999.2,   1.4437,  34.6854,2,  34.6716,4,   -999.0,9,    147.8,4,  -999.00,9,  -999.00,9,  -999.00,9,  1.1266
  492SSY9310_1,  P02E,    59,  1,     21,      3,2,19931023,2212, 29.9983, 171.7550, 5111,   4501.1,   1.4378,  34.6919,2,  34.6958,2,   -999.0,9,    164.4,2,   146.98,3,    35.09,3,     2.54,3,  1.0648
  492SSY9310_1,  P02E,    59,  1,     22,      2,2,19931023,2212, 29.9983, 171.7550, 5111,   5000.8,   1.4449,  34.6962,2,  34.6969,2,   -999.0,9,    172.6,2,   140.18,3,    34.69,3,     2.39,6,  1.0126
  492SSY9310_1,  P02E,    59,  1,     23,      1,2,19931023,2212, 29.9983, 171.7550, 5111,   5000.8,   1.4449,  34.6962,2,  34.7015,3,   -999.0,9,    172.6,2,   140.18,3,    34.94,3,     2.39,3,  1.0126
  492SSY9310_1,  P02E,    60,  1,      1,     23,2,19931024,0309, 29.9933, 172.3333, 5524,     50.9,  25.1795,  35.2800,2,  35.2958,2,   -999.0,9,    209.9,2,  -999.00,9,     0.06,3,     0.02,3, 25.1683
  492SSY9310_1,  P02E,    60,  1,      2,     22,2,19931024,0309, 29.9933, 172.3333, 5524,     99.4,  17.9519,  34.8137,2,  34.8129,2,   -999.0,9,    236.2,2,     0.00,3,     0.09,3,     0.10,3, 17.9349
  492SSY9310_1,  P02E,    60,  1,      3,     21,2,19931024,0309, 29.9933, 172.3333, 5524,    200.3,  15.8680,  34.6885,2,  34.6826,2,   -999.0,9,    210.0,2,     2.92,3,     5.95,3,     0.43,3, 15.8366
  492SSY9310_1,  P02E,    60,  1,      4,     20,2,19931024,0309, 29.9933, 172.3333, 5524,    300.3,  14.0664,  34.5321,2,  34.5307,2,   -999.0,9,    206.1,2,     7.79,3,     9.49,3,     0.67,3, 14.0230
  492SSY9310_1,  P02E,    60,  1,      5,     19,2,19931024,0309, 29.9933, 172.3333, 5524,    399.8,  11.8998,  34.3680,2,  34.3666,2,   -999.0,9,    209.6,2,    13.64,3,    13.19,3,     0.92,3, 11.8480
  492SSY9310_1,  P02E,    60,  1,      6,     18,2,19931024,0309, 29.9933, 172.3333, 5524,    500.4,   9.6972,  34.1939,2,  34.1979,2,   -999.0,9,    188.6,2,    23.38,3,    19.36,3,     1.29,3,  9.6401
  492SSY9310_1,  P02E,    60,  1,      7,     17,2,19931024,0309, 29.9933, 172.3333, 5524,    599.8,   7.1334,  34.0516,2,  34.0492,2,   -999.0,9,    162.9,2,    42.85,3,    27.21,3,     1.83,3,  7.0760
  492SSY9310_1,  P02E,    60,  1,      8,     16,2,19931024,0309, 29.9933, 172.3333, 5524,    698.9,   5.5614,  34.0352,2,  34.0341,2,   -999.0,9,    121.0,2,    65.25,3,    32.58,3,     2.32,3,  5.5023
  492SSY9310_1,  P02E,    60,  1,      9,     15,2,19931024,0309, 29.9933, 172.3333, 5524,    800.6,   4.6193,  34.1152,2,  34.1132,2,   -999.0,9,     76.2,2,    88.62,3,    38.16,3,     2.69,3,  4.5567
  492SSY9310_1,  P02E,    60,  1,     10,     14,2,19931024,0309, 29.9933, 172.3333, 5524,    899.5,   4.1099,  34.2039,2,  34.2032,2,   -999.0,9,     54.0,2,   104.19,3,    40.17,3,     2.89,6,  4.0423
  492SSY9310_1,  P02E,    60,  1,     11,     13,2,19931024,0309, 29.9933, 172.3333, 5524,   1000.3,   3.6821,  34.2769,2,  34.2799,2,   -999.0,9,     38.7,2,   119.76,3,    42.17,3,     3.02,3,  3.6093
  492SSY9310_1,  P02E,    60,  1,     12,     12,2,19931024,0309, 29.9933, 172.3333, 5524,   1249.7,   3.0143,  34.4214,2,  34.4208,2,   -999.0,9,     31.8,2,   142.13,3,    42.60,3,     3.13,3,  2.9270
  492SSY9310_1,  P02E,    60,  1,     13,     11,2,19931024,0309, 29.9933, 172.3333, 5524,   1499.0,   2.5004,  34.5074,3,  34.4889,3,   -999.0,9,     46.1,3,  -999.00,9,  -999.00,9,  -999.00,9,  2.3985
  492SSY9310_1,  P02E,    60,  1,     14,     10,2,19931024,0309, 29.9933, 172.3333, 5524,   1750.6,   2.1630,  34.5587,2,  34.5596,2,   -999.0,9,     55.7,3,   159.63,3,    42.59,3,     3.02,3,  2.0449
  492SSY9310_1,  P02E,    60,  1,     15,      9,2,19931024,0309, 29.9933, 172.3333, 5524,   2000.0,   1.9013,  34.6037,2,  34.6007,2,   -999.0,9,     81.3,2,   161.57,3,    41.31,3,     2.90,3,  1.7664
  492SSY9310_1,  P02E,    60,  1,     16,      8,2,19931024,0309, 29.9933, 172.3333, 5524,   2250.9,   1.7381,  34.6291,2,  34.6278,2,   -999.0,9,     96.1,2,   162.54,3,    38.52,3,     2.84,3,  1.5845
  492SSY9310_1,  P02E,    60,  1,     17,      7,2,19931024,0309, 29.9933, 172.3333, 5524,   2499.2,   1.6443,  34.6447,2,  34.6429,2,   -999.0,9,    108.7,2,   160.59,3,    41.54,3,     2.79,3,  1.4707
  492SSY9310_1,  P02E,    60,  1,     18,      6,2,19931024,0309, 29.9933, 172.3333, 5524,   2997.8,   1.5246,  34.6651,2,  34.6647,2,   -999.0,9,    132.2,2,   158.65,3,    40.68,3,     2.70,3,  1.3075
  492SSY9310_1,  P02E,    60,  1,     19,      5,2,19931024,0309, 29.9933, 172.3333, 5524,   3498.9,   1.4654,  34.6779,2,  34.6765,2,   -999.0,9,    144.8,2,  -999.00,9,  -999.00,9,  -999.00,9,  1.2004
  492SSY9310_1,  P02E,    60,  1,     20,      4,2,19931024,0309, 29.9933, 172.3333, 5524,   4000.2,   1.4514,  34.6849,2,  34.6855,2,   -999.0,9,    153.9,2,   154.77,3,    37.08,3,     2.60,3,  1.1339
  492SSY9310_1,  P02E,    60,  1,     21,      3,2,19931024,0309, 29.9933, 172.3333, 5524,   4498.1,   1.4447,  34.6906,2,  34.6906,2,   -999.0,9,    163.1,2,   150.88,3,    36.14,3,     2.53,3,  1.0718
  492SSY9310_1,  P02E,    60,  1,     22,      2,2,19931024,0309, 29.9933, 172.3333, 5524,   5000.0,   1.4529,  34.6954,2,  34.6938,2,   -999.0,9,    173.1,2,   138.23,3,    35.76,3,     2.42,3,  1.0204
  492SSY9310_1,  P02E,    60,  1,     23,      1,2,19931024,0309, 29.9933, 172.3333, 5524,   5499.6,   1.4745,  34.6991,2,  34.6956,2,   -999.0,9,    175.7,2,   132.39,3,    35.24,3,     2.39,6,  0.9792
  492SSY9310_1,  P02E,    61,  1,      1,     23,2,19931024,0907, 30.0033, 172.9250, 5452,     49.9,  24.7553,  35.1096,2,  35.1020,2,   -999.0,9,    211.2,2,     1.95,3,     0.00,3,     0.02,3, 24.7445
  492SSY9310_1,  P02E,    61,  1,      2,     22,2,19931024,0907, 30.0033, 172.9250, 5452,    101.5,  16.9566,  34.7883,2,  34.7893,2,   -999.0,9,    234.9,2,     4.87,3,     0.39,3,     0.17,3, 16.9400
  492SSY9310_1,  P02E,    61,  1,      3,     21,2,19931024,0907, 30.0033, 172.9250, 5452,    199.2,  15.0731,  34.6187,2,  34.6158,2,   -999.0,9,    216.6,2,     6.82,3,     6.19,3,     0.51,3, 15.0430
  492SSY9310_1,  P02E,    61,  1,      4,     20,2,19931024,0907, 30.0033, 172.9250, 5452,    300.0,  13.1251,  34.4558,2,  34.4530,2,   -999.0,9,    215.2,2,     3.90,3,    10.21,3,     0.25,3, 13.0838
  492SSY9310_1,  P02E,    61,  1,      5,     19,2,19931024,0907, 30.0033, 172.9250, 5452,    399.5,  11.5180,  34.3256,2,  34.3235,2,   -999.0,9,    213.0,2,     7.79,3,    13.47,3,     0.47,3, 11.4674
  492SSY9310_1,  P02E,    61,  1,      6,     18,2,19931024,0907, 30.0033, 172.9250, 5452,    500.2,   9.4756,  34.1789,2,  34.1822,2,   -999.0,9,    194.7,2,    12.66,3,    19.76,3,     0.66,3,  9.4193
  492SSY9310_1,  P02E,    61,  1,      7,     17,2,19931024,0907, 30.0033, 172.9250, 5452,    600.5,   7.1953,  34.0500,2,  34.0499,2,   -999.0,9,    168.1,2,    17.53,3,    27.27,3,     0.86,3,  7.1375
  492SSY9310_1,  P02E,    61,  1,      8,     16,2,19931024,0907, 30.0033, 172.9250, 5452,    699.0,   5.5149,  34.0196,2,  34.0237,2,   -999.0,9,    128.9,2,    27.27,3,    32.48,3,     1.26,3,  5.4561
  492SSY9310_1,  P02E,    61,  1,      9,     15,2,19931024,0907, 30.0033, 172.9250, 5452,    798.8,   4.6018,  34.1050,2,  34.1050,2,   -999.0,9,     84.4,2,    91.54,3,    38.28,3,     2.63,3,  4.5394
  492SSY9310_1,  P02E,    61,  1,     10,     14,2,19931024,0907, 30.0033, 172.9250, 5452,    900.1,   4.0355,  34.2113,2,  34.2070,2,   -999.0,9,     53.1,2,   110.03,3,    41.52,3,     2.87,3,  3.9683
  492SSY9310_1,  P02E,    61,  1,     11,     13,2,19931024,0907, 30.0033, 172.9250, 5452,    999.7,   3.6708,  34.2786,2,  34.2779,2,   -999.0,9,     40.0,2,   123.65,3,    42.79,3,     2.97,3,  3.5981
  492SSY9310_1,  P02E,    61,  1,     12,     12,2,19931024,0907, 30.0033, 172.9250, 5452,   1249.9,   2.9417,  34.4241,2,  34.4251,2,   -999.0,9,     31.3,2,   146.02,3,    43.76,3,     3.08,6,  2.8551
  492SSY9310_1,  P02E,    61,  1,     13,     11,2,19931024,0907, 30.0033, 172.9250, 5452,   1499.2,   2.5448,  34.5017,2,  34.5007,2,   -999.0,9,     41.3,2,   156.71,3,    44.24,3,     3.03,3,  2.4424
  492SSY9310_1,  P02E,    61,  1,     14,     10,2,19931024,0907, 30.0033, 172.9250, 5452,   1751.2,   2.1244,  34.5694,2,  34.5679,2,   -999.0,9,     61.8,2,   163.53,3,    42.77,3,     2.95,3,  2.0068
  492SSY9310_1,  P02E,    61,  1,     15,      9,2,19931024,0907, 30.0033, 172.9250, 5452,   2000.5,   1.8809,  34.6085,2,  34.6077,2,   -999.0,9,     83.9,2,   166.44,3,    42.47,3,     2.85,3,  1.7463
  492SSY9310_1,  P02E,    61,  1,     16,      8,2,19931024,0907, 30.0033, 172.9250, 5452,   2249.8,   1.7492,  34.6284,2,  34.6231,2,   -999.0,9,     97.0,2,   163.51,3,    42.20,3,     2.78,3,  1.5955
  492SSY9310_1,  P02E,    61,  1,     17,      7,2,19931024,0907, 30.0033, 172.9250, 5452,   2499.9,   1.6627,  34.6418,3,  34.6246,3,   -999.0,9,    101.8,3,  -999.00,9,  -999.00,9,  -999.00,9,  1.4887
  492SSY9310_1,  P02E,    61,  1,     18,      6,2,19931024,0907, 30.0033, 172.9250, 5452,   2999.9,   1.5185,  34.6669,2,  34.6622,2,   -999.0,9,    130.9,2,   157.68,3,    40.68,3,     2.69,3,  1.3014
  492SSY9310_1,  P02E,    61,  1,     19,      5,2,19931024,0907, 30.0033, 172.9250, 5452,   3500.1,   1.4598,  34.6789,2,  34.6793,2,   -999.0,9,    143.9,2,   154.76,3,    40.09,3,     2.59,3,  1.1948
  492SSY9310_1,  P02E,    61,  1,     20,      4,2,19931024,0907, 30.0033, 172.9250, 5452,   4001.3,   1.4452,  34.6867,2,  34.6844,2,   -999.0,9,    153.9,2,   151.85,3,    36.73,3,     9.72,4,  1.1278
  492SSY9310_1,  P02E,    61,  1,     21,      3,2,19931024,0907, 30.0033, 172.9250, 5452,   4501.4,   1.4438,  34.6923,2,  34.6877,2,   -999.0,9,    161.7,2,   146.01,3,    36.73,3,     9.72,4,  1.0705
  492SSY9310_1,  P02E,    61,  1,     22,      2,2,19931024,0907, 30.0033, 172.9250, 5452,   4999.7,   1.4558,  34.6962,2,  34.6926,2,   -999.0,9,    170.9,2,   140.18,3,    36.11,3,     9.73,4,  1.0233
  492SSY9310_1,  P02E,    61,  1,     23,      1,2,19931024,0907, 30.0033, 172.9250, 5452,   5501.7,   1.4604,  34.7001,2,  34.6973,2,   -999.0,9,    180.0,4,   132.39,3,    35.81,3,     2.35,3,  0.9653
  492SSY9310_1,  P02E,    62,  1,      1,     23,2,19931024,1427, 29.9967, 173.5083, 4506,     50.4,  21.1644,  34.8343,2,  34.8369,2,   -999.0,9,    244.6,2,     3.90,3,     0.06,3,     0.04,3, 21.1547
  492SSY9310_1,  P02E,    62,  1,      2,     22,2,19931024,1427, 29.9967, 173.5083, 4506,    100.7,  17.0199,  34.7728,2,  34.7697,2,   -999.0,9,    228.3,2,     1.95,3,     1.41,3,     0.19,3, 17.0034
  492SSY9310_1,  P02E,    62,  1,      3,     21,2,19931024,1427, 29.9967, 173.5083, 4506,    199.3,  15.7415,  34.6784,2,  34.6785,2,   -999.0,9,    219.2,2,     3.90,3,     5.30,3,     0.39,3, 15.7105
  492SSY9310_1,  P02E,    62,  1,      4,     20,2,19931024,1427, 29.9967, 173.5083, 4506,    300.0,  13.6375,  34.4949,2,  34.4981,2,   -999.0,9,    211.8,2,     8.77,3,     9.44,3,     0.68,3, 13.5951
  492SSY9310_1,  P02E,    62,  1,      5,     19,2,19931024,1427, 29.9967, 173.5083, 4506,    400.7,  11.6257,  34.3470,2,  34.3447,2,   -999.0,9,    214.3,2,    13.64,3,    13.17,3,     0.93,3, 11.5746
  492SSY9310_1,  P02E,    62,  1,      6,     18,2,19931024,1427, 29.9967, 173.5083, 4506,    498.7,   9.1477,  34.1576,2,  34.1575,2,   -999.0,9,    192.1,2,    27.27,3,    20.43,3,     1.47,3,  9.0928
  492SSY9310_1,  P02E,    62,  1,      7,     17,2,19931024,1427, 29.9967, 173.5083, 4506,    598.6,   7.0407,  34.0439,2,  34.0447,2,   -999.0,9,    175.0,2,    45.77,3,    27.73,3,     2.04,3,  6.9838
  492SSY9310_1,  P02E,    62,  1,      8,     16,2,19931024,1427, 29.9967, 173.5083, 4506,    700.9,   5.5896,  34.0247,2,  34.0268,2,   -999.0,9,    122.8,2,    66.22,3,    31.90,3,     2.31,3,  5.5302
  492SSY9310_1,  P02E,    62,  1,      9,     15,2,19931024,1427, 29.9967, 173.5083, 4506,    800.1,   4.7350,  34.0966,2,  34.0940,2,   -999.0,9,     79.2,2,    87.65,3,    37.67,3,     2.67,3,  4.6717
  492SSY9310_1,  P02E,    62,  1,     10,     14,2,19931024,1427, 29.9967, 173.5083, 4506,    899.2,   4.0914,  34.2019,2,  34.2030,2,   -999.0,9,     51.8,2,   108.08,3,    41.12,3,     2.92,3,  4.0239
  492SSY9310_1,  P02E,    62,  1,     11,     13,2,19931024,1427, 29.9967, 173.5083, 4506,    998.3,   3.6919,  34.2959,2,  34.2980,2,   -999.0,9,     37.4,2,   124.62,3,    42.37,3,     2.99,3,  3.6191
  492SSY9310_1,  P02E,    62,  1,     12,     12,2,19931024,1427, 29.9967, 173.5083, 4506,   1249.5,   3.0864,  34.4244,2,  34.4263,2,   -999.0,9,     33.5,2,   144.07,3,    42.33,3,     3.05,3,  2.9984
  492SSY9310_1,  P02E,    62,  1,     13,     11,2,19931024,1427, 29.9967, 173.5083, 4506,   1500.9,   2.5565,  34.5163,2,  34.5109,2,   -999.0,9,     44.8,2,   159.63,3,    42.95,3,     3.00,6,  2.4538
  492SSY9310_1,  P02E,    62,  1,     14,     10,2,19931024,1427, 29.9967, 173.5083, 4506,   1749.1,   2.1832,  34.5689,2,  34.5657,2,   -999.0,9,     57.8,2,   169.37,3,    42.35,3,     2.94,3,  2.0649
  492SSY9310_1,  P02E,    62,  1,     15,      9,2,19931024,1427, 29.9967, 173.5083, 4506,   1999.8,   1.9415,  34.6045,2,  34.5987,2,   -999.0,9,     80.0,2,   159.63,4,    40.60,4,     2.80,4,  1.8060
  492SSY9310_1,  P02E,    62,  1,     16,      8,2,19931024,1427, 29.9967, 173.5083, 4506,   2250.6,   1.7634,  34.6273,2,  34.6252,2,   -999.0,9,     93.5,2,   166.43,3,    41.14,3,     2.81,3,  1.6094
  492SSY9310_1,  P02E,    62,  1,     17,      7,2,19931024,1427, 29.9967, 173.5083, 4506,   2499.8,   1.6722,  34.6413,2,  34.6348,2,   -999.0,9,    102.2,2,   152.80,4,    39.83,4,     2.68,4,  1.4980
  492SSY9310_1,  P02E,    62,  1,     18,      6,2,19931024,1427, 29.9967, 173.5083, 4506,   2999.2,   1.5389,  34.6653,2,  34.6647,2,   -999.0,9,    127.0,2,   161.57,3,    41.01,3,     2.70,3,  1.3214
  492SSY9310_1,  P02E,    62,  1,     19,      5,2,19931024,1427, 29.9967, 173.5083, 4506,   3500.0,   1.4688,  34.6778,2,  34.6787,2,   -999.0,9,    142.6,2,   156.70,3,    39.21,3,     2.63,3,  1.2036
  492SSY9310_1,  P02E,    62,  1,     20,      4,2,19931024,1427, 29.9967, 173.5083, 4506,   3999.0,   1.4488,  34.6866,2,  34.6848,2,   -999.0,9,    152.2,2,   151.85,3,    35.49,3,     2.62,3,  1.1315
  492SSY9310_1,  P02E,    62,  1,     21,      3,2,19931024,1427, 29.9967, 173.5083, 4506,   3999.0,   1.4488,  34.6866,2,  34.6857,2,   -999.0,9,    153.5,2,   151.85,3,    36.81,3,     2.48,3,  1.1315
  492SSY9310_1,  P02E,    62,  1,     22,      2,2,19931024,1427, 29.9967, 173.5083, 4506,   4501.4,   1.4426,  34.6916,2,  34.6895,2,   -999.0,9,    162.6,2,   146.01,3,    36.33,3,     2.43,6,  1.0694
  492SSY9310_1,  P02E,    62,  1,     23,      1,2,19931024,1427, 29.9967, 173.5083, 4506,   4501.4,   1.4426,  34.6916,2,  34.6859,4,   -999.0,9,    160.9,2,   146.01,3,    36.29,3,     2.44,3,  1.0694