BOTTLE,20040202WHPSIOSA
EXPOCODE,SECT_ID,STNNBR,CASTNO,SAMPNO,BTLNBR,BTLNBR_FLAG_W,DATE,TIME,LATITUDE,LONGITUDE,DEPTH,CTDPRS,CTDTMP,CTDSAL,CTDSAL_FLAG_W,SALNTY,SALNTY_FLAG_W,CTDOXY,CTDOXY_FLAG_W,OXYGEN,OXYGEN_FLAG_W,SILCAT,SILCAT_FLAG_W,NO2+NO3,NO2+NO3_FLAG_W,PHSPHT,PHSPHT_FLAG_W,THETA
,,,,,,,,,,,,DBAR,ITS-90,PSS-78,,PSS-78,,UMOL/KG,,UMOL/KG,,UMOL/KG,,UMOL/KG,,UMOL/KG,,DEG C
  492SSY9310_1,  P02E,    47,  1,      1,     23,2,19931021,0328, 30.0017, 164.0833, 6001,     99.9,  18.6611,  34.8448,2,  34.8389,2,   -999.0,9,    204.0,2,     3.90,3,     2.75,3,     0.20,3, 18.6436
  492SSY9310_1,  P02E,    47,  1,      2,     22,2,19931021,0328, 30.0017, 164.0833, 6001,    201.8,  17.0242,  34.7874,2,  34.7838,2,   -999.0,9,    218.8,2,     3.90,3,     3.45,3,     0.26,3, 16.9910
  492SSY9310_1,  P02E,    47,  1,      3,     21,2,19931021,0328, 30.0017, 164.0833, 6001,    300.4,  15.8332,  34.6852,2,  34.6840,2,   -999.0,9,    197.9,2,     7.79,3,     7.18,3,     0.53,3, 15.7860
  492SSY9310_1,  P02E,    47,  1,      4,     20,2,19931021,0328, 30.0017, 164.0833, 6001,    398.7,  13.2428,  34.4849,2,  34.4856,2,   -999.0,9,    199.2,2,    13.64,3,    10.79,3,     0.78,3, 13.1873
  492SSY9310_1,  P02E,    47,  1,      5,     19,2,19931021,0328, 30.0017, 164.0833, 6001,    498.3,  11.1772,  34.3322,2,  34.3405,2,   -999.0,9,    202.2,2,    19.48,3,    13.68,3,     0.99,3, 11.1149
  492SSY9310_1,  P02E,    47,  1,      6,     18,2,19931021,0328, 30.0017, 164.0833, 6001,    601.2,   8.5608,  34.1250,2,  34.1236,2,   -999.0,9,    186.0,2,    34.09,3,    20.35,3,     1.49,3,  8.4969
  492SSY9310_1,  P02E,    47,  1,      7,     17,2,19931021,0328, 30.0017, 164.0833, 6001,    701.0,   6.1873,  34.0089,2,  34.0088,2,   -999.0,9,    152.4,2,    58.43,3,    28.00,3,     2.05,3,  6.1248
  492SSY9310_1,  P02E,    47,  1,      8,     16,2,19931021,0328, 30.0017, 164.0833, 6001,    800.2,   4.9106,  34.0636,2,  34.0631,2,   -999.0,9,     99.7,2,    83.76,3,    34.94,3,     2.53,3,  4.8463
  492SSY9310_1,  P02E,    47,  1,      9,     15,2,19931021,0328, 30.0017, 164.0833, 6001,    899.6,   4.3103,  34.1588,2,  34.1599,2,   -999.0,9,     69.2,2,   103.22,3,    38.39,3,     2.77,3,  4.2413
  492SSY9310_1,  P02E,    47,  1,     10,     14,2,19931021,0328, 30.0017, 164.0833, 6001,   1000.8,   3.8022,  34.2542,2,  34.2548,2,   -999.0,9,     50.0,2,   118.79,3,    41.51,3,     2.93,3,  3.7284
  492SSY9310_1,  P02E,    47,  1,     11,     13,2,19931021,0328, 30.0017, 164.0833, 6001,   1249.9,   2.9913,  34.4026,2,  34.4045,2,   -999.0,9,     37.8,2,   145.05,3,    42.90,3,     3.05,3,  2.9042
  492SSY9310_1,  P02E,    47,  1,     12,     12,2,19931021,0328, 30.0017, 164.0833, 6001,   1500.4,   2.5390,  34.4948,2,  34.4964,2,   -999.0,9,     41.8,2,   159.63,3,    43.27,3,     3.08,6,  2.4366
  492SSY9310_1,  P02E,    47,  1,     13,     11,2,19931021,0328, 30.0017, 164.0833, 6001,   1751.7,   2.2147,  34.5544,2,  34.5492,2,   -999.0,9,     58.3,2,   162.56,3,    42.43,3,     2.92,3,  2.0958
  492SSY9310_1,  P02E,    47,  1,     14,     10,2,19931021,0328, 30.0017, 164.0833, 6001,   1999.8,   1.9736,  34.5961,2,  34.5969,2,   -999.0,9,     79.6,2,   168.39,3,    41.90,3,     2.88,3,  1.8376
  492SSY9310_1,  P02E,    47,  1,     15,      9,2,19931021,0328, 30.0017, 164.0833, 6001,   2250.3,   1.8039,  34.6230,2,  34.6244,2,   -999.0,9,     97.4,2,   166.43,3,    40.26,3,     2.79,3,  1.6493
  492SSY9310_1,  P02E,    47,  1,     16,      8,2,19931021,0328, 30.0017, 164.0833, 6001,   2501.7,   1.6837,  34.6408,2,  34.6423,2,   -999.0,9,    110.4,2,   164.48,3,    39.08,3,     2.71,3,  1.5092
  492SSY9310_1,  P02E,    47,  1,     17,      7,2,19931021,0328, 30.0017, 164.0833, 6001,   3000.4,   1.5582,  34.6641,2,  34.6639,2,   -999.0,9,    129.1,2,   160.60,3,    38.44,3,     2.63,3,  1.3402
  492SSY9310_1,  P02E,    47,  1,     18,      6,2,19931021,0328, 30.0017, 164.0833, 6001,   3500.1,   1.4944,  34.6760,2,  34.6761,2,   -999.0,9,    143.9,2,   157.68,3,    37.47,3,     2.55,3,  1.2285
  492SSY9310_1,  P02E,    47,  1,     19,      5,2,19931021,0328, 30.0017, 164.0833, 6001,   3999.8,   1.4729,  34.6829,2,  34.6828,2,   -999.0,9,    152.6,2,  -999.00,9,  -999.00,9,  -999.00,9,  1.1550
  492SSY9310_1,  P02E,    47,  1,     20,      4,2,19931021,0328, 30.0017, 164.0833, 6001,   4500.4,   1.4678,  34.6886,2,  34.6887,2,   -999.0,9,    159.1,2,   150.88,3,    35.65,3,     2.44,3,  1.0940
  492SSY9310_1,  P02E,    47,  1,     21,      3,2,19931021,0328, 30.0017, 164.0833, 6001,   4998.0,   1.4852,  34.6929,2,  34.6930,2,   -999.0,9,    167.4,2,   145.05,3,    34.97,3,     2.40,3,  1.0520
  492SSY9310_1,  P02E,    47,  1,     22,      2,2,19931021,0328, 30.0017, 164.0833, 6001,   5500.5,   1.5105,  34.6965,2,  34.6960,2,   -999.0,9,    174.4,2,   141.16,3,    34.72,3,     2.39,3,  1.0138
  492SSY9310_1,  P02E,    47,  1,     23,      1,2,19931021,0328, 30.0017, 164.0833, 6001,   5500.5,   1.5105,  34.6965,2,  34.7019,3,   -999.0,9,    172.6,2,   141.16,3,    34.86,3,     2.40,3,  1.0138
  492SSY9310_1,  P02E,    48,  1,      1,     23,2,19931021,0912, 29.9983, 164.6650, 5845,     51.1,  21.0489,  34.8618,2,  34.8635,2,   -999.0,9,   -999.0,5,     1.95,3,     0.00,3,     0.02,3, 21.0392
  492SSY9310_1,  P02E,    48,  1,      2,     22,2,19931021,0912, 29.9983, 164.6650, 5845,    100.6,  18.2347,  34.8287,2,  34.8283,2,   -999.0,9,   -999.0,5,     3.90,3,     3.11,3,     0.21,3, 18.2174
  492SSY9310_1,  P02E,    48,  1,      3,     21,2,19931021,0912, 29.9983, 164.6650, 5845,    199.8,  16.8603,  34.7773,2,  34.7663,2,   -999.0,9,   -999.0,5,     4.87,3,     4.29,3,     0.30,3, 16.8276
  492SSY9310_1,  P02E,    48,  1,      4,     20,2,19931021,0912, 29.9983, 164.6650, 5845,    300.1,  15.0542,  34.6226,2,  34.6297,2,   -999.0,9,   -999.0,5,     9.74,3,     8.55,3,     0.60,3, 15.0087
  492SSY9310_1,  P02E,    48,  1,      5,     19,2,19931021,0912, 29.9983, 164.6650, 5845,    400.5,  12.7790,  34.4507,2,  34.4530,2,   -999.0,9,   -999.0,5,    13.64,3,    10.95,3,     0.76,3, 12.7246
  492SSY9310_1,  P02E,    48,  1,      6,     18,2,19931021,0912, 29.9983, 164.6650, 5845,    499.8,  10.4288,  34.2705,2,  34.3101,4,   -999.0,9,   -999.0,5,    22.40,3,    15.30,3,     1.08,3, 10.3690
  492SSY9310_1,  P02E,    48,  1,      7,     17,2,19931021,0912, 29.9983, 164.6650, 5845,    600.5,   7.8402,  34.0793,2,  34.0809,2,   -999.0,9,   -999.0,5,    39.93,3,    22.96,3,     1.64,3,  7.7796
  492SSY9310_1,  P02E,    48,  1,      8,     16,2,19931021,0912, 29.9983, 164.6650, 5845,    701.1,   5.7185,  34.0198,2,  34.0286,2,   -999.0,9,   -999.0,5,    64.27,3,    30.85,3,     2.19,3,  5.6584
  492SSY9310_1,  P02E,    48,  1,      9,     15,2,19931021,0912, 29.9983, 164.6650, 5845,    801.2,   4.7324,  34.0758,2,  34.0795,2,   -999.0,9,   -999.0,5,    86.68,3,    36.60,3,     2.56,3,  4.6690
  492SSY9310_1,  P02E,    48,  1,     10,     14,2,19931021,0912, 29.9983, 164.6650, 5845,    900.1,   4.2263,  34.1779,2,  34.1783,2,   -999.0,9,   -999.0,5,   105.17,3,    40.21,3,     2.79,3,  4.1578
  492SSY9310_1,  P02E,    48,  1,     11,     13,2,19931021,0912, 29.9983, 164.6650, 5845,   1000.6,   3.7396,  34.2663,2,  34.2695,2,   -999.0,9,   -999.0,5,   120.73,3,    42.56,3,     2.95,6,  3.6663
  492SSY9310_1,  P02E,    48,  1,     12,     12,2,19931021,0912, 29.9983, 164.6650, 5845,   1249.6,   2.9811,  34.4117,2,  34.4153,2,   -999.0,9,   -999.0,5,   146.02,3,    44.10,3,     3.06,3,  2.8942
  492SSY9310_1,  P02E,    48,  1,     13,     11,2,19931021,0912, 29.9983, 164.6650, 5845,   1501.0,   2.5014,  34.4983,2,  34.4932,2,   -999.0,9,   -999.0,5,   155.74,3,    43.26,3,     2.98,3,  2.3994
  492SSY9310_1,  P02E,    48,  1,     14,     10,2,19931021,0912, 29.9983, 164.6650, 5845,   1750.9,   2.1466,  34.5638,2,  34.5637,2,   -999.0,9,   -999.0,5,   166.45,3,    43.51,3,     2.98,3,  2.0287
  492SSY9310_1,  P02E,    48,  1,     15,      9,2,19931021,0912, 29.9983, 164.6650, 5845,   1999.7,   1.9301,  34.6000,2,  34.5979,2,   -999.0,9,   -999.0,5,   167.41,3,    42.15,3,     2.84,3,  1.7948
  492SSY9310_1,  P02E,    48,  1,     16,      8,2,19931021,0912, 29.9983, 164.6650, 5845,   2250.2,   1.7776,  34.6243,2,  34.6191,2,   -999.0,9,   -999.0,5,   165.46,3,    40.75,3,     2.74,3,  1.6234
  492SSY9310_1,  P02E,    48,  1,     17,      7,2,19931021,0912, 29.9983, 164.6650, 5845,   2499.5,   1.6760,  34.6444,2,  34.6455,2,   -999.0,9,   -999.0,5,   164.48,3,    40.18,3,     2.68,3,  1.5018
  492SSY9310_1,  P02E,    48,  1,     18,      6,2,19931021,0912, 29.9983, 164.6650, 5845,   2999.9,   1.5562,  34.6645,2,  34.6667,2,   -999.0,9,   -999.0,5,   160.60,3,    38.82,3,     2.58,3,  1.3383
  492SSY9310_1,  P02E,    48,  1,     19,      5,2,19931021,0912, 29.9983, 164.6650, 5845,   3500.7,   1.4938,  34.6766,2,  34.6779,2,   -999.0,9,   -999.0,5,   157.68,3,    38.01,3,     2.46,6,  1.2279
  492SSY9310_1,  P02E,    48,  1,     20,      4,2,19931021,0912, 29.9983, 164.6650, 5845,   3999.7,   1.4641,  34.6835,2,  34.6863,2,   -999.0,9,   -999.0,5,   153.80,3,    36.19,3,     2.46,3,  1.1464
  492SSY9310_1,  P02E,    48,  1,     21,      3,2,19931021,0912, 29.9983, 164.6650, 5845,   4500.2,   1.4597,  34.6897,2,  34.6930,2,   -999.0,9,   -999.0,5,   149.90,3,    35.57,3,     2.42,3,  1.0862
  492SSY9310_1,  P02E,    48,  1,     22,      2,2,19931021,0912, 29.9983, 164.6650, 5845,   4999.0,   1.4745,  34.6938,2,  34.6958,2,   -999.0,9,   -999.0,5,   144.08,3,    35.31,3,     2.39,3,  1.0415
  492SSY9310_1,  P02E,    48,  1,     23,      1,2,19931021,0912, 29.9983, 164.6650, 5845,   5499.4,   1.5067,  34.6968,2,  34.6946,2,   -999.0,9,   -999.0,5,   140.18,3,    34.94,3,     2.36,3,  1.0103
  492SSY9310_1,  P02E,    49,  1,      1,     23,2,19931021,1440, 30.0050, 165.2600, 5918,     49.7,  24.9651,  34.9763,2,  34.9719,2,   -999.0,9,    211.7,2,     0.97,3,     0.00,3,     0.01,3, 24.9543
  492SSY9310_1,  P02E,    49,  1,      2,     22,2,19931021,1440, 30.0050, 165.2600, 5918,     99.2,  18.4446,  34.8341,2,  34.8373,2,   -999.0,9,    233.2,2,     1.95,3,     0.00,3,     0.08,3, 18.4273
  492SSY9310_1,  P02E,    49,  1,      3,     21,2,19931021,1440, 30.0050, 165.2600, 5918,    199.2,  16.0810,  34.7099,2,  34.7101,2,   -999.0,9,    215.3,2,     4.87,3,     4.99,3,     0.39,3, 16.0495
  492SSY9310_1,  P02E,    49,  1,      4,     20,2,19931021,1440, 30.0050, 165.2600, 5918,    297.7,  14.4702,  34.5671,2,  34.5728,2,   -999.0,9,    206.6,2,     8.77,3,     8.15,3,     0.60,3, 14.4263
  492SSY9310_1,  P02E,    49,  1,      5,     19,2,19931021,1440, 30.0050, 165.2600, 5918,    399.2,  12.4405,  34.4187,2,  34.4141,2,   -999.0,9,    219.6,2,    13.64,3,    10.20,3,     0.74,3, 12.3872
  492SSY9310_1,  P02E,    49,  1,      6,     18,2,19931021,1440, 30.0050, 165.2600, 5918,    500.7,  10.5007,  34.2661,2,  34.2685,2,   -999.0,9,    202.6,2,    22.40,3,    15.13,3,     1.11,3, 10.4406
  492SSY9310_1,  P02E,    49,  1,      7,     17,2,19931021,1440, 30.0050, 165.2600, 5918,    598.4,   8.0341,  34.0970,2,  34.0966,2,   -999.0,9,    179.4,2,    38.96,3,    21.89,3,     1.59,3,  7.9728
  492SSY9310_1,  P02E,    49,  1,      8,     16,2,19931021,1440, 30.0050, 165.2600, 5918,    699.7,   5.9362,  34.0123,2,  34.0155,2,   -999.0,9,    142.8,2,    62.33,3,    29.13,3,     2.14,3,  5.8751
  492SSY9310_1,  P02E,    49,  1,      9,     15,2,19931021,1440, 30.0050, 165.2600, 5918,    801.5,   4.8369,  34.0756,2,  34.0788,2,   -999.0,9,     91.8,2,    86.68,3,    35.87,3,     2.58,3,  4.7730
  492SSY9310_1,  P02E,    49,  1,     10,     14,2,19931021,1440, 30.0050, 165.2600, 5918,    899.0,   4.2611,  34.1738,2,  34.1726,2,   -999.0,9,     63.5,2,   103.22,3,    39.28,3,     2.83,3,  4.1925
  492SSY9310_1,  P02E,    49,  1,     11,     13,2,19931021,1440, 30.0050, 165.2600, 5918,    999.8,   3.7200,  34.2739,2,  34.2727,2,   -999.0,9,     48.7,2,   120.73,3,    41.79,3,     2.95,6,  3.6469
  492SSY9310_1,  P02E,    49,  1,     12,     12,2,19931021,1440, 30.0050, 165.2600, 5918,   1250.6,   2.9288,  34.4162,2,  34.4175,2,   -999.0,9,     36.5,2,   146.02,3,    43.32,3,     3.09,3,  2.8423
  492SSY9310_1,  P02E,    49,  1,     13,     11,2,19931021,1440, 30.0050, 165.2600, 5918,   1501.2,   2.4502,  34.5088,2,  34.5091,2,   -999.0,9,     44.8,2,   159.63,3,    43.70,3,     3.05,3,  2.3487
  492SSY9310_1,  P02E,    49,  1,     14,     10,2,19931021,1440, 30.0050, 165.2600, 5918,   1749.2,   2.1387,  34.5619,2,  34.5649,2,   -999.0,9,     60.9,2,   166.45,3,    42.92,3,     3.01,3,  2.0211
  492SSY9310_1,  P02E,    49,  1,     15,      9,2,19931021,1440, 30.0050, 165.2600, 5918,   1998.1,   1.9172,  34.5997,3,  34.5629,3,   -999.0,9,     74.8,3,  -999.00,9,  -999.00,9,  -999.00,9,  1.7822
  492SSY9310_1,  P02E,    49,  1,     16,      8,2,19931021,1440, 30.0050, 165.2600, 5918,   2248.5,   1.7756,  34.6269,2,  34.6301,2,   -999.0,9,     98.7,2,   165.46,3,    39.65,3,     2.77,3,  1.6216
  492SSY9310_1,  P02E,    49,  1,     17,      7,2,19931021,1440, 30.0050, 165.2600, 5918,   2500.0,   1.6665,  34.6469,2,  34.6506,2,   -999.0,9,    118.7,3,   160.59,3,    39.80,3,     2.68,3,  1.4924
  492SSY9310_1,  P02E,    49,  1,     18,      6,2,19931021,1440, 30.0050, 165.2600, 5918,   2998.8,   1.5546,  34.6662,2,  34.6675,2,   -999.0,9,    135.7,3,   157.68,3,    38.50,3,     2.60,3,  1.3368
  492SSY9310_1,  P02E,    49,  1,     19,      5,2,19931021,1440, 30.0050, 165.2600, 5918,   3499.8,   1.4959,  34.6774,2,  34.6783,2,   -999.0,9,    144.4,3,   154.76,3,    37.53,3,     2.52,6,  1.2300
  492SSY9310_1,  P02E,    49,  1,     20,      4,2,19931021,1440, 30.0050, 165.2600, 5918,   3999.5,   1.4673,  34.6833,2,  34.6857,2,   -999.0,9,    154.8,2,   154.77,3,    35.51,3,     2.50,3,  1.1496
  492SSY9310_1,  P02E,    49,  1,     21,      3,2,19931021,1440, 30.0050, 165.2600, 5918,   4499.5,   1.4637,  34.6892,2,  34.6930,2,   -999.0,9,    161.8,2,   150.88,3,    35.63,3,     2.45,3,  1.0902
  492SSY9310_1,  P02E,    49,  1,     22,      2,2,19931021,1440, 30.0050, 165.2600, 5918,   4999.7,   1.4728,  34.6937,2,  34.6946,2,   -999.0,9,    170.0,3,   146.02,3,    35.03,3,     2.40,3,  1.0398
  492SSY9310_1,  P02E,    49,  1,     23,      1,2,19931021,1440, 30.0050, 165.2600, 5918,   5500.2,   1.4983,  34.6970,2,  34.7020,3,   -999.0,9,    174.4,2,   139.21,3,    34.63,3,     2.38,3,  1.0021
  492SSY9310_1,  P02E,    50,  1,      1,     23,2,19931021,2007, 30.0033, 165.8333, 5887,    101.1,  18.0148,  34.8236,2,  34.8224,2,   -999.0,9,    236.2,2,     2.92,3,     0.00,3,     0.09,3, 17.9975
  492SSY9310_1,  P02E,    50,  1,      2,     22,2,19931021,2007, 30.0033, 165.8333, 5887,    199.9,  16.3797,  34.7376,2,  34.7406,2,   -999.0,9,    217.5,2,     3.90,3,     4.29,3,     0.31,3, 16.3476
  492SSY9310_1,  P02E,    50,  1,      3,     21,2,19931021,2007, 30.0033, 165.8333, 5887,    300.7,  14.6553,  34.5828,2,  34.5928,2,   -999.0,9,    206.1,2,     7.79,3,     7.89,3,     0.56,3, 14.6105
  492SSY9310_1,  P02E,    50,  1,      4,     20,2,19931021,2007, 30.0033, 165.8333, 5887,    400.3,  12.5485,  34.4209,2,  34.4204,2,   -999.0,9,    209.2,2,    12.66,3,    11.02,3,     0.77,3, 12.4947
  492SSY9310_1,  P02E,    50,  1,      5,     19,2,19931021,2007, 30.0033, 165.8333, 5887,    499.2,  10.5295,  34.2554,2,  34.2652,2,   -999.0,9,    201.7,2,    20.46,3,    15.47,3,     1.08,3, 10.4694
  492SSY9310_1,  P02E,    50,  1,      6,     18,2,19931021,2007, 30.0033, 165.8333, 5887,    600.6,   7.9022,  34.0838,2,  34.1003,4,   -999.0,9,    179.0,2,    36.04,3,    22.36,3,     1.58,3,  7.8413
  492SSY9310_1,  P02E,    50,  1,      7,     17,2,19931021,2007, 30.0033, 165.8333, 5887,    698.6,   6.1485,  34.0202,2,  34.0235,2,   -999.0,9,    141.5,2,    57.46,3,    29.72,3,     2.12,3,  6.0864
  492SSY9310_1,  P02E,    50,  1,      8,     16,2,19931021,2007, 30.0033, 165.8333, 5887,    800.5,   4.9876,  34.0651,2,  34.0717,2,   -999.0,9,     97.9,2,    80.83,3,    35.20,3,     2.53,3,  4.9228
  492SSY9310_1,  P02E,    50,  1,      9,     15,2,19931021,2007, 30.0033, 165.8333, 5887,    900.5,   4.3534,  34.1589,2,  34.1607,2,   -999.0,9,     63.5,2,   101.27,3,    40.51,3,     2.82,3,  4.2840
  492SSY9310_1,  P02E,    50,  1,     10,     14,2,19931021,2007, 30.0033, 165.8333, 5887,    999.2,   3.8600,  34.2410,2,  34.2430,2,   -999.0,9,     43.9,2,   117.82,3,    42.33,3,     2.99,3,  3.7859
  492SSY9310_1,  P02E,    50,  1,     11,     13,2,19931021,2007, 30.0033, 165.8333, 5887,   1249.5,   3.0328,  34.3996,2,  34.4002,2,   -999.0,9,     42.2,4,   141.16,3,    42.86,3,     3.04,6,  2.9454
  492SSY9310_1,  P02E,    50,  1,     12,     12,2,19931021,2007, 30.0033, 165.8333, 5887,   1498.7,   2.5074,  34.4937,2,  34.4958,2,   -999.0,9,     43.9,2,   160.61,3,    44.26,3,     3.08,3,  2.4055
  492SSY9310_1,  P02E,    50,  1,     13,     11,2,19931021,2007, 30.0033, 165.8333, 5887,   1749.4,   2.1815,  34.5549,2,  34.5559,2,   -999.0,9,     59.6,2,   167.42,3,    44.32,3,     2.99,3,  2.0633
  492SSY9310_1,  P02E,    50,  1,     14,     10,2,19931021,2007, 30.0033, 165.8333, 5887,   1999.3,   1.9364,  34.5973,2,  34.6069,4,   -999.0,9,     79.1,2,   170.33,3,    42.15,3,     2.91,3,  1.8010
  492SSY9310_1,  P02E,    50,  1,     15,      9,2,19931021,2007, 30.0033, 165.8333, 5887,   2251.5,   1.7666,  34.6241,2,  34.6219,2,   -999.0,9,     96.5,2,   165.46,3,    40.65,3,     2.79,3,  1.6125
  492SSY9310_1,  P02E,    50,  1,     16,      8,2,19931021,2007, 30.0033, 165.8333, 5887,   2500.2,   1.6644,  34.6432,3,  34.6278,3,   -999.0,9,    104.8,3,  -999.00,9,  -999.00,9,  -999.00,9,  1.4903
  492SSY9310_1,  P02E,    50,  1,     17,      7,2,19931021,2007, 30.0033, 165.8333, 5887,   3001.4,   1.5558,  34.6644,2,  34.6653,2,   -999.0,9,    130.0,2,   161.57,3,    39.00,3,     2.61,3,  1.3377
  492SSY9310_1,  P02E,    50,  1,     18,      6,2,19931021,2007, 30.0033, 165.8333, 5887,   3500.4,   1.4956,  34.6757,2,  34.6765,2,   -999.0,9,    145.2,2,   158.65,3,    38.38,3,     2.55,3,  1.2297
  492SSY9310_1,  P02E,    50,  1,     19,      5,2,19931021,2007, 30.0033, 165.8333, 5887,   3999.7,   1.4645,  34.6843,2,  34.6863,2,   -999.0,9,    155.2,2,   152.82,3,    37.30,3,     2.48,6,  1.1468
  492SSY9310_1,  P02E,    50,  1,     20,      4,2,19931021,2007, 30.0033, 165.8333, 5887,   4500.1,   1.4629,  34.6898,2,  34.6828,4,   -999.0,9,    159.1,2,   148.93,3,    34.86,3,     2.46,3,  1.0893
  492SSY9310_1,  P02E,    50,  1,     21,      3,2,19931021,2007, 30.0033, 165.8333, 5887,   5000.6,   1.4793,  34.6931,2,  34.6956,2,   -999.0,9,    170.0,2,   143.10,3,    35.63,3,     9.73,3,  1.0460
  492SSY9310_1,  P02E,    50,  1,     22,      2,2,19931021,2007, 30.0033, 165.8333, 5887,   5500.0,   1.5122,  34.6965,2,  34.6965,2,   -999.0,9,    175.7,2,   141.16,3,    35.11,3,     2.39,3,  1.0155
  492SSY9310_1,  P02E,    50,  1,     23,      1,2,19931021,2007, 30.0033, 165.8333, 5887,   5500.0,   1.5122,  34.6965,2,  34.6934,3,   -999.0,9,    173.5,2,   140.18,3,    35.14,3,     2.39,3,  1.0155