BOTTLE,20040202WHPSIOSA
EXPOCODE,SECT_ID,STNNBR,CASTNO,SAMPNO,BTLNBR,BTLNBR_FLAG_W,DATE,TIME,LATITUDE,LONGITUDE,DEPTH,CTDPRS,CTDTMP,CTDSAL,CTDSAL_FLAG_W,SALNTY,SALNTY_FLAG_W,CTDOXY,CTDOXY_FLAG_W,OXYGEN,OXYGEN_FLAG_W,SILCAT,SILCAT_FLAG_W,NO2+NO3,NO2+NO3_FLAG_W,PHSPHT,PHSPHT_FLAG_W,THETA
,,,,,,,,,,,,DBAR,ITS-90,PSS-78,,PSS-78,,UMOL/KG,,UMOL/KG,,UMOL/KG,,UMOL/KG,,UMOL/KG,,DEG C
  492SSY9310_1,  P02E,    67,  1,      1,     23,2,19931025,1645, 30.0017, 176.4150, 5276,     51.5,  19.5591,  34.8453,2,  34.8338,2,   -999.0,9,    237.5,2,     3.90,3,     0.00,3,     0.05,3, 19.5498
  492SSY9310_1,  P02E,    67,  1,      2,     22,2,19931025,1645, 30.0017, 176.4150, 5276,    101.6,  17.5489,  34.8179,2,  34.8129,2,   -999.0,9,    214.4,2,     4.87,3,     3.00,3,     0.22,3, 17.5318
  492SSY9310_1,  P02E,    67,  1,      3,     21,2,19931025,1645, 30.0017, 176.4150, 5276,    201.7,  16.7195,  34.7680,2,  34.7651,2,   -999.0,9,    218.8,2,     3.90,3,     4.28,3,     0.32,3, 16.6867
  492SSY9310_1,  P02E,    67,  1,      4,     20,2,19931025,1645, 30.0017, 176.4150, 5276,    299.9,  15.3863,  34.6423,2,  34.6429,2,   -999.0,9,    214.4,2,     4.87,3,     6.33,3,     0.46,3, 15.3402
  492SSY9310_1,  P02E,    67,  1,      5,     19,2,19931025,1645, 30.0017, 176.4150, 5276,    400.7,  13.4581,  34.4974,2,  34.4966,2,   -999.0,9,    207.0,2,    10.71,3,    10.28,3,     0.74,3, 13.4017
  492SSY9310_1,  P02E,    67,  1,      6,     18,2,19931025,1645, 30.0017, 176.4150, 5276,    499.3,  11.3635,  34.3391,2,  34.3464,2,   -999.0,9,    208.3,2,    16.56,3,    14.10,3,     0.99,3, 11.3004
  492SSY9310_1,  P02E,    67,  1,      7,     17,2,19931025,1645, 30.0017, 176.4150, 5276,    600.6,   8.5116,  34.1157,2,  34.1185,2,   -999.0,9,    188.2,2,    32.14,3,    21.57,3,     1.51,3,  8.4479
  492SSY9310_1,  P02E,    67,  1,      8,     16,2,19931025,1645, 30.0017, 176.4150, 5276,    700.9,   6.2414,  34.0153,2,  34.0162,2,   -999.0,9,    149.3,2,    33.11,4,    28.47,4,     1.48,3,  6.1786
  492SSY9310_1,  P02E,    67,  1,      9,     15,2,19931025,1645, 30.0017, 176.4150, 5276,    800.5,   4.9109,  34.0504,2,  34.0556,2,   -999.0,9,    100.5,2,    78.89,3,    34.58,3,     2.49,3,  4.8466
  492SSY9310_1,  P02E,    67,  1,     10,     14,2,19931025,1645, 30.0017, 176.4150, 5276,    899.8,   4.3961,  34.1508,2,  34.1550,2,   -999.0,9,     58.8,2,    97.38,3,    40.55,3,     2.83,3,  4.3266
  492SSY9310_1,  P02E,    67,  1,     11,     13,2,19931025,1645, 30.0017, 176.4150, 5276,   1000.3,   3.8189,  34.2546,2,  34.2530,2,   -999.0,9,     40.9,2,   115.87,3,    42.64,3,     3.00,3,  3.7450
  492SSY9310_1,  P02E,    67,  1,     12,     12,2,19931025,1645, 30.0017, 176.4150, 5276,   1251.4,   3.0560,  34.4173,2,  34.4159,2,   -999.0,9,     28.7,2,   141.15,3,    44.43,3,     3.12,3,  2.9682
  492SSY9310_1,  P02E,    67,  1,     13,     11,2,19931025,1645, 30.0017, 176.4150, 5276,   1497.6,   2.6283,  34.5030,2,  34.4928,4,   -999.0,9,     38.7,2,   141.14,4,    45.52,4,     2.92,6,  2.5250
  492SSY9310_1,  P02E,    67,  1,     14,     10,2,19931025,1645, 30.0017, 176.4150, 5276,   1750.6,   2.2607,  34.5591,2,  34.5590,2,   -999.0,9,     55.2,2,   163.53,3,    44.71,3,     3.01,3,  2.1413
  492SSY9310_1,  P02E,    67,  1,     15,      9,2,19931025,1645, 30.0017, 176.4150, 5276,   2000.8,   2.0112,  34.5961,2,  34.5867,4,   -999.0,9,     71.8,2,   157.68,4,    43.75,4,     2.82,3,  1.8746
  492SSY9310_1,  P02E,    67,  1,     16,      8,2,19931025,1645, 30.0017, 176.4150, 5276,   2250.6,   1.8107,  34.6232,2,  34.6225,2,   -999.0,9,     90.9,2,   166.43,3,    41.47,3,     2.82,3,  1.6559
  492SSY9310_1,  P02E,    67,  1,     17,      7,2,19931025,1645, 30.0017, 176.4150, 5276,   2501.5,   1.6828,  34.6398,2,  34.6386,2,   -999.0,9,    103.5,2,   160.59,3,    40.81,3,     2.76,3,  1.5083
  492SSY9310_1,  P02E,    67,  1,     18,      6,2,19931025,1645, 30.0017, 176.4150, 5276,   3000.2,   1.5376,  34.6641,2,  34.6629,2,   -999.0,9,    126.5,2,   158.65,3,    40.81,3,     2.68,3,  1.3200
  492SSY9310_1,  P02E,    67,  1,     19,      5,2,19931025,1645, 30.0017, 176.4150, 5276,   3498.8,   1.4711,  34.6771,2,  34.6747,2,   -999.0,9,    140.9,2,   155.73,3,    39.64,3,     2.61,3,  1.2060
  492SSY9310_1,  P02E,    67,  1,     20,      4,2,19931025,1645, 30.0017, 176.4150, 5276,   3999.4,   1.4546,  34.6852,2,  34.6838,2,   -999.0,9,    150.9,2,   152.82,3,    36.22,3,     2.58,3,  1.1371
  492SSY9310_1,  P02E,    67,  1,     21,      3,2,19931025,1645, 30.0017, 176.4150, 5276,   4499.6,   1.4564,  34.6904,2,  34.6903,2,   -999.0,9,    160.4,2,   147.96,3,    35.43,3,     2.48,3,  1.0830
  492SSY9310_1,  P02E,    67,  1,     23,      1,2,19931025,1645, 30.0017, 176.4150, 5276,   5000.4,   1.4569,  34.6957,2,  34.6952,2,   -999.0,9,    169.1,2,   141.16,3,    35.59,3,     2.41,6,  1.0242
  492SSY9310_1,  P02E,    67,  1,     22,      2,2,19931025,1645, 30.0017, 176.4150, 5276,   5001.7,   1.4577,  34.6950,2,  34.6958,2,   -999.0,9,    169.6,2,   140.18,3,    35.81,3,     2.41,3,  1.0249
  492SSY9310_1,  P02E,    68,  1,      1,     23,2,19931025,2201, 29.9983, 177.0067, 5173,     50.6,  23.1838,  34.9479,2,  34.9443,2,   -999.0,9,    216.4,2,     1.95,3,     0.02,3,     0.00,3, 23.1734
  492SSY9310_1,  P02E,    68,  1,      2,     22,2,19931025,2201, 29.9983, 177.0067, 5173,    100.4,  17.3433,  34.7935,2,  34.7905,2,   -999.0,9,    230.1,2,     2.92,3,     0.60,3,     0.11,3, 17.3266
  492SSY9310_1,  P02E,    68,  1,      3,     21,2,19931025,2201, 29.9983, 177.0067, 5173,    200.5,  16.0932,  34.7076,2,  34.7066,2,   -999.0,9,    218.3,2,     5.84,3,     5.36,3,     0.36,3, 16.0615
  492SSY9310_1,  P02E,    68,  1,      4,     20,2,19931025,2201, 29.9983, 177.0067, 5173,    300.7,  14.5912,  34.5725,2,  34.5734,2,   -999.0,9,    215.7,2,     8.77,3,     7.47,3,     0.49,3, 14.5466
  492SSY9310_1,  P02E,    68,  1,      5,     19,2,19931025,2201, 29.9983, 177.0067, 5173,    401.9,  12.6255,  34.4092,2,  34.4159,2,   -999.0,9,    212.6,2,    12.66,3,    10.99,3,     0.71,3, 12.5713
  492SSY9310_1,  P02E,    68,  1,      6,     18,2,19931025,2201, 29.9983, 177.0067, 5173,    499.5,  10.6657,  34.2856,2,  34.2891,2,   -999.0,9,    195.6,2,    24.35,3,    17.01,3,     1.12,3, 10.6052
  492SSY9310_1,  P02E,    68,  1,      7,     17,2,19931025,2201, 29.9983, 177.0067, 5173,    600.7,   8.0309,  34.0875,2,  34.0899,2,   -999.0,9,    181.2,2,    39.93,3,    23.63,3,     1.59,3,  7.9693
  492SSY9310_1,  P02E,    68,  1,      8,     16,2,19931025,2201, 29.9983, 177.0067, 5173,    698.4,   6.0076,  34.0071,2,  34.0041,2,   -999.0,9,    147.2,2,    62.33,3,    29.73,3,     2.10,3,  5.9462
  492SSY9310_1,  P02E,    68,  1,      9,     15,2,19931025,2201, 29.9983, 177.0067, 5173,    800.2,   4.9393,  34.0837,2,  34.0856,2,   -999.0,9,     87.1,2,    85.70,3,    36.96,3,     2.58,3,  4.8748
  492SSY9310_1,  P02E,    68,  1,     10,     14,2,19931025,2201, 29.9983, 177.0067, 5173,    902.8,   4.2503,  34.1727,2,  34.1734,2,   -999.0,9,     60.9,2,   103.22,3,    39.95,3,     2.85,3,  4.1814
  492SSY9310_1,  P02E,    68,  1,     11,     13,2,19931025,2201, 29.9983, 177.0067, 5173,   1000.7,   3.8135,  34.2511,2,  34.2544,2,   -999.0,9,     45.7,2,   114.89,3,    40.34,3,     2.97,6,  3.7397
  492SSY9310_1,  P02E,    68,  1,     12,     12,2,19931025,2201, 29.9983, 177.0067, 5173,   1247.4,   3.0887,  34.4042,2,  34.4074,2,   -999.0,9,     30.0,2,   139.21,3,    42.45,3,     3.07,3,  3.0009
  492SSY9310_1,  P02E,    68,  1,     13,     11,2,19931025,2201, 29.9983, 177.0067, 5173,   1501.7,   2.5959,  34.5039,3,  34.4899,3,   -999.0,9,     41.8,3,  -999.00,9,  -999.00,9,  -999.00,9,  2.4927
  492SSY9310_1,  P02E,    68,  1,     14,     10,2,19931025,2201, 29.9983, 177.0067, 5173,   1750.7,   2.2196,  34.5625,2,  34.5628,2,   -999.0,9,     55.7,2,   161.58,3,    42.11,3,     2.95,3,  2.1007
  492SSY9310_1,  P02E,    68,  1,     15,      9,2,19931025,2201, 29.9983, 177.0067, 5173,   2000.8,   1.9563,  34.6008,3,  34.5368,3,   -999.0,9,     73.5,3,  -999.00,9,  -999.00,9,  -999.00,9,  1.8205
  492SSY9310_1,  P02E,    68,  1,     16,      8,2,19931025,2201, 29.9983, 177.0067, 5173,   2248.1,   1.7836,  34.6249,3,  34.6046,3,   -999.0,9,     85.7,3,  -999.00,9,  -999.00,9,  -999.00,9,  1.6295
  492SSY9310_1,  P02E,    68,  1,     17,      7,2,19931025,2201, 29.9983, 177.0067, 5173,   2500.0,   1.6645,  34.6429,2,  34.6415,2,   -999.0,9,    104.8,2,   164.48,3,    41.11,3,     2.69,3,  1.4905
  492SSY9310_1,  P02E,    68,  1,     18,      6,2,19931025,2201, 29.9983, 177.0067, 5173,   3001.4,   1.5274,  34.6655,2,  34.6641,2,   -999.0,9,    128.3,2,   161.57,3,    40.09,3,     2.58,3,  1.3099
  492SSY9310_1,  P02E,    68,  1,     19,      5,2,19931025,2201, 29.9983, 177.0067, 5173,   3499.3,   1.4657,  34.6785,2,  34.6771,2,   -999.0,9,    142.2,2,   157.68,3,    38.86,3,     2.51,3,  1.2006
  492SSY9310_1,  P02E,    68,  1,     20,      4,2,19931025,2201, 29.9983, 177.0067, 5173,   4000.6,   1.4521,  34.6859,2,  34.6842,2,   -999.0,9,    150.9,2,   155.75,3,    36.19,3,     2.46,3,  1.1346
  492SSY9310_1,  P02E,    68,  1,     21,      3,2,19931025,2201, 29.9983, 177.0067, 5173,   4501.2,   1.4573,  34.6902,2,  34.6851,3,   -999.0,9,    158.3,2,   150.88,3,    36.49,3,     2.42,3,  1.0837
  492SSY9310_1,  P02E,    68,  1,     23,      1,2,19931025,2201, 29.9983, 177.0067, 5173,   5001.5,   1.4605,  34.6950,2,  34.6924,2,   -999.0,9,    168.7,3,   141.16,3,    35.78,3,     2.38,3,  1.0277
  492SSY9310_1,  P02E,    68,  1,     22,      2,2,19931025,2201, 29.9983, 177.0067, 5173,   5002.4,   1.4607,  34.6936,2,  34.6908,2,   -999.0,9,    168.7,3,   140.18,3,    35.81,3,     2.35,6,  1.0278
  492SSY9310_1,  P02E,    69,  1,      1,     23,2,19931026,0342, 30.0017, 177.5867, 5328,     49.8,  20.3377,  34.8469,2,  34.8395,2,   -999.0,9,    241.5,2,     0.97,3,     0.00,3,     0.04,3, 20.3284
  492SSY9310_1,  P02E,    69,  1,      2,     22,2,19931026,0342, 30.0017, 177.5867, 5328,    100.1,  17.7080,  34.8153,2,  34.8112,2,   -999.0,9,    217.5,2,     0.97,3,     2.29,3,     0.16,3, 17.6911
  492SSY9310_1,  P02E,    69,  1,      3,     21,2,19931026,0342, 30.0017, 177.5867, 5328,    202.2,  16.6206,  34.7581,2,  34.7498,2,   -999.0,9,    215.7,2,     1.95,3,     4.68,3,     0.27,3, 16.5879
  492SSY9310_1,  P02E,    69,  1,      4,     20,2,19931026,0342, 30.0017, 177.5867, 5328,    300.3,  15.5283,  34.6592,2,  34.6455,2,   -999.0,9,    204.9,2,     4.87,3,     7.42,3,     0.46,3, 15.4818
  492SSY9310_1,  P02E,    69,  1,      5,     19,2,19931026,0342, 30.0017, 177.5867, 5328,    400.6,  13.2695,  34.4782,2,  34.4175,4,   -999.0,9,    210.5,2,     9.74,3,    10.53,3,     0.68,3, 13.2137
  492SSY9310_1,  P02E,    69,  1,      6,     18,2,19931026,0342, 30.0017, 177.5867, 5328,    501.5,  10.6212,  34.2796,2,  34.2770,2,   -999.0,9,    196.9,2,    20.46,3,    16.49,3,     1.09,3, 10.5605
  492SSY9310_1,  P02E,    69,  1,      7,     17,2,19931026,0342, 30.0017, 177.5867, 5328,    601.1,   7.7961,  34.0720,2,  34.0711,2,   -999.0,9,    179.0,2,    37.01,3,    23.69,3,     1.61,3,  7.7356
  492SSY9310_1,  P02E,    69,  1,      8,     16,2,19931026,0342, 30.0017, 177.5867, 5328,    701.5,   5.7735,  34.0073,2,  34.0047,2,   -999.0,9,    138.9,2,    60.38,3,    30.22,3,     2.16,3,  5.7131
  492SSY9310_1,  P02E,    69,  1,      9,     15,2,19931026,0342, 30.0017, 177.5867, 5328,    799.2,   4.7482,  34.0830,2,  34.0868,2,   -999.0,9,     86.2,2,    84.73,3,    36.42,3,     2.59,3,  4.6849
  492SSY9310_1,  P02E,    69,  1,     10,     14,2,19931026,0342, 30.0017, 177.5867, 5328,    898.9,   4.2166,  34.1851,2,  34.1981,4,   -999.0,9,     62.7,2,    99.32,3,    38.76,3,     2.78,3,  4.1483
  492SSY9310_1,  P02E,    69,  1,     11,     13,2,19931026,0342, 30.0017, 177.5867, 5328,    998.8,   3.7269,  34.2731,2,  34.2723,2,   -999.0,9,     40.9,3,   118.79,3,    41.02,3,     2.98,3,  3.6539
  492SSY9310_1,  P02E,    69,  1,     12,     12,2,19931026,0342, 30.0017, 177.5867, 5328,   1249.7,   2.9464,  34.4124,2,  34.4122,2,   -999.0,9,     31.8,2,   144.07,3,    42.11,3,     3.07,3,  2.8598
  492SSY9310_1,  P02E,    69,  1,     13,     11,2,19931026,0342, 30.0017, 177.5867, 5328,   1499.3,   2.5177,  34.5045,2,  34.5007,2,   -999.0,9,     38.7,2,   152.82,3,    41.67,3,     3.04,6,  2.4156
  492SSY9310_1,  P02E,    69,  1,     14,     10,2,19931026,0342, 30.0017, 177.5867, 5328,   1751.1,   2.2199,  34.5630,2,  34.5628,2,   -999.0,9,     56.1,2,   164.50,3,    41.37,3,     3.01,3,  2.1010
  492SSY9310_1,  P02E,    69,  1,     15,      9,2,19931026,0342, 30.0017, 177.5867, 5328,   2001.7,   1.9460,  34.6032,2,  34.5973,2,   -999.0,9,     76.1,2,   163.52,3,    39.72,3,     2.87,3,  1.8103
  492SSY9310_1,  P02E,    69,  1,     16,      8,2,19931026,0342, 30.0017, 177.5867, 5328,   2250.9,   1.7801,  34.6254,2,  34.6199,2,   -999.0,9,     90.9,2,   162.54,3,    40.81,3,     2.77,3,  1.6258
  492SSY9310_1,  P02E,    69,  1,     17,      7,2,19931026,0342, 30.0017, 177.5867, 5328,   2499.7,   1.6552,  34.6440,2,  34.6400,2,   -999.0,9,    104.8,2,   160.59,3,    40.13,3,     2.74,3,  1.4814
  492SSY9310_1,  P02E,    69,  1,     18,      6,2,19931026,0342, 30.0017, 177.5867, 5328,   2998.4,   1.5242,  34.6660,2,  34.6653,2,   -999.0,9,    128.7,2,   158.65,3,    39.18,3,     2.61,3,  1.3071
  492SSY9310_1,  P02E,    69,  1,     19,      5,2,19931026,0342, 30.0017, 177.5867, 5328,   3499.5,   1.4653,  34.6776,2,  34.6753,2,   -999.0,9,    143.5,2,   153.79,3,    39.18,3,     2.64,3,  1.2002
  492SSY9310_1,  P02E,    69,  1,     20,      4,2,19931026,0342, 30.0017, 177.5867, 5328,   3998.8,   1.4454,  34.6866,2,  34.6826,2,   -999.0,9,    152.2,2,   151.85,3,    36.19,3,     2.49,3,  1.1283
  492SSY9310_1,  P02E,    69,  1,     21,      3,2,19931026,0342, 30.0017, 177.5867, 5328,   4499.1,   1.4623,  34.6912,2,  34.6883,2,   -999.0,9,    160.4,2,   147.96,3,    36.32,3,     2.45,3,  1.0888
  492SSY9310_1,  P02E,    69,  1,     23,      1,2,19931026,0342, 30.0017, 177.5867, 5328,   4999.2,   1.4753,  34.6937,2,  34.6893,3,   -999.0,9,    166.1,4,   142.13,3,    35.49,3,     2.42,6,  1.0423
  492SSY9310_1,  P02E,    69,  1,     22,      2,2,19931026,0342, 30.0017, 177.5867, 5328,   5001.9,   1.4753,  34.6927,2,  34.6920,2,   -999.0,9,    167.4,4,   141.16,3,    35.58,3,     2.41,3,  1.0420
  492SSY9310_1,  P02E,    70,  1,      1,     23,2,19931026,0934, 29.9983, 178.1750, 5276,     49.7,  20.3818,  34.8050,2,  34.7885,2,   -999.0,9,    222.8,2,     2.92,3,     0.00,3,     0.07,3, 20.3725
  492SSY9310_1,  P02E,    70,  1,      2,     22,2,19931026,0934, 29.9983, 178.1750, 5276,    100.7,  17.5041,  34.8054,2,  34.8037,2,   -999.0,9,    216.2,2,     3.90,3,     2.74,3,     0.21,3, 17.4872
  492SSY9310_1,  P02E,    70,  1,      3,     21,2,19931026,0934, 29.9983, 178.1750, 5276,    199.7,  16.2559,  34.7226,2,  34.7195,2,   -999.0,9,    211.4,2,     6.82,3,     5.61,3,     0.41,3, 16.2241
  492SSY9310_1,  P02E,    70,  1,      4,     20,2,19931026,0934, 29.9983, 178.1750, 5276,    299.9,  13.5390,  34.4963,2,  34.4930,2,   -999.0,9,    208.3,2,    13.64,3,    10.24,3,     0.78,3, 13.4968
  492SSY9310_1,  P02E,    70,  1,      5,     19,2,19931026,0934, 29.9983, 178.1750, 5276,    400.4,  11.8248,  34.3704,2,  34.3735,2,   -999.0,9,    231.8,2,    15.59,3,    10.82,3,     0.94,3, 11.7731
  492SSY9310_1,  P02E,    70,  1,      6,     18,2,19931026,0934, 29.9983, 178.1750, 5276,    500.3,   9.5096,  34.1754,2,  34.1791,2,   -999.0,9,    207.8,2,    28.25,3,    17.40,3,     1.68,3,  9.4532
  492SSY9310_1,  P02E,    70,  1,      7,     17,2,19931026,0934, 29.9983, 178.1750, 5276,    597.6,   6.9841,  34.0344,2,  34.0351,2,   -999.0,9,    166.3,2,    51.62,3,    26.73,3,     1.86,3,  6.9276
  492SSY9310_1,  P02E,    70,  1,      8,     16,2,19931026,0934, 29.9983, 178.1750, 5276,    697.9,   5.2972,  34.0190,2,  34.0251,2,   -999.0,9,    120.1,2,    73.03,3,    32.54,3,     2.34,3,  5.2397
  492SSY9310_1,  P02E,    70,  1,      9,     15,2,19931026,0934, 29.9983, 178.1750, 5276,    799.4,   4.4360,  34.1246,2,  34.1217,2,   -999.0,9,     72.2,2,    95.44,3,    37.99,3,     2.71,3,  4.3746
  492SSY9310_1,  P02E,    70,  1,     10,     14,2,19931026,0934, 29.9983, 178.1750, 5276,    901.1,   3.9568,  34.2329,2,  34.2321,2,   -999.0,9,     42.6,2,   111.98,3,    40.94,3,     2.96,3,  3.8900
  492SSY9310_1,  P02E,    70,  1,     11,     13,2,19931026,0934, 29.9983, 178.1750, 5276,   1000.7,   3.5852,  34.2994,2,  34.3003,2,   -999.0,9,     33.9,2,   123.65,3,    41.70,3,     3.03,3,  3.5131
  492SSY9310_1,  P02E,    70,  1,     12,     12,2,19931026,0934, 29.9983, 178.1750, 5276,   1249.8,   2.9739,  34.4293,2,  34.4292,2,   -999.0,9,     31.3,2,   144.07,3,    42.61,3,     3.11,6,  2.8870
  492SSY9310_1,  P02E,    70,  1,     13,     11,2,19931026,0934, 29.9983, 178.1750, 5276,   1501.2,   2.5086,  34.5175,2,  34.5184,2,   -999.0,9,     42.6,2,   151.84,3,    41.91,3,     3.02,3,  2.4064
  492SSY9310_1,  P02E,    70,  1,     14,     10,2,19931026,0934, 29.9983, 178.1750, 5276,   1749.4,   2.1990,  34.5688,2,  34.5698,2,   -999.0,9,     60.0,2,   162.55,3,    41.25,3,     2.97,3,  2.0805
  492SSY9310_1,  P02E,    70,  1,     15,      9,2,19931026,0934, 29.9983, 178.1750, 5276,   2000.3,   1.9361,  34.6055,2,  34.6060,2,   -999.0,9,     80.0,2,   163.52,3,    40.07,3,     2.88,3,  1.8006
  492SSY9310_1,  P02E,    70,  1,     16,      8,2,19931026,0934, 29.9983, 178.1750, 5276,   2249.9,   1.7630,  34.6301,2,  34.6289,2,   -999.0,9,     94.8,2,   166.43,3,    41.73,3,     2.85,3,  1.6091
  492SSY9310_1,  P02E,    70,  1,     17,      7,2,19931026,0934, 29.9983, 178.1750, 5276,   2500.5,   1.6498,  34.6453,2,  34.6417,2,   -999.0,9,    110.4,2,   165.46,3,    41.57,3,     3.20,3,  1.4760
  492SSY9310_1,  P02E,    70,  1,     18,      6,2,19931026,0934, 29.9983, 178.1750, 5276,   3000.7,   1.5013,  34.6671,2,  34.6661,2,   -999.0,9,    132.6,2,   161.57,4,    40.09,3,     3.77,3,  1.2845
  492SSY9310_1,  P02E,    70,  1,     19,      5,2,19931026,0934, 29.9983, 178.1750, 5276,   3500.2,   1.4531,  34.6794,2,  34.6791,2,   -999.0,9,    144.4,2,   157.68,3,    39.18,3,     2.54,3,  1.1882
  492SSY9310_1,  P02E,    70,  1,     20,      4,2,19931026,0934, 29.9983, 178.1750, 5276,   4000.6,   1.4379,  34.6872,2,  34.6808,4,   -999.0,9,    150.4,3,   153.80,3,    36.40,3,     2.49,3,  1.1208
  492SSY9310_1,  P02E,    70,  1,     21,      3,2,19931026,0934, 29.9983, 178.1750, 5276,   4499.3,   1.4363,  34.6923,2,  34.6901,2,   -999.0,9,    164.4,3,   148.93,3,    35.96,3,     2.40,6,  1.0635
  492SSY9310_1,  P02E,    70,  1,     23,      1,2,19931026,0934, 29.9983, 178.1750, 5276,   4999.4,   1.4524,  34.6961,2,  34.6946,2,   -999.0,9,    170.0,2,   143.10,3,    35.58,3,     2.38,3,  1.0200
  492SSY9310_1,  P02E,    70,  1,     22,      2,2,19931026,0934, 29.9983, 178.1750, 5276,   5003.7,   1.4526,  34.6946,2,  34.6928,2,   -999.0,9,    170.9,2,   143.10,3,    35.20,3,     2.36,3,  1.0197