BOTTLE,20040202WHPSIOSA
EXPOCODE,SECT_ID,STNNBR,CASTNO,SAMPNO,BTLNBR,BTLNBR_FLAG_W,DATE,TIME,LATITUDE,LONGITUDE,DEPTH,CTDPRS,CTDTMP,CTDSAL,CTDSAL_FLAG_W,SALNTY,SALNTY_FLAG_W,CTDOXY,CTDOXY_FLAG_W,OXYGEN,OXYGEN_FLAG_W,SILCAT,SILCAT_FLAG_W,NO2+NO3,NO2+NO3_FLAG_W,PHSPHT,PHSPHT_FLAG_W,THETA
,,,,,,,,,,,,DBAR,ITS-90,PSS-78,,PSS-78,,UMOL/KG,,UMOL/KG,,UMOL/KG,,UMOL/KG,,UMOL/KG,,DEG C
  492SSY9310_1,  P02E,    87,  1,      1,     23,2,19931029,1907, 29.9983,-171.9100, 5374,     47.4,  22.1891,  34.9650,2,  34.9658,2,   -999.0,9,    221.1,2,     2.92,3,     0.04,3,     0.05,3, 22.1796
  492SSY9310_1,  P02E,    87,  1,      2,     22,2,19931029,1907, 29.9983,-171.9100, 5374,     99.8,  15.7534,  34.6578,2,  34.6576,2,   -999.0,9,    230.9,2,     3.90,3,     2.38,3,     0.26,3, 15.7379
  492SSY9310_1,  P02E,    87,  1,      3,     21,2,19931029,1907, 29.9983,-171.9100, 5374,    200.8,  13.2418,  34.4406,2,  34.4394,2,   -999.0,9,    223.0,2,     8.77,3,     7.77,3,     0.62,3, 13.2141
  492SSY9310_1,  P02E,    87,  1,      4,     20,2,19931029,1907, 29.9983,-171.9100, 5374,    299.6,  11.2848,  34.2924,2,  34.2840,2,   -999.0,9,    220.4,2,    13.64,3,    11.73,3,     0.83,3, 11.2475
  492SSY9310_1,  P02E,    87,  1,      5,     19,2,19931029,1907, 29.9983,-171.9100, 5374,    399.1,   9.4725,  34.1552,2,  34.1579,2,   -999.0,9,    203.8,2,    22.40,3,    17.29,3,     1.19,3,  9.4279
  492SSY9310_1,  P02E,    87,  1,      6,     18,2,19931029,1907, 29.9983,-171.9100, 5374,    500.0,   7.4936,  34.0465,2,  34.0480,2,   -999.0,9,    173.3,2,    37.01,3,    23.65,3,     1.67,3,  7.4447
  492SSY9310_1,  P02E,    87,  1,      7,     17,2,19931029,1907, 29.9983,-171.9100, 5374,    599.5,   5.7944,  34.0113,2,  34.0123,2,   -999.0,9,    128.0,2,    59.40,3,    29.78,3,     2.20,3,  5.7431
  492SSY9310_1,  P02E,    87,  1,      8,     16,2,19931029,1907, 29.9983,-171.9100, 5374,    699.6,   4.8337,  34.0678,2,  34.0684,2,   -999.0,9,     84.9,2,    79.85,3,    35.57,3,     2.58,3,  4.7784
  492SSY9310_1,  P02E,    87,  1,      9,     15,2,19931029,1907, 29.9983,-171.9100, 5374,    799.5,   4.1444,  34.1709,2,  34.1707,2,   -999.0,9,     46.6,2,   101.27,3,    39.99,3,     2.90,3,  4.0847
  492SSY9310_1,  P02E,    87,  1,     10,     14,2,19931029,1907, 29.9983,-171.9100, 5374,    900.4,   3.6815,  34.2656,2,  34.2652,2,   -999.0,9,     31.8,3,   115.86,3,    42.18,3,     3.05,6,  3.6167
  492SSY9310_1,  P02E,    87,  1,     11,     13,2,19931029,1907, 29.9983,-171.9100, 5374,    999.8,   3.4498,  34.3406,2,  34.3388,2,   -999.0,9,     23.1,2,   125.59,3,    43.03,3,     3.14,3,  3.3787
  492SSY9310_1,  P02E,    87,  1,     12,     12,2,19931029,1907, 29.9983,-171.9100, 5374,   1250.8,   2.8494,  34.4665,2,  34.4650,2,   -999.0,9,     26.5,2,   144.07,3,    41.70,3,     3.16,3,  2.7635
  492SSY9310_1,  P02E,    87,  1,     13,     11,2,19931029,1907, 29.9983,-171.9100, 5374,   1500.7,   2.4572,  34.5377,2,  34.5343,2,   -999.0,9,     43.5,2,   150.87,3,    41.23,3,     3.00,3,  2.3556
  492SSY9310_1,  P02E,    87,  1,     14,     10,2,19931029,1907, 29.9983,-171.9100, 5374,   1749.6,   2.1513,  34.5844,2,  34.5840,2,   -999.0,9,     63.1,2,   160.61,3,    40.75,3,     2.92,3,  2.0334
  492SSY9310_1,  P02E,    87,  1,     15,      9,2,19931029,1907, 29.9983,-171.9100, 5374,   2000.4,   1.8983,  34.6104,2,  34.6101,2,   -999.0,9,     79.1,2,   164.49,3,    39.14,3,     2.84,3,  1.7634
  492SSY9310_1,  P02E,    87,  1,     16,      8,2,19931029,1907, 29.9983,-171.9100, 5374,   2249.8,   1.7440,  34.6317,2,  34.6288,2,   -999.0,9,     93.1,2,   164.49,3,    38.98,3,     2.77,3,  1.5904
  492SSY9310_1,  P02E,    87,  1,     17,      7,2,19931029,1907, 29.9983,-171.9100, 5374,   2501.3,   1.6406,  34.6464,3,  34.5667,3,   -999.0,9,     76.5,4,  -999.00,9,  -999.00,9,  -999.00,9,  1.4669
  492SSY9310_1,  P02E,    87,  1,     18,      6,2,19931029,1907, 29.9983,-171.9100, 5374,   2999.9,   1.5103,  34.6658,2,  34.6657,2,   -999.0,9,    129.1,2,   155.73,3,    37.92,3,     2.60,3,  1.2934
  492SSY9310_1,  P02E,    87,  1,     19,      5,2,19931029,1907, 29.9983,-171.9100, 5374,   3498.8,   1.4528,  34.6772,2,  34.6734,2,   -999.0,9,    139.6,2,   151.84,3,    36.82,3,     2.53,6,  1.1880
  492SSY9310_1,  P02E,    87,  1,     20,      4,2,19931029,1907, 29.9983,-171.9100, 5374,   4000.7,   1.4471,  34.6834,2,  34.6840,2,   -999.0,9,    150.9,2,   148.93,3,    36.46,3,     2.50,3,  1.1297
  492SSY9310_1,  P02E,    87,  1,     21,      3,2,19931029,1907, 29.9983,-171.9100, 5374,   4500.5,   1.4806,  34.6861,2,  34.6850,2,   -999.0,9,    154.4,2,   149.90,3,    36.28,3,     2.49,3,  1.1064
  492SSY9310_1,  P02E,    87,  1,     23,      1,2,19931029,1907, 29.9983,-171.9100, 5374,   5000.4,   1.5147,  34.6885,2,  34.6895,2,   -999.0,9,    158.7,2,   143.10,3,    36.28,3,     2.47,3,  1.0802
  492SSY9310_1,  P02E,    87,  1,     22,      2,2,19931029,1907, 29.9983,-171.9100, 5374,   5004.3,   1.5149,  34.6868,2,  34.6897,2,   -999.0,9,    159.1,2,   144.08,3,    36.00,3,     2.47,3,  1.0800
  492SSY9310_1,  P02E,    88,  1,      1,     23,2,19931029,2352, 29.9983,-171.3333, 5394,     49.5,  21.3373,  34.8739,2,  34.9095,3,   -999.0,9,    226.3,2,     3.90,3,     0.06,3,     0.06,3, 21.3277
  492SSY9310_1,  P02E,    88,  1,      2,     22,2,19931029,2352, 29.9983,-171.3333, 5394,    101.0,  15.8285,  34.6747,2,  34.6657,2,   -999.0,9,    213.9,2,     6.82,3,     5.14,3,     0.42,3, 15.8127
  492SSY9310_1,  P02E,    88,  1,      3,     21,2,19931029,2352, 29.9983,-171.3333, 5394,    198.9,  13.5045,  34.4862,2,  34.4846,2,   -999.0,9,    213.9,2,     9.74,3,     8.44,3,     0.64,3, 13.4766
  492SSY9310_1,  P02E,    88,  1,      4,     20,2,19931029,2352, 29.9983,-171.3333, 5394,    300.6,  11.8179,  34.3453,2,  34.3452,2,   -999.0,9,    219.5,2,    14.61,3,    10.87,3,     0.82,3, 11.7792
  492SSY9310_1,  P02E,    88,  1,      5,     19,2,19931029,2352, 29.9983,-171.3333, 5394,    399.6,   9.9283,  34.2101,2,  34.2115,2,   -999.0,9,    199.5,2,    24.35,3,    16.15,3,     1.23,3,  9.8823
  492SSY9310_1,  P02E,    88,  1,      6,     18,2,19931029,2352, 29.9983,-171.3333, 5394,    500.2,   7.7133,  34.0612,2,  34.0654,2,   -999.0,9,    176.4,2,    37.99,3,    22.28,3,     1.69,3,  7.6636
  492SSY9310_1,  P02E,    88,  1,      7,     17,2,19931029,2352, 29.9983,-171.3333, 5394,    600.0,   5.6267,  34.0157,2,  34.0061,2,   -999.0,9,    123.6,2,    63.30,3,    30.46,3,     2.34,3,  5.5762
  492SSY9310_1,  P02E,    88,  1,      8,     16,2,19931029,2352, 29.9983,-171.3333, 5394,    699.1,   4.7154,  34.0831,2,  34.0829,2,   -999.0,9,     79.2,2,    83.74,3,    35.60,3,     2.68,3,  4.6607
  492SSY9310_1,  P02E,    88,  1,      9,     15,2,19931029,2352, 29.9983,-171.3333, 5394,    798.9,   4.1156,  34.1987,2,  34.1913,2,   -999.0,9,     37.0,2,   104.19,3,    40.32,3,     2.99,3,  4.0561
  492SSY9310_1,  P02E,    88,  1,     10,     14,2,19931029,2352, 29.9983,-171.3333, 5394,    900.1,   3.7285,  34.2752,2,  34.2762,2,   -999.0,9,     27.8,2,   114.89,3,    42.31,3,     3.08,3,  3.6633
  492SSY9310_1,  P02E,    88,  1,     11,     13,2,19931029,2352, 29.9983,-171.3333, 5394,    999.9,   3.4244,  34.3482,2,  34.3437,2,   -999.0,9,     23.5,2,   123.64,3,    42.84,3,     3.12,3,  3.3534
  492SSY9310_1,  P02E,    88,  1,     12,     12,2,19931029,2352, 29.9983,-171.3333, 5394,   1248.5,   2.8577,  34.4726,2,  34.4640,2,   -999.0,9,     27.4,2,   140.17,3,    42.46,3,     3.12,3,  2.7719
  492SSY9310_1,  P02E,    88,  1,     13,     11,2,19931029,2352, 29.9983,-171.3333, 5394,   1499.5,   2.4708,  34.5440,2,  34.5300,4,   -999.0,9,     46.5,2,   143.08,3,    40.49,3,     2.99,4,  2.3691
  492SSY9310_1,  P02E,    88,  1,     14,     10,2,19931029,2352, 29.9983,-171.3333, 5394,   1749.0,   2.1348,  34.5851,2,  34.5822,2,   -999.0,9,     65.7,2,   153.79,3,    40.29,3,     2.93,6,  2.0172
  492SSY9310_1,  P02E,    88,  1,     15,      9,2,19931029,2352, 29.9983,-171.3333, 5394,   1999.1,   1.8894,  34.6138,3,  34.5914,3,   -999.0,9,     75.7,3,  -999.00,9,  -999.00,9,  -999.00,9,  1.7547
  492SSY9310_1,  P02E,    88,  1,     16,      8,2,19931029,2352, 29.9983,-171.3333, 5394,   2249.2,   1.7543,  34.6319,2,  34.6256,2,   -999.0,9,     97.0,4,   157.67,3,    40.25,3,     2.79,3,  1.6006
  492SSY9310_1,  P02E,    88,  1,     17,      7,2,19931029,2352, 29.9983,-171.3333, 5394,   2499.6,   1.6426,  34.6462,2,  34.6401,2,   -999.0,9,    104.8,2,   145.02,4,    36.83,4,     2.65,3,  1.4690
  492SSY9310_1,  P02E,    88,  1,     18,      6,2,19931029,2352, 29.9983,-171.3333, 5394,   3000.5,   1.5039,  34.6665,2,  34.6653,2,   -999.0,9,    129.6,2,   152.81,3,    36.99,3,     2.63,3,  1.2870
  492SSY9310_1,  P02E,    88,  1,     19,      5,2,19931029,2352, 29.9983,-171.3333, 5394,   3499.6,   1.4513,  34.6769,2,  34.6728,2,   -999.0,9,    141.3,2,   150.87,3,    36.54,3,     2.58,3,  1.1865
  492SSY9310_1,  P02E,    88,  1,     20,      4,2,19931029,2352, 29.9983,-171.3333, 5394,   4000.2,   1.4476,  34.6832,2,  34.6710,4,   -999.0,9,    143.5,3,   148.93,3,    35.16,3,     2.56,3,  1.1303
  492SSY9310_1,  P02E,    88,  1,     21,      3,2,19931029,2352, 29.9983,-171.3333, 5394,   4500.4,   1.4819,  34.6860,2,  34.6834,2,   -999.0,9,    153.5,2,   149.91,3,    34.80,3,     2.54,6,  1.1077
  492SSY9310_1,  P02E,    88,  1,     23,      1,2,19931029,2352, 29.9983,-171.3333, 5394,   5001.0,   1.5254,  34.6871,2,  34.6865,2,   -999.0,9,    157.0,2,   147.00,3,    34.95,3,     2.46,3,  1.0905
  492SSY9310_1,  P02E,    88,  1,     22,      2,2,19931029,2352, 29.9983,-171.3333, 5394,   5003.8,   1.5254,  34.6859,2,  34.6857,2,   -999.0,9,    156.5,2,   147.00,3,    35.17,3,     2.51,3,  1.0902
  492SSY9310_1,  P02E,    89,  1,      1,     23,2,19931030,0443, 29.9983,-170.7483, 5384,     50.2,  21.9869,  35.0154,2,  35.0154,2,   -999.0,9,    221.1,2,     3.90,3,     0.00,3,     0.05,3, 21.9770
  492SSY9310_1,  P02E,    89,  1,      2,     22,2,19931030,0443, 29.9983,-170.7483, 5384,    100.1,  16.4651,  34.6767,2,  34.6958,2,   -999.0,9,    230.9,2,     5.84,3,     2.15,3,     0.23,3, 16.4491
  492SSY9310_1,  P02E,    89,  1,      3,     21,2,19931030,0443, 29.9983,-170.7483, 5384,    200.6,  14.1869,  34.5406,2,  34.5404,2,   -999.0,9,    219.6,2,    10.72,3,     6.70,3,     0.53,3, 14.1578
  492SSY9310_1,  P02E,    89,  1,      4,     20,2,19931030,0443, 29.9983,-170.7483, 5384,    300.3,  11.9540,  34.3492,2,  34.3492,2,   -999.0,9,    220.4,2,    10.72,3,    10.43,3,     0.80,3, 11.9151
  492SSY9310_1,  P02E,    89,  1,      5,     19,2,19931030,0443, 29.9983,-170.7483, 5384,    399.4,  10.1746,  34.2058,2,  34.2075,2,   -999.0,9,    208.6,2,    17.53,3,    14.86,3,     1.12,3, 10.1278
  492SSY9310_1,  P02E,    89,  1,      6,     18,2,19931030,0443, 29.9983,-170.7483, 5384,    499.6,   8.0506,  34.0724,2,  34.0725,2,   -999.0,9,    179.0,2,    30.19,3,    22.14,3,     1.58,3,  7.9997
  492SSY9310_1,  P02E,    89,  1,      7,     17,2,19931030,0443, 29.9983,-170.7483, 5384,    600.4,   6.0548,  33.9998,2,  33.9988,2,   -999.0,9,    142.8,2,    51.62,3,    29.11,3,     2.09,3,  6.0023
  492SSY9310_1,  P02E,    89,  1,      8,     16,2,19931030,0443, 29.9983,-170.7483, 5384,    699.9,   5.0163,  34.0440,2,  34.0462,2,   -999.0,9,     93.6,2,    73.03,3,    33.99,3,     2.53,3,  4.9600
  492SSY9310_1,  P02E,    89,  1,      9,     15,2,19931030,0443, 29.9983,-170.7483, 5384,    801.0,   4.3385,  34.1451,2,  34.1432,2,   -999.0,9,     50.0,2,    92.51,3,    39.35,3,     2.85,3,  4.2775
  492SSY9310_1,  P02E,    89,  1,     10,     14,2,19931030,0443, 29.9983,-170.7483, 5384,    901.4,   3.8970,  34.2317,2,  34.2340,2,   -999.0,9,     37.9,3,   107.11,3,    40.87,3,     3.00,3,  3.8306
  492SSY9310_1,  P02E,    89,  1,     11,     13,2,19931030,0443, 29.9983,-170.7483, 5384,   1000.9,   3.5633,  34.3046,2,  34.3005,2,   -999.0,9,     26.1,2,   118.78,3,    41.92,3,     3.09,3,  3.4913
  492SSY9310_1,  P02E,    89,  1,     12,     12,2,19931030,0443, 29.9983,-170.7483, 5384,   1250.1,   2.9755,  34.4467,2,  34.4430,2,   -999.0,9,     25.7,3,   138.23,3,    42.15,3,     3.12,3,  2.8885
  492SSY9310_1,  P02E,    89,  1,     13,     11,2,19931030,0443, 29.9983,-170.7483, 5384,   1499.9,   2.5511,  34.5294,3,  34.4709,3,   -999.0,9,     47.0,4,  -999.00,9,  -999.00,9,  -999.00,9,  2.4485
  492SSY9310_1,  P02E,    89,  1,     14,     10,2,19931030,0443, 29.9983,-170.7483, 5384,   1749.7,   2.1868,  34.5801,2,  34.5802,2,   -999.0,9,     60.0,2,   158.66,3,    42.18,3,     2.96,3,  2.0684
  492SSY9310_1,  P02E,    89,  1,     15,      9,2,19931030,0443, 29.9983,-170.7483, 5384,   1999.4,   1.9431,  34.6105,2,  34.6111,2,   -999.0,9,     78.7,2,   163.52,3,    39.34,3,     2.88,3,  1.8076
  492SSY9310_1,  P02E,    89,  1,     16,      8,2,19931030,0443, 29.9983,-170.7483, 5384,   2251.3,   1.7493,  34.6326,2,  34.6321,2,   -999.0,9,     95.2,2,   162.54,3,    37.95,3,     2.78,3,  1.5955
  492SSY9310_1,  P02E,    89,  1,     17,      7,2,19931030,0443, 29.9983,-170.7483, 5384,   2499.5,   1.6534,  34.6459,3,  34.6307,3,   -999.0,9,     98.3,3,  -999.00,9,    37.37,3,  -999.00,9,  1.4796
  492SSY9310_1,  P02E,    89,  1,     18,      6,2,19931030,0443, 29.9983,-170.7483, 5384,   3000.5,   1.5179,  34.6650,2,  34.6653,2,   -999.0,9,    130.4,2,   150.87,3,    36.51,3,     2.64,3,  1.3007
  492SSY9310_1,  P02E,    89,  1,     19,      5,2,19931030,0443, 29.9983,-170.7483, 5384,   3499.0,   1.4687,  34.6762,2,  34.6757,2,   -999.0,9,    139.6,2,   150.87,3,    36.29,3,     2.59,3,  1.2036
  492SSY9310_1,  P02E,    89,  1,     20,      4,2,19931030,0443, 29.9983,-170.7483, 5384,   4001.3,   1.4561,  34.6830,2,  34.6836,2,   -999.0,9,    148.7,2,   147.96,3,    34.34,3,     2.50,3,  1.1384
  492SSY9310_1,  P02E,    89,  1,     21,      3,2,19931030,0443, 29.9983,-170.7483, 5384,   4500.1,   1.4835,  34.6863,2,  34.6873,2,   -999.0,9,    153.5,2,   147.96,3,    35.01,3,     2.50,6,  1.1093
  492SSY9310_1,  P02E,    89,  1,     22,      2,2,19931030,0443, 29.9983,-170.7483, 5384,   5000.7,   1.5236,  34.6880,2,  34.6895,2,   -999.0,9,    157.4,2,   143.10,3,    34.95,3,     2.48,3,  1.0888
  492SSY9310_1,  P02E,    89,  1,     23,      1,2,19931030,0443, 29.9983,-170.7483, 5384,   5492.1,   1.5343,  34.6920,2,  34.6934,2,   -999.0,9,    167.0,2,   134.34,3,    34.25,3,     2.43,3,  1.0378
  492SSY9310_1,  P02E,    90,  1,      1,     23,2,19931030,0947, 29.9950,-170.1567, 5384,     49.7,  22.5478,  35.1356,2,  35.1268,2,   -999.0,9,    219.3,2,     1.95,3,     0.04,3,     0.04,3, 22.5378
  492SSY9310_1,  P02E,    90,  1,      2,     22,2,19931030,0947, 29.9950,-170.1567, 5384,     99.6,  16.5836,  34.7300,2,  34.7243,2,   -999.0,9,    234.9,2,     3.90,3,     0.85,3,     0.15,3, 16.5675
  492SSY9310_1,  P02E,    90,  1,      3,     21,2,19931030,0947, 29.9950,-170.1567, 5384,    197.9,  14.4345,  34.5648,2,  34.5521,2,   -999.0,9,    217.8,2,     7.79,3,     6.52,3,     0.47,3, 14.4055
  492SSY9310_1,  P02E,    90,  1,      4,     20,2,19931030,0947, 29.9950,-170.1567, 5384,    300.1,  12.3996,  34.3881,2,  34.3872,2,   -999.0,9,    219.6,2,    11.69,3,     9.90,3,     0.68,3, 12.3598
  492SSY9310_1,  P02E,    90,  1,      5,     19,2,19931030,0947, 29.9950,-170.1567, 5384,    399.8,  10.4277,  34.2385,2,  34.2362,2,   -999.0,9,    205.2,2,    19.48,3,    14.28,3,     1.04,3, 10.3802
  492SSY9310_1,  P02E,    90,  1,      6,     18,2,19931030,0947, 29.9950,-170.1567, 5384,    499.2,   8.1593,  34.0910,2,  34.0740,3,   -999.0,9,    179.9,2,    34.09,3,    21.54,3,     1.52,3,  8.1081
  492SSY9310_1,  P02E,    90,  1,      7,     17,2,19931030,0947, 29.9950,-170.1567, 5384,    598.5,   6.0680,  34.0232,2,  34.0139,2,   -999.0,9,    129.3,2,    57.46,3,    29.67,3,     2.15,3,  6.0156
  492SSY9310_1,  P02E,    90,  1,      8,     16,2,19931030,0947, 29.9950,-170.1567, 5384,    699.6,   4.9656,  34.0792,2,  34.0756,2,   -999.0,9,     83.1,2,    78.87,3,    35.67,3,     2.57,3,  4.9096
  492SSY9310_1,  P02E,    90,  1,      9,     15,2,19931030,0947, 29.9950,-170.1567, 5384,    799.5,   4.3813,  34.1604,3,  34.3215,3,   -999.0,9,    151.0,3,  -999.00,9,  -999.00,9,  -999.00,9,  4.3202
  492SSY9310_1,  P02E,    90,  1,     10,     14,2,19931030,0947, 29.9950,-170.1567, 5384,    899.6,   3.8591,  34.2543,2,  34.2542,2,   -999.0,9,     36.5,4,   109.05,3,    40.45,3,     2.90,3,  3.7931
  492SSY9310_1,  P02E,    90,  1,     11,     13,2,19931030,0947, 29.9950,-170.1567, 5384,    999.1,   3.5084,  34.3153,2,  34.3142,2,   -999.0,9,     24.8,2,   121.70,3,    42.54,3,     3.08,3,  3.4369
  492SSY9310_1,  P02E,    90,  1,     12,     12,2,19931030,0947, 29.9950,-170.1567, 5384,   1249.5,   2.9720,  34.4577,2,  34.4498,2,   -999.0,9,     29.1,2,   138.23,3,    42.36,3,     2.95,3,  2.8851
  492SSY9310_1,  P02E,    90,  1,     13,     11,2,19931030,0947, 29.9950,-170.1567, 5384,   1499.5,   2.5196,  34.5361,2,  34.5315,2,   -999.0,9,     46.5,2,   133.35,4,    39.71,4,  -999.00,9,  2.4174
  492SSY9310_1,  P02E,    90,  1,     14,     10,2,19931030,0947, 29.9950,-170.1567, 5384,   1749.8,   2.1532,  34.5808,2,  34.5651,4,   -999.0,9,     62.6,2,   156.71,3,    41.06,3,     2.94,3,  2.0353
  492SSY9310_1,  P02E,    90,  1,     15,      9,2,19931030,0947, 29.9950,-170.1567, 5384,   1999.4,   1.9079,  34.6131,2,  34.6001,4,   -999.0,9,     81.3,2,   157.68,3,    39.44,3,     2.86,3,  1.7729
  492SSY9310_1,  P02E,    90,  1,     16,      8,2,19931030,0947, 29.9950,-170.1567, 5384,   2251.1,   1.7521,  34.6336,2,  34.6119,4,   -999.0,9,     92.2,3,   152.81,3,    39.08,3,     2.73,3,  1.5982
  492SSY9310_1,  P02E,    90,  1,     17,      7,2,19931030,0947, 29.9950,-170.1567, 5384,   2500.5,   1.6404,  34.6475,2,  34.6447,2,   -999.0,9,    107.8,2,   155.72,3,    40.55,3,     2.67,3,  1.4668
  492SSY9310_1,  P02E,    90,  1,     18,      6,2,19931030,0947, 29.9950,-170.1567, 5384,   2997.7,   1.5171,  34.6659,2,  34.6602,2,   -999.0,9,    128.3,3,   153.79,3,    37.76,3,     2.61,3,  1.3002
  492SSY9310_1,  P02E,    90,  1,     19,      5,2,19931030,0947, 29.9950,-170.1567, 5384,   3498.9,   1.4633,  34.6767,2,  34.6751,2,   -999.0,9,    141.3,2,   147.95,3,    36.57,3,     2.52,6,  1.1983
  492SSY9310_1,  P02E,    90,  1,     20,      4,2,19931030,0947, 29.9950,-170.1567, 5384,   3999.0,   1.4551,  34.6837,2,  34.6785,3,   -999.0,9,    150.0,2,   146.99,3,    35.25,3,     2.49,3,  1.1377
  492SSY9310_1,  P02E,    90,  1,     21,      3,2,19931030,0947, 29.9950,-170.1567, 5384,   4500.2,   1.4794,  34.6868,2,  34.6783,4,   -999.0,9,    153.9,2,   146.99,3,    36.08,3,     2.47,3,  1.1053
  492SSY9310_1,  P02E,    90,  1,     23,      1,2,19931030,0947, 29.9950,-170.1567, 5384,   4999.7,   1.5161,  34.6886,2,  34.6802,4,   -999.0,9,    158.7,2,   142.13,3,    35.73,3,     2.46,3,  1.0817
  492SSY9310_1,  P02E,    90,  1,     22,      2,2,19931030,0947, 29.9950,-170.1567, 5384,   5002.6,   1.5164,  34.6871,2,  34.6814,3,   -999.0,9,    158.3,2,   142.13,3,    35.73,3,     2.43,3,  1.0816