BOTTLE,20040202WHPSIOSA
EXPOCODE,SECT_ID,STNNBR,CASTNO,SAMPNO,BTLNBR,BTLNBR_FLAG_W,DATE,TIME,LATITUDE,LONGITUDE,DEPTH,CTDPRS,CTDTMP,CTDSAL,CTDSAL_FLAG_W,SALNTY,SALNTY_FLAG_W,CTDOXY,CTDOXY_FLAG_W,OXYGEN,OXYGEN_FLAG_W,SILCAT,SILCAT_FLAG_W,NO2+NO3,NO2+NO3_FLAG_W,PHSPHT,PHSPHT_FLAG_W,THETA
,,,,,,,,,,,,DBAR,ITS-90,PSS-78,,PSS-78,,UMOL/KG,,UMOL/KG,,UMOL/KG,,UMOL/KG,,UMOL/KG,,DEG C
  492SSY9310_1,  P02E,    79,  1,      1,     23,2,19931028,0448, 29.9933,-176.5817, 5380,     50.5,  21.8583,  34.8356,4,  34.6743,3,   -999.0,9,   -999.0,5,  -999.00,9,  -999.00,9,  -999.00,9, 21.8483
  492SSY9310_1,  P02E,    79,  1,      2,     22,2,19931028,0448, 29.9933,-176.5817, 5380,    101.4,  17.6153,  34.8045,4,  34.7675,3,   -999.0,9,   -999.0,5,  -999.00,9,  -999.00,9,  -999.00,9, 17.5982
  492SSY9310_1,  P02E,    79,  1,      3,     21,2,19931028,0448, 29.9933,-176.5817, 5380,    198.7,  16.4489,  34.7417,4,  34.6751,3,   -999.0,9,   -999.0,5,  -999.00,9,  -999.00,9,  -999.00,9, 16.4169
  492SSY9310_1,  P02E,    79,  1,      4,     20,2,19931028,0448, 29.9933,-176.5817, 5380,    300.8,  14.4485,  34.5432,4,  34.6453,3,   -999.0,9,   -999.0,5,  -999.00,9,  -999.00,9,  -999.00,9, 14.4042
  492SSY9310_1,  P02E,    79,  1,      5,     19,2,19931028,0448, 29.9933,-176.5817, 5380,    399.5,  11.8638,  34.3645,2,  34.3629,2,   -999.0,9,    220.0,4,    14.61,3,    11.46,3,     0.83,3, 11.8121
  492SSY9310_1,  P02E,    79,  1,      6,     18,2,19931028,0448, 29.9933,-176.5817, 5380,    499.3,   9.6361,  34.1735,2,  34.1789,2,   -999.0,9,    209.1,2,    23.38,3,    16.72,3,     1.15,3,  9.5793
  492SSY9310_1,  P02E,    79,  1,      7,     17,2,19931028,0448, 29.9933,-176.5817, 5380,    599.2,   7.1677,  34.0341,2,  34.0407,2,   -999.0,9,    166.8,2,    43.83,3,    25.99,3,     1.82,3,  7.1102
  492SSY9310_1,  P02E,    79,  1,      8,     16,2,19931028,0448, 29.9933,-176.5817, 5380,    700.7,   5.5021,  34.0344,2,  34.0374,2,   -999.0,9,    115.4,2,    68.17,3,    31.80,3,     2.37,3,  5.4432
  492SSY9310_1,  P02E,    79,  1,      9,     15,2,19931028,0448, 29.9933,-176.5817, 5380,    801.1,   4.6555,  34.1124,2,  34.1123,2,   -999.0,9,     72.7,2,    88.62,3,    37.88,3,     2.71,3,  4.5926
  492SSY9310_1,  P02E,    79,  1,     10,     14,2,19931028,0448, 29.9933,-176.5817, 5380,    899.6,   4.0931,  34.2019,2,  34.2036,2,   -999.0,9,     46.6,2,   106.14,3,    41.07,3,     2.93,3,  4.0256
  492SSY9310_1,  P02E,    79,  1,     11,     13,2,19931028,0448, 29.9933,-176.5817, 5380,   1000.3,   3.7436,  34.2782,2,  34.2770,2,   -999.0,9,     32.2,2,   119.76,3,    42.58,3,     3.03,3,  3.6703
  492SSY9310_1,  P02E,    79,  1,     12,     12,2,19931028,0448, 29.9933,-176.5817, 5380,   1248.7,   3.1245,  34.4361,2,  34.4318,2,   -999.0,9,     32.2,2,   135.31,3,    45.58,3,     3.07,6,  3.0363
  492SSY9310_1,  P02E,    79,  1,     13,     11,2,19931028,0448, 29.9933,-176.5817, 5380,   1499.3,   2.6489,  34.5193,3,  34.4361,3,   -999.0,9,     66.5,4,  -999.00,9,  -999.00,9,  -999.00,9,  2.5452
  492SSY9310_1,  P02E,    79,  1,     14,     10,2,19931028,0448, 29.9933,-176.5817, 5380,   1749.0,   2.2594,  34.5668,2,  34.5665,2,   -999.0,9,     60.5,2,   152.82,3,    42.77,3,     2.96,3,  2.1401
  492SSY9310_1,  P02E,    79,  1,     15,      9,2,19931028,0448, 29.9933,-176.5817, 5380,   1998.9,   1.9752,  34.6026,2,  34.6024,2,   -999.0,9,     78.3,2,   155.73,3,    44.01,3,     2.86,4,  1.8393
  492SSY9310_1,  P02E,    79,  1,     16,      8,2,19931028,0448, 29.9933,-176.5817, 5380,   2250.5,   1.7945,  34.6246,2,  34.6193,2,   -999.0,9,     88.7,3,   156.70,3,    40.91,3,     2.80,3,  1.6400
  492SSY9310_1,  P02E,    79,  1,     17,      7,2,19931028,0448, 29.9933,-176.5817, 5380,   2499.6,   1.6873,  34.6405,2,  34.6358,2,   -999.0,9,    101.8,2,   155.73,3,    41.64,3,     2.73,4,  1.5129
  492SSY9310_1,  P02E,    79,  1,     18,      6,2,19931028,0448, 29.9933,-176.5817, 5380,   3000.4,   1.5408,  34.6620,2,  34.6627,2,   -999.0,9,    127.4,3,   153.79,3,    44.54,3,     2.63,4,  1.3232
  492SSY9310_1,  P02E,    79,  1,     19,      5,2,19931028,0448, 29.9933,-176.5817, 5380,   3500.1,   1.4733,  34.6750,2,  34.6753,2,   -999.0,9,    140.4,2,   149.89,3,    39.18,3,     2.56,4,  1.2080
  492SSY9310_1,  P02E,    79,  1,     20,      4,2,19931028,0448, 29.9933,-176.5817, 5380,   4001.4,   1.4631,  34.6819,2,  34.6814,2,   -999.0,9,    148.3,2,   148.93,3,    35.97,3,     2.54,3,  1.1453
  492SSY9310_1,  P02E,    79,  1,     21,      3,2,19931028,0448, 29.9933,-176.5817, 5380,   4499.1,   1.4819,  34.6859,2,  34.6865,2,   -999.0,9,    154.4,2,   147.96,3,    36.36,3,     2.53,6,  1.1079
  492SSY9310_1,  P02E,    79,  1,     23,      1,2,19931028,0448, 29.9933,-176.5817, 5380,   5001.3,   1.5055,  34.6891,2,  34.6883,2,   -999.0,9,    159.6,2,   142.13,3,    35.63,3,     2.51,3,  1.0712
  492SSY9310_1,  P02E,    79,  1,     22,      2,2,19931028,0448, 29.9933,-176.5817, 5380,   5003.8,   1.5057,  34.6880,2,  34.6889,2,   -999.0,9,    160.9,2,   142.13,3,    36.03,3,     2.49,3,  1.0711
  492SSY9310_1,  P02E,    80,  1,      1,     23,2,19931028,0944, 29.9917,-175.9967, 5318,     51.2,  22.2971,  34.8398,2,  34.8304,2,   -999.0,9,    219.8,2,     1.95,3,     0.06,3,     0.00,3, 22.2869
  492SSY9310_1,  P02E,    80,  1,      2,     22,2,19931028,0944, 29.9917,-175.9967, 5318,     99.1,  17.8320,  34.8093,2,  34.7968,2,   -999.0,9,    223.2,2,     2.92,3,     1.16,3,     0.12,3, 17.8152
  492SSY9310_1,  P02E,    80,  1,      3,     21,2,19931028,0944, 29.9917,-175.9967, 5318,    198.8,  16.5649,  34.7520,2,  34.7414,2,   -999.0,9,    214.9,2,     4.87,3,     4.54,3,     0.31,3, 16.5328
  492SSY9310_1,  P02E,    80,  1,      4,     20,2,19931028,0944, 29.9917,-175.9967, 5318,    299.5,  14.3412,  34.5503,2,  34.5266,4,   -999.0,9,    211.4,2,    10.72,3,     8.60,3,     0.60,3, 14.2973
  492SSY9310_1,  P02E,    80,  1,      5,     19,2,19931028,0944, 29.9917,-175.9967, 5318,    399.5,  12.1092,  34.3995,2,  34.3680,4,   -999.0,9,    218.3,2,    15.59,3,    11.21,3,     0.80,3, 12.0568
  492SSY9310_1,  P02E,    80,  1,      6,     18,2,19931028,0944, 29.9917,-175.9967, 5318,    500.0,   9.3217,  34.1434,2,  34.1374,2,   -999.0,9,    203.9,2,    27.27,3,    17.14,3,     1.30,3,  9.2660
  492SSY9310_1,  P02E,    80,  1,      7,     17,2,19931028,0944, 29.9917,-175.9967, 5318,    600.7,   6.9073,  34.0306,2,  34.0270,2,   -999.0,9,    161.1,2,    47.72,3,    25.87,3,     1.92,3,  6.8509
  492SSY9310_1,  P02E,    80,  1,      8,     16,2,19931028,0944, 29.9917,-175.9967, 5318,    700.5,   5.3549,  34.0218,2,  34.0045,4,   -999.0,9,    121.9,3,    68.17,3,    32.28,3,     2.43,3,  5.2968
  492SSY9310_1,  P02E,    80,  1,      9,     15,2,19931028,0944, 29.9917,-175.9967, 5318,    799.4,   4.5019,  34.1100,2,  34.1029,2,   -999.0,9,     67.9,2,    88.62,3,    39.19,3,     2.88,3,  4.4401
  492SSY9310_1,  P02E,    80,  1,     10,     14,2,19931028,0944, 29.9917,-175.9967, 5318,    899.6,   4.0298,  34.2056,2,  34.1979,2,   -999.0,9,     51.3,2,   103.22,3,    41.04,3,     3.07,3,  3.9627
  492SSY9310_1,  P02E,    80,  1,     11,     13,2,19931028,0944, 29.9917,-175.9967, 5318,   1000.1,   3.5942,  34.3038,2,  34.2978,2,   -999.0,9,     30.9,2,   116.83,3,    43.04,3,     3.19,3,  3.5220
  492SSY9310_1,  P02E,    80,  1,     12,     12,2,19931028,0944, 29.9917,-175.9967, 5318,   1249.6,   3.0194,  34.4536,2,  34.4477,2,   -999.0,9,     32.6,2,   134.34,3,    43.63,3,     3.10,6,  2.9320
  492SSY9310_1,  P02E,    80,  1,     13,     11,2,19931028,0944, 29.9917,-175.9967, 5318,   1500.0,   2.5602,  34.5242,2,  34.5188,2,   -999.0,9,     47.8,2,   143.08,3,    42.22,3,     3.03,3,  2.4575
  492SSY9310_1,  P02E,    80,  1,     14,     10,2,19931028,0944, 29.9917,-175.9967, 5318,   1749.6,   2.2079,  34.5738,2,  34.5506,4,   -999.0,9,     64.4,3,   151.85,3,    41.54,3,     2.94,3,  2.0893
  492SSY9310_1,  P02E,    80,  1,     15,      9,2,19931028,0944, 29.9917,-175.9967, 5318,   1998.6,   1.9338,  34.6096,2,  34.6056,2,   -999.0,9,     86.5,4,   152.81,3,    40.18,3,     2.84,3,  1.7985
  492SSY9310_1,  P02E,    80,  1,     16,      8,2,19931028,0944, 29.9917,-175.9967, 5318,   2251.9,   1.7791,  34.6299,2,  34.6219,4,   -999.0,9,     90.4,2,   150.86,3,    40.22,3,     2.77,3,  1.6247
  492SSY9310_1,  P02E,    80,  1,     17,      7,2,19931028,0944, 29.9917,-175.9967, 5318,   2499.7,   1.6846,  34.6438,2,  34.6386,2,   -999.0,9,    110.0,4,   151.83,3,    39.57,3,     2.72,3,  1.5102
  492SSY9310_1,  P02E,    80,  1,     18,      6,2,19931028,0944, 29.9917,-175.9967, 5318,   2999.9,   1.5548,  34.6622,2,  34.6492,4,   -999.0,9,    130.0,3,   150.87,3,    38.79,3,     2.66,3,  1.3369
  492SSY9310_1,  P02E,    80,  1,     19,      5,2,19931028,0944, 29.9917,-175.9967, 5318,   3500.8,   1.4843,  34.6748,2,  34.6667,4,   -999.0,9,    140.9,2,   149.89,3,    38.11,3,     2.63,3,  1.2186
  492SSY9310_1,  P02E,    80,  1,     20,      4,2,19931028,0944, 29.9917,-175.9967, 5318,   3999.1,   1.4640,  34.6821,2,  34.6763,4,   -999.0,9,    147.0,3,   146.99,3,    36.46,3,     2.65,3,  1.1464
  492SSY9310_1,  P02E,    80,  1,     21,      3,2,19931028,0944, 29.9917,-175.9967, 5318,   4499.1,   1.4835,  34.6863,2,  34.6820,2,   -999.0,9,    154.8,2,   148.93,3,    36.22,3,     2.61,3,  1.1094
  492SSY9310_1,  P02E,    80,  1,     23,      1,2,19931028,0944, 29.9917,-175.9967, 5318,   5000.1,   1.5075,  34.6888,2,  34.6865,2,   -999.0,9,    161.3,4,   143.10,3,    36.15,3,     2.45,3,  1.0733
  492SSY9310_1,  P02E,    80,  1,     22,      2,2,19931028,0944, 29.9917,-175.9967, 5318,   5004.3,   1.5076,  34.6876,2,  34.6810,4,   -999.0,9,    161.8,4,   143.10,4,    35.92,3,     2.99,6,  1.0729
  492SSY9310_1,  P02E,    81,  1,      2,     22,2,19931028,1428, 30.0000,-175.4167, 5343,     50.0,  21.1752,  34.8069,2,  34.8395,3,   -999.0,9,    225.4,2,     3.90,3,     0.08,3,     0.19,3, 21.1656
  492SSY9310_1,  P02E,    81,  1,      3,     21,2,19931028,1428, 30.0000,-175.4167, 5343,     99.5,  17.5114,  34.7974,2,  34.7931,2,   -999.0,9,    212.7,2,     4.87,3,     3.21,3,     0.32,3, 17.4947
  492SSY9310_1,  P02E,    81,  1,      4,     20,2,19931028,1428, 30.0000,-175.4167, 5343,    199.5,  16.2348,  34.7281,2,  34.7207,2,   -999.0,9,    211.4,2,    11.69,4,     5.38,4,     0.61,4, 16.2030
  492SSY9310_1,  P02E,    81,  1,      5,     19,2,19931028,1428, 30.0000,-175.4167, 5343,    300.9,  13.5721,  34.4915,2,  34.4913,2,   -999.0,9,    211.3,2,    13.64,3,     9.13,3,     0.70,3, 13.5297
  492SSY9310_1,  P02E,    81,  1,      6,     18,2,19931028,1428, 30.0000,-175.4167, 5343,    399.5,  11.8116,  34.3791,2,  34.4055,4,   -999.0,9,    222.2,2,  -999.00,9,    10.11,3,  -999.00,9, 11.7600
  492SSY9310_1,  P02E,    81,  1,      7,     17,2,19931028,1428, 30.0000,-175.4167, 5343,    599.7,   6.9365,  34.0386,2,  34.0339,2,   -999.0,9,    161.5,2,    45.78,3,    25.19,3,     1.84,3,  6.8800
  492SSY9310_1,  P02E,    81,  1,      8,     16,2,19931028,1428, 30.0000,-175.4167, 5343,    700.2,   5.3557,  34.0387,2,  34.0396,2,   -999.0,9,    113.6,2,    69.14,3,    32.40,3,     2.37,3,  5.2976
  492SSY9310_1,  P02E,    81,  1,      9,     15,2,19931028,1428, 30.0000,-175.4167, 5343,    801.0,   4.4716,  34.1312,2,  34.1283,2,   -999.0,9,     65.3,3,    92.51,3,    38.55,3,     2.77,3,  4.4098
  492SSY9310_1,  P02E,    81,  1,     10,     14,2,19931028,1428, 30.0000,-175.4167, 5343,    900.0,   4.0183,  34.2100,2,  34.2085,2,   -999.0,9,     46.6,2,   107.11,3,    41.66,3,     2.95,3,  3.9513
  492SSY9310_1,  P02E,    81,  1,     11,     13,2,19931028,1428, 30.0000,-175.4167, 5343,    999.8,   3.6068,  34.2916,2,  34.2897,2,   -999.0,9,     33.9,2,   122.68,3,    42.08,3,     3.14,3,  3.5346
  492SSY9310_1,  P02E,    81,  1,     12,     12,2,19931028,1428, 30.0000,-175.4167, 5343,   1250.3,   2.9701,  34.4415,2,  34.4394,2,   -999.0,9,     27.8,3,   147.97,3,    42.94,3,     3.07,6,  2.8831
  492SSY9310_1,  P02E,    81,  1,     13,     11,2,19931028,1428, 30.0000,-175.4167, 5343,   1500.7,   2.5609,  34.5298,2,  34.5237,2,   -999.0,9,     47.4,2,   154.76,4,    40.66,4,     2.90,4,  2.4581
  492SSY9310_1,  P02E,    81,  1,     14,     10,2,19931028,1428, 30.0000,-175.4167, 5343,   1748.7,   2.2107,  34.5729,2,  34.5728,2,   -999.0,9,     59.6,2,   154.77,3,    41.13,3,     2.91,3,  2.0921
  492SSY9310_1,  P02E,    81,  1,     16,      8,2,19931028,1428, 30.0000,-175.4167, 5343,   2249.3,   1.7898,  34.6272,2,  34.6264,2,   -999.0,9,     94.4,2,   156.70,3,    39.93,3,     2.74,3,  1.6355
  492SSY9310_1,  P02E,    81,  1,     17,      7,2,19931028,1428, 30.0000,-175.4167, 5343,   2500.8,   1.6814,  34.6417,2,  34.6386,2,   -999.0,9,    103.5,2,   158.64,3,    39.60,3,     2.70,3,  1.5070
  492SSY9310_1,  P02E,    81,  1,     18,      6,2,19931028,1428, 30.0000,-175.4167, 5343,   2998.9,   1.5323,  34.6630,2,  34.6625,2,   -999.0,9,    125.2,2,   155.73,3,    38.63,3,     2.60,3,  1.3150
  492SSY9310_1,  P02E,    81,  1,     19,      5,2,19931028,1428, 30.0000,-175.4167, 5343,   3498.6,   1.4671,  34.6760,2,  34.6757,2,   -999.0,9,    140.0,2,   151.84,3,    37.18,3,     2.52,3,  1.2021
  492SSY9310_1,  P02E,    81,  1,     20,      4,2,19931028,1428, 30.0000,-175.4167, 5343,   3999.9,   1.4589,  34.6826,2,  34.6816,2,   -999.0,9,    149.1,2,   150.88,3,    35.70,3,     2.48,6,  1.1414
  492SSY9310_1,  P02E,    81,  1,     21,      3,2,19931028,1428, 30.0000,-175.4167, 5343,   4501.9,   1.4864,  34.6862,2,  34.6844,2,   -999.0,9,    153.1,2,   149.91,3,    35.63,3,     2.49,3,  1.1119
  492SSY9310_1,  P02E,    81,  1,     23,      1,2,19931028,1428, 30.0000,-175.4167, 5343,   5001.4,   1.5233,  34.6879,3,  34.6641,3,   -999.0,9,   -999.0,5,  -999.00,9,    35.72,3,  -999.00,9,  1.0884
  492SSY9310_1,  P02E,    81,  1,     22,      2,2,19931028,1428, 30.0000,-175.4167, 5343,   5004.2,   1.5233,  34.6870,2,  34.6869,2,   -999.0,9,    157.0,2,   146.02,3,    35.08,3,     2.50,3,  1.0881
  492SSY9310_1,  P02E,    82,  1,      1,     23,2,19931028,1917, 30.0000,-174.8333, 5353,    100.1,  17.9067,  34.8459,2,  34.8438,2,   -999.0,9,    228.4,2,     3.90,3,     0.23,3,     0.09,3, 17.8896
  492SSY9310_1,  P02E,    82,  1,      2,     22,2,19931028,1917, 30.0000,-174.8333, 5353,    199.6,  15.7113,  34.6770,2,  34.6753,2,   -999.0,9,    212.7,2,     5.84,3,     5.43,3,     0.38,3, 15.6803
  492SSY9310_1,  P02E,    82,  1,      3,     21,2,19931028,1917, 30.0000,-174.8333, 5353,    299.6,  13.8773,  34.5106,2,  34.5082,2,   -999.0,9,    210.9,2,     9.74,3,     8.46,3,     0.60,3, 13.8343
  492SSY9310_1,  P02E,    82,  1,      4,     20,2,19931028,1917, 30.0000,-174.8333, 5353,    399.7,  11.8241,  34.3498,2,  34.3496,2,   -999.0,9,    214.4,2,    14.61,3,    11.33,3,     0.84,3, 11.7725
  492SSY9310_1,  P02E,    82,  1,      5,     19,2,19931028,1917, 30.0000,-174.8333, 5353,    501.5,   9.5063,  34.1767,2,  34.1821,2,   -999.0,9,    194.7,2,    26.30,3,    17.27,3,     1.28,3,  9.4498
  492SSY9310_1,  P02E,    82,  1,      6,     18,2,19931028,1917, 30.0000,-174.8333, 5353,    601.4,   7.3216,  34.0565,2,  34.0554,2,   -999.0,9,    167.6,2,    42.85,3,    23.71,3,     1.78,3,  7.2632
  492SSY9310_1,  P02E,    82,  1,      7,     17,2,19931028,1917, 30.0000,-174.8333, 5353,    701.8,   5.4641,  34.0342,2,  34.0374,2,   -999.0,9,    117.5,2,    68.17,3,    32.27,3,     2.38,3,  5.4053
  492SSY9310_1,  P02E,    82,  1,      8,     16,2,19931028,1917, 30.0000,-174.8333, 5353,    799.6,   4.7560,  34.0951,2,  34.0907,2,   -999.0,9,     83.1,2,    83.75,3,    36.61,3,     2.66,3,  4.6926
  492SSY9310_1,  P02E,    82,  1,      9,     15,2,19931028,1917, 30.0000,-174.8333, 5353,    900.7,   4.1500,  34.1874,2,  34.1875,2,   -999.0,9,     48.3,2,   103.22,3,    40.91,3,     2.94,3,  4.0820
  492SSY9310_1,  P02E,    82,  1,     10,     14,2,19931028,1917, 30.0000,-174.8333, 5353,   1001.5,   3.7676,  34.2777,2,  34.2774,2,   -999.0,9,     33.5,2,   114.89,3,    42.73,3,     3.12,6,  3.6940
  492SSY9310_1,  P02E,    82,  1,     11,     13,2,19931028,1917, 30.0000,-174.8333, 5353,   1248.4,   3.1117,  34.4315,2,  34.4328,2,   -999.0,9,     31.8,2,   133.37,3,    42.41,3,     3.20,3,  3.0235
  492SSY9310_1,  P02E,    82,  1,     12,     12,2,19931028,1917, 30.0000,-174.8333, 5353,   1500.2,   2.6071,  34.5170,2,  34.5166,2,   -999.0,9,     45.2,2,   145.03,3,    42.12,3,     3.08,3,  2.5038
  492SSY9310_1,  P02E,    82,  1,     13,     11,2,19931028,1917, 30.0000,-174.8333, 5353,   1751.5,   2.2610,  34.5680,2,  34.5671,2,   -999.0,9,     61.3,2,   151.85,3,    41.13,3,     2.96,3,  2.1415
  492SSY9310_1,  P02E,    82,  1,     14,     10,2,19931028,1917, 30.0000,-174.8333, 5353,   1998.5,   2.0012,  34.6004,2,  34.6016,2,   -999.0,9,     76.1,2,   155.73,3,    40.45,3,     2.87,3,  1.8649
  492SSY9310_1,  P02E,    82,  1,     15,      9,2,19931028,1917, 30.0000,-174.8333, 5353,   2250.5,   1.8114,  34.6229,2,  34.6172,2,   -999.0,9,     86.1,4,   158.65,3,    39.37,3,     2.88,3,  1.6566
  492SSY9310_1,  P02E,    82,  1,     16,      8,2,19931028,1917, 30.0000,-174.8333, 5353,   2501.5,   1.6868,  34.6402,2,  34.6394,2,   -999.0,9,    102.2,2,   158.64,3,    39.14,3,     2.73,3,  1.5122
  492SSY9310_1,  P02E,    82,  1,     17,      7,2,19931028,1917, 30.0000,-174.8333, 5353,   3000.9,   1.5416,  34.6628,3,  34.6087,3,   -999.0,9,    103.1,4,  -999.00,9,    37.82,3,  -999.00,9,  1.3239
  492SSY9310_1,  P02E,    82,  1,     18,      6,2,19931028,1917, 30.0000,-174.8333, 5353,   3501.2,   1.4710,  34.6756,2,  34.6779,2,   -999.0,9,    140.0,2,   152.81,3,    37.44,3,     2.55,3,  1.2056
  492SSY9310_1,  P02E,    82,  1,     19,      5,2,19931028,1917, 30.0000,-174.8333, 5353,   3999.4,   1.4596,  34.6829,2,  34.6783,2,   -999.0,9,    147.0,2,   150.88,3,    35.96,3,     2.50,6,  1.1421
  492SSY9310_1,  P02E,    82,  1,     20,      4,2,19931028,1917, 30.0000,-174.8333, 5353,   4501.1,   1.4857,  34.6863,2,  34.6869,2,   -999.0,9,    152.2,2,   150.88,3,    35.47,3,     2.49,3,  1.1113
  492SSY9310_1,  P02E,    82,  1,     22,      2,2,19931028,1917, 30.0000,-174.8333, 5353,   5000.2,   1.5179,  34.6884,2,  34.6887,2,   -999.0,9,    157.4,2,   147.00,3,    34.77,3,     2.48,3,  1.0833
  492SSY9310_1,  P02E,    82,  1,     23,      1,2,19931028,1917, 30.0000,-174.8333, 5353,   5000.2,   1.5179,  34.6884,2,  34.6905,2,   -999.0,9,    157.0,2,   144.08,3,    35.41,3,     2.48,3,  1.0833
  492SSY9310_1,  P02E,    82,  1,     21,      3,2,19931028,1917, 30.0000,-174.8333, 5353,   5003.0,   1.5179,  34.6873,2,  34.6916,3,   -999.0,9,    158.3,2,   146.02,3,    35.78,3,     2.47,3,  1.0830