BOTTLE,20040202WHPSIOSA
EXPOCODE,SECT_ID,STNNBR,CASTNO,SAMPNO,BTLNBR,BTLNBR_FLAG_W,DATE,TIME,LATITUDE,LONGITUDE,DEPTH,CTDPRS,CTDTMP,CTDSAL,CTDSAL_FLAG_W,SALNTY,SALNTY_FLAG_W,CTDOXY,CTDOXY_FLAG_W,OXYGEN,OXYGEN_FLAG_W,SILCAT,SILCAT_FLAG_W,NO2+NO3,NO2+NO3_FLAG_W,PHSPHT,PHSPHT_FLAG_W,THETA
,,,,,,,,,,,,DBAR,ITS-90,PSS-78,,PSS-78,,UMOL/KG,,UMOL/KG,,UMOL/KG,,UMOL/KG,,UMOL/KG,,DEG C
  492SSY9310_1,  P02E,    91,  1,      1,     23,2,19931030,1543, 30.0000,-169.2483, 5003,     50.4,  21.0117,  34.7866,2,  34.7836,2,   -999.0,9,    227.6,2,     3.90,3,     0.00,3,     0.07,3, 21.0020
  492SSY9310_1,  P02E,    91,  1,      2,     22,2,19931030,1543, 30.0000,-169.2483, 5003,     98.9,  15.6034,  34.6542,2,  34.6401,2,   -999.0,9,    229.2,2,     4.87,3,     2.94,3,     0.30,3, 15.5881
  492SSY9310_1,  P02E,    91,  1,      3,     21,2,19931030,1543, 30.0000,-169.2483, 5003,    200.1,  13.3234,  34.4456,2,  34.4626,2,   -999.0,9,    221.7,2,     9.74,3,     7.46,3,     0.60,3, 13.2956
  492SSY9310_1,  P02E,    91,  1,      4,     20,2,19931030,1543, 30.0000,-169.2483, 5003,    299.5,  11.4810,  34.3000,2,  34.3003,2,   -999.0,9,    219.5,2,    12.66,3,    10.99,3,     0.86,3, 11.4433
  492SSY9310_1,  P02E,    91,  1,      5,     19,2,19931030,1543, 30.0000,-169.2483, 5003,    401.6,   9.5165,  34.1610,2,  34.1640,2,   -999.0,9,    198.6,2,    21.43,3,    16.77,3,     1.32,3,  9.4715
  492SSY9310_1,  P02E,    91,  1,      6,     18,2,19931030,1543, 30.0000,-169.2483, 5003,    500.6,   7.6901,  34.0570,2,  34.0548,2,   -999.0,9,    174.2,2,    34.09,3,    22.22,3,     1.74,3,  7.6404
  492SSY9310_1,  P02E,    91,  1,      7,     17,2,19931030,1543, 30.0000,-169.2483, 5003,    599.9,   6.0313,  34.0085,2,  34.0074,2,   -999.0,9,    133.2,2,    52.59,3,    28.45,3,     2.16,3,  5.9788
  492SSY9310_1,  P02E,    91,  1,      8,     16,2,19931030,1543, 30.0000,-169.2483, 5003,    700.8,   4.9191,  34.0596,2,  34.0646,2,   -999.0,9,     82.7,2,    74.98,3,    35.73,3,     2.62,3,  4.8633
  492SSY9310_1,  P02E,    91,  1,      9,     15,2,19931030,1543, 30.0000,-169.2483, 5003,    800.2,   4.2748,  34.1407,2,  34.1440,2,   -999.0,9,     47.4,2,    93.48,3,    39.96,3,     2.89,3,  4.2142
  492SSY9310_1,  P02E,    91,  1,     10,     14,2,19931030,1543, 30.0000,-169.2483, 5003,    898.9,   3.9564,  34.2385,2,  34.2393,2,   -999.0,9,     27.4,2,   106.13,3,    41.49,3,     3.07,3,  3.8898
  492SSY9310_1,  P02E,    91,  1,     11,     13,2,19931030,1543, 30.0000,-169.2483, 5003,   1000.1,   3.6178,  34.3234,2,  34.3244,2,   -999.0,9,     24.4,2,   116.83,3,    42.15,3,     3.10,3,  3.5454
  492SSY9310_1,  P02E,    91,  1,     12,     12,2,19931030,1543, 30.0000,-169.2483, 5003,   1248.7,   3.0716,  34.4671,2,  34.4697,2,   -999.0,9,     32.6,2,   131.41,3,    42.26,3,     3.10,3,  2.9837
  492SSY9310_1,  P02E,    91,  1,     13,     11,2,19931030,1543, 30.0000,-169.2483, 5003,   1499.4,   2.5804,  34.5352,2,  34.5247,4,   -999.0,9,     47.0,2,   140.16,3,    41.74,3,     3.01,6,  2.4775
  492SSY9310_1,  P02E,    91,  1,     14,     10,2,19931030,1543, 30.0000,-169.2483, 5003,   1749.8,   2.2156,  34.5753,2,  34.5773,2,   -999.0,9,     60.9,2,   152.82,3,    41.09,3,     2.97,3,  2.0968
  492SSY9310_1,  P02E,    91,  1,     15,      9,2,19931030,1543, 30.0000,-169.2483, 5003,   2001.1,   1.9699,  34.6071,2,  34.6030,2,   -999.0,9,     76.5,3,   152.81,3,    39.17,3,     2.87,3,  1.8339
  492SSY9310_1,  P02E,    91,  1,     16,      8,2,19931030,1543, 30.0000,-169.2483, 5003,   2250.3,   1.7911,  34.6293,2,  34.6356,2,   -999.0,9,     90.9,2,   160.59,3,    38.95,3,     2.84,3,  1.6367
  492SSY9310_1,  P02E,    91,  1,     17,      7,2,19931030,1543, 30.0000,-169.2483, 5003,   2500.6,   1.6723,  34.6451,3,  34.6174,3,   -999.0,9,     91.3,4,  -999.00,9,    36.48,3,  -999.00,9,  1.4981
  492SSY9310_1,  P02E,    91,  1,     18,      6,2,19931030,1543, 30.0000,-169.2483, 5003,   2999.7,   1.5355,  34.6638,2,  34.6661,2,   -999.0,9,    125.7,2,   154.76,3,    37.24,3,     2.69,3,  1.3180
  492SSY9310_1,  P02E,    91,  1,     19,      5,2,19931030,1543, 30.0000,-169.2483, 5003,   3499.6,   1.4791,  34.6746,2,  34.6614,4,   -999.0,9,    133.9,4,   148.92,3,    36.48,3,     2.65,3,  1.2137
  492SSY9310_1,  P02E,    91,  1,     20,      4,2,19931030,1543, 30.0000,-169.2483, 5003,   3999.8,   1.4627,  34.6821,2,  34.6842,2,   -999.0,9,    148.7,2,   147.96,3,    36.37,3,     2.52,3,  1.1451
  492SSY9310_1,  P02E,    91,  1,     21,      3,2,19931030,1543, 30.0000,-169.2483, 5003,   4498.7,   1.4865,  34.6859,2,  34.6889,2,   -999.0,9,    153.9,2,   146.98,3,    37.37,3,     2.48,6,  1.1124
  492SSY9310_1,  P02E,    91,  1,     22,      2,2,19931030,1543, 30.0000,-169.2483, 5003,   5001.6,   1.5251,  34.6880,2,  34.6901,2,   -999.0,9,    157.0,2,   143.10,3,    36.74,3,     2.45,3,  1.0901
  492SSY9310_1,  P02E,    91,  1,     23,      1,2,19931030,1543, 30.0000,-169.2483, 5003,   5498.7,   1.5417,  34.6916,2,  34.6918,2,   -999.0,9,    166.1,2,   135.32,3,    36.37,3,     2.40,3,  1.0441
  492SSY9310_1,  P02E,    92,  1,      1,     23,2,19931030,2157, 30.0000,-168.3300, 5549,     50.6,  21.8014,  34.9675,2,  34.9614,2,   -999.0,9,    224.6,2,     3.90,3,     0.04,3,     0.04,3, 21.7914
  492SSY9310_1,  P02E,    92,  1,      2,     22,2,19931030,2157, 30.0000,-168.3300, 5549,    100.5,  15.4923,  34.6122,2,  34.6085,2,   -999.0,9,    242.2,2,     5.84,3,     1.32,3,     0.21,3, 15.4768
  492SSY9310_1,  P02E,    92,  1,      3,     21,2,19931030,2157, 30.0000,-168.3300, 5549,    202.4,  13.5345,  34.4747,2,  34.4750,2,   -999.0,9,    223.9,2,     8.77,3,     7.01,3,     0.54,3, 13.5061
  492SSY9310_1,  P02E,    92,  1,      4,     20,2,19931030,2157, 30.0000,-168.3300, 5549,    301.1,  11.5555,  34.3027,2,  34.3038,2,   -999.0,9,    215.2,2,    15.59,3,    11.53,3,     0.84,3, 11.5174
  492SSY9310_1,  P02E,    92,  1,      5,     19,2,19931030,2157, 30.0000,-168.3300, 5549,    400.4,   9.3893,  34.1580,2,  34.1538,2,   -999.0,9,    196.9,2,    26.30,3,    17.42,3,     1.29,3,  9.3448
  492SSY9310_1,  P02E,    92,  1,      6,     18,2,19931030,2157, 30.0000,-168.3300, 5549,    503.0,   7.3889,  34.0397,2,  34.0445,2,   -999.0,9,    169.0,2,    41.88,3,    23.71,3,     1.79,3,  7.3402
  492SSY9310_1,  P02E,    92,  1,      7,     17,2,19931030,2157, 30.0000,-168.3300, 5549,    601.1,   5.7930,  34.0190,2,  34.0186,2,   -999.0,9,    118.8,2,    62.33,3,    31.40,3,     2.44,3,  5.7416
  492SSY9310_1,  P02E,    92,  1,      8,     16,2,19931030,2157, 30.0000,-168.3300, 5549,    700.4,   4.9613,  34.0785,2,  34.0805,2,   -999.0,9,     72.3,2,    77.90,3,    36.83,3,     2.68,3,  4.9052
  492SSY9310_1,  P02E,    92,  1,      9,     15,2,19931030,2157, 30.0000,-168.3300, 5549,    800.0,   4.2678,  34.1729,2,  34.1691,2,   -999.0,9,     44.0,2,    95.43,3,    40.26,3,     2.91,3,  4.2073
  492SSY9310_1,  P02E,    92,  1,     10,     14,2,19931030,2157, 30.0000,-168.3300, 5549,    901.7,   3.9587,  34.2611,2,  34.2646,2,   -999.0,9,     30.5,2,   106.13,3,    41.75,3,     3.06,3,  3.8919
  492SSY9310_1,  P02E,    92,  1,     11,     13,2,19931030,2157, 30.0000,-168.3300, 5549,   1001.8,   3.6536,  34.3407,2,  34.3260,4,   -999.0,9,     25.7,2,   115.86,3,    42.51,3,     3.13,3,  3.5808
  492SSY9310_1,  P02E,    92,  1,     12,     12,2,19931030,2157, 30.0000,-168.3300, 5549,   1251.1,   3.0981,  34.4682,2,  34.4665,2,   -999.0,9,     33.9,4,   130.44,3,    42.56,3,     3.11,3,  3.0098
  492SSY9310_1,  P02E,    92,  1,     13,     11,2,19931030,2157, 30.0000,-168.3300, 5549,   1502.0,   2.6310,  34.5311,2,  34.5231,2,   -999.0,9,     46.1,2,   138.22,3,    42.26,3,     3.02,6,  2.5273
  492SSY9310_1,  P02E,    92,  1,     14,     10,2,19931030,2157, 30.0000,-168.3300, 5549,   1751.6,   2.2480,  34.5787,2,  34.5761,2,   -999.0,9,     64.4,3,   150.87,3,    41.11,3,     3.01,3,  2.1286
  492SSY9310_1,  P02E,    92,  1,     15,      9,2,19931030,2157, 30.0000,-168.3300, 5549,   2001.1,   1.9741,  34.6067,2,  34.5948,4,   -999.0,9,     80.5,2,   151.84,3,    39.44,3,     2.94,3,  1.8380
  492SSY9310_1,  P02E,    92,  1,     16,      8,2,19931030,2157, 30.0000,-168.3300, 5549,   2250.9,   1.7900,  34.6286,2,  34.6176,4,   -999.0,9,     90.9,2,   154.76,3,    38.82,3,     2.81,3,  1.6355
  492SSY9310_1,  P02E,    92,  1,     17,      7,2,19931030,2157, 30.0000,-168.3300, 5549,   2501.0,   1.6781,  34.6446,2,  34.6441,2,   -999.0,9,    116.1,4,   158.64,3,    38.60,3,     2.73,3,  1.5037
  492SSY9310_1,  P02E,    92,  1,     18,      6,2,19931030,2157, 30.0000,-168.3300, 5549,   3001.0,   1.5395,  34.6634,2,  34.6633,2,   -999.0,9,    125.2,2,   156.71,3,    37.11,3,     2.63,3,  1.3218
  492SSY9310_1,  P02E,    92,  1,     19,      5,2,19931030,2157, 30.0000,-168.3300, 5549,   3499.3,   1.4775,  34.6756,2,  34.6741,2,   -999.0,9,    139.1,2,   152.81,3,    36.38,3,     2.56,3,  1.2121
  492SSY9310_1,  P02E,    92,  1,     20,      4,2,19931030,2157, 30.0000,-168.3300, 5549,   4001.0,   1.4648,  34.6831,2,  34.6787,2,   -999.0,9,    148.3,2,   149.91,3,    35.17,3,     2.51,3,  1.1470
  492SSY9310_1,  P02E,    92,  1,     21,      3,2,19931030,2157, 30.0000,-168.3300, 5549,   4501.2,   1.4865,  34.6856,2,  34.6844,2,   -999.0,9,    153.9,2,   149.91,3,    35.40,3,     2.49,3,  1.1121
  492SSY9310_1,  P02E,    92,  1,     22,      2,2,19931030,2157, 30.0000,-168.3300, 5549,   5000.9,   1.5231,  34.6874,2,  34.6885,2,   -999.0,9,    158.3,2,   146.02,3,    35.58,3,     2.45,6,  1.0883
  492SSY9310_1,  P02E,    92,  1,     23,      1,2,19931030,2157, 30.0000,-168.3300, 5549,   5501.2,   1.5625,  34.6896,2,  34.6903,2,   -999.0,9,    162.6,2,   141.16,3,    35.40,3,     2.43,3,  1.0638
  492SSY9310_1,  P02E,    93,  1,      1,     23,2,19931031,0408, 29.9983,-167.4150, 5477,     50.0,  21.3188,  34.9329,2,  34.9921,3,   -999.0,9,    225.8,2,     3.90,3,     0.11,3,     0.06,3, 21.3091
  492SSY9310_1,  P02E,    93,  1,      2,     22,2,19931031,0408, 29.9983,-167.4150, 5477,    100.7,  14.7820,  34.5711,2,  34.5722,2,   -999.0,9,    229.1,2,     6.82,3,     4.13,3,     0.35,3, 14.7670
  492SSY9310_1,  P02E,    93,  1,      3,     21,2,19931031,0408, 29.9983,-167.4150, 5477,    200.5,  12.9121,  34.4251,2,  34.4194,2,   -999.0,9,    220.0,2,    10.71,3,     8.70,3,     0.67,3, 12.8849
  492SSY9310_1,  P02E,    93,  1,      4,     20,2,19931031,0408, 29.9983,-167.4150, 5477,    299.5,  11.2675,  34.2835,2,  34.2832,2,   -999.0,9,    216.9,2,    15.59,3,    11.46,3,     0.91,3, 11.2302
  492SSY9310_1,  P02E,    93,  1,      5,     19,2,19931031,0408, 29.9983,-167.4150, 5477,    398.4,   9.3530,  34.1523,2,  34.1526,2,   -999.0,9,    196.0,2,    25.33,3,    16.77,3,     1.31,3,  9.3088
  492SSY9310_1,  P02E,    93,  1,      6,     18,2,19931031,0408, 29.9983,-167.4150, 5477,    498.7,   7.3759,  34.0512,2,  34.0511,2,   -999.0,9,    169.4,2,    39.93,3,    22.72,3,     1.77,3,  7.3276
  492SSY9310_1,  P02E,    93,  1,      7,     17,2,19931031,0408, 29.9983,-167.4150, 5477,    600.3,   5.7994,  34.0195,2,  34.0178,2,   -999.0,9,    122.8,2,    60.38,3,    30.69,3,     2.33,3,  5.7480
  492SSY9310_1,  P02E,    93,  1,      8,     16,2,19931031,0408, 29.9983,-167.4150, 5477,    699.9,   4.7635,  34.0864,2,  34.0882,2,   -999.0,9,     74.0,2,    81.79,3,    36.01,3,     2.76,3,  4.7085
  492SSY9310_1,  P02E,    93,  1,      9,     15,2,19931031,0408, 29.9983,-167.4150, 5477,    799.8,   4.2688,  34.1664,2,  34.1613,2,   -999.0,9,     43.5,2,    96.40,3,    39.19,3,     2.99,3,  4.2083
  492SSY9310_1,  P02E,    93,  1,     10,     14,2,19931031,0408, 29.9983,-167.4150, 5477,    901.3,   3.9316,  34.2409,2,  34.2440,2,   -999.0,9,     37.9,4,   105.16,9,    39.96,3,  -999.00,9,  3.8649
  492SSY9310_1,  P02E,    93,  1,     11,     13,2,19931031,0408, 29.9983,-167.4150, 5477,    999.8,   3.6040,  34.3277,2,  34.3242,2,   -999.0,9,     22.6,3,   117.81,3,    41.39,3,     3.24,3,  3.5318
  492SSY9310_1,  P02E,    93,  1,     12,     12,2,19931031,0408, 29.9983,-167.4150, 5477,   1250.4,   3.1400,  34.4680,2,  34.4705,2,   -999.0,9,     37.4,2,   130.44,3,    41.23,3,     3.08,6,  3.0514
  492SSY9310_1,  P02E,    93,  1,     13,     11,2,19931031,0408, 29.9983,-167.4150, 5477,   1501.6,   2.6217,  34.5343,2,  34.5353,2,   -999.0,9,     50.9,2,   142.11,3,    41.91,3,     3.00,3,  2.5181
  492SSY9310_1,  P02E,    93,  1,     14,     10,2,19931031,0408, 29.9983,-167.4150, 5477,   1748.4,   2.2470,  34.5783,2,  34.5806,2,   -999.0,9,     64.4,2,   151.85,3,    39.74,3,     2.93,3,  2.1279
  492SSY9310_1,  P02E,    93,  1,     15,      9,2,19931031,0408, 29.9983,-167.4150, 5477,   1999.9,   1.9550,  34.6107,2,  34.6095,2,   -999.0,9,     80.0,2,   157.68,3,    39.04,3,     2.84,3,  1.8193
  492SSY9310_1,  P02E,    93,  1,     16,      8,2,19931031,0408, 29.9983,-167.4150, 5477,   2250.3,   1.7769,  34.6303,3,  34.6213,3,   -999.0,9,     91.3,3,  -999.00,9,    37.24,9,  -999.00,9,  1.6227
  492SSY9310_1,  P02E,    93,  1,     17,      7,2,19931031,0408, 29.9983,-167.4150, 5477,   2500.5,   1.6675,  34.6455,2,  34.6441,2,   -999.0,9,    110.9,2,   156.70,3,    39.31,3,     2.70,3,  1.4933
  492SSY9310_1,  P02E,    93,  1,     18,      6,2,19931031,0408, 29.9983,-167.4150, 5477,   3001.6,   1.5369,  34.6638,2,  34.6639,2,   -999.0,9,    127.0,2,   155.73,3,    38.50,3,     2.63,3,  1.3192
  492SSY9310_1,  P02E,    93,  1,     19,      5,2,19931031,0408, 29.9983,-167.4150, 5477,   3500.2,   1.4803,  34.6754,2,  34.6745,2,   -999.0,9,    139.1,2,   153.79,3,    36.83,3,     2.55,3,  1.2148
  492SSY9310_1,  P02E,    93,  1,     20,      4,2,19931031,0408, 29.9983,-167.4150, 5477,   3999.8,   1.4612,  34.6827,2,  34.6838,2,   -999.0,9,    148.7,2,   151.85,3,    36.21,3,     2.52,3,  1.1436
  492SSY9310_1,  P02E,    93,  1,     21,      3,2,19931031,0408, 29.9983,-167.4150, 5477,   4501.4,   1.4848,  34.6868,2,  34.6875,2,   -999.0,9,    154.4,2,   147.96,3,    38.62,3,     2.50,3,  1.1104
  492SSY9310_1,  P02E,    93,  1,     22,      2,2,19931031,0408, 29.9983,-167.4150, 5477,   4999.7,   1.5221,  34.6884,2,  34.6883,2,   -999.0,9,    157.8,2,   147.00,3,    35.75,3,     2.46,3,  1.0875
  492SSY9310_1,  P02E,    93,  1,     23,      1,2,19931031,0408, 29.9983,-167.4150, 5477,   5500.6,   1.5409,  34.6925,2,  34.6924,2,   -999.0,9,    163.1,2,   139.21,3,    35.66,3,     2.44,6,  1.0431
  492SSY9310_1,  P02E,    94,  1,      1,     23,2,19931031,1033, 29.9900,-166.4917, 5590,     49.3,  22.3104,  35.2884,2,  35.2690,2,   -999.0,9,    221.5,2,     0.97,3,     0.13,3,     0.04,3, 22.3006
  492SSY9310_1,  P02E,    94,  1,      2,     22,2,19931031,1033, 29.9900,-166.4917, 5590,    100.4,  18.4086,  34.9528,2,  34.9541,2,   -999.0,9,    219.7,2,     0.97,3,     1.01,3,     0.19,3, 18.3911
  492SSY9310_1,  P02E,    94,  1,      3,     21,2,19931031,1033, 29.9900,-166.4917, 5590,    199.6,  14.8092,  34.5883,2,  34.5902,2,   -999.0,9,    201.3,2,     4.87,3,     7.15,3,     0.60,3, 14.7794
  492SSY9310_1,  P02E,    94,  1,      4,     20,2,19931031,1033, 29.9900,-166.4917, 5590,    300.7,  12.4401,  34.3567,2,  34.3568,2,   -999.0,9,    201.7,2,     8.77,3,    10.82,3,     0.81,3, 12.4001
  492SSY9310_1,  P02E,    94,  1,      5,     19,2,19931031,1033, 29.9900,-166.4917, 5590,    399.5,  10.0575,  34.1774,2,  34.1758,2,   -999.0,9,    196.0,2,    16.56,3,    16.17,3,     1.18,3, 10.0111
  492SSY9310_1,  P02E,    94,  1,      6,     18,2,19931031,1033, 29.9900,-166.4917, 5590,    501.1,   8.0346,  34.0755,2,  34.0754,2,   -999.0,9,    180.3,2,    30.19,3,    21.59,3,     1.59,3,  7.9836
  492SSY9310_1,  P02E,    94,  1,      7,     17,2,19931031,1033, 29.9900,-166.4917, 5590,    600.0,   6.3969,  34.0205,2,  34.0170,2,   -999.0,9,    137.1,2,    48.70,3,    28.33,3,     2.12,3,  6.3428
  492SSY9310_1,  P02E,    94,  1,      8,     16,2,19931031,1033, 29.9900,-166.4917, 5590,    700.0,   5.0723,  34.0592,2,  34.0572,2,   -999.0,9,     84.9,2,    73.03,3,    34.98,3,     2.64,3,  5.0157
  492SSY9310_1,  P02E,    94,  1,      9,     15,2,19931031,1033, 29.9900,-166.4917, 5590,    800.0,   4.4052,  34.1389,2,  34.1334,2,   -999.0,9,     52.7,2,    89.59,3,    39.03,3,     2.89,3,  4.3439
  492SSY9310_1,  P02E,    94,  1,     10,     14,2,19931031,1033, 29.9900,-166.4917, 5590,    899.5,   4.0146,  34.2239,2,  34.2224,2,   -999.0,9,     43.9,2,   104.19,3,    41.39,3,     3.04,3,  3.9476
  492SSY9310_1,  P02E,    94,  1,     11,     13,2,19931031,1033, 29.9900,-166.4917, 5590,   1000.9,   3.7266,  34.3082,2,  34.3103,2,   -999.0,9,     27.4,2,   112.94,3,    42.18,3,     3.08,3,  3.6533
  492SSY9310_1,  P02E,    94,  1,     12,     12,2,19931031,1033, 29.9900,-166.4917, 5590,   1249.8,   3.1497,  34.4535,2,  34.4471,2,   -999.0,9,     31.8,2,   130.44,3,    42.09,3,     3.10,4,  3.0611
  492SSY9310_1,  P02E,    94,  1,     13,     11,2,19931031,1033, 29.9900,-166.4917, 5590,   1500.0,   2.6149,  34.5358,2,  34.5266,2,   -999.0,9,     51.8,3,   133.35,4,    39.75,4,     2.91,4,  2.5115
  492SSY9310_1,  P02E,    94,  1,     14,     10,2,19931031,1033, 29.9900,-166.4917, 5590,   1748.7,   2.2374,  34.5787,2,  34.5730,2,   -999.0,9,     64.4,2,   149.90,3,    40.32,3,     2.94,4,  2.1184
  492SSY9310_1,  P02E,    94,  1,     15,      9,2,19931031,1033, 29.9900,-166.4917, 5590,   1999.7,   1.9885,  34.6076,2,  34.6048,2,   -999.0,9,     78.3,2,   152.81,3,    38.77,3,     2.83,4,  1.8523
  492SSY9310_1,  P02E,    94,  1,     16,      8,2,19931031,1033, 29.9900,-166.4917, 5590,   2248.5,   1.8002,  34.6300,3,  34.6140,3,   -999.0,9,     87.4,3,  -999.00,9,    37.37,3,  -999.00,9,  1.6458
  492SSY9310_1,  P02E,    94,  1,     17,      7,2,19931031,1033, 29.9900,-166.4917, 5590,   2500.3,   1.6914,  34.6440,2,  34.6425,2,   -999.0,9,    108.7,2,   157.67,3,    40.22,3,     2.74,3,  1.5168
  492SSY9310_1,  P02E,    94,  1,     18,      6,2,19931031,1033, 29.9900,-166.4917, 5590,   2999.7,   1.5451,  34.6646,2,  34.6645,2,   -999.0,9,    124.4,2,   157.68,3,    38.92,3,     2.67,3,  1.3274
  492SSY9310_1,  P02E,    94,  1,     19,      5,2,19931031,1033, 29.9900,-166.4917, 5590,   3499.1,   1.4818,  34.6763,2,  34.6769,2,   -999.0,9,    138.3,2,   153.79,3,    38.18,3,     2.56,3,  1.2164
  492SSY9310_1,  P02E,    94,  1,     20,      4,2,19931031,1033, 29.9900,-166.4917, 5590,   3998.5,   1.4661,  34.6836,2,  34.6830,2,   -999.0,9,    147.4,2,   151.85,3,    35.81,3,     2.52,4,  1.1485
  492SSY9310_1,  P02E,    94,  1,     21,      3,2,19931031,1033, 29.9900,-166.4917, 5590,   4499.2,   1.4854,  34.6871,2,  34.6855,2,   -999.0,9,    154.8,2,   151.85,3,    36.46,3,     2.49,3,  1.1112
  492SSY9310_1,  P02E,    94,  1,     22,      2,2,19931031,1033, 29.9900,-166.4917, 5590,   4998.2,   1.5198,  34.6896,2,  34.6901,2,   -999.0,9,    158.3,2,   147.97,3,    36.34,3,     2.46,3,  1.0854
  492SSY9310_1,  P02E,    94,  1,     23,      1,2,19931031,1033, 29.9900,-166.4917, 5590,   5500.4,   1.5488,  34.6916,2,  34.6914,2,   -999.0,9,    165.7,3,   136.29,3,    36.19,3,     2.43,3,  1.0507