BOTTLE,20040202WHPSIOSA
EXPOCODE,SECT_ID,STNNBR,CASTNO,SAMPNO,BTLNBR,BTLNBR_FLAG_W,DATE,TIME,LATITUDE,LONGITUDE,DEPTH,CTDPRS,CTDTMP,CTDSAL,CTDSAL_FLAG_W,SALNTY,SALNTY_FLAG_W,CTDOXY,CTDOXY_FLAG_W,OXYGEN,OXYGEN_FLAG_W,SILCAT,SILCAT_FLAG_W,NO2+NO3,NO2+NO3_FLAG_W,PHSPHT,PHSPHT_FLAG_W,THETA
,,,,,,,,,,,,DBAR,ITS-90,PSS-78,,PSS-78,,UMOL/KG,,UMOL/KG,,UMOL/KG,,UMOL/KG,,UMOL/KG,,DEG C
  492SSY9310_1,  P02E,    63,  1,      1,     23,2,19931024,1930, 30.0017, 174.0850, 5431,     47.9,  21.4144,  34.8999,2,  34.9447,3,   -999.0,9,    236.3,2,     1.95,3,     0.13,3,     0.03,3, 21.4051
  492SSY9310_1,  P02E,    63,  1,      2,     22,2,19931024,1930, 30.0017, 174.0850, 5431,     98.8,  17.3116,  34.7962,2,  34.7903,2,   -999.0,9,    233.6,2,     1.95,3,     0.23,3,     0.10,3, 17.2952
  492SSY9310_1,  P02E,    63,  1,      3,     21,2,19931024,1930, 30.0017, 174.0850, 5431,    199.6,  15.6995,  34.6836,2,  34.6765,2,   -999.0,9,    214.4,2,     4.87,3,     5.50,3,     0.39,3, 15.6685
  492SSY9310_1,  P02E,    63,  1,      4,     20,2,19931024,1930, 30.0017, 174.0850, 5431,    300.1,  13.4582,  34.4833,2,  34.4840,2,   -999.0,9,    207.0,2,    10.72,3,    10.33,3,     0.70,3, 13.4161
  492SSY9310_1,  P02E,    63,  1,      5,     19,2,19931024,1930, 30.0017, 174.0850, 5431,    400.8,  11.8384,  34.3556,2,  34.3584,2,   -999.0,9,    213.9,2,    13.64,3,    12.52,3,     0.85,3, 11.7866
  492SSY9310_1,  P02E,    63,  1,      6,     18,2,19931024,1930, 30.0017, 174.0850, 5431,    499.5,   9.7065,  34.1912,2,  34.2142,4,   -999.0,9,    200.4,2,    22.40,3,    17.69,3,     1.21,3,  9.6494
  492SSY9310_1,  P02E,    63,  1,      7,     17,2,19931024,1930, 30.0017, 174.0850, 5431,    600.5,   7.1347,  34.0402,2,  34.0445,2,   -999.0,9,    170.7,2,    44.80,3,    27.01,3,     1.83,3,  7.0772
  492SSY9310_1,  P02E,    63,  1,      8,     16,2,19931024,1930, 30.0017, 174.0850, 5431,    700.7,   5.7923,  34.0358,2,  34.0360,2,   -999.0,9,    121.5,2,    65.25,3,    32.12,3,     2.30,3,  5.7318
  492SSY9310_1,  P02E,    63,  1,      9,     15,2,19931024,1930, 30.0017, 174.0850, 5431,    800.6,   4.7624,  34.0994,2,  34.0962,2,   -999.0,9,     78.3,2,    87.65,3,    37.96,3,     2.71,3,  4.6989
  492SSY9310_1,  P02E,    63,  1,     10,     14,2,19931024,1930, 30.0017, 174.0850, 5431,    897.8,   4.2449,  34.1787,2,  34.1777,2,   -999.0,9,     54.8,2,   104.19,3,    40.27,3,     2.88,3,  4.1765
  492SSY9310_1,  P02E,    63,  1,     11,     13,2,19931024,1930, 30.0017, 174.0850, 5431,    999.6,   3.7577,  34.2689,2,  34.2701,2,   -999.0,9,     37.4,2,   118.79,3,    42.37,3,     3.00,3,  3.6844
  492SSY9310_1,  P02E,    63,  1,     12,     12,2,19931024,1930, 30.0017, 174.0850, 5431,   1250.9,   3.0973,  34.4270,2,  34.4273,2,   -999.0,9,     32.6,2,   141.15,3,    42.83,3,     3.07,3,  3.0091
  492SSY9310_1,  P02E,    63,  1,     13,     11,2,19931024,1930, 30.0017, 174.0850, 5431,   1501.5,   2.6380,  34.5058,2,  34.5060,2,   -999.0,9,     43.5,2,   153.79,3,    42.48,3,     3.05,6,  2.5343
  492SSY9310_1,  P02E,    63,  1,     14,     10,2,19931024,1930, 30.0017, 174.0850, 5431,   1749.4,   2.2512,  34.5633,2,  34.5649,2,   -999.0,9,     60.9,2,   162.56,3,    42.20,3,     2.96,3,  2.1320
  492SSY9310_1,  P02E,    63,  1,     15,      9,2,19931024,1930, 30.0017, 174.0850, 5431,   1999.9,   1.9867,  34.6002,2,  34.5916,4,   -999.0,9,     76.5,2,   140.16,4,    37.36,4,     2.56,4,  1.8505
  492SSY9310_1,  P02E,    63,  1,     16,      8,2,19931024,1930, 30.0017, 174.0850, 5431,   2249.8,   1.8130,  34.6247,2,  34.6199,2,   -999.0,9,     92.6,2,   167.41,3,    42.33,3,     2.81,3,  1.6582
  492SSY9310_1,  P02E,    63,  1,     17,      7,2,19931024,1930, 30.0017, 174.0850, 5431,   2500.6,   1.6818,  34.6421,2,  34.6396,2,   -999.0,9,    104.4,2,   163.51,3,    41.28,3,     2.73,3,  1.5074
  492SSY9310_1,  P02E,    63,  1,     18,      6,2,19931024,1930, 30.0017, 174.0850, 5431,   2999.2,   1.5264,  34.6655,2,  34.6627,2,   -999.0,9,    128.3,2,   163.52,3,    40.19,3,     2.64,3,  1.3092
  492SSY9310_1,  P02E,    63,  1,     19,      5,2,19931024,1930, 30.0017, 174.0850, 5431,   3498.5,   1.4681,  34.6785,2,  34.6769,2,   -999.0,9,    141.8,2,   158.65,3,    39.38,3,     2.57,3,  1.2031
  492SSY9310_1,  P02E,    63,  1,     20,      4,2,19931024,1930, 30.0017, 174.0850, 5431,   3999.1,   1.4505,  34.6851,2,  34.6848,2,   -999.0,9,    152.2,2,   153.80,3,    36.96,3,     2.53,3,  1.1332
  492SSY9310_1,  P02E,    63,  1,     21,      3,2,19931024,1930, 30.0017, 174.0850, 5431,   4499.5,   1.4486,  34.6908,2,  34.6908,2,   -999.0,9,    161.7,2,   147.96,3,    36.84,3,     2.50,6,  1.0754
  492SSY9310_1,  P02E,    63,  1,     22,      2,2,19931024,1930, 30.0017, 174.0850, 5431,   4999.2,   1.4520,  34.6958,2,  34.6946,2,   -999.0,9,    170.0,2,   142.13,3,    37.11,3,     2.41,3,  1.0197
  492SSY9310_1,  P02E,    63,  1,     23,      1,2,19931024,1930, 30.0017, 174.0850, 5431,   5497.7,   1.4643,  34.7003,3,  34.6730,3,   -999.0,9,    167.8,3,  -999.00,9,  -999.00,9,  -999.00,9,  0.9696
  492SSY9310_1,  P02E,    64,  1,      1,     23,2,19931025,0055, 30.0000, 174.6767, 5380,     50.5,  22.1429,  34.8516,2,  34.9791,3,   -999.0,9,    228.5,2,     2.92,3,     0.00,3,     0.02,3, 22.1329
  492SSY9310_1,  P02E,    64,  1,      2,     22,2,19931025,0055, 30.0000, 174.6767, 5380,     99.9,  17.4472,  34.8014,2,  34.7997,2,   -999.0,9,    231.9,2,     2.92,3,     0.12,3,     0.11,3, 17.4305
  492SSY9310_1,  P02E,    64,  1,      3,     21,2,19931025,0055, 30.0000, 174.6767, 5380,    200.9,  16.0170,  34.7057,2,  34.7062,2,   -999.0,9,    220.5,2,     6.82,3,     5.46,3,     0.40,3, 15.9853
  492SSY9310_1,  P02E,    64,  1,      4,     20,2,19931025,0055, 30.0000, 174.6767, 5380,    299.2,  14.0131,  34.5202,2,  34.5260,2,   -999.0,9,    217.9,2,    10.72,3,     8.67,3,     0.60,3, 13.9700
  492SSY9310_1,  P02E,    64,  1,      5,     19,2,19931025,0055, 30.0000, 174.6767, 5380,    399.8,  11.7265,  34.3517,2,  34.3564,2,   -999.0,9,    211.7,2,    15.59,3,    13.17,3,     0.90,3, 11.6752
  492SSY9310_1,  P02E,    64,  1,      6,     18,2,19931025,0055, 30.0000, 174.6767, 5380,    499.0,   9.7218,  34.1939,2,  34.2162,4,   -999.0,9,    200.0,2,    22.40,3,    17.90,3,     1.19,3,  9.6647
  492SSY9310_1,  P02E,    64,  1,      7,     17,2,19931025,0055, 30.0000, 174.6767, 5380,    599.8,   7.4763,  34.0561,2,  34.0570,2,   -999.0,9,    176.4,2,    40.91,3,    25.22,3,     1.71,3,  7.4174
  492SSY9310_1,  P02E,    64,  1,      8,     16,2,19931025,0055, 30.0000, 174.6767, 5380,    699.6,   5.8274,  34.0195,2,  34.0243,2,   -999.0,9,    131.0,2,    63.30,3,    31.21,3,     2.19,3,  5.7669
  492SSY9310_1,  P02E,    64,  1,      9,     15,2,19931025,0055, 30.0000, 174.6767, 5380,    800.2,   4.9810,  34.0898,2,  34.0866,2,   -999.0,9,     86.2,2,    82.78,3,    36.73,3,     2.57,3,  4.9162
  492SSY9310_1,  P02E,    64,  1,     10,     14,2,19931025,0055, 30.0000, 174.6767, 5380,    899.2,   4.3085,  34.1699,2,  34.1707,2,   -999.0,9,     58.7,2,   101.27,3,    40.18,3,     2.83,3,  4.2395
  492SSY9310_1,  P02E,    64,  1,     11,     13,2,19931025,0055, 30.0000, 174.6767, 5380,    999.0,   3.8568,  34.2600,2,  34.2605,2,   -999.0,9,     39.6,2,   116.84,3,    41.35,3,     2.99,3,  3.7827
  492SSY9310_1,  P02E,    64,  1,     12,     12,2,19931025,0055, 30.0000, 174.6767, 5380,   1250.3,   3.1352,  34.4105,2,  34.4104,2,   -999.0,9,     29.1,2,   140.18,3,    42.36,3,     3.08,3,  3.0468
  492SSY9310_1,  P02E,    64,  1,     13,     11,2,19931025,0055, 30.0000, 174.6767, 5380,   1499.4,   2.6246,  34.5066,2,  34.5048,2,   -999.0,9,     44.8,2,   152.82,3,    42.68,3,     3.03,6,  2.5212
  492SSY9310_1,  P02E,    64,  1,     14,     10,2,19931025,0055, 30.0000, 174.6767, 5380,   1748.4,   2.2569,  34.5592,2,  34.5260,4,   -999.0,9,     55.7,2,   164.51,3,    41.88,3,     2.98,3,  2.1377
  492SSY9310_1,  P02E,    64,  1,     15,      9,2,19931025,0055, 30.0000, 174.6767, 5380,   1999.3,   1.9900,  34.5980,3,  34.5785,3,   -999.0,9,     73.9,3,  -999.00,9,  -999.00,9,  -999.00,9,  1.8538
  492SSY9310_1,  P02E,    64,  1,     16,      8,2,19931025,0055, 30.0000, 174.6767, 5380,   2250.7,   1.8001,  34.6250,3,  34.6089,3,   -999.0,9,     87.4,3,  -999.00,9,  -999.00,9,  -999.00,9,  1.6455
  492SSY9310_1,  P02E,    64,  1,     17,      7,2,19931025,0055, 30.0000, 174.6767, 5380,   2500.6,   1.6832,  34.6420,2,  34.6376,2,   -999.0,9,    104.8,2,   166.43,3,    41.21,3,     2.74,3,  1.5088
  492SSY9310_1,  P02E,    64,  1,     18,      6,2,19931025,0055, 30.0000, 174.6767, 5380,   2999.4,   1.5382,  34.6653,2,  34.6580,4,   -999.0,9,    128.7,2,   165.47,3,    39.86,3,     2.61,3,  1.3207
  492SSY9310_1,  P02E,    64,  1,     19,      5,2,19931025,0055, 30.0000, 174.6767, 5380,   3498.7,   1.4693,  34.6774,2,  34.6769,2,   -999.0,9,    142.6,2,   161.57,3,    37.92,3,     2.53,3,  1.2042
  492SSY9310_1,  P02E,    64,  1,     20,      4,2,19931025,0055, 30.0000, 174.6767, 5380,   3999.9,   1.4494,  34.6856,2,  34.6844,2,   -999.0,9,    152.2,2,   154.77,3,    36.40,3,     2.49,3,  1.1320
  492SSY9310_1,  P02E,    64,  1,     21,      3,2,19931025,0055, 30.0000, 174.6767, 5380,   4499.0,   1.4504,  34.6905,2,  34.6867,2,   -999.0,9,    162.6,2,   149.90,3,    36.67,3,     2.44,3,  1.0772
  492SSY9310_1,  P02E,    64,  1,     23,      1,2,19931025,0055, 30.0000, 174.6767, 5380,   4998.5,   1.4613,  34.6954,2,  34.6963,2,   -999.0,9,    168.7,2,   143.10,3,    35.90,3,     2.39,3,  1.0288
  492SSY9310_1,  P02E,    64,  1,     22,      2,2,19931025,0055, 30.0000, 174.6767, 5380,   5002.4,   1.4623,  34.6940,2,  34.6956,2,   -999.0,9,    169.1,2,   143.10,3,    35.77,3,     2.39,6,  1.0293
  492SSY9310_1,  P02E,    65,  1,      1,     23,2,19931025,0618, 30.0000, 175.2483, 5193,    100.1,  17.7322,  34.7994,2,  34.7990,2,   -999.0,9,    237.5,2,     2.92,3,     0.23,3,     0.09,3, 17.7153
  492SSY9310_1,  P02E,    65,  1,      2,     22,2,19931025,0618, 30.0000, 175.2483, 5193,    201.7,  16.3733,  34.7421,2,  34.7412,2,   -999.0,9,    223.1,2,     4.87,3,     3.78,3,     0.27,3, 16.3409
  492SSY9310_1,  P02E,    65,  1,      3,     21,2,19931025,0618, 30.0000, 175.2483, 5193,    302.3,  14.6744,  34.5770,2,  34.5753,2,   -999.0,9,    217.9,2,     9.74,3,     7.75,3,     0.56,3, 14.6294
  492SSY9310_1,  P02E,    65,  1,      4,     20,2,19931025,0618, 30.0000, 175.2483, 5193,    399.9,  12.5720,  34.4155,2,  34.4178,2,   -999.0,9,    212.2,2,    14.61,3,    11.06,3,     0.78,3, 12.5182
  492SSY9310_1,  P02E,    65,  1,      5,     19,2,19931025,0618, 30.0000, 175.2483, 5193,    498.6,  10.5166,  34.2557,2,  34.2603,2,   -999.0,9,    204.3,2,    23.38,3,    16.05,3,     1.10,3, 10.4567
  492SSY9310_1,  P02E,    65,  1,      7,     17,2,19931025,0618, 30.0000, 175.2483, 5193,    697.7,   6.2830,  34.0175,2,  34.0198,2,   -999.0,9,    147.6,2,    58.43,3,    30.58,3,     2.11,3,  6.2202
  492SSY9310_1,  P02E,    65,  1,      8,     16,2,19931025,0618, 30.0000, 175.2483, 5193,    799.8,   4.9832,  34.0693,2,  34.0686,2,   -999.0,9,     92.7,2,    81.81,3,    35.37,3,     2.59,3,  4.9185
  492SSY9310_1,  P02E,    65,  1,      9,     15,2,19931025,0618, 30.0000, 175.2483, 5193,    898.2,   4.2881,  34.1739,2,  34.1713,2,   -999.0,9,     55.3,2,   102.25,3,    39.81,3,     2.82,3,  4.2193
  492SSY9310_1,  P02E,    65,  1,     10,     14,2,19931025,0618, 30.0000, 175.2483, 5193,   1002.1,   3.8445,  34.2569,2,  34.2566,2,   -999.0,9,     40.0,2,   116.84,3,    41.76,3,     2.99,3,  3.7703
  492SSY9310_1,  P02E,    65,  1,     11,     13,2,19931025,0618, 30.0000, 175.2483, 5193,   1249.3,   3.0723,  34.4236,2,  34.4218,2,   -999.0,9,     33.1,2,   137.26,3,    42.55,3,     3.03,3,  2.9845
  492SSY9310_1,  P02E,    65,  1,     12,     12,2,19931025,0618, 30.0000, 175.2483, 5193,   1499.3,   2.6199,  34.5128,2,  34.5127,2,   -999.0,9,     45.7,2,   152.82,3,    41.97,3,     3.02,6,  2.5166
  492SSY9310_1,  P02E,    65,  1,     13,     11,2,19931025,0618, 30.0000, 175.2483, 5193,   1750.1,   2.2594,  34.5628,2,  34.5535,4,   -999.0,9,     58.7,2,   155.74,3,    41.73,3,     2.91,3,  2.1401
  492SSY9310_1,  P02E,    65,  1,     14,     10,2,19931025,0618, 30.0000, 175.2483, 5193,   2001.4,   1.9913,  34.5984,2,  34.5989,2,   -999.0,9,     75.7,2,   166.44,3,    41.73,3,     2.88,3,  1.8549
  492SSY9310_1,  P02E,    65,  1,     15,      9,2,19931025,0618, 30.0000, 175.2483, 5193,   2249.0,   1.8079,  34.6227,3,  34.6062,3,   -999.0,9,     88.7,3,  -999.00,9,  -999.00,9,  -999.00,9,  1.6533
  492SSY9310_1,  P02E,    65,  1,     16,      8,2,19931025,0618, 30.0000, 175.2483, 5193,   2501.5,   1.6874,  34.6402,2,  34.6282,4,   -999.0,9,     97.4,3,   164.49,3,    40.68,3,     2.73,3,  1.5128
  492SSY9310_1,  P02E,    65,  1,     17,      7,2,19931025,0618, 30.0000, 175.2483, 5193,   3000.9,   1.5369,  34.6659,3,  34.6140,3,   -999.0,9,    108.3,3,  -999.00,9,  -999.00,9,  -999.00,9,  1.3193
  492SSY9310_1,  P02E,    65,  1,     18,      6,2,19931025,0618, 30.0000, 175.2483, 5193,   3500.2,   1.4686,  34.6786,2,  34.6773,2,   -999.0,9,    142.2,2,   159.62,3,    39.90,3,     2.55,3,  1.2034
  492SSY9310_1,  P02E,    65,  1,     19,      5,2,19931025,0618, 30.0000, 175.2483, 5193,   4000.5,   1.4512,  34.6862,2,  34.6855,2,   -999.0,9,    152.2,2,   156.72,3,    38.86,3,     2.48,3,  1.1337
  492SSY9310_1,  P02E,    65,  1,     20,      4,2,19931025,0618, 30.0000, 175.2483, 5193,   4500.7,   1.4501,  34.6907,2,  34.6922,2,   -999.0,9,    161.7,2,   152.82,3,    35.40,3,     2.46,3,  1.0767
  492SSY9310_1,  P02E,    65,  1,     21,      3,2,19931025,0618, 30.0000, 175.2483, 5193,   5001.8,   1.4575,  34.6955,2,  34.6958,2,   -999.0,9,    170.9,2,   147.00,3,    36.14,3,     2.42,6,  1.0247
  492SSY9310_1,  P02E,    65,  1,     22,      2,2,19931025,0618, 30.0000, 175.2483, 5193,   5001.8,   1.4575,  34.6955,2,  34.6965,2,   -999.0,9,    171.3,2,   148.94,3,    35.52,3,     2.42,3,  1.0247
  492SSY9310_1,  P02E,    65,  1,     23,      1,2,19931025,0618, 30.0000, 175.2483, 5193,   5001.8,   1.4575,  34.6955,2,  34.6950,2,   -999.0,9,    168.7,2,   143.10,3,    35.78,3,     2.37,3,  1.0247
  492SSY9310_1,  P02E,    66,  1,      1,     23,2,19931025,1142, 30.0017, 175.8383, 5224,     49.8,  21.2623,  34.8482,2,  34.8438,2,   -999.0,9,    236.7,2,     0.00,3,     0.00,3,     0.03,3, 21.2527
  492SSY9310_1,  P02E,    66,  1,      2,     22,2,19931025,1142, 30.0017, 175.8383, 5224,     98.8,  17.7780,  34.8185,2,  34.8139,2,   -999.0,9,    216.6,2,     0.97,3,     2.55,3,     0.21,3, 17.7613
  492SSY9310_1,  P02E,    66,  1,      3,     21,2,19931025,1142, 30.0017, 175.8383, 5224,    201.3,  16.7086,  34.7646,2,  34.7596,2,   -999.0,9,    217.1,2,     1.95,3,     4.92,3,     0.35,3, 16.6759
  492SSY9310_1,  P02E,    66,  1,      4,     20,2,19931025,1142, 30.0017, 175.8383, 5224,    298.6,  15.3043,  34.6401,2,  34.6388,2,   -999.0,9,    208.3,2,     4.87,3,     7.82,3,     0.54,3, 15.2585
  492SSY9310_1,  P02E,    66,  1,      5,     19,2,19931025,1142, 30.0017, 175.8383, 5224,    400.6,  13.0957,  34.4616,2,  34.4640,2,   -999.0,9,    210.5,2,    11.69,3,    11.02,3,     0.77,3, 13.0403
  492SSY9310_1,  P02E,    66,  1,      6,     18,2,19931025,1142, 30.0017, 175.8383, 5224,    500.0,  11.0300,  34.2877,2,  34.2866,2,   -999.0,9,    210.5,2,    14.61,3,    14.71,3,     1.03,3, 10.9680
  492SSY9310_1,  P02E,    66,  1,      7,     17,2,19931025,1142, 30.0017, 175.8383, 5224,    597.1,   8.7245,  34.1347,2,  34.1317,2,   -999.0,9,    189.0,2,    30.19,3,    21.84,3,     1.47,3,  8.6603
  492SSY9310_1,  P02E,    66,  1,      8,     16,2,19931025,1142, 30.0017, 175.8383, 5224,    699.6,   6.4191,  34.0283,2,  34.0290,2,   -999.0,9,    148.9,2,    51.62,3,    28.48,3,     2.03,3,  6.3554
  492SSY9310_1,  P02E,    66,  1,      9,     15,2,19931025,1142, 30.0017, 175.8383, 5224,    798.9,   5.0610,  34.0483,2,  34.0572,2,   -999.0,9,    108.4,2,    73.04,3,    34.30,3,     2.43,3,  4.9959
  492SSY9310_1,  P02E,    66,  1,     10,     14,2,19931025,1142, 30.0017, 175.8383, 5224,    900.4,   4.4334,  34.1435,2,  34.1515,2,   -999.0,9,     67.0,2,    93.49,3,    39.08,3,     2.77,3,  4.3636
  492SSY9310_1,  P02E,    66,  1,     11,     13,2,19931025,1142, 30.0017, 175.8383, 5224,    999.2,   3.9398,  34.2352,2,  34.2368,2,   -999.0,9,     41.8,2,   111.97,3,  -999.00,9,     2.95,3,  3.8651
  492SSY9310_1,  P02E,    66,  1,     12,     12,2,19931025,1142, 30.0017, 175.8383, 5224,   1249.8,   3.1962,  34.3983,2,  34.3972,2,   -999.0,9,     29.1,2,   137.26,3,    42.80,3,     3.11,3,  3.1073
  492SSY9310_1,  P02E,    66,  1,     13,     11,2,19931025,1142, 30.0017, 175.8383, 5224,   1499.3,   2.6476,  34.5005,2,  34.4921,2,   -999.0,9,     40.9,2,   143.09,3,    41.67,3,     2.96,4,  2.5440
  492SSY9310_1,  P02E,    66,  1,     14,     10,2,19931025,1142, 30.0017, 175.8383, 5224,   1750.0,   2.2679,  34.5602,2,  34.5596,2,   -999.0,9,     56.1,2,   162.56,3,    41.67,3,     3.03,3,  2.1485
  492SSY9310_1,  P02E,    66,  1,     15,      9,2,19931025,1142, 30.0017, 175.8383, 5224,   1998.1,   1.9680,  34.6012,3,  34.5335,3,   -999.0,9,     70.9,3,  -999.00,9,  -999.00,9,  -999.00,9,  1.8323
  492SSY9310_1,  P02E,    66,  1,     16,      8,2,19931025,1142, 30.0017, 175.8383, 5224,   2250.1,   1.8071,  34.6240,2,  34.6234,2,   -999.0,9,     91.8,2,   171.30,3,    41.90,3,     2.89,3,  1.6524
  492SSY9310_1,  P02E,    66,  1,     17,      7,2,19931025,1142, 30.0017, 175.8383, 5224,   2500.9,   1.6722,  34.6425,2,  34.6415,2,   -999.0,9,    105.2,2,   163.51,3,    41.44,3,     2.84,3,  1.4979
  492SSY9310_1,  P02E,    66,  1,     18,      6,2,19931025,1142, 30.0017, 175.8383, 5224,   2998.6,   1.5372,  34.6668,2,  34.6627,2,   -999.0,9,    127.0,2,   158.65,3,    40.12,3,     2.68,3,  1.3198
  492SSY9310_1,  P02E,    66,  1,     19,      5,2,19931025,1142, 30.0017, 175.8383, 5224,   3500.5,   1.4773,  34.6755,2,  34.6761,2,   -999.0,9,    140.4,2,   157.68,3,    39.02,3,     2.55,3,  1.2118
  492SSY9310_1,  P02E,    66,  1,     20,      4,2,19931025,1142, 30.0017, 175.8383, 5224,   3999.9,   1.4574,  34.6832,2,  34.6832,2,   -999.0,9,    150.4,2,   155.74,3,    36.49,3,     2.50,3,  1.1398
  492SSY9310_1,  P02E,    66,  1,     21,      3,2,19931025,1142, 30.0017, 175.8383, 5224,   4500.0,   1.4464,  34.6906,2,  34.6879,2,   -999.0,9,    160.9,2,   149.90,3,    36.46,3,     2.44,3,  1.0732
  492SSY9310_1,  P02E,    66,  1,     23,      1,2,19931025,1142, 30.0017, 175.8383, 5224,   5001.1,   1.4603,  34.6954,2,  34.6922,2,   -999.0,9,    167.8,2,   138.24,3,    35.67,3,     2.39,3,  1.0275
  492SSY9310_1,  P02E,    66,  1,     22,      2,2,19931025,1142, 30.0017, 175.8383, 5224,   5005.0,   1.4603,  34.6939,2,  34.6910,2,   -999.0,9,    168.7,2,   142.13,3,    35.99,3,     2.40,6,  1.0271