BOTTLE,20040202WHPSIOSA
EXPOCODE,SECT_ID,STNNBR,CASTNO,SAMPNO,BTLNBR,BTLNBR_FLAG_W,DATE,TIME,LATITUDE,LONGITUDE,DEPTH,CTDPRS,CTDTMP,CTDSAL,CTDSAL_FLAG_W,SALNTY,SALNTY_FLAG_W,CTDOXY,CTDOXY_FLAG_W,OXYGEN,OXYGEN_FLAG_W,SILCAT,SILCAT_FLAG_W,NO2+NO3,NO2+NO3_FLAG_W,PHSPHT,PHSPHT_FLAG_W,THETA
,,,,,,,,,,,,DBAR,ITS-90,PSS-78,,PSS-78,,UMOL/KG,,UMOL/KG,,UMOL/KG,,UMOL/KG,,UMOL/KG,,DEG C
  492SSY9310_1,  P02E,    83,  1,      1,     23,2,19931029,0013, 30.0000,-174.2467, 5209,     49.6,  22.6775,  35.1947,2,  35.1851,2,   -999.0,9,    221.5,2,     1.95,3,     0.00,3,     0.02,3, 22.6674
  492SSY9310_1,  P02E,    83,  1,      2,     22,2,19931029,0013, 30.0000,-174.2467, 5209,     99.5,  17.1106,  34.7884,2,  34.7801,2,   -999.0,9,    224.0,2,     2.92,3,     1.53,3,     0.18,3, 17.0942
  492SSY9310_1,  P02E,    83,  1,      3,     21,2,19931029,0013, 30.0000,-174.2467, 5209,    201.3,  15.5769,  34.6573,2,  34.6535,2,   -999.0,9,    215.3,2,     5.84,3,     5.39,3,     0.44,3, 15.5457
  492SSY9310_1,  P02E,    83,  1,      4,     20,2,19931029,0013, 30.0000,-174.2467, 5209,    298.2,  13.6143,  34.4900,2,  34.4901,2,   -999.0,9,    217.0,2,     8.77,3,     7.89,3,     0.64,3, 13.5722
  492SSY9310_1,  P02E,    83,  1,      5,     19,2,19931029,0013, 30.0000,-174.2467, 5209,    398.8,  11.3620,  34.3109,2,  34.3044,2,   -999.0,9,    217.0,2,    14.61,3,    11.83,3,     0.87,3, 11.3118
  492SSY9310_1,  P02E,    83,  1,      6,     18,2,19931029,0013, 30.0000,-174.2467, 5209,    498.5,   9.5180,  34.1808,2,  34.1740,2,   -999.0,9,    197.3,2,    25.33,3,    17.56,3,     1.27,3,  9.4618
  492SSY9310_1,  P02E,    83,  1,      7,     17,2,19931029,0013, 30.0000,-174.2467, 5209,    599.7,   7.0056,  34.0402,2,  34.0401,2,   -999.0,9,    162.0,2,    44.80,3,    24.86,3,     1.86,3,  6.9488
  492SSY9310_1,  P02E,    83,  1,      8,     16,2,19931029,0013, 30.0000,-174.2467, 5209,    700.6,   5.5392,  34.0291,2,  34.0323,2,   -999.0,9,    117.5,2,    66.22,3,    31.80,3,     2.34,3,  5.4801
  492SSY9310_1,  P02E,    83,  1,      9,     15,2,19931029,0013, 30.0000,-174.2467, 5209,    799.4,   4.6698,  34.1097,2,  34.0927,4,   -999.0,9,     86.6,2,    80.83,3,    35.86,3,     2.57,3,  4.6069
  492SSY9310_1,  P02E,    83,  1,     10,     14,2,19931029,0013, 30.0000,-174.2467, 5209,    899.5,   4.1433,  34.1887,2,  34.1866,2,   -999.0,9,     48.3,2,   102.24,3,    40.68,3,     2.92,3,  4.0754
  492SSY9310_1,  P02E,    83,  1,     11,     13,2,19931029,0013, 30.0000,-174.2467, 5209,    998.9,   3.6551,  34.2920,2,  34.2923,2,   -999.0,9,     32.6,2,   118.78,3,    41.92,3,     3.05,3,  3.5826
  492SSY9310_1,  P02E,    83,  1,     12,     12,2,19931029,0013, 30.0000,-174.2467, 5209,   1248.5,   3.1567,  34.4233,2,  34.4186,2,   -999.0,9,     27.8,2,   135.31,3,    42.80,3,     3.11,6,  3.0682
  492SSY9310_1,  P02E,    83,  1,     13,     11,2,19931029,0013, 30.0000,-174.2467, 5209,   1499.1,   2.7178,  34.5168,2,  34.5109,2,   -999.0,9,     43.5,2,   143.09,3,    43.29,3,     3.07,3,  2.6134
  492SSY9310_1,  P02E,    83,  1,     14,     10,2,19931029,0013, 30.0000,-174.2467, 5209,   1749.4,   2.2837,  34.5693,2,  34.5688,2,   -999.0,9,     63.9,3,   150.88,3,    40.28,3,     2.96,3,  2.1641
  492SSY9310_1,  P02E,    83,  1,     15,      9,2,19931029,0013, 30.0000,-174.2467, 5209,   2000.3,   2.0176,  34.5986,2,  34.5930,2,   -999.0,9,     76.5,2,   156.71,3,    39.61,3,     2.92,3,  1.8809
  492SSY9310_1,  P02E,    83,  1,     16,      8,2,19931029,0013, 30.0000,-174.2467, 5209,   2249.2,   1.8458,  34.6197,2,  34.6201,2,   -999.0,9,     87.0,3,   159.62,3,    40.29,3,     2.85,3,  1.6906
  492SSY9310_1,  P02E,    83,  1,     17,      7,2,19931029,0013, 30.0000,-174.2467, 5209,   2499.2,   1.6964,  34.6395,2,  34.6319,4,   -999.0,9,    100.0,2,   156.70,3,    41.11,3,     2.77,3,  1.5218
  492SSY9310_1,  P02E,    83,  1,     18,      6,2,19931029,0013, 30.0000,-174.2467, 5209,   2999.7,   1.5449,  34.6619,2,  34.6567,2,   -999.0,9,    125.2,2,   155.74,3,  -999.00,9,     2.66,3,  1.3272
  492SSY9310_1,  P02E,    83,  1,     19,      5,2,19931029,0013, 30.0000,-174.2467, 5209,   3500.0,   1.4696,  34.6755,2,  34.6614,4,   -999.0,9,    140.0,2,   155.73,3,    37.79,3,     2.64,3,  1.2044
  492SSY9310_1,  P02E,    83,  1,     20,      4,2,19931029,0013, 30.0000,-174.2467, 5209,   3999.0,   1.4580,  34.6821,2,  34.6828,2,   -999.0,9,    149.1,2,   150.88,3,    36.03,3,     2.49,3,  1.1405
  492SSY9310_1,  P02E,    83,  1,     21,      3,2,19931029,0013, 30.0000,-174.2467, 5209,   4500.1,   1.4821,  34.6862,2,  34.6775,4,   -999.0,9,    153.9,2,   149.91,3,    36.46,3,     2.49,6,  1.1079
  492SSY9310_1,  P02E,    83,  1,     23,      1,2,19931029,0013, 30.0000,-174.2467, 5209,   5000.4,   1.5054,  34.6888,2,  34.6889,2,   -999.0,9,    160.0,2,   144.08,3,    35.57,3,     2.43,3,  1.0712
  492SSY9310_1,  P02E,    83,  1,     22,      2,2,19931029,0013, 30.0000,-174.2467, 5209,   5003.3,   1.5055,  34.6876,2,  34.6881,2,   -999.0,9,    160.4,2,   143.10,3,    35.38,3,     2.43,3,  1.0710
  492SSY9310_1,  P02E,    84,  1,      1,     23,2,19931029,0500, 29.9967,-173.6650, 5116,     50.1,  22.7152,  35.2208,2,  35.2197,2,   -999.0,9,    219.8,2,     1.95,3,     0.00,3,     0.02,3, 22.7051
  492SSY9310_1,  P02E,    84,  1,      2,     22,2,19931029,0500, 29.9967,-173.6650, 5116,    100.3,  17.9437,  34.8761,2,  34.8721,2,   -999.0,9,    217.5,2,     2.92,3,     0.70,3,     0.15,3, 17.9266
  492SSY9310_1,  P02E,    84,  1,      3,     21,2,19931029,0500, 29.9967,-173.6650, 5116,    199.2,  16.1124,  34.7242,2,  34.7152,2,   -999.0,9,    214.8,2,     4.87,3,     4.57,3,     0.37,3, 16.0809
  492SSY9310_1,  P02E,    84,  1,      4,     20,2,19931029,0500, 29.9967,-173.6650, 5116,    301.1,  14.0261,  34.5264,2,  34.5235,2,   -999.0,9,    210.9,2,     8.77,3,     8.17,3,     0.62,3, 13.9827
  492SSY9310_1,  P02E,    84,  1,      5,     19,2,19931029,0500, 29.9967,-173.6650, 5116,    401.9,  11.9566,  34.3553,2,  34.3605,2,   -999.0,9,    212.2,2,    14.61,3,    10.89,3,     0.86,3, 11.9044
  492SSY9310_1,  P02E,    84,  1,      6,     18,2,19931029,0500, 29.9967,-173.6650, 5116,    499.6,   9.7858,  34.1944,2,  34.1962,2,   -999.0,9,    196.0,2,    25.33,3,    17.56,3,     1.29,3,  9.7284
  492SSY9310_1,  P02E,    84,  1,      7,     17,2,19931029,0500, 29.9967,-173.6650, 5116,    601.5,   7.3600,  34.0466,2,  34.0509,2,   -999.0,9,    169.0,2,    43.83,3,    24.83,3,     1.82,3,  7.3015
  492SSY9310_1,  P02E,    84,  1,      8,     16,2,19931029,0500, 29.9967,-173.6650, 5116,    699.5,   5.5706,  34.0217,2,  34.0251,2,   -999.0,9,    124.5,2,    66.22,3,    30.95,3,     2.30,3,  5.5114
  492SSY9310_1,  P02E,    84,  1,      9,     15,2,19931029,0500, 29.9967,-173.6650, 5116,    798.9,   4.6913,  34.1036,2,  34.1021,2,   -999.0,9,     76.6,3,    85.70,3,    36.39,3,     2.67,3,  4.6284
  492SSY9310_1,  P02E,    84,  1,     10,     14,2,19931029,0500, 29.9967,-173.6650, 5116,    899.5,   4.0835,  34.2028,2,  34.2028,2,   -999.0,9,     46.1,2,   103.22,3,    40.16,3,     2.94,3,  4.0160
  492SSY9310_1,  P02E,    84,  1,     11,     13,2,19931029,0500, 29.9967,-173.6650, 5116,    999.8,   3.7114,  34.2764,2,  34.2760,2,   -999.0,9,     34.4,3,   114.89,3,    41.65,3,     3.03,6,  3.6384
  492SSY9310_1,  P02E,    84,  1,     12,     12,2,19931029,0500, 29.9967,-173.6650, 5116,   1249.9,   3.0800,  34.4408,2,  34.4394,2,   -999.0,9,     30.0,2,   133.36,3,    41.40,3,     3.12,3,  2.9920
  492SSY9310_1,  P02E,    84,  1,     13,     11,2,19931029,0500, 29.9967,-173.6650, 5116,   1499.6,   2.6224,  34.5214,2,  34.5213,2,   -999.0,9,     46.5,3,   142.11,3,    41.54,3,     3.04,3,  2.5190
  492SSY9310_1,  P02E,    84,  1,     14,     10,2,19931029,0500, 29.9967,-173.6650, 5116,   1750.5,   2.2419,  34.5757,2,  34.5757,2,   -999.0,9,     67.8,4,   149.90,3,    41.71,3,     2.93,3,  2.1227
  492SSY9310_1,  P02E,    84,  1,     15,      9,2,19931029,0500, 29.9967,-173.6650, 5116,   1999.8,   1.9683,  34.6043,2,  34.6044,2,   -999.0,9,     78.3,2,   155.73,3,    39.57,3,     2.90,3,  1.8324
  492SSY9310_1,  P02E,    84,  1,     16,      8,2,19931029,0500, 29.9967,-173.6650, 5116,   2249.9,   1.8413,  34.6212,2,  34.6215,2,   -999.0,9,     88.3,2,   157.68,3,    40.02,3,     2.86,3,  1.6861
  492SSY9310_1,  P02E,    84,  1,     17,      7,2,19931029,0500, 29.9967,-173.6650, 5116,   2500.8,   1.7217,  34.6381,3,  34.5849,3,   -999.0,9,     84.4,3,  -999.00,9,    36.57,3,  -999.00,9,  1.5465
  492SSY9310_1,  P02E,    84,  1,     18,      6,2,19931029,0500, 29.9967,-173.6650, 5116,   3000.0,   1.5533,  34.6614,2,  34.6614,2,   -999.0,9,    126.1,2,   153.79,3,    37.92,3,     2.67,3,  1.3354
  492SSY9310_1,  P02E,    84,  1,     19,      5,2,19931029,0500, 29.9967,-173.6650, 5116,   3499.9,   1.4774,  34.6752,2,  34.6759,2,   -999.0,9,    139.6,2,   151.84,3,    37.12,3,     2.60,3,  1.2120
  492SSY9310_1,  P02E,    84,  1,     20,      4,2,19931029,0500, 29.9967,-173.6650, 5116,   3998.5,   1.4649,  34.6823,2,  34.6822,2,   -999.0,9,    147.8,3,   149.90,3,    36.06,3,     2.57,3,  1.1474
  492SSY9310_1,  P02E,    84,  1,     21,      3,2,19931029,0500, 29.9967,-173.6650, 5116,   4500.3,   1.4855,  34.6861,2,  34.6850,2,   -999.0,9,    153.5,2,   149.91,3,    36.06,3,     2.51,3,  1.1112
  492SSY9310_1,  P02E,    84,  1,     23,      1,2,19931029,0500, 29.9967,-173.6650, 5116,   5000.0,   1.5114,  34.6883,2,  34.6893,2,   -999.0,9,    159.1,2,   140.18,3,    36.06,3,     2.46,3,  1.0771
  492SSY9310_1,  P02E,    84,  1,     22,      2,2,19931029,0500, 29.9967,-173.6650, 5116,   5004.3,   1.5114,  34.6873,2,  34.6887,2,   -999.0,9,    158.7,2,   145.05,3,    35.91,3,     2.46,6,  1.0766
  492SSY9310_1,  P02E,    85,  1,      1,     23,2,19931029,0946, 30.0067,-173.0850, 5384,     50.2,  22.8556,  35.1823,2,  35.1756,2,   -999.0,9,    217.2,2,     0.97,3,     0.00,3,     0.03,3, 22.8454
  492SSY9310_1,  P02E,    85,  1,      2,     22,2,19931029,0946, 30.0067,-173.0850, 5384,     99.6,  17.4647,  34.7936,2,  34.7817,2,   -999.0,9,    229.2,4,     1.95,3,     0.58,3,     0.13,3, 17.4480
  492SSY9310_1,  P02E,    85,  1,      3,     21,2,19931029,0946, 30.0067,-173.0850, 5384,    199.2,  15.8308,  34.6691,2,  34.6771,2,   -999.0,9,    207.4,2,     5.84,3,     6.53,3,     0.48,3, 15.7996
  492SSY9310_1,  P02E,    85,  1,      4,     20,2,19931029,0946, 30.0067,-173.0850, 5384,    298.6,  13.2382,  34.4619,2,  34.4532,2,   -999.0,9,    217.8,2,    10.72,3,     9.22,3,     0.73,3, 13.1968
  492SSY9310_1,  P02E,    85,  1,      5,     19,2,19931029,0946, 30.0067,-173.0850, 5384,    399.0,  11.2932,  34.3082,2,  34.3036,2,   -999.0,9,    217.4,2,    15.59,3,    12.45,3,     0.94,3, 11.2432
  492SSY9310_1,  P02E,    85,  1,      6,     18,2,19931029,0946, 30.0067,-173.0850, 5384,    500.0,   9.0290,  34.1495,2,  34.1419,2,   -999.0,9,    188.6,2,    28.25,3,    19.19,3,     1.36,3,  8.9744
  492SSY9310_1,  P02E,    85,  1,      7,     17,2,19931029,0946, 30.0067,-173.0850, 5384,    599.8,   6.8260,  34.0362,2,  34.0147,4,   -999.0,9,    155.0,2,    47.72,3,    26.55,3,     1.90,3,  6.7700
  492SSY9310_1,  P02E,    85,  1,      8,     16,2,19931029,0946, 30.0067,-173.0850, 5384,    701.0,   5.2080,  34.0375,2,  34.0374,2,   -999.0,9,    106.6,2,    72.06,3,    33.93,3,     2.43,3,  5.1507
  492SSY9310_1,  P02E,    85,  1,      9,     15,2,19931029,0946, 30.0067,-173.0850, 5384,    800.8,   4.3860,  34.1390,2,  34.1383,2,   -999.0,9,     64.0,2,    94.46,3,    38.74,3,     2.78,3,  4.3248
  492SSY9310_1,  P02E,    85,  1,     10,     14,2,19931029,0946, 30.0067,-173.0850, 5384,    901.7,   3.8654,  34.2481,2,  34.2472,2,   -999.0,9,     37.4,2,   111.97,3,    41.48,3,     3.00,6,  3.7992
  492SSY9310_1,  P02E,    85,  1,     11,     13,2,19931029,0946, 30.0067,-173.0850, 5384,    999.3,   3.5557,  34.3247,2,  34.3164,2,   -999.0,9,     30.0,2,   124.62,3,    42.94,3,     3.09,3,  3.4839
  492SSY9310_1,  P02E,    85,  1,     12,     12,2,19931029,0946, 30.0067,-173.0850, 5384,   1248.8,   3.0398,  34.4481,2,  34.4420,2,   -999.0,9,     31.8,2,   141.15,3,    42.26,3,     3.11,3,  2.9523
  492SSY9310_1,  P02E,    85,  1,     13,     11,2,19931029,0946, 30.0067,-173.0850, 5384,   1500.1,   2.5736,  34.5294,2,  34.5152,4,   -999.0,9,     48.3,2,   153.79,3,    41.98,3,     3.06,3,  2.4707
  492SSY9310_1,  P02E,    85,  1,     14,     10,2,19931029,0946, 30.0067,-173.0850, 5384,   1750.5,   2.2116,  34.5752,2,  34.5722,2,   -999.0,9,     63.5,2,   155.74,3,    40.92,3,     3.06,3,  2.0928
  492SSY9310_1,  P02E,    85,  1,     15,      9,2,19931029,0946, 30.0067,-173.0850, 5384,   1999.5,   1.9562,  34.6063,3,  34.5910,3,   -999.0,9,     79.1,3,  -999.00,9,    38.40,3,  -999.00,9,  1.8205
  492SSY9310_1,  P02E,    85,  1,     16,      8,2,19931029,0946, 30.0067,-173.0850, 5384,   2249.5,   1.8003,  34.6270,2,  34.6136,4,   -999.0,9,     92.6,2,   152.81,3,    39.53,3,     2.74,3,  1.6458
  492SSY9310_1,  P02E,    85,  1,     17,      7,2,19931029,0946, 30.0067,-173.0850, 5384,   2497.6,   1.6878,  34.6426,3,  34.6115,3,   -999.0,9,     99.1,2,  -999.00,9,    39.28,3,  -999.00,9,  1.5135
  492SSY9310_1,  P02E,    85,  1,     18,      6,2,19931029,0946, 30.0067,-173.0850, 5384,   2999.9,   1.5541,  34.6619,2,  34.6512,4,   -999.0,9,    126.1,2,   151.84,3,    38.14,3,     2.60,3,  1.3362
  492SSY9310_1,  P02E,    85,  1,     19,      5,2,19931029,0946, 30.0067,-173.0850, 5384,   3500.4,   1.4866,  34.6745,2,  34.6677,4,   -999.0,9,    139.6,2,   148.92,3,    37.37,3,     2.52,3,  1.2209
  492SSY9310_1,  P02E,    85,  1,     20,      4,2,19931029,0946, 30.0067,-173.0850, 5384,   3999.2,   1.4686,  34.6816,2,  34.6781,2,   -999.0,9,    148.7,2,   146.99,3,    36.53,3,     2.48,6,  1.1509
  492SSY9310_1,  P02E,    85,  1,     21,      3,2,19931029,0946, 30.0067,-173.0850, 5384,   4499.2,   1.4811,  34.6860,2,  34.6794,4,   -999.0,9,    153.9,2,   145.04,3,    35.97,3,     2.45,3,  1.1071
  492SSY9310_1,  P02E,    85,  1,     23,      1,2,19931029,0946, 30.0067,-173.0850, 5384,   5000.4,   1.5018,  34.6893,2,  34.6881,2,   -999.0,9,    161.3,2,   140.18,3,    35.88,3,     2.42,3,  1.0678
  492SSY9310_1,  P02E,    85,  1,     22,      2,2,19931029,0946, 30.0067,-173.0850, 5384,   5004.2,   1.5018,  34.6882,2,  34.6857,2,   -999.0,9,    161.3,2,   140.18,3,    36.28,3,     2.41,3,  1.0673
  492SSY9310_1,  P02E,    86,  1,      1,     23,2,19931029,1440, 29.9983,-172.4983, 4245,     49.0,  21.6735,  34.7681,2,  34.7557,2,   -999.0,9,    221.1,2,     1.95,3,     0.20,3,     0.04,3, 21.6639
  492SSY9310_1,  P02E,    86,  1,      2,     22,2,19931029,1440, 29.9983,-172.4983, 4245,     99.8,  17.0236,  34.7433,2,  34.7349,2,   -999.0,9,    200.5,2,     6.82,3,     5.01,3,     0.39,3, 17.0072
  492SSY9310_1,  P02E,    86,  1,      3,     21,2,19931029,1440, 29.9983,-172.4983, 4245,    199.8,  14.3621,  34.5634,2,  34.5523,2,   -999.0,9,    222.6,2,     8.77,3,     6.07,3,     0.51,3, 14.3328
  492SSY9310_1,  P02E,    86,  1,      4,     20,2,19931029,1440, 29.9983,-172.4983, 4245,    299.0,  12.0421,  34.3740,2,  34.3633,2,   -999.0,9,    219.1,2,    14.61,3,    10.38,3,     0.83,3, 12.0032
  492SSY9310_1,  P02E,    86,  1,      5,     19,2,19931029,1440, 29.9983,-172.4983, 4245,    400.4,  10.1268,  34.2204,2,  34.2240,2,   -999.0,9,    200.4,2,    25.33,3,    15.40,3,     1.15,3, 10.0800
  492SSY9310_1,  P02E,    86,  1,      6,     18,2,19931029,1440, 29.9983,-172.4983, 4245,    499.2,   8.1007,  34.1046,2,  34.0917,2,   -999.0,9,    180.3,2,    34.09,3,    21.10,3,     1.58,3,  8.0496
  492SSY9310_1,  P02E,    86,  1,      7,     17,2,19931029,1440, 29.9983,-172.4983, 4245,    600.4,   6.0759,  34.0174,2,  34.0166,2,   -999.0,9,    141.1,2,    54.54,3,    28.30,3,     2.13,3,  6.0233
  492SSY9310_1,  P02E,    86,  1,      8,     16,2,19931029,1440, 29.9983,-172.4983, 4245,    699.4,   4.9660,  34.0592,2,  34.0615,2,   -999.0,9,     97.1,2,    74.98,3,    34.98,3,     2.53,3,  4.9100
  492SSY9310_1,  P02E,    86,  1,      9,     15,2,19931029,1440, 29.9983,-172.4983, 4245,    799.9,   4.3001,  34.1547,2,  34.1546,2,   -999.0,9,     60.9,3,    93.48,3,    39.06,3,     2.81,3,  4.2394
  492SSY9310_1,  P02E,    86,  1,     10,     14,2,19931029,1440, 29.9983,-172.4983, 4245,    899.3,   3.8207,  34.2475,2,  34.2475,2,   -999.0,9,     41.3,2,   109.05,3,    41.16,3,     2.99,3,  3.7550
  492SSY9310_1,  P02E,    86,  1,     11,     13,2,19931029,1440, 29.9983,-172.4983, 4245,    999.0,   3.5346,  34.3172,2,  34.3176,2,   -999.0,9,     30.5,2,   118.78,3,    42.61,3,     3.09,3,  3.4629
  492SSY9310_1,  P02E,    86,  1,     12,     12,2,19931029,1440, 29.9983,-172.4983, 4245,   1250.1,   2.9314,  34.4606,2,  34.4620,2,   -999.0,9,     31.8,2,   136.28,3,    41.91,3,     3.09,3,  2.8448
  492SSY9310_1,  P02E,    86,  1,     13,     11,2,19931029,1440, 29.9983,-172.4983, 4245,   1499.9,   2.4735,  34.5375,2,  34.5364,2,   -999.0,9,     47.8,2,   144.05,3,    41.13,3,     2.99,6,  2.3718
  492SSY9310_1,  P02E,    86,  1,     14,     10,2,19931029,1440, 29.9983,-172.4983, 4245,   1750.3,   2.1760,  34.5804,2,  34.5830,2,   -999.0,9,     67.8,2,   151.85,3,    40.52,3,     2.92,3,  2.0577
  492SSY9310_1,  P02E,    86,  1,     15,      9,2,19931029,1440, 29.9983,-172.4983, 4245,   1999.8,   1.9424,  34.6087,2,  34.6097,2,   -999.0,9,     83.9,2,   155.73,3,    39.20,3,     2.84,3,  1.8069
  492SSY9310_1,  P02E,    86,  1,     16,      8,2,19931029,1440, 29.9983,-172.4983, 4245,   2250.0,   1.7661,  34.6304,2,  34.6307,2,   -999.0,9,     98.3,2,   157.67,3,    38.92,3,     2.78,3,  1.6121
  492SSY9310_1,  P02E,    86,  1,     17,      7,2,19931029,1440, 29.9983,-172.4983, 4245,   2501.2,   1.6819,  34.6423,3,  34.6211,3,   -999.0,9,     97.8,3,  -999.00,9,    37.34,3,  -999.00,9,  1.5074
  492SSY9310_1,  P02E,    86,  1,     19,      5,2,19931029,1440, 29.9983,-172.4983, 4245,   3001.0,   1.5488,  34.6618,2,  34.6625,2,   -999.0,9,    127.4,2,   153.79,3,    37.95,3,     2.63,3,  1.3309
  492SSY9310_1,  P02E,    86,  1,     18,      6,2,19931029,1440, 29.9983,-172.4983, 4245,   3004.6,   1.5488,  34.6607,2,  34.6633,2,   -999.0,9,    128.3,2,   153.79,3,    37.85,3,     2.62,3,  1.3306
  492SSY9310_1,  P02E,    86,  1,     21,      3,2,19931029,1440, 29.9983,-172.4983, 4245,   3500.4,   1.4930,  34.6732,2,  34.6745,2,   -999.0,9,    139.6,2,   148.92,3,    35.34,3,     2.58,6,  1.2272
  492SSY9310_1,  P02E,    86,  1,     20,      4,2,19931029,1440, 29.9983,-172.4983, 4245,   3503.1,   1.4930,  34.6718,2,  34.6743,2,   -999.0,9,    138.7,2,   149.89,3,    34.93,3,     2.57,4,  1.2269
  492SSY9310_1,  P02E,    86,  1,     23,      1,2,19931029,1440, 29.9983,-172.4983, 4245,   3999.5,   1.4649,  34.6811,2,  34.6828,2,   -999.0,9,    148.3,2,   147.96,3,    35.28,3,     2.55,3,  1.1473
  492SSY9310_1,  P02E,    86,  1,     22,      2,2,19931029,1440, 29.9983,-172.4983, 4245,   4003.4,   1.4647,  34.6799,2,  34.6846,2,   -999.0,9,    148.7,2,   147.96,3,    34.55,3,     2.53,4,  1.1466