BOTTLE,20040202WHPSIOSA
EXPOCODE,SECT_ID,STNNBR,CASTNO,SAMPNO,BTLNBR,BTLNBR_FLAG_W,DATE,TIME,LATITUDE,LONGITUDE,DEPTH,CTDPRS,CTDTMP,CTDSAL,CTDSAL_FLAG_W,SALNTY,SALNTY_FLAG_W,CTDOXY,CTDOXY_FLAG_W,OXYGEN,OXYGEN_FLAG_W,SILCAT,SILCAT_FLAG_W,NO2+NO3,NO2+NO3_FLAG_W,PHSPHT,PHSPHT_FLAG_W,THETA
,,,,,,,,,,,,DBAR,ITS-90,PSS-78,,PSS-78,,UMOL/KG,,UMOL/KG,,UMOL/KG,,UMOL/KG,,UMOL/KG,,DEG C
  492SSY9310_1,  P02E,    95,  1,      1,     23,2,19931031,1650, 30.0000,-165.5833, 5477,     50.9,  23.1861,  35.3807,2,  35.3825,2,   -999.0,9,    211.9,2,     1.95,3,     0.04,3,     0.03,3, 23.1757
  492SSY9310_1,  P02E,    95,  1,      2,     22,2,19931031,1650, 30.0000,-165.5833, 5477,     99.0,  17.9691,  34.9125,2,  34.9115,2,   -999.0,9,    220.1,2,     3.90,3,     0.95,3,     0.16,3, 17.9522
  492SSY9310_1,  P02E,    95,  1,      3,     21,2,19931031,1650, 30.0000,-165.5833, 5477,    200.7,  14.5614,  34.5661,2,  34.5755,2,   -999.0,9,    219.2,2,     7.79,3,     5.88,3,     0.47,3, 14.5318
  492SSY9310_1,  P02E,    95,  1,      4,     20,2,19931031,1650, 30.0000,-165.5833, 5477,    300.7,  12.1822,  34.3493,2,  34.3554,2,   -999.0,9,    214.3,2,    12.66,3,     9.92,3,     0.80,3, 12.1428
  492SSY9310_1,  P02E,    95,  1,      5,     19,2,19931031,1650, 30.0000,-165.5833, 5477,    400.1,  10.3705,  34.2105,2,  34.2142,2,   -999.0,9,    204.3,2,    20.46,3,    15.09,3,     1.12,3, 10.3231
  492SSY9310_1,  P02E,    95,  1,      6,     18,2,19931031,1650, 30.0000,-165.5833, 5477,    499.9,   8.3214,  34.0820,2,  34.0880,2,   -999.0,9,    174.2,2,    31.17,3,    21.68,3,     1.63,3,  8.2695
  492SSY9310_1,  P02E,    95,  1,      7,     17,2,19931031,1650, 30.0000,-165.5833, 5477,    601.0,   6.4436,  34.0319,2,  34.0370,2,   -999.0,9,    124.5,2,    52.59,3,    28.82,3,     2.17,3,  6.3892
  492SSY9310_1,  P02E,    95,  1,      8,     16,2,19931031,1650, 30.0000,-165.5833, 5477,    698.9,   5.4048,  34.0679,2,  34.0733,2,   -999.0,9,     81.4,2,    70.11,3,    34.30,3,     2.58,3,  5.3465
  492SSY9310_1,  P02E,    95,  1,      9,     15,2,19931031,1650, 30.0000,-165.5833, 5477,    799.8,   4.5792,  34.1854,2,  34.1895,2,   -999.0,9,     42.2,2,    90.56,3,    39.77,3,     2.91,3,  4.5168
  492SSY9310_1,  P02E,    95,  1,     10,     14,2,19931031,1650, 30.0000,-165.5833, 5477,    900.0,   4.1475,  34.2767,2,  34.2778,2,   -999.0,9,     39.2,2,   103.21,3,    42.00,3,     3.06,3,  4.0794
  492SSY9310_1,  P02E,    95,  1,     11,     13,2,19931031,1650, 30.0000,-165.5833, 5477,   1000.6,   3.8089,  34.3645,2,  34.3682,2,   -999.0,9,     33.9,2,   111.96,3,    41.09,3,     3.07,4,  3.7349
  492SSY9310_1,  P02E,    95,  1,     12,     12,2,19931031,1650, 30.0000,-165.5833, 5477,   1250.0,   3.2604,  34.4746,2,  34.4744,2,   -999.0,9,     42.6,2,   125.58,3,    43.42,3,     3.06,3,  3.1707
  492SSY9310_1,  P02E,    95,  1,     13,     11,2,19931031,1650, 30.0000,-165.5833, 5477,   1500.4,   2.7845,  34.5398,2,  34.5413,2,   -999.0,9,     60.9,2,   134.32,3,    42.83,3,     2.96,6,  2.6792
  492SSY9310_1,  P02E,    95,  1,     14,     10,2,19931031,1650, 30.0000,-165.5833, 5477,   1500.4,   2.7845,  34.5398,2,  34.5437,2,   -999.0,9,     60.5,2,   136.27,3,    42.36,3,     2.98,3,  2.6792
  492SSY9310_1,  P02E,    95,  1,     15,      9,2,19931031,1650, 30.0000,-165.5833, 5477,   1999.3,   2.0205,  34.6013,2,  34.5977,2,   -999.0,9,     80.0,2,   152.81,3,    41.50,3,     2.87,3,  1.8838
  492SSY9310_1,  P02E,    95,  1,     16,      8,2,19931031,1650, 30.0000,-165.5833, 5477,   2251.3,   1.8156,  34.6255,2,  34.6193,2,   -999.0,9,     87.8,2,   153.78,3,    37.64,3,     2.79,3,  1.6607
  492SSY9310_1,  P02E,    95,  1,     17,      7,2,19931031,1650, 30.0000,-165.5833, 5477,   2501.1,   1.6887,  34.6415,2,  34.6429,2,   -999.0,9,    107.8,2,   155.72,3,    37.33,3,     2.74,3,  1.5141
  492SSY9310_1,  P02E,    95,  1,     18,      6,2,19931031,1650, 30.0000,-165.5833, 5477,   3000.8,   1.5506,  34.6607,2,  34.6637,2,   -999.0,9,    124.8,2,   156.71,3,    36.55,3,     2.67,3,  1.3327
  492SSY9310_1,  P02E,    95,  1,     19,      5,2,19931031,1650, 30.0000,-165.5833, 5477,   3500.4,   1.4822,  34.6732,2,  34.6751,2,   -999.0,9,    138.7,2,   153.79,3,    36.06,3,     2.60,3,  1.2166
  492SSY9310_1,  P02E,    95,  1,     20,      4,2,19931031,1650, 30.0000,-165.5833, 5477,   3999.2,   1.4627,  34.6801,2,  34.6838,2,   -999.0,9,    149.1,2,   151.85,3,    36.55,3,     2.57,3,  1.1452
  492SSY9310_1,  P02E,    95,  1,     21,      3,2,19931031,1650, 30.0000,-165.5833, 5477,   4498.1,   1.4866,  34.6842,2,  34.6877,2,   -999.0,9,    154.4,2,   151.85,3,    36.23,3,     2.56,6,  1.1125
  492SSY9310_1,  P02E,    95,  1,     22,      2,2,19931031,1650, 30.0000,-165.5833, 5477,   4999.8,   1.5245,  34.6860,2,  34.6918,4,   -999.0,9,    157.4,2,   146.02,3,    35.81,3,     2.44,3,  1.0898
  492SSY9310_1,  P02E,    95,  1,     23,      1,2,19931031,1650, 30.0000,-165.5833, 5477,   5497.7,   1.5542,  34.6893,2,  34.6912,2,   -999.0,9,    163.9,2,   138.24,3,    35.57,3,     2.42,3,  1.0563
  492SSY9310_1,  P02E,    96,  1,      1,     23,2,19931031,2303, 30.0017,-164.6650, 5497,     49.2,  20.5676,  35.0791,2,  35.0339,3,   -999.0,9,    227.1,2,     0.97,3,     0.04,3,     0.05,3, 20.5583
  492SSY9310_1,  P02E,    96,  1,      2,     22,2,19931031,2303, 30.0017,-164.6650, 5497,     99.4,  15.9551,  34.7040,2,  34.6881,2,   -999.0,9,    223.5,2,     2.92,3,     3.49,3,     0.29,3, 15.9395
  492SSY9310_1,  P02E,    96,  1,      3,     21,2,19931031,2303, 30.0017,-164.6650, 5497,    199.5,  13.9988,  34.5150,2,  34.5156,2,   -999.0,9,    223.5,2,     5.84,3,     6.55,3,     0.51,3, 13.9702
  492SSY9310_1,  P02E,    96,  1,      4,     20,2,19931031,2303, 30.0017,-164.6650, 5497,    298.9,  11.7360,  34.3302,2,  34.3191,2,   -999.0,9,    220.8,2,    18.51,3,    10.48,3,     0.81,3, 11.6978
  492SSY9310_1,  P02E,    96,  1,      5,     19,2,19931031,2303, 30.0017,-164.6650, 5497,    398.7,   9.8558,  34.1799,2,  34.1605,3,   -999.0,9,    215.6,2,     9.74,3,    15.81,3,     1.21,3,  9.8101
  492SSY9310_1,  P02E,    96,  1,      6,     18,2,19931031,2303, 30.0017,-164.6650, 5497,    500.4,   7.9212,  34.0626,2,  34.0527,2,   -999.0,9,    183.3,2,    29.22,3,    21.13,3,     1.62,3,  7.8707
  492SSY9310_1,  P02E,    96,  1,      7,     17,2,19931031,2303, 30.0017,-164.6650, 5497,    600.4,   6.1357,  33.9939,2,  33.9935,2,   -999.0,9,    134.1,2,    49.67,3,    29.14,3,     2.15,3,  6.0828
  492SSY9310_1,  P02E,    96,  1,      8,     16,2,19931031,2303, 30.0017,-164.6650, 5497,    699.8,   5.0077,  34.0387,2,  34.0358,2,   -999.0,9,     84.9,2,    70.11,3,    35.29,3,     2.61,3,  4.9515
  492SSY9310_1,  P02E,    96,  1,      9,     15,2,19931031,2303, 30.0017,-164.6650, 5497,    799.7,   4.2900,  34.1289,2,  34.1256,2,   -999.0,9,     46.1,2,    88.62,3,    40.03,3,     2.91,3,  4.2294
  492SSY9310_1,  P02E,    96,  1,     10,     14,2,19931031,2303, 30.0017,-164.6650, 5497,    899.8,   3.8649,  34.2176,2,  34.2205,2,   -999.0,9,     29.2,2,   103.21,3,    42.51,3,     3.13,3,  3.7989
  492SSY9310_1,  P02E,    96,  1,     11,     13,2,19931031,2303, 30.0017,-164.6650, 5497,   1000.2,   3.6285,  34.3101,2,  34.3036,2,   -999.0,9,     22.6,2,   111.97,3,    40.61,3,     3.16,3,  3.5561
  492SSY9310_1,  P02E,    96,  1,     12,     12,2,19931031,2303, 30.0017,-164.6650, 5497,   1248.4,   3.0584,  34.4531,2,  34.4502,2,   -999.0,9,     21.7,2,   129.47,3,    43.42,3,     3.22,3,  2.9707
  492SSY9310_1,  P02E,    96,  1,     13,     11,2,19931031,2303, 30.0017,-164.6650, 5497,   1499.5,   2.6324,  34.5326,2,  34.5247,2,   -999.0,9,     43.5,2,   132.38,3,    41.30,3,     3.05,3,  2.5289
  492SSY9310_1,  P02E,    96,  1,     14,     10,2,19931031,2303, 30.0017,-164.6650, 5497,   1749.7,   2.2654,  34.5792,2,  34.5755,2,   -999.0,9,     65.7,2,   145.03,3,    40.59,3,     2.99,3,  2.1460
  492SSY9310_1,  P02E,    96,  1,     15,      9,2,19931031,2303, 30.0017,-164.6650, 5497,   1999.5,   1.9766,  34.6093,2,  34.5826,4,   -999.0,9,     73.1,3,  -999.00,9,    41.27,3,  -999.00,9,  1.8406
  492SSY9310_1,  P02E,    96,  1,     16,      8,2,19931031,2303, 30.0017,-164.6650, 5497,   2249.8,   1.7900,  34.6304,2,  34.6060,4,   -999.0,9,     91.3,2,   146.00,3,  -999.00,9,     2.76,3,  1.6356
  492SSY9310_1,  P02E,    96,  1,     17,      7,2,19931031,2303, 30.0017,-164.6650, 5497,   2499.2,   1.6709,  34.6454,2,  34.6394,2,   -999.0,9,    106.1,2,   145.99,3,    39.25,3,     2.73,3,  1.4968
  492SSY9310_1,  P02E,    96,  1,     18,      6,2,19931031,2303, 30.0017,-164.6650, 5497,   2997.2,   1.5451,  34.6626,2,  34.6614,2,   -999.0,9,    124.8,2,   146.97,3,    36.43,3,     2.68,3,  1.3277
  492SSY9310_1,  P02E,    96,  1,     20,      4,2,19931031,2303, 30.0017,-164.6650, 5497,   3999.2,   1.4631,  34.6812,3,  34.6614,3,   -999.0,9,    132.6,3,  -999.00,9,    34.98,3,  -999.00,9,  1.1455
  492SSY9310_1,  P02E,    96,  1,     21,      3,2,19931031,2303, 30.0017,-164.6650, 5497,   4498.7,   1.4847,  34.6851,2,  34.6842,2,   -999.0,9,    155.2,2,   139.20,3,    36.37,3,     2.51,6,  1.1106
  492SSY9310_1,  P02E,    96,  1,     22,      2,2,19931031,2303, 30.0017,-164.6650, 5497,   4998.4,   1.5230,  34.6869,2,  34.6875,2,   -999.0,9,    157.8,2,   136.29,3,    36.43,3,     2.49,3,  1.0885
  492SSY9310_1,  P02E,    96,  1,     23,      1,2,19931031,2303, 30.0017,-164.6650, 5497,   5498.9,   1.5530,  34.6898,2,  34.6920,2,   -999.0,9,    164.8,2,   130.45,3,    36.09,3,     2.46,3,  1.0550