BOTTLE,20040202WHPSIOSA
EXPOCODE,SECT_ID,STNNBR,CASTNO,SAMPNO,BTLNBR,BTLNBR_FLAG_W,DATE,TIME,LATITUDE,LONGITUDE,DEPTH,CTDPRS,CTDTMP,CTDSAL,CTDSAL_FLAG_W,SALNTY,SALNTY_FLAG_W,CTDOXY,CTDOXY_FLAG_W,OXYGEN,OXYGEN_FLAG_W,SILCAT,SILCAT_FLAG_W,NO2+NO3,NO2+NO3_FLAG_W,PHSPHT,PHSPHT_FLAG_W,THETA
,,,,,,,,,,,,DBAR,ITS-90,PSS-78,,PSS-78,,UMOL/KG,,UMOL/KG,,UMOL/KG,,UMOL/KG,,UMOL/KG,,DEG C
  492SSY9310_1,  P02E,    51,  1,      1,     23,2,19931022,0308, 30.0017, 166.7583, 6053,     99.8,  18.6185,  34.8463,2,  34.8448,2,   -999.0,9,    209.2,2,     2.92,3,     2.39,3,     0.19,3, 18.6010
  492SSY9310_1,  P02E,    51,  1,      2,     22,2,19931022,0308, 30.0017, 166.7583, 6053,    199.7,  16.9750,  34.7867,2,  34.7815,2,   -999.0,9,    219.2,2,     4.87,3,     3.67,3,     0.28,3, 16.9422
  492SSY9310_1,  P02E,    51,  1,      3,     21,2,19931022,0308, 30.0017, 166.7583, 6053,    299.5,  15.5781,  34.6646,2,  34.6659,2,   -999.0,9,    205.3,2,     8.77,3,     6.71,3,     0.52,3, 15.5316
  492SSY9310_1,  P02E,    51,  1,      4,     20,2,19931022,0308, 30.0017, 166.7583, 6053,    400.2,  13.1712,  34.4734,2,  34.4746,2,   -999.0,9,    203.5,2,    15.59,3,    10.79,3,     0.77,3, 13.1157
  492SSY9310_1,  P02E,    51,  1,      5,     19,2,19931022,0308, 30.0017, 166.7583, 6053,    500.8,  10.8725,  34.3084,2,  34.3152,2,   -999.0,9,    192.1,2,    25.32,3,    15.93,3,     1.11,3, 10.8110
  492SSY9310_1,  P02E,    51,  1,      6,     18,2,19931022,0308, 30.0017, 166.7583, 6053,    600.7,   8.1840,  34.0979,2,  34.1528,4,   -999.0,9,    186.0,2,    34.09,3,    19.86,3,     1.44,3,  8.1218
  492SSY9310_1,  P02E,    51,  1,      7,     17,2,19931022,0308, 30.0017, 166.7583, 6053,    699.4,   6.1460,  34.0102,2,  34.0119,2,   -999.0,9,    149.8,2,    58.43,3,    28.55,3,     2.06,3,  6.0838
  492SSY9310_1,  P02E,    51,  1,      8,     16,2,19931022,0308, 30.0017, 166.7583, 6053,    800.8,   4.9025,  34.0576,2,  34.0582,2,   -999.0,9,    104.9,2,    81.81,3,    34.37,3,     2.50,3,  4.8382
  492SSY9310_1,  P02E,    51,  1,      9,     15,2,19931022,0308, 30.0017, 166.7583, 6053,    900.2,   4.3027,  34.1624,2,  34.1611,2,   -999.0,9,     64.8,2,   101.27,3,    39.22,3,     2.79,3,  4.2337
  492SSY9310_1,  P02E,    51,  1,     10,     14,2,19931022,0308, 30.0017, 166.7583, 6053,   1000.0,   3.7990,  34.2552,2,  34.2564,2,   -999.0,9,     44.4,2,   117.81,3,    42.05,3,     2.96,3,  3.7253
  492SSY9310_1,  P02E,    51,  1,     11,     13,2,19931022,0308, 30.0017, 166.7583, 6053,   1248.8,   3.0133,  34.4144,2,  34.4149,2,   -999.0,9,     33.5,2,   145.05,3,    44.15,3,     3.10,3,  2.9261
  492SSY9310_1,  P02E,    51,  1,     12,     12,2,19931022,0308, 30.0017, 166.7583, 6053,   1500.7,   2.4694,  34.5004,2,  34.4970,2,   -999.0,9,     43.1,2,   161.58,3,    44.75,3,     3.07,6,  2.3678
  492SSY9310_1,  P02E,    51,  1,     14,     10,2,19931022,0308, 30.0017, 166.7583, 6053,   1999.6,   1.9401,  34.5974,2,  34.5952,2,   -999.0,9,     77.4,2,   169.36,3,    40.93,3,     2.89,3,  1.8047
  492SSY9310_1,  P02E,    51,  1,     15,      9,2,19931022,0308, 30.0017, 166.7583, 6053,   2252.1,   1.7791,  34.6268,3,  34.6124,3,   -999.0,9,     96.1,3,  -999.00,9,  -999.00,9,  -999.00,9,  1.6247
  492SSY9310_1,  P02E,    51,  1,     16,      8,2,19931022,0308, 30.0017, 166.7583, 6053,   2499.9,   1.6706,  34.6440,2,  34.6407,2,   -999.0,9,   -999.0,5,   164.48,3,    38.94,3,     2.71,3,  1.4965
  492SSY9310_1,  P02E,    51,  1,     17,      7,2,19931022,0308, 30.0017, 166.7583, 6053,   2999.0,   1.5536,  34.6657,2,  34.6582,4,   -999.0,9,   -999.0,5,   157.68,3,    38.94,3,     2.59,4,  1.3358
  492SSY9310_1,  P02E,    51,  1,     18,      6,2,19931022,0308, 30.0017, 166.7583, 6053,   3499.9,   1.4908,  34.6767,2,  34.6757,2,   -999.0,9,    143.1,2,   159.63,3,    37.27,3,     2.55,6,  1.2250
  492SSY9310_1,  P02E,    51,  1,     19,      5,2,19931022,0308, 30.0017, 166.7583, 6053,   3999.3,   1.4676,  34.6853,2,  34.6828,2,   -999.0,9,    154.4,2,   155.75,3,    37.33,3,     2.49,4,  1.1499
  492SSY9310_1,  P02E,    51,  1,     20,      4,2,19931022,0308, 30.0017, 166.7583, 6053,   4498.3,   1.4672,  34.6901,2,  34.6855,2,   -999.0,9,    160.9,3,   151.85,3,    35.17,3,     2.45,3,  1.0937
  492SSY9310_1,  P02E,    51,  1,     21,      3,2,19931022,0308, 30.0017, 166.7583, 6053,   5000.4,   1.4750,  34.6938,2,  34.6934,2,   -999.0,9,    170.9,2,   145.05,3,    35.26,3,     2.41,3,  1.0418
  492SSY9310_1,  P02E,    51,  1,     22,      2,2,19931022,0308, 30.0017, 166.7583, 6053,   5499.5,   1.4945,  34.6976,2,  34.6965,2,   -999.0,9,    177.0,2,   140.18,3,    35.00,3,     2.38,3,  0.9985
  492SSY9310_1,  P02E,    51,  1,     23,      1,2,19931022,0308, 30.0017, 166.7583, 6053,   5997.8,   1.5414,  34.6994,2,  34.6962,2,   -999.0,9,    179.6,2,   137.26,3,    33.98,3,     2.36,3,  0.9785
  492SSY9310_1,  P02E,    52,  1,      1,     23,2,19931022,1011, 30.0017, 167.6783, 5949,    199.1,  17.2613,  34.7951,2,  34.7929,2,   -999.0,9,    211.9,2,     2.92,3,     3.84,3,     0.27,3, 17.2281
  492SSY9310_1,  P02E,    52,  1,      2,     22,2,19931022,1011, 30.0017, 167.6783, 5949,    300.1,  15.7341,  34.6713,2,  34.6769,2,   -999.0,9,    197.5,2,     7.79,3,     7.46,3,     0.53,3, 15.6872
  492SSY9310_1,  P02E,    52,  1,      3,     21,2,19931022,1011, 30.0017, 167.6783, 5949,    398.4,  12.9967,  34.4603,2,  34.4714,2,   -999.0,9,    208.7,2,    13.64,3,    10.60,3,     0.78,3, 12.9419
  492SSY9310_1,  P02E,    52,  1,      4,     20,2,19931022,1011, 30.0017, 167.6783, 5949,    500.1,  10.9580,  34.3169,2,  34.3166,2,   -999.0,9,    194.8,2,  -999.00,9,  -999.00,9,  -999.00,9, 10.8963
  492SSY9310_1,  P02E,    52,  1,      5,     19,2,19931022,1011, 30.0017, 167.6783, 5949,    599.1,   8.0370,  34.0892,2,  34.0915,2,   -999.0,9,    182.0,2,    37.99,3,    22.00,3,     1.61,3,  7.9756
  492SSY9310_1,  P02E,    52,  1,      6,     18,2,19931022,1011, 30.0017, 167.6783, 5949,    699.9,   5.8324,  34.0087,2,  34.0153,2,   -999.0,9,    141.9,2,    62.33,3,    30.31,3,     2.19,3,  5.7718
  492SSY9310_1,  P02E,    52,  1,      7,     17,2,19931022,1011, 30.0017, 167.6783, 5949,    800.1,   4.7802,  34.0731,2,  34.0750,2,   -999.0,9,     97.5,2,    86.68,3,    36.80,3,     2.61,3,  4.7166
  492SSY9310_1,  P02E,    52,  1,      8,     16,2,19931022,1011, 30.0017, 167.6783, 5949,    900.0,   4.1726,  34.1889,2,  34.1942,2,   -999.0,9,     68.3,2,   105.16,3,    38.51,3,     2.80,3,  4.1045
  492SSY9310_1,  P02E,    52,  1,      9,     15,2,19931022,1011, 30.0017, 167.6783, 5949,   1000.4,   3.7578,  34.2686,2,  34.2713,2,   -999.0,9,     48.3,2,   121.71,3,    41.66,3,     2.97,3,  3.6844
  492SSY9310_1,  P02E,    52,  1,     10,     14,2,19931022,1011, 30.0017, 167.6783, 5949,   1250.0,   3.0114,  34.4209,2,  34.4216,2,   -999.0,9,     33.1,2,   146.02,3,    44.28,3,     3.26,6,  2.9241
  492SSY9310_1,  P02E,    52,  1,     11,     13,2,19931022,1011, 30.0017, 167.6783, 5949,   1501.2,   2.5137,  34.5066,2,  34.5087,2,   -999.0,9,     43.9,2,   159.63,3,    43.87,3,     3.02,3,  2.4115
  492SSY9310_1,  P02E,    52,  1,     12,     12,2,19931022,1011, 30.0017, 167.6783, 5949,   1750.1,   2.1589,  34.5599,2,  34.5626,2,   -999.0,9,     58.3,2,   170.34,3,    42.55,3,     2.95,3,  2.0409
  492SSY9310_1,  P02E,    52,  1,     13,     11,2,19931022,1011, 30.0017, 167.6783, 5949,   2000.6,   1.9050,  34.5983,2,  34.5965,2,   -999.0,9,     77.4,2,   166.44,3,    41.54,3,     2.82,3,  1.7700
  492SSY9310_1,  P02E,    52,  1,     14,     10,2,19931022,1011, 30.0017, 167.6783, 5949,   2250.0,   1.7442,  34.6260,2,  34.6299,2,   -999.0,9,     96.5,2,   173.25,3,    40.80,3,     2.76,3,  1.5906
  492SSY9310_1,  P02E,    52,  1,     15,      9,2,19931022,1011, 30.0017, 167.6783, 5949,   2501.4,   1.6402,  34.6432,2,  34.6380,2,   -999.0,9,    109.1,2,   161.56,3,    38.87,3,     2.64,3,  1.4665
  492SSY9310_1,  P02E,    52,  1,     16,      8,2,19931022,1011, 30.0017, 167.6783, 5949,   3001.7,   1.5352,  34.6687,2,  34.6498,4,   -999.0,9,    120.9,4,  -999.00,9,  -999.00,9,  -999.00,9,  1.3175
  492SSY9310_1,  P02E,    52,  1,     17,      7,2,19931022,1011, 30.0017, 167.6783, 5949,   3500.3,   1.4853,  34.6769,2,  34.6769,2,   -999.0,9,    143.1,2,   159.62,3,    37.41,3,     2.53,3,  1.2196
  492SSY9310_1,  P02E,    52,  1,     18,      6,2,19931022,1011, 30.0017, 167.6783, 5949,   4000.9,   1.4613,  34.6835,2,  34.6851,2,   -999.0,9,    153.9,2,   156.72,3,    37.21,3,     2.50,6,  1.1436
  492SSY9310_1,  P02E,    52,  1,     19,      5,2,19931022,1011, 30.0017, 167.6783, 5949,   4499.4,   1.4583,  34.6892,2,  34.6910,2,   -999.0,9,    161.8,2,   150.88,3,    36.68,3,     2.46,3,  1.0849
  492SSY9310_1,  P02E,    52,  1,     20,      4,2,19931022,1011, 30.0017, 167.6783, 5949,   4999.3,   1.4673,  34.6936,2,  34.6938,2,   -999.0,9,    164.8,3,   145.05,3,    34.83,3,     2.46,3,  1.0345
  492SSY9310_1,  P02E,    52,  1,     21,      3,2,19931022,1011, 30.0017, 167.6783, 5949,   5500.0,   1.4903,  34.6971,2,  34.7001,2,   -999.0,9,    176.5,2,   140.18,3,    34.94,3,     2.44,3,  0.9944
  492SSY9310_1,  P02E,    52,  1,     22,      2,2,19931022,1011, 30.0017, 167.6783, 5949,   6000.0,   1.5272,  34.6991,2,  34.7011,2,   -999.0,9,    181.3,2,   137.26,3,    34.66,3,     2.52,3,  0.9646
  492SSY9310_1,  P02E,    52,  1,     23,      1,2,19931022,1011, 30.0017, 167.6783, 5949,   6000.0,   1.5272,  34.6991,2,  34.7036,3,   -999.0,9,    178.7,2,  -999.00,9,  -999.00,9,  -999.00,9,  0.9646
  492SSY9310_1,  P02E,    53,  1,      1,     23,2,19931022,1535, 30.0033, 168.2600, 5835,     50.4,  21.8614,  34.8551,2,  34.8088,3,   -999.0,9,    216.7,2,     2.92,3,     0.00,3,     0.06,3, 21.8514
  492SSY9310_1,  P02E,    53,  1,      2,     22,2,19931022,1535, 30.0033, 168.2600, 5835,    100.8,  18.6985,  34.8522,2,  34.8507,2,   -999.0,9,    209.2,2,     3.90,3,     2.17,3,     0.17,3, 18.6808
  492SSY9310_1,  P02E,    53,  1,      3,     21,2,19931022,1535, 30.0033, 168.2600, 5835,    200.0,  16.8644,  34.7788,2,  34.7795,2,   -999.0,9,    220.5,2,     4.87,3,     3.79,3,     0.24,3, 16.8316
  492SSY9310_1,  P02E,    53,  1,      4,     20,2,19931022,1535, 30.0033, 168.2600, 5835,    298.2,  15.4645,  34.6493,2,  34.6576,2,   -999.0,9,    197.9,2,    10.72,3,     7.67,3,     0.53,3, 15.4184
  492SSY9310_1,  P02E,    53,  1,      5,     19,2,19931022,1535, 30.0033, 168.2600, 5835,    400.3,  12.7951,  34.4596,2,  34.4644,2,   -999.0,9,    217.9,2,    16.56,3,    10.50,3,     0.72,3, 12.7407
  492SSY9310_1,  P02E,    53,  1,      6,     18,2,19931022,1535, 30.0033, 168.2600, 5835,    500.8,  10.3673,  34.2737,2,  34.2776,2,   -999.0,9,    193.0,2,    28.25,3,    16.69,3,     1.20,3, 10.3077
  492SSY9310_1,  P02E,    53,  1,      7,     17,2,19931022,1535, 30.0033, 168.2600, 5835,    600.6,   7.7626,  34.0751,2,  34.0778,2,   -999.0,9,    179.4,2,    41.88,3,    23.12,3,     1.65,3,  7.7023
  492SSY9310_1,  P02E,    53,  1,      8,     16,2,19931022,1535, 30.0033, 168.2600, 5835,    699.1,   5.7390,  34.0114,2,  34.0139,2,   -999.0,9,    140.6,2,    64.27,3,    30.02,3,     2.19,3,  5.6790
  492SSY9310_1,  P02E,    53,  1,      9,     15,2,19931022,1535, 30.0033, 168.2600, 5835,    799.4,   4.7187,  34.0826,2,  34.0846,2,   -999.0,9,     97.9,2,    87.65,3,    36.19,3,     2.59,3,  4.6556
  492SSY9310_1,  P02E,    53,  1,     10,     14,2,19931022,1535, 30.0033, 168.2600, 5835,    900.0,   4.1638,  34.1899,2,  34.1901,2,   -999.0,9,     64.0,2,   108.09,3,    39.01,3,     2.84,3,  4.0958
  492SSY9310_1,  P02E,    53,  1,     11,     13,2,19931022,1535, 30.0033, 168.2600, 5835,    999.3,   3.7334,  34.2706,2,  34.2721,2,   -999.0,9,     49.2,2,   122.68,3,    41.65,3,     2.97,3,  3.6603
  492SSY9310_1,  P02E,    53,  1,     12,     12,2,19931022,1535, 30.0033, 168.2600, 5835,   1249.0,   3.0025,  34.4069,2,  34.4067,2,   -999.0,9,     37.4,2,   146.02,3,    43.67,3,     3.12,3,  2.9154
  492SSY9310_1,  P02E,    53,  1,     13,     11,2,19931022,1535, 30.0033, 168.2600, 5835,   1499.8,   2.5200,  34.5006,2,  34.4952,2,   -999.0,9,     42.2,2,   149.90,3,    42.05,3,     2.96,6,  2.4178
  492SSY9310_1,  P02E,    53,  1,     14,     10,2,19931022,1535, 30.0033, 168.2600, 5835,   1748.5,   2.1605,  34.5616,2,  34.5582,2,   -999.0,9,     58.7,2,   167.42,3,  -999.00,9,     2.94,3,  2.0426
  492SSY9310_1,  P02E,    53,  1,     15,      9,2,19931022,1535, 30.0033, 168.2600, 5835,   1999.4,   1.9250,  34.6008,3,  34.5787,3,   -999.0,9,     79.6,3,  -999.00,9,  -999.00,9,  -999.00,9,  1.7898
  492SSY9310_1,  P02E,    53,  1,     16,      8,2,19931022,1535, 30.0033, 168.2600, 5835,   2250.7,   1.7634,  34.6252,3,  34.6018,3,   -999.0,9,     89.1,3,  -999.00,9,  -999.00,9,  -999.00,9,  1.6094
  492SSY9310_1,  P02E,    53,  1,     17,      7,2,19931022,1535, 30.0033, 168.2600, 5835,   2499.9,   1.6484,  34.6436,2,  34.6464,2,   -999.0,9,    108.7,2,   169.35,3,    40.04,3,     2.69,3,  1.4747
  492SSY9310_1,  P02E,    53,  1,     18,      6,2,19931022,1535, 30.0033, 168.2600, 5835,   2999.4,   1.5237,  34.6694,2,  34.6714,2,   -999.0,9,    140.0,4,   162.55,3,    38.61,3,     2.57,3,  1.3065
  492SSY9310_1,  P02E,    53,  1,     19,      5,2,19931022,1535, 30.0033, 168.2600, 5835,   3499.5,   1.4711,  34.6775,2,  34.6749,2,   -999.0,9,    143.9,3,   159.63,3,    37.74,3,     2.51,6,  1.2059
  492SSY9310_1,  P02E,    53,  1,     20,      4,2,19931022,1535, 30.0033, 168.2600, 5835,   3999.6,   1.4542,  34.6845,2,  34.6871,2,   -999.0,9,    153.5,3,   156.72,3,    35.71,3,     2.47,3,  1.1367
  492SSY9310_1,  P02E,    53,  1,     21,      3,2,19931022,1535, 30.0033, 168.2600, 5835,   4498.4,   1.4508,  34.6910,2,  34.6905,2,   -999.0,9,    165.2,2,   150.88,3,    35.57,3,     2.42,3,  1.0777
  492SSY9310_1,  P02E,    53,  1,     22,      2,2,19931022,1535, 30.0033, 168.2600, 5835,   5000.5,   1.4590,  34.6960,2,  34.6958,2,   -999.0,9,    172.2,2,   143.10,3,    35.00,3,     2.40,3,  1.0264
  492SSY9310_1,  P02E,    53,  1,     23,      1,2,19931022,1535, 30.0033, 168.2600, 5835,   5498.9,   1.4826,  34.6992,2,  34.7022,2,   -999.0,9,    177.8,2,   139.21,3,    34.58,3,     2.39,3,  0.9871
  492SSY9310_1,  P02E,    54,  1,      1,     23,2,19931022,2051, 30.0033, 168.8417, 5762,     99.4,  18.7482,  34.8711,2,  34.8755,2,   -999.0,9,    234.1,2,     2.92,3,     0.01,3,     0.05,3, 18.7307
  492SSY9310_1,  P02E,    54,  1,      2,     22,2,19931022,2051, 30.0033, 168.8417, 5762,    200.6,  16.4750,  34.7464,2,  34.7469,2,   -999.0,9,    217.5,2,     4.87,3,     4.20,3,     0.29,3, 16.4427
  492SSY9310_1,  P02E,    54,  1,      3,     21,2,19931022,2051, 30.0033, 168.8417, 5762,    300.2,  14.4859,  34.5656,2,  34.5714,2,   -999.0,9,    203.5,2,     8.77,3,     8.41,3,     0.60,3, 14.4416
  492SSY9310_1,  P02E,    54,  1,      4,     20,2,19931022,2051, 30.0033, 168.8417, 5762,    400.8,  12.4232,  34.4305,2,  34.4343,2,   -999.0,9,    213.9,2,    14.61,3,    10.84,3,     0.79,3, 12.3697
  492SSY9310_1,  P02E,    54,  1,      5,     19,2,19931022,2051, 30.0033, 168.8417, 5762,    499.2,  10.2298,  34.2580,2,  34.2579,2,   -999.0,9,    196.0,2,    25.32,3,    16.59,3,     1.18,3, 10.1709
  492SSY9310_1,  P02E,    54,  1,      6,     18,2,19931022,2051, 30.0033, 168.8417, 5762,    599.1,   7.7188,  34.0815,2,  34.0819,2,   -999.0,9,    176.8,2,    41.88,3,    23.20,3,     1.69,3,  7.6589
  492SSY9310_1,  P02E,    54,  1,      7,     17,2,19931022,2051, 30.0033, 168.8417, 5762,    698.1,   5.4692,  34.0146,2,  34.0157,2,   -999.0,9,    131.5,2,    69.14,3,  -999.00,9,     2.32,3,  5.4107
  492SSY9310_1,  P02E,    54,  1,      8,     16,2,19931022,2051, 30.0033, 168.8417, 5762,    799.7,   4.6178,  34.1016,2,  34.1056,2,   -999.0,9,     88.8,2,    91.54,3,    36.60,3,     2.68,3,  4.5553
  492SSY9310_1,  P02E,    54,  1,      9,     15,2,19931022,2051, 30.0033, 168.8417, 5762,    897.5,   4.0764,  34.2003,2,  34.2011,2,   -999.0,9,     59.2,2,   110.03,3,    41.09,3,     2.88,3,  4.0092
  492SSY9310_1,  P02E,    54,  1,     10,     14,2,19931022,2051, 30.0033, 168.8417, 5762,   1000.1,   3.6332,  34.2795,2,  34.2781,2,   -999.0,9,     43.1,2,   125.60,3,    42.63,3,     2.98,3,  3.5608
  492SSY9310_1,  P02E,    54,  1,     11,     13,2,19931022,2051, 30.0033, 168.8417, 5762,   1250.3,   2.8610,  34.4293,2,  34.4286,2,   -999.0,9,     37.0,2,   149.91,3,    43.85,3,     3.04,3,  2.7751
  492SSY9310_1,  P02E,    54,  1,     12,     12,2,19931022,2051, 30.0033, 168.8417, 5762,   1502.4,   2.4214,  34.5053,2,  34.5036,2,   -999.0,9,     43.9,2,   163.52,3,    43.32,3,     3.02,6,  2.3202
  492SSY9310_1,  P02E,    54,  1,     13,     11,2,19931022,2051, 30.0033, 168.8417, 5762,   1749.7,   2.1077,  34.5625,2,  34.5612,2,   -999.0,9,     60.0,2,   165.47,3,    43.08,3,     2.89,3,  1.9904
  492SSY9310_1,  P02E,    54,  1,     14,     10,2,19931022,2051, 30.0033, 168.8417, 5762,   1999.9,   1.8814,  34.6024,2,  34.6044,2,   -999.0,9,     80.5,2,   172.28,3,    42.52,3,     2.85,3,  1.7468
  492SSY9310_1,  P02E,    54,  1,     15,      9,2,19931022,2051, 30.0033, 168.8417, 5762,   2248.9,   1.7400,  34.6274,2,  34.6242,2,   -999.0,9,     96.5,2,   170.33,3,    40.83,3,     2.76,3,  1.5866
  492SSY9310_1,  P02E,    54,  1,     16,      8,2,19931022,2051, 30.0033, 168.8417, 5762,   2500.3,   1.6424,  34.6457,2,  34.6447,2,   -999.0,9,    110.9,2,   166.43,3,    39.56,3,     2.70,3,  1.4687
  492SSY9310_1,  P02E,    54,  1,     17,      7,2,19931022,2051, 30.0033, 168.8417, 5762,   2999.1,   1.5143,  34.6674,2,  34.6667,2,   -999.0,9,    133.5,2,   163.52,3,    38.73,3,     2.60,3,  1.2973
  492SSY9310_1,  P02E,    54,  1,     18,      6,2,19931022,2051, 30.0033, 168.8417, 5762,   3500.9,   1.4580,  34.6794,2,  34.6804,2,   -999.0,9,    148.7,2,   159.62,3,    37.88,3,     2.54,3,  1.1929
  492SSY9310_1,  P02E,    54,  1,     19,      5,2,19931022,2051, 30.0033, 168.8417, 5762,   3999.7,   1.4393,  34.6857,2,  34.6887,2,   -999.0,9,    158.3,2,   155.74,3,    37.09,3,     2.47,6,  1.1222
  492SSY9310_1,  P02E,    54,  1,     20,      4,2,19931022,2051, 30.0033, 168.8417, 5762,   4498.9,   1.4348,  34.6910,2,  34.6922,2,   -999.0,9,    166.1,2,   148.93,3,    35.22,3,     2.52,3,  1.0621
  492SSY9310_1,  P02E,    54,  1,     21,      3,2,19931022,2051, 30.0033, 168.8417, 5762,   5000.2,   1.4463,  34.6952,2,  34.6962,2,   -999.0,9,    174.4,2,   143.10,3,    35.03,3,     2.56,3,  1.0140
  492SSY9310_1,  P02E,    54,  1,     22,      2,2,19931022,2051, 30.0033, 168.8417, 5762,   5500.9,   1.4740,  34.6979,2,  34.6995,2,   -999.0,9,    179.1,2,   139.21,3,    34.66,3,     2.34,3,  0.9786
  492SSY9310_1,  P02E,    54,  1,     23,      1,2,19931022,2051, 30.0033, 168.8417, 5762,   5500.9,   1.4740,  34.6979,2,  34.7182,4,   -999.0,9,    179.6,2,  -999.00,9,  -999.00,9,  -999.00,9,  0.9786