BOTTLE,20040202WHPSIOSA
EXPOCODE,SECT_ID,STNNBR,CASTNO,SAMPNO,BTLNBR,BTLNBR_FLAG_W,DATE,TIME,LATITUDE,LONGITUDE,DEPTH,CTDPRS,CTDTMP,CTDSAL,CTDSAL_FLAG_W,SALNTY,SALNTY_FLAG_W,CTDOXY,CTDOXY_FLAG_W,OXYGEN,OXYGEN_FLAG_W,SILCAT,SILCAT_FLAG_W,NO2+NO3,NO2+NO3_FLAG_W,PHSPHT,PHSPHT_FLAG_W,THETA
,,,,,,,,,,,,DBAR,ITS-90,PSS-78,,PSS-78,,UMOL/KG,,UMOL/KG,,UMOL/KG,,UMOL/KG,,UMOL/KG,,DEG C
  492SSY9310_1,  P02E,    39,  1,      1,     23,2,19931018,1915, 30.0033, 158.7483, 5939,     49.6,  22.2165,  34.9031,2,  34.8820,2,   -999.0,9,    225.9,2,     0.97,3,     0.00,3,     0.03,3, 22.2066
  492SSY9310_1,  P02E,    39,  1,      2,     22,2,19931018,1915, 30.0033, 158.7483, 5939,    100.3,  18.6692,  34.8483,2,  34.8338,2,   -999.0,9,    206.2,2,     2.92,3,     2.17,3,     0.19,3, 18.6516
  492SSY9310_1,  P02E,    39,  1,      3,     21,2,19931018,1915, 30.0033, 158.7483, 5939,    201.2,  17.2583,  34.8001,2,  34.7986,2,   -999.0,9,    211.0,2,     3.90,3,     3.63,3,     0.28,3, 17.2248
  492SSY9310_1,  P02E,    39,  1,      4,     20,2,19931018,1915, 30.0033, 158.7483, 5939,    299.6,  15.8063,  34.6811,2,  34.6808,2,   -999.0,9,    191.4,2,     7.79,3,     7.74,3,     0.59,3, 15.7593
  492SSY9310_1,  P02E,    39,  1,      5,     19,2,19931018,1915, 30.0033, 158.7483, 5939,    400.8,  13.2141,  34.4705,2,  34.4758,2,   -999.0,9,    202.6,2,    11.69,3,    10.52,3,     0.76,3, 13.1584
  492SSY9310_1,  P02E,    39,  1,      6,     18,2,19931018,1915, 30.0033, 158.7483, 5939,    500.5,  10.5302,  34.2835,2,  34.2940,2,   -999.0,9,    188.6,2,    22.40,3,    16.59,3,     1.21,3, 10.4700
  492SSY9310_1,  P02E,    39,  1,      7,     17,2,19931018,1915, 30.0033, 158.7483, 5939,    599.2,   7.6304,  34.0762,2,  34.0776,2,   -999.0,9,    169.0,2,    38.96,3,    24.13,3,     1.73,3,  7.5708
  492SSY9310_1,  P02E,    39,  1,      8,     16,2,19931018,1915, 30.0033, 158.7483, 5939,    699.9,   5.7889,  34.0375,2,  34.0382,2,   -999.0,9,    125.8,2,    59.40,3,    31.44,3,     2.31,3,  5.7285
  492SSY9310_1,  P02E,    39,  1,      9,     15,2,19931018,1915, 30.0033, 158.7483, 5939,    800.5,   4.6803,  34.0957,2,  34.0960,2,   -999.0,9,     84.9,2,    80.83,3,    37.33,3,     2.65,3,  4.6173
  492SSY9310_1,  P02E,    39,  1,     10,     14,2,19931018,1915, 30.0033, 158.7483, 5939,    899.4,   4.1802,  34.1951,2,  34.1958,2,   -999.0,9,     61.8,2,    97.37,3,    40.99,3,     2.87,3,  4.1121
  492SSY9310_1,  P02E,    39,  1,     11,     13,2,19931018,1915, 30.0033, 158.7483, 5939,   1000.8,   3.9344,  34.2944,2,  34.2946,2,   -999.0,9,     47.0,2,   106.13,3,    42.99,3,     3.01,3,  3.8595
  492SSY9310_1,  P02E,    39,  1,     12,     12,2,19931018,1915, 30.0033, 158.7483, 5939,   1250.6,   2.9862,  34.4142,2,  34.4135,2,   -999.0,9,     38.7,2,   104.16,3,    43.85,3,     3.09,3,  2.8991
  492SSY9310_1,  P02E,    39,  1,     13,     11,2,19931018,1915, 30.0033, 158.7483, 5939,   1499.2,   2.4850,  34.5034,3,  34.4923,3,   -999.0,9,     49.6,3,  -999.00,9,  -999.00,9,  -999.00,9,  2.3833
  492SSY9310_1,  P02E,    39,  1,     14,     10,2,19931018,1915, 30.0033, 158.7483, 5939,   1750.8,   2.1735,  34.5629,2,  34.5647,2,   -999.0,9,     62.6,2,   147.95,3,    43.91,3,     2.99,3,  2.0553
  492SSY9310_1,  P02E,    39,  1,     15,      9,2,19931018,1915, 30.0033, 158.7483, 5939,   1999.1,   1.9453,  34.5978,3,  34.5777,3,   -999.0,9,     81.8,3,  -999.00,9,  -999.00,9,  -999.00,9,  1.8098
  492SSY9310_1,  P02E,    39,  1,     16,      8,2,19931018,1915, 30.0033, 158.7483, 5939,   2251.0,   1.7866,  34.6245,2,  34.6266,2,   -999.0,9,     96.1,2,   149.89,3,    40.78,3,     2.84,3,  1.6322
  492SSY9310_1,  P02E,    39,  1,     17,      7,2,19931018,1915, 30.0033, 158.7483, 5939,   2499.7,   1.6955,  34.6414,2,  34.6417,2,   -999.0,9,    109.1,2,   147.94,3,    40.72,3,     2.74,3,  1.5209
  492SSY9310_1,  P02E,    39,  1,     18,      6,2,19931018,1915, 30.0033, 158.7483, 5939,   2999.3,   1.5600,  34.6640,2,  34.6647,2,   -999.0,9,    130.4,2,   144.05,3,    39.59,3,     2.66,6,  1.3420
  492SSY9310_1,  P02E,    39,  1,     19,      5,2,19931018,1915, 30.0033, 158.7483, 5939,   3498.9,   1.4971,  34.6752,2,  34.6753,2,   -999.0,9,    143.1,2,   141.13,3,    38.47,3,     2.60,3,  1.2313
  492SSY9310_1,  P02E,    39,  1,     20,      4,2,19931018,1915, 30.0033, 158.7483, 5939,   3999.9,   1.4649,  34.6837,2,  34.6836,2,   -999.0,9,    153.1,2,   138.22,3,    36.78,3,     2.53,6,  1.1472
  492SSY9310_1,  P02E,    39,  1,     21,      3,2,19931018,1915, 30.0033, 158.7483, 5939,   4500.2,   1.4721,  34.6886,2,  34.6897,2,   -999.0,9,    161.8,2,   137.25,3,    36.63,3,     2.51,3,  1.0982
  492SSY9310_1,  P02E,    39,  1,     22,      2,2,19931018,1915, 30.0033, 158.7483, 5939,   5000.1,   1.4869,  34.6924,2,  34.6922,2,   -999.0,9,    167.4,3,   132.39,3,    35.77,3,     2.46,3,  1.0534
  492SSY9310_1,  P02E,    39,  1,     23,      1,2,19931018,1915, 30.0033, 158.7483, 5939,   5500.6,   1.5086,  34.6958,2,  34.6965,2,   -999.0,9,    173.1,2,   126.55,3,    35.51,3,     2.43,3,  1.0119
  492SSY9310_1,  P02E,    40,  1,      1,     23,2,19931019,1220, 29.9933, 159.3433, 5741,     49.0,  20.5212,  34.9248,2,  34.8932,3,   -999.0,9,    242.4,2,     0.97,3,     0.00,3,     0.01,3, 20.5120
  492SSY9310_1,  P02E,    40,  1,      2,     22,2,19931019,1220, 29.9933, 159.3433, 5741,     99.2,  17.7230,  34.8254,2,  34.8306,2,   -999.0,9,    220.1,2,     1.95,3,     0.91,3,     0.12,3, 17.7063
  492SSY9310_1,  P02E,    40,  1,      3,     21,2,19931019,1220, 29.9933, 159.3433, 5741,    199.3,  16.3612,  34.7377,2,  34.7211,2,   -999.0,9,    210.5,2,     3.90,3,     5.19,3,     0.36,3, 16.3292
  492SSY9310_1,  P02E,    40,  1,      4,     20,2,19931019,1220, 29.9933, 159.3433, 5741,    299.5,  14.7848,  34.5929,2,  34.5792,2,   -999.0,9,    203.1,2,     7.79,3,     8.22,3,     0.58,3, 14.7399
  492SSY9310_1,  P02E,    40,  1,      5,     19,2,19931019,1220, 29.9933, 159.3433, 5741,    398.3,  12.7635,  34.4734,2,  34.4646,2,   -999.0,9,    191.3,2,    14.61,3,    12.45,3,     0.89,3, 12.7094
  492SSY9310_1,  P02E,    40,  1,      6,     18,2,19931019,1220, 29.9933, 159.3433, 5741,    499.7,   9.6413,  34.2112,2,  34.2073,2,   -999.0,9,    187.7,2,    27.27,3,    18.60,3,     1.32,3,  9.5844
  492SSY9310_1,  P02E,    40,  1,      7,     17,2,19931019,1220, 29.9933, 159.3433, 5741,    599.5,   6.7349,  34.0315,2,  34.0204,2,   -999.0,9,    164.6,2,  -999.00,9,  -999.00,9,  -999.00,9,  6.6793
  492SSY9310_1,  P02E,    40,  1,      8,     16,2,19931019,1220, 29.9933, 159.3433, 5741,    699.8,   5.1767,  34.0157,2,  34.0082,2,   -999.0,9,    128.0,2,    67.19,3,    32.28,3,     2.32,3,  5.1196
  492SSY9310_1,  P02E,    40,  1,      9,     15,2,19931019,1220, 29.9933, 159.3433, 5741,    799.2,   4.4981,  34.1297,2,  34.1174,3,   -999.0,9,     83.6,2,    88.62,3,    38.42,3,     2.65,3,  4.4363
  492SSY9310_1,  P02E,    40,  1,     10,     14,2,19931019,1220, 29.9933, 159.3433, 5741,    899.4,   3.9979,  34.2314,2,  34.2277,2,   -999.0,9,     61.8,2,   104.19,3,    40.87,3,     2.80,3,  3.9310
  492SSY9310_1,  P02E,    40,  1,     11,     13,2,19931019,1220, 29.9933, 159.3433, 5741,   1000.0,   3.6174,  34.3073,2,  34.2978,2,   -999.0,9,     55.3,2,   113.91,3,  -999.00,9,  -999.00,9,  3.5451
  492SSY9310_1,  P02E,    40,  1,     12,     12,2,19931019,1220, 29.9933, 159.3433, 5741,   1249.2,   2.9221,  34.4242,2,  34.4196,2,   -999.0,9,     43.9,2,   135.31,3,    43.33,3,     3.01,3,  2.8357
  492SSY9310_1,  P02E,    40,  1,     13,     11,2,19931019,1220, 29.9933, 159.3433, 5741,   1499.7,   2.4082,  34.5059,2,  34.4891,4,   -999.0,9,     46.5,2,   142.11,4,    42.46,3,     2.91,4,  2.3073
  492SSY9310_1,  P02E,    40,  1,     14,     10,2,19931019,1220, 29.9933, 159.3433, 5741,   1749.1,   2.1292,  34.5647,2,  34.5576,3,   -999.0,9,     60.5,2,   155.74,3,    43.48,3,     2.96,3,  2.0117
  492SSY9310_1,  P02E,    40,  1,     15,      9,2,19931019,1220, 29.9933, 159.3433, 5741,   2000.3,   1.9329,  34.6012,2,  34.5830,4,   -999.0,9,     80.9,2,   155.73,3,    42.82,3,     2.87,6,  1.7975
  492SSY9310_1,  P02E,    40,  1,     16,      8,2,19931019,1220, 29.9933, 159.3433, 5741,   2249.9,   1.7581,  34.6289,2,  34.6117,4,   -999.0,9,     96.1,2,   156.70,3,    40.81,3,     2.79,3,  1.6043
  492SSY9310_1,  P02E,    40,  1,     17,      7,2,19931019,1220, 29.9933, 159.3433, 5741,   2499.5,   1.6683,  34.6497,2,  34.6341,4,   -999.0,9,    117.4,2,   149.88,3,    40.21,3,     2.68,3,  1.4942
  492SSY9310_1,  P02E,    40,  1,     18,      6,2,19931019,1220, 29.9933, 159.3433, 5741,   3000.2,   1.5481,  34.6681,2,  34.6671,2,   -999.0,9,    133.9,2,   147.95,3,    38.73,3,     2.61,3,  1.3303
  492SSY9310_1,  P02E,    40,  1,     19,      5,2,19931019,1220, 29.9933, 159.3433, 5741,   3498.5,   1.4823,  34.6792,2,  34.6779,2,   -999.0,9,    145.2,2,   146.00,3,    38.41,3,     2.55,3,  1.2169
  492SSY9310_1,  P02E,    40,  1,     21,      3,2,19931019,1220, 29.9933, 159.3433, 5741,   4500.1,   1.4545,  34.6913,2,  34.6844,4,   -999.0,9,    165.7,2,   140.17,3,    35.85,3,     2.47,3,  1.0811
  492SSY9310_1,  P02E,    40,  1,     22,      2,2,19931019,1220, 29.9933, 159.3433, 5741,   4999.3,   1.4667,  34.6956,2,  34.6934,2,   -999.0,9,    171.3,2,   135.31,3,    35.57,3,     2.49,3,  1.0339
  492SSY9310_1,  P02E,    40,  1,     23,      1,2,19931019,1220, 29.9933, 159.3433, 5741,   5501.0,   1.5022,  34.6981,2,  34.7017,2,   -999.0,9,    173.5,2,  -999.00,9,  -999.00,9,  -999.00,9,  1.0057
  492SSY9310_1,  P02E,    41,  1,      1,     23,2,19931019,0655, 30.0317, 159.8983, 5690,    100.1,  18.0211,  34.8380,2,  34.8357,2,   -999.0,9,    209.7,2,     0.97,3,     2.93,3,     0.20,3, 18.0039
  492SSY9310_1,  P02E,    41,  1,      2,     22,2,19931019,0655, 30.0317, 159.8983, 5690,    200.4,  16.6712,  34.7603,2,  34.7587,2,   -999.0,9,    216.2,2,     1.95,3,     4.51,3,     0.32,3, 16.6387
  492SSY9310_1,  P02E,    41,  1,      3,     21,2,19931019,0655, 30.0317, 159.8983, 5690,    300.6,  14.8626,  34.6013,2,  34.6054,2,   -999.0,9,    200.5,2,     6.82,3,     8.54,3,     0.61,3, 14.8175
  492SSY9310_1,  P02E,    41,  1,      4,     20,2,19931019,0655, 30.0317, 159.8983, 5690,    399.8,  12.4325,  34.4202,2,  34.4208,2,   -999.0,9,    209.6,2,    11.69,3,    11.18,3,     0.82,3, 12.3792
  492SSY9310_1,  P02E,    41,  1,      5,     19,2,19931019,0655, 30.0317, 159.8983, 5690,    501.1,  10.1074,  34.2483,2,  34.2411,2,   -999.0,9,    194.3,2,    21.43,3,    16.93,3,     1.22,3, 10.0486
  492SSY9310_1,  P02E,    41,  1,      6,     18,2,19931019,0655, 30.0317, 159.8983, 5690,    600.6,   7.5361,  34.0709,2,  34.0725,2,   -999.0,9,    173.8,2,    37.98,3,    24.10,3,     1.73,3,  7.4768
  492SSY9310_1,  P02E,    41,  1,      7,     17,2,19931019,0655, 30.0317, 159.8983, 5690,    700.6,   5.5990,  34.0344,2,  34.0360,2,   -999.0,9,    125.8,2,    59.40,3,    32.50,3,     2.30,3,  5.5395
  492SSY9310_1,  P02E,    41,  1,      8,     16,2,19931019,0655, 30.0317, 159.8983, 5690,    800.5,   4.6929,  34.1095,2,  34.1093,2,   -999.0,9,     84.0,2,    77.91,3,    37.39,3,     2.64,3,  4.6298
  492SSY9310_1,  P02E,    41,  1,      9,     15,2,19931019,0655, 30.0317, 159.8983, 5690,    900.3,   4.2013,  34.1878,2,  34.1858,2,   -999.0,9,     62.7,2,    89.59,3,    41.08,3,     2.79,3,  4.1330
  492SSY9310_1,  P02E,    41,  1,     10,     14,2,19931019,0655, 30.0317, 159.8983, 5690,   1000.4,   3.8448,  34.2825,2,  34.2791,2,   -999.0,9,     48.7,2,   101.26,3,    42.63,3,     2.96,3,  3.7707
  492SSY9310_1,  P02E,    41,  1,     11,     13,2,19931019,0655, 30.0317, 159.8983, 5690,   1250.9,   3.0260,  34.4076,2,  34.4067,2,   -999.0,9,     43.1,2,   122.66,3,    43.79,3,     3.05,3,  2.9385
  492SSY9310_1,  P02E,    41,  1,     12,     12,2,19931019,0655, 30.0317, 159.8983, 5690,   1500.0,   2.5273,  34.4955,2,  34.4968,2,   -999.0,9,     44.4,2,   136.27,3,    44.26,3,     3.05,3,  2.4250
  492SSY9310_1,  P02E,    41,  1,     13,     11,2,19931019,0655, 30.0317, 159.8983, 5690,   1751.2,   2.2031,  34.5514,2,  34.5545,2,   -999.0,9,     60.0,2,   142.11,3,    44.01,3,     2.98,3,  2.0845
  492SSY9310_1,  P02E,    41,  1,     15,      9,2,19931019,0655, 30.0317, 159.8983, 5690,   2251.0,   1.8056,  34.6241,2,  34.6207,2,   -999.0,9,     98.7,2,   143.08,3,    41.32,3,     2.80,6,  1.6509
  492SSY9310_1,  P02E,    41,  1,     16,      8,2,19931019,0655, 30.0317, 159.8983, 5690,   2500.9,   1.6777,  34.6435,2,  34.6384,3,   -999.0,9,    111.3,3,   139.18,3,    39.82,3,     2.73,3,  1.5033
  492SSY9310_1,  P02E,    41,  1,     17,      7,2,19931019,0655, 30.0317, 159.8983, 5690,   2500.9,   1.6777,  34.6435,2,  34.6462,2,   -999.0,9,    110.0,3,  -999.00,9,  -999.00,9,  -999.00,9,  1.5033
  492SSY9310_1,  P02E,    41,  1,     18,      6,2,19931019,0655, 30.0317, 159.8983, 5690,   3501.0,   1.4756,  34.6781,2,  34.6761,2,   -999.0,9,    144.4,2,   134.32,3,    38.08,3,     2.57,3,  1.2101
  492SSY9310_1,  P02E,    41,  1,     19,      5,2,19931019,0655, 30.0317, 159.8983, 5690,   3999.8,   1.4521,  34.6853,2,  34.6850,2,   -999.0,9,    155.2,2,   131.41,3,    37.50,3,     2.52,3,  1.1347
  492SSY9310_1,  P02E,    41,  1,     20,      4,2,19931019,0655, 30.0317, 159.8983, 5690,   4498.8,   1.4622,  34.6893,2,  34.6903,2,   -999.0,9,    162.2,3,   130.44,3,    36.34,3,     2.46,6,  1.0888
  492SSY9310_1,  P02E,    41,  1,     21,      3,2,19931019,0655, 30.0317, 159.8983, 5690,   4998.3,   1.4680,  34.6944,2,  34.6950,2,   -999.0,9,    173.5,2,   122.66,3,    35.57,3,     2.40,3,  1.0353
  492SSY9310_1,  P02E,    41,  1,     22,      2,2,19931019,0655, 30.0317, 159.8983, 5690,   5500.4,   1.5089,  34.6963,2,  34.6963,2,   -999.0,9,    177.0,2,   119.74,3,    35.65,3,     2.39,3,  1.0123
  492SSY9310_1,  P02E,    41,  1,     23,      1,2,19931019,0655, 30.0317, 159.8983, 5690,   5500.4,   1.5089,  34.6963,2,  34.6963,2,   -999.0,9,    173.5,2,   119.74,3,    35.17,3,     2.39,3,  1.0123
  492SSY9310_1,  P02E,    42,  1,      1,     23,2,19931019,2000, 30.0033, 160.5000, 5824,     51.1,  26.3997,  35.1843,2,  35.1843,2,   -999.0,9,    206.9,2,     0.97,3,     0.00,3,     0.00,3, 26.3881
  492SSY9310_1,  P02E,    42,  1,      2,     22,2,19931019,2000, 30.0033, 160.5000, 5824,     99.8,  20.8946,  35.1029,2,  35.1138,2,   -999.0,9,    220.2,2,     0.97,3,     0.00,3,     0.01,3, 20.8756
  492SSY9310_1,  P02E,    42,  1,      3,     21,2,19931019,2000, 30.0033, 160.5000, 5824,    200.0,  16.9342,  34.7820,2,  34.7822,2,   -999.0,9,    210.5,2,     3.90,3,     4.29,3,     0.30,3, 16.9014
  492SSY9310_1,  P02E,    42,  1,      4,     20,2,19931019,2000, 30.0033, 160.5000, 5824,    300.6,  15.2911,  34.6321,2,  34.6337,2,   -999.0,9,    202.2,2,     6.82,3,     7.24,3,     0.51,3, 15.2451
  492SSY9310_1,  P02E,    42,  1,      5,     19,2,19931019,2000, 30.0033, 160.5000, 5824,    400.1,  13.0145,  34.4628,2,  34.4699,2,   -999.0,9,    196.5,2,    13.64,3,    11.71,3,     0.79,3, 12.9594
  492SSY9310_1,  P02E,    42,  1,      6,     18,2,19931019,2000, 30.0033, 160.5000, 5824,    500.5,  10.6484,  34.2887,2,  34.2903,2,   -999.0,9,    187.3,2,    21.43,3,    16.71,3,     1.15,3, 10.5878
  492SSY9310_1,  P02E,    42,  1,      7,     17,2,19931019,2000, 30.0033, 160.5000, 5824,    600.4,   7.8484,  34.0888,2,  34.0948,2,   -999.0,9,    172.9,2,    36.04,3,    23.38,3,     1.63,3,  7.7877
  492SSY9310_1,  P02E,    42,  1,      8,     16,2,19931019,2000, 30.0033, 160.5000, 5824,    701.1,   5.6447,  34.0127,2,  34.0143,2,   -999.0,9,    135.4,2,    57.46,3,    31.08,3,     2.18,3,  5.5851
  492SSY9310_1,  P02E,    42,  1,      9,     15,2,19931019,2000, 30.0033, 160.5000, 5824,    798.8,   4.7359,  34.0774,2,  34.0850,2,   -999.0,9,     93.1,2,    74.99,3,    37.13,3,     2.56,3,  4.6727
  492SSY9310_1,  P02E,    42,  1,     10,     14,2,19931019,2000, 30.0033, 160.5000, 5824,    899.9,   4.1383,  34.1912,2,  34.1960,2,   -999.0,9,     62.2,2,    93.48,3,    37.59,3,     2.81,4,  4.0704
  492SSY9310_1,  P02E,    42,  1,     11,     13,2,19931019,2000, 30.0033, 160.5000, 5824,   1001.4,   3.7815,  34.2686,2,  34.2715,2,   -999.0,9,     52.2,2,   110.02,3,    38.27,3,     2.91,4,  3.7078
  492SSY9310_1,  P02E,    42,  1,     12,     12,2,19931019,2000, 30.0033, 160.5000, 5824,   1247.5,   3.0703,  34.3937,2,  34.4029,2,   -999.0,9,     40.5,2,   122.66,3,    44.10,3,     3.02,3,  2.9827
  492SSY9310_1,  P02E,    42,  1,     13,     11,2,19931019,2000, 30.0033, 160.5000, 5824,   1497.7,   2.5634,  34.4878,2,  34.4820,2,   -999.0,9,     45.2,2,   130.43,4,    43.51,3,     2.92,4,  2.4609
  492SSY9310_1,  P02E,    42,  1,     14,     10,2,19931019,2000, 30.0033, 160.5000, 5824,   1751.2,   2.2149,  34.5514,2,  34.5551,2,   -999.0,9,     61.3,2,   142.11,3,    44.22,3,     2.95,3,  2.0961
  492SSY9310_1,  P02E,    42,  1,     15,      9,2,19931019,2000, 30.0033, 160.5000, 5824,   2004.6,   1.9789,  34.5919,2,  34.5834,4,   -999.0,9,     78.3,3,  -999.00,9,  -999.00,9,  -999.00,9,  1.8425
  492SSY9310_1,  P02E,    42,  1,     16,      8,2,19931019,2000, 30.0033, 160.5000, 5824,   2248.2,   1.7950,  34.6200,2,  34.6229,2,   -999.0,9,     96.5,2,   144.05,3,    41.62,3,     2.76,6,  1.6407
  492SSY9310_1,  P02E,    42,  1,     17,      7,2,19931019,2000, 30.0033, 160.5000, 5824,   2500.4,   1.6987,  34.6393,2,  34.6453,2,   -999.0,9,    114.8,2,   140.15,3,    40.90,3,     2.68,3,  1.5240
  492SSY9310_1,  P02E,    42,  1,     18,      6,2,19931019,2000, 30.0033, 160.5000, 5824,   2999.4,   1.5620,  34.6604,2,  34.6643,2,   -999.0,9,    131.8,2,   136.27,3,    39.50,3,     2.58,3,  1.3440
  492SSY9310_1,  P02E,    42,  1,     19,      5,2,19931019,2000, 30.0033, 160.5000, 5824,   3501.3,   1.4992,  34.6720,2,  34.6757,2,   -999.0,9,    143.5,2,   135.29,3,    38.62,3,     2.54,3,  1.2331
  492SSY9310_1,  P02E,    42,  1,     20,      4,2,19931019,2000, 30.0033, 160.5000, 5824,   4003.8,   1.4719,  34.6797,2,  34.6796,2,   -999.0,9,    153.9,2,   132.38,3,    37.05,3,     2.47,3,  1.1536
  492SSY9310_1,  P02E,    42,  1,     21,      3,2,19931019,2000, 30.0033, 160.5000, 5824,   4502.0,   1.4649,  34.6863,2,  34.6928,4,   -999.0,9,    163.5,2,   129.46,3,    36.72,3,     2.43,6,  1.0911
  492SSY9310_1,  P02E,    42,  1,     22,      2,2,19931019,2000, 30.0033, 160.5000, 5824,   4998.5,   1.4739,  34.6911,2,  34.6936,2,   -999.0,9,    171.3,2,   124.61,3,    35.54,3,     2.39,3,  1.0410
  492SSY9310_1,  P02E,    42,  1,     23,      1,2,19931019,2000, 30.0033, 160.5000, 5824,   5499.3,   1.5034,  34.6939,2,  34.6965,2,   -999.0,9,    174.8,2,   122.66,3,    35.17,3,     2.38,3,  1.0071