BOTTLE,20040202WHPSIOSA
EXPOCODE,SECT_ID,STNNBR,CASTNO,SAMPNO,BTLNBR,BTLNBR_FLAG_W,DATE,TIME,LATITUDE,LONGITUDE,DEPTH,CTDPRS,CTDTMP,CTDSAL,CTDSAL_FLAG_W,SALNTY,SALNTY_FLAG_W,CTDOXY,CTDOXY_FLAG_W,OXYGEN,OXYGEN_FLAG_W,SILCAT,SILCAT_FLAG_W,NO2+NO3,NO2+NO3_FLAG_W,PHSPHT,PHSPHT_FLAG_W,THETA
,,,,,,,,,,,,DBAR,ITS-90,PSS-78,,PSS-78,,UMOL/KG,,UMOL/KG,,UMOL/KG,,UMOL/KG,,UMOL/KG,,DEG C
  492SSY9310_1,  P02E,    55,  1,      1,     23,2,19931023,0158, 30.0033, 169.4167, 5690,     48.6,  23.8202,  35.0546,2,  35.0488,2,   -999.0,9,    216.8,2,     1.95,3,     0.00,3,     0.00,3, 23.8100
  492SSY9310_1,  P02E,    55,  1,      2,     22,2,19931023,0158, 30.0033, 169.4167, 5690,     97.7,  17.6826,  34.8201,2,  34.8137,2,   -999.0,9,    231.9,2,     3.90,3,     0.20,3,     0.09,3, 17.6661
  492SSY9310_1,  P02E,    55,  1,      3,     21,2,19931023,0158, 30.0033, 169.4167, 5690,    198.5,  16.1519,  34.7152,2,  34.7144,2,   -999.0,9,    217.5,2,     6.82,3,     4.74,3,     0.34,3, 16.1204
  492SSY9310_1,  P02E,    55,  1,      4,     20,2,19931023,0158, 30.0033, 169.4167, 5690,    298.7,  14.2245,  34.5415,2,  34.5457,2,   -999.0,9,    209.2,2,     9.74,3,     8.33,3,     0.59,3, 14.1810
  492SSY9310_1,  P02E,    55,  1,      5,     19,2,19931023,0158, 30.0033, 169.4167, 5690,    400.0,  12.0398,  34.3780,2,  34.3666,2,   -999.0,9,    210.0,2,    14.61,3,    11.78,3,     0.86,3, 11.9876
  492SSY9310_1,  P02E,    55,  1,      6,     18,2,19931023,0158, 30.0033, 169.4167, 5690,    499.2,   9.1217,  34.1454,2,  34.1438,2,   -999.0,9,    210.8,2,    27.27,3,    17.43,3,     1.27,3,  9.0669
  492SSY9310_1,  P02E,    55,  1,      7,     17,2,19931023,0158, 30.0033, 169.4167, 5690,    597.4,   6.7447,  34.0268,2,  34.0286,2,   -999.0,9,    163.7,2,    48.70,3,    26.38,3,     1.91,3,  6.6893
  492SSY9310_1,  P02E,    55,  1,      8,     16,2,19931023,0158, 30.0033, 169.4167, 5690,    700.5,   5.1297,  34.0343,2,  34.0423,2,   -999.0,9,    114.9,2,    73.03,3,    32.42,3,     2.41,3,  5.0727
  492SSY9310_1,  P02E,    55,  1,      9,     15,2,19931023,0158, 30.0033, 169.4167, 5690,    798.5,   4.4243,  34.1315,2,  34.1348,2,   -999.0,9,     75.3,2,    94.46,3,    38.72,3,     2.73,3,  4.3630
  492SSY9310_1,  P02E,    55,  1,     10,     14,2,19931023,0158, 30.0033, 169.4167, 5690,    898.9,   3.9024,  34.2312,2,  34.2324,2,   -999.0,9,     50.5,2,   112.95,3,    41.68,3,     2.91,3,  3.8361
  492SSY9310_1,  P02E,    55,  1,     11,     13,2,19931023,0158, 30.0033, 169.4167, 5690,    998.7,   3.5426,  34.3044,2,  34.3060,2,   -999.0,9,     40.9,2,   125.60,3,    42.24,3,     3.01,6,  3.4710
  492SSY9310_1,  P02E,    55,  1,     12,     12,2,19931023,0158, 30.0033, 169.4167, 5690,   1248.7,   2.8734,  34.4283,2,  34.4263,2,   -999.0,9,     36.5,2,   146.02,3,    43.20,3,     3.06,3,  2.7875
  492SSY9310_1,  P02E,    55,  1,     13,     11,2,19931023,0158, 30.0033, 169.4167, 5690,   1499.7,   2.4529,  34.5140,2,  34.5111,2,   -999.0,9,     43.9,2,   157.68,3,    43.42,3,     3.05,3,  2.3515
  492SSY9310_1,  P02E,    55,  1,     14,     10,2,19931023,0158, 30.0033, 169.4167, 5690,   1747.8,   2.1350,  34.5690,2,  34.5692,2,   -999.0,9,     60.9,2,   165.47,3,    43.57,3,     2.97,3,  2.0175
  492SSY9310_1,  P02E,    55,  1,     15,      9,2,19931023,0158, 30.0033, 169.4167, 5690,   1997.7,   1.8905,  34.6080,3,  34.5256,3,   -999.0,9,     76.1,3,  -999.00,9,  -999.00,9,  -999.00,9,  1.7559
  492SSY9310_1,  P02E,    55,  1,     16,      8,2,19931023,0158, 30.0033, 169.4167, 5690,   2249.2,   1.7425,  34.6300,2,  34.6189,4,   -999.0,9,     93.5,3,   160.59,3,    39.53,4,     2.78,4,  1.5890
  492SSY9310_1,  P02E,    55,  1,     17,      7,2,19931023,0158, 30.0033, 169.4167, 5690,   2498.4,   1.6268,  34.6478,2,  34.6494,2,   -999.0,9,    113.9,4,   163.51,3,    39.86,3,     2.73,3,  1.4536
  492SSY9310_1,  P02E,    55,  1,     18,      6,2,19931023,0158, 30.0033, 169.4167, 5690,   2997.4,   1.4977,  34.6713,2,  34.6682,2,   -999.0,9,    133.9,2,   158.65,3,    38.88,3,     2.61,3,  1.2813
  492SSY9310_1,  P02E,    55,  1,     19,      5,2,19931023,0158, 30.0033, 169.4167, 5690,   3497.6,   1.4574,  34.6813,2,  34.6808,2,   -999.0,9,    147.4,2,   151.84,3,    37.91,3,     2.52,6,  1.1926
  492SSY9310_1,  P02E,    55,  1,     20,      4,2,19931023,0158, 30.0033, 169.4167, 5690,   3997.1,   1.4387,  34.6874,2,  34.6879,2,   -999.0,9,    156.5,2,   150.88,3,    35.22,3,     2.49,4,  1.1219
  492SSY9310_1,  P02E,    55,  1,     21,      3,2,19931023,0158, 30.0033, 169.4167, 5690,   4498.1,   1.4403,  34.6929,2,  34.6946,2,   -999.0,9,    164.8,2,   145.04,3,    35.51,3,     2.43,3,  1.0675
  492SSY9310_1,  P02E,    55,  1,     22,      2,2,19931023,0158, 30.0033, 169.4167, 5690,   4997.5,   1.4499,  34.6958,2,  34.6954,2,   -999.0,9,    173.5,2,   138.23,3,    34.92,3,     2.37,3,  1.0178
  492SSY9310_1,  P02E,    55,  1,     23,      1,2,19931023,0158, 30.0033, 169.4167, 5690,   5498.4,   1.4830,  34.6987,2,  34.6995,2,   -999.0,9,    177.4,2,   136.29,3,    34.46,3,     2.36,3,  0.9875
  492SSY9310_1,  P02E,    56,  1,      1,     23,2,19931023,0654, 30.0017, 170.0033, 5534,     50.4,  24.0427,  35.0790,2,  35.0909,2,   -999.0,9,    214.6,2,     1.95,3,     0.00,3,     0.00,3, 24.0321
  492SSY9310_1,  P02E,    56,  1,      2,     22,2,19931023,0654, 30.0017, 170.0033, 5534,    100.4,  18.1878,  34.8306,2,  34.8298,2,   -999.0,9,    205.3,2,     3.90,3,     3.19,3,     0.19,3, 18.1705
  492SSY9310_1,  P02E,    56,  1,      3,     21,2,19931023,0654, 30.0017, 170.0033, 5534,    200.3,  16.4446,  34.7431,2,  34.7406,2,   -999.0,9,    217.9,2,     4.87,3,     4.45,3,     0.30,3, 16.4123
  492SSY9310_1,  P02E,    56,  1,      4,     20,2,19931023,0654, 30.0017, 170.0033, 5534,    300.8,  14.2933,  34.5518,2,  34.5628,2,   -999.0,9,    201.3,2,    11.69,3,     9.08,3,     0.62,3, 14.2493
  492SSY9310_1,  P02E,    56,  1,      5,     19,2,19931023,0654, 30.0017, 170.0033, 5534,    400.2,  11.9981,  34.3947,2,  34.3961,2,   -999.0,9,    210.4,2,    16.56,3,    11.99,3,     0.82,3, 11.9459
  492SSY9310_1,  P02E,    56,  1,      6,     18,2,19931023,0654, 30.0017, 170.0033, 5534,    499.0,   9.3102,  34.1794,2,  34.1815,2,   -999.0,9,    195.6,2,    29.22,3,    18.55,3,     1.31,3,  9.2546
  492SSY9310_1,  P02E,    56,  1,      7,     17,2,19931023,0654, 30.0017, 170.0033, 5534,    600.4,   6.7422,  34.0291,2,  34.0305,2,   -999.0,9,    161.5,2,    46.75,3,    26.33,3,     1.88,3,  6.6865
  492SSY9310_1,  P02E,    56,  1,      8,     16,2,19931023,0654, 30.0017, 170.0033, 5534,    701.2,   5.1384,  34.0365,2,  34.0376,2,   -999.0,9,    113.6,2,    70.11,3,    33.59,3,     2.40,3,  5.0813
  492SSY9310_1,  P02E,    56,  1,      9,     15,2,19931023,0654, 30.0017, 170.0033, 5534,    799.7,   4.4626,  34.1277,2,  34.1299,2,   -999.0,9,     74.4,2,    88.62,3,    38.54,3,     2.70,3,  4.4010
  492SSY9310_1,  P02E,    56,  1,     10,     14,2,19931023,0654, 30.0017, 170.0033, 5534,    901.4,   4.0151,  34.2075,2,  34.2070,2,   -999.0,9,     57.4,2,   102.24,3,    40.27,3,     2.87,3,  3.9480
  492SSY9310_1,  P02E,    56,  1,     11,     13,2,19931023,0654, 30.0017, 170.0033, 5534,   1000.8,   3.6593,  34.2783,2,  34.2805,2,   -999.0,9,     45.2,2,   113.92,3,    41.98,3,     2.97,6,  3.5866
  492SSY9310_1,  P02E,    56,  1,     12,     12,2,19931023,0654, 30.0017, 170.0033, 5534,   1249.3,   2.9660,  34.4105,2,  34.4100,2,   -999.0,9,     33.1,2,   135.31,3,    43.54,3,     3.11,3,  2.8792
  492SSY9310_1,  P02E,    56,  1,     13,     11,2,19931023,0654, 30.0017, 170.0033, 5534,   1500.4,   2.4636,  34.5013,2,  34.4962,2,   -999.0,9,     43.5,2,   145.03,3,    43.01,3,     3.05,3,  2.3620
  492SSY9310_1,  P02E,    56,  1,     14,     10,2,19931023,0654, 30.0017, 170.0033, 5534,   1751.2,   2.1276,  34.5604,2,  34.5618,2,   -999.0,9,     59.1,2,   155.74,3,    42.49,3,     3.04,3,  2.0099
  492SSY9310_1,  P02E,    56,  1,     15,      9,2,19931023,0654, 30.0017, 170.0033, 5534,   1999.7,   1.9018,  34.6015,2,  34.5963,2,   -999.0,9,     79.6,2,   150.87,3,    40.74,3,     2.83,3,  1.7669
  492SSY9310_1,  P02E,    56,  1,     16,      8,2,19931023,0654, 30.0017, 170.0033, 5534,   2251.9,   1.7290,  34.6313,2,  34.6305,2,   -999.0,9,     98.7,2,   155.73,3,    40.24,3,     2.78,3,  1.5755
  492SSY9310_1,  P02E,    56,  1,     17,      7,2,19931023,0654, 30.0017, 170.0033, 5534,   2500.9,   1.6238,  34.6481,2,  34.6460,2,   -999.0,9,    112.2,2,   153.78,3,    39.80,3,     2.70,3,  1.4504
  492SSY9310_1,  P02E,    56,  1,     18,      6,2,19931023,0654, 30.0017, 170.0033, 5534,   2999.5,   1.5070,  34.6706,2,  34.6663,2,   -999.0,9,    133.9,3,   149.89,3,    37.87,3,     2.58,6,  1.2901
  492SSY9310_1,  P02E,    56,  1,     19,      5,2,19931023,0654, 30.0017, 170.0033, 5534,   3500.6,   1.4581,  34.6791,2,  34.6793,2,   -999.0,9,    145.7,2,   146.97,3,    37.44,3,     2.52,3,  1.1931
  492SSY9310_1,  P02E,    56,  1,     20,      4,2,19931023,0654, 30.0017, 170.0033, 5534,   4001.4,   1.4352,  34.6868,2,  34.6881,2,   -999.0,9,    154.8,2,   143.09,3,    35.59,3,     2.49,3,  1.1181
  492SSY9310_1,  P02E,    56,  1,     21,      3,2,19931023,0654, 30.0017, 170.0033, 5534,   4498.9,   1.4334,  34.6917,2,  34.6848,4,   -999.0,9,    163.5,2,   138.22,3,    35.45,3,     2.42,3,  1.0608
  492SSY9310_1,  P02E,    56,  1,     22,      2,2,19931023,0654, 30.0017, 170.0033, 5534,   5001.5,   1.4472,  34.6954,2,  34.6958,2,   -999.0,9,    173.1,2,   133.37,3,    34.55,3,     2.39,3,  1.0147
  492SSY9310_1,  P02E,    56,  1,     23,      1,2,19931023,0654, 30.0017, 170.0033, 5534,   5499.7,   1.4744,  34.6986,2,  34.6983,2,   -999.0,9,    177.4,2,   129.47,3,    34.43,3,     2.37,3,  0.9791
  492SSY9310_1,  P02E,    57,  1,      1,     23,2,19931023,1155, 29.9967, 170.5883, 5555,     49.5,  21.4604,  34.8423,2,  34.8255,2,   -999.0,9,    219.8,2,     0.97,3,     0.01,3,     0.05,3, 21.4508
  492SSY9310_1,  P02E,    57,  1,      2,     22,2,19931023,1155, 29.9967, 170.5883, 5555,     99.7,  18.8063,  34.8374,2,  34.8326,2,   -999.0,9,    218.8,2,     2.92,3,     2.83,3,     0.21,3, 18.7887
  492SSY9310_1,  P02E,    57,  1,      3,     21,2,19931023,1155, 29.9967, 170.5883, 5555,    202.6,  17.0130,  34.7706,2,  34.7636,2,   -999.0,9,    201.4,2,     4.87,3,     5.19,3,     0.40,3, 16.9796
  492SSY9310_1,  P02E,    57,  1,      4,     20,2,19931023,1155, 29.9967, 170.5883, 5555,    300.9,  14.7328,  34.5956,2,  34.5904,2,   -999.0,9,    197.9,2,    10.72,3,     8.55,3,     0.67,3, 14.6878
  492SSY9310_1,  P02E,    57,  1,      5,     19,2,19931023,1155, 29.9967, 170.5883, 5555,    399.5,  12.4308,  34.4297,2,  34.4255,2,   -999.0,9,    208.3,2,    14.61,3,    11.39,3,     0.86,3, 12.3775
  492SSY9310_1,  P02E,    57,  1,      6,     18,2,19931023,1155, 29.9967, 170.5883, 5555,    499.4,   9.7447,  34.2066,2,  34.2079,2,   -999.0,9,    199.5,2,    26.30,3,    16.93,3,     1.30,3,  9.6875
  492SSY9310_1,  P02E,    57,  1,      7,     17,2,19931023,1155, 29.9967, 170.5883, 5555,    598.7,   7.2622,  34.0560,2,  34.0445,2,   -999.0,9,    170.7,2,    43.82,3,    24.34,3,     1.85,3,  7.2043
  492SSY9310_1,  P02E,    57,  1,      8,     16,2,19931023,1155, 29.9967, 170.5883, 5555,    700.1,   5.4055,  34.0184,2,  34.0106,2,   -999.0,9,    125.4,2,  -999.00,9,  -999.00,9,  -999.00,9,  5.3472
  492SSY9310_1,  P02E,    57,  1,      9,     15,2,19931023,1155, 29.9967, 170.5883, 5555,    798.1,   4.6983,  34.0880,2,  34.0870,2,   -999.0,9,     87.9,2,    69.15,3,    31.50,3,     2.41,3,  4.6354
  492SSY9310_1,  P02E,    57,  1,     10,     14,2,19931023,1155, 29.9967, 170.5883, 5555,    900.2,   4.2001,  34.1767,2,  34.1681,2,   -999.0,9,     68.3,2,   102.25,3,    38.57,3,     3.16,3,  4.1318
  492SSY9310_1,  P02E,    57,  1,     11,     13,2,19931023,1155, 29.9967, 170.5883, 5555,   1000.3,   3.7199,  34.2669,2,  34.2623,2,   -999.0,9,     47.4,2,   119.76,3,    41.32,3,     3.43,6,  3.6468
  492SSY9310_1,  P02E,    57,  1,     12,     12,2,19931023,1155, 29.9967, 170.5883, 5555,   1248.8,   3.0186,  34.4225,2,  34.4188,2,   -999.0,9,     31.8,2,   142.13,3,    40.72,3,     3.10,3,  2.9313
  492SSY9310_1,  P02E,    57,  1,     13,     11,2,19931023,1155, 29.9967, 170.5883, 5555,   1501.0,   2.5178,  34.5074,2,  34.4887,4,   -999.0,9,     50.9,4,   146.98,3,    41.82,3,     2.96,3,  2.4155
  492SSY9310_1,  P02E,    57,  1,     14,     10,2,19931023,1155, 29.9967, 170.5883, 5555,   1751.8,   2.1967,  34.5612,2,  34.5582,2,   -999.0,9,     58.3,2,   160.61,3,    42.55,3,     2.96,3,  2.0781
  492SSY9310_1,  P02E,    57,  1,     15,      9,2,19931023,1155, 29.9967, 170.5883, 5555,   1998.8,   1.9442,  34.6003,2,  34.5957,2,   -999.0,9,     79.6,2,   161.57,3,    41.14,3,     2.84,3,  1.8088
  492SSY9310_1,  P02E,    57,  1,     16,      8,2,19931023,1155, 29.9967, 170.5883, 5555,   2249.1,   1.7833,  34.6238,2,  34.6174,2,   -999.0,9,     93.1,2,   163.51,3,    38.38,3,     2.80,3,  1.6291
  492SSY9310_1,  P02E,    57,  1,     17,      7,2,19931023,1155, 29.9967, 170.5883, 5555,   2498.5,   1.6623,  34.6434,2,  34.6415,2,   -999.0,9,    107.8,2,   161.56,3,    39.44,3,     2.72,3,  1.4884
  492SSY9310_1,  P02E,    57,  1,     18,      6,2,19931023,1155, 29.9967, 170.5883, 5555,   3000.2,   1.5302,  34.6675,2,  34.6616,2,   -999.0,9,    129.6,2,   157.68,3,    38.03,3,     2.63,3,  1.3128
  492SSY9310_1,  P02E,    57,  1,     19,      5,2,19931023,1155, 29.9967, 170.5883, 5555,   3499.5,   1.4782,  34.6762,2,  34.6734,2,   -999.0,9,    141.8,2,   154.76,3,    37.33,3,     2.57,6,  1.2128
  492SSY9310_1,  P02E,    57,  1,     20,      4,2,19931023,1155, 29.9967, 170.5883, 5555,   3999.5,   1.4613,  34.6831,2,  34.6796,2,   -999.0,9,    150.9,2,   152.83,3,    34.18,3,     2.55,3,  1.1437
  492SSY9310_1,  P02E,    57,  1,     21,      3,2,19931023,1155, 29.9967, 170.5883, 5555,   4499.4,   1.4652,  34.6889,2,  34.6844,2,   -999.0,9,    159.1,3,   148.93,3,    35.40,3,     2.53,3,  1.0916
  492SSY9310_1,  P02E,    57,  1,     22,      2,2,19931023,1155, 29.9967, 170.5883, 5555,   4999.8,   1.4832,  34.6927,2,  34.6895,2,   -999.0,9,    166.1,3,   145.05,3,    35.09,3,     2.59,3,  1.0498
  492SSY9310_1,  P02E,    57,  1,     23,      1,2,19931023,1155, 29.9967, 170.5883, 5555,   5498.6,   1.4858,  34.6982,2,  34.6942,2,   -999.0,9,    175.2,2,   137.26,3,    34.43,3,     2.62,3,  0.9902
  492SSY9310_1,  P02E,    58,  1,      1,     23,2,19931023,1702, 30.0050, 171.1667, 5203,     50.4,  22.1864,  34.9926,2,  34.9276,3,   -999.0,9,    225.4,2,     2.92,3,     0.00,3,     0.04,3, 22.1763
  492SSY9310_1,  P02E,    58,  1,      2,     22,2,19931023,1702, 30.0050, 171.1667, 5203,    100.2,  17.5556,  34.8131,2,  34.8174,2,   -999.0,9,    232.7,2,     3.90,3,     0.08,3,     0.13,3, 17.5387
  492SSY9310_1,  P02E,    58,  1,      3,     21,2,19931023,1702, 30.0050, 171.1667, 5203,    199.3,  16.2429,  34.7155,2,  34.6743,4,   -999.0,9,    194.4,2,     8.77,3,     6.79,3,     0.53,3, 16.2111
  492SSY9310_1,  P02E,    58,  1,      4,     20,2,19931023,1702, 30.0050, 171.1667, 5203,    299.5,  14.0674,  34.5306,2,  34.5351,2,   -999.0,9,    212.2,2,    11.69,3,     8.00,3,     0.63,3, 14.0241
  492SSY9310_1,  P02E,    58,  1,      5,     19,2,19931023,1702, 30.0050, 171.1667, 5203,    400.7,  11.9194,  34.3825,2,  34.3800,2,   -999.0,9,    224.8,2,    13.64,3,    10.36,3,     0.80,3, 11.8674
  492SSY9310_1,  P02E,    58,  1,      6,     18,2,19931023,1702, 30.0050, 171.1667, 5203,    500.0,   9.5397,  34.1799,2,  34.1840,2,   -999.0,9,    213.9,2,    24.35,3,    16.15,3,     1.22,3,  9.4832
  492SSY9310_1,  P02E,    58,  1,      7,     17,2,19931023,1702, 30.0050, 171.1667, 5203,    602.5,   7.0388,  34.0471,2,  34.0488,2,   -999.0,9,    160.7,2,    45.77,3,    26.11,3,     1.88,3,  6.9816
  492SSY9310_1,  P02E,    58,  1,      8,     16,2,19931023,1702, 30.0050, 171.1667, 5203,    701.1,   5.6158,  34.0602,2,  34.0603,2,   -999.0,9,    111.0,2,    68.17,3,    32.37,3,     2.39,3,  5.5562
  492SSY9310_1,  P02E,    58,  1,      9,     15,2,19931023,1702, 30.0050, 171.1667, 5203,    799.1,   4.7646,  34.1099,2,  34.1080,2,   -999.0,9,     82.3,2,    86.67,3,    36.83,3,     2.66,3,  4.7012
  492SSY9310_1,  P02E,    58,  1,     10,     14,2,19931023,1702, 30.0050, 171.1667, 5203,    899.2,   4.0910,  34.2003,2,  34.2011,2,   -999.0,9,     53.5,2,   107.11,3,    40.39,3,     2.92,3,  4.0235
  492SSY9310_1,  P02E,    58,  1,     11,     13,2,19931023,1702, 30.0050, 171.1667, 5203,    999.6,   3.6533,  34.2824,2,  34.2836,2,   -999.0,9,     40.0,2,   121.70,3,    41.32,3,     3.01,3,  3.5808
  492SSY9310_1,  P02E,    58,  1,     12,     12,2,19931023,1702, 30.0050, 171.1667, 5203,   1248.5,   3.0513,  34.4179,2,  34.4198,2,   -999.0,9,     31.3,2,   141.15,3,    42.65,3,     3.12,6,  2.9637
  492SSY9310_1,  P02E,    58,  1,     13,     11,2,19931023,1702, 30.0050, 171.1667, 5203,   1499.0,   2.5380,  34.5105,2,  34.5082,2,   -999.0,9,     43.1,2,   155.74,3,    43.29,3,     3.08,3,  2.4357
  492SSY9310_1,  P02E,    58,  1,     14,     10,2,19931023,1702, 30.0050, 171.1667, 5203,   1749.2,   2.1956,  34.5642,2,  34.5653,2,   -999.0,9,     59.1,2,   163.53,3,    42.09,3,     3.02,3,  2.0772
  492SSY9310_1,  P02E,    58,  1,     15,      9,2,19931023,1702, 30.0050, 171.1667, 5203,   1998.9,   1.9262,  34.6021,2,  34.6026,2,   -999.0,9,     78.7,2,   167.41,3,    41.05,3,     2.93,3,  1.7910
  492SSY9310_1,  P02E,    58,  1,     16,      8,2,19931023,1702, 30.0050, 171.1667, 5203,   2296.0,   1.7412,  34.6306,2,  34.6140,4,   -999.0,9,     89.6,3,   162.54,3,    39.59,3,     2.83,4,  1.5837
  492SSY9310_1,  P02E,    58,  1,     17,      7,2,19931023,1702, 30.0050, 171.1667, 5203,   2500.0,   1.6529,  34.6436,2,  34.6345,4,   -999.0,9,    102.2,3,   156.70,3,    39.59,3,     2.77,3,  1.4791
  492SSY9310_1,  P02E,    58,  1,     18,      6,2,19931023,1702, 30.0050, 171.1667, 5203,   2999.6,   1.5216,  34.6674,2,  34.6651,2,   -999.0,9,    130.4,2,   158.65,3,    38.55,3,     2.66,3,  1.3044
  492SSY9310_1,  P02E,    58,  1,     19,      5,2,19931023,1702, 30.0050, 171.1667, 5203,   3499.0,   1.4671,  34.6779,2,  34.6785,2,   -999.0,9,    143.5,2,   154.76,3,    37.06,3,     2.57,3,  1.2020
  492SSY9310_1,  P02E,    58,  1,     20,      4,2,19931023,1702, 30.0050, 171.1667, 5203,   3999.6,   1.4338,  34.6880,2,  34.6853,2,   -999.0,9,    154.8,2,   150.88,3,    35.34,3,     2.52,4,  1.1169
  492SSY9310_1,  P02E,    58,  1,     21,      3,2,19931023,1702, 30.0050, 171.1667, 5203,   4501.5,   1.4296,  34.6932,2,  34.6916,2,   -999.0,9,    165.2,2,   145.04,3,    35.28,3,     2.46,6,  1.0568
  492SSY9310_1,  P02E,    58,  1,     23,      1,2,19931023,1702, 30.0050, 171.1667, 5203,   5000.0,   1.4518,  34.6957,2,  34.6950,2,   -999.0,9,    170.4,2,   141.16,3,    34.66,3,     2.43,3,  1.0194
  492SSY9310_1,  P02E,    58,  1,     22,      2,2,19931023,1702, 30.0050, 171.1667, 5203,   5003.8,   1.4519,  34.6945,2,  34.6960,2,   -999.0,9,    171.3,2,   141.15,3,    34.72,3,     2.42,3,  1.0190