BOTTLE,20040202WHPSIOSA
EXPOCODE,SECT_ID,STNNBR,CASTNO,SAMPNO,BTLNBR,BTLNBR_FLAG_W,DATE,TIME,LATITUDE,LONGITUDE,DEPTH,CTDPRS,CTDTMP,CTDSAL,CTDSAL_FLAG_W,SALNTY,SALNTY_FLAG_W,CTDOXY,CTDOXY_FLAG_W,OXYGEN,OXYGEN_FLAG_W,SILCAT,SILCAT_FLAG_W,NO2+NO3,NO2+NO3_FLAG_W,PHSPHT,PHSPHT_FLAG_W,THETA
,,,,,,,,,,,,DBAR,ITS-90,PSS-78,,PSS-78,,UMOL/KG,,UMOL/KG,,UMOL/KG,,UMOL/KG,,UMOL/KG,,DEG C
  492SSY9310_1,  P02E,    75,  1,      1,     23,2,19931027,0946, 29.9983,-178.9117, 5400,     49.8,  23.4849,  35.1498,2,  35.1433,2,   -999.0,9,    215.9,2,     1.95,3,     0.08,3,     0.00,3, 23.4745
  492SSY9310_1,  P02E,    75,  1,      2,     22,2,19931027,0946, 29.9983,-178.9117, 5400,     99.7,  17.9346,  34.8074,2,  34.7946,2,   -999.0,9,    223.2,2,     3.90,3,     1.16,3,     0.11,3, 17.9176
  492SSY9310_1,  P02E,    75,  1,      3,     21,2,19931027,0946, 29.9983,-178.9117, 5400,    199.6,  16.2496,  34.7164,2,  34.7093,2,   -999.0,9,    214.9,2,     5.84,3,     5.25,3,     0.42,3, 16.2178
  492SSY9310_1,  P02E,    75,  1,      4,     20,2,19931027,0946, 29.9983,-178.9117, 5400,    299.8,  14.2322,  34.5297,2,  34.5356,2,   -999.0,9,    213.1,2,     8.77,3,     8.84,3,     0.60,3, 14.1885
  492SSY9310_1,  P02E,    75,  1,      5,     19,2,19931027,0946, 29.9983,-178.9117, 5400,    399.1,  11.9354,  34.3705,2,  34.3627,2,   -999.0,9,    223.1,2,    11.69,3,    11.38,3,     0.80,3, 11.8836
  492SSY9310_1,  P02E,    75,  1,      6,     18,2,19931027,0946, 29.9983,-178.9117, 5400,    499.9,  10.1246,  34.2178,2,  34.2154,2,   -999.0,9,    207.4,2,    18.51,3,    16.82,3,     1.20,3, 10.0659
  492SSY9310_1,  P02E,    75,  1,      7,     17,2,19931027,0946, 29.9983,-178.9117, 5400,    600.1,   7.7142,  34.0634,2,  34.0648,2,   -999.0,9,    176.8,2,    36.04,3,    24.49,3,     1.71,3,  7.6542
  492SSY9310_1,  P02E,    75,  1,      8,     16,2,19931027,0946, 29.9983,-178.9117, 5400,    699.7,   5.6299,  34.0206,2,  34.0233,2,   -999.0,9,    125.4,2,    59.40,3,    31.93,3,     2.30,3,  5.5704
  492SSY9310_1,  P02E,    75,  1,      9,     15,2,19931027,0946, 29.9983,-178.9117, 5400,    800.1,   4.7434,  34.0859,2,  34.0811,2,   -999.0,9,     82.3,2,    80.83,3,    37.64,3,     2.71,3,  4.6800
  492SSY9310_1,  P02E,    75,  1,     10,     14,2,19931027,0946, 29.9983,-178.9117, 5400,    900.0,   4.1816,  34.1773,2,  34.1738,2,   -999.0,9,     54.8,2,    96.40,3,    40.04,3,     2.87,3,  4.1134
  492SSY9310_1,  P02E,    75,  1,     11,     13,2,19931027,0946, 29.9983,-178.9117, 5400,    998.6,   3.7016,  34.2737,2,  34.2658,2,   -999.0,9,     35.2,2,    18.50,4,    41.81,4,     1.14,4,  3.6288
  492SSY9310_1,  P02E,    75,  1,     12,     12,2,19931027,0946, 29.9983,-178.9117, 5400,   1249.1,   3.0553,  34.4375,2,  34.4300,2,   -999.0,9,     30.4,2,   132.39,3,    41.79,3,     3.08,3,  2.9676
  492SSY9310_1,  P02E,    75,  1,     13,     11,2,19931027,0946, 29.9983,-178.9117, 5400,   1500.2,   2.5699,  34.5225,2,  34.5150,2,   -999.0,9,     48.3,3,   134.32,4,    39.63,4,     2.89,4,  2.4671
  492SSY9310_1,  P02E,    75,  1,     14,     10,2,19931027,0946, 29.9983,-178.9117, 5400,   1749.0,   2.2178,  34.5697,2,  34.5624,3,   -999.0,9,     64.4,2,   149.90,3,    39.63,3,     2.94,3,  2.0991
  492SSY9310_1,  P02E,    75,  1,     15,      9,2,19931027,0946, 29.9983,-178.9117, 5400,   1998.8,   1.9760,  34.6014,2,  34.5969,2,   -999.0,9,     79.1,2,   155.73,3,    39.10,3,     2.91,6,  1.8401
  492SSY9310_1,  P02E,    75,  1,     16,      8,2,19931027,0946, 29.9983,-178.9117, 5400,   2250.8,   1.7930,  34.6247,3,  34.5356,3,   -999.0,9,     86.1,3,  -999.00,9,    41.27,3,  -999.00,9,  1.6385
  492SSY9310_1,  P02E,    75,  1,     17,      7,2,19931027,0946, 29.9983,-178.9117, 5400,   2499.4,   1.6819,  34.6398,2,  34.6299,4,   -999.0,9,    100.9,3,   154.75,3,    42.00,3,     2.83,3,  1.5076
  492SSY9310_1,  P02E,    75,  1,     18,      6,2,19931027,0946, 29.9983,-178.9117, 5400,   2999.1,   1.5351,  34.6629,2,  34.6594,2,   -999.0,9,    129.1,2,   151.84,3,    40.58,3,     2.74,3,  1.3177
  492SSY9310_1,  P02E,    75,  1,     19,      5,2,19931027,0946, 29.9983,-178.9117, 5400,   3499.0,   1.4748,  34.6743,2,  34.6681,4,   -999.0,9,    140.9,2,   149.89,3,    39.44,3,     2.60,3,  1.2096
  492SSY9310_1,  P02E,    75,  1,     20,      4,2,19931027,0946, 29.9983,-178.9117, 5400,   3999.7,   1.4593,  34.6824,2,  34.6730,4,   -999.0,9,    151.3,2,   149.91,3,    35.78,3,     2.58,3,  1.1418
  492SSY9310_1,  P02E,    75,  1,     21,      3,2,19931027,0946, 29.9983,-178.9117, 5400,   4500.6,   1.4773,  34.6863,2,  34.6777,4,   -999.0,9,    156.1,2,   149.91,3,    36.20,3,     2.59,3,  1.1032
  492SSY9310_1,  P02E,    75,  1,     23,      1,2,19931027,0946, 29.9983,-178.9117, 5400,   5000.0,   1.4951,  34.6897,2,  34.6834,4,   -999.0,9,    163.1,2,   145.05,3,    35.78,3,     2.50,3,  1.0613
  492SSY9310_1,  P02E,    75,  1,     22,      2,2,19931027,0946, 29.9983,-178.9117, 5400,   5002.9,   1.4953,  34.6885,2,  34.6867,2,   -999.0,9,    164.4,2,   144.08,3,    35.39,3,     2.50,4,  1.0612
  492SSY9310_1,  P02E,    76,  1,      1,     23,2,19931027,1438, 29.9900,-178.3383, 5162,     49.8,  19.9440,  34.8761,2,  35.0110,3,   -999.0,9,    223.6,2,     0.00,3,     0.02,3,     0.07,3, 19.9348
  492SSY9310_1,  P02E,    76,  1,      2,     22,2,19931027,1438, 29.9900,-178.3383, 5162,     99.1,  17.4423,  34.8049,2,  34.7876,2,   -999.0,9,    254.5,2,     0.00,3,     0.25,3,     0.17,3, 17.4257
  492SSY9310_1,  P02E,    76,  1,      3,     21,2,19931027,1438, 29.9900,-178.3383, 5162,    198.9,  15.9860,  34.7008,2,  34.7026,2,   -999.0,9,    218.8,2,     1.95,3,     4.68,3,     0.34,3, 15.9546
  492SSY9310_1,  P02E,    76,  1,      4,     20,2,19931027,1438, 29.9900,-178.3383, 5162,    300.4,  14.0536,  34.5300,2,  34.5278,2,   -999.0,9,    210.9,2,     6.82,3,     8.79,3,     0.59,3, 14.0102
  492SSY9310_1,  P02E,    76,  1,      5,     19,2,19931027,1438, 29.9900,-178.3383, 5162,    399.8,  11.9820,  34.3715,2,  34.3715,2,   -999.0,9,    214.4,2,    10.71,3,    12.00,3,     0.81,3, 11.9300
  492SSY9310_1,  P02E,    76,  1,      6,     18,2,19931027,1438, 29.9900,-178.3383, 5162,    499.6,  10.1090,  34.2324,2,  34.2256,2,   -999.0,9,    200.4,2,    18.51,3,    16.98,3,     1.16,3, 10.0504
  492SSY9310_1,  P02E,    76,  1,      7,     17,2,19931027,1438, 29.9900,-178.3383, 5162,    600.5,   7.6418,  34.0819,2,  34.0688,2,   -999.0,9,   -999.0,5,    35.06,3,    24.10,3,     1.68,3,  7.5820
  492SSY9310_1,  P02E,    76,  1,      8,     16,2,19931027,1438, 29.9900,-178.3383, 5162,    700.5,   5.7541,  34.0209,2,  34.0209,2,   -999.0,9,   -999.0,5,    57.46,3,    30.80,3,     2.20,3,  5.6939
  492SSY9310_1,  P02E,    76,  1,      9,     15,2,19931027,1438, 29.9900,-178.3383, 5162,    800.0,   4.7069,  34.0965,2,  34.0978,2,   -999.0,9,     79.6,2,    80.83,3,    36.87,3,     2.65,3,  4.6438
  492SSY9310_1,  P02E,    76,  1,     10,     14,2,19931027,1438, 29.9900,-178.3383, 5162,    899.5,   4.1819,  34.1805,2,  34.1803,2,   -999.0,9,     53.5,2,    96.40,3,    39.66,3,     2.87,3,  4.1138
  492SSY9310_1,  P02E,    76,  1,     11,     13,2,19931027,1438, 29.9900,-178.3383, 5162,   1001.0,   3.7790,  34.2627,2,  34.2625,2,   -999.0,9,     36.1,2,   110.02,3,    41.20,3,     3.02,3,  3.7054
  492SSY9310_1,  P02E,    76,  1,     12,     12,2,19931027,1438, 29.9900,-178.3383, 5162,   1249.5,   3.1232,  34.4195,2,  34.4186,2,   -999.0,9,     27.8,3,  -999.00,9,  -999.00,9,  -999.00,9,  3.0349
  492SSY9310_1,  P02E,    76,  1,     13,     11,2,19931027,1438, 29.9900,-178.3383, 5162,   1499.2,   2.6357,  34.5104,2,  34.4987,4,   -999.0,9,     40.9,3,  -999.00,9,  -999.00,9,  -999.00,9,  2.5322
  492SSY9310_1,  P02E,    76,  1,     14,     10,2,19931027,1438, 29.9900,-178.3383, 5162,   1749.1,   2.2534,  34.5672,2,  34.5679,2,   -999.0,9,     60.0,3,   154.77,3,    40.01,3,     2.95,4,  2.1342
  492SSY9310_1,  P02E,    76,  1,     15,      9,2,19931027,1438, 29.9900,-178.3383, 5162,   2000.2,   1.9938,  34.6004,2,  34.5985,2,   -999.0,9,     79.1,2,   152.81,3,    38.04,3,     2.85,4,  1.8575
  492SSY9310_1,  P02E,    76,  1,     16,      8,2,19931027,1438, 29.9900,-178.3383, 5162,   2250.1,   1.8185,  34.6232,2,  34.6227,2,   -999.0,9,     90.9,3,   155.73,3,    41.47,3,     2.78,3,  1.6636
  492SSY9310_1,  P02E,    76,  1,     17,      7,2,19931027,1438, 29.9900,-178.3383, 5162,   2500.5,   1.6938,  34.6400,2,  34.6407,2,   -999.0,9,    107.4,2,   155.72,3,    41.14,3,     2.73,3,  1.5192
  492SSY9310_1,  P02E,    76,  1,     18,      6,2,19931027,1438, 29.9900,-178.3383, 5162,   2999.1,   1.5347,  34.6632,2,  34.6592,2,   -999.0,9,    128.3,2,   152.81,3,    40.03,3,     2.63,3,  1.3173
  492SSY9310_1,  P02E,    76,  1,     19,      5,2,19931027,1438, 29.9900,-178.3383, 5162,   3499.9,   1.4747,  34.6756,2,  34.6747,2,   -999.0,9,    140.0,2,   151.84,3,    38.73,3,     2.56,3,  1.2094
  492SSY9310_1,  P02E,    76,  1,     20,      4,2,19931027,1438, 29.9900,-178.3383, 5162,   4000.2,   1.4602,  34.6831,2,  34.6842,2,   -999.0,9,    149.1,2,   146.01,3,    34.81,3,     2.53,4,  1.1426
  492SSY9310_1,  P02E,    76,  1,     21,      3,2,19931027,1438, 29.9900,-178.3383, 5162,   4501.3,   1.4826,  34.6863,2,  34.6857,2,   -999.0,9,    154.4,3,   145.04,3,    35.40,3,     2.55,3,  1.1083
  492SSY9310_1,  P02E,    76,  1,     23,      1,2,19931027,1438, 29.9900,-178.3383, 5162,   4998.8,   1.5070,  34.6889,2,  34.6897,2,   -999.0,9,    159.6,2,   139.21,3,    35.14,3,     2.70,3,  1.0730
  492SSY9310_1,  P02E,    76,  1,     22,      2,2,19931027,1438, 29.9900,-178.3383, 5162,   5002.6,   1.5072,  34.6879,2,  34.6897,2,   -999.0,9,    161.3,2,   139.21,3,    34.74,3,     2.55,6,  1.0727
  492SSY9310_1,  P02E,    77,  1,      1,     23,2,19931027,1922, 29.9983,-177.7483, 4988,     49.9,  22.4995,  34.9389,2,  34.9229,2,   -999.0,9,    221.1,2,     0.97,3,     0.17,3,     0.04,3, 22.4895
  492SSY9310_1,  P02E,    77,  1,      2,     22,2,19931027,1922, 29.9983,-177.7483, 4988,    100.5,  17.5939,  34.7947,2,  34.7907,2,   -999.0,9,    234.0,2,     2.92,3,     0.39,3,     0.14,3, 17.5770
  492SSY9310_1,  P02E,    77,  1,      3,     21,2,19931027,1922, 29.9983,-177.7483, 4988,    200.2,  16.1761,  34.7174,2,  34.7150,2,   -999.0,9,    218.8,2,     4.87,3,     4.61,3,     0.40,3, 16.1443
  492SSY9310_1,  P02E,    77,  1,      4,     20,2,19931027,1922, 29.9983,-177.7483, 4988,    301.3,  14.1660,  34.5469,2,  34.5419,2,   -999.0,9,    209.2,2,     9.74,3,     8.77,3,     0.75,3, 14.1222
  492SSY9310_1,  P02E,    77,  1,      5,     19,2,19931027,1922, 29.9983,-177.7483, 4988,    398.8,  11.8648,  34.3588,2,  34.3600,2,   -999.0,9,    223.5,2,    13.64,3,    11.31,3,     1.00,3, 11.8132
  492SSY9310_1,  P02E,    77,  1,      6,     18,2,19931027,1922, 29.9983,-177.7483, 4988,    500.2,   9.7432,  34.1906,2,  34.1970,2,   -999.0,9,    203.9,2,    24.35,3,    17.56,3,     1.61,3,  9.6859
  492SSY9310_1,  P02E,    77,  1,      7,     17,2,19931027,1922, 29.9983,-177.7483, 4988,    600.8,   7.1162,  34.0384,2,  34.0390,2,   -999.0,9,    167.6,2,    43.83,3,    25.51,3,     1.90,3,  7.0588
  492SSY9310_1,  P02E,    77,  1,      8,     16,2,19931027,1922, 29.9983,-177.7483, 4988,    699.7,   5.5841,  34.0151,2,  34.0374,4,   -999.0,9,    130.6,3,    62.32,3,    30.99,3,     2.18,3,  5.5248
  492SSY9310_1,  P02E,    77,  1,      9,     15,2,19931027,1922, 29.9983,-177.7483, 4988,    801.8,   4.5993,  34.1102,2,  34.1109,2,   -999.0,9,     75.7,2,    88.62,3,    37.56,3,     2.66,3,  4.5367
  492SSY9310_1,  P02E,    77,  1,     10,     14,2,19931027,1922, 29.9983,-177.7483, 4988,    900.2,   4.0236,  34.2111,2,  34.2119,2,   -999.0,9,     50.0,2,   107.11,3,    40.66,3,     2.87,6,  3.9565
  492SSY9310_1,  P02E,    77,  1,     11,     13,2,19931027,1922, 29.9983,-177.7483, 4988,   1000.1,   3.5782,  34.3035,2,  34.2983,2,   -999.0,9,     33.5,2,   122.68,3,    41.90,3,     3.01,3,  3.5062
  492SSY9310_1,  P02E,    77,  1,     12,     12,2,19931027,1922, 29.9983,-177.7483, 4988,   1250.8,   3.0362,  34.4401,2,  34.4390,2,   -999.0,9,     30.9,2,   140.18,3,    39.63,3,     3.07,3,  2.9486
  492SSY9310_1,  P02E,    77,  1,     13,     11,2,19931027,1922, 29.9983,-177.7483, 4988,   1502.2,   2.5575,  34.5214,2,  34.5199,2,   -999.0,9,     44.8,2,   151.84,3,    39.11,3,     2.97,3,  2.4547
  492SSY9310_1,  P02E,    77,  1,     14,     10,2,19931027,1922, 29.9983,-177.7483, 4988,   1750.8,   2.2108,  34.5728,2,  34.5734,2,   -999.0,9,     64.8,2,   160.61,3,    38.52,3,     2.91,3,  2.0920
  492SSY9310_1,  P02E,    77,  1,     15,      9,2,19931027,1922, 29.9983,-177.7483, 4988,   1998.9,   1.9659,  34.6044,2,  34.6040,2,   -999.0,9,     81.8,2,   154.76,3,    37.21,3,     2.81,3,  1.8301
  492SSY9310_1,  P02E,    77,  1,     16,      8,2,19931027,1922, 29.9983,-177.7483, 4988,   2251.5,   1.7812,  34.6277,2,  34.6158,4,   -999.0,9,     97.0,3,   150.86,3,    40.25,3,     2.71,3,  1.6268
  492SSY9310_1,  P02E,    77,  1,     17,      7,2,19931027,1922, 29.9983,-177.7483, 4988,   2501.0,   1.6733,  34.6428,2,  34.6435,2,   -999.0,9,    107.8,2,   155.72,3,    40.55,3,     2.69,3,  1.4990
  492SSY9310_1,  P02E,    77,  1,     18,      6,2,19931027,1922, 29.9983,-177.7483, 4988,   3000.3,   1.5438,  34.6621,2,  34.6639,2,   -999.0,9,    128.3,2,   152.81,3,    39.76,3,     2.60,3,  1.3261
  492SSY9310_1,  P02E,    77,  1,     19,      5,2,19931027,1922, 29.9983,-177.7483, 4988,   3500.6,   1.4774,  34.6747,2,  34.6761,2,   -999.0,9,    139.1,2,   149.89,3,    38.60,3,     2.53,3,  1.2119
  492SSY9310_1,  P02E,    77,  1,     20,      4,2,19931027,1922, 29.9983,-177.7483, 4988,   4000.3,   1.4658,  34.6818,2,  34.6828,2,   -999.0,9,    147.8,2,   147.96,3,    35.84,3,     2.51,6,  1.1480
  492SSY9310_1,  P02E,    77,  1,     21,      3,2,19931027,1922, 29.9983,-177.7483, 4988,   4501.3,   1.4853,  34.6861,2,  34.6842,2,   -999.0,9,    153.5,2,   147.96,3,    34.99,3,     2.51,3,  1.1109
  492SSY9310_1,  P02E,    77,  1,     23,      1,2,19931027,1922, 29.9983,-177.7483, 4988,   5003.6,   1.5011,  34.6899,2,  34.6914,2,   -999.0,9,    161.3,2,   147.00,3,    35.08,3,     2.54,3,  1.0667
  492SSY9310_1,  P02E,    77,  1,     22,      2,2,19931027,1922, 29.9983,-177.7483, 4988,   5004.0,   1.5009,  34.6885,2,  34.6834,3,   -999.0,9,    150.4,4,  -999.00,9,  -999.00,9,  -999.00,9,  1.0665
  492SSY9310_1,  P02E,    78,  1,      1,     23,2,19931027,2357, 29.9983,-177.1700, 5359,     49.2,  19.6637,  34.8093,2,  34.7986,2,   -999.0,9,    234.0,2,     1.95,3,     0.00,3,     0.06,3, 19.6547
  492SSY9310_1,  P02E,    78,  1,      2,     22,2,19931027,2357, 29.9983,-177.1700, 5359,    100.2,  17.3244,  34.7987,2,  34.7952,2,   -999.0,9,    214.4,2,     2.92,3,     2.83,3,     0.25,3, 17.3078
  492SSY9310_1,  P02E,    78,  1,      3,     21,2,19931027,2357, 29.9983,-177.1700, 5359,    198.6,  16.1137,  34.7126,2,  34.7019,2,   -999.0,9,    210.9,2,     4.87,3,    11.57,3,     0.41,3, 16.0823
  492SSY9310_1,  P02E,    78,  1,      4,     20,2,19931027,2357, 29.9983,-177.1700, 5359,    299.8,  13.5741,  34.4903,2,  34.4834,2,   -999.0,9,    212.2,2,     9.74,3,     9.22,3,     0.68,3, 13.5318
  492SSY9310_1,  P02E,    78,  1,      5,     19,2,19931027,2357, 29.9983,-177.1700, 5359,    399.7,  11.7306,  34.3543,2,  34.3494,2,   -999.0,9,    215.2,2,    13.64,3,    12.20,3,     0.89,3, 11.6793
  492SSY9310_1,  P02E,    78,  1,      6,     18,2,19931027,2357, 29.9983,-177.1700, 5359,    499.1,   9.4779,  34.1804,2,  34.1773,2,   -999.0,9,    194.7,2,    24.35,3,    18.40,3,     1.33,3,  9.4218
  492SSY9310_1,  P02E,    78,  1,      7,     17,2,19931027,2357, 29.9983,-177.1700, 5359,    600.4,   7.2709,  34.0490,2,  34.0486,2,   -999.0,9,    166.8,2,    40.91,3,    25.08,3,     1.81,3,  7.2128
  492SSY9310_1,  P02E,    78,  1,      8,     16,2,19931027,2357, 29.9983,-177.1700, 5359,    699.6,   5.4293,  34.0262,2,  34.0388,2,   -999.0,9,    117.1,3,    64.27,3,    32.04,3,     2.33,3,  5.3709
  492SSY9310_1,  P02E,    78,  1,      9,     15,2,19931027,2357, 29.9983,-177.1700, 5359,    800.3,   4.5735,  34.1144,2,  34.1117,2,   -999.0,9,     76.2,2,    85.70,3,    37.27,3,     2.70,3,  4.5112
  492SSY9310_1,  P02E,    78,  1,     10,     14,2,19931027,2357, 29.9983,-177.1700, 5359,    901.2,   4.0088,  34.2120,2,  34.2105,2,   -999.0,9,     52.7,2,   103.21,3,    39.48,3,     2.91,3,  3.9417
  492SSY9310_1,  P02E,    78,  1,     11,     13,2,19931027,2357, 29.9983,-177.1700, 5359,   1001.1,   3.6474,  34.2920,2,  34.2779,4,   -999.0,9,     32.2,2,   115.86,3,    41.17,3,     3.06,3,  3.5748
  492SSY9310_1,  P02E,    78,  1,     12,     12,2,19931027,2357, 29.9983,-177.1700, 5359,   1249.0,   3.0397,  34.4434,2,  34.4394,2,   -999.0,9,     31.3,2,   135.31,3,    39.85,3,     3.11,6,  2.9522
  492SSY9310_1,  P02E,    78,  1,     13,     11,2,19931027,2357, 29.9983,-177.1700, 5359,   1500.0,   2.5700,  34.5248,3,  34.5007,3,   -999.0,9,     46.1,3,  -999.00,9,  -999.00,9,  -999.00,9,  2.4672
  492SSY9310_1,  P02E,    78,  1,     14,     10,2,19931027,2357, 29.9983,-177.1700, 5359,   1750.2,   2.2243,  34.5735,2,  34.5675,2,   -999.0,9,     63.1,2,   154.77,3,    37.71,3,     2.96,3,  2.1054
  492SSY9310_1,  P02E,    78,  1,     15,      9,2,19931027,2357, 29.9983,-177.1700, 5359,   1999.4,   1.9369,  34.6077,2,  34.6003,4,   -999.0,9,     83.1,2,   154.76,3,    36.92,3,     2.85,3,  1.8015
  492SSY9310_1,  P02E,    78,  1,     16,      8,2,19931027,2357, 29.9983,-177.1700, 5359,   2250.8,   1.7822,  34.6276,2,  34.6268,2,   -999.0,9,     95.7,2,   158.65,3,    33.52,3,     2.83,3,  1.6279
  492SSY9310_1,  P02E,    78,  1,     17,      7,2,19931027,2357, 29.9983,-177.1700, 5359,   2499.2,   1.6778,  34.6427,2,  34.6413,2,   -999.0,9,    108.3,2,   157.67,3,    40.32,3,     2.72,3,  1.5036
  492SSY9310_1,  P02E,    78,  1,     18,      6,2,19931027,2357, 29.9983,-177.1700, 5359,   2998.3,   1.5455,  34.6619,2,  34.6594,2,   -999.0,9,    127.4,2,   156.71,3,    40.16,3,     2.64,3,  1.3280
  492SSY9310_1,  P02E,    78,  1,     20,      4,2,19931027,2357, 29.9983,-177.1700, 5359,   3997.8,   1.4604,  34.6824,2,  34.6789,2,   -999.0,9,    148.3,2,   148.93,3,    36.71,3,     2.52,3,  1.1431
  492SSY9310_1,  P02E,    78,  1,     21,      3,2,19931027,2357, 29.9983,-177.1700, 5359,   4500.6,   1.4826,  34.6858,2,  34.6840,2,   -999.0,9,    295.7,4,   146.98,3,    36.71,3,     2.50,3,  1.1084
  492SSY9310_1,  P02E,    78,  1,     23,      1,2,19931027,2357, 29.9983,-177.1700, 5359,   5000.5,   1.5088,  34.6885,2,  34.6865,2,   -999.0,9,    158.7,2,   140.18,3,    36.06,3,     2.48,3,  1.0745
  492SSY9310_1,  P02E,    78,  1,     22,      2,2,19931027,2357, 29.9983,-177.1700, 5359,   5003.6,   1.5089,  34.6874,2,  34.6822,3,   -999.0,9,    162.6,2,   142.13,3,    36.31,3,     2.47,6,  1.0742