BOTTLE,20040202WHPSIOSA
#code : jjward hyd_to_exchange.pl 
#original files copied from HTML directory: Feb. 2, 2004
#original HYD file: p02e1hy.txt   Mon Feb  2 11:16:09 2004
#original SUM file: p02esu.txt   Fri Jul 13 15:29:07 2001
EXPOCODE,SECT_ID,STNNBR,CASTNO,SAMPNO,BTLNBR,BTLNBR_FLAG_W,DATE,TIME,LATITUDE,LONGITUDE,DEPTH,CTDPRS,CTDTMP,CTDSAL,CTDSAL_FLAG_W,SALNTY,SALNTY_FLAG_W,CTDOXY,CTDOXY_FLAG_W,OXYGEN,OXYGEN_FLAG_W,SILCAT,SILCAT_FLAG_W,NO2+NO3,NO2+NO3_FLAG_W,PHSPHT,PHSPHT_FLAG_W,THETA
,,,,,,,,,,,,DBAR,ITS-90,PSS-78,,PSS-78,,UMOL/KG,,UMOL/KG,,UMOL/KG,,UMOL/KG,,UMOL/KG,,DEG C
  492SSY9310_1,  P02E,    35,  1,      1,     23,2,19931017,0705, 30.0050, 155.0850, 5772,    100.6,  21.9804,  34.8166,2,  34.8165,2,   -999.0,9,   -999.0,5,     2.92,3,     2.41,3,     0.23,3, 21.9606
  492SSY9310_1,  P02E,    35,  1,      2,     22,2,19931017,0705, 30.0050, 155.0850, 5772,    199.8,  18.7773,  34.8616,2,  34.8621,2,   -999.0,9,   -999.0,5,     2.92,3,     1.56,3,     0.18,3, 18.7420
  492SSY9310_1,  P02E,    35,  1,      3,     21,2,19931017,0705, 30.0050, 155.0850, 5772,    299.2,  17.2056,  34.7835,2,  34.7830,2,   -999.0,9,   -999.0,5,     4.87,3,     4.51,3,     0.38,3, 17.1558
  492SSY9310_1,  P02E,    35,  1,      4,     20,2,19931017,0705, 30.0050, 155.0850, 5772,    398.8,  15.0444,  34.6290,2,  34.6248,2,   -999.0,9,   -999.0,5,    11.69,3,     9.33,3,     0.69,3, 14.9838
  492SSY9310_1,  P02E,    35,  1,      5,     19,2,19931017,0705, 30.0050, 155.0850, 5772,    499.8,  11.4776,  34.3674,2,  34.3688,2,   -999.0,9,   -999.0,5,    21.43,3,    15.74,3,     1.16,3, 11.4141
  492SSY9310_1,  P02E,    35,  1,      6,     18,2,19931017,0705, 30.0050, 155.0850, 5772,    599.6,   8.0139,  34.0807,2,  34.2307,4,   -999.0,9,   -999.0,5,    29.22,3,    18.85,3,     1.37,3,  7.9526
  492SSY9310_1,  P02E,    35,  1,      7,     17,2,19931017,0705, 30.0050, 155.0850, 5772,    699.2,   5.9484,  34.0411,2,  34.0343,2,   -999.0,9,   -999.0,5,    60.38,3,    30.65,3,     2.23,3,  5.8872
  492SSY9310_1,  P02E,    35,  1,      8,     16,2,19931017,0705, 30.0050, 155.0850, 5772,    799.5,   4.6369,  34.0733,2,  34.0713,2,   -999.0,9,   -999.0,5,    81.81,3,    36.36,3,     2.61,3,  4.5743
  492SSY9310_1,  P02E,    35,  1,      9,     15,2,19931017,0705, 30.0050, 155.0850, 5772,    899.7,   4.1525,  34.1819,2,  34.1842,2,   -999.0,9,   -999.0,5,    99.32,3,    40.55,3,     2.81,6,  4.0846
  492SSY9310_1,  P02E,    35,  1,     10,     14,2,19931017,0705, 30.0050, 155.0850, 5772,   1000.2,   3.7777,  34.2785,2,  34.2801,2,   -999.0,9,   -999.0,5,   111.00,3,    41.99,3,     2.94,3,  3.7041
  492SSY9310_1,  P02E,    35,  1,     11,     13,2,19931017,0705, 30.0050, 155.0850, 5772,   1250.2,   2.9277,  34.4128,2,  34.4141,2,   -999.0,9,   -999.0,5,   136.29,3,    44.28,3,     3.09,3,  2.8412
  492SSY9310_1,  P02E,    35,  1,     12,     12,2,19931017,0705, 30.0050, 155.0850, 5772,   1499.7,   2.4549,  34.5013,2,  34.5025,2,   -999.0,9,   -999.0,5,   146.98,3,    42.18,3,     3.03,3,  2.3535
  492SSY9310_1,  P02E,    35,  1,     13,     11,2,19931017,0705, 30.0050, 155.0850, 5772,   1751.3,   2.1252,  34.5632,2,  34.5606,2,   -999.0,9,   -999.0,5,   160.61,3,    43.88,3,     3.00,3,  2.0076
  492SSY9310_1,  P02E,    35,  1,     14,     10,2,19931017,0705, 30.0050, 155.0850, 5772,   2000.2,   1.9191,  34.6075,2,  34.6069,2,   -999.0,9,   -999.0,5,   150.87,3,    42.24,3,     2.85,3,  1.7839
  492SSY9310_1,  P02E,    35,  1,     15,      9,2,19931017,0705, 30.0050, 155.0850, 5772,   2249.4,   1.7567,  34.6308,2,  34.6309,2,   -999.0,9,   -999.0,5,   152.81,3,    41.32,3,     2.79,3,  1.6029
  492SSY9310_1,  P02E,    35,  1,     16,      8,2,19931017,0705, 30.0050, 155.0850, 5772,   2500.4,   1.6593,  34.6453,2,  34.6478,2,   -999.0,9,   -999.0,5,   152.80,3,    39.97,3,     2.73,3,  1.4853
  492SSY9310_1,  P02E,    35,  1,     17,      7,2,19931017,0705, 30.0050, 155.0850, 5772,   3001.3,   1.5390,  34.6656,2,  34.6659,2,   -999.0,9,   -999.0,5,   148.92,3,    39.89,3,     2.62,3,  1.3213
  492SSY9310_1,  P02E,    35,  1,     18,      6,2,19931017,0705, 30.0050, 155.0850, 5772,   3499.5,   1.4822,  34.6786,2,  34.6787,2,   -999.0,9,   -999.0,5,   148.92,3,    38.26,3,     2.58,3,  1.2167
  492SSY9310_1,  P02E,    35,  1,     19,      5,2,19931017,0705, 30.0050, 155.0850, 5772,   3999.6,   1.4591,  34.6843,2,  34.6850,2,   -999.0,9,   -999.0,5,   148.93,3,    37.94,3,     2.52,3,  1.1416
  492SSY9310_1,  P02E,    35,  1,     20,      4,2,19931017,0705, 30.0050, 155.0850, 5772,   4499.8,   1.4605,  34.6898,2,  34.6895,2,   -999.0,9,   -999.0,5,   139.20,3,    35.45,3,     2.46,3,  1.0870
  492SSY9310_1,  P02E,    35,  1,     21,      3,2,19931017,0705, 30.0050, 155.0850, 5772,   4999.0,   1.4749,  34.6936,2,  34.6950,2,   -999.0,9,   -999.0,5,   133.37,3,    36.14,3,     2.46,3,  1.0419
  492SSY9310_1,  P02E,    35,  1,     22,      2,2,19931017,0705, 30.0050, 155.0850, 5772,   5499.8,   1.5096,  34.6964,2,  34.6808,4,   -999.0,9,   -999.0,5,  -999.00,9,  -999.00,9,  -999.00,9,  1.0130
  492SSY9310_1,  P02E,    35,  1,     23,      1,2,19931017,0705, 30.0050, 155.0850, 5772,   5499.8,   1.5096,  34.6964,2,  34.6958,2,   -999.0,9,   -999.0,5,   129.47,3,    35.45,3,     2.41,3,  1.0130
  492SSY9310_1,  P02E,    36,  1,      1,     23,2,19931017,1418, 29.9967, 155.9967, 5793,     48.8,  23.4983,  34.5785,2,  34.5781,2,   -999.0,9,   -999.0,5,     0.00,3,     0.00,3,     0.03,3, 23.4882
  492SSY9310_1,  P02E,    36,  1,      2,     22,2,19931017,1418, 29.9967, 155.9967, 5793,     99.8,  19.3675,  34.8509,2,  34.8530,2,   -999.0,9,   -999.0,5,     1.95,3,     1.83,3,     0.18,3, 19.3495
  492SSY9310_1,  P02E,    36,  1,      3,     21,2,19931017,1418, 29.9967, 155.9967, 5793,    199.2,  17.4394,  34.8077,2,  34.8090,2,   -999.0,9,   -999.0,5,     2.92,3,     3.17,3,     0.28,3, 17.4060
  492SSY9310_1,  P02E,    36,  1,      4,     20,2,19931017,1418, 29.9967, 155.9967, 5793,    299.3,  15.3037,  34.6502,2,  34.6472,2,   -999.0,9,   -999.0,5,     9.74,3,    10.05,3,     0.66,3, 15.2578
  492SSY9310_1,  P02E,    36,  1,      5,     19,2,19931017,1418, 29.9967, 155.9967, 5793,    400.0,  12.2510,  34.4261,2,  34.4288,2,   -999.0,9,   -999.0,5,    20.46,3,    14.20,3,     1.04,3, 12.1981
  492SSY9310_1,  P02E,    36,  1,      6,     18,2,19931017,1418, 29.9967, 155.9967, 5793,    498.9,   9.6613,  34.2193,2,  34.2144,2,   -999.0,9,   -999.0,5,    26.30,3,    17.85,3,     1.32,3,  9.6045
  492SSY9310_1,  P02E,    36,  1,      7,     17,2,19931017,1418, 29.9967, 155.9967, 5793,    599.3,   5.6014,  33.9512,2,  33.9481,2,   -999.0,9,   -999.0,5,    53.56,3,    28.69,3,     2.13,3,  5.5510
  492SSY9310_1,  P02E,    36,  1,      8,     16,2,19931017,1418, 29.9967, 155.9967, 5793,    699.6,   4.7723,  34.0515,2,  34.0568,2,   -999.0,9,   -999.0,5,    75.95,3,    35.08,3,     2.53,3,  4.7173
  492SSY9310_1,  P02E,    36,  1,      9,     15,2,19931017,1418, 29.9967, 155.9967, 5793,    799.9,   4.2479,  34.1673,2,  34.1675,2,   -999.0,9,   -999.0,5,    93.48,3,    39.16,3,     2.78,3,  4.1875
  492SSY9310_1,  P02E,    36,  1,     10,     14,2,19931017,1418, 29.9967, 155.9967, 5793,    899.9,   3.8635,  34.2639,2,  34.2630,2,   -999.0,9,   -999.0,5,   107.10,3,    40.84,3,     2.89,3,  3.7974
  492SSY9310_1,  P02E,    36,  1,     11,     13,2,19931017,1418, 29.9967, 155.9967, 5793,    999.8,   3.5049,  34.3277,2,  34.3290,2,   -999.0,9,   -999.0,5,   116.83,3,    41.77,3,     2.94,3,  3.4333
  492SSY9310_1,  P02E,    36,  1,     12,     12,2,19931017,1418, 29.9967, 155.9967, 5793,   1249.9,   2.7887,  34.4426,2,  34.4410,2,   -999.0,9,   -999.0,5,   135.31,3,    42.89,3,     3.04,3,  2.7036
  492SSY9310_1,  P02E,    36,  1,     13,     11,2,19931017,1418, 29.9967, 155.9967, 5793,   1499.6,   2.3575,  34.5185,2,  34.5113,2,   -999.0,9,   -999.0,5,   134.32,4,    41.36,4,     2.87,4,  2.2572
  492SSY9310_1,  P02E,    36,  1,     14,     10,2,19931017,1418, 29.9967, 155.9967, 5793,   1751.2,   2.0855,  34.5738,2,  34.5724,2,   -999.0,9,   -999.0,5,   148.92,3,    42.70,3,     2.96,6,  1.9684
  492SSY9310_1,  P02E,    36,  1,     15,      9,2,19931017,1418, 29.9967, 155.9967, 5793,   1751.2,   2.0855,  34.5738,2,  34.5842,4,   -999.0,9,   -999.0,5,  -999.00,9,  -999.00,9,  -999.00,9,  1.9684
  492SSY9310_1,  P02E,    36,  1,     16,      8,2,19931017,1418, 29.9967, 155.9967, 5793,   2249.7,   1.7317,  34.6329,2,  34.6331,2,   -999.0,9,   -999.0,5,   149.89,3,    39.79,3,     2.76,3,  1.5783
  492SSY9310_1,  P02E,    36,  1,     17,      7,2,19931017,1418, 29.9967, 155.9967, 5793,   2499.4,   1.6577,  34.6463,2,  34.6486,2,   -999.0,9,   -999.0,5,   145.99,3,    39.62,3,     2.69,3,  1.4838
  492SSY9310_1,  P02E,    36,  1,     18,      6,2,19931017,1418, 29.9967, 155.9967, 5793,   2999.1,   1.5327,  34.6672,2,  34.6690,2,   -999.0,9,   -999.0,5,   141.13,3,    38.35,3,     2.60,3,  1.3153
  492SSY9310_1,  P02E,    36,  1,     19,      5,2,19931017,1418, 29.9967, 155.9967, 5793,   3498.3,   1.4748,  34.6780,2,  34.6730,3,   -999.0,9,   -999.0,5,   138.21,3,    37.79,3,     2.55,3,  1.2096
  492SSY9310_1,  P02E,    36,  1,     20,      4,2,19931017,1418, 29.9967, 155.9967, 5793,   4000.9,   1.4555,  34.6847,2,  34.6816,2,   -999.0,9,   -999.0,5,   137.25,3,    35.57,3,     2.51,3,  1.1379
  492SSY9310_1,  P02E,    36,  1,     21,      3,2,19931017,1418, 29.9967, 155.9967, 5793,   4500.0,   1.4589,  34.6890,2,  34.6903,2,   -999.0,9,   -999.0,5,   134.33,3,    35.40,3,     2.47,6,  1.0855
  492SSY9310_1,  P02E,    36,  1,     22,      2,2,19931017,1418, 29.9967, 155.9967, 5793,   4999.8,   1.4728,  34.6939,2,  34.6930,2,   -999.0,9,   -999.0,5,   129.47,3,    35.28,3,     2.44,3,  1.0398
  492SSY9310_1,  P02E,    36,  1,     23,      1,2,19931017,1418, 29.9967, 155.9967, 5793,   5501.1,   1.5049,  34.6961,2,  34.7017,4,   -999.0,9,   -999.0,5,  -999.00,9,  -999.00,9,  -999.00,9,  1.0083
  492SSY9310_1,  P02E,    37,  1,      1,     23,2,19931018,0530, 29.9900, 156.9083, 5783,    100.1,  18.6172,  34.5266,2,  34.5203,2,   -999.0,9,    228.5,2,     3.90,3,     0.74,3,     0.18,3, 18.5997
  492SSY9310_1,  P02E,    37,  1,      2,     22,2,19931018,0530, 29.9900, 156.9083, 5783,    200.3,  13.1823,  34.4800,2,  34.4740,2,   -999.0,9,    213.9,2,    13.64,3,     9.69,3,     0.73,3, 13.1547
  492SSY9310_1,  P02E,    37,  1,      3,     21,2,19931018,0530, 29.9900, 156.9083, 5783,    298.8,  11.1193,  34.3221,2,  34.3203,2,   -999.0,9,    202.5,2,    19.48,3,    13.55,3,     1.01,3, 11.0824
  492SSY9310_1,  P02E,    37,  1,      4,     20,2,19931018,0530, 29.9900, 156.9083, 5783,    399.3,   8.8191,  34.1927,2,  34.1873,2,   -999.0,9,    165.0,2,    36.04,3,    21.63,3,     1.58,3,  8.7763
  492SSY9310_1,  P02E,    37,  1,      5,     19,2,19931018,0530, 29.9900, 156.9083, 5783,    499.9,   5.7668,  33.9775,2,  33.9751,2,   -999.0,9,    158.0,2,    55.51,3,    29.19,3,     2.14,3,  5.7245
  492SSY9310_1,  P02E,    37,  1,      6,     18,2,19931018,0530, 29.9900, 156.9083, 5783,    599.4,   4.8095,  34.0275,2,  34.0084,4,   -999.0,9,    127.1,2,    70.11,3,    33.48,3,     2.41,3,  4.7627
  492SSY9310_1,  P02E,    37,  1,      7,     17,2,19931018,0530, 29.9900, 156.9083, 5783,    699.6,   4.3673,  34.1574,2,  34.1575,2,   -999.0,9,     81.4,2,    92.49,3,    39.22,3,     2.76,3,  4.3143
  492SSY9310_1,  P02E,    37,  1,      8,     16,2,19931018,0530, 29.9900, 156.9083, 5783,    800.7,   3.9154,  34.2515,2,  34.2521,2,   -999.0,9,     64.4,2,   106.13,3,    39.69,3,     2.90,3,  3.8569
  492SSY9310_1,  P02E,    37,  1,      9,     15,2,19931018,0530, 29.9900, 156.9083, 5783,    898.7,   3.5432,  34.3128,2,  34.3105,2,   -999.0,9,     49.2,4,   115.86,3,    41.93,3,     2.97,3,  3.4794
  492SSY9310_1,  P02E,    37,  1,     10,     14,2,19931018,0530, 29.9900, 156.9083, 5783,   1000.3,   3.1928,  34.3730,2,  34.3721,2,   -999.0,9,     57.4,2,   124.61,3,    41.23,3,     3.03,3,  3.1236
  492SSY9310_1,  P02E,    37,  1,     11,     13,2,19931018,0530, 29.9900, 156.9083, 5783,   1250.0,   2.6660,  34.4693,2,  34.4644,2,   -999.0,9,     53.5,2,   139.20,3,    43.94,3,     3.08,3,  2.5819
  492SSY9310_1,  P02E,    37,  1,     12,     12,2,19931018,0530, 29.9900, 156.9083, 5783,   1499.5,   2.3147,  34.5378,2,  34.5331,2,   -999.0,9,     56.5,2,   147.94,3,    43.70,3,     3.03,6,  2.2149
  492SSY9310_1,  P02E,    37,  1,     13,     11,2,19931018,0530, 29.9900, 156.9083, 5783,   1750.7,   2.0242,  34.5844,3,  34.5712,3,   -999.0,9,     78.7,3,  -999.00,9,  -999.00,9,  -999.00,9,  1.9079
  492SSY9310_1,  P02E,    37,  1,     14,     10,2,19931018,0530, 29.9900, 156.9083, 5783,   1999.4,   1.8315,  34.6175,2,  34.6134,2,   -999.0,9,     99.1,4,   149.89,3,    43.28,3,     2.85,3,  1.6976
  492SSY9310_1,  P02E,    37,  1,     15,      9,2,19931018,0530, 29.9900, 156.9083, 5783,   2248.9,   1.7007,  34.6402,3,  34.5702,3,   -999.0,9,     86.5,3,  -999.00,9,  -999.00,9,  -999.00,9,  1.5479
  492SSY9310_1,  P02E,    37,  1,     16,      8,2,19931018,0530, 29.9900, 156.9083, 5783,   2499.5,   1.6213,  34.6544,2,  34.6439,4,   -999.0,9,    124.4,4,   143.07,3,    38.70,3,     2.69,3,  1.4481
  492SSY9310_1,  P02E,    37,  1,     17,      7,2,19931018,0530, 29.9900, 156.9083, 5783,   2999.5,   1.5188,  34.6707,2,  34.6675,2,   -999.0,9,    144.8,4,   139.19,3,    37.88,3,     2.59,3,  1.3017
  492SSY9310_1,  P02E,    37,  1,     18,      6,2,19931018,0530, 29.9900, 156.9083, 5783,   3497.8,   1.4668,  34.6800,2,  34.6769,2,   -999.0,9,    146.5,2,   139.18,3,    37.41,3,     2.55,3,  1.2018
  492SSY9310_1,  P02E,    37,  1,     19,      5,2,19931018,0530, 29.9900, 156.9083, 5783,   3999.7,   1.4445,  34.6865,2,  34.6834,2,   -999.0,9,    160.0,4,   136.28,3,    37.12,3,     2.53,3,  1.1273
  492SSY9310_1,  P02E,    37,  1,     20,      4,2,19931018,0530, 29.9900, 156.9083, 5783,   4497.4,   1.4512,  34.6903,2,  34.6883,2,   -999.0,9,    172.6,4,   134.33,3,    35.78,3,     2.49,6,  1.0782
  492SSY9310_1,  P02E,    37,  1,     21,      3,2,19931018,0530, 29.9900, 156.9083, 5783,   5000.2,   1.4656,  34.6950,2,  34.6906,3,   -999.0,9,    183.9,4,   128.50,3,    35.14,3,     2.44,3,  1.0328
  492SSY9310_1,  P02E,    37,  1,     22,      2,2,19931018,0530, 29.9900, 156.9083, 5783,   5000.2,   1.4656,  34.6950,2,  34.6942,2,   -999.0,9,    185.7,4,   126.55,3,    35.00,3,     2.42,3,  1.0328
  492SSY9310_1,  P02E,    37,  1,     23,      1,2,19931018,0530, 29.9900, 156.9083, 5783,   5500.5,   1.5015,  34.6970,2,  34.6942,2,   -999.0,9,    182.2,4,  -999.00,9,  -999.00,9,  -999.00,9,  1.0051
  492SSY9310_1,  P02E,    38,  1,      1,     23,2,19931018,1234, 29.9967, 157.8350, 5741,     49.5,  24.8732,  34.6077,2,  34.6113,2,   -999.0,9,    205.2,2,     0.97,3,     0.00,3,     0.01,3, 24.8625
  492SSY9310_1,  P02E,    38,  1,      2,     22,2,19931018,1234, 29.9967, 157.8350, 5741,     98.7,  20.6270,  34.8540,2,  34.8503,2,   -999.0,9,    195.4,2,     1.95,3,     2.33,3,     0.19,3, 20.6084
  492SSY9310_1,  P02E,    38,  1,      3,     21,2,19931018,1234, 29.9967, 157.8350, 5741,    198.0,  17.3497,  34.8108,2,  34.8062,2,   -999.0,9,    214.0,2,     1.95,3,     3.21,3,     0.24,3, 17.3167
  492SSY9310_1,  P02E,    38,  1,      4,     20,2,19931018,1234, 29.9967, 157.8350, 5741,    299.1,  15.6487,  34.6737,2,  34.6736,2,   -999.0,9,    191.8,2,     6.82,3,     7.72,3,     0.55,3, 15.6022
  492SSY9310_1,  P02E,    38,  1,      5,     19,2,19931018,1234, 29.9967, 157.8350, 5741,    399.4,  12.9601,  34.4916,2,  34.4983,2,   -999.0,9,    184.3,2,    16.56,3,    12.85,3,     0.93,3, 12.9053
  492SSY9310_1,  P02E,    38,  1,      6,     18,2,19931018,1234, 29.9967, 157.8350, 5741,    499.5,   9.2219,  34.1613,2,  34.2446,4,   -999.0,9,    196.0,2,    26.30,3,    16.79,3,     1.24,3,  9.1666
  492SSY9310_1,  P02E,    38,  1,      7,     17,2,19931018,1234, 29.9967, 157.8350, 5741,    599.4,   6.9552,  34.0487,2,  34.0531,2,   -999.0,9,    162.0,2,    44.80,3,    26.14,3,     1.89,3,  6.8987
  492SSY9310_1,  P02E,    38,  1,      8,     16,2,19931018,1234, 29.9967, 157.8350, 5741,    699.2,   5.1755,  34.0247,2,  34.0260,2,   -999.0,9,    122.8,2,    68.16,3,    32.74,3,     2.45,3,  5.1184
  492SSY9310_1,  P02E,    38,  1,      9,     15,2,19931018,1234, 29.9967, 157.8350, 5741,    799.7,   4.5200,  34.1253,2,  34.1246,2,   -999.0,9,     78.8,2,    86.67,3,    38.45,3,     2.69,3,  4.4581
  492SSY9310_1,  P02E,    38,  1,     10,     14,2,19931018,1234, 29.9967, 157.8350, 5741,    899.0,   4.0787,  34.2162,2,  34.2175,2,   -999.0,9,     63.5,2,   100.29,3,    40.69,3,     2.85,3,  4.0113
  492SSY9310_1,  P02E,    38,  1,     11,     13,2,19931018,1234, 29.9967, 157.8350, 5741,   1000.3,   3.5988,  34.3045,2,  34.3054,2,   -999.0,9,     52.2,2,   114.89,3,    43.14,3,     2.97,3,  3.5266
  492SSY9310_1,  P02E,    38,  1,     12,     12,2,19931018,1234, 29.9967, 157.8350, 5741,   1249.1,   2.8912,  34.4367,2,  34.4369,2,   -999.0,9,     42.6,2,   135.31,3,    43.66,3,     3.06,3,  2.8051
  492SSY9310_1,  P02E,    38,  1,     13,     11,2,19931018,1234, 29.9967, 157.8350, 5741,   1499.7,   2.4478,  34.5116,3,  34.4710,3,   -999.0,9,     56.5,3,  -999.00,9,  -999.00,9,  -999.00,9,  2.3465
  492SSY9310_1,  P02E,    38,  1,     14,     10,2,19931018,1234, 29.9967, 157.8350, 5741,   1749.4,   2.1318,  34.5673,2,  34.5677,2,   -999.0,9,     65.7,2,   150.87,3,    43.23,3,     2.95,3,  2.0142
  492SSY9310_1,  P02E,    38,  1,     15,      9,2,19931018,1234, 29.9967, 157.8350, 5741,   1999.6,   1.9228,  34.6037,2,  34.6044,2,   -999.0,9,     88.7,4,   150.87,3,    41.92,3,     2.88,6,  1.7876
  492SSY9310_1,  P02E,    38,  1,     16,      8,2,19931018,1234, 29.9967, 157.8350, 5741,   2249.9,   1.7674,  34.6308,2,  34.6286,2,   -999.0,9,    106.1,4,   148.91,3,    40.15,3,     2.75,3,  1.6134
  492SSY9310_1,  P02E,    38,  1,     17,      7,2,19931018,1234, 29.9967, 157.8350, 5741,   2500.4,   1.6630,  34.6468,2,  34.6470,2,   -999.0,9,    118.7,4,   144.04,3,    39.68,3,     2.66,3,  1.4889
  492SSY9310_1,  P02E,    38,  1,     18,      6,2,19931018,1234, 29.9967, 157.8350, 5741,   2999.4,   1.5397,  34.6670,2,  34.6673,2,   -999.0,9,    138.3,4,   143.08,3,    38.61,3,     2.60,3,  1.3222
  492SSY9310_1,  P02E,    38,  1,     19,      5,2,19931018,1234, 29.9967, 157.8350, 5741,   3499.3,   1.4812,  34.6775,2,  34.6793,2,   -999.0,9,    149.6,2,   139.18,3,    38.03,3,     2.54,3,  1.2157
  492SSY9310_1,  P02E,    38,  1,     20,      4,2,19931018,1234, 29.9967, 157.8350, 5741,   4000.4,   1.4515,  34.6853,2,  34.6848,2,   -999.0,9,    170.0,4,   137.25,3,    35.68,3,     2.45,6,  1.1340
  492SSY9310_1,  P02E,    38,  1,     21,      3,2,19931018,1234, 29.9967, 157.8350, 5741,   4499.0,   1.4517,  34.6907,2,  34.6910,2,   -999.0,9,    170.9,4,   134.33,3,    35.40,3,     2.41,3,  1.0785
  492SSY9310_1,  P02E,    38,  1,     22,      2,2,19931018,1234, 29.9967, 157.8350, 5741,   4999.3,   1.4645,  34.6946,2,  34.6942,2,   -999.0,9,    176.1,2,   128.50,3,    35.68,3,     2.40,3,  1.0318
  492SSY9310_1,  P02E,    38,  1,     23,      1,2,19931018,1234, 29.9967, 157.8350, 5741,   5500.8,   1.4979,  34.6971,2,  34.6983,2,   -999.0,9,    183.1,4,   126.55,3,    35.09,3,     2.38,3,  1.0016