BOTTLE,20040202WHPSIOSA
EXPOCODE,SECT_ID,STNNBR,CASTNO,SAMPNO,BTLNBR,BTLNBR_FLAG_W,DATE,TIME,LATITUDE,LONGITUDE,DEPTH,CTDPRS,CTDTMP,CTDSAL,CTDSAL_FLAG_W,SALNTY,SALNTY_FLAG_W,CTDOXY,CTDOXY_FLAG_W,OXYGEN,OXYGEN_FLAG_W,SILCAT,SILCAT_FLAG_W,NO2+NO3,NO2+NO3_FLAG_W,PHSPHT,PHSPHT_FLAG_W,THETA
,,,,,,,,,,,,DBAR,ITS-90,PSS-78,,PSS-78,,UMOL/KG,,UMOL/KG,,UMOL/KG,,UMOL/KG,,UMOL/KG,,DEG C
  492SSY9310_1,  P02E,    71,  1,      1,     23,2,19931026,1431, 29.9950, 178.7467, 4475,     50.1,  19.5941,  34.6888,2,  34.6877,2,   -999.0,9,    255.4,2,     3.90,3,     0.06,3,     0.00,3, 19.5850
  492SSY9310_1,  P02E,    71,  1,      2,     22,2,19931026,1431, 29.9950, 178.7467, 4475,     99.9,  16.3710,  34.6991,2,  34.6987,2,   -999.0,9,    226.6,2,     4.87,3,     2.91,3,     0.18,3, 16.3550
  492SSY9310_1,  P02E,    71,  1,      3,     21,2,19931026,1431, 29.9950, 178.7467, 4475,    200.1,  13.7768,  34.5028,2,  34.4400,4,   -999.0,9,    216.1,2,     8.77,3,     8.67,3,     0.54,3, 13.7484
  492SSY9310_1,  P02E,    71,  1,      4,     20,2,19931026,1431, 29.9950, 178.7467, 4475,    300.6,  11.8625,  34.3602,2,  34.3572,2,   -999.0,9,    221.7,2,    11.69,3,    11.28,3,     0.72,3, 11.8237
  492SSY9310_1,  P02E,    71,  1,      5,     19,2,19931026,1431, 29.9950, 178.7467, 4475,    398.8,   9.9260,  34.2045,2,  34.2091,2,   -999.0,9,    205.6,2,    21.43,3,    16.51,3,     1.10,3,  9.8801
  492SSY9310_1,  P02E,    71,  1,      6,     18,2,19931026,1431, 29.9950, 178.7467, 4475,    500.6,   7.6278,  34.0669,2,  34.0697,2,   -999.0,9,    176.4,2,    37.98,3,    23.99,3,     1.60,3,  7.5783
  492SSY9310_1,  P02E,    71,  1,      7,     17,2,19931026,1431, 29.9950, 178.7467, 4475,    600.8,   5.7685,  34.0079,2,  34.0100,2,   -999.0,9,    132.8,2,    61.35,3,    32.21,3,     2.16,3,  5.7172
  492SSY9310_1,  P02E,    71,  1,      9,     15,2,19931026,1431, 29.9950, 178.7467, 4475,    802.7,   4.1488,  34.1782,2,  34.1773,2,   -999.0,9,     51.3,2,   104.19,3,    38.30,3,     2.83,3,  4.0888
  492SSY9310_1,  P02E,    71,  1,     10,     14,2,19931026,1431, 29.9950, 178.7467, 4475,    899.5,   3.7096,  34.2651,2,  34.2628,2,   -999.0,9,     40.0,2,   118.79,3,    41.32,3,     2.95,3,  3.6446
  492SSY9310_1,  P02E,    71,  1,     11,     13,2,19931026,1431, 29.9950, 178.7467, 4475,   1001.4,   3.3814,  34.3318,2,  34.3315,2,   -999.0,9,     36.1,4,   130.46,3,    42.05,3,     3.04,3,  3.3107
  492SSY9310_1,  P02E,    71,  1,     12,     12,2,19931026,1431, 29.9950, 178.7467, 4475,   1250.0,   2.7999,  34.4577,2,  34.4591,2,   -999.0,9,     30.9,2,   149.91,3,    41.49,3,     3.11,3,  2.7146
  492SSY9310_1,  P02E,    71,  1,     13,     11,2,19931026,1431, 29.9950, 178.7467, 4475,   1500.1,   2.4140,  34.5293,2,  34.5264,2,   -999.0,9,     43.9,2,   158.65,3,    41.49,3,     3.07,6,  2.3130
  492SSY9310_1,  P02E,    71,  1,     14,     10,2,19931026,1431, 29.9950, 178.7467, 4475,   1750.0,   2.0759,  34.5776,2,  34.5796,2,   -999.0,9,     63.5,2,   168.39,3,    40.87,3,     3.17,3,  1.9590
  492SSY9310_1,  P02E,    71,  1,     15,      9,2,19931026,1431, 29.9950, 178.7467, 4475,   1999.5,   1.8876,  34.6091,2,  34.6009,4,   -999.0,9,     80.0,2,   158.65,4,    38.55,4,     3.05,4,  1.7529
  492SSY9310_1,  P02E,    71,  1,     16,      8,2,19931026,1431, 29.9950, 178.7467, 4475,   2248.7,   1.7349,  34.6326,2,  34.6315,2,   -999.0,9,     99.1,3,   168.38,3,    39.83,3,     3.10,3,  1.5815
  492SSY9310_1,  P02E,    71,  1,     17,      7,2,19931026,1431, 29.9950, 178.7467, 4475,   2499.9,   1.6311,  34.6476,2,  34.6464,2,   -999.0,9,    110.0,3,   167.40,3,    40.48,3,     2.65,3,  1.4577
  492SSY9310_1,  P02E,    71,  1,     18,      6,2,19931026,1431, 29.9950, 178.7467, 4475,   3000.6,   1.5021,  34.6678,2,  34.6673,2,   -999.0,9,    131.3,2,   163.52,3,    38.76,3,     2.54,3,  1.2853
  492SSY9310_1,  P02E,    71,  1,     19,      5,2,19931026,1431, 29.9950, 178.7467, 4475,   3498.8,   1.4500,  34.6785,2,  34.6793,2,   -999.0,9,    144.4,2,   159.62,3,    37.76,3,     2.46,3,  1.1853
  492SSY9310_1,  P02E,    71,  1,     21,      3,2,19931026,1431, 29.9950, 178.7467, 4475,   4001.0,   1.4388,  34.6858,2,  34.6865,2,   -999.0,9,    154.4,2,   157.69,3,    36.10,3,     2.42,3,  1.1216
  492SSY9310_1,  P02E,    71,  1,     20,      4,2,19931026,1431, 29.9950, 178.7467, 4475,   4004.4,   1.4390,  34.6844,2,  34.6853,2,   -999.0,9,    153.5,2,   156.72,3,    35.40,3,     2.41,3,  1.1214
  492SSY9310_1,  P02E,    71,  1,     22,      2,2,19931026,1431, 29.9950, 178.7467, 4475,   4499.8,   1.4411,  34.6908,2,  34.6901,2,   -999.0,9,    162.6,2,   147.96,3,    35.45,3,     2.36,6,  1.0681
  492SSY9310_1,  P02E,    71,  1,     23,      1,2,19931026,1431, 29.9950, 178.7467, 4475,   4499.8,   1.4411,  34.6908,2,  34.6901,2,   -999.0,9,    161.7,2,   148.93,3,    35.08,3,     2.38,3,  1.0681
  492SSY9310_1,  P02E,    72,  1,      1,     23,2,19931026,1904, 30.0000, 179.3333, 4772,     50.2,  20.1750,  34.6743,2,  34.6753,2,   -999.0,9,    250.7,2,     3.90,3,     0.13,3,     0.08,3, 20.1656
  492SSY9310_1,  P02E,    72,  1,      2,     22,2,19931026,1904, 30.0000, 179.3333, 4772,    101.6,  15.6436,  34.6449,2,  34.6445,2,   -999.0,9,    220.0,2,     6.82,3,     5.10,3,     0.40,3, 15.6279
  492SSY9310_1,  P02E,    72,  1,      3,     21,2,19931026,1904, 30.0000, 179.3333, 4772,    199.9,  13.2413,  34.4575,2,  34.4540,2,   -999.0,9,    221.3,2,    10.72,3,     8.81,3,     0.66,3, 13.2137
  492SSY9310_1,  P02E,    72,  1,      4,     20,2,19931026,1904, 30.0000, 179.3333, 4772,    300.5,  11.4159,  34.3315,2,  34.3311,2,   -999.0,9,    219.1,2,    16.56,3,    12.47,3,     0.92,3, 11.3781
  492SSY9310_1,  P02E,    72,  1,      5,     19,2,19931026,1904, 30.0000, 179.3333, 4772,    399.5,   9.3202,  34.1666,2,  34.1691,2,   -999.0,9,    196.4,3,    28.25,3,    18.66,3,     1.36,3,  9.2759
  492SSY9310_1,  P02E,    72,  1,      6,     18,2,19931026,1904, 30.0000, 179.3333, 4772,    499.9,   6.8137,  34.0285,2,  34.0329,2,   -999.0,9,    150.7,3,    47.72,3,    26.53,3,     1.91,3,  6.7674
  492SSY9310_1,  P02E,    72,  1,      7,     17,2,19931026,1904, 30.0000, 179.3333, 4772,    600.5,   5.3717,  34.0339,2,  34.0315,2,   -999.0,9,    107.1,3,    68.17,3,    33.55,3,     2.39,3,  5.3222
  492SSY9310_1,  P02E,    72,  1,      8,     16,2,19931026,1904, 30.0000, 179.3333, 4772,    700.0,   4.6159,  34.0953,2,  34.1021,2,   -999.0,9,     84.4,2,    85.68,3,    36.32,3,     2.65,3,  4.5617
  492SSY9310_1,  P02E,    72,  1,      9,     15,2,19931026,1904, 30.0000, 179.3333, 4772,    800.9,   4.0685,  34.1940,2,  34.1950,2,   -999.0,9,     50.9,2,   104.19,3,    40.01,3,     2.88,3,  4.0091
  492SSY9310_1,  P02E,    72,  1,     10,     14,2,19931026,1904, 30.0000, 179.3333, 4772,    900.6,   3.7272,  34.2575,2,  34.2615,2,   -999.0,9,     39.2,2,   111.97,3,    40.94,3,     2.99,3,  3.6620
  492SSY9310_1,  P02E,    72,  1,     11,     13,2,19931026,1904, 30.0000, 179.3333, 4772,   1000.1,   3.4299,  34.3155,2,  34.3180,2,   -999.0,9,     30.0,2,   121.70,3,  -999.00,9,     3.09,3,  3.3589
  492SSY9310_1,  P02E,    72,  1,     12,     12,2,19931026,1904, 30.0000, 179.3333, 4772,   1246.5,   2.8023,  34.4534,2,  34.4538,2,   -999.0,9,     30.4,2,   140.17,3,    41.39,3,     3.12,6,  2.7173
  492SSY9310_1,  P02E,    72,  1,     13,     11,2,19931026,1904, 30.0000, 179.3333, 4772,   1500.9,   2.4390,  34.5319,2,  34.5274,2,   -999.0,9,     47.4,2,   146.97,3,    40.90,3,     3.05,3,  2.3376
  492SSY9310_1,  P02E,    72,  1,     14,     10,2,19931026,1904, 30.0000, 179.3333, 4772,   1749.2,   2.0968,  34.5815,2,  34.5871,2,   -999.0,9,     65.7,2,   154.76,3,    40.16,3,     2.99,3,  1.9797
  492SSY9310_1,  P02E,    72,  1,     15,      9,2,19931026,1904, 30.0000, 179.3333, 4772,   1999.3,   1.8685,  34.6093,2,  34.6060,2,   -999.0,9,     79.6,2,   154.76,3,    38.90,3,     2.88,3,  1.7340
  492SSY9310_1,  P02E,    72,  1,     16,      8,2,19931026,1904, 30.0000, 179.3333, 4772,   2250.2,   1.7344,  34.6286,2,  34.6289,2,   -999.0,9,     94.4,2,   157.67,3,    40.19,3,     2.84,3,  1.5809
  492SSY9310_1,  P02E,    72,  1,     17,      7,2,19931026,1904, 30.0000, 179.3333, 4772,   2500.2,   1.6339,  34.6448,2,  34.6437,2,   -999.0,9,    107.0,2,   156.70,3,    40.68,3,     2.83,3,  1.4604
  492SSY9310_1,  P02E,    72,  1,     18,      6,2,19931026,1904, 30.0000, 179.3333, 4772,   3000.5,   1.5041,  34.6673,2,  34.6657,2,   -999.0,9,    131.8,2,   152.81,3,    38.17,3,     2.75,3,  1.2872
  492SSY9310_1,  P02E,    72,  1,     19,      5,2,19931026,1904, 30.0000, 179.3333, 4772,   3499.8,   1.4503,  34.6783,2,  34.6759,2,   -999.0,9,    143.9,2,   149.89,3,    37.66,3,     2.58,3,  1.1855
  492SSY9310_1,  P02E,    72,  1,     21,      3,2,19931026,1904, 30.0000, 179.3333, 4772,   3999.6,   1.4445,  34.6844,2,  34.6859,2,   -999.0,9,    153.1,2,   147.96,3,    36.40,3,     2.50,3,  1.1273
  492SSY9310_1,  P02E,    72,  1,     20,      4,2,19931026,1904, 30.0000, 179.3333, 4772,   4004.0,   1.4442,  34.6831,2,  34.6846,2,   -999.0,9,    152.2,2,   147.96,3,    35.78,3,     2.51,3,  1.1265
  492SSY9310_1,  P02E,    72,  1,     23,      1,2,19931026,1904, 30.0000, 179.3333, 4772,   4502.8,   1.4622,  34.6877,2,  34.6885,2,   -999.0,9,    157.8,2,   145.04,3,    36.26,3,     2.47,3,  1.0883
  492SSY9310_1,  P02E,    72,  1,     22,      2,2,19931026,1904, 30.0000, 179.3333, 4772,   4505.3,   1.4626,  34.6869,2,  34.6897,2,   -999.0,9,    159.6,2,   145.05,3,    36.12,3,     2.45,6,  1.0884
  492SSY9310_1,  P02E,    73,  1,      1,     23,2,19931026,2340, 30.0017, 179.9167, 5400,     50.0,  19.5402,  34.6561,2,  34.6547,2,   -999.0,9,    258.9,2,     3.90,3,     0.08,3,     0.08,3, 19.5311
  492SSY9310_1,  P02E,    73,  1,      2,     22,2,19931026,2340, 30.0017, 179.9167, 5400,    101.1,  15.3792,  34.6068,2,  34.6488,3,   -999.0,9,    254.4,2,     3.90,3,     0.37,3,     0.08,3, 15.3637
  492SSY9310_1,  P02E,    73,  1,      3,     21,2,19931026,2340, 30.0017, 179.9167, 5400,    199.6,  13.5932,  34.4914,2,  34.4866,2,   -999.0,9,    219.5,2,     9.74,3,     8.23,3,     0.56,3, 13.5651
  492SSY9310_1,  P02E,    73,  1,      4,     20,2,19931026,2340, 30.0017, 179.9167, 5400,    299.3,  11.7985,  34.3460,2,  34.3472,2,   -999.0,9,    220.8,2,    14.61,3,    11.46,3,     0.75,3, 11.7601
  492SSY9310_1,  P02E,    73,  1,      5,     19,2,19931026,2340, 30.0017, 179.9167, 5400,    399.4,  10.0708,  34.2101,2,  34.2111,2,   -999.0,9,    210.4,2,    21.43,3,    15.99,3,     1.07,3, 10.0243
  492SSY9310_1,  P02E,    73,  1,      6,     18,2,19931026,2340, 30.0017, 179.9167, 5400,    500.9,   7.6386,  34.0606,2,  34.0609,2,   -999.0,9,    174.2,3,    40.91,3,    24.58,3,     1.68,3,  7.5891
  492SSY9310_1,  P02E,    73,  1,      7,     17,2,19931026,2340, 30.0017, 179.9167, 5400,    600.4,   6.0046,  34.0080,2,  34.0088,2,   -999.0,9,    140.6,3,    58.43,3,    31.14,3,     2.12,3,  5.9522
  492SSY9310_1,  P02E,    73,  1,      8,     16,2,19931026,2340, 30.0017, 179.9167, 5400,    697.7,   4.8188,  34.0702,2,  34.0713,2,   -999.0,9,     89.7,3,    80.82,3,    35.53,3,     2.58,3,  4.7638
  492SSY9310_1,  P02E,    73,  1,      9,     15,2,19931026,2340, 30.0017, 179.9167, 5400,    799.7,   4.2284,  34.1747,2,  34.1744,2,   -999.0,9,     54.4,3,    97.38,3,    39.14,3,     2.84,3,  4.1681
  492SSY9310_1,  P02E,    73,  1,     10,     14,2,19931026,2340, 30.0017, 179.9167, 5400,    899.6,   3.8707,  34.2512,2,  34.2511,2,   -999.0,9,     43.5,2,   105.16,3,    39.95,3,     2.93,6,  3.8046
  492SSY9310_1,  P02E,    73,  1,     11,     13,2,19931026,2340, 30.0017, 179.9167, 5400,   1000.8,   3.4949,  34.3333,2,  34.3319,2,   -999.0,9,     30.5,2,   119.75,3,    41.96,3,     3.09,3,  3.4233
  492SSY9310_1,  P02E,    73,  1,     12,     12,2,19931026,2340, 30.0017, 179.9167, 5400,   1250.9,   2.8302,  34.4576,2,  34.4573,2,   -999.0,9,     31.8,2,   139.20,3,    41.52,3,     3.12,3,  2.7445
  492SSY9310_1,  P02E,    73,  1,     13,     11,2,19931026,2340, 30.0017, 179.9167, 5400,   1498.3,   2.4401,  34.5388,2,  34.5358,2,   -999.0,9,     50.0,2,   139.19,3,    40.63,3,     2.97,3,  2.3389
  492SSY9310_1,  P02E,    73,  1,     14,     10,2,19931026,2340, 30.0017, 179.9167, 5400,   1748.3,   2.1386,  34.5772,2,  34.5785,2,   -999.0,9,     66.5,2,   152.82,3,    40.48,3,     2.91,3,  2.0210
  492SSY9310_1,  P02E,    73,  1,     15,      9,2,19931026,2340, 30.0017, 179.9167, 5400,   2000.0,   1.9283,  34.6053,2,  34.5950,4,   -999.0,9,     77.0,2,   144.05,4,    38.08,4,     2.73,4,  1.7930
  492SSY9310_1,  P02E,    73,  1,     16,      8,2,19931026,2340, 30.0017, 179.9167, 5400,   2248.0,   1.7550,  34.6285,2,  34.6187,4,   -999.0,9,     89.6,2,   154.75,3,    40.38,3,     2.77,3,  1.6014
  492SSY9310_1,  P02E,    73,  1,     17,      7,2,19931026,2340, 30.0017, 179.9167, 5400,   2500.3,   1.6485,  34.6442,2,  34.6272,4,   -999.0,9,    102.2,2,   153.78,3,    40.03,3,     2.73,3,  1.4747
  492SSY9310_1,  P02E,    73,  1,     18,      6,2,19931026,2340, 30.0017, 179.9167, 5400,   3001.0,   1.5172,  34.6657,2,  34.6633,2,   -999.0,9,    129.6,2,   152.81,3,    38.76,3,     2.60,3,  1.3000
  492SSY9310_1,  P02E,    73,  1,     19,      5,2,19931026,2340, 30.0017, 179.9167, 5400,   3500.0,   1.4640,  34.6769,2,  34.6728,2,   -999.0,9,    142.6,2,   149.89,3,    37.76,3,     2.54,3,  1.1989
  492SSY9310_1,  P02E,    73,  1,     20,      4,2,19931026,2340, 30.0017, 179.9167, 5400,   4000.5,   1.4564,  34.6831,2,  34.6806,2,   -999.0,9,    150.4,2,   148.93,3,    35.78,3,     2.50,3,  1.1388
  492SSY9310_1,  P02E,    73,  1,     21,      3,2,19931026,2340, 30.0017, 179.9167, 5400,   4499.9,   1.4719,  34.6879,2,  34.6881,2,   -999.0,9,    158.7,2,   146.01,3,    35.87,3,     2.46,3,  1.0981
  492SSY9310_1,  P02E,    73,  1,     23,      1,2,19931026,2340, 30.0017, 179.9167, 5400,   4998.8,   1.4984,  34.6917,2,  34.6934,2,   -999.0,9,    161.3,4,   142.13,3,    35.34,3,     2.48,6,  1.0647
  492SSY9310_1,  P02E,    73,  1,     22,      2,2,19931026,2340, 30.0017, 179.9167, 5400,   5001.1,   1.4983,  34.6910,2,  34.6901,2,   -999.0,9,    165.2,2,   142.13,3,    35.84,3,     2.46,3,  1.0643
  492SSY9310_1,  P02E,    74,  1,      1,     23,2,19931027,0441, 29.9983,-179.4950, 5400,     50.1,  23.3772,  35.0821,2,  35.0429,3,   -999.0,9,    216.3,2,     1.95,3,     0.00,3,     0.04,3, 23.3668
  492SSY9310_1,  P02E,    74,  1,      2,     22,2,19931027,0441, 29.9983,-179.4950, 5400,     99.9,  17.5694,  34.7988,2,  34.7997,2,   -999.0,9,    229.7,2,     2.92,3,     0.39,3,     0.07,3, 17.5526
  492SSY9310_1,  P02E,    74,  1,      3,     21,2,19931027,0441, 29.9983,-179.4950, 5400,    200.5,  15.9070,  34.6948,2,  34.6893,2,   -999.0,9,    214.8,2,     5.84,3,     5.30,3,     0.35,3, 15.8755
  492SSY9310_1,  P02E,    74,  1,      4,     20,2,19931027,0441, 29.9983,-179.4950, 5400,    299.3,  13.7729,  34.5028,2,  34.5011,2,   -999.0,9,    211.8,2,    10.72,3,     8.98,3,     0.58,3, 13.7302
  492SSY9310_1,  P02E,    74,  1,      5,     19,2,19931027,0441, 29.9983,-179.4950, 5400,    398.3,  11.7025,  34.3514,2,  34.3519,2,   -999.0,9,    203.0,2,    16.56,3,    12.07,3,     0.81,3, 11.6514
  492SSY9310_1,  P02E,    74,  1,      6,     18,2,19931027,0441, 29.9983,-179.4950, 5400,    499.2,   9.3821,  34.1710,2,  34.1715,2,   -999.0,9,    194.3,2,    28.25,3,    18.74,3,     1.30,3,  9.3263
  492SSY9310_1,  P02E,    74,  1,      7,     17,2,19931027,0441, 29.9983,-179.4950, 5400,    600.8,   7.0055,  34.0372,2,  34.0398,2,   -999.0,9,    159.4,2,    43.83,3,    26.53,3,     1.85,3,  6.9486
  492SSY9310_1,  P02E,    74,  1,      8,     16,2,19931027,0441, 29.9983,-179.4950, 5400,    701.0,   5.4120,  34.0293,2,  34.0286,2,   -999.0,9,    117.1,2,    65.24,3,    31.95,3,     2.35,3,  5.3535
  492SSY9310_1,  P02E,    74,  1,      9,     15,2,19931027,0441, 29.9983,-179.4950, 5400,    800.6,   4.5728,  34.1136,2,  34.1083,2,   -999.0,9,     70.5,2,    87.65,3,    36.96,3,     2.74,3,  4.5105
  492SSY9310_1,  P02E,    74,  1,     10,     14,2,19931027,0441, 29.9983,-179.4950, 5400,    900.8,   4.0508,  34.2169,2,  34.2140,2,   -999.0,9,     41.3,2,   103.21,3,    40.21,3,     2.98,6,  3.9835
  492SSY9310_1,  P02E,    74,  1,     11,     13,2,19931027,0441, 29.9983,-179.4950, 5400,   1000.4,   3.6379,  34.3154,2,  34.3144,2,   -999.0,9,     30.5,2,   116.83,3,    41.29,3,     3.10,3,  3.5654
  492SSY9310_1,  P02E,    74,  1,     12,     12,2,19931027,0441, 29.9983,-179.4950, 5400,   1250.8,   3.0049,  34.4467,2,  34.4477,2,   -999.0,9,     33.5,2,   135.31,3,    41.46,3,     3.12,3,  2.9176
  492SSY9310_1,  P02E,    74,  1,     13,     11,2,19931027,0441, 29.9983,-179.4950, 5400,   1499.7,   2.5396,  34.5240,2,  34.5199,2,   -999.0,9,     47.4,2,   142.11,3,    39.75,3,     3.06,3,  2.4372
  492SSY9310_1,  P02E,    74,  1,     14,     10,2,19931027,0441, 29.9983,-179.4950, 5400,   1749.6,   2.2056,  34.5721,2,  34.5692,2,   -999.0,9,     63.1,2,   154.77,3,    39.72,3,     2.95,3,  2.0870
  492SSY9310_1,  P02E,    74,  1,     15,      9,2,19931027,0441, 29.9983,-179.4950, 5400,   2001.2,   1.9536,  34.6053,2,  34.6028,2,   -999.0,9,     79.6,3,   156.71,3,    38.75,3,     2.83,3,  1.8178
  492SSY9310_1,  P02E,    74,  1,     16,      8,2,19931027,0441, 29.9983,-179.4950, 5400,   2249.4,   1.7980,  34.6246,2,  34.6209,2,   -999.0,9,     92.6,3,   155.73,3,    39.96,3,     2.77,3,  1.6435
  492SSY9310_1,  P02E,    74,  1,     18,      6,2,19931027,0441, 29.9983,-179.4950, 5400,   2999.1,   1.5346,  34.6628,2,  34.6635,2,   -999.0,9,    127.8,2,   151.84,3,    40.12,3,     2.62,3,  1.3172
  492SSY9310_1,  P02E,    74,  1,     19,      5,2,19931027,0441, 29.9983,-179.4950, 5400,   3502.1,   1.4676,  34.6772,2,  34.6747,2,   -999.0,9,    141.3,2,   147.95,3,    37.63,3,     2.55,3,  1.2022
  492SSY9310_1,  P02E,    74,  1,     20,      4,2,19931027,0441, 29.9983,-179.4950, 5400,   3999.4,   1.4542,  34.6841,2,  34.6798,2,   -999.0,9,    150.9,2,   146.01,3,    35.81,3,     2.49,3,  1.1368
  492SSY9310_1,  P02E,    74,  1,     21,      3,2,19931027,0441, 29.9983,-179.4950, 5400,   4499.4,   1.4664,  34.6887,2,  34.6869,2,   -999.0,9,    158.7,2,   143.09,3,    35.76,3,     2.47,3,  1.0928
  492SSY9310_1,  P02E,    74,  1,     22,      2,2,19931027,0441, 29.9983,-179.4950, 5400,   4999.2,   1.4809,  34.6922,2,  34.6916,2,   -999.0,9,    167.0,2,   137.26,3,    35.46,3,     2.43,6,  1.0477
  492SSY9310_1,  P02E,    74,  1,     23,      1,2,19931027,0441, 29.9983,-179.4950, 5400,   5500.5,   1.4994,  34.6964,2,  34.6948,2,   -999.0,9,    173.5,2,   131.42,3,    34.85,3,     2.39,3,  1.0031