BOTTLE,20040202WHPSIOSA
EXPOCODE,SECT_ID,STNNBR,CASTNO,SAMPNO,BTLNBR,BTLNBR_FLAG_W,DATE,TIME,LATITUDE,LONGITUDE,DEPTH,CTDPRS,CTDTMP,CTDSAL,CTDSAL_FLAG_W,SALNTY,SALNTY_FLAG_W,CTDOXY,CTDOXY_FLAG_W,OXYGEN,OXYGEN_FLAG_W,SILCAT,SILCAT_FLAG_W,NO2+NO3,NO2+NO3_FLAG_W,PHSPHT,PHSPHT_FLAG_W,THETA
,,,,,,,,,,,,DBAR,ITS-90,PSS-78,,PSS-78,,UMOL/KG,,UMOL/KG,,UMOL/KG,,UMOL/KG,,UMOL/KG,,DEG C
  492SSY9310_1,  P02E,    43,  1,      2,     22,2,19931020,0138, 29.9983, 161.0867, 5907,     98.5,  19.2907,  34.8537,2,  34.8511,2,   -999.0,9,    234.6,2,     1.95,3,     0.00,3,     0.05,3, 19.2730
  492SSY9310_1,  P02E,    43,  1,      3,     21,2,19931020,0138, 29.9983, 161.0867, 5907,    199.1,  17.0711,  34.7959,2,  34.7962,2,   -999.0,9,    220.6,2,     3.90,3,     4.29,3,     0.27,3, 17.0382
  492SSY9310_1,  P02E,    43,  1,      4,     20,2,19931020,0138, 29.9983, 161.0867, 5907,    298.2,  16.5281,  34.7502,2,  34.7498,2,   -999.0,9,    213.6,2,     4.87,3,     7.24,3,     0.36,3, 16.4799
  492SSY9310_1,  P02E,    43,  1,      5,     19,2,19931020,0138, 29.9983, 161.0867, 5907,    397.7,  14.4845,  34.5725,2,  34.5791,2,   -999.0,9,    198.8,2,     9.74,3,    11.71,3,     0.68,3, 14.4257
  492SSY9310_1,  P02E,    43,  1,      6,     18,2,19931020,0138, 29.9983, 161.0867, 5907,    499.3,  12.2055,  34.4008,2,  34.4020,2,   -999.0,9,    211.4,2,    14.61,3,    16.71,3,     0.82,3, 12.1394
  492SSY9310_1,  P02E,    43,  1,      7,     17,2,19931020,0138, 29.9983, 161.0867, 5907,    598.9,   9.5870,  34.2112,2,  34.2230,2,   -999.0,9,    188.2,2,  -999.00,9,  -999.00,9,  -999.00,9,  9.5187
  492SSY9310_1,  P02E,    43,  1,      8,     16,2,19931020,0138, 29.9983, 161.0867, 5907,    699.9,   7.1597,  34.0528,2,  34.0603,2,   -999.0,9,    161.1,2,    44.80,3,    31.08,3,     1.83,3,  7.0921
  492SSY9310_1,  P02E,    43,  1,      9,     15,2,19931020,0138, 29.9983, 161.0867, 5907,    799.2,   5.2208,  34.0253,2,  34.0298,2,   -999.0,9,    120.6,2,    70.13,3,    37.13,3,     2.38,3,  5.1548
  492SSY9310_1,  P02E,    43,  1,     10,     14,2,19931020,0138, 29.9983, 161.0867, 5907,    897.3,   4.5252,  34.1272,2,  34.1285,2,   -999.0,9,     80.1,2,    91.54,3,    37.59,3,     2.71,3,  4.4550
  492SSY9310_1,  P02E,    43,  1,     11,     13,2,19931020,0138, 29.9983, 161.0867, 5907,   1000.0,   3.9768,  34.2334,2,  34.2350,2,   -999.0,9,     55.7,2,   107.11,3,    38.27,3,     2.89,3,  3.9018
  492SSY9310_1,  P02E,    43,  1,     12,     12,2,19931020,0138, 29.9983, 161.0867, 5907,   1250.2,   3.1225,  34.3929,2,  34.3953,2,   -999.0,9,     39.2,2,   131.42,3,    44.10,3,     3.05,3,  3.0342
  492SSY9310_1,  P02E,    43,  1,     13,     11,2,19931020,0138, 29.9983, 161.0867, 5907,   1499.4,   2.6017,  34.4911,2,  34.4828,2,   -999.0,9,     47.8,2,   136.27,3,    43.51,3,     2.92,3,  2.4986
  492SSY9310_1,  P02E,    43,  1,     14,     10,2,19931020,0138, 29.9983, 161.0867, 5907,   1749.9,   2.2449,  34.5502,2,  34.5488,2,   -999.0,9,     58.7,2,   146.98,3,    44.22,3,     2.92,3,  2.1258
  492SSY9310_1,  P02E,    43,  1,     15,      9,2,19931020,0138, 29.9983, 161.0867, 5907,   2000.5,   2.0057,  34.5919,2,  34.5901,2,   -999.0,9,     80.0,2,   149.89,4,    41.46,3,     2.23,6,  1.8692
  492SSY9310_1,  P02E,    43,  1,     16,      8,2,19931020,0138, 29.9983, 161.0867, 5907,   2249.8,   1.8123,  34.6218,3,  34.6054,3,   -999.0,9,     91.8,3,  -999.00,9,  -999.00,9,  -999.00,9,  1.6576
  492SSY9310_1,  P02E,    43,  1,     17,      7,2,19931020,0138, 29.9983, 161.0867, 5907,   2501.7,   1.7026,  34.6397,2,  34.6421,2,   -999.0,9,    109.1,3,   152.80,3,    40.90,3,     2.73,3,  1.5277
  492SSY9310_1,  P02E,    43,  1,     18,      6,2,19931020,0138, 29.9983, 161.0867, 5907,   3002.7,   1.5645,  34.6655,2,  34.6653,2,   -999.0,9,    130.9,2,   152.81,3,    39.50,3,     2.62,3,  1.3461
  492SSY9310_1,  P02E,    43,  1,     19,      5,2,19931020,0138, 29.9983, 161.0867, 5907,   3500.8,   1.4979,  34.6763,2,  34.6785,2,   -999.0,9,    144.4,2,   146.00,3,    38.62,3,     2.55,3,  1.2319
  492SSY9310_1,  P02E,    43,  1,     20,      4,2,19931020,0138, 29.9983, 161.0867, 5907,   4001.0,   1.4706,  34.6830,2,  34.6840,2,   -999.0,9,    152.6,2,   144.06,3,    37.05,3,     2.51,3,  1.1526
  492SSY9310_1,  P02E,    43,  1,     21,      3,2,19931020,0138, 29.9983, 161.0867, 5907,   4500.5,   1.4669,  34.6893,2,  34.6914,2,   -999.0,9,    162.6,2,   140.17,3,    36.72,3,     2.47,6,  1.0931
  492SSY9310_1,  P02E,    43,  1,     22,      2,2,19931020,0138, 29.9983, 161.0867, 5907,   5000.7,   1.4833,  34.6931,2,  34.6926,2,   -999.0,9,    169.1,2,   137.26,3,    35.54,3,     2.42,3,  1.0498
  492SSY9310_1,  P02E,    43,  1,     23,      1,2,19931020,0138, 29.9983, 161.0867, 5907,   5500.8,   1.5199,  34.6959,2,  34.6952,2,   -999.0,9,    170.9,2,   133.37,3,    35.17,3,     2.39,3,  1.0228
  492SSY9310_1,  P02E,    44,  1,      1,     23,2,19931020,0828, 29.9983, 161.9967, 5980,     99.8,  20.6813,  34.9359,2,  34.9370,2,   -999.0,9,    216.8,2,     0.97,3,     0.00,3,     0.03,3, 20.6625
  492SSY9310_1,  P02E,    44,  1,      2,     22,2,19931020,0828, 29.9983, 161.9967, 5980,    199.6,  17.1941,  34.7967,2,  34.7988,2,   -999.0,9,    215.3,2,     3.90,3,     0.00,3,     0.22,3, 17.1610
  492SSY9310_1,  P02E,    44,  1,      3,     21,2,19931020,0828, 29.9983, 161.9967, 5980,    301.8,  16.7345,  34.7690,2,  34.7665,2,   -999.0,9,    219.3,2,     3.90,3,     4.29,3,     0.29,3, 16.6852
  492SSY9310_1,  P02E,    44,  1,      4,     20,2,19931020,0828, 29.9983, 161.9967, 5980,    400.6,  15.5575,  34.6601,2,  34.6604,2,   -999.0,9,    207.1,2,     7.79,3,     7.24,3,     0.50,3, 15.4952
  492SSY9310_1,  P02E,    44,  1,      5,     19,2,19931020,0828, 29.9983, 161.9967, 5980,    500.6,  13.0592,  34.4366,2,  34.4381,2,   -999.0,9,    200.9,2,    12.66,3,    11.71,3,     0.78,3, 12.9899
  492SSY9310_1,  P02E,    44,  1,      6,     18,2,19931020,0828, 29.9983, 161.9967, 5980,    599.6,  10.5498,  34.2688,2,  34.3089,4,   -999.0,9,    193.9,2,    21.43,3,    16.71,3,     1.08,3, 10.4772
  492SSY9310_1,  P02E,    44,  1,      7,     17,2,19931020,0828, 29.9983, 161.9967, 5980,    700.5,   7.7968,  34.0858,2,  34.0925,2,   -999.0,9,    160.3,2,    40.91,3,    23.39,3,     1.73,3,  7.7259
  492SSY9310_1,  P02E,    44,  1,      8,     16,2,19931020,0828, 29.9983, 161.9967, 5980,    799.7,   6.0322,  34.0292,2,  34.0276,2,   -999.0,9,    139.7,2,    60.39,3,    31.08,3,     2.14,3,  5.9612
  492SSY9310_1,  P02E,    44,  1,      9,     15,2,19931020,0828, 29.9983, 161.9967, 5980,    899.7,   4.8306,  34.1018,2,  34.1031,2,   -999.0,9,     86.2,2,    86.67,3,    37.13,3,     2.62,3,  4.7582
  492SSY9310_1,  P02E,    44,  1,     10,     14,2,19931020,0828, 29.9983, 161.9967, 5980,   1000.8,   4.1216,  34.2095,2,  34.2089,2,   -999.0,9,     57.9,2,   109.06,3,    37.60,3,     2.86,4,  4.0455
  492SSY9310_1,  P02E,    44,  1,     11,     13,2,19931020,0828, 29.9983, 161.9967, 5980,   1250.8,   3.3562,  34.3721,2,  34.3753,2,   -999.0,9,     42.2,2,   132.40,4,    38.27,3,     2.80,4,  3.2657
  492SSY9310_1,  P02E,    44,  1,     12,     12,2,19931020,0828, 29.9983, 161.9967, 5980,   1500.1,   2.7491,  34.4725,2,  34.4726,2,   -999.0,9,     44.4,2,   150.88,3,    44.10,3,     3.05,3,  2.6444
  492SSY9310_1,  P02E,    44,  1,     13,     11,2,19931020,0828, 29.9983, 161.9967, 5980,   1747.4,   2.3312,  34.5384,3,  34.5166,3,   -999.0,9,     59.1,3,  -999.00,9,  -999.00,9,  -999.00,9,  2.2113
  492SSY9310_1,  P02E,    44,  1,     14,     10,2,19931020,0828, 29.9983, 161.9967, 5980,   1998.2,   2.0815,  34.5833,2,  34.5816,2,   -999.0,9,     77.4,2,   162.55,3,    44.22,3,     2.88,3,  1.9441
  492SSY9310_1,  P02E,    44,  1,     15,      9,2,19931020,0828, 29.9983, 161.9967, 5980,   2250.6,   1.9108,  34.6147,2,  34.6089,2,   -999.0,9,     98.7,2,   154.76,4,    41.46,4,     2.73,6,  1.7544
  492SSY9310_1,  P02E,    44,  1,     16,      8,2,19931020,0828, 29.9983, 161.9967, 5980,   2499.7,   1.7604,  34.6327,2,  34.6286,2,   -999.0,9,    105.2,4,   160.59,3,    41.68,3,     2.74,3,  1.5846
  492SSY9310_1,  P02E,    44,  1,     17,      7,2,19931020,0828, 29.9983, 161.9967, 5980,   3000.0,   1.6072,  34.6600,2,  34.6572,2,   -999.0,9,    125.2,4,   161.58,3,    40.90,3,     2.59,3,  1.3881
  492SSY9310_1,  P02E,    44,  1,     18,      6,2,19931020,0828, 29.9983, 161.9967, 5980,   3501.9,   1.5281,  34.6732,2,  34.6722,2,   -999.0,9,    143.5,2,   158.65,3,    39.50,3,     2.52,3,  1.2612
  492SSY9310_1,  P02E,    44,  1,     19,      5,2,19931020,0828, 29.9983, 161.9967, 5980,   4000.6,   1.4968,  34.6807,2,  34.6789,2,   -999.0,9,    150.4,2,   155.75,3,    38.62,3,     2.47,3,  1.1781
  492SSY9310_1,  P02E,    44,  1,     20,      4,2,19931020,0828, 29.9983, 161.9967, 5980,   4498.6,   1.4876,  34.6860,2,  34.6850,2,   -999.0,9,    157.8,2,   152.82,3,    37.05,3,     2.43,3,  1.1134
  492SSY9310_1,  P02E,    44,  1,     21,      3,2,19931020,0828, 29.9983, 161.9967, 5980,   4998.7,   1.4975,  34.6914,2,  34.6920,2,   -999.0,9,    168.7,2,   147.00,3,    36.72,3,     2.38,6,  1.0638
  492SSY9310_1,  P02E,    44,  1,     22,      2,2,19931020,0828, 29.9983, 161.9967, 5980,   5501.2,   1.5177,  34.6952,2,  34.6958,2,   -999.0,9,    175.7,2,   141.16,3,    35.54,3,     2.34,3,  1.0206
  492SSY9310_1,  P02E,    44,  1,     23,      1,2,19931020,0828, 29.9983, 161.9967, 5980,   5998.3,   1.5582,  34.6980,2,  34.6967,2,   -999.0,9,    179.1,2,   139.21,3,    35.17,3,     2.34,3,  0.9946
  492SSY9310_1,  P02E,    45,  1,      1,     23,2,19931020,1555, 30.0017, 162.9133, 6001,    100.1,  19.3150,  34.9391,2,  34.9339,2,   -999.0,9,    222.8,2,     2.92,3,     0.18,3,     0.08,3, 19.2969
  492SSY9310_1,  P02E,    45,  1,      2,     22,2,19931020,1555, 30.0017, 162.9133, 6001,    198.6,  17.0910,  34.7945,2,  34.7931,2,   -999.0,9,    220.6,2,     4.87,3,     3.33,3,     0.25,3, 17.0582
  492SSY9310_1,  P02E,    45,  1,      3,     21,2,19931020,1555, 30.0017, 162.9133, 6001,    303.3,  16.3060,  34.7305,2,  34.7304,2,   -999.0,9,    213.2,2,     6.82,3,     5.03,3,     0.40,3, 16.2574
  492SSY9310_1,  P02E,    45,  1,      4,     20,2,19931020,1555, 30.0017, 162.9133, 6001,    400.2,  14.6120,  34.5805,2,  34.5808,2,   -999.0,9,    200.5,2,     9.74,3,     8.73,3,     0.63,3, 14.5524
  492SSY9310_1,  P02E,    45,  1,      5,     19,2,19931020,1555, 30.0017, 162.9133, 6001,    499.2,  12.5944,  34.4096,2,  34.4104,2,   -999.0,9,    204.8,2,    13.64,3,    11.57,3,     0.84,3, 12.5269
  492SSY9310_1,  P02E,    45,  1,      6,     18,2,19931020,1555, 30.0017, 162.9133, 6001,    600.9,  10.1130,  34.2275,2,  34.2336,2,   -999.0,9,    191.3,2,    24.35,3,    17.21,3,     1.25,3, 10.0422
  492SSY9310_1,  P02E,    45,  1,      7,     17,2,19931020,1555, 30.0017, 162.9133, 6001,    701.0,   7.8706,  34.0909,2,  34.1021,2,   -999.0,9,    169.0,2,    40.91,3,    23.52,3,     1.71,3,  7.7992
  492SSY9310_1,  P02E,    45,  1,      8,     16,2,19931020,1555, 30.0017, 162.9133, 6001,    800.7,   5.7880,  34.0224,2,  34.0178,2,   -999.0,9,    141.0,2,    63.31,3,    23.55,3,     2.19,3,  5.7184
  492SSY9310_1,  P02E,    45,  1,      9,     15,2,19931020,1555, 30.0017, 162.9133, 6001,    900.1,   4.7705,  34.0875,2,  34.0885,2,   -999.0,9,     91.4,2,    87.65,3,    29.91,3,     2.60,3,  4.6984
  492SSY9310_1,  P02E,    45,  1,     10,     14,2,19931020,1555, 30.0017, 162.9133, 6001,   1001.9,   4.2073,  34.1947,2,  34.2046,2,   -999.0,9,     64.8,2,   105.16,3,    36.92,3,     2.81,3,  4.1304
  492SSY9310_1,  P02E,    45,  1,     12,     12,2,19931020,1555, 30.0017, 162.9133, 6001,   1499.2,   2.6532,  34.4708,2,  34.4734,2,   -999.0,9,     42.2,2,   156.72,3,    43.64,3,     3.07,3,  2.5496
  492SSY9310_1,  P02E,    45,  1,     13,     11,2,19931020,1555, 30.0017, 162.9133, 6001,   1751.4,   2.2690,  34.5361,2,  34.5327,2,   -999.0,9,     53.1,3,   162.56,3,    44.25,3,     2.96,3,  2.1495
  492SSY9310_1,  P02E,    45,  1,     14,     10,2,19931020,1555, 30.0017, 162.9133, 6001,   1999.5,   2.0072,  34.5858,2,  34.5861,2,   -999.0,9,     71.8,3,   167.42,3,    43.20,3,     2.93,3,  1.8708
  492SSY9310_1,  P02E,    45,  1,     15,      9,2,19931020,1555, 30.0017, 162.9133, 6001,   2249.8,   1.8148,  34.6178,3,  34.6048,3,   -999.0,9,     90.5,3,  -999.00,9,  -999.00,9,  -999.00,9,  1.6600
  492SSY9310_1,  P02E,    45,  1,     16,      8,2,19931020,1555, 30.0017, 162.9133, 6001,   2502.0,   1.7190,  34.6361,2,  34.6368,2,   -999.0,9,    106.1,2,   165.46,3,    40.78,3,     2.74,3,  1.5438
  492SSY9310_1,  P02E,    45,  1,     17,      7,2,19931020,1555, 30.0017, 162.9133, 6001,   3000.0,   1.5723,  34.6615,2,  34.6618,2,   -999.0,9,    127.8,2,   160.60,3,    39.92,3,     2.63,3,  1.3540
  492SSY9310_1,  P02E,    45,  1,     18,      6,2,19931020,1555, 30.0017, 162.9133, 6001,   3499.3,   1.5083,  34.6741,2,  34.6745,2,   -999.0,9,    143.1,2,   156.71,3,    39.09,3,     2.58,3,  1.2422
  492SSY9310_1,  P02E,    45,  1,     19,      5,2,19931020,1555, 30.0017, 162.9133, 6001,   3998.8,   1.4779,  34.6826,2,  34.6826,2,   -999.0,9,    152.2,2,   153.80,3,    38.12,3,     2.52,3,  1.1600
  492SSY9310_1,  P02E,    45,  1,     20,      4,2,19931020,1555, 30.0017, 162.9133, 6001,   4499.4,   1.4739,  34.6887,2,  34.6855,2,   -999.0,9,    156.5,2,   150.88,3,    36.54,3,     2.48,3,  1.1001
  492SSY9310_1,  P02E,    45,  1,     21,      3,2,19931020,1555, 30.0017, 162.9133, 6001,   5000.0,   1.4837,  34.6943,2,  34.6934,2,   -999.0,9,    169.1,2,   146.02,3,    35.37,3,     2.41,3,  1.0503
  492SSY9310_1,  P02E,    45,  1,     22,      2,2,19931020,1555, 30.0017, 162.9133, 6001,   5499.5,   1.5086,  34.6972,2,  34.6958,2,   -999.0,9,    174.4,2,   142.13,3,    35.17,3,     2.38,3,  1.0121
  492SSY9310_1,  P02E,    45,  1,     23,      1,2,19931020,1555, 30.0017, 162.9133, 6001,   5997.9,   1.5574,  34.6977,2,  34.6975,2,   -999.0,9,    175.2,2,   140.18,3,    34.77,3,     2.36,3,  0.9939
  492SSY9310_1,  P02E,    46,  1,      1,     23,2,19931020,2148, 30.0000, 163.5033, 6001,    196.2,  17.4192,  34.8022,2,  34.7988,2,   -999.0,9,    208.8,2,     2.92,3,     3.92,3,     0.25,3, 17.3864
  492SSY9310_1,  P02E,    46,  1,      2,     22,2,19931020,2148, 30.0000, 163.5033, 6001,    296.4,  16.4539,  34.7403,2,  34.7380,2,   -999.0,9,    208.4,2,     4.87,3,     5.30,3,     0.36,3, 16.4060
  492SSY9310_1,  P02E,    46,  1,      3,     21,2,19931020,2148, 30.0000, 163.5033, 6001,    397.1,  14.1105,  34.5369,2,  34.5370,2,   -999.0,9,    205.7,2,    10.72,3,     9.04,3,     0.65,3, 14.0528
  492SSY9310_1,  P02E,    46,  1,      4,     20,2,19931020,2148, 30.0000, 163.5033, 6001,    498.6,  11.8371,  34.3705,2,  34.3729,2,   -999.0,9,    214.4,2,    15.59,3,    11.64,3,     0.85,3, 11.7724
  492SSY9310_1,  P02E,    46,  1,      5,     19,2,19931020,2148, 30.0000, 163.5033, 6001,    598.0,   9.7505,  34.2176,2,  34.2126,2,   -999.0,9,    191.7,2,    27.27,3,    17.65,3,     1.28,3,  9.6816
  492SSY9310_1,  P02E,    46,  1,      6,     18,2,19931020,2148, 30.0000, 163.5033, 6001,    698.0,   6.8199,  34.0272,2,  34.0337,2,   -999.0,9,    161.5,2,    50.64,3,    26.44,3,     1.90,3,  6.7543
  492SSY9310_1,  P02E,    46,  1,      7,     17,2,19931020,2148, 30.0000, 163.5033, 6001,    797.7,   5.1165,  34.0206,2,  34.0225,2,   -999.0,9,    121.9,2,  -999.00,9,    33.57,3,     2.38,3,  5.0512
  492SSY9310_1,  P02E,    46,  1,      8,     16,2,19931020,2148, 30.0000, 163.5033, 6001,    895.8,   4.4717,  34.1336,2,  34.1336,2,   -999.0,9,     77.0,2,    74.98,3,    37.89,3,     2.72,3,  4.4020
  492SSY9310_1,  P02E,    46,  1,      9,     15,2,19931020,2148, 30.0000, 163.5033, 6001,    996.3,   3.9697,  34.2321,2,  34.2330,2,   -999.0,9,     50.0,2,    97.37,3,    41.42,3,     2.88,3,  3.8951
  492SSY9310_1,  P02E,    46,  1,     10,     14,2,19931020,2148, 30.0000, 163.5033, 6001,   1246.9,   3.1318,  34.3834,2,  34.3825,2,   -999.0,9,     37.0,2,   113.90,3,    43.64,3,     3.04,6,  3.0438
  492SSY9310_1,  P02E,    46,  1,     11,     13,2,19931020,2148, 30.0000, 163.5033, 6001,   1497.3,   2.6242,  34.4818,2,  34.4816,2,   -999.0,9,     42.2,2,   140.17,3,    44.00,3,     3.04,3,  2.5211
  492SSY9310_1,  P02E,    46,  1,     12,     12,2,19931020,2148, 30.0000, 163.5033, 6001,   1749.6,   2.2422,  34.5502,2,  34.5490,2,   -999.0,9,     57.0,2,   154.77,3,    43.23,3,     2.97,3,  2.1232
  492SSY9310_1,  P02E,    46,  1,     13,     11,2,19931020,2148, 30.0000, 163.5033, 6001,   1996.7,   1.9926,  34.5934,2,  34.5853,4,   -999.0,9,     76.5,2,   163.52,3,    41.45,3,     2.82,4,  1.8566
  492SSY9310_1,  P02E,    46,  1,     14,     10,2,19931020,2148, 30.0000, 163.5033, 6001,   2246.4,   1.8035,  34.6214,2,  34.6152,2,   -999.0,9,     91.3,3,   161.57,3,    41.23,3,     2.81,3,  1.6492
  492SSY9310_1,  P02E,    46,  1,     15,      9,2,19931020,2148, 30.0000, 163.5033, 6001,   2495.7,   1.7024,  34.6424,2,  34.6187,4,   -999.0,9,    111.8,2,  -999.00,9,  -999.00,9,  -999.00,9,  1.5280
  492SSY9310_1,  P02E,    46,  1,     16,      8,2,19931020,2148, 30.0000, 163.5033, 6001,   2996.3,   1.5686,  34.6658,2,  34.6588,4,   -999.0,9,    113.1,4,   156.71,3,    38.26,3,     2.64,3,  1.3507
  492SSY9310_1,  P02E,    46,  1,     17,      7,2,19931020,2148, 30.0000, 163.5033, 6001,   3496.5,   1.5066,  34.6784,2,  34.6757,2,   -999.0,9,    127.4,4,   154.76,3,    37.79,3,     2.52,3,  1.2408
  492SSY9310_1,  P02E,    46,  1,     18,      6,2,19931020,2148, 30.0000, 163.5033, 6001,   3996.0,   1.4766,  34.6849,2,  34.6826,2,   -999.0,9,    143.5,3,   152.83,3,    37.33,3,     2.48,3,  1.1590
  492SSY9310_1,  P02E,    46,  1,     19,      5,2,19931020,2148, 30.0000, 163.5033, 6001,   4497.4,   1.4719,  34.6900,2,  34.6887,2,   -999.0,9,    152.6,2,   149.90,3,    36.90,3,     2.44,6,  1.0983
  492SSY9310_1,  P02E,    46,  1,     20,      4,2,19931020,2148, 30.0000, 163.5033, 6001,   4998.2,   1.4842,  34.6947,2,  34.6910,2,   -999.0,9,    166.1,2,   144.08,3,    35.34,3,     2.42,3,  1.0510
  492SSY9310_1,  P02E,    46,  1,     21,      3,2,19931020,2148, 30.0000, 163.5033, 6001,   5496.7,   1.5170,  34.6975,2,  34.6962,2,   -999.0,9,    174.4,2,   140.18,3,    34.94,3,     2.37,3,  1.0205
  492SSY9310_1,  P02E,    46,  1,     22,      2,2,19931020,2148, 30.0000, 163.5033, 6001,   5997.7,   1.5570,  34.6990,2,  34.6991,2,   -999.0,9,    177.4,2,   138.24,3,    34.80,3,     2.36,3,  0.9935
  492SSY9310_1,  P02E,    46,  1,     23,      1,2,19931020,2148, 30.0000, 163.5033, 6001,   5997.7,   1.5570,  34.6990,2,  34.7001,2,   -999.0,9,    174.8,2,   137.26,3,    34.83,3,     2.36,3,  0.9935