BOTTLE,20090717CCHDOSIODM
EXPOCODE,SECT_ID,STNNBR,CASTNO,SAMPNO,BTLNBR,BTLNBR_FLAG_W,DATE,TIME,LATITUDE,LONGITUDE,DEPTH,CTDPRS,CTDTMP,CTDSAL,CTDSAL_FLAG_W,CTDOXY,CTDOXY_FLAG_W,THETA,SALNTY,SALNTY_FLAG_W,OXYGEN,OXYGEN_FLAG_W,SILCAT,SILCAT_FLAG_W,NITRAT,NITRAT_FLAG_W,NITRIT,NITRIT_FLAG_W,PHSPHT,PHSPHT_FLAG_W,CFC-11,CFC-11_FLAG_W,CFC-12,CFC-12_FLAG_W,CFC113,CFC113_FLAG_W,TCARBN,TCARBN_FLAG_W,ALKALI,ALKALI_FLAG_W,CCL4,CCL4_FLAG_W
,,,,,,,,,,,,DBAR,ITS-90,PSS-78,,UMOL/KG,,DEG C,PSS-78,,UMOL/KG,,UMOL/KG,,UMOL/KG,,UMOL/KG,,UMOL/KG,,PMOL/KG,,PMOL/KG,,PMOL/KG,,UMOL/KG,,UMOL/KG,,PMOL/KG,
18SN19940724,AO94,       32,        1,       36,   143986,2,19940820,0719,88.8633,139.9917,1967,     11.1,  -1.7618,  32.8913,2,    322.9,4,  -1.7620,  32.8815,2,    373.1,2,     4.43,2,     3.28,2,     0.05,2,     0.50,2,    5.910,2,    2.830,2,    0.990,2,   2114.5,2,   2266.6,2,    9.060,2
18SN19940724,AO94,       32,        1,       35,   143985,2,19940820,0719,88.8633,139.9917,1967,     21.4,  -1.7641,  33.1067,2,    322.9,4,  -1.7645,  33.0580,2,    371.7,2,     4.21,2,     3.55,2,     0.05,2,     0.48,2,    5.980,2,    2.850,2,    0.590,2,   2116.0,2,   2270.1,2,    8.780,2
18SN19940724,AO94,       32,        1,       34,   143984,2,19940820,0719,88.8633,139.9917,1967,     31.6,  -1.7716,  33.2384,2,    322.1,4,  -1.7722,  33.2849,2,    367.6,2,     4.34,2,     4.10,2,     0.05,2,     0.49,2,    5.910,2,    2.910,2,    0.970,2,   2128.8,2,   2281.5,2,    8.830,2
18SN19940724,AO94,       32,        1,       33,   143983,2,19940820,0719,88.8633,139.9917,1967,     51.9,  -1.7779,  33.7437,2,    314.8,4,  -1.7789,  33.7085,2,    356.7,2,     4.27,2,     5.40,2,     0.02,2,     0.52,2,    5.820,2,    2.480,2,    0.470,2,   2140.9,2,   2294.8,2,    7.020,2
18SN19940724,AO94,       32,        1,       32,   143982,2,19940820,0719,88.8633,139.9917,1967,     72.3,  -1.6697,  33.9376,2,    312.4,4,  -1.6711,  33.9762,2,    331.4,2,     4.95,2,     7.38,2,     0.01,2,     0.62,2,    4.940,2,    2.300,2,    0.670,2,   2144.1,2,   2293.6,2,    6.560,2
18SN19940724,AO94,       32,        1,       31,   143981,2,19940820,0719,88.8633,139.9917,1967,     92.5,  -1.2845,  34.1968,2,    313.9,4,  -1.2868,  34.2128,2,    314.1,2,     5.57,2,     8.92,2,     0.01,2,     0.71,2,    4.210,2,    2.070,2,    0.180,2,   2146.8,2,   2292.2,2,    5.750,2
18SN19940724,AO94,       32,        1,       21,   143980,2,19940820,0719,88.8633,139.9917,1967,    102.6,  -1.0861,  34.2691,2,    310.6,4,  -1.0888,  34.2794,2,    313.6,2,     5.21,2,     9.07,2,     0.01,2,     0.71,2,    4.200,2,    2.100,2,    0.530,2,   2143.8,2,   2298.2,2,    5.850,2
18SN19940724,AO94,       32,        1,       20,   143979,2,19940820,0719,88.8633,139.9917,1967,    122.6,  -0.2257,  34.4703,2,    306.3,4,  -0.2299,  34.4785,2,    306.0,2,     5.78,2,    10.09,2,     0.01,2,     0.76,2,    3.610,2,    1.830,2,    0.150,2,   2149.3,2,   2296.4,2,    5.390,2
18SN19940724,AO94,       32,        1,       19,   143978,2,19940820,0719,88.8633,139.9917,1967,    152.6,   0.7509,  34.6839,2,    302.6,4,   0.7443,  34.6585,2,    301.7,2,     6.11,2,    11.02,2,     0.01,2,     0.81,2,    3.490,2,    1.700,2,    0.420,2,   2149.9,2,   2306.2,2,    5.890,2
18SN19940724,AO94,       32,        1,       18,   143977,2,19940820,0719,88.8633,139.9917,1967,    183.0,   1.4100,  34.8036,2,    300.4,4,   1.4010,  34.7966,2,    301.9,2,     5.79,2,    11.69,2,     0.01,2,     0.83,2,    3.930,2,    1.890,2,    0.170,2,   2147.0,2,   2312.5,2,    5.980,2
18SN19940724,AO94,       32,        1,       17,   143976,2,19940820,0719,88.8633,139.9917,1967,    213.2,   1.4430,  34.8226,2,    302.5,4,   1.4325,  34.8189,2,    302.1,2,     5.87,2,    11.76,2,     0.01,2,     0.83,2,    3.760,2,    1.780,2,    0.500,2,   2148.6,2,   2314.6,2,    6.520,2
18SN19940724,AO94,       32,        1,       16,   143975,2,19940820,0719,88.8633,139.9917,1967,    253.7,   1.5774,  34.8733,2,    302.9,4,   1.5644,  34.8715,2,    303.7,2,     5.90,2,    11.95,2,     0.01,2,     0.85,2,    3.980,2,    1.900,2,    0.230,2,   2149.9,2,   2317.8,2,    6.680,2
18SN19940724,AO94,       32,        1,       15,   143974,2,19940820,0719,88.8633,139.9917,1967,    304.4,   1.1880,  34.8549,2,    305.2,4,   1.1733,  34.8561,2,    303.2,2,     6.08,2,    12.02,2,     0.01,2,     0.85,2,    3.540,2,    1.700,2,    0.410,2,   2147.6,2,   2315.7,2,    6.690,2
18SN19940724,AO94,       32,        1,       14,   143973,2,19940820,0719,88.8633,139.9917,1967,    344.8,   1.1570,  34.8810,2,    304.4,4,   1.1403,  34.8778,2,    305.7,2,     6.16,2,    12.13,2,     0.01,2,     0.86,2,    3.620,2,    1.790,2,    0.120,2,   2152.3,2,   2316.8,2,    6.580,2
18SN19940724,AO94,       32,        1,       13,   143972,2,19940820,0719,88.8633,139.9917,1967,    405.6,   0.9514,  34.8747,2,    304.8,4,   0.9322,  34.8752,2,    304.4,2,     6.24,2,    12.21,2,     0.01,2,     0.87,2,    3.390,2,    1.580,2,    0.420,2,   2152.7,2,   2317.7,2,    6.540,2
18SN19940724,AO94,       32,        1,       12,   143971,2,19940820,0719,88.8633,139.9917,1967,    455.8,   0.7313,  34.8721,2,    305.1,4,   0.7104,  34.8712,2,    304.1,2,     6.42,2,    12.16,2,     0.01,2,     0.87,2,    3.370,2,    1.710,2,    0.190,2,   2156.5,2,   2314.9,2,    6.250,2
18SN19940724,AO94,       32,        1,       11,   143970,2,19940820,0719,88.8633,139.9917,1967,    506.9,   0.6292,  34.8741,2,    304.9,4,   0.6062,  34.8775,2,    304.2,2,     6.50,2,    12.24,2,     0.01,2,     0.87,2,    3.200,2,    1.670,2,    0.390,2,   2159.0,2,   2317.6,2,    6.560,2
18SN19940724,AO94,       32,        1,       10,   143969,2,19940820,0719,88.8633,139.9917,1967,    557.6,   0.4782,  34.8736,2,    305.2,4,   0.4534,  34.8724,2,    304.8,2,     6.58,2,    12.27,2,     0.01,2,     0.88,2, -999.000,9, -999.000,9, -999.000,9,   2160.3,2,   2315.1,2, -999.000,9
18SN19940724,AO94,       32,        1,        9,   143968,2,19940820,0719,88.8633,139.9917,1967,    608.4,   0.3592,  34.8738,2,    305.3,4,   0.3324,  34.8731,2,    306.4,2,     6.56,2,    12.26,2,     0.01,2,     0.87,2,    3.330,2,    1.470,2,    0.430,2,   2161.3,2,   -999.0,9,    6.590,2
18SN19940724,AO94,       32,        1,        8,   143967,2,19940820,0719,88.8633,139.9917,1967,    709.5,   0.1279,  34.8742,2,    305.3,4,   0.0974,  34.8749,2,    306.7,2,     6.83,2,    12.29,2,     0.01,2,     0.88,2,    3.430,2,    1.880,2,    0.390,2,   2165.4,2,   2318.8,2,    6.200,2
18SN19940724,AO94,       32,        1,        7,   143966,2,19940820,0719,88.8633,139.9917,1967,    810.9,   0.0051,  34.8803,2,    305.0,4,  -0.0298,  34.8812,2,    306.4,2,     7.11,2,    12.44,2,     0.01,2,     0.89,2,    3.050,2,    1.570,2,    0.370,2,   2164.9,2,   -999.0,9,    6.480,2
18SN19940724,AO94,       32,        1,        6,   143965,2,19940820,0719,88.8633,139.9917,1967,   1013.9,  -0.1954,  34.8948,2,    304.4,4,  -0.2392,  34.8946,2,    304.7,2,     7.82,2,    12.87,2,     0.01,2,     0.92,2,    2.200,2,    1.310,2,    0.000,2,   2166.8,2,   2318.1,2,    4.520,2
18SN19940724,AO94,       32,        1,        5,   143964,2,19940820,0719,88.8633,139.9917,1967,   1217.0,  -0.3433,  34.9072,2,    303.7,4,  -0.3966,  34.9072,2,    302.8,2,     8.83,2,    13.29,2,     0.01,2,     0.95,2,    1.740,2,    0.730,2,    0.200,2,   2165.6,2,   -999.0,9,    4.270,2
18SN19940724,AO94,       32,        1,        4,   143963,2,19940820,0719,88.8633,139.9917,1967,   1420.4,  -0.4686,  34.9151,2,    303.0,4,  -0.5319,  34.9148,2,    301.3,2,     9.84,2,    13.78,2,     0.01,2,     0.98,2,    1.190,2,    0.730,2,    0.020,2,   2164.2,2,   2320.1,2,    3.170,2
18SN19940724,AO94,       32,        1,        3,   143962,2,19940820,0719,88.8633,139.9917,1967,   1623.6,  -0.5295,  34.9177,2,    302.1,4,  -0.6040,  34.9184,2,    300.7,2,    10.31,2,    14.01,2,     0.01,2,     0.99,2,    1.000,2,    0.480,2,    0.170,2,   2166.1,2,   -999.0,9,    3.080,2
18SN19940724,AO94,       32,        1,        2,   143961,2,19940820,0719,88.8633,139.9917,1967,   1826.6,  -0.5681,  34.9187,2,    301.2,4,  -0.6546,  34.9178,2,    300.7,2,    10.53,2,    14.08,2,     0.01,2,     1.01,2,    0.930,2,    0.560,2,    0.130,2,   2165.5,2,   2321.5,2,    2.810,2
18SN19940724,AO94,       32,        1,        1,   143960,2,19940820,0719,88.8633,139.9917,1967,   2009.1,  -0.6345,  34.9194,2,    300.1,4,  -0.7317,  34.9195,2,    300.5,2,    10.85,2,    14.26,2,     0.01,2,     1.01,2,    0.720,2,    0.280,2,    0.120,2,   2164.1,2,   -999.0,9,    2.580,2
18SN19940724,AO94,       33,        1,       36,   144022,2,19940820,1431,88.9500,139.2067,2894,     12.4,  -1.7627,  32.8308,2,    340.8,4,  -1.7629,  32.8653,2,    373.6,2,     4.52,2,     3.25,2,     0.05,2,     0.50,2,    5.820,2,    2.690,2,    1.000,2,   2108.8,2,   2289.0,2,    8.860,2
18SN19940724,AO94,       33,        1,       35,   144021,2,19940820,1431,88.9500,139.2067,2894,     27.7,  -1.7770,  33.3375,2,    337.9,4,  -1.7775,  33.2943,2,    368.8,2,     4.21,2,     4.02,2,     0.06,2,     0.48,2,    6.000,2,    2.440,2,    0.630,2,   2126.3,2,   2275.7,2,    9.040,2
18SN19940724,AO94,       33,        1,       34,   144020,2,19940820,1431,88.9500,139.2067,2894,     37.8,  -1.7962,  33.5710,2,    335.2,4,  -1.7969,  33.5752,2,    366.8,2,     3.75,2,     4.38,2,     0.05,2,     0.46,2,    5.830,2,    2.680,2,    0.990,2,   2129.9,2,   2290.6,2,    8.920,2
18SN19940724,AO94,       33,        1,       33,   144019,2,19940820,1431,88.9500,139.2067,2894,     48.1,  -1.8117,  33.6261,2,    333.8,4,  -1.8126,  33.6321,2,    364.4,2,     3.86,2,     4.63,2,     0.03,2,     0.47,2,    6.050,2,    2.430,2,    0.670,2,   2136.5,2,   2295.3,2,    8.840,2
18SN19940724,AO94,       33,        1,       32,   144018,2,19940820,1431,88.9500,139.2067,2894,     58.1,  -1.7886,  33.7238,2,    334.8,4,  -1.7897,  33.7007,2,    358.2,2,     4.12,2,     5.23,2,     0.02,2,     0.50,2,    5.610,2,    2.660,2,    0.920,2,   2136.5,2,   2295.8,2,    8.160,2
18SN19940724,AO94,       33,        1,       31,   144017,2,19940820,1431,88.9500,139.2067,2894,     68.3,  -1.6867,  33.9051,2,    327.9,4,  -1.6880,  33.8777,2,    342.4,2,     4.58,2,     6.60,2,     0.01,2,     0.58,2,    5.420,2,    2.260,2,    0.400,2,   2136.9,2,   2298.0,2,    6.720,2
18SN19940724,AO94,       33,        1,       30,   144016,2,19940820,1431,88.9500,139.2067,2894,     83.4,  -1.4338,  34.1280,2,    326.7,4,  -1.4357,  34.1258,2,    320.3,2,     5.24,2,     8.40,2,     0.01,2,     0.67,2,    4.520,2,    2.040,2,    0.620,2,   2144.2,2,   2287.4,2,    5.940,2
18SN19940724,AO94,       33,        1,       29,   144015,2,19940820,1431,88.9500,139.2067,2894,     98.5,  -1.0757,  34.2755,2,    324.1,4,  -1.0783,  34.2758,2,    312.7,2,     5.55,2,     9.15,2,     0.01,2,     0.71,2,    4.210,2,    1.880,2,    0.310,2,   2146.8,2,   2293.1,2,    5.370,2
18SN19940724,AO94,       33,        1,       28,   144014,2,19940820,1431,88.9500,139.2067,2894,    113.6,  -0.5736,  34.4030,2,    318.0,4,  -0.5771,  34.4032,2,    307.3,2,     5.96,2,     9.77,2,     0.01,2,     0.74,2,    3.650,2,    1.520,2,    0.410,2,   2147.5,2,   2299.9,2,    5.430,2
18SN19940724,AO94,       33,        1,       27,   144013,2,19940820,1431,88.9500,139.2067,2894,    133.4,   0.1142,  34.5365,2,    313.6,4,   0.1093,  34.5272,2,    305.5,2,     5.91,2,    10.28,2,     0.01,2,     0.77,2,    3.640,2,    1.750,2,    0.130,2,   2145.5,2,   2306.6,2,    5.390,2
18SN19940724,AO94,       33,        1,       26,   144012,2,19940820,1431,88.9500,139.2067,2894,    153.7,   0.7683,  34.6733,2,    303.8,4,   0.7617,  34.6669,2,    302.8,2,     5.96,2,    11.03,2,     0.01,2,     0.80,2,    3.740,2,    1.730,2,    0.530,2,   2147.0,2,   2310.5,2,    6.140,2
18SN19940724,AO94,       33,        1,       25,   144011,2,19940820,1431,88.9500,139.2067,2894,    173.6,   1.1891,  34.7602,2,    303.8,4,   1.1809,  34.7593,2,    302.5,2,     5.91,2,    11.50,2,     0.00,2,     0.82,2,    3.900,2,    1.820,2,    0.360,2,   2148.2,2,   2310.0,2,    6.910,2
18SN19940724,AO94,       33,        1,       24,   144010,2,19940820,1431,88.9500,139.2067,2894,    198.4,   1.5027,  34.8222,2,    302.9,4,   1.4928,  34.8210,2,    302.9,2,     5.91,2,    11.78,2,     0.01,2,     0.84,2,    3.880,2,    1.680,2,    0.510,2,   2147.8,2,   2312.5,2,    6.700,2
18SN19940724,AO94,       33,        1,       23,   144009,2,19940820,1431,88.9500,139.2067,2894,    223.9,   1.4910,  34.8355,2,    303.5,4,   1.4798,  34.8334,2,    303.1,2,     6.07,2,    11.86,2,     0.00,2,     0.84,2,    4.000,2,    1.860,2,    0.220,2,   2146.6,2,   2317.3,2,    6.440,2
18SN19940724,AO94,       33,        1,       22,   144008,2,19940820,1431,88.9500,139.2067,2894,    253.9,   1.6123,  34.8697,2,    302.6,4,   1.5992,  34.8664,2,    303.9,2,     6.07,2,    11.98,2,     0.00,2,     0.85,2,    4.090,2,    1.790,2,    0.590,2,   2146.4,2,   2318.2,2,    7.350,2
18SN19940724,AO94,       33,        1,       21,   144007,2,19940820,1431,88.9500,139.2067,2894,    284.6,   1.4870,  34.8723,2,    302.8,4,   1.4726,  34.8725,2,    303.9,2,     6.17,2,    12.14,2,     0.00,2,     0.85,2,    3.840,2,    1.780,2,    0.390,2,   2152.0,2,   2319.1,2,    6.790,2
18SN19940724,AO94,       33,        1,       20,   144006,2,19940820,1431,88.9500,139.2067,2894,    329.8,   1.1801,  34.8652,2,    304.1,4,   1.1641,  34.8638,2,    303.7,2,     6.33,2,    12.07,2,     0.00,2,     0.86,2,    3.560,2,    1.550,2,    0.430,2,   2154.9,2,   -999.0,9,    6.660,2
18SN19940724,AO94,       33,        1,       19,   144005,2,19940820,1431,88.9500,139.2067,2894,    375.0,   1.1194,  34.8799,2,    303.0,4,   1.1013,  34.8788,2,    304.2,2,     6.38,2,    12.27,2,     0.00,2,     0.86,2,    3.630,2,    1.730,2,    0.140,2,   2151.3,2,   2315.9,2,    6.630,2
18SN19940724,AO94,       33,        1,       18,   144004,2,19940820,1431,88.9500,139.2067,2894,    436.0,   0.8332,  34.8719,2,    304.6,4,   0.8130,  34.8725,2,    304.3,2,     6.48,2,    12.23,2,     0.00,2,     0.87,2,    3.570,2,    1.800,2,    0.610,2,   2157.7,2,   -999.0,9,    6.940,2
18SN19940724,AO94,       33,        1,       17,   144003,2,19940820,1431,88.9500,139.2067,2894,    506.3,   0.7445,  34.8841,2,    305.4,4,   0.7210,  34.8843,2,    304.5,2,     6.69,2,    12.39,2,     0.00,2,     0.88,2,    3.560,2,    1.590,2,    0.410,2,   2163.8,2,   2317.3,2,    6.700,2
18SN19940724,AO94,       33,        1,       16,   144002,2,19940820,1431,88.9500,139.2067,2894,    607.4,   0.3676,  34.8716,2,    306.7,4,   0.3408,  34.8709,2,    307.0,2,     6.69,2,    12.16,2,     0.00,2,     0.87,2,    3.510,2,    1.560,2,    0.480,2,   2161.9,2,   -999.0,9,    6.720,2
18SN19940724,AO94,       33,        1,       15,   144001,2,19940820,1431,88.9500,139.2067,2894,    708.5,   0.1277,  34.8708,2,    306.9,4,   0.0972,  34.8714,2,    307.8,2,     6.79,2,    12.16,2,     0.00,2,     0.88,2,    3.480,2,    1.710,2,    0.130,2,   2159.3,2,   2317.8,2,    6.700,2
18SN19940724,AO94,       33,        1,       14,   144000,2,19940820,1431,88.9500,139.2067,2894,    810.1,   0.0142,  34.8758,2,    306.6,4,  -0.0207,  34.8756,2,    307.7,2,     7.05,2,    12.32,2,     0.00,2,     0.89,2,    3.480,2,    1.820,2,    0.640,2,   2166.2,2,   -999.0,9,    6.950,2
18SN19940724,AO94,       33,        1,       13,   143999,2,19940820,1431,88.9500,139.2067,2894,    911.4,  -0.0895,  34.8850,2,    305.5,4,  -0.1287,  34.8837,2,    306.3,2,     7.51,2,    12.56,2,     0.00,2,     0.91,2,    2.860,2,    1.420,2,    0.330,2,   2164.8,2,   2317.1,2,    6.090,2
18SN19940724,AO94,       33,        1,       12,   143998,2,19940820,1431,88.9500,139.2067,2894,   1063.2,  -0.2262,  34.8976,2,    304.2,4,  -0.2723,  34.8981,2,    304.2,2,     8.22,2,    13.00,2,     0.00,2,     0.93,2,    2.340,2,    0.960,2,    0.320,2,   2168.7,2,   -999.0,9,    5.300,2
18SN19940724,AO94,       33,        1,       11,   143997,2,19940820,1431,88.9500,139.2067,2894,   1266.2,  -0.3740,  34.9102,2,    302.9,4,  -0.4297,  34.9111,2,    302.9,2,     9.25,2,    13.56,2,     0.00,2,     0.97,2,    1.450,2,    0.870,2,    0.000,2,   2167.7,2,   2319.4,2,    3.990,2
18SN19940724,AO94,       33,        1,       10,   143996,2,19940820,1431,88.9500,139.2067,2894,   1418.9,  -0.4731,  34.9158,2,    301.9,4,  -0.5362,  34.9164,2,    301.2,2,    10.01,2,    13.84,2,     0.00,2,     0.99,2,    1.250,2,    0.740,2,    0.400,2,   2165.3,2,   -999.0,9,    3.500,2
18SN19940724,AO94,       33,        1,        9,   143995,2,19940820,1431,88.9500,139.2067,2894,   1571.8,  -0.5547,  34.9179,2,    301.2,4,  -0.6258,  34.9178,2,    300.4,2,    10.52,2,    14.04,2,     0.00,2,     1.00,2,    0.950,2,    0.530,2,    0.200,2,   2165.3,2,   2321.6,2,    2.740,2
18SN19940724,AO94,       33,        1,        8,   143994,2,19940820,1431,88.9500,139.2067,2894,   1774.9,  -0.6300,  34.9185,2,    300.4,4,  -0.7123,  34.9184,2,    300.5,2,    10.83,2,    14.20,2,     0.00,2,     1.02,2,    0.730,2,    0.270,2,    0.160,2,   2167.3,2,   -999.0,9,    2.510,2
18SN19940724,AO94,       33,        1,        7,   143993,2,19940820,1431,88.9500,139.2067,2894,   1979.1,  -0.6786,  34.9192,2,    299.9,4,  -0.7731,  34.9193,2,    300.5,2,    11.09,2,    14.32,2,     0.00,2,     1.02,2,    0.640,2,    0.390,2,    0.000,2,   2167.6,2,   2320.3,2,    2.270,2
18SN19940724,AO94,       33,        1,        6,   143992,2,19940820,1431,88.9500,139.2067,2894,   2182.6,  -0.7153,  34.9207,2,    300.0,4,  -0.8228,  34.9225,2,    300.4,2,    11.34,2,    14.45,2,     0.00,2,     1.03,2,    0.490,2,    0.330,2,    0.330,2,   2169.5,2,   -999.0,9,    1.930,2
18SN19940724,AO94,       33,        1,        5,   143991,2,19940820,1431,88.9500,139.2067,2894,   2386.4,  -0.7308,  34.9225,2,    299.7,4,  -0.8523,  34.9227,2,    300.6,2,    11.45,2,    14.49,2,     0.00,2,     1.03,2,    0.390,2,    0.250,2,    0.110,2,   2164.3,2,   2323.1,2,    1.820,2
18SN19940724,AO94,       33,        1,        4,   143990,2,19940820,1431,88.9500,139.2067,2894,   2539.1,  -0.7432,  34.9241,2,    299.7,4,  -0.8755,  34.9248,2,    300.4,2,    11.60,2,    14.53,2,     0.00,2,     1.04,2,    0.290,2,    0.070,2,    0.110,2,   2165.9,2,   -999.0,9,    1.290,2
18SN19940724,AO94,       33,        1,        3,   143989,2,19940820,1431,88.9500,139.2067,2894,   2742.6,  -0.7531,  34.9271,2,    299.7,4,  -0.9005,  34.9256,2,    299.9,2,    11.80,2,    14.58,2,     0.00,2,     1.04,2,    0.260,2,    0.200,2,    0.000,2,   2165.5,2,   2320.7,2,    1.240,2
18SN19940724,AO94,       33,        1,        2,   143988,2,19940820,1431,88.9500,139.2067,2894,   2895.7,  -0.7619,  34.9300,2,    300.2,4,  -0.9210,  34.9286,2,    299.0,2,    11.91,2,    14.54,2,     0.00,2,     1.04,2,    0.120,2,    0.060,2,    0.170,2,   2162.2,2,   -999.0,9,    0.810,2
18SN19940724,AO94,       33,        1,        1,   143987,2,19940820,1431,88.9500,139.2067,2894,   2985.4,  -0.7616,  34.9321,2,    300.0,4,  -0.9279,  34.9317,2,    299.0,2,    12.01,2,    14.59,2,     0.00,2,     1.04,2,    0.170,2,    0.080,2,    0.140,2,   2158.4,2,   2326.0,2,    1.050,2