BOTTLE,20090717CCHDOSIODM
EXPOCODE,SECT_ID,STNNBR,CASTNO,SAMPNO,BTLNBR,BTLNBR_FLAG_W,DATE,TIME,LATITUDE,LONGITUDE,DEPTH,CTDPRS,CTDTMP,CTDSAL,CTDSAL_FLAG_W,CTDOXY,CTDOXY_FLAG_W,THETA,SALNTY,SALNTY_FLAG_W,OXYGEN,OXYGEN_FLAG_W,SILCAT,SILCAT_FLAG_W,NITRAT,NITRAT_FLAG_W,NITRIT,NITRIT_FLAG_W,PHSPHT,PHSPHT_FLAG_W,CFC-11,CFC-11_FLAG_W,CFC-12,CFC-12_FLAG_W,CFC113,CFC113_FLAG_W,TCARBN,TCARBN_FLAG_W,ALKALI,ALKALI_FLAG_W,CCL4,CCL4_FLAG_W
,,,,,,,,,,,,DBAR,ITS-90,PSS-78,,UMOL/KG,,DEG C,PSS-78,,UMOL/KG,,UMOL/KG,,UMOL/KG,,UMOL/KG,,UMOL/KG,,PMOL/KG,,PMOL/KG,,PMOL/KG,,UMOL/KG,,UMOL/KG,,PMOL/KG,
18SN19940724,AO94,       21,        1,       33,   143476,2,19940809,0613,80.7133,179.9850,1631,      9.7,  -1.6380,  31.6571,2,    315.3,4,  -1.6382,  31.6595,2,    381.6,2,     9.12,2,     0.91,2,     0.04,2,     0.75,2,    6.540,2,    3.210,2,    0.530,2,   2080.3,2,   2228.9,2,   12.020,2
18SN19940724,AO94,       21,        1,       32,   143475,2,19940809,0613,80.7133,179.9850,1631,     19.8,  -1.6516,  31.7493,2,    319.1,4,  -1.6519,  31.7534,2,    380.4,2,     9.07,2,     1.05,2,     0.05,2,     0.75,2,    6.520,2,    3.170,2,    0.510,2,   2083.9,2,   2231.7,2,   11.680,2
18SN19940724,AO94,       21,        1,       31,   143474,2,19940809,0613,80.7133,179.9850,1631,     30.1,  -1.6849,  31.9043,2,    320.4,4,  -1.6854,  32.0079,2,    372.6,2,     9.40,2,     2.03,2,     0.05,2,     0.77,2,    6.350,2,    3.720,2,    0.860,2,   2101.4,2,   2243.5,2,   10.810,2
18SN19940724,AO94,       21,        1,       30,   143473,2,19940809,0613,80.7133,179.9850,1631,     45.4,  -1.7638,  33.1145,2,    315.0,4,  -1.7646,  33.1171,2,    349.3,2,     7.77,2,     5.03,2,     0.01,2,     0.64,2,    6.100,2,    3.190,2,    0.500,2,   2132.3,2,   2278.0,2,    9.560,2
18SN19940724,AO94,       21,        1,       29,   143472,2,19940809,0613,80.7133,179.9850,1631,     55.7,  -1.7830,  33.4342,2,    316.1,4,  -1.7840,  33.4535,2,    343.6,2,     6.29,2,     5.71,2,     0.01,2,     0.58,2,    5.890,2,    2.810,2, -999.000,9,   2136.4,2,   2285.3,2,    8.080,2
18SN19940724,AO94,       21,        1,       28,   143471,2,19940809,0613,80.7133,179.9850,1631,     65.7,  -1.7668,  33.6348,2,    314.2,4,  -1.7681,  33.6307,2,    335.3,2,     6.34,2,     6.51,2,     0.01,2,     0.60,2,    5.970,2,    2.770,2,    0.460,2,   2141.7,2,   2287.7,2,    7.820,2
18SN19940724,AO94,       21,        1,       27,   143470,2,19940809,0613,80.7133,179.9850,1631,     81.0,  -1.7377,  33.8455,2,    311.8,4,  -1.7392,  33.8424,2,    324.4,2,     6.57,2,     7.30,2,     0.01,2,     0.64,2,    5.600,2,    2.640,2,    0.600,2,   2149.5,2,   2294.8,2,    6.870,2
18SN19940724,AO94,       21,        1,       26,   143469,2,19940809,0613,80.7133,179.9850,1631,     91.2,  -1.6480,  33.9652,2,    310.6,4,  -1.6499,  33.9421,2,    320.4,2,     6.37,2,     7.79,2,     0.01,2,     0.66,2,    5.560,2,    2.720,2,    0.440,2,   2143.7,2,   2293.3,2,    8.540,2
18SN19940724,AO94,       21,        1,       25,   143468,2,19940809,0613,80.7133,179.9850,1631,    101.1,  -1.6016,  34.0180,2,    310.1,4,  -1.6038,  34.0454,2,    316.4,2,     6.23,2,     8.21,2,     0.01,2,     0.68,2, -999.000,9, -999.000,9, -999.000,9,   2146.1,2,   2295.9,2, -999.000,9
18SN19940724,AO94,       21,        1,       24,   143467,2,19940809,0613,80.7133,179.9850,1631,    116.3,  -1.3707,  34.2114,2,    307.4,4,  -1.3734,  34.1971,2,    312.2,2,     6.08,2,     8.78,2,     0.01,2,     0.69,2,    5.150,2,    2.560,2,    0.360,2,   2147.3,2,   2298.3,2,    7.490,2
18SN19940724,AO94,       21,        1,       23,   143466,2,19940809,0613,80.7133,179.9850,1631,    131.7,  -1.0765,  34.3332,2,    306.8,4,  -1.0800,  34.3206,2,    310.2,2,     6.03,2,     9.13,2,     0.01,2,     0.70,2,    4.880,2,    2.460,2,    0.440,2,   2149.2,2,   2303.3,2,    6.600,2
18SN19940724,AO94,       21,        1,       22,   143465,2,19940809,0613,80.7133,179.9850,1631,    151.8,  -0.5918,  34.4447,2,    304.3,4,  -0.5965,  34.4277,2,   -999.0,5,     5.98,2,     9.62,2,     0.01,2,     0.72,2,    4.550,2,    2.310,2,    0.220,2,   2148.0,2,   2305.8,2,    6.630,2
18SN19940724,AO94,       21,        1,       21,   143464,2,19940809,0613,80.7133,179.9850,1631,    171.6,  -0.0150,  34.5630,2,    302.3,4,  -0.0213,  34.5503,2,    305.9,2,     5.92,2,    10.19,2,     0.01,2,     0.75,2,    4.550,2,    2.190,2,    0.590,2,   2149.4,2,   2311.0,2,    6.850,2
18SN19940724,AO94,       21,        1,       20,   143463,2,19940809,0613,80.7133,179.9850,1631,    202.0,   0.5406,  34.6844,2,    300.7,4,   0.5322,  34.6807,2,    302.9,2,     6.20,2,    10.99,2,     0.01,2,     0.78,2,    4.300,2,    2.170,2,    0.190,2,   2145.1,2,   2319.8,2,    7.380,2
18SN19940724,AO94,       21,        1,       19,   143462,2,19940809,0613,80.7133,179.9850,1631,    232.7,   0.9865,  34.7944,2,    301.2,4,   0.9758,  34.7830,2,    303.1,2,     6.15,2,    11.44,2,     0.01,2,     0.80,2,    4.280,2,    2.190,2,    0.430,2,   2149.3,2,   2319.0,2,    7.340,2
18SN19940724,AO94,       21,        1,       18,   143461,2,19940809,0613,80.7133,179.9850,1631,    272.8,   1.0331,  34.8180,2,    303.4,4,   1.0204,  34.8163,2,    304.0,2,     6.29,2,    11.63,2,     0.00,2,     0.82,2,    4.100,2,    2.260,2,    0.270,2,   2147.8,2,   2320.9,2,    7.960,2
18SN19940724,AO94,       21,        1,       17,   143460,2,19940809,0613,80.7133,179.9850,1631,    313.8,   0.9055,  34.8322,2,    304.4,4,   0.8911,  34.8290,2,    303.8,2,     6.33,2,    11.75,2,     0.00,2,     0.82,2,    4.110,2,    2.030,2,    0.340,2,   2151.8,2,   2324.7,2,    7.470,2
18SN19940724,AO94,       21,        1,       16,   143459,2,19940809,0613,80.7133,179.9850,1631,    384.5,   0.7476,  34.8424,2,    305.2,4,   0.7302,  34.8398,2,    304.6,2,     6.47,2,    11.79,2,     0.00,2,     0.83,2,    3.800,2,    2.200,2,    0.180,2,   2151.8,2,   2320.3,2,    7.620,2
18SN19940724,AO94,       21,        1,       15,   143458,2,19940809,0613,80.7133,179.9850,1631,    456.2,   0.5867,  34.8488,2,    305.5,4,   0.5663,  34.8465,2,    305.7,2,     6.51,2,    11.86,2,     0.00,2,     0.83,2,    3.910,2,    2.240,2, -999.000,9,   2153.2,2,   2323.6,2,    7.650,2
18SN19940724,AO94,       21,        1,       14,   143457,2,19940809,0613,80.7133,179.9850,1631,    556.4,   0.3789,  34.8556,2,    305.5,4,   0.3545,  34.8546,2,    306.0,2,     6.65,2,    11.98,2,     0.00,2,     0.85,2,    3.730,2,    2.050,2,    0.270,2,   2157.6,2,   2325.3,2,    8.290,2
18SN19940724,AO94,       21,        1,       13,   143456,2,19940809,0613,80.7133,179.9850,1631,    658.1,   0.1900,  34.8557,2,    305.5,4,   0.1616,  34.8550,2,    307.6,2,     6.74,2,    11.94,2,     0.00,2,     0.85,2,    3.970,2,    2.010,2,    0.390,2,   2161.5,2,   2323.7,2,    7.760,2
18SN19940724,AO94,       21,        1,       12,   143455,2,19940809,0613,80.7133,179.9850,1631,    759.4,   0.0452,  34.8602,2,    305.2,4,   0.0127,  34.8597,2,    307.7,2,     6.93,2,    12.06,2,     0.00,2,     0.85,2,    3.740,2,    2.210,2,    0.120,2,   2158.4,2,   2326.1,2,    8.410,2
18SN19940724,AO94,       21,        1,       11,   143454,2,19940809,0613,80.7133,179.9850,1631,    911.1,  -0.1034,  34.8701,2,    304.8,4,  -0.1425,  34.8696,2,    306.9,2,     7.26,2,    12.25,2,     0.00,2,     0.87,2,    3.050,2,    1.880,2, -999.000,9,   2160.4,2,   2324.9,2,    6.960,2
18SN19940724,AO94,       21,        1,       10,   143453,2,19940809,0613,80.7133,179.9850,1631,   1062.6,  -0.2248,  34.8806,2,    304.3,4,  -0.2708,  34.8791,2,    305.4,2,     7.49,2,    12.44,2,     0.00,2,     0.88,2,    2.690,2,    1.590,2,    0.090,2,   2161.5,2,   2324.1,2,    7.220,2
18SN19940724,AO94,       21,        1,        9,   143452,2,19940809,0613,80.7133,179.9850,1631,   1213.4,  -0.3232,  34.8915,2,    303.8,4,  -0.3764,  34.8901,2,    304.9,2,     8.01,2,    12.63,2,     0.00,2,     0.90,2,    2.550,2,    1.420,2,    0.150,2,   2164.7,2,   2332.1,2,    6.320,2
18SN19940724,AO94,       21,        1,        8,   143451,2,19940809,0613,80.7133,179.9850,1631,   1414.9,  -0.4440,  34.9067,2,    303.0,4,  -0.5072,  34.9049,2,    302.7,2,     9.10,2,    13.13,2,     0.00,2,     0.93,2,    1.720,2,    1.280,2,    0.050,2,   2161.3,2,   2329.1,2,    4.920,2
18SN19940724,AO94,       21,        1,        7,   143450,2,19940809,0613,80.7133,179.9850,1631,   1517.2,  -0.4756,  34.9172,2,    302.6,4,  -0.5444,  34.9165,2,    299.3,2,    10.19,2,    13.51,2,     0.00,2,     0.96,2,    1.440,2,    0.720,2,    0.090,2,   2159.1,2,   2321.3,2,    3.570,2
18SN19940724,AO94,       21,        1,        6,   143449,2,19940809,0613,80.7133,179.9850,1631,   1588.6,  -0.4897,  34.9224,2,    302.2,4,  -0.5626,  34.9213,2,    297.3,2,    10.86,2,    13.74,2,     0.00,2,     0.98,2,    1.110,2,    0.710,2,    0.080,2,   2159.2,2,   2328.3,2,    3.340,2
18SN19940724,AO94,       21,        1,        5,   143448,2,19940809,0613,80.7133,179.9850,1631,   1613.9,  -0.4864,  34.9281,2,    302.1,4,  -0.5608,  34.9280,2,    294.5,2,    11.66,2,    14.00,2,     0.00,2,     0.99,2, -999.000,9, -999.000,9, -999.000,9,   2158.4,2,   2324.1,2, -999.000,9
18SN19940724,AO94,       21,        1,        4,   143447,2,19940809,0613,80.7133,179.9850,1631,   1639.3,  -0.4645,  34.9418,2,    301.9,4,  -0.5408,  34.9422,2,    287.9,2,    13.43,2,    14.46,2,     0.00,2,     1.03,2,    0.340,2,    0.150,2,    0.020,2,   2159.8,2,   2325.5,2,    1.120,2
18SN19940724,AO94,       21,        1,        1,   143444,2,19940809,0613,80.7133,179.9850,1631,   1649.3,  -0.4601,  34.9432,2,    301.7,4,  -0.5371,  34.9430,2,    287.5,2,    13.57,2,    14.50,2,     0.00,2,     1.04,2,    0.350,2,    0.140,2,    0.030,2,   2159.0,2,   2330.2,2,    0.930,2
18SN19940724,AO94,       21,        1,        3,   143446,2,19940809,0613,80.7133,179.9850,1631,   1649.6,  -0.4604,  34.9432,2,    301.7,4,  -0.5374,-999.0000,9,   -999.0,9,  -999.00,9,  -999.00,9,  -999.00,9,  -999.00,9, -999.000,9, -999.000,9, -999.000,9,   -999.0,9,   -999.0,9, -999.000,9
18SN19940724,AO94,       21,        1,        2,   143445,2,19940809,0613,80.7133,179.9850,1631,   1649.6,  -0.4604,  34.9434,2,    301.7,4,  -0.5374,-999.0000,9,   -999.0,9,  -999.00,9,  -999.00,9,  -999.00,9,  -999.00,9, -999.000,9, -999.000,9, -999.000,9,   -999.0,9,   -999.0,9, -999.000,9
18SN19940724,AO94,       22,        1,       33,   143509,2,19940809,1505,81.2433,179.0233,2197,     11.4,  -1.7101,  32.4300,2,    368.5,4,  -1.7103,  32.4338,2,    379.2,2,     5.97,2,     1.71,2,     0.04,2,     0.56,2,    6.550,2,    3.230,2,    0.720,2,   2095.8,2,   2254.2,2,   11.170,2
18SN19940724,AO94,       22,        1,       32,   143508,2,19940809,1505,81.2433,179.0233,2197,     26.2,  -1.7279,  32.5178,2,    262.9,4,  -1.7283,  32.5213,2,    379.0,2,     5.82,2,     1.86,2,     0.04,2,     0.54,2,    6.320,2,    3.020,2,    0.840,2,   2099.2,2,   2253.3,2,   10.270,2
18SN19940724,AO94,       22,        1,       31,   143507,2,19940809,1505,81.2433,179.0233,2197,     36.6,  -1.7330,  32.8553,2,    262.6,4,  -1.7336,  32.8750,2,    372.9,2,     6.00,2,     2.68,2,     0.06,2,     0.56,2,    6.550,2,    3.170,2, -999.000,9,   2122.3,2,   2277.2,2,   10.770,2
18SN19940724,AO94,       22,        1,       30,   143506,2,19940809,1505,81.2433,179.0233,2197,     46.4,  -1.7723,  33.1466,2,    288.3,4,  -1.7731,  33.1560,2,    366.9,2,     5.90,2,     3.60,2,     0.04,2,     0.56,2,    6.310,2,    3.190,2,    0.790,2,   2134.7,2,   2274.9,2,    9.820,2
18SN19940724,AO94,       22,        1,       29,   143505,2,19940809,1505,81.2433,179.0233,2197,     56.7,  -1.7999,  33.3050,2,    270.0,4,  -1.8009,  33.3104,2,    360.3,2,     5.70,2,     4.31,2,     0.02,2,     0.54,2,    6.480,2,    3.070,2,    0.590,2,   2138.0,2,   2287.6,2,    9.030,2
18SN19940724,AO94,       22,        1,       28,   143504,2,19940809,1505,81.2433,179.0233,2197,     66.9,  -1.8000,  33.4709,2,    374.3,4,  -1.8012,  33.4726,2,    353.5,2,     5.55,2,     4.99,2,     0.01,2,     0.54,2,    6.140,2,    3.110,2,    0.810,2,   2134.1,2,   2288.0,2,    8.890,2
18SN19940724,AO94,       22,        1,       27,   143503,2,19940809,1505,81.2433,179.0233,2197,     77.1,  -1.7618,  33.6472,2,    362.1,4,  -1.7633,  33.6456,2,    334.4,2,     6.26,2,     6.54,2,     0.01,2,     0.60,2,    6.010,2,    2.850,2,    0.430,2,   2144.1,2,   2287.0,2,    8.310,2
18SN19940724,AO94,       22,        1,       26,   143502,2,19940809,1505,81.2433,179.0233,2197,     92.4,  -1.7051,  33.8745,2,    322.2,4,  -1.7069,  33.8767,2,    322.2,2,     6.58,2,     7.56,2,     0.01,2,     0.66,2,    5.490,2,    2.680,2,    0.610,2,   2151.0,2,   2295.7,2,    6.730,2
18SN19940724,AO94,       22,        1,       25,   143501,2,19940809,1505,81.2433,179.0233,2197,    112.6,  -1.5190,  34.1109,2,    318.2,4,  -1.5215,  34.1010,2,    313.3,2,     6.34,2,     8.55,2,     0.01,2,     0.70,2,    5.290,2,    2.560,2,    0.270,2,   2150.3,2,   2295.4,2,    7.540,2
18SN19940724,AO94,       22,        1,       24,   143500,2,19940809,1505,81.2433,179.0233,2197,    133.0,  -1.2836,  34.2698,2,    313.5,4,  -1.2869,  34.2581,2,    309.4,2,     6.33,2,     9.12,2,     0.01,2,     0.73,2,    4.750,2,    2.290,2,    0.410,2,   2151.3,2,   2304.0,2,    6.250,2
18SN19940724,AO94,       22,        1,       23,   143499,2,19940809,1505,81.2433,179.0233,2197,    152.9,  -0.8234,  34.4046,2,    320.8,4,  -0.8278,  34.3919,2,    305.2,2,     6.56,2,     9.72,2,     0.01,2,     0.76,2,    4.410,2,    2.190,2,    0.200,2,   2156.3,2,   2314.3,2,    7.280,2
18SN19940724,AO94,       22,        1,       22,   143498,2,19940809,1505,81.2433,179.0233,2197,    172.8,  -0.2352,  34.5267,2,    303.1,4,  -0.2412,  34.5232,2,    304.4,2,     6.31,2,    10.21,2,     0.01,2,     0.77,2,    4.270,2,    2.150,2,    0.350,2,   2152.0,2,   2305.5,2,    6.270,2
18SN19940724,AO94,       22,        1,       21,   143497,2,19940809,1505,81.2433,179.0233,2197,    203.4,   0.3884,  34.6711,2,    298.6,4,   0.3802,  34.6549,2,    302.3,2,     6.40,2,    10.93,2,     0.01,2,     0.80,2,    4.060,2,    2.100,2,    0.170,2,   2153.1,2,   2308.7,2,    7.950,2
18SN19940724,AO94,       22,        1,       20,   143496,2,19940809,1505,81.2433,179.0233,2197,    233.1,   0.5389,  34.7463,2,    298.5,4,   0.5291,  34.7371,2,    301.7,2,     6.44,2,    11.35,2,     0.01,2,     0.81,2,    3.930,2,    2.100,2,    0.250,2,   2149.4,2,   2317.0,2,    6.740,2
18SN19940724,AO94,       22,        1,       19,   143495,2,19940809,1505,81.2433,179.0233,2197,    273.9,   0.6610,  34.7991,2,    299.1,4,   0.6491,  34.7970,2,    302.4,3,     6.53,2,    11.69,2,     0.00,2,     0.83,2,    3.670,2,    1.890,2,    0.060,2,   2150.2,2,   2319.5,2,    7.950,2
18SN19940724,AO94,       22,        1,       18,   143494,2,19940809,1505,81.2433,179.0233,2197,    299.3,   0.6973,  34.8200,2,    300.0,4,   0.6841,  34.8209,2,    303.1,3,     6.57,2,    11.77,2,     0.00,2,     0.84,2,    3.750,2,    1.850,2,    0.230,2,   2148.7,2,   2320.3,2,    7.060,2
18SN19940724,AO94,       22,        1,       17,   143493,2,19940809,1505,81.2433,179.0233,2197,    344.6,   0.5892,  34.8244,2,    302.6,4,   0.5742,  34.8209,2,    302.1,2,     6.76,2,    11.88,2,     0.00,2,     0.84,2,    3.210,2,    1.770,2,    0.040,2,   2150.8,2,   2318.1,2,    8.140,2
18SN19940724,AO94,       22,        1,       16,   143492,2,19940809,1505,81.2433,179.0233,2197,    425.9,   0.4883,  34.8432,2,    305.3,4,   0.4698,  34.8442,2,    303.6,2,     6.75,2,    12.03,2,     0.00,2,     0.85,2,    3.390,2,    1.780,2,    0.170,2,   2151.3,2,   2319.7,2,    6.850,2
18SN19940724,AO94,       22,        1,       15,   143491,2,19940809,1505,81.2433,179.0233,2197,    507.1,   0.3737,  34.8551,2,    307.4,4,   0.3517,  34.8558,2,    303.6,2,     6.98,2,    12.15,2,     0.00,2,     0.86,2,    2.970,2,    1.670,2,    0.050,2,   2154.7,2,   -999.0,9,    7.170,2
18SN19940724,AO94,       22,        1,       14,   143490,2,19940809,1505,81.2433,179.0233,2197,    607.7,   0.1789,  34.8591,2,    309.1,4,   0.1530,  34.8599,2,    305.8,2,     7.02,2,    12.15,2,     0.00,2,     0.87,2,    3.370,2,    1.670,2,    0.180,2,   2156.7,2,   -999.0,9,    7.100,2
18SN19940724,AO94,       22,        1,       13,   143489,2,19940809,1505,81.2433,179.0233,2197,    734.1,  -0.0843,  34.8678,2,    308.7,4,  -0.1148,  34.8690,2,    306.5,2,     7.02,2,    12.15,2,     0.00,2,     0.87,2,    3.530,2,    1.810,2,    0.060,2,   2161.3,2,   2325.0,2,    7.560,2
18SN19940724,AO94,       22,        1,       12,   143488,2,19940809,1505,81.2433,179.0233,2197,    860.1,  -0.1691,  34.8737,2,    308.2,4,  -0.2052,  34.8763,2,    306.3,2,     7.20,2,    12.23,2,     0.00,2,     0.88,2,    3.830,2,    1.980,2,    0.260,2,   2161.9,2,   -999.0,9,    7.650,2
18SN19940724,AO94,       22,        1,       11,   143487,2,19940809,1505,81.2433,179.0233,2197,    992.4,  -0.2098,  34.8757,2,    306.2,4,  -0.2523,  34.8783,2,    307.1,2,     7.20,2,    12.23,2,     0.00,2,     0.87,2,    3.960,2,    1.930,2,    0.090,2,   2157.5,2,   -999.0,9,    8.610,2
18SN19940724,AO94,       22,        1,       10,   143486,2,19940809,1505,81.2433,179.0233,2197,   1093.4,  -0.2639,  34.8739,2,    304.9,4,  -0.3112,  34.8765,2,    307.7,2,     7.19,2,    12.20,2,     0.00,2,     0.87,2,    4.090,2,    2.080,2,    0.270,2,   2163.5,2,   -999.0,9,    7.940,2
18SN19940724,AO94,       22,        1,        9,   143485,2,19940809,1505,81.2433,179.0233,2197,   1195.6,  -0.3320,  34.8719,2,    303.3,4,  -0.3841,  34.8741,2,    307.4,2,     7.09,2,    12.23,2,     0.00,2,     0.88,2,    3.930,2,    1.900,2,    0.070,2,   2165.8,2,   -999.0,9,    8.720,2
18SN19940724,AO94,       22,        1,        8,   143484,2,19940809,1505,81.2433,179.0233,2197,   1317.9,  -0.3160,  34.8911,2,    301.2,4,  -0.3751,  34.8907,2,    304.8,2,     7.99,2,    12.58,2,     0.00,2,     0.89,2,    2.430,2,    1.370,2,    0.100,2,   2162.3,2,   2325.0,2,    5.710,2
18SN19940724,AO94,       22,        1,        7,   143483,2,19940809,1505,81.2433,179.0233,2197,   1419.6,  -0.3833,  34.9014,2,    299.7,4,  -0.4475,  34.9023,2,    303.7,2,     8.46,2,    12.69,2,     0.00,2,     0.91,2,    1.620,2,    1.140,2,    0.010,2,   2161.3,2,   -999.0,9,    5.090,2
18SN19940724,AO94,       22,        1,        6,   143482,2,19940809,1505,81.2433,179.0233,2197,   1572.3,  -0.4521,  34.9144,2,    297.1,4,  -0.5245,  34.9158,2,    301.1,2,     9.51,2,    13.03,2,     0.00,2,     0.95,2,    1.280,2,    0.730,2,    0.040,2,   2156.5,2,   -999.0,9,    3.600,2
18SN19940724,AO94,       22,        1,        5,   143481,2,19940809,1505,81.2433,179.0233,2197,   1724.2,  -0.4540,  34.9312,2,    293.9,4,  -0.5357,  34.9327,2,    294.8,2,    11.28,2,    13.83,2,     0.00,2,     0.99,2,    0.800,2,    0.360,2,    0.000,2,   -999.0,9,   -999.0,9,    1.840,2
18SN19940724,AO94,       22,        1,        4,   143480,2,19940809,1505,81.2433,179.0233,2197,   1826.4,  -0.4429,  34.9387,2,    292.1,4,  -0.5312,  34.9398,2,    291.7,2,    12.23,2,    14.13,2,     0.00,2,     1.01,2,    0.310,2,    0.210,2,    0.000,2,   2154.8,2,   2330.6,2,    1.000,2
18SN19940724,AO94,       22,        1,        3,   143479,2,19940809,1505,81.2433,179.0233,2197,   1978.6,  -0.4258,  34.9466,2,    289.7,4,  -0.5244,  34.9465,2,    288.6,2,    13.37,2,    14.43,2,     0.00,2,     1.03,2,    0.290,2,    0.000,2,    0.000,2,   -999.0,9,   -999.0,9,    1.100,2
18SN19940724,AO94,       22,        1,        2,   143478,2,19940809,1505,81.2433,179.0233,2197,   2131.7,  -0.4076,  34.9500,2,    287.8,4,  -0.5169,  34.9515,2,    286.5,2,    13.94,2,    14.55,2,     0.00,2,     1.04,2,    0.060,2,    0.090,2,    0.190,2,   -999.0,9,   -999.0,9,    0.260,2
18SN19940724,AO94,       22,        1,        1,   143477,2,19940809,1505,81.2433,179.0233,2197,   2232.5,  -0.3978,  34.9514,2,    286.5,4,  -0.5144,  34.9530,2,    286.1,2,    14.08,2,    14.55,2,     0.00,2,     1.05,2,    0.150,2,    0.000,2,    0.000,2,   2159.1,2,   2325.0,2,    2.170,2