BOTTLE,20090717CCHDOSIODM
EXPOCODE,SECT_ID,STNNBR,CASTNO,SAMPNO,BTLNBR,BTLNBR_FLAG_W,DATE,TIME,LATITUDE,LONGITUDE,DEPTH,CTDPRS,CTDTMP,CTDSAL,CTDSAL_FLAG_W,CTDOXY,CTDOXY_FLAG_W,THETA,SALNTY,SALNTY_FLAG_W,OXYGEN,OXYGEN_FLAG_W,SILCAT,SILCAT_FLAG_W,NITRAT,NITRAT_FLAG_W,NITRIT,NITRIT_FLAG_W,PHSPHT,PHSPHT_FLAG_W,CFC-11,CFC-11_FLAG_W,CFC-12,CFC-12_FLAG_W,CFC113,CFC113_FLAG_W,TCARBN,TCARBN_FLAG_W,ALKALI,ALKALI_FLAG_W,CCL4,CCL4_FLAG_W
,,,,,,,,,,,,DBAR,ITS-90,PSS-78,,UMOL/KG,,DEG C,PSS-78,,UMOL/KG,,UMOL/KG,,UMOL/KG,,UMOL/KG,,UMOL/KG,,PMOL/KG,,PMOL/KG,,PMOL/KG,,UMOL/KG,,UMOL/KG,,PMOL/KG,
18SN19940724,AO94,       23,        1,       36,   143541,2,19940810,0955,81.5783,176.8750,2515,     10.0,  -1.6897,  32.1660,2,    326.4,4,  -1.6898,  32.1675,2,    378.5,2,     6.61,2,     1.74,2,     0.03,2,     0.58,2,    6.630,2,    3.100,2,    1.010,2,   2086.1,2,   2237.6,2,   10.600,2
18SN19940724,AO94,       23,        1,       35,   143540,2,19940810,0955,81.5783,176.8750,2515,     20.1,  -1.7093,  32.2330,2,    343.6,4,  -1.7096,  32.2387,2,    377.8,2,     6.65,2,     1.89,2,     0.04,2,     0.59,2,    6.340,2,    3.220,2,    1.270,2,   2090.0,2,   2240.9,2,   10.590,2
18SN19940724,AO94,       23,        1,       30,   143539,2,19940810,0955,81.5783,176.8750,2515,     20.2,  -1.7125,  32.2547,2,    181.0,4,  -1.7128,  32.2580,2,    377.4,2,     6.64,2,     1.93,2,     0.04,2,     0.59,2,    6.280,2,    3.140,2,    1.360,2,   2092.9,2,   2235.3,2,   10.420,2
18SN19940724,AO94,       23,        1,       29,   143538,2,19940810,0955,81.5783,176.8750,2515,     30.3,  -1.7205,  32.4313,2,     75.6,4,  -1.7210,  32.5358,2,    374.7,2,     6.63,2,     2.34,2,     0.04,2,     0.60,2,    6.300,2,    3.410,2,    0.950,2,   2110.9,2,   2256.7,2,   10.110,2
18SN19940724,AO94,       23,        1,       28,   143537,2,19940810,0955,81.5783,176.8750,2515,     40.4,  -1.7624,  33.0792,2,     77.6,4,  -1.7631,  33.1042,2,    363.6,2,     6.42,2,     3.86,2,     0.03,2,     0.58,2, -999.000,9, -999.000,9, -999.000,9,   2134.6,2,   2282.7,2, -999.000,9
18SN19940724,AO94,       23,        1,       27,   143536,2,19940810,0955,81.5783,176.8750,2515,     55.5,  -1.7960,  33.3967,2,    218.4,4,  -1.7970,  33.4005,2,    357.5,2,     5.58,2,     4.63,2,     0.02,2,     0.54,2,    6.020,2,    2.930,2,    0.850,2,   2137.8,2,   2293.0,2,    8.940,2
18SN19940724,AO94,       23,        1,       26,   143535,2,19940810,0955,81.5783,176.8750,2515,     71.1,  -1.7584,  33.6385,2,    144.5,4,  -1.7598,  33.6147,2,    341.3,2,     5.86,2,     6.11,2,     0.01,2,     0.58,2,    6.280,2,    3.210,2,    0.720,2,   2144.9,2,   2284.2,2,    7.840,2
18SN19940724,AO94,       23,        1,       25,   143534,2,19940810,0955,81.5783,176.8750,2515,     86.3,  -1.6720,  33.8516,2,     79.4,4,  -1.6737,  33.8377,2,    323.0,2,     6.54,2,     7.62,2,     0.01,2,     0.66,2,    5.310,2,    2.570,2,    0.610,2,   2147.7,2,   2288.5,2,    6.700,2
18SN19940724,AO94,       23,        1,       24,   143533,2,19940810,0955,81.5783,176.8750,2515,    101.6,  -1.5668,  34.0582,2,    542.5,4,  -1.5689,  34.0492,2,    313.1,2,     6.63,2,     8.57,2,     0.01,2,     0.71,2,    5.490,2,    2.470,2,    0.480,2,   2150.2,2,   2295.0,2,    6.640,2
18SN19940724,AO94,       23,        1,       23,   143532,2,19940810,0955,81.5783,176.8750,2515,    116.5,  -1.4117,  34.1916,2,    482.4,4,  -1.4144,  34.1854,2,    312.8,2,     5.98,2,     8.75,2,     0.01,2,     0.70,2,    4.920,2,    2.370,2,    0.510,2,   2149.1,2,   2299.4,2,    6.520,2
18SN19940724,AO94,       23,        1,       22,   143531,2,19940810,0955,81.5783,176.8750,2515,    132.0,  -1.1377,  34.3308,2,    462.4,4,  -1.1411,  34.3144,2,    307.5,2,     6.36,2,     9.40,2,     0.01,2,     0.74,2,    4.960,2,    2.290,2,    0.170,2,   2152.6,2,   2303.8,2,    6.420,2
18SN19940724,AO94,       23,        1,       21,   143530,2,19940810,0955,81.5783,176.8750,2515,    152.1,  -0.7502,  34.4223,2,    440.1,4,  -0.7547,  34.4142,2,    305.6,2,     6.30,2,     9.78,2,     0.01,2,     0.75,2,    4.320,2,    2.250,2,    0.620,2,   2154.4,2,   2303.7,2,    6.150,2
18SN19940724,AO94,       23,        1,       20,   143529,2,19940810,0955,81.5783,176.8750,2515,    172.1,  -0.2936,  34.5357,2,    420.6,4,  -0.2994,  34.5175,2,    303.8,2,     6.34,2,    10.23,2,     0.00,2,     0.78,2,    4.480,2,    2.100,2,    0.180,2,   2150.0,2,   2308.7,2,    6.440,2
18SN19940724,AO94,       23,        1,       19,   143528,2,19940810,0955,81.5783,176.8750,2515,    202.0,   0.2782,  34.6697,2,    396.8,4,   0.2703,  34.6657,2,    301.4,2,     6.43,2,    10.99,2,     0.00,2,     0.81,2,    4.120,2,    1.970,2, -999.000,9,   2149.2,2,   2310.1,2,    6.580,2
18SN19940724,AO94,       23,        1,       18,   143527,2,19940810,0955,81.5783,176.8750,2515,    237.2,   0.5767,  34.7666,2,    379.2,4,   0.5666,  34.7614,2,    301.2,2,     6.42,2,    11.55,2,     0.00,2,     0.83,2,    4.020,2,    1.940,2,    0.490,2,   2148.8,2,   2315.1,2,    6.930,2
18SN19940724,AO94,       23,        1,       17,   143526,2,19940810,0955,81.5783,176.8750,2515,    272.8,   0.5440,  34.7969,2,    364.3,4,   0.5324,  34.7906,2,    300.9,2,     6.61,2,    11.74,2,     0.00,2,     0.84,2,    3.490,2,    1.800,2,    0.170,2,   2149.8,2,   2317.9,2,    6.660,2
18SN19940724,AO94,       23,        1,       16,   143525,2,19940810,0955,81.5783,176.8750,2515,    313.4,   0.5410,  34.8114,2,    352.8,4,   0.5276,  34.8113,2,    300.8,2,     6.70,2,    11.86,2,     0.00,2,     0.84,2,    3.450,2,    1.690,2,    0.340,2,   2149.9,2,   2318.1,2,    6.740,2
18SN19940724,AO94,       23,        1,       15,   143524,2,19940810,0955,81.5783,176.8750,2515,    384.5,   0.5735,  34.8431,2,    339.3,4,   0.5566,  34.8401,2,    303.0,2,     6.78,2,    12.04,2,     0.00,2,     0.85,2,    3.180,2,    1.410,2,    0.470,2,   -999.0,9,   -999.0,9,    6.720,2
18SN19940724,AO94,       23,        1,       14,   143523,2,19940810,0955,81.5783,176.8750,2515,    434.5,   0.4550,  34.8416,2,    332.9,4,   0.4362,  34.8425,2,    302.6,2,     6.87,2,    12.01,2,     0.00,2,     0.86,2,    3.120,2,    1.620,2,    0.100,2,   2152.1,2,   2320.4,2,    6.940,2
18SN19940724,AO94,       23,        1,       13,   143522,2,19940810,0955,81.5783,176.8750,2515,    505.7,   0.3631,  34.8580,2,    323.6,4,   0.3413,  34.8585,2,    302.9,2,     7.01,2,    12.20,2,     0.00,2,     0.87,2,    2.880,2,    1.490,2,    0.310,2,   2154.1,2,   2322.3,2,    6.380,2
18SN19940724,AO94,       23,        1,       12,   143521,2,19940810,0955,81.5783,176.8750,2515,    586.7,   0.1911,  34.8547,2,    316.2,4,   0.1662,  34.8547,2,    304.4,2,     7.00,2,    12.12,2,     0.00,2,     0.87,2,    3.090,2,    1.580,2,    0.060,2,   2155.1,2,   2319.0,2,    6.740,2
18SN19940724,AO94,       23,        1,       11,   143520,2,19940810,0955,81.5783,176.8750,2515,    759.6,  -0.0494,  34.8648,2,    303.4,4,  -0.0813,  34.8640,2,    305.2,2,     7.24,2,    12.27,2,     0.00,2,     0.88,2,    2.820,2,    1.460,2,    0.260,2,   2157.0,2,   2321.5,2,    6.420,2
18SN19940724,AO94,       23,        1,       10,   143519,2,19940810,0955,81.5783,176.8750,2515,    910.8,  -0.1884,  34.8776,2,    294.6,4,  -0.2269,  34.8762,2,    305.6,2,     7.47,2,    12.39,2,     0.00,2,     0.89,2,    3.080,2,    1.670,2,    0.160,2,   2161.4,2,   2325.9,2,    6.470,2
18SN19940724,AO94,       23,        1,        9,   143518,2,19940810,0955,81.5783,176.8750,2515,   1063.6,  -0.2864,  34.8884,2,    285.3,4,  -0.3319,  34.8879,2,    305.1,2,     7.90,2,    12.54,2,     0.00,2,     0.90,2,    2.330,2,    1.300,2,    0.440,2,   2159.8,2,   2322.6,2,    6.430,2
18SN19940724,AO94,       23,        1,        8,   143517,2,19940810,0955,81.5783,176.8750,2515,   1215.8,  -0.3535,  34.8995,2,    276.0,4,  -0.4066,  34.8997,2,    303.9,2,     8.38,2,    12.81,2,     0.00,2,     0.92,2,    1.620,2,    0.950,2,    0.240,2,   2158.2,2,   2324.5,2,    4.900,2
18SN19940724,AO94,       23,        1,        7,   143516,2,19940810,0955,81.5783,176.8750,2515,   1419.2,  -0.4122,  34.9163,2,    264.5,4,  -0.4761,  34.9171,2,    300.6,2,     9.63,2,    13.34,2,     0.00,2,     0.95,2,    0.800,2,    0.460,2,    0.040,2,   2154.6,2,   2326.5,2,    2.630,2
18SN19940724,AO94,       23,        1,        6,   143515,2,19940810,0955,81.5783,176.8750,2515,   1622.4,  -0.4289,  34.9314,2,    252.0,4,  -0.5046,  34.9327,2,    295.3,2,    11.23,2,    13.90,2,     0.00,2,     1.00,2,    0.300,2,    0.190,2,    0.000,2,   2152.2,2,   2324.6,2,    1.470,2
18SN19940724,AO94,       23,        1,        5,   143514,2,19940810,0955,81.5783,176.8750,2515,   1826.5,  -0.4273,  34.9415,2,    240.4,4,  -0.5159,  34.9426,2,    291.0,2,    12.49,2,    14.21,2,     0.00,2,     1.02,2,    0.120,2,    0.060,2,    0.080,2,   2156.0,2,   2329.7,2,    0.470,2
18SN19940724,AO94,       23,        1,        4,   143513,2,19940810,0955,81.5783,176.8750,2515,   2029.7,  -0.4159,  34.9473,2,    231.4,4,  -0.5181,  34.9479,2,    288.5,2,    13.26,2,    14.32,2,     0.00,2,     1.03,2,    0.070,2,    0.000,2,    0.340,2,   2154.5,2,   2329.4,2,    0.500,2
18SN19940724,AO94,       23,        1,        3,   143512,2,19940810,0955,81.5783,176.8750,2515,   2233.6,  -0.4029,  34.9502,2,    222.8,4,  -0.5195,  34.9508,2,    287.2,2,    13.69,2,    14.47,2,     0.00,2,     1.04,2,    0.130,2,    0.120,2,    0.100,2,   2157.1,2,   2328.4,2,    0.110,2
18SN19940724,AO94,       23,        1,        2,   143511,2,19940810,0955,81.5783,176.8750,2515,   2437.9,  -0.3868,  34.9520,2,    215.4,4,  -0.5185,  34.9516,2,    286.6,2,    13.92,2,    14.55,2,     0.00,2,     1.04,2,    0.060,2,    0.000,2,    0.210,2,   2156.1,2,   2329.4,2,    0.290,2
18SN19940724,AO94,       23,        1,        1,   143510,2,19940810,0955,81.5783,176.8750,2515,   2559.5,  -0.3782,  34.9523,2,    208.7,4,  -0.5193,  34.9532,2,    286.3,2,    14.15,2,    14.55,2,     0.00,2,     1.04,2,    0.020,2,    0.000,2,    0.140,2,   2158.1,2,   2334.1,2,    0.130,2