BOTTLE,20090717CCHDOSIODM
EXPOCODE,SECT_ID,STNNBR,CASTNO,SAMPNO,BTLNBR,BTLNBR_FLAG_W,DATE,TIME,LATITUDE,LONGITUDE,DEPTH,CTDPRS,CTDTMP,CTDSAL,CTDSAL_FLAG_W,CTDOXY,CTDOXY_FLAG_W,THETA,SALNTY,SALNTY_FLAG_W,OXYGEN,OXYGEN_FLAG_W,SILCAT,SILCAT_FLAG_W,NITRAT,NITRAT_FLAG_W,NITRIT,NITRIT_FLAG_W,PHSPHT,PHSPHT_FLAG_W,CFC-11,CFC-11_FLAG_W,CFC-12,CFC-12_FLAG_W,CFC113,CFC113_FLAG_W,TCARBN,TCARBN_FLAG_W,ALKALI,ALKALI_FLAG_W,CCL4,CCL4_FLAG_W
,,,,,,,,,,,,DBAR,ITS-90,PSS-78,,UMOL/KG,,DEG C,PSS-78,,UMOL/KG,,UMOL/KG,,UMOL/KG,,UMOL/KG,,UMOL/KG,,PMOL/KG,,PMOL/KG,,PMOL/KG,,UMOL/KG,,UMOL/KG,,PMOL/KG,
18SN19940724,AO94,       34,        1,       36,   144058,2,19940820,2246,89.0167,137.1517,3995,     13.0,  -1.7645,  32.8875,2,    360.1,4,  -1.7648,  32.9159,2,    373.2,2,     4.81,2,     3.30,2,     0.05,2,     0.48,2,    5.940,2,    2.390,2,    1.000,2,   2113.5,2,   2265.6,2,    9.190,2
18SN19940724,AO94,       34,        1,       35,   144057,2,19940820,2246,89.0167,137.1517,3995,     23.2,  -1.7684,  33.0621,2,    360.0,4,  -1.7688,  33.1075,2,    371.2,2,     4.57,2,     3.60,2,     0.05,2,     0.46,2,    5.980,2,    2.440,2,    0.850,2,   2116.1,2,   2270.9,2,    9.110,2
18SN19940724,AO94,       34,        1,       34,   144056,2,19940820,2246,89.0167,137.1517,3995,     43.4,  -1.8069,  33.5991,2,    345.3,4,  -1.8077,  33.6105,2,    363.7,2,     4.47,2,     4.70,2,     0.03,2,     0.47,2,    6.020,2,    2.520,2, -999.000,9,   2138.2,2,   2291.6,2,    8.480,2
18SN19940724,AO94,       34,        1,       33,   144055,2,19940820,2246,89.0167,137.1517,3995,     58.9,  -1.7976,  33.7013,2,    343.4,4,  -1.7987,  33.7382,2,    355.0,2,     4.56,2,     5.44,2,     0.02,2,     0.50,2,    5.850,2,    2.410,2,    0.580,2,   2138.8,2,   2291.2,2,    8.210,2
18SN19940724,AO94,       34,        1,       32,   144054,2,19940820,2246,89.0167,137.1517,3995,     74.1,  -1.6902,  33.9063,2,    343.7,4,  -1.6917,  33.9468,2,    334.1,2,     5.40,2,     7.20,2,     0.01,2,     0.60,2,    5.070,2,    2.510,2,    0.670,2,   2142.3,2,   2288.7,2,    6.810,2
18SN19940724,AO94,       34,        1,       31,   144053,2,19940820,2246,89.0167,137.1517,3995,     89.2,  -1.4219,  34.1365,2,    342.8,4,  -1.4240,  34.1708,2,    316.7,2,     5.84,2,     8.70,2,     0.01,2,     0.68,2,    4.380,2,    2.090,2,    0.460,2,   2143.8,2,   2291.1,2,    5.670,2
18SN19940724,AO94,       34,        1,       30,   144052,2,19940820,2246,89.0167,137.1517,3995,    104.2,  -0.9266,  34.3102,2,    308.3,4,  -0.9295,  34.3185,2,    311.5,2,     5.94,2,     9.31,2,     0.01,2,     0.71,2,    4.170,2,    2.020,2, -999.000,9,   2147.2,2,   2297.2,2,    6.020,2
18SN19940724,AO94,       34,        1,       29,   144051,2,19940820,2246,89.0167,137.1517,3995,    129.3,  -0.0343,  34.5100,2,    322.0,4,  -0.0389,  34.5184,2,    306.8,2,     6.04,2,    10.16,2,     0.01,2,     0.74,2,    3.980,2,    1.880,2,    0.300,2,   2145.5,2,   2299.0,2,    6.370,2
18SN19940724,AO94,       34,        1,       28,   144050,2,19940820,2246,89.0167,137.1517,3995,    154.4,   0.6804,  34.6527,2,    313.6,4,   0.6739,  34.6563,2,    304.8,2,     6.04,2,    10.85,2,     0.01,2,     0.77,2,    4.000,2,    1.890,2,    0.510,2,   2148.4,2,   2306.8,2,    6.590,2
18SN19940724,AO94,       34,        1,       27,   144049,2,19940820,2246,89.0167,137.1517,3995,    184.1,   1.3895,  34.7957,2,    305.2,4,   1.3805,  34.7915,2,    302.4,2,     6.28,2,    11.69,2,     0.00,2,     0.82,2,    4.030,2,    2.020,2,    0.490,2,   2145.1,2,   2313.9,2,    6.640,2
18SN19940724,AO94,       34,        1,       26,   144048,2,19940820,2246,89.0167,137.1517,3995,    214.3,   1.5127,  34.8226,2,    302.8,4,   1.5020,  34.8199,2,    302.4,2,     6.38,2,    11.81,2,     0.00,2,     0.83,2,    4.020,2,    2.060,2,    0.540,2,   2146.7,2,   2312.9,2,    7.080,2
18SN19940724,AO94,       34,        1,       25,   144047,2,19940820,2246,89.0167,137.1517,3995,    254.5,   1.6445,  34.8760,2,    298.9,4,   1.6313,  34.8743,2,    304.2,2,     6.52,2,    12.00,2,     0.00,2,     0.84,2,    4.160,2,    1.930,2,    0.230,2,   2151.0,2,   2314.7,2,    7.400,2
18SN19940724,AO94,       34,        1,       24,   144046,2,19940820,2246,89.0167,137.1517,3995,    305.1,   1.3453,  34.8655,2,    299.7,4,   1.3302,  34.8653,2,    303.5,2,     6.62,2,    12.04,2,     0.00,2,     0.85,2,    3.780,2,    1.890,2,    0.490,2,   2150.4,2,   2316.0,2,    6.920,2
18SN19940724,AO94,       34,        1,       23,   144045,2,19940820,2246,89.0167,137.1517,3995,    355.3,   1.1782,  34.8743,2,    299.5,4,   1.1609,  34.8716,2,    304.3,2,     6.72,2,    12.12,2,     0.00,2,     0.85,2,    3.760,2,    1.940,2,    0.430,2,   2151.9,2,   -999.0,9,    6.800,2
18SN19940724,AO94,       34,        1,       22,   144044,2,19940820,2246,89.0167,137.1517,3995,    406.0,   1.0010,  34.8773,2,    299.8,4,   0.9816,  34.8745,2,    304.4,2,     6.87,2,    12.24,2,     0.00,2,     0.85,2,    3.550,2,    1.790,2,    0.410,2,   2152.8,2,   2318.3,2,    6.880,2
18SN19940724,AO94,       34,        1,       21,   144043,2,19940820,2246,89.0167,137.1517,3995,    456.6,   0.7697,  34.8677,2,    301.6,4,   0.7486,  34.8641,2,    304.2,2,     7.01,2,    12.21,2,     0.00,2,     0.86,2,    3.520,2,    1.710,2,    0.160,2,   2156.6,2,   2322.3,2,    6.780,2
18SN19940724,AO94,       34,        1,       20,   144042,2,19940820,2246,89.0167,137.1517,3995,    507.4,   0.6721,  34.8767,2,    301.5,4,   0.6489,  34.8741,2,    303.4,2,     7.30,2,    12.36,2,     0.00,2,     0.87,2,    3.170,2,    1.550,2,    0.440,2,   2157.4,2,   2320.7,2,    6.350,2
18SN19940724,AO94,       34,        1,       19,   144041,2,19940820,2246,89.0167,137.1517,3995,    557.5,   0.5526,  34.8782,2,    302.7,4,   0.5274,  34.8747,2,    303.7,2,     7.40,2,    12.29,2,     0.00,2,     0.87,2,    2.760,2,    1.560,2,    0.390,2,   2157.2,2,   2313.8,2,    5.690,2
18SN19940724,AO94,       34,        1,       18,   144040,2,19940820,2246,89.0167,137.1517,3995,    607.4,   0.4023,  34.8722,2,    303.6,4,   0.3753,  34.8714,2,    304.0,2,     7.50,2,    12.41,2,     0.00,2,     0.87,2,    2.860,2,    1.380,2,    0.350,2,   2159.0,2,   2318.2,2,    5.940,2
18SN19940724,AO94,       34,        1,       17,   144039,2,19940820,2246,89.0167,137.1517,3995,    708.4,   0.1620,  34.8721,2,    305.1,4,   0.1313,  34.8700,2,    308.1,2,     7.25,2,    12.14,2,     0.00,2,     0.87,2,    3.660,2,    1.740,2,    0.170,2,   2162.1,2,   2322.3,2,    7.150,2
18SN19940724,AO94,       34,        1,       16,   144038,2,19940820,2246,89.0167,137.1517,3995,    809.1,   0.0253,  34.8771,2,    305.9,4,  -0.0096,  34.8759,2,    307.0,2,     7.59,2,    12.30,2,     0.00,2,     0.88,2,    3.420,2,    1.640,2,    0.490,2,    397.9,4,   -999.0,9,    6.850,2
18SN19940724,AO94,       34,        1,       15,   144037,2,19940820,2246,89.0167,137.1517,3995,   1010.8,  -0.1511,  34.8905,2,    307.1,4,  -0.1950,  34.8903,2,    306.5,2,     8.23,2,    12.69,2,     0.00,2,     0.90,2,    2.730,2,    1.530,2,    0.470,2,   2156.4,3,   2326.5,2,    5.930,2
18SN19940724,AO94,       34,        1,       14,   144036,2,19940820,2246,89.0167,137.1517,3995,   1213.5,  -0.3057,  34.9065,2,    307.7,4,  -0.3591,  34.9053,2,    303.9,2,     9.30,2,    13.30,2,     0.00,2,     0.95,2,    2.060,2,    1.000,2,    0.250,2,   2165.2,2,   2323.7,2,    5.120,2
18SN19940724,AO94,       34,        1,       13,   144035,2,19940820,2246,89.0167,137.1517,3995,   1416.2,  -0.4530,  34.9145,2,    308.2,4,  -0.5162,  34.9144,2,    302.2,2,    10.28,2,    13.76,2,     0.00,2,     0.97,2,    1.170,2,    0.730,2,    0.010,2,    353.5,4,   -999.0,9,    3.540,2
18SN19940724,AO94,       34,        1,       12,   144034,2,19940820,2246,89.0167,137.1517,3995,   1619.3,  -0.5602,  34.9179,2,    308.3,4,  -0.6340,  34.9169,2,    300.9,2,    10.91,2,    14.00,2,     0.00,2,     0.99,2,    1.030,2, -999.000,9,    0.240,2,   2167.7,2,   2325.7,2,    3.100,2
18SN19940724,AO94,       34,        1,       11,   144033,2,19940820,2246,89.0167,137.1517,3995,   1822.3,  -0.6436,  34.9187,2,    307.9,4,  -0.7287,  34.9181,2,    300.9,2,    11.40,2,    14.23,2,     0.00,2,     1.00,2,    0.750,2,    0.610,2,    0.300,2,    465.9,4,   -999.0,9,    2.910,2
18SN19940724,AO94,       34,        1,       10,   144032,2,19940820,2246,89.0167,137.1517,3995,   2026.0,  -0.6970,  34.9200,2,    307.2,4,  -0.7943,  34.9185,2,    300.4,2,    11.74,2,    14.35,2,     0.00,2,     1.01,2,    0.530,2,    0.350,2,    0.140,2,   2167.2,2,   2319.9,2,    2.080,2
18SN19940724,AO94,       34,        1,        9,   144031,2,19940820,2246,89.0167,137.1517,3995,   2229.7,  -0.7309,  34.9212,2,    306.2,4,  -0.8414,  34.9209,2,    300.4,2,    11.88,2,    14.43,2,     0.00,2,     1.01,2,    0.440,2,    0.270,2,    0.000,2,   1666.9,4,   -999.0,9,    1.930,2
18SN19940724,AO94,       34,        1,        8,   144030,2,19940820,2246,89.0167,137.1517,3995,   2433.7,  -0.7504,  34.9248,2,    304.8,4,  -0.8749,  34.9223,2,    300.1,2,    12.17,2,    14.51,2,     0.01,2,     1.03,2,    0.260,2,    0.200,2,    0.230,2,   2161.1,2,   2325.1,2,    1.230,2
18SN19940724,AO94,       34,        1,        7,   144029,2,19940820,2246,89.0167,137.1517,3995,   2637.6,  -0.7605,  34.9264,2,    303.3,4,  -0.8998,  34.9258,2,    300.2,2,    12.17,2,    14.47,2,     0.00,2,     1.02,2, -999.000,9, -999.000,9, -999.000,9,   2163.8,2,   2324.3,2, -999.000,9
18SN19940724,AO94,       34,        1,        6,   144028,2,19940820,2246,89.0167,137.1517,3995,   2842.1,  -0.7618,  34.9289,2,    301.6,4,  -0.9167,  34.9284,2,    299.5,2,    12.26,2,    14.51,2,     0.00,2,     1.03,2,    0.200,2,    0.090,2,    0.260,2,   2163.0,2,   2324.6,2,    0.980,2
18SN19940724,AO94,       34,        1,        5,   144027,2,19940820,2246,89.0167,137.1517,3995,   3097.2,  -0.7558,  34.9324,2,    299.4,4,  -0.9314,  34.9321,2,    299.2,2,    12.45,2,    14.56,2,     0.00,2,     1.03,2,    0.170,2,    0.090,2,    0.010,2,   2164.4,2,   2324.1,2,    1.260,2
18SN19940724,AO94,       34,        1,        4,   144026,2,19940820,2246,89.0167,137.1517,3995,   3353.0,  -0.7417,  34.9358,2,    297.0,4,  -0.9392,  34.9339,2,    299.0,2,    12.50,2,    14.52,2,     0.00,2,     1.03,2,    0.170,2,    0.000,2,    0.280,2,   2163.4,2,   2327.1,2,    0.510,2
18SN19940724,AO94,       34,        1,        3,   144025,2,19940820,2246,89.0167,137.1517,3995,   3608.6,  -0.7263,  34.9376,2,    294.7,4,  -0.9468,  34.9359,2,    298.8,2,    12.49,2,    14.52,2,     0.00,2,     1.02,2,    0.140,2,    0.060,2,    0.000,2,   2161.8,2,   2327.5,2,    0.670,2
18SN19940724,AO94,       34,        1,        2,   144024,2,19940820,2246,89.0167,137.1517,3995,   3866.7,  -0.7043,  34.9410,2,    292.1,4,  -0.9491,  34.9386,2,    298.5,2,    12.54,2,    14.49,2,     0.01,2,     1.02,2,    0.050,2,    0.100,2,    0.110,2,   -999.0,9,   -999.0,9,    0.380,2
18SN19940724,AO94,       34,        1,        1,   144023,2,19940820,2246,89.0167,137.1517,3995,   4159.3,  -0.6761,  34.9427,2,    289.2,4,  -0.9499,  34.9416,2,    298.4,2,    12.53,2,    14.42,2,     0.00,2,     1.02,2, -999.000,9, -999.000,9, -999.000,9,   2162.7,2,   2325.2,2, -999.000,9