BOTTLE,20090717CCHDOSIODM
EXPOCODE,SECT_ID,STNNBR,CASTNO,SAMPNO,BTLNBR,BTLNBR_FLAG_W,DATE,TIME,LATITUDE,LONGITUDE,DEPTH,CTDPRS,CTDTMP,CTDSAL,CTDSAL_FLAG_W,CTDOXY,CTDOXY_FLAG_W,THETA,SALNTY,SALNTY_FLAG_W,OXYGEN,OXYGEN_FLAG_W,SILCAT,SILCAT_FLAG_W,NITRAT,NITRAT_FLAG_W,NITRIT,NITRIT_FLAG_W,PHSPHT,PHSPHT_FLAG_W,CFC-11,CFC-11_FLAG_W,CFC-12,CFC-12_FLAG_W,CFC113,CFC113_FLAG_W,TCARBN,TCARBN_FLAG_W,ALKALI,ALKALI_FLAG_W,CCL4,CCL4_FLAG_W
,,,,,,,,,,,,DBAR,ITS-90,PSS-78,,UMOL/KG,,DEG C,PSS-78,,UMOL/KG,,UMOL/KG,,UMOL/KG,,UMOL/KG,,UMOL/KG,,PMOL/KG,,PMOL/KG,,PMOL/KG,,UMOL/KG,,UMOL/KG,,PMOL/KG,
18SN19940724,AO94,       37,        1,       36,   144298,2,19940827,0338,84.2450,35.0083,3935,     13.2,  -1.6230,  33.3980,2,    340.7,4,  -1.6232,  33.4059,2,    382.5,2,     1.91,2,     2.30,2,     0.06,2,     0.27,2,    4.650,2,    2.830,2,    1.110,2,   2020.6,2,   2230.7,2,   10.600,2
18SN19940724,AO94,       37,        1,       35,   144297,2,19940827,0338,84.2450,35.0083,3935,     23.0,  -1.5965,  33.4631,2,    340.9,4,  -1.5970,  33.4866,2,    388.9,2,     1.75,2,     1.95,2,     0.07,2,     0.26,2,    4.320,2,    2.820,2,    0.740,2,   2016.6,2,   2236.2,2,    9.320,2
18SN19940724,AO94,       37,        1,       34,   144296,2,19940827,0338,84.2450,35.0083,3935,     32.8,  -1.7319,  33.7798,2,    340.5,4,  -1.7325,  33.8846,2,    350.5,2,     4.00,2,     6.21,2,     0.05,2,     0.53,2,    4.290,2,    2.340,2,    1.230,2,   2077.3,2,   2253.7,2,    8.850,2
18SN19940724,AO94,       37,        1,       33,   144295,2,19940827,0338,84.2450,35.0083,3935,     53.1,  -1.8028,  34.1389,2,    340.3,4,  -1.8038,  34.1523,2,    342.5,2,     4.97,2,     7.58,2,     0.06,2,     0.61,2,    4.510,2,    2.610,2,    0.690,2,   2102.7,2,   2276.8,2,    7.730,2
18SN19940724,AO94,       37,        1,       32,   144294,2,19940827,0338,84.2450,35.0083,3935,     73.3,  -1.7663,  34.2612,2,    339.8,4,  -1.7677,  34.2707,2,    341.4,2,     5.07,2,     7.69,2,     0.04,2,     0.62,2,    4.010,2,    2.420,2,    0.840,2,   2126.1,2,   2290.3,2,    6.980,2
18SN19940724,AO94,       37,        1,       31,   144293,2,19940827,0338,84.2450,35.0083,3935,     93.5,  -1.7110,  34.2995,2,    339.2,4,  -1.7130,  34.3035,2,    340.4,2,     5.12,2,     7.77,2,     0.03,2,     0.62,2,    4.540,2,    2.420,2,    0.380,2,   2127.3,2,   2292.5,2,    6.590,2
18SN19940724,AO94,       37,        1,       30,   144292,2,19940827,0338,84.2450,35.0083,3935,    114.1,  -1.2704,  34.3453,2,    333.4,4,  -1.2732,  34.3592,2,    329.8,2,     5.57,2,     8.51,2,     0.02,2,     0.67,2,    3.480,2,    1.820,2,    0.810,2,   2130.0,2,   2290.6,2,    6.060,2
18SN19940724,AO94,       37,        1,       29,   144291,2,19940827,0338,84.2450,35.0083,3935,    135.2,  -0.1930,  34.4880,2,    323.1,4,  -0.1977,  34.4963,2,    308.9,2,     6.54,2,    10.20,2,     0.02,2,     0.76,2,    3.520,2,    1.710,2,    0.230,2,   2147.7,2,   2306.2,2,    5.690,2
18SN19940724,AO94,       37,        1,       28,   144290,2,19940827,0338,84.2450,35.0083,3935,    155.0,   0.5606,  34.6053,2,    314.4,4,   0.5542,  34.6200,2,    303.1,2,     6.89,2,    10.90,2,     0.02,2,     0.80,2,    3.480,2,    1.670,2,    0.250,2,   2143.6,2,   2301.3,2,    5.560,2
18SN19940724,AO94,       37,        1,       27,   144289,2,19940827,0338,84.2450,35.0083,3935,    185.3,   1.4793,  34.7694,2,    305.4,4,   1.4702,  34.7899,2,    302.0,2,     7.04,2,    11.67,2,     0.01,2,     0.83,2,    3.280,2,    1.820,2,    0.140,2,   2144.5,2,   2309.8,2,    6.260,2
18SN19940724,AO94,       37,        1,       26,   144288,2,19940827,0338,84.2450,35.0083,3935,    215.5,   1.8945,  34.8626,2,    299.2,4,   1.8830,  34.8678,2,    302.0,2,     7.14,2,    12.02,2,     0.01,2,     0.85,2,    3.250,2,    1.830,2,    0.790,2,   2146.0,2,   2316.2,2,    6.890,2
18SN19940724,AO94,       37,        1,       25,   144287,2,19940827,0338,84.2450,35.0083,3935,    255.7,   1.9755,  34.9110,2,    296.4,4,   1.9616,  34.9113,2,    303.5,2,     7.24,2,    12.30,2,     0.01,2,     0.86,2,    3.560,2,    2.000,2,    0.160,2,   2147.3,2,   2315.4,2,    6.990,2
18SN19940724,AO94,       37,        1,       24,   144286,2,19940827,0338,84.2450,35.0083,3935,    306.6,   1.7726,  34.9181,2,    296.2,4,   1.7563,  34.9206,2,    303.7,2,     7.34,2,    12.34,2,     0.01,2,     0.87,2,    3.050,2,    1.970,2,    0.590,2,   2147.8,2,   2304.7,3,    6.930,2
18SN19940724,AO94,       37,        1,       23,   144285,2,19940827,0338,84.2450,35.0083,3935,    356.9,   1.5215,  34.9223,2,    296.4,4,   1.5031,  34.9210,2,    303.1,2,     7.44,2,    12.50,2,     0.01,2,     0.88,2,    2.860,2,    1.610,2,    0.040,2,   2152.9,2,   2320.0,2,    6.150,2
18SN19940724,AO94,       37,        1,       22,   144284,2,19940827,0338,84.2450,35.0083,3935,    407.7,   1.2172,  34.9047,2,    297.7,4,   1.1970,  34.9074,2,    302.0,2,     7.59,2,    12.51,2,     0.01,2,     0.88,2,    2.190,2,    1.390,2,    0.600,2,   2152.2,2,   2317.8,2,    5.630,2
18SN19940724,AO94,       37,        1,       21,   144283,2,19940827,0338,84.2450,35.0083,3935,    458.0,   1.1508,  34.9225,2,    302.4,4,   1.1282,  34.9222,2,    302.1,2,     7.64,2,    12.59,2,     0.01,2,     0.89,2,    2.000,2,    1.250,2,    0.070,2,   2150.2,2,   2340.4,3,    5.750,2
18SN19940724,AO94,       37,        1,       20,   144282,2,19940827,0338,84.2450,35.0083,3935,    507.0,   0.9856,  34.9153,2,    304.9,4,   0.9611,-999.0000,9,    301.1,2,     7.74,2,    12.67,2,     0.01,2,     0.89,2,    1.710,2,    1.020,2,    0.250,2,   2152.9,2,   2312.1,2,    5.000,2
18SN19940724,AO94,       37,        1,       19,   144281,2,19940827,0338,84.2450,35.0083,3935,    555.7,   0.8768,  34.9201,2,    295.8,4,   0.8502,  34.9226,2,    302.8,2,     7.89,2,    12.76,2,     0.01,2,     0.90,2,    1.620,2,    1.050,2,    0.300,2,   2150.7,2,   2315.4,2,    4.490,2
18SN19940724,AO94,       37,        1,       18,   144280,2,19940827,0338,84.2450,35.0083,3935,    608.0,   0.6970,  34.9195,2,    304.8,4,   0.6685,  34.9184,2,    302.6,2,     7.99,2,    12.80,2,     0.01,2,     0.91,2,    1.600,2,    1.020,2,    0.410,2,   2149.6,2,   2312.7,2,    4.840,2
18SN19940724,AO94,       37,        1,       17,   144279,2,19940827,0338,84.2450,35.0083,3935,    710.8,   0.3502,  34.9122,2,    307.3,4,   0.3182,  34.9123,2,    302.9,2,     8.24,2,    12.81,2,     0.01,2,     0.91,2,    1.410,2,    0.920,2,    0.000,2,   2146.5,2,   2315.0,2,    4.300,2
18SN19940724,AO94,       37,        1,       16,   144278,2,19940827,0338,84.2450,35.0083,3935,    812.4,   0.0698,  34.9101,2,    304.7,4,   0.0344,-999.0000,9,    302.9,2,     8.54,2,    12.93,2,     0.01,2,     0.92,2,    1.110,2,    0.930,2,    0.200,2,   2154.9,2,   2318.7,2,    4.150,2
18SN19940724,AO94,       37,        1,       15,   144277,2,19940827,0338,84.2450,35.0083,3935,   1013.5,  -0.2308,  34.9148,2,    307.7,4,  -0.2743,  34.9150,2,    303.1,2,     9.29,2,    13.20,2,     0.01,2,     0.95,2,    0.720,2,    0.480,2,    0.000,2,   2157.4,2,   2314.5,2,    2.560,2
18SN19940724,AO94,       37,        1,       14,   144276,2,19940827,0338,84.2450,35.0083,3935,   1215.0,  -0.4330,  34.9182,2,    309.2,4,  -0.4853,  34.9176,2,    302.6,2,    10.25,2,    13.55,2,     0.01,2,     0.97,2,    0.520,2,    0.450,2,    0.270,2,   2168.2,2,   2327.1,2,    2.500,2
18SN19940724,AO94,       37,        1,       13,   144275,2,19940827,0338,84.2450,35.0083,3935,   1416.6,  -0.5748,  34.9205,2,    309.9,4,  -0.6366,  34.9210,2,    301.4,2,    11.10,2,    13.87,2,     0.00,2,     0.99,2,    0.350,2,    0.260,2,    0.160,2,   2167.2,2,   2312.6,2,    1.330,2
18SN19940724,AO94,       37,        1,       12,   144274,2,19940827,0338,84.2450,35.0083,3935,   1618.7,  -0.6563,  34.9225,2,    309.8,4,  -0.7288,  34.9221,2,    300.6,2,    11.70,2,    14.18,2,     0.00,2,     1.01,2, -999.000,9, -999.000,9, -999.000,9,   2161.4,2,   2333.1,3, -999.000,9
18SN19940724,AO94,       37,        1,       11,   144273,2,19940827,0338,84.2450,35.0083,3935,   1821.4,  -0.7255,  34.9228,2,    309.3,4,  -0.8093,  34.9213,2,    301.2,2,    11.95,2,    14.27,2,     0.00,2,     1.02,2,    0.230,2,    0.120,2,    0.000,2,   2163.8,2,   2318.4,2,    0.940,2
18SN19940724,AO94,       37,        1,       10,   144272,2,19940827,0338,84.2450,35.0083,3935,   2024.2,  -0.7658,  34.9243,2,    308.4,4,  -0.8620,  34.9241,2,    301.0,2,    12.20,2,    14.39,2,     0.00,2,     1.02,2,    0.200,2,    0.200,2,    0.270,2,   2156.7,2,   2316.5,2,    1.110,2
18SN19940724,AO94,       37,        1,        9,   144271,2,19940827,0338,84.2450,35.0083,3935,   2226.2,  -0.7891,  34.9256,2,    307.2,4,  -0.8983,  34.9253,2,    301.0,2,    12.34,2,    14.43,2,     0.00,2,     1.03,2,    0.170,2,    0.050,2,    0.000,2,   2159.7,2,   2327.6,2,    0.610,2
18SN19940724,AO94,       37,        1,        8,   144270,2,19940827,0338,84.2450,35.0083,3935,   2429.3,  -0.7997,  34.9284,2,    305.7,4,  -0.9229,  34.9284,2,    300.8,2,    12.54,2,    14.48,2,     0.00,2,     1.03,2,    0.170,2,    0.140,2,    0.600,2,   2158.0,2,   2314.3,2,    0.750,2
18SN19940724,AO94,       37,        1,        7,   144269,2,19940827,0338,84.2450,35.0083,3935,   2632.2,  -0.7979,  34.9307,2,    304.1,4,  -0.9360,  34.9306,2,    300.6,2,    12.59,2,    14.52,2,     0.00,2,     1.03,2,    0.140,2,    0.050,2,    0.000,2,   1930.6,4,   -999.0,9,    0.540,2
18SN19940724,AO94,       37,        1,        6,   144268,2,19940827,0338,84.2450,35.0083,3935,   2837.1,  -0.7905,  34.9344,2,    302.3,4,  -0.9444,  34.9341,2,    300.2,2,    12.73,2,    14.56,2,     0.00,2,     1.03,2,    0.130,2,    0.130,2,    0.240,2,   2158.0,2,   2356.5,3,    0.480,2
18SN19940724,AO94,       37,        1,        5,   144267,2,19940827,0338,84.2450,35.0083,3935,   3041.9,  -0.7766,  34.9360,2,    300.4,4,  -0.9472,  34.9371,2,    299.6,2,    12.83,2,    14.53,2,     0.00,2,     1.03,2,    0.120,2,    0.020,2,    0.000,2,   2159.2,2,   2316.8,2,    0.550,2
18SN19940724,AO94,       37,        1,        4,   144266,2,19940827,0338,84.2450,35.0083,3935,   3299.3,  -0.7540,  34.9392,2,    297.9,4,  -0.9466,  34.9390,2,    299.3,2,    13.02,2,    14.50,2,     0.00,2,     1.03,2,    0.130,2,    0.130,2,    0.490,2,   2158.4,2,   2317.8,2,    0.340,2
18SN19940724,AO94,       37,        1,        3,   144265,2,19940827,0338,84.2450,35.0083,3935,   3558.8,  -0.7220,  34.9412,2,    295.3,4,  -0.9381,  34.9416,2,    297.6,2,    13.17,2,    14.58,2,     0.00,2,     1.03,2, -999.000,9, -999.000,9, -999.000,9,   2160.3,2,   2316.1,2, -999.000,9
18SN19940724,AO94,       37,        1,        2,   144264,2,19940827,0338,84.2450,35.0083,3935,   3817.5,  -0.6970,  34.9414,2,    292.6,4,  -0.9374,  34.9418,2,    297.6,2,    13.22,2,    14.55,2,     0.01,2,     1.03,2,    0.060,2,    0.000,2,    0.100,2,   2158.5,2,   2320.3,2,    0.290,2
18SN19940724,AO94,       37,        1,        1,   144263,2,19940827,0338,84.2450,35.0083,3935,   4054.9,  -0.6735,  34.9417,2,    290.0,4,  -0.9372,  34.9430,2,    297.4,2,    13.16,2,    14.55,2,     0.00,2,     1.03,2,    0.090,2,    0.040,2,    0.000,2,   2159.2,2,   2321.1,2,    0.190,2