BOTTLE,20090717CCHDOSIODM
EXPOCODE,SECT_ID,STNNBR,CASTNO,SAMPNO,BTLNBR,BTLNBR_FLAG_W,DATE,TIME,LATITUDE,LONGITUDE,DEPTH,CTDPRS,CTDTMP,CTDSAL,CTDSAL_FLAG_W,CTDOXY,CTDOXY_FLAG_W,THETA,SALNTY,SALNTY_FLAG_W,OXYGEN,OXYGEN_FLAG_W,SILCAT,SILCAT_FLAG_W,NITRAT,NITRAT_FLAG_W,NITRIT,NITRIT_FLAG_W,PHSPHT,PHSPHT_FLAG_W,CFC-11,CFC-11_FLAG_W,CFC-12,CFC-12_FLAG_W,CFC113,CFC113_FLAG_W,TCARBN,TCARBN_FLAG_W,ALKALI,ALKALI_FLAG_W,CCL4,CCL4_FLAG_W
,,,,,,,,,,,,DBAR,ITS-90,PSS-78,,UMOL/KG,,DEG C,PSS-78,,UMOL/KG,,UMOL/KG,,UMOL/KG,,UMOL/KG,,UMOL/KG,,PMOL/KG,,PMOL/KG,,PMOL/KG,,UMOL/KG,,UMOL/KG,,PMOL/KG,
18SN19940724,AO94,       30,        1,       30,   143931,2,19940818,1933,88.0650,147.8333,2113,     12.3,  -1.7406,  32.6517,2,    363.1,4,  -1.7408,  32.6556,2,    374.1,2,     5.17,2,     2.96,2,     0.05,2,     0.53,2,    6.180,2,    3.020,2,    1.010,2,   2108.6,2,   -999.0,9,    8.830,2
18SN19940724,AO94,       30,        1,       29,   143930,2,19940818,1933,88.0650,147.8333,2113,     24.5,  -1.7404,  32.8085,2,    359.9,4,  -1.7408,  32.8091,2,    371.2,2,     5.36,2,     3.37,2,     0.05,2,     0.54,2,    6.120,2,    3.600,2,    0.960,2,   2118.0,2,   -999.0,9,    9.120,2
18SN19940724,AO94,       30,        1,       28,   143929,2,19940818,1933,88.0650,147.8333,2113,     37.6,  -1.7439,  32.8654,2,    358.7,4,  -1.7445,  32.8445,2,    369.5,2,     5.60,2,     3.57,2,     0.04,2,     0.55,2,    6.130,2,    3.000,2,    0.970,2,   2122.2,2,   -999.0,9,    8.270,2
18SN19940724,AO94,       30,        1,       27,   143928,2,19940818,1933,88.0650,147.8333,2113,     57.9,  -1.7111,  33.6762,2,    313.9,4,  -1.7122,  33.6397,2,    333.4,2,     8.09,2,     7.01,2,     0.01,2,     0.67,2,    5.190,2,    2.860,2,    0.690,2,   2157.6,2,   -999.0,9,    6.380,2
18SN19940724,AO94,       30,        1,       26,   143927,2,19940818,1933,88.0650,147.8333,2113,     73.0,  -1.6404,  33.9130,2,    232.4,4,  -1.6419,  33.8853,2,    320.8,2,     7.94,2,     8.04,2,     0.01,2,     0.71,2,    5.130,2,    2.470,2,    0.760,2,   2156.1,2,   -999.0,9,    6.110,2
18SN19940724,AO94,       30,        1,       25,   143926,2,19940818,1933,88.0650,147.8333,2113,     88.2,  -1.5337,  34.0741,2,    352.1,4,  -1.5356,  34.0491,2,    305.7,2,     8.56,2,     9.22,2,     0.01,2,     0.78,2,    4.330,2,    2.550,2,    0.600,2,   2160.2,2,   -999.0,9,    5.250,2
18SN19940724,AO94,       30,        1,       24,   143925,2,19940818,1933,88.0650,147.8333,2113,    108.6,  -1.2629,  34.2739,2,    311.5,4,  -1.2656,  34.2522,2,    303.6,2,     7.54,2,     9.52,2,     0.00,2,     0.77,2,    4.050,2,    2.160,2,    0.600,2,   2160.9,2,   -999.0,9,    5.240,2
18SN19940724,AO94,       30,        1,       23,   143924,2,19940818,1933,88.0650,147.8333,2113,    123.6,  -0.9499,  34.3701,2,    307.6,4,  -0.9533,  34.3548,2,    300.2,2,     7.92,2,    10.01,2,     0.00,2,     0.79,2,    3.370,2,    1.810,2,    0.370,2,   2159.2,2,   -999.0,9,    4.740,2
18SN19940724,AO94,       30,        1,       22,   143923,2,19940818,1933,88.0650,147.8333,2113,    143.8,  -0.6129,  34.4801,2,    304.2,4,  -0.6173,  34.4597,2,    300.7,2,     7.44,2,    10.28,2,     0.00,2,     0.79,2,    3.410,2,    2.010,2,    0.550,2,   2156.5,2,   -999.0,9,    5.180,2
18SN19940724,AO94,       30,        1,       21,   143922,2,19940818,1933,88.0650,147.8333,2113,    163.9,  -0.3007,  34.5695,2,    300.9,4,  -0.3062,  34.5606,2,    294.5,2,     8.40,2,    11.03,2,     0.00,2,     0.83,2,    2.640,2,    1.620,2,    0.420,2,   2157.0,2,   -999.0,9,    4.580,2
18SN19940724,AO94,       30,        1,       90,     -999,5,19940818,1933,88.0650,147.8333,2113,    184.1,  -0.0274,  34.6471,2,    297.9,4,  -0.0342,-999.0000,9,   -999.0,9,  -999.00,9,  -999.00,9,  -999.00,9,  -999.00,9, -999.000,9, -999.000,9, -999.000,9,   -999.0,9,   -999.0,9, -999.000,9
18SN19940724,AO94,       30,        1,       19,   143920,2,19940818,1933,88.0650,147.8333,2113,    204.5,   0.1416,  34.7005,2,    296.5,4,   0.1338,  34.7146,2,    293.8,2,     8.15,2,    11.87,2,     0.00,2,     0.86,2,    2.230,2,    1.160,2,    0.260,2,   2156.8,2,   -999.0,9,    4.400,2
18SN19940724,AO94,       30,        1,       18,   143919,2,19940818,1933,88.0650,147.8333,2113,    234.2,   0.3801,  34.7752,2,    295.5,4,   0.3705,  34.7700,2,    296.3,2,     7.62,2,    11.98,2,     0.00,2,     0.86,2,    2.340,2,    1.440,2,    0.450,2,   2153.4,2,   -999.0,9,    5.080,2
18SN19940724,AO94,       30,        1,       17,   143918,2,19940818,1933,88.0650,147.8333,2113,    265.0,   0.4722,  34.8096,2,    295.2,4,   0.4611,  34.8089,2,    297.2,2,     7.37,2,    12.13,2,     0.00,2,     0.86,2,    2.420,2,    1.380,2,    0.370,2,   2151.4,2,   -999.0,9,    5.160,2
18SN19940724,AO94,       30,        1,       16,   143917,2,19940818,1933,88.0650,147.8333,2113,    300.6,   0.5269,  34.8311,2,    295.2,4,   0.5141,  34.8312,2,    299.3,2,     7.23,2,    12.21,2,     0.00,2,     0.85,2,    2.410,2,    1.440,2,    0.280,2,   2154.4,2,   -999.0,9,    5.320,2
18SN19940724,AO94,       30,        1,       15,   143916,2,19940818,1933,88.0650,147.8333,2113,    335.7,   0.5383,  34.8480,2,    295.6,4,   0.5238,  34.8479,2,    300.0,2,     7.17,2,    12.28,2,     0.00,2,     0.86,2,    2.380,2,    1.190,2,    0.290,2,   2153.5,2,   -999.0,9,    5.330,2
18SN19940724,AO94,       30,        1,       14,   143915,2,19940818,1933,88.0650,147.8333,2113,    386.3,   0.4825,  34.8552,2,    294.9,4,   0.4659,  34.8533,2,    297.4,2,     7.60,2,    12.51,2,     0.00,2,     0.87,2,    1.710,2,    1.140,2,    0.320,2,   2152.4,2,   -999.0,9,    5.180,2
18SN19940724,AO94,       30,        1,       13,   143914,2,19940818,1933,88.0650,147.8333,2113,    437.2,   0.4720,  34.8663,2,    296.0,4,   0.4530,  34.8661,2,    297.7,2,     7.60,2,    12.59,2,     0.00,2,     0.88,2,    1.680,2,    1.080,2,    0.300,2,   2154.9,2,   -999.0,9,    4.420,2
18SN19940724,AO94,       30,        1,       12,   143913,2,19940818,1933,88.0650,147.8333,2113,    508.3,   0.3766,  34.8665,2,    298.0,4,   0.3546,  34.8665,2,    299.1,2,     7.64,2,    12.55,2,     0.00,2,     0.88,2,    1.540,2,    1.020,2,    0.270,2,   2156.1,2,   -999.0,9,    3.810,2
18SN19940724,AO94,       30,        1,       11,   143912,2,19940818,1933,88.0650,147.8333,2113,    609.7,   0.2481,  34.8757,2,    300.0,4,   0.2218,  34.8750,2,    297.9,2,     8.12,2,    12.78,2,     0.00,2,     0.90,2,    1.030,2,    0.490,2,    0.170,2,   2156.0,2,   -999.0,9,    3.070,2
18SN19940724,AO94,       30,        1,       10,   143911,2,19940818,1933,88.0650,147.8333,2113,    711.1,   0.1079,  34.8821,2,    300.9,4,   0.0774,  34.8821,2,    298.6,2,     8.21,2,    12.81,2,     0.00,2,     0.91,2,    0.880,2,    0.560,2,    0.190,2,   2156.7,2,   -999.0,9,    2.400,2
18SN19940724,AO94,       30,        1,        9,   143910,2,19940818,1933,88.0650,147.8333,2113,    863.1,  -0.0535,  34.8925,2,    300.2,4,  -0.0906,  34.8928,2,    299.9,2,     8.44,2,    12.89,2,     0.00,2,     0.92,2,    0.650,2,    0.530,2,    0.200,2,   2155.3,2,   -999.0,9,    2.550,2
18SN19940724,AO94,       30,        1,        8,   143909,2,19940818,1933,88.0650,147.8333,2113,   1015.8,  -0.1576,  34.9025,2,    299.6,4,  -0.2018,  34.9034,2,    299.1,2,     8.97,2,    13.08,2,     0.00,2,     0.93,2,    0.430,2,    0.310,2,    0.120,2,   2153.6,2,   -999.0,9,    1.410,2
18SN19940724,AO94,       30,        1,        7,   143908,2,19940818,1933,88.0650,147.8333,2113,   1168.2,  -0.2573,  34.9117,2,    298.6,4,  -0.3087,  34.9123,2,    299.5,2,     9.16,2,    13.23,2,     0.00,2,     0.95,2,    0.360,2,    0.240,2,    0.150,2,   2159.5,2,   -999.0,9,    1.630,2
18SN19940724,AO94,       30,        1,        6,   143907,2,19940818,1933,88.0650,147.8333,2113,   1381.4,  -0.3538,  34.9240,2,    295.6,4,  -0.4162,  34.9248,2,    297.4,2,    10.30,2,    13.65,2,     0.00,2,     0.97,2,    0.280,2,    0.140,2,    0.170,2,   2160.1,2,   -999.0,9,    1.030,2
18SN19940724,AO94,       30,        1,        5,   143906,2,19940818,1933,88.0650,147.8333,2113,   1595.1,  -0.4192,  34.9376,2,    292.4,4,  -0.4934,  34.9376,2,    292.4,2,    12.17,2,    14.18,2,     0.00,2,     1.01,2,    0.190,2,    0.160,2,    0.160,2,   2160.6,2,   -999.0,9,    0.680,2
18SN19940724,AO94,       30,        1,        4,   143905,2,19940818,1933,88.0650,147.8333,2113,   1778.3,  -0.4165,  34.9448,2,    289.9,4,  -0.5021,  34.9449,2,    289.8,2,    13.03,2,    14.37,2,     0.00,2,     1.03,2,    0.150,2,    0.010,2,    0.160,2,   2161.0,2,   -999.0,9,    0.330,2
18SN19940724,AO94,       30,        1,        3,   143904,2,19940818,1933,88.0650,147.8333,2113,   1930.5,  -0.4186,  34.9510,2,    288.3,4,  -0.5141,  34.9491,2,    287.4,2,    13.80,2,    14.44,2,     0.00,2,     1.04,2,    0.130,2,    0.000,2,    0.070,2,   2159.6,2,   -999.0,9,    0.180,2
18SN19940724,AO94,       30,        1,        2,   143903,2,19940818,1933,88.0650,147.8333,2113,   2057.6,  -0.4163,  34.9530,2,    287.7,4,  -0.5204,  34.9510,2,    287.3,2,    13.89,2,    14.55,2,     0.00,2,     1.03,2,    0.120,2,    0.000,2,    0.080,2,   2162.4,2,   -999.0,9,    0.150,2
18SN19940724,AO94,       30,        1,        1,   143902,2,19940818,1933,88.0650,147.8333,2113,   2159.4,  -0.4097,  34.9523,2,    287.1,4,  -0.5209,  34.9528,2,    287.2,2,    13.88,2,    14.52,2,     0.00,2,     1.03,2,    0.040,2,    0.080,2,    0.160,2,   2162.2,2,   -999.0,9,    0.060,2
18SN19940724,AO94,       30,        1,       20,   143921,4,19940818,1933,88.0650,147.8333,2113,   2159.4,  -0.4097,  34.9523,2,    287.1,4,  -0.5209,  34.9505,2,    287.1,2,    13.83,2,    14.52,2,     0.00,2,     1.03,2, -999.000,9, -999.000,9, -999.000,9,   2160.6,2,   -999.0,9, -999.000,9
18SN19940724,AO94,       31,        1,       36,   143959,2,19940819,1622,88.7900,142.7367,1020,     11.1,  -1.7401,  32.5643,2,    316.1,4,  -1.7402,  32.5758,2,    373.8,2,     5.18,2,     2.97,2,     0.04,2,     0.54,2,    6.200,2,    3.280,2,    1.200,2,   2106.9,2,   2251.2,2,    9.800,2
18SN19940724,AO94,       31,        1,       35,   143958,2,19940819,1622,88.7900,142.7367,1020,     16.1,  -1.7440,  32.6760,2,    316.3,4,  -1.7442,  32.7005,2,    373.2,2,     4.91,2,     3.17,2,     0.05,2,     0.53,2,    5.990,2,    3.370,2,    1.150,2,   2111.2,2,   2259.7,2,    9.310,2
18SN19940724,AO94,       31,        1,       34,   143957,2,19940819,1622,88.7900,142.7367,1020,     26.2,  -1.7670,  33.1486,2,    314.9,4,  -1.7675,  33.1638,2,    370.5,2,     4.28,2,     3.76,2,     0.06,2,     0.48,2,    6.130,2,    3.210,2,    0.950,2,   2121.5,2,   2275.4,2,    9.200,2
18SN19940724,AO94,       31,        1,       33,   143956,2,19940819,1622,88.7900,142.7367,1020,     36.5,  -1.7747,  33.2971,2,    314.3,4,  -1.7754,  33.3343,2,    364.0,2,     4.87,2,     4.49,2,     0.05,2,     0.52,2,    5.950,2,    3.360,2,    1.120,2,   2135.1,2,   2283.0,2,    8.750,2
18SN19940724,AO94,       31,        1,       32,   143955,2,19940819,1622,88.7900,142.7367,1020,     46.6,  -1.7973,  33.5295,2,    313.8,4,  -1.7982,  33.5462,2,    365.3,2,     4.19,2,     4.58,2,     0.04,2,     0.49,2,    6.120,2,    3.200,2,    0.830,2,   2137.9,2,   2295.1,2,    8.930,2
18SN19940724,AO94,       31,        1,       23,   143954,2,19940819,1622,88.7900,142.7367,1020,     57.0,  -1.8029,  33.6847,2,    313.0,4,  -1.8040,  33.6879,2,    358.4,2,     4.18,2,     5.15,2,     0.02,2,     0.50,2, -999.000,9, -999.000,9, -999.000,9,   2138.4,2,   2296.9,2, -999.000,9
18SN19940724,AO94,       31,        1,       22,   143953,2,19940819,1622,88.7900,142.7367,1020,     67.2,  -1.6267,  33.9876,4,   -999.0,5,  -1.6281,  33.9010,2,    339.9,2,     4.62,2,     6.78,2,     0.02,2,     0.59,2,    5.440,2,    2.860,2,    0.630,2,   2139.3,2,   2296.3,2,    6.660,2
18SN19940724,AO94,       31,        1,       21,   143952,2,19940819,1622,88.7900,142.7367,1020,     82.2,  -1.4294,  34.1317,2,    310.7,4,  -1.4313,  34.1299,2,    318.5,2,     5.46,2,     8.49,2,     0.01,2,     0.69,2,    4.550,2,    2.600,2,    0.720,2,   2142.2,2,   2293.7,2,    5.990,2
18SN19940724,AO94,       31,        1,       20,   143951,2,19940819,1622,88.7900,142.7367,1020,     97.2,  -1.0887,  34.2724,2,    309.3,4,  -1.0913,  34.2645,2,    311.3,2,     5.80,2,     9.24,2,     0.01,2,     0.72,2,    4.130,2,    2.210,2,    0.350,2,   2144.9,2,   2291.8,2,    5.030,2
18SN19940724,AO94,       31,        1,       19,   143950,2,19940819,1622,88.7900,142.7367,1020,    117.2,  -0.5460,  34.4124,2,    308.0,4,  -0.5497,  34.4016,2,    307.8,2,     5.88,2,     9.76,2,     0.01,2,     0.74,2,    3.770,2,    2.110,2,    0.630,2,   2147.5,2,   2298.9,2,    5.510,2
18SN19940724,AO94,       31,        1,       18,   143949,2,19940819,1622,88.7900,142.7367,1020,    147.2,   0.2414,  34.5830,2,    305.7,4,   0.2358,  34.5713,2,    303.1,2,     6.17,2,    10.63,2,     0.01,2,     0.78,2,    3.510,2,    2.020,2,    0.310,2,   2150.3,2,   2305.5,2,    6.000,2
18SN19940724,AO94,       31,        1,       17,   143948,2,19940819,1622,88.7900,142.7367,1020,    177.1,   1.0513,  34.7435,2,    304.2,4,   1.0432,  34.7388,2,    301.0,2,     6.10,2,    11.54,2,     0.01,2,     0.83,2,    3.690,2,    2.170,2,    0.640,2,   2150.2,2,   2312.4,2,    6.340,2
18SN19940724,AO94,       31,        1,       16,   143947,2,19940819,1622,88.7900,142.7367,1020,    207.0,   1.3523,  34.8120,2,    304.1,4,   1.3422,  34.8102,2,    301.9,2,     6.08,2,    11.85,2,     0.01,2,     0.84,2,    3.810,2,    2.110,2,    0.320,2,   2151.8,2,   2315.0,2,    6.530,2
18SN19940724,AO94,       31,        1,       15,   143946,2,19940819,1622,88.7900,142.7367,1020,    222.3,   1.3356,  34.8246,2,    305.4,4,   1.3248,  34.8204,2,    301.5,2,     6.26,2,    11.93,2,     0.01,2,     0.84,2,    3.660,2,    2.070,2,    0.670,2,   2150.9,2,   2314.9,2,    6.480,2
18SN19940724,AO94,       31,        1,       14,   143945,2,19940819,1622,88.7900,142.7367,1020,    247.3,   1.5195,  34.8685,2,    304.9,4,   1.5070,  34.8671,2,    303.7,2,     6.20,2,    12.09,2,     0.00,2,     0.85,2,    3.940,2,    2.180,2,    0.410,2,   2148.4,2,   2315.0,2,    6.580,2
18SN19940724,AO94,       31,        1,       13,   143944,2,19940819,1622,88.7900,142.7367,1020,    272.2,   1.3172,  34.8641,2,    306.1,4,   1.3039,  34.8632,2,    303.3,2,     6.23,2,    12.13,2,     0.00,2,     0.85,2,    3.650,2,    2.060,2,    0.640,2,   2151.5,2,   2312.4,2,    6.840,2
18SN19940724,AO94,       31,        1,       12,   143943,2,19940819,1622,88.7900,142.7367,1020,    302.5,   1.1321,  34.8598,2,    306.4,4,   1.1177,  34.8575,2,    302.7,2,     6.36,2,    12.17,2,     0.00,2,     0.86,2,    3.480,2,    2.020,2,    0.240,2,   2153.3,2,   2316.6,2,    6.730,2
18SN19940724,AO94,       31,        1,       11,   143942,2,19940819,1622,88.7900,142.7367,1020,    332.5,   1.1218,  34.8771,2,    305.7,4,   1.1059,  34.8760,2,    303.8,2,     6.40,2,    12.28,2,     0.00,2,     0.87,2,    3.520,2,    2.000,2,    0.630,2,   2155.8,2,   2318.1,2,    6.740,2
18SN19940724,AO94,       31,        1,       10,   143941,2,19940819,1622,88.7900,142.7367,1020,    372.5,   0.9837,  34.8762,2,    306.1,4,   0.9661,  34.8732,2,    304.3,2,     6.43,2,    12.29,2,     0.00,2,     0.87,2,    3.570,2,    1.990,2,    0.330,2,   2155.8,2,   2317.4,2,    6.250,2
18SN19940724,AO94,       31,        1,        9,   143940,2,19940819,1622,88.7900,142.7367,1020,    423.1,   0.7754,  34.8706,2,    306.4,4,   0.7560,  34.8667,2,    304.1,2,     6.61,2,    12.25,2,     0.00,2,     0.87,2,    3.450,2,    2.150,2,    0.610,2,   2158.4,2,   2316.0,2,    6.780,2
18SN19940724,AO94,       31,        1,        8,   143939,2,19940819,1622,88.7900,142.7367,1020,    473.5,   0.6909,  34.8793,2,    305.9,4,   0.6693,  34.8793,2,    303.9,2,     6.75,2,    12.40,2,     0.00,2,     0.88,2,    3.130,2,    1.790,2,    0.160,2,   2161.5,2,   2317.9,2,    5.830,2
18SN19940724,AO94,       31,        1,        7,   143938,2,19940819,1622,88.7900,142.7367,1020,    534.0,   0.5377,  34.8783,2,    306.0,4,   0.5137,  34.8781,2,    304.8,2,     6.78,2,    12.32,2,     0.00,2,     0.88,2,    3.150,2,    1.810,2,    0.550,2,   2158.6,2,   2317.7,2,    6.320,2
18SN19940724,AO94,       31,        1,        6,   143937,2,19940819,1622,88.7900,142.7367,1020,    604.1,   0.2873,  34.8720,2,    306.3,4,   0.2611,  34.8716,2,    306.6,2,     6.81,2,    12.32,2,     0.00,2,     0.88,2,    3.440,2,    1.940,2,    0.290,2,   2161.8,2,   2317.3,2,    6.430,2
18SN19940724,AO94,       31,        1,        5,   143936,2,19940819,1622,88.7900,142.7367,1020,    704.5,   0.1181,  34.8752,2,    305.8,4,   0.0879,  34.8742,2,    306.9,2,     7.00,2,    12.36,2,     0.00,2,     0.88,2,    3.380,2,    2.000,2,    0.630,2,   2164.5,2,   2319.0,2,    6.860,2
18SN19940724,AO94,       31,        1,        4,   143935,2,19940819,1622,88.7900,142.7367,1020,    808.7,  -0.0268,  34.8823,2,    305.4,4,  -0.0613,  34.8822,2,    306.2,2,     7.38,2,    12.56,2,     0.00,2,     0.90,2,    2.840,2,    1.680,2,    0.240,2,   2166.6,2,   2316.8,2,    5.830,2
18SN19940724,AO94,       31,        1,        3,   143934,2,19940819,1622,88.7900,142.7367,1020,    881.6,  -0.1028,  34.8875,2,    305.1,4,  -0.1404,  34.8876,2,    305.3,2,     7.61,2,    12.68,2,     0.00,2,     0.91,2,    2.700,2,    1.600,2,    0.500,2,   2168.4,2,   2316.6,2,    6.090,2
18SN19940724,AO94,       31,        1,        2,   143933,2,19940819,1622,88.7900,142.7367,1020,    956.9,  -0.1930,  34.8939,2,    304.9,4,  -0.2338,  34.8947,2,    304.7,2,     7.99,2,    12.87,2,     0.00,2,     0.92,2,    2.240,2,    1.370,2,    0.300,2,   2167.6,2,   2320.6,2,    5.410,2
18SN19940724,AO94,       31,        1,        1,   143932,2,19940819,1622,88.7900,142.7367,1020,   1022.7,  -0.2718,  34.9008,2,    304.7,4,  -0.3154,  34.9004,2,    303.8,2,     8.43,2,    13.11,2,     0.00,2,     0.93,2,    2.100,2,    1.190,2,    0.270,2,   2167.4,2,   2318.7,2,    4.940,2