BOTTLE,20090717CCHDOSIODM
EXPOCODE,SECT_ID,STNNBR,CASTNO,SAMPNO,BTLNBR,BTLNBR_FLAG_W,DATE,TIME,LATITUDE,LONGITUDE,DEPTH,CTDPRS,CTDTMP,CTDSAL,CTDSAL_FLAG_W,CTDOXY,CTDOXY_FLAG_W,THETA,SALNTY,SALNTY_FLAG_W,OXYGEN,OXYGEN_FLAG_W,SILCAT,SILCAT_FLAG_W,NITRAT,NITRAT_FLAG_W,NITRIT,NITRIT_FLAG_W,PHSPHT,PHSPHT_FLAG_W,CFC-11,CFC-11_FLAG_W,CFC-12,CFC-12_FLAG_W,CFC113,CFC113_FLAG_W,TCARBN,TCARBN_FLAG_W,ALKALI,ALKALI_FLAG_W,CCL4,CCL4_FLAG_W
,,,,,,,,,,,,DBAR,ITS-90,PSS-78,,UMOL/KG,,DEG C,PSS-78,,UMOL/KG,,UMOL/KG,,UMOL/KG,,UMOL/KG,,UMOL/KG,,PMOL/KG,,PMOL/KG,,PMOL/KG,,UMOL/KG,,UMOL/KG,,PMOL/KG,
18SN19940724,AO94,       29,        1,       36,   143901,2,19940817,0221,87.1550,160.7083,3891,     17.6,  -1.6925,  32.0130,2,    317.8,4,  -1.6928,  32.0993,2,    377.6,2,     5.66,2,     2.15,2,     0.04,2,     0.65,2,    5.990,2,    3.050,2,    1.000,2,   2096.4,2,   2235.6,2,    9.220,2
18SN19940724,AO94,       29,        1,       35,   143900,2,19940817,0221,87.1550,160.7083,3891,     32.7,  -1.7312,  32.6616,2,    298.8,4,  -1.7317,  32.7161,2,    367.7,2,     5.85,2,     3.46,2,     0.03,2,     0.64,2,    6.080,2,    3.200,2,    1.170,2,   2130.3,2,   2267.7,2,    9.180,2
18SN19940724,AO94,       29,        1,       34,   143899,2,19940817,0221,87.1550,160.7083,3891,     52.9,  -1.7743,  33.0678,2,    297.3,4,  -1.7752,  33.1675,2,    355.8,2,     6.14,2,     4.78,2,     0.01,2,     0.62,2,    5.900,2,    2.960,2,    0.950,2,   2145.4,2,   2287.1,2,    7.150,2
18SN19940724,AO94,       29,        1,       33,   143898,2,19940817,0221,87.1550,160.7083,3891,     72.8,  -1.7618,  33.6822,2,    317.0,4,  -1.7632,  33.7223,2,    341.3,2,     5.87,2,     6.41,2,     0.01,2,     0.61,2,    5.340,2,    2.510,2,    0.870,2,   2155.8,2,   2291.2,2,    6.750,2
18SN19940724,AO94,       29,        1,       32,   143897,2,19940817,0221,87.1550,160.7083,3891,     93.1,  -1.6439,  33.9579,2,    285.4,4,  -1.6458,  33.9814,2,    321.7,2,     6.57,2,     8.03,2,     0.01,2,     0.70,2,    4.800,2,    2.260,2,    0.670,2,   2152.5,2,   2293.0,2,    5.320,2
18SN19940724,AO94,       29,        1,       31,   143896,2,19940817,0221,87.1550,160.7083,3891,    113.8,  -1.4232,  34.1708,2,    293.7,4,  -1.4259,  34.1930,2,    303.7,2,     7.74,2,     9.49,2,     0.01,2,     0.79,2,    3.870,2,    1.990,2,    0.620,2,   2161.6,2,   2297.1,2,    4.920,2
18SN19940724,AO94,       29,        1,       30,   143895,2,19940817,0221,87.1550,160.7083,3891,    133.6,  -1.1782,  34.3016,2,    297.3,4,  -1.1816,  34.3196,2,    302.7,2,     7.36,2,     9.77,2,     0.01,2,     0.79,2,    3.550,2,    1.800,2,    0.390,2,   2161.7,2,   2298.6,2,    4.590,2
18SN19940724,AO94,       29,        1,       29,   143894,2,19940817,0221,87.1550,160.7083,3891,    153.6,  -0.7218,  34.4411,2,    297.8,4,  -0.7264,  34.4402,2,    300.0,2,     7.50,2,    10.26,2,     0.00,2,     0.81,2,    3.180,2,    1.430,2,    0.490,2,   2161.2,2,   2297.5,2,    4.770,2
18SN19940724,AO94,       29,        1,       28,   143893,2,19940817,0221,87.1550,160.7083,3891,    183.9,  -0.2978,  34.5634,2,    297.7,4,  -0.3040,  34.5716,2,    298.4,2,     7.32,2,    10.86,2,     0.00,2,     0.83,2,    2.700,2,    1.470,2,    0.320,2,   2166.2,2,   2301.0,2,    4.410,2
18SN19940724,AO94,       29,        1,       27,   143892,2,19940817,0221,87.1550,160.7083,3891,    204.0,  -0.0880,  34.6284,2,    298.1,4,  -0.0954,  34.6350,2,    297.3,2,     7.30,2,    11.23,2,     0.00,2,     0.84,2,    2.670,2,    1.370,2,    0.470,2,   2156.4,2,   2303.1,2,    4.800,2
18SN19940724,AO94,       29,        1,       26,   143891,2,19940817,0221,87.1550,160.7083,3891,    229.1,   0.2374,  34.7229,2,    298.3,4,   0.2284,  34.7286,2,    296.5,2,     7.44,2,    11.87,2,     0.00,2,     0.86,2,    2.630,2,    1.460,2,    0.420,2,   2156.5,2,   2302.3,2,    4.750,2
18SN19940724,AO94,       29,        1,       25,   143890,2,19940817,0221,87.1550,160.7083,3891,    254.6,   0.4248,  34.7840,2,    298.7,4,   0.4143,  34.7934,2,    297.4,2,     7.22,2,    12.24,2,     0.00,2,     0.88,2,    2.480,2,    1.260,2,    0.530,2,   2154.4,2,   2308.7,2,    5.150,2
18SN19940724,AO94,       29,        1,       24,   143889,2,19940817,0221,87.1550,160.7083,3891,    279.4,   0.4903,  34.8091,2,    299.7,4,   0.4785,  34.8135,2,    297.9,2,     7.20,2,    12.24,2,     0.00,2,     0.88,2,    2.170,2,    1.240,2,    0.210,2,   2151.9,2,   2310.1,2,    4.630,2
18SN19940724,AO94,       29,        1,       23,   143888,2,19940817,0221,87.1550,160.7083,3891,    304.5,   0.5206,  34.8268,2,    300.1,4,   0.5076,  34.8281,2,    298.1,3,     7.23,2,    12.32,2,     0.00,2,     0.89,2,    2.400,2,    1.170,2,    0.330,2,   2154.8,2,   2314.2,2,    5.080,2
18SN19940724,AO94,       29,        1,       22,   143887,2,19940817,0221,87.1550,160.7083,3891,    354.4,   0.5203,  34.8462,2,    300.1,4,   0.5050,  34.8470,2,    298.5,2,     7.32,2,    12.44,2,     0.00,2,     0.90,2,    2.050,2,    1.170,2,    0.410,2,   2156.2,2,   2319.0,2,    4.770,2
18SN19940724,AO94,       29,        1,       21,   143886,2,19940817,0221,87.1550,160.7083,3891,    405.2,   0.4750,  34.8522,2,    299.5,4,   0.4575,  34.8526,2,    295.5,2,     7.81,2,    12.72,2,     0.00,2,     0.91,2,    1.560,2,    0.890,2,    0.470,2,   2153.9,2,   2318.4,2,    3.990,2
18SN19940724,AO94,       29,        1,       20,   143885,2,19940817,0221,87.1550,160.7083,3891,    455.7,   0.4633,  34.8654,2,    299.3,4,   0.4435,  34.8665,2,    296.6,2,     7.84,2,    12.80,2,     0.00,2,     0.92,2,    1.380,2,    0.780,2,    0.150,2,   2155.6,2,   2318.5,2,    3.500,2
18SN19940724,AO94,       29,        1,       19,   143884,2,19940817,0221,87.1550,160.7083,3891,    505.8,   0.4308,  34.8688,2,    299.0,4,   0.4087,  34.8705,2,    297.6,2,     7.88,2,    12.75,2,     0.00,2,     0.92,2,    1.260,2,    0.630,2,    0.230,2,   2156.4,2,   2311.4,2,    3.580,2
18SN19940724,AO94,       29,        1,       18,   143883,2,19940817,0221,87.1550,160.7083,3891,    556.8,   0.3388,  34.8753,2,    298.4,4,   0.3146,  34.8764,2,    298.6,2,     7.86,2,    12.79,2,     0.00,2,     0.92,2,    1.230,2,    0.710,2,    0.270,2,   2153.1,2,   2308.8,2,    3.280,2
18SN19940724,AO94,       29,        1,       17,   143882,2,19940817,0221,87.1550,160.7083,3891,    606.4,   0.2772,  34.8767,2,    298.1,4,   0.2509,-999.0000,5,    298.4,2,     7.99,2,    12.83,2,     0.00,2,     0.92,2,    0.960,2,    0.530,2,    0.350,2,   2156.6,2,   2317.2,2,    3.110,2
18SN19940724,AO94,       29,        1,       16,   143881,2,19940817,0221,87.1550,160.7083,3891,    707.1,   0.1120,  34.8821,2,    297.2,4,   0.0817,  34.8841,2,    298.7,2,     8.28,2,    12.95,2,     0.00,2,     0.94,2,    0.820,2,    0.510,2,    0.090,2,   2154.4,2,   2315.1,2,    2.580,2
18SN19940724,AO94,       29,        1,       15,   143880,2,19940817,0221,87.1550,160.7083,3891,    808.4,  -0.0230,  34.8853,2,    296.9,4,  -0.0575,  34.8886,2,    300.7,2,     8.16,2,    12.91,2,     0.00,2,     0.93,2,    0.980,2,    0.460,2,    0.170,2,   2150.7,2,   2315.7,2,    3.070,2
18SN19940724,AO94,       29,        1,       14,   143879,2,19940817,0221,87.1550,160.7083,3891,   1010.5,  -0.1707,  34.9004,2,    296.2,4,  -0.2145,  34.9014,2,    301.1,2,     8.65,2,    13.03,2,     0.00,2,     0.95,2,    0.620,2,    0.400,2,    0.230,2,   2148.6,2,   2314.3,2,    2.340,2
18SN19940724,AO94,       29,        1,       13,   143878,2,19940817,0221,87.1550,160.7083,3891,   1212.1,  -0.2740,  34.9148,2,    295.7,4,  -0.3277,  34.9140,2,    299.6,2,     9.40,2,    13.39,2,     0.00,2,     0.98,2,    0.300,2,    0.210,2,    0.320,2,   2156.0,2,   2321.5,2,    1.510,2
18SN19940724,AO94,       29,        1,       12,   143877,2,19940817,0221,87.1550,160.7083,3891,   1365.6,  -0.3388,  34.9241,2,    295.5,4,  -0.4004,  34.9245,2,    297.6,2,    10.24,2,    13.79,2,     0.00,2,     1.00,2,    0.240,2,    0.150,2,    0.110,2,   2156.8,2,   2318.6,2,    1.150,2
18SN19940724,AO94,       29,        1,       11,   143876,2,19940817,0221,87.1550,160.7083,3891,   1518.1,  -0.3721,  34.9337,2,    295.3,4,  -0.4423,  34.9342,2,    294.8,2,    11.19,2,    14.03,2,     0.00,2,     1.02,2,    0.080,2,    0.040,2,    0.240,2,   -999.0,9,   -999.0,9,    0.650,2
18SN19940724,AO94,       29,        1,       10,   143875,2,19940817,0221,87.1550,160.7083,3891,   1772.5,  -0.4046,  34.9442,2,    294.9,4,  -0.4901,  34.9444,2,    291.2,2,    12.54,2,    14.39,2,     0.00,2,     1.05,2,    0.020,2,    0.030,2,    0.210,2,   2156.6,2,   2323.5,2,    0.140,2
18SN19940724,AO94,       29,        1,        9,   143874,2,19940817,0221,87.1550,160.7083,3891,   2028.0,  -0.4115,  34.9491,2,    294.4,4,  -0.5136,  34.9537,3,    288.7,2,    13.34,2,    14.55,2,     0.00,2,     1.05,2,    0.030,2,    0.060,2,    0.250,2,   2161.1,2,   2323.1,2,    0.040,2
18SN19940724,AO94,       29,        1,        8,   143873,2,19940817,0221,87.1550,160.7083,3891,   2283.0,  -0.4029,  34.9523,2,    293.9,4,  -0.5230,  34.9509,3,    287.6,2,    13.72,2,    14.67,2,     0.00,2,     1.05,2,    0.040,2,    0.000,2,    0.070,2,   2161.6,2,   2325.0,2,    0.220,2
18SN19940724,AO94,       29,        1,        7,   143872,2,19940817,0221,87.1550,160.7083,3891,   2538.0,  -0.3886,  34.9530,2,    293.2,4,  -0.5279,  34.9529,2,    287.6,2,    13.85,2,    14.62,2,     0.00,2,     1.06,2,    0.020,2,    0.000,2,    0.140,2,   2163.9,2,   2321.3,2,    0.020,2
18SN19940724,AO94,       29,        1,        6,   143871,2,19940817,0221,87.1550,160.7083,3891,   2793.4,  -0.3756,  34.9535,2,    292.5,4,  -0.5351,  34.9535,2,    288.2,2,    13.62,2,    14.62,2,     0.00,2,     1.05,2,    0.030,2,    0.000,2,    0.160,2,   2160.5,2,   2321.4,2,    0.020,2
18SN19940724,AO94,       29,        1,        5,   143870,2,19940817,0221,87.1550,160.7083,3891,   3049.7,  -0.3606,  34.9533,2,    291.8,4,  -0.5415,  34.9529,2,    288.7,2,    13.40,2,    14.58,2,     0.00,2,     1.04,2,    0.020,2,    0.040,2,    0.230,2,   -999.0,9,   -999.0,9,    0.000,2
18SN19940724,AO94,       29,        1,        4,   143869,2,19940817,0221,87.1550,160.7083,3891,   3305.7,  -0.3436,  34.9533,2,    291.0,4,  -0.5470,  34.9537,2,    289.8,2,    13.12,2,    14.54,2,     0.00,2,     1.04,2,    0.000,2,    0.010,2,    0.070,2,   2164.0,2,   2327.3,2,    0.010,2
18SN19940724,AO94,       29,        1,        3,   143868,2,19940817,0221,87.1550,160.7083,3891,   3562.1,  -0.3205,  34.9532,2,    290.3,4,  -0.5475,  34.9521,2,    290.0,2,    13.05,2,    14.49,2,     0.00,2,     1.05,2,    0.010,2,    0.000,2,    0.130,2,   2160.6,2,   2327.3,2,    0.000,2
18SN19940724,AO94,       29,        1,        2,   143867,2,19940817,0221,87.1550,160.7083,3891,   3818.6,  -0.2953,  34.9533,2,    289.5,4,  -0.5471,  34.9536,2,    290.1,2,    12.97,2,    14.49,2,     0.00,2,     1.04,2,    0.030,2,    0.000,2,    0.140,2,   -999.0,9,   -999.0,9,    0.040,2
18SN19940724,AO94,       29,        1,        1,   143866,2,19940817,0221,87.1550,160.7083,3891,   4013.4,  -0.2761,  34.9539,2,    288.8,4,  -0.5474,  34.9538,2,    290.0,2,    12.90,2,    14.49,2,     0.00,2,     1.04,2,    0.010,2,    0.030,2,    0.210,2,   2160.5,2,   2322.2,2,    0.000,2