BOTTLE,20090717CCHDOSIODM
EXPOCODE,SECT_ID,STNNBR,CASTNO,SAMPNO,BTLNBR,BTLNBR_FLAG_W,DATE,TIME,LATITUDE,LONGITUDE,DEPTH,CTDPRS,CTDTMP,CTDSAL,CTDSAL_FLAG_W,CTDOXY,CTDOXY_FLAG_W,THETA,SALNTY,SALNTY_FLAG_W,OXYGEN,OXYGEN_FLAG_W,SILCAT,SILCAT_FLAG_W,NITRAT,NITRAT_FLAG_W,NITRIT,NITRIT_FLAG_W,PHSPHT,PHSPHT_FLAG_W,CFC-11,CFC-11_FLAG_W,CFC-12,CFC-12_FLAG_W,CFC113,CFC113_FLAG_W,TCARBN,TCARBN_FLAG_W,ALKALI,ALKALI_FLAG_W,CCL4,CCL4_FLAG_W
,,,,,,,,,,,,DBAR,ITS-90,PSS-78,,UMOL/KG,,DEG C,PSS-78,,UMOL/KG,,UMOL/KG,,UMOL/KG,,UMOL/KG,,UMOL/KG,,PMOL/KG,,PMOL/KG,,PMOL/KG,,UMOL/KG,,UMOL/KG,,PMOL/KG,
18SN19940724,AO94,       35,        1,       36,   144094,2,19940822,1515,89.9983,66.9917,4161,     12.7,  -1.7062,  31.8924,2,    383.5,4,  -1.7064,  31.8931,2,    379.1,2,     6.81,2,     2.28,2,     0.05,2,     0.69,2,    6.270,2,    3.170,2,    0.720,2,   2101.5,2,   2233.0,2,    9.330,2
18SN19940724,AO94,       35,        1,       35,   144093,2,19940822,1515,89.9983,66.9917,4161,     27.8,  -1.7114,  32.2580,2,    375.7,4,  -1.7118,  32.1087,2,    376.4,2,     7.15,2,     2.74,2,     0.06,2,     0.70,2,    6.020,2,    2.830,2,    0.760,2,   2113.8,2,   2243.1,2,    8.030,2
18SN19940724,AO94,       35,        1,       34,   144092,2,19940822,1515,89.9983,66.9917,4161,     48.2,  -1.7482,  33.2880,2,    346.2,4,  -1.7490,  33.3037,2,    347.4,2,     8.47,2,     5.93,2,  -999.00,5,     0.67,2,    5.690,2,    2.670,2,    0.610,2,   2153.8,2,   2283.6,2,    7.690,2
18SN19940724,AO94,       35,        1,       33,   144091,2,19940822,1515,89.9983,66.9917,4161,     68.3,  -1.7241,  33.7663,2,    280.9,4,  -1.7254,  33.7466,2,    339.3,2,     7.19,2,     6.67,2,  -999.00,5,     0.64,2,    5.180,2,    2.270,2,    0.430,2,   2157.5,2,   2291.3,2,    6.190,2
18SN19940724,AO94,       35,        1,       32,   144090,2,19940822,1515,89.9983,66.9917,4161,     83.6,  -1.6752,  33.9449,2,    293.7,4,  -1.6769,  33.9327,2,    335.7,2,     5.87,2,     7.05,2,     0.01,2,     0.62,2,    5.230,2,    2.440,2,    0.550,2,   2151.1,2,   2295.0,2,    6.880,2
18SN19940724,AO94,       35,        1,       31,   144089,2,19940822,1515,89.9983,66.9917,4161,    103.8,  -1.3481,  34.1768,2,    323.1,4,  -1.3505,  34.1614,2,    314.2,2,     6.31,2,     8.86,2,     0.00,2,     0.72,2,    4.400,2,    2.000,2,    0.420,2,   2152.9,2,   2290.8,2,    5.900,2
18SN19940724,AO94,       35,        1,       30,   144088,2,19940822,1515,89.9983,66.9917,4161,    115.9,  -1.0358,  34.2852,2,    318.6,4,  -1.0389,  34.2799,2,    312.2,2,     5.72,2,     9.13,2,     0.00,2,     0.72,2,    4.110,2,    1.770,2,    0.380,2,   2148.2,2,   2294.3,2,    4.960,2
18SN19940724,AO94,       35,        1,       29,   144087,2,19940822,1515,89.9983,66.9917,4161,    139.0,  -0.3944,  34.4454,2,    309.8,4,  -0.3990,  34.4295,2,    307.1,2,     5.92,2,     9.80,2,     0.00,2,     0.75,2,    3.980,2,    1.690,2,    0.210,2,   2152.3,2,   2284.5,2,    4.830,2
18SN19940724,AO94,       35,        1,       28,   144086,2,19940822,1515,89.9983,66.9917,4161,    159.1,   0.1477,  34.5534,2,    304.6,4,   0.1417,  34.5505,2,    305.4,2,     6.02,2,    10.39,2,     0.00,2,     0.78,2,    3.580,2,    1.660,2,    0.330,2,   2151.9,2,   2305.5,2,    5.090,2
18SN19940724,AO94,       35,        1,       27,   144085,2,19940822,1515,89.9983,66.9917,4161,    184.1,   0.8228,  34.6955,2,    300.8,4,   0.8148,  34.6790,2,    302.1,2,     6.21,2,    11.14,2,     0.00,2,     0.81,2,    3.510,2,    1.320,2,    0.320,2,   2153.0,2,   2301.5,2,    5.230,2
18SN19940724,AO94,       35,        1,       26,   144084,2,19940822,1515,89.9983,66.9917,4161,    208.7,   1.2552,  34.8019,2,    299.7,4,   1.2453,  34.7909,2,    301.1,2,     6.31,2,    11.68,2,     0.00,2,     0.84,2,    3.680,2,    1.490,2,    0.380,2,   2154.2,2,   2312.1,2,    5.590,2
18SN19940724,AO94,       35,        1,       25,   144083,2,19940822,1515,89.9983,66.9917,4161,    244.5,   1.2312,  34.8368,2,    300.6,4,   1.2195,  34.8325,2,    302.7,2,     6.46,2,    11.92,2,     0.00,2,     0.85,2,    3.850,2,    1.680,2,    0.170,2,   2157.2,2,   2313.3,2,    5.810,2
18SN19940724,AO94,       35,        1,       24,   144082,2,19940822,1515,89.9983,66.9917,4161,    264.8,   1.2363,  34.8580,2,    301.4,4,   1.2236,  34.8560,2,    303.3,2,     6.41,2,    12.08,2,     0.00,2,     0.86,2,    3.650,2,    1.460,2,    0.340,2,   2153.1,2,   2315.1,2,    5.910,2
18SN19940724,AO94,       35,        1,       23,   144081,2,19940822,1515,89.9983,66.9917,4161,    305.7,   0.9860,  34.8438,2,    303.4,4,   0.9717,  34.8442,2,    301.2,2,     6.56,2,    12.12,2,     0.00,2,     0.86,2,    3.360,2,    1.540,2, -999.000,9,   2159.2,2,   2317.8,2,    5.710,2
18SN19940724,AO94,       35,        1,       22,   144080,2,19940822,1515,89.9983,66.9917,4161,    345.6,   1.0890,  34.8816,2,    302.8,4,   1.0725,  34.8808,2,    303.5,2,     6.61,2,    12.28,2,     0.00,2,     0.87,2,    3.360,2,    1.160,2,    0.260,2,   2159.7,2,   2320.6,2,    5.710,2
18SN19940724,AO94,       35,        1,       21,   144079,2,19940822,1515,89.9983,66.9917,4161,    391.2,   0.9991,  34.8814,2,    302.6,4,   0.9805,  34.8795,2,    303.2,2,     6.66,2,    12.33,2,     0.00,2,     0.87,2,    3.340,2,    1.470,2,    0.060,2,   2156.6,2,   2318.1,2,    6.210,2
18SN19940724,AO94,       35,        1,       20,   144078,2,19940822,1515,89.9983,66.9917,4161,    441.9,   0.7609,  34.8759,2,    302.6,4,   0.7406,  34.8745,2,    304.8,2,     6.86,2,    12.25,2,     0.00,2,     0.87,2,    3.620,2,    1.270,2,    0.350,2,   2158.4,2,   2315.4,2,    6.130,2
18SN19940724,AO94,       35,        1,       19,   144077,2,19940822,1515,89.9983,66.9917,4161,    507.5,   0.6839,  34.8868,2,    303.0,4,   0.6606,  34.8860,2,    308.1,2,     6.96,2,    12.37,2,     0.00,2,     0.88,2,    3.180,2,    1.470,2,    0.630,2,   2156.6,2,   2315.9,2,    5.660,2
18SN19940724,AO94,       35,        1,       18,   144076,2,19940822,1515,89.9983,66.9917,4161,    609.1,   0.3974,  34.8850,2,    304.6,4,   0.3703,  34.8832,2,    304.2,2,     7.10,2,    12.45,2,     0.00,2,     0.89,2,    2.730,2,    0.830,2,    0.220,2,   2158.9,2,   -999.0,9,    5.340,2
18SN19940724,AO94,       35,        1,       17,   144075,2,19940822,1515,89.9983,66.9917,4161,    711.1,   0.1359,  34.8819,2,    305.3,4,   0.1052,  34.8818,2,    305.4,2,     7.20,2,    12.42,2,     0.00,2,     0.89,2,    3.190,2,    1.420,2,    0.060,2,   2164.8,2,   2314.1,2,    5.860,2
18SN19940724,AO94,       35,        1,       16,   144074,2,19940822,1515,89.9983,66.9917,4161,    938.7,  -0.1761,  34.8916,2,    305.6,4,  -0.2162,  34.8921,2,    305.2,2,     7.94,2,    12.73,2,     0.00,2,     0.92,2,    2.630,2, -999.000,9,    0.240,2,   2165.6,2,   2316.7,2,    5.320,2
18SN19940724,AO94,       35,        1,       15,   144073,2,19940822,1515,89.9983,66.9917,4161,   1167.9,  -0.3535,  34.9043,2,    304.7,4,  -0.4040,  34.9051,2,    304.3,2,     8.68,2,    13.05,2,     0.00,2,     0.94,2,    2.290,2,    1.250,2,    0.240,2,   2168.3,2,   2321.3,2,    5.160,2
18SN19940724,AO94,       35,        1,       14,   144072,2,19940822,1515,89.9983,66.9917,4161,   1370.8,  -0.4793,  34.9131,2,    303.7,4,  -0.5396,  34.9132,2,    302.9,2,     9.61,2,    13.49,2,     0.00,2,     0.97,2,    0.870,2,    0.190,2,    0.110,2,   2167.7,2,   2328.2,2,    2.640,2
18SN19940724,AO94,       35,        1,       13,   144071,2,19940822,1515,89.9983,66.9917,4161,   1625.5,  -0.5855,  34.9190,2,    301.5,4,  -0.6594,  34.9189,2,    301.0,2,    10.59,2,    13.84,2,     0.00,2,     1.00,2,    0.860,2,    0.500,2,    0.000,2,   2168.2,2,   2319.8,2,    2.450,2
18SN19940724,AO94,       35,        1,       12,   144070,2,19940822,1515,89.9983,66.9917,4161,   1803.4,  -0.6541,  34.9199,2,    300.6,4,  -0.7378,  34.9189,2,    300.9,2,    11.08,2,    14.12,2,     0.00,2,     1.01,2,    0.660,2,    0.260,2,    0.110,2,   2164.3,2,   2323.8,2,    2.310,2
18SN19940724,AO94,       35,        1,       11,   144069,2,19940822,1515,89.9983,66.9917,4161,   2033.4,  -0.7186,  34.9206,2,    299.7,4,  -0.8161,  34.9215,2,    300.9,2,    11.42,2,    14.32,2,     0.00,2,     1.01,2,    0.520,2,    0.250,2,    0.090,2,   2165.3,2,   2321.1,2,    1.840,2
18SN19940724,AO94,       35,        1,       10,   144068,2,19940822,1515,89.9983,66.9917,4161,   2288.2,  -0.7536,  34.9233,2,    298.8,4,  -0.8677,  34.9227,2,    300.2,2,    11.67,2,    14.40,2,     0.00,2,     1.02,2,    0.260,2,    0.210,2,    0.070,2,   2166.2,2,   2323.1,2,    1.370,2
18SN19940724,AO94,       35,        1,        9,   144067,2,19940822,1515,89.9983,66.9917,4161,   2544.4,  -0.7728,  34.9260,2,    298.2,4,  -0.9049,  34.9250,2,    300.3,2,    11.81,2,    14.44,2,     0.00,2,     1.02,2,    0.220,2,    0.120,2, -999.000,9,   2166.2,2,   2321.3,2, -999.000,9
18SN19940724,AO94,       35,        1,        8,   144066,2,19940822,1515,89.9983,66.9917,4161,   2799.6,  -0.7766,  34.9298,2,    297.6,4,  -0.9279,  34.9294,2,    299.7,2,    11.91,2,    14.41,2,     0.00,2,     1.03,2,    0.150,2,    0.000,2,    0.110,2,   2164.3,2,   2322.3,2,    0.780,2
18SN19940724,AO94,       35,        1,        7,   144065,2,19940822,1515,89.9983,66.9917,4161,   3055.5,  -0.7669,  34.9332,2,    297.1,4,  -0.9388,  34.9311,2,    299.3,2,    12.06,2,    14.49,2,     0.00,2,     1.03,2,    0.220,2,    0.100,2,    0.250,2,   2162.8,2,   2342.9,3, -999.000,9
18SN19940724,AO94,       35,        1,        6,   144064,2,19940822,1515,89.9983,66.9917,4161,   3311.8,  -0.7534,  34.9361,2,    297.1,4,  -0.9471,  34.9333,2,    299.2,2,    12.11,2,    14.45,2,     0.00,2,     1.03,2,    0.050,2,    0.000,2,    0.090,2,   2165.4,2,   2325.8,2,    0.480,2
18SN19940724,AO94,       35,        1,        5,   144063,2,19940822,1515,89.9983,66.9917,4161,   3568.2,  -0.7363,  34.9388,2,    297.7,4,  -0.9529,  34.9373,2,    298.8,2,    12.16,2,    14.42,2,     0.00,2,     1.03,2,    0.130,2,    0.030,2,    0.000,2,   2162.5,2,   2321.1,2,    0.700,2
18SN19940724,AO94,       35,        1,        4,   144062,2,19940822,1515,89.9983,66.9917,4161,   3824.9,  -0.7130,  34.9411,2,    298.3,4,  -0.9537,  34.9394,2,    298.8,2,    12.16,2,    14.42,2,     0.00,2,     1.03,2,    0.130,2,    0.000,2,    0.110,2,   2163.2,2,   2326.3,2,    0.480,2
18SN19940724,AO94,       35,        1,        3,   144061,2,19940822,1515,89.9983,66.9917,4161,   3979.1,  -0.6945,  34.9426,2,    298.1,4,  -0.9503,  34.9418,2,    298.6,2,    12.21,2,    14.38,2,     0.00,2,     1.03,2,    0.080,2,    0.030,2,    0.080,2,   2163.6,2,   2323.2,2,    0.640,2
18SN19940724,AO94,       35,        1,        2,   144060,2,19940822,1515,89.9983,66.9917,4161,   4133.1,  -0.6788,  34.9431,2,    299.8,4,  -0.9500,  34.9428,2,    298.9,2,    12.21,2,    14.39,2,     0.00,2,     1.03,2,    0.060,2,    0.000,2,    0.050,2,   2163.6,2,   -999.0,9,    0.550,2
18SN19940724,AO94,       35,        1,        1,   144059,2,19940822,1515,89.9983,66.9917,4161,   4287.3,  -0.6630,  34.9428,2,    300.3,4,  -0.9500,  34.9422,2,    299.1,2,    12.21,2,    14.39,2,     0.00,2,     1.02,2,    0.100,2,    0.040,2,    0.000,2,   2164.1,2,   2324.5,2,    0.810,2