BOTTLE,20090717CCHDOSIODM
EXPOCODE,SECT_ID,STNNBR,CASTNO,SAMPNO,BTLNBR,BTLNBR_FLAG_W,DATE,TIME,LATITUDE,LONGITUDE,DEPTH,CTDPRS,CTDTMP,CTDSAL,CTDSAL_FLAG_W,CTDOXY,CTDOXY_FLAG_W,THETA,SALNTY,SALNTY_FLAG_W,OXYGEN,OXYGEN_FLAG_W,SILCAT,SILCAT_FLAG_W,NITRAT,NITRAT_FLAG_W,NITRIT,NITRIT_FLAG_W,PHSPHT,PHSPHT_FLAG_W,CFC-11,CFC-11_FLAG_W,CFC-12,CFC-12_FLAG_W,CFC113,CFC113_FLAG_W,TCARBN,TCARBN_FLAG_W,ALKALI,ALKALI_FLAG_W,CCL4,CCL4_FLAG_W
,,,,,,,,,,,,DBAR,ITS-90,PSS-78,,UMOL/KG,,DEG C,PSS-78,,UMOL/KG,,UMOL/KG,,UMOL/KG,,UMOL/KG,,UMOL/KG,,PMOL/KG,,PMOL/KG,,PMOL/KG,,UMOL/KG,,UMOL/KG,,PMOL/KG,
18SN19940724,AO94,       17,        1,       36,   143242,2,19940806,0256,79.9850,-174.3100,1652,      9.6,  -1.6337,  30.9317,2,    378.1,4,  -1.6339,  30.9315,2,    379.4,2,    12.79,2,     0.79,2,     0.04,2,     1.02,2,    6.570,2,    3.460,2,    1.100,2,   2060.8,2,   2189.5,2,   11.190,2
18SN19940724,AO94,       17,        1,       35,   143241,2,19940806,0256,79.9850,-174.3100,1652,     30.1,  -1.6381,  30.9778,2,    370.4,4,  -1.6385,  30.9888,2,    379.2,2,    12.73,2,     0.83,2,     0.04,2,     1.01,2,    6.310,2,    3.280,2,    1.040,2,   2063.1,2,   2193.3,2,   11.160,2
18SN19940724,AO94,       17,        1,       33,   143240,2,19940806,0256,79.9850,-174.3100,1652,     60.2,  -1.6709,  31.9990,2,    346.4,4,  -1.6719,  31.9590,2,    343.4,2,    15.22,2,     4.89,2,     0.02,2,     1.09,2,    6.250,2,    3.210,2,    0.880,2,   2116.0,2,   2234.1,2,    9.240,2
18SN19940724,AO94,       17,        1,       32,   143239,2,19940806,0256,79.9850,-174.3100,1652,     71.0,  -1.6502,  32.9562,2,    327.3,4,  -1.6515,  32.9410,2,   -999.0,9,  -999.00,9,  -999.00,9,  -999.00,9,  -999.00,9, -999.000,9, -999.000,9, -999.000,9,   -999.0,9,   -999.0,9, -999.000,9
18SN19940724,AO94,       17,        1,       31,   143238,2,19940806,0256,79.9850,-174.3100,1652,     71.0,  -1.6504,  32.9498,2,    327.0,4,  -1.6517,  33.0217,2,   -999.0,9,  -999.00,9,  -999.00,9,  -999.00,9,  -999.00,9, -999.000,9, -999.000,9, -999.000,9,   -999.0,9,   -999.0,9, -999.000,9
18SN19940724,AO94,       17,        1,       30,   143237,2,19940806,0256,79.9850,-174.3100,1652,     71.0,  -1.6481,  33.0267,2,    327.0,4,  -1.6494,  32.9975,2,    311.3,2,    17.45,2,     8.89,2,     0.02,2,     1.10,2,    5.440,2,    2.800,2,    0.750,2,   2155.8,2,   2266.7,2,    6.150,2
18SN19940724,AO94,       17,        1,       29,   143236,2,19940806,0256,79.9850,-174.3100,1652,    101.0,  -1.5473,  34.0025,2,    307.2,4,  -1.5494,  33.9903,2,    302.8,2,    10.04,2,     9.37,2,     0.01,2,     0.84,2,    4.920,2,    2.410,2,    0.320,2,   2161.3,2,   2294.9,2,    5.790,2
18SN19940724,AO94,       17,        1,       28,   143235,2,19940806,0256,79.9850,-174.3100,1652,    106.1,  -1.5340,  34.0236,2,    306.2,4,  -1.5363,  34.0420,2,   -999.0,9,  -999.00,9,  -999.00,9,  -999.00,9,  -999.00,9, -999.000,9, -999.000,9, -999.000,9,   -999.0,9,   -999.0,9, -999.000,9
18SN19940724,AO94,       17,        1,       27,   143234,2,19940806,0256,79.9850,-174.3100,1652,    106.1,  -1.5349,  34.0245,2,    306.2,4,  -1.5372,  34.0382,2,   -999.0,9,  -999.00,9,  -999.00,9,  -999.00,9,  -999.00,9, -999.000,9, -999.000,9, -999.000,9,   -999.0,9,   -999.0,9, -999.000,9
18SN19940724,AO94,       17,        1,       26,   143233,2,19940806,0256,79.9850,-174.3100,1652,    106.1,  -1.5349,  34.0250,2,    306.2,4,  -1.5372,  34.0429,2,   -999.0,9,  -999.00,9,  -999.00,9,  -999.00,9,  -999.00,9, -999.000,9, -999.000,9, -999.000,9,   -999.0,9,   -999.0,9, -999.000,9
18SN19940724,AO94,       17,        1,       25,   143232,2,19940806,0256,79.9850,-174.3100,1652,    106.1,  -1.5343,  34.0260,2,    306.2,4,  -1.5366,  34.0435,2,   -999.0,9,  -999.00,9,  -999.00,9,  -999.00,9,  -999.00,9, -999.000,9, -999.000,9, -999.000,9,   -999.0,9,   -999.0,9, -999.000,9
18SN19940724,AO94,       17,        1,       24,   143231,2,19940806,0256,79.9850,-174.3100,1652,    106.1,  -1.5278,  34.0522,2,    305.7,4,  -1.5301,  34.0415,2,   -999.0,9,  -999.00,9,  -999.00,9,  -999.00,9,  -999.00,9, -999.000,9, -999.000,9, -999.000,9,   -999.0,9,   -999.0,9, -999.000,9
18SN19940724,AO94,       17,        1,       23,   143230,2,19940806,0256,79.9850,-174.3100,1652,    116.3,  -1.4848,  34.1468,2,    304.7,4,  -1.4874,  34.1444,2,    303.3,2,     8.33,2,     9.41,2,     0.01,2,     0.80,2,    4.770,2,    2.350,2,    0.710,2,   2159.4,2,   2303.1,2,    6.030,2
18SN19940724,AO94,       17,        1,       22,   143229,2,19940806,0256,79.9850,-174.3100,1652,    131.4,  -1.3815,  34.2446,2,    304.1,4,  -1.3846,  34.2323,2,    303.4,2,     7.60,2,     9.55,2,     0.01,2,     0.79,2,    4.420,2,    2.230,2,    0.440,2,   2165.2,2,   2299.1,2,    5.540,2
18SN19940724,AO94,       17,        1,       21,   143228,2,19940806,0256,79.9850,-174.3100,1652,    141.5,  -1.2216,  34.2987,2,    302.7,4,  -1.2251,  34.3086,2,    302.6,2,     7.32,2,     9.69,2,     0.01,2,     0.78,2,    4.420,2,    2.260,2,    0.450,2,   2157.7,2,   2302.0,2,    5.070,2
18SN19940724,AO94,       17,        1,       17,   143224,2,19940806,0256,79.9850,-174.3100,1652,    161.7,  -0.8813,  34.4077,2,    300.5,4,  -0.8859,  34.4185,2,   -999.0,9,  -999.00,9,  -999.00,9,  -999.00,9,  -999.00,9, -999.000,9, -999.000,9, -999.000,9,   -999.0,9,   -999.0,9, -999.000,9
18SN19940724,AO94,       17,        1,       18,   143225,2,19940806,0256,79.9850,-174.3100,1652,    161.7,  -0.8873,  34.4023,2,    300.5,4,  -0.8920,  34.4154,2,   -999.0,9,  -999.00,9,  -999.00,9,  -999.00,9,  -999.00,9, -999.000,9, -999.000,9, -999.000,9,   -999.0,9,   -999.0,9, -999.000,9
18SN19940724,AO94,       17,        1,       16,   143223,2,19940806,0256,79.9850,-174.3100,1652,    161.7,  -0.8097,  34.4314,2,    300.3,4,  -0.8144,  34.4163,2,   -999.0,9,  -999.00,9,  -999.00,9,  -999.00,9,  -999.00,9, -999.000,9, -999.000,9, -999.000,9,   -999.0,9,   -999.0,9, -999.000,9
18SN19940724,AO94,       17,        1,       20,   143227,2,19940806,0256,79.9850,-174.3100,1652,    161.7,  -0.8886,  34.4014,2,    300.5,4,  -0.8933,  34.4142,2,   -999.0,9,  -999.00,9,  -999.00,9,  -999.00,9,  -999.00,9, -999.000,9, -999.000,9, -999.000,9,   -999.0,9,   -999.0,9, -999.000,9
18SN19940724,AO94,       17,        1,       19,   143226,2,19940806,0256,79.9850,-174.3100,1652,    161.7,  -0.8880,  34.4020,2,    300.5,4,  -0.8927,  34.4184,2,   -999.0,9,  -999.00,9,  -999.00,9,  -999.00,9,  -999.00,9, -999.000,9, -999.000,9, -999.000,9,   -999.0,9,   -999.0,9, -999.000,9
18SN19940724,AO94,       17,        1,       15,   143222,2,19940806,0256,79.9850,-174.3100,1652,    171.6,  -0.6697,  34.4786,2,    299.8,4,  -0.6749,  34.4921,2,    300.3,2,     7.08,2,    10.34,2,     0.01,2,     0.80,2,    4.190,2,    1.830,2,    0.430,2,   2159.4,2,   2306.1,2,    5.550,2
18SN19940724,AO94,       17,        1,       14,   143221,2,19940806,0256,79.9850,-174.3100,1652,    202.4,  -0.2251,  34.5978,2,    297.9,4,  -0.2322,  34.6110,2,    298.7,2,     7.07,2,    10.96,2,     0.01,2,     0.82,2,    3.370,2,    1.690,2,    0.290,2,   2155.7,2,   2313.9,2,    5.190,2
18SN19940724,AO94,       17,        1,       13,   143220,2,19940806,0256,79.9850,-174.3100,1652,    232.5,   0.0688,  34.6918,2,    297.5,4,   0.0600,  34.7044,2,    297.6,2,     6.97,2,    11.41,2,     0.01,2,     0.84,2,    3.780,2,    1.700,2,    0.000,2,   2151.9,2,   2318.3,2,    5.200,2
18SN19940724,AO94,       17,        1,       12,   143219,2,19940806,0256,79.9850,-174.3100,1652,    262.7,   0.2480,  34.7447,2,    298.1,4,   0.2376,  34.7637,2,    298.2,2,     6.82,2,    11.72,2,     0.01,2,     0.85,2,    3.070,2,    1.540,2,    0.230,2,   2151.7,2,   2321.8,2,    5.500,2
18SN19940724,AO94,       17,        1,       11,   143218,2,19940806,0256,79.9850,-174.3100,1652,    303.6,   0.4575,  34.8084,2,    299.9,4,   0.4448,  34.8077,2,    300.2,2,     6.54,2,    11.89,2,     0.01,2,     0.85,2,    3.630,2,    1.620,2,    0.000,2,   2151.4,2,   2321.0,2,    5.380,2
18SN19940724,AO94,       17,        1,       10,   143217,2,19940806,0256,79.9850,-174.3100,1652,    354.2,   0.4892,  34.8295,2,    300.1,4,   0.4741,  34.8309,2,    301.2,2,     6.57,2,    12.03,2,     0.01,2,     0.86,2,    3.010,2,    1.440,2,    0.400,2,   -999.0,9,   -999.0,9,    6.140,2
18SN19940724,AO94,       17,        1,        9,   143216,2,19940806,0256,79.9850,-174.3100,1652,    404.8,   0.4572,  34.8413,2,    299.8,4,   0.4398,  34.8423,2,    301.1,2,     6.65,2,    12.10,2,     0.01,2,     0.87,2,    3.320,2,    1.540,2,    0.270,2,   2158.2,2,   -999.0,9,    5.680,2
18SN19940724,AO94,       17,        1,        8,   143215,2,19940806,0256,79.9850,-174.3100,1652,    455.3,   0.4166,  34.8515,2,    299.9,4,   0.3969,  34.8528,2,    298.5,2,     7.13,2,    12.38,2,     0.01,2,     0.88,2,    2.120,2,    1.170,2,    0.160,2,   2154.1,2,   2328.7,2,    4.770,2
18SN19940724,AO94,       17,        1,        7,   143214,2,19940806,0256,79.9850,-174.3100,1652,    506.1,   0.3805,  34.8605,2,    300.1,4,   0.3586,  34.8614,2,    298.9,2,     7.16,2,    12.41,2,     0.01,2,     0.89,2,    2.430,2,    1.250,2,    0.000,2,   2154.4,2,   2325.2,2,    4.540,2
18SN19940724,AO94,       17,        1,        6,   143213,2,19940806,0256,79.9850,-174.3100,1652,    608.2,   0.2192,  34.8678,2,    301.1,4,   0.1931,  34.8683,2,    300.6,2,     7.19,2,    12.41,2,     0.01,2,     0.89,2,    1.820,2,    0.980,2,    0.640,2,   2160.3,2,   2326.1,2,    4.380,2
18SN19940724,AO94,       17,        1,        5,   143212,2,19940806,0256,79.9850,-174.3100,1652,    811.1,  -0.0649,  34.8780,2,    302.2,4,  -0.0993,  34.8770,2,    302.4,2,     7.36,2,    12.48,2,     0.01,2,     0.90,2,    2.360,2,    1.180,2,    0.000,2,   2157.1,2,   2321.3,2,    4.470,2
18SN19940724,AO94,       17,        1,        4,   143211,2,19940806,0256,79.9850,-174.3100,1652,   1014.2,  -0.2589,  34.8865,2,    300.5,4,  -0.3021,  34.8890,2,    304.5,2,     7.52,2,    12.52,2,     0.01,2,     0.91,2,    2.800,2,    1.380,2,    0.000,2,   2164.0,2,   2326.1,2,    5.100,2
18SN19940724,AO94,       17,        1,        3,   143210,2,19940806,0256,79.9850,-174.3100,1652,   1268.2,  -0.3723,  34.9046,2,    299.6,4,  -0.4281,  34.9065,2,    302.5,2,     8.50,2,    12.97,2,     0.01,2,     0.94,2, -999.000,9, -999.000,9, -999.000,9,   2157.3,2,   2323.0,2, -999.000,9
18SN19940724,AO94,       17,        1,        2,   143209,2,19940806,0256,79.9850,-174.3100,1652,   1522.3,  -0.4524,  34.9286,2,    295.7,4,  -0.5218,  34.9298,2,    295.7,2,    10.82,2,    13.83,2,     0.01,2,     1.00,2,    0.020,2,    0.000,2,    1.140,2,   2156.0,2,   2328.2,2,    1.630,2
18SN19940724,AO94,       17,        1,        1,   143208,2,19940806,0256,79.9850,-174.3100,1652,   1689.7,  -0.4411,  34.9411,2,    292.0,4,  -0.5208,  34.9434,2,    290.4,2,    12.29,2,    14.25,2,     0.01,2,     1.03,2,    0.240,2,    0.140,2,    0.020,2,   2156.4,2,   2323.7,2,    0.750,2