BOTTLE,20090717CCHDOSIODM
EXPOCODE,SECT_ID,STNNBR,CASTNO,SAMPNO,BTLNBR,BTLNBR_FLAG_W,DATE,TIME,LATITUDE,LONGITUDE,DEPTH,CTDPRS,CTDTMP,CTDSAL,CTDSAL_FLAG_W,CTDOXY,CTDOXY_FLAG_W,THETA,SALNTY,SALNTY_FLAG_W,OXYGEN,OXYGEN_FLAG_W,SILCAT,SILCAT_FLAG_W,NITRAT,NITRAT_FLAG_W,NITRIT,NITRIT_FLAG_W,PHSPHT,PHSPHT_FLAG_W,CFC-11,CFC-11_FLAG_W,CFC-12,CFC-12_FLAG_W,CFC113,CFC113_FLAG_W,TCARBN,TCARBN_FLAG_W,ALKALI,ALKALI_FLAG_W,CCL4,CCL4_FLAG_W
,,,,,,,,,,,,DBAR,ITS-90,PSS-78,,UMOL/KG,,DEG C,PSS-78,,UMOL/KG,,UMOL/KG,,UMOL/KG,,UMOL/KG,,UMOL/KG,,PMOL/KG,,PMOL/KG,,PMOL/KG,,UMOL/KG,,UMOL/KG,,PMOL/KG,
18SN19940724,AO94,       36,        1,       36,   144226,2,19940825,1936,85.7333,37.7483,3459,   1014.0,  -0.2651,  34.9076,2,    303.2,4,  -0.3083,  34.9100,2,   -999.0,9,  -999.00,9,  -999.00,9,  -999.00,9,  -999.00,9, -999.000,9, -999.000,9, -999.000,9,   -999.0,9,   -999.0,9, -999.000,9
18SN19940724,AO94,       36,        1,       35,   144225,2,19940825,1936,85.7333,37.7483,3459,   1141.1,  -0.3847,  34.9120,2,    303.7,4,  -0.4335,  34.9145,2,    302.2,2,     9.37,3,    13.34,2,     0.01,2,     0.94,2,    0.840,2,    0.660,2,    0.030,2,   2167.0,2,   2315.8,2,    3.560,2
18SN19940724,AO94,       36,        1,       34,   144224,2,19940825,1936,85.7333,37.7483,3459,   1267.8,  -0.4923,  34.9135,2,    302.9,4,  -0.5468,  34.9149,2,    301.9,2,     9.80,3,    13.58,2,     0.01,2,     0.96,2,    0.760,2,    0.480,2,    0.130,2,   2161.8,2,   2317.4,2,    3.200,2
18SN19940724,AO94,       36,        1,       33,   144223,2,19940825,1936,85.7333,37.7483,3459,   1421.1,  -0.5731,  34.9175,2,    301.1,4,  -0.6353,  34.9193,2,    301.0,2,    10.43,3,    13.86,2,     0.01,2,     0.98,2,    0.500,2,    0.310,2,    0.000,2,   2162.9,2,   2318.2,2,    2.370,2
18SN19940724,AO94,       36,        1,       23,   144213,2,19940825,1936,85.7333,37.7483,3459,   1522.0,  -0.6086,  34.9187,2,    301.8,4,  -0.6761,  34.9205,2,   -999.0,9,  -999.00,9,  -999.00,9,  -999.00,9,  -999.00,9, -999.000,9, -999.000,9, -999.000,9,   -999.0,9,   -999.0,9, -999.000,9
18SN19940724,AO94,       36,        1,       24,   144214,2,19940825,1936,85.7333,37.7483,3459,   1522.1,  -0.6079,  34.9182,2,    301.8,4,  -0.6754,  34.9199,2,   -999.0,9,  -999.00,9,  -999.00,9,  -999.00,9,  -999.00,9, -999.000,9, -999.000,9, -999.000,9,   -999.0,9,   -999.0,9, -999.000,9
18SN19940724,AO94,       36,        1,       25,   144215,2,19940825,1936,85.7333,37.7483,3459,   1522.2,  -0.6078,  34.9181,2,    301.8,4,  -0.6753,  34.9207,2,   -999.0,9,  -999.00,9,  -999.00,9,  -999.00,9,  -999.00,9, -999.000,9, -999.000,9, -999.000,9,   -999.0,9,   -999.0,9, -999.000,9
18SN19940724,AO94,       36,        1,       26,   144216,2,19940825,1936,85.7333,37.7483,3459,   1522.2,  -0.6077,  34.9180,2,    301.8,4,  -0.6752,  34.9208,2,   -999.0,9,  -999.00,9,  -999.00,9,  -999.00,9,  -999.00,9, -999.000,9, -999.000,9, -999.000,9,   -999.0,9,   -999.0,9, -999.000,9
18SN19940724,AO94,       36,        1,       28,   144218,2,19940825,1936,85.7333,37.7483,3459,   1522.3,  -0.6080,  34.9183,2,    301.8,4,  -0.6755,  34.9188,2,   -999.0,9,  -999.00,9,  -999.00,9,  -999.00,9,  -999.00,9, -999.000,9, -999.000,9, -999.000,9,   -999.0,9,   -999.0,9, -999.000,9
18SN19940724,AO94,       36,        1,       27,   144217,2,19940825,1936,85.7333,37.7483,3459,   1522.3,  -0.6079,  34.9181,2,    301.8,4,  -0.6754,-999.0000,5,   -999.0,9,  -999.00,9,  -999.00,9,  -999.00,9,  -999.00,9, -999.000,9, -999.000,9, -999.000,9,   -999.0,9,   -999.0,9, -999.000,9
18SN19940724,AO94,       36,        1,       29,   144219,2,19940825,1936,85.7333,37.7483,3459,   1522.4,  -0.6079,  34.9181,2,    301.8,4,  -0.6754,  34.9198,2,   -999.0,9,  -999.00,9,  -999.00,9,  -999.00,9,  -999.00,9, -999.000,9, -999.000,9, -999.000,9,   -999.0,9,   -999.0,9, -999.000,9
18SN19940724,AO94,       36,        1,       30,   144220,2,19940825,1936,85.7333,37.7483,3459,   1522.4,  -0.6078,  34.9184,2,    301.8,4,  -0.6753,  34.9210,2,   -999.0,9,  -999.00,9,  -999.00,9,  -999.00,9,  -999.00,9, -999.000,9, -999.000,9, -999.000,9,   -999.0,9,   -999.0,9, -999.000,9
18SN19940724,AO94,       36,        1,       31,   144221,2,19940825,1936,85.7333,37.7483,3459,   1522.5,  -0.6077,  34.9181,2,    301.8,4,  -0.6752,  34.9210,2,   -999.0,9,  -999.00,9,  -999.00,9,  -999.00,9,  -999.00,9, -999.000,9, -999.000,9, -999.000,9,   -999.0,9,   -999.0,9, -999.000,9
18SN19940724,AO94,       36,        1,       32,   144222,2,19940825,1936,85.7333,37.7483,3459,   1522.5,  -0.6079,  34.9183,2,    301.8,4,  -0.6754,  34.9210,2,   -999.0,9,  -999.00,9,  -999.00,9,  -999.00,9,  -999.00,9, -999.000,9, -999.000,9, -999.000,9,   -999.0,9,   -999.0,9, -999.000,9
18SN19940724,AO94,       36,        1,       22,   144212,2,19940825,1936,85.7333,37.7483,3459,   1623.8,  -0.6452,  34.9205,2,    300.5,4,  -0.7182,  34.9209,2,    299.8,2,    11.12,3,    14.14,2,     0.01,2,     0.99,2,    0.320,2,    0.050,2,    0.090,2,   2166.1,2,   2322.7,2,    1.820,2
18SN19940724,AO94,       36,        1,       21,   144211,2,19940825,1936,85.7333,37.7483,3459,   1827.7,  -0.7167,  34.9210,2,    299.7,4,  -0.8011,  34.9191,2,    300.4,2,    11.39,3,    14.30,2,     0.01,2,     1.00,2,    0.380,2,    0.220,2,    0.020,2,   2162.2,2,   2321.6,2,    1.560,2
18SN19940724,AO94,       36,        1,       19,   144209,2,19940825,1936,85.7333,37.7483,3459,   2031.2,  -0.7616,  34.9226,2,    299.7,4,  -0.8583,  34.9229,2,    300.8,2,    11.60,3,    14.42,2,     0.01,2,     1.00,2,    0.280,2,    0.140,2,    0.000,2,   2160.5,2,   2321.5,2,    1.230,2
18SN19940724,AO94,       36,        1,       20,   144210,2,19940825,1936,85.7333,37.7483,3459,   2031.4,  -0.7607,  34.9219,2,    299.7,4,  -0.8574,  34.9233,2,   -999.0,9,  -999.00,9,  -999.00,9,  -999.00,9,  -999.00,9, -999.000,9, -999.000,9, -999.000,9,   -999.0,9,   -999.0,9, -999.000,9
18SN19940724,AO94,       36,        1,       18,   144208,2,19940825,1936,85.7333,37.7483,3459,   2286.0,  -0.7899,  34.9254,2,    299.7,4,  -0.9032,  34.9252,2,    300.8,2,    11.81,3,    14.46,2,     0.01,2,     1.01,2,    0.140,2,    0.090,2,    0.100,2,   2161.7,2,   2319.6,2,    0.970,2
18SN19940724,AO94,       36,        1,       17,   144207,2,19940825,1936,85.7333,37.7483,3459,   2541.6,  -0.7961,  34.9291,2,    299.2,4,  -0.9275,  34.9280,2,    300.3,2,    11.87,3,    14.42,2,     0.01,2,     1.00,2,    0.230,2,    0.100,2,    0.020,2,   2159.7,2,   2310.7,2,    0.940,2
18SN19940724,AO94,       36,        1,       16,   144206,2,19940825,1936,85.7333,37.7483,3459,   2797.2,  -0.7927,  34.9325,2,    299.8,4,  -0.9435,  34.9327,2,    300.0,2,    11.97,3,    14.46,2,     0.01,2,     1.01,2,    0.130,2,    0.010,2,    0.100,2,   2162.1,2,   2314.6,2,    0.680,2
18SN19940724,AO94,       36,        1,        5,   144195,2,19940825,1936,85.7333,37.7483,3459,   3052.8,  -0.7729,  34.9368,2,    298.8,4,  -0.9444,  34.9361,2,    298.9,2,    12.29,3,    14.50,2,     0.01,2,     1.01,2,    0.180,2,    0.060,2,    0.010,2,   2157.6,2,   2327.8,2,    0.870,2
18SN19940724,AO94,       36,        1,        6,   144196,2,19940825,1936,85.7333,37.7483,3459,   3052.9,  -0.7729,  34.9369,2,    298.8,4,  -0.9445,  34.9359,2,   -999.0,9,  -999.00,9,  -999.00,9,  -999.00,9,  -999.00,9, -999.000,9, -999.000,9, -999.000,9,   -999.0,9,   -999.0,9, -999.000,9
18SN19940724,AO94,       36,        1,        7,   144197,2,19940825,1936,85.7333,37.7483,3459,   3052.9,  -0.7729,  34.9370,2,    298.8,4,  -0.9445,  34.9377,2,   -999.0,9,  -999.00,9,  -999.00,9,  -999.00,9,  -999.00,9, -999.000,9, -999.000,9, -999.000,9,   -999.0,9,   -999.0,9, -999.000,9
18SN19940724,AO94,       36,        1,        9,   144199,2,19940825,1936,85.7333,37.7483,3459,   3053.0,  -0.7726,  34.9366,2,    298.8,4,  -0.9442,  34.9364,2,   -999.0,9,  -999.00,9,  -999.00,9,  -999.00,9,  -999.00,9, -999.000,9, -999.000,9, -999.000,9,   -999.0,9,   -999.0,9, -999.000,9
18SN19940724,AO94,       36,        1,        8,   144198,2,19940825,1936,85.7333,37.7483,3459,   3053.0,  -0.7728,  34.9369,2,    298.8,4,  -0.9444,  34.9366,2,   -999.0,9,  -999.00,9,  -999.00,9,  -999.00,9,  -999.00,9, -999.000,9, -999.000,9, -999.000,9,   -999.0,9,   -999.0,9, -999.000,9
18SN19940724,AO94,       36,        1,       12,   144202,2,19940825,1936,85.7333,37.7483,3459,   3053.1,  -0.7729,  34.9369,2,    298.8,4,  -0.9445,  34.9374,2,   -999.0,9,  -999.00,9,  -999.00,9,  -999.00,9,  -999.00,9, -999.000,9, -999.000,9, -999.000,9,   -999.0,9,   -999.0,9, -999.000,9
18SN19940724,AO94,       36,        1,       11,   144201,2,19940825,1936,85.7333,37.7483,3459,   3053.1,  -0.7729,  34.9369,2,    298.8,4,  -0.9445,  34.9360,2,   -999.0,9,  -999.00,9,  -999.00,9,  -999.00,9,  -999.00,9, -999.000,9, -999.000,9, -999.000,9,   -999.0,9,   -999.0,9, -999.000,9
18SN19940724,AO94,       36,        1,       10,   144200,2,19940825,1936,85.7333,37.7483,3459,   3053.1,  -0.7728,  34.9367,2,    298.8,4,  -0.9444,  34.9360,2,   -999.0,9,  -999.00,9,  -999.00,9,  -999.00,9,  -999.00,9, -999.000,9, -999.000,9, -999.000,9,   -999.0,9,   -999.0,9, -999.000,9
18SN19940724,AO94,       36,        1,       13,   144203,2,19940825,1936,85.7333,37.7483,3459,   3053.2,  -0.7729,  34.9369,2,    298.8,4,  -0.9445,  34.9360,2,   -999.0,9,  -999.00,9,  -999.00,9,  -999.00,9,  -999.00,9, -999.000,9, -999.000,9, -999.000,9,   -999.0,9,   -999.0,9, -999.000,9
18SN19940724,AO94,       36,        1,       14,   144204,2,19940825,1936,85.7333,37.7483,3459,   3053.2,  -0.7729,  34.9369,2,    298.8,4,  -0.9445,  34.9368,2,   -999.0,9,  -999.00,9,  -999.00,9,  -999.00,9,  -999.00,9, -999.000,9, -999.000,9, -999.000,9,   -999.0,9,   -999.0,9, -999.000,9
18SN19940724,AO94,       36,        1,       15,   144205,2,19940825,1936,85.7333,37.7483,3459,   3053.3,  -0.7729,  34.9368,2,    298.8,4,  -0.9445,  34.9402,3,   -999.0,9,  -999.00,9,  -999.00,9,  -999.00,9,  -999.00,9, -999.000,9, -999.000,9, -999.000,9,   -999.0,9,   -999.0,9, -999.000,9
18SN19940724,AO94,       36,        1,        4,   144194,2,19940825,1936,85.7333,37.7483,3459,   3231.3,  -0.7564,  34.9379,4,   -999.0,5,  -0.9432,  34.9379,2,    298.7,2,    12.39,3,    14.45,2,     0.01,2,     1.01,2,    0.170,2,    0.040,2, -999.000,9,   2159.5,2,   2319.9,2,    0.600,2
18SN19940724,AO94,       36,        1,        3,   144193,2,19940825,1936,85.7333,37.7483,3459,   3384.6,  -0.7409,  34.9374,4,   -999.0,5,  -0.9412,  34.9383,2,    298.5,2,    12.45,3,    14.49,2,     0.01,2,     1.01,2,    0.170,2,    0.040,2,    0.090,2,   2158.6,2,   2320.1,2,    0.720,2
18SN19940724,AO94,       36,        1,        2,   144192,2,19940825,1936,85.7333,37.7483,3459,   3532.7,  -0.7269,  34.9325,4,   -999.0,5,  -0.9405,  34.9381,2,   -999.0,9,  -999.00,9,  -999.00,9,  -999.00,9,  -999.00,9, -999.000,9, -999.000,9, -999.000,9,   -999.0,9,   -999.0,9, -999.000,9
18SN19940724,AO94,       36,        1,        1,   144191,2,19940825,1936,85.7333,37.7483,3459,   3532.7,  -0.7272,  34.9328,4,   -999.0,5,  -0.9408,  34.9390,2,    298.4,2,    12.45,3,    14.49,2,     0.01,2,     1.01,2,    0.060,2,    0.120,2,    0.030,2,   2160.8,2,   -999.0,9,    0.490,2