BOTTLE,20090717CCHDOSIODM
EXPOCODE,SECT_ID,STNNBR,CASTNO,SAMPNO,BTLNBR,BTLNBR_FLAG_W,DATE,TIME,LATITUDE,LONGITUDE,DEPTH,CTDPRS,CTDTMP,CTDSAL,CTDSAL_FLAG_W,CTDOXY,CTDOXY_FLAG_W,THETA,SALNTY,SALNTY_FLAG_W,OXYGEN,OXYGEN_FLAG_W,SILCAT,SILCAT_FLAG_W,NITRAT,NITRAT_FLAG_W,NITRIT,NITRIT_FLAG_W,PHSPHT,PHSPHT_FLAG_W,CFC-11,CFC-11_FLAG_W,CFC-12,CFC-12_FLAG_W,CFC113,CFC113_FLAG_W,TCARBN,TCARBN_FLAG_W,ALKALI,ALKALI_FLAG_W,CCL4,CCL4_FLAG_W
,,,,,,,,,,,,DBAR,ITS-90,PSS-78,,UMOL/KG,,DEG C,PSS-78,,UMOL/KG,,UMOL/KG,,UMOL/KG,,UMOL/KG,,UMOL/KG,,PMOL/KG,,PMOL/KG,,PMOL/KG,,UMOL/KG,,UMOL/KG,,PMOL/KG,
18SN19940724,AO94,       28,        1,       36,   143865,2,19940815,1800,85.8917,166.7033,3419,     11.6,  -1.5982,  31.5537,2,    285.6,4,  -1.5984,  31.5648,2,    380.8,2,     8.47,2,     1.50,2,     0.03,2,     0.76,2,    6.560,2,    3.120,2, -999.000,9,   2071.7,2,   2210.9,2,   10.610,2
18SN19940724,AO94,       28,        1,       35,   143864,2,19940815,1800,85.8917,166.7033,3419,     26.8,  -1.6738,  31.7523,2,    262.4,4,  -1.6742,  31.7179,2,    377.3,2,     8.81,2,     1.99,2,     0.04,2,     0.79,2,    6.310,2,    3.320,2,    1.310,2,   2085.6,2,   2218.5,2,   10.610,2
18SN19940724,AO94,       28,        1,       34,   143863,2,19940815,1800,85.8917,166.7033,3419,     36.9,  -1.6919,  32.2946,2,    261.0,4,  -1.6925,  32.3134,2,    356.2,2,    10.25,2,     4.27,2,     0.03,2,     0.83,2,    6.260,2,    3.010,2,    1.250,2,   2119.0,2,   2247.5,2,    7.840,2
18SN19940724,AO94,       28,        1,       33,   143862,2,19940815,1800,85.8917,166.7033,3419,     47.2,  -1.7050,  33.1858,2,    281.4,4,  -1.7058,  33.2124,2,    330.1,2,    10.12,2,     6.88,2,     0.02,2,     0.75,2,    5.650,2,    2.850,2,    1.120,2,   2152.0,2,   2280.7,2,    7.070,2
18SN19940724,AO94,       28,        1,       32,   143861,2,19940815,1800,85.8917,166.7033,3419,     62.2,  -1.7052,  33.6457,2,    261.3,4,  -1.7064,  33.6477,2,    326.0,2,     7.51,2,     7.33,2,     0.01,2,     0.68,2,    5.510,2,    2.530,2, -999.000,9,   2150.9,2,   2287.2,2,    6.620,2
18SN19940724,AO94,       28,        1,       31,   143860,2,19940815,1800,85.8917,166.7033,3419,     77.4,  -1.6509,  33.8974,2,    255.5,4,  -1.6525,  33.8980,2,    316.5,2,     6.82,2,     8.19,2,     0.01,2,     0.70,2,    4.990,2,    2.430,2,    0.840,2,   2153.2,2,   2286.8,2,    6.050,2
18SN19940724,AO94,       28,        1,       30,   143859,2,19940815,1800,85.8917,166.7033,3419,     92.6,  -1.5817,  34.0773,2,    303.9,4,  -1.5836,  34.0757,2,    312.4,2,     6.24,2,     8.67,2,     0.01,2,     0.71,2,    4.790,2,    2.300,2,    0.660,2,   2151.9,2,   2291.2,2,    5.520,2
18SN19940724,AO94,       28,        1,       29,   143858,2,19940815,1800,85.8917,166.7033,3419,    112.9,  -1.2961,  34.2859,2,    313.5,4,  -1.2989,  34.2803,2,    307.4,2,     6.12,2,     9.24,2,     0.01,2,     0.73,2,    4.230,2,    2.220,2,    0.860,2,   2154.6,2,   2294.8,2,    5.670,2
18SN19940724,AO94,       28,        1,       28,   143857,2,19940815,1800,85.8917,166.7033,3419,    133.0,  -0.8744,  34.4057,2,    308.6,4,  -0.8781,  34.4072,2,    304.9,2,     6.15,2,     9.76,2,     0.01,2,     0.75,2,    3.570,2,    1.830,2,    0.860,2,   2154.4,2,   2300.6,2,    5.500,2
18SN19940724,AO94,       28,        1,       27,   143856,2,19940815,1800,85.8917,166.7033,3419,    153.0,  -0.3529,  34.5342,2,    303.6,4,  -0.3580,  34.5248,2,    301.7,2,     6.40,2,    10.33,2,     0.01,2,     0.77,2,    3.330,2,    1.750,2,    0.580,2,   2155.3,2,   2305.3,2,    5.410,2
18SN19940724,AO94,       28,        1,       26,   143855,2,19940815,1800,85.8917,166.7033,3419,    173.1,  -0.0769,  34.5994,2,    300.2,4,  -0.0831,  34.5960,2,    299.5,2,     6.69,2,    10.73,2,     0.01,2,     0.79,2,    3.000,2,    1.640,2,    0.390,2,   2156.1,2,   2306.3,2,    4.810,2
18SN19940724,AO94,       28,        1,       25,   143854,2,19940815,1800,85.8917,166.7033,3419,    193.3,   0.2750,  34.6942,2,    297.3,4,   0.2674,  34.6845,2,    297.7,2,     6.78,2,    11.26,2,     0.01,2,     0.81,2,    2.840,2,    1.560,2,    0.620,2,   2154.8,2,   2309.7,2,    5.270,2
18SN19940724,AO94,       28,        1,       24,   143853,2,19940815,1800,85.8917,166.7033,3419,    213.4,   0.5127,  34.7600,2,    295.3,4,   0.5038,  34.7573,2,    299.1,2,     6.51,2,    11.58,2,     0.01,2,     0.82,2,    2.830,2,    1.570,2,    0.560,2,   2152.0,2,   2309.8,2,    5.070,2
18SN19940724,AO94,       28,        1,       23,   143852,2,19940815,1800,85.8917,166.7033,3419,    243.6,   0.6740,  34.8214,2,    295.4,4,   0.6635,  34.8184,2,    299.4,2,     6.54,2,    11.94,2,     0.01,2,     0.84,2,    2.870,2,    1.510,2,    0.530,2,   2150.8,2,   2315.1,2,    4.990,2
18SN19940724,AO94,       28,        1,       22,   143851,2,19940815,1800,85.8917,166.7033,3419,    278.6,   0.5776,  34.8163,2,    297.4,4,   0.5656,  34.8142,2,    298.9,2,     6.68,2,    11.98,2,     0.01,2,     0.84,2,    2.470,2,    1.420,2,    0.350,2,   2154.4,2,   2316.1,2,    4.340,2
18SN19940724,AO94,       28,        1,       21,   143850,2,19940815,1800,85.8917,166.7033,3419,    314.0,   0.7287,  34.8563,2,    297.3,4,   0.7147,  34.8538,2,    301.1,2,     6.51,2,    12.14,2,     0.01,2,     0.85,2,    2.970,2,    1.560,2,    0.600,2,   2151.6,2,   2316.3,2,    5.590,2
18SN19940724,AO94,       28,        1,       20,   143849,2,19940815,1800,85.8917,166.7033,3419,    385.0,   0.5108,  34.8519,2,    299.5,4,   0.4941,  34.8485,2,    296.0,2,     7.22,2,    12.34,2,     0.00,2,     0.86,2,    1.680,2,    0.840,2,    0.510,2,   2151.8,2,   2320.4,2,    4.250,2
18SN19940724,AO94,       28,        1,       19,   143848,2,19940815,1800,85.8917,166.7033,3419,    435.3,   0.5185,  34.8690,2,    300.1,4,   0.4994,  34.8676,2,    297.8,2,     7.15,2,    12.42,2,     0.00,2,     0.87,2,    1.680,2,    0.860,2,    0.350,2,   2153.5,2,   2317.3,2,    4.020,2
18SN19940724,AO94,       28,        1,       18,   143847,2,19940815,1800,85.8917,166.7033,3419,    495.9,   0.4404,  34.8713,2,    301.3,4,   0.4188,  34.8698,2,    297.8,2,     7.29,2,    12.50,2,     0.00,2,     0.87,2,    1.550,2,    0.840,2,    0.300,2,   2160.1,2,   2318.5,2,    3.460,2
18SN19940724,AO94,       28,        1,       17,   143846,2,19940815,1800,85.8917,166.7033,3419,    556.3,   0.3300,  34.8769,2,    301.6,4,   0.3059,  34.8745,2,    299.3,2,     7.23,2,    12.50,2,     0.00,2,     0.88,2,    1.460,2,    0.820,2,    0.350,2,   2155.1,2,   2316.4,2,    3.730,2
18SN19940724,AO94,       28,        1,       16,   143845,2,19940815,1800,85.8917,166.7033,3419,    657.0,   0.1461,  34.8784,2,    300.7,4,   0.1180,  34.8759,2,    300.4,2,     7.26,2,    12.45,2,     0.00,2,     0.88,2,    1.220,2,    0.800,2,    0.400,2,   2153.9,2,   2325.5,2,    3.280,2
18SN19940724,AO94,       28,        1,       15,   143844,2,19940815,1800,85.8917,166.7033,3419,    808.7,  -0.0211,  34.8874,2,    298.2,4,  -0.0557,  34.8851,2,    301.0,2,     7.51,2,    12.57,2,     0.00,2,     0.90,2,    0.990,2,    0.560,2,    0.300,2,   2155.3,2,   2321.1,2,    3.170,2
18SN19940724,AO94,       28,        1,       14,   143843,2,19940815,1800,85.8917,166.7033,3419,    934.9,  -0.1182,  34.8960,2,    297.6,4,  -0.1584,  34.8950,2,    301.6,2,     7.85,2,    12.73,2,     0.00,2,     0.91,2,    0.810,2,    0.510,2,    0.280,2,   2155.1,2,   2313.5,2,    2.230,2
18SN19940724,AO94,       28,        1,       13,   143842,2,19940815,1800,85.8917,166.7033,3419,   1111.7,  -0.2439,  34.9082,2,    296.3,4,  -0.2924,  34.9064,2,    300.8,2,     8.40,2,    12.97,2,     0.00,2,     0.93,2,    0.620,2,    0.320,2,    0.250,2,   2156.2,2,   2315.3,2,    2.160,2
18SN19940724,AO94,       28,        1,       12,   143841,2,19940815,1800,85.8917,166.7033,3419,   1318.0,  -0.3326,  34.9215,2,    295.2,4,  -0.3916,  34.9208,2,    298.3,2,     9.42,2,    13.41,2,     0.00,2,     0.96,2,    0.360,2,    0.240,2,    0.250,2,   2155.9,2,   2313.2,2,    1.270,2
18SN19940724,AO94,       28,        1,       11,   143840,2,19940815,1800,85.8917,166.7033,3419,   1521.3,  -0.3825,  34.9336,2,    294.0,4,  -0.4528,  34.9332,2,    294.8,2,    10.69,2,    13.81,2,     0.00,2,     0.99,2,    0.100,2,    0.070,2,    0.200,2,   2155.8,2,   2324.3,2,    0.400,2
18SN19940724,AO94,       28,        1,       10,   143839,2,19940815,1800,85.8917,166.7033,3419,   1723.2,  -0.4102,  34.9419,2,    292.9,4,  -0.4925,  34.9411,2,    291.8,2,    11.90,2,    14.13,2,     0.00,2,     1.01,2,    0.120,2,    0.080,2,    0.320,2,   2159.3,2,   2320.6,2,    0.680,2
18SN19940724,AO94,       28,        1,        9,   143838,2,19940815,1800,85.8917,166.7033,3419,   1926.3,  -0.4159,  34.9478,2,    292.0,4,  -0.5112,  34.9454,2,    289.5,2,    12.71,2,    14.37,2,     0.00,2,     1.03,2,    0.040,2,    0.070,2,    0.240,2,   2158.1,2,   2323.1,2,    0.000,2
18SN19940724,AO94,       28,        1,        8,   143837,2,19940815,1800,85.8917,166.7033,3419,   2128.9,  -0.4086,  34.9502,2,    291.3,4,  -0.5177,  34.9501,2,    288.1,2,    13.11,2,    14.45,2,     0.00,2,     1.04,2,    0.040,2,    0.030,2,    0.140,2,   2161.4,2,   2326.7,2,    0.620,2
18SN19940724,AO94,       28,        1,        7,   143836,2,19940815,1800,85.8917,166.7033,3419,   2331.9,  -0.3973,  34.9522,2,    290.8,4,  -0.5210,  34.9515,2,    287.6,2,    13.35,2,    14.53,2,     0.00,2,     1.04,2,    0.050,2,    0.140,2, -999.000,9,   2163.1,2,   2327.7,2,    0.000,2
18SN19940724,AO94,       28,        1,        6,   143835,2,19940815,1800,85.8917,166.7033,3419,   2535.3,  -0.3845,  34.9534,2,    290.4,4,  -0.5236,  34.9531,2,    287.2,2,    13.43,2,    14.48,2,     0.00,2,     1.04,2,    0.020,2,    0.020,2,    0.000,2,   2162.2,2,   2321.7,2,    0.000,2
18SN19940724,AO94,       28,        1,        5,   143834,2,19940815,1800,85.8917,166.7033,3419,   2739.9,  -0.3726,  34.9535,2,    290.1,4,  -0.5279,  34.9533,2,    287.5,2,    13.36,2,    14.52,2,     0.00,2,     1.03,2,    0.000,2,    0.010,2,    0.200,2,   2161.9,2,   2326.0,2,    0.000,2
18SN19940724,AO94,       28,        1,        4,   143833,2,19940815,1800,85.8917,166.7033,3419,   2943.5,  -0.3610,  34.9530,2,    289.8,4,  -0.5330,  34.9521,2,    288.1,2,    13.24,2,    14.52,2,     0.00,2,     1.03,2,    0.020,2,    0.030,2,    0.000,2,   2161.7,2,   2318.4,2,    0.040,2
18SN19940724,AO94,       28,        1,        3,   143832,2,19940815,1800,85.8917,166.7033,3419,   3146.8,  -0.3486,  34.9534,2,    289.6,4,  -0.5380,  34.9531,2,    289.0,2,    13.13,2,    14.48,2,     0.00,2,     1.03,2,    0.020,2,    0.010,2,    0.100,2,   2160.5,2,   2322.8,2,    0.000,2
18SN19940724,AO94,       28,        1,        2,   143831,2,19940815,1800,85.8917,166.7033,3419,   3349.7,  -0.3367,  34.9533,2,    289.4,4,  -0.5440,  34.9525,2,    289.7,2,    12.90,2,    14.47,2,     0.00,2,     1.03,2,    0.020,2,    0.010,2,    0.000,2,   2159.9,2,   2329.0,2,    0.000,2
18SN19940724,AO94,       28,        1,        1,   143830,2,19940815,1800,85.8917,166.7033,3419,   3517.2,  -0.3233,  34.9529,2,    290.0,4,  -0.5461,  34.9535,2,    290.0,2,    12.84,2,    14.47,2,     0.00,2,     1.03,2,    0.000,2,    0.000,2,    0.070,2,   2157.3,2,   2327.0,2,    0.000,2