BOTTLE,20090717CCHDOSIODM
EXPOCODE,SECT_ID,STNNBR,CASTNO,SAMPNO,BTLNBR,BTLNBR_FLAG_W,DATE,TIME,LATITUDE,LONGITUDE,DEPTH,CTDPRS,CTDTMP,CTDSAL,CTDSAL_FLAG_W,CTDOXY,CTDOXY_FLAG_W,THETA,SALNTY,SALNTY_FLAG_W,OXYGEN,OXYGEN_FLAG_W,SILCAT,SILCAT_FLAG_W,NITRAT,NITRAT_FLAG_W,NITRIT,NITRIT_FLAG_W,PHSPHT,PHSPHT_FLAG_W,CFC-11,CFC-11_FLAG_W,CFC-12,CFC-12_FLAG_W,CFC113,CFC113_FLAG_W,TCARBN,TCARBN_FLAG_W,ALKALI,ALKALI_FLAG_W,CCL4,CCL4_FLAG_W
,,,,,,,,,,,,DBAR,ITS-90,PSS-78,,UMOL/KG,,DEG C,PSS-78,,UMOL/KG,,UMOL/KG,,UMOL/KG,,UMOL/KG,,UMOL/KG,,PMOL/KG,,PMOL/KG,,PMOL/KG,,UMOL/KG,,UMOL/KG,,PMOL/KG,
18SN19940724,AO94,       38,        1,       36,   144370,2,19940827,1731,83.8450,35.6900,3908,     13.6,  -1.6534,  33.2251,2,    350.1,4,  -1.6536,  33.2288,2,    365.2,2,     2.59,2,     4.17,2,     0.03,2,     0.40,2,    5.350,2,    2.820,2,    0.750,2,   2022.5,2,   2212.8,2,   11.200,2
18SN19940724,AO94,       38,        1,       35,   144369,2,19940827,1731,83.8450,35.6900,3908,     23.9,  -1.6881,  33.4116,2,    343.5,4,  -1.6886,  33.3527,2,    359.6,2,     2.92,2,     4.73,2,     0.03,2,     0.43,2,    5.530,2,    2.920,2,    0.530,2,   2032.3,2,   2219.7,2,   10.730,2
18SN19940724,AO94,       38,        1,       34,   144368,2,19940827,1731,83.8450,35.6900,3908,     35.8,  -1.7354,  33.8825,2,    345.0,4,  -1.7361,  33.8789,2,    345.0,2,     4.07,2,     6.69,2,     0.04,2,     0.57,2,    5.250,2,    2.870,2,    0.780,2,   2080.8,2,   2260.0,2,   10.490,2
18SN19940724,AO94,       38,        1,       33,   144367,2,19940827,1731,83.8450,35.6900,3908,     49.0,  -1.7635,  34.1008,2,    339.7,4,  -1.7644,  34.0906,2,    338.2,2,     4.74,2,     7.92,2,     0.05,2,     0.64,2,    5.170,2,    2.970,2,    0.380,2,   2097.1,2,   2267.4,2,    8.900,2
18SN19940724,AO94,       38,        1,       32,   144366,2,19940827,1731,83.8450,35.6900,3908,     64.3,  -1.6574,  34.2351,2,    337.6,4,  -1.6587,  34.2337,2,    336.3,2,     4.98,2,     8.27,2,     0.04,2,     0.66,2,    4.720,2,    2.660,2, -999.000,9,   2111.4,2,   2298.7,2,    7.680,2
18SN19940724,AO94,       38,        1,       31,   144365,2,19940827,1731,83.8450,35.6900,3908,     79.6,  -1.5566,  34.2950,2,    335.7,4,  -1.5584,  34.2911,2,    338.4,2,     5.02,2,     8.09,2,     0.03,2,     0.65,2,    4.690,2,    2.360,2,    0.390,2,   2120.7,2,   2292.8,2,    7.410,2
18SN19940724,AO94,       38,        1,       30,   144364,2,19940827,1731,83.8450,35.6900,3908,     94.9,  -1.4421,  34.3262,2,    340.9,4,  -1.4443,  34.3216,2,    338.6,2,     5.02,2,     7.98,2,     0.03,2,     0.64,2,    4.390,2,    2.310,2,    0.600,2,   2123.9,2,   2289.0,2,    6.720,2
18SN19940724,AO94,       38,        1,       29,   144363,2,19940827,1731,83.8450,35.6900,3908,    110.4,  -0.9368,  34.3706,2,    317.5,4,  -0.9399,  34.3755,2,    328.6,2,     5.45,2,     8.71,2,     0.02,2,     0.68,2,    4.210,2,    2.060,2,    0.260,2,   2127.7,2,   2288.9,2,    6.420,2
18SN19940724,AO94,       38,        1,       28,   144362,2,19940827,1731,83.8450,35.6900,3908,    130.7,   0.3582,  34.5420,2,    317.6,4,   0.3530,  34.5469,2,    309.6,2,     6.41,2,    10.37,2,     0.01,2,     0.77,2,    3.480,2,    2.070,2,    0.710,2,   2137.6,2,   2305.1,2,    6.370,2
18SN19940724,AO94,       38,        1,       27,   144361,2,19940827,1731,83.8450,35.6900,3908,    150.9,   0.9673,  34.6588,2,    311.3,4,   0.9605,  34.6521,2,    304.3,2,     6.74,2,    11.05,2,     0.01,2,     0.80,2,    3.370,2,    1.970,2,    0.220,2,   2142.1,2,   2324.0,3,    6.240,2
18SN19940724,AO94,       38,        1,       26,   144360,2,19940827,1731,83.8450,35.6900,3908,    176.2,   1.4393,  34.7419,2,    305.0,4,   1.4307,  34.7449,2,    302.0,2,     6.83,2,    11.50,2,     0.02,2,     0.83,2,    3.470,2,    1.820,2,    0.520,2,   2143.4,2,   2307.5,2,    6.480,2
18SN19940724,AO94,       38,        1,       25,   144359,2,19940827,1731,83.8450,35.6900,3908,    206.4,   1.9401,  34.8620,2,    298.0,4,   1.9291,  34.8598,2,    302.4,2,     6.92,2,    11.92,2,     0.01,2,     0.85,2,    3.780,2,    1.940,2,    0.200,2,   2144.8,2,   2312.7,2,    6.950,2
18SN19940724,AO94,       38,        1,       24,   144358,2,19940827,1731,83.8450,35.6900,3908,    237.2,   2.1138,  34.9072,2,    294.8,4,   2.1007,  34.9089,2,    303.6,2,     7.11,2,    12.15,2,     0.01,2,     0.86,2,    3.870,2,    1.990,2,    0.610,2,   2147.3,2,   2316.8,2,    7.330,2
18SN19940724,AO94,       38,        1,       23,   144357,2,19940827,1731,83.8450,35.6900,3908,    266.4,   2.0263,  34.9157,2,    294.1,4,   2.0116,  34.9184,2,    303.3,2,     7.10,2,    12.30,2,     0.01,2,     0.86,2,    3.690,2,    1.930,2,    0.180,2,   2145.6,2,   2317.6,2,    7.130,2
18SN19940724,AO94,       38,        1,       22,   144356,2,19940827,1731,83.8450,35.6900,3908,    307.3,   1.8950,  34.9257,2,    293.7,4,   1.8783,  34.9284,2,    304.0,2,     7.10,2,    12.31,2,     0.01,2,     0.87,2,    3.610,2,    1.820,2,    0.530,2,   2146.8,2,   2318.0,2,    7.220,2
18SN19940724,AO94,       38,        1,       21,   144355,2,19940827,1731,83.8450,35.6900,3908,    357.8,   1.6756,  34.9285,2,    294.3,4,   1.6567,  34.9319,2,    304.1,2,     7.24,2,    12.50,2,     0.01,2,     0.88,2,    3.340,2,    1.700,2,    0.200,2,   2148.4,2,   2320.7,2,    6.950,2
18SN19940724,AO94,       38,        1,       20,   144354,2,19940827,1731,83.8450,35.6900,3908,    433.1,   1.3301,  34.9229,2,    295.9,4,   1.3082,  34.9242,2,    302.9,2,     7.48,2,    12.62,2,     0.01,2,     0.89,2,    2.770,2,    1.360,2,    0.400,2,   2150.5,2,   2311.9,2,    6.320,2
18SN19940724,AO94,       38,        1,       19,   144353,2,19940827,1731,83.8450,35.6900,3908,    509.3,   1.0122,  34.9151,2,    297.7,4,   0.9874,  34.9175,2,    301.4,2,     7.62,2,    12.73,2,     0.01,2,     0.89,2,    1.770,2,    1.060,2,    0.120,2,   2151.3,2,   2307.4,2,    4.660,2
18SN19940724,AO94,       38,        1,       18,   144352,2,19940827,1731,83.8450,35.6900,3908,    635.3,   0.6311,  34.9165,2,    299.9,4,   0.6015,  34.9177,2,    302.7,2,     7.80,2,    12.81,2,     0.00,2,     0.90,2,    1.650,2,    1.140,2,    0.200,2,   2154.4,2,   2310.9,2,    4.340,2
18SN19940724,AO94,       38,        1,       17,   144351,2,19940827,1731,83.8450,35.6900,3908,    762.2,   0.2082,  34.9092,2,    303.5,4,   0.1744,  34.9090,2,    302.7,2,     7.99,2,    12.63,2,     0.00,2,     0.91,2,    1.260,2,    0.810,2,    0.100,2,   2156.4,2,   2316.2,2,    4.030,2
18SN19940724,AO94,       38,        1,       16,   144350,2,19940827,1731,83.8450,35.6900,3908,    888.7,  -0.0536,  34.9119,2,    305.7,4,  -0.0921,  34.9108,2,    302.9,2,     8.42,2,    12.90,2,     0.00,2,     0.93,2,    1.040,2,    0.820,2,    0.240,2,   2158.9,2,   -999.0,9,    3.700,2
18SN19940724,AO94,       38,        1,       15,   144349,2,19940827,1731,83.8450,35.6900,3908,   1014.9,  -0.2555,  34.9143,2,    307.5,4,  -0.2988,  34.9139,2,    302.9,2,     8.89,2,    13.12,2,     0.00,2,     0.94,2,    0.710,2,    0.440,2,    0.050,2,   2159.8,2,   2313.5,2,    2.830,2
18SN19940724,AO94,       38,        1,       14,   144348,2,19940827,1731,83.8450,35.6900,3908,   1167.2,  -0.4002,  34.9173,2,    308.7,4,  -0.4502,  34.9167,2,    302.8,2,     9.65,2,    13.39,2,     0.00,2,     0.96,2,    0.520,2,    0.440,2,    0.160,2,   2160.8,2,   -999.0,9,    2.640,2
18SN19940724,AO94,       38,        1,       13,   144347,2,19940827,1731,83.8450,35.6900,3908,   1319.6,  -0.5167,  34.9196,2,    309.5,4,  -0.5738,  34.9196,2,    302.0,2,    10.32,2,    13.69,2,     0.00,2,     0.99,2,    0.560,2,    0.350,2,    0.070,2,   2154.1,2,   2316.5,2,    2.160,2
18SN19940724,AO94,       38,        1,       12,   144346,2,19940827,1731,83.8450,35.6900,3908,   1523.1,  -0.6226,  34.9215,2,    309.7,4,  -0.6900,  34.9222,2,    300.7,2,    11.13,2,    14.04,2,     0.00,2,     1.01,2,    0.340,2,    0.310,2,    0.190,2,   2159.7,2,   -999.0,9,    1.820,2
18SN19940724,AO94,       38,        1,       11,   144345,2,19940827,1731,83.8450,35.6900,3908,   1726.1,  -0.6908,  34.9221,2,    309.3,4,  -0.7693,  34.9202,2,    300.6,2,    11.55,2,    14.15,2,     0.00,2,     1.02,2,    0.360,2,    0.360,2,    0.060,2,   2163.7,2,   2324.0,2,    1.560,2
18SN19940724,AO94,       38,        1,       10,   144344,2,19940827,1731,83.8450,35.6900,3908,   1930.5,  -0.7430,  34.9228,2,    308.6,4,  -0.8334,  34.9214,2,    301.0,2,    11.79,2,    14.31,2,     0.00,2,     1.03,2,    0.240,2, -999.000,9,    0.170,2,   2164.6,2,   -999.0,9,    1.320,2
18SN19940724,AO94,       38,        1,        9,   144343,2,19940827,1731,83.8450,35.6900,3908,   2134.9,  -0.7778,  34.9245,2,    307.6,4,  -0.8811,  34.9237,2,    301.1,2,    12.02,2,    14.38,2,     0.00,2,     1.03,2,    0.250,2,    0.180,2,    0.050,2,   2162.4,2,   2314.5,2,    1.170,2
18SN19940724,AO94,       38,        1,        8,   144342,2,19940827,1731,83.8450,35.6900,3908,   2389.0,  -0.7951,  34.9271,2,    306.0,4,  -0.9155,  34.9265,2,    300.8,2,    12.21,2,    14.39,2,     0.00,2,     1.04,2,    0.160,2, -999.000,9,    0.140,2,   2159.3,2,   -999.0,9,    0.840,2
18SN19940724,AO94,       38,        1,        7,   144341,2,19940827,1731,83.8450,35.6900,3908,   2644.5,  -0.7971,  34.9311,2,    303.9,4,  -0.9361,  34.9310,2,    300.6,2,    12.35,2,    14.47,2,     0.00,2,     1.04,2,    0.130,2,    0.100,2,    0.030,2,   2160.1,2,   2315.8,2, -999.000,9
18SN19940724,AO94,       38,        1,        6,   144340,2,19940827,1731,83.8450,35.6900,3908,   2899.9,  -0.7859,  34.9346,2,    301.6,4,  -0.9449,  34.9350,2,    300.0,2,    12.53,2,    14.50,2,     0.00,2,     1.04,2,    0.070,2,    0.140,2,    0.150,2,   2157.0,2,   -999.0,9,    0.420,2
18SN19940724,AO94,       38,        1,        5,   144339,2,19940827,1731,83.8450,35.6900,3908,   3154.0,  -0.7669,  34.9377,2,    299.2,4,  -0.9469,  34.9371,2,    299.4,2,    12.53,2,    14.51,2,     0.00,2,     1.03,2,    0.130,2,    0.110,2,    0.040,2,   2156.3,2,   2317.8,2,    0.280,2
18SN19940724,AO94,       38,        1,        4,   144338,2,19940827,1731,83.8450,35.6900,3908,   3408.8,  -0.7435,  34.9400,2,    296.7,4,  -0.9457,  34.9397,2,    298.6,2,    12.86,2,    14.55,2,     0.00,2,     1.04,2,    0.050,2, -999.000,9,    0.140,2,   2158.2,2,   -999.0,9,    0.240,2
18SN19940724,AO94,       38,        1,        3,   144337,2,19940827,1731,83.8450,35.6900,3908,   3665.2,  -0.7120,  34.9424,2,    294.1,4,  -0.9380,  34.9416,2,    297.7,2,    12.95,2,    14.55,2,     0.00,2,     1.04,2,    0.190,2,    0.050,2,    0.110,2,   2157.4,2,   2319.6,2,    0.630,2
18SN19940724,AO94,       38,        1,        2,   144336,2,19940827,1731,83.8450,35.6900,3908,   3870.1,  -0.6919,  34.9417,2,    292.0,4,  -0.9374,  34.9414,2,    297.8,2,    12.94,2,    14.55,2,     0.00,2,     1.04,2,    0.020,2, -999.000,9,    0.160,2,   2161.4,2,   2339.6,3,    0.110,2
18SN19940724,AO94,       38,        1,        1,   144335,2,19940827,1731,83.8450,35.6900,3908,   4029.2,  -0.6764,  34.9416,2,    290.5,4,  -0.9376,  34.9420,2,    297.7,2,    12.98,2,    14.55,2,     0.00,2,     1.04,2,    0.000,2,    0.120,2,    0.130,2,   2162.1,2,   2321.6,2,    0.040,2