BOTTLE,20090717CCHDOSIODM
EXPOCODE,SECT_ID,STNNBR,CASTNO,SAMPNO,BTLNBR,BTLNBR_FLAG_W,DATE,TIME,LATITUDE,LONGITUDE,DEPTH,CTDPRS,CTDTMP,CTDSAL,CTDSAL_FLAG_W,CTDOXY,CTDOXY_FLAG_W,THETA,SALNTY,SALNTY_FLAG_W,OXYGEN,OXYGEN_FLAG_W,SILCAT,SILCAT_FLAG_W,NITRAT,NITRAT_FLAG_W,NITRIT,NITRIT_FLAG_W,PHSPHT,PHSPHT_FLAG_W,CFC-11,CFC-11_FLAG_W,CFC-12,CFC-12_FLAG_W,CFC113,CFC113_FLAG_W,TCARBN,TCARBN_FLAG_W,ALKALI,ALKALI_FLAG_W,CCL4,CCL4_FLAG_W
,,,,,,,,,,,,DBAR,ITS-90,PSS-78,,UMOL/KG,,DEG C,PSS-78,,UMOL/KG,,UMOL/KG,,UMOL/KG,,UMOL/KG,,UMOL/KG,,PMOL/KG,,PMOL/KG,,PMOL/KG,,UMOL/KG,,UMOL/KG,,PMOL/KG,
18SN19940724,AO94,       19,        1,       30,   143416,2,19940808,0851,80.1567,-176.7683,2106,     10.3,  -1.6053,  30.7287,2,    127.9,4,  -1.6055,  30.7273,2,    378.7,2,    12.96,2,     0.63,2,     0.05,2,     1.03,2,    6.570,2,    3.260,2,    0.770,2,   2057.0,2,   2186.0,2,   10.890,2
18SN19940724,AO94,       19,        1,       29,   143415,2,19940808,0851,80.1567,-176.7683,2106,     20.3,  -1.6162,  30.7733,2,    128.8,4,  -1.6165,  30.7570,2,    378.2,2,    13.15,2,     0.66,2,     0.05,2,     1.03,2,    6.610,2,    3.250,2,    0.620,2,   2062.2,2,   2188.7,2,   11.640,2
18SN19940724,AO94,       19,        1,       28,   143414,2,19940808,0851,80.1567,-176.7683,2106,     30.6,  -1.6230,  30.8687,2,    129.5,4,  -1.6235,  30.8455,2,    376.6,2,    13.34,2,     0.90,2,     0.06,2,     1.06,2,    6.440,2,    3.050,2,    0.760,2,   2067.2,2,   2187.5,2,   10.480,2
18SN19940724,AO94,       19,        1,       27,   143413,2,19940808,0851,80.1567,-176.7683,2106,     46.1,  -1.6873,  31.8507,2,   1924.0,4,  -1.6880,  31.7563,2,    360.1,2,    12.41,2,     3.07,2,     0.04,2,     0.98,2,    6.270,2,    2.990,2,    0.440,2,   2104.2,2,   2230.2,2,    9.810,2
18SN19940724,AO94,       19,        1,       26,   143412,2,19940808,0851,80.1567,-176.7683,2106,     61.1,  -1.7416,  33.2295,2,    389.8,4,  -1.7427,  33.2339,2,    335.9,2,     8.57,2,     6.22,2,     0.02,2,     0.70,2,    5.860,2,    2.800,2,    0.590,2,   2135.0,2,   2276.4,2,    7.520,2
18SN19940724,AO94,       19,        1,       25,   143411,2,19940808,0851,80.1567,-176.7683,2106,     71.0,  -1.7657,  33.5890,2,    359.7,4,  -1.7671,  33.5943,2,    335.0,2,     6.32,2,     6.46,2,     0.02,2,     0.62,2,    5.900,2,    2.840,2,    0.460,2,   2146.7,2,   2286.0,2,    7.610,2
18SN19940724,AO94,       19,        1,       24,   143410,2,19940808,0851,80.1567,-176.7683,2106,     81.6,  -1.7453,  33.7541,2,    347.7,4,  -1.7468,  33.7455,2,    327.3,2,     6.41,2,     7.09,2,     0.02,2,     0.64,2,    5.670,2,    2.590,2,    0.520,2,   2145.0,2,   2290.3,2,    6.700,2
18SN19940724,AO94,       19,        1,       23,   143409,2,19940808,0851,80.1567,-176.7683,2106,    101.6,  -1.6457,  33.9885,2,    336.2,4,  -1.6478,  33.9747,2,    318.5,2,     6.60,2,     8.01,2,     0.02,2,     0.69,2, -999.000,9, -999.000,9, -999.000,9,   2148.6,2,   2298.6,2, -999.000,9
18SN19940724,AO94,       19,        1,       22,   143408,2,19940808,0851,80.1567,-176.7683,2106,    121.9,  -1.4504,  34.1775,2,    325.9,4,  -1.4532,  34.1742,2,    309.9,2,     6.44,2,     8.88,2,     0.01,2,     0.73,2,    4.980,2,    2.360,2,    0.370,2,   2150.0,2,   2300.1,2,    6.090,2
18SN19940724,AO94,       19,        1,       21,   143407,2,19940808,0851,80.1567,-176.7683,2106,    136.8,  -1.2160,  34.3078,2,    320.6,4,  -1.2194,  34.3009,2,    306.0,2,     6.42,2,     9.40,2,     0.01,2,     0.75,2,    4.470,2,    2.250,2,    0.300,2,   2151.3,2,   2303.4,2,    6.150,2
18SN19940724,AO94,       19,        1,       20,   143406,2,19940808,0851,80.1567,-176.7683,2106,    152.5,  -0.8588,  34.3959,2,    318.9,4,  -0.8631,  34.3970,2,    305.5,2,     6.31,2,     9.68,2,     0.01,2,     0.76,2,    4.410,2,    2.040,2,    0.260,2,   2152.0,2,   2302.5,2,    5.870,2
18SN19940724,AO94,       19,        1,       19,   143405,2,19940808,0851,80.1567,-176.7683,2106,    172.1,  -0.3311,  34.5122,2,    315.7,4,  -0.3368,  34.4945,2,   -999.0,5,     6.10,2,    10.00,2,     0.01,2,     0.77,2,    4.320,2,    2.130,2,    0.290,2,   2152.2,2,   2307.1,2,    6.600,2
18SN19940724,AO94,       19,        1,       18,   143404,2,19940808,0851,80.1567,-176.7683,2106,    192.3,   0.0059,  34.5954,2,    309.7,4,  -0.0012,  34.5869,2,    302.9,2,     6.24,2,    10.55,2,     0.01,2,     0.79,2,    4.180,2,    1.970,2,    0.220,2,   2154.9,2,   2310.1,2,    6.120,2
18SN19940724,AO94,       19,        1,       17,   143403,2,19940808,0851,80.1567,-176.7683,2106,    242.8,   0.6133,  34.7660,2,    306.3,4,   0.6029,  34.7668,2,    302.2,2,     6.08,2,    11.47,2,     0.01,2,     0.82,2,    3.690,2,    1.990,2, -999.000,9,   2147.2,2,   2319.9,2,    6.030,2
18SN19940724,AO94,       19,        1,       16,   143402,2,19940808,0851,80.1567,-176.7683,2106,    303.6,   0.6308,  34.8161,2,    308.2,4,   0.6176,  34.8166,2,    302.9,2,     6.22,2,    11.78,2,     0.01,2,     0.85,2,    3.540,2,    1.710,2,    0.190,2,   2153.6,2,   2321.4,2,    6.100,2
18SN19940724,AO94,       19,        1,       15,   143401,2,19940808,0851,80.1567,-176.7683,2106,    353.8,   0.5623,  34.8233,2,    307.4,4,   0.5469,  34.8223,2,    302.6,2,     6.31,2,    11.86,2,     0.01,2,     0.85,2,    3.500,2,    1.680,2,    0.190,2,   2151.9,2,   2322.7,2,    6.130,2
18SN19940724,AO94,       19,        1,       14,   143400,2,19940808,0851,80.1567,-176.7683,2106,    405.0,   0.5538,  34.8413,2,    307.5,4,   0.5360,  34.8410,2,    304.2,2,     6.30,2,    11.90,2,     0.01,2,     0.85,2,    3.390,2,    1.650,2,    0.150,2,   2152.8,2,   2323.5,2,    6.130,2
18SN19940724,AO94,       19,        1,       13,   143399,2,19940808,0851,80.1567,-176.7683,2106,    455.5,   0.4370,  34.8420,2,    308.8,4,   0.4173,  34.8426,2,    302.6,2,     6.44,2,    11.98,2,     0.01,2,     0.85,2, -999.000,9, -999.000,9, -999.000,9,   2153.7,2,   2322.6,2, -999.000,9
18SN19940724,AO94,       19,        1,       12,   143398,2,19940808,0851,80.1567,-176.7683,2106,    506.2,   0.3989,  34.8554,2,    310.8,4,   0.3769,  34.8548,2,    304.4,2,     6.48,2,    12.06,2,     0.00,2,     0.86,2,    3.270,2,    1.670,2,    0.170,2,   2154.9,2,   2323.3,2,    6.040,2
18SN19940724,AO94,       19,        1,       11,   143397,2,19940808,0851,80.1567,-176.7683,2106,    608.2,   0.2022,  34.8552,2,    311.4,4,   0.1762,  34.8560,2,    306.4,2,     6.42,2,    12.03,2,     0.00,2,     0.86,2,    3.440,2,    1.940,2,    0.230,2,   2155.1,2,   2321.3,2,    7.310,2
18SN19940724,AO94,       19,        1,       10,   143396,2,19940808,0851,80.1567,-176.7683,2106,    709.1,   0.0764,  34.8612,2,    309.2,4,   0.0462,  34.8613,2,    305.0,2,     6.66,2,    12.15,2,     0.00,2,     0.87,2,    2.980,2,    1.440,2,    0.110,2,   -999.0,9,   -999.0,9,    6.000,2
18SN19940724,AO94,       19,        1,        9,   143395,2,19940808,0851,80.1567,-176.7683,2106,    810.9,  -0.0366,  34.8661,2,    307.9,4,  -0.0711,  34.8690,2,    305.5,2,     6.86,2,    12.19,2,     0.00,2,     0.88,2,    2.910,2,    1.510,2,    0.180,2,   2150.7,2,   2330.7,2,    5.830,2
18SN19940724,AO94,       19,        1,        8,   143394,2,19940808,0851,80.1567,-176.7683,2106,    912.2,  -0.1493,  34.8738,2,    308.3,4,  -0.1881,  34.8725,2,    306.2,2,     7.00,2,    12.27,2,     0.00,2,     0.89,2,    3.180,2,    1.510,2,    0.170,2,   2159.8,2,   2325.8,2,    6.140,2
18SN19940724,AO94,       19,        1,        7,   143393,2,19940808,0851,80.1567,-176.7683,2106,   1013.6,  -0.2294,  34.8798,2,    306.4,4,  -0.2728,  34.8814,2,    305.7,2,     7.19,2,    12.42,2,     0.00,2,     0.89,2,    3.070,2,    1.570,2,    0.170,2,   2159.0,2,   -999.0,9,    6.210,2
18SN19940724,AO94,       19,        1,        6,   143392,2,19940808,0851,80.1567,-176.7683,2106,   1216.9,  -0.3628,  34.8935,2,    303.9,4,  -0.4159,  34.8952,2,    305.2,2,     7.74,2,    12.66,2,     0.00,2,     0.91,2,    2.290,2,    1.210,2,    0.110,2,   2161.9,2,   2325.1,2,    5.480,2
18SN19940724,AO94,       19,        1,        5,   143391,2,19940808,0851,80.1567,-176.7683,2106,   1420.9,  -0.4361,  34.9104,2,    300.3,4,  -0.4998,  34.9109,2,    302.2,2,     8.85,2,    13.14,2,     0.00,2,     0.95,2,    1.270,2,    0.850,2,    0.130,2,   2157.2,2,   2328.1,2,    3.940,2
18SN19940724,AO94,       19,        1,        4,   143390,2,19940808,0851,80.1567,-176.7683,2106,   1623.9,  -0.4663,  34.9286,2,    295.2,4,  -0.5416,  34.9297,2,    295.5,2,    10.82,2,    13.85,2,     0.00,2,     0.99,2,    0.730,2,    0.510,2,    0.030,2,   2157.5,2,   2326.9,2,    1.890,2
18SN19940724,AO94,       19,        1,        3,   143389,2,19940808,0851,80.1567,-176.7683,2106,   1828.3,  -0.4375,  34.9432,2,    290.7,4,  -0.5260,  34.9427,2,    289.4,2,    12.39,2,    14.29,2,     0.00,2,     1.03,2,    0.300,2,    0.110,2,    0.000,2,   2154.6,2,   2327.5,2,    0.650,2
18SN19940724,AO94,       19,        1,        2,   143388,2,19940808,0851,80.1567,-176.7683,2106,   2032.3,  -0.4146,  34.9503,2,    287.5,4,  -0.5170,  34.9511,2,    286.9,2,    13.30,2,    14.49,2,     0.00,2,     1.05,2,    0.350,2,    0.180,2,    0.010,2,   2157.1,2,   2330.0,2,    0.520,2
18SN19940724,AO94,       19,        1,        1,   143387,2,19940808,0851,80.1567,-176.7683,2106,   2133.6,  -0.4032,  34.9521,2,    285.4,4,  -0.5127,  34.9533,2,    285.4,2,    13.54,2,    14.53,2,     0.00,2,     1.05,2,    0.140,2,    0.080,2,    0.000,2,   2155.0,2,   2347.0,3,    0.810,2
18SN19940724,AO94,       20,        1,       27,   143443,2,19940808,1435,80.3300,-178.6250,1427,     11.1,  -1.6266,  31.1807,2,     83.3,4,  -1.6268,  31.1823,2,    381.7,2,    10.89,2,     0.53,2,     0.04,2,     0.88,2,    6.400,2,    3.190,2,    0.550,2,   2069.4,2,   2205.6,2,   10.540,2
18SN19940724,AO94,       20,        1,       26,   143442,2,19940808,1435,80.3300,-178.6250,1427,     26.5,  -1.6402,  31.2903,2,     82.2,4,  -1.6406,  31.2776,2,    379.9,2,    10.97,2,     0.72,2,     0.05,2,     0.88,2,    6.530,2,    3.210,2,    0.810,2,   2075.0,2,   2208.9,2,   10.250,2
18SN19940724,AO94,       20,        1,       25,   143441,2,19940808,1435,80.3300,-178.6250,1427,     36.3,  -1.6574,  31.7326,2,     82.3,4,  -1.6580,  31.6816,2,    370.5,2,    11.05,2,     1.84,2,     0.07,2,     0.89,2,    6.520,2,    3.110,2,    0.740,2,   2096.8,2,   2232.5,2,    9.770,2
18SN19940724,AO94,       20,        1,       24,   143440,2,19940808,1435,80.3300,-178.6250,1427,     46.6,  -1.7131,  32.5719,2,    356.8,4,  -1.7139,  32.4967,2,    348.8,2,    10.78,2,     4.62,2,     0.03,2,     0.84,2,    6.200,2,    2.930,2,    0.680,2,   2123.6,2,   2258.4,2,    8.930,2
18SN19940724,AO94,       20,        1,       23,   143439,2,19940808,1435,80.3300,-178.6250,1427,     57.1,  -1.7588,  33.4909,2,    536.4,4,  -1.7599,  33.4238,2,    335.7,2,     7.23,2,     6.28,2,     0.02,2,     0.64,2,    6.050,2,    2.820,2,    0.430,2,   2136.3,2,   2284.0,2,    7.270,2
18SN19940724,AO94,       20,        1,       22,   143438,2,19940808,1435,80.3300,-178.6250,1427,     67.0,  -1.7529,  33.7418,2,    487.3,4,  -1.7541,  33.7141,2,    329.4,2,     6.50,2,     6.95,2,     0.01,2,     0.64,2,    5.800,2,    2.810,2,    0.520,2,   2148.0,2,   2291.8,2,    6.920,2
18SN19940724,AO94,       20,        1,       21,   143437,2,19940808,1435,80.3300,-178.6250,1427,     77.5,  -1.7579,  33.8575,2,     79.9,4,  -1.7594,  33.8475,2,    324.1,2,     6.59,2,     7.30,2,     0.01,2,     0.65,2,    5.890,2,    2.740,2,    0.380,2,   2151.7,2,   2298.6,2,    6.790,2
18SN19940724,AO94,       20,        1,       20,   143436,2,19940808,1435,80.3300,-178.6250,1427,     87.6,  -1.7481,  33.9243,2,    361.6,4,  -1.7498,  33.9156,2,    323.7,2,     6.52,2,     7.42,2,     0.01,2,     0.65,2,    5.750,2,    2.820,2,    0.540,2,   2150.7,2,   2301.3,2,    6.560,2
18SN19940724,AO94,       20,        1,       19,   143435,2,19940808,1435,80.3300,-178.6250,1427,     97.5,  -1.6347,  34.0088,2,     84.6,4,  -1.6367,  34.0059,2,    318.8,2,     6.15,2,     7.97,2,     0.01,2,     0.67,2,    5.380,2,    2.610,2,    0.330,2,   2145.8,2,   2299.2,2,    6.580,2
18SN19940724,AO94,       20,        1,       18,   143434,2,19940808,1435,80.3300,-178.6250,1427,    112.6,  -1.4225,  34.1785,2,    458.1,4,  -1.4251,  34.1568,2,    312.8,2,     5.83,2,     8.60,2,     0.01,2,     0.70,2,    5.250,2,    2.480,2,    0.420,2,   2144.3,2,   2302.1,2,    5.880,2
18SN19940724,AO94,       20,        1,       17,   143433,2,19940808,1435,80.3300,-178.6250,1427,    132.9,  -1.1080,  34.3240,2,    400.1,4,  -1.1115,  34.3249,2,    309.4,2,     5.76,2,     9.22,2,     0.01,2,     0.72,2,    5.020,2,    2.440,2,    0.250,2,   2149.9,2,   2301.0,2,    5.910,2
18SN19940724,AO94,       20,        1,       16,   143432,2,19940808,1435,80.3300,-178.6250,1427,    152.8,  -0.5459,  34.4464,2,    730.5,4,  -0.5508,  34.4435,2,    307.9,2,     5.64,2,     9.70,2,     0.01,2,     0.75,2,    4.920,2,    2.290,2,    0.340,2,   2150.8,2,   2309.2,2,    6.000,2
18SN19940724,AO94,       20,        1,       15,   143431,2,19940808,1435,80.3300,-178.6250,1427,    172.8,  -0.0180,  34.5591,2,    374.3,4,  -0.0243,  34.5549,2,    305.6,2,     5.73,2,    10.24,2,     0.01,2,     0.77,2,    4.480,2,    2.180,2,    0.260,2,   2149.6,2,   2310.6,2,    6.090,2
18SN19940724,AO94,       20,        1,       14,   143430,2,19940808,1435,80.3300,-178.6250,1427,    203.4,   0.8155,  34.7353,2,    363.6,4,   0.8065,  34.7233,2,    303.7,2,     5.77,2,    11.14,2,     0.00,2,     0.81,2, -999.000,9, -999.000,9, -999.000,9,   2143.9,2,   2316.8,2, -999.000,9
18SN19940724,AO94,       20,        1,       13,   143429,2,19940808,1435,80.3300,-178.6250,1427,    238.4,   1.0665,  34.7907,2,    359.1,4,   1.0554,  34.7917,2,    303.3,2,     5.85,2,    11.50,2,     0.00,2,     0.83,2,    4.460,2,    2.290,2,    0.280,2,   2144.8,2,   2319.5,2,    6.840,2
18SN19940724,AO94,       20,        1,       12,   143428,2,19940808,1435,80.3300,-178.6250,1427,    273.7,   1.1219,  34.8246,2,    360.7,4,   1.1089,  34.8244,2,    304.0,2,     5.99,2,    11.65,2,     0.00,2,     0.83,2,    4.380,2,    2.240,2,    0.350,2,   2147.2,2,   2323.5,2,    6.640,2
18SN19940724,AO94,       20,        1,       11,   143427,2,19940808,1435,80.3300,-178.6250,1427,    314.3,   1.0070,  34.8364,2,    364.4,4,   0.9923,  34.8383,2,    304.6,2,     6.08,2,    11.77,2,     0.00,2,     0.84,2,    4.250,2,    2.030,2,    0.230,2,   2146.7,2,   2321.8,2,    6.830,2
18SN19940724,AO94,       20,        1,       10,   143426,2,19940808,1435,80.3300,-178.6250,1427,    385.2,   0.8097,  34.8461,2,    362.4,4,   0.7920,  34.8466,2,    304.8,2,     6.16,2,    11.89,2,     0.00,2,     0.85,2,    4.120,2,    1.970,2,    0.240,2,   2153.7,2,   -999.0,9,    6.600,2
18SN19940724,AO94,       20,        1,        9,   143425,2,19940808,1435,80.3300,-178.6250,1427,    456.1,   0.6251,  34.8482,2,    350.8,4,   0.6047,  34.8491,2,    305.6,2,     6.20,2,    11.93,2,     0.00,2,     0.85,2,    3.640,2,    1.950,2,    0.200,2,   2150.6,2,   2323.9,2,    6.810,2
18SN19940724,AO94,       20,        1,        8,   143424,2,19940808,1435,80.3300,-178.6250,1427,    557.8,   0.3990,  34.8550,2,    328.1,4,   0.3745,  34.8576,2,    306.0,2,     6.44,2,    11.97,2,     0.00,2,     0.86,2,    3.930,2,    1.820,2,    0.330,2,   2157.5,2,   -999.0,9,    6.590,2
18SN19940724,AO94,       20,        1,        7,   143423,2,19940808,1435,80.3300,-178.6250,1427,    659.3,   0.1942,  34.8546,2,    315.1,4,   0.1657,  34.8562,2,    307.3,2,     6.53,2,    11.97,2,     0.00,2,     0.86,2, -999.000,9, -999.000,9, -999.000,9,   2153.5,2,   2317.0,2, -999.000,9
18SN19940724,AO94,       20,        1,        6,   143422,2,19940808,1435,80.3300,-178.6250,1427,    760.7,   0.0311,  34.8598,2,    306.7,4,  -0.0014,  34.8611,2,    307.8,2,     6.66,2,    12.05,2,     0.00,2,     0.87,2,    4.050,2,    1.930,2,    0.250,2,   2159.4,2,   -999.0,9,    6.780,2
18SN19940724,AO94,       20,        1,        5,   143421,2,19940808,1435,80.3300,-178.6250,1427,    913.0,  -0.1189,  34.8712,2,    295.5,4,  -0.1580,  34.8733,2,    306.8,2,     7.00,2,    12.25,2,     0.00,2,     0.89,2,    3.260,2,    1.760,2,    0.190,2,   2159.0,2,   2325.9,2,    6.540,2
18SN19940724,AO94,       20,        1,        4,   143420,2,19940808,1435,80.3300,-178.6250,1427,   1064.9,  -0.2515,  34.8809,2,    285.5,4,  -0.2974,  34.8831,2,    305.8,2,     7.29,2,    12.40,2,     0.00,2,     0.90,2,    3.210,2,    1.510,2,    0.160,2,   2162.0,2,   -999.0,9,    5.910,2
18SN19940724,AO94,       20,        1,        3,   143419,2,19940808,1435,80.3300,-178.6250,1427,   1215.8,  -0.3771,  34.8945,2,    277.3,4,  -0.4300,  34.8959,2,    305.2,2,     7.99,2,    12.68,2,     0.00,2,     0.92,2,    2.170,2,    1.300,2,    0.150,2,   2161.0,2,   2326.0,2,    5.160,2
18SN19940724,AO94,       20,        1,        2,   143418,2,19940808,1435,80.3300,-178.6250,1427,   1341.8,  -0.4280,  34.9025,2,    270.3,4,  -0.4873,  34.9032,2,    303.4,2,     8.64,2,    12.99,2,     0.00,2,     0.94,2,    2.340,2,    1.120,2,    0.100,2,   2164.8,2,   -999.0,9,    4.610,2
18SN19940724,AO94,       20,        1,        1,   143417,2,19940808,1435,80.3300,-178.6250,1427,   1438.0,  -0.4415,  34.9071,2,    263.3,4,  -0.5061,  34.9085,2,    301.4,2,     9.03,2,    13.11,2,     0.00,2,     0.95,2,    1.580,2,    1.030,2,    0.120,2,   2160.7,2,   2330.0,2,    4.100,2