BOTTLE,20090717CCHDOSIODM
EXPOCODE,SECT_ID,STNNBR,CASTNO,SAMPNO,BTLNBR,BTLNBR_FLAG_W,DATE,TIME,LATITUDE,LONGITUDE,DEPTH,CTDPRS,CTDTMP,CTDSAL,CTDSAL_FLAG_W,CTDOXY,CTDOXY_FLAG_W,THETA,SALNTY,SALNTY_FLAG_W,OXYGEN,OXYGEN_FLAG_W,SILCAT,SILCAT_FLAG_W,NITRAT,NITRAT_FLAG_W,NITRIT,NITRIT_FLAG_W,PHSPHT,PHSPHT_FLAG_W,CFC-11,CFC-11_FLAG_W,CFC-12,CFC-12_FLAG_W,CFC113,CFC113_FLAG_W,TCARBN,TCARBN_FLAG_W,ALKALI,ALKALI_FLAG_W,CCL4,CCL4_FLAG_W
,,,,,,,,,,,,DBAR,ITS-90,PSS-78,,UMOL/KG,,DEG C,PSS-78,,UMOL/KG,,UMOL/KG,,UMOL/KG,,UMOL/KG,,UMOL/KG,,PMOL/KG,,PMOL/KG,,PMOL/KG,,UMOL/KG,,UMOL/KG,,PMOL/KG,
18SN19940724,AO94,       36,        2,       36,   144262,2,19940825,2253,85.7267,37.6700,3543,     11.2,  -1.7665,  33.7707,2,    370.2,4,  -1.7667,  33.7724,2,    362.2,2,     3.86,3,     5.19,2,     0.03,2,     0.46,2, -999.000,9, -999.000,9, -999.000,9,   -999.0,9,   -999.0,9, -999.000,9
18SN19940724,AO94,       36,        2,       35,   144261,2,19940825,2253,85.7267,37.6700,3543,     16.1,  -1.7653,  33.7713,2,    372.6,4,  -1.7656,  33.7728,2,    362.9,2,     3.81,3,     5.23,2,     0.03,2,     0.46,2,    5.060,2,    2.450,2,    0.230,2,   2094.6,2,   2271.0,2,    8.110,2
18SN19940724,AO94,       36,        2,       34,   144260,2,19940825,2253,85.7267,37.6700,3543,     21.5,  -1.7625,  33.7789,2,    384.9,4,  -1.7629,  33.7910,2,    362.8,2,     3.76,3,     5.23,2,     0.03,2,     0.46,2,    4.940,2,    2.200,2,    0.510,2,   2093.0,2,   2268.8,2,    8.410,2
18SN19940724,AO94,       36,        2,       33,   144259,2,19940825,2253,85.7267,37.6700,3543,     31.4,  -1.7840,  34.1079,2,    377.3,4,  -1.7846,  34.0559,2,    357.9,2,     3.98,3,     5.91,2,     0.04,2,     0.50,2, -999.000,9, -999.000,9, -999.000,9,   -999.0,9,   -999.0,9, -999.000,9
18SN19940724,AO94,       36,        2,       32,   144258,2,19940825,2253,85.7267,37.6700,3543,     36.6,  -1.8002,  34.1821,2,    368.6,4,  -1.8009,  34.1795,2,    354.5,2,     4.04,3,     6.30,2,     0.05,2,     0.52,2,    4.600,2,    2.380,2,    0.490,2,   2122.9,2,   2298.8,2,    7.070,2
18SN19940724,AO94,       36,        2,       31,   144257,2,19940825,2253,85.7267,37.6700,3543,     41.5,  -1.8200,  34.2155,2,    356.9,4,  -1.8208,  34.2212,2,    352.7,2,     4.15,3,     6.50,2,     0.05,2,     0.53,2, -999.000,9, -999.000,9, -999.000,9,   -999.0,9,   -999.0,9, -999.000,9
18SN19940724,AO94,       36,        2,       30,   144256,2,19940825,2253,85.7267,37.6700,3543,     57.0,  -1.8554,  34.2495,2,    350.2,4,  -1.8565,  34.2495,2,    350.6,2,     4.10,3,     6.76,2,     0.03,2,     0.54,2,    4.570,2,    2.090,2, -999.000,9,   2130.9,2,   2298.1,2,    6.890,2
18SN19940724,AO94,       36,        2,       29,   144255,2,19940825,2253,85.7267,37.6700,3543,     62.0,  -1.8581,  34.2504,2,    347.8,4,  -1.8593,  34.2525,2,   -999.0,9,     4.11,3,     6.80,2,     0.03,2,     0.54,2, -999.000,9, -999.000,9, -999.000,9,   -999.0,9,   -999.0,9, -999.000,9
18SN19940724,AO94,       36,        2,       28,   144254,2,19940825,2253,85.7267,37.6700,3543,     72.2,  -1.8625,  34.2582,2,    346.7,4,  -1.8639,  34.2590,2,    349.8,2,     4.22,3,     6.81,2,     0.03,2,     0.55,2,    4.510,2,    2.210,2,    0.450,2,   2125.1,2,   2297.2,2,    6.840,2
18SN19940724,AO94,       36,        2,       27,   144253,2,19940825,2253,85.7267,37.6700,3543,     77.2,  -1.8617,  34.2612,2,    348.4,4,  -1.8632,  34.2635,2,    349.7,2,     4.22,3,     6.85,2,     0.03,2,     0.55,2, -999.000,9, -999.000,9, -999.000,9,   -999.0,9,   -999.0,9, -999.000,9
18SN19940724,AO94,       36,        2,       26,   144252,2,19940825,2253,85.7267,37.6700,3543,     87.4,  -1.8555,  34.2683,2,    350.5,4,  -1.8572,  34.2680,2,    348.9,2,     4.17,3,     6.93,2,     0.03,2,     0.56,2,    4.560,2,    2.160,2,    0.540,2,   2124.8,2,   2301.8,2,    7.000,2
18SN19940724,AO94,       36,        2,       25,   144251,2,19940825,2253,85.7267,37.6700,3543,    102.7,  -1.8405,  34.2747,2,    347.0,4,  -1.8425,  34.2775,2,    346.4,2,     4.23,3,     7.13,2,     0.02,2,     0.57,2, -999.000,9, -999.000,9, -999.000,9,   -999.0,9,   -999.0,9, -999.000,9
18SN19940724,AO94,       36,        2,       24,   144250,2,19940825,2253,85.7267,37.6700,3543,    109.7,  -1.7746,  34.2859,2,    343.8,4,  -1.7768,  34.2871,2,    341.7,2,     4.39,3,     7.46,2,     0.02,2,     0.58,2,    4.500,2,    2.290,2,    0.440,2,   2133.6,2,   2300.7,2,    6.720,2
18SN19940724,AO94,       36,        2,       23,   144249,2,19940825,2253,85.7267,37.6700,3543,    117.8,  -1.7047,  34.2955,2,    337.7,4,  -1.7071,  34.2942,2,    340.0,2,     4.40,3,     7.62,2,     0.02,2,     0.60,2,    4.480,2,    2.220,2,    0.150,2,   2130.6,2,   2299.2,2,    6.560,2
18SN19940724,AO94,       36,        2,       22,   144248,2,19940825,2253,85.7267,37.6700,3543,    128.2,  -1.5643,  34.3148,2,    335.5,4,  -1.5671,  34.3109,2,    336.9,2,     4.46,3,     7.90,2,     0.02,2,     0.61,2, -999.000,9, -999.000,9, -999.000,9,   -999.0,9,   -999.0,9, -999.000,9
18SN19940724,AO94,       36,        2,       21,   144247,2,19940825,2253,85.7267,37.6700,3543,    138.0,  -1.1500,  34.3773,2,    329.1,4,  -1.1536,  34.3457,2,    328.1,2,     4.82,3,     8.54,2,     0.02,2,     0.64,2,    4.190,2,    1.920,2,    0.130,2,   2133.3,2,   2294.1,2,    5.880,2
18SN19940724,AO94,       36,        2,       20,   144246,2,19940825,2253,85.7267,37.6700,3543,    153.2,  -0.5374,  34.4673,2,    314.6,4,  -0.5423,-999.0000,9,   -999.0,9,     5.61,3,     9.95,2,     0.02,2,     0.73,2, -999.000,9, -999.000,9, -999.000,9,   -999.0,9,   -999.0,9, -999.000,9
18SN19940724,AO94,       36,        2,       19,   144245,2,19940825,2253,85.7267,37.6700,3543,    158.0,  -0.1942,  34.5172,2,    311.3,4,  -0.1997,  34.5056,2,    305.4,2,     5.87,3,    10.39,2,     0.02,2,     0.75,2,    3.060,2,    1.580,2,    0.080,2,   2142.4,2,   2292.6,2,    4.890,2
18SN19940724,AO94,       36,        2,       18,   144244,2,19940825,2253,85.7267,37.6700,3543,    173.2,   0.4567,  34.6155,2,    302.1,4,   0.4497,  34.5985,2,    302.0,2,     6.03,3,    10.91,2,     0.01,2,     0.78,2,    2.800,2,    1.630,2, -999.000,9,   2143.9,2,   2299.9,2,    5.590,2
18SN19940724,AO94,       36,        2,       17,   144243,2,19940825,2253,85.7267,37.6700,3543,    192.9,   1.1468,  34.7527,2,    301.6,4,   1.1378,  34.7134,2,    300.3,2,     6.19,3,    11.51,2,     0.01,2,     0.80,2,    3.240,2,    1.650,2,    0.080,2,   2147.2,2,   2304.1,2,    5.680,2
18SN19940724,AO94,       36,        2,       16,   144242,2,19940825,2253,85.7267,37.6700,3543,    203.3,   1.3787,  34.8013,2,    300.7,4,   1.3688,  34.7700,2,    300.8,3,     6.19,3,    11.79,2,     0.01,2,     0.82,2, -999.000,9, -999.000,9, -999.000,9,   -999.0,9,   -999.0,9, -999.000,9
18SN19940724,AO94,       36,        2,       15,   144241,2,19940825,2253,85.7267,37.6700,3543,    213.3,   1.4594,  34.8177,2,    301.3,4,   1.4489,  34.8098,2,    300.5,2,     6.25,3,    11.95,2,     0.01,2,     0.82,2,    3.650,2,    1.630,2,    0.090,2,   2145.1,2,   2311.3,2,    6.240,2
18SN19940724,AO94,       36,        2,       14,   144240,2,19940825,2253,85.7267,37.6700,3543,    243.5,   1.6929,  34.8930,2,    301.5,4,   1.6803,  34.8891,2,    301.7,2,     6.41,3,    12.31,2,     0.01,2,     0.84,2,    3.290,2,    1.930,2,    0.350,2,   2150.7,2,   2315.5,2,    6.720,2
18SN19940724,AO94,       36,        2,       13,   144239,2,19940825,2253,85.7267,37.6700,3543,    253.5,   1.6653,  34.8908,2,    299.9,4,   1.6522,  34.8869,2,    302.1,3,     6.41,3,    12.27,2,     0.01,2,     0.85,2, -999.000,9, -999.000,9, -999.000,9,   -999.0,9,   -999.0,9, -999.000,9
18SN19940724,AO94,       36,        2,       12,   144238,2,19940825,2253,85.7267,37.6700,3543,    273.8,   1.5392,  34.8843,2,    300.5,4,   1.5253,  34.8794,2,    301.8,2,     6.42,3,    12.27,2,     0.01,2,     0.85,2,    3.130,2,    1.780,2,    0.330,2,   2141.6,2,   2315.9,2,    6.530,2
18SN19940724,AO94,       36,        2,       11,   144237,2,19940825,2253,85.7267,37.6700,3543,    304.0,   1.6490,  34.9253,2,    302.9,4,   1.6331,  34.9175,2,    303.8,3,     6.52,3,    12.39,2,     0.01,2,     0.85,2, -999.000,9, -999.000,9, -999.000,9,   -999.0,9,   -999.0,9, -999.000,9
18SN19940724,AO94,       36,        2,       10,   144236,2,19940825,2253,85.7267,37.6700,3543,    304.0,   1.6395,  34.9233,2,    302.9,4,   1.6236,  34.9147,2,    303.6,2,     6.58,3,    12.38,2,     0.01,2,     0.85,2,    3.380,2,    1.660,2,    0.290,2,   2154.1,2,   2316.9,2,    7.010,2
18SN19940724,AO94,       36,        2,        9,   144235,2,19940825,2253,85.7267,37.6700,3543,    354.7,   1.3357,  34.9102,2,    305.2,4,   1.3180,  34.9031,2,    302.7,2,     6.69,3,    12.39,2,     0.01,2,     0.86,2,    3.210,2,    1.510,2,    0.060,2,   2152.5,2,   2314.5,2,    6.050,2
18SN19940724,AO94,       36,        2,        8,   144234,2,19940825,2253,85.7267,37.6700,3543,    405.4,   1.1143,  34.8970,2,    303.9,4,   1.0946,  34.8932,2,    301.8,2,     6.74,3,    12.42,2,     0.01,2,     0.87,2,    2.520,2,    1.310,2,    0.220,2,   2145.7,2,   2315.5,2,    6.020,2
18SN19940724,AO94,       36,        2,        7,   144233,2,19940825,2253,85.7267,37.6700,3543,    506.4,   0.8810,  34.9044,2,    303.8,4,   0.8569,  34.9061,2,    302.6,3,     7.05,3,    12.58,2,     0.01,2,     0.88,2, -999.000,9, -999.000,9, -999.000,9,   -999.0,9,   -999.0,9, -999.000,9
18SN19940724,AO94,       36,        2,        6,   144232,2,19940825,2253,85.7267,37.6700,3543,    506.4,   0.8493,  34.9070,2,    303.4,4,   0.8254,  34.9061,2,    302.2,2,     7.11,3,    12.54,2,     0.01,2,     0.88,2,    2.050,2,    0.980,2,    0.140,2,   2153.0,2,   2312.2,2,    5.500,2
18SN19940724,AO94,       36,        2,        5,   144231,2,19940825,2253,85.7267,37.6700,3543,    607.5,   0.5797,  34.9101,2,    305.1,4,   0.5518,  34.9070,2,    303.7,2,     7.32,3,    12.66,2,     0.01,2,     0.90,2,    1.810,2,    1.130,2,    0.030,2,   -999.0,9,   -999.0,9,    5.300,2
18SN19940724,AO94,       36,        2,        4,   144230,2,19940825,2253,85.7267,37.6700,3543,    708.9,   0.2625,  34.9061,2,    304.7,4,   0.2312,  34.9021,2,    304.0,2,     7.73,3,    12.78,2,     0.01,2,     0.90,2,    2.000,2,    1.040,2,    0.200,2,   2158.0,2,   2316.1,2,    5.660,2
18SN19940724,AO94,       36,        2,        3,   144229,2,19940825,2253,85.7267,37.6700,3543,    759.7,   0.1241,  34.9018,2,    305.1,4,   0.0910,  34.8986,2,    304.8,3,     7.84,3,    12.78,2,     0.01,2,     0.90,2, -999.000,9, -999.000,9, -999.000,9,   -999.0,9,   -999.0,9, -999.000,9
18SN19940724,AO94,       36,        2,        2,   144228,2,19940825,2253,85.7267,37.6700,3543,    860.5,  -0.0582,  34.9075,2,    303.9,4,  -0.0951,  34.9047,2,    304.1,2,     8.30,3,    12.98,2,     0.01,2,     0.92,2,    1.490,2,    0.580,2,    0.120,2,   2162.3,2,   2312.6,2,    4.770,2
18SN19940724,AO94,       36,        2,        1,   144227,2,19940825,2253,85.7267,37.6700,3543,   1012.9,  -0.2631,  34.9106,2,    304.8,4,  -0.3062,  34.9094,2,    303.8,2,     8.87,3,    13.14,2,     0.01,2,     0.94,2,    1.080,2,    0.660,2,    0.010,2,   2174.8,2,   2334.6,3,    3.740,2