BOTTLE,20090717CCHDOSIODM
EXPOCODE,SECT_ID,STNNBR,CASTNO,SAMPNO,BTLNBR,BTLNBR_FLAG_W,DATE,TIME,LATITUDE,LONGITUDE,DEPTH,CTDPRS,CTDTMP,CTDSAL,CTDSAL_FLAG_W,CTDOXY,CTDOXY_FLAG_W,THETA,SALNTY,SALNTY_FLAG_W,OXYGEN,OXYGEN_FLAG_W,SILCAT,SILCAT_FLAG_W,NITRAT,NITRAT_FLAG_W,NITRIT,NITRIT_FLAG_W,PHSPHT,PHSPHT_FLAG_W,CFC-11,CFC-11_FLAG_W,CFC-12,CFC-12_FLAG_W,CFC113,CFC113_FLAG_W,TCARBN,TCARBN_FLAG_W,ALKALI,ALKALI_FLAG_W,CCL4,CCL4_FLAG_W
,,,,,,,,,,,,DBAR,ITS-90,PSS-78,,UMOL/KG,,DEG C,PSS-78,,UMOL/KG,,UMOL/KG,,UMOL/KG,,UMOL/KG,,UMOL/KG,,PMOL/KG,,PMOL/KG,,PMOL/KG,,UMOL/KG,,UMOL/KG,,PMOL/KG,
18SN19940724,AO94,       27,        1,       36,   143829,2,19940814,0939,84.8517,170.6933,3295,     11.1,  -1.6915,  32.1370,2,    285.0,4,  -1.6917,  32.1597,2,    380.9,2,     6.78,2,     2.03,2,     0.04,2,     0.64,2,    6.220,2,    3.010,2,    1.370,2,   2090.7,2,   2237.5,2,   10.370,2
18SN19940724,AO94,       27,        1,       35,   143828,2,19940814,0939,84.8517,170.6933,3295,     26.5,  -1.7160,  32.6148,2,    315.9,4,  -1.7164,  32.6423,2,    378.7,2,     5.69,2,     2.58,2,     0.05,2,     0.59,2,    6.410,2,    3.240,2,    1.120,2,   -999.0,9,   -999.0,9,   10.720,2
18SN19940724,AO94,       27,        1,       34,   143827,2,19940814,0939,84.8517,170.6933,3295,     41.5,  -1.7751,  33.0425,2,    320.1,4,  -1.7758,  33.0340,2,    376.2,2,     4.75,2,     3.12,2,     0.02,2,     0.53,2,    6.290,2,    3.090,2,    0.950,2,   2125.5,2,   2279.8,2,    9.740,2
18SN19940724,AO94,       27,        1,       33,   143826,2,19940814,0939,84.8517,170.6933,3295,     56.8,  -1.7846,  33.1642,2,    326.2,4,  -1.7856,  33.1618,2,    375.9,2,     4.40,2,     3.24,2,     0.02,2,     0.50,2,    6.220,2,    3.050,2,    0.820,2,   2129.9,2,   2283.0,2,   10.110,2
18SN19940724,AO94,       27,        1,       32,   143825,2,19940814,0939,84.8517,170.6933,3295,     72.0,  -1.7886,  33.4428,2,    307.0,4,  -1.7899,  33.4259,2,   -999.0,5,     5.09,2,     5.07,2,     0.01,2,     0.52,2,    6.090,2,    2.960,2, -999.000,9,   2140.1,2,   2285.9,2,    8.440,2
18SN19940724,AO94,       27,        1,       31,   143824,2,19940814,0939,84.8517,170.6933,3295,     92.2,  -1.6939,  33.8228,2,    307.3,4,  -1.6957,  33.8219,2,    326.3,2,     6.12,2,     7.46,2,     0.01,2,     0.64,2,    5.300,2,    2.660,2,    0.830,2,   2149.6,2,   2284.8,2,    6.750,2
18SN19940724,AO94,       27,        1,       30,   143823,2,19940814,0939,84.8517,170.6933,3295,    107.4,  -1.5814,  34.0696,2,    303.1,4,  -1.5836,  34.0625,2,    314.8,2,     6.12,2,     8.46,2,     0.00,2,     0.69,2,    4.730,2,    2.240,2,    0.410,2,   2151.5,2,   2315.3,3,    5.480,2
18SN19940724,AO94,       27,        1,       29,   143822,2,19940814,0939,84.8517,170.6933,3295,    122.6,  -1.4316,  34.2136,2,    307.1,4,  -1.4345,  34.2113,2,    309.9,2,     6.17,2,     9.05,2,     0.00,2,     0.72,2,    4.330,2,    2.100,2,    0.290,2,   2155.3,2,   2294.1,2,    5.790,2
18SN19940724,AO94,       27,        1,       28,   143821,2,19940814,0939,84.8517,170.6933,3295,    132.7,  -1.2672,  34.2843,2,    309.6,4,  -1.2705,  34.2849,2,    307.8,2,     6.27,2,     9.33,2,     0.00,2,     0.73,2,    4.310,2,    2.110,2, -999.000,9,   2155.3,2,   2299.2,2,    5.640,2
18SN19940724,AO94,       27,        1,       27,   143820,2,19940814,0939,84.8517,170.6933,3295,    142.7,  -1.0921,  34.3483,2,    307.0,4,  -1.0959,  34.3401,2,    306.5,2,     6.32,2,     9.53,2,     0.00,2,     0.74,2,    4.050,2,    2.120,2, -999.000,9,   2154.0,2,   2300.6,2,    5.900,2
18SN19940724,AO94,       27,        1,       26,   143819,2,19940814,0939,84.8517,170.6933,3295,    162.8,  -0.6466,  34.4641,2,    304.4,4,  -0.6516,  34.4590,2,    303.4,2,     6.56,2,    10.05,2,     0.00,2,     0.76,2,    3.430,2,    1.860,2,    0.260,2,   2157.5,2,   2307.2,2,    5.510,2
18SN19940724,AO94,       27,        1,       25,   143818,2,19940814,0939,84.8517,170.6933,3295,    188.0,  -0.1750,  34.5758,2,    300.8,4,  -0.1817,  34.5756,2,    299.8,2,     6.96,2,    10.68,2,     0.00,2,     0.79,2,    3.060,2,    1.480,2,    0.140,2,   2156.9,2,   2310.8,2,    5.350,2
18SN19940724,AO94,       27,        1,       24,   143817,2,19940814,0939,84.8517,170.6933,3295,    213.1,   0.2983,  34.6979,2,    296.3,4,   0.2899,  34.6909,2,    298.0,2,     7.06,2,    11.36,2,     0.00,2,     0.82,2,    2.810,2,    1.640,2, -999.000,9,   2154.1,2,   2313.6,2,    4.820,2
18SN19940724,AO94,       27,        1,       23,   143816,2,19940814,0939,84.8517,170.6933,3295,    237.8,   0.5138,  34.7616,2,    294.4,4,   0.5039,  34.7572,2,    298.9,2,     6.81,2,    11.67,2,     0.00,2,     0.84,2,    3.040,2,    1.520,2,    0.140,2,   2152.8,2,   2313.6,2,    5.770,2
18SN19940724,AO94,       27,        1,       22,   143815,2,19940814,0939,84.8517,170.6933,3295,    268.0,   0.6342,  34.8179,2,    293.1,4,   0.6227,  34.8208,2,    299.5,2,     6.96,2,    12.07,2,     0.00,2,     0.85,2,    2.500,2,    1.490,2,    0.150,2,   2153.3,2,   2316.2,2,    5.710,2
18SN19940724,AO94,       27,        1,       21,   143814,2,19940814,0939,84.8517,170.6933,3295,    304.1,   0.6322,  34.8338,2,    294.5,4,   0.6190,  34.8321,2,    299.6,2,     7.05,2,    12.16,2,     0.00,2,     0.86,2,    2.690,2,    1.310,2,    0.110,2,   2154.6,2,   2318.7,2,    5.760,2
18SN19940724,AO94,       27,        1,       20,   143813,2,19940814,0939,84.8517,170.6933,3295,    354.4,   0.5935,  34.8519,2,    294.8,4,   0.5780,  34.8523,2,    299.5,2,     7.15,2,    12.28,2,     0.00,2,     0.87,2,    2.260,2,    1.410,2, -999.000,9,   2153.2,2,   2319.4,2,    5.650,2
18SN19940724,AO94,       27,        1,       19,   143812,2,19940814,0939,84.8517,170.6933,3295,    395.2,   0.5460,  34.8588,2,    296.5,4,   0.5287,  34.8580,2,    298.7,2,     7.30,2,    12.40,2,     0.00,2,     0.88,2, -999.000,9, -999.000,9, -999.000,9,   2153.9,2,   2319.5,2, -999.000,9
18SN19940724,AO94,       27,        1,       18,   143811,2,19940814,0939,84.8517,170.6933,3295,    435.3,   0.5307,  34.8707,2,    297.0,4,   0.5116,  34.8703,2,    298.9,2,     7.40,2,    12.52,2,     0.00,2,     0.88,2,    1.750,2,    1.090,2,    0.120,2,   2154.2,2,   2325.9,2,    4.300,2
18SN19940724,AO94,       27,        1,       17,   143810,2,19940814,0939,84.8517,170.6933,3295,    506.2,   0.4050,  34.8698,2,    298.9,4,   0.3829,  34.8697,2,    300.0,2,     7.45,2,    12.52,2,     0.00,2,     0.89,2,    2.070,2,    1.020,2,    0.090,2,   2156.7,2,   2325.6,2,    5.010,2
18SN19940724,AO94,       27,        1,       16,   143809,2,19940814,0939,84.8517,170.6933,3295,    632.0,   0.1682,  34.8748,2,    302.0,4,   0.1412,  34.8742,2,    302.0,2,     7.45,2,    12.44,2,     0.00,2,     0.89,2,    1.980,2,    1.250,2, -999.000,9,   2157.1,2,   2325.2,2,    4.900,2
18SN19940724,AO94,       27,        1,       15,   143808,2,19940814,0939,84.8517,170.6933,3295,    759.7,  -0.0063,  34.8821,2,    303.0,4,  -0.0385,  34.8826,2,    302.3,2,     7.74,2,    12.56,2,     0.00,2,     0.90,2,    1.780,2,    0.920,2,    0.050,2,   2156.2,2,   2320.3,2,    4.710,2
18SN19940724,AO94,       27,        1,       14,   143807,2,19940814,0939,84.8517,170.6933,3295,    911.4,  -0.1548,  34.8925,2,    303.2,4,  -0.1936,  34.8923,2,    303.1,2,     7.99,2,    12.68,2,     0.00,2,     0.91,2,    1.540,2,    0.810,2,    0.090,2,   2160.4,2,   2320.8,2,    3.700,2
18SN19940724,AO94,       27,        1,       13,   143806,2,19940814,0939,84.8517,170.6933,3295,   1064.2,  -0.2536,  34.9029,2,    302.5,4,  -0.2995,  34.9035,2,    301.9,2,     8.48,2,    12.88,2,     0.00,2,     0.93,2,    1.080,2,    0.510,2,    0.030,2,   2158.0,2,   2319.7,2,    3.390,2
18SN19940724,AO94,       27,        1,       12,   143805,2,19940814,0939,84.8517,170.6933,3295,   1216.9,  -0.3321,  34.9129,2,    301.3,4,  -0.3854,  34.9116,2,    301.2,2,     9.12,2,    13.16,2,     0.00,2,     0.95,2,    0.810,2,    0.500,2, -999.000,9,   2157.7,2,   2320.8,2,    2.730,2
18SN19940724,AO94,       27,        1,       11,   143804,2,19940814,0939,84.8517,170.6933,3295,   1419.4,  -0.3790,  34.9269,2,    299.3,4,  -0.4433,  34.9266,2,    297.0,2,    10.46,2,    13.64,2,     0.00,2,     0.99,2,    0.330,2,    0.150,2,    0.010,2,   2155.6,2,   2320.0,2,    1.300,2
18SN19940724,AO94,       27,        1,       10,   143803,2,19940814,0939,84.8517,170.6933,3295,   1622.6,  -0.4037,  34.9384,2,    297.1,4,  -0.4798,  34.9386,2,    293.1,2,    11.74,2,    14.03,2,     0.00,2,     1.01,2,    0.160,2,    0.030,2,    0.040,2,   2156.4,2,   2327.0,2,    0.670,2
18SN19940724,AO94,       27,        1,        9,   143802,2,19940814,0939,84.8517,170.6933,3295,   1826.4,  -0.4156,  34.9448,2,    295.0,4,  -0.5043,  34.9449,2,    290.4,2,    12.63,2,    14.27,2,     0.00,2,     1.03,2,    0.060,2,    0.030,2,    0.000,2,   2161.0,2,   2324.1,2,    0.210,2
18SN19940724,AO94,       27,        1,        8,   143801,2,19940814,0939,84.8517,170.6933,3295,   2030.6,  -0.4126,  34.9491,2,    293.1,4,  -0.5149,  34.9490,2,    288.5,2,    13.22,2,    14.39,2,     0.00,2,     1.04,2, -999.000,9, -999.000,9, -999.000,9,   2160.3,2,   2322.8,2, -999.000,9
18SN19940724,AO94,       27,        1,        7,   143800,2,19940814,0939,84.8517,170.6933,3295,   2234.7,  -0.4026,  34.9512,2,    291.4,4,  -0.5192,  34.9518,2,    287.9,2,    13.51,2,    14.48,2,     0.00,2,     1.05,2,    0.000,2,    0.000,2,    0.010,2,   2160.1,2,   2324.8,2,    0.000,2
18SN19940724,AO94,       27,        1,        6,   143799,2,19940814,0939,84.8517,170.6933,3295,   2438.9,  -0.3902,  34.9521,2,    289.8,4,  -0.5220,  34.9523,2,    287.5,2,    13.71,2,    14.52,2,     0.00,2,     1.05,2,    0.110,2,    0.000,2,    0.010,2,   2162.7,2,   2322.7,2,    0.260,2
18SN19940724,AO94,       27,        1,        5,   143798,2,19940814,0939,84.8517,170.6933,3295,   2643.5,  -0.3773,  34.9531,2,    288.3,4,  -0.5249,  34.9533,2,    287.3,2,    13.76,2,    14.56,2,     0.00,2,     1.05,2,    0.010,2,    0.010,2,    0.000,2,   2160.5,2,   2324.0,2,    0.000,2
18SN19940724,AO94,       27,        1,        4,   143797,2,19940814,0939,84.8517,170.6933,3295,   2846.5,  -0.3652,  34.9537,2,    286.8,4,  -0.5292,  34.9541,2,    288.0,2,    13.61,2,    14.52,2,     0.00,2,     1.05,2,    0.100,2,    0.000,2, -999.000,9,   2161.4,2,   2324.0,2, -999.000,9
18SN19940724,AO94,       27,        1,        3,   143796,2,19940814,0939,84.8517,170.6933,3295,   3051.9,  -0.3531,  34.9538,2,    285.4,4,  -0.5343,  34.9537,2,    288.2,2,    13.51,2,    14.48,2,     0.00,2,     1.05,2,    0.000,2,    0.030,2,    0.010,2,   2160.7,2,   2322.6,2,    0.000,2
18SN19940724,AO94,       27,        1,        2,   143795,2,19940814,0939,84.8517,170.6933,3295,   3256.1,  -0.3382,  34.9539,2,    284.0,4,  -0.5372,  34.9527,2,    288.7,2,    13.51,2,    14.52,2,     0.00,2,     1.05,2,    0.100,2,    0.000,2,    0.000,2,   2162.2,2,   2325.4,2,    0.210,2
18SN19940724,AO94,       27,        1,        1,   143794,2,19940814,0939,84.8517,170.6933,3295,   3380.0,  -0.3272,  34.9540,2,    283.1,4,  -0.5375,  34.9545,2,    288.6,2,    13.56,2,    14.56,2,     0.00,2,     1.05,2,    0.000,2,    0.000,2,    0.010,2,   2161.1,2,   2322.4,2,    0.000,2