BOTTLE,20090717CCHDOSIODM
EXPOCODE,SECT_ID,STNNBR,CASTNO,SAMPNO,BTLNBR,BTLNBR_FLAG_W,DATE,TIME,LATITUDE,LONGITUDE,DEPTH,CTDPRS,CTDTMP,CTDSAL,CTDSAL_FLAG_W,CTDOXY,CTDOXY_FLAG_W,THETA,SALNTY,SALNTY_FLAG_W,OXYGEN,OXYGEN_FLAG_W,SILCAT,SILCAT_FLAG_W,NITRAT,NITRAT_FLAG_W,NITRIT,NITRIT_FLAG_W,PHSPHT,PHSPHT_FLAG_W,CFC-11,CFC-11_FLAG_W,CFC-12,CFC-12_FLAG_W,CFC113,CFC113_FLAG_W,TCARBN,TCARBN_FLAG_W,ALKALI,ALKALI_FLAG_W,CCL4,CCL4_FLAG_W
,,,,,,,,,,,,DBAR,ITS-90,PSS-78,,UMOL/KG,,DEG C,PSS-78,,UMOL/KG,,UMOL/KG,,UMOL/KG,,UMOL/KG,,UMOL/KG,,PMOL/KG,,PMOL/KG,,PMOL/KG,,UMOL/KG,,UMOL/KG,,PMOL/KG,
18SN19940724,AO94,        8,        2,       36,   142894,2,19940730,1830,75.4467,-170.5650,862,     12.3,  -1.5602,  31.1674,2,    490.8,4,  -1.5603,  31.3133,2,   -999.0,9,  -999.00,9,  -999.00,9,  -999.00,9,  -999.00,9, -999.000,9, -999.000,9, -999.000,9,   -999.0,9,   -999.0,9, -999.000,9
18SN19940724,AO94,        8,        2,       35,   142893,2,19940730,1830,75.4467,-170.5650,862,     12.3,  -1.5712,  31.3548,2,    492.2,4,  -1.5713,  31.2651,2,    373.4,2,    11.55,2,     2.27,2,     0.05,2,     1.01,2,    5.710,2,    2.930,2,    1.340,2,   2019.5,2,   2192.9,2,   10.890,2
18SN19940724,AO94,        8,        2,       34,   142892,2,19940730,1830,75.4467,-170.5650,862,     27.4,  -1.6742,  31.9668,2,    457.6,4,  -1.6746,  31.9597,2,   -999.0,9,  -999.00,9,  -999.00,9,  -999.00,9,  -999.00,9, -999.000,9, -999.000,9, -999.000,9,   -999.0,9,   -999.0,9, -999.000,9
18SN19940724,AO94,        8,        2,       33,   142891,2,19940730,1830,75.4467,-170.5650,862,     27.4,  -1.6744,  31.9648,2,    457.3,4,  -1.6748,  31.9536,2,    329.9,2,    16.71,2,     7.42,2,     0.07,2,     1.36,2,    5.360,2,    2.850,2,    1.090,2,   2088.1,2,   2220.3,2,    9.980,2
18SN19940724,AO94,        8,        2,       31,   142889,2,19940730,1830,75.4467,-170.5650,862,     42.5,  -1.6652,  32.0106,2,    428.4,4,  -1.6659,  32.0135,2,    320.8,2,    18.56,2,     8.40,2,     0.02,2,     1.42,2,    5.190,2,    2.860,2,    1.070,2,   2099.6,2,   2230.8,2,    9.260,2
18SN19940724,AO94,        8,        2,       32,   142890,2,19940730,1830,75.4467,-170.5650,862,     42.6,  -1.6747,  32.0014,2,    428.4,4,  -1.6754,  32.0130,2,   -999.0,9,  -999.00,9,  -999.00,9,  -999.00,9,  -999.00,9, -999.000,9, -999.000,9, -999.000,9,   -999.0,9,   -999.0,9, -999.000,9
18SN19940724,AO94,        8,        2,       30,   142888,2,19940730,1830,75.4467,-170.5650,862,     57.6,  -1.3757,  32.1123,2,    406.0,4,  -1.3768,  32.1037,2,   -999.0,9,  -999.00,9,  -999.00,9,  -999.00,9,  -999.00,9, -999.000,9, -999.000,9, -999.000,9,   -999.0,9,   -999.0,9, -999.000,9
18SN19940724,AO94,        8,        2,       29,   142887,2,19940730,1830,75.4467,-170.5650,862,     57.6,  -1.3519,  32.1167,2,    406.0,4,  -1.3530,  32.1131,2,    291.7,2,    28.49,2,    11.18,2,     0.02,2,     1.72,2,    5.550,2,    2.910,2,    1.350,2,   2128.5,2,   2227.1,2,    9.160,2
18SN19940724,AO94,        8,        2,       27,   142885,2,19940730,1830,75.4467,-170.5650,862,     77.2,  -0.9824,  32.4222,2,    354.4,4,  -0.9842,  32.4330,2,    264.1,2,    41.04,2,    14.86,2,     0.04,2,     2.09,2,    5.050,2,    2.750,2,    0.960,2,   2185.7,2,   2244.4,2,    7.450,2
18SN19940724,AO94,        8,        2,       28,   142886,2,19940730,1830,75.4467,-170.5650,862,     77.3,  -0.9848,  32.4163,2,    356.5,4,  -0.9866,  32.4295,2,   -999.0,9,  -999.00,9,  -999.00,9,  -999.00,9,  -999.00,9, -999.000,9, -999.000,9, -999.000,9,   -999.0,9,   -999.0,9, -999.000,9
18SN19940724,AO94,        8,        2,       26,   142884,2,19940730,1830,75.4467,-170.5650,862,     93.0,  -1.3970,  32.8429,2,    343.0,4,  -1.3989,  32.8478,2,    254.8,2,    52.08,2,    17.33,2,     0.02,2,     2.26,2,    5.050,2,    2.740,2,    0.880,2,   2223.7,2,   2266.0,2,    6.910,2
18SN19940724,AO94,        8,        2,       25,   142883,2,19940730,1830,75.4467,-170.5650,862,    104.9,  -1.4131,  33.0687,2,    331.9,4,  -1.4152,  33.0835,2,   -999.0,9,  -999.00,9,  -999.00,9,  -999.00,9,  -999.00,9, -999.000,9, -999.000,9, -999.000,9,   -999.0,9,   -999.0,9, -999.000,9
18SN19940724,AO94,        8,        2,       24,   142882,2,19940730,1830,75.4467,-170.5650,862,    104.9,  -1.4116,  33.0859,2,    331.8,4,  -1.4137,  33.0790,2,    253.9,2,    49.38,2,    17.20,2,     0.02,2,     2.23,2,    4.920,2,    2.700,2,    1.050,2,   2236.4,2,   2285.3,2,    6.300,2
18SN19940724,AO94,        8,        2,       23,   142881,2,19940730,1830,75.4467,-170.5650,862,    128.1,  -1.1977,  34.0519,2,    303.8,4,  -1.2009,-999.0000,9,   -999.0,9,  -999.00,9,  -999.00,9,  -999.00,9,  -999.00,9, -999.000,9, -999.000,9, -999.000,9,   -999.0,9,   -999.0,9, -999.000,9
18SN19940724,AO94,        8,        2,       22,   142880,2,19940730,1830,75.4467,-170.5650,862,    128.1,  -1.1978,  34.0534,2,    303.5,4,  -1.2010,  34.0620,2,    238.7,2,    31.62,2,    14.60,2,     0.01,2,     1.53,2,    3.900,2,    2.050,2,    0.490,2,   2224.7,2,   2305.9,2,    4.220,2
18SN19940724,AO94,        8,        2,       20,   142878,2,19940730,1830,75.4467,-170.5650,862,    153.4,  -1.0372,  34.3606,2,    341.2,4,  -1.0413,  34.3555,2,    290.6,2,    10.76,2,    10.72,2,     0.01,2,     0.87,2,    4.280,2,    2.160,2,    0.500,2,   2171.0,2,   2309.4,2,    5.250,2
18SN19940724,AO94,        8,        2,       21,   142879,2,19940730,1830,75.4467,-170.5650,862,    153.5,  -1.0787,  34.3460,2,    338.8,4,  -1.0828,  34.3545,2,   -999.0,9,  -999.00,9,  -999.00,9,  -999.00,9,  -999.00,9, -999.000,9, -999.000,9, -999.000,9,   -999.0,9,   -999.0,9, -999.000,9
18SN19940724,AO94,        8,        2,       19,   142877,2,19940730,1830,75.4467,-170.5650,862,    184.2,  -0.4126,  34.5038,2,    340.7,4,  -0.4187,  34.5078,2,   -999.0,9,  -999.00,9,  -999.00,9,  -999.00,9,  -999.00,9, -999.000,9, -999.000,9, -999.000,9,   -999.0,9,   -999.0,9, -999.000,9
18SN19940724,AO94,        8,        2,       18,   142876,2,19940730,1830,75.4467,-170.5650,862,    184.2,  -0.3643,  34.5113,2,    340.7,4,  -0.3705,  34.5041,2,    297.5,2,     8.24,2,    10.72,2,     0.01,2,     0.82,2,    5.870,2,    2.430,2,    0.510,2,   -999.0,9,   -999.0,9,    5.790,2
18SN19940724,AO94,        8,        2,       17,   142875,2,19940730,1830,75.4467,-170.5650,862,    204.1,   0.0325,  34.6098,2,    344.0,4,   0.0249,  34.5982,2,    298.2,2,     7.72,2,    11.04,2,     0.01,2,     0.83,2,    4.540,2,    2.330,2,    0.580,2,   2161.8,2,   2323.8,2,    6.220,2
18SN19940724,AO94,        8,        2,       16,   142874,2,19940730,1830,75.4467,-170.5650,862,    233.6,   0.7089,  34.7410,2,    340.0,4,   0.6988,  34.7381,2,   -999.0,9,  -999.00,9,  -999.00,9,  -999.00,9,  -999.00,9, -999.000,9, -999.000,9, -999.000,9,   -999.0,9,   -999.0,9, -999.000,9
18SN19940724,AO94,        8,        2,       15,   142873,2,19940730,1830,75.4467,-170.5650,862,    233.6,   0.7083,  34.7418,2,    340.0,4,   0.6982,  34.7372,2,    301.3,2,     6.33,2,    11.42,2,     0.01,2,     0.83,2,    4.080,2,    2.140,2,    0.520,2,   2151.4,2,   2323.1,2,    6.090,2
18SN19940724,AO94,        8,        2,       14,   142872,2,19940730,1830,75.4467,-170.5650,862,    264.3,   0.9057,  34.7801,2,    336.8,4,   0.8937,  34.7770,2,    302.6,2,     6.27,2,    11.59,2,     0.01,2,     0.84,2,    4.190,2,    2.370,2,    0.530,2,   2154.0,2,   2325.8,2,    6.620,2
18SN19940724,AO94,        8,        2,       13,   142871,9,19940730,1830,75.4467,-170.5650,862,    294.9,   0.9040,  34.7869,2,    334.1,4,   0.8905,-999.0000,9,   -999.0,9,  -999.00,9,  -999.00,9,  -999.00,9,  -999.00,9, -999.000,9, -999.000,9, -999.000,9,   -999.0,9,   -999.0,9, -999.000,9
18SN19940724,AO94,        8,        2,       11,   142869,2,19940730,1830,75.4467,-170.5650,862,    317.9,   0.9688,  34.8098,2,    331.2,4,   0.9540,  34.8068,2,    303.5,2,     6.32,2,    11.63,2,     0.01,2,     0.84,2,    4.150,2,    2.180,2,    1.030,2,   2152.4,2,   2326.8,2,    7.100,2
18SN19940724,AO94,        8,        2,       12,   142870,2,19940730,1830,75.4467,-170.5650,862,    317.9,   0.9788,  34.8096,2,    331.2,4,   0.9640,  34.8057,2,   -999.0,9,  -999.00,9,  -999.00,9,  -999.00,9,  -999.00,9, -999.000,9, -999.000,9, -999.000,9,   -999.0,9,   -999.0,9, -999.000,9
18SN19940724,AO94,        8,        2,       10,   142868,2,19940730,1830,75.4467,-170.5650,862,    365.3,   0.8582,  34.8214,2,    326.1,4,   0.8414,  34.8184,2,    304.3,2,     6.31,2,    11.70,2,     0.01,2,     0.84,2,    4.250,2,    2.230,2,    0.610,2,   2152.0,2,   2324.4,2,    7.010,2
18SN19940724,AO94,        8,        2,        9,   142867,2,19940730,1830,75.4467,-170.5650,862,    415.7,   0.7027,  34.8237,2,    238.1,4,   0.6840,  34.8188,2,    304.0,2,     6.41,2,    11.81,2,     0.00,2,     0.85,2,    3.980,2,    1.990,2,    0.460,2,   2149.1,2,   2325.3,2,    6.720,2
18SN19940724,AO94,        8,        2,        8,   142866,2,19940730,1830,75.4467,-170.5650,862,    466.2,   0.6471,  34.8357,2,     70.6,4,   0.6261,  34.8340,2,    304.5,2,     6.45,2,    11.92,2,     0.00,2,     0.85,2, -999.000,9, -999.000,9, -999.000,9,   2154.1,2,   2327.5,2, -999.000,9
18SN19940724,AO94,        8,        2,        7,   142865,2,19940730,1830,75.4467,-170.5650,862,    516.8,   0.5476,  34.8404,2,     71.3,4,   0.5245,  34.8392,2,    305.6,2,     6.44,2,    11.95,2,     0.00,2,     0.86,2,    4.170,2,    2.140,2,    0.590,2,   2156.8,2,   2327.3,2,    7.150,2
18SN19940724,AO94,        8,        2,        6,   142864,2,19940730,1830,75.4467,-170.5650,862,    567.7,   0.4669,  34.8455,2,     71.7,4,   0.4416,  34.8432,2,    305.9,2,     6.54,2,    12.02,2,     0.00,2,     0.86,2,    4.000,2,    2.080,2,    0.520,2,   2159.0,2,   2330.4,2,    7.020,2
18SN19940724,AO94,        8,        2,        5,   142863,2,19940730,1830,75.4467,-170.5650,862,    638.1,   0.3618,  34.8532,2,    339.2,4,   0.3335,  34.8489,2,    305.5,2,     6.74,2,    12.10,2,     0.00,2,     0.87,2,    3.750,2,    1.920,2,    0.430,2,   2157.2,2,   2328.4,2,    6.850,2
18SN19940724,AO94,        8,        2,        3,   142861,2,19940730,1830,75.4467,-170.5650,862,    708.4,   0.2300,  34.8556,2,    337.2,4,   0.1990,  34.8500,2,    306.2,2,     7.81,2,    12.34,2,     0.00,2,     0.89,2,    3.490,2,    1.960,2,    0.510,2,   2159.0,2,   2326.7,2,    6.720,2
18SN19940724,AO94,        8,        2,        4,   142862,2,19940730,1830,75.4467,-170.5650,862,    708.5,   0.2450,  34.8549,2,    337.2,4,   0.2139,  34.8533,2,   -999.0,9,  -999.00,9,  -999.00,9,  -999.00,9,  -999.00,9, -999.000,9, -999.000,9, -999.000,9,   -999.0,9,   -999.0,9, -999.000,9
18SN19940724,AO94,        8,        2,        2,   142860,2,19940730,1830,75.4467,-170.5650,862,    809.7,   0.0768,  34.8612,2,    299.0,4,   0.0416,  34.8577,2,    305.3,2,     7.80,2,    12.34,2,     0.00,2,     0.88,2,    3.540,2,    1.830,2,    0.390,2,   2160.7,2,   2330.5,2,    6.280,2
18SN19940724,AO94,        8,        2,        1,   142859,2,19940730,1830,75.4467,-170.5650,862,    874.1,  -0.0072,  34.8661,2,    292.5,4,  -0.0452,  34.8624,2,    304.6,2,     8.00,2,    12.38,2,     0.01,2,     0.89,2,    3.360,2,    1.730,2,    0.360,2,   2163.6,2,   2330.1,2,    5.940,2