BOTTLE,20090717CCHDOSIODM
EXPOCODE,SECT_ID,STNNBR,CASTNO,SAMPNO,BTLNBR,BTLNBR_FLAG_W,DATE,TIME,LATITUDE,LONGITUDE,DEPTH,CTDPRS,CTDTMP,CTDSAL,CTDSAL_FLAG_W,CTDOXY,CTDOXY_FLAG_W,THETA,SALNTY,SALNTY_FLAG_W,OXYGEN,OXYGEN_FLAG_W,SILCAT,SILCAT_FLAG_W,NITRAT,NITRAT_FLAG_W,NITRIT,NITRIT_FLAG_W,PHSPHT,PHSPHT_FLAG_W,CFC-11,CFC-11_FLAG_W,CFC-12,CFC-12_FLAG_W,CFC113,CFC113_FLAG_W,TCARBN,TCARBN_FLAG_W,ALKALI,ALKALI_FLAG_W,CCL4,CCL4_FLAG_W
,,,,,,,,,,,,DBAR,ITS-90,PSS-78,,UMOL/KG,,DEG C,PSS-78,,UMOL/KG,,UMOL/KG,,UMOL/KG,,UMOL/KG,,UMOL/KG,,PMOL/KG,,PMOL/KG,,PMOL/KG,,UMOL/KG,,UMOL/KG,,PMOL/KG,
18SN19940724,AO94,       15,        2,       32,   143181,2,19940804,1627,78.1383,-174.2817,1836,     13.1,  -1.5749,  30.3877,2,    441.6,4,  -1.5750,  30.3949,3,    384.5,2,    11.57,2,     0.22,2,     0.02,2,     1.10,2,    6.570,2,    3.130,2,    1.540,2,   1996.9,2,   2142.0,2,   11.680,2
18SN19940724,AO94,       15,        2,       31,   143180,4,19940804,1627,78.1383,-174.2817,1836,     33.2,  -1.5952,  31.0204,2,    433.6,4,  -1.5957,  31.4544,4,    330.6,4,    17.55,4,     5.20,4,     0.03,4,     1.42,4,    6.150,2,    3.220,2,    1.080,2,   2078.9,2,   2194.1,2,   10.630,2
18SN19940724,AO94,       15,        2,       30,   143179,2,19940804,1627,78.1383,-174.2817,1836,     53.4,  -1.5954,  31.4133,2,    414.6,4,  -1.5963,  31.3947,3,    337.6,2,    16.32,2,     4.66,2,     0.04,2,     1.37,2,    6.330,2,    3.070,2,    1.390,2,   2068.5,2,   2190.7,2,   10.530,2
18SN19940724,AO94,       15,        2,       24,   143173,4,19940804,1627,78.1383,-174.2817,1836,     73.5,  -1.5186,  33.0216,2,    329.1,4,  -1.5200,  34.3207,4,    299.1,4,     8.37,4,     9.98,4,     0.01,4,     0.82,4,    4.510,2,    2.170,2,    0.860,2,   2159.2,2,   2307.4,2,    6.530,2
18SN19940724,AO94,       15,        2,       29,   143178,4,19940804,1627,78.1383,-174.2817,1836,     83.9,  -1.5718,  33.3788,2,    336.3,4,  -1.5734,  33.3971,3,    286.2,2,    25.15,2,    11.68,2,     0.02,2,     1.34,2,    5.360,2,    2.790,2,    0.730,2,   2187.4,2,   2281.4,2,    6.390,2
18SN19940724,AO94,       15,        2,       28,   143177,4,19940804,1627,78.1383,-174.2817,1836,     99.1,  -1.6286,  33.7341,2,    347.4,4,  -1.6306,  33.7315,3,    303.0,2,    14.54,2,     9.28,2,     0.01,2,     0.94,2,    5.500,2,    2.580,2,    1.010,2,   2170.5,2,   2291.4,2,    7.130,2
18SN19940724,AO94,       15,        2,       27,   143176,4,19940804,1627,78.1383,-174.2817,1836,    108.7,  -1.5657,  33.9062,2,    345.4,4,  -1.5680,  33.9029,3,    299.7,2,    12.85,2,     9.52,2,     0.01,2,     0.90,2,    5.080,2,    2.570,2,    0.590,2,   2167.2,2,   2293.5,2,    6.210,2
18SN19940724,AO94,       15,        2,       26,   143175,4,19940804,1627,78.1383,-174.2817,1836,    124.1,  -1.4793,  34.1006,2,    341.8,4,  -1.4821,  34.0936,3,    303.6,2,     9.08,2,     9.30,2,     0.01,2,     0.80,2,    5.080,2,    2.390,2,    0.860,2,   2158.4,2,   2299.1,2,    6.420,2
18SN19940724,AO94,       15,        2,       25,   143174,4,19940804,1627,78.1383,-174.2817,1836,    144.7,  -1.2631,  34.2703,2,    342.4,4,  -1.2667,  34.2687,3,    305.1,2,     7.43,2,     9.45,2,     0.01,2,     0.76,2,    4.760,2,    2.390,2,    0.520,2,   2155.7,2,   2303.4,2,    6.400,2
18SN19940724,AO94,       15,        2,       23,   143172,2,19940804,1627,78.1383,-174.2817,1836,    164.7,  -0.8913,  34.3865,2,    333.9,4,  -0.8960,  34.3816,3,    297.4,2,     8.46,2,    10.27,2,     0.01,2,     0.82,2,    4.160,2,    2.040,2,    0.430,2,   2160.1,2,   2307.5,2,    5.990,2
18SN19940724,AO94,       15,        2,       22,   143171,2,19940804,1627,78.1383,-174.2817,1836,    184.8,  -0.4077,  34.4980,2,    330.5,4,  -0.4138,  34.4875,3,    304.1,2,     6.57,2,    10.13,2,     0.01,2,     0.77,2,    4.450,2,    2.140,2,    0.630,2,   2152.9,2,   2311.0,2,    6.410,2
18SN19940724,AO94,       15,        2,       21,   143170,2,19940804,1627,78.1383,-174.2817,1836,    214.8,   0.1043,  34.6255,2,    330.3,4,   0.0962,  34.6230,3,    302.6,2,     6.38,2,    10.70,2,     0.00,2,     0.79,2,    4.070,2,    2.050,2,    0.400,2,   2153.3,2,   2316.1,2,    6.500,2
18SN19940724,AO94,       15,        2,       90,     -999,5,19940804,1627,78.1383,-174.2817,1836,    245.5,   0.3152,  34.7171,2,    324.9,4,   0.3053,-999.0000,9,   -999.0,9,  -999.00,9,  -999.00,9,  -999.00,9,  -999.00,9, -999.000,9, -999.000,9, -999.000,9,   -999.0,9,   -999.0,9, -999.000,9
18SN19940724,AO94,       15,        2,       20,   143169,4,19940804,1627,78.1383,-174.2817,1836,    275.5,   0.4303,  34.7546,2,    323.4,4,   0.4189,  34.7510,3,    300.5,2,     6.52,2,    11.48,2,     0.00,2,     0.82,2,    4.180,2,    1.920,2,    0.360,2,   2153.4,2,   2316.7,2,    6.760,2
18SN19940724,AO94,       15,        2,       19,   143168,4,19940804,1627,78.1383,-174.2817,1836,    310.2,   0.5297,  34.7941,2,    320.0,4,   0.5165,  34.7884,3,    300.4,2,     6.56,2,    11.70,2,     0.00,2,     0.83,2,    3.630,2,    1.830,2,    0.310,2,   2152.9,2,   2324.1,2,    6.730,2
18SN19940724,AO94,       15,        2,       18,   143167,4,19940804,1627,78.1383,-174.2817,1836,    346.5,   0.5047,  34.8098,2,    318.3,4,   0.4899,  34.8055,3,    299.9,2,     6.70,2,    11.87,2,     0.00,2,     0.84,2,    3.650,2,    1.640,2,    0.300,2,   2150.2,2,   2326.0,2,    6.230,2
18SN19940724,AO94,       15,        2,       17,   143166,4,19940804,1627,78.1383,-174.2817,1836,    386.7,   0.5628,  34.8308,2,    316.1,4,   0.5459,  34.8271,3,    303.0,2,     6.55,2,    11.91,2,     0.00,2,     0.84,2,    3.740,2,    1.860,2,    0.360,2,   2151.2,2,   2325.1,2,    7.110,2
18SN19940724,AO94,       15,        2,       16,   143165,4,19940804,1627,78.1383,-174.2817,1836,    437.2,   0.4864,  34.8388,2,    313.4,4,   0.4674,  34.8326,3,    302.0,2,     6.69,2,    12.02,2,     0.00,2,     0.85,2,    3.780,2,    1.650,2,    0.420,2,   2152.9,2,   2326.6,2,    6.840,2
18SN19940724,AO94,       15,        2,       15,   143164,4,19940804,1627,78.1383,-174.2817,1836,    508.0,   0.4028,  34.8480,2,    310.3,4,   0.3807,  34.8415,3,    303.2,2,     6.78,2,    12.05,2,     0.00,2,     0.85,2,    3.450,2,    1.720,2,    0.300,2,   2152.4,2,   2322.5,2,    7.000,2
18SN19940724,AO94,       15,        2,       14,   143163,4,19940804,1627,78.1383,-174.2817,1836,    609.0,   0.2704,  34.8561,2,    304.9,4,   0.2441,  34.8523,3,    303.2,2,     6.97,2,    12.16,2,     0.00,2,     0.86,2,    3.530,2,    1.590,2,    0.530,2,   2156.4,2,   2326.3,2,    6.550,2
18SN19940724,AO94,       15,        2,       13,   143162,4,19940804,1627,78.1383,-174.2817,1836,    710.4,   0.1527,  34.8634,2,    299.3,4,   0.1220,  34.8613,3,    303.8,2,     6.96,2,    12.20,2,     0.00,2,     0.87,2,    3.020,2,    1.500,2,    0.230,2,   2154.7,2,   2325.6,2,    6.560,2
18SN19940724,AO94,       15,        2,       12,   143161,4,19940804,1627,78.1383,-174.2817,1836,    811.9,   0.0312,  34.8693,2,    294.3,4,  -0.0039,  34.8666,3,    303.8,2,     7.19,2,    12.27,2,     0.00,2,     0.87,2,    3.290,2,    1.460,2,    0.500,2,   2161.7,2,   2327.3,2,    6.190,2
18SN19940724,AO94,       15,        2,       11,   143160,4,19940804,1627,78.1383,-174.2817,1836,    963.5,  -0.1106,  34.8789,2,    284.9,4,  -0.1524,  34.8750,3,    303.3,2,     7.42,2,    12.37,2,     0.00,2,     0.89,2,    2.160,2,    1.100,2,    0.120,2,   2159.8,2,   2329.6,2,    5.490,2
18SN19940724,AO94,       15,        2,       10,   143159,2,19940804,1627,78.1383,-174.2817,1836,    963.5,  -0.1106,  34.8789,2,    284.9,4,  -0.1524,  34.8754,3,    303.7,2,     7.66,2,    12.44,2,     0.00,2,     0.90,2,    2.560,2,    1.200,2,    0.400,2,   2161.9,2,   2329.1,2,    5.800,2
18SN19940724,AO94,       15,        2,        9,   143158,2,19940804,1627,78.1383,-174.2817,1836,   1115.9,  -0.2393,  34.8873,2,    277.4,4,  -0.2880,  34.8826,3,    304.1,2,     7.75,2,    12.52,2,     0.00,2,     0.90,2,    2.290,2,    1.160,2,    0.180,2,   2163.0,2,   2325.7,2,    5.730,2
18SN19940724,AO94,       15,        2,        8,   143157,2,19940804,1627,78.1383,-174.2817,1836,   1267.3,  -0.3499,  34.8943,2,    272.4,4,  -0.4059,  34.8956,3,    302.8,2,     8.87,2,    13.05,2,     0.00,2,     0.94,2,    1.860,2,    0.950,2,    0.360,2,   2160.7,2,   2329.2,2,    4.880,2
18SN19940724,AO94,       15,        2,       97,     -999,5,19940804,1627,78.1383,-174.2817,1836,   1419.5,  -0.4059,  34.9071,2,    263.9,4,  -0.4699,-999.0000,9,   -999.0,9,  -999.00,9,  -999.00,9,  -999.00,9,  -999.00,9, -999.000,9, -999.000,9, -999.000,9,   -999.0,9,   -999.0,9, -999.000,9
18SN19940724,AO94,       15,        2,        7,   143156,4,19940804,1627,78.1383,-174.2817,1836,   1571.1,  -0.4492,  34.9152,2,    256.0,4,  -0.5215,  34.9155,3,    300.5,2,     9.76,2,    13.37,2,     0.00,2,     0.97,2,    1.350,2,    0.670,2,    0.080,2,   2159.8,2,   2334.6,2,    3.680,2
18SN19940724,AO94,       15,        2,        6,   143155,4,19940804,1627,78.1383,-174.2817,1836,   1697.4,  -0.4597,  34.9288,2,    247.7,4,  -0.5396,  34.9330,3,    296.3,2,    10.99,2,    13.80,2,     0.00,2,     0.99,2,    0.700,2,    0.430,2,    0.220,2,   2161.5,2,   2331.0,2,    2.210,2
18SN19940724,AO94,       15,        2,        5,   143154,4,19940804,1627,78.1383,-174.2817,1836,   1697.4,  -0.4597,  34.9288,2,    247.7,4,  -0.5396,  34.9239,3,    296.2,2,    11.08,2,    13.80,2,     0.00,2,     0.99,2,    0.700,2,    0.370,2,    0.050,2,   2163.0,2,   2333.2,2,    2.100,2
18SN19940724,AO94,       15,        2,       94,     -999,5,19940804,1627,78.1383,-174.2817,1836,   1799.2,  -0.4500,  34.9355,2,    242.1,4,  -0.5365,-999.0000,9,   -999.0,9,  -999.00,9,  -999.00,9,  -999.00,9,  -999.00,9, -999.000,9, -999.000,9, -999.000,9,   -999.0,9,   -999.0,9, -999.000,9
18SN19940724,AO94,       15,        2,        1,   143150,2,19940804,1627,78.1383,-174.2817,1836,   1864.0,  -0.4389,  34.9418,2,    234.6,4,  -0.5297,  34.9391,3,    290.7,2,    12.62,2,    14.23,2,     0.00,2,     1.02,2, -999.000,9, -999.000,9, -999.000,9,   -999.0,9,   -999.0,9, -999.000,9
18SN19940724,AO94,       15,        2,        2,   143151,2,19940804,1627,78.1383,-174.2817,1836,   1864.6,  -0.4386,  34.9412,2,    234.6,4,  -0.5294,  34.9379,3,    290.8,2,    12.67,2,    14.23,2,     0.00,2,     1.02,2,    0.410,2,    0.250,2,    0.120,2,   -999.0,9,   -999.0,9,    1.630,2
18SN19940724,AO94,       15,        2,        4,   143153,4,19940804,1627,78.1383,-174.2817,1836,   1864.7,  -0.4386,  34.9411,2,    234.6,4,  -0.5295,  34.9363,3,    290.6,2,    12.54,2,    14.20,2,     0.00,2,     1.02,2,    0.430,2,    0.310,2,    0.110,2,   2162.7,2,   2333.5,2,    0.880,2
18SN19940724,AO94,       15,        2,        3,   143152,2,19940804,1627,78.1383,-174.2817,1836,   1864.7,  -0.4386,  34.9411,2,    234.6,4,  -0.5295,  34.9412,3,    290.7,2,    12.63,2,    14.23,2,     0.00,2,     1.02,2,    0.390,2,    0.230,2,    0.250,2,   2160.3,2,   2333.2,2,    1.360,2
18SN19940724,AO94,       16,        1,       26,   143207,2,19940805,0911,78.9767,-175.8233,1053,      9.1,  -1.5802,  30.1446,2,    300.2,4,  -1.5803,  30.1462,2,    380.2,2,    14.38,2,     0.29,2,     0.03,2,     1.15,2,    6.720,2,    3.170,2, -999.000,9,   2019.9,2,   2141.9,2,   11.510,2
18SN19940724,AO94,       16,        1,       25,   143206,2,19940805,0911,78.9767,-175.8233,1053,     31.4,  -1.5776,  30.6557,2,    355.9,4,  -1.5780,  30.5651,2,    372.5,2,    14.78,2,     1.03,2,     0.08,2,     1.21,2,    6.400,2,    3.340,2,    1.000,2,   2047.2,2,   2167.5,2, -999.000,9
18SN19940724,AO94,       16,        1,       24,   143205,2,19940805,0911,78.9767,-175.8233,1053,     54.4,  -1.6969,  33.3635,2,    312.2,4,  -1.6979,  33.3353,2,    318.7,2,    12.61,2,     7.88,2,     0.01,2,     0.86,2,    6.120,2,    2.930,2, -999.000,9,   2151.6,2,   2276.7,2,    7.120,2
18SN19940724,AO94,       16,        1,       23,   143204,2,19940805,0911,78.9767,-175.8233,1053,     74.9,  -1.7465,  33.7767,2,    315.1,4,  -1.7479,  33.7693,2,    324.4,2,     7.21,2,     7.30,2,     0.01,2,     0.66,2,    5.520,2,    2.700,2,    0.910,2,   2151.0,2,   2294.9,2,    7.000,2
18SN19940724,AO94,       16,        1,       22,   143203,2,19940805,0911,78.9767,-175.8233,1053,     90.1,  -1.7564,  33.9219,2,    319.3,4,  -1.7581,  33.9216,2,    323.6,2,     6.85,2,     7.47,2,     0.01,2,     0.65,2,    6.090,2,    3.100,2,    0.930,2,   2153.4,2,   2297.5,2, -999.000,9
18SN19940724,AO94,       16,        1,       21,   143202,2,19940805,0911,78.9767,-175.8233,1053,    105.4,  -1.5237,  34.1006,2,    319.5,4,  -1.5260,  34.0962,2,    314.0,2,     6.34,2,     8.50,2,     0.01,2,     0.70,2,    5.220,2,    2.620,2,    0.570,2,   2147.2,2,   -999.0,9, -999.000,9
18SN19940724,AO94,       16,        1,       20,   143201,2,19940805,0911,78.9767,-175.8233,1053,    120.3,  -1.3302,  34.2271,2,    318.6,4,  -1.3331,  34.2173,2,    311.2,2,     6.06,2,     8.85,2,     0.01,2,     0.71,2,    5.500,2,    2.650,2,    0.490,2,   2146.6,2,   2302.0,2, -999.000,9
18SN19940724,AO94,       16,        1,       19,   143200,2,19940805,0911,78.9767,-175.8233,1053,    135.9,  -1.0426,  34.3363,2,    317.2,4,  -1.0462,  34.3321,2,    309.9,2,     5.92,2,     9.19,2,     0.01,2,     0.72,2,    4.920,2,    2.540,2,    0.540,2,   2150.7,2,   2300.4,2,    6.800,2
18SN19940724,AO94,       16,        1,       18,   143199,2,19940805,0911,78.9767,-175.8233,1053,    160.7,  -0.3719,  34.4932,2,    313.4,4,  -0.3773,  34.4858,2,    306.4,2,     6.10,2,     9.92,2,     0.00,2,     0.76,2,    4.700,2,    2.480,2,    0.680,2,   2154.0,2,   2310.3,2, -999.000,9
18SN19940724,AO94,       16,        1,       17,   143198,2,19940805,0911,78.9767,-175.8233,1053,    185.8,   0.2054,  34.6041,2,    309.1,4,   0.1982,  34.6062,2,    305.5,2,     5.82,2,    10.47,2,     0.00,2,     0.77,2,    4.560,2,    2.290,2,    0.470,2,   2147.1,2,   2313.6,2,    7.100,2
18SN19940724,AO94,       16,        1,       16,   143197,2,19940805,0911,78.9767,-175.8233,1053,    211.1,   0.8745,  34.7533,2,    305.0,4,   0.8651,  34.7494,2,    302.8,2,     5.99,2,    11.29,2,     0.00,2,     0.82,2,    4.480,2,    2.290,2,    0.730,2,   2144.9,2,   2319.2,2,    7.140,2
18SN19940724,AO94,       16,        1,       15,   143196,2,19940805,0911,78.9767,-175.8233,1053,    236.3,   1.0391,  34.7903,2,    302.9,4,   1.0282,  34.7891,2,    303.4,2,     6.03,2,    11.50,2,     0.00,2,     0.82,2,    4.300,2,    2.250,2,    0.450,2,   2147.4,2,   2323.7,2,    7.500,2
18SN19940724,AO94,       16,        1,       14,   143195,2,19940805,0911,78.9767,-175.8233,1053,    256.7,   1.0118,  34.7935,2,    303.7,4,   0.9999,  34.7899,2,    303.4,2,     6.16,2,    11.50,2,     0.00,2,     0.83,2,    4.480,2,    2.310,2,    0.500,2,   2146.2,2,   2321.2,2,    7.490,2
18SN19940724,AO94,       16,        1,       11,   143192,2,19940805,0911,78.9767,-175.8233,1053,    276.9,   1.1155,  34.8243,2,    302.3,4,   1.1024,  34.8241,2,    304.4,2,     6.20,2,    11.63,2,     0.00,2,     0.83,2,    4.270,2,    2.160,2,    0.620,2,   2149.0,2,   2323.7,2,    7.630,2
18SN19940724,AO94,       16,        1,       13,   143194,2,19940805,0911,78.9767,-175.8233,1053,    277.0,   1.1244,  34.8244,2,    302.3,4,   1.1113,-999.0000,9,   -999.0,9,  -999.00,9,  -999.00,9,  -999.00,9,  -999.00,9, -999.000,9, -999.000,9, -999.000,9,   -999.0,9,   -999.0,9, -999.000,9
18SN19940724,AO94,       16,        1,       12,   143193,2,19940805,0911,78.9767,-175.8233,1053,    277.0,   1.1258,  34.8247,2,    302.3,4,   1.1127,-999.0000,9,   -999.0,9,  -999.00,9,  -999.00,9,  -999.00,9,  -999.00,9, -999.000,9, -999.000,9, -999.000,9,   -999.0,9,   -999.0,9, -999.000,9
18SN19940724,AO94,       16,        1,       10,   143191,2,19940805,0911,78.9767,-175.8233,1053,    301.8,   1.0782,  34.8368,2,    303.8,4,   1.0640,  34.8365,2,    305.0,2,     6.24,2,    11.70,2,     0.00,2,     0.84,2,    4.480,2,    2.210,2,    0.720,2,   2151.8,2,   2298.2,3,    7.590,2
18SN19940724,AO94,       16,        1,        9,   143190,2,19940805,0911,78.9767,-175.8233,1053,    332.4,   0.9286,  34.8336,2,    304.1,4,   0.9132,  34.8347,2,    304.6,2,     6.28,2,    11.77,2,     0.00,2,     0.84,2, -999.000,9, -999.000,9, -999.000,9,   2151.4,2,   2322.3,2, -999.000,9
18SN19940724,AO94,       16,        1,        8,   143189,2,19940805,0911,78.9767,-175.8233,1053,    362.6,   0.7201,  34.8249,2,    306.4,4,   0.7039,  34.8223,2,    303.3,2,     6.41,2,    11.80,2,     0.00,2,     0.84,2,    4.320,2,    1.920,2,    0.650,2,   2149.4,2,   2323.6,2,    6.980,2
18SN19940724,AO94,       16,        1,        7,   143188,2,19940805,0911,78.9767,-175.8233,1053,    403.3,   0.7844,  34.8488,2,    304.5,4,   0.7659,  34.8477,2,    305.4,2,     6.36,2,    11.87,2,     0.00,2,     0.85,2,    4.100,2,    2.160,2,    0.400,2,   2154.5,2,   2324.2,2,    7.740,2
18SN19940724,AO94,       16,        1,        6,   143187,2,19940805,0911,78.9767,-175.8233,1053,    479.3,   0.5436,  34.8478,2,    305.9,4,   0.5223,  34.8486,2,    305.4,2,     6.49,2,    11.94,2,     0.00,2,     0.85,2,    4.400,2,    1.980,2, -999.000,9,   2154.8,2,   2322.8,2,    7.800,2
18SN19940724,AO94,       16,        1,        5,   143186,2,19940805,0911,78.9767,-175.8233,1053,    580.1,   0.3712,  34.8553,2,    306.3,4,   0.3457,  34.8535,2,    305.9,2,     6.58,2,    12.01,2,     0.00,2,     0.86,2,    3.720,2,    1.900,2,    0.380,2,   2158.6,2,   2321.8,2,    7.480,2
18SN19940724,AO94,       16,        1,        4,   143185,2,19940805,0911,78.9767,-175.8233,1053,    706.9,   0.1537,  34.8608,2,    306.8,4,   0.1231,  34.8618,2,    306.5,2,     6.80,2,    12.11,2,     0.00,2,     0.87,2,    4.200,2,    1.850,2,    0.770,2,   2159.2,2,   2324.3,2,    7.200,2
18SN19940724,AO94,       16,        1,        3,   143184,2,19940805,0911,78.9767,-175.8233,1053,    858.1,  -0.0387,  34.8664,2,    306.6,4,  -0.0756,  34.8669,2,    306.9,2,     7.02,2,    12.18,2,     0.00,2,     0.88,2,    4.210,2,    1.840,2,    0.790,2,   2160.3,2,   2325.8,2,    7.280,2
18SN19940724,AO94,       16,        1,        2,   143183,2,19940805,0911,78.9767,-175.8233,1053,    984.3,  -0.1515,  34.8751,2,    306.2,4,  -0.1940,  34.8773,2,    305.5,2,     7.33,2,    12.35,2,     0.00,2,     0.89,2,    3.710,2,    1.590,2,    0.720,2,   2164.2,2,   2322.0,2,    6.620,2
18SN19940724,AO94,       16,        1,        1,   143182,3,19940805,0911,78.9767,-175.8233,1053,   1063.4,  -0.2288,  34.8808,2,    305.3,4,  -0.2748,  34.8836,4,    305.3,2,     7.46,2,    12.45,2,     0.00,2,     0.89,2,    3.630,2,    1.580,2,    0.450,2,   2163.6,2,   2325.9,2,    6.940,2