BOTTLE,20090717CCHDOSIODM
EXPOCODE,SECT_ID,STNNBR,CASTNO,SAMPNO,BTLNBR,BTLNBR_FLAG_W,DATE,TIME,LATITUDE,LONGITUDE,DEPTH,CTDPRS,CTDTMP,CTDSAL,CTDSAL_FLAG_W,CTDOXY,CTDOXY_FLAG_W,THETA,SALNTY,SALNTY_FLAG_W,OXYGEN,OXYGEN_FLAG_W,SILCAT,SILCAT_FLAG_W,NITRAT,NITRAT_FLAG_W,NITRIT,NITRIT_FLAG_W,PHSPHT,PHSPHT_FLAG_W,CFC-11,CFC-11_FLAG_W,CFC-12,CFC-12_FLAG_W,CFC113,CFC113_FLAG_W,TCARBN,TCARBN_FLAG_W,ALKALI,ALKALI_FLAG_W,CCL4,CCL4_FLAG_W
,,,,,,,,,,,,DBAR,ITS-90,PSS-78,,UMOL/KG,,DEG C,PSS-78,,UMOL/KG,,UMOL/KG,,UMOL/KG,,UMOL/KG,,UMOL/KG,,PMOL/KG,,PMOL/KG,,PMOL/KG,,UMOL/KG,,UMOL/KG,,PMOL/KG,
18SN19940724,AO94,       13,        2,       23,   143089,2,19940803,1100,77.7800,-176.2800,1145,     12.1,  -1.5681,  30.4290,2,    377.8,4,  -1.5682,  30.4436,2,    381.8,2,    11.72,2,     0.32,2,     0.02,2,     1.14,2,    6.530,2,    3.560,2, -999.000,9,   -999.0,9,   -999.0,9,   10.010,2
18SN19940724,AO94,       13,        2,       22,   143088,2,19940803,1100,77.7800,-176.2800,1145,     27.0,  -1.5996,  30.9405,2,    375.9,4,  -1.6000,  30.9416,2,    377.8,2,    10.54,2,     0.95,2,     0.05,2,     1.11,2,    6.500,2,    3.460,2,    1.270,2,   2018.9,2,   2172.4,2,   11.660,2
18SN19940724,AO94,       13,        2,       21,   143087,2,19940803,1100,77.7800,-176.2800,1145,     47.5,  -1.6154,  31.2967,2,    357.3,4,  -1.6161,  31.2421,2,    346.6,2,    13.21,2,     3.77,2,     0.02,2,     1.30,2, -999.000,9, -999.000,9, -999.000,9,   2048.5,2,   2183.1,2, -999.000,9
18SN19940724,AO94,       13,        2,       20,   143086,2,19940803,1100,77.7800,-176.2800,1145,     67.8,  -1.6572,  33.3224,2,    280.6,4,  -1.6585,  33.2797,2,    302.4,2,    18.27,2,     9.23,2,     0.01,2,     1.07,2,    5.680,2,    2.960,2,    0.810,2,   2163.5,2,   2275.6,2,    6.410,2
18SN19940724,AO94,       13,        2,       19,   143085,2,19940803,1100,77.7800,-176.2800,1145,     88.2,  -1.7772,  33.7377,2,    325.8,4,  -1.7789,  33.7298,2,    328.1,2,     6.44,2,     7.07,2,     0.01,2,     0.64,2,    5.930,2,    3.080,2, -999.000,9,   2147.0,2,   2294.3,2,    6.810,2
18SN19940724,AO94,       13,        2,       18,   143084,2,19940803,1100,77.7800,-176.2800,1145,    107.8,  -1.6564,  33.9549,2,    316.9,4,  -1.6586,  33.9447,2,    316.0,2,     7.46,2,     8.11,2,     0.01,2,     0.71,2,    5.560,2,    2.830,2,    0.720,2,   2152.8,2,   2298.3,2,    6.320,2
18SN19940724,AO94,       13,        2,       17,   143083,2,19940803,1100,77.7800,-176.2800,1145,    128.3,  -1.4116,  34.1716,2,    310.9,4,  -1.4145,  34.1768,2,    304.9,2,     8.20,2,     9.41,2,     0.01,2,     0.79,2,    5.150,2,    2.610,2, -999.000,9,   2153.0,2,   2296.7,2,    6.290,2
18SN19940724,AO94,       13,        2,       16,   143082,2,19940803,1100,77.7800,-176.2800,1145,    148.2,  -1.1085,  34.3180,2,    307.2,4,  -1.1124,  34.3117,2,    308.4,2,     6.20,2,     9.33,2,     0.01,2,     0.74,2,    4.850,2,    2.460,2,    0.520,2,   2142.5,2,   2304.8,2,    5.940,2
18SN19940724,AO94,       13,        2,       15,   143081,2,19940803,1100,77.7800,-176.2800,1145,    173.3,  -0.6476,  34.4493,2,    305.8,4,  -0.6529,  34.4554,2,    304.9,2,     6.40,2,     9.91,2,     0.00,2,     0.77,2,    4.410,2,    2.340,2, -999.000,9,   2155.3,2,   2310.0,2,    6.000,2
18SN19940724,AO94,       13,        2,       14,   143080,2,19940803,1100,77.7800,-176.2800,1145,    203.2,   0.2295,  34.6252,2,    301.1,4,   0.2216,  34.6145,2,    303.6,2,     6.11,2,    10.71,2,     0.00,2,     0.79,2,    4.140,2,    2.140,2,    0.370,2,   2152.9,2,   2317.3,2,    5.920,2
18SN19940724,AO94,       13,        2,       13,   143079,2,19940803,1100,77.7800,-176.2800,1145,    243.5,   0.7309,  34.7505,2,    303.1,4,   0.7203,  34.7481,2,    302.3,2,     5.96,2,    11.39,2,     0.00,2,     0.82,2,    4.340,2,    2.360,2, -999.000,9,   2148.2,2,   2319.7,2,    6.570,2
18SN19940724,AO94,       13,        2,       12,   143078,2,19940803,1100,77.7800,-176.2800,1145,    283.9,   0.8304,  34.8057,2,    302.9,4,   0.8177,  34.8069,2,    303.2,2,     6.09,2,    11.68,2,     0.00,2,     0.84,2,    4.140,2,    2.180,2,    0.420,2,   2150.3,2,   2320.1,2,    6.890,2
18SN19940724,AO94,       13,        2,       11,   143077,2,19940803,1100,77.7800,-176.2800,1145,    325.0,   0.8232,  34.8264,2,    304.5,4,   0.8085,  34.8266,2,    303.6,2,     6.15,2,    11.78,2,     0.01,2,     0.85,2,    4.330,2,    2.230,2, -999.000,9,   2147.9,2,   2316.2,2,    6.740,2
18SN19940724,AO94,       13,        2,       10,   143076,2,19940803,1100,77.7800,-176.2800,1145,    369.7,   0.5519,  34.8118,2,    303.5,4,   0.5358,  34.8124,2,    301.8,2,     6.41,2,    11.82,2,     0.00,2,     0.85,2,    3.540,2,    1.880,2,    0.270,2,   2153.2,2,   2320.5,2,    6.330,2
18SN19940724,AO94,       13,        2,        9,   143075,2,19940803,1100,77.7800,-176.2800,1145,    405.4,   0.6145,  34.8375,2,    304.9,4,   0.5965,  34.8345,2,    303.8,2,     6.26,2,    11.93,2,     0.00,2,     0.85,2,    3.980,2,    1.990,2, -999.000,9,   2154.5,2,   2323.0,2,    5.400,2
18SN19940724,AO94,       13,        2,        8,   143074,2,19940803,1100,77.7800,-176.2800,1145,    456.3,   0.5446,  34.8445,2,    304.9,4,   0.5244,  34.8459,2,    304.7,2,     6.25,2,    11.97,2,     0.00,2,     0.86,2,    3.860,2,    2.030,2,    0.340,2,   2160.1,2,   2323.8,2,    6.960,2
18SN19940724,AO94,       13,        2,        7,   143073,2,19940803,1100,77.7800,-176.2800,1145,    557.4,   0.3981,  34.8546,2,    306.5,4,   0.3736,  34.8561,2,    306.0,2,     6.38,2,    12.04,2,     0.00,2,     0.87,2,    4.170,2,    2.200,2, -999.000,9,   2154.7,2,   2326.0,2,    6.090,2
18SN19940724,AO94,       13,        2,        6,   143072,2,19940803,1100,77.7800,-176.2800,1145,    658.5,   0.1815,  34.8563,2,    306.3,4,   0.1532,  34.8581,2,    307.0,2,     6.50,2,    12.04,2,     0.00,2,     0.87,2,    4.020,2,    2.130,2,    0.370,2,   2158.0,2,   2322.4,2,    7.360,2
18SN19940724,AO94,       13,        2,        5,   143071,2,19940803,1100,77.7800,-176.2800,1145,    759.7,   0.0614,  34.8617,2,    306.4,4,   0.0288,  34.8612,2,    306.8,2,     6.63,2,    12.14,2,     0.00,2,     0.88,2,    4.160,2,    2.090,2, -999.000,9,   2157.9,2,   2324.2,2,    6.780,2
18SN19940724,AO94,       13,        2,        4,   143070,2,19940803,1100,77.7800,-176.2800,1145,    912.2,  -0.1099,  34.8728,2,    304.1,4,  -0.1490,  34.8736,2,    306.3,2,     6.96,2,    12.32,2,     0.00,2,     0.89,2,    3.980,2,    1.950,2, -999.000,9,   2165.8,2,   2322.7,2,    6.620,2
18SN19940724,AO94,       13,        2,        3,   143069,2,19940803,1100,77.7800,-176.2800,1145,   1063.5,  -0.2526,  34.8836,2,    305.3,4,  -0.2984,  34.8856,2,    305.4,2,     7.50,2,    12.50,2,     0.00,2,     0.90,2,    3.480,2,    1.790,2, -999.000,9,   2165.4,2,   2324.3,2,    5.540,2
18SN19940724,AO94,       13,        2,        2,   143068,2,19940803,1100,77.7800,-176.2800,1145,   1160.3,  -0.3209,  34.8903,2,    304.6,4,  -0.3712,  34.8922,2,    304.6,2,     7.97,2,    12.68,2,     0.00,2,     0.92,2,    2.820,2,    1.460,2,    0.190,2,   2164.6,2,   2321.5,2,    5.620,2
18SN19940724,AO94,       13,        2,        1,   143067,2,19940803,1100,77.7800,-176.2800,1145,   1163.0,  -0.3240,  34.8909,2,    304.8,4,  -0.3744,  34.8924,2,    304.6,2,     8.03,2,    12.72,2,     0.00,2,     0.92,2,    3.210,2,    1.610,2, -999.000,9,   2168.0,2,   2325.1,2,    5.350,2
18SN19940724,AO94,       14,        1,       23,   143113,2,19940803,1655,78.1467,-176.8950,947,     11.2,  -1.5538,  30.0316,2,    365.0,4,  -1.5539,  30.0305,2,    381.7,2,    13.94,2,     0.13,2,     0.01,2,     1.19,2,    6.600,2,    3.460,2,    1.230,2,   2009.7,2,   2134.2,2,   12.720,2
18SN19940724,AO94,       14,        1,       22,   143112,2,19940803,1655,78.1467,-176.8950,947,     26.2,  -1.5409,  30.2268,2,    369.2,4,  -1.5412,  30.2111,2,    380.6,2,    13.88,2,     0.26,2,     0.03,2,     1.21,2,    6.580,2,    3.560,2,    1.260,2,   2016.8,2,   2144.6,2,   12.520,2
18SN19940724,AO94,       14,        1,       21,   143111,2,19940803,1655,78.1467,-176.8950,947,     41.5,  -1.5861,  30.8660,2,    355.7,4,  -1.5866,  30.8218,2,    359.3,2,    16.37,2,     2.33,2,     0.04,2,     1.27,2,    6.500,2,    3.500,2,    1.220,2,   2068.4,2,   2193.4,2,   11.770,2
18SN19940724,AO94,       14,        1,       20,   143110,2,19940803,1655,78.1467,-176.8950,947,     51.6,  -1.4992,  32.5707,2,    315.3,4,  -1.5002,  32.7117,2,    273.4,2,    30.30,2,    10.50,2,     0.01,2,     1.54,2,    5.540,2,    3.020,2,    0.810,2,   2178.0,2,   2261.6,2,    6.610,2
18SN19940724,AO94,       14,        1,       19,   143109,2,19940803,1655,78.1467,-176.8950,947,     61.8,  -1.7012,  33.3333,2,    299.6,4,  -1.7023,  33.2930,2,    316.9,2,    13.51,2,     7.97,2,     0.01,2,     0.88,2, -999.000,9, -999.000,9, -999.000,9,   2149.3,2,   2284.8,2, -999.000,9
18SN19940724,AO94,       14,        1,       18,   143108,2,19940803,1655,78.1467,-176.8950,947,     77.0,  -1.7420,  33.7359,2,    317.8,4,  -1.7434,  33.7216,2,    320.9,2,     8.53,2,     7.50,2,     0.01,2,     0.72,2,    5.650,2,    2.950,2,    0.780,2,   2154.4,2,   2298.0,2,    6.340,2
18SN19940724,AO94,       14,        1,       17,   143107,2,19940803,1655,78.1467,-176.8950,947,     97.2,  -1.7656,  33.8958,2,    313.4,4,  -1.7675,  33.9038,2,    322.6,2,     6.81,2,     7.45,2,     0.01,2,     0.66,2,    5.610,2,    3.130,2, -999.000,9,   2157.2,2,   2304.0,2,    5.830,2
18SN19940724,AO94,       14,        1,       14,   143104,4,19940803,1655,78.1467,-176.8950,947,    112.7,  -1.4871,  34.0803,2,    309.8,4,  -1.4896,  34.5757,4,    304.1,4,     6.16,4,    10.49,4,     0.00,4,     0.79,4,    4.340,2,    2.250,2,    0.440,2,   2146.8,2,   -999.0,9,    6.190,2
18SN19940724,AO94,       14,        1,       16,   143106,4,19940803,1655,78.1467,-176.8950,947,    137.5,  -1.1459,  34.3063,2,    303.6,4,  -1.1495,  34.3064,2,    304.8,2,     7.14,2,     9.61,2,     0.01,2,     0.77,2,    4.700,2,    2.420,2,    0.500,2,   2156.9,2,   2307.1,2,    5.860,2
18SN19940724,AO94,       14,        1,       15,   143105,4,19940803,1655,78.1467,-176.8950,947,    167.3,  -0.4456,  34.4674,2,    301.5,4,  -0.4510,  34.4650,2,    305.8,2,     6.18,2,     9.94,2,     0.00,2,     0.76,2,    4.340,2,    2.450,2, -999.000,9,   2150.7,2,   2315.7,2,    5.270,2
18SN19940724,AO94,       14,        1,       13,   143103,2,19940803,1655,78.1467,-176.8950,947,    203.2,   0.5205,  34.6814,2,    300.5,4,   0.5121,  34.6796,2,    302.8,2,     6.10,2,    11.04,2,     0.00,2,     0.80,2,    4.390,2,    2.360,2, -999.000,9,   2151.3,2,   2313.9,2,    6.040,2
18SN19940724,AO94,       14,        1,       12,   143102,2,19940803,1655,78.1467,-176.8950,947,    243.0,   0.9126,  34.7839,2,    303.5,4,   0.9016,  34.7834,2,    302.7,2,     6.08,2,    11.51,2,     0.00,2,     0.82,2,    4.200,2,    2.390,2, -999.000,9,   2149.4,2,   2320.2,2,    5.520,2
18SN19940724,AO94,       14,        1,       11,   143101,2,19940803,1655,78.1467,-176.8950,947,    278.2,   0.9645,  34.8157,2,    305.9,4,   0.9517,  34.8133,2,    303.6,2,     6.12,2,    11.65,2,     0.00,2,     0.84,2,    4.190,2,    2.290,2, -999.000,9,   2149.6,2,   2321.6,2,    5.830,2
18SN19940724,AO94,       14,        1,       10,   143100,2,19940803,1655,78.1467,-176.8950,947,    313.6,   0.9143,  34.8324,2,    305.8,4,   0.8999,  34.8312,2,    303.9,2,     6.21,2,    11.80,2,     0.00,2,     0.85,2,    4.170,2,    2.320,2, -999.000,9,   2151.7,2,   2321.4,2,    5.780,2
18SN19940724,AO94,       14,        1,        9,   143099,2,19940803,1655,78.1467,-176.8950,947,    359.2,   0.6659,  34.8222,2,    304.8,4,   0.6500,  34.8194,2,    302.8,2,     6.39,2,    11.84,2,     0.00,2,     0.85,2,    3.820,2,    2.050,2, -999.000,9,   2154.1,2,   2321.5,2,    5.110,2
18SN19940724,AO94,       14,        1,        8,   143098,2,19940803,1655,78.1467,-176.8950,947,    404.3,   0.6974,  34.8431,2,    304.9,4,   0.6792,  34.8408,2,    304.5,2,     6.38,2,    11.91,2,     0.00,2,     0.85,2,    4.050,2,    2.210,2, -999.000,9,   2151.3,2,   2322.7,2,    5.830,2
18SN19940724,AO94,       14,        1,        7,   143097,2,19940803,1655,78.1467,-176.8950,947,    480.1,   0.4972,  34.8452,2,    304.2,4,   0.4761,  34.8454,2,    305.1,2,     6.36,2,    11.98,2,     0.00,2,     0.85,2,    3.870,2,    2.130,2,    0.350,2,   2155.4,2,   2324.5,2,    6.960,2
18SN19940724,AO94,       14,        1,        6,   143096,2,19940803,1655,78.1467,-176.8950,947,    579.9,   0.3255,  34.8556,2,    304.6,4,   0.3003,  34.8550,2,    305.7,2,     6.50,2,    12.05,2,     0.00,2,     0.87,2,    3.750,2,    1.870,2,    0.330,2,   2158.0,2,   2327.3,2,    6.820,2
18SN19940724,AO94,       14,        1,        5,   143095,2,19940803,1655,78.1467,-176.8950,947,    679.7,   0.1649,  34.8604,2,    305.6,4,   0.1356,  34.8580,2,    306.6,2,     6.59,2,    12.12,2,     0.00,2,     0.87,2,    3.840,2,    2.040,2,    0.330,2,   2160.7,2,   2325.1,2,    7.010,2
18SN19940724,AO94,       14,        1,        4,   143094,2,19940803,1655,78.1467,-176.8950,947,    780.7,   0.0032,  34.8654,2,    307.2,4,  -0.0301,  34.8644,2,    306.6,2,     6.77,2,    12.20,2,     0.00,2,     0.88,2,    3.690,2,    1.880,2,    0.300,2,   2160.5,2,   2322.6,2,    6.770,2
18SN19940724,AO94,       14,        1,        3,   143093,2,19940803,1655,78.1467,-176.8950,947,    883.5,  -0.1203,  34.8738,2,    308.5,4,  -0.1579,  34.8743,2,    305.5,2,     7.11,2,    12.34,2,     0.00,2,     0.89,2,    3.490,2,    1.800,2,    0.280,2,   2163.7,2,   2324.4,2,    6.660,2
18SN19940724,AO94,       14,        1,        2,   143092,2,19940803,1655,78.1467,-176.8950,947,    956.1,  -0.1691,  34.8761,2,    308.1,4,  -0.2101,  34.8764,2,    305.4,2,     7.29,2,    12.45,2,     0.00,2,     0.90,2,    3.350,2,    1.690,2,    0.260,2,   2163.3,2,   2326.6,2,    6.380,2
18SN19940724,AO94,       14,        1,        1,   143091,4,19940803,1655,78.1467,-176.8950,947,    956.2,  -0.1687,  34.8768,2,    308.1,4,  -0.2097,  30.0470,4,    382.8,4,    14.21,4,     0.14,4,     0.02,4,     1.18,4, -999.000,9, -999.000,9, -999.000,9,   2012.7,4,   -999.0,9, -999.000,9