BOTTLE,20090717CCHDOSIODM
EXPOCODE,SECT_ID,STNNBR,CASTNO,SAMPNO,BTLNBR,BTLNBR_FLAG_W,DATE,TIME,LATITUDE,LONGITUDE,DEPTH,CTDPRS,CTDTMP,CTDSAL,CTDSAL_FLAG_W,CTDOXY,CTDOXY_FLAG_W,THETA,SALNTY,SALNTY_FLAG_W,OXYGEN,OXYGEN_FLAG_W,SILCAT,SILCAT_FLAG_W,NITRAT,NITRAT_FLAG_W,NITRIT,NITRIT_FLAG_W,PHSPHT,PHSPHT_FLAG_W,CFC-11,CFC-11_FLAG_W,CFC-12,CFC-12_FLAG_W,CFC113,CFC113_FLAG_W,TCARBN,TCARBN_FLAG_W,ALKALI,ALKALI_FLAG_W,CCL4,CCL4_FLAG_W
,,,,,,,,,,,,DBAR,ITS-90,PSS-78,,UMOL/KG,,DEG C,PSS-78,,UMOL/KG,,UMOL/KG,,UMOL/KG,,UMOL/KG,,UMOL/KG,,PMOL/KG,,PMOL/KG,,PMOL/KG,,UMOL/KG,,UMOL/KG,,PMOL/KG,
18SN19940724,AO94,        4,        1,       20,   142778,2,19940728,2305,73.4917,-168.8500,107,      4.7,  -1.5310,  30.4573,2,    593.9,4,  -1.5310,  30.4917,2,    430.0,2,     7.56,2,     0.17,2,     0.01,2,     0.85,2,    6.080,2,    2.990,2,    1.210,2,   1971.7,2,   2173.7,2,   11.930,2
18SN19940724,AO94,        4,        1,       19,   142777,2,19940728,2305,73.4917,-168.8500,107,     15.0,  -1.5442,  30.4701,2,    592.0,4,  -1.5444,  30.5582,2,    424.9,2,     7.69,2,     0.41,2,     0.01,2,     0.85,2,    6.240,2,    3.000,2,    1.250,2,   1981.1,2,   2183.2,2,   11.080,2
18SN19940724,AO94,        4,        1,       18,   142776,2,19940728,2305,73.4917,-168.8500,107,     25.1,  -1.6111,  31.4738,2,    496.6,4,  -1.6115,  31.4842,2,    361.0,2,    16.85,2,     4.35,2,     0.07,2,     1.19,2,    6.190,2,    3.060,2,    1.260,2,   2078.7,2,   2233.3,2,   12.190,2
18SN19940724,AO94,        4,        1,       17,   142775,2,19940728,2305,73.4917,-168.8500,107,     45.8,  -1.7017,  31.7010,2,    447.4,4,  -1.7024,  31.7152,2,    337.4,2,    21.21,2,     6.49,2,     0.03,2,     1.33,2,    6.340,2,    3.180,2,    1.370,2,   -999.0,9,   -999.0,9,   11.570,2
18SN19940724,AO94,        4,        1,       16,   142774,2,19940728,2305,73.4917,-168.8500,107,     61.2,  -1.5621,  31.9959,2,    422.8,4,  -1.5631,  32.0154,2,    313.5,2,    29.33,2,     9.57,2,     0.02,2,     1.58,2,    6.040,2,    3.100,2,    0.920,2,   2128.3,2,   2243.9,2,   11.220,2
18SN19940724,AO94,        4,        1,       15,   142773,2,19940728,2305,73.4917,-168.8500,107,     81.4,  -1.1329,  33.1449,2,    327.8,4,  -1.1348,  33.2138,2,    191.2,2,    70.57,2,    16.13,2,     0.02,2,     2.63,2,    4.830,2,    2.690,2,    0.510,2,   2267.2,2,   2283.7,2,    7.470,2
18SN19940724,AO94,        4,        1,       14,   142772,2,19940728,2305,73.4917,-168.8500,107,     96.8,  -0.9028,  33.6700,2,    230.9,4,  -0.9054,  33.6819,2,    137.6,2,    79.83,2,    16.45,2,     0.04,2,     2.95,2,    3.720,2,    2.370,2,    0.330,2,   2307.7,2,   2301.9,2,    4.580,2
18SN19940724,AO94,        4,        1,        8,   142766,2,19940728,2305,73.4917,-168.8500,107,    107.3,  -0.7399,  34.0360,2,    166.6,4,  -0.7430,  34.0433,2,   -999.0,9,  -999.00,9,  -999.00,9,  -999.00,9,  -999.00,9, -999.000,9, -999.000,9, -999.000,9,   -999.0,9,   -999.0,9, -999.000,9
18SN19940724,AO94,        4,        1,        9,   142767,2,19940728,2305,73.4917,-168.8500,107,    107.3,  -0.7440,  34.0307,2,    166.5,4,  -0.7471,  34.0396,2,   -999.0,9,  -999.00,9,  -999.00,9,  -999.00,9,  -999.00,9, -999.000,9, -999.000,9, -999.000,9,   -999.0,9,   -999.0,9, -999.000,9
18SN19940724,AO94,        4,        1,       10,   142768,2,19940728,2305,73.4917,-168.8500,107,    107.3,  -0.7411,  34.0307,2,    166.5,4,  -0.7442,  34.0482,2,   -999.0,9,  -999.00,9,  -999.00,9,  -999.00,9,  -999.00,9, -999.000,9, -999.000,9, -999.000,9,   -999.0,9,   -999.0,9, -999.000,9
18SN19940724,AO94,        4,        1,       11,   142769,2,19940728,2305,73.4917,-168.8500,107,    107.3,  -0.7436,  34.0305,2,    166.5,4,  -0.7467,  34.0418,2,   -999.0,9,  -999.00,9,  -999.00,9,  -999.00,9,  -999.00,9, -999.000,9, -999.000,9, -999.000,9,   -999.0,9,   -999.0,9, -999.000,9
18SN19940724,AO94,        4,        1,       12,   142770,2,19940728,2305,73.4917,-168.8500,107,    107.3,  -0.7436,  34.0299,2,    166.5,4,  -0.7467,  34.0410,2,   -999.0,9,  -999.00,9,  -999.00,9,  -999.00,9,  -999.00,9, -999.000,9, -999.000,9, -999.000,9,   -999.0,9,   -999.0,9, -999.000,9
18SN19940724,AO94,        4,        1,       13,   142771,2,19940728,2305,73.4917,-168.8500,107,    107.3,  -0.7415,  34.0360,2,    166.5,4,  -0.7446,  34.0416,2,   -999.0,9,  -999.00,9,  -999.00,9,  -999.00,9,  -999.00,9, -999.000,9, -999.000,9, -999.000,9,   -999.0,9,   -999.0,9, -999.000,9
18SN19940724,AO94,        4,        1,        7,   142765,2,19940728,2305,73.4917,-168.8500,107,    107.4,  -0.7300,  34.0565,2,    166.5,4,  -0.7331,  34.0476,2,   -999.0,9,  -999.00,9,  -999.00,9,  -999.00,9,  -999.00,9, -999.000,9, -999.000,9, -999.000,9,   -999.0,9,   -999.0,9, -999.000,9
18SN19940724,AO94,        4,        1,        6,   142764,2,19940728,2305,73.4917,-168.8500,107,    107.4,  -0.7259,  34.0706,2,    155.6,4,  -0.7290,  34.0704,2,   -999.0,9,  -999.00,9,  -999.00,9,  -999.00,9,  -999.00,9, -999.000,9, -999.000,9, -999.000,9,   -999.0,9,   -999.0,9, -999.000,9
18SN19940724,AO94,        4,        1,        5,   142763,3,19940728,2305,73.4917,-168.8500,107,    107.4,  -0.7255,  34.0712,2,    155.6,4,  -0.7286,  34.0658,2,   -999.0,9,  -999.00,9,  -999.00,9,  -999.00,9,  -999.00,9, -999.000,9, -999.000,9, -999.000,9,   -999.0,9,   -999.0,9, -999.000,9
18SN19940724,AO94,        4,        1,        4,   142762,2,19940728,2305,73.4917,-168.8500,107,    107.5,  -0.7246,  34.0740,2,    155.6,4,  -0.7277,  34.0643,2,   -999.0,9,  -999.00,9,  -999.00,9,  -999.00,9,  -999.00,9, -999.000,9, -999.000,9, -999.000,9,   -999.0,9,   -999.0,9, -999.000,9
18SN19940724,AO94,        4,        1,        3,   142761,2,19940728,2305,73.4917,-168.8500,107,    107.5,  -0.7245,  34.0738,2,    155.6,4,  -0.7276,  34.0617,2,   -999.0,9,  -999.00,9,  -999.00,9,  -999.00,9,  -999.00,9, -999.000,9, -999.000,9, -999.000,9,   -999.0,9,   -999.0,9, -999.000,9
18SN19940724,AO94,        4,        1,        2,   142760,2,19940728,2305,73.4917,-168.8500,107,    107.6,  -0.7233,  34.0759,2,    155.6,4,  -0.7264,  34.0490,2,   -999.0,9,   100.76,2,    16.00,2,     0.03,2,     3.29,2, -999.000,9, -999.000,9, -999.000,9,   -999.0,9,   -999.0,9, -999.000,9
18SN19940724,AO94,        4,        1,        1,   142759,2,19940728,2305,73.4917,-168.8500,107,    107.7,  -0.7219,  34.0790,2,    155.6,4,  -0.7250,  34.0274,2,     75.7,2,    99.32,2,    16.08,2,     0.02,2,     3.28,2,    2.820,2,    1.890,2,    0.530,2,   2354.9,2,   2312.4,2,    3.360,2
18SN19940724,AO94,        5,        1,       23,   142801,2,19940729,0621,73.9850,-168.7400,175,      9.6,  -1.4900,  30.1145,2,    593.5,4,  -1.4901,  30.1251,2,    429.5,2,     6.10,2,     0.05,2,     0.00,2,     0.78,2,    5.900,2,    2.870,2,    1.590,2,   1968.6,2,   2172.1,2,   11.570,2
18SN19940724,AO94,        5,        1,       22,   142800,2,19940729,0621,73.9850,-168.7400,175,     24.6,  -1.4097,  30.7407,2,    567.7,4,  -1.4100,  30.7556,2,    431.6,2,     6.17,2,     0.01,2,     0.00,2,     0.81,2,    5.780,2,    2.830,2,    2.700,2,   2009.1,2,   2208.6,2,   11.250,2
18SN19940724,AO94,        5,        1,       21,   142799,2,19940729,0621,73.9850,-168.7400,175,     40.2,  -1.5884,  31.2066,2,    534.7,4,  -1.5891,  31.2582,2,    358.1,2,    14.24,2,     3.79,2,     0.06,2,     1.11,2,    5.860,2,    2.890,2,    1.170,2,   2083.5,2,   2230.7,2,   11.040,2
18SN19940724,AO94,        5,        1,       20,   142798,2,19940729,0621,73.9850,-168.7400,175,     60.5,  -1.5846,  31.8081,2,    432.5,4,  -1.5855,  31.8407,2,    325.0,2,    23.87,2,     7.72,2,     0.01,2,     1.42,2,    5.810,2,    2.920,2,    0.870,2,   2118.2,2,   2237.6,2,   11.440,2
18SN19940724,AO94,        5,        1,       19,   142797,2,19940729,0621,73.9850,-168.7400,175,     75.6,  -1.4937,  32.2266,2,    399.9,4,  -1.4951,  32.2534,2,    301.9,2,    31.82,2,    10.52,2,     0.01,2,     1.69,2,    5.450,2,    2.760,2,    1.700,2,   2154.9,2,   2253.6,2,    9.910,2
18SN19940724,AO94,        5,        1,       18,   142796,2,19940729,0621,73.9850,-168.7400,175,     90.9,  -1.4920,  32.9948,2,    370.3,4,  -1.4938,  33.0724,2,    279.2,2,    39.43,2,    12.95,2,     0.01,2,     1.91,2,    5.140,2,    2.640,2,    0.840,2,   2224.6,2,   2292.7,2,    8.480,2
18SN19940724,AO94,        5,        1,       17,   142795,2,19940729,0621,73.9850,-168.7400,175,    101.0,  -1.2982,  33.5955,2,    352.1,4,  -1.3005,  33.6294,2,    261.1,2,    38.87,2,    14.25,2,     0.01,2,     1.86,2,    4.350,2,    2.230,2,    0.410,2,   2228.9,2,   2313.1,2,    6.740,2
18SN19940724,AO94,        5,        1,       16,   142794,2,19940729,0621,73.9850,-168.7400,175,    120.7,  -0.7961,  34.2096,2,    323.1,4,  -0.7996,  34.2208,2,    250.6,2,    26.76,2,    14.11,2,     0.00,2,     1.43,2,    3.390,2,    1.710,2,    0.700,2,   2204.9,2,   2314.1,2,    4.730,2
18SN19940724,AO94,        5,        1,       15,   142793,2,19940729,0621,73.9850,-168.7400,175,    136.2,  -0.4956,  34.4755,2,    315.5,4,  -0.4999,  34.4912,2,    247.8,2,    23.36,2,    13.50,2,     0.00,2,     1.22,2,    5.060,2,    1.880,2,    0.530,2,   2201.1,2,   2315.1,2,    5.240,2
18SN19940724,AO94,        5,        1,       14,   142792,2,19940729,0621,73.9850,-168.7400,175,    157.0,  -0.2317,  34.5868,2,    305.9,4,  -0.2371,  34.5874,2,    249.5,2,    22.29,2,    13.09,2,     0.02,2,     1.14,2, -999.000,9, -999.000,9, -999.000,9,   2197.6,2,   2315.2,2, -999.000,9
18SN19940724,AO94,        5,        1,        1,   142779,2,19940729,0621,73.9850,-168.7400,175,    175.0,  -0.2239,  34.5878,2,    296.1,4,  -0.2300,  34.5892,2,    249.2,2,    22.28,2,    13.14,2,     0.01,2,     1.13,2,    4.130,2,    1.980,2,    0.540,2,   2197.4,2,   2323.9,2,    5.580,2
18SN19940724,AO94,        5,        1,        2,   142780,2,19940729,0621,73.9850,-168.7400,175,    175.1,  -0.2227,  34.5876,2,    296.1,4,  -0.2288,  34.5900,2,   -999.0,9,  -999.00,9,  -999.00,9,  -999.00,9,  -999.00,9, -999.000,9, -999.000,9, -999.000,9,   -999.0,9,   -999.0,9, -999.000,9
18SN19940724,AO94,        5,        1,       13,   142791,2,19940729,0621,73.9850,-168.7400,175,    175.1,  -0.2201,  34.5860,2,    304.8,4,  -0.2262,  34.5884,2,   -999.0,9,  -999.00,9,  -999.00,9,  -999.00,9,  -999.00,9, -999.000,9, -999.000,9, -999.000,9,   -999.0,9,   -999.0,9, -999.000,9
18SN19940724,AO94,        5,        1,       12,   142790,2,19940729,0621,73.9850,-168.7400,175,    175.1,  -0.2205,  34.5864,2,    304.8,4,  -0.2266,  34.5878,2,   -999.0,9,  -999.00,9,  -999.00,9,  -999.00,9,  -999.00,9, -999.000,9, -999.000,9, -999.000,9,   -999.0,9,   -999.0,9, -999.000,9
18SN19940724,AO94,        5,        1,        3,   142781,2,19940729,0621,73.9850,-168.7400,175,    175.1,  -0.2222,  34.5872,2,    304.8,4,  -0.2283,  34.5886,2,   -999.0,9,  -999.00,9,  -999.00,9,  -999.00,9,  -999.00,9, -999.000,9, -999.000,9, -999.000,9,   -999.0,9,   -999.0,9, -999.000,9
18SN19940724,AO94,        5,        1,        8,   142786,2,19940729,0621,73.9850,-168.7400,175,    175.2,  -0.2222,  34.5870,2,    296.1,4,  -0.2283,  34.5894,2,   -999.0,9,  -999.00,9,  -999.00,9,  -999.00,9,  -999.00,9, -999.000,9, -999.000,9, -999.000,9,   -999.0,9,   -999.0,9, -999.000,9
18SN19940724,AO94,        5,        1,        7,   142785,2,19940729,0621,73.9850,-168.7400,175,    175.2,  -0.2222,  34.5870,2,    296.1,4,  -0.2283,  34.5898,2,   -999.0,9,  -999.00,9,  -999.00,9,  -999.00,9,  -999.00,9, -999.000,9, -999.000,9, -999.000,9,   -999.0,9,   -999.0,9, -999.000,9
18SN19940724,AO94,        5,        1,       10,   142788,2,19940729,0621,73.9850,-168.7400,175,    175.2,  -0.2213,  34.5871,2,    296.1,4,  -0.2274,  34.5888,2,   -999.0,9,  -999.00,9,  -999.00,9,  -999.00,9,  -999.00,9, -999.000,9, -999.000,9, -999.000,9,   -999.0,9,   -999.0,9, -999.000,9
18SN19940724,AO94,        5,        1,        5,   142783,2,19940729,0621,73.9850,-168.7400,175,    175.2,  -0.2227,  34.5875,2,    296.1,4,  -0.2288,  34.5880,2,   -999.0,9,  -999.00,9,  -999.00,9,  -999.00,9,  -999.00,9, -999.000,9, -999.000,9, -999.000,9,   -999.0,9,   -999.0,9, -999.000,9
18SN19940724,AO94,        5,        1,        4,   142782,2,19940729,0621,73.9850,-168.7400,175,    175.2,  -0.2235,  34.5879,2,    296.1,4,  -0.2296,  34.5898,2,   -999.0,9,  -999.00,9,  -999.00,9,  -999.00,9,  -999.00,9, -999.000,9, -999.000,9, -999.000,9,   -999.0,9,   -999.0,9, -999.000,9
18SN19940724,AO94,        5,        1,        9,   142787,2,19940729,0621,73.9850,-168.7400,175,    175.2,  -0.2220,  34.5867,2,    304.8,4,  -0.2281,  34.5894,2,   -999.0,9,  -999.00,9,  -999.00,9,  -999.00,9,  -999.00,9, -999.000,9, -999.000,9, -999.000,9,   -999.0,9,   -999.0,9, -999.000,9
18SN19940724,AO94,        5,        1,        6,   142784,2,19940729,0621,73.9850,-168.7400,175,    175.2,  -0.2227,  34.5875,2,    296.1,4,  -0.2288,  34.5900,2,   -999.0,9,  -999.00,9,  -999.00,9,  -999.00,9,  -999.00,9, -999.000,9, -999.000,9, -999.000,9,   -999.0,9,   -999.0,9, -999.000,9
18SN19940724,AO94,        5,        1,       11,   142789,2,19940729,0621,73.9850,-168.7400,175,    175.2,  -0.2205,  34.5864,2,    304.8,4,  -0.2266,  34.5898,2,   -999.0,9,  -999.00,9,  -999.00,9,  -999.00,9,  -999.00,9, -999.000,9, -999.000,9, -999.000,9,   -999.0,9,   -999.0,9, -999.000,9