BOTTLE,20090717CCHDOSIODM
EXPOCODE,SECT_ID,STNNBR,CASTNO,SAMPNO,BTLNBR,BTLNBR_FLAG_W,DATE,TIME,LATITUDE,LONGITUDE,DEPTH,CTDPRS,CTDTMP,CTDSAL,CTDSAL_FLAG_W,CTDOXY,CTDOXY_FLAG_W,THETA,SALNTY,SALNTY_FLAG_W,OXYGEN,OXYGEN_FLAG_W,SILCAT,SILCAT_FLAG_W,NITRAT,NITRAT_FLAG_W,NITRIT,NITRIT_FLAG_W,PHSPHT,PHSPHT_FLAG_W,CFC-11,CFC-11_FLAG_W,CFC-12,CFC-12_FLAG_W,CFC113,CFC113_FLAG_W,TCARBN,TCARBN_FLAG_W,ALKALI,ALKALI_FLAG_W,CCL4,CCL4_FLAG_W
,,,,,,,,,,,,DBAR,ITS-90,PSS-78,,UMOL/KG,,DEG C,PSS-78,,UMOL/KG,,UMOL/KG,,UMOL/KG,,UMOL/KG,,UMOL/KG,,PMOL/KG,,PMOL/KG,,PMOL/KG,,UMOL/KG,,UMOL/KG,,PMOL/KG,
18SN19940724,AO94,       26,        4,       36,   143793,2,19940813,1429,84.0633,175.0717,3110,     13.1,  -1.6019,  31.0617,2,    347.3,4,  -1.6021,  31.0612,2,    388.6,2,     9.70,2,     0.81,2,     0.04,2,     0.95,2,    6.320,2,    3.070,2, -999.000,9,   2036.5,2,   2187.6,2,   10.160,2
18SN19940724,AO94,       26,        4,       35,   143792,2,19940813,1429,84.0633,175.0717,3110,     23.3,  -1.6087,  31.1198,2,    333.1,4,  -1.6091,  31.1058,2,    387.9,2,     9.84,2,     0.92,2,     0.05,2,     0.95,2,    6.400,2,    3.310,2,    0.980,2,   2040.7,2,   2185.3,2,   11.360,2
18SN19940724,AO94,       26,        4,       34,   143791,2,19940813,1429,84.0633,175.0717,3110,     33.9,  -1.6527,  32.1242,2,    325.4,4,  -1.6533,  32.1620,2,    374.1,2,     9.02,2,     2.44,2,     0.06,2,     0.78,2,    6.300,2,    3.070,2, -999.000,9,   2098.2,2,   2243.0,2,   10.130,2
18SN19940724,AO94,       26,        4,       33,   143790,2,19940813,1429,84.0633,175.0717,3110,     43.8,  -1.7512,  33.0504,2,    318.9,4,  -1.7519,  32.9052,2,    364.2,2,     7.16,2,     3.86,2,     0.06,2,     0.63,2,    6.190,2,    3.150,2,    0.860,2,   2122.6,2,   2273.8,2,    9.640,2
18SN19940724,AO94,       26,        4,       32,   143789,2,19940813,1429,84.0633,175.0717,3110,     54.0,  -1.7846,  33.4189,2,    313.5,4,  -1.7856,  33.3735,2,    356.8,2,     5.68,2,     4.88,2,     0.04,2,     0.53,2,    6.000,2,    2.800,2, -999.000,9,   2133.5,2,   -999.0,9,    8.100,2
18SN19940724,AO94,       26,        4,       31,   143788,2,19940813,1429,84.0633,175.0717,3110,     64.0,  -1.7616,  33.5869,2,    311.9,4,  -1.7628,  33.5618,2,    346.9,2,     5.77,2,     5.74,2,     0.03,2,     0.56,2,    6.000,2,    3.230,2,    0.930,2,   2139.0,2,   2292.6,2,    8.330,2
18SN19940724,AO94,       26,        4,       30,   143787,2,19940813,1429,84.0633,175.0717,3110,     74.4,  -1.6527,  33.7994,2,    308.7,4,  -1.6542,  33.7671,2,    320.7,2,     7.86,2,     7.81,2,     0.02,2,     0.70,2,    5.410,2,    2.510,2, -999.000,9,   2155.2,2,   2290.6,2,    7.110,2
18SN19940724,AO94,       26,        4,       29,   143786,2,19940813,1429,84.0633,175.0717,3110,     84.5,  -1.6057,  33.9557,2,    293.7,4,  -1.6075,  33.9385,2,    312.0,2,     7.90,2,     8.59,2,     0.02,2,     0.73,2,    4.960,2,    2.490,2,    0.390,2,   2154.6,2,   2290.6,2,    6.240,2
18SN19940724,AO94,       26,        4,       28,   143785,2,19940813,1429,84.0633,175.0717,3110,     94.7,  -1.5304,  34.0971,2,    294.3,4,  -1.5324,  34.0809,2,    310.0,2,     7.28,2,     8.86,2,     0.02,2,     0.73,2,    4.840,2,    2.280,2, -999.000,9,   2158.0,2,   2295.3,2,    6.140,2
18SN19940724,AO94,       26,        4,       27,   143784,2,19940813,1429,84.0633,175.0717,3110,    104.8,  -1.4069,  34.2141,2,    303.0,4,  -1.4093,  34.1906,2,    308.7,2,     6.75,2,     9.09,2,     0.01,2,     0.73,2,    4.570,2,    2.160,2,    0.340,2,   2151.3,2,   2298.7,2,    5.940,2
18SN19940724,AO94,       26,        4,       26,   143783,2,19940813,1429,84.0633,175.0717,3110,    125.0,  -1.1220,  34.3386,2,    308.9,4,  -1.1253,  34.3181,2,    303.4,2,     7.32,2,     9.67,2,     0.01,2,     0.76,2,    4.250,2,    2.040,2,    0.550,2,   2161.3,2,   2302.5,2,    5.920,2
18SN19940724,AO94,       26,        4,       25,   143782,2,19940813,1429,84.0633,175.0717,3110,    145.4,  -0.8063,  34.4319,2,    304.3,4,  -0.8105,  34.4241,2,    302.0,2,     7.27,2,    10.02,2,     0.01,2,     0.77,2,    4.020,2,    2.020,2,    0.210,2,   2163.3,2,   2307.9,2,    5.760,2
18SN19940724,AO94,       26,        4,       24,   143781,2,19940813,1429,84.0633,175.0717,3110,    165.7,  -0.4761,  34.5261,2,    300.2,4,  -0.4814,  34.5151,2,    300.8,2,     7.26,2,    10.44,2,     0.00,2,     0.79,2,    4.060,2,    1.900,2,    0.520,2,   2162.7,2,   2304.5,2,    5.890,2
18SN19940724,AO94,       26,        4,       23,   143780,2,19940813,1429,84.0633,175.0717,3110,    195.8,   0.1051,  34.6647,2,    298.0,4,   0.0977,  34.6542,2,    297.9,2,     7.45,2,    11.21,2,     0.00,2,     0.82,2,    3.250,2,    1.630,2,    0.120,2,   2160.7,2,   2313.1,2,    5.740,2
18SN19940724,AO94,       26,        4,       22,   143779,2,19940813,1429,84.0633,175.0717,3110,    226.6,   0.5556,  34.7615,2,    297.6,4,   0.5460,  34.7604,2,    299.6,2,     6.87,2,    11.64,2,     0.00,2,     0.83,2,    3.330,2,    1.720,2,    0.330,2,   2155.2,2,   2315.5,2,    6.420,2
18SN19940724,AO94,       26,        4,       21,   143778,2,19940813,1429,84.0633,175.0717,3110,    267.4,   0.7424,  34.8238,2,    301.7,4,   0.7306,  34.8239,2,    301.3,2,     6.68,2,    11.95,2,     0.00,2,     0.84,2,    3.360,2,    1.660,2,    0.170,2,   2155.7,2,   2317.1,2,    6.670,2
18SN19940724,AO94,       26,        4,       20,   143777,2,19940813,1429,84.0633,175.0717,3110,    297.7,   0.6370,  34.8198,2,    301.6,4,   0.6241,  34.8184,2,    300.6,2,     6.91,2,    11.99,2,     0.00,2,     0.84,2,    3.440,2,    1.600,2,    0.260,2,   2157.1,2,   2316.0,2,    6.580,2
18SN19940724,AO94,       26,        4,       19,   143776,2,19940813,1429,84.0633,175.0717,3110,    328.6,   0.7004,  34.8456,2,    302.9,4,   0.6858,  34.8474,2,    303.5,2,     6.81,2,    12.07,2,     0.00,2,     0.85,2,    3.390,2,    1.700,2,    0.150,2,   2158.2,2,   2321.5,2,    6.880,2
18SN19940724,AO94,       26,        4,       18,   143775,2,19940813,1429,84.0633,175.0717,3110,    389.6,   0.5042,  34.8450,2,    301.0,4,   0.4873,  34.8468,2,    300.7,2,     7.24,2,    12.22,2,     0.00,2,     0.86,2,    3.050,2,    1.440,2, -999.000,9,   2159.3,2,   2317.8,2,    5.780,2
18SN19940724,AO94,       26,        4,       17,   143774,2,19940813,1429,84.0633,175.0717,3110,    450.8,   0.5433,  34.8662,2,    300.8,4,   0.5234,  34.8666,2,    301.2,2,     7.28,2,    12.38,2,     0.00,2,     0.87,2,    2.610,2,    1.320,2,    0.110,2,   2159.0,2,   2320.5,2,    5.860,2
18SN19940724,AO94,       26,        4,       16,   143773,2,19940813,1429,84.0633,175.0717,3110,    512.5,   0.4373,  34.8671,2,    299.5,4,   0.4149,  34.8686,2,    300.3,2,     7.52,2,    12.46,2,     0.00,2,     0.87,2,    2.290,2,    1.130,2,    0.130,2,   2159.5,2,   2317.4,2,    5.270,2
18SN19940724,AO94,       26,        4,       15,   143772,4,19940813,1429,84.0633,175.0717,3110,    660.5,   0.1136,  34.8642,2,    302.4,4,   0.0855,  34.8709,2,    304.3,2,     7.42,2,    12.38,2,     0.00,2,     0.87,2,    2.670,2,    1.300,2,    0.090,2,   2164.6,2,   2321.6,2,    6.220,2
18SN19940724,AO94,       26,        4,       14,   143771,4,19940813,1429,84.0633,175.0717,3110,    812.0,  -0.0953,  34.8787,2,    302.2,4,  -0.1295,  34.8804,2,    304.1,2,     7.84,2,    12.58,2,     0.00,2,     0.89,2,    2.280,2,    1.220,2,    0.190,2,   2162.2,2,   2319.6,2,    5.020,2
18SN19940724,AO94,       26,        4,       13,   143770,2,19940813,1429,84.0633,175.0717,3110,   1015.6,  -0.1916,  34.8978,2,    301.2,4,  -0.2355,  34.8984,3,    301.1,2,     8.70,2,    12.92,2,     0.00,2,     0.91,2,    0.900,2,    0.480,2,    0.030,2,   2158.3,2,   2325.9,2,    2.880,2
18SN19940724,AO94,       26,        4,       12,   143769,2,19940813,1429,84.0633,175.0717,3110,   1218.3,  -0.3169,  34.9103,2,    300.0,4,  -0.3705,  34.9114,3,    301.1,2,     9.07,2,    12.97,2,     0.00,2,     0.93,2,    0.770,2,    0.520,2,    0.110,2,   2161.0,2,   2320.5,2,    2.220,2
18SN19940724,AO94,       26,        4,       11,   143768,2,19940813,1429,84.0633,175.0717,3110,   1421.2,  -0.3784,  34.9242,2,    297.7,4,  -0.4428,  34.9235,3,    297.7,2,    10.31,2,    13.54,2,     0.00,2,     0.96,2,    0.420,2,    0.120,2,    0.020,2,   2158.6,2,   2325.8,2,    1.460,2
18SN19940724,AO94,       26,        4,       10,   143767,2,19940813,1429,84.0633,175.0717,3110,   1624.9,  -0.4059,  34.9355,2,    295.2,4,  -0.4821,  34.9351,3,    295.0,2,    11.64,2,    13.97,2,     0.00,2,     0.99,2,    0.250,2,    0.150,2,    0.040,2,   2153.6,2,   2324.6,2,    0.430,2
18SN19940724,AO94,       26,        4,        9,   143766,2,19940813,1429,84.0633,175.0717,3110,   1828.4,  -0.4140,  34.9429,2,    293.2,4,  -0.5029,  34.9434,3,    290.9,2,    12.59,2,    14.24,2,     0.00,2,     1.02,2,    0.130,2,    0.100,2,    0.010,2,   2156.1,2,   2328.1,2,    0.360,2
18SN19940724,AO94,       26,        4,        8,   143765,2,19940813,1429,84.0633,175.0717,3110,   2032.6,  -0.4119,  34.9478,2,    291.9,4,  -0.5143,  34.9492,3,    289.8,2,    13.25,2,    14.36,2,     0.00,2,     1.03,2,    0.140,2,    0.080,2, -999.000,9,   2155.4,2,   2325.2,2,    0.170,2
18SN19940724,AO94,       26,        4,        7,   143764,2,19940813,1429,84.0633,175.0717,3110,   2236.1,  -0.4018,  34.9501,2,    290.4,4,  -0.5186,  34.9514,3,    288.0,2,    13.59,2,    14.44,2,     0.00,2,     1.03,2,    0.100,2,    0.100,2,    0.000,2,   2159.5,2,   2329.1,2,    0.190,2
18SN19940724,AO94,       26,        4,        6,   143763,2,19940813,1429,84.0633,175.0717,3110,   2440.4,  -0.3892,  34.9519,2,    289.1,4,  -0.5211,  34.9516,2,    287.3,2,    13.77,2,    14.52,2,     0.00,2,     1.04,2,    0.110,2,    0.020,2, -999.000,9,   2161.0,2,   2326.7,2,    0.120,2
18SN19940724,AO94,       26,        4,        5,   143762,2,19940813,1429,84.0633,175.0717,3110,   2644.4,  -0.3765,  34.9531,2,    288.0,4,  -0.5242,  34.9516,2,    287.6,2,    13.72,2,    14.52,2,     0.00,2,     1.04,2,    0.070,2,    0.130,2,    0.010,2,   2158.0,2,   2335.7,2,    0.110,2
18SN19940724,AO94,       26,        4,        4,   143761,2,19940813,1429,84.0633,175.0717,3110,   2848.5,  -0.3646,  34.9539,2,    287.1,4,  -0.5288,  34.9530,2,    287.7,2,    13.77,2,    14.52,2,     0.00,2,     1.03,2,    0.080,2,    0.000,2, -999.000,9,   2154.3,2,   2324.4,2,    0.020,2
18SN19940724,AO94,       26,        4,        3,   143760,2,19940813,1429,84.0633,175.0717,3110,   3002.8,  -0.3566,  34.9537,2,    286.8,4,  -0.5336,  34.9526,2,    288.2,2,    13.62,2,    14.52,2,     0.00,2,     1.03,2,    0.060,2,    0.060,2,    0.000,2,   2153.8,2,   2327.1,2,    0.070,2
18SN19940724,AO94,       26,        4,        2,   143759,2,19940813,1429,84.0633,175.0717,3110,   3104.8,  -0.3482,  34.9539,2,    286.2,4,  -0.5340,  34.9526,2,    288.1,2,    13.76,2,    14.52,2,     0.00,2,     1.03,2,    0.060,2,    0.040,2,    0.020,2,   2156.1,2,   2328.4,2,    0.360,2
18SN19940724,AO94,       26,        4,        1,   143758,2,19940813,1429,84.0633,175.0717,3110,   3186.8,  -0.3410,  34.9536,2,    285.6,4,  -0.5340,  34.9538,2,    288.3,2,    13.76,2,    14.56,2,     0.00,2,     1.03,2,    0.060,2,    0.050,2,    0.000,2,   2154.9,2,   2329.1,2,    0.070,2