BOTTLE,20090717CCHDOSIODM
EXPOCODE,SECT_ID,STNNBR,CASTNO,SAMPNO,BTLNBR,BTLNBR_FLAG_W,DATE,TIME,LATITUDE,LONGITUDE,DEPTH,CTDPRS,CTDTMP,CTDSAL,CTDSAL_FLAG_W,CTDOXY,CTDOXY_FLAG_W,THETA,SALNTY,SALNTY_FLAG_W,OXYGEN,OXYGEN_FLAG_W,SILCAT,SILCAT_FLAG_W,NITRAT,NITRAT_FLAG_W,NITRIT,NITRIT_FLAG_W,PHSPHT,PHSPHT_FLAG_W,CFC-11,CFC-11_FLAG_W,CFC-12,CFC-12_FLAG_W,CFC113,CFC113_FLAG_W,TCARBN,TCARBN_FLAG_W,ALKALI,ALKALI_FLAG_W,CCL4,CCL4_FLAG_W
,,,,,,,,,,,,DBAR,ITS-90,PSS-78,,UMOL/KG,,DEG C,PSS-78,,UMOL/KG,,UMOL/KG,,UMOL/KG,,UMOL/KG,,UMOL/KG,,PMOL/KG,,PMOL/KG,,PMOL/KG,,UMOL/KG,,UMOL/KG,,PMOL/KG,
18SN19940724,AO94,       39,        1,       36,   144406,2,19940901,0132,75.0017,-6.0500,3431,     14.7,   4.0140,  34.2114,2,    258.7,4,   4.0130,  34.2915,2,    316.8,2,     1.96,2,     0.26,2,     0.01,2,     0.24,2,    4.490,2,    2.060,2,    0.900,2,   2061.4,2,   2291.0,2,    8.690,2
18SN19940724,AO94,       39,        1,       35,   144405,2,19940901,0132,75.0017,-6.0500,3431,     34.2,   4.1208,  34.7037,2,    257.2,4,   4.1185,  34.7134,2,    315.3,2,     1.97,2,     0.85,2,     0.02,2,     0.34,2,    4.530,2,    2.260,2,    1.180,2,   2087.8,2,   2316.7,2,    8.800,2
18SN19940724,AO94,       39,        1,       34,   144404,2,19940901,0132,75.0017,-6.0500,3431,     53.3,   1.1156,  34.8586,2,    282.8,4,   1.1131,  34.8620,2,    327.5,2,     3.88,2,     6.91,2,     0.15,2,     0.77,2,    5.040,2,    2.490,2,    1.060,2,   2150.9,2,   2325.7,2,    8.710,2
18SN19940724,AO94,       39,        1,       32,   144402,2,19940901,0132,75.0017,-6.0500,3431,     77.3,   0.4751,  34.8912,2,    289.1,4,   0.4720,  34.8923,2,    323.3,2,     6.03,2,    11.13,2,     0.35,2,     0.86,2,    4.470,2,    2.110,2,    0.850,2,   2177.8,2,   2317.5,2,    8.580,2
18SN19940724,AO94,       39,        1,       33,   144403,2,19940901,0132,75.0017,-6.0500,3431,     77.6,   0.4760,  34.8914,2,    293.7,4,   0.4729,  34.8918,2,   -999.0,9,     5.97,2,    11.09,2,     0.35,2,     0.86,2, -999.000,9, -999.000,9, -999.000,9,   -999.0,9,   -999.0,9, -999.000,9
18SN19940724,AO94,       39,        1,       31,   144401,2,19940901,0132,75.0017,-6.0500,3431,    101.3,   0.2297,  34.8933,2,    303.1,4,   0.2258,  34.8952,2,    320.8,2,     6.75,2,    12.44,2,     0.18,2,     0.89,2,    3.990,2,    2.010,2,    0.670,2,   2162.2,2,   2314.6,2,    8.080,2
18SN19940724,AO94,       39,        1,       30,   144400,2,19940901,0132,75.0017,-6.0500,3431,    149.0,  -0.0322,  34.8927,2,    289.3,4,  -0.0376,  34.8958,2,    324.6,2,     7.09,2,    12.75,2,     0.03,2,     0.90,2,    4.290,2,    2.100,2,    0.900,2,   2164.0,2,   2316.5,2,    8.320,2
18SN19940724,AO94,       39,        1,       28,   144398,2,19940901,0132,75.0017,-6.0500,3431,    195.2,  -0.1430,  34.8944,2,    312.4,4,  -0.1500,  34.8938,2,   -999.0,9,     7.25,2,    12.77,2,     0.03,2,     0.90,2,    4.290,2,    2.310,2,    0.870,2,   -999.0,9,   -999.0,9,    9.490,2
18SN19940724,AO94,       39,        1,       29,   144399,2,19940901,0132,75.0017,-6.0500,3431,    196.0,  -0.1486,  34.8942,2,    312.4,4,  -0.1557,  34.8946,2,    325.3,2,     7.19,2,    12.80,2,     0.02,2,     0.90,2,    4.160,2,    2.160,2,    1.010,2,   2163.0,2,   2317.9,2,    8.360,2
18SN19940724,AO94,       39,        1,       26,   144396,2,19940901,0132,75.0017,-6.0500,3431,    301.6,  -0.7287,  34.8673,2,    306.5,4,  -0.7384,  34.8669,2,    330.2,2,     7.46,2,    12.82,2,     0.02,2,     0.91,2,    4.260,2,    2.180,2,    0.960,2,   2165.7,2,   2313.8,2,    8.530,2
18SN19940724,AO94,       39,        1,       27,   144397,2,19940901,0132,75.0017,-6.0500,3431,    302.1,  -0.7367,  34.8672,2,    306.5,4,  -0.7463,  34.8677,2,   -999.0,9,     7.40,2,    12.81,2,     0.02,2,     0.91,2,    4.190,2,    2.100,2,    0.830,2,   -999.0,9,   -999.0,9,    8.610,2
18SN19940724,AO94,       39,        1,       24,   144394,2,19940901,0132,75.0017,-6.0500,3431,    427.0,  -0.8525,  34.8673,2,    314.7,4,  -0.8662,  34.8666,2,   -999.0,9,     7.81,2,    12.99,2,     0.01,2,     0.93,2,    4.040,2,    2.050,2,    0.740,2,   -999.0,9,   -999.0,9,    8.120,2
18SN19940724,AO94,       39,        1,       25,   144395,2,19940901,0132,75.0017,-6.0500,3431,    427.7,  -0.8534,  34.8679,2,    314.7,4,  -0.8672,  34.8674,2,    328.6,2,     7.75,2,    12.98,2,     0.02,2,     0.92,2,    3.960,2,    1.930,2,    1.100,2,   2164.7,2,   2315.8,2,    8.280,2
18SN19940724,AO94,       39,        1,       21,   144391,2,19940901,0132,75.0017,-6.0500,3431,    548.7,  -0.9666,  34.8648,2,    322.4,4,  -0.9844,  34.8628,2,    329.3,2,     7.97,2,    13.04,2,     0.02,2,     0.92,2,    3.930,2,    1.990,2,    1.150,2,   2164.0,2,   2311.5,2,    8.410,2
18SN19940724,AO94,       39,        1,       22,   144392,2,19940901,0132,75.0017,-6.0500,3431,    549.2,  -0.9688,  34.8651,2,    320.8,4,  -0.9866,  34.8636,2,   -999.0,9,     7.92,2,    13.04,2,     0.01,2,     0.92,2,    4.020,2,    2.100,2,    0.890,2,   -999.0,9,   -999.0,9,    8.070,2
18SN19940724,AO94,       39,        1,       23,   144393,2,19940901,0132,75.0017,-6.0500,3431,    549.8,  -0.9692,  34.8649,2,    320.8,4,  -0.9870,  34.8642,2,   -999.0,9,     7.91,2,    13.04,2,     0.01,2,     0.92,2,    4.390,2,    1.920,2,    1.440,2,   -999.0,9,   -999.0,9,    7.930,2
18SN19940724,AO94,       39,        1,       19,   144389,2,19940901,0132,75.0017,-6.0500,3431,    673.0,  -0.9867,  34.8667,2,    319.2,4,  -1.0092,  34.8657,2,    328.3,2,     8.13,2,    13.13,2,     0.01,2,     0.94,2,    3.780,2,    1.910,2,    0.790,2,   2163.5,2,   2316.3,2,    7.930,2
18SN19940724,AO94,       39,        1,       20,   144390,2,19940901,0132,75.0017,-6.0500,3431,    673.4,  -0.9872,  34.8671,2,    319.3,4,  -1.0097,  34.8655,2,   -999.0,9,     8.08,2,    13.13,2,     0.01,2,     0.94,2,    3.840,2,    1.860,2,    0.690,2,   -999.0,9,   -999.0,9,    7.700,2
18SN19940724,AO94,       39,        1,       18,   144388,2,19940901,0132,75.0017,-6.0500,3431,    767.0,  -0.9718,  34.8706,2,    319.2,4,  -0.9982,  34.8690,2,    325.2,2,     8.38,2,    13.29,2,     0.01,2,     0.95,2,    3.620,2,    1.940,2,    0.750,2,   2168.9,2,   2319.4,2,    7.370,2
18SN19940724,AO94,       39,        1,       17,   144387,2,19940901,0132,75.0017,-6.0500,3431,    910.8,  -0.8749,  34.8827,2,    317.8,4,  -0.9082,  34.8810,2,    315.1,2,     9.05,2,    13.68,2,     0.01,2,     0.97,2,    2.570,2,    1.370,2,    0.970,2,   2167.7,2,   2318.9,2,    5.980,2
18SN19940724,AO94,       39,        1,       16,   144386,2,19940901,0132,75.0017,-6.0500,3431,   1006.6,  -0.7984,  34.8935,2,    317.4,4,  -0.8368,  34.8926,2,    307.9,2,     9.82,2,    13.96,2,     0.01,2,     0.99,2,    1.980,2,    0.570,2,    0.290,2,   2171.3,2,   2313.7,2,    4.820,2
18SN19940724,AO94,       39,        1,       15,   144385,2,19940901,0132,75.0017,-6.0500,3431,   1152.5,  -0.7833,  34.9029,2,    316.5,4,  -0.8289,  34.9012,2,    304.1,2,    10.55,2,    14.16,2,     0.01,2,     1.01,2,    1.390,2,    0.850,2,    0.190,2,   2167.3,2,   2319.1,2,    4.140,2
18SN19940724,AO94,       39,        1,       13,   144383,2,19940901,0132,75.0017,-6.0500,3431,   1319.6,  -0.8574,  34.9038,2,    316.1,4,  -0.9108,  34.9026,2,    304.1,2,    10.85,2,    14.21,2,     0.01,2,     1.02,2,    1.190,2,    0.700,2,    0.670,2,   2164.7,2,   2320.1,2,    3.430,2
18SN19940724,AO94,       39,        1,       14,   144384,2,19940901,0132,75.0017,-6.0500,3431,   1319.9,  -0.8569,  34.9040,2,    316.1,4,  -0.9103,  34.9012,2,   -999.0,9,    10.84,2,    14.24,2,     0.01,2,     1.01,2,    1.250,2,    0.300,2,    0.260,2,   -999.0,9,   -999.0,9,    3.590,2
18SN19940724,AO94,       39,        1,       11,   144381,2,19940901,0132,75.0017,-6.0500,3431,   1444.2,  -0.8943,  34.9032,2,    315.6,4,  -0.9540,  34.9019,2,    304.5,2,    11.10,2,    14.38,2,     0.01,2,     1.02,2,    1.100,2,    0.690,2,    0.060,2,   2165.1,2,   2314.3,2,    3.300,2
18SN19940724,AO94,       39,        1,       12,   144382,2,19940901,0132,75.0017,-6.0500,3431,   1444.6,  -0.8944,  34.9035,2,    315.6,4,  -0.9541,  34.9017,2,   -999.0,9,    11.05,2,    14.33,2,     0.01,2,     1.02,2,    1.120,2,    0.000,2,    0.180,2,   -999.0,9,   -999.0,9,    3.580,2
18SN19940724,AO94,       39,        1,       10,   144380,2,19940901,0132,75.0017,-6.0500,3431,   1742.3,  -0.9662,  34.9031,2,    314.1,4,  -1.0418,  34.9025,2,    305.5,2,    11.49,2,    14.46,2,     0.01,2,     1.02,2,    0.970,2,    0.150,2,    0.180,2,   2167.5,2,   2305.2,3,    3.310,2
18SN19940724,AO94,       39,        1,        9,   144379,2,19940901,0132,75.0017,-6.0500,3431,   1990.7,  -0.9838,  34.9040,2,    312.4,4,  -1.0742,  34.9028,2,    305.6,2,    11.79,2,    14.50,2,     0.01,2,     1.03,2,    0.910,2,    0.530,2,    0.560,2,   2168.0,2,   2324.0,2,    2.740,2
18SN19940724,AO94,       39,        1,        8,   144378,2,19940901,0132,75.0017,-6.0500,3431,   2240.8,  -0.9961,  34.9049,2,    310.4,4,  -1.1025,  34.9036,2,    305.6,2,    12.08,2,    14.59,2,     0.01,2,     1.03,2,    0.700,2,    0.440,2,    0.180,2,   2164.8,2,   2320.1,2,    3.020,2
18SN19940724,AO94,       39,        1,        6,   144376,2,19940901,0132,75.0017,-6.0500,3431,   2493.6,  -1.0073,  34.9040,2,    308.4,4,  -1.1310,  34.9023,2,    306.4,2,    12.24,2,    14.53,2,     0.00,2,     1.03,2,    0.610,2,    0.300,2,    0.190,2,   -999.0,9,   -999.0,9,    2.960,2
18SN19940724,AO94,       39,        1,        7,   144377,2,19940901,0132,75.0017,-6.0500,3431,   2493.9,  -1.0073,  34.9041,2,    308.4,4,  -1.1310,  34.9028,2,   -999.0,9,    12.33,2,    14.52,2,     0.00,2,     1.03,2,    0.660,2,    0.470,2,    0.130,2,   -999.0,9,   -999.0,9,    2.570,2
18SN19940724,AO94,       39,        1,        5,   144375,2,19940901,0132,75.0017,-6.0500,3431,   2952.9,  -1.0123,  34.9017,2,    304.5,4,  -1.1702,  34.8980,3,    307.2,2,    12.63,2,    14.57,2,     0.00,2,     1.02,2,    0.610,2,    0.410,2,    0.390,2,   2162.3,2,   2331.7,2,    3.010,2
18SN19940724,AO94,       39,        1,        4,   144374,2,19940901,0132,75.0017,-6.0500,3431,   3267.3,  -1.0097,  34.8997,2,    301.7,4,  -1.1930,  34.8985,2,   -999.0,9,    12.78,2,    14.62,2,     0.00,2,     1.02,2,    0.570,2,    0.450,2,    0.140,2,   -999.0,9,   -999.0,9,    2.980,2
18SN19940724,AO94,       39,        1,        3,   144373,2,19940901,0132,75.0017,-6.0500,3431,   3267.3,  -1.0096,  34.8996,2,    301.7,4,  -1.1929,  34.8983,2,    307.9,2,    12.79,2,    14.62,2,     0.00,2,     1.02,2,    0.610,2,    0.420,2,    0.330,2,   2163.3,2,   2321.3,2,    2.670,2
18SN19940724,AO94,       39,        1,        2,   144372,2,19940901,0132,75.0017,-6.0500,3431,   3507.2,  -0.9983,  34.8986,2,    299.4,4,  -1.2023,  34.8969,2,   -999.0,9,    13.09,2,    14.55,2,     0.01,2,     1.03,2,    0.520,2,    0.400,2,    0.180,2,   -999.0,9,   -999.0,9,    3.150,2
18SN19940724,AO94,       39,        1,        1,   144371,2,19940901,0132,75.0017,-6.0500,3431,   3508.0,  -0.9983,  34.8989,2,    299.4,4,  -1.2024,  34.8974,2,    307.9,2,    13.00,2,    14.52,2,     0.01,2,     1.02,2,    0.600,2,    0.430,2,    0.090,2,   2163.8,2,   2318.8,2,    2.580,2