BOTTLE,20090717CCHDOSIODM
#code : hyd_to_exchange.rb
#original files copied from HTML directory: 2009-07-17
#original HYD file: ao94_18SN19940724hy.txt  2009-07-17
#original SUM file: ao94_18SN19940724su.txt  2009-04-01
#merged new TCARBN and ALKALI values from CARINA bottle file. Change CTDOXY flag "1"s to "4"s.
#BOTTLE,20090401CCHDOSIOdm
#Changed Expocode from 18SN19940724 to 18SN19940724 to match Expocode used in website tables.
#BOTTLE,20050513WHPSIOdm
#CFC-11, CFC-12, CFC113, CCL4, TCARBN, ALKALI from Peter Jones message
#of Jan 11, 2005, merged into latest ODF bottle file.
#code : hyd_to_exchange.pl
#original files copied from HTML directory: 20050513
#original HYD file: ao94hy.txt   Fri May 13 07:53:16 2005
#original SUM file: ao94su.txt   Thu May 12 11:06:22 2005
EXPOCODE,SECT_ID,STNNBR,CASTNO,SAMPNO,BTLNBR,BTLNBR_FLAG_W,DATE,TIME,LATITUDE,LONGITUDE,DEPTH,CTDPRS,CTDTMP,CTDSAL,CTDSAL_FLAG_W,CTDOXY,CTDOXY_FLAG_W,THETA,SALNTY,SALNTY_FLAG_W,OXYGEN,OXYGEN_FLAG_W,SILCAT,SILCAT_FLAG_W,NITRAT,NITRAT_FLAG_W,NITRIT,NITRIT_FLAG_W,PHSPHT,PHSPHT_FLAG_W,CFC-11,CFC-11_FLAG_W,CFC-12,CFC-12_FLAG_W,CFC113,CFC113_FLAG_W,TCARBN,TCARBN_FLAG_W,ALKALI,ALKALI_FLAG_W,CCL4,CCL4_FLAG_W
,,,,,,,,,,,,DBAR,ITS-90,PSS-78,,UMOL/KG,,DEG C,PSS-78,,UMOL/KG,,UMOL/KG,,UMOL/KG,,UMOL/KG,,UMOL/KG,,PMOL/KG,,PMOL/KG,,PMOL/KG,,UMOL/KG,,UMOL/KG,,PMOL/KG,
18SN19940724,AO94,        1,        4,       35,   142734,2,19940726,0655,67.7767,-168.7767,41,      5.0,   4.1891,  32.5785,2,   -999.0,5,   4.1888,  32.5875,2,   -999.0,9,  -999.00,9,  -999.00,9,  -999.00,9,  -999.00,9, -999.000,9, -999.000,9, -999.000,9,   -999.0,9,   -999.0,9, -999.000,9
18SN19940724,AO94,        1,        4,       36,   142735,2,19940726,0655,67.7767,-168.7767,41,      5.1,   4.2458,  32.5835,2,   -999.0,5,   4.2454,  32.5865,2,    475.4,2,     9.45,2,     0.01,2,     0.02,2,     0.52,2,    6.360,2,    2.890,2,    1.400,2,   -999.0,9,   -999.0,9,   11.510,2
18SN19940724,AO94,        1,        4,       24,   142724,2,19940726,0655,67.7767,-168.7767,41,      9.8,   4.1663,  32.5832,2,   -999.0,5,   4.1657,  32.5878,2,   -999.0,9,  -999.00,9,  -999.00,9,  -999.00,9,  -999.00,9, -999.000,9, -999.000,9, -999.000,9,   -999.0,9,   -999.0,9, -999.000,9
18SN19940724,AO94,        1,        4,       26,   142726,2,19940726,0655,67.7767,-168.7767,41,      9.8,   4.1413,  32.5829,2,   -999.0,5,   4.1407,  32.5874,2,   -999.0,9,  -999.00,9,  -999.00,9,  -999.00,9,  -999.00,9, -999.000,9, -999.000,9, -999.000,9,   -999.0,9,   -999.0,9, -999.000,9
18SN19940724,AO94,        1,        4,       28,   142728,2,19940726,0655,67.7767,-168.7767,41,      9.8,   4.1816,  32.5908,2,   -999.0,5,   4.1809,  32.5870,2,   -999.0,9,  -999.00,9,  -999.00,9,  -999.00,9,  -999.00,9, -999.000,9, -999.000,9, -999.000,9,   -999.0,9,   -999.0,9, -999.000,9
18SN19940724,AO94,        1,        4,       29,   142729,2,19940726,0655,67.7767,-168.7767,41,      9.8,   4.2364,  32.5816,2,   -999.0,5,   4.2357,  32.5872,2,   -999.0,9,  -999.00,9,  -999.00,9,  -999.00,9,  -999.00,9, -999.000,9, -999.000,9, -999.000,9,   -999.0,9,   -999.0,9, -999.000,9
18SN19940724,AO94,        1,        4,       33,   142733,2,19940726,0655,67.7767,-168.7767,41,      9.9,   4.2210,  32.5816,2,   -999.0,5,   4.2203,  32.5869,2,   -999.0,9,  -999.00,9,  -999.00,9,  -999.00,9,  -999.00,9, -999.000,9, -999.000,9, -999.000,9,   -999.0,9,   -999.0,9, -999.000,9
18SN19940724,AO94,        1,        4,       30,   142730,2,19940726,0655,67.7767,-168.7767,41,      9.9,   4.2346,  32.5829,2,   -999.0,5,   4.2339,  32.5870,2,   -999.0,9,  -999.00,9,  -999.00,9,  -999.00,9,  -999.00,9, -999.000,9, -999.000,9, -999.000,9,   -999.0,9,   -999.0,9, -999.000,9
18SN19940724,AO94,        1,        4,       27,   142727,2,19940726,0655,67.7767,-168.7767,41,      9.9,   4.0661,  32.5947,2,   -999.0,5,   4.0655,  32.5870,2,   -999.0,9,  -999.00,9,  -999.00,9,  -999.00,9,  -999.00,9, -999.000,9, -999.000,9, -999.000,9,   -999.0,9,   -999.0,9, -999.000,9
18SN19940724,AO94,        1,        4,       23,   142723,2,19940726,0655,67.7767,-168.7767,41,      9.9,   4.1675,  32.5910,2,   -999.0,5,   4.1668,  32.5870,2,   -999.0,9,  -999.00,9,  -999.00,9,  -999.00,9,  -999.00,9, -999.000,9, -999.000,9, -999.000,9,   -999.0,9,   -999.0,9, -999.000,9
18SN19940724,AO94,        1,        4,       25,   142725,2,19940726,0655,67.7767,-168.7767,41,      9.9,   4.1840,  32.5852,2,   -999.0,5,   4.1833,  32.5872,2,   -999.0,9,  -999.00,9,  -999.00,9,  -999.00,9,  -999.00,9, -999.000,9, -999.000,9, -999.000,9,   -999.0,9,   -999.0,9, -999.000,9
18SN19940724,AO94,        1,        4,       22,   142722,2,19940726,0655,67.7767,-168.7767,41,      9.9,   4.1725,  32.5848,2,   -999.0,5,   4.1718,  32.5876,2,   -999.0,9,  -999.00,9,  -999.00,9,  -999.00,9,  -999.00,9, -999.000,9, -999.000,9, -999.000,9,   -999.0,9,   -999.0,9, -999.000,9
18SN19940724,AO94,        1,        4,       20,   142720,2,19940726,0655,67.7767,-168.7767,41,      9.9,   4.1755,  32.5770,2,   -999.0,5,   4.1748,  32.5912,2,    471.3,2,     9.65,2,     0.00,2,     0.02,2,     0.55,2,    5.410,2,    3.140,2,    1.170,2,   1964.9,2,   2263.3,2,   11.100,2
18SN19940724,AO94,        1,        4,       32,   142732,2,19940726,0655,67.7767,-168.7767,41,     10.0,   4.0564,  32.5856,2,   -999.0,5,   4.0558,  32.5875,2,   -999.0,9,  -999.00,9,  -999.00,9,  -999.00,9,  -999.00,9, -999.000,9, -999.000,9, -999.000,9,   -999.0,9,   -999.0,9, -999.000,9
18SN19940724,AO94,        1,        4,       21,   142721,2,19940726,0655,67.7767,-168.7767,41,     10.0,   4.0729,  32.5888,2,   -999.0,5,   4.0723,  32.5884,2,   -999.0,9,  -999.00,9,  -999.00,9,  -999.00,9,  -999.00,9, -999.000,9, -999.000,9, -999.000,9,   -999.0,9,   -999.0,9, -999.000,9
18SN19940724,AO94,        1,        4,       31,   142731,2,19940726,0655,67.7767,-168.7767,41,     10.0,   4.2174,  32.5821,2,   -999.0,5,   4.2167,  32.5877,2,   -999.0,9,  -999.00,9,  -999.00,9,  -999.00,9,  -999.00,9, -999.000,9, -999.000,9, -999.000,9,   -999.0,9,   -999.0,9, -999.000,9
18SN19940724,AO94,        1,        4,       18,   142718,2,19940726,0655,67.7767,-168.7767,41,     16.5,  -0.1552,  32.6977,2,   -999.0,5,  -0.1557,  32.6698,2,   -999.0,9,  -999.00,9,  -999.00,9,  -999.00,9,  -999.00,9, -999.000,9, -999.000,9, -999.000,9,   -999.0,9,   -999.0,9, -999.000,9
18SN19940724,AO94,        1,        4,       19,   142719,2,19940726,0655,67.7767,-168.7767,41,     16.8,  -0.1316,  32.6956,2,   -999.0,5,  -0.1321,  32.6856,2,    385.2,2,     4.35,2,     0.30,2,     0.02,2,     1.06,2,    6.570,2,    3.130,2,    1.360,2,   2083.1,2,   2267.9,2,   11.910,2
18SN19940724,AO94,        1,        4,       17,   142717,2,19940726,0655,67.7767,-168.7767,41,     29.3,  -0.2466,  32.7245,2,   -999.0,5,  -0.2475,  32.7323,2,    319.6,2,    26.68,2,    16.60,2,     0.11,2,     1.91,2,    6.560,2,    3.120,2,    1.500,2,   2129.7,2,   2255.8,2,   12.050,2
18SN19940724,AO94,        1,        4,       16,   142716,2,19940726,0655,67.7767,-168.7767,41,     39.5,  -0.2533,  32.7312,2,   -999.0,5,  -0.2545,  32.7351,2,    311.6,2,    20.11,2,    14.14,2,     0.16,2,     1.88,2,    5.760,2,    3.170,2,    1.250,2,   2138.2,2,   2262.2,2,   11.370,2
18SN19940724,AO94,        1,        4,       15,   142715,2,19940726,0655,67.7767,-168.7767,41,     45.7,  -0.2514,  32.7305,2,   -999.0,5,  -0.2528,  32.7370,2,   -999.0,9,  -999.00,9,  -999.00,9,  -999.00,9,  -999.00,9, -999.000,9, -999.000,9, -999.000,9,   -999.0,9,   -999.0,9, -999.000,9
18SN19940724,AO94,        1,        4,       14,   142714,2,19940726,0655,67.7767,-168.7767,41,     45.8,  -0.2515,  32.7305,2,   -999.0,5,  -0.2529,  32.7378,2,   -999.0,9,  -999.00,9,  -999.00,9,  -999.00,9,  -999.00,9, -999.000,9, -999.000,9, -999.000,9,   -999.0,9,   -999.0,9, -999.000,9
18SN19940724,AO94,        1,        4,       13,   142713,2,19940726,0655,67.7767,-168.7767,41,     45.8,  -0.2516,  32.7303,2,   -999.0,5,  -0.2530,  32.7359,2,   -999.0,9,  -999.00,9,  -999.00,9,  -999.00,9,  -999.00,9, -999.000,9, -999.000,9, -999.000,9,   -999.0,9,   -999.0,9, -999.000,9
18SN19940724,AO94,        1,        4,       12,   142712,2,19940726,0655,67.7767,-168.7767,41,     45.9,  -0.2512,  32.7301,2,   -999.0,5,  -0.2526,  32.7380,2,   -999.0,9,  -999.00,9,  -999.00,9,  -999.00,9,  -999.00,9, -999.000,9, -999.000,9, -999.000,9,   -999.0,9,   -999.0,9, -999.000,9
18SN19940724,AO94,        1,        4,       11,   142711,2,19940726,0655,67.7767,-168.7767,41,     45.9,  -0.2514,  32.7302,2,   -999.0,5,  -0.2528,  32.7353,2,   -999.0,9,  -999.00,9,  -999.00,9,  -999.00,9,  -999.00,9, -999.000,9, -999.000,9, -999.000,9,   -999.0,9,   -999.0,9, -999.000,9
18SN19940724,AO94,        1,        4,       10,   142710,2,19940726,0655,67.7767,-168.7767,41,     45.9,  -0.2512,  32.7303,2,   -999.0,5,  -0.2526,  32.7355,2,   -999.0,9,  -999.00,9,  -999.00,9,  -999.00,9,  -999.00,9, -999.000,9, -999.000,9, -999.000,9,   -999.0,9,   -999.0,9, -999.000,9
18SN19940724,AO94,        1,        4,        9,   142709,2,19940726,0655,67.7767,-168.7767,41,     46.0,  -0.2509,  32.7303,2,   -999.0,5,  -0.2523,  32.7381,2,   -999.0,9,  -999.00,9,  -999.00,9,  -999.00,9,  -999.00,9, -999.000,9, -999.000,9, -999.000,9,   -999.0,9,   -999.0,9, -999.000,9
18SN19940724,AO94,        1,        4,        8,   142708,2,19940726,0655,67.7767,-168.7767,41,     46.0,  -0.2509,  32.7301,2,   -999.0,5,  -0.2523,  32.7379,2,   -999.0,9,  -999.00,9,  -999.00,9,  -999.00,9,  -999.00,9, -999.000,9, -999.000,9, -999.000,9,   -999.0,9,   -999.0,9, -999.000,9
18SN19940724,AO94,        1,        4,        7,   142707,2,19940726,0655,67.7767,-168.7767,41,     46.0,  -0.2513,  32.7302,2,   -999.0,5,  -0.2527,  32.7381,2,   -999.0,9,  -999.00,9,  -999.00,9,  -999.00,9,  -999.00,9, -999.000,9, -999.000,9, -999.000,9,   -999.0,9,   -999.0,9, -999.000,9
18SN19940724,AO94,        1,        4,        6,   142706,2,19940726,0655,67.7767,-168.7767,41,     46.1,  -0.2509,  32.7303,2,   -999.0,5,  -0.2523,  32.7385,2,   -999.0,9,  -999.00,9,  -999.00,9,  -999.00,9,  -999.00,9, -999.000,9, -999.000,9, -999.000,9,   -999.0,9,   -999.0,9, -999.000,9
18SN19940724,AO94,        1,        4,        5,   142705,2,19940726,0655,67.7767,-168.7767,41,     46.3,  -0.2515,  32.7301,2,   -999.0,5,  -0.2529,  32.7381,2,   -999.0,9,  -999.00,9,  -999.00,9,  -999.00,9,  -999.00,9, -999.000,9, -999.000,9, -999.000,9,   -999.0,9,   -999.0,9, -999.000,9
18SN19940724,AO94,        1,        4,        4,   142704,2,19940726,0655,67.7767,-168.7767,41,     46.5,  -0.2520,  32.7301,2,   -999.0,5,  -0.2534,  32.7381,2,   -999.0,9,  -999.00,9,  -999.00,9,  -999.00,9,  -999.00,9, -999.000,9, -999.000,9, -999.000,9,   -999.0,9,   -999.0,9, -999.000,9
18SN19940724,AO94,        1,        4,        3,   142703,2,19940726,0655,67.7767,-168.7767,41,     46.8,  -0.2527,  32.7304,2,   -999.0,5,  -0.2541,  32.7379,2,   -999.0,9,  -999.00,9,  -999.00,9,  -999.00,9,  -999.00,9, -999.000,9, -999.000,9, -999.000,9,   -999.0,9,   -999.0,9, -999.000,9
18SN19940724,AO94,        1,        4,        2,   142702,2,19940726,0655,67.7767,-168.7767,41,     46.9,  -0.2519,  32.7304,2,   -999.0,5,  -0.2533,  32.7360,2,   -999.0,9,  -999.00,9,  -999.00,9,  -999.00,9,  -999.00,9, -999.000,9, -999.000,9, -999.000,9,   -999.0,9,   -999.0,9, -999.000,9
18SN19940724,AO94,        1,        4,        1,   142701,2,19940726,0655,67.7767,-168.7767,41,     47.4,  -0.2512,  32.7303,2,   -999.0,5,  -0.2526,  32.7382,2,    310.5,2,    19.43,2,    13.66,2,     0.16,2,     1.72,2,    5.790,2,    3.130,2,    1.160,2,   2138.2,2,   2263.2,2,   11.080,2
18SN19940724,AO94,        2,        1,       11,   142746,2,19940728,0456,72.1300,-168.8350,44,      4.2,  -1.6203,  31.9104,2,    530.8,4,  -1.6204,  31.9466,2,    384.4,2,    40.98,2,     5.76,3,     0.11,2,     1.44,2,    6.240,2,    3.370,2,    0.920,2,   2069.5,2,   2231.6,2,   11.780,2
18SN19940724,AO94,        2,        1,       12,   142747,2,19940728,0456,72.1300,-168.8350,44,      4.2,  -1.6287,  31.9868,2,    531.1,4,  -1.6288,-999.0000,9,   -999.0,9,  -999.00,9,  -999.00,9,  -999.00,9,  -999.00,9, -999.000,9, -999.000,9, -999.000,9,   -999.0,9,   -999.0,9, -999.000,9
18SN19940724,AO94,        2,        1,       10,   142745,2,19940728,0456,72.1300,-168.8350,44,     10.2,  -1.6521,  32.1885,4,   -999.0,5,  -1.6523,  32.1353,2,   -999.0,9,  -999.00,9,  -999.00,9,  -999.00,9,  -999.00,9, -999.000,9, -999.000,9, -999.000,9,   -999.0,9,   -999.0,9, -999.000,9
18SN19940724,AO94,        2,        1,        9,   142744,2,19940728,0456,72.1300,-168.8350,44,     10.3,  -1.6515,  32.1569,4,   -999.0,5,  -1.6517,  32.1312,2,    380.5,2,    41.31,2,     5.77,3,     0.11,2,     1.50,2,    6.220,2,    3.380,2,    1.230,2,   2083.7,2,   2244.1,2,   11.060,2
18SN19940724,AO94,        2,        1,        8,   142743,2,19940728,0456,72.1300,-168.8350,44,     21.9,  -1.6919,  32.6580,2,    461.1,4,  -1.6923,  32.6622,2,    331.8,2,    47.98,3,    12.84,3,     0.15,2,     1.91,2,    6.250,2,    3.230,2,    2.100,2,   2163.4,2,   2272.6,2,   11.230,2
18SN19940724,AO94,        2,        1,        7,   142742,2,19940728,0456,72.1300,-168.8350,44,     32.6,  -1.7449,  32.8842,2,    409.9,4,  -1.7454,  32.9262,2,    304.7,2,    52.86,3,    16.48,3,     0.14,2,     2.14,2,    6.220,2,    3.410,2,    1.270,2,   2185.5,2,   2282.0,2,   11.810,2
18SN19940724,AO94,        2,        1,        6,   142741,2,19940728,0456,72.1300,-168.8350,44,     42.9,  -1.7694,  33.0750,2,    403.2,4,  -1.7702,  33.1286,2,   -999.0,9,  -999.00,9,  -999.00,9,  -999.00,9,  -999.00,9, -999.000,9, -999.000,9, -999.000,9,   -999.0,9,   -999.0,9, -999.000,9
18SN19940724,AO94,        2,        1,        5,   142740,2,19940728,0456,72.1300,-168.8350,44,     43.0,  -1.7693,  33.0766,2,    403.2,4,  -1.7701,  33.1294,2,   -999.0,9,  -999.00,9,  -999.00,9,  -999.00,9,  -999.00,9, -999.000,9, -999.000,9, -999.000,9,   -999.0,9,   -999.0,9, -999.000,9
18SN19940724,AO94,        2,        1,        4,   142739,2,19940728,0456,72.1300,-168.8350,44,     43.2,  -1.7694,  33.0752,2,    403.2,4,  -1.7702,  33.1421,2,    294.4,2,    58.02,3,    17.23,3,     0.10,2,     2.27,2,    6.200,2,    3.340,2,    0.760,2,   2208.3,2,   2299.4,2,   11.680,2
18SN19940724,AO94,        2,        1,        3,   142738,2,19940728,0456,72.1300,-168.8350,44,     48.3,  -1.7572,  33.2048,2,    389.0,5,  -1.7581,  33.1829,2,   -999.0,9,  -999.00,9,  -999.00,9,  -999.00,9,  -999.00,9, -999.000,9, -999.000,9, -999.000,9,   -999.0,9,   -999.0,9, -999.000,9
18SN19940724,AO94,        2,        1,        2,   142737,2,19940728,0456,72.1300,-168.8350,44,     48.6,  -1.7570,  33.2045,2,    389.0,4,  -1.7579,  33.1942,2,   -999.0,9,  -999.00,9,  -999.00,9,  -999.00,9,  -999.00,9, -999.000,9, -999.000,9, -999.000,9,   -999.0,9,   -999.0,9, -999.000,9
18SN19940724,AO94,        2,        1,        1,   142736,2,19940728,0456,72.1300,-168.8350,44,     49.4,  -1.7565,  33.2034,2,    388.9,4,  -1.7574,  33.1362,3,    293.9,2,    57.41,3,    17.28,3,     0.10,2,     2.27,2,    6.240,2,    3.390,2,    0.820,2,   2206.1,2,   2289.5,2,   11.600,2
18SN19940724,AO94,        3,        1,       11,   142758,2,19940728,1742,73.0017,-168.8167,57,      4.8,  -1.5597,  31.2187,2,    568.8,4,  -1.5597,  31.2296,2,   -999.0,9,    30.52,2,     0.51,2,     0.02,2,     1.23,2, -999.000,9, -999.000,9, -999.000,9,   -999.0,9,   -999.0,9, -999.000,9
18SN19940724,AO94,        3,        1,       10,   142757,2,19940728,1742,73.0017,-168.8167,57,      4.8,  -1.5611,  31.2405,2,    569.6,4,  -1.5611,  31.2214,2,    416.9,2,    30.65,2,     0.51,2,     0.02,2,     1.22,2,    6.020,2,    3.200,2,    0.230,2,   2031.7,2,   2197.9,2,   11.100,2
18SN19940724,AO94,        3,        1,        9,   142756,2,19940728,1742,73.0017,-168.8167,57,     10.1,  -1.5636,  31.2763,2,    559.7,4,  -1.5637,  31.3783,2,    414.7,2,    31.00,2,     0.65,2,     0.02,2,     1.25,2,    5.700,2,    2.990,2,    1.010,2,   2057.0,2,   2210.0,2,   11.210,2
18SN19940724,AO94,        3,        1,        8,   142755,2,19940728,1742,73.0017,-168.8167,57,     15.4,  -1.5728,  31.4847,2,    547.2,4,  -1.5730,  31.4923,2,   -999.0,9,    32.26,2,     1.68,2,     0.04,2,     1.31,2, -999.000,9, -999.000,9, -999.000,9,   -999.0,9,   -999.0,9, -999.000,9
18SN19940724,AO94,        3,        1,        7,   142754,2,19940728,1742,73.0017,-168.8167,57,     15.4,  -1.5741,  31.4655,2,    557.4,4,  -1.5743,  31.5072,2,    400.1,2,    32.85,2,     2.03,2,     0.05,2,     1.34,2,    5.870,2,    3.000,2,    1.040,2,   2061.1,2,   2219.6,2,   11.470,2
18SN19940724,AO94,        3,        1,        6,   142753,2,19940728,1742,73.0017,-168.8167,57,     26.0,  -1.6282,  31.9291,2,    456.2,4,  -1.6286,  31.9864,2,    321.1,2,    44.43,2,    11.29,2,     0.15,2,     1.84,2,    5.870,2,    3.020,2,    1.020,2,   2146.2,2,   2240.6,2,   11.640,2
18SN19940724,AO94,        3,        1,        5,   142752,3,19940728,1742,73.0017,-168.8167,57,     36.8,  -1.6809,  32.1872,2,    430.6,4,  -1.6815,  32.2357,2,   -999.0,9,    47.72,2,    13.21,2,     0.09,2,     1.96,2, -999.000,9, -999.000,9, -999.000,9,   -999.0,9,   -999.0,9, -999.000,9
18SN19940724,AO94,        3,        1,        4,   142751,2,19940728,1742,73.0017,-168.8167,57,     36.9,  -1.6831,  32.1912,2,    430.6,4,  -1.6837,  32.2542,2,    305.3,2,    47.84,2,    13.29,2,     0.08,2,     1.97,2,    5.890,2,    2.980,2,    1.020,2,   2174.3,2,   2255.2,2,   11.660,2
18SN19940724,AO94,        3,        1,        3,   142750,2,19940728,1742,73.0017,-168.8167,57,     47.6,  -1.7094,  32.4907,2,    386.0,4,  -1.7102,  32.6694,2,    279.4,2,    55.68,2,    15.94,2,     0.03,2,     2.25,2,    5.920,2,    3.330,2,    1.010,2,   2210.6,2,   2270.2,2,   11.400,2
18SN19940724,AO94,        3,        1,        2,   142749,2,19940728,1742,73.0017,-168.8167,57,     58.5,  -1.7456,  32.8266,2,    372.1,4,  -1.7466,  32.7621,2,   -999.0,9,    56.38,2,    16.32,2,     0.03,2,     2.29,2, -999.000,9, -999.000,9, -999.000,9,   -999.0,9,   -999.0,9, -999.000,9
18SN19940724,AO94,        3,        1,        1,   142748,2,19940728,1742,73.0017,-168.8167,57,     58.6,  -1.7462,  32.8272,2,    372.1,4,  -1.7472,  32.7598,2,    280.6,2,    56.26,2,    16.32,2,     0.04,2,     2.28,2,    5.960,2,    3.370,2,    1.030,2,   2219.7,2,   2271.8,2,   11.530,2