BOTTLE,20090717CCHDOSIODM
EXPOCODE,SECT_ID,STNNBR,CASTNO,SAMPNO,BTLNBR,BTLNBR_FLAG_W,DATE,TIME,LATITUDE,LONGITUDE,DEPTH,CTDPRS,CTDTMP,CTDSAL,CTDSAL_FLAG_W,CTDOXY,CTDOXY_FLAG_W,THETA,SALNTY,SALNTY_FLAG_W,OXYGEN,OXYGEN_FLAG_W,SILCAT,SILCAT_FLAG_W,NITRAT,NITRAT_FLAG_W,NITRIT,NITRIT_FLAG_W,PHSPHT,PHSPHT_FLAG_W,CFC-11,CFC-11_FLAG_W,CFC-12,CFC-12_FLAG_W,CFC113,CFC113_FLAG_W,TCARBN,TCARBN_FLAG_W,ALKALI,ALKALI_FLAG_W,CCL4,CCL4_FLAG_W
,,,,,,,,,,,,DBAR,ITS-90,PSS-78,,UMOL/KG,,DEG C,PSS-78,,UMOL/KG,,UMOL/KG,,UMOL/KG,,UMOL/KG,,UMOL/KG,,PMOL/KG,,PMOL/KG,,PMOL/KG,,UMOL/KG,,UMOL/KG,,PMOL/KG,
18SN19940724,AO94,       25,        1,       36,   143649,2,19940812,0914,83.1733,173.9350,3063,     12.0,  -1.6961,  32.2768,2,    448.8,4,  -1.6963,  32.2294,2,    374.8,2,     7.97,2,     2.71,2,     0.04,2,     0.66,2,    6.330,2,    3.040,2,    1.410,2,   -999.0,9,   -999.0,9,   10.000,2
18SN19940724,AO94,       25,        1,       35,   143648,2,19940812,0914,83.1733,173.9350,3063,     22.2,  -1.7069,  32.7549,2,    769.2,4,  -1.7073,  32.7282,2,    375.8,2,     5.89,2,     2.75,2,     0.04,2,     0.52,2,    6.400,2,    2.950,2,    0.890,2,   2101.2,2,   2256.7,2,   10.110,2
18SN19940724,AO94,       25,        1,       34,   143647,2,19940812,0914,83.1733,173.9350,3063,     32.3,  -1.7466,  33.2263,2,    600.2,4,  -1.7471,  33.2480,2,    367.6,2,     5.11,2,     3.81,2,     0.05,2,     0.48,2,    6.220,2,    2.970,2,    1.240,2,   2128.2,2,   2290.5,2,    9.720,2
18SN19940724,AO94,       25,        1,       33,   143646,2,19940812,0914,83.1733,173.9350,3063,     47.3,  -1.8017,  33.5108,2,    479.3,4,  -1.8026,  33.5167,2,    365.1,2,     4.48,2,     4.28,2,     0.03,2,     0.44,2,    6.500,2,    3.060,2,    0.890,2,   2137.3,2,   2290.0,2,    9.930,2
18SN19940724,AO94,       25,        1,       32,   143645,2,19940812,0914,83.1733,173.9350,3063,     62.7,  -1.7899,  33.5541,2,     77.9,4,  -1.7911,  33.5573,2,    363.9,2,     4.63,2,     4.44,2,     0.03,2,     0.47,2,    6.220,2,    2.940,2,    1.250,2,   2137.5,2,   2291.9,2,    9.410,2
18SN19940724,AO94,       25,        1,       31,   143644,2,19940812,0914,83.1733,173.9350,3063,     83.0,  -1.8073,  33.5828,2,     80.2,4,  -1.8088,  33.5936,2,   -999.0,9,  -999.00,9,  -999.00,9,  -999.00,9,  -999.00,9, -999.000,9, -999.000,9, -999.000,9,   -999.0,9,   -999.0,9, -999.000,9
18SN19940724,AO94,       25,        1,       30,   143643,2,19940812,0914,83.1733,173.9350,3063,     83.0,  -1.8078,  33.5839,2,     80.2,4,  -1.8093,  33.5911,2,   -999.0,9,  -999.00,9,  -999.00,9,  -999.00,9,  -999.00,9, -999.000,9, -999.000,9, -999.000,9,   -999.0,9,   -999.0,9, -999.000,9
18SN19940724,AO94,       25,        1,       29,   143642,2,19940812,0914,83.1733,173.9350,3063,     83.0,  -1.8105,  33.5908,2,     80.2,4,  -1.8120,  33.5925,2,    361.0,2,     4.68,2,     4.64,2,     0.02,2,     0.48,2,    6.350,2,    2.850,2,    0.850,2,   2138.6,2,   2291.6,2,    9.290,2
18SN19940724,AO94,       25,        1,       28,   143641,2,19940812,0914,83.1733,173.9350,3063,     93.1,  -1.7406,  33.7562,2,    323.7,4,  -1.7423,  33.7174,2,    342.5,2,     5.16,2,     6.17,2,     0.01,2,     0.55,2,    5.900,2,    2.770,2,    0.920,2,   2137.6,2,   2295.1,2,    7.600,2
18SN19940724,AO94,       25,        1,       27,   143640,2,19940812,0914,83.1733,173.9350,3063,    103.2,  -1.6618,  33.9324,2,   1400.2,4,  -1.6639,  33.9198,2,    326.5,2,     5.35,2,     7.51,2,     0.01,2,     0.62,2,    5.530,2,    2.470,2,    0.590,2,   2138.0,2,   2285.4,2,    6.900,2
18SN19940724,AO94,       25,        1,       26,   143639,2,19940812,0914,83.1733,173.9350,3063,    118.4,  -1.4571,  34.1577,2,    416.2,4,  -1.4598,  34.1510,2,    316.3,2,     5.83,2,     8.62,2,     0.01,2,     0.68,2,    4.990,2,    2.310,2,    0.540,2,   2145.1,2,   2298.4,2,    6.420,2
18SN19940724,AO94,       25,        1,       25,   143638,2,19940812,0914,83.1733,173.9350,3063,    133.5,  -1.2563,  34.2680,2,    397.4,4,  -1.2597,  34.2740,2,    309.0,2,     6.40,2,     9.27,2,     0.01,2,     0.72,2,    4.460,2,    2.070,2,    0.360,2,   2152.3,2,   2293.9,2,    6.220,2
18SN19940724,AO94,       25,        1,       24,   143637,2,19940812,0914,83.1733,173.9350,3063,    153.7,  -0.8305,  34.4106,2,    377.9,4,  -0.8349,  34.4021,2,    304.5,2,     6.79,2,     9.84,2,     0.01,2,     0.75,2,    4.150,2,    1.960,2,    0.520,2,   2154.6,2,   2307.2,2,    6.030,2
18SN19940724,AO94,       25,        1,       23,   143636,2,19940812,0914,83.1733,173.9350,3063,    173.3,  -0.5566,  34.4936,2,    366.3,4,  -0.5621,  34.4879,2,    300.3,2,     7.46,2,    10.38,2,     0.01,2,     0.79,2,    3.720,2,    1.660,2,    0.210,2,   2159.0,2,   2359.4,3,    5.590,2
18SN19940724,AO94,       25,        1,       22,   143635,2,19940812,0914,83.1733,173.9350,3063,    203.7,   0.0536,  34.6253,2,    355.6,4,   0.0460,  34.6205,2,    298.4,2,     7.41,2,    11.02,2,     0.01,2,     0.80,2,    3.160,2,    1.610,2,    0.260,2,   2152.8,2,   2309.5,2,    5.550,2
18SN19940724,AO94,       25,        1,       21,   143634,2,19940812,0914,83.1733,173.9350,3063,    254.5,   0.6585,  34.7923,2,    345.7,4,   0.6475,  34.7909,2,    300.5,2,     6.93,2,    11.86,2,     0.01,2,     0.83,2,    3.370,2,    1.640,2,    0.190,2,   2148.9,2,   2324.3,2,    6.360,2
18SN19940724,AO94,       25,        1,       19,   143632,2,19940812,0914,83.1733,173.9350,3063,    304.6,   0.6319,  34.8177,2,    341.5,4,   0.6187,  34.8182,2,   -999.0,9,  -999.00,9,  -999.00,9,  -999.00,9,  -999.00,9, -999.000,9, -999.000,9, -999.000,9,   -999.0,9,   -999.0,9, -999.000,9
18SN19940724,AO94,       25,        1,       18,   143631,2,19940812,0914,83.1733,173.9350,3063,    304.6,   0.6212,  34.8172,2,    341.6,4,   0.6080,  34.8184,2,    299.9,2,     7.07,2,    12.02,2,     0.01,2,     0.84,2,    2.810,2,    1.490,2,    0.180,2,   2149.6,2,   2316.2,2,    6.210,2
18SN19940724,AO94,       25,        1,       20,   143633,3,19940812,0914,83.1733,173.9350,3063,    304.7,   0.6363,  34.8177,2,    341.6,4,   0.6231,  34.8172,2,   -999.0,9,  -999.00,9,  -999.00,9,  -999.00,9,  -999.00,9, -999.000,9, -999.000,9, -999.000,9,   -999.0,9,   -999.0,9, -999.000,9
18SN19940724,AO94,       25,        1,       17,   143630,2,19940812,0914,83.1733,173.9350,3063,    345.4,   0.7839,  34.8568,2,    344.7,4,   0.7682,  34.8575,2,    302.5,2,     6.92,2,    12.05,2,     0.01,2,     0.85,2,    3.090,2,    1.650,2,    0.190,2,   2150.3,2,   2321.0,2,    6.880,2
18SN19940724,AO94,       25,        1,       16,   143629,2,19940812,0914,83.1733,173.9350,3063,    415.7,   0.5701,  34.8580,2,    341.0,4,   0.5518,  34.8558,2,    300.4,2,     7.31,2,    12.28,2,     0.01,2,     0.86,2,    2.370,2,    1.330,2,    0.110,2,   2150.3,2,   2322.0,2,    5.880,2
18SN19940724,AO94,       25,        1,       15,   143628,2,19940812,0914,83.1733,173.9350,3063,    497.0,   0.5037,  34.8705,2,    337.1,4,   0.4817,  34.8694,2,    299.5,2,     7.59,2,    12.48,2,     0.00,2,     0.87,2,    2.040,2,    0.970,2,    0.100,2,   2152.4,2,   2317.9,2,    4.980,2
18SN19940724,AO94,       25,        1,       14,   143627,2,19940812,0914,83.1733,173.9350,3063,    578.0,   0.3575,  34.8753,2,    330.1,4,   0.3322,  34.8759,2,    300.0,2,     7.79,2,    12.55,2,     0.00,2,     0.88,2,    1.670,2,    0.830,2,    0.110,2,   2150.7,2,   2322.8,2,    4.710,2
18SN19940724,AO94,       25,        1,       13,   143626,2,19940812,0914,83.1733,173.9350,3063,    709.5,   0.1301,  34.8776,2,    309.8,4,   0.0995,  34.8791,2,    302.1,2,     7.88,2,    12.55,2,     0.00,2,     0.88,2,    1.760,2,    0.910,2,    0.070,2,   2152.2,2,   2326.6,2,    4.460,2
18SN19940724,AO94,       25,        1,       12,   143625,2,19940812,0914,83.1733,173.9350,3063,    912.5,  -0.1355,  34.8862,2,    291.9,4,  -0.1744,  34.8884,2,    303.6,2,     8.07,2,    12.59,2,     0.00,2,     0.90,2,    1.960,2,    1.050,2,    0.040,2,   2156.8,2,   2324.0,2,    4.550,2
18SN19940724,AO94,       25,        1,       11,   143624,2,19940812,0914,83.1733,173.9350,3063,   1116.1,  -0.2654,  34.9014,2,    280.3,4,  -0.3139,  34.9024,2,    302.2,2,     8.74,2,    12.86,2,     0.00,2,     0.92,2,    1.100,2,    0.610,2,    0.030,2,   2158.7,2,   2331.2,2,    3.540,2
18SN19940724,AO94,       25,        1,       10,   143623,2,19940812,0914,83.1733,173.9350,3063,   1319.0,  -0.3567,  34.9153,2,    268.3,4,  -0.4155,  34.9131,2,    300.4,2,     9.66,2,    13.28,2,     0.00,2,     0.95,2,    1.340,2,    0.530,2,    0.170,2,   2156.5,2,   2329.9,2,    2.220,2
18SN19940724,AO94,       25,        1,        9,   143622,2,19940812,0914,83.1733,173.9350,3063,   1522.5,  -0.3882,  34.9295,2,    256.6,4,  -0.4585,  34.9297,2,    296.5,2,    11.14,2,    13.81,2,     0.00,2,     0.99,2,    0.240,2,    0.190,2,    0.010,2,   2153.6,2,   2321.1,2,    0.910,2
18SN19940724,AO94,       25,        1,        8,   143621,2,19940812,0914,83.1733,173.9350,3063,   1726.2,  -0.4140,  34.9375,2,    246.1,4,  -0.4964,  34.9378,2,    292.7,2,    12.15,2,    14.12,2,     0.00,2,     1.00,2,    0.160,2,    0.100,2,    0.000,2,   2154.7,2,   2324.7,2,    0.480,2
18SN19940724,AO94,       25,        1,        7,   143620,2,19940812,0914,83.1733,173.9350,3063,   1929.9,  -0.4130,  34.9444,2,    237.2,4,  -0.5085,  34.9454,2,    290.2,2,    13.02,2,    14.31,2,     0.00,2,     1.02,2,    0.090,2,    0.190,2,    0.000,2,   2158.5,2,   2323.8,2,    0.310,2
18SN19940724,AO94,       25,        1,        6,   143619,2,19940812,0914,83.1733,173.9350,3063,   2133.9,  -0.4062,  34.9468,2,    228.4,4,  -0.5157,  34.9489,2,    288.7,2,    13.49,2,    14.39,2,     0.00,2,     1.03,2,    0.140,2,    0.040,2,    0.000,2,   2157.3,2,   2327.2,2,    0.110,2
18SN19940724,AO94,       25,        1,        5,   143618,2,19940812,0914,83.1733,173.9350,3063,   2338.1,  -0.3946,  34.9492,2,    220.4,4,  -0.5188,  34.9507,2,    287.7,2,    13.78,2,    14.46,2,     0.00,2,     1.03,2,    0.080,2,    0.110,2,    0.010,2,   2158.0,2,   2327.6,2,    0.160,2
18SN19940724,AO94,       25,        1,        4,   143617,2,19940812,0914,83.1733,173.9350,3063,   2542.1,  -0.3807,  34.9504,2,    212.6,4,  -0.5204,  34.9514,2,    287.4,2,    13.97,2,    14.50,2,     0.00,2,     1.04,2,    0.060,2,    0.120,2,    0.000,2,   2158.7,2,   2323.0,2,    0.090,2
18SN19940724,AO94,       25,        1,        3,   143616,2,19940812,0914,83.1733,173.9350,3063,   2745.9,  -0.3661,  34.9515,2,    206.3,4,  -0.5220,  34.9524,2,    287.2,2,    14.07,2,    14.54,2,     0.00,2,     1.04,2,    0.060,2,    0.080,2,    0.010,2,   2159.5,2,   2323.2,2,    0.040,2
18SN19940724,AO94,       25,        1,        2,   143615,2,19940812,0914,83.1733,173.9350,3063,   2950.2,  -0.3545,  34.9520,2,    199.9,4,  -0.5272,  34.9520,2,    287.6,2,    13.92,2,    14.50,2,     0.00,2,     1.04,2,    0.100,2,    0.040,2,    0.040,2,   2159.0,2,   2333.5,2,    0.000,2
18SN19940724,AO94,       25,        1,        1,   143614,2,19940812,0914,83.1733,173.9350,3063,   3139.5,  -0.3443,  34.9523,2,    191.4,4,  -0.5332,  34.9542,2,    288.3,2,    13.87,2,    14.54,2,     0.00,2,     1.03,2,    0.190,2,    0.130,2, -999.000,9,   2157.8,2,   2326.2,2,    0.090,2