BOTTLE,20090717CCHDOSIODM
EXPOCODE,SECT_ID,STNNBR,CASTNO,SAMPNO,BTLNBR,BTLNBR_FLAG_W,DATE,TIME,LATITUDE,LONGITUDE,DEPTH,CTDPRS,CTDTMP,CTDSAL,CTDSAL_FLAG_W,CTDOXY,CTDOXY_FLAG_W,THETA,SALNTY,SALNTY_FLAG_W,OXYGEN,OXYGEN_FLAG_W,SILCAT,SILCAT_FLAG_W,NITRAT,NITRAT_FLAG_W,NITRIT,NITRIT_FLAG_W,PHSPHT,PHSPHT_FLAG_W,CFC-11,CFC-11_FLAG_W,CFC-12,CFC-12_FLAG_W,CFC113,CFC113_FLAG_W,TCARBN,TCARBN_FLAG_W,ALKALI,ALKALI_FLAG_W,CCL4,CCL4_FLAG_W
,,,,,,,,,,,,DBAR,ITS-90,PSS-78,,UMOL/KG,,DEG C,PSS-78,,UMOL/KG,,UMOL/KG,,UMOL/KG,,UMOL/KG,,UMOL/KG,,PMOL/KG,,PMOL/KG,,PMOL/KG,,UMOL/KG,,UMOL/KG,,PMOL/KG,
18SN19940724,AO94,       12,        1,       33,   143066,2,19940802,1556,77.3333,-175.0333,1843,     11.7,  -1.5806,  30.9064,2,    383.2,4,  -1.5807,  30.8999,2,    378.5,2,     8.98,2,     1.01,2,     0.03,2,     1.06,2,    6.270,2,    3.220,2,    1.160,2,   2014.8,2,   2166.4,2,   11.640,2
18SN19940724,AO94,       12,        1,       32,   143065,4,19940802,1556,77.3333,-175.0333,1843,     31.4,  -1.5927,  31.1604,2,    398.0,4,  -1.5932,  34.8572,4,    302.3,4,     7.28,4,    12.20,4,     0.00,4,     0.87,4,    3.570,2,    1.610,2,    0.000,2,   2160.3,2,   -999.0,9,    6.200,2
18SN19940724,AO94,       12,        1,       31,   143064,2,19940802,1556,77.3333,-175.0333,1843,     52.1,  -1.5795,  31.6970,2,     80.2,4,  -1.5803,  31.6496,2,    316.9,2,    17.68,2,     7.17,2,     0.04,2,     1.55,2,    5.940,2,    3.140,2,    1.000,2,   2090.2,2,   2199.6,2,   10.600,2
18SN19940724,AO94,       12,        1,       30,   143063,2,19940802,1556,77.3333,-175.0333,1843,     71.9,  -1.3430,  32.8990,2,    382.0,4,  -1.3445,  32.7824,2,    241.7,2,    44.46,2,    14.69,2,     0.02,2,     2.03,2,    5.580,2,    2.740,2,    0.390,2,   2031.2,3,   2255.8,2,    6.540,2
18SN19940724,AO94,       12,        1,       29,   143062,2,19940802,1556,77.3333,-175.0333,1843,     92.5,  -1.7476,  33.6636,2,    383.8,4,  -1.7493,  33.6642,2,    325.0,2,     8.55,2,     7.37,2,     0.02,2,     0.70,2,    5.640,2,    2.840,2,    0.740,2,   2155.0,2,   2292.6,2,    6.790,2
18SN19940724,AO94,       12,        1,       28,   143061,2,19940802,1556,77.3333,-175.0333,1843,    113.1,  -1.7532,  33.8954,2,    387.8,4,  -1.7554,  33.9063,2,    322.5,2,     7.35,2,     7.56,2,     0.01,2,     0.66,2,    5.900,2,    2.720,2,    0.470,2,   2158.0,2,   2299.7,2,    6.280,2
18SN19940724,AO94,       12,        1,       27,   143060,2,19940802,1556,77.3333,-175.0333,1843,    132.8,  -1.5038,  34.1078,2,    375.0,4,  -1.5068,  34.1038,2,    313.3,2,     6.73,2,     8.61,2,     0.01,2,     0.71,2,    5.180,2,    2.590,2,    0.610,2,   -999.0,9,   -999.0,9,    6.500,2
18SN19940724,AO94,       12,        1,       26,   143059,2,19940802,1556,77.3333,-175.0333,1843,    153.4,  -1.2131,  34.2845,2,    358.3,4,  -1.2170,  34.2820,2,    306.1,2,     7.34,2,     9.49,2,     0.01,2,     0.75,2,    5.030,2,    2.350,2,    0.350,2,   2157.9,2,   2304.5,2,    6.230,2
18SN19940724,AO94,       12,        1,       25,   143058,2,19940802,1556,77.3333,-175.0333,1843,    173.2,  -0.7333,  34.3999,2,    355.7,4,  -0.7385,  34.3909,2,    305.7,2,     6.97,2,     9.76,2,     0.01,2,     0.75,2,    4.570,2,    2.260,2,    0.450,2,   2157.5,2,   2307.9,2,    6.220,2
18SN19940724,AO94,       12,        1,       24,   143057,2,19940802,1556,77.3333,-175.0333,1843,    193.9,  -0.1614,  34.5208,2,    350.2,4,  -0.1683,  34.5122,2,    303.6,2,     6.91,2,    10.34,2,     0.01,2,     0.78,2,    4.640,2,    2.190,2,    0.350,2,   2158.6,2,   2310.4,2,    6.490,2
18SN19940724,AO94,       12,        1,       23,   143056,2,19940802,1556,77.3333,-175.0333,1843,    213.5,   0.1815,  34.6149,2,    345.8,4,   0.1732,  34.6071,2,    303.3,2,     6.53,2,    10.68,2,     0.00,2,     0.78,2,    4.180,2,    1.970,2,    0.380,2,   2155.8,2,   2314.3,2,    6.300,2
18SN19940724,AO94,       12,        1,       22,   143055,2,19940802,1556,77.3333,-175.0333,1843,    238.8,   0.5897,  34.7240,2,    338.8,4,   0.5795,  34.6975,2,    302.4,2,     6.59,2,    11.19,2,     0.00,2,     0.81,2,    4.380,2,    2.100,2,    0.330,2,   2161.2,2,   2321.7,2,    7.190,2
18SN19940724,AO94,       12,        1,       21,   143054,2,19940802,1556,77.3333,-175.0333,1843,    264.6,   0.7789,  34.7751,2,    337.1,4,   0.7671,  34.7743,2,    303.0,2,     6.53,2,    11.56,2,     0.01,2,     0.82,2,    4.090,2,    2.070,2,    0.380,2,   2158.3,2,   2321.7,2,    6.800,2
18SN19940724,AO94,       12,        1,       20,   143053,2,19940802,1556,77.3333,-175.0333,1843,    289.2,   0.8100,  34.8051,2,    332.6,4,   0.7970,  34.8081,2,    303.1,2,     6.59,2,    11.73,2,     0.00,2,     0.83,2, -999.000,9, -999.000,9, -999.000,9,   2155.7,2,   2323.6,2, -999.000,9
18SN19940724,AO94,       12,        1,       19,   143052,2,19940802,1556,77.3333,-175.0333,1843,    314.5,   0.8100,  34.8252,2,    329.0,4,   0.7958,  34.8278,2,    303.6,2,     6.59,2,    11.80,2,     0.00,2,     0.84,2,    3.960,2,    1.960,2,    0.370,2,   2157.8,2,   2324.1,2,    7.010,2
18SN19940724,AO94,       12,        1,       18,   143051,2,19940802,1556,77.3333,-175.0333,1843,    340.1,   0.6355,  34.8158,2,    327.4,4,   0.6206,  34.8164,2,    302.7,2,     6.71,2,    11.83,2,     0.00,2,     0.84,2,    4.100,2,    1.960,2,    0.520,2,   2159.9,2,   2320.2,2,    6.720,2
18SN19940724,AO94,       12,        1,       17,   143050,2,19940802,1556,77.3333,-175.0333,1843,    375.2,   0.6311,  34.8271,2,    323.2,4,   0.6146,  34.8297,2,    303.0,2,     6.71,2,    11.93,2,     0.00,2,     0.85,2,    3.660,2,    1.780,2,    0.310,2,   2157.7,2,   2325.4,2,    6.810,2
18SN19940724,AO94,       12,        1,       16,   143049,2,19940802,1556,77.3333,-175.0333,1843,    410.5,   0.5574,  34.8331,2,    319.9,4,   0.5394,  34.8315,2,    302.5,2,     6.83,2,    11.97,2,     0.00,2,     0.85,2,    3.980,2,    1.790,2,    0.380,2,   2163.2,2,   2327.3,2,    7.070,2
18SN19940724,AO94,       12,        1,       15,   143048,2,19940802,1556,77.3333,-175.0333,1843,    456.2,   0.5421,  34.8452,2,    320.1,4,   0.5219,  34.8462,2,    301.6,2,     6.77,2,    12.04,2,     0.00,2,     0.85,2,    3.760,2,    1.900,2,    0.300,2,   2159.3,2,   2325.0,2,    7.010,2
18SN19940724,AO94,       12,        1,       14,   143047,2,19940802,1556,77.3333,-175.0333,1843,    505.9,   0.4449,  34.8497,2,    316.5,4,   0.4228,  34.8515,2,    305.6,2,     6.83,2,    12.04,2,     0.00,2,     0.86,2,    4.230,2,    1.970,2, -999.000,9,   2161.5,2,   2326.1,2,    6.990,2
18SN19940724,AO94,       12,        1,       13,   143046,2,19940802,1556,77.3333,-175.0333,1843,    557.1,   0.3834,  34.8564,2,    311.1,4,   0.3590,  34.8578,2,    304.2,2,     7.08,2,    12.21,2,     0.00,2,     0.86,2,    3.380,2,    1.700,2,    0.280,2,   2160.9,2,   2323.1,2,    6.640,2
18SN19940724,AO94,       12,        1,       12,   143045,2,19940802,1556,77.3333,-175.0333,1843,    631.8,   0.2430,  34.8563,2,    307.2,4,   0.2157,  34.8566,2,    302.6,2,     7.32,2,    12.31,2,     0.00,2,     0.87,2,    3.400,2,    1.500,2,    0.520,2,   2163.2,2,   2319.3,2,    5.370,2
18SN19940724,AO94,       12,        1,       11,   143044,2,19940802,1556,77.3333,-175.0333,1843,    707.4,   0.1588,  34.8643,2,    303.3,4,   0.1282,  34.8659,2,    302.7,2,     7.51,2,    12.37,2,     0.01,2,     0.88,2,    2.710,2,    1.250,2,    0.230,2,   2161.3,2,   2325.5,2,    5.790,2
18SN19940724,AO94,       12,        1,       10,   143043,2,19940802,1556,77.3333,-175.0333,1843,    807.8,   0.0321,  34.8702,2,    298.2,4,  -0.0028,  34.8710,2,    303.6,2,     7.63,2,    12.41,2,     0.00,2,     0.88,2, -999.000,9, -999.000,9, -999.000,9,   2152.7,2,   2326.3,2, -999.000,9
18SN19940724,AO94,       12,        1,        9,   143042,2,19940802,1556,77.3333,-175.0333,1843,    907.0,  -0.0712,  34.8769,2,    292.4,4,  -0.1104,  34.8787,2,    303.3,2,     7.81,2,    12.52,2,     0.00,2,     0.89,2,    2.280,2,    1.040,2,    0.110,2,   2164.5,2,   2330.6,2,    5.150,2
18SN19940724,AO94,       12,        1,        8,   143041,2,19940802,1556,77.3333,-175.0333,1843,   1006.4,  -0.1539,  34.8834,2,    286.7,4,  -0.1976,  34.8857,2,    303.1,2,     7.94,2,    12.55,2,     0.00,2,     0.90,2,    2.280,2,    1.070,2,    0.060,2,   2164.4,2,   2327.6,2,    4.050,2
18SN19940724,AO94,       12,        1,        7,   143040,2,19940802,1556,77.3333,-175.0333,1843,   1154.6,  -0.2687,  34.8903,2,    279.2,4,  -0.3192,  34.8922,2,    303.8,2,     8.24,2,    12.69,2,     0.00,2,     0.91,2,    2.110,2,    0.960,2,    0.120,2,   2165.6,2,   2330.6,2,    5.210,2
18SN19940724,AO94,       12,        1,        6,   143039,2,19940802,1556,77.3333,-175.0333,1843,   1304.9,  -0.3610,  34.8998,2,    272.0,4,  -0.4190,  34.9016,2,    303.6,2,     8.74,2,    12.89,2,     0.00,2,     0.93,2,    2.040,2,    0.980,2,    0.000,2,   2171.9,2,   2327.7,2,    3.660,2
18SN19940724,AO94,       12,        1,        5,   143038,2,19940802,1556,77.3333,-175.0333,1843,   1454.8,  -0.4272,  34.9103,2,    264.3,4,  -0.4929,  34.9111,2,    302.0,2,     9.54,2,    13.23,2,     0.00,2,     0.95,2,    1.410,2,    0.660,2,    0.070,2,   2165.6,2,   2326.9,2,    3.820,2
18SN19940724,AO94,       12,        1,        4,   143037,2,19940802,1556,77.3333,-175.0333,1843,   1605.9,  -0.4636,  34.9260,2,    254.1,4,  -0.5379,  34.9280,2,    296.0,2,    11.40,2,    13.84,2,     0.00,2,     1.00,2,    0.880,2,    0.520,2,    0.000,2,   2163.4,2,   2330.6,2,    2.280,2
18SN19940724,AO94,       12,        1,        3,   143036,2,19940802,1556,77.3333,-175.0333,1843,   1706.5,  -0.4516,  34.9378,2,    246.8,4,  -0.5322,  34.9384,2,    291.5,2,    12.64,2,    14.25,2,     0.00,2,     1.02,2, -999.000,9, -999.000,9, -999.000,9,   2162.4,2,   2336.4,2, -999.000,9
18SN19940724,AO94,       12,        1,        2,   143035,2,19940802,1556,77.3333,-175.0333,1843,   1807.3,  -0.4381,  34.9444,2,    241.4,4,  -0.5253,  34.9467,2,    289.1,2,    13.32,2,    14.46,2,     0.00,2,     1.04,2,    0.270,2,    0.210,2, -999.000,9,   2158.9,2,   2337.3,2,    0.590,2
18SN19940724,AO94,       12,        1,        1,   143034,2,19940802,1556,77.3333,-175.0333,1843,   1875.9,  -0.4204,  34.9501,2,    234.6,4,  -0.5123,  34.9508,2,    286.3,2,    14.13,2,    14.63,2,     0.00,2,     1.05,2,    0.080,2,    0.100,2, -999.000,9,   2160.1,2,   2311.8,2,    0.140,2
18SN19940724,AO94,       13,        1,       23,     -999,5,19940803,0855,77.7917,-176.3033,1208,     10.2,  -1.5553,  30.3354,2,    148.1,4,  -1.5554,-999.0000,9,   -999.0,9,  -999.00,9,  -999.00,9,  -999.00,9,  -999.00,9, -999.000,9, -999.000,9, -999.000,9,   -999.0,9,   -999.0,9, -999.000,9
18SN19940724,AO94,       13,        1,       22,     -999,5,19940803,0855,77.7917,-176.3033,1208,     25.2,  -1.6083,  30.9730,2,     61.2,4,  -1.6087,-999.0000,9,   -999.0,9,  -999.00,9,  -999.00,9,  -999.00,9,  -999.00,9, -999.000,9, -999.000,9, -999.000,9,   -999.0,9,   -999.0,9, -999.000,9
18SN19940724,AO94,       13,        1,       21,     -999,5,19940803,0855,77.7917,-176.3033,1208,     45.5,  -1.6317,  31.2150,2,    503.9,4,  -1.6324,-999.0000,9,   -999.0,9,  -999.00,9,  -999.00,9,  -999.00,9,  -999.00,9, -999.000,9, -999.000,9, -999.000,9,   -999.0,9,   -999.0,9, -999.000,9
18SN19940724,AO94,       13,        1,       20,     -999,5,19940803,0855,77.7917,-176.3033,1208,     65.8,  -1.4567,  33.0190,2,    332.1,4,  -1.4580,-999.0000,9,   -999.0,9,  -999.00,9,  -999.00,9,  -999.00,9,  -999.00,9, -999.000,9, -999.000,9, -999.000,9,   -999.0,9,   -999.0,9, -999.000,9
18SN19940724,AO94,       13,        1,       19,     -999,5,19940803,0855,77.7917,-176.3033,1208,     86.0,  -1.7781,  33.6842,2,    397.8,4,  -1.7797,-999.0000,9,   -999.0,9,  -999.00,9,  -999.00,9,  -999.00,9,  -999.00,9, -999.000,9, -999.000,9, -999.000,9,   -999.0,9,   -999.0,9, -999.000,9
18SN19940724,AO94,       13,        1,       18,     -999,5,19940803,0855,77.7917,-176.3033,1208,    106.1,  -1.7336,  33.9165,2,    383.4,4,  -1.7357,-999.0000,9,   -999.0,9,  -999.00,9,  -999.00,9,  -999.00,9,  -999.00,9, -999.000,9, -999.000,9, -999.000,9,   -999.0,9,   -999.0,9, -999.000,9
18SN19940724,AO94,       13,        1,       17,     -999,5,19940803,0855,77.7917,-176.3033,1208,    126.1,  -1.4058,  34.1752,2,    372.4,4,  -1.4087,-999.0000,9,   -999.0,9,  -999.00,9,  -999.00,9,  -999.00,9,  -999.00,9, -999.000,9, -999.000,9, -999.000,9,   -999.0,9,   -999.0,9, -999.000,9
18SN19940724,AO94,       13,        1,       16,     -999,5,19940803,0855,77.7917,-176.3033,1208,    145.8,  -1.1476,  34.3074,2,    360.0,4,  -1.1514,-999.0000,9,   -999.0,9,  -999.00,9,  -999.00,9,  -999.00,9,  -999.00,9, -999.000,9, -999.000,9, -999.000,9,   -999.0,9,   -999.0,9, -999.000,9
18SN19940724,AO94,       13,        1,       15,     -999,5,19940803,0855,77.7917,-176.3033,1208,    171.4,  -0.5710,  34.4520,2,    355.5,4,  -0.5764,-999.0000,9,   -999.0,9,  -999.00,9,  -999.00,9,  -999.00,9,  -999.00,9, -999.000,9, -999.000,9, -999.000,9,   -999.0,9,   -999.0,9, -999.000,9
18SN19940724,AO94,       13,        1,       14,     -999,5,19940803,0855,77.7917,-176.3033,1208,    200.9,   0.1662,  34.6012,2,    346.8,4,   0.1585,-999.0000,9,   -999.0,9,  -999.00,9,  -999.00,9,  -999.00,9,  -999.00,9, -999.000,9, -999.000,9, -999.000,9,   -999.0,9,   -999.0,9, -999.000,9
18SN19940724,AO94,       13,        1,       13,     -999,5,19940803,0855,77.7917,-176.3033,1208,    241.5,   0.6924,  34.7408,2,    340.0,4,   0.6819,-999.0000,9,   -999.0,9,  -999.00,9,  -999.00,9,  -999.00,9,  -999.00,9, -999.000,9, -999.000,9, -999.000,9,   -999.0,9,   -999.0,9, -999.000,9
18SN19940724,AO94,       13,        1,       12,     -999,5,19940803,0855,77.7917,-176.3033,1208,    280.7,   0.9295,  34.8133,2,    335.0,4,   0.9166,-999.0000,9,   -999.0,9,  -999.00,9,  -999.00,9,  -999.00,9,  -999.00,9, -999.000,9, -999.000,9, -999.000,9,   -999.0,9,   -999.0,9, -999.000,9
18SN19940724,AO94,       13,        1,       11,     -999,5,19940803,0855,77.7917,-176.3033,1208,    321.1,   0.8444,  34.8282,2,    332.0,4,   0.8298,-999.0000,9,   -999.0,9,  -999.00,9,  -999.00,9,  -999.00,9,  -999.00,9, -999.000,9, -999.000,9, -999.000,9,   -999.0,9,   -999.0,9, -999.000,9
18SN19940724,AO94,       13,        1,       10,     -999,5,19940803,0855,77.7917,-176.3033,1208,    366.1,   0.5826,  34.8136,2,    326.7,4,   0.5666,-999.0000,9,   -999.0,9,  -999.00,9,  -999.00,9,  -999.00,9,  -999.00,9, -999.000,9, -999.000,9, -999.000,9,   -999.0,9,   -999.0,9, -999.000,9
18SN19940724,AO94,       13,        1,        9,     -999,5,19940803,0855,77.7917,-176.3033,1208,    401.3,   0.6826,  34.8427,2,    324.1,4,   0.6646,-999.0000,9,   -999.0,9,  -999.00,9,  -999.00,9,  -999.00,9,  -999.00,9, -999.000,9, -999.000,9, -999.000,9,   -999.0,9,   -999.0,9, -999.000,9
18SN19940724,AO94,       13,        1,        8,     -999,5,19940803,0855,77.7917,-176.3033,1208,    451.9,   0.5958,  34.8460,2,    321.4,4,   0.5756,-999.0000,9,   -999.0,9,  -999.00,9,  -999.00,9,  -999.00,9,  -999.00,9, -999.000,9, -999.000,9, -999.000,9,   -999.0,9,   -999.0,9, -999.000,9
18SN19940724,AO94,       13,        1,        7,     -999,5,19940803,0855,77.7917,-176.3033,1208,    553.3,   0.3857,  34.8563,2,    314.9,4,   0.3615,-999.0000,9,   -999.0,9,  -999.00,9,  -999.00,9,  -999.00,9,  -999.00,9, -999.000,9, -999.000,9, -999.000,9,   -999.0,9,   -999.0,9, -999.000,9
18SN19940724,AO94,       13,        1,        6,     -999,5,19940803,0855,77.7917,-176.3033,1208,    653.8,   0.1952,  34.8567,2,    308.9,4,   0.1670,-999.0000,9,   -999.0,9,  -999.00,9,  -999.00,9,  -999.00,9,  -999.00,9, -999.000,9, -999.000,9, -999.000,9,   -999.0,9,   -999.0,9, -999.000,9
18SN19940724,AO94,       13,        1,        5,     -999,5,19940803,0855,77.7917,-176.3033,1208,    754.5,   0.0782,  34.8610,2,    302.9,4,   0.0458,-999.0000,9,   -999.0,9,  -999.00,9,  -999.00,9,  -999.00,9,  -999.00,9, -999.000,9, -999.000,9, -999.000,9,   -999.0,9,   -999.0,9, -999.000,9
18SN19940724,AO94,       13,        1,        4,     -999,5,19940803,0855,77.7917,-176.3033,1208,    907.3,  -0.1063,  34.8731,2,    293.5,4,  -0.1452,-999.0000,9,   -999.0,9,  -999.00,9,  -999.00,9,  -999.00,9,  -999.00,9, -999.000,9, -999.000,9, -999.000,9,   -999.0,9,   -999.0,9, -999.000,9
18SN19940724,AO94,       13,        1,        3,     -999,5,19940803,0855,77.7917,-176.3033,1208,   1059.1,  -0.2392,  34.8820,2,    284.2,4,  -0.2849,-999.0000,9,   -999.0,9,  -999.00,9,  -999.00,9,  -999.00,9,  -999.00,9, -999.000,9, -999.000,9, -999.000,9,   -999.0,9,   -999.0,9, -999.000,9
18SN19940724,AO94,       13,        1,        2,     -999,5,19940803,0855,77.7917,-176.3033,1208,   1161.3,  -0.3192,  34.8913,2,    279.1,4,  -0.3696,-999.0000,9,   -999.0,9,  -999.00,9,  -999.00,9,  -999.00,9,  -999.00,9, -999.000,9, -999.000,9, -999.000,9,   -999.0,9,   -999.0,9, -999.000,9
18SN19940724,AO94,       13,        1,        1,     -999,5,19940803,0855,77.7917,-176.3033,1208,   1226.3,  -0.3367,  34.8938,2,    271.9,4,  -0.3905,-999.0000,9,   -999.0,9,  -999.00,9,  -999.00,9,  -999.00,9,  -999.00,9, -999.000,9, -999.000,9, -999.000,9,   -999.0,9,   -999.0,9, -999.000,9