BOTTLE,20090717CCHDOSIODM
EXPOCODE,SECT_ID,STNNBR,CASTNO,SAMPNO,BTLNBR,BTLNBR_FLAG_W,DATE,TIME,LATITUDE,LONGITUDE,DEPTH,CTDPRS,CTDTMP,CTDSAL,CTDSAL_FLAG_W,CTDOXY,CTDOXY_FLAG_W,THETA,SALNTY,SALNTY_FLAG_W,OXYGEN,OXYGEN_FLAG_W,SILCAT,SILCAT_FLAG_W,NITRAT,NITRAT_FLAG_W,NITRIT,NITRIT_FLAG_W,PHSPHT,PHSPHT_FLAG_W,CFC-11,CFC-11_FLAG_W,CFC-12,CFC-12_FLAG_W,CFC113,CFC113_FLAG_W,TCARBN,TCARBN_FLAG_W,ALKALI,ALKALI_FLAG_W,CCL4,CCL4_FLAG_W
,,,,,,,,,,,,DBAR,ITS-90,PSS-78,,UMOL/KG,,DEG C,PSS-78,,UMOL/KG,,UMOL/KG,,UMOL/KG,,UMOL/KG,,UMOL/KG,,PMOL/KG,,PMOL/KG,,PMOL/KG,,UMOL/KG,,UMOL/KG,,PMOL/KG,
18SN19940724,AO94,        6,        1,       26,   142828,2,19940729,1517,74.5000,-168.8350,186,      5.4,  -1.4933,  30.1222,2,    570.8,4,  -1.4934,  30.1243,2,    404.7,2,     8.60,2,     0.15,2,     0.00,2,     0.82,2,    5.790,2,    2.800,2,    1.440,2,   1985.9,2,   2163.0,2,   10.700,2
18SN19940724,AO94,        6,        1,       25,   142827,2,19940729,1517,74.5000,-168.8350,186,     15.4,  -1.5010,  30.2685,2,    551.0,4,  -1.5012,  30.2986,2,    403.5,2,     8.82,2,     0.22,2,     0.00,2,     0.83,2,    5.710,2,    2.760,2,    0.890,2,   2007.8,2,   2176.3,2,   10.590,2
18SN19940724,AO94,        6,        1,       24,   142826,2,19940729,1517,74.5000,-168.8350,186,     25.6,  -1.4757,  30.6872,2,    540.5,4,  -1.4761,  30.7125,2,    395.1,2,     9.35,2,     0.78,2,     0.03,2,     0.89,2,    5.710,2,    2.790,2,    1.090,2,   2023.7,2,   2203.3,2,   10.700,2
18SN19940724,AO94,        6,        1,       23,   142825,2,19940729,1517,74.5000,-168.8350,186,     40.8,  -1.5695,  31.1675,2,    509.9,4,  -1.5701,  31.1760,2,    358.7,2,    13.64,2,     3.69,2,     0.07,2,     1.09,2,    5.620,2,    2.720,2,    0.690,2,   2081.2,2,   2223.4,2,   10.030,2
18SN19940724,AO94,        6,        1,       22,   142824,2,19940729,1517,74.5000,-168.8350,186,     56.1,  -1.3487,  31.7427,2,    452.5,4,  -1.3497,  31.7815,2,    336.9,2,    18.78,2,     6.62,2,     0.03,2,     1.32,2,    5.130,2,    2.500,2,    0.720,2,   2116.0,2,   2245.3,2,    8.340,2
18SN19940724,AO94,        6,        1,       21,   142823,2,19940729,1517,74.5000,-168.8350,186,     71.6,  -1.3906,  32.2645,2,    427.1,4,  -1.3919,  32.2619,2,    319.1,2,    23.24,2,     9.20,2,     0.01,2,     1.51,2,    4.800,2,    2.480,2,    0.420,2,   2150.0,2,   2264.0,2,    7.360,2
18SN19940724,AO94,        6,        1,       20,   142822,2,19940729,1517,74.5000,-168.8350,186,     91.8,  -1.3099,  33.3374,2,    369.7,4,  -1.3119,  33.2488,2,    282.7,2,    32.16,2,    13.82,2,     0.01,2,     1.74,2,    4.260,2,    2.110,2,    0.370,2,   -999.0,9,   -999.0,9,    6.180,2
18SN19940724,AO94,        6,        1,       19,   142821,2,19940729,1517,74.5000,-168.8350,186,    102.0,  -1.3268,  33.5973,2,    365.1,4,  -1.3291,  33.5872,2,    278.2,2,    34.27,2,    13.97,2,     0.01,2,     1.75,2,    4.330,2,    2.240,2,    0.310,2,   -999.0,9,   -999.0,9,    6.310,2
18SN19940724,AO94,        6,        1,       18,   142820,2,19940729,1517,74.5000,-168.8350,186,    117.1,  -0.9612,  33.9984,2,    343.0,4,  -0.9643,  34.0681,2,    256.2,2,    28.56,2,    14.55,2,     0.01,2,     1.52,2,    3.620,2,    1.730,2,    0.140,2,   -999.0,9,   -999.0,9,    4.860,2
18SN19940724,AO94,        6,        1,       17,   142819,2,19940729,1517,74.5000,-168.8350,186,    132.4,  -0.8561,  34.3205,2,    326.2,4,  -0.8598,  34.3324,2,    255.5,2,    21.82,2,    13.54,2,     0.01,2,     1.25,2,    3.720,2,    1.710,2,    0.360,2,   2196.3,2,   2316.1,2,    5.050,2
18SN19940724,AO94,        6,        1,       16,   142818,2,19940729,1517,74.5000,-168.8350,186,    142.7,  -0.7242,  34.4054,2,    324.6,4,  -0.7285,  34.4244,2,    259.8,2,    19.27,2,    13.15,2,     0.01,2,     1.14,2,    3.830,2,    1.760,2,    0.210,2,   2191.9,2,   2312.3,2,    5.020,2
18SN19940724,AO94,        6,        1,       15,   142817,2,19940729,1517,74.5000,-168.8350,186,    157.8,  -0.3711,  34.5378,2,    326.4,4,  -0.3764,  34.5405,2,    258.0,2,    18.96,2,    13.23,2,     0.01,2,     1.09,2,    4.080,2,    1.930,2,    0.340,2,   2192.6,2,   2317.1,2,    5.330,2
18SN19940724,AO94,        6,        1,       14,   142816,2,19940729,1517,74.5000,-168.8350,186,    173.2,  -0.3370,  34.5490,2,    318.4,4,  -0.3428,  34.5542,2,    258.6,2,    18.80,2,    13.23,2,     0.01,2,     1.08,2,    4.170,2,    1.930,2,    0.310,2,   -999.0,9,   -999.0,9,    5.590,2
18SN19940724,AO94,        6,        1,       13,   142815,2,19940729,1517,74.5000,-168.8350,186,    188.5,  -0.3145,  34.5568,2,    309.0,4,  -0.3209,  34.5585,2,    258.4,2,    18.80,2,    13.23,2,     0.02,2,     1.09,2,    4.130,2,    1.990,2,    0.380,2,   2192.8,2,   2316.3,2,    5.820,2
18SN19940724,AO94,        6,        1,       12,   142814,2,19940729,1517,74.5000,-168.8350,186,    188.5,  -0.3146,  34.5569,2,    309.0,4,  -0.3210,  34.5571,2,   -999.0,9,  -999.00,9,  -999.00,9,  -999.00,9,  -999.00,9,    4.130,2,    1.960,2,    0.430,2,   -999.0,9,   -999.0,9,    6.060,2
18SN19940724,AO94,        6,        1,       11,   142813,2,19940729,1517,74.5000,-168.8350,186,    188.6,  -0.3146,  34.5570,2,    309.0,4,  -0.3210,  34.5585,2,   -999.0,9,  -999.00,9,  -999.00,9,  -999.00,9,  -999.00,9, -999.000,9, -999.000,9, -999.000,9,   -999.0,9,   -999.0,9, -999.000,9
18SN19940724,AO94,        6,        1,       10,   142812,2,19940729,1517,74.5000,-168.8350,186,    188.6,  -0.3147,  34.5566,2,    309.0,4,  -0.3211,  34.5585,2,   -999.0,9,  -999.00,9,  -999.00,9,  -999.00,9,  -999.00,9, -999.000,9, -999.000,9, -999.000,9,   -999.0,9,   -999.0,9, -999.000,9
18SN19940724,AO94,        6,        1,        9,   142811,2,19940729,1517,74.5000,-168.8350,186,    188.6,  -0.3147,  34.5567,2,    309.0,4,  -0.3211,  34.5585,2,   -999.0,9,  -999.00,9,  -999.00,9,  -999.00,9,  -999.00,9, -999.000,9, -999.000,9, -999.000,9,   -999.0,9,   -999.0,9, -999.000,9
18SN19940724,AO94,        6,        1,        8,   142810,2,19940729,1517,74.5000,-168.8350,186,    188.6,  -0.3152,  34.5571,2,    309.0,4,  -0.3216,  34.5587,2,   -999.0,9,  -999.00,9,  -999.00,9,  -999.00,9,  -999.00,9, -999.000,9, -999.000,9, -999.000,9,   -999.0,9,   -999.0,9, -999.000,9
18SN19940724,AO94,        6,        1,        7,   142809,2,19940729,1517,74.5000,-168.8350,186,    188.7,  -0.3151,  34.5570,2,    309.0,4,  -0.3215,  34.5577,2,   -999.0,9,  -999.00,9,  -999.00,9,  -999.00,9,  -999.00,9, -999.000,9, -999.000,9, -999.000,9,   -999.0,9,   -999.0,9, -999.000,9
18SN19940724,AO94,        6,        1,        6,   142808,2,19940729,1517,74.5000,-168.8350,186,    188.7,  -0.3150,  34.5568,2,    309.0,4,  -0.3214,  34.5600,2,   -999.0,9,  -999.00,9,  -999.00,9,  -999.00,9,  -999.00,9, -999.000,9, -999.000,9, -999.000,9,   -999.0,9,   -999.0,9, -999.000,9
18SN19940724,AO94,        6,        1,        5,   142807,2,19940729,1517,74.5000,-168.8350,186,    188.7,  -0.3149,  34.5567,2,    309.0,4,  -0.3213,  34.5565,2,   -999.0,9,  -999.00,9,  -999.00,9,  -999.00,9,  -999.00,9, -999.000,9, -999.000,9, -999.000,9,   -999.0,9,   -999.0,9, -999.000,9
18SN19940724,AO94,        6,        1,        4,   142806,2,19940729,1517,74.5000,-168.8350,186,    188.7,  -0.3150,  34.5568,2,    309.0,4,  -0.3214,  34.5583,2,   -999.0,9,  -999.00,9,  -999.00,9,  -999.00,9,  -999.00,9, -999.000,9, -999.000,9, -999.000,9,   -999.0,9,   -999.0,9, -999.000,9
18SN19940724,AO94,        6,        1,        3,   142805,2,19940729,1517,74.5000,-168.8350,186,    188.8,  -0.3152,  34.5570,2,    309.0,4,  -0.3216,  34.5588,2,   -999.0,9,  -999.00,9,  -999.00,9,  -999.00,9,  -999.00,9, -999.000,9, -999.000,9, -999.000,9,   -999.0,9,   -999.0,9, -999.000,9
18SN19940724,AO94,        6,        1,        2,   142804,2,19940729,1517,74.5000,-168.8350,186,    188.8,  -0.3153,  34.5565,2,    309.0,4,  -0.3217,  34.5604,2,   -999.0,9,  -999.00,9,  -999.00,9,  -999.00,9,  -999.00,9, -999.000,9, -999.000,9, -999.000,9,   -999.0,9,   -999.0,9, -999.000,9
18SN19940724,AO94,        6,        1,        1,   142803,2,19940729,1517,74.5000,-168.8350,186,    188.9,  -0.3152,  34.5561,2,    309.0,4,  -0.3216,  34.5594,2,   -999.0,9,  -999.00,9,  -999.00,9,  -999.00,9,  -999.00,9, -999.000,9, -999.000,9, -999.000,9,   -999.0,9,   -999.0,9, -999.000,9
18SN19940724,AO94,        7,        1,       27,   142858,2,19940729,2309,75.0050,-169.9883,252,      4.9,  -1.5217,  30.6403,2,    539.9,4,  -1.5218,  30.6338,2,    394.0,2,    12.93,2,     0.45,2,     0.01,2,     0.92,2,    6.180,2,    3.040,2,    0.960,2,   1993.9,2,   2169.7,2,   11.090,2
18SN19940724,AO94,        7,        1,       26,   142857,2,19940729,2309,75.0050,-169.9883,252,     10.1,  -1.5251,  30.6433,2,    541.6,4,  -1.5252,  30.6267,2,    393.8,2,    13.02,2,     0.48,2,     0.01,2,     0.92,2,    6.140,2,    3.010,2,    0.970,2,   1994.9,2,   2169.5,2,   11.090,2
18SN19940724,AO94,        7,        1,       25,   142856,2,19940729,2309,75.0050,-169.9883,252,     20.2,  -1.5222,  30.8832,2,    530.9,4,  -1.5225,  30.9782,2,    384.6,2,    13.11,2,     1.36,2,     0.03,2,     0.97,2,    6.080,2,    2.930,2,    0.910,2,   2031.3,2,   2219.4,2,   10.780,2
18SN19940724,AO94,        7,        1,       24,   142855,2,19940729,2309,75.0050,-169.9883,252,     30.2,  -1.5418,  31.3509,2,    494.8,4,  -1.5422,  31.4098,2,    352.9,2,    16.17,2,     4.49,2,  -999.00,5,     1.16,2,    6.050,2,    2.840,2,    0.850,2,   2074.2,2,   2216.0,2,   10.670,2
18SN19940724,AO94,        7,        1,       23,   142854,2,19940729,2309,75.0050,-169.9883,252,     40.0,  -1.3237,  31.8025,2,    449.7,4,  -1.3244,  31.8199,2,    324.2,2,    20.60,2,     7.56,2,  -999.00,5,     1.39,2,    5.900,2,    2.890,2,    0.820,2,   2109.3,2,   2230.8,2,    9.600,2
18SN19940724,AO94,        7,        1,       22,   142853,2,19940729,2309,75.0050,-169.9883,252,     60.5,  -1.3260,  32.3593,2,    403.4,4,  -1.3272,  32.3884,2,    301.7,2,    28.06,2,    11.11,2,     0.02,2,     1.67,2,    3.180,2,    1.850,2,    0.390,2,   2166.6,2,   2260.3,2,    3.650,2
18SN19940724,AO94,        7,        1,       21,   142852,2,19940729,2309,75.0050,-169.9883,252,     80.8,  -1.3731,  32.6604,2,    381.2,4,  -1.3747,  32.6711,2,    279.7,2,    38.05,2,    14.26,2,     0.02,2,     1.93,2,    5.540,2,    2.810,2,    0.720,2,   2188.6,2,   2271.8,2,    7.630,2
18SN19940724,AO94,        7,        1,       14,   142845,2,19940729,2309,75.0050,-169.9883,252,     91.1,  -1.4008,  32.8247,2,    366.2,4,  -1.4026,  32.8136,2,   -999.0,9,  -999.00,9,  -999.00,9,  -999.00,9,  -999.00,9, -999.000,9, -999.000,9, -999.000,9,   -999.0,9,   -999.0,9, -999.000,9
18SN19940724,AO94,        7,        1,        9,   142840,2,19940729,2309,75.0050,-169.9883,252,     91.1,  -1.4016,  32.8271,2,    366.1,4,  -1.4034,  32.8707,2,    269.8,2,    43.96,2,    15.81,2,     0.02,2,     2.07,2,    5.580,2,    2.820,2,    0.700,2,   -999.0,9,   -999.0,9,    7.380,2
18SN19940724,AO94,        7,        1,       10,   142841,2,19940729,2309,75.0050,-169.9883,252,     91.1,  -1.4017,  32.8280,2,    366.1,4,  -1.4035,  32.8681,2,   -999.0,9,  -999.00,9,  -999.00,9,  -999.00,9,  -999.00,9, -999.000,9, -999.000,9, -999.000,9,   -999.0,9,   -999.0,9, -999.000,9
18SN19940724,AO94,        7,        1,       11,   142842,2,19940729,2309,75.0050,-169.9883,252,     91.1,  -1.4018,  32.8280,2,    366.1,4,  -1.4036,  32.8570,2,   -999.0,9,  -999.00,9,  -999.00,9,  -999.00,9,  -999.00,9, -999.000,9, -999.000,9, -999.000,9,   -999.0,9,   -999.0,9, -999.000,9
18SN19940724,AO94,        7,        1,       12,   142843,2,19940729,2309,75.0050,-169.9883,252,     91.1,  -1.4011,  32.8265,2,    366.1,4,  -1.4029,  32.8334,2,   -999.0,9,  -999.00,9,  -999.00,9,  -999.00,9,  -999.00,9, -999.000,9, -999.000,9, -999.000,9,   -999.0,9,   -999.0,9, -999.000,9
18SN19940724,AO94,        7,        1,       13,   142844,2,19940729,2309,75.0050,-169.9883,252,     91.1,  -1.4009,  32.8256,2,    366.1,4,  -1.4027,  32.8452,2,   -999.0,9,  -999.00,9,  -999.00,9,  -999.00,9,  -999.00,9, -999.000,9, -999.000,9, -999.000,9,   -999.0,9,   -999.0,9, -999.000,9
18SN19940724,AO94,        7,        1,       18,   142849,2,19940729,2309,75.0050,-169.9883,252,     91.1,  -1.4025,  32.8307,2,    366.1,4,  -1.4043,  32.8124,2,   -999.0,9,  -999.00,9,  -999.00,9,  -999.00,9,  -999.00,9, -999.000,9, -999.000,9, -999.000,9,   -999.0,9,   -999.0,9, -999.000,9
18SN19940724,AO94,        7,        1,       15,   142846,2,19940729,2309,75.0050,-169.9883,252,     91.1,  -1.4009,  32.8249,2,    366.1,4,  -1.4027,  32.8415,2,   -999.0,9,  -999.00,9,  -999.00,9,  -999.00,9,  -999.00,9, -999.000,9, -999.000,9, -999.000,9,   -999.0,9,   -999.0,9, -999.000,9
18SN19940724,AO94,        7,        1,       16,   142847,2,19940729,2309,75.0050,-169.9883,252,     91.1,  -1.4013,  32.8266,2,    366.1,4,  -1.4031,  32.8194,2,   -999.0,9,  -999.00,9,  -999.00,9,  -999.00,9,  -999.00,9, -999.000,9, -999.000,9, -999.000,9,   -999.0,9,   -999.0,9, -999.000,9
18SN19940724,AO94,        7,        1,       17,   142848,2,19940729,2309,75.0050,-169.9883,252,     91.1,  -1.4021,  32.8295,2,    366.1,4,  -1.4039,  32.8030,2,   -999.0,9,  -999.00,9,  -999.00,9,  -999.00,9,  -999.00,9, -999.000,9, -999.000,9, -999.000,9,   -999.0,9,   -999.0,9, -999.000,9
18SN19940724,AO94,        7,        1,       20,   142851,2,19940729,2309,75.0050,-169.9883,252,     91.1,  -1.4007,  32.8247,2,    366.1,4,  -1.4025,  32.8193,2,   -999.0,9,  -999.00,9,  -999.00,9,  -999.00,9,  -999.00,9, -999.000,9, -999.000,9, -999.000,9,   -999.0,9,   -999.0,9, -999.000,9
18SN19940724,AO94,        7,        1,       19,   142850,2,19940729,2309,75.0050,-169.9883,252,     91.1,  -1.4022,  32.8291,2,    366.1,4,  -1.4040,  32.8240,2,   -999.0,9,  -999.00,9,  -999.00,9,  -999.00,9,  -999.00,9, -999.000,9, -999.000,9, -999.000,9,   -999.0,9,   -999.0,9, -999.000,9
18SN19940724,AO94,        7,        1,        8,   142839,2,19940729,2309,75.0050,-169.9883,252,    101.1,  -1.4417,  33.0542,2,    354.0,4,  -1.4438,  33.1269,2,    253.1,2,    47.92,2,    17.32,2,     0.02,2,     2.19,2,    5.300,2,    2.550,2,    0.590,2,   2230.8,2,   2288.5,2,    6.360,2
18SN19940724,AO94,        7,        1,        7,   142838,2,19940729,2309,75.0050,-169.9883,252,    121.2,  -1.1286,  33.8368,2,    320.5,4,  -1.1316,  33.9072,2,    246.8,2,    33.42,2,    15.23,2,     0.02,2,     1.65,2,    4.150,2,    1.950,2,    0.350,2,   -999.0,9,   -999.0,9,    4.730,2
18SN19940724,AO94,        7,        1,        6,   142837,2,19940729,2309,75.0050,-169.9883,252,    141.4,  -1.2145,  34.2057,2,    327.1,4,  -1.2180,  34.2546,2,    276.1,2,    15.80,2,    11.50,2,     0.02,2,     1.02,2,    4.750,2,    2.190,2,    0.430,2,   -999.0,9,   -999.0,9,    5.480,2
18SN19940724,AO94,        7,        1,        5,   142836,2,19940729,2309,75.0050,-169.9883,252,    161.7,  -0.9505,  34.3949,2,    346.4,4,  -0.9550,  34.4034,2,    286.6,2,    11.01,2,    11.09,2,     0.01,2,     0.89,2,    4.830,2,    2.280,2,    0.420,2,   -999.0,9,   -999.0,9,    5.550,2
18SN19940724,AO94,        7,        1,        4,   142835,2,19940729,2309,75.0050,-169.9883,252,    181.8,  -0.6532,  34.4904,2,    340.4,4,  -0.6588,  34.5054,2,    286.9,2,    10.50,2,    11.31,2,     0.01,2,     0.88,2,    4.780,2,    2.210,2,    0.390,2,   2169.2,2,   2311.5,2,    6.000,2
18SN19940724,AO94,        7,        1,        3,   142834,2,19940729,2309,75.0050,-169.9883,252,    201.9,  -0.3881,  34.5689,2,    328.6,4,  -0.3949,  34.5804,2,    285.0,2,    10.69,2,    11.67,2,     0.01,2,     0.88,2,    4.870,2,    2.250,2,    0.390,2,   -999.0,9,   -999.0,9,    6.140,2
18SN19940724,AO94,        7,        1,        2,   142833,2,19940729,2309,75.0050,-169.9883,252,    232.2,  -0.1077,  34.6524,2,    317.7,4,  -0.1161,  34.6559,2,    275.3,2,    13.25,2,    12.39,2,     0.01,2,     0.91,2,    4.720,2,    2.190,2,    0.350,2,   2174.8,2,   2321.0,2,    6.030,2
18SN19940724,AO94,        7,        1,        1,   142832,2,19940729,2309,75.0050,-169.9883,252,    252.5,   0.0657,  34.6955,2,    303.4,4,   0.0561,  34.6941,2,    264.4,2,    17.52,2,    12.89,2,     0.02,2,     0.96,2,    4.760,2,    2.230,2,    0.370,2,   2185.2,2,   2325.2,2,    5.960,2