BOTTLE,20090717CCHDOSIODM
EXPOCODE,SECT_ID,STNNBR,CASTNO,SAMPNO,BTLNBR,BTLNBR_FLAG_W,DATE,TIME,LATITUDE,LONGITUDE,DEPTH,CTDPRS,CTDTMP,CTDSAL,CTDSAL_FLAG_W,CTDOXY,CTDOXY_FLAG_W,THETA,SALNTY,SALNTY_FLAG_W,OXYGEN,OXYGEN_FLAG_W,SILCAT,SILCAT_FLAG_W,NITRAT,NITRAT_FLAG_W,NITRIT,NITRIT_FLAG_W,PHSPHT,PHSPHT_FLAG_W,CFC-11,CFC-11_FLAG_W,CFC-12,CFC-12_FLAG_W,CFC113,CFC113_FLAG_W,TCARBN,TCARBN_FLAG_W,ALKALI,ALKALI_FLAG_W,CCL4,CCL4_FLAG_W
,,,,,,,,,,,,DBAR,ITS-90,PSS-78,,UMOL/KG,,DEG C,PSS-78,,UMOL/KG,,UMOL/KG,,UMOL/KG,,UMOL/KG,,UMOL/KG,,PMOL/KG,,PMOL/KG,,PMOL/KG,,UMOL/KG,,UMOL/KG,,PMOL/KG,
18SN19940724,AO94,        9,        1,       33,   142930,2,19940731,0355,75.7467,-171.2350,1670,     13.3,  -1.5617,  31.0354,2,    388.5,4,  -1.5619,  31.0575,2,    386.9,2,     9.58,2,     1.44,2,     0.03,2,     0.97,2,    6.120,2,    2.930,2,    1.350,2,   2007.4,2,   2178.2,2,   11.800,2
18SN19940724,AO94,        9,        1,       32,   142929,2,19940731,0355,75.7467,-171.2350,1670,     23.5,  -1.5674,  31.1792,2,    380.7,4,  -1.5677,  31.2564,2,    381.0,2,    10.06,2,     1.78,2,     0.03,2,     1.00,2,    6.140,2,    2.920,2,    0.880,2,   2025.4,2,   2189.7,2,   11.280,2
18SN19940724,AO94,        9,        1,       31,   142928,2,19940731,0355,75.7467,-171.2350,1670,     38.6,  -1.6395,  31.6907,2,    357.6,4,  -1.6401,  31.7121,2,    339.6,2,    14.94,2,     5.48,2,     0.08,2,     1.28,2,    6.030,2,    3.090,2,    1.220,2,   2076.7,2,   2209.9,2,   11.550,2
18SN19940724,AO94,        9,        1,       30,   142927,2,19940731,0355,75.7467,-171.2350,1670,     48.8,  -1.4986,  31.9029,2,    349.2,4,  -1.4994,  31.9717,2,    303.8,2,    24.35,2,    10.05,2,     0.01,2,     1.60,2,    5.710,2,    2.930,2,    0.870,2,   2112.8,2,   2220.3,2,   10.370,2
18SN19940724,AO94,        9,        1,       29,   142926,2,19940731,0355,75.7467,-171.2350,1670,     64.5,  -0.5768,  32.4452,2,    307.0,4,  -0.5785,  32.4879,2,    251.0,2,    43.78,2,    15.79,2,     0.01,2,     2.14,2,    5.460,2,    2.910,2,    1.030,2,   2184.4,2,   2244.1,2,    8.410,2
18SN19940724,AO94,        9,        1,       28,   142925,2,19940731,0355,75.7467,-171.2350,1670,     79.6,  -0.9314,  32.7019,2,    289.7,4,  -0.9333,  32.7059,2,    240.7,2,    48.30,2,    17.09,2,     0.01,2,     2.23,2,    5.200,2,    2.830,2, -999.000,9,   2208.0,2,   2254.7,2,    7.130,2
18SN19940724,AO94,        9,        1,       27,   142924,2,19940731,0355,75.7467,-171.2350,1670,     94.8,  -1.3665,  32.9477,2,    283.7,4,  -1.3685,  32.9699,2,    248.9,2,    53.62,2,    17.58,2,     0.01,2,     2.25,2,    5.210,2,    2.890,2,    0.900,2,   2225.1,2,   2271.4,2,    7.400,2
18SN19940724,AO94,        9,        1,       26,   142923,2,19940731,0355,75.7467,-171.2350,1670,    109.3,  -1.2598,  33.5883,2,    276.3,4,  -1.2624,  33.5792,2,    229.2,2,    46.77,2,    17.30,2,     0.01,2,     2.08,2,    4.040,2,    2.110,2,    0.840,2,   2250.7,2,   2298.2,2,    5.110,2
18SN19940724,AO94,        9,        1,       25,   142922,2,19940731,0355,75.7467,-171.2350,1670,    124.4,  -1.5455,  33.9764,2,    284.0,4,  -1.5482,  33.9948,2,    300.7,2,    11.19,2,     9.50,2,     0.01,2,     0.85,2,    5.010,2,    2.530,2,    0.710,2,   2159.0,2,   2302.1,2,    6.030,2
18SN19940724,AO94,        9,        1,       24,   142921,2,19940731,0355,75.7467,-171.2350,1670,    143.8,  -1.3855,  34.2048,2,    306.0,4,  -1.3889,  34.2094,2,    307.5,2,     7.39,2,     9.23,2,     0.01,2,     0.75,2,    4.860,2,    2.590,2, -999.000,9,   2153.0,2,   2307.9,2,    6.000,2
18SN19940724,AO94,        9,        1,       23,   142920,2,19940731,0355,75.7467,-171.2350,1670,    174.4,  -0.7010,  34.4106,2,    303.9,4,  -0.7062,  34.4038,2,    302.6,2,     7.44,2,    10.01,2,     0.01,2,     0.78,2,    4.580,2,    2.400,2, -999.000,9,   2157.4,2,   2311.8,2,    5.970,2
18SN19940724,AO94,        9,        1,       22,   142919,2,19940731,0355,75.7467,-171.2350,1670,    201.0,  -0.0269,  34.5487,2,    301.8,4,  -0.0343,  34.5477,2,    303.9,2,     6.57,2,    10.42,2,     0.01,2,     0.79,2,    4.650,2,    2.240,2,    0.860,2,   2155.6,2,   2318.6,2,    6.180,2
18SN19940724,AO94,        9,        1,       21,   142918,2,19940731,0355,75.7467,-171.2350,1670,    231.3,   0.4932,  34.6824,2,    301.0,4,   0.4836,  34.6799,2,    301.9,2,     6.45,2,    11.14,2,     0.00,2,     0.81,2,    4.150,2, -999.000,9, -999.000,9,   2152.4,2,   -999.0,9,    6.480,2
18SN19940724,AO94,        9,        1,       20,   142917,2,19940731,0355,75.7467,-171.2350,1670,    261.4,   0.7149,  34.7400,2,    301.2,4,   0.7035,  34.7451,2,    302.1,2,     6.28,2,    11.38,2,     0.01,2,     0.82,2,    4.140,2,    2.200,2, -999.000,9,   2153.4,2,   2319.5,2,    6.770,2
18SN19940724,AO94,        9,        1,       19,   142916,2,19940731,0355,75.7467,-171.2350,1670,    291.5,   0.8092,  34.7775,2,    302.4,4,   0.7961,  34.7767,2,    302.1,2,     6.28,2,    11.52,2,     0.01,2,     0.82,2,    4.210,2,    2.160,2,    0.560,2,   2152.9,2,   2321.6,2,    7.110,2
18SN19940724,AO94,        9,        1,       18,   142915,2,19940731,0355,75.7467,-171.2350,1670,    316.1,   0.8427,  34.8078,2,    302.8,4,   0.8284,  34.8066,2,    303.3,2,     6.32,2,    11.66,2,     0.00,2,     0.84,2,    3.930,2,    2.080,2,    0.970,2,   2143.4,2,   2325.7,2,    6.870,2
18SN19940724,AO94,        9,        1,       17,   142914,2,19940731,0355,75.7467,-171.2350,1670,    360.7,   0.7881,  34.8243,2,    304.1,4,   0.7717,  34.8234,2,    304.1,2,     6.37,2,    11.76,2,     0.00,2,     0.83,2,    4.190,2,    2.000,2,    0.530,2,   2153.2,2,   2324.5,2,    7.280,2
18SN19940724,AO94,        9,        1,       16,   142913,2,19940731,0355,75.7467,-171.2350,1670,    412.2,   0.7270,  34.8373,2,    303.6,4,   0.7083,  34.8344,2,    305.0,2,     6.31,2,    11.83,2,     0.00,2,     0.84,2,    3.980,2,    2.070,2, -999.000,9,   2155.2,2,   2323.5,2,    6.900,2
18SN19940724,AO94,        9,        1,       15,   142912,2,19940731,0355,75.7467,-171.2350,1670,    461.7,   0.6164,  34.8386,2,    304.6,4,   0.5957,  34.8381,2,    304.7,2,     6.41,2,    11.90,2,     0.00,2,     0.85,2,    3.970,2,    1.990,2,    0.470,2,   2153.8,2,   2326.2,2,    7.300,2
18SN19940724,AO94,        9,        1,       14,   142911,2,19940731,0355,75.7467,-171.2350,1670,    507.5,   0.5384,  34.8424,2,    305.2,4,   0.5158,  34.8434,2,    305.6,2,     6.46,2,    11.93,2,     0.00,2,     0.85,2,    4.000,2,    2.070,2,    0.450,2,   2154.9,2,   -999.0,9,    7.420,2
18SN19940724,AO94,        9,        1,       13,   142910,2,19940731,0355,75.7467,-171.2350,1670,    563.5,   0.4443,  34.8467,2,    306.5,4,   0.4194,  34.8436,2,    305.7,2,     6.51,2,    11.97,2,     0.00,2,     0.85,2,    3.990,2,    1.970,2,    0.470,2,   2156.6,2,   -999.0,9,    7.410,2
18SN19940724,AO94,        9,        1,       12,   142909,2,19940731,0355,75.7467,-171.2350,1670,    633.2,   0.3626,  34.8542,2,    306.8,4,   0.3345,  34.8542,2,    305.4,2,     6.66,2,    12.07,2,     0.00,2,     0.86,2,    3.670,2,    1.770,2, -999.000,9,   2157.1,2,   -999.0,9,    7.200,2
18SN19940724,AO94,        9,        1,       11,   142908,2,19940731,0355,75.7467,-171.2350,1670,    705.0,   0.2223,  34.8552,2,    306.0,4,   0.1914,  34.8547,2,    306.5,2,     6.71,2,    12.08,2,     0.00,2,     0.86,2,    3.780,2,    1.890,2,    0.460,2,   2156.2,2,   -999.0,9,    7.330,2
18SN19940724,AO94,        9,        1,       10,   142907,2,19940731,0355,75.7467,-171.2350,1670,    806.1,   0.0855,  34.8594,2,    306.5,4,   0.0504,  34.8606,2,    306.8,2,     6.70,2,    12.11,2,     0.00,2,     0.87,2,    3.790,2,    1.840,2,    0.410,2,   2160.1,2,   -999.0,9,    7.270,2
18SN19940724,AO94,        9,        1,        9,   142906,2,19940731,0355,75.7467,-171.2350,1670,    906.2,  -0.0016,  34.8685,2,    305.0,4,  -0.0413,  34.8692,2,    304.9,2,     7.08,2,    12.32,2,     0.00,2,     0.88,2,    3.160,2,    1.630,2,    0.290,2,   2159.8,2,   -999.0,9,    6.510,2
18SN19940724,AO94,        9,        1,        8,   142905,2,19940731,0355,75.7467,-171.2350,1670,   1008.6,  -0.1151,  34.8738,2,    303.9,4,  -0.1592,  34.8745,2,    305.7,2,     7.23,2,    12.35,2,     0.00,2,     0.88,2,    3.440,2,    1.660,2,    0.380,2,   2160.5,2,   -999.0,9,    6.910,2
18SN19940724,AO94,        9,        1,        7,   142904,2,19940731,0355,75.7467,-171.2350,1670,   1207.8,  -0.2714,  34.8882,2,    303.2,4,  -0.3248,  34.8888,2,    304.1,2,     7.98,2,    12.63,2,     0.00,2,     0.91,2,    2.590,2,    1.350,2,    0.240,2,   2161.7,2,   -999.0,9,    5.840,2
18SN19940724,AO94,        9,        1,        6,   142903,2,19940731,0355,75.7467,-171.2350,1670,   1412.1,  -0.3812,  34.9057,2,    301.2,4,  -0.4450,  34.9057,2,    302.7,2,     8.73,2,    13.04,2,     0.00,2,     0.94,2,    0.840,2, -999.000,9, -999.000,9,   2157.3,2,   -999.0,9,    4.170,2
18SN19940724,AO94,        9,        1,        5,   142902,2,19940731,0355,75.7467,-171.2350,1670,   1513.9,  -0.4268,  34.9134,2,    300.9,4,  -0.4960,  34.9134,2,    300.8,2,     9.48,2,    13.35,2,     0.00,2,     0.95,2,    1.140,2,    0.620,2,    0.000,2,   2160.9,2,   -999.0,9,    3.370,2
18SN19940724,AO94,        9,        1,        4,   142901,2,19940731,0355,75.7467,-171.2350,1670,   1615.8,  -0.4582,  34.9235,2,    298.0,4,  -0.5331,  34.9238,2,    297.2,2,    10.72,2,    13.76,2,     0.00,2,     0.98,2,    1.060,2,    0.510,2,    0.090,2,   -999.0,9,   -999.0,9,    2.620,2
18SN19940724,AO94,        9,        1,        1,   142898,2,19940731,0355,75.7467,-171.2350,1670,   1693.0,  -0.4387,  34.9416,2,    291.8,4,  -0.5187,  34.9398,2,    288.9,2,    13.15,2,    14.41,2,     0.00,2,     1.03,2,    0.330,2,    0.190,2,    0.030,2,   -999.0,9,   -999.0,9,    0.700,2
18SN19940724,AO94,        9,        1,        2,   142899,2,19940731,0355,75.7467,-171.2350,1670,   1693.1,  -0.4390,  34.9419,2,    291.8,4,  -0.5190,  34.9391,2,   -999.0,9,  -999.00,9,  -999.00,9,  -999.00,9,  -999.00,9, -999.000,9, -999.000,9, -999.000,9,   -999.0,9,   -999.0,9, -999.000,9
18SN19940724,AO94,        9,        1,        3,   142900,2,19940731,0355,75.7467,-171.2350,1670,   1693.2,  -0.4389,  34.9418,2,    291.8,4,  -0.5189,  34.9403,2,   -999.0,9,  -999.00,9,  -999.00,9,  -999.00,9,  -999.00,9, -999.000,9, -999.000,9, -999.000,9,   -999.0,9,   -999.0,9, -999.000,9
18SN19940724,AO94,       10,        1,       31,   142961,2,19940731,1740,75.9433,-171.6683,1877,     11.4,  -1.5511,  30.8849,2,    412.8,4,  -1.5512,  30.8588,2,    389.4,2,     7.81,2,     0.64,2,     0.02,2,     0.91,2,    6.490,2,    3.380,2, -999.000,9,   2000.5,2,   2173.5,2,   11.280,2
18SN19940724,AO94,       10,        1,       30,   142960,2,19940731,1740,75.9433,-171.6683,1877,     31.6,  -1.6113,  31.3933,2,     79.5,4,  -1.6118,  31.3849,2,    367.3,2,    10.45,2,     2.74,2,     0.08,2,     1.09,2,    6.290,2,    3.320,2,    1.070,2,   2053.2,2,   2206.0,2,   12.050,2
18SN19940724,AO94,       10,        1,       29,   142959,2,19940731,1740,75.9433,-171.6683,1877,     52.1,  -1.3734,  32.0233,2,     79.5,4,  -1.3743,  31.9822,2,    296.5,2,    27.35,2,    10.73,2,     0.02,2,     1.74,2,    6.090,2,    3.280,2, -999.000,9,   2121.6,2,   2220.6,2,    9.550,2
18SN19940724,AO94,       10,        1,       28,   142958,2,19940731,1740,75.9433,-171.6683,1877,     77.3,  -1.0708,  32.7514,2,     80.0,4,  -1.0726,  32.7093,2,    241.2,2,    48.24,2,    16.73,2,     0.01,2,     2.23,2,    5.430,2,    3.030,2,    0.880,2,   2206.0,2,   2254.6,2,    8.030,2
18SN19940724,AO94,       10,        1,       27,   142957,2,19940731,1740,75.9433,-171.6683,1877,     97.5,  -1.4052,  33.3100,2,    383.8,4,  -1.4072,  33.2287,2,    240.6,2,    46.39,2,    16.04,2,     0.01,2,     2.08,2,    5.280,2,    2.840,2, -999.000,9,   2231.6,2,   2286.8,2,    6.040,2
18SN19940724,AO94,       10,        1,       26,   142956,2,19940731,1740,75.9433,-171.6683,1877,    113.2,  -1.5769,  33.8856,2,    393.4,4,  -1.5792,  33.8682,2,    299.7,2,    13.11,2,     9.40,2,     0.01,2,     0.90,2,    5.270,2,    2.640,2,    0.690,2,   2166.9,2,   2299.4,2,    6.400,2
18SN19940724,AO94,       10,        1,       25,   142955,2,19940731,1740,75.9433,-171.6683,1877,    127.9,  -1.4522,  34.1281,2,    384.8,4,  -1.4551,  34.0951,2,    298.9,2,    10.85,2,     9.74,2,     0.01,2,     0.86,2,    5.280,2,    2.670,2, -999.000,9,   2160.9,2,   2305.0,2,    6.070,2
18SN19940724,AO94,       10,        1,       24,   142954,2,19940731,1740,75.9433,-171.6683,1877,    143.3,  -1.2860,  34.2587,2,    377.8,4,  -1.2896,  34.2247,2,    292.6,2,    11.04,2,    10.21,2,     0.01,2,     0.87,2,    4.820,2,    2.490,2,    0.600,2,   2163.2,2,   2306.3,2,    6.030,2
18SN19940724,AO94,       10,        1,       23,   142953,2,19940731,1740,75.9433,-171.6683,1877,    168.7,  -0.6790,  34.4209,2,    369.6,4,  -0.6841,  34.4025,2,    303.3,2,     7.15,2,     9.90,2,     0.01,2,     0.78,2,    5.060,2,    2.490,2, -999.000,9,   2156.7,2,   2312.2,2,    6.950,2
18SN19940724,AO94,       10,        1,       22,   142952,2,19940731,1740,75.9433,-171.6683,1877,    193.5,  -0.0707,  34.5406,2,    359.2,4,  -0.0777,  34.5323,2,    303.7,2,     6.40,2,    10.31,2,     0.01,2,     0.78,2,    4.610,2,    2.330,2,    0.570,2,   2152.2,2,   2324.0,2,    6.710,2
18SN19940724,AO94,       10,        1,       21,   142951,2,19940731,1740,75.9433,-171.6683,1877,    224.2,   0.4165,  34.6828,2,    346.2,4,   0.4073,  34.6742,2,    300.8,2,     6.34,2,    10.95,2,     0.01,2,     0.81,2,    4.410,2,    2.200,2, -999.000,9,   2150.3,2,   2320.7,2,    6.800,2
18SN19940724,AO94,       10,        1,       20,   142950,2,19940731,1740,75.9433,-171.6683,1877,    254.5,   0.7787,  34.7734,2,    338.9,4,   0.7674,  34.7603,2,    301.5,2,     6.16,2,    11.33,2,     0.01,2,     0.82,2,    4.300,2,    2.290,2,    0.560,2,   2149.5,2,   2317.9,2,    6.980,2
18SN19940724,AO94,       10,        1,       19,   142949,2,19940731,1740,75.9433,-171.6683,1877,    289.6,   0.8435,  34.8069,2,    334.2,4,   0.8305,  34.8032,2,    303.2,2,     5.91,2,    11.46,2,     0.01,2,     0.83,2,    4.560,2,    2.310,2, -999.000,9,   2150.0,2,   2323.1,2,    7.250,2
18SN19940724,AO94,       10,        1,       18,   142948,2,19940731,1740,75.9433,-171.6683,1877,    324.9,   0.7762,  34.8216,2,    330.7,4,   0.7616,  34.8164,2,    303.6,2,     6.10,2,    11.60,2,     0.00,2,     0.83,2,    4.240,2,    2.220,2,    0.540,2,   2148.6,2,   2324.8,2,    7.520,2
18SN19940724,AO94,       10,        1,       17,   142947,2,19940731,1740,75.9433,-171.6683,1877,    385.9,   0.6270,  34.8328,2,    324.3,4,   0.6100,  34.8270,2,    303.2,2,     6.30,2,    11.77,2,     0.00,2,     0.84,2,    4.050,2,    2.060,2, -999.000,9,   2152.3,2,   2322.4,2,    7.450,2
18SN19940724,AO94,       10,        1,       16,   142946,2,19940731,1740,75.9433,-171.6683,1877,    446.6,   0.5362,  34.8427,2,    319.5,4,   0.5165,  34.8385,2,    304.0,2,     6.30,2,    11.87,2,     0.00,2,     0.85,2,    3.810,2,    2.030,2,    0.470,2,   2151.8,2,   2324.5,2,    7.150,2
18SN19940724,AO94,       10,        1,       15,   142945,2,19940731,1740,75.9433,-171.6683,1877,    507.8,   0.4368,  34.8486,2,    314.0,4,   0.4146,  34.8444,2,    304.9,2,     6.37,2,    11.87,2,     0.00,2,     0.86,2,    4.070,2,    2.020,2, -999.000,9,   2154.7,2,   2324.8,2,    6.980,2
18SN19940724,AO94,       10,        1,       14,   142944,2,19940731,1740,75.9433,-171.6683,1877,    568.4,   0.3465,  34.8551,2,    314.2,4,   0.3217,  34.8517,2,    305.0,2,     6.50,2,    11.91,2,     0.00,2,     0.86,2,    3.720,2,    1.970,2,    0.450,2,   2156.4,2,   2329.6,2,    7.140,2
18SN19940724,AO94,       10,        1,       13,   142943,2,19940731,1740,75.9433,-171.6683,1877,    639.1,   0.2176,  34.8560,2,    308.9,4,   0.1900,  34.8524,2,    306.0,2,     6.76,2,    12.04,2,     0.00,2,     0.87,2,    3.950,2,    2.000,2, -999.000,9,   2156.9,2,   2330.1,2,    7.800,2
18SN19940724,AO94,       10,        1,       12,   142942,2,19940731,1740,75.9433,-171.6683,1877,    710.6,   0.1211,  34.8610,2,    306.4,4,   0.0906,  34.8573,2,    306.7,2,     6.76,2,    12.11,2,     0.00,2,     0.87,2,    3.920,2,    2.070,2,    0.540,2,   2162.2,2,   2330.4,2,    7.560,2
18SN19940724,AO94,       10,        1,       11,   142941,2,19940731,1740,75.9433,-171.6683,1877,    812.5,  -0.0006,  34.8659,2,    299.7,4,  -0.0355,  34.8636,2,    306.2,2,     6.71,2,    12.04,2,     0.00,2,     0.87,2,    3.720,2,    1.920,2, -999.000,9,   2161.8,2,   2327.5,2,    7.100,2
18SN19940724,AO94,       10,        1,       10,   142940,2,19940731,1740,75.9433,-171.6683,1877,    963.9,  -0.1358,  34.8779,2,    289.6,4,  -0.1774,  34.8745,2,    304.5,2,     7.09,2,    12.25,2,     0.00,2,     0.89,2,    2.860,2,    1.460,2,    0.330,2,   2161.2,2,   2332.4,2,    6.180,2
18SN19940724,AO94,       10,        1,        9,   142939,2,19940731,1740,75.9433,-171.6683,1877,   1116.3,  -0.2537,  34.8888,2,    281.3,4,  -0.3023,  34.8863,2,    303.8,2,     7.60,2,    12.45,2,     0.00,2,     0.91,2,    2.260,2,    1.330,2, -999.000,9,   2161.2,2,   2329.5,2,    5.450,2
18SN19940724,AO94,       10,        1,        8,   142938,2,19940731,1740,75.9433,-171.6683,1877,   1268.8,  -0.3386,  34.9010,2,    272.8,4,  -0.3947,  34.8980,2,    302.8,2,     8.18,2,    12.69,2,     0.00,2,     0.92,2,    1.790,2,    0.970,2,    0.180,2,   2160.4,2,   2334.6,2,    4.740,2
18SN19940724,AO94,       10,        1,        7,   142937,2,19940731,1740,75.9433,-171.6683,1877,   1421.0,  -0.4011,  34.9125,2,    264.9,4,  -0.4652,  34.9102,2,    301.4,2,     8.82,2,    13.00,2,     0.00,2,     0.95,2,    1.170,2, -999.000,9, -999.000,9,   2159.7,2,   2329.1,2,    3.120,2
18SN19940724,AO94,       10,        1,        6,   142936,2,19940731,1740,75.9433,-171.6683,1877,   1573.6,  -0.4577,  34.9220,2,    256.6,4,  -0.5301,  34.9191,2,    298.4,2,     9.96,2,    13.48,2,     0.00,2,     0.98,2,    0.780,2,    0.470,2,    0.100,2,   2160.4,2,   -999.0,9,    2.460,2
18SN19940724,AO94,       10,        1,        5,   142935,2,19940731,1740,75.9433,-171.6683,1877,   1726.0,  -0.4633,  34.9340,2,    247.6,4,  -0.5449,  34.9307,2,    294.2,2,    11.17,2,    13.86,2,     0.00,2,     1.01,2,    0.370,2,    0.240,2, -999.000,9,   2161.1,2,   2333.5,2,    1.750,2
18SN19940724,AO94,       10,        1,        4,   142934,2,19940731,1740,75.9433,-171.6683,1877,   1827.8,  -0.4460,  34.9421,2,    240.7,4,  -0.5344,  34.9400,2,    290.4,2,    12.32,2,    14.16,2,     0.00,2,     1.04,2,    0.300,2,    0.160,2,    0.070,2,   2160.8,2,   2330.7,2,    0.970,2
18SN19940724,AO94,       10,        1,        1,   142931,2,19940731,1740,75.9433,-171.6683,1877,   1906.8,  -0.4074,  34.9512,2,    229.8,4,  -0.5015,  34.9488,2,    282.4,2,    15.13,2,    14.60,2,     0.01,2,     1.07,2,    0.000,2,    0.210,2, -999.000,9,   2164.4,2,   2336.6,2,    0.140,2
18SN19940724,AO94,       10,        1,        2,   142932,2,19940731,1740,75.9433,-171.6683,1877,   1906.9,  -0.4074,  34.9511,2,    229.8,4,  -0.5015,  34.9492,2,   -999.0,9,  -999.00,9,  -999.00,9,  -999.00,9,  -999.00,9, -999.000,9, -999.000,9, -999.000,9,   -999.0,9,   -999.0,9, -999.000,9
18SN19940724,AO94,       10,        1,        3,   142933,2,19940731,1740,75.9433,-171.6683,1877,   1907.0,  -0.4073,  34.9510,2,    225.7,4,  -0.5014,  34.9501,2,   -999.0,9,  -999.00,9,  -999.00,9,  -999.00,9,  -999.00,9,    0.060,2,    0.000,2,    0.040,2,   -999.0,9,   -999.0,9,    0.480,2