BOTTLE,20090717CCHDOSIODM
EXPOCODE,SECT_ID,STNNBR,CASTNO,SAMPNO,BTLNBR,BTLNBR_FLAG_W,DATE,TIME,LATITUDE,LONGITUDE,DEPTH,CTDPRS,CTDTMP,CTDSAL,CTDSAL_FLAG_W,CTDOXY,CTDOXY_FLAG_W,THETA,SALNTY,SALNTY_FLAG_W,OXYGEN,OXYGEN_FLAG_W,SILCAT,SILCAT_FLAG_W,NITRAT,NITRAT_FLAG_W,NITRIT,NITRIT_FLAG_W,PHSPHT,PHSPHT_FLAG_W,CFC-11,CFC-11_FLAG_W,CFC-12,CFC-12_FLAG_W,CFC113,CFC113_FLAG_W,TCARBN,TCARBN_FLAG_W,ALKALI,ALKALI_FLAG_W,CCL4,CCL4_FLAG_W
,,,,,,,,,,,,DBAR,ITS-90,PSS-78,,UMOL/KG,,DEG C,PSS-78,,UMOL/KG,,UMOL/KG,,UMOL/KG,,UMOL/KG,,UMOL/KG,,PMOL/KG,,PMOL/KG,,PMOL/KG,,UMOL/KG,,UMOL/KG,,PMOL/KG,
18SN19940724,AO94,       18,        1,       36,   143278,2,19940806,1219,80.1467,-173.2517,2635,     12.5,  -1.6400,  31.0532,2,    383.3,4,  -1.6402,  31.0556,2,    381.0,2,    11.25,2,     0.77,2,     0.04,2,     0.96,2,    6.240,2,    3.250,2,    1.160,2,   2059.3,2,   2196.4,2,   11.050,2
18SN19940724,AO94,       18,        1,       35,   143277,2,19940806,1219,80.1467,-173.2517,2635,     27.8,  -1.6379,  31.0552,2,    375.2,4,  -1.6383,  31.0573,2,    381.1,2,    11.60,2,     0.81,2,     0.03,2,     0.97,2,    6.380,2,    3.150,2,    0.760,2,   2059.5,2,   2196.0,2,   11.390,2
18SN19940724,AO94,       18,        1,       34,   143276,2,19940806,1219,80.1467,-173.2517,2635,     48.0,  -1.6548,  31.3247,2,    366.7,4,  -1.6555,  31.3379,2,    373.3,2,    12.41,2,     1.77,2,     0.04,2,     1.02,2,    6.270,2,    3.260,2,    1.370,2,   2086.0,2,   2217.4,2,   10.940,2
18SN19940724,AO94,       18,        1,       33,   143275,2,19940806,1219,80.1467,-173.2517,2635,     54.8,  -1.6917,  31.5913,2,    361.6,4,  -1.6925,  31.5979,2,    361.4,2,    13.35,2,     3.08,2,     0.02,2,     1.05,2,    6.460,2,    3.340,2,    1.150,2,   2100.4,2,   2230.5,2,   10.360,2
18SN19940724,AO94,       18,        1,       32,   143274,2,19940806,1219,80.1467,-173.2517,2635,     62.0,  -1.6824,  31.8967,2,    345.9,4,  -1.6834,  31.9204,2,    347.1,2,    14.68,2,     4.51,2,     0.01,2,     1.07,2,    5.980,2,    3.060,2,    1.010,2,   2117.4,2,   2236.2,2,    9.330,2
18SN19940724,AO94,       18,        1,       31,   143273,2,19940806,1219,80.1467,-173.2517,2635,     69.1,  -1.6539,  32.3950,2,    329.7,4,  -1.6551,  32.4327,2,    323.9,2,    17.70,2,     7.19,2,     0.01,2,     1.15,2,    6.050,2,    3.130,2,    0.570,2,   2140.7,2,   2252.2,2,    8.340,2
18SN19940724,AO94,       18,        1,       30,   143272,2,19940806,1219,80.1467,-173.2517,2635,     76.2,  -1.6331,  32.9844,2,    311.5,4,  -1.6345,  33.0007,2,    306.0,2,    19.41,2,     9.44,2,     0.01,2,     1.17,2,    5.430,2,    2.790,2,    0.810,2,   2159.8,2,   2267.8,2,    6.750,2
18SN19940724,AO94,       18,        1,       29,   143271,2,19940806,1219,80.1467,-173.2517,2635,     83.3,  -1.6266,  33.3766,2,    301.0,4,  -1.6282,  33.3662,2,    301.6,2,    18.16,2,     9.93,2,     0.01,2,     1.09,2,    5.300,2,    2.560,2,    0.110,2,   2171.1,2,   2281.3,2,    6.440,2
18SN19940724,AO94,       18,        1,       28,   143270,2,19940806,1219,80.1467,-173.2517,2635,     90.6,  -1.6190,  33.5988,2,    301.7,4,  -1.6208,  33.5807,2,    303.1,2,    15.38,2,     9.49,2,     0.01,2,     0.99,2,    5.120,2,    2.530,2,    0.710,2,   2170.9,2,   2300.8,2,    6.290,2
18SN19940724,AO94,       18,        1,       27,   143269,2,19940806,1219,80.1467,-173.2517,2635,     98.4,  -1.5993,  33.7714,2,    305.1,4,  -1.6014,  33.7499,2,    302.3,2,    13.30,2,     9.38,2,     0.01,2,     0.93,2,    5.270,2,    2.610,2,    0.800,2,   2168.1,2,   2293.8,2,    6.520,2
18SN19940724,AO94,       18,        1,       26,   143268,2,19940806,1219,80.1467,-173.2517,2635,    108.8,  -1.5592,  33.9882,2,    303.3,4,  -1.5615,  33.9644,2,    304.1,2,     9.83,2,     9.23,2,     0.01,2,     0.83,2,    5.020,2,    2.500,2,    0.680,2,   2160.6,2,   2299.4,2,    6.440,2
18SN19940724,AO94,       18,        1,       25,   143267,2,19940806,1219,80.1467,-173.2517,2635,    119.0,  -1.5140,  34.1004,2,    303.9,4,  -1.5166,  34.0828,2,    304.2,2,     8.70,2,     9.47,2,     0.00,2,     0.80,2,    4.860,2,    2.500,2,    0.540,2,   2159.3,2,   2298.3,2,    6.220,2
18SN19940724,AO94,       18,        1,       24,   143266,2,19940806,1219,80.1467,-173.2517,2635,    128.8,  -1.4602,  34.1776,2,    304.0,4,  -1.4632,  34.1581,2,    303.6,2,     8.22,2,     9.61,2,     0.00,2,     0.80,2,    4.500,2,    2.210,2,    0.470,2,   2160.5,2,   2297.1,2,    5.900,2
18SN19940724,AO94,       18,        1,       23,   143265,2,19940806,1219,80.1467,-173.2517,2635,    144.5,  -1.3113,  34.2802,2,    302.8,4,  -1.3148,  34.2886,2,    302.9,2,     7.46,2,     9.82,2,     0.00,2,     0.79,2,    4.550,2,    2.340,2,    0.570,2,   2158.6,2,   2300.5,2,    5.800,2
18SN19940724,AO94,       18,        1,       22,   143264,2,19940806,1219,80.1467,-173.2517,2635,    164.1,  -0.8479,  34.4198,2,    299.9,4,  -0.8526,  34.4104,2,    300.8,2,     7.35,2,    10.24,2,     0.00,2,     0.80,2,    3.840,2,    1.820,2,    0.630,2,   2159.7,2,   2306.3,2,    5.610,2
18SN19940724,AO94,       18,        1,       21,   143263,2,19940806,1219,80.1467,-173.2517,2635,    194.8,  -0.3797,  34.5553,2,    293.6,4,  -0.3863,  34.5416,2,    299.0,2,     7.24,2,    10.80,2,     0.00,2,     0.82,2,    3.480,2,    1.780,2,    0.200,2,   2158.6,2,   2310.1,2,    5.900,2
18SN19940724,AO94,       18,        1,       20,   143262,2,19940806,1219,80.1467,-173.2517,2635,    225.2,  -0.0597,  34.6636,2,    293.7,4,  -0.0680,  34.6606,2,    296.1,2,     7.45,2,    11.50,2,     0.00,2,     0.85,2,    3.150,2,    1.530,2,    0.220,2,   2156.6,2,   2314.8,2,    5.560,2
18SN19940724,AO94,       18,        1,       19,   143261,2,19940806,1219,80.1467,-173.2517,2635,    264.9,   0.2664,  34.7507,2,    295.5,4,   0.2558,  34.7465,2,    297.8,2,     6.97,2,    11.82,2,     0.00,2,     0.86,2,    3.050,2,    1.610,2,    0.300,2,   2152.0,2,   2315.0,2,    5.920,2
18SN19940724,AO94,       18,        1,       18,   143260,2,19940806,1219,80.1467,-173.2517,2635,    315.4,   0.4213,  34.8029,2,    298.0,4,   0.4081,  34.8062,2,    298.0,2,     6.91,2,    12.13,2,     0.00,2,     0.87,2,    2.860,2,    1.440,2,    0.160,2,   2152.5,2,   -999.0,9,    5.920,2
18SN19940724,AO94,       18,        1,       17,   143259,2,19940806,1219,80.1467,-173.2517,2635,    365.8,   0.4822,  34.8317,2,    299.8,4,   0.4665,  34.8316,2,    299.8,2,     6.80,2,    12.27,2,     0.00,2,     0.87,2,    2.660,2,    1.530,2,    0.110,2,   2154.4,2,   2322.4,2,    6.020,2
18SN19940724,AO94,       18,        1,       16,   143258,2,19940806,1219,80.1467,-173.2517,2635,    427.3,   0.4151,  34.8415,2,    299.9,4,   0.3967,  34.8379,2,    298.7,2,     6.97,2,    12.40,2,     0.00,2,     0.88,2,    2.390,2,    1.150,2,    0.110,2,   2158.1,2,   2323.5,2,    5.480,2
18SN19940724,AO94,       18,        1,       15,   143257,2,19940806,1219,80.1467,-173.2517,2635,    507.9,   0.3957,  34.8619,2,    300.5,4,   0.3736,  34.8617,2,    296.3,2,     7.55,2,    12.71,2,     0.00,2,     0.91,2,    1.440,2,    0.970,2,    0.070,2,   2155.4,2,   2324.6,2,    3.600,2
18SN19940724,AO94,       18,        1,       14,   143256,2,19940806,1219,80.1467,-173.2517,2635,    609.7,   0.2630,  34.8712,2,    301.5,4,   0.2366,  34.8753,2,    297.6,2,     7.63,2,    12.77,2,     0.00,2,     0.92,2,    1.460,2,    0.630,2,    0.100,2,   2163.0,2,   2327.5,2,    3.780,2
18SN19940724,AO94,       18,        1,       13,   143255,2,19940806,1219,80.1467,-173.2517,2635,    735.8,   0.0159,  34.8698,2,    305.6,4,  -0.0153,  34.8713,2,    302.6,2,     7.20,2,    12.55,2,     0.00,2,     0.90,2,    2.220,2,    1.310,2,    0.250,2,   -999.0,9,   -999.0,9,    5.400,2
18SN19940724,AO94,       18,        1,       12,   143254,2,19940806,1219,80.1467,-173.2517,2635,    862.5,  -0.1087,  34.8793,2,    305.9,4,  -0.1453,  34.8802,2,    302.7,2,     7.41,2,    12.65,2,     0.00,2,     0.92,2,    2.200,2,    1.050,2,    0.150,2,   2158.6,2,   2324.5,2,    5.200,2
18SN19940724,AO94,       18,        1,       11,   143253,2,19940806,1219,80.1467,-173.2517,2635,   1066.2,  -0.2552,  34.8936,2,    302.9,4,  -0.3012,  34.8941,2,    303.1,2,     7.90,2,    12.79,2,     0.00,2,     0.93,2,    1.630,2,    1.140,2,    0.260,2,   2161.3,2,   2327.0,2,    5.000,2
18SN19940724,AO94,       18,        1,       10,   143252,2,19940806,1219,80.1467,-173.2517,2635,   1269.3,  -0.3536,  34.9078,2,    299.4,4,  -0.4097,  34.9075,2,    301.7,2,     8.53,2,    13.17,2,     0.00,2,     0.95,2,    1.300,2,    0.550,2,    0.060,2,   2155.8,2,   2327.0,2,    3.600,2
18SN19940724,AO94,       18,        1,        9,   143251,2,19940806,1219,80.1467,-173.2517,2635,   1473.1,  -0.4031,  34.9224,2,    296.9,4,  -0.4702,  34.9229,2,    298.4,2,     9.80,2,    13.66,2,     0.00,2,     0.99,2,    0.600,2,    0.470,2,    0.000,2,   2158.6,2,   2327.3,2,    2.520,2
18SN19940724,AO94,       18,        1,        8,   143250,2,19940806,1219,80.1467,-173.2517,2635,   1599.9,  -0.4197,  34.9317,2,    294.3,4,  -0.4942,  34.9315,2,    295.3,2,    10.84,2,    13.97,2,     0.00,2,     1.01,2,    0.380,2,    0.130,2,    0.020,2,   2154.6,2,   -999.0,9,    1.150,2
18SN19940724,AO94,       18,        1,        7,   143249,2,19940806,1219,80.1467,-173.2517,2635,   1727.6,  -0.4228,  34.9391,2,    292.0,4,  -0.5051,  34.9392,2,    292.7,2,    11.56,2,    14.14,2,     0.00,2,     1.03,2,    0.230,2,    0.170,2,    0.060,2,   2159.9,2,   2328.6,2,    1.550,2
18SN19940724,AO94,       18,        1,        6,   143248,2,19940806,1219,80.1467,-173.2517,2635,   1931.3,  -0.4211,  34.9458,2,    289.4,4,  -0.5166,  34.9465,2,    289.5,2,    12.65,2,    14.38,2,     0.00,2,     1.05,2,    0.130,2,    0.080,2,    0.030,2,   2160.5,2,   -999.0,9,    0.430,2
18SN19940724,AO94,       18,        1,        5,   143247,2,19940806,1219,80.1467,-173.2517,2635,   2134.8,  -0.4091,  34.9504,2,    287.0,4,  -0.5186,  34.9502,2,    287.4,2,    13.32,2,    14.58,2,     0.00,2,     1.05,2,    0.070,2,    0.000,2,    0.070,2,   2161.6,2,   -999.0,9,    0.200,2
18SN19940724,AO94,       18,        1,        4,   143246,2,19940806,1219,80.1467,-173.2517,2635,   2339.0,  -0.3926,  34.9538,2,    286.1,4,  -0.5170,  34.9533,2,    285.9,2,    13.71,2,    14.64,2,     0.00,2,     1.06,2,    0.070,2,    0.030,2,    0.020,2,   2159.9,2,   2330.1,2,    0.130,2
18SN19940724,AO94,       18,        1,        3,   143245,2,19940806,1219,80.1467,-173.2517,2635,   2491.4,  -0.3793,  34.9548,2,    285.1,4,  -0.5152,  34.9545,2,    285.6,2,    13.88,2,    14.60,2,     0.00,2,     1.06,2,    0.070,2,    0.000,2,    0.000,2,   2163.7,2,   -999.0,9,    0.230,2
18SN19940724,AO94,       18,        1,        2,   143244,2,19940806,1219,80.1467,-173.2517,2635,   2619.0,  -0.3686,  34.9562,2,    285.1,4,  -0.5145,  34.9551,2,    284.9,2,    13.90,2,    14.59,2,     0.00,2,     1.06,2,    0.130,2,    0.080,2,    0.090,2,   -999.0,9,   -999.0,9,    0.170,2
18SN19940724,AO94,       18,        1,        1,   143243,2,19940806,1219,80.1467,-173.2517,2635,   2695.0,  -0.3621,  34.9553,2,    285.1,4,  -0.5141,  34.9560,2,    284.8,2,    13.93,2,    14.62,2,     0.00,2,     1.06,2,    0.090,2,    0.000,2,    0.050,2,   2161.5,2,   2331.2,2,    0.750,2