BOTTLE,20090717CCHDOSIODM
EXPOCODE,SECT_ID,STNNBR,CASTNO,SAMPNO,BTLNBR,BTLNBR_FLAG_W,DATE,TIME,LATITUDE,LONGITUDE,DEPTH,CTDPRS,CTDTMP,CTDSAL,CTDSAL_FLAG_W,CTDOXY,CTDOXY_FLAG_W,THETA,SALNTY,SALNTY_FLAG_W,OXYGEN,OXYGEN_FLAG_W,SILCAT,SILCAT_FLAG_W,NITRAT,NITRAT_FLAG_W,NITRIT,NITRIT_FLAG_W,PHSPHT,PHSPHT_FLAG_W,CFC-11,CFC-11_FLAG_W,CFC-12,CFC-12_FLAG_W,CFC113,CFC113_FLAG_W,TCARBN,TCARBN_FLAG_W,ALKALI,ALKALI_FLAG_W,CCL4,CCL4_FLAG_W
,,,,,,,,,,,,DBAR,ITS-90,PSS-78,,UMOL/KG,,DEG C,PSS-78,,UMOL/KG,,UMOL/KG,,UMOL/KG,,UMOL/KG,,UMOL/KG,,PMOL/KG,,PMOL/KG,,PMOL/KG,,UMOL/KG,,UMOL/KG,,PMOL/KG,
18SN19940724,AO94,       11,        1,       36,   142997,2,19940801,1054,76.6233,-173.3233,2218,     13.2,  -1.5694,  30.9508,2,    547.5,4,  -1.5696,  31.0098,2,    379.4,2,     7.95,2,     1.14,2,     0.02,2,     1.00,2,    6.290,2,    3.350,2,    1.020,2,   2017.6,2,   2179.5,2,   12.080,2
18SN19940724,AO94,       11,        1,       35,   142996,2,19940801,1054,76.6233,-173.3233,2218,     27.9,  -1.6349,  31.4214,2,    505.0,4,  -1.6353,  31.4257,2,    363.0,2,     9.57,2,     3.01,2,     0.06,2,     1.15,2,    6.250,2,    3.340,2,    0.970,2,   2053.0,2,   2197.4,2,   11.260,2
18SN19940724,AO94,       11,        1,       34,   142995,2,19940801,1054,76.6233,-173.3233,2218,     48.6,  -1.6768,  31.5715,2,    462.2,4,  -1.6775,  31.5810,2,    345.9,2,    12.44,2,     4.94,2,     0.03,2,     1.32,2,    6.250,2,    3.320,2,    1.070,2,   2064.1,2,   2199.2,2,   11.610,2
18SN19940724,AO94,       11,        1,       33,   142994,2,19940801,1054,76.6233,-173.3233,2218,     68.7,  -1.3053,  32.2480,2,    388.5,4,  -1.3067,  32.2075,2,    279.8,2,    34.01,2,    12.44,2,     0.02,2,     1.94,2,    5.760,2,    3.150,2,    1.080,2,   2153.0,2,   2234.9,2,    8.250,2
18SN19940724,AO94,       11,        1,       32,   142993,2,19940801,1054,76.6233,-173.3233,2218,     89.3,  -1.2920,  32.9045,2,    332.2,4,  -1.2939,  32.8247,2,    243.3,2,    47.88,2,    16.20,2,     0.02,2,     2.22,2, -999.000,9, -999.000,9, -999.000,9,   2220.7,2,   2265.6,2, -999.000,9
18SN19940724,AO94,       11,        1,       31,   142992,2,19940801,1054,76.6233,-173.3233,2218,    102.3,  -1.3863,  33.4172,2,    315.0,4,  -1.3885,  33.3407,2,    240.9,2,    43.53,2,    15.87,2,     0.02,2,     2.01,2,    4.830,2,    2.530,2,    0.430,2,   2238.1,2,   2284.1,2,    5.480,2
18SN19940724,AO94,       11,        1,       30,   142991,2,19940801,1054,76.6233,-173.3233,2218,    115.1,  -1.3152,  33.8775,2,    330.1,4,  -1.3179,  33.8059,2,    261.2,2,    28.30,2,    13.26,2,     0.01,2,     1.44,2,    4.320,2,    2.280,2,    0.390,2,   2211.8,2,   2302.4,2,    4.710,2
18SN19940724,AO94,       11,        1,       29,   142990,2,19940801,1054,76.6233,-173.3233,2218,    126.9,  -1.1316,  34.0376,2,    330.7,4,  -1.1348,  34.0885,2,    229.4,2,    35.16,2,    15.72,2,     0.01,2,     1.67,2,    3.780,2,    1.940,2,    0.340,2,   2234.2,2,   2307.7,2,    4.200,2
18SN19940724,AO94,       11,        1,       28,   142989,2,19940801,1054,76.6233,-173.3233,2218,    139.9,  -0.9833,  34.3084,2,    305.1,4,  -0.9871,  34.2846,2,    234.4,2,    28.14,2,    14.34,2,     0.01,2,     1.40,2, -999.000,9, -999.000,9, -999.000,9,   2221.2,2,   2303.8,2, -999.000,9
18SN19940724,AO94,       11,        1,       27,   142988,2,19940801,1054,76.6233,-173.3233,2218,    155.6,  -0.8243,  34.4154,2,    320.0,4,  -0.8288,  34.3951,2,    284.2,2,    12.55,2,    11.21,2,     0.01,2,     0.94,2,    4.130,2,    2.030,2,    0.330,2,   -999.0,9,   -999.0,9,    5.570,2
18SN19940724,AO94,       11,        1,       26,   142987,2,19940801,1054,76.6233,-173.3233,2218,    164.2,  -0.7507,  34.4324,2,    337.2,4,  -0.7556,  34.4267,2,    294.6,2,     9.20,2,    10.62,2,     0.01,2,     0.85,2,    3.970,2,    2.030,2,    0.280,2,   2167.9,2,   2310.0,2,    5.330,2
18SN19940724,AO94,       11,        1,       25,   142986,2,19940801,1054,76.6233,-173.3233,2218,    180.4,  -0.4568,  34.5108,2,    354.0,4,  -0.4627,  34.5052,2,    296.9,2,     8.20,2,    10.72,2,     0.01,2,     0.84,2,    4.090,2,    1.980,2,    0.310,2,   2162.0,2,   2312.9,2,    5.600,2
18SN19940724,AO94,       11,        1,       24,   142985,2,19940801,1054,76.6233,-173.3233,2218,    190.0,  -0.2898,  34.5522,2,    354.2,4,  -0.2963,  34.5384,2,    296.9,2,     7.98,2,    10.82,2,     0.01,2,     0.83,2,    3.820,2,    1.910,2,    0.260,2,   2162.5,2,   2311.0,2,    5.450,2
18SN19940724,AO94,       11,        1,       23,   142984,2,19940801,1054,76.6233,-173.3233,2218,    210.2,   0.0026,  34.6297,2,    350.9,4,  -0.0052,  34.6230,2,    296.5,2,     7.70,2,    11.17,2,     0.01,2,     0.84,2,    3.900,2,    1.910,2,    0.180,2,   2161.2,2,   2315.3,2,    6.160,2
18SN19940724,AO94,       11,        1,       22,   142983,2,19940801,1054,76.6233,-173.3233,2218,    246.3,   0.2953,  34.7165,2,    347.2,4,   0.2855,  34.7143,2,    298.6,2,     7.03,2,    11.48,2,     0.01,2,     0.84,2,    3.680,2,    1.860,2,    0.260,2,   2154.9,2,   2317.3,2,    6.130,2
18SN19940724,AO94,       11,        1,       21,   142982,2,19940801,1054,76.6233,-173.3233,2218,    286.4,   0.4906,  34.7865,2,    342.6,4,   0.4785,  34.7891,2,    300.6,2,     6.75,2,    11.79,2,     0.01,2,     0.85,2,    3.810,2,    1.830,2, -999.000,9,   2156.5,2,   2324.9,2,    6.350,2
18SN19940724,AO94,       11,        1,       20,   142981,2,19940801,1054,76.6233,-173.3233,2218,    316.9,   0.5350,  34.8107,2,    341.1,4,   0.5214,  34.8102,2,    301.6,2,     6.60,2,    11.86,2,     0.01,2,     0.85,2,    3.530,2,    1.760,2,    0.280,2,   2155.5,2,   2320.1,2,    6.590,2
18SN19940724,AO94,       11,        1,       19,   142980,2,19940801,1054,76.6233,-173.3233,2218,    357.1,   0.5185,  34.8189,2,    332.9,4,   0.5031,  34.8163,2,    299.8,2,     6.90,2,    12.00,2,     0.00,2,     0.87,2,    3.330,2,    1.570,2, -999.000,9,   2158.6,2,   2326.6,2,    5.710,2
18SN19940724,AO94,       11,        1,       18,   142979,2,19940801,1054,76.6233,-173.3233,2218,    397.7,   0.4943,  34.8306,2,    328.7,4,   0.4771,  34.8301,2,    301.1,2,     6.75,2,    12.06,2,     0.00,2,     0.87,2,    3.150,2,    1.680,2,    0.220,2,   2158.1,2,   2323.5,2,    6.440,2
18SN19940724,AO94,       11,        1,       17,   142978,2,19940801,1054,76.6233,-173.3233,2218,    458.5,   0.4148,  34.8401,2,    321.8,4,   0.3950,  34.8403,2,    300.0,2,     6.98,2,    12.17,2,     0.00,2,     0.87,2,    2.960,2,    1.410,2, -999.000,9,   2160.0,2,   2328.5,2,    5.670,2
18SN19940724,AO94,       11,        1,       16,   142977,2,19940801,1054,76.6233,-173.3233,2218,    559.9,   0.3393,  34.8581,2,    315.5,4,   0.3150,  34.8579,2,    301.5,2,     7.02,2,    12.27,2,     0.00,2,     0.88,2,    2.590,2,    1.360,2,    0.120,2,   2157.0,2,   2328.3,2,    5.680,2
18SN19940724,AO94,       11,        1,       15,   142976,2,19940801,1054,76.6233,-173.3233,2218,    661.6,   0.1900,  34.8624,2,    308.9,4,   0.1614,  34.8622,2,    305.0,2,     6.94,2,    12.19,2,     0.00,2,     0.88,2,    3.730,2,    1.760,2, -999.000,9,   2163.8,2,   2329.5,2,    6.300,2
18SN19940724,AO94,       11,        1,       14,   142975,2,19940801,1054,76.6233,-173.3233,2218,    762.4,   0.0627,  34.8674,2,    300.5,4,   0.0300,  34.8665,2,    303.6,2,     7.17,2,    12.33,2,     0.00,2,     0.89,2,    2.780,2,    1.370,2,    0.210,2,   2161.7,2,   2329.0,2,    6.140,2
18SN19940724,AO94,       11,        1,       13,   142974,2,19940801,1054,76.6233,-173.3233,2218,    864.4,  -0.0565,  34.8735,2,    295.4,4,  -0.0936,  34.8734,2,    304.1,2,     7.35,2,    12.39,2,     0.00,2,     0.90,2,    2.970,2,    1.430,2, -999.000,9,   2168.0,2,   2326.2,2,    5.740,2
18SN19940724,AO94,       11,        1,       12,   142973,2,19940801,1054,76.6233,-173.3233,2218,   1016.8,  -0.1898,  34.8827,2,    285.9,4,  -0.2337,  34.8837,2,    304.1,2,     7.64,2,    12.53,2,     0.00,2,     0.91,2,    2.260,2,    1.100,2,    0.170,2,   2165.4,2,   2326.9,2,    5.370,2
18SN19940724,AO94,       11,        1,       11,   142972,2,19940801,1054,76.6233,-173.3233,2218,   1169.1,  -0.2859,  34.8905,2,    278.7,4,  -0.3371,  34.8945,2,    303.3,2,     8.20,2,    12.73,2,     0.00,2,     0.92,2,    1.990,2,    1.030,2, -999.000,9,   2166.1,2,   2328.9,2,    4.920,2
18SN19940724,AO94,       11,        1,       10,   142971,2,19940801,1054,76.6233,-173.3233,2218,   1322.3,  -0.3524,  34.9049,2,    271.2,4,  -0.4114,  34.9050,2,    302.7,2,     8.63,2,    12.94,2,     0.00,2,     0.94,2,    1.240,2,    0.660,2,    0.250,2,   2161.7,2,   -999.0,9,    3.680,2
18SN19940724,AO94,       11,        1,        9,   142970,2,19940801,1054,76.6233,-173.3233,2218,   1474.5,  -0.4138,  34.9151,2,    263.2,4,  -0.4809,  34.9150,2,    301.4,2,     9.31,2,    13.28,2,     0.00,2,     0.97,2,    1.000,2,    0.550,2, -999.000,9,   2165.4,2,   2331.4,2,    3.130,2
18SN19940724,AO94,       11,        1,        8,   142969,2,19940801,1054,76.6233,-173.3233,2218,   1627.9,  -0.4556,  34.9235,2,    254.9,4,  -0.5313,  34.9243,2,    298.3,2,    10.38,2,    13.66,2,     0.00,2,     0.99,2,    0.750,2,    0.340,2,    0.060,2,   2165.0,2,   2332.9,2,    2.200,2
18SN19940724,AO94,       11,        1,        7,   142968,2,19940801,1054,76.6233,-173.3233,2218,   1780.2,  -0.4599,  34.9323,2,    246.0,4,  -0.5450,  34.9330,2,    295.0,2,    11.32,2,    13.93,2,     0.00,2,     1.01,2,    0.370,2,    0.260,2, -999.000,9,   2164.1,2,   2336.8,2,    1.560,2
18SN19940724,AO94,       11,        1,        6,   142967,2,19940801,1054,76.6233,-173.3233,2218,   1933.1,  -0.4449,  34.9405,2,    237.8,4,  -0.5401,  34.9408,2,    291.5,2,    12.25,2,    14.20,2,     0.01,2,     1.03,2,    0.210,2,    0.130,2,    0.000,2,   2161.6,2,   2332.7,2,    0.820,2
18SN19940724,AO94,       11,        1,        5,   142966,2,19940801,1054,76.6233,-173.3233,2218,   2085.5,  -0.4125,  34.9493,2,    230.0,4,  -0.5185,  34.9495,2,    286.9,2,    13.77,2,    14.51,2,     0.00,2,     1.05,2,    0.090,2,    0.090,2, -999.000,9,   2165.5,2,   2333.7,2,    1.080,2
18SN19940724,AO94,       11,        1,        4,   142965,2,19940801,1054,76.6233,-173.3233,2218,   2186.6,  -0.3939,  34.9518,2,    223.3,4,  -0.5073,  34.9515,2,    283.7,2,    15.02,2,    14.64,2,     0.01,2,     1.06,2,    0.060,2,    0.070,2,    0.000,2,   2165.0,2,   2335.3,2,    0.290,2
18SN19940724,AO94,       11,        1,        1,   142962,2,19940801,1054,76.6233,-173.3233,2218,   2257.3,  -0.3853,  34.9524,2,    215.4,4,  -0.5039,  34.9527,2,    284.0,2,    14.93,2,    14.67,2,     0.01,2,     1.07,2,    0.040,2,    0.070,2, -999.000,9,   2166.5,2,   2334.9,2,    0.000,2
18SN19940724,AO94,       11,        1,        2,   142963,3,19940801,1054,76.6233,-173.3233,2218,   2257.4,  -0.3851,  34.9521,2,    215.4,4,  -0.5037,  34.9535,2,   -999.0,9,  -999.00,9,  -999.00,9,  -999.00,9,  -999.00,9, -999.000,9, -999.000,9, -999.000,9,   -999.0,9,   -999.0,9, -999.000,9
18SN19940724,AO94,       11,        1,        3,   142964,2,19940801,1054,76.6233,-173.3233,2218,   2257.4,  -0.3851,  34.9521,2,    215.3,4,  -0.5037,  34.9521,2,   -999.0,9,  -999.00,9,  -999.00,9,  -999.00,9,  -999.00,9,    6.880,4,    3.520,4,    0.800,4,   -999.0,9,   -999.0,9,   11.950,4