BOTTLE,20090717CCHDOSIODM
EXPOCODE,SECT_ID,STNNBR,CASTNO,SAMPNO,BTLNBR,BTLNBR_FLAG_W,DATE,TIME,LATITUDE,LONGITUDE,DEPTH,CTDPRS,CTDTMP,CTDSAL,CTDSAL_FLAG_W,CTDOXY,CTDOXY_FLAG_W,THETA,SALNTY,SALNTY_FLAG_W,OXYGEN,OXYGEN_FLAG_W,SILCAT,SILCAT_FLAG_W,NITRAT,NITRAT_FLAG_W,NITRIT,NITRIT_FLAG_W,PHSPHT,PHSPHT_FLAG_W,CFC-11,CFC-11_FLAG_W,CFC-12,CFC-12_FLAG_W,CFC113,CFC113_FLAG_W,TCARBN,TCARBN_FLAG_W,ALKALI,ALKALI_FLAG_W,CCL4,CCL4_FLAG_W
,,,,,,,,,,,,DBAR,ITS-90,PSS-78,,UMOL/KG,,DEG C,PSS-78,,UMOL/KG,,UMOL/KG,,UMOL/KG,,UMOL/KG,,UMOL/KG,,PMOL/KG,,PMOL/KG,,PMOL/KG,,UMOL/KG,,UMOL/KG,,PMOL/KG,
18SN19940724,AO94,       24,        2,       36,   143613,2,19940811,1049,82.4733,175.6700,2421,     12.8,  -1.6646,  32.0887,2,    314.6,4,  -1.6648,  32.0962,2,    373.7,2,     8.79,2,     2.12,2,     0.04,2,     0.68,2,    6.390,2,    3.090,2,    0.990,2,   2102.9,2,   2253.5,2,   10.320,2
18SN19940724,AO94,       24,        2,       35,   143612,2,19940811,1049,82.4733,175.6700,2421,     27.8,  -1.6810,  32.1301,2,    314.9,4,  -1.6814,  32.1587,2,    373.2,2,     8.94,2,     2.27,2,     0.04,2,     0.70,2,    6.310,2,    3.350,2,    1.080,2,   2106.2,2,   2256.5,2,   10.570,2
18SN19940724,AO94,       24,        2,       34,   143611,2,19940811,1049,82.4733,175.6700,2421,     27.8,  -1.6854,  32.1493,2,    314.8,4,  -1.6858,  32.1601,2,    373.1,2,     8.99,2,     2.31,2,     0.04,2,     0.71,2,    6.390,2,    3.910,2,    0.910,2,   2105.7,2,   2247.3,2,    9.840,2
18SN19940724,AO94,       24,        2,       33,   143610,2,19940811,1049,82.4733,175.6700,2421,     43.2,  -1.7281,  32.6379,2,    316.4,4,  -1.7288,  32.6624,2,    358.4,2,     9.48,2,     4.03,2,     0.03,2,     0.72,2,    5.930,2,    3.000,2,    0.970,2,   2125.2,2,   2266.7,2,    9.090,2
18SN19940724,AO94,       24,        2,       32,   143609,2,19940811,1049,82.4733,175.6700,2421,     53.5,  -1.7352,  33.2165,2,    313.8,4,  -1.7361,  33.1793,2,    341.5,2,     8.63,2,     5.72,2,     0.03,2,     0.67,2,    6.040,2,    2.790,2,    0.870,2,   2137.4,2,   2267.4,2,    7.670,2
18SN19940724,AO94,       24,        2,       31,   143608,2,19940811,1049,82.4733,175.6700,2421,     63.5,  -1.7354,  33.6113,2,    312.3,4,  -1.7365,  33.5925,2,    332.2,2,     7.48,2,     6.71,2,     0.02,2,     0.63,2,    5.560,2,    2.880,2,    0.800,2,   2142.2,2,   2324.7,3,    7.260,2
18SN19940724,AO94,       24,        2,       30,   143607,2,19940811,1049,82.4733,175.6700,2421,     73.7,  -1.6736,  33.8036,2,    311.4,4,  -1.6751,  33.8024,2,    318.6,2,     8.07,2,     7.90,2,     0.01,2,     0.70,2,    5.480,2,    2.540,2,    0.470,2,   2152.3,2,   2289.8,2,    6.060,2
18SN19940724,AO94,       24,        2,       29,   143606,2,19940811,1049,82.4733,175.6700,2421,     83.8,  -1.6153,  33.9636,2,    311.0,4,  -1.6171,  33.9680,2,    311.6,2,     7.97,2,     8.58,2,     0.01,2,     0.72,2,    4.890,2,    2.480,2,    0.610,2,   2153.2,2,   2284.5,2,    6.180,2
18SN19940724,AO94,       24,        2,       28,   143605,2,19940811,1049,82.4733,175.6700,2421,     98.8,  -1.5218,  34.1326,2,    310.4,4,  -1.5240,  34.1297,2,    307.4,2,     7.72,2,     9.04,2,     0.01,2,     0.74,2,    4.920,2,    2.330,2,    0.350,2,   2154.1,2,   2294.3,2,    5.940,2
18SN19940724,AO94,       24,        2,       27,   143604,2,19940811,1049,82.4733,175.6700,2421,    119.2,  -1.3096,  34.2820,2,    308.8,4,  -1.3125,  34.2790,2,    304.3,2,     7.47,2,     9.46,2,     0.01,2,     0.75,2,    4.460,2,    2.270,2,    0.450,2,   2156.9,2,   2299.3,2,    6.050,2
18SN19940724,AO94,       24,        2,       26,   143603,2,19940811,1049,82.4733,175.6700,2421,    139.2,  -0.9595,  34.3928,2,    309.3,4,  -0.9634,  34.3897,2,    303.3,2,     7.32,2,     9.76,2,     0.01,2,     0.76,2,    4.300,2,    2.020,2,    0.280,2,   2152.7,2,   2303.3,2,    5.550,2
18SN19940724,AO94,       24,        2,       25,   143602,2,19940811,1049,82.4733,175.6700,2421,    169.5,  -0.3921,  34.5348,2,    304.7,4,  -0.3977,  34.5301,2,    302.4,2,     7.07,2,    10.26,2,     0.01,2,     0.78,2,    4.070,2,    2.060,2,    0.340,2,   2156.1,2,   2308.8,2,    6.150,2
18SN19940724,AO94,       24,        2,       24,   143601,2,19940811,1049,82.4733,175.6700,2421,    199.5,   0.1317,  34.6614,2,    303.6,4,   0.1241,  34.6565,2,    301.3,2,     7.07,2,    10.95,2,     0.01,2,     0.80,2,    3.890,2,    1.880,2,    0.210,2,   -999.0,9,   -999.0,9,    5.840,2
18SN19940724,AO94,       24,        2,       23,   143600,2,19940811,1049,82.4733,175.6700,2421,    229.8,   0.4394,  34.7544,2,    303.8,4,   0.4300,  34.7521,2,   -999.0,5,     6.91,2,    11.48,2,     0.01,2,     0.82,2,    3.780,2,    1.830,2,    0.340,2,   2153.0,2,   2311.5,2,    6.710,2
18SN19940724,AO94,       24,        2,       22,   143599,2,19940811,1049,82.4733,175.6700,2421,    254.9,   0.5151,  34.7862,2,    304.5,4,   0.5044,  34.7838,2,    301.3,2,     6.96,2,    11.59,2,     0.01,2,     0.83,2,    3.660,2,    1.760,2,    0.280,2,   2154.1,2,   2321.6,2,    6.730,2
18SN19940724,AO94,       24,        2,       21,   143598,2,19940811,1049,82.4733,175.6700,2421,    285.7,   0.5892,  34.8131,2,    305.0,4,   0.5769,  34.8130,2,    302.1,2,     6.91,2,    11.75,2,     0.01,2,     0.83,2,    3.530,2,    1.790,2,    0.250,2,   2152.4,2,   2316.5,2,    6.790,2
18SN19940724,AO94,       24,        2,       20,   143597,2,19940811,1049,82.4733,175.6700,2421,    330.6,   0.5519,  34.8183,2,    305.8,4,   0.5376,  34.8162,2,    301.6,2,     7.06,2,    11.78,2,     0.01,2,     0.84,2,    3.120,2,    1.580,2,    0.040,2,   2155.6,2,   2316.6,2,    6.130,2
18SN19940724,AO94,       24,        2,       19,   143596,2,19940811,1049,82.4733,175.6700,2421,    355.7,   0.6061,  34.8357,2,    305.4,4,   0.5905,  34.8357,2,    303.5,2,     6.96,2,    11.90,2,     0.01,2,     0.85,2,    3.560,2,    1.800,2,    0.280,2,   2154.6,2,   2314.6,2,    7.020,2
18SN19940724,AO94,       24,        2,       18,   143595,2,19940811,1049,82.4733,175.6700,2421,    406.2,   0.5315,  34.8445,2,    305.9,4,   0.5138,  34.8457,2,    303.0,2,     7.10,2,    11.98,2,     0.01,2,     0.85,2,    3.120,2,    1.590,2,    0.080,2,   2152.4,2,   2315.8,2,    6.260,2
18SN19940724,AO94,       24,        2,       17,   143594,2,19940811,1049,82.4733,175.6700,2421,    507.6,   0.3617,  34.8564,2,    305.9,4,   0.3398,  34.8564,2,    303.4,2,     7.25,2,    12.09,2,     0.01,2,     0.86,2,    3.150,2,    1.600,2,    0.210,2,   2156.2,2,   2318.6,2,    6.720,2
18SN19940724,AO94,       24,        2,       16,   143593,2,19940811,1049,82.4733,175.6700,2421,    609.1,   0.1713,  34.8594,2,    305.8,4,   0.1454,  34.8578,2,    305.5,2,     7.15,2,    12.05,2,     0.01,2,     0.86,2,    3.310,2,    1.700,2,    0.140,2,   2160.3,2,   2320.3,2,    6.640,2
18SN19940724,AO94,       24,        2,       15,   143592,2,19940811,1049,82.4733,175.6700,2421,    760.7,  -0.0520,  34.8661,2,    305.5,4,  -0.0840,  34.8655,2,    305.6,2,     7.39,2,    12.09,2,     0.01,2,     0.87,2,    3.280,2,    1.660,2,    0.280,2,   2162.7,2,   2316.8,2,    7.150,2
18SN19940724,AO94,       24,        2,       14,   143591,2,19940811,1049,82.4733,175.6700,2421,    912.9,  -0.1781,  34.8778,2,    304.9,4,  -0.2168,  34.8789,2,    304.7,2,     7.83,2,    12.39,2,     0.01,2,     0.89,2,    2.370,2,    1.350,2,    0.030,2,   2160.6,2,   2322.6,2,    5.720,2
18SN19940724,AO94,       24,        2,       10,   143587,2,19940811,1049,82.4733,175.6700,2421,   1014.2,  -0.2594,  34.8831,2,    304.6,4,  -0.3026,-999.0000,5,   -999.0,9,  -999.00,9,  -999.00,9,  -999.00,9,  -999.00,9, -999.000,9, -999.000,9, -999.000,9,   -999.0,9,   -999.0,9, -999.000,9
18SN19940724,AO94,       24,        2,       13,   143590,2,19940811,1049,82.4733,175.6700,2421,   1014.4,  -0.2580,  34.8820,2,    304.6,4,  -0.3012,  34.8834,2,   -999.0,9,  -999.00,9,  -999.00,9,  -999.00,9,  -999.00,9, -999.000,9, -999.000,9, -999.000,9,   -999.0,9,   -999.0,9, -999.000,9
18SN19940724,AO94,       24,        2,       12,   143589,2,19940811,1049,82.4733,175.6700,2421,   1014.4,  -0.2586,  34.8822,2,    304.6,4,  -0.3018,  34.8842,2,   -999.0,9,  -999.00,9,  -999.00,9,  -999.00,9,  -999.00,9, -999.000,9, -999.000,9, -999.000,9,   -999.0,9,   -999.0,9, -999.000,9
18SN19940724,AO94,       24,        2,       11,   143588,2,19940811,1049,82.4733,175.6700,2421,   1014.4,  -0.2587,  34.8816,2,    304.6,4,  -0.3019,  34.8840,2,   -999.0,9,  -999.00,9,  -999.00,9,  -999.00,9,  -999.00,9, -999.000,9, -999.000,9, -999.000,9,   -999.0,9,   -999.0,9, -999.000,9
18SN19940724,AO94,       24,        2,        9,   143586,2,19940811,1049,82.4733,175.6700,2421,   1065.1,  -0.2852,  34.8867,2,    304.3,4,  -0.3308,  34.8871,2,    305.1,2,     8.08,2,    12.47,2,     0.01,2,     0.90,2,    2.660,2,    1.340,2,    0.140,2,   2161.3,2,   2322.4,2,    6.170,2
18SN19940724,AO94,       24,        2,        8,   143585,2,19940811,1049,82.4733,175.6700,2421,   1217.7,  -0.3526,  34.8992,2,    303.7,4,  -0.4058,  34.9000,2,    303.6,2,     8.76,2,    12.78,2,     0.01,2,     0.92,2,    1.780,2,    0.910,2, -999.000,9,   2158.4,2,   2321.6,2,    4.960,2
18SN19940724,AO94,       24,        2,        7,   143584,2,19940811,1049,82.4733,175.6700,2421,   1369.5,  -0.3933,  34.9118,2,    303.1,4,  -0.4546,  34.9116,2,    301.4,2,     9.50,2,    13.16,2,     0.01,2,     0.94,2,    1.150,2,    0.550,2,    0.040,2,   2157.3,2,   -999.0,9,    3.560,2
18SN19940724,AO94,       24,        2,        6,   143583,2,19940811,1049,82.4733,175.6700,2421,   1522.4,  -0.4409,  34.9222,2,    302.5,4,  -0.5105,  34.9232,2,    298.7,2,    10.53,2,    13.43,2,     0.01,2,     0.96,2,    0.870,2,    0.450,2,    0.030,2,   2157.3,2,   2325.4,2,    2.670,2
18SN19940724,AO94,       24,        2,        5,   143582,2,19940811,1049,82.4733,175.6700,2421,   1725.8,  -0.4371,  34.9371,2,    301.6,4,  -0.5191,  34.9376,2,    293.0,2,    12.10,2,    13.85,2,     0.01,2,     0.99,2,    0.250,2,    0.100,2,    0.000,2,   2157.3,2,   2326.1,2,    1.070,2
18SN19940724,AO94,       24,        2,        4,   143581,2,19940811,1049,82.4733,175.6700,2421,   1929.6,  -0.4254,  34.9454,2,    300.6,4,  -0.5207,  34.9453,2,    289.3,2,    13.18,2,    14.27,2,     0.01,2,     1.02,2,    0.030,2,    0.000,2,    0.020,2,   2156.3,2,   2328.8,2,    0.490,2
18SN19940724,AO94,       24,        2,        3,   143580,2,19940811,1049,82.4733,175.6700,2421,   2132.5,  -0.4101,  34.9504,2,    299.6,4,  -0.5194,  34.9501,2,    287.9,2,    13.97,2,    14.50,2,     0.01,2,     1.03,2,    0.000,2,    0.000,2,    0.020,2,   2158.2,2,   2312.4,3,    0.100,2
18SN19940724,AO94,       24,        2,        2,   143579,2,19940811,1049,82.4733,175.6700,2421,   2336.7,  -0.3940,  34.9528,2,    298.7,4,  -0.5182,  34.9507,2,    286.6,2,    14.41,2,    14.54,2,     0.01,2,     1.04,2,    0.000,2,    0.080,2,    0.010,2,   2157.0,2,   2327.0,2,    0.000,2
18SN19940724,AO94,       24,        2,        1,   143578,2,19940811,1049,82.4733,175.6700,2421,   2464.4,  -0.3857,  34.9539,2,    298.1,4,  -0.5195,  34.9524,2,    286.1,2,    14.70,2,    14.58,2,     0.01,2,     1.04,2,    0.000,2,    0.010,2,    0.040,2,   2158.2,2,   2326.9,2,    0.030,2