BOTTLE,20010702WHPSIOKJU
EXPOCODE,SECT_ID,STNNBR,CASTNO,SAMPNO,BTLNBR,BTLNBR_FLAG_W,DATE,TIME,LATITUDE,LONGITUDE,DEPTH,CTDPRS,CTDTMP,CTDSAL,CTDSAL_FLAG_W,SALNTY,SALNTY_FLAG_W,CTDOXY,CTDOXY_FLAG_W,OXYGEN,OXYGEN_FLAG_W,SILCAT,SILCAT_FLAG_W,NO2+NO3,NO2+NO3_FLAG_W,PHSPHT,PHSPHT_FLAG_W,CFC-11,CFC-11_FLAG_W,CFC-12,CFC-12_FLAG_W,CFC113,CFC113_FLAG_W,CCL4,CCL4_FLAG_W,TCARBN,TCARBN_FLAG_W
,,,,,,,,,,,,DBAR,ITS-90,PSS-78,,PSS-78,,UMOL/KG,,UMOL/KG,,UMOL/KG,,UMOL/KG,,UMOL/KG,,PMOL/KG,,PMOL/KG,,PMOL/KG,,PMOL/KG,,UMOL/KG,
   18HU92014_1,  AR13,    51,  1, 111211,   OC21,2,19920610,0059, 55.9853, -53.2382, 3144,   1712.5,   2.9315,  34.8411,2,  34.8405,2,    342.4,2,    300.7,2,     9.65,6,    16.65,6,     1.05,6,    3.070,2,    1.637,2, -999.000,5,    5.585,2,   2153.9,2
   18HU92014_1,  AR13,    51,  1, 111210,    OC7,2,19920610,0059, 55.9853, -53.2382, 3144,   1814.1,   2.9552,  34.8469,2,  34.8473,2,    342.3,2,    286.5,2,     9.79,6,    16.44,6,     1.06,6,    2.977,2,    1.395,2, -999.000,5,    5.548,2,   2155.6,2
   18HU92014_1,  AR13,    51,  1, 111209,   OC14,2,19920610,0059, 55.9853, -53.2382, 3144,   1914.2,   3.0002,  34.8571,2,  34.8566,2,    338.9,2,    296.3,2,    10.02,6,    16.56,6,     1.04,6,    2.724,2,    1.246,2, -999.000,5,    5.086,2,   2157.2,2
   18HU92014_1,  AR13,    51,  1, 111208,    OC1,2,19920610,0059, 55.9853, -53.2382, 3144,   2016.6,   3.1203,  34.8845,2,  34.8458,2,    332.3,2,    297.9,2,     9.74,6,    16.72,6,     1.01,6,    2.940,2,    1.423,2, -999.000,5,    5.290,2,   2153.8,2
   18HU92014_1,  AR13,    51,  1, 111207,   OC23,2,19920610,0059, 55.9853, -53.2382, 3144,   2116.6,   3.1985,  34.9109,2,  34.8829,2,    326.6,2,    288.1,2,    10.82,6,    16.81,6,     1.06,6,    1.986,2,    1.706,2, -999.000,5,    3.998,2,   2159.4,6
   18HU92014_1,  AR13,    51,  1, 111206,   OC19,2,19920610,0059, 55.9853, -53.2382, 3144,   2216.3,   3.1487,  34.9169,2,  34.9172,2,    325.5,2,    280.3,2,    11.61,6,    16.91,6,     1.06,6,    1.341,2,    0.729,2, -999.000,5,    2.967,2,   2160.7,2
   18HU92014_1,  AR13,    51,  1, 111205,   OC22,2,19920610,0059, 55.9853, -53.2382, 3144,   2319.9,   3.0797,  34.9219,2,  34.9170,2,    325.1,2,    280.6,2,    11.63,6,    16.62,6,     1.07,6,    1.305,2,    0.949,2, -999.000,5,    2.875,2,   2159.9,2
   18HU92014_1,  AR13,    51,  1, 111204,    OC9,2,19920610,0059, 55.9853, -53.2382, 3144,   2395.3,   3.0274,  34.9244,2,  34.9183,2,    325.2,2,    280.8,2,    12.35,6,    16.67,6,     1.07,6,    1.135,2,    0.489,2, -999.000,5,    2.690,2,   2159.1,2
   18HU92014_1,  AR13,    51,  1, 111203,   OC20,2,19920610,0059, 55.9853, -53.2382, 3144,   2468.2,   2.9668,  34.9243,2,  34.9237,2,    325.7,2,    278.9,2,    12.34,6,    16.94,6,     1.07,6,    1.120,2,    0.411,2, -999.000,5,    2.680,2,   2161.5,2
   18HU92014_1,  AR13,    51,  1, 111202,   OC12,2,19920610,0059, 55.9853, -53.2382, 3144,   2546.3,   2.9234,  34.9277,2,  34.9233,2,    325.7,2,    281.3,6,    12.35,6,    16.61,6,     1.07,6,    1.221,2,    0.588,2, -999.000,5,    2.865,2,   2158.8,2
   18HU92014_1,  AR13,    51,  1, 111201,   OC16,2,19920610,0059, 55.9853, -53.2382, 3144,   2626.6,   2.8056,  34.9183,2,  34.9176,2,    328.3,2,    286.0,2,    12.42,6,    16.27,6,     1.03,6,    1.437,2, -999.000,5, -999.000,5,    3.031,2,   2157.7,2
   18HU92014_1,  AR13,    51,  1, 111200,   OC18,3,19920610,0059, 55.9853, -53.2382, 3144,   2700.5,   2.7494,  34.9212,2,-999.0000,9,    327.8,2,    282.6,2,    11.98,6,    16.31,6,     1.09,6,    1.223,2,    0.760,2, -999.000,5,    2.807,2,   2156.8,2
   18HU92014_1,  AR13,    51,  1, 111199,   OC13,2,19920610,0059, 55.9853, -53.2382, 3144,   2771.2,   2.6938,  34.9237,2,  34.9237,2,    328.4,2,    280.3,2,    13.50,6,    16.47,6,     1.06,6,    1.209,2,    0.734,2, -999.000,5,    2.789,2,   2158.7,2
   18HU92014_1,  AR13,    51,  1, 111198,   OC17,2,19920610,0059, 55.9853, -53.2382, 3144,   2846.6,   2.6115,  34.9212,2,  34.8650,2,    328.3,2,    280.7,6,    12.02,6,    16.58,6,     1.06,6,    1.184,2,    0.486,2, -999.000,5,    2.758,2,   2159.9,2
   18HU92014_1,  AR13,    51,  1, 111197,    OC5,2,19920610,0059, 55.9853, -53.2382, 3144,   2914.9,   2.5236,  34.9174,2,  34.9170,2,    330.2,2,    282.2,2,    13.95,6,    16.27,6,     1.04,6,    1.084,2, -999.000,5, -999.000,9,    2.790,2,   2159.0,2
   18HU92014_1,  AR13,    51,  1, 111196,   OC24,2,19920610,0059, 55.9853, -53.2382, 3144,   2982.8,   2.3660,  34.9083,2,  34.9044,2,    334.2,2,    284.2,2,    13.43,6,    15.94,6,     1.03,6,    1.423,2,    1.001,2, -999.000,5,    3.174,2,   2158.2,2
   18HU92014_1,  AR13,    51,  1, 111195,   OC15,2,19920610,0059, 55.9853, -53.2382, 3144,   3060.4,   2.2176,  34.9014,2,  34.9062,2,    338.2,2,    285.5,2,    13.33,6,    16.05,6,     1.04,6,    1.412,2,    0.564,2, -999.000,5,    3.079,2,   2159.0,2
   18HU92014_1,  AR13,    51,  1, 111194,   OC11,2,19920610,0059, 55.9853, -53.2382, 3144,   3137.2,   2.0011,  34.8934,2,  34.8926,2,    342.8,2,    294.0,2,    11.05,6,    15.16,6,     0.97,6,    2.147,2,    0.918,2, -999.000,5,    4.242,2,   2157.4,6
   18HU92014_1,  AR13,    51,  1, 111193,   OC27,2,19920610,0059, 55.9853, -53.2382, 3144,   3209.3,   1.7904,  34.8883,2,  34.8932,2,    347.9,2,    294.3,6,    11.08,6,    14.92,6,     0.96,6,    2.158,2,    0.877,2, -999.000,5,    4.178,2,   2156.2,2
   18HU92014_1,  AR13,    51,  1, 111192,    OC3,2,19920610,0059, 55.9853, -53.2382, 3144,   3276.3,   1.7451,  34.8874,2,  34.8694,2,    350.5,2,    301.6,2,    10.80,6,    15.02,6,     0.95,6,    2.362,2,    1.121,2, -999.000,5,    4.603,2,   2156.6,2
   18HU92014_1,  AR13,    51,  2, 111229,   OC14,2,19920610,0457, 56.0007, -53.2345, 3144,      4.0,   3.5306,  34.7655,2,  34.7663,2,    369.3,2,    336.2,2,     8.36,6,    11.98,6,     0.83,6,    4.651,2,    2.525,2, -999.000,5,    8.388,2,   2127.0,6
   18HU92014_1,  AR13,    51,  2, 111228,    OC1,2,19920610,0457, 56.0007, -53.2345, 3144,    105.7,   2.9885,  34.7981,2,  34.7993,2,    350.6,2,    313.8,2,     9.27,6,    15.65,6,     1.03,6,    4.099,2,    2.302,2, -999.000,5,    7.374,2,   2148.8,2
   18HU92014_1,  AR13,    51,  2, 111227,   OC23,2,19920610,0457, 56.0007, -53.2345, 3144,    152.9,   3.0144,  34.8223,2,  34.8224,2,    339.7,2,    300.1,2,     9.56,6,    16.68,6,     1.06,6,    3.602,6,    1.718,6, -999.000,5,    6.510,6,   2154.0,2
   18HU92014_1,  AR13,    51,  2, 111226,   OC19,2,19920610,0457, 56.0007, -53.2345, 3144,    196.5,   2.8815,  34.8165,2,  34.8159,2,    345.2,2,    306.7,2,     9.38,6,    16.20,6,     1.06,6,    3.915,2,    1.982,2, -999.000,5,    7.012,2,   2153.6,2
   18HU92014_1,  AR13,    51,  2, 111225,   OC22,2,19920610,0457, 56.0007, -53.2345, 3144,    293.0,   2.9080,  34.8256,2,  34.8260,2,    342.2,2,    304.1,2,     9.44,6,    16.42,6,     1.09,6,    3.540,2,    1.603,2, -999.000,5,    6.462,2,   2153.0,2
   18HU92014_1,  AR13,    51,  2, 111224,    OC9,2,19920610,0457, 56.0007, -53.2345, 3144,    396.3,   2.9146,  34.8318,2,  34.8325,2,    343.3,2,    303.8,2,     9.46,6,    16.57,6,     1.02,6,    3.463,2,    1.818,2, -999.000,5,    6.259,2,   2152.9,6
   18HU92014_1,  AR13,    51,  2, 111223,   OC20,2,19920610,0457, 56.0007, -53.2345, 3144,    501.6,   2.9062,  34.8339,2,  34.8346,2,    344.0,2,    304.3,2,     9.53,6,    16.58,6,     1.06,6,    3.579,2,    1.583,2, -999.000,5,    6.477,2,   2152.5,2
   18HU92014_1,  AR13,    51,  2, 111222,   OC12,2,19920610,0457, 56.0007, -53.2345, 3144,    606.7,   2.9031,  34.8352,2,  34.8357,2,    344.6,2,    302.3,2,     9.47,6,    16.36,6,     1.05,6,    3.539,2,    1.725,2, -999.000,5,    6.372,2,   2152.6,6
   18HU92014_1,  AR13,    51,  2, 111221,   OC16,2,19920610,0457, 56.0007, -53.2345, 3144,    708.7,   2.8823,  34.8335,2,  34.8341,2,    344.4,2,    303.1,2,     9.41,6,    16.37,6,     1.06,6,    3.558,2,    1.624,2, -999.000,5,    6.411,2,   2152.6,2
   18HU92014_1,  AR13,    51,  2, 111220,   OC18,2,19920610,0457, 56.0007, -53.2345, 3144,    810.1,   2.8795,  34.8334,2,  34.8340,2,    344.5,2,    303.3,2,     9.49,6,    16.57,6,     1.05,6,    3.698,2,    1.795,2, -999.000,5,    6.735,2,   2153.1,2
   18HU92014_1,  AR13,    51,  2, 111219,   OC13,2,19920610,0457, 56.0007, -53.2345, 3144,    910.1,   2.8920,  34.8353,2,  34.8360,2,    344.5,2,    303.1,6,     9.43,6,    16.52,6,     1.06,6,    3.335,2,    1.549,2, -999.000,5,    6.204,2,   2153.1,2
   18HU92014_1,  AR13,    51,  2, 111218,   OC17,2,19920610,0457, 56.0007, -53.2345, 3144,   1010.4,   2.8733,  34.8330,2,  34.8339,2,    346.6,2,    303.6,2,     9.36,6,    16.36,6,     1.06,6,    3.550,2,    1.766,2, -999.000,5,    6.521,2,   2152.6,6
   18HU92014_1,  AR13,    51,  2, 111217,    OC5,2,19920610,0457, 56.0007, -53.2345, 3144,   1111.4,   2.8761,  34.8331,2,  34.8341,2,    347.1,2,    304.3,2,     9.41,6,    16.51,6,     1.03,6,    3.736,2,    1.703,2, -999.000,5,    6.881,2,   2152.5,2
   18HU92014_1,  AR13,    51,  2, 111216,   OC24,2,19920610,0457, 56.0007, -53.2345, 3144,   1213.1,   2.8725,  34.8321,2,  34.8336,2,    347.1,2,    302.9,2,     9.40,6,    16.61,6,     1.02,6,    3.530,2,    1.702,2, -999.000,5,    6.485,2,   2152.9,2
   18HU92014_1,  AR13,    51,  2, 111215,   OC15,2,19920610,0457, 56.0007, -53.2345, 3144,   1314.7,   2.8796,  34.8326,2,  34.8338,2,    347.7,2,    303.6,6,     9.43,6,    16.64,6,     1.05,6,    3.528,2,    1.969,2, -999.000,5,    6.353,2,   2152.4,2
   18HU92014_1,  AR13,    51,  2, 111214,   OC11,2,19920610,0457, 56.0007, -53.2345, 3144,   1415.9,   2.8863,  34.8332,2,  34.8345,2,    348.3,2,    302.8,2,     9.44,6,    16.58,6,     1.05,6,    3.456,2,    1.699,2, -999.000,5,    6.337,2,   2152.5,2
   18HU92014_1,  AR13,    51,  2, 111213,   OC27,2,19920610,0457, 56.0007, -53.2345, 3144,   1516.7,   2.9120,  34.8370,2,  34.8374,2,    348.4,2,    300.5,2,     9.54,6,    16.44,6,     1.06,6,    3.394,2,    1.869,2, -999.000,5,    6.280,2,   2152.8,2
   18HU92014_1,  AR13,    51,  2, 111212,    OC3,2,19920610,0457, 56.0007, -53.2345, 3144,   1616.5,   2.9147,  34.8378,2,  34.8407,2,    349.7,2,    302.7,6,     9.59,6,    16.61,6,     1.05,6,    3.363,2,    1.583,2, -999.000,5,    6.180,2,   2153.0,2
   18HU92014_1,  AR13,    52,  1, 111249,   OC21,2,19920611,0558, 51.6865, -48.8755, 3155,   1717.5,   2.9279,  34.8480,2,  34.8488,2,    337.5,2,    295.5,2,     9.74,6,    16.35,6,     1.05,6,    3.161,2,    1.583,2, -999.000,5,    5.868,2,   2156.2,2
   18HU92014_1,  AR13,    52,  1, 111248,    OC7,2,19920611,0558, 51.6865, -48.8755, 3155,   1817.8,   3.0608,  34.8817,2,  34.8822,2,    330.7,2,    292.8,2,    10.55,6,    16.48,6,     1.04,6,    2.415,2,    0.995,2, -999.000,5,    4.580,2,   2158.8,6
   18HU92014_1,  AR13,    52,  1, 111247,   OC14,2,19920611,0558, 51.6865, -48.8755, 3155,   1918.0,   3.1065,  34.9001,2,  34.9011,2,    325.8,2,    283.2,2,  -999.00,5,  -999.00,5,  -999.00,5,    1.856,2,    0.688,2, -999.000,5,    3.809,2,   2161.3,2
   18HU92014_1,  AR13,    52,  1, 111246,    OC1,4,19920611,0558, 51.6865, -48.8755, 3155,   2017.4,   3.0969,  34.9183,2,-999.0000,9,    322.3,2,   -999.0,9,    11.12,3,    16.39,3,     1.05,3, -999.000,9, -999.000,9, -999.000,9, -999.000,9,   -999.0,5
   18HU92014_1,  AR13,    52,  1, 111245,   OC23,2,19920611,0558, 51.6865, -48.8755, 3155,   2115.1,   3.0200,  34.9205,2,  34.9173,2,    323.2,2,    275.3,2,    11.96,6,    16.62,6,     1.07,6,    1.460,2,    0.679,2, -999.000,5,    3.072,2,   2160.1,2
   18HU92014_1,  AR13,    52,  1, 111244,   OC19,2,19920611,0558, 51.6865, -48.8755, 3155,   2217.5,   2.9432,  34.9255,2,  34.9205,2,    322.4,2,    278.4,2,    12.00,6,    16.40,6,     1.05,6,    1.371,2,    0.572,2, -999.000,5,    2.965,2,   2161.3,2
   18HU92014_1,  AR13,    52,  1, 111243,   OC22,4,19920611,0558, 51.6865, -48.8755, 3155,   2318.8,   2.8566,  34.9254,2,-999.0000,9,    323.6,2,   -999.0,9,  -999.00,9,  -999.00,9,  -999.00,9, -999.000,9, -999.000,9, -999.000,9, -999.000,9,   -999.0,5
   18HU92014_1,  AR13,    52,  1, 111242,    OC9,2,19920611,0558, 51.6865, -48.8755, 3155,   2395.2,   2.8073,  34.9240,2,  34.9232,2,    324.6,2,    278.6,2,    12.92,6,    16.09,6,     1.06,6,    1.281,2,    0.412,2, -999.000,5,    2.820,2,   2162.3,2
   18HU92014_1,  AR13,    52,  1, 111241,   OC20,2,19920611,0558, 51.6865, -48.8755, 3155,   2472.8,   2.7436,  34.9227,2,  34.9240,2,    324.8,2,    279.4,6,    13.00,6,    16.26,6,     1.06,6,    1.271,2,    0.470,2, -999.000,5,    2.855,2,   2161.8,2
   18HU92014_1,  AR13,    52,  1, 111240,   OC12,2,19920611,0558, 51.6865, -48.8755, 3155,   2548.5,   2.6802,  34.9220,2,  34.9233,2,    325.8,2,    280.3,2,    13.01,6,    16.32,6,     1.06,6,    1.350,2,    0.459,2, -999.000,5,    2.985,2,   2156.4,2
   18HU92014_1,  AR13,    52,  1, 111239,   OC16,2,19920611,0558, 51.6865, -48.8755, 3155,   2619.5,   2.5804,  34.9179,2,  34.9172,2,    326.8,2,    282.6,2,    13.34,6,    15.93,6,     1.03,6,    1.387,2,    0.623,2, -999.000,5,    3.006,2,   2161.9,2
   18HU92014_1,  AR13,    52,  1, 111238,   OC18,2,19920611,0558, 51.6865, -48.8755, 3155,   2691.5,   2.5176,  34.9152,2,  34.9135,2,    327.4,2,    287.1,2,    13.35,6,    15.81,6,     1.02,6,    1.399,2,    0.587,2, -999.000,5,    3.032,2,   2161.9,2
   18HU92014_1,  AR13,    52,  1, 111237,   OC13,2,19920611,0558, 51.6865, -48.8755, 3155,   2765.5,   2.4312,  34.9112,2,  34.9109,2,    328.9,2,    284.1,2,    13.34,6,    15.70,6,     1.03,6,    1.495,2,    0.618,2, -999.000,5,    3.260,2,   2162.3,2
   18HU92014_1,  AR13,    52,  1, 111236,   OC17,2,19920611,0558, 51.6865, -48.8755, 3155,   2838.7,   2.2918,  34.9060,2,  34.9054,2,    330.8,2,    285.8,6,    13.91,6,    15.61,6,     1.04,6,    1.496,2,    0.611,2, -999.000,5,    3.112,2,   2163.3,2
   18HU92014_1,  AR13,    52,  1, 111235,    OC5,2,19920611,0558, 51.6865, -48.8755, 3155,   2917.2,   2.1704,  34.9024,2,  34.9025,2,    333.1,2,    285.2,6,    14.19,6,    15.68,6,     1.02,6,    1.570,2,    0.622,2, -999.000,5,    3.384,2,   2164.1,2
   18HU92014_1,  AR13,    52,  1, 111234,   OC24,2,19920611,0558, 51.6865, -48.8755, 3155,   2994.8,   1.9982,  34.8945,2,  34.8956,2,    338.2,2,    290.1,2,    12.08,6,    15.25,6,     1.02,6,    2.072,2,    0.860,2, -999.000,5,    4.005,2,   2161.1,2
   18HU92014_1,  AR13,    52,  1, 111233,   OC15,2,19920611,0558, 51.6865, -48.8755, 3155,   3067.9,   1.9913,  34.8938,2,  34.8933,2,    339.9,2,    293.1,2,    12.05,6,    15.10,6,     1.00,6,    2.006,2,    0.837,2, -999.000,5,    3.812,2,   2163.2,2
   18HU92014_1,  AR13,    52,  1, 111232,   OC11,2,19920611,0558, 51.6865, -48.8755, 3155,   3144.3,   1.9890,  34.8936,2,  34.8929,2,    341.7,2,    290.9,2,    12.02,6,    14.88,6,     1.04,6,    2.167,2,    0.990,2, -999.000,5,    4.108,2,   2162.2,2
   18HU92014_1,  AR13,    52,  1, 111231,   OC27,2,19920611,0558, 51.6865, -48.8755, 3155,   3218.8,   1.9955,  34.8938,2,  34.8918,2,    342.0,2,    292.3,2,    12.07,6,    14.97,6,     0.97,6,    2.038,2,    0.780,2, -999.000,5,    3.991,2,   2160.6,2
   18HU92014_1,  AR13,    52,  1, 111230,    OC3,2,19920611,0558, 51.6865, -48.8755, 3155,   3268.5,   1.9997,  34.8936,2,  34.8878,2,    343.8,2,    298.1,2,    11.81,6,    15.09,6,     0.97,6,    2.169,2,    0.957,2, -999.000,5,    4.151,2,   2161.7,6