BOTTLE,20010702WHPSIOKJU
EXPOCODE,SECT_ID,STNNBR,CASTNO,SAMPNO,BTLNBR,BTLNBR_FLAG_W,DATE,TIME,LATITUDE,LONGITUDE,DEPTH,CTDPRS,CTDTMP,CTDSAL,CTDSAL_FLAG_W,SALNTY,SALNTY_FLAG_W,CTDOXY,CTDOXY_FLAG_W,OXYGEN,OXYGEN_FLAG_W,SILCAT,SILCAT_FLAG_W,NO2+NO3,NO2+NO3_FLAG_W,PHSPHT,PHSPHT_FLAG_W,CFC-11,CFC-11_FLAG_W,CFC-12,CFC-12_FLAG_W,CFC113,CFC113_FLAG_W,CCL4,CCL4_FLAG_W,TCARBN,TCARBN_FLAG_W
,,,,,,,,,,,,DBAR,ITS-90,PSS-78,,PSS-78,,UMOL/KG,,UMOL/KG,,UMOL/KG,,UMOL/KG,,UMOL/KG,,PMOL/KG,,PMOL/KG,,PMOL/KG,,PMOL/KG,,UMOL/KG,
   18HU92014_1,  AR13,     6,  1, 110485,   OC21,2,19920529,1207, 48.1957, -42.2356, 4159,      6.8,   6.1886,  33.5757,2,  33.5686,2,    311.7,2,    324.9,2,     1.32,6,     1.34,6,     0.40,6,    4.635,2,    2.284,2, -999.000,5,    8.188,2,   2057.3,2
   18HU92014_1,  AR13,     6,  1, 110484,    OC6,2,19920529,1207, 48.1957, -42.2356, 4159,     81.1,  13.4530,  35.7136,2,  35.7255,2,    228.2,2,    246.2,2,     2.53,6,     5.48,6,     0.40,6,    2.580,2,    1.475,2, -999.000,5,    3.567,2,   2104.4,2
   18HU92014_1,  AR13,     6,  1, 110483,   OC14,2,19920529,1207, 48.1957, -42.2356, 4159,    156.2,  10.6383,  35.2575,2,  35.2584,2,    185.4,2,    192.5,2,     7.89,6,    15.96,6,     1.04,6,    1.903,2,    1.056,2, -999.000,5,    2.103,2,   2151.0,2
   18HU92014_1,  AR13,     6,  1, 110482,    OC1,2,19920529,1207, 48.1957, -42.2356, 4159,    271.6,   7.4954,  34.9031,2,  34.9025,2,    196.0,2,    202.7,2,    10.97,6,    18.89,6,     1.24,6,    2.044,2,    1.205,2, -999.000,5,    2.700,2,   2169.1,2
   18HU92014_1,  AR13,     6,  1, 110481,    OC2,2,19920529,1207, 48.1957, -42.2356, 4159,    404.4,   5.4483,  34.8456,2,  34.8492,2,    212.5,2,    221.0,2,    12.20,6,    19.55,6,     1.35,6,    2.044,2,    1.177,2, -999.000,5,    3.049,2,   2176.5,6
   18HU92014_1,  AR13,     6,  1, 110480,   BO13,2,19920529,1207, 48.1957, -42.2356, 4159,    675.1,   3.5485,  34.8273,2,  34.8548,2,    270.4,2,    274.7,2,     9.06,6,    16.12,6,     1.24,6,    3.325,2,    1.693,2, -999.000,5,    5.677,2,   2156.2,2
   18HU92014_1,  AR13,     6,  1, 110479,   OC10,2,19920529,1207, 48.1957, -42.2356, 4159,    955.0,   3.6587,  34.8968,2,  34.8938,2,    269.4,2,    278.2,2,     5.10,3,     8.79,6,     0.71,6,    2.766,2,    1.644,2, -999.000,5,    4.919,2,   2159.7,2
   18HU92014_1,  AR13,     6,  1, 110478,    OC9,2,19920529,1207, 48.1957, -42.2356, 4159,   1225.5,   3.2389,  34.8553,2,  34.8537,2,    283.2,2,    294.1,2,     9.43,6,    16.48,6,     1.08,6,    3.155,2,    1.634,2, -999.000,5,    5.541,2,   2158.0,2
   18HU92014_1,  AR13,     6,  1, 110477,   OC20,2,19920529,1207, 48.1957, -42.2356, 4159,   1493.4,   3.1711,  34.8582,2,  34.8555,2,    284.0,2,    294.4,2,     9.77,6,    16.37,6,     1.10,6,    2.896,2,    1.502,2, -999.000,5,    5.323,2,   2158.3,6
   18HU92014_1,  AR13,     6,  1, 110476,   OC12,2,19920529,1207, 48.1957, -42.2356, 4159,   1765.3,   3.0765,  34.8566,2,  34.8555,2,    286.2,2,    295.7,2,    10.01,6,    16.44,6,     1.10,6,    2.802,2,    1.526,2, -999.000,5,    5.290,2,   2157.3,2
   18HU92014_1,  AR13,     6,  1, 110475,    OC8,2,19920529,1207, 48.1957, -42.2356, 4159,   2016.5,   3.2141,  34.8944,2,  34.8884,2,    278.6,2,    284.7,6,    11.06,6,    16.77,6,     1.11,6,    1.934,2,    0.953,2, -999.000,5,    3.908,2,   2158.6,6
   18HU92014_1,  AR13,     6,  1, 110474,    BO6,2,19920529,1207, 48.1957, -42.2356, 4159,   2230.0,   3.2372,  34.9172,2,  34.9038,2,    275.6,2,    281.7,2,    11.49,6,    16.76,6,     1.11,6,    1.625,2,    0.741,2, -999.000,5,    3.275,2,   2161.3,2
   18HU92014_1,  AR13,     6,  1, 110473,   OC13,2,19920529,1207, 48.1957, -42.2356, 4159,   2432.5,   3.1241,  34.9201,2,  34.9174,2,    275.1,2,    280.3,2,    11.73,6,    16.22,6,     1.09,6,    1.460,2,    0.661,2, -999.000,5,    3.073,2,   2160.5,6
   18HU92014_1,  AR13,     6,  1, 110472,   OC26,2,19920529,1207, 48.1957, -42.2356, 4159,   2637.7,   3.0092,  34.9217,2,  34.8972,2,    276.1,2,    300.2,6,    11.11,6,    16.52,6,     1.11,6,    2.284,2,    1.111,2, -999.000,5,    4.295,2,   2158.0,2
   18HU92014_1,  AR13,     6,  1, 110471,    OC5,2,19920529,1207, 48.1957, -42.2356, 4159,   2865.4,   2.8575,  34.9250,2,  34.9155,2,    274.8,2,    279.2,2,    13.18,6,    16.40,6,     1.11,6, -999.000,5, -999.000,5, -999.000,5, -999.000,5,   2162.3,2
   18HU92014_1,  AR13,     6,  1, 110470,    OC4,2,19920529,1207, 48.1957, -42.2356, 4159,   3165.2,   2.6438,  34.9207,2,  34.8974,2,    275.1,2,    283.5,2,    12.27,6,    16.48,6,     1.12,6,    1.915,2,    0.841,2, -999.000,5,    3.695,2,   2160.6,2
   18HU92014_1,  AR13,     6,  1, 110469,   OC25,2,19920529,1207, 48.1957, -42.2356, 4159,   3486.0,   2.4065,  34.9128,2,  34.9067,2,    273.4,2,    279.9,2,    16.54,6,    16.16,6,     1.12,6,    1.115,2,    0.460,2, -999.000,5,    2.579,2,   2168.2,2
   18HU92014_1,  AR13,     6,  1, 110468,   OC11,2,19920529,1207, 48.1957, -42.2356, 4159,   3793.9,   2.2399,  34.9041,2,  34.8975,2,    273.1,2,    284.5,2,    16.00,6,    16.26,6,     1.12,6,    1.284,2,    0.735,2, -999.000,5,    2.802,2,   2166.1,2
   18HU92014_1,  AR13,     6,  1, 110467,   OC27,2,19920529,1207, 48.1957, -42.2356, 4159,   3938.9,   2.1815,  34.9012,2,  34.8940,2,    274.9,2,    261.7,3,    16.53,6,    15.92,6,     1.10,6,    1.391,2,    0.411,2, -999.000,5,    2.942,2,   2168.2,2
   18HU92014_1,  AR13,     6,  1, 110466,    OC3,2,19920529,1207, 48.1957, -42.2356, 4159,   4347.5,   1.9851,  34.8916,2,  34.8952,2,    279.9,2,    285.4,2,     9.02,6,    13.48,6,     0.95,6,    1.858,2,    0.795,2, -999.000,5,    3.752,2,   2161.5,2
   18HU92014_1,  AR13,     7,  1, 110505,   OC21,2,19920529,1908, 48.4821, -41.6405, 4272,      6.6,  13.7914,  35.8092,2,  35.8070,2,    231.9,2,    253.5,2,     2.45,6,     5.52,6,     0.37,6, -999.000,9, -999.000,9, -999.000,9, -999.000,9,   -999.0,9
   18HU92014_1,  AR13,     7,  1, 110504,    OC6,2,19920529,1908, 48.4821, -41.6405, 4272,     79.2,  13.9211,  35.8639,2,  35.8661,2,    219.7,2,    247.2,2,     2.17,6,     5.55,6,     0.36,6, -999.000,9, -999.000,9, -999.000,9, -999.000,9,   -999.0,9
   18HU92014_1,  AR13,     7,  1, 110503,   OC14,2,19920529,1908, 48.4821, -41.6405, 4272,    157.4,  12.3314,  35.5730,2,  35.5721,2,    191.4,2,    220.3,2,     4.95,6,    11.12,6,     0.70,6, -999.000,9, -999.000,9, -999.000,9, -999.000,9,   -999.0,9
   18HU92014_1,  AR13,     7,  1, 110502,    OC1,2,19920529,1908, 48.4821, -41.6405, 4272,    276.4,  10.3493,  35.3287,2,  35.3331,2,    214.6,2,    244.4,3,     5.91,6,    12.10,6,     0.78,6, -999.000,9, -999.000,9, -999.000,9, -999.000,9,   -999.0,9
   18HU92014_1,  AR13,     7,  1, 110501,    OC2,2,19920529,1908, 48.4821, -41.6405, 4272,    403.6,   8.3022,  35.0478,2,  35.0449,2,    187.5,2,    209.6,2,     9.79,6,    17.46,6,     1.14,6, -999.000,9, -999.000,9, -999.000,9, -999.000,9,   -999.0,9
   18HU92014_1,  AR13,     7,  1, 110500,   BO13,4,19920529,1908, 48.4821, -41.6405, 4272,    677.5,   5.3296,  34.9566,2,  34.9577,2,    213.6,2,    230.7,2,    11.89,6,    19.16,6,     1.25,6, -999.000,9, -999.000,9, -999.000,9, -999.000,9,   -999.0,9
   18HU92014_1,  AR13,     7,  1, 110499,   OC10,2,19920529,1908, 48.4821, -41.6405, 4272,    947.9,   4.3070,  34.9565,2,  35.0061,2,    243.0,2,    253.2,2,    10.61,6,    17.27,6,     1.14,6, -999.000,9, -999.000,9, -999.000,9, -999.000,9,   -999.0,9
   18HU92014_1,  AR13,     7,  1, 110498,    OC9,2,19920529,1908, 48.4821, -41.6405, 4272,   1203.0,   3.6996,  34.9057,2,  34.9079,2,    259.9,2,    277.5,2,    10.66,6,    17.50,6,     1.14,6, -999.000,9, -999.000,9, -999.000,9, -999.000,9,   -999.0,9
   18HU92014_1,  AR13,     7,  1, 110497,   OC20,2,19920529,1908, 48.4821, -41.6405, 4272,   1417.9,   3.3869,  34.8744,2,  34.8772,2,    272.6,2,    286.8,6,    10.21,6,    17.20,6,     1.09,6, -999.000,9, -999.000,9, -999.000,9, -999.000,9,   -999.0,9
   18HU92014_1,  AR13,     7,  1, 110496,   OC12,2,19920529,1908, 48.4821, -41.6405, 4272,   1672.4,   3.1649,  34.8529,2,  34.8517,2,    280.7,2,    291.0,2,     9.72,6,    16.83,6,     1.09,6, -999.000,9, -999.000,9, -999.000,9, -999.000,9,   -999.0,9
   18HU92014_1,  AR13,     7,  1, 110495,    OC8,2,19920529,1908, 48.4821, -41.6405, 4272,   1938.0,   3.0849,  34.8528,2,  34.8523,2,    282.5,2,    296.5,2,    10.04,6,    16.72,6,     1.10,6, -999.000,9, -999.000,9, -999.000,9, -999.000,9,   -999.0,9
   18HU92014_1,  AR13,     7,  1, 110494,    BO6,2,19920529,1908, 48.4821, -41.6405, 4272,   2200.7,   3.2736,  34.9014,2,  34.9025,2,    268.6,2,    280.7,2,    11.34,6,    17.26,6,     1.13,6, -999.000,9, -999.000,9, -999.000,9, -999.000,9,   -999.0,9
   18HU92014_1,  AR13,     7,  1, 110493,   OC13,2,19920529,1908, 48.4821, -41.6405, 4272,   2454.2,   3.2325,  34.9165,2,  34.9155,2,    265.5,2,    280.1,2,    11.94,6,    16.87,6,     1.11,6, -999.000,9, -999.000,9, -999.000,9, -999.000,9,   -999.0,9
   18HU92014_1,  AR13,     7,  1, 110492,   OC26,2,19920529,1908, 48.4821, -41.6405, 4272,   2746.0,   3.0173,  34.9166,2,  34.9382,2,    268.5,2,    269.1,2,    10.81,6,    17.31,6,     1.14,6, -999.000,9, -999.000,9, -999.000,9, -999.000,9,   -999.0,9
   18HU92014_1,  AR13,     7,  1, 110491,    OC5,2,19920529,1908, 48.4821, -41.6405, 4272,   3048.2,   2.8854,  34.9300,2,  34.9272,2,    264.8,2,    279.6,2,    14.68,6,    16.87,6,     1.12,6, -999.000,9, -999.000,9, -999.000,9, -999.000,9,   -999.0,9
   18HU92014_1,  AR13,     7,  1, 110490,    OC4,2,19920529,1908, 48.4821, -41.6405, 4272,   3326.9,   2.6713,  34.9242,2,  34.9156,2,    264.0,2,    272.6,2,    11.23,6,    16.88,6,     1.09,6, -999.000,9, -999.000,9, -999.000,9, -999.000,9,   -999.0,9
   18HU92014_1,  AR13,     7,  1, 110489,   OC25,2,19920529,1908, 48.4821, -41.6405, 4272,   3626.0,   2.3611,  34.9094,2,  34.9054,2,    268.7,2,    279.9,2,    14.45,6,    17.14,6,     1.10,6, -999.000,9, -999.000,9, -999.000,9, -999.000,9,   -999.0,9
   18HU92014_1,  AR13,     7,  1, 110488,   OC11,2,19920529,1908, 48.4821, -41.6405, 4272,   3929.9,   2.2468,  34.9018,2,  34.9082,2,    275.8,2,    284.0,2,    14.70,6,    16.32,6,     1.09,6, -999.000,9, -999.000,9, -999.000,9, -999.000,9,   -999.0,9
   18HU92014_1,  AR13,     7,  1, 110487,   OC27,2,19920529,1908, 48.4821, -41.6405, 4272,   4230.2,   2.1420,  34.8978,2,  34.9053,2,    279.5,2,    283.2,6,    13.36,6,    16.80,6,     1.11,6, -999.000,9, -999.000,9, -999.000,9, -999.000,9,   -999.0,9
   18HU92014_1,  AR13,     7,  1, 110486,    OC3,2,19920529,1908, 48.4821, -41.6405, 4272,   4444.8,   2.0105,  34.8917,2,  34.9506,2,    287.2,2,    286.4,2,    10.70,6,    15.75,6,     1.01,6, -999.000,9, -999.000,9, -999.000,9, -999.000,9,   -999.0,9
   18HU92014_1,  AR13,     8,  1, 110525,   OC21,2,19920530,0010, 48.7490, -41.0821, 4329,      6.6,  12.4993,  35.5376,2,  35.5364,2,    243.7,2,    260.8,2,     3.27,6,     6.49,6,     0.44,6,    1.447,2,    0.766,2, -999.000,5,    2.050,2,   -999.0,5
   18HU92014_1,  AR13,     8,  1, 110524,    OC6,2,19920530,0010, 48.7490, -41.0821, 4329,     84.9,  11.9396,  35.4981,2,  35.4977,2,    238.4,2,    251.9,2,     3.62,6,     7.74,6,     0.52,6,    3.023,2,    1.582,2, -999.000,5,    4.413,2,   -999.0,5
   18HU92014_1,  AR13,     8,  1, 110523,   OC14,2,19920530,0010, 48.7490, -41.0821, 4329,    160.5,  11.8987,  35.4959,2,  35.4937,2,    233.5,2,    257.5,2,     3.74,6,     7.98,6,     0.52,6,    3.033,2,    1.826,2, -999.000,5,    4.362,2,   -999.0,5
   18HU92014_1,  AR13,     8,  1, 110522,    OC1,2,19920530,0010, 48.7490, -41.0821, 4329,    284.9,  10.3366,  35.2852,2,  35.2861,2,    215.9,2,    235.5,2,     6.22,6,    12.49,6,     0.79,6,    2.656,2,    1.690,2, -999.000,5,    3.112,2,   -999.0,5
   18HU92014_1,  AR13,     8,  1, 110521,    OC2,2,19920530,0010, 48.7490, -41.0821, 4329,    409.2,   9.0793,  35.1328,2,  35.1347,2,    181.0,2,    203.8,2,     9.26,6,    17.33,6,     1.12,6,    2.121,2,    1.223,2, -999.000,5,    2.249,2,   -999.0,5
   18HU92014_1,  AR13,     8,  1, 110520,   BO13,2,19920530,0010, 48.7490, -41.0821, 4329,    676.0,   5.7722,  34.9455,2,  34.9486,2,    199.1,2,    218.1,2,    12.04,6,    19.85,6,     1.30,6,    1.556,2,    1.044,2, -999.000,5,    2.334,2,   -999.0,5
   18HU92014_1,  AR13,     8,  1, 110519,   OC10,2,19920530,0010, 48.7490, -41.0821, 4329,    956.9,   4.4660,  34.9489,2,  34.9766,2,    239.5,2,    250.6,2,    10.82,6,    17.91,6,     1.16,6,    2.174,2,    1.391,2, -999.000,5,    3.576,2,   -999.0,5
   18HU92014_1,  AR13,     8,  1, 110518,    OC9,4,19920530,0010, 48.7490, -41.0821, 4329,   1200.8,   3.8344,  34.9082,2,  34.9150,2,    260.2,2,    272.6,2,    10.45,6,    17.31,6,     1.14,6,    2.507,2,    1.560,2, -999.000,5,    4.477,2,   -999.0,9
   18HU92014_1,  AR13,     8,  1, 110517,   OC20,2,19920530,0010, 48.7490, -41.0821, 4329,   1438.0,   3.5445,  34.8881,2,  34.8894,2,    266.9,2,    280.9,2,    10.36,6,    17.11,6,     1.13,6,    2.463,2,    1.211,2, -999.000,5,    4.560,2,   -999.0,5
   18HU92014_1,  AR13,     8,  1, 110516,   OC12,2,19920530,0010, 48.7490, -41.0821, 4329,   1726.9,   3.3225,  34.8712,2,  34.8707,2,    275.0,2,    288.8,2,    10.32,6,    16.92,6,     1.12,6,    2.547,2,    1.461,2, -999.000,5,    5.358,2,   -999.0,5
   18HU92014_1,  AR13,     8,  1, 110515,    OC8,4,19920530,0010, 48.7490, -41.0821, 4329,   2028.3,   3.2362,  34.8734,2,-999.0000,9,    276.4,2,    290.1,2,  -999.00,9,  -999.00,9,  -999.00,9, -999.000,9, -999.000,9, -999.000,9, -999.000,9,   -999.0,5
   18HU92014_1,  AR13,     8,  1, 110514,    BO6,2,19920530,0010, 48.7490, -41.0821, 4329,   2301.3,   3.2972,  34.9028,2,  34.9056,2,    270.2,2,    279.7,6,    11.48,6,    17.22,6,     1.13,6,    1.854,2,    0.916,2, -999.000,5,    3.711,2,   -999.0,5
   18HU92014_1,  AR13,     8,  1, 110513,   OC13,2,19920530,0010, 48.7490, -41.0821, 4329,   2554.2,   3.2643,  34.9215,2,  34.9193,2,    265.4,2,    278.3,2,    12.34,6,    16.92,6,     1.09,6,    1.431,2,    0.735,2, -999.000,5,    3.182,2,   -999.0,5
   18HU92014_1,  AR13,     8,  1, 110512,   OC26,2,19920530,0010, 48.7490, -41.0821, 4329,   2809.9,   3.1132,  34.9291,2,  34.9309,2,    265.7,2,    275.1,2,    12.60,6,    16.81,6,     1.11,6,    1.562,2,    0.795,2, -999.000,5,    3.084,2,   -999.0,5
   18HU92014_1,  AR13,     8,  1, 110511,    OC5,2,19920530,0010, 48.7490, -41.0821, 4329,   3097.8,   2.9219,  34.9305,2,  34.9282,2,    265.6,2,    278.2,6,    14.36,6,    16.95,6,     1.12,6,    1.053,2,    0.704,2, -999.000,5,    2.400,2,   -999.0,5
   18HU92014_1,  AR13,     8,  1, 110510,    OC4,2,19920530,0010, 48.7490, -41.0821, 4329,   3406.0,   2.6908,  34.9238,2,  34.9178,2,    268.3,2,    268.8,2,    12.70,6,    17.14,6,     1.12,6,    2.108,2,    1.129,2, -999.000,5,    3.780,2,   -999.0,5
   18HU92014_1,  AR13,     8,  1, 110509,   OC25,2,19920530,0010, 48.7490, -41.0821, 4329,   3696.7,   2.4459,  34.9133,2,  34.9124,2,    269.2,2,    279.6,2,    17.58,6,    16.97,6,     1.11,6,    1.055,2,    0.612,2, -999.000,5,    2.600,2,   -999.0,5
   18HU92014_1,  AR13,     8,  1, 110508,   OC11,2,19920530,0010, 48.7490, -41.0821, 4329,   3981.1,   2.2775,  34.9046,2,  34.9156,2,    274.4,2,    279.1,2,    17.36,6,    16.91,6,     1.13,6,    1.116,2,    0.432,2, -999.000,5,    2.653,2,   -999.0,5
   18HU92014_1,  AR13,     8,  1, 110507,   OC27,2,19920530,0010, 48.7490, -41.0821, 4329,   4258.7,   2.2035,  34.9005,2,  34.9026,2,    277.9,2,    283.1,2,    16.60,6,    16.19,6,     1.08,6,    1.499,2,    0.760,2, -999.000,5,    3.220,2,   -999.0,5
   18HU92014_1,  AR13,     8,  1, 110506,    OC3,2,19920530,0010, 48.7490, -41.0821, 4329,   4506.1,   2.0787,  34.8939,2,  35.0100,2,    287.0,2,    270.5,3,    11.85,6,    15.17,6,     1.02,6,    1.877,2,    1.133,2, -999.000,5,    3.555,2,   -999.0,5