BOTTLE,20010702WHPSIOKJU
EXPOCODE,SECT_ID,STNNBR,CASTNO,SAMPNO,BTLNBR,BTLNBR_FLAG_W,DATE,TIME,LATITUDE,LONGITUDE,DEPTH,CTDPRS,CTDTMP,CTDSAL,CTDSAL_FLAG_W,SALNTY,SALNTY_FLAG_W,CTDOXY,CTDOXY_FLAG_W,OXYGEN,OXYGEN_FLAG_W,SILCAT,SILCAT_FLAG_W,NO2+NO3,NO2+NO3_FLAG_W,PHSPHT,PHSPHT_FLAG_W,CFC-11,CFC-11_FLAG_W,CFC-12,CFC-12_FLAG_W,CFC113,CFC113_FLAG_W,CCL4,CCL4_FLAG_W,TCARBN,TCARBN_FLAG_W
,,,,,,,,,,,,DBAR,ITS-90,PSS-78,,PSS-78,,UMOL/KG,,UMOL/KG,,UMOL/KG,,UMOL/KG,,UMOL/KG,,PMOL/KG,,PMOL/KG,,PMOL/KG,,PMOL/KG,,UMOL/KG,
   18HU92014_1,  AR7W,    44,  1, 111151,   OC21,2,19920608,1324, 57.3745, -51.7867, 3440,      3.9,   3.4297,  34.7725,2,  34.7724,2,    378.2,2,    351.1,2,     6.89,6,    10.51,6,     0.67,6, -999.000,9, -999.000,9, -999.000,9, -999.000,9,   -999.0,9
   18HU92014_1,  AR7W,    44,  1, 111150,    OC7,2,19920608,1324, 57.3745, -51.7867, 3440,    104.8,   2.9811,  34.8109,2,  34.8108,2,    354.3,2,    323.1,2,     8.00,6,    14.05,6,     0.92,6, -999.000,9, -999.000,9, -999.000,9, -999.000,9,   -999.0,9
   18HU92014_1,  AR7W,    44,  1, 111149,   OC14,2,19920608,1324, 57.3745, -51.7867, 3440,    204.6,   2.9047,  34.8263,2,  34.8269,2,    342.2,2,    304.7,2,     9.43,6,    16.66,6,     1.08,6, -999.000,9, -999.000,9, -999.000,9, -999.000,9,   -999.0,9
   18HU92014_1,  AR7W,    44,  1, 111148,    OC1,2,19920608,1324, 57.3745, -51.7867, 3440,    407.2,   2.8355,  34.8236,2,  34.8249,2,    345.4,2,    303.3,2,     9.40,6,    16.27,6,     1.06,6, -999.000,9, -999.000,9, -999.000,9, -999.000,9,   -999.0,9
   18HU92014_1,  AR7W,    44,  1, 111147,   OC23,2,19920608,1324, 57.3745, -51.7867, 3440,    596.5,   2.8498,  34.8274,2,  34.8290,2,    343.8,2,    304.3,2,     9.26,6,    16.33,6,     1.04,6, -999.000,9, -999.000,9, -999.000,9, -999.000,9,   -999.0,9
   18HU92014_1,  AR7W,    44,  1, 111146,   OC19,2,19920608,1324, 57.3745, -51.7867, 3440,    803.5,   2.8446,  34.8283,2,  34.8291,2,    344.5,2,    305.7,2,     9.40,6,    16.46,6,     1.04,6, -999.000,9, -999.000,9, -999.000,9, -999.000,9,   -999.0,9
   18HU92014_1,  AR7W,    44,  1, 111145,   OC22,2,19920608,1324, 57.3745, -51.7867, 3440,   1000.3,   2.8565,  34.8299,2,  34.8302,2,    344.1,2,    281.4,3,     9.29,6,    16.55,6,     1.05,6, -999.000,9, -999.000,9, -999.000,9, -999.000,9,   -999.0,9
   18HU92014_1,  AR7W,    44,  1, 111144,    OC9,2,19920608,1324, 57.3745, -51.7867, 3440,   1194.2,   2.8702,  34.8314,2,  34.8320,2,    344.5,2,    304.5,2,     9.22,6,    16.34,6,     1.04,6, -999.000,9, -999.000,9, -999.000,9, -999.000,9,   -999.0,9
   18HU92014_1,  AR7W,    44,  1, 111143,   OC20,2,19920608,1324, 57.3745, -51.7867, 3440,   1395.0,   2.8827,  34.8322,2,  34.8317,2,    345.9,2,    305.0,2,     9.21,6,    16.34,6,     1.03,6, -999.000,9, -999.000,9, -999.000,9, -999.000,9,   -999.0,9
   18HU92014_1,  AR7W,    44,  1, 111142,   OC12,2,19920608,1324, 57.3745, -51.7867, 3440,   1597.4,   2.8916,  34.8327,2,  34.8330,2,    346.1,2,    304.3,2,     9.21,6,    16.36,6,     1.05,6, -999.000,9, -999.000,9, -999.000,9, -999.000,9,   -999.0,9
   18HU92014_1,  AR7W,    44,  1, 111141,   OC16,2,19920608,1324, 57.3745, -51.7867, 3440,   1789.3,   2.9051,  34.8337,2,  34.8346,2,    346.5,2,    304.3,2,     9.27,6,    16.27,6,     1.04,6, -999.000,9, -999.000,9, -999.000,9, -999.000,9,   -999.0,9
   18HU92014_1,  AR7W,    44,  1, 111140,   OC18,2,19920608,1324, 57.3745, -51.7867, 3440,   1999.1,   2.9274,  34.8371,2,  34.8348,2,    345.3,2,    305.6,2,     9.28,6,    16.30,6,     1.04,6, -999.000,9, -999.000,9, -999.000,9, -999.000,9,   -999.0,9
   18HU92014_1,  AR7W,    44,  1, 111139,   OC13,2,19920608,1324, 57.3745, -51.7867, 3440,   2204.0,   2.9516,  34.8424,2,  34.8434,2,    344.3,2,    301.7,2,     9.57,6,    16.46,6,     1.04,6, -999.000,9, -999.000,9, -999.000,9, -999.000,9,   -999.0,9
   18HU92014_1,  AR7W,    44,  1, 111138,   OC17,2,19920608,1324, 57.3745, -51.7867, 3440,   2398.7,   3.1579,  34.8871,2,  34.8829,2,    331.5,2,    287.5,2,    10.62,6,    16.70,6,     1.06,6, -999.000,9, -999.000,9, -999.000,9, -999.000,9,   -999.0,9
   18HU92014_1,  AR7W,    44,  1, 111137,    OC5,2,19920608,1324, 57.3745, -51.7867, 3440,   2613.2,   3.1435,  34.9177,2,  34.9182,2,    325.4,2,    281.9,2,    11.60,6,    16.62,6,     1.06,6, -999.000,9, -999.000,9, -999.000,9, -999.000,9,   -999.0,9
   18HU92014_1,  AR7W,    44,  1, 111136,    OC4,3,19920608,1324, 57.3745, -51.7867, 3440,   2819.0,   2.9923,  34.9260,2,  34.9187,2,    325.4,2,   -999.0,9,    12.30,6,    16.38,6,     1.03,6, -999.000,9, -999.000,9, -999.000,9, -999.000,9,   -999.0,9
   18HU92014_1,  AR7W,    44,  1, 111135,   OC15,2,19920608,1324, 57.3745, -51.7867, 3440,   3026.2,   2.7681,  34.9173,2,  34.9239,2,    329.4,2,    303.0,2,    12.59,6,    16.38,6,     1.04,6, -999.000,9, -999.000,9, -999.000,9, -999.000,9,   -999.0,9
   18HU92014_1,  AR7W,    44,  1, 111134,   OC11,2,19920608,1324, 57.3745, -51.7867, 3440,   3233.8,   2.4681,  34.9111,2,  34.9178,2,    331.7,2,    285.4,6,    12.34,6,    16.06,6,     1.06,6, -999.000,9, -999.000,9, -999.000,9, -999.000,9,   -999.0,9
   18HU92014_1,  AR7W,    44,  1, 111133,   OC27,2,19920608,1324, 57.3745, -51.7867, 3440,   3436.1,   1.9750,  34.8908,2,  34.9113,2,    344.7,2,    284.9,6,    13.33,6,    15.81,6,     1.03,6, -999.000,9, -999.000,9, -999.000,9, -999.000,9,   -999.0,9
   18HU92014_1,  AR7W,    44,  1, 111132,    OC3,2,19920608,1324, 57.3745, -51.7867, 3440,   3580.5,   1.6086,  34.8875,2,  34.8584,2,    354.5,2,    293.2,6,    10.35,6,    14.99,6,     0.95,6, -999.000,9, -999.000,9, -999.000,9, -999.000,9,   -999.0,9
   18HU92014_1,  AR7W,    45,  1, 111171,   OC21,2,19920608,1833, 57.7878, -51.3358, 3531,   1816.2,   2.9066,  34.8358,2,  34.8365,2,    346.6,2,    302.6,2,     9.35,6,    16.55,6,     1.06,6,    3.467,2,    1.721,2, -999.000,5,    5.902,2,   2163.8,6
   18HU92014_1,  AR7W,    45,  1, 111170,    OC7,2,19920608,1833, 57.7878, -51.3358, 3531,   1916.2,   2.9139,  34.8364,2,  34.8387,2,    346.4,2,    301.8,2,     9.42,6,    16.78,6,     1.06,6,    3.354,2,    1.556,2, -999.000,5,    5.745,2,   2165.8,2
   18HU92014_1,  AR7W,    45,  1, 111169,   OC14,2,19920608,1833, 57.7878, -51.3358, 3531,   2016.4,   2.9379,  34.8411,2,  34.8417,2,    345.7,2,    301.0,2,     9.55,6,    16.67,6,     1.06,6,    3.136,2,    1.298,2, -999.000,5,    5.610,2,   2165.5,2
   18HU92014_1,  AR7W,    45,  1, 111168,    OC1,2,19920608,1833, 57.7878, -51.3358, 3531,   2117.6,   2.9619,  34.8458,2,  34.8451,2,    344.4,2,    301.0,2,     9.58,6,    16.46,6,     1.06,6,    3.065,2,    1.534,2, -999.000,5,    5.364,2,   2163.4,2
   18HU92014_1,  AR7W,    45,  1, 111167,   OC23,2,19920608,1833, 57.7878, -51.3358, 3531,   2216.5,   3.0099,  34.8559,2,  34.8459,2,    341.7,2,    300.3,6,     9.55,6,    16.35,6,     1.05,6,    3.086,2,    1.359,2, -999.000,5,    5.462,2,   2164.4,2
   18HU92014_1,  AR7W,    45,  1, 111166,   OC19,2,19920608,1833, 57.7878, -51.3358, 3531,   2315.4,   3.1463,  34.8866,2,  34.8565,2,    333.1,2,    296.9,2,     9.75,6,    16.37,6,     1.08,6,    2.945,2,    1.450,2, -999.000,5,    5.250,2,   2164.3,2
   18HU92014_1,  AR7W,    45,  1, 111165,   OC22,2,19920608,1833, 57.7878, -51.3358, 3531,   2415.7,   3.1979,  34.9075,2,  34.9072,2,    328.8,2,    281.7,2,    10.95,6,    16.55,6,     1.14,6,    1.728,2,    0.805,2, -999.000,5,    3.370,2,   2170.0,2
   18HU92014_1,  AR7W,    45,  1, 111164,    OC9,2,19920608,1833, 57.7878, -51.3358, 3531,   2515.0,   3.1555,  34.9138,2,  34.9137,2,    328.3,2,    282.5,2,    11.18,6,    16.53,6,     1.07,6,    1.648,2,    0.680,2, -999.000,5,    3.319,2,   2167.5,2
   18HU92014_1,  AR7W,    45,  1, 111163,   OC20,2,19920608,1833, 57.7878, -51.3358, 3531,   2616.0,   3.0888,  34.9158,2,  34.9142,2,    328.6,2,    282.0,6,    11.22,6,    16.84,6,     1.06,6,    1.668,2,    0.717,2, -999.000,5,    3.343,2,   2169.0,6
   18HU92014_1,  AR7W,    45,  1, 111162,   OC12,2,19920608,1833, 57.7878, -51.3358, 3531,   2715.5,   3.0165,  34.9189,2,  34.9161,2,    329.0,2,    280.6,2,    11.45,6,    16.53,6,     1.06,6,    1.650,2,    0.830,2, -999.000,5,    3.276,2,   2167.7,2
   18HU92014_1,  AR7W,    45,  1, 111161,   OC16,2,19920608,1833, 57.7878, -51.3358, 3531,   2817.0,   2.9371,  34.9188,2,  34.9184,2,    328.2,2,    283.2,2,    11.92,6,    16.39,6,     1.05,6,    1.454,2,    0.758,2, -999.000,5,    2.988,2,   2168.9,2
   18HU92014_1,  AR7W,    45,  1, 111160,   OC18,2,19920608,1833, 57.7878, -51.3358, 3531,   2917.2,   2.8498,  34.9207,2,  34.9079,2,    328.9,2,    281.8,2,    11.35,6,    16.27,6,     1.04,6,    1.450,2,    0.690,2, -999.000,5,    3.044,2,   2168.1,2
   18HU92014_1,  AR7W,    45,  1, 111159,   OC13,2,19920608,1833, 57.7878, -51.3358, 3531,   3018.8,   2.7394,  34.9196,2,  34.9205,2,    330.3,2,    283.0,6,    12.21,6,    16.03,6,     1.05,6,    1.455,2,    0.657,2, -999.000,5,    3.080,2,   2169.3,2
   18HU92014_1,  AR7W,    45,  1, 111158,   OC17,2,19920608,1833, 57.7878, -51.3358, 3531,   3122.8,   2.6005,  34.9159,2,  34.9149,2,    331.1,2,    282.5,2,    12.88,6,    15.88,6,     1.08,6,    1.513,2,    0.620,2, -999.000,5,    3.137,2,   2169.7,2
   18HU92014_1,  AR7W,    45,  1, 111157,    OC5,2,19920608,1833, 57.7878, -51.3358, 3531,   3226.3,   2.4135,  34.9083,2,  34.9078,2,    334.4,2,    285.4,2,    12.95,6,    15.87,6,     1.05,6, -999.000,5, -999.000,5, -999.000,9, -999.000,5,   2171.1,2
   18HU92014_1,  AR7W,    45,  1, 111156,   OC24,2,19920608,1833, 57.7878, -51.3358, 3531,   3329.9,   2.2218,  34.8990,2,  34.8674,2,    339.3,2,    289.8,2,    11.91,6,    15.53,6,     1.00,6,    1.893,2,    0.916,2, -999.000,5,    3.451,2,   2169.2,2
   18HU92014_1,  AR7W,    45,  1, 111155,   OC15,2,19920608,1833, 57.7878, -51.3358, 3531,   3428.9,   2.0026,  34.8916,2,  34.8892,2,    345.1,2,    292.9,2,    10.64,6,    15.02,6,     0.97,6,    2.371,2,    1.091,2, -999.000,5,    4.243,2,   2167.8,2
   18HU92014_1,  AR7W,    45,  1, 111154,   OC11,2,19920608,1833, 57.7878, -51.3358, 3531,   3531.0,   1.8321,  34.8886,2,  34.8878,2,    350.3,2,    298.7,2,     9.67,6,    14.63,6,     0.95,6,    2.635,2,    1.093,2, -999.000,5,    4.665,2,   2165.2,2
   18HU92014_1,  AR7W,    45,  1, 111153,   OC27,2,19920608,1833, 57.7878, -51.3358, 3531,   3630.5,   1.6704,  34.8881,2,  34.8875,2,    353.3,2,    297.3,2,     9.61,6,    14.49,6,     0.95,6,    2.722,2,    1.280,2, -999.000,5,    4.675,2,   2166.4,2
   18HU92014_1,  AR7W,    45,  1, 111152,    OC3,2,19920608,1833, 57.7878, -51.3358, 3531,   3673.8,   1.6702,  34.8880,2,  34.8871,2,    354.6,2,    298.4,2,     9.66,6,    14.31,6,     0.94,6,    2.727,2,    1.298,2, -999.000,5,    4.699,2,   2169.2,2
   18HU92014_1,  AR7W,    45,  2, 111191,   OC21,2,19920608,2250, 57.7958, -51.3357, 3533,      3.9,   3.6288,  34.7615,2,  34.7611,2,    404.6,2,    385.0,2,     6.18,6,     3.58,6,     0.41,6,    4.543,2,    2.048,2, -999.000,5,    7.988,2,   2075.0,2
   18HU92014_1,  AR7W,    45,  2, 111190,    OC7,2,19920608,2250, 57.7958, -51.3357, 3533,     55.0,   3.2693,  34.7551,2,  34.7546,2,    381.7,2,    354.0,2,     5.93,6,     6.16,6,     0.61,6,    4.524,2,    2.067,2, -999.000,5,    8.001,2,   2101.8,2
   18HU92014_1,  AR7W,    45,  2, 111189,   OC14,2,19920608,2250, 57.7958, -51.3357, 3533,    105.4,   3.1201,  34.8017,2,  34.8019,2,    360.0,2,    329.3,2,     7.17,6,    11.93,6,     0.85,6,    4.530,2,    2.152,2, -999.000,5,    7.971,2,   2143.3,2
   18HU92014_1,  AR7W,    45,  2, 111188,    OC1,2,19920608,2250, 57.7958, -51.3357, 3533,    155.1,   3.0452,  34.8126,2,  34.8125,2,    350.5,2,    316.7,2,     7.69,6,    13.76,6,     0.94,6,    4.318,2,    2.038,2, -999.000,5,    7.426,2,   2155.6,2
   18HU92014_1,  AR7W,    45,  2, 111187,   OC23,2,19920608,2250, 57.7958, -51.3357, 3533,    205.8,   3.0619,  34.8305,2,  34.8301,2,    343.7,2,    307.3,2,     8.47,6,    15.34,6,     1.03,6,    3.983,2,    1.683,2, -999.000,5,    6.859,2,   2164.5,2
   18HU92014_1,  AR7W,    45,  2, 111186,   OC19,2,19920608,2250, 57.7958, -51.3357, 3533,    306.6,   3.0289,  34.8417,2,  34.8404,2,    341.7,2,    304.8,2,     8.88,6,    16.05,6,     1.07,6,    3.860,2,    1.784,2, -999.000,5,    6.676,2,   2165.4,2
   18HU92014_1,  AR7W,    45,  2, 111185,   OC22,2,19920608,2250, 57.7958, -51.3357, 3533,    406.4,   2.9592,  34.8401,2,  34.8404,2,    342.2,2,    304.9,6,     9.01,6,    15.97,6,     1.07,6,    3.499,2,    1.620,2, -999.000,5,    6.095,2,   2164.9,2
   18HU92014_1,  AR7W,    45,  2, 111184,    OC9,2,19920608,2250, 57.7958, -51.3357, 3533,    506.5,   2.9359,  34.8400,2,  34.8405,2,    342.1,2,    305.3,2,     9.13,6,    16.09,6,     1.06,6,    3.544,2,    1.592,2, -999.000,5,    6.279,2,   2165.3,2
   18HU92014_1,  AR7W,    45,  2, 111183,   OC20,2,19920608,2250, 57.7958, -51.3357, 3533,    608.2,   2.9146,  34.8383,2,  34.8401,2,    343.9,2,    304.9,2,     9.10,6,    16.27,6,     1.03,6,    3.649,2,    1.715,2, -999.000,5,    6.454,2,   2166.2,6
   18HU92014_1,  AR7W,    45,  2, 111182,   OC12,2,19920608,2250, 57.7958, -51.3357, 3533,    707.1,   2.8797,  34.8345,2,  34.8343,2,    344.1,2,    303.7,2,     9.20,6,    16.32,6,     1.07,6,    3.545,2,    1.471,2, -999.000,5,    6.297,2,   2164.8,2
   18HU92014_1,  AR7W,    45,  2, 111181,   OC16,2,19920608,2250, 57.7958, -51.3357, 3533,    799.2,   2.8853,  34.8354,2,  34.8357,2,    345.0,2,    303.4,2,     9.21,6,    16.53,6,     1.08,6,    3.525,2,    1.745,2, -999.000,5,    6.257,2,   2144.8,2
   18HU92014_1,  AR7W,    45,  2, 111180,   OC18,2,19920608,2250, 57.7958, -51.3357, 3533,    889.3,   2.8604,  34.8326,2,  34.8330,2,    345.5,2,    301.2,6,     9.27,6,    16.47,6,     1.06,6,    3.594,2,    1.736,2, -999.000,5,    6.293,2,   2155.6,2
   18HU92014_1,  AR7W,    45,  2, 111179,   OC13,2,19920608,2250, 57.7958, -51.3357, 3533,    991.3,   2.8722,  34.8339,2,  34.8345,2,    345.5,2,    303.5,2,     9.27,6,    16.46,6,     1.06,6,    3.409,2,    1.453,2, -999.000,5,    6.068,2,   2157.2,2
   18HU92014_1,  AR7W,    45,  2, 111178,   OC17,2,19920608,2250, 57.7958, -51.3357, 3533,   1101.2,   2.8659,  34.8327,2,  34.8329,2,    346.0,2,    306.3,2,     9.16,6,    16.28,6,     1.06,6,    3.711,2,    1.744,2, -999.000,5,    6.623,2,   2156.0,2
   18HU92014_1,  AR7W,    45,  2, 111177,    OC5,2,19920608,2250, 57.7958, -51.3357, 3533,   1204.4,   2.8668,  34.8323,2,  34.8330,2,    346.3,2,    304.8,2,     9.12,6,    16.15,6,     1.06,6,    3.541,2,    1.496,2, -999.000,5,    6.314,2,   2155.9,2
   18HU92014_1,  AR7W,    45,  2, 111176,   OC24,2,19920608,2250, 57.7958, -51.3357, 3533,   1306.8,   2.8734,  34.8327,2,  34.8330,2,    346.7,2,    303.6,2,     9.16,6,    16.22,6,     1.06,6,    3.712,2,    1.721,2, -999.000,5,    6.626,2,   2155.6,6
   18HU92014_1,  AR7W,    45,  2, 111175,   OC15,2,19920608,2250, 57.7958, -51.3357, 3533,   1408.6,   2.8735,  34.8318,2,  34.8333,2,    348.4,2,    297.7,2,     9.15,6,    16.31,6,     1.06,6,    3.471,2,    1.491,2, -999.000,5,    6.156,2,   2155.3,2
   18HU92014_1,  AR7W,    45,  2, 111174,   OC11,2,19920608,2250, 57.7958, -51.3357, 3533,   1516.9,   2.8832,  34.8325,2,  34.8330,2,    348.3,2,    303.9,2,     9.22,6,    16.33,6,     1.08,6,    3.571,2,    1.682,2, -999.000,5,    6.302,2,   2156.6,6
   18HU92014_1,  AR7W,    45,  2, 111173,   OC27,2,19920608,2250, 57.7958, -51.3357, 3533,   1619.6,   2.8919,  34.8335,2,  34.8336,2,    348.8,2,    302.6,6,     9.26,6,    16.45,6,     1.07,6,    3.415,2,    1.395,2, -999.000,5,    6.136,2,   2064.4,4
   18HU92014_1,  AR7W,    45,  2, 111172,    OC3,2,19920608,2250, 57.7958, -51.3357, 3533,   1719.0,   2.9081,  34.8358,2,  34.8364,2,    348.1,2,    298.6,2,     9.37,6,    16.61,6,     1.08,6,    3.467,2,    1.587,2, -999.000,5,    6.246,2,   2154.7,2