BOTTLE,20010702WHPSIOKJU
EXPOCODE,SECT_ID,STNNBR,CASTNO,SAMPNO,BTLNBR,BTLNBR_FLAG_W,DATE,TIME,LATITUDE,LONGITUDE,DEPTH,CTDPRS,CTDTMP,CTDSAL,CTDSAL_FLAG_W,SALNTY,SALNTY_FLAG_W,CTDOXY,CTDOXY_FLAG_W,OXYGEN,OXYGEN_FLAG_W,SILCAT,SILCAT_FLAG_W,NO2+NO3,NO2+NO3_FLAG_W,PHSPHT,PHSPHT_FLAG_W,CFC-11,CFC-11_FLAG_W,CFC-12,CFC-12_FLAG_W,CFC113,CFC113_FLAG_W,CCL4,CCL4_FLAG_W,TCARBN,TCARBN_FLAG_W
,,,,,,,,,,,,DBAR,ITS-90,PSS-78,,PSS-78,,UMOL/KG,,UMOL/KG,,UMOL/KG,,UMOL/KG,,UMOL/KG,,PMOL/KG,,PMOL/KG,,PMOL/KG,,PMOL/KG,,UMOL/KG,
   18HU92014_1,  AR13,    52,  2, 111268,    OC7,2,19920611,0833, 51.6820, -48.8513, 3155,      8.9,   3.7704,  34.6123,2,  34.6135,2,    367.7,2,    348.6,2,     5.98,6,     8.76,6,     0.60,6,    4.944,2,    2.325,2, -999.000,5,    9.021,2,   2100.8,2
   18HU92014_1,  AR13,    52,  2, 111267,   OC14,2,19920611,0833, 51.6820, -48.8513, 3155,     52.3,   3.7105,  34.6155,2,  34.6195,2,    355.5,2,    340.9,2,     6.44,6,     9.61,6,     0.66,6,    4.803,2,    2.092,2, -999.000,5,    8.732,2,   2115.7,2
   18HU92014_1,  AR13,    52,  2, 111266,    OC1,2,19920611,0833, 51.6820, -48.8513, 3155,    106.2,   3.3807,  34.7901,2,  34.7896,2,    330.2,2,    290.2,2,     9.38,6,    16.33,6,     1.09,6,    3.661,2,    1.576,2, -999.000,5,    6.234,2,   2156.4,2
   18HU92014_1,  AR13,    52,  2, 111265,   OC23,2,19920611,0833, 51.6820, -48.8513, 3155,    155.7,   2.9055,  34.7716,2,  34.7718,2,    341.5,2,    307.2,2,     9.08,6,    15.68,6,     1.02,6,    4.190,2,    1.893,2, -999.000,5,    7.440,2,   2152.1,2
   18HU92014_1,  AR13,    52,  2, 111264,   OC19,2,19920611,0833, 51.6820, -48.8513, 3155,    203.5,   2.9831,  34.7956,2,  34.7968,2,    338.2,2,    301.3,2,     9.24,6,    16.15,6,     1.02,6,    4.014,2,    1.723,2, -999.000,5,    7.186,2,   2157.7,2
   18HU92014_1,  AR13,    52,  2, 111263,   OC22,2,19920611,0833, 51.6820, -48.8513, 3155,    306.7,   3.0535,  34.8249,2,  34.8262,2,    334.8,2,    297.5,2,     9.45,6,    16.56,6,     1.08,6,    3.614,2,    1.621,2, -999.000,5,    6.303,2,   2156.7,2
   18HU92014_1,  AR13,    52,  2, 111262,    OC9,2,19920611,0833, 51.6820, -48.8513, 3155,    406.0,   3.0712,  34.8329,2,  34.8330,2,    334.4,2,    296.2,2,     9.51,6,    16.46,6,     1.08,6,    3.553,2,    1.807,2, -999.000,5,    6.219,2,   2155.6,2
   18HU92014_1,  AR13,    52,  2, 111261,   OC20,2,19920611,0833, 51.6820, -48.8513, 3155,    493.3,   2.9867,  34.8282,2,  34.8332,2,    338.6,2,    291.2,2,     9.42,6,    16.29,6,     1.05,6,    3.433,2,    1.455,2, -999.000,5,    6.101,2,   2156.5,2
   18HU92014_1,  AR13,    52,  2, 111260,   OC12,2,19920611,0833, 51.6820, -48.8513, 3155,    593.7,   3.0129,  34.8367,2,  34.8300,2,    337.0,2,    301.5,2,     9.52,6,    16.15,6,     1.08,6,    3.503,2,    1.537,2, -999.000,5,    6.155,2,   2156.8,2
   18HU92014_1,  AR13,    52,  2, 111259,   OC16,2,19920611,0833, 51.6820, -48.8513, 3155,    684.6,   2.9888,  34.8394,2,  34.8395,2,    338.5,2,    300.7,2,     9.51,6,    16.53,6,     1.09,6,    3.612,2,    1.748,2, -999.000,5,    6.564,2,   2160.3,2
   18HU92014_1,  AR13,    52,  2, 111258,   OC18,2,19920611,0833, 51.6820, -48.8513, 3155,    784.7,   2.9567,  34.8390,2,  34.8402,2,    339.7,2,    299.5,2,     9.47,6,    16.44,6,     1.06,6,    3.520,2,    1.573,2, -999.000,5,    6.397,2,   2157.8,6
   18HU92014_1,  AR13,    52,  2, 111257,   OC13,2,19920611,0833, 51.6820, -48.8513, 3155,    893.4,   2.9330,  34.8394,2,  34.8408,2,    340.8,2,    301.6,2,     9.52,6,    16.53,6,     1.05,6,    3.354,2,    1.590,2, -999.000,5,    6.187,2,   2156.0,2
   18HU92014_1,  AR13,    52,  2, 111256,   OC17,2,19920611,0833, 51.6820, -48.8513, 3155,    979.2,   2.8933,  34.8346,2,  34.8352,2,    343.9,2,    299.9,2,     9.23,6,    16.38,6,     1.04,6,    3.552,2,    1.527,2, -999.000,5,    6.401,2,   -999.0,5
   18HU92014_1,  AR13,    52,  2, 111255,    OC5,2,19920611,0833, 51.6820, -48.8513, 3155,   1069.4,   2.8920,  34.8356,2,  34.8361,2,    343.5,2,    302.2,2,     9.30,6,    16.19,6,     1.05,6,    3.488,2,    1.503,2, -999.000,5,    6.289,2,   2151.3,6
   18HU92014_1,  AR13,    52,  2, 111254,   OC24,2,19920611,0833, 51.6820, -48.8513, 3155,   1152.8,   2.8944,  34.8357,2,  34.8362,2,    344.5,2,    302.1,2,     9.36,6,    16.35,6,     1.07,6,    3.635,2,    1.839,2, -999.000,5,    6.316,2,   2153.8,2
   18HU92014_1,  AR13,    52,  2, 111253,   OC15,2,19920611,0833, 51.6820, -48.8513, 3155,   1251.6,   2.8893,  34.8361,2,  34.8351,2,    344.0,2,    302.4,2,     9.35,6,    16.39,6,     1.06,6,    3.567,2,    1.610,2, -999.000,5,    6.439,2,   2155.4,2
   18HU92014_1,  AR13,    52,  2, 111252,   OC11,2,19920611,0833, 51.6820, -48.8513, 3155,   1367.8,   2.8903,  34.8368,2,  34.8367,2,    346.1,2,    302.2,6,     9.30,6,    16.37,6,     1.05,6,    3.452,2,    1.469,2, -999.000,5,    6.117,2,   2154.8,2
   18HU92014_1,  AR13,    52,  2, 111251,   OC27,2,19920611,0833, 51.6820, -48.8513, 3155,   1466.9,   2.8932,  34.8384,2,  34.8387,2,    345.6,2,    300.9,6,     9.36,6,    16.06,6,     1.05,6,    3.376,2,    1.476,2, -999.000,5,    6.141,2,   2155.7,6
   18HU92014_1,  AR13,    52,  2, 111250,    OC3,2,19920611,0833, 51.6820, -48.8513, 3155,   1568.5,   2.9074,  34.8418,2,  34.8372,2,    346.8,2,    301.7,6,     9.48,6,    16.15,6,     1.04,6, -999.000,9, -999.000,9, -999.000,9, -999.000,9,   2156.7,2