BOTTLE,20010702WHPSIOKJU
EXPOCODE,SECT_ID,STNNBR,CASTNO,SAMPNO,BTLNBR,BTLNBR_FLAG_W,DATE,TIME,LATITUDE,LONGITUDE,DEPTH,CTDPRS,CTDTMP,CTDSAL,CTDSAL_FLAG_W,SALNTY,SALNTY_FLAG_W,CTDOXY,CTDOXY_FLAG_W,OXYGEN,OXYGEN_FLAG_W,SILCAT,SILCAT_FLAG_W,NO2+NO3,NO2+NO3_FLAG_W,PHSPHT,PHSPHT_FLAG_W,CFC-11,CFC-11_FLAG_W,CFC-12,CFC-12_FLAG_W,CFC113,CFC113_FLAG_W,CCL4,CCL4_FLAG_W,TCARBN,TCARBN_FLAG_W
,,,,,,,,,,,,DBAR,ITS-90,PSS-78,,PSS-78,,UMOL/KG,,UMOL/KG,,UMOL/KG,,UMOL/KG,,UMOL/KG,,PMOL/KG,,PMOL/KG,,PMOL/KG,,PMOL/KG,,UMOL/KG,
   18HU92014_1,  AR13,    24,  1, 110823,    OC9,2,19920603,0207, 50.0005, -45.6672, 2426,      4.8,   5.3196,  33.7907,2,  33.7941,2,    347.3,2,    328.8,2,     3.06,6,     4.00,6,     0.48,6,    4.750,2,    2.453,2, -999.000,5,    8.237,2,   2077.3,6
   18HU92014_1,  AR13,    24,  1, 110822,   OC20,2,19920603,0207, 50.0005, -45.6672, 2426,     80.2,   4.6021,  34.4228,2,  34.3732,2,    301.6,2,    282.9,6,     7.30,6,    12.08,6,     0.97,6,    4.162,2,    2.020,2, -999.000,5,    6.707,2,   2136.1,6
   18HU92014_1,  AR13,    24,  1, 110821,   OC12,2,19920603,0207, 50.0005, -45.6672, 2426,    155.7,   5.0663,  34.7371,2,  34.7375,2,    264.4,2,    226.3,2,    11.78,6,    18.94,6,     1.28,6,    2.513,2,    1.336,2, -999.000,5,    3.796,2,   2175.8,2
   18HU92014_1,  AR13,    24,  1, 110820,    OC8,2,19920603,0207, 50.0005, -45.6672, 2426,    279.5,   4.0320,  34.7825,2,  34.7820,2,    302.0,2,    266.6,2,    10.00,6,    17.34,6,     1.16,6,    3.112,2,    1.864,2, -999.000,5,    5.074,2,   2164.6,6
   18HU92014_1,  AR13,    24,  1, 110819,    BO6,2,19920603,0207, 50.0005, -45.6672, 2426,    402.7,   4.4239,  34.9510,2,  34.9484,2,    293.3,2,    256.8,2,    10.75,6,    17.68,6,     1.21,6,    2.172,2,    1.099,2, -999.000,5,    3.791,2,   2172.9,2
   18HU92014_1,  AR13,    24,  1, 110818,   OC13,2,19920603,0207, 50.0005, -45.6672, 2426,    679.3,   3.7768,  34.9120,2,  34.9125,2,    311.5,2,    271.5,2,    10.44,6,    17.45,6,     1.15,6,    2.494,2,    1.711,2, -999.000,5,    4.552,2,   2168.4,2
   18HU92014_1,  AR13,    24,  1, 110817,   OC26,2,19920603,0207, 50.0005, -45.6672, 2426,    962.2,   3.2808,  34.8641,2,  34.8664,2,    325.5,2,    289.8,2,     9.84,6,    16.59,6,     1.14,6,    2.789,2,    1.527,2, -999.000,5,    4.987,2,   2164.0,2
   18HU92014_1,  AR13,    24,  1, 110816,    OC5,2,19920603,0207, 50.0005, -45.6672, 2426,   1236.5,   3.2695,  34.8788,2,  34.8806,2,    324.4,2,    286.4,2,    10.55,6,    16.82,6,     1.12,6,    2.259,2,    1.819,3, -999.000,5,    4.504,2,   2167.7,2
   18HU92014_1,  AR13,    24,  1, 110815,    OC4,2,19920603,0207, 50.0005, -45.6672, 2426,   1516.1,   3.2100,  34.8825,2,  34.8839,2,    325.2,2,    285.9,2,    10.84,6,    17.00,6,     1.12,6,    2.165,2,    1.265,2, -999.000,5,    4.304,2,   2163.2,2
   18HU92014_1,  AR13,    24,  1, 110814,   OC15,2,19920603,0207, 50.0005, -45.6672, 2426,   1796.8,   3.1258,  34.8877,2,  34.8873,2,    325.3,2,    286.7,6,    10.75,6,    16.53,6,     1.11,6,    2.149,2,    1.040,2, -999.000,5,    4.324,2,   2162.6,2
   18HU92014_1,  AR13,    24,  1, 110813,   OC11,4,19920603,0207, 50.0005, -45.6672, 2426,   2072.3,   3.1498,  34.9215,2,  34.9211,2,    319.3,2,    279.1,2,    12.42,6,    16.57,6,     1.12,6,    1.262,2,    0.706,2, -999.000,5,    2.790,2,   2162.5,6
   18HU92014_1,  AR13,    24,  1, 110812,   OC27,2,19920603,0207, 50.0005, -45.6672, 2426,   2350.7,   2.9488,  34.9251,2,  34.9345,2,    322.1,2,    278.6,2,    13.07,6,    16.48,6,     1.10,6,    1.202,2,    0.964,2, -999.000,5,    2.780,2,   2164.1,2
   18HU92014_1,  AR13,    24,  1, 110811,    OC3,2,19920603,0207, 50.0005, -45.6672, 2426,   2516.5,   2.6816,  34.9217,2,  34.9179,2,    326.6,2,    278.7,2,    12.96,6,    16.57,6,     1.09,6,    1.172,2,    0.803,2, -999.000,5,    2.759,2,   2166.5,6
   18HU92014_1,  AR13,    25,  1, 110832,    BO6,2,19920603,1914, 51.2405, -49.8983,  802,      2.5,  -0.1299,  32.7611,2,  32.7792,2,    421.4,2,    423.6,2,     6.78,6,     0.00,6,     0.24,6,    5.186,2,    2.300,2, -999.000,5,    9.323,2,   1967.7,2
   18HU92014_1,  AR13,    25,  1, 110831,   OC13,2,19920603,1914, 51.2405, -49.8983,  802,     54.5,   2.5594,  34.5921,2,  34.5923,2,    343.6,2,    314.8,2,     9.26,6,    14.52,6,     1.01,6,    4.312,2,    1.910,2, -999.000,5,    7.296,2,   2145.5,2
   18HU92014_1,  AR13,    25,  1, 110830,   OC26,2,19920603,1914, 51.2405, -49.8983,  802,     79.3,   2.6590,  34.6551,2,  34.6473,2,    335.4,2,    302.6,6,     9.58,6,    15.27,6,     1.07,6,    4.169,2,    1.917,2, -999.000,5,    6.916,2,   2150.8,2
   18HU92014_1,  AR13,    25,  1, 110829,    OC5,2,19920603,1914, 51.2405, -49.8983,  802,    154.6,   2.8806,  34.7354,2,  34.7311,2,    335.2,2,    295.2,2,     9.38,6,    15.56,6,     1.07,6,    4.051,2,    1.831,2, -999.000,5,    6.718,2,   2156.1,2
   18HU92014_1,  AR13,    25,  1, 110828,    OC4,2,19920603,1914, 51.2405, -49.8983,  802,    195.9,   2.9532,  34.7659,2,  34.7639,2,    335.4,2,    302.8,2,     9.34,6,    15.71,6,     1.06,6,    3.887,2,    1.752,2, -999.000,5,    6.569,2,   2158.0,2
   18HU92014_1,  AR13,    25,  1, 110827,   OC15,2,19920603,1914, 51.2405, -49.8983,  802,    296.0,   2.9518,  34.8023,2,  34.8006,2,    336.2,2,    303.6,2,     9.15,6,    15.88,6,     1.07,6,    3.847,2,    1.778,2, -999.000,5,    6.499,2,   2155.7,2
   18HU92014_1,  AR13,    25,  1, 110826,   OC11,2,19920603,1914, 51.2405, -49.8983,  802,    499.4,   2.9801,  34.8307,2,  34.8283,2,    335.8,2,    302.4,2,     9.17,6,    16.17,6,     1.08,6,    3.674,2,    1.678,2, -999.000,5,    6.321,2,   2160.5,2
   18HU92014_1,  AR13,    25,  1, 110825,   OC27,2,19920603,1914, 51.2405, -49.8983,  802,    693.4,   2.9867,  34.8416,2,  34.8409,2,    336.8,2,    296.7,6,     9.36,6,    16.22,6,     1.09,6,    3.530,2,    1.500,2, -999.000,5,    6.256,2,   -999.0,5
   18HU92014_1,  AR13,    25,  1, 110824,    OC3,2,19920603,1914, 51.2405, -49.8983,  802,    837.3,   2.9354,  34.8471,2,  34.8447,2,    340.9,2,    299.3,2,     9.59,6,    16.20,6,     1.08,6,    3.210,2,    1.442,2, -999.000,5,    5.637,2,   2162.1,2
   18HU92014_1,  AR13,    26,  1, 110844,   OC20,2,19920603,2158, 51.3722, -49.6183, 2024,      6.0,   4.4659,  34.5713,2,  34.5716,2,    356.4,2,    337.3,6,     6.54,6,    10.04,6,     0.73,6,    4.425,2,    1.981,2, -999.000,5,    7.744,2,   2075.4,2
   18HU92014_1,  AR13,    26,  1, 110843,   OC12,2,19920603,2158, 51.3722, -49.6183, 2024,     79.8,   3.3190,  34.7124,2,  34.7264,2,    336.5,2,    300.7,2,     9.09,6,    15.20,6,     1.05,6,    3.883,2,    1.685,2, -999.000,5,    6.600,2,   -999.0,5
   18HU92014_1,  AR13,    26,  1, 110842,    OC8,2,19920603,2158, 51.3722, -49.6183, 2024,    151.0,   3.1120,  34.7713,2,  34.7701,2,    337.6,2,    302.6,2,     9.47,6,    15.81,6,     1.08,6,    3.948,2,    1.932,2, -999.000,5,    6.793,2,   -999.0,5
   18HU92014_1,  AR13,    26,  1, 110841,    BO6,3,19920603,2158, 51.3722, -49.6183, 2024,    276.5,   3.1255,  34.8094,2,  34.8086,2,    334.2,2,    298.5,2,     9.69,6,    16.45,6,     1.10,6,    3.503,2,    1.501,2, -999.000,5,    5.891,2,   -999.0,5
   18HU92014_1,  AR13,    26,  1, 110840,   OC13,3,19920603,2158, 51.3722, -49.6183, 2024,    405.6,   3.0925,  34.8307,2,  34.8291,2,    334.0,2,    295.7,2,     9.76,6,    16.66,6,     1.10,6,    3.196,2,    1.327,2, -999.000,5,    5.462,2,   -999.0,5
   18HU92014_1,  AR13,    26,  1, 110839,   OC26,3,19920603,2158, 51.3722, -49.6183, 2024,    679.0,   3.0174,  34.8393,2,  34.8420,2,    335.5,2,    296.9,2,     9.74,6,    16.39,6,     1.09,6,    3.170,2,    1.369,2, -999.000,5,    5.479,2,   -999.0,5
   18HU92014_1,  AR13,    26,  1, 110838,    OC5,3,19920603,2158, 51.3722, -49.6183, 2024,    959.5,   2.9769,  34.8405,2,  34.8373,2,    339.2,2,    300.8,2,     9.64,6,    16.39,6,     1.09,6,    3.234,2,    1.406,2, -999.000,5,    5.678,2,   2118.8,2
   18HU92014_1,  AR13,    26,  1, 110837,    OC4,3,19920603,2158, 51.3722, -49.6183, 2024,   1226.7,   2.9499,  34.8425,2,  34.8424,2,    340.6,2,    300.0,2,     9.59,6,    16.28,6,     1.08,6,    3.245,2,    1.381,2, -999.000,5,    5.711,2,   -999.0,5
   18HU92014_1,  AR13,    26,  1, 110836,   OC15,2,19920603,2158, 51.3722, -49.6183, 2024,   1405.2,   2.9594,  34.8468,2,  34.8473,2,    340.8,2,    299.1,6,     9.81,6,    16.34,6,     1.09,6,    2.970,2,    1.206,2, -999.000,5,    5.398,2,   -999.0,5
   18HU92014_1,  AR13,    26,  1, 110835,   OC11,2,19920603,2158, 51.3722, -49.6183, 2024,   1609.2,   2.9789,  34.8555,2,  34.8562,2,    340.4,2,    297.6,6,    10.02,6,    16.38,6,     1.09,6, -999.000,9, -999.000,9, -999.000,9, -999.000,9,   -999.0,5
   18HU92014_1,  AR13,    26,  1, 110834,   OC27,2,19920603,2158, 51.3722, -49.6183, 2024,   1808.2,   3.0579,  34.8783,2,  34.8778,2,    335.3,2,    291.1,2,    10.58,6,    16.44,6,     1.09,6,    2.275,2,    0.885,2, -999.000,5,    4.238,2,   -999.0,5
   18HU92014_1,  AR13,    26,  1, 110833,    OC3,2,19920603,2158, 51.3722, -49.6183, 2024,   2088.5,   3.0418,  34.9155,2,  34.8725,2,    331.9,2,    282.6,2,    10.47,6,    16.40,6,     1.09,6,    1.466,2,    0.498,2, -999.000,5,    2.891,2,   2131.2,6
   18HU92014_1,  AR13,    27,  1, 110862,   OC14,2,19920604,0131, 51.5745, -49.1753, 2903,      3.7,   4.7371,  34.5395,2,  34.5410,2,    355.6,2,    331.6,2,     6.03,6,     9.56,6,     0.69,6,    4.502,2,    2.200,2, -999.000,5,    7.931,2,   2134.0,2
   18HU92014_1,  AR13,    27,  1, 110861,    OC1,2,19920604,0131, 51.5745, -49.1753, 2903,     74.5,   3.5683,  34.6295,2,  34.6288,2,    343.6,2,    317.5,2,     8.00,6,    13.06,6,     0.93,6,    4.594,2,    2.274,2, -999.000,5,    7.948,2,   2163.4,2
   18HU92014_1,  AR13,    27,  1, 110860,    OC2,2,19920604,0131, 51.5745, -49.1753, 2903,    147.0,   3.3745,  34.7556,2,  34.7522,2,    328.3,2,    294.3,2,     9.42,6,    16.03,6,     1.07,6,    3.786,2,    1.856,2, -999.000,5,    6.410,2,   2181.2,2
   18HU92014_1,  AR13,    27,  1, 110859,   OC19,2,19920604,0131, 51.5745, -49.1753, 2903,    226.4,   3.5146,  34.8508,2,  34.8483,2,    319.9,2,    284.8,2,    10.03,6,    17.12,6,     1.12,6,    3.200,2,    1.764,2, -999.000,5,    5.436,2,   2185.5,2
   18HU92014_1,  AR13,    27,  1, 110858,   OC22,2,19920604,0131, 51.5745, -49.1753, 2903,    301.9,   3.1879,  34.8308,2,  34.8316,2,    330.0,2,    293.8,2,     9.82,6,    16.82,6,     1.10,6,    3.282,2,    1.627,2, -999.000,5,    5.661,2,   2183.2,2
   18HU92014_1,  AR13,    27,  1, 110857,    OC9,2,19920604,0131, 51.5745, -49.1753, 2903,    387.0,   3.1507,  34.8407,2,  34.8401,2,    329.6,2,    292.7,6,     9.84,6,    16.86,6,     1.10,6,    3.143,2,    1.516,2, -999.000,5,    5.615,2,   -999.0,5
   18HU92014_1,  AR13,    27,  1, 110856,   OC20,2,19920604,0131, 51.5745, -49.1753, 2903,    612.4,   2.9549,  34.8280,2,  34.8403,2,    338.0,2,    297.8,2,     9.82,6,    16.84,6,     1.08,6,    2.987,2,    1.368,2, -999.000,5,    5.305,2,   2182.5,2
   18HU92014_1,  AR13,    27,  1, 110855,   OC12,2,19920604,0131, 51.5745, -49.1753, 2903,    822.8,   2.9505,  34.8372,2,  34.8375,2,    337.8,2,    299.3,2,     9.69,6,    16.50,6,     1.09,6,    3.216,2,    1.410,2, -999.000,5,    5.734,2,   2170.3,2
   18HU92014_1,  AR13,    27,  1, 110854,    OC8,2,19920604,0131, 51.5745, -49.1753, 2903,   1017.8,   2.9004,  34.8338,2,  34.8344,2,    341.7,2,    303.0,2,     9.53,6,    16.34,6,     1.08,6,    3.435,2,    1.525,2, -999.000,5,    6.000,2,   2189.5,2
   18HU92014_1,  AR13,    27,  1, 110853,    BO6,2,19920604,0131, 51.5745, -49.1753, 2903,   1201.6,   2.8994,  34.8344,2,  34.8357,2,    341.7,2,    303.1,2,     9.55,6,    16.36,6,     1.08,6,    3.447,2,    1.588,2, -999.000,5,    6.199,2,   2166.9,2
   18HU92014_1,  AR13,    27,  1, 110852,   OC13,2,19920604,0131, 51.5745, -49.1753, 2903,   1456.5,   2.8943,  34.8342,2,  34.8351,2,    342.6,2,    302.5,2,     9.59,6,    16.32,6,     1.09,6,    3.316,2,    1.437,2, -999.000,5,    5.998,2,   2161.8,2
   18HU92014_1,  AR13,    27,  1, 110851,   OC26,2,19920604,0131, 51.5745, -49.1753, 2903,   1723.1,   2.9195,  34.8402,2,  34.8391,2,    341.9,2,    302.7,2,     9.63,6,    16.29,6,     1.09,6,    3.294,2,    1.680,2, -999.000,5,    5.703,2,   2181.2,2
   18HU92014_1,  AR13,    27,  1, 110850,    OC5,2,19920604,0131, 51.5745, -49.1753, 2903,   1977.6,   2.9562,  34.8494,2,  34.8491,2,    340.2,2,    300.2,6,     9.84,6,    16.26,6,     1.08,6,    3.064,2,    1.555,2, -999.000,5,    5.530,2,   2182.7,2
   18HU92014_1,  AR13,    27,  1, 110849,    OC4,2,19920604,0131, 51.5745, -49.1753, 2903,   2225.8,   3.1623,  34.9200,2,  34.8981,2,    324.1,2,    281.1,2,    11.25,6,    16.49,6,     1.09,6,    1.307,2,    0.615,2, -999.000,5,    2.807,2,   2189.5,2
   18HU92014_1,  AR13,    27,  1, 110848,   OC15,2,19920604,0131, 51.5745, -49.1753, 2903,   2417.9,   2.9411,  34.9208,2,  34.9201,2,    326.3,2,    275.9,2,    12.16,6,    16.52,6,     1.09,6,    1.294,2,    0.510,2, -999.000,5,    2.901,2,   2184.7,2
   18HU92014_1,  AR13,    27,  1, 110847,   OC11,2,19920604,0131, 51.5745, -49.1753, 2903,   2604.0,   2.8044,  34.9176,2,  34.9174,2,    329.5,2,    283.7,2,    12.37,6,    15.99,6,     1.08,6,    1.487,2,    0.667,2, -999.000,5,    3.157,2,   2186.5,6
   18HU92014_1,  AR13,    27,  1, 110846,   OC27,2,19920604,0131, 51.5745, -49.1753, 2903,   2751.4,   2.5654,  34.9122,2,  34.9117,2,    333.6,2,    282.5,6,    12.61,6,    15.66,6,     1.06,6,    1.630,2,    0.656,2, -999.000,5,    3.466,2,   2191.4,2
   18HU92014_1,  AR13,    27,  1, 110845,    OC3,2,19920604,0131, 51.5745, -49.1753, 2903,   2966.8,   2.2941,  34.9033,2,  34.9018,2,    341.2,2,    287.4,2,    12.32,6,    15.31,6,     1.05,6,    1.829,2,    0.836,2, -999.000,5,    3.667,2,   2191.0,2
   18HU92014_1,  AR13,    28,  1, 110881,    OC7,2,19920604,0922, 51.8188, -48.6050, 3430,      6.6,   5.3316,  34.4891,2,  34.4883,2,    347.4,2,    330.1,2,     5.29,6,     8.03,6,     0.61,6, -999.000,9, -999.000,9, -999.000,9, -999.000,9,   -999.0,9
   18HU92014_1,  AR13,    28,  1, 110880,   OC14,2,19920604,0922, 51.8188, -48.6050, 3430,     78.8,   4.6583,  34.6238,2,  34.6252,2,    335.4,2,    314.4,2,     7.40,6,    11.43,6,     0.85,6, -999.000,9, -999.000,9, -999.000,9, -999.000,9,   -999.0,9
   18HU92014_1,  AR13,    28,  1, 110879,    OC1,2,19920604,0922, 51.8188, -48.6050, 3430,    155.2,   3.4175,  34.6638,2,  34.6291,2,    331.6,2,    311.4,2,     7.54,6,    11.89,6,     0.88,6, -999.000,9, -999.000,9, -999.000,9, -999.000,9,   -999.0,9
   18HU92014_1,  AR13,    28,  1, 110878,    OC2,2,19920604,0922, 51.8188, -48.6050, 3430,    233.5,   3.2831,  34.7502,2,  34.7460,2,    326.5,2,    293.3,6,     9.25,6,    16.16,6,     1.10,6, -999.000,9, -999.000,9, -999.000,9, -999.000,9,   -999.0,9
   18HU92014_1,  AR13,    28,  1, 110877,   OC19,2,19920604,0922, 51.8188, -48.6050, 3430,    308.6,   3.6231,  34.8451,2,  34.8437,2,    321.3,2,    393.2,4,     9.77,6,    16.87,6,     1.14,6, -999.000,9, -999.000,9, -999.000,9, -999.000,9,   -999.0,9
   18HU92014_1,  AR13,    28,  1, 110876,   OC22,2,19920604,0922, 51.8188, -48.6050, 3430,    409.2,   3.3881,  34.8476,2,  34.8482,2,    322.1,2,    289.2,2,     9.72,6,    16.80,6,     1.11,6, -999.000,9, -999.000,9, -999.000,9, -999.000,9,   -999.0,9
   18HU92014_1,  AR13,    28,  1, 110875,    OC9,2,19920604,0922, 51.8188, -48.6050, 3430,    670.7,   3.3101,  34.8597,2,  34.8580,2,    324.6,2,    289.2,2,    10.11,6,    16.89,6,     1.10,6, -999.000,9, -999.000,9, -999.000,9, -999.000,9,   -999.0,9
   18HU92014_1,  AR13,    28,  1, 110874,   OC20,2,19920604,0922, 51.8188, -48.6050, 3430,    931.2,   3.0188,  34.8327,2,  34.8336,2,    334.8,2,    278.4,2,     9.51,6,    16.41,6,     1.08,6, -999.000,9, -999.000,9, -999.000,9, -999.000,9,   -999.0,9
   18HU92014_1,  AR13,    28,  1, 110873,   OC12,2,19920604,0922, 51.8188, -48.6050, 3430,   1194.4,   3.0249,  34.8420,2,  34.8334,2,    335.8,2,    299.8,6,     9.49,6,    16.26,6,     1.06,6, -999.000,9, -999.000,9, -999.000,9, -999.000,9,   -999.0,9
   18HU92014_1,  AR13,    28,  1, 110872,    OC8,2,19920604,0922, 51.8188, -48.6050, 3430,   1453.0,   2.9977,  34.8432,2,  34.8440,2,    338.1,2,    288.1,2,     9.61,6,    16.11,6,     1.09,6, -999.000,9, -999.000,9, -999.000,9, -999.000,9,   -999.0,9
   18HU92014_1,  AR13,    28,  1, 110871,    BO6,2,19920604,0922, 51.8188, -48.6050, 3430,   1704.4,   3.0012,  34.8495,2,  34.8502,2,    337.3,2,    299.9,2,     9.63,6,    16.06,6,     1.08,6, -999.000,9, -999.000,9, -999.000,9, -999.000,9,   -999.0,9
   18HU92014_1,  AR13,    28,  1, 110870,   OC13,2,19920604,0922, 51.8188, -48.6050, 3430,   1960.1,   3.1657,  34.8921,2,  34.8937,2,    325.8,2,    282.5,6,    10.94,6,    16.33,6,     1.10,6, -999.000,9, -999.000,9, -999.000,9, -999.000,9,   -999.0,9
   18HU92014_1,  AR13,    28,  1, 110869,   OC26,2,19920604,0922, 51.8188, -48.6050, 3430,   2223.8,   3.0879,  34.9057,2,  34.9039,2,    323.7,2,    284.8,2,    11.14,6,    16.13,6,     1.09,6, -999.000,9, -999.000,9, -999.000,9, -999.000,9,   -999.0,9
   18HU92014_1,  AR13,    28,  1, 110868,    OC5,2,19920604,0922, 51.8188, -48.6050, 3430,   2500.6,   2.9430,  34.9178,2,  34.9186,2,    324.1,2,    281.7,2,    11.94,6,    16.01,6,     1.09,6, -999.000,9, -999.000,9, -999.000,9, -999.000,9,   -999.0,9
   18HU92014_1,  AR13,    28,  1, 110867,    OC4,4,19920604,0922, 51.8188, -48.6050, 3430,   2771.8,   2.7257,  34.9171,2,-999.0000,9,    326.1,2,   -999.0,9,  -999.00,9,  -999.00,9,  -999.00,9, -999.000,9, -999.000,9, -999.000,9, -999.000,9,   -999.0,9
   18HU92014_1,  AR13,    28,  1, 110866,   OC15,2,19920604,0922, 51.8188, -48.6050, 3430,   3039.9,   2.4902,  34.9138,2,  34.9162,2,    326.8,2,    282.0,2,    11.80,6,    14.97,6,     1.03,6, -999.000,9, -999.000,9, -999.000,9, -999.000,9,   -999.0,9
   18HU92014_1,  AR13,    28,  1, 110865,   OC11,2,19920604,0922, 51.8188, -48.6050, 3430,   3243.5,   2.1106,  34.8963,2,  34.8959,2,    336.8,2,    294.1,2,    11.77,6,    14.99,6,     1.02,6, -999.000,9, -999.000,9, -999.000,9, -999.000,9,   -999.0,9
   18HU92014_1,  AR13,    28,  1, 110864,   OC27,2,19920604,0922, 51.8188, -48.6050, 3430,   3398.6,   1.8784,  34.8889,2,  34.8886,2,    342.1,2,    296.0,2,    11.28,6,    14.58,6,     0.99,6, -999.000,9, -999.000,9, -999.000,9, -999.000,9,   -999.0,9
   18HU92014_1,  AR13,    28,  1, 110863,    OC3,2,19920604,0922, 51.8188, -48.6050, 3430,   3549.7,   1.8331,  34.8874,2,  34.8892,2,    347.0,2,    294.0,6,    11.38,6,    14.79,6,     1.00,6, -999.000,9, -999.000,9, -999.000,9, -999.000,9,   -999.0,9