BOTTLE,20010702WHPSIOKJU
EXPOCODE,SECT_ID,STNNBR,CASTNO,SAMPNO,BTLNBR,BTLNBR_FLAG_W,DATE,TIME,LATITUDE,LONGITUDE,DEPTH,CTDPRS,CTDTMP,CTDSAL,CTDSAL_FLAG_W,SALNTY,SALNTY_FLAG_W,CTDOXY,CTDOXY_FLAG_W,OXYGEN,OXYGEN_FLAG_W,SILCAT,SILCAT_FLAG_W,NO2+NO3,NO2+NO3_FLAG_W,PHSPHT,PHSPHT_FLAG_W,CFC-11,CFC-11_FLAG_W,CFC-12,CFC-12_FLAG_W,CFC113,CFC113_FLAG_W,CCL4,CCL4_FLAG_W,TCARBN,TCARBN_FLAG_W
,,,,,,,,,,,,DBAR,ITS-90,PSS-78,,PSS-78,,UMOL/KG,,UMOL/KG,,UMOL/KG,,UMOL/KG,,UMOL/KG,,PMOL/KG,,PMOL/KG,,PMOL/KG,,PMOL/KG,,UMOL/KG,
   18HU92014_1,  AR13,    12,  1, 110600,   OC19,2,19920531,0405, 50.5879, -40.4861, 4099,   -999.0,-999.0000,-999.0000,5,  34.8451,2,   -999.0,5,   -999.0,5,  -999.00,9,  -999.00,9,  -999.00,9, -999.000,9, -999.000,9, -999.000,9, -999.000,9,   2168.7,2
   18HU92014_1,  AR13,    12,  1, 110605,   OC21,2,19920531,0405, 50.5879, -40.4861, 4099,      5.5,  12.1038,  35.4499,2,  35.4478,2,    232.7,2,    254.1,2,     3.89,6,     6.77,6,     0.48,6,    2.769,2,    1.330,2, -999.000,5,    5.452,2,   2105.8,2
   18HU92014_1,  AR13,    12,  1, 110604,    OC6,2,19920531,0405, 50.5879, -40.4861, 4099,     79.8,  12.1534,  35.4876,2,  35.4929,2,    233.1,2,    256.9,2,     3.26,6,     6.65,6,     0.47,6,    2.683,2,    1.269,2, -999.000,5,    5.371,2,   2103.3,2
   18HU92014_1,  AR13,    12,  1, 110603,   OC14,2,19920531,0405, 50.5879, -40.4861, 4099,    150.3,  11.9269,  35.4516,2,  35.4516,2,    224.3,2,    248.4,2,     4.12,6,     7.89,6,     0.53,6,    2.716,2,    1.330,2, -999.000,5,    5.033,2,   2106.6,2
   18HU92014_1,  AR13,    12,  1, 110602,    OC1,2,19920531,0405, 50.5879, -40.4861, 4099,    276.2,  10.1634,  35.2468,2,  35.2462,2,    200.2,2,    214.8,2,     7.21,6,    14.10,6,     0.95,6,    2.248,2,    1.066,2, -999.000,5,    3.404,2,   2142.3,2
   18HU92014_1,  AR13,    12,  1, 110601,    OC2,2,19920531,0405, 50.5879, -40.4861, 4099,    325.2,   9.7572,  35.2296,2,  35.2271,2,    198.5,2,    221.6,2,     7.63,6,    14.54,6,     0.98,6,    2.363,2,    1.728,2, -999.000,5,    3.389,2,   2145.1,2
   18HU92014_1,  AR13,    12,  1, 110599,   OC22,2,19920531,0405, 50.5879, -40.4861, 4099,    907.1,   4.2233,  34.9228,2,  34.9216,2,    237.2,2,    263.5,2,    10.82,6,    17.63,6,     1.18,6,    2.249,2,    0.845,2, -999.000,5,    5.392,2,   2163.8,2
   18HU92014_1,  AR13,    12,  1, 110598,    OC9,2,19920531,0405, 50.5879, -40.4861, 4099,   1206.0,   3.5979,  34.8852,2,  34.8962,2,    252.4,2,    278.8,2,    10.48,6,    16.40,6,     1.15,6,    2.491,2,    1.281,2, -999.000,5,    6.243,2,   2158.3,6
   18HU92014_1,  AR13,    12,  1, 110597,   OC20,2,19920531,0405, 50.5879, -40.4861, 4099,   1466.9,   3.3996,  34.8759,2,  34.8752,2,    257.4,2,    264.8,3,    10.39,6,    13.93,6,     1.16,6,    2.433,2,    1.059,2, -999.000,5,    6.096,2,   2157.8,6
   18HU92014_1,  AR13,    12,  1, 110596,   OC12,2,19920531,0405, 50.5879, -40.4861, 4099,   1762.4,   3.3058,  34.8796,2,  34.8711,2,    257.2,2,    287.9,2,    10.42,6,    16.77,6,     1.11,6,    2.407,2,    1.685,2, -999.000,5,    6.152,2,   -999.0,5
   18HU92014_1,  AR13,    12,  1, 110595,    OC8,2,19920531,0405, 50.5879, -40.4861, 4099,   2062.4,   3.1586,  34.8684,2,-999.0000,5,    260.7,2,    275.2,2,  -999.00,9,  -999.00,9,  -999.00,9,    2.426,2,    1.216,2, -999.000,5,    5.836,2,   2157.9,2
   18HU92014_1,  AR13,    12,  1, 110594,    BO6,2,19920531,0405, 50.5879, -40.4861, 4099,   2334.2,   3.2612,  34.9091,2,  34.9077,2,    253.8,2,    280.4,2,    11.74,6,    16.58,6,     1.12,6,    1.552,2,    0.800,2, -999.000,5,    4.348,2,   2158.2,2
   18HU92014_1,  AR13,    12,  1, 110593,   OC13,2,19920531,0405, 50.5879, -40.4861, 4099,   2602.0,   3.1673,  34.9253,2,  34.9260,2,    250.9,2,    277.8,2,    12.56,6,    16.54,6,     1.13,6,    1.180,2,    0.951,2, -999.000,5,    3.681,2,   2159.6,2
   18HU92014_1,  AR13,    12,  1, 110592,   OC26,2,19920531,0405, 50.5879, -40.4861, 4099,   2862.4,   2.9795,  34.9293,2,  34.9375,2,    249.8,2,    270.5,2,    12.75,6,    16.31,6,     1.12,6,    1.478,2,    0.776,2, -999.000,5,    3.962,2,   2218.0,4
   18HU92014_1,  AR13,    12,  1, 110591,    OC5,2,19920531,0405, 50.5879, -40.4861, 4099,   3123.7,   2.7979,  34.9316,2,  34.9330,2,    249.7,2,    277.2,2,    14.79,6,    16.39,6,     1.13,6,    1.006,2,    0.663,2, -999.000,5,    3.125,2,   2161.2,6
   18HU92014_1,  AR13,    12,  1, 110590,    OC4,2,19920531,0405, 50.5879, -40.4861, 4099,   3403.0,   2.5286,  34.9167,2,  34.9635,2,    251.5,2,    272.0,2,    13.53,6,    16.04,6,     1.09,6,    1.823,2,    0.928,2, -999.000,5,    4.505,2,   2157.6,2
   18HU92014_1,  AR13,    12,  1, 110589,   OC15,2,19920531,0405, 50.5879, -40.4861, 4099,   3675.4,   2.3241,  34.9057,2,  34.9107,2,    254.8,2,    282.2,2,    15.50,6,    15.89,6,     1.10,6,    1.356,2,    0.583,2, -999.000,5,    4.022,2,   2162.0,2
   18HU92014_1,  AR13,    12,  1, 110588,   OC11,2,19920531,0405, 50.5879, -40.4861, 4099,   3950.3,   2.1816,  34.8997,2,  34.9125,2,    257.3,2,    282.3,6,    14.54,6,    15.71,6,     1.10,6,    1.596,2,    0.704,2, -999.000,5,    4.335,2,   2162.8,2
   18HU92014_1,  AR13,    12,  1, 110587,   OC27,2,19920531,0405, 50.5879, -40.4861, 4099,   4109.4,   2.1155,  34.8966,2,  34.9021,2,    259.5,2,    286.0,2,    14.61,6,    15.40,6,     1.08,6,    1.678,2,    0.761,2, -999.000,5,    4.571,2,   2161.4,2
   18HU92014_1,  AR13,    12,  1, 110586,    OC3,3,19920531,0405, 50.5879, -40.4861, 4099,   4285.3,   2.0140,  34.8916,2,  35.1501,4,    264.3,2,    271.0,6,     9.20,6,    12.43,6,     0.88,6,    1.877,2,    0.844,2, -999.000,5,    4.783,2,   2142.9,4
   18HU92014_1,  AR13,    13,  1, 110625,   OC21,4,19920531,1007, 51.1048, -40.4884, 4053,      4.0,  11.7142,  35.2796,2,  35.4767,3,    243.7,2,    251.1,2,     3.32,6,     6.56,6,     0.47,6, -999.000,9, -999.000,9, -999.000,9, -999.000,9,   -999.0,9
   18HU92014_1,  AR13,    13,  1, 110624,    OC6,2,19920531,1007, 51.1048, -40.4884, 4053,     81.8,  12.3196,  35.4828,2,-999.0000,5,    230.7,2,    254.9,2,     3.33,6,     6.63,6,     0.47,6, -999.000,9, -999.000,9, -999.000,9, -999.000,9,   -999.0,9
   18HU92014_1,  AR13,    13,  1, 110623,   OC14,2,19920531,1007, 51.1048, -40.4884, 4053,    158.6,  10.4932,  35.1690,2,  35.1634,2,    192.9,3,    214.7,2,     6.34,6,    13.09,6,     0.87,6, -999.000,9, -999.000,9, -999.000,9, -999.000,9,   -999.0,9
   18HU92014_1,  AR13,    13,  1, 110622,    OC1,2,19920531,1007, 51.1048, -40.4884, 4053,    281.4,   9.3264,  35.1745,2,-999.0000,5,    178.9,3,    198.5,2,     9.39,6,    17.65,6,     1.16,6, -999.000,9, -999.000,9, -999.000,9, -999.000,9,   -999.0,9
   18HU92014_1,  AR13,    13,  1, 110621,    OC2,2,19920531,1007, 51.1048, -40.4884, 4053,    407.8,   7.0520,  34.9438,2,  34.9436,2,    177.8,3,    197.5,2,    12.15,6,    19.88,6,     1.37,6, -999.000,9, -999.000,9, -999.000,9, -999.000,9,   -999.0,9
   18HU92014_1,  AR13,    13,  1, 110620,   OC19,2,19920531,1007, 51.1048, -40.4884, 4053,    682.8,   4.0202,  34.8484,2,  34.8450,2,    245.5,2,    270.1,3,    10.21,6,    17.09,6,     1.17,6, -999.000,9, -999.000,9, -999.000,9, -999.000,9,   -999.0,9
   18HU92014_1,  AR13,    13,  1, 110619,   OC22,2,19920531,1007, 51.1048, -40.4884, 4053,    962.4,   3.9590,  34.9293,2,  34.9284,2,    245.3,2,    271.9,2,    10.70,6,    17.68,6,     1.16,6, -999.000,9, -999.000,9, -999.000,9, -999.000,9,   -999.0,9
   18HU92014_1,  AR13,    13,  1, 110618,    OC9,2,19920531,1007, 51.1048, -40.4884, 4053,   1241.4,   3.4806,  34.8834,2,  34.8818,2,    256.5,2,    284.9,2,    10.35,6,    16.92,6,     1.12,6, -999.000,9, -999.000,9, -999.000,9, -999.000,9,   -999.0,9
   18HU92014_1,  AR13,    13,  1, 110617,   OC20,2,19920531,1007, 51.1048, -40.4884, 4053,   1520.5,   3.2736,  34.8700,2,  34.8720,2,    260.6,2,    290.3,2,    10.50,6,    16.61,6,     1.10,6, -999.000,9, -999.000,9, -999.000,9, -999.000,9,   -999.0,9
   18HU92014_1,  AR13,    13,  1, 110616,   OC12,2,19920531,1007, 51.1048, -40.4884, 4053,   1796.2,   3.2092,  34.8739,2,  34.8964,2,    261.9,2,    284.7,2,    11.23,6,    16.65,6,     1.11,6, -999.000,9, -999.000,9, -999.000,9, -999.000,9,   -999.0,9
   18HU92014_1,  AR13,    13,  1, 110615,    OC8,2,19920531,1007, 51.1048, -40.4884, 4053,   2077.1,   3.2758,  34.9058,2,-999.0000,5,    254.4,2,    280.3,2,  -999.00,5,  -999.00,5,  -999.00,5, -999.000,9, -999.000,9, -999.000,9, -999.000,9,   -999.0,9
   18HU92014_1,  AR13,    13,  1, 110614,    BO6,2,19920531,1007, 51.1048, -40.4884, 4053,   2354.7,   3.1952,  34.9206,2,  34.9260,2,    252.1,2,    277.4,2,    12.87,6,    16.65,6,     1.11,6, -999.000,9, -999.000,9, -999.000,9, -999.000,9,   -999.0,9
   18HU92014_1,  AR13,    13,  1, 110613,   OC13,2,19920531,1007, 51.1048, -40.4884, 4053,   2630.2,   3.0220,  34.9277,2,  34.9264,2,    251.2,2,    278.1,2,    14.23,6,    16.75,6,     1.12,6, -999.000,9, -999.000,9, -999.000,9, -999.000,9,   -999.0,9
   18HU92014_1,  AR13,    13,  1, 110612,   OC26,2,19920531,1007, 51.1048, -40.4884, 4053,   2913.5,   2.8085,  34.9272,2,  34.9268,2,    250.9,2,    273.6,2,    14.06,6,    16.37,6,     1.11,6, -999.000,9, -999.000,9, -999.000,9, -999.000,9,   -999.0,9
   18HU92014_1,  AR13,    13,  1, 110611,    OC5,2,19920531,1007, 51.1048, -40.4884, 4053,   3194.6,   2.5732,  34.9197,2,  34.9099,2,    252.3,2,    280.8,2,    16.33,6,    16.36,6,     1.12,6, -999.000,9, -999.000,9, -999.000,9, -999.000,9,   -999.0,9
   18HU92014_1,  AR13,    13,  1, 110610,    OC4,2,19920531,1007, 51.1048, -40.4884, 4053,   3468.8,   2.3716,  34.9099,2,  34.9247,2,    253.9,2,    274.6,2,    14.43,6,    16.69,6,     1.12,6, -999.000,9, -999.000,9, -999.000,9, -999.000,9,   -999.0,9
   18HU92014_1,  AR13,    13,  1, 110609,   OC15,2,19920531,1007, 51.1048, -40.4884, 4053,   3743.6,   2.2240,  34.9026,2,  34.9039,2,    256.4,2,    283.1,6,    15.74,6,    15.82,6,     1.09,6, -999.000,9, -999.000,9, -999.000,9, -999.000,9,   -999.0,9
   18HU92014_1,  AR13,    13,  1, 110608,   OC11,4,19920531,1007, 51.1048, -40.4884, 4053,   3895.4,   2.1574,  34.8989,2,  34.8984,2,    258.1,2,    284.2,2,    15.20,6,    15.85,6,     1.10,6, -999.000,9, -999.000,9, -999.000,9, -999.000,9,   -999.0,9
   18HU92014_1,  AR13,    13,  1, 110607,   OC27,2,19920531,1007, 51.1048, -40.4884, 4053,   4039.1,   2.0961,  34.8958,2,  34.8943,2,    262.2,2,    283.4,6,    14.02,6,    15.49,6,     1.06,6, -999.000,9, -999.000,9, -999.000,9, -999.000,9,   -999.0,9
   18HU92014_1,  AR13,    13,  1, 110606,    OC3,2,19920531,1007, 51.1048, -40.4884, 4053,   4233.5,   1.9977,  34.8909,2,  34.9195,2,    265.7,2,    283.3,2,    12.49,6,    15.59,6,     1.05,6, -999.000,9, -999.000,9, -999.000,9, -999.000,9,   -999.0,9
   18HU92014_1,  AR13,    14,  1, 110644,    OC6,2,19920531,1927, 51.6472, -40.4945, 4136,      3.5,   7.9965,  34.6946,2,-999.0000,5,    323.0,2,    302.0,2,     3.69,6,     7.17,6,     0.58,6,    3.856,2,    1.765,2, -999.000,5,    6.346,2,   -999.0,9
   18HU92014_1,  AR13,    14,  1, 110643,   OC14,2,19920531,1927, 51.6472, -40.4945, 4136,     78.4,   7.8765,  34.6997,2,  34.7049,2,    298.5,2,    290.9,2,     4.49,6,     8.13,6,     0.64,6,    3.790,2,    1.712,2, -999.000,5,    6.214,2,   -999.0,9
   18HU92014_1,  AR13,    14,  1, 110642,    OC1,2,19920531,1927, 51.6472, -40.4945, 4136,    151.0,   7.4388,  34.8387,2,-999.0000,5,    253.2,2,    241.1,2,     8.56,6,    14.85,6,     1.03,6,    2.974,6,    1.396,6, -999.000,5,    4.270,6,   -999.0,9
   18HU92014_1,  AR13,    14,  1, 110641,    OC2,2,19920531,1927, 51.6472, -40.4945, 4136,    274.4,   5.5005,  34.7388,2,  34.7372,2,    271.2,2,    254.2,2,     9.77,6,    16.38,6,     1.12,6,    3.154,2,    1.355,2, -999.000,5,    5.078,2,   -999.0,9
   18HU92014_1,  AR13,    14,  1, 110640,   OC19,2,19920531,1927, 51.6472, -40.4945, 4136,    403.3,   4.7322,  34.8074,2,-999.0000,5,    275.4,2,    256.0,3,    10.65,6,    17.44,6,     1.16,6,    2.849,2,    1.208,2, -999.000,5,    4.659,2,   -999.0,9
   18HU92014_1,  AR13,    14,  1, 110639,   OC22,2,19920531,1927, 51.6472, -40.4945, 4136,    683.5,   4.0433,  34.9092,2,-999.0000,5,    289.1,2,    270.4,6,    10.58,6,    17.51,6,     1.15,6,    2.647,2,    1.231,2, -999.000,5,    4.561,2,   -999.0,9
   18HU92014_1,  AR13,    14,  1, 110638,    OC9,2,19920531,1927, 51.6472, -40.4945, 4136,    963.4,   3.5255,  34.8801,2,-999.0000,5,    303.1,2,    282.2,2,    10.36,6,    17.09,6,     1.14,6,    2.614,2,    1.120,2, -999.000,5,    4.841,2,   -999.0,9
   18HU92014_1,  AR13,    14,  1, 110637,   OC20,2,19920531,1927, 51.6472, -40.4945, 4136,   1238.6,   3.3083,  34.8685,2,-999.0000,5,    309.7,2,    283.2,2,    10.34,6,    17.16,6,     1.14,6,    2.757,2,    1.150,2, -999.000,5,    5.125,2,   -999.0,9
   18HU92014_1,  AR13,    14,  1, 110636,   OC12,2,19920531,1927, 51.6472, -40.4945, 4136,   1519.8,   3.2207,  34.8686,2,-999.0000,5,    312.3,2,    289.1,2,    10.51,6,    16.94,6,     1.10,6,    2.496,2,    1.122,2, -999.000,5,    4.749,2,   -999.0,9
   18HU92014_1,  AR13,    14,  1, 110635,    OC8,2,19920531,1927, 51.6472, -40.4945, 4136,   1796.2,   3.1690,  34.8729,2,-999.0000,5,    312.7,2,    288.4,2,    11.01,6,    16.80,6,     1.10,6,    2.426,2,    0.934,2, -999.000,5,    4.576,2,   -999.0,9
   18HU92014_1,  AR13,    14,  1, 110634,    BO6,2,19920531,1927, 51.6472, -40.4945, 4136,   2071.2,   3.2746,  34.9096,2,  34.9057,2,    304.3,2,    280.9,2,    11.70,6,    16.86,6,     1.11,6,    1.593,2,    0.610,2, -999.000,5,    3.419,2,   -999.0,9
   18HU92014_1,  AR13,    14,  1, 110633,   OC13,2,19920531,1927, 51.6472, -40.4945, 4136,   2348.0,   3.1960,  34.9294,2,  34.9270,2,    299.5,2,    277.6,2,    12.54,6,    16.77,6,     1.11,6,    1.131,2,    0.472,2, -999.000,5,    2.606,2,   -999.0,9
   18HU92014_1,  AR13,    14,  1, 110632,   OC26,2,19920531,1927, 51.6472, -40.4945, 4136,   2628.9,   2.9866,  34.9286,2,-999.0000,5,    301.1,2,    277.7,6,    12.93,6,    16.81,6,     1.11,6,    1.173,2,    0.426,2, -999.000,5,    2.669,2,   -999.0,9
   18HU92014_1,  AR13,    14,  1, 110631,    OC5,2,19920531,1927, 51.6472, -40.4945, 4136,   2904.9,   2.8248,  34.9278,2,-999.0000,5,    302.5,2,    278.1,2,    14.72,6,    16.63,6,     1.10,6,    0.975,2,    0.388,2, -999.000,5,    2.338,2,   -999.0,9
   18HU92014_1,  AR13,    14,  1, 110630,    OC4,2,19920531,1927, 51.6472, -40.4945, 4136,   3184.7,   2.6274,  34.9230,2,  34.9029,2,    304.9,2,    280.9,2,    13.82,6,    16.96,6,     1.14,6,    1.094,2,    0.372,2, -999.000,5,    2.546,2,   -999.0,9
   18HU92014_1,  AR13,    14,  1, 110629,   OC15,2,19920531,1927, 51.6472, -40.4945, 4136,   3451.8,   2.4494,  34.9151,2,-999.0000,5,    306.8,2,    281.1,2,    16.74,6,    16.71,6,     1.13,6,    1.064,2,    0.404,2, -999.000,5,    2.617,2,   -999.0,9
   18HU92014_1,  AR13,    14,  1, 110628,   OC11,2,19920531,1927, 51.6472, -40.4945, 4136,   3645.8,   2.3280,  34.9085,2,-999.0000,5,    309.3,2,    281.0,2,    16.53,6,    16.70,6,     1.12,6,    1.204,2,    0.412,2, -999.000,5,    2.876,2,   -999.0,9
   18HU92014_1,  AR13,    14,  1, 110627,   OC27,2,19920531,1927, 51.6472, -40.4945, 4136,   3823.8,   2.2508,  34.9040,2,-999.0000,5,    311.7,2,    283.9,2,    16.89,6,    16.47,6,     1.10,6,    1.235,2,    0.397,2, -999.000,5,    2.807,2,   -999.0,9
   18HU92014_1,  AR13,    14,  1, 110626,    OC3,2,19920531,1927, 51.6472, -40.4945, 4136,   4257.0,   2.1020,  34.8951,2,-999.0000,5,    321.0,2,    281.5,2,    16.85,6,    16.40,6,     1.10,6,    1.228,2,    0.389,2, -999.000,5,    2.678,2,   -999.0,9
   18HU92014_1,  AR13,    15,  1, 110659,   OC19,2,19920601,0024, 52.1321, -40.4996, 2866,      3.4,   7.6808,  34.6281,4,  34.6288,2,    318.6,4,    296.9,2,     4.48,6,     7.81,6,     0.60,6,    3.767,2,    1.837,2, -999.000,5,    5.993,2,   2104.8,6
   18HU92014_1,  AR13,    15,  1, 110658,   OC22,2,19920601,0024, 52.1321, -40.4996, 2866,     83.8,   7.7085,  34.6447,4,  34.6447,2,    302.5,4,    290.6,2,     4.72,6,     8.06,6,     0.63,6,    3.842,2,    1.818,2, -999.000,5,    6.112,2,   2109.1,2
   18HU92014_1,  AR13,    15,  1, 110657,    OC9,2,19920601,0024, 52.1321, -40.4996, 2866,    156.7,   6.6274,  34.2646,4,  34.7382,2,    151.6,4,    225.0,2,    10.07,6,    17.18,6,     1.15,6,    2.691,2,    1.196,2, -999.000,5,    3.781,2,   2159.0,2
   18HU92014_1,  AR13,    15,  1, 110656,   OC20,2,19920601,0024, 52.1321, -40.4996, 2866,    284.2,   5.2696,  34.4661,4,  34.7712,2,    148.9,4,    231.1,3,    10.98,6,    18.06,6,     1.20,6,    2.637,2,    1.507,2, -999.000,5,    4.034,2,   2167.0,6
   18HU92014_1,  AR13,    15,  1, 110655,   OC12,2,19920601,0024, 52.1321, -40.4996, 2866,    410.4,   4.6725,  34.7422,4,  34.8702,2,    174.4,4,    251.7,2,    10.99,6,    18.14,6,     1.17,6,    2.589,2,    1.142,2, -999.000,5,    4.126,2,   2167.9,2
   18HU92014_1,  AR13,    15,  1, 110654,    OC8,2,19920601,0024, 52.1321, -40.4996, 2866,    686.2,   3.8936,  34.8852,2,  34.9002,2,    237.9,4,    275.6,2,    10.24,6,    17.38,6,     1.14,6,    2.766,2,    1.455,2, -999.000,5,    4.578,2,   2161.8,2
   18HU92014_1,  AR13,    15,  1, 110653,    BO6,2,19920601,0024, 52.1321, -40.4996, 2866,    959.8,   3.5406,  34.8863,2,  34.8861,2,    302.1,2,    283.8,2,    10.37,6,    17.10,6,     1.12,6,    2.468,2,    1.037,2, -999.000,5,    4.358,2,   2160.7,2
   18HU92014_1,  AR13,    15,  1, 110652,   OC13,2,19920601,0024, 52.1321, -40.4996, 2866,   1239.5,   3.3054,  34.8696,2,  34.8689,2,    306.9,2,    288.8,2,    10.56,6,    17.04,6,     1.14,6,    2.472,2,    1.065,2, -999.000,5,    4.653,2,   2158.7,2
   18HU92014_1,  AR13,    15,  1, 110651,   OC26,2,19920601,0024, 52.1321, -40.4996, 2866,   1521.5,   3.2250,  34.8695,2,-999.0000,5,    310.2,2,    288.6,2,    10.49,6,    17.00,6,     1.12,6,    2.349,2,    1.213,2, -999.000,5,    4.344,2,   2157.2,2
   18HU92014_1,  AR13,    15,  1, 110650,    OC5,2,19920601,0024, 52.1321, -40.4996, 2866,   1800.3,   3.2324,  34.8869,2,  34.8866,2,    307.6,2,    287.6,2,    10.99,6,    17.00,6,     1.10,6,    2.010,2,    0.835,2, -999.000,5,    3.821,2,   2157.9,2
   18HU92014_1,  AR13,    15,  1, 110649,    OC4,2,19920601,0024, 52.1321, -40.4996, 2866,   2071.3,   3.2477,  34.9156,2,  34.9136,2,    302.5,2,    281.6,2,    11.96,6,    17.11,6,     1.11,6,    1.412,2,    0.621,2, -999.000,5,    3.050,2,   2159.8,2
   18HU92014_1,  AR13,    15,  1, 110648,   OC15,2,19920601,0024, 52.1321, -40.4996, 2866,   2343.1,   3.1790,  34.9350,2,-999.0000,5,    300.9,2,    278.1,6,    12.70,6,    16.96,6,     1.10,6,    1.154,2,    0.970,2, -999.000,5,    2.524,2,   2161.7,2
   18HU92014_1,  AR13,    15,  1, 110647,   OC11,2,19920601,0024, 52.1321, -40.4996, 2866,   2625.0,   2.9562,  34.9361,2,-999.0000,5,    302.4,2,    277.9,2,    13.65,6,    16.70,6,     1.08,6,    1.119,2,    0.488,2, -999.000,5,    2.486,2,   2162.8,2
   18HU92014_1,  AR13,    15,  1, 110646,   OC27,2,19920601,0024, 52.1321, -40.4996, 2866,   2908.5,   2.7945,  34.9305,2,  34.9282,2,    306.2,2,    279.2,2,    14.61,6,    16.51,6,     1.10,6,    1.020,2,    0.348,2, -999.000,5,    2.351,2,   2163.8,2
   18HU92014_1,  AR13,    15,  1, 110645,    OC3,2,19920601,0024, 52.1321, -40.4996, 2866,   2977.0,   2.7824,  34.9296,2,  34.9227,2,    306.0,2,    280.3,2,    14.60,6,    16.32,6,     1.10,6,    1.082,2,    0.450,2, -999.000,5,    2.371,2,   2163.5,2