BOTTLE,20010702WHPSIOKJU
EXPOCODE,SECT_ID,STNNBR,CASTNO,SAMPNO,BTLNBR,BTLNBR_FLAG_W,DATE,TIME,LATITUDE,LONGITUDE,DEPTH,CTDPRS,CTDTMP,CTDSAL,CTDSAL_FLAG_W,SALNTY,SALNTY_FLAG_W,CTDOXY,CTDOXY_FLAG_W,OXYGEN,OXYGEN_FLAG_W,SILCAT,SILCAT_FLAG_W,NO2+NO3,NO2+NO3_FLAG_W,PHSPHT,PHSPHT_FLAG_W,CFC-11,CFC-11_FLAG_W,CFC-12,CFC-12_FLAG_W,CFC113,CFC113_FLAG_W,CCL4,CCL4_FLAG_W,TCARBN,TCARBN_FLAG_W
,,,,,,,,,,,,DBAR,ITS-90,PSS-78,,PSS-78,,UMOL/KG,,UMOL/KG,,UMOL/KG,,UMOL/KG,,UMOL/KG,,PMOL/KG,,PMOL/KG,,PMOL/KG,,PMOL/KG,,UMOL/KG,
   18HU92014_1,  AR13,    29,  1, 110901,   OC21,2,19920604,1415, 52.1153, -47.9462, 3672,      5.8,   5.1214,  34.5756,2,  34.5768,2,    351.6,2,    326.6,2,     7.14,6,    10.62,6,     0.78,6,    4.535,2,    2.167,2, -999.000,5,    8.174,2,   -999.0,9
   18HU92014_1,  AR13,    29,  1, 110900,    OC7,2,19920604,1415, 52.1153, -47.9462, 3672,     81.6,   4.3649,  34.6225,2,  34.6235,2,    347.2,2,    320.9,2,     7.49,6,    11.99,6,     0.86,6,    4.410,2,    2.172,2, -999.000,5,    7.650,2,   -999.0,9
   18HU92014_1,  AR13,    29,  1, 110899,   OC14,2,19920604,1415, 52.1153, -47.9462, 3672,    157.6,   3.5507,  34.6339,2,  34.6347,2,    337.9,2,    305.9,2,     8.17,6,    14.35,6,     0.99,6,    4.285,2,    1.924,2, -999.000,5,    7.443,2,   -999.0,9
   18HU92014_1,  AR13,    29,  1, 110898,    OC1,2,19920604,1415, 52.1153, -47.9462, 3672,    281.8,   3.5075,  34.7370,2,  34.7425,2,    321.1,2,    288.3,2,     9.32,6,    16.40,6,     1.09,6,    3.838,2,    1.817,2, -999.000,5,    6.385,2,   -999.0,9
   18HU92014_1,  AR13,    29,  1, 110897,    OC2,2,19920604,1415, 52.1153, -47.9462, 3672,    409.3,   3.8708,  34.8668,2,  34.8669,2,    312.4,2,    275.3,2,     9.84,6,    17.19,6,     1.14,6,    3.091,2,    1.384,2, -999.000,5,    5.210,2,   -999.0,9
   18HU92014_1,  AR13,    29,  1, 110896,   OC19,2,19920604,1415, 52.1153, -47.9462, 3672,    643.0,   3.5313,  34.8703,2,  34.8682,2,    318.9,2,    274.7,2,     9.77,6,    17.02,6,     1.15,6,    3.110,2,    1.455,2, -999.000,5,    4.952,2,   -999.0,9
   18HU92014_1,  AR13,    29,  1, 110895,   OC22,2,19920604,1415, 52.1153, -47.9462, 3672,    883.6,   3.3641,  34.8658,2,  34.8677,2,    323.5,2,    286.2,2,     9.87,6,    16.76,6,     1.12,6,    2.609,2,    1.347,2, -999.000,5,    4.659,2,   -999.0,9
   18HU92014_1,  AR13,    29,  1, 110894,    OC9,2,19920604,1415, 52.1153, -47.9462, 3672,   1121.4,   3.1585,  34.8503,2,  34.8504,2,    330.2,2,    294.2,2,     9.62,6,    16.56,6,     1.10,6,    2.876,2,    1.381,2, -999.000,5,    5.029,2,   -999.0,9
   18HU92014_1,  AR13,    29,  1, 110893,   OC20,2,19920604,1415, 52.1153, -47.9462, 3672,   1366.9,   3.1320,  34.8558,2,  34.8512,2,    330.9,2,    293.7,6,     9.66,6,    16.71,6,     1.11,6,    2.888,2,    1.292,2, -999.000,5,    4.996,2,   -999.0,9
   18HU92014_1,  AR13,    29,  1, 110892,   OC12,2,19920604,1415, 52.1153, -47.9462, 3672,   1597.4,   3.1081,  34.8619,2,  34.8574,2,    330.9,2,    292.8,2,     9.94,6,    16.82,6,     1.13,6,    2.643,2,    1.134,2, -999.000,5,    4.872,2,   -999.0,9
   18HU92014_1,  AR13,    29,  1, 110891,    OC8,2,19920604,1415, 52.1153, -47.9462, 3672,   1830.5,   3.1750,  34.8848,2,  34.8859,2,    326.1,2,    287.2,2,    10.68,6,    16.74,6,     1.11,6,    1.932,2,    0.920,2, -999.000,5,    3.622,2,   -999.0,9
   18HU92014_1,  AR13,    29,  1, 110890,    BO6,2,19920604,1415, 52.1153, -47.9462, 3672,   2068.0,   3.2126,  34.9133,2,  34.9138,2,    320.2,2,    280.1,6,    11.60,6,    16.60,6,     1.10,6,    1.379,2,    0.548,2, -999.000,5,    2.915,2,   -999.0,9
   18HU92014_1,  AR13,    29,  1, 110889,   OC13,2,19920604,1415, 52.1153, -47.9462, 3672,   2294.9,   3.1291,  34.9250,2,  34.9252,2,    318.6,2,    269.5,4,    12.45,6,    16.41,6,     1.09,6,    1.187,2,    0.650,2, -999.000,5,    2.490,2,   -999.0,9
   18HU92014_1,  AR13,    29,  1, 110888,   OC26,2,19920604,1415, 52.1153, -47.9462, 3672,   2520.7,   2.9570,  34.9274,2,  34.9250,2,    319.6,2,    278.6,2,    12.76,6,    16.37,6,     1.10,6,    1.213,2,    0.530,2, -999.000,5,    2.517,2,   -999.0,9
   18HU92014_1,  AR13,    29,  1, 110887,    OC5,2,19920604,1415, 52.1153, -47.9462, 3672,   2760.7,   2.8302,  34.9317,2,  34.9325,2,    320.4,2,    272.5,2,    13.75,6,    16.41,6,     1.11,6,    1.121,2,    0.479,2, -999.000,5,    2.479,2,   -999.0,9
   18HU92014_1,  AR13,    29,  1, 110886,    OC4,2,19920604,1415, 52.1153, -47.9462, 3672,   3016.5,   2.6178,  34.9252,2,  34.9130,2,    321.5,2,    278.6,2,    13.95,6,    16.56,6,     1.12,6,    1.052,2,    0.625,2, -999.000,5,    2.229,2,   -999.0,9
   18HU92014_1,  AR13,    29,  1, 110885,   OC15,2,19920604,1415, 52.1153, -47.9462, 3672,   3251.1,   2.3612,  34.9085,2,  34.9236,2,    327.4,2,    278.1,2,    15.47,6,    16.56,6,     1.13,6,    0.989,2,    0.334,2, -999.000,5,    2.213,2,   -999.0,9
   18HU92014_1,  AR13,    29,  1, 110884,   OC11,2,19920604,1415, 52.1153, -47.9462, 3672,   3492.6,   2.1622,  34.8994,2,  34.9098,2,    331.4,2,    283.6,2,    14.89,6,    16.18,6,     1.09,6,    1.343,2,    1.054,2, -999.000,5,    2.718,2,   -999.0,9
   18HU92014_1,  AR13,    29,  1, 110883,   OC27,2,19920604,1415, 52.1153, -47.9462, 3672,   3648.8,   2.0255,  34.8931,2,  34.8983,2,    337.5,2,    286.4,6,    14.61,6,    15.79,6,     1.05,6,    1.543,2,    0.749,2, -999.000,5,    2.955,2,   -999.0,9
   18HU92014_1,  AR13,    29,  1, 110882,    OC3,2,19920604,1415, 52.1153, -47.9462, 3672,   3856.7,   1.7842,  34.8839,2,  34.8934,2,    343.0,2,    290.8,2,    12.44,6,    15.18,6,     1.01,6,    1.883,2,    0.829,2, -999.000,5,    3.503,2,   -999.0,9
   18HU92014_1,  AR13,    30,  1, 110921,   OC21,2,19920604,1950, 52.4017, -47.2760, 3830,      6.6,   6.1454,  34.5567,2,  34.5568,2,    340.3,2,    316.8,2,     5.33,6,     8.79,6,     0.66,6, -999.000,9, -999.000,9, -999.000,9, -999.000,9,   2103.4,2
   18HU92014_1,  AR13,    30,  1, 110920,    OC7,2,19920604,1950, 52.4017, -47.2760, 3830,     82.5,   5.0315,  34.6426,2,  34.6437,2,    327.1,2,    302.7,2,     7.88,6,    12.46,6,     0.91,6, -999.000,9, -999.000,9, -999.000,9, -999.000,9,   2129.2,2
   18HU92014_1,  AR13,    30,  1, 110919,   OC14,2,19920604,1950, 52.4017, -47.2760, 3830,    153.0,   4.0449,  34.6901,2,  34.6926,2,    321.4,2,    285.3,2,     9.26,6,    16.03,6,     1.08,6, -999.000,9, -999.000,9, -999.000,9, -999.000,9,   2148.2,2
   18HU92014_1,  AR13,    30,  1, 110918,    OC1,3,19920604,1950, 52.4017, -47.2760, 3830,    282.1,   3.9501,  34.8383,2,  34.6760,4,    308.7,2,    290.6,2,     9.09,6,    15.58,6,     1.04,6, -999.000,9, -999.000,9, -999.000,9, -999.000,9,   2067.0,4
   18HU92014_1,  AR13,    30,  1, 110917,    OC2,2,19920604,1950, 52.4017, -47.2760, 3830,    409.2,   3.6764,  34.8444,2,  34.8444,2,    317.7,2,    280.4,2,     9.98,6,    17.45,6,     1.11,6, -999.000,9, -999.000,9, -999.000,9, -999.000,9,   2074.6,4
   18HU92014_1,  AR13,    30,  1, 110916,   OC19,2,19920604,1950, 52.4017, -47.2760, 3830,    650.3,   3.4999,  34.8686,2,  34.8693,2,    322.3,2,    284.3,2,    10.34,6,    17.77,6,     1.12,6, -999.000,9, -999.000,9, -999.000,9, -999.000,9,   2156.9,2
   18HU92014_1,  AR13,    30,  1, 110915,   OC22,2,19920604,1950, 52.4017, -47.2760, 3830,    880.2,   3.2792,  34.8582,2,  34.8596,2,    328.1,2,    288.4,2,    10.19,6,    17.42,6,     1.12,6, -999.000,9, -999.000,9, -999.000,9, -999.000,9,   2154.8,2
   18HU92014_1,  AR13,    30,  1, 110914,    OC9,2,19920604,1950, 52.4017, -47.2760, 3830,   1108.7,   3.1835,  34.8567,2,  34.8562,2,    331.2,2,    291.5,2,    10.23,6,    17.28,6,     1.13,6, -999.000,9, -999.000,9, -999.000,9, -999.000,9,   2154.3,2
   18HU92014_1,  AR13,    30,  1, 110913,   OC20,2,19920604,1950, 52.4017, -47.2760, 3830,   1356.8,   3.1096,  34.8548,2,  34.8571,2,    333.9,2,    292.6,2,    10.23,6,    17.19,6,     1.14,6, -999.000,9, -999.000,9, -999.000,9, -999.000,9,   2153.6,2
   18HU92014_1,  AR13,    30,  1, 110912,   OC12,2,19920604,1950, 52.4017, -47.2760, 3830,   1593.3,   3.0565,  34.8547,2,  34.8551,2,    335.8,2,    295.4,6,    10.26,6,    17.00,6,     1.15,6, -999.000,9, -999.000,9, -999.000,9, -999.000,9,   -999.0,5
   18HU92014_1,  AR13,    30,  1, 110911,    OC8,2,19920604,1950, 52.4017, -47.2760, 3830,   1835.2,   3.1884,  34.8922,2,  34.8920,2,    325.4,2,    284.6,2,    11.25,6,    17.03,6,     1.13,6, -999.000,9, -999.000,9, -999.000,9, -999.000,9,   2155.6,2
   18HU92014_1,  AR13,    30,  1, 110910,    BO6,2,19920604,1950, 52.4017, -47.2760, 3830,   2082.7,   3.1835,  34.9179,2,  34.9175,2,    320.9,2,    279.7,2,    12.29,6,    17.07,6,     1.12,6, -999.000,9, -999.000,9, -999.000,9, -999.000,9,   2157.2,2
   18HU92014_1,  AR13,    30,  1, 110909,   OC13,2,19920604,1950, 52.4017, -47.2760, 3830,   2325.6,   3.0587,  34.9260,2,  34.9267,2,    319.9,2,    278.4,6,    12.85,6,    16.92,6,     1.11,6, -999.000,9, -999.000,9, -999.000,9, -999.000,9,   2157.3,2
   18HU92014_1,  AR13,    30,  1, 110908,   OC26,9,19920604,1950, 52.4017, -47.2760, 3830,   2571.7,   2.9072,  34.9270,2,-999.0000,9,    321.4,2,   -999.0,9,  -999.00,9,  -999.00,9,  -999.00,9, -999.000,9, -999.000,9, -999.000,9, -999.000,9,   -999.0,9
   18HU92014_1,  AR13,    30,  1, 110907,    OC5,9,19920604,1950, 52.4017, -47.2760, 3830,   2818.9,   2.7142,  34.9256,2,-999.0000,9,    323.1,2,   -999.0,9,  -999.00,9,  -999.00,9,  -999.00,9, -999.000,9, -999.000,9, -999.000,9, -999.000,9,   -999.0,9
   18HU92014_1,  AR13,    30,  1, 110906,    OC4,9,19920604,1950, 52.4017, -47.2760, 3830,   3060.3,   2.4876,  34.9148,2,-999.0000,9,    325.7,2,   -999.0,9,  -999.00,9,  -999.00,9,  -999.00,9, -999.000,9, -999.000,9, -999.000,9, -999.000,9,   -999.0,9
   18HU92014_1,  AR13,    30,  1, 110905,   OC15,2,19920604,1950, 52.4017, -47.2760, 3830,   3294.5,   2.2938,  34.9055,2,  34.9099,2,    329.1,2,    280.5,2,    15.21,6,    16.53,6,     1.08,6, -999.000,9, -999.000,9, -999.000,9, -999.000,9,   2158.7,2
   18HU92014_1,  AR13,    30,  1, 110904,   OC11,2,19920604,1950, 52.4017, -47.2760, 3830,   3532.1,   2.1394,  34.8987,2,  34.9049,2,    332.5,2,    283.3,6,    15.39,6,    16.43,6,     1.10,6, -999.000,9, -999.000,9, -999.000,9, -999.000,9,   2159.9,6
   18HU92014_1,  AR13,    30,  1, 110903,   OC27,2,19920604,1950, 52.4017, -47.2760, 3830,   3732.4,   2.0266,  34.8935,2,  34.8972,2,    337.1,2,    285.3,2,    15.03,6,    16.04,6,     1.09,6, -999.000,9, -999.000,9, -999.000,9, -999.000,9,   2163.0,2
   18HU92014_1,  AR13,    30,  1, 110902,    OC3,2,19920604,1950, 52.4017, -47.2760, 3830,   3993.1,   1.8878,  34.8872,2,  34.8920,2,    344.9,2,    288.3,2,    13.52,6,    15.55,6,     1.05,6, -999.000,9, -999.000,9, -999.000,9, -999.000,9,   2073.8,4
   18HU92014_1,  AR13,    31,  1, 110941,   OC21,2,19920605,0029, 52.6757, -46.5925, 3908,      4.4,   8.0693,  34.8255,2,  34.8261,2,    318.6,2,    288.5,2,     5.24,6,     9.32,6,     0.68,6,    3.459,2,    1.602,2, -999.000,5,    5.443,2,   2112.5,4
   18HU92014_1,  AR13,    31,  1, 110940,    OC7,2,19920605,0029, 52.6757, -46.5925, 3908,     54.8,   8.0720,  34.8249,2,  34.8249,2,    311.9,2,    290.7,2,     5.29,6,     9.51,6,     0.69,6,    3.405,2,    1.620,2, -999.000,5,    5.446,2,   2113.0,4
   18HU92014_1,  AR13,    31,  1, 110939,   OC14,2,19920605,0029, 52.6757, -46.5925, 3908,    129.2,   7.2910,  34.8826,2,  34.8849,2,    280.2,2,    248.4,2,     8.53,6,    15.17,6,     1.04,6,    2.952,2,    1.557,2, -999.000,5,    4.157,2,   2142.6,4
   18HU92014_1,  AR13,    31,  1, 110938,    OC1,3,19920605,0029, 52.6757, -46.5925, 3908,    250.4,   4.9781,  34.7236,2,  34.8747,4,    300.3,2,    251.4,2,     8.57,6,    15.07,6,     1.03,6,    3.099,2,    1.749,2, -999.000,5,    4.473,2,   2137.9,4
   18HU92014_1,  AR13,    31,  1, 110937,    OC2,2,19920605,0029, 52.6757, -46.5925, 3908,    380.5,   3.5153,  34.7123,2,  34.7061,2,    327.3,2,    301.0,2,     9.13,6,    15.82,6,     1.08,6,    4.112,2,    2.277,2, -999.000,5,    6.886,2,   1974.7,4
   18HU92014_1,  AR13,    31,  1, 110936,   OC19,2,19920605,0029, 52.6757, -46.5925, 3908,    620.5,   3.7426,  34.8662,2,  34.8681,2,    315.8,2,    280.0,2,    10.24,6,    17.59,6,     1.17,6,    3.007,2,    1.382,2, -999.000,5,    5.052,2,   2081.0,4
   18HU92014_1,  AR13,    31,  1, 110935,   OC22,2,19920605,0029, 52.6757, -46.5925, 3908,    849.1,   3.4067,  34.8598,2,  34.8583,2,    321.5,2,    285.8,2,    10.12,6,    17.40,6,     1.15,6,    2.873,2,    1.292,2, -999.000,5,    4.801,2,   2158.4,4
   18HU92014_1,  AR13,    31,  1, 110934,    OC9,2,19920605,0029, 52.6757, -46.5925, 3908,   1086.5,   3.2481,  34.8533,2,  34.8545,2,    327.8,2,    290.7,2,    10.12,6,    17.29,6,     1.14,6,    2.800,2,    1.192,2, -999.000,5,    5.067,2,   2036.1,4
   18HU92014_1,  AR13,    31,  1, 110933,   OC20,2,19920605,0029, 52.6757, -46.5925, 3908,   1302.5,   3.1657,  34.8528,2,  34.8543,2,    330.7,2,    290.5,2,    10.18,6,    17.27,6,     1.14,6,    2.715,2,    1.153,2, -999.000,5,    4.827,2,   2154.8,4
   18HU92014_1,  AR13,    31,  1, 110932,   OC12,2,19920605,0029, 52.6757, -46.5925, 3908,   1550.9,   3.1995,  34.8696,2,  34.8549,2,    328.0,2,    292.6,2,    10.22,6,    17.31,6,     1.13,6,    2.689,2,    1.189,2, -999.000,5,    5.022,2,   2045.2,4
   18HU92014_1,  AR13,    31,  1, 110931,    OC8,2,19920605,0029, 52.6757, -46.5925, 3908,   1772.2,   3.1118,  34.8647,2,  34.8651,2,    330.4,2,    291.9,6,    10.57,6,    17.16,6,     1.13,6,    2.510,2,    1.160,2, -999.000,5,    4.758,2,   2155.8,4
   18HU92014_1,  AR13,    31,  1, 110930,    BO6,3,19920605,0029, 52.6757, -46.5925, 3908,   2024.9,   3.2519,  34.9046,2,  34.8700,2,    320.6,2,    289.2,6,    10.55,6,    17.21,6,     1.14,6,    2.583,2,    1.235,2, -999.000,5,    4.727,2,   2068.5,4
   18HU92014_1,  AR13,    31,  1, 110929,   OC13,2,19920605,0029, 52.6757, -46.5925, 3908,   2265.8,   3.1585,  34.9152,2,  34.9146,2,    320.2,2,    269.5,6,    12.09,6,    17.13,6,     1.12,6,    1.960,2,    1.250,2, -999.000,5,    3.197,2,   2157.7,4
   18HU92014_1,  AR13,    31,  1, 110928,   OC17,2,19920605,0029, 52.6757, -46.5925, 3908,   2538.9,   3.0149,  34.9228,2,  34.9033,2,    320.0,2,    283.7,2,    11.92,6,    17.17,6,     1.12,6,    1.666,2,    0.956,2, -999.000,5,    3.137,2,   2158.1,4
   18HU92014_1,  AR13,    31,  1, 110927,    OC5,4,19920605,0029, 52.6757, -46.5925, 3908,   2786.6,   2.8137,  34.9249,2,-999.0000,9,    320.8,2,   -999.0,9,  -999.00,9,  -999.00,9,  -999.00,9, -999.000,9, -999.000,9, -999.000,9, -999.000,9,   -999.0,9
   18HU92014_1,  AR13,    31,  1, 110926,    OC4,2,19920605,0029, 52.6757, -46.5925, 3908,   3035.3,   2.5992,  34.9221,2,  34.9229,2,    321.5,2,    280.5,2,    15.46,6,    17.05,6,     1.11,6,    1.101,2,    0.612,2, -999.000,5,    2.431,2,   2162.1,4
   18HU92014_1,  AR13,    31,  1, 110925,   OC15,2,19920605,0029, 52.6757, -46.5925, 3908,   3268.9,   2.3980,  34.9098,2,  34.9219,2,    325.2,2,    280.8,2,    15.44,6,    17.08,6,     1.11,6,    1.073,2,    0.645,2, -999.000,5,    2.428,2,   2120.8,4
   18HU92014_1,  AR13,    31,  1, 110924,   OC11,2,19920605,0029, 52.6757, -46.5925, 3908,   3505.6,   2.2121,  34.9016,2,  34.9104,2,    329.9,2,    280.9,2,    15.56,6,    16.90,6,     1.08,6,    1.215,2,    0.896,2, -999.000,5,    2.690,2,   2073.9,4
   18HU92014_1,  AR13,    31,  1, 110923,   OC27,2,19920605,0029, 52.6757, -46.5925, 3908,   3699.1,   2.0779,  34.8954,2,  34.9013,2,    333.3,2,    286.1,2,    15.32,6,    16.32,6,     1.09,6,    1.461,2,    0.596,2, -999.000,5,    3.121,2,   2162.6,4
   18HU92014_1,  AR13,    31,  1, 110922,    OC3,2,19920605,0029, 52.6757, -46.5925, 3908,   4084.3,   1.9365,  34.8888,2,  34.8949,2,    342.4,2,    288.6,2,    13.88,6,    15.94,6,     1.07,6,    1.722,2,    0.625,2, -999.000,5,    3.583,2,   2161.1,4