BOTTLE,20010702WHPSIOKJU
EXPOCODE,SECT_ID,STNNBR,CASTNO,SAMPNO,BTLNBR,BTLNBR_FLAG_W,DATE,TIME,LATITUDE,LONGITUDE,DEPTH,CTDPRS,CTDTMP,CTDSAL,CTDSAL_FLAG_W,SALNTY,SALNTY_FLAG_W,CTDOXY,CTDOXY_FLAG_W,OXYGEN,OXYGEN_FLAG_W,SILCAT,SILCAT_FLAG_W,NO2+NO3,NO2+NO3_FLAG_W,PHSPHT,PHSPHT_FLAG_W,CFC-11,CFC-11_FLAG_W,CFC-12,CFC-12_FLAG_W,CFC113,CFC113_FLAG_W,CCL4,CCL4_FLAG_W,TCARBN,TCARBN_FLAG_W
,,,,,,,,,,,,DBAR,ITS-90,PSS-78,,PSS-78,,UMOL/KG,,UMOL/KG,,UMOL/KG,,UMOL/KG,,UMOL/KG,,PMOL/KG,,PMOL/KG,,PMOL/KG,,PMOL/KG,,UMOL/KG,
   18HU92014_1,  AR13,     9,  1, 110545,   OC21,2,19920530,0545, 48.9962, -40.4859, 4329,      5.4,  12.4606,  35.5564,2,  35.5546,2,    246.1,2,    263.9,2,     3.22,6,     6.25,6,     0.42,6, -999.000,9, -999.000,9, -999.000,9, -999.000,9,   2099.2,2
   18HU92014_1,  AR13,     9,  1, 110544,    OC6,2,19920530,0545, 48.9962, -40.4859, 4329,     79.1,  12.3056,  35.5574,2,  35.5569,2,    233.3,2,    254.6,2,     3.39,6,     7.29,6,     0.49,6, -999.000,9, -999.000,9, -999.000,9, -999.000,9,   2107.6,2
   18HU92014_1,  AR13,     9,  1, 110543,   OC14,2,19920530,0545, 48.9962, -40.4859, 4329,    154.8,  12.0560,  35.5410,2,  35.5396,2,    237.0,2,    257.7,2,     3.34,6,     7.18,6,     0.49,6, -999.000,9, -999.000,9, -999.000,9, -999.000,9,   2108.2,2
   18HU92014_1,  AR13,     9,  1, 110542,    OC1,2,19920530,0545, 48.9962, -40.4859, 4329,    281.1,  10.7464,  35.4013,2,  35.4029,2,    231.7,2,    251.0,2,     5.03,6,    10.76,6,     0.71,6, -999.000,9, -999.000,9, -999.000,9, -999.000,9,   2125.6,6
   18HU92014_1,  AR13,     9,  1, 110541,    OC2,2,19920530,0545, 48.9962, -40.4859, 4329,    404.6,   8.9613,  35.1036,2,  35.1069,2,    182.1,2,    200.4,2,     9.25,6,    17.40,6,     1.14,6, -999.000,9, -999.000,9, -999.000,9, -999.000,9,   2161.7,6
   18HU92014_1,  AR13,     9,  1, 110540,   BO13,2,19920530,0545, 48.9962, -40.4859, 4329,    677.6,   5.8705,  34.9287,2,  34.9263,2,    200.0,2,    216.3,2,    11.64,6,    19.64,6,     1.29,6, -999.000,9, -999.000,9, -999.000,9, -999.000,9,   2174.2,2
   18HU92014_1,  AR13,     9,  1, 110539,   OC10,2,19920530,0545, 48.9962, -40.4859, 4329,    958.6,   4.4773,  34.9457,2,  34.9920,2,    242.9,2,    252.7,2,    10.25,6,    17.42,6,     1.14,6, -999.000,9, -999.000,9, -999.000,9, -999.000,9,   2161.2,2
   18HU92014_1,  AR13,     9,  1, 110538,    OC9,2,19920530,0545, 48.9962, -40.4859, 4329,   1236.4,   3.8746,  34.9156,2,  34.9192,2,    261.6,2,    271.6,2,    10.32,6,    17.46,6,     1.19,6, -999.000,9, -999.000,9, -999.000,9, -999.000,9,   2160.0,2
   18HU92014_1,  AR13,     9,  1, 110537,   OC20,2,19920530,0545, 48.9962, -40.4859, 4329,   1512.3,   3.5780,  34.8976,2,  34.8967,2,    268.3,2,    279.3,6,    10.70,6,    17.48,6,     1.13,6, -999.000,9, -999.000,9, -999.000,9, -999.000,9,   2157.7,2
   18HU92014_1,  AR13,     9,  1, 110536,   OC12,2,19920530,0545, 48.9962, -40.4859, 4329,   1788.8,   3.4315,  34.8907,2,  34.8888,2,    271.6,2,    282.9,2,    10.81,6,    17.44,6,     1.14,6, -999.000,9, -999.000,9, -999.000,9, -999.000,9,   2155.3,2
   18HU92014_1,  AR13,     9,  1, 110535,    OC8,2,19920530,0545, 48.9962, -40.4859, 4329,   2070.9,   3.3740,  34.9013,2,  34.9073,2,    270.5,2,    280.5,2,    11.26,6,    16.83,6,     1.12,6, -999.000,9, -999.000,9, -999.000,9, -999.000,9,   2157.6,2
   18HU92014_1,  AR13,     9,  1, 110534,    BO6,2,19920530,0545, 48.9962, -40.4859, 4329,   2348.9,   3.3644,  34.9245,2,-999.0000,5,    266.3,2,    274.7,2,    12.16,6,    17.07,6,     1.14,6, -999.000,9, -999.000,9, -999.000,9, -999.000,9,   2158.6,6
   18HU92014_1,  AR13,     9,  1, 110533,   OC13,2,19920530,0545, 48.9962, -40.4859, 4329,   2628.4,   3.2298,  34.9339,2,  34.9308,2,    263.9,2,    275.3,2,    13.31,6,    17.04,6,     1.12,6, -999.000,9, -999.000,9, -999.000,9, -999.000,9,   2160.2,2
   18HU92014_1,  AR13,     9,  1, 110532,   OC26,2,19920530,0545, 48.9962, -40.4859, 4329,   2906.9,   3.0282,  34.9329,2,  34.9377,2,    267.2,2,    265.2,2,    13.54,6,    17.04,6,     1.13,6, -999.000,9, -999.000,9, -999.000,9, -999.000,9,   2160.6,2
   18HU92014_1,  AR13,     9,  1, 110531,    OC5,2,19920530,0545, 48.9962, -40.4859, 4329,   3182.1,   2.8337,  34.9293,2,  34.9266,2,    268.0,2,    277.2,2,    15.11,6,    16.86,6,     1.11,6, -999.000,9, -999.000,9, -999.000,9, -999.000,9,   2161.9,2
   18HU92014_1,  AR13,     9,  1, 110530,    OC4,2,19920530,0545, 48.9962, -40.4859, 4329,   3463.7,   2.6117,  34.9208,2,  34.9295,2,    270.3,2,    268.6,2,    14.58,6,    16.61,6,     1.09,6, -999.000,9, -999.000,9, -999.000,9, -999.000,9,   2161.0,2
   18HU92014_1,  AR13,     9,  1, 110529,   OC25,2,19920530,0545, 48.9962, -40.4859, 4329,   3744.1,   2.3887,  34.9103,2,  34.9081,2,    272.8,2,    279.7,2,    17.03,6,    16.86,6,     1.11,6, -999.000,9, -999.000,9, -999.000,9, -999.000,9,   2165.5,2
   18HU92014_1,  AR13,     9,  1, 110528,   OC11,2,19920530,0545, 48.9962, -40.4859, 4329,   4020.9,   2.2563,  34.9033,2,  34.9092,2,    275.9,2,    279.3,6,    17.54,6,    16.78,6,     1.13,6, -999.000,9, -999.000,9, -999.000,9, -999.000,9,   2162.0,2
   18HU92014_1,  AR13,     9,  1, 110527,   OC27,2,19920530,0545, 48.9962, -40.4859, 4329,   4306.9,   2.1604,  34.8981,2,  34.8972,2,    282.9,2,    282.4,2,    15.52,6,    15.83,6,     1.05,6, -999.000,9, -999.000,9, -999.000,9, -999.000,9,   2166.9,2
   18HU92014_1,  AR13,     9,  1, 110526,    OC3,2,19920530,0545, 48.9962, -40.4859, 4329,   4512.0,   2.0577,  34.8930,2,  34.9975,2,    287.4,2,    257.3,2,    10.14,6,    16.22,6,     1.06,6, -999.000,9, -999.000,9, -999.000,9, -999.000,9,   2159.0,2
   18HU92014_1,  AR13,    10,  1, 110546,    OC3,2,19920530,1137, 49.5132, -40.4880, 4340,   -999.0,-999.0000,-999.0000,5,  34.9273,2,   -999.0,5,   -999.0,5,  -999.00,9,  -999.00,9,  -999.00,9, -999.000,9, -999.000,9, -999.000,9, -999.000,9,   -999.0,9
   18HU92014_1,  AR13,    10,  1, 110547,   OC27,2,19920530,1137, 49.5132, -40.4880, 4340,   -999.0,-999.0000,-999.0000,5,  34.8922,2,   -999.0,5,   -999.0,5,  -999.00,9,  -999.00,9,  -999.00,9, -999.000,9, -999.000,9, -999.000,9, -999.000,9,   -999.0,9
   18HU92014_1,  AR13,    10,  1, 110565,   OC21,2,19920530,1137, 49.5132, -40.4880, 4340,    144.7,  10.1489,  35.2818,2,  35.2761,2,    229.5,2,    242.5,2,     6.31,6,    12.13,6,     0.84,6, -999.000,9, -999.000,9, -999.000,9, -999.000,9,   -999.0,9
   18HU92014_1,  AR13,    10,  1, 110564,    OC6,2,19920530,1137, 49.5132, -40.4880, 4340,    271.6,   8.2432,  35.0594,2,  35.0555,2,    263.0,2,    271.5,2,     7.04,6,    12.45,6,     0.89,6, -999.000,9, -999.000,9, -999.000,9, -999.000,9,   -999.0,9
   18HU92014_1,  AR13,    10,  1, 110563,   OC14,2,19920530,1137, 49.5132, -40.4880, 4340,    385.9,   8.4732,  35.1298,2,  35.0705,2,    260.0,2,    272.7,2,     6.73,6,    12.32,6,     0.85,6, -999.000,9, -999.000,9, -999.000,9, -999.000,9,   -999.0,9
   18HU92014_1,  AR13,    10,  1, 110562,    OC1,2,19920530,1137, 49.5132, -40.4880, 4340,    674.8,   6.3129,  34.8464,2,  34.8472,2,    225.3,2,    239.2,3,    10.15,6,    16.50,6,     1.13,6, -999.000,9, -999.000,9, -999.000,9, -999.000,9,   -999.0,9
   18HU92014_1,  AR13,    10,  1, 110561,    OC2,2,19920530,1137, 49.5132, -40.4880, 4340,    675.0,   6.3180,  34.8456,2,  34.8451,2,    226.7,2,    240.5,3,     9.95,6,    16.70,6,     1.16,6, -999.000,9, -999.000,9, -999.000,9, -999.000,9,   -999.0,9
   18HU92014_1,  AR13,    10,  1, 110560,   BO13,2,19920530,1137, 49.5132, -40.4880, 4340,   1232.4,   3.8398,  34.9077,2,  34.9102,2,    264.6,2,    274.3,3,    10.63,6,    17.39,6,     1.18,6, -999.000,9, -999.000,9, -999.000,9, -999.000,9,   -999.0,9
   18HU92014_1,  AR13,    10,  1, 110559,   OC10,2,19920530,1137, 49.5132, -40.4880, 4340,   1510.2,   3.4164,  34.8715,2,  34.9201,2,    278.1,2,    281.2,3,     9.67,6,    16.18,6,     1.09,6, -999.000,9, -999.000,9, -999.000,9, -999.000,9,   -999.0,9
   18HU92014_1,  AR13,    10,  1, 110558,    OC9,2,19920530,1137, 49.5132, -40.4880, 4340,   1790.7,   3.2862,  34.8696,2,  34.8745,2,    281.2,2,    287.4,2,    10.39,6,    16.89,6,     1.14,6, -999.000,9, -999.000,9, -999.000,9, -999.000,9,   -999.0,9
   18HU92014_1,  AR13,    10,  1, 110556,   OC12,2,19920530,1137, 49.5132, -40.4880, 4340,   2063.8,   3.1913,  34.8679,2,  34.8677,2,    284.3,2,    289.5,2,    10.54,6,    16.78,6,     1.14,6, -999.000,9, -999.000,9, -999.000,9, -999.000,9,   -999.0,9
   18HU92014_1,  AR13,    10,  1, 110557,   OC20,2,19920530,1137, 49.5132, -40.4880, 4340,   2065.6,   3.1920,  34.8679,2,  34.8679,2,    284.4,2,    290.6,2,    10.53,6,    16.73,6,     1.13,6, -999.000,9, -999.000,9, -999.000,9, -999.000,9,   -999.0,9
   18HU92014_1,  AR13,    10,  1, 110555,    OC8,2,19920530,1137, 49.5132, -40.4880, 4340,   2616.3,   3.2460,  34.9264,2,  34.9283,2,    271.0,2,    277.4,2,    12.65,6,    16.62,6,     1.13,6, -999.000,9, -999.000,9, -999.000,9, -999.000,9,   -999.0,9
   18HU92014_1,  AR13,    10,  1, 110554,    BO6,2,19920530,1137, 49.5132, -40.4880, 4340,   2893.4,   3.0492,  34.9257,2,  34.9268,2,    273.9,2,    277.3,2,    12.58,6,    16.34,6,     1.12,6, -999.000,9, -999.000,9, -999.000,9, -999.000,9,   -999.0,9
   18HU92014_1,  AR13,    10,  1, 110553,   OC13,2,19920530,1137, 49.5132, -40.4880, 4340,   3173.1,   2.8652,  34.9270,2,  34.9260,2,    273.1,2,    277.7,2,    13.81,6,    16.54,6,     1.11,6, -999.000,9, -999.000,9, -999.000,9, -999.000,9,   -999.0,9
   18HU92014_1,  AR13,    10,  1, 110551,    OC5,2,19920530,1137, 49.5132, -40.4880, 4340,   3452.3,   2.6072,  34.9184,2,  34.9182,2,    277.7,2,    280.6,2,    14.50,6,    16.03,6,     1.10,6, -999.000,9, -999.000,9, -999.000,9, -999.000,9,   -999.0,9
   18HU92014_1,  AR13,    10,  1, 110552,   OC26,2,19920530,1137, 49.5132, -40.4880, 4340,   3453.8,   2.6058,  34.9184,2,  34.9231,2,    276.9,2,    279.1,2,    12.82,6,    16.04,6,     1.09,6, -999.000,9, -999.000,9, -999.000,9, -999.000,9,   -999.0,9
   18HU92014_1,  AR13,    10,  1, 110550,    OC4,2,19920530,1137, 49.5132, -40.4880, 4340,   4027.3,   2.2096,  34.9010,2,  34.9053,2,    282.8,2,    283.5,2,    14.51,6,    16.19,6,     1.20,6, -999.000,9, -999.000,9, -999.000,9, -999.000,9,   -999.0,9
   18HU92014_1,  AR13,    10,  1, 110549,   OC25,2,19920530,1137, 49.5132, -40.4880, 4340,   4258.0,   2.1345,  34.8970,2,  34.8958,2,    285.8,2,    285.1,6,    15.38,6,    15.88,6,     1.08,6, -999.000,9, -999.000,9, -999.000,9, -999.000,9,   -999.0,9
   18HU92014_1,  AR13,    10,  1, 110548,   OC11,2,19920530,1137, 49.5132, -40.4880, 4340,   4491.8,   1.9826,  34.8899,2,  34.8971,2,    293.3,2,    292.5,2,    12.40,6,    15.37,6,     1.04,6, -999.000,9, -999.000,9, -999.000,9, -999.000,9,   -999.0,9
   18HU92014_1,  AR13,    11,  1, 110582,    OC1,2,19920530,1823, 50.0267, -40.4890, 4246,   -999.0,-999.0000,-999.0000,5,  35.0652,2,   -999.0,5,   -999.0,5,  -999.00,9,  -999.00,9,  -999.00,9, -999.000,9, -999.000,9, -999.000,9, -999.000,9,   2558.5,3
   18HU92014_1,  AR13,    11,  1, 110585,   OC21,2,19920530,1823, 50.0267, -40.4890, 4246,      5.9,  11.3569,  35.1736,2,  35.1607,2,    271.1,2,    281.0,2,     3.05,6,     3.85,6,     0.38,6,    3.113,2,    1.460,2, -999.000,5,    6.304,2,   2452.4,2
   18HU92014_1,  AR13,    11,  1, 110584,    OC6,2,19920530,1823, 50.0267, -40.4890, 4246,     81.0,  11.7911,  35.4991,2,  35.4974,2,    251.9,2,    260.2,2,     4.04,6,     7.33,6,     0.54,6,    2.884,2,    1.455,2, -999.000,5,    5.567,2,   2486.1,2
   18HU92014_1,  AR13,    11,  1, 110583,   OC14,2,19920530,1823, 50.0267, -40.4890, 4246,    153.2,  10.9440,  35.3487,2,  35.3469,2,    232.8,2,    247.7,2,     5.20,6,    10.22,6,     0.70,6,    2.823,2,    1.442,2, -999.000,5,    4.947,2,   2119.6,2
   18HU92014_1,  AR13,    11,  1, 110581,    OC2,2,19920530,1823, 50.0267, -40.4890, 4246,    407.6,   8.4702,  35.0669,2,  35.0662,2,    174.7,2,    180.6,3,    11.97,6,    20.48,6,     1.35,6,    1.530,4,    0.840,2, -999.000,5,    2.468,2,   2560.5,3
   18HU92014_1,  AR13,    11,  1, 110580,   BO13,4,19920530,1823, 50.0267, -40.4890, 4246,    682.7,   5.3623,  34.9258,2,  34.9358,2,    222.6,2,    244.3,2,    11.34,6,    18.26,6,     1.22,6,    2.216,2,    0.974,2, -999.000,5,    4.812,2,   2165.6,2
   18HU92014_1,  AR13,    11,  1, 110579,   OC10,3,19920530,1823, 50.0267, -40.4890, 4246,    958.1,   4.2290,  34.9329,2,  34.9639,2,    256.2,2,    271.1,2,    10.06,6,    16.46,6,     1.10,6,    2.388,2,    1.125,2, -999.000,5,    5.646,2,   2539.1,3
   18HU92014_1,  AR13,    11,  1, 110578,    OC9,2,19920530,1823, 50.0267, -40.4890, 4246,   1234.9,   3.6156,  34.8912,2,  34.8888,2,    273.3,2,    282.1,2,    10.63,6,    16.88,6,     1.14,6,    2.326,2,    1.224,2, -999.000,5,    5.866,2,   2158.4,6
   18HU92014_1,  AR13,    11,  1, 110577,   OC20,2,19920530,1823, 50.0267, -40.4890, 4246,   1503.8,   3.3867,  34.8771,2,  34.8760,2,    274.9,2,    285.2,6,    10.70,6,    16.71,6,     1.14,6,    2.373,2,    1.433,2, -999.000,5,    5.950,2,   2537.1,3
   18HU92014_1,  AR13,    11,  1, 110576,   OC12,2,19920530,1823, 50.0267, -40.4890, 4246,   1783.4,   3.2076,  34.8650,2,  34.8632,2,    281.2,2,    292.4,2,    10.42,6,    16.48,6,     1.14,6,    2.446,2,    1.270,2, -999.000,5,    6.076,2,   2543.8,3
   18HU92014_1,  AR13,    11,  1, 110575,    OC8,2,19920530,1823, 50.0267, -40.4890, 4246,   2069.6,   3.1291,  34.8651,2,  34.8914,2,    284.0,2,    286.4,2,    10.85,6,    16.39,6,     1.12,6,    2.217,2,    1.214,2, -999.000,5,    5.597,2,   2157.3,2
   18HU92014_1,  AR13,    11,  1, 110574,    BO6,2,19920530,1823, 50.0267, -40.4890, 4246,   2345.9,   3.2455,  34.9049,2,  34.9193,2,    273.7,2,    312.6,3,    12.52,6,    16.62,6,     1.13,6,    1.328,2,    0.788,2, -999.000,5,    3.896,2,   2158.2,6
   18HU92014_1,  AR13,    11,  1, 110573,   OC13,2,19920530,1823, 50.0267, -40.4890, 4246,   2606.7,   3.2006,  34.9272,2,  34.9247,2,    270.1,2,    276.3,2,    13.04,6,    16.61,6,     1.13,6,    1.177,2,    0.764,2, -999.000,5,    3.586,2,   2161.3,6
   18HU92014_1,  AR13,    11,  1, 110572,   OC26,2,19920530,1823, 50.0267, -40.4890, 4246,   2869.7,   3.0201,  34.9299,2,  34.9290,2,    269.3,2,    273.6,2,    13.29,6,    16.67,6,     1.13,6,    1.467,3,    0.983,2, -999.000,5,    4.022,2,   2163.8,2
   18HU92014_1,  AR13,    11,  1, 110571,    OC5,2,19920530,1823, 50.0267, -40.4890, 4246,   3118.6,   2.8215,  34.9271,2,  34.9245,2,    269.5,2,    280.6,2,    14.56,6,    16.48,6,     1.11,6,    1.127,2,    0.725,2, -999.000,5,    3.385,2,   2161.8,2
   18HU92014_1,  AR13,    11,  1, 110570,    OC4,2,19920530,1823, 50.0267, -40.4890, 4246,   3378.0,   2.6034,  34.9202,2,  34.9196,2,    272.0,2,    272.9,2,    13.38,6,    16.76,6,     1.12,6,    1.767,3,    0.870,2, -999.000,5,    4.578,2,   2162.6,2
   18HU92014_1,  AR13,    11,  1, 110569,   OC25,2,19920530,1823, 50.0267, -40.4890, 4246,   3665.0,   2.3947,  34.9110,2,  34.9084,2,    272.4,2,    282.2,2,    17.38,6,    16.68,6,     1.18,6,    1.171,2,    0.475,2, -999.000,5,    3.966,2,   2165.9,2
   18HU92014_1,  AR13,    11,  1, 110568,   OC11,2,19920530,1823, 50.0267, -40.4890, 4246,   3953.0,   2.1821,  34.9006,2,  34.9079,2,    278.3,2,    285.6,2,    15.47,6,    16.24,6,     1.16,6,    1.686,3,    0.992,2, -999.000,5,    4.557,2,   2165.2,2
   18HU92014_1,  AR13,    11,  1, 110567,   OC27,2,19920530,1823, 50.0267, -40.4890, 4246,   4123.8,   2.1250,  34.8975,2,  34.8949,2,    280.7,2,    287.5,2,    15.13,6,    15.63,6,     1.11,6,    1.119,2,    0.608,2, -999.000,5,    2.409,2,   2164.4,2
   18HU92014_1,  AR13,    11,  1, 110566,    OC3,2,19920530,1823, 50.0267, -40.4890, 4246,   4486.6,   2.0686,  34.8935,2,  34.9730,2,    285.7,2,    275.7,6,    10.89,6,    15.72,6,     1.08,6,    2.236,2,    1.245,2, -999.000,5,    5.428,2,   2158.4,2