BOTTLE,20010702WHPSIOKJU
EXPOCODE,SECT_ID,STNNBR,CASTNO,SAMPNO,BTLNBR,BTLNBR_FLAG_W,DATE,TIME,LATITUDE,LONGITUDE,DEPTH,CTDPRS,CTDTMP,CTDSAL,CTDSAL_FLAG_W,SALNTY,SALNTY_FLAG_W,CTDOXY,CTDOXY_FLAG_W,OXYGEN,OXYGEN_FLAG_W,SILCAT,SILCAT_FLAG_W,NO2+NO3,NO2+NO3_FLAG_W,PHSPHT,PHSPHT_FLAG_W,CFC-11,CFC-11_FLAG_W,CFC-12,CFC-12_FLAG_W,CFC113,CFC113_FLAG_W,CCL4,CCL4_FLAG_W,TCARBN,TCARBN_FLAG_W
,,,,,,,,,,,,DBAR,ITS-90,PSS-78,,PSS-78,,UMOL/KG,,UMOL/KG,,UMOL/KG,,UMOL/KG,,UMOL/KG,,PMOL/KG,,PMOL/KG,,PMOL/KG,,PMOL/KG,,UMOL/KG,
   18HU92014_1,  AR13,    32,  1, 110961,   OC21,2,19920605,0538, 52.9353, -45.9550, 3886,      9.3,   7.2152,  34.7109,2,  34.7109,2,    320.1,2,    300.3,2,     4.88,6,     9.37,6,     0.72,6, -999.000,9, -999.000,9, -999.000,9, -999.000,9,   2111.5,2
   18HU92014_1,  AR13,    32,  1, 110960,    OC7,2,19920605,0538, 52.9353, -45.9550, 3886,     84.4,   6.1664,  34.6411,2,  34.6452,2,    314.3,2,    287.5,2,     6.63,6,    11.50,6,     0.87,6, -999.000,9, -999.000,9, -999.000,9, -999.000,9,   2125.4,2
   18HU92014_1,  AR13,    32,  1, 110959,   OC14,2,19920605,0538, 52.9353, -45.9550, 3886,    158.2,   5.5018,  34.7062,2,  34.7132,2,    305.1,2,    269.9,2,     8.56,6,    14.82,6,     1.05,6, -999.000,9, -999.000,9, -999.000,9, -999.000,9,   2054.1,4
   18HU92014_1,  AR13,    32,  1, 110958,    OC1,2,19920605,0538, 52.9353, -45.9550, 3886,    285.5,   4.2736,  34.7836,2,  34.7154,2,    304.6,2,    277.2,2,     8.37,6,    14.39,6,     1.03,6, -999.000,9, -999.000,9, -999.000,9, -999.000,9,   2142.6,2
   18HU92014_1,  AR13,    32,  1, 110957,    OC2,2,19920605,0538, 52.9353, -45.9550, 3886,    411.0,   4.0101,  34.8586,2,  34.8585,2,    304.4,2,    269.8,2,    10.06,6,    17.63,6,     1.17,6, -999.000,9, -999.000,9, -999.000,9, -999.000,9,   2161.1,6
   18HU92014_1,  AR13,    32,  1, 110956,   OC19,2,19920605,0538, 52.9353, -45.9550, 3886,    643.7,   3.5752,  34.8669,2,  34.8675,2,    317.9,2,    281.9,2,     9.84,6,    17.36,6,     1.16,6, -999.000,9, -999.000,9, -999.000,9, -999.000,9,   2158.8,2
   18HU92014_1,  AR13,    32,  1, 110955,   OC22,2,19920605,0538, 52.9353, -45.9550, 3886,    862.9,   3.3894,  34.8649,2,  34.8687,2,    322.6,2,    273.6,2,     9.83,6,    17.39,6,     1.17,6, -999.000,9, -999.000,9, -999.000,9, -999.000,9,   2161.0,2
   18HU92014_1,  AR13,    32,  1, 110954,    OC9,2,19920605,0538, 52.9353, -45.9550, 3886,   1100.6,   3.0953,  34.8366,2,  34.8384,2,    331.9,2,    286.1,2,     9.60,6,    16.91,6,     1.15,6, -999.000,9, -999.000,9, -999.000,9, -999.000,9,   2127.6,4
   18HU92014_1,  AR13,    32,  1, 110953,   OC20,2,19920605,0538, 52.9353, -45.9550, 3886,   1328.9,   3.1123,  34.8473,2,  34.8389,2,    331.2,2,    291.2,2,     9.61,6,    16.92,6,     1.14,6, -999.000,9, -999.000,9, -999.000,9, -999.000,9,   2156.1,2
   18HU92014_1,  AR13,    32,  1, 110952,   OC12,2,19920605,0538, 52.9353, -45.9550, 3886,   1531.9,   3.1447,  34.8608,2,  34.8488,2,    329.5,2,    294.0,6,     9.81,6,    16.93,6,     1.15,6, -999.000,9, -999.000,9, -999.000,9, -999.000,9,   2151.9,2
   18HU92014_1,  AR13,    32,  1, 110951,    OC8,2,19920605,0538, 52.9353, -45.9550, 3886,   1745.0,   3.1117,  34.8621,2,  34.8627,2,    329.4,2,    291.7,2,    10.13,6,    16.84,6,     1.14,6, -999.000,9, -999.000,9, -999.000,9, -999.000,9,   2156.1,2
   18HU92014_1,  AR13,    32,  1, 110950,    BO6,2,19920605,0538, 52.9353, -45.9550, 3886,   2006.5,   3.2205,  34.8976,2,  34.8975,2,    321.5,2,    284.7,2,    11.03,6,    16.94,6,     1.15,6, -999.000,9, -999.000,9, -999.000,9, -999.000,9,   2153.7,2
   18HU92014_1,  AR13,    32,  1, 110949,   OC13,4,19920605,0538, 52.9353, -45.9550, 3886,   2262.7,   3.1577,  34.9180,2,  34.9197,2,    318.0,2,    278.7,2,    10.71,6,    16.79,6,     1.12,6, -999.000,9, -999.000,9, -999.000,9, -999.000,9,   2156.8,2
   18HU92014_1,  AR13,    32,  1, 110948,   OC17,2,19920605,0538, 52.9353, -45.9550, 3886,   2518.6,   3.0386,  34.9256,2,  34.9140,2,    317.6,2,    280.3,6,    11.68,6,    15.67,6,     1.14,6, -999.000,9, -999.000,9, -999.000,9, -999.000,9,   2157.4,2
   18HU92014_1,  AR13,    32,  1, 110947,    OC5,2,19920605,0538, 52.9353, -45.9550, 3886,   2780.7,   2.8459,  34.9264,2,  34.9273,2,    318.9,2,    278.5,2,    13.69,6,    15.67,6,     1.13,6, -999.000,9, -999.000,9, -999.000,9, -999.000,9,   2160.3,6
   18HU92014_1,  AR13,    32,  1, 110946,    OC4,2,19920605,0538, 52.9353, -45.9550, 3886,   3035.6,   2.6648,  34.9267,2,  34.9261,2,    320.6,2,    273.6,2,    15.02,6,    15.82,6,     1.14,6, -999.000,9, -999.000,9, -999.000,9, -999.000,9,   2159.2,2
   18HU92014_1,  AR13,    32,  1, 110945,   OC15,2,19920605,0538, 52.9353, -45.9550, 3886,   3279.6,   2.4411,  34.9121,2,  34.9249,2,    324.0,2,    279.6,2,    15.10,6,    15.97,6,     1.15,6, -999.000,9, -999.000,9, -999.000,9, -999.000,9,   2159.9,2
   18HU92014_1,  AR13,    32,  1, 110944,   OC11,4,19920605,0538, 52.9353, -45.9550, 3886,   3525.5,   2.2685,  34.9038,2,  34.9039,2,    327.6,2,    283.4,2,    15.68,6,    15.84,6,     1.11,6, -999.000,9, -999.000,9, -999.000,9, -999.000,9,   2161.0,6
   18HU92014_1,  AR13,    32,  1, 110943,   OC27,2,19920605,0538, 52.9353, -45.9550, 3886,   3709.6,   2.1340,  34.8975,2,  34.9035,2,    331.9,2,    282.7,2,    15.71,6,    15.95,6,     1.11,6, -999.000,9, -999.000,9, -999.000,9, -999.000,9,   2162.0,2
   18HU92014_1,  AR13,    32,  1, 110942,    OC3,2,19920605,0538, 52.9353, -45.9550, 3886,   4050.9,   1.9020,  34.8875,2,  34.8960,2,    341.7,2,    285.8,6,    13.99,6,    15.72,6,     1.08,6, -999.000,9, -999.000,9, -999.000,9, -999.000,9,   2136.3,4
   18HU92014_1,  AR13,    33,  1, 110981,   OC21,2,19920605,1052, 53.2281, -45.2644, 3901,      8.1,   7.1195,  34.7021,2,  34.7022,2,    318.6,2,    294.4,2,     5.05,6,     9.69,6,     0.74,6,    3.609,2,    1.788,2, -999.000,5,    5.517,2,   -999.0,9
   18HU92014_1,  AR13,    33,  1, 110980,    OC7,2,19920605,1052, 53.2281, -45.2644, 3901,     85.2,   6.2962,  34.7098,2,  34.7134,2,    309.8,2,    285.6,2,     6.92,6,    12.07,6,     0.89,6,    3.562,2,    2.080,2, -999.000,5,    5.416,2,   -999.0,9
   18HU92014_1,  AR13,    33,  1, 110979,   OC14,2,19920605,1052, 53.2281, -45.2644, 3901,    159.7,   4.5962,  34.6978,2,  34.7015,2,    323.0,2,    260.4,2,     8.81,6,    14.99,6,     1.06,6,    3.584,2,    1.720,2, -999.000,5,    5.575,2,   -999.0,9
   18HU92014_1,  AR13,    33,  1, 110978,    OC1,2,19920605,1052, 53.2281, -45.2644, 3901,    269.1,   3.1189,  34.6390,2,  34.7096,2,    350.8,2,    276.0,3,     9.00,6,    15.23,6,     1.10,6,    3.359,2,    1.879,2, -999.000,5,    5.105,2,   -999.0,9
   18HU92014_1,  AR13,    33,  1, 110977,    OC2,2,19920605,1052, 53.2281, -45.2644, 3901,    355.4,   3.1217,  34.6507,2,  34.6386,2,    345.9,2,    315.4,2,     8.05,6,    14.23,6,     1.02,6,    4.298,2,    2.103,2, -999.000,5,    7.068,2,   -999.0,9
   18HU92014_1,  AR13,    33,  1, 110976,   OC19,2,19920605,1052, 53.2281, -45.2644, 3901,    617.0,   3.1957,  34.8166,2,  34.8168,2,    330.9,2,    290.8,2,     9.38,6,    16.64,6,     1.14,6,    3.327,2,    1.506,2, -999.000,5,    5.419,2,   -999.0,9
   18HU92014_1,  AR13,    33,  1, 110975,   OC22,2,19920605,1052, 53.2281, -45.2644, 3901,    836.4,   3.1154,  34.8306,2,  34.8306,2,    335.3,2,    299.6,2,     9.16,6,    16.32,6,     1.12,6,    3.361,2,    1.469,2, -999.000,5,    5.383,2,   -999.0,9
   18HU92014_1,  AR13,    33,  1, 110974,    OC9,2,19920605,1052, 53.2281, -45.2644, 3901,   1057.5,   3.0181,  34.8303,2,  34.8284,2,    336.8,2,    292.9,2,     9.39,6,    16.69,6,     1.14,6,    3.212,2,    1.481,2, -999.000,5,    5.266,2,   -999.0,9
   18HU92014_1,  AR13,    33,  1, 110973,   OC20,2,19920605,1052, 53.2281, -45.2644, 3901,   1317.2,   2.9695,  34.8274,2,  34.8307,2,    341.3,2,    300.7,2,     9.48,6,    16.74,6,     1.13,6,    3.145,2,    1.446,2, -999.000,5,    5.186,2,   -999.0,9
   18HU92014_1,  AR13,    33,  1, 110972,   OC12,2,19920605,1052, 53.2281, -45.2644, 3901,   1555.3,   2.9633,  34.8266,2,  34.8283,2,    342.5,2,    304.0,2,     9.42,6,    16.68,6,     1.13,6,    3.395,2,    1.600,2, -999.000,5,    5.658,2,   -999.0,9
   18HU92014_1,  AR13,    33,  1, 110971,    OC8,2,19920605,1052, 53.2281, -45.2644, 3901,   1777.4,   2.9755,  34.8268,2,-999.0000,9,    345.2,2,    306.0,2,  -999.00,9,  -999.00,9,  -999.00,9,    3.265,2,    1.520,2, -999.000,5,    5.350,2,   -999.0,9
   18HU92014_1,  AR13,    33,  1, 110970,    BO6,3,19920605,1052, 53.2281, -45.2644, 3901,   2022.5,   2.9993,  34.8272,2,  34.7870,4,    345.5,2,    304.4,2,     8.58,6,    15.04,6,     1.04,6, -999.000,5, -999.000,5, -999.000,5, -999.000,5,   -999.0,9
   18HU92014_1,  AR13,    33,  1, 110969,   OC13,2,19920605,1052, 53.2281, -45.2644, 3901,   2249.3,   3.0420,  34.8330,2,  34.8319,2,    344.5,2,    363.4,3,     9.70,6,    16.64,6,     1.13,6,    3.129,2,    1.318,2, -999.000,5,    5.174,2,   -999.0,9
   18HU92014_1,  AR13,    33,  1, 110968,   OC17,2,19920605,1052, 53.2281, -45.2644, 3901,   2442.9,   3.0936,  34.8425,2,  34.8331,2,    342.6,2,    302.5,2,     9.37,3,    16.64,6,     1.15,6,    3.098,2,    1.488,2, -999.000,5,    5.122,2,   -999.0,9
   18HU92014_1,  AR13,    33,  1, 110967,    OC5,2,19920605,1052, 53.2281, -45.2644, 3901,   2656.0,   3.2026,  34.9061,2,  34.9060,2,    325.1,2,    281.9,2,    11.10,6,    16.66,6,     1.15,6,    1.633,2,    0.832,2, -999.000,5,    3.058,2,   -999.0,9
   18HU92014_1,  AR13,    33,  1, 110966,    OC4,2,19920605,1052, 53.2281, -45.2644, 3901,   2909.9,   3.0336,  34.9261,2,  34.9217,2,    321.7,2,    279.0,2,    12.06,6,    16.49,6,     1.14,6,    1.156,2,    0.482,2, -999.000,5,    2.336,2,   -999.0,9
   18HU92014_1,  AR13,    33,  1, 110965,   OC15,2,19920605,1052, 53.2281, -45.2644, 3901,   3168.8,   2.7964,  34.9312,2,  34.9258,2,    322.8,2,    278.5,2,    12.13,6,    16.49,6,     1.13,6, -999.000,9, -999.000,9, -999.000,9, -999.000,9,   -999.0,9
   18HU92014_1,  AR13,    33,  1, 110964,   OC11,2,19920605,1052, 53.2281, -45.2644, 3901,   3410.9,   2.5636,  34.9181,2,  34.9297,2,    326.3,2,    279.9,6,    13.77,6,    16.59,6,     1.13,6,    1.116,2,    0.624,2, -999.000,5,    2.216,2,   -999.0,9
   18HU92014_1,  AR13,    33,  1, 110963,   OC27,2,19920605,1052, 53.2281, -45.2644, 3901,   3608.0,   2.3939,  34.9095,2,  34.9167,2,    329.2,2,    278.8,6,    14.53,6,    16.45,6,     1.13,6,    1.130,2,    0.419,2, -999.000,5,    2.347,2,   -999.0,9
   18HU92014_1,  AR13,    33,  1, 110962,    OC3,2,19920605,1052, 53.2281, -45.2644, 3901,   4048.5,   1.9751,  34.8905,2,  34.9082,2,    342.7,2,    282.8,6,    14.53,6,    16.31,6,     1.12,6,    1.263,2,    0.545,2, -999.000,5,    2.527,2,   -999.0,9
   18HU92014_1,  AR7W,    34,  1, 110987,    OC5,2,19920606,2305, 54.7740, -54.4693,  417,      2.8,  -1.4222,  32.8738,2,  32.8843,2,    395.5,2,    396.4,2,     7.34,6,     1.83,6,     0.52,6,    4.990,2,    2.200,2, -999.000,5,    7.781,2,   2073.4,2
   18HU92014_1,  AR7W,    34,  1, 110986,    OC4,2,19920606,2305, 54.7740, -54.4693,  417,     53.4,  -1.3308,  33.5385,2,  33.5386,2,    359.3,2,    318.4,2,     9.86,6,     9.94,6,     0.91,6,    4.355,2,    1.986,2, -999.000,5,    6.663,2,   2159.1,2
   18HU92014_1,  AR7W,    34,  1, 110985,   OC15,2,19920606,2305, 54.7740, -54.4693,  417,    103.6,  -0.6944,  33.8137,2,  33.8146,2,    353.9,2,    321.3,2,     9.03,6,    11.44,6,     0.91,6,    4.466,2,    1.934,2, -999.000,5,    6.851,2,   2158.6,2
   18HU92014_1,  AR7W,    34,  1, 110984,   OC11,2,19920606,2305, 54.7740, -54.4693,  417,    154.4,  -0.4062,  33.9109,2,  34.8913,2,    354.2,2,    317.1,2,     9.11,6,    11.98,6,     0.91,6,    4.361,2,    1.953,2, -999.000,5,    6.856,2,   2159.9,2
   18HU92014_1,  AR7W,    34,  1, 110983,   OC27,2,19920606,2305, 54.7740, -54.4693,  417,    204.4,   0.3271,  34.0898,2,  34.0895,2,    356.0,2,    314.3,2,     9.37,6,    12.66,6,     0.93,6,    4.341,2,    1.861,2, -999.000,5,    6.685,2,   2164.3,6
   18HU92014_1,  AR7W,    34,  1, 110982,    OC3,2,19920606,2305, 54.7740, -54.4693,  417,    237.4,   0.4450,  34.1134,2,  34.1071,2,    359.6,2,    313.9,6,     9.48,6,    12.74,6,     0.95,6,    4.188,2,    1.883,2, -999.000,5,    6.515,2,   2163.9,2
   18HU92014_1,  AR7W,    35,  1, 110994,   OC17,2,19920607,0051, 54.9520, -54.2795,  358,      2.8,  -1.2346,  32.9622,2,  32.9570,2,    422.8,2,    413.3,2,     5.94,6,     0.47,6,     0.33,6,    4.976,2,    2.094,2, -999.000,5,    8.011,2,   2402.8,2
   18HU92014_1,  AR7W,    35,  1, 110993,    OC5,2,19920607,0051, 54.9520, -54.2795,  358,     53.5,  -0.5837,  33.8427,2,  33.8483,2,    374.2,2,    332.9,2,     7.66,6,    10.32,6,     0.81,6,    4.297,2,    1.797,2, -999.000,5,    6.796,2,   2526.9,3
   18HU92014_1,  AR7W,    35,  1, 110992,    OC4,2,19920607,0051, 54.9520, -54.2795,  358,    103.9,   1.0336,  34.1905,2,  34.1780,2,    352.9,2,    312.7,2,     9.34,6,    12.49,6,     0.92,6,    3.757,2,    1.518,2, -999.000,5,    5.731,2,   2169.5,2
   18HU92014_1,  AR7W,    35,  1, 110991,   OC15,2,19920607,0051, 54.9520, -54.2795,  358,    154.8,   2.0910,  34.4274,2,  34.4289,2,    339.8,2,    298.3,2,     9.98,6,    16.01,6,     0.95,6,    3.608,2,    1.529,2, -999.000,5,    5.343,2,   2557.9,3
   18HU92014_1,  AR7W,    35,  1, 110990,   OC11,2,19920607,0051, 54.9520, -54.2795,  358,    204.1,   2.3370,  34.4766,2,  34.4751,2,    337.0,2,    294.9,2,    10.06,6,    16.11,6,     0.98,6,    3.519,2,    1.423,2, -999.000,5,    5.225,2,   2561.2,3
   18HU92014_1,  AR7W,    35,  1, 110989,   OC27,2,19920607,0051, 54.9520, -54.2795,  358,    283.7,   2.5317,  34.5167,2,  34.5168,2,    335.7,2,    292.5,6,    10.10,6,    14.49,6,     0.99,6,    3.448,2,    1.401,2, -999.000,5,    5.183,2,   2561.2,3
   18HU92014_1,  AR7W,    35,  1, 110988,    OC3,2,19920607,0051, 54.9520, -54.2795,  358,    362.2,   2.6683,  34.5457,2,  34.5437,2,    335.0,2,    292.2,2,    10.04,6,    14.59,6,     1.00,6,    3.517,2,    1.456,2, -999.000,5,    5.209,2,   2560.4,3
   18HU92014_1,  AR7W,    36,  1, 111004,    OC8,2,19920607,0259, 55.1085, -54.1297,  908,      4.9,  -0.8597,  33.2108,2,  33.2118,2,    427.7,2,    409.6,2,     5.57,6,     0.00,6,     0.31,6,    4.736,2,    1.935,2, -999.000,5,    7.814,2,   2027.5,6
   18HU92014_1,  AR7W,    36,  1, 111003,   BO18,3,19920607,0259, 55.1085, -54.1297,  908,     55.0,   1.4588,  34.3263,2,  34.3282,2,    359.6,2,    317.8,2,     8.49,6,    11.90,6,     0.84,6,    3.868,2,    1.645,2, -999.000,5,    5.975,2,   2159.9,2
   18HU92014_1,  AR7W,    36,  1, 111002,   OC13,2,19920607,0259, 55.1085, -54.1297,  908,    103.4,   3.1120,  34.6503,2,  34.6439,2,    339.1,2,    293.0,2,     9.59,6,    14.79,6,     1.00,6,    3.419,2,    1.499,2, -999.000,5,    5.053,2,   2182.1,2
   18HU92014_1,  AR7W,    36,  1, 111001,   OC17,2,19920607,0259, 55.1085, -54.1297,  908,    204.4,   2.8979,  34.7477,2,  34.7486,2,    356.8,2,    320.0,2,     8.51,6,    12.78,6,     0.89,6,    3.717,2,    1.542,2, -999.000,5,    5.961,2,   2170.5,2
   18HU92014_1,  AR7W,    36,  1, 111000,    OC5,2,19920607,0259, 55.1085, -54.1297,  908,    304.3,   3.0468,  34.8126,2,  34.8109,2,    348.7,2,    305.5,2,     9.02,6,    15.38,6,     1.01,6,    3.262,2,    1.336,2, -999.000,5,    5.218,2,   2185.1,2
   18HU92014_1,  AR7W,    36,  1, 110999,    OC4,2,19920607,0259, 55.1085, -54.1297,  908,    402.2,   3.0692,  34.8284,2,  34.8134,2,    346.4,2,    307.1,2,     8.89,6,    15.46,6,     1.00,6,    3.398,2,    1.411,2, -999.000,5,    5.433,2,   2566.5,3
   18HU92014_1,  AR7W,    36,  1, 110998,   OC15,2,19920607,0259, 55.1085, -54.1297,  908,    502.3,   3.0688,  34.8385,2,  34.8404,2,    346.8,2,    301.4,2,     9.25,6,    16.09,6,     1.03,6,    3.156,2,    1.285,2, -999.000,5,    5.080,2,   2187.9,2
   18HU92014_1,  AR7W,    36,  1, 110997,   OC11,2,19920607,0259, 55.1085, -54.1297,  908,    601.5,   3.0012,  34.8332,2,  34.8338,2,    350.2,2,    228.4,3,     8.93,6,    15.96,6,     1.04,6,    3.092,2,    1.247,2, -999.000,5,    4.918,2,   2187.7,2
   18HU92014_1,  AR7W,    36,  1, 110996,   OC27,2,19920607,0259, 55.1085, -54.1297,  908,    808.4,   2.9767,  34.8384,2,  34.8389,2,    350.4,2,    304.2,2,     9.12,6,    16.13,6,     1.02,6,    3.122,2,    1.294,2, -999.000,5,    5.071,2,   2189.1,2
   18HU92014_1,  AR7W,    36,  1, 110995,    OC3,2,19920607,0259, 55.1085, -54.1297,  908,    925.5,   3.0152,  34.8455,2,  34.8446,2,    350.7,2,    299.9,6,     9.31,6,    15.97,6,     1.03,6,    2.863,2,    1.145,2, -999.000,5,    4.778,2,   2189.2,2