BOTTLE,20010702WHPSIOKJU
EXPOCODE,SECT_ID,STNNBR,CASTNO,SAMPNO,BTLNBR,BTLNBR_FLAG_W,DATE,TIME,LATITUDE,LONGITUDE,DEPTH,CTDPRS,CTDTMP,CTDSAL,CTDSAL_FLAG_W,SALNTY,SALNTY_FLAG_W,CTDOXY,CTDOXY_FLAG_W,OXYGEN,OXYGEN_FLAG_W,SILCAT,SILCAT_FLAG_W,NO2+NO3,NO2+NO3_FLAG_W,PHSPHT,PHSPHT_FLAG_W,CFC-11,CFC-11_FLAG_W,CFC-12,CFC-12_FLAG_W,CFC113,CFC113_FLAG_W,CCL4,CCL4_FLAG_W,TCARBN,TCARBN_FLAG_W
,,,,,,,,,,,,DBAR,ITS-90,PSS-78,,PSS-78,,UMOL/KG,,UMOL/KG,,UMOL/KG,,UMOL/KG,,UMOL/KG,,PMOL/KG,,PMOL/KG,,PMOL/KG,,PMOL/KG,,UMOL/KG,
   18HU92014_1,  AR13,    20,  1, 110758,   OC21,2,19920602,0623, 50.8272, -43.7552, 4099,      7.5,   6.2137,  33.9612,2,  33.9602,2,    336.0,2,    313.1,2,     2.77,6,     3.83,6,     0.48,6, -999.000,9, -999.000,9, -999.000,9, -999.000,9,   -999.0,9
   18HU92014_1,  AR13,    20,  1, 110757,    OC7,2,19920602,0623, 50.8272, -43.7552, 4099,     80.7,   5.1306,  34.2684,2,  34.1724,2,    324.0,2,    304.9,2,     4.65,6,     7.78,6,     0.73,6, -999.000,9, -999.000,9, -999.000,9, -999.000,9,   -999.0,9
   18HU92014_1,  AR13,    20,  1, 110756,   OC14,2,19920602,0623, 50.8272, -43.7552, 4099,    155.0,   7.0798,  34.8598,2,  34.8536,2,    295.9,2,    269.4,2,     7.03,6,    12.90,6,     0.93,6, -999.000,9, -999.000,9, -999.000,9, -999.000,9,   -999.0,9
   18HU92014_1,  AR13,    20,  1, 110755,    OC1,2,19920602,0623, 50.8272, -43.7552, 4099,    282.6,   5.8401,  34.8664,2,  34.8689,2,    263.7,2,    224.3,6,    11.13,6,    18.79,6,     1.24,6, -999.000,9, -999.000,9, -999.000,9, -999.000,9,   -999.0,9
   18HU92014_1,  AR13,    20,  1, 110754,    OC2,2,19920602,0623, 50.8272, -43.7552, 4099,    398.5,   4.0076,  34.7712,2,  34.7652,2,    303.6,2,    266.4,2,     9.84,6,    17.28,6,     1.16,6, -999.000,9, -999.000,9, -999.000,9, -999.000,9,   -999.0,9
   18HU92014_1,  AR13,    20,  1, 110753,   OC19,2,19920602,0623, 50.8272, -43.7552, 4099,    654.6,   3.8452,  34.8949,2,  34.8958,2,    311.6,2,    276.5,2,     9.81,6,    17.38,6,     1.14,6, -999.000,9, -999.000,9, -999.000,9, -999.000,9,   -999.0,9
   18HU92014_1,  AR13,    20,  1, 110752,   OC22,2,19920602,0623, 50.8272, -43.7552, 4099,    936.5,   3.4028,  34.8716,2,  34.8724,2,    321.3,2,    285.7,2,     9.83,6,    17.03,6,     1.13,6, -999.000,9, -999.000,9, -999.000,9, -999.000,9,   -999.0,9
   18HU92014_1,  AR13,    20,  1, 110751,    OC9,2,19920602,0623, 50.8272, -43.7552, 4099,   1193.5,   3.2091,  34.8590,2,  34.8595,2,    326.4,2,    282.8,2,     9.78,6,    16.88,6,     1.12,6, -999.000,9, -999.000,9, -999.000,9, -999.000,9,   -999.0,9
   18HU92014_1,  AR13,    20,  1, 110750,   OC20,2,19920602,0623, 50.8272, -43.7552, 4099,   1485.2,   3.1396,  34.8587,2,  34.8602,2,    330.2,2,    290.6,2,     9.86,6,    17.08,6,     1.12,6, -999.000,9, -999.000,9, -999.000,9, -999.000,9,   -999.0,9
   18HU92014_1,  AR13,    20,  1, 110749,   OC12,2,19920602,0623, 50.8272, -43.7552, 4099,   1743.4,   3.1139,  34.8639,2,  34.8599,2,    329.7,2,    293.3,6,    10.02,6,    17.12,6,     1.11,6, -999.000,9, -999.000,9, -999.000,9, -999.000,9,   -999.0,9
   18HU92014_1,  AR13,    20,  1, 110748,    OC8,2,19920602,0623, 50.8272, -43.7552, 4099,   2008.5,   3.2325,  34.9027,2,  34.8995,2,    320.5,2,    283.7,2,    11.02,6,    16.90,6,     1.11,6, -999.000,9, -999.000,9, -999.000,9, -999.000,9,   -999.0,9
   18HU92014_1,  AR13,    20,  1, 110747,    BO6,2,19920602,0623, 50.8272, -43.7552, 4099,   2308.8,   3.1257,  34.9257,2,  34.9238,2,    317.1,2,    279.6,2,    12.33,6,    16.74,6,     1.09,6, -999.000,9, -999.000,9, -999.000,9, -999.000,9,   -999.0,9
   18HU92014_1,  AR13,    20,  1, 110746,   OC13,2,19920602,0623, 50.8272, -43.7552, 4099,   2610.0,   2.8324,  34.9177,2,  34.9272,2,    320.5,2,    277.1,2,    12.60,6,    16.95,6,     1.12,6, -999.000,9, -999.000,9, -999.000,9, -999.000,9,   -999.0,9
   18HU92014_1,  AR13,    20,  1, 110745,   OC26,2,19920602,0623, 50.8272, -43.7552, 4099,   2871.7,   2.4630,  34.9099,2,  34.9105,2,    325.3,2,    283.8,2,    12.93,6,    16.19,6,     1.09,6, -999.000,9, -999.000,9, -999.000,9, -999.000,9,   -999.0,9
   18HU92014_1,  AR13,    20,  1, 110744,    OC5,2,19920602,0623, 50.8272, -43.7552, 4099,   3132.0,   2.1610,  34.8987,2,  34.8992,2,    331.4,2,    290.0,2,    12.35,6,    15.61,6,     1.03,6, -999.000,9, -999.000,9, -999.000,9, -999.000,9,   -999.0,9
   18HU92014_1,  AR13,    20,  1, 110743,    OC4,2,19920602,0623, 50.8272, -43.7552, 4099,   3401.5,   2.0743,  34.8948,2,  34.8859,2,    333.5,2,    291.8,2,    11.10,6,    16.32,6,     1.08,6, -999.000,9, -999.000,9, -999.000,9, -999.000,9,   -999.0,9
   18HU92014_1,  AR13,    20,  1, 110742,   OC15,2,19920602,0623, 50.8272, -43.7552, 4099,   3608.9,   2.0588,  34.8937,2,  34.8958,2,    335.9,2,    291.1,2,    12.08,6,    15.25,6,     1.03,6, -999.000,9, -999.000,9, -999.000,9, -999.000,9,   -999.0,9
   18HU92014_1,  AR13,    20,  1, 110741,   OC11,2,19920602,0623, 50.8272, -43.7552, 4099,   3792.5,   2.0334,  34.8921,2,  34.8922,2,    337.2,2,    291.8,2,    11.97,6,    15.23,6,     1.03,6, -999.000,9, -999.000,9, -999.000,9, -999.000,9,   -999.0,9
   18HU92014_1,  AR13,    20,  1, 110740,   OC27,2,19920602,0623, 50.8272, -43.7552, 4099,   3943.0,   2.0249,  34.8914,2,  34.8919,2,    338.0,2,    288.5,2,    11.86,6,    15.10,6,     1.02,6, -999.000,9, -999.000,9, -999.000,9, -999.000,9,   -999.0,9
   18HU92014_1,  AR13,    20,  1, 110739,    OC3,2,19920602,0623, 50.8272, -43.7552, 4099,   4276.5,   2.0257,  34.8901,2,  34.8929,2,    343.1,2,    290.2,2,    11.58,6,    15.70,6,     1.04,6, -999.000,9, -999.000,9, -999.000,9, -999.000,9,   -999.0,9
   18HU92014_1,  AR13,    21,  1, 110777,    OC7,2,19920602,1226, 50.5393, -44.4308, 4081,      4.3,   9.5602,  34.6681,2,  34.6663,2,    308.5,2,    286.4,2,     2.62,6,     3.71,6,     0.41,6,    3.675,2, -999.000,5, -999.000,5,    6.090,2,   -999.0,5
   18HU92014_1,  AR13,    21,  1, 110776,   OC14,2,19920602,1226, 50.5393, -44.4308, 4081,     81.4,   9.9388,  34.9912,2,  35.0051,2,    281.2,2,    268.7,2,     3.45,6,     6.56,6,     0.56,6,    3.327,2, -999.000,5, -999.000,5,    5.017,2,   2108.5,2
   18HU92014_1,  AR13,    21,  1, 110775,    OC1,2,19920602,1226, 50.5393, -44.4308, 4081,    157.8,   7.2250,  34.8093,2,  34.8213,2,    260.7,2,    217.8,2,     9.80,6,    16.91,6,     1.15,6,    2.482,6, -999.000,5, -999.000,5,    3.569,6,   2166.1,2
   18HU92014_1,  AR13,    21,  1, 110774,    OC2,2,19920602,1226, 50.5393, -44.4308, 4081,    282.0,   4.4484,  34.5997,2,  34.6131,2,    292.2,2,    249.7,2,     9.33,6,    15.90,6,     1.08,6,    3.536,2, -999.000,5, -999.000,5,    5.894,2,   2160.0,2
   18HU92014_1,  AR13,    21,  1, 110773,   OC19,2,19920602,1226, 50.5393, -44.4308, 4081,    408.2,   4.8677,  34.9107,2,  34.9214,2,    276.0,2,    240.5,2,    11.59,6,    18.60,6,     1.23,6,    2.285,2, -999.000,5, -999.000,5,    3.684,2,   -999.0,5
   18HU92014_1,  AR13,    21,  1, 110772,   OC22,2,19920602,1226, 50.5393, -44.4308, 4081,    676.4,   3.9616,  34.9137,2,  34.9146,2,    303.0,2,    271.2,2,    10.47,6,    17.30,6,     1.14,6,    2.523,2, -999.000,5, -999.000,5,    4.513,2,   -999.0,5
   18HU92014_1,  AR13,    21,  1, 110771,    OC9,2,19920602,1226, 50.5393, -44.4308, 4081,    958.7,   3.4828,  34.8800,2,  34.8822,2,    315.8,2,    277.1,2,    10.20,6,    16.53,6,     1.11,6,    2.613,2, -999.000,5, -999.000,5,    4.773,2,   2168.1,2
   18HU92014_1,  AR13,    21,  1, 110770,   OC20,2,19920602,1226, 50.5393, -44.4308, 4081,   1222.8,   3.1873,  34.8535,2,  34.8811,2,    324.1,2,    283.8,2,    10.05,6,    17.30,6,     1.14,6,    2.556,2, -999.000,5, -999.000,5,    4.762,2,   2168.5,2
   18HU92014_1,  AR13,    21,  1, 110769,   OC12,2,19920602,1226, 50.5393, -44.4308, 4081,   1500.3,   3.1191,  34.8547,2,  34.8559,2,    325.7,2,    289.4,2,     9.69,6,    16.57,6,     1.12,6,    2.749,2, -999.000,5, -999.000,5,    5.081,2,   -999.0,5
   18HU92014_1,  AR13,    21,  1, 110768,    OC8,2,19920602,1226, 50.5393, -44.4308, 4081,   1781.9,   3.0625,  34.8550,2,  34.8561,2,    326.6,2,    294.8,2,     9.84,6,    16.36,6,     1.11,6,    2.793,2, -999.000,5, -999.000,5,    5.087,2,   -999.0,5
   18HU92014_1,  AR13,    21,  1, 110767,    BO6,2,19920602,1226, 50.5393, -44.4308, 4081,   2050.7,   3.1674,  34.8918,2,  34.8897,2,    319.9,2,    285.4,2,    10.66,6,    16.53,6,     1.12,6,    2.078,2, -999.000,5, -999.000,5,    4.237,2,   -999.0,5
   18HU92014_1,  AR13,    21,  1, 110766,   OC13,2,19920602,1226, 50.5393, -44.4308, 4081,   2313.5,   3.1397,  34.9179,2,  34.9198,2,    315.0,2,    268.0,2,    11.78,6,    16.66,6,     1.13,6,    1.384,2, -999.000,5, -999.000,5,    2.900,2,   -999.0,5
   18HU92014_1,  AR13,    21,  1, 110765,   OC26,2,19920602,1226, 50.5393, -44.4308, 4081,   2580.8,   2.9822,  34.9235,2,  34.9178,2,    314.6,2,    279.0,2,    12.04,6,    16.55,6,     1.10,6,    1.253,2, -999.000,5, -999.000,5,    2.721,2,   -999.0,5
   18HU92014_1,  AR13,    21,  1, 110764,    OC5,2,19920602,1226, 50.5393, -44.4308, 4081,   2851.8,   2.7531,  34.9193,2,  34.9195,2,    317.8,2,    279.9,2,    12.52,6,    16.00,6,     1.09,6,    1.382,2, -999.000,5, -999.000,5,    2.905,2,   -999.0,5
   18HU92014_1,  AR13,    21,  1, 110763,    OC4,2,19920602,1226, 50.5393, -44.4308, 4081,   3118.1,   2.5117,  34.9129,2,  34.9085,2,    320.8,2,    283.1,6,    13.37,6,    16.10,6,     1.10,6,    1.316,2, -999.000,5, -999.000,5,    2.921,2,   -999.0,5
   18HU92014_1,  AR13,    21,  1, 110762,   OC15,2,19920602,1226, 50.5393, -44.4308, 4081,   3394.3,   2.2776,  34.9039,2,  34.9025,2,    322.4,2,    281.6,6,    15.23,6,    16.27,6,     1.11,6,    1.369,2, -999.000,5, -999.000,5,    3.103,2,   -999.0,5
   18HU92014_1,  AR13,    21,  1, 110761,   OC11,2,19920602,1226, 50.5393, -44.4308, 4081,   3565.5,   2.1900,  34.8995,2,  34.8995,2,    324.4,2,    285.0,2,    14.52,6,    15.87,6,     1.08,6,    1.518,2, -999.000,5, -999.000,5,    3.101,2,   -999.0,5
   18HU92014_1,  AR13,    21,  1, 110760,   OC27,2,19920602,1226, 50.5393, -44.4308, 4081,   3761.2,   2.0870,  34.8945,2,  34.8901,2,    328.6,2,    282.8,2,    13.58,6,    15.40,6,     1.07,6,    1.812,2, -999.000,5, -999.000,5,    3.641,2,   -999.0,5
   18HU92014_1,  AR13,    21,  1, 110759,    OC3,2,19920602,1226, 50.5393, -44.4308, 4081,   4256.3,   1.8833,  34.8853,2,  34.8991,2,    338.9,2,    283.9,2,    12.32,6,    15.47,6,     1.05,6,    1.727,2, -999.000,5, -999.000,5,    3.485,2,   -999.0,5
   18HU92014_1,  AR13,    22,  1, 110794,    OC1,2,19920602,1848, 50.2593, -45.1020, 3162,      3.9,   6.7723,  34.3080,2,  34.3021,2,    333.8,2,    314.7,2,     4.40,6,     6.60,6,     0.57,6, -999.000,9, -999.000,9, -999.000,9, -999.000,9,   -999.0,9
   18HU92014_1,  AR13,    22,  1, 110793,    OC2,2,19920602,1848, 50.2593, -45.1020, 3162,     77.7,   4.8452,  34.3758,2,  34.3770,2,    300.9,2,    274.9,2,     7.40,6,    12.22,6,     0.96,6, -999.000,9, -999.000,9, -999.000,9, -999.000,9,   -999.0,9
   18HU92014_1,  AR13,    22,  1, 110792,   OC19,2,19920602,1848, 50.2593, -45.1020, 3162,    153.3,   4.6308,  34.6491,2,  34.6508,2,    284.4,2,    247.5,2,    10.68,6,    17.05,6,     1.19,6, -999.000,9, -999.000,9, -999.000,9, -999.000,9,   -999.0,9
   18HU92014_1,  AR13,    22,  1, 110791,   OC22,2,19920602,1848, 50.2593, -45.1020, 3162,    302.1,   4.6343,  34.9041,2,  34.9060,2,    286.5,2,    248.0,2,    11.18,6,    18.06,6,     1.22,6, -999.000,9, -999.000,9, -999.000,9, -999.000,9,   -999.0,9
   18HU92014_1,  AR13,    22,  1, 110790,    OC9,2,19920602,1848, 50.2593, -45.1020, 3162,    399.5,   4.5354,  34.9461,2,  34.9475,2,    294.8,2,    253.0,2,    11.13,6,    18.14,6,     1.21,6, -999.000,9, -999.000,9, -999.000,9, -999.000,9,   -999.0,9
   18HU92014_1,  AR13,    22,  1, 110789,   OC20,2,19920602,1848, 50.2593, -45.1020, 3162,    497.3,   3.9454,  34.9105,2,  34.9121,2,    310.7,2,    269.3,2,    10.48,6,    17.57,6,     1.16,6, -999.000,9, -999.000,9, -999.000,9, -999.000,9,   -999.0,9
   18HU92014_1,  AR13,    22,  1, 110788,   OC12,2,19920602,1848, 50.2593, -45.1020, 3162,    671.7,   3.5758,  34.8802,2,  34.8727,2,    319.5,2,    287.5,2,    10.09,6,    17.18,6,     1.14,6, -999.000,9, -999.000,9, -999.000,9, -999.000,9,   -999.0,9
   18HU92014_1,  AR13,    22,  1, 110787,    OC8,2,19920602,1848, 50.2593, -45.1020, 3162,    953.2,   3.4150,  34.8797,2,  34.8816,2,    321.6,2,    286.4,6,    10.43,6,    16.93,6,     1.11,6, -999.000,9, -999.000,9, -999.000,9, -999.000,9,   -999.0,9
   18HU92014_1,  AR13,    22,  1, 110786,    BO6,2,19920602,1848, 50.2593, -45.1020, 3162,   1239.2,   3.2049,  34.8647,2,  34.8652,2,    327.7,2,    292.9,2,    10.23,6,    16.77,6,     1.09,6, -999.000,9, -999.000,9, -999.000,9, -999.000,9,   -999.0,9
   18HU92014_1,  AR13,    22,  1, 110785,   OC13,2,19920602,1848, 50.2593, -45.1020, 3162,   1519.1,   3.2821,  34.8898,2,  34.8920,2,    323.4,2,    286.4,2,    11.18,6,    17.07,6,     1.12,6, -999.000,9, -999.000,9, -999.000,9, -999.000,9,   -999.0,9
   18HU92014_1,  AR13,    22,  1, 110784,   OC26,2,19920602,1848, 50.2593, -45.1020, 3162,   1793.8,   3.2112,  34.8960,2,  34.8977,2,    322.6,2,    283.3,2,    11.40,6,    16.96,6,     1.12,6, -999.000,9, -999.000,9, -999.000,9, -999.000,9,   -999.0,9
   18HU92014_1,  AR13,    22,  1, 110783,    OC5,2,19920602,1848, 50.2593, -45.1020, 3162,   2071.0,   3.1576,  34.9125,2,  34.9126,2,    320.4,2,    281.4,6,    11.74,6,    16.74,6,     1.11,6, -999.000,9, -999.000,9, -999.000,9, -999.000,9,   -999.0,9
   18HU92014_1,  AR13,    22,  1, 110782,    OC4,2,19920602,1848, 50.2593, -45.1020, 3162,   2340.4,   2.9342,  34.9195,2,  34.9201,2,    320.1,2,    282.0,2,    12.44,6,    16.50,6,     1.08,6, -999.000,9, -999.000,9, -999.000,9, -999.000,9,   -999.0,9
   18HU92014_1,  AR13,    22,  1, 110781,   OC15,2,19920602,1848, 50.2593, -45.1020, 3162,   2616.4,   2.6536,  34.9186,2,  34.9193,2,    321.9,2,    281.6,2,    12.38,6,    16.22,6,     1.07,6, -999.000,9, -999.000,9, -999.000,9, -999.000,9,   -999.0,9
   18HU92014_1,  AR13,    22,  1, 110780,   OC11,2,19920602,1848, 50.2593, -45.1020, 3162,   2891.4,   2.3776,  34.9078,2,  34.9087,2,    327.6,2,    286.1,2,    13.88,6,    15.73,6,     1.06,6, -999.000,9, -999.000,9, -999.000,9, -999.000,9,   -999.0,9
   18HU92014_1,  AR13,    22,  1, 110779,   OC27,2,19920602,1848, 50.2593, -45.1020, 3162,   3166.1,   2.2226,  34.9022,2,  34.9085,2,    329.2,2,    282.6,2,    13.68,6,    16.22,6,     1.05,6, -999.000,9, -999.000,9, -999.000,9, -999.000,9,   -999.0,9
   18HU92014_1,  AR13,    22,  1, 110778,    OC3,2,19920602,1848, 50.2593, -45.1020, 3162,   3464.9,   2.0109,  34.8926,2,  34.9036,2,    339.6,2,    283.6,2,    15.15,6,    16.00,6,     1.08,6, -999.000,9, -999.000,9, -999.000,9, -999.000,9,   -999.0,9
   18HU92014_1,  AR13,    23,  1, 110810,    OC2,2,19920602,2214, 50.1233, -45.3900, 3042,      4.7,   7.1516,  34.1743,2,  34.1759,2,    331.0,2,    312.7,2,     4.40,6,     5.59,6,     0.58,6,    4.258,2,    2.148,2, -999.000,5,    7.456,2,   2076.3,2
   18HU92014_1,  AR13,    23,  1, 110809,   OC19,2,19920602,2214, 50.1233, -45.3900, 3042,     81.4,   5.9707,  34.3003,2,  34.2986,2,    320.7,2,    298.7,2,     5.37,6,     7.75,6,     0.69,6,    4.267,2,    2.617,2, -999.000,5,    7.215,2,   2095.2,6
   18HU92014_1,  AR13,    23,  1, 110808,   OC22,2,19920602,2214, 50.1233, -45.3900, 3042,    155.9,   4.7593,  34.6730,2,  34.6743,2,    293.8,2,    246.3,2,    10.57,6,    17.55,6,     1.19,6,    3.033,2,    1.431,2, -999.000,5,    4.943,2,   2118.1,2
   18HU92014_1,  AR13,    23,  1, 110807,    OC9,2,19920602,2214, 50.1233, -45.3900, 3042,    305.4,   4.5532,  34.9157,2,  34.9134,2,    286.8,2,    251.9,2,    11.01,6,    17.88,6,     1.21,6,    2.324,2,    1.376,2, -999.000,5,    3.895,2,   2140.9,2
   18HU92014_1,  AR13,    23,  1, 110806,   OC20,2,19920602,2214, 50.1233, -45.3900, 3042,    405.7,   4.3720,  34.9329,2,  34.9149,2,    294.1,2,    251.4,2,    11.05,6,    18.18,6,     1.21,6,    2.421,2,    1.193,2, -999.000,5,    4.157,2,   2130.0,2
   18HU92014_1,  AR13,    23,  1, 110805,   OC12,2,19920602,2214, 50.1233, -45.3900, 3042,    505.9,   3.9913,  34.9064,2,  34.9042,2,    305.0,2,    270.9,2,    10.39,6,    17.58,6,     1.16,6,    2.789,2,    1.359,2, -999.000,5,    4.861,2,   2116.7,2
   18HU92014_1,  AR13,    23,  1, 110804,    OC8,2,19920602,2214, 50.1233, -45.3900, 3042,    681.2,   3.3916,  34.8513,2,  34.8505,2,    324.2,2,    289.7,2,     9.64,6,    16.72,6,     1.11,6,    3.438,2,    1.676,2, -999.000,5,    5.925,2,   2133.3,6
   18HU92014_1,  AR13,    23,  1, 110803,    BO6,2,19920602,2214, 50.1233, -45.3900, 3042,    958.1,   3.1760,  34.8477,2,  34.8473,2,    327.8,2,    293.8,2,     9.77,6,    16.39,6,     1.10,6,    3.152,2,    1.550,2, -999.000,5,    5.645,2,   2104.5,2
   18HU92014_1,  AR13,    23,  1, 110802,   OC13,2,19920602,2214, 50.1233, -45.3900, 3042,   1237.2,   3.1485,  34.8580,2,  34.8594,2,    328.0,2,    292.4,2,    10.08,6,    16.79,6,     1.11,6,    2.835,2,    1.447,2, -999.000,5,    5.109,2,   2114.3,2
   18HU92014_1,  AR13,    23,  1, 110801,   OC26,2,19920602,2214, 50.1233, -45.3900, 3042,   1515.2,   3.1503,  34.8725,2,  34.8735,2,    325.4,2,    289.3,2,    10.67,6,    16.86,6,     1.13,6,    2.361,2,    1.212,2, -999.000,5,    4.621,2,   2146.0,2
   18HU92014_1,  AR13,    23,  1, 110800,    OC5,2,19920602,2214, 50.1233, -45.3900, 3042,   1794.9,   3.1763,  34.8932,2,  34.8936,2,    321.6,2,    289.7,2,    11.19,6,    16.46,6,     1.11,6,    1.911,2,    1.036,2, -999.000,5,    3.962,2,   2143.5,2
   18HU92014_1,  AR13,    23,  1, 110799,    OC4,2,19920602,2214, 50.1233, -45.3900, 3042,   2074.9,   3.1416,  34.9133,2,  34.9124,2,    318.9,2,    282.1,2,    11.75,6,    16.49,6,     1.10,6,    1.521,2,    0.708,2, -999.000,5,    3.302,2,   2148.5,2
   18HU92014_1,  AR13,    23,  1, 110798,   OC15,2,19920602,2214, 50.1233, -45.3900, 3042,   2354.6,   2.9657,  34.9224,2,  34.9107,2,    319.2,2,    278.7,2,    12.64,6,    16.26,6,     1.11,6,    1.351,2,    0.803,2, -999.000,5,    2.977,2,   2130.9,6
   18HU92014_1,  AR13,    23,  1, 110797,   OC11,2,19920602,2214, 50.1233, -45.3900, 3042,   2634.9,   2.6954,  34.9176,2,  34.9174,2,    323.5,2,    281.1,6,    13.06,6,    16.24,6,     1.09,6,    1.481,2,    0.741,2, -999.000,5,    3.347,2,   2088.1,4
   18HU92014_1,  AR13,    23,  1, 110796,   OC27,2,19920602,2214, 50.1233, -45.3900, 3042,   2913.3,   2.5483,  34.9134,2,  34.9109,2,    325.2,2,    281.2,6,    13.57,6,    16.06,6,     1.08,6,    1.481,2,    0.808,2, -999.000,5,    3.234,2,   2167.0,2
   18HU92014_1,  AR13,    23,  1, 110795,    OC3,2,19920602,2214, 50.1233, -45.3900, 3042,   3304.6,   1.9821,  34.8925,2,  34.9063,2,    340.0,2,    282.5,6,    13.37,6,    15.76,6,     1.06,6,    1.486,2,    0.944,2, -999.000,5,    3.220,2,   2166.7,2