BOTTLE,20010702WHPSIOKJU
EXPOCODE,SECT_ID,STNNBR,CASTNO,SAMPNO,BTLNBR,BTLNBR_FLAG_W,DATE,TIME,LATITUDE,LONGITUDE,DEPTH,CTDPRS,CTDTMP,CTDSAL,CTDSAL_FLAG_W,SALNTY,SALNTY_FLAG_W,CTDOXY,CTDOXY_FLAG_W,OXYGEN,OXYGEN_FLAG_W,SILCAT,SILCAT_FLAG_W,NO2+NO3,NO2+NO3_FLAG_W,PHSPHT,PHSPHT_FLAG_W,CFC-11,CFC-11_FLAG_W,CFC-12,CFC-12_FLAG_W,CFC113,CFC113_FLAG_W,CCL4,CCL4_FLAG_W,TCARBN,TCARBN_FLAG_W
,,,,,,,,,,,,DBAR,ITS-90,PSS-78,,PSS-78,,UMOL/KG,,UMOL/KG,,UMOL/KG,,UMOL/KG,,UMOL/KG,,PMOL/KG,,PMOL/KG,,PMOL/KG,,PMOL/KG,,UMOL/KG,
   18HU92014_1,  AR7W,    37,  1, 111018,   OC22,2,19920607,0536, 55.2612, -53.9747, 1995,      4.8,  -0.0620,  33.2597,2,  33.2524,2,    439.9,2,    417.3,2,     6.17,6,     0.00,6,     0.24,6,    5.153,2,    2.559,2, -999.000,5,    9.126,2,   -999.0,9
   18HU92014_1,  AR7W,    37,  1, 111017,    OC9,2,19920607,0536, 55.2612, -53.9747, 1995,     54.2,   0.9348,  34.1698,2,  34.1564,2,    374.0,2,    338.5,2,     7.58,6,     8.79,6,     0.69,6,    4.612,2,    2.084,2, -999.000,5,    7.763,2,   -999.0,9
   18HU92014_1,  AR7W,    37,  1, 111016,   OC20,2,19920607,0536, 55.2612, -53.9747, 1995,    102.8,   2.9837,  34.7482,2,  34.7452,2,    344.4,2,    305.6,2,     8.99,6,    15.19,6,     0.98,6,    3.751,2,    1.823,2, -999.000,5,    6.226,2,   -999.0,9
   18HU92014_1,  AR7W,    37,  1, 111015,   OC12,2,19920607,0536, 55.2612, -53.9747, 1995,    200.6,   3.0516,  34.8087,2,  34.8069,2,    345.2,2,    306.6,6,     9.00,6,    15.70,6,     0.99,6,    3.768,2,    1.698,2, -999.000,5,    6.447,2,   -999.0,9
   18HU92014_1,  AR7W,    37,  1, 111014,    OC8,2,19920607,0536, 55.2612, -53.9747, 1995,    401.3,   2.9568,  34.8269,2,  34.8260,2,    344.5,2,    307.3,2,     9.02,6,    15.86,6,     1.01,6,    3.807,2,    1.827,2, -999.000,5,    6.517,2,   -999.0,9
   18HU92014_1,  AR7W,    37,  1, 111013,   BO18,2,19920607,0536, 55.2612, -53.9747, 1995,    605.2,   2.9592,  34.8318,2,  34.8318,2,    345.8,2,    305.7,2,     9.05,6,    16.06,6,     1.03,6,    3.613,2,    1.641,2, -999.000,5,    6.069,2,   -999.0,9
   18HU92014_1,  AR7W,    37,  1, 111012,   OC13,2,19920607,0536, 55.2612, -53.9747, 1995,    807.1,   2.9780,  34.8356,2,  34.8375,2,    345.1,2,    302.5,2,     9.13,6,    16.19,6,     1.03,6,    3.665,2,    1.723,2, -999.000,5,    6.378,2,   -999.0,9
   18HU92014_1,  AR7W,    37,  1, 111011,   OC17,2,19920607,0536, 55.2612, -53.9747, 1995,   1008.2,   2.9479,  34.8397,2,  34.8410,2,    345.5,2,    304.4,2,     9.21,6,    16.26,6,     1.06,6,    3.413,2,    1.620,2, -999.000,5,    5.865,2,   -999.0,9
   18HU92014_1,  AR7W,    37,  1, 111010,    OC5,2,19920607,0536, 55.2612, -53.9747, 1995,   1213.6,   2.9292,  34.8396,2,  34.8380,2,    347.3,2,    299.8,2,     9.23,6,    16.23,6,     1.04,6,    3.235,2,    1.408,2, -999.000,5,    5.811,2,   -999.0,9
   18HU92014_1,  AR7W,    37,  1, 111009,    OC4,2,19920607,0536, 55.2612, -53.9747, 1995,   1413.2,   2.9248,  34.8413,2,  34.8427,2,    346.8,2,    301.1,2,     9.34,6,    16.21,6,     1.06,6,    3.351,2,    1.496,2, -999.000,5,    5.965,2,   -999.0,9
   18HU92014_1,  AR7W,    37,  1, 111008,   OC15,2,19920607,0536, 55.2612, -53.9747, 1995,   1611.5,   2.9453,  34.8502,2,  34.8427,2,    344.9,2,    303.4,2,     9.25,6,    16.18,6,     1.06,6,    3.225,2,    1.480,2, -999.000,5,    5.604,2,   -999.0,9
   18HU92014_1,  AR7W,    37,  1, 111007,   OC11,2,19920607,0536, 55.2612, -53.9747, 1995,   1816.6,   3.0501,  34.8849,2,  34.8842,2,    338.3,2,    297.2,6,    11.15,6,    16.17,6,     1.07,6,    2.183,2,    0.985,2, -999.000,5,    4.071,2,   -999.0,9
   18HU92014_1,  AR7W,    37,  1, 111006,   OC27,2,19920607,0536, 55.2612, -53.9747, 1995,   2019.9,   2.9531,  34.9107,2,  34.9117,2,    336.1,2,    284.3,2,    11.23,6,    16.17,6,     1.04,6,    1.650,2,    0.776,2, -999.000,5,    3.260,2,   -999.0,9
   18HU92014_1,  AR7W,    37,  1, 111005,    OC3,2,19920607,0536, 55.2612, -53.9747, 1995,   2062.1,   2.6988,  34.9114,2,  34.9099,2,    339.2,2,    283.5,2,    11.55,6,    15.82,6,     1.06,6,    1.641,2,    0.663,2, -999.000,5,    3.164,2,   -999.0,9
   18HU92014_1,  AR7W,    38,  1, 111034,   OC23,2,19920607,0900, 55.4100, -53.8083, 2591,      5.6,   0.7717,  33.4577,2,  34.8537,3,    420.8,2,    398.9,2,     7.05,6,     1.17,6,     0.30,6,    4.950,2,    2.319,2, -999.000,5,    8.675,2,   -999.0,9
   18HU92014_1,  AR7W,    38,  1, 111033,   OC19,2,19920607,0900, 55.4100, -53.8083, 2591,     56.0,   2.1602,  34.4533,2,  34.4581,2,    368.9,2,    338.5,2,     8.19,6,     9.86,6,     0.80,6,    4.540,2,    2.076,2, -999.000,5,    7.897,2,   -999.0,9
   18HU92014_1,  AR7W,    38,  1, 111032,   OC22,2,19920607,0900, 55.4100, -53.8083, 2591,    105.3,   2.3824,  34.5824,2,  34.5808,2,    360.0,2,    328.0,2,     8.58,6,    12.21,6,     0.86,6,    4.156,2,    1.832,2, -999.000,5,    7.059,2,   -999.0,9
   18HU92014_1,  AR7W,    38,  1, 111031,    OC9,2,19920607,0900, 55.4100, -53.8083, 2591,    206.5,   2.6645,  34.7238,2,  34.7193,2,    349.7,2,    315.5,2,     8.81,6,    14.42,6,     0.95,6,    3.961,2,    1.797,2, -999.000,5,    6.888,2,   -999.0,9
   18HU92014_1,  AR7W,    38,  1, 111030,   OC20,2,19920607,0900, 55.4100, -53.8083, 2591,    347.7,   2.9009,  34.8366,2,  34.8362,2,    343.8,2,    306.8,2,     8.99,6,    15.82,6,     0.99,6,    3.911,2,    1.779,2, -999.000,5,    6.769,2,   -999.0,9
   18HU92014_1,  AR7W,    38,  1, 111029,   OC12,2,19920607,0900, 55.4100, -53.8083, 2591,    608.3,   2.9922,  34.8554,2,  34.8546,2,    338.7,2,    299.5,2,     9.52,6,    16.05,6,     1.06,6,    3.279,2,    1.440,2, -999.000,5,    5.602,2,   -999.0,9
   18HU92014_1,  AR7W,    38,  1, 111028,    OC8,2,19920607,0900, 55.4100, -53.8083, 2591,    808.7,   3.0560,  34.8723,2,  34.8711,2,    330.9,2,    293.8,2,     9.88,6,    16.25,6,     1.06,6,    2.659,2,    1.195,2, -999.000,5,    4.770,2,   -999.0,9
   18HU92014_1,  AR7W,    38,  1, 111027,   BO18,2,19920607,0900, 55.4100, -53.8083, 2591,   1012.5,   3.0712,  34.8925,2,  34.8921,2,    326.7,2,    288.4,2,    10.42,6,    16.25,6,     1.04,6,    2.220,2,    1.006,2, -999.000,5,    4.183,2,   -999.0,9
   18HU92014_1,  AR7W,    38,  1, 111026,   OC13,2,19920607,0900, 55.4100, -53.8083, 2591,   1215.7,   3.0205,  34.9035,2,  34.9025,2,    325.3,2,    286.4,6,    10.96,6,    16.21,6,     1.04,6,    1.955,2,    0.840,2, -999.000,5,    3.821,2,   -999.0,9
   18HU92014_1,  AR7W,    38,  1, 111025,   OC17,2,19920607,0900, 55.4100, -53.8083, 2591,   1412.7,   2.9405,  34.9099,2,  34.9073,2,    324.6,2,    284.0,2,    11.15,6,    16.11,6,     1.04,6,    1.768,2,    0.798,2, -999.000,5,    3.414,2,   -999.0,9
   18HU92014_1,  AR7W,    38,  1, 111024,    OC5,2,19920607,0900, 55.4100, -53.8083, 2591,   1614.0,   2.8599,  34.9129,2,  34.9216,2,    325.7,2,    294.3,6,    11.55,6,    15.97,6,     1.04,6,    1.752,2,    1.069,2, -999.000,5,    3.461,2,   -999.0,9
   18HU92014_1,  AR7W,    38,  1, 111023,    OC4,2,19920607,0900, 55.4100, -53.8083, 2591,   1816.6,   2.7337,  34.9143,2,  34.9129,2,    326.5,2,    283.8,2,    11.77,6,    15.90,6,     1.04,6,    1.683,2,    0.675,2, -999.000,5,    3.368,2,   -999.0,9
   18HU92014_1,  AR7W,    38,  1, 111022,   OC15,2,19920607,0900, 55.4100, -53.8083, 2591,   2013.8,   2.5729,  34.9122,2,  34.9131,2,    328.0,2,    282.9,2,    11.71,6,    15.89,6,     1.00,6,    1.632,2,    0.627,2, -999.000,5,    3.308,2,   -999.0,9
   18HU92014_1,  AR7W,    38,  1, 111021,   OC11,2,19920607,0900, 55.4100, -53.8083, 2591,   2208.6,   2.3139,  34.9046,2,  34.9026,2,    332.4,2,    289.0,2,    12.06,6,    15.41,6,     1.02,6,    2.095,2,    0.766,2, -999.000,5,    3.655,2,   -999.0,9
   18HU92014_1,  AR7W,    38,  1, 111020,   OC27,2,19920607,0900, 55.4100, -53.8083, 2591,   2412.1,   2.0661,  34.8967,2,  34.8949,2,    337.4,2,    279.5,6,    11.72,6,    15.20,6,     0.97,6,    2.069,2,    0.929,2, -999.000,5,    3.932,2,   -999.0,9
   18HU92014_1,  AR7W,    38,  1, 111019,    OC3,2,19920607,0900, 55.4100, -53.8083, 2591,   2683.7,   1.9405,  34.8927,2,  34.8958,2,    345.0,2,    291.6,2,    11.70,6,    15.20,6,     0.97,6,    2.131,2,    0.915,2, -999.000,5,    4.083,2,   -999.0,9
   18HU92014_1,  AR7W,    39,  1, 111052,   OC14,2,19920607,1254, 55.6128, -53.6477, 2839,      3.5,   2.9892,  34.4812,2,  34.7960,3,    407.5,2,    327.5,2,     8.42,6,    12.64,6,     0.91,6, -999.000,9, -999.000,9, -999.000,9, -999.000,9,   2137.7,2
   18HU92014_1,  AR7W,    39,  1, 111051,    OC1,2,19920607,1254, 55.6128, -53.6477, 2839,     54.8,   3.0214,  34.7963,2,  34.8151,2,    358.4,2,    315.8,2,     8.54,6,    14.89,6,     1.00,6, -999.000,9, -999.000,9, -999.000,9, -999.000,9,   2150.5,2
   18HU92014_1,  AR7W,    39,  1, 111050,   OC23,2,19920607,1254, 55.6128, -53.6477, 2839,    103.6,   2.9489,  34.8163,2,  34.8170,2,    347.9,2,    306.1,2,     8.51,6,    15.63,6,     1.02,6, -999.000,9, -999.000,9, -999.000,9, -999.000,9,   2152.8,2
   18HU92014_1,  AR7W,    39,  1, 111049,   OC19,2,19920607,1254, 55.6128, -53.6477, 2839,    197.6,   2.8888,  34.8185,2,  34.8301,2,    345.2,2,    304.2,2,     8.81,6,    15.74,6,     1.02,6, -999.000,9, -999.000,9, -999.000,9, -999.000,9,   2154.4,2
   18HU92014_1,  AR7W,    39,  1, 111048,   OC22,2,19920607,1254, 55.6128, -53.6477, 2839,    397.7,   2.9371,  34.8293,2,  34.8300,2,    344.0,2,    304.5,2,     8.82,6,    15.72,6,     1.01,6, -999.000,9, -999.000,9, -999.000,9, -999.000,9,   2156.2,6
   18HU92014_1,  AR7W,    39,  1, 111047,    OC9,2,19920607,1254, 55.6128, -53.6477, 2839,    594.3,   2.9473,  34.8361,2,  34.8343,2,    342.7,2,    304.9,2,     9.11,6,    15.97,6,     1.01,6, -999.000,9, -999.000,9, -999.000,9, -999.000,9,   2156.1,2
   18HU92014_1,  AR7W,    39,  1, 111046,   OC20,2,19920607,1254, 55.6128, -53.6477, 2839,    782.5,   2.9051,  34.8352,2,  34.8352,2,    344.1,2,    303.7,2,     9.18,6,    16.03,6,     1.05,6, -999.000,9, -999.000,9, -999.000,9, -999.000,9,   2156.5,2
   18HU92014_1,  AR7W,    39,  1, 111045,   OC12,2,19920607,1254, 55.6128, -53.6477, 2839,    978.5,   2.8551,  34.8301,2,  34.8341,2,    346.2,2,    304.4,2,     9.19,6,    16.15,6,     1.05,6, -999.000,9, -999.000,9, -999.000,9, -999.000,9,   2155.9,2
   18HU92014_1,  AR7W,    39,  1, 111044,    OC8,2,19920607,1254, 55.6128, -53.6477, 2839,   1182.3,   2.8708,  34.8335,2,  34.8354,2,    345.8,2,    303.0,2,     9.21,6,    16.14,6,     1.05,6, -999.000,9, -999.000,9, -999.000,9, -999.000,9,   2156.7,2
   18HU92014_1,  AR7W,    39,  1, 111043,   BO18,2,19920607,1254, 55.6128, -53.6477, 2839,   1393.4,   2.8829,  34.8356,2,-999.0000,5,    346.4,2,    303.0,2,  -999.00,5,  -999.00,5,  -999.00,5, -999.000,9, -999.000,9, -999.000,9, -999.000,9,   -999.0,5
   18HU92014_1,  AR7W,    39,  1, 111042,   OC13,2,19920607,1254, 55.6128, -53.6477, 2839,   1600.4,   2.8984,  34.8393,2,  34.8391,2,    344.1,2,    301.0,2,     9.32,6,    16.16,6,     1.05,6, -999.000,9, -999.000,9, -999.000,9, -999.000,9,   2156.1,2
   18HU92014_1,  AR7W,    39,  1, 111041,   OC17,2,19920607,1254, 55.6128, -53.6477, 2839,   1802.4,   2.9396,  34.8499,2,  34.8499,2,    341.1,2,    297.3,2,     9.48,6,    16.24,6,     1.05,6, -999.000,9, -999.000,9, -999.000,9, -999.000,9,   2156.4,6
   18HU92014_1,  AR7W,    39,  1, 111040,    OC5,2,19920607,1254, 55.6128, -53.6477, 2839,   1990.2,   3.1189,  34.9103,2,  34.9087,2,    327.5,2,    282.0,2,    11.11,6,    16.30,6,     1.06,6, -999.000,9, -999.000,9, -999.000,9, -999.000,9,   2161.0,6
   18HU92014_1,  AR7W,    39,  1, 111039,    OC4,2,19920607,1254, 55.6128, -53.6477, 2839,   2182.6,   2.9426,  34.9159,2,  34.9076,2,    328.3,2,    284.1,2,    11.69,6,    15.62,6,     1.02,6, -999.000,9, -999.000,9, -999.000,9, -999.000,9,   2160.4,2
   18HU92014_1,  AR7W,    39,  1, 111038,   OC15,2,19920607,1254, 55.6128, -53.6477, 2839,   2377.4,   2.6301,  34.9111,2,  34.9095,2,    332.3,2,    284.1,6,    11.77,6,    15.75,6,     0.99,6, -999.000,9, -999.000,9, -999.000,9, -999.000,9,   2159.2,2
   18HU92014_1,  AR7W,    39,  1, 111037,   OC11,2,19920607,1254, 55.6128, -53.6477, 2839,   2567.3,   2.4433,  34.9067,2,  34.9060,2,    334.9,2,    286.9,6,    11.87,6,    17.07,6,     1.03,6, -999.000,9, -999.000,9, -999.000,9, -999.000,9,   2159.1,2
   18HU92014_1,  AR7W,    39,  1, 111036,   OC27,2,19920607,1254, 55.6128, -53.6477, 2839,   2772.3,   2.2141,  34.9005,2,  34.8915,2,    340.1,2,    293.2,6,    11.00,6,    16.45,6,     0.98,6, -999.000,9, -999.000,9, -999.000,9, -999.000,9,   2158.2,6
   18HU92014_1,  AR7W,    39,  1, 111035,    OC3,2,19920607,1254, 55.6128, -53.6477, 2839,   2961.4,   1.9467,  34.8922,2,  34.8882,2,    347.9,2,    292.8,2,    11.19,6,    16.54,6,     0.98,6, -999.000,9, -999.000,9, -999.000,9, -999.000,9,   2159.2,2
   18HU92014_1,  AR7W,    40,  1, 111071,    OC7,2,19920607,1704, 55.8412, -53.3968, 3042,      4.8,   2.4879,  34.3852,2,  34.3828,2,    393.6,2,    378.3,2,     8.37,6,     5.05,6,     0.48,6,    4.491,2,    2.059,2, -999.000,5,    7.392,2,   -999.0,9
   18HU92014_1,  AR7W,    40,  1, 111070,   OC14,2,19920607,1704, 55.8412, -53.3968, 3042,     54.9,   2.9044,  34.6535,2,  34.6531,2,    351.8,2,    327.6,2,     8.70,6,    11.57,6,     0.77,6,    4.172,2,    1.939,2, -999.000,5,    6.691,2,   -999.0,9
   18HU92014_1,  AR7W,    40,  1, 111069,    OC1,2,19920607,1704, 55.8412, -53.3968, 3042,    102.8,   3.0601,  34.8010,2,  34.7999,2,    342.6,2,    306.9,2,     9.08,6,    15.47,6,     1.00,6,    3.818,2,    1.816,2, -999.000,5,    6.219,2,   -999.0,9
   18HU92014_1,  AR7W,    40,  1, 111068,   OC23,2,19920607,1704, 55.8412, -53.3968, 3042,    203.6,   2.9258,  34.8179,2,  34.8170,2,    345.2,2,    309.7,2,     8.69,6,    15.72,6,     1.01,6,    4.041,2,    2.008,2, -999.000,5,    6.577,2,   -999.0,9
   18HU92014_1,  AR7W,    40,  1, 111067,   OC19,2,19920607,1704, 55.8412, -53.3968, 3042,    402.7,   2.9418,  34.8317,2,  34.8325,2,    342.9,2,    305.6,2,     8.92,6,    16.13,6,     1.03,6,    3.805,2,    1.752,2, -999.000,5,    6.230,2,   -999.0,9
   18HU92014_1,  AR7W,    40,  1, 111066,   OC22,2,19920607,1704, 55.8412, -53.3968, 3042,    608.1,   2.9125,  34.8352,2,  34.8358,2,    342.6,2,    304.0,2,     9.13,6,    16.29,6,     1.04,6,    3.681,2,    1.770,2, -999.000,5,    6.147,2,   -999.0,9
   18HU92014_1,  AR7W,    40,  1, 111065,    OC9,2,19920607,1704, 55.8412, -53.3968, 3042,    809.7,   2.8893,  34.8344,2,  34.8348,2,    343.3,2,    304.0,2,     9.14,6,    16.39,6,     1.08,6,    3.559,2,    1.666,2, -999.000,5,    5.897,2,   -999.0,9
   18HU92014_1,  AR7W,    40,  1, 111064,   OC20,2,19920607,1704, 55.8412, -53.3968, 3042,   1008.4,   2.8766,  34.8342,2,  34.8357,2,    343.4,2,    304.0,2,     9.14,6,    16.44,6,     1.02,6,    3.621,2,    1.631,2, -999.000,5,    6.046,2,   -999.0,9
   18HU92014_1,  AR7W,    40,  1, 111063,   OC12,2,19920607,1704, 55.8412, -53.3968, 3042,   1210.8,   2.8814,  34.8361,2,  34.8340,2,    344.1,2,    301.6,2,     9.32,6,    16.58,6,     1.03,6,    3.549,2,    1.627,2, -999.000,5,    6.012,2,   -999.0,9
   18HU92014_1,  AR7W,    40,  1, 111062,    OC8,2,19920607,1704, 55.8412, -53.3968, 3042,   1400.7,   2.8924,  34.8377,2,  34.8395,2,    344.0,2,    304.0,2,     9.36,6,    16.39,6,     1.01,6,    3.364,2,    1.612,2, -999.000,5,    5.585,2,   -999.0,9
   18HU92014_1,  AR7W,    40,  1, 111061,   OC18,2,19920607,1704, 55.8412, -53.3968, 3042,   1590.5,   2.9002,  34.8392,2,  34.8390,2,    343.6,2,    299.1,2,     9.36,6,    16.22,6,     1.05,6,    3.207,2,    1.529,2, -999.000,5,    5.428,2,   -999.0,9
   18HU92014_1,  AR7W,    40,  1, 111060,   OC13,2,19920607,1704, 55.8412, -53.3968, 3042,   1783.4,   2.9172,  34.8433,2,  34.8441,2,    342.8,2,    299.8,2,     9.43,6,    16.28,6,     1.04,6,    3.145,2,    1.448,2, -999.000,5,    5.363,2,   -999.0,9
   18HU92014_1,  AR7W,    40,  1, 111059,   OC17,2,19920607,1704, 55.8412, -53.3968, 3042,   1981.7,   3.0481,  34.8751,2,  34.8761,2,    334.9,2,    292.1,6,    10.13,6,    16.39,6,     1.04,6,    2.523,2,    1.137,2, -999.000,5,    4.397,2,   -999.0,9
   18HU92014_1,  AR7W,    40,  1, 111058,    OC5,2,19920607,1704, 55.8412, -53.3968, 3042,   2194.2,   3.0909,  34.9041,2,  34.9012,2,    329.3,2,    284.2,2,    10.84,6,    16.36,6,     1.07,6,    1.925,2,    1.035,2, -999.000,5,    3.503,2,   -999.0,9
   18HU92014_1,  AR7W,    40,  1, 111057,    OC4,2,19920607,1704, 55.8412, -53.3968, 3042,   2395.9,   2.9268,  34.9145,2,  34.9080,2,    328.5,2,    282.2,6,    11.24,6,    15.88,6,     1.02,6,    1.658,2,    0.789,2, -999.000,5,    3.127,2,   -999.0,9
   18HU92014_1,  AR7W,    40,  1, 111056,   OC15,2,19920607,1704, 55.8412, -53.3968, 3042,   2598.8,   2.7354,  34.9140,2,  34.9151,2,    329.4,2,    282.4,2,    11.29,6,    15.86,6,     1.04,6,    1.644,2,    0.802,2, -999.000,5,    3.055,2,   -999.0,9
   18HU92014_1,  AR7W,    40,  1, 111055,   OC11,2,19920607,1704, 55.8412, -53.3968, 3042,   2807.5,   2.4048,  34.9065,2,  34.9128,2,    334.0,2,    283.5,6,    11.72,6,    15.80,6,     1.02,6,    1.718,2,    0.793,2, -999.000,5,    3.158,2,   -999.0,9
   18HU92014_1,  AR7W,    40,  1, 111054,   OC27,2,19920607,1704, 55.8412, -53.3968, 3042,   2998.6,   1.9766,  34.8927,2,  34.9067,2,    343.0,2,    286.9,2,    11.90,6,    15.54,6,     0.98,6,    1.825,2,    0.843,2, -999.000,5,    3.345,2,   -999.0,9
   18HU92014_1,  AR7W,    40,  1, 111053,    OC3,2,19920607,1704, 55.8412, -53.3968, 3042,   3159.6,   1.7448,  34.8871,2,  34.8923,2,    349.2,2,    292.5,2,    11.00,6,    14.92,6,     0.98,6,    2.191,2,    0.933,2, -999.000,5,    4.055,2,   -999.0,9