BOTTLE,20010702WHPSIOKJU
EXPOCODE,SECT_ID,STNNBR,CASTNO,SAMPNO,BTLNBR,BTLNBR_FLAG_W,DATE,TIME,LATITUDE,LONGITUDE,DEPTH,CTDPRS,CTDTMP,CTDSAL,CTDSAL_FLAG_W,SALNTY,SALNTY_FLAG_W,CTDOXY,CTDOXY_FLAG_W,OXYGEN,OXYGEN_FLAG_W,SILCAT,SILCAT_FLAG_W,NO2+NO3,NO2+NO3_FLAG_W,PHSPHT,PHSPHT_FLAG_W,CFC-11,CFC-11_FLAG_W,CFC-12,CFC-12_FLAG_W,CFC113,CFC113_FLAG_W,CCL4,CCL4_FLAG_W,TCARBN,TCARBN_FLAG_W
,,,,,,,,,,,,DBAR,ITS-90,PSS-78,,PSS-78,,UMOL/KG,,UMOL/KG,,UMOL/KG,,UMOL/KG,,UMOL/KG,,PMOL/KG,,PMOL/KG,,PMOL/KG,,PMOL/KG,,UMOL/KG,
   18HU92014_1,  AR7W,    41,  1, 111091,   OC21,2,19920607,2132, 56.1148, -53.1174, 3245,      4.7,   3.5820,  34.7530,2,  34.7541,2,    361.4,2,    335.4,2,     8.49,6,    13.19,6,     0.86,6, -999.000,9, -999.000,9, -999.000,9, -999.000,9,   2139.0,2
   18HU92014_1,  AR7W,    41,  1, 111090,    OC7,2,19920607,2132, 56.1148, -53.1174, 3245,     54.9,   3.1691,  34.7738,2,  34.7728,2,    353.4,2,    327.7,2,     8.66,6,    14.16,6,     0.92,6, -999.000,9, -999.000,9, -999.000,9, -999.000,9,   2147.6,2
   18HU92014_1,  AR7W,    41,  1, 111089,   OC14,2,19920607,2132, 56.1148, -53.1174, 3245,    104.5,   2.9259,  34.7975,2,  34.7978,2,    347.1,2,    316.1,6,     9.09,6,    15.79,6,     1.01,6, -999.000,9, -999.000,9, -999.000,9, -999.000,9,   2156.5,2
   18HU92014_1,  AR7W,    41,  1, 111088,    OC1,2,19920607,2132, 56.1148, -53.1174, 3245,    204.2,   2.9208,  34.8172,2,  34.8178,2,    340.4,2,    305.3,2,     9.36,6,    16.64,6,     1.04,6, -999.000,9, -999.000,9, -999.000,9, -999.000,9,   2159.7,2
   18HU92014_1,  AR7W,    41,  1, 111087,   OC23,2,19920607,2132, 56.1148, -53.1174, 3245,    406.8,   2.9215,  34.8309,2,  34.8312,2,    338.9,2,    303.0,2,     9.48,6,    16.66,6,     1.06,6, -999.000,9, -999.000,9, -999.000,9, -999.000,9,   2160.4,2
   18HU92014_1,  AR7W,    41,  1, 111086,   OC19,2,19920607,2132, 56.1148, -53.1174, 3245,    605.9,   2.9013,  34.8332,2,  34.8424,2,    339.7,2,    302.0,2,     9.43,6,    16.38,6,     1.06,6, -999.000,9, -999.000,9, -999.000,9, -999.000,9,   2159.8,2
   18HU92014_1,  AR7W,    41,  1, 111085,   OC22,2,19920607,2132, 56.1148, -53.1174, 3245,    805.7,   2.8674,  34.8309,2,  34.8351,2,    340.4,2,    303.8,2,     9.45,6,    16.42,6,     1.05,6, -999.000,9, -999.000,9, -999.000,9, -999.000,9,   2159.2,6
   18HU92014_1,  AR7W,    41,  1, 111084,    OC9,2,19920607,2132, 56.1148, -53.1174, 3245,   1006.8,   2.8788,  34.8330,2,  34.8343,2,    342.2,2,    304.0,2,     9.20,6,    16.39,6,     1.05,6, -999.000,9, -999.000,9, -999.000,9, -999.000,9,   2159.1,2
   18HU92014_1,  AR7W,    41,  1, 111083,   OC20,2,19920607,2132, 56.1148, -53.1174, 3245,   1211.9,   2.8939,  34.8345,2,  34.8348,2,    340.9,2,    280.7,3,     9.26,6,    16.46,6,     1.03,6, -999.000,9, -999.000,9, -999.000,9, -999.000,9,   2159.2,2
   18HU92014_1,  AR7W,    41,  1, 111082,   OC12,2,19920607,2132, 56.1148, -53.1174, 3245,   1416.2,   2.8956,  34.8344,2,  34.8366,2,    342.5,2,    310.8,2,     9.32,6,    16.52,6,     1.03,6, -999.000,9, -999.000,9, -999.000,9, -999.000,9,   2159.8,2
   18HU92014_1,  AR7W,    41,  1, 111081,    OC8,2,19920607,2132, 56.1148, -53.1174, 3245,   1619.9,   2.9210,  34.8385,2,-999.0000,5,    341.7,2,    299.9,2,  -999.00,5,  -999.00,5,  -999.00,5, -999.000,9, -999.000,9, -999.000,9, -999.000,9,   2159.6,2
   18HU92014_1,  AR7W,    41,  1, 111080,   OC18,2,19920607,2132, 56.1148, -53.1174, 3245,   1821.3,   2.9510,  34.8455,2,  34.8454,2,    339.8,2,    298.5,2,     9.60,6,    16.63,6,     1.04,6, -999.000,9, -999.000,9, -999.000,9, -999.000,9,   2158.9,6
   18HU92014_1,  AR7W,    41,  1, 111079,   OC13,2,19920607,2132, 56.1148, -53.1174, 3245,   2021.6,   3.0366,  34.8652,2,  34.8670,2,    334.1,2,    291.7,6,    10.08,6,    16.74,6,     1.04,6, -999.000,9, -999.000,9, -999.000,9, -999.000,9,   2161.2,2
   18HU92014_1,  AR7W,    41,  1, 111078,   OC17,2,19920607,2132, 56.1148, -53.1174, 3245,   2226.1,   3.1951,  34.9174,2,  34.9197,2,    322.3,2,    281.7,2,    11.62,6,    16.85,6,     1.05,6, -999.000,9, -999.000,9, -999.000,9, -999.000,9,   2163.7,2
   18HU92014_1,  AR7W,    41,  1, 111077,    OC5,2,19920607,2132, 56.1148, -53.1174, 3245,   2424.8,   3.0539,  34.9243,2,  34.9241,2,    323.0,2,    279.9,2,    12.28,6,    16.62,6,     1.08,6, -999.000,9, -999.000,9, -999.000,9, -999.000,9,   2161.2,6
   18HU92014_1,  AR7W,    41,  1, 111076,    OC4,2,19920607,2132, 56.1148, -53.1174, 3245,   2625.8,   2.8826,  34.9258,2,  34.9217,2,    323.9,2,    272.3,2,    12.62,6,    16.39,6,     1.07,6, -999.000,9, -999.000,9, -999.000,9, -999.000,9,   2165.2,2
   18HU92014_1,  AR7W,    41,  1, 111075,   OC15,2,19920607,2132, 56.1148, -53.1174, 3245,   2829.6,   2.6945,  34.9245,2,  34.9251,2,    324.7,2,    281.2,6,    12.69,6,    16.43,6,     1.05,6, -999.000,9, -999.000,9, -999.000,9, -999.000,9,   2162.7,2
   18HU92014_1,  AR7W,    41,  1, 111074,   OC11,2,19920607,2132, 56.1148, -53.1174, 3245,   3035.1,   2.4521,  34.9131,2,  34.9250,2,    329.1,2,    285.8,2,    13.65,6,    16.42,6,     1.06,6, -999.000,9, -999.000,9, -999.000,9, -999.000,9,   2165.4,2
   18HU92014_1,  AR7W,    41,  1, 111073,   OC27,2,19920607,2132, 56.1148, -53.1174, 3245,   3202.0,   2.0844,  34.8953,2,  34.9138,2,    338.1,2,    283.7,2,    14.07,6,    16.24,6,     1.06,6, -999.000,9, -999.000,9, -999.000,9, -999.000,9,   2168.2,2
   18HU92014_1,  AR7W,    41,  1, 111072,    OC3,2,19920607,2132, 56.1148, -53.1174, 3245,   3370.3,   1.6828,  34.8839,2,  34.8793,2,    348.7,2,    295.1,2,    11.18,6,    14.95,6,     1.01,6, -999.000,9, -999.000,9, -999.000,9, -999.000,9,   2165.0,2
   18HU92014_1,  AR7W,    42,  1, 111111,   OC21,2,19920608,0301, 56.5270, -52.6953, 3403,      4.9,   3.7163,  34.7887,2,  34.7919,2,    396.7,2,    373.7,2,     5.99,6,     5.92,6,     0.51,6,    4.485,2,    2.178,2, -999.000,5,    7.654,2,   -999.0,5
   18HU92014_1,  AR7W,    42,  1, 111110,    OC7,2,19920608,0301, 56.5270, -52.6953, 3403,    105.5,   2.9993,  34.8167,2,  34.8182,2,    357.9,2,    322.0,2,     8.25,6,    14.40,6,     0.95,6,    4.123,2,    1.992,2, -999.000,5,    7.001,2,   -999.0,5
   18HU92014_1,  AR7W,    42,  1, 111109,   OC14,2,19920608,0301, 56.5270, -52.6953, 3403,    206.0,   2.9322,  34.8232,2,  34.8255,2,    350.1,2,    313.8,2,     8.89,6,    15.81,6,     1.04,6,    4.106,2,    2.092,2, -999.000,5,    6.983,2,   -999.0,5
   18HU92014_1,  AR7W,    42,  1, 111108,    OC1,2,19920608,0301, 56.5270, -52.6953, 3403,    407.8,   2.8468,  34.8279,2,  34.8246,2,    345.6,2,    314.8,2,     8.93,6,    15.77,6,     1.03,6,    4.123,2,    2.045,2, -999.000,5,    7.037,2,   -999.0,5
   18HU92014_1,  AR7W,    42,  1, 111107,   OC23,2,19920608,0301, 56.5270, -52.6953, 3403,    608.6,   2.8457,  34.8299,2,  34.8323,2,    346.1,2,    306.7,2,     9.16,6,    16.25,6,     1.06,6,    3.631,2,    1.817,2, -999.000,5,    6.045,2,   -999.0,5
   18HU92014_1,  AR7W,    42,  1, 111106,   OC19,2,19920608,0301, 56.5270, -52.6953, 3403,    810.8,   2.8743,  34.8346,2,  34.8238,2,    344.7,2,    303.6,2,     9.14,6,    16.23,6,     1.07,6,    3.494,2,    1.628,2, -999.000,5,    6.066,2,   -999.0,5
   18HU92014_1,  AR7W,    42,  1, 111105,   OC22,2,19920608,0301, 56.5270, -52.6953, 3403,   1012.2,   2.8658,  34.8330,2,  34.8357,2,    345.7,2,    304.1,2,     9.18,6,    16.31,6,     1.07,6,    3.393,2,    1.561,2, -999.000,5,    5.903,2,   -999.0,5
   18HU92014_1,  AR7W,    42,  1, 111104,    OC9,2,19920608,0301, 56.5270, -52.6953, 3403,   1212.4,   2.8676,  34.8324,2,  34.8329,2,    346.4,2,    304.4,2,     9.15,6,    16.19,6,     1.06,6,    3.625,2,    1.683,2, -999.000,5,    6.233,2,   -999.0,5
   18HU92014_1,  AR7W,    42,  1, 111103,   OC20,2,19920608,0301, 56.5270, -52.6953, 3403,   1414.9,   2.8756,  34.8326,2,  34.8329,2,    347.7,2,    305.3,2,     9.20,6,    16.25,6,     1.05,6,    3.458,2,    1.596,2, -999.000,5,    5.954,2,   -999.0,5
   18HU92014_1,  AR7W,    42,  1, 111102,   OC12,2,19920608,0301, 56.5270, -52.6953, 3403,   1614.6,   2.9029,  34.8364,2,  34.8342,2,    346.6,2,    303.6,2,     9.21,6,    16.24,6,     1.07,6,    3.458,2,    1.602,2, -999.000,5,    5.842,2,   -999.0,5
   18HU92014_1,  AR7W,    42,  1, 111101,    OC8,2,19920608,0301, 56.5270, -52.6953, 3403,   1811.4,   2.9137,  34.8380,2,  34.8401,2,    346.8,2,    300.0,2,     9.29,6,    16.23,6,     1.07,6,    3.301,2,    1.578,2, -999.000,5,    5.608,2,   -999.0,5
   18HU92014_1,  AR7W,    42,  1, 111100,   OC18,2,19920608,0301, 56.5270, -52.6953, 3403,   2003.4,   2.9409,  34.8434,2,  34.8432,2,    345.8,2,    300.3,2,     9.42,6,    16.21,6,     1.06,6,    3.173,2,    1.482,2, -999.000,5,    5.400,2,   -999.0,5
   18HU92014_1,  AR7W,    42,  1, 111099,   OC13,2,19920608,0301, 56.5270, -52.6953, 3403,   2195.4,   3.0460,  34.8652,2,  34.8466,2,    339.3,2,    299.4,2,     9.42,6,    16.19,6,     1.07,6,    3.247,2,    1.609,2, -999.000,5,    5.559,2,   -999.0,5
   18HU92014_1,  AR7W,    42,  1, 111098,   OC17,2,19920608,0301, 56.5270, -52.6953, 3403,   2398.5,   3.1778,  34.9131,2,  34.8656,2,    329.4,2,    293.5,2,    10.00,6,    16.32,6,     1.09,6,    2.594,2,    1.253,2, -999.000,5,    4.723,2,   -999.0,5
   18HU92014_1,  AR7W,    42,  1, 111097,    OC5,2,19920608,0301, 56.5270, -52.6953, 3403,   2597.2,   3.0473,  34.9215,2,  34.9146,2,    327.3,2,    281.4,2,    11.17,6,    16.32,6,     1.08,6,    1.548,2,    0.765,2, -999.000,5,    3.007,2,   -999.0,5
   18HU92014_1,  AR7W,    42,  1, 111096,    OC4,2,19920608,0301, 56.5270, -52.6953, 3403,   2808.0,   2.8379,  34.9203,2,  34.9207,2,    330.0,2,    281.0,2,    12.02,6,    16.02,6,     1.06,6,    1.418,2,    0.748,2, -999.000,5,    2.835,2,   -999.0,5
   18HU92014_1,  AR7W,    42,  1, 111095,   OC15,2,19920608,0301, 56.5270, -52.6953, 3403,   3006.9,   2.6083,  34.9155,2,  34.9191,2,    332.7,2,    281.0,2,    12.09,6,    16.08,6,     1.04,6,    1.402,2,    0.716,2, -999.000,5,    2.878,2,   -999.0,5
   18HU92014_1,  AR7W,    42,  1, 111094,   OC11,2,19920608,0301, 56.5270, -52.6953, 3403,   3215.7,   2.2907,  34.9043,2,  34.9158,2,    336.3,2,    283.7,6,    12.63,6,    15.85,6,     1.05,6,    1.438,2,    0.684,2, -999.000,5,    3.022,2,   -999.0,5
   18HU92014_1,  AR7W,    42,  1, 111093,   OC27,2,19920608,0301, 56.5270, -52.6953, 3403,   3365.7,   2.0020,  34.8917,2,  34.9050,2,    345.7,2,    285.4,6,    13.27,6,    15.69,6,     1.04,6,    1.587,2,    0.766,2, -999.000,5,    3.167,2,   -999.0,5
   18HU92014_1,  AR7W,    42,  1, 111092,    OC3,2,19920608,0301, 56.5270, -52.6953, 3403,   3538.3,   1.6839,  34.8854,2,  34.8920,2,    353.0,2,    292.4,6,    11.10,6,    15.03,6,     0.99,6,    2.189,2,    0.989,2, -999.000,5,    3.906,2,   -999.0,5
   18HU92014_1,  AR7W,    43,  1, 111131,   OC21,2,19920608,0821, 56.9500, -52.2383, 3417,      6.2,   3.5629,  34.7848,2,  34.8186,2,    381.6,2,    319.4,2,     8.35,6,    14.93,6,     0.94,6, -999.000,9, -999.000,9, -999.000,9, -999.000,9,   2148.5,6
   18HU92014_1,  AR7W,    43,  1, 111130,    OC7,2,19920608,0821, 56.9500, -52.2383, 3417,    106.2,   3.0241,  34.8188,2,  34.8397,2,    351.7,2,    308.8,2,     8.67,6,    15.78,6,     1.00,6, -999.000,9, -999.000,9, -999.000,9, -999.000,9,   2151.8,2
   18HU92014_1,  AR7W,    43,  1, 111129,   OC14,2,19920608,0821, 56.9500, -52.2383, 3417,    204.9,   3.0647,  34.8414,2,  34.8409,2,    346.6,2,    306.4,2,     9.01,6,    15.98,6,     1.02,6, -999.000,9, -999.000,9, -999.000,9, -999.000,9,   2155.1,2
   18HU92014_1,  AR7W,    43,  1, 111128,    OC1,2,19920608,0821, 56.9500, -52.2383, 3417,    405.3,   2.9666,  34.8405,2,  34.8407,2,    344.2,2,    304.8,2,     9.11,6,    16.12,6,     1.04,6, -999.000,9, -999.000,9, -999.000,9, -999.000,9,   2154.9,2
   18HU92014_1,  AR7W,    43,  1, 111127,   OC23,2,19920608,0821, 56.9500, -52.2383, 3417,    604.9,   2.9176,  34.8384,2,  34.8373,2,    343.4,2,    303.0,2,     9.14,6,    16.21,6,     1.01,6, -999.000,9, -999.000,9, -999.000,9, -999.000,9,   2154.9,2
   18HU92014_1,  AR7W,    43,  1, 111126,   OC19,2,19920608,0821, 56.9500, -52.2383, 3417,    805.1,   2.8860,  34.8351,2,  34.8334,2,    344.1,2,    305.8,2,     9.08,6,    16.12,6,     1.07,6, -999.000,9, -999.000,9, -999.000,9, -999.000,9,   2155.0,2
   18HU92014_1,  AR7W,    43,  1, 111125,   OC22,2,19920608,0821, 56.9500, -52.2383, 3417,   1006.6,   2.8657,  34.8325,2,  34.8412,2,    346.2,2,    305.9,6,     8.95,6,    16.08,6,     1.06,6, -999.000,9, -999.000,9, -999.000,9, -999.000,9,   -999.0,5
   18HU92014_1,  AR7W,    43,  1, 111124,    OC9,2,19920608,0821, 56.9500, -52.2383, 3417,   1207.7,   2.8712,  34.8324,2,  34.8336,2,    346.0,2,    305.6,2,     8.92,6,    16.09,6,     1.09,6, -999.000,9, -999.000,9, -999.000,9, -999.000,9,   2154.4,2
   18HU92014_1,  AR7W,    43,  1, 111123,   OC20,2,19920608,0821, 56.9500, -52.2383, 3417,   1407.9,   2.8785,  34.8325,2,  34.8353,2,    347.2,2,    304.1,2,     8.99,6,    16.12,6,     1.08,6, -999.000,9, -999.000,9, -999.000,9, -999.000,9,   2156.1,2
   18HU92014_1,  AR7W,    43,  1, 111122,   OC12,2,19920608,0821, 56.9500, -52.2383, 3417,   1611.6,   2.8927,  34.8342,2,-999.0000,5,    347.3,2,    305.4,2,     8.98,6,    16.13,6,     1.08,6, -999.000,9, -999.000,9, -999.000,9, -999.000,9,   2157.1,2
   18HU92014_1,  AR7W,    43,  1, 111121,    OC8,2,19920608,0821, 56.9500, -52.2383, 3417,   1813.0,   2.9141,  34.8369,2,  34.8361,2,    347.1,2,    300.3,2,     9.08,6,    16.09,6,     1.05,6, -999.000,9, -999.000,9, -999.000,9, -999.000,9,   2157.0,2
   18HU92014_1,  AR7W,    43,  1, 111120,   OC18,2,19920608,0821, 56.9500, -52.2383, 3417,   2016.4,   2.9354,  34.8408,2,  34.8603,2,    345.4,2,    296.9,6,     9.55,6,    16.22,6,     1.06,6, -999.000,9, -999.000,9, -999.000,9, -999.000,9,   2155.9,2
   18HU92014_1,  AR7W,    43,  1, 111119,   OC13,2,19920608,0821, 56.9500, -52.2383, 3417,   2221.4,   3.0315,  34.8605,2,  34.9105,2,    339.4,2,    283.4,2,    10.70,6,    16.27,6,     1.07,6, -999.000,9, -999.000,9, -999.000,9, -999.000,9,   2158.7,2
   18HU92014_1,  AR7W,    43,  1, 111118,   OC17,2,19920608,0821, 56.9500, -52.2383, 3417,   2424.1,   3.1944,  34.9087,2,  34.9191,2,    329.1,2,    281.0,6,    11.40,6,    16.21,6,     1.08,6, -999.000,9, -999.000,9, -999.000,9, -999.000,9,   2158.9,2
   18HU92014_1,  AR7W,    43,  1, 111117,    OC5,2,19920608,0821, 56.9500, -52.2383, 3417,   2628.8,   3.0736,  34.9200,2,  34.9205,2,    327.8,2,    281.5,2,    11.50,6,    16.30,6,     1.09,6, -999.000,9, -999.000,9, -999.000,9, -999.000,9,   2159.9,2
   18HU92014_1,  AR7W,    43,  1, 111116,    OC4,2,19920608,0821, 56.9500, -52.2383, 3417,   2831.3,   2.8781,  34.9195,2,  34.9174,2,    329.2,2,    283.1,2,    12.42,6,    16.05,6,     1.07,6, -999.000,9, -999.000,9, -999.000,9, -999.000,9,   2160.6,2
   18HU92014_1,  AR7W,    43,  1, 111115,   OC15,2,19920608,0821, 56.9500, -52.2383, 3417,   3034.0,   2.6820,  34.9177,2,  34.9176,2,    330.5,2,    283.2,2,    12.39,6,    16.03,6,     1.05,6, -999.000,9, -999.000,9, -999.000,9, -999.000,9,   2161.0,2
   18HU92014_1,  AR7W,    43,  1, 111114,   OC11,2,19920608,0821, 56.9500, -52.2383, 3417,   3240.5,   2.3646,  34.9052,2,  34.8881,2,    336.8,2,    297.2,2,    10.52,6,    14.69,6,     0.97,6, -999.000,9, -999.000,9, -999.000,9, -999.000,9,   2159.6,2
   18HU92014_1,  AR7W,    43,  1, 111113,   OC27,2,19920608,0821, 56.9500, -52.2383, 3417,   3444.8,   1.8111,  34.8875,2,  34.8884,2,    349.5,2,    296.8,2,    10.52,6,    14.70,6,     0.96,6, -999.000,9, -999.000,9, -999.000,9, -999.000,9,   2158.7,6
   18HU92014_1,  AR7W,    43,  1, 111112,    OC3,2,19920608,0821, 56.9500, -52.2383, 3417,   3559.8,   1.6607,  34.8871,2,  34.8861,2,    355.2,2,    298.5,2,     9.94,6,    14.45,6,     0.96,6, -999.000,9, -999.000,9, -999.000,9, -999.000,9,   2158.9,6