BOTTLE,20010702WHPSIOKJU
#code : jjward hyd_to_exchange.pl 
#original files copied from HTML directory: 20010702
#original HYD file: bottle   Mon Jul  2 11:48:47 2001
#original SUM file: ar07wcsu.txt   Thu Dec 28 10:54:12 2000
EXPOCODE,SECT_ID,STNNBR,CASTNO,SAMPNO,BTLNBR,BTLNBR_FLAG_W,DATE,TIME,LATITUDE,LONGITUDE,DEPTH,CTDPRS,CTDTMP,CTDSAL,CTDSAL_FLAG_W,SALNTY,SALNTY_FLAG_W,CTDOXY,CTDOXY_FLAG_W,OXYGEN,OXYGEN_FLAG_W,SILCAT,SILCAT_FLAG_W,NO2+NO3,NO2+NO3_FLAG_W,PHSPHT,PHSPHT_FLAG_W,CFC-11,CFC-11_FLAG_W,CFC-12,CFC-12_FLAG_W,CFC113,CFC113_FLAG_W,CCL4,CCL4_FLAG_W,TCARBN,TCARBN_FLAG_W
,,,,,,,,,,,,DBAR,ITS-90,PSS-78,,PSS-78,,UMOL/KG,,UMOL/KG,,UMOL/KG,,UMOL/KG,,UMOL/KG,,PMOL/KG,,PMOL/KG,,PMOL/KG,,PMOL/KG,,UMOL/KG,
   18HU92014_1,  AR13,     1,  1, 110417,    OC1,2,19920528,1420, 46.9983, -44.7886,  143,    129.7,   2.4856,  34.2236,2,-999.0000,5,    242.1,1,    281.7,2,     9.82,6,    13.57,6,     1.09,6,    5.032,2,    2.263,2, -999.000,5,    7.802,2,   -999.0,9
   18HU92014_1,  AR13,     1,  1, 110419,    OC6,2,19920528,1420, 46.9983, -44.7886,  143,    129.7,   2.5136,  34.2350,2,  34.2377,2,    240.4,1,    277.9,2,     9.73,6,    13.77,6,     1.11,6,    5.052,2,    2.384,2, -999.000,5,    7.822,2,   -999.0,9
   18HU92014_1,  AR13,     1,  1, 110416,    OC2,2,19920528,1420, 46.9983, -44.7886,  143,    129.8,   2.4860,  34.2236,2,-999.0000,5,    242.6,1,    281.1,2,     9.98,6,    13.72,6,     1.13,6,    4.626,2,    2.290,2, -999.000,5,    7.019,2,   -999.0,9
   18HU92014_1,  AR13,     1,  1, 110407,   OC26,2,19920528,1420, 46.9983, -44.7886,  143,    130.1,   2.4826,  34.2231,2,  34.2271,2,    246.2,1,    279.8,2,     9.63,6,    13.38,6,     1.11,6,    4.948,2,    2.209,2, -999.000,5,    7.621,2,   2155.4,2
   18HU92014_1,  AR13,     1,  1, 110420,   OC21,2,19920528,1420, 46.9983, -44.7886,  143,    130.4,   2.5210,  34.2375,2,  34.2305,2,    238.4,1,    279.3,2,     9.78,6,    13.60,6,     1.10,6,    5.004,2,    2.314,2, -999.000,5,    7.723,2,   -999.0,9
   18HU92014_1,  AR13,     1,  1, 110401,    OC3,2,19920528,1420, 46.9983, -44.7886,  143,    130.6,   2.4764,  34.2215,2,  34.2208,2,    251.6,1,    281.5,2,     9.32,6,    13.47,6,     1.09,6,    4.815,2,    2.138,2, -999.000,5,    7.594,2,   2157.5,2
   18HU92014_1,  AR13,     1,  1, 110410,    OC8,2,19920528,1420, 46.9983, -44.7886,  143,    130.6,   2.4863,  34.2232,2,  34.2221,2,    244.9,1,    279.9,2,     9.85,6,    13.62,6,     1.07,6,    5.107,2,    2.462,2, -999.000,5,    7.897,2,   2158.1,2
   18HU92014_1,  AR13,     1,  1, 110418,   OC14,2,19920528,1420, 46.9983, -44.7886,  143,    131.0,   2.4856,  34.2238,2,  34.2239,2,    241.4,1,    281.7,2,     9.62,6,    13.39,6,     1.12,6,    4.632,6,    2.350,6, -999.000,5,    7.288,6,   -999.0,9
   18HU92014_1,  AR13,     1,  1, 110406,    OC5,2,19920528,1420, 46.9983, -44.7886,  143,    131.1,   2.4828,  34.2230,2,  34.2209,6,    245.9,1,    281.0,2,     9.68,6,    13.42,6,     1.10,6,    4.846,2,    2.493,2, -999.000,5,    7.415,2,   2157.8,2
   18HU92014_1,  AR13,     1,  1, 110411,   OC12,2,19920528,1420, 46.9983, -44.7886,  143,    131.1,   2.4865,  34.2231,2,  34.2211,2,    243.2,1,    279.7,2,     9.89,6,    13.88,6,     1.10,6,    4.898,2,    2.445,2, -999.000,5,    7.662,2,   2158.3,2
   18HU92014_1,  AR13,     1,  1, 110403,   OC11,2,19920528,1420, 46.9983, -44.7886,  143,    131.2,   2.4721,  34.2217,2,  34.2218,2,    249.4,1,    281.6,6,     9.52,6,    13.57,6,     1.09,6,    4.845,2,    2.443,2, -999.000,5,    7.519,2,   2157.7,2
   18HU92014_1,  AR13,     1,  1, 110405,    OC4,2,19920528,1420, 46.9983, -44.7886,  143,    131.2,   2.4739,  34.2220,2,  34.2217,2,    248.5,1,    280.5,2,     9.57,6,    13.48,6,     1.08,6,    4.894,2,    2.328,2, -999.000,5,    7.571,2,   2156.9,2
   18HU92014_1,  AR13,     1,  1, 110408,   OC13,2,19920528,1420, 46.9983, -44.7886,  143,    131.3,   2.4829,  34.2205,2,  34.2235,2,    245.8,1,    280.0,2,     9.82,6,    13.60,6,     1.09,6,    4.944,2,    2.317,2, -999.000,5,    7.742,2,   2160.2,6
   18HU92014_1,  AR13,     1,  1, 110413,    OC9,2,19920528,1420, 46.9983, -44.7886,  143,    131.3,   2.4877,  34.2234,2,  34.2220,2,    242.7,1,    281.6,2,     9.81,6,    13.39,6,     1.10,6,    4.965,2,    2.354,2, -999.000,5,    7.626,2,   -999.0,9
   18HU92014_1,  AR13,     1,  1, 110409,    BO6,2,19920528,1420, 46.9983, -44.7886,  143,    131.4,   2.4831,  34.2232,2,  34.2227,2,    245.4,1,    279.7,2,    10.03,6,    13.65,6,     1.07,6,    5.116,2,    2.377,2, -999.000,5,    8.088,2,   2156.9,6
   18HU92014_1,  AR13,     1,  1, 110414,   OC10,2,19920528,1420, 46.9983, -44.7886,  143,    131.5,   2.4867,  34.2235,2,  34.2227,2,    242.5,1,    281.3,2,     9.81,6,    13.55,6,     1.09,6,    5.005,2,    2.522,2, -999.000,5,    7.731,2,   -999.0,9
   18HU92014_1,  AR13,     1,  1, 110415,   BO13,2,19920528,1420, 46.9983, -44.7886,  143,    131.6,   2.4860,  34.2235,2,  34.2221,2,    242.4,1,    281.5,6,     9.87,6,    13.68,6,     1.09,6,    5.069,2,    2.348,2, -999.000,5,    7.888,2,   -999.0,9
   18HU92014_1,  AR13,     1,  1, 110412,   OC20,2,19920528,1420, 46.9983, -44.7886,  143,    131.7,   2.4853,  34.2232,2,  34.2224,2,    243.4,1,    281.7,2,     9.82,6,    13.51,6,     1.09,6,    5.084,2,    2.372,2, -999.000,5,    7.844,2,   2158.1,2
   18HU92014_1,  AR13,     1,  1, 110404,   OC25,2,19920528,1420, 46.9983, -44.7886,  143,    131.8,   2.4747,  34.2221,2,  34.2215,2,    249.2,1,    280.6,2,     9.56,6,    13.45,6,     1.09,6,    5.003,2,    2.612,2, -999.000,5,    8.608,2,   2157.6,2
   18HU92014_1,  AR13,     1,  1, 110402,   OC27,2,19920528,1420, 46.9983, -44.7886,  143,    131.9,   2.4726,  34.2214,2,  34.2206,2,    249.9,1,    282.0,2,     9.43,6,    13.52,6,     1.09,6,    5.063,2,    2.318,2, -999.000,5,    7.935,2,   2156.0,2
   18HU92014_1,  AR13,     2,  1, 110425,    OC4,2,19920528,1906, 47.2344, -44.2857,  243,      2.5,   2.4915,  33.5786,2,  33.5814,2,    365.3,2,    348.9,2,     1.59,6,     1.12,6,     0.42,6,    6.013,2,    3.016,2, -999.000,5,   10.368,3,   -999.0,9
   18HU92014_1,  AR13,     2,  1, 110424,   OC25,2,19920528,1906, 47.2344, -44.2857,  243,     77.9,   2.2365,  33.7328,2,  33.7286,2,    358.9,2,    344.6,2,     2.10,6,     2.25,6,     0.50,6,    8.283,2,    2.863,2, -999.000,5,   11.784,3,   -999.0,9
   18HU92014_1,  AR13,     2,  1, 110423,   OC11,2,19920528,1906, 47.2344, -44.2857,  243,    152.3,   3.1726,  34.6275,2,  34.6027,2,    296.5,2,    271.2,6,    11.08,6,    17.40,6,     1.17,6,    4.247,2,    1.986,2, -999.000,5,    6.319,2,   -999.0,9
   18HU92014_1,  AR13,     2,  1, 110422,   OC27,2,19920528,1906, 47.2344, -44.2857,  243,    225.1,   3.5943,  34.8250,2,  34.8202,2,    280.9,2,    249.7,2,    13.55,6,    18.56,6,     1.27,6,    3.461,2,    1.819,2, -999.000,5,    5.104,2,   -999.0,9
   18HU92014_1,  AR13,     2,  1, 110421,    OC3,2,19920528,1906, 47.2344, -44.2857,  243,    249.1,   3.5721,  34.8380,2,  34.8349,2,    280.8,2,    249.5,6,    14.18,6,    18.54,6,     1.27,6,    3.616,2,    1.661,2, -999.000,5,    5.050,2,   -999.0,9
   18HU92014_1,  AR13,     3,  1, 110433,   OC13,2,19920528,2231, 47.5723, -43.6371, 1044,      3.5,   4.8931,  33.9577,2,  33.9628,2,    355.9,2,    321.0,2,     4.07,6,     5.15,6,     0.55,6,    5.052,2,    2.343,2, -999.000,5,    9.226,2,   -999.0,9
   18HU92014_1,  AR13,     3,  1, 110432,   OC26,2,19920528,2231, 47.5723, -43.6371, 1044,     77.1,   2.5317,  34.3114,2,  34.3081,2,    356.9,2,    321.7,2,     5.71,6,     9.51,6,     0.81,6,    5.125,2,    2.696,2, -999.000,5,    9.071,2,   -999.0,9
   18HU92014_1,  AR13,     3,  1, 110431,    OC5,2,19920528,2231, 47.5723, -43.6371, 1044,    153.9,   3.0008,  34.7032,2,  34.6920,2,    332.9,2,    292.7,6,     9.32,6,    15.84,6,     1.08,6,    4.210,2,    2.025,2, -999.000,5,    7.126,2,   -999.0,9
   18HU92014_1,  AR13,     3,  1, 110430,    OC4,2,19920528,2231, 47.5723, -43.6371, 1044,    276.3,   3.4390,  34.8365,2,  34.8366,2,    327.8,2,    286.5,2,     9.97,6,    16.84,6,     1.11,6,    3.542,2,    2.251,2, -999.000,5,    6.117,2,   -999.0,9
   18HU92014_1,  AR13,     3,  1, 110429,   OC25,2,19920528,2231, 47.5723, -43.6371, 1044,    391.1,   3.2959,  34.8460,2,  34.8430,2,    331.6,2,    292.4,2,    10.02,6,    16.87,6,     1.12,6,    3.623,2,    1.901,2, -999.000,5,    6.757,2,   -999.0,9
   18HU92014_1,  AR13,     3,  1, 110428,   OC11,2,19920528,2231, 47.5723, -43.6371, 1044,    576.1,   3.1714,  34.8508,2,  34.8488,2,    332.9,2,    294.8,2,     9.99,6,    16.76,6,     1.09,6,    3.404,2,    1.544,2, -999.000,5,    6.144,2,   -999.0,9
   18HU92014_1,  AR13,     3,  1, 110427,   OC27,2,19920528,2231, 47.5723, -43.6371, 1044,    769.1,   3.0605,  34.8439,2,  34.8428,2,    334.7,2,    297.3,2,     9.76,6,    16.45,6,     1.09,6,    3.430,2,    1.815,2, -999.000,5,    6.374,2,   -999.0,9
   18HU92014_1,  AR13,     3,  1, 110426,    OC3,2,19920528,2231, 47.5723, -43.6371, 1044,    985.6,   3.0641,  34.8532,2,  34.8512,2,    333.4,2,    295.4,6,    10.07,6,    16.39,6,     1.08,6,    3.094,2,    1.545,2, -999.000,5,    5.818,2,   -999.0,9
   18HU92014_1,  AR13,     4,  1, 110448,   BO13,2,19920529,0214, 47.7227, -43.3255, 2917,   -999.0,-999.0000,-999.0000,5,  34.0032,2,   -999.0,5,   -999.0,5,  -999.00,9,  -999.00,9,  -999.00,9, -999.000,9, -999.000,9, -999.000,9, -999.000,9,   2083.9,2
   18HU92014_1,  AR13,     4,  1, 110447,   OC10,2,19920529,0214, 47.7227, -43.3255, 2917,     75.6,   3.6663,  34.5535,2,  34.5111,2,    268.5,2,    287.0,2,     7.76,6,    12.90,6,     0.95,6,    4.122,2,    1.707,2, -999.000,5,    7.027,2,   2139.8,6
   18HU92014_1,  AR13,     4,  1, 110446,    OC9,2,19920529,0214, 47.7227, -43.3255, 2917,    155.2,   3.2608,  34.7280,2,  34.7186,2,    268.7,2,    286.1,2,     9.26,6,    15.93,6,     1.09,6,    3.955,2,    1.602,2, -999.000,5,    6.791,2,   2155.4,2
   18HU92014_1,  AR13,     4,  1, 110445,   OC20,2,19920529,0214, 47.7227, -43.3255, 2917,    278.7,   3.4024,  34.8201,2,  34.8148,2,    271.4,2,    288.5,2,     9.41,6,    16.52,6,     1.12,6,    3.785,2,    1.639,2, -999.000,5,    6.453,2,   2155.5,2
   18HU92014_1,  AR13,     4,  1, 110444,   OC12,2,19920529,0214, 47.7227, -43.3255, 2917,    392.6,   3.3019,  34.8391,2,  34.8367,2,    276.4,2,    294.8,2,     9.36,6,    16.46,6,     1.10,6,    3.706,2,    1.569,2, -999.000,5,    6.471,2,   2155.8,2
   18HU92014_1,  AR13,     4,  1, 110443,    OC8,2,19920529,0214, 47.7227, -43.3255, 2917,    671.0,   3.2500,  34.8569,2,  34.8553,2,    279.6,2,    280.9,2,     9.73,6,    16.81,6,     1.12,6,    3.217,2,    2.077,2, -999.000,5,    5.939,2,   2158.4,2
   18HU92014_1,  AR13,     4,  1, 110442,    BO6,2,19920529,0214, 47.7227, -43.3255, 2917,    952.9,   3.0635,  34.8405,2,  34.8376,2,    287.1,2,    298.9,2,     9.56,6,    16.60,6,     1.06,6,    3.379,2,    1.694,2, -999.000,5,    6.174,2,   2152.8,2
   18HU92014_1,  AR13,     4,  1, 110441,   OC13,2,19920529,0214, 47.7227, -43.3255, 2917,   1215.2,   3.0853,  34.8531,2,  34.8509,2,    287.5,2,    295.1,2,     9.94,6,    16.70,6,     1.07,6,    3.061,2,    1.177,2, -999.000,5,    6.046,2,   2153.9,6
   18HU92014_1,  AR13,     4,  1, 110440,   OC26,2,19920529,0214, 47.7227, -43.3255, 2917,   1487.4,   3.0214,  34.8520,2,  34.8474,2,    290.0,2,    296.6,6,    10.28,6,    16.78,6,     1.09,6,    3.141,2,    1.268,2, -999.000,5,    5.890,2,   2154.5,2
   18HU92014_1,  AR13,     4,  1, 110439,    OC5,2,19920529,0214, 47.7227, -43.3255, 2917,   1749.3,   3.0902,  34.8791,2,  34.8774,2,    285.0,2,    288.1,2,    10.96,6,    16.50,6,     1.11,6,    2.389,2,    0.962,2, -999.000,5,    4.732,2,   2156.4,2
   18HU92014_1,  AR13,     4,  1, 110438,    OC4,3,19920529,0214, 47.7227, -43.3255, 2917,   1993.3,   3.0880,  34.9116,2,  34.6948,4,    279.3,2,    293.4,2,     9.20,6,    15.12,6,     1.03,6,    1.897,2,    0.595,2, -999.000,5,    4.007,2,   2454.1,2
   18HU92014_1,  AR13,     4,  1, 110437,   OC25,2,19920529,0214, 47.7227, -43.3255, 2917,   2277.3,   2.8751,  34.9176,2,  34.9147,2,    280.6,2,    281.8,2,    12.34,6,    16.24,6,     1.13,6,    1.538,2,    0.626,2, -999.000,5,    3.531,2,   2158.5,2
   18HU92014_1,  AR13,     4,  1, 110436,   OC11,2,19920529,0214, 47.7227, -43.3255, 2917,   2569.2,   2.7484,  34.9171,2,  34.9115,2,    283.2,2,    339.1,3,    12.65,6,    16.30,6,     1.06,6,    1.843,2,    1.376,2, -999.000,5,    3.771,2,   2158.1,2
   18HU92014_1,  AR13,     4,  1, 110435,   OC27,2,19920529,0214, 47.7227, -43.3255, 2917,   2777.0,   2.6511,  34.9153,2,  34.9123,2,    284.1,2,    291.4,2,    12.74,6,    16.04,6,     1.05,6,    1.614,2,    0.433,2, -999.000,5,    3.380,2,   2158.7,2
   18HU92014_1,  AR13,     4,  1, 110434,    OC3,2,19920529,0214, 47.7227, -43.3255, 2917,   3030.3,   2.5784,  34.9135,2,  34.9099,2,    287.1,2,    286.2,2,    12.85,6,    15.92,6,     1.05,6,    1.703,2,    0.821,2, -999.000,5,    3.497,2,   2158.8,2
   18HU92014_1,  AR13,     5,  1, 110465,    OC1,2,19920529,0645, 47.9333, -42.8965, 3484,      6.6,   5.4219,  33.6430,2,  33.6486,2,    294.5,2,    323.4,2,     1.87,6,     2.04,6,     0.41,6, -999.000,9, -999.000,9, -999.000,9, -999.000,9,   -999.0,9
   18HU92014_1,  AR13,     5,  1, 110464,    OC2,2,19920529,0645, 47.9333, -42.8965, 3484,     79.7,   3.7619,  34.2065,2,  33.6486,2,    294.8,2,    317.7,2,     4.32,6,     7.40,6,     0.72,6, -999.000,9, -999.000,9, -999.000,9, -999.000,9,   -999.0,9
   18HU92014_1,  AR13,     5,  1, 110463,   BO13,2,19920529,0645, 47.9333, -42.8965, 3484,    151.0,   2.5532,  34.4699,2,  34.4647,2,    281.3,2,    307.2,2,     7.30,6,    12.53,6,     0.97,6, -999.000,9, -999.000,9, -999.000,9, -999.000,9,   -999.0,9
   18HU92014_1,  AR13,     5,  1, 110462,   OC10,2,19920529,0645, 47.9333, -42.8965, 3484,    279.5,   3.2543,  34.7725,2,  34.7634,2,    272.8,2,    289.1,2,     9.21,6,    16.24,6,     1.10,6, -999.000,9, -999.000,9, -999.000,9, -999.000,9,   -999.0,9
   18HU92014_1,  AR13,     5,  1, 110461,    OC9,2,19920529,0645, 47.9333, -42.8965, 3484,    408.4,   3.4093,  34.8345,2,  34.8317,2,    274.6,2,    293.2,2,     9.23,6,    16.53,6,     1.11,6, -999.000,9, -999.000,9, -999.000,9, -999.000,9,   -999.0,9
   18HU92014_1,  AR13,     5,  1, 110460,   OC20,2,19920529,0645, 47.9333, -42.8965, 3484,    683.2,   3.1849,  34.8422,2,  34.8412,2,    283.3,2,    295.3,2,     9.37,6,    16.44,6,     1.11,6, -999.000,9, -999.000,9, -999.000,9, -999.000,9,   -999.0,9
   18HU92014_1,  AR13,     5,  1, 110459,   OC12,2,19920529,0645, 47.9333, -42.8965, 3484,    959.7,   3.1018,  34.8436,2,  34.8421,2,    287.6,2,    299.7,2,     9.57,6,    16.50,6,     1.12,6, -999.000,9, -999.000,9, -999.000,9, -999.000,9,   -999.0,9
   18HU92014_1,  AR13,     5,  1, 110458,    OC8,2,19920529,0645, 47.9333, -42.8965, 3484,   1237.7,   3.1021,  34.8526,2,  34.8518,2,    288.3,2,    297.8,2,     9.76,6,    16.67,6,     1.10,6, -999.000,9, -999.000,9, -999.000,9, -999.000,9,   -999.0,9
   18HU92014_1,  AR13,     5,  1, 110457,    BO6,2,19920529,0645, 47.9333, -42.8965, 3484,   1514.2,   3.0320,  34.8516,2,  34.8477,2,    291.3,2,    297.5,2,     9.76,6,    16.54,6,     1.07,6, -999.000,9, -999.000,9, -999.000,9, -999.000,9,   -999.0,9
   18HU92014_1,  AR13,     5,  1, 110456,   OC13,2,19920529,0645, 47.9333, -42.8965, 3484,   1786.3,   3.1761,  34.8918,2,  34.8903,2,    283.0,2,    287.3,2,    11.22,6,    16.67,6,     1.11,6, -999.000,9, -999.000,9, -999.000,9, -999.000,9,   -999.0,9
   18HU92014_1,  AR13,     5,  1, 110455,   OC26,2,19920529,0645, 47.9333, -42.8965, 3484,   2058.9,   3.1082,  34.9115,2,  34.9055,2,    281.2,2,    284.7,2,    11.30,6,    16.25,6,     1.09,6, -999.000,9, -999.000,9, -999.000,9, -999.000,9,   -999.0,9
   18HU92014_1,  AR13,     5,  1, 110454,    OC5,2,19920529,0645, 47.9333, -42.8965, 3484,   2339.8,   2.9214,  34.9211,2,  34.9188,2,    280.2,2,    282.8,6,    12.17,6,    16.16,6,     1.09,6, -999.000,9, -999.000,9, -999.000,9, -999.000,9,   -999.0,9
   18HU92014_1,  AR13,     5,  1, 110453,    OC4,2,19920529,0645, 47.9333, -42.8965, 3484,   2608.2,   2.7238,  34.9224,2,  34.9177,2,    281.8,2,    283.1,2,    12.96,6,    16.16,6,     1.10,6, -999.000,9, -999.000,9, -999.000,9, -999.000,9,   -999.0,9
   18HU92014_1,  AR13,     5,  1, 110452,   OC25,2,19920529,0645, 47.9333, -42.8965, 3484,   2869.8,   2.4507,  34.9171,2,  34.9139,2,    279.8,2,    279.2,2,    16.72,6,    16.67,6,     1.13,6, -999.000,9, -999.000,9, -999.000,9, -999.000,9,   -999.0,9
   18HU92014_1,  AR13,     5,  1, 110451,   OC11,2,19920529,0645, 47.9333, -42.8965, 3484,   3140.6,   2.2180,  34.9060,2,  34.8941,2,    282.9,2,    285.0,2,    16.28,6,    16.39,6,     1.09,6, -999.000,9, -999.000,9, -999.000,9, -999.000,9,   -999.0,9
   18HU92014_1,  AR13,     5,  1, 110450,   OC27,2,19920529,0645, 47.9333, -42.8965, 3484,   3410.6,   2.0664,  34.8986,2,  34.8971,2,    286.5,2,    287.9,2,    14.40,6,    15.70,6,     1.05,6, -999.000,9, -999.000,9, -999.000,9, -999.000,9,   -999.0,9
   18HU92014_1,  AR13,     5,  1, 110449,    OC3,2,19920529,0645, 47.9333, -42.8965, 3484,   3646.0,   1.9658,  34.8943,2,  34.8949,2,    288.6,2,    289.4,2,    13.90,6,    15.59,6,     1.03,6, -999.000,9, -999.000,9, -999.000,9, -999.000,9,   -999.0,9