BOTTLE,20010702WHPSIOKJU
EXPOCODE,SECT_ID,STNNBR,CASTNO,SAMPNO,BTLNBR,BTLNBR_FLAG_W,DATE,TIME,LATITUDE,LONGITUDE,DEPTH,CTDPRS,CTDTMP,CTDSAL,CTDSAL_FLAG_W,SALNTY,SALNTY_FLAG_W,CTDOXY,CTDOXY_FLAG_W,OXYGEN,OXYGEN_FLAG_W,SILCAT,SILCAT_FLAG_W,NO2+NO3,NO2+NO3_FLAG_W,PHSPHT,PHSPHT_FLAG_W,CFC-11,CFC-11_FLAG_W,CFC-12,CFC-12_FLAG_W,CFC113,CFC113_FLAG_W,CCL4,CCL4_FLAG_W,TCARBN,TCARBN_FLAG_W
,,,,,,,,,,,,DBAR,ITS-90,PSS-78,,PSS-78,,UMOL/KG,,UMOL/KG,,UMOL/KG,,UMOL/KG,,UMOL/KG,,PMOL/KG,,PMOL/KG,,PMOL/KG,,PMOL/KG,,UMOL/KG,
   18HU92014_1,  AR13,    17,  1, 110698,   OC21,2,19920601,1240, 51.6290, -41.8213, 4109,      4.7,   6.7579,  34.6926,2,  34.6930,2,    327.6,2,    312.5,2,     6.08,6,     9.38,6,     0.73,6,    4.051,2,    1.623,2, -999.000,5,    7.242,2,   2115.4,2
   18HU92014_1,  AR13,    17,  1, 110697,    OC6,4,19920601,1240, 51.6290, -41.8213, 4109,     87.1,   5.0339,  34.6617,2,-999.0000,9,    318.7,2,   -999.0,9,  -999.00,9,  -999.00,9,  -999.00,9, -999.000,5, -999.000,5, -999.000,5, -999.000,5,   -999.0,9
   18HU92014_1,  AR13,    17,  1, 110696,   OC14,2,19920601,1240, 51.6290, -41.8213, 4109,    160.5,   4.2978,  34.6624,2,  34.6590,2,    310.0,2,    285.2,2,     8.49,6,    14.67,6,     1.02,6,    1.181,4,    0.243,2, -999.000,5,    2.600,2,   2148.7,2
   18HU92014_1,  AR13,    17,  1, 110695,    OC1,2,19920601,1240, 51.6290, -41.8213, 4109,    289.3,   3.7089,  34.7517,2,  34.7530,2,    312.2,2,    280.7,2,     9.48,6,    16.50,6,     1.11,6,    3.512,2,    1.269,2, -999.000,5,    5.949,2,   2158.6,2
   18HU92014_1,  AR13,    17,  1, 110694,    OC2,2,19920601,1240, 51.6290, -41.8213, 4109,    408.8,   4.0300,  34.8823,2,  34.8794,2,    301.8,2,    274.1,2,    10.01,6,    17.37,6,     1.13,6,    2.989,2,    1.189,2, -999.000,5,    4.852,2,   2164.5,2
   18HU92014_1,  AR13,    17,  1, 110693,   OC19,2,19920601,1240, 51.6290, -41.8213, 4109,    689.1,   3.7312,  34.9016,2,  34.9004,2,    309.5,2,    276.5,2,    10.32,6,    17.44,6,     1.14,6,    2.456,2,    0.966,2, -999.000,5,    4.352,2,   2164.0,6
   18HU92014_1,  AR13,    17,  1, 110692,   OC22,2,19920601,1240, 51.6290, -41.8213, 4109,    968.9,   3.4474,  34.8842,2,  34.8865,2,    317.7,2,    279.5,2,    10.27,6,    17.00,6,     1.13,6,    2.475,2,    1.038,2, -999.000,5,    4.596,2,   2162.4,2
   18HU92014_1,  AR13,    17,  1, 110691,    OC9,2,19920601,1240, 51.6290, -41.8213, 4109,   1247.4,   3.2883,  34.8750,2,  34.8774,2,    322.5,2,    286.6,2,    10.37,6,    16.93,6,     1.12,6,    2.301,2,    0.757,2, -999.000,5,    4.470,2,   2160.1,2
   18HU92014_1,  AR13,    17,  1, 110690,   OC20,2,19920601,1240, 51.6290, -41.8213, 4109,   1519.8,   3.2051,  34.8743,2,  34.8774,2,    323.7,2,    266.8,2,    10.51,6,    16.93,6,     1.08,6,    2.257,2,    0.793,2, -999.000,5,    4.431,2,   2159.2,2
   18HU92014_1,  AR13,    17,  1, 110689,   OC12,2,19920601,1240, 51.6290, -41.8213, 4109,   1802.0,   3.2050,  34.8876,2,  34.8863,2,    322.8,2,    279.5,2,    10.84,6,    16.81,6,     1.10,6,    2.057,2,    0.730,2, -999.000,5,    3.952,2,   2161.4,2
   18HU92014_1,  AR13,    17,  1, 110688,    OC8,2,19920601,1240, 51.6290, -41.8213, 4109,   2077.8,   3.2374,  34.9169,2,  34.9162,2,    316.4,2,    279.0,2,    11.98,6,    16.96,6,     1.12,6,    1.381,2,    0.447,2, -999.000,5,    2.877,2,   2162.4,2
   18HU92014_1,  AR13,    17,  1, 110687,    BO6,2,19920601,1240, 51.6290, -41.8213, 4109,   2351.4,   3.0935,  34.9287,2,  34.9274,2,    315.4,2,    277.5,2,    12.75,6,    16.81,6,     1.11,6,    1.143,2,    0.342,2, -999.000,5,    2.671,2,   2162.3,6
   18HU92014_1,  AR13,    17,  1, 110686,   OC13,2,19920601,1240, 51.6290, -41.8213, 4109,   2628.0,   2.9002,  34.9286,2,  34.9284,2,    315.9,2,    277.8,2,    13.54,6,    16.69,6,     1.10,6,    1.082,2,    0.221,2, -999.000,5,    2.510,2,   2162.6,2
   18HU92014_1,  AR13,    17,  1, 110685,   OC26,2,19920601,1240, 51.6290, -41.8213, 4109,   2906.1,   2.7703,  34.9296,2,  34.9177,2,    318.0,2,    271.7,2,    12.66,6,    16.55,6,     1.11,6,    1.092,2,    0.232,2, -999.000,5,    2.452,2,   2165.6,2
   18HU92014_1,  AR13,    17,  1, 110684,    OC5,2,19920601,1240, 51.6290, -41.8213, 4109,   3184.3,   2.5368,  34.9176,2,  34.9170,2,    320.9,2,    276.1,2,    15.43,6,    16.50,6,     1.10,6,    1.163,2,    0.331,2, -999.000,5,    2.507,2,   2164.0,2
   18HU92014_1,  AR13,    17,  1, 110683,    OC4,2,19920601,1240, 51.6290, -41.8213, 4109,   3463.7,   2.3546,  34.9090,2,  34.9072,2,    323.6,2,    281.1,2,    16.03,6,    16.46,6,     1.10,6,    1.242,2,    0.320,2, -999.000,5,    2.881,2,   2166.0,6
   18HU92014_1,  AR13,    17,  1, 110682,   OC15,2,19920601,1240, 51.6290, -41.8213, 4109,   3742.1,   2.1723,  34.8998,2,  34.9069,2,    328.2,2,    281.7,2,    16.22,6,    16.53,6,     1.07,6,    1.197,2,    0.331,2, -999.000,5,    2.575,2,   2166.4,6
   18HU92014_1,  AR13,    17,  1, 110681,   OC11,2,19920601,1240, 51.6290, -41.8213, 4109,   3951.0,   2.0846,  34.8952,2,  34.8943,2,    332.5,2,    283.8,6,    13.25,6,    15.88,6,     1.06,6,    1.748,2,    0.460,2, -999.000,5,    3.552,2,   2163.7,6
   18HU92014_1,  AR13,    17,  1, 110680,   OC27,2,19920601,1240, 51.6290, -41.8213, 4109,   4157.5,   2.0015,  34.8912,2,  34.8936,2,    335.4,2,    278.7,2,    14.05,6,    15.56,6,     1.05,6,    1.768,2,    0.550,2, -999.000,5,    3.548,2,   2164.3,2
   18HU92014_1,  AR13,    17,  1, 110679,    OC3,2,19920601,1240, 51.6290, -41.8213, 4109,   4370.7,   1.9323,  34.8876,2,  34.8709,2,    341.8,2,    286.0,6,    10.54,6,    14.34,6,     0.96,6,    1.921,2,    0.524,2, -999.000,5,    3.664,2,   2163.8,2
   18HU92014_1,  AR13,    18,  1, 110718,   OC21,2,19920601,1850, 51.3453, -42.4658, 4092,      5.3,   7.1795,  34.4847,2,  34.4824,2,    334.0,2,    318.7,2,     2.42,6,     5.89,6,     0.49,6, -999.000,9, -999.000,9, -999.000,9, -999.000,9,   -999.0,9
   18HU92014_1,  AR13,    18,  1, 110717,    OC6,4,19920601,1850, 51.3453, -42.4658, 4092,     79.8,   6.5777,  34.7095,2,-999.0000,9,    315.6,2,   -999.0,9,  -999.00,9,  -999.00,9,  -999.00,9, -999.000,9, -999.000,9, -999.000,9, -999.000,9,   -999.0,9
   18HU92014_1,  AR13,    18,  1, 110716,   OC14,2,19920601,1850, 51.3453, -42.4658, 4092,    154.8,   5.9089,  34.7198,2,  34.7184,2,    294.1,2,    282.7,2,     8.31,6,    14.08,6,     0.97,6, -999.000,9, -999.000,9, -999.000,9, -999.000,9,   -999.0,9
   18HU92014_1,  AR13,    18,  1, 110715,    OC1,2,19920601,1850, 51.3453, -42.4658, 4092,    280.0,   4.7715,  34.7997,2,  34.7954,2,    285.4,2,    252.5,2,    10.54,6,    17.73,6,     1.17,6, -999.000,9, -999.000,9, -999.000,9, -999.000,9,   -999.0,9
   18HU92014_1,  AR13,    18,  1, 110714,    OC2,2,19920601,1850, 51.3453, -42.4658, 4092,    405.3,   4.4347,  34.8934,2,  34.8919,2,    292.7,2,    256.9,2,    10.84,6,    18.13,6,     1.19,6, -999.000,9, -999.000,9, -999.000,9, -999.000,9,   -999.0,9
   18HU92014_1,  AR13,    18,  1, 110713,   OC19,2,19920601,1850, 51.3453, -42.4658, 4092,    677.8,   3.9522,  34.9138,2,  34.9118,2,    306.3,2,    271.1,2,    10.58,6,    17.62,6,     1.15,6, -999.000,9, -999.000,9, -999.000,9, -999.000,9,   -999.0,9
   18HU92014_1,  AR13,    18,  1, 110712,   OC22,2,19920601,1850, 51.3453, -42.4658, 4092,    954.7,   3.5597,  34.8887,2,  34.8881,2,    317.0,2,    281.6,2,    10.55,6,    17.18,6,     1.11,6, -999.000,9, -999.000,9, -999.000,9, -999.000,9,   -999.0,9
   18HU92014_1,  AR13,    18,  1, 110711,    OC9,2,19920601,1850, 51.3453, -42.4658, 4092,   1233.8,   3.3102,  34.8699,2,  34.8666,2,    323.7,2,    288.1,6,    10.22,6,    16.93,6,     1.11,6, -999.000,9, -999.000,9, -999.000,9, -999.000,9,   -999.0,9
   18HU92014_1,  AR13,    18,  1, 110710,   OC20,2,19920601,1850, 51.3453, -42.4658, 4092,   1515.1,   3.2165,  34.8694,2,  34.8685,2,    327.1,2,    289.5,2,    10.36,6,    17.13,6,     1.11,6, -999.000,9, -999.000,9, -999.000,9, -999.000,9,   -999.0,9
   18HU92014_1,  AR13,    18,  1, 110709,   OC12,2,19920601,1850, 51.3453, -42.4658, 4092,   1794.9,   3.2329,  34.8874,2,  34.8849,2,    324.0,2,    285.4,2,    10.95,6,    17.00,6,     1.10,6, -999.000,9, -999.000,9, -999.000,9, -999.000,9,   -999.0,9
   18HU92014_1,  AR13,    18,  1, 110708,    OC8,2,19920601,1850, 51.3453, -42.4658, 4092,   2074.6,   3.2814,  34.9171,2,  34.9151,2,    318.2,2,    279.1,2,    11.94,6,    17.04,6,     1.10,6, -999.000,9, -999.000,9, -999.000,9, -999.000,9,   -999.0,9
   18HU92014_1,  AR13,    18,  1, 110707,    BO6,2,19920601,1850, 51.3453, -42.4658, 4092,   2353.9,   3.1673,  34.9273,2,  34.9231,2,    317.0,2,    277.0,2,    12.89,6,    17.03,6,     1.10,6, -999.000,9, -999.000,9, -999.000,9, -999.000,9,   -999.0,9
   18HU92014_1,  AR13,    18,  1, 110706,   OC13,2,19920601,1850, 51.3453, -42.4658, 4092,   2630.3,   2.9968,  34.9290,2,  34.9274,2,    318.8,2,    278.0,2,    13.68,6,    17.00,6,     1.11,6, -999.000,9, -999.000,9, -999.000,9, -999.000,9,   -999.0,9
   18HU92014_1,  AR13,    18,  1, 110705,   OC26,2,19920601,1850, 51.3453, -42.4658, 4092,   2902.4,   2.7888,  34.9264,2,  34.9239,2,    320.4,2,    278.3,2,    14.26,6,    16.78,6,     1.10,6, -999.000,9, -999.000,9, -999.000,9, -999.000,9,   -999.0,9
   18HU92014_1,  AR13,    18,  1, 110704,    OC5,2,19920601,1850, 51.3453, -42.4658, 4092,   3175.1,   2.5629,  34.9188,2,  34.9176,2,    322.8,2,    280.2,2,    15.50,6,    16.70,6,     1.07,6, -999.000,9, -999.000,9, -999.000,9, -999.000,9,   -999.0,9
   18HU92014_1,  AR13,    18,  1, 110703,    OC4,2,19920601,1850, 51.3453, -42.4658, 4092,   3453.0,   2.3684,  34.9095,2,  34.9071,2,    325.7,2,    280.3,2,    12.82,6,    17.11,6,     1.11,6, -999.000,9, -999.000,9, -999.000,9, -999.000,9,   -999.0,9
   18HU92014_1,  AR13,    18,  1, 110702,   OC15,2,19920601,1850, 51.3453, -42.4658, 4092,   3722.5,   2.2404,  34.9025,2,  34.9077,2,    329.4,2,    281.3,2,    16.15,6,    16.84,6,     1.10,6, -999.000,9, -999.000,9, -999.000,9, -999.000,9,   -999.0,9
   18HU92014_1,  AR13,    18,  1, 110701,   OC11,2,19920601,1850, 51.3453, -42.4658, 4092,   3915.3,   2.1311,  34.8975,2,  34.8999,2,    333.3,2,    285.4,6,    15.24,6,    16.41,6,     1.08,6, -999.000,9, -999.000,9, -999.000,9, -999.000,9,   -999.0,9
   18HU92014_1,  AR13,    18,  1, 110700,   OC27,2,19920601,1850, 51.3453, -42.4658, 4092,   4111.9,   2.0599,  34.8938,2,  34.8930,2,    338.0,2,    286.1,2,    14.68,6,    16.04,6,     1.06,6, -999.000,9, -999.000,9, -999.000,9, -999.000,9,   -999.0,9
   18HU92014_1,  AR13,    18,  1, 110699,    OC3,2,19920601,1850, 51.3453, -42.4658, 4092,   4215.9,   2.0138,  34.8916,2,  34.8947,2,    339.6,2,    287.5,2,    13.53,6,    15.99,6,     1.04,6, -999.000,9, -999.000,9, -999.000,9, -999.000,9,   -999.0,9
   18HU92014_1,  AR13,    19,  1, 110738,   OC21,2,19920602,0024, 51.0797, -43.1425, 4211,      3.7,   7.0204,  34.3481,2,  34.3508,2,    325.3,2,    305.9,2,     4.38,6,     6.58,6,     0.58,6,    4.081,2, -999.000,5, -999.000,5,    6.883,2,   2096.1,2
   18HU92014_1,  AR13,    19,  1, 110737,    OC6,4,19920602,0024, 51.0797, -43.1425, 4211,     83.1,   7.4643,  34.5431,2,-999.0000,9,    304.3,2,   -999.0,9,  -999.00,9,  -999.00,9,  -999.00,9, -999.000,5, -999.000,5, -999.000,5, -999.000,5,   -999.0,9
   18HU92014_1,  AR13,    19,  1, 110736,   OC14,2,19920602,0024, 51.0797, -43.1425, 4211,    158.5,   7.7111,  34.8551,2,  34.8579,2,    273.2,2,    249.0,2,     7.20,6,    13.28,6,     0.94,6,    3.211,2, -999.000,5, -999.000,5,    4.286,2,   2139.9,2
   18HU92014_1,  AR13,    19,  1, 110735,    OC1,2,19920602,0024, 51.0797, -43.1425, 4211,    284.4,   5.2813,  34.6949,2,  34.7017,2,    275.1,2,    239.6,2,    10.41,6,    17.48,6,     1.19,6,    3.004,2, -999.000,5, -999.000,5,    4.437,2,   2162.3,2
   18HU92014_1,  AR13,    19,  1, 110734,    OC2,2,19920602,0024, 51.0797, -43.1425, 4211,    409.3,   4.2358,  34.7483,2,  34.7536,2,    292.6,2,    257.1,2,    10.19,6,    17.21,6,     1.16,6,    3.190,2, -999.000,5, -999.000,5,    5.189,2,   2163.5,2
   18HU92014_1,  AR13,    19,  1, 110733,   OC19,2,19920602,0024, 51.0797, -43.1425, 4211,    685.7,   4.1686,  34.9250,2,  34.9327,2,    298.5,2,    244.2,2,    10.73,6,    17.97,6,     1.17,6,    2.333,2, -999.000,5, -999.000,5,    3.980,2,   2165.8,2
   18HU92014_1,  AR13,    19,  1, 110732,   OC22,2,19920602,0024, 51.0797, -43.1425, 4211,    959.7,   3.8244,  34.9212,2,  34.9229,2,    306.2,2,    274.2,2,    10.78,6,    17.68,6,     1.14,6,    2.250,2, -999.000,5, -999.000,5,    3.979,2,   2165.8,2
   18HU92014_1,  AR13,    19,  1, 110731,    OC9,2,19920602,0024, 51.0797, -43.1425, 4211,   1242.9,   3.4721,  34.8873,2,  34.8898,2,    315.7,2,    284.6,2,    10.45,6,    17.36,6,     1.11,6,    2.338,2, -999.000,5, -999.000,5,    4.332,2,   2160.0,2
   18HU92014_1,  AR13,    19,  1, 110730,   OC20,2,19920602,0024, 51.0797, -43.1425, 4211,   1520.5,   3.2735,  34.8729,2,  34.8745,2,    321.3,2,    288.4,2,    10.40,6,    17.09,6,     1.08,6,    2.433,2, -999.000,5, -999.000,5,    4.416,2,   2162.6,2
   18HU92014_1,  AR13,    19,  1, 110729,   OC12,2,19920602,0024, 51.0797, -43.1425, 4211,   1797.6,   3.2364,  34.8824,2,  34.8744,2,    321.8,2,    288.4,2,    10.47,6,    16.87,6,     1.11,6,    2.570,2, -999.000,5, -999.000,5,    4.855,2,   2160.5,2
   18HU92014_1,  AR13,    19,  1, 110728,    OC8,2,19920602,0024, 51.0797, -43.1425, 4211,   2076.3,   3.2873,  34.9145,2,-999.0000,9,    315.0,2,    280.9,2,  -999.00,5,  -999.00,5,  -999.00,5,    1.477,2, -999.000,5, -999.000,5,    3.159,2,   2164.8,2
   18HU92014_1,  AR13,    19,  1, 110727,    BO6,2,19920602,0024, 51.0797, -43.1425, 4211,   2355.3,   3.1727,  34.9216,2,  34.9185,2,    314.8,2,    279.8,2,    12.27,6,    16.74,6,     1.12,6,    1.419,2, -999.000,5, -999.000,5,    2.958,2,   2158.4,2
   18HU92014_1,  AR13,    19,  1, 110726,   OC13,2,19920602,0024, 51.0797, -43.1425, 4211,   2634.3,   3.0151,  34.9236,2,  34.9249,2,    316.6,2,    279.6,2,    12.50,6,    16.76,6,     1.17,6,    1.313,2, -999.000,5, -999.000,5,    2.753,2,   2162.3,2
   18HU92014_1,  AR13,    19,  1, 110725,   OC26,2,19920602,0024, 51.0797, -43.1425, 4211,   2912.8,   2.8614,  34.9261,2,  34.9285,2,    315.6,2,    279.1,2,    13.92,6,    16.80,6,     1.13,6,    1.177,2, -999.000,5, -999.000,5,    2.493,2,   2167.3,2
   18HU92014_1,  AR13,    19,  1, 110724,    OC5,2,19920602,0024, 51.0797, -43.1425, 4211,   3184.5,   2.6179,  34.9199,2,  34.9219,2,    318.1,2,    279.9,2,    15.74,6,    16.75,6,     1.11,6,    1.137,2, -999.000,5, -999.000,5,    2.498,2,   2163.9,2
   18HU92014_1,  AR13,    19,  1, 110723,    OC4,2,19920602,0024, 51.0797, -43.1425, 4211,   3452.7,   2.4092,  34.9107,2,  34.9061,2,    320.6,2,    280.9,2,    14.82,6,    16.79,6,     1.11,6,    1.156,2, -999.000,5, -999.000,5,    2.513,2,   2166.6,2
   18HU92014_1,  AR13,    19,  1, 110722,   OC15,2,19920602,0024, 51.0797, -43.1425, 4211,   3713.9,   2.2701,  34.9026,2,  34.9054,2,    324.1,2,    279.7,2,    16.78,6,    16.77,6,     1.10,6,    1.149,2, -999.000,5, -999.000,5,    2.752,2,   2166.4,2
   18HU92014_1,  AR13,    19,  1, 110721,   OC11,2,19920602,0024, 51.0797, -43.1425, 4211,   3921.3,   2.1954,  34.8992,2,  34.8979,2,    326.9,2,    287.9,6,    15.70,6,    16.31,6,     1.05,6,    1.592,2, -999.000,5, -999.000,5,    3.011,2,   2168.5,6
   18HU92014_1,  AR13,    19,  1, 110720,   OC27,2,19920602,0024, 51.0797, -43.1425, 4211,   4131.7,   2.1150,  34.8952,2,  34.8952,2,    330.8,2,    287.1,2,    14.43,6,    16.00,6,     1.05,6,    1.792,2, -999.000,5, -999.000,5,    3.453,2,   2165.8,6
   18HU92014_1,  AR13,    19,  1, 110719,    OC3,2,19920602,0024, 51.0797, -43.1425, 4211,   4345.5,   1.9788,  34.8887,2,  34.8934,2,    338.2,2,    285.9,6,    14.25,6,    16.13,6,     1.04,6,    1.699,2, -999.000,5, -999.000,5,    3.369,2,   2167.1,2