BOTTLE,20020418WHPSIOdm
EXPOCODE,SECT_ID,STNNBR,CASTNO,SAMPNO,BTLNBR,BTLNBR_FLAG_W,DATE,TIME,LATITUDE,LONGITUDE,DEPTH,CTDPRS,CTDTMP,CTDSAL,CTDSAL_FLAG_W,SALNTY,SALNTY_FLAG_W,CTDOXY,CTDOXY_FLAG_W,OXYGEN,OXYGEN_FLAG_W,SILCAT,SILCAT_FLAG_W,NITRAT,NITRAT_FLAG_W,NITRIT,NITRIT_FLAG_W,PHSPHT,PHSPHT_FLAG_W,CFC-11,CFC-11_FLAG_W,CFC-12,CFC-12_FLAG_W,TRITUM,TRITUM_FLAG_W,HELIUM,HELIUM_FLAG_W,DELHE3,DELHE3_FLAG_W,NEON,NEON_FLAG_W,CTDRAW,HELIER,DELHER,NEONER,THETA,TRITER
,,,,,,,,,,,,DBAR,ITS-90,PSS-78,,PSS-78,,UMOL/KG,,UMOL/KG,,UMOL/KG,,UMOL/KG,,UMOL/KG,,UMOL/KG,,PMOL/KG,,PMOL/KG,,TU,,NMOL/KG,,PERCNT,,NMOL/KG,,,NMOL/KG,PERCNT,NMOL/KG,ITS-90,TU
     32MW893_3,  P04E,   174,  1,     24,     24,2,19890428,1646,  9.4917,-117.0017, 4143,     12.5,  27.5659,  34.0507,2,  34.0527,2,   -999.0,5,    216.1,2,     0.69,2,    -0.10,2,     0.01,2,     0.24,2,    1.609,2,    0.888,2, -999.000,9,-999.0000,9,  -999.00,9,-999.000,9,   -999,-999.0000,-999.000,-999.000, 27.5630,-999.000
     32MW893_3,  P04E,   174,  1,     23,     23,2,19890428,1646,  9.4917,-117.0017, 4143,     47.2,  27.5539,  34.0507,2,  34.0492,2,   -999.0,5,    205.6,2,     0.89,2,     0.00,2,     0.00,2,     0.26,2,    1.587,2, -999.000,5, -999.000,9,-999.0000,9,  -999.00,9,-999.000,9,   -999,-999.0000,-999.000,-999.000, 27.5429,-999.000
     32MW893_3,  P04E,   174,  1,     22,     22,2,19890428,1646,  9.4917,-117.0017, 4143,     97.7,  19.6358,  34.3877,2,  34.3965,2,   -999.0,5,     43.5,2,    12.90,2,    25.32,2,     0.03,2,     1.83,2,    1.040,2,    0.584,2, -999.000,9,-999.0000,9,  -999.00,9,-999.000,9,   -999,-999.0000,-999.000,-999.000, 19.6181,-999.000
     32MW893_3,  P04E,   174,  1,     21,     21,2,19890428,1646,  9.4917,-117.0017, 4143,    122.1,  14.1833,  34.7477,2,  34.7518,2,   -999.0,5,     12.2,2,    20.88,2,    30.69,2,     0.01,2,     2.20,2,    0.526,2,    0.287,2, -999.000,9,-999.0000,9,  -999.00,9,-999.000,9,   -999,-999.0000,-999.000,-999.000, 14.1656,-999.000
     32MW893_3,  P04E,   174,  1,     20,     20,2,19890428,1646,  9.4917,-117.0017, 4143,    170.9,  12.5348,  34.7869,2,  34.7838,2,   -999.0,5,     12.6,2,    26.00,2,    32.74,2,     0.01,2,     2.22,2,    0.239,2, -999.000,5, -999.000,9,-999.0000,9,  -999.00,9,-999.000,9,   -999,-999.0000,-999.000,-999.000, 12.5119,-999.000
     32MW893_3,  P04E,   174,  1,     19,     19,2,19890428,1646,  9.4917,-117.0017, 4143,    196.4,  12.1330,  34.7825,2,  34.7742,2,   -999.0,5,     15.2,2,    27.18,2,    32.74,2,     0.01,2,     2.25,2,    0.199,2, -999.000,5, -999.000,9,-999.0000,9,  -999.00,9,-999.000,9,   -999,-999.0000,-999.000,-999.000, 12.1072,-999.000
     32MW893_3,  P04E,   174,  1,     18,     18,2,19890428,1646,  9.4917,-117.0017, 4143,    246.6,  11.6121,  34.7549,2,  34.7563,2,   -999.0,5,     15.6,2,    28.95,2,    33.13,2,     0.00,2,     2.33,2,    0.140,2,    0.096,2, -999.000,9,-999.0000,9,  -999.00,9,-999.000,9,   -999,-999.0000,-999.000,-999.000, 11.5806,-999.000
     32MW893_3,  P04E,   174,  1,     17,     17,2,19890428,1646,  9.4917,-117.0017, 4143,    298.2,  10.9504,  34.7387,2,  34.7325,2,   -999.0,5,     10.9,2,    31.61,2,    34.01,2,     0.00,2,     2.40,2,    0.078,2, -999.000,5, -999.000,9,-999.0000,9,  -999.00,9,-999.000,9,   -999,-999.0000,-999.000,-999.000, 10.9137,-999.000
     32MW893_3,  P04E,   174,  1,     16,     16,2,19890428,1646,  9.4917,-117.0017, 4143,    396.9,   9.8977,  34.6830,2,  34.6787,2,   -999.0,5,      4.8,2,    37.72,2,    34.89,2,    -0.01,2,     2.60,2,    0.018,2, -999.000,5, -999.000,9,-999.0000,9,  -999.00,9,-999.000,9,   -999,-999.0000,-999.000,-999.000,  9.8516,-999.000
     32MW893_3,  P04E,   174,  1,     15,     15,2,19890428,1646,  9.4917,-117.0017, 4143,    496.9,   8.6281,  34.6154,2,  34.6148,2,   -999.0,5,      3.9,2,    48.36,2,    35.58,2,    -0.01,2,     2.80,2,    0.006,2,    0.017,2, -999.000,9,-999.0000,9,  -999.00,9,-999.000,9,   -999,-999.0000,-999.000,-999.000,  8.5748,-999.000
     32MW893_3,  P04E,   174,  1,     14,     14,2,19890428,1646,  9.4917,-117.0017, 4143,    598.9,   7.3516,  34.5693,2,  34.5665,2,   -999.0,5,      3.9,2,    62.14,2,    37.83,2,    -0.01,2,     3.06,2,    0.005,2,    0.007,2, -999.000,9,-999.0000,9,  -999.00,9,-999.000,9,   -999,-999.0000,-999.000,-999.000,  7.2927,-999.000
     32MW893_3,  P04E,   174,  1,     13,     13,2,19890428,1646,  9.4917,-117.0017, 4143,    697.6,   6.2480,  34.5545,2,  34.5431,2,   -999.0,5,      5.6,2,    73.47,2,    41.64,2,    -0.01,2,     3.16,2, -999.000,9, -999.000,9, -999.000,9,-999.0000,9,  -999.00,9,-999.000,9,   -999,-999.0000,-999.000,-999.000,  6.1847,-999.000
     32MW893_3,  P04E,   174,  1,     12,     12,2,19890428,1646,  9.4917,-117.0017, 4143,    797.7,   5.6302,  34.5521,2,  34.5502,2,   -999.0,5,     10.4,2,    80.17,2,    43.79,2,    -0.01,2,     3.20,2,    0.002,2,    0.008,2, -999.000,9,-999.0000,9,  -999.00,9,-999.000,9,   -999,-999.0000,-999.000,-999.000,  5.5611,-999.000
     32MW893_3,  P04E,   174,  1,     11,     11,2,19890428,1646,  9.4917,-117.0017, 4143,    998.4,   4.7136,  34.5578,2,  34.5565,2,   -999.0,5,     29.1,2,    94.54,2,    44.09,2,    -0.01,2,     3.17,2, -999.000,9, -999.000,9, -999.000,9,-999.0000,9,  -999.00,9,-999.000,9,   -999,-999.0000,-999.000,-999.000,  4.6325,-999.000
     32MW893_3,  P04E,   174,  1,     10,     10,2,19890428,1646,  9.4917,-117.0017, 4143,   1246.7,   3.8590,  34.5786,2,  34.5769,2,   -999.0,5,     52.6,2,   110.30,2,    42.62,2,    -0.01,2,     2.99,2,    0.003,2,    0.007,2, -999.000,9,-999.0000,9,  -999.00,9,-999.000,9,   -999,-999.0000,-999.000,-999.000,  3.7635,-999.000
     32MW893_3,  P04E,   174,  1,      9,      9,2,19890428,1646,  9.4917,-117.0017, 4143,   1498.8,   3.2542,  34.5986,2,  34.5973,2,   -999.0,5,     69.1,2,   123.59,2,    41.54,2,    -0.01,2,     2.95,2, -999.000,9, -999.000,9, -999.000,9,-999.0000,9,  -999.00,9,-999.000,9,   -999,-999.0000,-999.000,-999.000,  3.1435,-999.000
     32MW893_3,  P04E,   174,  1,      8,      8,2,19890428,1646,  9.4917,-117.0017, 4143,   1648.8,   2.9713,  34.6082,2,  34.6077,2,   -999.0,5,     78.2,2,  -999.00,5,  -999.00,5,  -999.00,5,  -999.00,5, -999.000,9, -999.000,9, -999.000,9,-999.0000,9,  -999.00,9,-999.000,9,   -999,-999.0000,-999.000,-999.000,  2.8511,-999.000
     32MW893_3,  P04E,   174,  1,      7,      7,2,19890428,1646,  9.4917,-117.0017, 4143,   1799.2,   2.6925,  34.6217,2,  34.6231,2,   -999.0,5,     76.0,2,   138.46,2,    41.35,2,     0.00,2,     2.90,2, -999.000,9, -999.000,9, -999.000,9,-999.0000,9,  -999.00,9,-999.000,9,   -999,-999.0000,-999.000,-999.000,  2.5631,-999.000
     32MW893_3,  P04E,   174,  1,      6,      6,2,19890428,1646,  9.4917,-117.0017, 4143,   2000.1,   2.2975,  34.6426,2,  34.6413,2,   -999.0,5,     90.8,2,   147.52,2,    40.37,2,     0.00,2,     2.80,2,    0.000,2,   -0.005,2, -999.000,9,-999.0000,9,  -999.00,9,-999.000,9,   -999,-999.0000,-999.000,-999.000,  2.1566,-999.000
     32MW893_3,  P04E,   174,  1,      5,      5,2,19890428,1646,  9.4917,-117.0017, 4143,   2499.7,   1.9127,  34.6650,2,  34.6630,2,   -999.0,5,    107.8,2,   155.10,2,    38.90,2,     0.00,2,     2.69,2, -999.000,9, -999.000,9, -999.000,9,-999.0000,9,  -999.00,9,-999.000,9,   -999,-999.0000,-999.000,-999.000,  1.7341,-999.000
     32MW893_3,  P04E,   174,  1,      4,      4,2,19890428,1646,  9.4917,-117.0017, 4143,   3003.2,   1.6728,  34.6759,2,  34.6777,2,   -999.0,5,    125.6,2,   157.36,2,    38.02,2,     0.00,2,     2.63,2, -999.000,9, -999.000,9, -999.000,9,-999.0000,9,  -999.00,9,-999.000,9,   -999,-999.0000,-999.000,-999.000,  1.4519,-999.000
     32MW893_3,  P04E,   174,  1,      3,      3,2,19890428,1646,  9.4917,-117.0017, 4143,   3505.6,   1.5519,  34.6843,2,  34.6838,2,   -999.0,5,    139.9,2,   154.21,2,    37.14,2,     0.00,2,     2.52,2, -999.000,9, -999.000,9, -999.000,9,-999.0000,9,  -999.00,9,-999.000,9,   -999,-999.0000,-999.000,-999.000,  1.2839,-999.000
     32MW893_3,  P04E,   174,  1,      2,      2,2,19890428,1646,  9.4917,-117.0017, 4143,   4004.8,   1.4889,  34.6876,2,  34.6879,2,   -999.0,5,    149.9,2,   152.14,2,    36.65,2,     0.00,2,     2.44,2,    0.001,2, -999.000,5, -999.000,9,-999.0000,9,  -999.00,9,-999.000,9,   -999,-999.0000,-999.000,-999.000,  1.1698,-999.000
     32MW893_3,  P04E,   174,  1,      1,      1,2,19890428,1646,  9.4917,-117.0017, 4143,   4203.4,   1.4939,  34.6871,2,  34.6907,2,   -999.0,5,    151.2,2,   151.85,2,    36.46,2,     0.00,2,     2.47,2,    0.003,2,    0.007,2, -999.000,9,-999.0000,9,  -999.00,9,-999.000,9,   -999,-999.0000,-999.000,-999.000,  1.1527,-999.000
     32MW893_3,  P04E,   175,  1,     24,     24,2,19890429,0045,  9.4983,-116.1667, 4250,      6.2,  27.6109,  34.0990,2,  34.0982,2,   -999.0,5,    211.3,2,     1.28,2,     0.00,2,     0.01,2,     0.28,2,    1.625,2,    0.886,2, -999.000,9,-999.0000,9,  -999.00,9,-999.000,9,   -999,-999.0000,-999.000,-999.000, 27.6095,-999.000
     32MW893_3,  P04E,   175,  1,     23,     23,2,19890429,0045,  9.4983,-116.1667, 4250,     46.3,  27.5609,  34.1244,2,  34.1244,2,   -999.0,5,    215.2,2,     1.18,2,     0.00,2,     0.01,2,     0.27,2,    1.599,2,    0.903,2, -999.000,9,-999.0000,9,  -999.00,9,-999.000,9,   -999,-999.0000,-999.000,-999.000, 27.5501,-999.000
     32MW893_3,  P04E,   175,  1,     22,     22,2,19890429,0045,  9.4983,-116.1667, 4250,     97.7,  15.8678,  34.7773,2,  34.6863,2,   -999.0,5,     36.5,2,    17.23,2,    25.90,2,     0.01,2,     1.96,2,    0.782,2,    0.460,2, -999.000,9,-999.0000,9,  -999.00,9,-999.000,9,   -999,-999.0000,-999.000,-999.000, 15.8525,-999.000
     32MW893_3,  P04E,   175,  1,     21,     21,2,19890429,0045,  9.4983,-116.1667, 4250,    121.9,  13.1886,  34.8353,2,  34.7716,2,   -999.0,5,      6.5,2,    24.91,2,    31.76,2,     0.01,2,     2.34,2,    0.317,2,    0.169,2, -999.000,9,-999.0000,9,  -999.00,9,-999.000,9,   -999,-999.0000,-999.000,-999.000, 13.1718,-999.000
     32MW893_3,  P04E,   175,  1,     20,     20,2,19890429,0045,  9.4983,-116.1667, 4250,    147.0,  12.4608,  34.7756,2,  34.7807,2,   -999.0,5,     13.9,2,    26.88,2,    32.45,2,     0.01,2,     2.33,2,    0.227,2,    0.115,2, -999.000,9,-999.0000,9,  -999.00,9,-999.000,9,   -999,-999.0000,-999.000,-999.000, 12.4412,-999.000
     32MW893_3,  P04E,   175,  1,     19,     19,2,19890429,0045,  9.4983,-116.1667, 4250,    172.4,  11.9610,  34.7688,2,  34.7675,2,   -999.0,5,     16.9,2,    28.56,2,    32.74,2,     0.01,2,     2.33,2,    0.180,2, -999.000,5, -999.000,9,-999.0000,9,  -999.00,9,-999.000,9,   -999,-999.0000,-999.000,-999.000, 11.9386,-999.000
     32MW893_3,  P04E,   175,  1,     18,     18,2,19890429,0045,  9.4983,-116.1667, 4250,    196.1,  11.7201,  34.7529,2,  34.7616,2,   -999.0,5,     17.8,2,    28.95,2,    32.74,2,     0.01,2,     2.34,2,    0.159,2,    0.092,2, -999.000,9,-999.0000,9,  -999.00,9,-999.000,9,   -999,-999.0000,-999.000,-999.000, 11.6950,-999.000
     32MW893_3,  P04E,   175,  1,     17,     17,2,19890429,0045,  9.4983,-116.1667, 4250,    247.2,  10.9924,  34.7421,2,  34.7382,2,   -999.0,5,     13.9,2,    31.32,2,    33.72,2,     0.00,2,     2.40,2,    0.092,2, -999.000,5, -999.000,9,-999.0000,9,  -999.00,9,-999.000,9,   -999,-999.0000,-999.000,-999.000, 10.9619,-999.000
     32MW893_3,  P04E,   175,  1,     16,     16,2,19890429,0045,  9.4983,-116.1667, 4250,    297.6,  10.5155,  34.7172,2,  34.7184,2,   -999.0,5,      9.6,2,    33.78,2,    34.31,2,     0.00,2,     2.49,2,    0.054,2, -999.000,5, -999.000,9,-999.0000,9,  -999.00,9,-999.000,9,   -999,-999.0000,-999.000,-999.000, 10.4798,-999.000
     32MW893_3,  P04E,   175,  1,     15,     15,2,19890429,0045,  9.4983,-116.1667, 4250,    396.8,   9.5248,  34.6782,2,  34.6663,2,   -999.0,5,      3.9,2,    40.77,2,    34.80,2,     0.00,2,     2.71,2,    0.013,2, -999.000,5, -999.000,9,-999.0000,9,  -999.00,9,-999.000,9,   -999,-999.0000,-999.000,-999.000,  9.4798,-999.000
     32MW893_3,  P04E,   175,  1,     14,     14,2,19890429,0045,  9.4983,-116.1667, 4250,    497.6,   8.3313,  34.6180,2,  34.6087,2,   -999.0,5,      2.6,2,    52.78,2,    34.41,2,     0.00,2,     2.92,2,    0.006,2, -999.000,5, -999.000,9,-999.0000,9,  -999.00,9,-999.000,9,   -999,-999.0000,-999.000,-999.000,  8.2790,-999.000
     32MW893_3,  P04E,   175,  1,     13,     13,2,19890429,0045,  9.4983,-116.1667, 4250,    597.6,   6.9797,  34.5676,2,  34.5645,2,   -999.0,5,      3.9,2,    65.69,2,    38.71,2,     0.00,2,     3.13,2,    0.004,2, -999.000,5, -999.000,9,-999.0000,9,  -999.00,9,-999.000,9,   -999,-999.0000,-999.000,-999.000,  6.9226,-999.000
     32MW893_3,  P04E,   175,  1,     12,     12,2,19890429,0045,  9.4983,-116.1667, 4250,    697.6,   6.1690,  34.5617,2,  34.5557,2,   -999.0,5,      5.6,2,    74.06,2,    42.13,2,     0.00,2,     3.20,2,    0.001,2,    0.005,2, -999.000,9,-999.0000,9,  -999.00,9,-999.000,9,   -999,-999.0000,-999.000,-999.000,  6.1061,-999.000
     32MW893_3,  P04E,   175,  1,     11,     11,2,19890429,0045,  9.4983,-116.1667, 4250,    797.8,   5.4713,  34.5555,2,  34.5545,2,   -999.0,5,     12.6,2,    83.02,2,    43.40,2,     0.00,2,     3.22,2, -999.000,9, -999.000,9, -999.000,9,-999.0000,9,  -999.00,9,-999.000,9,   -999,-999.0000,-999.000,-999.000,  5.4030,-999.000
     32MW893_3,  P04E,   175,  1,     10,     10,2,19890429,0045,  9.4983,-116.1667, 4250,    996.6,   4.5927,  34.5632,2,  34.5620,2,   -999.0,5,     31.7,2,    96.81,2,    43.40,2,     0.00,2,     3.18,2,    0.010,3, -999.000,5, -999.000,9,-999.0000,9,  -999.00,9,-999.000,9,   -999,-999.0000,-999.000,-999.000,  4.5127,-999.000
     32MW893_3,  P04E,   175,  1,      9,      9,2,19890429,0045,  9.4983,-116.1667, 4250,   1247.6,   3.7480,  34.5879,2,  34.5840,2,   -999.0,5,     51.7,2,   113.35,2,    42.23,2,     0.00,2,     3.10,2, -999.000,9, -999.000,9, -999.000,9,-999.0000,9,  -999.00,9,-999.000,9,   -999,-999.0000,-999.000,-999.000,  3.6535,-999.000
     32MW893_3,  P04E,   175,  1,      8,      8,2,19890429,0045,  9.4983,-116.1667, 4250,   1546.2,   3.0693,  34.6000,2,  34.6030,2,   -999.0,5,     73.0,2,   128.03,2,    40.57,2,     0.00,2,     2.94,2, -999.000,9, -999.000,9, -999.000,9,-999.0000,9,  -999.00,9,-999.000,9,   -999,-999.0000,-999.000,-999.000,  2.9567,-999.000
     32MW893_3,  P04E,   175,  1,      7,      7,2,19890429,0045,  9.4983,-116.1667, 4250,   1749.1,   2.6305,  34.6214,2,-999.0000,5,   -999.0,5,     77.8,2,   139.25,2,    40.27,2,    -0.01,2,     2.92,2, -999.000,9, -999.000,9, -999.000,9,-999.0000,9,  -999.00,9,-999.000,9,   -999,-999.0000,-999.000,-999.000,  2.5062,-999.000
     32MW893_3,  P04E,   175,  1,      6,      6,2,19890429,0045,  9.4983,-116.1667, 4250,   2000.7,   2.2526,  34.6415,2,  34.6413,2,   -999.0,5,     93.0,2,   146.83,2,    39.20,2,    -0.01,2,     2.82,2,    0.001,2,    0.007,2, -999.000,9,-999.0000,9,  -999.00,9,-999.000,9,   -999,-999.0000,-999.000,-999.000,  2.1122,-999.000
     32MW893_3,  P04E,   175,  1,      5,      5,2,19890429,0045,  9.4983,-116.1667, 4250,   2499.7,   1.8847,  34.6655,2,  34.6671,2,   -999.0,5,    109.9,2,   155.59,2,    38.41,2,    -0.01,2,     2.71,2, -999.000,9, -999.000,9, -999.000,9,-999.0000,9,  -999.00,9,-999.000,9,   -999,-999.0000,-999.000,-999.000,  1.7066,-999.000
     32MW893_3,  P04E,   175,  1,      4,      4,2,19890429,0045,  9.4983,-116.1667, 4250,   3002.5,   1.7158,  34.6747,2,  34.6771,2,   -999.0,5,    122.5,2,   157.07,2,    38.12,2,     0.00,2,     2.64,2,    0.000,2,    0.001,2, -999.000,9,-999.0000,9,  -999.00,9,-999.000,9,   -999,-999.0000,-999.000,-999.000,  1.4940,-999.000
     32MW893_3,  P04E,   175,  1,      3,      3,2,19890429,0045,  9.4983,-116.1667, 4250,   3504.2,   1.5579,  34.6835,2,  34.6814,2,   -999.0,5,    140.8,2,   154.11,2,    37.14,2,     0.00,2,     2.56,2, -999.000,9, -999.000,9, -999.000,9,-999.0000,9,  -999.00,9,-999.000,9,   -999,-999.0000,-999.000,-999.000,  1.2899,-999.000
     32MW893_3,  P04E,   175,  1,      2,      2,2,19890429,0045,  9.4983,-116.1667, 4250,   4006.1,   1.5029,  34.6882,2,  34.6883,2,   -999.0,5,    147.7,2,   152.05,2,    36.46,2,     0.00,2,     2.49,2,    0.000,2,   -0.002,2, -999.000,9,-999.0000,9,  -999.00,9,-999.000,9,   -999,-999.0000,-999.000,-999.000,  1.1833,-999.000
     32MW893_3,  P04E,   175,  1,      1,      1,2,19890429,0045,  9.4983,-116.1667, 4250,   4348.9,   1.5259,  34.6873,2,  34.6859,2,   -999.0,5,    150.8,2,   151.65,2,    35.87,2,     0.00,2,     2.48,2,    0.002,2,    0.004,2, -999.000,9,-999.0000,9,  -999.00,9,-999.000,9,   -999,-999.0000,-999.000,-999.000,  1.1674,-999.000