BOTTLE,20020418WHPSIOdm
EXPOCODE,SECT_ID,STNNBR,CASTNO,SAMPNO,BTLNBR,BTLNBR_FLAG_W,DATE,TIME,LATITUDE,LONGITUDE,DEPTH,CTDPRS,CTDTMP,CTDSAL,CTDSAL_FLAG_W,SALNTY,SALNTY_FLAG_W,CTDOXY,CTDOXY_FLAG_W,OXYGEN,OXYGEN_FLAG_W,SILCAT,SILCAT_FLAG_W,NITRAT,NITRAT_FLAG_W,NITRIT,NITRIT_FLAG_W,PHSPHT,PHSPHT_FLAG_W,CFC-11,CFC-11_FLAG_W,CFC-12,CFC-12_FLAG_W,TRITUM,TRITUM_FLAG_W,HELIUM,HELIUM_FLAG_W,DELHE3,DELHE3_FLAG_W,NEON,NEON_FLAG_W,CTDRAW,HELIER,DELHER,NEONER,THETA,TRITER
,,,,,,,,,,,,DBAR,ITS-90,PSS-78,,PSS-78,,UMOL/KG,,UMOL/KG,,UMOL/KG,,UMOL/KG,,UMOL/KG,,UMOL/KG,,PMOL/KG,,PMOL/KG,,TU,,NMOL/KG,,PERCNT,,NMOL/KG,,,NMOL/KG,PERCNT,NMOL/KG,ITS-90,TU
     32MW893_3,  P04E,   206,  1,     24,     24,2,19890507,2325,  9.5017, -91.4617, 3682,     10.0,  28.4961,  34.4670,2,  34.4703,2,   -999.0,5,    227.3,2,     0.99,2,     0.10,2,    -0.01,2,     0.23,2,    1.595,2,    0.866,2, -999.000,9,-999.0000,9,  -999.00,9,-999.000,9,   -999,-999.0000,-999.000,-999.000, 28.4937,-999.000
     32MW893_3,  P04E,   206,  1,     23,     23,2,19890507,2325,  9.5017, -91.4617, 3682,     49.1,  18.7092,  35.1370,2,  34.7312,2,   -999.0,5,     96.5,2,     9.16,2,    26.58,2,     0.07,2,     1.96,2,    1.361,2,    0.745,2, -999.000,9,-999.0000,9,  -999.00,9,-999.000,9,   -999,-999.0000,-999.000,-999.000, 18.7006,-999.000
     32MW893_3,  P04E,   206,  1,     22,     22,2,19890507,2325,  9.5017, -91.4617, 3682,     98.4,  13.6296,  34.8936,2,  34.8865,2,   -999.0,5,     23.9,2,    21.17,2,    30.78,2,     0.02,2,     2.11,2,    0.409,2,    0.227,2, -999.000,9,-999.0000,9,  -999.00,9,-999.000,9,   -999,-999.0000,-999.000,-999.000, 13.6157,-999.000
     32MW893_3,  P04E,   206,  1,     21,     21,2,19890507,2325,  9.5017, -91.4617, 3682,    123.0,  13.1467,  34.8711,2,  34.8678,2,   -999.0,5,     32.6,2,    21.67,2,    30.39,2,     0.02,2,     2.08,2,    0.384,2,    0.227,2, -999.000,9,-999.0000,9,  -999.00,9,-999.000,9,   -999,-999.0000,-999.000,-999.000, 13.1297,-999.000
     32MW893_3,  P04E,   206,  1,     20,     20,2,19890507,2325,  9.5017, -91.4617, 3682,    147.1,  12.7089,  34.8060,2,  34.8224,2,   -999.0,5,     44.7,2,    22.84,2,    29.71,2,     0.02,2,     2.05,2,    0.372,2,    0.213,2, -999.000,9,-999.0000,9,  -999.00,9,-999.000,9,   -999,-999.0000,-999.000,-999.000, 12.6891,-999.000
     32MW893_3,  P04E,   206,  1,     19,     19,2,19890507,2325,  9.5017, -91.4617, 3682,    173.2,  12.5260,  34.8574,2,  34.8336,2,   -999.0,5,     25.6,2,    24.12,2,    31.66,2,     0.01,2,     2.17,2,    0.276,2,    0.177,2, -999.000,9,-999.0000,9,  -999.00,9,-999.000,9,   -999,-999.0000,-999.000,-999.000, 12.5028,-999.000
     32MW893_3,  P04E,   206,  1,     18,     18,2,19890507,2325,  9.5017, -91.4617, 3682,    197.9,  12.2842,  34.8135,2,  34.8106,2,   -999.0,5,     19.6,2,    25.50,2,    32.45,2,     0.01,2,     2.27,2,    0.240,2, -999.000,5, -999.000,9,-999.0000,9,  -999.00,9,-999.000,9,   -999,-999.0000,-999.000,-999.000, 12.2580,-999.000
     32MW893_3,  P04E,   206,  1,     17,     17,2,19890507,2325,  9.5017, -91.4617, 3682,    248.2,  11.6134,  34.7828,2,  34.7795,2,   -999.0,5,      8.3,2,    28.36,2,    33.72,2,     0.01,2,     2.39,2,    0.156,2,    0.092,2, -999.000,9,-999.0000,9,  -999.00,9,-999.000,9,   -999,-999.0000,-999.000,-999.000, 11.5817,-999.000
     32MW893_3,  P04E,   206,  1,     15,     15,2,19890507,2325,  9.5017, -91.4617, 3682,    395.4,   9.7133,  34.6820,2,  34.6812,2,   -999.0,5,      0.9,2,    41.46,2,    30.10,2,     1.67,2,     2.78,2,    0.015,2,    0.016,2, -999.000,9,-999.0000,9,  -999.00,9,-999.000,9,   -999,-999.0000,-999.000,-999.000,  9.6679,-999.000
     32MW893_3,  P04E,   206,  1,     14,     14,2,19890507,2325,  9.5017, -91.4617, 3682,    495.7,   7.8473,  34.6052,2,  34.6011,2,   -999.0,5,      4.8,2,    58.10,2,    33.82,2,     1.02,2,     3.10,2,    0.012,2,    0.019,2, -999.000,9,-999.0000,9,  -999.00,9,-999.000,9,   -999,-999.0000,-999.000,-999.000,  7.7970,-999.000
     32MW893_3,  P04E,   206,  1,     13,     13,2,19890507,2325,  9.5017, -91.4617, 3682,    595.3,   6.8689,  34.5887,2,-999.0000,5,   -999.0,5,      3.0,2,  -999.00,5,  -999.00,5,  -999.00,5,  -999.00,5,    0.012,2,    0.010,2, -999.000,9,-999.0000,9,  -999.00,9,-999.000,9,   -999,-999.0000,-999.000,-999.000,  6.8125,-999.000
     32MW893_3,  P04E,   206,  1,     12,     12,2,19890507,2325,  9.5017, -91.4617, 3682,    695.4,   6.2372,  34.5771,2,  34.5749,2,   -999.0,5,      6.5,2,    71.80,2,    42.91,2,     0.01,2,     3.21,2, -999.000,9, -999.000,9, -999.000,9,-999.0000,9,  -999.00,9,-999.000,9,   -999,-999.0000,-999.000,-999.000,  6.1741,-999.000
     32MW893_3,  P04E,   206,  1,     11,     11,2,19890507,2325,  9.5017, -91.4617, 3682,    794.1,   5.5897,  34.5570,2,  34.5647,2,   -999.0,5,     11.3,2,    79.68,2,    44.48,2,     0.01,2,     3.25,2, -999.000,9, -999.000,9, -999.000,9,-999.0000,9,  -999.00,9,-999.000,9,   -999,-999.0000,-999.000,-999.000,  5.5211,-999.000
     32MW893_3,  P04E,   206,  1,     10,     10,2,19890507,2325,  9.5017, -91.4617, 3682,    993.6,   4.6883,  34.5631,2,  34.5683,2,   -999.0,5,     22.2,2,    94.64,2,    44.77,2,     0.00,2,     3.26,2, -999.000,9, -999.000,9, -999.000,9,-999.0000,9,  -999.00,9,-999.000,9,   -999,-999.0000,-999.000,-999.000,  4.6078,-999.000
     32MW893_3,  P04E,   206,  1,      9,      9,2,19890507,2325,  9.5017, -91.4617, 3682,   1241.6,   3.8379,  34.5839,2,  34.5834,2,   -999.0,5,     40.4,2,   112.37,2,    43.89,2,     0.00,2,     3.19,2, -999.000,9, -999.000,9, -999.000,9,-999.0000,9,  -999.00,9,-999.000,9,   -999,-999.0000,-999.000,-999.000,  3.7431,-999.000
     32MW893_3,  P04E,   206,  1,      8,      8,2,19890507,2325,  9.5017, -91.4617, 3682,   1490.4,   3.2232,  34.6037,2,  34.6030,2,   -999.0,5,     51.3,2,   126.54,2,    43.11,2,     0.00,2,     3.13,2, -999.000,9, -999.000,9, -999.000,9,-999.0000,9,  -999.00,9,-999.000,9,   -999,-999.0000,-999.000,-999.000,  3.1136,-999.000
     32MW893_3,  P04E,   206,  1,      7,      7,2,19890507,2325,  9.5017, -91.4617, 3682,   1740.1,   2.6737,  34.6264,2,  34.6237,2,   -999.0,5,     70.4,2,   138.86,2,    41.74,2,     0.00,2,     3.01,2, -999.000,9, -999.000,9, -999.000,9,-999.0000,9,  -999.00,9,-999.000,9,   -999,-999.0000,-999.000,-999.000,  2.5496,-999.000
     32MW893_3,  P04E,   206,  1,      6,      6,2,19890507,2325,  9.5017, -91.4617, 3682,   1989.9,   2.2680,  34.6453,2,  34.6433,2,   -999.0,5,     88.6,2,   146.73,2,    40.37,2,     0.00,2,     2.87,2, -999.000,9, -999.000,9, -999.000,9,-999.0000,9,  -999.00,9,-999.000,9,   -999,-999.0000,-999.000,-999.000,  2.1283,-999.000
     32MW893_3,  P04E,   206,  1,      5,      5,2,19890507,2325,  9.5017, -91.4617, 3682,   2389.6,   1.8882,  34.6657,2,  34.6673,2,   -999.0,5,    106.9,2,   155.00,2,    39.00,2,     0.00,2,     2.76,2, -999.000,9, -999.000,9, -999.000,9,-999.0000,9,  -999.00,9,-999.000,9,   -999,-999.0000,-999.000,-999.000,  1.7199,-999.000
     32MW893_3,  P04E,   206,  1,      4,      4,2,19890507,2325,  9.5017, -91.4617, 3682,   2790.9,   1.8184,  34.6701,2,  34.6720,2,   -999.0,5,    116.0,2,   156.67,2,    38.61,2,     0.00,2,     2.73,2,   -0.001,2,   -0.004,2, -999.000,9,-999.0000,9,  -999.00,9,-999.000,9,   -999,-999.0000,-999.000,-999.000,  1.6146,-999.000
     32MW893_3,  P04E,   206,  1,      3,      3,2,19890507,2325,  9.5017, -91.4617, 3682,   3189.8,   1.8383,  34.6712,2,  34.6702,2,   -999.0,5,    116.0,2,   156.38,2,    38.41,2,     0.00,2,     2.72,2,    0.007,2,    0.005,2, -999.000,9,-999.0000,9,  -999.00,9,-999.000,9,   -999,-999.0000,-999.000,-999.000,  1.5953,-999.000
     32MW893_3,  P04E,   206,  1,      2,      2,2,19890507,2325,  9.5017, -91.4617, 3682,   3479.2,   1.8583,  34.6719,2,  34.6716,2,   -999.0,5,    117.3,2,   156.09,2,    38.22,2,    -0.01,2,     2.71,2, -999.000,9, -999.000,9, -999.000,9,-999.0000,9,  -999.00,9,-999.000,9,   -999,-999.0000,-999.000,-999.000,  1.5853,-999.000
     32MW893_3,  P04E,   206,  1,      1,      1,2,19890507,2325,  9.5017, -91.4617, 3682,   3736.1,   1.8802,  34.6702,2,  34.6724,2,   -999.0,5,    117.8,2,   155.79,2,    38.44,2,    -0.01,2,     2.71,2,    0.000,2,   -0.001,2, -999.000,9,-999.0000,9,  -999.00,9,-999.000,9,   -999,-999.0000,-999.000,-999.000,  1.5796,-999.000
     32MW893_3,  P04E,   207,  1,     24,     24,2,19890508,0647,  9.5067, -90.6667, 3642,      5.2,  27.4679,  34.4060,2,  34.4220,2,   -999.0,5,    213.8,2,     4.83,2,     5.96,2,     0.11,2,     0.75,2,    1.578,3,    0.858,2, -999.000,9,-999.0000,9,  -999.00,9,-999.000,9,   -999,-999.0000,-999.000,-999.000, 27.4667,-999.000
     32MW893_3,  P04E,   207,  1,     23,     23,2,19890508,0647,  9.5067, -90.6667, 3642,     49.4,  13.7166,  34.8769,2,  34.8818,2,   -999.0,5,      4.8,2,    22.06,2,    32.54,2,     0.05,2,     2.25,2,    0.388,2,    0.225,2, -999.000,9,-999.0000,9,  -999.00,9,-999.000,9,   -999,-999.0000,-999.000,-999.000, 13.7096,-999.000
     32MW893_3,  P04E,   207,  1,     22,     22,2,19890508,0647,  9.5067, -90.6667, 3642,     74.0,  13.2887,  34.8563,2,  34.8672,2,   -999.0,5,      6.1,2,    23.53,2,    32.54,2,     0.01,2,     2.28,2,    0.320,2,    0.202,2, -999.000,9,-999.0000,9,  -999.00,9,-999.000,9,   -999,-999.0000,-999.000,-999.000, 13.2784,-999.000
     32MW893_3,  P04E,   207,  1,     21,     21,2,19890508,0647,  9.5067, -90.6667, 3642,     99.4,  13.0319,  34.8707,2,  34.8641,2,   -999.0,5,      8.7,2,    23.92,2,    32.64,2,     0.01,2,     2.25,2,    0.295,2,    0.167,2, -999.000,9,-999.0000,9,  -999.00,9,-999.000,9,   -999,-999.0000,-999.000,-999.000, 13.0183,-999.000
     32MW893_3,  P04E,   207,  1,     20,     20,2,19890508,0647,  9.5067, -90.6667, 3642,    123.5,  12.7709,  34.8432,2,  34.8324,2,   -999.0,5,      6.5,2,    25.01,2,    33.23,2,     0.01,2,     2.28,2,    0.248,2,    0.138,2, -999.000,9,-999.0000,9,  -999.00,9,-999.000,9,   -999,-999.0000,-999.000,-999.000, 12.7542,-999.000
     32MW893_3,  P04E,   207,  1,     19,     19,2,19890508,0647,  9.5067, -90.6667, 3642,    149.7,  12.4480,  34.8472,2,  34.8147,2,   -999.0,5,      6.1,2,    26.09,2,    33.23,2,     0.02,2,     2.32,2,    0.225,2,    0.134,2, -999.000,9,-999.0000,9,  -999.00,9,-999.000,9,   -999,-999.0000,-999.000,-999.000, 12.4281,-999.000
     32MW893_3,  P04E,   207,  1,     18,     18,2,19890508,0647,  9.5067, -90.6667, 3642,    171.9,  12.1722,  34.8125,2,  34.8129,2,   -999.0,5,      4.8,2,    27.37,2,    33.23,2,     0.02,2,     2.39,2,    0.198,2,    0.111,2, -999.000,9,-999.0000,9,  -999.00,9,-999.000,9,   -999,-999.0000,-999.000,-999.000, 12.1496,-999.000
     32MW893_3,  P04E,   207,  1,     17,     17,2,19890508,0647,  9.5067, -90.6667, 3642,    195.3,  11.8712,  34.7947,2,  34.7933,2,   -999.0,5,      4.3,2,    28.06,2,    33.82,2,     0.02,2,     2.40,2,    0.164,2, -999.000,5, -999.000,9,-999.0000,9,  -999.00,9,-999.000,9,   -999,-999.0000,-999.000,-999.000, 11.8460,-999.000
     32MW893_3,  P04E,   207,  1,     16,     16,2,19890508,0647,  9.5067, -90.6667, 3642,    246.8,  11.3395,  34.7626,2,  34.7628,2,   -999.0,5,      2.6,2,    30.62,2,    33.72,2,     0.06,2,     2.51,2,    0.107,2, -999.000,5, -999.000,9,-999.0000,9,  -999.00,9,-999.000,9,   -999,-999.0000,-999.000,-999.000, 11.3085,-999.000
     32MW893_3,  P04E,   207,  1,     15,     15,2,19890508,0647,  9.5067, -90.6667, 3642,    296.6,  10.6458,  34.7306,2,  34.7300,2,   -999.0,5,      1.7,2,    35.16,2,    31.86,2,     1.08,2,     2.62,2,    0.059,2, -999.000,5, -999.000,9,-999.0000,9,  -999.00,9,-999.000,9,   -999,-999.0000,-999.000,-999.000, 10.6100,-999.000
     32MW893_3,  P04E,   207,  1,     14,     14,2,19890508,0647,  9.5067, -90.6667, 3642,    396.8,   8.9297,  34.6497,2,  34.6478,2,   -999.0,5,      2.2,2,    48.65,2,    31.08,2,     1.23,2,     2.91,2,    0.014,2, -999.000,5, -999.000,9,-999.0000,9,  -999.00,9,-999.000,9,   -999,-999.0000,-999.000,-999.000,  8.8865,-999.000
     32MW893_3,  P04E,   207,  1,     13,     13,2,19890508,0647,  9.5067, -90.6667, 3642,    495.8,   7.5735,  34.6103,2,  34.6066,2,   -999.0,5,      2.2,2,    59.48,2,    36.75,2,     0.01,2,     3.11,2,    0.005,2, -999.000,5, -999.000,9,-999.0000,9,  -999.00,9,-999.000,9,   -999,-999.0000,-999.000,-999.000,  7.5242,-999.000
     32MW893_3,  P04E,   207,  1,     12,     12,2,19890508,0647,  9.5067, -90.6667, 3642,    595.3,   6.7989,  34.5994,2,  34.5907,2,   -999.0,5,      3.9,2,    66.18,2,    41.15,2,     0.00,2,     3.17,2,    0.004,2, -999.000,5, -999.000,9,-999.0000,9,  -999.00,9,-999.000,9,   -999,-999.0000,-999.000,-999.000,  6.7428,-999.000
     32MW893_3,  P04E,   207,  1,     11,     11,2,19890508,0647,  9.5067, -90.6667, 3642,    694.9,   6.0304,  34.5788,2,  34.5749,2,   -999.0,5,      7.0,2,    74.55,2,    43.60,2,     0.00,2,     3.22,2,    0.002,2,    0.000,2, -999.000,9,-999.0000,9,  -999.00,9,-999.000,9,   -999,-999.0000,-999.000,-999.000,  5.9685,-999.000
     32MW893_3,  P04E,   207,  1,     10,     10,2,19890508,0647,  9.5067, -90.6667, 3642,    794.3,   5.4807,  34.5672,2,  34.5665,2,   -999.0,5,      7.4,2,    83.62,2,    44.57,2,     0.01,2,     3.28,2, -999.000,9, -999.000,9, -999.000,9,-999.0000,9,  -999.00,9,-999.000,9,   -999,-999.0000,-999.000,-999.000,  5.4127,-999.000
     32MW893_3,  P04E,   207,  1,      9,      9,2,19890508,0647,  9.5067, -90.6667, 3642,    990.6,   4.6613,  34.5705,2,  34.5681,2,   -999.0,5,     18.3,2,    96.91,2,    45.16,2,     0.00,2,     3.31,2, -999.000,9, -999.000,9, -999.000,9,-999.0000,9,  -999.00,9,-999.000,9,   -999,-999.0000,-999.000,-999.000,  4.5813,-999.000
     32MW893_3,  P04E,   207,  1,      8,      8,2,19890508,0647,  9.5067, -90.6667, 3642,   1192.4,   3.9318,  34.5810,2,  34.5806,2,   -999.0,5,     34.8,2,   111.29,2,    44.38,2,     0.00,2,     3.23,2, -999.000,9, -999.000,9, -999.000,9,-999.0000,9,  -999.00,9,-999.000,9,   -999,-999.0000,-999.000,-999.000,  3.8403,-999.000
     32MW893_3,  P04E,   207,  1,      7,      7,2,19890508,0647,  9.5067, -90.6667, 3642,   1491.1,   3.0944,  34.6110,2,  34.6091,2,   -999.0,5,     57.4,2,   129.41,2,    42.81,2,     0.00,2,     3.09,2, -999.000,9, -999.000,9, -999.000,9,-999.0000,9,  -999.00,9,-999.000,9,   -999,-999.0000,-999.000,-999.000,  2.9861,-999.000
     32MW893_3,  P04E,   207,  1,      6,      6,2,19890508,0647,  9.5067, -90.6667, 3642,   1790.7,   2.5828,  34.6289,2,  34.6274,2,   -999.0,5,     80.0,2,   139.35,2,    41.05,2,     0.00,2,     2.91,2, -999.000,9, -999.000,9, -999.000,9,-999.0000,9,  -999.00,9,-999.000,9,   -999,-999.0000,-999.000,-999.000,  2.4556,-999.000
     32MW893_3,  P04E,   207,  1,      5,      5,2,19890508,0647,  9.5067, -90.6667, 3642,   2189.3,   2.0571,  34.6543,2,  34.6553,2,   -999.0,5,     99.5,2,   152.15,2,    39.59,2,     0.00,2,     2.80,2, -999.000,9, -999.000,9, -999.000,9,-999.0000,9,  -999.00,9,-999.000,9,   -999,-999.0000,-999.000,-999.000,  1.9035,-999.000
     32MW893_3,  P04E,   207,  1,      4,      4,2,19890508,0647,  9.5067, -90.6667, 3642,   2589.7,   1.8274,  34.6688,2,  34.6714,2,   -999.0,5,    111.2,2,   157.37,2,    38.71,2,     0.00,2,     2.74,2,   -0.002,2,   -0.004,2, -999.000,9,-999.0000,9,  -999.00,9,-999.000,9,   -999,-999.0000,-999.000,-999.000,  1.6421,-999.000
     32MW893_3,  P04E,   207,  1,      3,      3,2,19890508,0647,  9.5067, -90.6667, 3642,   2988.1,   1.8244,  34.6709,2,  34.6706,2,   -999.0,5,    114.7,2,   157.66,2,    38.51,2,     0.00,2,     2.70,2,    0.004,2,   -0.005,2, -999.000,9,-999.0000,9,  -999.00,9,-999.000,9,   -999,-999.0000,-999.000,-999.000,  1.6016,-999.000
     32MW893_3,  P04E,   207,  1,      2,      2,2,19890508,0647,  9.5067, -90.6667, 3642,   3390.3,   1.8533,  34.6723,2,  34.6718,2,   -999.0,5,    116.9,2,   156.18,2,    38.41,2,    -0.01,2,     2.71,2,   -0.001,2,    0.001,2, -999.000,9,-999.0000,9,  -999.00,9,-999.000,9,   -999,-999.0000,-999.000,-999.000,  1.5896,-999.000
     32MW893_3,  P04E,   207,  1,      1,      1,2,19890508,0647,  9.5067, -90.6667, 3642,   3734.0,   1.8822,  34.6714,2,  34.6716,2,   -999.0,5,    117.3,2,   156.38,2,    38.32,2,     0.00,2,     2.72,2,    0.000,2,    0.003,2, -999.000,9,-999.0000,9,  -999.00,9,-999.000,9,   -999,-999.0000,-999.000,-999.000,  1.5817,-999.000