BOTTLE,20020418WHPSIOdm
EXPOCODE,SECT_ID,STNNBR,CASTNO,SAMPNO,BTLNBR,BTLNBR_FLAG_W,DATE,TIME,LATITUDE,LONGITUDE,DEPTH,CTDPRS,CTDTMP,CTDSAL,CTDSAL_FLAG_W,SALNTY,SALNTY_FLAG_W,CTDOXY,CTDOXY_FLAG_W,OXYGEN,OXYGEN_FLAG_W,SILCAT,SILCAT_FLAG_W,NITRAT,NITRAT_FLAG_W,NITRIT,NITRIT_FLAG_W,PHSPHT,PHSPHT_FLAG_W,CFC-11,CFC-11_FLAG_W,CFC-12,CFC-12_FLAG_W,TRITUM,TRITUM_FLAG_W,HELIUM,HELIUM_FLAG_W,DELHE3,DELHE3_FLAG_W,NEON,NEON_FLAG_W,CTDRAW,HELIER,DELHER,NEONER,THETA,TRITER
,,,,,,,,,,,,DBAR,ITS-90,PSS-78,,PSS-78,,UMOL/KG,,UMOL/KG,,UMOL/KG,,UMOL/KG,,UMOL/KG,,UMOL/KG,,PMOL/KG,,PMOL/KG,,TU,,NMOL/KG,,PERCNT,,NMOL/KG,,,NMOL/KG,PERCNT,NMOL/KG,ITS-90,TU
     32MW893_3,  P04E,   154,  1,     24,     24,2,19890421,2016,  9.5017,-133.6667, 4834,      6.9,  26.0193,  34.4909,2,  34.4958,2,   -999.0,5,    209.0,2,     2.39,2,     0.29,2,     0.00,2,     0.25,2,    1.743,2,    0.967,2, -999.000,9,-999.0000,9,  -999.00,9,-999.000,9,   -999,-999.0000,-999.000,-999.000, 26.0178,-999.000
     32MW893_3,  P04E,   154,  1,     23,     23,2,19890421,2016,  9.5017,-133.6667, 4834,     46.7,  14.0213,  34.6215,2,  34.6390,2,   -999.0,5,     26.9,2,    21.83,2,    29.81,2,     0.39,2,     2.15,2,    0.524,2,    0.274,2, -999.000,9,-999.0000,9,  -999.00,9,-999.000,9,   -999,-999.0000,-999.000,-999.000, 14.0146,-999.000
     32MW893_3,  P04E,   154,  1,     22,     22,2,19890421,2016,  9.5017,-133.6667, 4834,     98.2,  12.0250,  34.7524,2,  34.7492,2,   -999.0,5,     13.9,2,    27.38,2,    33.82,2,     0.00,2,     2.32,2,    0.188,2,    0.114,2, -999.000,9,-999.0000,9,  -999.00,9,-999.000,9,   -999,-999.0000,-999.000,-999.000, 12.0123,-999.000
     32MW893_3,  P04E,   154,  1,     21,     21,2,19890421,2016,  9.5017,-133.6667, 4834,    121.1,  11.6651,  34.7493,2,  34.7473,2,   -999.0,5,     22.6,2,    27.97,2,    33.52,2,     0.00,2,     2.28,2,    0.187,2, -999.000,5, -999.000,9,-999.0000,9,  -999.00,9,-999.000,9,   -999,-999.0000,-999.000,-999.000, 11.6497,-999.000
     32MW893_3,  P04E,   154,  1,     20,     20,2,19890421,2016,  9.5017,-133.6667, 4834,    148.6,  11.3392,  34.7417,2,  34.7410,2,   -999.0,5,     23.9,2,    28.97,2,    33.72,2,    -0.01,2,     2.31,2,    0.149,2,    0.102,2, -999.000,9,-999.0000,9,  -999.00,9,-999.000,9,   -999,-999.0000,-999.000,-999.000, 11.3206,-999.000
     32MW893_3,  P04E,   154,  1,     19,     19,2,19890421,2016,  9.5017,-133.6667, 4834,    198.1,  10.7584,  34.7282,2,  34.7294,2,   -999.0,5,     11.3,2,    31.45,2,    35.48,2,    -0.01,2,     2.43,2,    0.065,2, -999.000,5, -999.000,9,-999.0000,9,  -999.00,9,-999.000,9,   -999,-999.0000,-999.000,-999.000, 10.7344,-999.000
     32MW893_3,  P04E,   154,  1,     18,     18,2,19890421,2016,  9.5017,-133.6667, 4834,    246.3,  10.3445,  34.7129,2,  34.7119,2,   -999.0,5,     11.3,2,    33.33,2,    35.58,2,    -0.01,2,     2.48,2,    0.052,2, -999.000,5, -999.000,9,-999.0000,9,  -999.00,9,-999.000,9,   -999,-999.0000,-999.000,-999.000, 10.3153,-999.000
     32MW893_3,  P04E,   154,  1,     17,     17,2,19890421,2016,  9.5017,-133.6667, 4834,    296.0,   9.9237,  34.6948,2,  34.6973,2,   -999.0,5,      4.8,2,    36.31,2,    36.36,2,    -0.01,2,     2.61,2,    0.022,2, -999.000,5, -999.000,9,-999.0000,9,  -999.00,9,-999.000,9,   -999,-999.0000,-999.000,-999.000,  9.8895,-999.000
     32MW893_3,  P04E,   154,  1,     16,     16,2,19890421,2016,  9.5017,-133.6667, 4834,    397.1,   8.9710,  34.6373,2,  34.6353,2,   -999.0,5,      4.3,2,    43.75,2,    37.44,2,    -0.01,2,     2.79,2,    0.003,2, -999.000,5, -999.000,9,-999.0000,9,  -999.00,9,-999.000,9,   -999,-999.0000,-999.000,-999.000,  8.9277,-999.000
     32MW893_3,  P04E,   154,  1,     15,     15,2,19890421,2016,  9.5017,-133.6667, 4834,    495.2,   7.8024,  34.5806,2,  34.5787,2,   -999.0,5,      4.8,2,    54.67,2,    38.90,2,    -0.01,2,     2.98,2,    0.001,2, -999.000,5, -999.000,9,-999.0000,9,  -999.00,9,-999.000,9,   -999,-999.0000,-999.000,-999.000,  7.7523,-999.000
     32MW893_3,  P04E,   154,  1,     13,     13,2,19890421,2016,  9.5017,-133.6667, 4834,    698.3,   5.8442,  34.5357,2,  34.5376,2,   -999.0,5,     16.1,2,    76.30,2,    43.60,2,    -0.01,2,     3.13,2,    0.000,2, -999.000,5, -999.000,9,-999.0000,9,  -999.00,9,-999.000,9,   -999,-999.0000,-999.000,-999.000,  5.7830,-999.000
     32MW893_3,  P04E,   154,  1,     12,     12,2,19890421,2016,  9.5017,-133.6667, 4834,    800.4,   5.3244,  34.5434,2,  34.5439,2,   -999.0,5,     29.5,2,    82.25,2,    43.89,2,     0.00,2,     3.12,2,    0.000,2, -999.000,5, -999.000,9,-999.0000,9,  -999.00,9,-999.000,9,   -999,-999.0000,-999.000,-999.000,  5.2568,-999.000
     32MW893_3,  P04E,   154,  1,     11,     11,2,19890421,2016,  9.5017,-133.6667, 4834,    997.8,   4.4967,  34.5616,2,  34.5600,2,   -999.0,5,     43.0,2,    96.83,2,    43.69,2,     0.00,2,     3.11,2, -999.000,9, -999.000,9, -999.000,9,-999.0000,9,  -999.00,9,-999.000,9,   -999,-999.0000,-999.000,-999.000,  4.4173,-999.000
     32MW893_3,  P04E,   154,  1,     10,     10,2,19890421,2016,  9.5017,-133.6667, 4834,   1398.7,   3.2782,  34.5965,2,  34.5954,2,   -999.0,5,     74.7,2,   122.73,2,    42.13,2,     0.00,2,     2.98,2, -999.000,9, -999.000,9, -999.000,9,-999.0000,9,  -999.00,9,-999.000,9,   -999,-999.0000,-999.000,-999.000,  3.1757,-999.000
     32MW893_3,  P04E,   154,  1,      9,      9,2,19890421,2016,  9.5017,-133.6667, 4834,   1799.0,   2.4955,  34.6257,2,  34.6252,2,   -999.0,5,     85.6,2,   141.48,2,    41.25,2,     0.00,2,     2.94,2, -999.000,9, -999.000,9, -999.000,9,-999.0000,9,  -999.00,9,-999.000,9,   -999,-999.0000,-999.000,-999.000,  2.3688,-999.000
     32MW893_3,  P04E,   154,  1,      8,      8,2,19890421,2016,  9.5017,-133.6667, 4834,   2202.5,   2.0077,  34.6547,2,  34.6535,2,   -999.0,5,    103.0,2,   152.69,2,    40.08,2,     0.00,2,     2.76,2,    0.011,2,    0.006,2, -999.000,9,-999.0000,9,  -999.00,9,-999.000,9,   -999,-999.0000,-999.000,-999.000,  1.8538,-999.000
     32MW893_3,  P04E,   154,  1,      7,      7,2,19890421,2016,  9.5017,-133.6667, 4834,   2600.2,   1.8338,  34.6671,2,  34.6667,2,   -999.0,5,    113.0,2,   156.95,2,    39.29,2,     0.00,2,     2.74,2, -999.000,9, -999.000,9, -999.000,9,-999.0000,9,  -999.00,9,-999.000,9,   -999,-999.0000,-999.000,-999.000,  1.6474,-999.000
     32MW893_3,  P04E,   154,  1,      6,      6,2,19890421,2016,  9.5017,-133.6667, 4834,   3000.7,   1.7078,  34.6739,2,  34.6738,2,   -999.0,5,    120.4,2,   158.24,2,    38.80,2,     0.00,2,     2.67,2,    0.001,2, -999.000,5, -999.000,9,-999.0000,9,  -999.00,9,-999.000,9,   -999,-999.0000,-999.000,-999.000,  1.4863,-999.000
     32MW893_3,  P04E,   154,  1,      5,      5,2,19890421,2016,  9.5017,-133.6667, 4834,   3401.0,   1.5549,  34.6806,2,  34.6801,2,   -999.0,5,    136.0,2,   159.43,2,    38.22,2,     0.00,2,     2.61,2, -999.000,9, -999.000,9, -999.000,9,-999.0000,9,  -999.00,9,-999.000,9,   -999,-999.0000,-999.000,-999.000,  1.2975,-999.000
     32MW893_3,  P04E,   154,  1,      4,      4,2,19890421,2016,  9.5017,-133.6667, 4834,   3806.1,   1.4280,  34.6897,2,  34.6911,2,   -999.0,5,    156.0,2,   149.50,2,    36.75,2,     0.00,2,     2.49,2,   -0.001,2,    0.004,2, -999.000,9,-999.0000,9,  -999.00,9,-999.000,9,   -999,-999.0000,-999.000,-999.000,  1.1318,-999.000
     32MW893_3,  P04E,   154,  1,      3,      3,2,19890421,2016,  9.5017,-133.6667, 4834,   4203.7,   1.4010,  34.6921,2,  34.6924,2,   -999.0,5,    163.8,2,   145.84,2,    36.26,2,     0.00,2,     2.46,2, -999.000,9, -999.000,9, -999.000,9,-999.0000,9,  -999.00,9,-999.000,9,   -999,-999.0000,-999.000,-999.000,  1.0624,-999.000
     32MW893_3,  P04E,   154,  1,      2,      2,2,19890421,2016,  9.5017,-133.6667, 4834,   4605.3,   1.4340,  34.6921,2,  34.6934,2,   -999.0,5,    164.7,2,   144.34,2,    35.97,2,     0.00,2,     2.44,2, -999.000,9, -999.000,9, -999.000,9,-999.0000,9,  -999.00,9,-999.000,9,   -999,-999.0000,-999.000,-999.000,  1.0488,-999.000
     32MW893_3,  P04E,   154,  1,      1,      1,2,19890421,2016,  9.5017,-133.6667, 4834,   4897.0,   1.4639,  34.6935,2,  34.6958,2,   -999.0,5,    165.5,2,   144.65,2,    36.07,2,     0.00,2,     2.46,2,    0.000,2, -999.000,5, -999.000,9,-999.0000,9,  -999.00,9,-999.000,9,   -999,-999.0000,-999.000,-999.000,  1.0433,-999.000
     32MW893_3,  P04E,   155,  1,     24,     24,2,19890422,0512,  9.5000,-132.8350, 4957,      6.5,  25.9693,  34.5239,2,  34.5229,2,   -999.0,5,    219.9,2,     0.89,2,     0.20,2,     0.00,2,     0.24,2,    1.737,2,    0.960,2, -999.000,9,-999.0000,9,  -999.00,9,-999.000,9,   -999,-999.0000,-999.000,-999.000, 25.9679,-999.000
     32MW893_3,  P04E,   155,  1,     23,     23,2,19890422,0512,  9.5000,-132.8350, 4957,     46.2,  25.9023,  34.5288,2,  34.5225,2,   -999.0,5,    219.0,2,     1.09,2,     0.39,2,     0.00,2,     0.26,2,    1.698,2,    0.965,2, -999.000,9,-999.0000,9,  -999.00,9,-999.000,9,   -999,-999.0000,-999.000,-999.000, 25.8920,-999.000
     32MW893_3,  P04E,   155,  1,     22,     22,2,19890422,0512,  9.5000,-132.8350, 4957,     71.8,  14.5842,  34.4838,2,  34.4391,2,   -999.0,5,     48.7,2,    17.46,2,    26.10,2,     0.70,2,     2.00,2,    0.996,2,    0.546,2, -999.000,9,-999.0000,9,  -999.00,9,-999.000,9,   -999,-999.0000,-999.000,-999.000, 14.5736,-999.000
     32MW893_3,  P04E,   155,  1,     21,     21,2,19890422,0512,  9.5000,-132.8350, 4957,     97.2,  12.8237,  34.7445,2,  34.7516,2,   -999.0,5,     12.2,2,    25.10,2,    33.43,2,     0.06,2,     2.33,2,    0.263,2,    0.154,2, -999.000,9,-999.0000,9,  -999.00,9,-999.000,9,   -999,-999.0000,-999.000,-999.000, 12.8105,-999.000
     32MW893_3,  P04E,   155,  1,     20,     20,2,19890422,0512,  9.5000,-132.8350, 4957,    120.9,  12.2430,  34.7867,2,  34.7716,2,   -999.0,5,     11.3,2,    26.39,2,    34.21,2,     0.00,2,     2.35,2,    0.177,2, -999.000,5, -999.000,9,-999.0000,9,  -999.00,9,-999.000,9,   -999,-999.0000,-999.000,-999.000, 12.2271,-999.000
     32MW893_3,  P04E,   155,  1,     19,     19,2,19890422,0512,  9.5000,-132.8350, 4957,    145.3,  11.7351,  34.7666,2,  34.7675,2,   -999.0,5,     16.5,2,    27.48,2,    34.11,2,     0.01,2,     2.34,2,    0.145,2,    0.096,2, -999.000,9,-999.0000,9,  -999.00,9,-999.000,9,   -999,-999.0000,-999.000,-999.000, 11.7165,-999.000
     32MW893_3,  P04E,   155,  1,     18,     18,2,19890422,0512,  9.5000,-132.8350, 4957,    173.8,  11.3412,  34.7547,2,  34.7522,2,   -999.0,5,     16.5,2,    28.57,2,    34.11,2,     0.01,2,     2.37,2,    0.123,2, -999.000,5, -999.000,9,-999.0000,9,  -999.00,9,-999.000,9,   -999,-999.0000,-999.000,-999.000, 11.3194,-999.000
     32MW893_3,  P04E,   155,  1,     17,     17,2,19890422,0512,  9.5000,-132.8350, 4957,    196.6,  11.0803,  34.7438,2,  34.7404,2,   -999.0,5,     16.1,2,    29.66,2,    34.40,2,     0.01,2,     2.38,2,    0.103,2, -999.000,5, -999.000,9,-999.0000,9,  -999.00,9,-999.000,9,   -999,-999.0000,-999.000,-999.000, 11.0560,-999.000
     32MW893_3,  P04E,   155,  1,     16,     16,2,19890422,0512,  9.5000,-132.8350, 4957,    246.8,  10.4655,  34.7138,2,  34.7135,2,   -999.0,5,      9.1,2,    33.83,2,    35.48,2,     0.01,2,     2.49,2,    0.047,2,    0.040,2, -999.000,9,-999.0000,9,  -999.00,9,-999.000,9,   -999,-999.0000,-999.000,-999.000, 10.4360,-999.000
     32MW893_3,  P04E,   155,  1,     15,     15,2,19890422,0512,  9.5000,-132.8350, 4957,    297.1,   9.9447,  34.6877,2,  34.7003,2,   -999.0,5,      9.6,2,    34.73,2,    36.55,2,     0.01,2,     2.57,2,    0.023,2, -999.000,5, -999.000,9,-999.0000,9,  -999.00,9,-999.000,9,   -999,-999.0000,-999.000,-999.000,  9.9103,-999.000
     32MW893_3,  P04E,   155,  1,     14,     14,2,19890422,0512,  9.5000,-132.8350, 4957,    396.0,   8.9860,  34.6403,2,  34.6356,2,   -999.0,5,      5.2,2,    42.96,2,    37.05,2,     0.01,2,     2.79,2,    0.002,2,    0.010,2, -999.000,9,-999.0000,9,  -999.00,9,-999.000,9,   -999,-999.0000,-999.000,-999.000,  8.9428,-999.000
     32MW893_3,  P04E,   155,  1,     13,     13,2,19890422,0512,  9.5000,-132.8350, 4957,    496.4,   7.6505,  34.5649,2,  34.5690,2,   -999.0,5,     10.0,2,    53.98,2,    39.20,2,     0.01,2,     2.97,2,    0.000,2,    0.017,2, -999.000,9,-999.0000,9,  -999.00,9,-999.000,9,   -999,-999.0000,-999.000,-999.000,  7.6009,-999.000
     32MW893_3,  P04E,   155,  1,     12,     12,2,19890422,0512,  9.5000,-132.8350, 4957,    621.2,   6.4080,  34.5374,2,  34.5372,2,   -999.0,5,      9.6,2,    68.95,2,    42.23,2,     0.02,2,     3.12,2,    0.000,2,    0.006,2, -999.000,9,-999.0000,9,  -999.00,9,-999.000,9,   -999,-999.0000,-999.000,-999.000,  6.3512,-999.000
     32MW893_3,  P04E,   155,  1,     11,     11,2,19890422,0512,  9.5000,-132.8350, 4957,    795.9,   5.2025,  34.5522,2,  34.5443,2,   -999.0,5,     32.6,2,    83.15,2,    43.79,2,     0.02,2,     3.08,2,   -0.001,2,    0.008,2, -999.000,9,-999.0000,9,  -999.00,9,-999.000,9,   -999,-999.0000,-999.000,-999.000,  5.1361,-999.000
     32MW893_3,  P04E,   155,  1,     10,     10,2,19890422,0512,  9.5000,-132.8350, 4957,    996.2,   4.3698,  34.5547,2,  34.5577,2,   -999.0,5,     50.0,2,    97.93,2,    43.21,2,     0.02,2,     3.05,2,    0.007,2,    0.012,2, -999.000,9,-999.0000,9,  -999.00,9,-999.000,9,   -999,-999.0000,-999.000,-999.000,  4.2915,-999.000
     32MW893_3,  P04E,   155,  1,      9,      9,2,19890422,0512,  9.5000,-132.8350, 4957,   1247.5,   3.5930,  34.5855,2,  34.5836,2,   -999.0,5,     63.9,2,   114.80,2,    42.62,2,     0.02,2,     3.00,2,    0.004,2, -999.000,5, -999.000,9,-999.0000,9,  -999.00,9,-999.000,9,   -999,-999.0000,-999.000,-999.000,  3.5001,-999.000
     32MW893_3,  P04E,   155,  1,      8,      8,2,19890422,0512,  9.5000,-132.8350, 4957,   1498.4,   2.9873,  34.6022,2,  34.6017,2,   -999.0,5,     78.2,2,   128.28,2,    41.64,2,     0.02,2,     2.89,2,    0.008,2,    0.016,3, -999.000,9,-999.0000,9,  -999.00,9,-999.000,9,   -999,-999.0000,-999.000,-999.000,  2.8797,-999.000
     32MW893_3,  P04E,   155,  1,      7,      7,2,19890422,0512,  9.5000,-132.8350, 4957,   1998.5,   2.1786,  34.6444,2,  34.6437,2,   -999.0,5,     96.5,2,   149.11,2,    40.66,2,     0.02,2,     2.80,2,    0.001,2, -999.000,5, -999.000,9,-999.0000,9,  -999.00,9,-999.000,9,   -999,-999.0000,-999.000,-999.000,  2.0395,-999.000
     32MW893_3,  P04E,   155,  1,      6,      6,2,19890422,0512,  9.5000,-132.8350, 4957,   2500.3,   1.8668,  34.6647,2,  34.6669,2,   -999.0,5,    111.7,2,   155.86,2,    39.49,2,     0.02,2,     2.71,2,   -0.001,2,    0.000,2, -999.000,9,-999.0000,9,  -999.00,9,-999.000,9,   -999,-999.0000,-999.000,-999.000,  1.6889,-999.000
     32MW893_3,  P04E,   155,  1,      5,      5,2,19890422,0512,  9.5000,-132.8350, 4957,   3000.2,   1.6968,  34.6751,2,  34.6744,2,   -999.0,5,    124.7,2,   157.15,2,    38.51,2,     0.03,2,     2.61,2, -999.000,5,    0.003,2, -999.000,9,-999.0000,9,  -999.00,9,-999.000,9,   -999,-999.0000,-999.000,-999.000,  1.4756,-999.000
     32MW893_3,  P04E,   155,  1,      4,      4,2,19890422,0512,  9.5000,-132.8350, 4957,   3501.7,   1.5339,  34.6819,2,  34.6818,2,   -999.0,5,    139.5,2,   158.33,2,    37.73,2,     0.03,2,     2.54,2,   -0.001,2,   -0.002,2, -999.000,9,-999.0000,9,  -999.00,9,-999.000,9,   -999,-999.0000,-999.000,-999.000,  1.2668,-999.000
     32MW893_3,  P04E,   155,  1,      3,      3,2,19890422,0512,  9.5000,-132.8350, 4957,   4003.0,   1.4190,  34.6903,2,  34.6907,2,   -999.0,5,    159.9,2,   146.73,2,    36.26,2,     0.03,2,     2.43,2,   -0.003,2,   -0.003,2, -999.000,9,-999.0000,9,  -999.00,9,-999.000,9,   -999,-999.0000,-999.000,-999.000,  1.1019,-999.000
     32MW893_3,  P04E,   155,  1,      2,      2,2,19890422,0512,  9.5000,-132.8350, 4957,   4503.2,   1.4300,  34.6927,2,  34.6958,2,   -999.0,5,    164.2,2,   144.94,2,    35.97,2,     0.03,2,     2.41,2,   -0.001,2,    0.000,2, -999.000,9,-999.0000,9,  -999.00,9,-999.000,9,   -999,-999.0000,-999.000,-999.000,  1.0567,-999.000
     32MW893_3,  P04E,   155,  1,      1,      1,2,19890422,0512,  9.5000,-132.8350, 4957,   5017.3,   1.4819,  34.6925,2,  34.6952,2,   -999.0,5,    165.5,2,   144.44,2,    35.17,2,     0.03,2,     2.41,2,   -0.003,2, -999.000,5, -999.000,9,-999.0000,9,  -999.00,9,-999.000,9,   -999,-999.0000,-999.000,-999.000,  1.0461,-999.000