BOTTLE,20020418WHPSIOdm
EXPOCODE,SECT_ID,STNNBR,CASTNO,SAMPNO,BTLNBR,BTLNBR_FLAG_W,DATE,TIME,LATITUDE,LONGITUDE,DEPTH,CTDPRS,CTDTMP,CTDSAL,CTDSAL_FLAG_W,SALNTY,SALNTY_FLAG_W,CTDOXY,CTDOXY_FLAG_W,OXYGEN,OXYGEN_FLAG_W,SILCAT,SILCAT_FLAG_W,NITRAT,NITRAT_FLAG_W,NITRIT,NITRIT_FLAG_W,PHSPHT,PHSPHT_FLAG_W,CFC-11,CFC-11_FLAG_W,CFC-12,CFC-12_FLAG_W,TRITUM,TRITUM_FLAG_W,HELIUM,HELIUM_FLAG_W,DELHE3,DELHE3_FLAG_W,NEON,NEON_FLAG_W,CTDRAW,HELIER,DELHER,NEONER,THETA,TRITER
,,,,,,,,,,,,DBAR,ITS-90,PSS-78,,PSS-78,,UMOL/KG,,UMOL/KG,,UMOL/KG,,UMOL/KG,,UMOL/KG,,UMOL/KG,,PMOL/KG,,PMOL/KG,,TU,,NMOL/KG,,PERCNT,,NMOL/KG,,,NMOL/KG,PERCNT,NMOL/KG,ITS-90,TU
     32MW893_3,  P04E,   214,  1,     24,     24,2,19890509,2019,  9.4967, -86.3317, 3445,      4.1,  26.5228,  34.3465,2,  34.2891,2,   -999.0,5,    217.8,2,     5.61,2,     2.74,2,     0.06,2,     0.46,2,    1.454,2, -999.000,5, -999.000,9,-999.0000,9,  -999.00,9,-999.000,9,   -999,-999.0000,-999.000,-999.000, 26.5219,-999.000
     32MW893_3,  P04E,   214,  1,     23,     23,2,19890509,2019,  9.4967, -86.3317, 3445,     48.2,  14.8691,  34.8867,2,  34.8757,2,   -999.0,5,     23.5,2,    22.06,2,    28.93,2,     0.02,2,     2.13,2,    0.537,2,    0.315,2, -999.000,9,-999.0000,9,  -999.00,9,-999.000,9,   -999,-999.0000,-999.000,-999.000, 14.8619,-999.000
     32MW893_3,  P04E,   214,  1,     22,     22,2,19890509,2019,  9.4967, -86.3317, 3445,    100.9,  13.6706,  34.9124,2,  34.9075,2,   -999.0,5,     17.8,2,    23.83,2,    31.17,2,     0.04,2,     2.16,2,    0.381,2,    0.221,2, -999.000,9,-999.0000,9,  -999.00,9,-999.000,9,   -999,-999.0000,-999.000,-999.000, 13.6563,-999.000
     32MW893_3,  P04E,   214,  1,     21,     21,2,19890509,2019,  9.4967, -86.3317, 3445,    125.0,  13.3627,  34.9202,2,  34.9012,2,   -999.0,5,     13.0,2,    25.20,2,    31.86,2,     0.04,2,     2.22,2,    0.315,2,    0.173,2, -999.000,9,-999.0000,9,  -999.00,9,-999.000,9,   -999,-999.0000,-999.000,-999.000, 13.3452,-999.000
     32MW893_3,  P04E,   214,  1,     20,     20,2,19890509,2019,  9.4967, -86.3317, 3445,    148.4,  13.2307,  34.8961,2,  34.8991,2,   -999.0,5,      9.6,2,    26.09,2,    32.25,2,     0.04,2,     2.27,2,    0.288,2,    0.155,2, -999.000,9,-999.0000,9,  -999.00,9,-999.000,9,   -999,-999.0000,-999.000,-999.000, 13.2101,-999.000
     32MW893_3,  P04E,   214,  1,     19,     19,2,19890509,2019,  9.4967, -86.3317, 3445,    173.4,  12.9569,  34.8817,2,  34.8778,2,   -999.0,5,      9.6,2,    27.08,2,    32.54,2,     0.04,2,     2.30,2,    0.253,2,    0.133,2, -999.000,9,-999.0000,9,  -999.00,9,-999.000,9,   -999,-999.0000,-999.000,-999.000, 12.9331,-999.000
     32MW893_3,  P04E,   214,  1,     18,     18,2,19890509,2019,  9.4967, -86.3317, 3445,    198.4,  12.8219,  34.8772,2,  34.8706,2,   -999.0,5,      7.0,2,    27.96,2,    32.74,2,     0.04,2,     2.33,2,    0.239,2,    0.133,2, -999.000,9,-999.0000,9,  -999.00,9,-999.000,9,   -999,-999.0000,-999.000,-999.000, 12.7949,-999.000
     32MW893_3,  P04E,   214,  1,     17,     17,2,19890509,2019,  9.4967, -86.3317, 3445,    249.6,  12.2382,  34.8361,2,  34.8318,2,   -999.0,5,      8.3,2,    27.18,2,    33.33,2,    -0.01,2,     2.37,2,    0.191,2,    0.113,2, -999.000,9,-999.0000,9,  -999.00,9,-999.000,9,   -999,-999.0000,-999.000,-999.000, 12.2052,-999.000
     32MW893_3,  P04E,   214,  1,     16,     16,2,19890509,2019,  9.4967, -86.3317, 3445,    298.5,  11.6424,  34.7898,2,  34.7876,2,   -999.0,5,      6.5,2,    28.75,2,    34.01,2,    -0.01,2,     2.42,2,    0.148,2,    0.090,2, -999.000,9,-999.0000,9,  -999.00,9,-999.000,9,   -999,-999.0000,-999.000,-999.000, 11.6041,-999.000
     32MW893_3,  P04E,   214,  1,     15,     15,2,19890509,2019,  9.4967, -86.3317, 3445,    396.5,  10.3740,  34.7263,2,  34.7296,2,   -999.0,5,      2.2,2,    38.01,2,    32.64,2,     0.18,2,     2.68,2,    0.053,2,    0.036,2, -999.000,9,-999.0000,9,  -999.00,9,-999.000,9,   -999,-999.0000,-999.000,-999.000, 10.3266,-999.000
     32MW893_3,  P04E,   214,  1,     14,     14,2,19890509,2019,  9.4967, -86.3317, 3445,    496.5,   8.6978,  34.6473,2,  34.6518,2,   -999.0,5,      2.2,2,    50.91,2,    32.65,2,     0.66,2,     2.97,2,    0.010,2,    0.012,2, -999.000,9,-999.0000,9,  -999.00,9,-999.000,9,   -999,-999.0000,-999.000,-999.000,  8.6443,-999.000
     32MW893_3,  P04E,   214,  1,     13,     13,2,19890509,2019,  9.4967, -86.3317, 3445,    594.6,   7.1787,  34.6087,2,  34.6005,2,   -999.0,5,      3.9,2,    63.92,2,    38.81,2,    -0.01,2,     3.18,2, -999.000,9, -999.000,9, -999.000,9,-999.0000,9,  -999.00,9,-999.000,9,   -999,-999.0000,-999.000,-999.000,  7.1210,-999.000
     32MW893_3,  P04E,   214,  1,     12,     12,2,19890509,2019,  9.4967, -86.3317, 3445,    692.3,   6.1393,  34.5782,2,  34.5744,2,   -999.0,5,      5.6,2,    74.65,2,    42.42,2,    -0.01,2,     3.26,2, -999.000,9, -999.000,9, -999.000,9,-999.0000,9,  -999.00,9,-999.000,9,   -999,-999.0000,-999.000,-999.000,  6.0771,-999.000
     32MW893_3,  P04E,   214,  1,     11,     11,2,19890509,2019,  9.4967, -86.3317, 3445,    794.1,   5.4657,  34.5701,2,  34.5663,2,   -999.0,5,      7.4,2,    84.59,2,    44.09,2,    -0.01,2,     3.32,2, -999.000,9, -999.000,9, -999.000,9,-999.0000,9,  -999.00,9,-999.000,9,   -999,-999.0000,-999.000,-999.000,  5.3978,-999.000
     32MW893_3,  P04E,   214,  1,     10,     10,2,19890509,2019,  9.4967, -86.3317, 3445,    992.7,   4.6163,  34.5765,2,  34.5730,2,   -999.0,5,     24.8,2,    97.40,2,    44.28,2,     0.00,2,     3.26,2, -999.000,9, -999.000,9, -999.000,9,-999.0000,9,  -999.00,9,-999.000,9,   -999,-999.0000,-999.000,-999.000,  4.5364,-999.000
     32MW893_3,  P04E,   214,  1,      9,      9,2,19890509,2019,  9.4967, -86.3317, 3445,   1192.7,   4.0057,  34.5849,2,  34.5828,2,   -999.0,5,     36.5,2,   109.61,2,    43.89,2,     0.00,2,     3.23,2, -999.000,9, -999.000,9, -999.000,9,-999.0000,9,  -999.00,9,-999.000,9,   -999,-999.0000,-999.000,-999.000,  3.9136,-999.000
     32MW893_3,  P04E,   214,  1,      8,      8,2,19890509,2019,  9.4967, -86.3317, 3445,   1390.1,   3.4461,  34.5969,2,  34.6009,2,   -999.0,5,     54.3,2,   121.32,2,    42.32,2,     0.00,2,     3.12,2, -999.000,9, -999.000,9, -999.000,9,-999.0000,9,  -999.00,9,-999.000,9,   -999,-999.0000,-999.000,-999.000,  3.3425,-999.000
     32MW893_3,  P04E,   214,  1,      7,      7,2,19890509,2019,  9.4967, -86.3317, 3445,   1689.9,   2.8015,  34.6245,2,  34.6241,2,   -999.0,5,     73.0,2,   136.20,2,    41.15,2,     0.00,2,     3.00,2, -999.000,9, -999.000,9, -999.000,9,-999.0000,9,  -999.00,9,-999.000,9,   -999,-999.0000,-999.000,-999.000,  2.6801,-999.000
     32MW893_3,  P04E,   214,  1,      6,      6,2,19890509,2019,  9.4967, -86.3317, 3445,   1990.4,   2.3369,  34.6449,2,  34.6449,2,   -999.0,5,     91.2,2,   145.05,2,    39.68,2,     0.00,2,     2.87,2, -999.000,9, -999.000,9, -999.000,9,-999.0000,9,  -999.00,9,-999.000,9,   -999,-999.0000,-999.000,-999.000,  2.1962,-999.000
     32MW893_3,  P04E,   214,  1,      5,      5,2,19890509,2019,  9.4967, -86.3317, 3445,   2291.3,   1.9532,  34.6620,2,  34.6594,2,   -999.0,5,    101.2,2,   154.51,2,    39.00,2,     0.00,2,     2.82,2, -999.000,9, -999.000,9, -999.000,9,-999.0000,9,  -999.00,9,-999.000,9,   -999,-999.0000,-999.000,-999.000,  1.7925,-999.000
     32MW893_3,  P04E,   214,  1,      4,      4,2,19890509,2019,  9.4967, -86.3317, 3445,   2590.4,   1.8323,  34.6692,2,  34.6671,2,   -999.0,5,    109.5,2,   155.89,2,    38.51,2,     0.00,2,     2.75,2, -999.000,9, -999.000,9, -999.000,9,-999.0000,9,  -999.00,9,-999.000,9,   -999,-999.0000,-999.000,-999.000,  1.6468,-999.000
     32MW893_3,  P04E,   214,  1,      3,      3,2,19890509,2019,  9.4967, -86.3317, 3445,   2890.3,   1.8294,  34.6712,2,  34.6706,2,   -999.0,5,    112.5,2,   157.85,2,    38.12,2,     0.00,2,     2.74,2, -999.000,9, -999.000,9, -999.000,9,-999.0000,9,  -999.00,9,-999.000,9,   -999,-999.0000,-999.000,-999.000,  1.6159,-999.000
     32MW893_3,  P04E,   214,  1,      2,      2,2,19890509,2019,  9.4967, -86.3317, 3445,   3191.4,   1.8493,  34.6723,2,  34.6708,2,   -999.0,5,    112.5,2,   157.76,2,    38.22,2,     0.00,2,     2.73,2,    0.001,2,   -0.001,2, -999.000,9,-999.0000,9,  -999.00,9,-999.000,9,   -999,-999.0000,-999.000,-999.000,  1.6059,-999.000
     32MW893_3,  P04E,   214,  1,      1,      1,2,19890509,2019,  9.4967, -86.3317, 3445,   3454.0,   1.8723,  34.6718,2,  34.6685,2,   -999.0,5,    112.5,2,   158.26,2,    38.12,2,     0.00,2,     2.74,2,    0.002,2,   -0.001,2, -999.000,9,-999.0000,9,  -999.00,9,-999.000,9,   -999,-999.0000,-999.000,-999.000,  1.6016,-999.000
     32MW893_3,  P04E,   215,  1,     24,     24,2,19890509,2330,  9.6000, -86.2000, -999,     11.0,  24.2875,  34.3845,3,  34.1466,2,   -999.0,5,    199.5,2,     4.43,2,     6.26,2,     0.09,2,     0.73,2, -999.000,9, -999.000,9, -999.000,9,-999.0000,9,  -999.00,9,-999.000,9,   -999,-999.0000,-999.000,-999.000, 24.2852,-999.000
     32MW893_3,  P04E,   215,  1,     23,     23,2,19890509,2330,  9.6000, -86.2000, -999,     50.9,  15.1828,  34.9217,3,  34.8704,2,   -999.0,5,     31.3,2,    18.61,2,    28.15,2,     0.20,2,     2.07,2,    0.552,2,    0.332,2, -999.000,9,-999.0000,9,  -999.00,9,-999.000,9,   -999,-999.0000,-999.000,-999.000, 15.1751,-999.000
     32MW893_3,  P04E,   215,  1,     22,     22,2,19890509,2330,  9.6000, -86.2000, -999,     75.8,  14.3280,  34.9144,3,  34.8981,2,   -999.0,5,     16.1,2,    20.39,2,    30.30,2,     0.06,2,     2.19,2,    0.465,2,    0.249,2, -999.000,9,-999.0000,9,  -999.00,9,-999.000,9,   -999,-999.0000,-999.000,-999.000, 14.3169,-999.000
     32MW893_3,  P04E,   215,  1,     21,     21,2,19890509,2330,  9.6000, -86.2000, -999,     99.9,  13.8522,  34.9046,3,  34.9184,2,   -999.0,5,     16.1,2,    20.78,2,    31.37,2,     0.06,2,     2.20,2,    0.379,2, -999.000,5, -999.000,9,-999.0000,9,  -999.00,9,-999.000,9,   -999,-999.0000,-999.000,-999.000, 13.8379,-999.000
     32MW893_3,  P04E,   215,  1,     20,     20,2,19890509,2330,  9.6000, -86.2000, -999,    124.4,  13.6002,  34.9165,3,  34.9168,2,   -999.0,5,     14.8,2,    21.46,2,    31.57,2,     0.06,2,     2.19,2,    0.334,2, -999.000,5, -999.000,9,-999.0000,9,  -999.00,9,-999.000,9,   -999,-999.0000,-999.000,-999.000, 13.5826,-999.000
     32MW893_3,  P04E,   215,  1,     19,     19,2,19890509,2330,  9.6000, -86.2000, -999,    149.1,  13.2803,  34.8956,3,  34.8999,2,   -999.0,5,     13.0,2,    22.55,2,    32.25,2,     0.04,2,     2.25,2, -999.000,9, -999.000,9, -999.000,9,-999.0000,9,  -999.00,9,-999.000,9,   -999,-999.0000,-999.000,-999.000, 13.2595,-999.000
     32MW893_3,  P04E,   215,  1,     18,     18,2,19890509,2330,  9.6000, -86.2000, -999,    174.3,  12.9924,  34.8727,3,  34.8826,2,   -999.0,5,     10.0,2,    23.63,2,    32.54,2,     0.04,2,     2.29,2,    0.253,2, -999.000,5, -999.000,9,-999.0000,9,  -999.00,9,-999.000,9,   -999,-999.0000,-999.000,-999.000, 12.9685,-999.000
     32MW893_3,  P04E,   215,  1,     17,     17,2,19890509,2330,  9.6000, -86.2000, -999,    198.1,  12.7714,  34.8730,3,  34.8725,2,   -999.0,5,      7.0,2,    24.72,2,    33.13,2,     0.04,2,     2.33,2,    0.229,2, -999.000,5, -999.000,9,-999.0000,9,  -999.00,9,-999.000,9,   -999,-999.0000,-999.000,-999.000, 12.7445,-999.000
     32MW893_3,  P04E,   215,  1,     16,     16,2,19890509,2330,  9.6000, -86.2000, -999,    249.2,  12.1537,  34.8136,3,  34.8186,2,   -999.0,5,     21.3,2,    25.80,2,    32.45,2,     0.04,2,     2.27,2,    0.219,2,    0.146,2, -999.000,9,-999.0000,9,  -999.00,9,-999.000,9,   -999,-999.0000,-999.000,-999.000, 12.1209,-999.000
     32MW893_3,  P04E,   215,  1,     15,     15,2,19890509,2330,  9.6000, -86.2000, -999,    297.3,  11.5809,  34.7649,3,  34.7860,2,   -999.0,5,      5.6,2,    29.74,2,    33.82,2,     0.04,2,     2.46,2,    0.140,2, -999.000,5, -999.000,9,-999.0000,9,  -999.00,9,-999.000,9,   -999,-999.0000,-999.000,-999.000, 11.5429,-999.000
     32MW893_3,  P04E,   215,  1,     14,     14,2,19890509,2330,  9.6000, -86.2000, -999,    399.0,  10.3123,  34.7406,3,  34.7416,2,   -999.0,5,      3.9,2,    37.81,2,    35.09,2,     0.04,2,     2.69,2,    0.060,2, -999.000,5, -999.000,9,-999.0000,9,  -999.00,9,-999.000,9,   -999,-999.0000,-999.000,-999.000, 10.2648,-999.000
     32MW893_3,  P04E,   215,  1,     13,     13,2,19890509,2330,  9.6000, -86.2000, -999,    497.2,   8.4512,  34.6526,3,  34.6496,2,   -999.0,5,      2.6,2,    52.20,2,    34.50,2,     0.13,2,     3.01,2,    0.008,2, -999.000,5, -999.000,9,-999.0000,9,  -999.00,9,-999.000,9,   -999,-999.0000,-999.000,-999.000,  8.3985,-999.000
     32MW893_3,  P04E,   215,  1,     12,     12,2,19890509,2330,  9.6000, -86.2000, -999,    623.1,   6.7130,  34.5837,3,  34.5926,2,   -999.0,5,      6.5,2,    67.95,2,    40.76,2,     0.04,2,     3.20,2, -999.000,9, -999.000,9, -999.000,9,-999.0000,9,  -999.00,9,-999.000,9,   -999,-999.0000,-999.000,-999.000,  6.6546,-999.000
     32MW893_3,  P04E,   215,  1,     11,     11,2,19890509,2330,  9.6000, -86.2000, -999,    796.0,   5.4896,  34.5681,3,  34.5687,2,   -999.0,5,      9.1,2,    83.31,2,    44.48,2,     0.04,2,     3.29,2, -999.000,9, -999.000,9, -999.000,9,-999.0000,9,  -999.00,9,-999.000,9,   -999,-999.0000,-999.000,-999.000,  5.4214,-999.000
     32MW893_3,  P04E,   215,  1,     10,     10,2,19890509,2330,  9.6000, -86.2000, -999,    996.7,   4.6621,  34.5693,3,  34.5714,2,   -999.0,5,     23.9,2,    96.41,2,    44.57,2,     0.04,2,     3.26,2, -999.000,9, -999.000,9, -999.000,9,-999.0000,9,  -999.00,9,-999.000,9,   -999,-999.0000,-999.000,-999.000,  4.5815,-999.000
     32MW893_3,  P04E,   215,  1,      9,      9,2,19890509,2330,  9.6000, -86.2000, -999,   1244.0,   3.8395,  34.5894,3,  34.5928,2,   -999.0,5,     44.8,2,   113.06,2,    43.20,2,    -0.01,2,     3.16,2, -999.000,9, -999.000,9, -999.000,9,-999.0000,9,  -999.00,9,-999.000,9,   -999,-999.0000,-999.000,-999.000,  3.7444,-999.000
     32MW893_3,  P04E,   215,  1,      8,      8,2,19890509,2330,  9.6000, -86.2000, -999,   1496.2,   3.1749,  34.6125,3,  34.6136,2,   -999.0,5,     63.4,2,   127.53,2,    42.03,2,    -0.01,2,     3.04,2, -999.000,9, -999.000,9, -999.000,9,-999.0000,9,  -999.00,9,-999.000,9,   -999,-999.0000,-999.000,-999.000,  3.0654,-999.000
     32MW893_3,  P04E,   215,  1,      7,      7,2,19890509,2330,  9.6000, -86.2000, -999,   1745.0,   2.6653,  34.6252,3,-999.0000,5,   -999.0,5,     79.1,2,   138.07,2,    41.15,2,    -0.01,2,     2.94,2, -999.000,9, -999.000,9, -999.000,9,-999.0000,9,  -999.00,9,-999.000,9,   -999,-999.0000,-999.000,-999.000,  2.5409,-999.000
     32MW893_3,  P04E,   215,  1,      6,      6,2,19890509,2330,  9.6000, -86.2000, -999,   1997.0,   2.2944,  34.6481,3,  34.6465,2,   -999.0,5,     90.4,2,   146.24,2,    40.27,2,    -0.01,2,     2.86,2, -999.000,9, -999.000,9, -999.000,9,-999.0000,9,  -999.00,9,-999.000,9,   -999,-999.0000,-999.000,-999.000,  2.1538,-999.000
     32MW893_3,  P04E,   215,  1,      5,      5,2,19890509,2330,  9.6000, -86.2000, -999,   2395.4,   1.8648,  34.6644,3,-999.0000,5,   -999.0,5,    106.9,2,   156.38,2,    39.10,2,    -0.01,2,     2.76,2, -999.000,9, -999.000,9, -999.000,9,-999.0000,9,  -999.00,9,-999.000,9,   -999,-999.0000,-999.000,-999.000,  1.6964,-999.000
     32MW893_3,  P04E,   215,  1,      4,      4,2,19890509,2330,  9.6000, -86.2000, -999,   2797.0,   1.8188,  34.6680,3,  34.6718,2,   -999.0,5,    113.0,2,   156.87,2,    38.61,2,     0.00,2,     2.71,2, -999.000,9, -999.000,9, -999.000,9,-999.0000,9,  -999.00,9,-999.000,9,   -999,-999.0000,-999.000,-999.000,  1.6144,-999.000
     32MW893_3,  P04E,   215,  1,      3,      3,2,19890509,2330,  9.6000, -86.2000, -999,   3199.7,   1.8478,  34.6694,3,-999.0000,5,   -999.0,5,    113.0,2,   157.27,2,    38.61,2,     0.00,2,     2.73,2,   -0.001,2,   -0.002,2, -999.000,9,-999.0000,9,  -999.00,9,-999.000,9,   -999,-999.0000,-999.000,-999.000,  1.6036,-999.000
     32MW893_3,  P04E,   215,  1,      2,      2,2,19890509,2330,  9.6000, -86.2000, -999,   3601.3,   1.8807,  34.6702,3,  34.6726,2,   -999.0,5,    114.3,2,   156.87,2,    38.51,2,     0.00,2,     2.72,2, -999.000,9, -999.000,9, -999.000,9,-999.0000,9,  -999.00,9,-999.000,9,   -999,-999.0000,-999.000,-999.000,  1.5944,-999.000
     32MW893_3,  P04E,   215,  1,      1,      1,2,19890509,2330,  9.6000, -86.2000, -999,   3974.5,   1.9216,  34.6701,3,  34.6732,2,   -999.0,5,    113.8,2,   156.77,2,    38.51,2,     0.00,2,     2.72,2,    0.002,2,    0.001,2, -999.000,9,-999.0000,9,  -999.00,9,-999.000,9,   -999,-999.0000,-999.000,-999.000,  1.5938,-999.000