BOTTLE,20020418WHPSIOdm
EXPOCODE,SECT_ID,STNNBR,CASTNO,SAMPNO,BTLNBR,BTLNBR_FLAG_W,DATE,TIME,LATITUDE,LONGITUDE,DEPTH,CTDPRS,CTDTMP,CTDSAL,CTDSAL_FLAG_W,SALNTY,SALNTY_FLAG_W,CTDOXY,CTDOXY_FLAG_W,OXYGEN,OXYGEN_FLAG_W,SILCAT,SILCAT_FLAG_W,NITRAT,NITRAT_FLAG_W,NITRIT,NITRIT_FLAG_W,PHSPHT,PHSPHT_FLAG_W,CFC-11,CFC-11_FLAG_W,CFC-12,CFC-12_FLAG_W,TRITUM,TRITUM_FLAG_W,HELIUM,HELIUM_FLAG_W,DELHE3,DELHE3_FLAG_W,NEON,NEON_FLAG_W,CTDRAW,HELIER,DELHER,NEONER,THETA,TRITER
,,,,,,,,,,,,DBAR,ITS-90,PSS-78,,PSS-78,,UMOL/KG,,UMOL/KG,,UMOL/KG,,UMOL/KG,,UMOL/KG,,UMOL/KG,,PMOL/KG,,PMOL/KG,,TU,,NMOL/KG,,PERCNT,,NMOL/KG,,,NMOL/KG,PERCNT,NMOL/KG,ITS-90,TU
     32MW893_3,  P04E,   144,  1,     24,     24,2,19890418,0548,  9.4983,-142.0000, 5060,      5.9,  26.1382,  34.7610,2,  34.7638,2,   -999.0,5,    219.0,2,     1.29,2,     0.39,2,     0.00,2,     0.28,2,    1.719,2,    0.941,2, -999.000,9,-999.0000,9,  -999.00,9,-999.000,9,   -999,-999.0000,-999.000,-999.000, 26.1369,-999.000
     32MW893_3,  P04E,   144,  1,     23,     23,2,19890418,0548,  9.4983,-142.0000, 5060,     46.9,  26.1332,  34.7601,2,  34.7577,2,   -999.0,5,    219.0,2,     1.49,2,     0.49,2,     0.00,2,     0.39,2,    1.714,2,    0.932,2, -999.000,9,-999.0000,9,  -999.00,9,-999.000,9,   -999,-999.0000,-999.000,-999.000, 26.1227,-999.000
     32MW893_3,  P04E,   144,  1,     22,     22,2,19890418,0548,  9.4983,-142.0000, 5060,     95.4,  16.0837,  34.4069,2,  34.4434,2,   -999.0,5,    118.6,2,     9.52,2,    15.35,2,     0.46,2,     1.26,2,    1.585,2,    0.831,2, -999.000,9,-999.0000,9,  -999.00,9,-999.000,9,   -999,-999.0000,-999.000,-999.000, 16.0686,-999.000
     32MW893_3,  P04E,   144,  1,     21,     21,2,19890418,0548,  9.4983,-142.0000, 5060,    121.9,  13.0007,  34.6021,2,  34.6079,2,   -999.0,5,     20.0,2,    23.91,2,    31.08,2,     0.00,2,     2.33,2,    0.473,2,    0.257,2, -999.000,9,-999.0000,9,  -999.00,9,-999.000,9,   -999,-999.0000,-999.000,-999.000, 12.9840,-999.000
     32MW893_3,  P04E,   144,  1,     20,     20,2,19890418,0548,  9.4983,-142.0000, 5060,    146.6,  12.0350,  34.7212,2,  34.7182,2,   -999.0,5,     12.2,2,    27.48,2,    33.33,2,     0.00,2,     2.40,2,    0.187,2,    0.126,2, -999.000,9,-999.0000,9,  -999.00,9,-999.000,9,   -999,-999.0000,-999.000,-999.000, 12.0159,-999.000
     32MW893_3,  P04E,   144,  1,     19,     19,2,19890418,0548,  9.4983,-142.0000, 5060,    172.4,  11.5331,  34.7337,2,  34.7325,2,   -999.0,5,     15.2,2,    28.57,2,    33.82,2,     0.00,2,     2.39,2,    0.131,2,    0.081,2, -999.000,9,-999.0000,9,  -999.00,9,-999.000,9,   -999,-999.0000,-999.000,-999.000, 11.5113,-999.000
     32MW893_3,  P04E,   144,  1,     18,     18,2,19890418,0548,  9.4983,-142.0000, 5060,    197.8,  11.2113,  34.7378,2,  34.7319,2,   -999.0,5,     22.6,2,    29.17,2,    33.82,2,     0.00,2,     2.37,2,    0.121,2, -999.000,5, -999.000,9,-999.0000,9,  -999.00,9,-999.000,9,   -999,-999.0000,-999.000,-999.000, 11.1867,-999.000
     32MW893_3,  P04E,   144,  1,     17,     17,2,19890418,0548,  9.4983,-142.0000, 5060,    246.5,  10.6924,  34.7193,2,  34.7182,2,   -999.0,5,     24.3,2,    31.15,2,    34.40,2,     0.00,2,     2.48,2,    0.084,2, -999.000,5, -999.000,9,-999.0000,9,  -999.00,9,-999.000,9,   -999,-999.0000,-999.000,-999.000, 10.6626,-999.000
     32MW893_3,  P04E,   144,  1,     16,     16,2,19890418,0548,  9.4983,-142.0000, 5060,    297.4,  10.2057,  34.7054,2,  34.7021,2,   -999.0,5,     19.1,2,    32.94,2,    35.58,2,     0.00,2,     2.47,2,    0.056,2,    0.035,2, -999.000,9,-999.0000,9,  -999.00,9,-999.000,9,   -999,-999.0000,-999.000,-999.000, 10.1707,-999.000
     32MW893_3,  P04E,   144,  1,     15,     15,2,19890418,0548,  9.4983,-142.0000, 5060,    395.9,   9.3998,  34.6734,2,  34.6736,2,   -999.0,5,      7.4,2,    38.99,2,    37.24,2,     0.00,2,     2.69,2,    0.015,2, -999.000,5, -999.000,9,-999.0000,9,  -999.00,9,-999.000,9,   -999,-999.0000,-999.000,-999.000,  9.3554,-999.000
     32MW893_3,  P04E,   144,  1,     14,     14,2,19890418,0548,  9.4983,-142.0000, 5060,    496.5,   8.3942,  34.6058,2,  34.6081,2,   -999.0,5,     11.3,2,    47.33,2,    38.12,2,     0.00,2,     2.82,2,    0.013,2,    0.014,3, -999.000,9,-999.0000,9,  -999.00,9,-999.000,9,   -999,-999.0000,-999.000,-999.000,  8.3418,-999.000
     32MW893_3,  P04E,   144,  1,     13,     13,2,19890418,0548,  9.4983,-142.0000, 5060,    597.7,   7.3136,  34.5570,2,  34.5641,2,   -999.0,5,      9.6,2,    58.74,2,    39.98,2,     0.00,2,     3.00,2,    0.001,2,   -0.001,2, -999.000,9,-999.0000,9,  -999.00,9,-999.000,9,   -999,-999.0000,-999.000,-999.000,  7.2551,-999.000
     32MW893_3,  P04E,   144,  1,     12,     12,2,19890418,0548,  9.4983,-142.0000, 5060,    696.1,   6.2210,  34.5342,2,  34.5321,2,   -999.0,5,     12.6,2,    72.33,2,    42.52,2,     0.00,2,     3.11,2, -999.000,9, -999.000,9, -999.000,9,-999.0000,9,  -999.00,9,-999.000,9,   -999,-999.0000,-999.000,-999.000,  6.1580,-999.000
     32MW893_3,  P04E,   144,  1,     11,     11,2,19890418,0548,  9.4983,-142.0000, 5060,    796.4,   5.4693,  34.5343,2,  34.5331,2,   -999.0,5,     23.5,2,    81.96,2,    43.70,2,     0.00,2,     3.12,2,    0.001,2,    0.002,2, -999.000,9,-999.0000,9,  -999.00,9,-999.000,9,   -999,-999.0000,-999.000,-999.000,  5.4012,-999.000
     32MW893_3,  P04E,   144,  1,     10,     10,2,19890418,0548,  9.4983,-142.0000, 5060,    996.3,   4.4977,  34.5527,2,  34.5533,2,   -999.0,5,     40.4,2,    98.02,2,    43.69,2,     0.00,2,     3.11,2, -999.000,9, -999.000,9, -999.000,9,-999.0000,9,  -999.00,9,-999.000,9,   -999,-999.0000,-999.000,-999.000,  4.4184,-999.000
     32MW893_3,  P04E,   144,  1,      9,      9,2,19890418,0548,  9.4983,-142.0000, 5060,   1498.7,   2.8743,  34.6077,2,  34.6060,2,   -999.0,5,     77.8,2,   132.15,2,    41.54,2,     0.00,2,     2.92,2,    0.000,2,   -0.003,2, -999.000,9,-999.0000,9,  -999.00,9,-999.000,9,   -999,-999.0000,-999.000,-999.000,  2.7679,-999.000
     32MW893_3,  P04E,   144,  1,      8,      8,2,19890418,0548,  9.4983,-142.0000, 5060,   2001.6,   2.0837,  34.6494,2,  34.6490,2,   -999.0,5,     99.9,2,   151.40,2,    40.37,2,     0.00,2,     2.79,2, -999.000,9, -999.000,9, -999.000,9,-999.0000,9,  -999.00,9,-999.000,9,   -999,-999.0000,-999.000,-999.000,  1.9458,-999.000
     32MW893_3,  P04E,   144,  1,      7,      7,2,19890418,0548,  9.4983,-142.0000, 5060,   2499.2,   1.8208,  34.6671,2,  34.6647,2,   -999.0,5,    113.4,2,   156.06,2,    39.19,2,     0.00,2,     2.73,2,    0.001,2,   -0.003,2, -999.000,9,-999.0000,9,  -999.00,9,-999.000,9,   -999,-999.0000,-999.000,-999.000,  1.6438,-999.000
     32MW893_3,  P04E,   144,  1,      6,      6,2,19890418,0548,  9.4983,-142.0000, 5060,   3003.6,   1.6458,  34.6757,2,  34.6761,2,   -999.0,5,    129.0,2,   157.35,2,    38.31,2,     0.00,2,     2.61,2, -999.000,9, -999.000,9, -999.000,9,-999.0000,9,  -999.00,9,-999.000,9,   -999,-999.0000,-999.000,-999.000,  1.4255,-999.000
     32MW893_3,  P04E,   144,  1,      5,      5,2,19890418,0548,  9.4983,-142.0000, 5060,   3501.1,   1.4829,  34.6854,2,  34.6856,2,   -999.0,5,    147.3,2,   154.17,2,    37.24,2,     0.00,2,     2.53,2,   -0.002,2,   -0.005,2, -999.000,9,-999.0000,9,  -999.00,9,-999.000,9,   -999,-999.0000,-999.000,-999.000,  1.2171,-999.000
     32MW893_3,  P04E,   144,  1,      4,      4,2,19890418,0548,  9.4983,-142.0000, 5060,   4005.4,   1.3910,  34.6913,2,  34.6914,2,   -999.0,5,    162.5,2,   145.24,2,    36.16,2,     0.00,2,     2.44,2, -999.000,9, -999.000,9, -999.000,9,-999.0000,9,  -999.00,9,-999.000,9,   -999,-999.0000,-999.000,-999.000,  1.0745,-999.000
     32MW893_3,  P04E,   144,  1,      3,      3,2,19890418,0548,  9.4983,-142.0000, 5060,   4528.5,   1.3960,  34.6945,2,  34.6948,2,   -999.0,5,    170.3,2,   141.97,2,    35.58,2,     0.00,2,     2.42,2,    0.004,2,    0.006,2, -999.000,9,-999.0000,9,  -999.00,9,-999.000,9,   -999,-999.0000,-999.000,-999.000,  1.0209,-999.000
     32MW893_3,  P04E,   144,  1,      2,      2,2,19890418,0548,  9.4983,-142.0000, 5060,   5002.9,   1.4310,  34.6951,2,  34.6940,2,   -999.0,5,    172.9,2,   140.18,2,    35.38,2,     0.00,2,     2.39,2,    0.001,2,    0.003,2, -999.000,9,-999.0000,9,  -999.00,9,-999.000,9,   -999,-999.0000,-999.000,-999.000,  0.9987,-999.000
     32MW893_3,  P04E,   144,  1,      1,      1,2,19890418,0548,  9.4983,-142.0000, 5060,   5131.4,   1.4420,  34.6960,2,  34.6958,2,   -999.0,5,    174.2,2,   139.58,2,    35.28,2,     0.00,2,     2.41,2,   -0.002,2,   -0.005,2, -999.000,9,-999.0000,9,  -999.00,9,-999.000,9,   -999,-999.0000,-999.000,-999.000,  0.9936,-999.000
     32MW893_3,  P04E,   145,  1,     24,     24,2,19890418,1510,  9.4933,-141.1650, 5121,      6.4,  26.2032,  34.7785,2,  34.7832,2,   -999.0,5,    216.4,2,     0.10,2,     0.39,2,     0.02,2,     0.29,2,    1.730,2,    0.965,2, -999.000,9,-999.0000,9,  -999.00,9,-999.000,9,   -999,-999.0000,-999.000,-999.000, 26.2018,-999.000
     32MW893_3,  P04E,   145,  1,     23,     23,2,19890418,1510,  9.4933,-141.1650, 5121,     47.5,  26.2112,  34.7779,2,  34.7803,2,   -999.0,5,    214.6,2,     0.20,2,     0.49,2,     0.02,2,     0.29,2,    1.721,2,    0.922,2, -999.000,9,-999.0000,9,  -999.00,9,-999.000,9,   -999,-999.0000,-999.000,-999.000, 26.2006,-999.000
     32MW893_3,  P04E,   145,  1,     22,     22,2,19890418,1510,  9.4933,-141.1650, 5121,     97.2,  17.6073,  34.6265,2,  34.6406,2,   -999.0,5,    185.1,2,     2.08,2,     5.28,2,     0.21,2,     0.60,2,    2.149,2,    1.117,2, -999.000,9,-999.0000,9,  -999.00,9,-999.000,9,   -999,-999.0000,-999.000,-999.000, 17.5909,-999.000
     32MW893_3,  P04E,   145,  1,     21,     21,2,19890418,1510,  9.4933,-141.1650, 5121,    121.6,  13.6844,  34.6534,2,  34.6237,2,   -999.0,5,     20.0,2,    21.03,2,    30.79,2,     0.02,2,     2.34,2,    0.536,2,    0.272,2, -999.000,9,-999.0000,9,  -999.00,9,-999.000,9,   -999,-999.0000,-999.000,-999.000, 13.6672,-999.000
     32MW893_3,  P04E,   145,  1,     20,     20,2,19890418,1510,  9.4933,-141.1650, 5121,    147.7,  12.1020,  34.7132,2,  34.7068,2,   -999.0,5,     17.4,2,    25.39,2,    33.13,2,     0.01,2,     2.42,2,    0.223,2,    0.134,2, -999.000,9,-999.0000,9,  -999.00,9,-999.000,9,   -999,-999.0000,-999.000,-999.000, 12.0827,-999.000
     32MW893_3,  P04E,   145,  1,     19,     19,2,19890418,1510,  9.4933,-141.1650, 5121,    171.2,  11.5471,  34.7263,2,  34.7211,2,   -999.0,5,     19.1,2,    26.99,2,    33.62,2,     0.01,2,     2.47,2,    0.151,2, -999.000,5, -999.000,9,-999.0000,9,  -999.00,9,-999.000,9,   -999,-999.0000,-999.000,-999.000, 11.5254,-999.000
     32MW893_3,  P04E,   145,  1,     18,     18,2,19890418,1510,  9.4933,-141.1650, 5121,    197.7,  11.2352,  34.7264,2,  34.7249,2,   -999.0,5,     19.1,2,    27.97,2,    33.92,2,     0.01,2,     2.49,2,    0.116,2,    0.074,2, -999.000,9,-999.0000,9,  -999.00,9,-999.000,9,   -999,-999.0000,-999.000,-999.000, 11.2106,-999.000
     32MW893_3,  P04E,   145,  1,     17,     17,2,19890418,1510,  9.4933,-141.1650, 5121,    246.6,  10.6105,  34.7171,2,  34.7146,2,   -999.0,5,     23.5,2,    29.57,2,    34.70,2,     0.01,2,     2.49,2,    0.079,2, -999.000,5, -999.000,9,-999.0000,9,  -999.00,9,-999.000,9,   -999,-999.0000,-999.000,-999.000, 10.5808,-999.000
     32MW893_3,  P04E,   145,  1,     16,     16,2,19890418,1510,  9.4933,-141.1650, 5121,    296.3,  10.2037,  34.7040,2,  34.7050,2,   -999.0,5,     19.1,2,    31.45,2,    35.68,2,     0.00,2,     2.54,2,    0.053,2, -999.000,5, -999.000,9,-999.0000,9,  -999.00,9,-999.000,9,   -999,-999.0000,-999.000,-999.000, 10.1688,-999.000
     32MW893_3,  P04E,   145,  1,     15,     15,2,19890418,1510,  9.4933,-141.1650, 5121,    398.2,   9.3529,  34.6684,2,  34.6698,2,   -999.0,5,      7.8,2,    37.70,2,    37.24,2,     0.00,2,     2.70,2,    0.010,2, -999.000,5, -999.000,9,-999.0000,9,  -999.00,9,-999.000,9,   -999,-999.0000,-999.000,-999.000,  9.3083,-999.000
     32MW893_3,  P04E,   145,  1,     14,     14,2,19890418,1510,  9.4933,-141.1650, 5121,    497.8,   8.1793,  34.5818,2,  34.5808,2,   -999.0,5,     18.7,2,    46.83,2,    37.93,2,     0.00,2,     2.83,2,    0.017,2, -999.000,5, -999.000,9,-999.0000,9,  -999.00,9,-999.000,9,   -999,-999.0000,-999.000,-999.000,  8.1276,-999.000
     32MW893_3,  P04E,   145,  1,     13,     13,2,19890418,1510,  9.4933,-141.1650, 5121,    596.9,   7.0837,  34.5471,2,  34.5463,2,   -999.0,5,      9.1,2,    60.53,2,    40.37,2,     0.00,2,     3.04,2,   -0.001,2,    0.009,2, -999.000,9,-999.0000,9,  -999.00,9,-999.000,9,   -999,-999.0000,-999.000,-999.000,  7.0262,-999.000
     32MW893_3,  P04E,   145,  1,     12,     12,2,19890418,1510,  9.4933,-141.1650, 5121,    697.9,   6.0042,  34.5384,2,  34.5282,2,   -999.0,5,     12.2,2,    74.02,2,    43.11,2,     0.00,2,     3.15,2,   -0.002,2,    0.000,2, -999.000,9,-999.0000,9,  -999.00,9,-999.000,9,   -999,-999.0000,-999.000,-999.000,  5.9422,-999.000
     32MW893_3,  P04E,   145,  1,     11,     11,2,19890418,1510,  9.4933,-141.1650, 5121,    796.6,   5.2724,  34.5401,2,  34.5400,2,   -999.0,5,     20.9,2,    83.74,2,    44.38,2,     0.00,2,     3.20,2, -999.000,9, -999.000,9, -999.000,9,-999.0000,9,  -999.00,9,-999.000,9,   -999,-999.0000,-999.000,-999.000,  5.2056,-999.000
     32MW893_3,  P04E,   145,  1,     10,     10,2,19890418,1510,  9.4933,-141.1650, 5121,    996.7,   4.3198,  34.5581,2,  34.5584,2,   -999.0,5,     39.5,2,   100.80,2,    43.99,2,     0.00,2,     3.14,2,    0.007,2,    0.006,2, -999.000,9,-999.0000,9,  -999.00,9,-999.000,9,   -999,-999.0000,-999.000,-999.000,  4.2419,-999.000
     32MW893_3,  P04E,   145,  1,      9,      9,2,19890418,1510,  9.4933,-141.1650, 5121,   1499.0,   2.8783,  34.6060,2,  34.6060,2,   -999.0,5,     78.6,2,   131.26,2,    41.54,2,     0.00,2,     2.92,2, -999.000,9, -999.000,9, -999.000,9,-999.0000,9,  -999.00,9,-999.000,9,   -999,-999.0000,-999.000,-999.000,  2.7718,-999.000
     32MW893_3,  P04E,   145,  1,      8,      8,2,19890418,1510,  9.4933,-141.1650, 5121,   2000.1,   2.0917,  34.6480,2,  34.6468,2,   -999.0,5,     99.1,2,   150.80,2,    40.47,2,     0.00,2,     2.82,2,   -0.006,2,   -0.002,2, -999.000,9,-999.0000,9,  -999.00,9,-999.000,9,   -999,-999.0000,-999.000,-999.000,  1.9538,-999.000
     32MW893_3,  P04E,   145,  1,      7,      7,2,19890418,1510,  9.4933,-141.1650, 5121,   2501.4,   1.8308,  34.6655,2,  34.6641,2,   -999.0,5,    113.0,2,   156.15,2,    39.29,2,     0.00,2,     2.72,2, -999.000,9, -999.000,9, -999.000,9,-999.0000,9,  -999.00,9,-999.000,9,   -999,-999.0000,-999.000,-999.000,  1.6535,-999.000
     32MW893_3,  P04E,   145,  1,      6,      6,2,19890418,1510,  9.4933,-141.1650, 5121,   3000.1,   1.6538,  34.6752,2,  34.6747,2,   -999.0,5,    126.0,2,   159.13,2,    38.61,2,     0.00,2,     2.66,2,   -0.003,2,   -0.003,2, -999.000,9,-999.0000,9,  -999.00,9,-999.000,9,   -999,-999.0000,-999.000,-999.000,  1.4337,-999.000
     32MW893_3,  P04E,   145,  1,      5,      5,2,19890418,1510,  9.4933,-141.1650, 5121,   3502.1,   1.4979,  34.6828,2,  34.6858,2,   -999.0,5,    142.9,2,   156.55,2,    37.53,2,     0.00,2,     2.57,2, -999.000,9, -999.000,9, -999.000,9,-999.0000,9,  -999.00,9,-999.000,9,   -999,-999.0000,-999.000,-999.000,  1.2316,-999.000
     32MW893_3,  P04E,   145,  1,      4,      4,2,19890418,1510,  9.4933,-141.1650, 5121,   4003.7,   1.3820,  34.6909,2,-999.0000,5,   -999.0,5,   -999.0,5,   144.65,2,    36.36,2,     0.00,2,     2.47,2,    0.000,2,    0.004,2, -999.000,9,-999.0000,9,  -999.00,9,-999.000,9,   -999,-999.0000,-999.000,-999.000,  1.0659,-999.000
     32MW893_3,  P04E,   145,  1,      3,      3,2,19890418,1510,  9.4933,-141.1650, 5121,   4503.5,   1.3980,  34.6930,2,  34.6934,2,   -999.0,5,    169.0,2,   142.16,2,    35.68,2,     0.00,2,     2.42,2, -999.000,9, -999.000,9, -999.000,9,-999.0000,9,  -999.00,9,-999.000,9,   -999,-999.0000,-999.000,-999.000,  1.0258,-999.000
     32MW893_3,  P04E,   145,  1,      2,      2,2,19890418,1510,  9.4933,-141.1650, 5121,   5003.1,   1.4380,  34.6941,2,  34.6952,2,   -999.0,5,    171.6,2,   140.28,2,    35.38,2,     0.00,2,     2.41,2,    0.002,2, -999.000,5, -999.000,9,-999.0000,9,  -999.00,9,-999.000,9,   -999,-999.0000,-999.000,-999.000,  1.0054,-999.000
     32MW893_3,  P04E,   145,  1,      1,      1,2,19890418,1510,  9.4933,-141.1650, 5121,   5198.5,   1.4579,  34.6952,2,  34.6948,2,   -999.0,5,    172.1,2,   140.28,2,    35.38,2,     0.00,2,     2.41,2,   -0.004,2,    0.000,2, -999.000,9,-999.0000,9,  -999.00,9,-999.000,9,   -999,-999.0000,-999.000,-999.000,  1.0008,-999.000