BOTTLE,20020418WHPSIOdm
EXPOCODE,SECT_ID,STNNBR,CASTNO,SAMPNO,BTLNBR,BTLNBR_FLAG_W,DATE,TIME,LATITUDE,LONGITUDE,DEPTH,CTDPRS,CTDTMP,CTDSAL,CTDSAL_FLAG_W,SALNTY,SALNTY_FLAG_W,CTDOXY,CTDOXY_FLAG_W,OXYGEN,OXYGEN_FLAG_W,SILCAT,SILCAT_FLAG_W,NITRAT,NITRAT_FLAG_W,NITRIT,NITRIT_FLAG_W,PHSPHT,PHSPHT_FLAG_W,CFC-11,CFC-11_FLAG_W,CFC-12,CFC-12_FLAG_W,TRITUM,TRITUM_FLAG_W,HELIUM,HELIUM_FLAG_W,DELHE3,DELHE3_FLAG_W,NEON,NEON_FLAG_W,CTDRAW,HELIER,DELHER,NEONER,THETA,TRITER
,,,,,,,,,,,,DBAR,ITS-90,PSS-78,,PSS-78,,UMOL/KG,,UMOL/KG,,UMOL/KG,,UMOL/KG,,UMOL/KG,,UMOL/KG,,PMOL/KG,,PMOL/KG,,TU,,NMOL/KG,,PERCNT,,NMOL/KG,,,NMOL/KG,PERCNT,NMOL/KG,ITS-90,TU
     32MW893_3,  P04E,   126,  1,     24,     24,2,19890411,1206,  9.4933,-157.0133, 5260,      0.9,  26.5421,  34.6718,2,  34.6704,2,   -999.0,5,    205.5,2,     1.39,2,     0.00,2,    -0.01,2,     0.22,2,    1.711,2,    0.911,2, -999.000,9,-999.0000,9,  -999.00,9,-999.000,9,   -999,-999.0000,-999.000,-999.000, 26.5419,-999.000
     32MW893_3,  P04E,   126,  1,     23,     23,2,19890411,1206,  9.4933,-157.0133, 5260,     48.4,  26.5511,  34.6836,2,  34.6740,2,   -999.0,5,    205.5,2,     1.39,2,     0.10,2,    -0.01,2,     0.23,2,    1.786,2,    0.981,2, -999.000,9,-999.0000,9,  -999.00,9,-999.000,9,   -999,-999.0000,-999.000,-999.000, 26.5401,-999.000
     32MW893_3,  P04E,   126,  1,     22,     22,2,19890411,1206,  9.4933,-157.0133, 5260,     98.0,  19.9156,  34.9792,2,  34.9410,2,   -999.0,5,    192.4,2,     2.68,2,     1.86,2,     0.08,2,     0.35,2,    2.017,2,    1.058,2, -999.000,9,-999.0000,9,  -999.00,9,-999.000,9,   -999,-999.0000,-999.000,-999.000, 19.8976,-999.000
     32MW893_3,  P04E,   126,  1,     21,     21,2,19890411,1206,  9.4933,-157.0133, 5260,    148.8,  12.7097,  34.5863,2,  34.5779,2,   -999.0,5,     38.7,2,    23.71,2,    28.93,2,     0.03,2,     2.21,2,    0.582,2,    0.310,2, -999.000,9,-999.0000,9,  -999.00,9,-999.000,9,   -999,-999.0000,-999.000,-999.000, 12.6898,-999.000
     32MW893_3,  P04E,   126,  1,     20,     20,2,19890411,1206,  9.4933,-157.0133, 5260,    196.2,  11.1833,  34.6660,2,  34.6832,2,   -999.0,5,     30.4,2,    29.76,2,    32.74,2,     0.00,2,     2.38,2,    0.188,2, -999.000,5, -999.000,9,-999.0000,9,  -999.00,9,-999.000,9,   -999,-999.0000,-999.000,-999.000, 11.1589,-999.000
     32MW893_3,  P04E,   126,  1,     19,     19,2,19890411,1206,  9.4933,-157.0133, 5260,    246.6,  10.5805,  34.6954,2,  34.7013,2,   -999.0,5,     22.6,2,    31.55,2,    34.21,2,     0.00,2,     2.46,2,    0.093,2, -999.000,5, -999.000,9,-999.0000,9,  -999.00,9,-999.000,9,   -999,-999.0000,-999.000,-999.000, 10.5509,-999.000
     32MW893_3,  P04E,   126,  1,     18,     18,2,19890411,1206,  9.4933,-157.0133, 5260,    296.3,  10.0787,  34.6824,2,  34.6846,2,   -999.0,5,     29.1,2,    33.33,2,    34.80,2,     0.00,2,     2.48,2,    0.075,2, -999.000,5, -999.000,9,-999.0000,9,  -999.00,9,-999.000,9,   -999,-999.0000,-999.000,-999.000, 10.0441,-999.000
     32MW893_3,  P04E,   126,  1,     17,     17,2,19890411,1206,  9.4933,-157.0133, 5260,    396.2,   9.2590,  34.6620,2,  34.6637,2,   -999.0,5,     19.1,2,    37.80,2,    36.85,2,     0.00,2,     2.66,2,    0.028,2,    0.025,2, -999.000,9,-999.0000,9,  -999.00,9,-999.000,9,   -999,-999.0000,-999.000,-999.000,  9.2149,-999.000
     32MW893_3,  P04E,   126,  1,     16,     16,2,19890411,1206,  9.4933,-157.0133, 5260,    495.6,   8.2263,  34.6070,2,  34.6121,2,   -999.0,5,      8.7,2,    49.01,2,    37.53,2,     0.00,2,     2.95,2,    0.014,2,    0.013,2, -999.000,9,-999.0000,9,  -999.00,9,-999.000,9,   -999,-999.0000,-999.000,-999.000,  8.1746,-999.000
     32MW893_3,  P04E,   126,  1,     15,     15,2,19890411,1206,  9.4933,-157.0133, 5260,    596.8,   7.1297,  34.5582,2,  34.5588,2,   -999.0,5,     13.5,2,    59.73,2,    39.69,2,     0.00,2,     3.05,2,    0.009,2,    0.016,2, -999.000,9,-999.0000,9,  -999.00,9,-999.000,9,   -999,-999.0000,-999.000,-999.000,  7.0720,-999.000
     32MW893_3,  P04E,   126,  1,     14,     14,2,19890411,1206,  9.4933,-157.0133, 5260,    698.7,   6.3560,  34.5364,2,  34.5361,2,   -999.0,5,     23.9,2,    68.07,2,    41.25,2,     0.00,2,     3.08,2, -999.000,5,    0.015,2, -999.000,9,-999.0000,9,  -999.00,9,-999.000,9,   -999,-999.0000,-999.000,-999.000,  6.2920,-999.000
     32MW893_3,  P04E,   126,  1,     13,     13,2,19890411,1206,  9.4933,-157.0133, 5260,    796.7,   5.6572,  34.5345,2,  34.5341,2,   -999.0,5,     29.5,2,    77.59,2,    42.13,2,     0.00,2,     3.10,2, -999.000,9, -999.000,9, -999.000,9,-999.0000,9,  -999.00,9,-999.000,9,   -999,-999.0000,-999.000,-999.000,  5.5880,-999.000
     32MW893_3,  P04E,   126,  1,     12,     12,2,19890411,1206,  9.4933,-157.0133, 5260,    994.2,   4.6996,  34.5518,2,  34.5492,2,   -999.0,5,     49.5,2,    92.27,2,    42.23,2,     0.00,2,     3.09,2,    0.005,2, -999.000,5, -999.000,9,-999.0000,9,  -999.00,9,-999.000,9,   -999,-999.0000,-999.000,-999.000,  4.6190,-999.000
     32MW893_3,  P04E,   126,  1,     11,     11,2,19890411,1206,  9.4933,-157.0133, 5260,   1247.3,   3.7260,  34.5790,2,  34.5775,2,   -999.0,5,     62.6,2,   112.11,2,    41.74,2,     0.00,2,     3.06,2,    0.006,2, -999.000,5, -999.000,9,-999.0000,9,  -999.00,9,-999.000,9,   -999,-999.0000,-999.000,-999.000,  3.6318,-999.000
     32MW893_3,  P04E,   126,  1,     10,     10,2,19890411,1206,  9.4933,-157.0133, 5260,   1498.0,   2.8893,  34.6086,2,  34.6050,2,   -999.0,5,     81.3,2,   130.46,2,    40.96,2,     0.00,2,     2.95,2,    0.008,2,    0.008,2, -999.000,9,-999.0000,9,  -999.00,9,-999.000,9,   -999,-999.0000,-999.000,-999.000,  2.7828,-999.000
     32MW893_3,  P04E,   126,  1,      9,      9,2,19890411,1206,  9.4933,-157.0133, 5260,   1998.0,   2.1486,  34.6425,2,  34.6415,2,   -999.0,5,    101.7,2,   147.33,2,    40.08,2,     0.00,2,     2.83,2,    0.001,2,    0.007,2, -999.000,9,-999.0000,9,  -999.00,9,-999.000,9,   -999,-999.0000,-999.000,-999.000,  2.0100,-999.000
     32MW893_3,  P04E,   126,  1,      8,      8,2,19890411,1206,  9.4933,-157.0133, 5260,   2502.5,   1.8678,  34.6628,2,  34.6626,2,   -999.0,5,    115.1,2,   152.68,2,    39.10,2,     0.00,2,     2.75,2,    0.004,2,    0.001,2, -999.000,9,-999.0000,9,  -999.00,9,-999.000,9,   -999,-999.0000,-999.000,-999.000,  1.6897,-999.000
     32MW893_3,  P04E,   126,  1,      7,      7,2,19890411,1206,  9.4933,-157.0133, 5260,   3002.8,   1.6668,  34.6753,2,  34.6765,2,   -999.0,5,    127.7,2,   155.17,2,    38.12,2,     0.00,2,     2.68,2,    0.004,2,    0.006,2, -999.000,9,-999.0000,9,  -999.00,9,-999.000,9,   -999,-999.0000,-999.000,-999.000,  1.4461,-999.000
     32MW893_3,  P04E,   126,  1,      6,      6,2,19890411,1206,  9.4933,-157.0133, 5260,   3504.2,   1.5399,  34.6819,2,  34.6840,2,   -999.0,5,    143.0,2,   152.78,2,    37.24,2,     0.00,2,     2.59,2,    0.000,2,   -0.005,2, -999.000,9,-999.0000,9,  -999.00,9,-999.000,9,   -999,-999.0000,-999.000,-999.000,  1.2723,-999.000
     32MW893_3,  P04E,   126,  1,      5,      5,2,19890411,1206,  9.4933,-157.0133, 5260,   4003.7,   1.4170,  34.6898,2,  34.6907,2,   -999.0,5,    160.8,2,   144.44,2,    35.97,2,     0.00,2,     2.49,2,    0.002,2,    0.007,2, -999.000,9,-999.0000,9,  -999.00,9,-999.000,9,   -999,-999.0000,-999.000,-999.000,  1.0999,-999.000
     32MW893_3,  P04E,   126,  1,      3,      3,2,19890411,1206,  9.4933,-157.0133, 5260,   5003.1,   1.3860,  34.6969,2,  34.6977,2,   -999.0,5,    177.7,2,   135.42,2,    34.80,2,     0.00,2,     2.42,2,    0.002,2,    0.002,2, -999.000,9,-999.0000,9,  -999.00,9,-999.000,9,   -999,-999.0000,-999.000,-999.000,  0.9552,-999.000
     32MW893_3,  P04E,   126,  1,      2,      2,2,19890411,1206,  9.4933,-157.0133, 5260,   5338.3,   1.4180,  34.6980,2,  34.6983,2,   -999.0,5,    179.0,2,   134.52,2,    34.70,2,     0.01,2,     2.40,2,    0.001,2,    0.003,2, -999.000,9,-999.0000,9,  -999.00,9,-999.000,9,   -999,-999.0000,-999.000,-999.000,  0.9448,-999.000
     32MW893_3,  P04E,   126,  1,      1,      1,2,19890411,1206,  9.4933,-157.0133, 5260,   5338.3,   1.4180,  34.6980,2,  34.6966,2,   -999.0,5,    179.4,2,   134.63,2,    34.67,2,     0.01,2,     2.41,2,    0.000,2, -999.000,5, -999.000,9,-999.0000,9,  -999.00,9,-999.000,9,   -999,-999.0000,-999.000,-999.000,  0.9448,-999.000
     32MW893_3,  P04E,   127,  1,     24,     24,2,19890411,2121,  9.5000,-156.1783, 4690,      7.3,  26.5081,  34.5509,2,  34.5971,2,   -999.0,5,    211.2,2,     1.49,2,     0.00,2,     0.00,2,     0.22,2,    1.689,2, -999.000,5, -999.000,9,-999.0000,9,  -999.00,9,-999.000,9,   -999,-999.0000,-999.000,-999.000, 26.5065,-999.000
     32MW893_3,  P04E,   127,  1,     23,     23,2,19890411,2121,  9.5000,-156.1783, 4690,     47.7,  26.3942,  34.7956,2,  34.7909,2,   -999.0,5,    210.7,2,     1.58,2,     0.10,2,     0.00,2,     0.26,2,    1.724,2,    1.001,2, -999.000,9,-999.0000,9,  -999.00,9,-999.000,9,   -999,-999.0000,-999.000,-999.000, 26.3834,-999.000
     32MW893_3,  P04E,   127,  1,     22,     22,2,19890411,2121,  9.5000,-156.1783, 4690,     96.9,  17.2714,  34.6853,2,  34.7144,2,   -999.0,5,    177.3,2,     4.66,2,     5.67,2,     0.19,2,     0.60,2,    1.955,2,    1.040,2, -999.000,9,-999.0000,9,  -999.00,9,-999.000,9,   -999,-999.0000,-999.000,-999.000, 17.2553,-999.000
     32MW893_3,  P04E,   127,  1,     21,     21,2,19890411,2121,  9.5000,-156.1783, 4690,    147.6,  12.1670,  34.5676,2,  34.5363,2,   -999.0,5,     56.5,2,    24.11,2,    29.13,2,     0.00,2,     2.23,2,    0.622,2,    0.346,2, -999.000,9,-999.0000,9,  -999.00,9,-999.000,9,   -999,-999.0000,-999.000,-999.000, 12.1477,-999.000
     32MW893_3,  P04E,   127,  1,     20,     20,2,19890411,2121,  9.5000,-156.1783, 4690,    198.8,  10.9294,  34.6984,2,  34.6975,2,   -999.0,5,     11.3,2,    30.76,2,    34.31,2,     0.00,2,     2.54,2,    0.082,2, -999.000,5, -999.000,9,-999.0000,9,  -999.00,9,-999.000,9,   -999,-999.0000,-999.000,-999.000, 10.9051,-999.000
     32MW893_3,  P04E,   127,  1,     19,     19,2,19890411,2121,  9.5000,-156.1783, 4690,    248.8,  10.3605,  34.6950,2,  34.6926,2,   -999.0,5,     15.2,2,    32.73,2,    34.99,2,     0.00,2,     2.56,2,    0.054,2, -999.000,5, -999.000,9,-999.0000,9,  -999.00,9,-999.000,9,   -999,-999.0000,-999.000,-999.000, 10.3310,-999.000
     32MW893_3,  P04E,   127,  1,     18,     18,2,19890411,2121,  9.5000,-156.1783, 4690,    297.5,  10.0337,  34.6974,2,  34.6948,2,   -999.0,5,     16.9,2,    33.53,2,    35.97,2,     0.00,2,     2.56,2,    0.045,2,    0.027,2, -999.000,9,-999.0000,9,  -999.00,9,-999.000,9,   -999,-999.0000,-999.000,-999.000,  9.9991,-999.000
     32MW893_3,  P04E,   127,  1,     17,     17,2,19890411,2121,  9.5000,-156.1783, 4690,    398.9,   9.3249,  34.6684,2,  34.6671,2,   -999.0,5,      6.1,2,    38.79,2,    36.95,2,     0.00,2,     2.77,2,    0.010,2, -999.000,5, -999.000,9,-999.0000,9,  -999.00,9,-999.000,9,   -999,-999.0000,-999.000,-999.000,  9.2803,-999.000
     32MW893_3,  P04E,   127,  1,     16,     16,2,19890411,2121,  9.5000,-156.1783, 4690,    497.4,   8.4732,  34.6268,2,  34.6211,2,   -999.0,5,      7.0,2,    46.53,2,    37.63,2,     0.00,2,     2.93,2,    0.013,2,    0.007,2, -999.000,9,-999.0000,9,  -999.00,9,-999.000,9,   -999,-999.0000,-999.000,-999.000,  8.4204,-999.000
     32MW893_3,  P04E,   127,  1,     15,     15,2,19890411,2121,  9.5000,-156.1783, 4690,    597.0,   7.2637,  34.5576,2,  34.5565,2,   -999.0,5,     17.4,2,    57.25,2,    39.30,2,     0.00,2,     3.08,2,    0.005,2,    0.007,2, -999.000,9,-999.0000,9,  -999.00,9,-999.000,9,   -999,-999.0000,-999.000,-999.000,  7.2054,-999.000
     32MW893_3,  P04E,   127,  1,     14,     14,2,19890411,2121,  9.5000,-156.1783, 4690,    796.7,   5.6342,  34.5353,2,  34.5353,2,   -999.0,5,     31.7,2,    76.20,2,    42.72,2,     0.00,2,     3.11,2, -999.000,5,    0.013,2, -999.000,9,-999.0000,9,  -999.00,9,-999.000,9,   -999,-999.0000,-999.000,-999.000,  5.5652,-999.000
     32MW893_3,  P04E,   127,  1,     13,     13,2,19890411,2121,  9.5000,-156.1783, 4690,    998.6,   4.4667,  34.5576,2,  34.5571,2,   -999.0,5,     50.0,2,    95.75,2,    43.01,2,     0.00,2,     3.11,2,    0.005,2,    0.011,2, -999.000,9,-999.0000,9,  -999.00,9,-999.000,9,   -999,-999.0000,-999.000,-999.000,  4.3875,-999.000
     32MW893_3,  P04E,   127,  1,     12,     12,2,19890411,2121,  9.5000,-156.1783, 4690,   1246.6,   3.6750,  34.5806,2,  34.5812,2,   -999.0,5,     63.0,2,   112.31,2,    42.23,2,     0.00,2,     3.06,2,    0.002,2, -999.000,5, -999.000,9,-999.0000,9,  -999.00,9,-999.000,9,   -999,-999.0000,-999.000,-999.000,  3.5813,-999.000
     32MW893_3,  P04E,   127,  1,     11,     11,2,19890411,2121,  9.5000,-156.1783, 4690,   1496.8,   3.0013,  34.6015,2,  34.6009,2,   -999.0,5,   -999.0,5,   126.90,2,    41.64,2,     0.00,2,     2.98,2, -999.000,9, -999.000,9, -999.000,9,-999.0000,9,  -999.00,9,-999.000,9,   -999,-999.0000,-999.000,-999.000,  2.8936,-999.000
     32MW893_3,  P04E,   127,  1,     10,     10,2,19890411,2121,  9.5000,-156.1783, 4690,   1999.1,   2.1806,  34.6409,2,  34.6408,2,   -999.0,5,    100.4,2,   145.44,2,    39.68,2,     0.00,2,     2.83,2,    0.011,2, -999.000,5, -999.000,9,-999.0000,9,  -999.00,9,-999.000,9,   -999,-999.0000,-999.000,-999.000,  2.0414,-999.000
     32MW893_3,  P04E,   127,  1,      9,      9,2,19890411,2121,  9.5000,-156.1783, 4690,   2348.2,   1.9367,  34.6568,2,-999.0000,5,   -999.0,5,    110.8,2,   150.01,2,    39.39,2,     0.00,2,     2.78,2, -999.000,9, -999.000,9, -999.000,9,-999.0000,9,  -999.00,9,-999.000,9,   -999,-999.0000,-999.000,-999.000,  1.7713,-999.000
     32MW893_3,  P04E,   127,  1,      8,      8,2,19890411,2121,  9.5000,-156.1783, 4690,   2698.9,   1.7868,  34.6675,2,  34.6665,2,   -999.0,5,    120.4,2,   153.38,2,    39.00,2,     0.00,2,     2.73,2, -999.000,9, -999.000,9, -999.000,9,-999.0000,9,  -999.00,9,-999.000,9,   -999,-999.0000,-999.000,-999.000,  1.5922,-999.000
     32MW893_3,  P04E,   127,  1,      7,      7,2,19890411,2121,  9.5000,-156.1783, 4690,   3001.1,   1.6978,  34.6738,2,  34.6742,2,   -999.0,5,    125.6,2,   153.97,2,    38.61,2,     0.00,2,     2.70,2, -999.000,9, -999.000,9, -999.000,9,-999.0000,9,  -999.00,9,-999.000,9,   -999,-999.0000,-999.000,-999.000,  1.4765,-999.000
     32MW893_3,  P04E,   127,  1,      6,      6,2,19890411,2121,  9.5000,-156.1783, 4690,   3354.7,   1.5788,  34.6798,2,  34.6806,2,   -999.0,5,    136.9,2,   153.38,2,    37.92,2,     0.00,2,     2.65,2,    0.000,2,   -0.005,2, -999.000,9,-999.0000,9,  -999.00,9,-999.000,9,   -999,-999.0000,-999.000,-999.000,  1.3255,-999.000
     32MW893_3,  P04E,   127,  1,      5,      5,2,19890411,2121,  9.5000,-156.1783, 4690,   3705.3,   1.4669,  34.6862,2,  34.6873,2,   -999.0,5,    151.2,2,   147.92,2,    36.75,2,     0.00,2,     2.58,2, -999.000,9, -999.000,9, -999.000,9,-999.0000,9,  -999.00,9,-999.000,9,   -999,-999.0000,-999.000,-999.000,  1.1804,-999.000
     32MW893_3,  P04E,   127,  1,      4,      4,2,19890411,2121,  9.5000,-156.1783, 4690,   4003.4,   1.3930,  34.6908,2,  34.6867,2,   -999.0,5,    157.3,2,   140.97,2,    36.36,2,     0.00,2,     2.52,2,    0.001,2,   -0.005,2, -999.000,9,-999.0000,9,  -999.00,9,-999.000,9,   -999,-999.0000,-999.000,-999.000,  1.0767,-999.000
     32MW893_3,  P04E,   127,  1,      3,      3,2,19890411,2121,  9.5000,-156.1783, 4690,   4352.8,   1.3450,  34.6949,2,  34.6936,2,   -999.0,5,    173.4,2,   136.71,2,    35.38,2,     0.00,2,     2.43,2, -999.000,9, -999.000,9, -999.000,9,-999.0000,9,  -999.00,9,-999.000,9,   -999,-999.0000,-999.000,-999.000,  0.9915,-999.000
     32MW893_3,  P04E,   127,  1,      2,      2,2,19890411,2121,  9.5000,-156.1783, 4690,   4761.2,   1.3650,  34.6970,2,  34.6968,2,   -999.0,5,    178.6,2,   134.63,2,    35.09,2,     0.00,2,     2.42,2, -999.000,9, -999.000,9, -999.000,9,-999.0000,9,  -999.00,9,-999.000,9,   -999,-999.0000,-999.000,-999.000,  0.9638,-999.000
     32MW893_3,  P04E,   127,  1,      1,      1,2,19890411,2121,  9.5000,-156.1783, 4690,   4761.5,   1.3650,  34.6968,2,-999.0000,5,   -999.0,5,    176.8,2,   134.73,2,    35.09,2,     0.00,2,     2.42,2,   -0.002,2,   -0.005,2, -999.000,9,-999.0000,9,  -999.00,9,-999.000,9,   -999,-999.0000,-999.000,-999.000,  0.9638,-999.000