BOTTLE,20020418WHPSIOdm
EXPOCODE,SECT_ID,STNNBR,CASTNO,SAMPNO,BTLNBR,BTLNBR_FLAG_W,DATE,TIME,LATITUDE,LONGITUDE,DEPTH,CTDPRS,CTDTMP,CTDSAL,CTDSAL_FLAG_W,SALNTY,SALNTY_FLAG_W,CTDOXY,CTDOXY_FLAG_W,OXYGEN,OXYGEN_FLAG_W,SILCAT,SILCAT_FLAG_W,NITRAT,NITRAT_FLAG_W,NITRIT,NITRIT_FLAG_W,PHSPHT,PHSPHT_FLAG_W,CFC-11,CFC-11_FLAG_W,CFC-12,CFC-12_FLAG_W,TRITUM,TRITUM_FLAG_W,HELIUM,HELIUM_FLAG_W,DELHE3,DELHE3_FLAG_W,NEON,NEON_FLAG_W,CTDRAW,HELIER,DELHER,NEONER,THETA,TRITER
,,,,,,,,,,,,DBAR,ITS-90,PSS-78,,PSS-78,,UMOL/KG,,UMOL/KG,,UMOL/KG,,UMOL/KG,,UMOL/KG,,UMOL/KG,,PMOL/KG,,PMOL/KG,,TU,,NMOL/KG,,PERCNT,,NMOL/KG,,,NMOL/KG,PERCNT,NMOL/KG,ITS-90,TU
     32MW893_3,  P04E,   180,  1,     24,     24,2,19890430,1312,  9.4900,-112.0033, 3844,      7.8,  27.9558,  34.1874,2,  34.1864,2,   -999.0,5,    212.1,2,     1.18,2,     0.10,2,     0.00,2,     0.26,2,    1.574,3,    0.940,2, -999.000,9,-999.0000,9,  -999.00,9,-999.000,9,   -999,-999.0000,-999.000,-999.000, 27.9540,-999.000
     32MW893_3,  P04E,   180,  1,     23,     23,2,19890430,1312,  9.4900,-112.0033, 3844,     48.1,  22.9619,  34.3179,2,-999.0000,5,   -999.0,5,    166.0,2,     4.63,2,     6.94,2,     0.29,2,     0.81,2,    1.440,2,    0.844,2, -999.000,9,-999.0000,9,  -999.00,9,-999.000,9,   -999,-999.0000,-999.000,-999.000, 22.9521,-999.000
     32MW893_3,  P04E,   180,  1,     22,     22,2,19890430,1312,  9.4900,-112.0033, 3844,     98.2,  13.2506,  34.8066,2,  34.8000,2,   -999.0,5,      8.7,2,    24.33,2,    32.45,2,     0.01,2,     2.32,2,    0.302,2,    0.167,2, -999.000,9,-999.0000,9,  -999.00,9,-999.000,9,   -999,-999.0000,-999.000,-999.000, 13.2370,-999.000
     32MW893_3,  P04E,   180,  1,     21,     21,2,19890430,1312,  9.4900,-112.0033, 3844,    122.4,  12.4908,  34.7845,2,  34.7854,2,   -999.0,5,     11.7,2,    26.29,2,    32.84,2,     0.01,2,     2.32,2,    0.233,2, -999.000,5, -999.000,9,-999.0000,9,  -999.00,9,-999.000,9,   -999,-999.0000,-999.000,-999.000, 12.4745,-999.000
     32MW893_3,  P04E,   180,  1,     20,     20,2,19890430,1312,  9.4900,-112.0033, 3844,    147.9,  12.0550,  34.7796,2,  34.7783,2,   -999.0,5,     17.4,2,    27.38,2,    32.84,2,     0.01,2,     2.34,2,    0.196,2, -999.000,5, -999.000,9,-999.0000,9,  -999.00,9,-999.000,9,   -999,-999.0000,-999.000,-999.000, 12.0357,-999.000
     32MW893_3,  P04E,   180,  1,     19,     19,2,19890430,1312,  9.4900,-112.0033, 3844,    172.0,  11.5681,  34.7537,2,  34.7557,2,   -999.0,5,     23.9,2,    28.66,2,    32.84,2,     0.01,2,     2.36,2,    0.161,2,    0.111,2, -999.000,9,-999.0000,9,  -999.00,9,-999.000,9,   -999,-999.0000,-999.000,-999.000, 11.5463,-999.000
     32MW893_3,  P04E,   180,  1,     18,     18,2,19890430,1312,  9.4900,-112.0033, 3844,    197.5,  11.2912,  34.7898,2,  34.7522,2,   -999.0,5,     23.0,2,    29.55,2,    33.13,2,     0.01,2,     2.37,2,    0.140,2,    0.086,2, -999.000,9,-999.0000,9,  -999.00,9,-999.000,9,   -999,-999.0000,-999.000,-999.000, 11.2665,-999.000
     32MW893_3,  P04E,   180,  1,     17,     17,2,19890430,1312,  9.4900,-112.0033, 3844,    246.7,  10.6354,  34.7205,2,  34.7249,2,   -999.0,5,     23.5,2,    31.51,2,    34.01,2,     0.01,2,     2.38,2,    0.102,2,    0.070,2, -999.000,9,-999.0000,9,  -999.00,9,-999.000,9,   -999,-999.0000,-999.000,-999.000, 10.6058,-999.000
     32MW893_3,  P04E,   180,  1,     16,     16,2,19890430,1312,  9.4900,-112.0033, 3844,    298.6,  10.2515,  34.7149,2,  34.7133,2,   -999.0,5,     20.4,2,    33.68,2,    34.89,2,     0.01,2,     2.45,2,    0.070,2, -999.000,5, -999.000,9,-999.0000,9,  -999.00,9,-999.000,9,   -999,-999.0000,-999.000,-999.000, 10.2162,-999.000
     32MW893_3,  P04E,   180,  1,     15,     15,2,19890430,1312,  9.4900,-112.0033, 3844,    397.7,   9.5248,  34.6758,2,  34.6848,2,   -999.0,5,      7.8,2,    39.39,2,    35.77,2,     0.01,2,     2.70,2,    0.028,2, -999.000,5, -999.000,9,-999.0000,9,  -999.00,9,-999.000,9,   -999,-999.0000,-999.000,-999.000,  9.4797,-999.000
     32MW893_3,  P04E,   180,  1,     14,     14,2,19890430,1312,  9.4900,-112.0033, 3844,    496.2,   8.3243,  34.6149,2,  34.6197,2,   -999.0,5,      5.2,2,    50.03,2,    37.34,2,     0.00,2,     2.93,2,    0.006,2,    0.001,2, -999.000,9,-999.0000,9,  -999.00,9,-999.000,9,   -999,-999.0000,-999.000,-999.000,  8.2722,-999.000
     32MW893_3,  P04E,   180,  1,     13,     13,2,19890430,1312,  9.4900,-112.0033, 3844,    596.1,   7.2707,  34.5869,2,  34.5785,2,   -999.0,5,      5.2,2,    59.68,2,    39.49,2,     0.01,2,     3.09,2,    0.009,2,    0.008,2, -999.000,9,-999.0000,9,  -999.00,9,-999.000,9,   -999,-999.0000,-999.000,-999.000,  7.2124,-999.000
     32MW893_3,  P04E,   180,  1,     12,     12,2,19890430,1312,  9.4900,-112.0033, 3844,    696.8,   6.2480,  34.5637,2,  34.5614,2,   -999.0,5,      5.2,2,    69.63,2,    42.33,2,     0.01,2,     3.18,2,    0.002,2, -999.000,5, -999.000,9,-999.0000,9,  -999.00,9,-999.000,9,   -999,-999.0000,-999.000,-999.000,  6.1848,-999.000
     32MW893_3,  P04E,   180,  1,     11,     11,2,19890430,1312,  9.4900,-112.0033, 3844,    796.8,   5.6223,  34.5606,2,  34.5569,2,   -999.0,5,     15.2,2,    78.69,2,    44.09,2,     0.01,2,     3.22,2,    0.001,2,    0.007,2, -999.000,9,-999.0000,9,  -999.00,9,-999.000,9,   -999,-999.0000,-999.000,-999.000,  5.5532,-999.000
     32MW893_3,  P04E,   180,  1,     10,     10,2,19890430,1312,  9.4900,-112.0033, 3844,    897.6,   5.1585,  34.5578,2,  34.5545,2,   -999.0,5,     24.3,2,    84.80,2,    44.09,2,     0.00,2,     3.19,2, -999.000,9, -999.000,9, -999.000,9,-999.0000,9,  -999.00,9,-999.000,9,   -999,-999.0000,-999.000,-999.000,  5.0832,-999.000
     32MW893_3,  P04E,   180,  1,      9,      9,2,19890430,1312,  9.4900,-112.0033, 3844,    997.9,   4.7286,  34.5610,2,  34.5610,2,   -999.0,5,     28.2,2,    94.15,2,    44.38,2,     0.00,2,     3.24,2,    0.012,2, -999.000,5, -999.000,9,-999.0000,9,  -999.00,9,-999.000,9,   -999,-999.0000,-999.000,-999.000,  4.6474,-999.000
     32MW893_3,  P04E,   180,  1,      8,      8,2,19890430,1312,  9.4900,-112.0033, 3844,   1248.1,   3.7830,  34.5900,2,  34.5877,2,   -999.0,5,     51.7,2,   111.38,2,    42.81,2,     0.00,2,     3.10,2, -999.000,9, -999.000,9, -999.000,9,-999.0000,9,  -999.00,9,-999.000,9,   -999,-999.0000,-999.000,-999.000,  3.6881,-999.000
     32MW893_3,  P04E,   180,  1,      7,      7,2,19890430,1312,  9.4900,-112.0033, 3844,   1496.4,   3.2442,  34.6044,2,  34.6007,2,   -999.0,5,     64.3,2,   124.08,2,    42.23,2,     0.00,2,     3.06,2, -999.000,9, -999.000,9, -999.000,9,-999.0000,9,  -999.00,9,-999.000,9,   -999,-999.0000,-999.000,-999.000,  3.1338,-999.000
     32MW893_3,  P04E,   180,  1,      6,      6,2,19890430,1312,  9.4900,-112.0033, 3844,   1749.3,   2.7394,  34.6171,2,  34.6189,2,   -999.0,5,     83.0,2,   132.94,2,    40.96,2,     0.00,2,     2.90,2, -999.000,9, -999.000,9, -999.000,9,-999.0000,9,  -999.00,9,-999.000,9,   -999,-999.0000,-999.000,-999.000,  2.6137,-999.000
     32MW893_3,  P04E,   180,  1,      5,      5,2,19890430,1312,  9.4900,-112.0033, 3844,   1999.4,   2.3445,  34.6380,2,  34.6388,2,   -999.0,5,     90.8,2,   143.98,2,    40.37,2,     0.00,2,     2.86,2, -999.000,9, -999.000,9, -999.000,9,-999.0000,9,  -999.00,9,-999.000,9,   -999,-999.0000,-999.000,-999.000,  2.2029,-999.000
     32MW893_3,  P04E,   180,  1,      4,      4,2,19890430,1312,  9.4900,-112.0033, 3844,   2499.8,   1.9077,  34.6653,2,  34.6669,2,   -999.0,5,    109.1,2,   154.71,2,    38.90,2,     0.00,2,     2.76,2, -999.000,9, -999.000,9, -999.000,9,-999.0000,9,  -999.00,9,-999.000,9,   -999,-999.0000,-999.000,-999.000,  1.7292,-999.000
     32MW893_3,  P04E,   180,  1,      3,      3,2,19890430,1312,  9.4900,-112.0033, 3844,   3002.1,   1.7698,  34.6738,2,  34.6734,2,   -999.0,5,    119.5,2,   155.69,2,    38.32,2,     0.00,2,     2.69,2, -999.000,9, -999.000,9, -999.000,9,-999.0000,9,  -999.00,9,-999.000,9,   -999,-999.0000,-999.000,-999.000,  1.5468,-999.000
     32MW893_3,  P04E,   180,  1,      2,      2,2,19890430,1312,  9.4900,-112.0033, 3844,   3504.1,   1.6208,  34.6816,2,  34.6834,2,   -999.0,5,    134.7,2,   155.10,2,    37.53,2,     0.00,2,     2.64,2, -999.000,9, -999.000,9, -999.000,9,-999.0000,9,  -999.00,9,-999.000,9,   -999,-999.0000,-999.000,-999.000,  1.3512,-999.000
     32MW893_3,  P04E,   180,  1,      1,      1,2,19890430,1312,  9.4900,-112.0033, 3844,   3917.2,   1.5609,  34.6839,2,  34.6834,2,   -999.0,5,    141.6,2,   153.72,2,    37.14,2,     0.00,2,     2.58,2,    0.001,2,    0.005,2, -999.000,9,-999.0000,9,  -999.00,9,-999.000,9,   -999,-999.0000,-999.000,-999.000,  1.2493,-999.000
     32MW893_3,  P04E,   181,  1,     24,     24,2,19890430,2044,  9.6700,-111.1667, 3576,      7.1,  28.1988,  34.3309,2,  34.3354,2,   -999.0,5,    216.9,2,     0.49,2,     0.00,2,     0.00,2,     0.22,2,    1.608,2, -999.000,5, -999.000,9,-999.0000,9,  -999.00,9,-999.000,9,   -999,-999.0000,-999.000,-999.000, 28.1971,-999.000
     32MW893_3,  P04E,   181,  1,     23,     23,2,19890430,2044,  9.6700,-111.1667, 3576,     46.1,  23.9656,  34.3926,2,  34.4061,2,   -999.0,5,    148.6,2,     5.42,2,     8.60,2,     0.67,2,     0.88,2,    1.371,2,    0.789,2, -999.000,9,-999.0000,9,  -999.00,9,-999.000,9,   -999,-999.0000,-999.000,-999.000, 23.9559,-999.000
     32MW893_3,  P04E,   181,  1,     22,     22,2,19890430,2044,  9.6700,-111.1667, 3576,     97.5,  13.3126,  34.7784,2,  34.7772,2,   -999.0,5,     10.4,2,    23.93,2,    32.25,2,     0.02,2,     2.31,2,    0.325,2,    0.204,2, -999.000,9,-999.0000,9,  -999.00,9,-999.000,9,   -999,-999.0000,-999.000,-999.000, 13.2990,-999.000
     32MW893_3,  P04E,   181,  1,     21,     21,2,19890430,2044,  9.6700,-111.1667, 3576,    121.4,  12.6288,  34.7707,2,  34.7801,2,   -999.0,5,     12.6,2,    25.40,2,    32.35,2,     0.01,2,     2.31,2,    0.257,2, -999.000,5, -999.000,9,-999.0000,9,  -999.00,9,-999.000,9,   -999,-999.0000,-999.000,-999.000, 12.6125,-999.000
     32MW893_3,  P04E,   181,  1,     20,     20,2,19890430,2044,  9.6700,-111.1667, 3576,    147.2,  12.0040,  34.7737,2,  34.7716,2,   -999.0,5,     21.3,2,    26.78,2,    32.15,2,     0.00,2,     2.28,2,    0.205,2,    0.123,2, -999.000,9,-999.0000,9,  -999.00,9,-999.000,9,   -999,-999.0000,-999.000,-999.000, 11.9849,-999.000
     32MW893_3,  P04E,   181,  1,     19,     19,2,19890430,2044,  9.6700,-111.1667, 3576,    172.3,  11.6821,  34.7664,2,  34.7608,2,   -999.0,5,     20.9,2,    27.86,2,    32.55,2,     0.00,2,     2.31,2,    0.166,2,    0.113,2, -999.000,9,-999.0000,9,  -999.00,9,-999.000,9,   -999,-999.0000,-999.000,-999.000, 11.6601,-999.000
     32MW893_3,  P04E,   181,  1,     18,     18,2,19890430,2044,  9.6700,-111.1667, 3576,    198.1,  11.3832,  34.7542,2,  34.7536,2,   -999.0,5,     22.2,2,    28.56,2,    32.64,2,     0.00,2,     2.31,2,    0.148,2, -999.000,5, -999.000,9,-999.0000,9,  -999.00,9,-999.000,9,   -999,-999.0000,-999.000,-999.000, 11.3583,-999.000
     32MW893_3,  P04E,   181,  1,     17,     17,2,19890430,2044,  9.6700,-111.1667, 3576,    246.0,  11.0174,  34.7438,2,  34.7416,2,   -999.0,5,     24.3,2,    29.74,2,    33.23,2,     0.00,2,     2.34,2,    0.128,2, -999.000,5, -999.000,9,-999.0000,9,  -999.00,9,-999.000,9,   -999,-999.0000,-999.000,-999.000, 10.9871,-999.000
     32MW893_3,  P04E,   181,  1,     16,     16,2,19890430,2044,  9.6700,-111.1667, 3576,    297.9,  10.6274,  34.7302,2,  34.7294,2,   -999.0,5,     26.5,2,    31.22,2,    33.43,2,     0.00,2,     2.37,2,    0.105,2, -999.000,5, -999.000,9,-999.0000,9,  -999.00,9,-999.000,9,   -999,-999.0000,-999.000,-999.000, 10.5915,-999.000
     32MW893_3,  P04E,   181,  1,     15,     15,2,19890430,2044,  9.6700,-111.1667, 3576,    396.8,   9.6898,  34.6889,2,  34.6840,2,   -999.0,5,      7.0,2,    38.21,2,    34.60,2,     0.00,2,     2.64,2,    0.026,2, -999.000,5, -999.000,9,-999.0000,9,  -999.00,9,-999.000,9,   -999,-999.0000,-999.000,-999.000,  9.6444,-999.000
     32MW893_3,  P04E,   181,  1,     14,     14,2,19890430,2044,  9.6700,-111.1667, 3576,    496.8,   8.8331,  34.6473,2,  34.6476,2,   -999.0,5,      4.3,2,    45.30,2,    35.58,2,     0.00,2,     2.82,2,    0.012,2, -999.000,5, -999.000,9,-999.0000,9,  -999.00,9,-999.000,9,   -999,-999.0000,-999.000,-999.000,  8.7790,-999.000
     32MW893_3,  P04E,   181,  1,     13,     13,2,19890430,2044,  9.6700,-111.1667, 3576,    597.4,   7.7344,  34.5930,2,  34.5907,2,   -999.0,5,      7.0,2,    54.86,2,    38.02,2,     0.00,2,     3.01,2, -999.000,9, -999.000,9, -999.000,9,-999.0000,9,  -999.00,9,-999.000,9,   -999,-999.0000,-999.000,-999.000,  7.6740,-999.000
     32MW893_3,  P04E,   181,  1,     12,     12,2,19890430,2044,  9.6700,-111.1667, 3576,    697.6,   6.5649,  34.5590,2,  34.5581,2,   -999.0,5,      4.3,2,    67.26,2,    41.64,2,     0.00,2,     3.15,2, -999.000,9, -999.000,9, -999.000,9,-999.0000,9,  -999.00,9,-999.000,9,   -999,-999.0000,-999.000,-999.000,  6.4999,-999.000
     32MW893_3,  P04E,   181,  1,     11,     11,2,19890430,2044,  9.6700,-111.1667, 3576,    796.7,   5.7802,  34.5521,2,  34.5514,2,   -999.0,5,      6.5,2,    78.20,2,    43.11,2,     0.00,2,     3.23,2,    0.001,2,    0.008,2, -999.000,9,-999.0000,9,  -999.00,9,-999.000,9,   -999,-999.0000,-999.000,-999.000,  5.7102,-999.000
     32MW893_3,  P04E,   181,  1,     10,     10,2,19890430,2044,  9.6700,-111.1667, 3576,    897.3,   5.3333,  34.5520,2,  34.5522,2,   -999.0,5,     13.5,2,    84.11,2,    43.99,2,     0.00,2,     3.22,2, -999.000,9, -999.000,9, -999.000,9,-999.0000,9,  -999.00,9,-999.000,9,   -999,-999.0000,-999.000,-999.000,  5.2568,-999.000
     32MW893_3,  P04E,   181,  1,      9,      9,2,19890430,2044,  9.6700,-111.1667, 3576,    997.0,   4.7945,  34.5601,2,  34.5582,2,   -999.0,5,     25.2,2,    92.18,2,    43.99,2,     0.00,2,     3.22,2,    0.005,2, -999.000,5, -999.000,9,-999.0000,9,  -999.00,9,-999.000,9,   -999,-999.0000,-999.000,-999.000,  4.7130,-999.000
     32MW893_3,  P04E,   181,  1,      8,      8,2,19890430,2044,  9.6700,-111.1667, 3576,   1197.6,   3.9500,  34.5809,2,  34.5785,2,   -999.0,5,     45.2,2,   108.13,2,    43.01,2,     0.00,2,     3.12,2, -999.000,9, -999.000,9, -999.000,9,-999.0000,9,  -999.00,9,-999.000,9,   -999,-999.0000,-999.000,-999.000,  3.8579,-999.000
     32MW893_3,  P04E,   181,  1,      7,      7,2,19890430,2044,  9.6700,-111.1667, 3576,   1498.1,   3.2302,  34.6025,2,  34.5993,2,   -999.0,5,     64.7,2,   123.69,2,    41.84,2,     0.00,2,     3.02,2, -999.000,9, -999.000,9, -999.000,9,-999.0000,9,  -999.00,9,-999.000,9,   -999,-999.0000,-999.000,-999.000,  3.1199,-999.000
     32MW893_3,  P04E,   181,  1,      6,      6,2,19890430,2044,  9.6700,-111.1667, 3576,   1798.9,   2.6245,  34.6235,2,-999.0000,5,   -999.0,5,     81.3,2,   137.38,2,    40.76,2,     0.00,2,     2.91,2, -999.000,9, -999.000,9, -999.000,9,-999.0000,9,  -999.00,9,-999.000,9,   -999,-999.0000,-999.000,-999.000,  2.4961,-999.000
     32MW893_3,  P04E,   181,  1,      5,      5,2,19890430,2044,  9.6700,-111.1667, 3576,   2101.3,   2.1716,  34.6490,2,  34.6496,2,   -999.0,5,     93.0,2,   149.20,2,    39.88,2,     0.00,2,     2.82,2, -999.000,9, -999.000,9, -999.000,9,-999.0000,9,  -999.00,9,-999.000,9,   -999,-999.0000,-999.000,-999.000,  2.0238,-999.000
     32MW893_3,  P04E,   181,  1,      4,      4,2,19890430,2044,  9.6700,-111.1667, 3576,   2501.5,   1.8997,  34.6655,2,  34.6663,2,   -999.0,5,    108.2,2,   154.71,2,    38.90,2,     0.00,2,     2.74,2,   -0.001,2,   -0.005,2, -999.000,9,-999.0000,9,  -999.00,9,-999.000,9,   -999,-999.0000,-999.000,-999.000,  1.7212,-999.000
     32MW893_3,  P04E,   181,  1,      3,      3,2,19890430,2044,  9.6700,-111.1667, 3576,   2902.1,   1.7838,  34.6740,2,  34.6728,2,   -999.0,5,    116.9,2,   156.18,2,    38.22,2,     0.00,2,     2.68,2, -999.000,9, -999.000,9, -999.000,9,-999.0000,9,  -999.00,9,-999.000,9,   -999,-999.0000,-999.000,-999.000,  1.5702,-999.000
     32MW893_3,  P04E,   181,  1,      2,      2,2,19890430,2044,  9.6700,-111.1667, 3576,   3203.5,   1.6998,  34.6762,2,  34.6767,2,   -999.0,5,    125.1,2,   155.69,2,    37.73,2,     0.00,2,     2.64,2, -999.000,9, -999.000,9, -999.000,9,-999.0000,9,  -999.00,9,-999.000,9,   -999,-999.0000,-999.000,-999.000,  1.4586,-999.000
     32MW893_3,  P04E,   181,  1,      1,      1,2,19890430,2044,  9.6700,-111.1667, 3576,   3627.9,   1.6348,  34.6797,2,  34.6814,2,   -999.0,5,    133.0,2,   155.00,2,    37.44,2,     0.00,2,     2.60,2,   -0.002,2,   -0.002,2, -999.000,9,-999.0000,9,  -999.00,9,-999.000,9,   -999,-999.0000,-999.000,-999.000,  1.3520,-999.000