BOTTLE,20020418WHPSIOdm
EXPOCODE,SECT_ID,STNNBR,CASTNO,SAMPNO,BTLNBR,BTLNBR_FLAG_W,DATE,TIME,LATITUDE,LONGITUDE,DEPTH,CTDPRS,CTDTMP,CTDSAL,CTDSAL_FLAG_W,SALNTY,SALNTY_FLAG_W,CTDOXY,CTDOXY_FLAG_W,OXYGEN,OXYGEN_FLAG_W,SILCAT,SILCAT_FLAG_W,NITRAT,NITRAT_FLAG_W,NITRIT,NITRIT_FLAG_W,PHSPHT,PHSPHT_FLAG_W,CFC-11,CFC-11_FLAG_W,CFC-12,CFC-12_FLAG_W,TRITUM,TRITUM_FLAG_W,HELIUM,HELIUM_FLAG_W,DELHE3,DELHE3_FLAG_W,NEON,NEON_FLAG_W,CTDRAW,HELIER,DELHER,NEONER,THETA,TRITER
,,,,,,,,,,,,DBAR,ITS-90,PSS-78,,PSS-78,,UMOL/KG,,UMOL/KG,,UMOL/KG,,UMOL/KG,,UMOL/KG,,UMOL/KG,,PMOL/KG,,PMOL/KG,,TU,,NMOL/KG,,PERCNT,,NMOL/KG,,,NMOL/KG,PERCNT,NMOL/KG,ITS-90,TU
     32MW893_3,  P04E,   196,  1,     24,     24,2,19890504,2138,  9.5083, -99.8600, 3576,      8.6,  29.1701,  34.1533,2,  34.1580,2,   -999.0,5,    216.0,2,     0.59,2,     0.10,2,     0.01,2,     0.25,2,    1.542,2,    0.865,2, -999.000,9,-999.0000,9,  -999.00,9,-999.000,9,   -999,-999.0000,-999.000,-999.000, 29.1680,-999.000
     32MW893_3,  P04E,   196,  1,     22,     22,2,19890504,2138,  9.5083, -99.8600, 3576,     98.9,  13.0948,  34.7969,2,  34.8361,2,   -999.0,5,      2.2,2,    24.62,2,    32.06,2,     0.00,2,     2.39,2,    0.260,2, -999.000,5, -999.000,9,-999.0000,9,  -999.00,9,-999.000,9,   -999,-999.0000,-999.000,-999.000, 13.0812,-999.000
     32MW893_3,  P04E,   196,  1,     21,     21,2,19890504,2138,  9.5083, -99.8600, 3576,    123.6,  12.7079,  34.8227,2,  34.8200,2,   -999.0,5,      2.2,2,    25.80,2,    31.76,2,     0.36,2,     2.42,2,    0.194,2,    0.129,2, -999.000,9,-999.0000,9,  -999.00,9,-999.000,9,   -999,-999.0000,-999.000,-999.000, 12.6913,-999.000
     32MW893_3,  P04E,   196,  1,     20,     20,2,19890504,2138,  9.5083, -99.8600, 3576,    148.7,  12.2382,  34.8077,2,  34.8029,2,   -999.0,5,      3.9,2,    26.49,2,    33.23,2,     0.01,2,     2.43,2,    0.170,2,    0.107,2, -999.000,9,-999.0000,9,  -999.00,9,-999.000,9,   -999,-999.0000,-999.000,-999.000, 12.2186,-999.000
     32MW893_3,  P04E,   196,  1,     19,     19,2,19890504,2138,  9.5083, -99.8600, 3576,    173.2,  11.9512,  34.7852,2,  34.7852,2,   -999.0,5,      9.6,2,    27.28,2,    33.52,2,     0.01,2,     2.42,2,    0.166,2,    0.100,2, -999.000,9,-999.0000,9,  -999.00,9,-999.000,9,   -999,-999.0000,-999.000,-999.000, 11.9287,-999.000
     32MW893_3,  P04E,   196,  1,     18,     18,2,19890504,2138,  9.5083, -99.8600, 3576,    197.4,  11.6224,  34.7650,2,  34.7646,2,   -999.0,5,     15.2,2,    27.96,2,    33.33,2,     0.01,2,     2.40,2,    0.152,2,    0.096,2, -999.000,9,-999.0000,9,  -999.00,9,-999.000,9,   -999,-999.0000,-999.000,-999.000, 11.5972,-999.000
     32MW893_3,  P04E,   196,  1,     17,     17,2,19890504,2138,  9.5083, -99.8600, 3576,    247.4,  11.0416,  34.7385,2,  34.7388,2,   -999.0,5,     20.4,2,    29.34,2,    33.82,2,     0.01,2,     2.42,2,    0.116,2, -999.000,5, -999.000,9,-999.0000,9,  -999.00,9,-999.000,9,   -999,-999.0000,-999.000,-999.000, 11.0111,-999.000
     32MW893_3,  P04E,   196,  1,     16,     16,2,19890504,2138,  9.5083, -99.8600, 3576,    296.9,  10.6019,  34.7180,2,  34.7219,2,   -999.0,5,     13.5,2,    31.41,2,    34.70,2,     0.02,2,     2.50,2,    0.073,2,    0.042,2, -999.000,9,-999.0000,9,  -999.00,9,-999.000,9,   -999,-999.0000,-999.000,-999.000, 10.5661,-999.000
     32MW893_3,  P04E,   196,  1,     15,     15,2,19890504,2138,  9.5083, -99.8600, 3576,    397.4,   9.4884,  34.6579,2,  34.6683,2,   -999.0,5,      3.0,2,    39.59,2,    34.80,2,     0.55,2,     2.76,2,    0.012,2, -999.000,5, -999.000,9,-999.0000,9,  -999.00,9,-999.000,9,   -999,-999.0000,-999.000,-999.000,  9.4435,-999.000
     32MW893_3,  P04E,   196,  1,     14,     14,2,19890504,2138,  9.5083, -99.8600, 3576,    495.6,   8.2081,  34.6121,2,  34.6028,2,   -999.0,5,      3.0,2,    53.48,2,    33.63,2,    -0.01,2,     3.03,2,    0.007,2, -999.000,5, -999.000,9,-999.0000,9,  -999.00,9,-999.000,9,   -999,-999.0000,-999.000,-999.000,  8.1565,-999.000
     32MW893_3,  P04E,   196,  1,     13,     13,2,19890504,2138,  9.5083, -99.8600, 3576,    594.4,   7.0607,  34.5715,2,  34.5736,2,   -999.0,5,      3.9,2,    64.21,2,    38.02,2,     0.00,2,     3.19,2,    0.011,2,    0.020,2, -999.000,9,-999.0000,9,  -999.00,9,-999.000,9,   -999,-999.0000,-999.000,-999.000,  7.0035,-999.000
     32MW893_3,  P04E,   196,  1,     12,     12,2,19890504,2138,  9.5083, -99.8600, 3576,    693.3,   6.1983,  34.5762,2,  34.5726,2,   -999.0,5,      4.8,2,    71.89,2,    43.01,2,     0.00,2,     3.25,2, -999.000,9, -999.000,9, -999.000,9,-999.0000,9,  -999.00,9,-999.000,9,   -999,-999.0000,-999.000,-999.000,  6.1357,-999.000
     32MW893_3,  P04E,   196,  1,     11,     11,2,19890504,2138,  9.5083, -99.8600, 3576,    794.0,   5.5927,  34.5551,2,  34.5669,2,   -999.0,5,     10.9,2,    79.77,2,    44.57,2,     0.00,2,     3.29,2, -999.000,9, -999.000,9, -999.000,9,-999.0000,9,  -999.00,9,-999.000,9,   -999,-999.0000,-999.000,-999.000,  5.5240,-999.000
     32MW893_3,  P04E,   196,  1,     10,     10,2,19890504,2138,  9.5083, -99.8600, 3576,    991.7,   4.6153,  34.5595,2,  34.5643,2,   -999.0,5,     22.6,2,    95.43,2,    44.97,2,     0.00,2,     3.29,2, -999.000,9, -999.000,9, -999.000,9,-999.0000,9,  -999.00,9,-999.000,9,   -999,-999.0000,-999.000,-999.000,  4.5355,-999.000
     32MW893_3,  P04E,   196,  1,      9,      9,2,19890504,2138,  9.5083, -99.8600, 3576,   1192.1,   3.8548,  34.5826,2,  34.5795,2,   -999.0,5,     32.2,2,   111.48,2,    44.77,2,     0.00,2,     3.28,2, -999.000,9, -999.000,9, -999.000,9,-999.0000,9,  -999.00,9,-999.000,9,   -999,-999.0000,-999.000,-999.000,  3.7640,-999.000
     32MW893_3,  P04E,   196,  1,      8,      8,2,19890504,2138,  9.5083, -99.8600, 3576,   1391.6,   3.2832,  34.5993,2,  34.5987,2,   -999.0,5,     51.3,2,   123.20,2,    43.40,2,     0.00,2,     3.17,2, -999.000,9, -999.000,9, -999.000,9,-999.0000,9,  -999.00,9,-999.000,9,   -999,-999.0000,-999.000,-999.000,  3.1812,-999.000
     32MW893_3,  P04E,   196,  1,      7,      7,2,19890504,2138,  9.5083, -99.8600, 3576,   1689.2,   2.6737,  34.6226,2,  34.6231,2,   -999.0,5,     75.2,2,   135.91,2,    41.64,2,     0.00,2,     3.00,2, -999.000,9, -999.000,9, -999.000,9,-999.0000,9,  -999.00,9,-999.000,9,   -999,-999.0000,-999.000,-999.000,  2.5539,-999.000
     32MW893_3,  P04E,   196,  1,      6,      6,2,19890504,2138,  9.5083, -99.8600, 3576,   1990.1,   2.1961,  34.6462,2,  34.6451,2,   -999.0,5,     93.4,2,   146.14,2,    40.27,2,     0.00,2,     2.85,2,    0.002,2, -999.000,5, -999.000,9,-999.0000,9,  -999.00,9,-999.000,9,   -999,-999.0000,-999.000,-999.000,  2.0574,-999.000
     32MW893_3,  P04E,   196,  1,      5,      5,2,19890504,2138,  9.5083, -99.8600, 3576,   2290.5,   1.9142,  34.6610,2,  34.6610,2,   -999.0,5,    106.0,2,   152.64,2,    39.29,2,     0.00,2,     2.78,2, -999.000,9, -999.000,9, -999.000,9,-999.0000,9,  -999.00,9,-999.000,9,   -999,-999.0000,-999.000,-999.000,  1.7542,-999.000
     32MW893_3,  P04E,   196,  1,      4,      4,2,19890504,2138,  9.5083, -99.8600, 3576,   2591.4,   1.8294,  34.6683,2,  34.6667,2,   -999.0,5,    112.1,2,   154.01,2,    38.71,2,     0.00,2,     2.75,2, -999.000,9, -999.000,9, -999.000,9,-999.0000,9,  -999.00,9,-999.000,9,   -999,-999.0000,-999.000,-999.000,  1.6439,-999.000
     32MW893_3,  P04E,   196,  1,      3,      3,2,19890504,2138,  9.5083, -99.8600, 3576,   2888.2,   1.8214,  34.6709,2,  34.6696,2,   -999.0,5,    115.1,2,   154.32,2,    38.61,2,     0.00,2,     2.73,2, -999.000,9, -999.000,9, -999.000,9,-999.0000,9,  -999.00,9,-999.000,9,   -999,-999.0000,-999.000,-999.000,  1.6083,-999.000
     32MW893_3,  P04E,   196,  1,      2,      2,2,19890504,2138,  9.5083, -99.8600, 3576,   3190.0,   1.8383,  34.6711,2,  34.6706,2,   -999.0,5,    117.8,2,   154.41,2,    38.61,2,     0.00,2,     2.72,2,    0.002,2, -999.000,5, -999.000,9,-999.0000,9,  -999.00,9,-999.000,9,   -999,-999.0000,-999.000,-999.000,  1.5953,-999.000
     32MW893_3,  P04E,   196,  1,      1,      1,2,19890504,2138,  9.5083, -99.8600, 3576,   3627.1,   1.8792,  34.6694,2,  34.6704,2,   -999.0,5,    117.8,2,   154.51,2,    38.51,2,     0.00,2,     2.72,2,    0.002,2,    0.007,2, -999.000,9,-999.0000,9,  -999.00,9,-999.000,9,   -999,-999.0000,-999.000,-999.000,  1.5903,-999.000
     32MW893_3,  P04E,   197,  1,     24,     24,2,19890505,0444,  9.5000, -98.9967, 3667,      9.0,  29.2011,  33.9508,2,  33.7240,2,   -999.0,5,    217.8,2,     0.49,2,     0.10,2,     0.00,2,     0.23,2,    1.575,2,    0.954,2, -999.000,9,-999.0000,9,  -999.00,9,-999.000,9,   -999,-999.0000,-999.000,-999.000, 29.1989,-999.000
     32MW893_3,  P04E,   197,  1,     23,     23,2,19890505,0444,  9.5000, -98.9967, 3667,     49.3,  23.4197,  34.4421,2,  34.4230,2,   -999.0,5,    163.4,2,     2.27,2,    10.66,2,     1.88,2,     1.11,2,    1.665,3,    0.912,2, -999.000,9,-999.0000,9,  -999.00,9,-999.000,9,   -999,-999.0000,-999.000,-999.000, 23.4095,-999.000
     32MW893_3,  P04E,   197,  1,     22,     22,2,19890505,0444,  9.5000, -98.9967, 3667,     98.6,  13.4337,  34.8682,2,  34.8312,2,   -999.0,5,      2.6,2,    23.04,2,    32.15,2,     0.00,2,     2.33,2,    0.352,2,    0.233,2, -999.000,9,-999.0000,9,  -999.00,9,-999.000,9,   -999,-999.0000,-999.000,-999.000, 13.4199,-999.000
     32MW893_3,  P04E,   197,  1,     21,     21,2,19890505,0444,  9.5000, -98.9967, 3667,    125.0,  12.8879,  34.8255,2,  34.8237,2,   -999.0,5,      7.8,2,    23.63,2,    32.54,2,     0.00,2,     2.32,2,    0.270,2,    0.161,2, -999.000,9,-999.0000,9,  -999.00,9,-999.000,9,   -999,-999.0000,-999.000,-999.000, 12.8709,-999.000
     32MW893_3,  P04E,   197,  1,     20,     20,2,19890505,0444,  9.5000, -98.9967, 3667,    148.1,  12.5730,  34.8092,2,  34.8173,2,   -999.0,5,      9.1,2,    25.80,2,    32.84,2,     0.00,2,     2.32,2,    0.224,2,    0.142,2, -999.000,9,-999.0000,9,  -999.00,9,-999.000,9,   -999,-999.0000,-999.000,-999.000, 12.5531,-999.000
     32MW893_3,  P04E,   197,  1,     19,     19,2,19890505,0444,  9.5000, -98.9967, 3667,    173.4,  12.0782,  34.8012,2,  34.7945,2,   -999.0,5,     13.9,2,    26.49,2,    32.35,2,     0.00,2,     2.33,2,    0.194,2, -999.000,5, -999.000,9,-999.0000,9,  -999.00,9,-999.000,9,   -999,-999.0000,-999.000,-999.000, 12.0555,-999.000
     32MW893_3,  P04E,   197,  1,     18,     18,2,19890505,0444,  9.5000, -98.9967, 3667,    198.3,  11.8324,  34.7800,2,  34.7768,2,   -999.0,5,     37.4,2,    26.58,2,    31.08,2,     0.00,2,     2.16,2,    0.255,2,    0.149,2, -999.000,9,-999.0000,9,  -999.00,9,-999.000,9,   -999,-999.0000,-999.000,-999.000, 11.8068,-999.000
     32MW893_3,  P04E,   197,  1,     17,     17,2,19890505,0444,  9.5000, -98.9967, 3667,    248.4,  11.2826,  34.7651,2,  34.7714,2,   -999.0,5,     26.5,2,    28.56,2,    33.33,2,     0.00,2,     2.27,2,    0.167,2, -999.000,5, -999.000,9,-999.0000,9,  -999.00,9,-999.000,9,   -999,-999.0000,-999.000,-999.000, 11.2515,-999.000
     32MW893_3,  P04E,   197,  1,     16,     16,2,19890505,0444,  9.5000, -98.9967, 3667,    296.8,  10.7788,  34.7518,2,  34.7445,2,   -999.0,5,     19.6,2,    31.61,2,    33.72,2,     0.00,2,     2.39,2,    0.112,2,    0.078,2, -999.000,9,-999.0000,9,  -999.00,9,-999.000,9,   -999,-999.0000,-999.000,-999.000, 10.7426,-999.000
     32MW893_3,  P04E,   197,  1,     15,     15,2,19890505,0444,  9.5000, -98.9967, 3667,    392.6,   9.7353,  34.6939,2,  34.6838,2,   -999.0,5,      2.2,2,    39.00,2,    34.21,2,     0.00,2,     2.68,2,    0.016,2, -999.000,5, -999.000,9,-999.0000,9,  -999.00,9,-999.000,9,   -999,-999.0000,-999.000,-999.000,  9.6902,-999.000
     32MW893_3,  P04E,   197,  1,     14,     14,2,19890505,0444,  9.5000, -98.9967, 3667,    495.2,   8.1471,  34.6083,2,  34.6050,2,   -999.0,5,      1.7,2,    54.76,2,    32.65,2,     0.80,2,     3.02,2,    0.004,2,    0.010,2, -999.000,9,-999.0000,9,  -999.00,9,-999.000,9,   -999,-999.0000,-999.000,-999.000,  8.0959,-999.000
     32MW893_3,  P04E,   197,  1,     13,     13,2,19890505,0444,  9.5000, -98.9967, 3667,    594.4,   7.0897,  34.5884,2,  34.5855,2,   -999.0,5,      1.7,2,    65.10,2,    37.93,2,     0.00,2,     3.15,2,    0.004,2,    0.008,2, -999.000,9,-999.0000,9,  -999.00,9,-999.000,9,   -999,-999.0000,-999.000,-999.000,  7.0324,-999.000
     32MW893_3,  P04E,   197,  1,     12,     12,2,19890505,0444,  9.5000, -98.9967, 3667,    693.6,   6.2732,  34.5784,2,  34.5769,2,   -999.0,5,      4.3,2,    72.29,2,    42.91,2,     0.00,2,     3.20,2, -999.000,9, -999.000,9, -999.000,9,-999.0000,9,  -999.00,9,-999.000,9,   -999,-999.0000,-999.000,-999.000,  6.2101,-999.000
     32MW893_3,  P04E,   197,  1,     11,     11,2,19890505,0444,  9.5000, -98.9967, 3667,    841.7,   5.4917,  34.5645,2,  34.5651,2,   -999.0,5,      9.6,2,    82.53,2,    44.48,2,     0.00,2,     3.26,2, -999.000,9, -999.000,9, -999.000,9,-999.0000,9,  -999.00,9,-999.000,9,   -999,-999.0000,-999.000,-999.000,  5.4193,-999.000
     32MW893_3,  P04E,   197,  1,     10,     10,2,19890505,0444,  9.5000, -98.9967, 3667,    992.5,   4.6623,  34.5673,2,  34.5663,2,   -999.0,5,     20.4,2,    96.91,2,    44.77,2,     0.00,2,     3.31,2, -999.000,9, -999.000,9, -999.000,9,-999.0000,9,  -999.00,9,-999.000,9,   -999,-999.0000,-999.000,-999.000,  4.5821,-999.000
     32MW893_3,  P04E,   197,  1,      9,      9,2,19890505,0444,  9.5000, -98.9967, 3667,   1191.6,   3.8858,  34.5740,2,  34.5795,2,   -999.0,5,     33.0,2,   112.96,2,    44.38,2,     0.00,2,     3.26,2, -999.000,9, -999.000,9, -999.000,9,-999.0000,9,  -999.00,9,-999.000,9,   -999,-999.0000,-999.000,-999.000,  3.7948,-999.000
     32MW893_3,  P04E,   197,  1,      8,      8,2,19890505,0444,  9.5000, -98.9967, 3667,   1389.6,   3.3132,  34.6010,2,  34.5983,2,   -999.0,5,     57.8,2,   124.68,2,    42.52,2,     0.00,2,     3.08,2, -999.000,9, -999.000,9, -999.000,9,-999.0000,9,  -999.00,9,-999.000,9,   -999,-999.0000,-999.000,-999.000,  3.2111,-999.000
     32MW893_3,  P04E,   197,  1,      7,      7,2,19890505,0444,  9.5000, -98.9967, 3667,   1591.4,   2.9165,  34.6144,2,  34.6117,2,   -999.0,5,     66.9,2,   134.23,2,    41.84,2,     0.00,2,     3.00,2, -999.000,9, -999.000,9, -999.000,9,-999.0000,9,  -999.00,9,-999.000,9,   -999,-999.0000,-999.000,-999.000,  2.8019,-999.000
     32MW893_3,  P04E,   197,  1,      6,      6,2,19890505,0444,  9.5000, -98.9967, 3667,   1888.4,   2.4009,  34.6366,2,  34.6370,2,   -999.0,5,     85.6,2,   145.45,2,    40.66,2,     0.00,2,     2.88,2, -999.000,9, -999.000,9, -999.000,9,-999.0000,9,  -999.00,9,-999.000,9,   -999,-999.0000,-999.000,-999.000,  2.2680,-999.000
     32MW893_3,  P04E,   197,  1,      5,      5,2,19890505,0444,  9.5000, -98.9967, 3667,   2288.2,   1.9422,  34.6629,2,  34.6620,2,   -999.0,5,    104.3,2,   155.39,2,    39.10,2,     0.00,2,     2.76,2, -999.000,9, -999.000,9, -999.000,9,-999.0000,9,  -999.00,9,-999.000,9,   -999,-999.0000,-999.000,-999.000,  1.7819,-999.000
     32MW893_3,  P04E,   197,  1,      4,      4,2,19890505,0444,  9.5000, -98.9967, 3667,   2686.7,   1.8254,  34.6695,2,  34.6700,2,   -999.0,5,    115.1,2,   156.48,2,    38.51,2,     0.00,2,     2.75,2, -999.000,9, -999.000,9, -999.000,9,-999.0000,9,  -999.00,9,-999.000,9,   -999,-999.0000,-999.000,-999.000,  1.6312,-999.000
     32MW893_3,  P04E,   197,  1,      3,      3,2,19890505,0444,  9.5000, -98.9967, 3667,   3090.8,   1.8304,  34.6717,2,  34.6704,2,   -999.0,5,    116.4,2,   157.95,2,    38.51,2,     0.00,2,     2.73,2,   -0.005,2,   -0.002,2, -999.000,9,-999.0000,9,  -999.00,9,-999.000,9,   -999,-999.0000,-999.000,-999.000,  1.5974,-999.000
     32MW893_3,  P04E,   197,  1,      2,      2,2,19890505,0444,  9.5000, -98.9967, 3667,   3490.3,   1.8603,  34.6722,2,  34.6718,2,   -999.0,5,    118.6,2,   157.27,2,    38.32,2,     0.00,2,     2.70,2,   -0.002,2,   -0.001,2, -999.000,9,-999.0000,9,  -999.00,9,-999.000,9,   -999,-999.0000,-999.000,-999.000,  1.5861,-999.000
     32MW893_3,  P04E,   197,  1,      1,      1,2,19890505,0444,  9.5000, -98.9967, 3667,   3755.3,   1.8852,  34.6712,2,  34.6716,2,   -999.0,5,    119.5,2,   157.66,2,    38.32,2,     0.00,2,     2.70,2,   -0.002,2,   -0.001,2, -999.000,9,-999.0000,9,  -999.00,9,-999.000,9,   -999,-999.0000,-999.000,-999.000,  1.5824,-999.000