BOTTLE,20020418WHPSIOdm
EXPOCODE,SECT_ID,STNNBR,CASTNO,SAMPNO,BTLNBR,BTLNBR_FLAG_W,DATE,TIME,LATITUDE,LONGITUDE,DEPTH,CTDPRS,CTDTMP,CTDSAL,CTDSAL_FLAG_W,SALNTY,SALNTY_FLAG_W,CTDOXY,CTDOXY_FLAG_W,OXYGEN,OXYGEN_FLAG_W,SILCAT,SILCAT_FLAG_W,NITRAT,NITRAT_FLAG_W,NITRIT,NITRIT_FLAG_W,PHSPHT,PHSPHT_FLAG_W,CFC-11,CFC-11_FLAG_W,CFC-12,CFC-12_FLAG_W,TRITUM,TRITUM_FLAG_W,HELIUM,HELIUM_FLAG_W,DELHE3,DELHE3_FLAG_W,NEON,NEON_FLAG_W,CTDRAW,HELIER,DELHER,NEONER,THETA,TRITER
,,,,,,,,,,,,DBAR,ITS-90,PSS-78,,PSS-78,,UMOL/KG,,UMOL/KG,,UMOL/KG,,UMOL/KG,,UMOL/KG,,UMOL/KG,,PMOL/KG,,PMOL/KG,,TU,,NMOL/KG,,PERCNT,,NMOL/KG,,,NMOL/KG,PERCNT,NMOL/KG,ITS-90,TU
     32MW893_3,  P04E,   130,  1,     24,     24,2,19890413,0041,  9.4917,-153.6700, 5209,      6.1,  26.6291,  34.7807,2,  34.7821,2,   -999.0,5,    214.6,2,     1.39,2,     0.00,2,     0.01,2,     0.26,2,    1.708,2,    0.973,2, -999.000,9,-999.0000,9,  -999.00,9,-999.000,9,   -999,-999.0000,-999.000,-999.000, 26.6277,-999.000
     32MW893_3,  P04E,   130,  1,     23,     23,2,19890413,0041,  9.4917,-153.6700, 5209,     47.3,  26.5111,  34.7852,2,  34.7844,2,   -999.0,5,    214.2,2,     1.58,2,     0.00,2,     0.00,2,     0.26,2,    1.719,2,    0.975,2, -999.000,9,-999.0000,9,  -999.00,9,-999.000,9,   -999,-999.0000,-999.000,-999.000, 26.5004,-999.000
     32MW893_3,  P04E,   130,  1,     22,     22,2,19890413,0041,  9.4917,-153.6700, 5209,     98.0,  19.3908,  34.7858,2,  34.7158,2,   -999.0,5,    196.8,2,     2.87,2,     0.49,2,     0.02,2,     0.44,2,    1.886,2,    1.021,2, -999.000,9,-999.0000,9,  -999.00,9,-999.000,9,   -999,-999.0000,-999.000,-999.000, 19.3731,-999.000
     32MW893_3,  P04E,   130,  1,     21,     21,2,19890413,0041,  9.4917,-153.6700, 5209,    146.8,  12.5598,  34.4956,2,  34.5410,2,   -999.0,5,     40.8,2,    23.91,2,    29.13,2,     0.03,2,     2.24,2,    0.619,2,    0.335,2, -999.000,9,-999.0000,9,  -999.00,9,-999.000,9,   -999,-999.0000,-999.000,-999.000, 12.5402,-999.000
     32MW893_3,  P04E,   130,  1,     20,     20,2,19890413,0041,  9.4917,-153.6700, 5209,    196.3,  11.5691,  34.7291,2,  34.7262,2,   -999.0,5,     10.0,2,    29.07,2,    34.11,2,     0.00,2,     2.50,2,    0.128,2, -999.000,5, -999.000,9,-999.0000,9,  -999.00,9,-999.000,9,   -999,-999.0000,-999.000,-999.000, 11.5442,-999.000
     32MW893_3,  P04E,   130,  1,     19,     19,2,19890413,0041,  9.4917,-153.6700, 5209,    247.6,  10.8434,  34.7262,2,  34.7255,2,   -999.0,5,     18.2,2,    30.76,2,    34.50,2,     0.00,2,     2.49,2,    0.082,2, -999.000,5, -999.000,9,-999.0000,9,  -999.00,9,-999.000,9,   -999,-999.0000,-999.000,-999.000, 10.8132,-999.000
     32MW893_3,  P04E,   130,  1,     18,     18,2,19890413,0041,  9.4917,-153.6700, 5209,    297.8,  10.3145,  34.7048,2,  34.7028,2,   -999.0,5,     18.7,2,    32.84,2,    35.38,2,     0.00,2,     2.53,2,    0.058,2, -999.000,5, -999.000,9,-999.0000,9,  -999.00,9,-999.000,9,   -999,-999.0000,-999.000,-999.000, 10.2792,-999.000
     32MW893_3,  P04E,   130,  1,     17,     17,2,19890413,0041,  9.4917,-153.6700, 5209,    397.9,   9.5358,  34.6737,2,  34.6714,2,   -999.0,5,      9.1,2,    37.60,2,    37.14,2,     0.00,2,     2.72,2,    0.012,2, -999.000,5, -999.000,9,-999.0000,9,  -999.00,9,-999.000,9,   -999,-999.0000,-999.000,-999.000,  9.4907,-999.000
     32MW893_3,  P04E,   130,  1,     16,     16,2,19890413,0041,  9.4917,-153.6700, 5209,    496.5,   8.5771,  34.6194,2,  34.6215,2,   -999.0,5,      9.1,2,    45.74,2,    37.83,2,     0.00,2,     2.87,2,    0.012,2, -999.000,5, -999.000,9,-999.0000,9,  -999.00,9,-999.000,9,   -999,-999.0000,-999.000,-999.000,  8.5241,-999.000
     32MW893_3,  P04E,   130,  1,     15,     15,2,19890413,0041,  9.4917,-153.6700, 5209,    599.1,   7.6945,  34.5726,2,  34.5745,2,   -999.0,5,     15.6,2,    53.58,2,    39.00,2,     0.00,2,     2.97,2,    0.002,2, -999.000,5, -999.000,9,-999.0000,9,  -999.00,9,-999.000,9,   -999,-999.0000,-999.000,-999.000,  7.6340,-999.000
     32MW893_3,  P04E,   130,  1,     14,     14,2,19890413,0041,  9.4917,-153.6700, 5209,    795.1,   5.8352,  34.5313,2,  34.5433,2,   -999.0,5,     25.2,2,    75.60,2,    42.52,2,     0.00,2,     3.13,2, -999.000,5,    0.015,2, -999.000,9,-999.0000,9,  -999.00,9,-999.000,9,   -999,-999.0000,-999.000,-999.000,  5.7650,-999.000
     32MW893_3,  P04E,   130,  1,     13,     13,2,19890413,0041,  9.4917,-153.6700, 5209,    998.3,   4.6686,  34.5471,2,  34.5506,2,   -999.0,5,     37.4,2,    95.05,2,    43.69,2,     0.00,2,     3.20,2,   -0.004,2,    0.007,2, -999.000,9,-999.0000,9,  -999.00,9,-999.000,9,   -999,-999.0000,-999.000,-999.000,  4.5879,-999.000
     32MW893_3,  P04E,   130,  1,     12,     12,2,19890413,0041,  9.4917,-153.6700, 5209,   1246.4,   3.6980,  34.5756,2,  34.5804,2,   -999.0,5,     55.6,2,   114.40,2,    42.72,2,     0.00,2,     3.12,2,   -0.001,2,   -0.005,2, -999.000,9,-999.0000,9,  -999.00,9,-999.000,9,   -999,-999.0000,-999.000,-999.000,  3.6041,-999.000
     32MW893_3,  P04E,   130,  1,     11,     11,2,19890413,0041,  9.4917,-153.6700, 5209,   1497.5,   3.1043,  34.6004,2,  34.6013,2,   -999.0,5,     68.7,2,   127.59,2,    41.93,2,     0.00,2,     3.04,2,    0.002,2,    0.008,2, -999.000,9,-999.0000,9,  -999.00,9,-999.000,9,   -999,-999.0000,-999.000,-999.000,  2.9954,-999.000
     32MW893_3,  P04E,   130,  1,     10,     10,2,19890413,0041,  9.4917,-153.6700, 5209,   1999.9,   2.1447,  34.6422,2,  34.6433,2,   -999.0,5,     99.1,2,   148.82,2,    39.88,2,     0.00,2,     2.84,2, -999.000,9, -999.000,9, -999.000,9,-999.0000,9,  -999.00,9,-999.000,9,   -999,-999.0000,-999.000,-999.000,  2.0060,-999.000
     32MW893_3,  P04E,   130,  1,      9,      9,2,19890413,0041,  9.4917,-153.6700, 5209,   2349.8,   1.9167,  34.6590,2,  34.6590,2,   -999.0,5,    110.8,2,   153.28,2,    39.20,2,     0.00,2,     2.78,2,   -0.004,2,   -0.005,2, -999.000,9,-999.0000,9,  -999.00,9,-999.000,9,   -999,-999.0000,-999.000,-999.000,  1.7515,-999.000
     32MW893_3,  P04E,   130,  1,      8,      8,2,19890413,0041,  9.4917,-153.6700, 5209,   2699.9,   1.7618,  34.6691,2,  34.6694,2,   -999.0,5,    121.2,2,   155.66,2,    38.61,2,     0.00,2,     2.73,2, -999.000,9, -999.000,9, -999.000,9,-999.0000,9,  -999.00,9,-999.000,9,   -999,-999.0000,-999.000,-999.000,  1.5676,-999.000
     32MW893_3,  P04E,   130,  1,      7,      7,2,19890413,0041,  9.4917,-153.6700, 5209,   3005.6,   1.6648,  34.6750,2,  34.6759,2,   -999.0,5,    127.3,2,   156.15,2,    38.22,2,     0.00,2,     2.69,2,   -0.002,2,   -0.005,2, -999.000,9,-999.0000,9,  -999.00,9,-999.000,9,   -999,-999.0000,-999.000,-999.000,  1.4439,-999.000
     32MW893_3,  P04E,   130,  1,      6,      6,2,19890413,0041,  9.4917,-153.6700, 5209,   3501.6,   1.5249,  34.6831,2,  34.6844,2,   -999.0,5,    142.5,2,   153.97,2,    37.14,2,     0.00,2,     2.61,2, -999.000,9, -999.000,9, -999.000,9,-999.0000,9,  -999.00,9,-999.000,9,   -999,-999.0000,-999.000,-999.000,  1.2580,-999.000
     32MW893_3,  P04E,   130,  1,      5,      5,2,19890413,0041,  9.4917,-153.6700, 5209,   4003.6,   1.3900,  34.6915,2,  34.6936,2,   -999.0,5,    163.4,2,   144.55,2,    35.77,2,     0.00,2,     2.50,2,   -0.003,2,   -0.005,2, -999.000,9,-999.0000,9,  -999.00,9,-999.000,9,   -999,-999.0000,-999.000,-999.000,  1.0737,-999.000
     32MW893_3,  P04E,   130,  1,      4,      4,2,19890413,0041,  9.4917,-153.6700, 5209,   4353.1,   1.3460,  34.6950,2,  34.6983,2,   -999.0,5,    172.5,2,   139.29,2,    35.09,2,     0.00,2,     2.46,2, -999.000,9, -999.000,9, -999.000,9,-999.0000,9,  -999.00,9,-999.000,9,   -999,-999.0000,-999.000,-999.000,  0.9924,-999.000
     32MW893_3,  P04E,   130,  1,      3,      3,2,19890413,0041,  9.4917,-153.6700, 5209,   4705.1,   1.3670,  34.6964,2,  34.6979,2,   -999.0,5,    175.1,2,   137.90,2,    34.89,2,     0.00,2,     2.44,2,   -0.004,2,    0.005,2, -999.000,9,-999.0000,9,  -999.00,9,-999.000,9,   -999,-999.0000,-999.000,-999.000,  0.9723,-999.000
     32MW893_3,  P04E,   130,  1,      2,      2,2,19890413,0041,  9.4917,-153.6700, 5209,   4903.4,   1.3870,  34.6957,2,  34.6973,2,   -999.0,5,    174.7,2,   137.40,2,    34.80,2,     0.00,2,     2.45,2, -999.000,9, -999.000,9, -999.000,9,-999.0000,9,  -999.00,9,-999.000,9,   -999,-999.0000,-999.000,-999.000,  0.9682,-999.000
     32MW893_3,  P04E,   130,  1,      1,      1,2,19890413,0041,  9.4917,-153.6700, 5209,   5291.5,   1.4300,  34.6958,2,  34.6962,2,   -999.0,5,    175.1,2,   137.20,2,    34.80,2,     0.00,2,     2.43,2,   -0.008,2,   -0.005,2, -999.000,9,-999.0000,9,  -999.00,9,-999.000,9,   -999,-999.0000,-999.000,-999.000,  0.9622,-999.000
     32MW893_3,  P04E,   131,  1,     23,     24,2,19890413,0935,  9.4950,-152.8400, 5167,     46.7,  26.2382,  34.7702,2,  34.7679,2,   -999.0,5,    212.9,2,     1.69,2,     0.10,2,     0.00,2,     0.28,2,    1.733,2,    1.000,2, -999.000,9,-999.0000,9,  -999.00,9,-999.000,9,   -999,-999.0000,-999.000,-999.000, 26.2277,-999.000
     32MW893_3,  P04E,   131,  1,     22,     23,2,19890413,0935,  9.4950,-152.8400, 5167,     97.3,  20.6374,  34.6412,2,  34.6370,2,   -999.0,5,    184.7,2,     4.16,2,     3.62,2,     0.07,2,     0.60,2,    1.792,2,    0.958,2, -999.000,9,-999.0000,9,  -999.00,9,-999.000,9,   -999,-999.0000,-999.000,-999.000, 20.6192,-999.000
     32MW893_3,  P04E,   131,  1,     21,     22,2,19890413,0935,  9.4950,-152.8400, 5167,    148.6,  12.4068,  34.6008,2,  34.6009,2,   -999.0,5,     22.6,2,    25.99,2,    31.08,2,     0.03,2,     2.42,2,    0.417,2,    0.237,2, -999.000,9,-999.0000,9,  -999.00,9,-999.000,9,   -999,-999.0000,-999.000,-999.000, 12.3871,-999.000
     32MW893_3,  P04E,   131,  1,     20,     21,2,19890413,0935,  9.4950,-152.8400, 5167,    197.7,  11.3882,  34.7200,2,  34.7219,2,   -999.0,5,     30.4,2,    29.96,2,    34.11,2,     0.00,2,     2.54,2,    0.280,2, -999.000,5, -999.000,9,-999.0000,9,  -999.00,9,-999.000,9,   -999,-999.0000,-999.000,-999.000, 11.3633,-999.000
     32MW893_3,  P04E,   131,  1,     19,     20,2,19890413,0935,  9.4950,-152.8400, 5167,    246.3,  10.8654,  34.7199,2,  34.7262,2,   -999.0,5,     18.7,2,    30.95,2,    34.31,2,     0.00,2,     2.49,2,    0.082,2,    0.058,2, -999.000,9,-999.0000,9,  -999.00,9,-999.000,9,   -999,-999.0000,-999.000,-999.000, 10.8353,-999.000
     32MW893_3,  P04E,   131,  1,     18,     19,2,19890413,0935,  9.4950,-152.8400, 5167,    298.0,  10.3705,  34.7069,2,  34.7093,2,   -999.0,5,   -999.0,5,  -999.00,5,  -999.00,5,  -999.00,5,  -999.00,5, -999.000,9, -999.000,9, -999.000,9,-999.0000,9,  -999.00,9,-999.000,9,   -999,-999.0000,-999.000,-999.000, 10.3351,-999.000
     32MW893_3,  P04E,   131,  1,     17,     18,2,19890413,0935,  9.4950,-152.8400, 5167,    396.4,   9.6368,  34.6820,2,  34.6808,2,   -999.0,5,     10.4,2,    37.20,2,    36.85,2,     0.00,2,     2.70,2,    0.020,2, -999.000,5, -999.000,9,-999.0000,9,  -999.00,9,-999.000,9,   -999,-999.0000,-999.000,-999.000,  9.5916,-999.000
     32MW893_3,  P04E,   131,  1,     16,     17,2,19890413,0935,  9.4950,-152.8400, 5167,    496.9,   8.7681,  34.6442,2,  34.6294,2,   -999.0,5,      8.3,2,    44.75,2,    37.83,2,     0.00,2,     2.82,2,    0.001,2, -999.000,5, -999.000,9,-999.0000,9,  -999.00,9,-999.000,9,   -999,-999.0000,-999.000,-999.000,  8.7143,-999.000
     32MW893_3,  P04E,   131,  1,     15,     16,2,19890413,0935,  9.4950,-152.8400, 5167,    598.9,   7.6035,  34.5733,2,-999.0000,5,   -999.0,5,      8.3,2,    56.15,2,    39.39,2,     0.00,2,     3.05,2,    0.003,6,    0.016,6, -999.000,9,-999.0000,9,  -999.00,9,-999.000,9,   -999,-999.0000,-999.000,-999.000,  7.5434,-999.000
     32MW893_3,  P04E,   131,  1,     14,     15,2,19890413,0935,  9.4950,-152.8400, 5167,    797.1,   5.7242,  34.5338,2,  34.5361,2,   -999.0,5,     23.5,2,    78.08,2,    43.11,2,     0.00,2,     3.17,2,   -0.005,2,    0.003,2, -999.000,9,-999.0000,9,  -999.00,9,-999.000,9,   -999,-999.0000,-999.000,-999.000,  5.6545,-999.000
     32MW893_3,  P04E,   131,  1,     13,     14,2,19890413,0935,  9.4950,-152.8400, 5167,    999.2,   4.5897,  34.5519,2,  34.5561,2,   -999.0,5,     42.6,2,    96.04,2,    43.11,2,     0.00,2,     3.17,2, -999.000,9, -999.000,9, -999.000,9,-999.0000,9,  -999.00,9,-999.000,9,   -999,-999.0000,-999.000,-999.000,  4.5095,-999.000
     32MW893_3,  P04E,   131,  1,     12,     13,2,19890413,0935,  9.4950,-152.8400, 5167,   1249.1,   3.6340,  34.5797,2,  34.5783,2,   -999.0,5,     61.3,2,   115.19,2,    42.23,2,     0.00,2,     3.09,2,   -0.005,2,    0.010,2, -999.000,9,-999.0000,9,  -999.00,9,-999.000,9,   -999,-999.0000,-999.000,-999.000,  3.5405,-999.000
     32MW893_3,  P04E,   131,  1,     11,     12,2,19890413,0935,  9.4950,-152.8400, 5167,   1497.6,   2.9903,  34.6019,2,  34.5999,2,   -999.0,5,     75.6,2,   129.57,2,    41.35,2,     0.00,2,     3.00,2,   -0.004,2,    0.007,2, -999.000,9,-999.0000,9,  -999.00,9,-999.000,9,   -999,-999.0000,-999.000,-999.000,  2.8827,-999.000
     32MW893_3,  P04E,   131,  1,     10,     11,2,19890413,0935,  9.4950,-152.8400, 5167,   1999.6,   2.1087,  34.6453,2,  34.6451,2,   -999.0,5,    102.5,2,   149.31,2,    39.78,2,     0.00,2,     2.85,2, -999.000,9, -999.000,9, -999.000,9,-999.0000,9,  -999.00,9,-999.000,9,   -999,-999.0000,-999.000,-999.000,  1.9706,-999.000
     32MW893_3,  P04E,   131,  1,      9,     10,2,19890413,0935,  9.4950,-152.8400, 5167,   2175.5,   1.9857,  34.6537,2,  34.6541,2,   -999.0,5,    104.7,2,   152.49,2,    39.68,2,     0.00,2,     2.83,2,    0.001,2,    0.011,2, -999.000,9,-999.0000,9,  -999.00,9,-999.000,9,   -999,-999.0000,-999.000,-999.000,  1.8345,-999.000
     32MW893_3,  P04E,   131,  1,      8,      8,2,19890413,0935,  9.4950,-152.8400, 5167,   2700.7,   1.7738,  34.6695,2,  34.6716,2,   -999.0,5,    116.4,2,   157.35,2,    38.80,2,     0.00,2,     2.76,2,   -0.006,2,    0.002,2, -999.000,9,-999.0000,9,  -999.00,9,-999.000,9,   -999,-999.0000,-999.000,-999.000,  1.5793,-999.000
     32MW893_3,  P04E,   131,  1,      7,      7,2,19890413,0935,  9.4950,-152.8400, 5167,   3001.8,   1.6798,  34.6742,2,  34.6745,2,   -999.0,5,    123.8,2,   158.14,2,    38.41,2,     0.00,2,     2.71,2, -999.000,9, -999.000,9, -999.000,9,-999.0000,9,  -999.00,9,-999.000,9,   -999,-999.0000,-999.000,-999.000,  1.4588,-999.000
     32MW893_3,  P04E,   131,  1,      6,      6,2,19890413,0935,  9.4950,-152.8400, 5167,   3503.4,   1.5169,  34.6822,2,  34.6842,2,   -999.0,5,    142.1,2,   154.76,2,    37.24,2,     0.00,2,     2.64,2,   -0.004,2,   -0.005,2, -999.000,9,-999.0000,9,  -999.00,9,-999.000,9,   -999,-999.0000,-999.000,-999.000,  1.2500,-999.000
     32MW893_3,  P04E,   131,  1,      5,      5,2,19890413,0935,  9.4950,-152.8400, 5167,   4003.5,   1.3770,  34.6918,2,  34.6924,2,   -999.0,5,    163.8,2,   144.05,2,    35.68,2,     0.00,2,     2.52,2, -999.000,9, -999.000,9, -999.000,9,-999.0000,9,  -999.00,9,-999.000,9,   -999,-999.0000,-999.000,-999.000,  1.0611,-999.000
     32MW893_3,  P04E,   131,  1,      4,      4,2,19890413,0935,  9.4950,-152.8400, 5167,   4354.6,   1.3440,  34.6940,2,  34.6922,2,   -999.0,5,   -999.0,5,   138.79,2,    35.28,2,     0.00,2,     2.50,2,    0.000,2,    0.006,2, -999.000,9,-999.0000,9,  -999.00,9,-999.000,9,   -999,-999.0000,-999.000,-999.000,  0.9904,-999.000
     32MW893_3,  P04E,   131,  1,      3,      3,2,19890413,0935,  9.4950,-152.8400, 5167,   4704.8,   1.3660,  34.6951,2,  34.6960,2,   -999.0,5,    174.7,2,   137.70,2,    34.80,2,     0.00,2,     2.45,2, -999.000,9, -999.000,9, -999.000,9,-999.0000,9,  -999.00,9,-999.000,9,   -999,-999.0000,-999.000,-999.000,  0.9714,-999.000
     32MW893_3,  P04E,   131,  1,      2,      2,2,19890413,0935,  9.4950,-152.8400, 5167,   4905.8,   1.3840,  34.6967,2,  34.6962,2,   -999.0,5,    175.5,2,   137.20,2,    34.70,2,     0.00,2,     2.44,2,   -0.004,2,   -0.005,2, -999.000,9,-999.0000,9,  -999.00,9,-999.000,9,   -999,-999.0000,-999.000,-999.000,  0.9650,-999.000
     32MW893_3,  P04E,   131,  1,      1,      1,2,19890413,0935,  9.4950,-152.8400, 5167,   5267.7,   1.4250,  34.6967,2,  34.6964,2,   -999.0,5,    176.0,2,   137.00,2,    34.89,2,     0.00,2,     2.47,2,   -0.006,2,   -0.005,2, -999.000,9,-999.0000,9,  -999.00,9,-999.000,9,   -999,-999.0000,-999.000,-999.000,  0.9604,-999.000