BOTTLE,20020418WHPSIOdm
EXPOCODE,SECT_ID,STNNBR,CASTNO,SAMPNO,BTLNBR,BTLNBR_FLAG_W,DATE,TIME,LATITUDE,LONGITUDE,DEPTH,CTDPRS,CTDTMP,CTDSAL,CTDSAL_FLAG_W,SALNTY,SALNTY_FLAG_W,CTDOXY,CTDOXY_FLAG_W,OXYGEN,OXYGEN_FLAG_W,SILCAT,SILCAT_FLAG_W,NITRAT,NITRAT_FLAG_W,NITRIT,NITRIT_FLAG_W,PHSPHT,PHSPHT_FLAG_W,CFC-11,CFC-11_FLAG_W,CFC-12,CFC-12_FLAG_W,TRITUM,TRITUM_FLAG_W,HELIUM,HELIUM_FLAG_W,DELHE3,DELHE3_FLAG_W,NEON,NEON_FLAG_W,CTDRAW,HELIER,DELHER,NEONER,THETA,TRITER
,,,,,,,,,,,,DBAR,ITS-90,PSS-78,,PSS-78,,UMOL/KG,,UMOL/KG,,UMOL/KG,,UMOL/KG,,UMOL/KG,,UMOL/KG,,PMOL/KG,,PMOL/KG,,TU,,NMOL/KG,,PERCNT,,NMOL/KG,,,NMOL/KG,PERCNT,NMOL/KG,ITS-90,TU
     32MW893_3,  P04E,   164,  1,     24,     24,2,19890425,0955,  9.4917,-125.3350, 4532,      6.0,  27.1160,  34.6031,2,  34.6022,2,   -999.0,5,    209.4,2,     1.58,2,     0.20,2,     0.00,2,     0.25,2,    1.672,2,    0.936,2,    1.466,2,   1.8710,2,    -0.49,2,   7.213,2,   -999,  0.0080,   0.150,   0.043, 27.1146,   0.020
     32MW893_3,  P04E,   164,  1,     23,     23,2,19890425,0955,  9.4917,-125.3350, 4532,     47.5,  26.8551,  34.5805,2,  34.6148,2,   -999.0,5,    206.8,2,     1.79,2,     0.49,2,     0.00,2,     0.28,2,    1.612,2,    0.910,2,    1.494,2,   1.8780,2,    -0.18,2,   7.247,2,   -999,  0.0080,   0.150,   0.043, 26.8443,   0.024
     32MW893_3,  P04E,   164,  1,     22,     22,2,19890425,0955,  9.4917,-125.3350, 4532,     70.6,  14.1523,  34.7379,2,  34.6531,2,   -999.0,5,     32.2,2,    21.83,2,    29.52,2,     0.22,2,     2.19,2,    0.506,2,    0.281,2,    1.313,2,   1.9430,2,     9.70,2,   7.949,2,   -999,  0.0090,   0.150,   0.048, 14.1421,   0.019
     32MW893_3,  P04E,   164,  1,     21,     21,2,19890425,0955,  9.4917,-125.3350, 4532,     97.8,  12.6158,  34.7574,2,  34.7532,2,   -999.0,5,     12.2,2,    25.99,2,    34.01,2,     0.18,2,     2.41,2,    0.243,2,    0.131,2,    0.570,2,   1.9520,2,     8.57,2,   7.968,2,   -999,  0.0090,   0.150,   0.048, 12.6027,   0.011
     32MW893_3,  P04E,   164,  1,     20,     20,2,19890425,0955,  9.4917,-125.3350, 4532,    121.3,  12.1210,  34.7666,2,  34.7508,2,   -999.0,5,     17.4,2,    27.18,2,    33.82,2,     0.02,2,     2.40,2,    0.213,2,    0.118,2,    0.554,2,   1.9450,2,     7.90,2,   7.991,2,   -999,  0.0090,   0.150,   0.048, 12.1052,   0.009
     32MW893_3,  P04E,   164,  1,     19,     19,2,19890425,0955,  9.4917,-125.3350, 4532,    148.6,  11.7451,  34.7426,2,  34.7465,2,   -999.0,5,     22.6,2,    27.68,2,    33.72,2,     0.00,2,     2.37,2,    0.185,2,    0.119,2,    0.587,2,   1.9670,2,     9.01,2,   7.943,2,   -999,  0.0090,   0.150,   0.048, 11.7261,   0.009
     32MW893_3,  P04E,   164,  1,     18,     18,2,19890425,0955,  9.4917,-125.3350, 4532,    171.6,  11.2902,  34.7340,2,  34.7243,2,   -999.0,5,     31.7,2,    28.87,2,    33.23,2,     0.00,2,     2.33,2,    0.179,2, -999.000,5, -999.000,9,   1.9460,2,     7.31,2,   8.090,2,   -999,  0.0090,   0.150,   0.049, 11.2688,-999.000
     32MW893_3,  P04E,   164,  1,     17,     17,2,19890425,0955,  9.4917,-125.3350, 4532,    196.3,  11.0493,  34.7200,2,  34.7152,2,   -999.0,5,     34.8,2,    29.47,2,    33.23,2,     0.00,2,     2.33,2,    0.161,2, -999.000,5,    0.459,2,   1.9620,2,     7.11,2,   8.077,2,   -999,  0.0090,   0.150,   0.048, 11.0252,   0.008
     32MW893_3,  P04E,   164,  1,     16,     16,2,19890425,0955,  9.4917,-125.3350, 4532,    246.6,  10.5715,  34.7173,2,  34.7192,2,   -999.0,5,     22.2,2,    31.55,2,    35.09,2,     0.00,2,     2.47,2,    0.087,2, -999.000,5,    0.277,2,   1.9340,2,     5.99,2,   7.975,2,   -999,  0.0090,   0.150,   0.048, 10.5419,   0.007
     32MW893_3,  P04E,   164,  1,     15,     15,2,19890425,0955,  9.4917,-125.3350, 4532,    296.9,  10.0857,  34.7040,2,  34.7005,2,   -999.0,5,      8.7,2,    34.52,2,    36.55,2,     0.00,2,     2.61,2,    0.032,2, -999.000,5,    0.138,2,   1.9590,2,     5.41,2,   8.088,2,   -999,  0.0090,   0.150,   0.049, 10.0510,   0.006
     32MW893_3,  P04E,   164,  1,     14,     14,2,19890425,0955,  9.4917,-125.3350, 4532,    398.2,   9.0980,  34.6488,2,  34.6521,2,   -999.0,5,      3.9,2,    42.26,2,    37.92,2,     0.00,2,     2.82,2,    0.002,2, -999.000,5,    0.024,2,   1.9780,2,     5.40,2,   8.255,2,   -999,  0.0090,   0.150,   0.050,  9.0541,   0.005
     32MW893_3,  P04E,   164,  1,     13,     13,2,19890425,0955,  9.4917,-125.3350, 4532,    496.8,   8.0584,  34.6063,2,  34.5926,2,   -999.0,5,      3.0,2,    52.09,2,    38.32,2,     0.00,2,     3.02,2,    0.000,2, -999.000,5,    0.014,2,   1.9900,2,     7.00,2,   8.316,2,   -999,  0.0090,   0.150,   0.050,  8.0072,   0.006
     32MW893_3,  P04E,   164,  1,     12,     12,2,19890425,0955,  9.4917,-125.3350, 4532,    597.4,   6.9167,  34.5493,2,  34.5582,2,   -999.0,5,      3.5,2,    63.60,2,    40.66,2,     0.01,2,     3.16,2,    0.000,2, -999.000,5, -999.000,9,-999.0000,9,  -999.00,9,-999.000,9,   -999,-999.0000,-999.000,-999.000,  6.8600,-999.000
     32MW893_3,  P04E,   164,  1,     11,     11,2,19890425,0955,  9.4917,-125.3350, 4532,    697.5,   6.0560,  34.5383,2,  34.5384,2,   -999.0,5,     10.9,2,    73.23,2,    43.70,2,     0.01,2,     3.21,2,    0.000,2, -999.000,5, -999.000,9,-999.0000,9,  -999.00,9,-999.000,9,   -999,-999.0000,-999.000,-999.000,  5.9938,-999.000
     32MW893_3,  P04E,   164,  1,     10,     10,2,19890425,0955,  9.4917,-125.3350, 4532,    797.5,   5.4873,  34.5459,2,  34.5441,2,   -999.0,5,     23.5,2,    80.07,2,    44.28,2,     0.00,2,     3.17,2,    0.003,2,    0.000,2, -999.000,9,-999.0000,9,  -999.00,9,-999.000,9,   -999,-999.0000,-999.000,-999.000,  5.4190,-999.000
     32MW893_3,  P04E,   164,  1,      9,      9,2,19890425,0955,  9.4917,-125.3350, 4532,    997.5,   4.5867,  34.5538,2,  34.5522,2,   -999.0,5,     44.3,2,    95.44,2,    43.79,2,     0.00,2,     3.11,2,    0.000,2,    0.016,2, -999.000,9,-999.0000,9,  -999.00,9,-999.000,9,   -999,-999.0000,-999.000,-999.000,  4.5067,-999.000
     32MW893_3,  P04E,   164,  1,      8,      8,2,19890425,0955,  9.4917,-125.3350, 4532,   1496.6,   3.1153,  34.5989,2,  34.5979,2,   -999.0,5,     66.5,2,   127.69,2,    42.72,2,     0.00,2,     3.03,2,    0.004,2,    0.002,2, -999.000,9,-999.0000,9,  -999.00,9,-999.000,9,   -999,-999.0000,-999.000,-999.000,  3.0063,-999.000
     32MW893_3,  P04E,   164,  1,      7,      7,2,19890425,0955,  9.4917,-125.3350, 4532,   2000.5,   2.2136,  34.6429,2,  34.6433,2,   -999.0,5,     91.2,2,   150.01,2,    41.15,2,    -0.01,2,     2.86,2,   -0.003,3, -999.000,5, -999.000,9,-999.0000,9,  -999.00,9,-999.000,9,   -999,-999.0000,-999.000,-999.000,  2.0738,-999.000
     32MW893_3,  P04E,   164,  1,      6,      6,2,19890425,0955,  9.4917,-125.3350, 4532,   2503.2,   1.8658,  34.6657,2,  34.6647,2,   -999.0,5,    111.2,2,   157.15,2,    39.59,2,    -0.01,2,     2.74,2,   -0.003,2,   -0.005,2, -999.000,9,-999.0000,9,  -999.00,9,-999.000,9,   -999,-999.0000,-999.000,-999.000,  1.6876,-999.000
     32MW893_3,  P04E,   164,  1,      5,      5,2,19890425,0955,  9.4917,-125.3350, 4532,   3002.5,   1.7058,  34.6744,2,  34.6738,2,   -999.0,5,    123.8,2,   158.04,2,    38.80,2,    -0.01,2,     2.65,2, -999.000,5,    0.001,2, -999.000,9,-999.0000,9,  -999.00,9,-999.000,9,   -999,-999.0000,-999.000,-999.000,  1.4842,-999.000
     32MW893_3,  P04E,   164,  1,      4,      4,2,19890425,0955,  9.4917,-125.3350, 4532,   3404.7,   1.5619,  34.6829,2,  34.6828,2,   -999.0,5,    139.0,2,   154.47,2,    37.92,2,    -0.01,2,     2.57,2,   -0.003,2,   -0.005,2, -999.000,9,-999.0000,9,  -999.00,9,-999.000,9,   -999,-999.0000,-999.000,-999.000,  1.3039,-999.000
     32MW893_3,  P04E,   164,  1,      3,      3,2,19890425,0955,  9.4917,-125.3350, 4532,   3803.9,   1.4719,  34.6873,2,  34.6891,2,   -999.0,5,    151.2,2,   151.59,2,    37.04,2,    -0.01,2,     2.51,2,   -0.002,2,   -0.002,2, -999.000,9,-999.0000,9,  -999.00,9,-999.000,9,   -999,-999.0000,-999.000,-999.000,  1.1748,-999.000
     32MW893_3,  P04E,   164,  1,      2,      2,2,19890425,0955,  9.4917,-125.3350, 4532,   4204.6,   1.4300,  34.6908,2,  34.6918,2,   -999.0,5,    159.9,2,   148.12,2,    36.56,2,    -0.01,2,     2.46,2,    0.000,2,   -0.002,2, -999.000,9,-999.0000,9,  -999.00,9,-999.000,9,   -999,-999.0000,-999.000,-999.000,  1.0905,-999.000
     32MW893_3,  P04E,   164,  1,      1,      1,2,19890425,0955,  9.4917,-125.3350, 4532,   4589.2,   1.4520,  34.6909,2,  34.6922,2,   -999.0,5,    162.1,2,   146.43,2,    36.59,2,    -0.01,2,     2.44,2,   -0.001,2, -999.000,5, -999.000,9,-999.0000,9,  -999.00,9,-999.000,9,   -999,-999.0000,-999.000,-999.000,  1.0681,-999.000
     32MW893_3,  P04E,   165,  1,     24,     24,2,19890425,1751,  9.5017,-124.4950, 4552,      7.4,  27.0790,  34.5742,2,  34.5675,2,   -999.0,5,    210.3,2,     1.79,2,     0.39,2,     0.01,2,     0.24,2,    1.694,2,    0.924,2, -999.000,9,-999.0000,9,  -999.00,9,-999.000,9,   -999,-999.0000,-999.000,-999.000, 27.0773,-999.000
     32MW893_3,  P04E,   165,  1,     23,     23,2,19890425,1751,  9.5017,-124.4950, 4552,     47.2,  16.1887,  34.6098,2,  34.6003,2,   -999.0,5,     85.2,2,    14.89,2,    21.02,2,     0.20,2,     1.61,2,    0.945,2,    0.501,2, -999.000,9,-999.0000,9,  -999.00,9,-999.000,9,   -999,-999.0000,-999.000,-999.000, 16.1812,-999.000
     32MW893_3,  P04E,   165,  1,     22,     22,2,19890425,1751,  9.5017,-124.4950, 4552,     97.1,  12.4608,  34.7762,2,  34.7620,2,   -999.0,5,     10.4,2,    26.29,2,    33.72,2,     0.21,2,     2.37,2,    0.224,2,    0.127,2, -999.000,9,-999.0000,9,  -999.00,9,-999.000,9,   -999,-999.0000,-999.000,-999.000, 12.4479,-999.000
     32MW893_3,  P04E,   165,  1,     21,     21,2,19890425,1751,  9.5017,-124.4950, 4552,    121.6,  12.0060,  34.7611,2,  34.7557,2,   -999.0,5,     17.4,2,    27.28,2,    33.52,2,     0.00,2,     2.35,2,    0.205,2,    0.139,2, -999.000,9,-999.0000,9,  -999.00,9,-999.000,9,   -999,-999.0000,-999.000,-999.000, 11.9902,-999.000
     32MW893_3,  P04E,   165,  1,     20,     20,2,19890425,1751,  9.5017,-124.4950, 4552,    147.6,  11.6711,  34.7567,2,  34.7567,2,   -999.0,5,     16.1,2,    28.37,2,    33.91,2,     0.00,2,     2.37,2,    0.149,2, -999.000,5, -999.000,9,-999.0000,9,  -999.00,9,-999.000,9,   -999,-999.0000,-999.000,-999.000, 11.6523,-999.000
     32MW893_3,  P04E,   165,  1,     19,     19,2,19890425,1751,  9.5017,-124.4950, 4552,    171.9,  11.3742,  34.7392,2,  34.7361,2,   -999.0,5,     23.5,2,    28.87,2,    33.62,2,     0.00,2,     2.35,2,    0.149,2, -999.000,5, -999.000,9,-999.0000,9,  -999.00,9,-999.000,9,   -999,-999.0000,-999.000,-999.000, 11.3526,-999.000
     32MW893_3,  P04E,   165,  1,     18,     18,2,19890425,1751,  9.5017,-124.4950, 4552,    198.1,  11.0463,  34.7323,2,  34.7286,2,   -999.0,5,     24.8,2,    29.96,2,    33.82,2,     0.00,2,     2.37,2,    0.124,2, -999.000,5, -999.000,9,-999.0000,9,  -999.00,9,-999.000,9,   -999,-999.0000,-999.000,-999.000, 11.0220,-999.000
     32MW893_3,  P04E,   165,  1,     17,     17,2,19890425,1751,  9.5017,-124.4950, 4552,    247.7,  10.5755,  34.7173,2,  34.7156,2,   -999.0,5,     23.0,2,    31.75,2,    34.50,2,     0.00,2,     2.41,2,    0.091,2,    0.065,2, -999.000,9,-999.0000,9,  -999.00,9,-999.000,9,   -999,-999.0000,-999.000,-999.000, 10.5457,-999.000
     32MW893_3,  P04E,   165,  1,     16,     16,2,19890425,1751,  9.5017,-124.4950, 4552,    297.4,  10.1567,  34.7063,2,  34.7058,2,   -999.0,5,      6.1,2,    34.62,2,    36.16,2,     0.00,2,     2.58,2,    0.031,2, -999.000,5, -999.000,9,-999.0000,9,  -999.00,9,-999.000,9,   -999,-999.0000,-999.000,-999.000, 10.1218,-999.000
     32MW893_3,  P04E,   165,  1,     15,     15,2,19890425,1751,  9.5017,-124.4950, 4552,    398.2,   9.3359,  34.6646,2,  34.6598,2,   -999.0,5,      2.6,2,    40.88,2,    36.75,2,     0.00,2,     2.76,2,    0.007,2,    0.015,2, -999.000,9,-999.0000,9,  -999.00,9,-999.000,9,   -999,-999.0000,-999.000,-999.000,  9.2913,-999.000
     32MW893_3,  P04E,   165,  1,     14,     14,2,19890425,1751,  9.5017,-124.4950, 4552,    497.8,   8.2613,  34.5993,2,  34.6026,2,   -999.0,5,      3.0,2,    50.50,2,    37.54,2,     0.00,2,     2.94,2,    0.001,2, -999.000,5, -999.000,9,-999.0000,9,  -999.00,9,-999.000,9,   -999,-999.0000,-999.000,-999.000,  8.2093,-999.000
     32MW893_3,  P04E,   165,  1,     13,     13,2,19890425,1751,  9.5017,-124.4950, 4552,    598.1,   7.1517,  34.5563,2,  34.5559,2,   -999.0,5,      3.9,2,    62.01,2,    40.08,2,     0.00,2,     3.10,2,    0.002,2, -999.000,5, -999.000,9,-999.0000,9,  -999.00,9,-999.000,9,   -999,-999.0000,-999.000,-999.000,  7.0938,-999.000
     32MW893_3,  P04E,   165,  1,     12,     12,2,19890425,1751,  9.5017,-124.4950, 4552,    746.6,   5.9712,  34.5481,2,  34.5463,2,   -999.0,5,     12.6,2,    74.12,2,    43.89,2,     0.00,2,     3.18,2, -999.000,9, -999.000,9, -999.000,9,-999.0000,9,  -999.00,9,-999.000,9,   -999,-999.0000,-999.000,-999.000,  5.9048,-999.000
     32MW893_3,  P04E,   165,  1,     11,     11,2,19890425,1751,  9.5017,-124.4950, 4552,    996.7,   4.6586,  34.5577,2,  34.5579,2,   -999.0,5,     41.7,2,    93.96,2,    43.79,2,     0.00,2,     3.12,2,    0.001,2, -999.000,5, -999.000,9,-999.0000,9,  -999.00,9,-999.000,9,   -999,-999.0000,-999.000,-999.000,  4.5781,-999.000
     32MW893_3,  P04E,   165,  1,     10,     10,2,19890425,1751,  9.5017,-124.4950, 4552,   1246.9,   3.7650,  34.5813,2,  34.5812,2,   -999.0,5,     59.1,2,   112.51,2,    43.01,2,     0.00,2,     3.06,2, -999.000,9, -999.000,9, -999.000,9,-999.0000,9,  -999.00,9,-999.000,9,   -999,-999.0000,-999.000,-999.000,  3.6704,-999.000
     32MW893_3,  P04E,   165,  1,      9,      9,2,19890425,1751,  9.5017,-124.4950, 4552,   1496.6,   3.1632,  34.5989,2,  34.5969,2,   -999.0,5,     72.1,2,   125.51,2,    41.93,2,     0.00,2,     2.97,2,    0.003,2, -999.000,5, -999.000,9,-999.0000,9,  -999.00,9,-999.000,9,   -999,-999.0000,-999.000,-999.000,  3.0538,-999.000
     32MW893_3,  P04E,   165,  1,      8,      8,2,19890425,1751,  9.5017,-124.4950, 4552,   1773.1,   2.5635,  34.6240,2,  34.6235,2,   -999.0,5,     83.9,2,   140.09,2,    41.35,2,     0.00,2,     2.92,2, -999.000,9, -999.000,9, -999.000,9,-999.0000,9,  -999.00,9,-999.000,9,   -999,-999.0000,-999.000,-999.000,  2.4381,-999.000
     32MW893_3,  P04E,   165,  1,      7,      7,2,19890425,1751,  9.5017,-124.4950, 4552,   2100.7,   2.0997,  34.6508,2,  34.6502,2,   -999.0,5,     96.9,2,   152.29,2,    40.47,2,     0.00,2,     2.83,2,    0.001,2,    0.005,2, -999.000,9,-999.0000,9,  -999.00,9,-999.000,9,   -999,-999.0000,-999.000,-999.000,  1.9531,-999.000
     32MW893_3,  P04E,   165,  1,      6,      6,2,19890425,1751,  9.5017,-124.4950, 4552,   2550.3,   1.8518,  34.6660,2,  34.6671,2,   -999.0,5,    111.7,2,   156.95,2,    39.29,2,     0.00,2,     2.73,2, -999.000,9, -999.000,9, -999.000,9,-999.0000,9,  -999.00,9,-999.000,9,   -999,-999.0000,-999.000,-999.000,  1.6696,-999.000
     32MW893_3,  P04E,   165,  1,      5,      5,2,19890425,1751,  9.5017,-124.4950, 4552,   3002.7,   1.7128,  34.6745,2,  34.6738,2,   -999.0,5,    123.4,2,   157.64,2,    38.61,2,     0.00,2,     2.67,2, -999.000,9, -999.000,9, -999.000,9,-999.0000,9,  -999.00,9,-999.000,9,   -999,-999.0000,-999.000,-999.000,  1.4910,-999.000
     32MW893_3,  P04E,   165,  1,      4,      4,2,19890425,1751,  9.5017,-124.4950, 4552,   3447.0,   1.5549,  34.6829,2,  34.6842,2,   -999.0,5,    138.6,2,   155.75,2,    37.73,2,     0.00,2,     2.59,2, -999.000,9, -999.000,9, -999.000,9,-999.0000,9,  -999.00,9,-999.000,9,   -999,-999.0000,-999.000,-999.000,  1.2928,-999.000
     32MW893_3,  P04E,   165,  1,      3,      3,2,19890425,1751,  9.5017,-124.4950, 4552,   3904.4,   1.4470,  34.6894,2,  34.6893,2,   -999.0,5,    154.7,2,   150.00,2,    36.75,2,     0.00,2,     2.52,2, -999.000,5,   -0.002,2, -999.000,9,-999.0000,9,  -999.00,9,-999.000,9,   -999,-999.0000,-999.000,-999.000,  1.1398,-999.000
     32MW893_3,  P04E,   165,  1,      2,      2,2,19890425,1751,  9.5017,-124.4950, 4552,   4356.5,   1.4380,  34.6907,2,  34.6924,2,   -999.0,5,    160.3,2,   147.72,2,    36.26,2,     0.00,2,     2.48,2, -999.000,9, -999.000,9, -999.000,9,-999.0000,9,  -999.00,9,-999.000,9,   -999,-999.0000,-999.000,-999.000,  1.0812,-999.000
     32MW893_3,  P04E,   165,  1,      1,      1,2,19890425,1751,  9.5017,-124.4950, 4552,   4616.8,   1.4589,  34.6911,2,  34.6952,2,   -999.0,5,    160.8,2,   147.02,2,    36.16,2,     0.00,2,     2.48,2,    0.001,2, -999.000,5, -999.000,9,-999.0000,9,  -999.00,9,-999.000,9,   -999,-999.0000,-999.000,-999.000,  1.0716,-999.000