BOTTLE,20020418WHPSIOdm
EXPOCODE,SECT_ID,STNNBR,CASTNO,SAMPNO,BTLNBR,BTLNBR_FLAG_W,DATE,TIME,LATITUDE,LONGITUDE,DEPTH,CTDPRS,CTDTMP,CTDSAL,CTDSAL_FLAG_W,SALNTY,SALNTY_FLAG_W,CTDOXY,CTDOXY_FLAG_W,OXYGEN,OXYGEN_FLAG_W,SILCAT,SILCAT_FLAG_W,NITRAT,NITRAT_FLAG_W,NITRIT,NITRIT_FLAG_W,PHSPHT,PHSPHT_FLAG_W,CFC-11,CFC-11_FLAG_W,CFC-12,CFC-12_FLAG_W,TRITUM,TRITUM_FLAG_W,HELIUM,HELIUM_FLAG_W,DELHE3,DELHE3_FLAG_W,NEON,NEON_FLAG_W,CTDRAW,HELIER,DELHER,NEONER,THETA,TRITER
,,,,,,,,,,,,DBAR,ITS-90,PSS-78,,PSS-78,,UMOL/KG,,UMOL/KG,,UMOL/KG,,UMOL/KG,,UMOL/KG,,UMOL/KG,,PMOL/KG,,PMOL/KG,,TU,,NMOL/KG,,PERCNT,,NMOL/KG,,,NMOL/KG,PERCNT,NMOL/KG,ITS-90,TU
     32MW893_3,  P04E,   208,  1,     24,     24,2,19890508,1233,  9.5033, -89.9950, 3571,      9.9,  26.2198,  34.4059,2,  34.3674,2,   -999.0,5,    218.2,2,     3.25,2,     2.15,2,     0.09,2,     0.21,2,    1.477,2,    0.800,2,    1.252,2,   1.8300,2,    -0.39,2,   7.138,2,   -999,  0.0080,   0.150,   0.043, 26.2176,   0.022
     32MW893_3,  P04E,   208,  1,     23,     23,2,19890508,1233,  9.5033, -89.9950, 3571,     50.4,  13.5886,  34.8947,2,  34.8900,2,   -999.0,5,      3.9,2,    21.56,2,    32.64,2,     0.01,2,     2.22,2,    0.349,2,    0.179,2,    0.766,2,   1.9210,2,     6.61,2,   8.154,2,   -999,  0.0090,   0.150,   0.049, 13.5815,   0.018
     32MW893_3,  P04E,   208,  1,     22,     22,2,19890508,1233,  9.5033, -89.9950, 3571,     74.6,  13.1497,  34.8640,2,  34.8607,2,   -999.0,5,      6.5,2,    23.04,2,    32.64,2,     0.01,2,     2.27,2,    0.308,2,    0.159,2,    0.752,2,   1.8720,2,     6.49,2,   7.892,2,   -999,  0.0080,   0.150,   0.047, 13.1394,   0.017
     32MW893_3,  P04E,   208,  1,     21,     21,2,19890508,1233,  9.5033, -89.9950, 3571,     98.8,  12.8089,  34.8435,2,  34.8399,2,   -999.0,5,     14.8,2,    23.44,2,    32.35,2,     0.01,2,     2.20,2,    0.280,2,    0.149,2,    0.671,2,   1.7140,2,     7.39,2,   6.805,2,   -999,  0.0080,   0.150,   0.041, 12.7955,   0.021
     32MW893_3,  P04E,   208,  1,     20,     20,2,19890508,1233,  9.5033, -89.9950, 3571,    124.2,  12.5600,  34.8315,2,  34.8300,2,   -999.0,5,      8.7,2,    24.81,2,    33.13,2,     0.00,2,     2.29,2,    0.233,2,    0.120,2,    0.576,2,   1.8920,2,     6.48,2,   7.861,2,   -999,  0.0090,   0.150,   0.047, 12.5434,   0.006
     32MW893_3,  P04E,   208,  1,     19,     19,2,19890508,1233,  9.5033, -89.9950, 3571,    149.1,  12.2572,  34.8141,2,  34.8108,2,   -999.0,5,      9.6,2,    25.90,2,    33.42,2,     0.00,2,     2.31,2,    0.212,2,    0.115,2,    0.553,2,   1.9480,2,     6.61,2,   8.243,2,   -999,  0.0090,   0.150,   0.049, 12.2375,   0.006
     32MW893_3,  P04E,   208,  1,     18,     18,2,19890508,1233,  9.5033, -89.9950, 3571,    174.1,  11.9722,  34.8111,2,  34.8074,2,   -999.0,5,      4.8,2,    27.77,2,    34.01,2,     0.00,2,     2.37,2,    0.170,2,    0.092,2,    0.469,2,   1.9600,2,     6.48,2,   8.044,2,   -999,  0.0090,   0.150,   0.048, 11.9496,   0.018
     32MW893_3,  P04E,   208,  1,     17,     17,2,19890508,1233,  9.5033, -89.9950, 3571,    198.6,  11.7484,  34.7996,2,  34.7974,2,   -999.0,5,      3.0,2,    28.36,2,    34.11,2,     0.00,2,     2.41,2,    0.148,2,    0.087,2,    0.418,2,   1.9530,2,     6.71,2,   7.982,2,   -999,  0.0090,   0.150,   0.048, 11.7229,   0.006
     32MW893_3,  P04E,   208,  1,     16,     16,2,19890508,1233,  9.5033, -89.9950, 3571,    247.6,  11.2096,  34.7579,2,  34.7551,2,   -999.0,5,      3.0,2,    30.72,2,    32.94,2,     0.01,2,     2.49,2,    0.092,2,    0.058,2,    0.311,2,   1.9630,2,     5.78,2,   8.114,2,   -999,  0.0090,   0.150,   0.049, 11.1787,   0.006
     32MW893_3,  P04E,   208,  1,     15,     15,2,19890508,1233,  9.5033, -89.9950, 3571,    295.9,  10.5699,  34.7287,2,  34.7278,2,   -999.0,5,      3.9,2,    34.96,2,    31.77,2,     0.75,2,     2.62,2,    0.049,2, -999.000,5,    0.187,2,-999.0000,9,  -999.00,9,-999.000,9,   -999,-999.0000,-999.000,-999.000, 10.5343,   0.005
     32MW893_3,  P04E,   208,  1,     14,     14,2,19890508,1233,  9.5033, -89.9950, 3571,    397.0,   8.8208,  34.6415,2,  34.6394,2,   -999.0,5,      2.2,2,    49.63,2,    27.56,2,     1.84,2,     2.94,2,    0.010,2, -999.000,5,    0.044,2,   1.9760,2,     7.11,2,   8.004,2,   -999,  0.0090,   0.150,   0.048,  8.7779,   0.005
     32MW893_3,  P04E,   208,  1,     13,     13,2,19890508,1233,  9.5033, -89.9950, 3571,    499.2,   7.6244,  34.6089,2,  34.6052,2,   -999.0,5,      2.6,2,    59.09,2,    36.07,2,     0.23,2,     3.08,2,    0.006,2,    0.008,2,    0.005,2,   2.0010,2,     8.29,2,   8.292,2,   -999,  0.0090,   0.150,   0.050,  7.5746,   0.005
     32MW893_3,  P04E,   208,  1,     12,     12,2,19890508,1233,  9.5033, -89.9950, 3571,    617.4,   6.7589,  34.5892,2,  34.5867,2,   -999.0,5,      3.5,2,    65.98,2,    41.25,2,    -0.01,2,     3.15,2, -999.000,9, -999.000,9, -999.000,9,   1.7930,2,    10.94,2,   7.383,2,   -999,  0.0080,   0.150,   0.044,  6.7008,-999.000
     32MW893_3,  P04E,   208,  1,     11,     11,2,19890508,1233,  9.5033, -89.9950, 3571,    793.6,   5.5327,  34.5678,2,  34.5673,2,   -999.0,5,      7.0,2,    82.24,2,    44.48,2,    -0.01,2,     3.26,2, -999.000,9, -999.000,9, -999.000,9,   2.0600,2,    14.31,2,   8.719,2,   -999,  0.0090,   0.150,   0.052,  5.4644,-999.000
     32MW893_3,  P04E,   208,  1,     10,     10,2,19890508,1233,  9.5033, -89.9950, 3571,    992.7,   4.5373,  34.5689,2,  34.5698,2,   -999.0,5,     19.6,2,    98.68,2,    45.26,2,    -0.01,2,     3.29,2, -999.000,9, -999.000,9, -999.000,9,   2.0660,2,    17.85,2,   8.049,2,   -999,  0.0090,   0.150,   0.048,  4.4580,-999.000
     32MW893_3,  P04E,   208,  1,      9,      9,2,19890508,1233,  9.5033, -89.9950, 3571,   1244.7,   3.6180,  34.5912,2,  34.5926,2,   -999.0,5,     39.1,2,   117.88,2,    44.08,2,    -0.01,2,     3.20,2, -999.000,9, -999.000,9, -999.000,9,-999.0000,9,  -999.00,9,-999.000,9,   -999,-999.0000,-999.000,-999.000,  3.5251,-999.000
     32MW893_3,  P04E,   208,  1,      8,      8,2,19890508,1233,  9.5033, -89.9950, 3571,   1491.1,   2.9995,  34.6128,2,  34.6127,2,   -999.0,5,     59.1,2,   130.98,2,    42.72,2,    -0.01,2,     3.07,2,    0.008,2,   -0.003,2, -999.000,9,   2.0970,2,    25.03,2,   8.037,2,   -999,  0.0090,   0.150,   0.048,  2.8923,-999.000
     32MW893_3,  P04E,   208,  1,      7,      7,2,19890508,1233,  9.5033, -89.9950, 3571,   1741.8,   2.6017,  34.6292,2,  34.6274,2,   -999.0,5,     78.2,2,   138.96,2,    41.25,2,    -0.01,2,     2.93,2, -999.000,9, -999.000,9, -999.000,9,   2.0990,2,    27.53,2,   8.536,2,   -999,  0.0090,   0.150,   0.051,  2.4784,-999.000
     32MW893_3,  P04E,   208,  1,      6,      6,2,19890508,1233,  9.5033, -89.9950, 3571,   1989.7,   2.2760,  34.6455,2,  34.6447,2,   -999.0,5,     91.2,2,   145.84,2,    40.17,2,    -0.01,2,     2.82,2, -999.000,9, -999.000,9, -999.000,9,   2.0530,2,    30.67,2,   8.371,2,   -999,  0.0090,   0.150,   0.050,  2.1362,-999.000
     32MW893_3,  P04E,   208,  1,      5,      5,2,19890508,1233,  9.5033, -89.9950, 3571,   2389.8,   1.8902,  34.6647,2,  34.6622,2,   -999.0,5,    105.6,2,   155.10,2,    39.00,2,    -0.01,2,     2.76,2, -999.000,9, -999.000,9, -999.000,9,   2.1290,2,    31.13,2,   8.527,2,   -999,  0.0100,   0.150,   0.051,  1.7219,-999.000
     32MW893_3,  P04E,   208,  1,      4,      4,2,19890508,1233,  9.5033, -89.9950, 3571,   2789.0,   1.8154,  34.6705,2,  34.6663,2,   -999.0,5,    109.9,2,   151.65,2,    38.71,2,    -0.01,2,     2.74,2, -999.000,9, -999.000,9, -999.000,9,   2.1400,2,    30.37,2,   8.654,2,   -999,  0.0100,   0.150,   0.052,  1.6118,-999.000
     32MW893_3,  P04E,   208,  1,      3,      3,2,19890508,1233,  9.5033, -89.9950, 3571,   3090.5,   1.8294,  34.6717,2,  34.6704,2,   -999.0,5,    115.1,2,   155.69,2,    38.51,2,    -0.02,2,     2.70,2,    0.001,2, -999.000,5, -999.000,9,-999.0000,9,  -999.00,9,-999.000,9,   -999,-999.0000,-999.000,-999.000,  1.5965,-999.000
     32MW893_3,  P04E,   208,  1,      2,      2,2,19890508,1233,  9.5033, -89.9950, 3571,   3392.5,   1.8543,  34.6727,2,  34.6700,2,   -999.0,5,    115.1,2,   155.89,2,    38.41,2,    -0.02,2,     2.72,2,    0.000,2, -999.000,5, -999.000,9,   2.1560,2,    29.96,2,   8.636,2,   -999,  0.0100,   0.150,   0.052,  1.5904,-999.000
     32MW893_3,  P04E,   208,  1,      1,      1,2,19890508,1233,  9.5033, -89.9950, 3571,   3615.3,   1.8772,  34.6718,2,  34.6710,2,   -999.0,5,    115.1,2,   156.57,2,    38.41,2,     0.00,2,     2.72,2,    0.000,2,   -0.001,2, -999.000,9,   2.1440,2,    29.72,2,   8.564,2,   -999,  0.0100,   0.150,   0.051,  1.5896,-999.000
     32MW893_3,  P04E,   209,  1,     24,     24,2,19890508,1800,  9.5000, -89.3317, 3561,      1.6,  27.4799,  34.4109,2,  34.4132,2,   -999.0,5,    224.7,2,     1.28,2,     4.30,2,     0.21,2,     0.56,2,    1.614,2,    0.866,2, -999.000,9,-999.0000,9,  -999.00,9,-999.000,9,   -999,-999.0000,-999.000,-999.000, 27.4795,-999.000
     32MW893_3,  P04E,   209,  1,     23,     23,2,19890508,1800,  9.5000, -89.3317, 3561,     50.2,  13.8805,  34.8715,2,  34.8613,2,   -999.0,5,     13.0,2,    21.27,2,    31.37,2,     0.05,2,     2.18,2,    0.469,2,    0.243,2, -999.000,9,-999.0000,9,  -999.00,9,-999.000,9,   -999,-999.0000,-999.000,-999.000, 13.8733,-999.000
     32MW893_3,  P04E,   209,  1,     22,     22,2,19890508,1800,  9.5000, -89.3317, 3561,     99.1,  12.9339,  34.8677,2,  34.8593,2,   -999.0,5,     10.4,2,    23.73,2,    32.45,2,     0.03,2,     2.25,2,    0.293,2,    0.154,2, -999.000,9,-999.0000,9,  -999.00,9,-999.000,9,   -999,-999.0000,-999.000,-999.000, 12.9204,-999.000
     32MW893_3,  P04E,   209,  1,     21,     21,2,19890508,1800,  9.5000, -89.3317, 3561,    122.7,  12.6160,  34.8399,2,  34.8346,2,   -999.0,5,      8.3,2,    24.91,2,    33.13,2,     0.02,2,     2.31,2,    0.246,2,    0.129,2, -999.000,9,-999.0000,9,  -999.00,9,-999.000,9,   -999,-999.0000,-999.000,-999.000, 12.5995,-999.000
     32MW893_3,  P04E,   209,  1,     20,     20,2,19890508,1800,  9.5000, -89.3317, 3561,    149.7,  12.3981,  34.8222,2,  34.8216,2,   -999.0,5,      8.3,2,    25.80,2,    33.23,2,     0.02,2,     2.33,2,    0.221,2,    0.115,2, -999.000,9,-999.0000,9,  -999.00,9,-999.000,9,   -999,-999.0000,-999.000,-999.000, 12.3782,-999.000
     32MW893_3,  P04E,   209,  1,     19,     19,2,19890508,1800,  9.5000, -89.3317, 3561,    174.1,  12.1712,  34.8037,2,  34.8011,2,   -999.0,5,      4.3,2,    26.98,2,    33.42,2,     0.00,2,     2.37,2,    0.195,2,    0.107,2, -999.000,9,-999.0000,9,  -999.00,9,-999.000,9,   -999,-999.0000,-999.000,-999.000, 12.1483,-999.000
     32MW893_3,  P04E,   209,  1,     18,     18,2,19890508,1800,  9.5000, -89.3317, 3561,    198.5,  12.0042,  34.8029,2,  34.7982,2,   -999.0,5,      4.3,2,    27.67,2,    33.52,2,     0.02,2,     2.39,2,    0.177,2,    0.099,2, -999.000,9,-999.0000,9,  -999.00,9,-999.000,9,   -999,-999.0000,-999.000,-999.000, 11.9783,-999.000
     32MW893_3,  P04E,   209,  1,     17,     17,2,19890508,1800,  9.5000, -89.3317, 3561,    246.9,  11.4255,  34.7667,2,  34.7679,2,   -999.0,5,      1.7,2,    30.13,2,    33.52,2,     0.00,2,     2.47,2,    0.117,2,    0.071,2, -999.000,9,-999.0000,9,  -999.00,9,-999.000,9,   -999,-999.0000,-999.000,-999.000, 11.3943,-999.000
     32MW893_3,  P04E,   209,  1,     16,     16,2,19890508,1800,  9.5000, -89.3317, 3561,    297.6,  10.7148,  34.7420,2,  34.7386,2,   -999.0,5,      1.7,2,    33.97,2,    32.94,2,     0.06,2,     2.57,2,    0.062,2,    0.044,2, -999.000,9,-999.0000,9,  -999.00,9,-999.000,9,   -999,-999.0000,-999.000,-999.000, 10.6786,-999.000
     32MW893_3,  P04E,   209,  1,     15,     15,2,19890508,1800,  9.5000, -89.3317, 3561,    395.9,   9.2366,  34.6639,2,  34.6683,2,   -999.0,5,      1.7,2,    46.18,2,    31.38,2,     1.26,2,     2.86,2,    0.013,2,    0.013,2, -999.000,9,-999.0000,9,  -999.00,9,-999.000,9,   -999,-999.0000,-999.000,-999.000,  9.1926,-999.000
     32MW893_3,  P04E,   209,  1,     14,     14,2,19890508,1800,  9.5000, -89.3317, 3561,    495.8,   7.8553,  34.6123,2,  34.6117,2,   -999.0,5,      1.3,2,    56.82,2,    34.90,2,     0.63,2,     3.08,2,    0.007,2, -999.000,5, -999.000,9,-999.0000,9,  -999.00,9,-999.000,9,   -999,-999.0000,-999.000,-999.000,  7.8050,-999.000
     32MW893_3,  P04E,   209,  1,     13,     13,2,19890508,1800,  9.5000, -89.3317, 3561,    594.8,   6.9238,  34.5877,2,  34.5879,2,   -999.0,5,      2.2,2,    65.00,2,    40.08,2,     0.00,2,     3.17,2, -999.000,9, -999.000,9, -999.000,9,-999.0000,9,  -999.00,9,-999.000,9,   -999,-999.0000,-999.000,-999.000,  6.8673,-999.000
     32MW893_3,  P04E,   209,  1,     12,     12,2,19890508,1800,  9.5000, -89.3317, 3561,    696.1,   6.2512,  34.5682,2,  34.5753,2,   -999.0,5,      4.3,2,    72.48,2,    42.81,2,     0.00,2,     3.21,2, -999.000,9, -999.000,9, -999.000,9,-999.0000,9,  -999.00,9,-999.000,9,   -999,-999.0000,-999.000,-999.000,  6.1880,-999.000
     32MW893_3,  P04E,   209,  1,     11,     11,2,19890508,1800,  9.5000, -89.3317, 3561,    794.7,   5.6316,  34.5694,2,  34.5704,2,   -999.0,5,      7.0,2,    81.25,2,    44.38,2,     0.00,2,     3.26,2, -999.000,9, -999.000,9, -999.000,9,-999.0000,9,  -999.00,9,-999.000,9,   -999,-999.0000,-999.000,-999.000,  5.5627,-999.000
     32MW893_3,  P04E,   209,  1,     10,     10,2,19890508,1800,  9.5000, -89.3317, 3561,    993.5,   4.6223,  34.5711,2,  34.5690,2,   -999.0,5,     18.7,2,    97.90,2,    45.16,2,     0.00,2,     3.34,2, -999.000,9, -999.000,9, -999.000,9,-999.0000,9,  -999.00,9,-999.000,9,   -999,-999.0000,-999.000,-999.000,  4.5423,-999.000
     32MW893_3,  P04E,   209,  1,      9,      9,2,19890508,1800,  9.5000, -89.3317, 3561,   1192.7,   3.8548,  34.5858,2,  34.5846,2,   -999.0,5,     39.5,2,   112.37,2,    43.99,2,     0.00,2,     3.19,2, -999.000,9, -999.000,9, -999.000,9,-999.0000,9,  -999.00,9,-999.000,9,   -999,-999.0000,-999.000,-999.000,  3.7640,-999.000
     32MW893_3,  P04E,   209,  1,      8,      8,2,19890508,1800,  9.5000, -89.3317, 3561,   1390.7,   3.4211,  34.6026,2,  34.6011,2,   -999.0,5,     51.3,2,   122.60,2,    43.11,2,     0.00,2,     3.12,2, -999.000,9, -999.000,9, -999.000,9,-999.0000,9,  -999.00,9,-999.000,9,   -999,-999.0000,-999.000,-999.000,  3.3177,-999.000
     32MW893_3,  P04E,   209,  1,      7,      7,2,19890508,1800,  9.5000, -89.3317, 3561,   1691.7,   2.7646,  34.6241,2,  34.6239,2,   -999.0,5,     70.4,2,   137.08,2,    41.74,2,     0.00,2,     3.00,2, -999.000,9, -999.000,9, -999.000,9,-999.0000,9,  -999.00,9,-999.000,9,   -999,-999.0000,-999.000,-999.000,  2.6435,-999.000
     32MW893_3,  P04E,   209,  1,      6,      6,2,19890508,1800,  9.5000, -89.3317, 3561,   1991.0,   2.2900,  34.6458,2,  34.6435,2,   -999.0,5,     91.7,2,   144.96,2,    40.17,2,     0.00,2,     2.85,2, -999.000,9, -999.000,9, -999.000,9,-999.0000,9,  -999.00,9,-999.000,9,   -999,-999.0000,-999.000,-999.000,  2.1499,-999.000
     32MW893_3,  P04E,   209,  1,      5,      5,2,19890508,1800,  9.5000, -89.3317, 3561,   2291.3,   1.9852,  34.6610,2,  34.6588,2,   -999.0,5,    101.7,2,   153.13,2,    39.29,2,     0.00,2,     2.77,2, -999.000,9, -999.000,9, -999.000,9,-999.0000,9,  -999.00,9,-999.000,9,   -999,-999.0000,-999.000,-999.000,  1.8239,-999.000
     32MW893_3,  P04E,   209,  1,      4,      4,2,19890508,1800,  9.5000, -89.3317, 3561,   2590.4,   1.8463,  34.6691,2,  34.6673,2,   -999.0,5,    109.5,2,   156.28,2,    38.80,2,    -0.02,2,     2.74,2, -999.000,9, -999.000,9, -999.000,9,-999.0000,9,  -999.00,9,-999.000,9,   -999,-999.0000,-999.000,-999.000,  1.6606,-999.000
     32MW893_3,  P04E,   209,  1,      3,      3,2,19890508,1800,  9.5000, -89.3317, 3561,   2889.3,   1.8254,  34.6723,2,  34.6706,2,   -999.0,5,    111.7,2,   157.95,2,    38.51,2,     0.00,2,     2.72,2,    0.003,2, -999.000,5, -999.000,9,-999.0000,9,  -999.00,9,-999.000,9,   -999,-999.0000,-999.000,-999.000,  1.6121,-999.000
     32MW893_3,  P04E,   209,  1,      2,      2,2,19890508,1800,  9.5000, -89.3317, 3561,   3192.0,   1.8473,  34.6716,2,  34.6706,2,   -999.0,5,    112.5,2,   158.35,2,    38.61,2,     0.00,2,     2.72,2,    0.001,2, -999.000,5, -999.000,9,-999.0000,9,  -999.00,9,-999.000,9,   -999,-999.0000,-999.000,-999.000,  1.6039,-999.000
     32MW893_3,  P04E,   209,  1,      1,      1,2,19890508,1800,  9.5000, -89.3317, 3561,   3543.2,   1.8782,  34.6715,2,  34.6712,2,   -999.0,5,    113.0,2,   158.26,2,    38.51,2,     0.00,2,     2.72,2,   -0.002,2,   -0.001,2, -999.000,9,-999.0000,9,  -999.00,9,-999.000,9,   -999,-999.0000,-999.000,-999.000,  1.5981,-999.000