BOTTLE,20020418WHPSIOdm
EXPOCODE,SECT_ID,STNNBR,CASTNO,SAMPNO,BTLNBR,BTLNBR_FLAG_W,DATE,TIME,LATITUDE,LONGITUDE,DEPTH,CTDPRS,CTDTMP,CTDSAL,CTDSAL_FLAG_W,SALNTY,SALNTY_FLAG_W,CTDOXY,CTDOXY_FLAG_W,OXYGEN,OXYGEN_FLAG_W,SILCAT,SILCAT_FLAG_W,NITRAT,NITRAT_FLAG_W,NITRIT,NITRIT_FLAG_W,PHSPHT,PHSPHT_FLAG_W,CFC-11,CFC-11_FLAG_W,CFC-12,CFC-12_FLAG_W,TRITUM,TRITUM_FLAG_W,HELIUM,HELIUM_FLAG_W,DELHE3,DELHE3_FLAG_W,NEON,NEON_FLAG_W,CTDRAW,HELIER,DELHER,NEONER,THETA,TRITER
,,,,,,,,,,,,DBAR,ITS-90,PSS-78,,PSS-78,,UMOL/KG,,UMOL/KG,,UMOL/KG,,UMOL/KG,,UMOL/KG,,UMOL/KG,,PMOL/KG,,PMOL/KG,,TU,,NMOL/KG,,PERCNT,,NMOL/KG,,,NMOL/KG,PERCNT,NMOL/KG,ITS-90,TU
     32MW893_3,  P04E,   156,  1,     24,     24,2,19890422,1402,  9.4883,-132.0000, 5065,      7.2,  26.2772,  34.6994,2,  34.7040,2,   -999.0,5,    213.3,2,     1.58,2,     0.20,2,     0.03,2,     0.33,2,    1.731,2,    0.951,2, -999.000,9,-999.0000,9,  -999.00,9,-999.000,9,   -999,-999.0000,-999.000,-999.000, 26.2756,-999.000
     32MW893_3,  P04E,   156,  1,     23,     23,2,19890422,1402,  9.4883,-132.0000, 5065,     46.8,  25.2514,  34.0398,2,  34.6669,2,   -999.0,5,    203.3,2,     2.28,2,     1.27,2,     0.03,2,     0.46,2,    1.675,2,    0.916,2, -999.000,9,-999.0000,9,  -999.00,9,-999.000,9,   -999,-999.0000,-999.000,-999.000, 25.2412,-999.000
     32MW893_3,  P04E,   156,  1,     22,     22,2,19890422,1402,  9.4883,-132.0000, 5065,     70.2,  13.2126,  34.6255,2,  34.6633,2,   -999.0,5,     23.0,2,    23.41,2,    31.08,2,     0.51,2,     2.34,2,    0.466,2,    0.261,2, -999.000,9,-999.0000,9,  -999.00,9,-999.000,9,   -999,-999.0000,-999.000,-999.000, 13.2029,-999.000
     32MW893_3,  P04E,   156,  1,     21,     21,2,19890422,1402,  9.4883,-132.0000, 5065,     97.3,  12.5108,  34.7332,2,  34.7483,2,   -999.0,5,     20.4,2,    25.79,2,    32.94,2,     0.10,2,     2.37,2,    0.265,2, -999.000,5, -999.000,9,-999.0000,9,  -999.00,9,-999.000,9,   -999,-999.0000,-999.000,-999.000, 12.4978,-999.000
     32MW893_3,  P04E,   156,  1,     20,     20,2,19890422,1402,  9.4883,-132.0000, 5065,    123.0,  11.9450,  34.7466,2,  34.7502,2,   -999.0,5,     23.5,2,    27.08,2,    33.23,2,     0.02,2,     2.38,2,    0.207,2, -999.000,5, -999.000,9,-999.0000,9,  -999.00,9,-999.000,9,   -999,-999.0000,-999.000,-999.000, 11.9291,-999.000
     32MW893_3,  P04E,   156,  1,     19,     19,2,19890422,1402,  9.4883,-132.0000, 5065,    147.6,  11.5561,  34.7342,2,  34.7400,2,   -999.0,5,     22.2,2,    27.97,2,    33.62,2,     0.02,2,     2.38,2,    0.161,2,    0.100,2, -999.000,9,-999.0000,9,  -999.00,9,-999.000,9,   -999,-999.0000,-999.000,-999.000, 11.5374,-999.000
     32MW893_3,  P04E,   156,  1,     18,     18,2,19890422,1402,  9.4883,-132.0000, 5065,    172.7,  11.2522,  34.7265,2,  34.7390,2,   -999.0,5,     22.6,2,    28.97,2,    34.11,2,     0.02,2,     2.42,2,    0.128,2,    0.081,2, -999.000,9,-999.0000,9,  -999.00,9,-999.000,9,   -999,-999.0000,-999.000,-999.000, 11.2307,-999.000
     32MW893_3,  P04E,   156,  1,     17,     17,2,19890422,1402,  9.4883,-132.0000, 5065,    198.1,  11.0843,  34.7357,2,  34.7357,2,   -999.0,5,     20.9,2,    29.66,2,    34.40,2,     0.02,2,     2.42,2,    0.107,2, -999.000,5, -999.000,9,-999.0000,9,  -999.00,9,-999.000,9,   -999,-999.0000,-999.000,-999.000, 11.0598,-999.000
     32MW893_3,  P04E,   156,  1,     16,     16,2,19890422,1402,  9.4883,-132.0000, 5065,    246.8,  10.5285,  34.7146,2,  34.7227,2,   -999.0,5,     17.8,2,    31.75,2,    35.28,2,     0.02,2,     2.47,2,    0.070,2, -999.000,5, -999.000,9,-999.0000,9,  -999.00,9,-999.000,9,   -999,-999.0000,-999.000,-999.000, 10.4989,-999.000
     32MW893_3,  P04E,   156,  1,     15,     15,2,19890422,1402,  9.4883,-132.0000, 5065,    297.9,  10.0787,  34.6999,2,  34.6991,2,   -999.0,5,      9.1,2,    34.62,2,    36.46,2,     0.02,2,     2.64,2,    0.030,2, -999.000,5, -999.000,9,-999.0000,9,  -999.00,9,-999.000,9,   -999,-999.0000,-999.000,-999.000, 10.0439,-999.000
     32MW893_3,  P04E,   156,  1,     14,     14,2,19890422,1402,  9.4883,-132.0000, 5065,    397.5,   9.1410,  34.6457,2,  34.6480,2,   -999.0,5,      6.1,2,    42.46,2,    36.85,2,     0.00,2,     2.82,2,    0.005,2, -999.000,5, -999.000,9,-999.0000,9,  -999.00,9,-999.000,9,   -999,-999.0000,-999.000,-999.000,  9.0971,-999.000
     32MW893_3,  P04E,   156,  1,     13,     13,2,19890422,1402,  9.4883,-132.0000, 5065,    495.1,   7.9844,  34.5753,2,  34.6091,2,   -999.0,5,      5.6,2,    48.91,2,    38.12,2,     0.00,2,     2.98,2,   -0.002,2,    0.008,2, -999.000,9,-999.0000,9,  -999.00,9,-999.000,9,   -999,-999.0000,-999.000,-999.000,  7.9337,-999.000
     32MW893_3,  P04E,   156,  1,     12,     12,2,19890422,1402,  9.4883,-132.0000, 5065,    596.8,   6.7489,  34.5408,2,  34.5437,2,   -999.0,5,      7.4,2,    65.08,2,    41.35,2,     0.00,2,     3.16,2,    0.001,2,    0.016,2, -999.000,9,-999.0000,9,  -999.00,9,-999.000,9,   -999,-999.0000,-999.000,-999.000,  6.6929,-999.000
     32MW893_3,  P04E,   156,  1,     11,     11,2,19890422,1402,  9.4883,-132.0000, 5065,    699.0,   5.9272,  34.5416,2,  34.5349,2,   -999.0,5,     13.0,2,    74.91,2,    43.70,2,     0.00,2,     3.22,2,   -0.003,2,    0.004,2, -999.000,9,-999.0000,9,  -999.00,9,-999.000,9,   -999,-999.0000,-999.000,-999.000,  5.8655,-999.000
     32MW893_3,  P04E,   156,  1,     10,     10,2,19890422,1402,  9.4883,-132.0000, 5065,    797.7,   5.2734,  34.5405,2,  34.5388,2,   -999.0,5,     22.2,2,    83.64,2,    44.58,2,     0.00,2,     3.24,2, -999.000,9, -999.000,9, -999.000,9,-999.0000,9,  -999.00,9,-999.000,9,   -999,-999.0000,-999.000,-999.000,  5.2064,-999.000
     32MW893_3,  P04E,   156,  1,      9,      9,2,19890422,1402,  9.4883,-132.0000, 5065,    997.5,   4.3228,  34.5564,2,  34.5586,2,   -999.0,5,     50.4,2,    99.22,2,    43.21,2,     0.00,2,     3.11,2,    0.002,2, -999.000,5, -999.000,9,-999.0000,9,  -999.00,9,-999.000,9,   -999,-999.0000,-999.000,-999.000,  4.2448,-999.000
     32MW893_3,  P04E,   156,  1,      8,      8,2,19890422,1402,  9.4883,-132.0000, 5065,   1498.4,   2.9943,  34.6023,2,  34.6030,2,   -999.0,5,     79.5,2,   127.98,2,    41.74,2,     0.00,2,     2.98,2, -999.000,9, -999.000,9, -999.000,9,-999.0000,9,  -999.00,9,-999.000,9,   -999,-999.0000,-999.000,-999.000,  2.8866,-999.000
     32MW893_3,  P04E,   156,  1,      7,      7,2,19890422,1402,  9.4883,-132.0000, 5065,   1998.8,   2.1576,  34.6437,2,  34.6457,2,   -999.0,5,     98.6,2,   147.93,2,    40.56,2,     0.00,2,     2.85,2,   -0.002,2,   -0.005,2, -999.000,9,-999.0000,9,  -999.00,9,-999.000,9,   -999,-999.0000,-999.000,-999.000,  2.0188,-999.000
     32MW893_3,  P04E,   156,  1,      6,      6,2,19890422,1402,  9.4883,-132.0000, 5065,   2505.7,   1.8658,  34.6635,2,  34.6649,2,   -999.0,5,    113.4,2,   154.37,2,    39.49,2,     0.00,2,     2.75,2, -999.000,9, -999.000,9, -999.000,9,-999.0000,9,  -999.00,9,-999.000,9,   -999,-999.0000,-999.000,-999.000,  1.6874,-999.000
     32MW893_3,  P04E,   156,  1,      5,      5,2,19890422,1402,  9.4883,-132.0000, 5065,   3002.8,   1.6918,  34.6734,2,  34.6769,2,   -999.0,5,    126.0,2,   158.33,2,    38.61,2,     0.00,2,     2.68,2, -999.000,9, -999.000,9, -999.000,9,-999.0000,9,  -999.00,9,-999.000,9,   -999,-999.0000,-999.000,-999.000,  1.4705,-999.000
     32MW893_3,  P04E,   156,  1,      4,      4,2,19890422,1402,  9.4883,-132.0000, 5065,   3501.5,   1.5299,  34.6816,2,  34.6858,2,   -999.0,5,    141.6,2,   155.86,2,    37.73,2,     0.00,2,     2.58,2, -999.000,9, -999.000,9, -999.000,9,-999.0000,9,  -999.00,9,-999.000,9,   -999,-999.0000,-999.000,-999.000,  1.2629,-999.000
     32MW893_3,  P04E,   156,  1,      3,      3,2,19890422,1402,  9.4883,-132.0000, 5065,   4003.3,   1.4250,  34.6890,2,  34.6920,2,   -999.0,5,    159.0,2,   147.62,2,    36.46,2,     0.00,2,     2.49,2,   -0.001,2, -999.000,5, -999.000,9,-999.0000,9,  -999.00,9,-999.000,9,   -999,-999.0000,-999.000,-999.000,  1.1077,-999.000
     32MW893_3,  P04E,   156,  1,      2,      2,2,19890422,1402,  9.4883,-132.0000, 5065,   4504.7,   1.4270,  34.6919,2,-999.0000,5,   -999.0,5,    165.1,2,   144.25,2,    36.07,2,     0.00,2,     2.46,2, -999.000,9, -999.000,9, -999.000,9,-999.0000,9,  -999.00,9,-999.000,9,   -999,-999.0000,-999.000,-999.000,  1.0536,-999.000
     32MW893_3,  P04E,   156,  1,      1,      1,2,19890422,1402,  9.4883,-132.0000, 5065,   5138.8,   1.4909,  34.6925,2,  34.6913,2,   -999.0,5,    166.8,2,   143.55,2,    35.97,2,     0.00,2,     2.44,2,   -0.001,2, -999.000,5, -999.000,9,-999.0000,9,  -999.00,9,-999.000,9,   -999,-999.0000,-999.000,-999.000,  1.0401,-999.000
     32MW893_3,  P04E,   157,  1,     24,     24,2,19890422,2300,  9.4933,-131.1700, 4890,      7.9,  26.6161,  34.7501,2,  34.7494,2,   -999.0,5,    219.0,2,     1.49,2,     0.29,2,     0.01,2,     0.24,2,    1.693,2,    0.964,2, -999.000,9,-999.0000,9,  -999.00,9,-999.000,9,   -999,-999.0000,-999.000,-999.000, 26.6143,-999.000
     32MW893_3,  P04E,   157,  1,     23,     23,2,19890422,2300,  9.4933,-131.1700, 4890,     48.5,  26.2762,  34.8540,2,  34.7272,2,   -999.0,5,    211.2,2,     1.98,2,     1.17,2,     0.02,2,     0.34,2,    1.648,2,    0.979,2, -999.000,9,-999.0000,9,  -999.00,9,-999.000,9,   -999,-999.0000,-999.000,-999.000, 26.2653,-999.000
     32MW893_3,  P04E,   157,  1,     22,     22,2,19890422,2300,  9.4933,-131.1700, 4890,     97.2,  12.5678,  34.7183,2,  34.6991,2,   -999.0,5,     14.8,2,    25.30,2,    32.65,2,     0.14,2,     2.37,2,    0.296,2,    0.174,2, -999.000,9,-999.0000,9,  -999.00,9,-999.000,9,   -999,-999.0000,-999.000,-999.000, 12.5548,-999.000
     32MW893_3,  P04E,   157,  1,     21,     21,2,19890422,2300,  9.4933,-131.1700, 4890,    123.0,  11.8431,  34.7366,2,  34.7313,2,   -999.0,5,     15.6,2,    27.28,2,    33.62,2,     0.00,2,     2.39,2,    0.173,2,    0.104,2, -999.000,9,-999.0000,9,  -999.00,9,-999.000,9,   -999,-999.0000,-999.000,-999.000, 11.8273,-999.000
     32MW893_3,  P04E,   157,  1,     20,     20,2,19890422,2300,  9.4933,-131.1700, 4890,    147.4,  11.5161,  34.7514,2,  34.7483,2,   -999.0,5,     17.8,2,    28.07,2,    33.82,2,     0.00,2,     2.34,2,    0.135,2, -999.000,5, -999.000,9,-999.0000,9,  -999.00,9,-999.000,9,   -999,-999.0000,-999.000,-999.000, 11.4975,-999.000
     32MW893_3,  P04E,   157,  1,     19,     19,2,19890422,2300,  9.4933,-131.1700, 4890,    197.6,  10.9234,  34.7309,2,  34.7270,2,   -999.0,5,     19.6,2,    30.16,2,    34.40,2,     0.00,2,     2.41,2,    0.093,2, -999.000,5, -999.000,9,-999.0000,9,  -999.00,9,-999.000,9,   -999,-999.0000,-999.000,-999.000, 10.8992,-999.000
     32MW893_3,  P04E,   157,  1,     18,     18,2,19890422,2300,  9.4933,-131.1700, 4890,    246.0,  10.4615,  34.7165,2,  34.7107,2,   -999.0,5,     17.8,2,    31.94,2,    35.09,2,     0.00,2,     2.45,2,    0.047,2, -999.000,5, -999.000,9,-999.0000,9,  -999.00,9,-999.000,9,   -999,-999.0000,-999.000,-999.000, 10.4322,-999.000
     32MW893_3,  P04E,   157,  1,     17,     17,2,19890422,2300,  9.4933,-131.1700, 4890,    295.9,  10.0677,  34.6994,2,  34.6977,2,   -999.0,5,     14.8,2,    33.83,2,    36.07,2,     0.00,2,     2.52,2,    0.042,2, -999.000,5, -999.000,9,-999.0000,9,  -999.00,9,-999.000,9,   -999,-999.0000,-999.000,-999.000, 10.0332,-999.000
     32MW893_3,  P04E,   157,  1,     16,     16,2,19890422,2300,  9.4933,-131.1700, 4890,    397.8,   9.0730,  34.6348,2,  34.6408,2,   -999.0,5,      8.3,2,    41.07,2,    37.24,2,    -0.01,2,     2.74,2,    0.006,2, -999.000,5, -999.000,9,-999.0000,9,  -999.00,9,-999.000,9,   -999,-999.0000,-999.000,-999.000,  9.0293,-999.000
     32MW893_3,  P04E,   157,  1,     15,     15,2,19890422,2300,  9.4933,-131.1700, 4890,    496.7,   7.9334,  34.5822,2,  34.5916,2,   -999.0,5,   -999.0,5,    51.99,2,    38.71,2,    -0.01,2,     2.98,2,    0.010,2, -999.000,5, -999.000,9,-999.0000,9,  -999.00,9,-999.000,9,   -999,-999.0000,-999.000,-999.000,  7.8827,-999.000
     32MW893_3,  P04E,   157,  1,     14,     14,2,19890422,2300,  9.4933,-131.1700, 4890,    595.9,   6.6909,  34.5490,2,  34.5539,2,   -999.0,5,     10.0,2,    64.59,2,    41.64,2,    -0.01,2,     3.09,2, -999.000,9, -999.000,9, -999.000,9,-999.0000,9,  -999.00,9,-999.000,9,   -999,-999.0000,-999.000,-999.000,  6.6353,-999.000
     32MW893_3,  P04E,   157,  1,     12,     12,2,19890422,2300,  9.4933,-131.1700, 4890,    797.8,   5.3244,  34.5535,2,  34.5414,2,   -999.0,5,     22.2,2,    82.65,2,    44.09,2,    -0.01,2,     3.17,2,    0.004,2,    0.008,2, -999.000,9,-999.0000,9,  -999.00,9,-999.000,9,   -999,-999.0000,-999.000,-999.000,  5.2571,-999.000
     32MW893_3,  P04E,   157,  1,     11,     11,2,19890422,2300,  9.4933,-131.1700, 4890,    998.4,   4.3857,  34.5573,2,  34.5555,2,   -999.0,5,     38.7,2,    99.32,2,    43.89,2,     0.00,2,     3.16,2, -999.000,9, -999.000,9, -999.000,9,-999.0000,9,  -999.00,9,-999.000,9,   -999,-999.0000,-999.000,-999.000,  4.3072,-999.000
     32MW893_3,  P04E,   157,  1,     10,     10,2,19890422,2300,  9.4933,-131.1700, 4890,   1248.6,   3.5680,  34.5833,2,  34.5793,2,   -999.0,5,     61.3,2,   115.88,2,    42.62,2,     0.00,2,     3.05,2, -999.000,9, -999.000,9, -999.000,9,-999.0000,9,  -999.00,9,-999.000,9,   -999,-999.0000,-999.000,-999.000,  3.4753,-999.000
     32MW893_3,  P04E,   157,  1,      9,      9,2,19890422,2300,  9.4933,-131.1700, 4890,   1498.0,   2.9683,  34.6002,2,  34.6034,2,   -999.0,5,     73.4,2,   129.27,2,    42.03,2,     0.00,2,     2.98,2, -999.000,9, -999.000,9, -999.000,9,-999.0000,9,  -999.00,9,-999.000,9,   -999,-999.0000,-999.000,-999.000,  2.8609,-999.000
     32MW893_3,  P04E,   157,  1,      8,      8,2,19890422,2300,  9.4933,-131.1700, 4890,   1747.8,   2.5115,  34.6227,2,  34.6239,2,   -999.0,5,     85.2,2,   139.69,2,    41.05,2,     0.00,2,     2.88,2,    0.005,2, -999.000,5, -999.000,9,-999.0000,9,  -999.00,9,-999.000,9,   -999,-999.0000,-999.000,-999.000,  2.3889,-999.000
     32MW893_3,  P04E,   157,  1,      7,      7,2,19890422,2300,  9.4933,-131.1700, 4890,   1998.7,   2.1796,  34.6450,2,  34.6449,2,   -999.0,5,     93.9,2,   149.11,2,    40.66,2,     0.00,2,     2.83,2, -999.000,9, -999.000,9, -999.000,9,-999.0000,9,  -999.00,9,-999.000,9,   -999,-999.0000,-999.000,-999.000,  2.0405,-999.000
     32MW893_3,  P04E,   157,  1,      6,      6,2,19890422,2300,  9.4933,-131.1700, 4890,   2501.8,   1.8618,  34.6650,2,  34.6653,2,   -999.0,5,    109.1,2,   155.75,2,    39.39,2,     0.00,2,     2.73,2,    0.000,2, -999.000,5, -999.000,9,-999.0000,9,  -999.00,9,-999.000,9,   -999,-999.0000,-999.000,-999.000,  1.6838,-999.000
     32MW893_3,  P04E,   157,  1,      5,      5,2,19890422,2300,  9.4933,-131.1700, 4890,   3002.0,   1.6808,  34.6747,2,  34.6779,2,   -999.0,5,   -999.0,5,   157.74,2,    38.51,2,     0.00,2,     2.65,2, -999.000,9, -999.000,9, -999.000,9,-999.0000,9,  -999.00,9,-999.000,9,   -999,-999.0000,-999.000,-999.000,  1.4598,-999.000
     32MW893_3,  P04E,   157,  1,      4,      4,2,19890422,2300,  9.4933,-131.1700, 4890,   3503.8,   1.5129,  34.6855,2,  34.6854,2,   -999.0,5,    142.1,2,   154.07,2,    37.44,2,     0.00,2,     2.55,2, -999.000,9, -999.000,9, -999.000,9,-999.0000,9,  -999.00,9,-999.000,9,   -999,-999.0000,-999.000,-999.000,  1.2461,-999.000
     32MW893_3,  P04E,   157,  1,      3,      3,2,19890422,2300,  9.4933,-131.1700, 4890,   4005.5,   1.4090,  34.6906,2,  34.6911,2,   -999.0,5,    160.8,2,   146.33,2,    36.26,2,     0.00,2,     2.46,2, -999.000,9, -999.000,9, -999.000,9,-999.0000,9,  -999.00,9,-999.000,9,   -999,-999.0000,-999.000,-999.000,  1.0920,-999.000
     32MW893_3,  P04E,   157,  1,      2,      2,2,19890422,2300,  9.4933,-131.1700, 4890,   4505.0,   1.4220,  34.6924,2,  34.6936,2,   -999.0,5,    162.9,2,   143.55,2,    35.87,2,     0.00,2,     2.44,2, -999.000,9, -999.000,9, -999.000,9,-999.0000,9,  -999.00,9,-999.000,9,   -999,-999.0000,-999.000,-999.000,  1.0487,-999.000
     32MW893_3,  P04E,   157,  1,      1,      1,2,19890422,2300,  9.4933,-131.1700, 4890,   4960.5,   1.4669,  34.6932,2,  34.6930,2,   -999.0,5,    164.2,2,   142.86,2,    35.87,2,     0.00,2,     2.43,2,    0.003,2, -999.000,5, -999.000,9,-999.0000,9,  -999.00,9,-999.000,9,   -999,-999.0000,-999.000,-999.000,  1.0386,-999.000