BOTTLE,20020418WHPSIOdm
EXPOCODE,SECT_ID,STNNBR,CASTNO,SAMPNO,BTLNBR,BTLNBR_FLAG_W,DATE,TIME,LATITUDE,LONGITUDE,DEPTH,CTDPRS,CTDTMP,CTDSAL,CTDSAL_FLAG_W,SALNTY,SALNTY_FLAG_W,CTDOXY,CTDOXY_FLAG_W,OXYGEN,OXYGEN_FLAG_W,SILCAT,SILCAT_FLAG_W,NITRAT,NITRAT_FLAG_W,NITRIT,NITRIT_FLAG_W,PHSPHT,PHSPHT_FLAG_W,CFC-11,CFC-11_FLAG_W,CFC-12,CFC-12_FLAG_W,TRITUM,TRITUM_FLAG_W,HELIUM,HELIUM_FLAG_W,DELHE3,DELHE3_FLAG_W,NEON,NEON_FLAG_W,CTDRAW,HELIER,DELHER,NEONER,THETA,TRITER
,,,,,,,,,,,,DBAR,ITS-90,PSS-78,,PSS-78,,UMOL/KG,,UMOL/KG,,UMOL/KG,,UMOL/KG,,UMOL/KG,,UMOL/KG,,PMOL/KG,,PMOL/KG,,TU,,NMOL/KG,,PERCNT,,NMOL/KG,,,NMOL/KG,PERCNT,NMOL/KG,ITS-90,TU
     32MW893_3,  P04E,   124,  1,     24,     24,2,19890410,1759,  9.4867,-158.6633, 4669,      7.3,  26.7071,  34.6931,2,  34.6926,2,   -999.0,5,    211.2,2,     1.49,2,     0.10,2,     0.00,2,     0.23,2, -999.000,9, -999.000,9, -999.000,9,-999.0000,9,  -999.00,9,-999.000,9,   -999,-999.0000,-999.000,-999.000, 26.7054,-999.000
     32MW893_3,  P04E,   124,  1,     23,     23,2,19890410,1759,  9.4867,-158.6633, 4669,     47.1,  26.7081,  34.7462,2,  34.7500,2,   -999.0,5,    209.4,2,     1.49,2,     0.20,2,     0.01,2,     0.26,2, -999.000,9, -999.000,9, -999.000,9,-999.0000,9,  -999.00,9,-999.000,9,   -999,-999.0000,-999.000,-999.000, 26.6974,-999.000
     32MW893_3,  P04E,   124,  1,     22,     22,2,19890410,1759,  9.4867,-158.6633, 4669,     97.0,  18.6300,  34.8351,2,  34.8411,2,   -999.0,5,    183.8,2,     3.47,2,     4.01,2,     0.22,2,     0.49,2, -999.000,9, -999.000,9, -999.000,9,-999.0000,9,  -999.00,9,-999.000,9,   -999,-999.0000,-999.000,-999.000, 18.6130,-999.000
     32MW893_3,  P04E,   124,  1,     21,     21,2,19890410,1759,  9.4867,-158.6633, 4669,    146.9,  12.5418,  34.5245,2,  34.5054,2,   -999.0,5,     61.3,2,    21.73,2,    26.39,2,     0.02,2,     2.03,2, -999.000,9, -999.000,9, -999.000,9,-999.0000,9,  -999.00,9,-999.000,9,   -999,-999.0000,-999.000,-999.000, 12.5222,-999.000
     32MW893_3,  P04E,   124,  1,     20,     20,2,19890410,1759,  9.4867,-158.6633, 4669,    196.9,  10.9594,  34.7068,2,  34.7030,2,   -999.0,5,     16.1,2,    30.95,2,    34.21,2,     0.00,2,     2.51,2, -999.000,9, -999.000,9, -999.000,9,-999.0000,9,  -999.00,9,-999.000,9,   -999,-999.0000,-999.000,-999.000, 10.9353,-999.000
     32MW893_3,  P04E,   124,  1,     19,     19,2,19890410,1759,  9.4867,-158.6633, 4669,    247.1,  10.3235,  34.6856,2,  34.6964,2,   -999.0,5,     21.3,2,    32.94,2,    34.99,2,     0.00,2,     2.52,2, -999.000,9, -999.000,9, -999.000,9,-999.0000,9,  -999.00,9,-999.000,9,   -999,-999.0000,-999.000,-999.000, 10.2943,-999.000
     32MW893_3,  P04E,   124,  1,     18,     18,2,19890410,1759,  9.4867,-158.6633, 4669,    298.6,   9.7768,  34.6800,2,  34.6775,2,   -999.0,5,     20.9,2,    35.22,2,    36.16,2,     0.00,2,     2.60,2, -999.000,9, -999.000,9, -999.000,9,-999.0000,9,  -999.00,9,-999.000,9,   -999,-999.0000,-999.000,-999.000,  9.7426,-999.000
     32MW893_3,  P04E,   124,  1,     17,     17,2,19890410,1759,  9.4867,-158.6633, 4669,    397.3,   9.0470,  34.6414,2,  34.6413,2,   -999.0,5,     16.5,2,    40.38,2,    37.44,2,     0.00,2,     2.73,2, -999.000,9, -999.000,9, -999.000,9,-999.0000,9,  -999.00,9,-999.000,9,   -999,-999.0000,-999.000,-999.000,  9.0034,-999.000
     32MW893_3,  P04E,   124,  1,     16,     16,2,19890410,1759,  9.4867,-158.6633, 4669,    496.6,   7.9494,  34.5847,2,  34.5859,2,   -999.0,5,     22.2,2,    49.71,2,    38.61,2,     0.00,2,     2.88,2, -999.000,9, -999.000,9, -999.000,9,-999.0000,9,  -999.00,9,-999.000,9,   -999,-999.0000,-999.000,-999.000,  7.8986,-999.000
     32MW893_3,  P04E,   124,  1,     15,     15,2,19890410,1759,  9.4867,-158.6633, 4669,    596.5,   6.8538,  34.5473,2,  34.5478,2,   -999.0,5,     26.5,2,    61.52,2,    40.76,2,     0.00,2,     3.01,2, -999.000,9, -999.000,9, -999.000,9,-999.0000,9,  -999.00,9,-999.000,9,   -999,-999.0000,-999.000,-999.000,  6.7974,-999.000
     32MW893_3,  P04E,   124,  1,     13,     13,2,19890410,1759,  9.4867,-158.6633, 4669,    797.5,   5.2914,  34.5354,2,  34.5370,2,   -999.0,5,     31.7,2,    83.05,2,    43.50,2,     0.00,2,     3.16,2, -999.000,9, -999.000,9, -999.000,9,-999.0000,9,  -999.00,9,-999.000,9,   -999,-999.0000,-999.000,-999.000,  5.2243,-999.000
     32MW893_3,  P04E,   124,  1,     12,     12,2,19890410,1759,  9.4867,-158.6633, 4669,    899.8,   4.8685,  34.5432,2,  34.5427,2,   -999.0,5,     46.9,2,    89.00,2,    42.62,2,     0.00,2,     3.08,2, -999.000,9, -999.000,9, -999.000,9,-999.0000,9,  -999.00,9,-999.000,9,   -999,-999.0000,-999.000,-999.000,  4.7950,-999.000
     32MW893_3,  P04E,   124,  1,     11,     11,2,19890410,1759,  9.4867,-158.6633, 4669,    997.1,   4.5237,  34.5516,2,  34.5508,2,   -999.0,5,     51.3,2,    95.54,2,    42.62,2,     0.00,2,     3.07,2, -999.000,9, -999.000,9, -999.000,9,-999.0000,9,  -999.00,9,-999.000,9,   -999,-999.0000,-999.000,-999.000,  4.4442,-999.000
     32MW893_3,  P04E,   124,  1,     10,     10,2,19890410,1759,  9.4867,-158.6633, 4669,   1251.0,   3.5590,  34.5803,2,  34.5797,2,   -999.0,5,     67.4,2,   115.98,2,    42.23,2,     0.00,2,     3.03,2, -999.000,9, -999.000,9, -999.000,9,-999.0000,9,  -999.00,9,-999.000,9,   -999,-999.0000,-999.000,-999.000,  3.4661,-999.000
     32MW893_3,  P04E,   124,  1,      9,      9,2,19890410,1759,  9.4867,-158.6633, 4669,   1497.8,   2.9273,  34.6034,2,  34.6044,2,   -999.0,5,     79.1,2,   129.57,2,    41.54,2,     0.00,2,     2.97,2, -999.000,9, -999.000,9, -999.000,9,-999.0000,9,  -999.00,9,-999.000,9,   -999,-999.0000,-999.000,-999.000,  2.8204,-999.000
     32MW893_3,  P04E,   124,  1,      8,      8,2,19890410,1759,  9.4867,-158.6633, 4669,   2000.7,   2.1467,  34.6434,2,  34.6433,2,   -999.0,5,     99.5,2,   147.83,2,    40.37,2,     0.00,2,     2.83,2, -999.000,9, -999.000,9, -999.000,9,-999.0000,9,  -999.00,9,-999.000,9,   -999,-999.0000,-999.000,-999.000,  2.0079,-999.000
     32MW893_3,  P04E,   124,  1,      7,      7,2,19890410,1759,  9.4867,-158.6633, 4669,   2501.2,   1.8358,  34.6644,2,  34.6633,2,   -999.0,5,    116.0,2,   153.88,2,    39.20,2,     0.00,2,     2.75,2, -999.000,9, -999.000,9, -999.000,9,-999.0000,9,  -999.00,9,-999.000,9,   -999,-999.0000,-999.000,-999.000,  1.6584,-999.000
     32MW893_3,  P04E,   124,  1,      6,      6,2,19890410,1759,  9.4867,-158.6633, 4669,   3004.0,   1.6608,  34.6763,2,  34.6753,2,   -999.0,5,    128.6,2,   154.77,2,    38.41,2,     0.00,2,     2.68,2, -999.000,9, -999.000,9, -999.000,9,-999.0000,9,  -999.00,9,-999.000,9,   -999,-999.0000,-999.000,-999.000,  1.4401,-999.000
     32MW893_3,  P04E,   124,  1,      5,      5,2,19890410,1759,  9.4867,-158.6633, 4669,   3503.6,   1.5219,  34.6829,2,  34.6830,2,   -999.0,5,    143.4,2,   152.09,2,    37.44,2,     0.00,2,     2.60,2, -999.000,9, -999.000,9, -999.000,9,-999.0000,9,  -999.00,9,-999.000,9,   -999,-999.0000,-999.000,-999.000,  1.2549,-999.000
     32MW893_3,  P04E,   124,  1,      4,      4,2,19890410,1759,  9.4867,-158.6633, 4669,   4004.8,   1.4000,  34.6914,2,  34.6913,2,   -999.0,5,    162.5,2,   143.05,2,    36.07,2,     0.00,2,     2.49,2, -999.000,9, -999.000,9, -999.000,9,-999.0000,9,  -999.00,9,-999.000,9,   -999,-999.0000,-999.000,-999.000,  1.0833,-999.000
     32MW893_3,  P04E,   124,  1,      3,      3,2,19890410,1759,  9.4867,-158.6633, 4669,   4255.7,   1.3450,  34.6947,2,  34.6944,2,   -999.0,5,    171.6,2,   138.29,2,    35.48,2,     0.00,2,     2.44,2, -999.000,9, -999.000,9, -999.000,9,-999.0000,9,  -999.00,9,-999.000,9,   -999,-999.0000,-999.000,-999.000,  1.0024,-999.000
     32MW893_3,  P04E,   124,  1,      2,      2,2,19890410,1759,  9.4867,-158.6633, 4669,   4653.8,   1.3510,  34.6959,2,  34.6964,2,   -999.0,5,    176.4,2,   135.81,2,    35.09,2,     0.01,2,     2.42,2, -999.000,9, -999.000,9, -999.000,9,-999.0000,9,  -999.00,9,-999.000,9,   -999,-999.0000,-999.000,-999.000,  0.9628,-999.000
     32MW893_3,  P04E,   124,  1,      1,      1,2,19890410,1759,  9.4867,-158.6633, 4669,   4655.3,   1.3510,  34.6966,2,  34.6993,2,   -999.0,5,    176.0,2,   135.71,2,    34.86,2,     0.01,2,     2.42,2, -999.000,9, -999.000,9, -999.000,9,-999.0000,9,  -999.00,9,-999.000,9,   -999,-999.0000,-999.000,-999.000,  0.9626,-999.000
     32MW893_3,  P04E,   125,  1,     24,     24,2,19890411,0311,  9.4850,-157.8483, 5111,      5.9,  26.5591,  34.6431,2,  34.6411,2,   -999.0,5,    219.4,2,     1.58,2,     0.00,2,     0.00,2,     0.24,2,    1.741,2,    0.952,2, -999.000,9,-999.0000,9,  -999.00,9,-999.000,9,   -999,-999.0000,-999.000,-999.000, 26.5578,-999.000
     32MW893_3,  P04E,   125,  1,     23,     23,2,19890411,0311,  9.4850,-157.8483, 5111,     47.6,  26.4521,  34.7325,2,  34.7325,2,   -999.0,5,    219.0,2,     1.69,2,     0.10,2,     0.00,2,     0.24,2,    1.712,6,    0.923,6, -999.000,9,-999.0000,9,  -999.00,9,-999.000,9,   -999,-999.0000,-999.000,-999.000, 26.4415,-999.000
     32MW893_3,  P04E,   125,  1,     22,     22,2,19890411,0311,  9.4850,-157.8483, 5111,     96.0,  20.4805,  34.9669,2,  34.9014,2,   -999.0,5,    201.6,2,     2.68,2,     0.39,2,     0.00,2,     0.34,2,    1.975,2,    1.056,2, -999.000,9,-999.0000,9,  -999.00,9,-999.000,9,   -999,-999.0000,-999.000,-999.000, 20.4625,-999.000
     32MW893_3,  P04E,   125,  1,     21,     21,2,19890411,0311,  9.4850,-157.8483, 5111,    146.9,  11.9600,  34.6490,2,  34.6512,2,   -999.0,5,     37.8,2,    27.28,2,    31.18,2,     0.00,2,     2.30,2,    0.327,2,    0.176,2, -999.000,9,-999.0000,9,  -999.00,9,-999.000,9,   -999,-999.0000,-999.000,-999.000, 11.9410,-999.000
     32MW893_3,  P04E,   125,  1,     20,     20,2,19890411,0311,  9.4850,-157.8483, 5111,    198.3,  10.8464,  34.6943,2,  34.6914,2,   -999.0,5,     27.4,2,    31.05,2,    33.92,2,     0.00,2,     2.46,2,    0.131,2,    0.082,2, -999.000,9,-999.0000,9,  -999.00,9,-999.000,9,   -999,-999.0000,-999.000,-999.000, 10.8222,-999.000
     32MW893_3,  P04E,   125,  1,     19,     19,2,19890411,0311,  9.4850,-157.8483, 5111,    249.0,  10.3555,  34.7199,2,  34.7054,2,   -999.0,5,     20.9,2,    32.54,2,    35.28,2,     0.00,2,     2.52,2,    0.066,2, -999.000,5, -999.000,9,-999.0000,9,  -999.00,9,-999.000,9,   -999,-999.0000,-999.000,-999.000, 10.3260,-999.000
     32MW893_3,  P04E,   125,  1,     18,     18,2,19890411,0311,  9.4850,-157.8483, 5111,    297.5,   9.8587,  34.6907,2,  34.6863,2,   -999.0,5,     18.7,2,    34.92,2,    36.56,2,     0.00,2,     2.62,2,    0.033,2, -999.000,5, -999.000,9,-999.0000,9,  -999.00,9,-999.000,9,   -999,-999.0000,-999.000,-999.000,  9.8244,-999.000
     32MW893_3,  P04E,   125,  1,     17,     17,2,19890411,0311,  9.4850,-157.8483, 5111,    397.8,   9.0820,  34.6541,2,  34.6506,2,   -999.0,5,      9.6,2,    41.27,2,    37.83,2,     0.00,2,     2.83,2, -999.000,9, -999.000,9, -999.000,9,-999.0000,9,  -999.00,9,-999.000,9,   -999,-999.0000,-999.000,-999.000,  9.0382,-999.000
     32MW893_3,  P04E,   125,  1,     16,     16,2,19890411,0311,  9.4850,-157.8483, 5111,    498.4,   8.1313,  34.5916,2,  34.5903,2,   -999.0,5,     22.6,2,    47.72,2,    38.51,2,     0.00,2,     2.86,2,    0.022,2, -999.000,5, -999.000,9,-999.0000,9,  -999.00,9,-999.000,9,   -999,-999.0000,-999.000,-999.000,  8.0798,-999.000
     32MW893_3,  P04E,   125,  1,     15,     15,2,19890411,0311,  9.4850,-157.8483, 5111,    596.8,   7.0917,  34.5612,2,  34.5590,2,   -999.0,5,     20.9,2,    61.11,2,    41.06,2,     0.00,2,     3.14,2, -999.000,9, -999.000,9, -999.000,9,-999.0000,9,  -999.00,9,-999.000,9,   -999,-999.0000,-999.000,-999.000,  7.0342,-999.000
     32MW893_3,  P04E,   125,  1,     14,     14,2,19890411,0311,  9.4850,-157.8483, 5111,    698.4,   6.2860,  34.5370,2,  34.5353,2,   -999.0,5,     25.2,2,    68.36,2,    41.94,2,     0.00,2,     3.10,2, -999.000,5,    0.002,2, -999.000,9,-999.0000,9,  -999.00,9,-999.000,9,   -999,-999.0000,-999.000,-999.000,  6.2224,-999.000
     32MW893_3,  P04E,   125,  1,     13,     13,2,19890411,0311,  9.4850,-157.8483, 5111,    796.7,   5.4973,  34.5368,2,  34.5370,2,   -999.0,5,     39.1,2,    78.78,2,    42.62,2,     0.00,2,     3.10,2,    0.014,2, -999.000,5, -999.000,9,-999.0000,9,  -999.00,9,-999.000,9,   -999,-999.0000,-999.000,-999.000,  5.4290,-999.000
     32MW893_3,  P04E,   125,  1,     12,     12,2,19890411,0311,  9.4850,-157.8483, 5111,    898.0,   5.0475,  34.5485,2,  34.5474,2,   -999.0,5,     38.7,2,    86.22,2,    43.60,2,     0.00,2,     3.17,2,    0.002,2, -999.000,5, -999.000,9,-999.0000,9,  -999.00,9,-999.000,9,   -999,-999.0000,-999.000,-999.000,  4.9729,-999.000
     32MW893_3,  P04E,   125,  1,     11,     11,2,19890411,0311,  9.4850,-157.8483, 5111,    991.7,   4.5767,  34.5447,2,  34.5494,2,   -999.0,5,     56.9,2,    95.05,2,    42.72,2,     0.00,2,     3.11,2, -999.000,9, -999.000,9, -999.000,9,-999.0000,9,  -999.00,9,-999.000,9,   -999,-999.0000,-999.000,-999.000,  4.4972,-999.000
     32MW893_3,  P04E,   125,  1,     10,     10,2,19890411,0311,  9.4850,-157.8483, 5111,   1263.2,   3.6170,  34.5810,2,  34.5773,2,   -999.0,5,     64.7,2,   114.40,2,    42.33,2,     0.00,2,     3.08,2,    0.011,2, -999.000,5, -999.000,9,-999.0000,9,  -999.00,9,-999.000,9,   -999,-999.0000,-999.000,-999.000,  3.5226,-999.000
     32MW893_3,  P04E,   125,  1,      9,      9,2,19890411,0311,  9.4850,-157.8483, 5111,   1530.8,   2.8193,  34.6084,2,  34.6052,2,   -999.0,5,     81.3,2,   129.87,2,    41.54,2,     0.00,2,     3.00,2,    0.003,2,    0.008,2, -999.000,9,-999.0000,9,  -999.00,9,-999.000,9,   -999,-999.0000,-999.000,-999.000,  2.7109,-999.000
     32MW893_3,  P04E,   125,  1,      8,      8,2,19890411,0311,  9.4850,-157.8483, 5111,   2001.9,   2.1387,  34.6440,2,  34.6425,2,   -999.0,5,    103.4,2,   146.83,2,    40.08,2,     0.00,2,     2.85,2,    0.002,2,   -0.005,2, -999.000,9,-999.0000,9,  -999.00,9,-999.000,9,   -999,-999.0000,-999.000,-999.000,  1.9999,-999.000
     32MW893_3,  P04E,   125,  1,      7,      7,2,19890411,0311,  9.4850,-157.8483, 5111,   2501.9,   1.8168,  34.6647,2,  34.6647,2,   -999.0,5,    116.4,2,   153.77,2,    39.10,2,     0.00,2,     2.77,2,    0.004,2,    0.001,2, -999.000,9,-999.0000,9,  -999.00,9,-999.000,9,   -999,-999.0000,-999.000,-999.000,  1.6397,-999.000
     32MW893_3,  P04E,   125,  1,      6,      6,2,19890411,0311,  9.4850,-157.8483, 5111,   3002.1,   1.6658,  34.6743,2,  34.6744,2,   -999.0,5,    128.6,2,   155.26,2,    38.61,2,     0.00,2,     2.73,2,    0.002,2,   -0.005,2, -999.000,9,-999.0000,9,  -999.00,9,-999.000,9,   -999,-999.0000,-999.000,-999.000,  1.4452,-999.000
     32MW893_3,  P04E,   125,  1,      5,      5,2,19890411,0311,  9.4850,-157.8483, 5111,   3504.1,   1.5339,  34.6822,2,  34.6820,2,   -999.0,5,    143.0,2,   153.28,2,    37.73,2,     0.00,2,     2.65,2,    0.002,2,   -0.005,2, -999.000,9,-999.0000,9,  -999.00,9,-999.000,9,   -999,-999.0000,-999.000,-999.000,  1.2665,-999.000
     32MW893_3,  P04E,   125,  1,      4,      4,2,19890411,0311,  9.4850,-157.8483, 5111,   4003.3,   1.4100,  34.6900,2,  34.6903,2,   -999.0,5,    161.2,2,   144.84,2,    36.26,2,     0.00,2,     2.54,2,    0.000,2,    0.006,2, -999.000,9,-999.0000,9,  -999.00,9,-999.000,9,   -999,-999.0000,-999.000,-999.000,  1.0932,-999.000
     32MW893_3,  P04E,   125,  1,      3,      3,2,19890411,0311,  9.4850,-157.8483, 5111,   4504.7,   1.3450,  34.6952,2,  34.6954,2,   -999.0,5,    174.7,2,   137.00,2,    35.28,2,     0.00,2,     2.47,2,    0.001,2,   -0.005,2, -999.000,9,-999.0000,9,  -999.00,9,-999.000,9,   -999,-999.0000,-999.000,-999.000,  0.9743,-999.000
     32MW893_3,  P04E,   125,  1,      2,      2,2,19890411,0311,  9.4850,-157.8483, 5111,   5187.6,   1.3940,  34.6965,2,  34.6997,2,   -999.0,5,    179.0,2,   134.52,2,    34.99,2,     0.00,2,     2.45,2,    0.001,2,    0.008,2, -999.000,9,-999.0000,9,  -999.00,9,-999.000,9,   -999,-999.0000,-999.000,-999.000,  0.9403,-999.000
     32MW893_3,  P04E,   125,  1,      1,      1,2,19890411,0311,  9.4850,-157.8483, 5111,   5189.1,   1.3940,  34.6972,2,  34.6993,2,   -999.0,5,    179.0,2,   134.63,2,    34.66,2,     0.01,2,     2.45,2,   -0.003,2,    0.002,3, -999.000,9,-999.0000,9,  -999.00,9,-999.000,9,   -999,-999.0000,-999.000,-999.000,  0.9402,-999.000