BOTTLE,20020418WHPSIOdm
EXPOCODE,SECT_ID,STNNBR,CASTNO,SAMPNO,BTLNBR,BTLNBR_FLAG_W,DATE,TIME,LATITUDE,LONGITUDE,DEPTH,CTDPRS,CTDTMP,CTDSAL,CTDSAL_FLAG_W,SALNTY,SALNTY_FLAG_W,CTDOXY,CTDOXY_FLAG_W,OXYGEN,OXYGEN_FLAG_W,SILCAT,SILCAT_FLAG_W,NITRAT,NITRAT_FLAG_W,NITRIT,NITRIT_FLAG_W,PHSPHT,PHSPHT_FLAG_W,CFC-11,CFC-11_FLAG_W,CFC-12,CFC-12_FLAG_W,TRITUM,TRITUM_FLAG_W,HELIUM,HELIUM_FLAG_W,DELHE3,DELHE3_FLAG_W,NEON,NEON_FLAG_W,CTDRAW,HELIER,DELHER,NEONER,THETA,TRITER
,,,,,,,,,,,,DBAR,ITS-90,PSS-78,,PSS-78,,UMOL/KG,,UMOL/KG,,UMOL/KG,,UMOL/KG,,UMOL/KG,,UMOL/KG,,PMOL/KG,,PMOL/KG,,TU,,NMOL/KG,,PERCNT,,NMOL/KG,,,NMOL/KG,PERCNT,NMOL/KG,ITS-90,TU
     32MW893_3,  P04E,   128,  1,     24,     24,2,19890412,0625,  9.4917,-155.3450, 5173,      6.9,  26.6071,  34.7856,2,  34.7874,2,   -999.0,5,    204.6,2,     0.40,2,     0.29,2,     0.00,2,     0.26,2,    1.693,2,    0.908,2, -999.000,9,-999.0000,9,  -999.00,9,-999.000,9,   -999,-999.0000,-999.000,-999.000, 26.6055,-999.000
     32MW893_3,  P04E,   128,  1,     23,     23,2,19890412,0625,  9.4917,-155.3450, 5173,     46.4,  26.5641,  34.8534,2,  34.8532,2,   -999.0,5,    212.0,2,     0.60,2,     0.59,2,     0.00,2,     0.31,2,    1.699,2,    0.907,2, -999.000,9,-999.0000,9,  -999.00,9,-999.000,9,   -999,-999.0000,-999.000,-999.000, 26.5536,-999.000
     32MW893_3,  P04E,   128,  1,     22,     22,2,19890412,0625,  9.4917,-155.3450, 5173,     99.3,  17.4493,  34.5899,2,  34.5938,2,   -999.0,5,    167.7,2,     4.37,2,     7.23,2,     0.16,2,     0.78,2,    1.830,2,    0.943,2, -999.000,9,-999.0000,9,  -999.00,9,-999.000,9,   -999,-999.0000,-999.000,-999.000, 17.4327,-999.000
     32MW893_3,  P04E,   128,  1,     21,     21,2,19890412,0625,  9.4917,-155.3450, 5173,    146.8,  12.4888,  34.6637,2,  34.6612,2,   -999.0,5,     14.8,2,    25.10,2,    32.45,2,     0.00,2,     2.45,2,    0.320,2,    0.169,2, -999.000,9,-999.0000,9,  -999.00,9,-999.000,9,   -999,-999.0000,-999.000,-999.000, 12.4692,-999.000
     32MW893_3,  P04E,   128,  1,     20,     20,2,19890412,0625,  9.4917,-155.3450, 5173,    195.5,  11.3112,  34.7320,2,  34.7294,2,   -999.0,5,     13.9,2,    28.18,2,    34.31,2,     0.00,2,     2.50,2,    0.109,2, -999.000,5, -999.000,9,-999.0000,9,  -999.00,9,-999.000,9,   -999,-999.0000,-999.000,-999.000, 11.2867,-999.000
     32MW893_3,  P04E,   128,  1,     19,     19,2,19890412,0625,  9.4917,-155.3450, 5173,    246.3,  10.5815,  34.7137,2,  34.7192,2,   -999.0,5,     16.9,2,    30.16,2,    34.99,2,     0.00,2,     2.51,2,    0.070,2,    0.053,2, -999.000,9,-999.0000,9,  -999.00,9,-999.000,9,   -999,-999.0000,-999.000,-999.000, 10.5519,-999.000
     32MW893_3,  P04E,   128,  1,     18,     18,2,19890412,0625,  9.4917,-155.3450, 5173,    296.6,  10.1347,  34.6998,2,  34.6983,2,   -999.0,5,     16.1,2,    32.34,2,    35.87,2,     0.00,2,     2.58,2,    0.042,2,    0.043,2, -999.000,9,-999.0000,9,  -999.00,9,-999.000,9,   -999,-999.0000,-999.000,-999.000, 10.0999,-999.000
     32MW893_3,  P04E,   128,  1,     17,     17,2,19890412,0625,  9.4917,-155.3450, 5173,    397.2,   9.3848,  34.6608,2,  34.6649,2,   -999.0,5,      7.8,2,    37.30,2,    37.53,2,     0.00,2,     2.76,2,    0.009,2,    0.018,2, -999.000,9,-999.0000,9,  -999.00,9,-999.000,9,   -999,-999.0000,-999.000,-999.000,  9.3403,-999.000
     32MW893_3,  P04E,   128,  1,     16,     16,2,19890412,0625,  9.4917,-155.3450, 5173,    490.2,   8.5461,  34.6242,2,  34.6233,2,   -999.0,5,      7.4,2,    44.64,2,    37.93,2,     0.00,2,     2.93,2,    0.008,2, -999.000,5, -999.000,9,-999.0000,9,  -999.00,9,-999.000,9,   -999,-999.0000,-999.000,-999.000,  8.4939,-999.000
     32MW893_3,  P04E,   128,  1,     15,     15,2,19890412,0625,  9.4917,-155.3450, 5173,    596.6,   7.4606,  34.5714,2,  34.5714,2,   -999.0,5,     10.0,2,    55.66,2,    39.88,2,     0.00,2,     3.08,2,    0.001,2,    0.001,2, -999.000,9,-999.0000,9,  -999.00,9,-999.000,9,   -999,-999.0000,-999.000,-999.000,  7.4014,-999.000
     32MW893_3,  P04E,   128,  1,     14,     14,2,19890412,0625,  9.4917,-155.3450, 5173,    798.8,   5.7212,  34.5507,2,  34.5490,2,   -999.0,5,     21.3,2,    74.52,2,    43.99,2,     0.00,2,     3.23,2, -999.000,5,   -0.005,2, -999.000,9,-999.0000,9,  -999.00,9,-999.000,9,   -999,-999.0000,-999.000,-999.000,  5.6513,-999.000
     32MW893_3,  P04E,   128,  1,     13,     13,2,19890412,0625,  9.4917,-155.3450, 5173,    998.3,   4.6916,  34.5557,2,  34.5575,2,   -999.0,5,     43.0,2,    90.68,2,    43.60,2,     0.00,2,     3.18,2,    0.004,2, -999.000,5, -999.000,9,-999.0000,9,  -999.00,9,-999.000,9,   -999,-999.0000,-999.000,-999.000,  4.6107,-999.000
     32MW893_3,  P04E,   128,  1,     12,     12,2,19890412,0625,  9.4917,-155.3450, 5173,   1249.5,   3.7460,  34.5759,2,  34.5775,2,   -999.0,5,     63.0,2,   110.33,2,    42.42,2,     0.00,2,     3.07,2,   -0.001,2,    0.009,3, -999.000,9,-999.0000,9,  -999.00,9,-999.000,9,   -999,-999.0000,-999.000,-999.000,  3.6514,-999.000
     32MW893_3,  P04E,   128,  1,     11,     11,2,19890412,0625,  9.4917,-155.3450, 5173,   1501.6,   3.1133,  34.5973,2,  34.5967,2,   -999.0,5,     75.6,2,   124.12,2,    42.03,2,     0.00,2,     3.03,2, -999.000,9, -999.000,9, -999.000,9,-999.0000,9,  -999.00,9,-999.000,9,   -999,-999.0000,-999.000,-999.000,  3.0040,-999.000
     32MW893_3,  P04E,   128,  1,     10,     10,2,19890412,0625,  9.4917,-155.3450, 5173,   1999.6,   2.2596,  34.6359,2,  34.6360,2,   -999.0,5,     96.0,2,   143.96,2,    40.56,2,     0.00,2,     2.88,2,    0.001,2,   -0.005,2, -999.000,9,-999.0000,9,  -999.00,9,-999.000,9,   -999,-999.0000,-999.000,-999.000,  2.1192,-999.000
     32MW893_3,  P04E,   128,  1,      9,      9,2,19890412,0625,  9.4917,-155.3450, 5173,   2350.9,   1.9327,  34.6573,2,  34.6561,2,   -999.0,5,    109.5,2,   151.30,2,    39.59,2,     0.00,2,     2.79,2,    0.002,2,   -0.005,2, -999.000,9,-999.0000,9,  -999.00,9,-999.000,9,   -999,-999.0000,-999.000,-999.000,  1.7671,-999.000
     32MW893_3,  P04E,   128,  1,      8,      8,2,19890412,0625,  9.4917,-155.3450, 5173,   2703.2,   1.7978,  34.6685,2,  34.6671,2,   -999.0,5,    116.0,2,   154.67,2,    39.10,2,     0.00,2,     2.75,2,   -0.003,2,   -0.005,2, -999.000,9,-999.0000,9,  -999.00,9,-999.000,9,   -999,-999.0000,-999.000,-999.000,  1.6026,-999.000
     32MW893_3,  P04E,   128,  1,      7,      7,2,19890412,0625,  9.4917,-155.3450, 5173,   3003.4,   1.6888,  34.6749,2,-999.0000,5,   -999.0,5,    123.8,2,   157.25,2,    38.71,2,     0.00,2,     2.71,2,    0.002,2,    0.006,2, -999.000,9,-999.0000,9,  -999.00,9,-999.000,9,   -999,-999.0000,-999.000,-999.000,  1.4675,-999.000
     32MW893_3,  P04E,   128,  1,      6,      6,2,19890412,0625,  9.4917,-155.3450, 5173,   3352.2,   1.5758,  34.6792,2,  34.6797,2,   -999.0,5,    134.7,2,   157.64,2,    38.12,2,     0.00,2,     2.66,2,    0.002,2,   -0.005,2, -999.000,9,-999.0000,9,  -999.00,9,-999.000,9,   -999,-999.0000,-999.000,-999.000,  1.3228,-999.000
     32MW893_3,  P04E,   128,  1,      5,      5,2,19890412,0625,  9.4917,-155.3450, 5173,   3704.3,   1.4819,  34.6842,2,  34.6861,2,   -999.0,5,    149.9,2,   150.60,2,    36.75,2,     0.00,2,     2.57,2,   -0.003,2,    0.008,2, -999.000,9,-999.0000,9,  -999.00,9,-999.000,9,   -999,-999.0000,-999.000,-999.000,  1.1951,-999.000
     32MW893_3,  P04E,   128,  1,      4,      4,2,19890412,0625,  9.4917,-155.3450, 5173,   4003.8,   1.4120,  34.6901,2,  34.6867,2,   -999.0,5,    154.2,2,   146.43,2,    36.56,2,     0.00,2,     2.55,2,    0.004,2,   -0.005,2, -999.000,9,-999.0000,9,  -999.00,9,-999.000,9,   -999,-999.0000,-999.000,-999.000,  1.0951,-999.000
     32MW893_3,  P04E,   128,  1,      3,      3,2,19890412,0625,  9.4917,-155.3450, 5173,   4353.4,   1.3690,  34.6950,2,  34.6940,2,   -999.0,5,    169.5,2,   138.60,2,    35.58,2,     0.00,2,     2.46,2,    0.002,2,   -0.005,2, -999.000,9,-999.0000,9,  -999.00,9,-999.000,9,   -999,-999.0000,-999.000,-999.000,  1.0147,-999.000
     32MW893_3,  P04E,   128,  1,      2,      2,2,19890412,0625,  9.4917,-155.3450, 5173,   5074.3,   1.3960,  34.6953,2,  34.6975,2,   -999.0,5,    177.3,2,   134.42,2,    35.09,2,     0.00,2,     2.42,2,   -0.001,2,   -0.005,2, -999.000,9,-999.0000,9,  -999.00,9,-999.000,9,   -999,-999.0000,-999.000,-999.000,  0.9562,-999.000
     32MW893_3,  P04E,   128,  1,      1,      1,2,19890412,0625,  9.4917,-155.3450, 5173,   5081.2,   1.3970,  34.6965,2,  34.6975,2,   -999.0,5,    176.8,2,   134.82,2,    35.09,2,     0.00,2,     2.43,2,   -0.003,2,   -0.005,2, -999.000,9,-999.0000,9,  -999.00,9,-999.000,9,   -999,-999.0000,-999.000,-999.000,  0.9563,-999.000
     32MW893_3,  P04E,   129,  1,     24,     24,2,19890412,1544,  9.4867,-154.5083, 5209,      7.0,  26.5431,  34.8395,2,  34.8414,2,   -999.0,5,    209.4,2,     1.49,2,     0.39,2,     0.03,2,     0.29,2,    1.700,2,    0.937,2,    1.432,2,   1.8760,2,    -1.24,2,   6.965,2,   -999,  0.0080,   0.150,   0.042, 26.5415,   0.024
     32MW893_3,  P04E,   129,  1,     23,     23,2,19890412,1544,  9.4867,-154.5083, 5209,     47.5,  26.5401,  34.8410,2,  34.8418,2,   -999.0,5,    211.6,2,     1.49,2,     0.49,2,     0.01,2,     0.30,2,    1.695,2,    0.947,2,    1.572,2,   1.8620,2,    -1.11,2,   6.827,2,   -999,  0.0080,   0.150,   0.041, 26.5293,   0.024
     32MW893_3,  P04E,   129,  1,     22,     22,2,19890412,1544,  9.4867,-154.5083, 5209,     70.2,  26.4771,  34.8586,2,  34.8542,2,   -999.0,5,    209.4,2,     1.69,2,     0.68,2,     0.02,2,     0.32,2,    1.713,2,    0.931,2,    1.595,2,   1.8630,2,    -0.97,2,   6.833,2,   -999,  0.0080,   0.150,   0.041, 26.4612,   0.026
     32MW893_3,  P04E,   129,  1,     21,     21,2,19890412,1544,  9.4867,-154.5083, 5209,     96.3,  21.7192,  34.7653,2,  34.7536,2,   -999.0,5,    189.4,2,     3.08,2,     2.05,2,     0.08,2,     0.49,2,    1.838,2,    1.016,2,    2.129,2,   1.8990,2,     1.33,2,   7.154,2,   -999,  0.0090,   0.150,   0.043, 21.7004,   0.029
     32MW893_3,  P04E,   129,  1,     20,     20,2,19890412,1544,  9.4867,-154.5083, 5209,    122.8,  14.8481,  34.4522,2,  34.4595,2,   -999.0,5,    115.6,2,    12.89,2,    17.50,2,     0.87,2,     1.41,2,    1.424,2,    0.743,2,    1.748,2,   1.9210,2,     7.54,2,   7.976,2,   -999,  0.0090,   0.150,   0.048, 14.8298,   0.018
     32MW893_3,  P04E,   129,  1,     19,     19,2,19890412,1544,  9.4867,-154.5083, 5209,    147.4,  12.3059,  34.7217,2,  34.7180,2,   -999.0,5,     10.9,2,    27.58,2,    33.72,2,     0.02,2,     2.48,2,    0.201,2,    0.119,2,    0.566,2,   1.9760,2,     8.52,2,   7.993,2,   -999,  0.0090,   0.150,   0.048, 12.2865,   0.010
     32MW893_3,  P04E,   129,  1,     18,     18,2,19890412,1544,  9.4867,-154.5083, 5209,    172.7,  11.6131,  34.7424,2,  34.7370,2,   -999.0,5,     11.7,2,    29.16,2,    34.31,2,     0.00,2,     2.49,2,    0.122,2, -999.000,5,    0.359,2,   1.9550,2,     6.88,2,   8.191,2,   -999,  0.0090,   0.150,   0.049, 11.5911,   0.008
     32MW893_3,  P04E,   129,  1,     17,     17,2,19890412,1544,  9.4867,-154.5083, 5209,    197.2,  11.2153,  34.7296,2,  34.7319,2,   -999.0,5,     15.6,2,    30.26,2,    34.31,2,     0.00,2,     2.50,2,    0.096,2, -999.000,5,    0.267,2,   1.9730,2,     6.56,2,   8.276,2,   -999,  0.0090,   0.150,   0.050, 11.1907,   0.007
     32MW893_3,  P04E,   129,  1,     16,     16,2,19890412,1544,  9.4867,-154.5083, 5209,    247.4,  10.6145,  34.7150,2,  34.7225,2,   -999.0,5,     21.7,2,    32.24,2,    35.09,2,     0.00,2,     2.50,2,    0.072,2, -999.000,5,    0.217,2,-999.0000,9,  -999.00,9,-999.000,9,   -999,-999.0000,-999.000,-999.000, 10.5847,   0.007
     32MW893_3,  P04E,   129,  1,     15,     15,2,19890412,1544,  9.4867,-154.5083, 5209,    296.8,  10.1447,  34.7054,2,  34.7013,2,   -999.0,5,     17.4,2,    34.23,2,    35.48,2,     0.00,2,     2.57,2,    0.046,2, -999.000,5,    0.169,2,   1.9500,2,     5.55,2,   8.163,2,   -999,  0.0090,   0.150,   0.049, 10.1099,   0.007
     32MW893_3,  P04E,   129,  1,     14,     14,2,19890412,1544,  9.4867,-154.5083, 5209,    396.0,   9.3469,  34.6619,2,  34.6614,2,   -999.0,5,     10.0,2,    39.88,2,    36.85,2,     0.00,2,     2.75,2, -999.000,5,    0.014,2,    0.055,2,   1.9600,2,     5.20,2,   8.022,2,   -999,  0.0090,   0.150,   0.048,  9.3026,   0.006
     32MW893_3,  P04E,   129,  1,     13,     13,2,19890412,1544,  9.4867,-154.5083, 5209,    496.8,   8.3593,  34.6107,2,  34.6085,2,   -999.0,5,     10.9,2,    49.11,2,    38.32,2,     0.00,2,     2.89,2,    0.005,2,    0.006,2,    0.018,2,   2.0150,2,     6.63,2,   8.269,2,   -999,  0.0090,   0.150,   0.050,  8.3070,   0.006
     32MW893_3,  P04E,   129,  1,     12,     12,2,19890412,1544,  9.4867,-154.5083, 5209,    623.4,   7.1607,  34.5605,2,  34.5594,2,   -999.0,5,     13.5,2,    62.21,2,    40.96,2,     0.00,2,     3.08,2,   -0.002,2,    0.011,2, -999.000,9,-999.0000,9,  -999.00,9,-999.000,9,   -999,-999.0000,-999.000,-999.000,  7.1002,-999.000
     32MW893_3,  P04E,   129,  1,     11,     11,2,19890412,1544,  9.4867,-154.5083, 5209,    796.4,   5.7982,  34.5379,2,  34.5376,2,   -999.0,5,     33.9,2,    77.68,2,    43.30,2,     0.00,2,     3.11,2, -999.000,9, -999.000,9, -999.000,9,-999.0000,9,  -999.00,9,-999.000,9,   -999,-999.0000,-999.000,-999.000,  5.7281,-999.000
     32MW893_3,  P04E,   129,  1,     10,     10,2,19890412,1544,  9.4867,-154.5083, 5209,    996.5,   4.7985,  34.5571,2,  34.5559,2,   -999.0,5,     38.2,2,    92.77,2,    44.38,2,     0.00,2,     3.20,2,    0.000,2,    0.010,2, -999.000,9,-999.0000,9,  -999.00,9,-999.000,9,   -999,-999.0000,-999.000,-999.000,  4.7170,-999.000
     32MW893_3,  P04E,   129,  1,      9,      9,2,19890412,1544,  9.4867,-154.5083, 5209,   1498.0,   3.1632,  34.5991,2,  34.5958,2,   -999.0,5,     74.3,2,   124.81,2,    41.93,2,     0.00,2,     3.00,2,    0.000,2,    0.004,2, -999.000,9,-999.0000,9,  -999.00,9,-999.000,9,   -999,-999.0000,-999.000,-999.000,  3.0537,-999.000
     32MW893_3,  P04E,   129,  1,      8,      8,2,19890412,1544,  9.4867,-154.5083, 5209,   1993.0,   2.1726,  34.6414,2,  34.6429,2,   -999.0,5,    101.2,2,   145.35,2,    39.78,2,     0.00,2,     2.82,2,   -0.005,2,    0.002,2, -999.000,9,-999.0000,9,  -999.00,9,-999.000,9,   -999,-999.0000,-999.000,-999.000,  2.0341,-999.000
     32MW893_3,  P04E,   129,  1,      7,      7,2,19890412,1544,  9.4867,-154.5083, 5209,   2501.0,   1.8658,  34.6620,2,  34.6649,2,   -999.0,5,    114.3,2,   152.38,2,    39.29,2,     0.00,2,     2.76,2,   -0.003,2,   -0.005,2, -999.000,9,-999.0000,9,  -999.00,9,-999.000,9,   -999,-999.0000,-999.000,-999.000,  1.6878,-999.000
     32MW893_3,  P04E,   129,  1,      6,      6,2,19890412,1544,  9.4867,-154.5083, 5209,   3002.3,   1.7128,  34.6720,2,  34.6753,2,   -999.0,5,    126.0,2,   154.67,2,    38.61,2,     0.00,2,     2.71,2,    0.002,2,   -0.005,2, -999.000,9,-999.0000,9,  -999.00,9,-999.000,9,   -999,-999.0000,-999.000,-999.000,  1.4911,-999.000
     32MW893_3,  P04E,   129,  1,      5,      5,2,19890412,1544,  9.4867,-154.5083, 5209,   3504.4,   1.5718,  34.6797,2,  34.6822,2,   -999.0,5,    138.6,2,   153.67,2,    37.04,2,     0.00,2,     2.62,2,   -0.005,2,   -0.005,2, -999.000,9,-999.0000,9,  -999.00,9,-999.000,9,   -999,-999.0000,-999.000,-999.000,  1.3034,-999.000
     32MW893_3,  P04E,   129,  1,      4,      4,2,19890412,1544,  9.4867,-154.5083, 5209,   4002.8,   1.4510,  34.6872,2,  34.6856,2,   -999.0,5,    155.6,2,   145.84,2,    36.56,2,     0.00,2,     2.53,2,    0.002,2,   -0.005,2, -999.000,9,-999.0000,9,  -999.00,9,-999.000,9,   -999,-999.0000,-999.000,-999.000,  1.1331,-999.000
     32MW893_3,  P04E,   129,  1,      3,      3,2,19890412,1544,  9.4867,-154.5083, 5209,   4504.4,   1.3590,  34.6952,2,  34.6964,2,   -999.0,5,    173.4,2,   137.80,2,    35.38,2,     0.00,2,     2.45,2,   -0.004,2,   -0.005,2, -999.000,9,-999.0000,9,  -999.00,9,-999.000,9,   -999,-999.0000,-999.000,-999.000,  0.9879,-999.000
     32MW893_3,  P04E,   129,  1,      2,      2,2,19890412,1544,  9.4867,-154.5083, 5209,   4753.3,   1.3750,  34.6956,2,  34.6962,2,   -999.0,5,    176.8,2,   137.10,2,    35.28,2,     0.00,2,     2.43,2,    0.003,2,    0.000,2, -999.000,9,-999.0000,9,  -999.00,9,-999.000,9,   -999,-999.0000,-999.000,-999.000,  0.9744,-999.000
     32MW893_3,  P04E,   129,  1,      1,      1,2,19890412,1544,  9.4867,-154.5083, 5209,   5290.3,   1.4290,  34.6961,2,  34.6962,2,   -999.0,5,    176.4,2,   136.11,2,    34.85,2,     0.01,2,     2.44,2,   -0.009,2,   -0.005,2, -999.000,9,-999.0000,9,  -999.00,9,-999.000,9,   -999,-999.0000,-999.000,-999.000,  0.9614,-999.000