BOTTLE,20020418WHPSIOdm
EXPOCODE,SECT_ID,STNNBR,CASTNO,SAMPNO,BTLNBR,BTLNBR_FLAG_W,DATE,TIME,LATITUDE,LONGITUDE,DEPTH,CTDPRS,CTDTMP,CTDSAL,CTDSAL_FLAG_W,SALNTY,SALNTY_FLAG_W,CTDOXY,CTDOXY_FLAG_W,OXYGEN,OXYGEN_FLAG_W,SILCAT,SILCAT_FLAG_W,NITRAT,NITRAT_FLAG_W,NITRIT,NITRIT_FLAG_W,PHSPHT,PHSPHT_FLAG_W,CFC-11,CFC-11_FLAG_W,CFC-12,CFC-12_FLAG_W,TRITUM,TRITUM_FLAG_W,HELIUM,HELIUM_FLAG_W,DELHE3,DELHE3_FLAG_W,NEON,NEON_FLAG_W,CTDRAW,HELIER,DELHER,NEONER,THETA,TRITER
,,,,,,,,,,,,DBAR,ITS-90,PSS-78,,PSS-78,,UMOL/KG,,UMOL/KG,,UMOL/KG,,UMOL/KG,,UMOL/KG,,UMOL/KG,,PMOL/KG,,PMOL/KG,,TU,,NMOL/KG,,PERCNT,,NMOL/KG,,,NMOL/KG,PERCNT,NMOL/KG,ITS-90,TU
     32MW893_3,  P04E,   158,  1,     24,     24,2,19890423,0719,  9.5000,-130.3317, 4690,      6.2,  26.4781,  34.7715,2,  34.7742,2,   -999.0,5,    206.4,2,     1.49,2,     1.17,2,     0.04,2,     0.30,2,    1.717,2,    0.948,2,    1.499,2,   1.8750,2,    -0.92,2,   7.367,2,   -999,  0.0080,   0.150,   0.044, 26.4767,   0.023
     32MW893_3,  P04E,   158,  1,     23,     23,2,19890423,0719,  9.5000,-130.3317, 4690,     47.1,  26.3212,  34.7664,2,  34.7681,2,   -999.0,5,    212.5,2,     1.89,2,     1.56,2,     0.03,2,     0.35,2,    1.693,2,    0.923,2,    1.432,2,   1.8820,2,    -0.73,2,   7.481,2,   -999,  0.0080,   0.150,   0.045, 26.3106,   0.021
     32MW893_3,  P04E,   158,  1,     22,     22,2,19890423,0719,  9.5000,-130.3317, 4690,     73.1,  13.2856,  34.7163,2,  34.6288,2,   -999.0,5,     13.0,2,    23.91,2,    30.40,2,     0.19,2,     2.42,2,    0.514,2,    0.289,2,    1.214,2,   1.9320,2,     8.83,2,   7.831,2,   -999,  0.0090,   0.150,   0.047, 13.2755,   0.026
     32MW893_3,  P04E,   158,  1,     21,     21,2,19890423,0719,  9.5000,-130.3317, 4690,     97.4,  12.4008,  34.7275,2,  34.7331,2,   -999.0,5,      3.5,2,    27.48,2,    32.16,2,     0.02,2,     2.48,2,    0.203,2,    0.129,2,    0.831,2,   1.9380,2,     8.72,2,   7.831,2,   -999,  0.0090,   0.150,   0.047, 12.3879,   0.011
     32MW893_3,  P04E,   158,  1,     20,     20,2,19890423,0719,  9.5000,-130.3317, 4690,    123.7,  11.8271,  34.7535,2,  34.7518,2,   -999.0,5,     18.2,2,    27.58,2,    33.23,2,     0.01,2,     2.35,2,    0.179,2, -999.000,5,    0.585,2,   1.9470,2,     7.68,2,   7.842,2,   -999,  0.0090,   0.150,   0.047, 11.8112,   0.009
     32MW893_3,  P04E,   158,  1,     19,     19,2,19890423,0719,  9.5000,-130.3317, 4690,    146.7,  11.5071,  34.7526,2,  34.7496,2,   -999.0,5,     20.0,2,    28.47,2,    33.23,2,     0.00,2,     2.37,2,    0.150,2, -999.000,5,    0.500,2,   1.9490,2,     7.13,2,   7.899,2,   -999,  0.0090,   0.150,   0.047, 11.4886,   0.009
     32MW893_3,  P04E,   158,  1,     18,     18,2,19890423,0719,  9.5000,-130.3317, 4690,    173.5,  11.2213,  34.7450,2,  34.7422,2,   -999.0,5,     13.9,2,    29.96,2,    34.11,2,     0.00,2,     2.43,2,    0.106,2, -999.000,5,    0.388,2,   1.9590,2,     6.59,2,   7.827,2,   -999,  0.0090,   0.150,   0.047, 11.1997,   0.008
     32MW893_3,  P04E,   158,  1,     17,     17,2,19890423,0719,  9.5000,-130.3317, 4690,    195.5,  10.9874,  34.7365,2,  34.7335,2,   -999.0,5,     14.8,2,    30.46,2,    34.31,2,     0.00,2,     2.43,2,    0.087,2, -999.000,5,    0.322,2,   1.9590,2,     6.14,2,   8.063,2,   -999,  0.0090,   0.150,   0.048, 10.9634,   0.007
     32MW893_3,  P04E,   158,  1,     16,     16,2,19890423,0719,  9.5000,-130.3317, 4690,    248.7,  10.4625,  34.7156,2,  34.7160,2,   -999.0,5,      9.1,2,    33.04,2,    35.19,2,     0.00,2,     2.55,2,    0.051,2, -999.000,5,    0.195,2,   1.9640,2,     5.56,2,   8.033,2,   -999,  0.0090,   0.150,   0.048, 10.4328,   0.006
     32MW893_3,  P04E,   158,  1,     15,     15,2,19890423,0719,  9.5000,-130.3317, 4690,    297.4,  10.0227,  34.6993,2,  34.6981,2,   -999.0,5,      4.8,2,    35.81,2,    35.68,2,     0.00,2,     2.67,2,    0.024,2, -999.000,5,    0.113,2,   1.9430,2,     5.37,2,   7.942,2,   -999,  0.0090,   0.150,   0.048,  9.9881,   0.006
     32MW893_3,  P04E,   158,  1,     13,     13,2,19890423,0719,  9.5000,-130.3317, 4690,    498.1,   7.9884,  34.5811,2,  34.5879,2,   -999.0,5,      3.9,2,    52.58,2,    38.12,2,     0.00,2,     2.99,2,    0.001,2,    0.012,2,    0.001,2,   1.9890,2,     6.91,2,   8.147,2,   -999,  0.0090,   0.150,   0.049,  7.9373,   0.005
     32MW893_3,  P04E,   158,  1,     12,     12,2,19890423,0719,  9.5000,-130.3317, 4690,    618.9,   6.6109,  34.5544,2,  34.5577,2,   -999.0,5,      7.8,2,    66.08,2,    42.03,2,     0.00,2,     3.13,2,    0.002,2,    0.005,2, -999.000,9,-999.0000,9,  -999.00,9,-999.000,9,   -999,-999.0000,-999.000,-999.000,  6.5534,-999.000
     32MW893_3,  P04E,   158,  1,     11,     11,2,19890423,0719,  9.5000,-130.3317, 4690,    799.7,   5.3413,  34.5423,2,  34.5400,2,   -999.0,5,     31.7,2,    82.15,2,    43.01,2,     0.00,2,     3.12,2,    0.001,2,    0.001,2, -999.000,9,   2.0500,2,    14.03,2,   8.296,2,   -999,  0.0090,   0.150,   0.050,  5.2737,-999.000
     32MW893_3,  P04E,   158,  1,     10,     10,2,19890423,0719,  9.5000,-130.3317, 4690,    996.6,   4.4057,  34.5587,2,  34.5577,2,   -999.0,5,     47.8,2,    97.23,2,    42.62,2,     0.00,2,     3.09,2,    0.003,2,    0.000,2, -999.000,9,   1.8430,2,    17.64,2,   7.504,2,   -999,  0.0080,   0.150,   0.045,  4.3272,-999.000
     32MW893_3,  P04E,   158,  1,      9,      9,2,19890423,0719,  9.5000,-130.3317, 4690,   1248.4,   3.6020,  34.5836,2,-999.0000,5,   -999.0,5,     62.1,2,   115.39,2,    42.13,2,     0.00,2,     3.04,2,    0.006,2, -999.000,5, -999.000,9,   2.0340,2,    22.06,2,   8.382,2,   -999,  0.0090,   0.150,   0.050,  3.5090,-999.000
     32MW893_3,  P04E,   158,  1,      8,      8,2,19890423,0719,  9.5000,-130.3317, 4690,   1500.0,   3.0223,  34.6037,2,  34.6052,2,   -999.0,5,     72.1,2,   129.17,2,    41.74,2,     0.00,2,     3.00,2,    0.007,2,    0.014,2, -999.000,9,   2.0550,2,    24.09,2,   8.428,2,   -999,  0.0090,   0.150,   0.051,  2.9141,-999.000
     32MW893_3,  P04E,   158,  1,      7,      7,2,19890423,0719,  9.5000,-130.3317, 4690,   1999.7,   2.2066,  34.6442,2,-999.0000,5,   -999.0,5,     92.6,2,   149.42,2,    40.57,2,     0.00,2,     2.87,2,    0.002,2, -999.000,5, -999.000,9,   2.1110,2,    28.22,2,   8.387,2,   -999,  0.0100,   0.150,   0.050,  2.0671,-999.000
     32MW893_3,  P04E,   158,  1,      6,      6,2,19890423,0719,  9.5000,-130.3317, 4690,   2499.1,   1.8518,  34.6674,2,  34.6667,2,   -999.0,5,    111.2,2,   157.54,2,    39.00,2,     0.00,2,     2.75,2,   -0.002,2,    0.000,2, -999.000,9,   2.0940,2,    33.78,2,   8.524,2,   -999,  0.0090,   0.150,   0.051,  1.6743,-999.000
     32MW893_3,  P04E,   158,  1,      5,      5,2,19890423,0719,  9.5000,-130.3317, 4690,   3001.6,   1.6558,  34.6772,2,  34.6777,2,   -999.0,5,    127.7,2,   157.74,2,    38.02,2,     0.00,2,     2.66,2, -999.000,9, -999.000,9, -999.000,9,   2.0790,2,    26.87,2,   8.522,2,   -999,  0.0090,   0.150,   0.051,  1.4355,-999.000
     32MW893_3,  P04E,   158,  1,      4,      4,2,19890423,0719,  9.5000,-130.3317, 4690,   3504.7,   1.5089,  34.6847,2,  34.6858,2,   -999.0,5,    144.3,2,   154.76,2,    37.04,2,     0.00,2,     2.57,2,    0.003,2,    0.004,2, -999.000,9,   2.0540,2,    19.96,2,   8.476,2,   -999,  0.0090,   0.150,   0.051,  1.2421,-999.000
     32MW893_3,  P04E,   158,  1,      3,      3,2,19890423,0719,  9.5000,-130.3317, 4690,   4003.6,   1.3970,  34.6909,2,  34.6918,2,   -999.0,5,    160.3,2,   147.52,2,    35.87,2,     0.00,2,     2.48,2,    0.002,2,   -0.003,2, -999.000,9,   2.0910,2,    14.83,2,   8.296,2,   -999,  0.0090,   0.150,   0.050,  1.0805,-999.000
     32MW893_3,  P04E,   158,  1,      2,      2,2,19890423,0719,  9.5000,-130.3317, 4690,   4503.7,   1.4290,  34.6932,2,  34.6948,2,   -999.0,5,    164.7,2,   145.54,2,    35.77,2,     0.00,2,     2.44,2,    0.000,2,    0.001,2, -999.000,9,   2.1070,2,    14.24,2,   8.555,2,   -999,  0.0090,   0.150,   0.051,  1.0557,-999.000
     32MW893_3,  P04E,   158,  1,      1,      1,2,19890423,0719,  9.5000,-130.3317, 4690,   4770.1,   1.4550,  34.6932,2,  34.6944,2,   -999.0,5,    165.1,2,   145.04,2,    35.77,2,     0.00,2,     2.47,2,    0.002,2, -999.000,5, -999.000,9,   1.9640,2,    14.31,2,   8.203,2,   -999,  0.0090,   0.150,   0.049,  1.0497,-999.000
     32MW893_3,  P04E,   159,  1,     24,     24,2,19890423,1545,  9.4967,-129.5017, 4725,      6.8,  26.5961,  34.6576,2,  34.6565,2,   -999.0,5,    211.6,2,     1.19,2,     0.00,2,    -0.01,2,     0.24,2,    1.726,2,    0.973,2, -999.000,9,-999.0000,9,  -999.00,9,-999.000,9,   -999,-999.0000,-999.000,-999.000, 26.5946,-999.000
     32MW893_3,  P04E,   159,  1,     23,     23,2,19890423,1545,  9.4967,-129.5017, 4725,     46.6,  26.5681,  34.6630,2,  34.6577,2,   -999.0,5,    212.9,2,     1.58,2,     0.29,2,    -0.01,2,     0.29,2,    1.657,2,    0.913,2, -999.000,9,-999.0000,9,  -999.00,9,-999.000,9,   -999,-999.0000,-999.000,-999.000, 26.5576,-999.000
     32MW893_3,  P04E,   159,  1,     22,     22,2,19890423,1545,  9.4967,-129.5017, 4725,     72.4,  13.7654,  34.7102,2,  34.7235,2,   -999.0,5,     12.6,2,    23.31,2,    31.67,2,     0.27,2,     2.45,2,    0.381,2,    0.203,2, -999.000,9,-999.0000,9,  -999.00,9,-999.000,9,   -999,-999.0000,-999.000,-999.000, 13.7551,-999.000
     32MW893_3,  P04E,   159,  1,     21,     21,2,19890423,1545,  9.4967,-129.5017, 4725,     96.3,  12.6868,  34.7708,2,  34.7783,2,   -999.0,5,      4.3,2,    25.60,2,    34.11,2,     0.05,2,     2.47,2,    0.205,2,    0.119,2, -999.000,9,-999.0000,9,  -999.00,9,-999.000,9,   -999,-999.0000,-999.000,-999.000, 12.6738,-999.000
     32MW893_3,  P04E,   159,  1,     20,     20,2,19890423,1545,  9.4967,-129.5017, 4725,    121.6,  12.0990,  34.7720,2,  34.7799,2,   -999.0,5,      9.6,2,    26.79,2,    34.40,2,    -0.01,2,     2.45,2,    0.165,2,    0.102,2, -999.000,9,-999.0000,9,  -999.00,9,-999.000,9,   -999,-999.0000,-999.000,-999.000, 12.0831,-999.000
     32MW893_3,  P04E,   159,  1,     19,     19,2,19890423,1545,  9.4967,-129.5017, 4725,    146.5,  11.6771,  34.7607,2,  34.7573,2,   -999.0,5,     12.2,2,    27.97,2,    34.50,2,    -0.01,2,     2.45,2,    0.133,2, -999.000,5, -999.000,9,-999.0000,9,  -999.00,9,-999.000,9,   -999,-999.0000,-999.000,-999.000, 11.6584,-999.000
     32MW893_3,  P04E,   159,  1,     18,     18,2,19890423,1545,  9.4967,-129.5017, 4725,    197.0,  11.0813,  34.7418,2,  34.7380,2,   -999.0,5,     18.2,2,    29.66,2,    34.70,2,    -0.01,2,     2.44,2,    0.110,2, -999.000,5, -999.000,9,-999.0000,9,  -999.00,9,-999.000,9,   -999,-999.0000,-999.000,-999.000, 11.0570,-999.000
     32MW893_3,  P04E,   159,  1,     17,     17,2,19890423,1545,  9.4967,-129.5017, 4725,    248.0,  10.5765,  34.7225,2,  34.7209,2,   -999.0,5,     10.9,2,    31.94,2,    35.58,2,    -0.01,2,     2.55,2,    0.071,2, -999.000,5, -999.000,9,-999.0000,9,  -999.00,9,-999.000,9,   -999,-999.0000,-999.000,-999.000, 10.5467,-999.000
     32MW893_3,  P04E,   159,  1,     16,     16,2,19890423,1545,  9.4967,-129.5017, 4725,    297.2,  10.1257,  34.7039,2,  34.7017,2,   -999.0,5,      6.1,2,    34.62,2,    36.16,2,    -0.01,2,     2.64,2,    0.030,2, -999.000,5, -999.000,9,-999.0000,9,  -999.00,9,-999.000,9,   -999,-999.0000,-999.000,-999.000, 10.0909,-999.000
     32MW893_3,  P04E,   159,  1,     15,     15,2,19890423,1545,  9.4967,-129.5017, 4725,    397.4,   9.1080,  34.6463,2,  34.6529,2,   -999.0,5,      4.8,2,    42.46,2,    36.56,2,    -0.01,2,     2.85,2,    0.008,2, -999.000,5, -999.000,9,-999.0000,9,  -999.00,9,-999.000,9,   -999,-999.0000,-999.000,-999.000,  9.0642,-999.000
     32MW893_3,  P04E,   159,  1,     14,     14,2,19890423,1545,  9.4967,-129.5017, 4725,    499.4,   7.7974,  34.5720,2,  34.5742,2,   -999.0,5,      4.8,2,    54.57,2,    38.42,2,    -0.01,2,     3.04,2,    0.000,2,    0.015,2, -999.000,9,-999.0000,9,  -999.00,9,-999.000,9,   -999,-999.0000,-999.000,-999.000,  7.7469,-999.000
     32MW893_3,  P04E,   159,  1,     13,     13,2,19890423,1545,  9.4967,-129.5017, 4725,    596.8,   6.7239,  34.5391,2,  34.5380,2,   -999.0,5,     11.3,2,    65.08,2,    41.54,2,    -0.01,2,     3.13,2,    0.000,2,    0.006,2, -999.000,9,-999.0000,9,  -999.00,9,-999.000,9,   -999,-999.0000,-999.000,-999.000,  6.6680,-999.000
     32MW893_3,  P04E,   159,  1,     12,     12,2,19890423,1545,  9.4967,-129.5017, 4725,    697.6,   5.9662,  34.5417,2,  34.5404,2,   -999.0,5,     13.9,2,    73.92,2,    43.89,2,     0.00,2,     3.21,2,    0.002,2, -999.000,5, -999.000,9,-999.0000,9,  -999.00,9,-999.000,9,   -999,-999.0000,-999.000,-999.000,  5.9044,-999.000
     32MW893_3,  P04E,   159,  1,     11,     11,2,19890423,1545,  9.4967,-129.5017, 4725,    800.0,   5.4143,  34.5440,2,  34.5423,2,   -999.0,5,     30.4,2,    80.17,2,    43.89,2,     0.00,2,     3.16,2, -999.000,9, -999.000,9, -999.000,9,-999.0000,9,  -999.00,9,-999.000,9,   -999,-999.0000,-999.000,-999.000,  5.3462,-999.000
     32MW893_3,  P04E,   159,  1,     10,     10,2,19890423,1545,  9.4967,-129.5017, 4725,    998.8,   4.4937,  34.5574,2,  34.5579,2,   -999.0,5,     48.2,2,    96.14,2,    43.50,2,     0.00,2,     3.15,2,    0.013,2,    0.010,2, -999.000,9,-999.0000,9,  -999.00,9,-999.000,9,   -999,-999.0000,-999.000,-999.000,  4.4142,-999.000
     32MW893_3,  P04E,   159,  1,      9,      9,2,19890423,1545,  9.4967,-129.5017, 4725,   1249.2,   3.6120,  34.5825,2,  34.5806,2,   -999.0,5,     61.3,2,   114.89,2,    43.11,2,     0.00,2,  -999.00,5, -999.000,9, -999.000,9, -999.000,9,-999.0000,9,  -999.00,9,-999.000,9,   -999,-999.0000,-999.000,-999.000,  3.5188,-999.000
     32MW893_3,  P04E,   159,  1,      8,      8,2,19890423,1545,  9.4967,-129.5017, 4725,   1498.0,   3.0153,  34.6028,2,  34.6038,2,   -999.0,5,     77.8,2,   128.48,2,    41.84,2,     0.00,2,     2.97,2,    0.007,2,    0.006,2, -999.000,9,-999.0000,9,  -999.00,9,-999.000,9,   -999,-999.0000,-999.000,-999.000,  2.9074,-999.000
     32MW893_3,  P04E,   159,  1,      7,      7,2,19890423,1545,  9.4967,-129.5017, 4725,   1998.8,   2.1956,  34.6456,2,  34.6470,2,   -999.0,5,     93.9,2,   149.91,2,    40.95,2,     0.00,2,     2.90,2, -999.000,9, -999.000,9, -999.000,9,-999.0000,9,  -999.00,9,-999.000,9,   -999,-999.0000,-999.000,-999.000,  2.0562,-999.000
     32MW893_3,  P04E,   159,  1,      6,      6,2,19890423,1545,  9.4967,-129.5017, 4725,   2500.1,   1.8418,  34.6668,2,-999.0000,5,   -999.0,5,    110.4,2,   157.15,2,    39.49,2,     0.00,2,     2.77,2,    0.002,2,    0.007,2, -999.000,9,-999.0000,9,  -999.00,9,-999.000,9,   -999,-999.0000,-999.000,-999.000,  1.6644,-999.000
     32MW893_3,  P04E,   159,  1,      5,      5,2,19890423,1545,  9.4967,-129.5017, 4725,   3000.8,   1.6818,  34.6772,2,  34.6771,2,   -999.0,5,    126.9,2,   157.64,2,    38.61,2,     0.00,2,     2.66,2, -999.000,9, -999.000,9, -999.000,9,-999.0000,9,  -999.00,9,-999.000,9,   -999,-999.0000,-999.000,-999.000,  1.4609,-999.000
     32MW893_3,  P04E,   159,  1,      4,      4,2,19890423,1545,  9.4967,-129.5017, 4725,   3502.3,   1.5239,  34.6848,2,  34.6852,2,   -999.0,5,    143.4,2,   155.46,2,    37.73,2,     0.00,2,     2.60,2,    0.003,2, -999.000,5, -999.000,9,-999.0000,9,  -999.00,9,-999.000,9,   -999,-999.0000,-999.000,-999.000,  1.2569,-999.000
     32MW893_3,  P04E,   159,  1,      3,      3,2,19890423,1545,  9.4967,-129.5017, 4725,   4005.6,   1.4040,  34.6903,2,  34.6913,2,   -999.0,5,    161.2,2,   148.21,2,    36.46,2,     0.00,2,     2.51,2, -999.000,9, -999.000,9, -999.000,9,-999.0000,9,  -999.00,9,-999.000,9,   -999,-999.0000,-999.000,-999.000,  1.0871,-999.000
     32MW893_3,  P04E,   159,  1,      2,      2,2,19890423,1545,  9.4967,-129.5017, 4725,   4506.1,   1.4330,  34.6919,2,  34.6936,2,   -999.0,5,    164.2,2,   145.63,2,    36.26,2,     0.00,2,     2.49,2,    0.001,2, -999.000,5, -999.000,9,-999.0000,9,  -999.00,9,-999.000,9,   -999,-999.0000,-999.000,-999.000,  1.0593,-999.000
     32MW893_3,  P04E,   159,  1,      1,      1,2,19890423,1545,  9.4967,-129.5017, 4725,   4786.4,   1.4629,  34.6932,2,  34.6924,2,   -999.0,5,    164.2,2,   145.73,2,    35.77,2,     0.00,2,     2.47,2,    0.001,2, -999.000,5, -999.000,9,-999.0000,9,  -999.00,9,-999.000,9,   -999,-999.0000,-999.000,-999.000,  1.0555,-999.000