BOTTLE,20020418WHPSIOdm
EXPOCODE,SECT_ID,STNNBR,CASTNO,SAMPNO,BTLNBR,BTLNBR_FLAG_W,DATE,TIME,LATITUDE,LONGITUDE,DEPTH,CTDPRS,CTDTMP,CTDSAL,CTDSAL_FLAG_W,SALNTY,SALNTY_FLAG_W,CTDOXY,CTDOXY_FLAG_W,OXYGEN,OXYGEN_FLAG_W,SILCAT,SILCAT_FLAG_W,NITRAT,NITRAT_FLAG_W,NITRIT,NITRIT_FLAG_W,PHSPHT,PHSPHT_FLAG_W,CFC-11,CFC-11_FLAG_W,CFC-12,CFC-12_FLAG_W,TRITUM,TRITUM_FLAG_W,HELIUM,HELIUM_FLAG_W,DELHE3,DELHE3_FLAG_W,NEON,NEON_FLAG_W,CTDRAW,HELIER,DELHER,NEONER,THETA,TRITER
,,,,,,,,,,,,DBAR,ITS-90,PSS-78,,PSS-78,,UMOL/KG,,UMOL/KG,,UMOL/KG,,UMOL/KG,,UMOL/KG,,UMOL/KG,,PMOL/KG,,PMOL/KG,,TU,,NMOL/KG,,PERCNT,,NMOL/KG,,,NMOL/KG,PERCNT,NMOL/KG,ITS-90,TU
     32MW893_3,  P04E,   184,  1,     24,     24,2,19890501,1825,  9.5017,-108.6700, 3470,      5.9,  28.6477,  34.2684,2,  34.2652,2,   -999.0,5,    210.4,2,     0.50,2,     0.10,2,    -0.01,2,     0.26,2,    1.596,2,    0.874,2, -999.000,9,-999.0000,9,  -999.00,9,-999.000,9,   -999,-999.0000,-999.000,-999.000, 28.6463,-999.000
     32MW893_3,  P04E,   184,  1,     23,     23,2,19890501,1825,  9.5017,-108.6700, 3470,     48.4,  25.3284,  34.1704,2,  34.1729,2,   -999.0,5,    193.4,2,     1.99,2,     2.64,2,     0.48,2,     0.49,2,    1.652,2,    0.932,2, -999.000,9,-999.0000,9,  -999.00,9,-999.000,9,   -999,-999.0000,-999.000,-999.000, 25.3178,-999.000
     32MW893_3,  P04E,   184,  1,     22,     22,2,19890501,1825,  9.5017,-108.6700, 3470,     73.6,  18.5930,  34.5446,2,  34.5119,2,   -999.0,5,     54.3,2,    13.43,2,    25.90,2,     0.09,2,     1.98,2,    1.094,2,    0.627,2, -999.000,9,-999.0000,9,  -999.00,9,-999.000,9,   -999,-999.0000,-999.000,-999.000, 18.5801,-999.000
     32MW893_3,  P04E,   184,  1,     21,     21,2,19890501,1825,  9.5017,-108.6700, 3470,     96.7,  14.3822,  34.8357,2,  34.7986,2,   -999.0,5,      2.2,2,    22.18,2,    30.98,2,     0.02,2,     2.37,2,    0.400,2,    0.254,2, -999.000,9,-999.0000,9,  -999.00,9,-999.000,9,   -999,-999.0000,-999.000,-999.000, 14.3681,-999.000
     32MW893_3,  P04E,   184,  1,     20,     20,2,19890501,1825,  9.5017,-108.6700, 3470,    121.8,  13.2036,  34.8001,2,  34.7978,2,   -999.0,5,      7.0,2,    24.06,2,    32.35,2,     0.00,2,     2.34,2,    0.289,2,    0.178,2, -999.000,9,-999.0000,9,  -999.00,9,-999.000,9,   -999,-999.0000,-999.000,-999.000, 13.1867,-999.000
     32MW893_3,  P04E,   184,  1,     19,     19,2,19890501,1825,  9.5017,-108.6700, 3470,    147.1,  12.5728,  34.7820,2,  34.7860,2,   -999.0,5,      9.6,2,    25.56,2,    32.64,2,     0.00,2,     2.36,2,    0.223,2,    0.144,2, -999.000,9,-999.0000,9,  -999.00,9,-999.000,9,   -999,-999.0000,-999.000,-999.000, 12.5531,-999.000
     32MW893_3,  P04E,   184,  1,     18,     18,2,19890501,1825,  9.5017,-108.6700, 3470,    172.6,  12.0780,  34.7846,2,  34.7726,2,   -999.0,5,      9.1,2,    27.15,2,    33.13,2,     0.00,2,     2.37,2,    0.172,2,    0.109,2, -999.000,9,-999.0000,9,  -999.00,9,-999.000,9,   -999,-999.0000,-999.000,-999.000, 12.0555,-999.000
     32MW893_3,  P04E,   184,  1,     17,     17,2,19890501,1825,  9.5017,-108.6700, 3470,    197.6,  11.7191,  34.7692,2,  34.7630,2,   -999.0,5,      7.8,2,    28.45,2,    32.84,2,     0.00,2,     2.43,2,    0.127,2, -999.000,5, -999.000,9,-999.0000,9,  -999.00,9,-999.000,9,   -999,-999.0000,-999.000,-999.000, 11.6938,-999.000
     32MW893_3,  P04E,   184,  1,     16,     16,2,19890501,1825,  9.5017,-108.6700, 3470,    247.5,  11.0593,  34.7387,2,  34.7402,2,   -999.0,5,     10.4,2,    30.34,2,    33.82,2,     0.00,2,     2.44,2,    0.083,2, -999.000,5, -999.000,9,-999.0000,9,  -999.00,9,-999.000,9,   -999,-999.0000,-999.000,-999.000, 11.0288,-999.000
     32MW893_3,  P04E,   184,  1,     15,     15,2,19890501,1825,  9.5017,-108.6700, 3470,    298.2,  10.4885,  34.7137,2,  34.7099,2,   -999.0,5,      3.9,2,    33.11,2,    33.92,2,     0.00,2,     2.55,2,    0.035,2, -999.000,5, -999.000,9,-999.0000,9,  -999.00,9,-999.000,9,   -999,-999.0000,-999.000,-999.000, 10.4528,-999.000
     32MW893_3,  P04E,   184,  1,     14,     14,2,19890501,1825,  9.5017,-108.6700, 3470,    399.1,   9.4118,  34.6575,2,  34.6569,2,   -999.0,5,      2.2,2,    40.58,2,    34.70,2,     0.00,2,     2.75,2,    0.014,2,    0.017,2, -999.000,9,-999.0000,9,  -999.00,9,-999.000,9,   -999,-999.0000,-999.000,-999.000,  9.3670,-999.000
     32MW893_3,  P04E,   184,  1,     13,     13,2,19890501,1825,  9.5017,-108.6700, 3470,    497.0,   7.9144,  34.5853,2,  34.5832,2,   -999.0,5,      1.7,2,    55.31,2,    35.39,2,     0.00,2,     3.02,2,    0.006,2, -999.000,5, -999.000,9,-999.0000,9,  -999.00,9,-999.000,9,   -999,-999.0000,-999.000,-999.000,  7.8637,-999.000
     32MW893_3,  P04E,   184,  1,     12,     12,2,19890501,1825,  9.5017,-108.6700, 3470,    621.4,   6.4410,  34.5605,2,  34.5539,2,   -999.0,5,      2.6,2,    70.82,2,    40.76,2,     0.00,2,     3.20,2,    0.001,2, -999.000,5, -999.000,9,-999.0000,9,  -999.00,9,-999.000,9,   -999,-999.0000,-999.000,-999.000,  6.3840,-999.000
     32MW893_3,  P04E,   184,  1,     11,     11,2,19890501,1825,  9.5017,-108.6700, 3470,    798.0,   5.5453,  34.5551,2,  34.5557,2,   -999.0,5,      9.1,2,    81.37,2,    43.79,2,    -0.01,2,     3.24,2, -999.000,9, -999.000,9, -999.000,9,-999.0000,9,  -999.00,9,-999.000,9,   -999,-999.0000,-999.000,-999.000,  5.4766,-999.000
     32MW893_3,  P04E,   184,  1,     10,     10,2,19890501,1825,  9.5017,-108.6700, 3470,    997.7,   4.6507,  34.5644,2,  34.5637,2,   -999.0,5,     37.4,2,    94.79,2,    43.89,2,    -0.01,2,     3.21,2, -999.000,9, -999.000,9, -999.000,9,-999.0000,9,  -999.00,9,-999.000,9,   -999,-999.0000,-999.000,-999.000,  4.5701,-999.000
     32MW893_3,  P04E,   184,  1,      9,      9,2,19890501,1825,  9.5017,-108.6700, 3470,   1247.6,   3.7680,  34.5851,2,  34.5848,2,   -999.0,5,     49.5,2,   112.30,2,    42.62,2,     0.00,2,     3.11,2, -999.000,9, -999.000,9, -999.000,9,-999.0000,9,  -999.00,9,-999.000,9,   -999,-999.0000,-999.000,-999.000,  3.6733,-999.000
     32MW893_3,  P04E,   184,  1,      8,      8,2,19890501,1825,  9.5017,-108.6700, 3470,   1498.4,   3.2422,  34.5999,2,  34.5993,2,   -999.0,5,     61.3,2,   123.84,2,    41.93,2,     0.00,2,     3.03,2, -999.000,9, -999.000,9, -999.000,9,-999.0000,9,  -999.00,9,-999.000,9,   -999,-999.0000,-999.000,-999.000,  3.1316,-999.000
     32MW893_3,  P04E,   184,  1,      7,      7,2,19890501,1825,  9.5017,-108.6700, 3470,   1748.4,   2.7553,  34.6190,2,  34.6189,2,   -999.0,5,     76.9,2,   134.68,2,    40.96,2,     0.00,2,     2.93,2, -999.000,9, -999.000,9, -999.000,9,-999.0000,9,  -999.00,9,-999.000,9,   -999,-999.0000,-999.000,-999.000,  2.6295,-999.000
     32MW893_3,  P04E,   184,  1,      6,      6,2,19890501,1825,  9.5017,-108.6700, 3470,   2000.5,   2.2506,  34.6464,2,  34.6441,2,   -999.0,5,     89.9,2,   146.91,2,    40.08,2,     0.00,2,     2.83,2,    0.002,2,   -0.005,2, -999.000,9,-999.0000,9,  -999.00,9,-999.000,9,   -999,-999.0000,-999.000,-999.000,  2.1102,-999.000
     32MW893_3,  P04E,   184,  1,      5,      5,2,19890501,1825,  9.5017,-108.6700, 3470,   2350.8,   1.9497,  34.6627,2,  34.6635,2,   -999.0,5,    103.8,2,   153.47,2,    38.90,2,     0.00,2,     2.77,2, -999.000,9, -999.000,9, -999.000,9,-999.0000,9,  -999.00,9,-999.000,9,   -999,-999.0000,-999.000,-999.000,  1.7838,-999.000
     32MW893_3,  P04E,   184,  1,      4,      4,2,19890501,1825,  9.5017,-108.6700, 3470,   2702.3,   1.8358,  34.6703,2,  34.6714,2,   -999.0,5,    111.2,2,   156.06,2,    38.41,2,     0.00,2,     2.72,2,    0.001,2, -999.000,5, -999.000,9,-999.0000,9,  -999.00,9,-999.000,9,   -999,-999.0000,-999.000,-999.000,  1.6399,-999.000
     32MW893_3,  P04E,   184,  1,      3,      3,2,19890501,1825,  9.5017,-108.6700, 3470,   3055.6,   1.7518,  34.6750,2,  34.6736,2,   -999.0,5,    119.9,2,   155.96,2,    38.12,2,     0.00,2,     2.68,2, -999.000,9, -999.000,9, -999.000,9,-999.0000,9,  -999.00,9,-999.000,9,   -999,-999.0000,-999.000,-999.000,  1.5240,-999.000
     32MW893_3,  P04E,   184,  1,      2,      2,2,19890501,1825,  9.5017,-108.6700, 3470,   3305.2,   1.7098,  34.6769,2,  34.6769,2,   -999.0,5,    124.7,2,   155.45,2,    37.83,2,     0.00,2,     2.64,2, -999.000,9, -999.000,9, -999.000,9,-999.0000,9,  -999.00,9,-999.000,9,   -999,-999.0000,-999.000,-999.000,  1.4582,-999.000
     32MW893_3,  P04E,   184,  1,      1,      1,2,19890501,1825,  9.5017,-108.6700, 3470,   3543.5,   1.6908,  34.6773,2,  34.6761,2,   -999.0,5,    127.7,2,   155.35,2,    37.53,2,     0.00,2,     2.62,2,   -0.001,2,   -0.001,2, -999.000,9,-999.0000,9,  -999.00,9,-999.000,9,   -999,-999.0000,-999.000,-999.000,  1.4154,-999.000
     32MW893_3,  P04E,   185,  1,     24,     24,2,19890502,0152,  9.4900,-107.8333, 3566,      6.8,  28.6497,  34.0078,2,  34.0072,2,   -999.0,5,    216.9,2,     0.00,2,     0.10,2,     0.00,2,     0.23,2,    1.600,2,    0.874,2, -999.000,9,-999.0000,9,  -999.00,9,-999.000,9,   -999,-999.0000,-999.000,-999.000, 28.6481,-999.000
     32MW893_3,  P04E,   185,  1,     23,     23,2,19890502,0152,  9.4900,-107.8333, 3566,     46.2,  26.6281,  34.2306,2,  34.2483,2,   -999.0,5,    208.6,2,     0.80,2,     1.96,2,     0.47,2,     0.48,2,    1.637,2,    0.920,2, -999.000,9,-999.0000,9,  -999.00,9,-999.000,9,   -999,-999.0000,-999.000,-999.000, 26.6176,-999.000
     32MW893_3,  P04E,   185,  1,     22,     22,2,19890502,0152,  9.4900,-107.8333, 3566,     95.3,  14.6702,  34.7432,2,  34.7728,2,   -999.0,5,     14.3,2,    19.85,2,    30.79,2,     0.02,2,     2.21,2,    0.530,2,    0.306,2, -999.000,9,-999.0000,9,  -999.00,9,-999.000,9,   -999,-999.0000,-999.000,-999.000, 14.6561,-999.000
     32MW893_3,  P04E,   185,  1,     21,     21,2,19890502,0152,  9.4900,-107.8333, 3566,    121.3,  12.8107,  34.7917,2,  34.7888,2,   -999.0,5,     10.4,2,    23.82,2,    32.55,2,     0.01,2,     2.31,2,    0.299,2, -999.000,5, -999.000,9,-999.0000,9,  -999.00,9,-999.000,9,   -999,-999.0000,-999.000,-999.000, 12.7943,-999.000
     32MW893_3,  P04E,   185,  1,     20,     20,2,19890502,0152,  9.4900,-107.8333, 3566,    146.3,  12.4818,  34.7883,2,  34.7836,2,   -999.0,5,     13.9,2,    25.30,2,    32.84,2,     0.01,2,     2.33,2,    0.239,2, -999.000,5, -999.000,9,-999.0000,9,  -999.00,9,-999.000,9,   -999,-999.0000,-999.000,-999.000, 12.4623,-999.000
     32MW893_3,  P04E,   185,  1,     19,     19,2,19890502,0152,  9.4900,-107.8333, 3566,    171.5,  12.0600,  34.7715,2,-999.0000,5,   -999.0,5,     15.6,2,    26.20,2,    32.94,2,     0.00,2,     2.33,2,    0.197,2,    0.115,2, -999.000,9,-999.0000,9,  -999.00,9,-999.000,9,   -999,-999.0000,-999.000,-999.000, 12.0376,-999.000
     32MW893_3,  P04E,   185,  1,     18,     18,2,19890502,0152,  9.4900,-107.8333, 3566,    194.2,  11.7651,  34.7529,2,  34.7713,2,   -999.0,5,     16.5,2,    27.10,2,    32.94,2,     0.00,2,     2.35,2,    0.168,2,    0.101,2, -999.000,9,-999.0000,9,  -999.00,9,-999.000,9,   -999,-999.0000,-999.000,-999.000, 11.7401,-999.000
     32MW893_3,  P04E,   185,  1,     17,     17,2,19890502,0152,  9.4900,-107.8333, 3566,    246.1,  10.9804,  34.7341,2,  34.7404,2,   -999.0,5,     12.6,2,    29.98,2,    33.72,2,     0.00,2,     2.45,2,    0.089,2, -999.000,5, -999.000,9,-999.0000,9,  -999.00,9,-999.000,9,   -999,-999.0000,-999.000,-999.000, 10.9501,-999.000
     32MW893_3,  P04E,   185,  1,     16,     16,2,19890502,0152,  9.4900,-107.8333, 3566,    297.5,  10.4005,  34.7169,2,  34.7150,2,   -999.0,5,     12.2,2,    32.75,2,    34.70,2,     0.00,2,     2.53,2,    0.053,2,    0.038,2, -999.000,9,-999.0000,9,  -999.00,9,-999.000,9,   -999,-999.0000,-999.000,-999.000, 10.3650,-999.000
     32MW893_3,  P04E,   185,  1,     15,     15,2,19890502,0152,  9.4900,-107.8333, 3566,    397.0,   9.3149,  34.6537,2,  34.6482,2,   -999.0,5,      3.9,2,    40.90,2,    34.89,2,     0.00,2,     2.76,2,    0.008,2, -999.000,5, -999.000,9,-999.0000,9,  -999.00,9,-999.000,9,   -999,-999.0000,-999.000,-999.000,  9.2705,-999.000
     32MW893_3,  P04E,   185,  1,     14,     14,2,19890502,0152,  9.4900,-107.8333, 3566,    497.9,   8.1553,  34.5973,2,  34.6020,2,   -999.0,5,      3.5,2,    51.62,2,    35.09,2,     0.00,2,     2.98,2,    0.008,2, -999.000,5, -999.000,9,-999.0000,9,  -999.00,9,-999.000,9,   -999,-999.0000,-999.000,-999.000,  8.1037,-999.000
     32MW893_3,  P04E,   185,  1,     13,     13,2,19890502,0152,  9.4900,-107.8333, 3566,    597.7,   7.0587,  34.5719,2,  34.5692,2,   -999.0,5,      3.9,2,    61.85,2,    39.49,2,     0.00,2,     3.11,2, -999.000,9, -999.000,9, -999.000,9,-999.0000,9,  -999.00,9,-999.000,9,   -999,-999.0000,-999.000,-999.000,  7.0012,-999.000
     32MW893_3,  P04E,   185,  1,     12,     12,2,19890502,0152,  9.4900,-107.8333, 3566,    698.7,   6.1510,  34.5616,2,  34.5545,2,   -999.0,5,      7.4,2,    71.07,2,    42.72,2,     0.00,2,     3.19,2,   -0.001,2,   -0.001,2, -999.000,9,-999.0000,9,  -999.00,9,-999.000,9,   -999,-999.0000,-999.000,-999.000,  6.0881,-999.000
     32MW893_3,  P04E,   185,  1,     11,     11,2,19890502,0152,  9.4900,-107.8333, 3566,    797.9,   5.5243,  34.5616,2,  34.5561,2,   -999.0,5,     15.2,2,    79.12,2,    43.99,2,     0.00,2,     3.21,2, -999.000,9, -999.000,9, -999.000,9,-999.0000,9,  -999.00,9,-999.000,9,   -999,-999.0000,-999.000,-999.000,  5.4557,-999.000
     32MW893_3,  P04E,   185,  1,     10,     10,2,19890502,0152,  9.4900,-107.8333, 3566,    994.6,   4.6157,  34.5637,2,  34.5634,2,   -999.0,5,     31.7,2,    94.21,2,    43.89,2,     0.00,2,     3.19,2,   -0.001,2, -999.000,5, -999.000,9,-999.0000,9,  -999.00,9,-999.000,9,   -999,-999.0000,-999.000,-999.000,  4.5357,-999.000
     32MW893_3,  P04E,   185,  1,      9,      9,2,19890502,0152,  9.4900,-107.8333, 3566,   1247.3,   3.8000,  34.5847,2,  34.5826,2,   -999.0,5,     48.2,2,   110.68,2,    43.01,2,     0.00,2,     3.12,2, -999.000,9, -999.000,9, -999.000,9,-999.0000,9,  -999.00,9,-999.000,9,   -999,-999.0000,-999.000,-999.000,  3.7050,-999.000
     32MW893_3,  P04E,   185,  1,      8,      8,2,19890502,0152,  9.4900,-107.8333, 3566,   1497.2,   3.2262,  34.6004,2,  34.5999,2,   -999.0,5,     61.7,2,   124.08,2,    42.23,2,     0.00,2,     3.06,2, -999.000,9, -999.000,9, -999.000,9,-999.0000,9,  -999.00,9,-999.000,9,   -999,-999.0000,-999.000,-999.000,  3.1160,-999.000
     32MW893_3,  P04E,   185,  1,      7,      7,2,19890502,0152,  9.4900,-107.8333, 3566,   1747.9,   2.7324,  34.6253,2,  34.6201,2,   -999.0,5,     74.3,2,   134.50,2,    41.35,2,     0.01,2,     2.94,2, -999.000,9, -999.000,9, -999.000,9,-999.0000,9,  -999.00,9,-999.000,9,   -999,-999.0000,-999.000,-999.000,  2.6069,-999.000
     32MW893_3,  P04E,   185,  1,      6,      6,2,19890502,0152,  9.4900,-107.8333, 3566,   1999.7,   2.3085,  34.6422,2,  34.6406,2,   -999.0,5,     87.8,2,   145.42,2,    40.47,2,     0.01,2,     2.84,2, -999.000,9, -999.000,9, -999.000,9,-999.0000,9,  -999.00,9,-999.000,9,   -999,-999.0000,-999.000,-999.000,  2.1674,-999.000
     32MW893_3,  P04E,   185,  1,      5,      5,2,19890502,0152,  9.4900,-107.8333, 3566,   2398.9,   1.9337,  34.6651,2,  34.6649,2,   -999.0,5,    105.6,2,   154.45,2,    39.29,2,     0.00,2,     2.76,2, -999.000,9, -999.000,9, -999.000,9,-999.0000,9,  -999.00,9,-999.000,9,   -999,-999.0000,-999.000,-999.000,  1.7638,-999.000
     32MW893_3,  P04E,   185,  1,      4,      4,2,19890502,0152,  9.4900,-107.8333, 3566,   2800.2,   1.8088,  34.6716,2,  34.6708,2,   -999.0,5,    114.7,2,   156.44,2,    38.51,2,     0.00,2,     2.68,2,    0.000,2, -999.000,5, -999.000,9,-999.0000,9,  -999.00,9,-999.000,9,   -999,-999.0000,-999.000,-999.000,  1.6043,-999.000
     32MW893_3,  P04E,   185,  1,      3,      3,2,19890502,0152,  9.4900,-107.8333, 3566,   3203.7,   1.7158,  34.6766,2,  34.6765,2,   -999.0,5,    123.8,2,   156.05,2,    38.12,2,     0.00,2,     2.65,2,    0.000,2, -999.000,5, -999.000,9,-999.0000,9,  -999.00,9,-999.000,9,   -999,-999.0000,-999.000,-999.000,  1.4742,-999.000
     32MW893_3,  P04E,   185,  1,      2,      2,2,19890502,0152,  9.4900,-107.8333, 3566,   3405.3,   1.6618,  34.6794,2,  34.6785,2,   -999.0,5,    128.2,2,  -999.00,5,    37.83,2,     0.00,2,     2.63,2,    0.002,2, -999.000,5, -999.000,9,-999.0000,9,  -999.00,9,-999.000,9,   -999,-999.0000,-999.000,-999.000,  1.4013,-999.000
     32MW893_3,  P04E,   185,  1,      1,      1,2,19890502,0152,  9.4900,-107.8333, 3566,   3635.6,   1.6698,  34.6787,2,  34.6820,2,   -999.0,5,    129.0,2,   155.75,2,    37.83,2,     0.00,2,     2.63,2,   -0.002,2, -999.000,5, -999.000,9,-999.0000,9,  -999.00,9,-999.000,9,   -999,-999.0000,-999.000,-999.000,  1.3853,-999.000