BOTTLE,20020418WHPSIOdm
EXPOCODE,SECT_ID,STNNBR,CASTNO,SAMPNO,BTLNBR,BTLNBR_FLAG_W,DATE,TIME,LATITUDE,LONGITUDE,DEPTH,CTDPRS,CTDTMP,CTDSAL,CTDSAL_FLAG_W,SALNTY,SALNTY_FLAG_W,CTDOXY,CTDOXY_FLAG_W,OXYGEN,OXYGEN_FLAG_W,SILCAT,SILCAT_FLAG_W,NITRAT,NITRAT_FLAG_W,NITRIT,NITRIT_FLAG_W,PHSPHT,PHSPHT_FLAG_W,CFC-11,CFC-11_FLAG_W,CFC-12,CFC-12_FLAG_W,TRITUM,TRITUM_FLAG_W,HELIUM,HELIUM_FLAG_W,DELHE3,DELHE3_FLAG_W,NEON,NEON_FLAG_W,CTDRAW,HELIER,DELHER,NEONER,THETA,TRITER
,,,,,,,,,,,,DBAR,ITS-90,PSS-78,,PSS-78,,UMOL/KG,,UMOL/KG,,UMOL/KG,,UMOL/KG,,UMOL/KG,,UMOL/KG,,PMOL/KG,,PMOL/KG,,TU,,NMOL/KG,,PERCNT,,NMOL/KG,,,NMOL/KG,PERCNT,NMOL/KG,ITS-90,TU
     32MW893_3,  P04E,   134,  1,     24,     24,2,19890414,1325,  9.4933,-150.3650, 5060,      6.0,  26.4871,  34.8678,2,  34.8678,2,   -999.0,5,    211.1,2,     1.19,2,     0.59,2,  -999.00,5,     0.31,2,    1.696,2,    0.960,2,    1.511,2,   1.8940,2,     0.32,2,   7.259,2,   -999,  0.0090,   0.150,   0.044, 26.4857,   0.023
     32MW893_3,  P04E,   134,  1,     23,     23,2,19890414,1325,  9.4933,-150.3650, 5060,     46.5,  26.4901,  34.8690,2,  34.8694,2,   -999.0,5,    207.7,2,     1.19,2,     0.59,2,  -999.00,5,     0.34,2,    1.713,2,    0.934,2,    1.582,2,   1.9060,2,     0.09,2,   7.275,2,   -999,  0.0090,   0.150,   0.044, 26.4796,   0.023
     32MW893_3,  P04E,   134,  1,     22,     22,2,19890414,1325,  9.4933,-150.3650, 5060,     71.8,  26.4951,  34.8697,2,  34.8658,2,   -999.0,5,    206.4,2,     1.19,2,     0.68,2,  -999.00,5,     0.33,2,    1.738,2,    0.947,2,    1.548,2,   1.8880,2,    -0.31,2,   7.234,2,   -999,  0.0080,   0.150,   0.043, 26.4789,   0.022
     32MW893_3,  P04E,   134,  1,     21,     21,2,19890414,1325,  9.4933,-150.3650, 5060,     98.1,  19.4298,  34.7698,2,  34.7302,2,   -999.0,5,    193.8,2,     2.28,2,     3.03,2,  -999.00,5,     0.50,2,    2.141,2,    1.153,2,    2.443,2,   1.9200,2,     1.15,2,   7.628,2,   -999,  0.0090,   0.150,   0.046, 19.4121,   0.020
     32MW893_3,  P04E,   134,  1,     20,     20,2,19890414,1325,  9.4933,-150.3650, 5060,    122.9,  14.9031,  34.4091,2,  34.4277,2,   -999.0,5,    127.8,2,    10.42,2,    14.86,2,  -999.00,5,     1.28,2, -999.000,9, -999.000,9,    1.895,2,   1.9360,2,     6.68,2,   7.824,2,   -999,  0.0090,   0.150,   0.047, 14.8847,   0.016
     32MW893_3,  P04E,   134,  1,     19,     19,2,19890414,1325,  9.4933,-150.3650, 5060,    147.2,  12.3658,  34.6923,2,  34.6512,2,   -999.0,5,     18.2,2,    25.39,2,    32.16,2,  -999.00,5,     2.49,2,    0.331,2, -999.000,5,    0.612,2,   1.9710,2,     9.81,2,   8.044,2,   -999,  0.0090,   0.150,   0.048, 12.3463,   0.007
     32MW893_3,  P04E,   134,  1,     18,     18,2,19890414,1325,  9.4933,-150.3650, 5060,    172.0,  11.7141,  34.7345,2,  34.7333,2,   -999.0,5,     10.4,2,    27.87,2,    33.92,2,  -999.00,5,     2.54,2,    0.133,2, -999.000,5,    0.393,2,   1.9740,2,     7.97,2,   8.012,2,   -999,  0.0090,   0.150,   0.048, 11.6921,   0.006
     32MW893_3,  P04E,   134,  1,     17,     17,2,19890414,1325,  9.4933,-150.3650, 5060,    199.3,  11.1923,  34.7246,2,  34.7280,2,   -999.0,5,     15.2,2,    29.07,2,    34.11,2,  -999.00,5,     2.53,2,    0.098,2, -999.000,5,    0.297,2,   1.9790,2,     7.52,2,   8.039,2,   -999,  0.0090,   0.150,   0.048, 11.1675,   0.006
     32MW893_3,  P04E,   134,  1,     16,     16,2,19890414,1325,  9.4933,-150.3650, 5060,    247.5,  10.7344,  34.7194,2,  34.7288,2,   -999.0,5,     18.7,2,    30.65,2,    34.79,2,  -999.00,5,     2.54,2,    0.072,2, -999.000,5,    0.259,2,-999.0000,9,  -999.00,9,-999.000,9,   -999,-999.0000,-999.000,-999.000, 10.7044,   0.008
     32MW893_3,  P04E,   134,  1,     15,     15,2,19890414,1325,  9.4933,-150.3650, 5060,    297.1,  10.1537,  34.6957,2,  34.6914,2,   -999.0,5,     16.1,2,    33.13,2,    35.48,2,  -999.00,5,     2.62,2,    0.035,2, -999.000,5,    0.122,2,   1.9730,2,     6.53,2,   8.049,2,   -999,  0.0090,   0.150,   0.048, 10.1188,   0.008
     32MW893_3,  P04E,   134,  1,     14,     14,2,19890414,1325,  9.4933,-150.3650, 5060,    397.7,   9.3259,  34.6638,2,  34.6608,2,   -999.0,5,     12.2,2,    37.90,2,    37.04,2,  -999.00,5,     2.75,2,    0.039,2,    0.024,2,    0.043,2,   2.1220,2,     8.17,2,  15.838,2,   -999,  0.0100,   0.150,   0.095,  9.2814,   0.007
     32MW893_3,  P04E,   134,  1,     13,     13,2,19890414,1325,  9.4933,-150.3650, 5060,    497.3,   8.5831,  34.6185,2,  34.6180,2,   -999.0,5,     12.2,2,    44.85,2,    37.63,2,  -999.00,5,     2.89,2,    0.006,2, -999.000,5,    0.016,2,   2.0230,2,     6.58,2,   0.065,2,   -999,  0.0090,   0.150,   0.000,  8.5300,   0.006
     32MW893_3,  P04E,   134,  1,     12,     12,2,19890414,1325,  9.4933,-150.3650, 5060,    619.9,   7.3316,  34.5660,2,  34.5655,2,   -999.0,5,     10.4,2,    57.64,2,    39.69,2,  -999.00,5,     3.12,2,   -0.001,2,    0.004,2, -999.000,9,   2.0190,2,     9.31,2,   8.233,2,   -999,  0.0090,   0.150,   0.049,  7.2707,-999.000
     32MW893_3,  P04E,   134,  1,     11,     11,2,19890414,1325,  9.4933,-150.3650, 5060,    796.2,   5.8422,  34.5428,2,  34.5353,2,   -999.0,5,     18.3,2,    75.50,2,    43.21,2,  -999.00,5,     3.29,2,    0.004,2,    0.007,2, -999.000,9,   2.0540,2,    12.95,2,   8.380,2,   -999,  0.0090,   0.150,   0.050,  5.7719,-999.000
     32MW893_3,  P04E,   134,  1,     10,     10,2,19890414,1325,  9.4933,-150.3650, 5060,    998.1,   4.7206,  34.5479,2,  34.5478,2,   -999.0,5,     29.5,2,    93.17,2,    44.18,2,  -999.00,5,     3.29,2,    0.000,2,    0.005,2, -999.000,9,   2.0680,2,    17.39,2,   8.438,2,   -999,  0.0090,   0.150,   0.051,  4.6395,-999.000
     32MW893_3,  P04E,   134,  1,      9,      9,2,19890414,1325,  9.4933,-150.3650, 5060,   1500.1,   2.9253,  34.6044,2,  34.6015,2,   -999.0,5,     76.0,2,   129.27,2,    41.45,2,  -999.00,5,     3.06,2,   -0.001,2,    0.006,2, -999.000,9,   2.1270,2,    22.99,2,   8.643,2,   -999,  0.0100,   0.150,   0.052,  2.8182,-999.000
     32MW893_3,  P04E,   134,  1,      8,      8,2,19890414,1325,  9.4933,-150.3650, 5060,   1999.7,   2.1427,  34.6445,2,  34.6431,2,   -999.0,5,     99.1,2,   147.62,2,    39.98,2,  -999.00,5,     2.92,2,    0.000,2,    0.005,2, -999.000,9,   2.1320,2,    26.61,2,   8.694,2,   -999,  0.0100,   0.150,   0.052,  2.0040,-999.000
     32MW893_3,  P04E,   134,  1,      7,      7,2,19890414,1325,  9.4933,-150.3650, 5060,   2500.8,   1.8478,  34.6653,2,  34.6645,2,   -999.0,5,    112.1,2,   154.17,2,    39.10,2,  -999.00,5,     2.81,2,   -0.003,2,   -0.005,2, -999.000,9,   2.1510,2,    30.06,2,   8.730,2,   -999,  0.0100,   0.150,   0.052,  1.6702,-999.000
     32MW893_3,  P04E,   134,  1,      6,      6,2,19890414,1325,  9.4933,-150.3650, 5060,   3001.5,   1.6738,  34.6746,2,  34.6744,2,   -999.0,5,    123.8,2,   157.35,2,    38.41,2,  -999.00,5,     2.76,2,    0.002,2,    0.008,2, -999.000,9,   2.1300,2,    26.32,2,   8.603,2,   -999,  0.0100,   0.150,   0.052,  1.4531,-999.000
     32MW893_3,  P04E,   134,  1,      5,      5,2,19890414,1325,  9.4933,-150.3650, 5060,   3502.0,   1.5199,  34.6821,2,  34.6818,2,   -999.0,5,    141.2,2,   155.06,2,    37.24,2,  -999.00,5,     2.66,2,   -0.004,2,    0.000,2, -999.000,9,   2.1480,2,    19.50,2,   8.680,2,   -999,  0.0100,   0.150,   0.052,  1.2531,-999.000
     32MW893_3,  P04E,   134,  1,      4,      4,2,19890414,1325,  9.4933,-150.3650, 5060,   4003.1,   1.3970,  34.6904,2,  34.6901,2,   -999.0,5,    160.8,2,   142.36,2,    35.87,2,  -999.00,5,     2.58,2,    0.001,2,   -0.004,2, -999.000,9,   2.1070,2,    16.11,2,   8.657,2,   -999,  0.0090,   0.150,   0.052,  1.0806,-999.000
     32MW893_3,  P04E,   134,  1,      3,      3,2,19890414,1325,  9.4933,-150.3650, 5060,   4504.8,   1.3630,  34.6945,2,  34.6956,2,   -999.0,5,    172.1,2,   137.40,2,    34.99,2,  -999.00,5,     2.48,2,   -0.003,2,   -0.004,2, -999.000,9,   2.0940,2,    14.40,2,   8.653,2,   -999,  0.0090,   0.150,   0.052,  0.9917,-999.000
     32MW893_3,  P04E,   134,  1,      2,      2,2,19890414,1325,  9.4933,-150.3650, 5060,   5005.2,   1.4020,  34.6963,2,  34.6971,2,   -999.0,5,    172.9,2,   136.31,2,    34.80,2,  -999.00,5,     2.47,2,    0.002,2,    0.001,2, -999.000,9,   2.1040,2,    13.87,2,   8.665,2,   -999,  0.0090,   0.150,   0.052,  0.9704,-999.000
     32MW893_3,  P04E,   134,  1,      1,      1,2,19890414,1325,  9.4933,-150.3650, 5060,   5111.0,   1.4140,  34.6951,2,-999.0000,5,   -999.0,5,    174.7,2,   136.02,2,    34.70,2,  -999.00,5,     2.47,2,   -0.006,2,   -0.005,2, -999.000,9,   2.0880,2,    13.78,2,   8.662,2,   -999,  0.0090,   0.150,   0.052,  0.9691,-999.000
     32MW893_3,  P04E,   135,  1,     24,     24,2,19890414,2258,  9.4950,-149.5000, 5096,      8.2,  26.4931,  34.8402,2,  34.8391,2,   -999.0,5,    210.3,2,     1.29,2,     0.68,2,  -999.00,5,     0.34,2, -999.000,9, -999.000,9, -999.000,9,-999.0000,9,  -999.00,9,-999.000,9,   -999,-999.0000,-999.000,-999.000, 26.4912,-999.000
     32MW893_3,  P04E,   135,  1,     23,     23,2,19890414,2258,  9.4950,-149.5000, 5096,     47.1,  26.4052,  34.8351,2,  34.8383,2,   -999.0,5,    210.3,2,     1.29,2,     0.78,2,  -999.00,5,     0.33,2, -999.000,9, -999.000,9, -999.000,9,-999.0000,9,  -999.00,9,-999.000,9,   -999,-999.0000,-999.000,-999.000, 26.3946,-999.000
     32MW893_3,  P04E,   135,  1,     22,     22,2,19890414,2258,  9.4950,-149.5000, 5096,     72.8,  26.2122,  34.8318,2,  34.8330,2,   -999.0,5,    206.8,2,     1.49,2,     1.08,2,  -999.00,5,     0.37,2, -999.000,9, -999.000,9, -999.000,9,-999.0000,9,  -999.00,9,-999.000,9,   -999,-999.0000,-999.000,-999.000, 26.1959,-999.000
     32MW893_3,  P04E,   135,  1,     21,     21,2,19890414,2258,  9.4950,-149.5000, 5096,     97.3,  18.6600,  34.6609,2,  34.6463,2,   -999.0,5,    173.4,2,     3.37,2,     5.67,2,  -999.00,5,     0.66,2, -999.000,9, -999.000,9, -999.000,9,-999.0000,9,  -999.00,9,-999.000,9,   -999,-999.0000,-999.000,-999.000, 18.6429,-999.000
     32MW893_3,  P04E,   135,  1,     20,     20,2,19890414,2258,  9.4950,-149.5000, 5096,    121.6,  14.9261,  34.4648,2,  34.4791,2,   -999.0,5,    109.5,2,    12.10,2,    17.60,2,  -999.00,5,     1.45,2, -999.000,9, -999.000,9, -999.000,9,-999.0000,9,  -999.00,9,-999.000,9,   -999,-999.0000,-999.000,-999.000, 14.9079,-999.000
     32MW893_3,  P04E,   135,  1,     19,     19,2,19890414,2258,  9.4950,-149.5000, 5096,    147.0,  12.8367,  34.6398,2,  34.6402,2,   -999.0,5,     15.6,2,    24.50,2,    31.67,2,  -999.00,5,     2.45,2, -999.000,9, -999.000,9, -999.000,9,-999.0000,9,  -999.00,9,-999.000,9,   -999,-999.0000,-999.000,-999.000, 12.8168,-999.000
     32MW893_3,  P04E,   135,  1,     18,     18,2,19890414,2258,  9.4950,-149.5000, 5096,    178.6,  11.8511,  34.7377,2,  34.7369,2,   -999.0,5,      9.6,2,    27.68,2,    33.62,2,  -999.00,5,     2.51,2, -999.000,9, -999.000,9, -999.000,9,-999.0000,9,  -999.00,9,-999.000,9,   -999,-999.0000,-999.000,-999.000, 11.8281,-999.000
     32MW893_3,  P04E,   135,  1,     17,     17,2,19890414,2258,  9.4950,-149.5000, 5096,    195.1,  11.4392,  34.7334,2,  34.7335,2,   -999.0,5,     11.7,2,    28.37,2,    33.62,2,  -999.00,5,     2.54,2, -999.000,9, -999.000,9, -999.000,9,-999.0000,9,  -999.00,9,-999.000,9,   -999,-999.0000,-999.000,-999.000, 11.4146,-999.000
     32MW893_3,  P04E,   135,  1,     16,     16,2,19890414,2258,  9.4950,-149.5000, 5096,    295.9,  10.2375,  34.7133,2,  34.7017,2,   -999.0,5,     17.8,2,    32.34,2,    34.99,2,  -999.00,5,     2.59,2, -999.000,9, -999.000,9, -999.000,9,-999.0000,9,  -999.00,9,-999.000,9,   -999,-999.0000,-999.000,-999.000, 10.2027,-999.000
     32MW893_3,  P04E,   135,  1,     15,     15,2,19890414,2258,  9.4950,-149.5000, 5096,    396.2,   9.4868,  34.6805,2,  34.6745,2,   -999.0,5,      9.6,2,    37.20,2,    36.85,2,  -999.00,5,     2.76,2, -999.000,9, -999.000,9, -999.000,9,-999.0000,9,  -999.00,9,-999.000,9,   -999,-999.0000,-999.000,-999.000,  9.4420,-999.000
     32MW893_3,  P04E,   135,  1,     14,     14,2,19890414,2258,  9.4950,-149.5000, 5096,    497.3,   8.4792,  34.6136,2,  34.6182,2,   -999.0,5,     10.0,2,    45.74,2,    37.63,2,  -999.00,5,     2.92,2, -999.000,9, -999.000,9, -999.000,9,-999.0000,9,  -999.00,9,-999.000,9,   -999,-999.0000,-999.000,-999.000,  8.4264,-999.000
     32MW893_3,  P04E,   135,  1,     13,     13,2,19890414,2258,  9.4950,-149.5000, 5096,    598.7,   7.5865,  34.5687,2,  34.5718,2,   -999.0,5,     10.9,2,    54.96,2,    38.81,2,  -999.00,5,     3.05,2, -999.000,9, -999.000,9, -999.000,9,-999.0000,9,  -999.00,9,-999.000,9,   -999,-999.0000,-999.000,-999.000,  7.5265,-999.000
     32MW893_3,  P04E,   135,  1,     12,     12,2,19890414,2258,  9.4950,-149.5000, 5096,    698.5,   6.5029,  34.5438,2,  34.5329,2,   -999.0,5,     21.7,2,    65.89,2,    40.96,2,  -999.00,5,     3.12,2, -999.000,9, -999.000,9, -999.000,9,-999.0000,9,  -999.00,9,-999.000,9,   -999,-999.0000,-999.000,-999.000,  6.4383,-999.000
     32MW893_3,  P04E,   135,  1,     11,     11,2,19890414,2258,  9.4950,-149.5000, 5096,    798.9,   5.7282,  34.5323,2,  34.5337,2,   -999.0,5,     14.3,2,    78.08,2,    43.21,2,  -999.00,5,     3.28,2, -999.000,9, -999.000,9, -999.000,9,-999.0000,9,  -999.00,9,-999.000,9,   -999,-999.0000,-999.000,-999.000,  5.6583,-999.000
     32MW893_3,  P04E,   135,  1,     10,     10,2,19890414,2258,  9.4950,-149.5000, 5096,    997.6,   4.4407,  34.5571,2,  34.5551,2,   -999.0,5,     38.2,2,    97.83,2,    43.50,2,  -999.00,5,     3.26,2, -999.000,9, -999.000,9, -999.000,9,-999.0000,9,  -999.00,9,-999.000,9,   -999,-999.0000,-999.000,-999.000,  4.3619,-999.000
     32MW893_3,  P04E,   135,  1,      9,      9,2,19890414,2258,  9.4950,-149.5000, 5096,   1498.0,   2.9543,  34.6048,2,  34.6044,2,   -999.0,5,     74.3,2,   129.57,2,    41.25,2,  -999.00,5,     3.05,2, -999.000,9, -999.000,9, -999.000,9,-999.0000,9,  -999.00,9,-999.000,9,   -999,-999.0000,-999.000,-999.000,  2.8471,-999.000
     32MW893_3,  P04E,   135,  1,      8,      8,2,19890414,2258,  9.4950,-149.5000, 5096,   2002.1,   2.1227,  34.6450,2,  34.6449,2,   -999.0,5,    100.4,2,   148.02,2,    39.49,2,  -999.00,5,     2.88,2, -999.000,9, -999.000,9, -999.000,9,-999.0000,9,  -999.00,9,-999.000,9,   -999,-999.0000,-999.000,-999.000,  1.9841,-999.000
     32MW893_3,  P04E,   135,  1,      7,      7,2,19890414,2258,  9.4950,-149.5000, 5096,   2502.7,   1.8528,  34.6640,2,  34.6724,2,   -999.0,5,    111.7,2,   154.96,2,    39.10,2,  -999.00,5,     2.81,2, -999.000,9, -999.000,9, -999.000,9,-999.0000,9,  -999.00,9,-999.000,9,   -999,-999.0000,-999.000,-999.000,  1.6749,-999.000
     32MW893_3,  P04E,   135,  1,      6,      6,2,19890414,2258,  9.4950,-149.5000, 5096,   3002.7,   1.6868,  34.6737,2,  34.6777,2,   -999.0,5,    123.4,2,   157.25,2,    38.41,2,  -999.00,5,     2.74,2, -999.000,9, -999.000,9, -999.000,9,-999.0000,9,  -999.00,9,-999.000,9,   -999,-999.0000,-999.000,-999.000,  1.4656,-999.000
     32MW893_3,  P04E,   135,  1,      5,      5,2,19890414,2258,  9.4950,-149.5000, 5096,   3503.9,   1.5209,  34.6814,2,  34.6863,2,   -999.0,5,    140.3,2,   156.05,2,    37.53,2,  -999.00,5,     2.65,2, -999.000,9, -999.000,9, -999.000,9,-999.0000,9,  -999.00,9,-999.000,9,   -999,-999.0000,-999.000,-999.000,  1.2538,-999.000
     32MW893_3,  P04E,   135,  1,      4,      4,2,19890414,2258,  9.4950,-149.5000, 5096,   4004.9,   1.3820,  34.6908,2,  34.6916,2,   -999.0,5,    162.9,2,   142.57,2,    35.68,2,  -999.00,5,     2.54,2, -999.000,9, -999.000,9, -999.000,9,-999.0000,9,  -999.00,9,-999.000,9,   -999,-999.0000,-999.000,-999.000,  1.0658,-999.000
     32MW893_3,  P04E,   135,  1,      3,      3,2,19890414,2258,  9.4950,-149.5000, 5096,   4504.5,   1.3540,  34.6943,2,  34.6971,2,   -999.0,5,    173.4,2,   136.81,2,    34.70,2,  -999.00,5,     2.47,2, -999.000,9, -999.000,9, -999.000,9,-999.0000,9,  -999.00,9,-999.000,9,   -999,-999.0000,-999.000,-999.000,  0.9830,-999.000
     32MW893_3,  P04E,   135,  1,      2,      2,2,19890414,2258,  9.4950,-149.5000, 5096,   5004.6,   1.3950,  34.6966,2,  34.6975,2,   -999.0,5,    175.5,2,   135.32,2,    34.80,2,  -999.00,5,     2.46,2, -999.000,9, -999.000,9, -999.000,9,-999.0000,9,  -999.00,9,-999.000,9,   -999,-999.0000,-999.000,-999.000,  0.9637,-999.000
     32MW893_3,  P04E,   135,  1,      1,      1,2,19890414,2258,  9.4950,-149.5000, 5096,   5178.3,   1.4120,  34.6970,2,  34.6983,2,   -999.0,5,    175.5,2,   135.12,2,    34.70,2,  -999.00,5,     2.47,2, -999.000,9, -999.000,9, -999.000,9,-999.0000,9,  -999.00,9,-999.000,9,   -999,-999.0000,-999.000,-999.000,  0.9589,-999.000