BOTTLE,20020418WHPSIOdm
EXPOCODE,SECT_ID,STNNBR,CASTNO,SAMPNO,BTLNBR,BTLNBR_FLAG_W,DATE,TIME,LATITUDE,LONGITUDE,DEPTH,CTDPRS,CTDTMP,CTDSAL,CTDSAL_FLAG_W,SALNTY,SALNTY_FLAG_W,CTDOXY,CTDOXY_FLAG_W,OXYGEN,OXYGEN_FLAG_W,SILCAT,SILCAT_FLAG_W,NITRAT,NITRAT_FLAG_W,NITRIT,NITRIT_FLAG_W,PHSPHT,PHSPHT_FLAG_W,CFC-11,CFC-11_FLAG_W,CFC-12,CFC-12_FLAG_W,TRITUM,TRITUM_FLAG_W,HELIUM,HELIUM_FLAG_W,DELHE3,DELHE3_FLAG_W,NEON,NEON_FLAG_W,CTDRAW,HELIER,DELHER,NEONER,THETA,TRITER
,,,,,,,,,,,,DBAR,ITS-90,PSS-78,,PSS-78,,UMOL/KG,,UMOL/KG,,UMOL/KG,,UMOL/KG,,UMOL/KG,,UMOL/KG,,PMOL/KG,,PMOL/KG,,TU,,NMOL/KG,,PERCNT,,NMOL/KG,,,NMOL/KG,PERCNT,NMOL/KG,ITS-90,TU
     32MW893_3,  P04E,   132,  1,     24,     24,2,19890413,1848,  9.5000,-152.0067, 5255,      6.3,  26.2852,  34.7087,2,  34.7085,2,   -999.0,5,    214.2,2,     1.58,2,     0.00,2,    -0.01,2,     0.23,2,    1.686,2,    0.920,2, -999.000,9,-999.0000,9,  -999.00,9,-999.000,9,   -999,-999.0000,-999.000,-999.000, 26.2838,-999.000
     32MW893_3,  P04E,   132,  1,     23,     23,2,19890413,1848,  9.5000,-152.0067, 5255,     45.9,  26.1652,  34.7417,2,  34.7308,2,   -999.0,5,    212.0,2,     1.58,2,     0.00,2,     0.00,2,     0.25,2,    1.710,2,    0.966,2, -999.000,9,-999.0000,9,  -999.00,9,-999.000,9,   -999,-999.0000,-999.000,-999.000, 26.1549,-999.000
     32MW893_3,  P04E,   132,  1,     22,     22,2,19890413,1848,  9.5000,-152.0067, 5255,     70.9,  23.2588,  34.6951,2,  34.7408,2,   -999.0,5,    197.7,2,     2.48,2,     0.88,2,     0.03,2,     0.42,2,    1.768,2,    0.990,2, -999.000,9,-999.0000,9,  -999.00,9,-999.000,9,   -999,-999.0000,-999.000,-999.000, 23.2442,-999.000
     32MW893_3,  P04E,   132,  1,     21,     21,2,19890413,1848,  9.5000,-152.0067, 5255,     96.3,  15.2359,  34.4665,2,  34.4707,2,   -999.0,5,    109.9,2,    12.20,2,    16.91,2,     1.03,2,     1.41,2,    1.415,2,    0.789,2, -999.000,9,-999.0000,9,  -999.00,9,-999.000,9,   -999,-999.0000,-999.000,-999.000, 15.2213,-999.000
     32MW893_3,  P04E,   132,  1,     20,     20,2,19890413,1848,  9.5000,-152.0067, 5255,    120.6,  13.1916,  34.5161,2,  34.5135,2,   -999.0,5,     44.8,2,    21.83,2,    27.66,2,     0.10,2,     2.16,2,    0.735,2,    0.401,2, -999.000,9,-999.0000,9,  -999.00,9,-999.000,9,   -999,-999.0000,-999.000,-999.000, 13.1750,-999.000
     32MW893_3,  P04E,   132,  1,     19,     19,2,19890413,1848,  9.5000,-152.0067, 5255,    146.9,  12.4928,  34.6638,2,  34.6596,2,   -999.0,5,     14.8,2,    26.59,2,    32.16,2,     0.03,2,     2.40,2,    0.311,2,    0.183,2, -999.000,9,-999.0000,9,  -999.00,9,-999.000,9,   -999,-999.0000,-999.000,-999.000, 12.4732,-999.000
     32MW893_3,  P04E,   132,  1,     18,     18,2,19890413,1848,  9.5000,-152.0067, 5255,    171.6,  11.6361,  34.7331,2,  34.7298,2,   -999.0,5,     10.0,2,    28.87,2,    33.04,2,     0.00,2,     2.50,2,    0.139,2, -999.000,5, -999.000,9,-999.0000,9,  -999.00,9,-999.000,9,   -999,-999.0000,-999.000,-999.000, 11.6142,-999.000
     32MW893_3,  P04E,   132,  1,     17,     17,2,19890413,1848,  9.5000,-152.0067, 5255,    198.0,  11.1923,  34.7231,2,  34.7192,2,   -999.0,5,     12.6,2,    30.46,2,    33.82,2,    -0.01,2,     2.53,2,    0.095,2, -999.000,5, -999.000,9,-999.0000,9,  -999.00,9,-999.000,9,   -999,-999.0000,-999.000,-999.000, 11.1677,-999.000
     32MW893_3,  P04E,   132,  1,     16,     16,2,19890413,1848,  9.5000,-152.0067, 5255,    247.6,  10.5875,  34.7094,2,  34.7085,2,   -999.0,5,     19.1,2,    32.04,2,    34.40,2,    -0.01,2,     2.51,2,    0.069,2,    0.053,2, -999.000,9,-999.0000,9,  -999.00,9,-999.000,9,   -999,-999.0000,-999.000,-999.000, 10.5577,-999.000
     32MW893_3,  P04E,   132,  1,     15,     15,2,19890413,1848,  9.5000,-152.0067, 5255,    296.9,  10.2215,  34.6998,2,  34.6987,2,   -999.0,5,     17.8,2,    33.63,2,    35.09,2,    -0.01,2,     2.56,2,    0.050,2,    0.038,2, -999.000,9,-999.0000,9,  -999.00,9,-999.000,9,   -999,-999.0000,-999.000,-999.000, 10.1866,-999.000
     32MW893_3,  P04E,   132,  1,     14,     14,2,19890413,1848,  9.5000,-152.0067, 5255,    395.6,   9.5238,  34.6770,2,  34.6751,2,   -999.0,5,     10.0,2,    37.50,2,    36.75,2,     0.00,2,     2.72,2,    0.039,2,    0.035,2, -999.000,9,-999.0000,9,  -999.00,9,-999.000,9,   -999,-999.0000,-999.000,-999.000,  9.4790,-999.000
     32MW893_3,  P04E,   132,  1,     13,     13,2,19890413,1848,  9.5000,-152.0067, 5255,    496.8,   8.6061,  34.6215,2,  34.6189,2,   -999.0,5,      9.6,2,    45.74,2,    37.53,2,     0.00,2,     2.83,2,    0.006,2, -999.000,5, -999.000,9,-999.0000,9,  -999.00,9,-999.000,9,   -999,-999.0000,-999.000,-999.000,  8.5529,-999.000
     32MW893_3,  P04E,   132,  1,     12,     12,2,19890413,1848,  9.5000,-152.0067, 5255,    622.0,   7.3776,  34.5584,2,  34.5555,2,   -999.0,5,     17.8,2,    57.55,2,    39.20,2,     0.00,2,     2.99,2,    0.002,2, -999.000,5, -999.000,9,-999.0000,9,  -999.00,9,-999.000,9,   -999,-999.0000,-999.000,-999.000,  7.3162,-999.000
     32MW893_3,  P04E,   132,  1,     11,     11,2,19890413,1848,  9.5000,-152.0067, 5255,    797.8,   5.7742,  34.5300,2,  34.5286,2,   -999.0,5,     17.4,2,    78.49,2,    42.82,2,     0.00,2,     3.22,2,    0.002,2,    0.013,2, -999.000,9,-999.0000,9,  -999.00,9,-999.000,9,   -999,-999.0000,-999.000,-999.000,  5.7041,-999.000
     32MW893_3,  P04E,   132,  1,     10,     10,2,19890413,1848,  9.5000,-152.0067, 5255,    997.1,   4.6636,  34.5436,2,  34.5427,2,   -999.0,5,     40.0,2,    94.75,2,    42.82,2,     0.00,2,     3.16,2,    0.009,2,    0.007,2, -999.000,9,-999.0000,9,  -999.00,9,-999.000,9,   -999,-999.0000,-999.000,-999.000,  4.5830,-999.000
     32MW893_3,  P04E,   132,  1,      9,      9,2,19890413,1848,  9.5000,-152.0067, 5255,   1498.4,   3.0593,  34.6007,2,  34.5981,2,   -999.0,5,     71.7,2,   128.19,2,    40.86,2,     0.00,2,     3.03,2,    0.000,2,    0.000,2, -999.000,9,-999.0000,9,  -999.00,9,-999.000,9,   -999,-999.0000,-999.000,-999.000,  2.9508,-999.000
     32MW893_3,  P04E,   132,  1,      8,      8,2,19890413,1848,  9.5000,-152.0067, 5255,   1999.3,   2.1966,  34.6397,2,  34.6390,2,   -999.0,5,     99.5,2,   146.24,2,    39.59,2,     0.00,2,     2.84,2,   -0.005,2,   -0.005,2, -999.000,9,-999.0000,9,  -999.00,9,-999.000,9,   -999,-999.0000,-999.000,-999.000,  2.0572,-999.000
     32MW893_3,  P04E,   132,  1,      7,      7,2,19890413,1848,  9.5000,-152.0067, 5255,   2502.6,   1.8668,  34.6626,2,  34.6626,2,   -999.0,5,    113.8,2,   153.08,2,    38.61,2,     0.00,2,     2.78,2,   -0.004,2,   -0.005,2, -999.000,9,-999.0000,9,  -999.00,9,-999.000,9,   -999,-999.0000,-999.000,-999.000,  1.6887,-999.000
     32MW893_3,  P04E,   132,  1,      6,      6,2,19890413,1848,  9.5000,-152.0067, 5255,   3002.4,   1.6958,  34.6729,2,  34.6761,2,   -999.0,5,    124.7,2,   155.56,2,    38.02,2,     0.00,2,     2.71,2,   -0.003,2,   -0.004,2, -999.000,9,-999.0000,9,  -999.00,9,-999.000,9,   -999,-999.0000,-999.000,-999.000,  1.4744,-999.000
     32MW893_3,  P04E,   132,  1,      5,      5,2,19890413,1848,  9.5000,-152.0067, 5255,   3502.4,   1.5269,  34.6818,2,  34.6822,2,   -999.0,5,    141.2,2,   154.47,2,    36.95,2,     0.00,2,     2.61,2,   -0.002,2,   -0.005,2, -999.000,9,-999.0000,9,  -999.00,9,-999.000,9,   -999,-999.0000,-999.000,-999.000,  1.2599,-999.000
     32MW893_3,  P04E,   132,  1,      4,      4,2,19890413,1848,  9.5000,-152.0067, 5255,   4004.2,   1.4080,  34.6905,2,  34.6844,2,   -999.0,5,   -999.0,5,   145.94,2,    36.16,2,     0.00,2,     2.51,2,    0.002,2,   -0.004,2, -999.000,9,-999.0000,9,  -999.00,9,-999.000,9,   -999,-999.0000,-999.000,-999.000,  1.0912,-999.000
     32MW893_3,  P04E,   132,  1,      3,      3,2,19890413,1848,  9.5000,-152.0067, 5255,   4504.8,   1.3660,  34.6950,2,  34.6938,2,   -999.0,5,    171.2,2,   138.79,2,    34.89,2,     0.00,2,     2.46,2,   -0.003,2,   -0.004,2, -999.000,9,-999.0000,9,  -999.00,9,-999.000,9,   -999,-999.0000,-999.000,-999.000,  0.9946,-999.000
     32MW893_3,  P04E,   132,  1,      2,      2,2,19890413,1848,  9.5000,-152.0067, 5255,   5004.4,   1.4130,  34.6948,2,  34.6971,2,   -999.0,5,    173.4,2,   137.79,2,    34.70,2,     0.00,2,     2.45,2,   -0.003,2,   -0.004,2, -999.000,9,-999.0000,9,  -999.00,9,-999.000,9,   -999,-999.0000,-999.000,-999.000,  0.9811,-999.000
     32MW893_3,  P04E,   132,  1,      1,      1,2,19890413,1848,  9.5000,-152.0067, 5255,   5340.8,   1.4450,  34.6967,2,  34.6964,2,   -999.0,5,    173.8,2,   136.50,2,    34.27,2,     0.01,2,     2.45,2,   -0.006,2,   -0.005,2, -999.000,9,-999.0000,9,  -999.00,9,-999.000,9,   -999,-999.0000,-999.000,-999.000,  0.9705,-999.000
     32MW893_3,  P04E,   133,  1,     24,     24,2,19890414,0401,  9.4833,-151.1750, 5193,      5.1,  26.4082,  34.8601,2,  34.8599,2,   -999.0,5,    215.0,2,     1.19,2,     0.68,2,     0.01,2,     0.31,2,    1.690,2,    0.941,2, -999.000,9,-999.0000,9,  -999.00,9,-999.000,9,   -999,-999.0000,-999.000,-999.000, 26.4071,-999.000
     32MW893_3,  P04E,   133,  1,     23,     23,2,19890414,0401,  9.4833,-151.1750, 5193,     47.1,  26.4112,  34.8630,2,  34.8609,2,   -999.0,5,    215.0,2,     1.49,2,     0.78,2,     0.03,2,     0.31,2,    1.725,2,    0.979,2, -999.000,9,-999.0000,9,  -999.00,9,-999.000,9,   -999,-999.0000,-999.000,-999.000, 26.4006,-999.000
     32MW893_3,  P04E,   133,  1,     22,     22,2,19890414,0401,  9.4833,-151.1750, 5193,     96.0,  17.7942,  34.6184,2,  34.6131,2,   -999.0,5,    157.7,2,     5.36,2,     7.72,2,     0.29,2,     0.84,2,    1.751,2,    0.967,2, -999.000,9,-999.0000,9,  -999.00,9,-999.000,9,   -999,-999.0000,-999.000,-999.000, 17.7779,-999.000
     32MW893_3,  P04E,   133,  1,     21,     21,2,19890414,0401,  9.4833,-151.1750, 5193,    147.9,  12.1360,  34.6611,2,  34.6653,2,   -999.0,5,     28.2,2,    26.39,2,    31.57,2,    -0.01,2,     2.35,2,    0.311,2,    0.203,2, -999.000,9,-999.0000,9,  -999.00,9,-999.000,9,   -999,-999.0000,-999.000,-999.000, 12.1167,-999.000
     32MW893_3,  P04E,   133,  1,     20,     20,2,19890414,0401,  9.4833,-151.1750, 5193,    197.6,  10.9204,  34.7105,2,  34.6979,2,   -999.0,5,     30.8,2,    29.66,2,    33.23,2,    -0.01,2,     2.39,2,    0.137,2,    0.092,2, -999.000,9,-999.0000,9,  -999.00,9,-999.000,9,   -999,-999.0000,-999.000,-999.000, 10.8962,-999.000
     32MW893_3,  P04E,   133,  1,     19,     19,2,19890414,0401,  9.4833,-151.1750, 5193,    246.1,  10.3065,  34.6962,2,  34.6930,2,   -999.0,5,     39.1,2,    31.05,2,    33.43,2,    -0.01,2,     2.39,2,    0.104,2,    0.071,2, -999.000,9,-999.0000,9,  -999.00,9,-999.000,9,   -999,-999.0000,-999.000,-999.000, 10.2774,-999.000
     32MW893_3,  P04E,   133,  1,     18,     18,2,19890414,0401,  9.4833,-151.1750, 5193,    296.7,   9.8727,  34.6858,2,  34.6834,2,   -999.0,5,     49.5,2,    31.65,2,    33.43,2,    -0.01,2,     2.38,2,    0.100,2, -999.000,5, -999.000,9,-999.0000,9,  -999.00,9,-999.000,9,   -999,-999.0000,-999.000,-999.000,  9.8385,-999.000
     32MW893_3,  P04E,   133,  1,     17,     17,2,19890414,0401,  9.4833,-151.1750, 5193,    348.2,   9.6348,  34.6781,2,  34.6745,2,   -999.0,5,     46.1,2,    33.04,2,    34.31,2,    -0.01,2,     2.44,2,    0.074,2,    0.055,2, -999.000,9,-999.0000,9,  -999.00,9,-999.000,9,   -999,-999.0000,-999.000,-999.000,  9.5952,-999.000
     32MW893_3,  P04E,   133,  1,     16,     16,2,19890414,0401,  9.4833,-151.1750, 5193,    397.2,   9.4458,  34.6732,2,  34.6704,2,   -999.0,5,     32.2,2,    34.92,2,    35.58,2,    -0.01,2,     2.57,2,    0.047,6,    0.036,6, -999.000,9,-999.0000,9,  -999.00,9,-999.000,9,   -999,-999.0000,-999.000,-999.000,  9.4010,-999.000
     32MW893_3,  P04E,   133,  1,     15,     15,2,19890414,0401,  9.4833,-151.1750, 5193,    495.8,   8.7631,  34.6349,2,  34.6327,2,   -999.0,5,      7.0,2,    43.85,2,    37.53,2,    -0.01,2,     2.89,2,    0.007,2,    0.012,2, -999.000,9,-999.0000,9,  -999.00,9,-999.000,9,   -999,-999.0000,-999.000,-999.000,  8.7094,-999.000
     32MW893_3,  P04E,   133,  1,     14,     14,2,19890414,0401,  9.4833,-151.1750, 5193,    597.8,   7.5795,  34.5642,2,  34.5632,2,   -999.0,5,     13.0,2,    54.47,2,    38.90,2,     0.00,2,     3.00,2, -999.000,5,    0.012,2, -999.000,9,-999.0000,9,  -999.00,9,-999.000,9,   -999,-999.0000,-999.000,-999.000,  7.5197,-999.000
     32MW893_3,  P04E,   133,  1,     13,     13,2,19890414,0401,  9.4833,-151.1750, 5193,    697.1,   6.5789,  34.5345,2,  34.5323,2,   -999.0,5,     16.5,2,    65.98,2,    41.15,2,     0.00,2,     3.11,2,    0.002,2, -999.000,5, -999.000,9,-999.0000,9,  -999.00,9,-999.000,9,   -999,-999.0000,-999.000,-999.000,  6.5139,-999.000
     32MW893_3,  P04E,   133,  1,     12,     12,2,19890414,0401,  9.4833,-151.1750, 5193,    796.2,   5.6882,  34.5291,2,  34.5256,2,   -999.0,5,     23.0,2,    77.79,2,    42.62,2,     0.00,2,     3.17,2,    0.000,2, -999.000,5, -999.000,9,-999.0000,9,  -999.00,9,-999.000,9,   -999,-999.0000,-999.000,-999.000,  5.6189,-999.000
     32MW893_3,  P04E,   133,  1,     11,     11,2,19890414,0401,  9.4833,-151.1750, 5193,    897.9,   5.1155,  34.5417,2,  34.5406,2,   -999.0,5,     26.1,2,    86.62,2,    43.89,2,     0.00,2,     3.25,2,    0.007,2, -999.000,5, -999.000,9,-999.0000,9,  -999.00,9,-999.000,9,   -999,-999.0000,-999.000,-999.000,  5.0405,-999.000
     32MW893_3,  P04E,   133,  1,     10,     10,2,19890414,0401,  9.4833,-151.1750, 5193,    996.7,   4.7006,  34.5473,2,  34.5471,2,   -999.0,5,     35.2,2,    93.86,2,    43.50,2,     0.00,2,     3.22,2,    0.006,2,    0.002,2, -999.000,9,-999.0000,9,  -999.00,9,-999.000,9,   -999,-999.0000,-999.000,-999.000,  4.6198,-999.000
     32MW893_3,  P04E,   133,  1,      9,      9,2,19890414,0401,  9.4833,-151.1750, 5193,   1498.5,   2.9683,  34.6042,2,  34.5985,2,   -999.0,5,     72.1,2,   129.17,2,    41.45,2,     0.00,2,     3.02,2,    0.000,2,    0.007,3, -999.000,9,-999.0000,9,  -999.00,9,-999.000,9,   -999,-999.0000,-999.000,-999.000,  2.8609,-999.000
     32MW893_3,  P04E,   133,  1,      8,      8,2,19890414,0401,  9.4833,-151.1750, 5193,   1998.3,   2.1447,  34.6442,2,  34.6421,2,   -999.0,5,     99.9,2,   147.43,2,    39.78,2,     0.00,2,     2.86,2,   -0.004,2,   -0.005,2, -999.000,9,-999.0000,9,  -999.00,9,-999.000,9,   -999,-999.0000,-999.000,-999.000,  2.0061,-999.000
     32MW893_3,  P04E,   133,  1,      7,      7,2,19890414,0401,  9.4833,-151.1750, 5193,   2499.7,   1.8618,  34.6644,2,  34.6626,2,   -999.0,5,    112.1,2,   154.57,2,    38.80,2,     0.00,2,     2.78,2,    0.002,2,    0.003,2, -999.000,9,-999.0000,9,  -999.00,9,-999.000,9,   -999,-999.0000,-999.000,-999.000,  1.6840,-999.000
     32MW893_3,  P04E,   133,  1,      6,      6,2,19890414,0401,  9.4833,-151.1750, 5193,   2999.9,   1.6868,  34.6738,2,  34.6732,2,   -999.0,5,    125.1,2,   155.96,2,    38.02,2,     0.00,2,     2.70,2,   -0.003,2,    0.002,3, -999.000,9,-999.0000,9,  -999.00,9,-999.000,9,   -999,-999.0000,-999.000,-999.000,  1.4659,-999.000
     32MW893_3,  P04E,   133,  1,      5,      5,2,19890414,0401,  9.4833,-151.1750, 5193,   3502.2,   1.5199,  34.6832,2,  34.6830,2,   -999.0,5,    144.3,2,   152.49,2,    36.75,2,     0.00,2,     2.64,2,   -0.002,2,   -0.005,2, -999.000,9,-999.0000,9,  -999.00,9,-999.000,9,   -999,-999.0000,-999.000,-999.000,  1.2531,-999.000
     32MW893_3,  P04E,   133,  1,      4,      4,2,19890414,0401,  9.4833,-151.1750, 5193,   4002.7,   1.3930,  34.6911,2,  34.6885,2,   -999.0,5,    159.5,2,   141.28,2,    35.77,2,     0.00,2,     2.54,2,   -0.001,2,   -0.004,2, -999.000,9,-999.0000,9,  -999.00,9,-999.000,9,   -999,-999.0000,-999.000,-999.000,  1.0767,-999.000
     32MW893_3,  P04E,   133,  1,      3,      3,2,19890414,0401,  9.4833,-151.1750, 5193,   4505.3,   1.3680,  34.6951,2,  34.6958,2,   -999.0,5,    171.6,2,   137.40,2,    34.70,2,     0.00,2,     2.46,2,   -0.003,2,    0.006,2, -999.000,9,-999.0000,9,  -999.00,9,-999.000,9,   -999,-999.0000,-999.000,-999.000,  0.9965,-999.000
     32MW893_3,  P04E,   133,  1,      2,      2,2,19890414,0401,  9.4833,-151.1750, 5193,   5005.7,   1.4130,  34.6955,2,  34.6962,2,   -999.0,5,    174.2,2,   136.41,2,    34.40,2,     0.00,2,     2.43,2,   -0.003,2, -999.000,5, -999.000,9,-999.0000,9,  -999.00,9,-999.000,9,   -999,-999.0000,-999.000,-999.000,  0.9810,-999.000
     32MW893_3,  P04E,   133,  1,      1,      1,2,19890414,0401,  9.4833,-151.1750, 5193,   5279.0,   1.4380,  34.6958,2,  34.6989,2,   -999.0,5,    175.1,2,   136.02,2,    34.56,2,     0.01,2,     2.46,2,   -0.008,2, -999.000,5, -999.000,9,-999.0000,9,  -999.00,9,-999.000,9,   -999,-999.0000,-999.000,-999.000,  0.9715,-999.000