BOTTLE,20020418WHPSIOdm
EXPOCODE,SECT_ID,STNNBR,CASTNO,SAMPNO,BTLNBR,BTLNBR_FLAG_W,DATE,TIME,LATITUDE,LONGITUDE,DEPTH,CTDPRS,CTDTMP,CTDSAL,CTDSAL_FLAG_W,SALNTY,SALNTY_FLAG_W,CTDOXY,CTDOXY_FLAG_W,OXYGEN,OXYGEN_FLAG_W,SILCAT,SILCAT_FLAG_W,NITRAT,NITRAT_FLAG_W,NITRIT,NITRIT_FLAG_W,PHSPHT,PHSPHT_FLAG_W,CFC-11,CFC-11_FLAG_W,CFC-12,CFC-12_FLAG_W,TRITUM,TRITUM_FLAG_W,HELIUM,HELIUM_FLAG_W,DELHE3,DELHE3_FLAG_W,NEON,NEON_FLAG_W,CTDRAW,HELIER,DELHER,NEONER,THETA,TRITER
,,,,,,,,,,,,DBAR,ITS-90,PSS-78,,PSS-78,,UMOL/KG,,UMOL/KG,,UMOL/KG,,UMOL/KG,,UMOL/KG,,UMOL/KG,,PMOL/KG,,PMOL/KG,,TU,,NMOL/KG,,PERCNT,,NMOL/KG,,,NMOL/KG,PERCNT,NMOL/KG,ITS-90,TU
     32MW893_3,  P04E,   136,  1,     24,     24,2,19890415,0758,  9.4983,-148.6667, 5354,      7.4,  26.4617,  34.8605,2,  34.8611,2,   -999.0,5,    218.1,2,     1.09,2,     1.27,2,     0.03,2,     0.36,2, -999.000,9, -999.000,9, -999.000,9,-999.0000,9,  -999.00,9,-999.000,9,   -999,-999.0000,-999.000,-999.000, 26.4600,-999.000
     32MW893_3,  P04E,   136,  1,     23,     23,2,19890415,0758,  9.4983,-148.6667, 5354,     49.9,  26.4707,  34.8609,2,  34.8613,2,   -999.0,5,    213.3,2,     1.29,2,     1.27,2,     0.05,2,     0.38,2, -999.000,9, -999.000,9, -999.000,9,-999.0000,9,  -999.00,9,-999.000,9,   -999,-999.0000,-999.000,-999.000, 26.4594,-999.000
     32MW893_3,  P04E,   136,  1,     22,     22,2,19890415,0758,  9.4983,-148.6667, 5354,    100.8,  19.9180,  34.6875,2,  34.6838,2,   -999.0,5,    182.1,2,     2.68,2,     4.50,2,     1.09,2,     0.62,2, -999.000,9, -999.000,9, -999.000,9,-999.0000,9,  -999.00,9,-999.000,9,   -999,-999.0000,-999.000,-999.000, 19.8995,-999.000
     32MW893_3,  P04E,   136,  1,     21,     21,2,19890415,0758,  9.4983,-148.6667, 5354,    150.4,  12.7189,  34.3959,2,  34.4014,2,   -999.0,5,     70.0,2,    20.34,2,    25.32,2,     0.00,2,     2.06,2, -999.000,9, -999.000,9, -999.000,9,-999.0000,9,  -999.00,9,-999.000,9,   -999,-999.0000,-999.000,-999.000, 12.6988,-999.000
     32MW893_3,  P04E,   136,  1,     20,     20,2,19890415,0758,  9.4983,-148.6667, 5354,    198.3,  11.2546,  34.6252,2,  34.6244,2,   -999.0,5,     20.0,2,    28.97,2,    32.45,2,     0.00,2,     2.57,2, -999.000,9, -999.000,9, -999.000,9,-999.0000,9,  -999.00,9,-999.000,9,   -999,-999.0000,-999.000,-999.000, 11.2299,-999.000
     32MW893_3,  P04E,   136,  1,     19,     19,2,19890415,0758,  9.4983,-148.6667, 5354,    248.7,  10.3050,  34.6313,2,  34.6299,2,   -999.0,5,     16.9,2,    33.23,2,    34.41,2,     0.00,2,     2.61,2, -999.000,9, -999.000,9, -999.000,9,-999.0000,9,  -999.00,9,-999.000,9,   -999,-999.0000,-999.000,-999.000, 10.2756,-999.000
     32MW893_3,  P04E,   136,  1,     18,     18,2,19890415,0758,  9.4983,-148.6667, 5354,    297.3,   9.9032,  34.6546,2,  34.6543,2,   -999.0,5,     15.6,2,    34.92,2,    35.77,2,     0.01,2,     2.72,2, -999.000,9, -999.000,9, -999.000,9,-999.0000,9,  -999.00,9,-999.000,9,   -999,-999.0000,-999.000,-999.000,  9.8689,-999.000
     32MW893_3,  P04E,   136,  1,     17,     17,2,19890415,0758,  9.4983,-148.6667, 5354,    394.0,   9.1096,  34.6235,2,  34.6231,2,   -999.0,5,     19.6,2,    39.28,2,    37.44,2,     0.01,2,     2.76,2, -999.000,9, -999.000,9, -999.000,9,-999.0000,9,  -999.00,9,-999.000,9,   -999,-999.0000,-999.000,-999.000,  9.0662,-999.000
     32MW893_3,  P04E,   136,  1,     16,     16,2,19890415,0758,  9.4983,-148.6667, 5354,    496.1,   8.0062,  34.5651,2,  34.5612,2,   -999.0,5,     26.9,2,    48.62,2,    38.32,2,     0.01,2,     2.94,2, -999.000,9, -999.000,9, -999.000,9,-999.0000,9,  -999.00,9,-999.000,9,   -999,-999.0000,-999.000,-999.000,  7.9553,-999.000
     32MW893_3,  P04E,   136,  1,     15,     15,2,19890415,0758,  9.4983,-148.6667, 5354,    594.8,   7.2127,  34.5595,2,  34.5594,2,   -999.0,5,     12.6,2,    58.14,2,    40.66,2,     0.01,2,     3.13,2, -999.000,9, -999.000,9, -999.000,9,-999.0000,9,  -999.00,9,-999.000,9,   -999,-999.0000,-999.000,-999.000,  7.1548,-999.000
     32MW893_3,  P04E,   136,  1,     14,     14,2,19890415,0758,  9.4983,-148.6667, 5354,    696.0,   6.2462,  34.5276,2,  34.5274,2,   -999.0,5,     27.8,2,    68.66,2,    41.84,2,     0.01,2,     3.14,2, -999.000,9, -999.000,9, -999.000,9,-999.0000,9,  -999.00,9,-999.000,9,   -999,-999.0000,-999.000,-999.000,  6.1831,-999.000
     32MW893_3,  P04E,   136,  1,     13,     13,2,19890415,0758,  9.4983,-148.6667, 5354,    795.0,   5.4637,  34.5331,2,  34.5349,2,   -999.0,5,     20.9,2,    81.46,2,    44.18,2,     0.01,2,     3.29,2, -999.000,9, -999.000,9, -999.000,9,-999.0000,9,  -999.00,9,-999.000,9,   -999,-999.0000,-999.000,-999.000,  5.3958,-999.000
     32MW893_3,  P04E,   136,  1,     12,     12,2,19890415,0758,  9.4983,-148.6667, 5354,    993.7,   4.3944,  34.5559,2,  34.5559,2,   -999.0,5,     40.4,2,    98.92,2,    44.09,2,     0.01,2,     3.26,2, -999.000,9, -999.000,9, -999.000,9,-999.0000,9,  -999.00,9,-999.000,9,   -999,-999.0000,-999.000,-999.000,  4.3162,-999.000
     32MW893_3,  P04E,   136,  1,     11,     11,2,19890415,0758,  9.4983,-148.6667, 5354,   1191.4,   3.6589,  34.5797,2,  34.5789,2,   -999.0,5,     56.9,2,   113.51,2,    43.11,2,     0.01,2,     3.21,2, -999.000,9, -999.000,9, -999.000,9,-999.0000,9,  -999.00,9,-999.000,9,   -999,-999.0000,-999.000,-999.000,  3.5700,-999.000
     32MW893_3,  P04E,   136,  1,     10,     10,2,19890415,0758,  9.4983,-148.6667, 5354,   1490.2,   2.8515,  34.6070,2,  34.6076,2,   -999.0,5,     76.0,2,   131.16,2,    41.84,2,     0.01,2,     3.04,2, -999.000,9, -999.000,9, -999.000,9,-999.0000,9,  -999.00,9,-999.000,9,   -999,-999.0000,-999.000,-999.000,  2.7461,-999.000
     32MW893_3,  P04E,   136,  1,      9,      9,2,19890415,0758,  9.4983,-148.6667, 5354,   1989.2,   2.0931,  34.6450,2,  34.6461,2,   -999.0,5,     98.2,2,   148.72,2,    40.37,2,     0.01,2,     2.93,2, -999.000,9, -999.000,9, -999.000,9,-999.0000,9,  -999.00,9,-999.000,9,   -999,-999.0000,-999.000,-999.000,  1.9561,-999.000
     32MW893_3,  P04E,   136,  1,      8,      8,2,19890415,0758,  9.4983,-148.6667, 5354,   2489.8,   1.8373,  34.6636,2,  34.6700,2,   -999.0,5,    112.5,2,   153.18,2,    39.10,2,     0.01,2,     2.81,2, -999.000,9, -999.000,9, -999.000,9,-999.0000,9,  -999.00,9,-999.000,9,   -999,-999.0000,-999.000,-999.000,  1.6609,-999.000
     32MW893_3,  P04E,   136,  1,      7,      7,2,19890415,0758,  9.4983,-148.6667, 5354,   2989.7,   1.6524,  34.6753,2,  34.6738,2,   -999.0,5,    126.0,2,   155.75,2,    38.41,2,     0.01,2,     2.75,2, -999.000,9, -999.000,9, -999.000,9,-999.0000,9,  -999.00,9,-999.000,9,   -999,-999.0000,-999.000,-999.000,  1.4333,-999.000
     32MW893_3,  P04E,   136,  1,      6,      6,2,19890415,0758,  9.4983,-148.6667, 5354,   3491.4,   1.4995,  34.6836,2,  34.6846,2,   -999.0,5,    143.8,2,   151.78,2,    37.14,2,     0.01,2,     2.68,2, -999.000,9, -999.000,9, -999.000,9,-999.0000,9,  -999.00,9,-999.000,9,   -999,-999.0000,-999.000,-999.000,  1.2343,-999.000
     32MW893_3,  P04E,   136,  1,      5,      5,2,19890415,0758,  9.4983,-148.6667, 5354,   3990.9,   1.3977,  34.6914,2,  34.6922,2,   -999.0,5,    162.1,2,   143.65,2,    36.07,2,     0.01,2,     2.58,2, -999.000,9, -999.000,9, -999.000,9,-999.0000,9,  -999.00,9,-999.000,9,   -999,-999.0000,-999.000,-999.000,  1.0825,-999.000
     32MW893_3,  P04E,   136,  1,      4,      4,2,19890415,0758,  9.4983,-148.6667, 5354,   4493.0,   1.3667,  34.6949,2,  34.6962,2,   -999.0,5,    171.6,2,   137.80,2,    35.28,2,     0.02,2,     2.52,2, -999.000,9, -999.000,9, -999.000,9,-999.0000,9,  -999.00,9,-999.000,9,   -999,-999.0000,-999.000,-999.000,  0.9966,-999.000
     32MW893_3,  P04E,   136,  1,      3,      3,2,19890415,0758,  9.4983,-148.6667, 5354,   4993.8,   1.4097,  34.6963,2,  34.6966,2,   -999.0,5,    173.4,2,   137.10,2,    35.19,2,     0.02,2,     2.51,2, -999.000,9, -999.000,9, -999.000,9,-999.0000,9,  -999.00,9,-999.000,9,   -999,-999.0000,-999.000,-999.000,  0.9792,-999.000
     32MW893_3,  P04E,   136,  1,      1,      1,2,19890415,0758,  9.4983,-148.6667, 5354,   5398.6,   1.4527,  34.6965,2,  34.6971,2,   -999.0,5,    174.2,2,   136.31,2,    34.52,2,     0.02,2,     2.48,2, -999.000,9, -999.000,9, -999.000,9,-999.0000,9,  -999.00,9,-999.000,9,   -999,-999.0000,-999.000,-999.000,  0.9706,-999.000
     32MW893_3,  P04E,   136,  1,      2,      2,2,19890415,0758,  9.4983,-148.6667, 5354,   5401.3,   1.4527,  34.6967,2,  34.6975,2,   -999.0,5,    174.7,2,   136.21,2,    35.09,2,     0.02,2,     2.48,2, -999.000,9, -999.000,9, -999.000,9,-999.0000,9,  -999.00,9,-999.000,9,   -999,-999.0000,-999.000,-999.000,  0.9703,-999.000
     32MW893_3,  P04E,   137,  1,     24,     24,2,19890415,1637,  9.4850,-147.8317, 5234,      7.4,  26.3392,  34.8279,2,  34.8269,2,   -999.0,5,    209.8,2,     1.09,2,     0.88,2,     0.03,2,     0.31,2,    1.706,2,    0.925,2, -999.000,9,-999.0000,9,  -999.00,9,-999.000,9,   -999,-999.0000,-999.000,-999.000, 26.3375,-999.000
     32MW893_3,  P04E,   137,  1,     23,     23,2,19890415,1637,  9.4850,-147.8317, 5234,     46.1,  26.3342,  34.8278,2,  34.8289,2,   -999.0,5,    210.7,2,     1.09,2,     0.98,2,     0.02,2,     0.32,2,    1.713,2,    0.914,2, -999.000,9,-999.0000,9,  -999.00,9,-999.000,9,   -999,-999.0000,-999.000,-999.000, 26.3238,-999.000
     32MW893_3,  P04E,   137,  1,     22,     22,2,19890415,1637,  9.4850,-147.8317, 5234,     70.8,  26.3232,  34.8372,2,  34.8314,2,   -999.0,5,    208.5,2,     1.29,2,     1.08,2,     0.02,2,     0.34,2,    1.735,2,    0.940,2, -999.000,9,-999.0000,9,  -999.00,9,-999.000,9,   -999,-999.0000,-999.000,-999.000, 26.3073,-999.000
     32MW893_3,  P04E,   137,  1,     21,     21,2,19890415,1637,  9.4850,-147.8317, 5234,     96.2,  20.3215,  34.6518,2,  34.8190,2,   -999.0,5,    205.9,2,     1.49,2,     1.08,2,     0.47,2,     0.35,2,    2.154,2,    1.140,2, -999.000,9,-999.0000,9,  -999.00,9,-999.000,9,   -999,-999.0000,-999.000,-999.000, 20.3036,-999.000
     32MW893_3,  P04E,   137,  1,     20,     20,2,19890415,1637,  9.4850,-147.8317, 5234,    120.7,  15.3739,  34.5000,2,  34.4497,2,   -999.0,5,    126.9,2,     9.03,2,    14.18,2,     0.02,2,     1.22,2,    1.683,2,    0.883,2, -999.000,9,-999.0000,9,  -999.00,9,-999.000,9,   -999,-999.0000,-999.000,-999.000, 15.3554,-999.000
     32MW893_3,  P04E,   137,  1,     19,     19,2,19890415,1637,  9.4850,-147.8317, 5234,    147.5,  12.8307,  34.6740,2,  34.6565,2,   -999.0,5,     15.6,2,    24.70,2,    31.77,2,     0.00,2,     2.45,2,    0.358,2,    0.179,2, -999.000,9,-999.0000,9,  -999.00,9,-999.000,9,   -999,-999.0000,-999.000,-999.000, 12.8107,-999.000
     32MW893_3,  P04E,   137,  1,     18,     18,2,19890415,1637,  9.4850,-147.8317, 5234,    173.7,  11.4821,  34.6407,2,  34.6362,2,   -999.0,5,     20.4,2,    27.97,2,    31.77,2,     0.00,2,     2.51,2,    0.251,2,    0.140,2, -999.000,9,-999.0000,9,  -999.00,9,-999.000,9,   -999,-999.0000,-999.000,-999.000, 11.4602,-999.000
     32MW893_3,  P04E,   137,  1,     17,     17,2,19890415,1637,  9.4850,-147.8317, 5234,    196.9,  11.3332,  34.7209,2,  34.7146,2,   -999.0,5,     12.2,2,    29.26,2,    33.72,2,     0.00,2,     2.55,2,    0.104,2, -999.000,5, -999.000,9,-999.0000,9,  -999.00,9,-999.000,9,   -999,-999.0000,-999.000,-999.000, 11.3085,-999.000
     32MW893_3,  P04E,   137,  1,     16,     16,2,19890415,1637,  9.4850,-147.8317, 5234,    246.5,  10.6075,  34.7023,2,  34.7027,2,   -999.0,5,     20.0,2,    31.65,2,    34.11,2,     0.00,2,     2.58,2,    0.096,2, -999.000,5, -999.000,9,-999.0000,9,  -999.00,9,-999.000,9,   -999,-999.0000,-999.000,-999.000, 10.5778,-999.000
     32MW893_3,  P04E,   137,  1,     15,     15,2,19890415,1637,  9.4850,-147.8317, 5234,    297.6,  10.1137,  34.6873,2,  34.6887,2,   -999.0,5,     18.7,2,    33.44,2,    35.09,2,     0.00,2,     2.61,2,    0.041,2, -999.000,5, -999.000,9,-999.0000,9,  -999.00,9,-999.000,9,   -999,-999.0000,-999.000,-999.000, 10.0789,-999.000
     32MW893_3,  P04E,   137,  1,     14,     14,2,19890415,1637,  9.4850,-147.8317, 5234,    396.6,   9.2310,  34.6571,2,  34.6529,2,   -999.0,5,     11.7,2,    39.09,2,    36.65,2,     0.01,2,     2.79,2,    0.038,2,    0.029,2, -999.000,9,-999.0000,9,  -999.00,9,-999.000,9,   -999,-999.0000,-999.000,-999.000,  9.1869,-999.000
     32MW893_3,  P04E,   137,  1,     13,     13,2,19890415,1637,  9.4850,-147.8317, 5234,    497.0,   8.3293,  34.6107,2,  34.6077,2,   -999.0,5,      8.3,2,    48.12,2,    37.53,2,     0.00,2,     3.06,2,    0.009,2,    0.005,2, -999.000,9,-999.0000,9,  -999.00,9,-999.000,9,   -999,-999.0000,-999.000,-999.000,  8.2771,-999.000
     32MW893_3,  P04E,   137,  1,     12,     12,2,19890415,1637,  9.4850,-147.8317, 5234,    620.2,   6.9537,  34.5417,2,  34.5425,2,   -999.0,5,     14.8,2,    62.01,2,    39.69,2,     0.00,2,     3.17,2,    0.003,2,    0.008,2, -999.000,9,-999.0000,9,  -999.00,9,-999.000,9,   -999,-999.0000,-999.000,-999.000,  6.8945,-999.000
     32MW893_3,  P04E,   137,  1,     11,     11,2,19890415,1637,  9.4850,-147.8317, 5234,    798.1,   5.2824,  34.5311,2,  34.5300,2,   -999.0,5,     26.1,2,    84.04,2,    42.62,2,     0.01,2,     3.15,2,    0.003,2,    0.003,2, -999.000,9,-999.0000,9,  -999.00,9,-999.000,9,   -999,-999.0000,-999.000,-999.000,  5.2153,-999.000
     32MW893_3,  P04E,   137,  1,     10,     10,2,19890415,1637,  9.4850,-147.8317, 5234,    999.1,   4.2178,  34.5621,2,  34.5618,2,   -999.0,5,     45.6,2,   103.38,2,    43.21,2,     0.00,2,     3.15,2,    0.007,2,    0.005,2, -999.000,9,-999.0000,9,  -999.00,9,-999.000,9,   -999,-999.0000,-999.000,-999.000,  4.1404,-999.000
     32MW893_3,  P04E,   137,  1,      9,      9,2,19890415,1637,  9.4850,-147.8317, 5234,   1496.3,   2.7983,  34.6110,2,  34.6101,2,   -999.0,5,     77.8,2,   134.53,2,    41.54,2,     0.00,2,     3.04,2,    0.003,2,    0.007,2, -999.000,9,-999.0000,9,  -999.00,9,-999.000,9,   -999,-999.0000,-999.000,-999.000,  2.6931,-999.000
     32MW893_3,  P04E,   137,  1,      8,      8,2,19890415,1637,  9.4850,-147.8317, 5234,   2000.3,   2.0677,  34.6476,2,  34.6496,2,   -999.0,5,    103.8,2,   150.30,2,    39.78,2,     0.00,2,     2.84,2,   -0.002,2, -999.000,5, -999.000,9,-999.0000,9,  -999.00,9,-999.000,9,   -999,-999.0000,-999.000,-999.000,  1.9301,-999.000
     32MW893_3,  P04E,   137,  1,      7,      7,2,19890415,1637,  9.4850,-147.8317, 5234,   2499.8,   1.8308,  34.6661,2,  34.6690,2,   -999.0,5,    113.8,2,   156.06,2,    39.00,2,     0.00,2,     2.74,2,    0.001,2,    0.004,2, -999.000,9,-999.0000,9,  -999.00,9,-999.000,9,   -999,-999.0000,-999.000,-999.000,  1.6536,-999.000
     32MW893_3,  P04E,   137,  1,      6,      6,2,19890415,1637,  9.4850,-147.8317, 5234,   3000.7,   1.6648,  34.6753,2,  34.6749,2,   -999.0,5,    126.4,2,   158.24,2,    38.12,2,     0.00,2,     2.70,2,   -0.001,2,    0.007,2, -999.000,9,-999.0000,9,  -999.00,9,-999.000,9,   -999,-999.0000,-999.000,-999.000,  1.4444,-999.000
     32MW893_3,  P04E,   137,  1,      5,      5,2,19890415,1637,  9.4850,-147.8317, 5234,   3502.7,   1.5199,  34.6835,2,  34.6830,2,   -999.0,5,    142.5,2,   156.85,2,    37.14,2,     0.00,2,     2.62,2,   -0.002,2,    0.007,2, -999.000,9,-999.0000,9,  -999.00,9,-999.000,9,   -999,-999.0000,-999.000,-999.000,  1.2530,-999.000
     32MW893_3,  P04E,   137,  1,      4,      4,2,19890415,1637,  9.4850,-147.8317, 5234,   4001.8,   1.3930,  34.6908,2,  34.6863,2,   -999.0,5,    160.8,2,   144.44,2,    35.97,2,     0.00,2,     2.53,2, -999.000,9, -999.000,9, -999.000,9,-999.0000,9,  -999.00,9,-999.000,9,   -999,-999.0000,-999.000,-999.000,  1.0768,-999.000
     32MW893_3,  P04E,   137,  1,      3,      3,2,19890415,1637,  9.4850,-147.8317, 5234,   4505.5,   1.3760,  34.6945,2,  34.6964,2,   -999.0,5,    169.5,2,   139.58,2,    34.99,2,     0.00,2,     2.45,2,    0.002,2,    0.006,2, -999.000,9,-999.0000,9,  -999.00,9,-999.000,9,   -999,-999.0000,-999.000,-999.000,  1.0042,-999.000
     32MW893_3,  P04E,   137,  1,      2,      2,2,19890415,1637,  9.4850,-147.8317, 5234,   5005.7,   1.4150,  34.6951,2,  34.6968,2,   -999.0,5,    174.7,2,   137.80,2,    34.89,2,     0.00,2,     2.43,2,    0.004,3,    0.000,3, -999.000,9,-999.0000,9,  -999.00,9,-999.000,9,   -999,-999.0000,-999.000,-999.000,  0.9829,-999.000
     32MW893_3,  P04E,   137,  1,      1,      1,2,19890415,1637,  9.4850,-147.8317, 5234,   5292.1,   1.4440,  34.6960,2,  34.6970,2,   -999.0,5,    175.1,2,   137.70,2,    34.80,2,     0.00,2,     2.43,2,   -0.004,2,   -0.005,2, -999.000,9,-999.0000,9,  -999.00,9,-999.000,9,   -999,-999.0000,-999.000,-999.000,  0.9756,-999.000