BOTTLE,20020418WHPSIOdm
EXPOCODE,SECT_ID,STNNBR,CASTNO,SAMPNO,BTLNBR,BTLNBR_FLAG_W,DATE,TIME,LATITUDE,LONGITUDE,DEPTH,CTDPRS,CTDTMP,CTDSAL,CTDSAL_FLAG_W,SALNTY,SALNTY_FLAG_W,CTDOXY,CTDOXY_FLAG_W,OXYGEN,OXYGEN_FLAG_W,SILCAT,SILCAT_FLAG_W,NITRAT,NITRAT_FLAG_W,NITRIT,NITRIT_FLAG_W,PHSPHT,PHSPHT_FLAG_W,CFC-11,CFC-11_FLAG_W,CFC-12,CFC-12_FLAG_W,TRITUM,TRITUM_FLAG_W,HELIUM,HELIUM_FLAG_W,DELHE3,DELHE3_FLAG_W,NEON,NEON_FLAG_W,CTDRAW,HELIER,DELHER,NEONER,THETA,TRITER
,,,,,,,,,,,,DBAR,ITS-90,PSS-78,,PSS-78,,UMOL/KG,,UMOL/KG,,UMOL/KG,,UMOL/KG,,UMOL/KG,,UMOL/KG,,PMOL/KG,,PMOL/KG,,TU,,NMOL/KG,,PERCNT,,NMOL/KG,,,NMOL/KG,PERCNT,NMOL/KG,ITS-90,TU
     32MW893_3,  P04E,   168,  1,     24,     24,2,19890426,1651,  9.5000,-122.0017, 4475,      6.0,  27.3439,  34.6095,2,  34.6105,2,   -999.0,5,    207.7,2,     1.49,2,     0.10,2,     0.01,2,     0.22,2,    1.633,2,    0.888,2, -999.000,9,-999.0000,9,  -999.00,9,-999.000,9,   -999,-999.0000,-999.000,-999.000, 27.3425,-999.000
     32MW893_3,  P04E,   168,  1,     23,     23,2,19890426,1651,  9.5000,-122.0017, 4475,     46.3,  21.2633,  34.5242,2,  34.5105,2,   -999.0,5,    152.1,2,     6.84,2,     8.50,2,     0.13,2,     0.84,2,    1.364,2,    0.750,2, -999.000,9,-999.0000,9,  -999.00,9,-999.000,9,   -999,-999.0000,-999.000,-999.000, 21.2544,-999.000
     32MW893_3,  P04E,   168,  1,     22,     22,2,19890426,1651,  9.5000,-122.0017, 4475,     96.8,  12.8957,  34.7696,2,  34.7644,2,   -999.0,5,     31.3,2,    24.40,2,    31.37,2,     0.03,2,     2.18,2,    0.366,2,    0.233,2, -999.000,9,-999.0000,9,  -999.00,9,-999.000,9,   -999,-999.0000,-999.000,-999.000, 12.8825,-999.000
     32MW893_3,  P04E,   168,  1,     21,     21,2,19890426,1651,  9.5000,-122.0017, 4475,    121.3,  12.1160,  34.7555,2,  34.7538,2,   -999.0,5,     31.3,2,    26.58,2,    32.06,2,     0.02,2,     2.23,2,    0.278,2, -999.000,5, -999.000,9,-999.0000,9,  -999.00,9,-999.000,9,   -999,-999.0000,-999.000,-999.000, 12.1002,-999.000
     32MW893_3,  P04E,   168,  1,     20,     20,2,19890426,1651,  9.5000,-122.0017, 4475,    146.0,  11.8830,  34.7632,2,  34.7714,2,   -999.0,5,     20.4,2,    27.78,2,    33.23,2,     0.01,2,     2.31,2,    0.192,2, -999.000,5, -999.000,9,-999.0000,9,  -999.00,9,-999.000,9,   -999,-999.0000,-999.000,-999.000, 11.8643,-999.000
     32MW893_3,  P04E,   168,  1,     19,     19,2,19890426,1651,  9.5000,-122.0017, 4475,    171.8,  11.2982,  34.7439,2,  34.7414,2,   -999.0,5,     21.3,2,    29.57,2,    33.82,2,     0.01,2,     2.38,2,    0.132,2, -999.000,5, -999.000,9,-999.0000,9,  -999.00,9,-999.000,9,   -999,-999.0000,-999.000,-999.000, 11.2767,-999.000
     32MW893_3,  P04E,   168,  1,     18,     18,2,19890426,1651,  9.5000,-122.0017, 4475,    196.1,  11.0713,  34.7338,2,  34.7341,2,   -999.0,5,     23.5,2,    30.26,2,    33.72,2,     0.02,2,     2.38,2,    0.126,2, -999.000,5, -999.000,9,-999.0000,9,  -999.00,9,-999.000,9,   -999,-999.0000,-999.000,-999.000, 11.0471,-999.000
     32MW893_3,  P04E,   168,  1,     17,     17,2,19890426,1651,  9.5000,-122.0017, 4475,    247.9,  10.6005,  34.7240,2,  34.7188,2,   -999.0,5,     25.6,2,    31.45,2,    34.21,2,     0.02,2,     2.39,2,    0.095,2,    0.064,2, -999.000,9,-999.0000,9,  -999.00,9,-999.000,9,   -999,-999.0000,-999.000,-999.000, 10.5707,-999.000
     32MW893_3,  P04E,   168,  1,     16,     16,2,19890426,1651,  9.5000,-122.0017, 4475,    297.5,  10.2705,  34.7083,2,  34.7103,2,   -999.0,5,     28.7,2,    32.73,2,    34.40,2,     0.02,2,     2.40,2,    0.082,2, -999.000,5, -999.000,9,-999.0000,9,  -999.00,9,-999.000,9,   -999,-999.0000,-999.000,-999.000, 10.2353,-999.000
     32MW893_3,  P04E,   168,  1,     15,     15,2,19890426,1651,  9.5000,-122.0017, 4475,    396.9,   9.1740,  34.6636,2,  34.6492,2,   -999.0,5,      6.1,2,    42.86,2,    35.77,2,     0.02,2,     2.77,2,    0.008,2, -999.000,5, -999.000,9,-999.0000,9,  -999.00,9,-999.000,9,   -999,-999.0000,-999.000,-999.000,  9.1301,-999.000
     32MW893_3,  P04E,   168,  1,     14,     14,2,19890426,1651,  9.5000,-122.0017, 4475,    497.0,   8.0944,  34.5927,2,  34.5958,2,   -999.0,5,      4.3,2,    51.88,2,    36.85,2,     0.00,2,     2.96,2,   -0.001,2, -999.000,5, -999.000,9,-999.0000,9,  -999.00,9,-999.000,9,   -999,-999.0000,-999.000,-999.000,  8.0431,-999.000
     32MW893_3,  P04E,   168,  1,     13,     13,2,19890426,1651,  9.5000,-122.0017, 4475,    598.4,   7.0257,  34.5663,2,  34.5559,2,   -999.0,5,      5.6,2,    63.60,2,    40.27,2,     0.00,2,     3.11,2,    0.004,2,    0.009,2, -999.000,9,-999.0000,9,  -999.00,9,-999.000,9,   -999,-999.0000,-999.000,-999.000,  6.9683,-999.000
     32MW893_3,  P04E,   168,  1,     12,     12,2,19890426,1651,  9.5000,-122.0017, 4475,    796.2,   5.5183,  34.5425,2,  34.5412,2,   -999.0,5,     19.1,2,    80.36,2,    44.18,2,     0.00,2,     3.16,2,    0.004,2, -999.000,5, -999.000,9,-999.0000,9,  -999.00,9,-999.000,9,   -999,-999.0000,-999.000,-999.000,  5.4499,-999.000
     32MW893_3,  P04E,   168,  1,     11,     11,2,19890426,1651,  9.5000,-122.0017, 4475,    997.7,   4.6137,  34.5597,2,  34.5596,2,   -999.0,5,     35.6,2,    95.75,2,    44.28,2,     0.00,2,     3.20,2, -999.000,9, -999.000,9, -999.000,9,-999.0000,9,  -999.00,9,-999.000,9,   -999,-999.0000,-999.000,-999.000,  4.5334,-999.000
     32MW893_3,  P04E,   168,  1,     10,     10,2,19890426,1651,  9.5000,-122.0017, 4475,   1344.2,   3.4321,  34.5901,2,  34.5893,2,   -999.0,5,     60.8,2,   119.75,2,    42.81,2,     0.00,2,     3.06,2, -999.000,9, -999.000,9, -999.000,9,-999.0000,9,  -999.00,9,-999.000,9,   -999,-999.0000,-999.000,-999.000,  3.3326,-999.000
     32MW893_3,  P04E,   168,  1,      9,      9,2,19890426,1651,  9.5000,-122.0017, 4475,   1699.1,   2.6955,  34.6174,2,  34.6160,2,   -999.0,5,     85.6,2,   135.53,2,    41.15,2,     0.00,2,     2.89,2, -999.000,9, -999.000,9, -999.000,9,-999.0000,9,  -999.00,9,-999.000,9,   -999,-999.0000,-999.000,-999.000,  2.5746,-999.000
     32MW893_3,  P04E,   168,  1,      8,      8,2,19890426,1651,  9.5000,-122.0017, 4475,   1849.6,   2.4255,  34.6319,2,  34.6292,2,   -999.0,5,     87.8,2,   142.46,2,    41.05,2,     0.00,2,     2.89,2, -999.000,9, -999.000,9, -999.000,9,-999.0000,9,  -999.00,9,-999.000,9,   -999,-999.0000,-999.000,-999.000,  2.2955,-999.000
     32MW893_3,  P04E,   168,  1,      7,      7,2,19890426,1651,  9.5000,-122.0017, 4475,   1948.3,   2.2826,  34.6416,2,-999.0000,5,   -999.0,5,     89.9,2,   148.82,2,    40.96,2,     0.00,2,     2.87,2,    0.002,2, -999.000,5, -999.000,9,-999.0000,9,  -999.00,9,-999.000,9,   -999,-999.0000,-999.000,-999.000,  2.1463,-999.000
     32MW893_3,  P04E,   168,  1,      6,      6,2,19890426,1651,  9.5000,-122.0017, 4475,   2099.9,   2.0957,  34.6505,2,  34.6504,2,   -999.0,5,     99.5,2,   152.19,2,    40.27,2,     0.00,2,     2.82,2,   -0.001,2,    0.004,2, -999.000,9,-999.0000,9,  -999.00,9,-999.000,9,   -999,-999.0000,-999.000,-999.000,  1.9492,-999.000
     32MW893_3,  P04E,   168,  1,      5,      5,2,19890426,1651,  9.5000,-122.0017, 4475,   2599.8,   1.8508,  34.6681,2,  34.6667,2,   -999.0,5,    114.3,2,   157.44,2,    39.19,2,     0.00,2,     2.71,2, -999.000,9, -999.000,9, -999.000,9,-999.0000,9,  -999.00,9,-999.000,9,   -999,-999.0000,-999.000,-999.000,  1.6641,-999.000
     32MW893_3,  P04E,   168,  1,      4,      4,2,19890426,1651,  9.5000,-122.0017, 4475,   3103.4,   1.6928,  34.6767,2,  34.6771,2,   -999.0,5,    126.4,2,   157.84,2,    38.41,2,     0.00,2,     2.67,2,    0.000,2, -999.000,5, -999.000,9,-999.0000,9,  -999.00,9,-999.000,9,   -999,-999.0000,-999.000,-999.000,  1.4617,-999.000
     32MW893_3,  P04E,   168,  1,      3,      3,2,19890426,1651,  9.5000,-122.0017, 4475,   3604.0,   1.5399,  34.6861,2,  34.6838,2,   -999.0,5,    143.0,2,   154.57,2,    37.53,2,     0.01,2,     2.54,2, -999.000,9, -999.000,9, -999.000,9,-999.0000,9,  -999.00,9,-999.000,9,   -999,-999.0000,-999.000,-999.000,  1.2621,-999.000
     32MW893_3,  P04E,   168,  1,      2,      2,2,19890426,1651,  9.5000,-122.0017, 4475,   4205.4,   1.4450,  34.6907,2,  34.6895,2,   -999.0,5,    158.2,2,   149.91,2,    36.46,2,     0.01,2,     2.46,2,    0.002,2,   -0.002,2, -999.000,9,-999.0000,9,  -999.00,9,-999.000,9,   -999,-999.0000,-999.000,-999.000,  1.1050,-999.000
     32MW893_3,  P04E,   168,  1,      1,      1,2,19890426,1651,  9.5000,-122.0017, 4475,   4550.2,   1.4749,  34.6900,2,  34.6914,2,   -999.0,5,    158.6,2,   149.21,2,    36.13,2,     0.01,2,     2.47,2,    0.002,2, -999.000,5, -999.000,9,-999.0000,9,  -999.00,9,-999.000,9,   -999,-999.0000,-999.000,-999.000,  1.0949,-999.000
     32MW893_3,  P04E,   169,  1,     24,     24,2,19890427,0102,  9.4967,-121.1683, 4398,      8.4,  27.5369,  34.5610,2,  34.5616,2,   -999.0,5,    216.4,2,     1.19,2,     0.20,2,     0.01,2,     0.24,2,    1.591,2,    0.881,2, -999.000,9,-999.0000,9,  -999.00,9,-999.000,9,   -999,-999.0000,-999.000,-999.000, 27.5349,-999.000
     32MW893_3,  P04E,   169,  1,     23,     23,2,19890427,0102,  9.4967,-121.1683, 4398,     47.5,  20.6075,  34.4642,2,  34.5520,2,   -999.0,5,    129.1,2,     9.13,2,    12.90,2,     0.22,2,     1.09,2,    1.266,2,    0.689,2, -999.000,9,-999.0000,9,  -999.00,9,-999.000,9,   -999,-999.0000,-999.000,-999.000, 20.5986,-999.000
     32MW893_3,  P04E,   169,  1,     22,     22,2,19890427,0102,  9.4967,-121.1683, 4398,     98.1,  12.9417,  34.7700,2,  34.7616,2,   -999.0,5,     26.1,2,    24.60,2,    31.96,2,     0.03,2,     2.24,2,    0.344,2,    0.219,2, -999.000,9,-999.0000,9,  -999.00,9,-999.000,9,   -999,-999.0000,-999.000,-999.000, 12.9283,-999.000
     32MW893_3,  P04E,   169,  1,     21,     21,2,19890427,0102,  9.4967,-121.1683, 4398,    120.6,  12.1970,  34.7652,2,  34.7530,2,   -999.0,5,     24.8,2,    26.68,2,    32.84,2,     0.01,2,     2.26,2,    0.258,2, -999.000,5, -999.000,9,-999.0000,9,  -999.00,9,-999.000,9,   -999,-999.0000,-999.000,-999.000, 12.1812,-999.000
     32MW893_3,  P04E,   169,  1,     20,     20,2,19890427,0102,  9.4967,-121.1683, 4398,    147.0,  11.8341,  34.7482,2,  34.7429,2,   -999.0,5,     30.0,2,    27.58,2,    32.74,2,     0.00,2,     2.26,2,    0.221,2, -999.000,5, -999.000,9,-999.0000,9,  -999.00,9,-999.000,9,   -999,-999.0000,-999.000,-999.000, 11.8152,-999.000
     32MW893_3,  P04E,   169,  1,     19,     19,2,19890427,0102,  9.4967,-121.1683, 4398,    171.6,  11.4701,  34.7455,2,  34.7512,2,   -999.0,5,     19.6,2,    28.97,2,    33.82,2,     0.00,2,     2.35,2,    0.143,2, -999.000,5, -999.000,9,-999.0000,9,  -999.00,9,-999.000,9,   -999,-999.0000,-999.000,-999.000, 11.4485,-999.000
     32MW893_3,  P04E,   169,  1,     18,     18,2,19890427,0102,  9.4967,-121.1683, 4398,    196.7,  11.1593,  34.7413,2,  34.7380,2,   -999.0,5,     18.7,2,    30.05,2,    34.31,2,     0.00,2,     2.38,2,    0.113,2,    0.078,2, -999.000,9,-999.0000,9,  -999.00,9,-999.000,9,   -999,-999.0000,-999.000,-999.000, 11.1349,-999.000
     32MW893_3,  P04E,   169,  1,     17,     17,2,19890427,0102,  9.4967,-121.1683, 4398,    246.4,  10.6374,  34.7239,2,  34.7203,2,   -999.0,5,     11.7,2,    32.54,2,    35.58,2,     0.00,2,     2.49,2,    0.057,2,    0.042,2, -999.000,9,-999.0000,9,  -999.00,9,-999.000,9,   -999,-999.0000,-999.000,-999.000, 10.6078,-999.000
     32MW893_3,  P04E,   169,  1,     16,     16,2,19890427,0102,  9.4967,-121.1683, 4398,    296.9,  10.2126,  34.7084,2,  34.7046,2,   -999.0,5,      8.3,2,    34.42,2,    36.46,2,     0.00,2,     2.56,2,    0.031,2, -999.000,5, -999.000,9,-999.0000,9,  -999.00,9,-999.000,9,   -999,-999.0000,-999.000,-999.000, 10.1777,-999.000
     32MW893_3,  P04E,   169,  1,     15,     15,2,19890427,0102,  9.4967,-121.1683, 4398,    396.5,   9.4368,  34.6728,2,  34.6641,2,   -999.0,5,      7.8,2,    39.28,2,    37.53,2,    -0.01,2,     2.69,2,    0.013,2, -999.000,5, -999.000,9,-999.0000,9,  -999.00,9,-999.000,9,   -999,-999.0000,-999.000,-999.000,  9.3921,-999.000
     32MW893_3,  P04E,   169,  1,     14,     14,2,19890427,0102,  9.4967,-121.1683, 4398,    496.0,   8.4872,  34.6092,2,  34.6077,2,   -999.0,5,      7.8,2,    47.62,2,    38.02,2,    -0.01,2,     2.85,2,    0.002,2, -999.000,5, -999.000,9,-999.0000,9,  -999.00,9,-999.000,9,   -999,-999.0000,-999.000,-999.000,  8.4345,-999.000
     32MW893_3,  P04E,   169,  1,     13,     13,2,19890427,0102,  9.4967,-121.1683, 4398,    596.7,   7.1757,  34.5608,2,  34.5486,2,   -999.0,5,      6.1,2,    61.92,2,    40.08,2,     0.00,2,     3.07,2,    0.002,2,   -0.005,2, -999.000,9,-999.0000,9,  -999.00,9,-999.000,9,   -999,-999.0000,-999.000,-999.000,  7.1178,-999.000
     32MW893_3,  P04E,   169,  1,     12,     12,2,19890427,0102,  9.4967,-121.1683, 4398,    697.7,   6.2270,  34.5525,2,  34.5512,2,   -999.0,5,      7.8,2,    71.53,2,    43.40,2,     0.00,2,     3.20,2, -999.000,9, -999.000,9, -999.000,9,-999.0000,9,  -999.00,9,-999.000,9,   -999,-999.0000,-999.000,-999.000,  6.1638,-999.000
     32MW893_3,  P04E,   169,  1,     11,     11,2,19890427,0102,  9.4967,-121.1683, 4398,    796.6,   5.6223,  34.5498,2,  34.5453,2,   -999.0,5,     16.5,2,    79.47,2,    44.57,2,     0.00,2,     3.22,2,    0.000,2, -999.000,5, -999.000,9,-999.0000,9,  -999.00,9,-999.000,9,   -999,-999.0000,-999.000,-999.000,  5.5533,-999.000
     32MW893_3,  P04E,   169,  1,     10,     10,2,19890427,0102,  9.4967,-121.1683, 4398,    996.4,   4.6866,  34.5639,2,  34.5549,2,   -999.0,5,     35.2,2,    93.26,2,    44.38,2,    -0.01,2,     3.17,2, -999.000,9, -999.000,9, -999.000,9,-999.0000,9,  -999.00,9,-999.000,9,   -999,-999.0000,-999.000,-999.000,  4.6059,-999.000
     32MW893_3,  P04E,   169,  1,      9,      9,2,19890427,0102,  9.4967,-121.1683, 4398,   1247.7,   3.8330,  34.5786,2,  34.5767,2,   -999.0,5,     53.4,2,  -999.00,5,    43.60,2,    -0.01,2,     3.08,2,    0.001,2, -999.000,5, -999.000,9,-999.0000,9,  -999.00,9,-999.000,9,   -999,-999.0000,-999.000,-999.000,  3.7377,-999.000
     32MW893_3,  P04E,   169,  1,      8,      8,2,19890427,0102,  9.4967,-121.1683, 4398,   1497.7,   3.1612,  34.5983,2,  34.5967,2,   -999.0,5,     71.7,2,   125.21,2,    42.03,2,    -0.01,2,     2.98,2, -999.000,9, -999.000,9, -999.000,9,-999.0000,9,  -999.00,9,-999.000,9,   -999,-999.0000,-999.000,-999.000,  3.0517,-999.000
     32MW893_3,  P04E,   169,  1,      7,      7,2,19890427,0102,  9.4967,-121.1683, 4398,   1998.4,   2.2296,  34.6432,2,  34.6404,2,   -999.0,5,     93.4,2,   148.62,2,    40.86,2,     0.00,2,     2.84,2,    0.000,2,    0.000,2, -999.000,9,-999.0000,9,  -999.00,9,-999.000,9,   -999,-999.0000,-999.000,-999.000,  2.0897,-999.000
     32MW893_3,  P04E,   169,  1,      6,      6,2,19890427,0102,  9.4967,-121.1683, 4398,   2499.3,   1.8678,  34.6672,2,  34.6645,2,   -999.0,5,    110.8,2,   156.15,2,    39.59,2,     0.00,2,     2.74,2, -999.000,9, -999.000,9, -999.000,9,-999.0000,9,  -999.00,9,-999.000,9,   -999,-999.0000,-999.000,-999.000,  1.6900,-999.000
     32MW893_3,  P04E,   169,  1,      5,      5,2,19890427,0102,  9.4967,-121.1683, 4398,   3001.6,   1.7288,  34.6741,2,-999.0000,5,   -999.0,5,    122.5,2,   157.35,2,    38.80,2,     0.00,2,     2.66,2,    0.008,2, -999.000,5, -999.000,9,-999.0000,9,  -999.00,9,-999.000,9,   -999,-999.0000,-999.000,-999.000,  1.5068,-999.000
     32MW893_3,  P04E,   169,  1,      4,      4,2,19890427,0102,  9.4967,-121.1683, 4398,   3504.4,   1.5519,  34.6842,2,  34.6863,2,   -999.0,5,    141.2,2,   154.47,2,    37.83,2,     0.00,2,     2.59,2, -999.000,9, -999.000,9, -999.000,9,-999.0000,9,  -999.00,9,-999.000,9,   -999,-999.0000,-999.000,-999.000,  1.2840,-999.000
     32MW893_3,  P04E,   169,  1,      3,      3,2,19890427,0102,  9.4967,-121.1683, 4398,   4005.5,   1.4739,  34.6891,2,  34.6905,2,   -999.0,5,    152.9,2,  -999.00,5,    36.95,2,     0.00,2,     2.54,2,    0.000,2,   -0.002,2, -999.000,9,-999.0000,9,  -999.00,9,-999.000,9,   -999,-999.0000,-999.000,-999.000,  1.1551,-999.000
     32MW893_3,  P04E,   169,  1,      2,      2,2,19890427,0102,  9.4967,-121.1683, 4398,   4207.1,   1.4530,  34.6903,2,  34.6913,2,   -999.0,5,    156.4,2,   149.60,2,    36.65,2,     0.00,2,     2.52,2, -999.000,9, -999.000,9, -999.000,9,-999.0000,9,  -999.00,9,-999.000,9,   -999,-999.0000,-999.000,-999.000,  1.1125,-999.000
     32MW893_3,  P04E,   169,  1,      1,      1,2,19890427,0102,  9.4967,-121.1683, 4398,   4470.8,   1.4699,  34.6898,2,-999.0000,5,   -999.0,5,    157.7,2,   149.21,2,    36.56,2,     0.00,2,     2.50,2,    0.004,2, -999.000,5, -999.000,9,-999.0000,9,  -999.00,9,-999.000,9,   -999,-999.0000,-999.000,-999.000,  1.0992,-999.000