BOTTLE,20020418WHPSIOdm
EXPOCODE,SECT_ID,STNNBR,CASTNO,SAMPNO,BTLNBR,BTLNBR_FLAG_W,DATE,TIME,LATITUDE,LONGITUDE,DEPTH,CTDPRS,CTDTMP,CTDSAL,CTDSAL_FLAG_W,SALNTY,SALNTY_FLAG_W,CTDOXY,CTDOXY_FLAG_W,OXYGEN,OXYGEN_FLAG_W,SILCAT,SILCAT_FLAG_W,NITRAT,NITRAT_FLAG_W,NITRIT,NITRIT_FLAG_W,PHSPHT,PHSPHT_FLAG_W,CFC-11,CFC-11_FLAG_W,CFC-12,CFC-12_FLAG_W,TRITUM,TRITUM_FLAG_W,HELIUM,HELIUM_FLAG_W,DELHE3,DELHE3_FLAG_W,NEON,NEON_FLAG_W,CTDRAW,HELIER,DELHER,NEONER,THETA,TRITER
,,,,,,,,,,,,DBAR,ITS-90,PSS-78,,PSS-78,,UMOL/KG,,UMOL/KG,,UMOL/KG,,UMOL/KG,,UMOL/KG,,UMOL/KG,,PMOL/KG,,PMOL/KG,,TU,,NMOL/KG,,PERCNT,,NMOL/KG,,,NMOL/KG,PERCNT,NMOL/KG,ITS-90,TU
     32MW893_3,  P04E,   219,  1,     20,     20,2,19890510,1143,  9.7033, -85.9833, 2412,     10.6,  28.0360,  33.7181,2,  33.7136,2,   -999.0,5,    221.8,2,     0.49,2,     0.29,2,     0.02,2,     0.29,2,    1.529,2,    0.877,2, -999.000,9,   1.7090,2,    -0.86,2,-999.000,9,   -999,  0.0090,   0.080,-999.000, 28.0335,-999.000
     32MW893_3,  P04E,   219,  1,     19,     19,2,19890510,1143,  9.7033, -85.9833, 2412,     48.8,  16.7757,  34.8076,2,  34.8049,2,   -999.0,5,     84.3,2,    13.49,2,    22.28,2,     0.50,2,     1.69,2,    0.755,2,    0.443,2,    1.089,2,   1.7630,2,     5.67,2,-999.000,9,   -999,  0.0100,   0.080,-999.000, 16.7678,   0.011
     32MW893_3,  P04E,   219,  1,     18,     18,2,19890510,1143,  9.7033, -85.9833, 2412,     74.2,  14.4873,  34.9017,2,  34.9028,2,   -999.0,5,     41.7,2,    17.73,2,    28.44,2,     0.46,2,     1.97,2,    0.531,2,    0.304,2,    0.889,2,   1.7680,2,     6.44,2,-999.000,9,   -999,  0.0100,   0.080,-999.000, 14.4764,   0.010
     32MW893_3,  P04E,   219,  1,     17,     17,2,19890510,1143,  9.7033, -85.9833, 2412,    100.0,  13.9195,  34.8967,2,  34.8971,2,   -999.0,5,     28.7,2,    19.30,2,    30.30,2,     0.07,2,     2.08,2,    0.452,2,    0.257,2,    0.773,2,   1.7790,2,     6.65,2,-999.000,9,   -999,  0.0100,   0.080,-999.000, 13.9052,   0.010
     32MW893_3,  P04E,   219,  1,     16,     16,2,19890510,1143,  9.7033, -85.9833, 2412,    124.2,  13.7436,  34.9084,2,  34.9064,2,   -999.0,5,     14.8,2,    20.28,2,    31.66,2,     0.02,2,     2.18,2,    0.369,2,    0.210,2,    0.721,2,   1.7830,2,     6.70,2,-999.000,9,   -999,  0.0100,   0.080,-999.000, 13.7259,   0.008
     32MW893_3,  P04E,   219,  1,     15,     15,2,19890510,1143,  9.7033, -85.9833, 2412,    150.0,  13.4877,  34.9038,2,  34.9022,2,   -999.0,5,     14.3,2,    20.97,2,    31.86,2,     0.02,2,     2.22,2,    0.322,2,    0.190,2,    0.675,2,   1.7890,2,     6.53,2,-999.000,9,   -999,  0.0100,   0.080,-999.000, 13.4666,   0.008
     32MW893_3,  P04E,   219,  1,     14,     14,2,19890510,1143,  9.7033, -85.9833, 2412,    172.4,  13.1967,  34.8897,2,  34.8947,2,   -999.0,5,      8.3,2,    22.35,2,    32.45,2,     0.02,2,     2.29,2,    0.286,2,    0.178,2,    0.648,2,   1.7680,2,     6.85,2,-999.000,9,   -999,  0.0100,   0.080,-999.000, 13.1728,   0.007
     32MW893_3,  P04E,   219,  1,     13,     13,2,19890510,1143,  9.7033, -85.9833, 2412,    198.8,  12.7799,  34.8718,2,  34.8682,2,   -999.0,5,      4.3,2,    24.12,2,    33.23,2,     0.00,2,     2.35,2,    0.232,2,    0.137,2,    0.559,2,   1.7750,2,     6.66,2,-999.000,9,   -999,  0.0100,   0.080,-999.000, 12.7529,   0.007
     32MW893_3,  P04E,   219,  1,     12,     12,2,19890510,1143,  9.7033, -85.9833, 2412,    247.5,  12.0132,  34.8123,2,  34.8100,2,   -999.0,5,      9.6,2,    26.58,2,    33.52,2,     0.00,2,     2.37,2,    0.181,2,    0.100,2,    0.472,2,   1.7850,2,     6.62,2,-999.000,9,   -999,  0.0100,   0.080,-999.000, 11.9809,   0.006
     32MW893_3,  P04E,   219,  1,     10,     10,2,19890510,1143,  9.7033, -85.9833, 2412,    396.6,   9.8992,  34.7128,2,  34.7148,2,   -999.0,5,      0.9,2,    39.78,2,    34.50,2,     0.02,2,     2.74,2,    0.044,2,    0.026,2,    0.139,2,   1.8090,2,     6.44,2,-999.000,9,   -999,  0.0100,   0.080,-999.000,  9.8532,   0.004
     32MW893_3,  P04E,   219,  1,      9,      9,2,19890510,1143,  9.7033, -85.9833, 2412,    494.5,   8.4500,  34.6416,2,  34.6406,2,   -999.0,5,      0.9,2,    51.90,2,    34.11,2,     0.32,2,     2.99,2,    0.004,2,   -0.001,2,    0.025,2,   1.8150,2,     7.54,2,-999.000,9,   -999,  0.0100,   0.080,-999.000,  8.3976,   0.004
     32MW893_3,  P04E,   219,  1,      8,      8,2,19890510,1143,  9.7033, -85.9833, 2412,    593.3,   7.3725,  34.6098,2,  34.6085,2,   -999.0,5,      2.2,2,    59.98,2,    39.39,2,     0.00,2,     3.10,2, -999.000,9, -999.000,9, -999.000,9,-999.0000,9,  -999.00,9,-999.000,9,   -999,-999.0000,-999.000,-999.000,  7.3140,-999.000
     32MW893_3,  P04E,   219,  1,      7,      7,2,19890510,1143,  9.7033, -85.9833, 2412,    794.6,   5.6676,  34.5735,2,  34.5742,2,   -999.0,5,     11.3,2,    80.16,2,    44.09,2,     0.00,2,     3.24,2, -999.000,9, -999.000,9, -999.000,9,-999.0000,9,  -999.00,9,-999.000,9,   -999,-999.0000,-999.000,-999.000,  5.5985,-999.000
     32MW893_3,  P04E,   219,  1,      6,      6,2,19890510,1143,  9.7033, -85.9833, 2412,    993.1,   4.6693,  34.5725,2,  34.5728,2,   -999.0,5,     23.0,2,    97.01,2,    44.67,2,     0.00,2,     3.26,2, -999.000,9, -999.000,9, -999.000,9,-999.0000,9,  -999.00,9,-999.000,9,   -999,-999.0000,-999.000,-999.000,  4.5890,-999.000
     32MW893_3,  P04E,   219,  1,      5,      5,2,19890510,1143,  9.7033, -85.9833, 2412,   1290.3,   3.6579,  34.5977,2,  34.5936,2,   -999.0,5,     46.9,2,   117.29,2,    43.60,2,     0.00,2,     3.16,2, -999.000,9, -999.000,9, -999.000,9,-999.0000,9,  -999.00,9,-999.000,9,   -999,-999.0000,-999.000,-999.000,  3.5606,-999.000
     32MW893_3,  P04E,   219,  1,      4,      4,2,19890510,1143,  9.7033, -85.9833, 2412,   1589.7,   2.9355,  34.6180,2,  34.6186,2,   -999.0,5,   -999.0,5,   133.54,2,    41.93,2,     0.00,2,     3.02,2, -999.000,9, -999.000,9, -999.000,9,-999.0000,9,  -999.00,9,-999.000,9,   -999,-999.0000,-999.000,-999.000,  2.8208,-999.000
     32MW893_3,  P04E,   219,  1,      3,      3,2,19890510,1143,  9.7033, -85.9833, 2412,   1887.8,   2.4788,  34.6368,2,  34.6378,2,   -999.0,5,     85.2,2,   142.60,2,    40.66,2,     0.00,2,     2.89,2, -999.000,9, -999.000,9, -999.000,9,-999.0000,9,  -999.00,9,-999.000,9,   -999,-999.0000,-999.000,-999.000,  2.3447,-999.000
     32MW893_3,  P04E,   219,  1,      2,      2,2,19890510,1143,  9.7033, -85.9833, 2412,   2188.2,   2.1471,  34.6520,2,  34.6516,2,   -999.0,5,     96.9,2,   150.97,2,    39.88,2,     0.00,2,     2.82,2,    0.000,2,   -0.001,2, -999.000,9,-999.0000,9,  -999.00,9,-999.000,9,   -999,-999.0000,-999.000,-999.000,  1.9921,-999.000
     32MW893_3,  P04E,   219,  1,      1,      1,2,19890510,1143,  9.7033, -85.9833, 2412,   2413.6,   1.8513,  34.6679,2,  34.6661,2,   -999.0,5,    108.6,2,   157.56,2,    38.90,2,     0.00,2,     2.76,2,    0.000,2,   -0.001,2, -999.000,9,-999.0000,9,  -999.00,9,-999.000,9,   -999,-999.0000,-999.000,-999.000,  1.6814,-999.000
     32MW893_3,  P04E,   220,  1,     22,     22,2,19890510,1359,  9.7700, -85.8683, 1754,      3.9,  28.4931,  33.7416,2,  33.7537,2,   -999.0,5,    218.7,2,     3.35,2,     0.20,2,     0.01,2,     0.22,2,    1.535,2,    0.851,2, -999.000,9,-999.0000,9,  -999.00,9,-999.000,9,   -999,-999.0000,-999.000,-999.000, 28.4922,-999.000
     32MW893_3,  P04E,   220,  1,     21,     21,2,19890510,1359,  9.7700, -85.8683, 1754,     49.7,  16.8976,  34.8091,2,  34.8196,2,   -999.0,5,     79.1,2,    17.23,2,    23.16,2,     0.58,2,     1.70,2,    0.746,2,    0.407,2, -999.000,9,-999.0000,9,  -999.00,9,-999.000,9,   -999,-999.0000,-999.000,-999.000, 16.8895,-999.000
     32MW893_3,  P04E,   220,  1,     20,     20,2,19890510,1359,  9.7700, -85.8683, 1754,     75.4,  14.2574,  34.9185,2,  34.9071,2,   -999.0,5,     29.5,2,    21.67,2,    30.10,2,     0.17,2,     2.04,2,    0.485,2,    0.274,2, -999.000,9,-999.0000,9,  -999.00,9,-999.000,9,   -999,-999.0000,-999.000,-999.000, 14.2464,-999.000
     32MW893_3,  P04E,   220,  1,     19,     19,2,19890510,1359,  9.7700, -85.8683, 1754,     98.9,  13.8046,  34.9064,2,  34.9111,2,   -999.0,5,     15.2,2,    23.53,2,    31.57,2,     0.02,2,     2.15,2,    0.390,2,    0.224,2, -999.000,9,-999.0000,9,  -999.00,9,-999.000,9,   -999,-999.0000,-999.000,-999.000, 13.7905,-999.000
     32MW893_3,  P04E,   220,  1,     18,     18,2,19890510,1359,  9.7700, -85.8683, 1754,    123.6,  13.6056,  34.9059,2,  34.9034,2,   -999.0,5,     13.5,2,    24.42,2,    31.76,2,     0.01,2,     2.19,2,    0.349,2,    0.202,2, -999.000,9,-999.0000,9,  -999.00,9,-999.000,9,   -999,-999.0000,-999.000,-999.000, 13.5881,-999.000
     32MW893_3,  P04E,   220,  1,     17,     17,2,19890510,1359,  9.7700, -85.8683, 1754,    150.3,  13.3737,  34.8986,2,  34.8920,2,   -999.0,5,     13.0,2,    25.50,2,    32.05,2,     0.01,2,     2.21,2,    0.313,2,    0.177,2, -999.000,9,-999.0000,9,  -999.00,9,-999.000,9,   -999,-999.0000,-999.000,-999.000, 13.3527,-999.000
     32MW893_3,  P04E,   220,  1,     16,     16,2,19890510,1359,  9.7700, -85.8683, 1754,    173.9,  13.0119,  34.8700,2,  34.8798,2,   -999.0,5,     18.7,2,    26.09,2,    31.86,2,     0.01,2,     2.15,2,    0.299,2,    0.180,2, -999.000,9,-999.0000,9,  -999.00,9,-999.000,9,   -999,-999.0000,-999.000,-999.000, 12.9880,-999.000
     32MW893_3,  P04E,   220,  1,     15,     15,2,19890510,1359,  9.7700, -85.8683, 1754,    199.1,  12.7689,  34.8569,2,  34.8550,2,   -999.0,5,     16.9,2,    26.78,2,    32.35,2,     0.01,2,     2.19,2,    0.263,2,    0.149,2, -999.000,9,-999.0000,9,  -999.00,9,-999.000,9,   -999,-999.0000,-999.000,-999.000, 12.7419,-999.000
     32MW893_3,  P04E,   220,  1,     14,     14,2,19890510,1359,  9.7700, -85.8683, 1754,    248.3,  12.4350,  34.8471,2,  34.8452,2,   -999.0,5,      6.5,2,    29.24,2,    33.33,2,     0.00,2,     2.34,2,    0.215,2,    0.129,2, -999.000,9,-999.0000,9,  -999.00,9,-999.000,9,   -999,-999.0000,-999.000,-999.000, 12.4018,-999.000
     32MW893_3,  P04E,   220,  1,     13,     13,2,19890510,1359,  9.7700, -85.8683, 1754,    299.0,  11.4784,  34.7830,2,  34.7864,2,   -999.0,5,      7.4,2,    32.59,2,    34.11,2,     0.00,2,     2.41,2,    0.134,2,    0.067,2, -999.000,9,-999.0000,9,  -999.00,9,-999.000,9,   -999,-999.0000,-999.000,-999.000, 11.4405,-999.000
     32MW893_3,  P04E,   220,  1,     12,     12,2,19890510,1359,  9.7700, -85.8683, 1754,    397.3,  10.1531,  34.7301,2,  34.7310,2,   -999.0,5,      2.2,2,    41.26,2,    34.99,2,     0.00,2,     2.65,2,    0.053,2,    0.035,2, -999.000,9,-999.0000,9,  -999.00,9,-999.000,9,   -999,-999.0000,-999.000,-999.000, 10.1062,-999.000
     32MW893_3,  P04E,   220,  1,     11,     11,2,19890510,1359,  9.7700, -85.8683, 1754,    495.2,   8.2111,  34.6359,2,  34.6370,2,   -999.0,5,      1.7,2,    54.06,2,    36.36,2,     0.00,2,     2.94,2, -999.000,9, -999.000,9, -999.000,9,-999.0000,9,  -999.00,9,-999.000,9,   -999,-999.0000,-999.000,-999.000,  8.1595,-999.000
     32MW893_3,  P04E,   220,  1,     10,     10,2,19890510,1359,  9.7700, -85.8683, 1754,    593.8,   7.1927,  34.6049,2,  34.6026,2,   -999.0,5,      3.5,2,    61.94,2,    39.78,2,     0.00,2,     3.09,2, -999.000,9, -999.000,9, -999.000,9,-999.0000,9,  -999.00,9,-999.000,9,   -999,-999.0000,-999.000,-999.000,  7.1350,-999.000
     32MW893_3,  P04E,   220,  1,      9,      9,2,19890510,1359,  9.7700, -85.8683, 1754,    695.2,   6.5950,  34.5829,2,  34.5889,2,   -999.0,5,      6.5,2,    68.15,2,    42.33,2,     0.00,2,     3.14,2, -999.000,9, -999.000,9, -999.000,9,-999.0000,9,  -999.00,9,-999.000,9,   -999,-999.0000,-999.000,-999.000,  6.5301,-999.000