BOTTLE,20020418WHPSIOdm
EXPOCODE,SECT_ID,STNNBR,CASTNO,SAMPNO,BTLNBR,BTLNBR_FLAG_W,DATE,TIME,LATITUDE,LONGITUDE,DEPTH,CTDPRS,CTDTMP,CTDSAL,CTDSAL_FLAG_W,SALNTY,SALNTY_FLAG_W,CTDOXY,CTDOXY_FLAG_W,OXYGEN,OXYGEN_FLAG_W,SILCAT,SILCAT_FLAG_W,NITRAT,NITRAT_FLAG_W,NITRIT,NITRIT_FLAG_W,PHSPHT,PHSPHT_FLAG_W,CFC-11,CFC-11_FLAG_W,CFC-12,CFC-12_FLAG_W,TRITUM,TRITUM_FLAG_W,HELIUM,HELIUM_FLAG_W,DELHE3,DELHE3_FLAG_W,NEON,NEON_FLAG_W,CTDRAW,HELIER,DELHER,NEONER,THETA,TRITER
,,,,,,,,,,,,DBAR,ITS-90,PSS-78,,PSS-78,,UMOL/KG,,UMOL/KG,,UMOL/KG,,UMOL/KG,,UMOL/KG,,UMOL/KG,,PMOL/KG,,PMOL/KG,,TU,,NMOL/KG,,PERCNT,,NMOL/KG,,,NMOL/KG,PERCNT,NMOL/KG,ITS-90,TU
     32MW893_3,  P04E,   172,  1,     24,     24,2,19890428,0110,  9.4933,-118.6700, 4235,      7.4,  27.8038,  34.0693,2,  34.0727,2,   -999.0,5,    216.0,2,     0.79,2,     0.00,2,     0.00,2,     0.25,2,    1.598,2,    0.925,2, -999.000,9,-999.0000,9,  -999.00,9,-999.000,9,   -999,-999.0000,-999.000,-999.000, 27.8021,-999.000
     32MW893_3,  P04E,   172,  1,     23,     23,2,19890428,0110,  9.4933,-118.6700, 4235,     48.2,  27.6919,  34.0778,2,  34.0768,2,   -999.0,5,    213.0,2,     0.99,2,     0.10,2,     0.00,2,     0.27,2,    1.593,2,    0.911,2, -999.000,9,-999.0000,9,  -999.00,9,-999.000,9,   -999,-999.0000,-999.000,-999.000, 27.6807,-999.000
     32MW893_3,  P04E,   172,  1,     22,     22,2,19890428,0110,  9.4933,-118.6700, 4235,     97.9,  16.9264,  34.6516,2,  34.6319,2,   -999.0,5,     27.4,2,    16.05,2,    27.66,2,     0.15,2,     2.06,2,    0.824,2,    0.496,2, -999.000,9,-999.0000,9,  -999.00,9,-999.000,9,   -999,-999.0000,-999.000,-999.000, 16.9104,-999.000
     32MW893_3,  P04E,   172,  1,     21,     21,2,19890428,0110,  9.4933,-118.6700, 4235,    122.5,  14.0323,  34.6738,2,  34.6867,2,   -999.0,5,     20.4,2,    22.16,2,    30.89,2,     0.02,2,     2.22,2,    0.506,2,    0.308,2, -999.000,9,-999.0000,9,  -999.00,9,-999.000,9,   -999,-999.0000,-999.000,-999.000, 14.0147,-999.000
     32MW893_3,  P04E,   172,  1,     20,     20,2,19890428,0110,  9.4933,-118.6700, 4235,    146.4,  12.7967,  34.7236,2,  34.7514,2,   -999.0,5,     16.5,2,    25.30,2,    32.74,2,     0.01,2,     2.31,2,    0.294,2,    0.165,2, -999.000,9,-999.0000,9,  -999.00,9,-999.000,9,   -999,-999.0000,-999.000,-999.000, 12.7769,-999.000
     32MW893_3,  P04E,   172,  1,     19,     19,2,19890428,0110,  9.4933,-118.6700, 4235,    170.7,  12.1900,  34.7552,2,  34.7591,2,   -999.0,5,     20.4,2,    26.58,2,    32.94,2,     0.01,2,     2.32,2,    0.236,2, -999.000,5, -999.000,9,-999.0000,9,  -999.00,9,-999.000,9,   -999,-999.0000,-999.000,-999.000, 12.1676,-999.000
     32MW893_3,  P04E,   172,  1,     18,     18,2,19890428,0110,  9.4933,-118.6700, 4235,    196.8,  11.7531,  34.7311,2,  34.7583,2,   -999.0,5,     25.2,2,    27.47,2,    32.84,2,     0.01,2,     2.30,2,    0.198,2, -999.000,5, -999.000,9,-999.0000,9,  -999.00,9,-999.000,9,   -999,-999.0000,-999.000,-999.000, 11.7278,-999.000
     32MW893_3,  P04E,   172,  1,     17,     17,2,19890428,0110,  9.4933,-118.6700, 4235,    246.8,  11.1723,  34.7380,2,  34.7445,2,   -999.0,5,     26.5,2,    29.34,2,    33.23,2,     0.01,2,     2.33,2,    0.141,2,    0.084,2, -999.000,9,-999.0000,9,  -999.00,9,-999.000,9,   -999,-999.0000,-999.000,-999.000, 11.1416,-999.000
     32MW893_3,  P04E,   172,  1,     15,     15,2,19890428,0110,  9.4933,-118.6700, 4235,    397.0,   9.7937,  34.6890,2,  34.6869,2,   -999.0,5,      8.3,2,    37.32,2,    35.87,2,    -0.01,2,     2.64,2,    0.020,2, -999.000,5, -999.000,9,-999.0000,9,  -999.00,9,-999.000,9,   -999,-999.0000,-999.000,-999.000,  9.7480,-999.000
     32MW893_3,  P04E,   172,  1,     14,     14,2,19890428,0110,  9.4933,-118.6700, 4235,    496.7,   8.6901,  34.6301,2,  34.6252,2,   -999.0,5,      3.0,2,    47.07,2,    35.87,2,     0.00,2,     2.87,2,    0.008,2,    0.008,2, -999.000,9,-999.0000,9,  -999.00,9,-999.000,9,   -999,-999.0000,-999.000,-999.000,  8.6366,-999.000
     32MW893_3,  P04E,   172,  1,     13,     13,2,19890428,0110,  9.4933,-118.6700, 4235,    597.8,   7.5995,  34.5797,2,  34.5826,2,   -999.0,5,      3.5,2,    57.52,2,    38.32,2,     0.00,2,     3.05,2,    0.000,2,    0.014,2, -999.000,9,-999.0000,9,  -999.00,9,-999.000,9,   -999,-999.0000,-999.000,-999.000,  7.5396,-999.000
     32MW893_3,  P04E,   172,  1,     12,     12,2,19890428,0110,  9.4933,-118.6700, 4235,    696.3,   6.6489,  34.5557,2,  34.5592,2,   -999.0,5,      6.1,2,    66.28,2,    41.84,2,     0.00,2,     3.14,2,   -0.002,2,    0.001,2, -999.000,9,-999.0000,9,  -999.00,9,-999.000,9,   -999,-999.0000,-999.000,-999.000,  6.5836,-999.000
     32MW893_3,  P04E,   172,  1,     11,     11,2,19890428,0110,  9.4933,-118.6700, 4235,    796.0,   5.8742,  34.5480,2,  34.5480,2,   -999.0,5,     13.0,2,    75.24,2,    43.69,2,     0.00,2,     3.20,2, -999.000,9, -999.000,9, -999.000,9,-999.0000,9,  -999.00,9,-999.000,9,   -999,-999.0000,-999.000,-999.000,  5.8037,-999.000
     32MW893_3,  P04E,   172,  1,     10,     10,2,19890428,0110,  9.4933,-118.6700, 4235,    997.7,   4.8045,  34.5586,2,  34.5569,2,   -999.0,5,     34.3,2,    90.12,2,    43.89,2,    -0.01,2,     3.15,2, -999.000,9, -999.000,9, -999.000,9,-999.0000,9,  -999.00,9,-999.000,9,   -999,-999.0000,-999.000,-999.000,  4.7229,-999.000
     32MW893_3,  P04E,   172,  1,      9,      9,2,19890428,0110,  9.4933,-118.6700, 4235,   1247.7,   3.9320,  34.5735,2,  34.5773,2,   -999.0,5,     50.4,2,   108.23,2,    43.11,2,     0.00,2,     3.10,2, -999.000,9, -999.000,9, -999.000,9,-999.0000,9,  -999.00,9,-999.000,9,   -999,-999.0000,-999.000,-999.000,  3.8358,-999.000
     32MW893_3,  P04E,   172,  1,      8,      8,2,19890428,0110,  9.4933,-118.6700, 4235,   1498.2,   3.2932,  34.5947,2,  34.5932,2,   -999.0,5,     70.8,2,   120.93,2,    41.93,2,     0.00,2,     2.99,2, -999.000,9, -999.000,9, -999.000,9,-999.0000,9,  -999.00,9,-999.000,9,   -999,-999.0000,-999.000,-999.000,  3.1821,-999.000
     32MW893_3,  P04E,   172,  1,      7,      7,2,19890428,0110,  9.4933,-118.6700, 4235,   1748.0,   2.7513,  34.6193,2,  34.6178,2,   -999.0,5,     73.9,2,   136.20,2,    41.84,2,     0.00,2,     2.96,2, -999.000,9, -999.000,9, -999.000,9,-999.0000,9,  -999.00,9,-999.000,9,   -999,-999.0000,-999.000,-999.000,  2.6256,-999.000
     32MW893_3,  P04E,   172,  1,      6,      6,2,19890428,0110,  9.4933,-118.6700, 4235,   1999.6,   2.3005,  34.6444,2,  34.6390,2,   -999.0,5,     88.6,2,   145.65,2,    40.66,2,     0.00,2,     2.86,2,   -0.001,2,    0.008,2, -999.000,9,-999.0000,9,  -999.00,9,-999.000,9,   -999,-999.0000,-999.000,-999.000,  2.1596,-999.000
     32MW893_3,  P04E,   172,  1,      5,      5,2,19890428,0110,  9.4933,-118.6700, 4235,   2501.5,   1.8757,  34.6642,2,  34.6637,2,   -999.0,5,    109.9,2,   155.39,2,    39.00,2,    -0.01,2,     2.75,2, -999.000,9, -999.000,9, -999.000,9,-999.0000,9,  -999.00,9,-999.000,9,   -999,-999.0000,-999.000,-999.000,  1.6976,-999.000
     32MW893_3,  P04E,   172,  1,      4,      4,2,19890428,0110,  9.4933,-118.6700, 4235,   3002.9,   1.6908,  34.6764,2,  34.6761,2,   -999.0,5,    125.6,2,   156.48,2,    38.12,2,    -0.01,2,     2.65,2,    0.001,2,    0.007,2, -999.000,9,-999.0000,9,  -999.00,9,-999.000,9,   -999,-999.0000,-999.000,-999.000,  1.4695,-999.000
     32MW893_3,  P04E,   172,  1,      3,      3,2,19890428,0110,  9.4933,-118.6700, 4235,   3503.6,   1.5539,  34.6842,2,  34.6838,2,   -999.0,5,    139.9,2,   153.82,2,    37.24,2,     0.00,2,     2.55,2,    0.000,2,   -0.002,2, -999.000,9,-999.0000,9,  -999.00,9,-999.000,9,   -999,-999.0000,-999.000,-999.000,  1.2861,-999.000
     32MW893_3,  P04E,   172,  1,      2,      2,2,19890428,0110,  9.4933,-118.6700, 4235,   4007.3,   1.4909,  34.6879,2,  34.6889,2,   -999.0,5,    151.2,2,   150.17,2,    36.56,2,    -0.01,2,     2.49,2,   -0.002,2,   -0.002,2, -999.000,9,-999.0000,9,  -999.00,9,-999.000,9,   -999,-999.0000,-999.000,-999.000,  1.1715,-999.000
     32MW893_3,  P04E,   172,  1,      1,      1,2,19890428,0110,  9.4933,-118.6700, 4235,   4287.8,   1.4689,  34.6894,2,  34.6897,2,   -999.0,5,    155.5,2,   148.69,2,    36.49,2,    -0.01,2,     2.44,2,    0.002,2,   -0.002,2, -999.000,9,-999.0000,9,  -999.00,9,-999.000,9,   -999,-999.0000,-999.000,-999.000,  1.1190,-999.000
     32MW893_3,  P04E,   173,  1,     24,     24,2,19890428,0850,  9.4917,-117.8383, 4078,      5.6,  27.6049,  34.0891,2,  34.0880,2,   -999.0,5,    210.4,2,     0.49,2,     0.00,2,    -0.01,2,     0.26,2,    1.599,2,    0.896,2, -999.000,9,-999.0000,9,  -999.00,9,-999.000,9,   -999,-999.0000,-999.000,-999.000, 27.6036,-999.000
     32MW893_3,  P04E,   173,  1,     23,     23,2,19890428,0850,  9.4917,-117.8383, 4078,     46.7,  27.6009,  34.0961,2,  34.0933,2,   -999.0,5,    210.8,2,     0.49,2,     0.00,2,     0.01,2,     0.28,2,    1.589,3, -999.000,5, -999.000,9,-999.0000,9,  -999.00,9,-999.000,9,   -999,-999.0000,-999.000,-999.000, 27.5900,-999.000
     32MW893_3,  P04E,   173,  1,     22,     22,2,19890428,0850,  9.4917,-117.8383, 4078,     71.9,  24.9494,  33.9197,2,  33.9837,2,   -999.0,5,    126.1,2,     3.45,2,    12.91,2,     0.24,2,     1.04,2,    1.517,2,    0.847,2, -999.000,9,-999.0000,9,  -999.00,9,-999.000,9,   -999,-999.0000,-999.000,-999.000, 24.9339,-999.000
     32MW893_3,  P04E,   173,  1,     21,     21,2,19890428,0850,  9.4917,-117.8383, 4078,     97.7,  18.5470,  34.5207,2,  34.4206,2,   -999.0,5,     40.9,2,    12.41,2,    25.71,2,     0.02,2,     1.93,2,    1.001,2,    0.607,2, -999.000,9,-999.0000,9,  -999.00,9,-999.000,9,   -999,-999.0000,-999.000,-999.000, 18.5301,-999.000
     32MW893_3,  P04E,   173,  1,     20,     20,2,19890428,0850,  9.4917,-117.8383, 4078,    121.3,  15.0221,  34.7963,2,  34.7795,2,   -999.0,5,      5.2,2,    19.99,2,    30.79,2,     0.01,2,     2.30,2,    0.521,2,    0.322,2, -999.000,9,-999.0000,9,  -999.00,9,-999.000,9,   -999,-999.0000,-999.000,-999.000, 15.0038,-999.000
     32MW893_3,  P04E,   173,  1,     19,     19,2,19890428,0850,  9.4917,-117.8383, 4078,    148.1,  13.1336,  34.8223,2,  34.7933,2,   -999.0,5,     16.1,2,    23.44,2,    32.06,2,     0.01,2,     2.23,2,    0.334,2,    0.202,2, -999.000,9,-999.0000,9,  -999.00,9,-999.000,9,   -999,-999.0000,-999.000,-999.000, 13.1133,-999.000
     32MW893_3,  P04E,   173,  1,     18,     18,2,19890428,0850,  9.4917,-117.8383, 4078,    172.9,  12.4138,  34.7934,2,  34.7787,2,   -999.0,5,     18.7,2,    25.30,2,    32.45,2,     0.00,2,     2.27,2,    0.253,2,    0.164,2, -999.000,9,-999.0000,9,  -999.00,9,-999.000,9,   -999,-999.0000,-999.000,-999.000, 12.3908,-999.000
     32MW893_3,  P04E,   173,  1,     17,     17,2,19890428,0850,  9.4917,-117.8383, 4078,    196.2,  12.0720,  34.7902,2,  34.7807,2,   -999.0,5,     24.8,2,    25.80,2,    32.35,2,     0.01,2,     2.23,2,    0.219,2, -999.000,5, -999.000,9,-999.0000,9,  -999.00,9,-999.000,9,   -999,-999.0000,-999.000,-999.000, 12.0464,-999.000
     32MW893_3,  P04E,   173,  1,     16,     16,2,19890428,0850,  9.4917,-117.8383, 4078,    248.5,  11.3612,  34.7507,2,  34.7486,2,   -999.0,5,     23.0,2,    28.56,2,    33.13,2,     0.01,2,     2.30,2,    0.147,2, -999.000,5, -999.000,9,-999.0000,9,  -999.00,9,-999.000,9,   -999,-999.0000,-999.000,-999.000, 11.3299,-999.000
     32MW893_3,  P04E,   173,  1,     15,     15,2,19890428,0850,  9.4917,-117.8383, 4078,    298.8,  10.8614,  34.7263,2,  34.7329,2,   -999.0,5,     23.5,2,    29.84,2,    33.62,2,     0.01,2,     2.34,2,    0.114,2, -999.000,5, -999.000,9,-999.0000,9,  -999.00,9,-999.000,9,   -999,-999.0000,-999.000,-999.000, 10.8248,-999.000
     32MW893_3,  P04E,   173,  1,     14,     14,2,19890428,0850,  9.4917,-117.8383, 4078,    396.7,   9.9107,  34.6865,2,  34.6844,2,   -999.0,5,      6.1,2,    35.65,2,    35.48,2,     0.00,2,     2.59,2,    0.028,2,    0.026,2, -999.000,9,-999.0000,9,  -999.00,9,-999.000,9,   -999,-999.0000,-999.000,-999.000,  9.8646,-999.000
     32MW893_3,  P04E,   173,  1,     13,     13,2,19890428,0850,  9.4917,-117.8383, 4078,    496.8,   8.8151,  34.6344,2,  34.6362,2,   -999.0,5,      3.0,2,    44.71,2,    36.26,2,     0.00,2,     2.80,2,    0.004,2,    0.003,2, -999.000,9,-999.0000,9,  -999.00,9,-999.000,9,   -999,-999.0000,-999.000,-999.000,  8.7611,-999.000
     32MW893_3,  P04E,   173,  1,     12,     12,2,19890428,0850,  9.4917,-117.8383, 4078,    595.2,   7.6275,  34.5643,2,  34.5799,2,   -999.0,5,      1.7,2,    56.82,2,    37.24,2,     0.00,2,     3.02,2,   -0.001,6,    0.016,2, -999.000,9,-999.0000,9,  -999.00,9,-999.000,9,   -999,-999.0000,-999.000,-999.000,  7.5677,-999.000
     32MW893_3,  P04E,   173,  1,     11,     11,2,19890428,0850,  9.4917,-117.8383, 4078,    697.5,   6.4889,  34.5559,2,  34.5535,2,   -999.0,5,      4.8,2,    68.35,2,    41.94,2,     0.00,2,     3.13,2, -999.000,9, -999.000,9, -999.000,9,-999.0000,9,  -999.00,9,-999.000,9,   -999,-999.0000,-999.000,-999.000,  6.4244,-999.000
     32MW893_3,  P04E,   173,  1,     10,     10,2,19890428,0850,  9.4917,-117.8383, 4078,    796.1,   5.8322,  34.5503,2,  34.5451,2,   -999.0,5,     10.9,2,    75.93,2,    43.40,2,     0.00,2,     3.15,2, -999.000,9, -999.000,9, -999.000,9,-999.0000,9,  -999.00,9,-999.000,9,   -999,-999.0000,-999.000,-999.000,  5.7619,-999.000
     32MW893_3,  P04E,   173,  1,      9,      9,2,19890428,0850,  9.4917,-117.8383, 4078,    995.9,   4.9015,  34.5509,2,  34.5531,2,   -999.0,5,     30.0,2,    88.84,2,    43.99,2,     0.00,2,     3.11,2, -999.000,9, -999.000,9, -999.000,9,-999.0000,9,  -999.00,9,-999.000,9,   -999,-999.0000,-999.000,-999.000,  4.8192,-999.000
     32MW893_3,  P04E,   173,  1,      8,      8,2,19890428,0850,  9.4917,-117.8383, 4078,   1297.3,   3.8230,  34.5805,2,  34.5800,2,   -999.0,5,     53.0,2,   110.10,2,    42.72,2,     0.00,2,     3.02,2, -999.000,9, -999.000,9, -999.000,9,-999.0000,9,  -999.00,9,-999.000,9,   -999,-999.0000,-999.000,-999.000,  3.7235,-999.000
     32MW893_3,  P04E,   173,  1,      7,      7,2,19890428,0850,  9.4917,-117.8383, 4078,   1697.0,   2.9393,  34.6123,2,  34.6083,2,   -999.0,5,     76.5,2,   129.99,2,    41.25,2,     0.00,2,     2.87,2, -999.000,9, -999.000,9, -999.000,9,-999.0000,9,  -999.00,9,-999.000,9,   -999,-999.0000,-999.000,-999.000,  2.8154,-999.000
     32MW893_3,  P04E,   173,  1,      6,      6,2,19890428,0850,  9.4917,-117.8383, 4078,   2100.7,   2.2156,  34.6455,2,  34.6437,2,   -999.0,5,     92.1,2,   148.60,2,    40.37,2,     0.00,2,     2.76,2,   -0.002,2,   -0.005,2, -999.000,9,-999.0000,9,  -999.00,9,-999.000,9,   -999,-999.0000,-999.000,-999.000,  2.0671,-999.000
     32MW893_3,  P04E,   173,  1,      5,      5,2,19890428,0850,  9.4917,-117.8383, 4078,   2502.5,   1.9027,  34.6647,2,  34.6622,2,   -999.0,5,    108.2,2,   157.17,2,    39.00,2,     0.00,2,     2.70,2, -999.000,9, -999.000,9, -999.000,9,-999.0000,9,  -999.00,9,-999.000,9,   -999,-999.0000,-999.000,-999.000,  1.7240,-999.000
     32MW893_3,  P04E,   173,  1,      4,      4,2,19890428,0850,  9.4917,-117.8383, 4078,   2901.1,   1.7428,  34.6731,2,  34.6724,2,   -999.0,5,    119.9,2,   159.04,2,    38.32,2,     0.00,2,     2.62,2,   -0.002,2,   -0.005,2, -999.000,9,-999.0000,9,  -999.00,9,-999.000,9,   -999,-999.0000,-999.000,-999.000,  1.5301,-999.000
     32MW893_3,  P04E,   173,  1,      3,      3,2,19890428,0850,  9.4917,-117.8383, 4078,   3303.2,   1.5938,  34.6819,2,  34.6816,2,   -999.0,5,    135.1,2,   155.29,2,    37.53,2,     0.00,2,     2.53,2,   -0.002,2,   -0.002,2, -999.000,9,-999.0000,9,  -999.00,9,-999.000,9,   -999,-999.0000,-999.000,-999.000,  1.3453,-999.000
     32MW893_3,  P04E,   173,  1,      2,      2,2,19890428,0850,  9.4917,-117.8383, 4078,   3703.7,   1.5369,  34.6849,2,  34.6854,2,   -999.0,5,    143.8,2,   153.23,2,    37.04,2,     0.00,2,     2.48,2, -999.000,9, -999.000,9, -999.000,9,-999.0000,9,  -999.00,9,-999.000,9,   -999,-999.0000,-999.000,-999.000,  1.2487,-999.000
     32MW893_3,  P04E,   173,  1,      1,      1,2,19890428,0850,  9.4917,-117.8383, 4078,   4152.8,   1.4859,  34.6887,2,  34.6883,2,   -999.0,5,    152.5,2,   150.96,2,    36.13,2,     0.01,2,     2.44,2,    0.000,2,   -0.002,2, -999.000,9,-999.0000,9,  -999.00,9,-999.000,9,   -999,-999.0000,-999.000,-999.000,  1.1506,-999.000