BOTTLE,20020418WHPSIOdm
#code : jjward hyd_to_exchange.pl 
#original files copied from HTML directory: 20020418
#original HYD file: p04ehy   Thu Apr 18 09:21:20 2002
#original SUM file: p04esu   Thu Apr 18 09:34:59 2002
EXPOCODE,SECT_ID,STNNBR,CASTNO,SAMPNO,BTLNBR,BTLNBR_FLAG_W,DATE,TIME,LATITUDE,LONGITUDE,DEPTH,CTDPRS,CTDTMP,CTDSAL,CTDSAL_FLAG_W,SALNTY,SALNTY_FLAG_W,CTDOXY,CTDOXY_FLAG_W,OXYGEN,OXYGEN_FLAG_W,SILCAT,SILCAT_FLAG_W,NITRAT,NITRAT_FLAG_W,NITRIT,NITRIT_FLAG_W,PHSPHT,PHSPHT_FLAG_W,CFC-11,CFC-11_FLAG_W,CFC-12,CFC-12_FLAG_W,TRITUM,TRITUM_FLAG_W,HELIUM,HELIUM_FLAG_W,DELHE3,DELHE3_FLAG_W,NEON,NEON_FLAG_W,CTDRAW,HELIER,DELHER,NEONER,THETA,TRITER
,,,,,,,,,,,,DBAR,ITS-90,PSS-78,,PSS-78,,UMOL/KG,,UMOL/KG,,UMOL/KG,,UMOL/KG,,UMOL/KG,,UMOL/KG,,PMOL/KG,,PMOL/KG,,TU,,NMOL/KG,,PERCNT,,NMOL/KG,,,NMOL/KG,PERCNT,NMOL/KG,ITS-90,TU
     32MW893_3,  P04E,   120,  1,     24,     24,2,19890409,1138,  9.5000,-161.1683, 4952,   2489.6,   1.7924,  34.6613,2,  34.6649,2,   -999.0,5,    119.1,2,   153.18,2,    38.80,2,     0.00,2,     2.76,2,   -0.002,2, -999.000,5, -999.000,9,-999.0000,9,  -999.00,9,-999.000,9,   -999,-999.0000,-999.000,-999.000,  1.6168,-999.000
     32MW893_3,  P04E,   120,  1,     22,     22,2,19890409,1138,  9.5000,-161.1683, 4952,   2490.4,   1.7924,  34.6610,2,  34.6647,2,   -999.0,5,   -999.0,5,   153.28,2,    38.80,2,     0.00,2,     2.76,2,    0.003,6,   -0.005,2, -999.000,9,-999.0000,9,  -999.00,9,-999.000,9,   -999,-999.0000,-999.000,-999.000,  1.6168,-999.000
     32MW893_3,  P04E,   120,  1,     23,     23,2,19890409,1138,  9.5000,-161.1683, 4952,   2490.5,   1.7924,  34.6609,2,  34.6655,2,   -999.0,5,    119.9,2,   153.08,2,    38.80,2,     0.00,2,     2.76,2,    0.013,2,    0.006,2, -999.000,9,-999.0000,9,  -999.00,9,-999.000,9,   -999,-999.0000,-999.000,-999.000,  1.6167,-999.000
     32MW893_3,  P04E,   120,  1,     21,     21,2,19890409,1138,  9.5000,-161.1683, 4952,   2491.1,   1.7924,  34.6606,2,  34.6655,2,   -999.0,5,    119.5,2,   152.98,2,    38.80,2,     0.00,2,     2.76,2,   -0.002,2,   -0.005,2, -999.000,9,-999.0000,9,  -999.00,9,-999.000,9,   -999,-999.0000,-999.000,-999.000,  1.6167,-999.000
     32MW893_3,  P04E,   120,  1,     18,     18,2,19890409,1138,  9.5000,-161.1683, 4952,   2989.6,   1.6275,  34.6700,2,  34.6749,2,   -999.0,5,    133.4,2,   154.27,2,    38.12,2,     0.00,2,     2.70,2, -999.000,5,    0.005,2, -999.000,9,-999.0000,9,  -999.00,9,-999.000,9,   -999,-999.0000,-999.000,-999.000,  1.4089,-999.000
     32MW893_3,  P04E,   120,  1,     17,     17,2,19890409,1138,  9.5000,-161.1683, 4952,   2990.1,   1.6255,  34.6706,2,  34.6747,2,   -999.0,5,    134.7,2,   154.17,2,    38.12,2,     0.00,2,     2.69,2,    0.002,2,    0.003,2, -999.000,9,-999.0000,9,  -999.00,9,-999.000,9,   -999,-999.0000,-999.000,-999.000,  1.4069,-999.000
     32MW893_3,  P04E,   120,  1,     19,     19,2,19890409,1138,  9.5000,-161.1683, 4952,   2990.3,   1.6265,  34.6707,2,  34.6759,2,   -999.0,5,    132.5,2,   154.27,2,    38.02,2,     0.00,2,     2.69,2,    0.001,2,   -0.003,2, -999.000,9,-999.0000,9,  -999.00,9,-999.000,9,   -999,-999.0000,-999.000,-999.000,  1.4079,-999.000
     32MW893_3,  P04E,   120,  1,     20,     20,2,19890409,1138,  9.5000,-161.1683, 4952,   2991.0,   1.6255,  34.6715,2,  34.6759,2,   -999.0,5,    131.7,2,   154.57,2,    38.02,2,     0.00,2,     2.69,2,    0.014,2,    0.002,2, -999.000,9,-999.0000,9,  -999.00,9,-999.000,9,   -999,-999.0000,-999.000,-999.000,  1.4069,-999.000
     32MW893_3,  P04E,   120,  1,     13,     13,2,19890409,1138,  9.5000,-161.1683, 4952,   3489.8,   1.4945,  34.6798,2,  34.6828,2,   -999.0,5,    148.2,2,   149.41,2,    37.04,2,     0.00,2,     2.61,2,    0.000,2,    0.006,2, -999.000,9,-999.0000,9,  -999.00,9,-999.000,9,   -999,-999.0000,-999.000,-999.000,  1.2296,-999.000
     32MW893_3,  P04E,   120,  1,     14,     14,2,19890409,1138,  9.5000,-161.1683, 4952,   3490.3,   1.4945,  34.6796,2,  34.6846,2,   -999.0,5,    149.5,2,   149.10,2,    37.04,2,     0.00,2,     2.62,2,   -0.003,2,   -0.004,2, -999.000,9,-999.0000,9,  -999.00,9,-999.000,9,   -999,-999.0000,-999.000,-999.000,  1.2295,-999.000
     32MW893_3,  P04E,   120,  1,     15,     15,2,19890409,1138,  9.5000,-161.1683, 4952,   3492.4,   1.4925,  34.6808,2,-999.0000,5,   -999.0,5,   -999.0,5,   149.10,2,    37.04,2,     0.00,2,     2.61,2,    0.010,2,    0.001,2, -999.000,9,-999.0000,9,  -999.00,9,-999.000,9,   -999,-999.0000,-999.000,-999.000,  1.2272,-999.000
     32MW893_3,  P04E,   120,  1,     16,     16,2,19890409,1138,  9.5000,-161.1683, 4952,   3494.5,   1.4915,  34.6797,2,  34.7032,2,   -999.0,5,    150.8,2,   149.10,2,    36.85,2,     0.00,2,     2.61,2, -999.000,5,   -0.004,2, -999.000,9,-999.0000,9,  -999.00,9,-999.000,9,   -999,-999.0000,-999.000,-999.000,  1.2261,-999.000
     32MW893_3,  P04E,   120,  1,      9,      9,2,19890409,1138,  9.5000,-161.1683, 4952,   3991.9,   1.3637,  34.6890,2,  34.6942,2,   -999.0,5,    168.1,2,   140.58,2,    35.68,2,     0.00,2,     2.51,2, -999.000,9, -999.000,9, -999.000,9,-999.0000,9,  -999.00,9,-999.000,9,   -999,-999.0000,-999.000,-999.000,  1.0494,-999.000
     32MW893_3,  P04E,   120,  1,     10,     10,2,19890409,1138,  9.5000,-161.1683, 4952,   3992.6,   1.3627,  34.6885,2,  34.6940,2,   -999.0,5,    171.6,2,   140.58,2,    35.68,2,     0.00,2,     2.51,2,    0.000,2,   -0.004,2, -999.000,9,-999.0000,9,  -999.00,9,-999.000,9,   -999,-999.0000,-999.000,-999.000,  1.0483,-999.000
     32MW893_3,  P04E,   120,  1,     12,     12,2,19890409,1138,  9.5000,-161.1683, 4952,   3993.6,   1.3627,  34.6893,2,  34.6932,2,   -999.0,5,    168.1,2,   140.28,2,    35.77,2,     0.00,2,     2.51,2,    0.010,2,    0.000,2, -999.000,9,-999.0000,9,  -999.00,9,-999.000,9,   -999,-999.0000,-999.000,-999.000,  1.0482,-999.000
     32MW893_3,  P04E,   120,  1,     11,     11,2,19890409,1138,  9.5000,-161.1683, 4952,   3993.6,   1.3627,  34.6893,2,  34.6940,2,   -999.0,5,    168.1,2,   140.38,2,    35.68,2,     0.00,2,     2.51,2,   -0.003,2,    0.007,2, -999.000,9,-999.0000,9,  -999.00,9,-999.000,9,   -999,-999.0000,-999.000,-999.000,  1.0482,-999.000
     32MW893_3,  P04E,   120,  1,      7,      7,2,19890409,1138,  9.5000,-161.1683, 4952,   4494.3,   1.3397,  34.6923,2,  34.6960,2,   -999.0,5,    177.7,2,   135.71,2,    34.99,2,     0.00,2,     2.45,2,    0.001,2,   -0.001,2, -999.000,9,-999.0000,9,  -999.00,9,-999.000,9,   -999,-999.0000,-999.000,-999.000,  0.9703,-999.000
     32MW893_3,  P04E,   120,  1,      6,      6,2,19890409,1138,  9.5000,-161.1683, 4952,   4494.7,   1.3397,  34.6933,2,  34.7013,2,   -999.0,5,    178.6,2,   135.71,2,    34.99,2,     0.01,2,     2.46,2,   -0.004,2,   -0.004,2, -999.000,9,-999.0000,9,  -999.00,9,-999.000,9,   -999,-999.0000,-999.000,-999.000,  0.9702,-999.000
     32MW893_3,  P04E,   120,  1,      5,      5,2,19890409,1138,  9.5000,-161.1683, 4952,   4495.0,   1.3407,  34.6922,2,  34.6995,2,   -999.0,5,    180.3,2,   135.81,2,    34.99,2,     0.01,2,     2.46,2,   -0.002,2,   -0.005,2, -999.000,9,-999.0000,9,  -999.00,9,-999.000,9,   -999,-999.0000,-999.000,-999.000,  0.9712,-999.000
     32MW893_3,  P04E,   120,  1,      8,      8,2,19890409,1138,  9.5000,-161.1683, 4952,   4495.3,   1.3397,  34.6931,2,  34.6975,2,   -999.0,5,    177.3,2,   135.71,2,    35.09,2,     0.00,2,     2.46,2,    0.001,2,   -0.001,2, -999.000,9,-999.0000,9,  -999.00,9,-999.000,9,   -999,-999.0000,-999.000,-999.000,  0.9702,-999.000
     32MW893_3,  P04E,   120,  1,      3,      3,2,19890409,1138,  9.5000,-161.1683, 4952,   5015.9,   1.3527,  34.6953,2,  34.7003,2,   -999.0,5,    184.7,2,   132.24,2,    34.40,2,     0.01,2,     2.42,2,   -0.004,2,   -0.005,2, -999.000,9,-999.0000,9,  -999.00,9,-999.000,9,   -999,-999.0000,-999.000,-999.000,  0.9214,-999.000
     32MW893_3,  P04E,   120,  1,      2,      2,2,19890409,1138,  9.5000,-161.1683, 4952,   5016.0,   1.3527,  34.6952,2,  34.7007,2,   -999.0,5,    185.1,2,   132.44,2,    34.50,2,     0.01,2,     2.43,2,   -0.003,2,    0.003,2, -999.000,9,-999.0000,9,  -999.00,9,-999.000,9,   -999,-999.0000,-999.000,-999.000,  0.9214,-999.000
     32MW893_3,  P04E,   120,  1,      1,      1,2,19890409,1138,  9.5000,-161.1683, 4952,   5016.4,   1.3527,  34.6939,2,  34.7003,2,   -999.0,5,    182.5,2,   132.54,2,    34.27,2,     0.01,2,     2.43,2, -999.000,5,   -0.004,2, -999.000,9,-999.0000,9,  -999.00,9,-999.000,9,   -999,-999.0000,-999.000,-999.000,  0.9214,-999.000
     32MW893_3,  P04E,   120,  1,      4,      4,2,19890409,1138,  9.5000,-161.1683, 4952,   5016.7,   1.3537,  34.6951,2,  34.7005,2,   -999.0,5,    182.9,2,   132.34,2,    34.50,2,     0.01,2,     2.43,2,    0.003,2,   -0.005,2, -999.000,9,-999.0000,9,  -999.00,9,-999.000,9,   -999,-999.0000,-999.000,-999.000,  0.9223,-999.000
     32MW893_3,  P04E,   121,  1,     24,     24,2,19890409,1644,  9.5133,-161.1683, 4916,     95.9,  20.8834,  34.8906,2,  34.9034,2,   -999.0,5,    209.0,2,     1.69,2,     0.10,2,     0.00,2,     0.31,2,    1.994,2,    1.093,2, -999.000,9,-999.0000,9,  -999.00,9,-999.000,9,   -999,-999.0000,-999.000,-999.000, 20.8651,-999.000
     32MW893_3,  P04E,   121,  1,     23,     23,2,19890409,1644,  9.5133,-161.1683, 4916,   1495.4,   2.8933,  34.6062,2,  34.6054,2,   -999.0,5,     80.8,2,   129.87,2,    41.25,2,     0.00,2,     3.02,2,    0.009,2, -999.000,5, -999.000,9,-999.0000,9,  -999.00,9,-999.000,9,   -999,-999.0000,-999.000,-999.000,  2.7870,-999.000
     32MW893_3,  P04E,   121,  1,     22,     22,2,19890409,1644,  9.5133,-161.1683, 4916,   2000.7,   2.1936,  34.6390,2,  34.6384,2,   -999.0,5,    101.7,2,   145.04,2,    39.88,2,     0.00,2,     2.89,2,    0.002,2, -999.000,5, -999.000,9,-999.0000,9,  -999.00,9,-999.000,9,   -999,-999.0000,-999.000,-999.000,  2.0541,-999.000
     32MW893_3,  P04E,   121,  1,     21,     21,2,19890409,1644,  9.5133,-161.1683, 4916,   2502.2,   1.8668,  34.6621,2,  34.6616,2,   -999.0,5,    116.4,2,   151.69,2,    39.00,2,     0.00,2,     2.81,2,    0.007,2, -999.000,5, -999.000,9,-999.0000,9,  -999.00,9,-999.000,9,   -999,-999.0000,-999.000,-999.000,  1.6887,-999.000
     32MW893_3,  P04E,   121,  1,     18,     18,2,19890409,1644,  9.5133,-161.1683, 4916,   3001.1,   1.6708,  34.6736,2,  34.6744,2,   -999.0,5,    129.5,2,   153.77,2,    38.22,2,     0.00,2,     2.74,2,    0.001,2, -999.000,5, -999.000,9,-999.0000,9,  -999.00,9,-999.000,9,   -999,-999.0000,-999.000,-999.000,  1.4502,-999.000
     32MW893_3,  P04E,   121,  1,     17,     17,2,19890409,1644,  9.5133,-161.1683, 4916,   3001.8,   1.6698,  34.6756,2,  34.6740,2,   -999.0,5,    129.5,2,   153.38,2,    38.22,2,     0.00,2,     2.72,2,   -0.003,2, -999.000,5, -999.000,9,-999.0000,9,  -999.00,9,-999.000,9,   -999,-999.0000,-999.000,-999.000,  1.4492,-999.000
     32MW893_3,  P04E,   121,  1,     19,     19,2,19890409,1644,  9.5133,-161.1683, 4916,   3001.9,   1.6708,  34.6745,2,  34.6722,2,   -999.0,5,    129.9,2,   153.57,2,    38.22,2,     0.00,2,     2.73,2,    0.001,2, -999.000,5, -999.000,9,-999.0000,9,  -999.00,9,-999.000,9,   -999,-999.0000,-999.000,-999.000,  1.4501,-999.000
     32MW893_3,  P04E,   121,  1,     20,     20,2,19890409,1644,  9.5133,-161.1683, 4916,   3002.5,   1.6708,  34.6742,2,  34.6734,2,   -999.0,5,    129.0,2,   153.77,2,    38.22,2,     0.00,2,     2.73,2,   -0.001,2,    0.015,2, -999.000,9,-999.0000,9,  -999.00,9,-999.000,9,   -999,-999.0000,-999.000,-999.000,  1.4501,-999.000
     32MW893_3,  P04E,   121,  1,     15,     15,2,19890409,1644,  9.5133,-161.1683, 4916,   3499.0,   1.5259,  34.6837,2,  34.6824,2,   -999.0,5,    145.1,2,   150.80,2,    37.04,2,     0.00,2,     2.65,2,   -0.001,2, -999.000,5, -999.000,9,-999.0000,9,  -999.00,9,-999.000,9,   -999,-999.0000,-999.000,-999.000,  1.2592,-999.000
     32MW893_3,  P04E,   121,  1,     16,     16,2,19890409,1644,  9.5133,-161.1683, 4916,   3499.1,   1.5259,  34.6837,2,  34.6820,2,   -999.0,5,    145.6,2,   150.80,2,    37.04,2,     0.00,2,     2.64,2, -999.000,9, -999.000,9, -999.000,9,-999.0000,9,  -999.00,9,-999.000,9,   -999,-999.0000,-999.000,-999.000,  1.2592,-999.000
     32MW893_3,  P04E,   121,  1,     13,     13,2,19890409,1644,  9.5133,-161.1683, 4916,   3499.5,   1.5259,  34.6823,2,  34.6828,2,   -999.0,5,    145.6,2,   150.60,2,    37.04,2,     0.00,2,     2.64,2,    0.003,2,    0.015,2, -999.000,9,-999.0000,9,  -999.00,9,-999.000,9,   -999,-999.0000,-999.000,-999.000,  1.2592,-999.000
     32MW893_3,  P04E,   121,  1,     14,     14,2,19890409,1644,  9.5133,-161.1683, 4916,   3501.2,   1.5259,  34.6827,2,  34.6820,2,   -999.0,5,    145.1,2,   150.60,2,    37.04,2,     0.00,2,     2.64,2, -999.000,9, -999.000,9, -999.000,9,-999.0000,9,  -999.00,9,-999.000,9,   -999,-999.0000,-999.000,-999.000,  1.2590,-999.000
     32MW893_3,  P04E,   121,  1,     11,     11,2,19890409,1644,  9.5133,-161.1683, 4916,   4005.4,   1.4140,  34.6903,2,  34.6895,2,   -999.0,5,    162.1,2,   143.75,2,    35.97,2,     0.00,2,     2.54,2,    0.000,2, -999.000,5, -999.000,9,-999.0000,9,  -999.00,9,-999.000,9,   -999,-999.0000,-999.000,-999.000,  1.0968,-999.000
     32MW893_3,  P04E,   121,  1,      9,      9,2,19890409,1644,  9.5133,-161.1683, 4916,   4005.9,   1.4120,  34.6898,2,  34.6895,2,   -999.0,5,    163.8,2,   143.95,2,    35.97,2,     0.00,2,     2.54,2, -999.000,9, -999.000,9, -999.000,9,-999.0000,9,  -999.00,9,-999.000,9,   -999,-999.0000,-999.000,-999.000,  1.0948,-999.000
     32MW893_3,  P04E,   121,  1,     12,     12,2,19890409,1644,  9.5133,-161.1683, 4916,   4006.5,   1.4130,  34.6897,2,  34.6901,2,   -999.0,5,    161.6,2,   143.75,2,    35.97,2,     0.00,2,     2.54,2,    0.004,2, -999.000,5, -999.000,9,-999.0000,9,  -999.00,9,-999.000,9,   -999,-999.0000,-999.000,-999.000,  1.0957,-999.000
     32MW893_3,  P04E,   121,  1,      5,      5,2,19890409,1644,  9.5133,-161.1683, 4916,   4506.7,   1.3380,  34.6975,2,  34.6964,2,   -999.0,5,    178.6,2,   135.32,2,    34.89,2,     0.00,2,     2.45,2, -999.000,9, -999.000,9, -999.000,9,-999.0000,9,  -999.00,9,-999.000,9,   -999,-999.0000,-999.000,-999.000,  0.9672,-999.000
     32MW893_3,  P04E,   121,  1,      6,      6,2,19890409,1644,  9.5133,-161.1683, 4916,   4507.4,   1.3390,  34.6974,2,  34.6968,2,   -999.0,5,    181.6,2,   135.52,2,    34.89,2,     0.00,2,     2.49,2,    0.000,2,   -0.004,2, -999.000,9,-999.0000,9,  -999.00,9,-999.000,9,   -999,-999.0000,-999.000,-999.000,  0.9681,-999.000
     32MW893_3,  P04E,   121,  1,      7,      7,2,19890409,1644,  9.5133,-161.1683, 4916,   4508.2,   1.3380,  34.6969,2,  34.6970,2,   -999.0,5,    178.1,2,   135.32,2,    34.80,2,     0.00,2,     2.46,2, -999.000,9, -999.000,9, -999.000,9,-999.0000,9,  -999.00,9,-999.000,9,   -999,-999.0000,-999.000,-999.000,  0.9671,-999.000
     32MW893_3,  P04E,   121,  1,      8,      8,2,19890409,1644,  9.5133,-161.1683, 4916,   4509.0,   1.3390,  34.6967,2,-999.0000,5,   -999.0,5,    178.6,2,   135.32,2,    34.80,2,     0.00,2,     2.46,2,   -0.002,2,   -0.001,2, -999.000,9,-999.0000,9,  -999.00,9,-999.000,9,   -999,-999.0000,-999.000,-999.000,  0.9680,-999.000
     32MW893_3,  P04E,   121,  1,      1,      1,2,19890409,1644,  9.5133,-161.1683, 4916,   4878.9,   1.3590,  34.6976,2,  34.7001,2,   -999.0,5,    181.2,2,   133.73,2,    34.70,2,     0.00,2,     2.44,2,    0.004,2, -999.000,5, -999.000,9,-999.0000,9,  -999.00,9,-999.000,9,   -999,-999.0000,-999.000,-999.000,  0.9440,-999.000
     32MW893_3,  P04E,   121,  1,      3,      3,2,19890409,1644,  9.5133,-161.1683, 4916,   4879.5,   1.3600,  34.6975,2,  34.6981,2,   -999.0,5,    179.9,2,   133.63,2,    34.70,2,     0.00,2,     2.43,2, -999.000,9, -999.000,9, -999.000,9,-999.0000,9,  -999.00,9,-999.000,9,   -999,-999.0000,-999.000,-999.000,  0.9449,-999.000
     32MW893_3,  P04E,   121,  1,      2,      2,2,19890409,1644,  9.5133,-161.1683, 4916,   4879.9,   1.3600,  34.6974,2,  34.6989,2,   -999.0,5,    185.1,2,   133.83,2,    34.70,2,     0.00,2,     2.44,2,   -0.002,2,   -0.004,2, -999.000,9,-999.0000,9,  -999.00,9,-999.000,9,   -999,-999.0000,-999.000,-999.000,  0.9449,-999.000
     32MW893_3,  P04E,   121,  1,      4,      4,2,19890409,1644,  9.5133,-161.1683, 4916,   4881.0,   1.3600,  34.6969,2,  34.6981,2,   -999.0,5,    180.7,2,   133.63,2,    34.70,2,     0.00,2,     2.44,2, -999.000,5,   -0.005,2, -999.000,9,-999.0000,9,  -999.00,9,-999.000,9,   -999,-999.0000,-999.000,-999.000,  0.9447,-999.000