BOTTLE,20020418WHPSIOdm
EXPOCODE,SECT_ID,STNNBR,CASTNO,SAMPNO,BTLNBR,BTLNBR_FLAG_W,DATE,TIME,LATITUDE,LONGITUDE,DEPTH,CTDPRS,CTDTMP,CTDSAL,CTDSAL_FLAG_W,SALNTY,SALNTY_FLAG_W,CTDOXY,CTDOXY_FLAG_W,OXYGEN,OXYGEN_FLAG_W,SILCAT,SILCAT_FLAG_W,NITRAT,NITRAT_FLAG_W,NITRIT,NITRIT_FLAG_W,PHSPHT,PHSPHT_FLAG_W,CFC-11,CFC-11_FLAG_W,CFC-12,CFC-12_FLAG_W,TRITUM,TRITUM_FLAG_W,HELIUM,HELIUM_FLAG_W,DELHE3,DELHE3_FLAG_W,NEON,NEON_FLAG_W,CTDRAW,HELIER,DELHER,NEONER,THETA,TRITER
,,,,,,,,,,,,DBAR,ITS-90,PSS-78,,PSS-78,,UMOL/KG,,UMOL/KG,,UMOL/KG,,UMOL/KG,,UMOL/KG,,UMOL/KG,,PMOL/KG,,PMOL/KG,,TU,,NMOL/KG,,PERCNT,,NMOL/KG,,,NMOL/KG,PERCNT,NMOL/KG,ITS-90,TU
     32MW893_3,  P04E,   186,  1,     24,     24,2,19890502,0916,  9.4983,-107.0017, 3875,     11.6,  28.7227,  34.2309,2,  34.2327,2,   -999.0,5,    228.2,2,     0.00,2,     0.59,2,     0.01,2,     0.25,2,    1.595,2,    0.866,2,    1.550,2,-999.0000,9,  -999.00,9,-999.000,9,   -999,-999.0000,-999.000,-999.000, 28.7199,   0.023
     32MW893_3,  P04E,   186,  1,     23,     23,2,19890502,0916,  9.4983,-107.0017, 3875,     22.4,  28.3568,  34.1507,2,  34.1756,2,   -999.0,5,    211.3,2,     0.20,2,     0.68,2,     0.01,2,     0.25,2,    1.564,2,    0.867,2,    1.578,2,   1.8750,2,    -0.26,2,   7.189,2,   -999,  0.0080,   0.150,   0.043, 28.3515,   0.023
     32MW893_3,  P04E,   186,  1,     22,     22,2,19890502,0916,  9.4983,-107.0017, 3875,     46.3,  26.1422,  34.2324,2,  34.2358,2,   -999.0,5,    200.4,2,     0.90,2,     3.03,2,     1.22,2,     0.56,2,    1.645,2,    0.927,2,    1.617,2,   1.8780,2,    -0.31,2,   7.253,2,   -999,  0.0080,   0.150,   0.044, 26.1319,   0.023
     32MW893_3,  P04E,   186,  1,     21,     21,2,19890502,0916,  9.4983,-107.0017, 3875,     70.5,  20.7224,  34.5230,2,  34.4512,2,   -999.0,5,     94.7,2,     8.59,2,    20.33,2,     0.36,2,     1.62,2,    1.320,2,    0.719,2,    1.383,2,   1.9250,2,     2.33,2,   7.585,2,   -999,  0.0090,   0.150,   0.046, 20.7091,   0.022
     32MW893_3,  P04E,   186,  1,     20,     20,2,19890502,0916,  9.4983,-107.0017, 3875,     96.3,  15.1340,  34.7885,2,  34.7709,2,   -999.0,5,      6.5,2,    19.20,2,    30.49,2,     0.05,2,     2.33,2,    0.532,2,    0.310,2,    1.058,2,   1.9150,2,     7.21,2,   7.708,2,   -999,  0.0090,   0.150,   0.046, 15.1194,   0.012
     32MW893_3,  P04E,   186,  1,     19,     19,2,19890502,0916,  9.4983,-107.0017, 3875,    121.1,  13.7164,  34.8545,2,  34.8560,2,   -999.0,5,      2.2,2,    18.99,2,    31.08,2,     0.09,2,     2.39,2,    0.337,2, -999.000,5,    0.599,2,   1.9270,2,     7.37,2,   7.805,2,   -999,  0.0090,   0.150,   0.047, 13.6992,   0.010
     32MW893_3,  P04E,   186,  1,     18,     18,2,19890502,0916,  9.4983,-107.0017, 3875,    146.7,  13.2036,  34.8432,2,  34.8446,2,   -999.0,5,      2.6,2,    19.79,2,    32.54,2,     0.16,2,     2.35,2,    0.264,2, -999.000,5,    0.540,2,   1.9330,2,     7.29,2,   7.808,2,   -999,  0.0090,   0.150,   0.047, 13.1833,   0.010
     32MW893_3,  P04E,   186,  1,     17,     17,2,19890502,0916,  9.4983,-107.0017, 3875,    172.3,  12.4838,  34.8012,2,  34.8064,2,   -999.0,5,      7.4,2,    20.98,2,    32.74,2,     0.01,2,     2.37,2,    0.218,2,    0.145,2,    0.491,2,   1.9480,2,     7.81,2,   7.944,2,   -999,  0.0090,   0.150,   0.048, 12.4608,   0.009
     32MW893_3,  P04E,   186,  1,     16,     16,2,19890502,0916,  9.4983,-107.0017, 3875,    197.3,  12.0920,  34.7789,2,  34.7783,2,   -999.0,5,     17.4,2,    22.39,2,    32.64,2,     0.01,2,     2.35,2,    0.200,2, -999.000,5,    0.465,2,   1.9520,2,     7.72,2,   7.961,2,   -999,  0.0090,   0.150,   0.048, 12.0662,   0.009
     32MW893_3,  P04E,   186,  1,     15,     15,2,19890502,0916,  9.4983,-107.0017, 3875,    246.9,  11.3162,  34.7651,2,  34.7595,2,   -999.0,5,      2.6,2,    26.49,2,    32.06,2,     0.07,2,     2.50,2,    0.082,2,    0.053,2,    0.277,2,   1.9070,2,     6.96,2,   7.761,2,   -999,  0.0090,   0.150,   0.047, 11.2852,   0.008
     32MW893_3,  P04E,   186,  1,     14,     14,2,19890502,0916,  9.4983,-107.0017, 3875,    297.2,  10.5145,  34.7051,2,  34.7199,2,   -999.0,5,      2.6,2,    31.09,2,    31.08,2,     1.43,2,     2.63,2,    0.040,2, -999.000,5,    0.118,2,   1.9600,2,     6.02,2,   8.024,2,   -999,  0.0090,   0.150,   0.048, 10.4788,   0.007
     32MW893_3,  P04E,   186,  1,     13,     13,2,19890502,0916,  9.4983,-107.0017, 3875,    396.8,   9.3649,  34.6363,2,  34.6506,2,   -999.0,5,      2.2,2,    37.58,2,    33.92,2,     0.04,2,     2.81,2,    0.009,2, -999.000,5,    0.045,2,   1.9660,2,     4.94,2,   7.979,2,   -999,  0.0090,   0.150,   0.048,  9.3204,   0.023
     32MW893_3,  P04E,   186,  1,     12,     12,2,19890502,0916,  9.4983,-107.0017, 3875,    496.9,   7.8834,  34.5919,2,  34.5926,2,   -999.0,5,      2.2,2,    51.88,2,    34.41,2,     0.27,2,     3.05,2,    0.001,2, -999.000,5, -999.000,9,   2.0330,2,     7.85,2,   8.291,2,   -999,  0.0090,   0.150,   0.050,  7.8329,-999.000
     32MW893_3,  P04E,   186,  1,     11,     11,2,19890502,0916,  9.4983,-107.0017, 3875,    597.2,   6.8498,  34.5760,2,  34.5692,2,   -999.0,5,      2.2,2,    62.38,2,    39.59,2,     0.00,2,     3.19,2,   -0.002,2,   -0.004,2, -999.000,9,   2.0370,2,    10.25,2,   8.338,2,   -999,  0.0090,   0.150,   0.050,  6.7933,-999.000
     32MW893_3,  P04E,   186,  1,     10,     10,2,19890502,0916,  9.4983,-107.0017, 3875,    695.7,   6.1240,  34.5723,2,  34.5626,2,   -999.0,5,      3.9,2,    69.97,2,    42.62,2,     0.00,2,     3.21,2, -999.000,9, -999.000,9, -999.000,9,   2.0160,2,    12.53,2,   8.316,2,   -999,  0.0090,   0.150,   0.050,  6.0615,-999.000
     32MW893_3,  P04E,   186,  1,      9,      9,2,19890502,0916,  9.4983,-107.0017, 3875,    797.2,   5.4953,  34.5709,2,  34.5567,2,   -999.0,5,     10.0,2,    77.97,2,    44.18,2,     0.00,2,     3.26,2, -999.000,9, -999.000,9, -999.000,9,   2.0430,2,    14.16,2,   8.364,2,   -999,  0.0090,   0.150,   0.050,  5.4270,-999.000
     32MW893_3,  P04E,   186,  1,      8,      8,2,19890502,0916,  9.4983,-107.0017, 3875,    997.5,   4.6387,  34.5638,2,  34.5634,2,   -999.0,5,     29.1,2,    91.77,2,    44.09,2,     0.00,2,     3.23,2, -999.000,9, -999.000,9, -999.000,9,   2.0570,2,    17.52,2,   8.441,2,   -999,  0.0090,   0.150,   0.051,  4.5582,-999.000
     32MW893_3,  P04E,   186,  1,      7,      7,2,19890502,0916,  9.4983,-107.0017, 3875,   1296.8,   3.6390,  34.5887,2,  34.5877,2,   -999.0,5,     52.6,2,   112.96,2,    42.62,2,     0.00,2,     3.10,2, -999.000,9, -999.000,9, -999.000,9,   2.0750,2,    21.69,2,   8.443,2,   -999,  0.0090,   0.150,   0.051,  3.5414,-999.000
     32MW893_3,  P04E,   186,  1,      6,      6,2,19890502,0916,  9.4983,-107.0017, 3875,   1698.6,   2.7923,  34.6197,2,  34.6180,2,   -999.0,5,     73.0,2,   132.45,2,    41.35,2,     0.00,2,     3.00,2, -999.000,9, -999.000,9, -999.000,9,   2.0960,2,    25.48,2,   8.512,2,   -999,  0.0090,   0.150,   0.051,  2.6702,-999.000
     32MW893_3,  P04E,   186,  1,      5,      5,2,19890502,0916,  9.4983,-107.0017, 3875,   2100.5,   2.1417,  34.6522,2,  34.6494,2,   -999.0,5,     95.6,2,   147.94,2,    39.68,2,     0.00,2,     2.81,2, -999.000,9, -999.000,9, -999.000,9,-999.0000,9,  -999.00,9,-999.000,9,   -999,-999.0000,-999.000,-999.000,  1.9944,-999.000
     32MW893_3,  P04E,   186,  1,      4,      4,2,19890502,0916,  9.4983,-107.0017, 3875,   2499.7,   1.8787,  34.6669,2,  34.6673,2,   -999.0,5,    109.1,2,   154.34,2,    38.71,2,     0.00,2,     2.74,2, -999.000,9, -999.000,9, -999.000,9,   2.1000,2,    38.96,2,   8.397,2,   -999,  0.0090,   0.150,   0.050,  1.7007,-999.000
     32MW893_3,  P04E,   186,  1,      3,      3,2,19890502,0916,  9.4983,-107.0017, 3875,   3002.3,   1.7598,  34.6733,2,  34.6738,2,   -999.0,5,    119.1,2,   156.12,2,    38.22,2,     0.00,2,     2.67,2,   -0.003,2,    0.003,2, -999.000,9,   2.1170,2,    30.33,2,   8.575,2,   -999,  0.0100,   0.150,   0.051,  1.5370,-999.000
     32MW893_3,  P04E,   186,  1,      2,      2,2,19890502,0916,  9.4983,-107.0017, 3875,   3504.4,   1.6448,  34.6792,2,  34.6810,2,   -999.0,5,    131.7,2,   155.22,2,    37.53,2,     0.00,2,     2.62,2,   -0.001,2, -999.000,5, -999.000,9,   2.0720,2,    24.45,2,   8.443,2,   -999,  0.0090,   0.150,   0.051,  1.3746,-999.000
     32MW893_3,  P04E,   186,  1,      1,      1,2,19890502,0916,  9.4983,-107.0017, 3875,   3910.2,   1.6718,  34.6793,2,  34.6795,2,   -999.0,5,    132.5,2,   154.43,2,    37.53,2,     0.00,2,     2.62,2,   -0.002,2,   -0.001,2, -999.000,9,   2.0830,2,    23.89,2,   8.487,2,   -999,  0.0090,   0.150,   0.051,  1.3579,-999.000
     32MW893_3,  P04E,   187,  1,     24,     24,2,19890502,1615,  9.4967,-106.1650, 3359,      7.1,  28.7177,  34.2046,2,  34.2013,2,   -999.0,5,    210.4,2,     0.29,2,     0.20,2,     0.01,2,     0.25,2,    1.598,2,    0.877,2, -999.000,9,-999.0000,9,  -999.00,9,-999.000,9,   -999,-999.0000,-999.000,-999.000, 28.7160,-999.000
     32MW893_3,  P04E,   187,  1,     23,     23,2,19890502,1615,  9.4967,-106.1650, 3359,     47.0,  24.7974,  34.2873,2,  34.3078,2,   -999.0,5,    164.7,2,     3.55,2,     9.29,2,     0.15,2,     0.96,2,    1.615,2,    0.884,2, -999.000,9,-999.0000,9,  -999.00,9,-999.000,9,   -999,-999.0000,-999.000,-999.000, 24.7873,-999.000
     32MW893_3,  P04E,   187,  1,     22,     22,2,19890502,1615,  9.4967,-106.1650, 3359,     95.4,  14.7402,  34.7910,2,  34.7634,2,   -999.0,5,      4.3,2,    21.37,2,    31.37,2,     0.00,2,     2.35,2,    0.453,2,    0.229,2, -999.000,9,-999.0000,9,  -999.00,9,-999.000,9,   -999,-999.0000,-999.000,-999.000, 14.7260,-999.000
     32MW893_3,  P04E,   187,  1,     21,     21,2,19890502,1615,  9.4967,-106.1650, 3359,    121.6,  13.6174,  34.8580,2,  34.8584,2,   -999.0,5,      2.2,2,    23.53,2,    31.37,2,     0.00,2,     2.35,2,    0.318,2,    0.174,2, -999.000,9,-999.0000,9,  -999.00,9,-999.000,9,   -999,-999.0000,-999.000,-999.000, 13.6002,-999.000
     32MW893_3,  P04E,   187,  1,     20,     20,2,19890502,1615,  9.4967,-106.1650, 3359,    145.5,  12.9447,  34.8429,2,  34.8318,2,   -999.0,5,      2.6,2,    24.72,2,    32.35,2,     0.00,2,     2.37,2,    0.239,2,    0.155,2, -999.000,9,-999.0000,9,  -999.00,9,-999.000,9,   -999,-999.0000,-999.000,-999.000, 12.9248,-999.000
     32MW893_3,  P04E,   187,  1,     19,     19,2,19890502,1615,  9.4967,-106.1650, 3359,    171.7,  12.3379,  34.8102,2,  34.8043,2,   -999.0,5,      3.9,2,    26.58,2,    33.13,2,     0.00,2,     2.40,2,    0.177,2,    0.097,2, -999.000,9,-999.0000,9,  -999.00,9,-999.000,9,   -999,-999.0000,-999.000,-999.000, 12.3152,-999.000
     32MW893_3,  P04E,   187,  1,     18,     18,2,19890502,1615,  9.4967,-106.1650, 3359,    196.6,  11.8011,  34.7716,2,  34.7773,2,   -999.0,5,      7.8,2,    27.86,2,    32.94,2,     0.00,2,     2.38,2,    0.148,2,    0.100,2, -999.000,9,-999.0000,9,  -999.00,9,-999.000,9,   -999,-999.0000,-999.000,-999.000, 11.7758,-999.000
     32MW893_3,  P04E,   187,  1,     17,     17,2,19890502,1615,  9.4967,-106.1650, 3359,    247.0,  11.2822,  34.7533,2,  34.7483,2,   -999.0,5,     20.0,2,    28.95,2,    33.33,2,     0.00,2,     2.35,2,    0.138,2,    0.088,2, -999.000,9,-999.0000,9,  -999.00,9,-999.000,9,   -999,-999.0000,-999.000,-999.000, 11.2513,-999.000
     32MW893_3,  P04E,   187,  1,     16,     16,2,19890502,1615,  9.4967,-106.1650, 3359,    296.2,  10.7434,  34.7300,2,  34.7268,2,   -999.0,5,     12.6,2,    31.61,2,    34.21,2,     0.00,2,     2.45,2,    0.077,2, -999.000,5, -999.000,9,-999.0000,9,  -999.00,9,-999.000,9,   -999,-999.0000,-999.000,-999.000, 10.7074,-999.000
     32MW893_3,  P04E,   187,  1,     15,     15,2,19890502,1615,  9.4967,-106.1650, 3359,    397.8,   9.6658,  34.6774,2,  34.6690,2,   -999.0,5,      3.5,2,    38.80,2,    34.50,2,     0.00,2,     2.71,2,    0.014,2, -999.000,5, -999.000,9,-999.0000,9,  -999.00,9,-999.000,9,   -999,-999.0000,-999.000,-999.000,  9.6203,-999.000
     32MW893_3,  P04E,   187,  1,     14,     14,2,19890502,1615,  9.4967,-106.1650, 3359,    497.8,   8.1393,  34.5967,2,  34.5942,2,   -999.0,5,      2.2,2,    52.88,2,    34.80,2,     0.00,2,     2.98,2,    0.002,2,    0.007,2, -999.000,9,-999.0000,9,  -999.00,9,-999.000,9,   -999,-999.0000,-999.000,-999.000,  8.0878,-999.000
     32MW893_3,  P04E,   187,  1,     13,     13,2,19890502,1615,  9.4967,-106.1650, 3359,    597.3,   6.9507,  34.5669,2,  34.5653,2,   -999.0,5,      4.3,2,    65.49,2,    38.61,2,     0.00,2,     3.18,2,    0.002,2,   -0.001,6, -999.000,9,-999.0000,9,  -999.00,9,-999.000,9,   -999,-999.0000,-999.000,-999.000,  6.8937,-999.000
     32MW893_3,  P04E,   187,  1,     11,     11,2,19890502,1615,  9.4967,-106.1650, 3359,    798.0,   5.5403,  34.5584,2,  34.5553,2,   -999.0,5,      8.3,2,    81.93,2,    43.89,2,     0.00,2,     3.25,2, -999.000,9, -999.000,9, -999.000,9,-999.0000,9,  -999.00,9,-999.000,9,   -999,-999.0000,-999.000,-999.000,  5.4716,-999.000
     32MW893_3,  P04E,   187,  1,     10,     10,2,19890502,1615,  9.4967,-106.1650, 3359,    997.3,   4.6407,  34.5639,2,  34.5634,2,   -999.0,5,     26.9,2,    96.02,2,    43.99,2,     0.00,2,     3.22,2,   -0.001,2,    0.000,2, -999.000,9,-999.0000,9,  -999.00,9,-999.000,9,   -999,-999.0000,-999.000,-999.000,  4.5602,-999.000
     32MW893_3,  P04E,   187,  1,      9,      9,2,19890502,1615,  9.4967,-106.1650, 3359,   1247.8,   3.7710,  34.5848,2,  34.5842,2,   -999.0,5,     48.7,2,   113.25,2,    42.72,2,     0.00,2,     3.11,2, -999.000,9, -999.000,9, -999.000,9,-999.0000,9,  -999.00,9,-999.000,9,   -999,-999.0000,-999.000,-999.000,  3.6763,-999.000
     32MW893_3,  P04E,   187,  1,      8,      8,2,19890502,1615,  9.4967,-106.1650, 3359,   1499.3,   3.1552,  34.6031,2,  34.6020,2,   -999.0,5,     63.4,2,   127.43,2,    41.74,2,     0.00,2,     3.02,2, -999.000,9, -999.000,9, -999.000,9,-999.0000,9,  -999.00,9,-999.000,9,   -999,-999.0000,-999.000,-999.000,  3.0457,-999.000
     32MW893_3,  P04E,   187,  1,      7,      7,2,19890502,1615,  9.4967,-106.1650, 3359,   1599.4,   2.9823,  34.6112,2,  34.6087,2,   -999.0,5,     69.5,2,   131.57,2,    41.44,2,     0.00,2,     2.98,2, -999.000,9, -999.000,9, -999.000,9,-999.0000,9,  -999.00,9,-999.000,9,   -999,-999.0000,-999.000,-999.000,  2.8662,-999.000
     32MW893_3,  P04E,   187,  1,      6,      6,2,19890502,1615,  9.4967,-106.1650, 3359,   1749.2,   2.7843,  34.6200,2,  34.6189,2,   -999.0,5,     74.3,2,   135.41,2,    41.15,2,     0.01,2,     2.98,2, -999.000,9, -999.000,9, -999.000,9,-999.0000,9,  -999.00,9,-999.000,9,   -999,-999.0000,-999.000,-999.000,  2.6580,-999.000
     32MW893_3,  P04E,   187,  1,      5,      5,2,19890502,1615,  9.4967,-106.1650, 3359,   1999.5,   2.3335,  34.6434,2,  34.6398,2,   -999.0,5,     85.2,2,   146.83,2,    40.47,2,     0.01,2,     2.88,2, -999.000,9, -999.000,9, -999.000,9,-999.0000,9,  -999.00,9,-999.000,9,   -999,-999.0000,-999.000,-999.000,  2.1921,-999.000
     32MW893_3,  P04E,   187,  1,      4,      4,2,19890502,1615,  9.4967,-106.1650, 3359,   2400.5,   1.8847,  34.6672,2,  34.6649,2,   -999.0,5,    106.5,2,   156.77,2,    38.71,2,     0.01,2,     2.79,2, -999.000,9, -999.000,9, -999.000,9,-999.0000,9,  -999.00,9,-999.000,9,   -999,-999.0000,-999.000,-999.000,  1.7155,-999.000
     32MW893_3,  P04E,   187,  1,      3,      3,2,19890502,1615,  9.4967,-106.1650, 3359,   2804.1,   1.8218,  34.6715,2,  34.6702,2,   -999.0,5,    112.5,2,   157.37,2,    38.32,2,     0.01,2,     2.72,2,   -0.003,6, -999.000,5, -999.000,9,-999.0000,9,  -999.00,9,-999.000,9,   -999,-999.0000,-999.000,-999.000,  1.6167,-999.000
     32MW893_3,  P04E,   187,  1,      2,      2,2,19890502,1615,  9.4967,-106.1650, 3359,   3205.9,   1.6708,  34.6765,2,  34.6753,2,   -999.0,5,    125.1,2,   155.10,2,    37.83,2,     0.01,2,     2.64,2, -999.000,9, -999.000,9, -999.000,9,-999.0000,9,  -999.00,9,-999.000,9,   -999,-999.0000,-999.000,-999.000,  1.4302,-999.000
     32MW893_3,  P04E,   187,  1,      1,      1,2,19890502,1615,  9.4967,-106.1650, 3359,   3420.8,   1.6278,  34.6789,2,  34.6779,2,   -999.0,5,    131.2,2,   155.89,2,    37.11,2,     0.01,2,     2.62,2,   -0.002,2, -999.000,5, -999.000,9,-999.0000,9,  -999.00,9,-999.000,9,   -999,-999.0000,-999.000,-999.000,  1.3666,-999.000