BOTTLE,20020418WHPSIOdm
EXPOCODE,SECT_ID,STNNBR,CASTNO,SAMPNO,BTLNBR,BTLNBR_FLAG_W,DATE,TIME,LATITUDE,LONGITUDE,DEPTH,CTDPRS,CTDTMP,CTDSAL,CTDSAL_FLAG_W,SALNTY,SALNTY_FLAG_W,CTDOXY,CTDOXY_FLAG_W,OXYGEN,OXYGEN_FLAG_W,SILCAT,SILCAT_FLAG_W,NITRAT,NITRAT_FLAG_W,NITRIT,NITRIT_FLAG_W,PHSPHT,PHSPHT_FLAG_W,CFC-11,CFC-11_FLAG_W,CFC-12,CFC-12_FLAG_W,TRITUM,TRITUM_FLAG_W,HELIUM,HELIUM_FLAG_W,DELHE3,DELHE3_FLAG_W,NEON,NEON_FLAG_W,CTDRAW,HELIER,DELHER,NEONER,THETA,TRITER
,,,,,,,,,,,,DBAR,ITS-90,PSS-78,,PSS-78,,UMOL/KG,,UMOL/KG,,UMOL/KG,,UMOL/KG,,UMOL/KG,,UMOL/KG,,PMOL/KG,,PMOL/KG,,TU,,NMOL/KG,,PERCNT,,NMOL/KG,,,NMOL/KG,PERCNT,NMOL/KG,ITS-90,TU
     32MW893_3,  P04E,   200,  1,     24,     24,2,19890506,0141,  9.4983, -96.5000, 3773,      8.7,  29.1011,  34.3814,2,  34.3682,2,   -999.0,5,    226.0,2,     0.99,2,     0.10,2,    -0.01,2,     0.28,2,    1.620,2,    0.910,2,    1.394,2,   1.8710,2,    -0.97,2,   7.135,2,   -999,  0.0080,   0.150,   0.043, 29.0990,   0.028
     32MW893_3,  P04E,   200,  1,     23,     23,2,19890506,0141,  9.4983, -96.5000, 3773,     50.2,  22.3467,  34.5832,2,  34.5386,2,   -999.0,5,    175.6,2,     4.33,2,    11.34,2,     1.07,2,     1.16,2,    1.659,2,    0.943,2,    1.234,2,   1.8860,2,    -0.34,2,   7.403,2,   -999,  0.0080,   0.150,   0.044, 22.3367,   0.020
     32MW893_3,  P04E,   200,  1,     22,     22,2,19890506,0141,  9.4983, -96.5000, 3773,     72.1,  15.7429,  34.7688,2,  34.7817,2,   -999.0,5,     24.8,2,    18.02,2,    29.03,2,     0.00,2,     2.11,2,    0.625,2,    0.337,2,    1.183,2,   1.9360,2,     6.87,2,   7.784,2,   -999,  0.0090,   0.150,   0.047, 15.7317,   0.021
     32MW893_3,  P04E,   200,  1,     21,     21,2,19890506,0141,  9.4983, -96.5000, 3773,     98.5,  13.5586,  34.8464,2,  34.8330,2,   -999.0,5,      7.0,2,    22.74,2,    31.47,2,     0.00,2,     2.28,2,    0.372,2,    0.219,2,    0.858,2,   1.9470,2,     7.65,2,   7.866,2,   -999,  0.0090,   0.150,   0.047, 13.5447,   0.019
     32MW893_3,  P04E,   200,  1,     20,     20,2,19890506,0141,  9.4983, -96.5000, 3773,    123.1,  13.2717,  34.8720,2,  34.8684,2,   -999.0,5,     18.2,2,    22.45,2,    31.57,2,     0.00,2,     2.18,2,    0.334,2,    0.191,2,    0.726,2,   1.9140,2,     6.87,2,   7.784,2,   -999,  0.0090,   0.150,   0.047, 13.2546,   0.011
     32MW893_3,  P04E,   200,  1,     19,     19,2,19890506,0141,  9.4983, -96.5000, 3773,    148.8,  12.6180,  34.8067,2,  34.8092,2,   -999.0,5,     28.2,2,    24.02,2,    31.37,2,     0.00,2,     2.16,2,    0.312,2,    0.195,2,    0.614,2,   1.6620,2,     7.74,2,   6.616,2,   -999,  0.0070,   0.150,   0.040, 12.5980,   0.010
     32MW893_3,  P04E,   200,  1,     18,     18,2,19890506,0141,  9.4983, -96.5000, 3773,    174.0,  12.1742,  34.7777,2,  34.7866,2,   -999.0,5,     38.7,2,    24.91,2,    30.69,2,     0.00,2,     2.12,2,    0.302,2,    0.175,2,    0.515,2,   1.9590,2,     7.15,2,   7.929,2,   -999,  0.0090,   0.150,   0.048, 12.1513,   0.010
     32MW893_3,  P04E,   200,  1,     17,     17,2,19890506,0141,  9.4983, -96.5000, 3773,    197.5,  11.8902,  34.7692,2,  34.7762,2,   -999.0,5,     45.2,2,    25.50,2,    30.59,2,     0.00,2,     2.12,2,    0.289,2, -999.000,5,    0.568,2,   1.9560,2,     7.06,2,   7.946,2,   -999,  0.0090,   0.150,   0.048, 11.8647,   0.010
     32MW893_3,  P04E,   200,  1,     16,     16,2,19890506,0141,  9.4983, -96.5000, 3773,    245.8,  11.3385,  34.7709,2,  34.7716,2,   -999.0,5,     20.4,2,    28.56,2,    33.33,2,     0.00,2,     2.34,2,    0.156,2, -999.000,5,    0.297,2,   1.9580,2,     5.87,2,   8.005,2,   -999,  0.0090,   0.150,   0.048, 11.3076,   0.008
     32MW893_3,  P04E,   200,  1,     15,     15,2,19890506,0141,  9.4983, -96.5000, 3773,    296.0,  10.8308,  34.7449,2,  34.7414,2,   -999.0,5,     14.8,2,    30.72,2,    34.11,2,     0.00,2,     2.42,2,    0.101,2,    0.061,2,    0.280,2,   1.9660,2,     6.00,2,   8.018,2,   -999,  0.0090,   0.150,   0.048, 10.7946,   0.007
     32MW893_3,  P04E,   200,  1,     14,     14,2,19890506,0141,  9.4983, -96.5000, 3773,    396.2,   9.7753,  34.6826,2,  34.6873,2,   -999.0,5,      3.0,2,    39.39,2,    33.43,2,     0.00,2,     2.71,2,    0.023,2,    0.023,2,    0.065,2,   1.9770,2,     5.38,2,   8.141,2,   -999,  0.0090,   0.150,   0.049,  9.7297,   0.006
     32MW893_3,  P04E,   200,  1,     13,     13,2,19890506,0141,  9.4983, -96.5000, 3773,    494.1,   8.2650,  34.6100,2,  34.6131,2,   -999.0,5,      2.2,2,    54.06,2,    31.77,2,     1.25,2,     3.00,2,    0.008,2,    0.018,2,    0.010,2,   2.0250,2,     6.72,2,   8.291,2,   -999,  0.0090,   0.150,   0.050,  8.2133,   0.006
     32MW893_3,  P04E,   200,  1,     12,     12,2,19890506,0141,  9.4983, -96.5000, 3773,    617.6,   6.8918,  34.6010,2,  34.5895,2,   -999.0,5,      2.6,2,    66.18,2,    39.29,2,     0.00,2,     3.17,2,    0.000,2,    0.015,2, -999.000,9,   2.0280,2,     9.93,2,   8.349,2,   -999,  0.0090,   0.150,   0.050,  6.8332,-999.000
     32MW893_3,  P04E,   200,  1,     11,     11,2,19890506,0141,  9.4983, -96.5000, 3773,    794.0,   5.5747,  34.5701,2,  34.5622,2,   -999.0,5,      3.9,2,    82.43,2,    44.28,2,     0.00,2,     3.29,2, -999.000,9, -999.000,9, -999.000,9,   2.0520,2,    13.99,2,   8.567,2,   -999,  0.0090,   0.150,   0.051,  5.5062,-999.000
     32MW893_3,  P04E,   200,  1,     10,     10,2,19890506,0141,  9.4983, -96.5000, 3773,    991.3,   4.5733,  34.5730,2,  34.5677,2,   -999.0,5,     23.0,2,    97.30,2,    44.87,2,     0.00,2,     3.26,2, -999.000,9, -999.000,9, -999.000,9,   2.0530,2,    17.61,2,   8.308,2,   -999,  0.0090,   0.150,   0.050,  4.4939,-999.000
     32MW893_3,  P04E,   200,  1,      9,      9,2,19890506,0141,  9.4983, -96.5000, 3773,   1237.9,   3.7169,  34.5869,2,  34.5857,2,   -999.0,5,     39.1,2,   115.42,2,    44.08,2,     0.00,2,     3.18,2, -999.000,9, -999.000,9, -999.000,9,   2.1250,2,    21.08,2,   8.473,2,   -999,  0.0100,   0.150,   0.051,  3.6235,-999.000
     32MW893_3,  P04E,   200,  1,      8,      8,2,19890506,0141,  9.4983, -96.5000, 3773,   1488.6,   3.0714,  34.6125,2,  34.6064,2,   -999.0,5,     58.2,2,   129.01,2,    42.62,2,     0.00,2,     3.07,2, -999.000,9, -999.000,9, -999.000,9,   2.0910,2,    24.55,2,   8.609,2,   -999,  0.0090,   0.150,   0.052,  2.9636,-999.000
     32MW893_3,  P04E,   200,  1,      7,      7,2,19890506,0141,  9.4983, -96.5000, 3773,   1738.5,   2.6797,  34.6257,2,  34.6239,2,   -999.0,5,     78.6,2,   136.79,2,    41.25,2,     0.00,2,     2.93,2, -999.000,9, -999.000,9, -999.000,9,   2.1130,2,    26.40,2,   8.639,2,   -999,  0.0100,   0.150,   0.052,  2.5556,-999.000
     32MW893_3,  P04E,   200,  1,      6,      6,2,19890506,0141,  9.4983, -96.5000, 3773,   1989.2,   2.2939,  34.6449,2,  34.6411,2,   -999.0,5,     89.9,2,   145.55,2,    40.37,2,     0.00,2,     2.84,2, -999.000,9, -999.000,9, -999.000,9,   2.1300,2,    28.64,2,   8.396,2,   -999,  0.0100,   0.150,   0.050,  2.1540,-999.000
     32MW893_3,  P04E,   200,  1,      5,      5,2,19890506,0141,  9.4983, -96.5000, 3773,   2388.9,   1.9182,  34.6647,2,  34.6649,2,   -999.0,5,    112.1,2,   152.64,2,    38.71,2,     0.00,2,     2.72,2, -999.000,9, -999.000,9, -999.000,9,   2.1410,2,    29.80,2,   8.379,2,   -999,  0.0100,   0.150,   0.050,  1.7494,-999.000
     32MW893_3,  P04E,   200,  1,      4,      4,2,19890506,0141,  9.4983, -96.5000, 3773,   2795.3,   1.8423,  34.6707,2,  34.6681,2,   -999.0,5,    118.2,2,   152.34,2,    38.32,2,     0.00,2,     2.69,2, -999.000,9, -999.000,9, -999.000,9,   2.1770,2,    29.35,2,   8.758,2,   -999,  0.0100,   0.150,   0.053,  1.6376,-999.000
     32MW893_3,  P04E,   200,  1,      3,      3,2,19890506,0141,  9.4983, -96.5000, 3773,   3190.3,   1.8403,  34.6725,2,  34.6704,2,   -999.0,5,    122.5,2,   152.05,2,    38.22,2,     0.00,2,     2.66,2,   -0.002,2,    0.001,2, -999.000,9,   2.1290,2,    29.16,2,   8.551,2,   -999,  0.0100,   0.150,   0.051,  1.5972,-999.000
     32MW893_3,  P04E,   200,  1,      2,      2,2,19890506,0141,  9.4983, -96.5000, 3773,   3591.9,   1.8413,  34.6737,2,  34.6712,2,   -999.0,5,    125.1,2,   150.96,2,    38.02,2,     0.00,2,     2.66,2, -999.000,9, -999.000,9, -999.000,9,   2.0400,2,    28.46,2,   8.112,2,   -999,  0.0090,   0.150,   0.049,  1.5569,-999.000
     32MW893_3,  P04E,   200,  1,      1,      1,2,19890506,0141,  9.4983, -96.5000, 3773,   3851.4,   1.8643,  34.6720,2,  34.6736,2,   -999.0,5,    125.6,2,   151.16,2,    37.92,2,     0.00,2,     2.66,2,   -0.002,2,   -0.001,2, -999.000,9,   1.8910,2,    28.26,2,   7.434,2,   -999,  0.0090,   0.150,   0.045,  1.5515,-999.000
     32MW893_3,  P04E,   201,  1,     24,     24,2,19890506,0925,  9.4950, -95.6667, 3616,     10.4,  29.3452,  34.3051,2,  34.3107,2,   -999.0,5,    214.3,2,     0.49,2,     0.10,2,     0.00,2,     0.21,2,    1.522,2,    0.862,2, -999.000,9,-999.0000,9,  -999.00,9,-999.000,9,   -999,-999.0000,-999.000,-999.000, 29.3427,-999.000
     32MW893_3,  P04E,   201,  1,     23,     23,2,19890506,0925,  9.4950, -95.6667, 3616,     50.1,  21.3699,  34.2632,2,  34.4830,2,   -999.0,5,    158.6,2,     4.53,2,    10.66,2,     1.08,2,     1.00,2,    1.604,2,    0.879,2, -999.000,9,-999.0000,9,  -999.00,9,-999.000,9,   -999,-999.0000,-999.000,-999.000, 21.3602,-999.000
     32MW893_3,  P04E,   201,  1,     22,     22,2,19890506,0925,  9.4950, -95.6667, 3616,     99.4,  13.6956,  34.8499,2,  34.8436,2,   -999.0,5,     29.5,2,    21.56,2,    30.49,2,     0.00,2,     2.09,2,    0.459,2,    0.271,2, -999.000,9,-999.0000,9,  -999.00,9,-999.000,9,   -999,-999.0000,-999.000,-999.000, 13.6815,-999.000
     32MW893_3,  P04E,   201,  1,     21,     21,2,19890506,0925,  9.4950, -95.6667, 3616,    124.2,  13.1377,  34.8152,2,  34.8735,2,   -999.0,5,     11.3,2,    22.94,2,    32.25,2,     0.00,2,     2.22,2,    0.321,2,    0.196,2, -999.000,9,-999.0000,9,  -999.00,9,-999.000,9,   -999,-999.0000,-999.000,-999.000, 13.1207,-999.000
     32MW893_3,  P04E,   201,  1,     20,     20,2,19890506,0925,  9.4950, -95.6667, 3616,    149.3,  12.8879,  34.8333,2,  34.8363,2,   -999.0,5,     16.5,2,    23.73,2,    32.06,2,     0.00,2,     2.20,2,    0.302,2,    0.185,2, -999.000,9,-999.0000,9,  -999.00,9,-999.000,9,   -999,-999.0000,-999.000,-999.000, 12.8675,-999.000
     32MW893_3,  P04E,   201,  1,     19,     19,2,19890506,0925,  9.4950, -95.6667, 3616,    173.1,  12.5070,  34.8182,2,  34.8253,2,   -999.0,5,      9.1,2,    25.30,2,    32.84,2,     0.00,2,     2.27,2,    0.241,2,    0.139,2, -999.000,9,-999.0000,9,  -999.00,9,-999.000,9,   -999,-999.0000,-999.000,-999.000, 12.4838,-999.000
     32MW893_3,  P04E,   201,  1,     18,     18,2,19890506,0925,  9.4950, -95.6667, 3616,    199.1,  12.1292,  34.7709,2,  34.8084,2,   -999.0,5,     10.0,2,    26.29,2,    33.23,2,     0.00,2,     2.31,2,    0.206,2,    0.131,2, -999.000,9,-999.0000,9,  -999.00,9,-999.000,9,   -999,-999.0000,-999.000,-999.000, 12.1031,-999.000
     32MW893_3,  P04E,   201,  1,     17,     17,2,19890506,0925,  9.4950, -95.6667, 3616,    247.9,  11.5364,  34.7696,2,  34.7732,2,   -999.0,5,     27.4,2,    27.38,2,    32.64,2,     0.00,2,     2.27,2,    0.188,2,    0.111,2, -999.000,9,-999.0000,9,  -999.00,9,-999.000,9,   -999,-999.0000,-999.000,-999.000, 11.5049,-999.000
     32MW893_3,  P04E,   201,  1,     16,     16,2,19890506,0925,  9.4950, -95.6667, 3616,    297.6,  10.9767,  34.7420,2,  34.7673,2,   -999.0,5,     23.0,2,    29.34,2,    33.52,2,     0.00,2,     2.35,2,    0.127,2,    0.074,2, -999.000,9,-999.0000,9,  -999.00,9,-999.000,9,   -999,-999.0000,-999.000,-999.000, 10.9400,-999.000
     32MW893_3,  P04E,   201,  1,     15,     15,2,19890506,0925,  9.4950, -95.6667, 3616,    395.9,   9.9172,  34.6907,2,  34.6930,2,   -999.0,5,      2.6,2,    39.10,2,    31.47,2,     0.41,2,     2.64,2,    0.020,2,    0.013,2, -999.000,9,-999.0000,9,  -999.00,9,-999.000,9,   -999,-999.0000,-999.000,-999.000,  9.8712,-999.000
     32MW893_3,  P04E,   201,  1,     14,     14,2,19890506,0925,  9.4950, -95.6667, 3616,    494.6,   8.4190,  34.6201,2,  34.6225,2,   -999.0,5,      2.6,2,    52.88,2,    30.89,2,     1.62,2,     2.90,2,    0.005,2,    0.005,2, -999.000,9,-999.0000,9,  -999.00,9,-999.000,9,   -999,-999.0000,-999.000,-999.000,  8.3667,-999.000
     32MW893_3,  P04E,   201,  1,     13,     13,2,19890506,0925,  9.4950, -95.6667, 3616,    595.7,   7.1617,  34.5968,2,  34.5840,2,   -999.0,5,      3.5,2,    62.64,2,    37.14,2,     0.26,2,     3.07,2, -999.000,9, -999.000,9, -999.000,9,-999.0000,9,  -999.00,9,-999.000,9,   -999,-999.0000,-999.000,-999.000,  7.1039,-999.000
     32MW893_3,  P04E,   201,  1,     12,     12,2,19890506,0925,  9.4950, -95.6667, 3616,    694.8,   6.2682,  34.5639,2,  34.5671,2,   -999.0,5,      3.5,2,    71.49,2,    42.23,2,     0.00,2,     3.13,2,   -0.001,2,   -0.001,2, -999.000,9,-999.0000,9,  -999.00,9,-999.000,9,   -999,-999.0000,-999.000,-999.000,  6.2051,-999.000
     32MW893_3,  P04E,   201,  1,     11,     11,2,19890506,0925,  9.4950, -95.6667, 3616,    795.7,   5.6087,  34.5765,2,  34.5639,2,   -999.0,5,      9.1,2,    79.58,2,    44.28,2,     0.00,2,     3.15,2, -999.000,9, -999.000,9, -999.000,9,-999.0000,9,  -999.00,9,-999.000,9,   -999,-999.0000,-999.000,-999.000,  5.5398,-999.000
     32MW893_3,  P04E,   201,  1,     10,     10,2,19890506,0925,  9.4950, -95.6667, 3616,    990.5,   4.6243,  34.5636,2,  34.5763,2,   -999.0,5,     25.2,2,    95.34,2,    44.57,2,     0.00,2,     3.15,2, -999.000,9, -999.000,9, -999.000,9,-999.0000,9,  -999.00,9,-999.000,9,   -999,-999.0000,-999.000,-999.000,  4.5445,-999.000
     32MW893_3,  P04E,   201,  1,      9,      9,2,19890506,0925,  9.4950, -95.6667, 3616,   1240.3,   3.7729,  34.5875,2,  34.5869,2,   -999.0,5,     40.8,2,   113.54,2,    43.89,2,     0.00,2,     3.11,2, -999.000,9, -999.000,9, -999.000,9,-999.0000,9,  -999.00,9,-999.000,9,   -999,-999.0000,-999.000,-999.000,  3.6788,-999.000
     32MW893_3,  P04E,   201,  1,      8,      8,2,19890506,0925,  9.4950, -95.6667, 3616,   1490.0,   3.1054,  34.6084,2,  34.6079,2,   -999.0,5,     60.0,2,   127.53,2,    42.32,2,     0.00,2,     2.97,2, -999.000,9, -999.000,9, -999.000,9,-999.0000,9,  -999.00,9,-999.000,9,   -999,-999.0000,-999.000,-999.000,  2.9971,-999.000
     32MW893_3,  P04E,   201,  1,      7,      7,2,19890506,0925,  9.4950, -95.6667, 3616,   1740.1,   2.6127,  34.6281,2,  34.6280,2,   -999.0,5,     76.5,2,   139.44,2,    41.35,2,     0.00,2,     2.85,2, -999.000,9, -999.000,9, -999.000,9,-999.0000,9,  -999.00,9,-999.000,9,   -999,-999.0000,-999.000,-999.000,  2.4894,-999.000
     32MW893_3,  P04E,   201,  1,      6,      6,2,19890506,0925,  9.4950, -95.6667, 3616,   1990.8,   2.2460,  34.6476,2,-999.0000,5,   -999.0,5,     89.9,2,   147.13,2,    40.27,2,     0.00,2,     2.81,2, -999.000,9, -999.000,9, -999.000,9,-999.0000,9,  -999.00,9,-999.000,9,   -999,-999.0000,-999.000,-999.000,  2.1066,-999.000
     32MW893_3,  P04E,   201,  1,      5,      5,2,19890506,0925,  9.4950, -95.6667, 3616,   2389.0,   1.8742,  34.6661,2,  34.6649,2,   -999.0,5,    111.7,2,   153.62,2,    38.61,2,     0.00,2,     2.64,2, -999.000,9, -999.000,9, -999.000,9,-999.0000,9,  -999.00,9,-999.000,9,   -999,-999.0000,-999.000,-999.000,  1.7062,-999.000
     32MW893_3,  P04E,   201,  1,      4,      4,2,19890506,0925,  9.4950, -95.6667, 3616,   2787.3,   1.8224,  34.6712,2,  34.6728,2,   -999.0,5,    116.9,2,   154.01,2,    38.41,2,     0.00,2,     2.62,2, -999.000,9, -999.000,9, -999.000,9,-999.0000,9,  -999.00,9,-999.000,9,   -999,-999.0000,-999.000,-999.000,  1.6188,-999.000
     32MW893_3,  P04E,   201,  1,      3,      3,2,19890506,0925,  9.4950, -95.6667, 3616,   3189.3,   1.8274,  34.6721,2,  34.6720,2,   -999.0,5,    119.1,2,   154.01,2,    38.12,2,     0.00,2,     2.59,2,   -0.002,2,    0.000,2, -999.000,9,-999.0000,9,  -999.00,9,-999.000,9,   -999,-999.0000,-999.000,-999.000,  1.5847,-999.000
     32MW893_3,  P04E,   201,  1,      2,      2,2,19890506,0925,  9.4950, -95.6667, 3616,   3490.4,   1.8443,  34.6720,2,  34.6734,2,   -999.0,5,    123.4,2,   152.63,2,    38.12,2,     0.00,2,     2.57,2,   -0.002,2,   -0.001,2, -999.000,9,-999.0000,9,  -999.00,9,-999.000,9,   -999,-999.0000,-999.000,-999.000,  1.5705,-999.000
     32MW893_3,  P04E,   201,  1,      1,      1,2,19890506,0925,  9.4950, -95.6667, 3616,   3670.7,   1.8503,  34.6727,2,  34.6724,2,   -999.0,5,    125.1,2,   152.93,2,    38.02,2,     0.00,2,     2.56,2,   -0.002,2,   -0.001,2, -999.000,9,-999.0000,9,  -999.00,9,-999.000,9,   -999,-999.0000,-999.000,-999.000,  1.5574,-999.000