BOTTLE,20020418WHPSIOdm
EXPOCODE,SECT_ID,STNNBR,CASTNO,SAMPNO,BTLNBR,BTLNBR_FLAG_W,DATE,TIME,LATITUDE,LONGITUDE,DEPTH,CTDPRS,CTDTMP,CTDSAL,CTDSAL_FLAG_W,SALNTY,SALNTY_FLAG_W,CTDOXY,CTDOXY_FLAG_W,OXYGEN,OXYGEN_FLAG_W,SILCAT,SILCAT_FLAG_W,NITRAT,NITRAT_FLAG_W,NITRIT,NITRIT_FLAG_W,PHSPHT,PHSPHT_FLAG_W,CFC-11,CFC-11_FLAG_W,CFC-12,CFC-12_FLAG_W,TRITUM,TRITUM_FLAG_W,HELIUM,HELIUM_FLAG_W,DELHE3,DELHE3_FLAG_W,NEON,NEON_FLAG_W,CTDRAW,HELIER,DELHER,NEONER,THETA,TRITER
,,,,,,,,,,,,DBAR,ITS-90,PSS-78,,PSS-78,,UMOL/KG,,UMOL/KG,,UMOL/KG,,UMOL/KG,,UMOL/KG,,UMOL/KG,,PMOL/KG,,PMOL/KG,,TU,,NMOL/KG,,PERCNT,,NMOL/KG,,,NMOL/KG,PERCNT,NMOL/KG,ITS-90,TU
     32MW893_3,  P04E,   192,  1,     24,     24,2,19890503,1755,  9.4983,-103.1683, 3253,      7.5,  28.8037,  33.9026,2,  33.9046,2,   -999.0,5,    219.1,2,     0.20,2,     0.00,2,     0.01,2,     0.23,2,    1.576,2,    0.889,2, -999.000,9,-999.0000,9,  -999.00,9,-999.000,9,   -999,-999.0000,-999.000,-999.000, 28.8019,-999.000
     32MW893_3,  P04E,   192,  1,     23,     23,2,19890503,1755,  9.4983,-103.1683, 3253,     22.5,  28.3628,  33.9920,2,  33.9248,2,   -999.0,5,    213.5,2,     0.20,2,     0.00,2,     0.00,2,     0.25,2,    1.566,2,    0.869,2, -999.000,9,-999.0000,9,  -999.00,9,-999.000,9,   -999,-999.0000,-999.000,-999.000, 28.3575,-999.000
     32MW893_3,  P04E,   192,  1,     22,     22,2,19890503,1755,  9.4983,-103.1683, 3253,     47.9,  25.9583,  34.2130,2,  34.1836,2,   -999.0,5,    198.2,2,     1.28,2,     1.96,2,     0.27,2,     0.49,2,    1.666,2,    0.937,2, -999.000,9,-999.0000,9,  -999.00,9,-999.000,9,   -999,-999.0000,-999.000,-999.000, 25.9477,-999.000
     32MW893_3,  P04E,   192,  1,     21,     21,2,19890503,1755,  9.4983,-103.1683, 3253,     72.7,  17.4703,  34.6554,2,  34.6504,2,   -999.0,5,     45.2,2,    15.06,2,    26.68,2,     1.12,2,     1.95,2,    0.784,2,    0.430,2, -999.000,9,-999.0000,9,  -999.00,9,-999.000,9,   -999,-999.0000,-999.000,-999.000, 17.4581,-999.000
     32MW893_3,  P04E,   192,  1,     20,     20,2,19890503,1755,  9.4983,-103.1683, 3253,     97.0,  14.2023,  34.8456,2,  34.7978,2,   -999.0,5,     26.5,2,    19.99,2,    30.40,2,     0.02,2,     2.10,2,    0.500,2,    0.275,2, -999.000,9,-999.0000,9,  -999.00,9,-999.000,9,   -999,-999.0000,-999.000,-999.000, 14.1882,-999.000
     32MW893_3,  P04E,   192,  1,     19,     19,2,19890503,1755,  9.4983,-103.1683, 3253,    122.0,  13.1137,  34.7850,2,  34.7958,2,   -999.0,5,     30.4,2,    22.74,2,    30.88,2,     0.01,2,     2.13,2,    0.393,2,    0.243,2, -999.000,9,-999.0000,9,  -999.00,9,-999.000,9,   -999,-999.0000,-999.000,-999.000, 13.0969,-999.000
     32MW893_3,  P04E,   192,  1,     18,     18,2,19890503,1755,  9.4983,-103.1683, 3253,    148.2,  12.7507,  34.8169,2,  34.8155,2,   -999.0,5,     24.3,2,    23.44,2,    31.76,2,     0.01,2,     2.18,2,    0.306,2,    0.199,2, -999.000,9,-999.0000,9,  -999.00,9,-999.000,9,   -999,-999.0000,-999.000,-999.000, 12.7306,-999.000
     32MW893_3,  P04E,   192,  1,     17,     17,2,19890503,1755,  9.4983,-103.1683, 3253,    172.8,  12.3488,  34.8062,2,  34.8076,2,   -999.0,5,     26.9,2,    24.72,2,    31.86,2,     0.01,2,     2.19,2,    0.259,2,    0.165,2, -999.000,9,-999.0000,9,  -999.00,9,-999.000,9,   -999,-999.0000,-999.000,-999.000, 12.3259,-999.000
     32MW893_3,  P04E,   192,  1,     16,     16,2,19890503,1755,  9.4983,-103.1683, 3253,    197.8,  12.0620,  34.7976,2,  34.8045,2,   -999.0,5,     29.5,2,    25.40,2,    31.96,2,     0.01,2,     2.19,2,    0.235,2,    0.137,2, -999.000,9,-999.0000,9,  -999.00,9,-999.000,9,   -999,-999.0000,-999.000,-999.000, 12.0362,-999.000
     32MW893_3,  P04E,   192,  1,     15,     15,2,19890503,1755,  9.4983,-103.1683, 3253,    246.0,  11.4801,  34.7690,2,  34.7683,2,   -999.0,5,     36.5,2,    26.68,2,    31.86,2,     0.00,2,     2.22,2,    0.209,2, -999.000,5, -999.000,9,-999.0000,9,  -999.00,9,-999.000,9,   -999,-999.0000,-999.000,-999.000, 11.4490,-999.000
     32MW893_3,  P04E,   192,  1,     14,     14,2,19890503,1755,  9.4983,-103.1683, 3253,    297.7,  11.0024,  34.7528,2,  34.7498,2,   -999.0,5,     19.6,2,    29.84,2,    33.62,2,     0.00,2,     2.37,2,    0.140,2,    0.078,2, -999.000,9,-999.0000,9,  -999.00,9,-999.000,9,   -999,-999.0000,-999.000,-999.000, 10.9656,-999.000
     32MW893_3,  P04E,   192,  1,     13,     13,2,19890503,1755,  9.4983,-103.1683, 3253,    398.5,   9.9937,  34.7019,2,  34.6977,2,   -999.0,5,      7.4,2,    35.84,2,    34.89,2,     0.00,2,     2.62,2,    0.038,2,    0.031,2, -999.000,9,-999.0000,9,  -999.00,9,-999.000,9,   -999,-999.0000,-999.000,-999.000,  9.9472,-999.000
     32MW893_3,  P04E,   192,  1,     12,     12,2,19890503,1755,  9.4983,-103.1683, 3253,    496.1,   8.6081,  34.6232,2,  34.6233,2,   -999.0,5,      1.7,2,    48.16,2,    34.70,2,     0.00,2,     2.88,2,    0.003,2, -999.000,5, -999.000,9,-999.0000,9,  -999.00,9,-999.000,9,   -999,-999.0000,-999.000,-999.000,  8.5550,-999.000
     32MW893_3,  P04E,   192,  1,     11,     11,2,19890503,1755,  9.4983,-103.1683, 3253,    597.5,   7.2407,  34.5789,2,  34.5793,2,   -999.0,5,      2.2,2,    61.16,2,    38.12,2,    -0.01,2,     3.10,2, -999.000,9, -999.000,9, -999.000,9,-999.0000,9,  -999.00,9,-999.000,9,   -999,-999.0000,-999.000,-999.000,  7.1824,-999.000
     32MW893_3,  P04E,   192,  1,     10,     10,2,19890503,1755,  9.4983,-103.1683, 3253,    698.6,   6.3810,  34.5686,2,  34.5637,2,   -999.0,5,      5.6,2,    68.74,2,    42.42,2,    -0.01,2,     3.15,2, -999.000,9, -999.000,9, -999.000,9,-999.0000,9,  -999.00,9,-999.000,9,   -999,-999.0000,-999.000,-999.000,  6.3169,-999.000
     32MW893_3,  P04E,   192,  1,      9,      9,2,19890503,1755,  9.4983,-103.1683, 3253,    846.8,   5.4473,  34.5591,2,  34.5579,2,   -999.0,5,     10.4,2,    81.74,2,    44.57,2,    -0.01,2,     3.25,2, -999.000,9, -999.000,9, -999.000,9,-999.0000,9,  -999.00,9,-999.000,9,   -999,-999.0000,-999.000,-999.000,  5.3747,-999.000
     32MW893_3,  P04E,   192,  1,      8,      8,2,19890503,1755,  9.4983,-103.1683, 3253,    999.0,   4.7116,  34.5651,2,  34.5632,2,   -999.0,5,     19.6,2,    94.45,2,    44.87,2,     0.00,2,     3.25,2, -999.000,9, -999.000,9, -999.000,9,-999.0000,9,  -999.00,9,-999.000,9,   -999,-999.0000,-999.000,-999.000,  4.6305,-999.000
     32MW893_3,  P04E,   192,  1,      7,      7,2,19890503,1755,  9.4983,-103.1683, 3253,   1247.8,   3.8740,  34.5800,2,  34.5820,2,   -999.0,5,     44.3,2,   109.91,2,    43.60,2,     0.00,2,     3.12,2, -999.000,9, -999.000,9, -999.000,9,-999.0000,9,  -999.00,9,-999.000,9,   -999,-999.0000,-999.000,-999.000,  3.7783,-999.000
     32MW893_3,  P04E,   192,  1,      6,      6,2,19890503,1755,  9.4983,-103.1683, 3253,   1498.5,   3.2742,  34.6027,2,  34.6032,2,   -999.0,5,     61.3,2,   122.91,2,    42.13,2,     0.00,2,     3.03,2, -999.000,9, -999.000,9, -999.000,9,-999.0000,9,  -999.00,9,-999.000,9,   -999,-999.0000,-999.000,-999.000,  3.1633,-999.000
     32MW893_3,  P04E,   192,  1,      5,      5,2,19890503,1755,  9.4983,-103.1683, 3253,   1898.1,   2.6295,  34.6278,2,  34.6244,2,   -999.0,5,     82.1,2,   136.59,2,    40.76,2,     0.00,2,     2.86,2, -999.000,9, -999.000,9, -999.000,9,-999.0000,9,  -999.00,9,-999.000,9,   -999,-999.0000,-999.000,-999.000,  2.4924,-999.000
     32MW893_3,  P04E,   192,  1,      4,      4,2,19890503,1755,  9.4983,-103.1683, 3253,   2300.8,   2.0237,  34.6577,2,  34.6569,2,   -999.0,5,     99.1,2,   152.25,2,    39.49,2,     0.00,2,     2.79,2, -999.000,9, -999.000,9, -999.000,9,-999.0000,9,  -999.00,9,-999.000,9,   -999,-999.0000,-999.000,-999.000,  1.8609,-999.000
     32MW893_3,  P04E,   192,  1,      3,      3,2,19890503,1755,  9.4983,-103.1683, 3253,   2703.8,   1.8378,  34.6683,2,  34.6708,2,   -999.0,5,    109.1,2,   156.77,2,    38.71,2,     0.00,2,     2.70,2,    0.001,2, -999.000,5, -999.000,9,-999.0000,9,  -999.00,9,-999.000,9,   -999,-999.0000,-999.000,-999.000,  1.6417,-999.000
     32MW893_3,  P04E,   192,  1,      2,      2,2,19890503,1755,  9.4983,-103.1683, 3253,   3105.9,   1.8588,  34.6690,2,  34.6708,2,   -999.0,5,    111.2,2,   156.77,2,    38.51,2,     0.00,2,     2.73,2,    0.002,2,   -0.001,2, -999.000,9,-999.0000,9,  -999.00,9,-999.000,9,   -999,-999.0000,-999.000,-999.000,  1.6237,-999.000
     32MW893_3,  P04E,   192,  1,      1,      1,2,19890503,1755,  9.4983,-103.1683, 3253,   3308.3,   1.8777,  34.6679,2,  34.6704,2,   -999.0,5,    111.2,2,   156.87,2,    38.51,2,     0.00,2,     2.70,2,    0.001,2,   -0.001,2, -999.000,9,-999.0000,9,  -999.00,9,-999.000,9,   -999,-999.0000,-999.000,-999.000,  1.6219,-999.000
     32MW893_3,  P04E,   193,  1,     24,     24,2,19890504,0135,  9.5033,-102.2650, 3434,      6.8,  28.8077,  33.8275,2,  33.8185,2,   -999.0,5,    214.8,2,     0.39,2,     0.10,2,     0.01,2,     0.23,2, -999.000,9, -999.000,9, -999.000,9,-999.0000,9,  -999.00,9,-999.000,9,   -999,-999.0000,-999.000,-999.000, 28.8061,-999.000
     32MW893_3,  P04E,   193,  1,     23,     23,2,19890504,0135,  9.5033,-102.2650, 3434,     20.2,  28.0909,  34.2561,2,  34.2387,2,   -999.0,5,    220.8,2,     0.79,2,     0.20,2,     0.01,2,     0.30,2, -999.000,9, -999.000,9, -999.000,9,-999.0000,9,  -999.00,9,-999.000,9,   -999,-999.0000,-999.000,-999.000, 28.0861,-999.000
     32MW893_3,  P04E,   193,  1,     22,     22,2,19890504,0135,  9.5033,-102.2650, 3434,     47.8,  23.7507,  34.3249,2,  34.3225,2,   -999.0,5,    143.9,2,     5.32,2,    12.71,2,     1.39,2,     1.16,2, -999.000,9, -999.000,9, -999.000,9,-999.0000,9,  -999.00,9,-999.000,9,   -999,-999.0000,-999.000,-999.000, 23.7407,-999.000
     32MW893_3,  P04E,   193,  1,     21,     21,2,19890504,0135,  9.5033,-102.2650, 3434,     71.8,  18.3441,  34.5476,2,  34.5730,2,   -999.0,5,     36.1,2,    14.77,2,    27.76,2,     0.12,2,     2.15,2, -999.000,9, -999.000,9, -999.000,9,-999.0000,9,  -999.00,9,-999.000,9,   -999,-999.0000,-999.000,-999.000, 18.3317,-999.000
     32MW893_3,  P04E,   193,  1,     20,     20,2,19890504,0135,  9.5033,-102.2650, 3434,     96.6,  13.5136,  34.7774,2,  34.8076,2,   -999.0,5,      7.4,2,    22.84,2,    31.47,2,     0.03,2,     2.34,2, -999.000,9, -999.000,9, -999.000,9,-999.0000,9,  -999.00,9,-999.000,9,   -999,-999.0000,-999.000,-999.000, 13.5000,-999.000
     32MW893_3,  P04E,   193,  1,     19,     19,2,19890504,0135,  9.5033,-102.2650, 3434,    120.4,  12.9387,  34.8126,2,  34.8137,2,   -999.0,5,     23.9,2,    23.63,2,    31.47,2,     0.01,2,     2.19,2, -999.000,9, -999.000,9, -999.000,9,-999.0000,9,  -999.00,9,-999.000,9,   -999,-999.0000,-999.000,-999.000, 12.9223,-999.000
     32MW893_3,  P04E,   193,  1,     18,     18,2,19890504,0135,  9.5033,-102.2650, 3434,    147.0,  12.3978,  34.8069,2,  34.7929,2,   -999.0,5,     30.4,2,    25.21,2,    31.37,2,     0.01,2,     2.22,2, -999.000,9, -999.000,9, -999.000,9,-999.0000,9,  -999.00,9,-999.000,9,   -999,-999.0000,-999.000,-999.000, 12.3783,-999.000
     32MW893_3,  P04E,   193,  1,     17,     17,2,19890504,0135,  9.5033,-102.2650, 3434,    170.9,  12.1030,  34.7928,2,  34.7856,2,   -999.0,5,     30.8,2,    26.10,2,    31.76,2,     0.01,2,     2.21,2, -999.000,9, -999.000,9, -999.000,9,-999.0000,9,  -999.00,9,-999.000,9,   -999,-999.0000,-999.000,-999.000, 12.0806,-999.000
     32MW893_3,  P04E,   193,  1,     16,     16,2,19890504,0135,  9.5033,-102.2650, 3434,    196.3,  11.8271,  34.7809,2,  34.7793,2,   -999.0,5,     36.9,2,    26.68,2,    31.57,2,     0.01,2,     2.22,2, -999.000,9, -999.000,9, -999.000,9,-999.0000,9,  -999.00,9,-999.000,9,   -999,-999.0000,-999.000,-999.000, 11.8018,-999.000
     32MW893_3,  P04E,   193,  1,     15,     15,2,19890504,0135,  9.5033,-102.2650, 3434,    246.7,  11.3802,  34.7692,2,  34.7646,2,   -999.0,5,     33.9,2,    28.16,2,    32.25,2,     0.01,2,     2.25,2, -999.000,9, -999.000,9, -999.000,9,-999.0000,9,  -999.00,9,-999.000,9,   -999,-999.0000,-999.000,-999.000, 11.3491,-999.000
     32MW893_3,  P04E,   193,  1,     14,     14,2,19890504,0135,  9.5033,-102.2650, 3434,    298.2,  10.8974,  34.7604,2,  34.7449,2,   -999.0,5,     21.7,2,    31.41,2,    33.82,2,     0.01,2,     2.40,2, -999.000,9, -999.000,9, -999.000,9,-999.0000,9,  -999.00,9,-999.000,9,   -999,-999.0000,-999.000,-999.000, 10.8608,-999.000
     32MW893_3,  P04E,   193,  1,     13,     13,2,19890504,0135,  9.5033,-102.2650, 3434,    396.1,   9.8747,  34.6947,2,  34.6897,2,   -999.0,5,      7.8,2,    37.82,2,    34.99,2,     0.01,2,     2.71,2, -999.000,9, -999.000,9, -999.000,9,-999.0000,9,  -999.00,9,-999.000,9,   -999,-999.0000,-999.000,-999.000,  9.8288,-999.000
     32MW893_3,  P04E,   193,  1,     12,     12,2,19890504,0135,  9.5033,-102.2650, 3434,    497.5,   8.6741,  34.6360,2,  34.6356,2,   -999.0,5,      1.3,2,    49.04,2,    34.02,2,     0.01,2,     2.92,2, -999.000,9, -999.000,9, -999.000,9,-999.0000,9,  -999.00,9,-999.000,9,   -999,-999.0000,-999.000,-999.000,  8.6205,-999.000
     32MW893_3,  P04E,   193,  1,     11,     11,2,19890504,0135,  9.5033,-102.2650, 3434,    596.6,   7.3506,  34.6045,2,  34.5818,2,   -999.0,5,      2.2,2,    60.37,2,    37.14,2,     0.00,2,     3.13,2, -999.000,9, -999.000,9, -999.000,9,-999.0000,9,  -999.00,9,-999.000,9,   -999,-999.0000,-999.000,-999.000,  7.2919,-999.000
     32MW893_3,  P04E,   193,  1,     10,     10,2,19890504,0135,  9.5033,-102.2650, 3434,    696.1,   6.3050,  34.5674,2,  34.5673,2,   -999.0,5,      3.9,2,    70.61,2,    42.23,2,     0.00,2,     3.19,2, -999.000,9, -999.000,9, -999.000,9,-999.0000,9,  -999.00,9,-999.000,9,   -999,-999.0000,-999.000,-999.000,  6.2415,-999.000
     32MW893_3,  P04E,   193,  1,      9,      9,2,19890504,0135,  9.5033,-102.2650, 3434,    796.3,   5.7482,  34.5620,2,  34.5602,2,   -999.0,5,      7.0,2,    78.20,2,    44.18,2,     0.00,2,     3.27,2, -999.000,9, -999.000,9, -999.000,9,-999.0000,9,  -999.00,9,-999.000,9,   -999,-999.0000,-999.000,-999.000,  5.6784,-999.000
     32MW893_3,  P04E,   193,  1,      8,      8,2,19890504,0135,  9.5033,-102.2650, 3434,    997.5,   4.7136,  34.5681,2,  34.5608,2,   -999.0,5,     21.3,2,    94.74,2,    44.87,2,     0.00,2,     3.29,2, -999.000,9, -999.000,9, -999.000,9,-999.0000,9,  -999.00,9,-999.000,9,   -999,-999.0000,-999.000,-999.000,  4.6326,-999.000
     32MW893_3,  P04E,   193,  1,      7,      7,2,19890504,0135,  9.5033,-102.2650, 3434,   1246.4,   3.8300,  34.5850,2,  34.5824,2,   -999.0,5,     46.1,2,   111.68,2,    43.30,2,     0.00,2,     3.16,2, -999.000,9, -999.000,9, -999.000,9,-999.0000,9,  -999.00,9,-999.000,9,   -999,-999.0000,-999.000,-999.000,  3.7348,-999.000
     32MW893_3,  P04E,   193,  1,      6,      6,2,19890504,0135,  9.5033,-102.2650, 3434,   1597.6,   3.0633,  34.6116,2,  34.6058,2,   -999.0,5,     68.7,2,   127.82,2,    41.74,2,     0.00,2,  -999.00,5, -999.000,9, -999.000,9, -999.000,9,-999.0000,9,  -999.00,9,-999.000,9,   -999,-999.0000,-999.000,-999.000,  2.9464,-999.000
     32MW893_3,  P04E,   193,  1,      5,      5,2,19890504,0135,  9.5033,-102.2650, 3434,   1997.6,   2.3805,  34.6427,2,  34.6364,2,   -999.0,5,     88.2,2,   144.27,2,    40.56,2,     0.00,2,     2.89,2, -999.000,9, -999.000,9, -999.000,9,-999.0000,9,  -999.00,9,-999.000,9,   -999,-999.0000,-999.000,-999.000,  2.2385,-999.000
     32MW893_3,  P04E,   193,  1,      4,      4,2,19890504,0135,  9.5033,-102.2650, 3434,   2399.2,   1.8997,  34.6662,2,  34.6635,2,   -999.0,5,    107.3,2,   154.90,2,    39.00,2,     0.00,2,     2.77,2, -999.000,9, -999.000,9, -999.000,9,-999.0000,9,  -999.00,9,-999.000,9,   -999,-999.0000,-999.000,-999.000,  1.7304,-999.000
     32MW893_3,  P04E,   193,  1,      3,      3,2,19890504,0135,  9.5033,-102.2650, 3434,   2803.1,   1.8338,  34.6711,2,  34.6675,2,   -999.0,5,    111.7,2,   157.07,2,    38.61,2,    -0.01,2,     2.73,2, -999.000,9, -999.000,9, -999.000,9,-999.0000,9,  -999.00,9,-999.000,9,   -999,-999.0000,-999.000,-999.000,  1.6285,-999.000
     32MW893_3,  P04E,   193,  1,      2,      2,2,19890504,0135,  9.5033,-102.2650, 3434,   3204.6,   1.8568,  34.6726,2,  34.6679,2,   -999.0,5,    113.4,2,   157.46,2,    38.41,2,    -0.01,2,     2.73,2, -999.000,9, -999.000,9, -999.000,9,-999.0000,9,  -999.00,9,-999.000,9,   -999,-999.0000,-999.000,-999.000,  1.6119,-999.000
     32MW893_3,  P04E,   193,  1,      1,      1,2,19890504,0135,  9.5033,-102.2650, 3434,   3413.3,   1.8757,  34.6719,2,  34.6708,2,   -999.0,5,    113.4,2,   157.76,2,    38.65,2,    -0.01,2,     2.72,2, -999.000,9, -999.000,9, -999.000,9,-999.0000,9,  -999.00,9,-999.000,9,   -999,-999.0000,-999.000,-999.000,  1.6092,-999.000