BOTTLE,20020418WHPSIOdm
EXPOCODE,SECT_ID,STNNBR,CASTNO,SAMPNO,BTLNBR,BTLNBR_FLAG_W,DATE,TIME,LATITUDE,LONGITUDE,DEPTH,CTDPRS,CTDTMP,CTDSAL,CTDSAL_FLAG_W,SALNTY,SALNTY_FLAG_W,CTDOXY,CTDOXY_FLAG_W,OXYGEN,OXYGEN_FLAG_W,SILCAT,SILCAT_FLAG_W,NITRAT,NITRAT_FLAG_W,NITRIT,NITRIT_FLAG_W,PHSPHT,PHSPHT_FLAG_W,CFC-11,CFC-11_FLAG_W,CFC-12,CFC-12_FLAG_W,TRITUM,TRITUM_FLAG_W,HELIUM,HELIUM_FLAG_W,DELHE3,DELHE3_FLAG_W,NEON,NEON_FLAG_W,CTDRAW,HELIER,DELHER,NEONER,THETA,TRITER
,,,,,,,,,,,,DBAR,ITS-90,PSS-78,,PSS-78,,UMOL/KG,,UMOL/KG,,UMOL/KG,,UMOL/KG,,UMOL/KG,,UMOL/KG,,PMOL/KG,,PMOL/KG,,TU,,NMOL/KG,,PERCNT,,NMOL/KG,,,NMOL/KG,PERCNT,NMOL/KG,ITS-90,TU
     32MW893_3,  P04E,   210,  1,     24,     24,2,19890508,2336,  9.4983, -88.6667, 3399,      9.6,  26.7898,  34.4444,2,  34.4548,2,   -999.0,5,    229.9,2,     3.65,2,     3.23,2,     0.45,2,     0.50,2,    1.572,2,    0.867,2, -999.000,9,-999.0000,9,  -999.00,9,-999.000,9,   -999,-999.0000,-999.000,-999.000, 26.7876,-999.000
     32MW893_3,  P04E,   210,  1,     23,     23,2,19890508,2336,  9.4983, -88.6667, 3399,     49.2,  13.6076,  34.8919,2,  34.8875,2,   -999.0,5,      3.5,2,    22.55,2,    32.64,2,     0.01,2,     2.28,2,    0.354,2,    0.193,2, -999.000,9,-999.0000,9,  -999.00,9,-999.000,9,   -999,-999.0000,-999.000,-999.000, 13.6007,-999.000
     32MW893_3,  P04E,   210,  1,     22,     22,2,19890508,2336,  9.4983, -88.6667, 3399,     73.9,  13.1657,  34.8677,2,  34.8845,2,   -999.0,5,      7.8,2,    23.24,2,    32.64,2,     0.00,2,     2.25,2,    0.306,2,    0.170,2, -999.000,9,-999.0000,9,  -999.00,9,-999.000,9,   -999,-999.0000,-999.000,-999.000, 13.1555,-999.000
     32MW893_3,  P04E,   210,  1,     21,     21,2,19890508,2336,  9.4983, -88.6667, 3399,     99.4,  12.8259,  34.8438,2,  34.8483,2,   -999.0,5,      7.8,2,    24.81,2,    32.84,2,     0.00,2,     2.30,2,    0.272,2,    0.153,2, -999.000,9,-999.0000,9,  -999.00,9,-999.000,9,   -999,-999.0000,-999.000,-999.000, 12.8124,-999.000
     32MW893_3,  P04E,   210,  1,     20,     20,2,19890508,2336,  9.4983, -88.6667, 3399,    125.3,  12.5580,  34.8300,2,  34.8308,2,   -999.0,5,      7.0,2,    25.80,2,    33.33,2,     0.00,2,     2.33,2,    0.235,2,    0.138,2, -999.000,9,-999.0000,9,  -999.00,9,-999.000,9,   -999,-999.0000,-999.000,-999.000, 12.5412,-999.000
     32MW893_3,  P04E,   210,  1,     19,     19,2,19890508,2336,  9.4983, -88.6667, 3399,    148.9,  12.1992,  34.8118,2,  34.8108,2,   -999.0,5,      8.3,2,    26.49,2,    33.52,2,     0.01,2,     2.35,2,    0.212,2,    0.126,2, -999.000,9,-999.0000,9,  -999.00,9,-999.000,9,   -999,-999.0000,-999.000,-999.000, 12.1796,-999.000
     32MW893_3,  P04E,   210,  1,     18,     18,2,19890508,2336,  9.4983, -88.6667, 3399,    173.7,  11.9462,  34.8053,2,  34.8002,2,   -999.0,5,      7.0,2,    27.86,2,    33.82,2,     0.01,2,     2.37,2,    0.176,2,    0.113,2, -999.000,9,-999.0000,9,  -999.00,9,-999.000,9,   -999,-999.0000,-999.000,-999.000, 11.9237,-999.000
     32MW893_3,  P04E,   210,  1,     17,     17,2,19890508,2336,  9.4983, -88.6667, 3399,    196.3,  11.6934,  34.7786,2,  34.7799,2,   -999.0,5,      6.5,2,    28.75,2,    33.82,2,     0.01,2,     2.40,2,    0.155,2,    0.101,2, -999.000,9,-999.0000,9,  -999.00,9,-999.000,9,   -999,-999.0000,-999.000,-999.000, 11.6683,-999.000
     32MW893_3,  P04E,   210,  1,     16,     16,2,19890508,2336,  9.4983, -88.6667, 3399,    249.8,  11.0966,  34.7532,2,  34.7541,2,   -999.0,5,      3.5,2,    32.30,2,    33.52,2,     0.04,2,     2.53,2,    0.083,2, -999.000,5, -999.000,9,-999.0000,9,  -999.00,9,-999.000,9,   -999,-999.0000,-999.000,-999.000, 11.0656,-999.000
     32MW893_3,  P04E,   210,  1,     15,     15,2,19890508,2336,  9.4983, -88.6667, 3399,    296.7,  10.3760,  34.7243,2,  34.7211,2,   -999.0,5,      1.7,2,    36.83,2,    31.47,2,     0.77,2,     2.65,2,    0.041,2,    0.031,2, -999.000,9,-999.0000,9,  -999.00,9,-999.000,9,   -999,-999.0000,-999.000,-999.000, 10.3407,-999.000
     32MW893_3,  P04E,   210,  1,     14,     14,2,19890508,2336,  9.4983, -88.6667, 3399,    396.7,   9.0466,  34.6500,2,  34.6506,2,   -999.0,5,      2.6,2,    47.96,2,    30.59,2,     1.27,2,     2.89,2,    0.012,2,    0.016,2, -999.000,9,-999.0000,9,  -999.00,9,-999.000,9,   -999,-999.0000,-999.000,-999.000,  9.0031,-999.000
     32MW893_3,  P04E,   210,  1,     13,     13,2,19890508,2336,  9.4983, -88.6667, 3399,    494.9,   7.7563,  34.6300,2,  34.6154,2,   -999.0,5,      4.3,2,    57.12,2,    36.17,2,    -0.01,2,     3.09,2,    0.008,2,    0.010,2, -999.000,9,-999.0000,9,  -999.00,9,-999.000,9,   -999,-999.0000,-999.000,-999.000,  7.7064,-999.000
     32MW893_3,  P04E,   210,  1,     12,     12,2,19890508,2336,  9.4983, -88.6667, 3399,    621.1,   6.7250,  34.5841,2,  34.5822,2,   -999.0,5,      2.6,2,    64.11,2,    42.13,2,    -0.01,2,     3.15,2, -999.000,9, -999.000,9, -999.000,9,-999.0000,9,  -999.00,9,-999.000,9,   -999,-999.0000,-999.000,-999.000,  6.6667,-999.000
     32MW893_3,  P04E,   210,  1,     11,     11,2,19890508,2336,  9.4983, -88.6667, 3399,    792.8,   5.6916,  34.5703,2,  34.5694,2,   -999.0,5,     14.3,2,    77.70,2,    44.18,2,    -0.01,2,     3.21,2, -999.000,9, -999.000,9, -999.000,9,-999.0000,9,  -999.00,9,-999.000,9,   -999,-999.0000,-999.000,-999.000,  5.6226,-999.000
     32MW893_3,  P04E,   210,  1,     10,     10,2,19890508,2336,  9.4983, -88.6667, 3399,    994.2,   4.8191,  34.5733,2,  34.5740,2,   -999.0,5,     28.7,2,    91.69,2,    44.09,2,    -0.01,2,     3.20,2, -999.000,9, -999.000,9, -999.000,9,-999.0000,9,  -999.00,9,-999.000,9,   -999,-999.0000,-999.000,-999.000,  4.7376,-999.000
     32MW893_3,  P04E,   210,  1,      9,      9,2,19890508,2336,  9.4983, -88.6667, 3399,   1242.9,   3.8329,  34.5790,2,  34.5844,2,   -999.0,5,     34.3,2,   112.47,2,    44.48,2,     0.00,2,     3.24,2, -999.000,9, -999.000,9, -999.000,9,-999.0000,9,  -999.00,9,-999.000,9,   -999,-999.0000,-999.000,-999.000,  3.7380,-999.000
     32MW893_3,  P04E,   210,  1,      8,      8,2,19890508,2336,  9.4983, -88.6667, 3399,   1491.9,   3.1683,  34.6058,2,  34.6068,2,   -999.0,5,     57.8,2,   127.24,2,    42.72,2,     0.00,2,     3.09,2, -999.000,9, -999.000,9, -999.000,9,-999.0000,9,  -999.00,9,-999.000,9,   -999,-999.0000,-999.000,-999.000,  3.0592,-999.000
     32MW893_3,  P04E,   210,  1,      7,      7,2,19890508,2336,  9.4983, -88.6667, 3399,   1736.2,   2.6577,  34.6259,2,  34.6297,2,   -999.0,5,     76.9,2,   137.77,2,    41.44,2,    -0.02,2,     2.94,2, -999.000,9, -999.000,9, -999.000,9,-999.0000,9,  -999.00,9,-999.000,9,   -999,-999.0000,-999.000,-999.000,  2.5341,-999.000
     32MW893_3,  P04E,   210,  1,      6,      6,2,19890508,2336,  9.4983, -88.6667, 3399,   1989.3,   2.3199,  34.6452,2,  34.6417,2,   -999.0,5,     92.6,2,   144.47,2,    40.17,2,    -0.01,2,     2.85,2, -999.000,9, -999.000,9, -999.000,9,-999.0000,9,  -999.00,9,-999.000,9,   -999,-999.0000,-999.000,-999.000,  2.1796,-999.000
     32MW893_3,  P04E,   210,  1,      5,      5,2,19890508,2336,  9.4983, -88.6667, 3399,   2288.6,   2.0082,  34.6598,2,  34.6594,2,   -999.0,5,    102.5,2,   152.25,2,    39.29,2,    -0.01,2,     2.78,2,    0.001,2, -999.000,5, -999.000,9,-999.0000,9,  -999.00,9,-999.000,9,   -999,-999.0000,-999.000,-999.000,  1.8468,-999.000
     32MW893_3,  P04E,   210,  1,      4,      4,2,19890508,2336,  9.4983, -88.6667, 3399,   2588.5,   1.8453,  34.6686,2,  34.6663,2,   -999.0,5,    109.1,2,   155.79,2,    38.71,2,    -0.01,2,     2.73,2,    0.000,2, -999.000,5, -999.000,9,-999.0000,9,  -999.00,9,-999.000,9,   -999,-999.0000,-999.000,-999.000,  1.6598,-999.000
     32MW893_3,  P04E,   210,  1,      3,      3,2,19890508,2336,  9.4983, -88.6667, 3399,   2884.0,   1.8274,  34.6702,2,  34.6718,2,   -999.0,5,    112.1,2,   156.87,2,    38.61,2,    -0.01,2,     2.72,2,   -0.001,2,   -0.005,2, -999.000,9,-999.0000,9,  -999.00,9,-999.000,9,   -999,-999.0000,-999.000,-999.000,  1.6146,-999.000
     32MW893_3,  P04E,   210,  1,      2,      2,2,19890508,2336,  9.4983, -88.6667, 3399,   3191.8,   1.8483,  34.6719,2,  34.6722,2,   -999.0,5,    112.1,2,   156.87,2,    38.51,2,    -0.01,2,     2.72,2, -999.000,9, -999.000,9, -999.000,9,-999.0000,9,  -999.00,9,-999.000,9,   -999,-999.0000,-999.000,-999.000,  1.6049,-999.000
     32MW893_3,  P04E,   210,  1,      1,      1,2,19890508,2336,  9.4983, -88.6667, 3399,   3418.7,   1.8693,  34.6709,2,  34.6712,2,   -999.0,5,    112.5,2,   158.55,2,    38.75,2,    -0.01,2,     2.72,2,   -0.001,2,    0.002,2, -999.000,9,-999.0000,9,  -999.00,9,-999.000,9,   -999,-999.0000,-999.000,-999.000,  1.6023,-999.000
     32MW893_3,  P04E,   211,  1,     24,     24,2,19890509,0517,  9.5017, -87.9967, 3273,      4.1,  28.0200,  34.1464,2,  34.2242,2,   -999.0,5,    231.7,2,     2.76,2,     0.29,2,     0.04,2,     0.29,2,    1.561,3,    0.860,2, -999.000,9,-999.0000,9,  -999.00,9,-999.000,9,   -999,-999.0000,-999.000,-999.000, 28.0190,-999.000
     32MW893_3,  P04E,   211,  1,     23,     23,2,19890509,0517,  9.5017, -87.9967, 3273,     48.5,  13.8495,  34.8649,2,  34.8590,2,   -999.0,5,      4.3,2,    22.64,2,    32.54,2,     0.03,2,     2.30,2,    0.407,2,    0.216,2, -999.000,9,-999.0000,9,  -999.00,9,-999.000,9,   -999,-999.0000,-999.000,-999.000, 13.8426,-999.000
     32MW893_3,  P04E,   211,  1,     22,     22,2,19890509,0517,  9.5017, -87.9967, 3273,     99.6,  12.9929,  34.8684,2,  34.8674,2,   -999.0,5,      5.6,2,    24.72,2,    32.93,2,     0.01,2,     2.33,2,    0.263,2,    0.141,2, -999.000,9,-999.0000,9,  -999.00,9,-999.000,9,   -999,-999.0000,-999.000,-999.000, 12.9793,-999.000
     32MW893_3,  P04E,   211,  1,     21,     21,2,19890509,0517,  9.5017, -87.9967, 3273,    123.2,  12.6340,  34.8365,2,  34.8322,2,   -999.0,5,      8.7,2,    25.40,2,    33.13,2,     0.01,2,     2.31,2,    0.246,2,    0.130,2, -999.000,9,-999.0000,9,  -999.00,9,-999.000,9,   -999,-999.0000,-999.000,-999.000, 12.6174,-999.000
     32MW893_3,  P04E,   211,  1,     20,     20,2,19890509,0517,  9.5017, -87.9967, 3273,    148.1,  12.3201,  34.8150,2,  34.8123,2,   -999.0,5,      4.3,2,    26.88,2,    33.23,2,     0.01,2,     2.37,2,    0.204,2,    0.108,2, -999.000,9,-999.0000,9,  -999.00,9,-999.000,9,   -999,-999.0000,-999.000,-999.000, 12.3005,-999.000
     32MW893_3,  P04E,   211,  1,     19,     19,2,19890509,0517,  9.5017, -87.9967, 3273,    172.1,  12.2112,  34.8217,2,  34.8165,2,   -999.0,5,      8.7,2,    26.88,2,    33.62,2,     0.01,2,     2.34,2,    0.202,2,    0.109,2, -999.000,9,-999.0000,9,  -999.00,9,-999.000,9,   -999,-999.0000,-999.000,-999.000, 12.1885,-999.000
     32MW893_3,  P04E,   211,  1,     18,     18,2,19890509,0517,  9.5017, -87.9967, 3273,    198.2,  11.9262,  34.8036,2,  34.8029,2,   -999.0,5,      6.1,2,    27.96,2,    34.01,2,     0.01,2,     2.37,2,    0.168,2,    0.098,2, -999.000,9,-999.0000,9,  -999.00,9,-999.000,9,   -999,-999.0000,-999.000,-999.000, 11.9005,-999.000
     32MW893_3,  P04E,   211,  1,     17,     17,2,19890509,0517,  9.5017, -87.9967, 3273,    235.2,  11.5304,  34.7817,2,  34.7758,2,   -999.0,5,      8.7,2,    29.05,2,    34.01,2,     0.01,2,     2.39,2,    0.145,2,    0.091,2, -999.000,9,-999.0000,9,  -999.00,9,-999.000,9,   -999,-999.0000,-999.000,-999.000, 11.5005,-999.000
     32MW893_3,  P04E,   211,  1,     16,     16,2,19890509,0517,  9.5017, -87.9967, 3273,    294.5,  10.9137,  34.7470,2,  34.7504,2,   -999.0,5,      8.7,2,    31.80,2,    34.50,2,     0.01,2,     2.46,2,    0.094,2,    0.064,2, -999.000,9,-999.0000,9,  -999.00,9,-999.000,9,   -999,-999.0000,-999.000,-999.000, 10.8775,-999.000
     32MW893_3,  P04E,   211,  1,     15,     15,2,19890509,0517,  9.5017, -87.9967, 3273,    395.4,   9.1816,  34.6676,2,  34.6651,2,   -999.0,5,      1.3,2,    46.78,2,    31.57,2,     1.10,2,     2.86,2,    0.011,2,    0.003,2, -999.000,9,-999.0000,9,  -999.00,9,-999.000,9,   -999,-999.0000,-999.000,-999.000,  9.1378,-999.000
     32MW893_3,  P04E,   211,  1,     14,     14,2,19890509,0517,  9.5017, -87.9967, 3273,    495.5,   7.9682,  34.6306,2,  34.6282,2,   -999.0,5,      3.0,2,    53.67,2,    38.12,2,     0.00,2,     3.01,2,    0.005,2,    0.001,2, -999.000,9,-999.0000,9,  -999.00,9,-999.000,9,   -999,-999.0000,-999.000,-999.000,  7.9175,-999.000
     32MW893_3,  P04E,   211,  1,     13,     13,2,19890509,0517,  9.5017, -87.9967, 3273,    593.3,   7.1177,  34.5992,2,  34.5965,2,   -999.0,5,      6.5,2,    59.78,2,    41.25,2,     0.00,2,     3.10,2, -999.000,9, -999.000,9, -999.000,9,-999.0000,9,  -999.00,9,-999.000,9,   -999,-999.0000,-999.000,-999.000,  7.0604,-999.000
     32MW893_3,  P04E,   211,  1,     12,     12,2,19890509,0517,  9.5017, -87.9967, 3273,    695.1,   6.4522,  34.5884,2,  34.5887,2,   -999.0,5,     10.4,2,    67.95,2,    42.72,2,     0.00,2,     3.12,2, -999.000,9, -999.000,9, -999.000,9,-999.0000,9,  -999.00,9,-999.000,9,   -999,-999.0000,-999.000,-999.000,  6.3880,-999.000
     32MW893_3,  P04E,   211,  1,     11,     11,2,19890509,0517,  9.5017, -87.9967, 3273,    793.4,   5.8315,  34.5709,2,  34.5694,2,   -999.0,5,      9.1,2,    76.71,2,    44.28,2,     0.00,2,     3.21,2, -999.000,9, -999.000,9, -999.000,9,-999.0000,9,  -999.00,9,-999.000,9,   -999,-999.0000,-999.000,-999.000,  5.7615,-999.000
     32MW893_3,  P04E,   211,  1,     10,     10,2,19890509,0517,  9.5017, -87.9967, 3273,    992.5,   4.8341,  34.5702,2,  34.5689,2,   -999.0,5,     20.9,2,    92.58,2,    44.87,2,     0.00,2,     3.25,2, -999.000,9, -999.000,9, -999.000,9,-999.0000,9,  -999.00,9,-999.000,9,   -999,-999.0000,-999.000,-999.000,  4.7527,-999.000
     32MW893_3,  P04E,   211,  1,      9,      9,2,19890509,0517,  9.5017, -87.9967, 3273,   1242.2,   3.8888,  34.5835,2,  34.5840,2,   -999.0,5,     31.7,2,   112.47,2,    44.67,2,     0.00,2,     3.23,2, -999.000,9, -999.000,9, -999.000,9,-999.0000,9,  -999.00,9,-999.000,9,   -999,-999.0000,-999.000,-999.000,  3.7934,-999.000
     32MW893_3,  P04E,   211,  1,      8,      8,2,19890509,0517,  9.5017, -87.9967, 3273,   1491.6,   3.2782,  34.6026,2,  34.6007,2,   -999.0,5,     55.6,2,   124.38,2,    42.91,2,     0.00,2,     3.08,2, -999.000,9, -999.000,9, -999.000,9,-999.0000,9,  -999.00,9,-999.000,9,   -999,-999.0000,-999.000,-999.000,  3.1678,-999.000
     32MW893_3,  P04E,   211,  1,      7,      7,2,19890509,0517,  9.5017, -87.9967, 3273,   1739.6,   2.7496,  34.6260,2,  34.6241,2,   -999.0,5,     72.1,2,   136.59,2,    41.74,2,     0.00,2,     2.98,2, -999.000,9, -999.000,9, -999.000,9,-999.0000,9,  -999.00,9,-999.000,9,   -999,-999.0000,-999.000,-999.000,  2.6246,-999.000
     32MW893_3,  P04E,   211,  1,      6,      6,2,19890509,0517,  9.5017, -87.9967, 3273,   1989.2,   2.3329,  34.6436,2,  34.6427,2,   -999.0,5,     90.8,2,   144.17,2,    40.27,2,     0.00,2,     2.83,2, -999.000,9, -999.000,9, -999.000,9,-999.0000,9,  -999.00,9,-999.000,9,   -999,-999.0000,-999.000,-999.000,  2.1924,-999.000
     32MW893_3,  P04E,   211,  1,      5,      5,2,19890509,0517,  9.5017, -87.9967, 3273,   2236.4,   2.0541,  34.6568,2,  34.6563,2,   -999.0,5,     99.1,2,   151.55,2,    39.68,2,     0.00,2,     2.79,2, -999.000,9, -999.000,9, -999.000,9,-999.0000,9,  -999.00,9,-999.000,9,   -999,-999.0000,-999.000,-999.000,  1.8964,-999.000
     32MW893_3,  P04E,   211,  1,      4,      4,2,19890509,0517,  9.5017, -87.9967, 3273,   2488.6,   1.8733,  34.6664,2,  34.6653,2,   -999.0,5,    106.9,2,   155.20,2,    39.00,2,     0.00,2,     2.75,2, -999.000,9, -999.000,9, -999.000,9,-999.0000,9,  -999.00,9,-999.000,9,   -999,-999.0000,-999.000,-999.000,  1.6963,-999.000
     32MW893_3,  P04E,   211,  1,      3,      3,2,19890509,0517,  9.5017, -87.9967, 3273,   2790.2,   1.8214,  34.6709,2,  34.6700,2,   -999.0,5,    111.2,2,   156.97,2,    38.71,2,     0.00,2,     2.72,2,   -0.002,2, -999.000,5, -999.000,9,-999.0000,9,  -999.00,9,-999.000,9,   -999,-999.0000,-999.000,-999.000,  1.6176,-999.000
     32MW893_3,  P04E,   211,  1,      2,      2,2,19890509,0517,  9.5017, -87.9967, 3273,   3090.5,   1.8383,  34.6719,2,  34.6722,2,   -999.0,5,    111.2,2,   158.05,2,    38.61,2,     0.00,2,     2.70,2,    0.002,2, -999.000,5, -999.000,9,-999.0000,9,  -999.00,9,-999.000,9,   -999,-999.0000,-999.000,-999.000,  1.6052,-999.000
     32MW893_3,  P04E,   211,  1,      1,      1,2,19890509,0517,  9.5017, -87.9967, 3273,   3294.4,   1.8573,  34.6715,2,  34.6718,2,   -999.0,5,    111.2,2,   159.04,2,    38.61,2,     0.00,2,     2.72,2,   -0.001,2,   -0.001,2, -999.000,9,-999.0000,9,  -999.00,9,-999.000,9,   -999,-999.0000,-999.000,-999.000,  1.6033,-999.000