BOTTLE,20020418WHPSIOdm
EXPOCODE,SECT_ID,STNNBR,CASTNO,SAMPNO,BTLNBR,BTLNBR_FLAG_W,DATE,TIME,LATITUDE,LONGITUDE,DEPTH,CTDPRS,CTDTMP,CTDSAL,CTDSAL_FLAG_W,SALNTY,SALNTY_FLAG_W,CTDOXY,CTDOXY_FLAG_W,OXYGEN,OXYGEN_FLAG_W,SILCAT,SILCAT_FLAG_W,NITRAT,NITRAT_FLAG_W,NITRIT,NITRIT_FLAG_W,PHSPHT,PHSPHT_FLAG_W,CFC-11,CFC-11_FLAG_W,CFC-12,CFC-12_FLAG_W,TRITUM,TRITUM_FLAG_W,HELIUM,HELIUM_FLAG_W,DELHE3,DELHE3_FLAG_W,NEON,NEON_FLAG_W,CTDRAW,HELIER,DELHER,NEONER,THETA,TRITER
,,,,,,,,,,,,DBAR,ITS-90,PSS-78,,PSS-78,,UMOL/KG,,UMOL/KG,,UMOL/KG,,UMOL/KG,,UMOL/KG,,UMOL/KG,,PMOL/KG,,PMOL/KG,,TU,,NMOL/KG,,PERCNT,,NMOL/KG,,,NMOL/KG,PERCNT,NMOL/KG,ITS-90,TU
     32MW893_3,  P04E,   188,  1,     24,     24,2,19890502,2251,  9.5067,-105.3300, 3188,      6.1,  28.6627,  34.0857,2,  34.0141,2,   -999.0,5,    216.9,2,     0.00,2,     0.10,2,    -0.01,2,     0.24,2,    1.570,2,    0.891,2, -999.000,9,-999.0000,9,  -999.00,9,-999.000,9,   -999,-999.0000,-999.000,-999.000, 28.6612,-999.000
     32MW893_3,  P04E,   188,  1,     23,     23,2,19890502,2251,  9.5067,-105.3300, 3188,     47.2,  25.3004,  34.2285,2,  34.2895,2,   -999.0,5,    162.1,2,     3.45,2,     9.48,2,     1.37,2,     0.91,2,    1.555,2,    0.845,2, -999.000,9,-999.0000,9,  -999.00,9,-999.000,9,   -999,-999.0000,-999.000,-999.000, 25.2901,-999.000
     32MW893_3,  P04E,   188,  1,     22,     22,2,19890502,2251,  9.5067,-105.3300, 3188,     72.0,  17.8252,  34.6722,2,  34.6256,2,   -999.0,5,     16.5,2,    15.06,2,    28.25,2,     0.19,2,     2.18,2,    0.826,2,    0.494,2, -999.000,9,-999.0000,9,  -999.00,9,-999.000,9,   -999,-999.0000,-999.000,-999.000, 17.8130,-999.000
     32MW893_3,  P04E,   188,  1,     21,     21,2,19890502,2251,  9.5067,-105.3300, 3188,     95.9,  13.8374,  34.8154,2,  34.7905,2,   -999.0,5,      3.0,2,    22.55,2,    31.27,2,     0.03,2,     2.38,2,    0.359,2, -999.000,5, -999.000,9,-999.0000,9,  -999.00,9,-999.000,9,   -999,-999.0000,-999.000,-999.000, 13.8237,-999.000
     32MW893_3,  P04E,   188,  1,     20,     20,2,19890502,2251,  9.5067,-105.3300, 3188,    121.8,  12.7137,  34.8076,2,  34.8002,2,   -999.0,5,      4.3,2,    25.21,2,    32.74,2,     0.00,2,     2.41,2,    0.207,2,    0.131,2, -999.000,9,-999.0000,9,  -999.00,9,-999.000,9,   -999,-999.0000,-999.000,-999.000, 12.6974,-999.000
     32MW893_3,  P04E,   188,  1,     19,     19,2,19890502,2251,  9.5067,-105.3300, 3188,    145.7,  12.0180,  34.7910,2,  34.7852,2,   -999.0,5,      8.7,2,    26.78,2,    32.94,2,     0.00,2,     2.41,2,    0.169,2, -999.000,5, -999.000,9,-999.0000,9,  -999.00,9,-999.000,9,   -999,-999.0000,-999.000,-999.000, 11.9991,-999.000
     32MW893_3,  P04E,   188,  1,     18,     18,2,19890502,2251,  9.5067,-105.3300, 3188,    171.6,  11.7311,  34.7949,2,  34.7705,2,   -999.0,5,      8.3,2,    27.96,2,    32.84,2,     0.00,2,     2.43,2,    0.134,2, -999.000,5, -999.000,9,-999.0000,9,  -999.00,9,-999.000,9,   -999,-999.0000,-999.000,-999.000, 11.7091,-999.000
     32MW893_3,  P04E,   188,  1,     17,     17,2,19890502,2251,  9.5067,-105.3300, 3188,    196.4,  11.4232,  34.7544,2,  34.7553,2,   -999.0,5,     16.1,2,    28.75,2,    33.33,2,     0.00,2,     2.40,2,    0.127,2,    0.073,2, -999.000,9,-999.0000,9,  -999.00,9,-999.000,9,   -999,-999.0000,-999.000,-999.000, 11.3984,-999.000
     32MW893_3,  P04E,   188,  1,     16,     16,2,19890502,2251,  9.5067,-105.3300, 3188,    245.7,  10.7854,  34.7294,2,  34.7304,2,   -999.0,5,     14.3,2,    30.82,2,    34.11,2,     0.00,2,     2.47,2,    0.083,2,    0.061,2, -999.000,9,-999.0000,9,  -999.00,9,-999.000,9,   -999,-999.0000,-999.000,-999.000, 10.7555,-999.000
     32MW893_3,  P04E,   188,  1,     15,     15,2,19890502,2251,  9.5067,-105.3300, 3188,    296.7,  10.4155,  34.7266,2,  34.7184,2,   -999.0,5,     18.7,2,    32.10,2,    34.31,2,     0.00,2,     2.48,2,    0.078,2,    0.058,2, -999.000,9,-999.0000,9,  -999.00,9,-999.000,9,   -999,-999.0000,-999.000,-999.000, 10.3801,-999.000
     32MW893_3,  P04E,   188,  1,     14,     14,2,19890502,2251,  9.5067,-105.3300, 3188,    396.3,   9.2929,  34.6633,2,  34.6637,2,   -999.0,5,      5.6,2,    41.95,2,    34.50,2,     0.00,2,     2.80,2,    0.019,2, -999.000,5, -999.000,9,-999.0000,9,  -999.00,9,-999.000,9,   -999,-999.0000,-999.000,-999.000,  9.2487,-999.000
     32MW893_3,  P04E,   188,  1,     13,     13,2,19890502,2251,  9.5067,-105.3300, 3188,    497.9,   8.1553,  34.6201,2,  34.6093,2,   -999.0,5,      3.5,2,    52.88,2,    34.80,2,     0.00,2,     3.01,2,    0.005,2,    0.010,2, -999.000,9,-999.0000,9,  -999.00,9,-999.000,9,   -999,-999.0000,-999.000,-999.000,  8.1037,-999.000
     32MW893_3,  P04E,   188,  1,     12,     12,2,19890502,2251,  9.5067,-105.3300, 3188,    621.9,   6.9817,  34.5776,2,  34.5808,2,   -999.0,5,      4.3,2,    62.44,2,    40.47,2,     0.00,2,     3.16,2, -999.000,9, -999.000,9, -999.000,9,-999.0000,9,  -999.00,9,-999.000,9,   -999,-999.0000,-999.000,-999.000,  6.9221,-999.000
     32MW893_3,  P04E,   188,  1,     11,     11,2,19890502,2251,  9.5067,-105.3300, 3188,    695.8,   6.4390,  34.5645,2,  34.5647,2,   -999.0,5,      6.1,2,    68.54,2,    42.23,2,     0.00,2,     3.20,2, -999.000,9, -999.000,9, -999.000,9,-999.0000,9,  -999.00,9,-999.000,9,   -999,-999.0000,-999.000,-999.000,  6.3749,-999.000
     32MW893_3,  P04E,   188,  1,     10,     10,2,19890502,2251,  9.5067,-105.3300, 3188,    797.8,   5.6872,  34.5578,2,  34.5561,2,   -999.0,5,     11.7,2,    77.21,2,    43.79,2,     0.00,2,     3.24,2, -999.000,9, -999.000,9, -999.000,9,-999.0000,9,  -999.00,9,-999.000,9,   -999,-999.0000,-999.000,-999.000,  5.6177,-999.000
     32MW893_3,  P04E,   188,  1,      9,      9,2,19890502,2251,  9.5067,-105.3300, 3188,    896.8,   5.1065,  34.5596,2,  34.5602,2,   -999.0,5,     17.4,2,    86.37,2,    44.48,2,     0.00,2,     3.28,2, -999.000,9, -999.000,9, -999.000,9,-999.0000,9,  -999.00,9,-999.000,9,   -999,-999.0000,-999.000,-999.000,  5.0316,-999.000
     32MW893_3,  P04E,   188,  1,      8,      8,2,19890502,2251,  9.5067,-105.3300, 3188,    997.5,   4.6886,  34.5650,2,  34.5616,2,   -999.0,5,     26.9,2,    93.96,2,    44.18,2,     0.00,2,     3.26,2,   -0.001,2,    0.001,2, -999.000,9,-999.0000,9,  -999.00,9,-999.000,9,   -999,-999.0000,-999.000,-999.000,  4.6078,-999.000
     32MW893_3,  P04E,   188,  1,      7,      7,2,19890502,2251,  9.5067,-105.3300, 3188,   1246.6,   3.8180,  34.5844,2,  34.5842,2,   -999.0,5,     46.5,2,   110.89,2,    42.91,2,     0.00,2,     3.17,2, -999.000,9, -999.000,9, -999.000,9,-999.0000,9,  -999.00,9,-999.000,9,   -999,-999.0000,-999.000,-999.000,  3.7229,-999.000
     32MW893_3,  P04E,   188,  1,      6,      6,2,19890502,2251,  9.5067,-105.3300, 3188,   1499.9,   3.2552,  34.6049,2,  34.6017,2,   -999.0,5,     63.9,2,   123.40,2,    41.84,2,     0.00,2,     3.06,2, -999.000,9, -999.000,9, -999.000,9,-999.0000,9,  -999.00,9,-999.000,9,   -999,-999.0000,-999.000,-999.000,  3.1444,-999.000
     32MW893_3,  P04E,   188,  1,      5,      5,2,19890502,2251,  9.5067,-105.3300, 3188,   1748.4,   2.8113,  34.6205,2,  34.6176,2,   -999.0,5,     78.2,2,   132.85,2,    40.96,2,     0.00,2,     2.97,2, -999.000,9, -999.000,9, -999.000,9,-999.0000,9,  -999.00,9,-999.000,9,   -999,-999.0000,-999.000,-999.000,  2.6847,-999.000
     32MW893_3,  P04E,   188,  1,      4,      4,2,19890502,2251,  9.5067,-105.3300, 3188,   2001.2,   2.4195,  34.6373,2,  34.6362,2,   -999.0,5,     84.7,2,   143.58,2,    40.56,2,     0.00,2,     2.91,2, -999.000,9, -999.000,9, -999.000,9,-999.0000,9,  -999.00,9,-999.000,9,   -999,-999.0000,-999.000,-999.000,  2.2766,-999.000
     32MW893_3,  P04E,   188,  1,      3,      3,2,19890502,2251,  9.5067,-105.3300, 3188,   2499.0,   1.8787,  34.6680,2,  34.6649,2,   -999.0,5,    107.3,2,   156.18,2,    38.71,2,     0.00,2,     2.77,2,   -0.001,2,   -0.005,2, -999.000,9,-999.0000,9,  -999.00,9,-999.000,9,   -999,-999.0000,-999.000,-999.000,  1.7008,-999.000
     32MW893_3,  P04E,   188,  1,      2,      2,2,19890502,2251,  9.5067,-105.3300, 3188,   3006.2,   1.7948,  34.6718,2,  34.6722,2,   -999.0,5,    115.1,2,   156.87,2,    38.22,2,     0.00,2,     2.72,2, -999.000,9, -999.000,9, -999.000,9,-999.0000,9,  -999.00,9,-999.000,9,   -999,-999.0000,-999.000,-999.000,  1.5709,-999.000
     32MW893_3,  P04E,   188,  1,      1,      1,2,19890502,2251,  9.5067,-105.3300, 3188,   3158.0,   1.7358,  34.6741,2,  34.6724,2,   -999.0,5,    120.8,2,   156.77,2,    37.92,2,     0.00,2,     2.69,2,    0.002,2,   -0.001,2, -999.000,9,-999.0000,9,  -999.00,9,-999.000,9,   -999,-999.0000,-999.000,-999.000,  1.4983,-999.000
     32MW893_3,  P04E,   189,  1,     24,     24,2,19890503,0519,  9.5000,-104.5000, 2887,      5.9,  28.7407,  33.9107,2,  33.9107,2,   -999.0,5,    216.5,2,     0.00,2,     0.49,2,    -0.01,2,     0.25,2,    1.634,2,    0.870,2, -999.000,9,-999.0000,9,  -999.00,9,-999.000,9,   -999,-999.0000,-999.000,-999.000, 28.7393,-999.000
     32MW893_3,  P04E,   189,  1,     23,     23,2,19890503,0519,  9.5000,-104.5000, 2887,     21.6,  28.6687,  33.9087,2,  33.9107,2,   -999.0,5,    217.8,2,     0.00,2,     0.78,2,    -0.01,2,     0.25,2,    1.566,2,    0.855,2, -999.000,9,-999.0000,9,  -999.00,9,-999.000,9,   -999,-999.0000,-999.000,-999.000, 28.6635,-999.000
     32MW893_3,  P04E,   189,  1,     22,     22,2,19890503,0519,  9.5000,-104.5000, 2887,     47.1,  26.5651,  34.2848,2,  34.2323,2,   -999.0,5,    220.4,2,     0.49,2,     1.17,2,     0.02,2,     0.29,2,    1.741,2,    0.958,2, -999.000,9,-999.0000,9,  -999.00,9,-999.000,9,   -999,-999.0000,-999.000,-999.000, 26.5545,-999.000
     32MW893_3,  P04E,   189,  1,     21,     21,2,19890503,0519,  9.5000,-104.5000, 2887,     71.6,  16.9634,  34.7037,2,  34.7256,2,   -999.0,5,     38.2,2,    15.95,2,    28.15,2,     1.95,2,     1.99,2,    0.694,2,    0.382,2, -999.000,9,-999.0000,9,  -999.00,9,-999.000,9,   -999,-999.0000,-999.000,-999.000, 16.9517,-999.000
     32MW893_3,  P04E,   189,  1,     20,     20,2,19890503,0519,  9.5000,-104.5000, 2887,     95.3,  13.9953,  34.8913,2,  34.8934,2,   -999.0,5,     18.7,2,    19.40,2,    31.76,2,     0.02,2,     2.12,2,    0.431,2,    0.242,2, -999.000,9,-999.0000,9,  -999.00,9,-999.000,9,   -999,-999.0000,-999.000,-999.000, 13.9816,-999.000
     32MW893_3,  P04E,   189,  1,     19,     19,2,19890503,0519,  9.5000,-104.5000, 2887,    121.1,  13.4186,  34.8701,2,  34.8694,2,   -999.0,5,     20.9,2,    20.68,2,    32.05,2,     0.02,2,     2.14,2,    0.357,2,    0.216,2, -999.000,9,-999.0000,9,  -999.00,9,-999.000,9,   -999,-999.0000,-999.000,-999.000, 13.4017,-999.000
     32MW893_3,  P04E,   189,  1,     18,     18,2,19890503,0519,  9.5000,-104.5000, 2887,    145.4,  13.0487,  34.8582,2,  34.8721,2,   -999.0,5,     20.9,2,    22.15,2,    32.54,2,     0.01,2,     2.17,2,    0.287,2,    0.181,2, -999.000,9,-999.0000,9,  -999.00,9,-999.000,9,   -999,-999.0000,-999.000,-999.000, 13.0287,-999.000
     32MW893_3,  P04E,   189,  1,     17,     17,2,19890503,0519,  9.5000,-104.5000, 2887,    172.0,  12.2450,  34.8109,2,  34.8110,2,   -999.0,5,     27.8,2,    24.02,2,    32.45,2,     0.01,2,     2.18,2,    0.264,2, -999.000,5, -999.000,9,-999.0000,9,  -999.00,9,-999.000,9,   -999,-999.0000,-999.000,-999.000, 12.2223,-999.000
     32MW893_3,  P04E,   189,  1,     16,     16,2,19890503,0519,  9.5000,-104.5000, 2887,    195.9,  12.0680,  34.8052,2,  34.8076,2,   -999.0,5,     26.9,2,    25.11,2,    32.94,2,     0.01,2,     2.22,2,    0.225,2,    0.153,2, -999.000,9,-999.0000,9,  -999.00,9,-999.000,9,   -999,-999.0000,-999.000,-999.000, 12.0424,-999.000
     32MW893_3,  P04E,   189,  1,     15,     15,2,19890503,0519,  9.5000,-104.5000, 2887,    246.3,  11.5291,  34.7727,2,  34.7799,2,   -999.0,5,     33.0,2,    26.39,2,    32.94,2,     0.00,2,     2.21,2,    0.204,2,    0.133,2, -999.000,9,-999.0000,9,  -999.00,9,-999.000,9,   -999,-999.0000,-999.000,-999.000, 11.4978,-999.000
     32MW893_3,  P04E,   189,  1,     14,     14,2,19890503,0519,  9.5000,-104.5000, 2887,    297.2,  10.9164,  34.7463,2,  34.7443,2,   -999.0,5,     22.2,2,    29.55,2,    34.60,2,     0.00,2,     2.37,2,    0.133,2,    0.087,2, -999.000,9,-999.0000,9,  -999.00,9,-999.000,9,   -999,-999.0000,-999.000,-999.000, 10.8799,-999.000
     32MW893_3,  P04E,   189,  1,     13,     13,2,19890503,0519,  9.5000,-104.5000, 2887,    396.4,   9.7248,  34.6917,2,  34.6887,2,   -999.0,5,      4.8,2,    38.70,2,    33.33,2,     0.00,2,     2.70,2,    0.029,2,    0.029,2, -999.000,9,-999.0000,9,  -999.00,9,-999.000,9,   -999,-999.0000,-999.000,-999.000,  9.6793,-999.000
     32MW893_3,  P04E,   189,  1,     12,     12,2,19890503,0519,  9.5000,-104.5000, 2887,    497.4,   8.3973,  34.6331,2,  34.6327,2,   -999.0,5,      1.7,2,    49.83,2,    34.31,2,     0.00,2,     2.93,2,    0.005,2,    0.003,2, -999.000,9,-999.0000,9,  -999.00,9,-999.000,9,   -999,-999.0000,-999.000,-999.000,  8.3448,-999.000
     32MW893_3,  P04E,   189,  1,     11,     11,2,19890503,0519,  9.5000,-104.5000, 2887,    597.5,   7.3586,  34.6012,2,  34.5991,2,   -999.0,5,      1.7,2,    59.78,2,    37.54,2,     0.00,2,     3.10,2,    0.002,6, -999.000,5, -999.000,9,-999.0000,9,  -999.00,9,-999.000,9,   -999,-999.0000,-999.000,-999.000,  7.2998,-999.000
     32MW893_3,  P04E,   189,  1,     10,     10,2,19890503,0519,  9.5000,-104.5000, 2887,    747.0,   6.0770,  34.5697,2,  34.5663,2,   -999.0,5,      9.6,2,    70.71,2,    42.72,2,     0.00,2,     3.15,2, -999.000,9, -999.000,9, -999.000,9,-999.0000,9,  -999.00,9,-999.000,9,   -999,-999.0000,-999.000,-999.000,  6.0100,-999.000
     32MW893_3,  P04E,   189,  1,      9,      9,2,19890503,0519,  9.5000,-104.5000, 2887,    997.0,   4.9175,  34.5573,2,  34.5592,2,   -999.0,5,     26.1,2,    88.34,2,    43.60,2,     0.00,2,     3.19,2, -999.000,9, -999.000,9, -999.000,9,-999.0000,9,  -999.00,9,-999.000,9,   -999,-999.0000,-999.000,-999.000,  4.8350,-999.000
     32MW893_3,  P04E,   189,  1,      8,      8,2,19890503,0519,  9.5000,-104.5000, 2887,   1248.1,   3.9530,  34.5792,2,  34.5769,2,   -999.0,5,     40.8,2,   108.03,2,    43.01,2,     0.00,2,     3.14,2, -999.000,9, -999.000,9, -999.000,9,-999.0000,9,  -999.00,9,-999.000,9,   -999,-999.0000,-999.000,-999.000,  3.8565,-999.000
     32MW893_3,  P04E,   189,  1,      7,      7,2,19890503,0519,  9.5000,-104.5000, 2887,   1498.3,   3.3681,  34.6000,2,  34.5987,2,   -999.0,5,     56.9,2,   121.42,2,    42.03,2,     0.00,2,     3.05,2, -999.000,9, -999.000,9, -999.000,9,-999.0000,9,  -999.00,9,-999.000,9,   -999,-999.0000,-999.000,-999.000,  3.2561,-999.000
     32MW893_3,  P04E,   189,  1,      6,      6,2,19890503,0519,  9.5000,-104.5000, 2887,   1749.7,   2.8993,  34.6146,2,  34.6158,2,   -999.0,5,     73.4,2,   131.08,2,    40.86,2,     0.00,2,     2.94,2, -999.000,9, -999.000,9, -999.000,9,-999.0000,9,  -999.00,9,-999.000,9,   -999,-999.0000,-999.000,-999.000,  2.7714,-999.000
     32MW893_3,  P04E,   189,  1,      5,      5,2,19890503,0519,  9.5000,-104.5000, 2887,   1999.9,   2.4065,  34.6394,2,  34.6351,2,   -999.0,5,     83.9,2,   143.68,2,    40.17,2,     0.00,2,     2.86,2, -999.000,9, -999.000,9, -999.000,9,-999.0000,9,  -999.00,9,-999.000,9,   -999,-999.0000,-999.000,-999.000,  2.2640,-999.000
     32MW893_3,  P04E,   189,  1,      4,      4,2,19890503,0519,  9.5000,-104.5000, 2887,   2251.0,   2.0307,  34.6565,2,  34.6541,2,   -999.0,5,     97.3,2,   152.73,2,    39.20,2,     0.00,2,     2.81,2, -999.000,9, -999.000,9, -999.000,9,-999.0000,9,  -999.00,9,-999.000,9,   -999,-999.0000,-999.000,-999.000,  1.8722,-999.000
     32MW893_3,  P04E,   189,  1,      3,      3,2,19890503,0519,  9.5000,-104.5000, 2887,   2505.0,   1.8628,  34.6673,2,  34.6683,2,   -999.0,5,    107.8,2,   156.57,2,    38.51,2,     0.00,2,     2.72,2,   -0.001,2,    0.005,2, -999.000,9,-999.0000,9,  -999.00,9,-999.000,9,   -999,-999.0000,-999.000,-999.000,  1.6845,-999.000
     32MW893_3,  P04E,   189,  1,      2,      2,2,19890503,0519,  9.5000,-104.5000, 2887,   2704.3,   1.8538,  34.6676,2,  34.6712,2,   -999.0,5,    108.6,2,   157.27,2,    38.41,2,     0.00,2,     2.72,2,    0.000,2,    0.004,2, -999.000,9,-999.0000,9,  -999.00,9,-999.000,9,   -999,-999.0000,-999.000,-999.000,  1.6574,-999.000
     32MW893_3,  P04E,   189,  1,      1,      1,2,19890503,0519,  9.5000,-104.5000, 2887,   2924.4,   1.8648,  34.6677,2,  34.6730,2,   -999.0,5,    109.5,2,   157.27,2,    38.41,2,     0.00,2,     2.71,2,   -0.001,2,   -0.001,2, -999.000,9,-999.0000,9,  -999.00,9,-999.000,9,   -999,-999.0000,-999.000,-999.000,  1.6473,-999.000