BOTTLE,20020418WHPSIOdm
EXPOCODE,SECT_ID,STNNBR,CASTNO,SAMPNO,BTLNBR,BTLNBR_FLAG_W,DATE,TIME,LATITUDE,LONGITUDE,DEPTH,CTDPRS,CTDTMP,CTDSAL,CTDSAL_FLAG_W,SALNTY,SALNTY_FLAG_W,CTDOXY,CTDOXY_FLAG_W,OXYGEN,OXYGEN_FLAG_W,SILCAT,SILCAT_FLAG_W,NITRAT,NITRAT_FLAG_W,NITRIT,NITRIT_FLAG_W,PHSPHT,PHSPHT_FLAG_W,CFC-11,CFC-11_FLAG_W,CFC-12,CFC-12_FLAG_W,TRITUM,TRITUM_FLAG_W,HELIUM,HELIUM_FLAG_W,DELHE3,DELHE3_FLAG_W,NEON,NEON_FLAG_W,CTDRAW,HELIER,DELHER,NEONER,THETA,TRITER
,,,,,,,,,,,,DBAR,ITS-90,PSS-78,,PSS-78,,UMOL/KG,,UMOL/KG,,UMOL/KG,,UMOL/KG,,UMOL/KG,,UMOL/KG,,PMOL/KG,,PMOL/KG,,TU,,NMOL/KG,,PERCNT,,NMOL/KG,,,NMOL/KG,PERCNT,NMOL/KG,ITS-90,TU
     32MW893_3,  P04E,   122,  1,     24,     24,2,19890410,0119,  9.4983,-160.3383, 4988,      6.6,  26.7521,  34.5344,2,  34.5272,2,   -999.0,5,    217.3,2,     0.10,2,     0.00,2,     0.00,2,     0.23,2,    1.661,2,    0.898,2,    1.682,2,   1.8900,2,    -0.87,2,   7.236,2,   -999,  0.0090,   0.150,   0.043, 26.7506,   0.022
     32MW893_3,  P04E,   122,  1,     23,     23,2,19890410,0119,  9.4983,-160.3383, 4988,     48.0,  26.7081,  34.6249,2,  34.6235,2,   -999.0,5,    210.3,2,     0.20,2,     0.10,2,     0.00,2,     0.26,2,    1.688,2,    0.904,2,    1.685,2,   1.8150,2,    -0.44,2,   6.937,2,   -999,  0.0080,   0.150,   0.042, 26.6972,   0.022
     32MW893_3,  P04E,   122,  1,     22,     22,2,19890410,0119,  9.4983,-160.3383, 4988,     98.5,  20.9074,  35.0186,2,  35.0049,2,   -999.0,5,    205.0,2,     0.50,2,     0.29,2,     0.00,2,     0.26,2,    1.987,2,    1.040,2,    2.467,2,   1.9240,2,     0.22,2,   7.562,2,   -999,  0.0090,   0.150,   0.045, 20.8886,   0.028
     32MW893_3,  P04E,   122,  1,     21,     21,2,19890410,0119,  9.4983,-160.3383, 4988,    146.9,  13.2386,  34.4713,2,  34.4817,2,   -999.0,5,    119.9,2,    13.00,2,    17.50,2,     0.06,2,     1.42,2,    1.366,2,    0.700,2,    2.346,2,   1.9200,2,     7.92,2,   7.789,2,   -999,  0.0090,   0.150,   0.047, 13.2183,   0.028
     32MW893_3,  P04E,   122,  1,     20,     20,2,19890410,0119,  9.4983,-160.3383, 4988,    196.7,  11.2183,  34.6500,2,  34.6466,2,   -999.0,5,     21.7,2,    28.67,2,    32.74,2,     0.00,2,     2.51,2,    0.182,2,    0.102,2,    0.822,2,   1.9710,2,     7.79,2,   8.016,2,   -999,  0.0090,   0.150,   0.048, 11.1938,   0.058
     32MW893_3,  P04E,   122,  1,     19,     19,2,19890410,0119,  9.4983,-160.3383, 4988,    246.9,  10.4135,  34.7013,2,  34.6973,2,   -999.0,5,     22.6,2,    31.15,2,    34.80,2,     0.00,2,     2.53,2,    0.063,2,    0.046,2,    0.287,2,   1.9900,2,     5.48,2,   8.096,2,   -999,  0.0090,   0.150,   0.049, 10.3841,   0.006
     32MW893_3,  P04E,   122,  1,     18,     18,2,19890410,0119,  9.4983,-160.3383, 4988,    296.9,  10.0087,  34.6884,2,  34.6869,2,   -999.0,5,     20.9,2,    32.84,2,    35.58,2,     0.00,2,     2.59,2,    0.039,2,    0.027,2,    0.164,2,   1.9940,2,     5.59,2,   8.138,2,   -999,  0.0090,   0.150,   0.049,  9.9742,   0.004
     32MW893_3,  P04E,   122,  1,     17,     17,2,19890410,0119,  9.4983,-160.3383, 4988,    398.1,   9.0920,  34.6467,2,  34.6433,2,   -999.0,5,     15.2,2,    39.09,2,    37.14,2,     0.00,2,     2.78,2,    0.013,2, -999.000,5,    0.053,2,   1.9960,2,     5.56,2,   8.158,2,   -999,  0.0090,   0.150,   0.049,  9.0482,   0.004
     32MW893_3,  P04E,   122,  1,     16,     16,2,19890410,0119,  9.4983,-160.3383, 4988,    498.2,   8.0964,  34.6030,2,  34.5962,2,   -999.0,5,     16.9,2,    47.72,2,    38.22,2,     0.00,2,     2.95,2,    0.004,2, -999.000,5,    0.014,2,   2.0110,2,     7.08,2,   8.239,2,   -999,  0.0090,   0.150,   0.049,  8.0449,   0.004
     32MW893_3,  P04E,   122,  1,     15,     15,2,19890410,0119,  9.4983,-160.3383, 4988,    596.5,   6.9867,  34.5332,2,-999.0000,5,   -999.0,5,     33.0,2,    58.14,2,    39.29,2,     0.00,2,     2.97,2,    0.003,2,   -0.004,2,    0.015,2,   2.0000,2,     9.21,2,   8.258,2,   -999,  0.0090,   0.150,   0.050,  6.9296,   0.002
     32MW893_3,  P04E,   122,  1,     14,     14,2,19890410,0119,  9.4983,-160.3383, 4988,    797.9,   5.5973,  34.5400,2,-999.0000,5,   -999.0,5,     34.8,2,    76.50,2,    42.42,2,     0.00,2,     3.15,2,    0.006,2, -999.000,5,    0.003,2,   2.0240,2,    12.92,2,   8.348,2,   -999,  0.0090,   0.150,   0.050,  5.5282,   0.002
     32MW893_3,  P04E,   122,  1,     13,     13,2,19890410,0119,  9.4983,-160.3383, 4988,    996.6,   4.4227,  34.5535,2,  34.5514,2,   -999.0,5,     52.6,2,    97.23,2,    42.23,2,     0.00,2,     3.12,2,    0.001,2, -999.000,5,    0.013,2,   2.0750,2,    17.31,2,   8.433,2,   -999,  0.0090,   0.150,   0.051,  4.3441,   0.004
     32MW893_3,  P04E,   122,  1,     12,     12,2,19890410,0119,  9.4983,-160.3383, 4988,   1247.9,   3.5401,  34.5797,2,  34.5808,2,   -999.0,5,     69.1,2,   115.09,2,    41.45,2,     0.00,2,     3.05,2,    0.001,2,   -0.005,2, -999.000,9,   2.1110,2,    20.36,2,   8.543,2,   -999,  0.0090,   0.150,   0.051,  3.4476,-999.000
     32MW893_3,  P04E,   122,  1,     11,     11,2,19890410,0119,  9.4983,-160.3383, 4988,   1498.0,   2.9123,  34.6028,2,  34.6028,2,   -999.0,5,     80.8,2,   129.48,2,    40.96,2,     0.00,2,     3.00,2,    0.003,2, -999.000,5, -999.000,9,   2.1220,2,    22.04,2,   8.556,2,   -999,  0.0100,   0.150,   0.051,  2.8055,-999.000
     32MW893_3,  P04E,   122,  1,     10,     10,2,19890410,0119,  9.4983,-160.3383, 4988,   2000.0,   2.1287,  34.6427,2,  34.6423,2,   -999.0,5,    104.7,2,   146.24,2,    39.49,2,     0.00,2,     2.85,2,    0.007,2,   -0.004,2, -999.000,9,   2.2150,2,    23.75,2,   8.932,2,   -999,  0.0100,   0.150,   0.054,  1.9902,-999.000
     32MW893_3,  P04E,   122,  1,      9,      9,2,19890410,0119,  9.4983,-160.3383, 4988,   2350.9,   1.9247,  34.6578,2,  34.6577,2,   -999.0,5,    112.1,2,   150.70,2,    38.80,2,     0.00,2,     2.81,2,    0.001,2,   -0.005,2, -999.000,9,   2.1260,2,    26.82,2,   8.640,2,   -999,  0.0100,   0.150,   0.052,  1.7592,-999.000
     32MW893_3,  P04E,   122,  1,      8,      8,2,19890410,0119,  9.4983,-160.3383, 4988,   2699.9,   1.7978,  34.6669,2,  34.6669,2,   -999.0,5,    119.9,2,   152.68,2,    38.12,2,     0.00,2,     2.76,2,   -0.002,2,   -0.005,2, -999.000,9,   2.0930,2,    26.70,2,   8.580,2,   -999,  0.0090,   0.150,   0.051,  1.6029,-999.000
     32MW893_3,  P04E,   122,  1,      7,      7,2,19890410,0119,  9.4983,-160.3383, 4988,   3001.6,   1.6748,  34.6753,2,  34.6740,2,   -999.0,5,    128.2,2,   153.88,2,    37.63,2,     0.00,2,     2.71,2,   -0.003,2,   -0.005,2, -999.000,9,   2.0950,2,    24.47,2,   8.316,2,   -999,  0.0090,   0.150,   0.050,  1.4541,-999.000
     32MW893_3,  P04E,   122,  1,      6,      6,2,19890410,0119,  9.4983,-160.3383, 4988,   3502.7,   1.5199,  34.6835,2,  34.6852,2,   -999.0,5,    146.4,2,   150.20,2,    36.26,2,     0.00,2,     2.64,2, -999.000,9, -999.000,9, -999.000,9,   2.1340,2,    18.74,2,   8.915,2,   -999,  0.0100,   0.150,   0.053,  1.2530,-999.000
     32MW893_3,  P04E,   122,  1,      5,      5,2,19890410,0119,  9.4983,-160.3383, 4988,   4004.0,   1.4170,  34.6914,2,  34.6903,2,   -999.0,5,    161.6,2,   143.05,2,    35.38,2,     0.00,2,     2.54,2,   -0.003,2, -999.000,5, -999.000,9,   2.1240,2,    15.94,2,   8.889,2,   -999,  0.0100,   0.150,   0.053,  1.0999,-999.000
     32MW893_3,  P04E,   122,  1,      4,      4,2,19890410,0119,  9.4983,-160.3383, 4988,   4356.0,   1.3490,  34.6948,2,  34.6958,2,   -999.0,5,    172.9,2,   136.81,2,    34.40,2,     0.00,2,     2.48,2,    0.007,2,    0.015,2, -999.000,9,   2.1180,2,    13.74,2,   8.888,2,   -999,  0.0100,   0.150,   0.053,  0.9950,-999.000
     32MW893_3,  P04E,   122,  1,      3,      3,2,19890410,0119,  9.4983,-160.3383, 4988,   4705.3,   1.3330,  34.6986,2,  34.6997,2,   -999.0,5,    179.0,2,   133.34,2,    34.11,2,     0.00,2,     2.46,2,    0.001,2,    0.010,2, -999.000,9,   2.1010,2,    13.19,2,   8.617,2,   -999,  0.0090,   0.150,   0.052,  0.9394,-999.000
     32MW893_3,  P04E,   122,  1,      2,      2,2,19890410,0119,  9.4983,-160.3383, 4988,   4976.2,   1.3450,  34.6987,2,  34.7005,2,   -999.0,5,    182.5,2,   131.65,2,    33.92,2,     0.00,2,     2.44,2,    0.004,2, -999.000,5, -999.000,9,   2.1140,2,    12.62,2,   8.602,2,   -999,  0.0100,   0.150,   0.052,  0.9188,-999.000
     32MW893_3,  P04E,   122,  1,      1,      1,2,19890410,0119,  9.4983,-160.3383, 4988,   4977.7,   1.3440,  34.6991,2,-999.0000,5,   -999.0,5,    183.4,2,   131.65,2,    33.92,2,     0.00,2,     2.44,2,    0.004,2, -999.000,5, -999.000,9,   2.1020,2,    12.50,2,   8.178,2,   -999,  0.0090,   0.150,   0.049,  0.9176,-999.000
     32MW893_3,  P04E,   123,  1,     24,     24,2,19890410,0958,  9.4967,-159.5150, 4301,      7.3,  26.6321,  34.6066,2,  34.6068,2,   -999.0,5,    213.4,2,     0.29,2,     0.00,2,     0.00,2,     0.23,2,    1.684,2,    0.905,2, -999.000,9,-999.0000,9,  -999.00,9,-999.000,9,   -999,-999.0000,-999.000,-999.000, 26.6304,-999.000
     32MW893_3,  P04E,   123,  1,     23,     23,2,19890410,0958,  9.4967,-159.5150, 4301,     47.2,  26.7251,  34.6990,2,  34.6958,2,   -999.0,5,    213.8,2,     0.50,2,     0.00,2,     0.00,2,     0.24,2,    1.669,2,    0.900,2, -999.000,9,-999.0000,9,  -999.00,9,-999.000,9,   -999,-999.0000,-999.000,-999.000, 26.7144,-999.000
     32MW893_3,  P04E,   123,  1,     22,     22,2,19890410,0958,  9.4967,-159.5150, 4301,     97.9,  20.8174,  34.9745,2,  34.9782,2,   -999.0,5,    213.3,2,     0.89,2,     0.10,2,     0.00,2,     0.29,2,    1.996,2,    1.063,2, -999.000,9,-999.0000,9,  -999.00,9,-999.000,9,   -999,-999.0000,-999.000,-999.000, 20.7988,-999.000
     32MW893_3,  P04E,   123,  1,     21,     21,2,19890410,0958,  9.4967,-159.5150, 4301,    147.3,  12.7347,  34.4732,2,  34.4393,2,   -999.0,5,    103.0,2,    17.17,2,    21.21,2,     0.00,2,     1.67,2,    1.159,2,    0.603,2, -999.000,9,-999.0000,9,  -999.00,9,-999.000,9,   -999,-999.0000,-999.000,-999.000, 12.7149,-999.000
     32MW893_3,  P04E,   123,  1,     20,     20,2,19890410,0958,  9.4967,-159.5150, 4301,    196.6,  11.1163,  34.7150,2,  34.7146,2,   -999.0,5,     16.5,2,    29.26,2,    34.11,2,     0.00,2,     2.52,2,    0.101,2,    0.053,2, -999.000,9,-999.0000,9,  -999.00,9,-999.000,9,   -999,-999.0000,-999.000,-999.000, 11.0920,-999.000
     32MW893_3,  P04E,   123,  1,     19,     19,2,19890410,0958,  9.4967,-159.5150, 4301,    248.4,  10.4535,  34.6985,2,  34.6956,2,   -999.0,5,     16.1,2,    32.04,2,    34.80,2,     0.00,2,     2.57,2, -999.000,9, -999.000,9, -999.000,9,-999.0000,9,  -999.00,9,-999.000,9,   -999,-999.0000,-999.000,-999.000, 10.4239,-999.000
     32MW893_3,  P04E,   123,  1,     18,     18,2,19890410,0958,  9.4967,-159.5150, 4301,    298.8,   9.9227,  34.6839,2,  34.6822,2,   -999.0,5,     17.8,2,    33.93,2,    36.36,2,     0.00,2,     2.62,2,    0.040,2, -999.000,5, -999.000,9,-999.0000,9,  -999.00,9,-999.000,9,   -999,-999.0000,-999.000,-999.000,  9.8881,-999.000
     32MW893_3,  P04E,   123,  1,     17,     17,2,19890410,0958,  9.4967,-159.5150, 4301,    397.3,   9.2450,  34.6522,2,  34.6490,2,   -999.0,5,     19.1,2,    37.99,2,    36.95,2,     0.00,2,     2.73,2,    0.018,2,    0.018,2, -999.000,9,-999.0000,9,  -999.00,9,-999.000,9,   -999,-999.0000,-999.000,-999.000,  9.2008,-999.000
     32MW893_3,  P04E,   123,  1,     16,     16,2,19890410,0958,  9.4967,-159.5150, 4301,    496.3,   7.8984,  34.5838,2,  34.5836,2,   -999.0,5,     25.2,2,    50.50,2,    38.51,2,     0.00,2,     2.97,2,    0.010,2, -999.000,5, -999.000,9,-999.0000,9,  -999.00,9,-999.000,9,   -999,-999.0000,-999.000,-999.000,  7.8479,-999.000
     32MW893_3,  P04E,   123,  1,     15,     15,2,19890410,0958,  9.4967,-159.5150, 4301,    595.2,   6.8937,  34.5452,2,-999.0000,5,   -999.0,5,     28.7,2,    60.53,2,    40.08,2,     0.00,2,     3.02,2, -999.000,9, -999.000,9, -999.000,9,-999.0000,9,  -999.00,9,-999.000,9,   -999,-999.0000,-999.000,-999.000,  6.8373,-999.000
     32MW893_3,  P04E,   123,  1,     14,     14,2,19890410,0958,  9.4967,-159.5150, 4301,    796.9,   5.5093,  34.5414,2,  34.5416,2,   -999.0,5,     43.5,2,    77.89,2,    42.33,2,     0.01,2,     3.15,2,    0.003,2, -999.000,5, -999.000,9,-999.0000,9,  -999.00,9,-999.000,9,   -999,-999.0000,-999.000,-999.000,  5.4409,-999.000
     32MW893_3,  P04E,   123,  1,     13,     13,2,19890410,0958,  9.4967,-159.5150, 4301,    999.2,   4.6836,  34.5589,2,  34.5567,2,   -999.0,5,     42.2,2,    91.57,2,    43.30,2,     0.01,2,     3.20,2,    0.008,2,    0.014,2, -999.000,9,-999.0000,9,  -999.00,9,-999.000,9,   -999,-999.0000,-999.000,-999.000,  4.6027,-999.000
     32MW893_3,  P04E,   123,  1,     12,     12,2,19890410,0958,  9.4967,-159.5150, 4301,   1247.9,   3.6950,  34.5827,2,  34.5802,2,   -999.0,5,     61.7,2,   112.41,2,    42.23,2,     0.01,2,     3.11,2,    0.005,2,    0.012,2, -999.000,9,-999.0000,9,  -999.00,9,-999.000,9,   -999,-999.0000,-999.000,-999.000,  3.6010,-999.000
     32MW893_3,  P04E,   123,  1,     11,     11,2,19890410,0958,  9.4967,-159.5150, 4301,   1498.6,   3.0593,  34.6030,2,  34.6013,2,   -999.0,5,     76.0,2,   126.59,2,    41.05,2,     0.01,2,     3.03,2,    0.001,2, -999.000,5, -999.000,9,-999.0000,9,  -999.00,9,-999.000,9,   -999,-999.0000,-999.000,-999.000,  2.9508,-999.000
     32MW893_3,  P04E,   123,  1,     10,     10,2,19890410,0958,  9.4967,-159.5150, 4301,   1999.8,   2.2066,  34.6410,2,  34.6406,2,   -999.0,5,    103.4,2,   145.54,2,    39.88,2,     0.01,2,     2.88,2,    0.006,2,   -0.004,2, -999.000,9,-999.0000,9,  -999.00,9,-999.000,9,   -999,-999.0000,-999.000,-999.000,  2.0670,-999.000
     32MW893_3,  P04E,   123,  1,      9,      9,2,19890410,0958,  9.4967,-159.5150, 4301,   2248.4,   1.9847,  34.6550,2,  34.6523,2,   -999.0,5,    109.1,2,   150.20,2,    39.00,2,     0.01,2,     2.82,2, -999.000,9, -999.000,9, -999.000,9,-999.0000,9,  -999.00,9,-999.000,9,   -999,-999.0000,-999.000,-999.000,  1.8272,-999.000
     32MW893_3,  P04E,   123,  1,      8,      8,2,19890410,0958,  9.4967,-159.5150, 4301,   2501.4,   1.8767,  34.6623,2,  34.6606,2,   -999.0,5,    115.6,2,   152.19,2,    38.80,2,     0.01,2,     2.79,2,    0.001,2,   -0.005,2, -999.000,9,-999.0000,9,  -999.00,9,-999.000,9,   -999,-999.0000,-999.000,-999.000,  1.6986,-999.000
     32MW893_3,  P04E,   123,  1,      7,      7,2,19890410,0958,  9.4967,-159.5150, 4301,   2752.1,   1.7978,  34.6689,2,  34.6687,2,   -999.0,5,    118.2,2,   153.97,2,    38.61,2,     0.01,2,     2.78,2,    0.002,2,   -0.005,2, -999.000,9,-999.0000,9,  -999.00,9,-999.000,9,   -999,-999.0000,-999.000,-999.000,  1.5981,-999.000
     32MW893_3,  P04E,   123,  1,      6,      6,2,19890410,0958,  9.4967,-159.5150, 4301,   3002.9,   1.7278,  34.6717,2,  34.6720,2,   -999.0,5,    126.9,2,   155.17,2,    38.12,2,     0.01,2,     2.76,2,    0.000,2,   -0.004,2, -999.000,9,-999.0000,9,  -999.00,9,-999.000,9,   -999,-999.0000,-999.000,-999.000,  1.5057,-999.000
     32MW893_3,  P04E,   123,  1,      5,      5,2,19890410,0958,  9.4967,-159.5150, 4301,   3353.6,   1.5718,  34.6804,2,  34.6793,2,   -999.0,5,    138.2,2,   153.28,2,    37.44,2,     0.01,2,     2.66,2,   -0.002,2,   -0.005,2, -999.000,9,-999.0000,9,  -999.00,9,-999.000,9,   -999,-999.0000,-999.000,-999.000,  1.3188,-999.000
     32MW893_3,  P04E,   123,  1,      4,      4,2,19890410,0958,  9.4967,-159.5150, 4301,   3703.6,   1.4889,  34.6857,2,  34.6856,2,   -999.0,5,    149.9,2,   149.21,2,    36.46,2,     0.01,2,     2.60,2,    0.004,2,   -0.005,2, -999.000,9,-999.0000,9,  -999.00,9,-999.000,9,   -999,-999.0000,-999.000,-999.000,  1.2020,-999.000
     32MW893_3,  P04E,   123,  1,      3,      3,2,19890410,0958,  9.4967,-159.5150, 4301,   4009.1,   1.4040,  34.6914,2,  34.6913,2,   -999.0,5,    162.9,2,   142.86,2,    35.58,2,     0.01,2,     2.52,2,   -0.003,2,   -0.005,2, -999.000,9,-999.0000,9,  -999.00,9,-999.000,9,   -999,-999.0000,-999.000,-999.000,  1.0867,-999.000
     32MW893_3,  P04E,   123,  1,      2,      2,2,19890410,0958,  9.4967,-159.5150, 4301,   4242.3,   1.3760,  34.6931,2,  34.6916,2,   -999.0,5,   -999.0,5,   139.39,2,    34.96,2,     0.01,2,     2.50,2,   -0.001,2,   -0.004,2, -999.000,9,-999.0000,9,  -999.00,9,-999.000,9,   -999,-999.0000,-999.000,-999.000,  1.0340,-999.000