BOTTLE,20020418WHPSIOdm
EXPOCODE,SECT_ID,STNNBR,CASTNO,SAMPNO,BTLNBR,BTLNBR_FLAG_W,DATE,TIME,LATITUDE,LONGITUDE,DEPTH,CTDPRS,CTDTMP,CTDSAL,CTDSAL_FLAG_W,SALNTY,SALNTY_FLAG_W,CTDOXY,CTDOXY_FLAG_W,OXYGEN,OXYGEN_FLAG_W,SILCAT,SILCAT_FLAG_W,NITRAT,NITRAT_FLAG_W,NITRIT,NITRIT_FLAG_W,PHSPHT,PHSPHT_FLAG_W,CFC-11,CFC-11_FLAG_W,CFC-12,CFC-12_FLAG_W,TRITUM,TRITUM_FLAG_W,HELIUM,HELIUM_FLAG_W,DELHE3,DELHE3_FLAG_W,NEON,NEON_FLAG_W,CTDRAW,HELIER,DELHER,NEONER,THETA,TRITER
,,,,,,,,,,,,DBAR,ITS-90,PSS-78,,PSS-78,,UMOL/KG,,UMOL/KG,,UMOL/KG,,UMOL/KG,,UMOL/KG,,UMOL/KG,,PMOL/KG,,PMOL/KG,,TU,,NMOL/KG,,PERCNT,,NMOL/KG,,,NMOL/KG,PERCNT,NMOL/KG,ITS-90,TU
     32MW893_3,  P04E,   204,  1,     24,     24,2,19890507,0740,  9.5000, -93.1667, 3849,      0.7,  28.3600,  33.6953,2,  33.6975,2,   -999.0,5,    206.1,2,     1.67,2,     0.68,2,     0.01,2,     0.31,2,    1.486,2,    0.805,2,    1.328,2,   1.8610,2,    -0.54,2,   6.807,2,   -999,  0.0080,   0.150,   0.041, 28.3598,   0.022
     32MW893_3,  P04E,   204,  1,     23,     23,2,19890507,0740,  9.5000, -93.1667, 3849,     49.6,  14.2214,  34.7846,2,  34.7874,2,   -999.0,5,     34.3,2,    21.07,2,    29.42,2,     0.19,2,     2.08,2,    0.519,2,    0.277,2,    1.070,2,   1.7740,2,     7.78,2,   7.040,2,   -999,  0.0080,   0.150,   0.042, 14.2142,   0.021
     32MW893_3,  P04E,   204,  1,     22,     22,2,19890507,0740,  9.5000, -93.1667, 3849,     74.6,  13.4297,  34.8527,2,  34.8407,2,   -999.0,5,     57.8,2,    21.07,2,    27.66,2,     0.03,2,     1.94,2,    0.507,2,    0.267,2,    0.875,2,   1.9400,2,     6.51,2,   7.817,2,   -999,  0.0090,   0.150,   0.047, 13.4193,   0.015
     32MW893_3,  P04E,   204,  1,     21,     21,2,19890507,0740,  9.5000, -93.1667, 3849,     95.4,  13.2837,  34.8783,2,  34.8806,2,   -999.0,5,     51.3,2,    21.27,2,    28.34,2,    -0.01,2,     1.94,2,    0.450,2,    0.251,2,    0.769,2,-999.0000,9,  -999.00,9,-999.000,9,   -999,-999.0000,-999.000,-999.000, 13.2704,   0.021
     32MW893_3,  P04E,   204,  1,     20,     20,2,19890507,0740,  9.5000, -93.1667, 3849,    116.1,  13.0109,  34.8629,2,  34.8593,2,   -999.0,5,     51.3,2,    21.96,2,    28.54,2,     0.00,2,     1.98,2,    0.417,2,    0.236,2,    0.721,2,   1.9660,2,     6.25,2,   8.083,2,   -999,  0.0090,   0.150,   0.048, 12.9950,   0.009
     32MW893_3,  P04E,   204,  1,     19,     19,2,19890507,0740,  9.5000, -93.1667, 3849,    148.5,  12.5300,  34.8681,2,  34.8454,2,   -999.0,5,     18.7,2,    24.52,2,    32.35,2,     0.00,2,     2.23,2,    0.251,2,    0.161,2,    0.569,2,   1.9460,2,     6.49,2,   7.823,2,   -999,  0.0090,   0.150,   0.047, 12.5101,   0.008
     32MW893_3,  P04E,   204,  1,     18,     18,2,19890507,0740,  9.5000, -93.1667, 3849,    174.1,  12.1102,  34.7944,2,  34.7931,2,   -999.0,5,     49.1,2,    24.91,2,    29.91,2,     0.00,2,     2.07,2,    0.319,2,    0.186,2,    0.633,2,   1.9550,2,     6.46,2,   8.118,2,   -999,  0.0090,   0.150,   0.049, 12.0874,   0.009
     32MW893_3,  P04E,   204,  1,     17,     17,2,19890507,0740,  9.5000, -93.1667, 3849,    197.1,  12.0542,  34.8085,2,  34.8066,2,   -999.0,5,     19.6,2,    26.58,2,    32.64,2,     0.00,2,     2.29,2,    0.218,2,    0.123,2,    0.519,2,   1.6990,2,     6.60,2,   6.776,2,   -999,  0.0080,   0.150,   0.041, 12.0285,   0.009
     32MW893_3,  P04E,   204,  1,     16,     16,2,19890507,0740,  9.5000, -93.1667, 3849,    246.3,  11.5044,  34.7707,2,  34.7797,2,   -999.0,5,     14.8,2,    28.36,2,    33.72,2,     0.00,2,     2.37,2,    0.161,2, -999.000,5,    0.419,2,   1.9240,2,     6.75,2,   7.811,2,   -999,  0.0090,   0.150,   0.047, 11.4731,   0.008
     32MW893_3,  P04E,   204,  1,     15,     15,2,19890507,0740,  9.5000, -93.1667, 3849,    295.0,  11.1036,  34.7635,2,  34.7606,2,   -999.0,5,      6.1,2,    31.12,2,    34.60,2,     0.00,2,     2.48,2,    0.106,2,    0.069,2,    0.251,2,   1.9400,2,     5.99,2,   8.010,2,   -999,  0.0090,   0.150,   0.048, 11.0669,   0.008
     32MW893_3,  P04E,   204,  1,     14,     14,2,19890507,0740,  9.5000, -93.1667, 3849,    395.0,   9.9452,  34.6980,2,  34.6971,2,   -999.0,5,      3.9,2,    38.80,2,    33.23,2,     0.02,2,     2.72,2,    0.029,2, -999.000,5,    0.099,2,   1.9590,2,     5.37,2,   7.900,2,   -999,  0.0090,   0.150,   0.047,  9.8992,   0.005
     32MW893_3,  P04E,   204,  1,     13,     13,2,19890507,0740,  9.5000, -93.1667, 3849,    493.0,   8.1701,  34.6112,2,  34.6150,2,   -999.0,5,      2.2,2,    55.15,2,    33.23,2,     0.76,2,     3.04,2,    0.002,2,    0.009,2,    0.011,2,   2.0010,2,     7.28,2,   8.309,2,   -999,  0.0090,   0.150,   0.050,  8.1190,   0.005
     32MW893_3,  P04E,   204,  1,     12,     12,2,19890507,0740,  9.5000, -93.1667, 3849,    619.5,   6.8109,  34.5867,2,  34.5877,2,   -999.0,5,      2.6,2,    66.08,2,    40.96,2,     0.00,2,     3.18,2,    0.003,2,    0.006,2, -999.000,9,-999.0000,9,  -999.00,9,-999.000,9,   -999,-999.0000,-999.000,-999.000,  6.7524,-999.000
     32MW893_3,  P04E,   204,  1,     11,     11,2,19890507,0740,  9.5000, -93.1667, 3849,    793.6,   5.6656,  34.5760,2,  34.5671,2,   -999.0,5,     11.7,2,    78.79,2,    44.28,2,     0.00,2,     3.24,2, -999.000,9, -999.000,9, -999.000,9,-999.0000,9,  -999.00,9,-999.000,9,   -999,-999.0000,-999.000,-999.000,  5.5966,-999.000
     32MW893_3,  P04E,   204,  1,     10,     10,2,19890507,0740,  9.5000, -93.1667, 3849,    992.3,   4.6813,  34.5663,2,  34.5653,2,   -999.0,5,     27.4,2,    95.03,2,    44.48,2,     0.00,2,     3.26,2, -999.000,9, -999.000,9, -999.000,9,-999.0000,9,  -999.00,9,-999.000,9,   -999,-999.0000,-999.000,-999.000,  4.6010,-999.000
     32MW893_3,  P04E,   204,  1,      9,      9,2,19890507,0740,  9.5000, -93.1667, 3849,   1190.9,   3.9568,  34.5816,2,  34.5783,2,   -999.0,5,     33.9,2,   110.30,2,    44.38,2,     0.00,2,     3.24,2, -999.000,9, -999.000,9, -999.000,9,-999.0000,9,  -999.00,9,-999.000,9,   -999,-999.0000,-999.000,-999.000,  3.8652,-999.000
     32MW893_3,  P04E,   204,  1,      8,      8,2,19890507,0740,  9.5000, -93.1667, 3849,   1390.7,   3.3882,  34.5991,2,  34.5950,2,   -999.0,5,     51.7,2,   122.81,2,    43.40,2,     0.00,2,     3.15,2, -999.000,9, -999.000,9, -999.000,9,-999.0000,9,  -999.00,9,-999.000,9,   -999,-999.0000,-999.000,-999.000,  3.2852,-999.000
     32MW893_3,  P04E,   204,  1,      7,      7,2,19890507,0740,  9.5000, -93.1667, 3849,   1788.3,   2.5608,  34.6315,2,  34.6297,2,   -999.0,5,     78.2,2,   141.42,2,    41.25,2,     0.00,2,     2.94,2, -999.000,9, -999.000,9, -999.000,9,-999.0000,9,  -999.00,9,-999.000,9,   -999,-999.0000,-999.000,-999.000,  2.4341,-999.000
     32MW893_3,  P04E,   204,  1,      6,      6,2,19890507,0740,  9.5000, -93.1667, 3849,   2187.8,   2.0831,  34.6555,2,  34.6535,2,   -999.0,5,     97.3,2,   151.95,2,    39.68,2,     0.01,2,     2.82,2, -999.000,9, -999.000,9, -999.000,9,-999.0000,9,  -999.00,9,-999.000,9,   -999,-999.0000,-999.000,-999.000,  1.9292,-999.000
     32MW893_3,  P04E,   204,  1,      5,      5,2,19890507,0740,  9.5000, -93.1667, 3849,   2588.2,   1.8353,  34.6683,2,  34.6667,2,   -999.0,5,    112.1,2,   156.09,2,    38.61,2,     0.01,2,     2.73,2, -999.000,9, -999.000,9, -999.000,9,-999.0000,9,  -999.00,9,-999.000,9,   -999,-999.0000,-999.000,-999.000,  1.6500,-999.000
     32MW893_3,  P04E,   204,  1,      3,      3,2,19890507,0740,  9.5000, -93.1667, 3849,   2986.8,   1.8244,  34.6715,2,  34.6694,2,   -999.0,5,    116.0,2,   156.57,2,    38.41,2,     0.01,2,     2.72,2,    0.000,2,   -0.005,2, -999.000,9,-999.0000,9,  -999.00,9,-999.000,9,   -999,-999.0000,-999.000,-999.000,  1.6017,-999.000
     32MW893_3,  P04E,   204,  1,      4,      4,2,19890507,0740,  9.5000, -93.1667, 3849,   2989.0,   1.8244,  34.6717,2,  34.6714,2,   -999.0,5,    116.9,2,   156.28,2,    38.41,2,     0.01,2,     2.73,2,    0.000,2,   -0.004,2, -999.000,9,-999.0000,9,  -999.00,9,-999.000,9,   -999,-999.0000,-999.000,-999.000,  1.6015,-999.000
     32MW893_3,  P04E,   204,  1,      2,      2,2,19890507,0740,  9.5000, -93.1667, 3849,   3385.1,   1.8463,  34.6723,2,  34.6696,2,   -999.0,5,    119.1,2,   155.00,2,    38.22,2,     0.01,2,     2.70,2, -999.000,9, -999.000,9, -999.000,9,-999.0000,9,  -999.00,9,-999.000,9,   -999,-999.0000,-999.000,-999.000,  1.5834,-999.000
     32MW893_3,  P04E,   204,  1,      1,      1,2,19890507,0740,  9.5000, -93.1667, 3849,   3896.0,   1.8902,  34.6719,2,  34.6700,2,   -999.0,5,    119.9,2,   154.51,2,    37.89,2,     0.01,2,     2.70,2,    0.001,2,   -0.001,2, -999.000,9,-999.0000,9,  -999.00,9,-999.000,9,   -999,-999.0000,-999.000,-999.000,  1.5719,-999.000
     32MW893_3,  P04E,   205,  1,     24,     24,2,19890507,1504,  9.4933, -92.3317, 3662,      9.1,  28.1749,  34.4731,2,  34.4876,2,   -999.0,5,    219.9,2,     1.09,2,     0.20,2,     0.01,2,     0.25,2,    1.631,2,    0.879,2, -999.000,9,-999.0000,9,  -999.00,9,-999.000,9,   -999,-999.0000,-999.000,-999.000, 28.1727,-999.000
     32MW893_3,  P04E,   205,  1,     23,     23,2,19890507,1504,  9.4933, -92.3317, 3662,     49.6,  15.9989,  34.9392,2,  34.8635,2,   -999.0,5,     53.4,2,    14.96,2,    26.39,2,     0.59,2,     1.90,2,    0.752,2,    0.407,2, -999.000,9,-999.0000,9,  -999.00,9,-999.000,9,   -999,-999.0000,-999.000,-999.000, 15.9911,-999.000
     32MW893_3,  P04E,   205,  1,     22,     22,2,19890507,1504,  9.4933, -92.3317, 3662,     73.4,  14.4433,  34.9057,2,  34.9178,2,   -999.0,5,     15.2,2,    19.20,2,    31.37,2,     0.08,2,     2.12,2,    0.475,2,    0.274,2, -999.000,9,-999.0000,9,  -999.00,9,-999.000,9,   -999,-999.0000,-999.000,-999.000, 14.4325,-999.000
     32MW893_3,  P04E,   205,  1,     21,     21,2,19890507,1504,  9.4933, -92.3317, 3662,     97.3,  13.9035,  34.9264,2,  34.9201,2,   -999.0,5,     33.5,2,    19.20,2,    29.71,2,     0.02,2,     2.01,2,    0.469,2,    0.260,2, -999.000,9,-999.0000,9,  -999.00,9,-999.000,9,   -999,-999.0000,-999.000,-999.000, 13.8896,-999.000
     32MW893_3,  P04E,   205,  1,     20,     20,2,19890507,1504,  9.4933, -92.3317, 3662,    122.9,  13.5237,  34.8992,2,  34.9001,2,   -999.0,5,     39.1,2,    20.58,2,    29.51,2,     0.02,2,     2.01,2,    0.418,2,    0.237,2, -999.000,9,-999.0000,9,  -999.00,9,-999.000,9,   -999,-999.0000,-999.000,-999.000, 13.5064,-999.000
     32MW893_3,  P04E,   205,  1,     19,     19,2,19890507,1504,  9.4933, -92.3317, 3662,    147.8,  13.2967,  34.8964,2,  34.8934,2,   -999.0,5,     33.9,2,    21.17,2,    30.20,2,     0.02,2,     2.06,2,    0.365,2,    0.208,2, -999.000,9,-999.0000,9,  -999.00,9,-999.000,9,   -999,-999.0000,-999.000,-999.000, 13.2761,-999.000
     32MW893_3,  P04E,   205,  1,     18,     18,2,19890507,1504,  9.4933, -92.3317, 3662,    172.3,  13.0299,  34.8665,2,  34.8717,2,   -999.0,5,     15.6,2,    23.24,2,    32.15,2,     0.02,2,     2.20,2,    0.285,2, -999.000,5, -999.000,9,-999.0000,9,  -999.00,9,-999.000,9,   -999,-999.0000,-999.000,-999.000, 13.0062,-999.000
     32MW893_3,  P04E,   205,  1,     17,     17,2,19890507,1504,  9.4933, -92.3317, 3662,    197.5,  12.7499,  34.8483,2,  34.8456,2,   -999.0,5,     30.8,2,    23.53,2,    31.08,2,     0.02,2,     2.12,2,    0.308,2,    0.175,2, -999.000,9,-999.0000,9,  -999.00,9,-999.000,9,   -999,-999.0000,-999.000,-999.000, 12.7231,-999.000
     32MW893_3,  P04E,   205,  1,     16,     16,2,19890507,1504,  9.4933, -92.3317, 3662,    248.2,  12.0162,  34.8170,2,  34.8143,2,   -999.0,5,     16.1,2,    26.68,2,    33.13,2,     0.01,2,     2.29,2,    0.205,2,    0.120,2, -999.000,9,-999.0000,9,  -999.00,9,-999.000,9,   -999,-999.0000,-999.000,-999.000, 11.9838,-999.000
     32MW893_3,  P04E,   205,  1,     15,     15,2,19890507,1504,  9.4933, -92.3317, 3662,    297.2,  11.4095,  34.7746,2,  34.7713,2,   -999.0,5,      7.4,2,    29.44,2,    34.31,2,     0.02,2,     2.41,2,    0.132,2, -999.000,5, -999.000,9,-999.0000,9,  -999.00,9,-999.000,9,   -999,-999.0000,-999.000,-999.000, 11.3719,-999.000
     32MW893_3,  P04E,   205,  1,     14,     14,2,19890507,1504,  9.4933, -92.3317, 3662,    396.6,   9.8712,  34.7059,2,  34.7023,2,   -999.0,5,      3.5,2,    40.47,2,    33.43,2,     0.07,2,     2.73,2,    0.036,2, -999.000,5, -999.000,9,-999.0000,9,  -999.00,9,-999.000,9,   -999,-999.0000,-999.000,-999.000,  9.8252,-999.000
     32MW893_3,  P04E,   205,  1,     13,     13,2,19890507,1504,  9.4933, -92.3317, 3662,    497.0,   8.1531,  34.6218,2,  34.6223,2,   -999.0,5,      1.7,2,    54.06,2,    34.02,2,     0.47,2,     3.01,2,    0.005,2,    0.014,2, -999.000,9,-999.0000,9,  -999.00,9,-999.000,9,   -999,-999.0000,-999.000,-999.000,  8.1016,-999.000
     32MW893_3,  P04E,   205,  1,     12,     12,2,19890507,1504,  9.4933, -92.3317, 3662,    595.6,   7.0737,  34.5863,2,  34.5850,2,   -999.0,5,      3.0,2,    63.61,2,    39.20,2,     0.00,2,     3.15,2,    0.006,2, -999.000,5, -999.000,9,-999.0000,9,  -999.00,9,-999.000,9,   -999,-999.0000,-999.000,-999.000,  7.0163,-999.000
     32MW893_3,  P04E,   205,  1,     11,     11,2,19890507,1504,  9.4933, -92.3317, 3662,    693.7,   6.1773,  34.5615,2,  34.5706,2,   -999.0,5,      6.1,2,    71.99,2,    43.40,2,     0.00,2,     3.20,2, -999.000,9, -999.000,9, -999.000,9,-999.0000,9,  -999.00,9,-999.000,9,   -999,-999.0000,-999.000,-999.000,  6.1147,-999.000
     32MW893_3,  P04E,   205,  1,     10,     10,2,19890507,1504,  9.4933, -92.3317, 3662,    843.7,   5.3548,  34.5636,2,  34.5645,2,   -999.0,5,     16.5,2,    83.02,2,    44.67,2,     0.00,2,     3.23,2, -999.000,9, -999.000,9, -999.000,9,-999.0000,9,  -999.00,9,-999.000,9,   -999,-999.0000,-999.000,-999.000,  5.2831,-999.000
     32MW893_3,  P04E,   205,  1,      9,      9,2,19890507,1504,  9.4933, -92.3317, 3662,    993.3,   4.7622,  34.5655,2,  34.5639,2,   -999.0,5,     24.3,2,    93.36,2,    44.67,2,     0.00,2,     3.23,2, -999.000,9, -999.000,9, -999.000,9,-999.0000,9,  -999.00,9,-999.000,9,   -999,-999.0000,-999.000,-999.000,  4.6812,-999.000
     32MW893_3,  P04E,   205,  1,      8,      8,2,19890507,1504,  9.4933, -92.3317, 3662,   1390.3,   3.4261,  34.5988,2,  34.5946,2,   -999.0,5,     40.8,2,   123.10,2,    44.28,2,     0.00,2,     3.19,2, -999.000,9, -999.000,9, -999.000,9,-999.0000,9,  -999.00,9,-999.000,9,   -999,-999.0000,-999.000,-999.000,  3.3227,-999.000
     32MW893_3,  P04E,   205,  1,      7,      7,2,19890507,1504,  9.4933, -92.3317, 3662,   1791.2,   2.6157,  34.6276,2,  34.6258,2,   -999.0,5,     76.9,2,   139.25,2,    41.44,2,     0.00,2,     2.93,2, -999.000,9, -999.000,9, -999.000,9,-999.0000,9,  -999.00,9,-999.000,9,   -999,-999.0000,-999.000,-999.000,  2.4880,-999.000
     32MW893_3,  P04E,   205,  1,      6,      6,2,19890507,1504,  9.4933, -92.3317, 3662,   2190.0,   2.0821,  34.6543,2,  34.6531,2,   -999.0,5,     96.9,2,   151.55,2,    39.78,2,     0.00,2,     2.79,2, -999.000,9, -999.000,9, -999.000,9,-999.0000,9,  -999.00,9,-999.000,9,   -999,-999.0000,-999.000,-999.000,  1.9280,-999.000
     32MW893_3,  P04E,   205,  1,      5,      5,2,19890507,1504,  9.4933, -92.3317, 3662,   2588.3,   1.8423,  34.6682,2,-999.0000,5,   -999.0,5,    110.8,2,   156.87,2,    38.90,2,    -0.01,2,     2.72,2, -999.000,9, -999.000,9, -999.000,9,-999.0000,9,  -999.00,9,-999.000,9,   -999,-999.0000,-999.000,-999.000,  1.6569,-999.000
     32MW893_3,  P04E,   205,  1,      3,      3,2,19890507,1504,  9.4933, -92.3317, 3662,   2990.1,   1.8254,  34.6714,2,  34.6700,2,   -999.0,5,    114.7,2,   156.87,2,    38.51,2,    -0.01,2,     2.71,2,   -0.001,2,   -0.005,2, -999.000,9,-999.0000,9,  -999.00,9,-999.000,9,   -999,-999.0000,-999.000,-999.000,  1.6024,-999.000
     32MW893_3,  P04E,   205,  1,      2,      2,2,19890507,1504,  9.4933, -92.3317, 3662,   3490.2,   1.8543,  34.6725,2,  34.6712,2,   -999.0,5,    118.2,2,   154.61,2,    38.41,2,    -0.01,2,     2.68,2,    0.004,2, -999.000,5, -999.000,9,-999.0000,9,  -999.00,9,-999.000,9,   -999,-999.0000,-999.000,-999.000,  1.5803,-999.000
     32MW893_3,  P04E,   205,  1,      1,      1,2,19890507,1504,  9.4933, -92.3317, 3662,   3717.6,   1.8733,  34.6721,2,  34.6708,2,   -999.0,5,    118.6,2,   155.49,2,    38.54,2,    -0.01,2,     2.68,2,    0.001,2,   -0.001,2, -999.000,9,-999.0000,9,  -999.00,9,-999.000,9,   -999,-999.0000,-999.000,-999.000,  1.5747,-999.000