BOTTLE,20020418WHPSIOdm
EXPOCODE,SECT_ID,STNNBR,CASTNO,SAMPNO,BTLNBR,BTLNBR_FLAG_W,DATE,TIME,LATITUDE,LONGITUDE,DEPTH,CTDPRS,CTDTMP,CTDSAL,CTDSAL_FLAG_W,SALNTY,SALNTY_FLAG_W,CTDOXY,CTDOXY_FLAG_W,OXYGEN,OXYGEN_FLAG_W,SILCAT,SILCAT_FLAG_W,NITRAT,NITRAT_FLAG_W,NITRIT,NITRIT_FLAG_W,PHSPHT,PHSPHT_FLAG_W,CFC-11,CFC-11_FLAG_W,CFC-12,CFC-12_FLAG_W,TRITUM,TRITUM_FLAG_W,HELIUM,HELIUM_FLAG_W,DELHE3,DELHE3_FLAG_W,NEON,NEON_FLAG_W,CTDRAW,HELIER,DELHER,NEONER,THETA,TRITER
,,,,,,,,,,,,DBAR,ITS-90,PSS-78,,PSS-78,,UMOL/KG,,UMOL/KG,,UMOL/KG,,UMOL/KG,,UMOL/KG,,UMOL/KG,,PMOL/KG,,PMOL/KG,,TU,,NMOL/KG,,PERCNT,,NMOL/KG,,,NMOL/KG,PERCNT,NMOL/KG,ITS-90,TU
     32MW893_3,  P04E,   178,  1,     24,     24,2,19890429,2318,  9.4983,-113.6683, 3163,      6.5,  27.7248,  34.4064,2,  34.4051,2,   -999.0,5,    219.5,2,     1.09,2,     0.10,2,     0.01,2,     0.23,2,    1.622,2,    0.925,2, -999.000,9,-999.0000,9,  -999.00,9,-999.000,9,   -999,-999.0000,-999.000,-999.000, 27.7233,-999.000
     32MW893_3,  P04E,   178,  1,     23,     23,2,19890429,2318,  9.4983,-113.6683, 3163,     47.4,  24.6875,  34.1722,2,  34.2178,2,   -999.0,5,    173.4,2,     2.95,2,     4.69,2,     0.64,2,     0.58,2,    1.609,2,    0.887,2, -999.000,9,-999.0000,9,  -999.00,9,-999.000,9,   -999,-999.0000,-999.000,-999.000, 24.6774,-999.000
     32MW893_3,  P04E,   178,  1,     22,     22,2,19890429,2318,  9.4983,-113.6683, 3163,     96.1,  13.2926,  34.7884,2,  34.7913,2,   -999.0,5,      4.3,2,    24.62,2,    32.25,2,     0.13,2,     2.35,2,    0.296,2, -999.000,5, -999.000,9,-999.0000,9,  -999.00,9,-999.000,9,   -999,-999.0000,-999.000,-999.000, 13.2793,-999.000
     32MW893_3,  P04E,   178,  1,     21,     21,2,19890429,2318,  9.4983,-113.6683, 3163,    121.3,  12.5098,  34.8044,2,  34.7884,2,   -999.0,5,      6.1,2,    26.58,2,    33.33,2,     0.01,2,     2.36,2,    0.190,2,    0.112,2, -999.000,9,-999.0000,9,  -999.00,9,-999.000,9,   -999,-999.0000,-999.000,-999.000, 12.4936,-999.000
     32MW893_3,  P04E,   178,  1,     20,     20,2,19890429,2318,  9.4983,-113.6683, 3163,    148.0,  12.0870,  34.7754,2,  34.7750,2,   -999.0,5,     10.4,2,    27.38,2,    33.52,2,     0.01,2,     2.34,2,    0.163,2, -999.000,5, -999.000,9,-999.0000,9,  -999.00,9,-999.000,9,   -999,-999.0000,-999.000,-999.000, 12.0677,-999.000
     32MW893_3,  P04E,   178,  1,     19,     19,2,19890429,2318,  9.4983,-113.6683, 3163,    170.7,  11.6791,  34.7764,2,  34.7657,2,   -999.0,5,     16.5,2,    28.46,2,    33.43,2,     0.01,2,     2.34,2,    0.147,2, -999.000,5, -999.000,9,-999.0000,9,  -999.00,9,-999.000,9,   -999,-999.0000,-999.000,-999.000, 11.6573,-999.000
     32MW893_3,  P04E,   178,  1,     18,     18,2,19890429,2318,  9.4983,-113.6683, 3163,    197.2,  11.3612,  34.7571,2,  34.7530,2,   -999.0,5,     19.1,2,    29.05,2,    33.43,2,     0.01,2,     2.32,2,    0.135,2, -999.000,5, -999.000,9,-999.0000,9,  -999.00,9,-999.000,9,   -999,-999.0000,-999.000,-999.000, 11.3364,-999.000
     32MW893_3,  P04E,   178,  1,     17,     17,2,19890429,2318,  9.4983,-113.6683, 3163,    246.8,  10.7654,  34.7329,2,  34.7331,2,   -999.0,5,     14.3,2,    31.71,2,    34.31,2,     0.01,2,     2.42,2,    0.085,2,    0.062,2, -999.000,9,-999.0000,9,  -999.00,9,-999.000,9,   -999,-999.0000,-999.000,-999.000, 10.7354,-999.000
     32MW893_3,  P04E,   178,  1,     16,     16,2,19890429,2318,  9.4983,-113.6683, 3163,    296.9,  10.3365,  34.7098,2,  34.7182,2,   -999.0,5,     12.6,2,    33.58,2,    34.89,2,     0.01,2,     2.50,2,    0.055,2, -999.000,5, -999.000,9,-999.0000,9,  -999.00,9,-999.000,9,   -999,-999.0000,-999.000,-999.000, 10.3013,-999.000
     32MW893_3,  P04E,   178,  1,     15,     15,2,19890429,2318,  9.4983,-113.6683, 3163,    397.3,   9.1900,  34.6463,2,  34.6527,2,   -999.0,5,      3.9,2,    42.34,2,    35.48,2,     0.01,2,     2.74,2,    0.007,2,    0.017,2, -999.000,9,-999.0000,9,  -999.00,9,-999.000,9,   -999,-999.0000,-999.000,-999.000,  9.1460,-999.000
     32MW893_3,  P04E,   178,  1,     14,     14,2,19890429,2318,  9.4983,-113.6683, 3163,    497.4,   7.9574,  34.5932,2,  34.5899,2,   -999.0,5,      3.0,2,    55.74,2,    36.07,2,     0.00,2,     2.99,2,    0.008,2,    0.009,2, -999.000,9,-999.0000,9,  -999.00,9,-999.000,9,   -999,-999.0000,-999.000,-999.000,  7.9065,-999.000
     32MW893_3,  P04E,   178,  1,     13,     13,2,19890429,2318,  9.4983,-113.6683, 3163,    596.8,   6.8498,  34.5680,2,  34.5653,2,   -999.0,5,      3.0,2,    65.79,2,    40.27,2,     0.00,2,     3.11,2, -999.000,9, -999.000,9, -999.000,9,-999.0000,9,  -999.00,9,-999.000,9,   -999,-999.0000,-999.000,-999.000,  6.7933,-999.000
     32MW893_3,  P04E,   178,  1,     12,     12,2,19890429,2318,  9.4983,-113.6683, 3163,    696.2,   6.1130,  34.5524,2,  34.5547,2,   -999.0,5,      7.4,2,    73.57,2,    43.21,2,     0.00,2,     3.15,2,   -0.001,2, -999.000,5, -999.000,9,-999.0000,9,  -999.00,9,-999.000,9,   -999,-999.0000,-999.000,-999.000,  6.0505,-999.000
     32MW893_3,  P04E,   178,  1,     11,     11,2,19890429,2318,  9.4983,-113.6683, 3163,    797.4,   5.4643,  34.5519,2,  34.5516,2,   -999.0,5,     16.1,2,    81.15,2,    44.57,2,     0.00,2,     3.17,2, -999.000,9, -999.000,9, -999.000,9,-999.0000,9,  -999.00,9,-999.000,9,   -999,-999.0000,-999.000,-999.000,  5.3961,-999.000
     32MW893_3,  P04E,   178,  1,     10,     10,2,19890429,2318,  9.4983,-113.6683, 3163,    897.8,   5.0055,  34.5571,2,  34.5575,2,   -999.0,5,     26.9,2,    88.04,2,    44.48,2,     0.00,2,     3.14,2, -999.000,9, -999.000,9, -999.000,9,-999.0000,9,  -999.00,9,-999.000,9,   -999,-999.0000,-999.000,-999.000,  4.9312,-999.000
     32MW893_3,  P04E,   178,  1,      9,      9,2,19890429,2318,  9.4983,-113.6683, 3163,    996.9,   4.6377,  34.5644,2,  34.5624,2,   -999.0,5,     34.8,2,    94.15,2,    44.09,2,     0.00,2,     3.11,2,    0.000,2,    0.005,2, -999.000,9,-999.0000,9,  -999.00,9,-999.000,9,   -999,-999.0000,-999.000,-999.000,  4.5573,-999.000
     32MW893_3,  P04E,   178,  1,      8,      8,2,19890429,2318,  9.4983,-113.6683, 3163,   1199.0,   3.8960,  34.5818,2,  34.5797,2,   -999.0,5,     48.2,2,   109.12,2,    43.21,2,    -0.01,2,     3.07,2, -999.000,9, -999.000,9, -999.000,9,-999.0000,9,  -999.00,9,-999.000,9,   -999,-999.0000,-999.000,-999.000,  3.8043,-999.000
     32MW893_3,  P04E,   178,  1,      7,      7,2,19890429,2318,  9.4983,-113.6683, 3163,   1497.8,   3.1892,  34.6022,2,  34.6048,2,   -999.0,5,     67.8,2,   124.68,2,    41.93,2,    -0.01,2,     2.94,2, -999.000,9, -999.000,9, -999.000,9,-999.0000,9,  -999.00,9,-999.000,9,   -999,-999.0000,-999.000,-999.000,  3.0794,-999.000
     32MW893_3,  P04E,   178,  1,      6,      6,2,19890429,2318,  9.4983,-113.6683, 3163,   1799.1,   2.6225,  34.6237,2,  34.6209,2,   -999.0,5,     83.4,2,   137.18,2,    41.05,2,    -0.01,2,     2.86,2, -999.000,9, -999.000,9, -999.000,9,-999.0000,9,  -999.00,9,-999.000,9,   -999,-999.0000,-999.000,-999.000,  2.4941,-999.000
     32MW893_3,  P04E,   178,  1,      5,      5,2,19890429,2318,  9.4983,-113.6683, 3163,   2099.0,   2.1516,  34.6476,2,  34.6482,2,   -999.0,5,     95.6,2,   149.59,2,    40.17,2,    -0.01,2,     2.78,2,    0.006,2, -999.000,5, -999.000,9,-999.0000,9,  -999.00,9,-999.000,9,   -999,-999.0000,-999.000,-999.000,  2.0043,-999.000
     32MW893_3,  P04E,   178,  1,      4,      4,2,19890429,2318,  9.4983,-113.6683, 3163,   2400.9,   1.9097,  34.6642,2,  34.6645,2,   -999.0,5,    108.2,2,   154.90,2,    39.20,2,    -0.01,2,     2.70,2, -999.000,9, -999.000,9, -999.000,9,-999.0000,9,  -999.00,9,-999.000,9,   -999,-999.0000,-999.000,-999.000,  1.7400,-999.000
     32MW893_3,  P04E,   178,  1,      3,      3,2,19890429,2318,  9.4983,-113.6683, 3163,   2702.1,   1.8308,  34.6696,2,  34.6700,2,   -999.0,5,    113.8,2,   156.28,2,    38.71,2,    -0.01,2,     2.66,2, -999.000,9, -999.000,9, -999.000,9,-999.0000,9,  -999.00,9,-999.000,9,   -999,-999.0000,-999.000,-999.000,  1.6351,-999.000
     32MW893_3,  P04E,   178,  1,      2,      2,2,19890429,2318,  9.4983,-113.6683, 3163,   3003.0,   1.7278,  34.6755,2,  34.6745,2,   -999.0,5,    122.1,2,   157.07,2,    38.12,2,    -0.01,2,     2.63,2, -999.000,9, -999.000,9, -999.000,9,-999.0000,9,  -999.00,9,-999.000,9,   -999,-999.0000,-999.000,-999.000,  1.5057,-999.000
     32MW893_3,  P04E,   178,  1,      1,      1,2,19890429,2318,  9.4983,-113.6683, 3163,   3275.6,   1.6398,  34.6775,2,  34.6785,2,   -999.0,5,    130.4,2,   156.28,2,    38.06,2,    -0.01,2,     2.57,2,    0.000,2,   -0.002,2, -999.000,9,-999.0000,9,  -999.00,9,-999.000,9,   -999,-999.0000,-999.000,-999.000,  1.3930,-999.000
     32MW893_3,  P04E,   179,  1,     24,     24,2,19890430,0601,  9.5000,-112.8333, 3870,      6.1,  27.7518,  34.4203,2,  34.4210,2,   -999.0,5,    219.5,2,     1.18,2,     0.59,2,     0.02,2,     0.33,2,    1.598,2,    0.906,2, -999.000,9,-999.0000,9,  -999.00,9,-999.000,9,   -999,-999.0000,-999.000,-999.000, 27.7504,-999.000
     32MW893_3,  P04E,   179,  1,     23,     23,2,19890430,0601,  9.5000,-112.8333, 3870,     46.6,  25.8523,  34.4423,2,  34.4320,2,   -999.0,5,    192.5,2,     2.56,2,     2.44,2,     0.05,2,     0.53,2,    1.567,3,    0.899,2, -999.000,9,-999.0000,9,  -999.00,9,-999.000,9,   -999,-999.0000,-999.000,-999.000, 25.8420,-999.000
     32MW893_3,  P04E,   179,  1,     22,     22,2,19890430,0601,  9.5000,-112.8333, 3870,     72.8,  16.8895,  34.7151,2,  34.6618,2,   -999.0,5,     15.2,2,    16.94,2,    29.32,2,     0.07,2,     2.22,2,    0.710,2,    0.392,2, -999.000,9,-999.0000,9,  -999.00,9,-999.000,9,   -999,-999.0000,-999.000,-999.000, 16.8776,-999.000
     32MW893_3,  P04E,   179,  1,     21,     21,2,19890430,0601,  9.5000,-112.8333, 3870,     96.2,  13.7904,  34.8046,2,  34.8080,2,   -999.0,5,      8.7,2,    22.84,2,    31.76,2,     0.01,2,     2.33,2,    0.367,2,    0.223,2, -999.000,9,-999.0000,9,  -999.00,9,-999.000,9,   -999,-999.0000,-999.000,-999.000, 13.7767,-999.000
     32MW893_3,  P04E,   179,  1,     20,     20,2,19890430,0601,  9.5000,-112.8333, 3870,    122.5,  12.7767,  34.7855,2,  34.7799,2,   -999.0,5,     15.2,2,    24.91,2,    32.45,2,     0.00,2,     2.33,2,    0.276,2,    0.170,2, -999.000,9,-999.0000,9,  -999.00,9,-999.000,9,   -999,-999.0000,-999.000,-999.000, 12.7601,-999.000
     32MW893_3,  P04E,   179,  1,     19,     19,2,19890430,0601,  9.5000,-112.8333, 3870,    147.5,  12.2020,  34.7840,2,  34.7966,2,   -999.0,5,     12.2,2,    26.68,2,    32.74,2,     0.00,2,     2.38,2,    0.191,2,    0.116,2, -999.000,9,-999.0000,9,  -999.00,9,-999.000,9,   -999,-999.0000,-999.000,-999.000, 12.1826,-999.000
     32MW893_3,  P04E,   179,  1,     18,     18,2,19890430,0601,  9.5000,-112.8333, 3870,    171.5,  11.8561,  34.7709,2,  34.7654,2,   -999.0,5,     21.3,2,    27.28,2,    32.64,2,     0.01,2,     2.32,2,    0.192,2, -999.000,5, -999.000,9,-999.0000,9,  -999.00,9,-999.000,9,   -999,-999.0000,-999.000,-999.000, 11.8340,-999.000
     32MW893_3,  P04E,   179,  1,     17,     17,2,19890430,0601,  9.5000,-112.8333, 3870,    196.0,  11.4432,  34.7563,2,  34.7579,2,   -999.0,5,     25.6,2,    28.36,2,    32.84,2,     0.01,2,     2.35,2,    0.172,2, -999.000,5, -999.000,9,-999.0000,9,  -999.00,9,-999.000,9,   -999,-999.0000,-999.000,-999.000, 11.4185,-999.000
     32MW893_3,  P04E,   179,  1,     16,     16,2,19890430,0601,  9.5000,-112.8333, 3870,    247.4,  10.8054,  34.7316,2,  34.7313,2,   -999.0,5,     14.3,2,    31.12,2,    34.21,2,     0.01,2,     2.46,2,    0.085,2,    0.058,2, -999.000,9,-999.0000,9,  -999.00,9,-999.000,9,   -999,-999.0000,-999.000,-999.000, 10.7753,-999.000
     32MW893_3,  P04E,   179,  1,     15,     15,2,19890430,0601,  9.5000,-112.8333, 3870,    296.9,  10.3305,  34.7214,2,  34.7148,2,   -999.0,5,      7.4,2,    33.58,2,    34.99,2,     0.01,2,     2.57,2,    0.043,2, -999.000,5, -999.000,9,-999.0000,9,  -999.00,9,-999.000,9,   -999,-999.0000,-999.000,-999.000, 10.2953,-999.000
     32MW893_3,  P04E,   179,  1,     14,     14,2,19890430,0601,  9.5000,-112.8333, 3870,    396.3,   9.2730,  34.6596,2,  34.6547,2,   -999.0,5,      3.5,2,    42.05,2,    35.09,2,     0.01,2,     2.80,2,    0.012,2, -999.000,5, -999.000,9,-999.0000,9,  -999.00,9,-999.000,9,   -999,-999.0000,-999.000,-999.000,  9.2288,-999.000
     32MW893_3,  P04E,   179,  1,     13,     13,2,19890430,0601,  9.5000,-112.8333, 3870,    497.2,   8.1873,  34.6047,2,  34.6017,2,   -999.0,5,      2.2,2,    44.12,2,    35.29,2,     0.00,2,     3.01,2, -999.000,9, -999.000,9, -999.000,9,-999.0000,9,  -999.00,9,-999.000,9,   -999,-999.0000,-999.000,-999.000,  8.1356,-999.000
     32MW893_3,  P04E,   179,  1,     12,     12,2,19890430,0601,  9.5000,-112.8333, 3870,    622.2,   6.8138,  34.5641,2,  34.5630,2,   -999.0,5,      3.5,2,    65.30,2,    40.76,2,     0.00,2,     3.17,2,    0.001,2,    0.005,2, -999.000,9,-999.0000,9,  -999.00,9,-999.000,9,   -999,-999.0000,-999.000,-999.000,  6.7550,-999.000
     32MW893_3,  P04E,   179,  1,     11,     11,2,19890430,0601,  9.5000,-112.8333, 3870,    897.5,   4.9025,  34.5596,2,  34.5569,2,   -999.0,5,     27.4,2,    89.32,2,    44.09,2,     0.00,2,     3.21,2, -999.000,9, -999.000,9, -999.000,9,-999.0000,9,  -999.00,9,-999.000,9,   -999,-999.0000,-999.000,-999.000,  4.8290,-999.000
     32MW893_3,  P04E,   179,  1,     10,     10,2,19890430,0601,  9.5000,-112.8333, 3870,    947.4,   4.7366,  34.5629,2,  34.5590,2,   -999.0,5,     25.2,2,    93.46,2,    44.38,2,     0.00,2,     3.25,2, -999.000,9, -999.000,9, -999.000,9,-999.0000,9,  -999.00,9,-999.000,9,   -999,-999.0000,-999.000,-999.000,  4.6598,-999.000
     32MW893_3,  P04E,   179,  1,      9,      9,2,19890430,0601,  9.5000,-112.8333, 3870,    997.2,   4.5987,  34.5639,2,  34.5645,2,   -999.0,5,     26.5,2,    96.71,2,    44.48,2,     0.00,2,     3.26,2, -999.000,9, -999.000,9, -999.000,9,-999.0000,9,  -999.00,9,-999.000,9,   -999,-999.0000,-999.000,-999.000,  4.5186,-999.000
     32MW893_3,  P04E,   179,  1,      8,      8,2,19890430,0601,  9.5000,-112.8333, 3870,   1247.0,   3.7840,  34.5838,2,  34.5852,2,   -999.0,5,     50.4,2,   112.07,2,    42.81,2,     0.00,2,     3.13,2, -999.000,9, -999.000,9, -999.000,9,-999.0000,9,  -999.00,9,-999.000,9,   -999,-999.0000,-999.000,-999.000,  3.6892,-999.000
     32MW893_3,  P04E,   179,  1,      7,      7,2,19890430,0601,  9.5000,-112.8333, 3870,   1498.3,   3.2162,  34.6032,2,  34.6044,2,   -999.0,5,     65.6,2,   124.38,2,    42.03,2,     0.00,2,     3.04,2, -999.000,9, -999.000,9, -999.000,9,-999.0000,9,  -999.00,9,-999.000,9,   -999,-999.0000,-999.000,-999.000,  3.1060,-999.000
     32MW893_3,  P04E,   179,  1,      6,      6,2,19890430,0601,  9.5000,-112.8333, 3870,   1747.7,   2.7204,  34.6176,2,  34.6174,2,   -999.0,5,     81.7,2,   134.32,2,    40.86,2,     0.00,2,     2.93,2,   -0.001,6,   -0.004,6, -999.000,9,-999.0000,9,  -999.00,9,-999.000,9,   -999,-999.0000,-999.000,-999.000,  2.5951,-999.000
     32MW893_3,  P04E,   179,  1,      5,      5,2,19890430,0601,  9.5000,-112.8333, 3870,   2098.2,   2.1856,  34.6482,2,  34.6461,2,   -999.0,5,     93.0,2,   148.89,2,    40.08,2,     0.00,2,     2.85,2, -999.000,9, -999.000,9, -999.000,9,-999.0000,9,  -999.00,9,-999.000,9,   -999,-999.0000,-999.000,-999.000,  2.0378,-999.000
     32MW893_3,  P04E,   179,  1,      4,      4,2,19890430,0601,  9.5000,-112.8333, 3870,   2599.7,   1.8558,  34.6676,2,-999.0000,5,   -999.0,5,    110.4,2,   155.79,2,    38.71,2,     0.01,2,     2.74,2,    0.003,3,   -0.005,2, -999.000,9,-999.0000,9,  -999.00,9,-999.000,9,   -999,-999.0000,-999.000,-999.000,  1.6691,-999.000
     32MW893_3,  P04E,   179,  1,      3,      3,2,19890430,0601,  9.5000,-112.8333, 3870,   3100.8,   1.7528,  34.6753,2,  34.6740,2,   -999.0,5,    120.4,2,   156.87,2,    38.22,2,     0.01,2,     2.69,2, -999.000,9, -999.000,9, -999.000,9,-999.0000,9,  -999.00,9,-999.000,9,   -999,-999.0000,-999.000,-999.000,  1.5206,-999.000
     32MW893_3,  P04E,   179,  1,      2,      2,2,19890430,0601,  9.5000,-112.8333, 3870,   3604.1,   1.5349,  34.6839,2,  34.6846,2,   -999.0,5,    140.8,2,   155.00,2,    37.14,2,     0.01,2,     2.59,2, -999.000,9, -999.000,9, -999.000,9,-999.0000,9,  -999.00,9,-999.000,9,   -999,-999.0000,-999.000,-999.000,  1.2572,-999.000
     32MW893_3,  P04E,   179,  1,      1,      1,2,19890430,0601,  9.5000,-112.8333, 3870,   3888.0,   1.5489,  34.6848,2,  34.6838,2,   -999.0,5,   -999.0,5,   154.61,2,    36.81,2,     0.01,2,     2.57,2,    0.001,2,    0.001,2, -999.000,9,-999.0000,9,  -999.00,9,-999.000,9,   -999,-999.0000,-999.000,-999.000,  1.2408,-999.000