BOTTLE,20020418WHPSIOdm
EXPOCODE,SECT_ID,STNNBR,CASTNO,SAMPNO,BTLNBR,BTLNBR_FLAG_W,DATE,TIME,LATITUDE,LONGITUDE,DEPTH,CTDPRS,CTDTMP,CTDSAL,CTDSAL_FLAG_W,SALNTY,SALNTY_FLAG_W,CTDOXY,CTDOXY_FLAG_W,OXYGEN,OXYGEN_FLAG_W,SILCAT,SILCAT_FLAG_W,NITRAT,NITRAT_FLAG_W,NITRIT,NITRIT_FLAG_W,PHSPHT,PHSPHT_FLAG_W,CFC-11,CFC-11_FLAG_W,CFC-12,CFC-12_FLAG_W,TRITUM,TRITUM_FLAG_W,HELIUM,HELIUM_FLAG_W,DELHE3,DELHE3_FLAG_W,NEON,NEON_FLAG_W,CTDRAW,HELIER,DELHER,NEONER,THETA,TRITER
,,,,,,,,,,,,DBAR,ITS-90,PSS-78,,PSS-78,,UMOL/KG,,UMOL/KG,,UMOL/KG,,UMOL/KG,,UMOL/KG,,UMOL/KG,,PMOL/KG,,PMOL/KG,,TU,,NMOL/KG,,PERCNT,,NMOL/KG,,,NMOL/KG,PERCNT,NMOL/KG,ITS-90,TU
     32MW893_3,  P04E,   202,  1,     24,     24,2,19890506,1659,  9.4933, -94.8283, 3722,     10.3,  29.1501,  34.2670,2,  34.2721,2,   -999.0,5,    207.8,2,     0.59,2,     0.10,2,     0.00,2,     0.21,2,    1.573,2,    0.918,2, -999.000,9,-999.0000,9,  -999.00,9,-999.000,9,   -999,-999.0000,-999.000,-999.000, 29.1476,-999.000
     32MW893_3,  P04E,   202,  1,     23,     23,2,19890506,1659,  9.4933, -94.8283, 3722,     48.6,  17.7774,  34.9312,2,  34.5938,2,   -999.0,5,     89.9,2,     9.35,2,    21.21,2,     0.08,2,     1.69,2,    1.313,2,    0.739,2, -999.000,9,-999.0000,9,  -999.00,9,-999.000,9,   -999,-999.0000,-999.000,-999.000, 17.7692,-999.000
     32MW893_3,  P04E,   202,  1,     22,     22,2,19890506,1659,  9.4933, -94.8283, 3722,     74.4,  14.6823,  34.9221,2,  34.8365,2,   -999.0,5,      1.7,2,    20.58,2,    30.10,2,     0.43,2,     2.29,2,    0.497,2,    0.281,2, -999.000,9,-999.0000,9,  -999.00,9,-999.000,9,   -999,-999.0000,-999.000,-999.000, 14.6713,-999.000
     32MW893_3,  P04E,   202,  1,     21,     21,2,19890506,1659,  9.4933, -94.8283, 3722,     99.6,  13.6736,  34.8454,2,  34.8523,2,   -999.0,5,      6.1,2,    22.25,2,    31.96,2,     0.01,2,     2.25,2,    0.384,2,    0.227,2, -999.000,9,-999.0000,9,  -999.00,9,-999.000,9,   -999,-999.0000,-999.000,-999.000, 13.6595,-999.000
     32MW893_3,  P04E,   202,  1,     20,     20,2,19890506,1659,  9.4933, -94.8283, 3722,    124.0,  13.2217,  34.8540,2,  34.8515,2,   -999.0,5,      3.9,2,    23.63,2,    32.15,2,     0.00,2,     2.29,2,    0.314,2,    0.193,2, -999.000,9,-999.0000,9,  -999.00,9,-999.000,9,   -999,-999.0000,-999.000,-999.000, 13.2045,-999.000
     32MW893_3,  P04E,   202,  1,     19,     19,2,19890506,1659,  9.4933, -94.8283, 3722,    149.3,  12.7299,  34.8231,2,  34.8322,2,   -999.0,5,      5.2,2,    24.62,2,    32.54,2,     0.00,2,     2.32,2,    0.262,2,    0.160,2, -999.000,9,-999.0000,9,  -999.00,9,-999.000,9,   -999,-999.0000,-999.000,-999.000, 12.7097,-999.000
     32MW893_3,  P04E,   202,  1,     18,     18,2,19890506,1659,  9.4933, -94.8283, 3722,    173.6,  12.4071,  34.8181,2,  34.8200,2,   -999.0,5,      5.2,2,    25.90,2,    32.84,2,     0.02,2,     2.35,2,    0.217,2,    0.145,2, -999.000,9,-999.0000,9,  -999.00,9,-999.000,9,   -999,-999.0000,-999.000,-999.000, 12.3840,-999.000
     32MW893_3,  P04E,   202,  1,     17,     17,2,19890506,1659,  9.4933, -94.8283, 3722,    198.3,  12.0712,  34.8048,2,  34.7990,2,   -999.0,5,      3.9,2,    27.18,2,    33.13,2,     0.01,2,     2.38,2,    0.178,2,    0.119,2, -999.000,9,-999.0000,9,  -999.00,9,-999.000,9,   -999,-999.0000,-999.000,-999.000, 12.0453,-999.000
     32MW893_3,  P04E,   202,  1,     16,     16,2,19890506,1659,  9.4933, -94.8283, 3722,    246.9,  11.5254,  34.7734,2,  34.7770,2,   -999.0,5,      2.2,2,    29.74,2,    32.84,2,     0.02,2,     2.45,2,    0.124,2, -999.000,5, -999.000,9,-999.0000,9,  -999.00,9,-999.000,9,   -999,-999.0000,-999.000,-999.000, 11.4940,-999.000
     32MW893_3,  P04E,   202,  1,     15,     15,2,19890506,1659,  9.4933, -94.8283, 3722,    297.6,  10.9017,  34.7430,2,  34.7414,2,   -999.0,5,      1.7,2,    33.28,2,    31.18,2,     0.99,2,     2.55,2,    0.067,2, -999.000,5, -999.000,9,-999.0000,9,  -999.00,9,-999.000,9,   -999,-999.0000,-999.000,-999.000, 10.8651,-999.000
     32MW893_3,  P04E,   202,  1,     14,     14,2,19890506,1659,  9.4933, -94.8283, 3722,    394.9,   9.6124,  34.6890,2,  34.6785,2,   -999.0,5,      1.7,2,    42.05,2,    29.81,2,     1.64,2,     2.76,2,    0.018,2, -999.000,5, -999.000,9,-999.0000,9,  -999.00,9,-999.000,9,   -999,-999.0000,-999.000,-999.000,  9.5674,-999.000
     32MW893_3,  P04E,   202,  1,     13,     13,2,19890506,1659,  9.4933, -94.8283, 3722,    494.8,   7.9702,  34.6086,2,  34.6079,2,   -999.0,5,      2.2,2,    56.43,2,    32.75,2,     1.03,2,     3.04,2,    0.009,2,    0.012,2, -999.000,9,-999.0000,9,  -999.00,9,-999.000,9,   -999,-999.0000,-999.000,-999.000,  7.9195,-999.000
     32MW893_3,  P04E,   202,  1,     12,     12,2,19890506,1659,  9.4933, -94.8283, 3722,    596.1,   6.9918,  34.5739,2,  34.5901,2,   -999.0,5,      1.7,2,    64.70,2,    38.61,2,    -0.01,2,     3.14,2,    0.005,2,    0.013,2, -999.000,9,-999.0000,9,  -999.00,9,-999.000,9,   -999,-999.0000,-999.000,-999.000,  6.9348,-999.000
     32MW893_3,  P04E,   202,  1,     11,     11,2,19890506,1659,  9.4933, -94.8283, 3722,    696.1,   6.0753,  34.5841,2,  34.5694,2,   -999.0,5,      3.9,2,    74.36,2,    42.62,2,    -0.01,2,     3.24,2, -999.000,9, -999.000,9, -999.000,9,-999.0000,9,  -999.00,9,-999.000,9,   -999,-999.0000,-999.000,-999.000,  6.0131,-999.000
     32MW893_3,  P04E,   202,  1,     10,     10,2,19890506,1659,  9.4933, -94.8283, 3722,    793.9,   5.5077,  34.5636,2,  34.5618,2,   -999.0,5,      5.2,2,    82.82,2,    44.28,2,    -0.01,2,     3.38,2, -999.000,9, -999.000,9, -999.000,9,-999.0000,9,  -999.00,9,-999.000,9,   -999,-999.0000,-999.000,-999.000,  5.4396,-999.000
     32MW893_3,  P04E,   202,  1,      9,      9,2,19890506,1659,  9.4933, -94.8283, 3722,    994.0,   4.5293,  34.5684,2,  34.5681,2,   -999.0,5,     17.8,2,  -999.00,5,    44.97,2,     0.00,2,     3.28,2, -999.000,9, -999.000,9, -999.000,9,-999.0000,9,  -999.00,9,-999.000,9,   -999,-999.0000,-999.000,-999.000,  4.4500,-999.000
     32MW893_3,  P04E,   202,  1,      8,      8,2,19890506,1659,  9.4933, -94.8283, 3722,   1292.1,   3.6010,  34.5913,2,  34.5899,2,   -999.0,5,     43.5,2,   117.09,2,    43.40,2,     0.00,2,     3.12,2, -999.000,9, -999.000,9, -999.000,9,-999.0000,9,  -999.00,9,-999.000,9,   -999,-999.0000,-999.000,-999.000,  3.5043,-999.000
     32MW893_3,  P04E,   202,  1,      7,      7,2,19890506,1659,  9.4933, -94.8283, 3722,   1589.5,   2.9085,  34.6166,2,  34.6150,2,   -999.0,5,     64.3,2,   132.16,2,    42.03,2,     0.00,2,     3.00,2, -999.000,9, -999.000,9, -999.000,9,-999.0000,9,  -999.00,9,-999.000,9,   -999,-999.0000,-999.000,-999.000,  2.7941,-999.000
     32MW893_3,  P04E,   202,  1,      6,      6,2,19890506,1659,  9.4933, -94.8283, 3722,   1987.5,   2.2870,  34.6447,2,  34.6429,2,   -999.0,5,     88.6,2,   145.05,2,    40.08,2,     0.00,2,     2.83,2, -999.000,9, -999.000,9, -999.000,9,-999.0000,9,  -999.00,9,-999.000,9,   -999,-999.0000,-999.000,-999.000,  2.1472,-999.000
     32MW893_3,  P04E,   202,  1,      5,      5,2,19890506,1659,  9.4933, -94.8283, 3722,   2389.9,   1.8693,  34.6661,2,  34.6661,2,   -999.0,5,    108.2,2,   153.92,2,    38.61,2,     0.00,2,     2.71,2, -999.000,9, -999.000,9, -999.000,9,-999.0000,9,  -999.00,9,-999.000,9,   -999,-999.0000,-999.000,-999.000,  1.7012,-999.000
     32MW893_3,  P04E,   202,  1,      4,      4,2,19890506,1659,  9.4933, -94.8283, 3722,   2788.1,   1.8234,  34.6697,2,  34.6706,2,   -999.0,5,    116.0,2,   153.62,2,    38.12,2,     0.00,2,     2.65,2, -999.000,9, -999.000,9, -999.000,9,-999.0000,9,  -999.00,9,-999.000,9,   -999,-999.0000,-999.000,-999.000,  1.6197,-999.000
     32MW893_3,  P04E,   202,  1,      3,      3,2,19890506,1659,  9.4933, -94.8283, 3722,   3190.6,   1.8323,  34.6723,2,  34.6714,2,   -999.0,5,    118.6,2,   153.52,2,    37.92,2,     0.00,2,     2.65,2,    0.003,2,    0.004,2, -999.000,9,-999.0000,9,  -999.00,9,-999.000,9,   -999,-999.0000,-999.000,-999.000,  1.5894,-999.000
     32MW893_3,  P04E,   202,  1,      2,      2,2,19890506,1659,  9.4933, -94.8283, 3722,   3592.3,   1.8593,  34.6715,2,  34.6722,2,   -999.0,5,    121.2,2,   152.73,2,    37.73,2,     0.00,2,     2.65,2, -999.000,9, -999.000,9, -999.000,9,-999.0000,9,  -999.00,9,-999.000,9,   -999,-999.0000,-999.000,-999.000,  1.5744,-999.000
     32MW893_3,  P04E,   202,  1,      1,      1,2,19890506,1659,  9.4933, -94.8283, 3722,   3759.3,   1.8593,  34.6715,2,  34.6736,2,   -999.0,5,    124.7,2,   151.85,2,    37.73,2,     0.00,2,     2.63,2,    0.000,2,   -0.001,2, -999.000,9,-999.0000,9,  -999.00,9,-999.000,9,   -999,-999.0000,-999.000,-999.000,  1.5566,-999.000
     32MW893_3,  P04E,   203,  1,     24,     24,2,19890507,0029,  9.5017, -94.0000, 3773,     10.0,  27.6099,  34.4496,2,  34.4630,2,   -999.0,5,    234.7,2,     1.28,2,     0.20,2,     0.04,2,     0.30,2,    1.640,2,    0.884,2, -999.000,9,-999.0000,9,  -999.00,9,-999.000,9,   -999,-999.0000,-999.000,-999.000, 27.6076,-999.000
     32MW893_3,  P04E,   203,  1,     23,     23,2,19890507,0029,  9.5017, -94.0000, 3773,     48.9,  14.4323,  34.8851,2,  34.8426,2,   -999.0,5,      7.4,2,    19.11,2,    30.98,2,     0.28,2,     2.30,2,    0.546,2,    0.303,2, -999.000,9,-999.0000,9,  -999.00,9,-999.000,9,   -999,-999.0000,-999.000,-999.000, 14.4251,-999.000
     32MW893_3,  P04E,   203,  1,     22,     22,2,19890507,0029,  9.5017, -94.0000, 3773,     99.6,  13.4117,  34.8992,2,  34.8967,2,   -999.0,5,     18.7,2,    21.07,2,    31.76,2,     0.01,2,     2.19,2,    0.354,2,    0.214,2, -999.000,9,-999.0000,9,  -999.00,9,-999.000,9,   -999,-999.0000,-999.000,-999.000, 13.3978,-999.000
     32MW893_3,  P04E,   203,  1,     21,     21,2,19890507,0029,  9.5017, -94.0000, 3773,    123.6,  12.7489,  34.8443,2,  34.8350,2,   -999.0,5,     16.9,2,    23.73,2,    32.25,2,     0.01,2,     2.28,2,    0.280,2,    0.179,2, -999.000,9,-999.0000,9,  -999.00,9,-999.000,9,   -999,-999.0000,-999.000,-999.000, 12.7322,-999.000
     32MW893_3,  P04E,   203,  1,     20,     20,2,19890507,0029,  9.5017, -94.0000, 3773,    148.9,  12.4021,  34.8246,2,  34.8167,2,   -999.0,5,     18.7,2,    24.62,2,    32.54,2,     0.01,2,     2.29,2,    0.254,2,    0.161,2, -999.000,9,-999.0000,9,  -999.00,9,-999.000,9,   -999,-999.0000,-999.000,-999.000, 12.3823,-999.000
     32MW893_3,  P04E,   203,  1,     19,     19,2,19890507,0029,  9.5017, -94.0000, 3773,    174.2,  12.1972,  34.8154,2,  34.8062,2,   -999.0,5,     15.6,2,    25.50,2,    32.94,2,     0.00,2,     2.32,2,    0.228,2,    0.140,2, -999.000,9,-999.0000,9,  -999.00,9,-999.000,9,   -999,-999.0000,-999.000,-999.000, 12.1743,-999.000
     32MW893_3,  P04E,   203,  1,     18,     18,2,19890507,0029,  9.5017, -94.0000, 3773,    198.0,  11.8344,  34.7988,2,  34.7862,2,   -999.0,5,     13.5,2,    26.78,2,    33.43,2,     0.02,2,     2.37,2,    0.186,2,    0.122,2, -999.000,9,-999.0000,9,  -999.00,9,-999.000,9,   -999,-999.0000,-999.000,-999.000, 11.8089,-999.000
     32MW893_3,  P04E,   203,  1,     17,     17,2,19890507,0029,  9.5017, -94.0000, 3773,    247.4,  11.3336,  34.7809,2,  34.7636,2,   -999.0,5,     13.9,2,    28.46,2,    33.91,2,     0.02,2,     2.41,2,    0.145,2,    0.100,2, -999.000,9,-999.0000,9,  -999.00,9,-999.000,9,   -999,-999.0000,-999.000,-999.000, 11.3025,-999.000
     32MW893_3,  P04E,   203,  1,     16,     16,2,19890507,0029,  9.5017, -94.0000, 3773,    297.2,  10.7538,  34.7323,2,  34.7369,2,   -999.0,5,      8.3,2,    31.12,2,    34.31,2,     0.00,2,     2.53,2,    0.081,2,    0.052,2, -999.000,9,-999.0000,9,  -999.00,9,-999.000,9,   -999,-999.0000,-999.000,-999.000, 10.7176,-999.000
     32MW893_3,  P04E,   203,  1,     15,     15,2,19890507,0029,  9.5017, -94.0000, 3773,    397.0,   9.6313,  34.6728,2,  34.6726,2,   -999.0,5,      3.0,2,    40.08,2,    32.94,2,     0.01,2,     2.80,2,    0.016,2,    0.015,2, -999.000,9,-999.0000,9,  -999.00,9,-999.000,9,   -999,-999.0000,-999.000,-999.000,  9.5860,-999.000
     32MW893_3,  P04E,   203,  1,     14,     14,2,19890507,0029,  9.5017, -94.0000, 3773,    495.3,   8.0522,  34.6142,2,  34.6150,2,   -999.0,5,      3.5,2,    55.54,2,    38.22,2,     1.16,2,     3.12,2,    0.013,2, -999.000,5, -999.000,9,-999.0000,9,  -999.00,9,-999.000,9,   -999,-999.0000,-999.000,-999.000,  8.0012,-999.000
     32MW893_3,  P04E,   203,  1,     13,     13,2,19890507,0029,  9.5017, -94.0000, 3773,    594.3,   6.8948,  34.5807,2,  34.5855,2,   -999.0,5,      2.6,2,    65.00,2,    39.30,2,     0.00,2,     3.22,2,    0.006,2,    0.013,2, -999.000,9,-999.0000,9,  -999.00,9,-999.000,9,   -999,-999.0000,-999.000,-999.000,  6.8385,-999.000
     32MW893_3,  P04E,   203,  1,     12,     12,2,19890507,0029,  9.5017, -94.0000, 3773,    693.2,   6.0893,  34.5658,2,  34.5677,2,   -999.0,5,      3.0,2,    74.06,2,    42.72,2,     0.00,2,     3.28,2, -999.000,9, -999.000,9, -999.000,9,-999.0000,9,  -999.00,9,-999.000,9,   -999,-999.0000,-999.000,-999.000,  6.0273,-999.000
     32MW893_3,  P04E,   203,  1,     11,     11,2,19890507,0029,  9.5017, -94.0000, 3773,    793.9,   5.5227,  34.5574,2,  34.5643,2,   -999.0,5,      6.5,2,    80.76,2,    44.67,2,     0.00,2,     3.33,2, -999.000,9, -999.000,9, -999.000,9,-999.0000,9,  -999.00,9,-999.000,9,   -999,-999.0000,-999.000,-999.000,  5.4545,-999.000
     32MW893_3,  P04E,   203,  1,     10,     10,2,19890507,0029,  9.5017, -94.0000, 3773,    992.3,   4.5603,  34.5662,2,  34.5655,2,   -999.0,5,     20.4,2,    97.01,2,    45.45,2,     0.00,2,     3.36,2, -999.000,9, -999.000,9, -999.000,9,-999.0000,9,  -999.00,9,-999.000,9,   -999,-999.0000,-999.000,-999.000,  4.4809,-999.000
     32MW893_3,  P04E,   203,  1,      9,      9,2,19890507,0029,  9.5017, -94.0000, 3773,   1289.7,   3.5311,  34.5947,2,  34.5954,2,   -999.0,5,     44.8,2,   117.59,2,    43.89,2,     0.00,2,     3.20,2, -999.000,9, -999.000,9, -999.000,9,-999.0000,9,  -999.00,9,-999.000,9,   -999,-999.0000,-999.000,-999.000,  3.4351,-999.000
     32MW893_3,  P04E,   203,  1,      8,      8,2,19890507,0029,  9.5017, -94.0000, 3773,   1591.9,   2.8825,  34.6164,2,  34.6176,2,   -999.0,5,     70.4,2,   129.99,2,    42.03,2,     0.00,2,     3.03,2, -999.000,9, -999.000,9, -999.000,9,-999.0000,9,  -999.00,9,-999.000,9,   -999,-999.0000,-999.000,-999.000,  2.7682,-999.000
     32MW893_3,  P04E,   203,  1,      7,      7,2,19890507,0029,  9.5017, -94.0000, 3773,   1889.6,   2.3519,  34.6406,2,  34.6394,2,   -999.0,5,     85.6,2,   143.88,2,    40.96,2,     0.00,2,     2.91,2, -999.000,9, -999.000,9, -999.000,9,-999.0000,9,  -999.00,9,-999.000,9,   -999,-999.0000,-999.000,-999.000,  2.2196,-999.000
     32MW893_3,  P04E,   203,  1,      6,      6,2,19890507,0029,  9.5017, -94.0000, 3773,   2180.0,   1.9982,  34.6580,2,  34.6563,2,   -999.0,5,     99.9,2,   150.97,2,    39.59,2,     0.00,2,     2.82,2, -999.000,9, -999.000,9, -999.000,9,-999.0000,9,  -999.00,9,-999.000,9,   -999,-999.0000,-999.000,-999.000,  1.8464,-999.000
     32MW893_3,  P04E,   203,  1,      5,      5,2,19890507,0029,  9.5017, -94.0000, 3773,   2488.6,   1.8423,  34.6675,2,  34.6681,2,   -999.0,5,    113.0,2,   152.34,2,    38.80,2,    -0.01,2,     2.74,2, -999.000,9, -999.000,9, -999.000,9,-999.0000,9,  -999.00,9,-999.000,9,   -999,-999.0000,-999.000,-999.000,  1.6659,-999.000
     32MW893_3,  P04E,   203,  1,      4,      4,2,19890507,0029,  9.5017, -94.0000, 3773,   2790.4,   1.8164,  34.6712,2,  34.6726,2,   -999.0,5,    116.9,2,   153.43,2,    38.61,2,    -0.01,2,     2.78,2,    0.001,2,   -0.004,2, -999.000,9,-999.0000,9,  -999.00,9,-999.000,9,   -999,-999.0000,-999.000,-999.000,  1.6127,-999.000
     32MW893_3,  P04E,   203,  1,      3,      3,2,19890507,0029,  9.5017, -94.0000, 3773,   3090.6,   1.8274,  34.6713,2,  34.6704,2,   -999.0,5,    117.8,2,   153.92,2,    38.41,2,    -0.01,2,     2.73,2, -999.000,9, -999.000,9, -999.000,9,-999.0000,9,  -999.00,9,-999.000,9,   -999,-999.0000,-999.000,-999.000,  1.5945,-999.000
     32MW893_3,  P04E,   203,  1,      2,      2,2,19890507,0029,  9.5017, -94.0000, 3773,   3493.6,   1.8523,  34.6732,2,  34.6700,2,   -999.0,5,    119.5,2,   149.59,2,    38.41,2,    -0.01,2,     2.71,2,    0.002,2,    0.001,2, -999.000,9,-999.0000,9,  -999.00,9,-999.000,9,   -999,-999.0000,-999.000,-999.000,  1.5780,-999.000
     32MW893_3,  P04E,   203,  1,      1,      1,2,19890507,0029,  9.5017, -94.0000, 3773,   3825.8,   1.8832,  34.6725,2,  34.6718,2,   -999.0,5,    120.4,2,   152.05,2,    38.45,2,    -0.01,2,     2.71,2,   -0.001,2,   -0.001,2, -999.000,9,-999.0000,9,  -999.00,9,-999.000,9,   -999,-999.0000,-999.000,-999.000,  1.5728,-999.000