BOTTLE,20020418WHPSIOdm
EXPOCODE,SECT_ID,STNNBR,CASTNO,SAMPNO,BTLNBR,BTLNBR_FLAG_W,DATE,TIME,LATITUDE,LONGITUDE,DEPTH,CTDPRS,CTDTMP,CTDSAL,CTDSAL_FLAG_W,SALNTY,SALNTY_FLAG_W,CTDOXY,CTDOXY_FLAG_W,OXYGEN,OXYGEN_FLAG_W,SILCAT,SILCAT_FLAG_W,NITRAT,NITRAT_FLAG_W,NITRIT,NITRIT_FLAG_W,PHSPHT,PHSPHT_FLAG_W,CFC-11,CFC-11_FLAG_W,CFC-12,CFC-12_FLAG_W,TRITUM,TRITUM_FLAG_W,HELIUM,HELIUM_FLAG_W,DELHE3,DELHE3_FLAG_W,NEON,NEON_FLAG_W,CTDRAW,HELIER,DELHER,NEONER,THETA,TRITER
,,,,,,,,,,,,DBAR,ITS-90,PSS-78,,PSS-78,,UMOL/KG,,UMOL/KG,,UMOL/KG,,UMOL/KG,,UMOL/KG,,UMOL/KG,,PMOL/KG,,PMOL/KG,,TU,,NMOL/KG,,PERCNT,,NMOL/KG,,,NMOL/KG,PERCNT,NMOL/KG,ITS-90,TU
     32MW893_3,  P04E,   194,  1,     24,     24,2,19890504,0818,  9.4983,-101.5000, 3328,      6.3,  28.9387,  33.7998,2,  33.8118,2,   -999.0,5,    217.8,2,     0.79,2,     0.10,2,     0.00,2,     0.22,2, -999.000,9, -999.000,9, -999.000,9,-999.0000,9,  -999.00,9,-999.000,9,   -999,-999.0000,-999.000,-999.000, 28.9372,-999.000
     32MW893_3,  P04E,   194,  1,     23,     23,2,19890504,0818,  9.4983,-101.5000, 3328,     47.5,  21.5072,  34.3922,2,  34.4090,2,   -999.0,5,    103.9,2,     8.96,2,    19.06,2,     1.86,2,     1.49,2, -999.000,9, -999.000,9, -999.000,9,-999.0000,9,  -999.00,9,-999.000,9,   -999,-999.0000,-999.000,-999.000, 21.4980,-999.000
     32MW893_3,  P04E,   194,  1,     22,     22,2,19890504,0818,  9.4983,-101.5000, 3328,     96.9,  13.7134,  34.7841,2,  34.7768,2,   -999.0,5,     13.5,2,    22.74,2,    32.06,2,     0.02,2,     2.28,2, -999.000,9, -999.000,9, -999.000,9,-999.0000,9,  -999.00,9,-999.000,9,   -999,-999.0000,-999.000,-999.000, 13.6997,-999.000
     32MW893_3,  P04E,   194,  1,     21,     21,2,19890504,0818,  9.4983,-101.5000, 3328,    121.2,  12.8767,  34.7951,2,  34.7937,2,   -999.0,5,     10.9,2,    24.91,2,    32.74,2,     0.00,2,     2.35,2, -999.000,9, -999.000,9, -999.000,9,-999.0000,9,  -999.00,9,-999.000,9,   -999,-999.0000,-999.000,-999.000, 12.8602,-999.000
     32MW893_3,  P04E,   194,  1,     20,     20,2,19890504,0818,  9.4983,-101.5000, 3328,    147.0,  12.3448,  34.7974,2,  34.7880,2,   -999.0,5,     25.2,2,    25.40,2,    32.06,2,     0.01,2,     2.25,2, -999.000,9, -999.000,9, -999.000,9,-999.0000,9,  -999.00,9,-999.000,9,   -999,-999.0000,-999.000,-999.000, 12.3253,-999.000
     32MW893_3,  P04E,   194,  1,     19,     19,2,19890504,0818,  9.4983,-101.5000, 3328,    170.5,  12.0750,  34.7950,2,  34.7917,2,   -999.0,5,     31.7,2,    25.60,2,    31.67,2,     0.01,2,     2.21,2, -999.000,9, -999.000,9, -999.000,9,-999.0000,9,  -999.00,9,-999.000,9,   -999,-999.0000,-999.000,-999.000, 12.0527,-999.000
     32MW893_3,  P04E,   194,  1,     18,     18,2,19890504,0818,  9.4983,-101.5000, 3328,    198.1,  11.8031,  34.7843,2,  34.7825,2,   -999.0,5,     31.7,2,    26.49,2,    31.96,2,     0.01,2,     2.23,2, -999.000,9, -999.000,9, -999.000,9,-999.0000,9,  -999.00,9,-999.000,9,   -999,-999.0000,-999.000,-999.000, 11.7776,-999.000
     32MW893_3,  P04E,   194,  1,     17,     17,2,19890504,0818,  9.4983,-101.5000, 3328,    247.7,  11.2722,  34.7610,2,  34.7589,2,   -999.0,5,     21.7,2,    28.75,2,    33.33,2,     0.01,2,     2.37,2, -999.000,9, -999.000,9, -999.000,9,-999.0000,9,  -999.00,9,-999.000,9,   -999,-999.0000,-999.000,-999.000, 11.2412,-999.000
     32MW893_3,  P04E,   194,  1,     16,     16,2,19890504,0818,  9.4983,-101.5000, 3328,    296.9,  10.7954,  34.7380,2,  34.7359,2,   -999.0,5,     34.8,2,    29.94,2,    32.94,2,     0.01,2,     2.34,2, -999.000,9, -999.000,9, -999.000,9,-999.0000,9,  -999.00,9,-999.000,9,   -999,-999.0000,-999.000,-999.000, 10.7592,-999.000
     32MW893_3,  P04E,   194,  1,     15,     15,2,19890504,0818,  9.4983,-101.5000, 3328,    396.5,   9.9207,  34.7010,2,  34.6920,2,   -999.0,5,     12.6,2,    35.84,2,    34.99,2,     0.01,2,     2.62,2, -999.000,9, -999.000,9, -999.000,9,-999.0000,9,  -999.00,9,-999.000,9,   -999,-999.0000,-999.000,-999.000,  9.8746,-999.000
     32MW893_3,  P04E,   194,  1,     14,     14,2,19890504,0818,  9.4983,-101.5000, 3328,    497.7,   8.6191,  34.6428,2,  34.6409,2,   -999.0,5,      2.6,2,    49.44,2,    33.82,2,     0.04,2,     2.97,2, -999.000,9, -999.000,9, -999.000,9,-999.0000,9,  -999.00,9,-999.000,9,   -999,-999.0000,-999.000,-999.000,  8.5657,-999.000
     32MW893_3,  P04E,   194,  1,     13,     13,2,19890504,0818,  9.4983,-101.5000, 3328,    596.5,   7.3626,  34.5826,2,  34.5812,2,   -999.0,5,      1.7,2,    60.47,2,    37.63,2,     0.00,2,     3.14,2, -999.000,9, -999.000,9, -999.000,9,-999.0000,9,  -999.00,9,-999.000,9,   -999,-999.0000,-999.000,-999.000,  7.3039,-999.000
     32MW893_3,  P04E,   194,  1,     12,     12,2,19890504,0818,  9.4983,-101.5000, 3328,    697.2,   6.4530,  34.5773,2,  34.5632,2,   -999.0,5,      2.2,2,    70.32,2,    41.45,2,     0.00,2,     3.24,2, -999.000,9, -999.000,9, -999.000,9,-999.0000,9,  -999.00,9,-999.000,9,   -999,-999.0000,-999.000,-999.000,  6.3887,-999.000
     32MW893_3,  P04E,   194,  1,     11,     11,2,19890504,0818,  9.4983,-101.5000, 3328,    798.6,   5.7012,  34.5589,2,  34.5563,2,   -999.0,5,      4.3,2,    80.56,2,    44.18,2,     0.00,2,     3.31,2, -999.000,9, -999.000,9, -999.000,9,-999.0000,9,  -999.00,9,-999.000,9,   -999,-999.0000,-999.000,-999.000,  5.6315,-999.000
     32MW893_3,  P04E,   194,  1,     10,     10,2,19890504,0818,  9.4983,-101.5000, 3328,   1046.2,   4.5017,  34.5661,2,  34.5624,2,   -999.0,5,     21.3,2,   100.65,2,    45.16,2,     0.00,2,     3.32,2, -999.000,9, -999.000,9, -999.000,9,-999.0000,9,  -999.00,9,-999.000,9,   -999,-999.0000,-999.000,-999.000,  4.4180,-999.000
     32MW893_3,  P04E,   194,  1,      9,      9,2,19890504,0818,  9.4983,-101.5000, 3328,   1296.3,   3.6640,  34.5884,2,  34.5846,2,   -999.0,5,     44.3,2,   117.39,2,    43.89,2,     0.00,2,     3.20,2, -999.000,9, -999.000,9, -999.000,9,-999.0000,9,  -999.00,9,-999.000,9,   -999,-999.0000,-999.000,-999.000,  3.5662,-999.000
     32MW893_3,  P04E,   194,  1,      8,      8,2,19890504,0818,  9.4983,-101.5000, 3328,   1550.3,   3.0293,  34.6109,2,  34.6072,2,   -999.0,5,     61.3,2,   132.46,2,    42.62,2,     0.01,2,     3.06,2, -999.000,9, -999.000,9, -999.000,9,-999.0000,9,  -999.00,9,-999.000,9,   -999,-999.0000,-999.000,-999.000,  2.9168,-999.000
     32MW893_3,  P04E,   194,  1,      7,      7,2,19890504,0818,  9.4983,-101.5000, 3328,   1801.1,   2.5655,  34.6278,2,  34.6278,2,   -999.0,5,     78.6,2,   143.48,2,    41.44,2,     0.01,2,     2.97,2, -999.000,9, -999.000,9, -999.000,9,-999.0000,9,  -999.00,9,-999.000,9,   -999,-999.0000,-999.000,-999.000,  2.4376,-999.000
     32MW893_3,  P04E,   194,  1,      6,      6,2,19890504,0818,  9.4983,-101.5000, 3328,   2050.8,   2.2286,  34.6469,2,  34.6433,2,   -999.0,5,     91.2,2,   150.38,2,    40.37,2,     0.01,2,     2.85,2, -999.000,9, -999.000,9, -999.000,9,-999.0000,9,  -999.00,9,-999.000,9,   -999,-999.0000,-999.000,-999.000,  2.0843,-999.000
     32MW893_3,  P04E,   194,  1,      5,      5,2,19890504,0818,  9.4983,-101.5000, 3328,   2301.3,   1.9797,  34.6598,2,-999.0000,5,   -999.0,5,    102.5,2,   155.39,2,    39.39,2,     0.01,2,     2.80,2, -999.000,9, -999.000,9, -999.000,9,-999.0000,9,  -999.00,9,-999.000,9,   -999,-999.0000,-999.000,-999.000,  1.8177,-999.000
     32MW893_3,  P04E,   194,  1,      4,      4,2,19890504,0818,  9.4983,-101.5000, 3328,   2549.5,   1.8618,  34.6671,2,  34.6637,2,   -999.0,5,    109.5,2,   156.57,2,    38.90,2,     0.01,2,     2.75,2, -999.000,9, -999.000,9, -999.000,9,-999.0000,9,  -999.00,9,-999.000,9,   -999,-999.0000,-999.000,-999.000,  1.6795,-999.000
     32MW893_3,  P04E,   194,  1,      3,      3,2,19890504,0818,  9.4983,-101.5000, 3328,   2803.7,   1.8358,  34.6663,2,  34.6673,2,   -999.0,5,    112.1,2,   156.57,2,    38.71,2,     0.01,2,     2.74,2, -999.000,9, -999.000,9, -999.000,9,-999.0000,9,  -999.00,9,-999.000,9,   -999,-999.0000,-999.000,-999.000,  1.6304,-999.000
     32MW893_3,  P04E,   194,  1,      2,      2,2,19890504,0818,  9.4983,-101.5000, 3328,   3005.8,   1.8348,  34.6686,2,  34.6689,2,   -999.0,5,    114.3,2,   156.67,2,    38.51,2,     0.01,2,     2.74,2, -999.000,9, -999.000,9, -999.000,9,-999.0000,9,  -999.00,9,-999.000,9,   -999,-999.0000,-999.000,-999.000,  1.6101,-999.000
     32MW893_3,  P04E,   194,  1,      1,      1,2,19890504,0818,  9.4983,-101.5000, 3328,   3390.7,   1.8678,  34.6696,2,  34.6696,2,   -999.0,5,    115.1,2,   156.57,2,    38.18,2,     0.01,2,     2.73,2, -999.000,9, -999.000,9, -999.000,9,-999.0000,9,  -999.00,9,-999.000,9,   -999,-999.0000,-999.000,-999.000,  1.6038,-999.000
     32MW893_3,  P04E,   195,  1,     24,     24,2,19890504,1459,  9.4967,-100.6617, 3591,      7.2,  29.0496,  33.8864,2,  33.8899,2,   -999.0,5,    210.0,2,     0.79,2,     0.10,2,     0.00,2,     0.25,2,    1.553,2,    0.900,2,    1.671,2,   1.8580,2,    -1.26,2,   7.065,2,   -999,  0.0080,   0.150,   0.042, 29.0479,   0.025
     32MW893_3,  P04E,   195,  1,     23,     23,2,19890504,1459,  9.4967,-100.6617, 3591,     46.8,  20.1916,  34.4660,2,  34.4391,2,   -999.0,5,    102.1,2,     9.26,2,    19.75,2,     1.69,2,     1.49,2,    1.181,2,    0.658,2,    1.344,2,   1.8940,2,     2.96,2,   7.450,2,   -999,  0.0090,   0.150,   0.045, 20.1829,   0.021
     32MW893_3,  P04E,   195,  1,     22,     22,2,19890504,1459,  9.4967,-100.6617, 3591,     72.2,  13.6504,  34.8028,2,  34.8100,2,   -999.0,5,     20.4,2,    21.77,2,    31.47,2,     0.01,2,     2.20,2,    0.428,2,    0.250,2,    1.014,2,   1.9250,2,     7.82,2,   7.894,2,   -999,  0.0090,   0.150,   0.047, 13.6402,   0.021
     32MW893_3,  P04E,   195,  1,     21,     21,2,19890504,1459,  9.4967,-100.6617, 3591,     96.1,  13.0487,  34.8379,2,  34.8605,2,   -999.0,5,     26.1,2,    22.74,2,    31.18,2,     0.00,2,     2.12,2,    0.336,2,    0.195,2,    0.610,2,   1.9310,2,     6.87,2,   7.525,2,   -999,  0.0090,   0.150,   0.045, 13.0355,   0.016
     32MW893_3,  P04E,   195,  1,     20,     20,2,19890504,1459,  9.4967,-100.6617, 3591,    121.6,  12.7817,  34.8402,2,  34.8357,2,   -999.0,5,     28.2,2,    23.63,2,    31.47,2,     0.00,2,     2.17,2,    0.313,2,    0.198,2,    0.567,2,   1.9440,2,     6.68,2,   8.094,2,   -999,  0.0090,   0.150,   0.049, 12.7652,   0.009
     32MW893_3,  P04E,   195,  1,     19,     19,2,19890504,1459,  9.4967,-100.6617, 3591,    145.4,  12.2640,  34.7841,2,  34.8029,2,   -999.0,5,     30.8,2,    24.91,2,    31.57,2,     0.00,2,     2.18,2,    0.273,2,    0.150,2,    0.515,2,   1.9410,2,     6.73,2,   7.921,2,   -999,  0.0090,   0.150,   0.048, 12.2448,   0.010
     32MW893_3,  P04E,   195,  1,     18,     18,2,19890504,1459,  9.4967,-100.6617, 3591,    170.9,  11.9570,  34.7829,2,  34.7880,2,   -999.0,5,     31.7,2,    25.90,2,    31.86,2,     0.00,2,     2.18,2,    0.240,2,    0.151,2,    0.433,2,   1.9520,2,     6.48,2,   7.902,2,   -999,  0.0090,   0.150,   0.047, 11.9348,   0.008
     32MW893_3,  P04E,   195,  1,     17,     17,2,19890504,1459,  9.4967,-100.6617, 3591,    197.3,  11.7071,  34.7832,2,  34.7813,2,   -999.0,5,     28.2,2,    26.98,2,    32.45,2,     0.00,2,     2.28,2,    0.207,2,    0.129,2,    0.400,2,   1.9200,2,     6.66,2,   7.735,2,   -999,  0.0090,   0.150,   0.046, 11.6818,   0.009
     32MW893_3,  P04E,   195,  1,     16,     16,2,19890504,1459,  9.4967,-100.6617, 3591,    248.4,  11.2272,  34.7632,2,  34.7610,2,   -999.0,5,     30.0,2,    28.66,2,    32.84,2,     0.00,2,     2.29,2,    0.169,2,    0.108,2,    0.370,2,-999.0000,9,  -999.00,9,-999.000,9,   -999,-999.0000,-999.000,-999.000, 11.1962,   0.008
     32MW893_3,  P04E,   195,  1,     15,     15,2,19890504,1459,  9.4967,-100.6617, 3591,    298.4,  10.7844,  34.7386,2,  34.7402,2,   -999.0,5,     27.4,2,    30.52,2,    33.62,2,     0.00,2,     2.35,2,    0.126,2,    0.084,2,    0.299,2,   1.9300,2,     6.10,2,   7.826,2,   -999,  0.0090,   0.150,   0.047, 10.7480,   0.007
     32MW893_3,  P04E,   195,  1,     14,     14,2,19890504,1459,  9.4967,-100.6617, 3591,    397.2,   9.9377,  34.7005,2,  34.7013,2,   -999.0,5,      5.6,2,    37.52,2,    34.31,2,     0.00,2,     2.69,2,    0.040,2,    0.032,2,    0.126,2,   1.9610,2,     5.55,2,   7.962,2,   -999,  0.0090,   0.150,   0.048,  9.8915,   0.005
     32MW893_3,  P04E,   195,  1,     13,     13,2,19890504,1459,  9.4967,-100.6617, 3591,    497.7,   8.6791,  34.6209,2,  34.6199,2,   -999.0,5,      1.7,2,    48.16,2,    34.80,2,     0.00,2,     2.87,2,    0.007,2, -999.000,5,    0.019,2,   1.9850,2,     6.04,2,   8.142,2,   -999,  0.0090,   0.150,   0.049,  8.6255,   0.005
     32MW893_3,  P04E,   195,  1,     12,     12,2,19890504,1459,  9.4967,-100.6617, 3591,    599.4,   7.2936,  34.5747,2,  34.5773,2,   -999.0,5,      2.2,2,    62.04,2,    37.44,2,     0.01,2,     3.14,2,    0.003,2, -999.000,5, -999.000,9,-999.0000,9,  -999.00,9,-999.000,9,   -999,-999.0000,-999.000,-999.000,  7.2350,-999.000
     32MW893_3,  P04E,   195,  1,     11,     11,2,19890504,1459,  9.4967,-100.6617, 3591,    697.1,   6.3270,  34.5643,2,  34.5637,2,   -999.0,5,      3.0,2,    71.49,2,    42.03,2,     0.00,2,     3.24,2, -999.000,9, -999.000,9, -999.000,9,-999.0000,9,  -999.00,9,-999.000,9,   -999,-999.0000,-999.000,-999.000,  6.2633,-999.000
     32MW893_3,  P04E,   195,  1,     10,     10,2,19890504,1459,  9.4967,-100.6617, 3591,    795.7,   5.6572,  34.5552,2,  34.5622,2,   -999.0,5,      6.1,2,    79.77,2,    44.38,2,     0.00,2,     3.26,2, -999.000,9, -999.000,9, -999.000,9,-999.0000,9,  -999.00,9,-999.000,9,   -999,-999.0000,-999.000,-999.000,  5.5881,-999.000
     32MW893_3,  P04E,   195,  1,      9,      9,2,19890504,1459,  9.4967,-100.6617, 3591,    996.8,   4.6596,  34.5707,2,  34.5651,2,   -999.0,5,     19.6,2,    96.02,2,    45.26,2,     0.00,2,     3.28,2, -999.000,9, -999.000,9, -999.000,9,-999.0000,9,  -999.00,9,-999.000,9,   -999,-999.0000,-999.000,-999.000,  4.5790,-999.000
     32MW893_3,  P04E,   195,  1,      8,      8,2,19890504,1459,  9.4967,-100.6617, 3591,   1195.5,   3.8930,  34.5820,2,  34.5789,2,   -999.0,5,     34.3,2,   111.78,2,    44.67,2,     0.00,2,     3.28,2, -999.000,9, -999.000,9, -999.000,9,-999.0000,9,  -999.00,9,-999.000,9,   -999,-999.0000,-999.000,-999.000,  3.8016,-999.000
     32MW893_3,  P04E,   195,  1,      7,      7,2,19890504,1459,  9.4967,-100.6617, 3591,   1396.0,   3.3512,  34.5972,2,  34.5971,2,   -999.0,5,     50.4,2,   123.59,2,    43.60,2,     0.00,2,     3.15,2, -999.000,9, -999.000,9, -999.000,9,-999.0000,9,  -999.00,9,-999.000,9,   -999,-999.0000,-999.000,-999.000,  3.2481,-999.000
     32MW893_3,  P04E,   195,  1,      6,      6,2,19890504,1459,  9.4967,-100.6617, 3591,   1799.9,   2.5315,  34.6352,2,  34.6319,2,   -999.0,5,     78.2,2,   141.52,2,    41.35,2,     0.00,2,     2.95,2, -999.000,9, -999.000,9, -999.000,9,-999.0000,9,  -999.00,9,-999.000,9,   -999,-999.0000,-999.000,-999.000,  2.4042,-999.000
     32MW893_3,  P04E,   195,  1,      5,      5,2,19890504,1459,  9.4967,-100.6617, 3591,   2201.8,   2.0077,  34.6583,2,  34.6571,2,   -999.0,5,    102.1,2,   153.33,2,    39.68,2,     0.00,2,     2.82,2, -999.000,9, -999.000,9, -999.000,9,-999.0000,9,  -999.00,9,-999.000,9,   -999,-999.0000,-999.000,-999.000,  1.8539,-999.000
     32MW893_3,  P04E,   195,  1,      4,      4,2,19890504,1459,  9.4967,-100.6617, 3591,   2601.1,   1.8398,  34.6684,2,  34.6667,2,   -999.0,5,    112.5,2,   156.38,2,    38.90,2,     0.00,2,     2.75,2,    0.005,2, -999.000,5, -999.000,9,-999.0000,9,  -999.00,9,-999.000,9,   -999,-999.0000,-999.000,-999.000,  1.6532,-999.000
     32MW893_3,  P04E,   195,  1,      3,      3,2,19890504,1459,  9.4967,-100.6617, 3591,   3002.8,   1.8308,  34.6704,2,  34.6696,2,   -999.0,5,    114.7,2,   156.77,2,    38.61,2,     0.00,2,     2.74,2,   -0.002,2, -999.000,5, -999.000,9,-999.0000,9,  -999.00,9,-999.000,9,   -999,-999.0000,-999.000,-999.000,  1.6064,-999.000
     32MW893_3,  P04E,   195,  1,      2,      2,2,19890504,1459,  9.4967,-100.6617, 3591,   3405.9,   1.8638,  34.6682,2,  34.6704,2,   -999.0,5,    115.1,2,   156.28,2,    38.51,2,     0.00,2,     2.74,2,    0.003,2, -999.000,5, -999.000,9,-999.0000,9,  -999.00,9,-999.000,9,   -999,-999.0000,-999.000,-999.000,  1.5983,-999.000
     32MW893_3,  P04E,   195,  1,      1,      1,2,19890504,1459,  9.4967,-100.6617, 3591,   3643.2,   1.8897,  34.6698,2,  34.6720,2,   -999.0,5,    115.6,2,   156.09,2,    38.51,2,     0.00,2,     2.75,2,   -0.001,2, -999.000,5, -999.000,9,-999.0000,9,  -999.00,9,-999.000,9,   -999,-999.0000,-999.000,-999.000,  1.5988,-999.000