BOTTLE,20020418WHPSIOdm
EXPOCODE,SECT_ID,STNNBR,CASTNO,SAMPNO,BTLNBR,BTLNBR_FLAG_W,DATE,TIME,LATITUDE,LONGITUDE,DEPTH,CTDPRS,CTDTMP,CTDSAL,CTDSAL_FLAG_W,SALNTY,SALNTY_FLAG_W,CTDOXY,CTDOXY_FLAG_W,OXYGEN,OXYGEN_FLAG_W,SILCAT,SILCAT_FLAG_W,NITRAT,NITRAT_FLAG_W,NITRIT,NITRIT_FLAG_W,PHSPHT,PHSPHT_FLAG_W,CFC-11,CFC-11_FLAG_W,CFC-12,CFC-12_FLAG_W,TRITUM,TRITUM_FLAG_W,HELIUM,HELIUM_FLAG_W,DELHE3,DELHE3_FLAG_W,NEON,NEON_FLAG_W,CTDRAW,HELIER,DELHER,NEONER,THETA,TRITER
,,,,,,,,,,,,DBAR,ITS-90,PSS-78,,PSS-78,,UMOL/KG,,UMOL/KG,,UMOL/KG,,UMOL/KG,,UMOL/KG,,UMOL/KG,,PMOL/KG,,PMOL/KG,,TU,,NMOL/KG,,PERCNT,,NMOL/KG,,,NMOL/KG,PERCNT,NMOL/KG,ITS-90,TU
     32MW893_3,  P04E,   146,  1,     24,     24,2,19890419,0006,  9.4900,-140.3333, 4978,      7.3,  26.1612,  34.7495,2,  34.7585,2,   -999.0,5,    218.1,2,     2.08,2,     0.39,2,     0.01,2,     0.28,2,    1.720,2,    0.965,2,    1.570,2,   1.8610,2,    -0.91,2,   7.303,2,   -999,  0.0080,   0.150,   0.044, 26.1596,   0.020
     32MW893_3,  P04E,   146,  1,     23,     23,2,19890419,0006,  9.4900,-140.3333, 4978,     47.7,  25.9673,  34.7724,2,  34.7402,2,   -999.0,5,    219.4,2,     1.89,2,     0.39,2,     0.01,2,     0.28,2,    1.761,2,    1.002,2,    1.594,2,   1.8670,2,    -0.77,2,   7.266,2,   -999,  0.0080,   0.150,   0.044, 25.9567,   0.022
     32MW893_3,  P04E,   146,  1,     22,     22,2,19890419,0006,  9.4900,-140.3333, 4978,     72.1,  24.5995,  34.4974,2,  34.4987,2,   -999.0,5,    213.4,2,     2.08,2,     0.49,2,     0.04,2,     0.32,2,    1.855,2,    1.001,2,    1.809,2,-999.0000,9,  -999.00,9,-999.000,9,   -999,-999.0000,-999.000,-999.000, 24.5841,   0.026
     32MW893_3,  P04E,   146,  1,     21,     21,2,19890419,0006,  9.4900,-140.3333, 4978,     97.8,  17.4383,  34.5366,2,  34.5604,2,   -999.0,5,    148.6,2,     7.15,2,    10.46,2,     0.51,2,     0.95,2,    1.805,2,    0.947,2,    2.456,2,-999.0000,9,  -999.00,9,-999.000,9,   -999,-999.0000,-999.000,-999.000, 17.4220,   0.022
     32MW893_3,  P04E,   146,  1,     20,     20,2,19890419,0006,  9.4900,-140.3333, 4978,    121.1,  13.9214,  34.5260,2,  34.5011,2,   -999.0,5,     44.8,2,    20.64,2,    27.27,2,     0.01,2,     2.09,2,    0.829,2,    0.431,2,    1.655,2,   1.8990,2,     9.51,2,   7.836,2,   -999,  0.0090,   0.150,   0.047, 13.9041,   0.018
     32MW893_3,  P04E,   146,  1,     19,     19,2,19890419,0006,  9.4900,-140.3333, 4978,    147.6,  12.6888,  34.7463,2,  34.7402,2,   -999.0,5,     12.6,2,    26.29,2,    33.43,2,     0.00,2,     2.38,2,    0.252,2,    0.162,2,    0.865,2,   1.9410,2,     8.45,2,   7.901,2,   -999,  0.0090,   0.150,   0.047, 12.6689,   0.015
     32MW893_3,  P04E,   146,  1,     18,     18,2,19890419,0006,  9.4900,-140.3333, 4978,    172.5,  11.9470,  34.7624,2,  34.7602,2,   -999.0,5,     14.3,2,    27.87,2,    33.91,2,     0.00,2,     2.38,2,    0.165,2, -999.000,5,    0.553,2,   1.9440,2,     7.71,2,   7.830,2,   -999,  0.0090,   0.150,   0.047, 11.9246,   0.011
     32MW893_3,  P04E,   146,  1,     17,     17,2,19890419,0006,  9.4900,-140.3333, 4978,    197.0,  11.5511,  34.7568,2,  34.7528,2,   -999.0,5,     16.5,2,    29.07,2,    34.01,2,     0.00,2,     2.39,2,    0.130,2, -999.000,5,    0.458,2,   1.9460,2,     6.87,2,   8.018,2,   -999,  0.0090,   0.150,   0.048, 11.5261,   0.009
     32MW893_3,  P04E,   146,  1,     16,     16,2,19890419,0006,  9.4900,-140.3333, 4978,    248.7,  10.7644,  34.7298,2,  34.7312,2,   -999.0,5,     16.1,2,    31.75,2,    34.70,2,     0.00,2,     2.45,2,    0.089,2,    0.062,2,    0.190,2,   1.9560,2,     6.03,2,   8.026,2,   -999,  0.0090,   0.150,   0.048, 10.7342,   0.007
     32MW893_3,  P04E,   146,  1,     15,     15,2,19890419,0006,  9.4900,-140.3333, 4978,    296.5,  10.4225,  34.7178,2,  34.7156,2,   -999.0,5,      7.8,2,    33.83,2,    35.28,2,     0.00,2,     2.56,2,    0.049,2, -999.000,5,    0.180,2,   1.9520,2,     5.61,2,   7.926,2,   -999,  0.0090,   0.150,   0.048, 10.3871,   0.007
     32MW893_3,  P04E,   146,  1,     14,     14,2,19890419,0006,  9.4900,-140.3333, 4978,    396.1,   9.2759,  34.6437,2,  34.6777,2,   -999.0,5,      5.2,2,    40.78,2,    36.65,2,     0.00,2,     2.75,2,    0.019,2,    0.012,2,    0.041,2,   1.9890,2,     5.10,2,   8.173,2,   -999,  0.0090,   0.150,   0.049,  9.2317,   0.007
     32MW893_3,  P04E,   146,  1,     13,     13,2,19890419,0006,  9.4900,-140.3333, 4978,    496.7,   8.0624,  34.5804,2,  34.5891,2,   -999.0,5,     18.7,2,    49.21,2,    38.12,2,     0.00,2,     2.82,2,    0.007,2,    0.015,2,    0.031,2,   2.0000,2,     6.89,2,   8.315,2,   -999,  0.0090,   0.150,   0.050,  8.0112,   0.007
     32MW893_3,  P04E,   146,  1,     12,     12,2,19890419,0006,  9.4900,-140.3333, 4978,    593.6,   6.9647,  34.5332,2,  34.5457,2,   -999.0,5,     26.5,2,    60.82,2,    39.98,2,     0.00,2,     2.95,2,    0.000,2, -999.000,5, -999.000,9,   2.0130,2,     9.07,2,   8.163,2,   -999,  0.0090,   0.150,   0.049,  6.9081,-999.000
     32MW893_3,  P04E,   146,  1,     11,     11,2,19890419,0006,  9.4900,-140.3333, 4978,    698.6,   5.8272,  34.5146,2,  34.5137,2,   -999.0,5,     26.1,2,    77.10,2,    42.33,2,     0.00,2,     3.10,2, -999.000,5,    0.021,2, -999.000,9,   2.0380,2,    11.84,2,   8.358,2,   -999,  0.0090,   0.150,   0.050,  5.7661,-999.000
     32MW893_3,  P04E,   146,  1,     10,     10,2,19890419,0006,  9.4900,-140.3333, 4978,    798.1,   5.2684,  34.5438,2,  34.5419,2,   -999.0,5,     26.1,2,    84.34,2,    43.99,2,     0.00,2,     3.14,2,    0.006,2, -999.000,5, -999.000,9,   2.0320,2,    14.49,2,   8.428,2,   -999,  0.0090,   0.150,   0.051,  5.2015,-999.000
     32MW893_3,  P04E,   146,  1,      9,      9,2,19890419,0006,  9.4900,-140.3333, 4978,    997.3,   4.2778,  34.5620,2,  34.5626,2,   -999.0,5,     44.8,2,   101.49,2,    43.50,2,     0.00,2,     3.13,2,   -0.003,2,    0.003,2, -999.000,9,   2.0660,2,    18.16,2,   8.598,2,   -999,  0.0090,   0.150,   0.052,  4.2001,-999.000
     32MW893_3,  P04E,   146,  1,      8,      8,2,19890419,0006,  9.4900,-140.3333, 4978,   1498.2,   2.8923,  34.6099,2,  34.6083,2,   -999.0,5,     73.9,2,   132.06,2,    41.84,2,     0.00,2,     2.97,2,   -0.003,2,   -0.005,2, -999.000,9,   2.0980,2,    23.59,2,   8.410,2,   -999,  0.0090,   0.150,   0.050,  2.7857,-999.000
     32MW893_3,  P04E,   146,  1,      7,      7,2,19890419,0006,  9.4900,-140.3333, 4978,   2003.8,   2.0867,  34.6469,2,  34.6466,2,   -999.0,5,    102.5,2,   148.82,2,    39.88,2,     0.00,2,     2.80,2,   -0.003,2,    0.001,2, -999.000,9,   2.0750,2,    26.83,2,   8.331,2,   -999,  0.0090,   0.150,   0.050,  1.9485,-999.000
     32MW893_3,  P04E,   146,  1,      6,      6,2,19890419,0006,  9.4900,-140.3333, 4978,   2508.6,   1.8418,  34.6653,2,  34.6677,2,   -999.0,5,    112.5,2,   155.86,2,    39.19,2,     0.00,2,     2.75,2,    0.001,2, -999.000,5, -999.000,9,   2.1250,2,    31.05,2,   8.685,2,   -999,  0.0100,   0.150,   0.052,  1.6636,-999.000
     32MW893_3,  P04E,   146,  1,      5,      5,2,19890419,0006,  9.4900,-140.3333, 4978,   3002.2,   1.6598,  34.6755,2,  34.6763,2,   -999.0,5,    126.0,2,   158.54,2,    38.41,2,     0.00,2,     2.67,2,   -0.003,2,    0.009,2, -999.000,9,   1.8700,2,    25.64,2,   7.758,2,   -999,  0.0080,   0.150,   0.047,  1.4393,-999.000
     32MW893_3,  P04E,   146,  1,      4,      4,2,19890419,0006,  9.4900,-140.3333, 4978,   3503.7,   1.4859,  34.6842,2,  34.6850,2,   -999.0,5,    145.6,2,   154.67,2,    37.04,2,     0.00,2,     2.56,2,   -0.001,2,    0.004,2, -999.000,9,   2.0860,2,    18.51,2,   8.629,2,   -999,  0.0090,   0.150,   0.052,  1.2198,-999.000
     32MW893_3,  P04E,   146,  1,      3,      3,2,19890419,0006,  9.4900,-140.3333, 4978,   4005.6,   1.3880,  34.6913,2,  34.6926,2,   -999.0,5,    165.1,2,   145.24,2,    35.87,2,     0.00,2,     2.48,2,   -0.003,2,   -0.003,2, -999.000,9,   2.0670,2,    15.22,2,   8.670,2,   -999,  0.0090,   0.150,   0.052,  1.0715,-999.000
     32MW893_3,  P04E,   146,  1,      2,      2,2,19890419,0006,  9.4900,-140.3333, 4978,   4505.7,   1.3880,  34.6944,2,  34.6954,2,   -999.0,5,    170.8,2,   141.07,2,    35.38,2,     0.00,2,     2.45,2,   -0.001,2,    0.007,2, -999.000,9,   2.1160,2,    13.97,2,   8.839,2,   -999,  0.0100,   0.150,   0.053,  1.0158,-999.000
     32MW893_3,  P04E,   146,  1,      1,      1,2,19890419,0006,  9.4900,-140.3333, 4978,   5056.6,   1.4400,  34.6946,2,  34.6968,2,   -999.0,5,    172.1,2,   139.58,2,    35.28,2,     0.00,2,     2.47,2,   -0.004,2,   -0.001,2, -999.000,9,   2.0890,2,    13.99,2,   8.745,2,   -999,  0.0090,   0.150,   0.052,  1.0008,-999.000
     32MW893_3,  P04E,   147,  1,     24,     24,2,19890419,0826,  9.5000,-139.5000, 5045,      5.8,  26.3022,  34.7889,2,  34.7888,2,   -999.0,5,    220.3,2,     0.99,2,     0.49,2,     0.02,2,     0.30,2,    1.642,2,    0.927,2, -999.000,9,-999.0000,9,  -999.00,9,-999.000,9,   -999,-999.0000,-999.000,-999.000, 26.3009,-999.000
     32MW893_3,  P04E,   147,  1,     23,     23,2,19890419,0826,  9.5000,-139.5000, 5045,     49.2,  26.3172,  34.7888,2,  34.7882,2,   -999.0,5,    220.3,2,     0.99,2,     0.49,2,     0.02,2,     0.32,2,    1.722,2,    0.968,2, -999.000,9,-999.0000,9,  -999.00,9,-999.000,9,   -999,-999.0000,-999.000,-999.000, 26.3061,-999.000
     32MW893_3,  P04E,   147,  1,     22,     22,2,19890419,0826,  9.5000,-139.5000, 5045,     97.3,  15.7028,  34.3952,2,  34.4609,2,   -999.0,5,    153.0,2,     6.55,2,     9.48,2,     0.28,2,     0.95,2,    1.864,2,    0.983,2, -999.000,9,-999.0000,9,  -999.00,9,-999.000,9,   -999,-999.0000,-999.000,-999.000, 15.6877,-999.000
     32MW893_3,  P04E,   147,  1,     21,     21,2,19890419,0826,  9.5000,-139.5000, 5045,    123.6,  13.1117,  34.6025,2,  34.6221,2,   -999.0,5,     17.4,2,    22.33,2,    30.69,2,     0.02,2,     2.37,2,    0.514,2,    0.277,2, -999.000,9,-999.0000,9,  -999.00,9,-999.000,9,   -999,-999.0000,-999.000,-999.000, 13.0947,-999.000
     32MW893_3,  P04E,   147,  1,     20,     20,2,19890419,0826,  9.5000,-139.5000, 5045,    147.1,  12.0900,  34.6775,2,  34.6946,2,   -999.0,5,     14.3,2,    26.59,2,    33.13,2,     0.01,2,     2.45,2,    0.229,6,    0.144,6, -999.000,9,-999.0000,9,  -999.00,9,-999.000,9,   -999,-999.0000,-999.000,-999.000, 12.0708,-999.000
     32MW893_3,  P04E,   147,  1,     19,     19,2,19890419,0826,  9.5000,-139.5000, 5045,    172.8,  11.5421,  34.7318,2,  34.7207,2,   -999.0,5,     15.6,2,    27.97,2,    33.72,2,     0.00,2,     2.46,2,    0.154,2,    0.104,2, -999.000,9,-999.0000,9,  -999.00,9,-999.000,9,   -999,-999.0000,-999.000,-999.000, 11.5202,-999.000
     32MW893_3,  P04E,   147,  1,     18,     18,2,19890419,0826,  9.5000,-139.5000, 5045,    196.3,  11.2742,  34.7206,2,  34.7217,2,   -999.0,5,     17.4,2,    28.87,2,    33.82,2,     0.00,2,     2.46,2,    0.117,2, -999.000,5, -999.000,9,-999.0000,9,  -999.00,9,-999.000,9,   -999,-999.0000,-999.000,-999.000, 11.2497,-999.000
     32MW893_3,  P04E,   147,  1,     17,     17,2,19890419,0826,  9.5000,-139.5000, 5045,    248.7,  10.6734,  34.7131,2,  34.7131,2,   -999.0,5,     21.3,2,    30.46,2,    34.31,2,     0.00,2,     2.47,2,    0.078,2,    0.056,2, -999.000,9,-999.0000,9,  -999.00,9,-999.000,9,   -999,-999.0000,-999.000,-999.000, 10.6433,-999.000
     32MW893_3,  P04E,   147,  1,     16,     16,2,19890419,0826,  9.5000,-139.5000, 5045,    297.7,  10.0637,  34.6895,2,  34.6903,2,   -999.0,5,     10.4,2,    33.73,2,    35.87,2,     0.00,2,     2.60,2,    0.032,2,    0.024,2, -999.000,9,-999.0000,9,  -999.00,9,-999.000,9,   -999,-999.0000,-999.000,-999.000, 10.0290,-999.000
     32MW893_3,  P04E,   147,  1,     15,     15,2,19890419,0826,  9.5000,-139.5000, 5045,    346.6,   9.5968,  34.6758,2,  34.6747,2,   -999.0,5,      8.7,2,    36.01,2,    36.85,2,     0.00,2,     2.67,2,    0.017,2, -999.000,5, -999.000,9,-999.0000,9,  -999.00,9,-999.000,9,   -999,-999.0000,-999.000,-999.000,  9.5574,-999.000
     32MW893_3,  P04E,   147,  1,     14,     14,2,19890419,0826,  9.5000,-139.5000, 5045,    395.0,   9.1530,  34.6514,2,  34.6555,2,   -999.0,5,      7.0,2,    39.68,2,    37.73,2,     0.00,2,     2.78,2,    0.017,2, -999.000,5, -999.000,9,-999.0000,9,  -999.00,9,-999.000,9,   -999,-999.0000,-999.000,-999.000,  9.1093,-999.000
     32MW893_3,  P04E,   147,  1,     13,     13,2,19890419,0826,  9.5000,-139.5000, 5045,    497.2,   8.0434,  34.5714,2,  34.5867,2,   -999.0,5,     13.0,2,    49.31,2,    38.22,2,     0.00,2,     2.91,2,    0.003,2, -999.000,5, -999.000,9,-999.0000,9,  -999.00,9,-999.000,9,   -999,-999.0000,-999.000,-999.000,  7.9922,-999.000
     32MW893_3,  P04E,   147,  1,     12,     12,2,19890419,0826,  9.5000,-139.5000, 5045,    599.2,   6.8108,  34.5388,2,  34.5418,2,   -999.0,5,     20.4,2,    61.32,2,    40.86,2,     0.00,2,     3.01,2,   -0.001,2, -999.000,5, -999.000,9,-999.0000,9,  -999.00,9,-999.000,9,   -999,-999.0000,-999.000,-999.000,  6.7543,-999.000
     32MW893_3,  P04E,   147,  1,     11,     11,2,19890419,0826,  9.5000,-139.5000, 5045,    697.0,   5.9882,  34.5254,2,  34.5262,2,   -999.0,5,     22.2,2,    72.23,2,    42.33,2,    -0.01,2,     3.10,2, -999.000,9, -999.000,9, -999.000,9,-999.0000,9,  -999.00,9,-999.000,9,   -999,-999.0000,-999.000,-999.000,  5.9264,-999.000
     32MW893_3,  P04E,   147,  1,     10,     10,2,19890419,0826,  9.5000,-139.5000, 5045,    798.5,   5.2404,  34.5440,2,  34.5380,2,   -999.0,5,     20.0,2,    84.14,2,    44.28,2,    -0.01,2,     3.21,2, -999.000,9, -999.000,9, -999.000,9,-999.0000,9,  -999.00,9,-999.000,9,   -999,-999.0000,-999.000,-999.000,  5.1736,-999.000
     32MW893_3,  P04E,   147,  1,      9,      9,2,19890419,0826,  9.5000,-139.5000, 5045,    997.8,   4.2428,  34.5633,2,  34.5598,2,   -999.0,5,     39.1,2,   102.30,2,    44.18,2,    -0.01,2,     3.17,2, -999.000,9, -999.000,9, -999.000,9,-999.0000,9,  -999.00,9,-999.000,9,   -999,-999.0000,-999.000,-999.000,  4.1653,-999.000
     32MW893_3,  P04E,   147,  1,      8,      8,2,19890419,0826,  9.5000,-139.5000, 5045,   1498.7,   2.8833,  34.6087,2,  34.6074,2,   -999.0,5,     75.6,2,   131.56,2,    41.64,2,    -0.01,2,     2.97,2,   -0.004,2,   -0.005,2, -999.000,9,-999.0000,9,  -999.00,9,-999.000,9,   -999,-999.0000,-999.000,-999.000,  2.7768,-999.000
     32MW893_3,  P04E,   147,  1,      7,      7,2,19890419,0826,  9.5000,-139.5000, 5045,   1999.1,   2.1197,  34.6461,2,  34.6445,2,   -999.0,5,     97.3,2,   149.41,2,    40.37,2,     0.00,2,     2.83,2,    0.001,2,   -0.003,2, -999.000,9,-999.0000,9,  -999.00,9,-999.000,9,   -999,-999.0000,-999.000,-999.000,  1.9814,-999.000
     32MW893_3,  P04E,   147,  1,      6,      6,2,19890419,0826,  9.5000,-139.5000, 5045,   2500.5,   1.8368,  34.6650,2,  34.6663,2,   -999.0,5,    112.5,2,   156.06,2,    39.19,2,     0.00,2,     2.77,2, -999.000,9, -999.000,9, -999.000,9,-999.0000,9,  -999.00,9,-999.000,9,   -999,-999.0000,-999.000,-999.000,  1.6594,-999.000
     32MW893_3,  P04E,   147,  1,      5,      5,2,19890419,0826,  9.5000,-139.5000, 5045,   2993.8,   1.6678,  34.6748,2,  34.6753,2,   -999.0,5,    125.1,2,   157.84,2,    38.32,2,     0.00,2,     2.68,2, -999.000,9, -999.000,9, -999.000,9,-999.0000,9,  -999.00,9,-999.000,9,   -999,-999.0000,-999.000,-999.000,  1.4480,-999.000
     32MW893_3,  P04E,   147,  1,      4,      4,2,19890419,0826,  9.5000,-139.5000, 5045,   3504.2,   1.4899,  34.6836,2,-999.0000,5,   -999.0,5,    143.0,2,   152.68,2,    37.44,2,     0.00,2,     2.60,2, -999.000,9, -999.000,9, -999.000,9,-999.0000,9,  -999.00,9,-999.000,9,   -999,-999.0000,-999.000,-999.000,  1.2237,-999.000
     32MW893_3,  P04E,   147,  1,      3,      3,2,19890419,0826,  9.5000,-139.5000, 5045,   4003.7,   1.3770,  34.6918,2,  34.6928,2,   -999.0,5,    164.7,2,   143.95,2,    35.77,2,     0.00,2,     2.45,2,    0.001,2,    0.010,2, -999.000,9,-999.0000,9,  -999.00,9,-999.000,9,   -999,-999.0000,-999.000,-999.000,  1.0610,-999.000
     32MW893_3,  P04E,   147,  1,      2,      2,2,19890419,0826,  9.5000,-139.5000, 5045,   4504.9,   1.3860,  34.6947,2,  34.6948,2,   -999.0,5,    171.2,2,   140.38,2,    35.38,2,     0.00,2,     2.42,2,   -0.003,2,   -0.003,2, -999.000,9,-999.0000,9,  -999.00,9,-999.000,9,   -999,-999.0000,-999.000,-999.000,  1.0140,-999.000
     32MW893_3,  P04E,   147,  1,      1,      1,2,19890419,0826,  9.5000,-139.5000, 5045,   5109.4,   1.4480,  34.6954,2,  34.6981,2,   -999.0,5,    171.2,2,   139.18,2,    35.28,2,     0.00,2,     2.43,2,   -0.004,2,   -0.005,2, -999.000,9,-999.0000,9,  -999.00,9,-999.000,9,   -999,-999.0000,-999.000,-999.000,  1.0021,-999.000