BOTTLE,20020418WHPSIOdm
EXPOCODE,SECT_ID,STNNBR,CASTNO,SAMPNO,BTLNBR,BTLNBR_FLAG_W,DATE,TIME,LATITUDE,LONGITUDE,DEPTH,CTDPRS,CTDTMP,CTDSAL,CTDSAL_FLAG_W,SALNTY,SALNTY_FLAG_W,CTDOXY,CTDOXY_FLAG_W,OXYGEN,OXYGEN_FLAG_W,SILCAT,SILCAT_FLAG_W,NITRAT,NITRAT_FLAG_W,NITRIT,NITRIT_FLAG_W,PHSPHT,PHSPHT_FLAG_W,CFC-11,CFC-11_FLAG_W,CFC-12,CFC-12_FLAG_W,TRITUM,TRITUM_FLAG_W,HELIUM,HELIUM_FLAG_W,DELHE3,DELHE3_FLAG_W,NEON,NEON_FLAG_W,CTDRAW,HELIER,DELHER,NEONER,THETA,TRITER
,,,,,,,,,,,,DBAR,ITS-90,PSS-78,,PSS-78,,UMOL/KG,,UMOL/KG,,UMOL/KG,,UMOL/KG,,UMOL/KG,,UMOL/KG,,PMOL/KG,,PMOL/KG,,TU,,NMOL/KG,,PERCNT,,NMOL/KG,,,NMOL/KG,PERCNT,NMOL/KG,ITS-90,TU
     32MW893_3,  P04E,   212,  1,     24,     24,2,19890509,1046,  9.4983, -87.3317, 3203,      8.5,  22.2348,  34.5801,2,  34.6791,2,   -999.0,5,    166.4,2,     4.43,2,    15.25,2,  -999.00,5,     1.42,2,    1.421,2,    0.785,2,    1.110,2,   1.7160,2,     0.36,2,-999.000,9,   -999,  0.0090,   0.080,-999.000, 22.2331,   0.024
     32MW893_3,  P04E,   212,  1,     23,     23,2,19890509,1046,  9.4983, -87.3317, 3203,     50.6,  14.0034,  34.8707,2,  34.8654,2,   -999.0,5,     41.7,2,    18.51,2,    28.93,2,  -999.00,5,     1.96,2,    0.522,2,    0.278,2,    1.001,2,   1.7740,2,     6.97,2,-999.000,9,   -999,  0.0100,   0.080,-999.000, 13.9961,   0.023
     32MW893_3,  P04E,   212,  1,     22,     22,2,19890509,1046,  9.4983, -87.3317, 3203,     74.8,  13.7426,  34.9120,2,  34.9142,2,   -999.0,5,     25.6,2,    19.20,2,    30.69,2,  -999.00,5,     2.10,2,    0.402,2,    0.223,2, -999.000,9,   1.7700,2,     6.36,2,-999.000,9,   -999,  0.0100,   0.080,-999.000, 13.7320,-999.000
     32MW893_3,  P04E,   212,  1,     21,     21,2,19890509,1046,  9.4983, -87.3317, 3203,    100.2,  13.4717,  34.9035,2,  34.9001,2,   -999.0,5,     15.6,2,    20.28,2,    31.96,2,  -999.00,5,     2.20,2,    0.336,2,    0.194,2,    0.741,2,   1.7710,2,     6.64,2,-999.000,9,   -999,  0.0100,   0.080,-999.000, 13.4576,   0.021
     32MW893_3,  P04E,   212,  1,     20,     20,2,19890509,1046,  9.4983, -87.3317, 3203,    124.0,  13.1367,  34.8732,2,  34.8767,2,   -999.0,5,      9.6,2,    21.96,2,    32.64,2,     0.16,2,     2.28,2,    0.278,2,    0.156,2,    0.658,2,   1.7750,2,     6.70,2,-999.000,9,   -999,  0.0100,   0.080,-999.000, 13.1196,   0.008
     32MW893_3,  P04E,   212,  1,     19,     19,2,19890509,1046,  9.4983, -87.3317, 3203,    148.4,  12.8769,  34.8601,2,  34.8599,2,   -999.0,5,      8.7,2,    23.04,2,    32.93,2,     0.06,2,     2.27,2,    0.255,2,    0.139,2,    0.596,2,   1.7720,2,     6.86,2,-999.000,9,   -999,  0.0100,   0.080,-999.000, 12.8567,   0.007
     32MW893_3,  P04E,   212,  1,     18,     18,2,19890509,1046,  9.4983, -87.3317, 3203,    174.0,  12.6450,  34.8508,2,  34.8483,2,   -999.0,5,      9.1,2,    23.83,2,    33.23,2,     0.06,2,     2.32,2,    0.229,2,    0.120,2,    0.557,2,   1.7870,2,     6.84,2,-999.000,9,   -999,  0.0100,   0.080,-999.000, 12.6216,   0.008
     32MW893_3,  P04E,   212,  1,     17,     17,2,19890509,1046,  9.4983, -87.3317, 3203,    199.3,  12.3601,  34.8323,2,  34.8275,2,   -999.0,5,      6.5,2,    25.20,2,    33.82,2,     0.03,2,     2.35,2,    0.191,2,    0.108,2,    0.500,2,   1.7780,2,     6.86,2,-999.000,9,   -999,  0.0100,   0.080,-999.000, 12.3336,   0.007
     32MW893_3,  P04E,   212,  1,     16,     16,2,19890509,1046,  9.4983, -87.3317, 3203,    248.0,  11.7504,  34.8047,2,  34.8021,2,   -999.0,5,      5.2,2,    27.57,2,    34.11,2,     0.02,2,     2.43,2,    0.150,2,    0.099,2,    0.423,2,   1.7910,2,     6.71,2,-999.000,9,   -999,  0.0100,   0.080,-999.000, 11.7185,   0.007
     32MW893_3,  P04E,   212,  1,     15,     15,2,19890509,1046,  9.4983, -87.3317, 3203,    297.6,  11.0377,  34.7600,2,  34.7538,2,   -999.0,5,     18.7,2,    29.24,2,    33.72,2,     0.02,2,     2.39,2,    0.130,2,    0.078,2,    0.345,2,-999.0000,9,  -999.00,9,-999.000,9,   -999,-999.0000,-999.000,-999.000, 11.0009,   0.007
     32MW893_3,  P04E,   212,  1,     14,     14,2,19890509,1046,  9.4983, -87.3317, 3203,    396.8,   9.8412,  34.7070,2,  34.7042,2,   -999.0,5,      3.0,2,    39.78,2,    33.43,2,     0.30,2,     2.75,2,    0.036,2,    0.028,2,    0.110,2,   1.7940,2,     6.02,2,-999.000,9,   -999,  0.0100,   0.080,-999.000,  9.7953,   0.005
     32MW893_3,  P04E,   212,  1,     13,     13,2,19890509,1046,  9.4983, -87.3317, 3203,    495.8,   8.4150,  34.6425,2,  34.6457,2,   -999.0,5,      3.9,2,    49.04,2,    36.65,2,     0.01,2,     2.95,2,    0.008,2,   -0.002,3,    0.031,2,   1.8070,2,     7.11,2,-999.000,9,   -999,  0.0100,   0.080,-999.000,  8.3626,   0.005
     32MW893_3,  P04E,   212,  1,     12,     12,2,19890509,1046,  9.4983, -87.3317, 3203,    619.6,   7.1507,  34.5985,2,  34.5999,2,   -999.0,5,      5.6,2,    60.27,2,    40.76,2,     0.01,2,     3.12,2, -999.000,9, -999.000,9, -999.000,9,-999.0000,9,  -999.00,9,-999.000,9,   -999,-999.0000,-999.000,-999.000,  7.0906,-999.000
     32MW893_3,  P04E,   212,  1,     11,     11,2,19890509,1046,  9.4983, -87.3317, 3203,    795.0,   5.8915,  34.5621,2,  34.5736,2,   -999.0,5,     10.9,2,    74.55,2,    43.89,2,     0.01,2,     3.22,2, -999.000,9, -999.000,9, -999.000,9,-999.0000,9,  -999.00,9,-999.000,9,   -999,-999.0000,-999.000,-999.000,  5.8209,-999.000
     32MW893_3,  P04E,   212,  1,     10,     10,2,19890509,1046,  9.4983, -87.3317, 3203,    991.9,   4.8481,  34.5676,2,  34.5679,2,   -999.0,5,     15.2,2,    92.47,2,    45.16,2,     0.02,2,     3.28,2, -999.000,9, -999.000,9, -999.000,9,-999.0000,9,  -999.00,9,-999.000,9,   -999,-999.0000,-999.000,-999.000,  4.7666,-999.000
     32MW893_3,  P04E,   212,  1,      9,      9,2,19890509,1046,  9.4983, -87.3317, 3203,   1241.3,   3.9458,  34.5845,2,  34.5844,2,   -999.0,5,     34.8,2,   110.59,2,    44.38,2,     0.01,2,     3.22,2, -999.000,9, -999.000,9, -999.000,9,-999.0000,9,  -999.00,9,-999.000,9,   -999,-999.0000,-999.000,-999.000,  3.8500,-999.000
     32MW893_3,  P04E,   212,  1,      8,      8,2,19890509,1046,  9.4983, -87.3317, 3203,   1491.9,   3.2352,  34.6071,2,  34.6077,2,   -999.0,5,     53.9,2,   126.54,2,    43.01,2,     0.01,2,     3.11,2, -999.000,9, -999.000,9, -999.000,9,-999.0000,9,  -999.00,9,-999.000,9,   -999,-999.0000,-999.000,-999.000,  3.1253,-999.000
     32MW893_3,  P04E,   212,  1,      7,      7,2,19890509,1046,  9.4983, -87.3317, 3203,   1739.5,   2.6877,  34.6288,2,  34.6274,2,   -999.0,5,     73.0,2,   138.76,2,    41.64,2,     0.00,2,     2.95,2, -999.000,9, -999.000,9, -999.000,9,-999.0000,9,  -999.00,9,-999.000,9,   -999,-999.0000,-999.000,-999.000,  2.5634,-999.000
     32MW893_3,  P04E,   212,  1,      6,      6,2,19890509,1046,  9.4983, -87.3317, 3203,   1990.9,   2.3169,  34.6428,2,  34.6447,2,   -999.0,5,     88.6,2,   146.04,2,    40.47,2,     0.02,2,     2.87,2, -999.000,9, -999.000,9, -999.000,9,-999.0000,9,  -999.00,9,-999.000,9,   -999,-999.0000,-999.000,-999.000,  2.1765,-999.000
     32MW893_3,  P04E,   212,  1,      5,      5,2,19890509,1046,  9.4983, -87.3317, 3203,   2290.8,   1.9552,  34.6613,2,  34.6614,2,   -999.0,5,    103.8,2,   154.51,2,    39.29,2,     0.02,2,     2.77,2, -999.000,9, -999.000,9, -999.000,9,-999.0000,9,  -999.00,9,-999.000,9,   -999,-999.0000,-999.000,-999.000,  1.7945,-999.000
     32MW893_3,  P04E,   212,  1,      4,      4,2,19890509,1046,  9.4983, -87.3317, 3203,   2590.1,   1.8284,  34.6700,2,  34.6683,2,   -999.0,5,    110.8,2,   157.56,2,    38.90,2,     0.01,2,     2.74,2, -999.000,9, -999.000,9, -999.000,9,-999.0000,9,  -999.00,9,-999.000,9,   -999,-999.0000,-999.000,-999.000,  1.6430,-999.000
     32MW893_3,  P04E,   212,  1,      3,      3,2,19890509,1046,  9.4983, -87.3317, 3203,   2789.0,   1.8174,  34.6708,2,  34.6690,2,   -999.0,5,    112.5,2,   157.66,2,    38.71,2,     0.02,2,     2.70,2,    0.000,2, -999.000,5, -999.000,9,-999.0000,9,  -999.00,9,-999.000,9,   -999,-999.0000,-999.000,-999.000,  1.6138,-999.000
     32MW893_3,  P04E,   212,  1,      2,      2,2,19890509,1046,  9.4983, -87.3317, 3203,   2990.6,   1.8264,  34.6713,2,  34.6702,2,   -999.0,5,    111.7,2,   158.35,2,    38.71,2,     0.01,2,     2.73,2,   -0.001,2,   -0.001,2, -999.000,9,-999.0000,9,  -999.00,9,-999.000,9,   -999,-999.0000,-999.000,-999.000,  1.6033,-999.000
     32MW893_3,  P04E,   212,  1,      1,      1,2,19890509,1046,  9.4983, -87.3317, 3203,   3247.5,   1.8483,  34.6714,2,  34.6718,2,   -999.0,5,    112.1,2,   158.15,2,    38.24,2,     0.02,2,     2.74,2,    0.005,2,   -0.001,2, -999.000,9,-999.0000,9,  -999.00,9,-999.000,9,   -999,-999.0000,-999.000,-999.000,  1.5993,-999.000
     32MW893_3,  P04E,   213,  1,     24,     24,2,19890509,1616,  9.4850, -86.6733, 3143,      5.1,  25.2547,  34.5977,2,  34.3146,2,   -999.0,5,    208.6,2,     5.12,2,     6.06,2,  -999.00,5,     0.68,2,    1.384,2,    0.829,2, -999.000,9,-999.0000,9,  -999.00,9,-999.000,9,   -999,-999.0000,-999.000,-999.000, 25.2536,-999.000
     32MW893_3,  P04E,   213,  1,     23,     23,2,19890509,1616,  9.4850, -86.6733, 3143,     50.0,  14.7693,  34.8878,2,  34.8829,2,   -999.0,5,     20.4,2,    20.08,2,    29.42,2,  -999.00,5,     2.10,2,    0.505,2,    0.272,2, -999.000,9,-999.0000,9,  -999.00,9,-999.000,9,   -999,-999.0000,-999.000,-999.000, 14.7618,-999.000
     32MW893_3,  P04E,   213,  1,     22,     22,2,19890509,1616,  9.4850, -86.6733, 3143,     99.8,  13.8346,  34.9133,2,  34.9052,2,   -999.0,5,     13.9,2,    21.96,2,    31.17,2,  -999.00,5,     2.15,2,    0.391,2,    0.204,2, -999.000,9,-999.0000,9,  -999.00,9,-999.000,9,   -999,-999.0000,-999.000,-999.000, 13.8203,-999.000
     32MW893_3,  P04E,   213,  1,     21,     21,2,19890509,1616,  9.4850, -86.6733, 3143,    123.9,  13.6376,  34.9085,2,  34.9038,2,   -999.0,5,     14.3,2,    22.15,2,    31.37,2,  -999.00,5,     2.13,2,    0.358,2,    0.192,2, -999.000,9,-999.0000,9,  -999.00,9,-999.000,9,   -999,-999.0000,-999.000,-999.000, 13.6201,-999.000
     32MW893_3,  P04E,   213,  1,     20,     20,2,19890509,1616,  9.4850, -86.6733, 3143,    149.8,  13.5606,  34.9059,2,  34.9028,2,   -999.0,5,     13.0,2,    22.74,2,    31.57,2,  -999.00,5,     2.17,2,    0.345,2,    0.188,2, -999.000,9,-999.0000,9,  -999.00,9,-999.000,9,   -999,-999.0000,-999.000,-999.000, 13.5395,-999.000
     32MW893_3,  P04E,   213,  1,     19,     19,2,19890509,1616,  9.4850, -86.6733, 3143,    172.7,  13.3797,  34.8969,2,  34.8926,2,   -999.0,5,     12.2,2,    23.24,2,    31.86,2,  -999.00,5,     2.17,2,    0.321,2,    0.182,2, -999.000,9,-999.0000,9,  -999.00,9,-999.000,9,   -999,-999.0000,-999.000,-999.000, 13.3555,-999.000
     32MW893_3,  P04E,   213,  1,     18,     18,2,19890509,1616,  9.4850, -86.6733, 3143,    197.8,  13.1168,  34.8861,2,  34.8869,2,   -999.0,5,      8.3,2,    24.02,2,    32.25,2,  -999.00,5,     2.22,2,    0.282,2,    0.158,2, -999.000,9,-999.0000,9,  -999.00,9,-999.000,9,   -999,-999.0000,-999.000,-999.000, 13.0895,-999.000
     32MW893_3,  P04E,   213,  1,     17,     17,2,19890509,1616,  9.4850, -86.6733, 3143,    249.7,  12.5660,  34.7465,2,  34.8450,2,   -999.0,5,      7.8,2,    25.70,2,    33.13,2,  -999.00,5,     2.28,2,    0.222,2,    0.129,2, -999.000,9,-999.0000,9,  -999.00,9,-999.000,9,   -999,-999.0000,-999.000,-999.000, 12.5324,-999.000
     32MW893_3,  P04E,   213,  1,     16,     16,2,19890509,1616,  9.4850, -86.6733, 3143,    297.4,  11.9062,  34.8107,2,  34.8104,2,   -999.0,5,     20.4,2,    27.37,2,    32.45,2,  -999.00,5,     2.24,2,    0.208,2,    0.111,2, -999.000,9,-999.0000,9,  -999.00,9,-999.000,9,   -999,-999.0000,-999.000,-999.000, 11.8676,-999.000
     32MW893_3,  P04E,   213,  1,     15,     15,2,19890509,1616,  9.4850, -86.6733, 3143,    397.3,  10.0511,  34.6761,2,  34.7095,2,   -999.0,5,      1.7,2,    38.50,2,    32.06,2,  -999.00,5,     2.64,2,    0.034,2,    0.022,2, -999.000,9,-999.0000,9,  -999.00,9,-999.000,9,   -999,-999.0000,-999.000,-999.000, 10.0045,-999.000
     32MW893_3,  P04E,   213,  1,     14,     14,2,19890509,1616,  9.4850, -86.6733, 3143,    495.4,   8.7178,  34.6535,2,  34.6494,2,   -999.0,5,      1.7,2,    51.70,2,    32.45,2,  -999.00,5,     2.92,2,    0.014,2,    0.015,2, -999.000,9,-999.0000,9,  -999.00,9,-999.000,9,   -999,-999.0000,-999.000,-999.000,  8.6643,-999.000
     32MW893_3,  P04E,   213,  1,     13,     13,2,19890509,1616,  9.4850, -86.6733, 3143,    595.5,   7.3495,  34.6023,2,  34.6032,2,   -999.0,5,      2.2,2,    61.36,2,    38.51,2,  -999.00,5,     3.06,2, -999.000,9, -999.000,9, -999.000,9,-999.0000,9,  -999.00,9,-999.000,9,   -999,-999.0000,-999.000,-999.000,  7.2909,-999.000
     32MW893_3,  P04E,   213,  1,     12,     12,2,19890509,1616,  9.4850, -86.6733, 3143,    694.8,   6.4382,  34.5793,2,  34.5769,2,   -999.0,5,      2.2,2,    71.10,2,    41.35,2,  -999.00,5,     3.19,2, -999.000,9, -999.000,9, -999.000,9,-999.0000,9,  -999.00,9,-999.000,9,   -999,-999.0000,-999.000,-999.000,  6.3741,-999.000
     32MW893_3,  P04E,   213,  1,     11,     11,2,19890509,1616,  9.4850, -86.6733, 3143,    793.9,   5.7985,  34.5693,2,  34.5702,2,   -999.0,5,      6.5,2,    79.08,2,    43.89,2,  -999.00,5,     3.21,2, -999.000,9, -999.000,9, -999.000,9,-999.0000,9,  -999.00,9,-999.000,9,   -999,-999.0000,-999.000,-999.000,  5.7286,-999.000
     32MW893_3,  P04E,   213,  1,     10,     10,2,19890509,1616,  9.4850, -86.6733, 3143,    993.4,   4.7233,  34.5676,2,  34.5769,2,   -999.0,5,     20.0,2,    96.71,2,    44.77,2,  -999.00,5,     3.21,2, -999.000,9, -999.000,9, -999.000,9,-999.0000,9,  -999.00,9,-999.000,9,   -999,-999.0000,-999.000,-999.000,  4.6425,-999.000
     32MW893_3,  P04E,   213,  1,      9,      9,2,19890509,1616,  9.4850, -86.6733, 3143,   1239.6,   3.7799,  34.5865,2,  34.5865,2,   -999.0,5,     38.2,2,   114.43,2,    44.08,2,  -999.00,5,     3.17,2, -999.000,9, -999.000,9, -999.000,9,-999.0000,9,  -999.00,9,-999.000,9,   -999,-999.0000,-999.000,-999.000,  3.6858,-999.000
     32MW893_3,  P04E,   213,  1,      8,      8,2,19890509,1616,  9.4850, -86.6733, 3143,   1490.6,   3.1863,  34.6126,2,  34.6121,2,   -999.0,5,     58.2,2,   127.92,2,    42.52,2,  -999.00,5,     3.05,2, -999.000,9, -999.000,9, -999.000,9,-999.0000,9,  -999.00,9,-999.000,9,   -999,-999.0000,-999.000,-999.000,  3.0771,-999.000
     32MW893_3,  P04E,   213,  1,      7,      7,2,19890509,1616,  9.4850, -86.6733, 3143,   1738.7,   2.6657,  34.6283,2,  34.6296,2,   -999.0,5,     76.5,2,   137.97,2,    41.15,2,  -999.00,5,     2.91,2, -999.000,9, -999.000,9, -999.000,9,-999.0000,9,  -999.00,9,-999.000,9,   -999,-999.0000,-999.000,-999.000,  2.5418,-999.000
     32MW893_3,  P04E,   213,  1,      6,      6,2,19890509,1616,  9.4850, -86.6733, 3143,   1988.8,   2.2870,  34.6452,2,  34.6447,2,   -999.0,5,     90.4,2,   146.24,2,    40.17,2,  -999.00,5,     2.82,2, -999.000,9, -999.000,9, -999.000,9,-999.0000,9,  -999.00,9,-999.000,9,   -999,-999.0000,-999.000,-999.000,  2.1471,-999.000
     32MW893_3,  P04E,   213,  1,      5,      5,2,19890509,1616,  9.4850, -86.6733, 3143,   2239.5,   2.0092,  34.6579,2,  34.6592,2,   -999.0,5,     98.2,2,   153.72,2,    39.49,2,  -999.00,5,     2.78,2, -999.000,9, -999.000,9, -999.000,9,-999.0000,9,  -999.00,9,-999.000,9,   -999,-999.0000,-999.000,-999.000,  1.8521,-999.000
     32MW893_3,  P04E,   213,  1,      4,      4,2,19890509,1616,  9.4850, -86.6733, 3143,   2488.6,   1.8403,  34.6672,2,  34.6669,2,   -999.0,5,    104.3,2,   156.98,2,    38.90,2,  -999.00,5,     2.70,2, -999.000,9, -999.000,9, -999.000,9,-999.0000,9,  -999.00,9,-999.000,9,   -999,-999.0000,-999.000,-999.000,  1.6639,-999.000
     32MW893_3,  P04E,   213,  1,      3,      3,2,19890509,1616,  9.4850, -86.6733, 3143,   2739.0,   1.8144,  34.6715,2,  34.6698,2,   -999.0,5,    111.2,2,   157.76,2,    38.51,2,  -999.00,5,     2.69,2, -999.000,9, -999.000,9, -999.000,9,-999.0000,9,  -999.00,9,-999.000,9,   -999,-999.0000,-999.000,-999.000,  1.6155,-999.000
     32MW893_3,  P04E,   213,  1,      2,      2,2,19890509,1616,  9.4850, -86.6733, 3143,   2989.8,   1.8294,  34.6722,2,  34.6716,2,   -999.0,5,    112.1,2,   158.05,2,    38.51,2,  -999.00,5,     2.69,2,    0.001,2,   -0.001,2, -999.000,9,-999.0000,9,  -999.00,9,-999.000,9,   -999,-999.0000,-999.000,-999.000,  1.6063,-999.000
     32MW893_3,  P04E,   213,  1,      1,      1,2,19890509,1616,  9.4850, -86.6733, 3143,   3175.8,   1.8463,  34.6702,2,-999.0000,5,   -999.0,5,    112.1,2,   159.04,2,    38.51,2,  -999.00,5,     2.70,2,    0.001,2,   -0.001,2, -999.000,9,-999.0000,9,  -999.00,9,-999.000,9,   -999,-999.0000,-999.000,-999.000,  1.6045,-999.000