BOTTLE,20020418WHPSIOdm
EXPOCODE,SECT_ID,STNNBR,CASTNO,SAMPNO,BTLNBR,BTLNBR_FLAG_W,DATE,TIME,LATITUDE,LONGITUDE,DEPTH,CTDPRS,CTDTMP,CTDSAL,CTDSAL_FLAG_W,SALNTY,SALNTY_FLAG_W,CTDOXY,CTDOXY_FLAG_W,OXYGEN,OXYGEN_FLAG_W,SILCAT,SILCAT_FLAG_W,NITRAT,NITRAT_FLAG_W,NITRIT,NITRIT_FLAG_W,PHSPHT,PHSPHT_FLAG_W,CFC-11,CFC-11_FLAG_W,CFC-12,CFC-12_FLAG_W,TRITUM,TRITUM_FLAG_W,HELIUM,HELIUM_FLAG_W,DELHE3,DELHE3_FLAG_W,NEON,NEON_FLAG_W,CTDRAW,HELIER,DELHER,NEONER,THETA,TRITER
,,,,,,,,,,,,DBAR,ITS-90,PSS-78,,PSS-78,,UMOL/KG,,UMOL/KG,,UMOL/KG,,UMOL/KG,,UMOL/KG,,UMOL/KG,,PMOL/KG,,PMOL/KG,,TU,,NMOL/KG,,PERCNT,,NMOL/KG,,,NMOL/KG,PERCNT,NMOL/KG,ITS-90,TU
     32MW893_3,  P04E,   182,  1,     24,     24,2,19890501,0359,  9.5000,-110.3350, 3702,      5.3,  28.2038,  34.3033,2,  34.3027,2,   -999.0,5,    212.1,2,     0.39,2,     0.10,2,    -0.01,2,     0.28,2,    1.587,3,    0.911,2,    1.538,2,   1.8700,2,    -0.82,2,   7.152,2,   -999,  0.0080,   0.150,   0.043, 28.2025,   0.025
     32MW893_3,  P04E,   182,  1,     23,     23,2,19890501,0359,  9.5000,-110.3350, 3702,     45.5,  24.2286,  34.3921,2,  34.3213,2,   -999.0,5,    178.2,2,    12.11,2,     4.01,2,     0.30,2,     0.62,2,    1.532,3,    0.894,2,    1.536,2,   1.8880,2,     0.47,2,   7.369,2,   -999,  0.0080,   0.150,   0.044, 24.2190,   0.023
     32MW893_3,  P04E,   182,  1,     22,     22,2,19890501,0359,  9.5000,-110.3350, 3702,     71.3,  13.7704,  34.8129,2,  34.7805,2,   -999.0,5,     16.5,2,    21.56,2,    31.28,2,     0.08,2,     2.21,2,    0.427,2,    0.241,2,    1.004,2,   1.8950,2,     8.49,2,   7.732,2,   -999,  0.0090,   0.150,   0.046, 13.7603,   0.022
     32MW893_3,  P04E,   182,  1,     21,     21,2,19890501,0359,  9.5000,-110.3350, 3702,     97.0,  13.0377,  34.8075,2,  34.8149,2,   -999.0,5,     20.4,2,    23.05,2,    31.57,2,     0.00,2,     2.19,2,    0.341,2, -999.000,5,    0.917,2,   1.9340,2,     8.02,2,   7.860,2,   -999,  0.0090,   0.150,   0.047, 13.0244,   0.036
     32MW893_3,  P04E,   182,  1,     20,     20,2,19890501,0359,  9.5000,-110.3350, 3702,    124.8,  12.6518,  34.8140,2,  34.8131,2,   -999.0,5,     26.1,2,    24.12,2,    31.67,2,     0.00,2,     2.19,2,    0.279,2, -999.000,5, -999.000,9,   1.9460,2,     7.48,2,   7.874,2,   -999,  0.0090,   0.150,   0.047, 12.6350,-999.000
     32MW893_3,  P04E,   182,  1,     19,     19,2,19890501,0359,  9.5000,-110.3350, 3702,    145.8,  12.3319,  34.8066,2,  34.7988,2,   -999.0,5,     27.4,2,    24.81,2,    31.76,2,     0.00,2,     2.19,2,    0.268,2,    0.164,2,    0.640,2,   1.9540,2,     7.23,2,   7.883,2,   -999,  0.0090,   0.150,   0.047, 12.3126,   0.006
     32MW893_3,  P04E,   182,  1,     18,     18,2,19890501,0359,  9.5000,-110.3350, 3702,    170.3,  11.9510,  34.7914,2,  34.7834,2,   -999.0,5,     32.2,2,    26.00,2,    31.76,2,     0.00,2,     2.21,2,    0.231,2,    0.152,2,    0.589,2,   1.9660,2,     6.80,2,   7.987,2,   -999,  0.0090,   0.150,   0.048, 11.9289,   0.005
     32MW893_3,  P04E,   182,  1,     17,     17,2,19890501,0359,  9.5000,-110.3350, 3702,    195.8,  11.6211,  34.7758,2,  34.7777,2,   -999.0,5,     33.9,2,    26.68,2,    31.96,2,     0.00,2,     2.21,2,    0.209,2, -999.000,5, -999.000,9,   1.9730,2,     6.65,2,   8.022,2,   -999,  0.0090,   0.150,   0.048, 11.5961,-999.000
     32MW893_3,  P04E,   182,  1,     16,     16,2,19890501,0359,  9.5000,-110.3350, 3702,    246.1,  11.2302,  34.7651,2,  34.7555,2,   -999.0,5,     36.1,2,    28.16,2,    32.25,2,     0.00,2,     2.27,2,    0.172,2,    0.111,2,    0.443,2,   1.9630,2,     6.78,2,   8.110,2,   -999,  0.0090,   0.150,   0.049, 11.1995,   0.005
     32MW893_3,  P04E,   182,  1,     15,     15,2,19890501,0359,  9.5000,-110.3350, 3702,    297.0,  10.8374,  34.7327,2,  34.7357,2,   -999.0,5,     31.3,2,    29.84,2,    32.94,2,     0.00,2,     2.33,2,    0.131,2, -999.000,5,    0.353,2,   1.9560,2,     6.55,2,   8.058,2,   -999,  0.0090,   0.150,   0.048, 10.8011,   0.005
     32MW893_3,  P04E,   182,  1,     14,     14,2,19890501,0359,  9.5000,-110.3350, 3702,    398.4,   9.6778,  34.6779,2,  34.6966,2,   -999.0,5,     13.5,2,    36.14,2,    35.09,2,     0.00,2,     2.58,2,    0.043,2,    0.032,2,    0.139,2,   1.9720,2,     5.87,2,   7.956,2,   -999,  0.0090,   0.150,   0.048,  9.6322,   0.004
     32MW893_3,  P04E,   182,  1,     13,     13,2,19890501,0359,  9.5000,-110.3350, 3702,    496.0,   8.7051,  34.6368,2,  34.6315,2,   -999.0,5,      6.5,2,    46.28,2,    35.48,2,     0.00,2,     2.86,2,    0.014,2,    0.015,2,    0.035,2,   1.9910,2,     6.39,2,   8.002,2,   -999,  0.0090,   0.150,   0.048,  8.6516,   0.004
     32MW893_3,  P04E,   182,  1,     12,     12,2,19890501,0359,  9.5000,-110.3350, 3702,    621.9,   7.5006,  34.5930,2,  34.5938,2,   -999.0,5,      3.9,2,    57.52,2,    38.71,2,     0.00,2,     3.07,2,    0.001,2,    0.009,2, -999.000,9,   1.9940,2,     8.77,2,   8.151,2,   -999,  0.0090,   0.150,   0.049,  7.4386,-999.000
     32MW893_3,  P04E,   182,  1,     11,     11,2,19890501,0359,  9.5000,-110.3350, 3702,    798.5,   5.9212,  34.5529,2,  34.5502,2,   -999.0,5,      9.6,2,    74.85,2,    43.21,2,     0.00,2,     3.18,2,   -0.001,2, -999.000,5, -999.000,9,   2.0400,2,    12.76,2,   8.404,2,   -999,  0.0090,   0.150,   0.050,  5.8502,-999.000
     32MW893_3,  P04E,   182,  1,     10,     10,2,19890501,0359,  9.5000,-110.3350, 3702,    895.9,   5.4003,  34.5533,2,  34.5504,2,   -999.0,5,     24.3,2,    81.54,2,    43.89,2,     0.00,2,     3.18,2, -999.000,9, -999.000,9, -999.000,9,   2.0380,2,    14.18,2,   8.464,2,   -999,  0.0090,   0.150,   0.051,  5.3235,-999.000
     32MW893_3,  P04E,   182,  1,      9,      9,2,19890501,0359,  9.5000,-110.3350, 3702,    995.5,   4.9615,  34.5602,2,  34.5539,2,   -999.0,5,     20.0,2,    90.02,2,    44.28,2,     0.00,2,     3.24,2, -999.000,9, -999.000,9, -999.000,9,   2.0280,2,    16.16,2,   8.451,2,   -999,  0.0090,   0.150,   0.051,  4.8788,-999.000
     32MW893_3,  P04E,   182,  1,      8,      8,2,19890501,0359,  9.5000,-110.3350, 3702,   1298.0,   3.7740,  34.5825,2,  34.5812,2,   -999.0,5,     48.2,2,   112.37,2,    43.01,2,     0.00,2,     3.11,2, -999.000,9, -999.000,9, -999.000,9,   2.0770,2,    20.50,2,   8.635,2,   -999,  0.0090,   0.150,   0.052,  3.6750,-999.000
     32MW893_3,  P04E,   182,  1,      7,      7,2,19890501,0359,  9.5000,-110.3350, 3702,   1597.1,   3.0343,  34.6076,2,  34.6056,2,   -999.0,5,     68.7,2,   128.81,2,    41.64,2,     0.00,2,     3.00,2, -999.000,9, -999.000,9, -999.000,9,   2.0940,2,    23.56,2,   8.621,2,   -999,  0.0090,   0.150,   0.052,  2.9178,-999.000
     32MW893_3,  P04E,   182,  1,      6,      6,2,19890501,0359,  9.5000,-110.3350, 3702,   1697.7,   2.8383,  34.6158,2,  34.6140,2,   -999.0,5,     76.0,2,   133.14,2,    41.15,2,     0.00,2,     2.94,2, -999.000,9, -999.000,9, -999.000,9,   2.1050,2,    23.84,2,   8.626,2,   -999,  0.0090,   0.150,   0.052,  2.7156,-999.000
     32MW893_3,  P04E,   182,  1,      5,      5,2,19890501,0359,  9.5000,-110.3350, 3702,   2199.4,   2.1087,  34.6536,2,  34.6498,2,   -999.0,5,     96.9,2,   149.88,2,    39.68,2,     0.00,2,     2.81,2, -999.000,9, -999.000,9, -999.000,9,   2.0960,2,    31.88,2,   8.507,2,   -999,  0.0090,   0.150,   0.051,  1.9533,-999.000
     32MW893_3,  P04E,   182,  1,      4,      4,2,19890501,0359,  9.5000,-110.3350, 3702,   2597.8,   1.8638,  34.6692,2,  34.6687,2,   -999.0,5,    111.2,2,   155.89,2,    38.71,2,     0.00,2,     2.73,2,   -0.002,2,   -0.002,2, -999.000,9,   2.1050,2,    34.14,2,   8.325,2,   -999,  0.0090,   0.150,   0.050,  1.6770,-999.000
     32MW893_3,  P04E,   182,  1,      3,      3,2,19890501,0359,  9.5000,-110.3350, 3702,   3003.2,   1.7738,  34.6747,2,  34.6726,2,   -999.0,5,    119.9,2,   156.67,2,    38.12,2,     0.00,2,     2.68,2,    0.000,2,    0.005,2, -999.000,9,   1.7100,2,    31.93,2,   6.688,2,   -999,  0.0080,   0.150,   0.040,  1.5506,-999.000
     32MW893_3,  P04E,   182,  1,      2,      2,2,19890501,0359,  9.5000,-110.3350, 3702,   3507.9,   1.6198,  34.6806,2,  34.6818,2,   -999.0,5,    134.3,2,   155.29,2,    37.44,2,     0.00,2,     2.62,2, -999.000,9, -999.000,9, -999.000,9,   2.1400,2,    22.85,2,   8.820,2,   -999,  0.0100,   0.150,   0.053,  1.3499,-999.000
     32MW893_3,  P04E,   182,  1,      1,      1,2,19890501,0359,  9.5000,-110.3350, 3702,   3746.6,   1.6178,  34.6803,2,  34.6802,2,   -999.0,5,    135.6,2,   154.80,2,    37.24,2,     0.00,2,     2.59,2,   -0.002,2,   -0.002,2, -999.000,9,   2.1220,2,    21.71,2,   8.731,2,   -999,  0.0100,   0.150,   0.052,  1.3230,-999.000
     32MW893_3,  P04E,   183,  1,     24,     24,2,19890501,1114,  9.4950,-109.5000, 4062,      6.5,  28.2958,  34.1666,2,  34.1666,2,   -999.0,5,    214.7,2,     0.59,2,     0.68,2,     0.00,2,     0.29,2,    1.577,2,    0.884,2, -999.000,9,-999.0000,9,  -999.00,9,-999.000,9,   -999,-999.0000,-999.000,-999.000, 28.2943,-999.000
     32MW893_3,  P04E,   183,  1,     23,     23,2,19890501,1114,  9.4950,-109.5000, 4062,     46.5,  25.4024,  34.2474,2,  34.2882,2,   -999.0,5,    174.3,2,     2.46,2,     8.51,2,     2.41,2,     0.84,2,    1.646,3,    0.913,2, -999.000,9,-999.0000,9,  -999.00,9,-999.000,9,   -999,-999.0000,-999.000,-999.000, 25.3922,-999.000
     32MW893_3,  P04E,   183,  1,     22,     22,2,19890501,1114,  9.4950,-109.5000, 4062,     95.3,  13.4476,  34.7962,2,  34.8102,2,   -999.0,5,      6.1,2,    23.44,2,    31.96,2,     0.00,2,     2.36,2,    0.321,2,    0.205,2, -999.000,9,-999.0000,9,  -999.00,9,-999.000,9,   -999,-999.0000,-999.000,-999.000, 13.4343,-999.000
     32MW893_3,  P04E,   183,  1,     21,     21,2,19890501,1114,  9.4950,-109.5000, 4062,    122.4,  12.6808,  34.8062,2,  34.7884,2,   -999.0,5,     16.9,2,    25.01,2,    32.45,2,     0.00,2,     2.29,2,    0.266,2,    0.149,2, -999.000,9,-999.0000,9,  -999.00,9,-999.000,9,   -999,-999.0000,-999.000,-999.000, 12.6643,-999.000
     32MW893_3,  P04E,   183,  1,     20,     20,2,19890501,1114,  9.4950,-109.5000, 4062,    146.8,  12.2110,  34.7955,2,  34.7976,2,   -999.0,5,     20.4,2,    25.90,2,    32.55,2,     0.00,2,     2.29,2,    0.216,2,    0.141,2, -999.000,9,-999.0000,9,  -999.00,9,-999.000,9,   -999,-999.0000,-999.000,-999.000, 12.1917,-999.000
     32MW893_3,  P04E,   183,  1,     19,     19,2,19890501,1114,  9.4950,-109.5000, 4062,    170.5,  11.9570,  34.7982,2,  34.7917,2,   -999.0,5,     25.2,2,    26.29,2,    32.45,2,     0.00,2,     2.28,2,    0.203,2,    0.137,2, -999.000,9,-999.0000,9,  -999.00,9,-999.000,9,   -999,-999.0000,-999.000,-999.000, 11.9349,-999.000
     32MW893_3,  P04E,   183,  1,     18,     18,2,19890501,1114,  9.4950,-109.5000, 4062,    197.4,  11.6011,  34.7779,2,  34.7734,2,   -999.0,5,     26.5,2,    27.38,2,    32.64,2,     0.00,2,     2.30,2,    0.175,2,    0.118,2, -999.000,9,-999.0000,9,  -999.00,9,-999.000,9,   -999,-999.0000,-999.000,-999.000, 11.5760,-999.000
     32MW893_3,  P04E,   183,  1,     17,     17,2,19890501,1114,  9.4950,-109.5000, 4062,    246.8,  11.0294,  34.7526,2,  34.7514,2,   -999.0,5,     26.9,2,    29.44,2,    33.52,2,     0.00,2,     2.35,2,    0.135,2, -999.000,5, -999.000,9,-999.0000,9,  -999.00,9,-999.000,9,   -999,-999.0000,-999.000,-999.000, 10.9989,-999.000
     32MW893_3,  P04E,   183,  1,     16,     16,2,19890501,1114,  9.4950,-109.5000, 4062,    296.2,  10.5735,  34.7236,2,  34.7196,2,   -999.0,5,     17.4,2,    31.90,2,    34.50,2,     0.00,2,     2.44,2,    0.075,2, -999.000,5, -999.000,9,-999.0000,9,  -999.00,9,-999.000,9,   -999,-999.0000,-999.000,-999.000, 10.5378,-999.000
     32MW893_3,  P04E,   183,  1,     15,     15,2,19890501,1114,  9.4950,-109.5000, 4062,    397.3,   9.6868,  34.6911,2,  34.6905,2,   -999.0,5,     13.0,2,    37.22,2,    35.68,2,     0.00,2,     2.63,2,    0.029,2,    0.025,2, -999.000,9,-999.0000,9,  -999.00,9,-999.000,9,   -999,-999.0000,-999.000,-999.000,  9.6413,-999.000
     32MW893_3,  P04E,   183,  1,     14,     14,2,19890501,1114,  9.4950,-109.5000, 4062,    497.7,   8.5941,  34.6316,2,  34.6244,2,   -999.0,5,      3.0,2,    48.16,2,    35.87,2,     0.00,2,     2.90,2,    0.005,2, -999.000,5, -999.000,9,-999.0000,9,  -999.00,9,-999.000,9,   -999,-999.0000,-999.000,-999.000,  8.5408,-999.000
     32MW893_3,  P04E,   183,  1,     13,     13,2,19890501,1114,  9.4950,-109.5000, 4062,    596.2,   7.3966,  34.5804,2,  34.5785,2,   -999.0,5,      3.0,2,    58.99,2,    38.71,2,     0.00,2,     3.10,2,    0.005,2,    0.010,2, -999.000,9,-999.0000,9,  -999.00,9,-999.000,9,   -999,-999.0000,-999.000,-999.000,  7.3377,-999.000
     32MW893_3,  P04E,   183,  1,     12,     12,2,19890501,1114,  9.4950,-109.5000, 4062,    695.9,   6.3230,  34.5624,2,  34.5590,2,   -999.0,5,      4.3,2,    71.40,2,    42.13,2,     0.00,2,     3.21,2,   -0.001,2, -999.000,5, -999.000,9,-999.0000,9,  -999.00,9,-999.000,9,   -999,-999.0000,-999.000,-999.000,  6.2595,-999.000
     32MW893_3,  P04E,   183,  1,     11,     11,2,19890501,1114,  9.4950,-109.5000, 4062,    797.9,   5.9432,  34.5554,2,  34.5537,2,   -999.0,5,      6.1,2,    76.52,2,    43.40,2,     0.00,2,     3.23,2,   -0.002,2,    0.001,2, -999.000,9,-999.0000,9,  -999.00,9,-999.000,9,   -999,-999.0000,-999.000,-999.000,  5.8721,-999.000
     32MW893_3,  P04E,   183,  1,     10,     10,2,19890501,1114,  9.4950,-109.5000, 4062,    996.3,   4.8525,  34.5567,2,  34.5567,2,   -999.0,5,     22.2,2,    91.79,2,    44.77,2,     0.00,2,     3.22,2, -999.000,9, -999.000,9, -999.000,9,-999.0000,9,  -999.00,9,-999.000,9,   -999,-999.0000,-999.000,-999.000,  4.7706,-999.000
     32MW893_3,  P04E,   183,  1,      9,      9,2,19890501,1114,  9.4950,-109.5000, 4062,   1246.5,   3.8920,  34.5789,2,  34.5775,2,   -999.0,5,     44.8,2,   110.20,2,    43.99,2,     0.00,2,     3.15,2, -999.000,9, -999.000,9, -999.000,9,-999.0000,9,  -999.00,9,-999.000,9,   -999,-999.0000,-999.000,-999.000,  3.7962,-999.000
     32MW893_3,  P04E,   183,  1,      8,      8,2,19890501,1114,  9.4950,-109.5000, 4062,   1498.7,   3.2492,  34.6009,2,  34.6011,2,   -999.0,5,     62.6,2,   123.49,2,    42.62,2,     0.00,2,     3.04,2, -999.000,9, -999.000,9, -999.000,9,-999.0000,9,  -999.00,9,-999.000,9,   -999,-999.0000,-999.000,-999.000,  3.1385,-999.000
     32MW893_3,  P04E,   183,  1,      7,      7,2,19890501,1114,  9.4950,-109.5000, 4062,   1750.2,   2.7065,  34.6183,2,  34.6197,2,   -999.0,5,     78.2,2,   134.92,2,    41.54,2,     0.00,2,     2.91,2, -999.000,9, -999.000,9, -999.000,9,-999.0000,9,  -999.00,9,-999.000,9,   -999,-999.0000,-999.000,-999.000,  2.5811,-999.000
     32MW893_3,  P04E,   183,  1,      6,      6,2,19890501,1114,  9.4950,-109.5000, 4062,   1998.8,   2.2816,  34.6438,2,  34.6413,2,   -999.0,5,     90.8,2,   145.75,2,    40.66,2,     0.00,2,     2.87,2, -999.000,9, -999.000,9, -999.000,9,-999.0000,9,  -999.00,9,-999.000,9,   -999,-999.0000,-999.000,-999.000,  2.1409,-999.000
     32MW893_3,  P04E,   183,  1,      5,      5,2,19890501,1114,  9.4950,-109.5000, 4062,   2500.1,   1.8937,  34.6660,2,  34.6641,2,   -999.0,5,    108.2,2,   154.32,2,    39.10,2,     0.00,2,     2.73,2, -999.000,9, -999.000,9, -999.000,9,-999.0000,9,  -999.00,9,-999.000,9,   -999,-999.0000,-999.000,-999.000,  1.7154,-999.000
     32MW893_3,  P04E,   183,  1,      4,      4,2,19890501,1114,  9.4950,-109.5000, 4062,   3002.7,   1.7438,  34.6748,2,  34.6759,2,   -999.0,5,    121.7,2,   155.79,2,    38.51,2,     0.00,2,     2.67,2,   -0.003,6,    0.004,2, -999.000,9,-999.0000,9,  -999.00,9,-999.000,9,   -999,-999.0000,-999.000,-999.000,  1.5213,-999.000
     32MW893_3,  P04E,   183,  1,      3,      3,2,19890501,1114,  9.4950,-109.5000, 4062,   3502.1,   1.6498,  34.6817,2,  34.6802,2,   -999.0,5,    132.5,2,   155.10,2,    37.92,2,     0.00,2,     2.60,2, -999.000,9, -999.000,9, -999.000,9,-999.0000,9,  -999.00,9,-999.000,9,   -999,-999.0000,-999.000,-999.000,  1.3797,-999.000
     32MW893_3,  P04E,   183,  1,      2,      2,2,19890501,1114,  9.4950,-109.5000, 4062,   4006.7,   1.6468,  34.6826,2,-999.0000,5,   -999.0,5,    136.4,2,   154.90,2,    37.63,2,     0.00,2,     2.59,2,   -0.002,2, -999.000,5, -999.000,9,-999.0000,9,  -999.00,9,-999.000,9,   -999,-999.0000,-999.000,-999.000,  1.3231,-999.000
     32MW893_3,  P04E,   183,  1,      1,      1,2,19890501,1114,  9.4950,-109.5000, 4062,   4153.4,   1.6628,  34.6824,2,-999.0000,5,   -999.0,5,    136.0,2,   154.90,2,    37.63,2,     0.00,2,     2.59,2,   -0.001,2, -999.000,5, -999.000,9,-999.0000,9,  -999.00,9,-999.000,9,   -999,-999.0000,-999.000,-999.000,  1.3224,-999.000