BOTTLE,20020418WHPSIOdm
EXPOCODE,SECT_ID,STNNBR,CASTNO,SAMPNO,BTLNBR,BTLNBR_FLAG_W,DATE,TIME,LATITUDE,LONGITUDE,DEPTH,CTDPRS,CTDTMP,CTDSAL,CTDSAL_FLAG_W,SALNTY,SALNTY_FLAG_W,CTDOXY,CTDOXY_FLAG_W,OXYGEN,OXYGEN_FLAG_W,SILCAT,SILCAT_FLAG_W,NITRAT,NITRAT_FLAG_W,NITRIT,NITRIT_FLAG_W,PHSPHT,PHSPHT_FLAG_W,CFC-11,CFC-11_FLAG_W,CFC-12,CFC-12_FLAG_W,TRITUM,TRITUM_FLAG_W,HELIUM,HELIUM_FLAG_W,DELHE3,DELHE3_FLAG_W,NEON,NEON_FLAG_W,CTDRAW,HELIER,DELHER,NEONER,THETA,TRITER
,,,,,,,,,,,,DBAR,ITS-90,PSS-78,,PSS-78,,UMOL/KG,,UMOL/KG,,UMOL/KG,,UMOL/KG,,UMOL/KG,,UMOL/KG,,PMOL/KG,,PMOL/KG,,TU,,NMOL/KG,,PERCNT,,NMOL/KG,,,NMOL/KG,PERCNT,NMOL/KG,ITS-90,TU
     32MW893_3,  P04E,   198,  1,     24,     24,2,19890505,1144,  9.4950, -98.1667, 3606,      8.5,  28.9421,  34.2727,2,  34.2735,2,   -999.0,5,    218.2,2,     0.59,2,     0.10,2,     0.00,2,     0.26,2,    1.598,3,    0.873,2, -999.000,9,-999.0000,9,  -999.00,9,-999.000,9,   -999,-999.0000,-999.000,-999.000, 28.9401,-999.000
     32MW893_3,  P04E,   198,  1,     23,     23,2,19890505,1144,  9.4950, -98.1667, 3606,     50.6,  22.4077,  34.5618,2,  34.3963,2,   -999.0,5,    139.9,2,     5.91,2,    15.15,2,     1.27,2,     1.26,2,    1.590,2,    0.874,2, -999.000,9,-999.0000,9,  -999.00,9,-999.000,9,   -999,-999.0000,-999.000,-999.000, 22.3976,-999.000
     32MW893_3,  P04E,   198,  1,     22,     22,2,19890505,1144,  9.4950, -98.1667, 3606,     73.7,  14.0394,  34.8556,2,  34.8281,2,   -999.0,5,     27.4,2,    20.18,2,    29.91,2,     0.00,2,     2.08,2,    0.514,2,    0.303,2, -999.000,9,-999.0000,9,  -999.00,9,-999.000,9,   -999,-999.0000,-999.000,-999.000, 14.0288,-999.000
     32MW893_3,  P04E,   198,  1,     21,     21,2,19890505,1144,  9.4950, -98.1667, 3606,     98.3,  13.5816,  34.8989,2,  34.8947,2,   -999.0,5,     13.5,2,    21.86,2,    31.96,2,     0.00,2,     2.19,2,    0.356,2,    0.219,2, -999.000,9,-999.0000,9,  -999.00,9,-999.000,9,   -999,-999.0000,-999.000,-999.000, 13.5677,-999.000
     32MW893_3,  P04E,   198,  1,     20,     20,2,19890505,1144,  9.4950, -98.1667, 3606,    124.5,  13.0958,  34.8669,2,  34.8786,2,   -999.0,5,     24.8,2,    22.55,2,    31.18,2,     0.00,2,     2.13,2,    0.336,2, -999.000,5, -999.000,9,-999.0000,9,  -999.00,9,-999.000,9,   -999,-999.0000,-999.000,-999.000, 13.0787,-999.000
     32MW893_3,  P04E,   198,  1,     19,     19,2,19890505,1144,  9.4950, -98.1667, 3606,    150.0,  12.7669,  34.8327,2,  34.8283,2,   -999.0,5,     30.4,2,    23.92,2,    30.98,2,     0.00,2,     2.12,2,    0.325,2,    0.207,2, -999.000,9,-999.0000,9,  -999.00,9,-999.000,9,   -999,-999.0000,-999.000,-999.000, 12.7466,-999.000
     32MW893_3,  P04E,   198,  1,     18,     18,2,19890505,1144,  9.4950, -98.1667, 3606,    172.9,  12.4400,  34.8534,2,  34.8100,2,   -999.0,5,     30.8,2,    24.62,2,    31.27,2,     0.00,2,     2.14,2,    0.285,2, -999.000,5, -999.000,9,-999.0000,9,  -999.00,9,-999.000,9,   -999,-999.0000,-999.000,-999.000, 12.4170,-999.000
     32MW893_3,  P04E,   198,  1,     17,     17,2,19890505,1144,  9.4950, -98.1667, 3606,    197.4,  12.2012,  34.8124,2,  34.8072,2,   -999.0,5,     30.4,2,    25.21,2,    31.57,2,     0.00,2,     2.17,2,    0.256,2,    0.170,2, -999.000,9,-999.0000,9,  -999.00,9,-999.000,9,   -999,-999.0000,-999.000,-999.000, 12.1752,-999.000
     32MW893_3,  P04E,   198,  1,     16,     16,2,19890505,1144,  9.4950, -98.1667, 3606,    247.9,  11.5964,  34.7733,2,  34.7726,2,   -999.0,5,     34.8,2,    26.68,2,    31.76,2,     0.00,2,     2.18,2,    0.221,2,    0.124,2, -999.000,9,-999.0000,9,  -999.00,9,-999.000,9,   -999,-999.0000,-999.000,-999.000, 11.5648,-999.000
     32MW893_3,  P04E,   198,  1,     15,     15,2,19890505,1144,  9.4950, -98.1667, 3606,    298.9,  11.1146,  34.7525,2,  34.7541,2,   -999.0,5,     20.9,2,    29.24,2,    33.33,2,     0.00,2,     2.35,2,    0.137,2,    0.090,2, -999.000,9,-999.0000,9,  -999.00,9,-999.000,9,   -999,-999.0000,-999.000,-999.000, 11.0774,-999.000
     32MW893_3,  P04E,   198,  1,     14,     14,2,19890505,1144,  9.4950, -98.1667, 3606,    398.1,  10.0181,  34.7012,2,  34.7021,2,   -999.0,5,      6.5,2,    36.73,2,    33.82,2,     0.00,2,     2.65,2,    0.043,2,    0.030,2, -999.000,9,-999.0000,9,  -999.00,9,-999.000,9,   -999,-999.0000,-999.000,-999.000,  9.9715,-999.000
     32MW893_3,  P04E,   198,  1,     13,     13,2,19890505,1144,  9.4950, -98.1667, 3606,    495.4,   8.6628,  34.6188,2,  34.6321,2,   -999.0,5,      2.2,2,    48.35,2,    32.35,2,     0.36,2,     2.91,2,    0.010,2,    0.004,2, -999.000,9,-999.0000,9,  -999.00,9,-999.000,9,   -999,-999.0000,-999.000,-999.000,  8.6095,-999.000
     32MW893_3,  P04E,   198,  1,     12,     12,2,19890505,1144,  9.4950, -98.1667, 3606,    595.2,   7.2966,  34.5922,2,  34.5812,2,   -999.0,5,      2.6,2,    61.94,2,    37.14,2,     0.12,2,     3.12,2, -999.000,9, -999.000,9, -999.000,9,-999.0000,9,  -999.00,9,-999.000,9,   -999,-999.0000,-999.000,-999.000,  7.2384,-999.000
     32MW893_3,  P04E,   198,  1,     11,     11,2,19890505,1144,  9.4950, -98.1667, 3606,    696.5,   6.2992,  34.5686,2,  34.5661,2,   -999.0,5,      3.5,2,    70.71,2,    42.13,2,     0.00,2,     3.20,2, -999.000,9, -999.000,9, -999.000,9,-999.0000,9,  -999.00,9,-999.000,9,   -999,-999.0000,-999.000,-999.000,  6.2357,-999.000
     32MW893_3,  P04E,   198,  1,     10,     10,2,19890505,1144,  9.4950, -98.1667, 3606,    793.2,   5.5287,  34.5619,2,  34.5604,2,   -999.0,5,     10.4,2,    80.07,2,    44.28,2,     0.00,2,     3.24,2, -999.000,9, -999.000,9, -999.000,9,-999.0000,9,  -999.00,9,-999.000,9,   -999,-999.0000,-999.000,-999.000,  5.4605,-999.000
     32MW893_3,  P04E,   198,  1,      9,      9,2,19890505,1144,  9.4950, -98.1667, 3606,    993.1,   4.6063,  34.5670,2,  34.5663,2,   -999.0,5,     33.5,2,    94.25,2,    43.79,2,     0.00,2,     3.17,2, -999.000,9, -999.000,9, -999.000,9,-999.0000,9,  -999.00,9,-999.000,9,   -999,-999.0000,-999.000,-999.000,  4.5265,-999.000
     32MW893_3,  P04E,   198,  1,      8,      8,2,19890505,1144,  9.4950, -98.1667, 3606,   1241.9,   3.8089,  34.5775,2,  34.5836,2,   -999.0,5,     44.8,2,   111.38,2,    43.21,2,     0.00,2,     3.13,2, -999.000,9, -999.000,9, -999.000,9,-999.0000,9,  -999.00,9,-999.000,9,   -999,-999.0000,-999.000,-999.000,  3.7143,-999.000
     32MW893_3,  P04E,   198,  1,      7,      7,2,19890505,1144,  9.4950, -98.1667, 3606,   1588.2,   2.9945,  34.6106,2,-999.0000,5,   -999.0,5,     65.6,2,   130.29,2,    42.03,2,     0.00,2,     3.02,2, -999.000,9, -999.000,9, -999.000,9,-999.0000,9,  -999.00,9,-999.000,9,   -999,-999.0000,-999.000,-999.000,  2.8793,-999.000
     32MW893_3,  P04E,   198,  1,      6,      6,2,19890505,1144,  9.4950, -98.1667, 3606,   1990.0,   2.2580,  34.6462,2,  34.6439,2,   -999.0,5,     90.4,2,   146.64,2,    40.17,2,     0.00,2,     2.84,2, -999.000,9, -999.000,9, -999.000,9,-999.0000,9,  -999.00,9,-999.000,9,   -999,-999.0000,-999.000,-999.000,  2.1184,-999.000
     32MW893_3,  P04E,   198,  1,      5,      5,2,19890505,1144,  9.4950, -98.1667, 3606,   2388.7,   1.9032,  34.6648,2,  34.6643,2,   -999.0,5,    107.8,2,   153.43,2,    38.71,2,     0.00,2,     2.75,2, -999.000,9, -999.000,9, -999.000,9,-999.0000,9,  -999.00,9,-999.000,9,   -999,-999.0000,-999.000,-999.000,  1.7347,-999.000
     32MW893_3,  P04E,   198,  1,      4,      4,2,19890505,1144,  9.4950, -98.1667, 3606,   2789.7,   1.8254,  34.6705,2,  34.6692,2,   -999.0,5,    116.0,2,   155.59,2,    38.41,2,     0.00,2,     2.71,2, -999.000,9, -999.000,9, -999.000,9,-999.0000,9,  -999.00,9,-999.000,9,   -999,-999.0000,-999.000,-999.000,  1.6216,-999.000
     32MW893_3,  P04E,   198,  1,      3,      3,2,19890505,1144,  9.4950, -98.1667, 3606,   3089.8,   1.8333,  34.6714,2,  34.6704,2,   -999.0,5,    116.4,2,   155.59,2,    38.32,2,     0.00,2,     2.69,2,   -0.002,2, -999.000,5, -999.000,9,-999.0000,9,  -999.00,9,-999.000,9,   -999,-999.0000,-999.000,-999.000,  1.6004,-999.000
     32MW893_3,  P04E,   198,  1,      2,      2,2,19890505,1144,  9.4950, -98.1667, 3606,   3387.5,   1.8533,  34.6723,2,  34.6726,2,   -999.0,5,    118.2,2,   155.20,2,    38.22,2,     0.00,2,     2.70,2,    0.003,2, -999.000,5, -999.000,9,-999.0000,9,  -999.00,9,-999.000,9,   -999,-999.0000,-999.000,-999.000,  1.5899,-999.000
     32MW893_3,  P04E,   198,  1,      1,      1,2,19890505,1144,  9.4950, -98.1667, 3606,   3536.2,   1.8673,  34.6716,2,  34.6724,2,   -999.0,5,    119.1,2,   155.10,2,    38.22,2,     0.00,2,     2.73,2,   -0.002,2,   -0.001,2, -999.000,9,-999.0000,9,  -999.00,9,-999.000,9,   -999,-999.0000,-999.000,-999.000,  1.5881,-999.000
     32MW893_3,  P04E,   199,  1,     24,     24,2,19890505,1832,  9.4983, -97.3317, 3940,     10.4,  28.6790,  34.4068,2,  34.3347,2,   -999.0,5,    218.6,2,     1.09,2,     0.10,2,    -0.01,2,     0.26,2,    1.584,2, -999.000,5, -999.000,9,-999.0000,9,  -999.00,9,-999.000,9,   -999,-999.0000,-999.000,-999.000, 28.6765,-999.000
     32MW893_3,  P04E,   199,  1,     23,     23,2,19890505,1832,  9.4983, -97.3317, 3940,     50.0,  20.5759,  34.4681,2,  34.5121,2,   -999.0,5,     89.1,2,     9.84,2,    21.99,2,     0.20,2,     1.71,2,    1.349,2, -999.000,5, -999.000,9,-999.0000,9,  -999.00,9,-999.000,9,   -999,-999.0000,-999.000,-999.000, 20.5665,-999.000
     32MW893_3,  P04E,   199,  1,     22,     22,2,19890505,1832,  9.4983, -97.3317, 3940,     99.8,  13.6606,  34.7934,2,  34.7886,2,   -999.0,5,     30.0,2,    21.46,2,    30.20,2,     0.00,2,     2.09,2,    0.493,2,    0.271,2, -999.000,9,-999.0000,9,  -999.00,9,-999.000,9,   -999,-999.0000,-999.000,-999.000, 13.6465,-999.000
     32MW893_3,  P04E,   199,  1,     21,     21,2,19890505,1832,  9.4983, -97.3317, 3940,    123.3,  13.0399,  34.7714,2,  34.8041,2,   -999.0,5,     27.8,2,    22.94,2,    31.08,2,     0.00,2,     2.14,2,    0.380,2,    0.209,2, -999.000,9,-999.0000,9,  -999.00,9,-999.000,9,   -999,-999.0000,-999.000,-999.000, 13.0230,-999.000
     32MW893_3,  P04E,   199,  1,     20,     20,2,19890505,1832,  9.4983, -97.3317, 3940,    147.8,  12.7189,  34.8195,2,  34.8204,2,   -999.0,5,     28.2,2,    23.44,2,    31.27,2,     0.00,2,     2.15,2,    0.320,2,    0.197,2, -999.000,9,-999.0000,9,  -999.00,9,-999.000,9,   -999,-999.0000,-999.000,-999.000, 12.6990,-999.000
     32MW893_3,  P04E,   199,  1,     19,     19,2,19890505,1832,  9.4983, -97.3317, 3940,    171.5,  12.4580,  34.8093,2,  34.8175,2,   -999.0,5,     31.3,2,    24.42,2,    31.27,2,     0.00,2,     2.16,2,    0.299,2,    0.175,2, -999.000,9,-999.0000,9,  -999.00,9,-999.000,9,   -999,-999.0000,-999.000,-999.000, 12.4351,-999.000
     32MW893_3,  P04E,   199,  1,     18,     18,2,19890505,1832,  9.4983, -97.3317, 3940,    195.8,  12.1792,  34.8199,2,  34.8121,2,   -999.0,5,     27.4,2,    25.11,2,    31.76,2,     0.00,2,     2.20,2,    0.251,2, -999.000,5, -999.000,9,-999.0000,9,  -999.00,9,-999.000,9,   -999,-999.0000,-999.000,-999.000, 12.1535,-999.000
     32MW893_3,  P04E,   199,  1,     17,     17,2,19890505,1832,  9.4983, -97.3317, 3940,    248.8,  11.5984,  34.7750,2,  34.7756,2,   -999.0,5,     26.9,2,    27.28,2,    32.45,2,     0.00,2,     2.24,2,    0.191,2, -999.000,5, -999.000,9,-999.0000,9,  -999.00,9,-999.000,9,   -999,-999.0000,-999.000,-999.000, 11.5667,-999.000
     32MW893_3,  P04E,   199,  1,     16,     16,2,19890505,1832,  9.4983, -97.3317, 3940,    296.3,  11.0996,  34.7538,2,  34.7502,2,   -999.0,5,     23.9,2,    29.24,2,    33.33,2,     0.00,2,     2.33,2,    0.140,2, -999.000,5, -999.000,9,-999.0000,9,  -999.00,9,-999.000,9,   -999,-999.0000,-999.000,-999.000, 11.0628,-999.000
     32MW893_3,  P04E,   199,  1,     15,     15,2,19890505,1832,  9.4983, -97.3317, 3940,    396.2,   9.9292,  34.6893,2,  34.6914,2,   -999.0,5,      1.3,2,    39.68,2,    30.89,2,     0.99,2,     2.73,2,    0.017,2, -999.000,5, -999.000,9,-999.0000,9,  -999.00,9,-999.000,9,   -999,-999.0000,-999.000,-999.000,  9.8831,-999.000
     32MW893_3,  P04E,   199,  1,     14,     14,2,19890505,1832,  9.4983, -97.3317, 3940,    495.7,   8.2001,  34.6125,2,  34.6191,2,   -999.0,5,      2.2,2,    55.15,2,    31.67,2,     1.25,2,     3.02,2,    0.012,2, -999.000,5, -999.000,9,-999.0000,9,  -999.00,9,-999.000,9,   -999,-999.0000,-999.000,-999.000,  8.1485,-999.000
     32MW893_3,  P04E,   199,  1,     13,     13,2,19890505,1832,  9.4983, -97.3317, 3940,    645.3,   6.6170,  34.5738,2,  34.5704,2,   -999.0,5,      2.2,2,    67.96,2,    40.86,2,    -0.01,2,     3.18,2,    0.007,2,   -0.001,2, -999.000,9,-999.0000,9,  -999.00,9,-999.000,9,   -999,-999.0000,-999.000,-999.000,  6.5569,-999.000
     32MW893_3,  P04E,   199,  1,     12,     12,2,19890505,1832,  9.4983, -97.3317, 3940,    794.5,   5.5217,  34.5627,2,  34.5610,2,   -999.0,5,      7.8,2,    80.56,2,    44.57,2,     0.00,2,     3.26,2, -999.000,9, -999.000,9, -999.000,9,-999.0000,9,  -999.00,9,-999.000,9,   -999,-999.0000,-999.000,-999.000,  5.4534,-999.000
     32MW893_3,  P04E,   199,  1,     11,     11,2,19890505,1832,  9.4983, -97.3317, 3940,    944.8,   4.7732,  34.5666,2,  34.5639,2,   -999.0,5,     26.5,2,    91.79,2,    44.38,2,     0.00,2,     3.20,2, -999.000,9, -999.000,9, -999.000,9,-999.0000,9,  -999.00,9,-999.000,9,   -999,-999.0000,-999.000,-999.000,  4.6964,-999.000
     32MW893_3,  P04E,   199,  1,     10,     10,2,19890505,1832,  9.4983, -97.3317, 3940,   1093.3,   4.2526,  34.5708,2,  34.5714,2,   -999.0,5,     41.3,2,   101.84,2,    43.60,2,     0.00,2,     3.15,2, -999.000,9, -999.000,9, -999.000,9,-999.0000,9,  -999.00,9,-999.000,9,   -999,-999.0000,-999.000,-999.000,  4.1669,-999.000
     32MW893_3,  P04E,   199,  1,      9,      9,2,19890505,1832,  9.4983, -97.3317, 3940,   1241.1,   3.7389,  34.5860,2,  34.5840,2,   -999.0,5,     40.8,2,   114.83,2,    43.89,2,     0.00,2,     3.17,2, -999.000,9, -999.000,9, -999.000,9,-999.0000,9,  -999.00,9,-999.000,9,   -999,-999.0000,-999.000,-999.000,  3.6451,-999.000
     32MW893_3,  P04E,   199,  1,      8,      8,2,19890505,1832,  9.4983, -97.3317, 3940,   1490.3,   3.0714,  34.6117,2,  34.6064,2,   -999.0,5,     66.0,2,   128.13,2,    42.03,2,     0.00,2,     3.01,2, -999.000,9, -999.000,9, -999.000,9,-999.0000,9,  -999.00,9,-999.000,9,   -999,-999.0000,-999.000,-999.000,  2.9635,-999.000
     32MW893_3,  P04E,   199,  1,      7,      7,2,19890505,1832,  9.4983, -97.3317, 3940,   1841.2,   2.5418,  34.6329,2,-999.0000,5,   -999.0,5,     83.9,2,   139.74,2,    40.86,2,     0.00,2,     2.89,2, -999.000,9, -999.000,9, -999.000,9,-999.0000,9,  -999.00,9,-999.000,9,   -999,-999.0000,-999.000,-999.000,  2.4109,-999.000
     32MW893_3,  P04E,   199,  1,      6,      6,2,19890505,1832,  9.4983, -97.3317, 3940,   2190.6,   2.0401,  34.6571,2,  34.6545,2,   -999.0,5,    101.2,2,   151.26,2,    39.49,2,     0.00,2,     2.79,2, -999.000,9, -999.000,9, -999.000,9,-999.0000,9,  -999.00,9,-999.000,9,   -999,-999.0000,-999.000,-999.000,  1.8866,-999.000
     32MW893_3,  P04E,   199,  1,      4,      4,2,19890505,1832,  9.4983, -97.3317, 3940,   2890.5,   1.8244,  34.6716,2,  34.6700,2,   -999.0,5,    115.6,2,   156.18,2,    38.41,2,     0.00,2,     2.70,2, -999.000,9, -999.000,9, -999.000,9,-999.0000,9,  -999.00,9,-999.000,9,   -999,-999.0000,-999.000,-999.000,  1.6110,-999.000
     32MW893_3,  P04E,   199,  1,      3,      3,2,19890505,1832,  9.4983, -97.3317, 3940,   3292.2,   1.8493,  34.6724,2,  34.6716,2,   -999.0,5,    117.3,2,   155.79,2,    38.41,2,     0.00,2,     2.69,2,   -0.001,2,    0.005,2, -999.000,9,-999.0000,9,  -999.00,9,-999.000,9,   -999,-999.0000,-999.000,-999.000,  1.5958,-999.000
     32MW893_3,  P04E,   199,  1,      2,      2,2,19890505,1832,  9.4983, -97.3317, 3940,   3692.6,   1.8832,  34.6723,2,  34.6730,2,   -999.0,5,    119.1,2,   155.59,2,    38.32,2,     0.00,2,     2.69,2,   -0.002,2,    0.005,2, -999.000,9,-999.0000,9,  -999.00,9,-999.000,9,   -999,-999.0000,-999.000,-999.000,  1.5872,-999.000
     32MW893_3,  P04E,   199,  1,      1,      1,2,19890505,1832,  9.4983, -97.3317, 3940,   3993.1,   1.9112,  34.6721,2,  34.6730,2,   -999.0,5,    121.2,2,   154.51,2,    38.22,2,     0.00,2,     2.67,2,   -0.002,2,   -0.001,2, -999.000,9,-999.0000,9,  -999.00,9,-999.000,9,   -999,-999.0000,-999.000,-999.000,  1.5816,-999.000