BOTTLE,20020418WHPSIOdm
EXPOCODE,SECT_ID,STNNBR,CASTNO,SAMPNO,BTLNBR,BTLNBR_FLAG_W,DATE,TIME,LATITUDE,LONGITUDE,DEPTH,CTDPRS,CTDTMP,CTDSAL,CTDSAL_FLAG_W,SALNTY,SALNTY_FLAG_W,CTDOXY,CTDOXY_FLAG_W,OXYGEN,OXYGEN_FLAG_W,SILCAT,SILCAT_FLAG_W,NITRAT,NITRAT_FLAG_W,NITRIT,NITRIT_FLAG_W,PHSPHT,PHSPHT_FLAG_W,CFC-11,CFC-11_FLAG_W,CFC-12,CFC-12_FLAG_W,TRITUM,TRITUM_FLAG_W,HELIUM,HELIUM_FLAG_W,DELHE3,DELHE3_FLAG_W,NEON,NEON_FLAG_W,CTDRAW,HELIER,DELHER,NEONER,THETA,TRITER
,,,,,,,,,,,,DBAR,ITS-90,PSS-78,,PSS-78,,UMOL/KG,,UMOL/KG,,UMOL/KG,,UMOL/KG,,UMOL/KG,,UMOL/KG,,PMOL/KG,,PMOL/KG,,TU,,NMOL/KG,,PERCNT,,NMOL/KG,,,NMOL/KG,PERCNT,NMOL/KG,ITS-90,TU
     32MW893_3,  P04E,   150,  1,     24,     24,2,19890420,0936,  9.4917,-137.0033, 4787,      7.9,  26.2042,  34.7562,2,  34.7555,2,   -999.0,5,    221.1,2,     0.69,2,     0.39,2,     0.02,2,     0.32,2,    1.733,2,    0.931,2, -999.000,9,-999.0000,9,  -999.00,9,-999.000,9,   -999,-999.0000,-999.000,-999.000, 26.2024,-999.000
     32MW893_3,  P04E,   150,  1,     23,     23,2,19890420,0936,  9.4917,-137.0033, 4787,     47.7,  26.2022,  34.7535,2,  34.7561,2,   -999.0,5,    213.8,2,     0.89,2,     0.59,2,     0.02,2,     0.33,2,    1.744,2,    0.918,2, -999.000,9,-999.0000,9,  -999.00,9,-999.000,9,   -999,-999.0000,-999.000,-999.000, 26.1915,-999.000
     32MW893_3,  P04E,   150,  1,     22,     22,2,19890420,0936,  9.4917,-137.0033, 4787,     97.4,  17.5103,  34.3691,2,  34.4183,2,   -999.0,5,    170.8,2,     3.97,2,     6.06,2,     0.87,2,     0.79,2,    2.027,2,    1.031,2, -999.000,9,-999.0000,9,  -999.00,9,-999.000,9,   -999,-999.0000,-999.000,-999.000, 17.4940,-999.000
     32MW893_3,  P04E,   150,  1,     21,     21,2,19890420,0936,  9.4917,-137.0033, 4787,    122.7,  12.7008,  34.3544,2,  34.3739,2,   -999.0,5,     68.7,2,    18.65,2,    24.54,2,     0.02,2,     1.97,2,    1.038,2,    0.526,2, -999.000,9,-999.0000,9,  -999.00,9,-999.000,9,   -999,-999.0000,-999.000,-999.000, 12.6843,-999.000
     32MW893_3,  P04E,   150,  1,     20,     20,2,19890420,0936,  9.4917,-137.0033, 4787,    146.6,  12.0670,  34.6349,2,  34.6284,2,   -999.0,5,     15.6,2,    26.09,2,    31.28,2,     0.00,2,     2.47,2,    0.308,2,    0.179,2, -999.000,9,-999.0000,9,  -999.00,9,-999.000,9,   -999,-999.0000,-999.000,-999.000, 12.0479,-999.000
     32MW893_3,  P04E,   150,  1,     19,     19,2,19890420,0936,  9.4917,-137.0033, 4787,    197.9,  11.2522,  34.7008,2,  34.6989,2,   -999.0,5,      9.6,2,    29.36,2,    33.53,2,     0.00,2,     2.55,2,    0.095,2,    0.067,2, -999.000,9,-999.0000,9,  -999.00,9,-999.000,9,   -999,-999.0000,-999.000,-999.000, 11.2275,-999.000
     32MW893_3,  P04E,   150,  1,     18,     18,2,19890420,0936,  9.4917,-137.0033, 4787,    247.4,  10.4625,  34.6786,2,  34.6718,2,   -999.0,5,     12.2,2,    32.04,2,    34.41,2,     0.00,2,     2.58,2,    0.058,2, -999.000,5, -999.000,9,-999.0000,9,  -999.00,9,-999.000,9,   -999,-999.0000,-999.000,-999.000, 10.4330,-999.000
     32MW893_3,  P04E,   150,  1,     17,     17,2,19890420,0936,  9.4917,-137.0033, 4787,    297.4,   9.7558,  34.6477,2,  34.6433,2,   -999.0,5,     13.0,2,    35.52,2,    35.58,2,     0.00,2,     2.67,2,    0.032,2,    0.030,2, -999.000,9,-999.0000,9,  -999.00,9,-999.000,9,   -999,-999.0000,-999.000,-999.000,  9.7218,-999.000
     32MW893_3,  P04E,   150,  1,     16,     16,2,19890420,0936,  9.4917,-137.0033, 4787,    396.8,   8.7171,  34.6228,2,  34.6109,2,   -999.0,5,     28.2,2,    41.17,2,    36.95,2,     0.00,2,     2.73,2, -999.000,9, -999.000,9, -999.000,9,-999.0000,9,  -999.00,9,-999.000,9,   -999,-999.0000,-999.000,-999.000,  8.6745,-999.000
     32MW893_3,  P04E,   150,  1,     15,     15,2,19890420,0936,  9.4917,-137.0033, 4787,    500.3,   7.6205,  34.5536,2,  34.5506,2,   -999.0,5,     22.6,2,    52.09,2,    38.51,2,     0.00,2,     2.89,2,    0.018,2,    0.024,2, -999.000,9,-999.0000,9,  -999.00,9,-999.000,9,   -999,-999.0000,-999.000,-999.000,  7.5706,-999.000
     32MW893_3,  P04E,   150,  1,     14,     14,2,19890420,0936,  9.4917,-137.0033, 4787,    598.5,   6.6499,  34.5406,2,  34.5382,2,   -999.0,5,      7.4,2,    65.89,2,    41.15,2,     0.00,2,     3.17,2,    0.008,2,    0.011,2, -999.000,9,-999.0000,9,  -999.00,9,-999.000,9,   -999,-999.0000,-999.000,-999.000,  6.5942,-999.000
     32MW893_3,  P04E,   150,  1,     13,     13,2,19890420,0936,  9.4917,-137.0033, 4787,    698.9,   5.6352,  34.5291,2,  34.5309,2,   -999.0,5,     16.9,2,    78.38,2,    43.30,2,     0.00,2,     3.23,2, -999.000,9, -999.000,9, -999.000,9,-999.0000,9,  -999.00,9,-999.000,9,   -999,-999.0000,-999.000,-999.000,  5.5752,-999.000
     32MW893_3,  P04E,   150,  1,     12,     12,2,19890420,0936,  9.4917,-137.0033, 4787,    797.3,   5.1285,  34.5403,2,  34.5376,2,   -999.0,5,     25.6,2,    85.33,2,    43.70,2,     0.00,2,     3.23,2,    0.003,2,    0.008,2, -999.000,9,-999.0000,9,  -999.00,9,-999.000,9,   -999,-999.0000,-999.000,-999.000,  5.0624,-999.000
     32MW893_3,  P04E,   150,  1,     11,     11,2,19890420,0936,  9.4917,-137.0033, 4787,    999.1,   4.1748,  34.5640,2,  34.5630,2,   -999.0,5,     47.8,2,   102.09,2,    42.81,2,     0.00,2,     3.14,2, -999.000,9, -999.000,9, -999.000,9,-999.0000,9,  -999.00,9,-999.000,9,   -999,-999.0000,-999.000,-999.000,  4.0978,-999.000
     32MW893_3,  P04E,   150,  1,     10,     10,2,19890420,0936,  9.4917,-137.0033, 4787,   1397.7,   3.0183,  34.6053,2,  34.6040,2,   -999.0,5,     76.0,2,   126.59,2,    41.25,2,     0.00,2,     3.01,2,    0.003,2,    0.004,2, -999.000,9,-999.0000,9,  -999.00,9,-999.000,9,   -999,-999.0000,-999.000,-999.000,  2.9186,-999.000
     32MW893_3,  P04E,   150,  1,      9,      9,2,19890420,0936,  9.4917,-137.0033, 4787,   1798.2,   2.3105,  34.6343,2,  34.6329,2,   -999.0,5,     95.2,2,   142.57,2,    40.08,2,     0.00,2,     2.88,2, -999.000,9, -999.000,9, -999.000,9,-999.0000,9,  -999.00,9,-999.000,9,   -999,-999.0000,-999.000,-999.000,  2.1865,-999.000
     32MW893_3,  P04E,   150,  1,      8,      8,2,19890420,0936,  9.4917,-137.0033, 4787,   2200.2,   1.9437,  34.6568,2,  34.6567,2,   -999.0,5,    108.6,2,   151.09,2,    39.20,2,     0.00,2,     2.84,2,   -0.002,2,   -0.005,2, -999.000,9,-999.0000,9,  -999.00,9,-999.000,9,   -999,-999.0000,-999.000,-999.000,  1.7911,-999.000
     32MW893_3,  P04E,   150,  1,      7,      7,2,19890420,0936,  9.4917,-137.0033, 4787,   2601.7,   1.8108,  34.6677,2,  34.6657,2,   -999.0,5,    116.0,2,   154.96,2,    38.61,2,     0.00,2,     2.78,2, -999.000,9, -999.000,9, -999.000,9,-999.0000,9,  -999.00,9,-999.000,9,   -999,-999.0000,-999.000,-999.000,  1.6247,-999.000
     32MW893_3,  P04E,   150,  1,      6,      6,2,19890420,0936,  9.4917,-137.0033, 4787,   3002.0,   1.6718,  34.6750,2,  34.6775,2,   -999.0,5,    126.4,2,   156.25,2,    38.12,2,     0.00,2,     2.72,2,    0.001,2,   -0.003,2, -999.000,9,-999.0000,9,  -999.00,9,-999.000,9,   -999,-999.0000,-999.000,-999.000,  1.4511,-999.000
     32MW893_3,  P04E,   150,  1,      5,      5,2,19890420,0936,  9.4917,-137.0033, 4787,   3390.6,   1.5389,  34.6815,2,  34.6818,2,   -999.0,5,    137.7,2,   156.94,2,    37.44,2,     0.00,2,     2.64,2, -999.000,9, -999.000,9, -999.000,9,-999.0000,9,  -999.00,9,-999.000,9,   -999,-999.0000,-999.000,-999.000,  1.2829,-999.000
     32MW893_3,  P04E,   150,  1,      4,      4,2,19890420,0936,  9.4917,-137.0033, 4787,   3803.7,   1.4010,  34.6889,2,  34.6893,2,   -999.0,5,    158.6,2,   147.62,2,    36.07,2,     0.00,2,     2.51,2,    0.001,2,    0.006,2, -999.000,9,-999.0000,9,  -999.00,9,-999.000,9,   -999,-999.0000,-999.000,-999.000,  1.1058,-999.000
     32MW893_3,  P04E,   150,  1,      3,      3,2,19890420,0936,  9.4917,-137.0033, 4787,   4206.3,   1.3840,  34.6920,2,  34.6926,2,   -999.0,5,    166.0,2,   142.66,2,    34.89,2,     0.00,2,     2.49,2, -999.000,9, -999.000,9, -999.000,9,-999.0000,9,  -999.00,9,-999.000,9,   -999,-999.0000,-999.000,-999.000,  1.0456,-999.000
     32MW893_3,  P04E,   150,  1,      2,      2,2,19890420,0936,  9.4917,-137.0033, 4787,   4605.1,   1.4080,  34.6941,2,  34.6944,2,   -999.0,5,    169.0,2,   140.38,2,    34.50,2,     0.00,2,     2.45,2,   -0.001,2,   -0.003,2, -999.000,9,-999.0000,9,  -999.00,9,-999.000,9,   -999,-999.0000,-999.000,-999.000,  1.0237,-999.000
     32MW893_3,  P04E,   150,  1,      1,      1,2,19890420,0936,  9.4917,-137.0033, 4787,   4863.2,   1.4270,  34.6935,2,  34.6948,2,   -999.0,5,    170.8,2,   139.39,2,    34.07,2,     0.01,2,     2.45,2,   -0.002,2, -999.000,5, -999.000,9,-999.0000,9,  -999.00,9,-999.000,9,   -999,-999.0000,-999.000,-999.000,  1.0117,-999.000
     32MW893_3,  P04E,   151,  1,     24,     24,2,19890420,1804,  9.5017,-136.1700, 4777,      6.5,  26.2562,  34.7690,2,  34.7693,2,   -999.0,5,    211.6,2,     1.19,2,     0.49,2,     0.02,2,     0.33,2,    1.710,2,    0.951,2, -999.000,9,-999.0000,9,  -999.00,9,-999.000,9,   -999,-999.0000,-999.000,-999.000, 26.2547,-999.000
     32MW893_3,  P04E,   151,  1,     23,     23,2,19890420,1804,  9.5017,-136.1700, 4777,     47.5,  26.2202,  34.7634,2,  34.7703,2,   -999.0,5,    210.7,2,     1.49,2,     0.68,2,     0.01,2,     0.35,2,    1.713,2,    0.929,2, -999.000,9,-999.0000,9,  -999.00,9,-999.000,9,   -999,-999.0000,-999.000,-999.000, 26.2095,-999.000
     32MW893_3,  P04E,   151,  1,     22,     22,2,19890420,1804,  9.5017,-136.1700, 4777,     98.0,  12.9557,  34.5610,2,  34.5690,2,   -999.0,5,     23.5,2,    22.92,2,    29.81,2,     0.02,2,     2.33,2,    0.570,2,    0.303,2, -999.000,9,-999.0000,9,  -999.00,9,-999.000,9,   -999,-999.0000,-999.000,-999.000, 12.9424,-999.000
     32MW893_3,  P04E,   151,  1,     21,     21,2,19890420,1804,  9.5017,-136.1700, 4777,    123.4,  12.0670,  34.7151,2,  34.7152,2,   -999.0,5,     12.6,2,    26.89,2,    33.04,2,     0.01,2,     2.43,2,    0.207,2,    0.120,2, -999.000,9,-999.0000,9,  -999.00,9,-999.000,9,   -999,-999.0000,-999.000,-999.000, 12.0509,-999.000
     32MW893_3,  P04E,   151,  1,     20,     20,2,19890420,1804,  9.5017,-136.1700, 4777,    147.8,  11.3852,  34.7029,2,  34.7001,2,   -999.0,5,      6.1,2,    29.26,2,    33.13,2,     0.01,2,     2.55,2,    0.118,2,    0.082,2, -999.000,9,-999.0000,9,  -999.00,9,-999.000,9,   -999,-999.0000,-999.000,-999.000, 11.3667,-999.000
     32MW893_3,  P04E,   151,  1,     19,     19,2,19890420,1804,  9.5017,-136.1700, 4777,    195.0,  10.5955,  34.6857,2,  34.6863,2,   -999.0,5,      8.7,2,    31.84,2,    34.21,2,     0.00,2,     2.55,2,    0.058,2,    0.040,2, -999.000,9,-999.0000,9,  -999.00,9,-999.000,9,   -999,-999.0000,-999.000,-999.000, 10.5721,-999.000
     32MW893_3,  P04E,   151,  1,     18,     18,2,19890420,1804,  9.5017,-136.1700, 4777,    246.8,  10.1627,  34.6992,2,  34.6936,2,   -999.0,5,     14.3,2,    33.13,2,    35.48,2,     0.00,2,     2.54,2,    0.057,2,    0.033,2, -999.000,9,-999.0000,9,  -999.00,9,-999.000,9,   -999,-999.0000,-999.000,-999.000, 10.1338,-999.000
     32MW893_3,  P04E,   151,  1,     17,     17,2,19890420,1804,  9.5017,-136.1700, 4777,    297.2,   9.7957,  34.6844,2,  34.6834,2,   -999.0,5,     10.9,2,    34.83,2,    36.36,2,    -0.01,2,     2.60,2,    0.028,6,    0.025,6, -999.000,9,-999.0000,9,  -999.00,9,-999.000,9,   -999,-999.0000,-999.000,-999.000,  9.7617,-999.000
     32MW893_3,  P04E,   151,  1,     16,     16,2,19890420,1804,  9.5017,-136.1700, 4777,    396.8,   9.0130,  34.6439,2,  34.6402,2,   -999.0,5,     12.6,2,    40.18,2,    37.14,2,     0.00,2,     2.74,2, -999.000,9, -999.000,9, -999.000,9,-999.0000,9,  -999.00,9,-999.000,9,   -999,-999.0000,-999.000,-999.000,  8.9695,-999.000
     32MW893_3,  P04E,   151,  1,     15,     15,2,19890420,1804,  9.5017,-136.1700, 4777,    496.8,   8.0014,  34.5670,2,  34.5637,2,   -999.0,5,     21.3,2,    49.21,2,    37.93,2,     0.00,2,     2.82,2,    0.009,2,    0.010,2, -999.000,9,-999.0000,9,  -999.00,9,-999.000,9,   -999,-999.0000,-999.000,-999.000,  7.9505,-999.000
     32MW893_3,  P04E,   151,  1,     14,     14,2,19890420,1804,  9.5017,-136.1700, 4777,    598.3,   6.8528,  34.5423,2,  34.5449,2,   -999.0,5,      8.3,2,    63.50,2,    40.57,2,     0.00,2,     3.11,2,    0.004,2, -999.000,5, -999.000,9,-999.0000,9,  -999.00,9,-999.000,9,   -999,-999.0000,-999.000,-999.000,  6.7962,-999.000
     32MW893_3,  P04E,   151,  1,     13,     13,2,19890420,1804,  9.5017,-136.1700, 4777,    697.7,   5.9252,  34.5294,2,  34.5286,2,   -999.0,5,     12.2,2,    75.50,2,    42.72,2,     0.00,2,     3.18,2,    0.005,2, -999.000,5, -999.000,9,-999.0000,9,  -999.00,9,-999.000,9,   -999,-999.0000,-999.000,-999.000,  5.8636,-999.000
     32MW893_3,  P04E,   151,  1,     12,     12,2,19890420,1804,  9.5017,-136.1700, 4777,    796.9,   5.3004,  34.5381,2,  34.5419,2,   -999.0,5,     16.1,2,    84.83,2,    44.18,2,     0.00,2,     3.26,2, -999.000,9, -999.000,9, -999.000,9,-999.0000,9,  -999.00,9,-999.000,9,   -999,-999.0000,-999.000,-999.000,  5.2333,-999.000
     32MW893_3,  P04E,   151,  1,     11,     11,2,19890420,1804,  9.5017,-136.1700, 4777,    997.3,   4.2958,  34.5598,2,  34.5614,2,   -999.0,5,     52.1,2,    99.91,2,    42.72,2,     0.00,2,     3.11,2, -999.000,5,    0.019,2, -999.000,9,-999.0000,9,  -999.00,9,-999.000,9,   -999,-999.0000,-999.000,-999.000,  4.2180,-999.000
     32MW893_3,  P04E,   151,  1,     10,     10,2,19890420,1804,  9.5017,-136.1700, 4777,   1397.4,   3.1362,  34.5976,2,  34.5973,2,   -999.0,5,     66.5,2,   126.59,2,    42.13,2,     0.00,2,     3.05,2, -999.000,9, -999.000,9, -999.000,9,-999.0000,9,  -999.00,9,-999.000,9,   -999,-999.0000,-999.000,-999.000,  3.0354,-999.000
     32MW893_3,  P04E,   151,  1,      9,      9,2,19890420,1804,  9.5017,-136.1700, 4777,   1798.2,   2.2995,  34.6341,2,  34.6331,2,   -999.0,5,     94.3,2,   144.06,2,    40.08,2,     0.00,2,     2.87,2,    0.001,2,    0.003,2, -999.000,9,-999.0000,9,  -999.00,9,-999.000,9,   -999,-999.0000,-999.000,-999.000,  2.1756,-999.000
     32MW893_3,  P04E,   151,  1,      8,      8,2,19890420,1804,  9.5017,-136.1700, 4777,   2200.2,   1.9467,  34.6575,2,  34.6569,2,   -999.0,5,    108.6,2,   152.19,2,    39.29,2,     0.00,2,     2.81,2, -999.000,9, -999.000,9, -999.000,9,-999.0000,9,  -999.00,9,-999.000,9,   -999,-999.0000,-999.000,-999.000,  1.7940,-999.000
     32MW893_3,  P04E,   151,  1,      7,      7,2,19890420,1804,  9.5017,-136.1700, 4777,   2600.5,   1.8248,  34.6683,2,  34.6665,2,   -999.0,5,    113.0,2,   155.86,2,    38.71,2,     0.01,2,     2.75,2,    0.003,2,   -0.003,2, -999.000,9,-999.0000,9,  -999.00,9,-999.000,9,   -999,-999.0000,-999.000,-999.000,  1.6386,-999.000
     32MW893_3,  P04E,   151,  1,      6,      6,2,19890420,1804,  9.5017,-136.1700, 4777,   3001.9,   1.7058,  34.6747,2,  34.6747,2,   -999.0,5,    123.8,2,   157.15,2,    38.32,2,     0.01,2,     2.70,2, -999.000,9, -999.000,9, -999.000,9,-999.0000,9,  -999.00,9,-999.000,9,   -999,-999.0000,-999.000,-999.000,  1.4842,-999.000
     32MW893_3,  P04E,   151,  1,      5,      5,2,19890420,1804,  9.5017,-136.1700, 4777,   3403.0,   1.5629,  34.6839,2,  34.6818,2,   -999.0,5,    138.6,2,   155.26,2,    37.44,2,     0.01,2,     2.61,2,    0.001,2,    0.000,2, -999.000,9,-999.0000,9,  -999.00,9,-999.000,9,   -999,-999.0000,-999.000,-999.000,  1.3051,-999.000
     32MW893_3,  P04E,   151,  1,      4,      4,2,19890420,1804,  9.5017,-136.1700, 4777,   3804.4,   1.4330,  34.6868,2,-999.0000,5,   -999.0,5,   -999.0,5,   147.12,2,    36.65,2,     0.01,2,     2.57,2, -999.000,9, -999.000,9, -999.000,9,-999.0000,9,  -999.00,9,-999.000,9,   -999,-999.0000,-999.000,-999.000,  1.1369,-999.000
     32MW893_3,  P04E,   151,  1,      3,      3,2,19890420,1804,  9.5017,-136.1700, 4777,   4204.2,   1.3890,  34.6915,2,  34.6926,2,   -999.0,5,    166.0,2,   143.86,2,    35.58,2,     0.01,2,     2.49,2,    0.000,2,    0.000,2, -999.000,9,-999.0000,9,  -999.00,9,-999.000,9,   -999,-999.0000,-999.000,-999.000,  1.0507,-999.000
     32MW893_3,  P04E,   151,  1,      2,      2,2,19890420,1804,  9.5017,-136.1700, 4777,   4605.2,   1.4100,  34.6935,2,  34.6942,2,   -999.0,5,    168.6,2,   141.67,2,    35.38,2,     0.01,2,     2.46,2, -999.000,9, -999.000,9, -999.000,9,-999.0000,9,  -999.00,9,-999.000,9,   -999,-999.0000,-999.000,-999.000,  1.0256,-999.000
     32MW893_3,  P04E,   151,  1,      1,      1,2,19890420,1804,  9.5017,-136.1700, 4777,   4841.4,   1.4280,  34.6939,2,  34.6948,2,   -999.0,5,    169.5,2,   140.78,2,    35.05,2,     0.01,2,     2.46,2,    0.002,2,    0.002,2, -999.000,9,-999.0000,9,  -999.00,9,-999.000,9,   -999,-999.0000,-999.000,-999.000,  1.0152,-999.000