BOTTLE,20020418WHPSIOdm
EXPOCODE,SECT_ID,STNNBR,CASTNO,SAMPNO,BTLNBR,BTLNBR_FLAG_W,DATE,TIME,LATITUDE,LONGITUDE,DEPTH,CTDPRS,CTDTMP,CTDSAL,CTDSAL_FLAG_W,SALNTY,SALNTY_FLAG_W,CTDOXY,CTDOXY_FLAG_W,OXYGEN,OXYGEN_FLAG_W,SILCAT,SILCAT_FLAG_W,NITRAT,NITRAT_FLAG_W,NITRIT,NITRIT_FLAG_W,PHSPHT,PHSPHT_FLAG_W,CFC-11,CFC-11_FLAG_W,CFC-12,CFC-12_FLAG_W,TRITUM,TRITUM_FLAG_W,HELIUM,HELIUM_FLAG_W,DELHE3,DELHE3_FLAG_W,NEON,NEON_FLAG_W,CTDRAW,HELIER,DELHER,NEONER,THETA,TRITER
,,,,,,,,,,,,DBAR,ITS-90,PSS-78,,PSS-78,,UMOL/KG,,UMOL/KG,,UMOL/KG,,UMOL/KG,,UMOL/KG,,UMOL/KG,,PMOL/KG,,PMOL/KG,,TU,,NMOL/KG,,PERCNT,,NMOL/KG,,,NMOL/KG,PERCNT,NMOL/KG,ITS-90,TU
     32MW893_3,  P04E,   190,  1,     24,     24,2,19890503,0902,  9.5000,-104.1650, 2822,      6.5,  28.6257,  33.8532,2,  33.8447,2,   -999.0,5,    212.6,2,     0.10,2,     0.20,2,    -0.01,2,     0.25,2,    1.619,2,    0.909,2, -999.000,9,-999.0000,9,  -999.00,9,-999.000,9,   -999,-999.0000,-999.000,-999.000, 28.6241,-999.000
     32MW893_3,  P04E,   190,  1,     23,     23,2,19890503,0902,  9.5000,-104.1650, 2822,     47.1,  25.6483,  34.2035,2,  34.1993,2,   -999.0,5,    197.3,2,     0.59,2,     2.54,2,     0.76,2,     0.57,2,    1.626,3,    0.945,2, -999.000,9,-999.0000,9,  -999.00,9,-999.000,9,   -999,-999.0000,-999.000,-999.000, 25.6379,-999.000
     32MW893_3,  P04E,   190,  1,     22,     22,2,19890503,0902,  9.5000,-104.1650, 2822,     71.2,  17.3863,  34.6951,2,  34.6820,2,   -999.0,5,     46.5,2,    15.17,2,    26.68,2,     1.61,2,     1.96,2,    0.758,2,    0.444,2, -999.000,9,-999.0000,9,  -999.00,9,-999.000,9,   -999,-999.0000,-999.000,-999.000, 17.3744,-999.000
     32MW893_3,  P04E,   190,  1,     21,     21,2,19890503,0902,  9.5000,-104.1650, 2822,     97.6,  13.9923,  34.8894,2,  34.8824,2,   -999.0,5,     20.9,2,    19.79,2,    31.08,2,     0.01,2,     2.14,2,    0.425,2, -999.000,5, -999.000,9,-999.0000,9,  -999.00,9,-999.000,9,   -999,-999.0000,-999.000,-999.000, 13.9783,-999.000
     32MW893_3,  P04E,   190,  1,     20,     20,2,19890503,0902,  9.5000,-104.1650, 2822,    122.5,  13.4376,  34.8862,2,  34.8867,2,   -999.0,5,     22.6,2,    21.07,2,    31.37,2,     0.01,2,     2.17,2,    0.345,2,    0.204,2, -999.000,9,-999.0000,9,  -999.00,9,-999.000,9,   -999,-999.0000,-999.000,-999.000, 13.4204,-999.000
     32MW893_3,  P04E,   190,  1,     19,     19,2,19890503,0902,  9.5000,-104.1650, 2822,    146.9,  13.0137,  34.7823,2,  34.8664,2,   -999.0,5,     21.7,2,    22.16,2,    31.76,2,     0.01,2,     2.20,2,    0.303,2,    0.186,2, -999.000,9,-999.0000,9,  -999.00,9,-999.000,9,   -999,-999.0000,-999.000,-999.000, 12.9935,-999.000
     32MW893_3,  P04E,   190,  1,     18,     18,2,19890503,0902,  9.5000,-104.1650, 2822,    172.3,  12.6038,  34.8396,2,  34.8355,2,   -999.0,5,     22.6,2,    23.73,2,    32.25,2,     0.01,2,     2.23,2,    0.253,2,    0.162,2, -999.000,9,-999.0000,9,  -999.00,9,-999.000,9,   -999,-999.0000,-999.000,-999.000, 12.5806,-999.000
     32MW893_3,  P04E,   190,  1,     17,     17,2,19890503,0902,  9.5000,-104.1650, 2822,    196.9,  12.2450,  34.8186,2,  34.8114,2,   -999.0,5,     27.8,2,    24.72,2,    32.06,2,     0.01,2,     2.23,2,    0.242,2,    0.157,2, -999.000,9,-999.0000,9,  -999.00,9,-999.000,9,   -999,-999.0000,-999.000,-999.000, 12.2190,-999.000
     32MW893_3,  P04E,   190,  1,     16,     16,2,19890503,0902,  9.5000,-104.1650, 2822,    246.3,  11.4581,  34.7823,2,  34.7695,2,   -999.0,5,     36.1,2,    26.68,2,    32.06,2,     0.01,2,     2.24,2,    0.205,2,    0.130,2, -999.000,9,-999.0000,9,  -999.00,9,-999.000,9,   -999,-999.0000,-999.000,-999.000, 11.4270,-999.000
     32MW893_3,  P04E,   190,  1,     15,     15,2,19890503,0902,  9.5000,-104.1650, 2822,    296.6,  11.0304,  34.7523,2,  34.7492,2,   -999.0,5,     29.5,2,    28.85,2,    33.23,2,     0.01,2,     2.35,2, -999.000,9, -999.000,9, -999.000,9,-999.0000,9,  -999.00,9,-999.000,9,   -999,-999.0000,-999.000,-999.000, 10.9937,-999.000
     32MW893_3,  P04E,   190,  1,     14,     14,2,19890503,0902,  9.5000,-104.1650, 2822,    347.2,  10.5645,  34.7313,2,  34.7306,2,   -999.0,5,     16.5,2,    31.80,2,    34.40,2,     0.01,2,     2.48,2,    0.092,2,    0.058,2, -999.000,9,-999.0000,9,  -999.00,9,-999.000,9,   -999,-999.0000,-999.000,-999.000, 10.5226,-999.000
     32MW893_3,  P04E,   190,  1,     13,     13,2,19890503,0902,  9.5000,-104.1650, 2822,    397.9,   9.9707,  34.7054,2,  34.7021,2,   -999.0,5,      6.5,2,    36.73,2,    34.50,2,     0.00,2,     2.67,2, -999.000,9, -999.000,9, -999.000,9,-999.0000,9,  -999.00,9,-999.000,9,   -999,-999.0000,-999.000,-999.000,  9.9243,-999.000
     32MW893_3,  P04E,   190,  1,     12,     12,2,19890503,0902,  9.5000,-104.1650, 2822,    496.9,   8.6561,  34.6385,2,  34.6429,2,   -999.0,5,      2.6,2,    48.26,2,    34.21,2,     0.00,2,     2.94,2,    0.008,2,    0.011,2, -999.000,9,   1.9900,2,     6.65,2,   8.202,2,   -999,  0.0090,   0.150,   0.049,  8.6027,-999.000
     32MW893_3,  P04E,   190,  1,     11,     11,2,19890503,0902,  9.5000,-104.1650, 2822,    597.8,   7.2896,  34.6075,2,  34.5914,2,   -999.0,5,      1.7,2,    60.47,2,    38.12,2,     0.00,2,     3.16,2, -999.000,9, -999.000,9, -999.000,9,   2.0080,2,     9.00,2,   8.321,2,   -999,  0.0090,   0.150,   0.050,  7.2311,-999.000
     32MW893_3,  P04E,   190,  1,     10,     10,2,19890503,0902,  9.5000,-104.1650, 2822,    690.6,   6.6059,  34.5833,2,  34.5804,2,   -999.0,5,      7.0,2,    65.39,2,    42.42,2,     0.00,2,     3.19,2, -999.000,9, -999.000,9, -999.000,9,   2.0030,2,    10.49,2,   8.641,2,   -999,  0.0090,   0.150,   0.052,  6.5414,-999.000
     32MW893_3,  P04E,   190,  1,      9,      9,2,19890503,0902,  9.5000,-104.1650, 2822,    797.5,   5.8142,  34.5669,2,  34.5675,2,   -999.0,5,      9.6,2,    75.34,2,    44.38,2,     0.00,2,     3.26,2, -999.000,9, -999.000,9, -999.000,9,   2.0180,2,    12.88,2,   8.292,2,   -999,  0.0090,   0.150,   0.050,  5.7439,-999.000
     32MW893_3,  P04E,   190,  1,      8,      8,2,19890503,0902,  9.5000,-104.1650, 2822,    997.8,   4.7915,  34.5677,2,  34.5598,2,   -999.0,5,     25.6,2,    91.98,2,    44.77,2,     0.00,2,     3.26,2, -999.000,9, -999.000,9, -999.000,9,   1.9310,2,    16.64,2,   8.062,2,   -999,  0.0090,   0.150,   0.048,  4.7100,-999.000
     32MW893_3,  P04E,   190,  1,      7,      7,2,19890503,0902,  9.5000,-104.1650, 2822,   1198.0,   4.0368,  34.5784,2,  34.5751,2,   -999.0,5,     40.4,2,   106.95,2,    43.99,2,     0.00,2,     3.19,2, -999.000,9, -999.000,9, -999.000,9,   2.0750,2,    19.71,2,   8.772,2,   -999,  0.0090,   0.150,   0.053,  3.9440,-999.000
     32MW893_3,  P04E,   190,  1,      6,      6,2,19890503,0902,  9.5000,-104.1650, 2822,   1398.5,   3.5091,  34.5962,2,  34.5930,2,   -999.0,5,     52.6,2,   118.67,2,    43.11,2,     0.00,2,     3.11,2, -999.000,9, -999.000,9, -999.000,9,   2.0700,2,    22.68,2,   8.491,2,   -999,  0.0090,   0.150,   0.051,  3.4041,-999.000
     32MW893_3,  P04E,   190,  1,      5,      5,2,19890503,0902,  9.5000,-104.1650, 2822,   1698.5,   2.8773,  34.6168,2,  34.6131,2,   -999.0,5,     73.9,2,   131.37,2,    41.74,2,     0.00,2,     3.00,2, -999.000,9, -999.000,9, -999.000,9,-999.0000,9,  -999.00,9,-999.000,9,   -999,-999.0000,-999.000,-999.000,  2.7541,-999.000
     32MW893_3,  P04E,   190,  1,      4,      4,2,19890503,0902,  9.5000,-104.1650, 2822,   1998.8,   2.4495,  34.6363,2,  34.6353,2,   -999.0,5,     82.6,2,   142.00,2,    40.96,2,     0.00,2,     2.94,2, -999.000,9, -999.000,9, -999.000,9,   2.0980,2,    28.10,2,   8.767,2,   -999,  0.0090,   0.150,   0.053,  2.3063,-999.000
     32MW893_3,  P04E,   190,  1,      3,      3,2,19890503,0902,  9.5000,-104.1650, 2822,   2301.4,   1.9887,  34.6593,2,  34.6582,2,   -999.0,5,    100.8,2,   153.92,2,    39.68,2,     0.00,2,     2.82,2, -999.000,9, -999.000,9, -999.000,9,   2.1360,2,    33.22,2,   8.592,2,   -999,  0.0100,   0.150,   0.052,  1.8265,-999.000
     32MW893_3,  P04E,   190,  1,      2,      2,2,19890503,0902,  9.5000,-104.1650, 2822,   2602.7,   1.8438,  34.6678,2,  34.6685,2,   -999.0,5,    109.5,2,   156.98,2,    39.00,2,     0.00,2,     2.74,2,    0.000,2,    0.007,2, -999.000,9,   2.1260,2,    40.03,2,   8.532,2,   -999,  0.0100,   0.150,   0.051,  1.6570,-999.000
     32MW893_3,  P04E,   190,  1,      1,      1,2,19890503,0902,  9.5000,-104.1650, 2822,   2851.8,   1.8498,  34.6689,2,  34.6690,2,   -999.0,5,   -999.0,5,   157.27,2,    38.90,2,     0.00,2,     2.76,2,    0.002,2,    0.000,2, -999.000,9,   2.1610,2,    35.80,2,   8.667,2,   -999,  0.0100,   0.150,   0.052,  1.6396,-999.000
     32MW893_3,  P04E,   191,  1,     24,     24,2,19890503,1230,  9.4900,-103.8300, 3122,      6.9,  28.7567,  33.9742,2,  33.9726,2,   -999.0,5,    218.2,2,     0.00,2,     0.10,2,     0.00,2,     0.28,2,    1.580,2,    0.886,2,    1.451,2,   1.8630,2,    -0.84,2,   7.118,2,   -999,  0.0080,   0.150,   0.043, 28.7550,   0.022
     32MW893_3,  P04E,   191,  1,     23,     23,2,19890503,1230,  9.4900,-103.8300, 3122,     47.4,  26.1822,  34.1803,2,  34.1974,2,   -999.0,5,    204.3,2,     0.89,2,     2.44,2,     0.47,2,     0.55,2,    1.625,2,    0.906,2,    1.514,2,   1.8670,2,    -0.88,2,   7.214,2,   -999,  0.0080,   0.150,   0.043, 26.1716,   0.024
     32MW893_3,  P04E,   191,  1,     22,     22,2,19890503,1230,  9.4900,-103.8300, 3122,     72.8,  18.4101,  34.5910,2,  34.6064,2,   -999.0,5,     68.7,2,    13.00,2,    22.97,2,     1.78,2,     1.75,2,    0.909,2,    0.501,2,    1.314,2,   1.8880,2,     4.78,2,   7.507,2,   -999,  0.0080,   0.150,   0.045, 18.3975,   0.022
     32MW893_3,  P04E,   191,  1,     21,     21,2,19890503,1230,  9.4900,-103.8300, 3122,     97.0,  14.3693,  34.7887,2,  34.7801,2,   -999.0,5,     24.8,2,    20.39,2,    30.59,2,     0.00,2,     2.18,2,    0.491,2,    0.253,2,    1.072,2,   1.9220,2,     7.76,2,   7.804,2,   -999,  0.0090,   0.150,   0.047, 14.3551,   0.024
     32MW893_3,  P04E,   191,  1,     20,     20,2,19890503,1230,  9.4900,-103.8300, 3122,    122.7,  13.0077,  34.7900,2,  34.7907,2,   -999.0,5,     28.7,2,    23.05,2,    31.08,2,     0.00,2,     2.17,2,    0.361,2,    0.195,2,    0.717,2,   1.9340,2,     7.58,2,   7.851,2,   -999,  0.0090,   0.150,   0.047, 12.9909,   0.009
     32MW893_3,  P04E,   191,  1,     19,     19,2,19890503,1230,  9.4900,-103.8300, 3122,    146.8,  12.5108,  34.7947,2,  34.7927,2,   -999.0,5,     35.6,2,    23.93,2,    30.98,2,     0.00,2,     2.17,2,    0.314,2,    0.183,2,    0.755,2,   1.8250,2,     7.24,2,   7.356,2,   -999,  0.0080,   0.150,   0.044, 12.4912,   0.010
     32MW893_3,  P04E,   191,  1,     18,     18,2,19890503,1230,  9.4900,-103.8300, 3122,    171.6,  12.0470,  34.7930,2,  34.7927,2,   -999.0,5,     32.6,2,    25.21,2,    31.86,2,     0.00,2,     2.22,2,    0.237,2,    0.135,2,    0.566,2,   1.9400,2,     6.81,2,   7.890,2,   -999,  0.0090,   0.150,   0.047, 12.0246,   0.009
     32MW893_3,  P04E,   191,  1,     17,     17,2,19890503,1230,  9.4900,-103.8300, 3122,    197.7,  11.6731,  34.7774,2,  34.7777,2,   -999.0,5,     33.9,2,    26.10,2,    31.96,2,     0.00,2,     2.22,2,    0.210,2,    0.134,2,    0.518,2,   1.9370,2,     6.60,2,   7.947,2,   -999,  0.0090,   0.150,   0.048, 11.6478,   0.008
     32MW893_3,  P04E,   191,  1,     16,     16,2,19890503,1230,  9.4900,-103.8300, 3122,    247.9,  11.3182,  34.7637,2,  34.7612,2,   -999.0,5,     32.2,2,    27.57,2,    32.45,2,     0.00,2,     2.25,2,    0.175,2,    0.105,2,    0.422,2,   1.7970,2,     6.14,2,   7.340,2,   -999,  0.0080,   0.150,   0.044, 11.2871,   0.008
     32MW893_3,  P04E,   191,  1,     15,     15,2,19890503,1230,  9.4900,-103.8300, 3122,    297.7,  10.7974,  34.7424,2,  34.7392,2,   -999.0,5,     22.6,2,    30.43,2,    33.82,2,     0.00,2,     2.43,2,    0.114,2, -999.000,5,    0.310,2,   1.9440,2,     6.05,2,   8.041,2,   -999,  0.0090,   0.150,   0.048, 10.7611,   0.007
     32MW893_3,  P04E,   191,  1,     14,     14,2,19890503,1230,  9.4900,-103.8300, 3122,    347.5,  10.3575,  34.7191,2,  34.7182,2,   -999.0,5,     35.2,2,    30.82,2,    33.72,2,     0.00,2,     2.30,2,    0.116,2,    0.073,2,    0.268,2,   1.8020,2,     6.10,2,   7.396,2,   -999,  0.0080,   0.150,   0.044, 10.3161,   0.007
     32MW893_3,  P04E,   191,  1,     13,     13,2,19890503,1230,  9.4900,-103.8300, 3122,    396.8,   9.9267,  34.6967,2,  34.7030,2,   -999.0,5,     10.9,2,    36.24,2,    34.50,2,     0.00,2,     2.64,2,    0.041,2,    0.032,2,    0.125,2,   1.9580,2,     5.50,2,   8.001,2,   -999,  0.0090,   0.150,   0.048,  9.8806,   0.005
     32MW893_3,  P04E,   191,  1,     12,     12,2,19890503,1230,  9.4900,-103.8300, 3122,    496.5,   8.6041,  34.6408,2,  34.6394,2,   -999.0,5,      3.0,2,    49.14,2,    34.21,2,     0.00,2,     2.99,2,    0.005,2,    0.011,2, -999.000,9,-999.0000,9,  -999.00,9,-999.000,9,   -999,-999.0000,-999.000,-999.000,  8.5509,-999.000
     32MW893_3,  P04E,   191,  1,     11,     11,2,19890503,1230,  9.4900,-103.8300, 3122,    597.1,   7.2457,  34.5982,2,  34.5965,2,   -999.0,5,      3.5,2,    60.37,2,    39.49,2,     0.00,2,     3.19,2, -999.000,9, -999.000,9, -999.000,9,-999.0000,9,  -999.00,9,-999.000,9,   -999,-999.0000,-999.000,-999.000,  7.1874,-999.000
     32MW893_3,  P04E,   191,  1,     10,     10,2,19890503,1230,  9.4900,-103.8300, 3122,    697.3,   6.4989,  34.5825,2,  34.5777,2,   -999.0,5,      7.4,2,    67.36,2,    42.72,2,     0.00,2,     3.17,2, -999.000,9, -999.000,9, -999.000,9,-999.0000,9,  -999.00,9,-999.000,9,   -999,-999.0000,-999.000,-999.000,  6.4344,-999.000
     32MW893_3,  P04E,   191,  1,      9,      9,2,19890503,1230,  9.4900,-103.8300, 3122,    796.4,   5.8852,  34.5560,2,  34.5600,2,   -999.0,5,     12.2,2,    74.06,2,    43.89,2,     0.00,2,     3.23,2, -999.000,9, -999.000,9, -999.000,9,-999.0000,9,  -999.00,9,-999.000,9,   -999,-999.0000,-999.000,-999.000,  5.8146,-999.000
     32MW893_3,  P04E,   191,  1,      8,      8,2,19890503,1230,  9.4900,-103.8300, 3122,    997.9,   4.7506,  34.5638,2,  34.5626,2,   -999.0,5,     22.6,2,    93.56,2,    44.87,2,     0.00,2,     3.26,2, -999.000,9, -999.000,9, -999.000,9,-999.0000,9,  -999.00,9,-999.000,9,   -999,-999.0000,-999.000,-999.000,  4.6693,-999.000
     32MW893_3,  P04E,   191,  1,      7,      7,2,19890503,1230,  9.4900,-103.8300, 3122,   1196.0,   4.0428,  34.5778,2,  34.5773,2,   -999.0,5,     42.1,2,   107.45,2,    43.89,2,     0.00,2,     3.19,2, -999.000,9, -999.000,9, -999.000,9,-999.0000,9,  -999.00,9,-999.000,9,   -999,-999.0000,-999.000,-999.000,  3.9501,-999.000
     32MW893_3,  P04E,   191,  1,      6,      6,2,19890503,1230,  9.4900,-103.8300, 3122,   1397.0,   3.5311,  34.5941,2,  34.5952,2,   -999.0,5,     53.4,2,   118.67,2,    42.91,2,     0.00,2,     3.09,2, -999.000,9, -999.000,9, -999.000,9,-999.0000,9,  -999.00,9,-999.000,9,   -999,-999.0000,-999.000,-999.000,  3.4260,-999.000
     32MW893_3,  P04E,   191,  1,      5,      5,2,19890503,1230,  9.4900,-103.8300, 3122,   1697.1,   2.9583,  34.6150,2,  34.6134,2,   -999.0,5,     73.4,2,   131.18,2,    41.74,2,     0.00,2,     3.02,2, -999.000,9, -999.000,9, -999.000,9,-999.0000,9,  -999.00,9,-999.000,9,   -999,-999.0000,-999.000,-999.000,  2.8341,-999.000
     32MW893_3,  P04E,   191,  1,      4,      4,2,19890503,1230,  9.4900,-103.8300, 3122,   1998.8,   2.4385,  34.6371,2,  34.6386,2,   -999.0,5,     83.9,2,   144.47,2,    40.96,2,     0.00,2,     2.90,2, -999.000,9, -999.000,9, -999.000,9,-999.0000,9,  -999.00,9,-999.000,9,   -999,-999.0000,-999.000,-999.000,  2.2955,-999.000
     32MW893_3,  P04E,   191,  1,      3,      3,2,19890503,1230,  9.4900,-103.8300, 3122,   2300.4,   2.0077,  34.6580,2,  34.6590,2,   -999.0,5,    100.8,2,   155.29,2,    40.07,2,     0.00,2,     2.81,2, -999.000,9, -999.000,9, -999.000,9,-999.0000,9,  -999.00,9,-999.000,9,   -999,-999.0000,-999.000,-999.000,  1.8452,-999.000
     32MW893_3,  P04E,   191,  1,      2,      2,2,19890503,1230,  9.4900,-103.8300, 3122,   2601.3,   1.8498,  34.6671,2,  34.6665,2,   -999.0,5,    108.2,2,   157.46,2,    39.10,2,     0.00,2,     2.75,2,   -0.001,2,   -0.001,2, -999.000,9,-999.0000,9,  -999.00,9,-999.000,9,   -999,-999.0000,-999.000,-999.000,  1.6630,-999.000
     32MW893_3,  P04E,   191,  1,      1,      1,2,19890503,1230,  9.4900,-103.8300, 3122,   3148.0,   1.8728,  34.6683,2,  34.6698,2,   -999.0,5,    111.7,2,   157.76,2,    38.71,2,     0.00,2,     2.72,2,    0.000,2, -999.000,5, -999.000,9,-999.0000,9,  -999.00,9,-999.000,9,   -999,-999.0000,-999.000,-999.000,  1.6332,-999.000