BOTTLE,20020418WHPSIOdm
EXPOCODE,SECT_ID,STNNBR,CASTNO,SAMPNO,BTLNBR,BTLNBR_FLAG_W,DATE,TIME,LATITUDE,LONGITUDE,DEPTH,CTDPRS,CTDTMP,CTDSAL,CTDSAL_FLAG_W,SALNTY,SALNTY_FLAG_W,CTDOXY,CTDOXY_FLAG_W,OXYGEN,OXYGEN_FLAG_W,SILCAT,SILCAT_FLAG_W,NITRAT,NITRAT_FLAG_W,NITRIT,NITRIT_FLAG_W,PHSPHT,PHSPHT_FLAG_W,CFC-11,CFC-11_FLAG_W,CFC-12,CFC-12_FLAG_W,TRITUM,TRITUM_FLAG_W,HELIUM,HELIUM_FLAG_W,DELHE3,DELHE3_FLAG_W,NEON,NEON_FLAG_W,CTDRAW,HELIER,DELHER,NEONER,THETA,TRITER
,,,,,,,,,,,,DBAR,ITS-90,PSS-78,,PSS-78,,UMOL/KG,,UMOL/KG,,UMOL/KG,,UMOL/KG,,UMOL/KG,,UMOL/KG,,PMOL/KG,,PMOL/KG,,TU,,NMOL/KG,,PERCNT,,NMOL/KG,,,NMOL/KG,PERCNT,NMOL/KG,ITS-90,TU
     32MW893_3,  P04E,   162,  1,     24,     24,2,19890424,1704,  9.5000,-127.0033, 4567,      6.3,  26.7791,  34.5911,2,  34.5938,2,   -999.0,5,    208.1,2,     1.69,2,     0.39,2,     0.01,2,     0.25,2,    1.668,2,    0.926,2, -999.000,9,-999.0000,9,  -999.00,9,-999.000,9,   -999,-999.0000,-999.000,-999.000, 26.7777,-999.000
     32MW893_3,  P04E,   162,  1,     23,     23,2,19890424,1704,  9.5000,-127.0033, 4567,     46.2,  16.6726,  34.5932,2,  34.6146,2,   -999.0,5,     93.0,2,    13.89,2,    19.74,2,     0.22,2,     1.46,2,    1.037,2,    0.564,2, -999.000,9,-999.0000,9,  -999.00,9,-999.000,9,   -999,-999.0000,-999.000,-999.000, 16.6651,-999.000
     32MW893_3,  P04E,   162,  1,     22,     22,2,19890424,1704,  9.5000,-127.0033, 4567,     96.0,  12.5398,  34.7548,2,  34.7412,2,   -999.0,5,     25.2,2,    25.29,2,    32.84,2,     0.05,2,     2.29,2,    0.344,2,    0.200,2, -999.000,9,-999.0000,9,  -999.00,9,-999.000,9,   -999,-999.0000,-999.000,-999.000, 12.5270,-999.000
     32MW893_3,  P04E,   162,  1,     21,     21,2,19890424,1704,  9.5000,-127.0033, 4567,    122.8,  12.1090,  34.7552,2,  34.7538,2,   -999.0,5,     17.8,2,    26.68,2,    33.43,2,     0.03,2,     2.32,2,    0.215,2,    0.136,2, -999.000,9,-999.0000,9,  -999.00,9,-999.000,9,   -999,-999.0000,-999.000,-999.000, 12.0930,-999.000
     32MW893_3,  P04E,   162,  1,     20,     20,2,19890424,1704,  9.5000,-127.0033, 4567,    147.3,  11.7031,  34.7408,2,  34.7370,2,   -999.0,5,     27.8,2,    27.38,2,    32.94,2,     0.02,2,     2.29,2,    0.207,2,    0.131,2, -999.000,9,-999.0000,9,  -999.00,9,-999.000,9,   -999,-999.0000,-999.000,-999.000, 11.6843,-999.000
     32MW893_3,  P04E,   162,  1,     19,     19,2,19890424,1704,  9.5000,-127.0033, 4567,    170.5,  11.3582,  34.7273,2,  34.7241,2,   -999.0,5,     32.2,2,    28.28,2,    32.84,2,     0.01,2,     2.26,2,    0.185,2, -999.000,5, -999.000,9,-999.0000,9,  -999.00,9,-999.000,9,   -999,-999.0000,-999.000,-999.000, 11.3368,-999.000
     32MW893_3,  P04E,   162,  1,     18,     18,2,19890424,1704,  9.5000,-127.0033, 4567,    197.4,  11.0803,  34.7285,2,  34.7278,2,   -999.0,5,     26.9,2,    29.47,2,    33.62,2,     0.01,2,     2.33,2,    0.135,2, -999.000,5, -999.000,9,-999.0000,9,  -999.00,9,-999.000,9,   -999,-999.0000,-999.000,-999.000, 11.0559,-999.000
     32MW893_3,  P04E,   162,  1,     17,     17,2,19890424,1704,  9.5000,-127.0033, 4567,    247.5,  10.5705,  34.7223,2,  34.7174,2,   -999.0,5,     17.4,2,    31.75,2,    34.99,2,     0.01,2,     2.44,2,    0.075,2, -999.000,5, -999.000,9,-999.0000,9,  -999.00,9,-999.000,9,   -999,-999.0000,-999.000,-999.000, 10.5408,-999.000
     32MW893_3,  P04E,   162,  1,     16,     16,2,19890424,1704,  9.5000,-127.0033, 4567,    297.6,  10.2365,  34.7101,2,  34.7070,2,   -999.0,5,     11.3,2,    33.63,2,    35.58,2,     0.01,2,     2.53,2,    0.044,2, -999.000,5, -999.000,9,-999.0000,9,  -999.00,9,-999.000,9,   -999,-999.0000,-999.000,-999.000, 10.2015,-999.000
     32MW893_3,  P04E,   162,  1,     15,     15,2,19890424,1704,  9.5000,-127.0033, 4567,    397.1,   9.2520,  34.6605,2,  34.6537,2,   -999.0,5,      2.6,2,    41.17,2,    36.65,2,     0.00,2,     2.76,2,    0.008,2, -999.000,5, -999.000,9,-999.0000,9,  -999.00,9,-999.000,9,   -999,-999.0000,-999.000,-999.000,  9.2078,-999.000
     32MW893_3,  P04E,   162,  1,     14,     14,2,19890424,1704,  9.5000,-127.0033, 4567,    496.9,   8.0894,  34.5902,2,  34.5958,2,   -999.0,5,      3.5,2,    51.30,2,    37.14,2,     0.00,2,     2.93,2, -999.000,9, -999.000,9, -999.000,9,-999.0000,9,  -999.00,9,-999.000,9,   -999,-999.0000,-999.000,-999.000,  8.0381,-999.000
     32MW893_3,  P04E,   162,  1,     13,     13,2,19890424,1704,  9.5000,-127.0033, 4567,    594.7,   6.9687,  34.5430,2,  34.5478,2,   -999.0,5,      3.5,2,    63.60,2,    40.37,2,     0.00,2,     3.10,2,    0.001,2,    0.021,2, -999.000,9,-999.0000,9,  -999.00,9,-999.000,9,   -999,-999.0000,-999.000,-999.000,  6.9119,-999.000
     32MW893_3,  P04E,   162,  1,     12,     12,2,19890424,1704,  9.5000,-127.0033, 4567,    696.9,   6.0840,  34.5421,2,  34.5447,2,   -999.0,5,     11.7,2,    71.63,2,    43.40,2,     0.00,2,     3.15,2, -999.000,9, -999.000,9, -999.000,9,-999.0000,9,  -999.00,9,-999.000,9,   -999,-999.0000,-999.000,-999.000,  6.0217,-999.000
     32MW893_3,  P04E,   162,  1,     11,     11,2,19890424,1704,  9.5000,-127.0033, 4567,    795.9,   5.3723,  34.5488,2,  34.5394,2,   -999.0,5,     20.4,2,    82.84,2,    44.28,2,     0.00,2,     3.17,2,   -0.003,2, -999.000,5, -999.000,9,-999.0000,9,  -999.00,9,-999.000,9,   -999,-999.0000,-999.000,-999.000,  5.3048,-999.000
     32MW893_3,  P04E,   162,  1,     10,     10,2,19890424,1704,  9.5000,-127.0033, 4567,    999.2,   4.4777,  34.5607,2,  34.5575,2,   -999.0,5,   -999.0,5,    96.73,2,    43.40,2,     0.00,2,     3.08,2, -999.000,9, -999.000,9, -999.000,9,-999.0000,9,  -999.00,9,-999.000,9,   -999,-999.0000,-999.000,-999.000,  4.3983,-999.000
     32MW893_3,  P04E,   162,  1,      9,      9,2,19890424,1704,  9.5000,-127.0033, 4567,   1245.7,   3.7170,  34.5781,2,  34.5781,2,   -999.0,5,     55.2,2,   113.90,2,    43.11,2,     0.00,2,     3.07,2,   -0.001,2,    0.000,2, -999.000,9,-999.0000,9,  -999.00,9,-999.000,9,   -999,-999.0000,-999.000,-999.000,  3.6230,-999.000
     32MW893_3,  P04E,   162,  1,      8,      8,2,19890424,1704,  9.5000,-127.0033, 4567,   1496.9,   3.0873,  34.6026,2,  34.5999,2,   -999.0,5,     72.6,2,   127.19,2,    41.93,2,     0.00,2,     2.96,2, -999.000,9, -999.000,9, -999.000,9,-999.0000,9,  -999.00,9,-999.000,9,   -999,-999.0000,-999.000,-999.000,  2.9786,-999.000
     32MW893_3,  P04E,   162,  1,      7,      7,2,19890424,1704,  9.5000,-127.0033, 4567,   2000.1,   2.2176,  34.6419,2,  34.6415,2,   -999.0,5,     95.6,2,   147.83,2,    40.76,2,     0.00,2,     2.82,2, -999.000,9, -999.000,9, -999.000,9,-999.0000,9,  -999.00,9,-999.000,9,   -999,-999.0000,-999.000,-999.000,  2.0778,-999.000
     32MW893_3,  P04E,   162,  1,      6,      6,2,19890424,1704,  9.5000,-127.0033, 4567,   2500.5,   1.8698,  34.6659,2,  34.6651,2,   -999.0,5,    109.9,2,   156.95,2,    39.49,2,     0.00,2,     2.72,2, -999.000,9, -999.000,9, -999.000,9,-999.0000,9,  -999.00,9,-999.000,9,   -999,-999.0000,-999.000,-999.000,  1.6918,-999.000
     32MW893_3,  P04E,   162,  1,      5,      5,2,19890424,1704,  9.5000,-127.0033, 4567,   3002.5,   1.7118,  34.6760,2,  34.6734,2,   -999.0,5,    125.1,2,   158.24,2,    38.80,2,     0.00,2,     2.65,2, -999.000,9, -999.000,9, -999.000,9,-999.0000,9,  -999.00,9,-999.000,9,   -999,-999.0000,-999.000,-999.000,  1.4901,-999.000
     32MW893_3,  P04E,   162,  1,      4,      4,2,19890424,1704,  9.5000,-127.0033, 4567,   3502.7,   1.5359,  34.6862,2,  34.6832,2,   -999.0,5,    143.0,2,   154.57,2,    37.73,2,     0.00,2,     2.53,2, -999.000,9, -999.000,9, -999.000,9,-999.0000,9,  -999.00,9,-999.000,9,   -999,-999.0000,-999.000,-999.000,  1.2686,-999.000
     32MW893_3,  P04E,   162,  1,      3,      3,2,19890424,1704,  9.5000,-127.0033, 4567,   4003.7,   1.4140,  34.6911,2,  34.6907,2,   -999.0,5,    159.0,2,   148.81,2,    36.46,2,     0.00,2,     2.45,2,   -0.001,2,   -0.002,2, -999.000,9,-999.0000,9,  -999.00,9,-999.000,9,   -999,-999.0000,-999.000,-999.000,  1.0970,-999.000
     32MW893_3,  P04E,   162,  1,      2,      2,2,19890424,1704,  9.5000,-127.0033, 4567,   4506.6,   1.4360,  34.6918,2,-999.0000,5,   -999.0,5,    164.2,2,   145.84,2,    36.26,2,     0.00,2,     2.43,2, -999.000,9, -999.000,9, -999.000,9,-999.0000,9,  -999.00,9,-999.000,9,   -999,-999.0000,-999.000,-999.000,  1.0621,-999.000
     32MW893_3,  P04E,   162,  1,      1,      1,2,19890424,1704,  9.5000,-127.0033, 4567,   4634.5,   1.4500,  34.6926,2,  34.6946,2,   -999.0,5,    162.9,2,   146.03,2,    36.36,2,     0.00,2,     2.43,2,    0.000,2,   -0.002,2, -999.000,9,-999.0000,9,  -999.00,9,-999.000,9,   -999,-999.0000,-999.000,-999.000,  1.0608,-999.000
     32MW893_3,  P04E,   163,  1,     24,     24,2,19890425,0129,  9.4983,-126.1683, 4664,      7.2,  27.0470,  34.6039,2,  34.6020,2,   -999.0,5,    221.2,2,     1.79,2,     0.10,2,  -999.00,5,     0.26,2,    1.671,2,    0.949,2, -999.000,9,-999.0000,9,  -999.00,9,-999.000,9,   -999,-999.0000,-999.000,-999.000, 27.0453,-999.000
     32MW893_3,  P04E,   163,  1,     23,     23,2,19890425,0129,  9.4983,-126.1683, 4664,     47.0,  17.0284,  34.4007,2,  34.4858,2,   -999.0,5,    116.0,2,    11.91,2,    16.03,2,  -999.00,5,     1.33,2,    1.275,2,    0.653,2, -999.000,9,-999.0000,9,  -999.00,9,-999.000,9,   -999,-999.0000,-999.000,-999.000, 17.0207,-999.000
     32MW893_3,  P04E,   163,  1,     22,     22,2,19890425,0129,  9.4983,-126.1683, 4664,     95.6,  12.5818,  34.7664,2,  34.7632,2,   -999.0,5,     12.6,2,    26.09,2,    33.91,2,  -999.00,5,     2.37,2,    0.241,2,    0.133,2, -999.000,9,-999.0000,9,  -999.00,9,-999.000,9,   -999,-999.0000,-999.000,-999.000, 12.5690,-999.000
     32MW893_3,  P04E,   163,  1,     21,     21,2,19890425,0129,  9.4983,-126.1683, 4664,    122.7,  12.0830,  34.7691,2,  34.7648,2,   -999.0,5,     15.6,2,    27.28,2,    34.11,2,  -999.00,5,     2.34,2,    0.194,2,    0.122,2, -999.000,9,-999.0000,9,  -999.00,9,-999.000,9,   -999,-999.0000,-999.000,-999.000, 12.0670,-999.000
     32MW893_3,  P04E,   163,  1,     20,     20,2,19890425,0129,  9.4983,-126.1683, 4664,    143.8,  11.6971,  34.7492,2,  34.7475,2,   -999.0,5,     24.3,2,    28.18,2,    33.72,2,  -999.00,5,     2.31,2,    0.171,2, -999.000,5, -999.000,9,-999.0000,9,  -999.00,9,-999.000,9,   -999,-999.0000,-999.000,-999.000, 11.6787,-999.000
     32MW893_3,  P04E,   163,  1,     19,     19,2,19890425,0129,  9.4983,-126.1683, 4664,    171.3,  11.2462,  34.7238,2,  34.7253,2,   -999.0,5,     32.2,2,    29.26,2,    33.33,2,  -999.00,5,     2.31,2,    0.166,2,    0.107,2, -999.000,9,-999.0000,9,  -999.00,9,-999.000,9,   -999,-999.0000,-999.000,-999.000, 11.2249,-999.000
     32MW893_3,  P04E,   163,  1,     18,     18,2,19890425,0129,  9.4983,-126.1683, 4664,    198.1,  10.8914,  34.7247,2,  34.7203,2,   -999.0,5,     30.8,2,    30.55,2,    33.82,2,  -999.00,5,     2.33,2,    0.125,2,    0.083,2, -999.000,9,-999.0000,9,  -999.00,9,-999.000,9,   -999,-999.0000,-999.000,-999.000, 10.8672,-999.000
     32MW893_3,  P04E,   163,  1,     17,     17,2,19890425,0129,  9.4983,-126.1683, 4664,    244.6,  10.4645,  34.7159,2,  34.7148,2,   -999.0,5,     23.9,2,    32.34,2,    34.99,2,  -999.00,5,     2.44,2,    0.082,2, -999.000,5, -999.000,9,-999.0000,9,  -999.00,9,-999.000,9,   -999,-999.0000,-999.000,-999.000, 10.4353,-999.000
     32MW893_3,  P04E,   163,  1,     16,     16,2,19890425,0129,  9.4983,-126.1683, 4664,    296.3,  10.1067,  34.7053,2,  34.7019,2,   -999.0,5,     10.9,2,    35.52,2,    36.16,2,  -999.00,5,     2.56,2,    0.035,2,    0.035,2, -999.000,9,-999.0000,9,  -999.00,9,-999.000,9,   -999,-999.0000,-999.000,-999.000, 10.0720,-999.000
     32MW893_3,  P04E,   163,  1,     15,     15,2,19890425,0129,  9.4983,-126.1683, 4664,    397.6,   9.2410,  34.6619,2,  34.6586,2,   -999.0,5,      5.6,2,    41.86,2,    37.44,2,  -999.00,5,     2.75,2,    0.006,2,    0.013,2, -999.000,9,-999.0000,9,  -999.00,9,-999.000,9,   -999,-999.0000,-999.000,-999.000,  9.1968,-999.000
     32MW893_3,  P04E,   163,  1,     14,     14,2,19890425,0129,  9.4983,-126.1683, 4664,    496.4,   8.2553,  34.5979,2,  34.5991,2,   -999.0,5,      7.0,2,    50.70,2,    39.29,2,  -999.00,5,     2.89,2,    0.001,2, -999.000,5, -999.000,9,-999.0000,9,  -999.00,9,-999.000,9,   -999,-999.0000,-999.000,-999.000,  8.2034,-999.000
     32MW893_3,  P04E,   163,  1,     13,     13,2,19890425,0129,  9.4983,-126.1683, 4664,    595.7,   7.1097,  34.5628,2,  34.5651,2,   -999.0,5,      7.0,2,    64.09,2,    40.96,2,  -999.00,5,     3.12,2,    0.003,2, -999.000,5, -999.000,9,-999.0000,9,  -999.00,9,-999.000,9,   -999,-999.0000,-999.000,-999.000,  7.0522,-999.000
     32MW893_3,  P04E,   163,  1,     12,     12,2,19890425,0129,  9.4983,-126.1683, 4664,    696.5,   6.1620,  34.5397,2,  34.5402,2,   -999.0,5,     11.7,2,    72.43,2,  -999.00,5,  -999.00,5,     3.16,2,    0.002,2, -999.000,5, -999.000,9,-999.0000,9,  -999.00,9,-999.000,9,   -999,-999.0000,-999.000,-999.000,  6.0993,-999.000
     32MW893_3,  P04E,   163,  1,     11,     11,2,19890425,0129,  9.4983,-126.1683, 4664,    796.5,   5.4633,  34.5433,2,  34.5439,2,   -999.0,5,     22.2,2,    81.26,2,  -999.00,5,  -999.00,5,     3.16,2, -999.000,9, -999.000,9, -999.000,9,-999.0000,9,  -999.00,9,-999.000,9,   -999,-999.0000,-999.000,-999.000,  5.3952,-999.000
     32MW893_3,  P04E,   163,  1,     10,     10,2,19890425,0129,  9.4983,-126.1683, 4664,    997.2,   4.5457,  34.5589,2,  34.5563,2,   -999.0,5,     45.2,2,    95.35,2,  -999.00,5,  -999.00,5,     3.10,2,    0.007,2,    0.008,2, -999.000,9,-999.0000,9,  -999.00,9,-999.000,9,   -999,-999.0000,-999.000,-999.000,  4.4660,-999.000
     32MW893_3,  P04E,   163,  1,      9,      9,2,19890425,0129,  9.4983,-126.1683, 4664,   1246.7,   3.7510,  34.5825,2,  34.5828,2,   -999.0,5,     58.2,2,   111.62,2,  -999.00,5,  -999.00,5,     3.08,2, -999.000,9, -999.000,9, -999.000,9,-999.0000,9,  -999.00,9,-999.000,9,   -999,-999.0000,-999.000,-999.000,  3.6566,-999.000
     32MW893_3,  P04E,   163,  1,      8,      8,2,19890425,0129,  9.4983,-126.1683, 4664,   1496.5,   3.0743,  34.6012,2,  34.5991,2,   -999.0,5,     76.5,2,   126.20,2,  -999.00,5,  -999.00,5,     2.96,2,    0.001,2, -999.000,5, -999.000,9,-999.0000,9,  -999.00,9,-999.000,9,   -999,-999.0000,-999.000,-999.000,  2.9658,-999.000
     32MW893_3,  P04E,   163,  1,      7,      7,2,19890425,0129,  9.4983,-126.1683, 4664,   2016.1,   2.1836,  34.6437,2,  34.6402,2,   -999.0,5,     96.5,2,   146.64,2,  -999.00,5,  -999.00,5,     2.84,2, -999.000,9, -999.000,9, -999.000,9,-999.0000,9,  -999.00,9,-999.000,9,   -999,-999.0000,-999.000,-999.000,  2.0429,-999.000
     32MW893_3,  P04E,   163,  1,      6,      6,2,19890425,0129,  9.4983,-126.1683, 4664,   2501.6,   1.8598,  34.6665,2,  34.6649,2,   -999.0,5,    112.5,2,   157.74,2,  -999.00,5,  -999.00,5,     2.73,2,   -0.002,2,   -0.005,2, -999.000,9,-999.0000,9,  -999.00,9,-999.000,9,   -999,-999.0000,-999.000,-999.000,  1.6819,-999.000
     32MW893_3,  P04E,   163,  1,      5,      5,2,19890425,0129,  9.4983,-126.1683, 4664,   3001.4,   1.6978,  34.6769,2,  34.6759,2,   -999.0,5,    126.0,2,   158.24,2,    38.71,2,  -999.00,5,     2.66,2, -999.000,9, -999.000,9, -999.000,9,-999.0000,9,  -999.00,9,-999.000,9,   -999,-999.0000,-999.000,-999.000,  1.4765,-999.000
     32MW893_3,  P04E,   163,  1,      4,      4,2,19890425,0129,  9.4983,-126.1683, 4664,   3503.7,   1.5299,  34.6851,2,  34.6865,2,   -999.0,5,    142.9,2,   155.96,2,    37.83,2,  -999.00,5,     2.57,2,    0.002,2,   -0.001,2, -999.000,9,-999.0000,9,  -999.00,9,-999.000,9,   -999,-999.0000,-999.000,-999.000,  1.2626,-999.000
     32MW893_3,  P04E,   163,  1,      3,      3,2,19890425,0129,  9.4983,-126.1683, 4664,   4005.6,   1.4180,  34.6912,2,  34.6907,2,   -999.0,5,    159.0,2,   149.31,2,    36.65,2,  -999.00,5,     2.49,2, -999.000,9, -999.000,9, -999.000,9,-999.0000,9,  -999.00,9,-999.000,9,   -999,-999.0000,-999.000,-999.000,  1.1007,-999.000
     32MW893_3,  P04E,   163,  1,      2,      2,2,19890425,0129,  9.4983,-126.1683, 4664,   4304.9,   1.4190,  34.6923,2,  34.6922,2,   -999.0,5,    163.4,2,   147.02,2,    36.36,2,  -999.00,5,     2.46,2,   -0.002,2,   -0.002,2, -999.000,9,-999.0000,9,  -999.00,9,-999.000,9,   -999,-999.0000,-999.000,-999.000,  1.0686,-999.000
     32MW893_3,  P04E,   163,  1,      1,      1,2,19890425,0129,  9.4983,-126.1683, 4664,   4774.2,   1.4669,  34.6925,2,  34.6958,2,   -999.0,5,    164.7,2,   147.12,2,    36.26,2,  -999.00,5,     2.45,2,   -0.001,2, -999.000,5, -999.000,9,-999.0000,9,  -999.00,9,-999.000,9,   -999,-999.0000,-999.000,-999.000,  1.0608,-999.000