BOTTLE,20020418WHPSIOdm
EXPOCODE,SECT_ID,STNNBR,CASTNO,SAMPNO,BTLNBR,BTLNBR_FLAG_W,DATE,TIME,LATITUDE,LONGITUDE,DEPTH,CTDPRS,CTDTMP,CTDSAL,CTDSAL_FLAG_W,SALNTY,SALNTY_FLAG_W,CTDOXY,CTDOXY_FLAG_W,OXYGEN,OXYGEN_FLAG_W,SILCAT,SILCAT_FLAG_W,NITRAT,NITRAT_FLAG_W,NITRIT,NITRIT_FLAG_W,PHSPHT,PHSPHT_FLAG_W,CFC-11,CFC-11_FLAG_W,CFC-12,CFC-12_FLAG_W,TRITUM,TRITUM_FLAG_W,HELIUM,HELIUM_FLAG_W,DELHE3,DELHE3_FLAG_W,NEON,NEON_FLAG_W,CTDRAW,HELIER,DELHER,NEONER,THETA,TRITER
,,,,,,,,,,,,DBAR,ITS-90,PSS-78,,PSS-78,,UMOL/KG,,UMOL/KG,,UMOL/KG,,UMOL/KG,,UMOL/KG,,UMOL/KG,,PMOL/KG,,PMOL/KG,,TU,,NMOL/KG,,PERCNT,,NMOL/KG,,,NMOL/KG,PERCNT,NMOL/KG,ITS-90,TU
     32MW893_3,  P04E,   140,  1,     24,     24,2,19890416,1741,  9.4967,-145.3333, 4916,      3.6,  26.0612,  34.6914,2,  34.6920,2,   -999.0,5,    215.5,2,     1.39,2,     0.39,2,     0.00,2,     0.28,2,    1.763,2,    0.970,2,    1.609,2,   1.8870,2,    -0.06,2,   7.186,2,   -999,  0.0080,   0.150,   0.043, 26.0604,   0.023
     32MW893_3,  P04E,   140,  1,     23,     23,2,19890416,1741,  9.4967,-145.3333, 4916,     45.9,  26.0283,  34.6954,2,  34.6946,2,   -999.0,5,    216.4,2,     1.49,2,     0.59,2,     0.00,2,     0.30,2,    1.762,2,    0.979,2,    1.570,2,   1.8940,2,     0.11,2,   7.253,2,   -999,  0.0090,   0.150,   0.044, 26.0181,   0.021
     32MW893_3,  P04E,   140,  1,     22,     22,2,19890416,1741,  9.4967,-145.3333, 4916,     71.1,  19.8816,  34.1165,2,  34.5999,2,   -999.0,5,    178.6,2,     3.87,2,     4.59,2,     0.24,2,     0.61,2,    1.811,2,    0.962,2,    2.026,2,-999.0000,9,  -999.00,9,-999.000,9,   -999,-999.0000,-999.000,-999.000, 19.8686,   0.027
     32MW893_3,  P04E,   140,  1,     21,     21,2,19890416,1741,  9.4967,-145.3333, 4916,     97.0,  14.7382,  34.4422,2,  34.4081,2,   -999.0,5,    107.3,2,    12.70,2,    18.09,2,     0.10,2,     1.46,2,    1.468,2,    0.754,2,    1.758,2,   1.9520,2,     8.92,2,   7.822,2,   -999,  0.0090,   0.150,   0.047, 14.7238,   0.018
     32MW893_3,  P04E,   140,  1,     20,     20,2,19890416,1741,  9.4967,-145.3333, 4916,    119.5,  12.6418,  34.5797,2,  34.5820,2,   -999.0,5,     24.3,2,    24.81,2,    31.18,2,     0.02,2,     2.38,2,    0.459,2, -999.000,5,    1.189,2,   1.9440,2,    10.25,2,   7.921,2,   -999,  0.0090,   0.150,   0.048, 12.6258,   0.021
     32MW893_3,  P04E,   140,  1,     19,     19,2,19890416,1741,  9.4967,-145.3333, 4916,    145.7,  11.7771,  34.7517,2,  34.7243,2,   -999.0,5,     11.7,2,    27.88,2,    33.82,2,     0.00,2,     2.48,2,    0.169,2,    0.100,2, -999.000,9,   1.9650,2,     9.69,2,   7.999,2,   -999,  0.0090,   0.150,   0.048, 11.7584,-999.000
     32MW893_3,  P04E,   140,  1,     18,     18,2,19890416,1741,  9.4967,-145.3333, 4916,    171.6,  11.4102,  34.7196,2,  34.7172,2,   -999.0,5,     18.7,2,    28.87,2,    33.92,2,     0.00,2,     2.44,2,    0.134,2, -999.000,5,    0.382,2,   1.9620,2,     9.35,2,   8.033,2,   -999,  0.0090,   0.150,   0.048, 11.3886,   0.006
     32MW893_3,  P04E,   140,  1,     17,     17,2,19890416,1741,  9.4967,-145.3333, 4916,    196.4,  11.0174,  34.7240,2,  34.7235,2,   -999.0,5,     18.2,2,    29.96,2,    34.21,2,     0.00,2,     2.45,2,    0.091,2, -999.000,5,    0.256,2,   1.9820,2,     8.66,2,   8.097,2,   -999,  0.0090,   0.150,   0.049, 10.9932,   0.009
     32MW893_3,  P04E,   140,  1,     16,     16,2,19890416,1741,  9.4967,-145.3333, 4916,    246.3,  10.5085,  34.7126,2,  34.7062,2,   -999.0,5,     19.6,2,    31.94,2,    35.09,2,     0.00,2,     2.49,2,    0.071,2, -999.000,5,    0.194,2,   1.9700,2,     8.02,2,   8.114,2,   -999,  0.0090,   0.150,   0.049, 10.4790,   0.005
     32MW893_3,  P04E,   140,  1,     15,     15,2,19890416,1741,  9.4967,-145.3333, 4916,    296.2,  10.1487,  34.7019,2,  34.7030,2,   -999.0,5,     20.9,2,    32.84,2,    35.58,2,     0.00,2,     2.51,2,    0.052,2,    0.036,2,    0.142,2,   1.9650,2,     7.43,2,   8.121,2,   -999,  0.0090,   0.150,   0.049, 10.1140,   0.004
     32MW893_3,  P04E,   140,  1,     14,     14,2,19890416,1741,  9.4967,-145.3333, 4916,    396.3,   9.3259,  34.6644,2,  34.6667,2,   -999.0,5,      9.6,2,    38.99,2,    37.24,2,     0.00,2,     2.74,2,    0.029,2,    0.011,2,    0.046,2,   1.9830,2,     7.28,2,   8.174,2,   -999,  0.0090,   0.150,   0.049,  9.2816,   0.008
     32MW893_3,  P04E,   140,  1,     13,     13,2,19890416,1741,  9.4967,-145.3333, 4916,    496.6,   8.3593,  34.6076,2,  34.6077,2,   -999.0,5,      9.6,2,    47.82,2,    38.12,2,     0.00,2,     2.91,2,    0.004,2,    0.013,2,    0.012,2,   1.9750,2,     5.93,2,   8.157,2,   -999,  0.0090,   0.150,   0.049,  8.3070,   0.003
     32MW893_3,  P04E,   140,  1,     12,     12,2,19890416,1741,  9.4967,-145.3333, 4916,    621.1,   6.9927,  34.5467,2,  34.5449,2,   -999.0,5,     14.3,2,    61.42,2,    40.47,2,     0.00,2,     3.05,2,    0.000,2,    0.016,2, -999.000,9,-999.0000,9,  -999.00,9,-999.000,9,   -999,-999.0000,-999.000,-999.000,  6.9332,-999.000
     32MW893_3,  P04E,   140,  1,     11,     11,2,19890416,1741,  9.4967,-145.3333, 4916,    796.2,   5.4843,  34.5355,2,  34.5349,2,   -999.0,5,     25.6,2,    82.45,2,    44.18,2,     0.00,2,     3.26,2, -999.000,9, -999.000,9, -999.000,9,-999.0000,9,  -999.00,9,-999.000,9,   -999,-999.0000,-999.000,-999.000,  5.4161,-999.000
     32MW893_3,  P04E,   140,  1,     10,     10,2,19890416,1741,  9.4967,-145.3333, 4916,    998.0,   4.3268,  34.5575,2,  34.5575,2,   -999.0,5,     39.5,2,   100.61,2,    44.09,2,     0.00,2,     3.17,2,    0.004,2,   -0.002,2, -999.000,9,-999.0000,9,  -999.00,9,-999.000,9,   -999,-999.0000,-999.000,-999.000,  4.2487,-999.000
     32MW893_3,  P04E,   140,  1,      9,      9,2,19890416,1741,  9.4967,-145.3333, 4916,   1499.2,   2.8953,  34.6052,2,  34.6054,2,   -999.0,5,     78.6,2,   131.56,2,    41.54,2,     0.00,2,     2.96,2,   -0.001,2,   -0.004,2, -999.000,9,-999.0000,9,  -999.00,9,-999.000,9,   -999,-999.0000,-999.000,-999.000,  2.7886,-999.000
     32MW893_3,  P04E,   140,  1,      8,      8,2,19890416,1741,  9.4967,-145.3333, 4916,   1998.8,   2.1327,  34.6445,2,  34.6439,2,   -999.0,5,    103.4,2,   147.62,2,    39.88,2,     0.00,2,     2.82,2,   -0.001,2,    0.009,2, -999.000,9,-999.0000,9,  -999.00,9,-999.000,9,   -999,-999.0000,-999.000,-999.000,  1.9943,-999.000
     32MW893_3,  P04E,   140,  1,      7,      7,2,19890416,1741,  9.4967,-145.3333, 4916,   2499.4,   1.8558,  34.6648,2,  34.6616,2,   -999.0,5,    113.4,2,   155.36,2,    39.20,2,     0.00,2,     2.73,2,    0.001,2,    0.001,2, -999.000,9,-999.0000,9,  -999.00,9,-999.000,9,   -999,-999.0000,-999.000,-999.000,  1.6782,-999.000
     32MW893_3,  P04E,   140,  1,      6,      6,2,19890416,1741,  9.4967,-145.3333, 4916,   3004.1,   1.6918,  34.6739,2,  34.6738,2,   -999.0,5,    124.7,2,   157.74,2,    38.51,2,     0.00,2,     2.67,2,   -0.003,2,    0.002,2, -999.000,9,-999.0000,9,  -999.00,9,-999.000,9,   -999,-999.0000,-999.000,-999.000,  1.4703,-999.000
     32MW893_3,  P04E,   140,  1,      5,      5,2,19890416,1741,  9.4967,-145.3333, 4916,   3504.4,   1.5129,  34.6835,2,  34.6824,2,   -999.0,5,    142.1,2,   156.46,2,    37.53,2,     0.00,2,     2.57,2,   -0.004,2,   -0.005,2, -999.000,9,-999.0000,9,  -999.00,9,-999.000,9,   -999,-999.0000,-999.000,-999.000,  1.2460,-999.000
     32MW893_3,  P04E,   140,  1,      4,      4,2,19890416,1741,  9.4967,-145.3333, 4916,   4003.9,   1.3920,  34.6917,2,  34.6865,2,   -999.0,5,    160.3,2,   142.96,2,    36.16,2,     0.00,2,     2.50,2,    0.002,2,    0.008,2, -999.000,9,-999.0000,9,  -999.00,9,-999.000,9,   -999,-999.0000,-999.000,-999.000,  1.0756,-999.000
     32MW893_3,  P04E,   140,  1,      3,      3,2,19890416,1741,  9.4967,-145.3333, 4916,   4504.6,   1.3780,  34.6934,2,  34.6928,2,   -999.0,5,    172.9,2,   139.78,2,    35.28,2,     0.00,2,     2.42,2,    0.002,2,    0.006,2, -999.000,9,-999.0000,9,  -999.00,9,-999.000,9,   -999,-999.0000,-999.000,-999.000,  1.0063,-999.000
     32MW893_3,  P04E,   140,  1,      2,      2,2,19890416,1741,  9.4967,-145.3333, 4916,   4756.4,   1.3880,  34.6953,2,  34.6954,2,   -999.0,5,    173.8,2,   138.29,2,    35.09,2,     0.00,2,     2.41,2,    0.000,2,   -0.004,2, -999.000,9,-999.0000,9,  -999.00,9,-999.000,9,   -999,-999.0000,-999.000,-999.000,  0.9866,-999.000
     32MW893_3,  P04E,   140,  1,      1,      1,2,19890416,1741,  9.4967,-145.3333, 4916,   4915.3,   1.4070,  34.6956,2,  34.6948,2,   -999.0,5,    174.7,2,   138.39,2,    35.19,2,     0.00,2,     2.42,2,   -0.005,2,    0.001,2, -999.000,9,-999.0000,9,  -999.00,9,-999.000,9,   -999,-999.0000,-999.000,-999.000,  0.9861,-999.000
     32MW893_3,  P04E,   141,  1,     24,     24,2,19890417,0224,  9.4950,-144.5017, 5142,      7.7,  26.2002,  34.7234,2,  34.7239,2,   -999.0,5,    216.4,2,     1.19,2,     0.20,2,     0.00,2,     0.25,2,    1.741,2,    0.941,2, -999.000,9,-999.0000,9,  -999.00,9,-999.000,9,   -999,-999.0000,-999.000,-999.000, 26.1985,-999.000
     32MW893_3,  P04E,   141,  1,     23,     23,2,19890417,0224,  9.4950,-144.5017, 5142,     46.8,  26.0872,  34.7222,2,  34.7219,2,   -999.0,5,    218.5,2,     1.58,2,     0.39,2,     0.00,2,     0.28,2,    1.751,2,    0.931,2, -999.000,9,-999.0000,9,  -999.00,9,-999.000,9,   -999,-999.0000,-999.000,-999.000, 26.0767,-999.000
     32MW893_3,  P04E,   141,  1,     22,     22,2,19890417,0224,  9.4950,-144.5017, 5142,     97.4,  13.5016,  34.5992,2,  34.5343,2,   -999.0,5,     33.0,2,    20.34,2,    28.35,2,     0.11,2,     2.17,2,    0.740,2,    0.384,2, -999.000,9,-999.0000,9,  -999.00,9,-999.000,9,   -999,-999.0000,-999.000,-999.000, 13.4880,-999.000
     32MW893_3,  P04E,   141,  1,     21,     21,2,19890417,0224,  9.4950,-144.5017, 5142,    147.1,  11.5241,  34.7486,2,  34.7255,2,   -999.0,5,     14.3,2,    28.37,2,    33.62,2,     0.00,2,     2.42,2,    0.142,2, -999.000,5, -999.000,9,-999.0000,9,  -999.00,9,-999.000,9,   -999,-999.0000,-999.000,-999.000, 11.5055,-999.000
     32MW893_3,  P04E,   141,  1,     20,     20,2,19890417,0224,  9.4950,-144.5017, 5142,    198.6,  10.8554,  34.7176,2,  34.7201,2,   -999.0,5,     17.4,2,    30.36,2,    34.21,2,     0.00,2,     2.43,2,    0.090,2,    0.059,2, -999.000,9,-999.0000,9,  -999.00,9,-999.000,9,   -999,-999.0000,-999.000,-999.000, 10.8312,-999.000
     32MW893_3,  P04E,   141,  1,     19,     19,2,19890417,0224,  9.4950,-144.5017, 5142,    246.3,  10.3095,  34.6942,2,  34.6960,2,   -999.0,5,     37.4,2,    31.05,2,    33.53,2,     0.00,2,     2.35,2,    0.103,2,    0.062,2, -999.000,9,-999.0000,9,  -999.00,9,-999.000,9,   -999,-999.0000,-999.000,-999.000, 10.2804,-999.000
     32MW893_3,  P04E,   141,  1,     18,     18,2,19890417,0224,  9.4950,-144.5017, 5142,    296.8,   9.9477,  34.6955,2,  34.6887,2,   -999.0,5,     29.1,2,    33.23,2,    34.89,2,     0.00,2,     2.45,2,    0.074,2,    0.055,2, -999.000,9,-999.0000,9,  -999.00,9,-999.000,9,   -999,-999.0000,-999.000,-999.000,  9.9133,-999.000
     32MW893_3,  P04E,   141,  1,     17,     17,2,19890417,0224,  9.4950,-144.5017, 5142,    397.3,   9.2340,  34.6608,2,  34.6596,2,   -999.0,5,     19.1,2,    38.20,2,    36.65,2,     0.00,2,     2.64,2,    0.021,2, -999.000,5, -999.000,9,-999.0000,9,  -999.00,9,-999.000,9,   -999,-999.0000,-999.000,-999.000,  9.1898,-999.000
     32MW893_3,  P04E,   141,  1,     16,     16,2,19890417,0224,  9.4950,-144.5017, 5142,    496.9,   8.2733,  34.6155,2,  34.6044,2,   -999.0,5,     10.4,2,    47.92,2,    37.83,2,     0.00,2,     2.86,2,    0.014,2, -999.000,5, -999.000,9,-999.0000,9,  -999.00,9,-999.000,9,   -999,-999.0000,-999.000,-999.000,  8.2213,-999.000
     32MW893_3,  P04E,   141,  1,     15,     15,2,19890417,0224,  9.4950,-144.5017, 5142,    598.1,   7.0237,  34.5465,2,  34.5518,2,   -999.0,5,      9.1,2,    61.71,2,    40.37,2,     0.00,2,     3.04,2,    0.008,2, -999.000,5, -999.000,9,-999.0000,9,  -999.00,9,-999.000,9,   -999,-999.0000,-999.000,-999.000,  6.9663,-999.000
     32MW893_3,  P04E,   141,  1,     14,     14,2,19890417,0224,  9.4950,-144.5017, 5142,    697.9,   6.1710,  34.5330,2,  34.5333,2,   -999.0,5,     11.3,2,    72.03,2,    42.23,2,     0.00,2,     3.12,2, -999.000,9, -999.000,9, -999.000,9,-999.0000,9,  -999.00,9,-999.000,9,   -999,-999.0000,-999.000,-999.000,  6.1081,-999.000
     32MW893_3,  P04E,   141,  1,     13,     13,2,19890417,0224,  9.4950,-144.5017, 5142,    800.3,   5.4433,  34.5345,2,  34.5357,2,   -999.0,5,     17.4,2,    82.25,2,    43.79,2,     0.00,2,     3.22,2,    0.000,2,    0.009,2, -999.000,9,-999.0000,9,  -999.00,9,-999.000,9,   -999,-999.0000,-999.000,-999.000,  5.3750,-999.000
     32MW893_3,  P04E,   141,  1,     12,     12,2,19890417,0224,  9.4950,-144.5017, 5142,    998.5,   4.4297,  34.5553,2,  34.5575,2,   -999.0,5,     41.7,2,    99.31,2,    43.40,2,     0.00,2,     3.13,2,    0.002,2,   -0.004,2, -999.000,9,-999.0000,9,  -999.00,9,-999.000,9,   -999,-999.0000,-999.000,-999.000,  4.3509,-999.000
     32MW893_3,  P04E,   141,  1,     11,     11,2,19890417,0224,  9.4950,-144.5017, 5142,   1197.2,   3.7570,  34.5751,2,  34.5761,2,   -999.0,5,     56.5,2,   112.41,2,    42.42,2,     0.01,2,     3.07,2, -999.000,9, -999.000,9, -999.000,9,-999.0000,9,  -999.00,9,-999.000,9,   -999,-999.0000,-999.000,-999.000,  3.6667,-999.000
     32MW893_3,  P04E,   141,  1,     10,     10,2,19890417,0224,  9.4950,-144.5017, 5142,   1499.0,   2.9853,  34.6077,2,  34.6024,2,   -999.0,5,     72.1,2,   129.87,2,    41.54,2,     0.00,2,     2.97,2, -999.000,9, -999.000,9, -999.000,9,-999.0000,9,  -999.00,9,-999.000,9,   -999,-999.0000,-999.000,-999.000,  2.8776,-999.000
     32MW893_3,  P04E,   141,  1,      9,      9,2,19890417,0224,  9.4950,-144.5017, 5142,   1799.5,   2.3965,  34.6301,2,  34.6319,2,   -999.0,5,     87.3,2,   144.35,2,    40.66,2,     0.00,2,     2.87,2, -999.000,9, -999.000,9, -999.000,9,-999.0000,9,  -999.00,9,-999.000,9,   -999,-999.0000,-999.000,-999.000,  2.2712,-999.000
     32MW893_3,  P04E,   141,  1,      8,      8,2,19890417,0224,  9.4950,-144.5017, 5142,   1998.1,   2.1137,  34.6468,2,  34.6461,2,   -999.0,5,     98.6,2,   150.51,2,    39.78,2,     0.00,2,     2.82,2,   -0.003,2,   -0.005,2, -999.000,9,-999.0000,9,  -999.00,9,-999.000,9,   -999,-999.0000,-999.000,-999.000,  1.9756,-999.000
     32MW893_3,  P04E,   141,  1,      7,      7,2,19890417,0224,  9.4950,-144.5017, 5142,   2500.4,   1.8338,  34.6657,2,  34.6637,2,   -999.0,5,    114.3,2,   156.25,2,    38.71,2,     0.00,2,     2.73,2, -999.000,9, -999.000,9, -999.000,9,-999.0000,9,  -999.00,9,-999.000,9,   -999,-999.0000,-999.000,-999.000,  1.6565,-999.000
     32MW893_3,  P04E,   141,  1,      6,      6,2,19890417,0224,  9.4950,-144.5017, 5142,   3002.8,   1.6828,  34.6755,2,  34.6763,2,   -999.0,5,    124.7,2,   157.74,2,    38.02,2,     0.00,2,     2.65,2,    0.003,2,   -0.004,2, -999.000,9,-999.0000,9,  -999.00,9,-999.000,9,   -999,-999.0000,-999.000,-999.000,  1.4617,-999.000
     32MW893_3,  P04E,   141,  1,      5,      5,2,19890417,0224,  9.4950,-144.5017, 5142,   3502.7,   1.5159,  34.6823,2,  34.6850,2,   -999.0,5,    142.5,2,   155.75,2,    36.95,2,     0.00,2,     2.57,2, -999.000,9, -999.000,9, -999.000,9,-999.0000,9,  -999.00,9,-999.000,9,   -999,-999.0000,-999.000,-999.000,  1.2491,-999.000
     32MW893_3,  P04E,   141,  1,      4,      4,2,19890417,0224,  9.4950,-144.5017, 5142,   4003.8,   1.4000,  34.6906,2,  34.6914,2,   -999.0,5,    162.9,2,   146.53,2,    35.77,2,     0.00,2,     2.49,2,   -0.001,2,   -0.004,2, -999.000,9,-999.0000,9,  -999.00,9,-999.000,9,   -999,-999.0000,-999.000,-999.000,  1.0834,-999.000
     32MW893_3,  P04E,   141,  1,      3,      3,2,19890417,0224,  9.4950,-144.5017, 5142,   4505.6,   1.3940,  34.6932,2,  34.6942,2,   -999.0,5,    169.5,2,   141.27,2,    35.28,2,     0.01,2,     2.44,2, -999.000,9, -999.000,9, -999.000,9,-999.0000,9,  -999.00,9,-999.000,9,   -999,-999.0000,-999.000,-999.000,  1.0216,-999.000
     32MW893_3,  P04E,   141,  1,      2,      2,2,19890417,0224,  9.4950,-144.5017, 5142,   5005.3,   1.4240,  34.6950,2,  34.6979,2,   -999.0,5,    174.2,2,   139.68,2,    34.99,2,     0.01,2,     2.42,2,    0.003,2,   -0.004,2, -999.000,9,-999.0000,9,  -999.00,9,-999.000,9,   -999,-999.0000,-999.000,-999.000,  0.9916,-999.000
     32MW893_3,  P04E,   141,  1,      1,      1,2,19890417,0224,  9.4950,-144.5017, 5142,   5202.9,   1.4440,  34.6953,2,  34.6948,2,   -999.0,5,    173.4,2,   138.49,2,    34.76,2,     0.01,2,     2.42,2,   -0.004,2,   -0.005,2, -999.000,9,-999.0000,9,  -999.00,9,-999.000,9,   -999,-999.0000,-999.000,-999.000,  0.9867,-999.000