BOTTLE,20020418WHPSIOdm
EXPOCODE,SECT_ID,STNNBR,CASTNO,SAMPNO,BTLNBR,BTLNBR_FLAG_W,DATE,TIME,LATITUDE,LONGITUDE,DEPTH,CTDPRS,CTDTMP,CTDSAL,CTDSAL_FLAG_W,SALNTY,SALNTY_FLAG_W,CTDOXY,CTDOXY_FLAG_W,OXYGEN,OXYGEN_FLAG_W,SILCAT,SILCAT_FLAG_W,NITRAT,NITRAT_FLAG_W,NITRIT,NITRIT_FLAG_W,PHSPHT,PHSPHT_FLAG_W,CFC-11,CFC-11_FLAG_W,CFC-12,CFC-12_FLAG_W,TRITUM,TRITUM_FLAG_W,HELIUM,HELIUM_FLAG_W,DELHE3,DELHE3_FLAG_W,NEON,NEON_FLAG_W,CTDRAW,HELIER,DELHER,NEONER,THETA,TRITER
,,,,,,,,,,,,DBAR,ITS-90,PSS-78,,PSS-78,,UMOL/KG,,UMOL/KG,,UMOL/KG,,UMOL/KG,,UMOL/KG,,UMOL/KG,,PMOL/KG,,PMOL/KG,,TU,,NMOL/KG,,PERCNT,,NMOL/KG,,,NMOL/KG,PERCNT,NMOL/KG,ITS-90,TU
     32MW893_3,  P04E,   160,  1,     24,     24,2,19890424,0015,  9.4917,-128.6667, 4603,      7.0,  26.6311,  34.6122,2,  34.6099,2,   -999.0,5,    216.0,2,     2.18,2,     0.39,2,     0.02,2,     0.32,2, -999.000,9, -999.000,9, -999.000,9,-999.0000,9,  -999.00,9,-999.000,9,   -999,-999.0000,-999.000,-999.000, 26.6295,-999.000
     32MW893_3,  P04E,   160,  1,     23,     23,2,19890424,0015,  9.4917,-128.6667, 4603,     47.3,  14.2073,  34.6635,2,  34.5977,2,   -999.0,5,     21.3,2,    21.13,2,    28.25,2,     0.21,2,     2.29,2, -999.000,9, -999.000,9, -999.000,9,-999.0000,9,  -999.00,9,-999.000,9,   -999,-999.0000,-999.000,-999.000, 14.2005,-999.000
     32MW893_3,  P04E,   160,  1,     22,     22,2,19890424,0015,  9.4917,-128.6667, 4603,     72.7,  12.8837,  34.7518,2,  34.7502,2,   -999.0,5,     13.9,2,    25.29,2,    32.94,2,     0.34,2,     2.34,2, -999.000,9, -999.000,9, -999.000,9,-999.0000,9,  -999.00,9,-999.000,9,   -999,-999.0000,-999.000,-999.000, 12.8738,-999.000
     32MW893_3,  P04E,   160,  1,     21,     21,2,19890424,0015,  9.4917,-128.6667, 4603,     97.8,  12.3119,  34.7659,2,  34.7638,2,   -999.0,5,     14.8,2,    26.39,2,    33.43,2,     0.03,2,     2.34,2, -999.000,9, -999.000,9, -999.000,9,-999.0000,9,  -999.00,9,-999.000,9,   -999,-999.0000,-999.000,-999.000, 12.2990,-999.000
     32MW893_3,  P04E,   160,  1,     20,     20,2,19890424,0015,  9.4917,-128.6667, 4603,    121.9,  11.8261,  34.7822,2,  34.7665,2,   -999.0,5,     12.6,2,    27.68,2,    33.91,2,     0.01,2,     2.39,2, -999.000,9, -999.000,9, -999.000,9,-999.0000,9,  -999.00,9,-999.000,9,   -999,-999.0000,-999.000,-999.000, 11.8104,-999.000
     32MW893_3,  P04E,   160,  1,     19,     19,2,19890424,0015,  9.4917,-128.6667, 4603,    146.9,  11.5801,  34.7662,2,  34.7620,2,   -999.0,5,     17.8,2,    28.57,2,    33.82,2,     0.01,2,     2.37,2, -999.000,9, -999.000,9, -999.000,9,-999.0000,9,  -999.00,9,-999.000,9,   -999,-999.0000,-999.000,-999.000, 11.5615,-999.000
     32MW893_3,  P04E,   160,  1,     18,     18,2,19890424,0015,  9.4917,-128.6667, 4603,    195.7,  10.9074,  34.7338,2,  34.7339,2,   -999.0,5,     16.5,2,    30.76,2,    34.50,2,     0.01,2,     2.44,2, -999.000,9, -999.000,9, -999.000,9,-999.0000,9,  -999.00,9,-999.000,9,   -999,-999.0000,-999.000,-999.000, 10.8835,-999.000
     32MW893_3,  P04E,   160,  1,     17,     17,2,19890424,0015,  9.4917,-128.6667, 4603,    247.0,  10.4515,  34.7244,2,  34.7141,2,   -999.0,5,     18.2,2,  -999.00,5,    35.09,2,     0.01,2,     2.48,2, -999.000,9, -999.000,9, -999.000,9,-999.0000,9,  -999.00,9,-999.000,9,   -999,-999.0000,-999.000,-999.000, 10.4220,-999.000
     32MW893_3,  P04E,   160,  1,     16,     16,2,19890424,0015,  9.4917,-128.6667, 4603,    295.8,  10.0247,  34.6957,2,  34.6981,2,   -999.0,5,      7.0,2,    35.31,2,    36.07,2,     0.01,2,     2.64,2, -999.000,9, -999.000,9, -999.000,9,-999.0000,9,  -999.00,9,-999.000,9,   -999,-999.0000,-999.000,-999.000,  9.9903,-999.000
     32MW893_3,  P04E,   160,  1,     15,     15,2,19890424,0015,  9.4917,-128.6667, 4603,    396.4,   9.0860,  34.6549,2,  34.6457,2,   -999.0,5,      5.6,2,    42.07,2,    36.75,2,     0.00,2,     2.81,2, -999.000,9, -999.000,9, -999.000,9,-999.0000,9,  -999.00,9,-999.000,9,   -999,-999.0000,-999.000,-999.000,  9.0424,-999.000
     32MW893_3,  P04E,   160,  1,     14,     14,2,19890424,0015,  9.4917,-128.6667, 4603,    497.6,   7.9744,  34.5850,2,  34.5840,2,   -999.0,5,      3.9,2,    53.38,2,    37.73,2,     0.00,2,     2.99,2, -999.000,9, -999.000,9, -999.000,9,-999.0000,9,  -999.00,9,-999.000,9,   -999,-999.0000,-999.000,-999.000,  7.9235,-999.000
     32MW893_3,  P04E,   160,  1,     13,     13,2,19890424,0015,  9.4917,-128.6667, 4603,    595.8,   6.7439,  34.5375,2,  34.5467,2,   -999.0,5,      5.6,2,  -999.00,5,    40.66,2,     0.00,2,     3.16,2, -999.000,9, -999.000,9, -999.000,9,-999.0000,9,  -999.00,9,-999.000,9,   -999,-999.0000,-999.000,-999.000,  6.6880,-999.000
     32MW893_3,  P04E,   160,  1,     12,     12,2,19890424,0015,  9.4917,-128.6667, 4603,    698.0,   6.0152,  34.5415,2,  34.5396,2,   -999.0,5,      6.1,2,    76.39,2,    43.30,2,     0.00,2,     3.26,2, -999.000,9, -999.000,9, -999.000,9,-999.0000,9,  -999.00,9,-999.000,9,   -999,-999.0000,-999.000,-999.000,  5.9531,-999.000
     32MW893_3,  P04E,   160,  1,     11,     11,2,19890424,0015,  9.4917,-128.6667, 4603,    797.3,   5.2794,  34.5425,2,  34.5423,2,   -999.0,5,     16.1,2,    84.54,2,    44.77,2,     0.00,2,     3.27,2, -999.000,9, -999.000,9, -999.000,9,-999.0000,9,  -999.00,9,-999.000,9,   -999,-999.0000,-999.000,-999.000,  5.2124,-999.000
     32MW893_3,  P04E,   160,  1,     10,     10,2,19890424,0015,  9.4917,-128.6667, 4603,    998.9,   4.4467,  34.5587,2,  34.5579,2,   -999.0,5,     42.2,2,    97.83,2,    43.69,2,     0.00,2,     3.16,2, -999.000,9, -999.000,9, -999.000,9,-999.0000,9,  -999.00,9,-999.000,9,   -999,-999.0000,-999.000,-999.000,  4.3677,-999.000
     32MW893_3,  P04E,   160,  1,      9,      9,2,19890424,0015,  9.4917,-128.6667, 4603,   1248.9,   3.6530,  34.5826,2,  34.5844,2,   -999.0,5,     60.8,2,   113.99,2,    42.72,2,     0.00,2,     3.07,2, -999.000,9, -999.000,9, -999.000,9,-999.0000,9,  -999.00,9,-999.000,9,   -999,-999.0000,-999.000,-999.000,  3.5593,-999.000
     32MW893_3,  P04E,   160,  1,      8,      8,2,19890424,0015,  9.4917,-128.6667, 4603,   1498.0,   3.0273,  34.6024,2,  34.6032,2,   -999.0,5,     74.7,2,   128.19,2,    41.93,2,     0.00,2,     2.99,2, -999.000,9, -999.000,9, -999.000,9,-999.0000,9,  -999.00,9,-999.000,9,   -999,-999.0000,-999.000,-999.000,  2.9192,-999.000
     32MW893_3,  P04E,   160,  1,      7,      7,2,19890424,0015,  9.4917,-128.6667, 4603,   2000.5,   2.1417,  34.6451,2,-999.0000,5,   -999.0,5,     96.0,2,   149.92,2,    40.76,2,     0.00,2,     2.86,2, -999.000,9, -999.000,9, -999.000,9,-999.0000,9,  -999.00,9,-999.000,9,   -999,-999.0000,-999.000,-999.000,  2.0031,-999.000
     32MW893_3,  P04E,   160,  1,      6,      6,2,19890424,0015,  9.4917,-128.6667, 4603,   2500.9,   1.8488,  34.6666,2,  34.6653,2,   -999.0,5,    112.1,2,   156.46,2,    39.49,2,     0.00,2,     2.77,2, -999.000,9, -999.000,9, -999.000,9,-999.0000,9,  -999.00,9,-999.000,9,   -999,-999.0000,-999.000,-999.000,  1.6712,-999.000
     32MW893_3,  P04E,   160,  1,      5,      5,2,19890424,0015,  9.4917,-128.6667, 4603,   3002.4,   1.6628,  34.6761,2,  34.6771,2,   -999.0,5,    127.3,2,  -999.00,5,    38.61,2,     0.00,2,     2.67,2, -999.000,9, -999.000,9, -999.000,9,-999.0000,9,  -999.00,9,-999.000,9,   -999,-999.0000,-999.000,-999.000,  1.4422,-999.000
     32MW893_3,  P04E,   160,  1,      4,      4,2,19890424,0015,  9.4917,-128.6667, 4603,   3503.2,   1.5149,  34.6857,2,  34.6863,2,   -999.0,5,    143.4,2,   154.07,2,    37.63,2,     0.00,2,     2.59,2, -999.000,9, -999.000,9, -999.000,9,-999.0000,9,  -999.00,9,-999.000,9,   -999,-999.0000,-999.000,-999.000,  1.2481,-999.000
     32MW893_3,  P04E,   160,  1,      3,      3,2,19890424,0015,  9.4917,-128.6667, 4603,   4003.8,   1.4000,  34.6919,2,  34.6942,2,   -999.0,5,    159.5,2,   147.02,2,    36.36,2,     0.00,2,     2.50,2, -999.000,9, -999.000,9, -999.000,9,-999.0000,9,  -999.00,9,-999.000,9,   -999,-999.0000,-999.000,-999.000,  1.0834,-999.000
     32MW893_3,  P04E,   160,  1,      2,      2,2,19890424,0015,  9.4917,-128.6667, 4603,   4506.6,   1.4310,  34.6929,2,  34.6940,2,   -999.0,5,    162.5,2,   144.94,2,    36.16,2,     0.00,2,     2.48,2, -999.000,9, -999.000,9, -999.000,9,-999.0000,9,  -999.00,9,-999.000,9,   -999,-999.0000,-999.000,-999.000,  1.0573,-999.000
     32MW893_3,  P04E,   160,  1,      1,      1,2,19890424,0015,  9.4917,-128.6667, 4603,   4651.6,   1.4460,  34.6919,2,  34.6936,2,   -999.0,5,    162.5,2,   145.14,2,    36.07,2,     0.00,2,     2.48,2, -999.000,9, -999.000,9, -999.000,9,-999.0000,9,  -999.00,9,-999.000,9,   -999,-999.0000,-999.000,-999.000,  1.0550,-999.000
     32MW893_3,  P04E,   161,  1,     24,     24,2,19890424,0840,  9.5000,-127.8350, 4613,      5.8,  26.7091,  34.6412,2,  34.6411,2,   -999.0,5,    215.1,2,     0.50,2,     0.20,2,     0.01,2,     0.24,2, -999.000,9, -999.000,9, -999.000,9,-999.0000,9,  -999.00,9,-999.000,9,   -999,-999.0000,-999.000,-999.000, 26.7078,-999.000
     32MW893_3,  P04E,   161,  1,     23,     23,2,19890424,0840,  9.5000,-127.8350, 4613,     47.1,  17.1814,  34.5800,2,  34.5942,2,   -999.0,5,    102.5,2,    11.91,2,    18.38,2,     0.18,2,     1.40,2, -999.000,9, -999.000,9, -999.000,9,-999.0000,9,  -999.00,9,-999.000,9,   -999,-999.0000,-999.000,-999.000, 17.1736,-999.000
     32MW893_3,  P04E,   161,  1,     22,     22,2,19890424,0840,  9.5000,-127.8350, 4613,     98.8,  12.7977,  34.7389,2,  34.7327,2,   -999.0,5,     20.4,2,    23.81,2,    32.64,2,     0.04,2,     2.30,2, -999.000,9, -999.000,9, -999.000,9,-999.0000,9,  -999.00,9,-999.000,9,   -999,-999.0000,-999.000,-999.000, 12.7843,-999.000
     32MW893_3,  P04E,   161,  1,     21,     21,2,19890424,0840,  9.5000,-127.8350, 4613,    122.6,  12.1650,  34.7515,2,  34.7492,2,   -999.0,5,     25.2,2,    25.50,2,    32.84,2,     0.01,2,     2.27,2, -999.000,9, -999.000,9, -999.000,9,-999.0000,9,  -999.00,9,-999.000,9,   -999,-999.0000,-999.000,-999.000, 12.1489,-999.000
     32MW893_3,  P04E,   161,  1,     20,     20,2,19890424,0840,  9.5000,-127.8350, 4613,    146.8,  11.6771,  34.7415,2,  34.7447,2,   -999.0,5,     26.1,2,    26.89,2,    33.23,2,     0.01,2,     2.30,2, -999.000,9, -999.000,9, -999.000,9,-999.0000,9,  -999.00,9,-999.000,9,   -999,-999.0000,-999.000,-999.000, 11.6584,-999.000
     32MW893_3,  P04E,   161,  1,     19,     19,2,19890424,0840,  9.5000,-127.8350, 4613,    172.0,  11.4861,  34.7542,2,  34.7540,2,   -999.0,5,     16.9,2,    27.97,2,    34.11,2,     0.01,2,     2.38,2, -999.000,9, -999.000,9, -999.000,9,-999.0000,9,  -999.00,9,-999.000,9,   -999,-999.0000,-999.000,-999.000, 11.4644,-999.000
     32MW893_3,  P04E,   161,  1,     18,     18,2,19890424,0840,  9.5000,-127.8350, 4613,    197.5,  11.1613,  34.7501,2,  34.7451,2,   -999.0,5,     20.0,2,    28.37,2,    34.11,2,     0.01,2,     2.38,2, -999.000,9, -999.000,9, -999.000,9,-999.0000,9,  -999.00,9,-999.000,9,   -999,-999.0000,-999.000,-999.000, 11.1368,-999.000
     32MW893_3,  P04E,   161,  1,     17,     17,2,19890424,0840,  9.5000,-127.8350, 4613,    246.2,  10.6804,  34.7296,2,  34.7231,2,   -999.0,5,     13.9,2,    30.55,2,    35.09,2,     0.01,2,     2.47,2, -999.000,9, -999.000,9, -999.000,9,-999.0000,9,  -999.00,9,-999.000,9,   -999,-999.0000,-999.000,-999.000, 10.6506,-999.000
     32MW893_3,  P04E,   161,  1,     16,     16,2,19890424,0840,  9.5000,-127.8350, 4613,    296.3,  10.2895,  34.7165,2,  34.7084,2,   -999.0,5,      7.4,2,    32.94,2,    35.68,2,     0.01,2,     2.57,2, -999.000,9, -999.000,9, -999.000,9,-999.0000,9,  -999.00,9,-999.000,9,   -999,-999.0000,-999.000,-999.000, 10.2544,-999.000
     32MW893_3,  P04E,   161,  1,     15,     15,2,19890424,0840,  9.5000,-127.8350, 4613,    396.8,   9.3788,  34.6639,2,  34.6681,2,   -999.0,5,      5.2,2,    39.09,2,    36.95,2,    -0.01,2,     2.73,2, -999.000,9, -999.000,9, -999.000,9,-999.0000,9,  -999.00,9,-999.000,9,   -999,-999.0000,-999.000,-999.000,  9.3344,-999.000
     32MW893_3,  P04E,   161,  1,     14,     14,2,19890424,0840,  9.5000,-127.8350, 4613,    497.4,   8.1693,  34.5952,2,  34.5962,2,   -999.0,5,      3.5,2,    50.20,2,    37.83,2,    -0.01,2,     2.94,2, -999.000,9, -999.000,9, -999.000,9,-999.0000,9,  -999.00,9,-999.000,9,   -999,-999.0000,-999.000,-999.000,  8.1177,-999.000
     32MW893_3,  P04E,   161,  1,     13,     13,2,19890424,0840,  9.5000,-127.8350, 4613,    598.0,   6.9797,  34.5455,2,  34.5441,2,   -999.0,5,      4.3,2,    63.60,2,    40.57,2,    -0.01,2,     3.10,2, -999.000,9, -999.000,9, -999.000,9,-999.0000,9,  -999.00,9,-999.000,9,   -999,-999.0000,-999.000,-999.000,  6.9226,-999.000
     32MW893_3,  P04E,   161,  1,     12,     12,2,19890424,0840,  9.5000,-127.8350, 4613,    696.5,   6.1110,  34.5427,2,  34.5414,2,   -999.0,5,     10.0,2,    71.84,2,    43.60,2,    -0.01,2,     3.16,2, -999.000,9, -999.000,9, -999.000,9,-999.0000,9,  -999.00,9,-999.000,9,   -999,-999.0000,-999.000,-999.000,  6.0485,-999.000
     32MW893_3,  P04E,   161,  1,     11,     11,2,19890424,0840,  9.5000,-127.8350, 4613,    797.7,   5.4083,  34.5393,2,  34.5376,2,   -999.0,5,     13.5,2,    79.97,2,    44.09,2,     0.00,2,     3.26,2, -999.000,9, -999.000,9, -999.000,9,-999.0000,9,  -999.00,9,-999.000,9,   -999,-999.0000,-999.000,-999.000,  5.3405,-999.000
     32MW893_3,  P04E,   161,  1,     10,     10,2,19890424,0840,  9.5000,-127.8350, 4613,    999.5,   4.4817,  34.5596,2,  34.5592,2,   -999.0,5,     41.7,2,    95.44,2,    43.79,2,     0.00,2,     3.11,2, -999.000,9, -999.000,9, -999.000,9,-999.0000,9,  -999.00,9,-999.000,9,   -999,-999.0000,-999.000,-999.000,  4.4023,-999.000
     32MW893_3,  P04E,   161,  1,      9,      9,2,19890424,0840,  9.5000,-127.8350, 4613,   1246.6,   3.6700,  34.5816,2,  34.5802,2,   -999.0,5,     60.8,2,   111.82,2,    42.62,2,     0.00,2,     3.03,2, -999.000,9, -999.000,9, -999.000,9,-999.0000,9,  -999.00,9,-999.000,9,   -999,-999.0000,-999.000,-999.000,  3.5764,-999.000
     32MW893_3,  P04E,   161,  1,      8,      8,2,19890424,0840,  9.5000,-127.8350, 4613,   1499.7,   3.0833,  34.6015,2,  34.5960,2,   -999.0,5,     75.2,2,   123.43,2,    41.84,2,     0.00,2,     2.94,2, -999.000,9, -999.000,9, -999.000,9,-999.0000,9,  -999.00,9,-999.000,9,   -999,-999.0000,-999.000,-999.000,  2.9745,-999.000
     32MW893_3,  P04E,   161,  1,      7,      7,2,19890424,0840,  9.5000,-127.8350, 4613,   2000.3,   2.1866,  34.6452,2,  34.6431,2,   -999.0,5,     95.2,2,   148.22,2,    40.76,2,     0.00,2,     2.82,2, -999.000,9, -999.000,9, -999.000,9,-999.0000,9,  -999.00,9,-999.000,9,   -999,-999.0000,-999.000,-999.000,  2.0472,-999.000
     32MW893_3,  P04E,   161,  1,      6,      6,2,19890424,0840,  9.5000,-127.8350, 4613,   2500.7,   1.8608,  34.6665,2,  34.6663,2,   -999.0,5,    110.4,2,   153.67,2,    39.49,2,     0.00,2,     2.72,2, -999.000,9, -999.000,9, -999.000,9,-999.0000,9,  -999.00,9,-999.000,9,   -999,-999.0000,-999.000,-999.000,  1.6830,-999.000
     32MW893_3,  P04E,   161,  1,      5,      5,2,19890424,0840,  9.5000,-127.8350, 4613,   3003.7,   1.6778,  34.6770,2,  34.6769,2,   -999.0,5,    126.0,2,   156.85,2,    38.61,2,     0.00,2,     2.61,2, -999.000,9, -999.000,9, -999.000,9,-999.0000,9,  -999.00,9,-999.000,9,   -999,-999.0000,-999.000,-999.000,  1.4568,-999.000
     32MW893_3,  P04E,   161,  1,      4,      4,2,19890424,0840,  9.5000,-127.8350, 4613,   3403.8,   1.5409,  34.6851,2,  34.6840,2,   -999.0,5,    139.9,2,   152.28,2,    37.83,2,     0.00,2,     2.55,2, -999.000,9, -999.000,9, -999.000,9,-999.0000,9,  -999.00,9,-999.000,9,   -999,-999.0000,-999.000,-999.000,  1.2835,-999.000
     32MW893_3,  P04E,   161,  1,      3,      3,2,19890424,0840,  9.5000,-127.8350, 4613,   3803.1,   1.4320,  34.6888,2,  34.6899,2,   -999.0,5,    153.8,2,   151.09,2,    36.75,2,     0.00,2,     2.49,2, -999.000,9, -999.000,9, -999.000,9,-999.0000,9,  -999.00,9,-999.000,9,   -999,-999.0000,-999.000,-999.000,  1.1360,-999.000
     32MW893_3,  P04E,   161,  1,      2,      2,2,19890424,0840,  9.5000,-127.8350, 4613,   4207.0,   1.4050,  34.6921,2,  34.6938,2,   -999.0,5,    162.5,2,   145.14,2,    36.16,2,     0.00,2,     2.43,2, -999.000,9, -999.000,9, -999.000,9,-999.0000,9,  -999.00,9,-999.000,9,   -999,-999.0000,-999.000,-999.000,  1.0659,-999.000
     32MW893_3,  P04E,   161,  1,      1,      1,2,19890424,0840,  9.5000,-127.8350, 4613,   4571.2,   1.4380,  34.6926,2,  34.6946,2,   -999.0,5,    163.8,2,   142.16,2,    36.16,2,     0.00,2,     2.43,2, -999.000,9, -999.000,9, -999.000,9,-999.0000,9,  -999.00,9,-999.000,9,   -999,-999.0000,-999.000,-999.000,  1.0566,-999.000