BOTTLE,20020418WHPSIOdm
EXPOCODE,SECT_ID,STNNBR,CASTNO,SAMPNO,BTLNBR,BTLNBR_FLAG_W,DATE,TIME,LATITUDE,LONGITUDE,DEPTH,CTDPRS,CTDTMP,CTDSAL,CTDSAL_FLAG_W,SALNTY,SALNTY_FLAG_W,CTDOXY,CTDOXY_FLAG_W,OXYGEN,OXYGEN_FLAG_W,SILCAT,SILCAT_FLAG_W,NITRAT,NITRAT_FLAG_W,NITRIT,NITRIT_FLAG_W,PHSPHT,PHSPHT_FLAG_W,CFC-11,CFC-11_FLAG_W,CFC-12,CFC-12_FLAG_W,TRITUM,TRITUM_FLAG_W,HELIUM,HELIUM_FLAG_W,DELHE3,DELHE3_FLAG_W,NEON,NEON_FLAG_W,CTDRAW,HELIER,DELHER,NEONER,THETA,TRITER
,,,,,,,,,,,,DBAR,ITS-90,PSS-78,,PSS-78,,UMOL/KG,,UMOL/KG,,UMOL/KG,,UMOL/KG,,UMOL/KG,,UMOL/KG,,PMOL/KG,,PMOL/KG,,TU,,NMOL/KG,,PERCNT,,NMOL/KG,,,NMOL/KG,PERCNT,NMOL/KG,ITS-90,TU
     32MW893_3,  P04E,   166,  1,     24,     24,2,19890426,0131,  9.4933,-123.6667, 4532,      6.9,  27.1760,  34.5453,2,  34.5031,2,   -999.0,5,    226.8,2,     1.69,2,     0.20,2,     0.01,2,     0.28,2,    1.661,2,    1.001,2, -999.000,9,-999.0000,9,  -999.00,9,-999.000,9,   -999,-999.0000,-999.000,-999.000, 27.1744,-999.000
     32MW893_3,  P04E,   166,  1,     23,     23,2,19890426,0131,  9.4933,-123.6667, 4532,     46.5,  16.5916,  34.8692,2,  34.5319,2,   -999.0,5,    100.4,2,    13.79,2,    18.67,2,     0.18,2,     1.53,2,    1.099,2,    0.567,2, -999.000,9,-999.0000,9,  -999.00,9,-999.000,9,   -999,-999.0000,-999.000,-999.000, 16.5841,-999.000
     32MW893_3,  P04E,   166,  1,     22,     22,2,19890426,0131,  9.4933,-123.6667, 4532,     97.5,  12.4518,  34.7606,2,  34.7610,2,   -999.0,5,     15.6,2,    26.49,2,    33.23,2,     0.16,2,     2.40,2,    0.240,2,    0.128,2, -999.000,9,-999.0000,9,  -999.00,9,-999.000,9,   -999,-999.0000,-999.000,-999.000, 12.4388,-999.000
     32MW893_3,  P04E,   166,  1,     21,     21,2,19890426,0131,  9.4933,-123.6667, 4532,    122.1,  11.9880,  34.7691,2,  34.7616,2,   -999.0,5,     16.5,2,    27.38,2,    33.72,2,     0.01,2,     2.41,2,    0.190,2,    0.110,2, -999.000,9,-999.0000,9,  -999.00,9,-999.000,9,   -999,-999.0000,-999.000,-999.000, 11.9722,-999.000
     32MW893_3,  P04E,   166,  1,     20,     20,2,19890426,0131,  9.4933,-123.6667, 4532,    147.4,  11.5371,  34.7529,2,  34.7545,2,   -999.0,5,     16.9,2,    29.07,2,    34.11,2,     0.01,2,     2.45,2,    0.132,2, -999.000,5, -999.000,9,-999.0000,9,  -999.00,9,-999.000,9,   -999,-999.0000,-999.000,-999.000, 11.5184,-999.000
     32MW893_3,  P04E,   166,  1,     19,     19,2,19890426,0131,  9.4933,-123.6667, 4532,    172.5,  11.2332,  34.7482,2,  34.7420,2,   -999.0,5,     16.9,2,    29.96,2,    34.21,2,     0.01,2,     2.44,2,    0.114,2, -999.000,5, -999.000,9,-999.0000,9,  -999.00,9,-999.000,9,   -999,-999.0000,-999.000,-999.000, 11.2117,-999.000
     32MW893_3,  P04E,   166,  1,     18,     18,2,19890426,0131,  9.4933,-123.6667, 4532,    197.6,  10.9464,  34.7356,2,  34.7333,2,   -999.0,5,     18.2,2,    31.05,2,    34.50,2,     0.01,2,     2.47,2,    0.093,2, -999.000,5, -999.000,9,-999.0000,9,  -999.00,9,-999.000,9,   -999,-999.0000,-999.000,-999.000, 10.9222,-999.000
     32MW893_3,  P04E,   166,  1,     17,     17,2,19890426,0131,  9.4933,-123.6667, 4532,    247.0,  10.5245,  34.7160,2,  34.7201,2,   -999.0,5,     14.3,2,    32.64,2,    35.28,2,     0.00,2,     2.53,2,    0.065,2,    0.047,2, -999.000,9,-999.0000,9,  -999.00,9,-999.000,9,   -999,-999.0000,-999.000,-999.000, 10.4949,-999.000
     32MW893_3,  P04E,   166,  1,     16,     16,2,19890426,0131,  9.4933,-123.6667, 4532,    297.6,  10.1307,  34.7070,2,  34.7017,2,   -999.0,5,      8.3,2,    35.12,2,    36.16,2,     0.00,2,     2.64,2,    0.029,2, -999.000,5, -999.000,9,-999.0000,9,  -999.00,9,-999.000,9,   -999,-999.0000,-999.000,-999.000, 10.0958,-999.000
     32MW893_3,  P04E,   166,  1,     15,     15,2,19890426,0131,  9.4933,-123.6667, 4532,    397.6,   9.2700,  34.6595,2,  34.6632,2,   -999.0,5,      4.3,2,    41.67,2,    36.95,2,     0.00,2,     2.81,2,    0.007,2,    0.005,2, -999.000,9,-999.0000,9,  -999.00,9,-999.000,9,   -999,-999.0000,-999.000,-999.000,  9.2257,-999.000
     32MW893_3,  P04E,   166,  1,     14,     14,2,19890426,0131,  9.4933,-123.6667, 4532,    497.8,   8.3433,  34.6390,2,  34.6233,2,   -999.0,5,      6.1,2,    49.70,2,    37.93,2,     0.00,2,     3.00,2,    0.001,2,    0.015,2, -999.000,9,-999.0000,9,  -999.00,9,-999.000,9,   -999,-999.0000,-999.000,-999.000,  8.2909,-999.000
     32MW893_3,  P04E,   166,  1,     13,     13,2,19890426,0131,  9.4933,-123.6667, 4532,    595.7,   7.2946,  34.5830,2,-999.0000,5,   -999.0,5,      3.9,2,    60.92,2,    39.78,2,     0.00,2,     3.17,2,    0.005,2, -999.000,5, -999.000,9,-999.0000,9,  -999.00,9,-999.000,9,   -999,-999.0000,-999.000,-999.000,  7.2363,-999.000
     32MW893_3,  P04E,   166,  1,     12,     12,2,19890426,0131,  9.4933,-123.6667, 4532,    695.6,   6.1850,  34.5389,2,  34.5392,2,   -999.0,5,     10.4,2,    72.83,2,    43.01,2,     0.00,2,     3.23,2,    0.002,2, -999.000,5, -999.000,9,-999.0000,9,  -999.00,9,-999.000,9,   -999,-999.0000,-999.000,-999.000,  6.1222,-999.000
     32MW893_3,  P04E,   166,  1,     11,     11,2,19890426,0131,  9.4933,-123.6667, 4532,    797.4,   5.6532,  34.5471,2,  34.5443,2,   -999.0,5,     16.9,2,    79.18,2,    44.18,2,     0.00,2,     3.25,2, -999.000,9, -999.000,9, -999.000,9,-999.0000,9,  -999.00,9,-999.000,9,   -999,-999.0000,-999.000,-999.000,  5.5840,-999.000
     32MW893_3,  P04E,   166,  1,     10,     10,2,19890426,0131,  9.4933,-123.6667, 4532,    997.4,   4.6447,  34.5593,2,  34.5565,2,   -999.0,5,     42.2,2,    94.46,2,    43.60,2,     0.00,2,     3.17,2,    0.007,2, -999.000,5, -999.000,9,-999.0000,9,  -999.00,9,-999.000,9,   -999,-999.0000,-999.000,-999.000,  4.5642,-999.000
     32MW893_3,  P04E,   166,  1,      9,      9,2,19890426,0131,  9.4933,-123.6667, 4532,   1247.6,   3.7560,  34.5730,2,  34.5802,2,   -999.0,5,     59.5,2,   112.41,2,    42.72,2,     0.00,2,     3.09,2, -999.000,9, -999.000,9, -999.000,9,-999.0000,9,  -999.00,9,-999.000,9,   -999,-999.0000,-999.000,-999.000,  3.6614,-999.000
     32MW893_3,  P04E,   166,  1,      8,      8,2,19890426,0131,  9.4933,-123.6667, 4532,   1496.2,   3.1362,  34.6015,2,  34.6005,2,   -999.0,5,     73.4,2,   126.10,2,    41.74,2,     0.00,2,     3.00,2,    0.000,2, -999.000,5, -999.000,9,-999.0000,9,  -999.00,9,-999.000,9,   -999,-999.0000,-999.000,-999.000,  3.0271,-999.000
     32MW893_3,  P04E,   166,  1,      7,      7,2,19890426,0131,  9.4933,-123.6667, 4532,   1998.7,   2.2486,  34.6424,2,  34.6415,2,   -999.0,5,     92.6,2,   147.93,2,    40.66,2,     0.00,2,     2.89,2, -999.000,9, -999.000,9, -999.000,9,-999.0000,9,  -999.00,9,-999.000,9,   -999,-999.0000,-999.000,-999.000,  2.1084,-999.000
     32MW893_3,  P04E,   166,  1,      6,      6,2,19890426,0131,  9.4933,-123.6667, 4532,   2499.9,   1.8817,  34.6655,2,  34.6641,2,   -999.0,5,    109.9,2,   156.46,2,    39.49,2,     0.00,2,     2.78,2,   -0.002,2,   -0.005,2, -999.000,9,-999.0000,9,  -999.00,9,-999.000,9,   -999,-999.0000,-999.000,-999.000,  1.7036,-999.000
     32MW893_3,  P04E,   166,  1,      5,      5,2,19890426,0131,  9.4933,-123.6667, 4532,   3000.1,   1.7398,  34.6742,2,  34.6747,2,   -999.0,5,    121.7,2,   157.35,2,    38.61,2,     0.00,2,     2.70,2, -999.000,9, -999.000,9, -999.000,9,-999.0000,9,  -999.00,9,-999.000,9,   -999,-999.0000,-999.000,-999.000,  1.5177,-999.000
     32MW893_3,  P04E,   166,  1,      4,      4,2,19890426,0131,  9.4933,-123.6667, 4532,   3402.3,   1.5878,  34.6826,2,  34.6808,2,   -999.0,5,    136.4,2,   156.65,2,    37.92,2,     0.00,2,     2.61,2,    0.000,2, -999.000,5, -999.000,9,-999.0000,9,  -999.00,9,-999.000,9,   -999,-999.0000,-999.000,-999.000,  1.3295,-999.000
     32MW893_3,  P04E,   166,  1,      3,      3,2,19890426,0131,  9.4933,-123.6667, 4532,   3805.1,   1.4849,  34.6882,2,  34.6869,2,   -999.0,5,    149.5,2,   152.49,2,    36.95,2,     0.00,2,     2.55,2, -999.000,9, -999.000,9, -999.000,9,-999.0000,9,  -999.00,9,-999.000,9,   -999,-999.0000,-999.000,-999.000,  1.1874,-999.000
     32MW893_3,  P04E,   166,  1,      2,      2,2,19890426,0131,  9.4933,-123.6667, 4532,   4205.7,   1.4360,  34.6906,2,  34.6932,2,   -999.0,5,    158.6,2,   148.91,2,    36.46,2,     0.00,2,     2.50,2,    0.000,2,   -0.002,2, -999.000,9,-999.0000,9,  -999.00,9,-999.000,9,   -999,-999.0000,-999.000,-999.000,  1.0962,-999.000
     32MW893_3,  P04E,   166,  1,      1,      1,2,19890426,0131,  9.4933,-123.6667, 4532,   4628.9,   1.4729,  34.6912,2,  34.6920,2,   -999.0,5,    159.5,2,   148.52,2,    36.36,2,     0.00,2,     2.48,2,    0.001,2, -999.000,5, -999.000,9,-999.0000,9,  -999.00,9,-999.000,9,   -999,-999.0000,-999.000,-999.000,  1.0838,-999.000
     32MW893_3,  P04E,   167,  1,     24,     24,2,19890426,0900,  9.4933,-122.8350, 4439,      5.6,  27.0770,  34.5356,2,  34.5268,2,   -999.0,5,    209.0,2,     1.29,2,     0.10,2,     0.00,2,     0.21,2,    1.638,2,    0.924,2, -999.000,9,-999.0000,9,  -999.00,9,-999.000,9,   -999,-999.0000,-999.000,-999.000, 27.0757,-999.000
     32MW893_3,  P04E,   167,  1,     23,     23,2,19890426,0900,  9.4933,-122.8350, 4439,     47.0,  16.6906,  34.6401,2,  34.6411,2,   -999.0,5,    109.5,2,    11.61,2,    16.03,2,     0.34,2,     1.32,2,    1.123,2,    0.614,2, -999.000,9,-999.0000,9,  -999.00,9,-999.000,9,   -999,-999.0000,-999.000,-999.000, 16.6830,-999.000
     32MW893_3,  P04E,   167,  1,     22,     22,2,19890426,0900,  9.4933,-122.8350, 4439,     96.4,  12.4688,  34.7331,2,  34.7559,2,   -999.0,5,     31.7,2,    24.40,2,    31.18,2,     0.01,2,     2.23,2,    0.338,2,    0.191,2, -999.000,9,-999.0000,9,  -999.00,9,-999.000,9,   -999,-999.0000,-999.000,-999.000, 12.4560,-999.000
     32MW893_3,  P04E,   167,  1,     21,     21,2,19890426,0900,  9.4933,-122.8350, 4439,    122.3,  11.9080,  34.7523,2,  34.7612,2,   -999.0,5,     16.1,2,    27.08,2,    33.43,2,     0.02,2,     2.39,2,    0.191,2, -999.000,5, -999.000,9,-999.0000,9,  -999.00,9,-999.000,9,   -999,-999.0000,-999.000,-999.000, 11.8922,-999.000
     32MW893_3,  P04E,   167,  1,     20,     20,2,19890426,0900,  9.4933,-122.8350, 4439,    147.1,  11.6131,  34.7578,2,  34.7498,2,   -999.0,5,     21.7,2,    27.78,2,    33.23,2,    -0.01,2,     2.35,2,    0.169,2,    0.117,2, -999.000,9,-999.0000,9,  -999.00,9,-999.000,9,   -999,-999.0000,-999.000,-999.000, 11.5944,-999.000
     32MW893_3,  P04E,   167,  1,     19,     19,2,19890426,0900,  9.4933,-122.8350, 4439,    172.9,  11.2642,  34.7776,2,  34.7422,2,   -999.0,5,     19.1,2,    28.87,2,    33.82,2,    -0.01,2,     2.38,2,    0.123,2, -999.000,5, -999.000,9,-999.0000,9,  -999.00,9,-999.000,9,   -999,-999.0000,-999.000,-999.000, 11.2426,-999.000
     32MW893_3,  P04E,   167,  1,     18,     18,2,19890426,0900,  9.4933,-122.8350, 4439,    197.9,  10.9594,  34.7444,2,  34.7321,2,   -999.0,5,     23.9,2,    29.47,2,    33.72,2,    -0.01,2,     2.38,2,    0.115,2, -999.000,5, -999.000,9,-999.0000,9,  -999.00,9,-999.000,9,   -999,-999.0000,-999.000,-999.000, 10.9351,-999.000
     32MW893_3,  P04E,   167,  1,     17,     17,2,19890426,0900,  9.4933,-122.8350, 4439,    247.6,  10.4105,  34.7338,2,  34.7109,2,   -999.0,5,     16.1,2,    31.94,2,    35.19,2,    -0.01,2,     2.47,2,    0.066,2, -999.000,5, -999.000,9,-999.0000,9,  -999.00,9,-999.000,9,   -999,-999.0000,-999.000,-999.000, 10.3811,-999.000
     32MW893_3,  P04E,   167,  1,     16,     16,2,19890426,0900,  9.4933,-122.8350, 4439,    296.8,  10.0087,  34.6992,2,  34.6981,2,   -999.0,5,      6.1,2,    34.52,2,    36.16,2,     0.00,2,     2.60,2,    0.025,2, -999.000,5, -999.000,9,-999.0000,9,  -999.00,9,-999.000,9,   -999,-999.0000,-999.000,-999.000,  9.9742,-999.000
     32MW893_3,  P04E,   167,  1,     15,     15,2,19890426,0900,  9.4933,-122.8350, 4439,    399.1,   9.0890,  34.6558,2,  34.6582,2,   -999.0,5,      4.8,2,    41.96,2,    37.04,2,     0.00,2,     2.80,2,    0.007,2, -999.000,5, -999.000,9,-999.0000,9,  -999.00,9,-999.000,9,   -999,-999.0000,-999.000,-999.000,  9.0451,-999.000
     32MW893_3,  P04E,   167,  1,     14,     14,2,19890426,0900,  9.4933,-122.8350, 4439,    496.5,   8.1433,  34.6249,2,  34.6131,2,   -999.0,5,      4.3,2,    49.90,2,    38.81,2,     0.00,2,     2.97,2,    0.002,2, -999.000,5, -999.000,9,-999.0000,9,  -999.00,9,-999.000,9,   -999,-999.0000,-999.000,-999.000,  8.0919,-999.000
     32MW893_3,  P04E,   167,  1,     13,     13,2,19890426,0900,  9.4933,-122.8350, 4439,    597.4,   7.0307,  34.5523,2,  34.5541,2,   -999.0,5,      5.6,2,    61.81,2,    41.15,2,     0.00,2,     3.09,2,    0.000,2, -999.000,5, -999.000,9,-999.0000,9,  -999.00,9,-999.000,9,   -999,-999.0000,-999.000,-999.000,  6.9734,-999.000
     32MW893_3,  P04E,   167,  1,     12,     12,2,19890426,0900,  9.4933,-122.8350, 4439,    697.3,   6.2210,  34.5478,2,  34.5461,2,   -999.0,5,      9.6,2,    70.74,2,    43.60,2,     0.00,2,     3.15,2, -999.000,9, -999.000,9, -999.000,9,-999.0000,9,  -999.00,9,-999.000,9,   -999,-999.0000,-999.000,-999.000,  6.1579,-999.000
     32MW893_3,  P04E,   167,  1,     11,     11,2,19890426,0900,  9.4933,-122.8350, 4439,    798.3,   5.6003,  34.5489,2,  34.5482,2,   -999.0,5,     16.9,2,    77.99,2,    44.67,2,     0.00,2,     3.20,2,    0.001,2,   -0.005,2, -999.000,9,-999.0000,9,  -999.00,9,-999.000,9,   -999,-999.0000,-999.000,-999.000,  5.5312,-999.000
     32MW893_3,  P04E,   167,  1,     10,     10,2,19890426,0900,  9.4933,-122.8350, 4439,    997.1,   4.6566,  34.5554,2,  34.5557,2,   -999.0,5,     41.3,2,    92.57,2,    43.99,2,     0.00,2,     3.11,2, -999.000,9, -999.000,9, -999.000,9,-999.0000,9,  -999.00,9,-999.000,9,   -999,-999.0000,-999.000,-999.000,  4.5761,-999.000
     32MW893_3,  P04E,   167,  1,      9,      9,2,19890426,0900,  9.4933,-122.8350, 4439,   1248.7,   3.7620,  34.5900,2,  34.5791,2,   -999.0,5,     50.8,2,   112.70,2,    43.79,2,     0.00,2,     3.10,2,    0.002,2,    0.001,2, -999.000,9,-999.0000,9,  -999.00,9,-999.000,9,   -999,-999.0000,-999.000,-999.000,  3.6673,-999.000
     32MW893_3,  P04E,   167,  1,      8,      8,2,19890426,0900,  9.4933,-122.8350, 4439,   1597.9,   2.9073,  34.6104,2,  34.6091,2,   -999.0,5,     71.3,2,   131.85,2,    42.32,2,     0.00,2,     2.96,2, -999.000,9, -999.000,9, -999.000,9,-999.0000,9,  -999.00,9,-999.000,9,   -999,-999.0000,-999.000,-999.000,  2.7922,-999.000
     32MW893_3,  P04E,   167,  1,      7,      7,2,19890426,0900,  9.4933,-122.8350, 4439,   1999.4,   2.2066,  34.6431,2,  34.6429,2,   -999.0,5,     93.9,2,   148.12,2,    40.76,2,     0.00,2,     2.82,2,   -0.002,2,    0.005,2, -999.000,9,-999.0000,9,  -999.00,9,-999.000,9,   -999,-999.0000,-999.000,-999.000,  2.0670,-999.000
     32MW893_3,  P04E,   167,  1,      6,      6,2,19890426,0900,  9.4933,-122.8350, 4439,   2398.8,   1.9147,  34.6617,2,  34.6635,2,   -999.0,5,    107.3,2,   155.46,2,    39.68,2,     0.00,2,     2.74,2, -999.000,9, -999.000,9, -999.000,9,-999.0000,9,  -999.00,9,-999.000,9,   -999,-999.0000,-999.000,-999.000,  1.7451,-999.000
     32MW893_3,  P04E,   167,  1,      5,      5,2,19890426,0900,  9.4933,-122.8350, 4439,   2801.2,   1.8098,  34.6708,2,  34.6698,2,   -999.0,5,    116.0,2,   157.25,2,    39.19,2,     0.00,2,     2.69,2,    0.011,2,   -0.005,2, -999.000,9,-999.0000,9,  -999.00,9,-999.000,9,   -999,-999.0000,-999.000,-999.000,  1.6052,-999.000
     32MW893_3,  P04E,   167,  1,      4,      4,2,19890426,0900,  9.4933,-122.8350, 4439,   3204.6,   1.6498,  34.6797,2,  34.6791,2,   -999.0,5,    129.5,2,   157.35,2,    38.31,2,     0.01,2,     2.62,2, -999.000,9, -999.000,9, -999.000,9,-999.0000,9,  -999.00,9,-999.000,9,   -999,-999.0000,-999.000,-999.000,  1.4098,-999.000
     32MW893_3,  P04E,   167,  1,      3,      3,2,19890426,0900,  9.4933,-122.8350, 4439,   3600.3,   1.5329,  34.6847,2,  34.6850,2,   -999.0,5,    142.9,2,   153.77,2,    37.44,2,     0.01,2,     2.54,2,   -0.001,2, -999.000,5, -999.000,9,-999.0000,9,  -999.00,9,-999.000,9,   -999,-999.0000,-999.000,-999.000,  1.2556,-999.000
     32MW893_3,  P04E,   167,  1,      2,      2,2,19890426,0900,  9.4933,-122.8350, 4439,   4003.6,   1.4470,  34.6894,2,  34.6913,2,   -999.0,5,    155.5,2,   149.41,2,    36.46,2,     0.01,2,     2.44,2, -999.000,9, -999.000,9, -999.000,9,-999.0000,9,  -999.00,9,-999.000,9,   -999,-999.0000,-999.000,-999.000,  1.1291,-999.000
     32MW893_3,  P04E,   167,  1,      1,      1,2,19890426,0900,  9.4933,-122.8350, 4439,   4505.6,   1.4589,  34.6913,2,  34.6914,2,   -999.0,5,    159.5,2,   148.02,2,    36.13,2,     0.01,2,     2.43,2,    0.000,2, -999.000,5, -999.000,9,-999.0000,9,  -999.00,9,-999.000,9,   -999,-999.0000,-999.000,-999.000,  1.0845,-999.000