BOTTLE,20020418WHPSIOdm
EXPOCODE,SECT_ID,STNNBR,CASTNO,SAMPNO,BTLNBR,BTLNBR_FLAG_W,DATE,TIME,LATITUDE,LONGITUDE,DEPTH,CTDPRS,CTDTMP,CTDSAL,CTDSAL_FLAG_W,SALNTY,SALNTY_FLAG_W,CTDOXY,CTDOXY_FLAG_W,OXYGEN,OXYGEN_FLAG_W,SILCAT,SILCAT_FLAG_W,NITRAT,NITRAT_FLAG_W,NITRIT,NITRIT_FLAG_W,PHSPHT,PHSPHT_FLAG_W,CFC-11,CFC-11_FLAG_W,CFC-12,CFC-12_FLAG_W,TRITUM,TRITUM_FLAG_W,HELIUM,HELIUM_FLAG_W,DELHE3,DELHE3_FLAG_W,NEON,NEON_FLAG_W,CTDRAW,HELIER,DELHER,NEONER,THETA,TRITER
,,,,,,,,,,,,DBAR,ITS-90,PSS-78,,PSS-78,,UMOL/KG,,UMOL/KG,,UMOL/KG,,UMOL/KG,,UMOL/KG,,UMOL/KG,,PMOL/KG,,PMOL/KG,,TU,,NMOL/KG,,PERCNT,,NMOL/KG,,,NMOL/KG,PERCNT,NMOL/KG,ITS-90,TU
     32MW893_3,  P04E,   148,  1,     24,     24,2,19890419,1642,  9.4967,-138.6667, 4926,      6.3,  26.4422,  34.8304,2,  34.8300,2,   -999.0,5,    213.7,2,     1.79,2,     0.88,2,     0.03,2,     0.34,2,    1.696,2,    0.947,2, -999.000,9,-999.0000,9,  -999.00,9,-999.000,9,   -999,-999.0000,-999.000,-999.000, 26.4408,-999.000
     32MW893_3,  P04E,   148,  1,     23,     23,2,19890419,1642,  9.4967,-138.6667, 4926,     47.1,  26.4192,  34.8302,2,  34.8298,2,   -999.0,5,    214.2,2,     1.79,2,     0.88,2,     0.03,2,     0.34,2,    1.692,2,    0.942,2, -999.000,9,-999.0000,9,  -999.00,9,-999.000,9,   -999,-999.0000,-999.000,-999.000, 26.4086,-999.000
     32MW893_3,  P04E,   148,  1,     22,     22,2,19890419,1642,  9.4967,-138.6667, 4926,     96.4,  19.8377,  34.4367,2,  34.4552,2,   -999.0,5,    183.8,2,     3.57,2,     4.20,2,     0.61,2,     0.64,2,    1.993,2,    1.032,2, -999.000,9,-999.0000,9,  -999.00,9,-999.000,9,   -999,-999.0000,-999.000,-999.000, 19.8201,-999.000
     32MW893_3,  P04E,   148,  1,     21,     21,2,19890419,1642,  9.4967,-138.6667, 4926,    121.3,  15.5409,  34.3831,2,  34.4169,2,   -999.0,5,    160.8,2,     7.15,2,     9.97,2,     0.10,2,     0.92,2,    1.955,2,    1.029,2, -999.000,9,-999.0000,9,  -999.00,9,-999.000,9,   -999,-999.0000,-999.000,-999.000, 15.5222,-999.000
     32MW893_3,  P04E,   148,  1,     20,     20,2,19890419,1642,  9.4967,-138.6667, 4926,    139.3,  13.0457,  34.2777,2,  34.2684,2,   -999.0,5,    109.1,2,    16.38,2,    19.95,2,     0.02,2,     1.64,2,    1.394,2,    0.733,2, -999.000,9,-999.0000,9,  -999.00,9,-999.000,9,   -999,-999.0000,-999.000,-999.000, 13.0267,-999.000
     32MW893_3,  P04E,   148,  1,     19,     19,2,19890419,1642,  9.4967,-138.6667, 4926,    196.4,  11.4821,  34.6874,2,  34.6869,2,   -999.0,5,      8.7,2,    30.16,2,    32.25,2,     0.00,2,     2.61,2,    0.118,2,    0.082,2, -999.000,9,-999.0000,9,  -999.00,9,-999.000,9,   -999,-999.0000,-999.000,-999.000, 11.4573,-999.000
     32MW893_3,  P04E,   148,  1,     18,     18,2,19890419,1642,  9.4967,-138.6667, 4926,    246.1,  10.5875,  34.6837,2,  34.6834,2,   -999.0,5,      8.3,2,    33.44,2,    33.72,2,     0.00,2,     2.68,2,    0.034,2, -999.000,5, -999.000,9,-999.0000,9,  -999.00,9,-999.000,9,   -999,-999.0000,-999.000,-999.000, 10.5579,-999.000
     32MW893_3,  P04E,   148,  1,     17,     17,2,19890419,1642,  9.4967,-138.6667, 4926,    296.6,   9.8647,  34.6432,2,  34.6453,2,   -999.0,5,      4.3,2,    37.80,2,    33.62,2,     0.00,2,     2.77,2,    0.010,2, -999.000,5, -999.000,9,-999.0000,9,  -999.00,9,-999.000,9,   -999,-999.0000,-999.000,-999.000,  9.8305,-999.000
     32MW893_3,  P04E,   148,  1,     16,     16,2,19890419,1642,  9.4967,-138.6667, 4926,    397.8,   8.4043,  34.5670,2,  34.5645,2,   -999.0,5,      7.0,2,    48.51,2,    36.85,2,     0.00,2,     2.97,2,    0.006,2,    0.013,2, -999.000,9,-999.0000,9,  -999.00,9,-999.000,9,   -999,-999.0000,-999.000,-999.000,  8.3626,-999.000
     32MW893_3,  P04E,   148,  1,     15,     15,2,19890419,1642,  9.4967,-138.6667, 4926,    497.1,   7.3606,  34.5344,2,  34.5323,2,   -999.0,5,     21.3,2,    56.95,2,    39.10,2,     0.00,2,     2.98,2,    0.002,2, -999.000,5, -999.000,9,-999.0000,9,  -999.00,9,-999.000,9,   -999,-999.0000,-999.000,-999.000,  7.3120,-999.000
     32MW893_3,  P04E,   148,  1,     14,     14,2,19890419,1642,  9.4967,-138.6667, 4926,    595.9,   6.3550,  34.5090,2,  34.5035,2,   -999.0,5,     19.1,2,    68.96,2,    41.25,2,     0.00,2,     3.09,2,    0.002,6,    0.012,6, -999.000,9,-999.0000,9,  -999.00,9,-999.000,9,   -999,-999.0000,-999.000,-999.000,  6.3009,-999.000
     32MW893_3,  P04E,   148,  1,     13,     13,2,19890419,1642,  9.4967,-138.6667, 4926,    696.2,   5.5443,  34.5139,2,  34.5105,2,   -999.0,5,     22.2,2,    81.36,2,    43.21,2,     0.00,2,     3.20,2,    0.006,2, -999.000,5, -999.000,9,-999.0000,9,  -999.00,9,-999.000,9,   -999,-999.0000,-999.000,-999.000,  5.4849,-999.000
     32MW893_3,  P04E,   148,  1,     12,     12,2,19890419,1642,  9.4967,-138.6667, 4926,    798.4,   5.0415,  34.5425,2,  34.5390,2,   -999.0,5,     25.6,2,    88.10,2,    44.38,2,     0.00,2,     3.25,2, -999.000,9, -999.000,9, -999.000,9,-999.0000,9,  -999.00,9,-999.000,9,   -999,-999.0000,-999.000,-999.000,  4.9758,-999.000
     32MW893_3,  P04E,   148,  1,     11,     11,2,19890419,1642,  9.4967,-138.6667, 4926,    995.6,   4.2298,  34.5630,2,  34.5608,2,   -999.0,5,     47.8,2,   101.90,2,    43.40,2,     0.00,2,     3.16,2, -999.000,9, -999.000,9, -999.000,9,-999.0000,9,  -999.00,9,-999.000,9,   -999,-999.0000,-999.000,-999.000,  4.1526,-999.000
     32MW893_3,  P04E,   148,  1,     10,     10,2,19890419,1642,  9.4967,-138.6667, 4926,   1396.7,   3.0803,  34.5998,2,  34.5983,2,   -999.0,5,     70.4,2,   127.19,2,    42.23,2,     0.00,2,     3.05,2,    0.012,2, -999.000,5, -999.000,9,-999.0000,9,  -999.00,9,-999.000,9,   -999,-999.0000,-999.000,-999.000,  2.9801,-999.000
     32MW893_3,  P04E,   148,  1,      9,      9,2,19890419,1642,  9.4967,-138.6667, 4926,   1798.3,   2.3145,  34.6331,2,  34.6319,2,   -999.0,5,     94.3,2,   143.96,2,    40.66,2,     0.00,2,     2.91,2,    0.009,2,    0.011,2, -999.000,9,-999.0000,9,  -999.00,9,-999.000,9,   -999,-999.0000,-999.000,-999.000,  2.1904,-999.000
     32MW893_3,  P04E,   148,  1,      8,      8,2,19890419,1642,  9.4967,-138.6667, 4926,   2198.8,   1.9617,  34.6561,2,  34.6557,2,   -999.0,5,    109.9,2,   151.79,2,    39.59,2,     0.00,2,     2.81,2, -999.000,9, -999.000,9, -999.000,9,-999.0000,9,  -999.00,9,-999.000,9,   -999,-999.0000,-999.000,-999.000,  1.8089,-999.000
     32MW893_3,  P04E,   148,  1,      7,      7,2,19890419,1642,  9.4967,-138.6667, 4926,   2604.7,   1.8108,  34.6682,2,  34.6667,2,   -999.0,5,    116.9,2,   155.17,2,    39.00,2,     0.00,2,     2.76,2, -999.000,9, -999.000,9, -999.000,9,-999.0000,9,  -999.00,9,-999.000,9,   -999,-999.0000,-999.000,-999.000,  1.6244,-999.000
     32MW893_3,  P04E,   148,  1,      6,      6,2,19890419,1642,  9.4967,-138.6667, 4926,   3001.9,   1.6628,  34.6767,2,  34.6751,2,   -999.0,5,    126.9,2,   157.84,2,    38.51,2,     0.00,2,     2.70,2,    0.005,2,    0.004,2, -999.000,9,-999.0000,9,  -999.00,9,-999.000,9,   -999,-999.0000,-999.000,-999.000,  1.4423,-999.000
     32MW893_3,  P04E,   148,  1,      5,      5,2,19890419,1642,  9.4967,-138.6667, 4926,   3402.0,   1.5329,  34.6810,2,  34.6820,2,   -999.0,5,    139.5,2,   157.84,2,    37.83,2,     0.00,2,     2.64,2,    0.007,2,    0.004,2, -999.000,9,-999.0000,9,  -999.00,9,-999.000,9,   -999,-999.0000,-999.000,-999.000,  1.2759,-999.000
     32MW893_3,  P04E,   148,  1,      4,      4,2,19890419,1642,  9.4967,-138.6667, 4926,   3804.2,   1.3890,  34.6910,2,  34.6909,2,   -999.0,5,    159.5,2,   145.94,2,    36.36,2,     0.00,2,     2.52,2, -999.000,9, -999.000,9, -999.000,9,-999.0000,9,  -999.00,9,-999.000,9,   -999,-999.0000,-999.000,-999.000,  1.0940,-999.000
     32MW893_3,  P04E,   148,  1,      3,      3,2,19890419,1642,  9.4967,-138.6667, 4926,   4205.8,   1.3780,  34.6931,2,  34.6922,2,   -999.0,5,    167.3,2,   142.57,2,    35.68,2,     0.00,2,     2.48,2, -999.000,9, -999.000,9, -999.000,9,-999.0000,9,  -999.00,9,-999.000,9,   -999,-999.0000,-999.000,-999.000,  1.0400,-999.000
     32MW893_3,  P04E,   148,  1,      2,      2,2,19890419,1642,  9.4967,-138.6667, 4926,   4605.5,   1.4040,  34.6940,2,  34.6950,2,   -999.0,5,    170.3,2,   140.87,2,    35.58,2,     0.00,2,     2.46,2,    0.002,2,    0.003,2, -999.000,9,-999.0000,9,  -999.00,9,-999.000,9,   -999,-999.0000,-999.000,-999.000,  1.0198,-999.000
     32MW893_3,  P04E,   148,  1,      1,      1,2,19890419,1642,  9.4967,-138.6667, 4926,   4993.3,   1.4380,  34.6938,2,  34.6971,2,   -999.0,5,    170.3,2,   139.58,2,    35.38,2,     0.00,2,     2.44,2, -999.000,9, -999.000,9, -999.000,9,-999.0000,9,  -999.00,9,-999.000,9,   -999,-999.0000,-999.000,-999.000,  1.0066,-999.000
     32MW893_3,  P04E,   149,  1,     24,     24,2,19890420,0105,  9.4933,-137.8333, 4808,      7.1,  26.5011,  34.8254,2,  34.8241,2,   -999.0,5,    219.0,2,     1.79,2,     0.98,2,     0.03,2,     0.31,2,    1.727,2,    0.948,2, -999.000,9,-999.0000,9,  -999.00,9,-999.000,9,   -999,-999.0000,-999.000,-999.000, 26.4995,-999.000
     32MW893_3,  P04E,   149,  1,     23,     23,2,19890420,0105,  9.4933,-137.8333, 4808,     47.3,  26.4931,  34.8242,2,  34.8220,2,   -999.0,5,    218.5,2,     1.79,2,     0.98,2,     0.04,2,     0.31,2,    1.753,2,    0.943,2, -999.000,9,-999.0000,9,  -999.00,9,-999.000,9,   -999,-999.0000,-999.000,-999.000, 26.4824,-999.000
     32MW893_3,  P04E,   149,  1,     22,     22,2,19890420,0105,  9.4933,-137.8333, 4808,     73.0,  26.4102,  34.8121,2,  34.8062,2,   -999.0,5,    216.4,2,     1.79,2,     0.88,2,     0.03,2,     0.32,2,    1.774,2,    0.955,2, -999.000,9,-999.0000,9,  -999.00,9,-999.000,9,   -999,-999.0000,-999.000,-999.000, 26.3937,-999.000
     32MW893_3,  P04E,   149,  1,     21,     21,2,19890420,0105,  9.4933,-137.8333, 4808,     98.6,  20.4265,  34.6231,2,  34.6186,2,   -999.0,5,    211.2,2,     1.98,2,     0.59,2,     0.11,2,     0.34,2,    2.196,2,    1.175,2, -999.000,9,-999.0000,9,  -999.00,9,-999.000,9,   -999,-999.0000,-999.000,-999.000, 20.4081,-999.000
     32MW893_3,  P04E,   149,  1,     20,     20,2,19890420,0105,  9.4933,-137.8333, 4808,    121.6,  15.8578,  34.5021,2,  34.4577,2,   -999.0,5,    150.8,2,     7.44,2,    10.46,2,     0.25,2,     0.95,2,    1.921,2,    1.019,2, -999.000,9,-999.0000,9,  -999.00,9,-999.000,9,   -999,-999.0000,-999.000,-999.000, 15.8388,-999.000
     32MW893_3,  P04E,   149,  1,     19,     19,2,19890420,0105,  9.4933,-137.8333, 4808,    147.0,  12.1950,  34.3950,2,  34.3239,2,   -999.0,5,     96.9,2,    19.25,2,    22.19,2,     0.03,2,     1.76,2,    1.194,2,    0.620,2, -999.000,9,-999.0000,9,  -999.00,9,-999.000,9,   -999,-999.0000,-999.000,-999.000, 12.1758,-999.000
     32MW893_3,  P04E,   149,  1,     18,     18,2,19890420,0105,  9.4933,-137.8333, 4808,    171.2,  12.0710,  34.6562,2,  34.6665,2,   -999.0,5,     10.4,2,    27.88,2,    31.18,2,     0.01,2,     2.50,2,    0.263,2,    0.157,2, -999.000,9,-999.0000,9,  -999.00,9,-999.000,9,   -999,-999.0000,-999.000,-999.000, 12.0487,-999.000
     32MW893_3,  P04E,   149,  1,     17,     17,2,19890420,0105,  9.4933,-137.8333, 4808,    196.9,  11.3272,  34.7056,2,  34.7113,2,   -999.0,5,      5.6,2,    30.46,2,    32.45,2,     0.00,2,     2.54,2,    0.124,2, -999.000,5, -999.000,9,-999.0000,9,  -999.00,9,-999.000,9,   -999,-999.0000,-999.000,-999.000, 11.3025,-999.000
     32MW893_3,  P04E,   149,  1,     16,     16,2,19890420,0105,  9.4933,-137.8333, 4808,    247.4,  10.5215,  34.6636,2,  34.6720,2,   -999.0,5,      7.8,2,    34.23,2,    32.84,2,     0.00,2,     2.62,2, -999.000,9, -999.000,9, -999.000,9,-999.0000,9,  -999.00,9,-999.000,9,   -999,-999.0000,-999.000,-999.000, 10.4919,-999.000
     32MW893_3,  P04E,   149,  1,     15,     15,2,19890420,0105,  9.4933,-137.8333, 4808,    297.2,   9.8937,  34.6440,2,  34.6445,2,   -999.0,5,     16.9,2,    37.90,2,    33.62,2,     0.00,2,     2.69,2,    0.039,2, -999.000,5, -999.000,9,-999.0000,9,  -999.00,9,-999.000,9,   -999,-999.0000,-999.000,-999.000,  9.8594,-999.000
     32MW893_3,  P04E,   149,  1,     14,     14,2,19890420,0105,  9.4933,-137.8333, 4808,    396.4,   8.2913,  34.5758,2,  34.5690,2,   -999.0,5,     11.7,2,    48.12,2,    37.05,2,     0.00,2,     2.83,2,    0.023,2, -999.000,5, -999.000,9,-999.0000,9,  -999.00,9,-999.000,9,   -999,-999.0000,-999.000,-999.000,  8.2500,-999.000
     32MW893_3,  P04E,   149,  1,     13,     13,2,19890420,0105,  9.4933,-137.8333, 4808,    496.5,   6.9817,  34.5144,2,  34.5170,2,   -999.0,5,     11.3,2,    62.71,2,    39.39,2,     0.00,2,     3.04,2,    0.013,2,    0.014,2, -999.000,9,-999.0000,9,  -999.00,9,-999.000,9,   -999,-999.0000,-999.000,-999.000,  6.9346,-999.000
     32MW893_3,  P04E,   149,  1,     12,     12,2,19890420,0105,  9.4933,-137.8333, 4808,    595.3,   6.1560,  34.5154,2,  34.5215,2,   -999.0,5,     23.0,2,    71.63,2,    41.45,2,     0.00,2,     3.07,2, -999.000,5,    0.019,2, -999.000,9,-999.0000,9,  -999.00,9,-999.000,9,   -999,-999.0000,-999.000,-999.000,  6.1029,-999.000
     32MW893_3,  P04E,   149,  1,     11,     11,2,19890420,0105,  9.4933,-137.8333, 4808,    698.7,   5.4633,  34.5332,2,  34.5313,2,   -999.0,5,     22.6,2,    81.65,2,    43.30,2,     0.00,2,     3.16,2,    0.008,2, -999.000,5, -999.000,9,-999.0000,9,  -999.00,9,-999.000,9,   -999,-999.0000,-999.000,-999.000,  5.4041,-999.000
     32MW893_3,  P04E,   149,  1,     10,     10,2,19890420,0105,  9.4933,-137.8333, 4808,    798.6,   4.9245,  34.5470,2,  34.5465,2,   -999.0,5,     31.7,2,    89.39,2,    43.69,2,     0.00,2,     3.16,2,    0.011,2,    0.007,3, -999.000,9,-999.0000,9,  -999.00,9,-999.000,9,   -999,-999.0000,-999.000,-999.000,  4.8595,-999.000
     32MW893_3,  P04E,   149,  1,      9,      9,2,19890420,0105,  9.4933,-137.8333, 4808,    996.1,   4.0758,  34.5663,2,  34.5667,2,   -999.0,5,     49.1,2,   105.67,2,    42.81,2,     0.00,2,     3.11,2, -999.000,9, -999.000,9, -999.000,9,-999.0000,9,  -999.00,9,-999.000,9,   -999,-999.0000,-999.000,-999.000,  3.9998,-999.000
     32MW893_3,  P04E,   149,  1,      8,      8,2,19890420,0105,  9.4933,-137.8333, 4808,   1496.8,   2.8183,  34.6078,2,  34.6087,2,   -999.0,5,     82.1,2,   131.75,2,    40.96,2,     0.00,2,     2.94,2, -999.000,9, -999.000,9, -999.000,9,-999.0000,9,  -999.00,9,-999.000,9,   -999,-999.0000,-999.000,-999.000,  2.7127,-999.000
     32MW893_3,  P04E,   149,  1,      7,      7,2,19890420,0105,  9.4933,-137.8333, 4808,   2000.5,   2.1157,  34.6453,2,  34.6453,2,   -999.0,5,    103.4,2,   148.02,2,    39.39,2,     0.00,2,     2.82,2, -999.000,9, -999.000,9, -999.000,9,-999.0000,9,  -999.00,9,-999.000,9,   -999,-999.0000,-999.000,-999.000,  1.9774,-999.000
     32MW893_3,  P04E,   149,  1,      6,      6,2,19890420,0105,  9.4933,-137.8333, 4808,   2499.9,   1.8528,  34.6647,2,  34.6643,2,   -999.0,5,    115.1,2,   153.77,2,    38.61,2,     0.00,2,     2.74,2, -999.000,9, -999.000,9, -999.000,9,-999.0000,9,  -999.00,9,-999.000,9,   -999,-999.0000,-999.000,-999.000,  1.6752,-999.000
     32MW893_3,  P04E,   149,  1,      5,      5,2,19890420,0105,  9.4933,-137.8333, 4808,   3003.6,   1.6998,  34.6748,2,  34.6742,2,   -999.0,5,    124.7,2,   157.84,2,    38.12,2,     0.00,2,     2.69,2,    0.005,2,    0.004,2, -999.000,9,-999.0000,9,  -999.00,9,-999.000,9,   -999,-999.0000,-999.000,-999.000,  1.4782,-999.000
     32MW893_3,  P04E,   149,  1,      4,      4,2,19890420,0105,  9.4933,-137.8333, 4808,   3501.7,   1.5299,  34.6820,2,  34.6814,2,   -999.0,5,    141.2,2,   156.65,2,    37.14,2,     0.01,2,     2.60,2, -999.000,9, -999.000,9, -999.000,9,-999.0000,9,  -999.00,9,-999.000,9,   -999,-999.0000,-999.000,-999.000,  1.2629,-999.000
     32MW893_3,  P04E,   149,  1,      3,      3,2,19890420,0105,  9.4933,-137.8333, 4808,   4003.8,   1.3830,  34.6921,2,  34.6928,2,   -999.0,5,    164.7,2,   145.34,2,    35.58,2,     0.01,2,     2.47,2,    0.002,2,   -0.003,3, -999.000,9,-999.0000,9,  -999.00,9,-999.000,9,   -999,-999.0000,-999.000,-999.000,  1.0669,-999.000
     32MW893_3,  P04E,   149,  1,      2,      2,2,19890420,0105,  9.4933,-137.8333, 4808,   4505.1,   1.3910,  34.6948,2,  34.6960,2,   -999.0,5,    169.5,2,   141.57,2,    35.19,2,     0.01,2,     2.44,2, -999.000,9, -999.000,9, -999.000,9,-999.0000,9,  -999.00,9,-999.000,9,   -999,-999.0000,-999.000,-999.000,  1.0188,-999.000
     32MW893_3,  P04E,   149,  1,      1,      1,2,19890420,0105,  9.4933,-137.8333, 4808,   4875.2,   1.4240,  34.6953,2,  34.6948,2,   -999.0,5,    170.8,2,   140.28,2,    34.76,2,     0.01,2,     2.43,2,    0.005,2,   -0.005,2, -999.000,9,-999.0000,9,  -999.00,9,-999.000,9,   -999,-999.0000,-999.000,-999.000,  1.0073,-999.000