BOTTLE,20020418WHPSIOdm
EXPOCODE,SECT_ID,STNNBR,CASTNO,SAMPNO,BTLNBR,BTLNBR_FLAG_W,DATE,TIME,LATITUDE,LONGITUDE,DEPTH,CTDPRS,CTDTMP,CTDSAL,CTDSAL_FLAG_W,SALNTY,SALNTY_FLAG_W,CTDOXY,CTDOXY_FLAG_W,OXYGEN,OXYGEN_FLAG_W,SILCAT,SILCAT_FLAG_W,NITRAT,NITRAT_FLAG_W,NITRIT,NITRIT_FLAG_W,PHSPHT,PHSPHT_FLAG_W,CFC-11,CFC-11_FLAG_W,CFC-12,CFC-12_FLAG_W,TRITUM,TRITUM_FLAG_W,HELIUM,HELIUM_FLAG_W,DELHE3,DELHE3_FLAG_W,NEON,NEON_FLAG_W,CTDRAW,HELIER,DELHER,NEONER,THETA,TRITER
,,,,,,,,,,,,DBAR,ITS-90,PSS-78,,PSS-78,,UMOL/KG,,UMOL/KG,,UMOL/KG,,UMOL/KG,,UMOL/KG,,UMOL/KG,,PMOL/KG,,PMOL/KG,,TU,,NMOL/KG,,PERCNT,,NMOL/KG,,,NMOL/KG,PERCNT,NMOL/KG,ITS-90,TU
     32MW893_3,  P04E,   138,  1,     24,     24,2,19890416,0108,  9.4900,-147.0017, 5229,      6.5,  25.9553,  34.6262,2,  34.6244,2,   -999.0,5,    219.9,2,     1.09,2,     0.29,2,     0.00,2,     0.25,2,    1.768,2,    0.965,2, -999.000,9,-999.0000,9,  -999.00,9,-999.000,9,   -999,-999.0000,-999.000,-999.000, 25.9539,-999.000
     32MW893_3,  P04E,   138,  1,     23,     23,2,19890416,0108,  9.4900,-147.0017, 5229,     47.4,  25.8343,  34.6107,2,  34.6111,2,   -999.0,5,    218.1,2,     1.09,2,     0.29,2,     0.01,2,     0.25,2,    1.775,2,    0.971,2, -999.000,9,-999.0000,9,  -999.00,9,-999.000,9,   -999,-999.0000,-999.000,-999.000, 25.8238,-999.000
     32MW893_3,  P04E,   138,  1,     22,     22,2,19890416,0108,  9.4900,-147.0017, 5229,     71.5,  25.6263,  34.5946,2,  34.6107,2,   -999.0,5,    211.2,2,     1.29,2,     0.39,2,     0.02,2,     0.29,2,    1.802,2,    0.999,2, -999.000,9,-999.0000,9,  -999.00,9,-999.000,9,   -999,-999.0000,-999.000,-999.000, 25.6105,-999.000
     32MW893_3,  P04E,   138,  1,     21,     21,2,19890416,0108,  9.4900,-147.0017, 5229,     96.5,  20.2095,  34.8690,2,  34.8654,2,   -999.0,5,    203.3,2,     1.98,2,     1.86,2,     0.95,2,     0.31,2,    2.156,2,    1.149,2, -999.000,9,-999.0000,9,  -999.00,9,-999.000,9,   -999,-999.0000,-999.000,-999.000, 20.1917,-999.000
     32MW893_3,  P04E,   138,  1,     20,     20,2,19890416,0108,  9.4900,-147.0017, 5229,    122.0,  16.8166,  34.4545,2,  34.5164,2,   -999.0,5,    142.5,2,     6.05,2,    11.44,2,     0.04,2,     1.01,2,    1.818,2,    0.977,2, -999.000,9,-999.0000,9,  -999.00,9,-999.000,9,   -999,-999.0000,-999.000,-999.000, 16.7967,-999.000
     32MW893_3,  P04E,   138,  1,     19,     19,2,19890416,0108,  9.4900,-147.0017, 5229,    147.2,  12.8607,  34.5682,2,  34.5357,2,   -999.0,5,     38.7,2,    21.33,2,    28.93,2,     0.01,2,     2.20,2,    0.641,2,    0.364,2, -999.000,9,-999.0000,9,  -999.00,9,-999.000,9,   -999,-999.0000,-999.000,-999.000, 12.8407,-999.000
     32MW893_3,  P04E,   138,  1,     18,     18,2,19890416,0108,  9.4900,-147.0017, 5229,    172.9,  11.8331,  34.6935,2,  34.6968,2,   -999.0,5,     10.4,2,    26.49,2,    33.23,2,     0.01,2,     2.49,2,    0.214,2,    0.139,2, -999.000,9,-999.0000,9,  -999.00,9,-999.000,9,   -999,-999.0000,-999.000,-999.000, 11.8108,-999.000
     32MW893_3,  P04E,   138,  1,     17,     17,2,19890416,0108,  9.4900,-147.0017, 5229,    196.9,  11.2552,  34.6940,2,  34.7107,2,   -999.0,5,     10.9,2,    29.07,2,    33.52,2,     0.00,2,     2.52,2,    0.114,2, -999.000,5, -999.000,9,-999.0000,9,  -999.00,9,-999.000,9,   -999,-999.0000,-999.000,-999.000, 11.2306,-999.000
     32MW893_3,  P04E,   138,  1,     16,     16,2,19890416,0108,  9.4900,-147.0017, 5229,    246.4,  10.4655,  34.6991,2,  34.6991,2,   -999.0,5,     16.5,2,    31.55,2,    34.70,2,     0.00,2,     2.54,2,    0.067,2, -999.000,5, -999.000,9,-999.0000,9,  -999.00,9,-999.000,9,   -999,-999.0000,-999.000,-999.000, 10.4361,-999.000
     32MW893_3,  P04E,   138,  1,     15,     15,2,19890416,0108,  9.4900,-147.0017, 5229,    296.5,  10.0127,  34.6864,2,  34.6867,2,   -999.0,5,     15.2,2,    33.54,2,    35.68,2,     0.00,2,     2.57,2,    0.036,2,    0.031,2, -999.000,9,-999.0000,9,  -999.00,9,-999.000,9,   -999,-999.0000,-999.000,-999.000,  9.9782,-999.000
     32MW893_3,  P04E,   138,  1,     14,     14,2,19890416,0108,  9.4900,-147.0017, 5229,    395.8,   9.1730,  34.6499,2,  34.6455,2,   -999.0,5,     11.3,2,    38.99,2,    37.05,2,     0.00,2,     2.73,2,    0.029,2,    0.019,2, -999.000,9,-999.0000,9,  -999.00,9,-999.000,9,   -999,-999.0000,-999.000,-999.000,  9.1292,-999.000
     32MW893_3,  P04E,   138,  1,     13,     13,2,19890416,0108,  9.4900,-147.0017, 5229,    496.2,   8.1653,  34.5869,2,  34.5924,2,   -999.0,5,     17.4,2,    47.72,2,    37.93,2,    -0.01,2,     2.86,2,    0.004,2,    0.016,2, -999.000,9,-999.0000,9,  -999.00,9,-999.000,9,   -999,-999.0000,-999.000,-999.000,  8.1139,-999.000
     32MW893_3,  P04E,   138,  1,     12,     12,2,19890416,0108,  9.4900,-147.0017, 5229,    747.7,   5.6143,  34.5322,2,  34.5296,2,   -999.0,5,     26.1,2,    78.09,2,    42.82,2,    -0.01,2,     3.14,2,   -0.003,2,    0.001,2, -999.000,9,-999.0000,9,  -999.00,9,-999.000,9,   -999,-999.0000,-999.000,-999.000,  5.5498,-999.000
     32MW893_3,  P04E,   138,  1,     11,     11,2,19890416,0108,  9.4900,-147.0017, 5229,    796.9,   5.2064,  34.5360,2,  34.5321,2,   -999.0,5,     26.1,2,    84.73,2,    43.50,2,    -0.01,2,     3.20,2,    0.000,2,    0.007,2, -999.000,9,-999.0000,9,  -999.00,9,-999.000,9,   -999,-999.0000,-999.000,-999.000,  5.1400,-999.000
     32MW893_3,  P04E,   138,  1,     10,     10,2,19890416,0108,  9.4900,-147.0017, 5229,    996.6,   4.2818,  34.5536,2,  34.5565,2,   -999.0,5,     44.3,2,   101.01,2,    43.11,2,     0.00,2,     3.14,2, -999.000,9, -999.000,9, -999.000,9,-999.0000,9,  -999.00,9,-999.000,9,   -999,-999.0000,-999.000,-999.000,  4.2042,-999.000
     32MW893_3,  P04E,   138,  1,      9,      9,2,19890416,0108,  9.4900,-147.0017, 5229,   1497.0,   2.8913,  34.6082,2,  34.6066,2,   -999.0,5,     74.3,2,   131.46,2,    41.64,2,     0.00,2,     3.00,2,    0.001,2,    0.014,2, -999.000,9,-999.0000,9,  -999.00,9,-999.000,9,   -999,-999.0000,-999.000,-999.000,  2.7849,-999.000
     32MW893_3,  P04E,   138,  1,      8,      8,2,19890416,0108,  9.4900,-147.0017, 5229,   2000.2,   2.0947,  34.6477,2,  34.6470,2,   -999.0,5,    100.4,2,   149.71,2,    39.98,2,     0.00,2,     2.82,2, -999.000,9, -999.000,9, -999.000,9,-999.0000,9,  -999.00,9,-999.000,9,   -999,-999.0000,-999.000,-999.000,  1.9567,-999.000
     32MW893_3,  P04E,   138,  1,      7,      7,2,19890416,0108,  9.4900,-147.0017, 5229,   2500.9,   1.8298,  34.6648,2,  34.6620,2,   -999.0,5,   -999.0,5,   155.06,2,    38.80,2,     0.00,2,     2.72,2,   -0.002,2,   -0.002,2, -999.000,9,-999.0000,9,  -999.00,9,-999.000,9,   -999,-999.0000,-999.000,-999.000,  1.6525,-999.000
     32MW893_3,  P04E,   138,  1,      6,      6,2,19890416,0108,  9.4900,-147.0017, 5229,   3002.0,   1.6538,  34.6760,2,  34.6779,2,   -999.0,5,    126.9,2,   157.54,2,    38.22,2,     0.00,2,     2.67,2, -999.000,9, -999.000,9, -999.000,9,-999.0000,9,  -999.00,9,-999.000,9,   -999,-999.0000,-999.000,-999.000,  1.4335,-999.000
     32MW893_3,  P04E,   138,  1,      5,      5,2,19890416,0108,  9.4900,-147.0017, 5229,   3503.8,   1.4939,  34.6844,2,  34.6846,2,   -999.0,5,    145.6,2,   154.67,2,    36.95,2,     0.00,2,     2.56,2, -999.000,9, -999.000,9, -999.000,9,-999.0000,9,  -999.00,9,-999.000,9,   -999,-999.0000,-999.000,-999.000,  1.2275,-999.000
     32MW893_3,  P04E,   138,  1,      4,      4,2,19890416,0108,  9.4900,-147.0017, 5229,   4006.6,   1.4020,  34.6909,2,  34.6916,2,   -999.0,5,    162.5,2,   144.74,2,    35.68,2,     0.00,2,     2.48,2,   -0.003,2,    0.012,2, -999.000,9,-999.0000,9,  -999.00,9,-999.000,9,   -999,-999.0000,-999.000,-999.000,  1.0850,-999.000
     32MW893_3,  P04E,   138,  1,      3,      3,2,19890416,0108,  9.4900,-147.0017, 5229,   4503.6,   1.3730,  34.6942,2,  34.6985,2,   -999.0,5,    173.4,2,   139.39,2,    35.09,2,     0.00,2,     2.45,2, -999.000,9, -999.000,9, -999.000,9,-999.0000,9,  -999.00,9,-999.000,9,   -999,-999.0000,-999.000,-999.000,  1.0015,-999.000
     32MW893_3,  P04E,   138,  1,      2,      2,2,19890416,0108,  9.4900,-147.0017, 5229,   5005.7,   1.4160,  34.6959,2,  34.6962,2,   -999.0,5,    175.1,2,   138.49,2,    34.89,2,     0.00,2,     2.43,2, -999.000,9, -999.000,9, -999.000,9,-999.0000,9,  -999.00,9,-999.000,9,   -999,-999.0000,-999.000,-999.000,  0.9839,-999.000
     32MW893_3,  P04E,   138,  1,      1,      1,2,19890416,0108,  9.4900,-147.0017, 5229,   5322.7,   1.4480,  34.6955,2,  34.6970,2,   -999.0,5,    175.5,2,   138.10,2,    34.66,2,     0.01,2,     2.44,2,   -0.006,2,   -0.005,2, -999.000,9,-999.0000,9,  -999.00,9,-999.000,9,   -999,-999.0000,-999.000,-999.000,  0.9757,-999.000
     32MW893_3,  P04E,   139,  1,     24,     24,2,19890416,0920,  9.4867,-146.1650, 5157,      5.7,  25.7063,  34.5776,2,  34.5775,2,   -999.0,5,    209.4,2,     0.60,2,     0.00,2,     0.01,2,     0.26,2,    1.755,2,    0.949,2, -999.000,9,-999.0000,9,  -999.00,9,-999.000,9,   -999,-999.0000,-999.000,-999.000, 25.7050,-999.000
     32MW893_3,  P04E,   139,  1,     23,     23,2,19890416,0920,  9.4867,-146.1650, 5157,     48.1,  25.6074,  34.5797,2,  34.5791,2,   -999.0,5,    215.1,2,     0.79,2,     0.10,2,     0.01,2,     0.28,2,    1.817,2,    0.980,2, -999.000,9,-999.0000,9,  -999.00,9,-999.000,9,   -999,-999.0000,-999.000,-999.000, 25.5968,-999.000
     32MW893_3,  P04E,   139,  1,     22,     22,2,19890416,0920,  9.4867,-146.1650, 5157,     72.0,  23.3908,  34.5012,2,-999.0000,5,   -999.0,5,    206.4,2,     1.39,2,     0.59,2,     0.06,2,     0.36,2,    1.930,2,    1.023,2, -999.000,9,-999.0000,9,  -999.00,9,-999.000,9,   -999,-999.0000,-999.000,-999.000, 23.3760,-999.000
     32MW893_3,  P04E,   139,  1,     21,     21,2,19890416,0920,  9.4867,-146.1650, 5157,     97.0,  16.8945,  34.5435,2,  34.5335,2,   -999.0,5,    146.9,2,     6.95,2,    11.14,2,     0.49,2,     0.99,2,    1.812,2,    0.939,2, -999.000,9,-999.0000,9,  -999.00,9,-999.000,9,   -999,-999.0000,-999.000,-999.000, 16.8786,-999.000
     32MW893_3,  P04E,   139,  1,     20,     20,2,19890416,0920,  9.4867,-146.1650, 5157,    122.9,  13.0997,  34.5202,2,  34.4844,2,   -999.0,5,     46.5,2,    21.13,2,    27.18,2,     0.02,2,     2.14,2,    0.798,2,    0.440,2, -999.000,9,-999.0000,9,  -999.00,9,-999.000,9,   -999,-999.0000,-999.000,-999.000, 13.0828,-999.000
     32MW893_3,  P04E,   139,  1,     19,     19,2,19890416,0920,  9.4867,-146.1650, 5157,    147.5,  11.9580,  34.6934,2,  34.6824,2,   -999.0,5,      8.3,2,    27.88,2,    32.25,2,     0.02,2,     2.53,2,    0.201,2, -999.000,5, -999.000,9,-999.0000,9,  -999.00,9,-999.000,9,   -999,-999.0000,-999.000,-999.000, 11.9389,-999.000
     32MW893_3,  P04E,   139,  1,     18,     18,2,19890416,0920,  9.4867,-146.1650, 5157,    172.6,  11.4791,  34.7156,2,  34.7164,2,   -999.0,5,      4.3,2,    29.36,2,    33.23,2,     0.02,2,     2.55,2,    0.105,2,    0.074,2, -999.000,9,-999.0000,9,  -999.00,9,-999.000,9,   -999,-999.0000,-999.000,-999.000, 11.4573,-999.000
     32MW893_3,  P04E,   139,  1,     17,     17,2,19890416,0920,  9.4867,-146.1650, 5157,    198.0,  11.0533,  34.6913,2,  34.6895,2,   -999.0,5,      5.2,2,    31.35,2,    33.13,2,     0.02,2,     2.60,2,    0.066,2,    0.047,2, -999.000,9,-999.0000,9,  -999.00,9,-999.000,9,   -999,-999.0000,-999.000,-999.000, 11.0290,-999.000
     32MW893_3,  P04E,   139,  1,     16,     16,2,19890416,0920,  9.4867,-146.1650, 5157,    247.7,  10.3445,  34.6683,2,  34.6863,2,   -999.0,5,      5.2,2,    34.13,2,    33.92,2,     0.02,2,     2.66,2,    0.045,2, -999.000,5, -999.000,9,-999.0000,9,  -999.00,9,-999.000,9,   -999,-999.0000,-999.000,-999.000, 10.3152,-999.000
     32MW893_3,  P04E,   139,  1,     15,     15,2,19890416,0920,  9.4867,-146.1650, 5157,    297.6,   9.8667,  34.6758,2,  34.6726,2,   -999.0,5,     10.4,2,    34.73,2,    35.87,2,     0.02,2,     2.64,2,    0.023,6,    0.025,2, -999.000,9,-999.0000,9,  -999.00,9,-999.000,9,   -999,-999.0000,-999.000,-999.000,  9.8324,-999.000
     32MW893_3,  P04E,   139,  1,     14,     14,2,19890416,0920,  9.4867,-146.1650, 5157,    396.5,   8.9850,  34.6373,2,  34.6325,2,   -999.0,5,     13.9,2,    40.78,2,    37.24,2,     0.02,2,     2.74,2,    0.030,2,    0.014,2, -999.000,9,-999.0000,9,  -999.00,9,-999.000,9,   -999,-999.0000,-999.000,-999.000,  8.9418,-999.000
     32MW893_3,  P04E,   139,  1,     13,     13,2,19890416,0920,  9.4867,-146.1650, 5157,    497.1,   7.9944,  34.5627,2,  34.5761,2,   -999.0,5,     24.3,2,    49.01,2,    38.12,2,     0.02,2,     2.81,2,    0.004,2,    0.023,2, -999.000,9,-999.0000,9,  -999.00,9,-999.000,9,   -999,-999.0000,-999.000,-999.000,  7.9434,-999.000
     32MW893_3,  P04E,   139,  1,     12,     12,2,19890416,0920,  9.4867,-146.1650, 5157,    746.6,   5.7342,  34.5337,2,  34.5296,2,   -999.0,5,     16.5,2,    78.09,2,    43.50,2,     0.02,2,     3.21,2,   -0.001,2,    0.006,2, -999.000,9,-999.0000,9,  -999.00,9,-999.000,9,   -999,-999.0000,-999.000,-999.000,  5.6691,-999.000
     32MW893_3,  P04E,   139,  1,     11,     11,2,19890416,0920,  9.4867,-146.1650, 5157,    796.0,   5.3783,  34.5382,2,  34.5353,2,   -999.0,5,     15.6,2,    83.74,2,    44.38,2,     0.02,2,     3.26,2,    0.001,2,    0.010,3, -999.000,9,-999.0000,9,  -999.00,9,-999.000,9,   -999,-999.0000,-999.000,-999.000,  5.3108,-999.000
     32MW893_3,  P04E,   139,  1,     10,     10,2,19890416,0920,  9.4867,-146.1650, 5157,    997.9,   4.4307,  34.5557,2,  34.5541,2,   -999.0,5,     36.5,2,    99.41,2,    44.18,2,     0.02,2,     3.21,2,    0.002,2,    0.003,2, -999.000,9,-999.0000,9,  -999.00,9,-999.000,9,   -999,-999.0000,-999.000,-999.000,  4.3519,-999.000
     32MW893_3,  P04E,   139,  1,      9,      9,2,19890416,0920,  9.4867,-146.1650, 5157,   1497.4,   2.8733,  34.6053,2,  34.6060,2,   -999.0,5,     77.3,2,   131.26,2,    41.64,2,     0.02,2,     2.96,2, -999.000,9, -999.000,9, -999.000,9,-999.0000,9,  -999.00,9,-999.000,9,   -999,-999.0000,-999.000,-999.000,  2.7670,-999.000
     32MW893_3,  P04E,   139,  1,      8,      8,2,19890416,0920,  9.4867,-146.1650, 5157,   2000.8,   2.0967,  34.6453,2,  34.6463,2,   -999.0,5,    101.2,2,   149.11,2,    40.27,2,     0.01,2,     2.83,2, -999.000,9, -999.000,9, -999.000,9,-999.0000,9,  -999.00,9,-999.000,9,   -999,-999.0000,-999.000,-999.000,  1.9586,-999.000
     32MW893_3,  P04E,   139,  1,      7,      7,2,19890416,0920,  9.4867,-146.1650, 5157,   2501.7,   1.8268,  34.6652,2,  34.6616,2,   -999.0,5,    114.7,2,   154.57,2,    39.10,2,     0.01,2,     2.75,2, -999.000,9, -999.000,9, -999.000,9,-999.0000,9,  -999.00,9,-999.000,9,   -999,-999.0000,-999.000,-999.000,  1.6495,-999.000
     32MW893_3,  P04E,   139,  1,      6,      6,2,19890416,0920,  9.4867,-146.1650, 5157,   3002.3,   1.6558,  34.6750,2,  34.6744,2,   -999.0,5,    127.3,2,   156.85,2,    38.51,2,     0.00,2,     2.68,2,   -0.003,2,   -0.004,2, -999.000,9,-999.0000,9,  -999.00,9,-999.000,9,   -999,-999.0000,-999.000,-999.000,  1.4354,-999.000
     32MW893_3,  P04E,   139,  1,      5,      5,2,19890416,0920,  9.4867,-146.1650, 5157,   3502.5,   1.4979,  34.6844,2,  34.6840,2,   -999.0,5,    146.0,2,   152.68,2,    37.24,2,     0.00,2,     2.58,2, -999.000,9, -999.000,9, -999.000,9,-999.0000,9,  -999.00,9,-999.000,9,   -999,-999.0000,-999.000,-999.000,  1.2316,-999.000
     32MW893_3,  P04E,   139,  1,      4,      4,2,19890416,0920,  9.4867,-146.1650, 5157,   4003.5,   1.4020,  34.6910,2,  34.6916,2,   -999.0,5,    162.5,2,   144.34,2,    36.16,2,     0.01,2,     2.49,2, -999.000,9, -999.000,9, -999.000,9,-999.0000,9,  -999.00,9,-999.000,9,   -999,-999.0000,-999.000,-999.000,  1.0854,-999.000
     32MW893_3,  P04E,   139,  1,      3,      3,2,19890416,0920,  9.4867,-146.1650, 5157,   4505.1,   1.3790,  34.6933,2,  34.6948,2,   -999.0,5,    171.6,2,   139.58,2,    35.38,2,     0.01,2,     2.46,2, -999.000,9, -999.000,9, -999.000,9,-999.0000,9,  -999.00,9,-999.000,9,   -999,-999.0000,-999.000,-999.000,  1.0072,-999.000
     32MW893_3,  P04E,   139,  1,      2,      2,2,19890416,0920,  9.4867,-146.1650, 5157,   5004.2,   1.4180,  34.6957,2,  34.6958,2,   -999.0,5,    173.8,2,   138.00,2,    35.19,2,     0.01,2,     2.43,2,   -0.001,2,    0.002,2, -999.000,9,-999.0000,9,  -999.00,9,-999.000,9,   -999,-999.0000,-999.000,-999.000,  0.9860,-999.000
     32MW893_3,  P04E,   139,  1,      1,      1,2,19890416,0920,  9.4867,-146.1650, 5157,   5244.0,   1.4440,  34.6967,2,  34.6964,2,   -999.0,5,    174.7,2,   138.20,2,    34.95,2,     0.01,2,     2.45,2,   -0.004,2,   -0.005,2, -999.000,9,-999.0000,9,  -999.00,9,-999.000,9,   -999,-999.0000,-999.000,-999.000,  0.9816,-999.000