BOTTLE,20020418WHPSIOdm
EXPOCODE,SECT_ID,STNNBR,CASTNO,SAMPNO,BTLNBR,BTLNBR_FLAG_W,DATE,TIME,LATITUDE,LONGITUDE,DEPTH,CTDPRS,CTDTMP,CTDSAL,CTDSAL_FLAG_W,SALNTY,SALNTY_FLAG_W,CTDOXY,CTDOXY_FLAG_W,OXYGEN,OXYGEN_FLAG_W,SILCAT,SILCAT_FLAG_W,NITRAT,NITRAT_FLAG_W,NITRIT,NITRIT_FLAG_W,PHSPHT,PHSPHT_FLAG_W,CFC-11,CFC-11_FLAG_W,CFC-12,CFC-12_FLAG_W,TRITUM,TRITUM_FLAG_W,HELIUM,HELIUM_FLAG_W,DELHE3,DELHE3_FLAG_W,NEON,NEON_FLAG_W,CTDRAW,HELIER,DELHER,NEONER,THETA,TRITER
,,,,,,,,,,,,DBAR,ITS-90,PSS-78,,PSS-78,,UMOL/KG,,UMOL/KG,,UMOL/KG,,UMOL/KG,,UMOL/KG,,UMOL/KG,,PMOL/KG,,PMOL/KG,,TU,,NMOL/KG,,PERCNT,,NMOL/KG,,,NMOL/KG,PERCNT,NMOL/KG,ITS-90,TU
     32MW893_3,  P04E,   176,  1,     24,     24,2,19890429,0843,  9.4983,-115.3317, 3920,      6.2,  27.5819,  34.1256,2,  34.1248,2,   -999.0,5,    216.0,2,     0.79,2,     0.10,2,     0.00,2,     0.23,2,    1.617,2,    0.891,2,    1.671,2,   1.8910,2,    -0.40,2,   7.237,2,   -999,  0.0090,   0.150,   0.043, 27.5805,   0.023
     32MW893_3,  P04E,   176,  1,     23,     23,2,19890429,0843,  9.4983,-115.3317, 3920,     47.9,  27.4139,  34.1838,2,  34.1676,2,   -999.0,5,    214.7,2,     0.79,2,     0.10,2,     0.00,2,     0.24,2,    1.629,2,    0.901,2,    1.650,2,   1.8970,2,    -0.33,2,   7.321,2,   -999,  0.0090,   0.150,   0.044, 27.4028,   0.025
     32MW893_3,  P04E,   176,  1,     22,     22,2,19890429,0843,  9.4983,-115.3317, 3920,     71.6,  24.9894,  34.2655,2,  34.2960,2,   -999.0,5,    164.3,2,     3.15,2,     6.84,2,     1.38,2,     0.70,2,    1.562,2,    0.853,2,    1.492,2,   1.8910,2,     0.37,2,   7.355,2,   -999,  0.0090,   0.150,   0.044, 24.9739,   0.026
     32MW893_3,  P04E,   176,  1,     21,     21,2,19890429,0843,  9.4983,-115.3317, 3920,     97.8,  17.0144,  34.7490,2,  34.6913,2,   -999.0,5,     56.5,2,    13.78,2,    23.56,2,     0.62,2,     1.74,2,    0.938,2,    0.528,2,    1.631,2,   1.9210,2,     6.93,2,   7.765,2,   -999,  0.0090,   0.150,   0.047, 16.9983,   0.015
     32MW893_3,  P04E,   176,  1,     20,     20,2,19890429,0843,  9.4983,-115.3317, 3920,    122.3,  13.8824,  34.7643,2,  34.7740,2,   -999.0,5,      3.9,2,    23.63,2,    32.55,2,     0.00,2,     2.35,2,    0.322,2,    0.210,2,    0.883,2,   1.9410,2,     8.70,2,   7.902,2,   -999,  0.0090,   0.150,   0.047, 13.8649,   0.011
     32MW893_3,  P04E,   176,  1,     19,     19,2,19890429,0843,  9.4983,-115.3317, 3920,    147.1,  12.4628,  34.7901,2,  34.7797,2,   -999.0,5,      8.7,2,    25.80,2,    33.33,2,     0.00,2,     2.34,2,    0.210,2,    0.133,2,    0.678,2,   1.9340,2,     8.41,2,   7.931,2,   -999,  0.0090,   0.150,   0.048, 12.4432,   0.009
     32MW893_3,  P04E,   176,  1,     18,     18,2,19890429,0843,  9.4983,-115.3317, 3920,    171.0,  11.9770,  34.7749,2,  34.7699,2,   -999.0,5,     11.7,2,    27.38,2,    33.52,2,     0.00,2,     2.37,2,    0.166,2, -999.000,5,    0.569,2,-999.0000,9,  -999.00,9,-999.000,9,   -999,-999.0000,-999.000,-999.000, 11.9548,   0.008
     32MW893_3,  P04E,   176,  1,     17,     17,2,19890429,0843,  9.4983,-115.3317, 3920,    196.3,  11.5441,  34.7576,2,  34.7514,2,   -999.0,5,     16.5,2,    28.66,2,    33.52,2,     0.00,2,     2.35,2,    0.137,2,    0.089,2,    0.468,2,   1.9620,2,     6.84,2,   8.051,2,   -999,  0.0090,   0.150,   0.048, 11.5192,   0.008
     32MW893_3,  P04E,   176,  1,     16,     16,2,19890429,0843,  9.4983,-115.3317, 3920,    246.4,  10.8064,  34.7257,2,  34.7258,2,   -999.0,5,      7.0,2,    31.90,2,    34.50,2,     0.00,2,     2.48,2,    0.058,2, -999.000,5,    0.241,2,   1.9600,2,     5.70,2,   8.083,2,   -999,  0.0090,   0.150,   0.048, 10.7764,   0.007
     32MW893_3,  P04E,   176,  1,     15,     15,2,19890429,0843,  9.4983,-115.3317, 3920,    297.1,  10.4165,  34.7350,2,  34.7084,2,   -999.0,5,      5.2,2,    33.68,2,    34.70,2,     0.00,2,     2.54,2,    0.039,2,    0.027,2,    0.176,2,   1.9450,2,     5.45,2,   8.041,2,   -999,  0.0090,   0.150,   0.048, 10.3811,   0.006
     32MW893_3,  P04E,   176,  1,     14,     14,2,19890429,0843,  9.4983,-115.3317, 3920,    396.7,   9.2560,  34.6557,2,  34.6468,2,   -999.0,5,      3.0,2,    42.15,2,    35.09,2,     0.00,2,     2.77,2,    0.009,2,    0.010,2,    0.050,2,   1.9720,2,     5.40,2,   8.128,2,   -999,  0.0090,   0.150,   0.049,  9.2118,   0.006
     32MW893_3,  P04E,   176,  1,     13,     13,2,19890429,0843,  9.4983,-115.3317, 3920,    496.6,   8.2193,  34.6029,2,  34.6060,2,   -999.0,5,      1.3,2,    52.10,2,    34.99,2,     0.00,2,     2.97,2,    0.003,2, -999.000,5,    0.019,2,   1.9500,2,     7.02,2,   8.050,2,   -999,  0.0090,   0.150,   0.048,  8.1675,   0.006
     32MW893_3,  P04E,   176,  1,     12,     12,2,19890429,0843,  9.4983,-115.3317, 3920,    597.4,   6.9647,  34.5682,2,  34.5624,2,   -999.0,5,      2.6,2,    65.00,2,    39.39,2,     0.00,2,     3.12,2, -999.000,9, -999.000,9, -999.000,9,-999.0000,9,  -999.00,9,-999.000,9,   -999,-999.0000,-999.000,-999.000,  6.9077,-999.000
     32MW893_3,  P04E,   176,  1,     11,     11,2,19890429,0843,  9.4983,-115.3317, 3920,    698.1,   6.1500,  34.5447,2,  34.5522,2,   -999.0,5,      5.2,2,    73.76,2,    42.62,2,     0.01,2,     3.19,2, -999.000,9, -999.000,9, -999.000,9,-999.0000,9,  -999.00,9,-999.000,9,   -999,-999.0000,-999.000,-999.000,  6.0872,-999.000
     32MW893_3,  P04E,   176,  1,     10,     10,2,19890429,0843,  9.4983,-115.3317, 3920,    796.6,   5.4543,  34.5550,2,  34.5482,2,   -999.0,5,     14.3,2,    81.84,2,    44.09,2,     0.01,2,     3.19,2, -999.000,9, -999.000,9, -999.000,9,-999.0000,9,  -999.00,9,-999.000,9,   -999,-999.0000,-999.000,-999.000,  5.3863,-999.000
     32MW893_3,  P04E,   176,  1,      9,      9,2,19890429,0843,  9.4983,-115.3317, 3920,    996.8,   4.6277,  34.5579,2,  34.5588,2,   -999.0,5,     30.9,2,    94.94,2,    43.89,2,     0.01,2,     3.16,2, -999.000,9, -999.000,9, -999.000,9,   2.0360,2,    17.25,2,   8.469,2,   -999,  0.0090,   0.150,   0.051,  4.5474,-999.000
     32MW893_3,  P04E,   176,  1,      8,      8,2,19890429,0843,  9.4983,-115.3317, 3920,   1397.9,   3.3671,  34.5964,2,  34.5924,2,   -999.0,5,     60.4,2,   121.53,2,    42.13,2,     0.01,2,     3.01,2, -999.000,9, -999.000,9, -999.000,9,   2.0860,2,    22.79,2,   8.651,2,   -999,  0.0090,   0.150,   0.052,  3.2637,-999.000
     32MW893_3,  P04E,   176,  1,      7,      7,2,19890429,0843,  9.4983,-115.3317, 3920,   1799.6,   2.5035,  34.6131,2,  34.6303,2,   -999.0,5,     84.3,2,   140.53,2,    40.86,2,     0.01,2,     2.86,2,   -0.004,2,   -0.005,2, -999.000,9,   2.0530,2,    25.88,2,   8.474,2,   -999,  0.0090,   0.150,   0.051,  2.3766,-999.000
     32MW893_3,  P04E,   176,  1,      6,      6,2,19890429,0843,  9.4983,-115.3317, 3920,   1899.7,   2.4005,  34.6342,2,  34.6333,2,   -999.0,5,     85.6,2,   144.47,2,    40.66,2,     0.01,2,     2.85,2,   -0.002,2,   -0.005,2, -999.000,9,   2.0980,2,    27.11,2,   8.650,2,   -999,  0.0090,   0.150,   0.052,  2.2667,-999.000
     32MW893_3,  P04E,   176,  1,      5,      5,2,19890429,0843,  9.4983,-115.3317, 3920,   2400.2,   1.9187,  34.6627,2,  34.6616,2,   -999.0,5,    106.5,2,   154.01,2,    39.20,2,     0.01,2,     2.71,2, -999.000,9, -999.000,9, -999.000,9,   2.1490,2,    31.18,2,   8.815,2,   -999,  0.0100,   0.150,   0.053,  1.7489,-999.000
     32MW893_3,  P04E,   176,  1,      4,      4,2,19890429,0843,  9.4983,-115.3317, 3920,   2801.5,   1.7758,  34.6712,2,  34.6712,2,   -999.0,5,    117.3,2,   156.38,2,    38.51,2,     0.01,2,     2.66,2, -999.000,9, -999.000,9, -999.000,9,-999.0000,9,  -999.00,9,-999.000,9,   -999,-999.0000,-999.000,-999.000,  1.5719,-999.000
     32MW893_3,  P04E,   176,  1,      3,      3,2,19890429,0843,  9.4983,-115.3317, 3920,   3202.1,   1.5988,  34.6810,2,  34.6777,2,   -999.0,5,    133.0,2,   154.90,2,    37.53,2,     0.01,2,     2.55,2, -999.000,9, -999.000,9, -999.000,9,-999.0000,9,  -999.00,9,-999.000,9,   -999,-999.0000,-999.000,-999.000,  1.3602,-999.000
     32MW893_3,  P04E,   176,  1,      2,      2,2,19890429,0843,  9.4983,-115.3317, 3920,   3606.1,   1.5449,  34.6840,2,  34.6848,2,   -999.0,5,    141.2,2,   153.72,2,    36.95,2,     0.01,2,     2.51,2, -999.000,9, -999.000,9, -999.000,9,-999.0000,9,  -999.00,9,-999.000,9,   -999,-999.0000,-999.000,-999.000,  1.2667,-999.000
     32MW893_3,  P04E,   176,  1,      1,      1,2,19890429,0843,  9.4983,-115.3317, 3920,   3971.7,   1.5649,  34.6843,2,  34.6844,2,   -999.0,5,    142.5,2,   152.93,2,    36.52,2,     0.01,2,     2.51,2,   -0.001,2,   -0.002,2, -999.000,9,-999.0000,9,  -999.00,9,-999.000,9,   -999,-999.0000,-999.000,-999.000,  1.2473,-999.000
     32MW893_3,  P04E,   177,  1,     24,     24,2,19890429,1603,  9.5017,-114.4983, 4027,      6.5,  27.5499,  34.1341,2,  34.1268,2,   -999.0,5,    210.0,2,     0.39,2,     0.29,2,     0.00,2,     0.22,2,    1.634,2,    0.884,2, -999.000,9,-999.0000,9,  -999.00,9,-999.000,9,   -999,-999.0000,-999.000,-999.000, 27.5484,-999.000
     32MW893_3,  P04E,   177,  1,     23,     23,2,19890429,1603,  9.5017,-114.4983, 4027,     46.8,  25.8043,  33.9826,2,  34.2815,2,   -999.0,5,    194.7,2,     1.09,2,     2.05,2,     0.32,2,     0.38,2,    1.604,2,    0.937,2, -999.000,9,-999.0000,9,  -999.00,9,-999.000,9,   -999,-999.0000,-999.000,-999.000, 25.7939,-999.000
     32MW893_3,  P04E,   177,  1,     22,     22,2,19890429,1603,  9.5017,-114.4983, 4027,     97.9,  14.3922,  34.7563,2,  34.7565,2,   -999.0,5,      5.6,2,    21.86,2,    31.08,2,     0.01,2,     2.31,2,    0.415,2,    0.225,2, -999.000,9,-999.0000,9,  -999.00,9,-999.000,9,   -999,-999.0000,-999.000,-999.000, 14.3779,-999.000
     32MW893_3,  P04E,   177,  1,     21,     21,2,19890429,1603,  9.5017,-114.4983, 4027,    121.6,  12.8817,  34.8131,2,  34.7856,2,   -999.0,5,      5.2,2,    25.21,2,    32.55,2,     0.01,2,     2.36,2,    0.239,2,    0.109,2, -999.000,9,-999.0000,9,  -999.00,9,-999.000,9,   -999,-999.0000,-999.000,-999.000, 12.8652,-999.000
     32MW893_3,  P04E,   177,  1,     20,     20,2,19890429,1603,  9.5017,-114.4983, 4027,    145.9,  12.2550,  34.7969,2,  34.7775,2,   -999.0,5,      8.3,2,    27.08,2,    32.94,2,     0.01,2,     2.36,2,    0.166,2,    0.087,2, -999.000,9,-999.0000,9,  -999.00,9,-999.000,9,   -999,-999.0000,-999.000,-999.000, 12.2358,-999.000
     32MW893_3,  P04E,   177,  1,     19,     19,2,19890429,1603,  9.5017,-114.4983, 4027,    170.1,  11.8161,  34.7799,2,  34.7691,2,   -999.0,5,     12.2,2,    28.16,2,    33.33,2,     0.01,2,     2.36,2,    0.141,2,    0.092,2, -999.000,9,-999.0000,9,  -999.00,9,-999.000,9,   -999,-999.0000,-999.000,-999.000, 11.7942,-999.000
     32MW893_3,  P04E,   177,  1,     18,     18,2,19890429,1603,  9.5017,-114.4983, 4027,    197.3,  11.4671,  34.7650,2,  34.7512,2,   -999.0,5,     15.6,2,    29.05,2,    33.43,2,     0.01,2,     2.35,2,    0.126,2,    0.085,2, -999.000,9,-999.0000,9,  -999.00,9,-999.000,9,   -999,-999.0000,-999.000,-999.000, 11.4423,-999.000
     32MW893_3,  P04E,   177,  1,     17,     17,2,19890429,1603,  9.5017,-114.4983, 4027,    248.0,  11.0104,  34.7500,2,  34.7370,2,   -999.0,5,     12.2,2,    30.13,2,    33.92,2,     0.01,2,     2.41,2,    0.086,2,    0.061,2, -999.000,9,-999.0000,9,  -999.00,9,-999.000,9,   -999,-999.0000,-999.000,-999.000, 10.9798,-999.000
     32MW893_3,  P04E,   177,  1,     16,     16,2,19890429,1603,  9.5017,-114.4983, 4027,    296.5,  10.4355,  34.7215,2,  34.7182,2,   -999.0,5,      6.5,2,    33.68,2,    34.40,2,    -0.01,2,     2.53,2,    0.042,2, -999.000,5, -999.000,9,-999.0000,9,  -999.00,9,-999.000,9,   -999,-999.0000,-999.000,-999.000, 10.4001,-999.000
     32MW893_3,  P04E,   177,  1,     15,     15,2,19890429,1603,  9.5017,-114.4983, 4027,    396.3,   9.3019,  34.6591,2,  34.6465,2,   -999.0,5,      4.3,2,    41.66,2,    34.80,2,    -0.01,2,     2.73,2,    0.010,2,    0.018,2, -999.000,9,-999.0000,9,  -999.00,9,-999.000,9,   -999,-999.0000,-999.000,-999.000,  9.2577,-999.000
     32MW893_3,  P04E,   177,  1,     14,     14,2,19890429,1603,  9.5017,-114.4983, 4027,    496.6,   8.1873,  34.5829,2,  34.5958,2,   -999.0,5,      3.5,2,    52.30,2,    35.58,2,    -0.01,2,     2.91,2, -999.000,9, -999.000,9, -999.000,9,-999.0000,9,  -999.00,9,-999.000,9,   -999,-999.0000,-999.000,-999.000,  8.1357,-999.000
     32MW893_3,  P04E,   177,  1,     13,     13,2,19890429,1603,  9.5017,-114.4983, 4027,    597.5,   7.0277,  34.5779,2,  34.5685,2,   -999.0,5,      3.9,2,    63.72,2,    39.30,2,    -0.01,2,     3.08,2,    0.003,2, -999.000,5, -999.000,9,-999.0000,9,  -999.00,9,-999.000,9,   -999,-999.0000,-999.000,-999.000,  6.9704,-999.000
     32MW893_3,  P04E,   177,  1,     12,     12,2,19890429,1603,  9.5017,-114.4983, 4027,    697.4,   6.1680,  34.5683,2,  34.5510,2,   -999.0,5,      3.9,2,    73.86,2,    42.03,2,    -0.01,2,     3.19,2,    0.002,6,    0.010,2, -999.000,9,-999.0000,9,  -999.00,9,-999.000,9,   -999,-999.0000,-999.000,-999.000,  6.1051,-999.000
     32MW893_3,  P04E,   177,  1,     11,     11,2,19890429,1603,  9.5017,-114.4983, 4027,    797.2,   5.5563,  34.5549,2,  34.5537,2,   -999.0,5,     10.9,2,    81.06,2,    43.99,2,     0.00,2,     3.21,2, -999.000,9, -999.000,9, -999.000,9,-999.0000,9,  -999.00,9,-999.000,9,   -999,-999.0000,-999.000,-999.000,  5.4876,-999.000
     32MW893_3,  P04E,   177,  1,     10,     10,2,19890429,1603,  9.5017,-114.4983, 4027,    996.3,   4.5147,  34.5750,2,  34.5606,2,   -999.0,5,     32.2,2,    96.81,2,    43.89,2,     0.00,2,     3.15,2, -999.000,9, -999.000,9, -999.000,9,-999.0000,9,  -999.00,9,-999.000,9,   -999,-999.0000,-999.000,-999.000,  4.4353,-999.000
     32MW893_3,  P04E,   177,  1,      9,      9,2,19890429,1603,  9.5017,-114.4983, 4027,   1247.0,   3.7390,  34.5967,2,  34.5857,2,   -999.0,5,     50.8,2,   113.45,2,    42.81,2,     0.00,2,     3.07,2, -999.000,9, -999.000,9, -999.000,9,-999.0000,9,  -999.00,9,-999.000,9,   -999,-999.0000,-999.000,-999.000,  3.6446,-999.000
     32MW893_3,  P04E,   177,  1,      8,      8,2,19890429,1603,  9.5017,-114.4983, 4027,   1500.0,   3.1053,  34.6140,2,  34.6044,2,   -999.0,5,     71.3,2,   126.06,2,    41.54,2,     0.00,2,     2.94,2,   -0.001,2,    0.007,2, -999.000,9,-999.0000,9,  -999.00,9,-999.000,9,   -999,-999.0000,-999.000,-999.000,  2.9962,-999.000
     32MW893_3,  P04E,   177,  1,      7,      7,2,19890429,1603,  9.5017,-114.4983, 4027,   1623.5,   2.8433,  34.6236,2,  34.6121,2,   -999.0,5,     79.5,2,   131.37,2,    40.96,2,     0.00,2,     2.89,2, -999.000,9, -999.000,9, -999.000,9,-999.0000,9,  -999.00,9,-999.000,9,   -999,-999.0000,-999.000,-999.000,  2.7269,-999.000
     32MW893_3,  P04E,   177,  1,      6,      6,2,19890429,1603,  9.5017,-114.4983, 4027,   1747.8,   2.5845,  34.6369,2,  34.6254,2,   -999.0,5,     84.7,2,   138.36,2,    40.86,2,     0.00,2,     2.88,2, -999.000,9, -999.000,9, -999.000,9,-999.0000,9,  -999.00,9,-999.000,9,   -999,-999.0000,-999.000,-999.000,  2.4609,-999.000
     32MW893_3,  P04E,   177,  1,      5,      5,2,19890429,1603,  9.5017,-114.4983, 4027,   2250.4,   1.9537,  34.6635,2,  34.6598,2,   -999.0,5,    106.9,2,   153.43,2,    39.10,2,     0.00,2,     2.74,2, -999.000,9, -999.000,9, -999.000,9,-999.0000,9,  -999.00,9,-999.000,9,   -999,-999.0000,-999.000,-999.000,  1.7965,-999.000
     32MW893_3,  P04E,   177,  1,      4,      4,2,19890429,1603,  9.5017,-114.4983, 4027,   2751.3,   1.8148,  34.6816,2,-999.0000,5,   -999.0,5,    115.6,2,   156.98,2,    38.51,2,     0.00,2,     2.66,2,   -0.003,6, -999.000,5, -999.000,9,-999.0000,9,  -999.00,9,-999.000,9,   -999,-999.0000,-999.000,-999.000,  1.6148,-999.000
     32MW893_3,  P04E,   177,  1,      3,      3,2,19890429,1603,  9.5017,-114.4983, 4027,   3252.1,   1.6138,  34.6908,2,  34.6822,2,   -999.0,5,    133.4,2,   155.99,2,    37.63,2,     0.00,2,     2.58,2, -999.000,9, -999.000,9, -999.000,9,-999.0000,9,  -999.00,9,-999.000,9,   -999,-999.0000,-999.000,-999.000,  1.3699,-999.000
     32MW893_3,  P04E,   177,  1,      2,      2,2,19890429,1603,  9.5017,-114.4983, 4027,   3754.5,   1.5639,  34.6856,2,  34.6840,2,   -999.0,5,    142.5,2,   154.31,2,    37.14,2,     0.00,2,     2.53,2, -999.000,9, -999.000,9, -999.000,9,-999.0000,9,  -999.00,9,-999.000,9,   -999,-999.0000,-999.000,-999.000,  1.2696,-999.000
     32MW893_3,  P04E,   177,  1,      1,      1,2,19890429,1603,  9.5017,-114.4983, 4027,   4077.9,   1.5848,  34.6872,2,  34.6842,2,   -999.0,5,   -999.0,5,   153.13,2,    37.04,2,     0.00,2,     2.52,2,   -0.002,2,   -0.002,2, -999.000,9,-999.0000,9,  -999.00,9,-999.000,9,   -999,-999.0000,-999.000,-999.000,  1.2550,-999.000