BOTTLE,20020418WHPSIOdm
EXPOCODE,SECT_ID,STNNBR,CASTNO,SAMPNO,BTLNBR,BTLNBR_FLAG_W,DATE,TIME,LATITUDE,LONGITUDE,DEPTH,CTDPRS,CTDTMP,CTDSAL,CTDSAL_FLAG_W,SALNTY,SALNTY_FLAG_W,CTDOXY,CTDOXY_FLAG_W,OXYGEN,OXYGEN_FLAG_W,SILCAT,SILCAT_FLAG_W,NITRAT,NITRAT_FLAG_W,NITRIT,NITRIT_FLAG_W,PHSPHT,PHSPHT_FLAG_W,CFC-11,CFC-11_FLAG_W,CFC-12,CFC-12_FLAG_W,TRITUM,TRITUM_FLAG_W,HELIUM,HELIUM_FLAG_W,DELHE3,DELHE3_FLAG_W,NEON,NEON_FLAG_W,CTDRAW,HELIER,DELHER,NEONER,THETA,TRITER
,,,,,,,,,,,,DBAR,ITS-90,PSS-78,,PSS-78,,UMOL/KG,,UMOL/KG,,UMOL/KG,,UMOL/KG,,UMOL/KG,,UMOL/KG,,PMOL/KG,,PMOL/KG,,TU,,NMOL/KG,,PERCNT,,NMOL/KG,,,NMOL/KG,PERCNT,NMOL/KG,ITS-90,TU
     32MW893_3,  P04E,   152,  1,     24,     24,2,19890421,0240,  9.4933,-135.3333, 4842,      6.7,  25.9273,  34.5575,2,  34.5600,2,   -999.0,5,    216.0,2,     0.99,2,     0.20,2,     0.00,2,     0.29,2,    1.763,2,    0.971,2,    1.864,2,   1.8900,2,    -1.18,2,   7.293,2,   -999,  0.0090,   0.150,   0.044, 25.9258,   0.024
     32MW893_3,  P04E,   152,  1,     23,     23,2,19890421,0240,  9.4933,-135.3333, 4842,     47.8,  23.6957,  34.7871,2,  34.5736,2,   -999.0,5,    212.1,2,     1.19,2,     0.39,2,     0.01,2,     0.33,2,    1.795,2,    0.982,2,    1.847,2,   1.8820,2,    -1.15,2,   7.343,2,   -999,  0.0080,   0.150,   0.044, 23.6858,   0.023
     32MW893_3,  P04E,   152,  1,     22,     22,2,19890421,0240,  9.4933,-135.3333, 4842,     97.1,  12.8157,  34.7138,2,  34.6801,2,   -999.0,5,     26.1,2,    23.52,2,    31.38,2,     0.15,2,     2.27,2,    0.386,2,    0.209,2,    1.092,2,   1.9500,2,     9.09,2,   8.107,2,   -999,  0.0090,   0.150,   0.049, 12.8026,   0.022
     32MW893_3,  P04E,   152,  1,     21,     21,2,19890421,0240,  9.4933,-135.3333, 4842,    120.9,  12.2140,  34.7507,2,  34.7439,2,   -999.0,5,     15.2,2,    25.79,2,    33.52,2,     0.02,2,     2.35,2,    0.219,2,    0.136,2,    0.664,2,-999.0000,9,  -999.00,9,-999.000,9,   -999,-999.0000,-999.000,-999.000, 12.1981,   0.005
     32MW893_3,  P04E,   152,  1,     20,     20,2,19890421,0240,  9.4933,-135.3333, 4842,    146.7,  11.8281,  34.7506,2,  34.7479,2,   -999.0,5,     15.2,2,    26.79,2,    33.82,2,     0.00,2,     2.38,2,    0.162,2, -999.000,5,    0.498,2,   1.9560,2,     7.43,2,   7.958,2,   -999,  0.0090,   0.150,   0.048, 11.8092,   0.005
     32MW893_3,  P04E,   152,  1,     19,     19,2,19890421,0240,  9.4933,-135.3333, 4842,    171.7,  11.3212,  34.7410,2,  34.7445,2,   -999.0,5,     20.0,2,    28.18,2,    33.91,2,     0.00,2,     2.38,2,    0.124,2,    0.082,2,    0.412,2,   1.9600,2,     6.68,2,   8.090,2,   -999,  0.0090,   0.150,   0.049, 11.2997,   0.006
     32MW893_3,  P04E,   152,  1,     18,     18,2,19890421,0240,  9.4933,-135.3333, 4842,    196.9,  10.9354,  34.7335,2,  34.7325,2,   -999.0,5,     19.6,2,    29.36,2,    34.40,2,     0.00,2,     2.39,2,    0.095,2, -999.000,5,    0.324,2,   1.9760,2,     6.20,2,   8.083,2,   -999,  0.0090,   0.150,   0.048, 10.9113,   0.005
     32MW893_3,  P04E,   152,  1,     17,     17,2,19890421,0240,  9.4933,-135.3333, 4842,    247.3,  10.4795,  34.7256,2,  34.7156,2,   -999.0,5,     23.5,2,    31.05,2,    34.89,2,     0.00,2,     2.43,2,    0.073,2, -999.000,5,    0.223,2,   1.9730,2,     5.84,2,   8.119,2,   -999,  0.0090,   0.150,   0.049, 10.4500,   0.005
     32MW893_3,  P04E,   152,  1,     16,     16,2,19890421,0240,  9.4933,-135.3333, 4842,    297.9,  10.0917,  34.7047,2,  34.7034,2,   -999.0,5,     12.6,2,    33.44,2,    36.36,2,     0.00,2,     2.56,2,    0.036,2,    0.033,2,    0.156,2,   1.9730,2,     5.20,2,   8.165,2,   -999,  0.0090,   0.150,   0.049, 10.0569,   0.005
     32MW893_3,  P04E,   152,  1,     15,     15,2,19890421,0240,  9.4933,-135.3333, 4842,    397.9,   9.2180,  34.6571,2,  34.6578,2,   -999.0,5,      8.3,2,    40.08,2,    37.63,2,     0.00,2,     2.78,2,    0.007,2,    0.012,2,    0.038,2,   1.9750,2,     5.23,2,   8.067,2,   -999,  0.0090,   0.150,   0.048,  9.1738,   0.004
     32MW893_3,  P04E,   152,  1,     14,     14,2,19890421,0240,  9.4933,-135.3333, 4842,    496.5,   8.1763,  34.5947,2,  34.6015,2,   -999.0,5,      7.0,2,    49.51,2,    38.41,2,     0.00,2,     2.95,2,   -0.002,2,    0.011,2,    0.011,2,   1.9920,2,     6.53,2,   8.120,2,   -999,  0.0090,   0.150,   0.049,  8.1248,   0.005
     32MW893_3,  P04E,   152,  1,     13,     13,2,19890421,0240,  9.4933,-135.3333, 4842,    597.7,   7.0647,  34.5458,2,  34.5472,2,   -999.0,5,     12.2,2,    61.02,2,    40.66,2,     0.00,2,     3.05,2,    0.002,2,    0.010,2,    0.010,2,   2.0120,2,     8.88,2,   8.346,2,   -999,  0.0090,   0.150,   0.050,  7.0072,   0.004
     32MW893_3,  P04E,   152,  1,     12,     12,2,19890421,0240,  9.4933,-135.3333, 4842,    697.2,   6.0770,  34.5317,2,  34.5251,2,   -999.0,5,     17.8,2,    73.23,2,    42.72,2,     0.00,2,     3.14,2,    0.004,2,    0.015,2, -999.000,9,-999.0000,9,  -999.00,9,-999.000,9,   -999,-999.0000,-999.000,-999.000,  6.0148,-999.000
     32MW893_3,  P04E,   152,  1,     11,     11,2,19890421,0240,  9.4933,-135.3333, 4842,    798.1,   5.4083,  34.5366,2,  34.5368,2,   -999.0,5,     22.2,2,    81.65,2,    44.09,2,    -0.01,2,     3.21,2,    0.002,2,    0.010,2, -999.000,9,-999.0000,9,  -999.00,9,-999.000,9,   -999,-999.0000,-999.000,-999.000,  5.3404,-999.000
     32MW893_3,  P04E,   152,  1,     10,     10,2,19890421,0240,  9.4933,-135.3333, 4842,    997.8,   4.4927,  34.5547,2,  34.5628,2,   -999.0,5,     38.7,2,    97.53,2,    44.18,2,    -0.01,2,     3.16,2,    0.008,2,   -0.001,2, -999.000,9,-999.0000,9,  -999.00,9,-999.000,9,   -999,-999.0000,-999.000,-999.000,  4.4133,-999.000
     32MW893_3,  P04E,   152,  1,      9,      9,2,19890421,0240,  9.4933,-135.3333, 4842,   1246.8,   3.6800,  34.5792,2,  34.5781,2,   -999.0,5,     60.4,2,   113.60,2,    42.81,2,    -0.01,2,     3.08,2,    0.003,2,    0.006,2, -999.000,9,-999.0000,9,  -999.00,9,-999.000,9,   -999,-999.0000,-999.000,-999.000,  3.5862,-999.000
     32MW893_3,  P04E,   152,  1,      8,      8,2,19890421,0240,  9.4933,-135.3333, 4842,   1496.2,   3.0143,  34.6028,2,  34.6005,2,   -999.0,5,     75.6,2,   127.98,2,    41.84,2,     0.00,2,     2.97,2,    0.008,2,    0.003,2, -999.000,9,-999.0000,9,  -999.00,9,-999.000,9,   -999,-999.0000,-999.000,-999.000,  2.9065,-999.000
     32MW893_3,  P04E,   152,  1,      7,      7,2,19890421,0240,  9.4933,-135.3333, 4842,   1999.8,   2.0947,  34.6444,2,  34.6463,2,   -999.0,5,     98.6,2,   150.40,2,    40.47,2,     0.00,2,     2.83,2,    0.004,2,   -0.005,2, -999.000,9,-999.0000,9,  -999.00,9,-999.000,9,   -999,-999.0000,-999.000,-999.000,  1.9568,-999.000
     32MW893_3,  P04E,   152,  1,      6,      6,2,19890421,0240,  9.4933,-135.3333, 4842,   2501.0,   1.8168,  34.6666,2,  34.6669,2,   -999.0,5,    114.7,2,   155.36,2,    39.39,2,     0.00,2,     2.73,2,   -0.001,2,   -0.005,2, -999.000,9,-999.0000,9,  -999.00,9,-999.000,9,   -999,-999.0000,-999.000,-999.000,  1.6397,-999.000
     32MW893_3,  P04E,   152,  1,      5,      5,2,19890421,0240,  9.4933,-135.3333, 4842,   3000.7,   1.6388,  34.6757,2,  34.6759,2,   -999.0,5,    127.7,2,   158.54,2,    38.51,2,     0.00,2,     2.66,2, -999.000,5,    0.001,2, -999.000,9,-999.0000,9,  -999.00,9,-999.000,9,   -999,-999.0000,-999.000,-999.000,  1.4189,-999.000
     32MW893_3,  P04E,   152,  1,      4,      4,2,19890421,0240,  9.4933,-135.3333, 4842,   3503.3,   1.4889,  34.6852,2,  34.6830,2,   -999.0,5,    144.3,2,   155.96,2,    37.63,2,     0.00,2,     2.57,2,    0.003,2,    0.001,2, -999.000,9,-999.0000,9,  -999.00,9,-999.000,9,   -999,-999.0000,-999.000,-999.000,  1.2227,-999.000
     32MW893_3,  P04E,   152,  1,      3,      3,2,19890421,0240,  9.4933,-135.3333, 4842,   4004.9,   1.4020,  34.6919,2,  34.6893,2,   -999.0,5,    161.6,2,   146.73,2,    36.36,2,     0.00,2,     2.47,2,    0.000,2,   -0.003,2, -999.000,9,-999.0000,9,  -999.00,9,-999.000,9,   -999,-999.0000,-999.000,-999.000,  1.0852,-999.000
     32MW893_3,  P04E,   152,  1,      2,      2,2,19890421,0240,  9.4933,-135.3333, 4842,   4506.3,   1.4110,  34.6936,2,  34.6936,2,   -999.0,5,    166.8,2,   142.76,2,    35.87,2,     0.00,2,     2.44,2,   -0.003,2,    0.006,2, -999.000,9,-999.0000,9,  -999.00,9,-999.000,9,   -999,-999.0000,-999.000,-999.000,  1.0380,-999.000
     32MW893_3,  P04E,   152,  1,      1,      1,2,19890421,0240,  9.4933,-135.3333, 4842,   4917.6,   1.4520,  34.6951,2,  34.6932,2,   -999.0,5,    168.1,2,   142.16,2,    35.87,2,     0.00,2,     2.44,2,    0.000,2, -999.000,5, -999.000,9,-999.0000,9,  -999.00,9,-999.000,9,   -999,-999.0000,-999.000,-999.000,  1.0293,-999.000
     32MW893_3,  P04E,   153,  1,     24,     24,2,19890421,1128,  9.4967,-134.5017, 4782,      7.5,  25.9853,  34.5008,2,  34.5015,2,   -999.0,5,    210.3,2,     1.69,2,     0.20,2,     0.00,2,     0.26,2,    1.737,2,    0.928,2, -999.000,9,-999.0000,9,  -999.00,9,-999.000,9,   -999,-999.0000,-999.000,-999.000, 25.9836,-999.000
     32MW893_3,  P04E,   153,  1,     23,     23,2,19890421,1128,  9.4967,-134.5017, 4782,     45.3,  15.3019,  34.5748,2,  34.5783,2,   -999.0,5,     36.5,2,    18.65,2,    27.37,2,     0.31,2,     2.08,2,    0.707,2,    0.369,2, -999.000,9,-999.0000,9,  -999.00,9,-999.000,9,   -999,-999.0000,-999.000,-999.000, 15.2950,-999.000
     32MW893_3,  P04E,   153,  1,     22,     22,2,19890421,1128,  9.4967,-134.5017, 4782,     96.2,  12.3009,  34.7419,2,  34.7656,2,   -999.0,5,     11.7,2,    26.29,2,    33.91,2,     0.02,2,     2.33,2,    0.198,2,    0.130,2, -999.000,9,-999.0000,9,  -999.00,9,-999.000,9,   -999,-999.0000,-999.000,-999.000, 12.2882,-999.000
     32MW893_3,  P04E,   153,  1,     21,     21,2,19890421,1128,  9.4967,-134.5017, 4782,    123.2,  11.6841,  34.7656,2,  34.7628,2,   -999.0,5,     19.1,2,    27.38,2,    33.82,2,     0.00,2,     2.32,2,    0.169,2, -999.000,5, -999.000,9,-999.0000,9,  -999.00,9,-999.000,9,   -999,-999.0000,-999.000,-999.000, 11.6684,-999.000
     32MW893_3,  P04E,   153,  1,     20,     20,2,19890421,1128,  9.4967,-134.5017, 4782,    145.4,  11.3782,  34.7457,2,  34.7518,2,   -999.0,5,     20.4,2,    28.54,2,    33.91,2,    -0.01,2,     2.33,2,    0.135,2,    0.090,2, -999.000,9,-999.0000,9,  -999.00,9,-999.000,9,   -999,-999.0000,-999.000,-999.000, 11.3600,-999.000
     32MW893_3,  P04E,   153,  1,     19,     19,2,19890421,1128,  9.4967,-134.5017, 4782,    196.8,  10.7324,  34.7261,2,  34.7235,2,   -999.0,5,     18.7,2,    31.05,2,    35.09,2,    -0.01,2,     2.43,2,    0.078,2, -999.000,5, -999.000,9,-999.0000,9,  -999.00,9,-999.000,9,   -999,-999.0000,-999.000,-999.000, 10.7086,-999.000
     32MW893_3,  P04E,   153,  1,     18,     18,2,19890421,1128,  9.4967,-134.5017, 4782,    247.4,  10.2975,  34.7094,2,  34.7058,2,   -999.0,5,     13.0,2,    32.94,2,    35.87,2,    -0.01,2,     2.47,2,    0.044,2, -999.000,5, -999.000,9,-999.0000,9,  -999.00,9,-999.000,9,   -999,-999.0000,-999.000,-999.000, 10.2683,-999.000
     32MW893_3,  P04E,   153,  1,     17,     17,2,19890421,1128,  9.4967,-134.5017, 4782,    298.2,   9.8647,  34.6837,2,  34.6901,2,   -999.0,5,      5.6,2,    35.71,2,    36.75,2,     0.00,2,     2.59,2,    0.018,2, -999.000,5, -999.000,9,-999.0000,9,  -999.00,9,-999.000,9,   -999,-999.0000,-999.000,-999.000,  9.8303,-999.000
     32MW893_3,  P04E,   153,  1,     16,     16,2,19890421,1128,  9.4967,-134.5017, 4782,    396.6,   8.9660,  34.6369,2,  34.6345,2,   -999.0,5,     10.4,2,    41.96,2,    37.83,2,     0.00,2,     2.73,2,    0.005,2,    0.007,2, -999.000,9,-999.0000,9,  -999.00,9,-999.000,9,   -999,-999.0000,-999.000,-999.000,  8.9228,-999.000
     32MW893_3,  P04E,   153,  1,     15,     15,2,19890421,1128,  9.4967,-134.5017, 4782,    496.5,   7.6875,  34.5772,2,  34.5753,2,   -999.0,5,     19.1,2,    54.08,2,    39.39,2,     0.00,2,     2.96,2,    0.001,2, -999.000,5, -999.000,9,-999.0000,9,  -999.00,9,-999.000,9,   -999,-999.0000,-999.000,-999.000,  7.6377,-999.000
     32MW893_3,  P04E,   153,  1,     13,     13,2,19890421,1128,  9.4967,-134.5017, 4782,    698.5,   5.8792,  34.5414,2,  34.5478,2,   -999.0,5,     20.4,2,    72.82,2,    43.89,2,     0.00,2,     3.10,2,    0.001,2, -999.000,5, -999.000,9,-999.0000,9,  -999.00,9,-999.000,9,   -999,-999.0000,-999.000,-999.000,  5.8178,-999.000
     32MW893_3,  P04E,   153,  1,     12,     12,2,19890421,1128,  9.4967,-134.5017, 4782,    796.2,   5.3314,  34.5449,2,  34.5449,2,   -999.0,5,     27.4,2,    81.46,2,    44.09,2,     0.00,2,     3.13,2,    0.000,2, -999.000,5, -999.000,9,-999.0000,9,  -999.00,9,-999.000,9,   -999,-999.0000,-999.000,-999.000,  5.2642,-999.000
     32MW893_3,  P04E,   153,  1,     11,     11,2,19890421,1128,  9.4967,-134.5017, 4782,    997.2,   4.4927,  34.5599,2,  34.5551,2,   -999.0,5,     48.2,2,    96.54,2,    43.30,2,     0.00,2,     3.06,2,   -0.002,2,    0.002,2, -999.000,9,-999.0000,9,  -999.00,9,-999.000,9,   -999,-999.0000,-999.000,-999.000,  4.4134,-999.000
     32MW893_3,  P04E,   153,  1,     10,     10,2,19890421,1128,  9.4967,-134.5017, 4782,   1399.4,   3.3052,  34.5902,2,  34.5903,2,   -999.0,5,     70.4,2,   122.14,2,    42.23,2,     0.00,2,     2.94,2,    0.002,2,    0.015,2, -999.000,9,-999.0000,9,  -999.00,9,-999.000,9,   -999,-999.0000,-999.000,-999.000,  3.2023,-999.000
     32MW893_3,  P04E,   153,  1,      9,      9,2,19890421,1128,  9.4967,-134.5017, 4782,   1798.7,   2.4625,  34.6278,2,  34.6268,2,   -999.0,5,     84.7,2,   143.06,2,    41.54,2,     0.00,2,     2.87,2,    0.002,2,    0.006,2, -999.000,9,-999.0000,9,  -999.00,9,-999.000,9,   -999,-999.0000,-999.000,-999.000,  2.3363,-999.000
     32MW893_3,  P04E,   153,  1,      8,      8,2,19890421,1128,  9.4967,-134.5017, 4782,   2201.6,   2.0037,  34.6554,2,  34.6531,2,   -999.0,5,    103.4,2,   153.38,2,    40.27,2,     0.00,2,     2.78,2, -999.000,9, -999.000,9, -999.000,9,-999.0000,9,  -999.00,9,-999.000,9,   -999,-999.0000,-999.000,-999.000,  1.8500,-999.000
     32MW893_3,  P04E,   153,  1,      7,      7,2,19890421,1128,  9.4967,-134.5017, 4782,   2602.1,   1.8268,  34.6672,2,  34.6673,2,   -999.0,5,    112.5,2,   157.04,2,    39.49,2,     0.00,2,     2.73,2,   -0.001,2,    0.004,2, -999.000,9,-999.0000,9,  -999.00,9,-999.000,9,   -999,-999.0000,-999.000,-999.000,  1.6404,-999.000
     32MW893_3,  P04E,   153,  1,      6,      6,2,19890421,1128,  9.4967,-134.5017, 4782,   3001.7,   1.6738,  34.6750,2,  34.6751,2,   -999.0,5,    126.0,2,   158.54,2,    38.80,2,     0.00,2,     2.65,2, -999.000,9, -999.000,9, -999.000,9,-999.0000,9,  -999.00,9,-999.000,9,   -999,-999.0000,-999.000,-999.000,  1.4531,-999.000
     32MW893_3,  P04E,   153,  1,      5,      5,2,19890421,1128,  9.4967,-134.5017, 4782,   3404.0,   1.5389,  34.6813,2,  34.6802,2,   -999.0,5,    142.5,2,   159.23,2,    38.02,2,     0.00,2,     2.60,2, -999.000,5,    0.001,2, -999.000,9,-999.0000,9,  -999.00,9,-999.000,9,   -999,-999.0000,-999.000,-999.000,  1.2816,-999.000
     32MW893_3,  P04E,   153,  1,      4,      4,2,19890421,1128,  9.4967,-134.5017, 4782,   3804.4,   1.4170,  34.6884,2,  34.6897,2,   -999.0,5,    156.4,2,   151.20,2,    36.75,2,     0.00,2,     2.51,2, -999.000,9, -999.000,9, -999.000,9,-999.0000,9,  -999.00,9,-999.000,9,   -999,-999.0000,-999.000,-999.000,  1.1213,-999.000
     32MW893_3,  P04E,   153,  1,      3,      3,2,19890421,1128,  9.4967,-134.5017, 4782,   4204.1,   1.3990,  34.6913,2,  34.6924,2,   -999.0,5,    163.8,2,   145.34,2,    36.16,2,     0.00,2,     2.47,2,    0.000,2,   -0.003,2, -999.000,9,-999.0000,9,  -999.00,9,-999.000,9,   -999,-999.0000,-999.000,-999.000,  1.0604,-999.000
     32MW893_3,  P04E,   153,  1,      2,      2,2,19890421,1128,  9.4967,-134.5017, 4782,   4606.6,   1.4300,  34.6931,2,  34.6940,2,   -999.0,5,    166.8,2,   144.34,2,    36.07,2,     0.00,2,     2.42,2,   -0.003,2,   -0.003,2, -999.000,9,-999.0000,9,  -999.00,9,-999.000,9,   -999,-999.0000,-999.000,-999.000,  1.0447,-999.000
     32MW893_3,  P04E,   153,  1,      1,      1,2,19890421,1128,  9.4967,-134.5017, 4782,   4839.6,   1.4560,  34.6925,2,  34.6944,2,   -999.0,5,    166.0,2,   143.86,2,    36.07,2,     0.00,2,     2.44,2,   -0.001,2,    0.009,3, -999.000,9,-999.0000,9,  -999.00,9,-999.000,9,   -999,-999.0000,-999.000,-999.000,  1.0424,-999.000