BOTTLE,20020418WHPSIOdm
EXPOCODE,SECT_ID,STNNBR,CASTNO,SAMPNO,BTLNBR,BTLNBR_FLAG_W,DATE,TIME,LATITUDE,LONGITUDE,DEPTH,CTDPRS,CTDTMP,CTDSAL,CTDSAL_FLAG_W,SALNTY,SALNTY_FLAG_W,CTDOXY,CTDOXY_FLAG_W,OXYGEN,OXYGEN_FLAG_W,SILCAT,SILCAT_FLAG_W,NITRAT,NITRAT_FLAG_W,NITRIT,NITRIT_FLAG_W,PHSPHT,PHSPHT_FLAG_W,CFC-11,CFC-11_FLAG_W,CFC-12,CFC-12_FLAG_W,TRITUM,TRITUM_FLAG_W,HELIUM,HELIUM_FLAG_W,DELHE3,DELHE3_FLAG_W,NEON,NEON_FLAG_W,CTDRAW,HELIER,DELHER,NEONER,THETA,TRITER
,,,,,,,,,,,,DBAR,ITS-90,PSS-78,,PSS-78,,UMOL/KG,,UMOL/KG,,UMOL/KG,,UMOL/KG,,UMOL/KG,,UMOL/KG,,PMOL/KG,,PMOL/KG,,TU,,NMOL/KG,,PERCNT,,NMOL/KG,,,NMOL/KG,PERCNT,NMOL/KG,ITS-90,TU
     32MW893_3,  P04E,   217,  1,     24,     24,2,19890510,0530,  9.6200, -86.2617, 3956,      9.7,  24.3277,  34.2425,2,  34.2221,2,   -999.0,5,    193.9,2,  -999.00,5,  -999.00,5,  -999.00,5,  -999.00,5, -999.000,9, -999.000,9, -999.000,9,-999.0000,9,  -999.00,9,-999.000,9,   -999,-999.0000,-999.000,-999.000, 24.3256,-999.000
     32MW893_3,  P04E,   217,  1,     23,     23,2,19890510,0530,  9.6200, -86.2617, 3956,     48.7,  15.6289,  34.8320,2,  34.8456,2,   -999.0,5,     36.1,2,  -999.00,5,  -999.00,5,  -999.00,5,  -999.00,5, -999.000,9, -999.000,9, -999.000,9,-999.0000,9,  -999.00,9,-999.000,9,   -999,-999.0000,-999.000,-999.000, 15.6214,-999.000
     32MW893_3,  P04E,   217,  1,     22,     22,2,19890510,0530,  9.6200, -86.2617, 3956,     75.6,  14.7703,  34.8902,2,  34.8883,2,   -999.0,5,     17.8,2,  -999.00,5,  -999.00,5,  -999.00,5,  -999.00,5, -999.000,9, -999.000,9, -999.000,9,-999.0000,9,  -999.00,9,-999.000,9,   -999,-999.0000,-999.000,-999.000, 14.7590,-999.000
     32MW893_3,  P04E,   217,  1,     21,     21,2,19890510,0530,  9.6200, -86.2617, 3956,     98.5,  14.2034,  34.9004,2,  34.9119,2,   -999.0,5,     20.4,2,  -999.00,5,  -999.00,5,  -999.00,5,  -999.00,5, -999.000,9, -999.000,9, -999.000,9,-999.0000,9,  -999.00,9,-999.000,9,   -999,-999.0000,-999.000,-999.000, 14.1891,-999.000
     32MW893_3,  P04E,   217,  1,     20,     20,2,19890510,0530,  9.6200, -86.2617, 3956,    122.4,  13.6726,  34.9044,2,  34.9014,2,   -999.0,5,     11.7,2,  -999.00,5,  -999.00,5,  -999.00,5,  -999.00,5, -999.000,9, -999.000,9, -999.000,9,-999.0000,9,  -999.00,9,-999.000,9,   -999,-999.0000,-999.000,-999.000, 13.6552,-999.000
     32MW893_3,  P04E,   217,  1,     19,     19,2,19890510,0530,  9.6200, -86.2617, 3956,    147.8,  13.3447,  34.8959,2,  34.8946,2,   -999.0,5,      9.6,2,  -999.00,5,  -999.00,5,  -999.00,5,  -999.00,5, -999.000,9, -999.000,9, -999.000,9,-999.0000,9,  -999.00,9,-999.000,9,   -999,-999.0000,-999.000,-999.000, 13.3241,-999.000
     32MW893_3,  P04E,   217,  1,     18,     18,2,19890510,0530,  9.6200, -86.2617, 3956,    173.5,  13.0679,  34.8881,2,  34.8841,2,   -999.0,5,      7.4,2,  -999.00,5,  -999.00,5,  -999.00,5,  -999.00,5, -999.000,9, -999.000,9, -999.000,9,-999.0000,9,  -999.00,9,-999.000,9,   -999,-999.0000,-999.000,-999.000, 13.0440,-999.000
     32MW893_3,  P04E,   217,  1,     17,     17,2,19890510,0530,  9.6200, -86.2617, 3956,    197.8,  12.7209,  34.8654,2,  34.8649,2,   -999.0,5,      6.1,2,  -999.00,5,  -999.00,5,  -999.00,5,  -999.00,5, -999.000,9, -999.000,9, -999.000,9,-999.0000,9,  -999.00,9,-999.000,9,   -999,-999.0000,-999.000,-999.000, 12.6942,-999.000
     32MW893_3,  P04E,   217,  1,     15,     15,2,19890510,0530,  9.6200, -86.2617, 3956,    298.9,  11.5784,  34.7818,2,  34.7834,2,   -999.0,5,      3.5,2,  -999.00,5,  -999.00,5,  -999.00,5,  -999.00,5, -999.000,9, -999.000,9, -999.000,9,-999.0000,9,  -999.00,9,-999.000,9,   -999,-999.0000,-999.000,-999.000, 11.5402,-999.000
     32MW893_3,  P04E,   217,  1,     14,     14,2,19890510,0530,  9.6200, -86.2617, 3956,    394.2,  10.5509,  34.7394,2,  34.7429,2,   -999.0,5,      2.2,2,  -999.00,5,  -999.00,5,  -999.00,5,  -999.00,5, -999.000,9, -999.000,9, -999.000,9,-999.0000,9,  -999.00,9,-999.000,9,   -999,-999.0000,-999.000,-999.000, 10.5033,-999.000
     32MW893_3,  P04E,   217,  1,     13,     13,2,19890510,0530,  9.6200, -86.2617, 3956,    496.4,   8.9197,  34.6629,2,  34.6610,2,   -999.0,5,      1.3,2,  -999.00,5,  -999.00,5,  -999.00,5,  -999.00,5, -999.000,9, -999.000,9, -999.000,9,-999.0000,9,  -999.00,9,-999.000,9,   -999,-999.0000,-999.000,-999.000,  8.8654,-999.000
     32MW893_3,  P04E,   217,  1,     12,     12,2,19890510,0530,  9.6200, -86.2617, 3956,    618.9,   7.3315,  34.6146,2,  34.6048,2,   -999.0,5,      2.2,2,  -999.00,5,  -999.00,5,  -999.00,5,  -999.00,5, -999.000,9, -999.000,9, -999.000,9,-999.0000,9,  -999.00,9,-999.000,9,   -999,-999.0000,-999.000,-999.000,  7.2707,-999.000
     32MW893_3,  P04E,   217,  1,     11,     11,2,19890510,0530,  9.6200, -86.2617, 3956,    793.7,   5.5207,  34.5675,2,  34.5690,2,   -999.0,5,      6.5,2,  -999.00,5,  -999.00,5,  -999.00,5,  -999.00,5, -999.000,9, -999.000,9, -999.000,9,-999.0000,9,  -999.00,9,-999.000,9,   -999,-999.0000,-999.000,-999.000,  5.4525,-999.000
     32MW893_3,  P04E,   217,  1,     10,     10,2,19890510,0530,  9.6200, -86.2617, 3956,    989.7,   4.6543,  34.5747,2,  34.5744,2,   -999.0,5,     24.3,2,  -999.00,5,  -999.00,5,  -999.00,5,  -999.00,5, -999.000,9, -999.000,9, -999.000,9,-999.0000,9,  -999.00,9,-999.000,9,   -999,-999.0000,-999.000,-999.000,  4.5744,-999.000
     32MW893_3,  P04E,   217,  1,      9,      9,2,19890510,0530,  9.6200, -86.2617, 3956,   1240.9,   3.8548,  34.5925,2,  34.5897,2,   -999.0,5,     42.6,2,  -999.00,5,  -999.00,5,  -999.00,5,  -999.00,5, -999.000,9, -999.000,9, -999.000,9,-999.0000,9,  -999.00,9,-999.000,9,   -999,-999.0000,-999.000,-999.000,  3.7599,-999.000
     32MW893_3,  P04E,   217,  1,      8,      8,2,19890510,0530,  9.6200, -86.2617, 3956,   1490.9,   3.1803,  34.6080,2,  34.6079,2,   -999.0,5,     56.9,2,  -999.00,5,  -999.00,5,  -999.00,5,  -999.00,5, -999.000,9, -999.000,9, -999.000,9,-999.0000,9,  -999.00,9,-999.000,9,   -999,-999.0000,-999.000,-999.000,  3.0712,-999.000
     32MW893_3,  P04E,   217,  1,      7,      7,2,19890510,0530,  9.6200, -86.2617, 3956,   1737.1,   2.7047,  34.6277,2,  34.6274,2,   -999.0,5,     75.6,2,  -999.00,5,  -999.00,5,  -999.00,5,  -999.00,5, -999.000,9, -999.000,9, -999.000,9,-999.0000,9,  -999.00,9,-999.000,9,   -999,-999.0000,-999.000,-999.000,  2.5804,-999.000
     32MW893_3,  P04E,   217,  1,      6,      6,2,19890510,0530,  9.6200, -86.2617, 3956,   1989.3,   2.3629,  34.6422,2,  34.6447,2,   -999.0,5,     88.6,2,  -999.00,5,  -999.00,5,  -999.00,5,  -999.00,5, -999.000,9, -999.000,9, -999.000,9,-999.0000,9,  -999.00,9,-999.000,9,   -999,-999.0000,-999.000,-999.000,  2.2219,-999.000
     32MW893_3,  P04E,   217,  1,      5,      5,2,19890510,0530,  9.6200, -86.2617, 3956,   2386.8,   1.8922,  34.6627,2,  34.6661,2,   -999.0,5,    105.2,2,  -999.00,5,  -999.00,5,  -999.00,5,  -999.00,5, -999.000,9, -999.000,9, -999.000,9,-999.0000,9,  -999.00,9,-999.000,9,   -999,-999.0000,-999.000,-999.000,  1.7241,-999.000
     32MW893_3,  P04E,   217,  1,      4,      4,2,19890510,0530,  9.6200, -86.2617, 3956,   2788.1,   1.8184,  34.6701,2,  34.6722,2,   -999.0,5,    111.7,2,  -999.00,5,  -999.00,5,  -999.00,5,  -999.00,5, -999.000,9, -999.000,9, -999.000,9,-999.0000,9,  -999.00,9,-999.000,9,   -999,-999.0000,-999.000,-999.000,  1.6148,-999.000
     32MW893_3,  P04E,   217,  1,      3,      3,2,19890510,0530,  9.6200, -86.2617, 3956,   3190.6,   1.8453,  34.6708,2,  34.6708,2,   -999.0,5,    112.5,2,  -999.00,5,  -999.00,5,  -999.00,5,  -999.00,5, -999.000,9, -999.000,9, -999.000,9,-999.0000,9,  -999.00,9,-999.000,9,   -999,-999.0000,-999.000,-999.000,  1.6021,-999.000
     32MW893_3,  P04E,   217,  1,      2,      2,2,19890510,0530,  9.6200, -86.2617, 3956,   3591.7,   1.8792,  34.6713,2,  34.6718,2,   -999.0,5,    113.8,2,  -999.00,5,  -999.00,5,  -999.00,5,  -999.00,5, -999.000,9, -999.000,9, -999.000,9,-999.0000,9,  -999.00,9,-999.000,9,   -999,-999.0000,-999.000,-999.000,  1.5940,-999.000
     32MW893_3,  P04E,   217,  1,      1,      1,2,19890510,0530,  9.6200, -86.2617, 3956,   3985.1,   1.9222,  34.6711,2,  34.6720,2,   -999.0,5,    113.0,2,  -999.00,5,  -999.00,5,  -999.00,5,  -999.00,5, -999.000,9, -999.000,9, -999.000,9,-999.0000,9,  -999.00,9,-999.000,9,   -999,-999.0000,-999.000,-999.000,  1.5932,-999.000
     32MW893_3,  P04E,   218,  1,     24,     24,2,19890510,0852,  9.6333, -86.1000, 3475,      9.6,  27.4219,  33.9190,2,  33.9493,2,   -999.0,5,    212.6,2,     3.45,2,     2.54,2,     0.04,2,     0.46,2,    1.437,2,    0.799,2, -999.000,9,-999.0000,9,  -999.00,9,-999.000,9,   -999,-999.0000,-999.000,-999.000, 27.4197,-999.000
     32MW893_3,  P04E,   218,  1,     23,     23,2,19890510,0852,  9.6333, -86.1000, 3475,     48.6,  15.2840,  34.8384,2,  34.8686,2,   -999.0,5,     58.6,2,    17.83,2,    26.00,2,     0.66,2,     1.89,2,    0.619,2,    0.367,2, -999.000,9,-999.0000,9,  -999.00,9,-999.000,9,   -999,-999.0000,-999.000,-999.000, 15.2766,-999.000
     32MW893_3,  P04E,   218,  1,     22,     22,2,19890510,0852,  9.6333, -86.1000, 3475,     74.5,  14.2664,  34.9005,2,  34.9001,2,   -999.0,5,     20.9,2,    20.78,2,    30.69,2,     0.09,2,     2.15,2,    0.450,2,    0.253,2, -999.000,9,-999.0000,9,  -999.00,9,-999.000,9,   -999,-999.0000,-999.000,-999.000, 14.2555,-999.000
     32MW893_3,  P04E,   218,  1,     21,     21,2,19890510,0852,  9.6333, -86.1000, 3475,     99.1,  13.9255,  34.8580,2,  34.8991,2,   -999.0,5,     14.3,2,    22.84,2,    31.08,2,     0.00,2,     2.23,2,    0.396,2,    0.223,2, -999.000,9,-999.0000,9,  -999.00,9,-999.000,9,   -999,-999.0000,-999.000,-999.000, 13.9113,-999.000
     32MW893_3,  P04E,   218,  1,     20,     20,2,19890510,0852,  9.6333, -86.1000, 3475,    123.9,  13.3067,  34.8869,2,  34.8949,2,   -999.0,5,      9.1,2,    24.12,2,    32.15,2,     0.00,2,     2.29,2,    0.309,2,    0.175,2, -999.000,9,-999.0000,9,  -999.00,9,-999.000,9,   -999,-999.0000,-999.000,-999.000, 13.2895,-999.000
     32MW893_3,  P04E,   218,  1,     19,     19,2,19890510,0852,  9.6333, -86.1000, 3475,    149.4,  13.0279,  34.8846,2,  34.8810,2,   -999.0,5,      8.3,2,    24.81,2,    32.45,2,    -0.01,2,     2.32,2,    0.283,2,    0.158,2, -999.000,9,-999.0000,9,  -999.00,9,-999.000,9,   -999,-999.0000,-999.000,-999.000, 13.0074,-999.000
     32MW893_3,  P04E,   218,  1,     18,     18,2,19890510,0852,  9.6333, -86.1000, 3475,    173.3,  12.6380,  34.8470,2,  34.8503,2,   -999.0,5,     15.2,2,    25.40,2,    32.45,2,     0.01,2,     2.29,2, -999.000,9, -999.000,9, -999.000,9,-999.0000,9,  -999.00,9,-999.000,9,   -999,-999.0000,-999.000,-999.000, 12.6147,-999.000
     32MW893_3,  P04E,   218,  1,     17,     17,2,19890510,0852,  9.6333, -86.1000, 3475,    198.6,  12.5110,  34.8528,2,  34.8499,2,   -999.0,5,      6.1,2,    26.78,2,    33.42,2,     0.04,2,     2.37,2,    0.212,2,    0.124,2, -999.000,9,-999.0000,9,  -999.00,9,-999.000,9,   -999,-999.0000,-999.000,-999.000, 12.4844,-999.000
     32MW893_3,  P04E,   218,  1,     16,     16,2,19890510,0852,  9.6333, -86.1000, 3475,    248.0,  11.9712,  34.8113,2,  34.8029,2,   -999.0,5,     15.2,2,    27.86,2,    33.23,2,     0.04,2,     2.34,2,    0.199,2,    0.113,2, -999.000,9,-999.0000,9,  -999.00,9,-999.000,9,   -999,-999.0000,-999.000,-999.000, 11.9389,-999.000
     32MW893_3,  P04E,   218,  1,     15,     15,2,19890510,0852,  9.6333, -86.1000, 3475,    297.2,  11.1186,  34.7156,2,  34.7663,2,   -999.0,5,      2.2,2,    32.89,2,    34.01,2,     0.05,2,     2.54,2, -999.000,9, -999.000,9, -999.000,9,-999.0000,9,  -999.00,9,-999.000,9,   -999,-999.0000,-999.000,-999.000, 11.0816,-999.000
     32MW893_3,  P04E,   218,  1,     14,     14,2,19890510,0852,  9.6333, -86.1000, 3475,    396.9,   9.8002,  34.7238,2,  34.7060,2,   -999.0,5,      0.9,2,    42.05,2,    33.52,2,     0.25,2,     2.76,2,    0.033,2,    0.028,2, -999.000,9,-999.0000,9,  -999.00,9,-999.000,9,   -999,-999.0000,-999.000,-999.000,  9.7545,-999.000
     32MW893_3,  P04E,   218,  1,     13,     13,2,19890510,0852,  9.6333, -86.1000, 3475,    494.8,   8.3110,  34.6389,2,  34.6396,2,   -999.0,5,      2.2,2,    53.96,2,    35.09,2,     0.00,2,     3.01,2, -999.000,9, -999.000,9, -999.000,9,-999.0000,9,  -999.00,9,-999.000,9,   -999,-999.0000,-999.000,-999.000,  8.2591,-999.000
     32MW893_3,  P04E,   218,  1,     12,     12,2,19890510,0852,  9.6333, -86.1000, 3475,    595.7,   7.2097,  34.6274,2,  34.5987,2,   -999.0,5,      2.6,2,    63.42,2,    39.49,2,     0.00,2,     3.15,2,    0.003,2,   -0.001,2, -999.000,9,-999.0000,9,  -999.00,9,-999.000,9,   -999,-999.0000,-999.000,-999.000,  7.1517,-999.000
     32MW893_3,  P04E,   218,  1,     11,     11,2,19890510,0852,  9.6333, -86.1000, 3475,    694.0,   6.3432,  34.5932,2,  34.5842,2,   -999.0,5,      6.1,2,    72.48,2,    42.42,2,     0.00,2,     3.21,2, -999.000,9, -999.000,9, -999.000,9,-999.0000,9,  -999.00,9,-999.000,9,   -999,-999.0000,-999.000,-999.000,  6.2797,-999.000
     32MW893_3,  P04E,   218,  1,     10,     10,2,19890510,0852,  9.6333, -86.1000, 3475,    794.6,   5.5457,  34.5722,2,  34.5720,2,   -999.0,5,     11.7,2,    83.81,2,    44.38,2,     0.00,2,     3.27,2, -999.000,9, -999.000,9, -999.000,9,-999.0000,9,  -999.00,9,-999.000,9,   -999,-999.0000,-999.000,-999.000,  5.4773,-999.000
     32MW893_3,  P04E,   218,  1,      9,      9,2,19890510,0852,  9.6333, -86.1000, 3475,    993.3,   4.6933,  34.5743,2,  34.5777,2,   -999.0,5,     28.2,2,    97.59,2,    44.38,2,     0.00,2,     3.24,2, -999.000,9, -999.000,9, -999.000,9,-999.0000,9,  -999.00,9,-999.000,9,   -999,-999.0000,-999.000,-999.000,  4.6128,-999.000
     32MW893_3,  P04E,   218,  1,      8,      8,2,19890510,0852,  9.6333, -86.1000, 3475,   1241.6,   3.8738,  34.5900,2,  34.5895,2,   -999.0,5,     42.6,2,   113.45,2,    43.69,2,     0.00,2,     3.17,2, -999.000,9, -999.000,9, -999.000,9,-999.0000,9,  -999.00,9,-999.000,9,   -999,-999.0000,-999.000,-999.000,  3.7786,-999.000
     32MW893_3,  P04E,   218,  1,      7,      7,2,19890510,0852,  9.6333, -86.1000, 3475,   1490.5,   3.1693,  34.6114,2,  34.6111,2,   -999.0,5,     59.5,2,   129.51,2,    42.62,2,     0.00,2,     3.09,2, -999.000,9, -999.000,9, -999.000,9,-999.0000,9,  -999.00,9,-999.000,9,   -999,-999.0000,-999.000,-999.000,  3.0603,-999.000
     32MW893_3,  P04E,   218,  1,      6,      6,2,19890510,0852,  9.6333, -86.1000, 3475,   1740.7,   2.6667,  34.6324,2,  34.6303,2,   -999.0,5,     78.6,2,   140.24,2,    41.25,2,     0.00,2,     2.94,2, -999.000,9, -999.000,9, -999.000,9,-999.0000,9,  -999.00,9,-999.000,9,   -999,-999.0000,-999.000,-999.000,  2.5426,-999.000
     32MW893_3,  P04E,   218,  1,      5,      5,2,19890510,0852,  9.6333, -86.1000, 3475,   1988.8,   2.3629,  34.6436,2,  34.6437,2,   -999.0,5,     90.4,2,   146.54,2,    40.56,2,     0.00,2,     2.86,2, -999.000,9, -999.000,9, -999.000,9,-999.0000,9,  -999.00,9,-999.000,9,   -999,-999.0000,-999.000,-999.000,  2.2219,-999.000
     32MW893_3,  P04E,   218,  1,      4,      4,2,19890510,0852,  9.6333, -86.1000, 3475,   2390.6,   1.8653,  34.6664,2,  34.6665,2,   -999.0,5,    106.5,2,   157.27,2,    39.19,2,     0.00,2,     2.78,2, -999.000,9, -999.000,9, -999.000,9,-999.0000,9,  -999.00,9,-999.000,9,   -999,-999.0000,-999.000,-999.000,  1.6972,-999.000
     32MW893_3,  P04E,   218,  1,      3,      3,2,19890510,0852,  9.6333, -86.1000, 3475,   2789.3,   1.8184,  34.6708,2,  34.6706,2,   -999.0,5,    113.0,2,   158.84,2,    38.80,2,     0.00,2,     2.74,2, -999.000,9, -999.000,9, -999.000,9,-999.0000,9,  -999.00,9,-999.000,9,   -999,-999.0000,-999.000,-999.000,  1.6147,-999.000
     32MW893_3,  P04E,   218,  1,      2,      2,2,19890510,0852,  9.6333, -86.1000, 3475,   3190.8,   1.8423,  34.6714,2,  34.6720,2,   -999.0,5,    113.8,2,   158.84,2,    38.71,2,     0.00,2,     2.72,2,    0.000,2,   -0.001,2, -999.000,9,-999.0000,9,  -999.00,9,-999.000,9,   -999,-999.0000,-999.000,-999.000,  1.5991,-999.000
     32MW893_3,  P04E,   218,  1,      1,      1,2,19890510,0852,  9.6333, -86.1000, 3475,   3492.3,   1.8703,  34.6717,2,  34.6710,2,   -999.0,5,    114.3,2,   158.35,2,    37.77,2,     0.00,2,     2.73,2,   -0.001,2,   -0.001,2, -999.000,9,-999.0000,9,  -999.00,9,-999.000,9,   -999,-999.0000,-999.000,-999.000,  1.5957,-999.000