BOTTLE,20020418WHPSIOdm
EXPOCODE,SECT_ID,STNNBR,CASTNO,SAMPNO,BTLNBR,BTLNBR_FLAG_W,DATE,TIME,LATITUDE,LONGITUDE,DEPTH,CTDPRS,CTDTMP,CTDSAL,CTDSAL_FLAG_W,SALNTY,SALNTY_FLAG_W,CTDOXY,CTDOXY_FLAG_W,OXYGEN,OXYGEN_FLAG_W,SILCAT,SILCAT_FLAG_W,NITRAT,NITRAT_FLAG_W,NITRIT,NITRIT_FLAG_W,PHSPHT,PHSPHT_FLAG_W,CFC-11,CFC-11_FLAG_W,CFC-12,CFC-12_FLAG_W,TRITUM,TRITUM_FLAG_W,HELIUM,HELIUM_FLAG_W,DELHE3,DELHE3_FLAG_W,NEON,NEON_FLAG_W,CTDRAW,HELIER,DELHER,NEONER,THETA,TRITER
,,,,,,,,,,,,DBAR,ITS-90,PSS-78,,PSS-78,,UMOL/KG,,UMOL/KG,,UMOL/KG,,UMOL/KG,,UMOL/KG,,UMOL/KG,,PMOL/KG,,PMOL/KG,,TU,,NMOL/KG,,PERCNT,,NMOL/KG,,,NMOL/KG,PERCNT,NMOL/KG,ITS-90,TU
     32MW893_3,  P04E,   170,  1,     24,     24,2,19890427,0900,  9.4967,-120.3333, 4434,      6.7,  27.5399,  34.5292,2,  34.5276,2,   -999.0,5,    214.2,2,     0.29,2,     0.10,2,     0.01,2,     0.21,2,    1.672,2,    0.899,2,    1.464,2,-999.0000,9,  -999.00,9,-999.000,9,   -999,-999.0000,-999.000,-999.000, 27.5383,   0.023
     32MW893_3,  P04E,   170,  1,     23,     23,2,19890427,0900,  9.4967,-120.3333, 4434,     47.7,  21.9391,  34.8995,2,  34.7754,2,   -999.0,5,    172.0,2,     5.51,2,     8.89,2,     0.60,2,     0.80,2,    1.559,2,    0.851,2,    1.666,2,   1.8910,2,     1.38,2,   7.516,2,   -999,  0.0090,   0.150,   0.045, 21.9297,   0.023
     32MW893_3,  P04E,   170,  1,     22,     22,2,19890427,0900,  9.4967,-120.3333, 4434,     97.0,  13.8894,  34.8565,2,  34.7172,2,   -999.0,5,     33.5,2,    21.37,2,    30.01,2,     0.41,2,     2.11,2,    0.532,2,    0.301,2,    1.221,2,   1.8930,2,     8.52,2,   7.758,2,   -999,  0.0090,   0.150,   0.047, 13.8755,   0.019
     32MW893_3,  P04E,   170,  1,     21,     21,2,19890427,0900,  9.4967,-120.3333, 4434,    122.5,  12.9997,  34.7486,2,  34.7557,2,   -999.0,5,     26.1,2,    23.73,2,    31.96,2,     0.14,2,     2.22,2,    0.378,2, -999.000,5, -999.000,9,-999.0000,9,  -999.00,9,-999.000,9,   -999,-999.0000,-999.000,-999.000, 12.9829,-999.000
     32MW893_3,  P04E,   170,  1,     20,     20,2,19890427,0900,  9.4967,-120.3333, 4434,    148.7,  12.1410,  34.7724,2,  34.7604,2,   -999.0,5,     26.1,2,    25.90,2,    32.84,2,     0.02,2,     2.28,2,    0.254,2, -999.000,5,    0.375,2,   1.9320,2,     7.58,2,   7.939,2,   -999,  0.0090,   0.150,   0.048, 12.1215,   0.008
     32MW893_3,  P04E,   170,  1,     19,     19,2,19890427,0900,  9.4967,-120.3333, 4434,    172.0,  11.6361,  34.7454,2,  34.7396,2,   -999.0,5,     29.1,2,    27.47,2,    33.13,2,     0.01,2,     2.29,2,    0.204,2, -999.000,5,    0.440,2,   1.9450,2,     7.32,2,   7.999,2,   -999,  0.0090,   0.150,   0.048, 11.6142,   0.009
     32MW893_3,  P04E,   170,  1,     18,     18,2,19890427,0900,  9.4967,-120.3333, 4434,    195.8,  11.3102,  34.7305,2,  34.7321,2,   -999.0,5,     30.8,2,    28.46,2,    33.33,2,     0.01,2,     2.30,2,    0.170,2, -999.000,5,    0.345,2,-999.0000,9,  -999.00,9,-999.000,9,   -999,-999.0000,-999.000,-999.000, 11.2857,   0.008
     32MW893_3,  P04E,   170,  1,     17,     17,2,19890427,0900,  9.4967,-120.3333, 4434,    247.0,  10.9184,  34.7359,2,  34.7266,2,   -999.0,5,     26.9,2,    30.04,2,    34.11,2,     0.01,2,     2.38,2,    0.122,2,    0.079,2,    0.238,2,   1.9550,2,     6.16,2,   8.083,2,   -999,  0.0090,   0.150,   0.048, 10.8881,   0.007
     32MW893_3,  P04E,   170,  1,     16,     16,2,19890427,0900,  9.4967,-120.3333, 4434,    296.5,  10.4505,  34.7065,2,  34.7127,2,   -999.0,5,     24.8,2,    31.51,2,    34.70,2,     0.00,2,     2.43,2,    0.087,2, -999.000,5,    0.216,2,   1.8970,2,     6.10,2,   7.872,2,   -999,  0.0090,   0.150,   0.047, 10.4151,   0.007
     32MW893_3,  P04E,   170,  1,     15,     15,2,19890427,0900,  9.4967,-120.3333, 4434,    396.0,   9.6508,  34.6823,2,  34.6791,2,   -999.0,5,      4.8,2,    37.42,2,    37.04,2,     0.00,2,     2.69,2,    0.017,2, -999.000,5,    0.032,2,-999.0000,9,  -999.00,9,-999.000,9,   -999,-999.0000,-999.000,-999.000,  9.6056,   0.005
     32MW893_3,  P04E,   170,  1,     14,     14,2,19890427,0900,  9.4967,-120.3333, 4434,    496.3,   8.7341,  34.6367,2,  34.6337,2,   -999.0,5,      4.3,2,    45.20,2,    37.44,2,     0.00,2,     2.86,2,    0.002,2, -999.000,5,    0.013,2,   1.9240,2,     6.09,2,   7.997,2,   -999,  0.0090,   0.150,   0.048,  8.6805,   0.006
     32MW893_3,  P04E,   170,  1,     13,     13,2,19890427,0900,  9.4967,-120.3333, 4434,    596.2,   7.4256,  34.5713,2,  34.5624,2,   -999.0,5,      3.9,2,    58.01,2,    39.20,2,     0.00,2,     3.06,2,    0.002,2, -999.000,5,    0.009,2,   1.9850,2,     8.31,2,   8.290,2,   -999,  0.0090,   0.150,   0.050,  7.3666,   0.006
     32MW893_3,  P04E,   170,  1,     12,     12,2,19890427,0900,  9.4967,-120.3333, 4434,    696.9,   6.4659,  34.5402,2,  34.5492,2,   -999.0,5,      4.3,2,    68.84,2,    42.62,2,     0.00,2,     3.19,2,    0.003,2, -999.000,5, -999.000,9,   2.0180,2,    10.61,2,   8.348,2,   -999,  0.0090,   0.150,   0.050,  6.4016,-999.000
     32MW893_3,  P04E,   170,  1,     11,     11,2,19890427,0900,  9.4967,-120.3333, 4434,    799.2,   5.7562,  34.5513,2,  34.5504,2,   -999.0,5,     18.3,2,    75.34,2,    44.48,2,     0.00,2,     3.18,2,   -0.001,2,    0.003,2, -999.000,9,   2.0390,2,    12.96,2,   8.506,2,   -999,  0.0090,   0.150,   0.051,  5.6861,-999.000
     32MW893_3,  P04E,   170,  1,     10,     10,2,19890427,0900,  9.4967,-120.3333, 4434,    996.4,   4.7656,  34.5589,2,  34.5549,2,   -999.0,5,   -999.0,5,    90.80,2,    44.38,2,     0.00,2,     3.14,2, -999.000,9, -999.000,9, -999.000,9,   2.0360,2,    14.15,2,   8.440,2,   -999,  0.0090,   0.150,   0.051,  4.6843,-999.000
     32MW893_3,  P04E,   170,  1,      9,      9,2,19890427,0900,  9.4967,-120.3333, 4434,   1298.4,   3.6890,  34.5814,2,  34.5808,2,   -999.0,5,     56.9,2,   113.25,2,    43.21,2,     0.01,2,     3.06,2,    0.001,2, -999.000,5, -999.000,9,   2.0720,2,    20.54,2,   8.531,2,   -999,  0.0090,   0.150,   0.051,  3.5908,-999.000
     32MW893_3,  P04E,   170,  1,      8,      8,2,19890427,0900,  9.4967,-120.3333, 4434,   1698.5,   2.7753,  34.6169,2,  34.6176,2,   -999.0,5,     74.7,2,   134.92,2,    42.23,2,     0.01,2,     2.98,2,    0.004,2, -999.000,5, -999.000,9,   2.1000,2,    24.44,2,   8.623,2,   -999,  0.0090,   0.150,   0.052,  2.6535,-999.000
     32MW893_3,  P04E,   170,  1,      7,      7,2,19890427,0900,  9.4967,-120.3333, 4434,   2101.4,   2.1297,  34.6508,2,  34.6506,2,   -999.0,5,     96.0,2,   150.57,2,    40.76,2,     0.01,2,     2.84,2,    0.000,2, -999.000,5, -999.000,9,   2.1190,2,    29.40,2,   8.699,2,   -999,  0.0100,   0.150,   0.052,  1.9825,-999.000
     32MW893_3,  P04E,   170,  1,      6,      6,2,19890427,0900,  9.4967,-120.3333, 4434,   2503.0,   1.8767,  34.6659,2,  34.6649,2,   -999.0,5,    109.5,2,   155.59,2,    39.59,2,     0.01,2,     2.75,2,    0.000,2,   -0.005,2, -999.000,9,   2.0740,2,    31.49,2,   8.533,2,   -999,  0.0090,   0.150,   0.051,  1.6984,-999.000
     32MW893_3,  P04E,   170,  1,      5,      5,2,19890427,0900,  9.4967,-120.3333, 4434,   2903.1,   1.7538,  34.6734,2,  34.6720,2,   -999.0,5,    119.5,2,   156.18,2,    38.90,2,     0.01,2,     2.68,2, -999.000,5,    0.003,2, -999.000,9,   2.1270,2,    29.41,2,   8.749,2,   -999,  0.0100,   0.150,   0.052,  1.5407,-999.000
     32MW893_3,  P04E,   170,  1,      4,      4,2,19890427,0900,  9.4967,-120.3333, 4434,   3303.4,   1.6018,  34.6802,2,  34.6814,2,   -999.0,5,    134.7,2,   155.10,2,    38.12,2,     0.01,2,     2.60,2,   -0.002,2,   -0.005,2, -999.000,9,   2.1290,2,    22.50,2,   8.831,2,   -999,  0.0100,   0.150,   0.053,  1.3531,-999.000
     32MW893_3,  P04E,   170,  1,      3,      3,2,19890427,0900,  9.4967,-120.3333, 4434,   3702.6,   1.5079,  34.6863,2,  34.6863,2,   -999.0,5,    146.4,2,   152.34,2,    37.44,2,     0.01,2,     2.53,2,    0.002,3, -999.000,5, -999.000,9,   2.0970,2,    18.82,2,   8.772,2,   -999,  0.0090,   0.150,   0.053,  1.2206,-999.000
     32MW893_3,  P04E,   170,  1,      2,      2,2,19890427,0900,  9.4967,-120.3333, 4434,   4105.4,   1.4460,  34.6904,2,  34.6891,2,   -999.0,5,    156.0,2,   148.89,2,    36.85,2,     0.01,2,     2.49,2,    0.002,2, -999.000,5, -999.000,9,   2.1050,2,    15.63,2,   8.827,2,   -999,  0.0090,   0.150,   0.053,  1.1170,-999.000
     32MW893_3,  P04E,   170,  1,      1,      1,2,19890427,0900,  9.4967,-120.3333, 4434,   4484.8,   1.4709,  34.6907,2,  34.6909,2,   -999.0,5,    157.7,2,   147.91,2,    36.22,2,     0.01,2,     2.47,2,    0.001,2,   -0.002,2, -999.000,9,   2.0970,2,    15.17,2,   8.777,2,   -999,  0.0090,   0.150,   0.053,  1.0986,-999.000
     32MW893_3,  P04E,   171,  1,     24,     24,2,19890427,1705,  9.5000,-119.5017, 4281,      6.1,  27.6409,  34.2196,2,  34.2285,2,   -999.0,5,    214.7,2,     0.79,2,     0.00,2,     0.00,2,     0.22,2,    1.645,2,    0.917,2, -999.000,9,-999.0000,9,  -999.00,9,-999.000,9,   -999,-999.0000,-999.000,-999.000, 27.6395,-999.000
     32MW893_3,  P04E,   171,  1,     23,     23,2,19890427,1705,  9.5000,-119.5017, 4281,     47.7,  27.6269,  34.2500,2,  34.2495,2,   -999.0,5,    213.4,2,     0.99,2,     0.10,2,     0.02,2,     0.24,2,    1.593,2,    0.887,2, -999.000,9,-999.0000,9,  -999.00,9,-999.000,9,   -999,-999.0000,-999.000,-999.000, 27.6158,-999.000
     32MW893_3,  P04E,   171,  1,     22,     22,2,19890427,1705,  9.5000,-119.5017, 4281,     96.8,  16.4756,  34.7391,2,  34.7313,2,   -999.0,5,     77.8,2,    15.85,2,    23.46,2,     0.89,2,     1.67,2,    0.930,2,    0.539,2, -999.000,9,-999.0000,9,  -999.00,9,-999.000,9,   -999,-999.0000,-999.000,-999.000, 16.4600,-999.000
     32MW893_3,  P04E,   171,  1,     21,     21,2,19890427,1705,  9.5000,-119.5017, 4281,    121.0,  13.3936,  34.7307,2,  34.7152,2,   -999.0,5,     21.3,2,    23.44,2,    31.18,2,     0.02,2,     2.22,2,    0.431,2,    0.268,2, -999.000,9,-999.0000,9,  -999.00,9,-999.000,9,   -999,-999.0000,-999.000,-999.000, 13.3767,-999.000
     32MW893_3,  P04E,   171,  1,     20,     20,2,19890427,1705,  9.5000,-119.5017, 4281,    145.8,  12.2880,  34.8093,2,  34.7732,2,   -999.0,5,     12.6,2,    26.10,2,    33.23,2,     0.01,2,     2.34,2,    0.224,2, -999.000,5, -999.000,9,-999.0000,9,  -999.00,9,-999.000,9,   -999,-999.0000,-999.000,-999.000, 12.2688,-999.000
     32MW893_3,  P04E,   171,  1,     19,     19,2,19890427,1705,  9.5000,-119.5017, 4281,    171.8,  11.8211,  34.7496,2,  34.7486,2,   -999.0,5,     30.8,2,    26.99,2,    31.96,2,     0.01,2,     2.24,2,    0.229,2, -999.000,5, -999.000,9,-999.0000,9,  -999.00,9,-999.000,9,   -999,-999.0000,-999.000,-999.000, 11.7990,-999.000
     32MW893_3,  P04E,   171,  1,     18,     18,2,19890427,1705,  9.5000,-119.5017, 4281,    195.5,  11.4012,  34.7308,2,  34.7374,2,   -999.0,5,     31.3,2,    28.36,2,    32.35,2,     0.01,2,     2.25,2,    0.189,2,    0.126,2, -999.000,9,-999.0000,9,  -999.00,9,-999.000,9,   -999,-999.0000,-999.000,-999.000, 11.3766,-999.000
     32MW893_3,  P04E,   171,  1,     17,     17,2,19890427,1705,  9.5000,-119.5017, 4281,    247.0,  10.8634,  34.7228,2,  34.7203,2,   -999.0,5,     34.8,2,    30.13,2,    32.74,2,     0.01,2,     2.30,2,    0.139,2,    0.094,2, -999.000,9,-999.0000,9,  -999.00,9,-999.000,9,   -999,-999.0000,-999.000,-999.000, 10.8332,-999.000
     32MW893_3,  P04E,   171,  1,     16,     16,2,19890427,1705,  9.5000,-119.5017, 4281,    297.0,  10.5025,  34.7210,2,  34.7205,2,   -999.0,5,     33.9,2,    31.22,2,    33.52,2,     0.00,2,     2.37,2,    0.111,2,    0.076,2, -999.000,9,-999.0000,9,  -999.00,9,-999.000,9,   -999,-999.0000,-999.000,-999.000, 10.4669,-999.000
     32MW893_3,  P04E,   171,  1,     15,     15,2,19890427,1705,  9.5000,-119.5017, 4281,    396.8,   9.7258,  34.6916,2,  34.6879,2,   -999.0,5,      9.6,2,    37.12,2,    35.77,2,     0.00,2,     2.65,2,    0.031,2, -999.000,5, -999.000,9,-999.0000,9,  -999.00,9,-999.000,9,   -999,-999.0000,-999.000,-999.000,  9.6802,-999.000
     32MW893_3,  P04E,   171,  1,     14,     14,2,19890427,1705,  9.5000,-119.5017, 4281,    497.0,   8.6781,  34.6214,2,  34.6252,2,   -999.0,5,      6.1,2,    45.31,2,    37.14,2,     0.01,2,     2.82,2, -999.000,5,    0.010,2, -999.000,9,-999.0000,9,  -999.00,9,-999.000,9,   -999,-999.0000,-999.000,-999.000,  8.6246,-999.000
     32MW893_3,  P04E,   171,  1,     13,     13,2,19890427,1705,  9.5000,-119.5017, 4281,    646.6,   6.9847,  34.5583,2,  34.5594,2,   -999.0,5,      6.1,2,    63.52,2,    40.08,2,     0.01,2,     3.14,2,    0.003,2,    0.007,2, -999.000,9,-999.0000,9,  -999.00,9,-999.000,9,   -999,-999.0000,-999.000,-999.000,  6.9227,-999.000
     32MW893_3,  P04E,   171,  1,     12,     12,2,19890427,1705,  9.5000,-119.5017, 4281,    797.3,   5.8792,  34.5510,2,  34.5508,2,   -999.0,5,     15.6,2,    74.15,2,    43.79,2,     0.01,2,     3.17,2,    0.000,2,    0.002,2, -999.000,9,-999.0000,9,  -999.00,9,-999.000,9,   -999,-999.0000,-999.000,-999.000,  5.8085,-999.000
     32MW893_3,  P04E,   171,  1,     11,     11,2,19890427,1705,  9.5000,-119.5017, 4281,   1097.2,   4.4017,  34.5619,2,  34.5637,2,   -999.0,5,     41.7,2,    98.39,2,    43.40,2,     0.01,2,     3.13,2, -999.000,9, -999.000,9, -999.000,9,-999.0000,9,  -999.00,9,-999.000,9,   -999,-999.0000,-999.000,-999.000,  4.3145,-999.000
     32MW893_3,  P04E,   171,  1,     10,     10,2,19890427,1705,  9.5000,-119.5017, 4281,   1446.0,   3.3621,  34.5931,2,  34.5912,2,   -999.0,5,     66.5,2,   119.95,2,    41.84,2,     0.00,2,     3.01,2, -999.000,9, -999.000,9, -999.000,9,-999.0000,9,  -999.00,9,-999.000,9,   -999,-999.0000,-999.000,-999.000,  3.2547,-999.000
     32MW893_3,  P04E,   171,  1,      9,      9,2,19890427,1705,  9.5000,-119.5017, 4281,   1599.9,   3.0693,  34.6041,2,  34.6028,2,   -999.0,5,     73.0,2,   127.14,2,    41.64,2,     0.00,2,     2.99,2,    0.000,2,    0.010,2, -999.000,9,-999.0000,9,  -999.00,9,-999.000,9,   -999,-999.0000,-999.000,-999.000,  2.9521,-999.000
     32MW893_3,  P04E,   171,  1,      8,      8,2,19890427,1705,  9.5000,-119.5017, 4281,   1697.1,   2.8563,  34.6139,2,  34.6113,2,   -999.0,5,     71.7,2,   132.95,2,    41.84,2,     0.00,2,     2.99,2, -999.000,9, -999.000,9, -999.000,9,-999.0000,9,  -999.00,9,-999.000,9,   -999,-999.0000,-999.000,-999.000,  2.7335,-999.000
     32MW893_3,  P04E,   171,  1,      7,      7,2,19890427,1705,  9.5000,-119.5017, 4281,   1847.7,   2.5575,  34.6267,2,  34.6272,2,   -999.0,5,     80.4,2,   140.43,2,    41.35,2,     0.01,2,     2.92,2, -999.000,9, -999.000,9, -999.000,9,-999.0000,9,  -999.00,9,-999.000,9,   -999,-999.0000,-999.000,-999.000,  2.4258,-999.000
     32MW893_3,  P04E,   171,  1,      6,      6,2,19890427,1705,  9.5000,-119.5017, 4281,   2076.9,   2.2076,  34.6456,2,  34.6453,2,   -999.0,5,     92.6,2,   148.70,2,    40.37,2,    -0.01,2,     2.85,2,    0.000,2,    0.011,2, -999.000,9,-999.0000,9,  -999.00,9,-999.000,9,   -999,-999.0000,-999.000,-999.000,  2.0613,-999.000
     32MW893_3,  P04E,   171,  1,      5,      5,2,19890427,1705,  9.5000,-119.5017, 4281,   2601.5,   1.8388,  34.6671,2,  34.6657,2,   -999.0,5,    113.0,2,   155.89,2,    38.71,2,     0.00,2,     2.71,2, -999.000,9, -999.000,9, -999.000,9,-999.0000,9,  -999.00,9,-999.000,9,   -999,-999.0000,-999.000,-999.000,  1.6522,-999.000
     32MW893_3,  P04E,   171,  1,      4,      4,2,19890427,1705,  9.5000,-119.5017, 4281,   3103.4,   1.6658,  34.6778,2,  34.6777,2,   -999.0,5,    127.3,2,   155.89,2,    37.83,2,     0.00,2,     2.64,2,    0.002,2,   -0.005,2, -999.000,9,-999.0000,9,  -999.00,9,-999.000,9,   -999,-999.0000,-999.000,-999.000,  1.4354,-999.000
     32MW893_3,  P04E,   171,  1,      3,      3,2,19890427,1705,  9.5000,-119.5017, 4281,   3605.3,   1.5259,  34.6850,2,  34.6859,2,   -999.0,5,    144.3,2,   152.63,2,    37.04,2,     0.00,2,     2.54,2, -999.000,9, -999.000,9, -999.000,9,-999.0000,9,  -999.00,9,-999.000,9,   -999,-999.0000,-999.000,-999.000,  1.2483,-999.000
     32MW893_3,  P04E,   171,  1,      2,      2,2,19890427,1705,  9.5000,-119.5017, 4281,   4105.3,   1.4530,  34.6903,2,  34.6901,2,   -999.0,5,    155.5,2,   148.69,2,    36.16,2,     0.00,2,     2.48,2,    0.003,2,   -0.002,2, -999.000,9,-999.0000,9,  -999.00,9,-999.000,9,   -999,-999.0000,-999.000,-999.000,  1.1238,-999.000
     32MW893_3,  P04E,   171,  1,      1,      1,2,19890427,1705,  9.5000,-119.5017, 4281,   4360.8,   1.4669,  34.6893,2,  34.6916,2,   -999.0,5,    156.4,2,   148.60,2,    36.07,2,     0.00,2,     2.47,2,    0.001,2,   -0.002,2, -999.000,9,-999.0000,9,  -999.00,9,-999.000,9,   -999,-999.0000,-999.000,-999.000,  1.1088,-999.000