BOTTLE,20020418WHPSIOdm
EXPOCODE,SECT_ID,STNNBR,CASTNO,SAMPNO,BTLNBR,BTLNBR_FLAG_W,DATE,TIME,LATITUDE,LONGITUDE,DEPTH,CTDPRS,CTDTMP,CTDSAL,CTDSAL_FLAG_W,SALNTY,SALNTY_FLAG_W,CTDOXY,CTDOXY_FLAG_W,OXYGEN,OXYGEN_FLAG_W,SILCAT,SILCAT_FLAG_W,NITRAT,NITRAT_FLAG_W,NITRIT,NITRIT_FLAG_W,PHSPHT,PHSPHT_FLAG_W,CFC-11,CFC-11_FLAG_W,CFC-12,CFC-12_FLAG_W,TRITUM,TRITUM_FLAG_W,HELIUM,HELIUM_FLAG_W,DELHE3,DELHE3_FLAG_W,NEON,NEON_FLAG_W,CTDRAW,HELIER,DELHER,NEONER,THETA,TRITER
,,,,,,,,,,,,DBAR,ITS-90,PSS-78,,PSS-78,,UMOL/KG,,UMOL/KG,,UMOL/KG,,UMOL/KG,,UMOL/KG,,UMOL/KG,,PMOL/KG,,PMOL/KG,,TU,,NMOL/KG,,PERCNT,,NMOL/KG,,,NMOL/KG,PERCNT,NMOL/KG,ITS-90,TU
     32MW893_3,  P04E,   142,  1,     24,     24,2,19890417,1135,  9.5033,-143.6700, 5173,      7.3,  25.9723,  34.7163,2,  34.7154,2,   -999.0,5,    212.5,2,     1.09,2,     0.39,2,     0.01,2,     0.29,2,    1.781,2,    1.025,2, -999.000,9,-999.0000,9,  -999.00,9,-999.000,9,   -999,-999.0000,-999.000,-999.000, 25.9707,-999.000
     32MW893_3,  P04E,   142,  1,     23,     23,2,19890417,1135,  9.5033,-143.6700, 5173,     47.5,  25.9783,  34.7168,2,  34.7178,2,   -999.0,5,    212.0,2,     1.19,2,     0.49,2,     0.02,2,     0.31,2,    1.765,2,    0.963,2, -999.000,9,-999.0000,9,  -999.00,9,-999.000,9,   -999,-999.0000,-999.000,-999.000, 25.9677,-999.000
     32MW893_3,  P04E,   142,  1,     22,     22,2,19890417,1135,  9.5033,-143.6700, 5173,     96.9,  16.8276,  34.2025,2,  34.3880,2,   -999.0,5,    152.5,2,     6.15,2,     8.60,2,     0.78,2,     0.94,2,    1.828,2,    0.958,2, -999.000,9,-999.0000,9,  -999.00,9,-999.000,9,   -999,-999.0000,-999.000,-999.000, 16.8118,-999.000
     32MW893_3,  P04E,   142,  1,     21,     21,2,19890417,1135,  9.5033,-143.6700, 5173,    121.6,  12.8897,  34.6716,2,  34.6506,2,   -999.0,5,     13.5,2,    24.31,2,    32.06,2,     0.01,2,     2.41,2,    0.389,2,    0.248,2, -999.000,9,-999.0000,9,  -999.00,9,-999.000,9,   -999,-999.0000,-999.000,-999.000, 12.8732,-999.000
     32MW893_3,  P04E,   142,  1,     20,     20,2,19890417,1135,  9.5033,-143.6700, 5173,    148.3,  12.1910,  34.7360,2,  34.7302,2,   -999.0,5,     12.6,2,    26.68,2,    33.62,2,     0.01,2,     2.43,2,    0.200,2,    0.128,2, -999.000,9,-999.0000,9,  -999.00,9,-999.000,9,   -999,-999.0000,-999.000,-999.000, 12.1715,-999.000
     32MW893_3,  P04E,   142,  1,     19,     19,2,19890417,1135,  9.5033,-143.6700, 5173,    170.1,  11.6931,  34.7491,2,  34.7294,2,   -999.0,5,     17.4,2,    27.97,2,    33.72,2,     0.01,2,     2.42,2,    0.153,2,    0.102,2, -999.000,9,-999.0000,9,  -999.00,9,-999.000,9,   -999,-999.0000,-999.000,-999.000, 11.6714,-999.000
     32MW893_3,  P04E,   142,  1,     18,     18,2,19890417,1135,  9.5033,-143.6700, 5173,    198.9,  11.1093,  34.7216,2,  34.7205,2,   -999.0,5,     17.4,2,    29.36,2,    34.11,2,     0.01,2,     2.47,2,    0.109,2,    0.079,2, -999.000,9,-999.0000,9,  -999.00,9,-999.000,9,   -999,-999.0000,-999.000,-999.000, 11.0847,-999.000
     32MW893_3,  P04E,   142,  1,     17,     17,2,19890417,1135,  9.5033,-143.6700, 5173,    247.0,  10.4775,  34.7055,2,  34.7025,2,   -999.0,5,     33.5,2,    30.86,2,    33.92,2,     0.01,2,     2.40,2,    0.096,2,    0.067,2, -999.000,9,-999.0000,9,  -999.00,9,-999.000,9,   -999,-999.0000,-999.000,-999.000, 10.4480,-999.000
     32MW893_3,  P04E,   142,  1,     16,     16,2,19890417,1135,  9.5033,-143.6700, 5173,    297.1,  10.1537,  34.7028,2,  34.7019,2,   -999.0,5,     19.1,2,    32.84,2,    35.68,2,     0.01,2,     2.53,2,    0.056,2, -999.000,5, -999.000,9,-999.0000,9,  -999.00,9,-999.000,9,   -999,-999.0000,-999.000,-999.000, 10.1188,-999.000
     32MW893_3,  P04E,   142,  1,     15,     15,2,19890417,1135,  9.5033,-143.6700, 5173,    396.4,   9.3319,  34.6627,2,  34.6588,2,   -999.0,5,     10.0,2,    38.59,2,    37.24,2,     0.00,2,     2.73,2,    0.013,2,    0.021,2, -999.000,9,-999.0000,9,  -999.00,9,-999.000,9,   -999,-999.0000,-999.000,-999.000,  9.2875,-999.000
     32MW893_3,  P04E,   142,  1,     14,     14,2,19890417,1135,  9.5033,-143.6700, 5173,    497.7,   8.3193,  34.6039,2,  34.6020,2,   -999.0,5,     10.0,2,    47.72,2,    38.22,2,     0.00,2,     2.91,2, -999.000,9, -999.000,9, -999.000,9,-999.0000,9,  -999.00,9,-999.000,9,   -999,-999.0000,-999.000,-999.000,  8.2671,-999.000
     32MW893_3,  P04E,   142,  1,     13,     13,2,19890417,1135,  9.5033,-143.6700, 5173,    597.9,   7.2007,  34.5556,2,  34.5557,2,   -999.0,5,      9.1,2,    59.53,2,    40.08,2,     0.01,2,     3.08,2,    0.002,2,    0.014,2, -999.000,9,-999.0000,9,  -999.00,9,-999.000,9,   -999,-999.0000,-999.000,-999.000,  7.1426,-999.000
     32MW893_3,  P04E,   142,  1,     12,     12,2,19890417,1135,  9.5033,-143.6700, 5173,    695.8,   6.3790,  34.5435,2,  34.5419,2,   -999.0,5,     13.0,2,    68.56,2,    42.52,2,     0.00,2,     3.16,2,    0.001,2,    0.004,2, -999.000,9,-999.0000,9,  -999.00,9,-999.000,9,   -999,-999.0000,-999.000,-999.000,  6.3152,-999.000
     32MW893_3,  P04E,   142,  1,     11,     11,2,19890417,1135,  9.5033,-143.6700, 5173,    797.7,   5.4503,  34.5343,2,  34.5351,2,   -999.0,5,     18.7,2,    82.05,2,    44.09,2,     0.00,2,     3.23,2,    0.004,2,    0.010,2, -999.000,9,-999.0000,9,  -999.00,9,-999.000,9,   -999,-999.0000,-999.000,-999.000,  5.3822,-999.000
     32MW893_3,  P04E,   142,  1,     10,     10,2,19890417,1135,  9.5033,-143.6700, 5173,    999.6,   4.5017,  34.5545,2,  34.5543,2,   -999.0,5,     37.8,2,    97.63,2,    43.99,2,     0.00,2,     3.21,2,    0.000,2,    0.006,2, -999.000,9,-999.0000,9,  -999.00,9,-999.000,9,   -999,-999.0000,-999.000,-999.000,  4.4221,-999.000
     32MW893_3,  P04E,   142,  1,      9,      9,2,19890417,1135,  9.5033,-143.6700, 5173,   1497.8,   2.9643,  34.6028,2,  34.6028,2,   -999.0,5,   -999.0,5,   130.46,2,    42.13,2,     0.00,2,     3.01,2,   -0.003,2,   -0.004,2, -999.000,9,-999.0000,9,  -999.00,9,-999.000,9,   -999,-999.0000,-999.000,-999.000,  2.8570,-999.000
     32MW893_3,  P04E,   142,  1,      8,      8,2,19890417,1135,  9.5033,-143.6700, 5173,   2000.7,   2.1287,  34.6454,2,  34.6455,2,   -999.0,5,     97.8,2,   150.11,2,    40.47,2,     0.00,2,     2.84,2, -999.000,9, -999.000,9, -999.000,9,-999.0000,9,  -999.00,9,-999.000,9,   -999,-999.0000,-999.000,-999.000,  1.9902,-999.000
     32MW893_3,  P04E,   142,  1,      7,      7,2,19890417,1135,  9.5033,-143.6700, 5173,   2499.7,   1.8378,  34.6654,2,  34.6659,2,   -999.0,5,    113.8,2,   156.35,2,    39.29,2,     0.00,2,     2.77,2,   -0.002,6,   -0.004,2, -999.000,9,-999.0000,9,  -999.00,9,-999.000,9,   -999,-999.0000,-999.000,-999.000,  1.6605,-999.000
     32MW893_3,  P04E,   142,  1,      6,      6,2,19890417,1135,  9.5033,-143.6700, 5173,   3002.6,   1.6608,  34.6757,2,  34.6753,2,   -999.0,5,    127.7,2,   157.25,2,    38.51,2,     0.00,2,     2.69,2, -999.000,9, -999.000,9, -999.000,9,-999.0000,9,  -999.00,9,-999.000,9,   -999,-999.0000,-999.000,-999.000,  1.4403,-999.000
     32MW893_3,  P04E,   142,  1,      5,      5,2,19890417,1135,  9.5033,-143.6700, 5173,   3504.0,   1.5079,  34.6829,2,  34.6838,2,   -999.0,5,    144.7,2,   155.46,2,    37.63,2,    -0.01,2,     2.62,2, -999.000,9, -999.000,9, -999.000,9,-999.0000,9,  -999.00,9,-999.000,9,   -999,-999.0000,-999.000,-999.000,  1.2412,-999.000
     32MW893_3,  P04E,   142,  1,      4,      4,2,19890417,1135,  9.5033,-143.6700, 5173,   4005.0,   1.3970,  34.6908,2,  34.6918,2,   -999.0,5,    163.4,2,   144.55,2,    36.07,2,    -0.01,2,     2.48,2, -999.000,9, -999.000,9, -999.000,9,-999.0000,9,  -999.00,9,-999.000,9,   -999,-999.0000,-999.000,-999.000,  1.0803,-999.000
     32MW893_3,  P04E,   142,  1,      3,      3,2,19890417,1135,  9.5033,-143.6700, 5173,   4505.1,   1.3820,  34.6938,2,  34.6960,2,   -999.0,5,    171.2,2,   140.68,2,    35.58,2,    -0.01,2,     2.46,2, -999.000,9, -999.000,9, -999.000,9,-999.0000,9,  -999.00,9,-999.000,9,   -999,-999.0000,-999.000,-999.000,  1.0101,-999.000
     32MW893_3,  P04E,   142,  1,      2,      2,2,19890417,1135,  9.5033,-143.6700, 5173,   5006.7,   1.4270,  34.6937,2,  34.6956,2,   -999.0,5,    172.5,2,   139.98,2,    35.48,2,    -0.01,2,     2.43,2,   -0.002,2,   -0.004,2, -999.000,9,-999.0000,9,  -999.00,9,-999.000,9,   -999,-999.0000,-999.000,-999.000,  0.9944,-999.000
     32MW893_3,  P04E,   142,  1,      1,      1,2,19890417,1135,  9.5033,-143.6700, 5173,   5162.2,   1.4440,  34.6938,2,  34.6960,2,   -999.0,5,    172.9,2,   139.09,2,    35.52,2,    -0.01,2,     2.42,2,   -0.005,2,   -0.005,2, -999.000,9,-999.0000,9,  -999.00,9,-999.000,9,   -999,-999.0000,-999.000,-999.000,  0.9918,-999.000
     32MW893_3,  P04E,   143,  1,     24,     24,2,19890417,2041,  9.4933,-142.8333, 5085,      7.2,  26.2802,  34.7975,2,  34.7962,2,   -999.0,5,    208.1,2,     1.39,2,     0.68,2,     0.03,2,     0.29,2,    1.716,2,    0.935,2, -999.000,9,-999.0000,9,  -999.00,9,-999.000,9,   -999,-999.0000,-999.000,-999.000, 26.2786,-999.000
     32MW893_3,  P04E,   143,  1,     23,     23,2,19890417,2041,  9.4933,-142.8333, 5085,     48.1,  26.1982,  34.7913,2,  34.7921,2,   -999.0,5,    208.5,2,     1.39,2,     0.78,2,     0.03,2,     0.30,2,    1.731,2,    0.934,2, -999.000,9,-999.0000,9,  -999.00,9,-999.000,9,   -999,-999.0000,-999.000,-999.000, 26.1874,-999.000
     32MW893_3,  P04E,   143,  1,     22,     22,2,19890417,2041,  9.4933,-142.8333, 5085,     73.0,  19.3469,  34.3768,2,  34.4591,2,   -999.0,5,    188.6,2,     3.37,2,     2.74,2,     0.21,2,     0.58,2,    2.004,2,    1.044,2, -999.000,9,-999.0000,9,  -999.00,9,-999.000,9,   -999,-999.0000,-999.000,-999.000, 19.3338,-999.000
     32MW893_3,  P04E,   143,  1,     21,     21,2,19890417,2041,  9.4933,-142.8333, 5085,     98.0,  13.5495,  34.4761,2,  34.4595,2,   -999.0,5,     61.3,2,    17.86,2,    24.93,2,     0.16,2,     1.92,2,    1.006,2,    0.529,2, -999.000,9,-999.0000,9,  -999.00,9,-999.000,9,   -999,-999.0000,-999.000,-999.000, 13.5358,-999.000
     32MW893_3,  P04E,   143,  1,     20,     20,2,19890417,2041,  9.4933,-142.8333, 5085,    121.8,  12.3289,  34.6471,2,  34.6421,2,   -999.0,5,     15.2,2,    26.09,2,    32.26,2,     0.01,2,     2.40,2,    0.328,2,    0.188,2, -999.000,9,-999.0000,9,  -999.00,9,-999.000,9,   -999,-999.0000,-999.000,-999.000, 12.3128,-999.000
     32MW893_3,  P04E,   143,  1,     19,     19,2,19890417,2041,  9.4933,-142.8333, 5085,    148.6,  11.8561,  34.7270,2,  34.7235,2,   -999.0,5,     11.7,2,    27.88,2,    33.82,2,     0.01,2,     2.42,2,    0.160,2, -999.000,5, -999.000,9,-999.0000,9,  -999.00,9,-999.000,9,   -999,-999.0000,-999.000,-999.000, 11.8370,-999.000
     32MW893_3,  P04E,   143,  1,     18,     18,2,19890417,2041,  9.4933,-142.8333, 5085,    172.7,  11.4711,  34.7363,2,  34.7304,2,   -999.0,5,     12.2,2,    28.67,2,    34.21,2,     0.01,2,     2.43,2,    0.121,2, -999.000,5, -999.000,9,-999.0000,9,  -999.00,9,-999.000,9,   -999,-999.0000,-999.000,-999.000, 11.4494,-999.000
     32MW893_3,  P04E,   143,  1,     17,     17,2,19890417,2041,  9.4933,-142.8333, 5085,    197.0,  11.1473,  34.7178,2,  34.7359,2,   -999.0,5,     16.1,2,    29.57,2,    34.31,2,     0.01,2,     2.42,2,    0.101,2, -999.000,5, -999.000,9,-999.0000,9,  -999.00,9,-999.000,9,   -999,-999.0000,-999.000,-999.000, 11.1229,-999.000
     32MW893_3,  P04E,   143,  1,     16,     16,2,19890417,2041,  9.4933,-142.8333, 5085,    245.0,  10.5655,  34.7057,2,  34.7099,2,   -999.0,5,     23.9,2,    31.35,2,    34.40,2,     0.00,2,     2.40,2,    0.087,2, -999.000,5, -999.000,9,-999.0000,9,  -999.00,9,-999.000,9,   -999,-999.0000,-999.000,-999.000, 10.5361,-999.000
     32MW893_3,  P04E,   143,  1,     15,     15,2,19890417,2041,  9.4933,-142.8333, 5085,    296.5,  10.0767,  34.6978,2,  34.6971,2,   -999.0,5,     18.7,2,    33.04,2,    35.68,2,     0.00,2,     2.49,2,    0.057,2,    0.041,2, -999.000,9,-999.0000,9,  -999.00,9,-999.000,9,   -999,-999.0000,-999.000,-999.000, 10.0421,-999.000
     32MW893_3,  P04E,   143,  1,     14,     14,2,19890417,2041,  9.4933,-142.8333, 5085,    396.5,   9.2779,  34.6563,2,  34.6610,2,   -999.0,5,      8.7,2,    38.99,2,    37.14,2,     0.00,2,     2.70,2,    0.032,2,    0.013,2, -999.000,9,-999.0000,9,  -999.00,9,-999.000,9,   -999,-999.0000,-999.000,-999.000,  9.2337,-999.000
     32MW893_3,  P04E,   143,  1,     13,     13,2,19890417,2041,  9.4933,-142.8333, 5085,    497.3,   8.3063,  34.6087,2,  34.6123,2,   -999.0,5,      7.8,2,    47.62,2,    38.22,2,     0.00,2,     2.87,2,    0.007,2,   -0.001,2, -999.000,9,-999.0000,9,  -999.00,9,-999.000,9,   -999,-999.0000,-999.000,-999.000,  8.2541,-999.000
     32MW893_3,  P04E,   143,  1,     12,     12,2,19890417,2041,  9.4933,-142.8333, 5085,    624.0,   7.0637,  34.5514,2,  34.5533,2,   -999.0,5,      8.3,2,    61.51,2,    40.47,2,     0.00,2,     3.04,2,    0.004,2,    0.009,2, -999.000,9,-999.0000,9,  -999.00,9,-999.000,9,   -999,-999.0000,-999.000,-999.000,  7.0036,-999.000
     32MW893_3,  P04E,   143,  1,     11,     11,2,19890417,2041,  9.4933,-142.8333, 5085,    797.1,   5.4263,  34.5582,2,  34.5443,2,   -999.0,5,     31.7,2,    80.47,2,    43.60,2,     0.01,2,     3.13,2, -999.000,5,    0.014,2, -999.000,9,-999.0000,9,  -999.00,9,-999.000,9,   -999,-999.0000,-999.000,-999.000,  5.3584,-999.000
     32MW893_3,  P04E,   143,  1,     10,     10,2,19890417,2041,  9.4933,-142.8333, 5085,    998.4,   4.3957,  34.5559,2,  34.5541,2,   -999.0,5,     37.4,2,    99.32,2,    43.79,2,     0.01,2,     3.14,2,    0.009,2,    0.012,2, -999.000,9,-999.0000,9,  -999.00,9,-999.000,9,   -999,-999.0000,-999.000,-999.000,  4.3171,-999.000
     32MW893_3,  P04E,   143,  1,      9,      9,2,19890417,2041,  9.4933,-142.8333, 5085,   1499.3,   2.9203,  34.6054,2,  34.6054,2,   -999.0,5,     76.9,2,   130.56,2,    41.64,2,     0.01,2,     2.94,2,   -0.003,2,   -0.003,2, -999.000,9,-999.0000,9,  -999.00,9,-999.000,9,   -999,-999.0000,-999.000,-999.000,  2.8133,-999.000
     32MW893_3,  P04E,   143,  1,      8,      8,2,19890417,2041,  9.4933,-142.8333, 5085,   1999.9,   2.0907,  34.6449,2,  34.6461,2,   -999.0,5,    101.7,2,   149.51,2,    40.27,2,     0.01,2,     2.80,2,    0.001,2,    0.013,2, -999.000,9,-999.0000,9,  -999.00,9,-999.000,9,   -999,-999.0000,-999.000,-999.000,  1.9528,-999.000
     32MW893_3,  P04E,   143,  1,      7,      7,2,19890417,2041,  9.4933,-142.8333, 5085,   2500.9,   1.8108,  34.6669,2,  34.6663,2,   -999.0,5,    115.6,2,   155.66,2,    39.19,2,     0.01,2,     2.72,2,   -0.001,2,    0.003,2, -999.000,9,-999.0000,9,  -999.00,9,-999.000,9,   -999,-999.0000,-999.000,-999.000,  1.6339,-999.000
     32MW893_3,  P04E,   143,  1,      6,      6,2,19890417,2041,  9.4933,-142.8333, 5085,   3002.0,   1.6478,  34.6777,2,  34.6769,2,   -999.0,5,    127.7,2,   157.25,2,    38.51,2,     0.00,2,     2.65,2,   -0.002,2,   -0.002,2, -999.000,9,-999.0000,9,  -999.00,9,-999.000,9,   -999,-999.0000,-999.000,-999.000,  1.4276,-999.000
     32MW893_3,  P04E,   143,  1,      5,      5,2,19890417,2041,  9.4933,-142.8333, 5085,   3502.8,   1.5009,  34.6837,2,-999.0000,5,   -999.0,5,    143.8,2,   155.17,2,    37.53,2,     0.00,2,     2.57,2,    0.000,2,   -0.005,2, -999.000,9,-999.0000,9,  -999.00,9,-999.000,9,   -999,-999.0000,-999.000,-999.000,  1.2345,-999.000
     32MW893_3,  P04E,   143,  1,      4,      4,2,19890417,2041,  9.4933,-142.8333, 5085,   4005.6,   1.3940,  34.6915,2,  34.6924,2,   -999.0,5,    162.5,2,   145.84,2,    36.16,2,     0.00,2,     2.46,2,   -0.002,2,   -0.003,2, -999.000,9,-999.0000,9,  -999.00,9,-999.000,9,   -999,-999.0000,-999.000,-999.000,  1.0774,-999.000
     32MW893_3,  P04E,   143,  1,      3,      3,2,19890417,2041,  9.4933,-142.8333, 5085,   4505.5,   1.3870,  34.6935,2,  34.6954,2,   -999.0,5,    169.5,2,   140.78,2,    35.58,2,     0.00,2,     2.42,2, -999.000,9, -999.000,9, -999.000,9,-999.0000,9,  -999.00,9,-999.000,9,   -999,-999.0000,-999.000,-999.000,  1.0149,-999.000
     32MW893_3,  P04E,   143,  1,      1,      1,2,19890417,2041,  9.4933,-142.8333, 5085,   5148.5,   1.4430,  34.6954,2,  34.6989,2,   -999.0,5,    172.1,2,   139.08,2,    35.48,2,     0.00,2,     2.41,2,   -0.007,2,   -0.005,2, -999.000,9,-999.0000,9,  -999.00,9,-999.000,9,   -999,-999.0000,-999.000,-999.000,  0.9925,-999.000
     32MW893_3,  P04E,   143,  1,      2,      2,2,19890417,2041,  9.4933,-142.8333, 5085,   5151.0,   1.4440,  34.6946,2,  34.6960,2,   -999.0,5,    172.9,2,   139.09,2,    35.38,2,     0.00,2,     2.42,2,    0.002,2,   -0.003,2, -999.000,9,-999.0000,9,  -999.00,9,-999.000,9,   -999,-999.0000,-999.000,-999.000,  0.9931,-999.000