BOTTLE,20141031SIOCCHAMB
EXPOCODE,SECT_ID,STNNBR,CASTNO,SAMPNO,BTLNBR,BTLNBR_FLAG_W,DATE,TIME,LATITUDE,LONGITUDE,DEPTH,CTDPRS,CTDTMP,CTDSAL,CTDSAL_FLAG_W,SALNTY,SALNTY_FLAG_W,CTDOXY,CTDOXY_FLAG_W,OXYGEN,OXYGEN_FLAG_W,SILCAT,SILCAT_FLAG_W,PHSPHT,PHSPHT_FLAG_W,REVPRS,CTDRAW,THETA,NO2+NO3,NO2+NO3_FLAG_W,REVTMP
,,,,,,,,,,,METERS,DBAR,ITS-90,PSS-78,,PSS-78,,UMOL/KG,,UMOL/KG,,UMOL/KG,,UMOL/KG,,DBAR,DBAR,ITS-90,UMOL/KG,,DEG C
33KB20130305,       PRS2,       1,          1,         24,       8024,2,20130305,       2341,  21.343667,-158.2735000,       1563,     5.7,  24.1826,  35.3269,2,  35.3279,2,    209.6,2,   210.5,2, -999.00,9, -999.00,9,  -999.0,       5,    24.1814, -999.00,9,     -999.0
33KB20130305,       PRS2,       1,          1,         23,       8023,2,20130305,       2341,  21.343667,-158.2735000,       1563,     5.6,  24.1767,  35.3270,2,  35.3273,2,    209.7,2,   211.4,2, -999.00,9, -999.00,9,  -999.0,       5,    24.1755, -999.00,9,     -999.0
33KB20130305,       PRS2,       1,          1,         22,       8022,2,20130305,       2341,  21.343667,-158.2735000,       1563,    26.5,  24.1159,  35.3360,2,  35.3366,2,    211.0,2,   210.2,2, -999.00,9, -999.00,9,  -999.0,      26,    24.1103, -999.00,9,     -999.0
33KB20130305,       PRS2,       1,          1,         21,       8021,2,20130305,       2341,  21.343667,-158.2735000,       1563,    44.8,  24.1047,  35.3356,2,  35.3356,2,    210.0,2,   210.4,2, -999.00,9, -999.00,9,  -999.0,      47,    24.0953, -999.00,9,     -999.0
33KB20130305,       PRS2,       1,          1,         20,       8020,2,20130305,       2341,  21.343667,-158.2735000,       1563,    60.1,  24.1012,  35.3353,2,  35.3356,2,    210.2,2,   210.0,2, -999.00,9, -999.00,9,  -999.0,      62,    24.0885, -999.00,9,     -999.0
33KB20130305,       PRS2,       1,          1,         19,       8019,2,20130305,       2341,  21.343667,-158.2735000,       1563,    74.0,  23.7048,  35.3647,2,  35.3610,2,    211.5,2,   211.4,2, -999.00,9, -999.00,9,  -999.0,      76,    23.6893, -999.00,9,     -999.0
33KB20130305,       PRS2,       1,          1,         18,       8018,2,20130305,       2341,  21.343667,-158.2735000,       1563,   101.1,  23.2554,  35.3708,2,  35.3711,2,    213.2,2,   213.1,2, -999.00,9, -999.00,9,  -999.0,      99,    23.2346, -999.00,9,     -999.0
33KB20130305,       PRS2,       1,          1,         17,       8017,2,20130305,       2341,  21.343667,-158.2735000,       1563,   115.3,  23.1269,  35.3606,2,  35.3567,2,    212.7,2,   213.2,2, -999.00,9, -999.00,9,  -999.0,     114,    23.1032, -999.00,9,     -999.0
33KB20130305,       PRS2,       1,          1,         16,       8016,2,20130305,       2341,  21.343667,-158.2735000,       1563,   125.2,  22.4224,  35.2802,2,  35.2771,2,    206.7,2,   206.0,2, -999.00,9, -999.00,9,  -999.0,     124,    22.3973, -999.00,9,     -999.0
33KB20130305,       PRS2,       1,          1,         15,       8015,2,20130305,       2341,  21.343667,-158.2735000,       1563,   149.7,  20.8187,  35.1761,2,  35.1845,2,    195.9,2,   195.6,2, -999.00,9, -999.00,9,  -999.0,     146,    20.7902, -999.00,9,     -999.0
33KB20130305,       PRS2,       1,          1,         14,       8014,2,20130305,       2341,  21.343667,-158.2735000,       1563,   175.5,  19.2685,  34.9738,2,  34.9709,2,    188.0,2,   188.6,2, -999.00,9, -999.00,9,  -999.0,     176,    19.2369, -999.00,9,     -999.0
33KB20130305,       PRS2,       1,          1,         13,       8025,2,20130305,       2341,  21.343667,-158.2735000,       1563,   200.7,  17.6755,  34.7517,2,  34.7492,2,    184.8,2,   185.3,2, -999.00,9, -999.00,9,  -999.0,     199,    17.6415, -999.00,9,     -999.0
33KB20130305,       PRS2,       1,          1,         12,       8012,2,20130305,       2341,  21.343667,-158.2735000,       1563,   224.4,  16.4188,  34.5716,2,  34.5899,2,    183.1,2,   182.6,2, -999.00,9, -999.00,9,  -999.0,     226,    16.3827, -999.00,9,     -999.0
33KB20130305,       PRS2,       1,          1,         11,       8011,2,20130305,       2341,  21.343667,-158.2735000,       1563,   251.5,  14.7884,  34.3987,2,  34.3994,2,    180.6,2,   180.2,2, -999.00,9, -999.00,9,  -999.0,     251,    14.7508, -999.00,9,     -999.0
33KB20130305,       PRS2,       1,          1,         10,       8010,2,20130305,       2341,  21.343667,-158.2735000,       1563,   299.7,  11.5216,  34.1808,2,  34.1811,2,    171.5,2,   171.0,2, -999.00,9, -999.00,9,  -999.0,     299,    11.4837, -999.00,9,     -999.0
33KB20130305,       PRS2,       1,          1,          9,       8009,2,20130305,       2341,  21.343667,-158.2735000,       1563,   349.2,  10.4750,  34.1398,2,  34.1387,2,    162.1,2,   162.6,2, -999.00,9, -999.00,9,  -999.0,     349,    10.4334, -999.00,9,     -999.0
33KB20130305,       PRS2,       1,          1,          8,       8008,2,20130305,       2341,  21.343667,-158.2735000,       1563,   399.7,   8.8780,  34.1322,2,  34.1313,2,    123.9,2,   124.4,2, -999.00,9, -999.00,9,  -999.0,     399,     8.8349, -999.00,9,     -999.0
33KB20130305,       PRS2,       1,          1,          7,       8026,2,20130305,       2341,  21.343667,-158.2735000,       1563,   499.9,   6.9168,  34.1592,2,  34.1581,2,     67.6,2,    67.2,2, -999.00,9, -999.00,9,  -999.0,     502,     6.8699, -999.00,9,     -999.0
33KB20130305,       PRS2,       1,          1,          6,       8006,2,20130305,       2341,  21.343667,-158.2735000,       1563,   598.8,   5.9523,  34.2544,2,  34.2485,3,     40.7,3,    40.3,2, -999.00,9, -999.00,9,  -999.0,     600,     5.9000, -999.00,9,     -999.0
33KB20130305,       PRS2,       1,          1,          5,       8005,2,20130305,       2341,  21.343667,-158.2735000,       1563,   701.3,   5.3458,  34.3804,2,  34.3784,2,     35.4,2,    35.2,2, -999.00,9, -999.00,9,  -999.0,     697,     5.2872, -999.00,9,     -999.0
33KB20130305,       PRS2,       1,          1,          4,       8004,2,20130305,       2341,  21.343667,-158.2735000,       1563,   750.6,   5.1949,  34.4045,2,  34.4049,2,     35.2,2,    35.1,2, -999.00,9, -999.00,9,  -999.0,     750,     5.1327, -999.00,9,     -999.0
33KB20130305,       PRS2,       1,          1,          3,       8003,2,20130305,       2341,  21.343667,-158.2735000,       1563,   901.1,   4.6483,  34.4745,2,  34.4736,2,     40.6,2,    43.9,3, -999.00,9, -999.00,9,  -999.0,     901,     4.5764, -999.00,9,     -999.0
33KB20130305,       PRS2,       1,          1,          2,       8002,2,20130305,       2341,  21.343667,-158.2735000,       1563,   901.1,   4.6428,  34.4749,2,  34.4740,2,     40.8,2,    41.5,2, -999.00,9, -999.00,9,  -999.0,     901,     4.5709, -999.00,9,     -999.0
33KB20130305,       PRS2,       1,          1,          1,       8001,2,20130305,       2341,  21.343667,-158.2735000,       1563,  1021.7,   4.1834,  34.4987,2,  34.5005,2,     44.6,2,    46.2,2, -999.00,9, -999.00,9,  -999.0,    1020,     4.1045, -999.00,9,     -999.0
33KB20130305,       PRS2,       2,          1,         18,       8018,2,20130306,       1021,  22.749167,-158.0178333,       4741,     7.9,  22.7398,  35.4034,2,-999.0000,9,    214.6,1,  -999.0,9, -999.00,9, -999.00,9,  -999.0,       8,    22.7382, -999.00,9,     -999.0
33KB20130305,       PRS2,       2,          1,         17,       8017,2,20130306,       1021,  22.749167,-158.0178333,       4741,     7.6,  22.7400,  35.4034,2,-999.0000,9,    214.5,1,  -999.0,9, -999.00,9, -999.00,9,  -999.0,       9,    22.7385, -999.00,9,     -999.0
33KB20130305,       PRS2,       2,          1,         16,       8016,2,20130306,       1021,  22.749167,-158.0178333,       4741,     7.8,  22.7402,  35.4031,2,-999.0000,9,    214.5,1,  -999.0,9, -999.00,9, -999.00,9,  -999.0,       8,    22.7386, -999.00,9,     -999.0
33KB20130305,       PRS2,       2,          1,         15,       8015,2,20130306,       1021,  22.749167,-158.0178333,       4741,     8.0,  22.7395,  35.4033,2,-999.0000,9,    214.5,1,  -999.0,9, -999.00,9, -999.00,9,  -999.0,       7,    22.7379, -999.00,9,     -999.0
33KB20130305,       PRS2,       2,          1,         14,       8014,2,20130306,       1021,  22.749167,-158.0178333,       4741,     7.8,  22.7391,  35.4034,2,-999.0000,9,    214.4,1,  -999.0,9, -999.00,9, -999.00,9,  -999.0,       7,    22.7376, -999.00,9,     -999.0
33KB20130305,       PRS2,       2,          1,         13,       8025,2,20130306,       1021,  22.749167,-158.0178333,       4741,     7.4,  22.7381,  35.4035,2,-999.0000,9,    214.4,1,  -999.0,9, -999.00,9, -999.00,9,  -999.0,       8,    22.7366, -999.00,9,     -999.0
33KB20130305,       PRS2,       2,          1,         12,       8012,2,20130306,       1021,  22.749167,-158.0178333,       4741,     7.5,  22.7392,  35.4035,2,-999.0000,9,    214.4,1,  -999.0,9, -999.00,9, -999.00,9,  -999.0,       7,    22.7377, -999.00,9,     -999.0
33KB20130305,       PRS2,       2,          1,         11,       8011,2,20130306,       1021,  22.749167,-158.0178333,       4741,     7.7,  22.7410,  35.4030,2,-999.0000,9,    214.4,1,  -999.0,9, -999.00,9, -999.00,9,  -999.0,       7,    22.7395, -999.00,9,     -999.0
33KB20130305,       PRS2,       2,          1,         10,       8010,2,20130306,       1021,  22.749167,-158.0178333,       4741,     7.8,  22.7419,  35.4033,2,-999.0000,9,    214.5,1,  -999.0,9, -999.00,9, -999.00,9,  -999.0,       8,    22.7403, -999.00,9,     -999.0
33KB20130305,       PRS2,       2,          1,          9,       8009,2,20130306,       1021,  22.749167,-158.0178333,       4741,     7.8,  22.7427,  35.4032,2,-999.0000,9,    214.4,1,  -999.0,9, -999.00,9, -999.00,9,  -999.0,       8,    22.7412, -999.00,9,     -999.0
33KB20130305,       PRS2,       2,          1,          8,       8008,2,20130306,       1021,  22.749167,-158.0178333,       4741,     7.6,  22.7448,  35.4034,2,-999.0000,9,    214.4,1,  -999.0,9, -999.00,9, -999.00,9,  -999.0,       7,    22.7432, -999.00,9,     -999.0
33KB20130305,       PRS2,       2,          1,          7,       8026,2,20130306,       1021,  22.749167,-158.0178333,       4741,     7.6,  22.7449,  35.4032,2,-999.0000,9,    214.3,1,  -999.0,9, -999.00,9, -999.00,9,  -999.0,       7,    22.7434, -999.00,9,     -999.0
33KB20130305,       PRS2,       2,          1,          6,       8006,2,20130306,       1021,  22.749167,-158.0178333,       4741,     7.6,  22.7448,  35.4036,2,-999.0000,9,    214.3,1,  -999.0,9, -999.00,9, -999.00,9,  -999.0,       7,    22.7432, -999.00,9,     -999.0
33KB20130305,       PRS2,       2,          1,          5,       8005,2,20130306,       1021,  22.749167,-158.0178333,       4741,     7.6,  22.7444,  35.4036,2,-999.0000,9,    214.3,1,  -999.0,9, -999.00,9, -999.00,9,  -999.0,       7,    22.7429, -999.00,9,     -999.0
33KB20130305,       PRS2,       2,          1,          4,       8004,2,20130306,       1021,  22.749167,-158.0178333,       4741,     7.6,  22.7457,  35.4044,2,-999.0000,9,    214.3,1,  -999.0,9, -999.00,9, -999.00,9,  -999.0,       8,    22.7441, -999.00,9,     -999.0
33KB20130305,       PRS2,       2,          1,          3,       8003,2,20130306,       1021,  22.749167,-158.0178333,       4741,     7.7,  22.7466,  35.4042,2,-999.0000,9,    214.3,1,  -999.0,9, -999.00,9, -999.00,9,  -999.0,       8,    22.7450, -999.00,9,     -999.0
33KB20130305,       PRS2,       2,          1,          2,       8002,2,20130306,       1021,  22.749167,-158.0178333,       4741,     8.0,  22.7439,  35.4040,2,-999.0000,9,    214.3,1,  -999.0,9, -999.00,9, -999.00,9,  -999.0,       6,    22.7423, -999.00,9,     -999.0
33KB20130305,       PRS2,       2,          1,          1,       8001,2,20130306,       1021,  22.749167,-158.0178333,       4741,     7.8,  22.7438,  35.4040,2,-999.0000,9,    214.3,1,  -999.0,9, -999.00,9, -999.00,9,  -999.0,       8,    22.7423, -999.00,9,     -999.0
33KB20130305,       PRS2,       2,          2,         22,       8022,2,20130306,       1154,  22.749000,-158.0178333,       4741,     6.4,  22.7614,  35.4048,2,  35.4050,2,    214.4,1,  -999.0,9, -999.00,9, -999.00,9,  -999.0,       5,    22.7601, -999.00,9,     -999.0
33KB20130305,       PRS2,       2,          2,         21,       8021,2,20130306,       1154,  22.749000,-158.0178333,       4741,     6.4,  22.7617,  35.4049,2,  35.4046,2,    214.5,1,  -999.0,9, -999.00,9, -999.00,9,  -999.0,       6,    22.7604, -999.00,9,     -999.0
33KB20130305,       PRS2,       2,          2,         20,       8020,2,20130306,       1154,  22.749000,-158.0178333,       4741,     6.3,  22.7585,  35.4047,2,  35.4044,2,    214.6,1,  -999.0,9, -999.00,9, -999.00,9,  -999.0,       6,    22.7573, -999.00,9,     -999.0
33KB20130305,       PRS2,       2,          2,         19,       8019,2,20130306,       1154,  22.749000,-158.0178333,       4741,    25.4,  22.7719,  35.4062,2,  35.4080,2,    214.8,1,  -999.0,9, -999.00,9, -999.00,9,  -999.0,      25,    22.7667, -999.00,9,     -999.0
33KB20130305,       PRS2,       2,          2,         18,       8018,2,20130306,       1154,  22.749000,-158.0178333,       4741,    25.2,  22.7766,  35.4079,2,  35.4080,2,    214.9,1,  -999.0,9, -999.00,9, -999.00,9,  -999.0,      25,    22.7715, -999.00,9,     -999.0
33KB20130305,       PRS2,       2,          2,         17,       8017,2,20130306,       1154,  22.749000,-158.0178333,       4741,    25.0,  22.7768,  35.4081,2,  35.4084,2,    214.9,1,  -999.0,9, -999.00,9, -999.00,9,  -999.0,      24,    22.7718, -999.00,9,     -999.0
33KB20130305,       PRS2,       2,          2,         16,       8016,2,20130306,       1154,  22.749000,-158.0178333,       4741,    45.2,  22.7812,  35.4098,2,  35.4109,2,    214.9,1,  -999.0,9, -999.00,9, -999.00,9,  -999.0,      44,    22.7720, -999.00,9,     -999.0
33KB20130305,       PRS2,       2,          2,         15,       8015,2,20130306,       1154,  22.749000,-158.0178333,       4741,    45.2,  22.7819,  35.4102,2,  35.4115,2,    214.8,1,  -999.0,9, -999.00,9, -999.00,9,  -999.0,      43,    22.7727, -999.00,9,     -999.0
33KB20130305,       PRS2,       2,          2,         14,       8014,2,20130306,       1154,  22.749000,-158.0178333,       4741,    45.1,  22.7847,  35.4113,2,  35.4117,2,    214.6,1,  -999.0,9, -999.00,9, -999.00,9,  -999.0,      44,    22.7756, -999.00,9,     -999.0
33KB20130305,       PRS2,       2,          2,         13,       8025,2,20130306,       1154,  22.749000,-158.0178333,       4741,    76.4,  22.7792,  35.4238,2,  35.4243,2,    213.7,1,  -999.0,9, -999.00,9, -999.00,9,  -999.0,      76,    22.7637, -999.00,9,     -999.0
33KB20130305,       PRS2,       2,          2,         12,       8012,2,20130306,       1154,  22.749000,-158.0178333,       4741,    76.4,  22.7801,  35.4240,2,  35.4249,2,    213.8,1,  -999.0,9, -999.00,9, -999.00,9,  -999.0,      76,    22.7646, -999.00,9,     -999.0
33KB20130305,       PRS2,       2,          2,         11,       8011,2,20130306,       1154,  22.749000,-158.0178333,       4741,    76.5,  22.7810,  35.4245,2,  35.4239,2,    213.8,1,  -999.0,9, -999.00,9, -999.00,9,  -999.0,      77,    22.7655, -999.00,9,     -999.0
33KB20130305,       PRS2,       2,          2,         10,       8010,2,20130306,       1154,  22.749000,-158.0178333,       4741,    99.6,  22.7602,  35.4235,2,  35.4239,2,    213.0,1,  -999.0,9, -999.00,9, -999.00,9,  -999.0,      99,    22.7400, -999.00,9,     -999.0
33KB20130305,       PRS2,       2,          2,          9,       8009,2,20130306,       1154,  22.749000,-158.0178333,       4741,    99.5,  22.7599,  35.4235,2,  35.4235,2,    212.9,1,  -999.0,9, -999.00,9, -999.00,9,  -999.0,      99,    22.7397, -999.00,9,     -999.0
33KB20130305,       PRS2,       2,          2,          8,       8008,2,20130306,       1154,  22.749000,-158.0178333,       4741,    99.6,  22.7593,  35.4234,2,  35.4233,2,    212.7,1,  -999.0,9, -999.00,9, -999.00,9,  -999.0,      98,    22.7391, -999.00,9,     -999.0
33KB20130305,       PRS2,       2,          2,          7,       8026,2,20130306,       1154,  22.749000,-158.0178333,       4741,   124.9,  22.6114,  35.3802,2,  35.3819,2,    209.7,1,  -999.0,9, -999.00,9, -999.00,9,  -999.0,     124,    22.5862, -999.00,9,     -999.0
33KB20130305,       PRS2,       2,          2,          6,       8006,2,20130306,       1154,  22.749000,-158.0178333,       4741,   124.9,  22.6106,  35.3805,2,  35.3827,2,    209.8,1,  -999.0,9, -999.00,9, -999.00,9,  -999.0,     124,    22.5854, -999.00,9,     -999.0
33KB20130305,       PRS2,       2,          2,          5,       8005,2,20130306,       1154,  22.749000,-158.0178333,       4741,   124.9,  22.6090,  35.3795,2,  35.3806,2,    210.0,1,  -999.0,9, -999.00,9, -999.00,9,  -999.0,     125,    22.5838, -999.00,9,     -999.0
33KB20130305,       PRS2,       2,          2,          4,       8004,2,20130306,       1154,  22.749000,-158.0178333,       4741,   150.8,  21.9543,  35.3375,2,  35.3376,2,    205.9,1,  -999.0,9, -999.00,9, -999.00,9,  -999.0,     150,    21.9245, -999.00,9,     -999.0
33KB20130305,       PRS2,       2,          2,          3,       8003,2,20130306,       1154,  22.749000,-158.0178333,       4741,   176.5,  20.7108,  35.1610,2,  35.1699,2,    206.7,1,  -999.0,9, -999.00,9, -999.00,9,  -999.0,     175,    20.6774, -999.00,9,     -999.0
33KB20130305,       PRS2,       2,          2,          2,       8002,2,20130306,       1154,  22.749000,-158.0178333,       4741,   441.0,   8.4240,  34.0971,2,  34.0872,2,    136.0,1,  -999.0,9, -999.00,9, -999.00,9,  -999.0,     441,     8.3779, -999.00,9,     -999.0
33KB20130305,       PRS2,       2,          2,          1,       8001,2,20130306,       1154,  22.749000,-158.0178333,       4741,  1020.8,   4.3602,  34.4840,2,  34.4856,2,     39.1,1,  -999.0,9, -999.00,9, -999.00,9,  -999.0,    1022,     4.2800, -999.00,9,     -999.0