BOTTLE,20141031SIOCCHAMB
EXPOCODE,SECT_ID,STNNBR,CASTNO,SAMPNO,BTLNBR,BTLNBR_FLAG_W,DATE,TIME,LATITUDE,LONGITUDE,DEPTH,CTDPRS,CTDTMP,CTDSAL,CTDSAL_FLAG_W,SALNTY,SALNTY_FLAG_W,CTDOXY,CTDOXY_FLAG_W,OXYGEN,OXYGEN_FLAG_W,SILCAT,SILCAT_FLAG_W,PHSPHT,PHSPHT_FLAG_W,REVPRS,CTDRAW,THETA,NO2+NO3,NO2+NO3_FLAG_W,REVTMP
,,,,,,,,,,,METERS,DBAR,ITS-90,PSS-78,,PSS-78,,UMOL/KG,,UMOL/KG,,UMOL/KG,,UMOL/KG,,DBAR,DBAR,ITS-90,UMOL/KG,,DEG C
33KB20130305,       PRS2,       2,          3,         24,       8024,2,20130306,       1506,  22.749833,-158.0011667,       4742,     4.3,  22.7004,  35.3925,2,  35.3926,2,    214.0,2,   213.1,2,    1.31,2,    0.09,2,  -999.0,       4,    22.6995,    0.04,2,     -999.0
33KB20130305,       PRS2,       2,          3,         23,       8023,2,20130306,       1506,  22.749833,-158.0011667,       4742,   500.9,   7.6450,  34.1456,2,  34.1444,2,     82.6,2,    86.5,2,   46.03,2,    2.24,2,  -999.0,     500,     7.5953,   30.13,2,     -999.0
33KB20130305,       PRS2,       2,          3,         22,       8022,2,20130306,       1506,  22.749833,-158.0011667,       4742,   749.4,   5.4049,  34.3728,2,  34.3682,2,     23.4,2,    22.4,2,   82.19,2,    2.97,2,  -999.0,     749,     5.3416,   40.00,2,     -999.0
33KB20130305,       PRS2,       2,          3,         21,       8021,2,20130306,       1506,  22.749833,-158.0011667,       4742,   999.4,   4.3321,  34.4882,2,  34.4877,2,     39.2,2,    39.9,2,  101.42,2,    3.00,2,  -999.0,    1000,     4.2540,   41.80,2,     -999.0
33KB20130305,       PRS2,       2,          3,         20,       8020,2,20130306,       1506,  22.749833,-158.0011667,       4742,  1200.2,   3.7976,  34.5226,2,  34.5211,2,     46.9,2,    46.3,2,  112.72,2,    2.98,2,  -999.0,    1200,     3.7069,   41.31,2,     -999.0
33KB20130305,       PRS2,       2,          3,         19,       8019,2,20130306,       1506,  22.749833,-158.0011667,       4742,  1400.0,   3.2976,  34.5485,2,  34.5472,2,     56.1,2,    56.7,2,  123.40,2,    2.94,2,  -999.0,    1400,     3.1949,   40.82,2,     -999.0
33KB20130305,       PRS2,       2,          3,         18,       8018,2,20130306,       1506,  22.749833,-158.0011667,       4742,  1600.4,   2.8771,  34.5745,2,  34.5741,2,     65.0,2,    65.2,2,  134.18,2,    2.90,2,  -999.0,    1600,     2.7623,   40.43,2,     -999.0
33KB20130305,       PRS2,       2,          3,         17,       8017,2,20130306,       1506,  22.749833,-158.0011667,       4742,  1799.0,   2.5276,  34.5955,2,  34.5946,2,     75.1,2,    75.5,2,  139.77,2,    2.85,2,  -999.0,    1798,     2.4005,   39.92,2,     -999.0
33KB20130305,       PRS2,       2,          3,         16,       8016,2,20130306,       1506,  22.749833,-158.0011667,       4742,  2000.1,   2.2449,  34.6138,2,  34.6142,2,     85.2,2,    85.6,2,  146.26,2,    2.80,2,  -999.0,    2000,     2.1048,   39.42,2,     -999.0
33KB20130305,       PRS2,       2,          3,         15,       8015,2,20130306,       1506,  22.749833,-158.0011667,       4742,  2200.0,   2.0234,  34.6275,2,  34.6278,2,     95.0,2,    95.4,2,  150.85,2,    2.74,2,  -999.0,    2200,     1.8695,   38.81,2,     -999.0
33KB20130305,       PRS2,       2,          3,         14,       8014,2,20130306,       1506,  22.749833,-158.0011667,       4742,  2400.8,   1.8906,  34.6382,2,  34.6376,2,    101.3,2,   102.0,2,  153.08,2,    2.72,2,  -999.0,    2401,     1.7213,   38.40,2,     -999.0
33KB20130305,       PRS2,       2,          3,         13,       8025,2,20130306,       1506,  22.749833,-158.0011667,       4742,  2599.4,   1.7695,  34.6480,2,  34.6474,2,    107.8,2,   108.4,2,  157.32,2,    2.69,2,  -999.0,    2599,     1.5846,   38.19,2,     -999.0
33KB20130305,       PRS2,       2,          3,         12,       8012,2,20130306,       1506,  22.749833,-158.0011667,       4742,  2799.0,   1.6673,  34.6563,2,  34.6572,2,    112.5,2,   113.8,2,  157.89,2,    2.66,2,  -999.0,    2799,     1.4660,   37.81,2,     -999.0
33KB20130305,       PRS2,       2,          3,         11,       8011,2,20130306,       1506,  22.749833,-158.0011667,       4742,  2999.7,   1.5772,  34.6638,2,  34.6639,2,    120.2,2,   120.5,2,  159.77,2,    2.60,2,  -999.0,    2999,     1.3588,   37.27,2,     -999.0
33KB20130305,       PRS2,       2,          3,         10,       8010,2,20130306,       1506,  22.749833,-158.0011667,       4742,  3200.1,   1.5155,  34.6714,2,  34.6710,2,    129.1,2,   129.2,2,  157.67,2,    2.55,2,  -999.0,    3200,     1.2791,   36.86,2,     -999.0
33KB20130305,       PRS2,       2,          3,          9,       8009,2,20130306,       1506,  22.749833,-158.0011667,       4742,  3400.2,   1.4889,  34.6762,2,  34.6759,2,    134.8,2,   135.0,2,  155.34,2,    2.52,2,  -999.0,    3399,     1.2332,   36.42,2,     -999.0
33KB20130305,       PRS2,       2,          3,          8,       8008,2,20130306,       1506,  22.749833,-158.0011667,       4742,  3599.8,   1.4660,  34.6801,2,  34.6794,2,    140.1,2,   140.3,2,  153.85,2,    2.49,2,  -999.0,    3602,     1.1905,   36.08,2,     -999.0
33KB20130305,       PRS2,       2,          3,          7,       8026,2,20130306,       1506,  22.749833,-158.0011667,       4742,  3799.8,   1.4582,  34.6823,2,  34.6820,2,    143.9,2,   144.2,2,  151.16,2,    2.48,2,  -999.0,    3800,     1.1619,   35.99,2,     -999.0
33KB20130305,       PRS2,       2,          3,          6,       8006,2,20130306,       1506,  22.749833,-158.0011667,       4742,  4001.3,   1.4574,  34.6845,2,  34.6842,2,    147.2,2,   147.4,2,  150.75,2,    2.45,2,  -999.0,    4001,     1.1396,   35.41,2,     -999.0
33KB20130305,       PRS2,       2,          3,          5,       8005,2,20130306,       1506,  22.749833,-158.0011667,       4742,  4199.3,   1.4661,  34.6858,2,  34.6861,2,    149.7,2,   149.3,2,  149.71,2,    2.45,2,  -999.0,    4198,     1.1262,   35.31,2,     -999.0
33KB20130305,       PRS2,       2,          3,          4,       8004,2,20130306,       1506,  22.749833,-158.0011667,       4742,  4398.2,   1.4816,  34.6866,2,  34.6873,2,    150.8,2,   151.1,2,  148.36,2,    2.45,2,  -999.0,    4397,     1.1189,   35.23,2,     -999.0
33KB20130305,       PRS2,       2,          3,          3,       8003,2,20130306,       1506,  22.749833,-158.0011667,       4742,  4499.0,   1.4904,  34.6869,2,  34.6879,2,    151.4,2,   151.4,2,  150.31,2,    2.43,2,  -999.0,    4499,     1.1158,   35.12,2,     -999.0
33KB20130305,       PRS2,       2,          3,          2,       8002,2,20130306,       1506,  22.749833,-158.0011667,       4742,  4599.1,   1.4997,  34.6875,2,  34.6869,2,    152.1,2,   151.2,2,  148.83,2,    2.43,2,  -999.0,    4598,     1.1133,   35.11,2,     -999.0
33KB20130305,       PRS2,       2,          3,          1,       8001,2,20130306,       1506,  22.749833,-158.0011667,       4742,  4809.9,   1.5236,  34.6874,2,  34.6875,2,    152.1,2,   151.9,2,  146.73,2,    2.42,2,  -999.0,    4810,     1.1115,   35.06,2,     -999.0
33KB20130305,       PRS2,       2,          4,         24,       8024,2,20130306,       2116,  22.749667,-158.0000000,       4740,     7.1,  22.7487,  35.4141,2,  35.4133,2,    214.4,2,   214.6,2,    1.33,2,    0.09,2,  -999.0,       6,    22.7473,    0.02,2,     -999.0
33KB20130305,       PRS2,       2,          4,         23,       8023,2,20130306,       2116,  22.749667,-158.0000000,       4740,    60.2,  22.5922,  35.4318,2,  35.4316,2,    215.4,2,   215.6,2,    1.32,2,    0.08,2,  -999.0,      60,    22.5801,    0.03,2,     -999.0
33KB20130305,       PRS2,       2,          4,         22,       8022,2,20130306,       2116,  22.749667,-158.0000000,       4740,   130.1,  22.5117,  35.4237,2,  35.4253,2,    215.2,2,   213.6,2,    1.35,2,    0.06,2,  -999.0,     129,    22.4855,    0.04,2,     -999.0
33KB20130305,       PRS2,       2,          4,         21,       8021,2,20130306,       2116,  22.749667,-158.0000000,       4740,   151.5,  22.2508,  35.3799,2,  35.3827,2,    214.2,2,   210.1,3,    1.53,2,    0.06,2,  -999.0,     152,    22.2205,    0.20,2,     -999.0
33KB20130305,       PRS2,       2,          4,         20,       8020,2,20130306,       2116,  22.749667,-158.0000000,       4740,   205.0,  19.0036,  34.9520,2,  34.9459,2,    203.0,2,   201.9,2,    3.55,2,    0.21,2,  -999.0,     205,    18.9670,    2.22,2,     -999.0
33KB20130305,       PRS2,       2,          4,         19,       8019,2,20130306,       2116,  22.749667,-158.0000000,       4740,   256.6,  15.7162,  34.5551,2,  34.5551,2,    201.4,2,   200.6,2,    6.64,2,    0.44,2,  -999.0,     256,    15.6762,    5.74,2,     -999.0
33KB20130305,       PRS2,       2,          4,         18,       8018,2,20130306,       2116,  22.749667,-158.0000000,       4740,   292.6,  13.3619,  34.2785,2,  34.2681,2,    200.3,2,   200.6,2,    9.68,2,    0.68,2,  -999.0,     292,    13.3210,    9.03,2,     -999.0
33KB20130305,       PRS2,       2,          4,         17,       8017,2,20130306,       2116,  22.749667,-158.0000000,       4740,   328.7,  11.5532,  34.1812,2,  34.1821,2,    200.2,2,   199.2,2,   12.87,2,    0.92,2,  -999.0,     329,    11.5115,   12.65,2,     -999.0
33KB20130305,       PRS2,       2,          4,         16,       8016,2,20130306,       2116,  22.749667,-158.0000000,       4740,   373.2,  10.4224,  34.1423,2,  34.1428,2,    194.2,2,   194.5,2,   18.41,2,    1.11,2,  -999.0,     373,    10.3780,   15.64,2,     -999.0
33KB20130305,       PRS2,       2,          4,         15,       8015,2,20130306,       2116,  22.749667,-158.0000000,       4740,   401.0,   9.5831,  34.0997,2,  34.1007,2,    180.9,2,   180.2,2,   23.47,2,    1.33,2,  -999.0,     402,     9.5379,   18.53,2,     -999.0
33KB20130305,       PRS2,       2,          4,         14,       8014,2,20130306,       2116,  22.749667,-158.0000000,       4740,   425.2,   9.0941,  34.1097,2,  34.1080,2,    144.0,2,   144.9,2,   29.55,2,    1.67,2,  -999.0,     425,     9.0476,   22.55,2,     -999.0
33KB20130305,       PRS2,       2,          4,         13,       8025,2,20130306,       2116,  22.749667,-158.0000000,       4740,   482.9,   8.2230,  34.1453,2,  34.1438,2,     99.4,2,    99.1,2,   42.27,2,    2.11,2,  -999.0,     484,     8.1730,   28.24,2,     -999.0
33KB20130305,       PRS2,       2,          4,         12,       8012,2,20130306,       2116,  22.749667,-158.0000000,       4740,   539.3,   7.3642,  34.1544,2,  34.1538,2,     78.0,2,    75.4,2,   50.74,2,    2.37,2,  -999.0,     539,     7.3116,   31.90,2,     -999.0
33KB20130305,       PRS2,       2,          4,         11,       8011,2,20130306,       2116,  22.749667,-158.0000000,       4740,   580.2,   6.7295,  34.1744,2,  34.1785,2,     56.3,2,    55.8,2,   59.10,2,    2.58,2,  -999.0,     580,     6.6756,   34.43,2,     -999.0
33KB20130305,       PRS2,       2,          4,         10,       8010,2,20130306,       2116,  22.749667,-158.0000000,       4740,   640.1,   5.7708,  34.1902,2,  34.1885,2,     39.3,2,    39.0,2,   76.68,2,    2.79,2,  -999.0,     641,     5.7157,   37.99,2,     -999.0
33KB20130305,       PRS2,       2,          4,          9,       8009,2,20130306,       2116,  22.749667,-158.0000000,       4740,   685.9,   5.6094,  34.2957,2,  34.2885,2,     28.2,2,    27.4,2,   80.39,2,    2.89,2,  -999.0,     685,     5.5508,   39.42,2,     -999.0
33KB20130305,       PRS2,       2,          4,          8,       8008,2,20130306,       2116,  22.749667,-158.0000000,       4740,   733.5,   5.4560,  34.3555,2,  34.3272,4,     23.5,3,    24.0,2,   83.44,2,    2.95,2,  -999.0,     732,     5.3939,   40.00,2,     -999.0
33KB20130305,       PRS2,       2,          4,          7,       8026,2,20130306,       2116,  22.749667,-158.0000000,       4740,   781.0,   5.2253,  34.4022,2,  34.4018,2,     23.7,2,    23.8,2,   87.35,2,    2.99,2,  -999.0,     780,     5.1603,   40.90,2,     -999.0
33KB20130305,       PRS2,       2,          4,          6,       8006,2,20130306,       2116,  22.749667,-158.0000000,       4740,   824.5,   4.9794,  34.4200,2,  34.4196,2,     30.1,2,    29.9,2,   93.88,2,    2.96,2,  -999.0,     824,     4.9120,   40.88,2,     -999.0
33KB20130305,       PRS2,       2,          4,          5,       8005,2,20130306,       2116,  22.749667,-158.0000000,       4740,   868.8,   4.7556,  34.4483,2,  34.4489,2,     35.4,2,    35.0,2,   97.53,2,    2.94,2,  -999.0,     868,     4.6858,   40.91,2,     -999.0
33KB20130305,       PRS2,       2,          4,          4,       8004,2,20130306,       2116,  22.749667,-158.0000000,       4740,   906.5,   4.6013,  34.4677,2,  34.4669,2,     36.2,2,    35.7,2,   98.89,2,    2.95,2,  -999.0,     906,     4.5292,   41.14,2,     -999.0
33KB20130305,       PRS2,       2,          4,          3,       8003,2,20130306,       2116,  22.749667,-158.0000000,       4740,   943.7,   4.4698,  34.4776,2,  34.4763,2,     37.3,2,    37.4,2,  100.28,2,    2.94,2,  -999.0,     943,     4.3954,   41.28,2,     -999.0
33KB20130305,       PRS2,       2,          4,          2,       8002,2,20130306,       2116,  22.749667,-158.0000000,       4740,   982.4,   4.3299,  34.4872,2,  34.4875,2,     39.4,2,    39.5,2,  103.55,2,    2.96,2,  -999.0,     983,     4.2532,   41.40,2,     -999.0
33KB20130305,       PRS2,       2,          4,          1,       8001,2,20130306,       2116,  22.749667,-158.0000000,       4740,  1019.6,   4.2509,  34.4927,2,  34.4946,2,     40.7,2,    40.9,2,  105.73,2,    2.95,2,  -999.0,    1019,     4.1717,   41.21,2,     -999.0
33KB20130305,       PRS2,       2,          5,         24,       8024,2,20130306,       2349,  22.749667,-158.0005000,       4739,     5.9,  22.7087,  35.4310,2,  35.4306,2,    214.5,1,  -999.0,9, -999.00,9, -999.00,9,  -999.0,       6,    22.7075, -999.00,9,     -999.0
33KB20130305,       PRS2,       2,          5,         23,       8023,2,20130306,       2349,  22.749667,-158.0005000,       4739,     5.8,  22.7073,  35.4309,2,-999.0000,5,    214.5,1,  -999.0,9, -999.00,9, -999.00,9,  -999.0,       6,    22.7062, -999.00,9,     -999.0
33KB20130305,       PRS2,       2,          5,         22,       8022,2,20130306,       2349,  22.749667,-158.0005000,       4739,    25.4,  22.6211,  35.4337,2,-999.0000,5,    216.1,1,  -999.0,9, -999.00,9, -999.00,9,  -999.0,      25,    22.6160, -999.00,9,     -999.0
33KB20130305,       PRS2,       2,          5,         21,       8021,2,20130306,       2349,  22.749667,-158.0005000,       4739,    25.4,  22.6212,  35.4337,2,  35.4336,2,    216.0,1,  -999.0,9, -999.00,9, -999.00,9,  -999.0,      25,    22.6161, -999.00,9,     -999.0
33KB20130305,       PRS2,       2,          5,         20,       8020,2,20130306,       2349,  22.749667,-158.0005000,       4739,    25.3,  22.6212,  35.4337,2,-999.0000,5,    215.9,1,  -999.0,9, -999.00,9, -999.00,9,  -999.0,      24,    22.6161, -999.00,9,     -999.0
33KB20130305,       PRS2,       2,          5,         19,       8019,2,20130306,       2349,  22.749667,-158.0005000,       4739,    45.2,  22.5957,  35.4335,2,  35.4332,2,    215.2,1,  -999.0,9, -999.00,9, -999.00,9,  -999.0,      43,    22.5866, -999.00,9,     -999.0
33KB20130305,       PRS2,       2,          5,         18,       8018,2,20130306,       2349,  22.749667,-158.0005000,       4739,    45.4,  22.5954,  35.4334,2,-999.0000,5,    215.2,1,  -999.0,9, -999.00,9, -999.00,9,  -999.0,      44,    22.5862, -999.00,9,     -999.0
33KB20130305,       PRS2,       2,          5,         17,       8017,2,20130306,       2349,  22.749667,-158.0005000,       4739,    75.8,  22.5844,  35.4337,2,  35.4336,2,    215.3,1,  -999.0,9, -999.00,9, -999.00,9,  -999.0,      76,    22.5691, -999.00,9,     -999.0
33KB20130305,       PRS2,       2,          5,         16,       8016,2,20130306,       2349,  22.749667,-158.0005000,       4739,    75.8,  22.5841,  35.4335,2,-999.0000,5,    215.2,1,  -999.0,9, -999.00,9, -999.00,9,  -999.0,      77,    22.5688, -999.00,9,     -999.0
33KB20130305,       PRS2,       2,          5,         15,       8015,2,20130306,       2349,  22.749667,-158.0005000,       4739,   101.2,  22.5784,  35.4329,2,  35.4334,2,    214.6,1,  -999.0,9, -999.00,9, -999.00,9,  -999.0,     100,    22.5579, -999.00,9,     -999.0
33KB20130305,       PRS2,       2,          5,         14,       8014,2,20130306,       2349,  22.749667,-158.0005000,       4739,   101.0,  22.5780,  35.4328,2,-999.0000,5,    214.9,1,  -999.0,9, -999.00,9, -999.00,9,  -999.0,     100,    22.5576, -999.00,9,     -999.0
33KB20130305,       PRS2,       2,          5,         13,       8025,2,20130306,       2349,  22.749667,-158.0005000,       4739,   124.7,  22.5780,  35.4326,2,  35.4322,2,    215.2,1,  -999.0,9, -999.00,9, -999.00,9,  -999.0,     126,    22.5528, -999.00,9,     -999.0
33KB20130305,       PRS2,       2,          5,         12,       8012,2,20130306,       2349,  22.749667,-158.0005000,       4739,   124.8,  22.5777,  35.4325,2,-999.0000,5,    215.2,1,  -999.0,9, -999.00,9, -999.00,9,  -999.0,     125,    22.5525, -999.00,9,     -999.0
33KB20130305,       PRS2,       2,          5,         11,       8011,2,20130306,       2349,  22.749667,-158.0005000,       4739,   150.1,  22.5143,  35.4217,2,-999.0000,5,    213.8,1,  -999.0,9, -999.00,9, -999.00,9,  -999.0,     150,    22.4840, -999.00,9,     -999.0
33KB20130305,       PRS2,       2,          5,         10,       8010,2,20130306,       2349,  22.749667,-158.0005000,       4739,   150.1,  22.5146,  35.4218,2,  35.4204,2,    213.8,1,  -999.0,9, -999.00,9, -999.00,9,  -999.0,     150,    22.4844, -999.00,9,     -999.0
33KB20130305,       PRS2,       2,          5,          9,       8009,2,20130306,       2349,  22.749667,-158.0005000,       4739,   150.1,  22.5137,  35.4218,2,-999.0000,5,    213.7,1,  -999.0,9, -999.00,9, -999.00,9,  -999.0,     150,    22.4834, -999.00,9,     -999.0
33KB20130305,       PRS2,       2,          5,          8,       8008,2,20130306,       2349,  22.749667,-158.0005000,       4739,   175.8,  21.6857,  35.3154,2,  35.3169,2,    211.8,1,  -999.0,9, -999.00,9, -999.00,9,  -999.0,     175,    21.6512, -999.00,9,     -999.0
33KB20130305,       PRS2,       2,          5,          7,       8026,2,20130306,       2349,  22.749667,-158.0005000,       4739,   175.9,  21.6878,  35.3160,2,-999.0000,5,    211.5,1,  -999.0,9, -999.00,9, -999.00,9,  -999.0,     175,    21.6533, -999.00,9,     -999.0
33KB20130305,       PRS2,       2,          5,          6,       8006,2,20130306,       2349,  22.749667,-158.0005000,       4739,   201.3,  19.6544,  35.0333,2,  35.0398,2,    201.6,1,  -999.0,9, -999.00,9, -999.00,9,  -999.0,     201,    19.6176, -999.00,9,     -999.0
33KB20130305,       PRS2,       2,          5,          5,       8005,2,20130306,       2349,  22.749667,-158.0005000,       4739,   250.2,  16.6185,  34.6559,2,  34.6647,2,    201.5,1,  -999.0,9, -999.00,9, -999.00,9,  -999.0,     249,    16.5779, -999.00,9,     -999.0
33KB20130305,       PRS2,       2,          5,          4,       8004,2,20130306,       2349,  22.749667,-158.0005000,       4739,   350.2,  10.9487,  34.1522,2,  34.1528,2,    191.1,1,  -999.0,9, -999.00,9, -999.00,9,  -999.0,     350,    10.9058, -999.00,9,     -999.0
33KB20130305,       PRS2,       2,          5,          3,       8003,2,20130306,       2349,  22.749667,-158.0005000,       4739,   350.3,  10.9473,  34.1528,2,  34.1530,2,    191.5,1,  -999.0,9, -999.00,9, -999.00,9,  -999.0,     350,    10.9044, -999.00,9,     -999.0
33KB20130305,       PRS2,       2,          5,          2,       8002,2,20130306,       2349,  22.749667,-158.0005000,       4739,   450.3,   9.1417,  34.0903,2,  34.0923,2,    162.1,1,  -999.0,9, -999.00,9, -999.00,9,  -999.0,     451,     9.0921, -999.00,9,     -999.0
33KB20130305,       PRS2,       2,          5,          1,       8001,2,20130306,       2349,  22.749667,-158.0005000,       4739,  1021.2,   4.3215,  34.4878,2,  34.4895,2,     39.6,1,  -999.0,9, -999.00,9, -999.00,9,  -999.0,    1021,     4.2416, -999.00,9,     -999.0