BOTTLE,20141031SIOCCHAMB
EXPOCODE,SECT_ID,STNNBR,CASTNO,SAMPNO,BTLNBR,BTLNBR_FLAG_W,DATE,TIME,LATITUDE,LONGITUDE,DEPTH,CTDPRS,CTDTMP,CTDSAL,CTDSAL_FLAG_W,SALNTY,SALNTY_FLAG_W,CTDOXY,CTDOXY_FLAG_W,OXYGEN,OXYGEN_FLAG_W,SILCAT,SILCAT_FLAG_W,PHSPHT,PHSPHT_FLAG_W,REVPRS,CTDRAW,THETA,NO2+NO3,NO2+NO3_FLAG_W,REVTMP
,,,,,,,,,,,METERS,DBAR,ITS-90,PSS-78,,PSS-78,,UMOL/KG,,UMOL/KG,,UMOL/KG,,UMOL/KG,,DBAR,DBAR,ITS-90,UMOL/KG,,DEG C
33KB20130305,       PRS2,       2,         11,         18,       8018,2,20130307,       1756,  22.749833,-158.0000000,       4740,     7.6,  22.5916,  35.4380,2,-999.0000,5,    215.6,1,  -999.0,9, -999.00,9, -999.00,9,  -999.0,       7,    22.5901, -999.00,9,     -999.0
33KB20130305,       PRS2,       2,         11,         17,       8017,2,20130307,       1756,  22.749833,-158.0000000,       4740,     7.7,  22.5911,  35.4381,2,  35.4381,2,    215.7,1,  -999.0,9, -999.00,9, -999.00,9,  -999.0,       7,    22.5896, -999.00,9,     -999.0
33KB20130305,       PRS2,       2,         11,         16,       8016,2,20130307,       1756,  22.749833,-158.0000000,       4740,    25.3,  22.5931,  35.4380,2,-999.0000,5,    215.6,1,  -999.0,9, -999.00,9, -999.00,9,  -999.0,      25,    22.5880, -999.00,9,     -999.0
33KB20130305,       PRS2,       2,         11,         15,       8015,2,20130307,       1756,  22.749833,-158.0000000,       4740,    25.3,  22.5933,  35.4381,2,  35.4383,2,    215.5,1,  -999.0,9, -999.00,9, -999.00,9,  -999.0,      25,    22.5882, -999.00,9,     -999.0
33KB20130305,       PRS2,       2,         11,         14,       8014,2,20130307,       1756,  22.749833,-158.0000000,       4740,    45.5,  22.5949,  35.4374,2,-999.0000,5,    215.3,1,  -999.0,9, -999.00,9, -999.00,9,  -999.0,      46,    22.5857, -999.00,9,     -999.0
33KB20130305,       PRS2,       2,         11,         13,       8025,2,20130307,       1756,  22.749833,-158.0000000,       4740,    45.3,  22.5931,  35.4378,2,  35.4371,2,    215.3,1,  -999.0,9, -999.00,9, -999.00,9,  -999.0,      46,    22.5839, -999.00,9,     -999.0
33KB20130305,       PRS2,       2,         11,         12,       8012,2,20130307,       1756,  22.749833,-158.0000000,       4740,    75.4,  22.5434,  35.4321,2,-999.0000,5,    215.4,1,  -999.0,9, -999.00,9, -999.00,9,  -999.0,      75,    22.5282, -999.00,9,     -999.0
33KB20130305,       PRS2,       2,         11,         11,       8011,2,20130307,       1756,  22.749833,-158.0000000,       4740,    75.4,  22.5567,  35.4335,2,  35.4332,2,    215.4,1,  -999.0,9, -999.00,9, -999.00,9,  -999.0,      75,    22.5415, -999.00,9,     -999.0
33KB20130305,       PRS2,       2,         11,         10,       8010,2,20130307,       1756,  22.749833,-158.0000000,       4740,   100.8,  22.5178,  35.4316,2,-999.0000,5,    215.5,1,  -999.0,9, -999.00,9, -999.00,9,  -999.0,     100,    22.4975, -999.00,9,     -999.0
33KB20130305,       PRS2,       2,         11,          9,       8009,2,20130307,       1756,  22.749833,-158.0000000,       4740,   100.2,  22.5183,  35.4318,2,  35.4312,2,    215.4,1,  -999.0,9, -999.00,9, -999.00,9,  -999.0,     100,    22.4981, -999.00,9,     -999.0
33KB20130305,       PRS2,       2,         11,          8,       8008,2,20130307,       1756,  22.749833,-158.0000000,       4740,   125.3,  22.5184,  35.4306,2,-999.0000,5,    216.0,1,  -999.0,9, -999.00,9, -999.00,9,  -999.0,     125,    22.4931, -999.00,9,     -999.0
33KB20130305,       PRS2,       2,         11,          7,       8026,2,20130307,       1756,  22.749833,-158.0000000,       4740,   125.4,  22.5174,  35.4304,2,  35.4304,2,    216.0,1,  -999.0,9, -999.00,9, -999.00,9,  -999.0,     125,    22.4922, -999.00,9,     -999.0
33KB20130305,       PRS2,       2,         11,          6,       8006,2,20130307,       1756,  22.749833,-158.0000000,       4740,   150.7,  22.5067,  35.4279,2,-999.0000,5,    215.7,1,  -999.0,9, -999.00,9, -999.00,9,  -999.0,     149,    22.4763, -999.00,9,     -999.0
33KB20130305,       PRS2,       2,         11,          5,       8005,2,20130307,       1756,  22.749833,-158.0000000,       4740,   150.5,  22.5060,  35.4279,2,  35.4281,2,    215.7,1,  -999.0,9, -999.00,9, -999.00,9,  -999.0,     150,    22.4757, -999.00,9,     -999.0
33KB20130305,       PRS2,       2,         11,          4,       8004,2,20130307,       1756,  22.749833,-158.0000000,       4740,   175.1,  22.0951,  35.3678,2,-999.0000,5,    213.2,1,  -999.0,9, -999.00,9, -999.00,9,  -999.0,     175,    22.0603, -999.00,9,     -999.0
33KB20130305,       PRS2,       2,         11,          3,       8003,2,20130307,       1756,  22.749833,-158.0000000,       4740,   175.1,  22.0494,  35.3591,2,  35.3664,2,    212.9,1,  -999.0,9, -999.00,9, -999.00,9,  -999.0,     174,    22.0146, -999.00,9,     -999.0
33KB20130305,       PRS2,       2,         11,          2,       8002,2,20130307,       1756,  22.749833,-158.0000000,       4740,   400.0,   9.1168,  34.0922,2,  34.0940,2,    163.4,1,  -999.0,9, -999.00,9, -999.00,9,  -999.0,     400,     9.0730, -999.00,9,     -999.0
33KB20130305,       PRS2,       2,         11,          1,       8001,2,20130307,       1756,  22.749833,-158.0000000,       4740,  1020.1,   4.3063,  34.4887,2,  34.4895,2,     39.6,1,  -999.0,9, -999.00,9, -999.00,9,  -999.0,    1019,     4.2266, -999.00,9,     -999.0
33KB20130305,       PRS2,       2,         12,         15,       8015,2,20130307,       2054,  22.791833,-158.0648333,       4745,     7.4,  22.9715,  35.3849,2,  35.3841,2,    214.3,1,  -999.0,9, -999.00,9, -999.00,9,  -999.0,       6,    22.9699, -999.00,9,     -999.0
33KB20130305,       PRS2,       2,         12,         14,       8014,2,20130307,       2054,  22.791833,-158.0648333,       4745,     7.2,  22.9701,  35.3851,2,-999.0000,5,    214.6,1,  -999.0,9, -999.00,9, -999.00,9,  -999.0,       7,    22.9687, -999.00,9,     -999.0
33KB20130305,       PRS2,       2,         12,         13,       8025,2,20130307,       2054,  22.791833,-158.0648333,       4745,    26.5,  22.7592,  35.3867,2,-999.0000,5,    213.0,1,  -999.0,9, -999.00,9, -999.00,9,  -999.0,      26,    22.7538, -999.00,9,     -999.0
33KB20130305,       PRS2,       2,         12,         12,       8012,2,20130307,       2054,  22.791833,-158.0648333,       4745,    26.5,  22.7721,  35.3855,2,-999.0000,5,    212.9,1,  -999.0,9, -999.00,9, -999.00,9,  -999.0,      27,    22.7667, -999.00,9,     -999.0
33KB20130305,       PRS2,       2,         12,         11,       8011,2,20130307,       2054,  22.791833,-158.0648333,       4745,    26.5,  22.7731,  35.3852,2,-999.0000,5,    213.0,1,  -999.0,9, -999.00,9, -999.00,9,  -999.0,      27,    22.7678, -999.00,9,     -999.0
33KB20130305,       PRS2,       2,         12,         10,       8010,2,20130307,       2054,  22.791833,-158.0648333,       4745,    26.4,  22.7753,  35.3850,2,-999.0000,5,    213.0,1,  -999.0,9, -999.00,9, -999.00,9,  -999.0,      27,    22.7699, -999.00,9,     -999.0
33KB20130305,       PRS2,       2,         12,          9,       8009,2,20130307,       2054,  22.791833,-158.0648333,       4745,    26.2,  22.7745,  35.3854,2,-999.0000,5,    213.0,1,  -999.0,9, -999.00,9, -999.00,9,  -999.0,      26,    22.7692, -999.00,9,     -999.0
33KB20130305,       PRS2,       2,         12,          8,       8008,2,20130307,       2054,  22.791833,-158.0648333,       4745,    46.4,  22.6911,  35.4250,2,-999.0000,5,    215.6,1,  -999.0,9, -999.00,9, -999.00,9,  -999.0,      46,    22.6817, -999.00,9,     -999.0
33KB20130305,       PRS2,       2,         12,          7,       8026,2,20130307,       2054,  22.791833,-158.0648333,       4745,    76.1,  22.6278,  35.4351,2,-999.0000,5,    215.8,1,  -999.0,9, -999.00,9, -999.00,9,  -999.0,      76,    22.6124, -999.00,9,     -999.0
33KB20130305,       PRS2,       2,         12,          6,       8006,2,20130307,       2054,  22.791833,-158.0648333,       4745,   101.5,  22.6029,  35.4338,2,-999.0000,5,    214.8,1,  -999.0,9, -999.00,9, -999.00,9,  -999.0,     101,    22.5824, -999.00,9,     -999.0
33KB20130305,       PRS2,       2,         12,          5,       8005,2,20130307,       2054,  22.791833,-158.0648333,       4745,   125.1,  22.5937,  35.4319,2,-999.0000,5,    214.8,1,  -999.0,9, -999.00,9, -999.00,9,  -999.0,     125,    22.5684, -999.00,9,     -999.0
33KB20130305,       PRS2,       2,         12,          4,       8004,2,20130307,       2054,  22.791833,-158.0648333,       4745,   151.0,  22.5830,  35.4299,2,-999.0000,5,    214.9,1,  -999.0,9, -999.00,9, -999.00,9,  -999.0,     151,    22.5525, -999.00,9,     -999.0
33KB20130305,       PRS2,       2,         12,          3,       8003,2,20130307,       2054,  22.791833,-158.0648333,       4745,   176.1,  22.1544,  35.3776,2,-999.0000,5,    211.9,1,  -999.0,9, -999.00,9, -999.00,9,  -999.0,     176,    22.1193, -999.00,9,     -999.0
33KB20130305,       PRS2,       2,         12,          2,       8002,2,20130307,       2054,  22.791833,-158.0648333,       4745,   430.5,   8.7540,  34.0775,2,  34.0760,2,    152.5,1,  -999.0,9, -999.00,9, -999.00,9,  -999.0,     430,     8.7079, -999.00,9,     -999.0
33KB20130305,       PRS2,       2,         12,          1,       8001,2,20130307,       2054,  22.791833,-158.0648333,       4745,  1020.0,   4.3781,  34.4834,2,  34.4842,2,     38.8,1,  -999.0,9, -999.00,9, -999.00,9,  -999.0,    1019,     4.2979, -999.00,9,     -999.0
33KB20130305,       PRS2,       2,         13,         23,       8023,2,20130307,       2359,  22.802000,-158.0520000,       4735,     6.3,  22.9099,  35.4223,2,  35.4218,2,    214.1,1,  -999.0,9, -999.00,9, -999.00,9,  -999.0,       7,    22.9086, -999.00,9,     -999.0
33KB20130305,       PRS2,       2,         13,         22,       8022,2,20130307,       2359,  22.802000,-158.0520000,       4735,    24.7,  22.7954,  35.4215,2,  35.4212,2,    215.5,1,  -999.0,9, -999.00,9, -999.00,9,  -999.0,      24,    22.7904, -999.00,9,     -999.0
33KB20130305,       PRS2,       2,         13,         21,       8021,2,20130307,       2359,  22.802000,-158.0520000,       4735,    44.9,  22.7816,  35.4212,2,  35.4202,2,    215.0,1,  -999.0,9, -999.00,9, -999.00,9,  -999.0,      44,    22.7725, -999.00,9,     -999.0
33KB20130305,       PRS2,       2,         13,         20,       8020,2,20130307,       2359,  22.802000,-158.0520000,       4735,    75.4,  22.6393,  35.4240,2,  35.4227,2,    215.5,1,  -999.0,9, -999.00,9, -999.00,9,  -999.0,      74,    22.6241, -999.00,9,     -999.0
33KB20130305,       PRS2,       2,         13,         19,       8019,2,20130307,       2359,  22.802000,-158.0520000,       4735,   100.4,  22.6097,  35.4327,2,  35.4320,2,    215.7,1,  -999.0,9, -999.00,9, -999.00,9,  -999.0,     100,    22.5894, -999.00,9,     -999.0
33KB20130305,       PRS2,       2,         13,         18,       8018,2,20130307,       2359,  22.802000,-158.0520000,       4735,   126.1,  22.5424,  35.4262,2,  35.4261,2,    214.9,1,  -999.0,9, -999.00,9, -999.00,9,  -999.0,     126,    22.5170, -999.00,9,     -999.0
33KB20130305,       PRS2,       2,         13,         17,       8017,2,20130307,       2359,  22.802000,-158.0520000,       4735,   150.0,  22.3521,  35.4128,2,  35.4084,2,    212.8,1,  -999.0,9, -999.00,9, -999.00,9,  -999.0,     150,    22.3220, -999.00,9,     -999.0
33KB20130305,       PRS2,       2,         13,         16,       8016,2,20130307,       2359,  22.802000,-158.0520000,       4735,   199.9,  19.1109,  34.9700,2,-999.0000,5,    200.0,1,  -999.0,9, -999.00,9, -999.00,9,  -999.0,     199,    19.0751, -999.00,9,     -999.0
33KB20130305,       PRS2,       2,         13,         15,       8015,2,20130307,       2359,  22.802000,-158.0520000,       4735,   200.0,  19.0884,  34.9652,2,-999.0000,5,    199.6,1,  -999.0,9, -999.00,9, -999.00,9,  -999.0,     199,    19.0526, -999.00,9,     -999.0
33KB20130305,       PRS2,       2,         13,         14,       8014,2,20130307,       2359,  22.802000,-158.0520000,       4735,   250.8,  15.7555,  34.5668,2,  34.5600,2,    202.2,1,  -999.0,9, -999.00,9, -999.00,9,  -999.0,     251,    15.7162, -999.00,9,     -999.0
33KB20130305,       PRS2,       2,         13,         13,       8025,2,20130307,       2359,  22.802000,-158.0520000,       4735,   300.7,  13.4143,  34.2812,2,-999.0000,5,    195.6,1,  -999.0,9, -999.00,9, -999.00,9,  -999.0,     301,    13.3722, -999.00,9,     -999.0
33KB20130305,       PRS2,       2,         13,         12,       8012,2,20130307,       2359,  22.802000,-158.0520000,       4735,   301.0,  13.4049,  34.2781,2,-999.0000,5,    194.7,1,  -999.0,9, -999.00,9, -999.00,9,  -999.0,     300,    13.3628, -999.00,9,     -999.0
33KB20130305,       PRS2,       2,         13,         11,       8011,2,20130307,       2359,  22.802000,-158.0520000,       4735,   351.0,  11.4519,  34.1656,2,  34.1640,2,    195.7,1,  -999.0,9, -999.00,9, -999.00,9,  -999.0,     349,    11.4075, -999.00,9,     -999.0
33KB20130305,       PRS2,       2,         13,         10,       8010,2,20130307,       2359,  22.802000,-158.0520000,       4735,   399.8,  10.0466,  34.1228,2,-999.0000,5,    185.2,1,  -999.0,9, -999.00,9, -999.00,9,  -999.0,     398,    10.0001, -999.00,9,     -999.0
33KB20130305,       PRS2,       2,         13,          9,       8009,2,20130307,       2359,  22.802000,-158.0520000,       4735,   461.7,   8.5173,  34.0789,2,  34.0788,2,    140.1,1,  -999.0,9, -999.00,9, -999.00,9,  -999.0,     464,     8.4686, -999.00,9,     -999.0
33KB20130305,       PRS2,       2,         13,          8,       8008,2,20130307,       2359,  22.802000,-158.0520000,       4735,   499.7,   7.6660,  34.1470,2,-999.0000,5,     84.5,1,  -999.0,9, -999.00,9, -999.00,9,  -999.0,     499,     7.6163, -999.00,9,     -999.0
33KB20130305,       PRS2,       2,         13,          7,       8026,2,20130307,       2359,  22.802000,-158.0520000,       4735,   499.7,   7.6569,  34.1486,2,-999.0000,5,     83.9,1,  -999.0,9, -999.00,9, -999.00,9,  -999.0,     499,     7.6073, -999.00,9,     -999.0
33KB20130305,       PRS2,       2,         13,          6,       8006,2,20130307,       2359,  22.802000,-158.0520000,       4735,   600.3,   6.4181,  34.2150,2,-999.0000,5,     41.3,1,  -999.0,9, -999.00,9, -999.00,9,  -999.0,     601,     6.3636, -999.00,9,     -999.0
33KB20130305,       PRS2,       2,         13,          5,       8005,2,20130307,       2359,  22.802000,-158.0520000,       4735,   699.6,   5.4958,  34.3120,2,-999.0000,5,     25.3,1,  -999.0,9, -999.00,9, -999.00,9,  -999.0,     699,     5.4366, -999.00,9,     -999.0
33KB20130305,       PRS2,       2,         13,          4,       8004,2,20130307,       2359,  22.802000,-158.0520000,       4735,   769.9,   5.2440,  34.4024,2,-999.0000,5,     23.8,1,  -999.0,9, -999.00,9, -999.00,9,  -999.0,     770,     5.1798, -999.00,9,     -999.0
33KB20130305,       PRS2,       2,         13,          3,       8003,2,20130307,       2359,  22.802000,-158.0520000,       4735,   799.8,   5.1030,  34.4165,2,-999.0000,5,     25.2,1,  -999.0,9, -999.00,9, -999.00,9,  -999.0,     800,     5.0370, -999.00,9,     -999.0
33KB20130305,       PRS2,       2,         13,          2,       8002,2,20130307,       2359,  22.802000,-158.0520000,       4735,   900.1,   4.7446,  34.4518,2,-999.0000,5,     32.5,1,  -999.0,9, -999.00,9, -999.00,9,  -999.0,     900,     4.6721, -999.00,9,     -999.0
33KB20130305,       PRS2,       2,         13,          1,       8001,2,20130307,       2359,  22.802000,-158.0520000,       4735,  1018.7,   4.3484,  34.4859,2,  34.4866,2,     39.2,1,  -999.0,9, -999.00,9, -999.00,9,  -999.0,    1019,     4.2684, -999.00,9,     -999.0
33KB20130305,       PRS2,       2,         14,         10,       8010,2,20130308,       0249,  22.803500,-158.0483333,       4737,     7.5,  22.8381,  35.4206,2,-999.0000,5,    213.8,1,  -999.0,9, -999.00,9, -999.00,9,  -999.0,       7,    22.8365, -999.00,9,     -999.0
33KB20130305,       PRS2,       2,         14,          9,       8009,2,20130308,       0249,  22.803500,-158.0483333,       4737,    25.8,  22.7877,  35.4202,2,  35.4192,2,    214.0,1,  -999.0,9, -999.00,9, -999.00,9,  -999.0,      26,    22.7825, -999.00,9,     -999.0
33KB20130305,       PRS2,       2,         14,          8,       8008,2,20130308,       0249,  22.803500,-158.0483333,       4737,    45.6,  22.7743,  35.4201,2,-999.0000,5,    213.8,1,  -999.0,9, -999.00,9, -999.00,9,  -999.0,      46,    22.7651, -999.00,9,     -999.0
33KB20130305,       PRS2,       2,         14,          7,       8026,2,20130308,       0249,  22.803500,-158.0483333,       4737,    75.3,  22.7025,  35.4174,2,-999.0000,5,    213.6,1,  -999.0,9, -999.00,9, -999.00,9,  -999.0,      76,    22.6872, -999.00,9,     -999.0
33KB20130305,       PRS2,       2,         14,          6,       8006,2,20130308,       0249,  22.803500,-158.0483333,       4737,   100.8,  22.5776,  35.4254,2,-999.0000,5,    214.8,1,  -999.0,9, -999.00,9, -999.00,9,  -999.0,     102,    22.5572, -999.00,9,     -999.0
33KB20130305,       PRS2,       2,         14,          5,       8005,2,20130308,       0249,  22.803500,-158.0483333,       4737,   125.3,  22.5411,  35.4361,2,-999.0000,5,    214.6,1,  -999.0,9, -999.00,9, -999.00,9,  -999.0,     126,    22.5158, -999.00,9,     -999.0
33KB20130305,       PRS2,       2,         14,          4,       8004,2,20130308,       0249,  22.803500,-158.0483333,       4737,   150.3,  22.4772,  35.4261,2,  35.4235,2,    215.1,1,  -999.0,9, -999.00,9, -999.00,9,  -999.0,     150,    22.4470, -999.00,9,     -999.0
33KB20130305,       PRS2,       2,         14,          3,       8003,2,20130308,       0249,  22.803500,-158.0483333,       4737,   176.2,  21.3830,  35.2912,2,-999.0000,5,    204.6,1,  -999.0,9, -999.00,9, -999.00,9,  -999.0,     177,    21.3488, -999.00,9,     -999.0
33KB20130305,       PRS2,       2,         14,          2,       8002,2,20130308,       0249,  22.803500,-158.0483333,       4737,   450.5,   8.3566,  34.0792,2,  34.0795,2,    135.3,1,  -999.0,9, -999.00,9, -999.00,9,  -999.0,     450,     8.3096, -999.00,9,     -999.0
33KB20130305,       PRS2,       2,         14,          1,       8001,2,20130308,       0249,  22.803500,-158.0483333,       4737,  1020.6,   4.3289,  34.4873,2,  34.4883,2,     39.4,1,  -999.0,9, -999.00,9, -999.00,9,  -999.0,    1020,     4.2490, -999.00,9,     -999.0