BOTTLE,20141031SIOCCHAMB
EXPOCODE,SECT_ID,STNNBR,CASTNO,SAMPNO,BTLNBR,BTLNBR_FLAG_W,DATE,TIME,LATITUDE,LONGITUDE,DEPTH,CTDPRS,CTDTMP,CTDSAL,CTDSAL_FLAG_W,SALNTY,SALNTY_FLAG_W,CTDOXY,CTDOXY_FLAG_W,OXYGEN,OXYGEN_FLAG_W,SILCAT,SILCAT_FLAG_W,PHSPHT,PHSPHT_FLAG_W,REVPRS,CTDRAW,THETA,NO2+NO3,NO2+NO3_FLAG_W,REVTMP
,,,,,,,,,,,METERS,DBAR,ITS-90,PSS-78,,PSS-78,,UMOL/KG,,UMOL/KG,,UMOL/KG,,UMOL/KG,,DBAR,DBAR,ITS-90,UMOL/KG,,DEG C
33KB20130305,       PRS2,       2,         15,         22,       8022,2,20130308,       0552,  22.788000,-158.0370000,       4739,     7.0,  22.9727,  35.4229,2,  35.4208,2,    214.8,1,  -999.0,9, -999.00,9, -999.00,9,  -999.0,       7,    22.9713, -999.00,9,     -999.0
33KB20130305,       PRS2,       2,         15,         21,       8021,2,20130308,       0552,  22.788000,-158.0370000,       4739,     7.1,  22.9508,  35.4225,2,  35.4220,2,    214.5,1,  -999.0,9, -999.00,9, -999.00,9,  -999.0,       5,    22.9494, -999.00,9,     -999.0
33KB20130305,       PRS2,       2,         15,         20,       8020,2,20130308,       0552,  22.788000,-158.0370000,       4739,    24.8,  22.7779,  35.4173,2,  35.4162,2,    214.3,1,  -999.0,9, -999.00,9, -999.00,9,  -999.0,      24,    22.7729, -999.00,9,     -999.0
33KB20130305,       PRS2,       2,         15,         19,       8019,2,20130308,       0552,  22.788000,-158.0370000,       4739,    24.8,  22.7778,  35.4174,2,  35.4170,2,    214.3,1,  -999.0,9, -999.00,9, -999.00,9,  -999.0,      24,    22.7728, -999.00,9,     -999.0
33KB20130305,       PRS2,       2,         15,         18,       8018,2,20130308,       0552,  22.788000,-158.0370000,       4739,    45.6,  22.7556,  35.4183,2,  35.4172,2,    215.4,1,  -999.0,9, -999.00,9, -999.00,9,  -999.0,      47,    22.7464, -999.00,9,     -999.0
33KB20130305,       PRS2,       2,         15,         17,       8017,2,20130308,       0552,  22.788000,-158.0370000,       4739,    46.2,  22.7558,  35.4182,2,  35.4176,2,    215.2,1,  -999.0,9, -999.00,9, -999.00,9,  -999.0,      45,    22.7465, -999.00,9,     -999.0
33KB20130305,       PRS2,       2,         15,         16,       8016,2,20130308,       0552,  22.788000,-158.0370000,       4739,    60.6,  22.7389,  35.4200,2,  35.4190,2,    215.0,1,  -999.0,9, -999.00,9, -999.00,9,  -999.0,      60,    22.7266, -999.00,9,     -999.0
33KB20130305,       PRS2,       2,         15,         15,       8015,2,20130308,       0552,  22.788000,-158.0370000,       4739,    74.7,  22.6719,  35.4164,2,  35.4156,2,    214.6,1,  -999.0,9, -999.00,9, -999.00,9,  -999.0,      74,    22.6568, -999.00,9,     -999.0
33KB20130305,       PRS2,       2,         15,         14,       8014,2,20130308,       0552,  22.788000,-158.0370000,       4739,    74.8,  22.6715,  35.4162,2,  35.4158,2,    214.5,1,  -999.0,9, -999.00,9, -999.00,9,  -999.0,      75,    22.6564, -999.00,9,     -999.0
33KB20130305,       PRS2,       2,         15,         13,       8025,2,20130308,       0552,  22.788000,-158.0370000,       4739,    85.9,  22.5805,  35.4212,2,  35.4208,2,    214.4,1,  -999.0,9, -999.00,9, -999.00,9,  -999.0,      86,    22.5631, -999.00,9,     -999.0
33KB20130305,       PRS2,       2,         15,         12,       8012,2,20130308,       0552,  22.788000,-158.0370000,       4739,   100.0,  22.5532,  35.4303,2,  35.4293,2,    215.4,1,  -999.0,9, -999.00,9, -999.00,9,  -999.0,     100,    22.5330, -999.00,9,     -999.0
33KB20130305,       PRS2,       2,         15,         11,       8011,2,20130308,       0552,  22.788000,-158.0370000,       4739,    99.9,  22.5532,  35.4304,2,  35.4293,2,    215.4,1,  -999.0,9, -999.00,9, -999.00,9,  -999.0,     100,    22.5331, -999.00,9,     -999.0
33KB20130305,       PRS2,       2,         15,         10,       8010,2,20130308,       0552,  22.788000,-158.0370000,       4739,   115.6,  22.5233,  35.4333,2,  35.4320,2,    215.1,1,  -999.0,9, -999.00,9, -999.00,9,  -999.0,     115,    22.5000, -999.00,9,     -999.0
33KB20130305,       PRS2,       2,         15,          9,       8009,2,20130308,       0552,  22.788000,-158.0370000,       4739,   124.9,  22.5010,  35.4295,2,  35.4291,2,    215.0,1,  -999.0,9, -999.00,9, -999.00,9,  -999.0,     124,    22.4758, -999.00,9,     -999.0
33KB20130305,       PRS2,       2,         15,          8,       8008,2,20130308,       0552,  22.788000,-158.0370000,       4739,   124.9,  22.5005,  35.4292,2,  35.4289,2,    215.0,1,  -999.0,9, -999.00,9, -999.00,9,  -999.0,     125,    22.4754, -999.00,9,     -999.0
33KB20130305,       PRS2,       2,         15,          7,       8026,2,20130308,       0552,  22.788000,-158.0370000,       4739,   135.1,  22.4527,  35.4227,2,  35.4225,2,    214.7,1,  -999.0,9, -999.00,9, -999.00,9,  -999.0,     134,    22.4256, -999.00,9,     -999.0
33KB20130305,       PRS2,       2,         15,          6,       8006,2,20130308,       0552,  22.788000,-158.0370000,       4739,   149.3,  22.3440,  35.4039,2,  35.4034,2,    212.8,1,  -999.0,9, -999.00,9, -999.00,9,  -999.0,     150,    22.3141, -999.00,9,     -999.0
33KB20130305,       PRS2,       2,         15,          5,       8005,2,20130308,       0552,  22.788000,-158.0370000,       4739,   149.1,  22.3444,  35.4040,2,  35.4042,2,    212.8,1,  -999.0,9, -999.00,9, -999.00,9,  -999.0,     150,    22.3146, -999.00,9,     -999.0
33KB20130305,       PRS2,       2,         15,          4,       8004,2,20130308,       0552,  22.788000,-158.0370000,       4739,   174.5,  21.6886,  35.3234,2,  35.3287,2,    207.1,1,  -999.0,9, -999.00,9, -999.00,9,  -999.0,     174,    21.6543, -999.00,9,     -999.0
33KB20130305,       PRS2,       2,         15,          3,       8003,2,20130308,       0552,  22.788000,-158.0370000,       4739,   174.3,  21.6702,  35.3206,2,  35.3230,2,    206.6,1,  -999.0,9, -999.00,9, -999.00,9,  -999.0,     174,    21.6360, -999.00,9,     -999.0
33KB20130305,       PRS2,       2,         15,          2,       8002,2,20130308,       0552,  22.788000,-158.0370000,       4739,   429.9,   8.6834,  34.0780,2,  34.0801,2,    150.7,1,  -999.0,9, -999.00,9, -999.00,9,  -999.0,     430,     8.6376, -999.00,9,     -999.0
33KB20130305,       PRS2,       2,         15,          1,       8001,2,20130308,       0552,  22.788000,-158.0370000,       4739,  1019.6,   4.3467,  34.4854,2,  34.4870,2,     38.8,1,  -999.0,9, -999.00,9, -999.00,9,  -999.0,    1020,     4.2667, -999.00,9,     -999.0
33KB20130305,       PRS2,       2,         16,         12,       8012,2,20130308,       0850,  22.749833,-157.9998333,       4742,     4.7,  22.9396,  35.4353,2,  35.4348,2,    214.8,2,   214.4,2, -999.00,9, -999.00,9,  -999.0,       3,    22.9387, -999.00,9,     -999.0
33KB20130305,       PRS2,       2,         16,         11,       8011,2,20130308,       0850,  22.749833,-157.9998333,       4742,   250.3,  16.0597,  34.5999,2,  34.5999,2,    201.5,2,   201.1,2, -999.00,9, -999.00,9,  -999.0,     251,    16.0200, -999.00,9,     -999.0
33KB20130305,       PRS2,       2,         16,         10,       8010,2,20130308,       0850,  22.749833,-157.9998333,       4742,   421.4,   9.5758,  34.1034,2,  34.1017,2,    178.2,2,   175.6,2, -999.00,9, -999.00,9,  -999.0,     421,     9.5282, -999.00,9,     -999.0
33KB20130305,       PRS2,       2,         16,          9,       8009,2,20130308,       0850,  22.749833,-157.9998333,       4742,   779.8,   5.3646,  34.3789,2,  34.3768,2,     23.8,2,    22.9,2, -999.00,9, -999.00,9,  -999.0,     780,     5.2989, -999.00,9,     -999.0
33KB20130305,       PRS2,       2,         16,          8,       8008,2,20130308,       0850,  22.749833,-157.9998333,       4742,  1000.7,   4.4152,  34.4825,2,-999.0000,5,     37.5,2,  -999.0,5, -999.00,9, -999.00,9,  -999.0,    1000,     4.3363, -999.00,9,     -999.0
33KB20130305,       PRS2,       2,         16,          7,       8026,2,20130308,       0850,  22.749833,-157.9998333,       4742,  2000.1,   2.3673,  34.6069,2,-999.0000,5,     80.4,2,  -999.0,5, -999.00,9, -999.00,9,  -999.0,    2000,     2.2254, -999.00,9,     -999.0
33KB20130305,       PRS2,       2,         16,          6,       8006,2,20130308,       0850,  22.749833,-157.9998333,       4742,  2000.1,   2.3665,  34.6072,2,  34.6068,2,     80.4,2,    80.9,2, -999.00,9, -999.00,9,  -999.0,    2001,     2.2246, -999.00,9,     -999.0
33KB20130305,       PRS2,       2,         16,          5,       8005,2,20130308,       0850,  22.749833,-157.9998333,       4742,  3000.1,   1.5786,  34.6646,2,-999.0000,5,    120.1,2,  -999.0,5, -999.00,9, -999.00,9,  -999.0,    2999,     1.3601, -999.00,9,     -999.0
33KB20130305,       PRS2,       2,         16,          4,       8004,2,20130308,       0850,  22.749833,-157.9998333,       4742,  3000.0,   1.5784,  34.6646,2,  34.6643,2,    120.2,2,   120.8,2, -999.00,9, -999.00,9,  -999.0,    2999,     1.3599, -999.00,9,     -999.0
33KB20130305,       PRS2,       2,         16,          3,       8003,2,20130308,       0850,  22.749833,-157.9998333,       4742,  4001.2,   1.4586,  34.6847,2,-999.0000,5,    147.1,2,  -999.0,5, -999.00,9, -999.00,9,  -999.0,    4000,     1.1407, -999.00,9,     -999.0
33KB20130305,       PRS2,       2,         16,          2,       8002,2,20130308,       0850,  22.749833,-157.9998333,       4742,  4001.0,   1.4585,  34.6848,2,  34.6838,2,    147.1,2,   146.2,2, -999.00,9, -999.00,9,  -999.0,    4001,     1.1407, -999.00,9,     -999.0
33KB20130305,       PRS2,       2,         16,          1,       8001,2,20130308,       0850,  22.749833,-157.9998333,       4742,  4809.3,   1.5214,  34.6878,2,  34.6877,2,    152.1,2,   151.8,2, -999.00,9, -999.00,9,  -999.0,    4809,     1.1095, -999.00,9,     -999.0
33KB20130305,       PRS2,       6,          1,         13,       8025,2,20130309,       0709,  21.846667,-158.3630000,       2437,     6.8,  23.7819,  35.3340,2,  35.3327,2,    210.9,1,  -999.0,9, -999.00,9, -999.00,9,  -999.0,       7,    23.7805, -999.00,9,     -999.0
33KB20130305,       PRS2,       6,          1,         12,       8012,2,20130309,       0709,  21.846667,-158.3630000,       2437,    25.6,  23.5456,  35.3458,2,  35.3567,3,    211.1,1,  -999.0,9, -999.00,9, -999.00,9,  -999.0,      24,    23.5403, -999.00,9,     -999.0
33KB20130305,       PRS2,       6,          1,         11,       8011,2,20130309,       0709,  21.846667,-158.3630000,       2437,    45.9,  22.5711,  35.4224,2,  35.4212,2,    215.7,1,  -999.0,9, -999.00,9, -999.00,9,  -999.0,      46,    22.5618, -999.00,9,     -999.0
33KB20130305,       PRS2,       6,          1,         10,       8010,2,20130309,       0709,  21.846667,-158.3630000,       2437,    75.0,  22.4255,  35.4202,2,  35.4196,2,    215.8,1,  -999.0,9, -999.00,9, -999.00,9,  -999.0,      74,    22.4104, -999.00,9,     -999.0
33KB20130305,       PRS2,       6,          1,          9,       8009,2,20130309,       0709,  21.846667,-158.3630000,       2437,   100.9,  22.3912,  35.4196,2,  35.4186,2,    215.0,1,  -999.0,9, -999.00,9, -999.00,9,  -999.0,     101,    22.3710, -999.00,9,     -999.0
33KB20130305,       PRS2,       6,          1,          8,       8008,2,20130309,       0709,  21.846667,-158.3630000,       2437,   127.0,  22.2603,  35.4171,2,  35.4156,2,    211.2,1,  -999.0,9, -999.00,9, -999.00,9,  -999.0,     126,    22.2349, -999.00,9,     -999.0
33KB20130305,       PRS2,       6,          1,          7,       8026,2,20130309,       0709,  21.846667,-158.3630000,       2437,   149.9,  21.2932,  35.3766,2,  35.3421,4,    208.5,1,  -999.0,9, -999.00,9, -999.00,9,  -999.0,     150,    21.2642, -999.00,9,     -999.0
33KB20130305,       PRS2,       6,          1,          6,       8006,2,20130309,       0709,  21.846667,-158.3630000,       2437,   176.0,  19.7744,  35.1085,2,  35.1057,2,    199.0,1,  -999.0,9, -999.00,9, -999.00,9,  -999.0,     174,    19.7421, -999.00,9,     -999.0
33KB20130305,       PRS2,       6,          1,          5,       8005,2,20130309,       0709,  21.846667,-158.3630000,       2437,   499.5,   7.2769,  34.1649,2,  34.1636,2,     83.9,1,  -999.0,9, -999.00,9, -999.00,9,  -999.0,     499,     7.2287, -999.00,9,     -999.0
33KB20130305,       PRS2,       6,          1,          4,       8004,2,20130309,       0709,  21.846667,-158.3630000,       2437,  1001.7,   4.3424,  34.4816,2,  34.4824,2,     38.6,1,  -999.0,9, -999.00,9, -999.00,9,  -999.0,    1000,     4.2640, -999.00,9,     -999.0
33KB20130305,       PRS2,       6,          1,          3,       8003,2,20130309,       0709,  21.846667,-158.3630000,       2437,  1499.7,   2.9464,  34.5718,2,  34.5716,2,     61.9,1,  -999.0,9, -999.00,9, -999.00,9,  -999.0,    1499,     2.8393, -999.00,9,     -999.0
33KB20130305,       PRS2,       6,          1,          2,       8002,2,20130309,       0709,  21.846667,-158.3630000,       2437,  2000.2,   2.1317,  34.6200,2,  34.6203,2,     89.7,1,  -999.0,9, -999.00,9, -999.00,9,  -999.0,    2001,     1.9933, -999.00,9,     -999.0
33KB20130305,       PRS2,       6,          1,          1,       8001,2,20130309,       0709,  21.846667,-158.3630000,       2437,  2465.0,   1.7632,  34.6480,2,  34.6484,2,    107.5,1,  -999.0,9, -999.00,9, -999.00,9,  -999.0,    2463,     1.5905, -999.00,9,     -999.0
33KB20130305,       PRS2,      50,          1,         21,       8021,2,20130308,       2345,  22.736500,-157.9141667,       4719,     6.9,  22.8780,  35.4454,2,-999.0000,9,    151.8,1,  -999.0,9, -999.00,9, -999.00,9,  -999.0,       7,    22.8766, -999.00,9,     -999.0
33KB20130305,       PRS2,      50,          1,         20,       8020,2,20130308,       2345,  22.736500,-157.9141667,       4719,    26.1,  22.5486,  35.4376,2,-999.0000,9,    216.5,1,  -999.0,9, -999.00,9, -999.00,9,  -999.0,      26,    22.5434, -999.00,9,     -999.0
33KB20130305,       PRS2,      50,          1,         19,       8019,2,20130308,       2345,  22.736500,-157.9141667,       4719,    26.2,  22.5503,  35.4376,2,-999.0000,9,    216.5,1,  -999.0,9, -999.00,9, -999.00,9,  -999.0,      25,    22.5451, -999.00,9,     -999.0
33KB20130305,       PRS2,      50,          1,         18,       8018,2,20130308,       2345,  22.736500,-157.9141667,       4719,    25.9,  22.5514,  35.4379,2,-999.0000,9,    216.4,1,  -999.0,9, -999.00,9, -999.00,9,  -999.0,      26,    22.5462, -999.00,9,     -999.0
33KB20130305,       PRS2,      50,          1,         17,       8017,2,20130308,       2345,  22.736500,-157.9141667,       4719,    40.4,  22.5232,  35.4380,2,-999.0000,9,    216.0,1,  -999.0,9, -999.00,9, -999.00,9,  -999.0,      40,    22.5150, -999.00,9,     -999.0
33KB20130305,       PRS2,      50,          1,         16,       8016,2,20130308,       2345,  22.736500,-157.9141667,       4719,    45.8,  22.5212,  35.4388,2,-999.0000,9,    216.4,1,  -999.0,9, -999.00,9, -999.00,9,  -999.0,      45,    22.5120, -999.00,9,     -999.0
33KB20130305,       PRS2,      50,          1,         15,       8015,2,20130308,       2345,  22.736500,-157.9141667,       4719,    75.9,  22.4937,  35.4379,2,-999.0000,9,    216.6,1,  -999.0,9, -999.00,9, -999.00,9,  -999.0,      75,    22.4785, -999.00,9,     -999.0
33KB20130305,       PRS2,      50,          1,         14,       8014,2,20130308,       2345,  22.736500,-157.9141667,       4719,   101.2,  22.4863,  35.4380,2,-999.0000,9,    216.1,1,  -999.0,9, -999.00,9, -999.00,9,  -999.0,     101,    22.4659, -999.00,9,     -999.0
33KB20130305,       PRS2,      50,          1,         13,       8025,2,20130308,       2345,  22.736500,-157.9141667,       4719,   110.8,  22.4574,  35.4329,2,-999.0000,9,    216.1,1,  -999.0,9, -999.00,9, -999.00,9,  -999.0,     110,    22.4351, -999.00,9,     -999.0
33KB20130305,       PRS2,      50,          1,         12,       8012,2,20130308,       2345,  22.736500,-157.9141667,       4719,   124.8,  22.2590,  35.4115,2,-999.0000,9,    215.6,1,  -999.0,9, -999.00,9, -999.00,9,  -999.0,     125,    22.2341, -999.00,9,     -999.0
33KB20130305,       PRS2,      50,          1,         11,       8011,2,20130308,       2345,  22.736500,-157.9141667,       4719,   151.2,  21.6730,  35.3323,2,-999.0000,9,    211.3,1,  -999.0,9, -999.00,9, -999.00,9,  -999.0,     150,    21.6433, -999.00,9,     -999.0
33KB20130305,       PRS2,      50,          1,         10,       8010,2,20130308,       2345,  22.736500,-157.9141667,       4719,   151.1,  21.6791,  35.3323,2,-999.0000,9,    211.4,1,  -999.0,9, -999.00,9, -999.00,9,  -999.0,     151,    21.6495, -999.00,9,     -999.0
33KB20130305,       PRS2,      50,          1,          9,       8009,2,20130308,       2345,  22.736500,-157.9141667,       4719,   150.8,  21.6803,  35.3329,2,-999.0000,9,    211.5,1,  -999.0,9, -999.00,9, -999.00,9,  -999.0,     152,    21.6508, -999.00,9,     -999.0
33KB20130305,       PRS2,      50,          1,          8,       8008,2,20130308,       2345,  22.736500,-157.9141667,       4719,   150.6,  21.6842,  35.3336,2,-999.0000,9,    211.6,1,  -999.0,9, -999.00,9, -999.00,9,  -999.0,     152,    21.6546, -999.00,9,     -999.0
33KB20130305,       PRS2,      50,          1,          7,       8026,2,20130308,       2345,  22.736500,-157.9141667,       4719,   150.8,  21.6777,  35.3331,2,-999.0000,9,    211.6,1,  -999.0,9, -999.00,9, -999.00,9,  -999.0,     150,    21.6481, -999.00,9,     -999.0
33KB20130305,       PRS2,      50,          1,          6,       8006,2,20130308,       2345,  22.736500,-157.9141667,       4719,   151.0,  21.6719,  35.3318,2,-999.0000,9,    211.4,1,  -999.0,9, -999.00,9, -999.00,9,  -999.0,     150,    21.6423, -999.00,9,     -999.0
33KB20130305,       PRS2,      50,          1,          5,       8005,2,20130308,       2345,  22.736500,-157.9141667,       4719,   150.8,  21.6793,  35.3334,2,-999.0000,9,    211.2,1,  -999.0,9, -999.00,9, -999.00,9,  -999.0,     151,    21.6497, -999.00,9,     -999.0
33KB20130305,       PRS2,      50,          1,          4,       8004,2,20130308,       2345,  22.736500,-157.9141667,       4719,   150.4,  21.6826,  35.3332,2,-999.0000,9,    210.9,1,  -999.0,9, -999.00,9, -999.00,9,  -999.0,     151,    21.6531, -999.00,9,     -999.0
33KB20130305,       PRS2,      50,          1,          3,       8003,2,20130308,       2345,  22.736500,-157.9141667,       4719,   150.4,  21.6755,  35.3324,2,-999.0000,9,    210.6,1,  -999.0,9, -999.00,9, -999.00,9,  -999.0,     151,    21.6461, -999.00,9,     -999.0
33KB20130305,       PRS2,      50,          1,          2,       8002,2,20130308,       2345,  22.736500,-157.9141667,       4719,   175.6,  19.7629,  35.0495,2,-999.0000,9,    201.3,1,  -999.0,9, -999.00,9, -999.00,9,  -999.0,     175,    19.7307, -999.00,9,     -999.0
33KB20130305,       PRS2,      50,          1,          1,       8001,2,20130308,       2345,  22.736500,-157.9141667,       4719,   200.8,  18.1465,  34.8462,2,-999.0000,9,    200.7,1,  -999.0,9, -999.00,9, -999.00,9,  -999.0,     200,    18.1118, -999.00,9,     -999.0