BOTTLE,20141031SIOCCHAMB
EXPOCODE,SECT_ID,STNNBR,CASTNO,SAMPNO,BTLNBR,BTLNBR_FLAG_W,DATE,TIME,LATITUDE,LONGITUDE,DEPTH,CTDPRS,CTDTMP,CTDSAL,CTDSAL_FLAG_W,SALNTY,SALNTY_FLAG_W,CTDOXY,CTDOXY_FLAG_W,OXYGEN,OXYGEN_FLAG_W,SILCAT,SILCAT_FLAG_W,PHSPHT,PHSPHT_FLAG_W,REVPRS,CTDRAW,THETA,NO2+NO3,NO2+NO3_FLAG_W,REVTMP
,,,,,,,,,,,METERS,DBAR,ITS-90,PSS-78,,PSS-78,,UMOL/KG,,UMOL/KG,,UMOL/KG,,UMOL/KG,,DBAR,DBAR,ITS-90,UMOL/KG,,DEG C
33KB20130305,       PRS2,       2,          6,         15,       8015,2,20130307,       0248,  22.689667,-158.0621667,       4766,     6.0,  22.8463,  35.3984,2,  35.3991,2,    214.8,1,  -999.0,9, -999.00,9, -999.00,9,  -999.0,       6,    22.8451, -999.00,9,     -999.0
33KB20130305,       PRS2,       2,          6,         14,       8014,2,20130307,       0248,  22.689667,-158.0621667,       4766,    26.1,  22.7755,  35.4024,2,  35.4020,2,    214.3,1,  -999.0,9, -999.00,9, -999.00,9,  -999.0,      25,    22.7702, -999.00,9,     -999.0
33KB20130305,       PRS2,       2,          6,         13,       8025,2,20130307,       0248,  22.689667,-158.0621667,       4766,    45.5,  22.7353,  35.4022,2,  35.4020,2,    214.2,1,  -999.0,9, -999.00,9, -999.00,9,  -999.0,      45,    22.7261, -999.00,9,     -999.0
33KB20130305,       PRS2,       2,          6,         12,       8012,2,20130307,       0248,  22.689667,-158.0621667,       4766,    74.8,  22.7128,  35.4006,2,  35.4005,2,    215.0,1,  -999.0,9, -999.00,9, -999.00,9,  -999.0,      75,    22.6976, -999.00,9,     -999.0
33KB20130305,       PRS2,       2,          6,         11,       8011,2,20130307,       0248,  22.689667,-158.0621667,       4766,   100.2,  22.5087,  35.4331,2,  35.4332,2,    215.3,1,  -999.0,9, -999.00,9, -999.00,9,  -999.0,     101,    22.4885, -999.00,9,     -999.0
33KB20130305,       PRS2,       2,          6,         10,       8010,2,20130307,       0248,  22.689667,-158.0621667,       4766,   126.1,  22.4651,  35.4281,2,  35.4289,2,    214.2,1,  -999.0,9, -999.00,9, -999.00,9,  -999.0,     125,    22.4397, -999.00,9,     -999.0
33KB20130305,       PRS2,       2,          6,          9,       8009,2,20130307,       0248,  22.689667,-158.0621667,       4766,   150.8,  21.8729,  35.3540,2,  35.3526,2,    208.0,1,  -999.0,9, -999.00,9, -999.00,9,  -999.0,     149,    21.8432, -999.00,9,     -999.0
33KB20130305,       PRS2,       2,          6,          8,       8008,2,20130307,       0248,  22.689667,-158.0621667,       4766,   175.9,  20.2798,  35.1063,2,  35.1051,2,    204.0,1,  -999.0,9, -999.00,9, -999.00,9,  -999.0,     175,    20.2469, -999.00,9,     -999.0
33KB20130305,       PRS2,       2,          6,          7,       8026,2,20130307,       0248,  22.689667,-158.0621667,       4766,   200.1,  19.6625,  35.0279,2,  35.0287,2,    203.0,1,  -999.0,9, -999.00,9, -999.00,9,  -999.0,     200,    19.6259, -999.00,9,     -999.0
33KB20130305,       PRS2,       2,          6,          6,       8006,2,20130307,       0248,  22.689667,-158.0621667,       4766,   250.4,  17.8411,  34.8028,2,  34.8033,2,    201.4,1,  -999.0,9, -999.00,9, -999.00,9,  -999.0,     249,    17.7984, -999.00,9,     -999.0
33KB20130305,       PRS2,       2,          6,          5,       8005,2,20130307,       0248,  22.689667,-158.0621667,       4766,   350.1,  11.0781,  34.1605,2,  34.1601,2,    200.2,1,  -999.0,9, -999.00,9, -999.00,9,  -999.0,     351,    11.0349, -999.00,9,     -999.0
33KB20130305,       PRS2,       2,          6,          4,       8004,2,20130307,       0248,  22.689667,-158.0621667,       4766,   350.7,  11.0661,  34.1575,2,  34.1583,2,    200.3,1,  -999.0,9, -999.00,9, -999.00,9,  -999.0,     350,    11.0228, -999.00,9,     -999.0
33KB20130305,       PRS2,       2,          6,          3,       8003,2,20130307,       0248,  22.689667,-158.0621667,       4766,   424.9,   8.6634,  34.0748,2,  34.0744,2,    151.3,1,  -999.0,9, -999.00,9, -999.00,9,  -999.0,     425,     8.6183, -999.00,9,     -999.0
33KB20130305,       PRS2,       2,          6,          2,       8002,2,20130307,       0248,  22.689667,-158.0621667,       4766,  1019.7,   4.3942,  34.4809,2,-999.0000,5,     38.1,1,  -999.0,9, -999.00,9, -999.00,9,  -999.0,    1019,     4.3138, -999.00,9,     -999.0
33KB20130305,       PRS2,       2,          6,          1,       8001,2,20130307,       0248,  22.689667,-158.0621667,       4766,  1019.9,   4.3964,  34.4813,2,  34.4818,2,     38.1,1,  -999.0,9, -999.00,9, -999.00,9,  -999.0,    1020,     4.3160, -999.00,9,     -999.0
33KB20130305,       PRS2,       2,          7,         23,       8023,2,20130307,       0604,  22.677333,-158.0611667,       4763,     8.8,  22.7485,  35.3947,2,  35.3945,2,    214.3,2,  -999.0,5, -999.00,9, -999.00,9,  -999.0,       9,    22.7467, -999.00,9,     -999.0
33KB20130305,       PRS2,       2,          7,         22,       8022,2,20130307,       0604,  22.677333,-158.0611667,       4763,     8.7,  22.7488,  35.3950,2,  35.3947,2,    214.4,2,   214.3,2, -999.00,9, -999.00,9,  -999.0,       9,    22.7470, -999.00,9,     -999.0
33KB20130305,       PRS2,       2,          7,         21,       8021,2,20130307,       0604,  22.677333,-158.0611667,       4763,    18.4,  22.7451,  35.3933,2,  35.3947,2,    214.5,2,  -999.0,5, -999.00,9, -999.00,9,  -999.0,      18,    22.7414, -999.00,9,     -999.0
33KB20130305,       PRS2,       2,          7,         20,       8020,2,20130307,       0604,  22.677333,-158.0611667,       4763,    23.7,  22.7430,  35.3920,2,  35.3918,2,    213.7,2,  -999.0,5, -999.00,9, -999.00,9,  -999.0,      23,    22.7382, -999.00,9,     -999.0
33KB20130305,       PRS2,       2,          7,         19,       8019,2,20130307,       0604,  22.677333,-158.0611667,       4763,    23.8,  22.7342,  35.3908,2,  35.3938,2,    213.7,2,   214.4,2, -999.00,9, -999.00,9,  -999.0,      23,    22.7294, -999.00,9,     -999.0
33KB20130305,       PRS2,       2,          7,         18,       8018,2,20130307,       0604,  22.677333,-158.0611667,       4763,    34.7,  22.7238,  35.3905,2,  35.3898,2,    214.4,2,  -999.0,5, -999.00,9, -999.00,9,  -999.0,      34,    22.7168, -999.00,9,     -999.0
33KB20130305,       PRS2,       2,          7,         17,       8017,2,20130307,       0604,  22.677333,-158.0611667,       4763,    45.2,  22.7056,  35.3904,2,  35.3906,2,    214.0,2,   213.6,2, -999.00,9, -999.00,9,  -999.0,      46,    22.6965, -999.00,9,     -999.0
33KB20130305,       PRS2,       2,          7,         16,       8016,2,20130307,       0604,  22.677333,-158.0611667,       4763,    59.9,  22.6655,  35.4192,2,  35.4192,2,    213.4,2,  -999.0,5, -999.00,9, -999.00,9,  -999.0,      60,    22.6533, -999.00,9,     -999.0
33KB20130305,       PRS2,       2,          7,         15,       8015,2,20130307,       0604,  22.677333,-158.0611667,       4763,    75.2,  22.6241,  35.4314,2,  35.4314,2,    215.5,2,   216.0,2, -999.00,9, -999.00,9,  -999.0,      74,    22.6089, -999.00,9,     -999.0
33KB20130305,       PRS2,       2,          7,         14,       8014,2,20130307,       0604,  22.677333,-158.0611667,       4763,    84.6,  22.5967,  35.4319,2,  35.4322,2,    215.2,2,   215.2,2, -999.00,9, -999.00,9,  -999.0,      86,    22.5797, -999.00,9,     -999.0
33KB20130305,       PRS2,       2,          7,         13,       8025,2,20130307,       0604,  22.677333,-158.0611667,       4763,    89.5,  22.5928,  35.4322,2,  35.4322,2,    214.7,2,  -999.0,5, -999.00,9, -999.00,9,  -999.0,      90,    22.5748, -999.00,9,     -999.0
33KB20130305,       PRS2,       2,          7,         12,       8012,2,20130307,       0604,  22.677333,-158.0611667,       4763,    99.9,  22.5511,  35.4311,2,  35.4310,2,    214.9,2,   215.4,2, -999.00,9, -999.00,9,  -999.0,     100,    22.5309, -999.00,9,     -999.0
33KB20130305,       PRS2,       2,          7,         11,       8011,2,20130307,       0604,  22.677333,-158.0611667,       4763,   109.9,  22.5282,  35.4348,2,  35.4350,2,    215.5,2,  -999.0,5, -999.00,9, -999.00,9,  -999.0,     110,    22.5061, -999.00,9,     -999.0
33KB20130305,       PRS2,       2,          7,         10,       8010,2,20130307,       0604,  22.677333,-158.0611667,       4763,   115.3,  22.5224,  35.4344,2,  35.4342,2,    214.6,2,   215.1,2, -999.00,9, -999.00,9,  -999.0,     115,    22.4992, -999.00,9,     -999.0
33KB20130305,       PRS2,       2,          7,          9,       8009,2,20130307,       0604,  22.677333,-158.0611667,       4763,   125.8,  22.5047,  35.4332,2,  35.4332,2,    214.2,2,   214.5,2, -999.00,9, -999.00,9,  -999.0,     125,    22.4794, -999.00,9,     -999.0
33KB20130305,       PRS2,       2,          7,          8,       8008,2,20130307,       0604,  22.677333,-158.0611667,       4763,   130.7,  22.4851,  35.4298,2,  35.4293,2,    214.1,2,  -999.0,5, -999.00,9, -999.00,9,  -999.0,     131,    22.4588, -999.00,9,     -999.0
33KB20130305,       PRS2,       2,          7,          7,       8026,2,20130307,       0604,  22.677333,-158.0611667,       4763,   149.7,  21.3877,  35.2693,2,  35.2653,2,    207.4,2,   207.6,2, -999.00,9, -999.00,9,  -999.0,     150,    21.3586, -999.00,9,     -999.0
33KB20130305,       PRS2,       2,          7,          6,       8006,2,20130307,       0604,  22.677333,-158.0611667,       4763,   165.5,  20.4549,  35.1336,2,  35.1335,2,    203.0,2,   202.7,2, -999.00,9, -999.00,9,  -999.0,     166,    20.4238, -999.00,9,     -999.0
33KB20130305,       PRS2,       2,          7,          5,       8005,2,20130307,       0604,  22.677333,-158.0611667,       4763,   175.3,  19.9067,  35.0615,2,  35.0713,2,    198.2,2,   199.6,2, -999.00,9, -999.00,9,  -999.0,     175,    19.8744, -999.00,9,     -999.0
33KB20130305,       PRS2,       2,          7,          4,       8004,2,20130307,       0604,  22.677333,-158.0611667,       4763,   199.6,  18.7765,  34.9237,2,  34.9309,2,    199.0,2,   199.0,2, -999.00,9, -999.00,9,  -999.0,     199,    18.7412, -999.00,9,     -999.0
33KB20130305,       PRS2,       2,          7,          3,       8003,2,20130307,       0604,  22.677333,-158.0611667,       4763,   425.0,   9.3359,  34.0909,2,  34.0919,2,    173.5,2,   173.0,2, -999.00,9, -999.00,9,  -999.0,     424,     9.2886, -999.00,9,     -999.0
33KB20130305,       PRS2,       2,          7,          2,       8002,2,20130307,       0604,  22.677333,-158.0611667,       4763,   719.1,   5.5515,  34.3471,2,  34.3472,2,     21.6,2,    21.2,2, -999.00,9, -999.00,9,  -999.0,     719,     5.4902, -999.00,9,     -999.0
33KB20130305,       PRS2,       2,          7,          1,       8001,2,20130307,       0604,  22.677333,-158.0611667,       4763,  1020.1,   4.4458,  34.4770,2,  34.4795,2,     38.2,2,    38.3,2, -999.00,9, -999.00,9,  -999.0,    1021,     4.3650, -999.00,9,     -999.0
33KB20130305,       PRS2,       2,          8,         10,       8010,2,20130307,       0912,  22.689833,-158.0450000,       4770,     6.7,  22.6282,  35.4362,2,  35.4348,2,    215.1,1,  -999.0,9, -999.00,9, -999.00,9,  -999.0,       6,    22.6269, -999.00,9,     -999.0
33KB20130305,       PRS2,       2,          8,          9,       8009,2,20130307,       0912,  22.689833,-158.0450000,       4770,    25.1,  22.6329,  35.4354,2,  35.4344,2,    215.0,1,  -999.0,9, -999.00,9, -999.00,9,  -999.0,      26,    22.6279, -999.00,9,     -999.0
33KB20130305,       PRS2,       2,          8,          8,       8008,2,20130307,       0912,  22.689833,-158.0450000,       4770,    44.9,  22.6115,  35.4341,2,  35.4342,2,    216.1,1,  -999.0,9, -999.00,9, -999.00,9,  -999.0,      45,    22.6024, -999.00,9,     -999.0
33KB20130305,       PRS2,       2,          8,          7,       8026,2,20130307,       0912,  22.689833,-158.0450000,       4770,    76.2,  22.5795,  35.4325,2,  35.4326,2,    215.3,1,  -999.0,9, -999.00,9, -999.00,9,  -999.0,      76,    22.5641, -999.00,9,     -999.0
33KB20130305,       PRS2,       2,          8,          6,       8006,2,20130307,       0912,  22.689833,-158.0450000,       4770,   100.6,  22.5804,  35.4330,2,  35.4330,2,    215.5,1,  -999.0,9, -999.00,9, -999.00,9,  -999.0,     100,    22.5601, -999.00,9,     -999.0
33KB20130305,       PRS2,       2,          8,          5,       8005,2,20130307,       0912,  22.689833,-158.0450000,       4770,   125.3,  22.5816,  35.4324,2,  35.4332,2,    215.2,1,  -999.0,9, -999.00,9, -999.00,9,  -999.0,     125,    22.5563, -999.00,9,     -999.0
33KB20130305,       PRS2,       2,          8,          4,       8004,2,20130307,       0912,  22.689833,-158.0450000,       4770,   149.6,  22.2666,  35.3845,2,  35.3713,2,    210.0,1,  -999.0,9, -999.00,9, -999.00,9,  -999.0,     151,    22.2367, -999.00,9,     -999.0
33KB20130305,       PRS2,       2,          8,          3,       8003,2,20130307,       0912,  22.689833,-158.0450000,       4770,   176.0,  20.3319,  35.1159,2,  35.1213,2,    202.1,1,  -999.0,9, -999.00,9, -999.00,9,  -999.0,     176,    20.2990, -999.00,9,     -999.0
33KB20130305,       PRS2,       2,          8,          2,       8002,2,20130307,       0912,  22.689833,-158.0450000,       4770,   435.7,   9.1423,  34.0842,2,  34.0831,2,    168.4,1,  -999.0,9, -999.00,9, -999.00,9,  -999.0,     435,     9.0944, -999.00,9,     -999.0
33KB20130305,       PRS2,       2,          8,          1,       8001,2,20130307,       0912,  22.689833,-158.0450000,       4770,  1020.8,   4.2939,  34.4894,2,  34.4897,2,     39.8,1,  -999.0,9, -999.00,9, -999.00,9,  -999.0,    1021,     4.2142, -999.00,9,     -999.0
33KB20130305,       PRS2,       2,          9,         14,       8014,2,20130307,       1154,  22.749333,-158.0186667,       4742,     7.1,  22.5947,  35.4359,2,  35.4358,2,    215.1,1,  -999.0,9, -999.00,9, -999.00,9,  -999.0,       7,    22.5932, -999.00,9,     -999.0
33KB20130305,       PRS2,       2,          9,         13,       8025,2,20130307,       1154,  22.749333,-158.0186667,       4742,     7.0,  22.5960,  35.4359,2,  35.4360,2,    215.0,1,  -999.0,9, -999.00,9, -999.00,9,  -999.0,       7,    22.5946, -999.00,9,     -999.0
33KB20130305,       PRS2,       2,          9,         12,       8012,2,20130307,       1154,  22.749333,-158.0186667,       4742,    25.6,  22.5976,  35.4361,2,  35.4358,2,    214.8,1,  -999.0,9, -999.00,9, -999.00,9,  -999.0,      25,    22.5925, -999.00,9,     -999.0
33KB20130305,       PRS2,       2,          9,         11,       8011,2,20130307,       1154,  22.749333,-158.0186667,       4742,    25.7,  22.5991,  35.4354,2,  35.4364,2,    214.7,1,  -999.0,9, -999.00,9, -999.00,9,  -999.0,      25,    22.5940, -999.00,9,     -999.0
33KB20130305,       PRS2,       2,          9,         10,       8010,2,20130307,       1154,  22.749333,-158.0186667,       4742,    45.3,  22.6098,  35.4355,2,  35.4356,2,    214.6,1,  -999.0,9, -999.00,9, -999.00,9,  -999.0,      46,    22.6007, -999.00,9,     -999.0
33KB20130305,       PRS2,       2,          9,          9,       8009,2,20130307,       1154,  22.749333,-158.0186667,       4742,    45.2,  22.6083,  35.4354,2,  35.4358,2,    214.5,1,  -999.0,9, -999.00,9, -999.00,9,  -999.0,      46,    22.5992, -999.00,9,     -999.0
33KB20130305,       PRS2,       2,          9,          8,       8008,2,20130307,       1154,  22.749333,-158.0186667,       4742,    75.3,  22.5884,  35.4341,2,  35.4342,2,    215.1,1,  -999.0,9, -999.00,9, -999.00,9,  -999.0,      75,    22.5732, -999.00,9,     -999.0
33KB20130305,       PRS2,       2,          9,          7,       8026,2,20130307,       1154,  22.749333,-158.0186667,       4742,    75.3,  22.5885,  35.4341,2,  35.4338,2,    215.1,1,  -999.0,9, -999.00,9, -999.00,9,  -999.0,      76,    22.5733, -999.00,9,     -999.0
33KB20130305,       PRS2,       2,          9,          6,       8006,2,20130307,       1154,  22.749333,-158.0186667,       4742,   100.9,  22.5883,  35.4336,2,  35.4340,2,    214.6,1,  -999.0,9, -999.00,9, -999.00,9,  -999.0,     101,    22.5680, -999.00,9,     -999.0
33KB20130305,       PRS2,       2,          9,          5,       8005,2,20130307,       1154,  22.749333,-158.0186667,       4742,   101.2,  22.5887,  35.4337,2,  35.4340,2,    214.7,1,  -999.0,9, -999.00,9, -999.00,9,  -999.0,     101,    22.5683, -999.00,9,     -999.0
33KB20130305,       PRS2,       2,          9,          4,       8004,2,20130307,       1154,  22.749333,-158.0186667,       4742,   125.6,  22.5726,  35.4294,2,  35.4306,2,    214.1,1,  -999.0,9, -999.00,9, -999.00,9,  -999.0,     126,    22.5473, -999.00,9,     -999.0
33KB20130305,       PRS2,       2,          9,          3,       8003,2,20130307,       1154,  22.749333,-158.0186667,       4742,   125.4,  22.5722,  35.4294,2,  35.4306,2,    214.1,1,  -999.0,9, -999.00,9, -999.00,9,  -999.0,     125,    22.5469, -999.00,9,     -999.0
33KB20130305,       PRS2,       2,          9,          2,       8002,2,20130307,       1154,  22.749333,-158.0186667,       4742,   440.5,   8.7075,  34.0869,2,  34.0866,2,    148.9,1,  -999.0,9, -999.00,9, -999.00,9,  -999.0,     439,     8.6605, -999.00,9,     -999.0
33KB20130305,       PRS2,       2,          9,          1,       8001,2,20130307,       1154,  22.749333,-158.0186667,       4742,  1020.6,   4.4151,  34.4798,2,  34.4816,2,     38.1,1,  -999.0,9, -999.00,9, -999.00,9,  -999.0,    1020,     4.3345, -999.00,9,     -999.0
33KB20130305,       PRS2,       2,         10,          9,       8009,2,20130307,       1452,  22.749833,-157.9998333,       4738,     7.9,  22.5928,  35.4355,2,  35.4344,2,    215.2,1,  -999.0,9, -999.00,9, -999.00,9,  -999.0,       7,    22.5912, -999.00,9,     -999.0
33KB20130305,       PRS2,       2,         10,          8,       8008,2,20130307,       1452,  22.749833,-157.9998333,       4738,     8.0,  22.5930,  35.4355,2,-999.0000,5,    215.2,1,  -999.0,9, -999.00,9, -999.00,9,  -999.0,       8,    22.5914, -999.00,9,     -999.0
33KB20130305,       PRS2,       2,         10,          7,       8026,2,20130307,       1452,  22.749833,-157.9998333,       4738,     8.0,  22.5932,  35.4354,2,-999.0000,5,    215.2,1,  -999.0,9, -999.00,9, -999.00,9,  -999.0,       8,    22.5916, -999.00,9,     -999.0
33KB20130305,       PRS2,       2,         10,          6,       8006,2,20130307,       1452,  22.749833,-157.9998333,       4738,     8.0,  22.5934,  35.4353,2,-999.0000,5,    215.3,1,  -999.0,9, -999.00,9, -999.00,9,  -999.0,       7,    22.5918, -999.00,9,     -999.0
33KB20130305,       PRS2,       2,         10,          5,       8005,2,20130307,       1452,  22.749833,-157.9998333,       4738,     7.9,  22.5928,  35.4353,2,-999.0000,5,    215.4,1,  -999.0,9, -999.00,9, -999.00,9,  -999.0,       8,    22.5913, -999.00,9,     -999.0
33KB20130305,       PRS2,       2,         10,          4,       8004,2,20130307,       1452,  22.749833,-157.9998333,       4738,     8.0,  22.5917,  35.4355,2,-999.0000,5,    215.5,1,  -999.0,9, -999.00,9, -999.00,9,  -999.0,       8,    22.5900, -999.00,9,     -999.0
33KB20130305,       PRS2,       2,         10,          3,       8003,2,20130307,       1452,  22.749833,-157.9998333,       4738,     8.2,  22.5912,  35.4355,2,-999.0000,5,    215.6,1,  -999.0,9, -999.00,9, -999.00,9,  -999.0,       7,    22.5895, -999.00,9,     -999.0
33KB20130305,       PRS2,       2,         10,          2,       8002,2,20130307,       1452,  22.749833,-157.9998333,       4738,   400.0,   9.1650,  34.0888,2,  34.0903,2,    163.9,1,  -999.0,9, -999.00,9, -999.00,9,  -999.0,     399,     9.1211, -999.00,9,     -999.0
33KB20130305,       PRS2,       2,         10,          1,       8001,2,20130307,       1452,  22.749833,-157.9998333,       4738,  1020.3,   4.4168,  34.4813,2,  34.4816,2,     37.9,1,  -999.0,9, -999.00,9, -999.00,9,  -999.0,    1020,     4.3362, -999.00,9,     -999.0