BOTTLE,20010917WHPSIOKJU
EXPOCODE,SECT_ID,STNNBR,CASTNO,SAMPNO,BTLNBR,BTLNBR_FLAG_W,DATE,TIME,LATITUDE,LONGITUDE,DEPTH,CTDPRS,CTDTMP,CTDSAL,CTDSAL_FLAG_W,SALNTY,SALNTY_FLAG_W,OXYGEN,OXYGEN_FLAG_W,SILCAT,SILCAT_FLAG_W,NITRAT,NITRAT_FLAG_W,PHSPHT,PHSPHT_FLAG_W,CFC-11,CFC-11_FLAG_W,CFC-12,CFC-12_FLAG_W,CFC113,CFC113_FLAG_W,CCL4,CCL4_FLAG_W
,,,,,,,,,,,,DBAR,ITS-90,PSS-78,,PSS-78,,UMOL/KG,,UMOL/KG,,UMOL/KG,,UMOL/KG,,PMOL/L,,PMOL/L,,PMOL/L,,PMOL/L,
     06MT030_2,   A02,   453,  3,     24, KZM012,2,19941023,1918, 47.7067, -22.0917, 4433,    849.1,   6.7730,  35.2251,2,  35.2230,2,    216.8,2,    11.80,2,    18.27,2,     1.12,2, -999.000,9, -999.000,9, -999.000,9, -999.000,9
     06MT030_2,   A02,   453,  3,     23, KZM125,2,19941023,1918, 47.7067, -22.0917, 4433,    898.2,   6.5001,  35.2058,2,  35.2023,2,    220.9,2,    11.80,2,    18.25,2,     1.19,2,    1.630,2,    0.808,2,    0.061,2,    2.056,2
     06MT030_2,   A02,   453,  3,     22, KZM033,2,19941023,1918, 47.7067, -22.0917, 4433,    999.1,   5.6664,  35.1258,2,  35.1258,2,    233.5,2,    12.00,2,    18.14,2,     1.19,2,    1.687,2,    0.825,2,    0.062,2,    2.362,2
     06MT030_2,   A02,   453,  3,     21, KZM040,2,19941023,1918, 47.7067, -22.0917, 4433,   1118.9,   4.7618,  35.0124,2,  35.0128,2,    249.9,2,    11.86,2,    17.99,2,     1.20,2, -999.000,9, -999.000,9, -999.000,9, -999.000,9
     06MT030_2,   A02,   453,  3,     20, KZM097,2,19941023,1918, 47.7067, -22.0917, 4433,   1199.5,   4.3730,  34.9717,2,  34.9705,2,    257.8,2,    11.82,2,    17.90,2,     1.19,2, -999.000,9, -999.000,9, -999.000,9, -999.000,9
     06MT030_2,   A02,   453,  3,     19, KZM126,2,19941023,1918, 47.7067, -22.0917, 4433,   1301.1,   4.0711,  34.9423,2,  34.9402,2,    268.4,2,    11.71,2,    17.60,2,     1.18,2,    1.998,2,    1.005,2,    0.079,2,    3.262,2
     06MT030_2,   A02,   453,  3,     18, KZM085,2,19941023,1918, 47.7067, -22.0917, 4433,   1399.1,   3.8942,  34.9276,2,  34.9279,2,    269.9,2,    11.72,2,    17.39,2,     1.17,2, -999.000,9, -999.000,9, -999.000,9, -999.000,9
     06MT030_2,   A02,   453,  3,     17, KZM124,2,19941023,1918, 47.7067, -22.0917, 4433,   1498.6,   3.7602,  34.9155,2,  34.9162,2,    273.7,2,    11.67,2,    17.43,2,     1.16,2,    1.940,2,    0.970,2,    0.073,2,    3.382,2
     06MT030_2,   A02,   453,  3,     16, KZM119,2,19941023,1918, 47.7067, -22.0917, 4433,   1597.1,   3.6223,  34.9025,2,  34.9028,2,    278.3,2,    11.65,2,    17.09,2,     1.16,2,    1.952,2,    0.964,2,    0.075,2,    3.440,2
     06MT030_2,   A02,   453,  3,     14, KZM115,2,19941023,1918, 47.7067, -22.0917, 4433,   1799.1,   3.5223,  34.9056,2,  34.9065,2,    277.0,2,  -999.00,9,  -999.00,9,  -999.00,9,    1.674,2,    0.834,2,    0.058,2,    3.164,2
     06MT030_2,   A02,   453,  3,     13, KZM090,2,19941023,1918, 47.7067, -22.0917, 4433,   1898.8,   3.4863,  34.9110,2,  34.9123,2,    277.5,2,    12.41,2,    16.88,2,     1.15,2,    1.508,2,    0.768,2,    0.084,4,    2.919,2
     06MT030_2,   A02,   453,  3,     11, KZM008,2,19941023,1918, 47.7067, -22.0917, 4433,   2201.5,   3.4234,  34.9431,2,  34.9444,2,    270.0,2,    14.95,2,    17.02,2,     1.18,2,    0.802,2,    0.419,2,    0.021,2,    1.939,2
     06MT030_2,   A02,   453,  3,     10, KZM036,2,19941023,1918, 47.7067, -22.0917, 4433,   2399.9,   3.2434,  34.9484,2,  34.9499,2,    268.5,2,    16.88,2,    17.20,2,     1.19,2, -999.000,9, -999.000,9, -999.000,9, -999.000,9
     06MT030_2,   A02,   453,  3,      9, KZM114,2,19941023,1918, 47.7067, -22.0917, 4433,   2601.1,   3.1265,  34.9488,2,  34.9497,2,    269.1,3,    17.50,2,    17.03,2,     1.18,2,    0.800,2,    0.410,2,    0.056,4,    1.764,2
     06MT030_2,   A02,   453,  3,      8,  UB001,2,19941023,1918, 47.7067, -22.0917, 4433,   2751.4,   3.0116,  34.9517,2,  34.9516,2,    265.4,2,    20.69,2,    17.52,2,     1.22,2,    0.659,2,    0.323,2,    0.014,2,    1.495,2
     06MT030_2,   A02,   453,  3,      7, KZM067,2,19941023,1918, 47.7067, -22.0917, 4433,   3102.0,   2.8086,  34.9454,2,  34.9443,2,    257.7,2,    27.83,2,    18.83,2,     1.31,2,    0.455,2,    0.229,2,    0.008,2,    1.027,2
     06MT030_2,   A02,   453,  3,      6, KZM017,2,19941023,1918, 47.7067, -22.0917, 4433,   3404.7,   2.6737,  34.9328,2,  34.9314,2,    249.8,2,    34.49,2,    20.20,2,     1.41,2,    0.265,2,    0.126,2,    0.005,2,    0.617,2
     06MT030_2,   A02,   453,  3,      5,  UB319,2,19941023,1918, 47.7067, -22.0917, 4433,   3703.6,   2.5997,  34.9227,2,  34.9217,2,    244.9,2,    39.06,2,    21.21,2,     1.49,2,    0.124,2,    0.062,2,    0.003,2,    0.308,2
     06MT030_2,   A02,   453,  3,      4, KZM056,2,19941023,1918, 47.7067, -22.0917, 4433,   4003.5,   2.5907,  34.9165,2,  34.9169,2,    244.7,2,    40.80,2,    21.69,2,     1.51,2,    0.085,2,    0.049,2,    0.004,2,    0.211,2
     06MT030_2,   A02,   453,  3,      3, KZM061,2,19941023,1918, 47.7067, -22.0917, 4433,   4306.3,   2.5827,  34.9121,2,  34.9125,2,    243.6,2,    42.73,2,    21.86,2,     1.53,2,    0.059,2,    0.027,2,    0.005,2,    0.135,2
     06MT030_2,   A02,   453,  3,      2, KZM052,2,19941023,1918, 47.7067, -22.0917, 4433,   4454.1,   2.5827,  34.9091,2,  34.9108,2,    242.7,2,    43.21,2,    22.19,2,     1.55,2,    0.062,2,    0.055,4,    0.042,4,    0.117,2
     06MT030_2,   A02,   453,  3,      1, KZM038,2,19941023,1918, 47.7067, -22.0917, 4433,   4509.3,   2.5887,  34.9094,2,  34.9108,9,   -999.0,9,  -999.00,9,  -999.00,9,  -999.00,9, -999.000,9, -999.000,9, -999.000,9, -999.000,9
     06MT030_2,   A02,   453,  4,     23, KZM125,2,19941023,2343, 47.7017, -22.0933, 4436,     11.7,  14.8275,  35.4216,2,  35.4216,2,    246.9,2,     1.03,2,     0.59,2,     0.10,2,    2.887,2,    1.638,2,    0.226,2,    3.934,2
     06MT030_2,   A02,   453,  4,     20, KZM097,2,19941023,2343, 47.7017, -22.0933, 4436,     47.9,  14.8325,  35.4216,2,  35.4208,2,    248.0,2,     1.91,2,     6.21,2,     0.37,2, -999.000,9, -999.000,9, -999.000,9, -999.000,9
     06MT030_2,   A02,   453,  4,     21, KZM040,2,19941023,2343, 47.7017, -22.0933, 4436,     48.4,  14.8285,  35.4209,2,  35.4199,2,    246.5,2,     1.03,2,     0.57,2,     0.10,2,    2.894,2,    1.594,2,    0.226,2,    3.935,2
     06MT030_2,   A02,   453,  4,     18, KZM085,2,19941023,2343, 47.7017, -22.0933, 4436,     99.7,  13.2479,  35.5023,2,  35.5013,2,    229.4,2,     2.53,2,     9.53,2,     0.57,2, -999.000,9, -999.000,9, -999.000,9, -999.000,9
     06MT030_2,   A02,   453,  4,     19, KZM126,2,19941023,2343, 47.7017, -22.0933, 4436,    100.3,  13.2489,  35.5055,2,  35.5021,2,    229.0,2,     1.75,2,     6.09,2,     0.38,2,    3.214,2,    1.828,2,    0.248,2,    3.137,2
     06MT030_2,   A02,   453,  4,     17, KZM124,2,19941023,2343, 47.7017, -22.0933, 4436,    149.5,  11.2335,  35.4747,2,  35.4744,2,    246.5,2,     2.56,2,     9.49,2,     0.58,2,    3.429,2,    1.832,2,    0.259,2,    2.995,2
     06MT030_2,   A02,   453,  4,     16, KZM119,2,19941023,2343, 47.7017, -22.0933, 4436,    149.6,  11.2275,  35.4760,2,  35.4742,2,    248.0,2,     5.67,2,    11.67,2,     0.75,2, -999.000,9, -999.000,9, -999.000,9, -999.000,9
     06MT030_2,   A02,   453,  4,     14, KZM115,2,19941023,2343, 47.7017, -22.0933, 4436,    199.1,  10.3297,  35.4000,2,  35.4001,2,    245.5,2,     6.29,2,    12.29,2,     0.78,2, -999.000,9, -999.000,9, -999.000,9, -999.000,9
     06MT030_2,   A02,   453,  4,     15, KZM029,2,19941023,2343, 47.7017, -22.0933, 4436,    199.9,  10.3257,  35.4000,2,  35.3998,2,    245.2,2,     5.71,2,    11.67,2,     0.75,2,    3.178,2,    1.648,2,    0.203,2,    2.492,2
     06MT030_2,   A02,   453,  4,     12, KZM117,2,19941023,2343, 47.7017, -22.0933, 4436,    301.5,   9.9869,  35.3693,2,  35.3689,2,    242.4,2,     8.39,2,    15.06,2,     0.96,2, -999.000,9, -999.000,9, -999.000,9, -999.000,9
     06MT030_2,   A02,   453,  4,     13, KZM090,2,19941023,2343, 47.7017, -22.0933, 4436,    302.3,   9.9859,  35.3690,2,  35.3685,2,    243.8,3,     6.32,2,    12.29,3,     0.79,2,    3.019,2,    1.603,2,    0.181,2,    2.350,2
     06MT030_2,   A02,   453,  4,     11, KZM008,2,19941023,2343, 47.7017, -22.0933, 4436,    496.6,   9.1941,  35.2984,2,  35.2974,2,    222.5,2,    10.19,2,    17.25,2,     1.12,2,    2.519,2,    1.329,2,    0.154,2,    1.987,2
     06MT030_2,   A02,   453,  4,      9, KZM114,2,19941023,2343, 47.7017, -22.0933, 4436,    599.4,   8.3144,  35.2095,2,  35.2108,2,    211.1,2,    10.13,2,    17.29,2,     1.13,2, -999.000,9, -999.000,9, -999.000,9, -999.000,9
     06MT030_2,   A02,   453,  4,      8,  UB001,2,19941023,2343, 47.7017, -22.0933, 4436,    599.8,   8.3154,  35.2096,2,  35.2091,2,    210.1,2,    11.04,2,    17.88,2,     1.19,2,    2.089,2,    1.041,2,    0.088,2,    1.903,2
     06MT030_2,   A02,   453,  4,      6, KZM017,2,19941023,2343, 47.7017, -22.0933, 4436,    698.1,   7.7676,  35.2164,2,  35.2172,2,    206.8,2,    11.46,2,    18.12,2,     1.21,2,    1.825,2,    0.894,2,    0.073,2,    1.816,2
     06MT030_2,   A02,   453,  4,      5,  UB319,2,19941023,2343, 47.7017, -22.0933, 4436,    800.2,   7.1698,  35.2322,2,  35.2329,2,    211.5,2,    11.53,2,    18.15,2,     1.21,2,    1.647,2,    0.801,2,    0.061,2,    1.853,2
     06MT030_2,   A02,   453,  4,      4, KZM056,2,19941023,2343, 47.7017, -22.0933, 4436,    849.6,   6.8340,  35.2051,2,  35.2063,2,    215.7,2,    11.60,2,    18.10,2,     1.19,2,    1.704,2,    0.829,2,    0.068,2,    2.010,2
     06MT030_2,   A02,   453,  4,      3, KZM061,2,19941023,2343, 47.7017, -22.0933, 4436,    900.2,   6.7050,  35.2192,2,  35.2200,2,    264.0,3,    11.63,2,    16.85,2,     1.15,2,    1.637,2,    0.797,2,    0.062,2,    2.006,4
     06MT030_2,   A02,   453,  4,      2, KZM052,2,19941023,2343, 47.7017, -22.0933, 4436,   1699.7,   3.6123,  34.9070,2,  34.9089,2,    277.3,2,    14.06,2,    17.02,2,     1.16,2, -999.000,9, -999.000,9, -999.000,9, -999.000,9
     06MT030_2,   A02,   453,  4,      1, KZM038,2,19941023,2343, 47.7017, -22.0933, 4436,   2110.0,   3.4624,  34.9370,2,  34.9379,2,    272.8,2,  -999.00,9,  -999.00,9,  -999.00,9, -999.000,9, -999.000,9, -999.000,9, -999.000,9
     06MT030_2,   A02,   454,  1,     19,  10017,2,19941024,0340, 47.5400, -22.4550, 4467,     10.5,  15.1884,  35.5767,2,  35.5775,2,    242.9,2,     2.09,2,     1.76,2,     0.16,2, -999.000,9, -999.000,9, -999.000,9, -999.000,9
     06MT030_2,   A02,   454,  1,     18,  10020,2,19941024,0340, 47.5400, -22.4550, 4467,     49.0,  15.1914,  35.5756,2,  35.5767,2,    242.3,2,     2.11,2,     1.82,2,     0.17,2, -999.000,9, -999.000,9, -999.000,9, -999.000,9
     06MT030_2,   A02,   454,  1,     17,  10009,2,19941024,0340, 47.5400, -22.4550, 4467,     98.0,  13.1344,  35.6988,2,  35.6977,2,    227.9,2,     4.33,2,     8.63,2,     0.51,2, -999.000,9, -999.000,9, -999.000,9, -999.000,9
     06MT030_2,   A02,   454,  1,     16,  10091,2,19941024,0340, 47.5400, -22.4550, 4467,    147.9,  12.5550,  35.6551,2,  35.6570,2,    231.2,2,     4.89,2,     9.42,2,     0.57,2, -999.000,9, -999.000,9, -999.000,9, -999.000,9
     06MT030_2,   A02,   454,  1,     15,  10025,2,19941024,0340, 47.5400, -22.4550, 4467,    199.6,  12.1994,  35.6286,2,  35.5701,4,    227.9,2,     5.95,2,    11.26,2,     0.69,4, -999.000,9, -999.000,9, -999.000,9, -999.000,9
     06MT030_2,   A02,   454,  1,     14,      2,2,19941024,0340, 47.5400, -22.4550, 4467,    247.6,  11.7838,  35.5676,2,  35.5699,2,    227.6,2,     5.96,2,    11.28,2,     0.71,2, -999.000,9, -999.000,9, -999.000,9, -999.000,9
     06MT030_2,   A02,   454,  1,     13,  10003,2,19941024,0340, 47.5400, -22.4550, 4467,    297.3,  11.5161,  35.5382,2,  35.5414,2,    235.6,2,     5.98,2,    11.33,2,     0.72,2, -999.000,9, -999.000,9, -999.000,9, -999.000,9
     06MT030_2,   A02,   454,  1,     12,  10026,2,19941024,0340, 47.5400, -22.4550, 4467,    397.8,  10.9696,  35.4776,2,  35.4764,2,    238.0,2,     6.04,2,    11.50,2,     0.73,2, -999.000,9, -999.000,9, -999.000,9, -999.000,9
     06MT030_2,   A02,   454,  1,     10,  10010,2,19941024,0340, 47.5400, -22.4550, 4467,    595.9,   9.3764,  35.2493,2,  35.2501,2,    214.2,2,     9.14,2,    15.83,2,     1.03,2, -999.000,9, -999.000,9, -999.000,9, -999.000,9
     06MT030_2,   A02,   454,  1,      9,  10004,2,19941024,0340, 47.5400, -22.4550, 4467,    746.5,   7.1370,  34.9885,2,  34.9836,3,    225.2,3,    10.99,2,    17.63,2,     1.18,2, -999.000,9, -999.000,9, -999.000,9, -999.000,9
     06MT030_2,   A02,   454,  1,      8,     15,2,19941024,0340, 47.5400, -22.4550, 4467,    796.7,   6.6376,  34.9717,2,  35.0657,4,    219.4,3,    12.14,2,    19.06,2,     1.25,2, -999.000,9, -999.000,9, -999.000,9, -999.000,9
     06MT030_2,   A02,   454,  1,      7,     23,2,19941024,0340, 47.5400, -22.4550, 4467,    896.1,   6.4318,  35.0686,2,  35.0666,2,    218.9,2,    12.10,2,    18.90,2,     1.27,2, -999.000,9, -999.000,9, -999.000,9, -999.000,9
     06MT030_2,   A02,   454,  1,      6,    910,2,19941024,0340, 47.5400, -22.4550, 4467,    996.1,   6.2590,  35.1555,3,  35.0972,3,    236.0,3,    12.13,2,    18.25,2,     1.23,2, -999.000,9, -999.000,9, -999.000,9, -999.000,9
     06MT030_2,   A02,   454,  1,      5,     12,2,19941024,0340, 47.5400, -22.4550, 4467,   1096.1,   5.5399,  35.0993,2,  35.0981,2,    235.5,2,    12.24,2,    18.22,2,     1.21,2, -999.000,9, -999.000,9, -999.000,9, -999.000,9
     06MT030_2,   A02,   454,  1,      4,      6,2,19941024,0340, 47.5400, -22.4550, 4467,   1196.2,   4.9327,  35.0330,2,  35.0307,2,    247.0,2,    12.07,2,    18.03,2,     1.22,2, -999.000,9, -999.000,9, -999.000,9, -999.000,9
     06MT030_2,   A02,   454,  1,      3,     18,2,19941024,0340, 47.5400, -22.4550, 4467,   1295.4,   4.4953,  34.9846,2,  34.9824,2,    256.0,2,    11.92,2,    17.79,2,     1.20,2, -999.000,9, -999.000,9, -999.000,9, -999.000,9
     06MT030_2,   A02,   454,  1,      2,     17,2,19941024,0340, 47.5400, -22.4550, 4467,   1396.3,   4.1487,  34.9441,2,  34.9398,3,    263.5,2,    11.81,2,    17.53,2,     1.20,2, -999.000,9, -999.000,9, -999.000,9, -999.000,9
     06MT030_2,   A02,   454,  1,      1,     10,2,19941024,0340, 47.5400, -22.4550, 4467,   1496.5,   3.9290,  34.9261,2,  34.9245,2,    268.7,2,    11.71,2,    17.24,2,     1.18,2, -999.000,9, -999.000,9, -999.000,9, -999.000,9
     06MT030_2,   A02,   454,  2,     24, KZM012,2,19941024,0618, 47.5417, -22.4550, 4466,   1299.0,   4.3909,  34.9739,2,  34.9724,2,    258.1,2,    11.79,2,    17.70,2,     1.08,2, -999.000,9, -999.000,9, -999.000,9, -999.000,9
     06MT030_2,   A02,   454,  2,     23, KZM125,2,19941024,0618, 47.5417, -22.4550, 4466,   1398.2,   4.0401,  34.9308,2,  34.9314,2,    266.4,2,    11.66,2,    17.54,2,     1.14,2, -999.000,9, -999.000,9, -999.000,9, -999.000,9
     06MT030_2,   A02,   454,  2,     22, KZM033,2,19941024,0618, 47.5417, -22.4550, 4466,   1499.5,   3.8602,  34.9164,2,  34.9159,2,    271.0,2,    11.52,2,    17.32,2,     1.13,2, -999.000,9, -999.000,9, -999.000,9, -999.000,9
     06MT030_2,   A02,   454,  2,     21, KZM040,2,19941024,0618, 47.5417, -22.4550, 4466,   1596.3,   3.7472,  34.9116,2,  34.9117,2,    274.7,2,    11.47,2,    17.09,2,     1.12,2, -999.000,9, -999.000,9, -999.000,9, -999.000,9
     06MT030_2,   A02,   454,  2,     20, KZM097,2,19941024,0618, 47.5417, -22.4550, 4466,   1678.2,   3.6383,  34.9031,2,  34.9029,2,    277.1,2,    11.38,2,    16.93,2,     1.14,2, -999.000,9, -999.000,9, -999.000,9, -999.000,9
     06MT030_2,   A02,   454,  2,     19, KZM126,2,19941024,0618, 47.5417, -22.4550, 4466,   1729.5,   3.6293,  34.9071,2,  34.9074,2,    276.8,2,    11.75,2,    16.91,2,     1.14,2, -999.000,9, -999.000,9, -999.000,9, -999.000,9
     06MT030_2,   A02,   454,  2,     18, KZM085,2,19941024,0618, 47.5417, -22.4550, 4466,   1790.4,   3.5873,  34.9088,2,  34.9079,2,    277.7,2,    11.83,2,    16.74,2,     1.13,2, -999.000,9, -999.000,9, -999.000,9, -999.000,9
     06MT030_2,   A02,   454,  2,     17, KZM124,2,19941024,0618, 47.5417, -22.4550, 4466,   1900.1,   3.5403,  34.9104,2,  34.9100,2,    277.5,2,    12.04,2,    16.71,2,     1.12,2, -999.000,9, -999.000,9, -999.000,9, -999.000,9
     06MT030_2,   A02,   454,  2,     16, KZM119,2,19941024,0618, 47.5417, -22.4550, 4466,   2000.0,   3.5283,  34.9247,2,  34.9246,2,    274.4,2,    13.05,2,    16.77,2,     1.14,2, -999.000,9, -999.000,9, -999.000,9, -999.000,9
     06MT030_2,   A02,   454,  2,     15, KZM029,2,19941024,0618, 47.5417, -22.4550, 4466,   2068.6,   3.5123,  34.9305,2,  34.9294,2,    273.8,2,    13.33,2,    16.76,2,     1.14,2, -999.000,9, -999.000,9, -999.000,9, -999.000,9
     06MT030_2,   A02,   454,  2,     14, KZM115,2,19941024,0618, 47.5417, -22.4550, 4466,   2199.9,   3.3694,  34.9276,2,  34.9285,2,    275.9,2,    13.28,2,    16.62,2,     1.13,2, -999.000,9, -999.000,9, -999.000,9, -999.000,9
     06MT030_2,   A02,   454,  2,     13, KZM090,2,19941024,0618, 47.5417, -22.4550, 4466,   2400.5,   3.2654,  34.9430,2,  34.9420,2,    272.6,2,    15.63,2,    16.97,2,     1.14,2, -999.000,9, -999.000,9, -999.000,9, -999.000,9
     06MT030_2,   A02,   454,  2,     11, KZM008,2,19941024,0618, 47.5417, -22.4550, 4466,   2601.3,   3.1355,  34.9528,2,  34.9520,2,    266.0,2,    19.30,2,    17.44,2,     1.19,2, -999.000,9, -999.000,9, -999.000,9, -999.000,9
     06MT030_2,   A02,   454,  2,      9, KZM114,2,19941024,0618, 47.5417, -22.4550, 4466,   3003.5,   2.8506,  34.9487,2,  34.9467,2,    259.9,2,    26.09,2,    18.63,2,     1.28,2, -999.000,9, -999.000,9, -999.000,9, -999.000,9
     06MT030_2,   A02,   454,  2,      8,  UB001,2,19941024,0618, 47.5417, -22.4550, 4466,   3303.1,   2.7087,  34.9370,2,  34.9353,2,    252.3,2,    32.77,2,    19.81,2,     1.37,2, -999.000,9, -999.000,9, -999.000,9, -999.000,9
     06MT030_2,   A02,   454,  2,      7, KZM067,2,19941024,0618, 47.5417, -22.4550, 4466,   3603.0,   2.5967,  34.9234,2,  34.9213,2,    246.0,2,    39.08,2,    21.13,2,     1.48,2, -999.000,9, -999.000,9, -999.000,9, -999.000,9
     06MT030_2,   A02,   454,  2,      6, KZM017,2,19941024,0618, 47.5417, -22.4550, 4466,   3903.1,   2.5668,  34.9152,2,  34.9154,2,    244.2,2,    41.36,2,    21.60,2,     1.49,2, -999.000,9, -999.000,9, -999.000,9, -999.000,9
     06MT030_2,   A02,   454,  2,      5,  UB319,2,19941024,0618, 47.5417, -22.4550, 4466,   4102.9,   2.5628,  34.9124,2,  34.9122,2,    243.5,2,    42.21,2,    21.76,2,     1.51,2, -999.000,9, -999.000,9, -999.000,9, -999.000,9
     06MT030_2,   A02,   454,  2,      4, KZM056,2,19941024,0618, 47.5417, -22.4550, 4466,   4253.6,   2.5638,  34.9104,2,  34.9104,2,    242.9,2,    42.93,2,    21.87,2,     1.51,2, -999.000,9, -999.000,9, -999.000,9, -999.000,9
     06MT030_2,   A02,   454,  2,      3, KZM061,2,19941024,0618, 47.5417, -22.4550, 4466,   4401.8,   2.5638,  34.9088,2,  34.9087,2,    242.9,2,    43.42,2,    21.97,2,     1.54,2, -999.000,9, -999.000,9, -999.000,9, -999.000,9
     06MT030_2,   A02,   454,  2,      2, KZM052,2,19941024,0618, 47.5417, -22.4550, 4466,   4505.5,   2.5708,  34.9085,2,  34.9089,2,    242.3,2,    43.38,2,    22.02,2,     1.52,2, -999.000,9, -999.000,9, -999.000,9, -999.000,9