BOTTLE,20010917WHPSIOKJU
EXPOCODE,SECT_ID,STNNBR,CASTNO,SAMPNO,BTLNBR,BTLNBR_FLAG_W,DATE,TIME,LATITUDE,LONGITUDE,DEPTH,CTDPRS,CTDTMP,CTDSAL,CTDSAL_FLAG_W,SALNTY,SALNTY_FLAG_W,OXYGEN,OXYGEN_FLAG_W,SILCAT,SILCAT_FLAG_W,NITRAT,NITRAT_FLAG_W,PHSPHT,PHSPHT_FLAG_W,CFC-11,CFC-11_FLAG_W,CFC-12,CFC-12_FLAG_W,CFC113,CFC113_FLAG_W,CCL4,CCL4_FLAG_W
,,,,,,,,,,,,DBAR,ITS-90,PSS-78,,PSS-78,,UMOL/KG,,UMOL/KG,,UMOL/KG,,UMOL/KG,,PMOL/L,,PMOL/L,,PMOL/L,,PMOL/L,
     06MT030_2,   A02,   467,  1,     24, KZM012,2,19941028,0640, 46.0683, -31.2133, 3347,     13.8,  16.6221,  35.3481,2,  35.3418,3,    240.0,2,     1.60,2,     0.10,2,     0.06,2,    2.616,2,    1.432,2,    0.191,2,    3.508,2
     06MT030_2,   A02,   467,  1,     23, KZM125,2,19941028,0640, 46.0683, -31.2133, 3347,     49.9,  16.5441,  35.3649,2,  35.3715,3,    236.7,2,     1.62,2,     0.44,2,     0.08,2, -999.000,9, -999.000,9, -999.000,9, -999.000,9
     06MT030_2,   A02,   467,  1,     22, KZM033,2,19941028,0640, 46.0683, -31.2133, 3347,     89.3,  15.0825,  35.9566,2,  35.9488,3,    212.9,2,     3.45,2,     6.67,2,     0.33,2,    2.522,2,    1.357,2,    0.137,2,    1.384,2
     06MT030_2,   A02,   467,  1,     21, KZM040,2,19941028,0640, 46.0683, -31.2133, 3347,    149.4,  14.1327,  35.8441,2,  35.8342,3,    209.4,2,     4.18,2,     8.21,2,     0.43,2, -999.000,9, -999.000,9, -999.000,9, -999.000,9
     06MT030_2,   A02,   467,  1,     20, KZM097,2,19941028,0640, 46.0683, -31.2133, 3347,    249.9,  12.8700,  35.7031,2,  35.7004,2,    225.0,2,     4.82,2,     9.40,2,     0.52,2,    2.711,2,    1.460,2,    0.152,2,    1.830,2
     06MT030_2,   A02,   467,  1,     19, KZM126,2,19941028,0640, 46.0683, -31.2133, 3347,    440.4,  10.1078,  35.2450,2,  35.2321,3,    208.3,2,     8.14,2,    14.46,2,     0.87,2, -999.000,9, -999.000,9, -999.000,9, -999.000,9
     06MT030_2,   A02,   467,  1,     18, KZM085,2,19941028,0640, 46.0683, -31.2133, 3347,    488.1,  10.0248,  35.2810,2,  35.2767,2,    220.7,2,     7.90,2,    14.15,2,     0.86,2,    2.902,2,    1.537,2,    0.350,4,    2.177,2
     06MT030_2,   A02,   467,  1,     17, KZM124,2,19941028,0640, 46.0683, -31.2133, 3347,    599.3,   8.3264,  35.0752,2,  35.0695,2,    204.0,2,    10.67,2,    18.15,2,     1.12,2,    2.195,2,    1.102,2,    0.128,2,    2.147,2
     06MT030_2,   A02,   467,  1,     16, KZM114,2,19941028,0640, 46.0683, -31.2133, 3347,    780.6,   5.8793,  34.9169,2,  34.9154,2,    219.9,2,    12.18,2,    19.08,2,     1.21,2,    2.389,2,    1.199,2,    0.162,2,    3.095,2
     06MT030_2,   A02,   467,  1,     15, KZM029,2,19941028,0640, 46.0683, -31.2133, 3347,    838.9,   6.4371,  35.0788,2,  35.1005,3,    213.5,3,    11.92,2,    18.15,2,     1.16,3,    1.748,2,    0.866,2,    0.075,2,    1.979,2
     06MT030_2,   A02,   467,  1,     14, KZM115,2,19941028,0640, 46.0683, -31.2133, 3347,    999.6,   4.9937,  34.9890,2,  34.9885,2,    240.8,2,    12.00,2,    18.18,2,     1.16,2, -999.000,9, -999.000,9, -999.000,9, -999.000,9
     06MT030_2,   A02,   467,  1,     13, KZM090,2,19941028,0640, 46.0683, -31.2133, 3347,   1098.3,   4.5939,  34.9680,2,  34.9672,2,    250.3,2,    11.79,2,    17.89,2,     1.14,2,    2.184,2,    1.095,2,    0.128,2,    2.978,2
     06MT030_2,   A02,   467,  1,     12, KZM117,2,19941028,0640, 46.0683, -31.2133, 3347,   1298.9,   4.0241,  34.9332,2,  34.9325,2,    266.4,2,    11.40,2,    17.44,2,     1.10,2, -999.000,9, -999.000,9, -999.000,9, -999.000,9
     06MT030_2,   A02,   467,  1,     11, KZM008,2,19941028,0640, 46.0683, -31.2133, 3347,   1499.0,   3.6723,  34.9058,2,  34.9061,2,    276.9,2,    11.27,2,    16.91,2,     1.08,2,    2.366,2,    1.151,2,    0.140,2,    3.807,2
     06MT030_2,   A02,   467,  1,      9, KZM036,2,19941028,0640, 46.0683, -31.2133, 3347,   1699.9,   3.4983,  34.8942,2,-999.0000,9,   -999.0,9,    11.22,9,    16.76,9,     1.08,9, -999.000,9, -999.000,9, -999.000,9, -999.000,9
     06MT030_2,   A02,   467,  1,      8,  UB001,2,19941028,0640, 46.0683, -31.2133, 3347,   1899.6,   3.3804,  34.8903,2,  34.8892,2,    282.8,2,    11.42,2,    16.37,2,     1.07,2,    2.197,2,    1.048,2,    0.102,2,    3.724,2
     06MT030_2,   A02,   467,  1,      7, KZM067,2,19941028,0640, 46.0683, -31.2133, 3347,   2099.6,   3.2844,  34.8897,2,  34.8890,2,    258.2,4,    11.79,2,    16.70,2,     1.06,2, -999.000,9, -999.000,9, -999.000,9, -999.000,9
     06MT030_2,   A02,   467,  1,      6, KZM017,2,19941028,0640, 46.0683, -31.2133, 3347,   2399.0,   3.2834,  34.9112,2,  34.9107,2,    278.0,2,    12.45,2,    16.61,2,     1.05,2,    0.825,4,    0.398,4,    0.032,4,    1.516,4
     06MT030_2,   A02,   467,  1,      5,  UB319,2,19941028,0640, 46.0683, -31.2133, 3347,   2701.5,   3.1765,  34.9318,2,  34.9310,2,    274.6,2,    13.79,2,    16.32,2,     1.07,2, -999.000,9, -999.000,9, -999.000,9, -999.000,9
     06MT030_2,   A02,   467,  1,      4, KZM056,2,19941028,0640, 46.0683, -31.2133, 3347,   2899.4,   2.9916,  34.9331,2,  34.9332,2,    273.2,2,    15.17,2,    16.08,2,     1.07,2,    0.944,2,    0.458,2,    0.026,2,    2.063,2
     06MT030_2,   A02,   467,  1,      3, KZM061,2,19941028,0640, 46.0683, -31.2133, 3347,   3102.1,   2.7427,  34.9273,2,  34.9259,2,    275.7,2,    16.58,2,    16.36,2,     1.07,2,    0.924,2,    0.445,2,    0.025,2,    1.951,2
     06MT030_2,   A02,   467,  1,      2, KZM052,2,19941028,0640, 46.0683, -31.2133, 3347,   3302.1,   2.6807,  34.9250,2,  34.9239,2,    275.3,2,    17.12,2,    16.44,2,     1.07,2,    0.973,2,    0.475,2,    0.040,2,    2.113,2
     06MT030_2,   A02,   468,  1,     23,  10013,2,19941028,1348, 45.9067, -31.8100, 3601,     19.7,  17.9011,  35.6595,2,  35.6588,2,    234.8,2,     1.89,2,     0.04,2,     0.05,2, -999.000,9, -999.000,9, -999.000,9, -999.000,9
     06MT030_2,   A02,   468,  1,     22,  10023,2,19941028,1348, 45.9067, -31.8100, 3601,     28.1,  17.4045,  35.6024,2,  35.6044,2,   -999.0,9,  -999.00,9,  -999.00,9,  -999.00,9,    2.447,6,    1.347,6,    0.170,6,    3.316,6
     06MT030_2,   A02,   468,  1,     21,  10002,2,19941028,1348, 45.9067, -31.8100, 3601,     28.3,  17.4095,  35.6037,2,  35.6024,2,    236.2,2,     1.97,2,     0.25,2,     0.05,2,    2.473,2,    1.355,2,    0.168,2,    3.336,2
     06MT030_2,   A02,   468,  1,     20,  10027,2,19941028,1348, 45.9067, -31.8100, 3601,     49.5,  16.8869,  35.6021,2,  35.7028,4,    227.6,2,     2.24,2,     1.42,2,     0.10,4, -999.000,9, -999.000,9, -999.000,9, -999.000,9
     06MT030_2,   A02,   468,  1,     18,  10020,2,19941028,1348, 45.9067, -31.8100, 3601,     69.2,  17.4405,  36.3538,2,  36.3669,3,    193.7,3,     3.16,2,     5.11,2,     0.22,2,    2.134,2,    1.173,2,    0.051,2,    0.828,2
     06MT030_2,   A02,   468,  1,     19,  10017,2,19941028,1348, 45.9067, -31.8100, 3601,     69.5,  17.4684,  36.3565,2,  36.3690,3,   -999.0,9,  -999.00,9,  -999.00,9,  -999.00,9, -999.000,9, -999.000,9, -999.000,9, -999.000,9
     06MT030_2,   A02,   468,  1,     16,  10021,2,19941028,1348, 45.9067, -31.8100, 3601,     98.6,  15.9677,  36.1355,2,-999.0000,9,    202.5,3,     3.78,2,     6.67,2,     0.33,9,    2.224,2,    1.194,2,    0.076,2,    1.068,2
     06MT030_2,   A02,   468,  1,     15,  10025,2,19941028,1348, 45.9067, -31.8100, 3601,     99.1,  15.9837,  36.1367,2,  36.1625,3,   -999.0,9,  -999.00,9,  -999.00,9,  -999.00,9, -999.000,9, -999.000,9, -999.000,9, -999.000,9
     06MT030_2,   A02,   468,  1,     13,  10003,2,19941028,1348, 45.9067, -31.8100, 3601,    147.7,  14.7249,  35.9456,2,  35.9519,2,   -999.0,9,  -999.00,9,  -999.00,9,  -999.00,9, -999.000,9, -999.000,9, -999.000,9, -999.000,9
     06MT030_2,   A02,   468,  1,     14,     22,2,19941028,1348, 45.9067, -31.8100, 3601,    148.1,  14.7528,  35.9496,2,  35.9535,2,    221.4,2,     4.01,2,     6.96,2,     0.37,2,    2.559,2,    1.389,2,    0.152,4,    1.516,2
     06MT030_2,   A02,   468,  1,     12,  10026,2,19941028,1348, 45.9067, -31.8100, 3601,    172.9,  14.1224,  35.8454,2,  35.8451,2,    213.8,2,     4.70,2,     8.48,2,     0.47,2, -999.000,9, -999.000,9, -999.000,9, -999.000,9
     06MT030_2,   A02,   468,  1,     11,  10008,2,19941028,1348, 45.9067, -31.8100, 3601,    198.2,  14.0545,  35.8617,2,  35.8648,2,    216.7,2,     4.59,2,     8.39,2,     0.48,2,    2.511,2,    1.372,2,    0.119,2,    1.537,2
     06MT030_2,   A02,   468,  1,     10,  10010,2,19941028,1348, 45.9067, -31.8100, 3601,    198.6,  14.0395,  35.8613,2,  35.8629,2,   -999.0,9,  -999.00,9,  -999.00,9,  -999.00,9, -999.000,9, -999.000,9, -999.000,9, -999.000,9
     06MT030_2,   A02,   468,  1,      9,  10004,2,19941028,1348, 45.9067, -31.8100, 3601,    223.5,  13.8197,  35.8401,2,  35.8407,2,    219.5,2,     4.65,2,     8.45,2,     0.48,2, -999.000,9, -999.000,9, -999.000,9, -999.000,9
     06MT030_2,   A02,   468,  1,      8,     15,2,19941028,1348, 45.9067, -31.8100, 3601,    306.6,  12.9796,  35.7225,2,  35.7232,2,    225.7,2,     5.11,2,     9.22,2,     0.55,2,    2.682,2,    1.426,2,    0.141,2,    1.769,2
     06MT030_2,   A02,   468,  1,      7,     23,2,19941028,1348, 45.9067, -31.8100, 3601,    445.9,  11.8597,  35.5967,2,  35.5962,2,    227.1,2,     5.91,2,    11.05,2,     0.66,2,    2.759,2,    1.452,2,    0.120,2,    1.767,2
     06MT030_2,   A02,   468,  1,      6,    910,2,19941028,1348, 45.9067, -31.8100, 3601,    747.1,   6.4069,  34.9506,2,  34.9437,2,    204.6,2,    13.15,2,    19.94,2,     1.27,2,    1.939,2,    0.948,2,    0.103,2,    2.331,2
     06MT030_2,   A02,   468,  1,      5, KZM128,2,19941028,1348, 45.9067, -31.8100, 3601,    795.9,   6.2860,  35.0136,2,  35.0103,2,    210.4,2,    13.05,2,    19.61,2,     1.26,2,    1.783,2,    0.868,2,    0.087,2,    2.214,2
     06MT030_2,   A02,   468,  1,      4,      6,2,19941028,1348, 45.9067, -31.8100, 3601,    895.5,   6.0453,  35.0786,2,  35.0732,2,    220.9,2,    12.70,2,    18.82,2,     1.22,2,    1.738,2,    0.846,2,    0.078,2,    2.298,2
     06MT030_2,   A02,   468,  1,      3,     18,2,19941028,1348, 45.9067, -31.8100, 3601,    996.1,   4.9786,  34.9829,2,  34.9781,2,    240.4,2,    12.50,2,    18.35,2,     1.19,2, -999.000,9, -999.000,9, -999.000,9, -999.000,9
     06MT030_2,   A02,   468,  1,      2,     17,2,19941028,1348, 45.9067, -31.8100, 3601,   1194.6,   4.3055,  34.9562,2,  34.9532,2,    260.3,2,    12.20,2,    17.68,2,     1.15,2,    2.464,4,    1.249,4,    0.184,4,    3.685,4
     06MT030_2,   A02,   468,  1,      1,     10,2,19941028,1348, 45.9067, -31.8100, 3601,   1397.1,   3.8261,  34.9208,2,  34.9194,2,    271.4,2,    11.87,2,    17.38,2,     1.11,2, -999.000,9, -999.000,9, -999.000,9, -999.000,9
     06MT030_2,   A02,   468,  3,     24, KZM012,2,19941028,1956, 45.9083, -31.8100, 3639,    298.9,  12.8330,  35.7194,2,  35.7180,2,    225.7,2,     4.94,2,     9.49,2,     0.50,2, -999.000,9, -999.000,9, -999.000,9, -999.000,9
     06MT030_2,   A02,   468,  3,     23, KZM125,2,19941028,1956, 45.9083, -31.8100, 3639,   1399.5,   3.8562,  34.9216,2,  34.9176,3,    270.8,2,    11.54,2,    17.02,2,     1.05,2,    2.164,2,    1.041,2,    0.106,2,    3.564,2
     06MT030_2,   A02,   468,  3,     22, KZM033,2,19941028,1956, 45.9083, -31.8100, 3639,   1498.9,   3.6992,  34.9100,2,  34.9071,2,    275.4,2,    11.49,2,    16.89,2,     1.08,2,    2.133,2,    1.035,2,    0.093,2,    3.600,2
     06MT030_2,   A02,   468,  3,     21, KZM040,2,19941028,1956, 45.9083, -31.8100, 3639,   1648.6,   3.5373,  34.8966,2,  34.8974,2,    279.1,2,    11.40,2,    16.79,2,     1.09,2,    2.301,3,    1.145,3,    0.108,2,    3.750,2
     06MT030_2,   A02,   468,  3,     20, KZM097,2,19941028,1956, 45.9083, -31.8100, 3639,   1748.3,   3.4713,  34.8961,2,  34.8949,2,    279.9,2,    11.68,2,    17.02,2,     1.08,2,    2.108,2,    1.013,2,    0.093,2,    3.643,2
     06MT030_2,   A02,   468,  3,     19, KZM126,2,19941028,1956, 45.9083, -31.8100, 3639,   1839.5,   3.4154,  34.8917,2,  34.8911,2,    281.5,2,    11.63,2,    16.67,2,     1.08,2,    2.152,2,    1.040,2,    0.099,2,    3.712,2
     06MT030_2,   A02,   468,  3,     18, KZM085,2,19941028,1956, 45.9083, -31.8100, 3639,   1961.5,   3.3304,  34.8855,2,  34.8849,2,    284.0,2,    11.45,2,    16.47,2,     1.07,2,    2.326,3,    1.126,3,    0.137,4,    3.901,4
     06MT030_2,   A02,   468,  3,     17, KZM124,2,19941028,1956, 45.9083, -31.8100, 3639,   2081.4,   3.3284,  34.8913,2,  34.8912,2,    282.6,2,    11.92,2,    16.69,2,     1.07,2,    2.117,2,    1.024,2,    0.102,2,    3.704,2
     06MT030_2,   A02,   468,  3,     16, KZM114,2,19941028,1956, 45.9083, -31.8100, 3639,   2199.8,   3.2964,  34.8930,2,  34.8932,2,    283.2,3,    12.04,2,    16.48,2,     1.08,2,    2.024,2,    0.989,2,    0.097,2,    3.570,2
     06MT030_2,   A02,   468,  3,     15, KZM029,2,19941028,1956, 45.9083, -31.8100, 3639,   2301.7,   3.2984,  34.9031,2,  34.9029,2,    280.2,2,    12.45,2,    16.54,2,     1.07,2,    1.792,2,    0.880,2,    0.077,2,    3.292,2
     06MT030_2,   A02,   468,  3,     14,      2,2,19941028,1956, 45.9083, -31.8100, 3639,   2401.1,   3.2944,  34.9118,2,  34.9134,2,    278.9,2,    12.94,2,    16.63,2,     1.07,2,    1.559,2,    0.762,2,    0.062,2,    2.947,2
     06MT030_2,   A02,   468,  3,     13, KZM090,2,19941028,1956, 45.9083, -31.8100, 3639,   2498.2,   3.2854,  34.9202,2,  34.9421,4,    273.4,3,    13.12,2,    16.35,2,     1.07,3,    1.407,2,    0.699,2,    0.042,2,    2.640,2
     06MT030_2,   A02,   468,  3,     12, KZM117,2,19941028,1956, 45.9083, -31.8100, 3639,   2602.0,   3.2474,  34.9268,2,  34.9278,2,    275.1,2,    13.92,2,    16.42,2,     1.08,2,    1.164,2,    0.573,2,    0.026,2,    2.406,2
     06MT030_2,   A02,   468,  3,     11, KZM008,2,19941028,1956, 45.9083, -31.8100, 3639,   2699.8,   3.2045,  34.9303,2,  34.9308,2,    275.0,2,    14.35,2,    16.47,2,     1.11,2, -999.000,9, -999.000,9, -999.000,9, -999.000,9
     06MT030_2,   A02,   468,  3,      9, KZM036,2,19941028,1956, 45.9083, -31.8100, 3639,   2802.5,   3.1375,  34.9327,2,  34.9326,2,    274.3,2,    14.83,2,    16.67,2,     1.08,2,    1.008,2,    0.489,2,    0.036,4,    2.124,2
     06MT030_2,   A02,   468,  3,      8,  UB001,2,19941028,1956, 45.9083, -31.8100, 3639,   2902.4,   3.0625,  34.9335,2,  34.9340,2,    274.2,2,    15.17,2,    16.45,2,     1.08,2,    0.974,2,    0.473,2,    0.016,2,    2.104,2
     06MT030_2,   A02,   468,  3,      6, KZM017,2,19941028,1956, 45.9083, -31.8100, 3639,   3152.6,   2.8916,  34.9319,2,  34.9324,2,    274.4,2,    16.20,2,    16.30,2,     1.09,2,    0.892,2,    0.437,2,    0.012,2,    2.014,2
     06MT030_2,   A02,   468,  3,      5,  UB319,2,19941028,1956, 45.9083, -31.8100, 3639,   3303.1,   2.7707,  34.9291,2,  34.9285,2,    275.0,2,    16.94,2,    16.29,2,     1.09,2,    0.868,2,    0.422,2,    0.015,2,    1.961,2
     06MT030_2,   A02,   468,  3,      4, KZM056,2,19941028,1956, 45.9083, -31.8100, 3639,   3452.0,   2.6017,  34.9216,2,  34.9210,2,    275.4,2,    18.10,2,    16.46,2,     1.09,2,    0.926,6,    0.443,6,    0.018,6,    2.058,6
     06MT030_2,   A02,   468,  3,      2, KZM052,2,19941028,1956, 45.9083, -31.8100, 3639,   3678.8,   2.5178,  34.9166,2,  34.9171,2,    276.7,2,    18.53,2,    16.31,2,     1.10,2,    0.974,2,    0.479,2,    0.021,2,    2.110,2
     06MT030_2,   A02,   468,  3,      1, KZM038,2,19941028,1956, 45.9083, -31.8100, 3639,   3698.8,   2.5148,  34.9171,2,  34.9159,2,    275.9,2,    18.28,2,    16.35,2,     1.10,2,    0.978,2,    0.491,2,    0.021,2,    2.148,2
     06MT030_2,   A02,   469,  1,     14,     22,2,19941029,0809, 45.6917, -32.3017, 3588,     13.0,  15.9577,  35.0334,2,  35.0276,2,    244.6,2,     1.36,2,     0.00,2,     0.07,2,    2.713,2,    1.474,2,    0.214,2,    3.744,2
     06MT030_2,   A02,   469,  1,     13,  10003,2,19941029,0809, 45.6917, -32.3017, 3588,     49.8,  15.9667,  35.0618,2,  35.0527,2,    243.7,2,     1.14,2,     0.01,2,     0.07,2,    2.730,2,    1.498,2,    0.215,2,    3.762,2
     06MT030_2,   A02,   469,  1,     12,  10026,2,19941029,0809, 45.6917, -32.3017, 3588,     85.0,  15.8868,  36.0828,2,  36.0909,3,    203.0,2,     2.80,2,     6.22,2,     0.27,2,    2.297,2,    1.241,2,    0.185,2,    1.102,2
     06MT030_2,   A02,   469,  1,     11,  10008,2,19941029,0809, 45.6917, -32.3017, 3588,    119.3,  14.9437,  35.9435,2,  35.9494,2,    210.9,2,     3.34,2,     7.25,2,     0.34,2,    2.429,2,    1.314,2,    0.142,2,    1.353,2
     06MT030_2,   A02,   469,  1,     10,  10010,2,19941029,0809, 45.6917, -32.3017, 3588,    198.0,  13.3652,  35.6899,2,  35.6931,2,    208.5,2,     4.68,2,     9.81,2,     0.50,2,    2.525,2,    1.374,2,    0.154,2,    1.538,2
     06MT030_2,   A02,   469,  1,      9,  10004,2,19941029,0809, 45.6917, -32.3017, 3588,    296.1,  12.4691,  35.6390,2,  35.6412,2,    224.4,2,     4.92,2,    10.15,2,     0.56,2,    2.648,2,    1.456,2,    0.174,4,    1.712,2
     06MT030_2,   A02,   469,  1,      8,     15,2,19941029,0809, 45.6917, -32.3017, 3588,    397.0,  11.8407,  35.5676,2,  35.5604,3,    221.7,2,     5.77,2,    11.90,2,     0.66,2,    2.552,2,    1.359,2,    0.135,2,    1.723,2
     06MT030_2,   A02,   469,  1,      5, KZM128,2,19941029,0809, 45.6917, -32.3017, 3588,    705.8,   6.8393,  34.9770,2,  34.9777,2,    198.4,2,    12.38,2,    19.75,2,     1.26,2,    1.790,2,    0.882,2,    0.098,2,    2.052,2
     06MT030_2,   A02,   469,  1,      4,      6,2,19941029,0809, 45.6917, -32.3017, 3588,    796.4,   5.9664,  34.9636,2,  34.9618,2,    212.8,2,    12.56,2,    19.37,2,     1.26,2,    1.904,2,    0.946,2,    0.106,2,    2.391,2
     06MT030_2,   A02,   469,  1,      3,     18,2,19941029,0809, 45.6917, -32.3017, 3588,    874.0,   5.6997,  35.0162,2,  35.0136,2,    221.7,2,    12.36,2,    19.20,2,     1.22,2,    1.796,2,    0.882,2,    0.092,2,    2.342,2
     06MT030_2,   A02,   469,  1,      2,     17,2,19941029,0809, 45.6917, -32.3017, 3588,    994.6,   5.1484,  35.0042,2,  35.0042,2,    236.1,2,    12.05,2,    18.84,2,     1.17,2,    1.894,2,    0.925,2,    0.096,2,    2.636,2
     06MT030_2,   A02,   469,  1,      1,     10,2,19941029,0809, 45.6917, -32.3017, 3588,   1096.5,   4.8808,  35.0105,2,  35.0120,2,    245.9,2,    11.82,2,    18.24,2,     1.16,2,    1.846,2,    0.911,2,    0.094,2,    2.718,2