BOTTLE,20010917WHPSIOKJU
EXPOCODE,SECT_ID,STNNBR,CASTNO,SAMPNO,BTLNBR,BTLNBR_FLAG_W,DATE,TIME,LATITUDE,LONGITUDE,DEPTH,CTDPRS,CTDTMP,CTDSAL,CTDSAL_FLAG_W,SALNTY,SALNTY_FLAG_W,OXYGEN,OXYGEN_FLAG_W,SILCAT,SILCAT_FLAG_W,NITRAT,NITRAT_FLAG_W,PHSPHT,PHSPHT_FLAG_W,CFC-11,CFC-11_FLAG_W,CFC-12,CFC-12_FLAG_W,CFC113,CFC113_FLAG_W,CCL4,CCL4_FLAG_W
,,,,,,,,,,,,DBAR,ITS-90,PSS-78,,PSS-78,,UMOL/KG,,UMOL/KG,,UMOL/KG,,UMOL/KG,,PMOL/L,,PMOL/L,,PMOL/L,,PMOL/L,
     06MT030_2,   A02,   473,  2,     24, KZM012,2,19941031,1645, 45.0250, -34.4300, 3976,    699.7,   6.6770,  34.9319,2,  34.9306,2,    205.9,2,    12.63,2,    19.62,2,     1.32,2,    2.028,2,    1.000,2,    0.125,2,    2.365,2
     06MT030_2,   A02,   473,  2,     23, KZM125,2,19941031,1645, 45.0250, -34.4300, 3976,    799.4,   6.8290,  35.1347,2,  35.1342,2,    206.5,2,    12.66,2,    19.28,2,     1.29,2,    1.483,2,    0.723,2,    0.071,2,    1.762,2
     06MT030_2,   A02,   473,  2,     22, KZM033,2,19941031,1645, 45.0250, -34.4300, 3976,   1150.5,   4.7628,  35.0192,2,  35.0210,2,    251.0,2,    12.27,2,    17.87,2,     1.21,2,    1.678,2,    0.809,2,    0.076,2,    2.638,2
     06MT030_2,   A02,   473,  2,     21, KZM040,2,19941031,1645, 45.0250, -34.4300, 3976,   1199.0,   4.4859,  34.9861,2,  34.9881,2,    257.4,2,    12.08,2,    17.80,2,     1.20,2, -999.000,9, -999.000,9, -999.000,9, -999.000,9
     06MT030_2,   A02,   473,  2,     20, KZM097,2,19941031,1645, 45.0250, -34.4300, 3976,   1296.3,   4.1361,  34.9484,2,  34.9492,2,    265.8,2,    12.13,2,    17.40,2,     1.20,2, -999.000,9, -999.000,9, -999.000,9, -999.000,9
     06MT030_2,   A02,   473,  2,     19, KZM126,2,19941031,1645, 45.0250, -34.4300, 3976,   1402.9,   3.9162,  34.9264,2,  34.9274,2,    272.1,2,    11.78,2,    17.22,2,     1.18,2, -999.000,9, -999.000,9, -999.000,9, -999.000,9
     06MT030_2,   A02,   473,  2,     18, KZM085,2,19941031,1645, 45.0250, -34.4300, 3976,   1534.1,   3.6952,  34.9093,2,  34.9100,2,    276.6,2,    11.60,2,    17.14,2,     1.16,2,    2.324,2,    1.133,2,    0.126,2,    3.769,2
     06MT030_2,   A02,   473,  2,     17, KZM124,2,19941031,1645, 45.0250, -34.4300, 3976,   1600.5,   3.6373,  34.9079,2,  34.9088,2,    277.3,2,    11.82,2,    16.87,2,     1.16,2, -999.000,9, -999.000,9, -999.000,9, -999.000,9
     06MT030_2,   A02,   473,  2,     16, KZM114,2,19941031,1645, 45.0250, -34.4300, 3976,   1799.2,   3.4773,  34.8979,2,  34.8987,2,    281.0,2,    11.99,2,    16.82,2,     1.15,2,    2.205,2,    1.088,2,    0.146,2,    3.765,2
     06MT030_2,   A02,   473,  2,     15, KZM029,2,19941031,1645, 45.0250, -34.4300, 3976,   2000.4,   3.3154,  34.8870,2,  34.8862,2,    286.4,2,    11.82,2,    16.72,2,     1.13,2,    2.369,2,    1.139,2,    0.131,2,    3.963,2
     06MT030_2,   A02,   473,  2,     14,      2,2,19941031,1645, 45.0250, -34.4300, 3976,   2199.8,   3.3174,  34.9006,2,  34.9015,2,    282.6,2,    12.46,2,    16.46,2,     1.14,2,    1.884,2,    0.916,2,    0.106,2,    3.404,2
     06MT030_2,   A02,   473,  2,     13, KZM090,2,19941031,1645, 45.0250, -34.4300, 3976,   2401.6,   3.3184,  34.9217,2,  34.9229,2,    277.3,2,    13.46,2,    16.56,2,     1.14,2,    1.242,2,    0.600,2,    0.043,2,    2.490,2
     06MT030_2,   A02,   473,  2,     12, KZM117,2,19941031,1645, 45.0250, -34.4300, 3976,   2602.6,   3.2474,  34.9327,2,  34.9337,2,    274.6,2,    14.73,2,    16.89,3,     1.14,2,    0.884,2,    0.432,2,    0.023,2,    1.993,2
     06MT030_2,   A02,   473,  2,     11, KZM008,2,19941031,1645, 45.0250, -34.4300, 3976,   2803.0,   3.0875,  34.9314,2,  34.9324,2,    276.0,2,    14.87,2,    16.44,2,     1.14,2,    0.990,2,    0.484,2,    0.031,2,    2.082,2
     06MT030_2,   A02,   473,  2,      9, KZM036,2,19941031,1645, 45.0250, -34.4300, 3976,   3002.4,   2.9336,  34.9301,2,  34.9308,2,    276.4,2,    15.75,2,    16.27,2,     1.16,2,    0.912,2,    0.445,2,    0.031,2,    1.970,2
     06MT030_2,   A02,   473,  2,      8,  UB001,2,19941031,1645, 45.0250, -34.4300, 3976,   3202.1,   2.7927,  34.9282,2,  34.9274,2,    275.9,2,    17.52,2,    16.72,2,     1.15,2,    0.791,2,    0.388,2,    0.020,2,    1.803,2
     06MT030_2,   A02,   473,  2,      7, KZM067,2,19941031,1645, 45.0250, -34.4300, 3976,   3502.1,   2.5568,  34.9193,2,  34.9184,2,    274.5,2,    19.94,2,    16.67,2,     1.17,2,    0.696,2,    0.338,2,    0.025,2,    1.684,2
     06MT030_2,   A02,   473,  2,      6, KZM017,2,19941031,1645, 45.0250, -34.4300, 3976,   3603.5,   2.4958,  34.9148,2,  34.9144,2,    276.0,2,    20.43,2,    16.82,2,     1.19,2,    0.785,2,    0.379,2,    0.025,2,    1.791,2
     06MT030_2,   A02,   473,  2,      5,  UB319,2,19941031,1645, 45.0250, -34.4300, 3976,   3703.5,   2.4548,  34.9128,2,  34.9120,2,    275.3,2,    20.97,2,    17.10,3,     1.19,2,    0.883,2,    0.446,4,    0.066,4,    1.874,2
     06MT030_2,   A02,   473,  2,      4, KZM056,2,19941031,1645, 45.0250, -34.4300, 3976,   3804.5,   2.3928,  34.9088,2,  34.9086,2,    276.7,2,    21.34,2,    16.79,2,     1.19,2,    0.873,2,    0.419,2,    0.031,2,    1.901,2
     06MT030_2,   A02,   473,  2,      3, KZM061,2,19941031,1645, 45.0250, -34.4300, 3976,   3924.0,   2.3639,  34.9070,2,  34.9065,2,    277.0,2,    21.47,2,    16.70,2,     1.19,2,    0.928,2,    0.444,2,    0.038,2,    1.960,2
     06MT030_2,   A02,   473,  2,      2, KZM052,2,19941031,1645, 45.0250, -34.4300, 3976,   4021.5,   2.2829,  34.9017,2,  34.9027,2,    281.2,2,    19.60,2,    16.36,2,     1.15,2,    1.287,6,    0.618,6,    0.059,6,    2.452,6
     06MT030_2,   A02,   473,  2,      1, KZM038,2,19941031,1645, 45.0250, -34.4300, 3976,   4033.7,   2.2819,  34.9022,2,  34.9029,2,    278.9,2,    19.50,2,    16.20,2,     1.15,2,    1.279,6,    0.610,6,    0.060,6,    2.461,6
     06MT030_2,   A02,   474,  2,     23, KZM125,2,19941101,0322, 44.8383, -35.0800, 4103,   1500.7,   3.9491,  34.9421,2,  34.9415,2,    271.0,2,    12.24,2,    17.40,2,     1.12,2,    1.931,2,    0.928,2,    0.153,4,    3.177,2
     06MT030_2,   A02,   474,  2,     22, KZM033,2,19941101,0322, 44.8383, -35.0800, 4103,   1601.2,   3.7432,  34.9208,2,  34.9219,2,    276.3,2,    12.36,2,    16.95,2,     1.11,2, -999.000,9, -999.000,9, -999.000,9, -999.000,9
     06MT030_2,   A02,   474,  2,     21, KZM040,2,19941101,0322, 44.8383, -35.0800, 4103,   1706.8,   3.6213,  34.9130,2,  34.9133,2,    278.1,2,    12.16,2,    16.75,2,     1.11,2,    2.125,2,    1.053,2,    0.149,4,    3.460,2
     06MT030_2,   A02,   474,  2,     20, KZM097,2,19941101,0322, 44.8383, -35.0800, 4103,   1800.5,   3.5253,  34.9033,2,  34.9036,2,    281.1,2,    11.90,2,    16.96,2,     1.10,2,    2.140,2,    1.038,2,    0.110,2,    3.597,2
     06MT030_2,   A02,   474,  2,     19, KZM126,2,19941101,0322, 44.8383, -35.0800, 4103,   1900.3,   3.4504,  34.8977,2,  34.8985,2,    282.6,2,    12.00,2,    16.68,2,     1.09,2,    2.141,2,    1.041,2,    0.107,2,    3.619,2
     06MT030_2,   A02,   474,  2,     17, KZM124,4,19941101,0322, 44.8383, -35.0800, 4103,   2099.8,   3.3524,  34.8947,2,  34.9825,4,    274.4,4,    11.44,4,    15.76,4,     1.04,4, -999.000,9, -999.000,9, -999.000,9, -999.000,9
     06MT030_2,   A02,   474,  2,     16, KZM114,2,19941101,0322, 44.8383, -35.0800, 4103,   2200.3,   3.3134,  34.8952,2,  34.8965,2,    283.8,2,    12.29,2,    16.50,2,     1.08,2,    2.071,2,    1.007,2,    0.112,2,    3.520,2
     06MT030_2,   A02,   474,  2,     15, KZM029,2,19941101,0322, 44.8383, -35.0800, 4103,   2301.9,   3.3214,  34.9075,2,  34.9078,2,    281.1,2,    12.86,2,    16.52,2,     1.09,2, -999.000,9, -999.000,9, -999.000,9, -999.000,9
     06MT030_2,   A02,   474,  2,     14,      2,2,19941101,0322, 44.8383, -35.0800, 4103,   2399.4,   3.2964,  34.9118,2,  34.9129,2,    280.8,2,    13.14,2,    16.32,2,     1.09,2,    1.646,2,    0.803,2,    0.099,2,    2.964,2
     06MT030_2,   A02,   474,  2,     13, KZM090,2,19941101,0322, 44.8383, -35.0800, 4103,   2501.8,   3.3044,  34.9226,2,  34.9238,2,    277.8,2,    13.92,2,    16.36,2,     1.10,2,    1.329,2,    0.646,2,    0.057,2,    2.529,2
     06MT030_2,   A02,   474,  2,     12, KZM117,2,19941101,0322, 44.8383, -35.0800, 4103,   2599.9,   3.2454,  34.9221,2,  34.9231,2,    277.8,2,    13.97,2,    16.48,2,     1.09,2,    1.354,2,    0.662,2,    0.060,2,    2.535,2
     06MT030_2,   A02,   474,  2,     11, KZM008,2,19941101,0322, 44.8383, -35.0800, 4103,   2702.2,   3.2095,  34.9265,2,  34.9283,2,    277.0,2,    14.32,2,    16.29,2,     1.09,2,    1.231,2,    0.598,2,    0.051,2,    2.361,2
     06MT030_2,   A02,   474,  2,      9, KZM036,2,19941101,0322, 44.8383, -35.0800, 4103,   3000.2,   3.0186,  34.9305,2,  34.9316,2,    275.2,2,    15.77,2,    16.19,2,     1.10,2,    0.937,2,    0.456,2,    0.031,2,    1.939,2
     06MT030_2,   A02,   474,  2,      8,  UB001,2,19941101,0322, 44.8383, -35.0800, 4103,   3201.8,   2.8346,  34.9282,2,  34.9302,2,    275.5,2,    17.12,2,    16.46,2,     1.10,2,    0.764,2,    0.375,2,    0.018,2,    1.757,2
     06MT030_2,   A02,   474,  2,      7, KZM067,2,19941101,0322, 44.8383, -35.0800, 4103,   3402.3,   2.6727,  34.9243,2,  34.9235,2,    274.7,2,    18.74,2,    16.65,2,     1.12,2,    0.705,2,    0.349,2,    0.017,2,    1.688,2
     06MT030_2,   A02,   474,  2,      6, KZM017,2,19941101,0322, 44.8383, -35.0800, 4103,   3603.6,   2.5328,  34.9167,2,  34.9164,2,    274.3,2,    20.58,2,    16.71,2,     1.14,2,    0.680,2,    0.331,2,    0.018,2,    1.642,2
     06MT030_2,   A02,   474,  2,      5,  UB319,2,19941101,0322, 44.8383, -35.0800, 4103,   3802.1,   2.4348,  34.9110,2,  34.9103,2,    274.3,2,    21.56,2,    16.71,2,     1.16,2,    0.757,2,    0.365,2,    0.025,2,    1.722,2
     06MT030_2,   A02,   474,  2,      4, KZM056,2,19941101,0322, 44.8383, -35.0800, 4103,   4002.5,   2.3429,  34.9053,2,  34.9042,2,    276.3,2,    22.08,2,    16.79,2,     1.15,2,    0.934,2,    0.448,2,    0.032,2,    1.933,2
     06MT030_2,   A02,   474,  2,      3, KZM061,2,19941101,0322, 44.8383, -35.0800, 4103,   4103.2,   2.2809,  34.9013,2,  34.9002,2,    278.2,2,    20.82,2,    16.20,2,     1.11,2,    1.224,2,    0.580,2,    0.052,2,    2.310,2
     06MT030_2,   A02,   474,  2,      2, KZM052,2,19941101,0322, 44.8383, -35.0800, 4103,   4160.3,   2.2829,  34.9013,2,  34.9004,2,    278.5,2,    20.85,2,    16.29,2,     1.12,2,    1.234,2,    0.586,2,    0.053,2,    2.293,2
     06MT030_2,   A02,   474,  2,      1, KZM038,2,19941101,0322, 44.8383, -35.0800, 4103,   4169.4,   2.2829,  34.9014,2,  34.9005,2,    278.8,2,    20.65,2,    16.35,2,     1.12,2,    1.253,2,    0.593,2,    0.056,2,    2.319,2
     06MT030_2,   A02,   474,  4,     15,  10025,2,19941101,1017, 44.8317, -35.0733, 4096,      9.4,  18.2808,  35.6965,2,  35.7013,2,    233.6,2,     1.72,2,     0.00,2,     0.05,2,    2.495,2,    1.366,2,    0.222,2,    3.266,2
     06MT030_2,   A02,   474,  4,     14,     22,2,19941101,1017, 44.8317, -35.0733, 4096,     29.3,  18.2438,  35.6909,2,  35.6955,3,    233.3,2,     1.75,2,     0.03,2,     0.05,2,    2.684,2,    1.554,2,    0.221,2,    3.202,2
     06MT030_2,   A02,   474,  4,     13,  10003,2,19941101,1017, 44.8317, -35.0733, 4096,     49.1,  17.2206,  35.5736,2,  35.5753,2,    236.8,2,     1.84,2,     0.18,2,     0.06,2, -999.000,9, -999.000,9, -999.000,9, -999.000,9
     06MT030_2,   A02,   474,  4,     12,  10026,2,19941101,1017, 44.8317, -35.0733, 4096,     78.3,  17.7702,  36.3795,2,  36.3894,3,    202.2,2,     2.62,2,     3.69,2,     0.17,2,    2.204,2,    1.199,2,    0.078,4,    0.920,2
     06MT030_2,   A02,   474,  4,     11,  10008,2,19941101,1017, 44.8317, -35.0733, 4096,    118.7,  16.4983,  36.1989,2,  36.2105,3,    201.9,2,     3.30,2,     5.63,2,     0.27,2, -999.000,9, -999.000,9, -999.000,9, -999.000,9
     06MT030_2,   A02,   474,  4,     10,  10010,2,19941101,1017, 44.8317, -35.0733, 4096,    197.5,  14.3103,  35.8330,2,  35.8347,2,    210.8,2,     4.46,2,     8.13,2,     0.46,2,    2.395,2,    1.275,2,    0.125,2,    1.247,2
     06MT030_2,   A02,   474,  4,      9,  10004,2,19941101,1017, 44.8317, -35.0733, 4096,    225.3,  14.0395,  35.8139,2,  35.8193,2,    207.3,2,     4.99,2,     9.09,2,     0.53,2,    2.277,2,    1.217,2,    0.102,2,    1.211,2
     06MT030_2,   A02,   474,  4,      8,     15,2,19941101,1017, 44.8317, -35.0733, 4096,    312.0,  13.0095,  35.7057,2,  35.7098,2,    228.4,2,     4.86,2,     8.95,2,     0.54,2, -999.000,9, -999.000,9, -999.000,9, -999.000,9
     06MT030_2,   A02,   474,  4,      7,     23,2,19941101,1017, 44.8317, -35.0733, 4096,    496.2,  11.6539,  35.5547,2,  35.5578,2,    235.7,2,     6.28,2,    11.02,2,     0.66,2,    2.777,4,    1.451,4,    0.164,4,    1.919,4
     06MT030_2,   A02,   474,  4,      6,    910,2,19941101,1017, 44.8317, -35.0733, 4096,    713.6,   8.3266,  35.0845,2,  35.0819,2,    192.5,2,    11.90,2,    19.23,2,     1.24,2,    1.831,2,    0.905,2,    0.125,2,    1.710,2
     06MT030_2,   A02,   474,  4,      5, KZM128,2,19941101,1017, 44.8317, -35.0733, 4096,    775.0,   7.4596,  35.0374,2,  35.0355,2,    198.4,2,    12.37,2,    19.59,2,     1.28,2,    1.797,2,    0.879,2,    0.093,2,    1.879,2
     06MT030_2,   A02,   474,  4,      4,      6,2,19941101,1017, 44.8317, -35.0733, 4096,    856.3,   6.8413,  35.0949,2,  35.0932,2,    205.7,2,    12.62,2,    19.80,2,     1.28,2,    1.581,2,    0.764,2,    0.069,2,    1.795,2
     06MT030_2,   A02,   474,  4,      2,     17,2,19941101,1017, 44.8317, -35.0733, 4096,   1193.8,   4.7060,  35.0025,2,  35.0020,2,    250.4,2,    12.33,2,    17.95,2,     1.20,2, -999.000,9, -999.000,9, -999.000,9, -999.000,9
     06MT030_2,   A02,   474,  4,      1,     10,2,19941101,1017, 44.8317, -35.0733, 4096,   1394.7,   4.1867,  34.9618,2,  34.9622,2,    264.2,2,    12.08,2,    17.51,2,     1.18,2,    1.889,2,    0.919,2,    0.088,2,    3.034,2
     06MT030_2,   A02,   475,  1,     24, KZM012,2,19941102,1432, 44.5750, -36.0933, 4094,     12.4,  18.8577,  35.8395,2,  35.8339,2,    231.5,2,     1.58,2,     0.11,2,     0.04,2,    2.325,2,    1.260,2,    0.182,2,    2.935,2
     06MT030_2,   A02,   475,  1,     23, KZM125,2,19941102,1432, 44.5750, -36.0933, 4094,     30.8,  18.8567,  35.8453,2,  35.8562,3,    230.3,2,     1.63,2,     0.20,2,     0.03,3, -999.000,9, -999.000,9, -999.000,9, -999.000,9
     06MT030_2,   A02,   475,  1,     22, KZM033,2,19941102,1432, 44.5750, -36.0933, 4094,     60.3,  18.0009,  36.4894,2,  36.4810,2,    203.1,2,     2.65,2,     3.79,2,     0.15,2,    2.295,2,    1.241,2,    0.170,2,    2.822,2
     06MT030_2,   A02,   475,  1,     21, KZM040,2,19941102,1432, 44.5750, -36.0933, 4094,    101.3,  16.7811,  36.2895,2,  36.2862,2,    202.2,2,     3.15,2,     5.38,2,     0.22,2,    2.187,2,    1.168,2,    0.078,4,    0.879,2
     06MT030_2,   A02,   475,  1,     20, KZM097,2,19941102,1432, 44.5750, -36.0933, 4094,    199.4,  14.5066,  35.9208,2,  35.9173,2,    212.4,2,     4.34,2,     7.95,2,     0.39,2,    2.379,2,    1.263,2,    0.125,2,    1.320,2
     06MT030_2,   A02,   475,  1,     19, KZM126,2,19941102,1432, 44.5750, -36.0933, 4094,    358.5,  12.5501,  35.6523,2,  35.6470,2,    224.1,2,     5.48,2,    10.01,2,     0.54,2, -999.000,9, -999.000,9, -999.000,9, -999.000,9
     06MT030_2,   A02,   475,  1,     18, KZM085,2,19941102,1432, 44.5750, -36.0933, 4094,    716.0,   7.4947,  35.0742,2,  35.0724,2,    194.9,2,    12.54,2,    19.62,2,     1.17,2,    1.643,2,    0.815,2,    0.092,2,    1.780,2
     06MT030_2,   A02,   475,  1,     17, KZM124,2,19941102,1432, 44.5750, -36.0933, 4094,    819.5,   6.8979,  35.1322,2,  35.1314,2,    204.6,2,    12.70,2,    19.34,2,     1.17,2,    1.500,2,    0.740,2,    0.084,2,    1.795,2
     06MT030_2,   A02,   475,  1,     16, KZM114,2,19941102,1432, 44.5750, -36.0933, 4094,    883.8,   5.6564,  34.9864,2,  34.9861,2,    221.2,2,    12.96,2,    19.15,2,     1.17,2,    2.109,4,    1.074,4,    0.195,4,    2.677,4
     06MT030_2,   A02,   475,  1,     15, KZM029,2,19941102,1432, 44.5750, -36.0933, 4094,   1000.5,   5.9623,  35.1466,2,  35.1465,2,    227.0,2,    12.44,2,    18.40,2,     1.13,2,    1.348,2,    0.658,2,    0.057,2,    1.880,2
     06MT030_2,   A02,   475,  1,     14,      2,2,19941102,1432, 44.5750, -36.0933, 4094,   1299.4,   4.6988,  35.0373,2,  35.0367,2,    252.0,2,    12.56,2,    17.64,2,     1.08,2,    1.349,2,    0.664,2,    0.050,2,    2.310,2
     06MT030_2,   A02,   475,  1,     13, KZM090,2,19941102,1432, 44.5750, -36.0933, 4094,   1501.2,   3.9271,  34.9353,2,  34.9382,2,    269.7,2,    11.90,2,    17.13,2,     1.04,2,    1.986,2,    0.956,2,    0.105,2,    3.261,2
     06MT030_2,   A02,   475,  1,     12, KZM117,2,19941102,1432, 44.5750, -36.0933, 4094,   1699.0,   3.6533,  34.9109,2,  34.9119,2,    277.3,2,    11.81,2,    16.85,2,     1.03,2,    2.083,2,    1.018,2,    0.108,2,    3.507,2
     06MT030_2,   A02,   475,  1,     11, KZM008,2,19941102,1432, 44.5750, -36.0933, 4094,   1901.8,   3.4374,  34.8956,2,  34.8967,2,    282.7,2,    11.82,2,    16.59,2,     1.03,2,    2.193,2,    1.064,2,    0.123,2,    3.697,2
     06MT030_2,   A02,   475,  1,      9, KZM036,2,19941102,1432, 44.5750, -36.0933, 4094,   2101.8,   3.3244,  34.8915,2,  34.8917,2,    284.5,2,    11.99,2,    16.45,2,     1.02,2,    2.213,2,    1.071,2,    0.138,2,    3.774,2
     06MT030_2,   A02,   475,  1,      8,  UB001,2,19941102,1432, 44.5750, -36.0933, 4094,   2251.4,   3.3124,  34.9018,2,  34.9029,2,    280.9,2,    12.57,2,    16.47,2,     1.03,2,    2.163,4,    1.101,4,    0.191,4,    3.468,2
     06MT030_2,   A02,   475,  1,      7, KZM067,2,19941102,1432, 44.5750, -36.0933, 4094,   2591.3,   3.2434,  34.9322,2,  34.9333,2,    275.1,2,    14.59,2,    16.56,2,     1.04,2,    0.924,2,    0.452,2,    0.032,2,    2.061,2
     06MT030_2,   A02,   475,  1,      6, KZM017,2,19941102,1432, 44.5750, -36.0933, 4094,   2951.2,   2.9806,  34.9315,2,  34.9322,2,    276.0,2,    15.84,2,    16.45,2,     1.04,2,    0.891,2,    0.434,2,    0.030,2,    1.944,2
     06MT030_2,   A02,   475,  1,      5,  UB319,2,19941102,1432, 44.5750, -36.0933, 4094,   3499.6,   2.5548,  34.9179,2,  34.9178,2,    275.3,2,    20.10,2,    16.73,2,     1.06,2,    0.784,4,    0.400,4,    0.079,4,    1.764,2
     06MT030_2,   A02,   475,  1,      4, KZM056,2,19941102,1432, 44.5750, -36.0933, 4094,   4004.1,   2.3199,  34.9031,2,  34.9042,2,    277.2,2,    21.36,2,    16.56,2,     1.07,2,    1.045,2,    0.499,2,    0.046,2,    2.104,2
     06MT030_2,   A02,   475,  1,      3, KZM061,2,19941102,1432, 44.5750, -36.0933, 4094,   4113.8,   2.2709,  34.9013,2,  34.9008,2,    278.8,2,    20.38,2,    16.25,2,     1.05,2,    1.255,2,    0.589,2,    0.060,2,    2.343,2
     06MT030_2,   A02,   475,  1,      2, KZM052,2,19941102,1432, 44.5750, -36.0933, 4094,   4143.2,   2.2709,  34.9008,2,  34.9011,2,    280.7,2,    20.27,2,    16.25,2,     1.05,2,    1.281,2,    0.603,2,    0.062,2,    2.402,2
     06MT030_2,   A02,   475,  1,      1, KZM038,2,19941102,1432, 44.5750, -36.0933, 4094,   4163.5,   2.2719,  34.9008,2,  34.9018,2,    279.8,2,    20.24,2,    16.21,2,     1.05,2,    1.296,2,    0.608,2,    0.064,2,    2.427,2