BOTTLE,20010917WHPSIOKJU
EXPOCODE,SECT_ID,STNNBR,CASTNO,SAMPNO,BTLNBR,BTLNBR_FLAG_W,DATE,TIME,LATITUDE,LONGITUDE,DEPTH,CTDPRS,CTDTMP,CTDSAL,CTDSAL_FLAG_W,SALNTY,SALNTY_FLAG_W,OXYGEN,OXYGEN_FLAG_W,SILCAT,SILCAT_FLAG_W,NITRAT,NITRAT_FLAG_W,PHSPHT,PHSPHT_FLAG_W,CFC-11,CFC-11_FLAG_W,CFC-12,CFC-12_FLAG_W,CFC113,CFC113_FLAG_W,CCL4,CCL4_FLAG_W
,,,,,,,,,,,,DBAR,ITS-90,PSS-78,,PSS-78,,UMOL/KG,,UMOL/KG,,UMOL/KG,,UMOL/KG,,PMOL/L,,PMOL/L,,PMOL/L,,PMOL/L,
     06MT030_2,   A02,   456,  2,     24, KZM012,2,19941025,0210, 47.4900, -23.5600, 3964,   1299.6,   4.6248,  34.9998,2,  34.9959,2,    253.2,2,    11.86,2,    17.76,2,     1.09,2, -999.000,9, -999.000,9, -999.000,9, -999.000,9
     06MT030_2,   A02,   456,  2,     23, KZM125,2,19941025,0210, 47.4900, -23.5600, 3964,   1349.2,   4.2520,  34.9471,2,  34.9470,2,    259.9,2,    11.72,2,    17.71,2,     1.14,2, -999.000,9, -999.000,9, -999.000,9, -999.000,9
     06MT030_2,   A02,   456,  2,     22, KZM033,2,19941025,0210, 47.4900, -23.5600, 3964,   1399.8,   4.1311,  34.9423,2,  34.9404,2,    263.7,2,    11.63,2,    17.77,2,     1.13,2, -999.000,9, -999.000,9, -999.000,9, -999.000,9
     06MT030_2,   A02,   456,  2,     21, KZM040,2,19941025,0210, 47.4900, -23.5600, 3964,   1498.8,   3.8832,  34.9195,2,  34.9185,2,    271.0,2,    11.59,2,    17.24,2,     1.13,2, -999.000,9, -999.000,9, -999.000,9, -999.000,9
     06MT030_2,   A02,   456,  2,     20, KZM097,2,19941025,0210, 47.4900, -23.5600, 3964,   1599.8,   3.7562,  34.9099,2,  34.9090,2,    273.3,2,    11.52,2,    17.01,2,     1.14,2, -999.000,9, -999.000,9, -999.000,9, -999.000,9
     06MT030_2,   A02,   456,  2,     19, KZM126,2,19941025,0210, 47.4900, -23.5600, 3964,   1698.7,   3.6143,  34.8985,2,  34.8976,2,    278.5,2,    11.38,2,    16.80,2,     1.13,2, -999.000,9, -999.000,9, -999.000,9, -999.000,9
     06MT030_2,   A02,   456,  2,     18, KZM085,2,19941025,0210, 47.4900, -23.5600, 3964,   1800.0,   3.5213,  34.8922,2,  34.8915,2,    279.5,2,    11.41,2,    16.72,2,     1.12,2, -999.000,9, -999.000,9, -999.000,9, -999.000,9
     06MT030_2,   A02,   456,  2,     17, KZM124,2,19941025,0210, 47.4900, -23.5600, 3964,   1901.7,   3.4923,  34.8955,2,  34.8945,2,    280.4,2,    11.61,2,    16.82,2,     1.13,2, -999.000,9, -999.000,9, -999.000,9, -999.000,9
     06MT030_2,   A02,   456,  2,     16, KZM119,2,19941025,0210, 47.4900, -23.5600, 3964,   2001.5,   3.4274,  34.8932,2,  34.8931,2,    282.0,2,    11.59,2,    16.57,2,     1.10,2, -999.000,9, -999.000,9, -999.000,9, -999.000,9
     06MT030_2,   A02,   456,  2,     15, KZM029,2,19941025,0210, 47.4900, -23.5600, 3964,   2102.9,   3.3784,  34.8965,2,  34.8963,2,    280.7,2,    11.69,2,    16.57,2,     1.08,2, -999.000,9, -999.000,9, -999.000,9, -999.000,9
     06MT030_2,   A02,   456,  2,     14, KZM115,2,19941025,0210, 47.4900, -23.5600, 3964,   2151.7,   3.3674,  34.9003,2,  34.8998,2,    280.9,2,    11.98,2,    16.57,2,     1.11,2, -999.000,9, -999.000,9, -999.000,9, -999.000,9
     06MT030_2,   A02,   456,  2,     13, KZM090,2,19941025,0210, 47.4900, -23.5600, 3964,   2251.3,   3.3564,  34.9106,2,  34.9093,2,    279.8,2,    12.34,2,    16.74,2,     1.10,2, -999.000,9, -999.000,9, -999.000,9, -999.000,9
     06MT030_2,   A02,   456,  2,     12, KZM117,2,19941025,0210, 47.4900, -23.5600, 3964,   2503.3,   3.3114,  34.9346,2,  34.9335,2,    273.8,2,    13.92,2,    16.71,2,     1.12,2, -999.000,9, -999.000,9, -999.000,9, -999.000,9
     06MT030_2,   A02,   456,  2,     11, KZM008,2,19941025,0210, 47.4900, -23.5600, 3964,   2703.3,   3.2045,  34.9441,2,  34.9433,2,    271.5,2,    15.47,2,    16.71,2,     1.13,2, -999.000,9, -999.000,9, -999.000,9, -999.000,9
     06MT030_2,   A02,   456,  2,     10, KZM036,2,19941025,0210, 47.4900, -23.5600, 3964,   2898.6,   3.0685,  34.9502,2,  34.9499,2,    266.3,2,    19.44,2,    17.36,2,     1.17,2, -999.000,9, -999.000,9, -999.000,9, -999.000,9
     06MT030_2,   A02,   456,  2,      9, KZM114,2,19941025,0210, 47.4900, -23.5600, 3964,   3200.5,   2.8896,  34.9488,2,  34.9483,2,    263.0,2,    23.79,2,    18.30,2,     1.23,2, -999.000,9, -999.000,9, -999.000,9, -999.000,9
     06MT030_2,   A02,   456,  2,      8,  UB001,2,19941025,0210, 47.4900, -23.5600, 3964,   3402.3,   2.8076,  34.9431,2,  34.9431,2,   -999.0,9,  -999.00,9,  -999.00,9,  -999.00,9, -999.000,9, -999.000,9, -999.000,9, -999.000,9
     06MT030_2,   A02,   456,  2,      7, KZM067,2,19941025,0210, 47.4900, -23.5600, 3964,   3503.9,   2.7677,  34.9381,2,  34.9378,2,    254.6,2,    30.34,2,    19.43,2,     1.32,2, -999.000,9, -999.000,9, -999.000,9, -999.000,9
     06MT030_2,   A02,   456,  2,      6, KZM017,2,19941025,0210, 47.4900, -23.5600, 3964,   3604.3,   2.7407,  34.9361,2,  34.9355,2,    253.2,2,    31.93,2,    19.67,2,     1.35,2, -999.000,9, -999.000,9, -999.000,9, -999.000,9
     06MT030_2,   A02,   456,  2,      5,  UB319,2,19941025,0210, 47.4900, -23.5600, 3964,   3703.1,   2.7157,  34.9334,2,  34.9317,2,    251.2,2,    33.43,2,    20.07,2,     1.38,2, -999.000,9, -999.000,9, -999.000,9, -999.000,9
     06MT030_2,   A02,   456,  2,      4, KZM056,2,19941025,0210, 47.4900, -23.5600, 3964,   3803.8,   2.6837,  34.9282,2,  34.9279,2,    249.6,2,    35.58,2,    20.54,2,     1.42,2, -999.000,9, -999.000,9, -999.000,9, -999.000,9
     06MT030_2,   A02,   456,  2,      3, KZM061,2,19941025,0210, 47.4900, -23.5600, 3964,   3903.8,   2.6387,  34.9230,2,  34.9224,2,    246.1,2,    38.33,2,    21.39,2,     1.45,2, -999.000,9, -999.000,9, -999.000,9, -999.000,9
     06MT030_2,   A02,   456,  2,      2, KZM052,2,19941025,0210, 47.4900, -23.5600, 3964,   4024.2,   2.6047,  34.9182,2,  34.9184,2,    244.7,2,    40.47,2,    21.62,2,     1.50,2, -999.000,9, -999.000,9, -999.000,9, -999.000,9
     06MT030_2,   A02,   456,  2,      1, KZM038,2,19941025,0210, 47.4900, -23.5600, 3964,   4033.7,   2.5947,  34.9161,2,  34.9191,2,    244.1,2,    40.50,2,    21.70,2,     1.52,2, -999.000,9, -999.000,9, -999.000,9, -999.000,9
     06MT030_2,   A02,   457,  1,     11,  10008,2,19941025,0724, 47.3833, -24.2667, 3315,     11.9,  15.3823,  35.6494,2,  35.6516,2,    242.3,2,     1.87,2,     1.55,2,     0.14,2, -999.000,9, -999.000,9, -999.000,9, -999.000,9
     06MT030_2,   A02,   457,  1,     10,  10010,2,19941025,0724, 47.3833, -24.2667, 3315,     46.9,  15.3823,  35.6490,2,  35.6509,2,    242.2,2,     1.87,2,     1.64,2,     0.13,2,    3.030,2,    1.874,2,    0.292,4,    3.797,2
     06MT030_2,   A02,   457,  1,      9,  10004,2,19941025,0724, 47.3833, -24.2667, 3315,     66.8,  14.5650,  35.6250,2,  35.6312,3,    233.0,2,     2.62,2,     4.89,2,     0.29,2,    2.860,2,    1.638,2,    0.212,2,    2.589,2
     06MT030_2,   A02,   457,  1,      8,     15,2,19941025,0724, 47.3833, -24.2667, 3315,    107.2,  12.7898,  35.6661,2,  35.6162,4,    232.6,2,     5.02,2,    10.12,2,     0.57,4,    2.797,2,    1.548,2,    0.174,2,    1.905,2
     06MT030_2,   A02,   457,  1,      7,     23,2,19941025,0724, 47.3833, -24.2667, 3315,    197.6,  12.1344,  35.6153,2,  35.6164,2,    232.0,2,     5.02,2,    10.16,2,     0.59,2,    2.834,2,    1.569,2,    0.175,2,    1.914,2
     06MT030_2,   A02,   457,  1,      6,    910,2,19941025,0724, 47.3833, -24.2667, 3315,    247.5,  12.0046,  35.6347,2,  35.6373,2,    240.2,2,     4.56,2,     9.54,2,     0.55,2,    2.993,2,    1.637,2,    0.178,2,    2.064,2
     06MT030_2,   A02,   457,  1,      5, KZM128,2,19941025,0724, 47.3833, -24.2667, 3315,    357.0,  11.3772,  35.5438,2,  35.5448,2,    242.1,2,     5.21,2,    10.47,2,     0.62,2, -999.000,9, -999.000,9, -999.000,9, -999.000,9
     06MT030_2,   A02,   457,  1,      4,      6,2,19941025,0724, 47.3833, -24.2667, 3315,    466.3,  10.7109,  35.4400,2,  35.4402,2,    239.7,2,     6.12,2,    11.59,2,     0.72,2,    2.937,2,    1.569,2,    0.171,2,    2.164,2
     06MT030_2,   A02,   457,  1,      3,     18,2,19941025,0724, 47.3833, -24.2667, 3315,    585.9,   9.7220,  35.3031,2,  35.3003,2,    224.4,2,     7.93,2,    14.28,2,     0.90,2,    2.618,2,    1.402,2,    0.125,2,    1.935,2
     06MT030_2,   A02,   457,  1,      2,     17,2,19941025,0724, 47.3833, -24.2667, 3315,    753.9,   8.2007,  35.2078,2,  35.2058,2,    202.5,2,    10.95,2,    18.12,2,     1.15,2,    1.878,2,    0.980,2,    0.161,4,    1.685,2
     06MT030_2,   A02,   457,  2,     24, KZM012,2,19941025,0919, 47.3833, -24.2517, 3317,     10.5,  15.3724,  35.6574,2,  35.6519,2,    242.7,2,     1.97,2,     1.51,2,     0.14,2,    2.786,2,    1.503,2,    0.224,2,    3.609,2
     06MT030_2,   A02,   457,  2,     23, KZM125,2,19941025,0919, 47.3833, -24.2517, 3317,    800.3,   7.8146,  35.2178,2,  35.2155,2,    202.0,2,    11.39,2,    18.15,2,     1.08,2,    1.922,2,    0.985,2,    0.141,2,    1.868,2
     06MT030_2,   A02,   457,  2,     22, KZM033,2,19941025,0919, 47.3833, -24.2517, 3317,    935.9,   7.4057,  35.2967,2,  35.2975,2,    208.6,2,    11.46,2,    18.04,2,     1.12,2,    1.538,2,    0.787,2,    0.050,2,    1.676,2
     06MT030_2,   A02,   457,  2,     21, KZM040,2,19941025,0919, 47.3833, -24.2517, 3317,    995.6,   6.8729,  35.2531,2,  35.2463,3,    215.9,2,    11.79,2,    18.28,2,     1.13,2,    1.589,2,    0.788,2,    0.052,2,    1.906,2
     06MT030_2,   A02,   457,  2,     20, KZM097,2,19941025,0919, 47.3833, -24.2517, 3317,   1088.3,   5.8633,  35.1304,2,  35.1284,2,    230.3,2,    11.85,2,    18.03,2,     1.14,2,    1.724,2,    0.850,2,    0.068,2,    2.325,2
     06MT030_2,   A02,   457,  2,     19, KZM126,2,19941025,0919, 47.3833, -24.2517, 3317,   1195.9,   4.8907,  35.0213,2,  35.0221,2,    246.8,2,    11.84,2,    17.74,2,     1.15,2, -999.000,9, -999.000,9, -999.000,9, -999.000,9
     06MT030_2,   A02,   457,  2,     18, KZM085,2,19941025,0919, 47.3833, -24.2517, 3317,   1300.2,   4.5689,  34.9969,2,  34.9958,2,    254.2,2,    11.82,2,    17.51,2,     1.13,2,    1.893,2,    1.007,2,    0.073,2,    2.964,2
     06MT030_2,   A02,   457,  2,     17, KZM124,2,19941025,0919, 47.3833, -24.2517, 3317,   1389.1,   4.1511,  34.9515,2,  34.9514,2,    263.5,2,    11.58,2,    17.46,2,     1.12,2, -999.000,9, -999.000,9, -999.000,9, -999.000,9
     06MT030_2,   A02,   457,  2,     16, KZM119,2,19941025,0919, 47.3833, -24.2517, 3317,   1528.8,   3.8182,  34.9141,2,  34.9152,2,    272.1,2,    11.47,2,    17.05,2,     1.10,2,    2.115,2,    1.036,2,    0.097,2,    3.580,2
     06MT030_2,   A02,   457,  2,     15, KZM029,2,19941025,0919, 47.3833, -24.2517, 3317,   1619.3,   3.7002,  34.9035,2,  34.9048,2,    274.4,2,    11.38,2,    16.74,2,     1.08,2, -999.000,9, -999.000,9, -999.000,9, -999.000,9
     06MT030_2,   A02,   457,  2,     14, KZM115,2,19941025,0919, 47.3833, -24.2517, 3317,   1799.6,   3.5773,  34.9017,2,  34.9017,2,    277.3,2,    11.68,2,    16.64,2,     1.08,2, -999.000,9, -999.000,9, -999.000,9, -999.000,9
     06MT030_2,   A02,   457,  2,     13, KZM090,2,19941025,0919, 47.3833, -24.2517, 3317,   1899.9,   3.5113,  34.8990,2,  34.9001,2,    278.5,2,    11.75,2,    16.83,2,     1.08,2,    1.844,2,    0.912,2,    0.068,2,    3.325,2
     06MT030_2,   A02,   457,  2,     12, KZM117,2,19941025,0919, 47.3833, -24.2517, 3317,   2000.1,   3.4574,  34.9022,2,  34.9034,2,    278.9,2,    12.02,2,    16.73,2,     1.09,2, -999.000,9, -999.000,9, -999.000,9, -999.000,9
     06MT030_2,   A02,   457,  2,     11, KZM008,2,19941025,0919, 47.3833, -24.2517, 3317,   2099.3,   3.4304,  34.9077,2,  34.9090,2,    277.5,2,    12.33,2,    16.44,2,     1.09,2,    1.561,2,    0.785,2,    0.054,2,    2.945,2
     06MT030_2,   A02,   457,  2,     10, KZM036,2,19941025,0919, 47.3833, -24.2517, 3317,   2199.5,   3.4384,  34.9216,2,  34.9227,2,    274.4,2,    13.14,2,    16.60,2,     1.10,2, -999.000,9, -999.000,9, -999.000,9, -999.000,9
     06MT030_2,   A02,   457,  2,      9, KZM114,2,19941025,0919, 47.3833, -24.2517, 3317,   2301.1,   3.3984,  34.9303,2,  34.9303,2,    273.4,2,    13.48,2,    16.72,2,     1.09,2,    1.093,2,    0.572,2,    0.029,2,    2.341,2
     06MT030_2,   A02,   457,  2,      8,  UB001,2,19941025,0919, 47.3833, -24.2517, 3317,   2498.9,   3.3124,  34.9454,2,  34.9468,2,    268.7,2,    15.72,2,    17.01,2,     1.10,2, -999.000,9, -999.000,9, -999.000,9, -999.000,9
     06MT030_2,   A02,   457,  2,      7, KZM067,2,19941025,0919, 47.3833, -24.2517, 3317,   2600.5,   3.2115,  34.9495,2,  34.9492,2,    267.3,2,    17.43,2,    17.08,2,     1.14,2, -999.000,9, -999.000,9, -999.000,9, -999.000,9
     06MT030_2,   A02,   457,  2,      6, KZM017,2,19941025,0919, 47.3833, -24.2517, 3317,   2700.3,   3.1495,  34.9507,2,  34.9512,2,    266.3,2,    18.99,2,    17.26,2,     1.16,2, -999.000,9, -999.000,9, -999.000,9, -999.000,9
     06MT030_2,   A02,   457,  2,      5,  UB319,2,19941025,0919, 47.3833, -24.2517, 3317,   2900.5,   2.9776,  34.9485,2,  34.9491,2,    264.2,2,    21.56,2,    17.58,2,     1.20,2,    0.670,2,    0.337,2,    0.016,2,    1.539,2
     06MT030_2,   A02,   457,  2,      4, KZM056,2,19941025,0919, 47.3833, -24.2517, 3317,   3001.9,   2.9056,  34.9475,2,  34.9473,2,    262.6,2,    23.96,2,    18.31,2,     1.22,2, -999.000,9, -999.000,9, -999.000,9, -999.000,9
     06MT030_2,   A02,   457,  2,      3, KZM061,2,19941025,0919, 47.3833, -24.2517, 3317,   3101.5,   2.8556,  34.9453,2,  34.9456,2,    260.2,2,    25.46,2,    18.52,2,     1.24,2,    0.596,2,    0.326,2,    0.019,2,    1.358,2
     06MT030_2,   A02,   457,  2,      2, KZM052,2,19941025,0919, 47.3833, -24.2517, 3317,   3261.8,   2.8116,  34.9415,2,  34.9427,2,    257.8,2,    27.73,2,    18.82,2,     1.27,2, -999.000,9, -999.000,9, -999.000,9, -999.000,9
     06MT030_2,   A02,   457,  2,      1, KZM038,2,19941025,0919, 47.3833, -24.2517, 3317,   3314.6,   2.7837,  34.9398,2,  34.9413,2,    256.6,2,    29.14,2,    19.08,2,     1.29,2,    0.532,2,    0.283,2,    0.027,2,    1.175,2
     06MT030_2,   A02,   458,  1,     13,  10003,2,19941025,1545, 47.2317, -25.3717, 2886,     29.0,  15.7240,  35.6361,2,  35.6376,2,    242.2,2,     1.68,2,     0.98,2,     0.10,2,    2.781,2,    1.745,2,    0.212,2,    3.474,2
     06MT030_2,   A02,   458,  1,     12,  10026,2,19941025,1545, 47.2317, -25.3717, 2886,     65.9,  15.6011,  35.6359,2,  35.6381,2,    240.2,2,     1.76,2,     1.46,2,     0.11,2,    2.749,2,    1.716,2,    0.245,2,    3.370,2
     06MT030_2,   A02,   458,  1,     11,  10008,2,19941025,1545, 47.2317, -25.3717, 2886,     79.7,  13.4851,  35.7344,2,  35.7471,3,    228.7,2,     3.27,2,     7.38,2,     0.40,2,    2.907,2,    1.622,2,    0.206,2,    2.053,2
     06MT030_2,   A02,   458,  1,     10,  10010,2,19941025,1545, 47.2317, -25.3717, 2886,    168.7,  11.9336,  35.5974,2,  35.5983,2,    233.9,2,     4.85,2,    10.06,2,     0.56,2,    2.910,2,    1.597,2,    0.191,2,    2.047,2
     06MT030_2,   A02,   458,  1,      9,  10004,2,19941025,1545, 47.2317, -25.3717, 2886,    215.3,  11.6849,  35.5684,2,  35.5700,2,    235.1,2,     5.38,2,    10.48,2,     0.61,2, -999.000,9, -999.000,9, -999.000,9, -999.000,9
     06MT030_2,   A02,   458,  1,      8,     15,2,19941025,1545, 47.2317, -25.3717, 2886,    247.7,  11.5051,  35.5450,2,  35.4662,4,    232.1,2,     6.25,2,    11.70,2,     0.72,4,    2.856,2,    1.506,2,    0.178,2,    2.129,2
     06MT030_2,   A02,   458,  1,      7,     23,2,19941025,1545, 47.2317, -25.3717, 2886,    298.4,  10.9986,  35.4668,2,  35.4664,2,    232.0,2,     6.27,2,    11.67,2,     0.72,2, -999.000,9, -999.000,9, -999.000,9, -999.000,9
     06MT030_2,   A02,   458,  1,      6,    910,2,19941025,1545, 47.2317, -25.3717, 2886,    382.7,   9.9637,  35.3066,2,  35.4668,4,    221.7,2,     7.89,2,    13.94,2,     0.89,2,    2.694,2,    1.451,2,    0.179,2,    2.200,2
     06MT030_2,   A02,   458,  1,      5, KZM128,2,19941025,1545, 47.2317, -25.3717, 2886,    496.3,   8.8410,  35.1847,2,  35.1807,2,    209.3,2,     9.60,2,    16.30,2,     1.07,2, -999.000,9, -999.000,9, -999.000,9, -999.000,9
     06MT030_2,   A02,   458,  1,      4,      6,2,19941025,1545, 47.2317, -25.3717, 2886,    596.1,   7.7562,  35.1284,2,  35.1244,2,    201.1,2,    11.44,2,    18.37,2,     1.20,2,    1.841,2,    0.928,2,    0.122,2,    1.803,2
     06MT030_2,   A02,   458,  1,      3,     18,2,19941025,1545, 47.2317, -25.3717, 2886,    672.3,   7.1550,  35.1024,2,  35.1007,2,    205.9,2,    11.90,2,    18.79,2,     1.22,2, -999.000,9, -999.000,9, -999.000,9, -999.000,9
     06MT030_2,   A02,   458,  1,      2,     17,2,19941025,1545, 47.2317, -25.3717, 2886,    788.6,   7.2888,  35.2646,2,  35.2646,2,    208.7,2,    11.72,2,    18.12,2,     1.20,2,    1.860,2,    1.047,2,    0.110,2,    1.866,2