BOTTLE,20010917WHPSIOKJU
EXPOCODE,SECT_ID,STNNBR,CASTNO,SAMPNO,BTLNBR,BTLNBR_FLAG_W,DATE,TIME,LATITUDE,LONGITUDE,DEPTH,CTDPRS,CTDTMP,CTDSAL,CTDSAL_FLAG_W,SALNTY,SALNTY_FLAG_W,OXYGEN,OXYGEN_FLAG_W,SILCAT,SILCAT_FLAG_W,NITRAT,NITRAT_FLAG_W,PHSPHT,PHSPHT_FLAG_W,CFC-11,CFC-11_FLAG_W,CFC-12,CFC-12_FLAG_W,CFC113,CFC113_FLAG_W,CCL4,CCL4_FLAG_W
,,,,,,,,,,,,DBAR,ITS-90,PSS-78,,PSS-78,,UMOL/KG,,UMOL/KG,,UMOL/KG,,UMOL/KG,,PMOL/L,,PMOL/L,,PMOL/L,,PMOL/L,
     06MT030_2,   A02,   461,  1,     24, KZM012,2,19941026,0934, 46.9883, -26.9967, 2120,     10.1,  14.4876,  35.3466,2,  35.3474,2,    249.3,2,     1.75,2,     1.04,2,     0.11,2, -999.000,9, -999.000,9, -999.000,9, -999.000,9
     06MT030_2,   A02,   461,  1,     23, KZM125,2,19941026,0934, 46.9883, -26.9967, 2120,     49.7,  14.4356,  35.3480,2,  35.3485,2,    247.2,2,     1.72,2,     1.23,2,     0.12,2, -999.000,9, -999.000,9, -999.000,9, -999.000,9
     06MT030_2,   A02,   461,  1,     22, KZM033,2,19941026,0934, 46.9883, -26.9967, 2120,     79.7,  14.4196,  35.8102,2,  35.8093,2,    222.6,2,     3.36,2,     6.54,2,     0.35,2, -999.000,9, -999.000,9, -999.000,9, -999.000,9
     06MT030_2,   A02,   461,  1,     21, KZM040,2,19941026,0934, 46.9883, -26.9967, 2120,    120.5,  13.6248,  35.7811,2,  35.7834,2,    223.9,2,     4.04,2,     8.20,2,     0.45,2, -999.000,9, -999.000,9, -999.000,9, -999.000,9
     06MT030_2,   A02,   461,  1,     20, KZM097,2,19941026,0934, 46.9883, -26.9967, 2120,    241.8,  11.7863,  35.5311,2,  35.5343,2,    227.8,2,     5.66,2,    10.96,2,     0.64,2, -999.000,9, -999.000,9, -999.000,9, -999.000,9
     06MT030_2,   A02,   461,  1,     19, KZM126,2,19941026,0934, 46.9883, -26.9967, 2120,    259.3,  11.6833,  35.5301,2,  35.5291,2,    226.5,2,     5.84,2,    11.31,2,     0.67,2, -999.000,9, -999.000,9, -999.000,9, -999.000,9
     06MT030_2,   A02,   461,  1,     18, KZM085,2,19941026,0934, 46.9883, -26.9967, 2120,    398.7,  10.7696,  35.4212,2,  35.4218,2,    223.3,2,     6.98,2,    13.16,2,     0.80,2, -999.000,9, -999.000,9, -999.000,9, -999.000,9
     06MT030_2,   A02,   461,  1,     17, KZM124,2,19941026,0934, 46.9883, -26.9967, 2120,    499.7,   9.9749,  35.3247,2,  35.3253,2,    213.9,2,     8.09,2,    14.91,2,     0.92,2, -999.000,9, -999.000,9, -999.000,9, -999.000,9
     06MT030_2,   A02,   461,  1,     16, KZM119,2,19941026,0934, 46.9883, -26.9967, 2120,    640.4,   8.0435,  35.0896,2,  35.0871,2,    209.6,2,    10.60,2,    17.65,2,     1.13,2, -999.000,9, -999.000,9, -999.000,9, -999.000,9
     06MT030_2,   A02,   461,  1,     15, KZM029,2,19941026,0934, 46.9883, -26.9967, 2120,    708.1,   7.6996,  35.0856,2,  35.0809,2,    208.5,2,    11.03,2,    18.20,2,     1.16,2, -999.000,9, -999.000,9, -999.000,9, -999.000,9
     06MT030_2,   A02,   461,  1,     14, KZM115,2,19941026,0934, 46.9883, -26.9967, 2120,    799.6,   6.6900,  35.0568,2,  35.0554,2,    213.6,2,    11.75,2,    18.72,2,     1.18,2, -999.000,9, -999.000,9, -999.000,9, -999.000,9
     06MT030_2,   A02,   461,  1,     13, KZM090,2,19941026,0934, 46.9883, -26.9967, 2120,    899.4,   6.1512,  35.0777,2,  35.0766,2,    221.4,2,    12.04,2,    18.59,2,     1.19,2, -999.000,9, -999.000,9, -999.000,9, -999.000,9
     06MT030_2,   A02,   461,  1,     12, KZM117,2,19941026,0934, 46.9883, -26.9967, 2120,    998.7,   5.5565,  35.0523,2,  35.0504,2,    233.0,2,    11.97,2,    18.45,2,     1.18,2, -999.000,9, -999.000,9, -999.000,9, -999.000,9
     06MT030_2,   A02,   461,  1,     11, KZM008,2,19941026,0934, 46.9883, -26.9967, 2120,   1099.4,   5.0597,  35.0326,2,  35.0321,2,    241.7,2,    12.03,2,    18.17,2,     1.16,2, -999.000,9, -999.000,9, -999.000,9, -999.000,9
     06MT030_2,   A02,   461,  1,      9, KZM114,2,19941026,0934, 46.9883, -26.9967, 2120,   1299.5,   4.0431,  34.9324,2,  34.9314,2,    266.3,2,    11.52,2,    17.42,2,     1.13,2, -999.000,9, -999.000,9, -999.000,9, -999.000,9
     06MT030_2,   A02,   461,  1,      8,  UB001,2,19941026,0934, 46.9883, -26.9967, 2120,   1399.4,   3.8572,  34.9171,2,  34.9172,2,    269.9,2,    11.43,2,    17.31,2,     1.12,2, -999.000,9, -999.000,9, -999.000,9, -999.000,9
     06MT030_2,   A02,   461,  1,      6, KZM017,2,19941026,0934, 46.9883, -26.9967, 2120,   1600.1,   3.5873,  34.8978,2,  34.8982,2,    278.1,2,    11.37,2,    17.03,2,     1.11,2, -999.000,9, -999.000,9, -999.000,9, -999.000,9
     06MT030_2,   A02,   461,  1,      5,  UB319,2,19941026,0934, 46.9883, -26.9967, 2120,   1800.0,   3.4753,  34.8976,2,  34.8980,2,    279.0,2,    11.82,2,    16.90,2,     1.11,2, -999.000,9, -999.000,9, -999.000,9, -999.000,9
     06MT030_2,   A02,   461,  1,      4, KZM056,2,19941026,0934, 46.9883, -26.9967, 2120,   1900.7,   3.4584,  34.9062,2,  34.9057,2,    277.4,2,    12.43,2,    16.98,2,     1.11,2, -999.000,9, -999.000,9, -999.000,9, -999.000,9
     06MT030_2,   A02,   461,  1,      2, KZM052,2,19941026,0934, 46.9883, -26.9967, 2120,   2102.7,   3.4114,  34.9172,2,  34.9164,2,    277.4,2,    13.54,2,    16.93,2,     1.11,2, -999.000,9, -999.000,9, -999.000,9, -999.000,9
     06MT030_2,   A02,   461,  1,      1, KZM038,2,19941026,0934, 46.9883, -26.9967, 2120,   2123.2,   3.4114,  34.9176,2,  34.9167,2,    270.0,3,    11.41,3,    17.11,3,     1.13,3, -999.000,9, -999.000,9, -999.000,9, -999.000,9
     06MT030_2,   A02,   462,  1,     23, KZM125,2,19941026,1325, 46.8983, -27.3883, 2770,     10.5,  15.4214,  35.4203,2,  35.4179,2,    248.4,2,     1.56,2,     0.96,2,     0.11,2,    2.781,2,    1.497,2,    0.211,2,    3.583,2
     06MT030_2,   A02,   462,  1,     22, KZM033,2,19941026,1325, 46.8983, -27.3883, 2770,     29.9,  15.3954,  35.4635,2,  35.4702,3,    246.4,2,     1.63,2,     1.35,2,     0.13,2,    2.772,2,    1.481,2,    0.210,2,    3.400,2
     06MT030_2,   A02,   462,  1,     21, KZM040,2,19941026,1325, 46.8983, -27.3883, 2770,     79.2,  14.2117,  35.8625,2,  35.8534,3,    222.4,2,     3.48,2,     7.34,2,     0.40,2, -999.000,9, -999.000,9, -999.000,9, -999.000,9
     06MT030_2,   A02,   462,  1,     20, KZM097,2,19941026,1325, 46.8983, -27.3883, 2770,    130.3,  13.2059,  35.7369,2,  35.7344,2,    228.3,2,     4.28,2,     8.79,2,     0.52,2, -999.000,9, -999.000,9, -999.000,9, -999.000,9
     06MT030_2,   A02,   462,  1,     19, KZM126,2,19941026,1325, 46.8983, -27.3883, 2770,    199.5,  12.6161,  35.6641,2,  35.6600,3,    229.9,2,     4.63,2,     9.42,2,     0.57,2, -999.000,9, -999.000,9, -999.000,9, -999.000,9
     06MT030_2,   A02,   462,  1,     18, KZM085,2,19941026,1325, 46.8983, -27.3883, 2770,    379.5,  11.6403,  35.5783,2,  35.5719,3,    242.0,2,     5.04,2,    10.42,2,     0.64,2,    3.057,2,    1.682,2,    0.201,2,    2.239,2
     06MT030_2,   A02,   462,  1,     17, KZM124,2,19941026,1325, 46.8983, -27.3883, 2770,    430.1,  11.1955,  35.5022,2,  35.4970,3,    240.3,2,     5.57,2,    11.22,2,     0.70,2, -999.000,9, -999.000,9, -999.000,9, -999.000,9
     06MT030_2,   A02,   462,  1,     16, KZM119,2,19941026,1325, 46.8983, -27.3883, 2770,    509.7,  10.8676,  35.4591,2,  35.4553,2,    244.3,2,     5.81,2,    11.33,2,     0.72,2,    3.124,2,    1.616,2,    0.212,2,    2.451,2
     06MT030_2,   A02,   462,  1,     15, KZM029,2,19941026,1325, 46.8983, -27.3883, 2770,    598.9,   9.9019,  35.3101,2,  35.3068,2,    238.4,2,     7.09,2,    13.03,2,     0.85,2,    3.310,4,    1.758,4,    0.287,4,    2.667,4
     06MT030_2,   A02,   462,  1,     14, KZM115,2,19941026,1325, 46.8983, -27.3883, 2770,    750.1,   7.9326,  35.1078,2,  35.1049,2,    208.6,2,    10.86,2,    17.99,2,     1.16,2,    2.100,2,    1.038,2,    0.098,2,    2.054,2
     06MT030_2,   A02,   462,  1,     13, KZM090,2,19941026,1325, 46.8983, -27.3883, 2770,    976.0,   5.9380,  35.0484,2,  35.0483,2,    211.5,2,    11.90,2,    18.90,2,     1.23,2,    1.829,2,    0.886,2,    0.074,2,    2.109,2
     06MT030_2,   A02,   462,  1,     12, KZM117,2,19941026,1325, 46.8983, -27.3883, 2770,   1038.2,   5.5275,  35.0410,2,  35.0399,2,    231.2,2,    12.11,2,    18.54,2,     1.23,2, -999.000,9, -999.000,9, -999.000,9, -999.000,9
     06MT030_2,   A02,   462,  1,     10, KZM036,2,19941026,1325, 46.8983, -27.3883, 2770,   1198.7,   4.8098,  35.0131,2,  35.0126,2,    248.5,2,    11.76,2,    17.97,2,     1.19,2, -999.000,9, -999.000,9, -999.000,9, -999.000,9
     06MT030_2,   A02,   462,  1,      9, KZM114,2,19941026,1325, 46.8983, -27.3883, 2770,   1398.9,   3.9761,  34.9327,2,  34.9335,2,    272.3,2,    11.52,2,    17.35,2,     1.16,2,    1.923,2,    0.933,2,    0.070,2,    2.879,2
     06MT030_2,   A02,   462,  1,      8,  UB001,2,19941026,1325, 46.8983, -27.3883, 2770,   1597.8,   3.7032,  34.9095,2,  34.9098,2,    275.3,2,    11.61,2,    17.11,2,     1.15,2,    1.998,2,    0.948,2,    0.072,2,    3.314,2
     06MT030_2,   A02,   462,  1,      7, KZM067,2,19941026,1325, 46.8983, -27.3883, 2770,   1798.2,   3.5813,  34.9119,2,  34.9122,2,    275.7,2,    12.37,2,    17.05,2,     1.18,2,    2.023,2,    0.962,2,    0.072,2,    3.454,2
     06MT030_2,   A02,   462,  1,      6, KZM017,2,19941026,1325, 46.8983, -27.3883, 2770,   1999.6,   3.5273,  34.9170,2,  34.9184,2,    274.6,2,    13.30,2,    17.11,2,     1.15,2,    1.798,2,    0.852,2,    0.090,4,    3.199,2
     06MT030_2,   A02,   462,  1,      5,  UB319,2,19941026,1325, 46.8983, -27.3883, 2770,   2298.8,   3.3514,  34.9221,2,  34.9228,2,    274.6,2,    13.99,2,    16.89,2,     1.14,2,    1.562,2,    0.764,2,    0.047,2,    2.876,2
     06MT030_2,   A02,   462,  1,      4, KZM056,2,19941026,1325, 46.8983, -27.3883, 2770,   2548.8,   3.3034,  34.9326,2,  34.9325,2,    272.5,2,    16.03,2,    17.08,2,     1.16,2,    1.346,2,    0.650,2,    0.041,2,    2.623,2
     06MT030_2,   A02,   462,  1,      2, KZM052,2,19941026,1325, 46.8983, -27.3883, 2770,   2701.0,   3.1845,  34.9402,2,  34.9423,2,    269.9,9,    18.10,9,    17.19,9,     1.17,9,    0.910,2,    0.474,2,    0.022,2,    2.002,2
     06MT030_2,   A02,   462,  1,      1, KZM038,2,19941026,1325, 46.8983, -27.3883, 2770,   2805.0,   3.1595,  34.9407,2,  34.9413,2,    268.2,2,    18.83,2,    17.07,2,     1.17,2, -999.000,9, -999.000,9, -999.000,9, -999.000,9
     06MT030_2,   A02,   463,  1,     24, KZM012,2,19941026,1705, 46.8217, -27.8400, 2440,     12.6,  16.5022,  35.5919,2,  35.5866,3,    240.0,2,     1.52,2,     0.44,2,     0.07,2,    2.621,2,    1.489,2,    0.195,2,    3.377,2
     06MT030_2,   A02,   463,  1,     23, KZM125,2,19941026,1705, 46.8217, -27.8400, 2440,     29.0,  16.4822,  35.5939,2,  35.5889,3,    239.5,2,     1.54,2,     0.48,2,     0.07,2, -999.000,9, -999.000,9, -999.000,9, -999.000,9
     06MT030_2,   A02,   463,  1,     22, KZM033,2,19941026,1705, 46.8217, -27.8400, 2440,     79.1,  16.2702,  35.7730,2,  35.7769,2,    236.6,2,     1.76,2,     1.48,2,     0.10,2, -999.000,9, -999.000,9, -999.000,9, -999.000,9
     06MT030_2,   A02,   463,  1,     21, KZM040,2,19941026,1705, 46.8217, -27.8400, 2440,     97.9,  14.9245,  35.9362,2,  35.9322,2,    221.7,2,     3.12,2,     6.19,2,     0.32,2, -999.000,9, -999.000,9, -999.000,9, -999.000,9
     06MT030_2,   A02,   463,  1,     20, KZM097,2,19941026,1705, 46.8217, -27.8400, 2440,    148.4,  13.9777,  35.8477,2,  35.8416,2,    222.4,2,     3.91,2,     7.91,2,     0.43,2, -999.000,9, -999.000,9, -999.000,9, -999.000,9
     06MT030_2,   A02,   463,  1,     19, KZM126,2,19941026,1705, 46.8217, -27.8400, 2440,    199.2,  13.3129,  35.7788,2,  35.7651,3,    226.0,2,     4.35,2,     8.75,2,     0.50,2, -999.000,9, -999.000,9, -999.000,9, -999.000,9
     06MT030_2,   A02,   463,  1,     18, KZM085,2,19941026,1705, 46.8217, -27.8400, 2440,    302.7,  12.2122,  35.6195,2,  35.6182,2,    229.3,2,     5.16,2,    10.21,2,     0.59,2, -999.000,9, -999.000,9, -999.000,9, -999.000,9
     06MT030_2,   A02,   463,  1,     17, KZM124,2,19941026,1705, 46.8217, -27.8400, 2440,    400.2,  11.7723,  35.5856,2,  35.5816,3,    232.3,2,     5.50,2,    10.93,2,     0.65,2, -999.000,9, -999.000,9, -999.000,9, -999.000,9
     06MT030_2,   A02,   463,  1,     16, KZM119,2,19941026,1705, 46.8217, -27.8400, 2440,    501.0,  11.1905,  35.5041,2,  35.7383,4,    230.2,4,     4.30,4,     8.75,4,     0.53,4, -999.000,9, -999.000,9, -999.000,9, -999.000,9
     06MT030_2,   A02,   463,  1,     15, KZM029,2,19941026,1705, 46.8217, -27.8400, 2440,    658.6,   9.2021,  35.2269,2,  35.2185,3,    201.8,2,     9.82,2,    17.04,2,     1.06,2, -999.000,9, -999.000,9, -999.000,9, -999.000,9
     06MT030_2,   A02,   463,  1,     14, KZM115,2,19941026,1705, 46.8217, -27.8400, 2440,    799.2,   7.4947,  35.0974,2,  35.0916,2,    202.8,2,    11.67,2,    18.83,2,     1.21,2, -999.000,9, -999.000,9, -999.000,9, -999.000,9
     06MT030_2,   A02,   463,  1,     13, KZM090,2,19941026,1705, 46.8217, -27.8400, 2440,    890.3,   6.9049,  35.1110,2,  35.1102,2,    206.8,2,    12.10,2,    19.13,2,     1.23,2, -999.000,9, -999.000,9, -999.000,9, -999.000,9
     06MT030_2,   A02,   463,  1,     12, KZM117,2,19941026,1705, 46.8217, -27.8400, 2440,    936.2,   6.0893,  35.0225,2,  35.0217,2,    217.2,2,    12.29,2,    19.04,2,     1.24,2, -999.000,9, -999.000,9, -999.000,9, -999.000,9
     06MT030_2,   A02,   463,  1,     11, KZM008,2,19941026,1705, 46.8217, -27.8400, 2440,    998.8,   5.8174,  35.0428,2,  35.0411,2,    225.1,2,    12.16,2,    18.64,2,     1.22,2, -999.000,9, -999.000,9, -999.000,9, -999.000,9
     06MT030_2,   A02,   463,  1,      9, KZM036,2,19941026,1705, 46.8217, -27.8400, 2440,   1149.2,   4.8717,  34.9898,2,  34.9896,2,    245.0,2,    11.95,2,    18.19,2,     1.19,2, -999.000,9, -999.000,9, -999.000,9, -999.000,9
     06MT030_2,   A02,   463,  1,      8,  UB001,2,19941026,1705, 46.8217, -27.8400, 2440,   1398.9,   4.1560,  34.9485,2,  34.9483,2,    263.2,2,    11.73,2,    17.52,2,     1.15,2, -999.000,9, -999.000,9, -999.000,9, -999.000,9
     06MT030_2,   A02,   463,  1,      6, KZM017,2,19941026,1705, 46.8217, -27.8400, 2440,   1800.1,   3.5643,  34.9071,2,  34.9076,2,    275.8,2,    12.21,2,    16.82,2,     1.13,2,    1.865,2,    0.892,2,    0.069,2,    3.291,2
     06MT030_2,   A02,   463,  1,      5,  UB319,2,19941026,1705, 46.8217, -27.8400, 2440,   1999.9,   3.5033,  34.9105,2,  34.9106,2,    275.8,2,    12.82,2,    16.95,2,     1.12,2,    1.674,2,    0.810,2,    0.061,2,    3.061,2
     06MT030_2,   A02,   463,  1,      4, KZM056,2,19941026,1705, 46.8217, -27.8400, 2440,   2200.9,   3.4434,  34.9166,2,  34.9172,2,    274.7,2,    13.88,2,    17.01,2,     1.14,2,    1.472,2,    0.720,2,    0.047,2,    2.813,2
     06MT030_2,   A02,   463,  1,      3, KZM061,2,19941026,1705, 46.8217, -27.8400, 2440,   2330.4,   3.4094,  34.9216,2,  34.9213,2,    273.8,2,    14.68,2,    17.10,2,     1.15,2,    1.340,2,    0.654,2,    0.043,2,    2.655,2
     06MT030_2,   A02,   463,  1,      2, KZM052,2,19941026,1705, 46.8217, -27.8400, 2440,   2438.1,   3.4084,  34.9246,2,  34.9236,2,    272.4,2,    15.03,2,    17.16,2,     1.15,2,    1.277,2,    0.632,2,    0.047,2,    2.584,2
     06MT030_2,   A02,   463,  1,      1, KZM038,2,19941026,1705, 46.8217, -27.8400, 2440,   2457.4,   3.4064,  34.9238,2,  34.9244,2,    271.8,2,    15.08,2,    17.16,2,     1.14,2,    1.490,4,    0.788,4,    0.119,4,    2.741,4