BOTTLE,20010917WHPSIOKJU
EXPOCODE,SECT_ID,STNNBR,CASTNO,SAMPNO,BTLNBR,BTLNBR_FLAG_W,DATE,TIME,LATITUDE,LONGITUDE,DEPTH,CTDPRS,CTDTMP,CTDSAL,CTDSAL_FLAG_W,SALNTY,SALNTY_FLAG_W,OXYGEN,OXYGEN_FLAG_W,SILCAT,SILCAT_FLAG_W,NITRAT,NITRAT_FLAG_W,PHSPHT,PHSPHT_FLAG_W,CFC-11,CFC-11_FLAG_W,CFC-12,CFC-12_FLAG_W,CFC113,CFC113_FLAG_W,CCL4,CCL4_FLAG_W
,,,,,,,,,,,,DBAR,ITS-90,PSS-78,,PSS-78,,UMOL/KG,,UMOL/KG,,UMOL/KG,,UMOL/KG,,PMOL/L,,PMOL/L,,PMOL/L,,PMOL/L,
     06MT030_2,   A02,   464,  1,     24, KZM012,2,19941026,2113, 46.7100, -28.3017, 3450,     10.1,  16.4782,  35.4571,2,  35.4515,2,    241.8,2,     1.75,2,     0.36,2,     0.07,2,    2.582,2,    1.441,2,    0.187,2,    3.428,2
     06MT030_2,   A02,   464,  1,     23, KZM125,2,19941026,2113, 46.7100, -28.3017, 3450,     48.9,  16.5891,  35.7293,2,  35.7048,3,    242.1,2,     1.72,2,     0.60,2,     0.08,2,    2.617,2,    1.405,2,    0.193,2,    3.360,2
     06MT030_2,   A02,   464,  1,     22, KZM033,2,19941026,2113, 46.7100, -28.3017, 3450,     89.3,  15.0215,  36.0040,2,  35.9959,3,    222.4,2,     3.36,2,     6.14,2,     0.31,2,    2.638,2,    1.426,2,    0.159,2,    1.632,2
     06MT030_2,   A02,   464,  1,     21, KZM040,2,19941026,2113, 46.7100, -28.3017, 3450,    199.4,  13.4039,  35.8034,2,  35.7980,2,    226.9,2,     4.40,2,     8.37,2,     0.46,2,    2.694,2,    1.433,2,    0.139,2,    1.777,2
     06MT030_2,   A02,   464,  1,     20, KZM097,2,19941026,2113, 46.7100, -28.3017, 3450,    358.2,  12.5871,  35.7236,2,  35.7176,3,    235.8,2,     4.41,2,     8.63,2,     0.50,2,    2.898,2,    1.533,2,    0.149,2,    1.901,2
     06MT030_2,   A02,   464,  1,     19, KZM126,2,19941026,2113, 46.7100, -28.3017, 3450,    498.9,  11.4114,  35.5252,2,  35.5199,2,    229.4,2,     6.19,2,    11.59,2,     0.69,2,    2.716,2,    1.426,2,    0.144,2,    1.854,2
     06MT030_2,   A02,   464,  1,     18, KZM085,2,19941026,2113, 46.7100, -28.3017, 3450,    698.0,   9.4740,  35.2741,2,  35.2684,2,    204.4,2,     9.45,2,    16.45,2,     1.01,2,    2.124,2,    1.120,2,    0.101,2,    1.562,4
     06MT030_2,   A02,   464,  1,     17, KZM124,2,19941026,2113, 46.7100, -28.3017, 3450,    848.2,   7.1318,  35.0243,2,  35.0247,2,    205.9,2,    11.93,2,    18.79,2,     1.21,2,    1.975,2,    0.982,2,    0.099,2,    2.198,2
     06MT030_2,   A02,   464,  1,     15, KZM029,2,19941026,2113, 46.7100, -28.3017, 3450,    998.8,   6.1582,  35.0576,2,  35.0554,2,    219.0,2,    12.31,2,    18.75,2,     1.21,2,    1.766,2,    0.865,2,    0.072,2,    2.186,2
     06MT030_2,   A02,   464,  1,     14, KZM115,2,19941026,2113, 46.7100, -28.3017, 3450,   1148.7,   5.5115,  35.0665,2,  35.0617,3,    233.2,2,    12.26,2,    18.30,2,     1.18,2,    1.683,2,    0.826,2,    0.062,2,    2.359,2
     06MT030_2,   A02,   464,  1,     13, KZM090,2,19941026,2113, 46.7100, -28.3017, 3450,   1299.1,   4.6199,  34.9827,2,  34.9829,2,    252.5,2,    11.74,2,    17.77,2,     1.15,2,    1.995,2,    0.975,2,    0.079,2,    2.989,2
     06MT030_2,   A02,   464,  1,     12, KZM117,2,19941026,2113, 46.7100, -28.3017, 3450,   1398.3,   4.1900,  34.9496,2,  34.9485,2,    262.8,2,    11.65,2,    17.41,2,     1.13,2,    2.022,2,    1.021,2,    0.078,2,    3.224,2
     06MT030_2,   A02,   464,  1,     11, KZM008,2,19941026,2113, 46.7100, -28.3017, 3450,   1596.5,   3.8242,  34.9189,2,  34.9190,2,    271.9,2,    11.58,2,    16.95,2,     1.11,2,    2.010,2,    0.961,2,    0.104,4,    3.342,2
     06MT030_2,   A02,   464,  1,      9, KZM036,2,19941026,2113, 46.7100, -28.3017, 3450,   2001.5,   3.4753,  34.9046,2,  34.9052,2,    277.9,2,    12.42,2,    16.68,2,     1.10,2,    1.788,2,    0.876,2,    0.064,2,    3.220,2
     06MT030_2,   A02,   464,  1,      8,  UB001,2,19941026,2113, 46.7100, -28.3017, 3450,   2299.0,   3.3844,  34.9149,2,  34.9146,2,    272.3,4,    15.64,4,    16.95,4,     1.11,4,    1.461,2,    0.714,2,    0.042,2,    2.761,2
     06MT030_2,   A02,   464,  1,      7, KZM067,2,19941026,2113, 46.7100, -28.3017, 3450,   2600.5,   3.2704,  34.9280,2,  34.9281,2,    273.4,2,    15.64,2,    16.95,2,     1.11,2,    1.103,2,    0.540,2,    0.023,2,    2.236,2
     06MT030_2,   A02,   464,  1,      6, KZM017,2,19941026,2113, 46.7100, -28.3017, 3450,   2800.4,   3.1785,  34.9320,2,  34.9322,2,    271.6,2,    16.63,2,    16.93,2,     1.12,2,    0.990,2,    0.480,2,    0.021,2,    2.064,2
     06MT030_2,   A02,   464,  1,      5,  UB319,2,19941026,2113, 46.7100, -28.3017, 3450,   3001.6,   3.0995,  34.9339,2,  34.9343,2,    270.5,2,    17.49,2,    16.70,2,     1.12,2,    0.920,2,    0.447,2,    0.034,4,    1.943,2
     06MT030_2,   A02,   464,  1,      4, KZM056,2,19941026,2113, 46.7100, -28.3017, 3450,   3202.6,   3.0695,  34.9343,2,  34.9345,2,    270.6,2,    17.67,2,    16.87,2,     1.13,2,    0.889,2,    0.436,2,    0.013,2,    1.922,2
     06MT030_2,   A02,   464,  1,      3, KZM061,2,19941026,2113, 46.7100, -28.3017, 3450,   3402.2,   3.0745,  34.9343,2,  34.9348,2,    272.1,2,    18.21,2,    17.00,2,     1.13,2,    0.843,2,    0.419,2,    0.012,2,    1.857,2
     06MT030_2,   A02,   464,  1,      2, KZM052,2,19941026,2113, 46.7100, -28.3017, 3450,   3436.9,   3.0745,  34.9349,2,  34.9352,2,    271.2,2,    17.96,2,    17.07,2,     1.13,2,    0.853,2,    0.426,2,    0.010,2,    1.862,2
     06MT030_2,   A02,   464,  1,      1, KZM038,2,19941026,2113, 46.7100, -28.3017, 3450,   3467.0,   3.0775,  34.9348,2,  34.9335,2,    270.1,2,    18.02,2,    17.01,2,     1.12,2, -999.000,9, -999.000,9, -999.000,9, -999.000,9
     06MT030_2,   A02,   465,  1,     24, KZM012,2,19941027,2045, 46.3417, -30.0133, 3125,     11.1,  16.8661,  35.6656,2,  35.6604,2,    242.1,2,     1.64,2,     0.19,2,     0.06,2, -999.000,9, -999.000,9, -999.000,9, -999.000,9
     06MT030_2,   A02,   465,  1,     23, KZM125,2,19941027,2045, 46.3417, -30.0133, 3125,     50.1,  16.6581,  35.7203,2,  35.7177,2,    236.0,2,     1.78,2,     0.99,2,     0.09,2,    2.627,2,    1.411,2,    0.151,2,    1.573,3
     06MT030_2,   A02,   465,  1,     22, KZM033,2,19941027,2045, 46.3417, -30.0133, 3125,    100.5,  14.7375,  35.9569,2,  35.9518,2,    220.6,2,     3.55,2,     6.70,2,     0.36,2, -999.000,9, -999.000,9, -999.000,9, -999.000,9
     06MT030_2,   A02,   465,  1,     21, KZM040,2,19941027,2045, 46.3417, -30.0133, 3125,    200.0,  13.4179,  35.8001,2,  35.7947,2,    225.9,2,     4.37,2,     8.43,2,     0.45,2,    2.713,2,    1.445,2,    0.139,2,    1.763,2
     06MT030_2,   A02,   465,  1,     20, KZM097,2,19941027,2045, 46.3417, -30.0133, 3125,    299.5,  12.5771,  35.6856,2,  35.6833,2,    229.9,2,     4.84,2,     9.44,2,     0.53,2, -999.000,9, -999.000,9, -999.000,9, -999.000,9
     06MT030_2,   A02,   465,  1,     19, KZM126,2,19941027,2045, 46.3417, -30.0133, 3125,    401.1,  11.8913,  35.5958,2,  35.5920,2,    228.0,2,     5.79,2,    11.00,2,     0.63,2,    2.725,2,    1.466,2,    0.137,2,    1.812,2
     06MT030_2,   A02,   465,  1,     18, KZM085,2,19941027,2045, 46.3417, -30.0133, 3125,    598.9,  10.1918,  35.3484,2,  35.3488,2,    218.7,2,     7.88,2,    14.24,2,     0.87,2, -999.000,9, -999.000,9, -999.000,9, -999.000,9
     06MT030_2,   A02,   465,  1,     17, KZM124,2,19941027,2045, 46.3417, -30.0133, 3125,    698.6,   8.1805,  35.0679,2,  35.0663,2,    210.1,2,    10.72,2,    17.64,2,     1.12,2,    2.289,2,    1.190,2,    0.122,2,    2.190,2
     06MT030_2,   A02,   465,  1,     16, KZM114,2,19941027,2045, 46.3417, -30.0133, 3125,    748.3,   8.5443,  35.2372,2,  35.2346,2,    198.3,2,    10.89,2,    18.20,2,     1.14,2, -999.000,9, -999.000,9, -999.000,9, -999.000,9
     06MT030_2,   A02,   465,  1,     15, KZM029,2,19941027,2045, 46.3417, -30.0133, 3125,    848.1,   7.4657,  35.1817,2,  35.1791,2,    201.0,2,    12.24,2,    19.10,2,     1.21,2, -999.000,9, -999.000,9, -999.000,9, -999.000,9
     06MT030_2,   A02,   465,  1,     14, KZM115,2,19941027,2045, 46.3417, -30.0133, 3125,    999.0,   6.1442,  35.0959,2,  34.9889,4,    219.9,2,    12.42,2,    18.94,4,     1.21,2, -999.000,9, -999.000,9, -999.000,9, -999.000,9
     06MT030_2,   A02,   465,  1,     12, KZM117,2,19941027,2045, 46.3417, -30.0133, 3125,   1346.7,   4.4649,  34.9896,2,  34.9882,2,    255.9,2,    12.24,2,    17.88,2,     1.15,2, -999.000,9, -999.000,9, -999.000,9, -999.000,9
     06MT030_2,   A02,   465,  1,     13, KZM090,2,19941027,2045, 46.3417, -30.0133, 3125,   1347.2,   4.4719,  34.9889,2,  34.9887,2,    255.5,2,    12.24,2,    17.85,2,     1.15,2, -999.000,9, -999.000,9, -999.000,9, -999.000,9
     06MT030_2,   A02,   465,  1,     11, KZM008,2,19941027,2045, 46.3417, -30.0133, 3125,   1498.6,   4.0851,  34.9590,2,  34.9592,2,    264.5,2,    12.37,2,    17.62,2,     1.14,2,    1.618,2,    0.790,2,    0.049,2,    2.807,2
     06MT030_2,   A02,   465,  1,      9, KZM036,2,19941027,2045, 46.3417, -30.0133, 3125,   1848.1,   3.6583,  34.9249,2,  34.9246,2,    272.9,2,    12.91,2,    17.33,2,     1.11,2, -999.000,9, -999.000,9, -999.000,9, -999.000,9
     06MT030_2,   A02,   465,  1,      8,  UB001,2,19941027,2045, 46.3417, -30.0133, 3125,   2013.8,   3.4803,  34.9076,2,  34.9081,2,    277.4,2,    12.78,2,    17.34,2,     1.11,2, -999.000,9, -999.000,9, -999.000,9, -999.000,9
     06MT030_2,   A02,   465,  1,      7, KZM067,2,19941027,2045, 46.3417, -30.0133, 3125,   2097.2,   3.4903,  34.9158,2,  34.9148,2,    276.1,2,    13.23,2,    17.08,2,     1.11,2,    1.570,2,    0.765,2,    0.067,3,    2.869,2
     06MT030_2,   A02,   465,  1,      6, KZM017,2,19941027,2045, 46.3417, -30.0133, 3125,   2149.6,   3.4294,  34.9075,2,  34.9097,2,    276.6,2,    13.06,2,    16.91,2,     1.10,2, -999.000,9, -999.000,9, -999.000,9, -999.000,9
     06MT030_2,   A02,   465,  1,      5,  UB319,2,19941027,2045, 46.3417, -30.0133, 3125,   2299.5,   3.4544,  34.9268,2,  34.9273,2,    272.3,2,    14.78,2,    17.17,2,     1.12,2,    1.167,2,    0.563,2,    0.025,2,    2.412,2
     06MT030_2,   A02,   465,  1,      4, KZM056,2,19941027,2045, 46.3417, -30.0133, 3125,   2600.4,   3.2584,  34.9293,2,  34.9298,2,    271.9,2,    15.92,2,    17.09,2,     1.13,2,    1.003,2,    0.484,2,    0.018,2,    2.135,2
     06MT030_2,   A02,   465,  1,      3, KZM061,2,19941027,2045, 46.3417, -30.0133, 3125,   2899.9,   3.0315,  34.9315,2,  34.9326,2,    272.1,2,    17.12,2,    17.03,2,     1.10,2,    0.909,2,    0.451,2,    0.014,2,    1.962,2
     06MT030_2,   A02,   465,  1,      2, KZM052,2,19941027,2045, 46.3417, -30.0133, 3125,   3085.1,   2.9156,  34.9307,2,  34.9303,2,    274.0,2,    17.21,2,    16.84,2,     1.10,2, -999.000,9, -999.000,9, -999.000,9, -999.000,9
     06MT030_2,   A02,   465,  1,      1, KZM038,2,19941027,2045, 46.3417, -30.0133, 3125,   3116.1,   2.8156,  34.9300,2,  34.9299,2,    272.7,2,    17.19,2,    16.82,2,     1.08,2, -999.000,9, -999.000,9, -999.000,9, -999.000,9
     06MT030_2,   A02,   466,  1,     24, KZM012,2,19941028,0131, 46.2050, -30.6133, 3625,     10.5,  17.1160,  35.4654,2,  35.4591,3,    237.6,2,     1.45,2,     0.04,2,     0.06,2,    2.677,2,    1.469,2,    0.216,2,    3.662,2
     06MT030_2,   A02,   466,  1,     23, KZM125,2,19941028,0131, 46.2050, -30.6133, 3625,     34.6,  17.0840,  35.4639,2,  35.4590,2,    237.7,2,     1.47,2,     0.06,2,     0.06,2,    2.553,2,    1.375,2,    0.200,2,    3.382,2
     06MT030_2,   A02,   466,  1,     22, KZM033,2,19941028,0131, 46.2050, -30.6133, 3625,     81.1,  15.6053,  36.0710,2,  36.0695,2,    208.9,2,     3.13,2,     6.46,2,     0.35,2,    2.393,2,    1.293,2,    0.112,2,    1.234,2
     06MT030_2,   A02,   466,  1,     21, KZM040,2,19941028,0131, 46.2050, -30.6133, 3625,    200.5,  13.2769,  35.7055,2,  35.7006,2,    217.1,2,     4.59,2,     9.28,2,     0.51,2,    2.531,2,    1.376,2,    0.130,2,    1.639,2
     06MT030_2,   A02,   466,  1,     20, KZM009,2,19941028,0131, 46.2050, -30.6133, 3625,    350.2,  11.6713,  35.4995,2,  35.4996,2,    221.5,2,     5.92,2,    11.47,2,     0.61,2,    2.615,2,    1.408,2,    0.140,2,    1.767,2
     06MT030_2,   A02,   466,  1,     18, KZM085,2,19941028,0131, 46.2050, -30.6133, 3625,    769.5,   6.6320,  34.9823,2,  34.9789,2,    211.5,2,    11.80,2,    19.05,2,     1.16,2,    2.057,2,    1.062,2,    0.107,2,    2.371,2
     06MT030_2,   A02,   466,  1,     17, KZM124,2,19941028,0131, 46.2050, -30.6133, 3625,    837.7,   6.5371,  35.0745,2,  35.0727,2,    210.9,2,    12.03,2,    19.26,2,     1.19,2,    1.696,2,    0.844,2,    0.090,2,    1.962,2
     06MT030_2,   A02,   466,  1,     16, KZM114,2,19941028,0131, 46.2050, -30.6133, 3625,    895.2,   5.7434,  34.9961,2,  35.0049,3,    222.4,2,    12.08,2,    18.99,2,     1.18,2,    1.941,2,    0.942,2,    0.089,2,    2.433,2
     06MT030_2,   A02,   466,  1,     15, KZM029,2,19941028,0131, 46.2050, -30.6133, 3625,    998.7,   5.6434,  35.0827,2,  35.1296,4,   -999.0,9,  -999.00,9,  -999.00,9,  -999.00,9, -999.000,9, -999.000,9, -999.000,9, -999.000,9
     06MT030_2,   A02,   466,  1,     14, KZM115,2,19941028,0131, 46.2050, -30.6133, 3625,   1199.1,   4.7618,  35.0151,2,  35.0164,2,    249.6,2,    11.73,2,    18.01,2,     1.12,2,    1.716,2,    0.827,2,    0.057,2,    2.538,2
     06MT030_2,   A02,   466,  1,     13, KZM090,2,19941028,0131, 46.2050, -30.6133, 3625,   1400.1,   4.0301,  34.9412,2,  34.9416,2,    266.2,2,    11.36,2,    17.32,2,     1.09,2,    2.018,2,    0.974,2,    0.081,2,    3.297,2
     06MT030_2,   A02,   466,  1,     12, KZM117,2,19941028,0131, 46.2050, -30.6133, 3625,   1698.0,   3.5233,  34.8937,2,  34.8944,2,    279.8,2,    11.15,2,    16.98,2,     1.07,2,    2.245,2,    1.069,2,    0.097,2,    3.723,2
     06MT030_2,   A02,   466,  1,     11, KZM008,2,19941028,0131, 46.2050, -30.6133, 3625,   1800.1,   3.4514,  34.8921,2,  34.8913,2,    282.4,2,    11.24,2,    16.78,2,     1.06,2,    2.232,2,    1.080,2,    0.098,2,    3.769,2
     06MT030_2,   A02,   466,  1,      8,  UB001,2,19941028,0131, 46.2050, -30.6133, 3625,   2107.3,   3.3174,  34.8919,2,  34.8918,2,    282.0,2,    11.95,2,    16.62,2,     1.06,2,    2.083,2,    1.007,2,    0.091,2,    3.590,2
     06MT030_2,   A02,   466,  1,      7, KZM067,2,19941028,0131, 46.2050, -30.6133, 3625,   2301.0,   3.2894,  34.9025,2,  34.9028,2,    280.7,2,    12.14,2,    16.53,2,     1.06,2,    1.788,2,    0.850,2,    0.070,2,    3.179,2
     06MT030_2,   A02,   466,  1,      6, KZM017,2,19941028,0131, 46.2050, -30.6133, 3625,   2500.9,   3.2684,  34.9240,2,  34.9254,2,    276.7,2,    13.34,2,    16.50,2,     1.07,2,    1.222,2,    0.587,2,    0.031,2,    2.429,2
     06MT030_2,   A02,   466,  1,      5,  UB319,2,19941028,0131, 46.2050, -30.6133, 3625,   2800.6,   3.0875,  34.9320,2,  34.9323,2,    271.8,2,    16.53,2,    16.84,2,     1.09,2,    0.910,2,    0.444,2,    0.036,2,    1.928,2
     06MT030_2,   A02,   466,  1,      4, KZM056,2,19941028,0131, 46.2050, -30.6133, 3625,   3101.8,   2.8666,  34.9297,2,  34.9298,2,    273.8,2,    16.68,2,    16.65,2,     1.08,2,    0.884,2,    0.428,2,    0.013,2,    1.948,2
     06MT030_2,   A02,   466,  1,      3, KZM061,2,19941028,0131, 46.2050, -30.6133, 3625,   3400.7,   2.7737,  34.9265,2,  34.9269,2,    274.6,2,    17.12,2,    16.60,2,     1.07,2,    0.909,2,    0.436,2,    0.010,2,    2.005,2
     06MT030_2,   A02,   466,  1,      2, KZM052,2,19941028,0131, 46.2050, -30.6133, 3625,   3623.7,   2.7297,  34.9242,2,  34.9252,2,    275.5,2,    17.55,2,    16.33,2,     1.08,2,    0.903,2,    0.442,2,    0.016,2,    1.995,2
     06MT030_2,   A02,   466,  1,      1, KZM038,2,19941028,0131, 46.2050, -30.6133, 3625,   3646.4,   2.7327,  34.9238,2,  34.9244,2,    274.4,2,    17.56,2,    16.34,2,     1.07,2,    0.915,2,    0.452,2,    0.015,2,    2.027,2