BOTTLE,20010917WHPSIOKJU
EXPOCODE,SECT_ID,STNNBR,CASTNO,SAMPNO,BTLNBR,BTLNBR_FLAG_W,DATE,TIME,LATITUDE,LONGITUDE,DEPTH,CTDPRS,CTDTMP,CTDSAL,CTDSAL_FLAG_W,SALNTY,SALNTY_FLAG_W,OXYGEN,OXYGEN_FLAG_W,SILCAT,SILCAT_FLAG_W,NITRAT,NITRAT_FLAG_W,PHSPHT,PHSPHT_FLAG_W,CFC-11,CFC-11_FLAG_W,CFC-12,CFC-12_FLAG_W,CFC113,CFC113_FLAG_W,CCL4,CCL4_FLAG_W
,,,,,,,,,,,,DBAR,ITS-90,PSS-78,,PSS-78,,UMOL/KG,,UMOL/KG,,UMOL/KG,,UMOL/KG,,PMOL/L,,PMOL/L,,PMOL/L,,PMOL/L,
     06MT030_2,   A02,   486,  1,     24, KZM012,2,19941107,2232, 42.0083, -45.0367, 4807,   1495.3,   4.6558,  35.0389,2,  35.0380,2,    254.0,2,    12.46,2,    16.87,2,     1.10,2,    1.294,2,    0.619,2,    0.048,2,    2.196,2
     06MT030_2,   A02,   486,  1,     23, KZM125,2,19941107,2232, 42.0083, -45.0367, 4807,   1645.8,   4.0571,  34.9625,2,  34.9625,2,    267.1,2,    12.29,2,    16.50,2,     1.14,2,    1.620,2,    0.778,2,    0.079,2,    2.776,2
     06MT030_2,   A02,   486,  1,     22, KZM033,2,19941107,2232, 42.0083, -45.0367, 4807,   1793.6,   3.7712,  34.9308,2,  34.9353,3,   -999.0,9,  -999.00,9,  -999.00,9,  -999.00,9,    2.157,4,    1.190,4,    0.152,4,    2.662,4
     06MT030_2,   A02,   486,  1,     21, KZM040,2,19941107,2232, 42.0083, -45.0367, 4807,   1948.4,   3.5773,  34.9159,2,  34.9152,2,    279.3,2,    12.23,2,    16.60,2,     1.14,2,    1.789,2,    0.859,2,    0.087,2,    3.116,2
     06MT030_2,   A02,   486,  1,     20, KZM097,2,19941107,2232, 42.0083, -45.0367, 4807,   2097.6,   3.4564,  34.9071,2,  34.9076,2,    281.7,2,    12.24,2,    16.68,2,     1.14,2,    1.867,2,    0.900,2,    0.097,2,    3.238,2
     06MT030_2,   A02,   486,  1,     19, KZM126,2,19941107,2232, 42.0083, -45.0367, 4807,   2253.1,   3.4034,  34.9103,2,  34.9114,2,    281.0,2,    12.53,2,    16.41,2,     1.14,2,    1.753,2,    0.846,2,    0.095,2,    3.063,2
     06MT030_2,   A02,   486,  1,     18, KZM085,2,19941107,2232, 42.0083, -45.0367, 4807,   2400.7,   3.3944,  34.9265,2,  34.9269,2,    277.1,2,    13.59,2,    16.36,2,     1.16,2, -999.000,9, -999.000,9, -999.000,9, -999.000,9
     06MT030_2,   A02,   486,  1,     17, KZM124,2,19941107,2232, 42.0083, -45.0367, 4807,   2550.8,   3.3984,  34.9433,2,  34.9435,2,    272.0,2,    14.92,2,    16.69,2,     1.18,2,    0.827,2,    0.404,2,    0.033,2,    1.830,2
     06MT030_2,   A02,   486,  1,     16, KZM114,2,19941107,2232, 42.0083, -45.0367, 4807,   2703.1,   3.3134,  34.9434,2,  34.9453,2,    273.2,2,    15.64,2,    16.89,2,     1.17,2,    0.705,2,    0.342,2,    0.027,2,    1.656,2
     06MT030_2,   A02,   486,  1,     15, KZM029,4,19941107,2232, 42.0083, -45.0367, 4807,   2852.7,   3.1895,  34.9428,2,  35.1737,4,    252.2,3,    12.97,2,    15.04,3,     1.05,4,    1.264,4,    0.645,4,    0.063,4,    1.806,4
     06MT030_2,   A02,   486,  1,     14,      2,2,19941107,2232, 42.0083, -45.0367, 4807,   3001.9,   3.0715,  34.9412,2,  34.9410,2,    271.6,2,    17.81,2,    16.68,2,     1.19,2,    0.539,2,    0.264,2,    0.023,2,    1.354,2
     06MT030_2,   A02,   486,  1,     13, KZM090,2,19941107,2232, 42.0083, -45.0367, 4807,   3151.8,   2.9406,  34.9352,2,  34.9349,2,    272.9,2,    18.47,2,    16.84,2,     1.19,2, -999.000,9, -999.000,9, -999.000,9, -999.000,9
     06MT030_2,   A02,   486,  1,     12, KZM117,2,19941107,2232, 42.0083, -45.0367, 4807,   3302.8,   2.8306,  34.9309,2,  34.9313,2,    272.2,2,    19.70,2,    16.82,2,     1.19,2,    0.494,2,    0.244,2,    0.019,2,    1.261,2
     06MT030_2,   A02,   486,  1,     11, KZM008,2,19941107,2232, 42.0083, -45.0367, 4807,   3452.6,   2.6917,  34.9247,2,  34.9221,2,    272.7,2,    21.15,2,    16.80,2,     1.21,2,    0.510,2,    0.246,2,    0.023,2,    1.294,2
     06MT030_2,   A02,   486,  1,     10, KZM115,2,19941107,2232, 42.0083, -45.0367, 4807,   3603.0,   2.5678,  34.9176,2,  34.9166,2,    275.5,2,    21.67,2,    16.86,2,     1.20,2, -999.000,9, -999.000,9, -999.000,9, -999.000,9
     06MT030_2,   A02,   486,  1,      9, KZM036,2,19941107,2232, 42.0083, -45.0367, 4807,   3754.1,   2.4648,  34.9117,2,  34.9109,2,    274.5,2,    23.58,2,    17.19,2,     1.22,2,    0.534,2,    0.255,2,    0.023,2,    1.340,2
     06MT030_2,   A02,   486,  1,      8,  UB001,2,19941107,2232, 42.0083, -45.0367, 4807,   3903.6,   2.3868,  34.9058,2,  34.9066,2,    274.9,2,    24.27,2,    17.17,2,     1.22,2, -999.000,9, -999.000,9, -999.000,9, -999.000,9
     06MT030_2,   A02,   486,  1,      7, KZM067,2,19941107,2232, 42.0083, -45.0367, 4807,   4053.8,   2.3339,  34.9006,2,  34.9024,2,    274.6,2,    25.85,2,    17.51,2,     1.25,2,    0.587,2,    0.282,2,    0.030,2,    1.384,2
     06MT030_2,   A02,   486,  1,      6, KZM017,2,19941107,2232, 42.0083, -45.0367, 4807,   4206.7,   2.2999,  34.8974,2,  34.8972,2,    273.3,2,    28.98,2,    17.87,2,     1.28,2,    0.435,2,    0.218,2,    0.019,2,    1.176,2
     06MT030_2,   A02,   486,  1,      5,  UB319,2,19941107,2232, 42.0083, -45.0367, 4807,   4357.4,   2.2799,  34.8933,2,  34.8936,2,    272.2,2,    29.52,2,    17.98,2,     1.29,2,    0.495,2,    0.238,2,    0.018,2,    1.209,2
     06MT030_2,   A02,   486,  1,      4, KZM056,2,19941107,2232, 42.0083, -45.0367, 4807,   4523.2,   2.2689,  34.8910,2,  34.8914,2,    270.5,2,    31.01,2,    18.22,2,     1.29,2,    0.486,2,    0.235,2,    0.042,4,    1.161,2
     06MT030_2,   A02,   486,  1,      3, KZM061,2,19941107,2232, 42.0083, -45.0367, 4807,   4661.2,   2.2669,  34.8882,2,  34.8891,2,    269.3,2,    32.45,2,    18.24,2,     1.32,2,    0.421,2,    0.205,2,    0.021,2,    1.079,2
     06MT030_2,   A02,   486,  1,      2, KZM052,2,19941107,2232, 42.0083, -45.0367, 4807,   4788.4,   2.2709,  34.8863,2,  34.8889,2,    268.5,2,    32.41,2,    18.39,2,     1.33,2,    0.456,2,    0.224,2,    0.020,2,    1.139,2
     06MT030_2,   A02,   486,  1,      1, KZM038,2,19941107,2232, 42.0083, -45.0367, 4807,   4912.1,   2.2589,  34.8828,2,  34.8850,2,    269.1,2,    35.22,2,    19.01,2,     1.37,2,    0.359,2,    0.184,2,    0.015,2,    0.942,2
     06MT030_2,   A02,   486,  2,     16,  10021,2,19941108,0228, 42.0067, -44.9967, 4807,     10.2,  20.2342,  36.1436,2,  36.1466,2,    224.8,2,     1.80,2,     0.01,2,     0.06,2,    2.093,2,    1.160,2,    0.160,2,    2.686,2
     06MT030_2,   A02,   486,  2,     15,  10025,2,19941108,0228, 42.0067, -44.9967, 4807,     33.7,  20.2342,  36.1501,2,  36.1514,2,    224.2,2,     1.70,2,     0.00,2,     0.05,2, -999.000,9, -999.000,9, -999.000,9, -999.000,9
     06MT030_2,   A02,   486,  2,     14,     22,2,19941108,0228, 42.0067, -44.9967, 4807,     74.4,  19.6767,  36.2646,2,  36.2688,2,    224.3,2,     1.57,2,     0.05,2,     0.05,2, -999.000,9, -999.000,9, -999.000,9, -999.000,9
     06MT030_2,   A02,   486,  2,     13,  10003,2,19941108,0228, 42.0067, -44.9967, 4807,    125.8,  18.3757,  36.5364,2,  36.5446,2,    203.9,2,     2.27,2,     3.09,2,     0.16,2, -999.000,9, -999.000,9, -999.000,9, -999.000,9
     06MT030_2,   A02,   486,  2,     12,  10026,2,19941108,0228, 42.0067, -44.9967, 4807,    201.0,  17.5274,  36.4136,2,  36.4217,2,    203.5,2,     2.57,2,     4.24,2,     0.22,2,    2.146,2,    1.160,2,    0.072,2,    0.874,2
     06MT030_2,   A02,   486,  2,     11,  10008,2,19941108,0228, 42.0067, -44.9967, 4807,    306.5,  16.0077,  36.1821,2,  36.1867,2,    211.9,2,     3.32,2,     6.05,2,     0.34,2, -999.000,9, -999.000,9, -999.000,9, -999.000,9
     06MT030_2,   A02,   486,  2,     10,  10010,2,19941108,0228, 42.0067, -44.9967, 4807,    377.2,  15.7230,  36.1592,2,  36.1656,2,    220.6,2,     3.21,2,     5.54,2,     0.33,2,    2.354,2,    1.270,2,    0.114,2,    1.315,2
     06MT030_2,   A02,   486,  2,      9,  10004,2,19941108,0228, 42.0067, -44.9967, 4807,    622.0,  12.8067,  35.6962,2,  35.6958,2,    203.6,2,     5.88,2,    11.51,2,     0.70,2, -999.000,9, -999.000,9, -999.000,9, -999.000,9
     06MT030_2,   A02,   486,  2,      8,     15,2,19941108,0228, 42.0067, -44.9967, 4807,    775.4,   9.9038,  35.3238,2,  35.3049,3,    179.6,2,    10.52,2,    18.72,2,     1.18,2,    1.486,2,    0.738,2,    0.050,2,    0.952,2
     06MT030_2,   A02,   486,  2,      7,     23,2,19941108,0228, 42.0067, -44.9967, 4807,    798.3,   9.9078,  35.3687,2,  35.3635,2,    188.4,4,     9.77,4,    17.80,4,     1.15,4,    1.543,2,    0.773,2,    0.043,2,    0.960,2
     06MT030_2,   A02,   486,  2,      6,    910,2,19941108,0228, 42.0067, -44.9967, 4807,    871.7,   8.1358,  35.1176,2,  35.1099,2,    169.8,2,    13.96,2,    22.72,2,     1.48,2,    0.979,2,    0.482,2,    0.043,2,    0.957,2
     06MT030_2,   A02,   486,  2,      5, KZM128,2,19941108,0228, 42.0067, -44.9967, 4807,    942.8,   8.0289,  35.2558,2,  35.2506,2,    193.5,2,    12.14,2,    19.63,2,     1.30,2,    1.180,2,    0.578,2,    0.038,2,    1.134,2
     06MT030_2,   A02,   486,  2,      4,      6,2,19941108,0228, 42.0067, -44.9967, 4807,   1099.6,   5.6248,  35.0185,2,  35.0116,2,    224.1,2,    12.74,2,    19.14,2,     1.30,2,    1.710,2,    0.819,2,    0.095,3,    2.217,2
     06MT030_2,   A02,   486,  2,      3,     18,2,19941108,0228, 42.0067, -44.9967, 4807,   1246.0,   5.2623,  35.0708,2,  35.0608,3,    239.1,2,    12.21,2,    18.43,2,     1.26,2,    1.505,2,    0.716,2,    0.071,2,    2.169,2
     06MT030_2,   A02,   486,  2,      2,     17,2,19941108,0228, 42.0067, -44.9967, 4807,   1389.6,   4.6880,  35.0262,2,  35.0200,2,    253.1,2,    12.11,2,    18.00,2,     1.24,2, -999.000,9, -999.000,9, -999.000,9, -999.000,9
     06MT030_2,   A02,   486,  2,      1,     10,2,19941108,0228, 42.0067, -44.9967, 4807,   1485.3,   4.4683,  35.0127,2,  35.0083,2,    258.8,2,    12.10,2,    18.09,2,     1.24,2, -999.000,9, -999.000,9, -999.000,9, -999.000,9
     06MT030_2,   A02,   487,  1,     24, KZM012,2,19941109,1835, 43.0700, -48.4400, 2837,     20.3,  12.6131,  32.7467,2,  32.7390,3,    270.1,2,     2.10,2,     0.00,2,     0.21,2, -999.000,9, -999.000,9, -999.000,9, -999.000,9
     06MT030_2,   A02,   487,  1,     23, KZM125,2,19941109,1835, 43.0700, -48.4400, 2837,     48.0,   5.2736,  33.2200,2,  33.2266,3,    316.1,2,     3.99,2,     2.24,2,     0.50,2,    5.064,2,    2.483,2,    0.418,2,    5.720,2
     06MT030_2,   A02,   487,  1,     22, KZM033,2,19941109,1835, 43.0700, -48.4400, 2837,     99.6,   3.0685,  34.0574,2,  34.0346,3,    281.3,2,     9.40,2,    10.73,2,     0.92,3,    4.878,2,    2.351,2,    0.408,2,    5.813,2
     06MT030_2,   A02,   487,  1,     21, KZM040,2,19941109,1835, 43.0700, -48.4400, 2837,    148.2,   5.1296,  34.5836,2,  34.5761,2,    225.0,2,    12.74,2,    17.29,2,     1.22,2,    2.983,2,    1.462,2,    0.228,2,    3.511,2
     06MT030_2,   A02,   487,  1,     20, KZM097,2,19941109,1835, 43.0700, -48.4400, 2837,    249.1,   6.6011,  35.0481,2,  35.0460,2,    194.7,2,    14.60,2,    20.79,2,     1.38,2,    1.140,2,    0.566,2,    0.050,2,    1.367,2
     06MT030_2,   A02,   487,  1,     19, KZM126,2,19941109,1835, 43.0700, -48.4400, 2837,    302.2,   5.8124,  34.9918,2,  35.0018,3,    209.2,2,    14.32,2,    20.58,2,     1.35,2,    1.413,2,    0.690,2,    0.076,2,    1.791,2
     06MT030_2,   A02,   487,  1,     18, KZM085,2,19941109,1835, 43.0700, -48.4400, 2837,    399.6,   5.3665,  35.0385,2,  34.9651,3,   -999.0,9,  -999.00,9,  -999.00,9,  -999.00,9, -999.000,9, -999.000,9, -999.000,9, -999.000,9
     06MT030_2,   A02,   487,  1,     17, KZM124,2,19941109,1835, 43.0700, -48.4400, 2837,    499.8,   4.5519,  34.9661,2,  34.9651,2,    251.5,2,    12.88,2,    17.71,2,     1.19,2,    2.114,2,    1.036,2,    0.146,2,    2.973,2
     06MT030_2,   A02,   487,  1,     16, KZM114,2,19941109,1835, 43.0700, -48.4400, 2837,    667.3,   4.4389,  34.9910,2,  34.9906,2,    257.6,2,    12.70,2,    17.81,2,     1.18,2,    1.828,2,    0.898,2,    0.100,2,    2.765,2
     06MT030_2,   A02,   487,  1,     15, KZM029,2,19941109,1835, 43.0700, -48.4400, 2837,    801.0,   4.0811,  34.9564,2,  34.9553,2,    266.6,2,    12.43,2,    17.21,2,     1.15,2,    2.064,2,    0.989,2,    0.115,2,    3.213,2
     06MT030_2,   A02,   487,  1,     14,      2,2,19941109,1835, 43.0700, -48.4400, 2837,    901.4,   3.7602,  34.9209,2,-999.0000,9,    275.3,2,    12.07,2,    16.96,2,     1.12,9,    2.502,2,    1.201,2,    0.155,2,    3.815,2
     06MT030_2,   A02,   487,  1,     13, KZM090,2,19941109,1835, 43.0700, -48.4400, 2837,    999.2,   3.7822,  34.9346,2,  34.9336,2,    273.8,2,    12.40,2,    17.03,2,     1.13,2,    2.012,2,    0.975,2,    0.105,2,    3.259,2
     06MT030_2,   A02,   487,  1,     12, KZM117,2,19941109,1835, 43.0700, -48.4400, 2837,   1201.4,   3.5243,  34.9105,2,  34.9103,2,    281.0,2,    12.16,2,    16.69,2,     1.10,2,    2.195,2,    1.059,2,    0.122,2,    3.571,2
     06MT030_2,   A02,   487,  1,     11, KZM008,2,19941109,1835, 43.0700, -48.4400, 2837,   1397.6,   3.3134,  34.8884,2,  34.8886,2,    286.0,2,    12.04,2,    16.19,2,     1.09,2,    2.605,2,    1.247,2,    0.162,2,    4.041,2
     06MT030_2,   A02,   487,  1,     10, KZM115,2,19941109,1835, 43.0700, -48.4400, 2837,   1601.8,   3.1905,  34.8816,2,  34.8811,2,    289.5,2,    12.06,2,    16.17,2,     1.09,2,    2.621,2,    1.240,2,    0.161,2,    4.071,2
     06MT030_2,   A02,   487,  1,      9, KZM036,2,19941109,1835, 43.0700, -48.4400, 2837,   1801.9,   3.2874,  34.9085,2,  34.9085,2,   -999.0,9,  -999.00,9,  -999.00,9,  -999.00,9,    1.791,2,    0.859,2,    0.099,2,    3.020,2
     06MT030_2,   A02,   487,  1,      7, KZM067,2,19941109,1835, 43.0700, -48.4400, 2837,   2200.6,   3.1525,  34.9185,2,  34.9181,2,    280.5,2,    13.81,2,    16.41,2,     1.10,2,    1.532,2,    0.734,2,    0.072,2,    2.692,2
     06MT030_2,   A02,   487,  1,      6, KZM017,2,19941109,1835, 43.0700, -48.4400, 2837,   2400.1,   3.0245,  34.9219,2,  34.9190,2,    279.6,2,    14.55,2,    16.22,2,     1.09,2,    1.397,2,    0.669,2,    0.064,2,    2.508,2
     06MT030_2,   A02,   487,  1,      5,  UB319,2,19941109,1835, 43.0700, -48.4400, 2837,   2600.3,   2.9326,  34.9224,2,  34.9226,2,    279.4,2,    14.82,2,    15.99,2,     1.09,2,    1.404,2,    0.672,2,    0.069,2,    2.507,2
     06MT030_2,   A02,   487,  1,      4, KZM056,2,19941109,1835, 43.0700, -48.4400, 2837,   2750.7,   2.7597,  34.9189,2,  34.9190,2,    279.3,2,    15.31,2,    15.84,2,     1.07,2,    1.419,2,    0.678,2,    0.063,2,    2.521,2
     06MT030_2,   A02,   487,  1,      3, KZM061,3,19941109,1835, 43.0700, -48.4400, 2837,   2799.8,   2.7497,  34.9187,2,  34.9231,3,    278.3,3,    14.46,3,    16.48,3,     1.09,3,    1.389,2,    0.671,2,    0.085,2,    2.438,2
     06MT030_2,   A02,   487,  1,      2, KZM052,2,19941109,1835, 43.0700, -48.4400, 2837,   2844.9,   2.7387,  34.9180,2,  34.9181,2,    279.8,2,    15.47,2,    16.10,2,     1.07,2,    1.394,2,    0.664,2,    0.062,2,    2.468,2
     06MT030_2,   A02,   487,  1,      1, KZM038,2,19941109,1835, 43.0700, -48.4400, 2837,   2855.4,   2.7347,  34.9172,2,  34.9177,2,    279.8,2,    15.52,2,    15.93,2,     1.06,2,    1.409,2,    0.669,2,    0.066,2,    2.443,2