BOTTLE,20010917WHPSIOKJU
#code : jjward hyd_to_exchange.pl 
#original files copied from HTML directory: 20010719
#original HYD file: a02ahy.txt   Mon Sep 17 15:01:08 2001
#original SUM file: a02asu.txt   Mon Sep 17 14:58:41 2001
EXPOCODE,SECT_ID,STNNBR,CASTNO,SAMPNO,BTLNBR,BTLNBR_FLAG_W,DATE,TIME,LATITUDE,LONGITUDE,DEPTH,CTDPRS,CTDTMP,CTDSAL,CTDSAL_FLAG_W,SALNTY,SALNTY_FLAG_W,OXYGEN,OXYGEN_FLAG_W,SILCAT,SILCAT_FLAG_W,NITRAT,NITRAT_FLAG_W,PHSPHT,PHSPHT_FLAG_W,CFC-11,CFC-11_FLAG_W,CFC-12,CFC-12_FLAG_W,CFC113,CFC113_FLAG_W,CCL4,CCL4_FLAG_W
,,,,,,,,,,,,DBAR,ITS-90,PSS-78,,PSS-78,,UMOL/KG,,UMOL/KG,,UMOL/KG,,UMOL/KG,,PMOL/L,,PMOL/L,,PMOL/L,,PMOL/L,
     06MT030_2,   A02,   436,  3,     22, KZM033,2,19941015,1810, 48.1683, -11.7617, 3418,   3202.6,   2.7447,  34.9332,2,  34.9339,2,    245.7,2,  -999.00,9,  -999.00,9,  -999.00,9, -999.000,9, -999.000,9, -999.000,9, -999.000,9
     06MT030_2,   A02,   436,  3,     24, KZM012,2,19941015,1810, 48.1683, -11.7617, 3418,   3202.7,   2.7447,  34.9325,2,  34.9332,2,    245.4,2,  -999.00,9,  -999.00,9,  -999.00,9, -999.000,9, -999.000,9, -999.000,9, -999.000,9
     06MT030_2,   A02,   436,  3,     23, KZM125,2,19941015,1810, 48.1683, -11.7617, 3418,   3202.7,   2.7447,  34.9331,2,  34.9331,2,    245.8,2,  -999.00,9,  -999.00,9,  -999.00,9, -999.000,9, -999.000,9, -999.000,9, -999.000,9
     06MT030_2,   A02,   436,  3,     21, KZM040,2,19941015,1810, 48.1683, -11.7617, 3418,   3202.8,   2.7437,  34.9334,2,  34.9335,2,    245.0,3,  -999.00,9,  -999.00,9,  -999.00,9, -999.000,9, -999.000,9, -999.000,9, -999.000,9
     06MT030_2,   A02,   436,  3,     20, KZM097,2,19941015,1810, 48.1683, -11.7617, 3418,   3202.9,   2.7427,  34.9335,2,  34.9336,2,    245.9,2,  -999.00,9,  -999.00,9,  -999.00,9, -999.000,9, -999.000,9, -999.000,9, -999.000,9
     06MT030_2,   A02,   436,  3,     19, KZM126,2,19941015,1810, 48.1683, -11.7617, 3418,   3202.9,   2.7427,  34.9329,2,  34.9341,2,    245.2,2,  -999.00,9,  -999.00,9,  -999.00,9, -999.000,9, -999.000,9, -999.000,9, -999.000,9
     06MT030_2,   A02,   436,  3,     18, KZM085,2,19941015,1810, 48.1683, -11.7617, 3418,   3203.0,   2.7427,  34.9328,2,  34.9338,2,    244.9,3,  -999.00,9,  -999.00,9,  -999.00,9, -999.000,9, -999.000,9, -999.000,9, -999.000,9
     06MT030_2,   A02,   436,  3,     17, KZM124,2,19941015,1810, 48.1683, -11.7617, 3418,   3203.0,   2.7427,  34.9327,2,  34.9333,2,    245.7,2,  -999.00,9,  -999.00,9,  -999.00,9, -999.000,9, -999.000,9, -999.000,9, -999.000,9
     06MT030_2,   A02,   436,  3,     16, KZM119,2,19941015,1810, 48.1683, -11.7617, 3418,   3203.1,   2.7417,  34.9323,2,  34.9340,2,    245.3,2,  -999.00,9,  -999.00,9,  -999.00,9, -999.000,9, -999.000,9, -999.000,9, -999.000,9
     06MT030_2,   A02,   436,  3,      1, KZM038,2,19941015,1810, 48.1683, -11.7617, 3418,   3203.1,   2.7387,  34.9322,2,  34.9334,2,    244.7,2,  -999.00,9,  -999.00,9,  -999.00,9, -999.000,9, -999.000,9, -999.000,9, -999.000,9
     06MT030_2,   A02,   436,  3,     15, KZM029,2,19941015,1810, 48.1683, -11.7617, 3418,   3203.2,   2.7407,  34.9325,2,  34.9336,2,    246.0,2,  -999.00,9,  -999.00,9,  -999.00,9, -999.000,9, -999.000,9, -999.000,9, -999.000,9
     06MT030_2,   A02,   436,  3,     12, KZM117,2,19941015,1810, 48.1683, -11.7617, 3418,   3203.2,   2.7407,  34.9325,2,  34.9330,2,    243.9,2,  -999.00,9,  -999.00,9,  -999.00,9, -999.000,9, -999.000,9, -999.000,9, -999.000,9
     06MT030_2,   A02,   436,  3,     11, KZM008,2,19941015,1810, 48.1683, -11.7617, 3418,   3203.2,   2.7397,  34.9330,2,  34.9331,2,    246.3,3,  -999.00,9,  -999.00,9,  -999.00,9, -999.000,9, -999.000,9, -999.000,9, -999.000,9
     06MT030_2,   A02,   436,  3,     13, KZM090,2,19941015,1810, 48.1683, -11.7617, 3418,   3203.3,   2.7407,  34.9324,2,  34.9340,2,    244.5,2,  -999.00,9,  -999.00,9,  -999.00,9, -999.000,9, -999.000,9, -999.000,9, -999.000,9
     06MT030_2,   A02,   436,  3,      9, KZM114,2,19941015,1810, 48.1683, -11.7617, 3418,   3203.3,   2.7397,  34.9320,2,  34.9327,2,    244.6,2,  -999.00,9,  -999.00,9,  -999.00,9, -999.000,9, -999.000,9, -999.000,9, -999.000,9
     06MT030_2,   A02,   436,  3,      5, KZM128,2,19941015,1810, 48.1683, -11.7617, 3418,   3203.3,   2.7437,  34.9329,2,  34.9328,2,    244.4,2,  -999.00,9,  -999.00,9,  -999.00,9, -999.000,9, -999.000,9, -999.000,9, -999.000,9
     06MT030_2,   A02,   436,  3,      4, KZM056,2,19941015,1810, 48.1683, -11.7617, 3418,   3203.3,   2.7437,  34.9326,2,  34.9303,2,    245.1,2,  -999.00,9,  -999.00,9,  -999.00,9, -999.000,9, -999.000,9, -999.000,9, -999.000,9
     06MT030_2,   A02,   436,  3,      2, KZM052,2,19941015,1810, 48.1683, -11.7617, 3418,   3203.3,   2.7407,  34.9318,2,  34.9327,2,    245.4,2,  -999.00,9,  -999.00,9,  -999.00,9, -999.000,9, -999.000,9, -999.000,9, -999.000,9
     06MT030_2,   A02,   436,  3,     10, KZM036,2,19941015,1810, 48.1683, -11.7617, 3418,   3203.4,   2.7397,  34.9332,2,  34.9329,2,    244.1,2,  -999.00,9,  -999.00,9,  -999.00,9, -999.000,9, -999.000,9, -999.000,9, -999.000,9
     06MT030_2,   A02,   436,  3,      7, KZM067,2,19941015,1810, 48.1683, -11.7617, 3418,   3203.4,   2.7397,  34.9322,2,  34.9326,2,    243.8,2,  -999.00,9,  -999.00,9,  -999.00,9, -999.000,9, -999.000,9, -999.000,9, -999.000,9
     06MT030_2,   A02,   436,  3,      6, KZM017,2,19941015,1810, 48.1683, -11.7617, 3418,   3203.4,   2.7427,  34.9322,2,  34.9326,2,    245.1,2,  -999.00,9,  -999.00,9,  -999.00,9, -999.000,9, -999.000,9, -999.000,9, -999.000,9
     06MT030_2,   A02,   436,  3,     14, KZM115,2,19941015,1810, 48.1683, -11.7617, 3418,   3203.5,   2.7397,  34.9333,2,  34.9340,2,    245.3,2,  -999.00,9,  -999.00,9,  -999.00,9, -999.000,9, -999.000,9, -999.000,9, -999.000,9
     06MT030_2,   A02,   436,  3,      8, KZM199,2,19941015,1810, 48.1683, -11.7617, 3418,   3203.5,   2.7387,  34.9321,2,-999.0000,9,    230.4,4,  -999.00,9,  -999.00,9,  -999.00,9, -999.000,9, -999.000,9, -999.000,9, -999.000,9
     06MT030_2,   A02,   436,  3,      3, KZM061,2,19941015,1810, 48.1683, -11.7617, 3418,   3203.5,   2.7407,  34.9321,2,  34.9331,2,    244.9,2,  -999.00,9,  -999.00,9,  -999.00,9, -999.000,9, -999.000,9, -999.000,9, -999.000,9
     06MT030_2,   A02,   437,  1,      6,     10,2,19941016,0449, 49.2333, -10.6617,  154,      9.7,  14.4182,  35.4255,2,  35.4277,2,    255.2,2,     1.31,2,     1.12,2,     0.08,2, -999.000,9, -999.000,9, -999.000,9, -999.000,9
     06MT030_2,   A02,   437,  1,      5,     12,2,19941016,0449, 49.2333, -10.6617,  154,     21.6,  14.3682,  35.4297,2,  35.4274,2,    253.6,2,     1.38,2,     1.10,2,     0.08,2, -999.000,9, -999.000,9, -999.000,9, -999.000,9
     06MT030_2,   A02,   437,  1,      4,      6,2,19941016,0449, 49.2333, -10.6617,  154,     31.9,  14.2453,  35.4383,2,  35.4372,2,    251.5,2,     1.46,2,     1.70,2,     0.11,2, -999.000,9, -999.000,9, -999.000,9, -999.000,9
     06MT030_2,   A02,   437,  1,      3,     18,2,19941016,0449, 49.2333, -10.6617,  154,     52.4,  13.7878,  35.4651,2,  35.4637,2,    247.2,2,     1.80,2,     3.53,2,     0.19,2, -999.000,9, -999.000,9, -999.000,9, -999.000,9
     06MT030_2,   A02,   437,  1,      2,     17,2,19941016,0449, 49.2333, -10.6617,  154,     71.1,  13.1764,  35.4967,2,  35.5416,4,    244.0,2,     3.25,2,     8.36,2,     0.45,2, -999.000,9, -999.000,9, -999.000,9, -999.000,9
     06MT030_2,   A02,   437,  1,      1,     10,2,19941016,0449, 49.2333, -10.6617,  154,    101.4,  11.9876,  35.5384,2,  35.5410,2,    244.8,2,     3.28,2,     8.31,2,     0.47,2, -999.000,9, -999.000,9, -999.000,9, -999.000,9
     06MT030_2,   A02,   438,  1,     16,  10021,2,19941016,0702, 49.1933, -11.1850,  192,     10.5,  14.2923,  35.4685,2,  35.4673,2,    257.1,2,     1.18,2,     1.31,2,     0.10,2, -999.000,9, -999.000,9, -999.000,9, -999.000,9
     06MT030_2,   A02,   438,  1,     15,  10025,2,19941016,0702, 49.1933, -11.1850,  192,     20.6,  14.2603,  35.4708,2,  35.4698,2,    256.5,2,     1.22,2,     1.33,2,     0.10,2,    3.000,2,    1.590,2,    0.263,2,    3.734,2
     06MT030_2,   A02,   438,  1,     14,      2,2,19941016,0702, 49.1933, -11.1850,  192,     30.9,  14.0006,  35.4806,2,  35.4793,2,    251.9,2,     1.62,2,     2.32,2,     0.16,2,    3.052,2,    1.596,2,    0.259,2,    3.413,2
     06MT030_2,   A02,   438,  1,     13,  10003,2,19941016,0702, 49.1933, -11.1850,  192,     50.4,  13.1724,  35.5051,2,  35.5057,2,    245.7,2,     2.46,2,     5.41,2,     0.28,2, -999.000,9, -999.000,9, -999.000,9, -999.000,9
     06MT030_2,   A02,   438,  1,     12,  10026,2,19941016,0702, 49.1933, -11.1850,  192,     71.1,  12.4881,  35.5419,2,  35.5423,2,    243.7,2,     2.80,2,     7.11,2,     0.38,2,    3.178,2,    1.630,2,    0.254,2,    2.531,2
     06MT030_2,   A02,   438,  1,     10,  10010,2,19941016,0702, 49.1933, -11.1850,  192,    101.1,  11.7198,  35.5409,2,  35.5424,2,    242.0,2,     3.73,2,     8.87,2,     0.50,2,    3.155,2,    1.624,2,    0.231,2,    2.182,2
     06MT030_2,   A02,   438,  1,     11,  10008,2,19941016,0702, 49.1933, -11.1850,  192,    101.2,  11.6959,  35.5407,2,-999.0000,9,    242.2,2,     3.72,2,     8.85,2,     0.49,9, -999.000,9, -999.000,9, -999.000,9, -999.000,9
     06MT030_2,   A02,   438,  1,      8, KZM199,2,19941016,0702, 49.1933, -11.1850,  192,    150.1,  11.4072,  35.5471,2,  35.5482,2,    242.2,2,     4.08,2,     9.44,2,     0.54,2,    3.183,2,    1.619,2,    0.230,2,    2.148,2
     06MT030_2,   A02,   438,  1,      9,  10004,2,19941016,0702, 49.1933, -11.1850,  192,    150.4,  11.4072,  35.5478,2,-999.0000,9,    242.3,2,     4.12,2,     9.45,2,     0.55,9,    3.162,2,    1.612,2,    0.229,2,    2.139,2
     06MT030_2,   A02,   438,  1,      7,     23,2,19941016,0702, 49.1933, -11.1850,  192,    171.3,  11.3442,  35.5431,2,  35.5430,2,    241.6,2,     4.24,2,     9.83,2,     0.56,2,    3.177,2,    1.613,2,    0.268,2,    2.123,2
     06MT030_2,   A02,   439,  2,      3,     18,2,19941016,0943, 49.1783, -11.4267,  478,     10.0,  14.4351,  35.4836,2,  35.4829,2,    254.6,2,     1.46,2,     0.97,2,     0.09,2, -999.000,9, -999.000,9, -999.000,9, -999.000,9
     06MT030_2,   A02,   439,  2,      2,     17,2,19941016,0943, 49.1783, -11.4267,  478,     19.9,  14.3452,  35.4912,2,  35.4896,2,    251.7,2,     1.51,2,     1.59,2,     0.13,2, -999.000,9, -999.000,9, -999.000,9, -999.000,9
     06MT030_2,   A02,   439,  2,      1,     10,2,19941016,0943, 49.1783, -11.4267,  478,     29.7,  14.0885,  35.4941,2,  35.5376,4,    245.4,2,     2.53,2,     6.55,2,     0.35,2, -999.000,9, -999.000,9, -999.000,9, -999.000,9
     06MT030_2,   A02,   439,  2,     24,     21,2,19941016,0943, 49.1783, -11.4267,  478,     49.8,  12.7318,  35.5367,2,  35.5372,2,    245.5,2,     2.53,2,     6.56,2,     0.39,2, -999.000,9, -999.000,9, -999.000,9, -999.000,9
     06MT030_2,   A02,   439,  2,     23,  10013,2,19941016,0943, 49.1783, -11.4267,  478,     70.0,  12.3082,  35.5491,2,  35.5475,2,    245.3,2,     2.84,2,     7.52,2,     0.46,2, -999.000,9, -999.000,9, -999.000,9, -999.000,9
     06MT030_2,   A02,   439,  2,     22,  10023,2,19941016,0943, 49.1783, -11.4267,  478,    100.0,  11.9746,  35.5543,2,  35.5525,2,    247.3,2,     3.09,2,     8.13,2,     0.49,2, -999.000,9, -999.000,9, -999.000,9, -999.000,9
     06MT030_2,   A02,   439,  2,     21,  10002,2,19941016,0943, 49.1783, -11.4267,  478,    148.9,  11.2473,  35.5472,2,  35.5483,2,    247.4,2,     3.95,2,     9.37,2,     0.58,2, -999.000,9, -999.000,9, -999.000,9, -999.000,9
     06MT030_2,   A02,   439,  2,     20,  10027,2,19941016,0943, 49.1783, -11.4267,  478,    199.3,  11.1255,  35.5381,2,  35.5397,2,    247.5,2,     4.13,2,     9.61,2,     0.60,2, -999.000,9, -999.000,9, -999.000,9, -999.000,9
     06MT030_2,   A02,   439,  2,     19,  10017,2,19941016,0943, 49.1783, -11.4267,  478,    299.0,  10.9926,  35.5262,2,  35.5274,2,    245.1,2,     4.39,2,     9.99,2,     0.63,2, -999.000,9, -999.000,9, -999.000,9, -999.000,9
     06MT030_2,   A02,   439,  2,     18,  10020,2,19941016,0943, 49.1783, -11.4267,  478,    398.4,  10.8348,  35.5108,2,  35.5119,2,    243.9,2,     4.72,2,    10.74,2,     0.66,2, -999.000,9, -999.000,9, -999.000,9, -999.000,9
     06MT030_2,   A02,   439,  2,     17,  10009,2,19941016,0943, 49.1783, -11.4267,  478,    457.9,  10.5201,  35.4887,2,  35.4888,2,    239.8,2,     5.45,2,    11.73,2,     0.73,2, -999.000,9, -999.000,9, -999.000,9, -999.000,9
     06MT030_2,   A02,   440,  1,     17,  10009,2,19941016,1318, 49.1067, -12.1950, 1001,      9.7,  14.8378,  35.5451,2,  35.5461,2,    254.0,2,     1.27,2,     0.40,2,     0.05,2,    2.954,2,    1.548,2,    0.255,2,    4.010,2
     06MT030_2,   A02,   440,  1,     16,  10021,2,19941016,1318, 49.1067, -12.1950, 1001,     19.6,  14.7988,  35.5484,2,  35.5490,2,    254.0,2,     1.32,2,     0.43,2,     0.05,2, -999.000,9, -999.000,9, -999.000,9, -999.000,9
     06MT030_2,   A02,   440,  1,     15,  10025,2,19941016,1318, 49.1067, -12.1950, 1001,     30.5,  14.7728,  35.5501,2,  35.5591,3,    253.3,3,     1.32,2,     0.44,2,     0.05,2,    2.935,2,    1.529,2,    0.256,2,    3.942,2
     06MT030_2,   A02,   440,  1,     14,      2,2,19941016,1318, 49.1067, -12.1950, 1001,     50.1,  13.8467,  35.5610,2,  35.5597,2,    246.1,2,     1.63,2,     2.90,2,     0.17,2, -999.000,9, -999.000,9, -999.000,9, -999.000,9
     06MT030_2,   A02,   440,  1,     13,  10003,2,19941016,1318, 49.1067, -12.1950, 1001,     70.2,  12.8317,  35.5818,2,  35.5818,2,    246.6,2,     1.67,2,     3.00,2,     0.19,2,    3.019,2,    1.560,2,    0.257,2,    3.327,2
     06MT030_2,   A02,   440,  1,     12,  10026,2,19941016,1318, 49.1067, -12.1950, 1001,    100.0,  11.6809,  35.6015,2,  35.5997,2,    243.2,2,     2.33,2,     6.29,2,     0.35,2,    3.159,2,    1.619,2,    0.261,2,    2.684,2
     06MT030_2,   A02,   440,  1,     11,  10008,2,19941016,1318, 49.1067, -12.1950, 1001,    149.1,  11.3153,  35.5625,2,  35.5631,2,    244.8,2,     3.56,2,     8.82,2,     0.50,2,    3.225,2,    1.630,2,    0.243,2,    2.235,2
     06MT030_2,   A02,   440,  1,     10,  10010,2,19941016,1318, 49.1067, -12.1950, 1001,    199.5,  11.1884,  35.5473,2,  35.5461,2,    247.9,2,     3.96,2,     9.31,2,     0.55,2,    3.247,2,    1.622,2,    0.227,2,    2.227,2
     06MT030_2,   A02,   440,  1,      9,  10004,2,19941016,1318, 49.1067, -12.1950, 1001,    297.9,  10.8388,  35.5026,2,  35.5020,2,    247.4,2,     4.16,2,     9.42,2,     0.57,2,    3.207,2,    1.602,2,    0.216,2,    2.179,2
     06MT030_2,   A02,   440,  1,      7,     23,2,19941016,1318, 49.1067, -12.1950, 1001,    398.2,  10.5811,  35.4777,2,  35.4769,2,    244.7,2,     4.70,2,    10.42,2,     0.65,2,    3.214,2,    1.605,2,    0.196,2,    2.264,2
     06MT030_2,   A02,   440,  1,      6,    910,2,19941016,1318, 49.1067, -12.1950, 1001,    497.9,  10.3363,  35.4523,2,  35.4660,3,    240.1,4,     5.25,4,    11.34,4,     0.71,4,    3.080,2,    1.536,2,    0.178,2,    2.176,2
     06MT030_2,   A02,   440,  1,      5,     12,2,19941016,1318, 49.1067, -12.1950, 1001,    595.4,  10.1305,  35.4652,2,  35.4659,2,    222.1,2,     6.80,2,    13.51,2,     0.87,2,    2.527,3,    1.218,3,    0.119,2,    1.697,3
     06MT030_2,   A02,   440,  1,      4,      6,2,19941016,1318, 49.1067, -12.1950, 1001,    696.3,   9.8658,  35.4992,2,  35.5018,2,    221.5,2,     6.92,2,    13.59,2,     0.88,2,    2.582,2,    1.288,2,    0.126,2,    1.740,2
     06MT030_2,   A02,   440,  1,      3,     18,2,19941016,1318, 49.1067, -12.1950, 1001,    800.1,   9.6910,  35.5339,2,  35.5352,2,    207.6,2,     8.13,2,    15.12,2,     0.98,2,    2.054,2,    0.949,2,    0.078,2,    1.259,2
     06MT030_2,   A02,   440,  1,      2,     17,2,19941016,1318, 49.1067, -12.1950, 1001,    897.1,   9.3174,  35.5942,2,  35.5994,3,    199.3,2,     8.93,2,    16.25,2,     1.05,2,    1.455,2,    0.693,2,    0.061,2,    1.088,2