BOTTLE,20010917WHPSIOKJU
EXPOCODE,SECT_ID,STNNBR,CASTNO,SAMPNO,BTLNBR,BTLNBR_FLAG_W,DATE,TIME,LATITUDE,LONGITUDE,DEPTH,CTDPRS,CTDTMP,CTDSAL,CTDSAL_FLAG_W,SALNTY,SALNTY_FLAG_W,OXYGEN,OXYGEN_FLAG_W,SILCAT,SILCAT_FLAG_W,NITRAT,NITRAT_FLAG_W,PHSPHT,PHSPHT_FLAG_W,CFC-11,CFC-11_FLAG_W,CFC-12,CFC-12_FLAG_W,CFC113,CFC113_FLAG_W,CCL4,CCL4_FLAG_W
,,,,,,,,,,,,DBAR,ITS-90,PSS-78,,PSS-78,,UMOL/KG,,UMOL/KG,,UMOL/KG,,UMOL/KG,,PMOL/L,,PMOL/L,,PMOL/L,,PMOL/L,
     06MT030_2,   A02,   444,  2,     22,  10023,2,19941017,0523, 48.9967, -13.0433, 3068,      9.4,  15.2923,  35.5222,2,  35.5241,2,    250.1,2,     1.49,2,     0.28,2,     0.04,2, -999.000,9, -999.000,9, -999.000,9, -999.000,9
     06MT030_2,   A02,   444,  2,     21,  10002,2,19941017,0523, 48.9967, -13.0433, 3068,     18.5,  15.2923,  35.5222,2,  35.5242,2,    250.6,2,     1.46,2,     0.28,2,     0.04,2, -999.000,9, -999.000,9, -999.000,9, -999.000,9
     06MT030_2,   A02,   444,  2,     20,  10027,2,19941017,0523, 48.9967, -13.0433, 3068,     28.7,  15.2804,  35.5226,2,  35.5240,2,    250.0,2,     1.46,2,     0.24,2,     0.04,2, -999.000,9, -999.000,9, -999.000,9, -999.000,9
     06MT030_2,   A02,   444,  2,     19,  10017,2,19941017,0523, 48.9967, -13.0433, 3068,     49.6,  14.9317,  35.5415,2,  35.5408,2,    246.7,2,     1.50,2,     0.93,2,     0.07,2, -999.000,9, -999.000,9, -999.000,9, -999.000,9
     06MT030_2,   A02,   444,  2,     18,  10020,2,19941017,0523, 48.9967, -13.0433, 3068,     69.6,  13.1224,  35.5390,2,  35.5441,3,    241.7,2,     2.45,2,     6.36,2,     0.28,2, -999.000,9, -999.000,9, -999.000,9, -999.000,9
     06MT030_2,   A02,   444,  2,     17,  10009,2,19941017,0523, 48.9967, -13.0433, 3068,     99.4,  11.7798,  35.5616,2,  35.5629,2,    245.3,2,     3.52,2,     9.03,2,     0.44,2, -999.000,9, -999.000,9, -999.000,9, -999.000,9
     06MT030_2,   A02,   444,  2,     16,  10021,2,19941017,0523, 48.9967, -13.0433, 3068,    200.3,  11.1045,  35.5267,2,  35.5297,2,    248.4,2,     4.68,2,     9.92,2,     0.53,2, -999.000,9, -999.000,9, -999.000,9, -999.000,9
     06MT030_2,   A02,   444,  2,     15,  10025,2,19941017,0523, 48.9967, -13.0433, 3068,    296.4,  10.9557,  35.5226,2,  35.5253,2,    245.9,2,     4.83,2,    10.35,2,     0.55,2, -999.000,9, -999.000,9, -999.000,9, -999.000,9
     06MT030_2,   A02,   444,  2,     14,      2,2,19941017,0523, 48.9967, -13.0433, 3068,    398.0,  10.6000,  35.4711,2,  35.4738,2,    243.3,2,     5.68,2,    11.39,2,     0.62,2, -999.000,9, -999.000,9, -999.000,9, -999.000,9
     06MT030_2,   A02,   444,  2,     13,  10003,2,19941017,0523, 48.9967, -13.0433, 3068,    497.2,  10.2634,  35.4297,2,  35.4327,2,    243.8,2,     6.19,2,    11.93,2,     0.68,2, -999.000,9, -999.000,9, -999.000,9, -999.000,9
     06MT030_2,   A02,   444,  2,     12,  10026,2,19941017,0523, 48.9967, -13.0433, 3068,    597.4,   9.7510,  35.3754,2,  35.3764,2,    225.7,2,     7.80,2,    14.23,2,     0.84,2, -999.000,9, -999.000,9, -999.000,9, -999.000,9
     06MT030_2,   A02,   444,  2,     11,  10008,2,19941017,0523, 48.9967, -13.0433, 3068,    745.9,   9.2236,  35.4022,2,  35.4038,2,    202.1,2,     9.88,2,    16.78,2,     1.00,2, -999.000,9, -999.000,9, -999.000,9, -999.000,9
     06MT030_2,   A02,   444,  2,     10,  10010,2,19941017,0523, 48.9967, -13.0433, 3068,    897.2,   8.4235,  35.4094,2,  35.4116,2,    200.7,2,    11.10,2,    17.80,2,     1.09,2, -999.000,9, -999.000,9, -999.000,9, -999.000,9
     06MT030_2,   A02,   444,  2,      9,  10004,2,19941017,0523, 48.9967, -13.0433, 3068,   1046.9,   7.8441,  35.4195,2,  35.4211,2,    208.2,2,    11.64,2,    17.82,2,     1.10,2, -999.000,9, -999.000,9, -999.000,9, -999.000,9
     06MT030_2,   A02,   444,  2,      8,     15,2,19941017,0523, 48.9967, -13.0433, 3068,   1247.1,   6.5107,  35.2781,2,  35.2795,2,    223.6,2,    12.54,2,    17.90,2,     1.12,2, -999.000,9, -999.000,9, -999.000,9, -999.000,9
     06MT030_2,   A02,   444,  2,      7,     23,2,19941017,0523, 48.9967, -13.0433, 3068,   1395.3,   5.4790,  35.1490,2,  35.1492,2,    238.4,2,    13.30,2,    17.88,2,     1.15,2, -999.000,9, -999.000,9, -999.000,9, -999.000,9
     06MT030_2,   A02,   444,  2,      6,    910,2,19941017,0523, 48.9967, -13.0433, 3068,   1697.5,   4.1927,  35.0233,2,  35.0232,2,    256.2,2,    16.51,2,    18.42,2,     1.17,2, -999.000,9, -999.000,9, -999.000,9, -999.000,9
     06MT030_2,   A02,   444,  2,      5,     12,2,19941017,0523, 48.9967, -13.0433, 3068,   1999.0,   3.7013,  34.9920,2,  34.9921,2,    255.5,2,    20.59,2,    18.91,2,     1.21,2, -999.000,9, -999.000,9, -999.000,9, -999.000,9
     06MT030_2,   A02,   444,  2,      4,      6,2,19941017,0523, 48.9967, -13.0433, 3068,   2250.0,   3.4227,  34.9810,2,  34.9803,2,    251.2,2,    25.51,2,    19.67,2,     1.26,2, -999.000,9, -999.000,9, -999.000,9, -999.000,9
     06MT030_2,   A02,   444,  2,      3,     18,2,19941017,0523, 48.9967, -13.0433, 3068,   2501.0,   3.1950,  34.9678,2,  34.9669,2,    249.2,2,    29.66,2,    20.26,2,     1.31,2, -999.000,9, -999.000,9, -999.000,9, -999.000,9
     06MT030_2,   A02,   444,  2,      2,     17,2,19941017,0523, 48.9967, -13.0433, 3068,   2802.7,   2.9613,  34.9533,2,  34.9505,2,    246.3,2,    33.07,2,    20.74,2,     1.37,2, -999.000,9, -999.000,9, -999.000,9, -999.000,9
     06MT030_2,   A02,   444,  2,      1,     10,2,19941017,0523, 48.9967, -13.0433, 3068,   3083.6,   2.8365,  34.9419,2,  34.9406,2,    245.9,2,    34.99,2,    21.04,2,     1.39,2, -999.000,9, -999.000,9, -999.000,9, -999.000,9
     06MT030_2,   A02,   445,  2,     22,  10023,2,19941017,1220, 48.9267, -13.2750, 3718,   1096.1,   7.5455,  35.4242,2,  35.4275,2,    210.7,2,    12.65,2,    17.60,2,     1.00,2,    1.158,2,    0.587,2,    0.024,2,    1.385,2
     06MT030_2,   A02,   445,  2,     21,  10002,2,19941017,1220, 48.9267, -13.2750, 3718,   1195.9,   6.6246,  35.2932,2,  35.2935,2,    221.8,2,    12.75,2,    17.97,2,     1.10,2,    1.248,2,    0.636,2,    0.034,2,    1.709,2
     06MT030_2,   A02,   445,  2,     20,  10027,2,19941017,1220, 48.9267, -13.2750, 3718,   1246.2,   6.2271,  35.2492,2,  35.2497,2,    227.2,2,    13.15,2,    18.01,2,     1.13,2,    1.249,2,    0.635,2,    0.068,4,    1.717,2
     06MT030_2,   A02,   445,  2,     19,  10017,2,19941017,1220, 48.9267, -13.2750, 3718,   1296.1,   5.9035,  35.2129,2,  35.2165,2,    231.4,2,    13.62,2,    18.18,2,     1.14,2,    1.241,2,    0.619,2,    0.028,2,    1.850,2
     06MT030_2,   A02,   445,  2,     18,  10020,2,19941017,1220, 48.9267, -13.2750, 3718,   1397.0,   4.9986,  35.0817,2,  35.0810,2,    245.7,2,    13.45,2,    18.38,2,     1.14,2,    1.446,2,    0.723,2,    0.041,2,    2.385,2
     06MT030_2,   A02,   445,  2,     17,  10009,2,19941017,1220, 48.9267, -13.2750, 3718,   1497.0,   4.4983,  35.0206,2,  35.0216,2,    254.8,2,    13.68,2,    18.13,2,     2.38,3,    1.484,2,    0.734,2,    0.047,2,    2.562,2
     06MT030_2,   A02,   445,  2,     16,  10021,2,19941017,1220, 48.9267, -13.2750, 3718,   1598.3,   4.1158,  34.9768,2,  34.9784,2,    262.0,2,    13.86,2,    17.90,2,     1.14,2,    1.478,2,    0.737,2,    0.048,2,    2.671,2
     06MT030_2,   A02,   445,  2,     15,  10025,2,19941017,1220, 48.9267, -13.2750, 3718,   1697.4,   3.8311,  34.9542,2,  34.9547,2,    267.1,2,    14.20,2,    17.64,2,     1.15,2,    1.400,4,    0.045,4,    0.042,2,    2.643,3
     06MT030_2,   A02,   445,  2,     14,      2,2,19941017,1220, 48.9267, -13.2750, 3718,   1778.0,   3.5145,  34.9088,2,  34.9094,2,    276.1,2,    12.78,2,    17.14,2,     1.12,2,    1.585,2,    0.793,2,    0.047,2,    3.032,2
     06MT030_2,   A02,   445,  2,     13,  10003,2,19941017,1220, 48.9267, -13.2750, 3718,   1897.0,   3.4796,  34.9220,2,  34.9224,2,    273.9,2,    13.59,2,    17.12,2,     1.13,2,    1.259,2,    0.627,2,    0.028,2,    2.580,2
     06MT030_2,   A02,   445,  2,     12,  10026,2,19941017,1220, 48.9267, -13.2750, 3718,   1998.8,   3.5016,  34.9455,2,  34.9453,2,    267.8,2,    15.72,2,    17.48,2,     1.16,2,    0.897,2,    0.456,2,    0.018,2,    2.040,2
     06MT030_2,   A02,   445,  2,     11,  10008,2,19941017,1220, 48.9267, -13.2750, 3718,   2100.1,   3.4566,  34.9573,2,  34.9588,2,    264.4,2,    18.23,2,    17.98,2,     1.20,2,    0.724,2,    0.367,2,    0.046,4,    1.673,2
     06MT030_2,   A02,   445,  2,     10,  10010,2,19941017,1220, 48.9267, -13.2750, 3718,   2149.6,   3.4436,  34.9665,2,  34.9665,2,    260.5,2,    20.32,2,    18.23,2,     1.23,2,    0.566,2,    0.299,2,    0.011,2,    1.419,2
     06MT030_2,   A02,   445,  2,      9,  10004,2,19941017,1220, 48.9267, -13.2750, 3718,   2302.5,   3.2609,  34.9610,2,  34.9616,2,    258.7,2,    22.67,2,    18.60,2,     1.26,2,    0.382,2,    0.209,2,    0.010,2,    1.101,2
     06MT030_2,   A02,   445,  2,      8,     15,2,19941017,1220, 48.9267, -13.2750, 3718,   2401.6,   3.1670,  34.9595,2,  34.9605,2,    255.9,2,    25.25,2,    18.96,2,     1.29,2,    0.287,2,    0.160,2,    0.007,2,    0.874,2
     06MT030_2,   A02,   445,  2,      7,     23,2,19941017,1220, 48.9267, -13.2750, 3718,   2500.4,   3.0771,  34.9584,2,  34.9579,2,    255.2,2,    26.34,2,    19.51,2,     1.31,2,    0.242,2,    0.137,2,    0.008,2,    0.769,2
     06MT030_2,   A02,   445,  2,      6,    910,2,19941017,1220, 48.9267, -13.2750, 3718,   2753.0,   2.8724,  34.9480,2,  34.9468,2,    249.4,2,    32.44,2,    20.63,2,     1.35,2,    0.117,2,    0.067,2,    0.005,2,    0.423,2
     06MT030_2,   A02,   445,  2,      5,     12,2,19941017,1220, 48.9267, -13.2750, 3718,   3004.9,   2.7406,  34.9370,2,  34.9348,2,    246.4,2,    36.86,2,    21.28,2,     1.42,2,    0.079,2,    0.036,2,    0.014,4,    0.261,2
     06MT030_2,   A02,   445,  2,      4,      6,2,19941017,1220, 48.9267, -13.2750, 3718,   3106.2,   2.7076,  34.9331,2,  34.9329,2,    245.0,2,    37.61,2,    21.13,2,     1.46,2,    0.057,2,    0.032,2,    0.003,2,    0.238,2
     06MT030_2,   A02,   445,  2,      3,     18,2,19941017,1220, 48.9267, -13.2750, 3718,   3305.3,   2.6497,  34.9278,2,  34.9286,2,    244.6,2,    38.93,2,    21.46,2,     1.48,2,    0.051,2,    0.028,2,    0.004,2,    0.191,2
     06MT030_2,   A02,   445,  2,      2,     17,2,19941017,1220, 48.9267, -13.2750, 3718,   3608.5,   2.5518,  34.9169,2,  34.9164,2,    243.7,2,    41.73,2,    22.03,2,     1.52,2, -999.000,9, -999.000,9, -999.000,9, -999.000,9
     06MT030_2,   A02,   445,  2,      1,     10,2,19941017,1220, 48.9267, -13.2750, 3718,   3725.8,   2.5029,  34.9101,2,  34.9096,2,    241.7,2,    43.63,2,    22.39,2,     1.56,2,    0.040,2,    0.017,2,    0.004,2,    0.086,2
     06MT030_2,   A02,   445,  4,     18, KZM085,2,19941017,1938, 48.9200, -13.2817, 3726,      8.2,  15.2884,  35.5027,2,  35.5019,2,    252.8,2,     1.39,2,     0.10,2,     0.06,2,    2.879,2,    1.543,2,    0.220,2,    3.998,3
     06MT030_2,   A02,   445,  4,     17, KZM124,2,19941017,1938, 48.9200, -13.2817, 3726,     29.7,  15.2424,  35.5141,2,  35.5144,2,    251.4,2,     1.35,2,     0.12,2,     0.07,2, -999.000,9, -999.000,9, -999.000,9, -999.000,9
     06MT030_2,   A02,   445,  4,     16, KZM119,2,19941017,1938, 48.9200, -13.2817, 3726,     70.6,  14.2267,  35.5403,2,  35.5412,2,    240.9,2,     1.71,2,     3.60,2,     0.20,2,    3.006,2,    1.606,2,    0.227,2,    3.405,2
     06MT030_2,   A02,   445,  4,     15, KZM029,2,19941017,1938, 48.9200, -13.2817, 3726,    119.3,  11.6024,  35.5693,2,  35.5680,2,    243.3,2,     3.93,2,     9.91,2,     0.52,2,    3.221,2,    1.683,2,    0.230,2,    2.508,2
     06MT030_2,   A02,   445,  4,     14, KZM115,2,19941017,1938, 48.9200, -13.2817, 3726,    150.8,  11.2875,  35.5395,2,  35.5397,2,    246.5,2,     4.49,2,    10.24,2,     0.56,2, -999.000,9, -999.000,9, -999.000,9, -999.000,9
     06MT030_2,   A02,   445,  4,     13, KZM090,2,19941017,1938, 48.9200, -13.2817, 3726,    190.0,  10.9705,  35.5014,2,  35.5000,2,    248.8,2,     4.95,2,    10.40,2,     0.60,2,    3.243,2,    1.701,2,    0.211,2,    2.508,2
     06MT030_2,   A02,   445,  4,     12, KZM117,2,19941017,1938, 48.9200, -13.2817, 3726,    246.9,  10.7216,  35.4681,2,  35.4672,2,    249.2,2,     5.41,2,    10.73,2,     0.64,2, -999.000,9, -999.000,9, -999.000,9, -999.000,9
     06MT030_2,   A02,   445,  4,     11, KZM008,2,19941017,1938, 48.9200, -13.2817, 3726,    299.2,  10.6756,  35.4720,2,  35.4714,2,    249.5,2,     5.36,2,    10.70,2,     0.64,2, -999.000,9, -999.000,9, -999.000,9, -999.000,9
     06MT030_2,   A02,   445,  4,     10, KZM036,2,19941017,1938, 48.9200, -13.2817, 3726,    398.9,  10.3957,  35.4357,2,  35.4345,2,    246.1,2,     5.90,2,    11.37,2,     0.69,2,    3.139,2,    1.619,2,    0.188,2,    2.413,2
     06MT030_2,   A02,   445,  4,      9, KZM114,2,19941017,1938, 48.9200, -13.2817, 3726,    500.8,  10.0768,  35.4001,2,  35.3984,2,    239.1,2,     6.72,2,    12.52,2,     0.77,2, -999.000,9, -999.000,9, -999.000,9, -999.000,9
     06MT030_2,   A02,   445,  4,      8, KZM199,2,19941017,1938, 48.9200, -13.2817, 3726,    613.7,   9.6540,  35.3814,2,  35.3810,2,    220.1,2,     8.22,2,    14.61,2,     0.92,2, -999.000,9, -999.000,9, -999.000,9, -999.000,9
     06MT030_2,   A02,   445,  4,      7, KZM067,2,19941017,1938, 48.9200, -13.2817, 3726,    700.3,   9.3711,  35.3889,2,  35.3884,2,    207.2,2,     9.31,2,    16.00,2,     1.02,2,    1.979,2,    0.988,2,    0.088,2,    1.452,2
     06MT030_2,   A02,   445,  4,      6, KZM017,2,19941017,1938, 48.9200, -13.2817, 3726,    850.5,   8.8072,  35.4340,2,  35.4345,2,    198.7,2,    10.64,2,    17.24,2,     1.10,2, -999.000,9, -999.000,9, -999.000,9, -999.000,9
     06MT030_2,   A02,   445,  4,      5, KZM128,2,19941017,1938, 48.9200, -13.2817, 3726,    899.1,   8.5263,  35.4296,2,  35.4307,2,    199.1,2,    10.97,2,    17.46,2,     1.12,2,    1.431,2,    0.716,2,    0.059,2,    1.344,2
     06MT030_2,   A02,   445,  4,      3, KZM061,2,19941017,1938, 48.9200, -13.2817, 3726,    997.1,   8.0045,  35.4450,2,  35.4470,2,    205.2,2,    11.56,2,    17.45,2,     1.13,2, -999.000,9, -999.000,9, -999.000,9, -999.000,9
     06MT030_2,   A02,   445,  4,      2, KZM052,2,19941017,1938, 48.9200, -13.2817, 3726,   1097.9,   7.6687,  35.4408,2,  35.4396,2,    209.1,2,    11.95,2,    17.42,2,     1.13,2, -999.000,9, -999.000,9, -999.000,9, -999.000,9
     06MT030_2,   A02,   445,  4,      1, KZM038,2,19941017,1938, 48.9200, -13.2817, 3726,   1179.7,   6.7780,  35.3231,2,  35.3254,2,    220.6,2,    12.59,2,    17.59,2,     1.17,2, -999.000,9, -999.000,9, -999.000,9, -999.000,9
     06MT030_2,   A02,   446,  1,     16, KZM119,2,19941017,2302, 48.8550, -13.7700, 4495,      9.9,  14.9295,  35.4408,2,  35.4397,2,    255.5,2,     1.61,2,     0.05,2,     0.34,2, -999.000,9, -999.000,9, -999.000,9, -999.000,9
     06MT030_2,   A02,   446,  1,     15, KZM029,2,19941017,2302, 48.8550, -13.7700, 4495,     31.9,  14.9025,  35.5167,2,  35.5186,2,    250.0,2,     1.59,2,     0.42,2,     0.33,2, -999.000,9, -999.000,9, -999.000,9, -999.000,9
     06MT030_2,   A02,   446,  1,     14, KZM115,2,19941017,2302, 48.8550, -13.7700, 4495,     50.1,  13.9377,  35.5432,2,  35.5421,2,    239.4,2,     2.02,2,     4.50,2,     0.50,2, -999.000,9, -999.000,9, -999.000,9, -999.000,9
     06MT030_2,   A02,   446,  1,     13, KZM090,2,19941017,2302, 48.8550, -13.7700, 4495,     71.5,  12.7910,  35.5604,4,  35.5362,3,    240.3,2,     2.64,2,     7.62,4,     0.63,2, -999.000,9, -999.000,9, -999.000,9, -999.000,9
     06MT030_2,   A02,   446,  1,     12, KZM117,2,19941017,2302, 48.8550, -13.7700, 4495,    121.9,  11.3574,  35.5309,2,  35.5292,2,    248.5,2,     3.94,2,     9.73,2,     0.76,2, -999.000,9, -999.000,9, -999.000,9, -999.000,9
     06MT030_2,   A02,   446,  1,     11, KZM008,2,19941017,2302, 48.8550, -13.7700, 4495,    150.6,  11.2285,  35.5347,2,  35.5328,2,    247.9,2,     4.60,2,    10.01,2,     0.78,2, -999.000,9, -999.000,9, -999.000,9, -999.000,9
     06MT030_2,   A02,   446,  1,     10, KZM036,2,19941017,2302, 48.8550, -13.7700, 4495,    201.3,  10.9296,  35.4949,2,  35.4949,2,    249.5,2,     5.20,2,    10.54,2,     0.81,2, -999.000,9, -999.000,9, -999.000,9, -999.000,9
     06MT030_2,   A02,   446,  1,      9, KZM114,2,19941017,2302, 48.8550, -13.7700, 4495,    249.7,  10.7566,  35.4698,2,  35.4715,2,    249.7,2,     5.49,2,    10.75,2,     0.82,2, -999.000,9, -999.000,9, -999.000,9, -999.000,9
     06MT030_2,   A02,   446,  1,      8, KZM199,2,19941017,2302, 48.8550, -13.7700, 4495,    301.1,  10.8106,  35.5028,2,  35.5030,2,    245.6,2,     5.36,2,    10.96,2,     0.80,2, -999.000,9, -999.000,9, -999.000,9, -999.000,9
     06MT030_2,   A02,   446,  1,      7, KZM067,2,19941017,2302, 48.8550, -13.7700, 4495,    401.7,  10.6137,  35.4868,2,  35.4850,2,    240.5,2,     5.85,2,    11.87,2,     0.84,2, -999.000,9, -999.000,9, -999.000,9, -999.000,9
     06MT030_2,   A02,   446,  1,      6, KZM017,2,19941017,2302, 48.8550, -13.7700, 4495,    547.7,   9.9589,  35.3940,2,  35.3949,2,    238.0,2,     6.98,2,    13.22,2,     0.94,2, -999.000,9, -999.000,9, -999.000,9, -999.000,9
     06MT030_2,   A02,   446,  1,      4, KZM056,2,19941017,2302, 48.8550, -13.7700, 4495,    675.4,  10.0038,  35.4808,2,  35.4803,2,    214.9,2,     8.10,2,    14.89,2,     1.04,2, -999.000,9, -999.000,9, -999.000,9, -999.000,9
     06MT030_2,   A02,   446,  1,      3, KZM061,2,19941017,2302, 48.8550, -13.7700, 4495,    780.1,   9.3811,  35.4799,2,  35.4792,2,    203.2,2,     9.78,2,    16.45,2,     1.16,2, -999.000,9, -999.000,9, -999.000,9, -999.000,9
     06MT030_2,   A02,   446,  1,      2, KZM052,2,19941017,2302, 48.8550, -13.7700, 4495,    949.3,   9.0232,  35.6117,2,  35.6122,2,    198.8,3,    11.08,2,    17.06,2,     1.19,2, -999.000,9, -999.000,9, -999.000,9, -999.000,9
     06MT030_2,   A02,   446,  1,      1, KZM038,2,19941017,2302, 48.8550, -13.7700, 4495,   1048.8,   8.4234,  35.5601,2,  35.5607,2,    189.3,2,    11.75,2,    17.28,2,     1.21,2, -999.000,9, -999.000,9, -999.000,9, -999.000,9