BOTTLE,20010917WHPSIOKJU
EXPOCODE,SECT_ID,STNNBR,CASTNO,SAMPNO,BTLNBR,BTLNBR_FLAG_W,DATE,TIME,LATITUDE,LONGITUDE,DEPTH,CTDPRS,CTDTMP,CTDSAL,CTDSAL_FLAG_W,SALNTY,SALNTY_FLAG_W,OXYGEN,OXYGEN_FLAG_W,SILCAT,SILCAT_FLAG_W,NITRAT,NITRAT_FLAG_W,PHSPHT,PHSPHT_FLAG_W,CFC-11,CFC-11_FLAG_W,CFC-12,CFC-12_FLAG_W,CFC113,CFC113_FLAG_W,CCL4,CCL4_FLAG_W
,,,,,,,,,,,,DBAR,ITS-90,PSS-78,,PSS-78,,UMOL/KG,,UMOL/KG,,UMOL/KG,,UMOL/KG,,PMOL/L,,PMOL/L,,PMOL/L,,PMOL/L,
     06MT030_2,   A02,   451,  2,     21,  10023,2,19941021,1441, 48.1083, -19.1750, 4183,   1495.4,   4.3485,  34.9769,2,  34.9768,2,    260.4,2,    11.38,2,    17.46,2,     0.96,2, -999.000,9, -999.000,9, -999.000,9, -999.000,9
     06MT030_2,   A02,   451,  2,     20,  10027,2,19941021,1441, 48.1083, -19.1750, 4183,   1598.9,   4.3005,  34.9899,2,  34.9903,2,    262.0,2,    11.64,2,    17.43,2,     1.04,2, -999.000,9, -999.000,9, -999.000,9, -999.000,9
     06MT030_2,   A02,   451,  2,     19,  10017,2,19941021,1441, 48.1083, -19.1750, 4183,   1798.5,   3.8231,  34.9331,2,  34.9327,2,    272.6,2,    11.58,2,    17.23,2,     1.04,2,    1.600,2,    0.771,2,    0.053,2,    3.011,2
     06MT030_2,   A02,   451,  2,     18,  10020,2,19941021,1441, 48.1083, -19.1750, 4183,   1896.9,   3.6733,  34.9191,2,  34.9187,2,    275.5,2,    11.65,2,    17.12,2,     1.04,2,    1.547,2,    0.744,2,    0.050,2,    2.995,2
     06MT030_2,   A02,   451,  2,     17,  10009,2,19941021,1441, 48.1083, -19.1750, 4183,   1999.2,   3.5645,  34.9118,2,  34.9120,2,    277.0,2,    11.79,2,    16.90,2,     1.04,2,    1.507,2,    0.729,2,    0.049,2,    2.945,2
     06MT030_2,   A02,   451,  2,     16,  10091,2,19941021,1441, 48.1083, -19.1750, 4183,   2099.6,   3.5155,  34.9164,2,  34.9159,2,    276.6,2,    12.44,2,    16.87,2,     1.04,2,    1.353,2,    0.648,2,    0.042,2,    2.768,2
     06MT030_2,   A02,   451,  2,     15,  10025,2,19941021,1441, 48.1083, -19.1750, 4183,   2198.0,   3.4836,  34.9242,2,  34.9370,3,    273.0,2,    13.92,2,    17.02,2,     1.03,2,    0.924,2,    0.449,2,    0.022,2,    2.418,2
     06MT030_2,   A02,   451,  2,     14,      2,2,19941021,1441, 48.1083, -19.1750, 4183,   2301.0,   3.4357,  34.9365,2,  34.9366,2,    272.2,2,    13.78,2,    17.02,2,     1.03,2,    0.942,3,    0.457,3,    0.041,4,    2.124,2
     06MT030_2,   A02,   451,  2,     13,  10003,2,19941021,1441, 48.1083, -19.1750, 4183,   2401.3,   3.3867,  34.9480,2,  34.9473,2,    269.4,2,    15.62,2,    17.24,2,     1.06,2,    0.712,2,    0.350,2,    0.014,2,    1.746,2
     06MT030_2,   A02,   451,  2,     12,  10026,2,19941021,1441, 48.1083, -19.1750, 4183,   2499.9,   3.2819,  34.9508,2,  34.9507,2,    268.2,2,    17.08,2,    17.35,2,     1.07,2,    0.634,2,    0.315,2,    0.011,2,    1.583,2
     06MT030_2,   A02,   451,  2,     11,  10008,2,19941021,1441, 48.1083, -19.1750, 4183,   2599.9,   3.1900,  34.9525,2,  34.9538,2,    264.7,2,    19.28,2,    17.78,2,     1.10,2,    0.537,2,    0.262,2,    0.009,2,    1.352,2
     06MT030_2,   A02,   451,  2,     10,  10010,2,19941021,1441, 48.1083, -19.1750, 4183,   2672.1,   3.1321,  34.9545,2,  34.9556,2,    262.8,2,    21.29,2,    18.09,2,     1.12,2,    0.441,2,    0.218,2,    0.009,2,    1.168,2
     06MT030_2,   A02,   451,  2,      9,  10004,2,19941021,1441, 48.1083, -19.1750, 4183,   2802.9,   3.0212,  34.9531,2,  34.9508,2,    255.6,2,    27.67,2,    19.35,2,     1.21,2, -999.000,9, -999.000,9, -999.000,9, -999.000,9
     06MT030_2,   A02,   451,  2,      8,     15,2,19941021,1441, 48.1083, -19.1750, 4183,   2904.1,   2.9323,  34.9500,2,  34.9510,2,    255.3,2,    27.67,2,    19.37,2,     1.22,2,    0.239,2,    0.121,2,    0.009,2,    0.729,2
     06MT030_2,   A02,   451,  2,      7,     23,2,19941021,1441, 48.1083, -19.1750, 4183,   3003.7,   2.8764,  34.9485,2,  34.9480,2,    254.7,2,    28.74,2,    19.40,2,     1.24,2, -999.000,9, -999.000,9, -999.000,9, -999.000,9
     06MT030_2,   A02,   451,  2,      6,    910,2,19941021,1441, 48.1083, -19.1750, 4183,   3253.0,   2.7536,  34.9387,2,  34.9377,2,    250.4,2,    33.66,2,    20.50,2,     1.30,2,    0.120,2,    0.062,2,    0.002,2,    0.420,2
     06MT030_2,   A02,   451,  2,      5,     12,2,19941021,1441, 48.1083, -19.1750, 4183,   3506.2,   2.6487,  34.9277,2,  34.9274,2,    248.6,2,    36.83,2,    21.00,2,     1.33,2,    0.146,4,    0.070,4,    0.035,4,    0.385,4
     06MT030_2,   A02,   451,  2,      4,      6,2,19941021,1441, 48.1083, -19.1750, 4183,   3777.8,   2.5728,  34.9177,2,  34.9167,2,    244.3,2,    40.06,2,    21.78,2,     1.41,2,    0.086,2,    0.044,2,    0.003,2,    0.215,2
     06MT030_2,   A02,   451,  2,      3,     18,2,19941021,1441, 48.1083, -19.1750, 4183,   4007.5,   2.5518,  34.9118,2,  34.9122,2,    242.7,2,    42.16,2,    22.06,2,     1.45,2,    0.065,2,    0.027,2,    0.003,2,    0.146,2
     06MT030_2,   A02,   451,  2,      2,     17,2,19941021,1441, 48.1083, -19.1750, 4183,   4108.1,   2.5458,  34.9097,2,  34.9105,2,    243.3,2,    42.70,2,    22.12,2,     1.46,2,    0.064,2,    0.023,2,   -0.001,2,    0.124,2
     06MT030_2,   A02,   451,  2,      1,     10,2,19941021,1441, 48.1083, -19.1750, 4183,   4214.1,   2.5428,  34.9087,2,  34.9093,2,    242.8,2,    43.00,2,    22.26,2,     1.46,2,    0.069,2,    0.025,2,    0.005,2,    0.106,2
     06MT030_2,   A02,   452,  1,     18, KZM085,2,19941023,0120, 47.8833, -20.9350, 4447,   1199.8,   5.3106,  35.1118,2,  35.1124,2,    242.0,2,    11.37,2,    17.78,2,     1.09,2,    1.661,2,    0.799,2,    0.062,2,    2.414,2
     06MT030_2,   A02,   452,  1,     17, KZM124,2,19941023,0120, 47.8833, -20.9350, 4447,   1301.2,   4.5749,  35.0109,2,  35.0112,2,    255.0,2,    11.28,2,    17.71,2,     1.15,2,    1.844,2,    0.875,2,    0.074,2,    2.843,2
     06MT030_2,   A02,   452,  1,     16, KZM119,2,19941023,0120, 47.8833, -20.9350, 4447,   1397.4,   4.0991,  34.9454,2,  34.9446,2,    265.1,2,    11.21,2,    17.49,2,     1.16,2, -999.000,9, -999.000,9, -999.000,9, -999.000,9
     06MT030_2,   A02,   452,  1,     15, KZM029,2,19941023,0120, 47.8833, -20.9350, 4447,   1500.7,   3.8452,  34.9192,2,  34.9189,2,    271.8,2,    11.09,2,    17.32,2,     1.14,2,    1.990,2,    0.934,2,    0.076,2,    3.285,2
     06MT030_2,   A02,   452,  1,     14, KZM115,2,19941023,0120, 47.8833, -20.9350, 4447,   1698.9,   3.5843,  34.8988,2,  34.8990,2,    278.9,2,    11.06,2,    16.98,2,     1.13,2, -999.000,9, -999.000,9, -999.000,9, -999.000,9
     06MT030_2,   A02,   452,  1,     13, KZM090,2,19941023,0120, 47.8833, -20.9350, 4447,   1798.9,   3.5213,  34.8975,2,  34.8981,2,    279.5,2,    11.15,2,    16.91,2,     1.12,2,    1.917,2,    0.921,2,    0.075,2,    3.386,2
     06MT030_2,   A02,   452,  1,     12, KZM117,2,19941023,0120, 47.8833, -20.9350, 4447,   2103.4,   3.4434,  34.9280,2,  34.9275,2,    275.3,2,    12.79,2,    16.94,2,     1.13,2, -999.000,9, -999.000,9, -999.000,9, -999.000,9
     06MT030_2,   A02,   452,  1,     10, KZM036,2,19941023,0120, 47.8833, -20.9350, 4447,   2202.3,   3.4134,  34.9417,2,  34.9425,2,    270.1,2,    14.20,2,    17.09,2,     1.15,2,    0.837,2,    0.418,2,    0.048,2,    1.960,2
     06MT030_2,   A02,   452,  1,      9, KZM114,2,19941023,0120, 47.8833, -20.9350, 4447,   2300.3,   3.3584,  34.9468,2,  34.9473,2,    267.3,2,    17.30,2,    17.59,2,     1.18,2,    0.736,2,    0.364,2,    0.014,2,    1.745,2
     06MT030_2,   A02,   452,  1,      8,  UB001,2,19941023,0120, 47.8833, -20.9350, 4447,   2402.1,   3.3014,  34.9549,2,  34.9552,2,    266.6,2,    17.27,2,    17.63,2,     1.19,2, -999.000,9, -999.000,9, -999.000,9, -999.000,9
     06MT030_2,   A02,   452,  1,      7, KZM067,2,19941023,0120, 47.8833, -20.9350, 4447,   2503.6,   3.2105,  34.9506,2,  34.9506,2,    268.3,3,    17.00,3,    17.37,3,     1.18,3,    0.649,2,    0.320,2,    0.013,2,    1.548,2
     06MT030_2,   A02,   452,  1,      6, KZM017,2,19941023,0120, 47.8833, -20.9350, 4447,   2602.6,   3.1565,  34.9571,2,  34.9564,2,    262.9,2,    19.93,2,    18.09,2,     1.23,2, -999.000,9, -999.000,9, -999.000,9, -999.000,9
     06MT030_2,   A02,   452,  1,      5, KZM128,2,19941023,0120, 47.8833, -20.9350, 4447,   2699.7,   3.0785,  34.9557,2,  34.9570,2,    261.2,2,    21.95,2,    18.40,2,     1.26,2,    0.373,2,    0.184,2,    0.003,2,    1.010,2
     06MT030_2,   A02,   452,  1,      4, KZM056,2,19941023,0120, 47.8833, -20.9350, 4447,   2993.5,   2.8506,  34.9478,2,  34.9462,2,    256.1,2,    27.25,2,    19.34,2,     1.32,2,    0.299,2,    0.144,2,    0.002,2,    0.763,2
     06MT030_2,   A02,   452,  1,      3, KZM061,2,19941023,0120, 47.8833, -20.9350, 4447,   3407.4,   2.6557,  34.9302,2,  34.9293,2,    249.8,2,    34.32,2,    20.78,2,     1.42,2,    0.156,2,    0.071,2,    0.004,2,    0.413,2
     06MT030_2,   A02,   452,  1,      2, KZM052,2,19941023,0120, 47.8833, -20.9350, 4447,   3805.5,   2.5728,  34.9178,2,  34.9176,2,    247.9,2,    38.73,2,    21.63,2,     1.52,2,    0.067,2,    0.031,2,    0.008,2,    0.191,2
     06MT030_2,   A02,   452,  1,      1, KZM038,2,19941023,0120, 47.8833, -20.9350, 4447,   4201.9,   2.5488,  34.9096,2,  34.9092,2,    242.8,2,    40.88,2,    22.09,2,     1.55,2,    0.069,2,    0.022,2,    0.073,4,    0.110,2
     06MT030_2,   A02,   452,  2,     20,  10027,2,19941023,0520, 47.8883, -20.9300, 4448,     29.4,  15.1555,  35.5009,2,-999.0000,9,   -999.0,9,  -999.00,9,  -999.00,9,  -999.00,9, -999.000,9, -999.000,9, -999.000,9, -999.000,9
     06MT030_2,   A02,   452,  2,     19,  10017,2,19941023,0520, 47.8883, -20.9300, 4448,     69.0,  13.2073,  35.6369,2,  35.6402,2,    226.7,2,     3.18,2,     7.77,2,     0.45,2, -999.000,9, -999.000,9, -999.000,9, -999.000,9
     06MT030_2,   A02,   452,  2,     18,  10020,2,19941023,0520, 47.8883, -20.9300, 4448,     88.6,  12.4301,  35.6078,2,  35.6101,2,    229.2,2,     4.28,2,     9.59,2,     0.56,2, -999.000,9, -999.000,9, -999.000,9, -999.000,9
     06MT030_2,   A02,   452,  2,     17,  10009,2,19941023,0520, 47.8883, -20.9300, 4448,    149.2,  11.5870,  35.5102,2,  35.5091,2,    230.8,2,     5.26,2,    11.05,2,     0.67,2,    2.928,2,    1.530,2,    0.193,2,    1.946,2
     06MT030_2,   A02,   452,  2,     16,  10091,2,19941023,0520, 47.8883, -20.9300, 4448,    394.3,  10.1745,  35.3542,2,  35.3589,3,    242.4,2,     6.35,2,    12.29,2,     0.78,2,    3.128,2,    1.607,2,    0.202,2,    2.445,2
     06MT030_2,   A02,   452,  2,     15,  10025,2,19941023,0520, 47.8883, -20.9300, 4448,    595.9,   8.5833,  35.1698,2,  35.1680,2,    239.7,2,     8.27,2,    14.83,2,     0.96,2,    2.922,2,    1.470,2,    0.192,2,    2.802,2
     06MT030_2,   A02,   452,  2,     14,      2,2,19941023,0520, 47.8883, -20.9300, 4448,    744.9,   6.8234,  34.9895,2,  34.9880,2,    221.8,2,    10.81,2,    18.08,2,     1.19,2,    2.420,2,    1.187,2,    0.143,2,    2.732,2
     06MT030_2,   A02,   452,  2,     13,  10003,2,19941023,0520, 47.8883, -20.9300, 4448,    895.1,   7.1829,  35.2558,2,  35.2589,2,    210.3,2,    11.23,2,    18.26,2,     1.18,2,    1.582,2,    0.763,2,    0.060,2,    1.769,2
     06MT030_2,   A02,   452,  2,     12,  10026,2,19941023,0520, 47.8883, -20.9300, 4448,   1035.2,   6.5347,  35.2620,2,  35.2628,2,    222.8,2,    11.31,2,    17.91,2,     1.16,2,    1.512,2,    0.728,2,    0.055,2,    1.918,2
     06MT030_2,   A02,   452,  2,     11,  10008,2,19941023,0520, 47.8883, -20.9300, 4448,   1094.1,   6.2680,  35.2385,2,  35.2383,2,    226.9,2,    11.28,2,    17.88,2,     1.16,2,    1.546,2,    0.754,2,    0.077,4,    2.019,2
     06MT030_2,   A02,   452,  2,     10,  10010,2,19941023,0520, 47.8883, -20.9300, 4448,   1197.9,   5.5439,  35.1476,2,  35.1471,2,    238.1,2,    11.36,2,    17.74,2,     1.17,2,    1.592,2,    0.766,2,    0.058,2,    2.326,2
     06MT030_2,   A02,   452,  2,      9,  10004,2,19941023,0520, 47.8883, -20.9300, 4448,   1295.8,   4.9597,  35.0751,2,  35.0712,2,    250.0,2,    11.49,2,    17.75,2,     1.14,2,    1.630,2,    0.783,2,    0.060,2,    2.556,2
     06MT030_2,   A02,   452,  2,      8,     15,2,19941023,0520, 47.8883, -20.9300, 4448,   1396.0,   4.1447,  34.9529,2,  34.9236,3,    270.6,2,    11.11,2,    17.32,2,     1.15,3,    2.006,2,    0.949,2,    0.077,2,    3.304,2
     06MT030_2,   A02,   452,  2,      7,     23,2,19941023,0520, 47.8883, -20.9300, 4448,   1497.2,   3.8940,  34.9253,2,  34.9244,2,    271.1,2,    11.01,2,    17.17,2,     1.15,2,    1.998,2,    0.954,2,    0.078,2,    3.294,2
     06MT030_2,   A02,   452,  2,      6,    910,2,19941023,0520, 47.8883, -20.9300, 4448,   1799.9,   3.5215,  34.9006,2,  34.9048,3,    278.2,2,    11.17,2,    16.79,2,     1.13,2,    1.889,2,    0.899,2,    0.074,2,    3.322,2
     06MT030_2,   A02,   452,  2,      5,     12,2,19941023,0520, 47.8883, -20.9300, 4448,   3807.0,   2.5728,  34.9195,2,  34.9701,4,   -999.0,9,  -999.00,9,  -999.00,9,  -999.00,9, -999.000,9, -999.000,9, -999.000,9, -999.000,9
     06MT030_2,   A02,   452,  2,      4,      6,2,19941023,0520, 47.8883, -20.9300, 4448,   4006.8,   2.5528,  34.9130,2,  34.9129,2,    243.2,2,    40.36,2,    21.85,2,     1.51,2,    0.050,2,    0.020,2,    0.004,2,    0.133,2
     06MT030_2,   A02,   452,  2,      3,     18,2,19941023,0520, 47.8883, -20.9300, 4448,   4206.7,   2.5538,  34.9112,2,  34.9372,3,   -999.0,9,  -999.00,9,  -999.00,9,  -999.00,9, -999.000,9, -999.000,9, -999.000,9, -999.000,9
     06MT030_2,   A02,   452,  2,      2,     17,2,19941023,0520, 47.8883, -20.9300, 4448,   4507.6,   2.5628,  34.9076,2,  34.9084,2,    242.8,2,    41.69,2,    22.13,2,     1.55,2,    0.056,2,    0.020,2,    0.025,4,    0.088,2
     06MT030_2,   A02,   453,  1,     18,  10020,2,19941023,1310, 47.7000, -22.0933, 4434,   4306.3,   2.5838,  34.9120,2,  34.9126,2,    242.8,2,    41.01,2,    21.86,2,     1.54,2, -999.000,9, -999.000,9, -999.000,9, -999.000,9
     06MT030_2,   A02,   453,  1,      3,     18,2,19941023,1310, 47.7000, -22.0933, 4434,   4306.4,   2.5838,  34.9118,2,  34.9129,2,    243.8,2,    40.19,2,    21.86,2,     1.55,2, -999.000,9, -999.000,9, -999.000,9, -999.000,9
     06MT030_2,   A02,   453,  1,      4,      6,2,19941023,1310, 47.7000, -22.0933, 4434,   4306.7,   2.5838,  34.9123,2,  34.9127,2,    242.9,2,    40.31,2,    21.92,2,     1.55,2, -999.000,9, -999.000,9, -999.000,9, -999.000,9
     06MT030_2,   A02,   453,  1,      2,     17,2,19941023,1310, 47.7000, -22.0933, 4434,   4306.8,   2.5828,  34.9123,2,  34.9125,2,    243.7,2,    40.01,2,    21.90,2,     1.56,2, -999.000,9, -999.000,9, -999.000,9, -999.000,9
     06MT030_2,   A02,   453,  1,      5, KZM128,2,19941023,1310, 47.7000, -22.0933, 4434,   4307.2,   2.5838,  34.9121,2,  34.9120,2,    243.5,2,    40.44,2,    21.88,2,     1.55,2, -999.000,9, -999.000,9, -999.000,9, -999.000,9
     06MT030_2,   A02,   453,  1,     17,  10009,2,19941023,1310, 47.7000, -22.0933, 4434,   4307.4,   2.5838,  34.9120,2,  34.9117,2,    242.3,2,    40.70,2,    21.87,2,     1.54,2, -999.000,9, -999.000,9, -999.000,9, -999.000,9
     06MT030_2,   A02,   453,  1,     16,  10021,2,19941023,1310, 47.7000, -22.0933, 4434,   4307.5,   2.5838,  34.9121,2,  34.9114,2,    242.8,2,    40.62,2,    21.90,2,     1.55,2, -999.000,9, -999.000,9, -999.000,9, -999.000,9
     06MT030_2,   A02,   453,  1,      1,     10,2,19941023,1310, 47.7000, -22.0933, 4434,   4307.5,   2.5838,  34.9116,2,  34.9123,2,    243.2,2,    40.22,2,    22.00,2,     1.56,2, -999.000,9, -999.000,9, -999.000,9, -999.000,9
     06MT030_2,   A02,   453,  1,     20,  10027,2,19941023,1310, 47.7000, -22.0933, 4434,   4307.6,   2.5838,  34.9115,2,  34.9117,2,    242.6,2,    40.65,2,    21.98,2,     1.54,2, -999.000,9, -999.000,9, -999.000,9, -999.000,9
     06MT030_2,   A02,   453,  1,     19,  10017,2,19941023,1310, 47.7000, -22.0933, 4434,   4308.0,   2.5838,  34.9117,2,  34.9118,2,    242.8,2,    40.98,2,    21.96,2,     1.54,2, -999.000,9, -999.000,9, -999.000,9, -999.000,9
     06MT030_2,   A02,   453,  1,      6,    910,2,19941023,1310, 47.7000, -22.0933, 4434,   4308.3,   2.5838,  34.9116,2,  34.9115,2,    242.8,2,    40.28,2,    21.84,2,     1.55,2, -999.000,9, -999.000,9, -999.000,9, -999.000,9
     06MT030_2,   A02,   453,  1,     21,  10002,2,19941023,1310, 47.7000, -22.0933, 4434,   4308.7,   2.5838,  34.9115,2,  34.9117,2,    242.4,2,    40.70,2,    21.97,2,     1.53,2, -999.000,9, -999.000,9, -999.000,9, -999.000,9
     06MT030_2,   A02,   453,  1,     22,  10023,2,19941023,1310, 47.7000, -22.0933, 4434,   4309.1,   2.5838,  34.9114,2,  34.9122,2,    242.9,2,    40.79,2,    21.95,2,     1.52,2, -999.000,9, -999.000,9, -999.000,9, -999.000,9
     06MT030_2,   A02,   453,  1,     15,  10025,2,19941023,1310, 47.7000, -22.0933, 4434,   4309.4,   2.5838,  34.9118,2,  34.9112,2,    242.3,2,    40.83,2,    22.09,2,     1.55,2, -999.000,9, -999.000,9, -999.000,9, -999.000,9
     06MT030_2,   A02,   453,  1,      7,     23,2,19941023,1310, 47.7000, -22.0933, 4434,   4309.4,   2.5838,  34.9115,2,  34.9119,2,    242.9,2,    40.22,2,    21.82,2,     1.55,2, -999.000,9, -999.000,9, -999.000,9, -999.000,9
     06MT030_2,   A02,   453,  1,     23,  10013,2,19941023,1310, 47.7000, -22.0933, 4434,   4309.9,   2.5838,  34.9114,2,  34.9123,2,    242.9,2,    40.94,2,    21.90,2,     1.51,2, -999.000,9, -999.000,9, -999.000,9, -999.000,9
     06MT030_2,   A02,   453,  1,     14,      2,2,19941023,1310, 47.7000, -22.0933, 4434,   4309.9,   2.5838,  34.9120,2,  34.9116,2,    243.1,2,    41.20,3,    22.01,2,     1.54,2, -999.000,9, -999.000,9, -999.000,9, -999.000,9
     06MT030_2,   A02,   453,  1,     24,     21,2,19941023,1310, 47.7000, -22.0933, 4434,   4310.1,   2.5828,  34.9119,2,  34.9122,2,    243.0,2,    40.61,2,    21.83,2,     1.43,2, -999.000,9, -999.000,9, -999.000,9, -999.000,9
     06MT030_2,   A02,   453,  1,     13,  10003,2,19941023,1310, 47.7000, -22.0933, 4434,   4311.5,   2.5838,  34.9122,2,  34.9116,2,    243.1,2,    40.53,2,    21.89,2,     1.55,2, -999.000,9, -999.000,9, -999.000,9, -999.000,9
     06MT030_2,   A02,   453,  1,     12,  10026,2,19941023,1310, 47.7000, -22.0933, 4434,   4311.9,   2.5838,  34.9124,2,  34.9119,2,    244.0,2,    40.76,2,    21.88,2,     1.55,2, -999.000,9, -999.000,9, -999.000,9, -999.000,9
     06MT030_2,   A02,   453,  1,     11,  10008,2,19941023,1310, 47.7000, -22.0933, 4434,   4312.0,   2.5838,  34.9125,2,  34.9117,2,    243.0,2,    40.75,2,    21.79,2,     1.55,2, -999.000,9, -999.000,9, -999.000,9, -999.000,9
     06MT030_2,   A02,   453,  1,      9,  10004,2,19941023,1310, 47.7000, -22.0933, 4434,   4312.2,   2.5838,  34.9124,2,  34.9122,2,    245.0,2,    40.34,2,    21.86,2,     1.55,2, -999.000,9, -999.000,9, -999.000,9, -999.000,9
     06MT030_2,   A02,   453,  1,     10,  10010,2,19941023,1310, 47.7000, -22.0933, 4434,   4312.4,   2.5838,  34.9125,2,  34.9118,2,    242.9,2,    40.55,2,    21.78,2,     1.55,2, -999.000,9, -999.000,9, -999.000,9, -999.000,9
     06MT030_2,   A02,   453,  1,      8,     15,2,19941023,1310, 47.7000, -22.0933, 4434,   4312.6,   2.5838,  34.9125,2,  34.9117,2,    243.0,2,    40.25,2,    21.78,2,     1.55,2, -999.000,9, -999.000,9, -999.000,9, -999.000,9