BOTTLE,20010917WHPSIOKJU
EXPOCODE,SECT_ID,STNNBR,CASTNO,SAMPNO,BTLNBR,BTLNBR_FLAG_W,DATE,TIME,LATITUDE,LONGITUDE,DEPTH,CTDPRS,CTDTMP,CTDSAL,CTDSAL_FLAG_W,SALNTY,SALNTY_FLAG_W,OXYGEN,OXYGEN_FLAG_W,SILCAT,SILCAT_FLAG_W,NITRAT,NITRAT_FLAG_W,PHSPHT,PHSPHT_FLAG_W,CFC-11,CFC-11_FLAG_W,CFC-12,CFC-12_FLAG_W,CFC113,CFC113_FLAG_W,CCL4,CCL4_FLAG_W
,,,,,,,,,,,,DBAR,ITS-90,PSS-78,,PSS-78,,UMOL/KG,,UMOL/KG,,UMOL/KG,,UMOL/KG,,PMOL/L,,PMOL/L,,PMOL/L,,PMOL/L,
     06MT030_2,   A02,   476,  1,     24, KZM012,2,19941102,2213, 44.2817, -37.0433, 4054,   3300.9,   2.5778,  34.9192,2,  34.9185,2,    277.1,2,    19.11,2,    16.58,2,     1.09,2, -999.000,9, -999.000,9, -999.000,9, -999.000,9
     06MT030_2,   A02,   476,  1,     21, KZM040,2,19941102,2213, 44.2817, -37.0433, 4054,   3300.9,   2.5778,  34.9187,2,  34.9181,2,    277.6,2,    19.09,2,    16.59,2,     1.12,2, -999.000,9, -999.000,9, -999.000,9, -999.000,9
     06MT030_2,   A02,   476,  1,     23, KZM125,2,19941102,2213, 44.2817, -37.0433, 4054,   3301.8,   2.5778,  34.9190,2,  34.9186,2,    276.8,2,    19.14,2,    16.56,2,     1.10,2, -999.000,9, -999.000,9, -999.000,9, -999.000,9
     06MT030_2,   A02,   476,  1,     16, KZM114,2,19941102,2213, 44.2817, -37.0433, 4054,   3301.9,   2.5768,  34.9192,2,  34.9189,2,    276.7,2,    19.04,2,    16.50,2,     1.13,2, -999.000,9, -999.000,9, -999.000,9, -999.000,9
     06MT030_2,   A02,   476,  1,     14,      2,2,19941102,2213, 44.2817, -37.0433, 4054,   3302.2,   2.5778,  34.9184,2,  34.9187,2,    276.3,2,    19.01,2,    16.54,2,     1.13,2, -999.000,9, -999.000,9, -999.000,9, -999.000,9
     06MT030_2,   A02,   476,  1,     22, KZM033,2,19941102,2213, 44.2817, -37.0433, 4054,   3302.3,   2.5778,  34.9188,2,  34.9190,2,    276.3,2,    19.13,2,    16.57,2,     1.12,2, -999.000,9, -999.000,9, -999.000,9, -999.000,9
     06MT030_2,   A02,   476,  1,      5,  UB319,2,19941102,2213, 44.2817, -37.0433, 4054,   3302.3,   2.5778,  34.9186,2,  34.9184,2,    275.7,2,    18.98,2,    16.55,2,     1.15,2, -999.000,9, -999.000,9, -999.000,9, -999.000,9
     06MT030_2,   A02,   476,  1,     17, KZM124,2,19941102,2213, 44.2817, -37.0433, 4054,   3302.4,   2.5778,  34.9184,2,  34.9189,2,    277.0,2,    19.05,2,    16.48,2,     1.13,2, -999.000,9, -999.000,9, -999.000,9, -999.000,9
     06MT030_2,   A02,   476,  1,      3, KZM061,2,19941102,2213, 44.2817, -37.0433, 4054,   3302.4,   2.5778,  34.9189,2,  34.9189,2,    276.4,2,    19.00,2,    16.55,2,     1.14,2, -999.000,9, -999.000,9, -999.000,9, -999.000,9
     06MT030_2,   A02,   476,  1,      7, KZM067,2,19941102,2213, 44.2817, -37.0433, 4054,   3302.5,   2.5768,  34.9193,2,  34.9185,2,    276.5,2,    19.03,2,    16.58,2,     1.14,2, -999.000,9, -999.000,9, -999.000,9, -999.000,9
     06MT030_2,   A02,   476,  1,     20, KZM097,2,19941102,2213, 44.2817, -37.0433, 4054,   3302.6,   2.5778,  34.9186,2,  34.9187,2,    277.0,2,    19.05,2,    16.50,2,     1.13,2, -999.000,9, -999.000,9, -999.000,9, -999.000,9
     06MT030_2,   A02,   476,  1,      1, KZM038,2,19941102,2213, 44.2817, -37.0433, 4054,   3302.6,   2.5778,  34.9191,2,  34.9187,2,    277.1,2,    18.92,2,    16.59,2,     1.14,2, -999.000,9, -999.000,9, -999.000,9, -999.000,9
     06MT030_2,   A02,   476,  1,      6, KZM017,2,19941102,2213, 44.2817, -37.0433, 4054,   3302.7,   2.5768,  34.9192,2,  34.9187,2,    276.6,2,    18.99,2,    16.56,2,     1.14,2, -999.000,9, -999.000,9, -999.000,9, -999.000,9
     06MT030_2,   A02,   476,  1,     19, KZM126,2,19941102,2213, 44.2817, -37.0433, 4054,   3303.0,   2.5778,  34.9184,2,  34.9186,2,    277.2,2,    19.08,2,    16.51,2,     1.12,2, -999.000,9, -999.000,9, -999.000,9, -999.000,9
     06MT030_2,   A02,   476,  1,     18, KZM085,2,19941102,2213, 44.2817, -37.0433, 4054,   3303.1,   2.5768,  34.9193,2,  34.9177,2,    276.6,2,    19.07,2,    16.53,2,     1.13,2, -999.000,9, -999.000,9, -999.000,9, -999.000,9
     06MT030_2,   A02,   476,  1,      4, KZM056,2,19941102,2213, 44.2817, -37.0433, 4054,   3303.1,   2.5778,  34.9184,2,  34.9184,2,    276.3,2,    18.94,2,    16.51,2,     1.15,2, -999.000,9, -999.000,9, -999.000,9, -999.000,9
     06MT030_2,   A02,   476,  1,     13, KZM090,2,19941102,2213, 44.2817, -37.0433, 4054,   3303.3,   2.5768,  34.9190,2,  34.9185,2,    276.4,2,    19.04,2,    16.50,2,     1.13,2, -999.000,9, -999.000,9, -999.000,9, -999.000,9
     06MT030_2,   A02,   476,  1,     12, KZM117,2,19941102,2213, 44.2817, -37.0433, 4054,   3303.5,   2.5778,  34.9183,2,  34.9188,2,    276.4,2,    19.03,2,    16.50,2,     1.13,2, -999.000,9, -999.000,9, -999.000,9, -999.000,9
     06MT030_2,   A02,   476,  1,      8,  UB001,2,19941102,2213, 44.2817, -37.0433, 4054,   3303.6,   2.5768,  34.9190,2,  34.9180,2,    276.0,2,    19.02,2,    16.53,2,     1.14,2, -999.000,9, -999.000,9, -999.000,9, -999.000,9
     06MT030_2,   A02,   476,  1,     15, KZM029,2,19941102,2213, 44.2817, -37.0433, 4054,   3303.7,   2.5768,  34.9193,2,  34.9285,4,    275.7,2,    18.48,2,    16.40,2,     1.12,2, -999.000,9, -999.000,9, -999.000,9, -999.000,9
     06MT030_2,   A02,   476,  1,      2, KZM052,2,19941102,2213, 44.2817, -37.0433, 4054,   3303.8,   2.5778,  34.9193,2,  34.9179,2,    276.3,2,    18.98,2,    16.57,2,     1.13,2, -999.000,9, -999.000,9, -999.000,9, -999.000,9
     06MT030_2,   A02,   476,  1,      9, KZM036,3,19941102,2213, 44.2817, -37.0433, 4054,   3304.3,   2.5768,  34.9188,2,  35.0569,4,   -999.0,9,  -999.00,9,  -999.00,9,  -999.00,9, -999.000,9, -999.000,9, -999.000,9, -999.000,9
     06MT030_2,   A02,   476,  1,     11, KZM008,2,19941102,2213, 44.2817, -37.0433, 4054,   3304.4,   2.5768,  34.9190,2,  34.9183,2,    276.6,2,    19.06,2,    16.50,2,     1.13,2, -999.000,9, -999.000,9, -999.000,9, -999.000,9
     06MT030_2,   A02,   476,  2,     14,  10025,2,19941103,0034, 44.2800, -37.0417, 4060,      9.2,  17.2646,  35.2715,2,  35.2681,2,    238.6,2,     1.75,2,     0.02,2,     0.06,2, -999.000,9, -999.000,9, -999.000,9, -999.000,9
     06MT030_2,   A02,   476,  2,     13,     22,2,19941103,0034, 44.2800, -37.0417, 4060,     29.9,  17.2656,  35.2707,2,  35.2673,2,    238.7,2,     1.72,2,     0.01,2,     0.05,2, -999.000,9, -999.000,9, -999.000,9, -999.000,9
     06MT030_2,   A02,   476,  2,     12,  10003,2,19941103,0034, 44.2800, -37.0417, 4060,     47.8,  17.2766,  35.2839,2,  35.2789,2,    238.1,2,     1.71,2,     0.06,2,     0.06,2, -999.000,9, -999.000,9, -999.000,9, -999.000,9
     06MT030_2,   A02,   476,  2,     11,  10026,2,19941103,0034, 44.2800, -37.0417, 4060,     78.4,  16.0557,  36.0387,2,  36.0409,2,    200.8,2,     3.37,2,     5.90,2,     0.33,2, -999.000,9, -999.000,9, -999.000,9, -999.000,9
     06MT030_2,   A02,   476,  2,     10,  10008,2,19941103,0034, 44.2800, -37.0417, 4060,    137.4,  14.6020,  35.8812,2,  35.8691,3,    209.9,2,     4.40,2,     8.07,2,     0.48,2, -999.000,9, -999.000,9, -999.000,9, -999.000,9
     06MT030_2,   A02,   476,  2,      9,  10010,2,19941103,0034, 44.2800, -37.0417, 4060,    188.8,  13.2743,  35.6585,2,  35.6615,2,    199.2,2,     5.91,2,    10.97,2,     0.67,2, -999.000,9, -999.000,9, -999.000,9, -999.000,9
     06MT030_2,   A02,   476,  2,      8,  10004,2,19941103,0034, 44.2800, -37.0417, 4060,    298.4,  10.9696,  35.3250,2,  35.3224,2,    208.0,2,     7.50,2,    13.14,2,     0.86,2, -999.000,9, -999.000,9, -999.000,9, -999.000,9
     06MT030_2,   A02,   476,  2,      7,     15,2,19941103,0034, 44.2800, -37.0417, 4060,    398.1,   9.6910,  35.2127,2,  35.2140,2,    193.7,2,    10.06,2,    17.10,2,     1.10,2, -999.000,9, -999.000,9, -999.000,9, -999.000,9
     06MT030_2,   A02,   476,  2,      6,     23,2,19941103,0034, 44.2800, -37.0417, 4060,    476.2,   8.4994,  35.0704,2,  35.0666,2,    193.9,2,    11.42,2,    18.66,2,     1.22,2, -999.000,9, -999.000,9, -999.000,9, -999.000,9
     06MT030_2,   A02,   476,  2,      5,    910,2,19941103,0034, 44.2800, -37.0417, 4060,    529.8,   7.4756,  34.9780,2,  34.9736,2,    198.1,2,    12.32,2,    19.47,2,     1.27,2, -999.000,9, -999.000,9, -999.000,9, -999.000,9
     06MT030_2,   A02,   476,  2,      4,      6,2,19941103,0034, 44.2800, -37.0417, 4060,    636.7,   6.8054,  35.0305,2,  35.0284,2,    197.2,2,    13.57,2,    20.66,2,     1.34,2, -999.000,9, -999.000,9, -999.000,9, -999.000,9
     06MT030_2,   A02,   476,  2,      2,     17,2,19941103,0034, 44.2800, -37.0417, 4060,    893.7,   5.2633,  35.0505,2,  35.0486,2,    239.2,2,    12.53,2,    18.51,2,     1.21,2, -999.000,9, -999.000,9, -999.000,9, -999.000,9
     06MT030_2,   A02,   476,  2,      1,     10,2,19941103,0034, 44.2800, -37.0417, 4060,   1145.8,   4.2995,  34.9712,2,  34.9709,2,    261.9,2,    12.15,2,    17.67,2,     1.17,2, -999.000,9, -999.000,9, -999.000,9, -999.000,9
     06MT030_2,   A02,   476,  3,     24, KZM012,2,19941103,0308, 44.2817, -37.0433, 4054,    799.1,   5.5785,  35.0304,2,  35.0286,2,    226.6,2,    12.77,2,    18.93,2,     1.26,2, -999.000,9, -999.000,9, -999.000,9, -999.000,9
     06MT030_2,   A02,   476,  3,     23, KZM125,2,19941103,0308, 44.2817, -37.0433, 4054,    899.6,   5.2366,  35.0497,2,  35.0473,2,    238.2,2,    12.46,2,    18.35,2,     1.22,2,    1.465,2,    0.807,2,    0.072,2,    1.952,2
     06MT030_2,   A02,   476,  3,     22, KZM033,2,19941103,0308, 44.2817, -37.0433, 4054,   1100.1,   4.3220,  34.9727,2,  34.9724,2,    260.3,2,    12.14,2,    17.72,2,     1.19,2, -999.000,9, -999.000,9, -999.000,9, -999.000,9
     06MT030_2,   A02,   476,  3,     21, KZM040,2,19941103,0308, 44.2817, -37.0433, 4054,   1298.2,   3.8842,  34.9328,2,  34.9320,2,    268.5,2,    11.95,2,    17.31,2,     1.16,2, -999.000,9, -999.000,9, -999.000,9, -999.000,9
     06MT030_2,   A02,   476,  3,     20, KZM097,2,19941103,0308, 44.2817, -37.0433, 4054,   1501.0,   3.6413,  34.9151,2,  34.9157,2,    276.6,2,    12.04,2,    17.05,2,     1.15,2,    1.802,2,    0.996,2,    0.097,2,    2.806,2
     06MT030_2,   A02,   476,  3,     19, KZM126,2,19941103,0308, 44.2817, -37.0433, 4054,   1701.3,   3.4574,  34.9006,2,  34.9003,2,    281.7,2,    12.04,2,    16.78,2,     1.14,2, -999.000,9, -999.000,9, -999.000,9, -999.000,9
     06MT030_2,   A02,   476,  3,     18, KZM085,2,19941103,0308, 44.2817, -37.0433, 4054,   1901.7,   3.3414,  34.8963,2,  34.8956,2,    283.9,2,    12.18,2,    16.74,2,     1.13,2,    1.878,2,    1.033,2,    0.110,2,    2.907,2
     06MT030_2,   A02,   476,  3,     17, KZM124,2,19941103,0308, 44.2817, -37.0433, 4054,   2002.7,   3.2814,  34.8929,2,  34.8916,2,    284.7,2,    12.16,2,    16.60,2,     1.13,2, -999.000,9, -999.000,9, -999.000,9, -999.000,9
     06MT030_2,   A02,   476,  3,     16, KZM114,2,19941103,0308, 44.2817, -37.0433, 4054,   2052.5,   3.2774,  34.8967,2,  34.8962,2,    283.8,2,    12.39,2,    16.61,2,     1.14,2,    1.845,2,    1.013,2,    0.105,2,    2.880,2
     06MT030_2,   A02,   476,  3,     15, KZM029,2,19941103,0308, 44.2817, -37.0433, 4054,   2200.6,   3.2175,  34.8966,2,-999.0000,9,   -999.0,9,  -999.00,9,  -999.00,9,  -999.00,9, -999.000,9, -999.000,9, -999.000,9, -999.000,9
     06MT030_2,   A02,   476,  3,     14,      2,2,19941103,0308, 44.2817, -37.0433, 4054,   2302.3,   3.2275,  34.9053,2,  34.9058,2,    282.2,2,    12.90,2,    16.47,2,     1.13,2,    1.594,2,    0.883,2,    0.090,2,    2.585,2
     06MT030_2,   A02,   476,  3,     13, KZM090,2,19941103,0308, 44.2817, -37.0433, 4054,   2402.7,   3.2415,  34.9187,2,  34.9181,2,    279.1,2,    13.55,2,    16.55,2,     1.14,2,    1.250,2,    0.692,2,    0.061,2,    2.206,2
     06MT030_2,   A02,   476,  3,     12, KZM117,2,19941103,0308, 44.2817, -37.0433, 4054,   2500.5,   3.2135,  34.9248,2,  34.9245,2,    277.3,2,    14.00,2,    16.57,2,     1.13,2,    1.086,2,    0.608,2,    0.063,2,    2.017,2
     06MT030_2,   A02,   476,  3,     11, KZM008,2,19941103,0308, 44.2817, -37.0433, 4054,   2602.4,   3.1655,  34.9270,2,  34.9280,2,    277.0,2,    14.19,2,    16.42,2,     1.13,2,    1.188,2,    0.590,2,    0.050,2,    2.318,2
     06MT030_2,   A02,   476,  3,      9, KZM036,2,19941103,0308, 44.2817, -37.0433, 4054,   2802.0,   3.0415,  34.9305,2,  34.9313,2,   -999.0,9,  -999.00,9,  -999.00,9,  -999.00,9, -999.000,9, -999.000,9, -999.000,9, -999.000,9
     06MT030_2,   A02,   476,  3,      8,  UB001,2,19941103,0308, 44.2817, -37.0433, 4054,   3001.7,   2.8696,  34.9292,2,-999.0000,9,    276.0,2,    16.17,2,    16.35,2,     1.13,2,    0.967,2,    0.477,2,    0.038,2,    2.001,2
     06MT030_2,   A02,   476,  3,      7, KZM067,2,19941103,0308, 44.2817, -37.0433, 4054,   3202.6,   2.7157,  34.9258,2,  34.9264,2,    275.1,2,    18.64,2,    16.67,2,     1.16,2, -999.000,9, -999.000,9, -999.000,9, -999.000,9
     06MT030_2,   A02,   476,  3,      6, KZM017,2,19941103,0308, 44.2817, -37.0433, 4054,   3402.0,   2.4988,  34.9149,2,  34.9163,2,    275.7,2,    20.28,2,    16.67,2,     1.17,2, -999.000,9, -999.000,9, -999.000,9, -999.000,9
     06MT030_2,   A02,   476,  3,      5,  UB319,2,19941103,0308, 44.2817, -37.0433, 4054,   3602.0,   2.3938,  34.9097,2,  34.9104,2,    274.3,2,    23.07,2,    17.13,2,     1.19,2,    0.955,4,    0.521,4,    0.113,4,    1.946,2
     06MT030_2,   A02,   476,  3,      4, KZM056,2,19941103,0308, 44.2817, -37.0433, 4054,   3802.9,   2.3379,  34.9052,2,  34.9060,2,    258.4,3,    23.55,3,    17.08,3,     1.19,2,    0.772,2,    0.385,2,    0.036,2,    1.710,2
     06MT030_2,   A02,   476,  3,      3, KZM061,2,19941103,0308, 44.2817, -37.0433, 4054,   3905.6,   2.3249,  34.9038,2,  34.9036,2,    285.2,3,    23.34,2,    17.00,2,     1.19,2,    0.848,2,    0.419,2,    0.042,2,    1.796,2
     06MT030_2,   A02,   476,  3,      2, KZM052,2,19941103,0308, 44.2817, -37.0433, 4054,   4092.5,   2.3099,  34.9019,2,  34.9019,2,    276.3,2,    22.96,2,    16.83,2,     1.18,2,    0.990,2,    0.486,2,    0.050,2,    2.002,2
     06MT030_2,   A02,   476,  3,      1, KZM038,2,19941103,0308, 44.2817, -37.0433, 4054,   4108.9,   2.2969,  34.9012,2,  34.9008,2,    278.8,2,    21.98,2,    16.61,2,     1.16,2,    1.190,2,    0.595,2,    0.080,3,    2.296,2
     06MT030_2,   A02,   477,  1,     24, KZM012,2,19941103,1046, 43.9950, -37.9967, 4306,      9.3,  17.2500,  35.2887,2,  35.2828,2,    239.6,2,     1.36,2,     0.00,2,     0.06,2,    2.522,2,    1.371,2,    0.202,2,    3.452,2
     06MT030_2,   A02,   477,  1,     23, KZM125,2,19941103,1046, 43.9950, -37.9967, 4306,     75.6,  16.7061,  36.0201,2,  36.0071,3,    212.4,2,     2.17,2,     3.27,2,     0.20,2,    2.423,2,    1.295,2,    0.143,2,    1.402,2
     06MT030_2,   A02,   477,  1,     22, KZM033,2,19941103,1046, 43.9950, -37.9967, 4306,    150.8,  15.3494,  36.0522,2,  36.0464,2,    213.9,2,     3.47,2,     6.78,2,     0.39,2,    2.401,2,    1.281,2,    0.126,2,    1.265,2
     06MT030_2,   A02,   477,  1,     21, KZM040,2,19941103,1046, 43.9950, -37.9967, 4306,    393.2,  10.9845,  35.3251,2,  35.3246,2,    198.0,2,     7.62,2,    14.26,2,     0.91,2, -999.000,9, -999.000,9, -999.000,9, -999.000,9
     06MT030_2,   A02,   477,  1,     20, KZM097,2,19941103,1046, 43.9950, -37.9967, 4306,    454.2,  10.7226,  35.3799,2,  35.3764,2,    213.3,2,     7.65,2,    14.20,2,     0.92,2,    2.418,2,    1.250,2,    0.139,2,    1.719,2
     06MT030_2,   A02,   477,  1,     19, KZM126,2,19941103,1046, 43.9950, -37.9967, 4306,    650.8,   7.8076,  35.0942,2,  35.0917,2,    184.3,2,    12.85,2,    20.92,2,     1.34,2,    1.387,2,    0.680,2,    0.064,2,    1.422,2
     06MT030_2,   A02,   477,  1,     18, KZM085,2,19941103,1046, 43.9950, -37.9967, 4306,    800.4,   6.2722,  35.0644,2,  35.0636,2,    209.8,2,    12.98,2,    19.97,2,     1.30,2,    1.468,2,    0.708,2,    0.073,2,    1.869,2
     06MT030_2,   A02,   477,  1,     17, KZM124,2,19941103,1046, 43.9950, -37.9967, 4306,    929.5,   5.9193,  35.1178,2,  35.1155,2,    223.7,2,    12.51,2,    19.06,2,     1.24,2,    1.441,2,    0.701,2,    0.069,2,    2.003,2
     06MT030_2,   A02,   477,  1,     16, KZM114,2,19941103,1046, 43.9950, -37.9967, 4306,   1021.8,   5.1066,  35.0291,2,  35.0274,2,    240.5,2,    12.37,2,    18.64,2,     1.23,2,    1.778,2,    0.853,2,    0.106,2,    2.629,2
     06MT030_2,   A02,   477,  1,     15, KZM029,2,19941103,1046, 43.9950, -37.9967, 4306,   1280.7,   4.1630,  34.9527,2,  34.9518,2,    265.2,2,    11.75,2,    17.76,2,     1.17,2,    2.418,4,    1.194,4,    0.180,4,    3.631,4
     06MT030_2,   A02,   477,  1,     14,      2,2,19941103,1046, 43.9950, -37.9967, 4306,   1500.8,   3.8492,  34.9336,2,  34.9334,2,    273.0,2,    11.76,2,    17.49,2,     1.16,2,    2.034,2,    0.971,2,    0.108,2,    3.439,2
     06MT030_2,   A02,   477,  1,     13, KZM090,2,19941103,1046, 43.9950, -37.9967, 4306,   2001.5,   3.3994,  34.8972,2,  34.8973,2,    283.6,2,    11.81,2,    16.93,2,     1.13,2,    2.209,2,    1.053,2,    0.124,2,    3.785,2
     06MT030_2,   A02,   477,  1,     12, KZM117,2,19941103,1046, 43.9950, -37.9967, 4306,   2250.9,   3.2794,  34.8928,2,  34.8917,2,    285.1,2,    11.95,2,    16.83,2,     1.12,2, -999.000,9, -999.000,9, -999.000,9, -999.000,9
     06MT030_2,   A02,   477,  1,     11, KZM008,2,19941103,1046, 43.9950, -37.9967, 4306,   2501.3,   3.2594,  34.9102,2,  34.9112,2,    280.9,2,    12.82,2,    16.87,2,     1.13,2,    1.723,2,    0.826,2,    0.089,2,    3.126,2
     06MT030_2,   A02,   477,  1,     10, KZM115,2,19941103,1046, 43.9950, -37.9967, 4306,   2751.1,   3.1995,  34.9290,2,  34.9294,2,   -999.0,9,  -999.00,9,  -999.00,9,  -999.00,9, -999.000,9, -999.000,9, -999.000,9, -999.000,9
     06MT030_2,   A02,   477,  1,      9, KZM036,2,19941103,1046, 43.9950, -37.9967, 4306,   2751.2,   3.1985,  34.9294,2,  34.9294,2,    275.9,2,    14.24,2,    16.86,2,     1.13,2,    1.094,2,    0.520,2,    0.042,2,    2.302,2
     06MT030_2,   A02,   477,  1,      8,  UB001,2,19941103,1046, 43.9950, -37.9967, 4306,   3004.3,   3.0285,  34.9301,2,  34.9319,2,    276.4,2,    15.59,2,    16.68,2,     1.14,2,    0.903,2,    0.438,2,    0.037,2,    1.985,2
     06MT030_2,   A02,   477,  1,      7, KZM067,2,19941103,1046, 43.9950, -37.9967, 4306,   3253.1,   2.8056,  34.9244,2,  34.9259,2,    276.5,2,    17.32,2,    16.68,2,     1.15,2,    0.840,2,    0.401,2,    0.033,2,    1.859,2
     06MT030_2,   A02,   477,  1,      6, KZM017,2,19941103,1046, 43.9950, -37.9967, 4306,   3504.2,   2.5608,  34.9164,2,  34.9163,2,    277.4,2,    19.21,2,    16.82,2,     1.16,2,    0.913,2,    0.439,2,    0.046,2,    2.009,2
     06MT030_2,   A02,   477,  1,      5,  UB319,2,19941103,1046, 43.9950, -37.9967, 4306,   3752.7,   2.4178,  34.9085,2,  34.9081,2,    278.0,2,    19.80,2,    16.66,2,     1.16,2,    1.033,2,    0.488,2,    0.057,2,    2.178,2
     06MT030_2,   A02,   477,  1,      4, KZM056,2,19941103,1046, 43.9950, -37.9967, 4306,   4002.1,   2.3269,  34.9028,2,  34.9031,2,    278.0,2,    21.33,2,    16.83,2,     1.17,2,    1.117,2,    0.530,2,    0.068,2,    2.258,2
     06MT030_2,   A02,   477,  1,      3, KZM061,2,19941103,1046, 43.9950, -37.9967, 4306,   4202.2,   2.2899,  34.9007,2,  34.9013,2,    281.1,2,    19.46,2,    16.36,2,     1.15,2,    2.309,4,    1.311,4,    0.262,4,    3.218,4
     06MT030_2,   A02,   477,  1,      2, KZM052,2,19941103,1046, 43.9950, -37.9967, 4306,   4304.5,   2.2719,  34.8987,2,  34.9002,2,    282.4,2,    18.97,2,    16.41,2,     1.13,2,    1.421,2,    0.662,2,    0.068,2,    2.604,2
     06MT030_2,   A02,   477,  1,      1, KZM038,2,19941103,1046, 43.9950, -37.9967, 4306,   4387.3,   2.2639,  34.8978,2,  34.8986,2,    281.5,2,    18.81,2,    16.12,2,     1.12,2,    1.263,2,    0.588,2,    0.059,2,    2.271,2