BOTTLE,20010917WHPSIOKJU
EXPOCODE,SECT_ID,STNNBR,CASTNO,SAMPNO,BTLNBR,BTLNBR_FLAG_W,DATE,TIME,LATITUDE,LONGITUDE,DEPTH,CTDPRS,CTDTMP,CTDSAL,CTDSAL_FLAG_W,SALNTY,SALNTY_FLAG_W,OXYGEN,OXYGEN_FLAG_W,SILCAT,SILCAT_FLAG_W,NITRAT,NITRAT_FLAG_W,PHSPHT,PHSPHT_FLAG_W,CFC-11,CFC-11_FLAG_W,CFC-12,CFC-12_FLAG_W,CFC113,CFC113_FLAG_W,CCL4,CCL4_FLAG_W
,,,,,,,,,,,,DBAR,ITS-90,PSS-78,,PSS-78,,UMOL/KG,,UMOL/KG,,UMOL/KG,,UMOL/KG,,PMOL/L,,PMOL/L,,PMOL/L,,PMOL/L,
     06MT030_2,   A02,   478,  1,     23, KZM125,2,19941103,1636, 43.8233, -38.6483, 3233,     27.1,  18.0889,  35.5994,2,  35.5946,2,    233.7,2,     1.55,2,     0.04,2,     0.06,2, -999.000,9, -999.000,9, -999.000,9, -999.000,9
     06MT030_2,   A02,   478,  1,     24, KZM012,2,19941103,1636, 43.8233, -38.6483, 3233,     27.4,  18.0899,  35.5996,2,  35.5914,2,    234.3,2,     1.62,2,     0.05,2,     0.08,2, -999.000,9, -999.000,9, -999.000,9, -999.000,9
     06MT030_2,   A02,   478,  1,     22, KZM033,2,19941103,1636, 43.8233, -38.6483, 3233,     90.9,  17.9289,  36.4457,2,  36.4380,3,    195.8,2,     2.60,2,     4.19,2,     0.20,2, -999.000,9, -999.000,9, -999.000,9, -999.000,9
     06MT030_2,   A02,   478,  1,     21, KZM040,2,19941103,1636, 43.8233, -38.6483, 3233,    109.9,  17.5689,  36.4095,2,  36.4060,2,    195.2,2,     2.84,2,     4.87,2,     0.24,2, -999.000,9, -999.000,9, -999.000,9, -999.000,9
     06MT030_2,   A02,   478,  1,     20, KZM097,2,19941103,1636, 43.8233, -38.6483, 3233,    200.9,  15.6563,  36.1172,2,  36.1123,2,    202.7,2,     3.81,2,     7.28,2,     0.42,2, -999.000,9, -999.000,9, -999.000,9, -999.000,9
     06MT030_2,   A02,   478,  1,     19, KZM126,2,19941103,1636, 43.8233, -38.6483, 3233,    298.6,  14.1387,  35.8546,2,  35.8500,2,    201.3,2,     5.00,2,     9.76,2,     0.58,2, -999.000,9, -999.000,9, -999.000,9, -999.000,9
     06MT030_2,   A02,   478,  1,     18, KZM085,2,19941103,1636, 43.8233, -38.6483, 3233,    432.1,  12.3541,  35.6453,2,  35.6409,2,    205.1,2,     6.14,2,    12.30,2,     0.76,2, -999.000,9, -999.000,9, -999.000,9, -999.000,9
     06MT030_2,   A02,   478,  1,     17, KZM124,2,19941103,1636, 43.8233, -38.6483, 3233,    500.3,  11.0985,  35.4509,2,  35.4398,3,    197.3,2,     8.20,2,    15.31,2,     0.96,2, -999.000,9, -999.000,9, -999.000,9, -999.000,9
     06MT030_2,   A02,   478,  1,     16, KZM114,2,19941103,1636, 43.8233, -38.6483, 3233,    749.7,   6.6051,  34.9842,2,  34.9894,3,    195.2,2,    13.70,2,    21.14,2,     1.36,2, -999.000,9, -999.000,9, -999.000,9, -999.000,9
     06MT030_2,   A02,   478,  1,     15, KZM029,2,19941103,1636, 43.8233, -38.6483, 3233,    856.2,   6.1012,  35.0709,2,  35.0693,2,    216.6,2,    12.80,2,    19.44,2,     1.27,2, -999.000,9, -999.000,9, -999.000,9, -999.000,9
     06MT030_2,   A02,   478,  1,     14,      2,2,19941103,1636, 43.8233, -38.6483, 3233,   1098.6,   5.1896,  35.0624,2,  35.0611,2,    240.9,2,    12.25,2,    18.36,2,     1.20,2, -999.000,9, -999.000,9, -999.000,9, -999.000,9
     06MT030_2,   A02,   478,  1,     13, KZM090,2,19941103,1636, 43.8233, -38.6483, 3233,   1302.5,   4.5089,  35.0089,2,  35.0485,3,    252.8,2,    11.80,2,    17.24,2,     1.13,3, -999.000,9, -999.000,9, -999.000,9, -999.000,9
     06MT030_2,   A02,   478,  1,     12, KZM117,2,19941103,1636, 43.8233, -38.6483, 3233,   1501.3,   4.0811,  34.9660,2,  34.9642,2,    266.5,2,    12.24,2,    17.51,2,     1.14,2, -999.000,9, -999.000,9, -999.000,9, -999.000,9
     06MT030_2,   A02,   478,  1,     11, KZM008,2,19941103,1636, 43.8233, -38.6483, 3233,   1700.6,   3.7772,  34.9392,2,  34.9390,2,    273.4,2,    12.48,2,    17.31,2,     1.15,2, -999.000,9, -999.000,9, -999.000,9, -999.000,9
     06MT030_2,   A02,   478,  1,      9, KZM036,2,19941103,1636, 43.8233, -38.6483, 3233,   1901.9,   3.5633,  34.9241,2,-999.0000,9,    277.0,2,    12.61,2,    17.12,2,     1.14,9, -999.000,9, -999.000,9, -999.000,9, -999.000,9
     06MT030_2,   A02,   478,  1,     10, KZM115,2,19941103,1636, 43.8233, -38.6483, 3233,   1902.5,   3.5613,  34.9234,2,  34.9230,2,   -999.0,9,  -999.00,9,  -999.00,9,  -999.00,9, -999.000,9, -999.000,9, -999.000,9, -999.000,9
     06MT030_2,   A02,   478,  1,      8,  UB001,2,19941103,1636, 43.8233, -38.6483, 3233,   2121.0,   3.4404,  34.9201,2,  34.9197,2,    278.3,2,    13.04,2,    17.05,2,     1.14,2, -999.000,9, -999.000,9, -999.000,9, -999.000,9
     06MT030_2,   A02,   478,  1,      7, KZM067,2,19941103,1636, 43.8233, -38.6483, 3233,   2182.2,   3.3144,  34.9015,2,  34.9020,2,    283.3,2,    12.42,2,    16.83,2,     1.13,2,    1.902,2,    0.910,2,    0.104,2,    3.475,2
     06MT030_2,   A02,   478,  1,      6, KZM017,2,19941103,1636, 43.8233, -38.6483, 3233,   2399.7,   3.3034,  34.9198,2,  34.9205,2,    278.4,2,    13.37,2,    16.84,2,     1.15,2,    1.387,2,    0.670,2,    0.077,2,    2.767,2
     06MT030_2,   A02,   478,  1,      5,  UB319,2,19941103,1636, 43.8233, -38.6483, 3233,   2651.9,   3.2065,  34.9388,2,  34.9383,2,    273.5,2,    15.54,2,    17.13,2,     1.16,2,    0.814,2,    0.416,2,    0.051,2,    1.877,2
     06MT030_2,   A02,   478,  1,      4, KZM056,2,19941103,1636, 43.8233, -38.6483, 3233,   3001.0,   2.9006,  34.9294,2,  34.9285,2,    275.9,2,    16.65,2,    16.83,2,     1.15,2,    0.815,2,    0.393,2,    0.030,2,    1.862,2
     06MT030_2,   A02,   478,  1,      2, KZM052,2,19941103,1636, 43.8233, -38.6483, 3233,   3301.2,   2.6067,  34.9205,2,  34.9186,2,    276.3,2,    19.34,2,    17.19,2,     1.16,2,    0.772,2,    0.378,2,    0.028,2,    1.797,2
     06MT030_2,   A02,   478,  1,      1, KZM038,2,19941103,1636, 43.8233, -38.6483, 3233,   3396.5,   2.4968,  34.9141,2,  34.9145,2,    277.5,2,    20.15,2,    16.99,2,     1.16,2,    0.844,6,    0.406,6,    0.035,6,    1.870,6
     06MT030_2,   A02,   479,  1,     13,  10003,2,19941103,2142, 43.6383, -39.2917, 4542,     10.7,  18.0010,  35.5343,2,  35.5380,2,    236.4,2,     1.57,2,     0.00,2,     0.07,2,    2.541,2,    1.415,2,    0.214,2,    3.442,2
     06MT030_2,   A02,   479,  1,     12,  10026,2,19941103,2142, 43.6383, -39.2917, 4542,     39.5,  17.7742,  35.5186,2,  35.5214,2,    236.2,2,     1.57,2,     0.04,2,     0.07,2,    2.431,2,    1.334,2,    0.182,2,    3.148,2
     06MT030_2,   A02,   479,  1,     11,  10008,2,19941103,2142, 43.6383, -39.2917, 4542,     69.1,  18.6575,  36.4566,2,  36.4616,2,    202.7,2,     2.18,2,     2.78,2,     0.14,2, -999.000,9, -999.000,9, -999.000,9, -999.000,9
     06MT030_2,   A02,   479,  1,     10,  10010,2,19941103,2142, 43.6383, -39.2917, 4542,    145.1,  16.8170,  36.2841,2,  36.2943,3,    202.8,2,     2.98,2,     5.52,2,     0.29,2,    2.180,2,    1.179,2,    0.081,2,    0.955,2
     06MT030_2,   A02,   479,  1,      9,  10004,2,19941103,2142, 43.6383, -39.2917, 4542,    237.5,  15.5291,  36.1071,2,  36.1153,3,    218.6,3,     3.40,2,     6.25,2,     0.35,2,    2.390,2,    1.282,2,    0.119,2,    1.316,2
     06MT030_2,   A02,   479,  1,      8,     15,2,19941103,2142, 43.6383, -39.2917, 4542,    397.5,  13.3292,  35.7405,2,  35.7452,2,    192.0,2,     6.23,2,    12.23,2,     0.73,2,    1.926,2,    1.021,2,    0.063,2,    0.959,2
     06MT030_2,   A02,   479,  1,      7,     23,2,19941103,2142, 43.6383, -39.2917, 4542,    526.4,  10.8258,  35.3993,2,  35.3936,2,    200.5,2,     8.34,2,    15.35,2,     0.97,2,    2.086,2,    1.069,2,    0.103,2,    1.396,2
     06MT030_2,   A02,   479,  1,      6,    910,2,19941103,2142, 43.6383, -39.2917, 4542,    676.4,   7.9330,  35.0357,2,  35.3920,4,    200.6,4,     8.39,2,    15.38,4,     1.00,4, -999.000,9, -999.000,9, -999.000,9, -999.000,9
     06MT030_2,   A02,   479,  1,      5, KZM128,2,19941103,2142, 43.6383, -39.2917, 4542,    708.0,   7.9210,  35.0990,2,  35.0964,2,    180.1,2,    13.26,2,    21.24,2,     1.38,2,    1.286,2,    0.631,2,    0.062,2,    1.280,2
     06MT030_2,   A02,   479,  1,      4,      6,2,19941103,2142, 43.6383, -39.2917, 4542,    895.3,   5.9814,  35.0445,2,  35.0442,2,    217.1,2,    13.01,2,    19.48,2,     1.29,2, -999.000,9, -999.000,9, -999.000,9, -999.000,9
     06MT030_2,   A02,   479,  1,      3,     18,2,19941103,2142, 43.6383, -39.2917, 4542,    996.2,   5.8595,  35.1177,2,  35.1181,2,    227.5,2,    12.49,2,    18.76,2,     1.24,2,    1.431,2,    0.693,2,    0.062,2,    1.997,2
     06MT030_2,   A02,   479,  1,      2,     17,2,19941103,2142, 43.6383, -39.2917, 4542,   1196.6,   4.6980,  35.0080,2,  35.0082,2,    254.1,2,    12.20,2,    17.89,2,     1.21,2,    1.817,2,    0.877,2,    0.100,2,    2.830,2
     06MT030_2,   A02,   479,  1,      1,     10,2,19941103,2142, 43.6383, -39.2917, 4542,   1345.9,   4.2336,  34.9710,2,  35.0085,4,    264.2,2,    12.17,2,    17.87,2,     1.21,2,    1.824,2,    0.882,2,    0.096,2,    2.852,2
     06MT030_2,   A02,   479,  3,     24, KZM012,2,19941104,0544, 43.6367, -39.2817, 4529,   1348.1,   4.2800,  34.9763,2,  34.9763,2,    262.8,2,    12.07,2,    17.39,2,     1.11,2, -999.000,9, -999.000,9, -999.000,9, -999.000,9
     06MT030_2,   A02,   479,  3,     23, KZM125,2,19941104,0544, 43.6367, -39.2817, 4529,   1498.3,   4.0021,  34.9554,2,  34.9552,2,    268.6,2,    12.15,2,    17.35,2,     1.15,2, -999.000,9, -999.000,9, -999.000,9, -999.000,9
     06MT030_2,   A02,   479,  3,     22, KZM033,2,19941104,0544, 43.6367, -39.2817, 4529,   1697.6,   3.5933,  34.9129,2,  34.9128,2,    279.5,2,    11.88,2,    16.78,2,     1.13,2,    1.641,2,    0.803,2,    0.077,2,    2.906,2
     06MT030_2,   A02,   479,  3,     21, KZM040,2,19941104,0544, 43.6367, -39.2817, 4529,   1898.6,   3.4204,  34.9031,2,  34.9035,2,    282.1,2,    12.03,2,    16.72,2,     1.13,2,    2.051,2,    0.994,2,    0.115,2,    3.542,2
     06MT030_2,   A02,   479,  3,     20, KZM097,2,19941104,0544, 43.6367, -39.2817, 4529,   1999.6,   3.3474,  34.8982,2,  34.8978,2,    284.2,2,    11.98,2,    16.85,2,     1.13,2,    2.168,2,    1.055,2,    0.127,2,    3.681,2
     06MT030_2,   A02,   479,  3,     19, KZM126,2,19941104,0544, 43.6367, -39.2817, 4529,   2100.4,   3.3104,  34.9004,2,  34.9000,2,    283.9,2,    12.23,2,    16.62,2,     1.13,2,    2.033,2,    0.978,2,    0.118,2,    3.475,2
     06MT030_2,   A02,   479,  3,     18, KZM085,2,19941104,0544, 43.6367, -39.2817, 4529,   2249.9,   3.3314,  34.9149,2,  34.9158,2,    280.2,2,    13.05,2,    16.65,2,     1.14,2,    1.523,2,    0.746,2,    0.077,2,    2.838,2
     06MT030_2,   A02,   479,  3,     17, KZM124,2,19941104,0544, 43.6367, -39.2817, 4529,   2401.3,   3.2774,  34.9153,2,  34.9155,2,    280.6,2,    13.13,2,    16.44,2,     1.14,2,    1.566,2,    0.754,2,    0.082,2,    2.904,2
     06MT030_2,   A02,   479,  3,     16, KZM114,2,19941104,0544, 43.6367, -39.2817, 4529,   2503.2,   3.2634,  34.9230,2,  34.9243,2,    278.0,2,    13.65,2,    16.53,2,     1.14,2,    1.308,2,    0.630,2,    0.065,2,    2.513,2
     06MT030_2,   A02,   479,  3,     15, KZM029,2,19941104,0544, 43.6367, -39.2817, 4529,   2602.1,   3.2355,  34.9299,2,  34.9295,2,    276.1,2,    14.18,2,    16.75,2,     1.14,2,    1.097,2,    0.539,2,    0.046,2,    2.250,2
     06MT030_2,   A02,   479,  3,     14,      2,2,19941104,0544, 43.6367, -39.2817, 4529,   2699.7,   3.1885,  34.9330,2,  34.9332,2,    275.4,2,    14.70,2,    16.55,2,     1.14,2,    0.952,2,    0.467,2,    0.035,2,    2.035,2
     06MT030_2,   A02,   479,  3,     13, KZM090,2,19941104,0544, 43.6367, -39.2817, 4529,   2897.5,   3.0485,  34.9286,2,  34.9744,4,    270.0,4,    14.03,2,    16.05,4,     1.11,4,    1.234,2,    0.608,2,    0.053,2,    2.192,2
     06MT030_2,   A02,   479,  3,     12, KZM117,2,19941104,0544, 43.6367, -39.2817, 4529,   3001.6,   2.9906,  34.9291,2,  34.9299,2,    276.9,2,    15.39,2,    16.62,2,     1.14,2,    1.023,2,    0.499,2,    0.041,2,    2.078,2
     06MT030_2,   A02,   479,  3,     11, KZM008,2,19941104,0544, 43.6367, -39.2817, 4529,   3301.9,   2.7547,  34.9241,2,  34.9246,2,    276.6,2,    17.39,2,    16.33,2,     1.15,2,    0.937,2,    0.447,2,    0.072,4,    1.965,2
     06MT030_2,   A02,   479,  3,     10, KZM115,2,19941104,0544, 43.6367, -39.2817, 4529,   3504.0,   2.6007,  34.9186,2,  34.9176,2,    277.8,3,    19.02,2,    16.61,3,     1.16,3,    0.870,2,    0.422,2,    0.034,2,    1.873,2
     06MT030_2,   A02,   479,  3,      9, KZM036,2,19941104,0544, 43.6367, -39.2817, 4529,   3505.9,   2.6007,  34.9179,2,  34.9181,2,    277.0,2,    18.89,2,    16.43,2,     1.14,2,    0.869,2,    0.420,2,    0.035,2,    1.860,2
     06MT030_2,   A02,   479,  3,      8,  UB001,2,19941104,0544, 43.6367, -39.2817, 4529,   3603.3,   2.5298,  34.9155,2,  34.9146,2,    276.9,2,    19.86,2,    16.53,2,     1.16,2,    0.828,2,    0.398,2,    0.034,2,    1.817,2
     06MT030_2,   A02,   479,  3,      6, KZM017,2,19941104,0544, 43.6367, -39.2817, 4529,   4005.3,   2.3539,  34.9041,2,  34.9043,2,    277.1,2,    21.81,2,    16.76,2,     1.17,2,    0.939,2,    0.447,2,    0.043,2,    1.964,2
     06MT030_2,   A02,   479,  3,      5,  UB319,2,19941104,0544, 43.6367, -39.2817, 4529,   4204.4,   2.3199,  34.9014,2,  34.9022,2,    276.6,2,    22.54,2,    16.70,2,     1.18,2,    0.965,2,    0.461,2,    0.047,2,    1.974,2
     06MT030_2,   A02,   479,  3,      4, KZM056,2,19941104,0544, 43.6367, -39.2817, 4529,   4305.0,   2.3019,  34.8989,2,  34.8991,2,    277.2,2,    23.09,2,    16.72,2,     1.18,2,    1.001,2,    0.476,2,    0.045,2,    1.995,2
     06MT030_2,   A02,   479,  3,      3, KZM061,2,19941104,0544, 43.6367, -39.2817, 4529,   4505.9,   2.2759,  34.8956,2,  34.8967,2,    277.4,2,    23.11,2,    16.95,2,     1.19,2,    1.131,2,    0.547,2,    0.054,2,    2.162,2
     06MT030_2,   A02,   479,  3,      2, KZM052,2,19941104,0544, 43.6367, -39.2817, 4529,   4589.6,   2.2779,  34.8953,2,  34.8954,2,    276.3,2,    24.34,2,    16.97,2,     1.19,2,    1.039,2,    0.493,2,    0.051,2,    2.003,2
     06MT030_2,   A02,   479,  3,      1, KZM038,2,19941104,0544, 43.6367, -39.2817, 4529,   4602.3,   2.2799,  34.8945,2,  34.8948,2,    276.2,2,    24.43,2,    17.01,2,     1.20,2,    1.047,2,    0.502,2,    0.053,2,    2.023,2
     06MT030_2,   A02,   480,  1,     24, KZM012,2,19941104,1930, 43.4167, -39.9800, 4808,     20.5,  18.6628,  35.7134,2,  35.7067,2,    231.6,2,     1.90,2,     0.02,2,     0.04,2, -999.000,9, -999.000,9, -999.000,9, -999.000,9
     06MT030_2,   A02,   480,  1,     23, KZM125,2,19941104,1930, 43.4167, -39.9800, 4808,     72.7,  19.1377,  36.2635,2,-999.0000,9,   -999.0,9,  -999.00,9,  -999.00,9,  -999.00,9,    2.294,2,    1.260,2,    0.174,2,    3.020,2
     06MT030_2,   A02,   480,  1,     22, KZM033,2,19941104,1930, 43.4167, -39.9800, 4808,    135.5,  18.1988,  36.5195,2,  36.5143,2,    200.7,2,     2.72,2,     3.65,2,     0.16,2,    2.177,2,    1.175,2,    0.079,2,    0.788,2
     06MT030_2,   A02,   480,  1,     21, KZM040,2,19941104,1930, 43.4167, -39.9800, 4808,    249.6,  15.8353,  36.1394,2,  36.1337,2,    205.0,2,     3.92,2,     6.77,2,     0.35,2,    2.196,2,    1.171,2,    0.088,2,    1.019,2
     06MT030_2,   A02,   480,  1,     20, KZM097,2,19941104,1930, 43.4167, -39.9800, 4808,    499.3,  12.1962,  35.5717,2,  35.5676,2,    187.3,2,     7.89,2,    14.34,2,     0.82,2,    1.853,2,    0.968,2,    0.069,2,    1.025,2
     06MT030_2,   A02,   480,  1,     19, KZM126,2,19941104,1930, 43.4167, -39.9800, 4808,    648.5,   8.6303,  35.0632,2,  35.0619,2,    181.8,2,    12.21,2,    19.51,2,     1.23,2,    1.727,2,    0.863,2,    0.101,2,    1.620,2
     06MT030_2,   A02,   480,  1,     18, KZM085,2,19941104,1930, 43.4167, -39.9800, 4808,    684.3,   8.3474,  35.0542,2,  35.0473,2,    182.6,2,    12.65,2,    20.39,2,     1.28,2,    1.687,2,    0.846,2,    0.096,2,    1.630,2
     06MT030_2,   A02,   480,  1,     17, KZM124,2,19941104,1930, 43.4167, -39.9800, 4808,    837.4,   7.2138,  35.1375,2,  35.1353,2,    197.7,2,    13.15,2,    19.78,2,     1.27,2,    1.353,2,    0.671,2,    0.061,2,    1.514,2
     06MT030_2,   A02,   480,  1,     16, KZM114,2,19941104,1930, 43.4167, -39.9800, 4808,    886.4,   6.8879,  35.1585,2,  35.1578,2,    202.8,2,    13.34,2,    19.74,2,     1.27,2,    1.196,2,    0.586,2,    0.056,2,    1.480,2
     06MT030_2,   A02,   480,  1,     15, KZM029,2,19941104,1930, 43.4167, -39.9800, 4808,   1062.2,   5.4865,  35.0720,2,  35.0735,2,    231.8,2,    12.98,2,    18.69,2,     1.20,2,    1.546,2,    0.757,2,    0.089,2,    2.238,2
     06MT030_2,   A02,   480,  1,     14,      2,4,19941104,1930, 43.4167, -39.9800, 4808,   1302.5,   4.5429,  35.0023,2,  35.0045,2,    210.5,4,     3.14,4,     3.57,4,     0.24,4,    2.187,4,    1.193,4,    0.110,2,    1.632,4
     06MT030_2,   A02,   480,  1,     13, KZM090,2,19941104,1930, 43.4167, -39.9800, 4808,   1598.6,   3.9012,  34.9416,2,  34.9405,2,    271.4,2,    12.23,2,    16.97,2,     1.08,2,    1.918,2,    0.925,2,    0.098,2,    3.238,2
     06MT030_2,   A02,   480,  1,     12, KZM117,2,19941104,1930, 43.4167, -39.9800, 4808,   1899.5,   3.5573,  34.9117,2,  34.9124,2,    279.5,2,    14.61,3,    16.59,2,     1.09,2,    1.995,2,    0.963,2,    0.106,2,    3.448,2
     06MT030_2,   A02,   480,  1,     11, KZM008,2,19941104,1930, 43.4167, -39.9800, 4808,   1960.9,   3.5113,  34.9083,2,  34.9097,2,    282.0,2,    12.42,2,    16.63,2,     1.08,2,    1.994,2,    0.966,2,    0.106,2,    3.457,2
     06MT030_2,   A02,   480,  1,     10, KZM115,2,19941104,1930, 43.4167, -39.9800, 4808,   2248.7,   3.4234,  34.9183,2,  34.9193,2,    278.2,2,    13.35,2,    16.71,2,     1.09,2,    1.477,2,    0.725,2,    0.067,2,    2.782,2
     06MT030_2,   A02,   480,  1,      9, KZM036,2,19941104,1930, 43.4167, -39.9800, 4808,   2503.4,   3.3444,  34.9278,2,  34.9284,2,    277.0,2,    14.11,2,    16.76,2,     1.10,2,    1.184,2,    0.576,2,    0.047,2,    2.389,2
     06MT030_2,   A02,   480,  1,      8,  UB001,2,19941104,1930, 43.4167, -39.9800, 4808,   2701.0,   3.2474,  34.9323,2,  34.9330,2,    276.5,2,    14.86,2,    16.59,2,     1.10,2,    1.037,2,    0.507,2,    0.050,2,    2.145,2
     06MT030_2,   A02,   480,  1,      7, KZM067,2,19941104,1930, 43.4167, -39.9800, 4808,   2900.8,   3.1165,  34.9323,2,  34.9331,2,    276.0,2,    15.57,2,    16.57,2,     1.09,2,    1.167,4,    0.601,4,    0.086,4,    2.139,4
     06MT030_2,   A02,   480,  1,      6, KZM017,2,19941104,1930, 43.4167, -39.9800, 4808,   3103.4,   2.9916,  34.9325,2,  34.9329,2,    275.7,2,    16.63,2,    16.53,2,     1.10,2,    0.791,2,    0.386,2,    0.032,2,    1.802,2
     06MT030_2,   A02,   480,  1,      5,  UB319,2,19941104,1930, 43.4167, -39.9800, 4808,   3505.0,   2.6687,  34.9222,2,  34.9215,2,    275.7,2,    19.23,2,    16.50,2,     1.12,2,    0.776,2,    0.380,2,    0.022,2,    1.743,2
     06MT030_2,   A02,   480,  1,      4, KZM056,2,19941104,1930, 43.4167, -39.9800, 4808,   4004.9,   2.3908,  34.9067,2,  34.9063,2,    275.9,2,    22.14,2,    16.83,2,     1.14,2,    0.887,2,    0.423,2,    0.033,2,    1.881,2
     06MT030_2,   A02,   480,  1,      3, KZM061,2,19941104,1930, 43.4167, -39.9800, 4808,   4405.2,   2.3319,  34.9010,2,  34.9014,2,    277.8,2,    23.18,2,    16.88,2,     1.17,2,    0.970,2,    0.467,2,    0.045,2,    1.979,2
     06MT030_2,   A02,   480,  1,      2, KZM052,2,19941104,1930, 43.4167, -39.9800, 4808,   4754.0,   2.3069,  34.8949,2,  34.8969,2,    275.0,2,    24.76,2,    16.99,2,     1.17,2,    1.012,2,    0.485,2,    0.048,2,    1.984,2
     06MT030_2,   A02,   480,  1,      1, KZM038,2,19941104,1930, 43.4167, -39.9800, 4808,   4903.8,   2.3179,  34.8939,2,-999.0000,9,    264.1,2,    21.10,2,    16.74,2,     1.14,9,    1.135,2,    0.559,2,    0.056,2,    1.936,2