BOTTLE,20010917WHPSIOKJU
EXPOCODE,SECT_ID,STNNBR,CASTNO,SAMPNO,BTLNBR,BTLNBR_FLAG_W,DATE,TIME,LATITUDE,LONGITUDE,DEPTH,CTDPRS,CTDTMP,CTDSAL,CTDSAL_FLAG_W,SALNTY,SALNTY_FLAG_W,OXYGEN,OXYGEN_FLAG_W,SILCAT,SILCAT_FLAG_W,NITRAT,NITRAT_FLAG_W,PHSPHT,PHSPHT_FLAG_W,CFC-11,CFC-11_FLAG_W,CFC-12,CFC-12_FLAG_W,CFC113,CFC113_FLAG_W,CCL4,CCL4_FLAG_W
,,,,,,,,,,,,DBAR,ITS-90,PSS-78,,PSS-78,,UMOL/KG,,UMOL/KG,,UMOL/KG,,UMOL/KG,,PMOL/L,,PMOL/L,,PMOL/L,,PMOL/L,
     06MT030_2,   A02,   488,  1,     23, KZM125,2,19941109,2224, 43.1483, -48.7333, 2139,     17.6,   8.7553,  32.5014,2,  32.4988,2,    298.5,2,     2.35,2,     0.00,2,     0.27,2,    4.231,2,    2.143,2,    0.415,2,    5.500,2
     06MT030_2,   A02,   488,  1,     22, KZM033,2,19941109,2224, 43.1483, -48.7333, 2139,     64.0,   0.2399,  33.7024,2,  33.6864,3,    308.3,2,     9.80,2,    10.48,2,     0.91,3,    5.492,2,    2.695,2,    0.487,2,    7.113,2
     06MT030_2,   A02,   488,  1,     21, KZM040,2,19941109,2224, 43.1483, -48.7333, 2139,     97.6,   1.3233,  33.9965,2,  33.9979,2,    290.8,2,    10.70,2,    12.46,2,     0.97,2, -999.000,9, -999.000,9, -999.000,9, -999.000,9
     06MT030_2,   A02,   488,  1,     20, KZM097,2,19941109,2224, 43.1483, -48.7333, 2139,    152.2,   2.2319,  34.3178,2,  34.3144,2,    296.9,2,     9.54,2,    12.76,2,     0.93,2,    5.017,2,    2.459,2,    0.426,2,    6.426,2
     06MT030_2,   A02,   488,  1,     19, KZM126,2,19941109,2224, 43.1483, -48.7333, 2139,    199.9,   2.9656,  34.5634,2,  34.5547,3,    293.9,2,     9.71,2,    14.22,2,     0.97,2,    4.744,2,    2.305,2,    0.447,2,    6.046,2
     06MT030_2,   A02,   488,  1,     18, KZM085,2,19941109,2224, 43.1483, -48.7333, 2139,    298.7,   3.4873,  34.7506,2,  34.7494,2,    285.3,2,    10.52,2,    15.77,2,     1.05,2,    4.231,2,    2.082,2,    0.341,2,    5.504,2
     06MT030_2,   A02,   488,  1,     17, KZM124,2,19941109,2224, 43.1483, -48.7333, 2139,    400.5,   3.7992,  34.8575,2,  34.8571,2,    277.5,2,    11.20,2,    16.94,2,     1.08,2,    3.633,2,    1.747,2,    0.275,2,    4.808,2
     06MT030_2,   A02,   488,  1,     16, KZM114,2,19941109,2224, 43.1483, -48.7333, 2139,    537.2,   4.0071,  34.9262,2,  34.9266,2,    270.0,2,    11.56,2,    17.13,2,     1.11,2, -999.000,9, -999.000,9, -999.000,9, -999.000,9
     06MT030_2,   A02,   488,  1,     15, KZM029,4,19941109,2224, 43.1483, -48.7333, 2139,    628.5,   3.9741,  34.9376,2,  34.6295,4,    279.7,4,    10.63,4,    15.06,4,     1.03,4,    3.379,3,    1.719,3,    0.252,2,    4.521,2
     06MT030_2,   A02,   488,  1,     14,      2,2,19941109,2224, 43.1483, -48.7333, 2139,    700.2,   3.8412,  34.9235,2,  34.9215,2,    275.1,2,    11.57,2,    16.94,2,     1.11,2, -999.000,9, -999.000,9, -999.000,9, -999.000,9
     06MT030_2,   A02,   488,  1,     13, KZM090,2,19941109,2224, 43.1483, -48.7333, 2139,    751.8,   3.7272,  34.9141,2,  34.9153,2,    277.3,2,    11.56,2,    17.02,2,     1.11,2,    2.624,2,    1.282,2,    0.175,2,    3.890,2
     06MT030_2,   A02,   488,  1,     12, KZM117,2,19941109,2224, 43.1483, -48.7333, 2139,    849.5,   3.6423,  34.9118,2,  34.9129,2,    277.3,2,    11.89,2,    16.58,2,     1.10,2, -999.000,9, -999.000,9, -999.000,9, -999.000,9
     06MT030_2,   A02,   488,  1,     11, KZM008,2,19941109,2224, 43.1483, -48.7333, 2139,   1000.1,   3.4803,  34.8963,2,  34.8963,2,    284.2,2,    11.45,2,    16.53,2,     1.09,2,    2.688,2,    1.312,2,    0.180,2,    4.101,2
     06MT030_2,   A02,   488,  1,     10, KZM115,2,19941109,2224, 43.1483, -48.7333, 2139,   1100.2,   3.4004,  34.8941,2,  34.8917,2,    283.1,2,    11.75,2,    16.15,2,     1.10,2, -999.000,9, -999.000,9, -999.000,9, -999.000,9
     06MT030_2,   A02,   488,  1,      9, KZM036,2,19941109,2224, 43.1483, -48.7333, 2139,   1249.2,   3.2954,  34.8842,2,  34.8851,2,    289.7,2,    11.64,2,    16.51,2,     1.09,2,    2.671,2,    1.301,2,    0.179,2,    4.077,2
     06MT030_2,   A02,   488,  1,      8,  UB001,2,19941109,2224, 43.1483, -48.7333, 2139,   1401.0,   3.1675,  34.8760,2,  34.8766,2,    289.8,2,    11.58,2,    16.32,2,     1.07,2, -999.000,9, -999.000,9, -999.000,9, -999.000,9
     06MT030_2,   A02,   488,  1,      7, KZM067,2,19941109,2224, 43.1483, -48.7333, 2139,   1550.0,   3.1695,  34.8825,2,  34.8834,2,    288.2,2,    11.78,2,    16.24,2,     1.07,2,    2.596,2,    1.268,2,    0.173,2,    4.071,2
     06MT030_2,   A02,   488,  1,      6, KZM017,2,19941109,2224, 43.1483, -48.7333, 2139,   1667.7,   3.1985,  34.8913,2,  34.8903,2,    285.1,2,    12.01,2,    16.35,2,     1.09,2,    2.308,2,    1.117,2,    0.156,2,    3.759,2
     06MT030_2,   A02,   488,  1,      5,  UB319,2,19941109,2224, 43.1483, -48.7333, 2139,   1850.0,   3.1625,  34.8964,2,  34.8967,2,    284.7,2,    12.37,2,    16.37,2,     1.08,2, -999.000,9, -999.000,9, -999.000,9, -999.000,9
     06MT030_2,   A02,   488,  1,      4, KZM056,2,19941109,2224, 43.1483, -48.7333, 2139,   2050.1,   3.1495,  34.9053,2,  34.9050,2,    281.7,2,    12.67,2,    16.18,2,     1.07,2,    2.116,4,    1.067,4,    0.201,2,    3.383,2
     06MT030_2,   A02,   488,  1,      3, KZM061,2,19941109,2224, 43.1483, -48.7333, 2139,   2108.1,   3.1405,  34.9073,2,  34.9069,2,    281.9,2,    12.75,2,    16.18,2,     1.07,2,    1.844,2,    0.905,2,    0.102,2,    3.126,2
     06MT030_2,   A02,   488,  1,      2, KZM052,2,19941109,2224, 43.1483, -48.7333, 2139,   2148.3,   3.1345,  34.9074,2,  34.9070,2,    281.8,2,    12.83,2,    16.00,2,     1.08,2,    1.807,2,    0.878,2,    0.098,2,    3.042,2
     06MT030_2,   A02,   488,  1,      1, KZM038,2,19941109,2224, 43.1483, -48.7333, 2139,   2155.5,   3.1365,  34.9071,2,  34.9062,2,    282.4,2,    12.86,2,    16.28,2,     1.09,2,    1.835,2,    0.895,2,    0.104,2,    3.076,2