BOTTLE,20010917WHPSIOKJU
EXPOCODE,SECT_ID,STNNBR,CASTNO,SAMPNO,BTLNBR,BTLNBR_FLAG_W,DATE,TIME,LATITUDE,LONGITUDE,DEPTH,CTDPRS,CTDTMP,CTDSAL,CTDSAL_FLAG_W,SALNTY,SALNTY_FLAG_W,OXYGEN,OXYGEN_FLAG_W,SILCAT,SILCAT_FLAG_W,NITRAT,NITRAT_FLAG_W,PHSPHT,PHSPHT_FLAG_W,CFC-11,CFC-11_FLAG_W,CFC-12,CFC-12_FLAG_W,CFC113,CFC113_FLAG_W,CCL4,CCL4_FLAG_W
,,,,,,,,,,,,DBAR,ITS-90,PSS-78,,PSS-78,,UMOL/KG,,UMOL/KG,,UMOL/KG,,UMOL/KG,,PMOL/L,,PMOL/L,,PMOL/L,,PMOL/L,
     06MT030_2,   A02,   446,  3,     22,  10023,2,19941018,0513, 48.8583, -13.7683, 4490,    964.1,   8.9309,  35.6115,2,  35.6163,2,    198.5,2,    10.96,2,    17.33,2,     0.96,2, -999.000,9, -999.000,9, -999.000,9, -999.000,9
     06MT030_2,   A02,   446,  3,     21,  10002,2,19941018,0513, 48.8583, -13.7683, 4490,   1146.8,   7.2269,  35.3872,2,  35.3912,3,    215.1,2,    12.24,2,    17.94,2,     1.05,2, -999.000,9, -999.000,9, -999.000,9, -999.000,9
     06MT030_2,   A02,   446,  3,     20,  10027,2,19941018,0513, 48.8583, -13.7683, 4490,   1245.6,   6.7045,  35.3344,2,  35.3386,3,    222.2,2,    12.98,2,    17.76,2,     1.08,2, -999.000,9, -999.000,9, -999.000,9, -999.000,9
     06MT030_2,   A02,   446,  3,     19,  10017,2,19941018,0513, 48.8583, -13.7683, 4490,   1397.0,   5.3851,  35.1424,2,  35.1437,2,    240.8,2,    13.76,2,    17.84,2,     1.12,2, -999.000,9, -999.000,9, -999.000,9, -999.000,9
     06MT030_2,   A02,   446,  3,     18,  10020,2,19941018,0513, 48.8583, -13.7683, 4490,   1621.3,   4.4154,  35.0289,2,  35.0309,2,    254.4,2,    14.42,3,    17.65,2,     1.14,2, -999.000,9, -999.000,9, -999.000,9, -999.000,9
     06MT030_2,   A02,   446,  3,     17,  10009,2,19941018,0513, 48.8583, -13.7683, 4490,   1698.9,   4.0708,  34.9822,2,  34.9841,2,    263.0,2,    14.10,3,    17.54,2,     1.18,3, -999.000,9, -999.000,9, -999.000,9, -999.000,9
     06MT030_2,   A02,   446,  3,     16,  10021,2,19941018,0513, 48.8583, -13.7683, 4490,   1797.5,   3.8032,  34.9567,2,  34.9565,2,    267.2,2,    14.79,2,    17.47,2,     1.12,2, -999.000,9, -999.000,9, -999.000,9, -999.000,9
     06MT030_2,   A02,   446,  3,     15,  10025,2,19941018,0513, 48.8583, -13.7683, 4490,   1978.7,   3.5665,  34.9557,2,  34.9547,2,    266.6,2,    16.24,2,    17.43,2,     1.12,2, -999.000,9, -999.000,9, -999.000,9, -999.000,9
     06MT030_2,   A02,   446,  3,     14,      2,2,19941018,0513, 48.8583, -13.7683, 4490,   2198.9,   3.3478,  34.9662,2,  34.9655,2,    260.1,2,    21.33,2,    18.19,2,     1.19,2, -999.000,9, -999.000,9, -999.000,9, -999.000,9
     06MT030_2,   A02,   446,  3,     13,  10003,2,19941018,0513, 48.8583, -13.7683, 4490,   2329.9,   3.1950,  34.9618,2,  34.9616,2,    257.9,2,    23.77,2,    18.59,2,     1.23,2, -999.000,9, -999.000,9, -999.000,9, -999.000,9
     06MT030_2,   A02,   446,  3,     12,  10026,2,19941018,0513, 48.8583, -13.7683, 4490,   2601.0,   2.9683,  34.9552,2,  34.9531,2,    252.9,2,    29.53,2,    19.59,2,     1.30,2, -999.000,9, -999.000,9, -999.000,9, -999.000,9
     06MT030_2,   A02,   446,  3,     11,  10008,2,19941018,0513, 48.8583, -13.7683, 4490,   2801.6,   2.8235,  34.9448,2,  34.9438,2,    249.8,2,    33.18,2,    20.14,2,     1.37,2, -999.000,9, -999.000,9, -999.000,9, -999.000,9
     06MT030_2,   A02,   446,  3,     10,  10010,2,19941018,0513, 48.8583, -13.7683, 4490,   3002.6,   2.7376,  34.9374,2,  34.9364,2,    247.4,2,    35.59,2,    21.11,2,     1.41,2, -999.000,9, -999.000,9, -999.000,9, -999.000,9
     06MT030_2,   A02,   446,  3,      9,  10004,2,19941018,0513, 48.8583, -13.7683, 4490,   3204.6,   2.6667,  34.9316,2,  34.9227,3,    245.6,2,    38.75,2,    21.66,2,     1.46,2, -999.000,9, -999.000,9, -999.000,9, -999.000,9
     06MT030_2,   A02,   446,  3,      8,     15,2,19941018,0513, 48.8583, -13.7683, 4490,   3405.6,   2.5998,  34.9249,2,  34.9235,2,    245.4,2,    38.75,2,    21.50,2,     1.47,2, -999.000,9, -999.000,9, -999.000,9, -999.000,9
     06MT030_2,   A02,   446,  3,      7,     23,2,19941018,0513, 48.8583, -13.7683, 4490,   3606.9,   2.5518,  34.9178,2,  34.9161,2,    246.0,2,    40.38,2,    21.48,2,     1.47,2, -999.000,9, -999.000,9, -999.000,9, -999.000,9
     06MT030_2,   A02,   446,  3,      6,    910,2,19941018,0513, 48.8583, -13.7683, 4490,   3807.4,   2.5249,  34.9137,2,  34.9116,2,    243.6,2,    42.02,2,    21.64,2,     1.50,2, -999.000,9, -999.000,9, -999.000,9, -999.000,9
     06MT030_2,   A02,   446,  3,      5,     12,2,19941018,0513, 48.8583, -13.7683, 4490,   4007.6,   2.5069,  34.9099,2,  34.9078,2,    243.6,2,    43.00,2,    21.70,2,     1.52,2, -999.000,9, -999.000,9, -999.000,9, -999.000,9
     06MT030_2,   A02,   446,  3,      4,      6,2,19941018,0513, 48.8583, -13.7683, 4490,   4208.1,   2.5039,  34.9053,2,  34.9046,2,    243.4,2,    43.62,2,    21.82,2,     1.53,2, -999.000,9, -999.000,9, -999.000,9, -999.000,9
     06MT030_2,   A02,   446,  3,      3,     18,2,19941018,0513, 48.8583, -13.7683, 4490,   4306.9,   2.5039,  34.9037,2,  34.9036,2,    243.2,2,    43.81,2,    21.84,2,     1.54,2, -999.000,9, -999.000,9, -999.000,9, -999.000,9
     06MT030_2,   A02,   446,  3,      2,     17,2,19941018,0513, 48.8583, -13.7683, 4490,   4408.6,   2.5049,  34.9024,2,  34.9027,2,    243.3,2,    43.93,2,    21.63,2,     1.53,2, -999.000,9, -999.000,9, -999.000,9, -999.000,9
     06MT030_2,   A02,   446,  3,      1,     10,2,19941018,0513, 48.8583, -13.7683, 4490,   4540.6,   2.5119,  34.9005,2,  34.9014,2,    242.8,2,    44.22,2,    21.73,2,     1.55,2, -999.000,9, -999.000,9, -999.000,9, -999.000,9
     06MT030_2,   A02,   447,  1,     20,  10027,2,19941018,1549, 48.6433, -14.3550, 4552,     49.3,  14.5920,  35.5001,2,  35.4933,3,    252.5,2,     1.38,2,     0.39,2,     0.10,2,    2.966,2,    1.557,2,    0.274,2,    3.627,2
     06MT030_2,   A02,   447,  1,     19,  10017,2,19941018,1549, 48.6433, -14.3550, 4552,    105.4,  11.8487,  35.5999,2,  35.6033,2,    238.9,2,     4.49,2,     9.96,2,     0.55,2,    3.069,2,    1.572,2,    0.205,2,    2.009,2
     06MT030_2,   A02,   447,  1,     18,  10020,2,19941018,1549, 48.6433, -14.3550, 4552,    173.9,  11.1914,  35.5195,2,  35.5233,2,    246.3,2,     5.03,2,    10.47,2,     0.61,2,    3.133,2,    1.606,2,    0.199,2,    2.138,2
     06MT030_2,   A02,   447,  1,     17,  10009,2,19941018,1549, 48.6433, -14.3550, 4552,    245.6,  10.7848,  35.4664,2,  35.4699,2,    249.8,2,     5.41,2,    10.83,2,     0.65,2,    3.620,3,    1.948,3,    0.295,2,    2.515,2
     06MT030_2,   A02,   447,  1,     16,  10021,2,19941018,1549, 48.6433, -14.3550, 4552,    425.3,  10.2344,  35.4187,2,  35.4210,2,    255.2,3,     5.78,2,    11.19,2,     0.69,2,    3.343,2,    1.719,2,    0.242,2,    2.615,2
     06MT030_2,   A02,   447,  1,     15,  10025,2,19941018,1549, 48.6433, -14.3550, 4552,    596.1,   9.8029,  35.3865,2,  35.3877,2,    235.4,2,     7.29,2,    13.44,2,     0.83,2, -999.000,9, -999.000,9, -999.000,9, -999.000,9
     06MT030_2,   A02,   447,  1,     14,      2,2,19941018,1549, 48.6433, -14.3550, 4552,    949.4,   7.9490,  35.3981,2,  35.3995,2,    205.8,2,    11.41,2,    17.74,2,     1.11,2,    1.454,2,    0.714,2,    0.046,2,    1.467,2
     06MT030_2,   A02,   447,  1,     13,  10003,2,19941018,1549, 48.6433, -14.3550, 4552,   1249.3,   5.4740,  35.0960,2,  35.0989,2,    237.8,2,    12.19,2,    18.08,2,     1.19,2,    1.759,2,    0.845,2,    0.061,2,    2.286,4
     06MT030_2,   A02,   447,  1,     12,  10026,2,19941018,1549, 48.6433, -14.3550, 4552,   1496.9,   3.9779,  34.9255,2,  34.9255,2,    269.4,2,    11.72,2,    17.40,2,     1.15,2,    2.687,4,    1.385,4,    0.236,4,    4.048,4
     06MT030_2,   A02,   447,  1,     11,  10008,2,19941018,1549, 48.6433, -14.3550, 4552,   1746.2,   3.6124,  34.9020,2,  34.9028,2,    278.2,2,    11.88,2,    16.86,2,     1.13,2,    3.454,4,    1.990,4,    0.466,4,    4.898,4
     06MT030_2,   A02,   447,  1,     10,  10010,2,19941018,1549, 48.6433, -14.3550, 4552,   1897.7,   3.5335,  34.9082,2,  34.9084,2,    275.5,2,    12.55,2,    17.01,2,     1.13,2,    3.181,4,    1.868,4,    0.458,4,    4.592,4
     06MT030_2,   A02,   447,  1,      9,  10004,2,19941018,1549, 48.6433, -14.3550, 4552,   2290.1,   3.4077,  34.9576,2,  34.9585,2,    278.6,3,    17.69,2,    18.11,3,     1.18,2,    2.371,4,    1.541,4,    0.511,4,    3.426,4
     06MT030_2,   A02,   447,  1,      8,     15,2,19941018,1549, 48.6433, -14.3550, 4552,   2500.9,   3.1650,  34.9517,2,  34.9534,2,    270.3,2,    20.73,2,    18.35,2,     1.20,2,    1.499,4,    0.910,4,    0.511,4,    2.530,4
     06MT030_2,   A02,   447,  1,      7,     23,2,19941018,1549, 48.6433, -14.3550, 4552,   2753.8,   2.9523,  34.9525,2,  34.9518,2,    259.8,2,    28.16,2,    19.82,2,     1.30,2,    1.060,4,    0.687,4,    0.200,4,    1.592,4
     06MT030_2,   A02,   447,  1,      6,    910,2,19941018,1549, 48.6433, -14.3550, 4552,   3005.6,   2.7875,  34.9426,2,  34.9416,2,    250.6,2,    33.82,2,    20.88,2,     1.40,2,    0.924,4,    0.613,4,    0.189,4,    1.211,4
     06MT030_2,   A02,   447,  1,      5,     12,2,19941018,1549, 48.6433, -14.3550, 4552,   3256.2,   2.6687,  34.9311,2,  34.9304,2,    250.3,2,    36.92,2,    21.19,2,     1.45,2,    0.877,4,    0.598,4,    0.202,4,    1.117,4
     06MT030_2,   A02,   447,  1,      4,      6,2,19941018,1549, 48.6433, -14.3550, 4552,   3506.4,   2.5908,  34.9227,2,  34.9217,2,    246.6,2,    39.40,2,    21.65,2,     1.48,2,    0.852,4,    0.576,4,    0.196,4,    1.030,4
     06MT030_2,   A02,   447,  1,      3,     18,2,19941018,1549, 48.6433, -14.3550, 4552,   4006.4,   2.5159,  34.9100,2,  34.9089,2,    244.4,2,    42.93,2,    22.14,2,     1.52,2,    0.851,4,    0.576,4,    0.199,4,    0.978,4
     06MT030_2,   A02,   447,  1,      2,     17,2,19941018,1549, 48.6433, -14.3550, 4552,   4306.6,   2.5059,  34.9029,2,  34.9044,2,    244.3,2,    43.91,2,    22.10,2,     1.54,2,    0.857,4,    0.570,4,    0.203,4,    0.972,4
     06MT030_2,   A02,   447,  1,      1,     10,2,19941018,1549, 48.6433, -14.3550, 4552,   4558.3,   2.5139,  34.9007,2,  34.9020,2,    244.7,2,    44.49,2,    22.24,2,     1.55,2, -999.000,9, -999.000,9, -999.000,9, -999.000,9
     06MT030_2,   A02,   448,  1,     20,  10027,2,19941018,2222, 48.7317, -14.7550, 4707,     11.3,  14.4302,  35.4362,2,  35.4376,2,    253.4,2,     1.37,2,     0.21,2,     0.09,2,    2.967,2,    1.578,2,    0.238,2,    3.797,2
     06MT030_2,   A02,   448,  1,     19,  10017,2,19941018,2222, 48.7317, -14.7550, 4707,    105.5,  11.5560,  35.5542,2,  35.5569,2,    241.6,2,     3.93,2,     9.98,2,     0.51,2,    3.239,2,    1.685,2,    0.236,2,    2.301,2
     06MT030_2,   A02,   448,  1,     18,  10020,2,19941018,2222, 48.7317, -14.7550, 4707,    200.6,  10.8867,  35.4836,2,  35.4863,2,    249.5,2,     5.14,2,    10.60,2,     0.58,2, -999.000,9, -999.000,9, -999.000,9, -999.000,9
     06MT030_2,   A02,   448,  1,     17,  10009,2,19941018,2222, 48.7317, -14.7550, 4707,    350.8,  10.5411,  35.4576,2,  35.4605,2,    249.3,2,     5.48,2,    11.05,2,     0.62,2,    3.217,2,    1.657,2,    0.203,2,    2.268,2
     06MT030_2,   A02,   448,  1,     16,  10021,2,19941018,2222, 48.7317, -14.7550, 4707,    399.4,  10.4252,  35.4470,2,  35.4496,2,    248.0,2,     5.67,2,    11.30,2,     0.65,2,    3.178,2,    1.628,2,    0.194,2,    2.248,2
     06MT030_2,   A02,   448,  1,     15,  10025,2,19941018,2222, 48.7317, -14.7550, 4707,    499.8,  10.0586,  35.3987,2,  35.2696,4,    209.7,4,    10.18,4,    17.10,4,     1.02,4,    1.979,2,    0.978,2,    0.081,2,    1.677,2
     06MT030_2,   A02,   448,  1,     14,      2,2,19941018,2222, 48.7317, -14.7550, 4707,    742.0,   8.5253,  35.2704,2,  35.2687,2,    209.5,2,    10.19,2,    17.10,2,     1.07,2, -999.000,9, -999.000,9, -999.000,9, -999.000,9
     06MT030_2,   A02,   448,  1,     13,  10003,2,19941018,2222, 48.7317, -14.7550, 4707,    978.5,   7.5165,  35.3148,2,  35.3173,2,    209.6,2,    11.45,2,    17.97,2,     1.09,2,    1.534,2,    0.749,2,    0.047,2,    1.612,2
     06MT030_2,   A02,   448,  1,     12,  10026,2,19941018,2222, 48.7317, -14.7550, 4707,   1249.6,   5.1634,  35.0502,2,  35.0505,2,    246.0,2,    11.79,2,    18.07,2,     1.12,2, -999.000,9, -999.000,9, -999.000,9, -999.000,9
     06MT030_2,   A02,   448,  1,     11,  10008,2,19941018,2222, 48.7317, -14.7550, 4707,   1497.8,   4.0429,  34.9313,2,  34.9304,2,    266.6,2,    11.58,2,    18.01,2,     1.10,2, -999.000,9, -999.000,9, -999.000,9, -999.000,9
     06MT030_2,   A02,   448,  1,     10,  10010,2,19941018,2222, 48.7317, -14.7550, 4707,   1850.2,   3.5675,  34.9035,2,  34.9034,2,    278.3,2,    11.92,2,    17.46,2,     1.08,2, -999.000,9, -999.000,9, -999.000,9, -999.000,9
     06MT030_2,   A02,   448,  1,      9,  10004,2,19941018,2222, 48.7317, -14.7550, 4707,   2001.2,   3.4367,  34.9000,2,  34.9006,2,    280.9,2,    11.99,2,    17.23,2,     1.07,2,    1.797,2,    0.862,2,    0.105,2,    3.063,2
     06MT030_2,   A02,   448,  1,      8,     15,2,19941018,2222, 48.7317, -14.7550, 4707,   2302.4,   3.3847,  34.9457,2,  34.9454,2,    270.3,2,    15.75,2,    17.65,2,     1.10,2, -999.000,9, -999.000,9, -999.000,9, -999.000,9
     06MT030_2,   A02,   448,  1,      7,     23,2,19941018,2222, 48.7317, -14.7550, 4707,   2498.5,   3.2269,  34.9571,2,  34.9588,2,    263.8,2,    20.53,2,    18.42,2,     1.17,2,    0.425,2,    0.215,2,   -0.001,2,    1.144,2
     06MT030_2,   A02,   448,  1,      6,    910,2,19941018,2222, 48.7317, -14.7550, 4707,   2598.9,   3.1540,  34.9581,2,  34.9585,2,    261.0,2,    22.66,2,    18.52,2,     1.20,2, -999.000,9, -999.000,9, -999.000,9, -999.000,9
     06MT030_2,   A02,   448,  1,      5,     12,2,19941018,2222, 48.7317, -14.7550, 4707,   3007.1,   2.8654,  34.9471,2,  34.9467,2,    253.5,2,    30.49,2,    19.90,2,     1.30,2,    0.156,2,    0.074,2,   -0.001,2,    0.499,2
     06MT030_2,   A02,   448,  1,      4,      6,2,19941018,2222, 48.7317, -14.7550, 4707,   3256.8,   2.7456,  34.9379,2,  34.9375,2,    249.7,2,    33.91,2,    20.48,2,     1.37,2,    0.093,2,    0.044,2,   -0.006,2,    0.342,2
     06MT030_2,   A02,   448,  1,      3,     18,2,19941018,2222, 48.7317, -14.7550, 4707,   3509.9,   2.6537,  34.9283,2,  34.9273,2,    247.1,2,    37.05,2,    21.14,2,     1.40,2,    0.050,2,    0.019,2,   -0.003,2,    0.203,2
     06MT030_2,   A02,   448,  1,      2,     17,2,19941018,2222, 48.7317, -14.7550, 4707,   4008.5,   2.5498,  34.9123,2,  34.9133,2,    245.2,2,    41.44,2,    21.88,2,     1.47,2,    0.026,2,    0.006,2,   -0.005,2,    0.082,2
     06MT030_2,   A02,   448,  1,      1,     10,2,19941018,2222, 48.7317, -14.7550, 4707,   4311.0,   2.5349,  34.9067,2,  34.9074,2,    243.3,2,    42.99,2,    22.07,2,     1.50,2,    0.039,6,    0.007,6,   -0.004,2,    0.055,6
     06MT030_2,   A02,   449,  1,     22, KZM033,2,19941020,0950, 48.3483, -17.3450, 4143,     21.0,  14.5446,  35.4716,2,  35.4671,3,    248.8,2,     1.26,2,     0.77,2,     0.08,2,    2.968,2,    1.585,2,    0.249,2,    4.042,2
     06MT030_2,   A02,   449,  1,     21, KZM040,2,19941020,0950, 48.3483, -17.3450, 4143,     30.1,  14.5446,  35.4721,2,-999.0000,9,    247.8,2,     1.28,2,     0.77,2,     0.08,9,    2.977,2,    1.583,2,    0.247,2,    4.068,2
     06MT030_2,   A02,   449,  1,     20, KZM097,2,19941020,0950, 48.3483, -17.3450, 4143,    110.2,  12.0592,  35.5832,2,  35.5800,2,    233.5,2,     3.22,2,     9.67,2,     0.44,2, -999.000,9, -999.000,9, -999.000,9, -999.000,9
     06MT030_2,   A02,   449,  1,     19, KZM126,2,19941020,0950, 48.3483, -17.3450, 4143,    151.9,  11.3194,  35.5047,2,  35.5000,3,    236.7,2,     5.15,2,    11.35,2,     0.57,2,    3.083,2,    1.614,2,    0.238,2,    2.351,2
     06MT030_2,   A02,   449,  1,     18, KZM085,2,19941020,0950, 48.3483, -17.3450, 4143,    202.9,  11.0155,  35.4772,2,  35.4734,2,    241.7,2,     5.36,2,    11.48,2,     0.59,2, -999.000,9, -999.000,9, -999.000,9, -999.000,9
     06MT030_2,   A02,   449,  1,     17, KZM124,2,19941020,0950, 48.3483, -17.3450, 4143,    300.7,  10.3807,  35.3962,2,  35.3931,2,    246.2,2,     6.07,2,    12.02,2,     0.66,2,    3.565,4,    1.912,4,    0.332,4,    2.778,4
     06MT030_2,   A02,   449,  1,     16, KZM119,2,19941020,0950, 48.3483, -17.3450, 4143,    401.2,   9.6860,  35.2886,2,  35.2844,3,    243.5,2,     6.99,2,    13.34,2,     0.75,2, -999.000,9, -999.000,9, -999.000,9, -999.000,9
     06MT030_2,   A02,   449,  1,     15, KZM029,2,19941020,0950, 48.3483, -17.3450, 4143,    448.4,   9.3551,  35.2472,2,  35.2445,2,    240.3,2,     7.60,2,    13.96,2,     0.82,2, -999.000,9, -999.000,9, -999.000,9, -999.000,9
     06MT030_2,   A02,   449,  1,     14, KZM115,2,19941020,0950, 48.3483, -17.3450, 4143,    502.4,   9.2041,  35.2438,2,  35.2440,2,    245.1,3,     7.52,2,    13.80,2,     0.81,2, -999.000,9, -999.000,9, -999.000,9, -999.000,9
     06MT030_2,   A02,   449,  1,     13, KZM090,2,19941020,0950, 48.3483, -17.3450, 4143,    600.4,   8.9662,  35.2729,2,  35.2756,2,    220.0,3,     9.13,2,    15.91,2,     0.94,2,    2.391,2,    1.199,2,    0.129,2,    2.022,2
     06MT030_2,   A02,   449,  1,     12, KZM117,2,19941020,0950, 48.3483, -17.3450, 4143,    659.1,   8.6883,  35.2787,2,  35.2761,2,    208.8,2,    10.10,2,    17.28,2,     1.03,2,    2.004,2,    0.991,2,    0.091,2,    1.701,2
     06MT030_2,   A02,   449,  1,     11, KZM008,2,19941020,0950, 48.3483, -17.3450, 4143,    724.3,   7.7246,  35.1322,2,  35.1216,3,    215.1,2,    10.97,2,    18.06,2,     1.11,3,    2.181,2,    1.075,2,    0.119,2,    2.260,2
     06MT030_2,   A02,   449,  1,     10, KZM036,2,19941020,0950, 48.3483, -17.3450, 4143,    749.0,   7.3848,  35.0943,2,  35.0923,2,    215.1,2,    11.24,2,    18.37,2,     1.13,2,    2.171,2,    1.075,2,    0.120,2,    2.321,2
     06MT030_2,   A02,   449,  1,      9, KZM114,2,19941020,0950, 48.3483, -17.3450, 4143,    849.8,   6.8650,  35.1258,2,  35.1256,2,    216.0,2,    11.75,2,    18.75,2,     1.15,2,    1.943,2,    0.959,2,    0.109,2,    2.261,2
     06MT030_2,   A02,   449,  1,      8, KZM199,2,19941020,0950, 48.3483, -17.3450, 4143,    898.9,   6.5321,  35.1034,2,  35.1029,2,    219.7,2,    11.87,2,    18.76,2,     1.17,2,    2.349,4,    1.223,4,    0.219,4,    2.583,4
     06MT030_2,   A02,   449,  1,      7, KZM067,2,19941020,0950, 48.3483, -17.3450, 4143,    998.3,   5.8194,  35.0766,2,  35.0765,2,    229.9,2,    12.02,2,    18.65,2,     1.15,2,    1.941,2,    0.933,2,    0.094,2,    2.480,2
     06MT030_2,   A02,   449,  1,      6, KZM017,2,19941020,0950, 48.3483, -17.3450, 4143,   1100.7,   5.4285,  35.0763,2,  35.0776,2,    237.5,2,    11.99,2,    18.41,2,     1.15,2,    1.842,2,    0.885,2,    0.080,2,    2.573,2
     06MT030_2,   A02,   449,  1,      5, KZM128,2,19941020,0950, 48.3483, -17.3450, 4143,   1212.2,   5.4135,  35.1299,2,  35.1301,2,    240.8,2,    12.08,2,    18.08,2,     1.12,2,    1.537,2,    0.739,2,    0.055,2,    2.329,2
     06MT030_2,   A02,   449,  1,      4, KZM056,2,19941020,0950, 48.3483, -17.3450, 4143,   1300.4,   4.9397,  35.0698,2,  35.0695,2,    249.4,2,    12.01,2,    17.84,2,     1.13,2,    1.626,2,    0.780,2,    0.062,2,    2.595,2
     06MT030_2,   A02,   449,  1,      3, KZM061,2,19941020,0950, 48.3483, -17.3450, 4143,   1601.2,   3.6673,  34.9021,2,  34.9020,2,    276.9,2,    11.51,2,    17.22,2,     1.09,2,    2.093,2,    0.993,2,    0.096,2,    3.615,2
     06MT030_2,   A02,   449,  1,      2, KZM052,2,19941020,0950, 48.3483, -17.3450, 4143,   1999.6,   3.4034,  34.8989,2,  34.8982,2,    281.6,2,    11.99,2,    16.85,2,     1.07,2,    1.896,2,    0.916,2,    0.101,2,    3.505,2
     06MT030_2,   A02,   449,  1,      1, KZM038,2,19941020,0950, 48.3483, -17.3450, 4143,   2200.6,   3.3884,  34.9174,2,  34.9171,2,    277.6,2,    12.77,2,    16.84,2,     1.09,2,    1.664,2,    0.861,2,    0.283,4,    3.114,2