BOTTLE,20010917WHPSIOKJU
EXPOCODE,SECT_ID,STNNBR,CASTNO,SAMPNO,BTLNBR,BTLNBR_FLAG_W,DATE,TIME,LATITUDE,LONGITUDE,DEPTH,CTDPRS,CTDTMP,CTDSAL,CTDSAL_FLAG_W,SALNTY,SALNTY_FLAG_W,OXYGEN,OXYGEN_FLAG_W,SILCAT,SILCAT_FLAG_W,NITRAT,NITRAT_FLAG_W,PHSPHT,PHSPHT_FLAG_W,CFC-11,CFC-11_FLAG_W,CFC-12,CFC-12_FLAG_W,CFC113,CFC113_FLAG_W,CCL4,CCL4_FLAG_W
,,,,,,,,,,,,DBAR,ITS-90,PSS-78,,PSS-78,,UMOL/KG,,UMOL/KG,,UMOL/KG,,UMOL/KG,,PMOL/L,,PMOL/L,,PMOL/L,,PMOL/L,
     06MT030_2,   A02,   458,  3,     23, KZM125,2,19941025,2040, 47.2350, -25.3700, 2863,    790.1,   7.2478,  35.2672,2,  35.2667,2,    209.8,2,    11.68,2,    17.95,2,     1.05,2,    1.511,2,    0.735,2,    0.049,2,    1.749,2
     06MT030_2,   A02,   458,  3,     22, KZM033,2,19941025,2040, 47.2350, -25.3700, 2863,    918.8,   5.9463,  35.1312,2,  35.1305,2,    227.6,2,    11.88,2,    18.18,2,     1.14,2,    1.722,2,    0.831,2,    0.068,2,    2.333,2
     06MT030_2,   A02,   458,  3,     21, KZM040,2,19941025,2040, 47.2350, -25.3700, 2863,    979.7,   5.7784,  35.1381,2,  35.1368,2,    232.7,2,    11.85,2,    18.02,2,     1.14,2,    1.673,2,    0.804,2,    0.062,2,    2.294,2
     06MT030_2,   A02,   458,  3,     20, KZM097,2,19941025,2040, 47.2350, -25.3700, 2863,   1099.2,   4.9687,  35.0459,2,  35.0468,2,    246.2,2,    11.71,2,    17.83,2,     1.14,2,    1.800,2,    0.870,2,    0.076,2,    2.841,2
     06MT030_2,   A02,   458,  3,     19, KZM126,2,19941025,2040, 47.2350, -25.3700, 2863,   1183.7,   4.5989,  35.0048,2,  35.0046,2,    254.7,2,    11.66,2,    17.70,2,     1.13,2, -999.000,9, -999.000,9, -999.000,9, -999.000,9
     06MT030_2,   A02,   458,  3,     18, KZM085,2,19941025,2040, 47.2350, -25.3700, 2863,   1300.0,   4.1590,  34.9552,2,  34.9555,2,    263.7,2,    11.59,2,    17.45,2,     1.13,2,    1.986,2,    0.987,2,    0.100,2,    3.379,2
     06MT030_2,   A02,   458,  3,     17, KZM124,2,19941025,2040, 47.2350, -25.3700, 2863,   1396.0,   3.9711,  34.9382,2,  34.9386,2,    268.1,2,    11.58,2,    17.35,2,     1.11,2, -999.000,9, -999.000,9, -999.000,9, -999.000,9
     06MT030_2,   A02,   458,  3,     16, KZM119,2,19941025,2040, 47.2350, -25.3700, 2863,   1497.4,   3.7682,  34.9191,2,  34.9201,2,    273.0,2,    11.53,2,    17.13,2,     1.10,2,    1.803,2,    0.871,2,    0.089,2,    3.285,2
     06MT030_2,   A02,   458,  3,     15, KZM029,2,19941025,2040, 47.2350, -25.3700, 2863,   1595.7,   3.6443,  34.9080,2,  34.9078,2,    276.2,2,    11.48,2,    17.03,2,     1.10,2,    1.824,2,    0.884,2,    0.059,2,    3.322,2
     06MT030_2,   A02,   458,  3,     14, KZM115,2,19941025,2040, 47.2350, -25.3700, 2863,   1797.1,   3.5013,  34.9056,2,  34.9076,2,    278.2,2,    11.83,2,    16.73,2,     1.08,2,    1.635,2,    0.820,2,    0.052,2,    3.151,2
     06MT030_2,   A02,   458,  3,     13, KZM090,2,19941025,2040, 47.2350, -25.3700, 2863,   1898.4,   3.4733,  34.9086,2,  34.9091,2,    277.6,2,    11.99,2,    16.70,2,     1.09,2, -999.000,9, -999.000,9, -999.000,9, -999.000,9
     06MT030_2,   A02,   458,  3,     12, KZM117,2,19941025,2040, 47.2350, -25.3700, 2863,   1999.2,   3.4564,  34.9127,2,  34.9143,2,    276.6,2,    12.22,2,    16.83,2,     1.09,2,    1.425,2,    0.724,2,    0.040,2,    2.873,2
     06MT030_2,   A02,   458,  3,     11, KZM008,2,19941025,2040, 47.2350, -25.3700, 2863,   2100.5,   3.4244,  34.9207,2,  34.9213,2,    276.1,2,    12.76,2,    16.83,2,     1.09,2,    1.250,2,    0.626,2,    0.033,2,    2.624,2
     06MT030_2,   A02,   458,  3,      9, KZM114,2,19941025,2040, 47.2350, -25.3700, 2863,   2298.9,   3.3154,  34.9375,2,  34.9388,2,    272.0,2,    14.28,2,    16.90,2,     1.10,2,    0.898,2,    0.460,2,    0.015,2,    2.055,2
     06MT030_2,   A02,   458,  3,      8,  UB001,2,19941025,2040, 47.2350, -25.3700, 2863,   2400.1,   3.2744,  34.9405,2,  34.9415,2,    272.4,2,    14.87,2,    16.89,2,     1.11,2,    0.866,2,    0.428,2,    0.015,2,    1.998,2
     06MT030_2,   A02,   458,  3,      7, KZM067,2,19941025,2040, 47.2350, -25.3700, 2863,   2501.4,   3.1935,  34.9450,2,  34.9451,2,    270.4,2,    16.41,2,    16.97,2,     1.11,2,    0.840,2,    0.427,2,    0.046,4,    1.882,2
     06MT030_2,   A02,   458,  3,      6, KZM017,2,19941025,2040, 47.2350, -25.3700, 2863,   2597.7,   3.1335,  34.9461,2,  34.9470,2,    269.9,2,    17.20,2,    17.13,2,     1.13,2,    0.787,2,    0.383,2,    0.012,2,    1.781,2
     06MT030_2,   A02,   458,  3,      5,  UB319,2,19941025,2040, 47.2350, -25.3700, 2863,   2701.7,   3.0196,  34.9471,2,  34.9478,2,    265.6,2,    20.01,2,    17.45,2,     1.17,3,    0.711,2,    0.363,2,    0.009,2,    1.621,2
     06MT030_2,   A02,   458,  3,      4, KZM056,2,19941025,2040, 47.2350, -25.3700, 2863,   2800.2,   3.0116,  34.9471,2,  34.9486,2,    265.7,2,    20.44,2,    17.62,2,     1.16,2,    0.701,2,    0.366,2,    0.011,2,    1.599,2
     06MT030_2,   A02,   458,  3,      3, KZM061,2,19941025,2040, 47.2350, -25.3700, 2863,   2840.2,   2.9746,  34.9469,2,  34.9469,2,    265.8,2,    21.42,2,    17.78,2,     1.17,2,    0.673,2,    0.349,2,    0.011,2,    1.511,2
     06MT030_2,   A02,   458,  3,      1, KZM038,2,19941025,2040, 47.2350, -25.3700, 2863,   2870.3,   2.9686,  34.9466,2,  34.9467,2,    265.7,2,    21.65,2,    17.90,2,     1.20,2,    0.662,2,    0.368,2,    0.009,2,    1.486,2
     06MT030_2,   A02,   458,  3,      2, KZM052,2,19941025,2040, 47.2350, -25.3700, 2863,   2870.4,   2.9676,  34.9468,2,  34.9470,2,    264.6,2,    21.63,2,    17.82,2,     1.17,2,    0.673,2,    0.365,2,    0.009,2,    1.525,2
     06MT030_2,   A02,   459,  1,     24, KZM012,2,19941026,0224, 47.1050, -26.2867, 2430,     10.5,  14.4106,  35.2938,2,  35.2920,2,    250.3,2,     2.01,2,     1.16,2,     0.13,2, -999.000,9, -999.000,9, -999.000,9, -999.000,9
     06MT030_2,   A02,   459,  1,     23, KZM125,2,19941026,0224, 47.1050, -26.2867, 2430,     81.1,  13.4828,  35.6960,2,  35.6957,2,    226.6,2,     3.80,2,     7.84,2,     0.42,2, -999.000,9, -999.000,9, -999.000,9, -999.000,9
     06MT030_2,   A02,   459,  1,     22, KZM033,2,19941026,0224, 47.1050, -26.2867, 2430,    200.1,  11.9693,  35.5957,2,  35.5974,2,    231.9,2,     5.20,2,    10.53,2,     0.59,2, -999.000,9, -999.000,9, -999.000,9, -999.000,9
     06MT030_2,   A02,   459,  1,     21, KZM040,2,19941026,0224, 47.1050, -26.2867, 2430,    299.4,  11.2065,  35.4925,2,  35.4910,2,    232.9,2,     6.13,2,    11.78,2,     0.69,2, -999.000,9, -999.000,9, -999.000,9, -999.000,9
     06MT030_2,   A02,   459,  1,     20, KZM097,2,19941026,0224, 47.1050, -26.2867, 2430,    399.0,  10.1518,  35.3333,2,  35.3332,2,    230.9,2,     7.38,2,    13.47,2,     0.82,2, -999.000,9, -999.000,9, -999.000,9, -999.000,9
     06MT030_2,   A02,   459,  1,     19, KZM126,2,19941026,0224, 47.1050, -26.2867, 2430,    499.4,   9.1031,  35.1911,2,  35.1877,2,    214.3,2,     9.45,2,    16.29,2,     1.01,2, -999.000,9, -999.000,9, -999.000,9, -999.000,9
     06MT030_2,   A02,   459,  1,     18, KZM085,2,19941026,0224, 47.1050, -26.2867, 2430,    600.4,   7.9735,  35.0924,2,  35.0892,2,    208.1,2,    10.93,2,    18.28,2,     1.16,2, -999.000,9, -999.000,9, -999.000,9, -999.000,9
     06MT030_2,   A02,   459,  1,     17, KZM124,2,19941026,0224, 47.1050, -26.2867, 2430,    701.1,   7.0459,  35.0870,2,  35.0845,2,    208.8,2,    11.86,2,    18.90,2,     1.20,2, -999.000,9, -999.000,9, -999.000,9, -999.000,9
     06MT030_2,   A02,   459,  1,     16, KZM119,2,19941026,0224, 47.1050, -26.2867, 2430,    774.7,   6.0053,  35.0074,2,  35.0032,2,    223.0,2,    12.10,2,    18.80,2,     1.21,2, -999.000,9, -999.000,9, -999.000,9, -999.000,9
     06MT030_2,   A02,   459,  1,     15, KZM029,2,19941026,0224, 47.1050, -26.2867, 2430,    799.7,   5.9673,  35.0349,2,  35.0349,2,   -999.0,9,    12.00,2,    18.54,2,     1.18,2, -999.000,9, -999.000,9, -999.000,9, -999.000,9
     06MT030_2,   A02,   459,  1,     14, KZM115,2,19941026,0224, 47.1050, -26.2867, 2430,    861.9,   5.9843,  35.0812,2,  35.0800,2,    223.9,2,    12.02,2,    18.45,2,     1.20,2, -999.000,9, -999.000,9, -999.000,9, -999.000,9
     06MT030_2,   A02,   459,  1,     13, KZM090,2,19941026,0224, 47.1050, -26.2867, 2430,    911.7,   5.5075,  35.0337,2,  35.0341,2,    232.4,2,    12.02,2,    18.36,2,     1.19,2, -999.000,9, -999.000,9, -999.000,9, -999.000,9
     06MT030_2,   A02,   459,  1,     12, KZM117,2,19941026,0224, 47.1050, -26.2867, 2430,   1000.5,   4.9147,  34.9914,2,  34.9894,2,    244.2,2,    12.01,2,    18.23,2,     1.15,2, -999.000,9, -999.000,9, -999.000,9, -999.000,9
     06MT030_2,   A02,   459,  1,     11, KZM008,2,19941026,0224, 47.1050, -26.2867, 2430,   1098.8,   4.4119,  34.9570,2,  34.9550,2,    257.5,2,    11.78,2,    17.93,2,     1.17,2, -999.000,9, -999.000,9, -999.000,9, -999.000,9
     06MT030_2,   A02,   459,  1,     10, KZM036,2,19941026,0224, 47.1050, -26.2867, 2430,   1199.1,   4.1211,  34.9329,2,-999.0000,9,   -999.0,9,    10.92,2,    16.75,2,     1.08,9, -999.000,9, -999.000,9, -999.000,9, -999.000,9
     06MT030_2,   A02,   459,  1,      9, KZM114,2,19941026,0224, 47.1050, -26.2867, 2430,   1300.7,   3.8822,  34.9150,2,  34.9141,2,    271.8,2,    11.31,2,    17.04,2,     1.12,2, -999.000,9, -999.000,9, -999.000,9, -999.000,9
     06MT030_2,   A02,   459,  1,      8,  UB001,2,19941026,0224, 47.1050, -26.2867, 2430,   1400.5,   3.7032,  34.9040,2,  34.9035,2,    276.2,2,    11.28,2,    16.80,2,     1.12,2, -999.000,9, -999.000,9, -999.000,9, -999.000,9
     06MT030_2,   A02,   459,  1,      7, KZM067,2,19941026,0224, 47.1050, -26.2867, 2430,   1649.3,   3.4683,  34.8908,2,  34.8876,2,    283.0,2,    11.19,2,    16.44,2,     1.09,2,    2.271,2,    1.094,2,    0.107,2,    3.781,2
     06MT030_2,   A02,   459,  1,      6, KZM017,2,19941026,0224, 47.1050, -26.2867, 2430,   1899.8,   3.3874,  34.8942,2,  34.8928,2,    282.6,2,    11.49,2,    16.33,2,     1.08,2,    2.017,2,    0.969,2,    0.086,2,    3.493,2
     06MT030_2,   A02,   459,  1,      5,  UB319,2,19941026,0224, 47.1050, -26.2867, 2430,   2102.0,   3.3854,  34.9149,2,  34.9149,2,    278.2,2,    12.54,2,    16.41,2,     1.09,2,    1.440,2,    0.706,2,    0.046,2,    2.717,2
     06MT030_2,   A02,   459,  1,      4, KZM056,2,19941026,0224, 47.1050, -26.2867, 2430,   2194.8,   3.3704,  34.9215,2,  34.9204,2,    276.5,2,    12.93,2,    16.42,2,     1.10,2,    1.292,2,    0.632,2,    0.039,2,    2.459,2
     06MT030_2,   A02,   459,  1,      3, KZM061,2,19941026,0224, 47.1050, -26.2867, 2430,   2300.6,   3.2954,  34.9342,2,  34.9338,2,    274.4,2,    14.33,2,    16.62,2,     1.11,2,    1.031,2,    0.513,2,    0.025,2,    2.036,2
     06MT030_2,   A02,   459,  1,      2, KZM052,2,19941026,0224, 47.1050, -26.2867, 2430,   2347.1,   3.2874,  34.9356,2,  34.9351,2,    273.4,2,    14.55,2,    16.64,2,     1.12,2,    1.015,2,    0.503,2,    0.021,2,    1.994,2
     06MT030_2,   A02,   459,  1,      1, KZM038,2,19941026,0224, 47.1050, -26.2867, 2430,   2374.0,   3.2644,  34.9376,2,  34.9378,2,    272.8,2,    14.91,2,    16.60,2,     1.11,2,    0.984,2,    0.542,2,    0.046,4,    2.037,2
     06MT030_2,   A02,   460,  1,     24, KZM012,2,19941026,0601, 47.0750, -26.6583, 2716,     13.5,  14.3836,  35.2885,2,  35.2800,3,    250.3,2,     1.34,2,     1.14,2,     0.13,2,    2.955,2,    1.610,2,    0.235,2,    4.018,2
     06MT030_2,   A02,   460,  1,     23, KZM125,2,19941026,0601, 47.0750, -26.6583, 2716,     29.8,  14.3916,  35.2929,2,  35.2871,3,    248.4,2,     1.37,2,     1.13,2,     0.13,2,    3.182,2,    1.750,2,    0.302,2,    4.252,2
     06MT030_2,   A02,   460,  1,     22, KZM033,2,19941026,0601, 47.0750, -26.6583, 2716,     70.5,  14.1697,  35.4016,2,  35.3965,3,    239.6,2,     1.75,2,     2.87,2,     0.20,2, -999.000,9, -999.000,9, -999.000,9, -999.000,9
     06MT030_2,   A02,   460,  1,     21, KZM040,2,19941026,0601, 47.0750, -26.6583, 2716,     90.1,  12.7440,  35.5549,2,  35.5491,3,    222.9,2,     3.58,2,     8.62,2,     0.49,2,    2.883,2,    1.584,2,    0.292,2,    1.959,2
     06MT030_2,   A02,   460,  1,     20, KZM097,2,19941026,0601, 47.0750, -26.6583, 2716,    199.2,  11.3134,  35.5003,2,  35.4985,2,    233.6,2,     5.21,2,    11.30,2,     0.67,2, -999.000,9, -999.000,9, -999.000,9, -999.000,9
     06MT030_2,   A02,   460,  1,     19, KZM126,2,19941026,0601, 47.0750, -26.6583, 2716,    299.8,  10.7276,  35.4324,2,  35.4291,2,    237.0,2,     6.03,2,    11.99,2,     0.73,2,    2.948,2,    1.587,2,    0.175,2,    2.158,2
     06MT030_2,   A02,   460,  1,     18, KZM085,2,19941026,0601, 47.0750, -26.6583, 2716,    398.6,   9.6310,  35.2696,2,  35.2678,2,    224.3,2,     7.91,2,    14.44,2,     0.92,2,    2.627,2,    1.375,2,    0.144,2,    2.115,2
     06MT030_2,   A02,   460,  1,     17, KZM124,2,19941026,0601, 47.0750, -26.6583, 2716,    478.3,   9.0971,  35.2311,2,  35.2283,2,    244.3,4,     7.40,4,    13.62,4,     0.87,4,    3.100,3,    1.605,3,    0.207,3,    2.939,3
     06MT030_2,   A02,   460,  1,     15, KZM029,2,19941026,0601, 47.0750, -26.6583, 2716,    680.3,   7.3928,  35.0750,2,  35.0725,2,    214.5,2,  -999.00,9,  -999.00,9,  -999.00,9,    0.046,4,    0.022,4,    0.002,9,    0.100,4
     06MT030_2,   A02,   460,  1,     14, KZM115,2,19941026,0601, 47.0750, -26.6583, 2716,    789.8,   6.8040,  35.1012,2,  35.0995,2,    210.8,2,    11.78,2,    18.86,2,     1.21,2,    1.813,2,    0.897,2,    0.080,2,    2.139,2
     06MT030_2,   A02,   460,  1,     13, KZM090,2,19941026,0601, 47.0750, -26.6583, 2716,    970.3,   5.3965,  35.0311,2,  35.0309,2,    232.9,2,    11.85,2,    18.42,2,     1.20,2,    1.989,2,    0.985,2,    0.100,2,    2.797,2
     06MT030_2,   A02,   460,  1,     12, KZM117,2,19941026,0601, 47.0750, -26.6583, 2716,   1100.9,   4.8508,  35.0104,2,  35.0106,2,    248.6,2,    11.70,2,    17.99,2,     1.17,2,    2.214,2,    1.138,2,    0.159,4,    3.155,2
     06MT030_2,   A02,   460,  1,     11, KZM008,2,19941026,0601, 47.0750, -26.6583, 2716,   1180.5,   4.2760,  34.9476,2,  34.9473,2,    260.0,2,    11.53,2,    17.72,2,     1.16,2,    2.172,2,    1.111,2,    0.105,2,    3.321,2
     06MT030_2,   A02,   460,  1,      9, KZM114,2,19941026,0601, 47.0750, -26.6583, 2716,   1400.1,   3.7832,  34.9093,2,  34.9098,2,    275.2,2,    11.32,2,    17.11,2,     1.14,2,    2.195,2,    1.083,2,    0.096,2,    3.573,2
     06MT030_2,   A02,   460,  1,      8,  UB001,2,19941026,0601, 47.0750, -26.6583, 2716,   1598.7,   3.5673,  34.8946,2,  34.8956,2,    283.3,2,    11.28,2,    16.86,2,     1.13,2, -999.000,9, -999.000,9, -999.000,9, -999.000,9
     06MT030_2,   A02,   460,  1,      7, KZM067,2,19941026,0601, 47.0750, -26.6583, 2716,   1801.3,   3.4164,  34.8931,2,  34.8917,2,    280.6,2,    11.53,2,    16.70,2,     1.12,2,    2.058,2,    1.016,2,    0.089,2,    3.522,2
     06MT030_2,   A02,   460,  1,      6, KZM017,2,19941026,0601, 47.0750, -26.6583, 2716,   2000.4,   3.3724,  34.9025,2,  34.9032,2,    280.2,2,    12.26,2,    16.67,2,     1.12,2, -999.000,9, -999.000,9, -999.000,9, -999.000,9
     06MT030_2,   A02,   460,  1,      5,  UB319,2,19941026,0601, 47.0750, -26.6583, 2716,   2198.6,   3.3444,  34.9230,2,  34.9235,2,    275.4,2,    13.38,2,    16.72,2,     1.13,2,    1.251,2,    0.608,2,    0.038,2,    2.513,2
     06MT030_2,   A02,   460,  1,      4, KZM056,2,19941026,0601, 47.0750, -26.6583, 2716,   2403.1,   3.2554,  34.9351,2,  34.9354,2,    271.1,2,    16.03,2,    16.92,2,     1.15,2, -999.000,9, -999.000,9, -999.000,9, -999.000,9
     06MT030_2,   A02,   460,  1,      3, KZM061,2,19941026,0601, 47.0750, -26.6583, 2716,   2603.6,   3.2105,  34.9393,2,  34.9392,2,    271.6,2,    16.77,2,    16.96,2,     1.16,2,    0.886,2,    0.440,2,    0.019,2,    1.941,2
     06MT030_2,   A02,   460,  1,      1, KZM038,2,19941026,0601, 47.0750, -26.6583, 2716,   2719.0,   3.1755,  34.9418,2,  34.9410,2,    268.7,2,    17.88,2,    17.10,2,     1.17,2,    0.835,2,    0.420,2,    0.014,2,    1.807,2
     06MT030_2,   A02,   460,  1,      2, KZM052,2,19941026,0601, 47.0750, -26.6583, 2716,   2719.3,   3.1735,  34.9419,2,  34.9420,2,    269.0,2,    17.69,2,    17.09,2,     1.17,2, -999.000,9, -999.000,9, -999.000,9, -999.000,9