BOTTLE,20010917WHPSIOKJU
EXPOCODE,SECT_ID,STNNBR,CASTNO,SAMPNO,BTLNBR,BTLNBR_FLAG_W,DATE,TIME,LATITUDE,LONGITUDE,DEPTH,CTDPRS,CTDTMP,CTDSAL,CTDSAL_FLAG_W,SALNTY,SALNTY_FLAG_W,OXYGEN,OXYGEN_FLAG_W,SILCAT,SILCAT_FLAG_W,NITRAT,NITRAT_FLAG_W,PHSPHT,PHSPHT_FLAG_W,CFC-11,CFC-11_FLAG_W,CFC-12,CFC-12_FLAG_W,CFC113,CFC113_FLAG_W,CCL4,CCL4_FLAG_W
,,,,,,,,,,,,DBAR,ITS-90,PSS-78,,PSS-78,,UMOL/KG,,UMOL/KG,,UMOL/KG,,UMOL/KG,,PMOL/L,,PMOL/L,,PMOL/L,,PMOL/L,
     06MT030_2,   A02,   455,  1,     19,  10027,2,19941024,1051, 47.6050, -22.8133, 4177,     10.1,  14.2533,  35.2559,2,  35.2542,2,    249.6,2,     1.94,2,     1.45,2,     0.14,2,    2.947,2,    1.565,2,    0.233,2,    3.902,2
     06MT030_2,   A02,   455,  1,     18,  10017,2,19941024,1051, 47.6050, -22.8133, 4177,     29.6,  14.2543,  35.2563,2,  35.2546,2,    249.7,2,     1.88,2,     1.46,2,     0.14,2,    2.996,2,    1.592,2,    0.233,2,    3.937,2
     06MT030_2,   A02,   455,  1,     17,  10020,2,19941024,1051, 47.6050, -22.8133, 4177,     69.5,  13.3082,  35.7215,2,  35.7231,2,    228.8,2,     3.88,2,     8.31,2,     0.46,2,    2.910,2,    1.528,2,    0.191,2,    1.938,2
     06MT030_2,   A02,   455,  1,     16,  10009,2,19941024,1051, 47.6050, -22.8133, 4177,    103.7,  13.0855,  35.7567,2,  35.7600,2,    233.7,2,     3.75,2,     8.15,2,     0.48,2,    3.315,2,    1.830,2,    0.250,2,    2.178,2
     06MT030_2,   A02,   455,  1,     15,  10091,2,19941024,1051, 47.6050, -22.8133, 4177,    125.2,  12.8707,  35.7334,2,  35.7392,3,    234.4,2,     3.94,2,     8.58,2,     0.51,2,    2.978,2,    1.562,2,    0.183,2,    2.038,2
     06MT030_2,   A02,   455,  1,     14,  10025,2,19941024,1051, 47.6050, -22.8133, 4177,    199.2,  12.2823,  35.6675,2,  35.6705,2,    238.3,2,     4.43,2,     9.42,2,     0.56,2,    2.987,2,    1.551,2,    0.176,2,    2.052,2
     06MT030_2,   A02,   455,  1,     13,      2,2,19941024,1051, 47.6050, -22.8133, 4177,    324.0,  11.4102,  35.5364,2,  35.5383,2,    236.6,2,     5.61,2,    11.10,2,     0.68,2,    2.924,2,    1.514,2,    0.192,2,    1.992,2
     06MT030_2,   A02,   455,  1,     12,  10003,2,19941024,1051, 47.6050, -22.8133, 4177,    496.9,  10.7149,  35.4469,2,  35.4486,2,    242.9,2,     5.85,2,    11.50,2,     0.71,2,    3.106,2,    1.587,2,    0.179,2,    2.261,2
     06MT030_2,   A02,   455,  1,     11,  10026,2,19941024,1051, 47.6050, -22.8133, 4177,    596.2,  10.0736,  35.3613,2,  35.3613,2,    227.2,2,     7.49,2,    13.72,2,     0.86,2,    2.869,2,    1.471,2,    0.158,2,    2.044,2
     06MT030_2,   A02,   455,  1,     10,  10009,2,19941024,1051, 47.6050, -22.8133, 4177,    656.7,   8.9459,  35.1897,2,  35.1874,2,    207.5,2,     9.79,2,    17.04,2,     1.09,2,    2.381,2,    1.224,2,    0.149,2,    2.168,2
     06MT030_2,   A02,   455,  1,      9,  10010,2,19941024,1051, 47.6050, -22.8133, 4177,    716.6,   8.8630,  35.2523,2,  35.2518,2,    206.6,2,     9.85,2,    17.08,2,     1.10,2,    2.339,2,    1.208,2,    0.184,4,    2.012,2
     06MT030_2,   A02,   455,  1,      8,     15,2,19941024,1051, 47.6050, -22.8133, 4177,    928.1,   7.6124,  35.2834,2,  35.2840,2,    207.5,2,    11.51,2,    18.36,2,     1.20,2,    1.572,2,    0.782,2,    0.062,2,    1.766,2
     06MT030_2,   A02,   455,  1,      7,     23,2,19941024,1051, 47.6050, -22.8133, 4177,    996.3,   6.9462,  35.2344,2,  35.2356,2,    214.4,2,    11.69,2,    18.35,2,     1.20,2,    1.612,2,    0.792,2,    0.058,2,    1.969,2
     06MT030_2,   A02,   455,  1,      6,    910,2,19941024,1051, 47.6050, -22.8133, 4177,   1175.7,   4.7270,  34.9756,2,  34.9736,2,    248.7,2,    11.92,2,    18.47,2,     1.19,2,    2.198,2,    1.042,2,    0.102,2,    3.155,2
     06MT030_2,   A02,   455,  1,      5,     12,2,19941024,1051, 47.6050, -22.8133, 4177,   1197.1,   4.6601,  34.9740,2,  34.9731,2,    199.6,4,    11.80,2,    18.22,2,     1.21,2,    2.183,2,    1.038,2,    0.100,2,    3.178,2
     06MT030_2,   A02,   455,  1,      4,      6,2,19941024,1051, 47.6050, -22.8133, 4177,   1397.4,   4.0199,  34.9326,2,  34.9313,2,    266.5,2,    11.47,2,    17.50,2,     1.17,2,    2.081,2,    0.993,2,    0.082,2,    3.398,2
     06MT030_2,   A02,   455,  1,      3,     18,2,19941024,1051, 47.6050, -22.8133, 4177,   1598.3,   3.6823,  34.9061,2,  34.9042,2,    275.3,2,    11.39,2,    17.05,2,     1.14,2,    2.083,2,    0.994,2,    0.080,2,    3.598,2
     06MT030_2,   A02,   455,  1,      2,     17,2,19941024,1051, 47.6050, -22.8133, 4177,   1798.9,   3.4976,  34.8947,2,  34.8938,2,    279.8,2,    11.43,2,    16.70,2,     1.13,2, -999.000,9, -999.000,9, -999.000,9, -999.000,9
     06MT030_2,   A02,   455,  1,      1,     10,2,19941024,1051, 47.6050, -22.8133, 4177,   1896.8,   3.4786,  34.8997,2,  34.8987,2,    279.7,2,    11.65,2,    16.68,2,     1.14,2,    1.890,2,    0.910,2,    0.121,4,    3.432,2
     06MT030_2,   A02,   455,  3,     24, KZM012,2,19941024,1805, 47.5983, -22.8167, 4238,     10.6,  14.3046,  35.3557,2,  35.3504,2,    247.5,2,     1.94,2,     1.79,2,     0.17,2,    2.987,2,    1.772,3,    0.223,2,    3.750,2
     06MT030_2,   A02,   455,  3,     23, KZM125,2,19941024,1805, 47.5983, -22.8167, 4238,   1489.6,   3.9002,  34.9224,2,  34.9215,2,    270.5,2,    11.53,2,    17.11,2,     1.07,2, -999.000,9, -999.000,9, -999.000,9, -999.000,9
     06MT030_2,   A02,   455,  3,     22, KZM033,2,19941024,1805, 47.5983, -22.8167, 4238,   1698.1,   3.6183,  34.8993,2,  34.8991,2,    276.9,2,    11.43,2,    16.83,2,     1.10,2, -999.000,9, -999.000,9, -999.000,9, -999.000,9
     06MT030_2,   A02,   455,  3,     21, KZM040,2,19941024,1805, 47.5983, -22.8167, 4238,   1910.7,   3.4494,  34.8924,2,  34.8929,2,    281.4,2,    11.62,2,    16.87,2,     1.11,2,    2.061,2,    0.985,2,    0.076,2,    3.656,2
     06MT030_2,   A02,   455,  3,     20, KZM097,2,19941024,1805, 47.5983, -22.8167, 4238,   1999.5,   3.4324,  34.8966,2,  34.8970,2,    281.2,2,    11.89,2,    16.81,2,     1.11,2, -999.000,9, -999.000,9, -999.000,9, -999.000,9
     06MT030_2,   A02,   455,  3,     19, KZM126,2,19941024,1805, 47.5983, -22.8167, 4238,   2100.3,   3.4004,  34.9021,2,  34.9019,2,    280.5,2,    12.07,2,    16.51,2,     1.10,2,    1.786,2,    0.886,2,    0.058,2,    3.329,2
     06MT030_2,   A02,   455,  3,     18, KZM085,2,19941024,1805, 47.5983, -22.8167, 4238,   2159.8,   3.3834,  34.9063,2,  34.9060,2,    279.5,2,    12.23,2,    16.46,2,     1.10,2,    1.664,2,    0.911,2,    0.052,2,    3.129,2
     06MT030_2,   A02,   455,  3,     17, KZM124,2,19941024,1805, 47.5983, -22.8167, 4238,   2301.9,   3.3734,  34.9253,2,  34.9254,2,    275.5,2,    13.24,2,    16.57,2,     1.11,2,    1.251,2,    0.633,2,    0.027,2,    2.569,2
     06MT030_2,   A02,   455,  3,     16, KZM119,2,19941024,1805, 47.5983, -22.8167, 4238,   2398.2,   3.3364,  34.9320,2,  34.9335,2,    274.4,2,    13.79,2,    16.53,2,     1.11,2,    1.127,2,    0.556,2,    0.065,4,    2.357,2
     06MT030_2,   A02,   455,  3,     15, KZM029,2,19941024,1805, 47.5983, -22.8167, 4238,   2500.8,   3.2964,  34.9400,2,  34.9399,2,    283.9,3,    14.69,2,    16.67,2,     1.14,2,    0.960,2,    0.479,2,    0.014,2,    2.099,2
     06MT030_2,   A02,   455,  3,     14, KZM115,2,19941024,1805, 47.5983, -22.8167, 4238,   2600.9,   3.2614,  34.9424,2,  34.9433,2,    271.8,2,    15.24,2,    16.94,2,     1.13,2,    0.929,2,    0.503,2,    0.014,2,    2.040,2
     06MT030_2,   A02,   455,  3,     13, KZM090,2,19941024,1805, 47.5983, -22.8167, 4238,   2703.9,   3.1965,  34.9480,2,  34.9485,2,    269.5,2,    17.34,2,    17.10,2,     1.14,2,    0.785,2,    0.424,2,    0.008,2,    1.815,2
     06MT030_2,   A02,   455,  3,     12, KZM117,2,19941024,1805, 47.5983, -22.8167, 4238,   2793.2,   3.1505,  34.9517,2,  34.9518,2,    267.0,2,    18.81,2,    17.33,2,     1.18,2,    0.670,2,    0.342,2,    0.006,2,    1.607,2
     06MT030_2,   A02,   455,  3,     11, KZM008,2,19941024,1805, 47.5983, -22.8167, 4238,   2843.7,   3.1095,  34.9552,2,  34.9555,2,    262.3,2,    22.02,2,    18.03,2,     1.23,2, -999.000,9, -999.000,9, -999.000,9, -999.000,9
     06MT030_2,   A02,   455,  3,      9, KZM114,2,19941024,1805, 47.5983, -22.8167, 4238,   3204.0,   2.8426,  34.9462,2,  34.9468,2,    259.0,2,    26.86,2,    18.89,2,     1.26,2,    0.525,2,    0.263,2,    0.005,2,    1.211,2
     06MT030_2,   A02,   455,  3,      8,  UB001,2,19941024,1805, 47.5983, -22.8167, 4238,   3403.8,   2.7427,  34.9375,2,  34.9380,2,    254.5,2,    31.54,2,    19.59,2,     1.34,2,    0.276,2,    0.138,2,    0.010,2,    0.652,2
     06MT030_2,   A02,   455,  3,      7, KZM067,2,19941024,1805, 47.5983, -22.8167, 4238,   3603.6,   2.6707,  34.9285,2,  34.9299,2,    248.8,2,    35.88,2,    20.53,2,     1.40,2, -999.000,9, -999.000,9, -999.000,9, -999.000,9
     06MT030_2,   A02,   455,  3,      6, KZM017,2,19941024,1805, 47.5983, -22.8167, 4238,   3803.7,   2.6157,  34.9213,2,  34.9232,2,    245.6,2,    39.21,2,    21.19,2,     1.45,2,    0.138,6,    0.066,6,   -0.010,6,    0.320,6
     06MT030_2,   A02,   455,  3,      5,  UB319,2,19941024,1805, 47.5983, -22.8167, 4238,   4002.6,   2.5768,  34.9147,2,  34.9159,2,    243.5,2,    41.71,2,    21.77,2,     1.49,2,    0.083,2,    0.034,2,   -0.008,2,    0.191,2
     06MT030_2,   A02,   455,  3,      4, KZM056,2,19941024,1805, 47.5983, -22.8167, 4238,   4204.8,   2.5698,  34.9123,2,  34.9112,2,    242.5,2,    42.65,2,    21.95,2,     1.52,2,    0.062,6,    0.037,6,   -0.010,6,    0.133,6
     06MT030_2,   A02,   455,  3,      3, KZM061,2,19941024,1805, 47.5983, -22.8167, 4238,   4286.2,   2.5658,  34.9109,2,  34.9112,2,    242.1,2,    43.35,2,    22.45,2,     1.52,2,    0.058,2,    0.045,2,   -0.010,2,    0.115,2
     06MT030_2,   A02,   455,  3,      1, KZM038,2,19941024,1805, 47.5983, -22.8167, 4238,   4308.4,   2.5678,  34.9098,2,  34.9113,2,    241.9,2,    43.17,2,    22.10,2,     1.53,2,    0.060,6,    0.041,6,   -0.009,6,    0.118,6
     06MT030_2,   A02,   455,  3,      2, KZM052,2,19941024,1805, 47.5983, -22.8167, 4238,   4308.6,   2.5678,  34.9099,2,  34.9111,2,    244.2,2,    43.35,2,    22.21,2,     1.52,2, -999.000,9, -999.000,9, -999.000,9, -999.000,9
     06MT030_2,   A02,   456,  1,     21,  10002,2,19941024,2344, 47.4883, -23.5617, 3967,      9.6,  15.3713,  35.5880,2,  35.5886,2,    243.4,2,     1.87,2,     1.63,2,     0.13,2, -999.000,9, -999.000,9, -999.000,9, -999.000,9
     06MT030_2,   A02,   456,  1,     20,  10027,2,19941024,2344, 47.4883, -23.5617, 3967,     32.3,  15.3723,  35.5879,2,  35.5885,2,    244.2,2,     1.82,2,     1.61,2,     0.14,2, -999.000,9, -999.000,9, -999.000,9, -999.000,9
     06MT030_2,   A02,   456,  1,     19,  10017,2,19941024,2344, 47.4883, -23.5617, 3967,     58.3,  15.3643,  35.5898,2,  35.5900,2,    243.8,2,     1.85,2,     1.68,2,     0.14,2, -999.000,9, -999.000,9, -999.000,9, -999.000,9
     06MT030_2,   A02,   456,  1,     18,  10020,2,19941024,2344, 47.4883, -23.5617, 3967,     78.7,  13.7538,  35.7764,2,  35.7805,2,    226.5,2,     3.79,2,     7.66,2,     0.43,2, -999.000,9, -999.000,9, -999.000,9, -999.000,9
     06MT030_2,   A02,   456,  1,     17,  10009,2,19941024,2344, 47.4883, -23.5617, 3967,     99.0,  13.1933,  35.7391,2,  35.7415,2,    229.2,2,     4.23,2,     8.50,2,     0.50,2, -999.000,9, -999.000,9, -999.000,9, -999.000,9
     06MT030_2,   A02,   456,  1,     16,  10091,2,19941024,2344, 47.4883, -23.5617, 3967,    147.5,  12.7388,  35.7030,2,  35.7065,2,    235.2,2,     4.49,2,     9.14,2,     0.54,2, -999.000,9, -999.000,9, -999.000,9, -999.000,9
     06MT030_2,   A02,   456,  1,     15,  10025,2,19941024,2344, 47.4883, -23.5617, 3967,    197.5,  12.2683,  35.6535,2,  35.6565,2,    235.6,2,     4.74,2,     9.60,2,     0.58,2, -999.000,9, -999.000,9, -999.000,9, -999.000,9
     06MT030_2,   A02,   456,  1,     14,      2,2,19941024,2344, 47.4883, -23.5617, 3967,    297.1,  11.7029,  35.5819,2,  35.5833,2,    238.9,2,     5.16,2,    10.18,2,     0.63,2, -999.000,9, -999.000,9, -999.000,9, -999.000,9
     06MT030_2,   A02,   456,  1,     13,  10003,2,19941024,2344, 47.4883, -23.5617, 3967,    396.6,  11.0795,  35.4805,2,  35.4827,2,    235.6,2,     6.05,2,    11.53,2,     0.72,2, -999.000,9, -999.000,9, -999.000,9, -999.000,9
     06MT030_2,   A02,   456,  1,     12,  10026,2,19941024,2344, 47.4883, -23.5617, 3967,    495.5,  10.4912,  35.3945,2,  35.3942,2,    234.8,2,     6.83,2,    12.54,2,     0.80,2, -999.000,9, -999.000,9, -999.000,9, -999.000,9
     06MT030_2,   A02,   456,  1,     11,  10009,2,19941024,2344, 47.4883, -23.5617, 3967,    594.6,   9.8449,  35.3082,2,  35.3069,2,    224.2,2,     7.81,2,    14.11,2,     0.91,2, -999.000,9, -999.000,9, -999.000,9, -999.000,9
     06MT030_2,   A02,   456,  1,     10,  10010,2,19941024,2344, 47.4883, -23.5617, 3967,    644.6,   9.5242,  35.2889,2,  35.2878,2,    217.4,2,     8.42,2,    15.11,2,     0.97,2, -999.000,9, -999.000,9, -999.000,9, -999.000,9
     06MT030_2,   A02,   456,  1,      9,  10004,2,19941024,2344, 47.4883, -23.5617, 3967,    695.3,   9.0328,  35.2476,2,  35.2453,2,    207.5,2,     9.49,2,    16.55,2,     1.06,2, -999.000,9, -999.000,9, -999.000,9, -999.000,9
     06MT030_2,   A02,   456,  1,      8,     15,2,19941024,2344, 47.4883, -23.5617, 3967,    796.2,   7.9041,  35.1499,2,  35.1491,2,    203.6,2,    11.12,2,    18.55,2,     1.19,2, -999.000,9, -999.000,9, -999.000,9, -999.000,9
     06MT030_2,   A02,   456,  1,      7,     23,2,19941024,2344, 47.4883, -23.5617, 3967,    830.7,   8.1228,  35.2461,2,  35.2442,2,    200.8,2,    11.06,2,    18.41,2,     1.19,2, -999.000,9, -999.000,9, -999.000,9, -999.000,9
     06MT030_2,   A02,   456,  1,      6,    910,2,19941024,2344, 47.4883, -23.5617, 3967,    895.2,   7.7223,  35.2657,2,  35.2624,2,    203.6,2,    11.37,2,    18.37,2,     1.21,2, -999.000,9, -999.000,9, -999.000,9, -999.000,9
     06MT030_2,   A02,   456,  1,      5, KZM128,2,19941024,2344, 47.4883, -23.5617, 3967,    992.4,   6.6166,  35.1660,2,  35.1640,2,    215.4,2,    11.93,2,    18.66,2,     1.23,2, -999.000,9, -999.000,9, -999.000,9, -999.000,9
     06MT030_2,   A02,   456,  1,      4,      6,2,19941024,2344, 47.4883, -23.5617, 3967,   1195.4,   5.4910,  35.0963,2,  35.0954,2,    215.0,3,    11.89,2,    18.37,2,     1.20,2, -999.000,9, -999.000,9, -999.000,9, -999.000,9
     06MT030_2,   A02,   456,  1,      3,     18,2,19941024,2344, 47.4883, -23.5617, 3967,   1244.7,   5.1424,  35.0644,2,  35.0642,2,    243.6,2,    11.77,2,    18.22,2,     1.20,2, -999.000,9, -999.000,9, -999.000,9, -999.000,9
     06MT030_2,   A02,   456,  1,      2,     17,2,19941024,2344, 47.4883, -23.5617, 3967,   1297.8,   4.6271,  34.9993,2,  34.9981,2,    256.8,2,    11.85,2,    17.93,2,     1.20,2, -999.000,9, -999.000,9, -999.000,9, -999.000,9