BOTTLE,20010917WHPSIOKJU
EXPOCODE,SECT_ID,STNNBR,CASTNO,SAMPNO,BTLNBR,BTLNBR_FLAG_W,DATE,TIME,LATITUDE,LONGITUDE,DEPTH,CTDPRS,CTDTMP,CTDSAL,CTDSAL_FLAG_W,SALNTY,SALNTY_FLAG_W,OXYGEN,OXYGEN_FLAG_W,SILCAT,SILCAT_FLAG_W,NITRAT,NITRAT_FLAG_W,PHSPHT,PHSPHT_FLAG_W,CFC-11,CFC-11_FLAG_W,CFC-12,CFC-12_FLAG_W,CFC113,CFC113_FLAG_W,CCL4,CCL4_FLAG_W
,,,,,,,,,,,,DBAR,ITS-90,PSS-78,,PSS-78,,UMOL/KG,,UMOL/KG,,UMOL/KG,,UMOL/KG,,PMOL/L,,PMOL/L,,PMOL/L,,PMOL/L,
     06MT030_2,   A02,   483,  4,     16, KZM114,2,19941106,1917, 42.7150, -42.4233, 4713,     20.3,  14.9395,  33.4466,2,  33.4418,2,    256.4,2,     1.62,2,     0.00,2,     0.14,2,    3.018,2,    1.593,2,    0.255,2,    4.209,2
     06MT030_2,   A02,   483,  4,     15, KZM029,2,19941106,1917, 42.7150, -42.4233, 4713,     48.9,  15.0875,  33.5658,2,  33.5590,3,    256.0,2,     1.61,2,     0.00,2,     0.14,2,    2.966,2,    1.564,2,    0.254,2,    4.087,2
     06MT030_2,   A02,   483,  4,     14,      2,2,19941106,1917, 42.7150, -42.4233, 4713,    102.4,   7.3228,  33.8453,2,  33.8462,2,    290.4,3,     4.24,2,     4.56,2,     0.50,2,    4.746,4,    2.310,4,    0.390,2,    5.188,4
     06MT030_2,   A02,   483,  4,     13, KZM090,2,19941106,1917, 42.7150, -42.4233, 4713,    162.4,   7.8626,  34.6866,2,  34.6851,2,    229.9,2,     7.85,2,    12.29,2,     0.85,2,    3.374,2,    1.649,2,    0.243,2,    3.225,2
     06MT030_2,   A02,   483,  4,     12, KZM117,2,19941106,1917, 42.7150, -42.4233, 4713,    193.1,   6.3931,  34.4946,2,  34.4905,2,    240.5,2,     8.81,2,    12.56,2,     0.93,2,    3.697,2,    1.782,2,    0.277,2,    3.901,2
     06MT030_2,   A02,   483,  4,     11, KZM008,2,19941106,1917, 42.7150, -42.4233, 4713,    272.6,   6.9169,  34.7450,2,  34.7595,3,    204.7,2,    11.65,2,    18.18,2,     1.20,3,    2.517,2,    1.234,2,    0.190,2,    2.738,2
     06MT030_2,   A02,   483,  4,     10, KZM115,2,19941106,1917, 42.7150, -42.4233, 4713,    337.9,   6.3681,  34.8087,2,  34.8044,2,    204.4,2,    12.95,2,    19.67,2,     1.31,2,    2.231,2,    1.082,2,    0.156,2,    2.607,2
     06MT030_2,   A02,   483,  4,      9, KZM036,2,19941106,1917, 42.7150, -42.4233, 4713,    404.8,   6.0083,  34.9136,2,  34.9110,2,    204.9,2,    13.93,2,    20.78,2,     1.37,2,    1.756,2,    0.850,2,    0.112,2,    2.178,2
     06MT030_2,   A02,   483,  4,      8,  UB001,2,19941106,1917, 42.7150, -42.4233, 4713,    460.3,   5.6644,  34.9475,2,  34.9457,2,    217.5,2,    13.22,2,    19.82,2,     1.29,2,    1.928,2,    0.930,2,    0.119,2,    2.441,2
     06MT030_2,   A02,   483,  4,      7, KZM067,2,19941106,1917, 42.7150, -42.4233, 4713,    635.9,   5.2846,  35.0339,2,  35.0324,2,    234.8,2,    12.72,2,    18.67,2,     1.23,2,    1.721,2,    0.833,2,    0.091,2,    2.372,2
     06MT030_2,   A02,   483,  4,      6, KZM017,2,19941106,1917, 42.7150, -42.4233, 4713,    878.2,   4.6958,  35.0162,2,  35.0151,2,    251.8,2,    12.28,2,    18.28,2,     1.16,2,    1.717,2,    0.827,2,    0.087,2,    2.634,2
     06MT030_2,   A02,   483,  4,      5,  UB319,2,19941106,1917, 42.7150, -42.4233, 4713,   1062.4,   4.1660,  34.9676,2,  34.9661,2,    264.6,2,    12.09,2,    17.49,2,     1.14,2,    1.907,2,    0.917,2,    0.100,2,    3.064,2
     06MT030_2,   A02,   483,  4,      4, KZM056,2,19941106,1917, 42.7150, -42.4233, 4713,   1199.3,   3.7572,  34.9224,2,  34.9228,2,    275.8,2,    11.84,2,    17.29,2,     1.11,2,    2.297,2,    1.103,2,    0.141,4,    3.633,2
     06MT030_2,   A02,   483,  4,      3, KZM061,2,19941106,1917, 42.7150, -42.4233, 4713,   1302.1,   3.6883,  34.9198,2,  34.9209,2,    277.0,2,    11.90,2,    17.07,2,     1.11,2,    2.159,2,    1.035,2,    0.120,2,    3.575,2
     06MT030_2,   A02,   483,  4,      2, KZM052,2,19941106,1917, 42.7150, -42.4233, 4713,   1394.5,   3.5803,  34.9145,2,  34.9119,2,    279.3,2,    11.96,2,    16.82,2,     1.10,2,    2.160,2,    1.029,2,    0.122,2,    3.589,2
     06MT030_2,   A02,   483,  4,      1, KZM038,2,19941106,1917, 42.7150, -42.4233, 4713,   1498.3,   3.4454,  34.8992,2,  34.8983,2,    282.9,3,    11.79,3,    16.86,3,     1.09,3,    2.394,4,    1.133,4,    0.141,4,    3.862,4
     06MT030_2,   A02,   484,  1,     24, KZM012,2,19941107,0444, 42.4650, -43.2150, 4853,     19.4,  20.3465,  36.0196,2,  36.0128,2,    220.7,2,     2.24,2,     0.28,2,     0.04,2,    2.132,2,    1.184,2,    0.157,2,    2.502,2
     06MT030_2,   A02,   484,  1,     23, KZM125,2,19941107,0444, 42.4650, -43.2150, 4853,     89.0,  18.9677,  36.3005,2,  36.3545,3,    206.5,2,     2.55,2,     1.92,2,     0.11,3,    2.202,2,    1.182,2,    0.108,2,    1.071,2
     06MT030_2,   A02,   484,  1,     22, KZM033,2,19941107,0444, 42.4650, -43.2150, 4853,    199.6,  16.8921,  36.2835,2,  36.2853,2,    196.3,2,     3.70,2,     5.77,2,     0.27,2,    2.139,2,    1.128,2,    0.075,2,    0.811,2
     06MT030_2,   A02,   484,  1,     21, KZM040,2,19941107,0444, 42.4650, -43.2150, 4853,    310.6,  15.8643,  36.2119,2,  36.1987,3,    222.0,2,     3.70,2,     5.37,2,     0.27,2,    2.420,2,    1.301,2,    0.126,2,    1.377,2
     06MT030_2,   A02,   484,  1,     20, KZM097,2,19941107,0444, 42.4650, -43.2150, 4853,    498.8,  12.9070,  35.7128,2,  35.7078,2,    200.2,2,     6.49,2,    11.66,2,     0.65,2,    2.166,2,    1.129,2,    0.068,2,    1.051,2
     06MT030_2,   A02,   484,  1,     19, KZM126,2,19941107,0444, 42.4650, -43.2150, 4853,    750.1,   8.4324,  35.2078,2,  35.2073,2,    184.7,2,    12.64,2,    19.86,2,     1.21,2,    1.320,2,    0.649,2,    0.046,2,    1.123,2
     06MT030_2,   A02,   484,  1,     18, KZM085,2,19941107,0444, 42.4650, -43.2150, 4853,    838.2,   7.1438,  35.1276,2,  35.1229,2,    194.5,2,    13.67,2,    20.35,2,     1.28,2,    1.258,2,    0.612,2,    0.053,2,    1.379,2
     06MT030_2,   A02,   484,  1,     17, KZM124,2,19941107,0444, 42.4650, -43.2150, 4853,    925.3,   5.2886,  34.9320,2,  34.9307,2,    223.2,2,    13.81,2,    19.15,2,     1.27,2,    1.944,2,    0.942,2,    0.117,2,    2.533,2
     06MT030_2,   A02,   484,  1,     16, KZM114,2,19941107,0444, 42.4650, -43.2150, 4853,   1048.4,   5.2316,  35.0134,2,  35.0105,2,    234.2,2,    13.19,2,    18.71,2,     1.22,2,    1.806,2,    0.877,2,    0.101,2,    2.451,2
     06MT030_2,   A02,   484,  1,     14,      2,2,19941107,0444, 42.4650, -43.2150, 4853,   1399.7,   4.1331,  34.9591,2,  34.9589,2,    264.1,2,    12.54,2,    17.35,2,     1.14,2,    1.950,2,    0.943,2,    0.109,2,    3.050,2
     06MT030_2,   A02,   484,  1,     13, KZM090,2,19941107,0444, 42.4650, -43.2150, 4853,   1503.3,   3.9921,  34.9535,2,  34.9526,2,    267.6,2,    12.60,2,    17.11,2,     1.13,2,    1.752,2,    0.846,2,    0.083,2,    2.961,2
     06MT030_2,   A02,   484,  1,     12, KZM117,2,19941107,0444, 42.4650, -43.2150, 4853,   1798.4,   3.6053,  34.9191,2,  34.9173,2,    276.4,2,    12.62,2,    16.87,2,     1.11,2,    1.814,2,    0.871,2,    0.089,2,    3.168,2
     06MT030_2,   A02,   484,  1,     11, KZM008,2,19941107,0444, 42.4650, -43.2150, 4853,   2100.8,   3.4264,  34.9114,2,  34.9098,2,    280.0,2,    12.97,2,    16.86,2,     1.10,2,    1.747,6,    0.836,6,    0.092,2,    3.072,6
     06MT030_2,   A02,   484,  1,     10, KZM115,2,19941107,0444, 42.4650, -43.2150, 4853,   2403.9,   3.3664,  34.9263,2,  34.9260,2,    275.5,2,    14.09,2,    16.69,2,     1.12,2,    1.292,2,    0.627,2,    0.059,2,    2.467,2
     06MT030_2,   A02,   484,  1,      9, KZM036,2,19941107,0444, 42.4650, -43.2150, 4853,   2804.3,   3.1235,  34.9260,2,  34.9254,2,    279.5,2,    14.68,2,    16.64,2,     1.09,2,    1.230,2,    0.592,2,    0.053,2,    2.332,2
     06MT030_2,   A02,   484,  1,      8,  UB001,2,19941107,0444, 42.4650, -43.2150, 4853,   3202.3,   2.8526,  34.9272,2,  34.9259,2,    275.4,2,    17.18,2,    16.44,2,     1.10,2,    0.963,2,    0.461,2,    0.038,2,    1.953,2
     06MT030_2,   A02,   484,  1,      7, KZM067,2,19941107,0444, 42.4650, -43.2150, 4853,   3605.6,   2.5718,  34.9185,2,  34.9166,2,    273.3,2,    21.43,2,    16.95,2,     1.14,2,    0.652,3,    0.320,3,    0.022,2,    1.505,2
     06MT030_2,   A02,   484,  1,      6, KZM017,2,19941107,0444, 42.4650, -43.2150, 4853,   4004.5,   2.3239,  34.9032,2,  34.9019,2,    276.0,2,    22.54,2,    16.68,2,     1.14,2,    0.978,2,    0.469,2,    0.052,2,    1.960,2
     06MT030_2,   A02,   484,  1,      5,  UB319,2,19941107,0444, 42.4650, -43.2150, 4853,   4404.3,   2.3069,  34.9002,2,  34.8987,2,    278.5,2,    21.37,2,    16.31,2,     1.12,2,    1.214,2,    0.576,2,    0.060,2,    2.261,2
     06MT030_2,   A02,   484,  1,      4, KZM056,2,19941107,0444, 42.4650, -43.2150, 4853,   4605.4,   2.3079,  34.8971,2,  34.8973,2,    278.4,2,    21.69,2,    16.36,2,     1.11,2,    1.251,2,    0.593,2,    0.063,2,    2.284,2
     06MT030_2,   A02,   484,  1,      3, KZM061,2,19941107,0444, 42.4650, -43.2150, 4853,   4854.4,   2.3119,  34.8946,2,  34.8953,2,    281.4,2,    22.96,2,    16.58,2,     1.14,2,    1.217,2,    0.573,2,    0.059,2,    2.222,2
     06MT030_2,   A02,   484,  1,      2, KZM052,2,19941107,0444, 42.4650, -43.2150, 4853,   4957.6,   2.3089,  34.8946,2,  34.8953,2,    282.0,2,    20.19,2,    15.95,2,     1.10,2,    1.494,2,    0.702,2,    0.084,2,    2.590,2
     06MT030_2,   A02,   484,  1,      1, KZM038,2,19941107,0444, 42.4650, -43.2150, 4853,   4963.2,   2.3099,  34.8944,2,  34.8954,2,    281.5,2,    20.20,2,    15.98,2,     1.10,2,    1.490,2,    0.701,2,    0.080,2,    2.581,2
     06MT030_2,   A02,   485,  1,     23, KZM125,2,19941107,1437, 42.2250, -44.1317, 4867,      9.7,  19.9266,  36.1052,2,  36.1010,2,    226.9,2,     1.80,2,     0.04,2,     0.05,2,    2.169,2,    1.204,2,    0.156,2,    2.767,2
     06MT030_2,   A02,   485,  1,     22, KZM033,2,19941107,1437, 42.2250, -44.1317, 4867,     22.7,  19.9266,  36.1055,2,  36.1010,2,    323.0,2,     1.72,2,     0.02,2,     0.04,2,    2.151,2,    1.198,2,    0.154,2,    2.755,2
     06MT030_2,   A02,   485,  1,     21, KZM040,2,19941107,1437, 42.2250, -44.1317, 4867,    109.8,  18.3428,  36.5225,2,-999.0000,9,   -999.0,9,  -999.00,9,  -999.00,9,  -999.00,9, -999.000,9, -999.000,9, -999.000,9, -999.000,9
     06MT030_2,   A02,   485,  1,     20, KZM097,2,19941107,1437, 42.2250, -44.1317, 4867,    361.0,  16.0063,  36.2377,2,  36.2328,2,    226.1,2,     3.05,2,     4.98,2,     0.25,2,    2.460,2,    1.319,2,    0.168,2,    1.443,2
     06MT030_2,   A02,   485,  1,     19, KZM126,2,19941107,1437, 42.2250, -44.1317, 4867,    440.8,  15.8173,  36.2016,2,  36.1996,2,    224.8,2,     3.17,2,     5.21,2,     0.28,2, -999.000,9, -999.000,9, -999.000,9, -999.000,9
     06MT030_2,   A02,   485,  1,     18, KZM085,2,19941107,1437, 42.2250, -44.1317, 4867,    825.4,   9.7369,  35.2261,2,  35.2296,2,    178.5,2,    10.91,2,    18.96,2,     1.15,2,    1.619,2,    0.808,2,    0.070,2,    1.243,2
     06MT030_2,   A02,   485,  1,     17, KZM124,2,19941107,1437, 42.2250, -44.1317, 4867,    981.6,   7.9665,  35.2099,2,  35.1972,3,    190.5,2,    12.48,2,    20.00,2,     1.26,2,    1.255,2,    0.611,2,    0.045,2,    1.248,2
     06MT030_2,   A02,   485,  1,     16, KZM114,2,19941107,1437, 42.2250, -44.1317, 4867,   1077.6,   6.2892,  35.0549,2,  35.0533,2,    209.1,2,    13.10,2,    19.99,2,     1.30,2,    1.468,2,    0.706,2,    0.077,2,    1.842,2
     06MT030_2,   A02,   485,  1,     15, KZM029,2,19941107,1437, 42.2250, -44.1317, 4867,   1121.6,   5.9853,  35.0590,2,  35.0558,2,    217.0,2,    12.88,2,    19.32,2,     1.27,2,    1.564,2,    0.753,2,    0.082,2,    2.015,2
     06MT030_2,   A02,   485,  1,     14,      2,2,19941107,1437, 42.2250, -44.1317, 4867,   1290.1,   5.1976,  35.0510,2,  35.0503,2,    239.2,2,    12.37,2,    18.31,2,     1.20,2,    1.664,2,    0.805,2,    0.084,2,    2.436,2
     06MT030_2,   A02,   485,  1,     13, KZM090,2,19941107,1437, 42.2250, -44.1317, 4867,   1452.1,   4.6049,  35.0094,2,  35.0105,2,    254.1,2,    12.02,2,    17.66,2,     1.17,2,    1.719,2,    0.836,2,    0.085,2,    2.726,2
     06MT030_2,   A02,   485,  1,     12, KZM117,2,19941107,1437, 42.2250, -44.1317, 4867,   2152.3,   3.5553,  34.9210,2,  34.9211,2,    278.7,2,    12.41,2,    16.94,2,     1.13,2,    1.688,2,    0.811,2,    0.099,2,    3.075,2
     06MT030_2,   A02,   485,  1,     11, KZM008,2,19941107,1437, 42.2250, -44.1317, 4867,   2451.9,   3.4913,  34.9396,2,  34.9400,2,    273.9,2,    13.87,2,    17.10,2,     1.15,2,    1.768,4,    1.023,4,    0.175,4,    2.600,2
     06MT030_2,   A02,   485,  1,     10, KZM115,2,19941107,1437, 42.2250, -44.1317, 4867,   2880.7,   3.2764,  34.9467,2,  34.9472,2,    271.4,2,    16.05,2,    17.00,2,     1.16,2,    0.652,2,    0.320,2,    0.023,2,    1.569,2
     06MT030_2,   A02,   485,  1,      9, KZM036,2,19941107,1437, 42.2250, -44.1317, 4867,   4006.5,   2.4148,  34.9078,2,  34.9079,2,    278.3,2,    19.95,2,    16.60,2,     1.14,2,    1.086,2,    0.513,2,    0.047,2,    2.093,2
     06MT030_2,   A02,   485,  1,      8,  UB001,2,19941107,1437, 42.2250, -44.1317, 4867,   4254.3,   2.3659,  34.9037,2,  34.9038,2,    276.5,2,    21.90,2,    16.92,2,     1.17,2, -999.000,9, -999.000,9, -999.000,9, -999.000,9
     06MT030_2,   A02,   485,  1,      7, KZM067,2,19941107,1437, 42.2250, -44.1317, 4867,   4401.7,   2.3449,  34.9020,2,  34.9016,2,    277.8,2,    22.14,2,    16.80,2,     1.17,2,    1.022,2,    0.484,2,    0.046,2,    1.989,2
     06MT030_2,   A02,   485,  1,      6, KZM017,2,19941107,1437, 42.2250, -44.1317, 4867,   4604.1,   2.3329,  34.8979,2,  34.8997,2,    276.6,2,    22.93,2,    17.39,2,     1.18,2,    1.033,2,    0.489,2,    0.049,2,    1.976,2
     06MT030_2,   A02,   485,  1,      5,  UB319,2,19941107,1437, 42.2250, -44.1317, 4867,   4765.2,   2.3329,  34.8969,2,  34.8983,2,    277.5,2,    22.34,2,    16.75,2,     1.17,2,    1.136,2,    0.534,2,    0.056,2,    2.113,2
     06MT030_2,   A02,   485,  1,      4, KZM056,2,19941107,1437, 42.2250, -44.1317, 4867,   4889.9,   2.3259,  34.8964,2,  34.8970,2,    279.9,2,    20.66,2,    16.26,2,     1.14,2,    1.342,6,    0.630,6,    0.072,6,    2.385,6
     06MT030_2,   A02,   485,  1,      3, KZM061,2,19941107,1437, 42.2250, -44.1317, 4867,   4936.6,   2.3239,  34.8951,2,  34.8969,2,    279.6,2,    20.82,2,    16.24,2,     1.14,2,    1.356,6,    0.641,6,    0.069,6,    2.379,6
     06MT030_2,   A02,   485,  1,      2, KZM052,2,19941107,1437, 42.2250, -44.1317, 4867,   4976.4,   2.3279,  34.8960,2,  34.8969,2,    279.5,2,    20.93,2,    16.45,2,     1.15,2,    1.338,6,    0.631,6,    0.066,6,    2.345,6
     06MT030_2,   A02,   485,  1,      1, KZM038,2,19941107,1437, 42.2250, -44.1317, 4867,   4989.1,   2.3299,  34.8960,2,  34.8963,2,    280.2,2,    20.87,2,    16.21,2,     1.15,2,    1.340,6,    0.637,6,    0.068,6,    2.367,6