BOTTLE,20010917WHPSIOKJU
EXPOCODE,SECT_ID,STNNBR,CASTNO,SAMPNO,BTLNBR,BTLNBR_FLAG_W,DATE,TIME,LATITUDE,LONGITUDE,DEPTH,CTDPRS,CTDTMP,CTDSAL,CTDSAL_FLAG_W,SALNTY,SALNTY_FLAG_W,OXYGEN,OXYGEN_FLAG_W,SILCAT,SILCAT_FLAG_W,NITRAT,NITRAT_FLAG_W,PHSPHT,PHSPHT_FLAG_W,CFC-11,CFC-11_FLAG_W,CFC-12,CFC-12_FLAG_W,CFC113,CFC113_FLAG_W,CCL4,CCL4_FLAG_W
,,,,,,,,,,,,DBAR,ITS-90,PSS-78,,PSS-78,,UMOL/KG,,UMOL/KG,,UMOL/KG,,UMOL/KG,,PMOL/L,,PMOL/L,,PMOL/L,,PMOL/L,
     06MT030_2,   A02,   481,  1,     24, KZM012,2,19941105,1339, 43.1933, -40.8050, 4766,     12.2,  19.6756,  35.4445,2,  35.4393,2,    226.8,2,     1.86,2,     0.05,2,     0.05,2,    2.204,2,    1.237,2,    0.168,2,    2.795,2
     06MT030_2,   A02,   481,  1,     23, KZM125,2,19941105,1339, 43.1933, -40.8050, 4766,     55.0,  19.6926,  35.4446,2,  35.4378,2,    227.5,2,     1.87,2,     0.06,2,     0.05,2,    2.234,2,    1.253,2,    0.172,2,    2.779,2
     06MT030_2,   A02,   481,  1,     22, KZM033,2,19941105,1339, 43.1933, -40.8050, 4766,    120.8,  16.8081,  36.0471,2,  36.0359,3,    189.6,2,     3.42,2,     5.62,2,     0.27,2,    2.275,2,    1.217,2,    0.102,2,    0.761,2
     06MT030_2,   A02,   481,  1,     21, KZM040,2,19941105,1339, 43.1933, -40.8050, 4766,    301.6,  12.7140,  35.6161,2,  35.6117,2,    174.9,2,     7.74,2,    14.59,2,     0.78,2,    1.644,2,    0.867,2,    0.063,2,    0.812,2
     06MT030_2,   A02,   481,  1,     20, KZM097,2,19941105,1339, 43.1933, -40.8050, 4766,    500.0,   9.2571,  35.1931,2,  35.2013,3,    158.1,2,    13.36,2,    22.52,2,     1.33,3,    0.987,2,    0.499,2,    0.041,2,    0.791,2
     06MT030_2,   A02,   481,  1,     19, KZM126,2,19941105,1339, 43.1933, -40.8050, 4766,    752.7,   6.5681,  35.0693,2,  35.0688,2,    202.5,2,    13.43,2,    20.01,2,     1.27,2,    1.381,2,    0.680,2,    0.073,2,    1.672,2
     06MT030_2,   A02,   481,  1,     18, KZM085,2,19941105,1339, 43.1933, -40.8050, 4766,    822.0,   6.4371,  35.1470,2,  35.1593,3,    212.7,2,    12.79,2,    18.98,2,     1.19,3,    1.306,2,    0.645,2,    0.060,2,    1.654,2
     06MT030_2,   A02,   481,  1,     17, KZM124,2,19941105,1339, 43.1933, -40.8050, 4766,    890.7,   5.4505,  35.0396,2,  35.0391,2,    229.5,2,    12.80,2,    18.65,2,     1.16,2,    1.663,2,    0.815,2,    0.096,2,    2.288,2
     06MT030_2,   A02,   481,  1,     16, KZM114,2,19941105,1339, 43.1933, -40.8050, 4766,    998.7,   4.9017,  35.0067,2,  35.0050,2,    245.8,2,    12.30,2,    18.04,2,     1.13,2,    1.989,2,    0.971,2,    0.125,2,    2.854,2
     06MT030_2,   A02,   481,  1,     15, KZM029,2,19941105,1339, 43.1933, -40.8050, 4766,   1300.3,   4.2900,  34.9829,2,  34.9834,2,    260.5,2,    12.19,2,    17.63,2,     1.09,2,    1.836,4,    0.917,4,    0.128,2,    2.930,2
     06MT030_2,   A02,   481,  1,     14,      2,2,19941105,1339, 43.1933, -40.8050, 4766,   1604.4,   3.8112,  34.9362,2,  34.9366,2,    273.2,2,    12.02,2,    17.15,2,     1.06,2,    1.822,2,    0.889,2,    0.091,2,    3.098,2
     06MT030_2,   A02,   481,  1,     13, KZM090,2,19941105,1339, 43.1933, -40.8050, 4766,   1879.1,   3.5133,  34.9107,2,  34.9119,2,    280.0,2,    12.11,2,    16.83,2,     1.04,2,    1.984,2,    0.966,2,    0.109,2,    3.357,2
     06MT030_2,   A02,   481,  1,     12, KZM117,2,19941105,1339, 43.1933, -40.8050, 4766,   1951.0,   3.4654,  34.9076,2,  34.9078,2,    281.8,2,    12.07,2,    16.79,2,     1.04,2,    2.022,2,    0.985,2,    0.109,2,    3.433,2
     06MT030_2,   A02,   481,  1,     11, KZM008,2,19941105,1339, 43.1933, -40.8050, 4766,   2144.9,   3.3464,  34.9021,2,  34.9021,2,    283.3,2,    12.20,2,    16.88,2,     1.05,2,    2.062,2,    1.002,2,    0.118,2,    3.457,2
     06MT030_2,   A02,   481,  1,     10, KZM115,2,19941105,1339, 43.1933, -40.8050, 4766,   2289.0,   3.3454,  34.9144,2,  34.9108,2,    280.4,2,    12.05,2,    16.90,2,     1.06,2,    1.952,2,    0.952,2,    0.106,2,    3.367,2
     06MT030_2,   A02,   481,  1,      9, KZM036,2,19941105,1339, 43.1933, -40.8050, 4766,   2499.7,   3.2664,  34.9158,2,  34.9165,2,    280.6,2,    13.13,2,    16.61,2,     1.04,2,    1.626,2,    0.787,2,    0.088,2,    2.902,2
     06MT030_2,   A02,   481,  1,      8,  UB001,2,19941105,1339, 43.1933, -40.8050, 4766,   2800.3,   3.1805,  34.9396,2,  34.9404,2,    273.8,4,    16.60,4,    17.01,4,     1.08,4,    0.190,4,    0.102,4,    0.015,4,    0.322,4
     06MT030_2,   A02,   481,  1,      7, KZM067,2,19941105,1339, 43.1933, -40.8050, 4766,   3050.8,   3.0056,  34.9335,2,  34.9345,2,    273.8,2,    16.47,2,    16.74,2,     1.09,2,    0.747,2,    0.365,2,    0.026,2,    1.692,2
     06MT030_2,   A02,   481,  1,      6, KZM017,2,19941105,1339, 43.1933, -40.8050, 4766,   3502.5,   2.6937,  34.9236,2,  34.9233,2,    274.8,2,    19.45,2,    16.94,2,     1.10,2,    0.670,2,    0.331,2,    0.025,2,    1.558,2
     06MT030_2,   A02,   481,  1,      5,  UB319,2,19941105,1339, 43.1933, -40.8050, 4766,   4002.6,   2.3828,  34.9065,2,  34.9060,2,    276.6,2,    21.92,2,    17.16,2,     1.11,2,    0.882,2,    0.429,2,    0.036,2,    1.854,2
     06MT030_2,   A02,   481,  1,      4, KZM056,2,19941105,1339, 43.1933, -40.8050, 4766,   4503.5,   2.3049,  34.8985,2,  34.8984,2,    277.2,2,    23.07,2,    17.03,2,     1.11,2,    1.056,2,    0.502,2,    0.066,4,    2.026,2
     06MT030_2,   A02,   481,  1,      3, KZM061,2,19941105,1339, 43.1933, -40.8050, 4766,   4720.9,   2.2909,  34.8928,2,  34.8943,2,    274.2,2,    26.71,2,    17.74,2,     1.15,2,    0.819,2,    0.402,2,    0.036,2,    1.683,2
     06MT030_2,   A02,   481,  1,      2, KZM052,2,19941105,1339, 43.1933, -40.8050, 4766,   4830.9,   2.2759,  34.8879,2,  34.8903,2,    270.1,2,    30.68,2,    18.43,2,     1.24,2,    0.632,2,    0.313,2,    0.028,2,    1.345,2
     06MT030_2,   A02,   481,  1,      1, KZM038,2,19941105,1339, 43.1933, -40.8050, 4766,   4858.1,   2.2789,  34.8881,2,  34.8896,2,    269.5,2,    30.55,2,    18.27,2,     1.24,2,    0.634,2,    0.315,2,    0.036,2,    1.360,2
     06MT030_2,   A02,   482,  1,     24, KZM012,2,19941105,2148, 42.9583, -41.5950, 4815,     10.9,  19.8956,  35.3388,2,  35.3362,2,    227.5,2,     1.85,2,     0.01,2,     0.04,2,    2.220,2,    1.242,2,    0.171,2,    2.822,2
     06MT030_2,   A02,   482,  1,     23, KZM125,2,19941105,2148, 42.9583, -41.5950, 4815,     49.3,  19.4786,  35.2385,2,  35.2363,2,    229.1,2,     1.86,2,     0.03,2,     0.04,2,    2.276,2,    1.264,2,    0.173,2,    2.899,2
     06MT030_2,   A02,   482,  1,     22, KZM033,2,19941105,2148, 42.9583, -41.5950, 4815,    119.9,  16.7841,  36.2113,2,  36.1920,3,    183.2,2,     3.83,2,     7.02,2,     0.29,3,    2.041,2,    1.091,2,    0.057,2,    0.666,2
     06MT030_2,   A02,   482,  1,     21, KZM040,2,19941105,2148, 42.9583, -41.5950, 4815,    331.2,  11.6463,  35.4066,2,  35.4015,2,    178.3,2,     8.56,2,    15.55,2,     0.83,2,    1.804,2,    0.934,2,    0.090,2,    1.121,2
     06MT030_2,   A02,   482,  1,     20, KZM097,2,19941105,2148, 42.9583, -41.5950, 4815,    495.4,   9.0682,  35.1667,2,  35.1608,2,    170.8,2,    12.56,2,    20.71,2,     1.23,2,    1.299,2,    0.647,2,    0.056,2,    1.101,2
     06MT030_2,   A02,   482,  1,     19, KZM126,2,19941105,2148, 42.9583, -41.5950, 4815,    719.8,   6.0113,  35.0021,2,  34.9999,2,    209.6,2,    13.66,2,    20.08,2,     1.25,2,    1.503,2,    0.734,2,    0.084,2,    1.939,2
     06MT030_2,   A02,   482,  1,     18, KZM085,2,19941105,2148, 42.9583, -41.5950, 4815,    782.6,   6.4291,  35.1431,2,  35.1277,3,    212.5,2,    12.96,2,    19.37,2,     1.18,3,    1.294,2,    0.630,2,    0.057,2,    1.648,2
     06MT030_2,   A02,   482,  1,     17, KZM124,2,19941105,2148, 42.9583, -41.5950, 4815,   1000.0,   5.3975,  35.1034,2,  35.1017,2,    236.9,2,    12.58,2,    18.22,2,     1.12,2,    1.338,2,    0.654,2,    0.059,2,    2.026,2
     06MT030_2,   A02,   482,  1,     16, KZM114,2,19941105,2148, 42.9583, -41.5950, 4815,   1201.1,   4.5629,  35.0184,2,  35.0180,2,    254.8,2,    12.43,2,    17.64,2,     1.10,2,    1.501,2,    0.733,2,    0.070,2,    2.511,2
     06MT030_2,   A02,   482,  1,     15, KZM029,2,19941105,2148, 42.9583, -41.5950, 4815,   1516.8,   3.8672,  34.9448,2,  34.9448,2,    271.9,2,    12.24,2,    17.11,2,     1.08,2,    1.663,2,    0.813,2,    0.084,2,    2.949,2
     06MT030_2,   A02,   482,  1,     14,      2,2,19941105,2148, 42.9583, -41.5950, 4815,   1751.0,   3.6183,  34.9240,2,  34.9449,3,    277.5,2,    12.39,2,    17.05,2,     1.07,2,    1.756,2,    0.853,2,    0.089,2,    3.141,2
     06MT030_2,   A02,   482,  1,     13, KZM090,2,19941105,2148, 42.9583, -41.5950, 4815,   2000.3,   3.4753,  34.9151,2,  34.9151,2,    279.5,2,    12.61,2,    16.58,2,     1.05,2,    1.769,2,    0.858,2,    0.095,2,    3.163,2
     06MT030_2,   A02,   482,  1,     12, KZM117,2,19941105,2148, 42.9583, -41.5950, 4815,   2302.6,   3.3434,  34.9128,2,  34.9129,2,    281.0,2,    13.03,2,    16.48,2,     1.04,2,    1.699,2,    0.829,2,    0.096,2,    3.012,2
     06MT030_2,   A02,   482,  1,     11, KZM008,2,19941105,2148, 42.9583, -41.5950, 4815,   2502.0,   3.3254,  34.9282,2,  34.9289,2,    277.3,2,    14.00,2,    16.67,2,     1.07,2,    1.242,2,    0.605,2,    0.060,2,    2.426,2
     06MT030_2,   A02,   482,  1,     10, KZM115,2,19941105,2148, 42.9583, -41.5950, 4815,   2748.4,   3.2464,  34.9389,2,  34.9377,2,    273.8,2,    15.36,2,    16.55,2,     1.09,2,    0.833,2,    0.407,2,    0.028,2,    1.878,2
     06MT030_2,   A02,   482,  1,      9, KZM036,2,19941105,2148, 42.9583, -41.5950, 4815,   3009.4,   3.0565,  34.9357,2,  34.9366,2,    275.0,2,    16.58,2,    16.45,2,     1.08,2,    0.684,2,    0.338,2,    0.022,2,    1.626,2
     06MT030_2,   A02,   482,  1,      8,  UB001,2,19941105,2148, 42.9583, -41.5950, 4815,   3254.6,   2.8786,  34.9300,2,  34.9306,2,    278.1,3,    17.80,2,    16.43,2,     1.08,2,    0.708,2,    0.347,2,    0.034,2,    1.639,2
     06MT030_2,   A02,   482,  1,      7, KZM067,2,19941105,2148, 42.9583, -41.5950, 4815,   3505.0,   2.6817,  34.9228,2,  34.9222,2,    274.5,2,    19.51,2,    16.70,2,     1.09,2,    0.693,2,    0.342,2,    0.024,2,    1.606,2
     06MT030_2,   A02,   482,  1,      6, KZM017,2,19941105,2148, 42.9583, -41.5950, 4815,   3754.0,   2.5258,  34.9150,2,  34.9146,2,    275.1,2,    21.57,2,    16.89,2,     1.10,2,    0.648,2,    0.320,2,    0.026,2,    1.553,2
     06MT030_2,   A02,   482,  1,      5,  UB319,2,19941105,2148, 42.9583, -41.5950, 4815,   4003.5,   2.3898,  34.9061,2,  34.9059,2,    276.7,2,    23.09,2,    17.06,2,     1.12,2,    0.742,2,    0.364,2,    0.033,2,    1.681,2
     06MT030_2,   A02,   482,  1,      4, KZM056,2,19941105,2148, 42.9583, -41.5950, 4815,   4255.9,   2.3329,  34.9011,2,  34.9011,2,    275.8,2,    23.69,2,    16.87,2,     1.12,2,    0.827,2,    0.398,2,    0.041,2,    1.758,2
     06MT030_2,   A02,   482,  1,      3, KZM061,2,19941105,2148, 42.9583, -41.5950, 4815,   4503.5,   2.3099,  34.8971,2,  34.8966,2,    276.1,2,    25.00,2,    17.16,2,     1.11,2,    0.832,2,    0.401,2,    0.038,2,    1.745,2
     06MT030_2,   A02,   482,  1,      2, KZM052,2,19941105,2148, 42.9583, -41.5950, 4815,   4751.1,   2.3009,  34.8924,2,  34.8938,2,    275.2,2,    26.47,2,    17.47,2,     1.16,2,    0.838,2,    0.403,2,    0.039,2,    1.708,2
     06MT030_2,   A02,   482,  1,      1, KZM038,2,19941105,2148, 42.9583, -41.5950, 4815,   4904.1,   2.2919,  34.8886,2,  34.8903,2,    270.4,2,    29.67,2,    17.97,2,     1.21,2,    0.690,2,    0.335,2,    0.034,2,    1.461,2
     06MT030_2,   A02,   483,  2,     24, KZM012,2,19941106,1016, 42.7067, -42.3750, 4851,   1475.2,   3.6093,  34.9197,2,  34.9195,2,    277.6,2,    12.11,2,    16.77,2,     1.04,2,    1.935,2,    0.925,2,    0.098,2,    3.345,2
     06MT030_2,   A02,   483,  2,     23, KZM125,2,19941106,1016, 42.7067, -42.3750, 4851,   1546.9,   3.5733,  34.9221,2,  34.9212,2,    278.7,2,    12.34,2,    16.82,2,     1.10,2,    1.736,2,    0.815,2,    0.084,2,    3.092,2
     06MT030_2,   A02,   483,  2,     22, KZM033,2,19941106,1016, 42.7067, -42.3750, 4851,   1659.4,   3.5623,  34.9304,2,  34.9298,2,    277.3,2,    12.84,2,    17.12,2,     1.12,2,    1.486,2,    0.705,2,    0.071,2,    2.793,2
     06MT030_2,   A02,   483,  2,     21, KZM040,2,19941106,1016, 42.7067, -42.3750, 4851,   1800.1,   3.4713,  34.9257,2,  34.9254,2,    277.6,2,    13.05,2,    16.77,2,     1.12,2,    1.474,2,    0.697,2,    0.077,2,    2.736,2
     06MT030_2,   A02,   483,  2,     20, KZM097,2,19941106,1016, 42.7067, -42.3750, 4851,   1952.5,   3.3364,  34.9114,2,  34.9096,2,    282.4,3,    12.77,3,    16.45,2,     1.10,2,    1.753,2,    0.841,2,    0.095,2,    3.137,2
     06MT030_2,   A02,   483,  2,     19, KZM126,2,19941106,1016, 42.7067, -42.3750, 4851,   2012.0,   3.3244,  34.9164,2,  34.9153,2,    280.8,2,    13.08,2,    16.54,2,     1.10,2,    1.582,2,    0.765,2,    0.084,2,    2.941,2
     06MT030_2,   A02,   483,  2,     18, KZM085,2,19941106,1016, 42.7067, -42.3750, 4851,   2149.2,   3.3064,  34.9241,2,  34.9241,2,    278.8,2,    13.60,2,    16.78,2,     1.12,2,    1.321,2,    0.634,2,    0.062,2,    2.572,2
     06MT030_2,   A02,   483,  2,     17, KZM124,2,19941106,1016, 42.7067, -42.3750, 4851,   2301.8,   3.2584,  34.9343,2,  34.9332,2,    276.1,2,    14.60,2,    16.72,2,     1.11,2,    0.993,2,    0.483,2,    0.042,2,    2.125,2
     06MT030_2,   A02,   483,  2,     16, KZM114,2,19941106,1016, 42.7067, -42.3750, 4851,   2450.1,   3.1725,  34.9370,2,  34.9366,2,    274.8,2,    15.26,2,    16.85,2,     1.12,2,    0.852,2,    0.413,2,    0.032,2,    1.892,2
     06MT030_2,   A02,   483,  2,     15, KZM029,2,19941106,1016, 42.7067, -42.3750, 4851,   2601.2,   3.1185,  34.9383,2,  34.9383,2,    274.4,2,    16.05,2,    16.92,2,     1.12,2,    0.735,2,    0.360,2,    0.026,2,    1.695,2
     06MT030_2,   A02,   483,  2,     14,      2,2,19941106,1016, 42.7067, -42.3750, 4851,   2751.3,   3.0695,  34.9386,2,  34.9377,2,    273.7,2,    16.83,2,    16.96,2,     1.13,2,    0.680,2,    0.333,2,    0.030,2,    1.607,2
     06MT030_2,   A02,   483,  2,     13, KZM090,2,19941106,1016, 42.7067, -42.3750, 4851,   2904.0,   2.9476,  34.9291,2,  34.9281,2,    277.8,2,    15.82,2,    16.45,2,     1.10,2,    1.028,2,    0.500,2,    0.046,2,    2.067,2
     06MT030_2,   A02,   483,  2,     12, KZM117,2,19941106,1016, 42.7067, -42.3750, 4851,   3053.9,   2.8396,  34.9276,2,  34.9255,2,    277.3,2,    16.19,2,    16.55,2,     1.11,2,    1.039,2,    0.500,2,    0.047,2,    2.080,2
     06MT030_2,   A02,   483,  2,     11, KZM008,2,19941106,1016, 42.7067, -42.3750, 4851,   3203.4,   2.7917,  34.9300,2,  34.9285,2,    274.7,3,    18.51,2,    17.08,3,     1.15,2,    0.697,2,    0.340,2,    0.031,2,    1.607,2
     06MT030_2,   A02,   483,  2,     10, KZM115,2,19941106,1016, 42.7067, -42.3750, 4851,   3352.7,   2.6537,  34.9227,2,  34.9218,2,    275.0,2,    19.48,2,    16.86,2,     1.14,2,    0.733,2,    0.354,2,    0.035,2,    1.667,2
     06MT030_2,   A02,   483,  2,      9, KZM036,2,19941106,1016, 42.7067, -42.3750, 4851,   3503.3,   2.5358,  34.9159,2,  34.9147,2,    276.6,2,    20.33,2,    16.85,2,     1.15,2,    0.827,2,    0.397,2,    0.043,2,    1.782,2
     06MT030_2,   A02,   483,  2,      8,  UB001,3,19941106,1016, 42.7067, -42.3750, 4851,   3701.7,   2.3708,  34.9073,2,  34.9066,2,    276.0,3,    22.95,2,    17.52,3,     1.17,2,    0.868,2,    0.439,3,    0.060,2,    1.772,2
     06MT030_2,   A02,   483,  2,      7, KZM067,2,19941106,1016, 42.7067, -42.3750, 4851,   3904.2,   2.3209,  34.9031,2,  34.9025,2,    277.0,2,    22.96,2,    17.17,2,     1.17,2,    0.873,2,    0.414,2,    0.043,2,    1.816,2
     06MT030_2,   A02,   483,  2,      6, KZM017,2,19941106,1016, 42.7067, -42.3750, 4851,   4101.9,   2.3039,  34.9016,2,  34.9000,2,    276.6,2,    23.62,2,    17.19,2,     1.18,2,    1.002,3,    0.497,3,    0.071,2,    2.041,2
     06MT030_2,   A02,   483,  2,      5,  UB319,2,19941106,1016, 42.7067, -42.3750, 4851,   4303.3,   2.2899,  34.8985,2,  34.8983,2,    276.2,2,    24.09,2,    17.28,2,     1.18,2,    1.273,4,    0.710,4,    0.093,2,    2.017,2
     06MT030_2,   A02,   483,  2,      4, KZM056,2,19941106,1016, 42.7067, -42.3750, 4851,   4503.4,   2.2879,  34.8963,2,  34.8948,2,    275.4,2,    25.51,2,    17.66,2,     1.20,2,    0.869,2,    0.415,2,    0.039,2,    1.801,2
     06MT030_2,   A02,   483,  2,      3, KZM061,2,19941106,1016, 42.7067, -42.3750, 4851,   4705.1,   2.2869,  34.8929,2,  34.8932,2,    275.0,2,    26.66,2,    17.73,2,     1.21,2,    0.845,2,    0.408,2,    0.040,2,    1.736,2
     06MT030_2,   A02,   483,  2,      2, KZM052,2,19941106,1016, 42.7067, -42.3750, 4851,   4804.0,   2.2819,  34.8905,2,  34.8917,2,    273.2,3,    28.26,3,    18.23,3,     1.24,3,    0.791,2,    0.381,2,    0.038,2,    1.638,2
     06MT030_2,   A02,   483,  2,      1, KZM038,2,19941106,1016, 42.7067, -42.3750, 4851,   4929.0,   2.2899,  34.8905,2,  34.8915,2,    278.3,2,    26.06,2,    17.37,2,     1.22,2,    1.024,6,    0.490,6,    0.054,6,    1.938,6