BOTTLE,20010917WHPSIOKJU
EXPOCODE,SECT_ID,STNNBR,CASTNO,SAMPNO,BTLNBR,BTLNBR_FLAG_W,DATE,TIME,LATITUDE,LONGITUDE,DEPTH,CTDPRS,CTDTMP,CTDSAL,CTDSAL_FLAG_W,SALNTY,SALNTY_FLAG_W,OXYGEN,OXYGEN_FLAG_W,SILCAT,SILCAT_FLAG_W,NITRAT,NITRAT_FLAG_W,PHSPHT,PHSPHT_FLAG_W,CFC-11,CFC-11_FLAG_W,CFC-12,CFC-12_FLAG_W,CFC113,CFC113_FLAG_W,CCL4,CCL4_FLAG_W
,,,,,,,,,,,,DBAR,ITS-90,PSS-78,,PSS-78,,UMOL/KG,,UMOL/KG,,UMOL/KG,,UMOL/KG,,PMOL/L,,PMOL/L,,PMOL/L,,PMOL/L,
     06MT030_2,   A02,   471,  3,     24, KZM012,2,19941030,2252, 45.3417, -33.3050, 3543,    996.5,   5.1746,  35.0305,2,  35.0302,2,    238.5,2,    12.22,2,    17.91,2,     1.11,2,    1.815,2,    0.882,2,    0.087,2,    2.553,2
     06MT030_2,   A02,   471,  3,     23, KZM125,2,19941030,2252, 45.3417, -33.3050, 3543,   1148.7,   4.6828,  35.0040,2,  35.0045,2,    250.6,2,    12.08,2,    17.40,2,     1.15,2,    1.822,2,    0.875,2,    0.079,2,    2.770,2
     06MT030_2,   A02,   471,  3,     22, KZM033,2,19941030,2252, 45.3417, -33.3050, 3543,   1274.6,   4.3810,  34.9858,2,  34.9850,2,    258.6,2,    15.33,2,    17.26,2,     1.14,2,    1.747,2,    0.854,2,    0.101,2,    2.804,2
     06MT030_2,   A02,   471,  3,     21, KZM040,2,19941030,2252, 45.3417, -33.3050, 3543,   1349.0,   4.0651,  34.9449,2,  34.9464,2,    266.8,2,    11.87,2,    17.35,2,     1.14,2,    2.005,2,    0.972,2,    0.093,2,    3.242,2
     06MT030_2,   A02,   471,  3,     20, KZM097,2,19941030,2252, 45.3417, -33.3050, 3543,   1498.1,   3.6623,  34.9047,2,  34.9057,2,    276.0,2,    11.57,2,    16.68,2,     1.12,2,    2.272,2,    1.095,2,    0.107,2,    3.708,2
     06MT030_2,   A02,   471,  3,     19, KZM126,2,19941030,2252, 45.3417, -33.3050, 3543,   1600.1,   3.5543,  34.8971,2,  34.8979,2,    279.3,2,    11.52,2,    16.46,2,     1.11,2,    2.257,2,    1.087,2,    0.110,2,    3.726,2
     06MT030_2,   A02,   471,  3,     18, KZM085,2,19941030,2252, 45.3417, -33.3050, 3543,   1801.4,   3.4124,  34.8931,2,  34.8930,2,    281.6,2,    11.52,2,    16.60,2,     1.10,2,    2.143,2,    1.036,2,    0.104,2,    3.664,2
     06MT030_2,   A02,   471,  3,     17, KZM124,2,19941030,2252, 45.3417, -33.3050, 3543,   1997.6,   3.3574,  34.8974,2,  34.8963,2,    282.2,2,    11.87,2,    16.50,2,     1.10,2,    2.106,2,    1.022,2,    0.109,2,    3.603,2
     06MT030_2,   A02,   471,  3,     16, KZM114,2,19941030,2252, 45.3417, -33.3050, 3543,   2100.4,   3.3404,  34.8992,2,  34.9000,2,    282.4,2,    11.99,2,    16.32,2,     1.11,2,    2.007,2,    0.962,2,    0.105,2,    3.462,2
     06MT030_2,   A02,   471,  3,     15, KZM029,2,19941030,2252, 45.3417, -33.3050, 3543,   2202.1,   3.3284,  34.9037,2,  34.9040,2,    281.1,2,    12.40,2,    16.21,2,     1.10,2,    1.871,2,    0.908,2,    0.138,4,    3.273,2
     06MT030_2,   A02,   471,  3,     14,      2,2,19941030,2252, 45.3417, -33.3050, 3543,   2298.0,   3.2794,  34.9027,2,  34.9027,2,    281.8,2,    12.29,2,    16.38,2,     1.10,2,    1.924,3,    0.936,3,    0.101,2,    3.333,3
     06MT030_2,   A02,   471,  3,     13, KZM090,2,19941030,2252, 45.3417, -33.3050, 3543,   2451.9,   3.2774,  34.9169,2,  34.9177,2,    278.7,2,    12.93,2,    16.27,2,     1.10,2,    1.476,6,    0.717,6,    0.062,6,    2.779,6
     06MT030_2,   A02,   471,  3,     12, KZM117,2,19941030,2252, 45.3417, -33.3050, 3543,   2601.0,   3.2295,  34.9278,2,  34.9279,2,    275.9,2,    13.58,2,    16.26,2,     1.11,2,    1.164,2,    0.566,2,    0.042,2,    2.351,2
     06MT030_2,   A02,   471,  3,     11, KZM008,2,19941030,2252, 45.3417, -33.3050, 3543,   2698.6,   3.1735,  34.9312,2,  34.9315,2,    275.1,2,    13.95,2,    16.51,2,     1.11,2,    1.045,2,    0.511,2,    0.028,2,    2.182,2
     06MT030_2,   A02,   471,  3,      9, KZM036,2,19941030,2252, 45.3417, -33.3050, 3543,   2795.4,   3.1105,  34.9334,2,  34.9344,2,    275.0,2,    14.62,2,    16.20,2,     1.11,2,    0.929,6,    0.457,6,    0.027,6,    2.017,6
     06MT030_2,   A02,   471,  3,      8,  UB001,2,19941030,2252, 45.3417, -33.3050, 3543,   2900.8,   3.0365,  34.9334,2,  34.9340,2,    274.6,2,    15.16,2,    16.20,2,     1.12,2,    0.851,2,    0.414,2,    0.020,2,    1.939,2
     06MT030_2,   A02,   471,  3,      6, KZM017,2,19941030,2252, 45.3417, -33.3050, 3543,   3101.4,   2.8766,  34.9315,2,  34.9318,2,    274.3,2,    16.32,2,    16.42,2,     1.13,2,    0.780,2,    0.385,2,    0.064,4,    1.843,2
     06MT030_2,   A02,   471,  3,      5,  UB319,2,19941030,2252, 45.3417, -33.3050, 3543,   3202.8,   2.8176,  34.9288,2,  34.9289,2,    274.9,2,    16.67,2,    16.58,2,     1.13,2,    0.799,2,    0.394,2,    0.017,2,    1.856,2
     06MT030_2,   A02,   471,  3,      4, KZM056,2,19941030,2252, 45.3417, -33.3050, 3543,   3303.3,   2.7367,  34.9281,2,  34.9279,2,    274.9,2,    17.37,2,    16.30,2,     1.15,2,    0.734,2,    0.361,2,    0.017,2,    1.784,2
     06MT030_2,   A02,   471,  3,      3, KZM061,2,19941030,2252, 45.3417, -33.3050, 3543,   3402.6,   2.6727,  34.9252,2,  34.9248,2,    274.7,2,    18.11,2,    16.37,2,     1.15,2,    0.735,2,    0.358,2,    0.016,2,    1.778,2
     06MT030_2,   A02,   471,  3,      2, KZM052,2,19941030,2252, 45.3417, -33.3050, 3543,   3550.6,   2.5857,  34.9205,2,  34.9206,2,    275.7,2,    18.97,2,    16.77,2,     1.16,2,    0.751,2,    0.367,2,    0.020,2,    1.801,2
     06MT030_2,   A02,   471,  3,      1, KZM038,2,19941030,2252, 45.3417, -33.3050, 3543,   3572.1,   2.5748,  34.9201,2,  34.9205,2,    274.8,2,    19.12,2,    16.62,2,     1.17,2,    0.746,2,    0.365,2,    0.022,2,    1.789,2
     06MT030_2,   A02,   472,  1,     14,     22,2,19941031,0328, 45.2083, -33.7600, 3674,     10.8,  16.8809,  35.4023,2,  35.4042,2,    238.2,2,     1.77,2,     0.10,2,     0.07,2, -999.000,9, -999.000,9, -999.000,9, -999.000,9
     06MT030_2,   A02,   472,  1,     13,  10003,2,19941031,0328, 45.2083, -33.7600, 3674,     45.4,  16.0587,  35.2448,2,  35.2425,2,    242.2,2,     1.81,2,     0.09,2,     0.07,2, -999.000,9, -999.000,9, -999.000,9, -999.000,9
     06MT030_2,   A02,   472,  1,     12,  10026,2,19941031,0328, 45.2083, -33.7600, 3674,     78.3,  16.3264,  36.1202,2,  36.1290,3,    195.9,2,     3.51,2,     6.01,2,     0.30,2, -999.000,9, -999.000,9, -999.000,9, -999.000,9
     06MT030_2,   A02,   472,  1,     11,  10008,2,19941031,0328, 45.2083, -33.7600, 3674,    124.2,  14.8398,  35.9416,2,  35.9512,3,    200.1,2,     4.36,2,     7.64,2,     0.42,2, -999.000,9, -999.000,9, -999.000,9, -999.000,9
     06MT030_2,   A02,   472,  1,     10,  10010,2,19941031,0328, 45.2083, -33.7600, 3674,    180.5,  13.5100,  35.7244,2,  35.7272,2,    201.3,2,     5.68,2,    10.29,2,     0.59,2, -999.000,9, -999.000,9, -999.000,9, -999.000,9
     06MT030_2,   A02,   472,  1,      9,  10004,2,19941031,0328, 45.2083, -33.7600, 3674,    296.0,  12.2963,  35.5958,2,  35.5983,2,    218.1,2,     5.97,2,    10.66,2,     0.65,2, -999.000,9, -999.000,9, -999.000,9, -999.000,9
     06MT030_2,   A02,   472,  1,      8,     15,2,19941031,0328, 45.2083, -33.7600, 3674,    495.9,   9.8658,  35.2773,2,  35.2771,2,    193.9,2,    10.00,2,    16.69,2,     1.08,2, -999.000,9, -999.000,9, -999.000,9, -999.000,9
     06MT030_2,   A02,   472,  1,      7,     23,2,19941031,0328, 45.2083, -33.7600, 3674,    625.9,   7.4336,  34.9979,2,  34.9928,2,    203.2,2,    12.16,2,    18.67,2,     1.26,2, -999.000,9, -999.000,9, -999.000,9, -999.000,9
     06MT030_2,   A02,   472,  1,      6,    910,2,19941031,0328, 45.2083, -33.7600, 3674,    645.3,   7.5595,  35.0537,2,  35.0494,2,    195.3,2,    12.45,2,    19.42,2,     1.30,2, -999.000,9, -999.000,9, -999.000,9, -999.000,9
     06MT030_2,   A02,   472,  1,      5, KZM128,2,19941031,0328, 45.2083, -33.7600, 3674,    686.2,   6.7814,  34.9985,2,  34.9948,2,    199.7,2,    13.13,2,    19.96,2,     1.31,2, -999.000,9, -999.000,9, -999.000,9, -999.000,9
     06MT030_2,   A02,   472,  1,      2,     17,2,19941031,0328, 45.2083, -33.7600, 3674,    994.0,   5.1025,  35.0316,2,  35.0308,2,    240.9,2,    12.66,2,    18.23,2,     1.22,2, -999.000,9, -999.000,9, -999.000,9, -999.000,9
     06MT030_2,   A02,   472,  1,      1,     10,2,19941031,0328, 45.2083, -33.7600, 3674,   1223.6,   4.3165,  34.9760,2,  34.9779,2,    257.9,2,    12.30,2,    17.46,2,     1.18,2, -999.000,9, -999.000,9, -999.000,9, -999.000,9
     06MT030_2,   A02,   472,  2,     24, KZM012,2,19941031,0548, 45.2100, -33.7633, 3666,   1197.7,   4.4299,  34.9830,2,  34.9831,2,    257.9,2,    12.28,2,    17.48,2,     1.21,2, -999.000,9, -999.000,9, -999.000,9, -999.000,9
     06MT030_2,   A02,   472,  2,     23, KZM125,2,19941031,0548, 45.2100, -33.7633, 3666,   1297.9,   4.1770,  34.9603,2,  34.9591,2,    264.0,2,    12.05,2,    17.49,2,     1.19,2, -999.000,9, -999.000,9, -999.000,9, -999.000,9
     06MT030_2,   A02,   472,  2,     22, KZM033,2,19941031,0548, 45.2100, -33.7633, 3666,   1399.1,   3.9441,  34.9397,2,  34.9388,2,    269.9,2,    12.04,2,    17.24,2,     1.18,2, -999.000,9, -999.000,9, -999.000,9, -999.000,9
     06MT030_2,   A02,   472,  2,     21, KZM040,2,19941031,0548, 45.2100, -33.7633, 3666,   1501.5,   3.7832,  34.9255,2,  34.9248,2,    273.5,2,    11.95,2,    16.92,2,     1.16,2, -999.000,9, -999.000,9, -999.000,9, -999.000,9
     06MT030_2,   A02,   472,  2,     20, KZM097,2,19941031,0548, 45.2100, -33.7633, 3666,   1600.4,   3.6543,  34.9139,2,  34.9148,2,    276.9,2,    12.07,2,    16.82,2,     1.17,2, -999.000,9, -999.000,9, -999.000,9, -999.000,9
     06MT030_2,   A02,   472,  2,     19, KZM126,2,19941031,0548, 45.2100, -33.7633, 3666,   1801.5,   3.4933,  34.9035,2,  34.9040,2,    281.7,2,    12.14,2,    16.91,2,     1.16,2, -999.000,9, -999.000,9, -999.000,9, -999.000,9
     06MT030_2,   A02,   472,  2,     18, KZM085,2,19941031,0548, 45.2100, -33.7633, 3666,   1951.3,   3.3524,  34.8904,2,  34.8894,2,    284.4,2,    12.04,2,    16.57,2,     1.14,2, -999.000,9, -999.000,9, -999.000,9, -999.000,9
     06MT030_2,   A02,   472,  2,     17, KZM124,2,19941031,0548, 45.2100, -33.7633, 3666,   2000.7,   3.4014,  34.9017,2,  34.9033,2,    281.8,2,    12.69,2,    16.59,2,     1.14,2, -999.000,9, -999.000,9, -999.000,9, -999.000,9
     06MT030_2,   A02,   472,  2,     16, KZM114,2,19941031,0548, 45.2100, -33.7633, 3666,   2202.9,   3.2884,  34.8973,2,  34.8982,2,    282.7,2,    12.50,2,    16.37,2,     1.13,2, -999.000,9, -999.000,9, -999.000,9, -999.000,9
     06MT030_2,   A02,   472,  2,     15, KZM029,2,19941031,0548, 45.2100, -33.7633, 3666,   2402.4,   3.2634,  34.9114,2,  34.9117,2,    280.6,2,    13.15,2,    16.61,2,     1.13,2, -999.000,9, -999.000,9, -999.000,9, -999.000,9
     06MT030_2,   A02,   472,  2,     14,      2,2,19941031,0548, 45.2100, -33.7633, 3666,   2601.4,   3.2145,  34.9247,2,  34.9253,2,    277.3,2,    14.04,2,    16.52,2,     1.13,2, -999.000,9, -999.000,9, -999.000,9, -999.000,9
     06MT030_2,   A02,   472,  2,     13, KZM090,2,19941031,0548, 45.2100, -33.7633, 3666,   2802.5,   3.1105,  34.9324,2,  34.9323,2,    275.0,2,    15.01,2,    16.49,2,     1.12,2, -999.000,9, -999.000,9, -999.000,9, -999.000,9
     06MT030_2,   A02,   472,  2,     12, KZM117,2,19941031,0548, 45.2100, -33.7633, 3666,   2903.9,   3.0365,  34.9332,2,  34.9329,2,    274.9,2,    15.85,2,    16.53,2,     1.13,2, -999.000,9, -999.000,9, -999.000,9, -999.000,9
     06MT030_2,   A02,   472,  2,     11, KZM008,2,19941031,0548, 45.2100, -33.7633, 3666,   3000.3,   2.9606,  34.9319,2,  34.9332,2,    274.6,2,    16.29,2,    16.57,2,     1.13,2, -999.000,9, -999.000,9, -999.000,9, -999.000,9
     06MT030_2,   A02,   472,  2,      9, KZM036,2,19941031,0548, 45.2100, -33.7633, 3666,   3101.3,   2.8916,  34.9310,2,  34.9315,2,    275.0,2,    16.72,2,    16.52,2,     1.14,2, -999.000,9, -999.000,9, -999.000,9, -999.000,9
     06MT030_2,   A02,   472,  2,      8,  UB001,2,19941031,0548, 45.2100, -33.7633, 3666,   3202.8,   2.8126,  34.9306,2,  34.9301,2,    278.1,3,    17.53,2,    16.52,2,     1.13,2, -999.000,9, -999.000,9, -999.000,9, -999.000,9
     06MT030_2,   A02,   472,  2,      7, KZM067,2,19941031,0548, 45.2100, -33.7633, 3666,   3304.0,   2.7107,  34.9277,2,  34.9267,2,    275.5,2,    18.29,2,    16.75,3,     1.14,2, -999.000,9, -999.000,9, -999.000,9, -999.000,9
     06MT030_2,   A02,   472,  2,      6, KZM017,2,19941031,0548, 45.2100, -33.7633, 3666,   3404.6,   2.6117,  34.9233,2,  34.9231,2,    275.1,2,    19.04,2,    16.47,2,     1.14,2, -999.000,9, -999.000,9, -999.000,9, -999.000,9
     06MT030_2,   A02,   472,  2,      5,  UB319,2,19941031,0548, 45.2100, -33.7633, 3666,   3503.0,   2.5348,  34.9194,2,  34.9175,2,    275.3,2,    19.66,2,    16.60,2,     1.14,2, -999.000,9, -999.000,9, -999.000,9, -999.000,9
     06MT030_2,   A02,   472,  2,      4, KZM056,2,19941031,0548, 45.2100, -33.7633, 3666,   3603.4,   2.4658,  34.9149,2,  34.9140,2,    274.4,2,    21.47,2,    16.87,2,     1.16,3, -999.000,9, -999.000,9, -999.000,9, -999.000,9
     06MT030_2,   A02,   472,  2,      3, KZM061,2,19941031,0548, 45.2100, -33.7633, 3666,   3655.1,   2.4458,  34.9131,2,  34.9126,2,    273.8,2,    22.15,2,    17.14,3,     1.16,2, -999.000,9, -999.000,9, -999.000,9, -999.000,9
     06MT030_2,   A02,   472,  2,      2, KZM052,2,19941031,0548, 45.2100, -33.7633, 3666,   3705.5,   2.4288,  34.9127,2,  34.9128,2,    275.7,2,    22.51,2,    16.89,2,     1.16,2,    0.692,6,    0.334,6,    0.018,2,    1.626,6
     06MT030_2,   A02,   472,  2,      1, KZM038,2,19941031,0548, 45.2100, -33.7633, 3666,   3717.2,   2.4288,  34.9125,2,  34.9121,2,    274.8,2,    22.40,2,    16.97,2,     1.17,2,    0.689,6,    0.339,6,    0.022,6,    1.635,6
     06MT030_2,   A02,   473,  1,     14,     22,2,19941031,1138, 45.0200, -34.4233, 3973,     10.2,  15.5511,  35.2022,2,  35.1983,2,    246.7,2,     1.75,2,     0.06,2,     0.09,2,    2.730,2,    1.452,2,    0.216,2,    3.689,2
     06MT030_2,   A02,   473,  1,     13,  10003,2,19941031,1138, 45.0200, -34.4233, 3973,     50.1,  15.5611,  35.2028,2,  35.1989,2,    246.4,2,     1.84,2,     0.05,2,     0.08,2,    2.779,4,    1.467,2,    0.272,4,    3.565,2
     06MT030_2,   A02,   473,  1,     12,  10026,2,19941031,1138, 45.0200, -34.4233, 3973,     95.7,  15.3703,  35.9811,2,  35.9865,2,    209.8,2,     3.53,2,     6.41,2,     0.35,2,    2.447,2,    1.285,2,    0.143,2,    1.219,2
     06MT030_2,   A02,   473,  1,     11,  10008,2,19941031,1138, 45.0200, -34.4233, 3973,    132.9,  14.7558,  35.9152,2,  35.9202,2,    212.7,2,     4.12,2,     7.44,2,     0.42,2,    2.769,3,    1.567,4,    0.204,4,    1.409,2
     06MT030_2,   A02,   473,  1,     10,  10010,2,19941031,1138, 45.0200, -34.4233, 3973,    236.5,  12.8247,  35.6122,2,  35.6117,2,    215.2,2,     5.44,2,     9.93,2,     0.59,2,    2.480,2,    1.304,2,    0.138,2,    1.520,2
     06MT030_2,   A02,   473,  1,      9,  10004,2,19941031,1138, 45.0200, -34.4233, 3973,    269.4,  12.5680,  35.6016,2,  35.6030,2,    220.8,2,     5.50,2,     9.91,2,     0.62,2,    2.566,2,    1.333,2,    0.152,2,    1.609,2
     06MT030_2,   A02,   473,  1,      8,     15,2,19941031,1138, 45.0200, -34.4233, 3973,    392.8,  10.9706,  35.3731,2,  35.3709,2,    210.5,2,     7.53,2,    13.40,2,     0.87,2,    2.397,2,    1.218,2,    0.136,2,    1.685,2
     06MT030_2,   A02,   473,  1,      7,     23,2,19941031,1138, 45.0200, -34.4233, 3973,    475.2,  10.3673,  35.3277,2,  35.3259,2,    219.1,3,     8.00,2,    13.80,2,     0.91,2,    2.482,2,    1.261,2,    0.155,2,    1.812,2
     06MT030_2,   A02,   473,  1,      6,    910,2,19941031,1138, 45.0200, -34.4233, 3973,    495.0,  10.0516,  35.2746,2,  35.2739,2,    210.5,2,     8.90,2,    15.12,2,     0.99,2,    2.322,2,    1.176,2,    0.135,2,    1.767,2
     06MT030_2,   A02,   473,  1,      1,     10,2,19941031,1138, 45.0200, -34.4233, 3973,   1070.5,   4.9247,  35.0154,2,  35.0130,2,    247.2,2,    12.36,2,    18.18,2,     1.19,2,    1.831,2,    0.876,2,    0.087,2,    2.641,2