BOTTLE,20010917WHPSIOKJU
EXPOCODE,SECT_ID,STNNBR,CASTNO,SAMPNO,BTLNBR,BTLNBR_FLAG_W,DATE,TIME,LATITUDE,LONGITUDE,DEPTH,CTDPRS,CTDTMP,CTDSAL,CTDSAL_FLAG_W,SALNTY,SALNTY_FLAG_W,OXYGEN,OXYGEN_FLAG_W,SILCAT,SILCAT_FLAG_W,NITRAT,NITRAT_FLAG_W,PHSPHT,PHSPHT_FLAG_W,CFC-11,CFC-11_FLAG_W,CFC-12,CFC-12_FLAG_W,CFC113,CFC113_FLAG_W,CCL4,CCL4_FLAG_W
,,,,,,,,,,,,DBAR,ITS-90,PSS-78,,PSS-78,,UMOL/KG,,UMOL/KG,,UMOL/KG,,UMOL/KG,,PMOL/L,,PMOL/L,,PMOL/L,,PMOL/L,
     06MT030_2,   A02,   469,  2,     23, KZM125,2,19941029,1005, 45.6950, -32.2783, 3573,   1098.1,   4.7698,  35.0069,2,  35.0069,2,    247.5,2,    12.13,2,    18.14,2,     1.01,2,    1.856,2,    0.902,2,    0.092,2,    2.801,2
     06MT030_2,   A02,   469,  2,     22, KZM033,2,19941029,1005, 45.6950, -32.2783, 3573,   1248.3,   4.3040,  34.9744,2,  34.9740,2,    260.1,2,    11.95,2,    17.76,2,     1.07,2, -999.000,9, -999.000,9, -999.000,9, -999.000,9
     06MT030_2,   A02,   469,  2,     21, KZM040,2,19941029,1005, 45.6950, -32.2783, 3573,   1396.6,   4.0121,  34.9474,2,  34.9475,2,    267.3,2,    11.81,2,    17.60,2,     1.07,2,    1.952,2,    0.947,2,    0.092,2,    3.307,2
     06MT030_2,   A02,   469,  2,     20, KZM097,2,19941029,1005, 45.6950, -32.2783, 3573,   1548.1,   3.8192,  34.9291,2,  34.9298,2,    271.9,2,    11.79,2,    17.22,2,     1.04,2,    1.928,2,    0.932,2,    0.092,2,    3.340,2
     06MT030_2,   A02,   469,  2,     19, KZM126,2,19941029,1005, 45.6950, -32.2783, 3573,   1698.1,   3.6253,  34.9119,2,  34.9126,2,    276.1,2,    11.78,2,    17.18,2,     1.06,2, -999.000,9, -999.000,9, -999.000,9, -999.000,9
     06MT030_2,   A02,   469,  2,     18, KZM085,2,19941029,1005, 45.6950, -32.2783, 3573,   1847.9,   3.5103,  34.9035,2,  34.9054,2,    278.6,2,    12.00,2,    17.12,2,     1.06,2,    1.858,2,    0.904,2,    0.076,2,    3.393,2
     06MT030_2,   A02,   469,  2,     17, KZM124,2,19941029,1005, 45.6950, -32.2783, 3573,   2000.2,   3.4374,  34.9032,2,  34.9029,2,    279.4,2,    12.22,2,    17.25,2,     1.05,2,    1.780,2,    0.856,2,    0.075,2,    3.231,2
     06MT030_2,   A02,   469,  2,     16, KZM114,2,19941029,1005, 45.6950, -32.2783, 3573,   2149.8,   3.4074,  34.9117,2,  34.9116,2,    277.4,2,    12.96,2,    17.08,2,     1.05,2,    1.505,2,    0.723,2,    0.086,4,    2.872,2
     06MT030_2,   A02,   469,  2,     15, KZM029,4,19941029,1005, 45.6950, -32.2783, 3573,   2300.9,   3.3524,  34.9169,2,  34.9941,4,    266.7,4,    12.01,2,    15.81,4,     0.98,4, -999.000,9, -999.000,9, -999.000,9, -999.000,9
     06MT030_2,   A02,   469,  2,     14,      2,2,19941029,1005, 45.6950, -32.2783, 3573,   2500.4,   3.2434,  34.9199,2,  34.9254,3,    275.0,2,    13.79,2,    17.01,2,     1.07,2,    1.146,2,    0.565,2,    0.043,2,    2.396,2
     06MT030_2,   A02,   469,  2,     13, KZM090,2,19941029,1005, 45.6950, -32.2783, 3573,   2601.4,   3.2345,  34.9283,2,  34.9284,2,    275.2,2,    13.95,2,    16.94,2,     1.05,2, -999.000,9, -999.000,9, -999.000,9, -999.000,9
     06MT030_2,   A02,   469,  2,     12, KZM117,2,19941029,1005, 45.6950, -32.2783, 3573,   2702.0,   3.1775,  34.9316,2,  34.9163,3,    277.4,2,    13.40,2,    16.88,2,     1.08,3,    1.395,4,    0.673,4,    0.061,2,    2.795,4
     06MT030_2,   A02,   469,  2,     11, KZM008,2,19941029,1005, 45.6950, -32.2783, 3573,   2801.6,   3.0955,  34.9345,2,  34.9339,2,    274.7,2,    14.98,2,    16.67,2,     1.07,2, -999.000,9, -999.000,9, -999.000,9, -999.000,9
     06MT030_2,   A02,   469,  2,      9, KZM036,2,19941029,1005, 45.6950, -32.2783, 3573,   2901.2,   3.0325,  34.9344,2,  34.9348,2,    274.3,2,    15.46,2,    16.79,2,     1.07,2, -999.000,9, -999.000,9, -999.000,9, -999.000,9
     06MT030_2,   A02,   469,  2,      8,  UB001,4,19941029,1005, 45.6950, -32.2783, 3573,   3001.3,   2.9756,  34.9338,2,  35.1990,4,    245.4,4,    11.11,4,    14.82,4,     0.92,4,    1.594,4,    0.795,4,    0.080,4,    2.301,4
     06MT030_2,   A02,   469,  2,      7, KZM067,2,19941029,1005, 45.6950, -32.2783, 3573,   3102.3,   2.8726,  34.9314,2,  34.9320,2,    276.6,2,    16.42,2,    16.52,2,     1.05,2, -999.000,9, -999.000,9, -999.000,9, -999.000,9
     06MT030_2,   A02,   469,  2,      6, KZM017,2,19941029,1005, 45.6950, -32.2783, 3573,   3203.4,   2.7777,  34.9304,2,  34.9301,2,    274.7,2,    17.01,2,    16.66,2,     1.08,2,    0.877,2,    0.425,2,    0.029,2,    2.006,2
     06MT030_2,   A02,   469,  2,      5,  UB319,2,19941029,1005, 45.6950, -32.2783, 3573,   3300.5,   2.6797,  34.9264,2,  34.9253,2,    274.1,2,    17.47,2,    16.71,2,     1.07,2,    0.913,2,    0.450,2,    0.029,2,    2.101,2
     06MT030_2,   A02,   469,  2,      4, KZM056,2,19941029,1005, 45.6950, -32.2783, 3573,   3396.3,   2.5937,  34.9223,2,  34.9216,2,    276.8,2,    17.99,2,    16.56,2,     1.05,2,    0.978,2,    0.476,2,    0.040,2,    2.214,2
     06MT030_2,   A02,   469,  2,      3, KZM061,2,19941029,1005, 45.6950, -32.2783, 3573,   3490.3,   2.5298,  34.9185,2,  34.9183,2,    276.2,2,    18.33,2,    16.59,2,     1.06,2,    1.223,4,    0.632,4,    0.106,4,    2.396,4
     06MT030_2,   A02,   469,  2,      2, KZM052,2,19941029,1005, 45.6950, -32.2783, 3573,   3588.6,   2.4598,  34.9145,2,  34.9140,2,    275.8,2,    18.84,2,    16.74,2,     1.07,2,    0.999,2,    0.485,2,    0.034,2,    2.110,2
     06MT030_2,   A02,   469,  2,      1, KZM038,2,19941029,1005, 45.6950, -32.2783, 3573,   3614.1,   2.4448,  34.9138,2,  34.9133,2,    275.9,2,    19.10,2,    16.70,2,     1.07,2,    1.012,2,    0.493,2,    0.037,2,    2.146,2
     06MT030_2,   A02,   470,  1,     14,     22,2,19941029,1659, 45.5250, -32.7533, 3811,     15.4,  18.3907,  35.7620,2,  35.7644,2,    231.5,2,     1.55,2,     0.04,2,     0.07,2,    2.387,2,    1.310,2,    0.185,2,    3.242,2
     06MT030_2,   A02,   470,  1,     13,  10003,2,19941029,1659, 45.5250, -32.7533, 3811,     32.6,  18.3937,  35.7618,2,  35.7639,2,    231.3,2,     1.84,2,     0.01,2,     0.07,2,    2.428,2,    1.335,2,    0.198,2,    3.331,2
     06MT030_2,   A02,   470,  1,     12,  10026,2,19941029,1659, 45.5250, -32.7533, 3811,     58.8,  17.0698,  36.2258,2,  36.2329,2,    213.4,2,     2.16,2,     2.95,2,     0.18,2, -999.000,9, -999.000,9, -999.000,9, -999.000,9
     06MT030_2,   A02,   470,  1,     11,  10008,2,19941029,1659, 45.5250, -32.7533, 3811,    106.1,  15.8418,  36.1320,2,  36.1419,3,    213.1,2,     3.02,2,     5.65,2,     0.32,2,    2.689,2,    1.473,2,    0.222,2,    1.536,2
     06MT030_2,   A02,   470,  1,     10,  10010,2,19941029,1659, 45.5250, -32.7533, 3811,    202.8,  14.5450,  35.9288,2,  35.9334,2,    216.1,2,     3.90,2,     7.39,2,     0.43,2,    2.519,2,    1.355,2,    0.124,2,    1.433,2
     06MT030_2,   A02,   470,  1,      9,  10004,2,19941029,1659, 45.5250, -32.7533, 3811,    331.9,  12.9246,  35.7168,2,  35.7228,3,    219.0,2,     5.03,2,     9.87,2,     0.60,2,    2.497,2,    1.332,2,    0.122,2,    1.541,2
     06MT030_2,   A02,   470,  1,      8,     15,2,19941029,1659, 45.5250, -32.7533, 3811,    395.1,  11.6679,  35.4794,2,  35.7224,4,    218.6,2,     5.01,2,     9.71,2,     0.61,4, -999.000,9, -999.000,9, -999.000,9, -999.000,9
     06MT030_2,   A02,   470,  1,      7,     23,2,19941029,1659, 45.5250, -32.7533, 3811,    447.2,  11.3273,  35.4711,2,  35.4722,2,    203.2,2,     7.23,2,    13.47,2,     0.87,2,    2.264,2,    1.181,2,    0.099,2,    1.423,2
     06MT030_2,   A02,   470,  1,      6,    910,2,19941029,1659, 45.5250, -32.7533, 3811,    565.6,   9.9437,  35.3092,2,  35.3071,2,    188.5,2,     9.63,2,    17.11,2,     1.11,2, -999.000,9, -999.000,9, -999.000,9, -999.000,9
     06MT030_2,   A02,   470,  1,      5, KZM128,2,19941029,1659, 45.5250, -32.7533, 3811,    703.6,   7.9131,  35.1306,2,  35.1277,2,    192.0,2,    11.82,2,    19.66,2,     1.29,2,    1.571,2,    0.775,2,    0.067,2,    1.542,2
     06MT030_2,   A02,   470,  1,      4,      6,2,19941029,1659, 45.5250, -32.7533, 3811,    772.1,   6.7355,  35.0242,2,  35.0215,2,    208.4,2,    11.94,2,    18.86,2,     1.27,2,    1.916,2,    0.943,2,    0.133,4,    2.222,2
     06MT030_2,   A02,   470,  1,      3,     18,2,19941029,1659, 45.5250, -32.7533, 3811,    844.0,   6.6486,  35.1148,2,  35.1120,2,    208.5,2,    12.07,2,    18.79,2,     1.27,2,    1.563,2,    0.764,2,    0.069,2,    1.864,2
     06MT030_2,   A02,   470,  1,      2,     17,2,19941029,1659, 45.5250, -32.7533, 3811,   1081.1,   4.9647,  35.0154,2,  35.0144,2,    242.8,2,    12.02,2,    17.96,2,     1.26,2,    1.836,2,    0.898,2,    0.093,2,    2.680,2
     06MT030_2,   A02,   470,  1,      1,     10,2,19941029,1659, 45.5250, -32.7533, 3811,   1195.1,   4.5612,  34.9936,2,  34.9936,2,    260.7,2,    11.85,2,    17.89,2,     1.21,2, -999.000,9, -999.000,9, -999.000,9, -999.000,9
     06MT030_2,   A02,   470,  2,     24, KZM012,2,19941030,0931, 45.5250, -32.7417, 3770,    998.5,   5.5875,  35.0717,2,  35.0711,2,    252.7,2,    12.70,2,    18.38,2,     1.15,2, -999.000,9, -999.000,9, -999.000,9, -999.000,9
     06MT030_2,   A02,   470,  2,     23, KZM125,2,19941030,0931, 45.5250, -32.7417, 3770,   1199.5,   4.6238,  34.9969,2,  34.9955,2,    252.5,2,    12.61,2,    18.00,2,     1.19,2, -999.000,9, -999.000,9, -999.000,9, -999.000,9
     06MT030_2,   A02,   470,  2,     22, KZM033,2,19941030,0931, 45.5250, -32.7417, 3770,   1350.7,   4.2150,  34.9647,2,  34.9631,2,    263.6,2,    12.36,2,    17.74,2,     1.18,2,    0.000,4,    0.001,4,   -0.004,9,   -0.002,9
     06MT030_2,   A02,   470,  2,     21, KZM040,2,19941030,0931, 45.5250, -32.7417, 3770,   1497.8,   3.8702,  34.9321,2,  34.9310,2,    276.7,2,    12.23,2,    17.37,2,     1.17,2,    1.947,2,    0.932,2,    0.092,2,    3.175,2
     06MT030_2,   A02,   470,  2,     20, KZM097,2,19941030,0931, 45.5250, -32.7417, 3770,   1646.9,   3.6443,  34.9115,2,  34.9118,2,    276.7,2,    12.15,2,    17.00,2,     1.15,2,    2.035,2,    0.977,2,    0.095,2,    3.455,2
     06MT030_2,   A02,   470,  2,     19, KZM126,2,19941030,0931, 45.5250, -32.7417, 3770,   1829.9,   3.5063,  34.9045,2,  34.9046,2,    279.6,2,    12.37,2,    16.79,2,     1.16,2,    2.086,2,    0.996,2,    0.103,2,    3.602,2
     06MT030_2,   A02,   470,  2,     18, KZM085,2,19941030,0931, 45.5250, -32.7417, 3770,   2002.7,   3.4014,  34.8993,2,  34.9008,2,    283.4,2,    12.52,2,    16.73,2,     1.15,2,    2.145,2,    1.029,2,    0.176,4,    3.725,2
     06MT030_2,   A02,   470,  2,     16, KZM114,2,19941030,0931, 45.5250, -32.7417, 3770,   2250.2,   3.2684,  34.8960,2,  34.8960,2,    283.5,2,    12.58,2,    16.55,2,     1.14,2,    2.135,2,    1.016,2,    0.115,2,    3.689,2
     06MT030_2,   A02,   470,  2,     15, KZM029,2,19941030,0931, 45.5250, -32.7417, 3770,   2398.7,   3.2764,  34.9068,2,  34.9085,2,    280.5,2,    13.21,2,    16.57,2,     1.14,2,    1.770,2,    0.845,2,    0.090,2,    3.171,2
     06MT030_2,   A02,   470,  2,     14,      2,2,19941030,0931, 45.5250, -32.7417, 3770,   2549.9,   3.2694,  34.9142,2,  34.9211,3,    278.0,2,    13.89,2,    16.49,2,     1.13,2,    1.401,2,    0.667,2,    0.058,2,    2.651,2
     06MT030_2,   A02,   470,  2,     13, KZM090,2,19941030,0931, 45.5250, -32.7417, 3770,   2703.8,   3.2095,  34.9290,2,  34.9303,2,    276.0,2,    14.48,2,    16.36,2,     1.14,2,    1.138,2,    0.551,2,    0.040,2,    2.334,2
     06MT030_2,   A02,   470,  2,     12, KZM117,2,19941030,0931, 45.5250, -32.7417, 3770,   2848.9,   3.1435,  34.9267,2,  34.9326,3,    274.6,2,    15.20,2,    16.52,2,     1.15,2,    0.943,2,    0.460,2,    0.031,2,    2.050,2
     06MT030_2,   A02,   470,  2,     11, KZM008,2,19941030,0931, 45.5250, -32.7417, 3770,   3001.1,   3.0395,  34.9331,2,  34.9332,2,    274.9,2,    16.01,2,    16.81,2,     1.15,2,    0.829,2,    0.405,2,    0.023,2,    1.884,2
     06MT030_2,   A02,   470,  2,      9, KZM036,2,19941030,0931, 45.5250, -32.7417, 3770,   3103.6,   2.9656,  34.9320,2,  34.9735,3,    267.8,3,    14.63,3,    16.27,3,     1.13,3, -999.000,9, -999.000,9, -999.000,9, -999.000,9
     06MT030_2,   A02,   470,  2,      8,  UB001,2,19941030,0931, 45.5250, -32.7417, 3770,   3202.1,   2.8816,  34.9259,2,  34.9306,3,    275.4,2,    17.07,2,    16.35,2,     1.15,2,    0.867,2,    0.460,2,    0.131,4,    1.835,2
     06MT030_2,   A02,   470,  2,      7, KZM067,2,19941030,0931, 45.5250, -32.7417, 3770,   3304.6,   2.7967,  34.9284,2,  34.9293,2,    274.3,2,    17.85,2,    16.33,2,     1.16,2,    0.880,2,    0.445,2,    0.055,4,    1.973,3
     06MT030_2,   A02,   470,  2,      6, KZM017,2,19941030,0931, 45.5250, -32.7417, 3770,   3403.9,   2.7277,  34.9275,2,  34.9262,2,    274.6,2,    18.43,2,    16.51,2,     1.16,2,    0.741,2,    0.358,2,    0.092,4,    1.766,2
     06MT030_2,   A02,   470,  2,      5,  UB319,2,19941030,0931, 45.5250, -32.7417, 3770,   3501.5,   2.6337,  34.9229,2,  34.9226,2,    275.3,2,    19.19,2,    16.71,3,     1.16,2,    0.752,2,    0.368,2,    0.021,2,    1.805,2
     06MT030_2,   A02,   470,  2,      4, KZM056,2,19941030,0931, 45.5250, -32.7417, 3770,   3604.9,   2.5628,  34.9140,2,  34.9188,3,    274.9,2,    19.86,2,    16.47,2,     1.16,2, -999.000,9, -999.000,9, -999.000,9, -999.000,9
     06MT030_2,   A02,   470,  2,      3, KZM061,2,19941030,0931, 45.5250, -32.7417, 3770,   3705.0,   2.4708,  34.9140,2,  34.9145,2,    277.0,2,    20.64,2,    16.40,2,     1.16,2,    0.830,2,    0.403,2,    0.032,2,    1.905,2
     06MT030_2,   A02,   470,  2,      2, KZM052,2,19941030,0931, 45.5250, -32.7417, 3770,   3797.2,   2.3928,  34.9101,2,  34.9101,2,    278.8,2,    20.87,2,    16.56,2,     1.16,2,    0.933,2,    0.454,2,    0.047,2,    2.040,2
     06MT030_2,   A02,   470,  2,      1, KZM038,2,19941030,0931, 45.5250, -32.7417, 3770,   3830.9,   2.3349,  34.9050,2,  34.9079,2,    276.2,2,    21.01,2,    16.67,2,     1.16,2,    1.050,2,    0.504,2,    0.053,2,    2.214,2
     06MT030_2,   A02,   471,  1,     14,     22,2,19941030,1635, 45.3300, -33.3033, 3484,     19.1,  18.6335,  35.7369,2,-999.0000,9,    231.1,2,     1.66,2,     0.04,2,     0.04,9,    2.362,2,    1.296,2,    0.183,2,    3.130,2
     06MT030_2,   A02,   471,  1,     13,  10003,2,19941030,1635, 45.3300, -33.3033, 3484,     49.5,  18.6365,  35.7411,2,  35.7460,3,    216.8,2,     2.56,2,     3.41,2,     0.20,9, -999.000,9, -999.000,9, -999.000,9, -999.000,9
     06MT030_2,   A02,   471,  1,     12,  10026,2,19941030,1635, 45.3300, -33.3033, 3484,     80.7,  16.1656,  35.9040,2,  35.9076,2,    221.5,2,     2.97,2,     4.70,2,     0.26,2,    2.554,2,    1.357,2,    0.159,2,    1.539,2
     06MT030_2,   A02,   471,  1,     11,  10008,2,19941030,1635, 45.3300, -33.3033, 3484,    100.5,  15.5791,  36.0385,2,  36.0444,2,    217.6,2,     5.35,2,     9.74,2,     0.55,2,    2.532,2,    1.326,2,    0.154,2,    1.529,2
     06MT030_2,   A02,   471,  1,     10,  10010,2,19941030,1635, 45.3300, -33.3033, 3484,    256.9,  13.0125,  35.7225,2,  35.7272,2,    214.3,2,     6.61,2,    11.96,2,     0.71,2, -999.000,9, -999.000,9, -999.000,9, -999.000,9
     06MT030_2,   A02,   471,  1,      9,  10004,2,19941030,1635, 45.3300, -33.3033, 3484,    356.4,  11.8747,  35.5434,2,  35.5455,2,    197.8,2,     9.21,2,    16.15,2,     1.00,2, -999.000,9, -999.000,9, -999.000,9, -999.000,9
     06MT030_2,   A02,   471,  1,      8,     15,2,19941030,1635, 45.3300, -33.3033, 3484,    487.1,  10.3363,  35.3542,2,  35.3535,2,    185.9,2,    11.88,2,    19.31,2,     1.26,2,    1.631,2,    0.809,2,    0.075,2,    1.426,2
     06MT030_2,   A02,   471,  1,      7,     23,2,19941030,1635, 45.3300, -33.3033, 3484,    593.6,   8.6802,  35.1586,2,  35.1464,3,    187.5,2,    11.76,2,    19.26,2,     1.27,2,    1.567,2,    0.769,2,    0.064,2,    1.370,2
     06MT030_2,   A02,   471,  1,      6,    910,2,19941030,1635, 45.3300, -33.3033, 3484,    616.8,   8.6053,  35.1938,2,  35.1845,3,    197.5,2,    12.40,2,    19.42,2,     1.28,2,    1.656,2,    0.808,2,    0.073,2,    1.717,2
     06MT030_2,   A02,   471,  1,      5, KZM128,2,19941030,1635, 45.3300, -33.3033, 3484,    703.6,   7.5405,  35.1156,2,  35.0869,3,    208.2,2,    12.43,2,    19.12,2,     1.24,9,    1.506,2,    0.726,2,    0.058,2,    1.775,2
     06MT030_2,   A02,   471,  1,      4,      6,2,19941030,1635, 45.3300, -33.3033, 3484,    804.1,   6.9942,  35.1885,2,  35.1861,2,    223.6,3,    12.62,2,    18.73,2,     1.27,2,    1.732,2,    0.834,2,    0.086,2,    2.300,2
     06MT030_2,   A02,   471,  1,      3,     18,2,19941030,1635, 45.3300, -33.3033, 3484,    900.4,   5.8625,  35.0674,2,  35.0667,2,    223.1,2,    12.55,2,    18.78,2,     1.27,2,    1.768,2,    0.851,2,    0.097,2,    2.371,2
     06MT030_2,   A02,   471,  1,      2,     17,2,19941030,1635, 45.3300, -33.3033, 3484,    968.6,   5.6748,  35.1008,2,  35.1003,2,    230.1,2,    12.63,2,    18.78,2,     1.25,2,    1.803,2,    0.906,4,    0.133,4,    2.416,2
     06MT030_2,   A02,   471,  1,      1,     10,2,19941030,1635, 45.3300, -33.3033, 3484,   1094.8,   4.7429,  34.9996,2,  34.9976,2,    249.9,2,    12.32,2,    18.07,2,     1.22,2, -999.000,9, -999.000,9, -999.000,9, -999.000,9