BOTTLE,20010917WHPSIOKJU
EXPOCODE,SECT_ID,STNNBR,CASTNO,SAMPNO,BTLNBR,BTLNBR_FLAG_W,DATE,TIME,LATITUDE,LONGITUDE,DEPTH,CTDPRS,CTDTMP,CTDSAL,CTDSAL_FLAG_W,SALNTY,SALNTY_FLAG_W,OXYGEN,OXYGEN_FLAG_W,SILCAT,SILCAT_FLAG_W,NITRAT,NITRAT_FLAG_W,PHSPHT,PHSPHT_FLAG_W,CFC-11,CFC-11_FLAG_W,CFC-12,CFC-12_FLAG_W,CFC113,CFC113_FLAG_W,CCL4,CCL4_FLAG_W
,,,,,,,,,,,,DBAR,ITS-90,PSS-78,,PSS-78,,UMOL/KG,,UMOL/KG,,UMOL/KG,,UMOL/KG,,PMOL/L,,PMOL/L,,PMOL/L,,PMOL/L,
     06MT030_2,   A02,   449,  2,     22,  10023,2,19941020,1222, 48.3483, -17.3550, 4127,   1797.9,   3.5116,  34.8954,2,  34.8937,2,    280.8,2,    11.19,2,    16.75,2,     0.92,2, -999.000,9, -999.000,9, -999.000,9, -999.000,9
     06MT030_2,   A02,   449,  2,     21,  10002,2,19941020,1222, 48.3483, -17.3550, 4127,   2201.4,   3.3957,  34.9178,2,  34.9167,2,    278.0,2,    12.44,2,    16.82,2,     1.01,2,    1.386,2,    0.669,2,    0.047,2,    2.841,2
     06MT030_2,   A02,   449,  2,     20,  10027,2,19941020,1222, 48.3483, -17.3550, 4127,   2299.0,   3.3727,  34.9273,2,  34.9278,2,    276.0,2,    13.01,2,    16.85,2,     1.04,2,    1.219,2,    0.585,2,    0.042,2,    2.558,2
     06MT030_2,   A02,   449,  2,     19,  10017,2,19941020,1222, 48.3483, -17.3550, 4127,   2401.8,   3.3348,  34.9375,2,  34.9428,3,    273.0,2,    15.10,2,    17.00,2,     1.06,2,    0.974,2,    0.485,2,    0.032,2,    2.152,2
     06MT030_2,   A02,   449,  2,     18,  10020,2,19941020,1222, 48.3483, -17.3550, 4127,   2500.9,   3.2839,  34.9428,2,  34.9503,3,    268.2,2,    17.86,2,    17.50,2,     1.10,2,    0.839,2,    0.433,2,    0.043,2,    1.806,2
     06MT030_2,   A02,   449,  2,     17,  10009,2,19941020,1222, 48.3483, -17.3550, 4127,   2601.2,   3.2129,  34.9492,2,  34.9495,2,    268.8,2,    17.87,2,    17.55,2,     1.10,2,    0.699,2,    0.339,2,    0.016,2,    1.674,2
     06MT030_2,   A02,   449,  2,     16,  10091,2,19941020,1222, 48.3483, -17.3550, 4127,   2699.1,   3.1410,  34.9513,2,  34.9512,2,    268.9,2,    18.35,2,    17.49,2,     1.11,2, -999.000,9, -999.000,9, -999.000,9, -999.000,9
     06MT030_2,   A02,   449,  2,     15,  10025,2,19941020,1222, 48.3483, -17.3550, 4127,   2801.3,   3.0741,  34.9539,2,  34.9541,2,    261.6,2,    22.53,2,    18.35,2,     1.18,2,    0.478,2,    0.248,2,    0.012,2,    1.208,2
     06MT030_2,   A02,   449,  2,     14,      2,2,19941020,1222, 48.3483, -17.3550, 4127,   3000.3,   2.9233,  34.9500,2,  34.9508,2,    253.7,2,    28.89,2,    19.70,2,     1.28,2, -999.000,9, -999.000,9, -999.000,9, -999.000,9
     06MT030_2,   A02,   449,  2,     13,  10003,2,19941020,1222, 48.3483, -17.3550, 4127,   3002.2,   2.9183,  34.9494,2,  34.9504,2,    254.3,2,    29.15,2,    19.75,2,     1.29,2,    0.229,2,    0.126,2,    0.035,4,    0.646,2
     06MT030_2,   A02,   449,  2,     12,  10026,2,19941020,1222, 48.3483, -17.3550, 4127,   3101.6,   2.8564,  34.9459,2,  34.9470,2,    252.9,3,    30.83,2,    20.05,2,     1.31,2, -999.000,9, -999.000,9, -999.000,9, -999.000,9
     06MT030_2,   A02,   449,  2,     11,  10008,2,19941020,1222, 48.3483, -17.3550, 4127,   3206.7,   2.8025,  34.9436,2,  34.9432,2,    252.6,2,    32.22,2,    20.29,2,     1.34,2,    0.177,2,    0.088,2,    0.005,2,    0.526,2
     06MT030_2,   A02,   449,  2,     10,  10010,2,19941020,1222, 48.3483, -17.3550, 4127,   3304.7,   2.7296,  34.9374,2,  34.9365,2,    250.1,2,    34.39,2,    20.67,2,     1.38,2, -999.000,9, -999.000,9, -999.000,9, -999.000,9
     06MT030_2,   A02,   449,  2,      9,  10004,2,19941020,1222, 48.3483, -17.3550, 4127,   3406.6,   2.6827,  34.9328,2,  34.9322,2,    248.3,2,    36.04,2,    20.96,2,     1.40,2,    0.100,2,    0.049,2,    0.002,2,    0.330,2
     06MT030_2,   A02,   449,  2,      8,     15,2,19941020,1222, 48.3483, -17.3550, 4127,   3508.3,   2.6277,  34.9268,2,  34.9262,2,    247.1,2,    37.92,2,    21.38,2,     1.44,2, -999.000,9, -999.000,9, -999.000,9, -999.000,9
     06MT030_2,   A02,   449,  2,      7,     23,2,19941020,1222, 48.3483, -17.3550, 4127,   3606.2,   2.5968,  34.9226,2,  34.9221,2,    245.6,2,    39.10,2,    21.60,2,     1.45,2, -999.000,9, -999.000,9, -999.000,9, -999.000,9
     06MT030_2,   A02,   449,  2,      6,    910,2,19941020,1222, 48.3483, -17.3550, 4127,   3705.9,   2.5628,  34.9180,2,  34.9173,2,    244.5,2,    40.63,2,    21.94,2,     1.48,2, -999.000,9, -999.000,9, -999.000,9, -999.000,9
     06MT030_2,   A02,   449,  2,      5,     12,2,19941020,1222, 48.3483, -17.3550, 4127,   3809.7,   2.5369,  34.9142,2,  34.9144,2,    246.8,2,    41.78,2,    22.10,2,     1.50,2,    0.052,2,    0.017,2,    0.002,2,    0.117,2
     06MT030_2,   A02,   449,  2,      4,      6,2,19941020,1222, 48.3483, -17.3550, 4127,   3908.0,   2.5249,  34.9123,2,  34.9117,2,    242.9,2,    42.44,2,    21.97,2,     1.52,2,    0.043,2,    0.084,4,    0.002,2,    0.100,2
     06MT030_2,   A02,   449,  2,      3,     18,2,19941020,1222, 48.3483, -17.3550, 4127,   4008.5,   2.5139,  34.9105,2,  34.9096,2,    243.2,2,    43.05,2,    22.37,2,     1.51,2,    0.046,6,    0.014,6,    0.001,6,    0.088,6
     06MT030_2,   A02,   449,  2,      2,     17,2,19941020,1222, 48.3483, -17.3550, 4127,   4108.0,   2.5149,  34.9065,2,  34.9084,2,    243.3,2,    43.45,2,    22.38,2,     1.52,2,    0.055,6,    0.052,6,    0.005,6,    0.075,6
     06MT030_2,   A02,   449,  2,      1,     10,2,19941020,1222, 48.3483, -17.3550, 4127,   4157.3,   2.5129,  34.9064,2,  34.9080,2,    244.7,2,    43.64,2,    22.38,2,     1.52,2,    0.068,2,    0.035,2,    0.006,2,    0.095,2
     06MT030_2,   A02,   450,  2,     20,  10027,3,19941020,2322, 48.1967, -18.4217, 4510,   1299.9,   5.0350,  35.0067,2,  35.0187,3,    244.5,2,    12.05,2,    18.17,2,     1.02,2,    1.986,2,    0.964,2,    0.089,2,    2.824,2
     06MT030_2,   A02,   450,  2,     19,  10017,2,19941020,2322, 48.1967, -18.4217, 4510,   1598.3,   3.9699,  34.9244,2,  34.9250,2,    268.8,2,    11.71,2,    17.45,2,     1.05,2,    2.117,2,    1.025,2,    0.091,2,    3.404,2
     06MT030_2,   A02,   450,  2,     18,  10020,2,19941020,2322, 48.1967, -18.4217, 4510,   1698.1,   3.8022,  34.9115,2,  34.9098,2,    272.8,2,    11.65,2,    17.28,2,     1.04,2, -999.000,9, -999.000,9, -999.000,9, -999.000,9
     06MT030_2,   A02,   450,  2,     17,  10009,2,19941020,2322, 48.1967, -18.4217, 4510,   1797.7,   3.6963,  34.9046,2,  34.9056,2,    275.8,2,    11.64,2,    17.14,2,     1.04,2,    1.971,6,    0.955,6,    0.077,6,    3.456,6
     06MT030_2,   A02,   450,  2,     16,  10091,2,19941020,2322, 48.1967, -18.4217, 4510,   1997.5,   3.5455,  34.9008,2,  34.9002,2,    278.7,2,    11.80,2,    16.98,2,     1.03,2,    1.812,2,    0.873,2,    0.066,2,    3.342,2
     06MT030_2,   A02,   450,  2,     15,  10025,2,19941020,2322, 48.1967, -18.4217, 4510,   2100.6,   3.4476,  34.8954,2,  34.8943,2,    282.2,3,    11.77,2,    16.82,2,     1.04,2,    1.926,3,    0.942,3,    0.109,4,    3.443,2
     06MT030_2,   A02,   450,  2,     14,      2,2,19941020,2322, 48.1967, -18.4217, 4510,   2200.4,   3.4726,  34.9097,2,  34.9089,2,    277.5,2,    12.49,2,    16.85,2,     1.05,2,    1.546,2,    0.754,2,    0.053,2,    3.002,2
     06MT030_2,   A02,   450,  2,     13,  10003,2,19941020,2322, 48.1967, -18.4217, 4510,   2299.2,   3.4636,  34.9199,2,  34.9188,2,    275.5,2,    13.03,2,    16.90,2,     1.05,2,    1.317,2,    0.645,2,    0.042,2,    2.680,2
     06MT030_2,   A02,   450,  2,     12,  10026,2,19941020,2322, 48.1967, -18.4217, 4510,   2400.5,   3.4357,  34.9320,2,  34.9311,2,    273.1,2,    13.84,2,    16.97,2,     1.07,2,    1.062,2,    0.521,2,    0.029,2,    2.313,2
     06MT030_2,   A02,   450,  2,     11,  10008,2,19941020,2322, 48.1967, -18.4217, 4510,   2503.5,   3.3697,  34.9479,2,  34.9372,3,    272.1,2,    14.70,2,    16.96,2,     1.07,2,    0.948,2,    0.465,2,    0.024,2,    2.093,2
     06MT030_2,   A02,   450,  2,     10,  10010,2,19941020,2322, 48.1967, -18.4217, 4510,   2687.7,   3.3188,  34.9664,2,  34.9666,2,    259.3,2,    21.68,2,    18.41,2,     1.18,2,    0.322,2,    0.167,2,    0.007,2,    1.013,2
     06MT030_2,   A02,   450,  2,      9,  10004,2,19941020,2322, 48.1967, -18.4217, 4510,   2903.1,   3.0751,  34.9545,2,  34.9544,2,    261.8,2,    23.51,2,    18.44,2,     1.19,2,    0.403,4,    0.201,4,    0.008,2,    1.044,3
     06MT030_2,   A02,   450,  2,      8,     15,2,19941020,2322, 48.1967, -18.4217, 4510,   3102.2,   2.9143,  34.9492,2,  34.9492,2,    253.2,2,    29.89,2,    19.81,2,     1.30,2,    0.162,2,    0.084,2,    0.021,4,    0.521,2
     06MT030_2,   A02,   450,  2,      7,     23,2,19941020,2322, 48.1967, -18.4217, 4510,   3305.1,   2.8235,  34.9418,2,  34.9420,2,    251.6,2,    31.63,2,    20.03,2,     1.30,2,    0.176,2,    0.084,2,    0.002,2,    0.499,2
     06MT030_2,   A02,   450,  2,      6,    910,2,19941020,2322, 48.1967, -18.4217, 4510,   3508.1,   2.7006,  34.9318,2,  34.9311,2,    248.4,2,    35.70,2,    20.73,2,     1.37,2,    0.107,2,    0.053,2,   -0.001,2,    0.334,2
     06MT030_2,   A02,   450,  2,      5,     12,2,19941020,2322, 48.1967, -18.4217, 4510,   3707.9,   2.6477,  34.9244,2,  34.9245,2,    246.2,2,    38.01,2,    21.23,2,     1.45,2,    0.064,2,    0.033,2,    0.000,2,    0.228,2
     06MT030_2,   A02,   450,  2,      4,      6,2,19941020,2322, 48.1967, -18.4217, 4510,   3909.3,   2.5878,  34.9172,2,  34.9178,2,    243.9,2,    40.49,2,    21.62,2,     1.44,2,    0.044,2,    0.040,2,    0.001,2,    0.151,2
     06MT030_2,   A02,   450,  2,      3,     18,2,19941020,2322, 48.1967, -18.4217, 4510,   4158.1,   2.5548,  34.9109,2,  34.9108,2,    242.5,2,    42.07,2,    21.99,2,     1.46,2,    0.040,2,    0.015,2,    0.003,2,    0.101,2
     06MT030_2,   A02,   450,  2,      2,     17,2,19941020,2322, 48.1967, -18.4217, 4510,   4419.7,   2.5438,  34.9058,2,  34.9063,2,    242.0,2,    45.01,2,    22.17,2,     1.48,2,    0.045,2,    0.013,2,    0.003,2,    0.067,2
     06MT030_2,   A02,   450,  2,      1,     10,2,19941020,2322, 48.1967, -18.4217, 4510,   4516.7,   2.5488,  34.9060,2,  34.9056,2,    245.1,2,    43.62,2,    22.16,2,     1.50,2,    0.054,2,    0.017,2,    0.019,4,    0.070,2
     06MT030_2,   A02,   450,  4,     17, KZM124,2,19941021,0720, 48.2067, -18.4300, 4444,     11.0,  14.6396,  35.5201,2,  35.5163,2,   -999.0,9,  -999.00,9,  -999.00,9,  -999.00,9, -999.000,9, -999.000,9, -999.000,9, -999.000,9
     06MT030_2,   A02,   450,  4,     16, KZM119,2,19941021,0720, 48.2067, -18.4300, 4444,     11.1,  14.6396,  35.5195,2,  35.5163,2,    245.8,2,     1.25,2,     1.10,2,     0.06,2,    2.903,2,    1.561,2,    0.232,2,    3.851,2
     06MT030_2,   A02,   450,  4,     15, KZM029,2,19941021,0720, 48.2067, -18.4300, 4444,     29.8,  14.6396,  35.5204,2,-999.0000,9,    246.6,2,     2.24,2,     6.38,2,     0.28,9,    2.899,2,    1.564,2,    0.234,2,    3.876,2
     06MT030_2,   A02,   450,  4,     14, KZM115,2,19941021,0720, 48.2067, -18.4300, 4444,     69.7,  13.5088,  35.6076,2,  35.6040,2,    226.8,2,     3.78,2,     9.52,2,     0.45,2,    2.991,2,    1.598,2,    0.231,2,    2.727,2
     06MT030_2,   A02,   450,  4,     13, KZM090,2,19941021,0720, 48.2067, -18.4300, 4444,    109.3,  12.1432,  35.6440,2,  35.6403,2,    237.1,2,     4.74,2,    10.31,2,     0.52,2,    3.224,2,    1.714,2,    0.248,2,    2.438,2
     06MT030_2,   A02,   450,  4,     12, KZM117,2,19941021,0720, 48.2067, -18.4300, 4444,    199.3,  11.4734,  35.5614,2,  35.5558,3,    242.1,2,     5.66,2,    11.19,2,     0.58,2,    3.060,2,    1.621,2,    0.210,2,    2.339,2
     06MT030_2,   A02,   450,  4,     11, KZM008,2,19941021,0720, 48.2067, -18.4300, 4444,    290.3,  11.0095,  35.4885,2,  35.4854,2,    241.9,2,     5.06,2,    10.86,2,     0.58,2,    3.013,2,    1.574,2,    0.194,2,    2.280,2
     06MT030_2,   A02,   450,  4,      9, KZM114,2,19941021,0720, 48.2067, -18.4300, 4444,    498.4,  10.5217,  35.4466,2,  35.4432,2,    252.5,2,     6.20,2,    11.99,2,     0.65,2,    3.199,2,    1.665,2,    0.215,2,    2.501,2
     06MT030_2,   A02,   450,  4,      8, KZM199,2,19941021,0720, 48.2067, -18.4300, 4444,    640.7,  10.0738,  35.3958,2,  35.3914,2,    246.9,2,     9.07,2,    16.40,2,     0.94,2,    3.069,2,    1.592,2,    0.195,2,    2.465,2
     06MT030_2,   A02,   450,  4,      7, KZM067,2,19941021,0720, 48.2067, -18.4300, 4444,    840.8,   9.0672,  35.3311,2,  35.3372,3,    208.5,2,    10.94,2,    18.21,2,     1.10,2,    2.058,2,    1.024,2,    0.122,2,    1.625,2
     06MT030_2,   A02,   450,  4,      6, KZM017,2,19941021,0720, 48.2067, -18.4300, 4444,    968.9,   7.4247,  35.1553,2,  35.1517,2,    210.3,2,    11.55,2,    18.45,2,     1.13,2,    1.936,2,    0.964,2,    0.092,2,    2.078,2
     06MT030_2,   A02,   450,  4,      5, KZM128,2,19941021,0720, 48.2067, -18.4300, 4444,   1148.7,   6.1572,  35.1075,2,  35.1057,2,    223.4,2,    11.48,2,    18.09,2,     1.12,2,    1.832,6,    0.894,6,    0.082,6,    2.340,6
     06MT030_2,   A02,   450,  4,      4, KZM056,2,19941021,0720, 48.2067, -18.4300, 4444,   1299.9,   5.0677,  35.0186,2,  35.0191,2,    242.5,2,    11.28,2,    17.82,2,     1.10,2,    1.974,2,    0.960,2,    0.092,2,    2.803,2
     06MT030_2,   A02,   450,  4,      3, KZM061,2,19941021,0720, 48.2067, -18.4300, 4444,   1399.5,   4.5129,  34.9688,2,  34.9701,2,    254.7,2,    11.21,2,    17.51,2,     1.09,2,    2.091,2,    1.014,2,    0.096,2,    3.140,2
     06MT030_2,   A02,   450,  4,      2, KZM052,2,19941021,0720, 48.2067, -18.4300, 4444,   1499.5,   4.1171,  34.9314,2,  34.9307,2,    264.1,2,    11.10,2,    17.36,2,     1.08,2,    2.210,6,    1.066,6,    0.103,6,    3.419,6
     06MT030_2,   A02,   450,  4,      1, KZM038,2,19941021,0720, 48.2067, -18.4300, 4444,   1599.1,   3.9381,  34.9211,2,  34.9209,2,    269.8,2,  -999.00,9,  -999.00,9,  -999.00,9,    2.150,2,    1.045,2,    0.096,2,    3.498,2
     06MT030_2,   A02,   451,  1,     16, KZM119,2,19941021,1237, 48.1067, -19.1733, 4176,     15.3,  14.8345,  35.5542,2,  35.5498,2,    247.8,2,     2.00,2,     1.13,2,     0.11,2,    2.876,2,    1.557,2,    0.244,2,    3.829,2
     06MT030_2,   A02,   451,  1,     15, KZM029,2,19941021,1237, 48.1067, -19.1733, 4176,     29.7,  14.8255,  35.5535,2,  35.5495,2,    247.3,2,     1.63,2,     1.17,2,     0.11,2,    2.888,2,    1.517,2,    0.225,2,    3.864,2
     06MT030_2,   A02,   451,  1,     14, KZM115,2,19941021,1237, 48.1067, -19.1733, 4176,     69.3,  14.6756,  35.5604,2,  35.5547,3,    246.7,2,     1.68,2,     1.49,2,     0.12,2, -999.000,9, -999.000,9, -999.000,9, -999.000,9
     06MT030_2,   A02,   451,  1,     13, KZM090,2,19941021,1237, 48.1067, -19.1733, 4176,    100.3,  12.4581,  35.6695,2,  35.6654,2,    235.3,2,     3.49,2,     9.02,2,     0.42,2,    3.200,2,    1.636,2,    0.203,2,    2.380,2
     06MT030_2,   A02,   451,  1,     12, KZM117,2,19941021,1237, 48.1067, -19.1733, 4176,    201.8,  11.5314,  35.5798,2,  35.5764,2,    247.0,2,     4.66,2,     9.86,2,     0.51,2, -999.000,9, -999.000,9, -999.000,9, -999.000,9
     06MT030_2,   A02,   451,  1,     11, KZM008,2,19941021,1237, 48.1067, -19.1733, 4176,    299.6,  11.0345,  35.5080,2,  35.5034,2,    247.5,2,     5.24,2,    10.66,2,     0.57,2,    3.178,2,    1.625,2,    0.242,4,    2.250,2
     06MT030_2,   A02,   451,  1,     10, KZM036,2,19941021,1237, 48.1067, -19.1733, 4176,    399.3,  10.7296,  35.4761,2,  35.4737,2,    250.4,2,     5.28,2,    10.73,2,     0.59,2, -999.000,9, -999.000,9, -999.000,9, -999.000,9
     06MT030_2,   A02,   451,  1,      9, KZM114,2,19941021,1237, 48.1067, -19.1733, 4176,    497.9,  10.5027,  35.4525,2,  35.4490,2,    248.3,2,     5.59,2,    11.30,2,     0.63,2,    3.191,2,    1.632,2,    0.199,2,    2.429,2
     06MT030_2,   A02,   451,  1,      8,  UB001,2,19941021,1237, 48.1067, -19.1733, 4176,    690.3,   9.7379,  35.3685,2,  35.3661,2,    236.3,2,     7.31,2,    13.53,2,     0.78,2,    2.880,2,    1.464,2,    0.168,2,    2.338,2
     06MT030_2,   A02,   451,  1,      7, KZM067,2,19941021,1237, 48.1067, -19.1733, 4176,    799.3,   9.2901,  35.3872,2,  35.3848,2,    205.5,2,     9.51,2,    16.73,2,     1.00,2,    1.933,2,    0.954,2,    0.078,2,    1.483,2
     06MT030_2,   A02,   451,  1,      6, KZM017,2,19941021,1237, 48.1067, -19.1733, 4176,    970.0,   7.9296,  35.3278,2,  35.3258,2,    204.9,2,    11.17,2,    18.16,2,     1.11,2,    1.634,2,    0.802,2,    0.071,2,    1.703,2
     06MT030_2,   A02,   451,  1,      4, KZM056,2,19941021,1237, 48.1067, -19.1733, 4176,   1299.6,   5.7274,  35.1592,2,  35.1590,2,    234.6,2,    12.33,2,    18.18,2,     1.13,2,    1.683,2,    0.847,2,    0.083,2,    2.355,2
     06MT030_2,   A02,   451,  1,      3, KZM061,2,19941021,1237, 48.1067, -19.1733, 4176,   1395.7,   5.1246,  35.0933,2,  35.0900,2,    244.9,2,    11.95,2,    18.07,2,     1.14,2,    1.584,2,    0.756,2,    0.055,2,    2.488,2
     06MT030_2,   A02,   451,  1,      2, KZM052,2,19941021,1237, 48.1067, -19.1733, 4176,   1499.5,   4.3560,  34.9825,2,  34.9817,2,    262.0,2,    11.67,2,    17.83,2,     1.13,2, -999.000,9, -999.000,9, -999.000,9, -999.000,9
     06MT030_2,   A02,   451,  1,      1, KZM038,2,19941021,1237, 48.1067, -19.1733, 4176,   1603.0,   4.1201,  34.9613,2,  34.9614,2,    266.3,2,    11.68,2,    17.69,2,     1.13,2,    1.732,3,    0.835,2,    0.073,4,    3.016,2