BOTTLE,20010917WHPSIOKJU
EXPOCODE,SECT_ID,STNNBR,CASTNO,SAMPNO,BTLNBR,BTLNBR_FLAG_W,DATE,TIME,LATITUDE,LONGITUDE,DEPTH,CTDPRS,CTDTMP,CTDSAL,CTDSAL_FLAG_W,SALNTY,SALNTY_FLAG_W,OXYGEN,OXYGEN_FLAG_W,SILCAT,SILCAT_FLAG_W,NITRAT,NITRAT_FLAG_W,PHSPHT,PHSPHT_FLAG_W,CFC-11,CFC-11_FLAG_W,CFC-12,CFC-12_FLAG_W,CFC113,CFC113_FLAG_W,CCL4,CCL4_FLAG_W
,,,,,,,,,,,,DBAR,ITS-90,PSS-78,,PSS-78,,UMOL/KG,,UMOL/KG,,UMOL/KG,,UMOL/KG,,PMOL/L,,PMOL/L,,PMOL/L,,PMOL/L,
     06MT030_2,   A02,   441,  1,     21,  10002,2,19941016,1630, 49.0550, -12.7050, 1502,      8.8,  15.3173,  35.5248,2,  35.5245,2,    252.0,2,     1.01,2,     0.03,2,     0.04,2,    2.867,2,    1.497,2,    0.248,2,    3.935,2
     06MT030_2,   A02,   441,  1,     20,  10027,2,19941016,1630, 49.0550, -12.7050, 1502,     19.9,  15.2903,  35.5264,2,  35.5260,2,    251.5,2,     0.96,2,     0.02,2,     0.03,2, -999.000,9, -999.000,9, -999.000,9, -999.000,9
     06MT030_2,   A02,   441,  1,     19,  10017,2,19941016,1630, 49.0550, -12.7050, 1502,     28.2,  15.0456,  35.5370,2,  35.5368,2,    250.1,2,     1.11,2,     0.23,2,     0.04,2, -999.000,9, -999.000,9, -999.000,9, -999.000,9
     06MT030_2,   A02,   441,  1,     18,  10020,2,19941016,1630, 49.0550, -12.7050, 1502,     47.7,  13.8057,  35.5593,2,  35.5630,2,    242.5,2,     1.85,2,     4.33,2,     0.22,2, -999.000,9, -999.000,9, -999.000,9, -999.000,9
     06MT030_2,   A02,   441,  1,     17,  10009,2,19941016,1630, 49.0550, -12.7050, 1502,     68.7,  12.2923,  35.5673,2,  35.5675,2,    242.8,2,     2.88,2,     7.63,2,     0.41,2, -999.000,9, -999.000,9, -999.000,9, -999.000,9
     06MT030_2,   A02,   441,  1,     16,  10021,2,19941016,1630, 49.0550, -12.7050, 1502,     99.0,  11.6589,  35.5701,2,  35.5711,2,    244.3,2,     3.55,2,     8.86,2,     0.50,2, -999.000,9, -999.000,9, -999.000,9, -999.000,9
     06MT030_2,   A02,   441,  1,     15,  10025,2,19941016,1630, 49.0550, -12.7050, 1502,    149.0,  11.3922,  35.5641,2,  35.5661,2,    247.1,2,     3.81,2,     9.21,2,     0.54,2, -999.000,9, -999.000,9, -999.000,9, -999.000,9
     06MT030_2,   A02,   441,  1,     14,      2,2,19941016,1630, 49.0550, -12.7050, 1502,    249.1,  11.1514,  35.5443,2,  35.5462,2,    247.5,2,     4.11,2,     9.72,2,     0.56,2, -999.000,9, -999.000,9, -999.000,9, -999.000,9
     06MT030_2,   A02,   441,  1,     13,  10003,2,19941016,1630, 49.0550, -12.7050, 1502,    297.9,  11.0925,  35.5391,2,  35.5416,2,    246.3,2,     4.15,2,     9.85,2,     0.58,2, -999.000,9, -999.000,9, -999.000,9, -999.000,9
     06MT030_2,   A02,   441,  1,     12,  10026,2,19941016,1630, 49.0550, -12.7050, 1502,    398.1,  10.8787,  35.5153,2,  35.5176,2,    242.1,2,     4.74,2,    10.71,2,     0.64,2, -999.000,9, -999.000,9, -999.000,9, -999.000,9
     06MT030_2,   A02,   441,  1,     11,  10018,2,19941016,1630, 49.0550, -12.7050, 1502,    478.4,  10.6480,  35.4888,2,  35.4907,2,    237.5,2,     5.38,2,    11.81,2,     0.71,2, -999.000,9, -999.000,9, -999.000,9, -999.000,9
     06MT030_2,   A02,   441,  1,     10,  10010,2,19941016,1630, 49.0550, -12.7050, 1502,    596.6,  10.2894,  35.4623,2,  35.4632,2,    227.5,2,     6.34,2,    13.26,2,     0.82,2, -999.000,9, -999.000,9, -999.000,9, -999.000,9
     06MT030_2,   A02,   441,  1,      9,  10004,2,19941016,1630, 49.0550, -12.7050, 1502,    677.5,  10.2454,  35.5079,2,  35.5103,2,    213.6,2,     7.20,2,    14.32,2,     0.89,2, -999.000,9, -999.000,9, -999.000,9, -999.000,9
     06MT030_2,   A02,   441,  1,      8,     15,2,19941016,1630, 49.0550, -12.7050, 1502,    754.5,   9.2875,  35.4072,2,  35.4021,3,    202.3,2,     9.31,2,    16.81,2,     1.06,2,    2.317,2,    1.130,2,    0.091,2,    1.426,2
     06MT030_2,   A02,   441,  1,      7,     23,2,19941016,1630, 49.0550, -12.7050, 1502,    945.6,   9.0308,  35.5677,2,  35.5693,2,    196.0,2,    10.29,2,    17.14,2,     1.09,2,    1.889,2,    0.903,2,    0.067,2,    1.440,4
     06MT030_2,   A02,   441,  1,      6,    910,2,19941016,1630, 49.0550, -12.7050, 1502,    996.8,   8.8050,  35.5618,2,  35.5608,2,    198.5,2,    10.56,2,    17.32,2,     1.10,2,    1.343,2,    0.643,2,    0.032,2,    1.126,2
     06MT030_2,   A02,   441,  1,      5,     12,2,19941016,1630, 49.0550, -12.7050, 1502,   1092.5,   8.1478,  35.5254,2,  35.5304,3,    203.9,2,    11.20,2,    17.60,2,     1.13,2,    1.285,2,    0.604,2,    0.032,2,    1.162,2
     06MT030_2,   A02,   441,  1,      4,      6,2,19941016,1630, 49.0550, -12.7050, 1502,   1196.3,   7.1679,  35.3931,2,  35.3933,2,    214.8,2,    11.84,2,    17.85,2,     1.15,2, -999.000,9, -999.000,9, -999.000,9, -999.000,9
     06MT030_2,   A02,   441,  1,      3,     18,2,19941016,1630, 49.0550, -12.7050, 1502,   1296.5,   6.3619,  35.2874,2,  35.2879,2,    224.9,2,    12.46,2,    18.30,2,     1.16,2,    1.181,2,    0.562,2,    0.030,2,    1.497,2
     06MT030_2,   A02,   441,  1,      2,     17,2,19941016,1630, 49.0550, -12.7050, 1502,   1397.2,   5.5300,  35.1736,2,  35.1729,2,    236.6,2,    13.24,2,    18.24,2,     1.19,2, -999.000,9, -999.000,9, -999.000,9, -999.000,9
     06MT030_2,   A02,   441,  1,      1,     10,2,19941016,1630, 49.0550, -12.7050, 1502,   1498.1,   5.1634,  35.1390,2,  35.1400,2,    242.2,2,    14.49,2,    18.16,2,     1.20,2,    1.282,2,    0.599,2,    0.054,2,    1.995,2
     06MT030_2,   A02,   442,  1,     23,  10013,2,19941016,1934, 49.0200, -12.8567, 1986,     10.6,  15.3193,  35.5233,2,  35.5226,2,    251.5,2,     1.07,2,     0.25,2,     0.09,2, -999.000,9, -999.000,9, -999.000,9, -999.000,9
     06MT030_2,   A02,   442,  1,     22,  10023,2,19941016,1934, 49.0200, -12.8567, 1986,     18.8,  15.3153,  35.5234,2,  35.5223,2,    251.0,2,     1.05,2,     0.15,2,     0.06,2, -999.000,9, -999.000,9, -999.000,9, -999.000,9
     06MT030_2,   A02,   442,  1,     21,  10002,2,19941016,1934, 49.0200, -12.8567, 1986,     29.8,  15.2404,  35.5262,2,  35.5264,2,    249.7,2,     1.07,2,     0.18,2,     0.05,2,    2.902,2,    1.516,2,    0.254,2,    3.993,2
     06MT030_2,   A02,   442,  1,     20,  10027,2,19941016,1934, 49.0200, -12.8567, 1986,     49.8,  15.0755,  35.5356,2,  35.5360,2,    246.3,2,     1.12,2,     0.91,2,     0.09,2, -999.000,9, -999.000,9, -999.000,9, -999.000,9
     06MT030_2,   A02,   442,  1,     19,  10017,2,19941016,1934, 49.0200, -12.8567, 1986,     71.6,  13.2972,  35.5690,2,  35.5738,3,    238.0,2,     1.92,2,     6.27,2,     0.33,2, -999.000,9, -999.000,9, -999.000,9, -999.000,9
     06MT030_2,   A02,   442,  1,     18,  10020,2,19941016,1934, 49.0200, -12.8567, 1986,     98.2,  12.1084,  35.6196,2,  35.6223,2,    240.2,2,     3.45,2,     9.10,2,     0.49,2, -999.000,9, -999.000,9, -999.000,9, -999.000,9
     06MT030_2,   A02,   442,  1,     17,  10009,2,19941016,1934, 49.0200, -12.8567, 1986,    148.4,  11.5270,  35.5750,2,  35.5785,2,    245.7,2,     4.16,2,     9.77,2,     0.54,2, -999.000,9, -999.000,9, -999.000,9, -999.000,9
     06MT030_2,   A02,   442,  1,     16,  10021,2,19941016,1934, 49.0200, -12.8567, 1986,    200.4,  11.2583,  35.5415,2,  35.5416,2,    246.6,2,     4.48,2,    10.05,2,     0.57,2,    3.197,2,    1.627,2,    0.217,2,    2.435,2
     06MT030_2,   A02,   442,  1,     15,  10025,2,19941016,1934, 49.0200, -12.8567, 1986,    248.3,  11.0336,  35.5127,2,  35.5135,2,    246.4,2,     4.74,2,    10.34,2,     0.60,2, -999.000,9, -999.000,9, -999.000,9, -999.000,9
     06MT030_2,   A02,   442,  1,     14,      2,2,19941016,1934, 49.0200, -12.8567, 1986,    298.4,  10.9966,  35.5166,2,  35.5247,3,    242.4,2,     4.74,2,    10.44,2,     0.60,2, -999.000,9, -999.000,9, -999.000,9, -999.000,9
     06MT030_2,   A02,   442,  1,     13,  10003,2,19941016,1934, 49.0200, -12.8567, 1986,    348.1,  10.8518,  35.4963,2,  35.5014,3,    242.4,2,     5.01,2,    10.77,2,     0.63,2,    3.126,2,    1.580,2,    0.182,2,    2.176,2
     06MT030_2,   A02,   442,  1,     12,  10026,2,19941016,1934, 49.0200, -12.8567, 1986,    397.6,  10.7728,  35.4929,2,  35.4944,2,    238.1,3,     5.48,2,    11.35,2,     0.67,2, -999.000,9, -999.000,9, -999.000,9, -999.000,9
     06MT030_2,   A02,   442,  1,     11,  10008,2,19941016,1934, 49.0200, -12.8567, 1986,    497.5,  10.3583,  35.4378,2,  35.4381,2,    244.8,3,     5.70,2,    11.57,2,     0.70,2, -999.000,9, -999.000,9, -999.000,9, -999.000,9
     06MT030_2,   A02,   442,  1,     10,  10010,2,19941016,1934, 49.0200, -12.8567, 1986,    596.9,   9.9208,  35.3840,2,  35.3823,2,    237.8,2,     6.70,2,    12.87,2,     0.79,2, -999.000,9, -999.000,9, -999.000,9, -999.000,9
     06MT030_2,   A02,   442,  1,      9,  10004,2,19941016,1934, 49.0200, -12.8567, 1986,    697.2,   9.3744,  35.3465,2,  35.3469,2,    214.2,2,     8.69,2,    15.58,2,     0.96,2,    2.334,2,    1.128,2,    0.103,2,    1.781,2
     06MT030_2,   A02,   442,  1,      8,     15,2,19941016,1934, 49.0200, -12.8567, 1986,    747.1,   9.2116,  35.3590,2,  35.3588,2,    207.5,2,     9.28,2,    16.19,2,     1.02,2,    2.061,2,    0.996,2,    0.077,2,    1.558,2
     06MT030_2,   A02,   442,  1,      7,     23,2,19941016,1934, 49.0200, -12.8567, 1986,   1015.7,   8.4085,  35.5019,2,  35.5073,3,    200.5,2,    10.96,2,    17.35,2,     1.09,2, -999.000,9, -999.000,9, -999.000,9, -999.000,9
     06MT030_2,   A02,   442,  1,      6,    910,2,19941016,1934, 49.0200, -12.8567, 1986,   1198.2,   6.9922,  35.3418,2,  35.3440,2,    216.4,2,    12.04,2,    18.06,2,     1.16,2, -999.000,9, -999.000,9, -999.000,9, -999.000,9
     06MT030_2,   A02,   442,  1,      5,     12,2,19941016,1934, 49.0200, -12.8567, 1986,   1477.6,   4.8788,  35.0616,2,  35.0607,2,    247.9,2,    12.74,2,    18.19,2,     1.18,2, -999.000,9, -999.000,9, -999.000,9, -999.000,9
     06MT030_2,   A02,   442,  1,      4,      6,2,19941016,1934, 49.0200, -12.8567, 1986,   1578.1,   4.5642,  35.0400,2,  35.0407,2,    253.0,2,    13.84,2,    18.04,2,     1.19,2,    1.462,2,    0.665,2,    0.042,2,    2.430,2
     06MT030_2,   A02,   442,  1,      3,     18,2,19941016,1934, 49.0200, -12.8567, 1986,   1645.5,   4.2566,  35.0030,2,  35.0022,2,    258.7,3,    13.86,2,    17.72,2,     1.19,2, -999.000,9, -999.000,9, -999.000,9, -999.000,9
     06MT030_2,   A02,   442,  1,      2,     17,2,19941016,1934, 49.0200, -12.8567, 1986,   1847.6,   4.0419,  35.0176,2,  35.0175,2,    254.9,2,    18.24,2,    18.15,2,     1.23,2, -999.000,9, -999.000,9, -999.000,9, -999.000,9
     06MT030_2,   A02,   442,  1,      1,     10,2,19941016,1934, 49.0200, -12.8567, 1986,   1948.5,   3.7702,  34.9989,2,  34.9988,2,    255.5,2,    20.56,2,    18.34,2,     1.26,2,    0.738,2,    0.346,2,    0.033,2,    1.509,2
     06MT030_2,   A02,   442,  1,     24,     21,2,19941016,1934, 49.0200, -12.8567, 1986,   1992.6,   3.7592,  34.9971,2,  34.9962,2,    254.2,2,    20.57,2,    18.45,2,     1.11,3, -999.000,9, -999.000,9, -999.000,9, -999.000,9
     06MT030_2,   A02,   443,  1,     23,  10013,2,19941016,2245, 49.0033, -12.9750, 2500,     18.2,  15.2414,  35.5206,2,  35.5216,2,    251.4,2,     1.50,2,     0.52,2,     0.10,2, -999.000,9, -999.000,9, -999.000,9, -999.000,9
     06MT030_2,   A02,   443,  1,     22,  10023,2,19941016,2245, 49.0033, -12.9750, 2500,     29.9,  15.2074,  35.5240,2,  35.5253,2,    251.1,2,     1.36,2,     0.43,2,     0.07,2, -999.000,9, -999.000,9, -999.000,9, -999.000,9
     06MT030_2,   A02,   443,  1,     21,  10002,2,19941016,2245, 49.0033, -12.9750, 2500,     49.2,  15.0526,  35.5402,2,  35.5437,2,    249.1,2,     1.41,2,     0.61,2,     0.08,2, -999.000,9, -999.000,9, -999.000,9, -999.000,9
     06MT030_2,   A02,   443,  1,     20,  10027,2,19941016,2245, 49.0033, -12.9750, 2500,     69.2,  14.2423,  35.5365,2,  35.5344,2,    242.9,2,     1.68,2,     3.62,2,     0.19,2, -999.000,9, -999.000,9, -999.000,9, -999.000,9
     06MT030_2,   A02,   443,  1,     19,  10017,2,19941016,2245, 49.0033, -12.9750, 2500,     99.9,  12.1914,  35.5619,2,  35.5629,2,    243.0,2,     3.02,2,     8.41,2,     0.44,2,    3.333,2,    1.656,2,    0.249,2,    2.613,2
     06MT030_2,   A02,   443,  1,     18,  10020,2,19941016,2245, 49.0033, -12.9750, 2500,    149.6,  11.4371,  35.5584,2,  35.5618,2,    245.8,2,     4.41,2,     9.94,2,     0.55,2,    3.254,2,    1.613,2,    0.214,2,    2.404,2
     06MT030_2,   A02,   443,  1,     17,  10009,2,19941016,2245, 49.0033, -12.9750, 2500,    239.1,  10.9896,  35.5039,2,  35.5065,2,    249.6,2,     4.86,2,    10.39,2,     0.58,2, -999.000,9, -999.000,9, -999.000,9, -999.000,9
     06MT030_2,   A02,   443,  1,     16,  10021,2,19941016,2245, 49.0033, -12.9750, 2500,    299.8,  10.9527,  35.5219,2,  35.5248,2,    246.4,2,     4.74,2,    10.39,2,     0.58,2, -999.000,9, -999.000,9, -999.000,9, -999.000,9
     06MT030_2,   A02,   443,  1,     15,  10025,2,19941016,2245, 49.0033, -12.9750, 2500,    399.6,  10.6909,  35.4888,2,  35.4922,2,    242.0,2,     5.41,2,    11.23,2,     0.64,2, -999.000,9, -999.000,9, -999.000,9, -999.000,9
     06MT030_2,   A02,   443,  1,     14,      2,2,19941016,2245, 49.0033, -12.9750, 2500,    498.2,  10.3263,  35.4403,2,  35.4381,2,    241.5,2,     6.09,2,    12.02,2,     0.72,2,    3.100,2,    1.508,2,    0.168,2,    2.252,2
     06MT030_2,   A02,   443,  1,     13,  10003,2,19941016,2245, 49.0033, -12.9750, 2500,    646.8,   9.6691,  35.3664,2,  35.3662,2,    223.1,2,     7.88,2,    14.40,2,     0.89,2,    2.629,2,    1.261,2,    0.115,2,    1.940,2
     06MT030_2,   A02,   443,  1,     12,  10026,2,19941016,2245, 49.0033, -12.9750, 2500,    716.5,   9.3744,  35.3731,2,  35.3740,2,    208.0,2,     9.08,2,    15.98,2,     0.99,2,    2.154,2,    1.014,2,    0.075,2,    1.525,2
     06MT030_2,   A02,   443,  1,     11,  10008,2,19941016,2245, 49.0033, -12.9750, 2500,    795.9,   8.9039,  35.3753,2,  35.3761,2,    199.3,2,    10.16,2,    17.11,2,     1.06,2,    1.834,2,    0.848,2,    0.073,2,    1.438,2
     06MT030_2,   A02,   443,  1,     10,  10010,2,19941016,2245, 49.0033, -12.9750, 2500,   1010.6,   8.2337,  35.4768,2,  35.4736,2,    203.0,2,    11.34,2,    17.55,2,     1.10,2,    1.348,2,    0.635,2,    0.031,2,    1.405,2
     06MT030_2,   A02,   443,  1,      9,  10004,2,19941016,2245, 49.0033, -12.9750, 2500,   1197.0,   6.7564,  35.3124,2,  35.3104,2,    248.9,3,    12.22,2,    17.83,2,     1.14,2,    1.356,2,    0.628,2,    0.036,2,    1.816,2
     06MT030_2,   A02,   443,  1,      8,     15,2,19941016,2245, 49.0033, -12.9750, 2500,   1446.6,   5.1814,  35.1119,2,  35.1298,3,    242.9,2,    14.46,2,    17.94,2,     1.18,2,    1.273,2,    0.590,2,    0.033,2,    2.114,2
     06MT030_2,   A02,   443,  1,      7,     23,2,19941016,2245, 49.0033, -12.9750, 2500,   1497.1,   5.1784,  35.1307,2,  35.1313,2,    242.2,2,    14.48,2,    18.39,2,     1.18,2,    1.255,2,    0.581,2,    0.034,2,    2.080,2
     06MT030_2,   A02,   443,  1,      6,    910,2,19941016,2245, 49.0033, -12.9750, 2500,   1698.3,   4.3415,  35.0475,2,  35.0469,2,    252.1,2,    17.29,2,    18.61,2,     1.21,2, -999.000,9, -999.000,9, -999.000,9, -999.000,9
     06MT030_2,   A02,   443,  1,      5,     12,2,19941016,2245, 49.0033, -12.9750, 2500,   2049.0,   3.6224,  34.9827,2,  34.9830,2,    255.9,2,    20.75,2,    18.89,2,     1.25,2,    0.661,2,    0.314,2,    0.014,2,    1.505,2
     06MT030_2,   A02,   443,  1,      4,      6,2,19941016,2245, 49.0033, -12.9750, 2500,   2251.3,   3.4217,  34.9752,2,  34.9757,2,    254.1,2,    23.88,2,    19.24,2,     1.29,2, -999.000,9, -999.000,9, -999.000,9, -999.000,9
     06MT030_2,   A02,   443,  1,      3,     18,2,19941016,2245, 49.0033, -12.9750, 2500,   2409.5,   3.2409,  34.9687,2,  34.9688,2,    249.5,2,    28.61,2,    19.96,2,     1.36,2,    0.289,2,    0.141,2,    0.008,2,    0.773,2
     06MT030_2,   A02,   443,  1,      2,     17,2,19941016,2245, 49.0033, -12.9750, 2500,   2480.7,   3.1071,  34.9605,2,  34.9608,2,    248.2,2,    30.57,2,    20.06,2,     1.39,2, -999.000,9, -999.000,9, -999.000,9, -999.000,9
     06MT030_2,   A02,   443,  1,      1,     10,2,19941016,2245, 49.0033, -12.9750, 2500,   2501.0,   3.0841,  34.9607,2,  34.9605,2,    248.1,2,    30.96,2,    20.14,2,     1.43,2,    0.213,2,    0.105,2,    0.018,2,    0.591,2
     06MT030_2,   A02,   443,  1,     24,     21,2,19941016,2245, 49.0033, -12.9750, 2500,   2510.7,   3.0801,  34.9608,2,  34.9599,2,    247.8,2,    30.81,2,    20.10,2,     1.48,2,    0.217,2,    0.106,2,    0.007,2,    0.577,2