BOTTLE,20090923WHPSIOMYS
EXPOCODE,SECT_ID,STNNBR,CASTNO,SAMPNO,BTLNBR,BTLNBR_FLAG_W,DATE,TIME,LATITUDE,LONGITUDE,DEPTH,CTDRAW,CTDPRS,CTDTMP,CTDSAL,CTDSAL_FLAG_W,SALNTY,SALNTY_FLAG_W,CTDOXY,CTDOXY_FLAG_W,THETA,OXYGEN,OXYGEN_FLAG_W,SILCAT,SILCAT_FLAG_W,NO2+NO3,NO2+NO3_FLAG_W,PHSPHT,PHSPHT_FLAG_W,REVPRS,REVTMP
,,,,,,,,,,,,,DBAR,ITS-90,PSS-78,,PSS-78,,UMOL/KG,,ITS-90,UMOL/KG,,UMOL/KG,,UMOL/KG,,UMOL/KG,,DBAR,DEG C
     33KI147_1,  PRS2,     2,  3,     14,     40,3,20030423,2055, 22.7565,-157.9905, 4725,      4,      4.3,  24.6207,  34.9769,2,  34.9858,2,    233.8,1, 24.6198,   -999.0,9,  -999.00,9,  -999.00,9,  -999.00,9,  -999.0,-999.000
     33KI147_1,  PRS2,     2,  3,     13,     13,3,20030423,2055, 22.7565,-157.9905, 4725,     25,     24.2,  24.6116,  34.9767,2,  34.9831,2,    233.8,1, 24.6065,   -999.0,9,  -999.00,9,  -999.00,9,  -999.00,9,  -999.0,-999.000
     33KI147_1,  PRS2,     2,  3,     12,     12,2,20030423,2055, 22.7565,-157.9905, 4725,     44,     43.2,  24.6085,  34.9762,2,  34.9821,2,    233.7,1, 24.5992,   -999.0,9,  -999.00,9,  -999.00,9,  -999.00,9,  -999.0,-999.000
     33KI147_1,  PRS2,     2,  3,     11,     39,3,20030423,2055, 22.7565,-157.9905, 4725,     59,     58.6,  24.5162,  35.0219,2,  35.0055,3,    234.6,1, 24.5037,   -999.0,9,  -999.00,9,  -999.00,9,  -999.00,9,  -999.0,-999.000
     33KI147_1,  PRS2,     2,  3,     10,     32,2,20030423,2055, 22.7565,-157.9905, 4725,     76,     73.9,  23.2424,  35.3720,2,  35.3705,2,    240.2,1, 23.2272,   -999.0,9,  -999.00,9,  -999.00,9,  -999.00,9,  -999.0,-999.000
     33KI147_1,  PRS2,     2,  3,      9,      3,2,20030423,2055, 22.7565,-157.9905, 4725,     85,     83.9,  22.3863,  35.3648,2,  35.3612,2,    246.0,1, 22.3695,   -999.0,9,  -999.00,9,  -999.00,9,  -999.00,9,  -999.0,-999.000
     33KI147_1,  PRS2,     2,  3,      8,     29,2,20030423,2055, 22.7565,-157.9905, 4725,     99,     97.9,  21.4638,  35.3252,2,  35.3265,2,    245.2,1, 21.4448,   -999.0,9,  -999.00,9,  -999.00,9,  -999.00,9,  -999.0,-999.000
     33KI147_1,  PRS2,     2,  3,      7,     28,2,20030423,2055, 22.7565,-157.9905, 4725,    116,    114.1,  20.6219,  35.2488,2,  35.2503,2,    238.7,1, 20.6003,   -999.0,9,  -999.00,9,  -999.00,9,  -999.00,9,  -999.0,-999.000
     33KI147_1,  PRS2,     2,  3,      6,      7,2,20030423,2055, 22.7565,-157.9905, 4725,    127,    125.8,  20.1100,  35.1926,2,  35.1943,2,    234.5,1, 20.0867,   -999.0,9,  -999.00,9,  -999.00,9,  -999.00,9,  -999.0,-999.000
     33KI147_1,  PRS2,     2,  3,      5,     38,2,20030423,2055, 22.7565,-157.9905, 4725,    153,    151.9,  18.6366,  34.9826,2,  34.9949,2,    222.3,1, 18.6099,   -999.0,9,  -999.00,9,  -999.00,9,  -999.00,9,  -999.0,-999.000
     33KI147_1,  PRS2,     2,  3,      4,     36,2,20030423,2055, 22.7565,-157.9905, 4725,    177,    177.5,  17.5723,  34.8310,2,  34.8324,2,    230.2,1, 17.5424,   -999.0,9,  -999.00,9,  -999.00,9,  -999.00,9,  -999.0,-999.000
     33KI147_1,  PRS2,     2,  3,      3,     35,2,20030423,2055, 22.7565,-157.9905, 4725,    201,    199.8,  16.2039,  34.6485,2,  34.6527,2,    216.9,1, 16.1721,   -999.0,9,  -999.00,9,  -999.00,9,  -999.00,9,  -999.0,-999.000
     33KI147_1,  PRS2,     2,  3,      2,     34,2,20030423,2055, 22.7565,-157.9905, 4725,    500,    499.4,   7.0402,  34.0329,2,  34.0329,2,    128.0,1,  6.9930,   -999.0,9,  -999.00,9,  -999.00,9,  -999.00,9,  -999.0,-999.000
     33KI147_1,  PRS2,     2,  3,      1,     33,2,20030423,2055, 22.7565,-157.9905, 4725,   1021,   1019.8,   4.0967,  34.4891,2,  34.4887,2,     40.8,1,  4.0187,   -999.0,9,  -999.00,9,  -999.00,9,  -999.00,9,  -999.0,-999.000
     33KI147_1,  PRS2,     2,  4,     14,     40,3,20030423,2358, 22.7565,-157.9770, 4718,      5,      4.8,  24.6957,  34.9881,2,  34.9860,2,    232.0,1, 24.6946,   -999.0,9,  -999.00,9,  -999.00,9,  -999.00,9,  -999.0,-999.000
     33KI147_1,  PRS2,     2,  4,     13,     13,2,20030423,2358, 22.7565,-157.9770, 4718,     24,     23.7,  24.6748,  34.9904,2,  34.9937,2,    233.8,1, 24.6697,   -999.0,9,  -999.00,9,  -999.00,9,  -999.00,9,  -999.0,-999.000
     33KI147_1,  PRS2,     2,  4,     12,     12,2,20030423,2358, 22.7565,-157.9770, 4718,     44,     44.0,  24.6575,  35.0048,2,  35.0006,2,    234.1,1, 24.6481,   -999.0,9,  -999.00,9,  -999.00,9,  -999.00,9,  -999.0,-999.000
     33KI147_1,  PRS2,     2,  4,     11,     39,2,20030423,2358, 22.7565,-157.9770, 4718,     77,     76.4,  22.1221,  35.3601,2,  35.3579,2,    246.0,1, 22.1069,   -999.0,9,  -999.00,9,  -999.00,9,  -999.00,9,  -999.0,-999.000
     33KI147_1,  PRS2,     2,  4,     10,     32,2,20030423,2358, 22.7565,-157.9770, 4718,    100,     98.3,  21.0967,  35.2979,2,  35.2974,2,    242.1,1, 21.0778,   -999.0,9,  -999.00,9,  -999.00,9,  -999.00,9,  -999.0,-999.000
     33KI147_1,  PRS2,     2,  4,      9,      3,2,20030423,2358, 22.7565,-157.9770, 4718,    123,    122.0,  19.8684,  35.1614,2,  35.1677,2,    231.8,1, 19.8460,   -999.0,9,  -999.00,9,  -999.00,9,  -999.00,9,  -999.0,-999.000
     33KI147_1,  PRS2,     2,  4,      8,     29,2,20030423,2358, 22.7565,-157.9770, 4718,    148,    146.8,  18.7259,  34.9981,2,  34.9949,2,    223.7,1, 18.7000,   -999.0,9,  -999.00,9,  -999.00,9,  -999.00,9,  -999.0,-999.000
     33KI147_1,  PRS2,     2,  4,      7,     28,2,20030423,2358, 22.7565,-157.9770, 4718,    173,    171.9,  18.1978,  34.9282,2,  34.9313,2,    229.7,1, 18.1681,   -999.0,9,  -999.00,9,  -999.00,9,  -999.00,9,  -999.0,-999.000
     33KI147_1,  PRS2,     2,  4,      6,      7,2,20030423,2358, 22.7565,-157.9770, 4718,    199,    197.6,  16.3473,  34.6671,2,  34.6663,2,    217.2,1, 16.3157,   -999.0,9,  -999.00,9,  -999.00,9,  -999.00,9,  -999.0,-999.000
     33KI147_1,  PRS2,     2,  4,      5,     38,2,20030423,2358, 22.7565,-157.9770, 4718,    250,    248.9,  14.0962,  34.3978,2,  34.4349,4,    222.4,1, 14.0602,   -999.0,9,  -999.00,9,  -999.00,9,  -999.00,9,  -999.0,-999.000
     33KI147_1,  PRS2,     2,  4,      3,     35,3,20030423,2358, 22.7565,-157.9770, 4718,    351,    349.6,  10.4422,  34.1852,2,  34.2150,4,    214.2,1, 10.4006,   -999.0,9,  -999.00,9,  -999.00,9,  -999.00,9,  -999.0,-999.000
     33KI147_1,  PRS2,     2,  4,      4,     36,2,20030423,2358, 22.7565,-157.9770, 4718,    350,    349.8,  10.4403,  34.1850,2,  34.1838,2,    214.2,1, 10.3986,   -999.0,9,  -999.00,9,  -999.00,9,  -999.00,9,  -999.0,-999.000
     33KI147_1,  PRS2,     2,  4,      2,     34,2,20030423,2358, 22.7565,-157.9770, 4718,    747,    747.1,   4.9096,  34.3194,2,  34.3186,2,     26.3,1,  4.8495,   -999.0,9,  -999.00,9,  -999.00,9,  -999.00,9,  -999.0,-999.000
     33KI147_1,  PRS2,     2,  4,      1,     33,2,20030423,2358, 22.7565,-157.9770, 4718,   1023,   1022.2,   4.0635,  34.4948,2,  34.4954,2,     41.4,1,  3.9855,   -999.0,9,  -999.00,9,  -999.00,9,  -999.00,9,  -999.0,-999.000
     33KI147_1,  PRS2,     2,  5,     14,     40,3,20030424,0255, 22.7525,-157.9923, 4727,      5,      4.1,  24.7139,  35.0263,2,  35.0213,2,    233.6,1, 24.7130,   -999.0,9,  -999.00,9,  -999.00,9,  -999.00,9,  -999.0,-999.000
     33KI147_1,  PRS2,     2,  5,     13,     13,2,20030424,0255, 22.7525,-157.9923, 4727,     26,     24.9,  24.7126,  35.0385,2,  35.0315,2,    233.7,1, 24.7072,   -999.0,9,  -999.00,9,  -999.00,9,  -999.00,9,  -999.0,-999.000
     33KI147_1,  PRS2,     2,  5,     12,     12,2,20030424,0255, 22.7525,-157.9923, 4727,     45,     44.1,  24.1679,  35.1984,2,  35.1727,3,    236.4,1, 24.1585,   -999.0,9,  -999.00,9,  -999.00,9,  -999.00,9,  -999.0,-999.000
     33KI147_1,  PRS2,     2,  5,     11,     39,2,20030424,0255, 22.7525,-157.9923, 4727,     75,     74.8,  22.6679,  35.3632,2,  35.3626,2,    242.9,1, 22.6528,   -999.0,9,  -999.00,9,  -999.00,9,  -999.00,9,  -999.0,-999.000
     33KI147_1,  PRS2,     2,  5,     10,     32,2,20030424,0255, 22.7525,-157.9923, 4727,     99,     99.4,  20.6483,  35.2527,2,  35.2524,2,    238.1,1, 20.6295,   -999.0,9,  -999.00,9,  -999.00,9,  -999.00,9,  -999.0,-999.000
     33KI147_1,  PRS2,     2,  5,      9,      3,2,20030424,0255, 22.7525,-157.9923, 4727,    125,    124.2,  20.0757,  35.1897,2,  35.1890,2,    235.4,1, 20.0527,   -999.0,9,  -999.00,9,  -999.00,9,  -999.00,9,  -999.0,-999.000
     33KI147_1,  PRS2,     2,  5,      8,     29,2,20030424,0255, 22.7525,-157.9923, 4727,    152,    148.6,  19.3648,  35.0918,2,  35.0931,2,    227.9,1, 19.3379,   -999.0,9,  -999.00,9,  -999.00,9,  -999.00,9,  -999.0,-999.000
     33KI147_1,  PRS2,     2,  5,      7,     28,2,20030424,0255, 22.7525,-157.9923, 4727,    175,    173.5,  18.0653,  34.9071,2,  34.9174,2,    231.0,1, 18.0355,   -999.0,9,  -999.00,9,  -999.00,9,  -999.00,9,  -999.0,-999.000
     33KI147_1,  PRS2,     2,  5,      6,      7,2,20030424,0255, 22.7525,-157.9923, 4727,    199,    199.0,  16.6339,  34.6978,2,  34.6958,2,    221.1,1, 16.6016,   -999.0,9,  -999.00,9,  -999.00,9,  -999.00,9,  -999.0,-999.000
     33KI147_1,  PRS2,     2,  5,      5,     38,2,20030424,0255, 22.7525,-157.9923, 4727,    249,    249.1,  13.8824,  34.3792,2,  34.3876,2,    223.2,1, 13.8468,   -999.0,9,  -999.00,9,  -999.00,9,  -999.00,9,  -999.0,-999.000
     33KI147_1,  PRS2,     2,  5,      4,     36,2,20030424,0255, 22.7525,-157.9923, 4727,    352,    351.0,  10.2791,  34.1792,2,  34.1768,2,    211.4,1, 10.2378,   -999.0,9,  -999.00,9,  -999.00,9,  -999.00,9,  -999.0,-999.000
     33KI147_1,  PRS2,     2,  5,      3,     35,2,20030424,0255, 22.7525,-157.9923, 4727,    351,    351.0,  10.2860,  34.1785,2,  34.1781,2,    211.0,1, 10.2446,   -999.0,9,  -999.00,9,  -999.00,9,  -999.00,9,  -999.0,-999.000
     33KI147_1,  PRS2,     2,  5,      2,     34,2,20030424,0255, 22.7525,-157.9923, 4727,    509,    508.2,   7.0364,  34.0326,2,  34.0339,2,    127.7,1,  6.9883,   -999.0,9,  -999.00,9,  -999.00,9,  -999.00,9,  -999.0,-999.000
     33KI147_1,  PRS2,     2,  5,      1,     33,2,20030424,0255, 22.7525,-157.9923, 4727,   1019,   1019.0,   4.0469,  34.4946,2,  34.4948,2,     41.7,1,  3.9693,   -999.0,9,  -999.00,9,  -999.00,9,  -999.00,9,  -999.0,-999.000
     33KI147_1,  PRS2,     2,  6,     14,     40,2,20030424,0557, 22.7505,-157.9985, 4724,      6,      5.0,  24.6879,  35.0179,2,  35.0159,2,    234.1,1, 24.6868,   -999.0,9,  -999.00,9,  -999.00,9,  -999.00,9,  -999.0,-999.000
     33KI147_1,  PRS2,     2,  6,     13,     13,2,20030424,0557, 22.7505,-157.9985, 4724,     15,     14.0,  24.6956,  35.0174,2,  35.0216,2,    234.0,1, 24.6926,   -999.0,9,  -999.00,9,  -999.00,9,  -999.00,9,  -999.0,-999.000
     33KI147_1,  PRS2,     2,  6,     12,     12,2,20030424,0557, 22.7505,-157.9985, 4724,     25,     24.2,  24.6934,  35.0168,2,  35.0155,2,    234.0,1, 24.6882,   -999.0,9,  -999.00,9,  -999.00,9,  -999.00,9,  -999.0,-999.000
     33KI147_1,  PRS2,     2,  6,     10,     32,2,20030424,0557, 22.7505,-157.9985, 4724,     36,     33.9,  24.7012,  35.0225,2,  35.0185,2,    233.5,1, 24.6939,   -999.0,9,  -999.00,9,  -999.00,9,  -999.00,9,  -999.0,-999.000
     33KI147_1,  PRS2,     2,  6,     11,     39,3,20030424,0557, 22.7505,-157.9985, 4724,     35,     34.0,  24.7019,  35.0239,2,  35.0213,2,    233.4,1, 24.6946,   -999.0,9,  -999.00,9,  -999.00,9,  -999.00,9,  -999.0,-999.000
     33KI147_1,  PRS2,     2,  6,      9,      3,2,20030424,0557, 22.7505,-157.9985, 4724,     46,     44.6,  24.7028,  35.0497,2,  35.0466,2,    233.9,1, 24.6932,   -999.0,9,  -999.00,9,  -999.00,9,  -999.00,9,  -999.0,-999.000
     33KI147_1,  PRS2,     2,  6,      8,     29,2,20030424,0557, 22.7505,-157.9985, 4724,     60,     59.0,  24.3811,  35.1502,2,  35.1413,2,    236.0,1, 24.3685,   -999.0,9,  -999.00,9,  -999.00,9,  -999.00,9,  -999.0,-999.000
     33KI147_1,  PRS2,     2,  6,      7,     28,2,20030424,0557, 22.7505,-157.9985, 4724,     74,     73.5,  23.4232,  35.3767,2,  35.3725,2,    240.8,1, 23.4080,   -999.0,9,  -999.00,9,  -999.00,9,  -999.00,9,  -999.0,-999.000
     33KI147_1,  PRS2,     2,  6,      6,      7,2,20030424,0557, 22.7505,-157.9985, 4724,    101,     99.8,  20.9158,  35.2818,2,  35.2826,2,    240.3,1, 20.8967,   -999.0,9,  -999.00,9,  -999.00,9,  -999.00,9,  -999.0,-999.000
     33KI147_1,  PRS2,     2,  6,      5,     38,2,20030424,0557, 22.7505,-157.9985, 4724,    125,    124.8,  20.0016,  35.1825,2,  35.1874,2,    233.6,1, 19.9786,   -999.0,9,  -999.00,9,  -999.00,9,  -999.00,9,  -999.0,-999.000
     33KI147_1,  PRS2,     2,  6,      4,     36,2,20030424,0557, 22.7505,-157.9985, 4724,    150,    149.0,  19.1797,  35.0632,2,  35.0760,2,    226.1,1, 19.1529,   -999.0,9,  -999.00,9,  -999.00,9,  -999.00,9,  -999.0,-999.000
     33KI147_1,  PRS2,     2,  6,      3,     35,2,20030424,0557, 22.7505,-157.9985, 4724,    174,    173.0,  18.3831,  34.9466,2,  34.9451,2,    224.2,1, 18.3530,   -999.0,9,  -999.00,9,  -999.00,9,  -999.00,9,  -999.0,-999.000
     33KI147_1,  PRS2,     2,  6,      2,     34,2,20030424,0557, 22.7505,-157.9985, 4724,    541,    540.7,   6.5702,  34.0329,2,  34.0347,2,    108.1,1,  6.5209,   -999.0,9,  -999.00,9,  -999.00,9,  -999.00,9,  -999.0,-999.000
     33KI147_1,  PRS2,     2,  6,      1,     33,2,20030424,0557, 22.7505,-157.9985, 4724,   1027,   1024.8,   4.0105,  34.4979,2,  34.5023,2,     42.4,1,  3.9327,   -999.0,9,  -999.00,9,  -999.00,9,  -999.00,9,  -999.0,-999.000
     33KI147_1,  PRS2,     2,  7,     18,     18,3,20030424,0853, 22.7482,-158.0023, 4725,      5,      4.9,  24.6689,  35.0094,2,-999.0000,5,    232.8,2, 24.6678,    200.9,3,  -999.00,9,  -999.00,9,  -999.00,9,  -999.0,-999.000
     33KI147_1,  PRS2,     2,  7,     19,     19,3,20030424,0853, 22.7482,-158.0023, 4725,      6,      5.0,  24.6656,  35.0098,2,  35.0081,2,    232.8,2, 24.6645,   -999.0,5,  -999.00,9,  -999.00,9,  -999.00,9,  -999.0,-999.000
     33KI147_1,  PRS2,     2,  7,     17,     17,2,20030424,0853, 22.7482,-158.0023, 4725,     15,     14.5,  24.6727,  35.0085,2,  35.0104,2,    232.6,2, 24.6696,   -999.0,5,  -999.00,9,  -999.00,9,  -999.00,9,  -999.0,-999.000
     33KI147_1,  PRS2,     2,  7,     16,     16,2,20030424,0853, 22.7482,-158.0023, 4725,     25,     24.2,  24.6712,  35.0093,2,  35.0092,2,    232.7,2, 24.6660,   -999.0,5,  -999.00,9,  -999.00,9,  -999.00,9,  -999.0,-999.000
     33KI147_1,  PRS2,     2,  7,     15,     23,2,20030424,0853, 22.7482,-158.0023, 4725,     25,     24.3,  24.6717,  35.0094,2,  35.0094,2,    232.7,2, 24.6665,    201.4,3,  -999.00,9,  -999.00,9,  -999.00,9,  -999.0,-999.000
     33KI147_1,  PRS2,     2,  7,     14,     40,3,20030424,0853, 22.7482,-158.0023, 4725,     35,     33.7,  24.6767,  35.0108,2,  35.0081,2,    232.7,2, 24.6694,   -999.0,5,  -999.00,9,  -999.00,9,  -999.00,9,  -999.0,-999.000
     33KI147_1,  PRS2,     2,  7,     13,     13,2,20030424,0853, 22.7482,-158.0023, 4725,     46,     44.4,  24.6820,  35.0152,2,  35.0181,2,    233.9,2, 24.6724,    199.6,3,  -999.00,9,  -999.00,9,  -999.00,9,  -999.0,-999.000
     33KI147_1,  PRS2,     2,  7,     12,     12,2,20030424,0853, 22.7482,-158.0023, 4725,     60,     59.0,  23.6060,  35.3337,2,  35.3007,3,    239.8,3, 23.5938,   -999.0,5,  -999.00,9,  -999.00,9,  -999.00,9,  -999.0,-999.000
     33KI147_1,  PRS2,     2,  7,     11,     39,2,20030424,0853, 22.7482,-158.0023, 4725,     74,     73.9,  23.2856,  35.3726,2,  35.3737,2,    240.4,2, 23.2704,    206.0,3,  -999.00,9,  -999.00,9,  -999.00,9,  -999.0,-999.000
     33KI147_1,  PRS2,     2,  7,     10,     32,2,20030424,0853, 22.7482,-158.0023, 4725,     84,     83.4,  22.0397,  35.3513,2,  35.3482,2,    247.8,2, 22.0231,   -999.0,5,  -999.00,9,  -999.00,9,  -999.00,9,  -999.0,-999.000
     33KI147_1,  PRS2,     2,  7,      9,      3,2,20030424,0853, 22.7482,-158.0023, 4725,    100,     98.7,  21.1436,  35.3053,2,  35.3058,2,    240.9,2, 21.1246,    209.3,3,  -999.00,9,  -999.00,9,  -999.00,9,  -999.0,-999.000
     33KI147_1,  PRS2,     2,  7,      8,     29,2,20030424,0853, 22.7482,-158.0023, 4725,    115,    114.2,  20.5000,  35.2412,2,  35.2398,2,    238.3,2, 20.4785,    205.5,3,  -999.00,9,  -999.00,9,  -999.00,9,  -999.0,-999.000
     33KI147_1,  PRS2,     2,  7,      7,     28,2,20030424,0853, 22.7482,-158.0023, 4725,    125,    123.7,  20.0563,  35.1881,2,  35.1896,2,    234.4,2, 20.0333,    204.1,3,  -999.00,9,  -999.00,9,  -999.00,9,  -999.0,-999.000
     33KI147_1,  PRS2,     2,  7,      6,      7,2,20030424,0853, 22.7482,-158.0023, 4725,    150,    149.4,  18.9336,  35.0300,2,  35.0209,2,    223.8,2, 18.9071,    195.0,3,  -999.00,9,  -999.00,9,  -999.00,9,  -999.0,-999.000
     33KI147_1,  PRS2,     2,  7,      5,     38,2,20030424,0853, 22.7482,-158.0023, 4725,    164,    164.0,  18.4701,  34.9579,2,  34.9750,2,    220.6,2, 18.4414,    194.0,3,  -999.00,9,  -999.00,9,  -999.00,9,  -999.0,-999.000
     33KI147_1,  PRS2,     2,  7,      4,     36,2,20030424,0853, 22.7482,-158.0023, 4725,    176,    174.3,  18.1488,  34.9095,2,  34.9091,2,    221.6,2, 18.1187,    193.0,3,  -999.00,9,  -999.00,9,  -999.00,9,  -999.0,-999.000
     33KI147_1,  PRS2,     2,  7,      3,     35,2,20030424,0853, 22.7482,-158.0023, 4725,    201,    200.2,  16.5303,  34.6834,2,  34.6873,2,    222.4,2, 16.4980,    194.2,3,  -999.00,9,  -999.00,9,  -999.00,9,  -999.0,-999.000
     33KI147_1,  PRS2,     2,  7,      2,     34,2,20030424,0853, 22.7482,-158.0023, 4725,    521,    520.1,   6.7682,  34.0320,2,  34.0311,2,    116.8,2,  6.7201,    107.7,3,  -999.00,9,  -999.00,9,  -999.00,9,  -999.0,-999.000
     33KI147_1,  PRS2,     2,  7,      1,     33,2,20030424,0853, 22.7482,-158.0023, 4725,   1020,   1018.8,   4.0377,  34.4956,2,  34.4962,2,     41.9,2,  3.9602,     36.5,3,  -999.00,9,  -999.00,9,  -999.00,9,  -999.0,-999.000