BOTTLE,20090923WHPSIOMYS
EXPOCODE,SECT_ID,STNNBR,CASTNO,SAMPNO,BTLNBR,BTLNBR_FLAG_W,DATE,TIME,LATITUDE,LONGITUDE,DEPTH,CTDRAW,CTDPRS,CTDTMP,CTDSAL,CTDSAL_FLAG_W,SALNTY,SALNTY_FLAG_W,CTDOXY,CTDOXY_FLAG_W,THETA,OXYGEN,OXYGEN_FLAG_W,SILCAT,SILCAT_FLAG_W,NO2+NO3,NO2+NO3_FLAG_W,PHSPHT,PHSPHT_FLAG_W,REVPRS,REVTMP
,,,,,,,,,,,,,DBAR,ITS-90,PSS-78,,PSS-78,,UMOL/KG,,ITS-90,UMOL/KG,,UMOL/KG,,UMOL/KG,,UMOL/KG,,DBAR,DEG C
     33KI147_1,  PRS2,     2,  8,     21,     21,2,20030424,1150, 22.7465,-158.0095, 4724,      5,      4.2,  24.6452,  35.0211,2,  35.0248,2,    234.0,1, 24.6443,   -999.0,9,  -999.00,9,  -999.00,9,  -999.00,9,  -999.0,-999.000
     33KI147_1,  PRS2,     2,  8,     20,     20,2,20030424,1150, 22.7465,-158.0095, 4724,      6,      4.2,  24.6467,  35.0215,2,  35.0191,2,    233.9,1, 24.6458,   -999.0,9,  -999.00,9,  -999.00,9,  -999.00,9,  -999.0,-999.000
     33KI147_1,  PRS2,     2,  8,     19,     19,2,20030424,1150, 22.7465,-158.0095, 4724,      5,      4.3,  24.6482,  35.0213,2,  35.0246,2,    233.9,1, 24.6473,   -999.0,9,  -999.00,9,  -999.00,9,  -999.00,9,  -999.0,-999.000
     33KI147_1,  PRS2,     2,  8,     16,     16,3,20030424,1150, 22.7465,-158.0095, 4724,     23,     23.8,  24.6606,  35.0224,2,  35.0199,2,    233.7,1, 24.6555,   -999.0,9,  -999.00,9,  -999.00,9,  -999.00,9,  -999.0,-999.000
     33KI147_1,  PRS2,     2,  8,     18,     18,2,20030424,1150, 22.7465,-158.0095, 4724,     24,     24.2,  24.6607,  35.0221,2,  35.0191,2,    233.8,1, 24.6556,   -999.0,9,  -999.00,9,  -999.00,9,  -999.00,9,  -999.0,-999.000
     33KI147_1,  PRS2,     2,  8,     17,     17,2,20030424,1150, 22.7465,-158.0095, 4724,     25,     24.2,  24.6608,  35.0222,2,  35.0203,2,    233.8,1, 24.6556,   -999.0,9,  -999.00,9,  -999.00,9,  -999.00,9,  -999.0,-999.000
     33KI147_1,  PRS2,     2,  8,     15,     23,2,20030424,1150, 22.7465,-158.0095, 4724,     44,     43.9,  24.6637,  35.0232,2,  35.0248,2,    233.6,1, 24.6543,   -999.0,9,  -999.00,9,  -999.00,9,  -999.00,9,  -999.0,-999.000
     33KI147_1,  PRS2,     2,  8,     14,     40,3,20030424,1150, 22.7465,-158.0095, 4724,     45,     44.1,  24.6631,  35.0224,2,  35.0220,2,    233.6,1, 24.6537,   -999.0,9,  -999.00,9,  -999.00,9,  -999.00,9,  -999.0,-999.000
     33KI147_1,  PRS2,     2,  8,     13,     13,2,20030424,1150, 22.7465,-158.0095, 4724,     47,     44.5,  24.6613,  35.0233,2,  35.0220,2,    233.6,1, 24.6518,   -999.0,9,  -999.00,9,  -999.00,9,  -999.00,9,  -999.0,-999.000
     33KI147_1,  PRS2,     2,  8,     12,     12,2,20030424,1150, 22.7465,-158.0095, 4724,     75,     74.3,  21.6106,  35.3272,2,  35.3330,2,    244.3,1, 21.5961,   -999.0,9,  -999.00,9,  -999.00,9,  -999.00,9,  -999.0,-999.000
     33KI147_1,  PRS2,     2,  8,     11,     39,2,20030424,1150, 22.7465,-158.0095, 4724,     74,     74.5,  21.6582,  35.3300,2,  35.3411,2,    244.2,1, 21.6437,   -999.0,9,  -999.00,9,  -999.00,9,  -999.00,9,  -999.0,-999.000
     33KI147_1,  PRS2,     2,  8,     10,     32,2,20030424,1150, 22.7465,-158.0095, 4724,     75,     74.5,  21.7093,  35.3318,2,  35.3265,2,    244.1,1, 21.6947,   -999.0,9,  -999.00,9,  -999.00,9,  -999.00,9,  -999.0,-999.000
     33KI147_1,  PRS2,     2,  8,      7,     28,2,20030424,1150, 22.7465,-158.0095, 4724,     99,     99.2,  20.7423,  35.2659,2,  35.2633,2,    239.3,1, 20.7235,   -999.0,9,  -999.00,9,  -999.00,9,  -999.00,9,  -999.0,-999.000
     33KI147_1,  PRS2,     2,  8,      9,      3,2,20030424,1150, 22.7465,-158.0095, 4724,     99,     99.4,  20.7458,  35.2666,2,  35.2637,2,    239.1,1, 20.7270,   -999.0,9,  -999.00,9,  -999.00,9,  -999.00,9,  -999.0,-999.000
     33KI147_1,  PRS2,     2,  8,      8,     29,2,20030424,1150, 22.7465,-158.0095, 4724,     99,     99.4,  20.7447,  35.2663,2,  35.2674,2,    239.2,1, 20.7259,   -999.0,9,  -999.00,9,  -999.00,9,  -999.00,9,  -999.0,-999.000
     33KI147_1,  PRS2,     2,  8,      6,      7,2,20030424,1150, 22.7465,-158.0095, 4724,    126,    124.5,  19.8396,  35.1640,2,  35.1687,2,    231.2,1, 19.8167,   -999.0,9,  -999.00,9,  -999.00,9,  -999.00,9,  -999.0,-999.000
     33KI147_1,  PRS2,     2,  8,      5,     38,2,20030424,1150, 22.7465,-158.0095, 4724,    124,    124.6,  19.8662,  35.1671,2,  35.1733,2,    230.9,1, 19.8433,   -999.0,9,  -999.00,9,  -999.00,9,  -999.00,9,  -999.0,-999.000
     33KI147_1,  PRS2,     2,  8,      4,     36,2,20030424,1150, 22.7465,-158.0095, 4724,    149,    148.8,  18.9403,  35.0404,2,  35.0443,2,    228.3,1, 18.9139,   -999.0,9,  -999.00,9,  -999.00,9,  -999.00,9,  -999.0,-999.000
     33KI147_1,  PRS2,     2,  8,      3,     35,2,20030424,1150, 22.7465,-158.0095, 4724,    178,    177.2,  17.5894,  34.8328,2,  34.8528,3,    225.0,1, 17.5595,   -999.0,9,  -999.00,9,  -999.00,9,  -999.00,9,  -999.0,-999.000
     33KI147_1,  PRS2,     2,  8,      2,     34,2,20030424,1150, 22.7465,-158.0095, 4724,    520,    520.3,   6.6281,  34.0328,2,  34.0317,2,    112.9,1,  6.5804,   -999.0,9,  -999.00,9,  -999.00,9,  -999.00,9,  -999.0,-999.000
     33KI147_1,  PRS2,     2,  8,      1,     33,2,20030424,1150, 22.7465,-158.0095, 4724,   1021,   1020.9,   3.9970,  34.4984,2,  34.4993,2,     42.6,1,  3.9196,   -999.0,9,  -999.00,9,  -999.00,9,  -999.00,9,  -999.0,-999.000
     33KI147_1,  PRS2,     2,  9,      5,     38,2,20030424,1458, 22.7505,-157.9998, 4723,      5,      3.8,  24.6489,  35.0642,2,  35.0608,2,    233.8,1, 24.6481,   -999.0,9,  -999.00,9,  -999.00,9,  -999.00,9,  -999.0,-999.000
     33KI147_1,  PRS2,     2,  9,      4,     36,2,20030424,1458, 22.7505,-157.9998, 4723,     60,     58.7,  23.4127,  35.3801,2,  35.3762,2,    240.6,1, 23.4006,   -999.0,9,  -999.00,9,  -999.00,9,  -999.00,9,  -999.0,-999.000
     33KI147_1,  PRS2,     2,  9,      3,     35,2,20030424,1458, 22.7505,-157.9998, 4723,    500,    500.2,   6.6210,  34.0325,2,  34.0335,2,    109.9,1,  6.5753,   -999.0,9,  -999.00,9,  -999.00,9,  -999.00,9,  -999.0,-999.000
     33KI147_1,  PRS2,     2,  9,      2,     34,2,20030424,1458, 22.7505,-157.9998, 4723,    804,    802.3,   4.6609,  34.3841,2,  34.3827,2,     28.1,1,  4.5974,   -999.0,9,  -999.00,9,  -999.00,9,  -999.00,9,  -999.0,-999.000
     33KI147_1,  PRS2,     2,  9,      1,     33,2,20030424,1458, 22.7505,-157.9998, 4723,   1020,   1017.9,   3.9567,  34.5024,2,  34.5027,2,     43.5,1,  3.8799,   -999.0,9,  -999.00,9,  -999.00,9,  -999.00,9,  -999.0,-999.000
     33KI147_1,  PRS2,     2, 10,     10,     32,2,20030424,1754, 22.7777,-157.9827, 4708,      5,      3.9,  24.6216,  35.0653,2,  35.0652,2,    233.8,1, 24.6208,   -999.0,9,  -999.00,9,  -999.00,9,  -999.00,9,  -999.0,-999.000
     33KI147_1,  PRS2,     2, 10,      9,      3,2,20030424,1754, 22.7777,-157.9827, 4708,     25,     24.6,  24.6232,  35.0653,2,  35.0669,2,    233.7,1, 24.6179,   -999.0,9,  -999.00,9,  -999.00,9,  -999.00,9,  -999.0,-999.000
     33KI147_1,  PRS2,     2, 10,      8,     29,2,20030424,1754, 22.7777,-157.9827, 4708,     45,     44.3,  24.5962,  35.0740,2,  35.0665,2,    233.5,1, 24.5867,   -999.0,9,  -999.00,9,  -999.00,9,  -999.00,9,  -999.0,-999.000
     33KI147_1,  PRS2,     2, 10,      7,     28,2,20030424,1754, 22.7777,-157.9827, 4708,     74,     74.3,  22.9482,  35.3644,2,  35.3719,2,    241.1,1, 22.9330,   -999.0,9,  -999.00,9,  -999.00,9,  -999.00,9,  -999.0,-999.000
     33KI147_1,  PRS2,     2, 10,      6,      7,2,20030424,1754, 22.7777,-157.9827, 4708,    100,     99.2,  20.8406,  35.2812,2,  35.2879,2,    240.5,1, 20.8217,   -999.0,9,  -999.00,9,  -999.00,9,  -999.00,9,  -999.0,-999.000
     33KI147_1,  PRS2,     2, 10,      5,     38,2,20030424,1754, 22.7777,-157.9827, 4708,    124,    123.6,  19.7272,  35.1501,2,  35.1352,3,    228.7,1, 19.7045,   -999.0,9,  -999.00,9,  -999.00,9,  -999.00,9,  -999.0,-999.000
     33KI147_1,  PRS2,     2, 10,      4,     36,2,20030424,1754, 22.7777,-157.9827, 4708,    150,    149.4,  18.8355,  35.0237,2,  35.0297,2,    226.2,1, 18.8090,   -999.0,9,  -999.00,9,  -999.00,9,  -999.00,9,  -999.0,-999.000
     33KI147_1,  PRS2,     2, 10,      3,     35,2,20030424,1754, 22.7777,-157.9827, 4708,    178,    177.5,  17.6706,  34.8434,2,  34.8523,2,    221.2,1, 17.6405,   -999.0,9,  -999.00,9,  -999.00,9,  -999.00,9,  -999.0,-999.000
     33KI147_1,  PRS2,     2, 10,      2,     34,2,20030424,1754, 22.7777,-157.9827, 4708,    499,    497.9,   6.9188,  34.0324,2,  34.0321,2,    120.9,1,  6.8722,   -999.0,9,  -999.00,9,  -999.00,9,  -999.00,9,  -999.0,-999.000
     33KI147_1,  PRS2,     2, 10,      1,     33,2,20030424,1754, 22.7777,-157.9827, 4708,   1021,   1020.2,   4.0266,  34.4965,2,  34.4977,2,     42.2,1,  3.9490,   -999.0,9,  -999.00,9,  -999.00,9,  -999.00,9,  -999.0,-999.000
     33KI147_1,  PRS2,     2, 11,      4,     36,2,20030424,2055, 22.8048,-157.9537, 4685,      5,      4.1,  24.6575,  35.0628,2,  35.0590,2,    232.4,1, 24.6567,   -999.0,9,  -999.00,9,  -999.00,9,  -999.00,9,  -999.0,-999.000
     33KI147_1,  PRS2,     2, 11,      3,     35,2,20030424,2055, 22.8048,-157.9537, 4685,     77,     75.7,  23.4366,  35.3800,2,  35.3559,4,    239.9,1, 23.4209,   -999.0,9,  -999.00,9,  -999.00,9,  -999.00,9,  -999.0,-999.000
     33KI147_1,  PRS2,     2, 11,      2,     34,2,20030424,2055, 22.8048,-157.9537, 4685,    497,    496.8,   7.1392,  34.0342,2,  34.0323,2,    131.5,1,  7.0918,   -999.0,9,  -999.00,9,  -999.00,9,  -999.00,9,  -999.0,-999.000
     33KI147_1,  PRS2,     2, 11,      1,     33,2,20030424,2055, 22.8048,-157.9537, 4685,   1021,   1020.5,   4.0284,  34.4934,2,  34.4926,2,     42.5,1,  3.9508,   -999.0,9,  -999.00,9,  -999.00,9,  -999.00,9,  -999.0,-999.000
     33KI147_1,  PRS2,     2, 12,     11,     39,2,20030425,0002, 22.8125,-157.9383, 4671,      6,      4.6,  24.7183,  35.0675,2,  35.0657,2,    233.2,1, 24.7173,   -999.0,9,  -999.00,9,  -999.00,9,  -999.00,9,  -999.0,-999.000
     33KI147_1,  PRS2,     2, 12,     10,     32,2,20030425,0002, 22.8125,-157.9383, 4671,     26,     24.8,  24.6553,  35.0710,2,  35.0807,2,    233.9,1, 24.6499,   -999.0,9,  -999.00,9,  -999.00,9,  -999.00,9,  -999.0,-999.000
     33KI147_1,  PRS2,     2, 12,      9,      3,2,20030425,0002, 22.8125,-157.9383, 4671,     46,     44.5,  24.6389,  35.0802,2,  35.0825,2,    233.9,1, 24.6294,   -999.0,9,  -999.00,9,  -999.00,9,  -999.00,9,  -999.0,-999.000
     33KI147_1,  PRS2,     2, 12,      8,     29,2,20030425,0002, 22.8125,-157.9383, 4671,     74,     74.1,  23.3730,  35.3785,2,  35.3778,2,    240.3,1, 23.3576,   -999.0,9,  -999.00,9,  -999.00,9,  -999.00,9,  -999.0,-999.000
     33KI147_1,  PRS2,     2, 12,      7,     28,2,20030425,0002, 22.8125,-157.9383, 4671,    100,     98.7,  21.6871,  35.3411,2,  35.3319,2,    245.6,1, 21.6678,   -999.0,9,  -999.00,9,  -999.00,9,  -999.00,9,  -999.0,-999.000
     33KI147_1,  PRS2,     2, 12,      6,      7,2,20030425,0002, 22.8125,-157.9383, 4671,    130,    129.7,  20.0080,  35.1811,2,  35.1847,2,    234.6,1, 19.9840,   -999.0,9,  -999.00,9,  -999.00,9,  -999.00,9,  -999.0,-999.000
     33KI147_1,  PRS2,     2, 12,      5,     38,2,20030425,0002, 22.8125,-157.9383, 4671,    148,    147.9,  19.4793,  35.1093,2,  35.1087,2,    228.8,1, 19.4524,   -999.0,9,  -999.00,9,  -999.00,9,  -999.00,9,  -999.0,-999.000
     33KI147_1,  PRS2,     2, 12,      4,     36,2,20030425,0002, 22.8125,-157.9383, 4671,    255,    252.0,  13.6945,  34.3592,2,  34.3580,2,    221.7,1, 13.6587,   -999.0,9,  -999.00,9,  -999.00,9,  -999.00,9,  -999.0,-999.000
     33KI147_1,  PRS2,     2, 12,      3,     35,2,20030425,0002, 22.8125,-157.9383, 4671,    350,    348.8,  10.6592,  34.2026,2,  34.1991,2,    214.8,1, 10.6171,   -999.0,9,  -999.00,9,  -999.00,9,  -999.00,9,  -999.0,-999.000
     33KI147_1,  PRS2,     2, 12,      2,     34,2,20030425,0002, 22.8125,-157.9383, 4671,    747,    746.9,   4.9469,  34.3110,2,  34.3093,2,     26.4,1,  4.8865,   -999.0,9,  -999.00,9,  -999.00,9,  -999.00,9,  -999.0,-999.000
     33KI147_1,  PRS2,     2, 12,      1,     33,2,20030425,0002, 22.8125,-157.9383, 4671,   1023,   1022.2,   4.0748,  34.4884,2,  34.4905,2,     41.5,1,  3.9967,   -999.0,9,  -999.00,9,  -999.00,9,  -999.00,9,  -999.0,-999.000
     33KI147_1,  PRS2,     2, 13,      4,     36,2,20030425,0247, 22.8277,-157.9810, 4545,      6,      4.9,  24.7037,  35.1137,2,  35.1116,2,    233.7,1, 24.7027,   -999.0,9,  -999.00,9,  -999.00,9,  -999.00,9,  -999.0,-999.000
     33KI147_1,  PRS2,     2, 13,      3,     35,2,20030425,0247, 22.8277,-157.9810, 4545,     74,     73.9,  23.2587,  35.3708,2,  35.3855,4,    241.1,1, 23.2435,   -999.0,9,  -999.00,9,  -999.00,9,  -999.00,9,  -999.0,-999.000
     33KI147_1,  PRS2,     2, 13,      2,     34,2,20030425,0247, 22.8277,-157.9810, 4545,    503,    500.9,   7.1483,  34.0325,2,  34.0315,2,    138.3,1,  7.1006,   -999.0,9,  -999.00,9,  -999.00,9,  -999.00,9,  -999.0,-999.000
     33KI147_1,  PRS2,     2, 13,      1,     33,2,20030425,0247, 22.8277,-157.9810, 4545,   1021,   1020.7,   4.0916,  34.4884,2,  34.4881,2,     40.9,1,  4.0136,   -999.0,9,  -999.00,9,  -999.00,9,  -999.00,9,  -999.0,-999.000
     33KI147_1,  PRS2,     2, 14,     22,     22,2,20030425,0556, 22.7538,-157.9995, 4003,      5,      4.6,  24.7711,  35.1176,2,  35.1144,2,    233.1,1, 24.7701,   -999.0,9,  -999.00,9,  -999.00,9,  -999.00,9,  -999.0,-999.000
     33KI147_1,  PRS2,     2, 14,     21,     21,2,20030425,0556, 22.7538,-157.9995, 4003,      6,      4.6,  24.7722,  35.1177,2,  35.1177,2,    233.3,1, 24.7712,   -999.0,9,  -999.00,9,  -999.00,9,  -999.00,9,  -999.0,-999.000
     33KI147_1,  PRS2,     2, 14,     20,     20,2,20030425,0556, 22.7538,-157.9995, 4003,     24,     23.4,  24.7835,  35.1177,2,  35.1142,2,    233.3,1, 24.7785,   -999.0,9,  -999.00,9,  -999.00,9,  -999.00,9,  -999.0,-999.000
     33KI147_1,  PRS2,     2, 14,     19,     19,2,20030425,0556, 22.7538,-157.9995, 4003,     25,     23.5,  24.7858,  35.1179,2,  35.1148,2,    233.2,1, 24.7808,   -999.0,9,  -999.00,9,  -999.00,9,  -999.00,9,  -999.0,-999.000
     33KI147_1,  PRS2,     2, 14,     18,     18,2,20030425,0556, 22.7538,-157.9995, 4003,     45,     44.4,  24.7464,  35.1337,2,  35.1276,2,    233.1,1, 24.7369,   -999.0,9,  -999.00,9,  -999.00,9,  -999.00,9,  -999.0,-999.000
     33KI147_1,  PRS2,     2, 14,     17,     17,2,20030425,0556, 22.7538,-157.9995, 4003,     45,     44.5,  24.7498,  35.1335,2,  35.1270,2,    233.1,1, 24.7402,   -999.0,9,  -999.00,9,  -999.00,9,  -999.00,9,  -999.0,-999.000
     33KI147_1,  PRS2,     2, 14,     16,     16,2,20030425,0556, 22.7538,-157.9995, 4003,     61,     60.4,  24.0058,  35.2449,2,  35.2637,3,    237.6,1, 23.9931,   -999.0,9,  -999.00,9,  -999.00,9,  -999.00,9,  -999.0,-999.000
     33KI147_1,  PRS2,     2, 14,     15,     23,2,20030425,0556, 22.7538,-157.9995, 4003,     73,     72.9,  23.2475,  35.3569,2,  35.3510,2,    241.8,1, 23.2325,   -999.0,9,  -999.00,9,  -999.00,9,  -999.00,9,  -999.0,-999.000
     33KI147_1,  PRS2,     2, 14,     14,     40,3,20030425,0556, 22.7538,-157.9995, 4003,     75,     73.2,  23.2416,  35.3564,2,  35.3500,2,    241.8,1, 23.2265,   -999.0,9,  -999.00,9,  -999.00,9,  -999.00,9,  -999.0,-999.000
     33KI147_1,  PRS2,     2, 14,     13,     13,2,20030425,0556, 22.7538,-157.9995, 4003,     84,     84.3,  22.9216,  35.3631,2,  35.3630,2,    242.6,1, 22.9044,   -999.0,9,  -999.00,9,  -999.00,9,  -999.00,9,  -999.0,-999.000
     33KI147_1,  PRS2,     2, 14,     11,     39,2,20030425,0556, 22.7538,-157.9995, 4003,     99,     99.2,  21.6198,  35.3300,2,  35.3291,2,    243.2,1, 21.6004,   -999.0,9,  -999.00,9,  -999.00,9,  -999.00,9,  -999.0,-999.000
     33KI147_1,  PRS2,     2, 14,     12,     12,2,20030425,0556, 22.7538,-157.9995, 4003,     99,     99.3,  21.6160,  35.3298,2,  35.3303,2,    243.4,1, 21.5966,   -999.0,9,  -999.00,9,  -999.00,9,  -999.00,9,  -999.0,-999.000
     33KI147_1,  PRS2,     2, 14,     10,     32,2,20030425,0556, 22.7538,-157.9995, 4003,    115,    114.8,  21.0447,  35.2978,2,  35.2944,2,    241.3,1, 21.0227,   -999.0,9,  -999.00,9,  -999.00,9,  -999.00,9,  -999.0,-999.000
     33KI147_1,  PRS2,     2, 14,      8,     29,2,20030425,0556, 22.7538,-157.9995, 4003,    123,    123.6,  20.6283,  35.2615,2,  35.2623,2,    239.0,1, 20.6050,   -999.0,9,  -999.00,9,  -999.00,9,  -999.00,9,  -999.0,-999.000
     33KI147_1,  PRS2,     2, 14,      9,      3,2,20030425,0556, 22.7538,-157.9995, 4003,    124,    123.7,  20.6200,  35.2607,2,  35.2580,2,    239.0,1, 20.5966,   -999.0,9,  -999.00,9,  -999.00,9,  -999.00,9,  -999.0,-999.000
     33KI147_1,  PRS2,     2, 14,      7,     28,2,20030425,0556, 22.7538,-157.9995, 4003,    138,    136.7,  20.0041,  35.1846,2,  35.1868,2,    233.2,1, 19.9788,   -999.0,9,  -999.00,9,  -999.00,9,  -999.00,9,  -999.0,-999.000
     33KI147_1,  PRS2,     2, 14,      5,     38,2,20030425,0556, 22.7538,-157.9995, 4003,    148,    148.3,  19.6362,  35.1295,2,  35.1394,2,    229.0,1, 19.6092,   -999.0,9,  -999.00,9,  -999.00,9,  -999.00,9,  -999.0,-999.000
     33KI147_1,  PRS2,     2, 14,      6,      7,2,20030425,0556, 22.7538,-157.9995, 4003,    149,    148.7,  19.5959,  35.1259,2,  35.1417,3,    229.3,1, 19.5688,   -999.0,9,  -999.00,9,  -999.00,9,  -999.00,9,  -999.0,-999.000
     33KI147_1,  PRS2,     2, 14,      3,     35,2,20030425,0556, 22.7538,-157.9995, 4003,    174,    173.2,  17.9552,  34.8853,2,  34.8900,2,    222.6,1, 17.9255,   -999.0,9,  -999.00,9,  -999.00,9,  -999.00,9,  -999.0,-999.000
     33KI147_1,  PRS2,     2, 14,      4,     36,2,20030425,0556, 22.7538,-157.9995, 4003,    174,    173.5,  17.9455,  34.8836,2,  34.8934,2,    222.9,1, 17.9158,   -999.0,9,  -999.00,9,  -999.00,9,  -999.00,9,  -999.0,-999.000
     33KI147_1,  PRS2,     2, 14,      2,     34,2,20030425,0556, 22.7538,-157.9995, 4003,    518,    517.4,   6.7018,  34.0323,2,  34.0311,2,    108.7,1,  6.6542,   -999.0,9,  -999.00,9,  -999.00,9,  -999.00,9,  -999.0,-999.000
     33KI147_1,  PRS2,     2, 14,      1,     33,2,20030425,0556, 22.7538,-157.9995, 4003,   1021,   1019.7,   3.9977,  34.4983,2,  34.4981,2,     42.7,1,  3.9204,   -999.0,9,  -999.00,9,  -999.00,9,  -999.00,9,  -999.0,-999.000