BOTTLE,20090923WHPSIOMYS
EXPOCODE,SECT_ID,STNNBR,CASTNO,SAMPNO,BTLNBR,BTLNBR_FLAG_W,DATE,TIME,LATITUDE,LONGITUDE,DEPTH,CTDRAW,CTDPRS,CTDTMP,CTDSAL,CTDSAL_FLAG_W,SALNTY,SALNTY_FLAG_W,CTDOXY,CTDOXY_FLAG_W,THETA,OXYGEN,OXYGEN_FLAG_W,SILCAT,SILCAT_FLAG_W,NO2+NO3,NO2+NO3_FLAG_W,PHSPHT,PHSPHT_FLAG_W,REVPRS,REVTMP
,,,,,,,,,,,,,DBAR,ITS-90,PSS-78,,PSS-78,,UMOL/KG,,ITS-90,UMOL/KG,,UMOL/KG,,UMOL/KG,,UMOL/KG,,DBAR,DEG C
     33KI147_1,  PRS2,     2, 15,     11,     39,2,20030425,0856, 22.7525,-157.9895, 5030,      5,      4.1,  24.7771,  35.0915,2,  35.1000,2,    232.7,2, 24.7762,    204.0,3,  -999.00,9,  -999.00,9,  -999.00,9,  -999.0,-999.000
     33KI147_1,  PRS2,     2, 15,     10,     32,2,20030425,0856, 22.7525,-157.9895, 5030,     75,     74.9,  23.0530,  35.3580,2,  35.3518,2,    242.2,2, 23.0377,    212.5,3,  -999.00,9,  -999.00,9,  -999.00,9,  -999.0,-999.000
     33KI147_1,  PRS2,     2, 15,      9,      3,2,20030425,0856, 22.7525,-157.9895, 5030,    104,    103.4,  20.9816,  35.2922,2,  35.2926,2,    241.3,2, 20.9618,    212.4,3,  -999.00,9,  -999.00,9,  -999.00,9,  -999.0,-999.000
     33KI147_1,  PRS2,     2, 15,      8,     29,2,20030425,0856, 22.7525,-157.9895, 5030,    252,    251.2,  14.0194,  34.3897,2,  34.3974,2,    224.8,2, 13.9832,    202.4,3,  -999.00,9,  -999.00,9,  -999.00,9,  -999.0,-999.000
     33KI147_1,  PRS2,     2, 15,      7,     28,2,20030425,0856, 22.7525,-157.9895, 5030,    499,    499.1,   6.8458,  34.0318,2,  34.0317,2,    119.5,2,  6.7994,    112.7,3,  -999.00,9,  -999.00,9,  -999.00,9,  -999.0,-999.000
     33KI147_1,  PRS2,     2, 15,      6,      7,2,20030425,0856, 22.7525,-157.9895, 5030,    751,    750.8,   4.8419,  34.2909,2,  34.2895,2,     26.5,2,  4.7818,     22.4,3,  -999.00,9,  -999.00,9,  -999.00,9,  -999.0,-999.000
     33KI147_1,  PRS2,     2, 15,      5,     38,2,20030425,0856, 22.7525,-157.9895, 5030,   1001,   1000.6,   4.0951,  34.4872,2,  34.4887,2,     40.8,2,  4.0187,     39.1,3,  -999.00,9,  -999.00,9,  -999.00,9,  -999.0,-999.000
     33KI147_1,  PRS2,     2, 15,      4,     36,2,20030425,0856, 22.7525,-157.9895, 5030,   1999,   1998.0,   2.1559,  34.6151,2,  34.6162,2,     87.4,2,  2.0173,     81.4,3,  -999.00,9,  -999.00,9,  -999.00,9,  -999.0,-999.000
     33KI147_1,  PRS2,     2, 15,      3,     35,2,20030425,0856, 22.7525,-157.9895, 5030,   3000,   2999.2,   1.5519,  34.6677,2,  34.6686,2,    125.0,2,  1.3341,    119.7,3,  -999.00,9,  -999.00,9,  -999.00,9,  -999.0,-999.000
     33KI147_1,  PRS2,     2, 15,      2,     34,2,20030425,0856, 22.7525,-157.9895, 5030,   3996,   3994.1,   1.4565,  34.6847,2,  34.6851,2,    150.3,2,  1.1394,    141.8,3,  -999.00,9,  -999.00,9,  -999.00,9,  -999.0,-999.000
     33KI147_1,  PRS2,     2, 15,      1,     33,2,20030425,0856, 22.7525,-157.9895, 5030,   4785,   4785.2,   1.5184,  34.6874,2,-999.0000,5,    156.6,2,  1.1094,   -999.0,5,  -999.00,9,  -999.00,9,  -999.00,9,  -999.0,-999.000
     33KI147_1,  PRS2,     6,  1,     14,     40,2,20030426,0630, 21.8478,-158.3642, 2560,      5,      4.5,  25.2233,  35.0191,2,  35.0274,2,    227.7,1, 25.2224,   -999.0,9,  -999.00,9,  -999.00,9,  -999.00,9,  -999.0,-999.000
     33KI147_1,  PRS2,     6,  1,     13,     13,2,20030426,0630, 21.8478,-158.3642, 2560,     26,     24.8,  25.2276,  35.0222,2,  35.0189,2,    229.1,1, 25.2222,   -999.0,9,  -999.00,9,  -999.00,9,  -999.00,9,  -999.0,-999.000
     33KI147_1,  PRS2,     6,  1,     12,     12,2,20030426,0630, 21.8478,-158.3642, 2560,     45,     44.7,  25.2210,  35.0579,2,  35.0492,2,    230.1,1, 25.2112,   -999.0,9,  -999.00,9,  -999.00,9,  -999.00,9,  -999.0,-999.000
     33KI147_1,  PRS2,     6,  1,     11,     39,2,20030426,0630, 21.8478,-158.3642, 2560,     75,     75.4,  22.9372,  35.2308,2,  35.2357,2,    233.4,1, 22.9218,   -999.0,9,  -999.00,9,  -999.00,9,  -999.00,9,  -999.0,-999.000
     33KI147_1,  PRS2,     6,  1,     10,     32,2,20030426,0630, 21.8478,-158.3642, 2560,     99,     98.9,  22.1689,  35.2374,2,  35.2335,2,    228.9,1, 22.1493,   -999.0,9,  -999.00,9,  -999.00,9,  -999.00,9,  -999.0,-999.000
     33KI147_1,  PRS2,     6,  1,      9,      3,2,20030426,0630, 21.8478,-158.3642, 2560,    124,    123.6,  21.3273,  35.2211,2,  35.2288,2,    215.9,1, 21.3034,   -999.0,9,  -999.00,9,  -999.00,9,  -999.00,9,  -999.0,-999.000
     33KI147_1,  PRS2,     6,  1,      8,     29,2,20030426,0630, 21.8478,-158.3642, 2560,    151,    149.9,  20.4463,  35.1838,2,  35.1811,2,    215.6,1, 20.4181,   -999.0,9,  -999.00,9,  -999.00,9,  -999.00,9,  -999.0,-999.000
     33KI147_1,  PRS2,     6,  1,      7,     28,2,20030426,0630, 21.8478,-158.3642, 2560,    178,    177.8,  17.9054,  34.8707,2,  34.8703,2,    205.2,1, 17.8751,   -999.0,9,  -999.00,9,  -999.00,9,  -999.00,9,  -999.0,-999.000
     33KI147_1,  PRS2,     6,  1,      6,      7,2,20030426,0630, 21.8478,-158.3642, 2560,    452,    452.3,   8.1889,  34.1112,2,  34.1099,2,    132.6,1,  8.1424,   -999.0,9,  -999.00,9,  -999.00,9,  -999.00,9,  -999.0,-999.000
     33KI147_1,  PRS2,     6,  1,      5,     38,2,20030426,0630, 21.8478,-158.3642, 2560,   1004,   1003.1,   4.1611,  34.5014,2,  34.4997,2,     46.9,1,  4.0840,   -999.0,9,  -999.00,9,  -999.00,9,  -999.00,9,  -999.0,-999.000
     33KI147_1,  PRS2,     6,  1,      4,     36,2,20030426,0630, 21.8478,-158.3642, 2560,   1502,   1501.2,   2.9436,  34.5714,2,  34.5736,2,     66.6,1,  2.8363,   -999.0,9,  -999.00,9,  -999.00,9,  -999.00,9,  -999.0,-999.000
     33KI147_1,  PRS2,     6,  1,      3,     35,2,20030426,0630, 21.8478,-158.3642, 2560,   2001,   2000.0,   2.1859,  34.6176,2,  34.6176,2,     89.1,1,  2.0467,   -999.0,9,  -999.00,9,  -999.00,9,  -999.00,9,  -999.0,-999.000
     33KI147_1,  PRS2,     6,  1,      2,     34,2,20030426,0630, 21.8478,-158.3642, 2560,   2465,   2464.4,   1.7867,  34.6481,2,  34.6476,2,    108.4,1,  1.6136,   -999.0,9,  -999.00,9,  -999.00,9,  -999.00,9,  -999.0,-999.000
     33KI147_1,  PRS2,     6,  1,      1,     33,2,20030426,0630, 21.8478,-158.3642, 2560,   2464,   2464.4,   1.7867,  34.6481,2,-999.0000,5,    108.4,1,  1.6136,   -999.0,9,  -999.00,9,  -999.00,9,  -999.00,9,  -999.0,-999.000