BOTTLE,20090923WHPSIOMYS
#code : jjward hyd_to_exchange.pl 
#original files copied from HTML directory: 20090923
#original HYD file: 33KI147_1_hy.txt   Wed Sep 23 17:54:14 2009
#original SUM file: ../33KI147_1su.txt   Wed Sep 23 17:54:12 2009
EXPOCODE,SECT_ID,STNNBR,CASTNO,SAMPNO,BTLNBR,BTLNBR_FLAG_W,DATE,TIME,LATITUDE,LONGITUDE,DEPTH,CTDRAW,CTDPRS,CTDTMP,CTDSAL,CTDSAL_FLAG_W,SALNTY,SALNTY_FLAG_W,CTDOXY,CTDOXY_FLAG_W,THETA,OXYGEN,OXYGEN_FLAG_W,SILCAT,SILCAT_FLAG_W,NO2+NO3,NO2+NO3_FLAG_W,PHSPHT,PHSPHT_FLAG_W,REVPRS,REVTMP
,,,,,,,,,,,,,DBAR,ITS-90,PSS-78,,PSS-78,,UMOL/KG,,ITS-90,UMOL/KG,,UMOL/KG,,UMOL/KG,,UMOL/KG,,DBAR,DEG C
     33KI147_1,  PRS2,     1,  1,     23,     30,2,20030422,2355, 21.3460,-158.2667, 1529,      5,      4.2,  25.1311,  35.1370,2,  35.1341,2,    231.2,2, 25.1302,    201.4,3,  -999.00,9,  -999.00,9,  -999.00,9,  -999.0,-999.000
     33KI147_1,  PRS2,     1,  1,     24,     31,3,20030422,2355, 21.3460,-158.2667, 1529,      5,      4.3,  25.1297,  35.1370,2,  35.1356,2,    231.2,2, 25.1288,    200.9,3,  -999.00,9,  -999.00,9,  -999.00,9,  -999.0,-999.000
     33KI147_1,  PRS2,     1,  1,     22,     22,2,20030422,2355, 21.3460,-158.2667, 1529,     25,     24.0,  25.0685,  35.1368,2,  35.1431,2,    231.8,2, 25.0633,    201.6,3,  -999.00,9,  -999.00,9,  -999.00,9,  -999.0,-999.000
     33KI147_1,  PRS2,     1,  1,     21,     21,2,20030422,2355, 21.3460,-158.2667, 1529,     44,     43.7,  25.0331,  35.1355,2,  35.1370,2,    232.0,2, 25.0236,    201.2,3,  -999.00,9,  -999.00,9,  -999.00,9,  -999.0,-999.000
     33KI147_1,  PRS2,     1,  1,     20,     20,2,20030422,2355, 21.3460,-158.2667, 1529,     59,     58.7,  23.6811,  35.2585,2,  35.2552,2,    237.2,2, 23.6688,    205.4,3,  -999.00,9,  -999.00,9,  -999.00,9,  -999.0,-999.000
     33KI147_1,  PRS2,     1,  1,     19,     19,2,20030422,2355, 21.3460,-158.2667, 1529,     74,     73.0,  22.8030,  35.2763,2,  35.2660,2,    232.0,2, 22.7882,    203.0,3,  -999.00,9,  -999.00,9,  -999.00,9,  -999.0,-999.000
     33KI147_1,  PRS2,     1,  1,     18,     18,2,20030422,2355, 21.3460,-158.2667, 1529,    100,     99.3,  21.1575,  35.2215,2,  35.2280,2,    221.6,2, 21.1384,    189.9,3,  -999.00,9,  -999.00,9,  -999.00,9,  -999.0,-999.000
     33KI147_1,  PRS2,     1,  1,     17,     17,2,20030422,2355, 21.3460,-158.2667, 1529,    114,    113.7,  20.6618,  35.1965,2,  35.1933,2,    208.2,2, 20.6403,    189.1,3,  -999.00,9,  -999.00,9,  -999.00,9,  -999.0,-999.000
     33KI147_1,  PRS2,     1,  1,     16,     16,2,20030422,2355, 21.3460,-158.2667, 1529,    124,    123.3,  20.1960,  35.1439,2,  35.1494,2,    208.2,2, 20.1731,    184.5,3,  -999.00,9,  -999.00,9,  -999.00,9,  -999.0,-999.000
     33KI147_1,  PRS2,     1,  1,     15,     23,2,20030422,2355, 21.3460,-158.2667, 1529,    149,    149.0,  19.4139,  35.0550,2,  35.0620,2,    203.5,2, 19.3870,    181.7,3,  -999.00,9,  -999.00,9,  -999.00,9,  -999.0,-999.000
     33KI147_1,  PRS2,     1,  1,     14,     40,2,20030422,2355, 21.3460,-158.2667, 1529,    175,    174.2,  18.5358,  34.9527,2,  34.9514,2,    209.1,2, 18.5052,    184.4,3,  -999.00,9,  -999.00,9,  -999.00,9,  -999.0,-999.000
     33KI147_1,  PRS2,     1,  1,     13,     13,2,20030422,2355, 21.3460,-158.2667, 1529,    200,    198.9,  17.4753,  34.8174,2,  34.8174,2,    209.1,2, 17.4419,    185.8,3,  -999.00,9,  -999.00,9,  -999.00,9,  -999.0,-999.000
     33KI147_1,  PRS2,     1,  1,     12,     12,2,20030422,2355, 21.3460,-158.2667, 1529,    224,    222.9,  16.1399,  34.6482,2,  34.6527,2,    211.8,2, 16.1045,    188.0,3,  -999.00,9,  -999.00,9,  -999.00,9,  -999.0,-999.000
     33KI147_1,  PRS2,     1,  1,     11,     39,2,20030422,2355, 21.3460,-158.2667, 1529,    249,    247.4,  15.1141,  34.5255,2,  34.5207,2,    207.5,2, 15.0766,    185.3,3,  -999.00,9,  -999.00,9,  -999.00,9,  -999.0,-999.000
     33KI147_1,  PRS2,     1,  1,     10,     32,2,20030422,2355, 21.3460,-158.2667, 1529,    300,    299.6,  12.0843,  34.2649,2,  34.2699,2,    195.7,2, 12.0452,    176.5,3,  -999.00,9,  -999.00,9,  -999.00,9,  -999.0,-999.000
     33KI147_1,  PRS2,     1,  1,      9,      3,2,20030422,2355, 21.3460,-158.2667, 1529,    351,    349.1,  10.2292,  34.1664,2,  34.1656,2,    173.8,2, 10.1882,    158.4,3,  -999.00,9,  -999.00,9,  -999.00,9,  -999.0,-999.000
     33KI147_1,  PRS2,     1,  1,      8,     29,2,20030422,2355, 21.3460,-158.2667, 1529,    401,    400.1,   8.7502,  34.1252,2,  34.1272,2,    146.0,2,  8.7075,    135.0,3,  -999.00,9,  -999.00,9,  -999.00,9,  -999.0,-999.000
     33KI147_1,  PRS2,     1,  1,      7,     28,2,20030422,2355, 21.3460,-158.2667, 1529,    501,    499.4,   7.0282,  34.1439,2,  34.1507,2,     96.1,2,  6.9809,     86.8,3,  -999.00,9,  -999.00,9,  -999.00,9,  -999.0,-999.000
     33KI147_1,  PRS2,     1,  1,      6,      7,2,20030422,2355, 21.3460,-158.2667, 1529,    602,    600.4,   6.1386,  34.2220,2,  34.2238,2,     57.6,2,  6.0853,     51.6,3,  -999.00,9,  -999.00,9,  -999.00,9,  -999.0,-999.000
     33KI147_1,  PRS2,     1,  1,      5,     38,2,20030422,2355, 21.3460,-158.2667, 1529,    702,    700.1,   5.3966,  34.3528,2,  34.3519,2,     33.8,2,  5.3378,     29.5,3,  -999.00,9,  -999.00,9,  -999.00,9,  -999.0,-999.000
     33KI147_1,  PRS2,     1,  1,      4,     36,2,20030422,2355, 21.3460,-158.2667, 1529,    752,    751.3,   5.2334,  34.3819,2,  34.3813,2,     34.0,2,  5.1709,     30.1,3,  -999.00,9,  -999.00,9,  -999.00,9,  -999.0,-999.000
     33KI147_1,  PRS2,     1,  1,      3,     35,2,20030422,2355, 21.3460,-158.2667, 1529,    796,    795.6,   4.9794,  34.4237,2,  34.4231,2,     35.5,2,  4.9145,     32.3,3,  -999.00,9,  -999.00,9,  -999.00,9,  -999.0,-999.000
     33KI147_1,  PRS2,     1,  1,      2,     34,2,20030422,2355, 21.3460,-158.2667, 1529,    901,    900.8,   4.6590,  34.4745,2,  34.4752,2,     39.0,2,  4.5870,     35.5,3,  -999.00,9,  -999.00,9,  -999.00,9,  -999.0,-999.000
     33KI147_1,  PRS2,     1,  1,      1,     33,2,20030422,2355, 21.3460,-158.2667, 1529,   1024,   1022.2,   4.3433,  34.4946,2,  34.4946,2,     42.2,2,  4.2631,     39.0,3,  -999.00,9,  -999.00,9,  -999.00,9,  -999.0,-999.000
     33KI147_1,  PRS2,     2,  1,     24,     31,3,20030423,1257, 22.7515,-157.9925, 4514,      5,      3.9,  24.6082,  34.9867,2,  34.9846,2,    211.7,2, 24.6074,    199.9,3,     1.05,2,     0.03,2,     0.03,2,  -999.0,-999.000
     33KI147_1,  PRS2,     2,  1,     23,     30,2,20030423,1257, 22.7515,-157.9925, 4514,    500,    498.8,   6.6017,  34.0325,2,  34.0337,2,    108.3,2,  6.5562,    102.0,3,    50.43,2,    31.58,2,     2.25,2,  -999.0,-999.000
     33KI147_1,  PRS2,     2,  1,     22,     22,2,20030423,1257, 22.7515,-157.9925, 4514,    753,    751.3,   4.8738,  34.3420,2,  34.3407,2,     21.9,2,  4.8135,     21.6,3,    50.02,4,    37.03,4,     2.80,4,  -999.0,-999.000
     33KI147_1,  PRS2,     2,  1,     21,     21,2,20030423,1257, 22.7515,-157.9925, 4514,   1003,   1001.6,   4.0559,  34.4935,2,  34.4940,2,     37.2,2,  3.9797,     35.7,3,    88.15,4,    42.19,2,     3.05,2,  -999.0,-999.000
     33KI147_1,  PRS2,     2,  1,     20,     20,2,20030423,1257, 22.7515,-157.9925, 4514,   1199,   1200.0,   3.5446,  34.5345,2,  34.5343,2,     45.1,2,  3.4562,     43.9,3,   117.98,2,    42.12,3,     3.03,2,  -999.0,-999.000
     33KI147_1,  PRS2,     2,  1,     19,     19,2,20030423,1257, 22.7515,-157.9925, 4514,   1402,   1401.6,   3.0784,  34.5560,2,  34.5588,2,     57.7,2,  2.9779,     55.6,3,   128.35,2,    41.30,2,     2.94,2,  -999.0,-999.000
     33KI147_1,  PRS2,     2,  1,     18,     18,2,20030423,1257, 22.7515,-157.9925, 4514,   1602,   1601.1,   2.6858,  34.5841,2,  34.5832,2,     69.6,2,  2.5733,     67.1,3,   136.25,2,    41.00,2,     2.91,2,  -999.0,-999.000
     33KI147_1,  PRS2,     2,  1,     17,     17,2,20030423,1257, 22.7515,-157.9925, 4514,   1798,   1798.7,   2.3856,  34.6019,2,  34.6011,2,     77.6,2,  2.2605,     73.4,3,   143.65,2,    40.94,3,     2.87,2,  -999.0,-999.000
     33KI147_1,  PRS2,     2,  1,     16,     16,2,20030423,1257, 22.7515,-157.9925, 4514,   2001,   1999.1,   2.1212,  34.6179,2,  34.6183,2,     85.4,2,  1.9831,     80.9,3,   150.07,2,    40.09,3,     2.81,2,  -999.0,-999.000
     33KI147_1,  PRS2,     2,  1,     15,     23,2,20030423,1257, 22.7515,-157.9925, 4514,   2201,   2200.2,   1.9720,  34.6297,2,  34.6299,2,     92.4,2,  1.8189,     88.6,3,   152.73,2,    39.69,3,     2.78,2,  -999.0,-999.000
     33KI147_1,  PRS2,     2,  1,     14,     40,2,20030423,1257, 22.7515,-157.9925, 4514,   2402,   2400.1,   1.8120,  34.6441,2,  34.6433,2,    102.0,2,  1.6442,     97.4,3,   157.18,2,    39.09,3,     2.73,2,  -999.0,-999.000
     33KI147_1,  PRS2,     2,  1,     13,     13,2,20030423,1257, 22.7515,-157.9925, 4514,   2600,   2599.3,   1.7025,  34.6544,2,  34.6543,2,    109.3,2,  1.5188,    105.7,3,   157.74,2,    38.65,3,     2.68,2,  -999.0,-999.000
     33KI147_1,  PRS2,     2,  1,     12,     12,2,20030423,1257, 22.7515,-157.9925, 4514,   2798,   2798.7,   1.6207,  34.6623,2,  34.6627,2,    116.4,2,  1.4203,    111.1,3,   158.85,2,    38.36,3,     2.67,2,  -999.0,-999.000
     33KI147_1,  PRS2,     2,  1,     11,     39,2,20030423,1257, 22.7515,-157.9925, 4514,   3002,   3000.2,   1.5644,  34.6687,2,  34.6688,2,    122.1,2,  1.3462,    116.2,3,   158.16,2,    38.00,3,     2.64,2,  -999.0,-999.000
     33KI147_1,  PRS2,     2,  1,     10,     32,2,20030423,1257, 22.7515,-157.9925, 4514,   3198,   3198.3,   1.5229,  34.6737,2,  34.6736,2,    128.0,2,  1.2864,    121.3,3,   158.09,2,    37.41,3,     2.60,2,  -999.0,-999.000
     33KI147_1,  PRS2,     2,  1,      9,      3,2,20030423,1257, 22.7515,-157.9925, 4514,   3399,   3398.2,   1.4861,  34.6782,2,  34.6777,2,    134.6,2,  1.2306,    127.7,3,   156.84,2,    37.20,3,     2.57,2,  -999.0,-999.000
     33KI147_1,  PRS2,     2,  1,      8,     29,2,20030423,1257, 22.7515,-157.9925, 4514,   3600,   3599.7,   1.4666,  34.6817,2,  34.6812,2,    140.0,2,  1.1911,    132.4,3,   154.60,2,    36.76,3,     2.54,2,  -999.0,-999.000
     33KI147_1,  PRS2,     2,  1,      7,     28,2,20030423,1257, 22.7515,-157.9925, 4514,   3799,   3799.5,   1.4588,  34.6845,2,  34.6836,2,    144.2,2,  1.1625,    136.9,3,   153.09,2,    36.62,3,     2.52,2,  -999.0,-999.000
     33KI147_1,  PRS2,     2,  1,      6,      7,2,20030423,1257, 22.7515,-157.9925, 4514,   4002,   4000.7,   1.4612,  34.6862,2,  34.6857,2,    147.2,2,  1.1433,    139.6,3,   152.06,2,    36.34,3,     2.50,2,  -999.0,-999.000
     33KI147_1,  PRS2,     2,  1,      5,     38,2,20030423,1257, 22.7515,-157.9925, 4514,   4201,   4199.5,   1.4672,  34.6878,2,  34.6873,2,    149.6,2,  1.1273,    143.0,3,   150.95,2,    36.28,3,     2.49,2,  -999.0,-999.000
     33KI147_1,  PRS2,     2,  1,      4,     36,2,20030423,1257, 22.7515,-157.9925, 4514,   4401,   4400.0,   1.4803,  34.6888,2,  34.6875,2,    151.4,2,  1.1174,    143.6,3,   150.40,2,    35.99,3,     2.48,2,  -999.0,-999.000
     33KI147_1,  PRS2,     2,  1,      3,     35,2,20030423,1257, 22.7515,-157.9925, 4514,   4494,   4494.3,   1.4878,  34.6893,2,  34.6899,2,    152.1,2,  1.1138,    145.5,3,   150.12,2,    35.93,3,     2.48,2,  -999.0,-999.000
     33KI147_1,  PRS2,     2,  1,      2,     34,2,20030423,1257, 22.7515,-157.9925, 4514,   4602,   4601.0,   1.4965,  34.6896,2,  34.6885,2,    152.6,2,  1.1099,    144.9,3,   147.63,2,    35.87,3,     2.47,2,  -999.0,-999.000
     33KI147_1,  PRS2,     2,  1,      1,     33,2,20030423,1257, 22.7515,-157.9925, 4514,   4794,   4794.3,   1.5197,  34.6896,2,  34.6901,2,    152.6,2,  1.1095,    143.2,3,   148.58,2,    35.73,3,     2.41,3,  -999.0,-999.000
     33KI147_1,  PRS2,     2,  2,     24,     31,2,20030423,1831, 22.7478,-157.9920, 4725,      5,      4.1,  24.5944,  34.9838,2,  34.9805,2,    233.8,2, 24.5935,    201.0,3,     1.03,2,     0.02,2,     0.03,2,  -999.0,-999.000
     33KI147_1,  PRS2,     2,  2,     23,     30,2,20030423,1831, 22.7478,-157.9920, 4725,     59,     57.9,  23.2919,  35.3685,2,  35.3654,2,    241.8,2, 23.2800,    207.4,3,     1.23,2,     0.03,2,     0.06,2,  -999.0,-999.000
     33KI147_1,  PRS2,     2,  2,     22,     22,2,20030423,1831, 22.7478,-157.9920, 4725,     85,     83.5,  21.5815,  35.3354,2,  35.3463,2,    245.8,2, 21.5652,    212.1,3,     1.47,2,     0.04,2,     0.07,2,  -999.0,-999.000
     33KI147_1,  PRS2,     2,  2,     21,     21,2,20030423,1831, 22.7478,-157.9920, 4725,    124,    123.1,  19.4106,  35.1016,2,  35.1081,2,    226.9,2, 19.3883,    198.6,3,     2.27,2,     1.19,2,     0.02,4,  -999.0,-999.000
     33KI147_1,  PRS2,     2,  2,     20,     20,2,20030423,1831, 22.7478,-157.9920, 4725,    161,    160.4,  17.6136,  34.8389,2,  34.8397,2,    231.4,2, 17.5865,    200.1,3,     3.20,2,     2.44,2,     0.05,4,  -999.0,-999.000
     33KI147_1,  PRS2,     2,  2,     19,     19,2,20030423,1831, 22.7478,-157.9920, 4725,    199,    197.8,  16.1430,  34.6404,2,  34.6384,2,    217.8,2, 16.1116,    191.7,3,     4.03,2,     5.17,2,     0.41,2,  -999.0,-999.000
     33KI147_1,  PRS2,     2,  2,     18,     18,2,20030423,1831, 22.7478,-157.9920, 4725,    242,    240.4,  13.7175,  34.3651,2,  34.3704,2,    223.1,2, 13.6834,    197.8,3,     6.95,2,     8.18,2,     0.61,2,  -999.0,-999.000
     33KI147_1,  PRS2,     2,  2,     17,     17,2,20030423,1831, 22.7478,-157.9920, 4725,    281,    280.3,  12.0959,  34.2411,2,  34.2440,2,    219.8,2, 12.0593,    195.2,3,     9.87,2,    11.26,2,     0.80,2,  -999.0,-999.000
     33KI147_1,  PRS2,     2,  2,     16,     16,2,20030423,1831, 22.7478,-157.9920, 4725,    320,    318.5,  11.4990,  34.2106,2,  34.2097,2,    218.7,2, 11.4588,    195.9,3,    11.81,2,    12.53,2,     0.90,2,  -999.0,-999.000
     33KI147_1,  PRS2,     2,  2,     15,     23,2,20030423,1831, 22.7478,-157.9920, 4725,    359,    357.3,  10.5111,  34.1741,2,  34.1709,2,    213.3,2, 10.4684,    191.8,3,    15.70,2,    15.05,2,     1.07,2,  -999.0,-999.000
     33KI147_1,  PRS2,     2,  2,     14,     40,2,20030423,1831, 22.7478,-157.9920, 4725,    428,    427.4,   8.9301,  34.1015,2,  34.1078,2,    185.4,2,  8.8839,    167.3,3,    26.36,2,    20.95,2,     1.48,2,  -999.0,-999.000
     33KI147_1,  PRS2,     2,  2,     13,     13,2,20030423,1831, 22.7478,-157.9920, 4725,    484,    483.3,   7.1859,  34.0330,2,  34.0335,2,    132.0,2,  7.1397,    122.2,3,    43.55,2,    28.51,2,     2.04,2,  -999.0,-999.000
     33KI147_1,  PRS2,     2,  2,     12,     12,2,20030423,1831, 22.7478,-157.9920, 4725,    525,    523.6,   6.5198,  34.0362,2,  34.0343,2,    106.3,2,  6.4723,     97.3,3,    53.00,2,    32.11,2,     2.28,2,  -999.0,-999.000
     33KI147_1,  PRS2,     2,  2,     11,     39,2,20030423,1831, 22.7478,-157.9920, 4725,    560,    560.9,   5.8267,  34.0601,2,  34.0594,2,     77.6,2,  5.7786,     71.9,3,    63.06,2,    35.45,2,     2.56,2,  -999.0,-999.000
     33KI147_1,  PRS2,     2,  2,     10,     32,2,20030423,1831, 22.7478,-157.9920, 4725,    618,    617.6,   5.3534,  34.1067,2,  34.1081,2,     59.0,2,  5.3024,     50.1,3,    75.53,2,    38.15,2,     2.11,4,  -999.0,-999.000
     33KI147_1,  PRS2,     2,  2,      9,      3,2,20030423,1831, 22.7478,-157.9920, 4725,    687,    685.0,   5.1526,  34.2300,2,  34.2287,2,     33.5,2,  5.0966,    173.6,4,    83.04,2,    40.49,2,     2.98,2,  -999.0,-999.000
     33KI147_1,  PRS2,     2,  2,      8,     29,2,20030423,1831, 22.7478,-157.9920, 4725,    754,    753.1,   4.9266,  34.3288,2,  34.3286,2,     26.4,2,  4.8659,     21.8,3,    89.58,2,    41.59,2,     3.07,2,  -999.0,-999.000
     33KI147_1,  PRS2,     2,  2,      7,     28,2,20030423,1831, 22.7478,-157.9920, 4725,    799,    796.9,   4.7089,  34.3510,2,  34.3472,2,     26.9,2,  4.6457,     22.0,3,    68.07,4,    41.97,2,     3.07,2,  -999.0,-999.000
     33KI147_1,  PRS2,     2,  2,      6,      7,2,20030423,1831, 22.7478,-157.9920, 4725,    839,    838.8,   4.6096,  34.4117,2,  34.4104,2,     30.5,2,  4.5433,     24.6,3,    93.73,2,    42.11,2,     3.08,2,  -999.0,-999.000
     33KI147_1,  PRS2,     2,  2,      5,     38,2,20030423,1831, 22.7478,-157.9920, 4725,    877,    875.5,   4.5060,  34.4313,2,  34.4324,2,     32.7,2,  4.4373,     27.0,3,    56.73,4,    42.27,2,     3.06,2,  -999.0,-999.000
     33KI147_1,  PRS2,     2,  2,      4,     36,2,20030423,1831, 22.7478,-157.9920, 4725,    913,    911.5,   4.3563,  34.4581,2,  34.4565,2,     35.6,2,  4.2855,     30.6,3,    85.77,4,    42.10,2,     3.07,2,  -999.0,-999.000
     33KI147_1,  PRS2,     2,  2,      3,     35,2,20030423,1831, 22.7478,-157.9920, 4725,    947,    947.3,   4.2503,  34.4729,2,  34.4720,2,     37.8,2,  4.1772,     32.0,3,    72.00,4,    42.17,2,     3.05,2,  -999.0,-999.000
     33KI147_1,  PRS2,     2,  2,      2,     34,2,20030423,1831, 22.7478,-157.9920, 4725,    987,    985.9,   4.1342,  34.4860,2,  34.4834,2,     39.4,2,  4.0587,     33.2,3,    73.95,4,    42.39,2,     3.06,2,  -999.0,-999.000
     33KI147_1,  PRS2,     2,  2,      1,     33,2,20030423,1831, 22.7478,-157.9920, 4725,   1024,   1022.5,   4.0409,  34.4962,2,  34.4972,2,     42.3,2,  3.9631,     36.6,3,    57.89,4,    42.07,2,     3.03,2,  -999.0,-999.000