BOTTLE,20020715WHPSIOKJU
#code : jjward hyd_to_exchange.pl 
#original files copied from HTML directory: 20020715
#original HYD file: pr17_jhy.txt   Mon Jul 15 10:28:03 2002
#original SUM file: pr17_jsu.txt   Mon Jul 15 10:30:51 2002
EXPOCODE,SECT_ID,STNNBR,CASTNO,SAMPNO,BTLNBR,BTLNBR_FLAG_W,DATE,TIME,LATITUDE,LONGITUDE,DEPTH,CTDPRS,CTDTMP,CTDSAL,CTDSAL_FLAG_W,SALNTY,SALNTY_FLAG_W,OXYGEN,OXYGEN_FLAG_W,NITRAT,NITRAT_FLAG_W,NITRIT,NITRIT_FLAG_W,PHSPHT,PHSPHT_FLAG_W,THETA,CTDRAW
,,,,,,,,,,,,DBAR,DEG C,PSS-78,,PSS-78,,UMOL/KG,,UMOL/KG,,UMOL/KG,,UMOL/KG,,DEG C,
    49SU9305_1,  PR17,SU4841,  2,      6,   -999,5,19930531,0940, 29.4795, 133.5128, 2810,    405.1,  14.4160,  34.5930,3,-999.0000,9,    180.0,3,    11.60,3,     0.00,3,     0.78,3, 14.3560,    405
    49SU9305_1,  PR17,SU4841,  2,      5,   -999,5,19930531,0940, 29.4795, 133.5128, 2810,    504.7,  11.7890,  34.4162,3,-999.0000,9,    172.0,3,    17.20,3,     0.00,3,     1.20,3, 11.7230,    505
    49SU9305_1,  PR17,SU4841,  2,      4,   -999,5,19930531,0940, 29.4795, 133.5128, 2810,    605.1,   9.4380,  34.2717,3,-999.0000,9,    156.0,3,    22.60,3,     0.00,3,     1.63,3,  9.3700,    605
    49SU9305_1,  PR17,SU4841,  2,      3,   -999,5,19930531,0940, 29.4795, 133.5128, 2810,    705.6,   7.1390,  34.1595,3,-999.0000,9,    134.0,3,    28.70,3,     0.00,3,     2.09,3,  7.0710,    706
    49SU9305_1,  PR17,SU4841,  2,      2,   -999,5,19930531,0940, 29.4795, 133.5128, 2810,    808.5,   5.9380,  34.2503,3,-999.0000,9,     98.0,3,    34.40,3,     0.00,3,     2.52,3,  5.8660,    809
    49SU9305_1,  PR17,SU4841,  3,     16,   -999,5,19930531,1114, 29.4248, 133.5427, 2850,      9.3,  24.0560,  34.8147,3,-999.0000,9,    210.0,3,     0.00,3,     0.00,3,     0.00,3, 24.0540,      9
    49SU9305_1,  PR17,SU4841,  3,     15,   -999,5,19930531,1114, 29.4248, 133.5427, 2850,     24.6,  23.9190,  34.8269,3,-999.0000,9,    211.0,3,     0.00,3,     0.00,3,     0.00,3, 23.9140,     25
    49SU9305_1,  PR17,SU4841,  3,     14,   -999,5,19930531,1114, 29.4248, 133.5427, 2850,     51.1,  22.4380,  34.8376,3,-999.0000,9,    199.0,3,     1.30,3,     0.14,3,     0.09,3, 22.4280,     51
    49SU9305_1,  PR17,SU4841,  3,     13,   -999,5,19930531,1114, 29.4248, 133.5427, 2850,     74.5,  21.2100,  34.8498,3,-999.0000,9,    206.0,3,     1.30,3,     0.03,3,     0.08,3, 21.1960,     75
    49SU9305_1,  PR17,SU4841,  3,     12,   -999,5,19930531,1114, 29.4248, 133.5427, 2850,    100.2,  20.5070,  34.8650,3,-999.0000,9,    208.0,3,     1.50,3,     0.02,3,     0.10,3, 20.4890,    100
    49SU9305_1,  PR17,SU4841,  3,     11,   -999,5,19930531,1114, 29.4248, 133.5427, 2850,    126.4,  19.6230,  34.8598,3,-999.0000,9,    204.0,3,     2.10,3,     0.07,3,     0.15,3, 19.6000,    126
    49SU9305_1,  PR17,SU4841,  3,     10,   -999,5,19930531,1114, 29.4248, 133.5427, 2850,    150.8,  18.7250,  34.8644,3,-999.0000,9,    225.0,3,     0.60,3,     0.12,3,     0.07,3, 18.6880,    151
    49SU9305_1,  PR17,SU4841,  3,      9,   -999,5,19930531,1114, 29.4248, 133.5427, 2850,    202.1,  18.0860,  34.8526,3,-999.0000,9,    216.0,3,     2.30,3,     0.02,3,     0.16,3, 18.0520,    202
    49SU9305_1,  PR17,SU4841,  3,      8,   -999,5,19930531,1114, 29.4248, 133.5427, 2850,    253.5,  17.3870,  34.8007,3,-999.0000,9,    200.0,3,     4.90,3,     0.00,3,     0.30,3, 17.3450,    253
    49SU9305_1,  PR17,SU4841,  3,      7,   -999,5,19930531,1114, 29.4248, 133.5427, 2850,    304.4,  16.6000,  34.7428,3,-999.0000,9,    192.0,3,     6.90,3,     0.01,3,     0.46,3, 16.5510,    304
    49SU9305_1,  PR17,SU4841,  3,      1,   -999,5,19930531,1114, 29.4248, 133.5427, 2850,   1009.3,   3.9990,  34.3739,3,-999.0000,9,     72.0,3,    40.00,3,     0.00,3,     2.90,3,  3.9230,   1009
    49SU9305_1,  PR17,SU4842,  2,     11,   -999,5,19930531,1720, 29.9523, 132.9932, 3730,   1616.9,   2.4430,  34.5522,3,  34.5555,3,     91.0,3,    40.30,3,     0.00,3,     2.95,3,  2.3320,   1617
    49SU9305_1,  PR17,SU4842,  2,     10,   -999,5,19930531,1720, 29.9523, 132.9932, 3730,   1820.4,   2.2130,  34.5830,3,  34.5840,3,    101.0,3,    39.90,3,     0.00,3,     2.90,3,  2.0890,   1820
    49SU9305_1,  PR17,SU4842,  2,      9,   -999,5,19930531,1720, 29.9523, 132.9932, 3730,   2023.1,   2.0210,  34.6090,3,  34.6172,3,    113.0,3,    39.10,3,     0.00,3,     2.85,3,  1.8820,   2023
    49SU9305_1,  PR17,SU4842,  2,      8,   -999,5,19930531,1720, 29.9523, 132.9932, 3730,   2227.1,   1.8660,  34.6303,3,-999.0000,5,    121.0,3,    38.90,3,     0.00,3,     2.80,3,  1.7120,   2227
    49SU9305_1,  PR17,SU4842,  2,      7,   -999,5,19930531,1720, 29.9523, 132.9932, 3730,   2430.0,   1.7460,  34.6485,3,-999.0000,5,    131.0,3,    38.30,3,     0.00,3,     2.75,3,  1.5770,   2430
    49SU9305_1,  PR17,SU4842,  2,      6,   -999,5,19930531,1720, 29.9523, 132.9932, 3730,   2634.3,   1.6820,  34.6591,3,  34.6581,3,    136.0,3,    37.90,3,     0.00,3,     2.71,3,  1.4960,   2634
    49SU9305_1,  PR17,SU4842,  2,      5,   -999,5,19930531,1720, 29.9523, 132.9932, 3730,   2838.3,   1.6000,  34.6707,3,  34.6688,3,    143.0,3,    37.50,3,     0.00,3,     2.68,3,  1.3960,   2838
    49SU9305_1,  PR17,SU4842,  2,      4,   -999,5,19930531,1720, 29.9523, 132.9932, 3730,   3041.8,   1.5560,  34.6779,3,  34.6747,3,    147.0,3,    37.10,3,     0.00,3,     2.67,3,  1.3340,   3042
    49SU9305_1,  PR17,SU4842,  2,      3,   -999,5,19930531,1720, 29.9523, 132.9932, 3730,   3246.0,   1.5340,  34.6824,3,  34.6801,3,    150.0,3,    37.10,3,     0.00,3,     2.65,3,  1.2920,   3246
    49SU9305_1,  PR17,SU4842,  2,      2,   -999,5,19930531,1720, 29.9523, 132.9932, 3730,   3450.5,   1.5300,  34.6851,3,  34.6834,3,    151.0,3,    36.90,3,     0.00,3,     2.65,3,  1.2680,   3451
    49SU9305_1,  PR17,SU4842,  2,      1,   -999,5,19930531,1720, 29.9523, 132.9932, 3730,   3604.4,   1.5380,  34.6874,3,  34.6765,3,    150.0,3,    36.30,3,     0.00,3,     2.61,3,  1.2600,   3604
    49SU9305_1,  PR17,SU4842,  3,     20,   -999,5,19930531,1849, 29.9320, 132.9815, 3830,    403.9,  15.7590,  34.6917,3,  34.6881,3,    190.0,3,     8.40,3,     0.00,3,     0.55,3, 15.6960,    404
    49SU9305_1,  PR17,SU4842,  3,     19,   -999,5,19930531,1849, 29.9320, 132.9815, 3830,    504.4,  13.1540,  34.4964,3,  34.4972,3,    180.0,3,    13.70,3,     0.00,3,     0.95,3, 13.0830,    504
    49SU9305_1,  PR17,SU4842,  3,     18,   -999,5,19930531,1849, 29.9320, 132.9815, 3830,    606.0,   9.8770,  34.2790,3,  34.2909,3,    163.0,3,    21.00,3,     0.00,3,     1.50,3,  9.8060,    606
    49SU9305_1,  PR17,SU4842,  3,     17,   -999,5,19930531,1849, 29.9320, 132.9815, 3830,    706.1,   8.0180,  34.1920,3,  34.2443,3,    146.0,3,    25.20,3,     0.00,3,     1.84,3,  7.9450,    706
    49SU9305_1,  PR17,SU4842,  3,     16,   -999,5,19930531,1849, 29.9320, 132.9815, 3830,    808.0,   6.2460,  34.1935,3,  34.2079,3,    104.0,3,    33.10,3,     0.00,3,     2.45,3,  6.1730,    808
    49SU9305_1,  PR17,SU4842,  3,     15,   -999,5,19930531,1849, 29.9320, 132.9815, 3830,    908.6,   5.2080,  34.2637,3,  34.2738,3,     81.0,3,    37.00,3,     0.00,3,     2.75,3,  5.1320,    909
    49SU9305_1,  PR17,SU4842,  3,     14,   -999,5,19930531,1849, 29.9320, 132.9815, 3830,   1008.8,   4.3920,  34.3540,3,  34.3619,3,     72.0,3,    39.00,3,     0.00,3,     2.89,3,  4.3120,   1009
    49SU9305_1,  PR17,SU4842,  3,     13,   -999,5,19930531,1849, 29.9320, 132.9815, 3830,   1211.6,   3.3430,  34.4455,3,  34.4492,3,     70.0,3,    40.70,3,     0.00,3,     3.01,3,  3.2560,   1212
    49SU9305_1,  PR17,SU4842,  3,     12,   -999,5,19930531,1849, 29.9320, 132.9815, 3830,   1414.4,   2.8390,  34.5038,3,  34.5082,3,     78.0,3,    40.70,3,     0.00,3,     3.00,3,  2.7400,   1414
    49SU9305_1,  PR17,SU4842,  4,     30,   -999,5,19930531,1930, 29.9202, 132.9750, 3870,     10.0,  23.5100,  34.8732,3,  34.8630,3,    214.0,3,     0.00,3,     0.00,3,     0.00,3, 23.5080,     10
    49SU9305_1,  PR17,SU4842,  4,     29,   -999,5,19930531,1930, 29.9202, 132.9750, 3870,     25.1,  23.3000,  34.8704,3,  34.8605,3,    214.0,3,     0.00,3,     0.00,3,     0.00,3, 23.2950,     25
    49SU9305_1,  PR17,SU4842,  4,     28,   -999,5,19930531,1930, 29.9202, 132.9750, 3870,     50.4,  21.6800,  34.8845,3,  34.8887,3,    225.0,3,     0.00,3,     0.00,3,     0.01,3, 21.6700,     50
    49SU9305_1,  PR17,SU4842,  4,     27,   -999,5,19930531,1930, 29.9202, 132.9750, 3870,     74.9,  20.6730,  34.8725,3,  34.8622,3,    221.0,3,     0.10,3,     0.05,3,     0.02,3, 20.6590,     75
    49SU9305_1,  PR17,SU4842,  4,     26,   -999,5,19930531,1930, 29.9202, 132.9750, 3870,    101.3,  20.0700,  34.8736,3,  34.8644,3,    213.0,3,     1.10,3,     0.10,3,     0.08,3, 20.0510,    101
    49SU9305_1,  PR17,SU4842,  4,     25,   -999,5,19930531,1930, 29.9202, 132.9750, 3870,    126.5,  19.4360,  34.8661,3,  34.8580,3,    216.0,3,     1.40,3,     0.04,3,     0.10,3, 19.4130,    127
    49SU9305_1,  PR17,SU4842,  4,     24,   -999,5,19930531,1930, 29.9202, 132.9750, 3870,    151.6,  19.1490,  34.8581,3,  34.8489,3,    217.0,3,     1.30,3,     0.01,3,     0.09,3, 19.1220,    152
    49SU9305_1,  PR17,SU4842,  4,     23,   -999,5,19930531,1930, 29.9202, 132.9750, 3870,    201.5,  18.8210,  34.8557,3,  34.8458,3,    219.0,3,     1.50,3,     0.01,3,     0.11,3, 18.7860,    202
    49SU9305_1,  PR17,SU4842,  4,     22,   -999,5,19930531,1930, 29.9202, 132.9750, 3870,    251.8,  18.3810,  34.8511,3,  34.8445,3,    212.0,3,     2.40,3,     0.00,3,     0.16,3, 18.3370,    252
    49SU9305_1,  PR17,SU4842,  4,     21,   -999,5,19930531,1930, 29.9202, 132.9750, 3870,    303.1,  17.5540,  34.8037,3,  34.8037,3,    201.0,3,     4.70,3,     0.00,3,     0.30,3, 17.5030,    303
    49SU9305_1,  PR17,SU4843,  2,     11,   -999,5,19930531,2334, 30.2845, 132.5565, 3910,   1820.4,   2.2450,  34.5819,3,-999.0000,9,    103.0,3,    39.60,3,     0.00,3,     2.85,3,  2.1200,   1820
    49SU9305_1,  PR17,SU4843,  2,     10,   -999,5,19930531,2334, 30.2845, 132.5565, 3910,   2022.1,   2.1040,  34.6007,3,-999.0000,9,    107.0,3,    39.10,3,     0.00,3,     2.80,3,  1.9640,   2022
    49SU9305_1,  PR17,SU4843,  2,      9,   -999,5,19930531,2334, 30.2845, 132.5565, 3910,   2225.6,   1.9170,  34.6248,3,-999.0000,9,    117.0,3,    38.80,3,     0.00,3,     2.75,3,  1.7620,   2226
    49SU9305_1,  PR17,SU4843,  2,      8,   -999,5,19930531,2334, 30.2845, 132.5565, 3910,   2430.6,   1.7800,  34.6452,3,-999.0000,9,    126.0,3,    38.10,3,     0.00,3,     2.70,3,  1.6100,   2431
    49SU9305_1,  PR17,SU4843,  2,      7,   -999,5,19930531,2334, 30.2845, 132.5565, 3910,   2634.1,   1.6790,  34.6587,3,-999.0000,9,    133.0,3,    37.60,3,     0.00,3,     2.66,3,  1.4920,   2634
    49SU9305_1,  PR17,SU4843,  2,      6,   -999,5,19930531,2334, 30.2845, 132.5565, 3910,   2838.2,   1.6050,  34.6691,3,-999.0000,9,    139.0,3,    37.30,3,     0.00,3,     2.63,3,  1.4010,   2838
    49SU9305_1,  PR17,SU4843,  2,      5,   -999,5,19930531,2334, 30.2845, 132.5565, 3910,   3042.9,   1.5410,  34.6786,3,-999.0000,9,    146.0,3,    36.90,3,     0.00,3,     2.59,3,  1.3190,   3043
    49SU9305_1,  PR17,SU4843,  2,      4,   -999,5,19930531,2334, 30.2845, 132.5565, 3910,   3247.1,   1.5120,  34.6844,3,-999.0000,9,    154.0,3,    36.90,3,     0.00,3,     2.58,3,  1.2710,   3247
    49SU9305_1,  PR17,SU4843,  2,      3,   -999,5,19930531,2334, 30.2845, 132.5565, 3910,   3450.5,   1.5070,  34.6874,3,-999.0000,9,    152.0,3,    36.70,3,     0.00,3,     2.57,3,  1.2460,   3451
    49SU9305_1,  PR17,SU4843,  2,      2,   -999,5,19930531,2334, 30.2845, 132.5565, 3910,   3656.1,   1.5170,  34.6896,3,-999.0000,9,    155.0,3,  -999.00,5,  -999.00,5,  -999.00,5,  1.2340,   3656
    49SU9305_1,  PR17,SU4843,  2,      1,   -999,5,19930531,2334, 30.2845, 132.5565, 3910,   3865.1,   1.5320,  34.6902,3,-999.0000,9,    154.0,3,    36.50,3,     0.00,3,     2.55,3,  1.2270,   3865
    49SU9305_1,  PR17,SU4843,  3,     21,   -999,5,19930601,0102, 30.2957, 132.5543, 3930,    402.6,  14.6810,  34.6041,3,-999.0000,9,    186.0,3,    10.20,3,     0.00,3,     0.65,3, 14.6210,    403
    49SU9305_1,  PR17,SU4843,  3,     20,   -999,5,19930601,0102, 30.2957, 132.5543, 3930,    503.7,  11.9260,  34.4063,3,-999.0000,9,    175.0,3,    16.10,3,     0.00,3,     1.09,3, 11.8600,    504
    49SU9305_1,  PR17,SU4843,  3,     19,   -999,5,19930601,0102, 30.2957, 132.5543, 3930,    604.5,   9.2670,  34.2202,3,-999.0000,9,    158.0,3,    22.20,3,     0.00,3,     1.57,3,  9.1990,    605
    49SU9305_1,  PR17,SU4843,  3,     18,   -999,5,19930601,0102, 30.2957, 132.5543, 3930,    705.1,   7.3080,  34.1686,3,-999.0000,9,    129.0,3,    28.70,3,     0.00,3,     2.08,3,  7.2390,    705
    49SU9305_1,  PR17,SU4843,  3,     17,   -999,5,19930601,0102, 30.2957, 132.5543, 3930,    807.0,   5.8520,  34.2050,3,-999.0000,9,     98.0,3,    34.10,3,     0.00,3,     2.50,3,  5.7810,    807
    49SU9305_1,  PR17,SU4843,  3,     16,   -999,5,19930601,0102, 30.2957, 132.5543, 3930,    907.5,   4.9160,  34.3246,3,-999.0000,9,     78.0,3,    37.40,3,     0.00,3,     2.73,3,  4.8420,    908
    49SU9305_1,  PR17,SU4843,  3,     15,   -999,5,19930601,0102, 30.2957, 132.5543, 3930,   1008.7,   4.1040,  34.3875,3,-999.0000,9,     68.0,3,    39.50,3,     0.00,3,     2.89,3,  4.0270,   1009
    49SU9305_1,  PR17,SU4843,  3,     14,   -999,5,19930601,0102, 30.2957, 132.5543, 3930,   1211.6,   3.2560,  34.4602,3,-999.0000,9,     73.0,3,    40.00,3,     0.00,3,     2.97,3,  3.1690,   1212
    49SU9305_1,  PR17,SU4843,  3,     13,   -999,5,19930601,0102, 30.2957, 132.5543, 3930,   1414.5,   2.7660,  34.5144,3,-999.0000,9,     80.0,3,    40.40,3,     0.00,3,     2.94,3,  2.6680,   1415
    49SU9305_1,  PR17,SU4843,  3,     12,   -999,5,19930601,0102, 30.2957, 132.5543, 3930,   1621.0,   2.4760,  34.5504,3,-999.0000,9,     93.0,3,    40.30,3,     0.00,3,     2.90,3,  2.3650,   1621
    49SU9305_1,  PR17,SU4843,  4,     31,   -999,5,19930601,0149, 30.3037, 132.5517, 3940,      9.5,  23.8690,  34.7975,3,-999.0000,9,    211.0,3,     0.10,3,     0.00,3,     0.00,3, 23.8670,     10
    49SU9305_1,  PR17,SU4843,  4,     30,   -999,5,19930601,0149, 30.3037, 132.5517, 3940,     25.2,  23.8160,  34.7952,3,-999.0000,9,    212.0,3,     0.00,3,     0.00,3,     0.00,3, 23.8110,     25
    49SU9305_1,  PR17,SU4843,  4,     29,   -999,5,19930601,0149, 30.3037, 132.5517, 3940,     50.1,  22.3570,  34.8637,3,-999.0000,9,    223.0,3,     0.00,3,     0.00,3,     0.00,3, 22.3470,     50
    49SU9305_1,  PR17,SU4843,  4,     28,   -999,5,19930601,0149, 30.3037, 132.5517, 3940,     75.8,  21.3370,  34.8840,3,-999.0000,9,    221.0,3,     0.00,3,     0.00,3,     0.02,3, 21.3230,     76
    49SU9305_1,  PR17,SU4843,  4,     27,   -999,5,19930601,0149, 30.3037, 132.5517, 3940,    101.2,  20.5470,  34.8990,3,-999.0000,9,    222.0,3,     0.00,3,     0.00,3,     0.01,3, 20.5280,    100
    49SU9305_1,  PR17,SU4843,  4,     26,   -999,5,19930601,0149, 30.3037, 132.5517, 3940,    125.8,  19.8950,  34.8913,3,-999.0000,9,    201.0,3,     2.00,3,     0.05,3,     0.12,3, 19.8720,    126
    49SU9305_1,  PR17,SU4843,  4,     25,   -999,5,19930601,0149, 30.3037, 132.5517, 3940,    150.9,  19.3170,  34.8689,3,-999.0000,9,    212.0,3,     1.60,3,     0.03,3,     0.09,3, 19.2900,    151
    49SU9305_1,  PR17,SU4843,  4,     24,   -999,5,19930601,0149, 30.3037, 132.5517, 3940,    202.0,  18.5580,  34.8530,3,-999.0000,9,    205.0,3,     3.00,3,     0.01,3,     0.20,3, 18.5230,    202
    49SU9305_1,  PR17,SU4843,  4,     23,   -999,5,19930601,0149, 30.3037, 132.5517, 3940,    252.2,  17.8170,  34.8209,3,-999.0000,9,    198.0,3,     4.50,3,     0.00,3,     0.27,3, 17.7740,    252
    49SU9305_1,  PR17,SU4843,  4,     22,   -999,5,19930601,0149, 30.3037, 132.5517, 3940,    302.5,  16.7780,  34.7672,3,-999.0000,9,    198.0,3,     6.20,3,     0.00,3,     0.37,3, 16.7740,    303
    49SU9305_1,  PR17,SU4844,  2,     12,   -999,5,19930601,0512, 30.6318, 132.1748, 2570,    606.5,   7.8540,  34.3378,3,-999.0000,9,    117.0,3,    29.10,3,     0.00,3,     2.04,3,  7.7920,    607
    49SU9305_1,  PR17,SU4844,  2,     11,   -999,5,19930601,0512, 30.6318, 132.1748, 2570,    707.6,   5.4380,  34.2393,3,-999.0000,9,     83.0,3,    36.40,3,     0.00,3,     2.63,3,  5.3790,    708
    49SU9305_1,  PR17,SU4844,  2,     10,   -999,5,19930601,0512, 30.6318, 132.1748, 2570,    807.2,   4.5370,  34.3029,3,-999.0000,9,     71.0,3,    38.60,3,     0.00,3,     2.80,3,  4.4740,    807
    49SU9305_1,  PR17,SU4844,  2,      9,   -999,5,19930601,0512, 30.6318, 132.1748, 2570,    906.1,   3.9970,  34.3644,3,-999.0000,9,     66.0,3,    40.20,3,     0.00,3,     2.90,3,  3.9300,    906
    49SU9305_1,  PR17,SU4844,  2,      8,   -999,5,19930601,0512, 30.6318, 132.1748, 2570,   1009.9,   3.5320,  34.4271,3,-999.0000,9,     68.0,3,    40.90,3,     0.00,3,     2.94,3,  3.4600,   1010
    49SU9305_1,  PR17,SU4844,  2,      7,   -999,5,19930601,0512, 30.6318, 132.1748, 2570,   1211.3,   2.9670,  34.4884,3,-999.0000,9,     75.0,3,    40.90,3,     0.00,3,     2.92,3,  2.8830,   1211
    49SU9305_1,  PR17,SU4844,  2,      6,   -999,5,19930601,0512, 30.6318, 132.1748, 2570,   1413.5,   2.6760,  34.5242,3,-999.0000,9,     84.0,3,    40.70,3,     0.00,3,     2.90,3,  2.5790,   1414
    49SU9305_1,  PR17,SU4844,  2,      5,   -999,5,19930601,0512, 30.6318, 132.1748, 2570,   1615.7,   2.3900,  34.5616,3,-999.0000,9,     94.0,3,    39.50,3,     0.00,3,     2.81,3,  2.2800,   1616
    49SU9305_1,  PR17,SU4844,  2,      4,   -999,5,19930601,0512, 30.6318, 132.1748, 2570,   1818.5,   2.1660,  34.5911,3,-999.0000,9,    105.0,3,    39.90,3,     0.00,3,     2.81,3,  2.0420,   1819
    49SU9305_1,  PR17,SU4844,  2,      3,   -999,5,19930601,0512, 30.6318, 132.1748, 2570,   2022.0,   1.9780,  34.6174,3,-999.0000,9,    114.0,3,    39.30,3,     0.00,3,     2.75,3,  1.8400,   2022
    49SU9305_1,  PR17,SU4844,  2,      2,   -999,5,19930601,0512, 30.6318, 132.1748, 2570,   2227.7,   1.8520,  34.6341,3,-999.0000,9,    126.0,3,    38.60,3,     0.00,3,     2.68,3,  1.6990,   2228
    49SU9305_1,  PR17,SU4844,  2,      1,   -999,5,19930601,0512, 30.6318, 132.1748, 2570,   2480.9,   1.6860,  34.6562,3,-999.0000,9,    134.0,3,    37.60,3,     0.00,3,     2.65,3,  1.5130,   2481