BOTTLE,20020715WHPSIOKJU
EXPOCODE,SECT_ID,STNNBR,CASTNO,SAMPNO,BTLNBR,BTLNBR_FLAG_W,DATE,TIME,LATITUDE,LONGITUDE,DEPTH,CTDPRS,CTDTMP,CTDSAL,CTDSAL_FLAG_W,SALNTY,SALNTY_FLAG_W,OXYGEN,OXYGEN_FLAG_W,NITRAT,NITRAT_FLAG_W,NITRIT,NITRIT_FLAG_W,PHSPHT,PHSPHT_FLAG_W,THETA,CTDRAW
,,,,,,,,,,,,DBAR,DEG C,PSS-78,,PSS-78,,UMOL/KG,,UMOL/KG,,UMOL/KG,,UMOL/KG,,DEG C,
    49SU9305_1,  PR17,SU4844,  3,     24,   -999,5,19930601,0613, 30.6580, 132.1885, 2520,     10.1,  24.6040,  34.7759,3,-999.0000,9,    210.0,3,     0.00,3,     0.01,3,     0.00,3, 24.6020,     10
    49SU9305_1,  PR17,SU4844,  3,     23,   -999,5,19930601,0613, 30.6580, 132.1885, 2520,     25.6,  24.5750,  34.7762,3,-999.0000,9,    209.0,3,     0.00,3,     0.00,3,     0.00,3, 24.5700,     26
    49SU9305_1,  PR17,SU4844,  3,     22,   -999,5,19930601,0613, 30.6580, 132.1885, 2520,     50.8,  24.1590,  34.8024,3,-999.0000,9,    208.0,3,     0.00,3,     0.01,3,     0.01,3, 24.1480,     51
    49SU9305_1,  PR17,SU4844,  3,     21,   -999,5,19930601,0613, 30.6580, 132.1885, 2520,     75.0,  23.1880,  34.8497,3,-999.0000,9,    206.0,3,     0.50,3,     0.11,3,     0.03,3, 23.1720,     75
    49SU9305_1,  PR17,SU4844,  3,     20,   -999,5,19930601,0613, 30.6580, 132.1885, 2520,    100.9,  21.5890,  34.8577,3,-999.0000,9,    196.0,3,     2.00,3,     0.06,3,     0.11,3, 21.5690,    101
    49SU9305_1,  PR17,SU4844,  3,     19,   -999,5,19930601,0613, 30.6580, 132.1885, 2520,    126.5,  21.0000,  34.8437,3,-999.0000,9,    194.0,3,     2.60,3,     0.05,3,     0.16,3, 20.9760,    127
    49SU9305_1,  PR17,SU4844,  3,     18,   -999,5,19930601,0613, 30.6580, 132.1885, 2520,    150.8,  20.1320,  34.8139,3,-999.0000,9,    190.0,3,     3.90,3,     0.04,3,     0.23,3, 20.1040,    151
    49SU9305_1,  PR17,SU4844,  3,     17,   -999,5,19930601,0613, 30.6580, 132.1885, 2520,    201.7,  18.2920,  34.7995,3,-999.0000,9,    189.0,3,     5.40,3,     0.01,3,     0.31,3, 18.2570,    202
    49SU9305_1,  PR17,SU4844,  3,     16,   -999,5,19930601,0613, 30.6580, 132.1885, 2520,    252.4,  16.4270,  34.7130,3,-999.0000,9,    187.0,3,     7.80,3,     0.00,3,     0.47,3, 16.3870,    252
    49SU9305_1,  PR17,SU4844,  3,     15,   -999,5,19930601,0613, 30.6580, 132.1885, 2520,    303.0,  15.1470,  34.6321,3,-999.0000,9,    180.0,3,    10.50,3,     0.00,3,     0.67,3, 15.1010,    303
    49SU9305_1,  PR17,SU4844,  3,     14,   -999,5,19930601,0613, 30.6580, 132.1885, 2520,    402.8,  11.9400,  34.3989,3,-999.0000,9,    177.0,3,    15.90,3,     0.00,3,     1.04,3, 11.8870,    403
    49SU9305_1,  PR17,SU4844,  3,     13,   -999,5,19930601,0613, 30.6580, 132.1885, 2520,    504.5,   9.9250,  34.3465,3,-999.0000,9,    153.0,3,    21.80,3,     0.00,3,     1.51,3,  9.8660,    505
    49SU9305_1,  PR17,SU4845,  2,      9,   -999,5,19930601,0954, 30.9985, 131.7022, 1420,    403.0,   8.5380,  34.2998,3,  34.3100,3,    130.0,3,    26.50,3,     0.00,3,     1.90,3,  8.4950,    403
    49SU9305_1,  PR17,SU4845,  2,      8,   -999,5,19930601,0954, 30.9985, 131.7022, 1420,    503.0,   6.6020,  34.2776,3,  34.2865,3,    102.0,3,    32.30,3,     0.00,3,     2.35,3,  6.5560,    503
    49SU9305_1,  PR17,SU4845,  2,      7,   -999,5,19930601,0954, 30.9985, 131.7022, 1420,    604.3,   5.4390,  34.2894,3,  34.3007,3,     84.0,3,    35.90,3,     0.00,3,     2.63,3,  5.3880,    604
    49SU9305_1,  PR17,SU4845,  2,      6,   -999,5,19930601,0954, 30.9985, 131.7022, 1420,    705.9,   4.5500,  34.3278,3,  34.3352,3,     76.0,3,    38.60,3,     0.00,3,     2.80,3,  4.4950,    706
    49SU9305_1,  PR17,SU4845,  2,      5,   -999,5,19930601,0954, 30.9985, 131.7022, 1420,    806.6,   4.0020,  34.3721,3,  34.3788,3,   -999.0,5,    39.70,3,     0.00,3,     2.89,3,  3.9430,    807
    49SU9305_1,  PR17,SU4845,  2,      4,   -999,5,19930601,0954, 30.9985, 131.7022, 1420,    908.6,   3.7390,  34.3978,3,  34.4048,3,     69.0,3,    40.30,3,     0.00,3,     2.94,3,  3.6720,    909
    49SU9305_1,  PR17,SU4845,  2,      3,   -999,5,19930601,0954, 30.9985, 131.7022, 1420,   1009.4,   3.4210,  34.4340,3,  34.4411,3,     69.0,3,    40.60,3,     0.00,3,     2.96,3,  3.3490,   1009
    49SU9305_1,  PR17,SU4845,  2,      2,   -999,5,19930601,0954, 30.9985, 131.7022, 1420,   1213.1,   3.0640,  34.4767,3,  34.4831,3,     74.0,3,    40.60,3,     0.00,3,     2.96,3,  2.9790,   1213
    49SU9305_1,  PR17,SU4845,  2,      1,   -999,5,19930601,0954, 30.9985, 131.7022, 1420,   1365.7,   2.7740,  34.5112,3,  34.5192,3,     81.0,3,    40.50,3,     0.00,3,     2.94,3,  2.6800,   1366
    49SU9305_1,  PR17,SU4845,  3,     19,   -999,5,19930601,1038, 31.0070, 131.6963, 1400,      9.5,  22.0000,  34.7273,3,  34.7195,3,    222.0,3,     0.00,3,     0.00,3,     0.00,3, 21.9980,     10
    49SU9305_1,  PR17,SU4845,  3,     18,   -999,5,19930601,1038, 31.0070, 131.6963, 1400,     25.5,  21.9800,  34.7292,3,  34.7222,3,    220.0,3,     0.00,3,     0.01,3,     0.01,3, 21.9750,     26
    49SU9305_1,  PR17,SU4845,  3,     17,   -999,5,19930601,1038, 31.0070, 131.6963, 1400,     50.7,  21.4610,  34.7284,3,  34.7205,3,    216.0,3,     0.50,3,     0.06,3,     0.05,3, 21.4520,     51
    49SU9305_1,  PR17,SU4845,  3,     16,   -999,5,19930601,1038, 31.0070, 131.6963, 1400,     72.1,  19.8290,  34.6761,3,  34.6940,3,    214.0,3,     2.10,3,     0.21,3,     0.15,3, 19.8160,     72
    49SU9305_1,  PR17,SU4845,  3,     15,   -999,5,19930601,1038, 31.0070, 131.6963, 1400,    100.7,  19.1430,  34.6957,3,  34.6883,3,    207.0,3,     3.30,3,     0.17,3,     0.22,3, 19.1250,    101
    49SU9305_1,  PR17,SU4845,  3,     14,   -999,5,19930601,1038, 31.0070, 131.6963, 1400,    124.6,  17.9880,  34.6918,3,  34.6859,3,    205.0,3,     4.90,3,     0.09,3,     0.31,3, 17.9670,    125
    49SU9305_1,  PR17,SU4845,  3,     13,   -999,5,19930601,1038, 31.0070, 131.6963, 1400,    150.2,  17.0330,  34.6634,3,  34.6558,3,    200.0,3,     6.20,3,     0.07,3,     0.42,3, 17.0080,    150
    49SU9305_1,  PR17,SU4845,  3,     12,   -999,5,19930601,1038, 31.0070, 131.6963, 1400,    200.9,  15.2180,  34.6242,3,  34.6242,3,    178.0,3,    10.80,3,     0.01,3,     0.73,3, 15.1880,    201
    49SU9305_1,  PR17,SU4845,  3,     11,   -999,5,19930601,1038, 31.0070, 131.6963, 1400,    252.3,  13.4510,  34.5308,3,  34.5343,3,    173.0,3,    14.20,3,     0.00,3,     0.98,3, 13.4150,    252
    49SU9305_1,  PR17,SU4845,  3,     10,   -999,5,19930601,1038, 31.0070, 131.6963, 1400,    305.5,  11.3690,  34.4440,3,  34.4415,3,    158.0,3,    18.80,3,     0.00,3,     1.34,3, 11.3310,    306
    49SU9305_1,  PR17,SU4846,  2,     10,   -999,5,19930601,1218, 31.1745, 131.5285,  355,     10.1,  22.4770,  34.7563,3,-999.0000,9,    218.0,3,     0.10,3,     0.00,3,     0.00,3, 22.4750,     10
    49SU9305_1,  PR17,SU4846,  2,      9,   -999,5,19930601,1218, 31.1745, 131.5285,  355,     25.0,  22.0000,  34.7283,3,-999.0000,9,    219.0,3,     0.10,3,     0.00,3,     0.00,3, 21.9950,     25
    49SU9305_1,  PR17,SU4846,  2,      8,   -999,5,19930601,1218, 31.1745, 131.5285,  355,     51.0,  18.6650,  34.6142,3,-999.0000,9,    222.0,3,     2.10,3,     0.16,3,     0.13,3, 18.6560,     51
    49SU9305_1,  PR17,SU4846,  2,      7,   -999,5,19930601,1218, 31.1745, 131.5285,  355,     76.2,  17.2040,  34.6861,3,-999.0000,9,    199.0,3,     6.20,3,     0.10,3,     0.37,3, 17.1910,     76
    49SU9305_1,  PR17,SU4846,  2,      6,   -999,5,19930601,1218, 31.1745, 131.5285,  355,    101.0,  16.4200,  34.6547,3,-999.0000,9,    191.0,3,     8.00,3,     0.04,3,     0.50,3, 16.4030,    101
    49SU9305_1,  PR17,SU4846,  2,      5,   -999,5,19930601,1218, 31.1745, 131.5285,  355,    126.1,  15.7340,  34.6382,3,-999.0000,9,    189.0,3,     9.00,3,     0.01,3,     0.57,3, 15.7140,    126
    49SU9305_1,  PR17,SU4846,  2,      4,   -999,5,19930601,1218, 31.1745, 131.5285,  355,    152.2,  14.6430,  34.5728,3,-999.0000,9,    181.0,3,    11.30,3,     0.01,3,     0.74,3, 14.6200,    152
    49SU9305_1,  PR17,SU4846,  2,      3,   -999,5,19930601,1218, 31.1745, 131.5285,  355,    201.9,  13.4860,  34.5360,3,-999.0000,9,    174.0,3,    14.20,3,     0.00,3,     0.93,3, 13.4570,    202
    49SU9305_1,  PR17,SU4846,  2,      2,   -999,5,19930601,1218, 31.1745, 131.5285,  355,    252.2,  12.7050,  34.4961,3,-999.0000,9,    168.0,3,    15.80,3,     0.01,3,     1.05,3, 12.6710,    252
    49SU9305_1,  PR17,SU4846,  2,      1,   -999,5,19930601,1218, 31.1745, 131.5285,  355,    302.5,  11.2460,  34.4185,3,-999.0000,9,    158.0,3,    19.50,3,     0.00,3,     1.33,3, 11.2080,    303