BOTTLE,20010917WHPSIOKJU
EXPOCODE,SECT_ID,STNNBR,CASTNO,SAMPNO,BTLNBR,BTLNBR_FLAG_W,DATE,TIME,LATITUDE,LONGITUDE,DEPTH,CTDPRS,CTDTMP,CTDSAL,CTDSAL_FLAG_W,SALNTY,SALNTY_FLAG_W,OXYGEN,OXYGEN_FLAG_W,SILCAT,SILCAT_FLAG_W,NITRAT,NITRAT_FLAG_W,NITRIT,NITRIT_FLAG_W,PHSPHT,PHSPHT_FLAG_W
,,,,,ID,,,,,,,DBAR,ITS-90,PSS-78,,PSS-78,,UMOL/KG,,UMOL/KG,,UMOL/KG,,UMOL/KG,,UMOL/KG,
     06GA226_2,  AR19,    76,  2,     24,    N06,2,19930724,0656, 48.8550, -13.8000, 4500,      6.5,  16.8490,  35.6657,2,  35.6630,2,    247.1,2,     0.31,2,     0.09,2,     0.02,2,     0.01,2
     06GA226_2,  AR19,    76,  2,     23,    N07,2,19930724,0656, 48.8550, -13.8000, 4500,     96.3,  11.3210,  35.5252,2,  35.5229,2,    246.7,2,     2.77,2,     9.42,2,     0.04,2,     0.58,2
     06GA226_2,  AR19,    76,  2,     22,    N02,2,19930724,0656, 48.8550, -13.8000, 4500,    297.2,  10.8010,  35.4906,2,  35.4891,2,    242.3,2,     4.03,2,    11.04,2,     0.03,2,     0.68,2
     06GA226_2,  AR19,    76,  2,     21,    D21,2,19930724,0656, 48.8550, -13.8000, 4500,    496.2,  10.2340,  35.4419,2,  35.4414,2,    231.6,2,     5.42,2,    13.08,2,     0.04,2,     0.79,2
     06GA226_2,  AR19,    76,  2,     20,    N01,2,19930724,0656, 48.8550, -13.8000, 4500,    595.6,   9.7400,  35.3865,2,  35.3875,2,    222.1,2,     6.76,2,    14.65,2,     0.03,2,     0.89,2
     06GA226_2,  AR19,    76,  2,     19,    D04,2,19930724,0656, 48.8550, -13.8000, 4500,    746.9,   9.1680,  35.4266,2,  35.4254,2,    201.3,2,     8.68,2,    16.72,2,     0.03,2,     1.07,2
     06GA226_2,  AR19,    76,  2,     18,    D18,2,19930724,0656, 48.8550, -13.8000, 4500,    995.6,   8.0080,  35.4413,2,  35.4412,2,    204.1,2,    10.27,2,    17.59,2,     0.04,2,     1.08,2
     06GA226_2,  AR19,    76,  2,     17,    D17,2,19930724,0656, 48.8550, -13.8000, 4500,   1245.3,   5.7750,  35.1662,2,  35.1683,2,    231.9,2,    11.19,2,    17.94,2,     0.04,2,     1.17,2
     06GA226_2,  AR19,    76,  2,     16,    N03,2,19930724,0656, 48.8550, -13.8000, 4500,   1495.5,   4.2160,  34.9640,2,  34.9639,2,    261.4,2,    10.80,2,    17.59,2,     0.03,2,     1.17,2
     06GA226_2,  AR19,    76,  2,     15,    D15,2,19930724,0656, 48.8550, -13.8000, 4500,   1745.9,   3.7790,  34.9373,2,  34.9386,2,    270.3,2,    11.27,2,    17.30,2,     0.04,2,     1.17,2
     06GA226_2,  AR19,    76,  2,     14,    D14,2,19930724,0656, 48.8550, -13.8000, 4500,   1998.0,   3.4530,  34.9320,2,  34.9304,2,    271.5,2,    12.69,2,    17.07,2,     0.04,2,     1.17,2
     06GA226_2,  AR19,    76,  2,     12,    D12,2,19930724,0656, 48.8550, -13.8000, 4500,   2246.8,   3.3050,  34.9608,2,  34.9604,2,    261.4,2,  -999.00,9,  -999.00,9,  -999.00,9,  -999.00,9
     06GA226_2,  AR19,    76,  2,     13,    N04,2,19930724,0656, 48.8550, -13.8000, 4500,   2247.8,   3.3030,  34.9602,2,  34.9595,2,    261.5,2,    18.55,2,    17.88,2,     0.04,2,     1.18,2
     06GA226_2,  AR19,    76,  2,     11,    N08,2,19930724,0656, 48.8550, -13.8000, 4500,   2497.5,   3.0790,  34.9614,2,  34.9596,2,    255.0,2,    18.82,2,    18.02,2,     0.05,2,     1.18,2
     06GA226_2,  AR19,    76,  2,     10,    D19,2,19930724,0656, 48.8550, -13.8000, 4500,   2747.2,   2.8940,  34.9519,2,  34.9531,2,    251.3,2,    24.82,2,    18.98,2,     0.04,2,     1.27,2
     06GA226_2,  AR19,    76,  2,     09,    D09,2,19930724,0656, 48.8550, -13.8000, 4500,   2997.5,   2.7490,  34.9411,2,  34.9400,2,    247.4,2,    29.57,2,    19.67,2,     0.04,2,     1.36,2
     06GA226_2,  AR19,    76,  2,     08,    D08,2,19930724,0656, 48.8550, -13.8000, 4500,   3248.8,   2.6550,  34.9321,2,  34.9306,2,    245.3,2,    33.58,2,    20.22,2,     0.03,2,     1.37,2
     06GA226_2,  AR19,    76,  2,     07,    D16,2,19930724,0656, 48.8550, -13.8000, 4500,   3498.3,   2.5840,  34.9237,2,  34.9257,2,    244.1,2,    36.20,2,    20.69,2,     0.03,2,     1.46,2
     06GA226_2,  AR19,    76,  2,     06,    D06,2,19930724,0656, 48.8550, -13.8000, 4500,   3748.1,   2.5440,  34.9172,2,  34.9152,2,    243.4,2,    38.48,2,    21.03,2,     0.03,2,     1.46,2
     06GA226_2,  AR19,    76,  2,     05,    D05,2,19930724,0656, 48.8550, -13.8000, 4500,   4002.1,   2.5170,  34.9100,2,  34.9127,2,    242.4,2,    40.44,2,    21.36,2,     0.03,2,     1.47,2
     06GA226_2,  AR19,    76,  2,     04,    D13,2,19930724,0656, 48.8550, -13.8000, 4500,   4248.3,   2.5070,  34.9058,2,-999.0000,9,    242.7,2,    41.96,2,    21.56,2,     0.04,2,     1.47,2
     06GA226_2,  AR19,    76,  2,     03,    D03,3,19930724,0656, 48.8550, -13.8000, 4500,   4450.8,   2.5080,  34.9036,2,  34.9044,2,    243.4,3,    41.77,3,    21.66,2,     0.03,2,     1.47,2
     06GA226_2,  AR19,    76,  2,     02,    D02,2,19930724,0656, 48.8550, -13.8000, 4500,   4549.9,   2.5130,  34.9023,2,  34.9020,2,    241.5,2,    43.19,2,    21.75,2,     0.03,2,     1.56,2
     06GA226_2,  AR19,    76,  2,     01,    D10,2,19930724,0656, 48.8550, -13.8000, 4500,   4593.0,   2.5180,  34.9021,2,  34.9047,2,    242.0,2,    43.91,2,    21.70,2,     0.03,2,     1.56,2
     06GA226_2,  AR19,    77,  1,     24,    N06,2,19930724,1254, 48.9200, -13.2800, 3721,      7.5,  17.0060,  35.6658,2,  35.6628,2,    246.1,2,     0.42,2,     0.08,2,     0.02,2,     0.01,2
     06GA226_2,  AR19,    77,  1,     23,    N07,2,19930724,1254, 48.9200, -13.2800, 3721,     47.8,  13.3070,  35.5789,2,  35.5804,2,    253.5,2,     0.45,2,     1.23,2,     0.19,2,     0.19,2
     06GA226_2,  AR19,    77,  1,     22,    N02,2,19930724,1254, 48.9200, -13.2800, 3721,     95.4,  11.8110,  35.5838,2,  35.5795,2,    247.2,2,     2.25,2,     8.00,2,     0.03,2,     0.49,2
     06GA226_2,  AR19,    77,  1,     21,    D21,2,19930724,1254, 48.9200, -13.2800, 3721,    196.0,  11.2780,  35.5383,2,  35.5364,2,    247.8,2,     3.27,2,     9.39,2,     0.03,2,     0.58,2
     06GA226_2,  AR19,    77,  1,     20,    N01,2,19930724,1254, 48.9200, -13.2800, 3721,    297.1,  11.1220,  35.5412,2,  35.5391,2,    239.7,2,     3.77,2,    10.59,2,     0.03,2,     0.59,2
     06GA226_2,  AR19,    77,  1,     19,    D04,2,19930724,1254, 48.9200, -13.2800, 3721,    496.5,  10.4640,  35.4756,2,  35.4701,2,    230.4,2,     5.25,2,    12.85,2,     0.03,2,     0.78,2
     06GA226_2,  AR19,    77,  1,     18,    D18,2,19930724,1254, 48.9200, -13.2800, 3721,    745.9,   9.4190,  35.4311,2,  35.4298,2,    199.9,2,     8.52,2,    16.66,2,     0.03,2,     1.07,2
     06GA226_2,  AR19,    77,  1,     17,    D17,2,19930724,1254, 48.9200, -13.2800, 3721,    996.1,   8.0800,  35.4361,2,  35.4337,2,    203.0,2,    10.24,2,    17.60,2,     0.03,2,     1.17,2
     06GA226_2,  AR19,    77,  1,     16,    N03,2,19930724,1254, 48.9200, -13.2800, 3721,   1093.5,   7.3090,  35.3593,2,  35.3560,2,    212.0,2,    10.66,2,    17.81,2,     0.03,2,     1.17,2
     06GA226_2,  AR19,    77,  1,     15,    D15,2,19930724,1254, 48.9200, -13.2800, 3721,   1194.3,   6.5570,  35.2755,2,  35.2753,2,    221.7,2,    11.02,2,    17.86,2,     0.03,2,     1.17,2
     06GA226_2,  AR19,    77,  1,     14,    D14,2,19930724,1254, 48.9200, -13.2800, 3721,   1395.4,   4.9900,  35.0648,2,  35.0638,2,    245.3,2,    11.21,2,    17.84,2,     0.03,2,     1.17,2
     06GA226_2,  AR19,    77,  1,     13,    N04,2,19930724,1254, 48.9200, -13.2800, 3721,   1593.5,   4.1680,  34.9720,2,  34.9716,2,    262.5,2,    11.48,2,    17.48,2,     0.03,2,     1.17,2
     06GA226_2,  AR19,    77,  1,     12,    D12,2,19930724,1254, 48.9200, -13.2800, 3721,   1797.0,   3.6940,  34.9285,2,  34.9272,2,    271.2,2,    11.67,2,    17.16,2,     0.03,2,     1.17,2
     06GA226_2,  AR19,    77,  1,     11,    N08,2,19930724,1254, 48.9200, -13.2800, 3721,   1993.6,   3.5570,  34.9379,2,  34.9362,2,    270.9,2,    12.92,2,    17.15,2,     0.03,2,     1.17,2
     06GA226_2,  AR19,    77,  1,     10,    D19,2,19930724,1254, 48.9200, -13.2800, 3721,   2196.0,   3.4020,  34.9568,2,  34.9567,2,    264.9,2,    16.26,2,    17.48,2,     0.03,2,     1.18,2
     06GA226_2,  AR19,    77,  1,     09,    D09,2,19930724,1254, 48.9200, -13.2800, 3721,   2396.9,   3.2610,  34.9652,2,  34.9637,2,    257.1,2,    21.99,2,    18.43,2,     0.03,2,     1.26,2
     06GA226_2,  AR19,    77,  1,     08,    D08,2,19930724,1254, 48.9200, -13.2800, 3721,   2597.3,   3.0470,  34.9593,2,  34.9573,2,    251.4,2,    27.66,2,    19.25,2,     0.02,2,     1.36,2
     06GA226_2,  AR19,    77,  1,     07,    D16,2,19930724,1254, 48.9200, -13.2800, 3721,   2799.2,   2.8860,  34.9512,2,  34.9504,2,    249.3,2,    31.34,2,    19.82,2,     0.02,2,     1.37,2
     06GA226_2,  AR19,    77,  1,     06,    D06,2,19930724,1254, 48.9200, -13.2800, 3721,   2998.3,   2.7700,  34.9427,2,  34.9404,2,    248.1,2,    33.43,2,    20.14,2,     0.02,2,     1.37,2
     06GA226_2,  AR19,    77,  1,     05,    D05,2,19930724,1254, 48.9200, -13.2800, 3721,   3198.0,   2.6930,  34.9355,2,  34.9338,2,    246.6,2,    35.39,2,    20.40,2,     0.02,2,     1.46,2
     06GA226_2,  AR19,    77,  1,     04,    D13,2,19930724,1254, 48.9200, -13.2800, 3721,   3398.3,   2.6250,  34.9283,2,  34.9265,2,    244.5,2,    37.54,2,    20.78,2,     0.02,2,     1.47,2
     06GA226_2,  AR19,    77,  1,     03,    D03,2,19930724,1254, 48.9200, -13.2800, 3721,   3598.7,   2.5420,  34.9188,2,  34.9174,2,    242.9,2,    40.15,2,    21.08,2,     0.02,2,     1.47,2
     06GA226_2,  AR19,    77,  1,     02,    D02,2,19930724,1254, 48.9200, -13.2800, 3721,   3698.6,   2.5030,  34.9137,2,  34.9126,2,    242.1,2,    41.77,2,    21.23,2,     0.02,2,     1.47,2
     06GA226_2,  AR19,    77,  1,     01,    D10,2,19930724,1254, 48.9200, -13.2800, 3721,   3757.2,   2.4620,  34.9094,2,  34.9076,2,    242.1,2,    42.93,2,    21.39,2,     0.02,2,     1.56,2
     06GA226_2,  AR19,    78,  1,     24,    N06,2,19930724,1656, 48.9967, -13.0433, 3100,      6.7,  16.9590,  35.6612,2,  35.6582,2,    246.0,2,     0.27,2,     0.09,2,     0.02,2,     0.01,2
     06GA226_2,  AR19,    78,  1,     23,    N07,2,19930724,1656, 48.9967, -13.0433, 3100,     47.1,  13.0990,  35.5784,2,  35.5769,2,    251.7,2,     0.39,2,     1.75,2,     0.28,2,     0.19,2
     06GA226_2,  AR19,    78,  1,     22,    N02,2,19930724,1656, 48.9967, -13.0433, 3100,     96.7,  11.8490,  35.5967,2,  35.5976,2,    245.5,2,     2.30,2,     8.13,2,     0.03,2,     0.49,2
     06GA226_2,  AR19,    78,  1,     21,    D21,2,19930724,1656, 48.9967, -13.0433, 3100,    245.6,  11.2830,  35.5588,2,  35.5614,2,    241.7,2,     3.37,2,     9.91,2,     0.03,2,     0.58,2
     06GA226_2,  AR19,    78,  1,     20,    N01,2,19930724,1656, 48.9967, -13.0433, 3100,    395.2,  10.8310,  35.5003,2,  35.5030,2,    241.0,2,     4.07,2,    11.19,2,     0.03,2,     0.68,2
     06GA226_2,  AR19,    78,  1,     19,    D04,2,19930724,1656, 48.9967, -13.0433, 3100,    545.3,  10.2260,  35.4367,2,  35.4361,2,    229.0,2,     5.59,2,    13.28,2,     0.02,2,     0.79,2
     06GA226_2,  AR19,    78,  1,     18,    D18,2,19930724,1656, 48.9967, -13.0433, 3100,    695.5,   9.6840,  35.4378,2,  35.4348,2,    204.9,2,     7.81,2,    15.98,2,     0.03,2,     0.98,2
     06GA226_2,  AR19,    78,  1,     17,    D17,2,19930724,1656, 48.9967, -13.0433, 3100,    845.1,   8.7180,  35.3888,2,  35.3847,2,    200.5,2,     9.39,2,    17.30,2,     0.03,2,     1.08,2
     06GA226_2,  AR19,    78,  1,     16,    N03,2,19930724,1656, 48.9967, -13.0433, 3100,    996.2,   7.7080,  35.3704,2,  35.3717,2,    206.9,2,    10.34,2,    17.79,2,     0.03,2,     1.17,2
     06GA226_2,  AR19,    78,  1,     15,    D15,2,19930724,1656, 48.9967, -13.0433, 3100,   1146.0,   7.2050,  35.3901,2,  35.3908,2,    214.6,2,    11.00,2,    17.68,2,     0.03,2,     1.17,2
     06GA226_2,  AR19,    78,  1,     14,    D14,2,19930724,1656, 48.9967, -13.0433, 3100,   1294.9,   5.2530,  35.0896,2,  35.0919,2,    240.0,2,    11.24,2,    17.98,2,     0.03,2,     1.17,2
     06GA226_2,  AR19,    78,  1,     13,    N04,2,19930724,1656, 48.9967, -13.0433, 3100,   1393.9,   4.4420,  34.9818,2,  34.9796,2,    255.6,2,    10.85,2,    17.72,2,     0.03,2,     1.17,2
     06GA226_2,  AR19,    78,  1,     12,    D12,2,19930724,1656, 48.9967, -13.0433, 3100,   1596.9,   3.7700,  34.9122,2,  34.9116,2,    271.9,2,    10.51,2,    17.16,2,     0.03,2,     1.17,2
     06GA226_2,  AR19,    78,  1,     11,    N08,2,19930724,1656, 48.9967, -13.0433, 3100,   1746.1,   3.5810,  34.9033,2,  34.9018,2,    276.2,2,    10.69,2,    16.88,2,     0.02,2,     1.08,2
     06GA226_2,  AR19,    78,  1,     10,    D19,2,19930724,1656, 48.9967, -13.0433, 3100,   1893.2,   3.5110,  34.9105,2,  34.9100,2,    276.0,2,    11.24,2,    16.92,2,     0.02,2,     1.17,2
     06GA226_2,  AR19,    78,  1,     09,    D09,2,19930724,1656, 48.9967, -13.0433, 3100,   2046.2,   3.4680,  34.9289,2,  34.9298,2,    271.9,2,    12.50,2,    16.97,2,     0.03,2,     1.17,2
     06GA226_2,  AR19,    78,  1,     08,    D08,2,19930724,1656, 48.9967, -13.0433, 3100,   2198.0,   3.4220,  34.9536,2,  34.9522,2,    265.6,2,    15.89,2,    17.41,2,     0.02,2,     1.17,2
     06GA226_2,  AR19,    78,  1,     07,    D16,2,19930724,1656, 48.9967, -13.0433, 3100,   2346.9,   3.3050,  34.9636,2,  34.9645,2,    259.5,2,    20.03,2,    18.16,2,     0.03,2,     1.26,2
     06GA226_2,  AR19,    78,  1,     06,    D06,2,19930724,1656, 48.9967, -13.0433, 3100,   2496.0,   3.1500,  34.9625,2,  34.9612,2,    256.3,2,    23.89,2,    18.73,2,     0.03,2,     1.26,2
     06GA226_2,  AR19,    78,  1,     05,    D05,2,19930724,1656, 48.9967, -13.0433, 3100,   2646.8,   3.0400,  34.9584,2,  34.9584,2,    253.7,2,    26.58,2,    19.15,2,     0.03,2,     1.27,2
     06GA226_2,  AR19,    78,  1,     04,    D13,2,19930724,1656, 48.9967, -13.0433, 3100,   2797.6,   2.8770,  34.9502,2,  34.9474,2,    249.4,2,    31.21,2,    20.02,2,     0.03,2,     1.37,2
     06GA226_2,  AR19,    78,  1,     03,    D03,2,19930724,1656, 48.9967, -13.0433, 3100,   2897.5,   2.8370,  34.9470,2,  34.9444,2,    247.9,2,    32.56,2,    20.12,2,     0.03,2,     1.37,2
     06GA226_2,  AR19,    78,  1,     02,    D02,2,19930724,1656, 48.9967, -13.0433, 3100,   3001.9,   2.8100,  34.9445,2,  34.9412,2,    248.2,2,    33.40,2,    20.26,2,     0.02,2,     1.37,2
     06GA226_2,  AR19,    78,  1,     01,    D10,2,19930724,1656, 48.9967, -13.0433, 3100,   3096.9,   2.7300,  34.9377,2,  34.9357,2,    246.3,2,    35.03,2,    20.50,2,     0.02,2,     1.46,2
     06GA226_2,  AR19,    79,  1,     24,    N06,2,19930724,2006, 48.9983, -12.9850, 2591,      6.5,  16.8750,  35.6545,2,  35.6512,2,    245.8,2,     0.34,2,     0.06,2,     0.03,2,     0.00,2
     06GA226_2,  AR19,    79,  1,     23,    N07,2,19930724,2006, 48.9983, -12.9850, 2591,     97.9,  11.7870,  35.5940,2,  35.5928,2,    244.2,2,     2.57,2,     8.32,2,     0.03,2,     0.49,2
     06GA226_2,  AR19,    79,  1,     22,    N02,2,19930724,2006, 48.9983, -12.9850, 2591,    296.9,  11.1900,  35.5631,2,  35.5611,2,    236.7,2,     3.85,2,    10.68,2,     0.03,2,     0.59,2
     06GA226_2,  AR19,    79,  1,     21,    D21,2,19930724,2006, 48.9983, -12.9850, 2591,    395.5,  10.7680,  35.4841,2,  35.4840,2,    243.5,2,     4.23,2,    10.92,2,     0.04,2,     0.69,2
     06GA226_2,  AR19,    79,  1,     20,    N01,2,19930724,2006, 48.9983, -12.9850, 2591,    494.3,  10.6540,  35.4952,2,  35.4947,2,    232.6,2,     4.91,2,    12.25,2,     0.04,2,     0.78,2
     06GA226_2,  AR19,    79,  1,     19,    D04,2,19930724,2006, 48.9983, -12.9850, 2591,    595.0,  10.1350,  35.4472,2,  35.4451,2,    221.7,2,     6.31,2,    13.92,2,     0.04,2,     0.89,2
     06GA226_2,  AR19,    79,  1,     18,    D18,2,19930724,2006, 48.9983, -12.9850, 2591,    747.4,   9.6160,  35.4874,2,  35.4826,2,    200.0,2,     8.37,2,    16.50,2,     0.04,2,     1.08,2
     06GA226_2,  AR19,    79,  1,     17,    D17,2,19930724,2006, 48.9983, -12.9850, 2591,    795.6,   8.8310,  35.3878,2,  35.3883,2,    200.0,2,     9.38,2,    17.04,2,     0.04,2,     1.17,2
     06GA226_2,  AR19,    79,  1,     16,    N03,2,19930724,2006, 48.9983, -12.9850, 2591,    897.2,   8.3030,  35.3964,2,  35.3926,2,    201.4,2,    10.09,2,    17.53,2,     0.04,2,     1.18,2
     06GA226_2,  AR19,    79,  1,     15,    D15,2,19930724,2006, 48.9983, -12.9850, 2591,    996.8,   7.6250,  35.3597,2,  35.3618,2,    207.3,2,    10.63,2,    17.75,2,     0.04,2,     1.18,2
     06GA226_2,  AR19,    79,  1,     14,    D14,2,19930724,2006, 48.9983, -12.9850, 2591,   1096.0,   7.5880,  35.4385,2,  35.4382,2,    209.7,2,    10.94,2,    17.47,2,     0.04,2,     1.17,2
     06GA226_2,  AR19,    79,  1,     13,    N04,2,19930724,2006, 48.9983, -12.9850, 2591,   1193.7,   6.6270,  35.3046,2,  35.3033,2,    221.5,2,    11.67,2,    17.64,2,     0.04,2,     1.18,2
     06GA226_2,  AR19,    79,  1,     12,    D12,2,19930724,2006, 48.9983, -12.9850, 2591,   1295.1,   5.4560,  35.1221,2,-999.0000,9,    235.4,2,    11.68,2,    17.70,2,     0.04,2,     1.18,2
     06GA226_2,  AR19,    79,  1,     11,    N08,2,19930724,2006, 48.9983, -12.9850, 2591,   1396.7,   4.3950,  34.9758,2,  34.9751,2,    256.3,2,    11.06,2,    17.46,2,     0.04,2,     1.18,2
     06GA226_2,  AR19,    79,  1,     10,    D19,2,19930724,2006, 48.9983, -12.9850, 2591,   1496.5,   3.9980,  34.9351,2,  34.9347,2,    265.7,2,    10.94,2,    17.22,2,     0.04,2,     1.18,2
     06GA226_2,  AR19,    79,  1,     09,    D09,2,19930724,2006, 48.9983, -12.9850, 2591,   1595.2,   3.7540,  34.9103,2,  34.9099,2,    272.1,2,    10.76,2,    16.95,2,     0.04,2,     1.17,2
     06GA226_2,  AR19,    79,  1,     08,    D08,2,19930724,2006, 48.9983, -12.9850, 2591,   1698.7,   3.6740,  34.9072,2,  34.9066,2,    273.9,2,    10.89,2,    16.84,2,     0.04,2,     1.17,2
     06GA226_2,  AR19,    79,  1,     07,    D16,2,19930724,2006, 48.9983, -12.9850, 2591,   1794.0,   3.5810,  34.9074,2,  34.9078,2,    275.5,2,    11.16,2,    16.80,2,     0.05,2,     1.17,2
     06GA226_2,  AR19,    79,  1,     06,    D06,2,19930724,2006, 48.9983, -12.9850, 2591,   1893.9,   3.5850,  34.9276,2,  34.9273,2,    271.9,2,    12.44,2,    16.91,2,     0.03,2,     1.17,2
     06GA226_2,  AR19,    79,  1,     05,    D05,2,19930724,2006, 48.9983, -12.9850, 2591,   1996.4,   3.4670,  34.9305,2,  34.9305,2,    270.9,2,    13.08,2,    16.78,2,     0.03,2,     1.17,2
     06GA226_2,  AR19,    79,  1,     04,    D13,2,19930724,2006, 48.9983, -12.9850, 2591,   2096.8,   3.4750,  34.9513,2,  34.9517,2,    266.0,2,    15.58,2,    17.28,2,     0.03,2,     1.18,2
     06GA226_2,  AR19,    79,  1,     03,    D03,2,19930724,2006, 48.9983, -12.9850, 2591,   2196.3,   3.4390,  34.9601,2,  34.9586,2,    264.2,2,    17.53,2,    17.48,2,     0.03,2,     1.26,2
     06GA226_2,  AR19,    79,  1,     02,    D02,2,19930724,2006, 48.9983, -12.9850, 2591,   2398.4,   3.2260,  34.9638,2,  34.9625,2,    256.4,2,    22.95,2,    18.24,2,     0.03,2,     1.27,2
     06GA226_2,  AR19,    79,  1,     01,    D10,2,19930724,2006, 48.9983, -12.9850, 2591,   2563.5,   3.0300,  34.9585,2,  34.9562,2,    251.5,2,    28.80,2,    19.24,2,     0.03,2,     1.37,2