BOTTLE,20010917WHPSIOKJU
EXPOCODE,SECT_ID,STNNBR,CASTNO,SAMPNO,BTLNBR,BTLNBR_FLAG_W,DATE,TIME,LATITUDE,LONGITUDE,DEPTH,CTDPRS,CTDTMP,CTDSAL,CTDSAL_FLAG_W,SALNTY,SALNTY_FLAG_W,OXYGEN,OXYGEN_FLAG_W,SILCAT,SILCAT_FLAG_W,NITRAT,NITRAT_FLAG_W,NITRIT,NITRIT_FLAG_W,PHSPHT,PHSPHT_FLAG_W
,,,,,ID,,,,,,,DBAR,ITS-90,PSS-78,,PSS-78,,UMOL/KG,,UMOL/KG,,UMOL/KG,,UMOL/KG,,UMOL/KG,
     06GA226_2,  AR19,    24,  2,     24,    D24,2,19930710,1644, 41.9667, -45.0050, 4811,   1995.0,   3.5420,  34.9081,2,  34.9099,2,    284.9,2,    10.82,2,    16.98,2,     0.01,2,     1.17,2
     06GA226_2,  AR19,    24,  2,     23,    D23,2,19930710,1644, 41.9667, -45.0050, 4811,   2097.2,   3.4970,  34.9106,2,  34.9109,2,    269.3,3,    11.07,2,    17.02,2,     0.03,2,     1.17,2
     06GA226_2,  AR19,    24,  2,     22,    D22,2,19930710,1644, 41.9667, -45.0050, 4811,   2198.1,   3.4480,  34.9098,2,  34.9099,2,    282.5,2,    11.24,2,    16.96,2,     0.02,2,     1.08,2
     06GA226_2,  AR19,    24,  2,     21,    D21,2,19930710,1644, 41.9667, -45.0050, 4811,   2297.3,   3.4130,  34.9122,2,  34.9128,2,    280.4,2,    11.46,2,    16.95,2,     0.03,2,     1.17,2
     06GA226_2,  AR19,    24,  2,     19,    D19,2,19930710,1644, 41.9667, -45.0050, 4811,   2497.0,   3.3930,  34.9299,2,  34.9300,2,    273.3,2,    12.47,2,    17.09,2,     0.03,2,     1.17,2
     06GA226_2,  AR19,    24,  2,     18,    D18,2,19930710,1644, 41.9667, -45.0050, 4811,   2598.3,   3.3690,  34.9354,2,  34.9359,2,    271.4,2,    12.99,2,    17.01,2,     0.04,2,     1.17,2
     06GA226_2,  AR19,    24,  2,     17,    D17,2,19930710,1644, 41.9667, -45.0050, 4811,   2697.4,   3.3120,  34.9381,2,  34.9388,2,    270.8,2,    13.47,2,    16.98,2,     0.04,2,     1.17,2
     06GA226_2,  AR19,    24,  2,     16,    D16,2,19930710,1644, 41.9667, -45.0050, 4811,   2798.2,   3.2440,  34.9383,2,  34.9404,2,    271.2,2,    13.78,2,    17.11,2,     0.04,2,     1.17,2
     06GA226_2,  AR19,    24,  2,     15,    D15,2,19930710,1644, 41.9667, -45.0050, 4811,   2898.0,   3.1760,  34.9383,2,  34.9400,2,    270.8,2,    14.28,2,    17.10,2,     0.04,2,     1.17,2
     06GA226_2,  AR19,    24,  2,     14,    D14,2,19930710,1644, 41.9667, -45.0050, 4811,   3002.3,   3.0930,  34.9364,2,  34.9373,2,    271.7,2,    14.71,2,    16.97,2,     0.03,2,     1.17,2
     06GA226_2,  AR19,    24,  2,     13,    D13,2,19930710,1644, 41.9667, -45.0050, 4811,   3092.0,   3.0280,  34.9340,2,  34.9346,2,    272.6,2,    14.94,2,    16.94,2,     0.03,2,     1.17,2
     06GA226_2,  AR19,    24,  2,     12,    D12,2,19930710,1644, 41.9667, -45.0050, 4811,   3195.6,   2.9400,  34.9321,2,  34.9325,2,    272.8,2,    15.47,2,    16.97,2,     0.05,2,     1.17,2
     06GA226_2,  AR19,    24,  2,     11,    D11,2,19930710,1644, 41.9667, -45.0050, 4811,   3297.6,   2.8510,  34.9324,2,  34.9326,2,    270.0,3,    17.67,3,    17.34,3,     0.03,2,     1.17,2
     06GA226_2,  AR19,    24,  2,     10,    D10,2,19930710,1644, 41.9667, -45.0050, 4811,   3401.5,   2.7750,  34.9273,2,  34.9277,2,    272.0,2,    17.44,2,    17.05,2,     0.03,2,     1.17,2
     06GA226_2,  AR19,    24,  2,     09,    D09,2,19930710,1644, 41.9667, -45.0050, 4811,   3500.5,   2.6960,  34.9247,2,  34.9250,2,    271.5,2,    18.85,2,    17.26,2,     0.03,2,     1.17,2
     06GA226_2,  AR19,    24,  2,     08,    D08,2,19930710,1644, 41.9667, -45.0050, 4811,   3597.9,   2.6210,  34.9221,2,  34.9227,2,    271.6,2,    19.61,2,    17.32,2,     0.03,2,     1.17,2
     06GA226_2,  AR19,    24,  2,     06,    D06,2,19930710,1644, 41.9667, -45.0050, 4811,   3801.5,   2.4740,  34.9137,2,  34.9130,2,    274.3,3,    20.00,2,    17.03,2,     0.02,2,     1.17,2
     06GA226_2,  AR19,    24,  2,     05,    D05,2,19930710,1644, 41.9667, -45.0050, 4811,   3998.5,   2.3860,  34.9078,2,  34.9074,2,    271.7,2,    23.07,2,    17.51,2,     0.03,2,     1.18,2
     06GA226_2,  AR19,    24,  2,     04,    D04,2,19930710,1644, 41.9667, -45.0050, 4811,   4199.5,   2.3360,  34.9034,2,  34.9036,2,    271.7,2,    23.94,2,    17.49,2,     0.02,2,     1.18,2
     06GA226_2,  AR19,    24,  2,     03,    D03,2,19930710,1644, 41.9667, -45.0050, 4811,   4401.1,   2.3090,  34.9004,2,  34.9002,2,    272.2,2,    24.39,2,    17.55,2,     0.04,2,     1.18,2
     06GA226_2,  AR19,    24,  2,     02,    D02,2,19930710,1644, 41.9667, -45.0050, 4811,   4600.0,   2.2900,  34.8964,2,  34.8975,2,    272.7,2,    24.45,2,    17.47,2,     0.03,2,     1.18,2
     06GA226_2,  AR19,    24,  2,     01,    D01,2,19930710,1644, 41.9667, -45.0050, 4811,   4885.3,   2.2770,  34.8931,2,  34.8966,2,    273.2,2,    24.36,2,    17.38,2,     0.04,2,     1.18,2
     06GA226_2,  AR19,    25,  1,     24,    D24,2,19930710,2342, 42.1717, -44.3750, 4864,     97.0,  17.9730,  36.4963,2,  36.4962,2,    214.7,2,     0.98,2,     2.93,2,     0.05,2,     0.11,2
     06GA226_2,  AR19,    25,  1,     23,    D23,2,19930710,2342, 42.1717, -44.3750, 4864,    294.9,  16.2790,  36.2830,2,  36.2797,2,    224.2,2,     1.65,2,     4.92,2,     0.03,2,     0.20,2
     06GA226_2,  AR19,    25,  1,     22,    D22,2,19930710,2342, 42.1717, -44.3750, 4864,    494.2,  14.6130,  35.9698,2,  35.9684,2,    213.7,2,     2.92,2,     8.18,2,     0.03,2,     0.40,2
     06GA226_2,  AR19,    25,  1,     21,    D21,2,19930710,2342, 42.1717, -44.3750, 4864,    794.8,   8.8470,  35.1318,2,  35.1414,2,    169.6,2,    11.56,2,    20.51,2,     0.05,2,     1.37,2
     06GA226_2,  AR19,    25,  1,     20,    N01,2,19930710,2342, 42.1717, -44.3750, 4864,    994.0,   6.8190,  35.1055,2,  35.1067,2,    207.8,2,    11.74,2,    19.65,2,     0.04,2,     1.28,2
     06GA226_2,  AR19,    25,  1,     19,    D19,2,19930710,2342, 42.1717, -44.3750, 4864,   1195.3,   5.3340,  35.0417,2,  35.0438,2,    231.6,2,    11.54,2,    18.81,2,     0.03,2,     1.26,2
     06GA226_2,  AR19,    25,  1,     17,    D18,2,19930710,2342, 42.1717, -44.3750, 4864,   1595.2,   4.0810,  34.9547,2,  34.9551,2,    264.4,2,    10.82,2,    17.38,2,     0.03,2,     1.17,2
     06GA226_2,  AR19,    25,  1,     16,    D17,2,19930710,2342, 42.1717, -44.3750, 4864,   1796.0,   3.7990,  34.9316,2,  34.9325,2,    271.5,2,    10.84,2,    17.27,2,     0.02,2,     1.17,2
     06GA226_2,  AR19,    25,  1,     15,    D16,2,19930710,2342, 42.1717, -44.3750, 4864,   1995.0,   3.6060,  34.9167,2,  34.9162,2,    275.4,2,    10.93,2,    17.05,2,     0.02,2,     1.17,2
     06GA226_2,  AR19,    25,  1,     14,    D15,2,19930710,2342, 42.1717, -44.3750, 4864,   2096.3,   3.5220,  34.9111,2,  34.9110,2,    276.7,2,    11.02,2,    17.06,2,     0.02,2,     1.17,2
     06GA226_2,  AR19,    25,  1,     13,    D14,2,19930710,2342, 42.1717, -44.3750, 4864,   2397.0,   3.4800,  34.9288,2,  34.9278,2,    274.2,2,    12.09,2,    17.15,2,     0.03,2,     1.17,2
     06GA226_2,  AR19,    25,  1,     12,    D13,2,19930710,2342, 42.1717, -44.3750, 4864,   2597.7,   3.4280,  34.9435,2,  34.9427,2,    270.8,2,    13.28,2,    17.17,2,     0.03,2,     1.17,2
     06GA226_2,  AR19,    25,  1,     11,    D12,2,19930710,2342, 42.1717, -44.3750, 4864,   2798.1,   3.3140,  34.9445,2,  34.9440,2,    269.5,2,    14.11,2,    17.28,2,     0.03,2,     1.17,2
     06GA226_2,  AR19,    25,  1,     10,    D11,2,19930710,2342, 42.1717, -44.3750, 4864,   2998.3,   3.1380,  34.9416,2,  34.9416,2,    270.4,2,    15.23,2,    17.20,2,     0.03,2,     1.17,2
     06GA226_2,  AR19,    25,  1,     09,    D10,2,19930710,2342, 42.1717, -44.3750, 4864,   3198.5,   2.9860,  34.9378,2,  34.9381,2,    270.3,2,    16.59,2,    17.21,2,     0.03,2,     1.17,2
     06GA226_2,  AR19,    25,  1,     08,    D09,2,19930710,2342, 42.1717, -44.3750, 4864,   3398.9,   2.8340,  34.9317,2,  34.9322,2,    271.4,2,    17.90,2,    17.27,2,     0.03,2,     1.18,2
     06GA226_2,  AR19,    25,  1,     07,    N02,3,19930710,2342, 42.1717, -44.3750, 4864,   3599.7,   2.6530,  34.9228,2,  34.9218,2,    278.7,3,    18.11,3,    17.10,3,     0.04,3,     1.17,2
     06GA226_2,  AR19,    25,  1,     06,    D06,2,19930710,2342, 42.1717, -44.3750, 4864,   3799.1,   2.5190,  34.9161,2,  34.9157,2,    274.2,2,    19.63,2,    17.18,2,     0.03,2,     1.17,2
     06GA226_2,  AR19,    25,  1,     05,    D05,2,19930710,2342, 42.1717, -44.3750, 4864,   3999.0,   2.4140,  34.9102,2,  34.9095,2,    272.5,2,    21.73,2,    17.37,2,     0.03,2,     1.18,2
     06GA226_2,  AR19,    25,  1,     04,    D04,2,19930710,2342, 42.1717, -44.3750, 4864,   4201.4,   2.3630,  34.9063,2,  34.9058,2,    272.5,2,    22.84,2,    17.43,2,     0.03,2,     1.18,2
     06GA226_2,  AR19,    25,  1,     03,    D03,2,19930710,2342, 42.1717, -44.3750, 4864,   4400.2,   2.3190,  34.9010,2,  34.9008,2,    271.3,2,    24.57,2,    17.74,2,     0.03,2,     1.26,2
     06GA226_2,  AR19,    25,  1,     02,    D02,2,19930710,2342, 42.1717, -44.3750, 4864,   4600.1,   2.2980,  34.8970,2,  34.8980,2,    271.9,2,    25.13,2,    17.70,2,     0.03,2,     1.26,2
     06GA226_2,  AR19,    25,  1,     01,    D01,2,19930710,2342, 42.1717, -44.3750, 4864,   4968.2,   2.2820,  34.8928,2,  34.8947,2,    271.9,2,    25.37,2,    17.68,2,     0.03,2,     1.18,2
     06GA226_2,  AR19,    26,  1,     23,    D23,2,19930711,0608, 42.3483, -43.7300, 4855,     95.6,  17.8770,  36.4809,2,  36.4752,2,    213.8,2,     1.04,2,     3.00,2,     0.04,2,     0.11,2
     06GA226_2,  AR19,    26,  1,     22,    D22,2,19930711,0608, 42.3483, -43.7300, 4855,    197.7,  17.5350,  36.4755,2,  36.4726,2,    216.6,2,     1.17,2,     3.42,2,     0.04,2,     0.11,2
     06GA226_2,  AR19,    26,  1,     21,    D21,2,19930711,0608, 42.3483, -43.7300, 4855,    398.4,  16.1800,  36.2681,2,  36.2663,2,    219.8,2,     1.93,2,     5.28,2,     0.03,2,     0.29,2
     06GA226_2,  AR19,    26,  1,     20,    N01,2,19930711,0608, 42.3483, -43.7300, 4855,    595.3,  12.9220,  35.6590,2,  35.6569,2,    195.7,2,     5.34,2,    12.80,2,     0.03,2,     0.78,2
     06GA226_2,  AR19,    26,  1,     19,    D19,2,19930711,0608, 42.3483, -43.7300, 4855,    791.6,   9.8890,  35.2709,2,  35.2701,2,    187.3,2,     8.77,2,    17.44,2,     0.04,2,     1.17,2
     06GA226_2,  AR19,    26,  1,     18,    D18,2,19930711,0608, 42.3483, -43.7300, 4855,    993.9,   6.7330,  35.0329,2,  35.0322,2,    197.1,2,    12.19,2,    20.00,2,     0.05,2,     1.37,2
     06GA226_2,  AR19,    26,  1,     17,    D17,2,19930711,0608, 42.3483, -43.7300, 4855,   1244.0,   5.3270,  35.0598,2,  35.0588,2,    233.0,2,    11.61,2,    18.51,2,     0.04,2,     1.26,2
     06GA226_2,  AR19,    26,  1,     16,    D16,2,19930711,0608, 42.3483, -43.7300, 4855,   1481.2,   4.4040,  34.9849,2,  34.9859,2,    256.9,2,    10.99,2,    17.71,2,     0.05,2,     1.18,2
     06GA226_2,  AR19,    26,  1,     15,    D15,2,19930711,0608, 42.3483, -43.7300, 4855,   1747.4,   3.8930,  34.9395,2,  34.9393,2,    269.5,2,    10.88,2,    17.24,2,     0.04,2,     1.17,2
     06GA226_2,  AR19,    26,  1,     14,    D14,2,19930711,0608, 42.3483, -43.7300, 4855,   1997.2,   3.6730,  34.9296,2,  34.9301,2,    273.9,2,    11.21,2,    17.10,2,     0.04,2,     1.17,2
     06GA226_2,  AR19,    26,  1,     13,    D13,2,19930711,0608, 42.3483, -43.7300, 4855,   2245.6,   3.5390,  34.9244,2,  34.9286,2,    274.9,2,    11.57,2,    17.00,2,     0.04,2,     1.17,2
     06GA226_2,  AR19,    26,  1,     12,    D12,2,19930711,0608, 42.3483, -43.7300, 4855,   2499.4,   3.4830,  34.9433,2,  34.9437,2,    271.3,2,    13.06,2,    17.08,2,     0.05,2,     1.17,2
     06GA226_2,  AR19,    26,  1,     11,    D11,2,19930711,0608, 42.3483, -43.7300, 4855,   2748.8,   3.3330,  34.9457,2,  34.9450,2,    269.1,2,    14.06,2,    16.98,2,     0.04,2,     1.17,2
     06GA226_2,  AR19,    26,  1,     10,    D10,2,19930711,0608, 42.3483, -43.7300, 4855,   2999.1,   3.1310,  34.9411,2,  34.9403,2,    271.0,2,    15.13,2,    16.91,2,     0.04,2,     1.17,2
     06GA226_2,  AR19,    26,  1,     09,    D09,2,19930711,0608, 42.3483, -43.7300, 4855,   3198.0,   2.9940,  34.9382,2,  34.9373,2,    270.7,2,    16.40,2,    16.99,2,     0.05,2,     1.17,2
     06GA226_2,  AR19,    26,  1,     08,    D08,2,19930711,0608, 42.3483, -43.7300, 4855,   3399.7,   2.8030,  34.9288,2,-999.0000,9,    272.8,2,    16.66,2,    16.69,2,     0.04,2,     1.17,2
     06GA226_2,  AR19,    26,  1,     07,    N02,3,19930711,0608, 42.3483, -43.7300, 4855,   3598.9,   2.6600,  34.9228,2,  34.9228,2,    276.7,3,    18.12,2,    16.85,2,     0.05,2,     1.17,2
     06GA226_2,  AR19,    26,  1,     06,    D06,2,19930711,0608, 42.3483, -43.7300, 4855,   3799.8,   2.5280,  34.9179,2,  34.9171,2,    272.6,2,    20.97,2,    17.20,2,     0.05,2,     1.18,2
     06GA226_2,  AR19,    26,  1,     05,    D05,2,19930711,0608, 42.3483, -43.7300, 4855,   3999.7,   2.4110,  34.9105,2,  34.9096,2,    270.1,2,    23.94,2,    17.58,2,     0.04,2,     1.26,2
     06GA226_2,  AR19,    26,  1,     04,    D04,2,19930711,0608, 42.3483, -43.7300, 4855,   4200.0,   2.3450,  34.9051,2,  34.9040,2,    270.6,2,    25.36,2,    17.90,2,     0.03,2,     1.26,2
     06GA226_2,  AR19,    26,  1,     03,    D03,3,19930711,0608, 42.3483, -43.7300, 4855,   4400.6,   2.3140,  34.9026,2,  34.9024,2,    273.6,3,  -999.00,9,  -999.00,9,  -999.00,9,  -999.00,9
     06GA226_2,  AR19,    26,  1,     02,    D02,2,19930711,0608, 42.3483, -43.7300, 4855,   4648.8,   2.2940,  34.8951,2,  34.8945,2,    269.3,2,    28.55,2,    18.36,2,     0.04,2,     1.26,2
     06GA226_2,  AR19,    26,  1,     01,    D01,2,19930711,0608, 42.3483, -43.7300, 4855,   4929.4,   2.2930,  34.8957,2,  34.8963,2,    270.7,2,    26.88,2,    18.03,2,     0.04,2,     1.26,2
     06GA226_2,  AR19,    27,  1,     24,    D24,2,19930711,1316, 42.5250, -43.1067, 4850,      6.2,  20.4950,  36.3795,2,  36.3688,3,    223.5,2,     0.02,2,     0.12,2,     0.04,2,     0.00,2
     06GA226_2,  AR19,    27,  1,     23,    D23,2,19930711,1316, 42.5250, -43.1067, 4850,     94.9,  17.9830,  36.4143,2,  36.4093,2,    208.6,2,     0.93,2,     3.14,2,     0.27,2,     0.11,2
     06GA226_2,  AR19,    27,  1,     22,    D22,2,19930711,1316, 42.5250, -43.1067, 4850,    295.3,  16.2980,  36.2872,2,  36.2526,3,    217.5,2,     1.85,2,     5.51,2,     0.05,2,     0.29,2
     06GA226_2,  AR19,    27,  1,     21,    D21,2,19930711,1316, 42.5250, -43.1067, 4850,    494.5,  13.9500,  35.8473,2,  35.8421,2,    203.3,2,     3.75,2,    10.03,2,     0.06,2,     0.58,2
     06GA226_2,  AR19,    27,  1,     20,    N01,2,19930711,1316, 42.5250, -43.1067, 4850,    746.1,  10.3430,  35.3844,2,  35.3811,2,    191.6,2,     7.92,2,    16.86,2,     0.05,2,     1.08,2
     06GA226_2,  AR19,    27,  1,     19,    D19,2,19930711,1316, 42.5250, -43.1067, 4850,    941.2,   6.6060,  34.9718,2,  34.9578,3,    197.4,2,    12.03,2,    19.91,2,     0.05,2,     1.36,2
     06GA226_2,  AR19,    27,  1,     18,    D18,2,19930711,1316, 42.5250, -43.1067, 4850,   1295.4,   5.1930,  35.0745,2,  35.0740,2,    238.5,2,    11.26,2,    18.26,2,     0.05,2,     1.18,2
     06GA226_2,  AR19,    27,  1,     17,    D17,2,19930711,1316, 42.5250, -43.1067, 4850,   1493.0,   4.4520,  35.0023,2,  35.0001,2,    255.4,2,    10.95,2,    17.66,2,     0.06,2,     1.17,2
     06GA226_2,  AR19,    27,  1,     16,    D16,2,19930711,1316, 42.5250, -43.1067, 4850,   1694.6,   4.0390,  34.9623,2,  34.9627,2,    265.4,2,    10.92,2,    17.44,2,     0.05,2,     1.17,2
     06GA226_2,  AR19,    27,  1,     15,    D15,2,19930711,1316, 42.5250, -43.1067, 4850,   1894.9,   3.6630,  34.9188,2,  34.9174,2,    274.2,2,    10.72,2,    17.06,2,     0.06,2,     1.17,2
     06GA226_2,  AR19,    27,  1,     14,    D14,2,19930711,1316, 42.5250, -43.1067, 4850,   2096.4,   3.4840,  34.9051,2,  34.9056,2,    278.2,2,    10.74,2,    16.89,2,     0.06,2,     1.17,2
     06GA226_2,  AR19,    27,  1,     13,    D13,2,19930711,1316, 42.5250, -43.1067, 4850,   2395.9,   3.4890,  34.9348,2,  34.9360,2,    272.4,2,    12.43,2,    17.10,2,     0.06,2,     1.17,2
     06GA226_2,  AR19,    27,  1,     12,    D12,2,19930711,1316, 42.5250, -43.1067, 4850,   2597.7,   3.4260,  34.9461,2,  34.9449,2,    269.7,2,    13.49,2,    17.05,2,     0.05,2,     1.18,2
     06GA226_2,  AR19,    27,  1,     11,    D11,2,19930711,1316, 42.5250, -43.1067, 4850,   2799.2,   3.2730,  34.9439,2,  34.9432,2,    269.2,2,    14.31,2,    16.97,2,     0.05,2,     1.17,2
     06GA226_2,  AR19,    27,  1,     10,    D10,2,19930711,1316, 42.5250, -43.1067, 4850,   2998.5,   3.1170,  34.9402,2,  34.9410,2,    271.2,2,    14.87,2,    16.89,2,     0.05,2,     1.18,2
     06GA226_2,  AR19,    27,  1,     09,    D09,2,19930711,1316, 42.5250, -43.1067, 4850,   3197.8,   2.9690,  34.9387,2,  34.9386,2,    269.4,2,    17.41,2,    17.20,2,     0.05,2,     1.18,2
     06GA226_2,  AR19,    27,  1,     08,    D08,2,19930711,1316, 42.5250, -43.1067, 4850,   3396.5,   2.8000,  34.9310,2,  34.9323,2,    269.6,2,    18.92,2,    17.24,2,     0.04,2,     1.18,2
     06GA226_2,  AR19,    27,  1,     07,    N02,3,19930711,1316, 42.5250, -43.1067, 4850,   3597.8,   2.6200,  34.9218,2,  34.9216,2,    273.7,3,    19.19,2,    17.06,3,     0.05,2,     1.18,2
     06GA226_2,  AR19,    27,  1,     06,    D06,2,19930711,1316, 42.5250, -43.1067, 4850,   3799.1,   2.5040,  34.9156,2,  34.9145,2,    271.5,2,    21.82,2,    17.37,2,     0.04,2,     1.26,2
     06GA226_2,  AR19,    27,  1,     05,    D05,2,19930711,1316, 42.5250, -43.1067, 4850,   3999.0,   2.4080,  34.9091,2,  34.9102,2,    272.1,2,    21.87,2,    17.22,2,     0.05,2,     1.18,2
     06GA226_2,  AR19,    27,  1,     04,    D04,2,19930711,1316, 42.5250, -43.1067, 4850,   4199.2,   2.3510,  34.9045,2,  34.9040,2,    271.9,2,    23.10,2,    17.41,2,     0.06,2,     1.18,2
     06GA226_2,  AR19,    27,  1,     03,    D03,2,19930711,1316, 42.5250, -43.1067, 4850,   4399.0,   2.3150,  34.9001,2,  34.8995,2,    271.8,2,    24.91,2,    17.60,2,     0.04,2,     1.26,2
     06GA226_2,  AR19,    27,  1,     02,    D02,2,19930711,1316, 42.5250, -43.1067, 4850,   4602.3,   2.3030,  34.8967,2,  34.8969,2,    271.5,2,    25.01,2,    17.50,2,     0.05,2,     1.18,2
     06GA226_2,  AR19,    27,  1,     01,    D01,2,19930711,1316, 42.5250, -43.1067, 4850,   4962.6,   2.2910,  34.8930,2,  34.8938,2,    272.4,2,    25.14,2,    17.49,2,     0.05,2,     1.18,2