BOTTLE,20010917WHPSIOKJU
EXPOCODE,SECT_ID,STNNBR,CASTNO,SAMPNO,BTLNBR,BTLNBR_FLAG_W,DATE,TIME,LATITUDE,LONGITUDE,DEPTH,CTDPRS,CTDTMP,CTDSAL,CTDSAL_FLAG_W,SALNTY,SALNTY_FLAG_W,OXYGEN,OXYGEN_FLAG_W,SILCAT,SILCAT_FLAG_W,NITRAT,NITRAT_FLAG_W,NITRIT,NITRIT_FLAG_W,PHSPHT,PHSPHT_FLAG_W
,,,,,ID,,,,,,,DBAR,ITS-90,PSS-78,,PSS-78,,UMOL/KG,,UMOL/KG,,UMOL/KG,,UMOL/KG,,UMOL/KG,
     06GA226_2,  AR19,    52,  1,     24,    D24,2,19930718,0428, 46.7100, -28.3017, 3431,      6.4,  17.7660,  35.8315,2,  35.8266,2,    248.2,2,     0.06,2,     0.09,2,     0.01,2,     0.00,2
     06GA226_2,  AR19,    52,  1,     23,    N05,2,19930718,0428, 46.7100, -28.3017, 3431,     96.7,  13.9220,  35.8309,2,  35.8337,2,    243.4,2,     1.82,2,     5.81,2,     0.51,2,     0.30,2
     06GA226_2,  AR19,    52,  1,     22,    D13,2,19930718,0428, 46.7100, -28.3017, 3431,    197.6,  13.0730,  35.7690,2,  35.7661,2,    235.9,2,     2.80,2,     8.29,2,     0.04,2,     0.49,2
     06GA226_2,  AR19,    52,  1,     21,    D21,2,19930718,0428, 46.7100, -28.3017, 3431,    295.1,  12.4050,  35.6708,2,  35.6654,2,    232.5,2,     3.79,2,     9.74,2,     0.03,2,     0.58,2
     06GA226_2,  AR19,    52,  1,     20,    N01,2,19930718,0428, 46.7100, -28.3017, 3431,    395.2,  11.4650,  35.5115,2,  35.5077,2,    228.8,2,     4.82,2,    11.51,2,     0.03,2,     0.69,2
     06GA226_2,  AR19,    52,  1,     19,    D10,2,19930718,0428, 46.7100, -28.3017, 3431,    494.9,  10.6870,  35.3969,2,  35.3922,2,    217.4,2,     6.12,2,    13.49,2,     0.03,2,     0.88,2
     06GA226_2,  AR19,    52,  1,     18,    D18,2,19930718,0428, 46.7100, -28.3017, 3431,    595.7,   9.4100,  35.2377,2,  35.2284,2,    200.7,2,     8.53,2,    16.53,2,     0.03,2,     1.08,2
     06GA226_2,  AR19,    52,  1,     17,    D17,2,19930718,0428, 46.7100, -28.3017, 3431,    692.0,   8.5940,  35.1798,2,  35.1760,2,    197.7,2,     9.77,2,    17.73,2,     0.03,2,     1.18,2
     06GA226_2,  AR19,    52,  1,     16,    D16,2,19930718,0428, 46.7100, -28.3017, 3431,    795.1,   7.5800,  35.1511,2,  35.1487,2,    202.8,2,    10.66,2,    18.38,2,     0.03,2,     1.27,2
     06GA226_2,  AR19,    52,  1,     15,    D15,2,19930718,0428, 46.7100, -28.3017, 3431,    856.1,   7.1430,  35.1716,2,  35.1661,2,    206.1,2,    11.04,2,    18.43,2,     0.03,2,     1.27,2
     06GA226_2,  AR19,    52,  1,     14,    D14,2,19930718,0428, 46.7100, -28.3017, 3431,    893.8,   6.7680,  35.1447,2,  35.1370,2,    209.8,2,    11.25,2,    18.53,2,     0.03,2,     1.27,2
     06GA226_2,  AR19,    52,  1,     13,    D04,2,19930718,0428, 46.7100, -28.3017, 3431,    944.6,   6.2030,  35.0801,2,  35.0777,2,    216.1,2,    11.43,2,    18.56,2,     0.04,2,     1.28,2
     06GA226_2,  AR19,    52,  1,     12,    D12,2,19930718,0428, 46.7100, -28.3017, 3431,    996.1,   5.7640,  35.0403,2,  35.0410,2,    224.1,2,    11.45,2,    18.39,2,     0.03,2,     1.28,2
     06GA226_2,  AR19,    52,  1,     11,    D11,2,19930718,0428, 46.7100, -28.3017, 3431,   1245.4,   4.4430,  34.9619,2,  34.9623,2,    255.7,2,    10.71,2,    17.41,2,     0.04,2,     1.18,2
     06GA226_2,  AR19,    52,  1,     10,    N03,2,19930718,0428, 46.7100, -28.3017, 3431,   1496.0,   3.8710,  34.9215,2,  34.9211,2,    270.5,2,    10.63,2,    16.96,2,     0.03,2,     1.17,2
     06GA226_2,  AR19,    52,  1,     09,    D09,2,19930718,0428, 46.7100, -28.3017, 3431,   1745.5,   3.6800,  34.9190,2,  34.9181,2,    273.0,2,    11.26,2,    16.81,2,     0.02,2,     1.17,2
     06GA226_2,  AR19,    52,  1,     08,    D08,2,19930718,0428, 46.7100, -28.3017, 3431,   1996.0,   3.5520,  34.9211,2,  34.9215,2,    273.7,2,    12.42,2,    16.80,2,     0.02,2,     1.17,2
     06GA226_2,  AR19,    52,  1,     07,    N04,2,19930718,0428, 46.7100, -28.3017, 3431,   2247.4,   3.4550,  34.9271,2,  34.9267,2,    272.1,2,    13.70,2,    16.88,2,     0.03,2,     1.17,2
     06GA226_2,  AR19,    52,  1,     06,    D06,2,19930718,0428, 46.7100, -28.3017, 3431,   2495.8,   3.3240,  34.9309,2,  34.9305,2,    272.7,2,    14.89,2,    16.88,2,     0.02,2,     1.17,2
     06GA226_2,  AR19,    52,  1,     05,    D05,2,19930718,0428, 46.7100, -28.3017, 3431,   2748.2,   3.1840,  34.9351,2,  34.9345,2,    270.7,2,    16.23,2,    16.88,2,     0.03,2,     1.17,2
     06GA226_2,  AR19,    52,  1,     04,    D19,2,19930718,0428, 46.7100, -28.3017, 3431,   2998.8,   3.0910,  34.9357,2,  34.9359,2,    270.0,2,    17.19,2,    16.88,2,     0.03,2,     1.17,2
     06GA226_2,  AR19,    52,  1,     03,    D03,2,19930718,0428, 46.7100, -28.3017, 3431,   3197.9,   3.0720,  34.9363,2,  34.9359,2,    270.5,2,    17.45,2,    16.95,2,     0.03,2,     1.17,2
     06GA226_2,  AR19,    52,  1,     02,    D02,2,19930718,0428, 46.7100, -28.3017, 3431,   3398.9,   3.0790,  34.9359,2,  34.9362,2,    270.4,2,    17.44,2,    16.92,2,     0.03,2,     1.17,2
     06GA226_2,  AR19,    52,  1,     01,    D16,2,19930718,0428, 46.7100, -28.3017, 3431,   3465.4,   3.0840,  34.9361,2,  34.9367,2,    270.6,2,    17.35,2,    16.95,2,     0.02,2,     1.17,2
     06GA226_2,  AR19,    53,  1,     23,    N05,2,19930718,0854, 46.8050, -27.8417, 2600,     94.5,  13.7280,  35.8602,2,  35.8579,2,    226.6,2,     2.79,2,     8.01,2,     0.03,2,     0.49,2
     06GA226_2,  AR19,    53,  1,     22,    D13,2,19930718,0854, 46.8050, -27.8417, 2600,    146.7,  13.2540,  35.7978,2,  35.7941,2,    232.6,2,     2.85,2,     8.12,2,     0.03,2,     0.49,2
     06GA226_2,  AR19,    53,  1,     21,    D21,2,19930718,0854, 46.8050, -27.8417, 2600,    396.0,  11.4480,  35.5076,2,  35.5075,2,    232.6,2,     4.61,2,    10.93,2,     0.03,2,     0.69,2
     06GA226_2,  AR19,    53,  1,     20,    N01,2,19930718,0854, 46.8050, -27.8417, 2600,    710.4,   8.0080,  35.1229,2,  35.1231,2,    191.9,2,    10.75,2,    18.93,2,     0.04,2,     1.28,2
     06GA226_2,  AR19,    53,  1,     18,    D18,2,19930718,0854, 46.8050, -27.8417, 2600,    804.3,   7.1970,  35.1162,2,  35.1149,2,    199.3,2,    11.30,2,    19.04,2,     0.04,2,     1.28,2
     06GA226_2,  AR19,    53,  1,     19,    D10,2,19930718,0854, 46.8050, -27.8417, 2600,    806.0,   7.2000,  35.1156,2,  35.1146,2,    199.6,2,    11.29,2,    19.09,2,     0.04,2,     1.28,2
     06GA226_2,  AR19,    53,  1,     16,    D16,2,19930718,0854, 46.8050, -27.8417, 2600,    865.2,   7.0010,  35.1662,2,  35.1577,2,    208.4,2,    10.98,2,    18.42,2,     0.03,2,     1.27,2
     06GA226_2,  AR19,    53,  1,     17,    D17,2,19930718,0854, 46.8050, -27.8417, 2600,    867.6,   7.0110,  35.1817,2,  35.1763,2,    208.2,2,    12.01,3,    18.33,2,     0.03,2,     1.27,2
     06GA226_2,  AR19,    53,  1,     15,    D15,2,19930718,0854, 46.8050, -27.8417, 2600,   1046.6,   5.2500,  35.0325,2,  35.0346,2,    236.4,2,    11.02,2,    17.94,2,     0.04,2,     1.26,2
     06GA226_2,  AR19,    53,  1,     14,    D14,2,19930718,0854, 46.8050, -27.8417, 2600,   1195.2,   4.6460,  35.0007,2,  35.0022,2,    251.3,2,    10.72,2,    17.40,2,     0.03,2,     1.18,2
     06GA226_2,  AR19,    53,  1,     13,    D04,2,19930718,0854, 46.8050, -27.8417, 2600,   1395.5,   4.0360,  34.9363,2,  34.9364,2,    265.0,2,    10.62,2,    16.90,2,     0.03,2,     1.17,2
     06GA226_2,  AR19,    53,  1,     12,    D12,2,19930718,0854, 46.8050, -27.8417, 2600,   1479.5,   3.8950,  34.9212,2,  34.9218,2,    268.7,2,    10.61,2,    16.88,2,     0.04,2,     1.17,2
     06GA226_2,  AR19,    53,  1,     11,    D11,2,19930718,0854, 46.8050, -27.8417, 2600,   1596.4,   3.7410,  34.9149,2,  34.9152,2,    271.6,2,    10.80,2,    16.66,2,     0.03,2,     1.17,2
     06GA226_2,  AR19,    53,  1,     10,    N03,2,19930718,0854, 46.8050, -27.8417, 2600,   1695.9,   3.6620,  34.9135,2,  34.9125,2,    272.9,2,    11.13,2,    16.70,2,     0.04,2,     1.17,2
     06GA226_2,  AR19,    53,  1,     09,    D09,2,19930718,0854, 46.8050, -27.8417, 2600,   1794.2,   3.6070,  34.9133,2,  34.9149,2,    273.5,2,    11.43,2,    16.61,2,     0.04,2,     1.17,2
     06GA226_2,  AR19,    53,  1,     08,    D08,2,19930718,0854, 46.8050, -27.8417, 2600,   1894.7,   3.5640,  34.9169,2,  34.9168,2,    273.1,2,    11.93,2,    16.61,2,     0.03,2,     1.17,2
     06GA226_2,  AR19,    53,  1,     07,    N04,2,19930718,0854, 46.8050, -27.8417, 2600,   1990.6,   3.5320,  34.9190,2,  34.9191,2,    272.8,2,    12.31,2,    16.64,2,     0.04,2,     1.17,2
     06GA226_2,  AR19,    53,  1,     06,    D06,2,19930718,0854, 46.8050, -27.8417, 2600,   2096.4,   3.4960,  34.9211,2,  34.9216,2,    273.3,2,    12.83,2,    16.81,2,     0.05,2,     1.17,2
     06GA226_2,  AR19,    53,  1,     05,    D05,2,19930718,0854, 46.8050, -27.8417, 2600,   2195.5,   3.4750,  34.9234,2,  34.9253,2,    272.1,2,    13.23,2,    16.83,2,     0.04,2,     1.17,2
     06GA226_2,  AR19,    53,  1,     04,    D19,2,19930718,0854, 46.8050, -27.8417, 2600,   2294.1,   3.4290,  34.9259,2,  34.9273,2,    271.5,2,    13.85,2,    16.81,2,     0.04,2,     1.17,2
     06GA226_2,  AR19,    53,  1,     03,    D03,2,19930718,0854, 46.8050, -27.8417, 2600,   2398.6,   3.4180,  34.9270,2,  34.9296,2,    271.4,2,    14.11,2,    16.85,2,     0.05,2,     1.17,2
     06GA226_2,  AR19,    53,  1,     02,    D02,2,19930718,0854, 46.8050, -27.8417, 2600,   2496.8,   3.3970,  34.9281,2,  34.9304,2,    271.0,2,    14.43,2,    16.84,2,     0.04,2,     1.17,2
     06GA226_2,  AR19,    53,  1,     01,    D16,2,19930718,0854, 46.8050, -27.8417, 2600,   2636.2,   3.3740,  34.9291,2,  34.9321,2,    270.1,2,    14.76,2,    17.05,2,     0.07,2,     1.17,2
     06GA226_2,  AR19,    54,  1,     24,    D24,2,19930718,1305, 46.9083, -27.3817, 2931,      7.9,  17.6970,  35.6061,2,  35.6033,2,    250.1,2,     0.82,2,     0.38,2,     0.02,2,     0.10,2
     06GA226_2,  AR19,    54,  1,     23,    N05,2,19930718,1305, 46.9083, -27.3817, 2931,     98.5,  12.4890,  35.6384,2,  35.6354,2,    245.4,2,     2.07,2,     8.17,2,     0.03,2,     0.49,2
     06GA226_2,  AR19,    54,  1,     22,    D13,2,19930718,1305, 46.9083, -27.3817, 2931,    248.8,  11.4740,  35.5208,2,  35.5185,2,    244.0,2,     3.93,2,    10.72,2,     0.03,2,     0.68,2
     06GA226_2,  AR19,    54,  1,     21,    D21,2,19930718,1305, 46.9083, -27.3817, 2931,    494.2,   9.4420,  35.2045,2,  35.2041,2,    228.5,2,     6.83,2,    14.98,2,     0.03,2,     0.97,2
     06GA226_2,  AR19,    54,  1,     20,    N01,2,19930718,1305, 46.9083, -27.3817, 2931,    696.1,   7.2210,  35.0793,2,  35.0806,2,    201.2,2,    10.99,2,    19.84,2,     0.03,2,     1.36,2
     06GA226_2,  AR19,    54,  1,     19,    D10,2,19930718,1305, 46.9083, -27.3817, 2931,    792.6,   6.2950,  35.0458,2,  35.0451,2,    216.4,2,    11.05,2,    19.48,2,     0.03,2,     1.28,2
     06GA226_2,  AR19,    54,  1,     18,    D18,2,19930718,1305, 46.9083, -27.3817, 2931,    894.2,   5.6480,  35.0315,2,  35.0371,2,    226.8,2,    11.02,2,    19.19,2,     0.03,2,     1.27,2
     06GA226_2,  AR19,    54,  1,     17,    D17,2,19930718,1305, 46.9083, -27.3817, 2931,    991.8,   4.9030,  34.9797,2,  34.9781,2,    243.1,2,    10.81,2,    18.66,2,     0.03,2,     1.26,2
     06GA226_2,  AR19,    54,  1,     16,    D16,2,19930718,1305, 46.9083, -27.3817, 2931,   1093.4,   4.5840,  34.9723,2,  34.9715,2,    251.8,2,    10.63,2,    18.39,2,     0.03,2,     1.18,2
     06GA226_2,  AR19,    54,  1,     15,    D15,2,19930718,1305, 46.9083, -27.3817, 2931,   1193.8,   4.3060,  34.9628,2,  34.9639,2,    258.1,2,    10.68,2,    18.11,2,     0.03,2,     1.18,2
     06GA226_2,  AR19,    54,  1,     14,    D14,2,19930718,1305, 46.9083, -27.3817, 2931,   1294.4,   4.1200,  34.9503,2,  34.9510,2,    262.7,2,    10.74,2,    17.98,2,     0.03,2,     1.18,2
     06GA226_2,  AR19,    54,  1,     13,    D04,2,19930718,1305, 46.9083, -27.3817, 2931,   1394.5,   3.9350,  34.9332,2,  34.9328,2,    266.9,2,    10.76,2,    17.84,2,     0.04,2,     1.18,2
     06GA226_2,  AR19,    54,  1,     11,    D11,2,19930718,1305, 46.9083, -27.3817, 2931,   1492.3,   3.7770,  34.9206,2,  34.9206,2,    271.3,2,    10.72,2,    17.54,2,     0.03,2,     1.17,2
     06GA226_2,  AR19,    54,  1,     12,    D12,2,19930718,1305, 46.9083, -27.3817, 2931,   1597.0,   3.6270,  34.9111,2,  34.9102,2,    274.1,2,    10.89,2,    17.50,2,     0.04,2,     1.17,2
     06GA226_2,  AR19,    54,  1,     10,    N03,2,19930718,1305, 46.9083, -27.3817, 2931,   1696.2,   3.5390,  34.9040,2,  34.9034,2,    276.6,2,    10.89,2,    17.44,2,     0.05,2,     1.17,2
     06GA226_2,  AR19,    54,  1,     09,    D09,2,19930718,1305, 46.9083, -27.3817, 2931,   1795.0,   3.4820,  34.9053,2,  34.9043,2,    276.9,2,    11.07,2,    17.25,2,     0.03,2,     1.17,2
     06GA226_2,  AR19,    54,  1,     08,    D08,2,19930718,1305, 46.9083, -27.3817, 2931,   1895.5,   3.4330,  34.9074,2,  34.9066,2,    277.0,2,    11.35,2,    17.14,2,     0.02,2,     1.17,2
     06GA226_2,  AR19,    54,  1,     07,    N04,2,19930718,1305, 46.9083, -27.3817, 2931,   1995.7,   3.4170,  34.9136,2,  34.9135,2,    276.0,2,    12.03,2,    17.30,2,     0.04,2,     1.17,2
     06GA226_2,  AR19,    54,  1,     06,    D06,2,19930718,1305, 46.9083, -27.3817, 2931,   2094.5,   3.4090,  34.9164,2,  34.9154,2,    275.4,2,    12.42,2,    17.23,2,     0.03,2,     1.17,2
     06GA226_2,  AR19,    54,  1,     05,    D05,2,19930718,1305, 46.9083, -27.3817, 2931,   2195.9,   3.3940,  34.9219,2,  34.9216,2,    273.2,2,    13.15,2,    17.26,2,     0.03,2,     1.17,2
     06GA226_2,  AR19,    54,  1,     04,    D19,2,19930718,1305, 46.9083, -27.3817, 2931,   2396.6,   3.3450,  34.9299,2,  34.9283,2,    270.6,2,    14.98,2,    17.44,2,     0.03,2,     1.18,2
     06GA226_2,  AR19,    54,  1,     03,    D03,2,19930718,1305, 46.9083, -27.3817, 2931,   2596.7,   3.2450,  34.9372,2,  34.9362,2,    268.5,2,    16.70,2,    17.44,2,     0.02,2,     1.18,2
     06GA226_2,  AR19,    54,  1,     02,    D02,2,19930718,1305, 46.9083, -27.3817, 2931,   2793.9,   3.1790,  34.9411,2,  34.9404,2,    266.3,2,    18.21,2,    17.55,2,     0.02,2,     1.18,2
     06GA226_2,  AR19,    54,  1,     01,    D16,2,19930718,1305, 46.9083, -27.3817, 2931,   2885.9,   3.1810,  34.9415,2,  34.9426,2,    266.2,2,    18.34,2,    17.57,2,     0.02,2,     1.18,2
     06GA226_2,  AR19,    55,  1,     24,    D24,2,19930718,1657, 46.9900, -26.9983, 2100,      8.3,  17.6810,  35.5650,2,  35.5644,2,    252.9,2,     0.78,2,     0.07,2,     0.02,2,     0.10,2
     06GA226_2,  AR19,    55,  1,     23,    N05,2,19930718,1657, 46.9900, -26.9983, 2100,     94.3,  11.4510,  35.4948,2,  35.4924,2,    246.3,2,     2.82,2,     9.51,2,     0.03,2,     0.58,2
     06GA226_2,  AR19,    55,  1,     22,    D13,2,19930718,1657, 46.9900, -26.9983, 2100,    198.0,  10.5690,  35.3707,2,  35.3696,2,    246.4,2,     4.58,2,    11.26,2,     0.03,2,     0.69,2
     06GA226_2,  AR19,    55,  1,     21,    D21,2,19930718,1657, 46.9900, -26.9983, 2100,    296.5,   9.9470,  35.2736,2,  35.2721,2,    236.6,2,     5.84,2,    12.87,2,     0.03,2,     0.88,2
     06GA226_2,  AR19,    55,  1,     20,    N01,2,19930718,1657, 46.9900, -26.9983, 2100,    394.9,   9.0450,  35.1641,2,  35.1626,2,    218.9,2,     7.73,2,    15.53,2,     0.03,2,     1.07,2
     06GA226_2,  AR19,    55,  1,     19,    D10,2,19930718,1657, 46.9900, -26.9983, 2100,    442.6,   8.6780,  35.1230,2,  35.1281,2,    214.7,2,     8.45,2,    16.19,2,     0.03,2,     1.08,2
     06GA226_2,  AR19,    55,  1,     18,    D18,2,19930718,1657, 46.9900, -26.9983, 2100,    499.4,   8.0720,  35.0777,2,  35.0780,2,    205.6,2,     9.56,2,    17.61,2,     0.03,2,     1.18,2
     06GA226_2,  AR19,    55,  1,     17,    D17,2,19930718,1657, 46.9900, -26.9983, 2100,    594.1,   6.9840,  35.0122,2,  35.0114,2,    206.9,2,    10.74,2,    18.54,2,     0.04,2,     1.27,2
     06GA226_2,  AR19,    55,  1,     16,    D16,2,19930718,1657, 46.9900, -26.9983, 2100,    644.0,   7.1480,  35.1224,2,  35.1262,2,    205.4,2,    10.77,2,    18.54,2,     0.03,2,     1.27,2
     06GA226_2,  AR19,    55,  1,     15,    D15,2,19930718,1657, 46.9900, -26.9983, 2100,    695.1,   6.3870,  35.0452,2,  35.0445,2,    215.1,2,    10.95,2,    18.48,2,     0.03,2,     1.27,2
     06GA226_2,  AR19,    55,  1,     14,    D14,2,19930718,1657, 46.9900, -26.9983, 2100,    748.3,   6.3930,  35.0986,2,  35.0979,2,    216.3,2,    10.91,2,    18.42,2,     0.04,2,     1.27,2
     06GA226_2,  AR19,    55,  1,     13,    D04,2,19930718,1657, 46.9900, -26.9983, 2100,    794.5,   6.3860,  35.1624,2,  35.1643,2,    219.0,2,    10.73,2,    17.97,2,     0.03,2,     1.18,2
     06GA226_2,  AR19,    55,  1,     12,    D12,2,19930718,1657, 46.9900, -26.9983, 2100,    892.1,   5.4120,  35.0408,2,  35.0397,2,    233.9,2,    10.91,2,    18.00,2,     0.04,2,     1.18,2
     06GA226_2,  AR19,    55,  1,     11,    D11,2,19930718,1657, 46.9900, -26.9983, 2100,    992.8,   4.8880,  34.9995,2,  34.9993,2,    245.0,2,    10.69,2,    17.71,2,     0.03,2,     1.18,2
     06GA226_2,  AR19,    55,  1,     10,    N03,2,19930718,1657, 46.9900, -26.9983, 2100,   1097.1,   4.4060,  34.9676,2,  34.9666,2,    256.5,2,    10.61,2,    17.46,2,     0.03,2,     1.17,2
     06GA226_2,  AR19,    55,  1,     09,    D09,2,19930718,1657, 46.9900, -26.9983, 2100,   1193.8,   4.1160,  34.9408,2,  34.9425,2,    263.2,2,    10.53,2,    17.20,2,     0.04,2,     1.17,2
     06GA226_2,  AR19,    55,  1,     08,    D08,2,19930718,1657, 46.9900, -26.9983, 2100,   1294.9,   3.9470,  34.9312,2,  34.9335,2,    267.1,2,    10.61,2,    17.06,2,     0.03,2,     1.17,2
     06GA226_2,  AR19,    55,  1,     07,    N04,2,19930718,1657, 46.9900, -26.9983, 2100,   1394.8,   3.7800,  34.9192,2,  34.9194,2,    271.2,2,    10.71,2,    16.93,2,     0.03,2,     1.17,2
     06GA226_2,  AR19,    55,  1,     06,    D06,2,19930718,1657, 46.9900, -26.9983, 2100,   1496.7,   3.6900,  34.9172,2,  34.9183,2,    273.2,2,    10.89,2,    16.84,2,     0.03,2,     1.17,2
     06GA226_2,  AR19,    55,  1,     05,    D05,3,19930718,1657, 46.9900, -26.9983, 2100,   1596.6,   3.5290,  34.9008,2,  34.8994,2,    277.7,2,    10.55,2,    16.63,2,     0.02,2,     1.08,2
     06GA226_2,  AR19,    55,  1,     04,    D19,2,19930718,1657, 46.9900, -26.9983, 2100,   1795.6,   3.4630,  34.9057,2,  34.9053,2,    277.2,2,    11.23,2,    16.68,2,     0.03,2,     1.17,2
     06GA226_2,  AR19,    55,  1,     03,    D03,2,19930718,1657, 46.9900, -26.9983, 2100,   1896.5,   3.4600,  34.9158,2,  34.9149,2,    275.3,2,    12.28,2,    16.75,2,     0.03,2,     1.17,2
     06GA226_2,  AR19,    55,  1,     02,    D02,2,19930718,1657, 46.9900, -26.9983, 2100,   1997.0,   3.4550,  34.9189,2,  34.9182,2,    273.4,2,    12.70,2,    16.79,2,     0.03,2,     1.17,2
     06GA226_2,  AR19,    55,  1,     01,    D16,2,19930718,1657, 46.9900, -26.9983, 2100,   2085.9,   3.4260,  34.9216,2,  34.9216,2,    273.0,2,    13.23,2,    16.87,2,     0.03,2,     1.17,2