BOTTLE,20010917WHPSIOKJU
EXPOCODE,SECT_ID,STNNBR,CASTNO,SAMPNO,BTLNBR,BTLNBR_FLAG_W,DATE,TIME,LATITUDE,LONGITUDE,DEPTH,CTDPRS,CTDTMP,CTDSAL,CTDSAL_FLAG_W,SALNTY,SALNTY_FLAG_W,OXYGEN,OXYGEN_FLAG_W,SILCAT,SILCAT_FLAG_W,NITRAT,NITRAT_FLAG_W,NITRIT,NITRIT_FLAG_W,PHSPHT,PHSPHT_FLAG_W
,,,,,ID,,,,,,,DBAR,ITS-90,PSS-78,,PSS-78,,UMOL/KG,,UMOL/KG,,UMOL/KG,,UMOL/KG,,UMOL/KG,
     06GA226_2,  AR19,    48,  1,     24,    D24,2,19930717,0540, 46.1633, -30.9500, 3259,      6.9,  16.9490,  35.7659,2,  35.7628,2,    249.8,2,     0.62,2,     0.74,2,     0.07,2,     0.10,2
     06GA226_2,  AR19,    48,  1,     23,    N05,2,19930717,0540, 46.1633, -30.9500, 3259,     46.5,  14.7530,  35.8938,2,  35.9004,2,    246.9,2,     1.04,2,     3.53,2,     0.29,2,     0.20,2
     06GA226_2,  AR19,    48,  1,     22,    D13,2,19930717,0540, 46.1633, -30.9500, 3259,     96.2,  13.8530,  35.8505,2,  35.8486,2,    237.9,2,     1.99,2,     6.30,2,     0.33,2,     0.39,2
     06GA226_2,  AR19,    48,  1,     21,    D21,2,19930717,0540, 46.1633, -30.9500, 3259,    195.5,  13.0270,  35.7788,2,  35.7784,2,    234.4,2,     3.12,2,     8.60,2,     0.04,2,     0.50,2
     06GA226_2,  AR19,    48,  1,     20,    N01,2,19930717,0540, 46.1633, -30.9500, 3259,    295.6,  12.5040,  35.6978,2,  35.6967,2,    235.1,2,     3.88,2,     9.72,2,     0.05,2,     0.58,2
     06GA226_2,  AR19,    48,  1,     19,    D10,2,19930717,0540, 46.1633, -30.9500, 3259,    395.8,  11.5930,  35.5470,2,  35.5420,2,    238.3,2,     4.65,2,    10.72,2,     0.05,2,     0.59,2
     06GA226_2,  AR19,    48,  1,     18,    D18,2,19930717,0540, 46.1633, -30.9500, 3259,    494.5,  10.7250,  35.4024,2,  35.3972,2,    225.0,2,     6.03,2,    12.83,2,     0.04,2,     0.79,2
     06GA226_2,  AR19,    48,  1,     17,    D17,2,19930717,0540, 46.1633, -30.9500, 3259,    595.0,   8.9270,  35.1263,2,  35.1250,2,    208.2,2,     8.63,2,    16.26,2,     0.04,2,     1.08,2
     06GA226_2,  AR19,    48,  1,     16,    D16,2,19930717,0540, 46.1633, -30.9500, 3259,    695.3,   7.7180,  35.0254,2,  35.0243,2,    199.9,2,    10.63,2,    18.64,2,     0.04,2,     1.27,2
     06GA226_2,  AR19,    48,  1,     15,    D15,2,19930717,0540, 46.1633, -30.9500, 3259,    796.0,   6.5160,  34.9928,2,  34.9920,2,    203.3,2,    11.79,2,    19.46,2,     0.04,2,     1.28,2
     06GA226_2,  AR19,    48,  1,     14,    D14,2,19930717,0540, 46.1633, -30.9500, 3259,    894.0,   5.5980,  34.9683,2,  34.9697,2,    221.8,2,    11.70,2,    18.96,2,     0.05,2,     1.27,2
     06GA226_2,  AR19,    48,  1,     13,    D04,2,19930717,0540, 46.1633, -30.9500, 3259,    994.6,   5.0620,  34.9713,2,  34.9706,2,    235.7,2,    11.36,2,    18.36,2,     0.04,2,     1.27,2
     06GA226_2,  AR19,    48,  1,     12,    D12,2,19930717,0540, 46.1633, -30.9500, 3259,   1193.3,   4.3680,  34.9554,2,  34.9563,2,    257.0,2,    10.65,2,    17.72,2,     0.04,2,     1.17,2
     06GA226_2,  AR19,    48,  1,     11,    D11,2,19930717,0540, 46.1633, -30.9500, 3259,   1396.4,   3.9320,  34.9238,2,  34.9237,2,    269.2,2,    10.37,2,    17.26,2,     0.04,2,     1.17,2
     06GA226_2,  AR19,    48,  1,     10,    N03,2,19930717,0540, 46.1633, -30.9500, 3259,   1595.6,   3.7350,  34.9161,2,  34.9179,2,    272.9,2,    10.63,2,    17.14,2,     0.04,2,     1.17,2
     06GA226_2,  AR19,    48,  1,     09,    D09,2,19930717,0540, 46.1633, -30.9500, 3259,   1793.5,   3.5180,  34.9011,2,  34.9015,2,    277.8,2,    10.71,2,    16.90,2,     0.03,2,     1.17,2
     06GA226_2,  AR19,    48,  1,     08,    D08,2,19930717,0540, 46.1633, -30.9500, 3259,   1997.3,   3.4380,  34.9024,2,  34.9032,2,    279.0,2,    11.06,2,    16.93,2,     0.04,2,     1.17,2
     06GA226_2,  AR19,    48,  1,     07,    N04,2,19930717,0540, 46.1633, -30.9500, 3259,   2195.9,   3.4160,  34.9158,2,  34.9166,2,    276.5,2,    12.02,2,    16.88,2,     0.04,2,     1.17,2
     06GA226_2,  AR19,    48,  1,     06,    D06,2,19930717,0540, 46.1633, -30.9500, 3259,   2397.1,   3.3540,  34.9298,2,  34.9307,2,    273.7,2,    13.19,2,    16.94,2,     0.05,2,     1.17,2
     06GA226_2,  AR19,    48,  1,     05,    D05,2,19930717,0540, 46.1633, -30.9500, 3259,   2596.8,   3.2100,  34.9350,2,  34.9371,2,    276.8,2,    14.29,2,    16.93,2,     0.05,2,     1.17,2
     06GA226_2,  AR19,    48,  1,     04,    D19,2,19930717,0540, 46.1633, -30.9500, 3259,   2797.4,   3.0230,  34.9346,2,  34.9351,2,   -999.0,9,    15.42,2,    16.89,2,     0.05,2,     1.17,2
     06GA226_2,  AR19,    48,  1,     03,    D03,2,19930717,0540, 46.1633, -30.9500, 3259,   2997.8,   2.8960,  34.9324,2,  34.9329,2,    272.7,2,    16.09,2,    16.81,2,     0.06,2,     1.08,2
     06GA226_2,  AR19,    48,  1,     02,    D02,2,19930717,0540, 46.1633, -30.9500, 3259,   3097.8,   2.8120,  34.9341,2,  34.9353,2,    273.3,2,    15.98,2,    16.61,2,     0.05,2,     1.08,2
     06GA226_2,  AR19,    48,  1,     01,    D16,2,19930717,0540, 46.1633, -30.9500, 3259,   3281.1,   2.6680,  34.9276,2,  34.9283,2,    274.3,2,    17.00,2,    16.67,2,     0.05,2,     1.17,2
     06GA226_2,  AR19,    49,  1,     23,    N05,2,19930717,1108, 46.3117, -30.2683, 3362,      7.0,  17.1710,  35.7167,2,  35.7030,3,    253.6,2,     0.92,2,     0.07,2,     0.02,2,     0.01,2
     06GA226_2,  AR19,    49,  1,     22,    D13,2,19930717,1108, 46.3117, -30.2683, 3362,     47.1,  15.1850,  36.0442,2,  36.0505,2,    231.9,2,     2.11,2,     4.93,2,     0.15,2,     0.29,2
     06GA226_2,  AR19,    49,  1,     21,    D21,2,19930717,1108, 46.3117, -30.2683, 3362,     96.1,  13.6500,  35.8370,2,  35.8439,2,    229.8,2,     3.57,2,     7.93,2,     0.04,2,     0.49,2
     06GA226_2,  AR19,    49,  1,     20,    N01,2,19930717,1108, 46.3117, -30.2683, 3362,    196.5,  12.6470,  35.7129,2,  35.7116,2,    232.1,2,     4.75,2,     9.65,2,     0.03,2,     0.58,2
     06GA226_2,  AR19,    49,  1,     19,    D10,2,19930717,1108, 46.3117, -30.2683, 3362,    295.6,  11.7920,  35.5633,2,  35.5582,2,    235.1,2,     5.42,2,    10.59,2,     0.03,2,     0.68,2
     06GA226_2,  AR19,    49,  1,     18,    D18,2,19930717,1108, 46.3117, -30.2683, 3362,    494.2,   9.5900,  35.2231,2,  35.2237,2,    206.9,2,     9.19,2,    15.89,2,     0.03,2,     1.07,2
     06GA226_2,  AR19,    49,  1,     17,    D17,2,19930717,1108, 46.3117, -30.2683, 3362,    743.4,   5.9800,  34.9116,2,  34.9121,2,    219.8,2,    12.42,2,    18.57,2,     0.03,2,     1.28,2
     06GA226_2,  AR19,    49,  1,     16,    D16,2,19930717,1108, 46.3117, -30.2683, 3362,    993.8,   4.7510,  34.9708,2,  34.9714,2,    247.0,2,    12.11,2,    18.05,2,     0.03,2,     1.26,2
     06GA226_2,  AR19,    49,  1,     15,    D15,2,19930717,1108, 46.3117, -30.2683, 3362,   1194.0,   4.1010,  34.9328,2,  34.9353,2,    264.9,2,    11.60,2,    17.30,2,     0.03,2,     1.18,2
     06GA226_2,  AR19,    49,  1,     14,    D14,2,19930717,1108, 46.3117, -30.2683, 3362,   1593.8,   3.5530,  34.8949,2,  34.8941,2,    278.8,2,    11.45,2,    16.84,2,     0.03,2,     1.17,2
     06GA226_2,  AR19,    49,  1,     13,    D04,2,19930717,1108, 46.3117, -30.2683, 3362,   1795.4,   3.5010,  34.9007,2,  34.9014,2,    278.5,2,    11.95,2,    16.73,2,     0.03,2,     1.17,2
     06GA226_2,  AR19,    49,  1,     12,    D12,2,19930717,1108, 46.3117, -30.2683, 3362,   1844.9,   3.4840,  34.9035,2,  34.9043,2,    278.1,2,    12.10,2,    16.75,2,     0.04,2,     1.17,2
     06GA226_2,  AR19,    49,  1,     11,    D11,2,19930717,1108, 46.3117, -30.2683, 3362,   1844.9,   3.4830,  34.9037,2,  34.9036,2,    278.0,2,    12.06,2,    16.72,2,     0.02,2,     1.17,2
     06GA226_2,  AR19,    49,  1,     10,    N03,2,19930717,1108, 46.3117, -30.2683, 3362,   1844.9,   3.4830,  34.9037,2,  34.9036,2,    278.1,2,    12.05,2,    16.74,2,     0.02,2,     1.17,2
     06GA226_2,  AR19,    49,  1,     07,    N04,2,19930717,1108, 46.3117, -30.2683, 3362,   1895.0,   3.4700,  34.9059,2,  34.9063,2,    279.1,2,    12.17,2,  -999.00,9,     0.04,2,     1.17,2
     06GA226_2,  AR19,    49,  1,     08,    D08,2,19930717,1108, 46.3117, -30.2683, 3362,   1896.0,   3.4700,  34.9059,2,  34.9062,2,   -999.0,9,    12.17,2,    16.73,2,     0.02,2,     1.17,2
     06GA226_2,  AR19,    49,  1,     09,    D09,2,19930717,1108, 46.3117, -30.2683, 3362,   1896.3,   3.4700,  34.9057,2,  34.9069,2,    277.7,2,    12.20,2,    16.75,2,     0.03,2,     1.17,2
     06GA226_2,  AR19,    49,  1,     06,    D06,2,19930717,1108, 46.3117, -30.2683, 3362,   2247.4,   3.3500,  34.9208,2,  34.9226,2,    279.3,2,    13.06,2,    16.78,2,     0.04,2,     1.17,2
     06GA226_2,  AR19,    49,  1,     05,    D05,2,19930717,1108, 46.3117, -30.2683, 3362,   2398.1,   3.2940,  34.9306,2,  34.9317,2,    275.1,2,    13.90,2,    16.71,2,     0.03,2,     1.17,2
     06GA226_2,  AR19,    49,  1,     04,    D19,2,19930717,1108, 46.3117, -30.2683, 3362,   2640.1,   3.1450,  34.9355,2,  34.9359,2,    274.0,2,    14.78,2,    16.66,2,     0.02,2,     1.17,2
     06GA226_2,  AR19,    49,  1,     03,    D03,2,19930717,1108, 46.3117, -30.2683, 3362,   2898.5,   2.9810,  34.9356,2,  34.9356,2,    274.0,2,    15.67,2,    16.50,2,     0.02,2,     1.17,2
     06GA226_2,  AR19,    49,  1,     02,    D02,2,19930717,1108, 46.3117, -30.2683, 3362,   3097.3,   2.8430,  34.9336,2,  34.9329,2,    273.6,2,    16.61,2,    16.46,2,     0.03,2,     1.17,2
     06GA226_2,  AR19,    49,  1,     01,    D16,2,19930717,1108, 46.3117, -30.2683, 3362,   3370.5,   2.6860,  34.9279,2,  34.9287,2,    274.1,2,    17.48,2,    16.47,2,     0.02,2,     1.17,2
     06GA226_2,  AR19,    50,  2,     24,    D24,2,19930717,1723, 46.4217, -29.7117, 3457,      6.5,  17.7740,  35.6951,2,  35.6878,2,    247.1,2,     1.25,2,     0.16,2,     0.02,2,     0.01,2
     06GA226_2,  AR19,    50,  2,     23,    N05,2,19930717,1723, 46.4217, -29.7117, 3457,     97.1,  12.9130,  35.7136,2,  35.7102,2,    243.6,2,     2.22,2,     7.72,2,     0.03,2,     0.49,2
     06GA226_2,  AR19,    50,  2,     22,    D13,2,19930717,1723, 46.4217, -29.7117, 3457,    195.5,  11.5420,  35.5316,2,  35.5300,2,    238.2,2,     4.34,2,    10.94,2,     0.03,2,     0.68,2
     06GA226_2,  AR19,    50,  2,     21,    D21,2,19930717,1723, 46.4217, -29.7117, 3457,    294.7,  11.0100,  35.4440,2,  35.4396,2,    231.9,2,     5.19,2,    12.24,2,     0.04,2,     0.79,2
     06GA226_2,  AR19,    50,  2,     20,    N01,2,19930717,1723, 46.4217, -29.7117, 3457,    394.5,   9.7690,  35.2593,2,  35.2524,2,    205.3,2,     7.77,2,    16.30,2,     0.03,2,     1.07,2
     06GA226_2,  AR19,    50,  2,     19,    D10,2,19930717,1723, 46.4217, -29.7117, 3457,    494.9,   8.4400,  35.1130,2,  35.1059,2,    200.7,2,     9.71,2,    18.23,2,     0.03,2,     1.27,2
     06GA226_2,  AR19,    50,  2,     18,    D18,2,19930717,1723, 46.4217, -29.7117, 3457,    595.1,   7.4550,  35.0437,2,  35.0417,2,    200.8,2,    10.77,2,    19.22,2,     0.03,2,     1.28,2
     06GA226_2,  AR19,    50,  2,     17,    D17,2,19930717,1723, 46.4217, -29.7117, 3457,    694.5,   6.3160,  35.0132,2,  35.0126,2,    210.2,2,    11.47,2,    19.52,2,     0.03,2,     1.36,2
     06GA226_2,  AR19,    50,  2,     16,    D16,2,19930717,1723, 46.4217, -29.7117, 3457,    795.6,   6.3100,  35.1196,2,  35.1198,2,    217.4,2,    11.16,2,    19.06,2,     0.02,2,     1.28,2
     06GA226_2,  AR19,    50,  2,     14,    D14,2,19930717,1723, 46.4217, -29.7117, 3457,    994.1,   5.4480,  35.1066,2,  35.1072,2,    237.7,2,    10.82,2,    18.28,2,     0.03,2,     1.26,2
     06GA226_2,  AR19,    50,  2,     13,    D04,2,19930717,1723, 46.4217, -29.7117, 3457,   1195.2,   4.4470,  34.9960,2,  34.9953,2,    256.8,2,    10.76,2,    17.85,2,     0.04,2,     1.18,2
     06GA226_2,  AR19,    50,  2,     12,    D12,2,19930717,1723, 46.4217, -29.7117, 3457,   1394.8,   3.8670,  34.9274,2,  34.9271,2,    269.6,2,    10.70,2,    17.58,2,     0.04,2,     1.18,2
     06GA226_2,  AR19,    50,  2,     11,    D11,2,19930717,1723, 46.4217, -29.7117, 3457,   1595.2,   3.5880,  34.9023,2,  34.9031,2,    276.4,2,    10.64,2,    17.24,2,     0.03,2,     1.17,2
     06GA226_2,  AR19,    50,  2,     10,    N03,2,19930717,1723, 46.4217, -29.7117, 3457,   1796.3,   3.4680,  34.9011,2,  34.9005,2,    278.4,2,    10.98,2,    17.20,2,     0.03,2,     1.18,2
     06GA226_2,  AR19,    50,  2,     09,    D09,2,19930717,1723, 46.4217, -29.7117, 3457,   1995.0,   3.4260,  34.9120,2,  34.9123,2,    276.9,2,    11.85,2,    17.14,2,     0.03,2,     1.18,2
     06GA226_2,  AR19,    50,  2,     08,    D08,2,19930717,1723, 46.4217, -29.7117, 3457,   2195.7,   3.3670,  34.9251,2,  34.9251,2,    274.4,2,    13.11,2,    17.30,2,     0.03,2,     1.18,2
     06GA226_2,  AR19,    50,  2,     07,    N04,2,19930717,1723, 46.4217, -29.7117, 3457,   2396.2,   3.2840,  34.9311,2,  34.9311,2,    273.1,2,    14.20,2,    17.18,2,     0.01,2,     1.18,2
     06GA226_2,  AR19,    50,  2,     06,    D06,2,19930717,1723, 46.4217, -29.7117, 3457,   2598.1,   3.1420,  34.9337,2,  34.9344,2,    272.9,2,    15.37,2,    17.15,2,     0.01,2,     1.18,2
     06GA226_2,  AR19,    50,  2,     05,    D05,2,19930717,1723, 46.4217, -29.7117, 3457,   2797.0,   2.9580,  34.9352,2,  34.9341,2,    275.9,2,    15.89,2,    16.98,2,     0.01,2,     1.17,2
     06GA226_2,  AR19,    50,  2,     04,    D19,2,19930717,1723, 46.4217, -29.7117, 3457,   2997.7,   2.8070,  34.9320,2,  34.9317,2,    274.8,2,    16.19,2,    16.82,2,     0.01,2,     1.26,2
     06GA226_2,  AR19,    50,  2,     03,    D03,2,19930717,1723, 46.4217, -29.7117, 3457,   3199.0,   2.7610,  34.9307,2,  34.9300,2,    274.3,2,    16.38,2,    16.74,2,     0.01,2,     1.17,2
     06GA226_2,  AR19,    50,  2,     02,    D02,2,19930717,1723, 46.4217, -29.7117, 3457,   3399.6,   2.7300,  34.9290,2,  34.9289,2,    274.8,2,    16.71,2,    16.71,2,     0.01,2,     1.17,2
     06GA226_2,  AR19,    50,  2,     01,    D16,2,19930717,1723, 46.4217, -29.7117, 3457,   3480.8,   2.7290,  34.9280,2,  34.9294,2,    274.8,2,    16.75,2,    16.77,2,     0.02,2,     1.17,2
     06GA226_2,  AR19,    51,  1,     24,    D24,2,19930717,2246, 46.5783, -29.0167, 3112,      6.6,  17.7550,  35.8327,2,  35.8262,2,    250.3,2,     0.10,2,     0.07,2,     0.02,2,     0.10,2
     06GA226_2,  AR19,    51,  1,     23,    N05,2,19930717,2246, 46.5783, -29.0167, 3112,     95.6,  13.7560,  35.8591,2,  35.8555,2,    227.9,2,     2.61,2,     7.80,2,     0.03,2,     0.49,2
     06GA226_2,  AR19,    51,  1,     22,    D13,2,19930717,2246, 46.5783, -29.0167, 3112,    495.2,   9.7490,  35.2690,2,  35.2689,2,    191.2,2,     8.63,2,    16.93,2,     0.02,2,     1.17,2
     06GA226_2,  AR19,    51,  1,     21,    D21,2,19930717,2246, 46.5783, -29.0167, 3112,    670.6,   7.5730,  35.0839,2,  35.1130,3,    198.9,2,    10.40,2,    18.26,2,     0.03,2,     1.27,2
     06GA226_2,  AR19,    51,  1,     20,    N01,2,19930717,2246, 46.5783, -29.0167, 3112,    743.1,   6.6190,  35.0149,2,  35.0134,2,    207.7,2,    11.17,2,    18.70,2,     0.02,2,     1.28,2
     06GA226_2,  AR19,    51,  1,     18,    D18,2,19930717,2246, 46.5783, -29.0167, 3112,   1097.4,   5.2720,  35.0859,2,  35.0843,2,    240.1,2,    10.76,2,    17.49,2,     0.02,2,     1.18,2
     06GA226_2,  AR19,    51,  1,     17,    D17,2,19930717,2246, 46.5783, -29.0167, 3112,   1294.9,   4.5070,  35.0133,2,  35.0132,2,    256.3,2,    10.83,2,    17.01,2,     0.03,2,     1.17,2
     06GA226_2,  AR19,    51,  1,     15,    D15,2,19930717,2246, 46.5783, -29.0167, 3112,   1486.3,   3.8000,  34.9171,2,  34.9173,2,    271.5,2,    10.43,2,    16.66,2,     0.03,2,     1.17,2
     06GA226_2,  AR19,    51,  1,     16,    D16,2,19930717,2246, 46.5783, -29.0167, 3112,   1487.5,   3.8170,  34.9198,2,  34.9196,2,    271.3,2,    10.44,2,    16.66,2,     0.02,2,     1.17,2
     06GA226_2,  AR19,    51,  1,     12,    D12,2,19930717,2246, 46.5783, -29.0167, 3112,   1517.5,   3.7620,  34.9144,2,  34.9141,2,    272.6,2,    10.46,2,    16.61,2,     0.02,2,     1.17,2
     06GA226_2,  AR19,    51,  1,     13,    D04,2,19930717,2246, 46.5783, -29.0167, 3112,   1519.2,   3.7610,  34.9144,2,  34.9142,2,    272.2,2,    10.47,2,    16.57,2,     0.03,2,     1.17,2
     06GA226_2,  AR19,    51,  1,     14,    D14,2,19930717,2246, 46.5783, -29.0167, 3112,   1521.8,   3.7610,  34.9142,2,  34.9141,2,    272.6,2,    10.46,2,    16.65,2,     0.03,2,     1.17,2
     06GA226_2,  AR19,    51,  1,     10,    N03,2,19930717,2246, 46.5783, -29.0167, 3112,   1540.3,   3.8190,  34.9281,2,  34.9276,2,    270.8,2,    10.77,2,    16.69,2,     0.02,2,     1.17,2
     06GA226_2,  AR19,    51,  1,     11,    D11,2,19930717,2246, 46.5783, -29.0167, 3112,   1540.5,   3.8130,  34.9261,2,  34.9263,2,    270.6,2,    10.72,2,    16.65,2,     0.02,2,     1.17,2
     06GA226_2,  AR19,    51,  1,     09,    D09,2,19930717,2246, 46.5783, -29.0167, 3112,   1587.8,   3.6960,  34.9121,2,  34.9121,2,    273.9,2,    10.69,2,    16.61,2,     0.03,2,     1.17,2
     06GA226_2,  AR19,    51,  1,     08,    D08,2,19930717,2246, 46.5783, -29.0167, 3112,   1797.1,   3.5650,  34.9173,2,  34.9161,2,    274.6,2,    11.73,2,    16.63,2,     0.02,2,     1.17,2
     06GA226_2,  AR19,    51,  1,     07,    N04,2,19930717,2246, 46.5783, -29.0167, 3112,   2003.7,   3.5140,  34.9222,2,  34.9229,2,    273.9,2,    12.57,2,    16.73,2,     0.02,2,     1.17,2
     06GA226_2,  AR19,    51,  1,     06,    D06,2,19930717,2246, 46.5783, -29.0167, 3112,   2196.4,   3.4460,  34.9268,2,  34.9258,2,    273.4,2,    13.61,2,    16.75,2,     0.03,2,     1.17,2
     06GA226_2,  AR19,    51,  1,     05,    D05,2,19930717,2246, 46.5783, -29.0167, 3112,   2397.5,   3.3590,  34.9297,2,  34.9292,2,    272.2,2,    14.22,2,    16.71,2,     0.03,2,     1.17,2
     06GA226_2,  AR19,    51,  1,     04,    D19,2,19930717,2246, 46.5783, -29.0167, 3112,   2596.0,   3.2360,  34.9339,2,  34.9330,2,    271.8,2,    15.34,2,    16.68,2,     0.02,2,     1.17,2
     06GA226_2,  AR19,    51,  1,     03,    D03,2,19930717,2246, 46.5783, -29.0167, 3112,   2797.3,   3.1250,  34.9354,2,  34.9349,2,    271.6,2,    16.16,2,    16.64,2,     0.03,2,     1.17,2
     06GA226_2,  AR19,    51,  1,     02,    D02,2,19930717,2246, 46.5783, -29.0167, 3112,   2998.2,   2.9340,  34.9337,2,  34.9325,2,    272.8,2,    16.40,2,    16.38,2,     0.03,2,     1.17,2
     06GA226_2,  AR19,    51,  1,     01,    D16,2,19930717,2246, 46.5783, -29.0167, 3112,   3124.7,   2.7950,  34.9322,2,  34.9320,2,    274.1,2,    16.55,2,    16.22,2,     0.03,2,     1.08,2