BOTTLE,20010917WHPSIOKJU
EXPOCODE,SECT_ID,STNNBR,CASTNO,SAMPNO,BTLNBR,BTLNBR_FLAG_W,DATE,TIME,LATITUDE,LONGITUDE,DEPTH,CTDPRS,CTDTMP,CTDSAL,CTDSAL_FLAG_W,SALNTY,SALNTY_FLAG_W,OXYGEN,OXYGEN_FLAG_W,SILCAT,SILCAT_FLAG_W,NITRAT,NITRAT_FLAG_W,NITRIT,NITRIT_FLAG_W,PHSPHT,PHSPHT_FLAG_W
,,,,,ID,,,,,,,DBAR,ITS-90,PSS-78,,PSS-78,,UMOL/KG,,UMOL/KG,,UMOL/KG,,UMOL/KG,,UMOL/KG,
     06GA226_2,  AR19,    37,  2,     24,    D24,2,19930714,1520, 44.3633, -36.7333, 4113,   1797.4,   3.6680,  34.9216,2,-999.0000,9,    272.5,2,    10.98,2,    16.84,2,     0.02,2,     1.17,2
     06GA226_2,  AR19,    37,  2,     23,    D23,2,19930714,1520, 44.3633, -36.7333, 4113,   1897.0,   3.6040,  34.9187,2,  34.9206,2,    273.8,2,    11.19,2,    16.73,2,     0.01,2,     1.17,2
     06GA226_2,  AR19,    37,  2,     22,    D13,2,19930714,1520, 44.3633, -36.7333, 4113,   1996.3,   3.5680,  34.9228,2,  34.9221,2,    273.3,2,    11.59,2,    16.73,2,     0.02,2,     1.17,2
     06GA226_2,  AR19,    37,  2,     21,    D21,2,19930714,1520, 44.3633, -36.7333, 4113,   2096.9,   3.5180,  34.9216,2,  34.9225,2,    273.5,2,    11.77,2,    16.68,2,     0.01,2,     1.17,2
     06GA226_2,  AR19,    37,  2,     20,    N01,2,19930714,1520, 44.3633, -36.7333, 4113,   2197.2,   3.4800,  34.9257,2,  34.9251,2,    273.5,2,    12.04,2,    16.66,2,     0.02,2,     1.17,2
     06GA226_2,  AR19,    37,  2,     19,    D10,2,19930714,1520, 44.3633, -36.7333, 4113,   2294.0,   3.4260,  34.9261,2,  34.9263,2,    273.7,2,    12.29,2,    16.56,2,     0.02,2,     1.17,2
     06GA226_2,  AR19,    37,  2,     18,    D18,2,19930714,1520, 44.3633, -36.7333, 4113,   2395.8,   3.3630,  34.9262,2,  34.9263,2,    273.5,2,    12.41,2,    16.49,2,     0.03,2,     1.17,2
     06GA226_2,  AR19,    37,  2,     17,    D17,2,19930714,1520, 44.3633, -36.7333, 4113,   2496.5,   3.3290,  34.9326,2,  34.9323,2,    272.5,2,    12.94,2,    16.46,2,     0.03,2,     1.17,2
     06GA226_2,  AR19,    37,  2,     16,    D16,2,19930714,1520, 44.3633, -36.7333, 4113,   2596.9,   3.2550,  34.9352,2,  34.9353,2,    271.7,2,    13.51,2,    16.48,2,     0.02,2,     1.17,2
     06GA226_2,  AR19,    37,  2,     15,    D15,2,19930714,1520, 44.3633, -36.7333, 4113,   2695.3,   3.1890,  34.9354,2,  34.9352,2,    271.6,2,    13.79,2,    16.40,2,     0.02,2,     1.17,2
     06GA226_2,  AR19,    37,  2,     14,    D14,2,19930714,1520, 44.3633, -36.7333, 4113,   2796.4,   3.1270,  34.9363,2,  34.9368,2,    271.5,2,    14.33,2,    16.43,2,     0.02,2,     1.17,2
     06GA226_2,  AR19,    37,  2,     13,    D04,2,19930714,1520, 44.3633, -36.7333, 4113,   2897.7,   3.0370,  34.9352,2,  34.9342,2,    271.4,2,    14.92,2,    16.37,2,     0.03,2,     1.17,2
     06GA226_2,  AR19,    37,  2,     12,    D12,2,19930714,1520, 44.3633, -36.7333, 4113,   2998.1,   2.9470,  34.9340,2,  34.9349,2,    271.7,2,    15.66,2,    16.49,2,     0.03,2,     1.17,2
     06GA226_2,  AR19,    37,  2,     11,    D11,2,19930714,1520, 44.3633, -36.7333, 4113,   3098.8,   2.8800,  34.9321,2,  34.9352,2,    271.6,2,    16.24,2,    16.50,2,     0.03,2,     1.17,2
     06GA226_2,  AR19,    37,  2,     10,    N03,2,19930714,1520, 44.3633, -36.7333, 4113,   3196.8,   2.7950,  34.9307,2,  34.9293,2,    273.3,2,    16.90,2,    16.54,2,     0.03,2,     1.17,2
     06GA226_2,  AR19,    37,  2,     09,    D09,2,19930714,1520, 44.3633, -36.7333, 4113,   3298.7,   2.6990,  34.9270,2,  34.9248,2,    272.9,2,    17.75,2,    16.55,2,     0.03,2,     1.17,2
     06GA226_2,  AR19,    37,  2,     08,    D08,2,19930714,1520, 44.3633, -36.7333, 4113,   3397.8,   2.6250,  34.9234,2,  34.9236,2,    273.2,2,    18.12,2,    16.42,2,     0.01,2,     1.17,2
     06GA226_2,  AR19,    37,  2,     07,    D22,2,19930714,1520, 44.3633, -36.7333, 4113,   3499.9,   2.5540,  34.9203,2,  34.9172,2,    273.6,2,    19.01,2,    16.51,2,     0.02,2,     1.17,2
     06GA226_2,  AR19,    37,  2,     06,    D06,2,19930714,1520, 44.3633, -36.7333, 4113,   3598.5,   2.4940,  34.9164,2,  34.9152,2,    273.6,2,    20.11,2,    16.61,2,     0.01,2,     1.17,2
     06GA226_2,  AR19,    37,  2,     04,    D19,2,19930714,1520, 44.3633, -36.7333, 4113,   3799.9,   2.3900,  34.9102,2,  34.9088,2,    273.9,2,    20.96,2,    16.62,2,     0.01,2,     1.17,2
     06GA226_2,  AR19,    37,  2,     03,    D03,2,19930714,1520, 44.3633, -36.7333, 4113,   3900.8,   2.3480,  34.9072,2,  34.9055,2,    274.5,2,    21.27,2,    16.58,2,     0.02,2,     1.17,2
     06GA226_2,  AR19,    37,  2,     02,    D02,2,19930714,1520, 44.3633, -36.7333, 4113,   3997.4,   2.3340,  34.9060,2,  34.9048,2,    273.9,2,    21.49,2,    16.64,2,     0.02,2,     1.17,2
     06GA226_2,  AR19,    37,  2,     01,    D16,2,19930714,1520, 44.3633, -36.7333, 4113,   4153.6,   2.2660,  34.9022,2,  34.9021,2,    278.2,2,    18.98,2,    16.07,2,     0.03,2,     1.08,2
     06GA226_2,  AR19,    38,  1,     24,    D24,2,19930714,2203, 44.5650, -36.0817, 4011,      6.8,  17.4410,  35.9841,2,  35.9790,2,    250.8,2,     0.03,2,     0.40,2,     0.06,2,     0.01,2
     06GA226_2,  AR19,    38,  1,     23,    D23,3,19930714,2203, 44.5650, -36.0817, 4011,     94.4,  14.8800,  36.0233,2,  36.0271,2,    226.5,2,     1.95,2,     6.16,2,     0.05,2,     0.30,2
     06GA226_2,  AR19,    38,  1,     22,    D13,2,19930714,2203, 44.5650, -36.0817, 4011,    297.2,  12.7260,  35.7374,2,  35.7368,2,    234.0,2,     3.70,2,     9.49,2,     0.04,2,     0.58,2
     06GA226_2,  AR19,    38,  1,     21,    D21,2,19930714,2203, 44.5650, -36.0817, 4011,    494.6,  10.5550,  35.3549,2,  35.3596,2,    220.7,2,     6.22,2,    13.43,2,     0.03,2,     0.88,2
     06GA226_2,  AR19,    38,  1,     20,    N01,2,19930714,2203, 44.5650, -36.0817, 4011,    595.5,   8.9760,  35.1606,2,  35.1597,2,    200.0,2,     9.01,2,    17.57,2,     0.03,2,     1.17,2
     06GA226_2,  AR19,    38,  1,     19,    D10,2,19930714,2203, 44.5650, -36.0817, 4011,    747.4,   6.8030,  34.9946,2,  34.9939,2,    203.1,2,    11.33,2,    19.61,2,     0.03,2,     1.36,2
     06GA226_2,  AR19,    38,  1,     18,    D18,2,19930714,2203, 44.5650, -36.0817, 4011,    846.3,   5.9590,  34.9728,2,  34.9669,2,    216.0,2,    11.49,2,    19.16,2,     0.03,2,     1.36,2
     06GA226_2,  AR19,    38,  1,     17,    D17,2,19930714,2203, 44.5650, -36.0817, 4011,    997.4,   5.3230,  35.0184,2,  35.0172,2,    231.4,2,    11.38,2,    18.91,2,     0.04,2,     1.28,2
     06GA226_2,  AR19,    38,  1,     16,    D16,2,19930714,2203, 44.5650, -36.0817, 4011,   1196.9,   4.5660,  34.9903,2,  34.9911,2,    251.4,2,    10.88,2,    18.06,2,     0.03,2,     1.26,2
     06GA226_2,  AR19,    38,  1,     15,    D15,2,19930714,2203, 44.5650, -36.0817, 4011,   1395.5,   4.0470,  34.9502,2,  34.9492,2,    264.7,2,    10.78,2,    17.63,2,     0.03,2,     1.18,2
     06GA226_2,  AR19,    38,  1,     14,    D14,2,19930714,2203, 44.5650, -36.0817, 4011,   1597.8,   3.6400,  34.9056,2,  34.9048,2,    276.0,2,    10.40,2,    17.19,2,     0.02,2,     1.17,2
     06GA226_2,  AR19,    38,  1,     13,    D04,2,19930714,2203, 44.5650, -36.0817, 4011,   1796.0,   3.5010,  34.8994,2,  34.8982,2,    278.5,2,    10.54,2,    16.95,2,     0.02,2,     1.17,2
     06GA226_2,  AR19,    38,  1,     12,    D12,2,19930714,2203, 44.5650, -36.0817, 4011,   1993.9,   3.3880,  34.8968,2,  34.8972,2,    280.8,2,    10.77,2,    16.88,2,     0.03,2,     1.17,2
     06GA226_2,  AR19,    38,  1,     11,    D11,2,19930714,2203, 44.5650, -36.0817, 4011,   2197.1,   3.3250,  34.9003,2,  34.9000,2,    279.8,2,    11.01,2,    16.73,2,     0.02,2,     1.17,2
     06GA226_2,  AR19,    38,  1,     10,    N03,2,19930714,2203, 44.5650, -36.0817, 4011,   2398.3,   3.3290,  34.9216,2,  34.9218,2,    275.9,2,    12.01,2,    16.89,2,     0.02,2,     1.17,2
     06GA226_2,  AR19,    38,  1,     09,    D09,2,19930714,2203, 44.5650, -36.0817, 4011,   2595.7,   3.2800,  34.9355,2,  34.9346,2,    271.7,2,    13.42,2,    16.95,2,     0.02,2,     1.17,2
     06GA226_2,  AR19,    38,  1,     08,    D08,2,19930714,2203, 44.5650, -36.0817, 4011,   2798.6,   3.1300,  34.9369,2,  34.9370,2,    271.8,2,    14.29,2,    16.94,2,     0.03,2,     1.17,2
     06GA226_2,  AR19,    38,  1,     07,    D22,2,19930714,2203, 44.5650, -36.0817, 4011,   2999.3,   2.9680,  34.9350,2,  34.9346,2,    272.2,2,    15.43,2,    16.98,2,     0.02,2,     1.17,2
     06GA226_2,  AR19,    38,  1,     06,    D06,2,19930714,2203, 44.5650, -36.0817, 4011,   3199.1,   2.8110,  34.9317,2,  34.9332,2,    273.2,2,    16.67,2,    17.01,2,     0.03,2,     1.17,2
     06GA226_2,  AR19,    38,  1,     05,    D05,2,19930714,2203, 44.5650, -36.0817, 4011,   3396.8,   2.6650,  34.9260,2,  34.9248,2,    272.1,2,    18.18,2,    17.15,2,     0.02,2,     1.17,2
     06GA226_2,  AR19,    38,  1,     04,    D19,2,19930714,2203, 44.5650, -36.0817, 4011,   3597.9,   2.5290,  34.9188,2,  34.9210,2,    272.3,2,    19.49,2,    17.17,2,     0.02,2,     1.17,2
     06GA226_2,  AR19,    38,  1,     03,    D03,2,19930714,2203, 44.5650, -36.0817, 4011,   3799.0,   2.3850,  34.9111,2,  34.9090,2,    273.9,2,    20.61,2,    17.11,2,     0.02,2,     1.17,2
     06GA226_2,  AR19,    38,  1,     02,    D02,2,19930714,2203, 44.5650, -36.0817, 4011,   3999.1,   2.3250,  34.9068,2,  34.9057,2,    275.4,2,    19.73,2,    16.78,2,     0.03,2,     1.17,2
     06GA226_2,  AR19,    38,  1,     01,    D16,2,19930714,2203, 44.5650, -36.0817, 4011,   4119.8,   2.2780,  34.9033,2,  34.9039,2,    276.8,2,    19.06,2,    16.63,2,     0.02,2,     1.17,2
     06GA226_2,  AR19,    39,  1,     24,    D24,2,19930715,0442, 44.7533, -35.4100, 3955,      7.9,  17.4760,  35.8729,2,  35.8661,2,    248.9,2,     0.01,2,     0.02,2,     0.02,2,     0.01,2
     06GA226_2,  AR19,    39,  1,     23,    D23,2,19930715,0442, 44.7533, -35.4100, 3955,     97.0,  13.7690,  35.8287,2,  35.8293,2,    230.0,2,     2.32,2,     7.29,2,     0.03,2,     0.40,2
     06GA226_2,  AR19,    39,  1,     22,    D13,2,19930715,0442, 44.7533, -35.4100, 3955,    194.7,  12.9900,  35.7758,2,  35.7740,2,    233.8,2,     3.28,2,     9.09,2,     0.04,2,     0.50,2
     06GA226_2,  AR19,    39,  1,     21,    D21,2,19930715,0442, 44.7533, -35.4100, 3955,    296.2,  12.2010,  35.6374,2,  35.6329,2,    227.3,2,  -999.00,9,  -999.00,9,  -999.00,9,  -999.00,9
     06GA226_2,  AR19,    39,  1,     20,    N01,2,19930715,0442, 44.7533, -35.4100, 3955,    394.9,  11.3030,  35.5033,2,  35.4978,2,    231.2,2,     5.18,2,    11.92,2,     0.03,2,     0.69,2
     06GA226_2,  AR19,    39,  1,     19,    D10,2,19930715,0442, 44.7533, -35.4100, 3955,    495.5,  10.0520,  35.3057,2,  35.3086,2,    211.8,2,     7.17,2,    15.09,2,     0.03,2,     0.97,2
     06GA226_2,  AR19,    39,  1,     18,    D18,2,19930715,0442, 44.7533, -35.4100, 3955,    694.7,   7.3820,  35.0310,2,  35.0288,2,    197.0,2,    11.11,2,    19.45,2,     0.03,2,     1.28,2
     06GA226_2,  AR19,    39,  1,     17,    D17,2,19930715,0442, 44.7533, -35.4100, 3955,    796.6,   5.7940,  34.9301,2,  34.9347,2,    215.5,2,    11.61,2,    19.17,2,     0.03,2,     1.46,2
     06GA226_2,  AR19,    39,  1,     16,    D16,2,19930715,0442, 44.7533, -35.4100, 3955,    895.4,   5.8580,  35.0712,2,  35.0710,2,    223.9,2,    11.27,2,    19.00,2,     0.03,2,     1.27,2
     06GA226_2,  AR19,    39,  1,     15,    D15,2,19930715,0442, 44.7533, -35.4100, 3955,   1096.9,   4.5300,  34.9654,2,  34.9683,2,    252.4,2,    10.70,2,    18.12,2,     0.03,2,     1.18,2
     06GA226_2,  AR19,    39,  1,     14,    D14,2,19930715,0442, 44.7533, -35.4100, 3955,   1294.4,   3.9240,  34.9174,2,  34.9173,2,    268.7,2,    10.27,2,    17.50,2,     0.02,2,     1.17,2
     06GA226_2,  AR19,    39,  1,     13,    D04,2,19930715,0442, 44.7533, -35.4100, 3955,   1494.3,   3.6390,  34.8974,2,  34.8984,2,    275.7,2,    10.19,2,    17.25,2,     0.02,2,     1.17,2
     06GA226_2,  AR19,    39,  1,     12,    D12,2,19930715,0442, 44.7533, -35.4100, 3955,   1696.3,   3.4740,  34.8888,2,  34.8884,2,    280.2,2,    10.21,2,    16.90,2,     0.02,2,     1.17,2
     06GA226_2,  AR19,    39,  1,     11,    D11,2,19930715,0442, 44.7533, -35.4100, 3955,   1895.6,   3.3810,  34.8889,2,  34.8869,2,    281.3,2,    10.39,2,    16.81,2,     0.01,2,     1.08,2
     06GA226_2,  AR19,    39,  1,     10,    N03,2,19930715,0442, 44.7533, -35.4100, 3955,   2094.9,   3.4260,  34.9126,2,  34.9120,2,    276.9,2,    11.56,2,    17.09,2,     0.02,2,     1.17,2
     06GA226_2,  AR19,    39,  1,     09,    D09,2,19930715,0442, 44.7533, -35.4100, 3955,   2297.6,   3.3400,  34.9200,2,  34.9200,2,    275.4,2,    11.97,2,    16.86,2,     0.01,2,     1.17,2
     06GA226_2,  AR19,    39,  1,     08,    D08,2,19930715,0442, 44.7533, -35.4100, 3955,   2496.9,   3.2670,  34.9331,2,  34.9322,2,    272.4,2,    13.13,2,    17.08,2,     0.02,2,     1.17,2
     06GA226_2,  AR19,    39,  1,     07,    D22,2,19930715,0442, 44.7533, -35.4100, 3955,   2696.4,   3.1390,  34.9347,2,  34.9343,2,    273.2,2,    13.88,2,    16.88,2,     0.02,2,     1.17,2
     06GA226_2,  AR19,    39,  1,     06,    D06,2,19930715,0442, 44.7533, -35.4100, 3955,   2896.4,   2.9810,  34.9339,2,  34.9333,2,    273.8,2,    14.58,2,    16.50,2,     0.03,2,     1.08,2
     06GA226_2,  AR19,    39,  1,     05,    D05,2,19930715,0442, 44.7533, -35.4100, 3955,   3147.9,   2.7840,  34.9298,2,  34.9298,2,    273.0,2,    16.01,2,    16.79,2,     0.03,2,     1.17,2
     06GA226_2,  AR19,    39,  1,     04,    D19,2,19930715,0442, 44.7533, -35.4100, 3955,   3399.5,   2.5900,  34.9214,2,  34.9261,2,    273.9,2,    17.23,2,    16.77,2,     0.02,2,     1.17,2
     06GA226_2,  AR19,    39,  1,     03,    D03,2,19930715,0442, 44.7533, -35.4100, 3955,   3650.7,   2.4090,  34.9117,2,  34.9119,2,    274.7,2,    19.44,2,    16.95,2,     0.03,2,     1.17,2
     06GA226_2,  AR19,    39,  1,     02,    D02,2,19930715,0442, 44.7533, -35.4100, 3955,   3902.0,   2.2830,  34.9042,2,  34.9030,2,    276.6,2,    19.28,2,    16.65,2,     0.02,2,     1.17,2
     06GA226_2,  AR19,    40,  1,     23,    D23,3,19930715,1036, 44.9283, -34.7483, 4042,      6.1,  16.8170,  35.7668,2,  35.7636,2,    238.9,2,     0.54,2,     0.77,2,     0.05,2,     0.10,2
     06GA226_2,  AR19,    40,  1,     22,    D13,2,19930715,1036, 44.9283, -34.7483, 4042,     68.1,  13.7880,  35.7657,2,  35.7584,2,    247.0,2,     2.00,2,     5.22,2,     0.49,2,     0.30,2
     06GA226_2,  AR19,    40,  1,     21,    D21,2,19930715,1036, 44.9283, -34.7483, 4042,     96.4,  12.9590,  35.7055,2,  35.7130,2,    240.7,2,     2.77,2,     7.84,2,     0.04,2,     0.49,2
     06GA226_2,  AR19,    40,  1,     20,    N01,2,19930715,1036, 44.9283, -34.7483, 4042,    494.6,   8.0520,  35.0580,2,  35.0557,2,    200.9,2,    10.08,2,    18.12,2,     0.02,2,     1.18,2
     06GA226_2,  AR19,    40,  1,     19,    D10,2,19930715,1036, 44.9283, -34.7483, 4042,    747.4,   6.2690,  35.1072,2,  35.1015,2,    215.6,2,    11.31,2,    18.66,2,     0.03,2,     1.27,2
     06GA226_2,  AR19,    40,  1,     18,    D18,2,19930715,1036, 44.9283, -34.7483, 4042,    996.3,   4.8030,  35.0125,2,  35.0121,2,    245.9,2,    10.93,2,    17.84,2,     0.03,2,     1.18,2
     06GA226_2,  AR19,    40,  1,     17,    D17,2,19930715,1036, 44.9283, -34.7483, 4042,   1193.4,   4.0150,  34.9319,2,  34.9305,2,    265.9,2,    10.45,2,    17.31,2,     0.04,2,     1.17,2
     06GA226_2,  AR19,    40,  1,     16,    D16,2,19930715,1036, 44.9283, -34.7483, 4042,   1396.4,   3.6330,  34.8991,2,  34.8970,2,    275.8,2,    10.18,2,    16.95,2,     0.03,2,     1.17,2
     06GA226_2,  AR19,    40,  1,     15,    D15,2,19930715,1036, 44.9283, -34.7483, 4042,   1594.1,   3.4480,  34.8865,2,  34.8847,2,    280.3,2,    10.20,2,    16.79,2,     0.03,2,     1.08,2
     06GA226_2,  AR19,    40,  1,     14,    D14,2,19930715,1036, 44.9283, -34.7483, 4042,   1796.1,   3.3500,  34.8842,2,  34.8821,2,    282.4,2,    10.28,2,    16.68,2,     0.04,2,     1.08,2
     06GA226_2,  AR19,    40,  1,     13,    D04,2,19930715,1036, 44.9283, -34.7483, 4042,   2000.2,   3.2780,  34.8858,2,  34.8857,2,    282.8,2,    10.45,2,    16.44,2,     0.05,2,     1.08,2
     06GA226_2,  AR19,    40,  1,     12,    D12,2,19930715,1036, 44.9283, -34.7483, 4042,   2096.5,   3.2720,  34.8908,2,  34.8901,2,    282.1,2,    10.60,2,    16.52,2,     0.03,2,     1.08,2
     06GA226_2,  AR19,    40,  1,     11,    D11,2,19930715,1036, 44.9283, -34.7483, 4042,   2198.0,   3.2830,  34.8993,2,  34.8985,2,    279.9,2,    10.97,2,    16.51,2,     0.03,2,     1.08,2
     06GA226_2,  AR19,    40,  1,     10,    N03,2,19930715,1036, 44.9283, -34.7483, 4042,   2296.6,   3.3040,  34.9128,2,  34.9117,2,    277.3,2,    11.47,2,    16.53,2,     0.04,2,     1.08,2
     06GA226_2,  AR19,    40,  1,     09,    D09,2,19930715,1036, 44.9283, -34.7483, 4042,   2396.3,   3.2920,  34.9226,2,  34.9219,2,    275.1,2,    11.99,2,    16.41,2,     0.04,2,     1.08,2
     06GA226_2,  AR19,    40,  1,     08,    D08,2,19930715,1036, 44.9283, -34.7483, 4042,   2598.0,   3.1860,  34.9325,2,  34.9325,2,    273.2,2,    12.90,2,    16.41,2,     0.04,2,     1.08,2
     06GA226_2,  AR19,    40,  1,     07,    D22,2,19930715,1036, 44.9283, -34.7483, 4042,   2798.5,   3.0570,  34.9340,2,  34.9335,2,    273.7,2,    13.76,2,    16.39,2,     0.04,2,     1.17,2
     06GA226_2,  AR19,    40,  1,     06,    D06,2,19930715,1036, 44.9283, -34.7483, 4042,   2997.8,   2.9230,  34.9323,2,  34.9318,2,    274.0,2,    14.78,2,    16.42,2,     0.05,2,     1.17,2
     06GA226_2,  AR19,    40,  1,     05,    D05,2,19930715,1036, 44.9283, -34.7483, 4042,   3198.1,   2.7470,  34.9283,2,  34.9276,2,    272.9,2,    16.63,2,    16.53,2,     0.05,2,     1.17,2
     06GA226_2,  AR19,    40,  1,     04,    D19,2,19930715,1036, 44.9283, -34.7483, 4042,   3398.8,   2.5770,  34.9208,2,  34.9201,2,    274.1,2,    17.90,2,    16.62,2,     0.06,2,     1.17,2
     06GA226_2,  AR19,    40,  1,     03,    D03,2,19930715,1036, 44.9283, -34.7483, 4042,   3598.0,   2.4340,  34.9136,2,  34.9121,2,    275.3,2,    18.93,2,    16.57,2,     0.05,2,     1.17,2
     06GA226_2,  AR19,    40,  1,     02,    D02,2,19930715,1036, 44.9283, -34.7483, 4042,   3799.8,   2.3270,  34.9071,2,  34.9058,2,    276.2,2,    19.09,2,    16.33,2,     0.05,2,     1.08,2
     06GA226_2,  AR19,    40,  1,     01,    D16,2,19930715,1036, 44.9283, -34.7483, 4042,   4095.6,   2.2510,  34.9012,2,  34.9017,2,    278.2,2,    18.33,2,    16.12,2,     0.05,2,     1.08,2