BOTTLE,20010917WHPSIOKJU
#code : jjward hyd_to_exchange.pl 
#original files copied from HTML directory: 20010917
#original HYD file: ar19_ahy.txt   Mon Sep 17 16:27:30 2001
#original SUM file: ar19_asu.txt   Mon Sep 17 16:26:34 2001
EXPOCODE,SECT_ID,STNNBR,CASTNO,SAMPNO,BTLNBR,BTLNBR_FLAG_W,DATE,TIME,LATITUDE,LONGITUDE,DEPTH,CTDPRS,CTDTMP,CTDSAL,CTDSAL_FLAG_W,SALNTY,SALNTY_FLAG_W,OXYGEN,OXYGEN_FLAG_W,SILCAT,SILCAT_FLAG_W,NITRAT,NITRAT_FLAG_W,NITRIT,NITRIT_FLAG_W,PHSPHT,PHSPHT_FLAG_W
,,,,,ID,,,,,,,DBAR,ITS-90,PSS-78,,PSS-78,,UMOL/KG,,UMOL/KG,,UMOL/KG,,UMOL/KG,,UMOL/KG,
     06GA226_2,  AR19,    11,  1,     15,    D15,2,19930708,0125, 43.5050, -50.0033,   67,      6.6,   9.6220,  32.6154,2,-999.0000,9,    300.1,2,  -999.00,9,  -999.00,9,  -999.00,9,  -999.00,9
     06GA226_2,  AR19,    11,  1,     14,    D14,2,19930708,0125, 43.5050, -50.0033,   67,      6.6,   9.5090,  32.6182,2,  32.5953,3,    300.1,2,  -999.00,9,  -999.00,9,  -999.00,9,  -999.00,9
     06GA226_2,  AR19,    11,  1,     10,    D10,2,19930708,0125, 43.5050, -50.0033,   67,     14.4,   8.3220,  32.6879,2,-999.0000,9,    309.5,2,  -999.00,9,  -999.00,9,  -999.00,9,  -999.00,9
     06GA226_2,  AR19,    11,  1,     09,    D09,2,19930708,0125, 43.5050, -50.0033,   67,     15.4,   8.3250,  32.6856,2,  32.6774,2,    309.4,2,     0.19,2,     0.03,2,     0.02,2,     0.27,2
     06GA226_2,  AR19,    11,  1,     08,    D08,2,19930708,0125, 43.5050, -50.0033,   67,     30.3,   2.4040,  32.9772,2,  32.9677,2,   -999.0,9,     0.25,2,     0.04,2,     0.03,2,     0.34,2
     06GA226_2,  AR19,    11,  1,     06,    D06,2,19930708,0125, 43.5050, -50.0033,   67,     30.4,   2.3360,  32.9952,2,  32.9904,2,    375.0,2,     0.14,2,     0.12,2,     0.05,2,     0.41,2
     06GA226_2,  AR19,    11,  1,     07,    D07,2,19930708,0125, 43.5050, -50.0033,   67,     30.5,   2.3480,  32.9903,2,  32.9737,3,   -999.0,9,     0.26,2,     0.05,2,     0.03,2,     0.34,2
     06GA226_2,  AR19,    11,  1,     05,    D05,2,19930708,0125, 43.5050, -50.0033,   67,     30.5,   2.1960,  32.9998,2,  33.0035,2,    373.5,2,     0.23,2,     0.09,2,     0.05,2,     0.45,2
     06GA226_2,  AR19,    11,  1,     03,    D03,2,19930708,0125, 43.5050, -50.0033,   67,     53.3,   1.0730,  33.2169,2,  33.2192,2,   -999.0,9,     4.57,2,     3.94,2,     0.09,2,     1.13,2
     06GA226_2,  AR19,    11,  1,     04,    D04,2,19930708,0125, 43.5050, -50.0033,   67,     53.4,   1.0730,  33.2171,2,  33.2194,2,   -999.0,9,     4.40,2,     3.95,2,     0.09,2,     1.11,2
     06GA226_2,  AR19,    11,  1,     01,    D01,2,19930708,0125, 43.5050, -50.0033,   67,     53.8,   1.0740,  33.2165,2,  33.2208,2,    295.6,2,     4.65,2,     3.96,2,     0.09,2,     1.15,2
     06GA226_2,  AR19,    11,  1,     02,    D02,2,19930708,0125, 43.5050, -50.0033,   67,     53.9,   1.0730,  33.2166,2,  33.2220,2,    295.4,2,     4.64,2,     3.95,2,     0.08,2,     1.12,2
     06GA226_2,  AR19,    12,  2,     14,    D14,2,19930708,0445, 43.3350, -49.5817,   93,      4.8,   8.3420,  32.5612,2,  32.5374,3,    310.5,2,  -999.00,9,  -999.00,9,  -999.00,9,  -999.00,9
     06GA226_2,  AR19,    12,  2,     13,    D13,2,19930708,0445, 43.3350, -49.5817,   93,      5.1,   8.4970,  32.5260,2,-999.0000,9,    311.1,2,  -999.00,9,  -999.00,9,  -999.00,9,  -999.00,9
     06GA226_2,  AR19,    12,  2,     17,    D17,2,19930708,0445, 43.3350, -49.5817,   93,      5.2,   8.1880,  32.5729,2,  32.5612,3,   -999.0,9,  -999.00,9,  -999.00,9,  -999.00,9,  -999.00,9
     06GA226_2,  AR19,    12,  2,     10,    D10,2,19930708,0445, 43.3350, -49.5817,   93,     31.9,   2.5620,  32.8137,2,  32.7725,3,    367.0,2,  -999.00,9,  -999.00,9,  -999.00,9,  -999.00,9
     06GA226_2,  AR19,    12,  2,     09,    D09,2,19930708,0445, 43.3350, -49.5817,   93,     32.2,   2.1400,  32.8186,2,-999.0000,9,    371.8,3,  -999.00,9,  -999.00,9,  -999.00,9,  -999.00,9
     06GA226_2,  AR19,    12,  2,     05,    D05,2,19930708,0445, 43.3350, -49.5817,   93,     55.6,  -0.7020,  33.1197,2,  33.1106,2,    337.8,2,  -999.00,9,  -999.00,9,  -999.00,9,  -999.00,9
     06GA226_2,  AR19,    12,  2,     06,    D06,2,19930708,0445, 43.3350, -49.5817,   93,     55.9,  -0.7180,  33.1231,2,  33.1224,2,    335.7,2,  -999.00,9,  -999.00,9,  -999.00,9,  -999.00,9
     06GA226_2,  AR19,    12,  2,     08,    D08,2,19930708,0445, 43.3350, -49.5817,   93,     56.1,  -0.7400,  33.1288,2,  33.1249,2,   -999.0,9,  -999.00,9,  -999.00,9,  -999.00,9,  -999.00,9
     06GA226_2,  AR19,    12,  2,     07,    D07,2,19930708,0445, 43.3350, -49.5817,   93,     56.2,  -0.7230,  33.1242,2,  33.1221,2,   -999.0,9,  -999.00,9,  -999.00,9,  -999.00,9,  -999.00,9
     06GA226_2,  AR19,    12,  2,     02,    D02,2,19930708,0445, 43.3350, -49.5817,   93,     80.4,  -0.6610,  33.1462,2,  33.1441,2,    330.4,2,  -999.00,9,  -999.00,9,  -999.00,9,  -999.00,9
     06GA226_2,  AR19,    12,  2,     04,    D04,2,19930708,0445, 43.3350, -49.5817,   93,     80.6,  -0.6780,  33.1460,2,  33.1497,2,   -999.0,9,  -999.00,9,  -999.00,9,  -999.00,9,  -999.00,9
     06GA226_2,  AR19,    12,  2,     03,    D03,2,19930708,0445, 43.3350, -49.5817,   93,     80.7,  -0.6720,  33.1483,2,  33.1439,2,   -999.0,9,  -999.00,9,  -999.00,9,  -999.00,9,  -999.00,9
     06GA226_2,  AR19,    12,  2,     01,    D01,2,19930708,0445, 43.3350, -49.5817,   93,     80.9,  -0.6900,  33.1514,2,  33.1521,2,    329.0,2,  -999.00,9,  -999.00,9,  -999.00,9,  -999.00,9
     06GA226_2,  AR19,    13,  1,     17,    D17,2,19930708,0637, 43.2550, -49.3700,  520,      6.9,  14.2860,  33.7219,2,  33.7103,3,    265.7,2,     0.49,2,     0.13,2,     0.03,2,     0.20,2
     06GA226_2,  AR19,    13,  1,     16,    D16,2,19930708,0637, 43.2550, -49.3700,  520,     45.7,  11.5900,  35.2338,2,-999.0000,9,    235.5,2,  -999.00,9,  -999.00,9,  -999.00,9,  -999.00,9
     06GA226_2,  AR19,    13,  1,     15,    D15,2,19930708,0637, 43.2550, -49.3700,  520,     45.9,  11.5960,  35.2414,2,  35.2293,3,    235.8,2,     3.19,2,     8.23,2,     0.08,2,     0.58,2
     06GA226_2,  AR19,    13,  1,     14,    D14,2,19930708,0637, 43.2550, -49.3700,  520,     95.8,  10.4400,  35.1170,2,-999.0000,9,    223.7,2,  -999.00,9,  -999.00,9,  -999.00,9,  -999.00,9
     06GA226_2,  AR19,    13,  1,     13,    D13,2,19930708,0637, 43.2550, -49.3700,  520,     96.4,  10.3710,  35.1042,2,  35.1172,3,    224.0,2,     5.23,2,    11.63,2,     0.05,2,     0.79,2
     06GA226_2,  AR19,    13,  1,     12,    D12,2,19930708,0637, 43.2550, -49.3700,  520,    195.4,   8.0720,  34.8589,2,-999.0000,9,    199.4,2,  -999.00,9,  -999.00,9,  -999.00,9,  -999.00,9
     06GA226_2,  AR19,    13,  1,     11,    D11,2,19930708,0637, 43.2550, -49.3700,  520,    195.6,   8.0730,  34.8592,2,  34.8536,2,    199.0,2,     9.57,2,    16.68,2,     0.05,2,     1.18,2
     06GA226_2,  AR19,    13,  1,     10,    D10,2,19930708,0637, 43.2550, -49.3700,  520,    295.6,   6.3200,  34.7992,2,-999.0000,9,    201.4,2,  -999.00,9,  -999.00,9,  -999.00,9,  -999.00,9
     06GA226_2,  AR19,    13,  1,     09,    D09,2,19930708,0637, 43.2550, -49.3700,  520,    296.2,   6.3050,  34.8030,2,  34.7981,2,    200.2,2,    11.88,2,    19.26,2,     0.05,2,     1.37,2
     06GA226_2,  AR19,    13,  1,     08,    D08,2,19930708,0637, 43.2550, -49.3700,  520,    396.4,   3.9890,  34.7779,2,-999.0000,9,    254.4,2,  -999.00,9,  -999.00,9,  -999.00,9,  -999.00,9
     06GA226_2,  AR19,    13,  1,     07,    D07,2,19930708,0637, 43.2550, -49.3700,  520,    396.5,   3.9910,  34.7788,2,  34.7767,2,    254.6,2,    11.52,2,    17.22,2,     0.06,2,     1.18,2
     06GA226_2,  AR19,    13,  1,     06,    D06,3,19930708,0637, 43.2550, -49.3700,  520,    446.6,   3.9200,  34.7923,2,-999.0000,9,    258.1,2,  -999.00,9,  -999.00,9,  -999.00,9,  -999.00,9
     06GA226_2,  AR19,    13,  1,     05,    D05,2,19930708,0637, 43.2550, -49.3700,  520,    446.7,   3.9210,  34.7921,2,  34.7899,2,    258.1,2,    11.40,2,    17.15,2,     0.07,2,     1.18,2
     06GA226_2,  AR19,    13,  1,     04,    D04,2,19930708,0637, 43.2550, -49.3700,  520,    495.5,   3.8110,  34.8266,2,-999.0000,9,    262.7,2,  -999.00,9,  -999.00,9,  -999.00,9,  -999.00,9
     06GA226_2,  AR19,    13,  1,     03,    D03,2,19930708,0637, 43.2550, -49.3700,  520,    495.6,   3.7990,  34.8251,2,  34.8210,2,    263.7,2,    11.43,2,    17.12,2,     0.06,2,     1.18,2
     06GA226_2,  AR19,    13,  1,     01,    D01,2,19930708,0637, 43.2550, -49.3700,  520,    519.7,   3.7300,  34.8308,2,  34.8285,2,    267.3,2,    10.93,2,    16.92,2,     0.05,2,     1.17,2
     06GA226_2,  AR19,    13,  1,     02,    D02,2,19930708,0637, 43.2550, -49.3700,  520,    520.0,   3.7290,  34.8317,2,-999.0000,9,    267.0,2,  -999.00,9,  -999.00,9,  -999.00,9,  -999.00,9
     06GA226_2,  AR19,    14,  1,     12,    D12,2,19930708,0854, 43.1950, -49.1550, 1015,      6.0,  15.9180,  34.2845,2,  34.2726,3,    251.1,2,     0.40,2,     0.13,2,     0.01,2,     0.20,2
     06GA226_2,  AR19,    14,  1,     11,    D11,2,19930708,0854, 43.1950, -49.1550, 1015,     76.2,  10.4210,  35.0951,2,  35.1099,3,    227.7,2,     4.65,2,    10.69,2,     0.04,2,     0.69,2
     06GA226_2,  AR19,    14,  1,     10,    D10,2,19930708,0854, 43.1950, -49.1550, 1015,    116.3,  10.8230,  35.2523,2,  35.2692,3,    208.6,2,     6.54,2,    13.70,2,     0.04,2,     0.88,2
     06GA226_2,  AR19,    14,  1,     09,    D09,2,19930708,0854, 43.1950, -49.1550, 1015,    196.1,   8.3170,  34.9397,2,  34.9399,2,    190.6,2,     9.75,2,    17.83,2,     0.04,2,     1.18,2
     06GA226_2,  AR19,    14,  1,     08,    D08,2,19930708,0854, 43.1950, -49.1550, 1015,    295.3,   7.4220,  35.0064,2,  35.0069,2,    179.4,2,    12.53,2,    21.24,2,     0.03,2,     1.37,2
     06GA226_2,  AR19,    14,  1,     07,    D07,2,19930708,0854, 43.1950, -49.1550, 1015,    396.4,   5.9860,  34.9305,2,  34.9308,2,    203.0,2,    12.54,2,    20.37,2,     0.03,2,     1.36,2
     06GA226_2,  AR19,    14,  1,     06,    D06,2,19930708,0854, 43.1950, -49.1550, 1015,    496.7,   5.6200,  35.0102,2,  35.0156,2,    218.1,2,    11.95,2,    19.45,2,     0.03,2,     1.28,2
     06GA226_2,  AR19,    14,  1,     05,    D05,2,19930708,0854, 43.1950, -49.1550, 1015,    595.8,   5.2800,  35.0377,2,  35.0374,2,    230.3,2,    11.71,2,    18.99,2,     0.04,2,     1.27,2
     06GA226_2,  AR19,    14,  1,     04,    D04,2,19930708,0854, 43.1950, -49.1550, 1015,    695.6,   4.6310,  35.0049,2,  35.0077,2,    248.6,2,    11.22,2,    18.23,2,     0.03,2,     1.18,2
     06GA226_2,  AR19,    14,  1,     03,    D03,2,19930708,0854, 43.1950, -49.1550, 1015,    794.0,   4.2710,  34.9585,2,  34.9594,2,    259.0,2,    10.79,2,    17.83,2,     0.03,2,     1.17,2
     06GA226_2,  AR19,    14,  1,     02,    D02,2,19930708,0854, 43.1950, -49.1550, 1015,    895.2,   3.7700,  34.8998,2,  34.8993,2,    272.9,2,    10.28,2,    17.32,2,     0.03,2,     1.17,2
     06GA226_2,  AR19,    14,  1,     01,    D01,2,19930708,0854, 43.1950, -49.1550, 1015,    993.5,   3.6460,  34.8877,2,  34.8873,2,    276.6,2,    10.36,2,    17.13,2,     0.04,2,     1.17,2
     06GA226_2,  AR19,    15,  1,     17,    D17,2,19930708,1049, 43.1383, -48.9933, 1575,      6.7,  15.9920,  34.0560,2,  34.0606,2,    253.4,2,     0.39,2,     0.12,2,     0.04,2,     0.11,2
     06GA226_2,  AR19,    15,  1,     16,    D16,2,19930708,1049, 43.1383, -48.9933, 1575,     97.0,  11.6650,  35.3404,2,  35.3403,2,    217.6,2,     4.89,2,    11.21,2,     0.05,2,     0.69,2
     06GA226_2,  AR19,    15,  1,     15,    D15,2,19930708,1049, 43.1383, -48.9933, 1575,    196.5,   9.4820,  35.1568,2,  35.1548,2,    158.2,2,    11.76,2,    20.75,2,     0.05,2,     1.37,2
     06GA226_2,  AR19,    15,  1,     14,    D14,2,19930708,1049, 43.1383, -48.9933, 1575,    294.0,   7.5930,  34.9454,2,  34.9362,2,    177.4,2,    12.42,2,    20.73,2,     0.04,2,     1.46,2
     06GA226_2,  AR19,    15,  1,     13,    D13,2,19930708,1049, 43.1383, -48.9933, 1575,    396.6,   6.4210,  34.9672,2,  34.9714,2,    197.7,2,    12.44,2,    20.14,2,     0.05,2,     1.37,2
     06GA226_2,  AR19,    15,  1,     12,    D12,2,19930708,1049, 43.1383, -48.9933, 1575,    494.6,   5.9360,  35.0416,2,  35.0450,2,    212.1,2,    12.26,2,    19.49,2,     0.08,2,     1.36,2
     06GA226_2,  AR19,    15,  1,     11,    D11,2,19930708,1049, 43.1383, -48.9933, 1575,    595.2,   5.4420,  35.0336,2,  35.0346,2,    226.4,2,    11.85,2,    18.78,2,     0.05,2,     1.27,2
     06GA226_2,  AR19,    15,  1,     10,    D10,2,19930708,1049, 43.1383, -48.9933, 1575,    696.7,   5.0990,  35.0439,2,  35.0432,2,    237.7,2,    11.62,2,    18.35,2,     0.05,2,     1.26,2
     06GA226_2,  AR19,    15,  1,     09,    D09,2,19930708,1049, 43.1383, -48.9933, 1575,    796.5,   4.7470,  35.0214,2,  35.0237,2,    246.7,2,    11.38,2,    18.00,2,     0.05,2,     1.18,2
     06GA226_2,  AR19,    15,  1,     08,    D08,2,19930708,1049, 43.1383, -48.9933, 1575,    894.8,   4.2320,  34.9591,2,  34.9603,2,    260.3,2,    10.92,2,    17.42,2,     0.04,2,     1.18,2
     06GA226_2,  AR19,    15,  1,     07,    D07,2,19930708,1049, 43.1383, -48.9933, 1575,    996.5,   3.7930,  34.9055,2,  34.9067,2,    273.2,2,    10.43,2,    17.15,2,     0.04,2,     1.17,2
     06GA226_2,  AR19,    15,  1,     06,    D06,2,19930708,1049, 43.1383, -48.9933, 1575,   1095.4,   3.6840,  34.9032,2,  34.9040,2,    275.8,2,    10.42,2,    16.99,2,     0.04,2,     1.17,2
     06GA226_2,  AR19,    15,  1,     04,    D04,3,19930708,1049, 43.1383, -48.9933, 1575,   1295.1,   3.4630,  34.8830,2,  34.8825,2,    281.8,2,    10.29,2,    16.66,2,     0.04,2,     1.08,2
     06GA226_2,  AR19,    15,  1,     03,    D03,2,19930708,1049, 43.1383, -48.9933, 1575,   1392.9,   3.2960,  34.8671,2,  34.8668,2,    286.4,2,    10.24,2,    16.42,2,     0.04,2,     1.08,2
     06GA226_2,  AR19,    15,  1,     02,    D02,3,19930708,1049, 43.1383, -48.9933, 1575,   1494.1,   3.2510,  34.8708,2,  34.8713,2,    284.5,2,    10.74,2,    16.43,2,     0.05,2,     1.08,2
     06GA226_2,  AR19,    15,  1,     01,    D01,3,19930708,1049, 43.1383, -48.9933, 1575,   1551.0,   3.2560,  34.8723,2,  34.8720,2,    285.5,2,    10.82,2,    16.48,2,     0.05,2,     1.17,2
     06GA226_2,  AR19,    16,  1,     22,    D22,2,19930708,1317, 43.0917, -48.8433, 2048,      5.4,  15.9280,  33.9656,2,  33.9634,2,    250.8,2,     0.41,2,     0.09,2,     0.03,2,     0.11,2
     06GA226_2,  AR19,    16,  1,     21,    D21,2,19930708,1317, 43.0917, -48.8433, 2048,      5.5,  15.9250,  33.9663,2,  33.9664,2,    250.5,2,     0.38,2,     0.04,2,     0.03,2,     0.11,2
     06GA226_2,  AR19,    16,  1,     20,    D20,2,19930708,1317, 43.0917, -48.8433, 2048,     96.3,  11.5800,  35.2898,2,  35.2973,2,    220.9,2,     4.76,2,    10.67,2,     0.05,2,     0.68,2
     06GA226_2,  AR19,    16,  1,     19,    D19,2,19930708,1317, 43.0917, -48.8433, 2048,    195.0,   9.7150,  35.1335,2,  35.1350,2,    180.5,2,     9.44,2,    17.76,2,     0.05,2,     1.18,2
     06GA226_2,  AR19,    16,  1,     18,    D18,2,19930708,1317, 43.0917, -48.8433, 2048,    294.1,   8.0620,  35.0197,2,  35.0172,2,    174.8,2,    12.07,2,    20.87,2,     0.05,2,     1.37,2
     06GA226_2,  AR19,    16,  1,     17,    D17,2,19930708,1317, 43.0917, -48.8433, 2048,    394.8,   6.7310,  35.0106,2,  35.0119,2,    190.6,2,    12.72,2,    20.76,2,     0.06,2,     1.37,2
     06GA226_2,  AR19,    16,  1,     16,    D16,2,19930708,1317, 43.0917, -48.8433, 2048,    494.3,   6.1920,  35.0875,9,  35.0844,9,    210.5,9,    12.11,2,    19.68,2,     0.05,2,     1.28,2
     06GA226_2,  AR19,    16,  1,     15,    D15,2,19930708,1317, 43.0917, -48.8433, 2048,    595.1,   5.5170,  35.0576,2,  35.0598,2,    225.0,2,    11.81,2,    18.98,2,     0.05,2,     1.27,2
     06GA226_2,  AR19,    16,  1,     14,    D14,2,19930708,1317, 43.0917, -48.8433, 2048,    695.2,   5.1000,  35.0439,2,  35.0458,2,    237.6,2,    11.53,2,    18.60,2,     0.05,2,     1.18,2
     06GA226_2,  AR19,    16,  1,     13,    D13,2,19930708,1317, 43.0917, -48.8433, 2048,    795.4,   4.4070,  34.9673,2,  34.9733,2,    253.6,2,    11.02,2,    17.98,2,     0.04,2,     1.17,2
     06GA226_2,  AR19,    16,  1,     12,    D12,2,19930708,1317, 43.0917, -48.8433, 2048,    894.9,   4.0180,  34.9223,2,  34.9223,2,    266.4,2,    10.57,2,    17.47,2,     0.05,2,     1.17,2
     06GA226_2,  AR19,    16,  1,     11,    D11,3,19930708,1317, 43.0917, -48.8433, 2048,    993.5,   3.4310,  34.8517,2,  34.8524,2,   -999.0,9,  -999.00,9,  -999.00,9,  -999.00,9,  -999.00,9
     06GA226_2,  AR19,    16,  1,     10,    D10,3,19930708,1317, 43.0917, -48.8433, 2048,   1094.1,   3.4080,  34.8603,2,  34.8607,2,   -999.0,9,  -999.00,9,  -999.00,9,  -999.00,9,  -999.00,9
     06GA226_2,  AR19,    16,  1,     09,    D09,2,19930708,1317, 43.0917, -48.8433, 2048,   1195.0,   3.6030,  34.9066,2,  34.9063,2,    276.1,2,    10.58,2,    17.20,2,     0.05,2,     1.17,2
     06GA226_2,  AR19,    16,  1,     08,    D08,2,19930708,1317, 43.0917, -48.8433, 2048,   1294.6,   3.2680,  34.8610,2,  34.8604,2,    288.4,2,     9.81,2,    16.65,2,     0.05,2,     1.08,2
     06GA226_2,  AR19,    16,  1,     07,    D07,2,19930708,1317, 43.0917, -48.8433, 2048,   1393.9,   3.2820,  34.8673,2,-999.0000,9,    281.2,2,    10.22,2,    16.83,2,     0.05,2,     1.17,2
     06GA226_2,  AR19,    16,  1,     06,    D06,2,19930708,1317, 43.0917, -48.8433, 2048,   1495.2,   3.2340,  34.8610,2,  34.8605,2,    288.8,2,    10.02,2,    16.76,2,     0.04,2,     1.17,2
     06GA226_2,  AR19,    16,  1,     05,    D05,2,19930708,1317, 43.0917, -48.8433, 2048,   1594.8,   3.1940,  34.8605,2,  34.8603,2,    289.0,2,    10.15,2,    16.61,2,     0.05,2,     1.08,2
     06GA226_2,  AR19,    16,  1,     04,    D04,2,19930708,1317, 43.0917, -48.8433, 2048,   1696.9,   3.2230,  34.8710,2,  34.8708,2,    286.3,2,    10.55,2,    16.75,2,     0.05,2,     1.17,2
     06GA226_2,  AR19,    16,  1,     03,    D03,2,19930708,1317, 43.0917, -48.8433, 2048,   1795.5,   3.2240,  34.8792,2,  34.8780,2,    285.1,2,    10.78,2,    16.74,2,     0.04,2,     1.17,2
     06GA226_2,  AR19,    16,  1,     02,    D02,2,19930708,1317, 43.0917, -48.8433, 2048,   1894.7,   3.2180,  34.8861,2,  34.8849,2,    284.1,2,    11.07,2,    16.80,2,     0.05,2,     1.17,2
     06GA226_2,  AR19,    16,  1,     01,    D01,2,19930708,1317, 43.0917, -48.8433, 2048,   2012.4,   3.2110,  34.8959,2,  34.8953,2,    281.4,2,    11.65,2,    16.88,2,     0.05,2,     1.17,2