BOTTLE,20010917WHPSIOKJU
EXPOCODE,SECT_ID,STNNBR,CASTNO,SAMPNO,BTLNBR,BTLNBR_FLAG_W,DATE,TIME,LATITUDE,LONGITUDE,DEPTH,CTDPRS,CTDTMP,CTDSAL,CTDSAL_FLAG_W,SALNTY,SALNTY_FLAG_W,OXYGEN,OXYGEN_FLAG_W,SILCAT,SILCAT_FLAG_W,NITRAT,NITRAT_FLAG_W,NITRIT,NITRIT_FLAG_W,PHSPHT,PHSPHT_FLAG_W
,,,,,ID,,,,,,,DBAR,ITS-90,PSS-78,,PSS-78,,UMOL/KG,,UMOL/KG,,UMOL/KG,,UMOL/KG,,UMOL/KG,
     06GA226_2,  AR19,    67,  1,     24,    N06,2,19930721,1251, 48.0150, -19.9050, 4322,      6.3,  17.3340,  35.6157,2,  35.5862,3,    250.2,2,     0.16,2,     0.06,2,     0.03,2,     0.10,2
     06GA226_2,  AR19,    67,  1,     23,    N07,2,19930721,1251, 48.0150, -19.9050, 4322,     46.9,  13.1830,  35.6294,2,  35.6275,2,    255.0,2,     0.55,2,     2.81,2,     0.33,2,     0.29,2
     06GA226_2,  AR19,    67,  1,     22,    N02,2,19930721,1251, 48.0150, -19.9050, 4322,     72.9,  12.5290,  35.6539,2,  35.6513,2,    245.7,2,     1.58,2,     6.72,2,     0.06,2,     0.40,2
     06GA226_2,  AR19,    67,  1,     21,    D21,2,19930721,1251, 48.0150, -19.9050, 4322,     97.5,  12.3270,  35.6564,2,  35.6531,2,    247.2,2,     2.43,2,     7.60,2,     0.04,2,     0.40,2
     06GA226_2,  AR19,    67,  1,     20,    N01,2,19930721,1251, 48.0150, -19.9050, 4322,    146.9,  11.9530,  35.6009,2,  35.5978,2,    247.3,2,     3.13,2,     8.93,2,     0.03,2,     0.50,2
     06GA226_2,  AR19,    67,  1,     19,    D04,2,19930721,1251, 48.0150, -19.9050, 4322,    195.5,  11.7330,  35.5691,2,  35.5661,2,    249.3,2,     3.25,2,     9.05,2,     0.03,2,     0.50,2
     06GA226_2,  AR19,    67,  1,     18,    D18,2,19930721,1251, 48.0150, -19.9050, 4322,    295.2,  11.4640,  35.5356,2,  35.5332,2,    244.3,2,     3.42,2,     9.96,2,     0.03,2,     0.58,2
     06GA226_2,  AR19,    67,  1,     17,    D17,2,19930721,1251, 48.0150, -19.9050, 4322,    396.5,  10.9660,  35.4656,2,  35.4612,2,    247.3,2,     3.92,2,    10.62,2,     0.03,2,     0.59,2
     06GA226_2,  AR19,    67,  1,     16,    N03,2,19930721,1251, 48.0150, -19.9050, 4322,    495.1,  10.8580,  35.4948,2,  35.4899,2,    233.7,2,     4.58,2,    12.23,2,     0.03,2,     0.69,2
     06GA226_2,  AR19,    67,  1,     15,    D15,2,19930721,1251, 48.0150, -19.9050, 4322,    594.3,  10.2550,  35.4279,2,  35.4241,2,    224.1,2,     5.86,2,    14.13,2,     0.03,2,     0.88,2
     06GA226_2,  AR19,    67,  1,     14,    D14,2,19930721,1251, 48.0150, -19.9050, 4322,    693.2,   9.4860,  35.3442,2,  35.3437,2,    207.7,2,     7.74,2,    16.46,2,     0.03,2,     1.07,2
     06GA226_2,  AR19,    67,  1,     13,    N04,2,19930721,1251, 48.0150, -19.9050, 4322,    789.8,   8.5890,  35.2792,2,  35.2822,2,    199.3,2,     9.30,2,    18.12,2,     0.03,2,     1.17,2
     06GA226_2,  AR19,    67,  1,     12,    D12,2,19930721,1251, 48.0150, -19.9050, 4322,    894.5,   8.2940,  35.3640,2,  35.3597,2,    199.3,2,     9.80,2,    18.21,2,     0.03,2,     1.17,2
     06GA226_2,  AR19,    67,  1,     10,    D19,2,19930721,1251, 48.0150, -19.9050, 4322,   1092.6,   6.2480,  35.1714,2,  35.1681,2,    224.0,2,    10.51,2,    18.41,2,     0.03,2,     1.18,2
     06GA226_2,  AR19,    67,  1,     09,    D09,2,19930721,1251, 48.0150, -19.9050, 4322,   1193.6,   5.7700,  35.1482,2,  35.1485,2,    232.4,2,    10.51,2,    18.28,2,     0.03,2,     1.17,2
     06GA226_2,  AR19,    67,  1,     08,    D08,2,19930721,1251, 48.0150, -19.9050, 4322,   1294.0,   5.0520,  35.0661,2,  35.0675,2,    244.7,2,    10.41,2,    18.00,2,     0.01,2,     1.17,2
     06GA226_2,  AR19,    67,  1,     06,    D06,2,19930721,1251, 48.0150, -19.9050, 4322,   1495.5,   4.1330,  34.9537,2,  34.9516,2,    264.6,2,    10.21,2,    17.63,2,     0.02,2,     1.17,2
     06GA226_2,  AR19,    67,  1,     05,    D05,2,19930721,1251, 48.0150, -19.9050, 4322,   1594.8,   4.0060,  34.9465,2,  34.9451,2,    267.5,2,    10.19,2,    17.47,2,     0.02,2,     1.17,2
     06GA226_2,  AR19,    67,  1,     04,    D13,2,19930721,1251, 48.0150, -19.9050, 4322,   1694.1,   3.8240,  34.9262,2,  34.9254,2,    272.2,2,    10.14,2,    17.37,2,     0.02,2,     1.17,2
     06GA226_2,  AR19,    67,  1,     03,    D03,2,19930721,1251, 48.0150, -19.9050, 4322,   1794.2,   3.6920,  34.9142,2,  34.9130,2,    275.2,2,    10.16,2,    17.26,2,     0.02,2,     1.08,2
     06GA226_2,  AR19,    67,  1,     02,    D02,2,19930721,1251, 48.0150, -19.9050, 4322,   1895.0,   3.5540,  34.9022,2,  34.9014,2,    278.6,2,    10.14,2,    17.11,2,     0.02,2,     1.08,2
     06GA226_2,  AR19,    67,  1,     01,    D10,2,19930721,1251, 48.0150, -19.9050, 4322,   1994.2,   3.5230,  34.9096,2,  34.9082,2,    277.5,2,    10.45,2,    17.07,2,     0.02,2,     1.17,2
     06GA226_2,  AR19,    67,  2,     24,    N06,2,19930721,1609, 48.0067, -19.9133, 4326,      5.7,  17.6060,  35.6126,2,  35.6066,2,    248.6,2,     0.21,2,     0.09,2,     0.02,2,     0.00,2
     06GA226_2,  AR19,    67,  2,     23,    N07,2,19930721,1609, 48.0067, -19.9133, 4326,    146.0,  11.9030,  35.5973,2,  35.5902,2,    249.5,2,     3.15,2,     8.74,2,     0.02,2,     0.50,2
     06GA226_2,  AR19,    67,  2,     22,    N02,2,19930721,1609, 48.0067, -19.9133, 4326,    295.9,  11.3240,  35.5126,2,  35.5088,2,    246.8,2,     3.66,2,     9.72,2,     0.03,2,     0.58,2
     06GA226_2,  AR19,    67,  2,     21,    D21,2,19930721,1609, 48.0067, -19.9133, 4326,    494.9,  10.7440,  35.4752,2,  35.4718,2,    233.4,2,     4.86,2,    12.19,2,     0.02,2,     0.69,2
     06GA226_2,  AR19,    67,  2,     20,    N01,2,19930721,1609, 48.0067, -19.9133, 4326,    746.1,   9.0530,  35.3279,2,  35.3278,2,    202.1,2,     8.89,2,    17.30,2,     0.02,2,     1.07,2
     06GA226_2,  AR19,    67,  2,     19,    D04,2,19930721,1609, 48.0067, -19.9133, 4326,    925.0,   7.7850,  35.2816,2,  35.2788,2,    202.5,2,    10.37,2,    18.62,2,     0.03,2,     1.17,2
     06GA226_2,  AR19,    67,  2,     18,    D18,2,19930721,1609, 48.0067, -19.9133, 4326,    956.0,   7.1770,  35.1938,2,  35.1962,2,    208.3,2,    10.72,2,    18.96,2,     0.03,2,     1.18,2
     06GA226_2,  AR19,    67,  2,     17,    D17,2,19930721,1609, 48.0067, -19.9133, 4326,   1070.9,   6.3460,  35.1648,2,  35.1664,2,    220.9,2,    10.84,2,    18.62,2,     0.03,2,     1.17,2
     06GA226_2,  AR19,    67,  2,     16,    N03,2,19930721,1609, 48.0067, -19.9133, 4326,   1157.9,   6.1580,  35.1975,2,  35.1951,2,    226.7,2,    10.81,2,    18.42,2,     0.02,2,     1.17,2
     06GA226_2,  AR19,    67,  2,     15,    D15,2,19930721,1609, 48.0067, -19.9133, 4326,   1294.0,   5.1190,  35.0647,2,  35.0636,2,    242.9,2,    10.81,2,    18.31,2,     0.03,2,     1.17,2
     06GA226_2,  AR19,    67,  2,     14,    D14,2,19930721,1609, 48.0067, -19.9133, 4326,   1495.1,   4.1680,  34.9528,2,  34.9507,2,    262.6,2,    10.61,2,    17.95,2,     0.03,2,     1.17,2
     06GA226_2,  AR19,    67,  2,     13,    N04,2,19930721,1609, 48.0067, -19.9133, 4326,   1636.1,   3.9240,  34.9369,2,  34.9346,2,    269.1,2,    10.63,2,    17.66,2,     0.02,2,     1.08,2
     06GA226_2,  AR19,    67,  2,     12,    D12,2,19930721,1609, 48.0067, -19.9133, 4326,   1796.1,   3.6600,  34.9105,2,  34.9103,2,    275.0,2,    10.64,2,    17.37,2,     0.03,2,     1.08,2
     06GA226_2,  AR19,    67,  2,     11,    N08,2,19930721,1609, 48.0067, -19.9133, 4326,   1995.9,   3.5360,  34.9088,2,  34.9106,2,    279.5,2,    10.97,2,    17.28,2,     0.02,2,     1.08,2
     06GA226_2,  AR19,    67,  2,     10,    D19,2,19930721,1609, 48.0067, -19.9133, 4326,   2246.8,   3.4930,  34.9369,2,  34.9377,2,    271.9,2,    12.70,2,    17.34,2,     0.02,2,     1.08,2
     06GA226_2,  AR19,    67,  2,     09,    D09,2,19930721,1609, 48.0067, -19.9133, 4326,   2496.6,   3.3010,  34.9492,2,  34.9487,2,    268.8,2,    14.97,2,    17.37,2,     0.02,2,     1.17,2
     06GA226_2,  AR19,    67,  2,     08,    D08,2,19930721,1609, 48.0067, -19.9133, 4326,   2747.5,   3.0780,  34.9543,2,  34.9532,2,    263.7,2,    19.47,2,    18.00,2,     0.02,2,     1.17,2
     06GA226_2,  AR19,    67,  2,     06,    D06,2,19930721,1609, 48.0067, -19.9133, 4326,   3248.3,   2.7400,  34.9413,2,  34.9386,2,    253.3,2,    30.65,2,    19.72,2,     0.02,2,     1.36,2
     06GA226_2,  AR19,    67,  2,     05,    D05,2,19930721,1609, 48.0067, -19.9133, 4326,   3498.6,   2.6430,  34.9303,2,  34.9292,2,    247.7,2,    35.74,2,    20.63,2,     0.02,2,     1.37,2
     06GA226_2,  AR19,    67,  2,     04,    D13,2,19930721,1609, 48.0067, -19.9133, 4326,   3749.6,   2.5800,  34.9215,2,  34.9193,2,    244.6,2,    39.00,2,    21.26,2,     0.02,2,     1.46,2
     06GA226_2,  AR19,    67,  2,     03,    D03,2,19930721,1609, 48.0067, -19.9133, 4326,   4000.4,   2.5560,  34.9142,2,  34.9139,2,    242.6,2,    41.15,2,    21.65,2,     0.02,2,     1.47,2
     06GA226_2,  AR19,    67,  2,     02,    D02,2,19930721,1609, 48.0067, -19.9133, 4326,   4249.4,   2.5510,  34.9105,2,  34.9103,2,    241.9,2,    42.40,2,    21.77,2,     0.02,2,     1.47,2
     06GA226_2,  AR19,    67,  2,     01,    D10,2,19930721,1609, 48.0067, -19.9133, 4326,   4402.2,   2.5450,  34.9078,2,  34.9066,2,    242.0,2,    43.13,2,    21.89,2,     0.02,2,     1.56,2
     06GA226_2,  AR19,    68,  1,     24,    N06,2,19930721,2207, 48.1033, -19.1667, 4171,      7.6,  17.0250,  35.5414,2,  35.5321,2,    249.2,2,     0.49,2,     0.06,2,     0.03,2,     0.01,2
     06GA226_2,  AR19,    68,  1,     23,    N07,2,19930721,2207, 48.1033, -19.1667, 4171,     97.4,  12.1880,  35.6318,2,  35.6292,2,    246.1,2,     3.39,2,     8.35,2,     0.04,2,     0.49,2
     06GA226_2,  AR19,    68,  1,     22,    N02,2,19930721,2207, 48.1033, -19.1667, 4171,    294.9,  11.1760,  35.4747,2,  35.4760,2,    238.3,2,     4.93,2,    11.12,2,     0.03,2,     0.68,2
     06GA226_2,  AR19,    68,  1,     21,    D21,2,19930721,2207, 48.1033, -19.1667, 4171,    492.0,  10.0530,  35.3234,2,  35.3230,2,    236.7,2,     6.32,2,    13.00,2,     0.03,2,     0.79,2
     06GA226_2,  AR19,    68,  1,     20,    N01,2,19930721,2207, 48.1033, -19.1667, 4171,    745.8,   7.9610,  35.1641,2,  35.1655,2,    203.0,2,    10.63,2,    18.27,2,     0.03,2,     1.17,2
     06GA226_2,  AR19,    68,  1,     19,    D04,2,19930721,2207, 48.1033, -19.1667, 4171,    895.2,   6.7600,  35.1304,2,  35.1301,2,    212.3,2,    11.44,2,    18.61,2,     0.03,2,     1.18,2
     06GA226_2,  AR19,    68,  1,     18,    D18,2,19930721,2207, 48.1033, -19.1667, 4171,    995.4,   6.5280,  35.1862,2,  35.1869,2,    219.6,2,    11.37,2,    18.23,2,     0.03,2,     1.17,2
     06GA226_2,  AR19,    68,  1,     17,    D17,2,19930721,2207, 48.1033, -19.1667, 4171,   1094.7,   6.0390,  35.1709,2,  35.1715,2,    228.0,2,    11.37,2,    17.98,2,     0.03,2,     1.17,2
     06GA226_2,  AR19,    68,  1,     16,    N03,2,19930721,2207, 48.1033, -19.1667, 4171,   1195.5,   5.5230,  35.1223,2,  35.1232,2,    237.1,2,    11.45,2,    17.87,2,     0.03,2,     1.17,2
     06GA226_2,  AR19,    68,  1,     15,    D15,2,19930721,2207, 48.1033, -19.1667, 4171,   1395.1,   4.4360,  34.9901,2,  34.9909,2,    257.3,2,    11.34,2,    17.50,2,     0.03,2,     1.17,2
     06GA226_2,  AR19,    68,  1,     14,    D14,2,19930721,2207, 48.1033, -19.1667, 4171,   1494.6,   4.0380,  34.9421,2,  34.9444,2,    266.1,2,    11.16,2,    17.34,2,     0.03,2,     1.17,2
     06GA226_2,  AR19,    68,  1,     13,    N04,2,19930721,2207, 48.1033, -19.1667, 4171,   1595.2,   3.8600,  34.9239,2,  34.9263,2,    271.0,2,    11.10,2,    17.12,2,     0.03,2,     1.08,2
     06GA226_2,  AR19,    68,  1,     12,    D12,2,19930721,2207, 48.1033, -19.1667, 4171,   1695.1,   3.7500,  34.9158,2,  34.9163,2,    273.4,2,    11.19,2,    17.00,2,     0.03,2,     1.08,2
     06GA226_2,  AR19,    68,  1,     11,    N08,2,19930721,2207, 48.1033, -19.1667, 4171,   1795.5,   3.6270,  34.9073,2,  34.9093,2,    277.5,2,    11.22,2,    16.89,2,     0.02,2,     1.08,2
     06GA226_2,  AR19,    68,  1,     10,    D19,2,19930721,2207, 48.1033, -19.1667, 4171,   1996.7,   3.5330,  34.9152,2,  34.9190,2,    275.5,2,    11.76,2,    16.98,2,     0.02,2,     1.08,2
     06GA226_2,  AR19,    68,  1,     09,    D09,2,19930721,2207, 48.1033, -19.1667, 4171,   2246.2,   3.4300,  34.9376,2,  34.9390,2,    271.6,2,    13.56,2,    17.04,2,     0.02,2,     1.08,2
     06GA226_2,  AR19,    68,  1,     08,    D08,2,19930721,2207, 48.1033, -19.1667, 4171,   2496.0,   3.2520,  34.9516,2,  34.9541,2,    266.7,2,    17.09,2,    17.44,2,     0.02,2,     1.17,2
     06GA226_2,  AR19,    68,  1,     07,    D16,2,19930721,2207, 48.1033, -19.1667, 4171,   2748.8,   3.0580,  34.9558,2,  34.9596,2,    261.4,2,    23.47,2,    18.53,2,     0.02,2,     1.26,2
     06GA226_2,  AR19,    68,  1,     06,    D06,2,19930721,2207, 48.1033, -19.1667, 4171,   2998.7,   2.8750,  34.9491,2,  34.9491,2,    256.6,2,    27.74,2,    19.18,2,     0.02,2,     1.27,2
     06GA226_2,  AR19,    68,  1,     05,    D05,2,19930721,2207, 48.1033, -19.1667, 4171,   3248.8,   2.7330,  34.9387,2,  34.9376,2,    251.7,2,    33.26,2,    20.13,2,     0.02,2,     1.36,2
     06GA226_2,  AR19,    68,  1,     04,    D13,2,19930721,2207, 48.1033, -19.1667, 4171,   3499.5,   2.6170,  34.9269,2,  34.9289,2,    247.0,2,    37.08,2,    20.78,2,     0.02,2,     1.37,2
     06GA226_2,  AR19,    68,  1,     03,    D03,2,19930721,2207, 48.1033, -19.1667, 4171,   3748.9,   2.5650,  34.9190,2,  34.9187,2,    244.4,2,    39.65,2,    21.21,2,     0.02,2,     1.46,2
     06GA226_2,  AR19,    68,  1,     02,    D02,2,19930721,2207, 48.1033, -19.1667, 4171,   4199.8,   2.5340,  34.9081,2,  34.9086,2,    242.4,2,    42.77,2,    21.70,2,     0.02,2,     1.47,2
     06GA226_2,  AR19,    68,  1,     01,    D10,2,19930721,2207, 48.1033, -19.1667, 4171,   4255.7,   2.5310,  34.9073,2,  34.9080,2,    242.9,2,    42.94,2,    21.72,2,     0.02,2,     1.47,2
     06GA226_2,  AR19,    69,  1,     24,    N06,2,19930722,0409, 48.2117, -18.4267, 4457,      5.4,  17.3480,  35.5654,2,  35.5502,3,    248.3,2,     0.08,2,     0.19,2,     0.02,2,     0.01,2
     06GA226_2,  AR19,    69,  1,     23,    N07,2,19930722,0409, 48.2117, -18.4267, 4457,     96.8,  11.7130,  35.5652,2,  35.5634,2,    246.6,2,     2.97,2,     9.12,2,     0.03,2,     0.58,2
     06GA226_2,  AR19,    69,  1,     22,    N02,2,19930722,0409, 48.2117, -18.4267, 4457,    195.7,  10.9910,  35.4420,2,  35.4435,2,    242.7,2,     4.31,2,    11.00,2,     0.03,2,     0.68,2
     06GA226_2,  AR19,    69,  1,     21,    D21,2,19930722,0409, 48.2117, -18.4267, 4457,    294.9,  10.5520,  35.3788,2,  35.3774,2,    239.4,2,     4.97,2,    12.18,2,     0.03,2,     0.78,2
     06GA226_2,  AR19,    69,  1,     20,    N01,2,19930722,0409, 48.2117, -18.4267, 4457,    494.6,   9.3200,  35.2065,2,  35.2032,2,    227.4,2,     7.08,2,    14.78,2,     0.03,2,     0.97,2
     06GA226_2,  AR19,    69,  1,     19,    D04,2,19930722,0409, 48.2117, -18.4267, 4457,    645.9,   8.6510,  35.2271,2,  35.2228,2,    202.2,2,     9.24,2,    17.58,2,     0.04,2,     1.17,2
     06GA226_2,  AR19,    69,  1,     18,    D18,2,19930722,0409, 48.2117, -18.4267, 4457,    794.7,   7.8030,  35.2440,2,  35.2446,2,    243.8,4,    10.18,2,    18.22,2,     0.04,2,     1.18,2
     06GA226_2,  AR19,    69,  1,     17,    D17,2,19930722,0409, 48.2117, -18.4267, 4457,    993.3,   6.7540,  35.2234,2,  35.2274,2,    216.3,2,    10.64,2,    18.13,2,     0.04,2,     1.18,2
     06GA226_2,  AR19,    69,  1,     16,    N03,2,19930722,0409, 48.2117, -18.4267, 4457,   1245.9,   5.0920,  35.0597,2,  35.0589,2,    243.4,2,    10.86,2,    18.10,2,     0.04,2,     1.18,2
     06GA226_2,  AR19,    69,  1,     15,    D15,2,19930722,0409, 48.2117, -18.4267, 4457,   1495.4,   4.0840,  34.9436,2,  34.9445,2,    264.5,2,    10.62,2,    17.47,2,     0.04,2,     1.17,2
     06GA226_2,  AR19,    69,  1,     14,    D14,2,19930722,0409, 48.2117, -18.4267, 4457,   1745.3,   3.6060,  34.9073,2,  34.9082,2,    275.8,2,    10.96,2,    17.06,2,     0.04,2,     1.17,2
     06GA226_2,  AR19,    69,  1,     13,    N04,2,19930722,0409, 48.2117, -18.4267, 4457,   1996.5,   3.5000,  34.9333,2,  34.9333,2,    271.6,2,    12.62,2,    17.07,2,     0.04,2,     1.17,2
     06GA226_2,  AR19,    69,  1,     12,    D12,2,19930722,0409, 48.2117, -18.4267, 4457,   2244.1,   3.3230,  34.9501,2,  34.9506,2,    267.1,2,    15.55,2,    17.28,2,     0.04,2,     1.17,2
     06GA226_2,  AR19,    69,  1,     11,    N08,2,19930722,0409, 48.2117, -18.4267, 4457,   2496.6,   3.0780,  34.9577,2,  34.9586,2,    260.9,2,    21.50,2,    18.11,2,     0.02,2,     1.26,2
     06GA226_2,  AR19,    69,  1,     10,    D19,2,19930722,0409, 48.2117, -18.4267, 4457,   2747.6,   2.8930,  34.9518,2,  34.9493,2,    253.4,2,    28.29,2,    19.32,2,     0.03,2,     1.36,2
     06GA226_2,  AR19,    69,  1,     09,    D09,2,19930722,0409, 48.2117, -18.4267, 4457,   2998.0,   2.7730,  34.9434,2,  34.9434,2,    250.7,2,    31.62,2,    19.86,2,     0.04,2,     1.37,2
     06GA226_2,  AR19,    69,  1,     08,    D08,2,19930722,0409, 48.2117, -18.4267, 4457,   3247.4,   2.6530,  34.9323,2,  34.9307,2,    246.8,2,    35.37,2,    20.33,2,     0.03,2,     1.46,2
     06GA226_2,  AR19,    69,  1,     07,    D16,2,19930722,0409, 48.2117, -18.4267, 4457,   3498.5,   2.5720,  34.9223,2,  34.9216,2,    247.4,2,    38.91,2,    21.03,2,     0.03,2,     1.47,2
     06GA226_2,  AR19,    69,  1,     06,    D06,2,19930722,0409, 48.2117, -18.4267, 4457,   3750.4,   2.5410,  34.9164,2,  34.9149,2,    243.3,2,    40.78,2,    21.44,2,     0.03,2,     1.56,2
     06GA226_2,  AR19,    69,  1,     05,    D05,2,19930722,0409, 48.2117, -18.4267, 4457,   4000.7,   2.5240,  34.9103,2,  34.9106,2,    242.6,2,    42.16,2,    21.66,2,     0.04,2,     1.56,2
     06GA226_2,  AR19,    69,  1,     04,    D13,2,19930722,0409, 48.2117, -18.4267, 4457,   4251.2,   2.5220,  34.9067,2,  34.9066,2,    242.1,2,    42.92,2,    21.88,2,     0.03,2,     1.56,2
     06GA226_2,  AR19,    69,  1,     02,    D02,2,19930722,0409, 48.2117, -18.4267, 4457,   4490.1,   2.5380,  34.9050,2,  34.9056,2,    242.0,2,    43.34,2,    21.70,2,     0.03,2,     1.56,2
     06GA226_2,  AR19,    69,  1,     01,    D10,2,19930722,0409, 48.2117, -18.4267, 4457,   4538.4,   2.5410,  34.9047,2,  34.9076,2,    243.1,2,    43.22,2,    21.62,2,     0.03,2,     1.56,2