BOTTLE,20010917WHPSIOKJU
EXPOCODE,SECT_ID,STNNBR,CASTNO,SAMPNO,BTLNBR,BTLNBR_FLAG_W,DATE,TIME,LATITUDE,LONGITUDE,DEPTH,CTDPRS,CTDTMP,CTDSAL,CTDSAL_FLAG_W,SALNTY,SALNTY_FLAG_W,OXYGEN,OXYGEN_FLAG_W,SILCAT,SILCAT_FLAG_W,NITRAT,NITRAT_FLAG_W,NITRIT,NITRIT_FLAG_W,PHSPHT,PHSPHT_FLAG_W
,,,,,ID,,,,,,,DBAR,ITS-90,PSS-78,,PSS-78,,UMOL/KG,,UMOL/KG,,UMOL/KG,,UMOL/KG,,UMOL/KG,
     06GA226_2,  AR19,    80,  1,     24,    N06,2,19930724,2307, 49.0167, -12.8417, 2002,      8.5,  16.7210,  35.6430,2,  35.6393,2,    245.6,2,     0.23,2,     0.08,2,     0.01,2,     0.01,2
     06GA226_2,  AR19,    80,  1,     23,    N07,2,19930724,2307, 49.0167, -12.8417, 2002,     47.4,  12.4730,  35.6044,2,  35.5994,2,    243.7,2,     1.15,2,     5.63,2,     0.08,2,     0.30,2
     06GA226_2,  AR19,    80,  1,     22,    N02,2,19930724,2307, 49.0167, -12.8417, 2002,     97.7,  11.8380,  35.5981,2,  35.5966,2,    244.8,2,     2.37,2,     8.16,2,     0.03,2,     0.49,2
     06GA226_2,  AR19,    80,  1,     21,    D21,2,19930724,2307, 49.0167, -12.8417, 2002,    196.7,  11.3240,  35.5414,2,  35.5405,2,    247.9,2,     3.10,2,     9.20,2,     0.02,2,     0.58,2
     06GA226_2,  AR19,    80,  1,     20,    N01,2,19930724,2307, 49.0167, -12.8417, 2002,    296.7,  11.1370,  35.5338,2,  35.5333,2,    243.5,2,     3.52,2,    10.07,2,     0.02,2,     0.58,2
     06GA226_2,  AR19,    80,  1,     19,    D04,2,19930724,2307, 49.0167, -12.8417, 2002,    394.2,  10.7860,  35.4789,2,  35.4778,2,    246.0,2,     3.92,2,    10.52,2,     0.03,2,     0.59,2
     06GA226_2,  AR19,    80,  1,     18,    D18,2,19930724,2307, 49.0167, -12.8417, 2002,    495.6,  10.7280,  35.5007,2,  35.5020,2,    233.6,2,     4.55,2,    11.94,2,     0.03,2,     0.69,2
     06GA226_2,  AR19,    80,  1,     17,    D17,2,19930724,2307, 49.0167, -12.8417, 2002,    595.1,  10.3240,  35.4653,2,  35.4645,2,    225.4,2,     5.61,2,    13.24,2,     0.03,2,     0.79,2
     06GA226_2,  AR19,    80,  1,     16,    N03,2,19930724,2307, 49.0167, -12.8417, 2002,    695.8,   9.7110,  35.4259,2,  35.4238,2,    208.8,2,     7.50,2,    15.47,2,     0.02,2,     0.97,2
     06GA226_2,  AR19,    80,  1,     15,    D15,2,19930724,2307, 49.0167, -12.8417, 2002,    745.5,   9.7400,  35.4821,2,  35.4797,2,    203.0,2,     7.83,2,    15.86,2,     0.02,2,     0.98,2
     06GA226_2,  AR19,    80,  1,     14,    D14,2,19930724,2307, 49.0167, -12.8417, 2002,    796.1,   9.3320,  35.4569,2,  35.4555,2,    199.9,2,     8.61,2,    16.55,2,     0.02,2,     1.07,2
     06GA226_2,  AR19,    80,  1,     13,    N04,2,19930724,2307, 49.0167, -12.8417, 2002,    895.7,   8.5800,  35.4093,2,  35.4077,2,    200.1,2,     9.59,2,    17.30,2,     0.02,2,     1.08,2
     06GA226_2,  AR19,    80,  1,     12,    D12,2,19930724,2307, 49.0167, -12.8417, 2002,    994.8,   7.8400,  35.3584,2,  35.3581,2,    204.9,2,    10.23,2,    17.64,2,     0.03,2,     1.17,2
     06GA226_2,  AR19,    80,  1,     11,    N08,2,19930724,2307, 49.0167, -12.8417, 2002,   1096.1,   7.1960,  35.3282,2,  35.3292,2,    212.6,2,    10.58,2,    17.72,2,     0.03,2,     1.17,2
     06GA226_2,  AR19,    80,  1,     10,    D19,2,19930724,2307, 49.0167, -12.8417, 2002,   1191.3,   7.1180,  35.3741,2,  35.3692,2,    215.5,2,    10.72,2,    17.52,2,     0.03,2,     1.17,2
     06GA226_2,  AR19,    80,  1,     09,    D09,2,19930724,2307, 49.0167, -12.8417, 2002,   1294.4,   6.2810,  35.2604,2,  35.2595,2,    226.4,2,    11.58,2,    17.55,2,     0.03,2,     1.17,2
     06GA226_2,  AR19,    80,  1,     08,    D08,2,19930724,2307, 49.0167, -12.8417, 2002,   1395.9,   5.3880,  35.1350,2,  35.1342,2,    239.1,2,    11.74,2,    17.62,2,     0.02,2,     1.17,2
     06GA226_2,  AR19,    80,  1,     07,    D16,2,19930724,2307, 49.0167, -12.8417, 2002,   1494.5,   4.6420,  35.0340,2,  35.0364,2,    252.1,2,    11.85,2,    17.51,2,     0.02,2,     1.17,2
     06GA226_2,  AR19,    80,  1,     06,    D06,2,19930724,2307, 49.0167, -12.8417, 2002,   1594.3,   3.9660,  34.9363,2,  34.9361,2,    267.1,2,    10.85,2,    17.18,2,     0.03,2,     1.17,2
     06GA226_2,  AR19,    80,  1,     05,    D05,2,19930724,2307, 49.0167, -12.8417, 2002,   1693.8,   3.7090,  34.9211,2,  34.9220,2,    271.5,2,    11.12,2,    16.96,2,     0.02,2,     1.17,2
     06GA226_2,  AR19,    80,  1,     04,    D13,2,19930724,2307, 49.0167, -12.8417, 2002,   1796.4,   3.6050,  34.9218,2,  34.9218,2,    273.3,2,    11.59,2,    16.92,2,     0.02,2,     1.08,2
     06GA226_2,  AR19,    80,  1,     03,    D03,2,19930724,2307, 49.0167, -12.8417, 2002,   1896.7,   3.6170,  34.9444,2,  34.9437,2,    268.2,2,    13.50,2,    17.12,2,     0.02,2,     1.17,2
     06GA226_2,  AR19,    80,  1,     02,    D02,2,19930724,2307, 49.0167, -12.8417, 2002,   1946.0,   3.5700,  34.9461,2,  34.9452,2,    267.3,2,    14.14,2,    17.14,2,     0.03,2,     1.17,2
     06GA226_2,  AR19,    80,  1,     01,    D10,2,19930724,2307, 49.0167, -12.8417, 2002,   1973.5,   3.5640,  34.9458,2,  34.9463,2,    267.5,2,    14.16,2,    17.20,2,     0.02,2,     1.17,2
     06GA226_2,  AR19,    81,  1,     18,    D18,2,19930725,0156, 49.0500, -12.7217, 1533,      6.3,  16.2750,  35.6098,2,  35.6079,2,    248.7,2,     0.30,2,     0.11,2,     0.03,2,     0.01,2
     06GA226_2,  AR19,    81,  1,     17,    D17,2,19930725,0156, 49.0500, -12.7217, 1533,     46.1,  14.1370,  35.6099,2,  35.5923,3,    251.0,2,     0.40,2,     1.00,2,     0.19,2,     0.11,2
     06GA226_2,  AR19,    81,  1,     16,    N03,2,19930725,0156, 49.0500, -12.7217, 1533,     97.1,  11.8510,  35.5950,2,  35.5955,2,    246.4,2,     2.29,2,     8.00,2,     0.04,2,     0.49,2
     06GA226_2,  AR19,    81,  1,     15,    D15,2,19930725,0156, 49.0500, -12.7217, 1533,    197.5,  11.3850,  35.5467,2,  35.5461,2,    246.8,2,     2.96,2,     9.17,2,     0.04,2,     0.50,2
     06GA226_2,  AR19,    81,  1,     14,    D14,2,19930725,0156, 49.0500, -12.7217, 1533,    296.1,  11.2220,  35.5554,2,  35.5551,2,    239.4,2,     3.61,2,    10.38,2,     0.04,2,     0.59,2
     06GA226_2,  AR19,    81,  1,     13,    N04,2,19930725,0156, 49.0500, -12.7217, 1533,    396.7,  11.1900,  35.5880,2,  35.5886,2,    233.6,2,     3.75,2,    10.90,2,     0.04,2,     0.59,2
     06GA226_2,  AR19,    81,  1,     12,    D12,2,19930725,0156, 49.0500, -12.7217, 1533,    496.2,  10.7820,  35.5267,2,  35.5255,2,    232.8,2,     4.55,2,    11.89,2,     0.05,2,     0.69,2
     06GA226_2,  AR19,    81,  1,     11,    N08,2,19930725,0156, 49.0500, -12.7217, 1533,    594.3,  10.3790,  35.4730,2,  35.4713,2,    227.8,2,     5.44,2,    13.00,2,     0.04,2,     0.79,2
     06GA226_2,  AR19,    81,  1,     10,    D19,2,19930725,0156, 49.0500, -12.7217, 1533,    696.5,   9.9060,  35.4584,2,  35.4566,2,    210.9,2,     7.10,2,    15.02,2,     0.04,2,     0.97,2
     06GA226_2,  AR19,    81,  1,     09,    D09,2,19930725,0156, 49.0500, -12.7217, 1533,    797.8,   9.5340,  35.4812,2,  35.4792,2,    200.4,2,     8.31,2,    16.30,2,     0.04,2,     1.07,2
     06GA226_2,  AR19,    81,  1,     08,    D08,2,19930725,0156, 49.0500, -12.7217, 1533,    895.5,   8.7010,  35.4028,2,  35.4025,2,    200.5,2,     9.47,2,    17.15,2,     0.04,2,     1.17,2
     06GA226_2,  AR19,    81,  1,     07,    D16,2,19930725,0156, 49.0500, -12.7217, 1533,    994.7,   7.9880,  35.3489,2,  35.3470,2,    204.2,2,    10.14,2,    17.69,2,     0.05,2,     1.17,2
     06GA226_2,  AR19,    81,  1,     06,    D06,2,19930725,0156, 49.0500, -12.7217, 1533,   1095.7,   7.4770,  35.3543,2,  35.3545,2,    210.0,2,    10.50,2,    17.77,2,     0.04,2,     1.17,2
     06GA226_2,  AR19,    81,  1,     05,    D05,2,19930725,0156, 49.0500, -12.7217, 1533,   1195.7,   6.6060,  35.2693,2,  35.2744,2,    220.4,2,    10.90,2,    17.77,2,     0.04,2,     1.17,2
     06GA226_2,  AR19,    81,  1,     04,    D13,2,19930725,0156, 49.0500, -12.7217, 1533,   1295.4,   6.1010,  35.2316,2,  35.2334,2,    229.1,2,    11.15,2,    17.74,2,     0.04,2,     1.17,2
     06GA226_2,  AR19,    81,  1,     03,    D03,2,19930725,0156, 49.0500, -12.7217, 1533,   1392.9,   5.6100,  35.1726,2,  35.1725,2,    237.4,2,    12.13,2,    17.74,2,     0.05,2,     1.17,2
     06GA226_2,  AR19,    81,  1,     02,    D02,2,19930725,0156, 49.0500, -12.7217, 1533,   1495.4,   4.6020,  35.0435,2,  35.0426,2,    253.6,2,    12.74,2,    17.63,2,     0.04,2,     1.17,2
     06GA226_2,  AR19,    81,  1,     01,    D10,2,19930725,0156, 49.0500, -12.7217, 1533,   1529.7,   4.6100,  35.0443,2,  35.0452,2,    252.2,2,    12.76,2,    17.64,2,     0.05,2,     1.17,2
     06GA226_2,  AR19,    82,  1,     13,    N04,2,19930725,0535, 49.1050, -12.1983, 1008,      6.3,  15.8920,  35.5664,2,  35.5631,2,    252.7,2,     0.59,2,     0.10,2,     0.02,2,     0.00,2
     06GA226_2,  AR19,    82,  1,     12,    D12,2,19930725,0535, 49.1050, -12.1983, 1008,     46.9,  12.8620,  35.5593,2,  35.5600,2,    247.2,2,     1.12,2,     4.41,2,     0.41,2,     0.20,2
     06GA226_2,  AR19,    82,  1,     10,    D19,2,19930725,0535, 49.1050, -12.1983, 1008,    195.9,  11.2460,  35.5295,2,  35.5287,2,    246.0,2,     3.24,2,     9.47,2,     0.03,2,     0.50,2
     06GA226_2,  AR19,    82,  1,     09,    D09,2,19930725,0535, 49.1050, -12.1983, 1008,    295.8,  11.0020,  35.5197,2,  35.5187,2,    245.3,2,     3.77,2,    10.08,2,     0.04,2,     0.58,2
     06GA226_2,  AR19,    82,  1,     08,    D08,2,19930725,0535, 49.1050, -12.1983, 1008,    395.1,  10.8330,  35.5075,2,  35.5074,2,    246.6,2,     3.97,2,    10.26,2,     0.03,2,     0.58,2
     06GA226_2,  AR19,    82,  1,     07,    D16,2,19930725,0535, 49.1050, -12.1983, 1008,    497.9,  10.6510,  35.4977,2,  35.4963,2,    244.2,2,     4.53,2,    10.97,2,     0.04,2,     0.59,2
     06GA226_2,  AR19,    82,  1,     06,    D06,2,19930725,0535, 49.1050, -12.1983, 1008,    595.5,  10.3730,  35.4817,2,  35.4810,2,    236.3,2,     5.51,2,    12.23,2,     0.04,2,     0.69,2
     06GA226_2,  AR19,    82,  1,     05,    D05,2,19930725,0535, 49.1050, -12.1983, 1008,    693.6,  10.0400,  35.4765,2,  35.4756,2,    224.2,2,     6.71,2,    13.59,2,     0.04,2,     0.79,2
     06GA226_2,  AR19,    82,  1,     04,    D13,2,19930725,0535, 49.1050, -12.1983, 1008,    794.3,   9.5910,  35.4991,2,  35.4970,2,    206.6,2,     8.50,2,    15.58,2,     0.05,2,     0.97,2
     06GA226_2,  AR19,    82,  1,     03,    D03,2,19930725,0535, 49.1050, -12.1983, 1008,    895.0,   9.1590,  35.5442,2,  35.5407,2,    201.3,2,     9.63,2,    16.29,2,     0.05,2,     0.98,2
     06GA226_2,  AR19,    82,  1,     02,    D02,2,19930725,0535, 49.1050, -12.1983, 1008,    940.1,   8.8670,  35.5485,2,  35.5492,2,    201.1,2,    10.42,2,    16.45,2,     0.05,2,     0.98,2
     06GA226_2,  AR19,    82,  1,     01,    D10,2,19930725,0535, 49.1050, -12.1983, 1008,    999.7,   8.6090,  35.5396,2,  35.5392,2,    201.2,2,    11.14,2,    16.67,2,     0.06,2,     1.07,2
     06GA226_2,  AR19,    83,  1,     08,    D08,2,19930725,0924, 49.1833, -11.4367,  497,      6.7,  15.8730,  35.5203,2,  35.5216,2,    253.1,2,     0.48,2,     0.08,2,     0.04,2,     0.00,2
     06GA226_2,  AR19,    83,  1,     07,    D16,2,19930725,0924, 49.1833, -11.4367,  497,     47.6,  14.2050,  35.5226,2,  35.5236,2,    252.7,2,     0.78,2,     1.22,2,     0.19,2,     0.01,2
     06GA226_2,  AR19,    83,  1,     06,    D06,2,19930725,0924, 49.1833, -11.4367,  497,     97.1,  12.1480,  35.5356,2,  35.5340,2,    245.0,2,     1.67,2,     6.62,2,     0.13,2,     0.29,2
     06GA226_2,  AR19,    83,  1,     05,    D05,2,19930725,0924, 49.1833, -11.4367,  497,    195.7,  11.1840,  35.5244,2,  35.5232,2,    245.4,2,     3.22,2,     9.55,2,     0.06,2,     0.50,2
     06GA226_2,  AR19,    83,  1,     04,    D13,2,19930725,0924, 49.1833, -11.4367,  497,    295.3,  10.8980,  35.5196,2,  35.5172,2,    243.2,2,     4.14,2,    10.56,2,     0.03,2,     0.58,2
     06GA226_2,  AR19,    83,  1,     03,    D03,2,19930725,0924, 49.1833, -11.4367,  497,    397.4,  10.6530,  35.5070,2,  35.5064,2,    239.0,2,     4.81,2,    11.30,2,     0.03,2,     0.68,2
     06GA226_2,  AR19,    83,  1,     02,    D02,2,19930725,0924, 49.1833, -11.4367,  497,    445.7,  10.4810,  35.5053,2,  35.5043,2,    233.9,2,     5.38,2,    12.10,2,     0.04,2,     0.69,2
     06GA226_2,  AR19,    83,  1,     01,    D10,2,19930725,0924, 49.1833, -11.4367,  497,    474.4,  10.4330,  35.5045,2,  35.5028,2,    231.4,2,     5.56,2,    12.30,2,     0.05,2,     0.69,2
     06GA226_2,  AR19,    84,  1,     18,    D18,2,19930725,1054, 49.1950, -11.1867,  199,      6.2,  15.8080,  35.5283,2,  35.5246,2,    252.9,2,     0.36,2,     0.04,2,     0.03,2,     0.00,2
     06GA226_2,  AR19,    84,  1,     17,    D17,2,19930725,1054, 49.1950, -11.1867,  199,     46.5,  13.5790,  35.5381,2,  35.5321,2,    253.1,2,     0.66,2,     2.20,2,     0.26,2,     0.11,2
     06GA226_2,  AR19,    84,  1,     16,    N03,2,19930725,1054, 49.1950, -11.1867,  199,     97.2,  11.4100,  35.5120,2,  35.5073,2,    241.1,2,     2.11,2,     8.44,2,     0.04,2,     0.49,2
     06GA226_2,  AR19,    84,  1,     11,    D11,2,19930725,1054, 49.1950, -11.1867,  199,    147.4,  11.0200,  35.5201,2,  35.5153,2,    239.1,2,     3.74,2,    10.21,2,     0.04,2,     0.59,2
     06GA226_2,  AR19,    84,  1,     10,    D14,2,19930725,1054, 49.1950, -11.1867,  199,    176.4,  11.0140,  35.5239,2,  35.5194,2,    240.2,2,     3.84,2,     9.10,2,     0.07,2,     0.59,2
     06GA226_2,  AR19,    85,  1,     24,    N06,2,19930725,1328, 49.2350, -10.6650,  157,      6.5,  15.8700,  35.4719,2,  35.4643,2,    252.4,2,     0.07,2,     0.34,2,     0.03,2,     0.00,2
     06GA226_2,  AR19,    85,  1,     23,    N07,2,19930725,1328, 49.2350, -10.6650,  157,     47.4,  13.0870,  35.4598,2,  35.4493,3,    272.0,2,     0.48,2,     0.69,2,     0.08,2,     0.10,2
     06GA226_2,  AR19,    85,  1,     20,    N01,2,19930725,1328, 49.2350, -10.6650,  157,     95.3,  11.2370,  35.5310,2,  35.5242,2,    237.8,2,     3.18,2,     9.88,2,     0.04,2,     0.58,2
     06GA226_2,  AR19,    85,  1,     22,    N02,2,19930725,1328, 49.2350, -10.6650,  157,     95.7,  11.2440,  35.5313,2,  35.5258,2,   -999.0,9,     3.13,2,     9.80,2,     0.04,2,     0.58,2
     06GA226_2,  AR19,    85,  1,     21,    D21,2,19930725,1328, 49.2350, -10.6650,  157,     95.9,  11.2410,  35.5311,2,  35.5233,2,   -999.0,9,     3.14,2,     9.84,2,     0.04,2,     0.58,2
     06GA226_2,  AR19,    85,  1,     19,    D04,2,19930725,1328, 49.2350, -10.6650,  157,    145.8,  11.1460,  35.5272,2,  35.5196,2,    235.1,2,     3.55,2,    10.34,2,     0.04,2,     0.59,2