BOTTLE,20010917WHPSIOKJU
EXPOCODE,SECT_ID,STNNBR,CASTNO,SAMPNO,BTLNBR,BTLNBR_FLAG_W,DATE,TIME,LATITUDE,LONGITUDE,DEPTH,CTDPRS,CTDTMP,CTDSAL,CTDSAL_FLAG_W,SALNTY,SALNTY_FLAG_W,OXYGEN,OXYGEN_FLAG_W,SILCAT,SILCAT_FLAG_W,NITRAT,NITRAT_FLAG_W,NITRIT,NITRIT_FLAG_W,PHSPHT,PHSPHT_FLAG_W
,,,,,ID,,,,,,,DBAR,ITS-90,PSS-78,,PSS-78,,UMOL/KG,,UMOL/KG,,UMOL/KG,,UMOL/KG,,UMOL/KG,
     06GA226_2,  AR19,    45,  1,     24,    D24,2,19930716,1140, 45.6317, -32.5533, 3933,      6.9,  18.8740,  36.1522,2,  36.1482,2,    237.2,2,     0.14,2,     0.08,2,     0.02,2,     0.10,2
     06GA226_2,  AR19,    45,  1,     23,    N05,2,19930716,1140, 45.6317, -32.5533, 3933,     96.4,  16.0880,  36.2274,2,  36.2237,2,    219.8,2,     1.83,2,     5.59,2,     0.04,2,     0.39,2
     06GA226_2,  AR19,    45,  1,     22,    D13,2,19930716,1140, 45.6317, -32.5533, 3933,    196.9,  14.7650,  35.9858,2,  35.9912,2,    212.8,2,     2.84,2,     8.08,2,     0.03,2,     0.50,2
     06GA226_2,  AR19,    45,  1,     21,    D21,2,19930716,1140, 45.6317, -32.5533, 3933,    295.7,  13.7750,  35.8428,2,  35.8420,2,    216.1,2,     3.41,2,     9.20,2,     0.03,2,     0.58,2
     06GA226_2,  AR19,    45,  1,     20,    N01,2,19930716,1140, 45.6317, -32.5533, 3933,    495.0,  11.6720,  35.5451,2,  35.5431,2,    232.2,2,     4.61,2,    11.27,2,     0.04,2,     0.78,2
     06GA226_2,  AR19,    45,  1,     19,    D10,2,19930716,1140, 45.6317, -32.5533, 3933,    596.2,  10.7500,  35.4190,2,  35.4293,3,    208.2,2,     6.35,2,    14.64,2,     0.03,2,     0.98,2
     06GA226_2,  AR19,    45,  1,     18,    D18,2,19930716,1140, 45.6317, -32.5533, 3933,    745.5,   8.5730,  35.1833,2,  35.1830,2,    188.6,2,    10.37,2,    19.25,2,     0.03,2,     1.36,2
     06GA226_2,  AR19,    45,  1,     17,    D17,2,19930716,1140, 45.6317, -32.5533, 3933,    995.4,   6.6230,  35.2001,2,  35.2011,2,    213.1,2,    11.39,2,    19.02,2,     0.04,2,     1.36,2
     06GA226_2,  AR19,    45,  1,     16,    D16,2,19930716,1140, 45.6317, -32.5533, 3933,   1194.3,   5.3830,  35.0909,2,  35.0892,2,    235.8,2,    11.29,2,    18.53,2,     0.03,2,     1.27,2
     06GA226_2,  AR19,    45,  1,     15,    D15,2,19930716,1140, 45.6317, -32.5533, 3933,   1396.8,   4.7300,  35.0352,2,  35.0366,2,    249.8,2,    11.31,2,    18.13,2,     0.04,2,     1.26,2
     06GA226_2,  AR19,    45,  1,     14,    D14,2,19930716,1140, 45.6317, -32.5533, 3933,   1594.8,   4.2170,  34.9864,2,  34.9873,2,    260.7,2,    11.42,2,    17.86,2,     0.03,2,     1.26,2
     06GA226_2,  AR19,    45,  1,     13,    D04,2,19930716,1140, 45.6317, -32.5533, 3933,   1794.4,   3.8310,  34.9409,2,  34.9410,2,    269.5,2,    11.34,2,    17.48,2,     0.03,2,     1.18,2
     06GA226_2,  AR19,    45,  1,     12,    D12,2,19930716,1140, 45.6317, -32.5533, 3933,   1995.6,   3.5510,  34.9112,2,  34.9103,2,    275.7,2,    11.15,2,    17.21,2,     0.03,2,     1.18,2
     06GA226_2,  AR19,    45,  1,     11,    D11,2,19930716,1140, 45.6317, -32.5533, 3933,   2093.2,   3.4740,  34.9056,2,  34.9040,2,    277.2,2,    11.14,2,    17.04,2,     0.03,2,     1.18,2
     06GA226_2,  AR19,    45,  1,     10,    N03,2,19930716,1140, 45.6317, -32.5533, 3933,   2194.9,   3.4150,  34.9050,2,  34.9048,2,    278.3,2,    11.24,2,    17.02,2,     0.02,2,     1.18,2
     06GA226_2,  AR19,    45,  1,     09,    D09,2,19930716,1140, 45.6317, -32.5533, 3933,   2395.2,   3.4060,  34.9240,2,  34.9238,2,    273.7,2,    12.42,2,    17.06,2,     0.02,2,     1.18,2
     06GA226_2,  AR19,    45,  1,     08,    D08,2,19930716,1140, 45.6317, -32.5533, 3933,   2597.5,   3.3190,  34.9334,2,  34.9332,2,    272.1,2,    13.35,2,    17.07,2,     0.03,2,     1.17,2
     06GA226_2,  AR19,    45,  1,     07,    N04,2,19930716,1140, 45.6317, -32.5533, 3933,   2796.9,   3.1610,  34.9349,2,  34.9342,2,    277.0,3,    14.90,2,    17.18,2,     0.03,2,     1.18,2
     06GA226_2,  AR19,    45,  1,     06,    D06,2,19930716,1140, 45.6317, -32.5533, 3933,   2995.8,   3.0310,  34.9335,2,  34.9344,2,    272.0,2,    15.76,2,    17.08,2,     0.03,2,     1.17,2
     06GA226_2,  AR19,    45,  1,     05,    D05,2,19930716,1140, 45.6317, -32.5533, 3933,   3246.6,   2.8480,  34.9298,2,  34.9304,2,    272.2,2,    16.69,2,    16.96,2,     0.03,2,     1.17,2
     06GA226_2,  AR19,    45,  1,     04,    D19,2,19930716,1140, 45.6317, -32.5533, 3933,   3496.7,   2.6510,  34.9249,2,  34.9251,2,    273.9,2,    17.60,2,    16.89,2,     0.03,2,     1.17,2
     06GA226_2,  AR19,    45,  1,     03,    D03,2,19930716,1140, 45.6317, -32.5533, 3933,   3775.0,   2.4920,  34.9167,2,  34.9184,2,    275.1,2,    18.45,2,    16.80,2,     0.03,2,     1.17,2
     06GA226_2,  AR19,    45,  1,     02,    D02,2,19930716,1140, 45.6317, -32.5533, 3933,   3902.3,   2.4270,  34.9126,2,  34.9129,2,    276.0,2,    18.55,2,    16.69,2,     0.03,2,     1.17,2
     06GA226_2,  AR19,    45,  1,     01,    D16,2,19930716,1140, 45.6317, -32.5533, 3933,   3981.4,   2.3880,  34.9099,2,  34.9108,2,    276.6,2,    18.46,2,    16.65,2,     0.03,2,     1.17,2
     06GA226_2,  AR19,    46,  1,     24,    D24,2,19930716,1639, 45.8517, -32.0017, 3548,      7.5,  18.4000,  36.0487,2,  36.0480,2,    244.5,2,     0.08,2,     0.13,2,     0.03,2,     0.01,2
     06GA226_2,  AR19,    46,  1,     23,    N05,2,19930716,1639, 45.8517, -32.0017, 3548,     97.6,  15.6020,  36.1373,2,  36.1389,2,    230.5,2,     1.40,2,     4.90,2,     0.06,2,     0.29,2
     06GA226_2,  AR19,    46,  1,     22,    D13,2,19930716,1639, 45.8517, -32.0017, 3548,    194.7,  14.6840,  36.0088,2,  36.0005,2,    222.4,2,     2.47,2,     7.23,2,     0.05,2,     0.39,2
     06GA226_2,  AR19,    46,  1,     21,    D21,2,19930716,1639, 45.8517, -32.0017, 3548,    295.4,  13.4650,  35.7809,2,  35.7818,2,    214.6,2,     3.73,2,     9.77,2,     0.05,2,     0.58,2
     06GA226_2,  AR19,    46,  1,     20,    N01,2,19930716,1639, 45.8517, -32.0017, 3548,    344.9,  12.9830,  35.7126,2,  35.7100,2,    209.4,2,     4.33,2,    11.08,2,     0.05,2,     0.59,2
     06GA226_2,  AR19,    46,  1,     19,    D10,3,19930716,1639, 45.8517, -32.0017, 3548,    395.9,  12.8510,  35.7402,2,  35.7389,2,   -999.0,9,  -999.00,9,  -999.00,9,  -999.00,9,  -999.00,9
     06GA226_2,  AR19,    46,  1,     18,    D18,3,19930716,1639, 45.8517, -32.0017, 3548,    444.2,  12.7190,  35.7329,2,  35.7304,2,   -999.0,9,  -999.00,9,  -999.00,9,  -999.00,9,  -999.00,9
     06GA226_2,  AR19,    46,  1,     17,    D17,2,19930716,1639, 45.8517, -32.0017, 3548,    494.7,  11.7430,  35.5459,2,  35.5377,2,    215.5,2,     5.37,2,    12.33,2,     0.05,2,     0.69,2
     06GA226_2,  AR19,    46,  1,     16,    D16,2,19930716,1639, 45.8517, -32.0017, 3548,    595.1,  10.5610,  35.3781,2,  35.3751,2,    206.4,2,     6.81,2,    15.01,2,     0.05,2,     0.89,2
     06GA226_2,  AR19,    46,  1,     15,    D15,2,19930716,1639, 45.8517, -32.0017, 3548,    696.1,   8.7760,  35.1205,2,  35.1269,2,    190.2,2,     9.84,2,    18.39,2,     0.04,2,     1.18,2
     06GA226_2,  AR19,    46,  1,     14,    D14,2,19930716,1639, 45.8517, -32.0017, 3548,    770.6,   8.1820,  35.1465,2,  35.1455,2,    188.1,2,    10.78,2,    19.47,2,     0.05,2,     1.28,2
     06GA226_2,  AR19,    46,  1,     13,    D04,2,19930716,1639, 45.8517, -32.0017, 3548,    815.8,   7.2770,  35.0495,2,  35.0524,2,    197.9,2,    11.07,2,    19.40,2,     0.05,2,     1.28,2
     06GA226_2,  AR19,    46,  1,     12,    D12,2,19930716,1639, 45.8517, -32.0017, 3548,    875.7,   7.1610,  35.1017,2,  35.1026,2,    196.8,2,    11.46,2,    19.72,2,     0.06,2,     1.28,2
     06GA226_2,  AR19,    46,  1,     11,    D11,2,19930716,1639, 45.8517, -32.0017, 3548,    894.6,   7.2350,  35.1419,2,  35.1418,2,    196.7,2,    11.45,2,    19.55,2,     0.05,2,     1.28,2
     06GA226_2,  AR19,    46,  1,     10,    N03,2,19930716,1639, 45.8517, -32.0017, 3548,    944.9,   6.9380,  35.1698,2,  35.1690,2,    204.6,2,    11.39,2,    19.20,2,     0.05,2,     1.27,2
     06GA226_2,  AR19,    46,  1,     09,    D09,2,19930716,1639, 45.8517, -32.0017, 3548,    994.8,   6.6330,  35.1629,2,  35.1616,2,    210.0,2,    11.39,2,    19.01,2,     0.05,2,     1.27,2
     06GA226_2,  AR19,    46,  1,     08,    D08,2,19930716,1639, 45.8517, -32.0017, 3548,   1096.1,   5.7920,  35.1013,2,  35.1013,2,    227.6,2,    11.06,2,    18.44,2,     0.04,2,     1.26,2
     06GA226_2,  AR19,    46,  1,     07,    N04,2,19930716,1639, 45.8517, -32.0017, 3548,   1194.2,   5.0670,  35.0265,2,  35.0271,2,    243.0,2,    10.85,2,    18.12,2,     0.03,2,     1.18,2
     06GA226_2,  AR19,    46,  1,     06,    D06,2,19930716,1639, 45.8517, -32.0017, 3548,   1296.7,   4.4210,  34.9589,2,  34.9601,2,    257.5,2,    10.51,2,    17.73,2,     0.05,2,     1.18,2
     06GA226_2,  AR19,    46,  1,     05,    D05,2,19930716,1639, 45.8517, -32.0017, 3548,   1396.0,   4.1500,  34.9427,2,  34.9436,2,    264.4,2,    10.43,2,    17.48,2,     0.05,2,     1.17,2
     06GA226_2,  AR19,    46,  1,     04,    D19,2,19930716,1639, 45.8517, -32.0017, 3548,   1495.7,   3.9620,  34.9285,2,  34.9287,2,    268.9,2,    10.40,2,    17.29,2,     0.04,2,     1.17,2
     06GA226_2,  AR19,    46,  1,     03,    D03,2,19930716,1639, 45.8517, -32.0017, 3548,   1595.1,   3.8090,  34.9178,2,  34.9200,2,    273.2,2,    10.40,2,    17.11,2,     0.04,2,     1.17,2
     06GA226_2,  AR19,    46,  1,     02,    D02,2,19930716,1639, 45.8517, -32.0017, 3548,   1695.4,   3.6920,  34.9098,2,  34.9110,2,    275.1,2,    10.49,2,    17.08,2,     0.05,2,     1.17,2
     06GA226_2,  AR19,    46,  1,     01,    D16,2,19930716,1639, 45.8517, -32.0017, 3548,   1795.2,   3.6020,  34.9048,2,  34.9058,2,    277.3,2,    10.52,2,    17.00,2,     0.04,2,     1.17,2
     06GA226_2,  AR19,    46,  2,     24,    D24,3,19930716,1923, 45.8467, -31.9817, 3546,   1795.5,   3.6130,  34.9036,2,-999.0000,9,    275.8,2,    10.49,2,    17.14,2,     0.05,2,     1.17,2
     06GA226_2,  AR19,    46,  2,     23,    N05,2,19930716,1923, 45.8467, -31.9817, 3546,   1894.6,   3.5570,  34.9037,2,  34.9056,2,    278.2,2,    10.60,2,    17.20,2,     0.05,2,     1.17,2
     06GA226_2,  AR19,    46,  2,     22,    D13,2,19930716,1923, 45.8467, -31.9817, 3546,   1995.9,   3.5100,  34.9041,2,  34.9071,2,    276.9,2,    10.79,2,    17.17,2,     0.05,2,     1.17,2
     06GA226_2,  AR19,    46,  2,     21,    D21,2,19930716,1923, 45.8467, -31.9817, 3546,   2045.8,   3.4980,  34.9067,2,  34.9087,2,    276.9,2,    10.97,2,    17.22,2,     0.06,2,     1.17,2
     06GA226_2,  AR19,    46,  2,     20,    N01,2,19930716,1923, 45.8467, -31.9817, 3546,   2095.7,   3.4840,  34.9089,2,  34.9112,2,    276.4,2,    11.11,2,    17.20,2,     0.05,2,     1.17,2
     06GA226_2,  AR19,    46,  2,     19,    D10,2,19930716,1923, 45.8467, -31.9817, 3546,   2147.0,   3.4780,  34.9100,2,  34.9102,2,    276.5,2,    11.24,2,    17.25,2,     0.08,2,     1.17,2
     06GA226_2,  AR19,    46,  2,     18,    D18,2,19930716,1923, 45.8467, -31.9817, 3546,   2175.2,   3.4670,  34.9113,2,  34.9132,2,    275.7,2,    11.33,2,    17.29,2,     0.09,2,     1.17,2
     06GA226_2,  AR19,    46,  2,     17,    D17,2,19930716,1923, 45.8467, -31.9817, 3546,   2227.6,   3.4370,  34.9106,2,  34.9119,2,    276.5,2,    11.37,2,    17.11,2,     0.08,2,     1.17,2
     06GA226_2,  AR19,    46,  2,     16,    D16,2,19930716,1923, 45.8467, -31.9817, 3546,   2266.1,   3.4140,  34.9122,2,  34.9135,2,    276.2,2,    11.44,2,    17.16,2,     0.06,2,     1.17,2
     06GA226_2,  AR19,    46,  2,     15,    D15,2,19930716,1923, 45.8467, -31.9817, 3546,   2298.3,   3.4130,  34.9163,2,  34.9183,2,    275.1,2,    11.79,2,    17.17,2,     0.06,2,     1.17,2
     06GA226_2,  AR19,    46,  2,     14,    D14,2,19930716,1923, 45.8467, -31.9817, 3546,   2345.7,   3.4280,  34.9234,2,  34.9247,2,    273.5,2,    12.08,2,    17.07,2,     0.02,2,     1.17,2
     06GA226_2,  AR19,    46,  2,     13,    D04,2,19930716,1923, 45.8467, -31.9817, 3546,   2399.7,   3.3950,  34.9244,2,  34.9264,2,    273.1,2,    12.33,2,    16.95,2,     0.03,2,     1.17,2
     06GA226_2,  AR19,    46,  2,     12,    D12,2,19930716,1923, 45.8467, -31.9817, 3546,   2497.1,   3.3470,  34.9304,2,  34.9316,2,    271.6,2,    13.43,2,    17.12,2,     0.03,2,     1.17,2
     06GA226_2,  AR19,    46,  2,     11,    D11,2,19930716,1923, 45.8467, -31.9817, 3546,   2597.0,   3.2760,  34.9320,2,  34.9345,2,    270.6,2,    14.23,2,    17.10,2,     0.03,2,  -999.00,9
     06GA226_2,  AR19,    46,  2,     10,    N03,2,19930716,1923, 45.8467, -31.9817, 3546,   2698.0,   3.2130,  34.9336,2,  34.9345,2,    270.6,2,    14.75,2,    17.16,2,     0.03,2,     1.17,2
     06GA226_2,  AR19,    46,  2,     09,    D09,2,19930716,1923, 45.8467, -31.9817, 3546,   2798.7,   3.1310,  34.9340,2,  34.9350,2,    270.5,2,    15.31,2,    17.09,2,     0.04,2,     1.17,2
     06GA226_2,  AR19,    46,  2,     08,    D08,3,19930716,1923, 45.8467, -31.9817, 3546,   2897.3,   3.0730,  34.9341,2,  34.9356,2,   -999.0,9,    15.47,2,    16.99,3,     0.03,2,     1.17,2
     06GA226_2,  AR19,    46,  2,     07,    N04,2,19930716,1923, 45.8467, -31.9817, 3546,   2997.8,   2.9930,  34.9333,2,  34.9332,2,    273.7,2,    15.77,2,    17.03,2,     0.04,2,     1.17,2
     06GA226_2,  AR19,    46,  2,     06,    D06,2,19930716,1923, 45.8467, -31.9817, 3546,   3098.6,   2.9340,  34.9321,2,  34.9333,2,    272.5,2,    16.02,2,    17.00,2,     0.04,2,     1.17,2
     06GA226_2,  AR19,    46,  2,     05,    D05,2,19930716,1923, 45.8467, -31.9817, 3546,   3198.1,   2.8630,  34.9304,2,  34.9333,2,    272.0,2,    16.35,2,    16.92,2,     0.04,2,     1.17,2
     06GA226_2,  AR19,    46,  2,     04,    D19,2,19930716,1923, 45.8467, -31.9817, 3546,   3299.4,   2.7930,  34.9283,2,  34.9323,2,    272.4,2,    16.65,2,    16.88,2,     0.05,2,     1.17,2
     06GA226_2,  AR19,    46,  2,     03,    D03,2,19930716,1923, 45.8467, -31.9817, 3546,   3398.6,   2.7150,  34.9274,2,  34.9269,2,    273.3,2,    17.02,2,    16.83,2,     0.05,2,     1.08,2
     06GA226_2,  AR19,    46,  2,     02,    D02,2,19930716,1923, 45.8467, -31.9817, 3546,   3498.7,   2.6320,  34.9241,2,  34.9240,2,    273.6,2,    17.43,2,    16.80,2,     0.05,2,     1.17,2
     06GA226_2,  AR19,    46,  2,     01,    D16,2,19930716,1923, 45.8467, -31.9817, 3546,   3586.1,   2.6030,  34.9224,2,  34.9232,2,    274.0,2,    17.66,2,    16.80,2,     0.06,2,     1.17,2
     06GA226_2,  AR19,    47,  1,     24,    D24,3,19930716,2356, 46.0167, -31.6350, 3256,      6.9,  18.3740,  35.9664,2,  35.9660,2,    244.6,2,     0.04,2,     0.02,2,     0.03,2,     0.01,2
     06GA226_2,  AR19,    47,  1,     23,    N05,2,19930716,2356, 46.0167, -31.6350, 3256,     97.9,  15.4230,  36.1159,2,  36.1091,2,    216.2,2,     2.19,2,     6.58,2,     0.05,2,     0.39,2
     06GA226_2,  AR19,    47,  1,     22,    D13,2,19930716,2356, 46.0167, -31.6350, 3256,    297.9,  13.0700,  35.7398,2,  35.7430,2,    215.0,2,     3.94,2,    10.11,2,     0.04,2,     0.59,2
     06GA226_2,  AR19,    47,  1,     21,    D21,2,19930716,2356, 46.0167, -31.6350, 3256,    493.2,  11.4820,  35.4967,2,  35.4954,2,   -999.0,9,     5.62,2,    12.59,2,     0.03,2,     0.79,2
     06GA226_2,  AR19,    47,  1,     20,    N01,2,19930716,2356, 46.0167, -31.6350, 3256,    744.8,   8.3280,  35.1335,2,  35.1319,2,    193.2,2,    10.10,2,    18.38,2,     0.03,2,     1.27,2
     06GA226_2,  AR19,    47,  1,     18,    D18,2,19930716,2356, 46.0167, -31.6350, 3256,    993.9,   6.3240,  35.1134,2,  35.1144,2,    214.1,2,    11.27,2,    18.73,2,     0.04,2,     1.28,2
     06GA226_2,  AR19,    47,  1,     17,    D17,2,19930716,2356, 46.0167, -31.6350, 3256,   1092.8,   5.2480,  35.0179,2,  35.0178,2,    235.6,2,    11.02,2,    18.10,2,     0.03,2,     1.26,2
     06GA226_2,  AR19,    47,  1,     16,    D16,2,19930716,2356, 46.0167, -31.6350, 3256,   1192.8,   4.8940,  35.0006,2,  35.0011,2,    246.5,2,    10.80,2,    17.86,2,     0.04,2,     1.26,2
     06GA226_2,  AR19,    47,  1,     15,    D15,2,19930716,2356, 46.0167, -31.6350, 3256,   1293.9,   4.8010,  35.0125,2,  35.0138,2,    248.1,2,    10.81,2,    17.59,2,     0.04,2,     1.18,2
     06GA226_2,  AR19,    47,  1,     14,    D14,2,19930716,2356, 46.0167, -31.6350, 3256,   1394.9,   4.5670,  35.0085,2,  35.0089,2,    254.7,2,    10.70,2,    17.34,2,     0.03,2,     1.18,2
     06GA226_2,  AR19,    47,  1,     13,    D04,2,19930716,2356, 46.0167, -31.6350, 3256,   1494.8,   4.3840,  34.9968,2,  34.9978,2,    258.2,2,    10.77,2,    17.12,2,     0.04,2,     1.18,2
     06GA226_2,  AR19,    47,  1,     12,    D12,2,19930716,2356, 46.0167, -31.6350, 3256,   1594.6,   4.0910,  34.9608,2,-999.0000,9,    264.6,2,    10.84,2,    17.08,2,     0.05,2,     1.17,2
     06GA226_2,  AR19,    47,  1,     11,    D11,2,19930716,2356, 46.0167, -31.6350, 3256,   1696.9,   3.8410,  34.9310,2,  34.9313,2,    270.0,2,    10.75,2,    16.74,2,     0.03,2,     1.17,2
     06GA226_2,  AR19,    47,  1,     10,    N03,2,19930716,2356, 46.0167, -31.6350, 3256,   1796.4,   3.6980,  34.9160,2,  34.9165,2,    273.7,2,    10.72,2,    16.66,2,     0.04,2,     1.17,2
     06GA226_2,  AR19,    47,  1,     09,    D09,2,19930716,2356, 46.0167, -31.6350, 3256,   1894.6,   3.6410,  34.9197,2,  34.9200,2,    273.3,2,    11.24,2,    16.69,2,     0.05,2,     1.18,2
     06GA226_2,  AR19,    47,  1,     08,    D08,2,19930716,2356, 46.0167, -31.6350, 3256,   1996.4,   3.5860,  34.9221,2,  34.9228,2,    273.1,2,    11.77,2,    16.64,2,     0.04,2,     1.18,2
     06GA226_2,  AR19,    47,  1,     07,    N04,2,19930716,2356, 46.0167, -31.6350, 3256,   2195.9,   3.4950,  34.9250,2,  34.9254,2,    275.4,2,    12.44,2,    16.80,2,     0.03,2,     1.18,2
     06GA226_2,  AR19,    47,  1,     06,    D06,2,19930716,2356, 46.0167, -31.6350, 3256,   2396.3,   3.3910,  34.9275,2,  34.9281,2,    274.3,2,    13.03,2,    17.12,2,     0.02,2,     1.17,2
     06GA226_2,  AR19,    47,  1,     05,    D05,2,19930716,2356, 46.0167, -31.6350, 3256,   2596.4,   3.2850,  34.9329,2,  34.9339,2,    272.1,2,    14.23,2,    16.97,2,     0.02,2,     1.17,2
     06GA226_2,  AR19,    47,  1,     04,    D19,2,19930716,2356, 46.0167, -31.6350, 3256,   2798.2,   3.1350,  34.9349,2,  34.9359,2,    272.0,2,    15.12,2,    16.90,2,     0.03,2,     1.17,2
     06GA226_2,  AR19,    47,  1,     03,    D03,2,19930716,2356, 46.0167, -31.6350, 3256,   2999.1,   2.9930,  34.9335,2,  34.9345,2,    272.5,2,    15.77,2,    16.66,2,     0.03,2,     1.17,2
     06GA226_2,  AR19,    47,  1,     02,    D02,2,19930716,2356, 46.0167, -31.6350, 3256,   3197.7,   2.8280,  34.9307,2,  34.9305,2,    272.6,2,    16.50,2,    16.52,2,     0.02,2,     1.17,2
     06GA226_2,  AR19,    47,  1,     01,    D16,2,19930716,2356, 46.0167, -31.6350, 3256,   3278.9,   2.7380,  34.9290,2,  34.9281,2,    273.5,2,    16.86,2,    16.55,2,     0.02,2,     1.17,2