BOTTLE,20010917WHPSIOKJU
EXPOCODE,SECT_ID,STNNBR,CASTNO,SAMPNO,BTLNBR,BTLNBR_FLAG_W,DATE,TIME,LATITUDE,LONGITUDE,DEPTH,CTDPRS,CTDTMP,CTDSAL,CTDSAL_FLAG_W,SALNTY,SALNTY_FLAG_W,OXYGEN,OXYGEN_FLAG_W,SILCAT,SILCAT_FLAG_W,NITRAT,NITRAT_FLAG_W,NITRIT,NITRIT_FLAG_W,PHSPHT,PHSPHT_FLAG_W
,,,,,ID,,,,,,,DBAR,ITS-90,PSS-78,,PSS-78,,UMOL/KG,,UMOL/KG,,UMOL/KG,,UMOL/KG,,UMOL/KG,
     06GA226_2,  AR19,    34,  1,     24,    D24,2,19930713,1714, 43.8250, -38.6467, 3300,      5.1,  20.1610,  36.1967,2,  36.1903,2,    225.8,2,     0.13,2,     0.08,2,     0.01,2,     0.00,2
     06GA226_2,  AR19,    34,  1,     23,    D23,2,19930713,1714, 43.8250, -38.6467, 3300,     97.2,  16.6870,  36.1374,2,  36.1427,2,    203.6,2,     1.37,2,     4.88,2,     0.06,2,     0.20,2
     06GA226_2,  AR19,    34,  1,     22,    D22,2,19930713,1714, 43.8250, -38.6467, 3300,    198.8,  16.0230,  36.2389,2,  36.2379,2,    231.0,2,     1.20,2,     3.93,2,     0.11,2,     0.19,2
     06GA226_2,  AR19,    34,  1,     21,    D21,2,19930713,1714, 43.8250, -38.6467, 3300,    294.5,  13.8550,  35.7725,2,  35.7622,3,    199.9,2,     4.08,2,    10.35,2,     0.03,2,     0.59,2
     06GA226_2,  AR19,    34,  1,     20,    N01,2,19930713,1714, 43.8250, -38.6467, 3300,    398.2,  12.5530,  35.6102,2,  35.6078,2,    188.8,2,     5.71,2,    13.37,2,     0.02,2,     0.79,2
     06GA226_2,  AR19,    34,  1,     19,    D19,2,19930713,1714, 43.8250, -38.6467, 3300,    495.6,  11.4880,  35.5178,2,  35.5136,2,    195.8,2,     6.18,2,    14.33,2,     0.03,2,     0.88,2
     06GA226_2,  AR19,    34,  1,     17,    D17,2,19930713,1714, 43.8250, -38.6467, 3300,    696.2,   9.5960,  35.3617,2,  35.3580,2,    186.8,2,     9.08,2,    17.56,2,     0.03,2,     1.17,2
     06GA226_2,  AR19,    34,  1,     16,    D16,2,19930713,1714, 43.8250, -38.6467, 3300,    794.6,   6.9670,  35.0039,2,  35.0050,2,    193.3,2,    11.97,2,    19.60,2,     0.03,2,     1.37,2
     06GA226_2,  AR19,    34,  1,     15,    D15,2,19930713,1714, 43.8250, -38.6467, 3300,    895.3,   6.1640,  35.0221,2,  35.0227,2,    209.1,2,    11.91,2,    18.98,2,     0.03,2,     1.36,2
     06GA226_2,  AR19,    34,  1,     14,    D14,2,19930713,1714, 43.8250, -38.6467, 3300,    996.4,   5.7360,  35.0564,2,  35.0568,2,    222.2,2,    11.58,2,    18.45,2,     0.03,2,     1.28,2
     06GA226_2,  AR19,    34,  1,     13,    D13,2,19930713,1714, 43.8250, -38.6467, 3300,   1094.3,   5.2550,  35.0393,2,  35.0402,2,    233.8,2,    11.46,2,    18.11,2,     0.03,2,     1.26,2
     06GA226_2,  AR19,    34,  1,     12,    D12,2,19930713,1714, 43.8250, -38.6467, 3300,   1244.8,   4.7550,  35.0202,2,  35.0210,2,    248.0,2,    11.08,2,    17.54,2,     0.03,2,     1.26,2
     06GA226_2,  AR19,    34,  1,     11,    D11,2,19930713,1714, 43.8250, -38.6467, 3300,   1396.0,   4.2430,  34.9698,2,  34.9701,2,    259.9,2,    10.89,2,    17.17,2,     0.03,2,     1.18,2
     06GA226_2,  AR19,    34,  1,     10,    D10,2,19930713,1714, 43.8250, -38.6467, 3300,   1595.0,   3.9080,  34.9402,2,  34.9397,2,    268.6,2,    10.83,2,    16.96,2,     0.03,2,     1.18,2
     06GA226_2,  AR19,    34,  1,     09,    D09,2,19930713,1714, 43.8250, -38.6467, 3300,   1796.0,   3.7080,  34.9272,2,  34.9261,2,    273.0,2,    11.00,2,    16.83,2,     0.03,2,     1.18,2
     06GA226_2,  AR19,    34,  1,     08,    D08,2,19930713,1714, 43.8250, -38.6467, 3300,   1996.4,   3.5280,  34.9126,2,  34.9126,2,    276.7,2,    11.08,2,    16.61,2,     0.03,2,     1.17,2
     06GA226_2,  AR19,    34,  1,     07,    N02,2,19930713,1714, 43.8250, -38.6467, 3300,   2194.2,   3.4240,  34.9094,2,  34.9080,2,    278.3,2,    11.33,2,    16.53,2,     0.03,2,     1.17,2
     06GA226_2,  AR19,    34,  1,     06,    D06,2,19930713,1714, 43.8250, -38.6467, 3300,   2397.3,   3.3970,  34.9239,2,  34.9222,2,    275.8,2,    12.13,2,    16.51,2,     0.03,2,     1.17,2
     06GA226_2,  AR19,    34,  1,     05,    D05,2,19930713,1714, 43.8250, -38.6467, 3300,   2597.5,   3.3160,  34.9377,2,  34.9372,2,    271.0,2,    13.46,2,    16.64,2,     0.04,2,     1.17,2
     06GA226_2,  AR19,    34,  1,     04,    D04,2,19930713,1714, 43.8250, -38.6467, 3300,   2797.2,   3.2000,  34.9391,2,  34.9373,2,    271.0,2,    14.29,2,    16.63,2,     0.04,2,     1.17,2
     06GA226_2,  AR19,    34,  1,     03,    D03,3,19930713,1714, 43.8250, -38.6467, 3300,   2995.5,   3.0420,  34.9363,2,-999.0000,9,    270.7,2,    15.27,2,    16.59,2,     0.04,2,     1.17,2
     06GA226_2,  AR19,    34,  1,     02,    D02,2,19930713,1714, 43.8250, -38.6467, 3300,   3197.6,   2.8780,  34.9317,2,  34.9306,2,    271.4,2,    17.00,2,    16.71,2,     0.05,2,     1.18,2
     06GA226_2,  AR19,    34,  1,     01,    D01,2,19930713,1714, 43.8250, -38.6467, 3300,   3378.1,   2.6200,  34.9224,2,  34.9227,2,    272.1,2,    18.82,2,    16.73,2,     0.04,2,     1.18,2
     06GA226_2,  AR19,    35,  1,     24,    D24,2,19930713,2252, 43.9950, -38.0017, 4273,      5.9,  19.0840,  35.6561,2,  35.6527,2,    232.0,2,     0.05,2,     0.06,2,     0.01,2,     0.01,2
     06GA226_2,  AR19,    35,  1,     23,    D23,2,19930713,2252, 43.9950, -38.0017, 4273,     74.0,  16.4200,  36.0977,2,  36.0959,2,    201.4,2,     1.89,2,     5.77,2,     0.14,2,     0.29,2
     06GA226_2,  AR19,    35,  1,     22,    D13,2,19930713,2252, 43.9950, -38.0017, 4273,     95.4,  16.1320,  36.0769,2,  36.0733,2,    209.5,2,     1.79,2,     5.55,2,     0.20,2,     0.29,2
     06GA226_2,  AR19,    35,  1,     21,    D21,2,19930713,2252, 43.9950, -38.0017, 4273,    246.1,  14.2510,  35.8390,2,  35.8345,2,    204.2,2,     3.61,2,     9.19,2,     0.04,2,     0.58,2
     06GA226_2,  AR19,    35,  1,     20,    N01,2,19930713,2252, 43.9950, -38.0017, 4273,    395.0,  12.0970,  35.4830,2,  35.4798,2,    198.2,2,     5.95,2,    12.92,2,     0.03,2,     0.88,2
     06GA226_2,  AR19,    35,  1,     18,    D18,2,19930713,2252, 43.9950, -38.0017, 4273,    742.5,   7.5590,  35.0618,2,  35.0597,2,    186.8,2,    11.77,2,    19.30,2,     0.03,2,     1.36,2
     06GA226_2,  AR19,    35,  1,     17,    D17,2,19930713,2252, 43.9950, -38.0017, 4273,    843.8,   6.4160,  35.0429,2,  35.0490,2,    204.2,2,    11.93,2,    18.77,2,     0.03,2,     1.36,2
     06GA226_2,  AR19,    35,  1,     16,    N02,2,19930713,2252, 43.9950, -38.0017, 4273,    996.1,   5.5070,  35.0414,2,  35.0396,2,    226.4,2,    11.67,2,    18.05,2,     0.03,2,     1.27,2
     06GA226_2,  AR19,    35,  1,     15,    D15,2,19930713,2252, 43.9950, -38.0017, 4273,   1193.5,   4.6920,  34.9985,2,  34.9974,2,    248.7,2,    11.10,2,    17.34,2,     0.03,2,     1.18,2
     06GA226_2,  AR19,    35,  1,     14,    D14,2,19930713,2252, 43.9950, -38.0017, 4273,   1395.0,   4.2300,  34.9677,2,  34.9688,2,    260.6,2,    10.96,2,    17.04,2,     0.04,2,     1.18,2
     06GA226_2,  AR19,    35,  1,     13,    D04,2,19930713,2252, 43.9950, -38.0017, 4273,   1594.8,   3.8760,  34.9343,2,  34.9340,2,    269.7,2,    10.74,2,    16.71,2,     0.03,2,     1.17,2
     06GA226_2,  AR19,    35,  1,     12,    D12,2,19930713,2252, 43.9950, -38.0017, 4273,   1796.5,   3.6510,  34.9162,2,  34.9156,2,    275.4,2,    10.79,2,    16.47,2,     0.04,2,     1.17,2
     06GA226_2,  AR19,    35,  1,     11,    D11,2,19930713,2252, 43.9950, -38.0017, 4273,   2005.6,   3.4980,  34.9049,2,  34.9063,2,    277.9,2,    10.90,2,    16.32,2,     0.04,2,     1.17,2
     06GA226_2,  AR19,    35,  1,     10,    N03,2,19930713,2252, 43.9950, -38.0017, 4273,   2257.7,   3.4000,  34.9089,2,  34.9085,2,    284.7,2,    11.44,2,    16.29,2,     0.02,2,     1.17,2
     06GA226_2,  AR19,    35,  1,     09,    D09,2,19930713,2252, 43.9950, -38.0017, 4273,   2492.6,   3.3770,  34.9294,2,  34.9287,2,    273.4,2,    12.62,2,    16.22,2,     0.02,2,     1.17,2
     06GA226_2,  AR19,    35,  1,     08,    D08,2,19930713,2252, 43.9950, -38.0017, 4273,   2696.7,   3.2560,  34.9338,2,  34.9343,2,    272.2,2,    13.52,2,    16.30,2,     0.03,2,     1.17,2
     06GA226_2,  AR19,    35,  1,     07,    D22,2,19930713,2252, 43.9950, -38.0017, 4273,   2892.3,   3.1470,  34.9371,2,  34.9372,2,    272.1,2,    14.58,2,    16.41,2,     0.03,2,     1.17,2
     06GA226_2,  AR19,    35,  1,     06,    D06,2,19930713,2252, 43.9950, -38.0017, 4273,   3069.4,   3.0220,  34.9362,2,  34.9356,2,    272.4,2,    16.02,2,    16.51,2,     0.03,2,     1.18,2
     06GA226_2,  AR19,    35,  1,     05,    D05,2,19930713,2252, 43.9950, -38.0017, 4273,   3297.5,   2.8380,  34.9292,2,  34.9310,2,    271.6,2,    17.08,2,    16.39,2,     0.03,2,     1.17,2
     06GA226_2,  AR19,    35,  1,     04,    D19,2,19930713,2252, 43.9950, -38.0017, 4273,   3497.0,   2.6510,  34.9224,2,  34.9251,2,    274.1,2,    17.73,2,    16.31,2,     0.03,2,     1.17,2
     06GA226_2,  AR19,    35,  1,     03,    D03,2,19930713,2252, 43.9950, -38.0017, 4273,   3749.0,   2.4770,  34.9137,2,  34.9142,2,    276.0,2,    18.81,2,    16.37,2,     0.04,2,     1.17,2
     06GA226_2,  AR19,    35,  1,     02,    D02,2,19930713,2252, 43.9950, -38.0017, 4273,   3999.8,   2.3470,  34.9055,2,  34.9063,2,    275.3,2,    20.34,2,    16.39,2,     0.03,2,     1.17,2
     06GA226_2,  AR19,    35,  1,     01,    D16,2,19930713,2252, 43.9950, -38.0017, 4273,   4363.2,   2.2440,  34.8998,2,  34.8998,2,    279.5,2,    17.81,2,    15.79,2,     0.03,2,     1.17,2
     06GA226_2,  AR19,    36,  1,     24,    D24,2,19930714,0603, 44.1817, -37.3633, 4181,      5.8,  18.9000,  35.8830,2,-999.0000,9,   -999.0,9,  -999.00,9,  -999.00,9,  -999.00,9,  -999.00,9
     06GA226_2,  AR19,    36,  1,     23,    D23,2,19930714,0603, 44.1817, -37.3633, 4181,     68.2,  15.5550,  36.0984,2,  36.0941,2,    238.5,2,     1.05,2,     4.02,2,     0.55,2,     0.19,2
     06GA226_2,  AR19,    36,  1,     22,    D13,2,19930714,0603, 44.1817, -37.3633, 4181,    245.0,  13.0080,  35.7002,2,  35.7165,3,    217.5,2,     3.66,2,     9.66,2,     0.05,2,     0.58,2
     06GA226_2,  AR19,    36,  1,     21,    D21,2,19930714,0603, 44.1817, -37.3633, 4181,    345.9,  12.0790,  35.5892,2,  35.5876,2,    210.9,2,     5.15,2,    11.91,2,     0.05,2,     0.78,2
     06GA226_2,  AR19,    36,  1,     20,    N01,2,19930714,0603, 44.1817, -37.3633, 4181,    446.0,  10.5430,  35.3259,2,  35.3245,2,    189.7,2,     7.65,2,    15.81,2,     0.05,2,     0.98,2
     06GA226_2,  AR19,    36,  1,     19,    D10,2,19930714,0603, 44.1817, -37.3633, 4181,    594.7,   7.9560,  35.0143,2,  35.0117,2,    191.2,2,    10.60,2,    18.56,2,     0.03,2,     1.27,2
     06GA226_2,  AR19,    36,  1,     18,    D18,2,19930714,0603, 44.1817, -37.3633, 4181,    795.5,   6.5130,  35.0630,2,  35.0660,2,    204.2,2,    11.73,2,    19.32,2,     0.05,2,     1.28,2
     06GA226_2,  AR19,    36,  1,     17,    D17,2,19930714,0603, 44.1817, -37.3633, 4181,    994.0,   5.4110,  35.0626,2,  35.0644,2,    231.8,2,    11.18,2,    18.10,2,     0.04,2,     1.26,2
     06GA226_2,  AR19,    36,  1,     16,    D16,2,19930714,0603, 44.1817, -37.3633, 4181,   1252.7,   4.4080,  34.9876,2,  34.9895,2,    255.8,2,    10.82,2,    17.32,2,     0.04,2,     1.18,2
     06GA226_2,  AR19,    36,  1,     15,    D15,2,19930714,0603, 44.1817, -37.3633, 4181,   1493.7,   3.9080,  34.9393,2,  34.9400,2,    268.4,2,    10.71,2,    17.00,2,     0.05,2,     1.17,2
     06GA226_2,  AR19,    36,  1,     14,    D14,2,19930714,0603, 44.1817, -37.3633, 4181,   1795.3,   3.5480,  34.9080,2,  34.9099,2,    276.3,2,    10.74,2,    16.60,2,     0.05,2,     1.17,2
     06GA226_2,  AR19,    36,  1,     13,    D04,2,19930714,0603, 44.1817, -37.3633, 4181,   1993.5,   3.3540,  34.8909,2,  34.8905,2,    281.8,2,    10.48,2,    16.22,2,     0.05,2,     1.08,2
     06GA226_2,  AR19,    36,  1,     12,    D12,2,19930714,0603, 44.1817, -37.3633, 4181,   2094.2,   3.2720,  34.8821,2,  34.8811,2,    284.9,2,    10.27,2,    16.12,2,     0.05,2,     1.08,2
     06GA226_2,  AR19,    36,  1,     11,    D11,2,19930714,0603, 44.1817, -37.3633, 4181,   2196.6,   3.2520,  34.8877,2,  34.8858,2,    283.6,2,    10.48,2,    16.02,2,     0.05,2,     1.08,2
     06GA226_2,  AR19,    36,  1,     10,    N03,2,19930714,0603, 44.1817, -37.3633, 4181,   2299.2,   3.2340,  34.8902,2,  34.8884,2,    285.6,2,    10.62,2,    16.02,2,     0.05,2,     1.17,2
     06GA226_2,  AR19,    36,  1,     09,    D09,2,19930714,0603, 44.1817, -37.3633, 4181,   2396.0,   3.2620,  34.9042,2,  34.9034,2,    279.7,2,    11.18,2,    15.98,2,     0.05,2,     1.17,2
     06GA226_2,  AR19,    36,  1,     08,    D08,2,19930714,0603, 44.1817, -37.3633, 4181,   2498.1,   3.3110,  34.9238,2,  34.9259,2,    274.6,2,    12.18,2,    16.15,2,     0.05,2,     1.17,2
     06GA226_2,  AR19,    36,  1,     07,    D22,2,19930714,0603, 44.1817, -37.3633, 4181,   2741.3,   3.1850,  34.9366,2,  34.9393,2,    272.0,2,    13.90,2,    16.36,2,     0.04,2,     1.17,2
     06GA226_2,  AR19,    36,  1,     06,    D06,2,19930714,0603, 44.1817, -37.3633, 4181,   2999.5,   2.9670,  34.9337,2,  34.9344,2,    272.6,2,    15.55,2,    16.64,2,     0.05,2,     1.17,2
     06GA226_2,  AR19,    36,  1,     05,    D05,2,19930714,0603, 44.1817, -37.3633, 4181,   3250.6,   2.7860,  34.9291,2,  34.9301,2,    272.4,2,    16.61,2,    16.83,2,     0.05,2,     1.17,2
     06GA226_2,  AR19,    36,  1,     04,    D19,2,19930714,0603, 44.1817, -37.3633, 4181,   3502.7,   2.5660,  34.9195,2,  34.9195,2,    272.9,2,    18.97,2,    17.00,2,     0.07,2,     1.17,2
     06GA226_2,  AR19,    36,  1,     03,    D03,2,19930714,0603, 44.1817, -37.3633, 4181,   3750.1,   2.4350,  34.9121,2,  34.9108,2,    273.1,2,    20.71,2,    17.00,2,     0.05,2,     1.17,2
     06GA226_2,  AR19,    36,  1,     02,    D02,2,19930714,0603, 44.1817, -37.3633, 4181,   3997.6,   2.3300,  34.9051,2,  34.9052,2,    274.9,2,    20.97,2,    16.81,2,     0.05,2,     1.17,2
     06GA226_2,  AR19,    36,  1,     01,    D16,2,19930714,0603, 44.1817, -37.3633, 4181,   4221.9,   2.2610,  34.9007,2,  34.9014,2,    278.0,2,    18.67,2,    16.29,2,     0.05,2,     1.17,2
     06GA226_2,  AR19,    37,  1,     24,    D24,2,19930714,1153, 44.3783, -36.7183, 4107,      7.2,  17.8640,  35.9799,2,  35.9758,2,    250.1,2,     0.15,2,     0.19,2,     0.03,2,     0.01,2
     06GA226_2,  AR19,    37,  1,     23,    D23,2,19930714,1153, 44.3783, -36.7183, 4107,     46.1,  15.4230,  36.0308,2,  36.0284,2,    248.2,2,     1.16,2,     3.03,2,     0.20,2,     0.19,2
     06GA226_2,  AR19,    37,  1,     22,    D13,2,19930714,1153, 44.3783, -36.7183, 4107,     97.3,  14.8630,  36.0115,2,  36.0126,2,    236.0,2,     1.49,2,     4.96,2,     0.10,2,     0.29,2
     06GA226_2,  AR19,    37,  1,     21,    D21,2,19930714,1153, 44.3783, -36.7183, 4107,    145.4,  13.7850,  35.8373,2,  35.8323,2,    223.1,2,     2.84,2,     8.02,2,     0.05,2,     0.49,2
     06GA226_2,  AR19,    37,  1,     20,    N01,2,19930714,1153, 44.3783, -36.7183, 4107,    196.5,  13.4830,  35.8321,2,  35.8327,2,    236.6,2,     2.41,2,     7.25,2,     0.05,2,     0.40,2
     06GA226_2,  AR19,    37,  1,     19,    D10,2,19930714,1153, 44.3783, -36.7183, 4107,    247.1,  12.9750,  35.7581,2,  35.7574,2,    233.7,2,     2.98,2,     8.70,2,     0.05,2,     0.50,2
     06GA226_2,  AR19,    37,  1,     18,    D18,2,19930714,1153, 44.3783, -36.7183, 4107,    297.0,  12.8620,  35.7631,2,  35.7600,2,    234.6,2,     3.42,2,     8.85,2,     0.05,2,     0.50,2
     06GA226_2,  AR19,    37,  1,     17,    D17,2,19930714,1153, 44.3783, -36.7183, 4107,    394.1,  11.9810,  35.5859,2,  35.5825,2,    221.1,2,     5.08,2,    11.20,2,     0.05,2,     0.68,2
     06GA226_2,  AR19,    37,  1,     16,    D16,2,19930714,1153, 44.3783, -36.7183, 4107,    496.4,  11.0610,  35.4600,2,  35.4563,2,    231.5,2,     5.48,2,    11.61,2,     0.05,2,     0.78,2
     06GA226_2,  AR19,    37,  1,     15,    D15,2,19930714,1153, 44.3783, -36.7183, 4107,    594.7,   9.5460,  35.2095,2,  35.2096,2,    201.5,2,     8.21,2,    15.78,2,     0.04,2,     1.07,2
     06GA226_2,  AR19,    37,  1,     14,    D14,2,19930714,1153, 44.3783, -36.7183, 4107,    696.0,   8.1310,  35.0876,2,  35.0872,2,    195.1,2,    10.48,2,    18.19,2,     0.04,2,     1.27,2
     06GA226_2,  AR19,    37,  1,     13,    D04,2,19930714,1153, 44.3783, -36.7183, 4107,    794.4,   7.1100,  35.0805,2,  35.0819,2,    196.6,2,    11.45,2,    18.99,2,     0.03,2,     1.28,2
     06GA226_2,  AR19,    37,  1,     12,    D12,2,19930714,1153, 44.3783, -36.7183, 4107,    891.5,   6.3610,  35.0627,2,  35.0634,2,    209.5,2,    12.09,2,    18.75,2,     0.04,2,     1.28,2
     06GA226_2,  AR19,    37,  1,     11,    D11,2,19930714,1153, 44.3783, -36.7183, 4107,    994.7,   5.5190,  35.0318,2,  35.0324,2,    227.3,2,    11.29,2,    18.17,2,     0.03,2,     1.27,2
     06GA226_2,  AR19,    37,  1,     10,    N03,2,19930714,1153, 44.3783, -36.7183, 4107,   1095.2,   5.2470,  35.0512,2,  35.0508,2,    237.7,2,    11.56,2,    17.73,2,     0.03,2,     1.18,2
     06GA226_2,  AR19,    37,  1,     09,    D09,2,19930714,1153, 44.3783, -36.7183, 4107,   1193.4,   4.8590,  35.0267,2,  35.0271,2,    245.8,2,    10.99,2,    17.41,2,     0.03,2,     1.18,2
     06GA226_2,  AR19,    37,  1,     08,    D08,2,19930714,1153, 44.3783, -36.7183, 4107,   1294.3,   4.6110,  35.0087,2,  35.0088,2,    251.8,2,    11.20,2,    17.18,2,     0.03,2,     1.17,2
     06GA226_2,  AR19,    37,  1,     07,    D22,2,19930714,1153, 44.3783, -36.7183, 4107,   1397.3,   4.1230,  34.9481,2,  34.9466,2,    264.1,2,    10.79,2,    16.90,2,     0.03,2,     1.17,2
     06GA226_2,  AR19,    37,  1,     06,    D06,2,19930714,1153, 44.3783, -36.7183, 4107,   1494.4,   3.9730,  34.9388,2,  34.9376,2,    268.0,2,    10.67,2,    16.79,2,     0.03,2,     1.17,2
     06GA226_2,  AR19,    37,  1,     05,    D05,2,19930714,1153, 44.3783, -36.7183, 4107,   1595.8,   3.7590,  34.9146,2,  34.9161,2,    272.7,2,    10.41,2,    16.71,2,     0.04,2,     1.17,2
     06GA226_2,  AR19,    37,  1,     04,    D19,2,19930714,1153, 44.3783, -36.7183, 4107,   1698.1,   3.7050,  34.9163,2,  34.9173,2,    274.3,2,    10.80,2,    16.61,2,     0.03,2,     1.17,2
     06GA226_2,  AR19,    37,  1,     03,    D03,2,19930714,1153, 44.3783, -36.7183, 4107,   1794.7,   3.6100,  34.9109,2,  34.9105,2,    276.2,2,    10.64,2,    16.61,2,     0.04,2,     1.17,2
     06GA226_2,  AR19,    37,  1,     02,    D02,2,19930714,1153, 44.3783, -36.7183, 4107,   1894.7,   3.5470,  34.9091,2,  34.9083,2,    276.8,2,    11.12,2,    16.61,2,     0.04,2,     1.17,2
     06GA226_2,  AR19,    37,  1,     01,    D16,2,19930714,1153, 44.3783, -36.7183, 4107,   1997.9,   3.4660,  34.9029,2,  34.9041,2,    278.4,2,    11.11,2,    16.61,2,     0.04,2,     1.08,2