BOTTLE,20010917WHPSIOKJU
EXPOCODE,SECT_ID,STNNBR,CASTNO,SAMPNO,BTLNBR,BTLNBR_FLAG_W,DATE,TIME,LATITUDE,LONGITUDE,DEPTH,CTDPRS,CTDTMP,CTDSAL,CTDSAL_FLAG_W,SALNTY,SALNTY_FLAG_W,OXYGEN,OXYGEN_FLAG_W,SILCAT,SILCAT_FLAG_W,NITRAT,NITRAT_FLAG_W,NITRIT,NITRIT_FLAG_W,PHSPHT,PHSPHT_FLAG_W
,,,,,ID,,,,,,,DBAR,ITS-90,PSS-78,,PSS-78,,UMOL/KG,,UMOL/KG,,UMOL/KG,,UMOL/KG,,UMOL/KG,
     06GA226_2,  AR19,    21,  1,     24,    D24,2,19930709,1735, 42.5467, -46.8050, 4268,      7.0,  20.0420,  36.0688,2,  36.0634,2,    227.6,2,     0.12,2,     0.02,2,     0.01,2,     0.01,2
     06GA226_2,  AR19,    21,  1,     23,    D23,2,19930709,1735, 42.5467, -46.8050, 4268,     97.2,  17.6850,  36.4219,2,  36.4119,3,    200.4,2,     1.40,2,     4.63,2,     0.03,2,     0.19,2
     06GA226_2,  AR19,    21,  1,     22,    D22,2,19930709,1735, 42.5467, -46.8050, 4268,    196.6,  15.3120,  35.9853,2,  35.9804,2,    186.7,2,     3.31,2,     9.77,2,     0.02,2,     0.58,2
     06GA226_2,  AR19,    21,  1,     21,    D21,2,19930709,1735, 42.5467, -46.8050, 4268,    394.2,  11.8190,  35.4946,2,  35.4890,2,    165.3,2,     8.13,2,    17.58,2,     0.02,2,     1.17,2
     06GA226_2,  AR19,    21,  1,     20,    D20,2,19930709,1735, 42.5467, -46.8050, 4268,    594.4,   7.0390,  34.9310,2,  34.9306,2,    182.8,2,    12.64,2,    21.09,2,     0.03,2,     1.47,2
     06GA226_2,  AR19,    21,  1,     19,    D19,2,19930709,1735, 42.5467, -46.8050, 4268,    794.6,   5.8260,  35.0399,2,  35.0372,2,    216.6,2,    11.95,2,    19.45,2,     0.02,2,     1.36,2
     06GA226_2,  AR19,    21,  1,     18,    D18,2,19930709,1735, 42.5467, -46.8050, 4268,    995.2,   3.2600,  34.7645,2,  34.7631,2,    284.1,2,  -999.00,9,  -999.00,9,  -999.00,9,  -999.00,9
     06GA226_2,  AR19,    21,  1,     17,    D17,2,19930709,1735, 42.5467, -46.8050, 4268,   1194.9,   3.4130,  34.8505,2,  34.8501,2,    287.3,2,  -999.00,9,  -999.00,9,  -999.00,9,  -999.00,9
     06GA226_2,  AR19,    21,  1,     16,    D16,2,19930709,1735, 42.5467, -46.8050, 4268,   1390.8,   3.5630,  34.9006,2,  34.9000,2,    278.8,2,    10.21,2,    16.92,2,     0.02,2,     1.17,2
     06GA226_2,  AR19,    21,  1,     15,    D15,2,19930709,1735, 42.5467, -46.8050, 4268,   1594.0,   3.4790,  34.9005,2,  34.8992,2,    279.5,2,    10.48,2,    16.83,2,     0.03,2,     1.17,2
     06GA226_2,  AR19,    21,  1,     14,    D14,2,19930709,1735, 42.5467, -46.8050, 4268,   1794.9,   3.3630,  34.8929,2,  34.8921,2,    282.6,2,    10.56,2,    16.79,2,     0.03,2,     1.17,2
     06GA226_2,  AR19,    21,  1,     13,    D13,2,19930709,1735, 42.5467, -46.8050, 4268,   1996.1,   3.2600,  34.8859,2,  34.8847,2,    284.7,2,    10.56,2,    16.63,2,     0.02,2,     1.17,2
     06GA226_2,  AR19,    21,  1,     12,    D12,2,19930709,1735, 42.5467, -46.8050, 4268,   2195.9,   3.2570,  34.8950,2,  34.8951,2,    282.5,2,    10.94,2,    16.57,2,     0.03,2,     1.17,2
     06GA226_2,  AR19,    21,  1,     11,    D11,2,19930709,1735, 42.5467, -46.8050, 4268,   2396.4,   3.2750,  34.9168,2,  34.9171,2,    276.6,2,    12.09,2,    16.66,2,     0.03,2,     1.17,2
     06GA226_2,  AR19,    21,  1,     10,    D10,2,19930709,1735, 42.5467, -46.8050, 4268,   2598.6,   3.2220,  34.9290,2,  34.9286,2,    275.0,2,    12.78,2,    16.68,2,     0.03,2,     1.17,2
     06GA226_2,  AR19,    21,  1,     09,    D09,2,19930709,1735, 42.5467, -46.8050, 4268,   2796.6,   3.0990,  34.9306,2,  34.9301,2,    274.7,2,    13.36,2,    16.55,2,     0.03,2,     1.17,2
     06GA226_2,  AR19,    21,  1,     08,    D08,2,19930709,1735, 42.5467, -46.8050, 4268,   2991.4,   2.9890,  34.9293,2,  34.9296,2,    275.3,2,    13.79,2,    16.46,2,     0.02,2,     1.17,2
     06GA226_2,  AR19,    21,  1,     06,    D06,2,19930709,1735, 42.5467, -46.8050, 4268,   3397.9,   2.6670,  34.9222,2,  34.9209,2,    278.1,2,    15.63,2,    16.54,2,     0.02,2,     1.17,2
     06GA226_2,  AR19,    21,  1,     05,    D05,2,19930709,1735, 42.5467, -46.8050, 4268,   3604.0,   2.4830,  34.9140,2,  34.9133,2,    277.6,2,    17.05,2,    16.54,2,     0.02,2,     1.17,2
     06GA226_2,  AR19,    21,  1,     04,    D04,2,19930709,1735, 42.5467, -46.8050, 4268,   3798.3,   2.4010,  34.9094,2,  34.9088,2,    277.7,2,    18.82,2,    16.69,2,     0.02,2,     1.17,2
     06GA226_2,  AR19,    21,  1,     03,    D03,2,19930709,1735, 42.5467, -46.8050, 4268,   3999.7,   2.2940,  34.9038,2,  34.9032,2,    278.2,2,    18.46,2,    16.46,2,     0.02,2,     1.17,2
     06GA226_2,  AR19,    21,  1,     02,    D02,2,19930709,1735, 42.5467, -46.8050, 4268,   4150.6,   2.2180,  34.8991,2,  34.8986,2,    277.5,2,    19.86,2,    16.58,2,     0.02,2,     1.17,2
     06GA226_2,  AR19,    21,  1,     01,    D01,3,19930709,1735, 42.5467, -46.8050, 4268,   4321.4,   2.1950,  34.8984,2,  34.8989,2,   -999.0,9,  -999.00,9,  -999.00,9,  -999.00,9,  -999.00,9
     06GA226_2,  AR19,    22,  1,     24,    D24,2,19930710,0001, 42.3733, -46.2933, 4640,     96.2,  17.8580,  36.4923,2,  36.4876,2,    210.5,2,     1.09,2,     3.46,2,     0.03,2,     0.19,2
     06GA226_2,  AR19,    22,  1,     23,    D23,2,19930710,0001, 42.3733, -46.2933, 4640,    294.3,  15.5050,  36.1097,2,  36.0627,3,    201.0,2,     2.85,2,     8.25,2,     0.02,2,     0.49,2
     06GA226_2,  AR19,    22,  1,     22,    D22,2,19930710,0001, 42.3733, -46.2933, 4640,    493.4,  12.5810,  35.6525,2,  35.6481,2,    200.8,2,     5.00,2,    12.57,2,     0.01,2,     0.78,2
     06GA226_2,  AR19,    22,  1,     21,    D21,3,19930710,0001, 42.3733, -46.2933, 4640,    693.7,   8.7750,  35.2057,2,-999.0000,9,   -999.0,9,    10.66,2,    19.71,2,     0.02,2,     1.36,2
     06GA226_2,  AR19,    22,  1,     20,    D20,2,19930710,0001, 42.3733, -46.2933, 4640,    913.1,   5.6320,  35.0103,2,  35.0071,2,    217.3,2,    12.19,2,    19.75,2,     0.01,2,     1.37,2
     06GA226_2,  AR19,    22,  1,     19,    D19,2,19930710,0001, 42.3733, -46.2933, 4640,    990.6,   5.6540,  35.0795,2,  35.0770,2,    224.5,2,    11.71,2,    19.12,2,     0.01,2,     1.36,2
     06GA226_2,  AR19,    22,  1,     18,    D18,2,19930710,0001, 42.3733, -46.2933, 4640,   1193.4,   4.6960,  35.0107,2,  35.0109,2,    248.0,2,    11.14,2,    18.23,2,     0.03,2,     1.26,2
     06GA226_2,  AR19,    22,  1,     17,    D17,2,19930710,0001, 42.3733, -46.2933, 4640,   1394.7,   4.2460,  34.9813,2,  34.9807,2,    260.4,2,    10.90,2,    17.66,2,     0.03,2,     1.18,2
     06GA226_2,  AR19,    22,  1,     16,    D16,2,19930710,0001, 42.3733, -46.2933, 4640,   1594.1,   3.9380,  34.9585,2,  34.9601,2,    266.9,2,    11.06,2,    17.44,2,     0.01,2,     1.17,2
     06GA226_2,  AR19,    22,  1,     15,    D15,2,19930710,0001, 42.3733, -46.2933, 4640,   1834.1,   3.6190,  34.9251,2,  34.9245,2,    273.7,2,    11.10,2,    17.07,2,     0.02,2,     1.17,2
     06GA226_2,  AR19,    22,  1,     14,    D14,2,19930710,0001, 42.3733, -46.2933, 4640,   1996.7,   3.5140,  34.9202,2,  34.9212,2,    275.0,2,    11.33,2,    17.11,2,     0.01,2,     1.17,2
     06GA226_2,  AR19,    22,  1,     13,    D13,2,19930710,0001, 42.3733, -46.2933, 4640,   2226.6,   3.2960,  34.8984,2,  34.8982,2,    281.6,2,    10.99,2,    16.79,2,     0.01,2,     1.17,2
     06GA226_2,  AR19,    22,  1,     12,    D12,2,19930710,0001, 42.3733, -46.2933, 4640,   2396.9,   3.4610,  34.9490,2,  34.9507,2,    268.8,2,    13.52,2,    17.25,2,     0.03,2,     1.18,2
     06GA226_2,  AR19,    22,  1,     11,    D11,2,19930710,0001, 42.3733, -46.2933, 4640,   2595.0,   3.2960,  34.9409,2,  34.9395,2,    270.4,2,    13.68,2,    17.03,2,     0.03,2,     1.17,2
     06GA226_2,  AR19,    22,  1,     10,    D10,2,19930710,0001, 42.3733, -46.2933, 4640,   2797.7,   3.1530,  34.9385,2,  34.9383,2,    271.4,2,    14.42,2,    16.98,2,     0.02,2,     1.18,2
     06GA226_2,  AR19,    22,  1,     09,    D09,2,19930710,0001, 42.3733, -46.2933, 4640,   2997.4,   3.0090,  34.9338,2,  34.9325,2,    272.3,2,    14.86,2,    16.78,2,     0.02,2,     1.17,2
     06GA226_2,  AR19,    22,  1,     08,    D08,2,19930710,0001, 42.3733, -46.2933, 4640,   3198.7,   2.8660,  34.9285,2,  34.9295,2,    273.5,2,    15.51,2,    16.71,2,     0.02,2,     1.17,2
     06GA226_2,  AR19,    22,  1,     07,    D07,3,19930710,0001, 42.3733, -46.2933, 4640,   3400.6,   2.6910,  34.9241,2,-999.0000,9,   -999.0,9,    16.47,2,    16.96,2,     0.04,2,     1.18,2
     06GA226_2,  AR19,    22,  1,     06,    D06,2,19930710,0001, 42.3733, -46.2933, 4640,   3599.6,   2.5530,  34.9171,2,  34.9151,2,    273.3,2,    17.74,2,    16.75,2,     0.03,2,     1.17,2
     06GA226_2,  AR19,    22,  1,     05,    D05,2,19930710,0001, 42.3733, -46.2933, 4640,   3798.5,   2.4260,  34.9104,2,  34.9093,2,    274.6,2,    19.32,2,    16.86,2,     0.03,2,     1.17,2
     06GA226_2,  AR19,    22,  1,     04,    D04,2,19930710,0001, 42.3733, -46.2933, 4640,   4000.4,   2.3530,  34.9054,2,  34.9054,2,    275.8,2,    19.83,2,    16.79,2,     0.03,2,     1.17,2
     06GA226_2,  AR19,    22,  1,     03,    D03,2,19930710,0001, 42.3733, -46.2933, 4640,   4198.6,   2.3180,  34.9026,2,  34.9017,2,    274.3,2,    21.38,2,    17.02,2,     0.03,2,     1.18,2
     06GA226_2,  AR19,    22,  1,     02,    D02,2,19930710,0001, 42.3733, -46.2933, 4640,   4400.4,   2.2930,  34.9002,2,  34.8987,2,    274.9,2,    21.62,2,    16.99,2,     0.03,2,     1.18,2
     06GA226_2,  AR19,    22,  1,     01,    D01,2,19930710,0001, 42.3733, -46.2933, 4640,   4721.0,   2.2760,  34.8955,2,-999.0000,9,    275.2,2,    20.90,2,    16.84,2,     0.04,2,     1.17,2
     06GA226_2,  AR19,    23,  1,     24,    D24,2,19930710,0722, 42.1867, -45.6317, 4708,      7.3,  20.6300,  36.4016,2,  36.3983,2,    223.8,2,     0.12,2,     0.17,2,     0.04,2,     0.00,2
     06GA226_2,  AR19,    23,  1,     23,    D23,2,19930710,0722, 42.1867, -45.6317, 4708,     96.6,  18.0780,  36.5370,2,  36.5319,2,    213.8,2,     0.94,2,     2.96,2,     0.05,2,     0.11,2
     06GA226_2,  AR19,    23,  1,     22,    D22,2,19930710,0722, 42.1867, -45.6317, 4708,    196.1,  16.6480,  36.2929,2,  36.2760,3,    207.4,2,     1.69,2,     5.61,2,     0.04,2,     0.29,2
     06GA226_2,  AR19,    23,  1,     21,    D21,2,19930710,0722, 42.1867, -45.6317, 4708,    294.6,  16.1040,  36.2403,2,  36.2237,3,    214.3,2,     1.96,2,     5.77,2,     0.05,2,     0.29,2
     06GA226_2,  AR19,    23,  1,     20,    D20,2,19930710,0722, 42.1867, -45.6317, 4708,    495.5,  13.9730,  35.8737,2,  35.8773,2,    217.1,2,     3.17,2,     8.76,2,     0.04,2,     0.49,2
     06GA226_2,  AR19,    23,  1,     19,    D19,2,19930710,0722, 42.1867, -45.6317, 4708,    797.5,   8.6240,  35.1285,2,  35.1230,2,    181.2,2,    10.79,2,    19.63,2,     0.05,2,     1.28,2
     06GA226_2,  AR19,    23,  1,     18,    D18,2,19930710,0722, 42.1867, -45.6317, 4708,    992.7,   6.2320,  35.0636,2,  35.0607,2,    207.4,2,    12.19,2,    19.96,2,     0.06,2,     1.28,2
     06GA226_2,  AR19,    23,  1,     17,    D17,2,19930710,0722, 42.1867, -45.6317, 4708,   1193.1,   5.2990,  35.0723,2,  35.0723,2,    237.2,2,    11.25,2,    18.45,2,     0.06,2,     1.18,2
     06GA226_2,  AR19,    23,  1,     16,    D16,2,19930710,0722, 42.1867, -45.6317, 4708,   1494.8,   4.4060,  35.0018,2,  35.0039,2,    256.9,2,    11.01,2,    17.93,2,     0.05,2,     1.17,2
     06GA226_2,  AR19,    23,  1,     15,    D15,2,19930710,0722, 42.1867, -45.6317, 4708,   1795.4,   3.8200,  34.9392,2,  34.9390,2,    270.2,2,    10.96,2,    17.24,2,     0.05,2,     1.17,2
     06GA226_2,  AR19,    23,  1,     14,    D14,2,19930710,0722, 42.1867, -45.6317, 4708,   1996.2,   3.6520,  34.9332,2,  34.9342,2,    273.0,2,    11.40,2,    17.04,2,     0.04,2,     1.17,2
     06GA226_2,  AR19,    23,  1,     13,    D13,2,19930710,0722, 42.1867, -45.6317, 4708,   2246.5,   3.4050,  34.9115,2,  34.9111,2,    280.2,2,    11.36,2,    16.92,2,     0.08,2,     1.17,2
     06GA226_2,  AR19,    23,  1,     12,    D12,2,19930710,0722, 42.1867, -45.6317, 4708,   2497.3,   3.4290,  34.9476,2,  34.9480,2,    270.1,2,    13.60,2,    17.13,2,     0.06,2,     1.17,2
     06GA226_2,  AR19,    23,  1,     11,    D11,2,19930710,0722, 42.1867, -45.6317, 4708,   2747.4,   3.2430,  34.9447,2,  34.9442,2,    271.3,2,    14.61,2,    16.93,2,     0.05,2,     1.17,2
     06GA226_2,  AR19,    23,  1,     10,    D10,2,19930710,0722, 42.1867, -45.6317, 4708,   2997.0,   3.0440,  34.9380,2,  34.9375,2,    275.0,2,    15.60,2,    16.81,2,     0.04,2,     1.17,2
     06GA226_2,  AR19,    23,  1,     09,    D09,2,19930710,0722, 42.1867, -45.6317, 4708,   3198.8,   2.8680,  34.9312,2,  34.9311,2,    275.3,2,    16.59,2,    16.66,2,     0.05,2,     1.08,2
     06GA226_2,  AR19,    23,  1,     08,    D08,2,19930710,0722, 42.1867, -45.6317, 4708,   3398.3,   2.7080,  34.9268,2,  34.9305,2,    276.1,2,    18.60,2,    16.92,2,     0.05,2,     1.17,2
     06GA226_2,  AR19,    23,  1,     06,    D06,2,19930710,0722, 42.1867, -45.6317, 4708,   3799.4,   2.4150,  34.9103,2,  34.9092,2,    284.5,4,    20.92,2,    16.83,2,     0.05,2,     1.17,2
     06GA226_2,  AR19,    23,  1,     05,    D05,2,19930710,0722, 42.1867, -45.6317, 4708,   4001.0,   2.3350,  34.9050,2,  34.9056,2,    275.3,2,    22.21,2,    16.81,2,     0.07,2,     1.17,2
     06GA226_2,  AR19,    23,  1,     04,    D04,2,19930710,0722, 42.1867, -45.6317, 4708,   4199.5,   2.2980,  34.9014,2,  34.9018,2,    274.1,2,    23.05,2,    16.96,2,     0.05,2,     1.17,2
     06GA226_2,  AR19,    23,  1,     03,    D03,2,19930710,0722, 42.1867, -45.6317, 4708,   4399.5,   2.2870,  34.8992,2,  34.8993,2,    276.3,2,    23.24,2,    16.97,2,     0.05,2,     1.17,2
     06GA226_2,  AR19,    23,  1,     02,    D02,2,19930710,0722, 42.1867, -45.6317, 4708,   4600.0,   2.2740,  34.8950,2,  34.8944,2,    273.0,2,    26.65,2,    17.40,2,     0.05,2,     1.18,2
     06GA226_2,  AR19,    23,  1,     01,    D01,2,19930710,0722, 42.1867, -45.6317, 4708,   4796.5,   2.2700,  34.8919,2,  34.8948,2,    271.7,2,    26.47,2,    17.52,2,     0.05,2,     1.18,2
     06GA226_2,  AR19,    24,  1,     24,    D24,2,19930710,1319, 41.9950, -45.0067, 4807,      6.4,  20.5100,  36.3483,2,  36.3450,2,    225.2,2,     0.02,2,     0.09,2,     0.02,2,     0.00,2
     06GA226_2,  AR19,    24,  1,     23,    D23,2,19930710,1319, 41.9950, -45.0067, 4807,     47.5,  18.2700,  36.3820,2,  36.3761,2,    235.5,2,     0.03,2,     0.06,2,     0.04,2,     0.00,2
     06GA226_2,  AR19,    24,  1,     22,    D22,2,19930710,1319, 41.9950, -45.0067, 4807,     95.9,  17.3410,  36.3490,2,  36.3459,2,    222.6,2,     0.66,2,     2.44,2,     0.06,2,     0.01,2
     06GA226_2,  AR19,    24,  1,     21,    D21,2,19930710,1319, 41.9950, -45.0067, 4807,    146.2,  16.8630,  36.3319,2,  36.3284,2,    220.3,2,     1.03,2,     3.52,2,     0.05,2,     0.19,2
     06GA226_2,  AR19,    24,  1,     20,    D20,2,19930710,1319, 41.9950, -45.0067, 4807,    195.6,  16.4150,  36.2818,2,  36.2773,2,    218.6,2,     1.57,2,     4.75,2,     0.05,2,     0.20,2
     06GA226_2,  AR19,    24,  1,     19,    D19,2,19930710,1319, 41.9950, -45.0067, 4807,    296.5,  16.2070,  36.2750,2,  36.2736,2,    222.2,2,     1.78,2,     5.06,2,     0.04,2,     0.20,2
     06GA226_2,  AR19,    24,  1,     18,    D18,2,19930710,1319, 41.9950, -45.0067, 4807,    394.3,  15.4340,  36.1180,2,  36.1161,2,    211.4,2,     2.61,2,     7.06,2,     0.06,2,     0.39,2
     06GA226_2,  AR19,    24,  1,     17,    D17,2,19930710,1319, 41.9950, -45.0067, 4807,    482.3,  13.9540,  35.8306,2,  35.8090,3,    195.5,2,     4.30,2,    10.60,2,     0.04,2,     0.59,2
     06GA226_2,  AR19,    24,  1,     16,    D16,2,19930710,1319, 41.9950, -45.0067, 4807,    594.9,  12.1660,  35.5478,2,  35.5448,2,    179.2,2,     7.04,2,    14.95,2,     0.04,2,     0.97,2
     06GA226_2,  AR19,    24,  1,     15,    D15,2,19930710,1319, 41.9950, -45.0067, 4807,    695.1,  10.5550,  35.3503,2,  35.3496,2,    168.1,2,     9.55,2,    18.17,2,     0.04,2,     1.27,2
     06GA226_2,  AR19,    24,  1,     14,    D14,2,19930710,1319, 41.9950, -45.0067, 4807,    794.4,   8.8490,  35.1429,2,  35.1420,2,    192.6,2,     9.63,2,    17.31,2,     0.03,2,     1.18,2
     06GA226_2,  AR19,    24,  1,     13,    D13,2,19930710,1319, 41.9950, -45.0067, 4807,    894.3,   8.2670,  35.2065,2,  35.1899,3,    184.2,2,    11.37,2,    19.21,2,     0.05,2,     1.36,2
     06GA226_2,  AR19,    24,  1,     12,    D12,2,19930710,1319, 41.9950, -45.0067, 4807,    994.8,   5.7530,  34.9203,2,  34.9309,3,    212.0,2,    12.02,2,    18.52,2,     0.05,2,     1.36,2
     06GA226_2,  AR19,    24,  1,     11,    D11,2,19930710,1319, 41.9950, -45.0067, 4807,   1094.9,   5.0320,  34.9077,2,  34.9094,2,    230.8,2,    11.70,2,    17.85,2,     0.04,2,     1.27,2
     06GA226_2,  AR19,    24,  1,     10,    D10,2,19930710,1319, 41.9950, -45.0067, 4807,   1194.3,   4.8030,  34.9645,2,  34.9643,2,    243.1,2,    11.34,2,    17.56,2,     0.04,2,     1.26,2
     06GA226_2,  AR19,    24,  1,     09,    D09,2,19930710,1319, 41.9950, -45.0067, 4807,   1293.8,   4.4700,  34.9614,2,  34.9610,2,    254.0,2,    10.95,2,    17.17,2,     0.04,2,     1.18,2
     06GA226_2,  AR19,    24,  1,     08,    D08,2,19930710,1319, 41.9950, -45.0067, 4807,   1394.3,   4.3260,  34.9593,2,  34.9587,2,    259.0,2,    10.89,2,    17.14,2,     0.05,2,     1.18,2
     06GA226_2,  AR19,    24,  1,     07,    D07,2,19930710,1319, 41.9950, -45.0067, 4807,   1493.9,   4.1120,  34.9453,2,  34.9417,2,    265.2,2,    10.68,2,    16.94,2,     0.04,2,     1.17,2
     06GA226_2,  AR19,    24,  1,     06,    D06,2,19930710,1319, 41.9950, -45.0067, 4807,   1594.6,   4.0390,  34.9504,2,  34.9491,2,    271.2,2,    10.94,2,    16.93,2,     0.03,2,     1.18,2
     06GA226_2,  AR19,    24,  1,     05,    D05,2,19930710,1319, 41.9950, -45.0067, 4807,   1693.4,   3.8540,  34.9353,2,-999.0000,9,   -999.0,9,    10.94,2,    16.79,2,     0.05,2,     1.17,2
     06GA226_2,  AR19,    24,  1,     04,    D04,2,19930710,1319, 41.9950, -45.0067, 4807,   1794.3,   3.7510,  34.9267,2,  34.9261,2,    278.3,2,    10.99,2,    16.75,2,     0.04,2,     1.17,2
     06GA226_2,  AR19,    24,  1,     03,    D03,2,19930710,1319, 41.9950, -45.0067, 4807,   1893.8,   3.6160,  34.9139,2,  34.9126,2,    277.3,2,    10.93,2,    16.58,2,     0.03,2,     1.17,2
     06GA226_2,  AR19,    24,  1,     02,    D02,2,19930710,1319, 41.9950, -45.0067, 4807,   1995.2,   3.5050,  34.9051,2,  34.9040,2,    279.3,2,    10.93,2,    16.47,2,     0.03,2,     1.17,2
     06GA226_2,  AR19,    24,  1,     01,    D01,2,19930710,1319, 41.9950, -45.0067, 4807,   2047.8,   3.5120,  34.9109,2,  34.9094,2,    277.1,3,    11.24,3,    16.70,3,     0.06,3,     1.36,3