BOTTLE,20010917WHPSIOKJU
EXPOCODE,SECT_ID,STNNBR,CASTNO,SAMPNO,BTLNBR,BTLNBR_FLAG_W,DATE,TIME,LATITUDE,LONGITUDE,DEPTH,CTDPRS,CTDTMP,CTDSAL,CTDSAL_FLAG_W,SALNTY,SALNTY_FLAG_W,OXYGEN,OXYGEN_FLAG_W,SILCAT,SILCAT_FLAG_W,NITRAT,NITRAT_FLAG_W,NITRIT,NITRIT_FLAG_W,PHSPHT,PHSPHT_FLAG_W
,,,,,ID,,,,,,,DBAR,ITS-90,PSS-78,,PSS-78,,UMOL/KG,,UMOL/KG,,UMOL/KG,,UMOL/KG,,UMOL/KG,
     06GA226_2,  AR19,    30,  3,     23,    D23,2,19930712,1622, 43.1350, -41.0683, 4800,   1494.9,   4.1230,  34.9675,2,  34.9675,2,   -999.0,9,  -999.00,9,  -999.00,9,  -999.00,9,  -999.00,9
     06GA226_2,  AR19,    30,  3,     22,    D22,2,19930712,1622, 43.1350, -41.0683, 4800,   1544.1,   4.0670,  34.9639,2,  34.9652,2,   -999.0,9,  -999.00,9,  -999.00,9,  -999.00,9,  -999.00,9
     06GA226_2,  AR19,    30,  3,     21,    D21,2,19930712,1622, 43.1350, -41.0683, 4800,   1593.2,   3.9740,  34.9547,2,  34.9557,2,   -999.0,9,  -999.00,9,  -999.00,9,  -999.00,9,  -999.00,9
     06GA226_2,  AR19,    30,  3,     20,    N01,2,19930712,1622, 43.1350, -41.0683, 4800,   1646.1,   3.7890,  34.9289,2,  34.9295,2,   -999.0,9,  -999.00,9,  -999.00,9,  -999.00,9,  -999.00,9
     06GA226_2,  AR19,    30,  3,     19,    D19,2,19930712,1622, 43.1350, -41.0683, 4800,   1697.6,   3.8030,  34.9367,2,  34.9381,2,   -999.0,9,  -999.00,9,  -999.00,9,  -999.00,9,  -999.00,9
     06GA226_2,  AR19,    30,  3,     18,    D18,2,19930712,1622, 43.1350, -41.0683, 4800,   1722.4,   3.7810,  34.9343,2,  34.9342,2,   -999.0,9,  -999.00,9,  -999.00,9,  -999.00,9,  -999.00,9
     06GA226_2,  AR19,    30,  3,     17,    D17,2,19930712,1622, 43.1350, -41.0683, 4800,   1797.1,   3.6690,  34.9238,2,  34.9246,2,   -999.0,9,  -999.00,9,  -999.00,9,  -999.00,9,  -999.00,9
     06GA226_2,  AR19,    30,  3,     16,    D16,2,19930712,1622, 43.1350, -41.0683, 4800,   1819.2,   3.6490,  34.9211,2,  34.9235,2,   -999.0,9,  -999.00,9,  -999.00,9,  -999.00,9,  -999.00,9
     06GA226_2,  AR19,    30,  3,     15,    D15,2,19930712,1622, 43.1350, -41.0683, 4800,   1899.9,   3.5460,  34.9111,2,  34.9129,2,   -999.0,9,  -999.00,9,  -999.00,9,  -999.00,9,  -999.00,9
     06GA226_2,  AR19,    30,  3,     14,    D14,2,19930712,1622, 43.1350, -41.0683, 4800,   1950.0,   3.4970,  34.9063,2,  34.9076,2,   -999.0,9,  -999.00,9,  -999.00,9,  -999.00,9,  -999.00,9
     06GA226_2,  AR19,    30,  3,     13,    D13,2,19930712,1622, 43.1350, -41.0683, 4800,   2003.2,   3.4400,  34.9025,2,  34.8997,2,   -999.0,9,  -999.00,9,  -999.00,9,  -999.00,9,  -999.00,9
     06GA226_2,  AR19,    30,  3,     12,    D12,2,19930712,1622, 43.1350, -41.0683, 4800,   2094.9,   3.4020,  34.9021,2,  34.9024,2,   -999.0,9,  -999.00,9,  -999.00,9,  -999.00,9,  -999.00,9
     06GA226_2,  AR19,    30,  3,     11,    D11,2,19930712,1622, 43.1350, -41.0683, 4800,   2107.4,   3.4010,  34.9024,2,  34.9025,2,   -999.0,9,  -999.00,9,  -999.00,9,  -999.00,9,  -999.00,9
     06GA226_2,  AR19,    30,  3,     10,    D10,2,19930712,1622, 43.1350, -41.0683, 4800,   2116.4,   3.4040,  34.9025,2,  34.9012,2,   -999.0,9,  -999.00,9,  -999.00,9,  -999.00,9,  -999.00,9
     06GA226_2,  AR19,    30,  3,     09,    D09,2,19930712,1622, 43.1350, -41.0683, 4800,   2127.6,   3.4010,  34.9029,2,  34.9027,2,   -999.0,9,  -999.00,9,  -999.00,9,  -999.00,9,  -999.00,9
     06GA226_2,  AR19,    30,  3,     08,    D08,2,19930712,1622, 43.1350, -41.0683, 4800,   2136.5,   3.4020,  34.9026,2,  34.9042,2,   -999.0,9,  -999.00,9,  -999.00,9,  -999.00,9,  -999.00,9
     06GA226_2,  AR19,    30,  3,     07,    N02,2,19930712,1622, 43.1350, -41.0683, 4800,   2147.4,   3.4020,  34.9029,2,  34.9024,2,   -999.0,9,  -999.00,9,  -999.00,9,  -999.00,9,  -999.00,9
     06GA226_2,  AR19,    30,  3,     06,    D06,2,19930712,1622, 43.1350, -41.0683, 4800,   2156.2,   3.4000,  34.9029,2,  34.9029,2,   -999.0,9,  -999.00,9,  -999.00,9,  -999.00,9,  -999.00,9
     06GA226_2,  AR19,    30,  3,     05,    D05,2,19930712,1622, 43.1350, -41.0683, 4800,   2166.3,   3.3970,  34.9042,2,  34.9033,2,   -999.0,9,  -999.00,9,  -999.00,9,  -999.00,9,  -999.00,9
     06GA226_2,  AR19,    30,  3,     04,    D04,2,19930712,1622, 43.1350, -41.0683, 4800,   2172.6,   3.3960,  34.9047,2,  34.9038,2,   -999.0,9,  -999.00,9,  -999.00,9,  -999.00,9,  -999.00,9
     06GA226_2,  AR19,    30,  3,     03,    D03,2,19930712,1622, 43.1350, -41.0683, 4800,   2186.8,   3.3980,  34.9056,2,  34.9050,2,   -999.0,9,  -999.00,9,  -999.00,9,  -999.00,9,  -999.00,9
     06GA226_2,  AR19,    30,  3,     02,    D02,2,19930712,1622, 43.1350, -41.0683, 4800,   2396.1,   3.3730,  34.9187,2,  34.9179,2,   -999.0,9,  -999.00,9,  -999.00,9,  -999.00,9,  -999.00,9
     06GA226_2,  AR19,    31,  1,     24,    D24,2,19930712,2144, 43.2833, -40.5467, 4797,      4.7,  19.8160,  36.1823,2,  36.1783,2,    226.9,2,     0.07,2,     0.08,2,     0.02,2,     0.00,2
     06GA226_2,  AR19,    31,  1,     23,    D23,2,19930712,2144, 43.2833, -40.5467, 4797,     96.4,  16.8470,  36.3231,2,  36.3165,2,    209.8,2,     1.58,2,     4.76,2,     0.04,2,     0.20,2
     06GA226_2,  AR19,    31,  1,     22,    D22,2,19930712,2144, 43.2833, -40.5467, 4797,    298.1,  14.9580,  36.0195,2,  36.0160,2,    211.7,2,     3.10,2,     8.34,2,     0.03,2,     0.49,2
     06GA226_2,  AR19,    31,  1,     21,    D21,2,19930712,2144, 43.2833, -40.5467, 4797,    497.7,  12.3500,  35.6153,2,  35.6175,2,    191.8,2,     5.72,2,    13.46,2,     0.03,2,     0.79,2
     06GA226_2,  AR19,    31,  1,     20,    N01,2,19930712,2144, 43.2833, -40.5467, 4797,    745.4,   7.9600,  35.0781,2,  35.0770,2,    180.4,2,    11.86,2,    20.08,2,     0.03,2,     1.37,2
     06GA226_2,  AR19,    31,  1,     19,    D19,2,19930712,2144, 43.2833, -40.5467, 4797,    994.2,   5.6070,  35.0346,2,  35.0363,2,    221.4,2,    11.91,2,    18.92,2,     0.02,2,     1.27,2
     06GA226_2,  AR19,    31,  1,     18,    D18,2,19930712,2144, 43.2833, -40.5467, 4797,   1195.3,   4.6500,  34.9887,2,  34.9939,2,    247.5,2,    11.17,2,    18.00,2,     0.03,2,     1.18,2
     06GA226_2,  AR19,    31,  1,     17,    D17,2,19930712,2144, 43.2833, -40.5467, 4797,   1396.1,   4.2350,  34.9672,2,  34.9674,2,    259.4,2,    10.98,2,    17.40,2,     0.03,2,     1.17,2
     06GA226_2,  AR19,    31,  1,     16,    D16,2,19930712,2144, 43.2833, -40.5467, 4797,   1599.4,   3.8180,  34.9258,2,  34.9286,2,    270.0,2,    10.74,2,    17.02,2,     0.02,2,     1.17,2
     06GA226_2,  AR19,    31,  1,     14,    D14,2,19930712,2144, 43.2833, -40.5467, 4797,   1995.1,   3.3460,  34.8798,2,  34.8792,2,    283.7,2,    10.32,2,    16.46,2,     0.03,2,     1.07,2
     06GA226_2,  AR19,    31,  1,     13,    D13,2,19930712,2144, 43.2833, -40.5467, 4797,   2195.1,   3.4820,  34.9186,2,  34.9206,2,    275.2,2,    11.69,2,    16.74,2,     0.03,2,     1.08,2
     06GA226_2,  AR19,    31,  1,     12,    D12,2,19930712,2144, 43.2833, -40.5467, 4797,   2397.1,   3.3520,  34.9151,2,  34.9159,2,    277.7,2,    12.03,2,    16.64,2,     0.04,2,     1.08,2
     06GA226_2,  AR19,    31,  1,     10,    D10,2,19930712,2144, 43.2833, -40.5467, 4797,   2794.3,   3.1990,  34.9314,2,  34.9334,2,    235.4,4,    13.52,2,    16.58,2,     0.05,2,     1.08,2
     06GA226_2,  AR19,    31,  1,     09,    D09,2,19930712,2144, 43.2833, -40.5467, 4797,   2996.9,   3.0740,  34.9344,2,  34.9333,2,    272.4,2,    15.05,2,    16.63,2,     0.03,2,     1.08,2
     06GA226_2,  AR19,    31,  1,     08,    D08,2,19930712,2144, 43.2833, -40.5467, 4797,   3196.7,   2.9230,  34.9288,2,  34.9315,2,    273.1,2,    15.52,2,    16.79,2,     0.04,2,     1.08,2
     06GA226_2,  AR19,    31,  1,     07,    N02,2,19930712,2144, 43.2833, -40.5467, 4797,   3398.3,   2.7460,  34.9233,2,  34.9240,2,    273.4,2,    17.08,2,    16.85,2,     0.04,2,     1.17,2
     06GA226_2,  AR19,    31,  1,     06,    D06,2,19930712,2144, 43.2833, -40.5467, 4797,   3598.0,   2.5960,  34.9185,2,  34.9180,2,    273.1,2,    19.73,2,    17.15,2,     0.03,2,     1.18,2
     06GA226_2,  AR19,    31,  1,     05,    D05,2,19930712,2144, 43.2833, -40.5467, 4797,   3798.7,   2.4690,  34.9112,2,  34.9142,2,    273.3,2,    20.84,2,    17.11,2,     0.05,2,     1.18,2
     06GA226_2,  AR19,    31,  1,     04,    D04,2,19930712,2144, 43.2833, -40.5467, 4797,   4000.2,   2.4000,  34.9055,2,  34.9060,2,    273.8,2,    20.90,2,    16.89,2,     0.04,2,     1.17,2
     06GA226_2,  AR19,    31,  1,     03,    D03,2,19930712,2144, 43.2833, -40.5467, 4797,   4249.2,   2.3050,  34.8992,2,  34.9011,2,    273.5,2,    23.39,2,    16.98,2,     0.04,2,     1.18,2
     06GA226_2,  AR19,    31,  1,     02,    D02,2,19930712,2144, 43.2833, -40.5467, 4797,   4500.4,   2.3000,  34.8972,2,  34.8981,2,    273.8,2,    23.28,2,    16.99,2,     0.05,2,     1.18,2
     06GA226_2,  AR19,    31,  1,     01,    D01,2,19930712,2144, 43.2833, -40.5467, 4797,   4882.4,   2.2860,  34.8923,2,  34.8949,2,    279.7,2,    22.52,2,    16.85,2,     0.05,2,     1.17,2
     06GA226_2,  AR19,    32,  1,     24,    D24,2,19930713,0352, 43.4633, -39.9183, 4806,      8.5,  19.7040,  36.3235,2,  36.3194,2,    227.8,2,     0.14,2,     0.10,2,     0.02,2,     0.00,2
     06GA226_2,  AR19,    32,  1,     23,    D23,2,19930713,0352, 43.4633, -39.9183, 4806,     96.2,  17.4050,  36.4194,2,  36.4106,2,    214.4,2,     1.11,2,     3.72,2,     0.05,2,     0.19,2
     06GA226_2,  AR19,    32,  1,     22,    D22,2,19930713,0352, 43.4633, -39.9183, 4806,    195.5,  16.3560,  36.2486,2,  36.2419,2,    211.5,2,     1.78,2,     5.69,2,     0.03,2,     0.29,2
     06GA226_2,  AR19,    32,  1,     21,    D21,2,19930713,0352, 43.4633, -39.9183, 4806,    296.3,  15.5330,  36.1336,2,  36.1264,2,    211.8,2,     2.35,2,     6.98,2,     0.04,2,     0.39,2
     06GA226_2,  AR19,    32,  1,     20,    N01,2,19930713,0352, 43.4633, -39.9183, 4806,    496.7,  11.9700,  35.5292,2,  35.5239,2,   -999.0,9,     6.46,2,    14.61,2,     0.03,2,     0.89,2
     06GA226_2,  AR19,    32,  1,     19,    D19,2,19930713,0352, 43.4633, -39.9183, 4806,    696.7,   8.5210,  35.1111,2,-999.0000,9,    183.1,2,     9.33,2,    17.14,2,     0.03,2,     1.17,2
     06GA226_2,  AR19,    32,  1,     18,    D18,2,19930713,0352, 43.4633, -39.9183, 4806,    893.7,   5.7290,  34.9566,2,  34.9534,2,   -999.0,9,    11.87,2,    19.25,2,     0.04,2,     1.36,2
     06GA226_2,  AR19,    32,  1,     17,    D17,2,19930713,0352, 43.4633, -39.9183, 4806,   1095.0,   5.0400,  35.0227,2,  35.0230,2,    238.2,2,    11.35,2,    18.42,2,     0.03,2,     1.26,2
     06GA226_2,  AR19,    32,  1,     16,    D16,2,19930713,0352, 43.4633, -39.9183, 4806,   1295.6,   4.3740,  34.9760,2,  34.9769,2,    256.4,2,    10.84,2,    17.73,2,     0.03,2,     1.18,2
     06GA226_2,  AR19,    32,  1,     15,    D15,2,19930713,0352, 43.4633, -39.9183, 4806,   1495.3,   3.9260,  34.9388,2,  34.9394,2,    267.7,2,    10.76,2,    17.42,2,     0.03,2,     1.17,2
     06GA226_2,  AR19,    32,  1,     14,    D14,2,19930713,0352, 43.4633, -39.9183, 4806,   1745.1,   3.5790,  34.9095,2,  34.9097,2,    275.9,2,    10.67,2,    17.05,2,     0.03,2,     1.17,2
     06GA226_2,  AR19,    32,  1,     13,    D13,2,19930713,0352, 43.4633, -39.9183, 4806,   1995.9,   3.3970,  34.8979,2,  34.8975,2,    280.2,2,    10.79,2,    16.79,2,     0.03,2,     1.17,2
     06GA226_2,  AR19,    32,  1,     12,    D12,2,19930713,0352, 43.4633, -39.9183, 4806,   2248.0,   3.2780,  34.8914,2,  34.8916,2,    282.6,2,    10.81,2,    16.66,2,     0.04,2,     1.17,2
     06GA226_2,  AR19,    32,  1,     11,    D11,2,19930713,0352, 43.4633, -39.9183, 4806,   2497.1,   3.3230,  34.9244,2,  34.9244,2,    274.1,2,    12.39,2,    16.85,2,     0.04,2,  -999.00,9
     06GA226_2,  AR19,    32,  1,     10,    D10,2,19930713,0352, 43.4633, -39.9183, 4806,   2748.1,   3.1950,  34.9350,2,  34.9356,2,    272.0,2,    13.79,2,    16.83,2,     0.03,2,     1.17,2
     06GA226_2,  AR19,    32,  1,     09,    D09,2,19930713,0352, 43.4633, -39.9183, 4806,   2997.9,   3.0280,  34.9342,2,  34.9340,2,    271.7,2,    15.05,2,    16.91,2,     0.03,2,     1.17,2
     06GA226_2,  AR19,    32,  1,     08,    D08,2,19930713,0352, 43.4633, -39.9183, 4806,   3248.4,   2.8250,  34.9273,2,  34.9274,2,    273.0,2,    16.24,2,    16.79,2,     0.04,2,     1.17,2
     06GA226_2,  AR19,    32,  1,     07,    N02,2,19930713,0352, 43.4633, -39.9183, 4806,   3499.1,   2.5990,  34.9197,2,  34.9178,2,    273.5,2,    18.42,2,    16.87,2,     0.04,2,     1.17,2
     06GA226_2,  AR19,    32,  1,     06,    D06,2,19930713,0352, 43.4633, -39.9183, 4806,   3748.7,   2.4580,  34.9119,2,  34.9101,2,    274.5,2,    20.24,2,    17.02,2,     0.03,2,     1.18,2
     06GA226_2,  AR19,    32,  1,     05,    D05,2,19930713,0352, 43.4633, -39.9183, 4806,   3998.8,   2.3810,  34.9068,2,  34.9064,2,    272.5,2,    21.61,2,    17.15,2,     0.04,2,     1.18,2
     06GA226_2,  AR19,    32,  1,     04,    D04,2,19930713,0352, 43.4633, -39.9183, 4806,   4248.7,   2.3260,  34.9016,2,  34.9011,2,    273.3,2,    22.05,2,    17.11,2,     0.05,2,     1.18,2
     06GA226_2,  AR19,    32,  1,     03,    D03,2,19930713,0352, 43.4633, -39.9183, 4806,   4499.1,   2.3000,  34.8980,2,  34.8977,2,    272.3,2,    24.20,2,    17.40,2,     0.04,2,     1.26,2
     06GA226_2,  AR19,    32,  1,     02,    D02,3,19930713,0352, 43.4633, -39.9183, 4806,   4750.0,   2.2940,  34.8955,2,  34.8964,2,    275.4,2,  -999.00,9,  -999.00,9,  -999.00,9,  -999.00,9
     06GA226_2,  AR19,    32,  1,     01,    D01,2,19930713,0352, 43.4633, -39.9183, 4806,   4900.0,   2.2880,  34.8929,2,  34.8948,2,    273.5,2,    23.99,2,    17.26,2,     0.05,2,     1.18,2
     06GA226_2,  AR19,    33,  1,     24,    D24,2,19930713,1034, 43.6400, -39.3033, 4598,      6.0,  20.7140,  36.3547,2,  36.3502,2,    222.1,2,     0.10,2,     0.05,2,     0.01,2,     0.00,2
     06GA226_2,  AR19,    33,  1,     23,    D23,2,19930713,1034, 43.6400, -39.3033, 4598,     97.4,  17.9080,  36.3306,2,  36.3531,3,    196.3,2,     1.26,2,     4.07,2,     0.06,2,     0.19,2
     06GA226_2,  AR19,    33,  1,     22,    D22,2,19930713,1034, 43.6400, -39.3033, 4598,    294.4,  15.0660,  35.9791,2,  35.9787,2,    180.7,2,     3.81,2,    10.57,2,     0.03,2,     0.59,2
     06GA226_2,  AR19,    33,  1,     21,    D21,2,19930713,1034, 43.6400, -39.3033, 4598,    592.6,   9.7030,  35.2177,2,  35.2258,2,    164.5,2,    10.68,2,    19.71,2,     0.02,2,     1.37,2
     06GA226_2,  AR19,    33,  1,     20,    N01,2,19930713,1034, 43.6400, -39.3033, 4598,    893.1,   5.8960,  35.0224,2,  35.0210,2,    213.4,2,    12.14,2,    19.25,2,     0.02,2,     1.36,2
     06GA226_2,  AR19,    33,  1,     19,    D19,2,19930713,1034, 43.6400, -39.3033, 4598,   1194.9,   4.7310,  35.0223,2,  35.0209,2,    248.2,2,    11.28,2,    17.75,2,     0.02,2,     1.26,2
     06GA226_2,  AR19,    33,  1,     18,    D18,2,19930713,1034, 43.6400, -39.3033, 4598,   1595.3,   3.8470,  34.9365,2,  34.9366,2,    269.2,2,    11.13,2,    16.98,2,     0.03,2,     1.17,2
     06GA226_2,  AR19,    33,  1,     17,    D17,2,19930713,1034, 43.6400, -39.3033, 4598,   1996.8,   3.4130,  34.8963,2,  34.8970,2,    280.5,2,    10.95,2,    16.53,2,     0.03,2,     1.17,2
     06GA226_2,  AR19,    33,  1,     16,    D16,2,19930713,1034, 43.6400, -39.3033, 4598,   2299.8,   3.3440,  34.9062,2,  34.9058,2,    278.7,2,    11.62,2,    16.52,2,     0.03,2,     1.17,2
     06GA226_2,  AR19,    33,  1,     15,    D15,2,19930713,1034, 43.6400, -39.3033, 4598,   2338.4,   3.3290,  34.9070,2,  34.9068,2,    278.6,2,    11.69,2,    16.52,2,     0.03,2,     1.17,2
     06GA226_2,  AR19,    33,  1,     14,    D14,2,19930713,1034, 43.6400, -39.3033, 4598,   2352.8,   3.3250,  34.9077,2,  34.9066,2,    278.4,2,    11.72,2,    16.57,2,     0.03,2,     1.17,2
     06GA226_2,  AR19,    33,  1,     13,    D13,2,19930713,1034, 43.6400, -39.3033, 4598,   2383.2,   3.3190,  34.9099,2,  34.9129,2,    277.7,2,    11.76,2,    16.63,2,     0.03,2,     1.17,2
     06GA226_2,  AR19,    33,  1,     12,    D12,2,19930713,1034, 43.6400, -39.3033, 4598,   2397.1,   3.3150,  34.9116,2,  34.9120,2,    278.0,2,    11.85,2,    16.68,2,     0.03,2,     1.17,2
     06GA226_2,  AR19,    33,  1,     11,    D11,2,19930713,1034, 43.6400, -39.3033, 4598,   2420.3,   3.3320,  34.9188,2,  34.9194,2,    275.8,2,    12.16,2,    16.80,2,     0.03,2,     1.17,2
     06GA226_2,  AR19,    33,  1,     10,    D10,2,19930713,1034, 43.6400, -39.3033, 4598,   2460.7,   3.3730,  34.9309,2,  34.9285,2,    273.6,2,    12.80,2,    17.04,2,     0.04,2,     1.18,2
     06GA226_2,  AR19,    33,  1,     09,    D09,2,19930713,1034, 43.6400, -39.3033, 4598,   2485.7,   3.3710,  34.9323,2,  34.9315,2,    272.9,2,    13.11,2,    17.00,2,     0.03,2,     1.17,2
     06GA226_2,  AR19,    33,  1,     08,    D08,2,19930713,1034, 43.6400, -39.3033, 4598,   2745.9,   3.2510,  34.9444,2,  34.9451,2,    269.6,2,    14.93,2,    16.96,2,     0.01,2,     1.17,2
     06GA226_2,  AR19,    33,  1,     06,    D06,2,19930713,1034, 43.6400, -39.3033, 4598,   3248.5,   2.8400,  34.9299,2,  34.9321,2,    273.3,2,    16.86,2,    16.83,2,     0.01,2,     1.18,2
     06GA226_2,  AR19,    33,  1,     05,    D05,2,19930713,1034, 43.6400, -39.3033, 4598,   3498.5,   2.6450,  34.9229,2,  34.9243,2,    271.3,2,    19.33,2,    17.00,2,     0.02,2,     1.18,2
     06GA226_2,  AR19,    33,  1,     04,    D04,2,19930713,1034, 43.6400, -39.3033, 4598,   3746.7,   2.4550,  34.9120,2,  34.9105,2,    272.6,2,    20.94,2,    16.99,2,     0.01,2,     1.18,2
     06GA226_2,  AR19,    33,  1,     03,    D03,2,19930713,1034, 43.6400, -39.3033, 4598,   4001.2,   2.3600,  34.9052,2,  34.9044,2,    274.0,2,    23.77,2,    17.07,2,     0.01,2,     1.26,2
     06GA226_2,  AR19,    33,  1,     02,    D02,2,19930713,1034, 43.6400, -39.3033, 4598,   4299.6,   2.2970,  34.9002,2,  34.9003,2,    273.8,2,    23.56,2,    17.03,2,     0.02,2,     1.26,2
     06GA226_2,  AR19,    33,  1,     01,    D01,2,19930713,1034, 43.6400, -39.3033, 4598,   4644.6,   2.2720,  34.8960,2,  34.8973,2,   -999.0,9,    23.57,2,    16.95,2,     0.02,2,     1.18,2