BOTTLE,20010917WHPSIOKJU
EXPOCODE,SECT_ID,STNNBR,CASTNO,SAMPNO,BTLNBR,BTLNBR_FLAG_W,DATE,TIME,LATITUDE,LONGITUDE,DEPTH,CTDPRS,CTDTMP,CTDSAL,CTDSAL_FLAG_W,SALNTY,SALNTY_FLAG_W,OXYGEN,OXYGEN_FLAG_W,SILCAT,SILCAT_FLAG_W,NITRAT,NITRAT_FLAG_W,NITRIT,NITRIT_FLAG_W,PHSPHT,PHSPHT_FLAG_W
,,,,,ID,,,,,,,DBAR,ITS-90,PSS-78,,PSS-78,,UMOL/KG,,UMOL/KG,,UMOL/KG,,UMOL/KG,,UMOL/KG,
     06GA226_2,  AR19,    28,  1,     24,    D24,2,19930711,2015, 42.7167, -42.4400, 4814,      6.8,  20.4850,  36.2804,2,  36.2741,2,    223.6,2,     0.07,2,     0.25,2,     0.12,2,     0.01,2
     06GA226_2,  AR19,    28,  1,     23,    D23,2,19930711,2015, 42.7167, -42.4400, 4814,     92.9,  18.1670,  36.4867,2,  36.4853,2,    209.2,2,     1.06,2,     3.35,2,     0.18,2,     0.11,2
     06GA226_2,  AR19,    28,  1,     22,    D22,2,19930711,2015, 42.7167, -42.4400, 4814,    197.5,  17.3850,  36.4289,2,  36.4283,2,    214.8,2,     1.28,2,     4.18,2,     0.13,2,     0.19,2
     06GA226_2,  AR19,    28,  1,     21,    D21,2,19930711,2015, 42.7167, -42.4400, 4814,    296.5,  16.1130,  36.2245,2,  36.2122,3,    209.0,2,     2.22,2,     6.77,2,     0.17,2,     0.39,2
     06GA226_2,  AR19,    28,  1,     20,    N01,2,19930711,2015, 42.7167, -42.4400, 4814,    494.5,  13.1960,  35.7081,2,  35.7034,2,    197.9,2,     4.88,2,    12.40,2,     0.13,2,     0.78,2
     06GA226_2,  AR19,    28,  1,     19,    D19,2,19930711,2015, 42.7167, -42.4400, 4814,    746.6,   7.9550,  34.9945,2,  34.9893,2,   -999.0,9,    11.26,2,    20.03,2,     0.12,2,     1.46,2
     06GA226_2,  AR19,    28,  1,     18,    D18,2,19930711,2015, 42.7167, -42.4400, 4814,    994.4,   5.7170,  35.0144,2,  35.0119,2,    218.2,2,    11.96,2,    19.76,2,     0.14,2,     1.37,2
     06GA226_2,  AR19,    28,  1,     17,    D17,2,19930711,2015, 42.7167, -42.4400, 4814,   1245.0,   5.0360,  35.0395,2,  35.0366,2,    240.6,2,    11.34,2,    18.82,2,     0.14,2,     1.27,2
     06GA226_2,  AR19,    28,  1,     16,    D16,2,19930711,2015, 42.7167, -42.4400, 4814,   1494.8,   4.2200,  34.9773,2,  34.9772,2,    260.9,2,    11.02,2,    18.18,2,     0.13,2,     1.26,2
     06GA226_2,  AR19,    28,  1,     15,    D15,2,19930711,2015, 42.7167, -42.4400, 4814,   1744.8,   3.7680,  34.9371,2,  34.9376,2,    271.2,2,    11.10,2,    17.78,2,     0.13,2,     1.26,2
     06GA226_2,  AR19,    28,  1,     14,    D14,2,19930711,2015, 42.7167, -42.4400, 4814,   1995.7,   3.5320,  34.9166,2,  34.9152,2,    276.1,2,    11.17,2,    17.63,2,     0.14,2,     1.18,2
     06GA226_2,  AR19,    28,  1,     13,    D13,2,19930711,2015, 42.7167, -42.4400, 4814,   2245.9,   3.4250,  34.9127,2,  34.9133,2,    277.5,2,    11.38,2,    17.44,2,     0.11,2,     1.18,2
     06GA226_2,  AR19,    28,  1,     12,    D12,2,19930711,2015, 42.7167, -42.4400, 4814,   2497.0,   3.4080,  34.9301,2,  34.9291,2,    273.5,2,    12.50,2,    17.52,2,     0.11,2,     1.26,2
     06GA226_2,  AR19,    28,  1,     11,    D11,2,19930711,2015, 42.7167, -42.4400, 4814,   2747.2,   3.3360,  34.9481,2,  34.9458,2,    268.7,2,    14.42,2,    17.74,2,     0.12,2,     1.26,2
     06GA226_2,  AR19,    28,  1,     10,    D10,2,19930711,2015, 42.7167, -42.4400, 4814,   2998.7,   3.1030,  34.9402,2,  34.9388,2,    271.3,2,    15.24,2,    17.60,2,     0.11,2,     1.26,2
     06GA226_2,  AR19,    28,  1,     09,    D09,2,19930711,2015, 42.7167, -42.4400, 4814,   3200.3,   2.9320,  34.9338,2,  34.9329,2,    271.7,2,    16.14,2,    17.55,2,     0.13,2,     1.26,2
     06GA226_2,  AR19,    28,  1,     08,    D08,2,19930711,2015, 42.7167, -42.4400, 4814,   3399.7,   2.7730,  34.9289,2,  34.9301,2,    271.6,2,    17.96,2,    17.75,2,     0.11,2,     1.26,2
     06GA226_2,  AR19,    28,  1,     07,    N02,2,19930711,2015, 42.7167, -42.4400, 4814,   3602.1,   2.6630,  34.9227,2,  34.9238,2,    272.3,2,    19.11,2,    17.53,2,     0.02,2,     1.26,2
     06GA226_2,  AR19,    28,  1,     06,    D06,2,19930711,2015, 42.7167, -42.4400, 4814,   3800.0,   2.5020,  34.9155,2,  34.9147,2,   -999.0,9,    21.12,2,    17.67,2,     0.00,2,     1.26,2
     06GA226_2,  AR19,    28,  1,     05,    D05,2,19930711,2015, 42.7167, -42.4400, 4814,   4000.2,   2.3740,  34.9075,2,  34.9066,2,    272.1,2,    22.50,2,    17.70,2,     0.02,2,     1.26,2
     06GA226_2,  AR19,    28,  1,     04,    D04,2,19930711,2015, 42.7167, -42.4400, 4814,   4199.5,   2.3020,  34.9014,2,  34.9022,2,    271.6,2,    24.53,2,    17.95,2,     0.02,2,     1.27,2
     06GA226_2,  AR19,    28,  1,     03,    D03,2,19930711,2015, 42.7167, -42.4400, 4814,   4399.8,   2.2640,  34.8971,2,  34.8964,2,    270.3,2,    25.99,2,    18.19,2,     0.02,2,     1.27,2
     06GA226_2,  AR19,    28,  1,     02,    D02,2,19930711,2015, 42.7167, -42.4400, 4814,   4601.7,   2.2470,  34.8933,2,  34.8952,2,    270.4,2,    27.67,2,    18.43,2,     0.03,2,     1.36,2
     06GA226_2,  AR19,    28,  1,     01,    D01,2,19930711,2015, 42.7167, -42.4400, 4814,   4824.3,   2.2630,  34.8925,2,  34.8938,2,    272.3,2,    25.03,2,    17.89,2,     0.01,2,     1.27,2
     06GA226_2,  AR19,    29,  1,     24,    D24,2,19930712,0223, 42.9300, -41.7033, 4809,      6.6,  20.6240,  36.3140,2,  36.3116,2,    225.0,2,     0.03,2,     0.03,2,     0.01,2,     0.01,2
     06GA226_2,  AR19,    29,  1,     23,    D23,2,19930712,0223, 42.9300, -41.7033, 4809,    100.1,  17.8360,  36.4823,2,  36.4844,2,    213.2,2,     1.13,2,     3.17,2,     0.04,2,     0.11,2
     06GA226_2,  AR19,    29,  1,     22,    D22,2,19930712,0223, 42.9300, -41.7033, 4809,    244.7,  16.1740,  36.2316,2,  36.2273,2,    213.6,2,     2.04,2,     6.01,2,     0.03,2,     0.29,2
     06GA226_2,  AR19,    29,  1,     21,    D21,2,19930712,0223, 42.9300, -41.7033, 4809,    494.4,  12.1330,  35.5468,2,  35.5427,2,    181.8,2,     6.68,2,    15.37,2,     0.03,2,     0.89,2
     06GA226_2,  AR19,    29,  1,     20,    N01,2,19930712,0223, 42.9300, -41.7033, 4809,    745.0,   7.3680,  34.9605,2,  34.9580,2,    190.8,2,    11.64,2,    20.05,2,     0.03,2,     1.36,2
     06GA226_2,  AR19,    29,  1,     19,    D19,2,19930712,0223, 42.9300, -41.7033, 4809,    994.0,   5.7980,  35.0990,2,  35.0981,2,    223.1,2,    11.71,2,    19.00,2,     0.03,2,     1.26,2
     06GA226_2,  AR19,    29,  1,     18,    D18,2,19930712,0223, 42.9300, -41.7033, 4809,   1245.5,   4.6660,  35.0151,2,  35.0142,2,    249.6,2,    11.20,2,    18.23,2,     0.03,2,     1.18,2
     06GA226_2,  AR19,    29,  1,     17,    D17,2,19930712,0223, 42.9300, -41.7033, 4809,   1495.6,   4.2150,  34.9836,2,  34.9830,2,    261.1,2,    11.21,2,    17.87,2,     0.02,2,     1.17,2
     06GA226_2,  AR19,    29,  1,     15,    D15,2,19930712,0223, 42.9300, -41.7033, 4809,   1994.7,   3.5600,  34.9161,2,  34.9154,2,    275.8,2,    11.17,2,    17.32,2,     0.03,2,     1.08,2
     06GA226_2,  AR19,    29,  1,     14,    D14,2,19930712,0223, 42.9300, -41.7033, 4809,   2247.5,   3.4070,  34.9154,2,  34.9145,2,    276.6,2,    11.69,2,    17.21,2,     0.03,2,     1.17,2
     06GA226_2,  AR19,    29,  1,     13,    D13,2,19930712,0223, 42.9300, -41.7033, 4809,   2498.2,   3.4070,  34.9433,2,  34.9428,2,    270.8,2,    13.60,2,    17.56,2,     0.03,2,     1.17,2
     06GA226_2,  AR19,    29,  1,     12,    D12,2,19930712,0223, 42.9300, -41.7033, 4809,   2748.4,   3.3170,  34.9490,2,  34.9478,2,    269.1,2,    14.99,2,    17.61,2,     0.04,2,     1.17,2
     06GA226_2,  AR19,    29,  1,     11,    D11,2,19930712,0223, 42.9300, -41.7033, 4809,   2997.8,   3.1300,  34.9414,2,  34.9400,2,    269.6,2,    15.44,2,    17.33,2,     0.03,2,     1.17,2
     06GA226_2,  AR19,    29,  1,     10,    D10,2,19930712,0223, 42.9300, -41.7033, 4809,   3195.3,   2.9490,  34.9355,2,  34.9348,2,    271.8,2,    16.52,2,    17.30,2,     0.02,2,     1.17,2
     06GA226_2,  AR19,    29,  1,     09,    D09,2,19930712,0223, 42.9300, -41.7033, 4809,   3398.3,   2.8280,  34.9298,2,  34.9286,2,    272.0,2,    17.15,2,    17.24,2,     0.03,2,     1.17,2
     06GA226_2,  AR19,    29,  1,     08,    D08,2,19930712,0223, 42.9300, -41.7033, 4809,   3594.2,   2.6100,  34.9215,2,  34.9201,2,    272.4,2,    19.82,3,    17.21,2,     0.03,2,     1.17,2
     06GA226_2,  AR19,    29,  1,     07,    N02,2,19930712,0223, 42.9300, -41.7033, 4809,   3798.4,   2.5050,  34.9152,2,  34.9135,2,    274.0,2,    19.39,2,    17.35,2,     0.04,2,     1.17,2
     06GA226_2,  AR19,    29,  1,     06,    D06,2,19930712,0223, 42.9300, -41.7033, 4809,   3998.8,   2.4210,  34.9099,2,  34.9083,2,    274.5,2,    20.73,2,    17.08,2,     0.03,2,     1.17,2
     06GA226_2,  AR19,    29,  1,     05,    D05,2,19930712,0223, 42.9300, -41.7033, 4809,   4199.4,   2.3540,  34.9055,2,  34.9077,2,    274.6,2,    20.93,2,    17.26,2,     0.02,2,     1.17,2
     06GA226_2,  AR19,    29,  1,     04,    D04,2,19930712,0223, 42.9300, -41.7033, 4809,   4399.5,   2.3140,  34.9020,2,  34.9002,2,    276.3,2,    21.33,2,    17.19,2,     0.03,2,     1.17,2
     06GA226_2,  AR19,    29,  1,     03,    D03,2,19930712,0223, 42.9300, -41.7033, 4809,   4600.6,   2.2780,  34.8988,2,  34.8977,2,    276.3,2,    21.31,2,    16.98,2,     0.02,2,     1.17,2
     06GA226_2,  AR19,    29,  1,     02,    D02,2,19930712,0223, 42.9300, -41.7033, 4809,   4798.1,   2.2590,  34.8965,2,  34.8964,2,    281.5,2,    18.80,2,    16.39,2,     0.02,2,     1.08,2
     06GA226_2,  AR19,    29,  1,     01,    D01,2,19930712,0223, 42.9300, -41.7033, 4809,   4899.7,   2.2710,  34.8968,2,  34.8989,2,    279.2,2,    18.48,2,    16.40,2,     0.01,2,     1.08,2
     06GA226_2,  AR19,    30,  1,     24,    D24,2,19930712,0906, 43.1067, -41.1983, 4799,      5.0,  20.0900,  36.1131,2,  36.1076,2,    224.8,2,     0.07,2,     0.11,2,     0.05,2,     0.01,2
     06GA226_2,  AR19,    30,  1,     23,    D23,3,19930712,0906, 43.1067, -41.1983, 4799,     92.4,  17.8920,  36.5181,2,  36.5133,2,    224.7,2,     0.27,2,     1.97,2,     0.44,2,     0.10,2
     06GA226_2,  AR19,    30,  1,     22,    D22,2,19930712,0906, 43.1067, -41.1983, 4799,    298.5,  15.0390,  35.9863,2,  35.9861,2,    191.9,2,     3.41,2,    10.00,2,     0.04,2,     0.58,2
     06GA226_2,  AR19,    30,  1,     21,    D21,2,19930712,0906, 43.1067, -41.1983, 4799,    497.8,  11.8800,  35.5268,2,  35.5257,2,    190.7,2,     6.54,2,    15.00,2,     0.05,2,     0.98,2
     06GA226_2,  AR19,    30,  1,     20,    N01,2,19930712,0906, 43.1067, -41.1983, 4799,    789.3,   6.7200,  34.9558,2,  34.9580,2,    196.4,2,    11.95,2,    20.02,2,     0.04,2,     1.46,2
     06GA226_2,  AR19,    30,  1,     19,    D19,2,19930712,0906, 43.1067, -41.1983, 4799,   1192.1,   4.8690,  35.0210,2,  35.0184,2,    244.9,2,    11.17,2,    18.57,2,     0.05,2,     1.36,2
     06GA226_2,  AR19,    30,  1,     18,    D18,2,19930712,0906, 43.1067, -41.1983, 4799,   1593.0,   3.9090,  34.9432,2,  34.9423,2,    268.9,2,    10.80,2,    17.66,2,     0.05,2,     1.26,2
     06GA226_2,  AR19,    30,  1,     17,    D17,2,19930712,0906, 43.1067, -41.1983, 4799,   2195.8,   3.5420,  34.9427,2,  34.9408,2,    271.3,2,    12.44,2,    17.42,2,     0.05,2,     1.26,2
     06GA226_2,  AR19,    30,  1,     12,    D12,2,19930712,0906, 43.1067, -41.1983, 4799,   2215.1,   3.5160,  34.9431,2,  34.9435,2,    266.7,3,    12.55,3,    17.30,3,     0.02,2,     1.26,3
     06GA226_2,  AR19,    30,  1,     13,    D13,2,19930712,0906, 43.1067, -41.1983, 4799,   2215.4,   3.5120,  34.9428,2,  34.9450,2,    271.1,2,    12.67,2,    17.49,2,     0.05,2,     1.26,2
     06GA226_2,  AR19,    30,  1,     14,    D14,2,19930712,0906, 43.1067, -41.1983, 4799,   2215.9,   3.5130,  34.9430,2,  34.9431,2,    270.9,2,    12.73,2,    17.57,2,     0.05,2,     1.26,2
     06GA226_2,  AR19,    30,  1,     15,    D15,2,19930712,0906, 43.1067, -41.1983, 4799,   2216.0,   3.5160,  34.9436,2,  34.9422,2,    270.7,2,    12.72,2,    17.59,2,     0.05,2,     1.26,2
     06GA226_2,  AR19,    30,  1,     16,    D16,2,19930712,0906, 43.1067, -41.1983, 4799,   2216.3,   3.5160,  34.9433,2,  34.9445,2,    271.0,2,    12.69,2,    17.54,2,     0.05,2,     1.26,2
     06GA226_2,  AR19,    30,  1,     07,    N02,2,19930712,0906, 43.1067, -41.1983, 4799,   2265.2,   3.3500,  34.9152,2,  34.9137,2,    278.4,2,    11.62,2,    17.01,2,     0.03,2,     1.18,2
     06GA226_2,  AR19,    30,  1,     08,    D08,2,19930712,0906, 43.1067, -41.1983, 4799,   2265.4,   3.3500,  34.9153,2,  34.9158,2,    278.1,2,    11.59,2,    16.88,2,     0.02,2,     1.17,2
     06GA226_2,  AR19,    30,  1,     10,    D10,2,19930712,0906, 43.1067, -41.1983, 4799,   2265.6,   3.3490,  34.9152,2,  34.9139,2,    278.0,2,    11.60,2,    16.96,2,     0.03,2,     1.17,2
     06GA226_2,  AR19,    30,  1,     09,    D09,2,19930712,0906, 43.1067, -41.1983, 4799,   2265.7,   3.3490,  34.9153,2,  34.9139,2,    277.8,2,    11.60,2,    16.95,2,     0.02,2,     1.17,2
     06GA226_2,  AR19,    30,  1,     11,    D11,2,19930712,0906, 43.1067, -41.1983, 4799,   2266.0,   3.3500,  34.9154,2,  34.9148,2,    281.6,3,    11.58,2,    16.95,2,     0.02,2,     1.17,2
     06GA226_2,  AR19,    30,  1,     06,    D06,2,19930712,0906, 43.1067, -41.1983, 4799,   2395.3,   3.3650,  34.9294,2,  34.9284,2,    275.3,2,    12.36,2,    17.03,2,     0.02,2,     1.18,2
     06GA226_2,  AR19,    30,  1,     05,    D05,2,19930712,0906, 43.1067, -41.1983, 4799,   2896.9,   3.1270,  34.9416,2,  34.9413,2,    270.7,2,    15.09,2,    17.10,2,     0.03,2,     1.18,2
     06GA226_2,  AR19,    30,  1,     04,    D04,2,19930712,0906, 43.1067, -41.1983, 4799,   3399.0,   2.7480,  34.9279,2,  34.9277,2,    272.2,2,    17.85,2,    17.12,2,     0.03,2,     1.18,2
     06GA226_2,  AR19,    30,  1,     03,    D03,2,19930712,0906, 43.1067, -41.1983, 4799,   3900.2,   2.4060,  34.9103,2,  34.9085,2,    272.8,2,    22.20,2,    17.39,2,     0.02,2,     1.18,2
     06GA226_2,  AR19,    30,  1,     02,    D02,2,19930712,0906, 43.1067, -41.1983, 4799,   4400.1,   2.3030,  34.9005,2,  34.9012,2,    271.9,2,    25.01,2,    17.60,2,     0.03,2,     1.26,2
     06GA226_2,  AR19,    30,  1,     01,    D01,2,19930712,0906, 43.1067, -41.1983, 4799,   4902.7,   2.2810,  34.8932,2,-999.0000,9,    276.1,2,    24.67,2,    17.49,2,     0.03,2,     1.26,2
     06GA226_2,  AR19,    30,  2,     24,    D24,2,19930712,1321, 43.1200, -41.1300, 4799,   2024.5,   3.5610,-999.0000,9,  34.9238,2,   -999.0,9,  -999.00,9,  -999.00,9,  -999.00,9,  -999.00,9
     06GA226_2,  AR19,    30,  2,     23,    D23,2,19930712,1321, 43.1200, -41.1300, 4799,   2024.5,   3.5620,-999.0000,9,  34.9227,2,   -999.0,9,  -999.00,9,  -999.00,9,  -999.00,9,  -999.00,9
     06GA226_2,  AR19,    30,  2,     14,    D14,2,19930712,1321, 43.1200, -41.1300, 4799,   2141.7,   3.3480,-999.0000,9,  34.9018,2,    285.3,2,  -999.00,9,  -999.00,9,  -999.00,9,  -999.00,9
     06GA226_2,  AR19,    30,  2,     15,    D15,2,19930712,1321, 43.1200, -41.1300, 4799,   2142.6,   3.3460,-999.0000,9,  34.8970,2,    285.6,2,  -999.00,9,  -999.00,9,  -999.00,9,  -999.00,9
     06GA226_2,  AR19,    30,  2,     16,    D16,2,19930712,1321, 43.1200, -41.1300, 4799,   2143.7,   3.3450,-999.0000,9,  34.9017,2,    284.9,2,  -999.00,9,  -999.00,9,  -999.00,9,  -999.00,9
     06GA226_2,  AR19,    30,  2,     17,    D17,2,19930712,1321, 43.1200, -41.1300, 4799,   2144.8,   3.3430,-999.0000,9,  34.8982,2,    286.9,2,  -999.00,9,  -999.00,9,  -999.00,9,  -999.00,9
     06GA226_2,  AR19,    30,  2,     18,    D18,2,19930712,1321, 43.1200, -41.1300, 4799,   2146.0,   3.3380,-999.0000,9,  34.8957,2,    285.0,2,  -999.00,9,  -999.00,9,  -999.00,9,  -999.00,9
     06GA226_2,  AR19,    30,  2,     19,    D19,2,19930712,1321, 43.1200, -41.1300, 4799,   2146.9,   3.3350,-999.0000,9,  34.8940,2,    287.2,2,  -999.00,9,  -999.00,9,  -999.00,9,  -999.00,9
     06GA226_2,  AR19,    30,  2,     20,    N01,2,19930712,1321, 43.1200, -41.1300, 4799,   2147.7,   3.3390,-999.0000,9,  34.8950,2,    285.4,2,  -999.00,9,  -999.00,9,  -999.00,9,  -999.00,9
     06GA226_2,  AR19,    30,  2,     21,    D21,2,19930712,1321, 43.1200, -41.1300, 4799,   2148.3,   3.3400,-999.0000,9,  34.8961,2,    287.2,2,  -999.00,9,  -999.00,9,  -999.00,9,  -999.00,9
     06GA226_2,  AR19,    30,  2,     22,    D22,2,19930712,1321, 43.1200, -41.1300, 4799,   2149.4,   3.3410,-999.0000,9,  34.8942,2,    285.4,2,  -999.00,9,  -999.00,9,  -999.00,9,  -999.00,9
     06GA226_2,  AR19,    30,  2,     06,    D06,2,19930712,1321, 43.1200, -41.1300, 4799,   2200.0,   3.3300,-999.0000,9,  34.8997,2,    287.6,2,  -999.00,9,  -999.00,9,  -999.00,9,  -999.00,9
     06GA226_2,  AR19,    30,  2,     05,    D05,2,19930712,1321, 43.1200, -41.1300, 4799,   2200.1,   3.3330,-999.0000,9,  34.8998,2,    285.2,2,  -999.00,9,  -999.00,9,  -999.00,9,  -999.00,9
     06GA226_2,  AR19,    30,  2,     07,    N02,2,19930712,1321, 43.1200, -41.1300, 4799,   2200.4,   3.3270,-999.0000,9,  34.8983,2,    284.3,2,  -999.00,9,  -999.00,9,  -999.00,9,  -999.00,9
     06GA226_2,  AR19,    30,  2,     08,    D08,2,19930712,1321, 43.1200, -41.1300, 4799,   2201.5,   3.3250,-999.0000,9,  34.8981,2,    286.3,2,  -999.00,9,  -999.00,9,  -999.00,9,  -999.00,9
     06GA226_2,  AR19,    30,  2,     09,    D09,2,19930712,1321, 43.1200, -41.1300, 4799,   2202.5,   3.3240,-999.0000,9,  34.8980,2,    287.5,2,  -999.00,9,  -999.00,9,  -999.00,9,  -999.00,9
     06GA226_2,  AR19,    30,  2,     10,    D10,2,19930712,1321, 43.1200, -41.1300, 4799,   2203.3,   3.3230,-999.0000,9,  34.8969,2,    286.1,2,  -999.00,9,  -999.00,9,  -999.00,9,  -999.00,9
     06GA226_2,  AR19,    30,  2,     11,    D11,2,19930712,1321, 43.1200, -41.1300, 4799,   2204.2,   3.3230,-999.0000,9,  34.8998,2,    285.4,2,  -999.00,9,  -999.00,9,  -999.00,9,  -999.00,9
     06GA226_2,  AR19,    30,  2,     12,    D12,2,19930712,1321, 43.1200, -41.1300, 4799,   2204.7,   3.3240,-999.0000,9,  34.8999,2,    288.2,2,  -999.00,9,  -999.00,9,  -999.00,9,  -999.00,9
     06GA226_2,  AR19,    30,  2,     13,    D13,2,19930712,1321, 43.1200, -41.1300, 4799,   2206.1,   3.3240,-999.0000,9,  34.8944,2,    286.9,2,  -999.00,9,  -999.00,9,  -999.00,9,  -999.00,9
     06GA226_2,  AR19,    30,  2,     03,    D03,2,19930712,1321, 43.1200, -41.1300, 4799,   2296.6,   3.3790,-999.0000,9,  34.9125,2,   -999.0,9,  -999.00,9,  -999.00,9,  -999.00,9,  -999.00,9
     06GA226_2,  AR19,    30,  2,     04,    D04,2,19930712,1321, 43.1200, -41.1300, 4799,   2298.1,   3.3760,-999.0000,9,  34.9007,2,   -999.0,9,  -999.00,9,  -999.00,9,  -999.00,9,  -999.00,9
     06GA226_2,  AR19,    30,  2,     02,    D02,2,19930712,1321, 43.1200, -41.1300, 4799,   2397.2,   3.3790,-999.0000,9,  34.9120,2,   -999.0,9,  -999.00,9,  -999.00,9,  -999.00,9,  -999.00,9
     06GA226_2,  AR19,    30,  2,     01,    D01,2,19930712,1321, 43.1200, -41.1300, 4799,   2398.6,   3.3800,-999.0000,9,  34.9179,2,   -999.0,9,  -999.00,9,  -999.00,9,  -999.00,9,  -999.00,9