BOTTLE,20010917WHPSIOKJU
EXPOCODE,SECT_ID,STNNBR,CASTNO,SAMPNO,BTLNBR,BTLNBR_FLAG_W,DATE,TIME,LATITUDE,LONGITUDE,DEPTH,CTDPRS,CTDTMP,CTDSAL,CTDSAL_FLAG_W,SALNTY,SALNTY_FLAG_W,OXYGEN,OXYGEN_FLAG_W,SILCAT,SILCAT_FLAG_W,NITRAT,NITRAT_FLAG_W,NITRIT,NITRIT_FLAG_W,PHSPHT,PHSPHT_FLAG_W
,,,,,ID,,,,,,,DBAR,ITS-90,PSS-78,,PSS-78,,UMOL/KG,,UMOL/KG,,UMOL/KG,,UMOL/KG,,UMOL/KG,
     06GA226_2,  AR19,    60,  1,     24,    D24,2,19930719,1610, 47.3833, -24.2633, 3334,      7.3,  16.8070,  35.4619,2,  35.4535,2,    259.2,2,     0.06,2,     0.08,2,     0.01,2,     0.10,2
     06GA226_2,  AR19,    60,  1,     23,    N05,2,19930719,1610, 47.3833, -24.2633, 3334,     96.7,  10.9230,  35.4051,2,  35.4001,2,    253.3,2,     2.71,2,     9.24,2,     0.03,2,     0.59,2
     06GA226_2,  AR19,    60,  1,     22,    D13,2,19930719,1610, 47.3833, -24.2633, 3334,    196.0,   9.9630,  35.2710,2,  35.2684,2,    247.2,2,     4.94,2,    11.60,2,     0.03,2,     0.79,2
     06GA226_2,  AR19,    60,  1,     21,    D21,2,19930719,1610, 47.3833, -24.2633, 3334,    296.8,   9.2490,  35.1781,2,  35.1753,2,    237.1,2,     6.63,2,    13.44,2,     0.04,2,     0.89,2
     06GA226_2,  AR19,    60,  1,     20,    N01,2,19930719,1610, 47.3833, -24.2633, 3334,    495.1,   7.6680,  35.0527,2,  35.0496,2,    209.1,2,    10.03,2,    17.47,2,     0.03,2,     1.27,2
     06GA226_2,  AR19,    60,  1,     19,    D10,2,19930719,1610, 47.3833, -24.2633, 3334,    694.3,   6.0300,  34.9985,2,  34.9956,2,    223.4,2,    10.92,2,    17.93,2,     0.03,2,     1.28,2
     06GA226_2,  AR19,    60,  1,     18,    D18,2,19930719,1610, 47.3833, -24.2633, 3334,    745.7,   5.5870,  34.9798,2,  34.9784,2,    230.0,2,    10.94,2,    17.80,2,     0.03,2,     1.28,2
     06GA226_2,  AR19,    60,  1,     17,    D17,2,19930719,1610, 47.3833, -24.2633, 3334,    794.8,   5.5250,  35.0113,2,  35.0085,2,    231.1,2,    11.00,2,    17.74,2,     0.03,2,     1.28,2
     06GA226_2,  AR19,    60,  1,     16,    D16,2,19930719,1610, 47.3833, -24.2633, 3334,    844.4,   5.1240,  34.9850,2,  34.9826,2,    239.5,2,    10.87,2,    17.54,2,     0.04,2,     1.27,2
     06GA226_2,  AR19,    60,  1,     15,    D15,2,19930719,1610, 47.3833, -24.2633, 3334,    894.6,   4.9030,  34.9875,2,  34.9862,2,    244.7,2,    10.81,2,    17.38,2,     0.04,2,     1.26,2
     06GA226_2,  AR19,    60,  1,     14,    D14,2,19930719,1610, 47.3833, -24.2633, 3334,    945.9,   4.8400,  34.9988,2,  34.9970,2,    246.3,2,    10.74,2,    17.25,2,     0.03,2,     1.26,2
     06GA226_2,  AR19,    60,  1,     13,    D04,2,19930719,1610, 47.3833, -24.2633, 3334,    994.5,   4.5720,  34.9662,2,  34.9646,2,    251.7,2,    10.65,2,    17.07,2,     0.03,2,     1.26,2
     06GA226_2,  AR19,    60,  1,     12,    D12,2,19930719,1610, 47.3833, -24.2633, 3334,   1096.6,   4.2680,  34.9468,2,  34.9450,2,    259.4,2,    10.54,2,    16.91,2,     0.04,2,     1.18,2
     06GA226_2,  AR19,    60,  1,     11,    D11,2,19930719,1610, 47.3833, -24.2633, 3334,   1296.3,   3.8870,  34.9257,2,  34.9251,2,    269.2,2,    10.49,2,    16.73,2,     0.04,2,     1.18,2
     06GA226_2,  AR19,    60,  1,     10,    N03,2,19930719,1610, 47.3833, -24.2633, 3334,   1496.1,   3.5960,  34.8978,2,  34.8960,2,    278.3,2,    10.23,2,    16.52,2,     0.03,2,     1.17,2
     06GA226_2,  AR19,    60,  1,     09,    D09,2,19930719,1610, 47.3833, -24.2633, 3334,   1744.1,   3.4200,  34.8927,2,  34.8927,2,    281.6,2,    10.42,2,    16.20,2,     0.04,2,     1.08,2
     06GA226_2,  AR19,    60,  1,     08,    D08,2,19930719,1610, 47.3833, -24.2633, 3334,   1996.7,   3.3760,  34.9009,2,  34.8999,2,    280.4,2,    10.85,2,    16.22,2,     0.04,2,     1.17,2
     06GA226_2,  AR19,    60,  1,     07,    N04,2,19930719,1610, 47.3833, -24.2633, 3334,   2195.1,   3.3630,  34.9231,2,  34.9233,2,    276.7,2,    11.72,2,    16.10,2,     0.03,2,     1.17,2
     06GA226_2,  AR19,    60,  1,     06,    D06,2,19930719,1610, 47.3833, -24.2633, 3334,   2397.0,   3.2900,  34.9388,2,  34.9369,2,    274.7,2,    12.87,2,    16.25,2,     0.05,2,     1.17,2
     06GA226_2,  AR19,    60,  1,     05,    D05,2,19930719,1610, 47.3833, -24.2633, 3334,   2597.2,   3.2040,  34.9465,2,  34.9456,2,    273.7,2,    13.82,2,    16.14,2,     0.04,2,     1.17,2
     06GA226_2,  AR19,    60,  1,     04,    D19,2,19930719,1610, 47.3833, -24.2633, 3334,   2795.2,   3.0850,  34.9530,2,  34.9524,2,    268.5,2,    17.05,2,    16.81,2,     0.05,2,     1.18,2
     06GA226_2,  AR19,    60,  1,     03,    D03,2,19930719,1610, 47.3833, -24.2633, 3334,   2999.5,   2.9000,  34.9490,2,  34.9486,2,    262.3,2,    22.88,2,    17.63,2,     0.03,2,     1.26,2
     06GA226_2,  AR19,    60,  1,     02,    D02,2,19930719,1610, 47.3833, -24.2633, 3334,   3197.2,   2.8480,  34.9473,2,  34.9471,2,    283.3,4,    25.36,2,    17.96,2,     0.05,2,     1.27,2
     06GA226_2,  AR19,    60,  1,     01,    D16,2,19930719,1610, 47.3833, -24.2633, 3334,   3347.4,   2.7820,  34.9433,2,  34.9434,2,    256.7,2,    28.41,2,    18.46,2,     0.05,2,     1.36,2
     06GA226_2,  AR19,    61,  1,     24,    D24,2,19930719,2146, 47.4900, -23.5567, 3961,      2.6,  17.6840,  35.6126,2,  35.6050,2,    247.7,2,     0.01,2,     0.04,2,     0.01,2,     0.10,2
     06GA226_2,  AR19,    61,  1,     23,    N05,2,19930719,2146, 47.4900, -23.5567, 3961,     93.4,  11.2820,  35.4684,2,  35.4656,2,    251.2,2,     2.28,2,     8.70,2,     0.03,2,     0.58,2
     06GA226_2,  AR19,    61,  1,     22,    N02,2,19930719,2146, 47.4900, -23.5567, 3961,    330.5,   9.6980,  35.2444,2,  35.2423,2,    245.9,2,     5.58,2,    12.08,2,     0.02,2,     0.79,2
     06GA226_2,  AR19,    61,  1,     21,    D21,2,19930719,2146, 47.4900, -23.5567, 3961,    544.9,   7.4770,  35.0284,2,  35.0270,2,    210.6,2,     9.93,2,    17.28,2,     0.01,2,     1.27,2
     06GA226_2,  AR19,    61,  1,     20,    N01,2,19930719,2146, 47.4900, -23.5567, 3961,    681.8,   7.2000,  35.1674,2,  35.1682,2,    208.0,2,    10.57,2,    17.81,2,     0.01,2,     1.27,2
     06GA226_2,  AR19,    61,  1,     19,    D04,2,19930719,2146, 47.4900, -23.5567, 3961,    745.3,   5.8640,  35.0157,2,  35.0137,2,    225.3,2,    10.89,2,    17.88,2,     0.00,2,     1.27,2
     06GA226_2,  AR19,    61,  1,     18,    D18,2,19930719,2146, 47.4900, -23.5567, 3961,    923.8,   5.7030,  35.1265,2,  35.1259,2,    232.5,2,    10.70,2,    17.99,2,     0.00,2,     1.26,2
     06GA226_2,  AR19,    61,  1,     17,    D17,2,19930719,2146, 47.4900, -23.5567, 3961,   1095.2,   4.8710,  35.0469,2,  35.0460,2,    248.3,2,    10.67,2,    17.64,2,     0.01,2,     1.18,2
     06GA226_2,  AR19,    61,  1,     16,    N03,2,19930719,2146, 47.4900, -23.5567, 3961,   1295.0,   3.8720,  34.9190,2,  34.9184,2,    270.9,2,    10.28,2,    17.14,2,     0.01,2,     1.18,2
     06GA226_2,  AR19,    61,  1,     15,    D15,2,19930719,2146, 47.4900, -23.5567, 3961,   1395.5,   3.7150,  34.9088,2,  34.9075,2,    274.5,2,    10.29,2,    16.93,2,     0.01,2,     1.17,2
     06GA226_2,  AR19,    61,  1,     14,    D14,2,19930719,2146, 47.4900, -23.5567, 3961,   1595.9,   3.5010,  34.8938,2,  34.8919,2,    280.0,2,    10.21,2,    16.69,2,     0.01,2,     1.17,2
     06GA226_2,  AR19,    61,  1,     13,    N04,2,19930719,2146, 47.4900, -23.5567, 3961,   1797.4,   3.4280,  34.8973,2,  34.8965,2,    280.1,2,    10.48,2,    16.51,2,     0.01,2,     1.17,2
     06GA226_2,  AR19,    61,  1,     12,    D12,2,19930719,2146, 47.4900, -23.5567, 3961,   1997.6,   3.4280,  34.9163,2,  34.9148,2,    276.6,2,    11.31,2,    16.52,2,     0.01,2,     1.17,2
     06GA226_2,  AR19,    61,  1,     11,    D11,2,19930719,2146, 47.4900, -23.5567, 3961,   2247.2,   3.3450,  34.9367,2,  34.9374,2,    272.5,2,    12.61,2,    16.41,2,     0.01,2,     1.17,2
     06GA226_2,  AR19,    61,  1,     10,    D19,2,19930719,2146, 47.4900, -23.5567, 3961,   2396.1,   3.2390,  34.9423,2,  34.9417,2,    272.4,2,    13.59,2,    16.42,2,     0.01,2,     1.17,2
     06GA226_2,  AR19,    61,  1,     09,    D09,2,19930719,2146, 47.4900, -23.5567, 3961,   2498.2,   3.1790,  34.9470,2,  34.9453,2,    270.9,2,    14.34,2,    16.39,2,     0.01,2,     1.17,2
     06GA226_2,  AR19,    61,  1,     08,    D08,2,19930719,2146, 47.4900, -23.5567, 3961,   2595.7,   3.1120,  34.9508,2,  34.9505,2,    269.3,2,    19.21,2,    16.99,2,     0.01,2,     1.18,2
     06GA226_2,  AR19,    61,  1,     07,    D16,3,19930719,2146, 47.4900, -23.5567, 3961,   2798.1,   2.9880,  34.9531,2,  34.9548,2,    266.1,2,  -999.00,9,  -999.00,9,  -999.00,9,  -999.00,9
     06GA226_2,  AR19,    61,  1,     06,    D06,2,19930719,2146, 47.4900, -23.5567, 3961,   3000.1,   2.8740,  34.9524,2,  34.9528,2,    261.4,2,    23.58,2,    17.74,2,     0.01,2,     1.26,2
     06GA226_2,  AR19,    61,  1,     05,    D05,2,19930719,2146, 47.4900, -23.5567, 3961,   3198.4,   2.7810,  34.9466,2,  34.9445,2,    256.9,2,    27.29,2,    18.30,2,     0.01,2,     1.27,2
     06GA226_2,  AR19,    61,  1,     04,    D13,2,19930719,2146, 47.4900, -23.5567, 3961,   3396.2,   2.7200,  34.9395,2,  34.9388,2,    253.3,2,    31.03,2,    18.96,2,     0.01,2,     1.37,2
     06GA226_2,  AR19,    61,  1,     03,    D03,2,19930719,2146, 47.4900, -23.5567, 3961,   3599.5,   2.6460,  34.9307,2,  34.9287,2,    248.2,2,    35.67,2,    19.69,2,     0.01,2,     1.46,2
     06GA226_2,  AR19,    61,  1,     02,    D02,2,19930719,2146, 47.4900, -23.5567, 3961,   3799.8,   2.6120,  34.9236,2,  34.9230,2,    245.3,2,    38.46,2,    20.14,2,     0.01,2,     1.47,2
     06GA226_2,  AR19,    61,  1,     01,    D10,2,19930719,2146, 47.4900, -23.5567, 3961,   3998.4,   2.5850,  34.9181,2,  34.9191,2,    243.5,2,    40.95,2,    20.71,2,     0.01,2,     1.56,2
     06GA226_2,  AR19,    62,  1,     24,    D24,2,19930720,0320, 47.6033, -22.8150, 4174,      6.6,  17.3130,  35.5418,2,  35.5538,3,    248.7,2,  -999.00,9,  -999.00,9,  -999.00,9,  -999.00,9
     06GA226_2,  AR19,    62,  1,     23,    N05,2,19930720,0320, 47.6033, -22.8150, 4174,     96.0,  11.5210,  35.5268,2,  35.5211,2,    248.6,2,     3.23,2,     9.56,2,     0.02,2,     0.58,2
     06GA226_2,  AR19,    62,  1,     22,    N02,2,19930720,0320, 47.6033, -22.8150, 4174,    143.9,  11.0590,  35.4662,2,  35.4637,2,    239.2,2,     4.25,2,    11.34,2,     0.03,2,     0.69,2
     06GA226_2,  AR19,    62,  1,     21,    D21,2,19930720,0320, 47.6033, -22.8150, 4174,    196.7,  10.7360,  35.4196,2,  35.4168,2,    228.8,2,     5.06,2,    12.86,2,     0.02,2,     0.79,2
     06GA226_2,  AR19,    62,  1,     20,    N01,2,19930720,0320, 47.6033, -22.8150, 4174,    295.7,  10.1920,  35.3578,2,  35.3563,2,   -999.0,9,     6.29,2,    14.72,2,     0.02,2,     0.97,2
     06GA226_2,  AR19,    62,  1,     19,    D04,2,19930720,0320, 47.6033, -22.8150, 4174,    395.0,   8.9110,  35.1519,2,  35.1463,2,    227.7,2,     7.42,2,    15.50,2,     0.02,2,     1.07,2
     06GA226_2,  AR19,    62,  1,     18,    D18,2,19930720,0320, 47.6033, -22.8150, 4174,    494.8,   7.9390,  35.0565,2,  35.0582,2,    213.0,2,     9.28,2,    17.79,2,     0.02,2,     1.18,2
     06GA226_2,  AR19,    62,  1,     17,    D17,2,19930720,0320, 47.6033, -22.8150, 4174,    595.4,   7.2780,  35.0691,2,  35.0764,2,    207.2,2,    10.44,2,    18.95,2,     0.02,2,     1.27,2
     06GA226_2,  AR19,    62,  1,     16,    N03,2,19930720,0320, 47.6033, -22.8150, 4174,    695.8,   6.6410,  35.0736,2,  35.0586,3,    214.8,2,    10.74,2,    18.96,2,     0.01,2,     1.28,2
     06GA226_2,  AR19,    62,  1,     15,    D15,2,19930720,0320, 47.6033, -22.8150, 4174,    794.8,   5.6960,  35.0223,2,  35.0209,2,    228.4,2,    10.80,2,    18.75,2,     0.01,2,     1.28,2
     06GA226_2,  AR19,    62,  1,     14,    D14,2,19930720,0320, 47.6033, -22.8150, 4174,    894.0,   5.2700,  35.0370,2,  35.0392,2,    238.8,2,    10.69,2,    18.43,2,     0.02,2,     1.26,2
     06GA226_2,  AR19,    62,  1,     13,    N04,2,19930720,0320, 47.6033, -22.8150, 4174,    995.1,   4.9100,  35.0184,2,  35.0189,2,    245.7,2,    10.58,2,    18.22,2,     0.02,2,     1.26,2
     06GA226_2,  AR19,    62,  1,     12,    D12,2,19930720,0320, 47.6033, -22.8150, 4174,   1095.6,   4.6400,  35.0017,2,  35.0001,2,    252.2,2,    10.56,2,    18.07,2,     0.03,2,     1.26,2
     06GA226_2,  AR19,    62,  1,     11,    D11,2,19930720,0320, 47.6033, -22.8150, 4174,   1193.9,   4.5010,  35.0050,2,  35.0042,2,    255.5,2,    10.61,2,    17.86,2,     0.01,2,     1.18,2
     06GA226_2,  AR19,    62,  1,     10,    D19,2,19930720,0320, 47.6033, -22.8150, 4174,   1293.8,   4.2070,  34.9721,2,  34.9723,2,    262.2,2,    10.60,2,    17.84,2,     0.02,2,     1.18,2
     06GA226_2,  AR19,    62,  1,     09,    D09,2,19930720,0320, 47.6033, -22.8150, 4174,   1395.4,   3.9960,  34.9491,2,  34.9476,2,    267.5,2,    10.55,2,    17.53,2,     0.01,2,     1.18,2
     06GA226_2,  AR19,    62,  1,     08,    D08,2,19930720,0320, 47.6033, -22.8150, 4174,   1495.2,   3.8380,  34.9338,2,  34.9338,2,    270.5,2,    10.63,2,    17.48,2,     0.02,2,     1.18,2
     06GA226_2,  AR19,    62,  1,     07,    D16,2,19930720,0320, 47.6033, -22.8150, 4174,   1595.5,   3.7170,  34.9236,2,  34.9235,2,    273.8,2,    10.62,2,    17.25,2,     0.01,2,     1.18,2
     06GA226_2,  AR19,    62,  1,     06,    D06,2,19930720,0320, 47.6033, -22.8150, 4174,   1695.1,   3.5790,  34.9127,2,  34.9122,2,    277.5,2,    10.72,2,    17.13,2,     0.01,2,     1.17,2
     06GA226_2,  AR19,    62,  1,     05,    D05,2,19930720,0320, 47.6033, -22.8150, 4174,   1795.9,   3.4790,  34.9061,2,  34.9066,2,    278.8,2,    10.79,2,    17.04,2,     0.01,2,     1.17,2
     06GA226_2,  AR19,    62,  1,     04,    D13,2,19930720,0320, 47.6033, -22.8150, 4174,   1895.2,   3.4550,  34.9155,2,  34.9146,2,    277.1,2,    11.28,2,    17.04,2,     0.01,2,     1.17,2
     06GA226_2,  AR19,    62,  1,     03,    D03,2,19930720,0320, 47.6033, -22.8150, 4174,   1996.9,   3.4450,  34.9249,2,  34.9257,2,    275.3,2,    11.87,2,    17.06,2,     0.01,2,     1.17,2
     06GA226_2,  AR19,    62,  1,     02,    D02,2,19930720,0320, 47.6033, -22.8150, 4174,   2096.7,   3.4270,  34.9364,2,  34.9355,2,    272.9,2,    12.67,2,    17.09,2,     0.01,2,     1.17,2
     06GA226_2,  AR19,    62,  1,     01,    D10,2,19930720,0320, 47.6033, -22.8150, 4174,   2148.6,   3.3950,  34.9404,2,  34.9395,2,    272.1,2,    13.22,2,    17.15,2,     0.01,2,     1.17,2
     06GA226_2,  AR19,    62,  2,     23,    N05,2,19930720,0630, 47.6050, -22.8167, 4172,   1995.9,   3.4450,  34.9263,2,  34.9261,2,    273.8,2,    11.81,2,    17.29,2,     0.00,2,     1.18,2
     06GA226_2,  AR19,    62,  2,     22,    N02,2,19930720,0630, 47.6050, -22.8167, 4172,   2096.4,   3.4080,  34.9361,2,  34.9379,2,    271.6,2,    12.72,2,    17.18,2,     0.01,2,     1.17,2
     06GA226_2,  AR19,    62,  2,     21,    D21,2,19930720,0630, 47.6050, -22.8167, 4172,   2195.1,   3.3480,  34.9431,2,  34.9431,2,    270.6,2,    13.53,2,    17.39,2,     0.01,2,     1.18,2
     06GA226_2,  AR19,    62,  2,     20,    N01,2,19930720,0630, 47.6050, -22.8167, 4172,   2297.6,   3.2880,  34.9450,2,  34.9462,2,    269.9,2,    14.26,2,    17.59,2,     0.01,2,     1.17,2
     06GA226_2,  AR19,    62,  2,     19,    D04,2,19930720,0630, 47.6050, -22.8167, 4172,   2395.8,   3.2060,  34.9483,2,  34.9499,2,    269.3,2,    14.93,2,  -999.00,9,     0.01,2,     1.17,2
     06GA226_2,  AR19,    62,  2,     18,    D18,2,19930720,0630, 47.6050, -22.8167, 4172,   2495.1,   3.1450,  34.9521,2,  34.9516,2,    267.3,2,    16.67,2,    17.78,2,     0.01,2,     1.18,2
     06GA226_2,  AR19,    62,  2,     17,    D17,2,19930720,0630, 47.6050, -22.8167, 4172,   2597.0,   3.0590,  34.9528,2,  34.9542,2,    266.6,2,    17.80,2,    17.78,2,     0.01,2,     1.18,2
     06GA226_2,  AR19,    62,  2,     16,    N03,2,19930720,0630, 47.6050, -22.8167, 4172,   2697.1,   2.9860,  34.9547,2,  34.9538,2,    264.9,2,    19.70,2,    18.12,2,     0.01,2,     1.18,2
     06GA226_2,  AR19,    62,  2,     15,    D15,2,19930720,0630, 47.6050, -22.8167, 4172,   2796.3,   2.9350,  34.9542,2,  34.9526,2,    263.3,2,    21.13,2,    18.22,2,     0.01,2,     1.26,2
     06GA226_2,  AR19,    62,  2,     14,    D14,2,19930720,0630, 47.6050, -22.8167, 4172,   2897.9,   2.8750,  34.9525,2,  34.9507,2,    261.7,2,    22.69,2,    18.47,2,     0.02,2,     1.27,2
     06GA226_2,  AR19,    62,  2,     13,    N04,2,19930720,0630, 47.6050, -22.8167, 4172,   2998.6,   2.8260,  34.9497,2,  34.9500,2,    258.8,2,    25.11,2,    18.84,2,     0.01,2,     1.27,2
     06GA226_2,  AR19,    62,  2,     12,    D12,2,19930720,0630, 47.6050, -22.8167, 4172,   3098.3,   2.7830,  34.9471,2,  34.9462,2,    256.7,2,    27.20,2,    19.25,2,     0.02,2,     1.36,2
     06GA226_2,  AR19,    62,  2,     11,    D11,2,19930720,0630, 47.6050, -22.8167, 4172,   3199.0,   2.7370,  34.9428,2,  34.9421,2,    253.5,2,    29.84,2,    19.71,2,     0.02,2,     1.37,2
     06GA226_2,  AR19,    62,  2,     10,    D19,2,19930720,0630, 47.6050, -22.8167, 4172,   3298.4,   2.7060,  34.9390,2,  34.9394,2,    252.9,2,    31.19,2,    19.92,2,     0.02,2,     1.46,2
     06GA226_2,  AR19,    62,  2,     09,    D09,2,19930720,0630, 47.6050, -22.8167, 4172,   3399.0,   2.6740,  34.9343,2,  34.9339,2,    250.3,2,    33.63,2,    20.29,2,     0.02,2,     1.46,2
     06GA226_2,  AR19,    62,  2,     08,    D08,2,19930720,0630, 47.6050, -22.8167, 4172,   3499.0,   2.6360,  34.9298,2,  34.9307,2,    246.8,2,    36.16,2,    20.85,2,     0.02,2,     1.47,2
     06GA226_2,  AR19,    62,  2,     07,    D16,2,19930720,0630, 47.6050, -22.8167, 4172,   3599.7,   2.6010,  34.9249,2,  34.9252,2,    246.5,2,    38.29,2,    21.25,2,     0.02,2,     1.56,2
     06GA226_2,  AR19,    62,  2,     06,    D06,2,19930720,0630, 47.6050, -22.8167, 4172,   3698.8,   2.5860,  34.9220,2,-999.0000,9,    244.7,2,    39.45,2,    21.43,2,     0.03,2,     1.56,2
     06GA226_2,  AR19,    62,  2,     05,    D05,2,19930720,0630, 47.6050, -22.8167, 4172,   3800.1,   2.5720,  34.9198,2,  34.9209,2,    244.1,2,    40.01,2,    21.46,2,     0.02,2,     1.56,2
     06GA226_2,  AR19,    62,  2,     04,    D13,2,19930720,0630, 47.6050, -22.8167, 4172,   3900.6,   2.5650,  34.9161,2,-999.0000,9,    243.9,2,    39.29,3,    21.33,2,     0.01,2,     1.56,2
     06GA226_2,  AR19,    62,  2,     03,    D03,2,19930720,0630, 47.6050, -22.8167, 4172,   4100.4,   2.5570,  34.9131,2,  34.9125,2,    241.9,2,    42.24,2,    21.81,2,     0.02,2,     1.57,2
     06GA226_2,  AR19,    62,  2,     02,    D02,2,19930720,0630, 47.6050, -22.8167, 4172,   4198.7,   2.5530,  34.9121,2,  34.9111,2,    241.5,2,    42.83,2,    21.83,2,     0.02,2,     1.57,2
     06GA226_2,  AR19,    62,  2,     01,    D10,2,19930720,0630, 47.6050, -22.8167, 4172,   4235.0,   2.5550,  34.9111,2,  34.9114,2,    241.5,2,    42.92,2,    21.78,2,     0.02,2,     1.57,2