BOTTLE,20010917WHPSIOKJU
EXPOCODE,SECT_ID,STNNBR,CASTNO,SAMPNO,BTLNBR,BTLNBR_FLAG_W,DATE,TIME,LATITUDE,LONGITUDE,DEPTH,CTDPRS,CTDTMP,CTDSAL,CTDSAL_FLAG_W,SALNTY,SALNTY_FLAG_W,OXYGEN,OXYGEN_FLAG_W,SILCAT,SILCAT_FLAG_W,NITRAT,NITRAT_FLAG_W,NITRIT,NITRIT_FLAG_W,PHSPHT,PHSPHT_FLAG_W
,,,,,ID,,,,,,,DBAR,ITS-90,PSS-78,,PSS-78,,UMOL/KG,,UMOL/KG,,UMOL/KG,,UMOL/KG,,UMOL/KG,
     06GA226_2,  AR19,    56,  1,     24,    D24,3,19930718,2029, 47.0433, -26.6583, 2819,      6.7,  17.8370,  35.5948,2,  35.5865,2,    251.6,2,     0.74,2,     0.10,2,     0.01,2,     0.01,2
     06GA226_2,  AR19,    56,  1,     23,    N05,2,19930718,2029, 47.0433, -26.6583, 2819,     47.4,  12.9430,  35.5382,2,  35.5324,2,    254.1,2,     1.09,2,     3.87,2,     0.21,2,     0.30,2
     06GA226_2,  AR19,    56,  1,     22,    D13,2,19930718,2029, 47.0433, -26.6583, 2819,     97.1,  11.4640,  35.4940,2,  35.4900,2,    246.7,2,     2.93,2,     9.42,2,     0.04,2,     0.58,2
     06GA226_2,  AR19,    56,  1,     21,    D21,2,19930718,2029, 47.0433, -26.6583, 2819,    195.1,  10.3900,  35.3424,2,  35.3353,2,    246.8,2,     4.88,2,    11.53,2,     0.03,2,     0.69,2
     06GA226_2,  AR19,    56,  1,     20,    N01,2,19930718,2029, 47.0433, -26.6583, 2819,    294.3,   9.4230,  35.1914,2,  35.1884,2,    236.1,2,     6.50,2,    13.31,2,     0.03,2,     0.89,2
     06GA226_2,  AR19,    56,  1,     19,    D10,2,19930718,2029, 47.0433, -26.6583, 2819,    395.6,   8.4560,  35.0868,2,  35.0834,2,    214.1,2,     8.79,2,    16.22,2,     0.03,2,     1.08,2
     06GA226_2,  AR19,    56,  1,     18,    D18,2,19930718,2029, 47.0433, -26.6583, 2819,    494.1,   7.4500,  35.0317,2,  35.0255,2,    205.1,2,    10.51,2,    18.07,2,     0.03,2,     1.27,2
     06GA226_2,  AR19,    56,  1,     17,    D17,2,19930718,2029, 47.0433, -26.6583, 2819,    633.1,   6.6460,  35.0648,2,  35.0619,2,    211.0,2,    11.11,2,    18.29,2,     0.04,2,     1.28,2
     06GA226_2,  AR19,    56,  1,     16,    D16,2,19930718,2029, 47.0433, -26.6583, 2819,    766.4,   5.5470,  35.0105,2,  35.0099,2,    230.2,2,    11.10,2,    17.97,2,     0.04,2,     1.27,2
     06GA226_2,  AR19,    56,  1,     15,    D15,2,19930718,2029, 47.0433, -26.6583, 2819,    823.9,   5.7260,  35.0810,2,  35.0784,2,    228.5,2,    11.04,2,    17.81,2,     0.03,2,     1.27,2
     06GA226_2,  AR19,    56,  1,     14,    D14,2,19930718,2029, 47.0433, -26.6583, 2819,    896.0,   5.3780,  35.0602,2,  35.0582,2,    235.8,2,    10.98,2,    17.73,2,     0.04,2,     1.26,2
     06GA226_2,  AR19,    56,  1,     13,    D04,2,19930718,2029, 47.0433, -26.6583, 2819,    994.8,   4.7870,  35.0119,2,  35.0133,2,    247.0,2,    10.82,2,    17.38,2,     0.03,2,     1.18,2
     06GA226_2,  AR19,    56,  1,     12,    D12,2,19930718,2029, 47.0433, -26.6583, 2819,   1095.3,   4.3030,  34.9599,2,  34.9603,2,    258.0,2,    10.73,2,    17.20,2,     0.04,2,     1.18,2
     06GA226_2,  AR19,    56,  1,     11,    D11,2,19930718,2029, 47.0433, -26.6583, 2819,   1194.4,   4.0570,  34.9332,2,  34.9325,2,    264.2,2,    10.55,2,    16.88,2,     0.02,2,     1.17,2
     06GA226_2,  AR19,    56,  1,     10,    N03,2,19930718,2029, 47.0433, -26.6583, 2819,   1344.4,   3.7750,  34.9149,2,  34.9142,2,    271.5,2,    10.56,2,    16.67,2,     0.02,2,     1.17,2
     06GA226_2,  AR19,    56,  1,     09,    D09,2,19930718,2029, 47.0433, -26.6583, 2819,   1496.6,   3.6580,  34.9101,2,  34.9091,2,    273.9,2,    10.79,2,    16.55,2,     0.03,2,     1.17,2
     06GA226_2,  AR19,    56,  1,     08,    D08,2,19930718,2029, 47.0433, -26.6583, 2819,   1646.8,   3.5370,  34.9026,2,  34.9029,2,    276.7,2,    10.84,2,    16.44,2,     0.02,2,     1.17,2
     06GA226_2,  AR19,    56,  1,     07,    N04,2,19930718,2029, 47.0433, -26.6583, 2819,   1795.5,   3.4780,  34.9045,2,  34.9030,2,    277.3,2,    11.10,2,    16.46,2,     0.02,2,     1.17,2
     06GA226_2,  AR19,    56,  1,     06,    D06,2,19930718,2029, 47.0433, -26.6583, 2819,   1942.7,   3.4240,  34.9106,2,  34.9088,2,    277.2,2,    11.70,2,    16.49,2,     0.01,2,     1.17,2
     06GA226_2,  AR19,    56,  1,     05,    D05,2,19930718,2029, 47.0433, -26.6583, 2819,   2094.0,   3.3810,  34.9202,2,  34.9189,2,    274.1,2,    12.80,2,    16.51,2,     0.02,2,     1.17,2
     06GA226_2,  AR19,    56,  1,     04,    D19,2,19930718,2029, 47.0433, -26.6583, 2819,   2244.3,   3.3290,  34.9286,2,  34.9278,2,    271.2,2,    14.50,2,    16.74,2,     0.02,2,     1.17,2
     06GA226_2,  AR19,    56,  1,     03,    D03,2,19930718,2029, 47.0433, -26.6583, 2819,   2397.4,   3.2700,  34.9356,2,  34.9332,2,    270.1,2,    15.63,2,    16.84,2,     0.02,2,     1.17,2
     06GA226_2,  AR19,    56,  1,     02,    D02,2,19930718,2029, 47.0433, -26.6583, 2819,   2645.7,   3.1980,  34.9415,2,  34.9393,2,    266.7,2,    17.80,2,    17.08,2,     0.03,2,     1.17,2
     06GA226_2,  AR19,    56,  1,     01,    D16,2,19930718,2029, 47.0433, -26.6583, 2819,   2789.4,   3.1620,  34.9434,2,  34.9422,2,    265.4,2,    19.17,2,    17.33,2,     0.02,2,     1.26,2
     06GA226_2,  AR19,    57,  1,     24,    D24,2,19930719,0008, 47.1050, -26.2883, 2417,      5.8,  17.7650,  35.6272,2,  35.6209,2,    250.6,2,     0.80,2,     0.10,2,     0.04,2,     0.10,2
     06GA226_2,  AR19,    57,  1,     23,    N05,2,19930719,0008, 47.1050, -26.2883, 2417,     96.5,  12.1610,  35.5906,2,  35.5850,2,    248.0,2,     2.12,2,     7.81,2,     0.04,2,     0.50,2
     06GA226_2,  AR19,    57,  1,     22,    D13,2,19930719,0008, 47.1050, -26.2883, 2417,    246.2,  10.6970,  35.3909,2,  35.3892,2,    245.3,2,     4.66,2,    11.06,2,     0.04,2,     0.69,2
     06GA226_2,  AR19,    57,  1,     21,    D21,2,19930719,0008, 47.1050, -26.2883, 2417,    496.6,   8.4590,  35.1045,2,  35.1052,2,    213.3,2,     8.79,2,    16.26,2,     0.04,2,     1.17,2
     06GA226_2,  AR19,    57,  1,     20,    N01,2,19930719,0008, 47.1050, -26.2883, 2417,    594.4,   7.3130,  35.0270,2,  35.0262,2,    204.7,2,    10.62,2,    18.24,2,     0.04,2,     1.28,2
     06GA226_2,  AR19,    57,  1,     19,    D10,2,19930719,0008, 47.1050, -26.2883, 2417,    694.0,   6.8010,  35.0831,2,  35.0802,2,    208.7,2,    10.99,2,    18.39,2,     0.04,2,     1.27,2
     06GA226_2,  AR19,    57,  1,     18,    D18,2,19930719,0008, 47.1050, -26.2883, 2417,    796.3,   5.9500,  35.0443,2,  35.0428,2,    223.8,2,    11.03,2,    18.10,2,     0.05,2,     1.27,2
     06GA226_2,  AR19,    57,  1,     17,    D17,2,19930719,0008, 47.1050, -26.2883, 2417,    894.9,   5.9240,  35.1207,2,  35.1209,2,    226.8,2,    10.87,2,    17.79,2,     0.05,2,     1.18,2
     06GA226_2,  AR19,    57,  1,     16,    D16,2,19930719,0008, 47.1050, -26.2883, 2417,    994.9,   5.1880,  35.0458,2,  35.0450,2,    239.8,2,    10.83,2,    17.65,2,     0.04,2,     1.18,2
     06GA226_2,  AR19,    57,  1,     15,    D15,2,19930719,0008, 47.1050, -26.2883, 2417,   1094.4,   4.4790,  34.9675,2,  34.9666,2,    254.3,2,    10.63,2,    17.30,2,     0.04,2,     1.18,2
     06GA226_2,  AR19,    57,  1,     14,    D14,2,19930719,0008, 47.1050, -26.2883, 2417,   1194.9,   4.1480,  34.9404,2,  34.9383,2,    262.3,2,    10.50,2,    17.12,2,     0.05,2,     1.18,2
     06GA226_2,  AR19,    57,  1,     13,    D04,2,19930719,0008, 47.1050, -26.2883, 2417,   1294.6,   4.0160,  34.9344,2,  34.9325,2,    265.6,2,    10.48,2,    16.86,2,     0.04,2,     1.17,2
     06GA226_2,  AR19,    57,  1,     12,    D12,2,19930719,0008, 47.1050, -26.2883, 2417,   1396.2,   3.8640,  34.9219,2,  34.9205,2,    269.8,2,    10.54,2,    16.91,2,     0.06,2,     1.17,2
     06GA226_2,  AR19,    57,  1,     11,    D11,2,19930719,0008, 47.1050, -26.2883, 2417,   1496.6,   3.6940,  34.9073,2,  34.9061,2,    274.2,2,    10.50,2,    16.62,2,     0.05,2,     1.17,2
     06GA226_2,  AR19,    57,  1,     10,    N03,2,19930719,0008, 47.1050, -26.2883, 2417,   1595.2,   3.5830,  34.9014,2,  34.9017,2,    276.2,2,    10.59,2,    16.56,2,     0.05,2,     1.17,2
     06GA226_2,  AR19,    57,  1,     09,    D09,2,19930719,0008, 47.1050, -26.2883, 2417,   1696.5,   3.5200,  34.9010,2,  34.8997,2,    277.0,2,    10.72,2,    16.33,2,     0.05,2,     1.17,2
     06GA226_2,  AR19,    57,  1,     08,    D08,2,19930719,0008, 47.1050, -26.2883, 2417,   1796.1,   3.4890,  34.9055,2,  34.9039,2,    278.1,2,    11.01,2,    16.36,2,     0.04,2,     1.17,2
     06GA226_2,  AR19,    57,  1,     07,    N04,2,19930719,0008, 47.1050, -26.2883, 2417,   1895.2,   3.4740,  34.9129,2,  34.9108,2,    277.0,2,    11.37,2,    16.34,2,     0.03,2,     1.17,2
     06GA226_2,  AR19,    57,  1,     06,    D06,2,19930719,0008, 47.1050, -26.2883, 2417,   1996.1,   3.4560,  34.9178,2,  34.9171,2,    276.6,2,    11.72,2,    16.37,2,     0.04,2,     1.17,2
     06GA226_2,  AR19,    57,  1,     05,    D05,2,19930719,0008, 47.1050, -26.2883, 2417,   2096.4,   3.4280,  34.9265,2,  34.9249,2,    273.3,2,    12.41,2,    16.48,2,     0.05,2,     1.17,2
     06GA226_2,  AR19,    57,  1,     04,    D19,2,19930719,0008, 47.1050, -26.2883, 2417,   2195.8,   3.3730,  34.9348,2,  34.9338,2,    272.2,2,    13.32,2,    16.58,2,     0.04,2,     1.17,2
     06GA226_2,  AR19,    57,  1,     03,    D03,2,19930719,0008, 47.1050, -26.2883, 2417,   2295.4,   3.3170,  34.9366,2,  34.9350,2,    271.1,2,    14.33,2,    16.67,2,     0.04,2,     1.17,2
     06GA226_2,  AR19,    57,  1,     02,    D02,2,19930719,0008, 47.1050, -26.2883, 2417,   2395.6,   3.2720,  34.9380,2,  34.9365,2,    270.6,2,    15.20,2,    16.61,2,     0.03,2,     1.17,2
     06GA226_2,  AR19,    57,  1,     01,    D16,2,19930719,0008, 47.1050, -26.2883, 2417,   2435.8,   3.2490,  34.9394,2,  34.9387,2,    269.5,2,    15.79,2,    16.72,2,     0.03,2,     1.17,2
     06GA226_2,  AR19,    58,  1,     24,    D24,2,19930719,0500, 47.1883, -25.7283, 3034,      6.4,  17.4190,  35.6121,2,  35.6075,2,    248.4,2,  -999.00,9,  -999.00,9,  -999.00,9,  -999.00,9
     06GA226_2,  AR19,    58,  1,     23,    N05,2,19930719,0500, 47.1883, -25.7283, 3034,     46.5,  12.8310,  35.6645,2,  35.6570,2,    246.6,2,     1.06,2,     5.67,2,     0.63,2,     0.39,2
     06GA226_2,  AR19,    58,  1,     22,    D13,2,19930719,0500, 47.1883, -25.7283, 3034,     95.1,  12.2000,  35.6319,2,  35.6302,2,    245.5,2,     2.49,2,     8.06,2,     0.03,2,     0.50,2
     06GA226_2,  AR19,    58,  1,     21,    D21,2,19930719,0500, 47.1883, -25.7283, 3034,    227.1,  11.7470,  35.5729,2,  35.5716,2,    250.4,2,     3.03,2,     8.59,2,     0.03,2,     0.50,2
     06GA226_2,  AR19,    58,  1,     20,    N01,2,19930719,0500, 47.1883, -25.7283, 3034,    495.7,  10.3050,  35.3713,2,  35.3688,2,    222.5,2,     5.97,2,    13.79,2,     0.03,2,     0.89,2
     06GA226_2,  AR19,    58,  1,     19,    D10,2,19930719,0500, 47.1883, -25.7283, 3034,    596.3,   9.4110,  35.2726,2,  35.2695,2,    210.6,2,     7.71,2,    15.98,2,     0.03,2,     0.98,2
     06GA226_2,  AR19,    58,  1,     18,    D18,2,19930719,0500, 47.1883, -25.7283, 3034,    693.9,   8.5450,  35.2079,2,  35.2038,2,    202.4,2,     9.20,2,    17.71,2,     0.04,2,     1.17,2
     06GA226_2,  AR19,    58,  1,     17,    D17,2,19930719,0500, 47.1883, -25.7283, 3034,    796.1,   7.5300,  35.1618,2,  35.1611,2,    201.0,2,    10.48,2,    18.67,2,     0.04,2,     1.27,2
     06GA226_2,  AR19,    58,  1,     16,    D16,2,19930719,0500, 47.1883, -25.7283, 3034,    889.3,   6.4590,  35.0721,2,  35.0661,2,    217.0,2,    10.76,2,    18.64,2,     0.04,2,     1.28,2
     06GA226_2,  AR19,    58,  1,     15,    D15,2,19930719,0500, 47.1883, -25.7283, 3034,    930.1,   5.7950,  34.9996,2,  34.9971,2,    224.3,2,    10.85,2,    18.60,2,     0.03,2,     1.28,2
     06GA226_2,  AR19,    58,  1,     14,    D14,2,19930719,0500, 47.1883, -25.7283, 3034,    969.9,   6.2870,  35.1444,2,  35.1291,3,    220.9,2,    10.76,2,    18.31,2,     0.03,2,     1.27,2
     06GA226_2,  AR19,    58,  1,     13,    D04,2,19930719,0500, 47.1883, -25.7283, 3034,   1093.9,   5.0700,  34.9964,2,  34.9971,2,    239.4,2,    10.69,2,    18.12,2,     0.04,2,     1.18,2
     06GA226_2,  AR19,    58,  1,     12,    D12,2,19930719,0500, 47.1883, -25.7283, 3034,   1194.0,   4.6910,  34.9918,2,  34.9890,2,    249.6,2,    10.55,2,    17.73,2,     0.03,2,     1.18,2
     06GA226_2,  AR19,    58,  1,     11,    D11,2,19930719,0500, 47.1883, -25.7283, 3034,   1346.0,   4.1340,  34.9426,2,  34.9416,2,    262.5,2,    10.26,2,    17.27,2,     0.02,2,     1.17,2
     06GA226_2,  AR19,    58,  1,     10,    N03,2,19930719,0500, 47.1883, -25.7283, 3034,   1495.0,   3.7990,  34.9082,2,  34.9079,2,    271.1,2,    10.11,2,    17.06,2,     0.02,2,     1.17,2
     06GA226_2,  AR19,    58,  1,     09,    D09,2,19930719,0500, 47.1883, -25.7283, 3034,   1645.0,   3.6270,  34.8993,2,  34.8977,2,    276.2,2,    10.14,2,    16.83,2,     0.03,2,     1.17,2
     06GA226_2,  AR19,    58,  1,     08,    D08,2,19930719,0500, 47.1883, -25.7283, 3034,   1793.8,   3.5590,  34.9011,2,  34.9007,2,    276.6,2,    10.34,2,    16.77,2,     0.03,2,     1.08,2
     06GA226_2,  AR19,    58,  1,     07,    N04,2,19930719,0500, 47.1883, -25.7283, 3034,   1997.8,   3.4690,  34.9069,2,  34.9053,2,    277.5,2,    10.77,2,    16.71,2,     0.02,2,     1.08,2
     06GA226_2,  AR19,    58,  1,     06,    D06,2,19930719,0500, 47.1883, -25.7283, 3034,   2195.7,   3.4570,  34.9267,2,  34.9255,2,    274.1,2,    11.98,2,    16.83,2,     0.04,2,     1.08,2
     06GA226_2,  AR19,    58,  1,     05,    D05,2,19930719,0500, 47.1883, -25.7283, 3034,   2397.6,   3.3500,  34.9369,2,  34.9365,2,    272.1,2,    13.78,2,    16.91,2,     0.04,2,     1.17,2
     06GA226_2,  AR19,    58,  1,     04,    D19,2,19930719,0500, 47.1883, -25.7283, 3034,   2597.6,   3.1930,  34.9447,2,  34.9440,2,    267.8,2,    16.68,2,    17.19,2,     0.03,2,     1.17,2
     06GA226_2,  AR19,    58,  1,     03,    D03,2,19930719,0500, 47.1883, -25.7283, 3034,   2797.5,   3.1020,  34.9479,2,  34.9473,2,    265.0,2,    18.78,2,    17.43,2,     0.04,2,     1.18,2
     06GA226_2,  AR19,    58,  1,     02,    D02,2,19930719,0500, 47.1883, -25.7283, 3034,   2998.7,   3.0410,  34.9480,2,  34.9467,2,    263.3,2,    20.81,2,    17.76,2,     0.05,2,     1.18,2
     06GA226_2,  AR19,    58,  1,     01,    D16,2,19930719,0500, 47.1883, -25.7283, 3034,   3044.3,   3.0240,  34.9480,2,  34.9474,2,    263.6,2,    21.31,2,    17.86,2,     0.04,2,     1.26,2
     06GA226_2,  AR19,    59,  1,     24,    D24,2,19930719,1037, 47.2800, -25.0100, 3046,      6.5,  17.2720,  35.6467,2,  35.6417,2,    251.2,2,     0.36,2,     0.29,2,     0.02,2,     0.01,2
     06GA226_2,  AR19,    59,  1,     23,    N05,2,19930719,1037, 47.2800, -25.0100, 3046,     96.0,  12.2990,  35.6510,2,  35.6468,2,    243.7,2,     2.76,2,     8.29,2,     0.03,2,     0.50,2
     06GA226_2,  AR19,    59,  1,     22,    D13,2,19930719,1037, 47.2800, -25.0100, 3046,    196.3,  11.8190,  35.5826,2,  35.5805,2,    251.1,2,     3.21,2,     8.63,2,     0.03,2,     0.58,2
     06GA226_2,  AR19,    59,  1,     21,    D21,2,19930719,1037, 47.2800, -25.0100, 3046,    294.8,  11.7730,  35.5810,2,  35.5796,2,    254.9,2,     3.00,2,     8.14,2,     0.03,2,     0.50,2
     06GA226_2,  AR19,    59,  1,     20,    N01,2,19930719,1037, 47.2800, -25.0100, 3046,    396.2,  11.1660,  35.4688,2,  35.4651,2,    241.2,2,     4.31,2,    10.59,2,     0.03,2,     0.69,2
     06GA226_2,  AR19,    59,  1,     19,    D10,2,19930719,1037, 47.2800, -25.0100, 3046,    494.9,  10.5120,  35.3833,2,  35.3834,2,    234.3,2,     5.36,2,    12.23,2,     0.04,2,     0.79,2
     06GA226_2,  AR19,    59,  1,     18,    D18,2,19930719,1037, 47.2800, -25.0100, 3046,    591.7,   9.9320,  35.3326,2,  35.3433,3,    217.9,2,     6.88,2,    14.50,2,     0.04,2,     0.97,2
     06GA226_2,  AR19,    59,  1,     16,    D16,2,19930719,1037, 47.2800, -25.0100, 3046,    646.8,   9.1200,  35.2129,2,  35.2133,2,    237.9,2,     6.91,2,    13.90,2,     0.04,2,     0.97,2
     06GA226_2,  AR19,    59,  1,     17,    D17,2,19930719,1037, 47.2800, -25.0100, 3046,    647.5,   9.1270,  35.2146,2,  35.2097,2,    238.8,2,     6.90,2,    13.86,2,     0.04,2,     0.97,2
     06GA226_2,  AR19,    59,  1,     15,    D15,2,19930719,1037, 47.2800, -25.0100, 3046,    745.3,   8.5600,  35.2132,2,  35.2101,2,    204.0,2,     9.52,2,    17.14,2,     0.04,2,     1.18,2
     06GA226_2,  AR19,    59,  1,     14,    D14,2,19930719,1037, 47.2800, -25.0100, 3046,    896.6,   7.0810,  35.1456,2,  35.1442,2,    208.6,2,    10.88,2,    18.08,2,     0.04,2,     1.28,2
     06GA226_2,  AR19,    59,  1,     13,    D04,2,19930719,1037, 47.2800, -25.0100, 3046,   1044.3,   6.4330,  35.1981,2,  35.1932,2,    221.0,2,    10.87,2,    17.57,2,     0.04,2,     1.27,2
     06GA226_2,  AR19,    59,  1,     11,    D11,2,19930719,1037, 47.2800, -25.0100, 3046,   1295.4,   4.3430,  34.9495,2,  34.9491,2,    257.8,2,    10.64,2,    17.53,2,     0.04,2,     1.26,2
     06GA226_2,  AR19,    59,  1,     09,    D09,2,19930719,1037, 47.2800, -25.0100, 3046,   1495.2,   3.8660,  34.9126,2,  34.9119,2,    270.6,2,    10.43,2,    17.08,2,     0.05,2,     1.18,2
     06GA226_2,  AR19,    59,  1,     10,    N03,2,19930719,1037, 47.2800, -25.0100, 3046,   1497.0,   3.8630,  34.9123,2,  34.9115,2,    271.1,2,    10.41,2,    17.00,2,     0.03,2,     1.18,2
     06GA226_2,  AR19,    59,  1,     08,    D08,2,19930719,1037, 47.2800, -25.0100, 3046,   1694.0,   3.5840,  34.8942,2,  34.8953,2,    278.4,2,    10.41,2,    16.86,2,     0.04,2,     1.18,2
     06GA226_2,  AR19,    59,  1,     07,    N04,2,19930719,1037, 47.2800, -25.0100, 3046,   1799.2,   3.5500,  34.8969,2,  34.8960,2,    278.9,2,    10.58,2,    16.73,2,     0.04,2,     1.18,2
     06GA226_2,  AR19,    59,  1,     06,    D06,2,19930719,1037, 47.2800, -25.0100, 3046,   1994.2,   3.4490,  34.8984,2,  34.8987,2,    281.0,2,    10.77,2,    16.54,2,     0.03,2,     1.17,2
     06GA226_2,  AR19,    59,  1,     05,    D05,2,19930719,1037, 47.2800, -25.0100, 3046,   2174.5,   3.4140,  34.9063,2,  34.9075,2,    280.1,2,    11.17,2,    16.37,2,     0.03,2,     1.17,2
     06GA226_2,  AR19,    59,  1,     04,    D19,2,19930719,1037, 47.2800, -25.0100, 3046,   2396.2,   3.3980,  34.9277,2,  34.9267,2,    275.0,2,    12.33,2,    16.46,2,     0.03,2,     1.17,2
     06GA226_2,  AR19,    59,  1,     03,    D03,2,19930719,1037, 47.2800, -25.0100, 3046,   2595.8,   3.3010,  34.9431,2,  34.9427,2,    271.1,2,    14.24,2,    16.90,2,     0.03,2,     1.17,2
     06GA226_2,  AR19,    59,  1,     02,    D02,2,19930719,1037, 47.2800, -25.0100, 3046,   2796.9,   3.1560,  34.9490,2,  34.9493,2,    268.9,2,    16.77,2,    16.91,2,     0.02,2,     1.17,2
     06GA226_2,  AR19,    59,  1,     01,    D16,2,19930719,1037, 47.2800, -25.0100, 3046,   3054.1,   2.8970,  34.9461,2,  34.9466,2,    259.4,2,    24.94,2,    18.05,2,     0.03,2,     1.36,2