BOTTLE,20010917WHPSIOKJU
EXPOCODE,SECT_ID,STNNBR,CASTNO,SAMPNO,BTLNBR,BTLNBR_FLAG_W,DATE,TIME,LATITUDE,LONGITUDE,DEPTH,CTDPRS,CTDTMP,CTDSAL,CTDSAL_FLAG_W,SALNTY,SALNTY_FLAG_W,OXYGEN,OXYGEN_FLAG_W,SILCAT,SILCAT_FLAG_W,NITRAT,NITRAT_FLAG_W,NITRIT,NITRIT_FLAG_W,PHSPHT,PHSPHT_FLAG_W
,,,,,ID,,,,,,,DBAR,ITS-90,PSS-78,,PSS-78,,UMOL/KG,,UMOL/KG,,UMOL/KG,,UMOL/KG,,UMOL/KG,
     06GA226_2,  AR19,    41,  1,     24,    D24,2,19930715,1519, 45.0267, -34.4300, 3986,   3894.3,   2.2880,  34.9047,2,  34.9038,2,    276.1,2,    19.00,2,    16.76,2,     0.03,2,     1.08,2
     06GA226_2,  AR19,    41,  1,     23,    D23,2,19930715,1519, 45.0267, -34.4300, 3986,   3894.5,   2.2880,  34.9046,2,  34.9042,2,    276.0,2,    18.95,2,    16.80,2,     0.03,2,     1.17,2
     06GA226_2,  AR19,    41,  1,     22,    D13,2,19930715,1519, 45.0267, -34.4300, 3986,   3895.3,   2.2880,  34.9045,2,  34.9059,2,    276.8,2,    18.79,2,    16.84,2,     0.03,2,     1.17,2
     06GA226_2,  AR19,    41,  1,     21,    D21,2,19930715,1519, 45.0267, -34.4300, 3986,   3896.0,   2.2870,  34.9048,2,  34.9052,2,    276.5,2,    18.86,2,    16.88,2,     0.04,2,     1.17,2
     06GA226_2,  AR19,    41,  1,     20,    N01,2,19930715,1519, 45.0267, -34.4300, 3986,   3896.5,   2.2880,  34.9046,2,  34.9049,2,    276.6,2,    18.96,2,    16.92,2,     0.04,2,     1.17,2
     06GA226_2,  AR19,    41,  1,     19,    D10,2,19930715,1519, 45.0267, -34.4300, 3986,   3897.6,   2.2880,  34.9046,2,  34.9059,2,    277.1,2,    18.90,2,    16.85,2,     0.04,2,     1.17,2
     06GA226_2,  AR19,    41,  1,     18,    D18,2,19930715,1519, 45.0267, -34.4300, 3986,   3897.7,   2.2890,  34.9046,2,  34.9045,2,    276.1,2,    18.91,2,    16.81,2,     0.04,2,     1.17,2
     06GA226_2,  AR19,    41,  1,     16,    D16,2,19930715,1519, 45.0267, -34.4300, 3986,   3898.6,   2.2870,  34.9047,2,  34.9039,2,    276.3,2,    19.18,3,    16.91,2,     0.05,2,     1.17,2
     06GA226_2,  AR19,    41,  1,     14,    D14,2,19930715,1519, 45.0267, -34.4300, 3986,   3898.7,   2.2870,  34.9043,2,  34.9048,2,    276.2,2,    19.09,2,    16.93,2,     0.04,2,     1.17,2
     06GA226_2,  AR19,    41,  1,     17,    D17,2,19930715,1519, 45.0267, -34.4300, 3986,   3898.8,   2.2880,  34.9044,2,  34.9043,2,    276.9,2,    19.15,3,    16.92,2,     0.04,2,     1.17,2
     06GA226_2,  AR19,    41,  1,     13,    D04,2,19930715,1519, 45.0267, -34.4300, 3986,   3899.0,   2.2880,  34.9045,2,  34.9049,2,    276.5,2,    19.05,2,    16.90,2,     0.05,2,     1.17,2
     06GA226_2,  AR19,    41,  1,     15,    D15,2,19930715,1519, 45.0267, -34.4300, 3986,   3899.1,   2.2860,  34.9046,2,  34.9043,2,    276.5,2,    19.06,2,    16.89,2,     0.04,2,     1.17,2
     06GA226_2,  AR19,    41,  1,     12,    D12,2,19930715,1519, 45.0267, -34.4300, 3986,   3899.3,   2.2880,  34.9046,2,  34.9051,2,    276.9,2,    19.00,2,    16.83,2,     0.04,2,     1.17,2
     06GA226_2,  AR19,    41,  1,     11,    D11,2,19930715,1519, 45.0267, -34.4300, 3986,   3899.5,   2.2880,  34.9045,2,  34.9033,2,    276.9,2,    18.93,2,    16.81,2,     0.04,2,     1.17,2
     06GA226_2,  AR19,    41,  1,     07,    D22,2,19930715,1519, 45.0267, -34.4300, 3986,   3899.6,   2.2890,  34.9047,2,  34.9043,2,    276.7,2,    18.85,2,    16.73,2,     0.03,2,     1.17,2
     06GA226_2,  AR19,    41,  1,     05,    D05,2,19930715,1519, 45.0267, -34.4300, 3986,   3899.6,   2.2900,  34.9045,2,  34.9041,2,    276.4,2,    18.91,2,    16.80,2,     0.05,2,     1.17,2
     06GA226_2,  AR19,    41,  1,     03,    D03,2,19930715,1519, 45.0267, -34.4300, 3986,   3899.6,   2.2900,  34.9047,2,  34.9047,2,    277.2,3,    18.93,2,    16.75,2,     0.05,2,     1.17,2
     06GA226_2,  AR19,    41,  1,     09,    D09,2,19930715,1519, 45.0267, -34.4300, 3986,   3899.7,   2.2880,  34.9044,2,  34.9037,2,    276.3,2,    18.91,2,    16.76,2,     0.04,2,     1.17,2
     06GA226_2,  AR19,    41,  1,     08,    D08,2,19930715,1519, 45.0267, -34.4300, 3986,   3899.7,   2.2880,  34.9047,2,  34.9039,2,    276.6,2,    19.05,2,    16.91,2,     0.08,2,     1.17,2
     06GA226_2,  AR19,    41,  1,     10,    N03,2,19930715,1519, 45.0267, -34.4300, 3986,   3899.8,   2.2890,  34.9046,2,  34.9036,2,    276.7,2,    18.95,2,    16.87,2,     0.03,2,     1.17,2
     06GA226_2,  AR19,    41,  1,     01,    D16,2,19930715,1519, 45.0267, -34.4300, 3986,   3899.8,   2.2900,  34.9042,2,  34.9053,2,    276.9,2,    18.98,2,    16.70,2,     0.05,2,     1.17,2
     06GA226_2,  AR19,    41,  1,     04,    D19,2,19930715,1519, 45.0267, -34.4300, 3986,   3899.9,   2.2910,  34.9047,2,  34.9042,2,    276.9,2,    18.93,2,    16.74,2,     0.06,2,     1.17,2
     06GA226_2,  AR19,    41,  1,     06,    D06,2,19930715,1519, 45.0267, -34.4300, 3986,   3900.0,   2.2890,  34.9048,2,  34.9036,2,    277.4,2,    18.92,2,    16.82,2,     0.05,2,     1.17,2
     06GA226_2,  AR19,    41,  1,     02,    D02,2,19930715,1519, 45.0267, -34.4300, 3986,   3900.1,   2.2900,  34.9046,2,  34.9066,2,    276.5,2,    18.99,2,    16.71,2,     0.04,2,     1.17,2
     06GA226_2,  AR19,    42,  1,     24,    D24,2,19930715,2003, 45.1167, -34.0850, 3623,      7.2,  17.1300,  35.8100,2,  35.8077,2,    262.1,2,     0.15,2,     0.02,2,     0.03,2,     0.01,2
     06GA226_2,  AR19,    42,  1,     23,    D23,2,19930715,2003, 45.1167, -34.0850, 3623,     96.4,  12.9970,  35.7257,2,-999.0000,9,    240.3,2,     2.78,2,     7.75,2,     0.05,2,     0.40,2
     06GA226_2,  AR19,    42,  1,     22,    D13,2,19930715,2003, 45.1167, -34.0850, 3623,    196.9,  11.5770,  35.5354,2,  35.5324,2,    234.7,2,     4.79,2,    11.18,2,     0.05,2,     0.68,2
     06GA226_2,  AR19,    42,  1,     21,    D21,2,19930715,2003, 45.1167, -34.0850, 3623,    296.5,  10.8590,  35.4249,2,  35.4187,2,    226.2,2,     5.93,2,    12.52,2,     0.05,2,     0.78,2
     06GA226_2,  AR19,    42,  1,     20,    N01,2,19930715,2003, 45.1167, -34.0850, 3623,    494.1,   8.0450,  35.0528,2,  35.0510,2,    202.4,2,    10.16,2,    18.42,2,     0.05,2,     1.18,2
     06GA226_2,  AR19,    42,  1,     19,    D10,2,19930715,2003, 45.1167, -34.0850, 3623,    746.5,   5.6880,  34.9972,2,  34.9957,2,    222.2,2,    11.56,2,    19.15,2,     0.05,2,     1.27,2
     06GA226_2,  AR19,    42,  1,     18,    D18,2,19930715,2003, 45.1167, -34.0850, 3623,    993.8,   4.6940,  34.9965,2,  34.9971,2,    248.8,2,    11.05,2,    18.20,2,     0.04,2,     1.18,2
     06GA226_2,  AR19,    42,  1,     17,    D17,2,19930715,2003, 45.1167, -34.0850, 3623,   1194.3,   4.1680,  34.9592,2,  34.9598,2,    261.8,2,    10.94,2,    17.68,2,     0.04,2,     1.17,2
     06GA226_2,  AR19,    42,  1,     16,    D16,2,19930715,2003, 45.1167, -34.0850, 3623,   1398.2,   3.6890,  34.9087,2,  34.9098,2,    273.9,2,    10.64,2,    17.34,2,     0.05,2,     1.17,2
     06GA226_2,  AR19,    42,  1,     15,    D15,2,19930715,2003, 45.1167, -34.0850, 3623,   1495.1,   3.6210,  34.9085,2,  34.9108,2,    274.4,2,    10.87,2,    17.31,2,     0.04,2,     1.17,2
     06GA226_2,  AR19,    42,  1,     14,    D14,2,19930715,2003, 45.1167, -34.0850, 3623,   1594.8,   3.5560,  34.9069,2,  34.9065,2,    275.2,2,    11.02,2,    17.26,2,     0.04,2,     1.17,2
     06GA226_2,  AR19,    42,  1,     13,    D04,2,19930715,2003, 45.1167, -34.0850, 3623,   1795.6,   3.4220,  34.9009,2,  34.8998,2,    277.6,2,    11.15,2,    17.06,2,     0.04,2,     1.17,2
     06GA226_2,  AR19,    42,  1,     12,    D12,2,19930715,2003, 45.1167, -34.0850, 3623,   2000.9,   3.3790,  34.9076,2,  34.9090,2,    276.4,2,    11.64,2,    17.04,2,     0.02,2,     1.17,2
     06GA226_2,  AR19,    42,  1,     11,    D11,2,19930715,2003, 45.1167, -34.0850, 3623,   2195.2,   3.3170,  34.9189,2,  34.9199,2,    274.5,2,    12.10,2,    16.92,2,     0.03,2,     1.08,2
     06GA226_2,  AR19,    42,  1,     10,    N03,2,19930715,2003, 45.1167, -34.0850, 3623,   2396.4,   3.2370,  34.9324,2,  34.9322,2,    272.0,2,    13.16,2,    16.86,2,     0.02,2,     1.08,2
     06GA226_2,  AR19,    42,  1,     09,    D09,2,19930715,2003, 45.1167, -34.0850, 3623,   2597.9,   3.0980,  34.9355,2,  34.9350,2,    273.5,2,    14.14,2,    16.75,2,     0.02,2,     1.08,2
     06GA226_2,  AR19,    42,  1,     08,    D08,2,19930715,2003, 45.1167, -34.0850, 3623,   2795.9,   2.9440,  34.9347,2,  34.9357,2,    271.4,2,    15.45,2,    16.73,2,     0.02,2,     1.08,2
     06GA226_2,  AR19,    42,  1,     07,    D22,3,19930715,2003, 45.1167, -34.0850, 3623,   2997.2,   2.7650,  34.9299,2,  34.9314,2,    272.3,2,    16.57,2,    16.90,2,     0.02,2,     1.17,2
     06GA226_2,  AR19,    42,  1,     06,    D06,2,19930715,2003, 45.1167, -34.0850, 3623,   3098.4,   2.6670,  34.9256,2,  34.9232,2,    273.3,2,    17.33,2,    16.83,2,     0.02,2,     1.17,2
     06GA226_2,  AR19,    42,  1,     05,    D05,2,19930715,2003, 45.1167, -34.0850, 3623,   3197.4,   2.5920,  34.9226,2,  34.9200,2,    272.3,2,    18.17,2,    16.87,2,     0.02,2,     1.17,2
     06GA226_2,  AR19,    42,  1,     03,    D03,2,19930715,2003, 45.1167, -34.0850, 3623,   3398.4,   2.4750,  34.9166,2,  34.9152,2,    273.3,2,    19.21,2,    16.89,2,     0.02,2,     1.17,2
     06GA226_2,  AR19,    42,  1,     04,    D19,2,19930715,2003, 45.1167, -34.0850, 3623,   3398.7,   2.4760,  34.9169,2,  34.9148,2,    273.1,2,    19.23,2,    16.88,2,     0.03,2,     1.17,2
     06GA226_2,  AR19,    42,  1,     02,    D02,2,19930715,2003, 45.1167, -34.0850, 3623,   3500.5,   2.3470,  34.9105,2,  34.9082,2,    274.4,2,    19.69,2,    16.78,2,     0.02,2,     1.17,2
     06GA226_2,  AR19,    42,  1,     01,    D16,2,19930715,2003, 45.1167, -34.0850, 3623,   3639.2,   2.2700,  34.9057,2,  34.9054,2,    275.9,2,    19.53,2,    16.69,2,     0.03,2,     1.17,2
     06GA226_2,  AR19,    43,  1,     24,    D24,2,19930716,0147, 45.2950, -33.4333, 3369,      6.8,  18.6040,  35.9895,2,  35.9851,2,    243.4,2,     0.10,2,     0.10,2,     0.01,2,     0.01,2
     06GA226_2,  AR19,    43,  1,     23,    D23,3,19930716,0147, 45.2950, -33.4333, 3369,    196.1,  12.9020,  35.7415,2,  35.7393,2,    223.9,2,     3.93,2,     9.93,2,     0.03,2,     0.58,2
     06GA226_2,  AR19,    43,  1,     22,    D13,2,19930716,0147, 45.2950, -33.4333, 3369,    294.3,  11.8500,  35.5609,2,  35.5559,2,    213.7,2,     5.33,2,    12.32,2,     0.02,2,     0.78,2
     06GA226_2,  AR19,    43,  1,     21,    D21,3,19930716,0147, 45.2950, -33.4333, 3369,    493.7,   8.7500,  35.1364,2,  35.1361,2,    186.6,2,    10.15,2,    18.65,2,     0.03,2,     1.27,2
     06GA226_2,  AR19,    43,  1,     20,    N01,3,19930716,0147, 45.2950, -33.4333, 3369,    744.7,   6.8750,  35.1561,2,  35.1492,2,    204.8,2,    11.36,2,    19.10,2,     0.02,2,     1.27,2
     06GA226_2,  AR19,    43,  1,     18,    D10,2,19930716,0147, 45.2950, -33.4333, 3369,   1095.1,   4.9360,  35.0467,2,  35.0465,2,    244.5,2,    11.08,2,    17.80,2,     0.03,2,     1.18,2
     06GA226_2,  AR19,    43,  1,     17,    D17,2,19930716,0147, 45.2950, -33.4333, 3369,   1194.5,   4.5780,  35.0109,2,  35.0122,2,    252.1,2,    10.99,2,    17.55,2,     0.03,2,     1.17,2
     06GA226_2,  AR19,    43,  1,     16,    D16,2,19930716,0147, 45.2950, -33.4333, 3369,   1294.9,   4.2590,  34.9769,2,  34.9768,2,    259.6,2,    10.93,2,    17.38,2,     0.03,2,     1.17,2
     06GA226_2,  AR19,    43,  1,     15,    D15,2,19930716,0147, 45.2950, -33.4333, 3369,   1394.8,   4.2380,  34.9864,2,  34.9867,2,    259.6,2,    11.36,2,    17.26,2,     0.03,2,     1.17,2
     06GA226_2,  AR19,    43,  1,     14,    D14,2,19930716,0147, 45.2950, -33.4333, 3369,   1492.5,   4.0770,  34.9707,2,  34.9721,2,    263.0,2,    11.38,2,    17.27,2,     0.03,2,     1.17,2
     06GA226_2,  AR19,    43,  1,     13,    D04,2,19930716,0147, 45.2950, -33.4333, 3369,   1594.2,   3.8880,  34.9521,2,  34.9533,2,    266.4,2,    11.49,2,    17.13,2,     0.03,2,     1.17,2
     06GA226_2,  AR19,    43,  1,     12,    D12,2,19930716,0147, 45.2950, -33.4333, 3369,   1696.0,   3.7850,  34.9448,2,  34.9447,2,    268.3,2,    11.66,2,    16.99,2,     0.02,2,     1.17,2
     06GA226_2,  AR19,    43,  1,     11,    D11,2,19930716,0147, 45.2950, -33.4333, 3369,   1794.7,   3.7310,  34.9450,2,  34.9460,2,    268.0,2,    12.06,2,    17.00,2,     0.02,2,     1.17,2
     06GA226_2,  AR19,    43,  1,     10,    N03,2,19930716,0147, 45.2950, -33.4333, 3369,   1894.8,   3.6720,  34.9445,2,  34.9454,2,    268.8,2,    12.41,2,    17.03,2,     0.02,2,     1.17,2
     06GA226_2,  AR19,    43,  1,     09,    D09,2,19930716,0147, 45.2950, -33.4333, 3369,   1996.0,   3.5690,  34.9368,2,  34.9363,2,    270.2,2,    12.52,2,    16.96,2,     0.02,2,     1.17,2
     06GA226_2,  AR19,    43,  1,     08,    D08,2,19930716,0147, 45.2950, -33.4333, 3369,   2194.8,   3.4290,  34.9301,2,  34.9319,2,    272.9,2,    12.56,2,    16.70,2,     0.02,2,     1.17,2
     06GA226_2,  AR19,    43,  1,     07,    D22,2,19930716,0147, 45.2950, -33.4333, 3369,   2395.1,   3.3450,  34.9372,2,  34.9365,2,    271.9,2,    13.67,2,    16.85,2,     0.02,2,     1.17,2
     06GA226_2,  AR19,    43,  1,     06,    D06,2,19930716,0147, 45.2950, -33.4333, 3369,   2598.7,   3.1750,  34.9375,2,  34.9378,2,    271.6,2,    14.66,2,    16.72,2,     0.02,2,     1.17,2
     06GA226_2,  AR19,    43,  1,     05,    D05,2,19930716,0147, 45.2950, -33.4333, 3369,   2797.7,   2.9860,  34.9347,2,  34.9352,2,    271.5,2,    15.41,2,    16.58,2,     0.03,2,     1.17,2
     06GA226_2,  AR19,    43,  1,     04,    D19,2,19930716,0147, 45.2950, -33.4333, 3369,   2998.0,   2.8370,  34.9329,2,  34.9339,2,    272.6,2,    16.26,2,    16.51,2,     0.03,2,     1.17,2
     06GA226_2,  AR19,    43,  1,     03,    D03,2,19930716,0147, 45.2950, -33.4333, 3369,   3198.7,   2.6790,  34.9272,2,  34.9261,2,    273.4,2,    17.10,2,    16.41,2,     0.03,2,     1.17,2
     06GA226_2,  AR19,    43,  1,     02,    D02,2,19930716,0147, 45.2950, -33.4333, 3369,   3297.0,   2.5900,  34.9223,2,  34.9207,2,    273.9,2,    17.87,2,    16.47,2,     0.03,2,     1.17,2
     06GA226_2,  AR19,    43,  1,     01,    D16,2,19930716,0147, 45.2950, -33.4333, 3369,   3384.6,   2.5260,  34.9200,2,  34.9203,2,    274.3,2,    18.58,2,    16.60,2,     0.04,2,     1.17,2
     06GA226_2,  AR19,    44,  1,     24,    D24,2,19930716,0617, 45.3967, -33.0883, 3657,      5.2,  18.6550,  35.9940,2,  35.9891,2,    242.4,2,     0.12,2,     0.12,2,     0.01,2,     0.01,2
     06GA226_2,  AR19,    44,  1,     23,    D23,3,19930716,0617, 45.3967, -33.0883, 3657,     97.3,  13.7140,  35.8409,2,  35.8436,2,    230.7,2,     2.30,2,     7.47,2,     0.04,2,     0.40,2
     06GA226_2,  AR19,    44,  1,     22,    D13,2,19930716,0617, 45.3967, -33.0883, 3657,    194.5,  12.7360,  35.7189,2,  35.7172,2,    226.0,2,     3.89,2,     9.81,2,     0.03,2,     0.58,2
     06GA226_2,  AR19,    44,  1,     21,    D21,2,19930716,0617, 45.3967, -33.0883, 3657,    395.4,  10.9350,  35.4350,2,  35.4379,2,    203.9,2,     6.57,2,    14.17,2,     0.02,2,     0.97,2
     06GA226_2,  AR19,    44,  1,     20,    N01,2,19930716,0617, 45.3967, -33.0883, 3657,    594.0,   8.0350,  35.0729,2,  35.0726,2,    183.7,2,    11.48,2,    19.47,2,     0.01,2,     1.37,2
     06GA226_2,  AR19,    44,  1,     19,    D10,2,19930716,0617, 45.3967, -33.0883, 3657,    794.2,   6.3110,  35.0514,2,  35.0508,2,    208.3,2,    11.92,2,    18.94,2,     0.01,2,     1.36,2
     06GA226_2,  AR19,    44,  1,     18,    D18,2,19930716,0617, 45.3967, -33.0883, 3657,    995.5,   5.3050,  35.0499,2,  35.0499,2,    235.2,2,    11.22,2,    17.90,2,     0.02,2,     1.26,2
     06GA226_2,  AR19,    44,  1,     17,    D17,2,19930716,0617, 45.3967, -33.0883, 3657,   1195.2,   4.7670,  35.0360,2,  35.0331,2,    248.6,2,    11.25,2,    17.39,2,     0.02,2,     1.18,2
     06GA226_2,  AR19,    44,  1,     16,    D16,2,19930716,0617, 45.3967, -33.0883, 3657,   1396.3,   4.2220,  34.9784,2,  34.9767,2,    260.6,2,    11.24,2,    17.08,2,     0.02,2,     1.17,2
     06GA226_2,  AR19,    44,  1,     15,    D15,2,19930716,0617, 45.3967, -33.0883, 3657,   1595.7,   4.0260,  34.9696,2,  34.9705,2,    263.9,2,    11.67,2,    16.99,2,     0.01,2,     1.17,2
     06GA226_2,  AR19,    44,  1,     14,    D14,2,19930716,0617, 45.3967, -33.0883, 3657,   1795.3,   3.7870,  34.9504,2,  34.9512,2,    267.9,2,    12.13,2,    16.89,2,     0.01,2,     1.17,2
     06GA226_2,  AR19,    44,  1,     13,    D04,2,19930716,0617, 45.3967, -33.0883, 3657,   1935.7,   3.6230,  34.9379,2,  34.9392,2,    269.7,2,    12.44,2,    16.66,2,     0.01,2,     1.17,2
     06GA226_2,  AR19,    44,  1,     12,    D12,2,19930716,0617, 45.3967, -33.0883, 3657,   1971.0,   3.6010,  34.9358,2,  34.9354,2,    270.4,2,    12.47,2,    16.75,2,     0.03,2,     1.17,2
     06GA226_2,  AR19,    44,  1,     11,    D11,2,19930716,0617, 45.3967, -33.0883, 3657,   1998.5,   3.5750,  34.9331,2,  34.9347,2,    271.0,2,    12.44,2,    16.68,2,     0.02,2,     1.17,2
     06GA226_2,  AR19,    44,  1,     10,    N03,2,19930716,0617, 45.3967, -33.0883, 3657,   2040.6,   3.5570,  34.9333,2,  34.9326,2,    271.0,2,    12.61,2,    16.80,2,     0.02,2,     1.26,2
     06GA226_2,  AR19,    44,  1,     09,    D09,2,19930716,0617, 45.3967, -33.0883, 3657,   2072.0,   3.5270,  34.9318,2,  34.9330,2,    271.5,2,    12.62,2,    16.70,2,     0.02,2,     1.26,2
     06GA226_2,  AR19,    44,  1,     08,    D08,2,19930716,0617, 45.3967, -33.0883, 3657,   2096.6,   3.5100,  34.9306,2,  34.9324,2,    272.1,2,    12.59,2,    16.60,2,     0.01,2,     1.26,2
     06GA226_2,  AR19,    44,  1,     07,    D22,3,19930716,0617, 45.3967, -33.0883, 3657,   2248.0,   3.4140,  34.9310,2,  34.9348,2,    272.8,2,    12.87,2,    16.55,2,     0.01,2,     1.26,2
     06GA226_2,  AR19,    44,  1,     06,    D06,2,19930716,0617, 45.3967, -33.0883, 3657,   2499.7,   3.2660,  34.9348,2,  34.9360,2,    272.0,2,    14.17,2,    16.54,2,     0.01,2,     1.26,2
     06GA226_2,  AR19,    44,  1,     05,    D05,2,19930716,0617, 45.3967, -33.0883, 3657,   2799.8,   3.0480,  34.9349,2,  34.9363,2,    271.3,2,    15.62,2,    16.50,2,     0.01,2,     1.26,2
     06GA226_2,  AR19,    44,  1,     04,    D19,2,19930716,0617, 45.3967, -33.0883, 3657,   2997.5,   2.8720,  34.9336,2,  34.9317,2,    272.6,2,    16.33,2,    16.62,2,     0.01,2,     1.26,2
     06GA226_2,  AR19,    44,  1,     03,    D03,2,19930716,0617, 45.3967, -33.0883, 3657,   3198.0,   2.7260,  34.9294,2,  34.9302,2,    273.4,2,    17.07,2,    16.38,2,     0.01,2,     1.18,2
     06GA226_2,  AR19,    44,  1,     02,    D02,2,19930716,0617, 45.3967, -33.0883, 3657,   3400.8,   2.5590,  34.9220,2,  34.9209,2,    274.1,2,    18.09,2,    16.29,2,     0.01,2,     1.18,2
     06GA226_2,  AR19,    44,  1,     01,    D16,2,19930716,0617, 45.3967, -33.0883, 3657,   3604.2,   2.4190,  34.9141,2,  34.9141,2,    275.9,2,    18.51,2,    16.30,2,     0.01,2,     1.17,2