BOTTLE,20010917WHPSIOKJU
EXPOCODE,SECT_ID,STNNBR,CASTNO,SAMPNO,BTLNBR,BTLNBR_FLAG_W,DATE,TIME,LATITUDE,LONGITUDE,DEPTH,CTDPRS,CTDTMP,CTDSAL,CTDSAL_FLAG_W,SALNTY,SALNTY_FLAG_W,OXYGEN,OXYGEN_FLAG_W,SILCAT,SILCAT_FLAG_W,NITRAT,NITRAT_FLAG_W,NITRIT,NITRIT_FLAG_W,PHSPHT,PHSPHT_FLAG_W
,,,,,ID,,,,,,,DBAR,ITS-90,PSS-78,,PSS-78,,UMOL/KG,,UMOL/KG,,UMOL/KG,,UMOL/KG,,UMOL/KG,
     06GA226_2,  AR19,    73,  1,     23,    N07,2,19930723,0728, 48.6233, -15.4517, 4746,     48.7,  13.1510,  35.5876,2,  35.5821,2,    263.7,2,     0.51,2,     3.85,2,     0.22,2,     0.29,2
     06GA226_2,  AR19,    73,  1,     22,    N02,2,19930723,0728, 48.6233, -15.4517, 4746,     97.6,  11.7870,  35.5695,2,  35.5635,2,    247.1,2,     2.65,2,     8.93,2,     0.05,2,     0.50,2
     06GA226_2,  AR19,    73,  1,     21,    D21,2,19930723,0728, 48.6233, -15.4517, 4746,    196.8,  11.1220,  35.4820,2,  35.4783,2,    250.8,2,     3.35,2,     9.82,2,     0.05,2,     0.58,2
     06GA226_2,  AR19,    73,  1,     20,    N01,3,19930723,0728, 48.6233, -15.4517, 4746,    294.3,  10.8330,  35.4513,2,  35.4480,2,    249.2,2,  -999.00,9,  -999.00,9,  -999.00,9,  -999.00,9
     06GA226_2,  AR19,    73,  1,     19,    D04,3,19930723,0728, 48.6233, -15.4517, 4746,    396.1,  10.5910,  35.4334,2,  35.4300,2,    250.7,2,     3.99,2,    10.83,2,     0.05,2,     0.68,2
     06GA226_2,  AR19,    73,  1,     18,    D18,2,19930723,0728, 48.6233, -15.4517, 4746,    495.1,  10.6140,  35.4715,2,  35.4648,2,    240.5,2,     4.41,2,    11.87,2,     0.05,2,     0.69,2
     06GA226_2,  AR19,    73,  1,     17,    D17,2,19930723,0728, 48.6233, -15.4517, 4746,    594.8,  10.1320,  35.4023,2,  35.4006,2,    239.6,2,     5.15,2,    12.68,2,     0.06,2,     0.78,2
     06GA226_2,  AR19,    73,  1,     16,    N03,2,19930723,0728, 48.6233, -15.4517, 4746,    694.9,   9.7160,  35.3701,2,  35.3736,2,    227.5,2,     6.42,2,    14.32,2,     0.08,2,     0.89,2
     06GA226_2,  AR19,    73,  1,     15,    D15,2,19930723,0728, 48.6233, -15.4517, 4746,    796.3,   8.9540,  35.3252,2,  35.3098,3,    201.6,2,     8.95,2,    17.35,2,     0.05,2,     1.08,2
     06GA226_2,  AR19,    73,  1,     14,    D14,2,19930723,0728, 48.6233, -15.4517, 4746,    895.3,   8.2630,  35.2907,2,  35.2943,2,    201.6,2,     9.78,2,    18.04,2,     0.06,2,     1.17,2
     06GA226_2,  AR19,    73,  1,     13,    N04,2,19930723,0728, 48.6233, -15.4517, 4746,    994.7,   7.6750,  35.3096,2,  35.3050,2,    205.7,2,    10.24,2,    18.19,2,     0.05,2,     1.17,2
     06GA226_2,  AR19,    73,  1,     12,    D12,2,19930723,0728, 48.6233, -15.4517, 4746,   1092.6,   6.9790,  35.2653,2,  35.2623,2,    215.0,2,    10.54,2,    18.09,2,     0.04,2,     1.17,2
     06GA226_2,  AR19,    73,  1,     11,    N08,2,19930723,0728, 48.6233, -15.4517, 4746,   1194.1,   5.9350,  35.1413,2,  35.1381,2,    229.2,2,    10.75,2,    18.11,2,     0.04,2,     1.18,2
     06GA226_2,  AR19,    73,  1,     10,    D19,2,19930723,0728, 48.6233, -15.4517, 4746,   1295.0,   5.0210,  35.0285,2,  35.0292,2,    243.7,2,    10.72,2,    18.04,2,     0.04,2,     1.18,2
     06GA226_2,  AR19,    73,  1,     09,    D09,2,19930723,0728, 48.6233, -15.4517, 4746,   1395.5,   4.4410,  34.9643,2,  34.9629,2,    255.9,2,    10.55,2,    17.85,2,     0.05,2,     1.17,2
     06GA226_2,  AR19,    73,  1,     08,    D08,2,19930723,0728, 48.6233, -15.4517, 4746,   1495.0,   4.0960,  34.9371,2,  34.9335,2,    264.6,2,    10.44,2,    17.53,2,     0.05,2,     1.17,2
     06GA226_2,  AR19,    73,  1,     07,    D16,2,19930723,0728, 48.6233, -15.4517, 4746,   1595.7,   3.8530,  34.9166,2,  34.9143,2,    271.5,2,    10.41,2,    17.30,2,     0.05,2,     1.17,2
     06GA226_2,  AR19,    73,  1,     06,    D06,2,19930723,0728, 48.6233, -15.4517, 4746,   1695.7,   3.6960,  34.9035,2,  34.9014,2,    275.5,2,    10.35,2,    17.19,2,     0.06,2,     1.17,2
     06GA226_2,  AR19,    73,  1,     05,    D05,2,19930723,0728, 48.6233, -15.4517, 4746,   1795.5,   3.6080,  34.9002,2,  34.8981,2,    277.8,2,    10.38,2,    16.99,2,     0.03,2,     1.17,2
     06GA226_2,  AR19,    73,  1,     04,    D13,2,19930723,0728, 48.6233, -15.4517, 4746,   1896.1,   3.5170,  34.8985,2,  34.9018,2,    279.0,2,    10.49,2,    16.92,2,     0.04,2,     1.17,2
     06GA226_2,  AR19,    73,  1,     03,    D03,2,19930723,0728, 48.6233, -15.4517, 4746,   1996.3,   3.4900,  34.9047,2,  34.9019,2,    278.4,2,    10.88,2,    16.99,2,     0.04,2,     1.17,2
     06GA226_2,  AR19,    73,  1,     02,    D02,2,19930723,0728, 48.6233, -15.4517, 4746,   2196.3,   3.4700,  34.9360,2,  34.9330,2,    271.1,2,    13.10,2,    17.15,2,     0.04,2,     1.17,2
     06GA226_2,  AR19,    73,  1,     01,    D10,2,19930723,0728, 48.6233, -15.4517, 4746,   2397.0,   3.3290,  34.9523,2,  34.9521,2,    266.0,2,    16.62,2,    17.66,2,     0.05,2,     1.17,2
     06GA226_2,  AR19,    73,  2,     24,    N06,2,19930723,1055, 48.5950, -15.4883, 4793,      6.6,  16.8920,  35.5737,2,  35.5635,3,    249.2,2,     0.05,2,     0.14,2,     0.02,2,     0.10,2
     06GA226_2,  AR19,    73,  2,     23,    N07,2,19930723,1055, 48.5950, -15.4883, 4793,   2195.7,   3.4760,  34.9273,2,  34.9260,2,    271.9,2,    12.18,2,    17.09,2,     0.03,2,     1.08,2
     06GA226_2,  AR19,    73,  2,     22,    N02,2,19930723,1055, 48.5950, -15.4883, 4793,   2398.3,   3.3480,  34.9441,2,  34.9446,2,    268.1,2,    14.39,2,    17.32,2,     0.03,2,     1.08,2
     06GA226_2,  AR19,    73,  2,     21,    D21,2,19930723,1055, 48.5950, -15.4883, 4793,   2598.7,   3.1780,  34.9534,2,  34.9542,2,    260.9,2,    20.15,2,    18.19,2,     0.03,2,     1.18,2
     06GA226_2,  AR19,    73,  2,     20,    N01,2,19930723,1055, 48.5950, -15.4883, 4793,   2798.7,   3.0060,  34.9537,2,  34.9549,2,    255.0,2,    25.56,2,    19.21,2,     0.03,2,     1.26,2
     06GA226_2,  AR19,    73,  2,     19,    D04,3,19930723,1055, 48.5950, -15.4883, 4793,   2999.3,   2.8720,  34.9492,2,-999.0000,9,    250.5,2,    29.18,2,    19.76,2,     0.03,2,     1.27,2
     06GA226_2,  AR19,    73,  2,     18,    D18,2,19930723,1055, 48.5950, -15.4883, 4793,   3199.1,   2.7480,  34.9402,2,  34.9392,2,    247.9,2,    33.16,2,    20.41,2,     0.02,2,     1.36,2
     06GA226_2,  AR19,    73,  2,     17,    D17,2,19930723,1055, 48.5950, -15.4883, 4793,   3299.1,   2.7130,  34.9365,2,  34.9353,2,    246.9,2,    34.62,2,    20.63,2,     0.03,2,     1.37,2
     06GA226_2,  AR19,    73,  2,     16,    N03,2,19930723,1055, 48.5950, -15.4883, 4793,   3399.1,   2.6640,  34.9315,2,  34.9335,2,    245.4,2,    36.34,2,    20.96,2,     0.03,2,     1.37,2
     06GA226_2,  AR19,    73,  2,     15,    D15,2,19930723,1055, 48.5950, -15.4883, 4793,   3500.1,   2.6300,  34.9274,2,  34.9253,2,    245.0,2,    37.58,2,    21.15,2,     0.03,2,     1.46,2
     06GA226_2,  AR19,    73,  2,     14,    D14,2,19930723,1055, 48.5950, -15.4883, 4793,   3600.1,   2.5970,  34.9234,2,  34.9223,2,    243.8,2,    38.71,2,    21.34,2,     0.04,2,     1.46,2
     06GA226_2,  AR19,    73,  2,     13,    N04,2,19930723,1055, 48.5950, -15.4883, 4793,   3699.1,   2.5700,  34.9202,2,  34.9184,2,    243.3,2,    39.69,2,    21.53,2,     0.04,2,     1.46,2
     06GA226_2,  AR19,    73,  2,     12,    D12,2,19930723,1055, 48.5950, -15.4883, 4793,   3801.5,   2.5530,  34.9176,2,  34.9148,2,    242.6,2,    40.48,2,    21.54,2,     0.04,2,     1.47,2
     06GA226_2,  AR19,    73,  2,     11,    N08,2,19930723,1055, 48.5950, -15.4883, 4793,   3899.9,   2.5430,  34.9138,2,  34.9148,2,    242.3,2,    41.06,2,    21.60,2,     0.03,2,     1.47,2
     06GA226_2,  AR19,    73,  2,     10,    D19,2,19930723,1055, 48.5950, -15.4883, 4793,   3999.8,   2.5400,  34.9125,2,  34.9120,2,    242.1,2,    41.49,2,    21.85,2,     0.04,2,     1.47,2
     06GA226_2,  AR19,    73,  2,     09,    D09,2,19930723,1055, 48.5950, -15.4883, 4793,   4101.2,   2.5330,  34.9104,2,  34.9101,2,    242.0,2,    41.97,2,    21.77,2,     0.04,2,     1.47,2
     06GA226_2,  AR19,    73,  2,     08,    D08,2,19930723,1055, 48.5950, -15.4883, 4793,   4201.8,   2.5310,  34.9086,2,  34.9084,2,    241.1,3,    42.40,2,    21.80,2,     0.03,2,     1.47,2
     06GA226_2,  AR19,    73,  2,     07,    D16,2,19930723,1055, 48.5950, -15.4883, 4793,   4298.6,   2.5310,  34.9074,2,  34.9085,2,    242.8,2,    42.74,2,    21.85,2,     0.03,2,     1.56,2
     06GA226_2,  AR19,    73,  2,     06,    D06,2,19930723,1055, 48.5950, -15.4883, 4793,   4398.8,   2.5320,  34.9064,2,  34.9055,2,    242.8,2,    42.97,2,    21.88,2,     0.03,2,     1.56,2
     06GA226_2,  AR19,    73,  2,     05,    D05,2,19930723,1055, 48.5950, -15.4883, 4793,   4499.7,   2.5370,  34.9054,2,  34.9049,2,    242.3,2,    43.15,2,    21.85,2,     0.04,2,     1.56,2
     06GA226_2,  AR19,    73,  2,     04,    D13,2,19930723,1055, 48.5950, -15.4883, 4793,   4600.4,   2.5400,  34.9046,2,  34.9066,2,    242.8,2,  -999.00,9,    21.86,2,     0.04,2,     1.56,2
     06GA226_2,  AR19,    73,  2,     03,    D03,2,19930723,1055, 48.5950, -15.4883, 4793,   4701.6,   2.5460,  34.9034,2,  34.9061,2,    242.3,2,    43.03,2,    21.86,2,     0.04,2,     1.56,2
     06GA226_2,  AR19,    73,  2,     02,    D02,2,19930723,1055, 48.5950, -15.4883, 4793,   4770.6,   2.5480,  34.9028,2,  34.9024,2,    242.1,2,    43.67,2,    21.90,2,     0.04,2,     1.56,2
     06GA226_2,  AR19,    73,  2,     01,    D10,2,19930723,1055, 48.5950, -15.4883, 4793,   4824.2,   2.5500,  34.9021,2,  34.9059,2,    242.5,2,    43.53,2,    21.89,2,     0.04,2,     1.56,2
     06GA226_2,  AR19,    74,  1,     24,    N06,2,19930723,1759, 48.7400, -14.7633, 4718,      5.2,  16.8570,  35.5154,2,  35.5130,2,    250.0,2,     0.04,2,     0.08,2,     0.02,2,     0.10,2
     06GA226_2,  AR19,    74,  1,     23,    N07,2,19930723,1759, 48.7400, -14.7633, 4718,     97.0,  11.3110,  35.5226,2,  35.5210,2,    248.1,2,     2.58,2,     9.56,2,     0.04,2,     0.58,2
     06GA226_2,  AR19,    74,  1,     22,    N02,2,19930723,1759, 48.7400, -14.7633, 4718,    197.3,  10.7680,  35.4455,2,  35.4443,2,    250.1,2,     3.26,2,    10.55,2,     0.04,2,     0.59,2
     06GA226_2,  AR19,    74,  1,     21,    D21,2,19930723,1759, 48.7400, -14.7633, 4718,    295.0,  10.5470,  35.4292,2,  35.4288,2,    251.6,2,     3.95,2,    10.88,2,     0.03,2,     0.59,2
     06GA226_2,  AR19,    74,  1,     20,    N01,2,19930723,1759, 48.7400, -14.7633, 4718,    495.7,  10.2300,  35.4305,2,  35.4288,2,    233.3,2,     5.29,2,    13.22,2,     0.03,2,     0.78,2
     06GA226_2,  AR19,    74,  1,     19,    D04,2,19930723,1759, 48.7400, -14.7633, 4718,    694.8,   9.5090,  35.4497,2,  35.4501,2,    201.8,2,     8.18,2,    16.57,2,     0.04,2,     0.98,2
     06GA226_2,  AR19,    74,  1,     18,    D18,2,19930723,1759, 48.7400, -14.7633, 4718,    794.2,   9.0210,  35.4610,2,  35.4611,2,    198.9,2,     9.07,2,    17.30,2,     0.04,2,     1.07,2
     06GA226_2,  AR19,    74,  1,     17,    D17,2,19930723,1759, 48.7400, -14.7633, 4718,    993.9,   7.4220,  35.3335,2,  35.3319,2,    209.3,2,    10.40,2,    18.09,2,     0.04,2,     1.17,2
     06GA226_2,  AR19,    74,  1,     16,    N03,2,19930723,1759, 48.7400, -14.7633, 4718,   1245.5,   5.2890,  35.0764,2,  35.0697,2,    239.7,2,    10.86,2,    18.19,2,     0.03,2,     1.17,2
     06GA226_2,  AR19,    74,  1,     15,    D15,2,19930723,1759, 48.7400, -14.7633, 4718,   1495.0,   4.1380,  34.9489,2,  34.9500,2,    262.2,2,    10.72,2,    17.72,2,     0.03,2,     1.17,2
     06GA226_2,  AR19,    74,  1,     14,    D14,2,19930723,1759, 48.7400, -14.7633, 4718,   1744.9,   3.6350,  34.9081,2,  34.9080,2,    274.3,2,    10.68,2,    17.25,2,     0.03,2,     1.17,2
     06GA226_2,  AR19,    74,  1,     12,    N04,2,19930723,1759, 48.7400, -14.7633, 4718,   2246.7,   3.3890,  34.9531,2,  34.9522,2,    265.5,2,    15.92,2,    17.58,2,     0.03,2,     1.17,2
     06GA226_2,  AR19,    74,  1,     11,    N08,2,19930723,1759, 48.7400, -14.7633, 4718,   2496.7,   3.2300,  34.9686,2,  34.9690,2,    255.9,2,    22.76,2,    18.72,2,     0.03,2,     1.26,2
     06GA226_2,  AR19,    74,  1,     10,    D19,2,19930723,1759, 48.7400, -14.7633, 4718,   2747.9,   3.0090,  34.9578,2,  34.9583,2,    252.9,2,    27.23,2,    19.52,2,     0.03,2,     1.27,2
     06GA226_2,  AR19,    74,  1,     09,    D09,2,19930723,1759, 48.7400, -14.7633, 4718,   2998.4,   2.8540,  34.9495,2,  34.9492,2,    249.1,2,    31.51,2,    20.11,2,     0.03,2,     1.37,2
     06GA226_2,  AR19,    74,  1,     08,    D08,2,19930723,1759, 48.7400, -14.7633, 4718,   3248.5,   2.7260,  34.9384,2,  34.9382,2,    246.6,2,    34.75,2,    20.55,2,     0.04,2,     1.37,2
     06GA226_2,  AR19,    74,  1,     07,    D16,2,19930723,1759, 48.7400, -14.7633, 4718,   3499.9,   2.6360,  34.9287,2,  34.9295,2,    244.9,2,    37.60,2,    21.00,2,     0.04,2,     1.46,2
     06GA226_2,  AR19,    74,  1,     06,    D06,2,19930723,1759, 48.7400, -14.7633, 4718,   3749.3,   2.5780,  34.9205,2,  34.9202,2,    244.4,2,    39.98,2,    21.38,2,     0.04,2,     1.47,2
     06GA226_2,  AR19,    74,  1,     05,    D05,2,19930723,1759, 48.7400, -14.7633, 4718,   4000.9,   2.5480,  34.9133,2,  34.9158,2,    242.4,2,    41.54,2,    21.59,2,     0.04,2,     1.47,2
     06GA226_2,  AR19,    74,  1,     04,    D13,2,19930723,1759, 48.7400, -14.7633, 4718,   4249.9,   2.5350,  34.9089,2,  34.9093,2,    243.3,2,    42.42,2,    21.73,2,     0.04,2,     1.56,2
     06GA226_2,  AR19,    74,  1,     03,    D03,2,19930723,1759, 48.7400, -14.7633, 4718,   4500.8,   2.5330,  34.9054,2,  34.9078,2,    242.3,2,    43.45,2,    21.77,2,     0.03,2,     1.56,2
     06GA226_2,  AR19,    74,  1,     02,    D02,2,19930723,1759, 48.7400, -14.7633, 4718,   4760.7,   2.5390,  34.9019,2,  34.9027,2,    241.7,2,    44.40,2,    21.87,2,     0.04,2,     1.56,2
     06GA226_2,  AR19,    74,  1,     01,    D10,2,19930723,1759, 48.7400, -14.7633, 4718,   4809.6,   2.5440,  34.9022,2,  34.9026,2,    242.6,2,    44.36,2,    21.89,2,     0.04,2,     1.56,2
     06GA226_2,  AR19,    75,  1,     24,    N06,2,19930723,2355, 48.7283, -14.2767, 4545,      6.7,  16.6370,  35.5730,2,  35.5696,2,    248.6,2,     0.02,2,     0.10,2,     0.01,2,     0.01,2
     06GA226_2,  AR19,    75,  1,     23,    N07,2,19930723,2355, 48.7283, -14.2767, 4545,     97.2,  11.3270,  35.5255,2,  35.5255,2,    246.4,2,     2.40,2,     9.38,2,     0.03,2,     0.58,2
     06GA226_2,  AR19,    75,  1,     22,    N02,2,19930723,2355, 48.7283, -14.2767, 4545,    294.9,  10.7590,  35.4726,2,  35.4703,2,    246.5,2,     3.87,2,    10.83,2,     0.03,2,     0.68,2
     06GA226_2,  AR19,    75,  1,     21,    D21,2,19930723,2355, 48.7283, -14.2767, 4545,    495.5,  10.2140,  35.4343,2,  35.4318,2,    232.1,2,     5.36,2,    13.12,2,     0.02,2,     0.88,2
     06GA226_2,  AR19,    75,  1,     20,    N01,2,19930723,2355, 48.7283, -14.2767, 4545,    745.6,   9.2150,  35.4272,2,  35.4276,2,    201.8,2,     8.60,2,    16.71,2,     0.02,2,     1.08,2
     06GA226_2,  AR19,    75,  1,     19,    D04,2,19930723,2355, 48.7283, -14.2767, 4545,    994.4,   7.7960,  35.3752,2,  35.3764,2,    205.7,2,    10.28,2,    17.80,2,     0.02,2,     1.18,2
     06GA226_2,  AR19,    75,  1,     18,    D18,2,19930723,2355, 48.7283, -14.2767, 4545,   1244.9,   5.4300,  35.0818,2,  35.0809,2,    236.6,2,    10.85,2,    18.01,2,     0.02,2,     1.26,2
     06GA226_2,  AR19,    75,  1,     17,    D17,2,19930723,2355, 48.7283, -14.2767, 4545,   1496.0,   4.1280,  34.9461,2,  34.9457,2,    263.0,2,    10.63,2,    17.46,2,     0.01,2,     1.18,2
     06GA226_2,  AR19,    75,  1,     16,    N03,2,19930723,2355, 48.7283, -14.2767, 4545,   1744.8,   3.6180,  34.9020,2,  34.9016,2,    276.2,2,    10.47,2,    17.00,2,     0.01,2,     1.18,2
     06GA226_2,  AR19,    75,  1,     15,    D15,2,19930723,2355, 48.7283, -14.2767, 4545,   1996.7,   3.5000,  34.9201,2,  34.9195,2,    273.8,2,    11.77,2,    16.93,2,     0.02,2,     1.17,2
     06GA226_2,  AR19,    75,  1,     14,    D14,2,19930723,2355, 48.7283, -14.2767, 4545,   2197.5,   3.4180,  34.9530,2,  34.9528,2,    265.9,2,    15.66,2,    17.40,2,     0.02,2,     1.26,2
     06GA226_2,  AR19,    75,  1,     13,    N04,2,19930723,2355, 48.7283, -14.2767, 4545,   2397.0,   3.2040,  34.9591,2,  34.9589,2,    261.7,2,    20.65,2,    18.12,2,     0.01,2,     1.27,2
     06GA226_2,  AR19,    75,  1,     12,    D12,2,19930723,2355, 48.7283, -14.2767, 4545,   2598.1,   3.0330,  34.9595,2,  34.9582,2,    253.7,2,    26.13,2,    19.06,2,     0.03,2,     1.37,2
     06GA226_2,  AR19,    75,  1,     11,    N08,2,19930723,2355, 48.7283, -14.2767, 4545,   2798.0,   2.8790,  34.9510,2,  34.9491,2,    250.1,2,    30.44,2,    19.74,2,     0.02,2,     1.46,2
     06GA226_2,  AR19,    75,  1,     10,    D19,2,19930723,2355, 48.7283, -14.2767, 4545,   2997.8,   2.7790,  34.9434,2,-999.0000,9,    248.5,2,    31.96,2,    19.98,2,     0.02,2,     1.46,2
     06GA226_2,  AR19,    75,  1,     09,    D09,2,19930723,2355, 48.7283, -14.2767, 4545,   3199.8,   2.6850,  34.9353,2,  34.9328,2,    246.4,2,    35.58,2,    20.51,2,     0.02,2,     1.47,2
     06GA226_2,  AR19,    75,  1,     08,    D08,2,19930723,2355, 48.7283, -14.2767, 4545,   3397.2,   2.6160,  34.9275,2,  34.9289,2,    244.6,2,    37.55,2,    20.84,2,     0.02,2,     1.56,2
     06GA226_2,  AR19,    75,  1,     07,    D16,2,19930723,2355, 48.7283, -14.2767, 4545,   3601.5,   2.5670,  34.9210,2,  34.9215,2,    243.8,2,    39.62,2,    21.20,2,     0.02,2,     1.56,2
     06GA226_2,  AR19,    75,  1,     06,    D06,2,19930723,2355, 48.7283, -14.2767, 4545,   3799.5,   2.5340,  34.9156,2,  34.9140,2,    243.3,2,    41.15,2,    21.41,2,     0.02,2,     1.57,2
     06GA226_2,  AR19,    75,  1,     05,    D05,2,19930723,2355, 48.7283, -14.2767, 4545,   4000.3,   2.5150,  34.9094,2,  34.9114,2,    242.4,2,    42.24,2,    21.51,2,     0.02,2,     1.65,2
     06GA226_2,  AR19,    75,  1,     04,    D13,2,19930723,2355, 48.7283, -14.2767, 4545,   4200.0,   2.5070,  34.9063,2,-999.0000,9,    243.4,2,    42.03,2,    21.48,2,     0.03,2,     1.57,2
     06GA226_2,  AR19,    75,  1,     03,    D03,2,19930723,2355, 48.7283, -14.2767, 4545,   4399.7,   2.5100,  34.9039,2,  34.9048,2,    242.5,2,    43.44,2,    21.62,2,     0.02,2,     1.57,2
     06GA226_2,  AR19,    75,  1,     02,    D02,2,19930723,2355, 48.7283, -14.2767, 4545,   4591.2,   2.5170,  34.9016,2,  34.9046,2,    241.8,2,    44.25,2,    21.70,2,     0.02,2,     1.65,2
     06GA226_2,  AR19,    75,  1,     01,    D10,2,19930723,2355, 48.7283, -14.2767, 4545,   4634.9,   2.5220,  34.9017,2,  34.9043,2,    242.5,2,  -999.00,9,  -999.00,9,  -999.00,9,  -999.00,9