BOTTLE,20010917WHPSIOKJU
EXPOCODE,SECT_ID,STNNBR,CASTNO,SAMPNO,BTLNBR,BTLNBR_FLAG_W,DATE,TIME,LATITUDE,LONGITUDE,DEPTH,CTDPRS,CTDTMP,CTDSAL,CTDSAL_FLAG_W,SALNTY,SALNTY_FLAG_W,OXYGEN,OXYGEN_FLAG_W,SILCAT,SILCAT_FLAG_W,NITRAT,NITRAT_FLAG_W,NITRIT,NITRIT_FLAG_W,PHSPHT,PHSPHT_FLAG_W
,,,,,ID,,,,,,,DBAR,ITS-90,PSS-78,,PSS-78,,UMOL/KG,,UMOL/KG,,UMOL/KG,,UMOL/KG,,UMOL/KG,
     06GA226_2,  AR19,    17,  2,     24,    D24,2,19930708,1829, 43.0517, -48.6233, 2512,      8.4,  15.7940,  34.0650,2,  34.0781,3,    250.3,2,     0.37,2,     0.10,2,     0.03,2,     0.11,2
     06GA226_2,  AR19,    17,  2,     23,    D23,2,19930708,1829, 43.0517, -48.6233, 2512,     96.4,  11.7700,  35.3569,2,  35.3590,2,    211.0,2,     5.39,2,    12.08,2,     0.04,2,     0.78,2
     06GA226_2,  AR19,    17,  2,     22,    D22,2,19930708,1829, 43.0517, -48.6233, 2512,    197.2,  10.2200,  35.2454,2,  35.2655,3,    163.8,2,    10.05,2,    19.19,2,     0.04,2,     1.28,2
     06GA226_2,  AR19,    17,  2,     21,    D21,2,19930708,1829, 43.0517, -48.6233, 2512,    292.8,   7.8010,  34.9553,2,  34.9407,3,    180.8,2,    11.49,2,    19.82,2,     0.06,2,     1.37,2
     06GA226_2,  AR19,    17,  2,     20,    D20,2,19930708,1829, 43.0517, -48.6233, 2512,    397.0,   6.9740,  35.0161,2,  35.0156,2,    187.1,2,    12.50,2,    20.86,2,     0.05,2,     1.46,2
     06GA226_2,  AR19,    17,  2,     19,    D19,2,19930708,1829, 43.0517, -48.6233, 2512,    493.4,   6.2130,  35.0582,2,  35.0575,2,    206.2,2,    12.15,2,    19.86,2,     0.05,2,     1.36,2
     06GA226_2,  AR19,    17,  2,     18,    D18,2,19930708,1829, 43.0517, -48.6233, 2512,    594.3,   5.6140,  35.0569,2,-999.0000,9,   -999.0,9,    11.52,2,    18.62,2,     0.05,2,     1.27,2
     06GA226_2,  AR19,    17,  2,     17,    D17,2,19930708,1829, 43.0517, -48.6233, 2512,    695.3,   5.3130,  35.0675,2,  35.0680,2,    231.7,2,    11.21,2,    18.27,2,     0.04,2,     1.26,2
     06GA226_2,  AR19,    17,  2,     16,    D16,2,19930708,1829, 43.0517, -48.6233, 2512,    796.2,   4.8090,  35.0235,2,  35.0251,2,    244.1,2,    11.10,2,    17.97,2,     0.04,2,     1.18,2
     06GA226_2,  AR19,    17,  2,     15,    D15,2,19930708,1829, 43.0517, -48.6233, 2512,    895.1,   4.4870,  34.9978,2,  34.9984,2,    251.6,2,    11.14,2,    17.87,2,     0.04,2,     1.18,2
     06GA226_2,  AR19,    17,  2,     14,    D14,2,19930708,1829, 43.0517, -48.6233, 2512,    994.4,   4.4490,  35.0090,2,  35.0109,2,    254.0,2,    11.03,2,    17.69,2,     0.05,2,     1.18,2
     06GA226_2,  AR19,    17,  2,     13,    D13,2,19930708,1829, 43.0517, -48.6233, 2512,   1095.5,   4.1050,  34.9654,2,  34.9664,2,    261.2,2,    10.90,2,    17.46,2,     0.05,2,     1.17,2
     06GA226_2,  AR19,    17,  2,     12,    D12,2,19930708,1829, 43.0517, -48.6233, 2512,   1194.5,   3.9230,  34.9447,2,  34.9469,2,    266.4,2,    10.97,2,    17.26,2,     0.05,2,     1.17,2
     06GA226_2,  AR19,    17,  2,     10,    D10,2,19930708,1829, 43.0517, -48.6233, 2512,   1396.0,   3.6820,  34.9255,2,  34.9276,2,    271.6,2,    11.28,2,    17.31,2,     0.05,2,     1.17,2
     06GA226_2,  AR19,    17,  2,     09,    D09,2,19930708,1829, 43.0517, -48.6233, 2512,   1495.0,   3.6870,  34.9323,2,  34.9350,2,    270.8,2,    11.77,2,    17.34,2,     0.05,2,     1.17,2
     06GA226_2,  AR19,    17,  2,     08,    D08,2,19930708,1829, 43.0517, -48.6233, 2512,   1595.8,   3.6680,  34.9415,2,  34.9432,2,    269.8,2,    10.27,3,    16.60,3,     0.03,2,     1.17,2
     06GA226_2,  AR19,    17,  2,     07,    D07,2,19930708,1829, 43.0517, -48.6233, 2512,   1694.1,   3.2490,  34.8734,2,-999.0000,9,    285.3,2,    10.99,2,    16.95,2,     0.03,2,     1.17,2
     06GA226_2,  AR19,    17,  2,     06,    D06,2,19930708,1829, 43.0517, -48.6233, 2512,   1794.2,   3.3570,  34.9002,2,  34.8997,2,    279.4,2,    11.23,2,    16.93,2,     0.04,2,     1.17,2
     06GA226_2,  AR19,    17,  2,     05,    D05,2,19930708,1829, 43.0517, -48.6233, 2512,   1896.2,   3.3290,  34.9026,2,  34.9032,2,    279.0,2,    11.61,2,    16.90,2,     0.04,2,     1.17,2
     06GA226_2,  AR19,    17,  2,     04,    D04,2,19930708,1829, 43.0517, -48.6233, 2512,   1996.3,   3.3250,  34.9099,2,  34.9102,2,    277.2,2,    12.62,2,    16.96,2,     0.04,2,     1.17,2
     06GA226_2,  AR19,    17,  2,     03,    D03,2,19930708,1829, 43.0517, -48.6233, 2512,   2197.2,   3.3080,  34.9250,2,  34.9272,2,    273.2,2,    12.64,2,    16.95,2,     0.04,2,     1.17,2
     06GA226_2,  AR19,    17,  2,     02,    D02,2,19930708,1829, 43.0517, -48.6233, 2512,   2396.3,   3.0240,  34.9306,2,  34.9310,2,    273.1,2,    13.83,2,    16.67,2,     0.04,2,     1.17,2
     06GA226_2,  AR19,    17,  2,     01,    D01,2,19930708,1829, 43.0517, -48.6233, 2512,   2487.5,   2.9550,  34.9287,2,  34.9284,2,    274.2,2,    13.92,2,    16.62,2,     0.04,2,     1.17,2
     06GA226_2,  AR19,    18,  6,     24,    D24,2,19930709,0311, 42.9133, -48.0267, 3483,      4.5,  15.9340,  33.5712,2,  33.4125,3,    254.0,2,     0.14,2,     0.02,2,     0.02,2,     0.20,2
     06GA226_2,  AR19,    18,  6,     23,    D23,2,19930709,0311, 42.9133, -48.0267, 3483,     95.9,  12.9380,  35.5854,2,  35.5728,3,    201.3,2,     4.75,2,    11.46,2,     0.05,2,     0.69,2
     06GA226_2,  AR19,    18,  6,     22,    D22,2,19930709,0311, 42.9133, -48.0267, 3483,    244.9,   9.0900,  35.0037,2,  34.9848,3,    196.7,2,     8.77,2,    15.85,2,     0.05,2,     1.08,2
     06GA226_2,  AR19,    18,  6,     21,    D21,2,19930709,0311, 42.9133, -48.0267, 3483,    395.1,   6.9820,  34.9634,2,  34.9648,2,    184.5,2,    12.61,2,    20.56,2,     0.05,2,     1.46,2
     06GA226_2,  AR19,    18,  6,     20,    D20,2,19930709,0311, 42.9133, -48.0267, 3483,    544.9,   6.1050,  35.0653,2,  35.0645,2,    210.5,2,    12.05,2,    19.34,2,     0.05,2,     1.36,2
     06GA226_2,  AR19,    18,  6,     19,    D19,2,19930709,0311, 42.9133, -48.0267, 3483,    725.1,   5.1230,  35.0391,2,  35.0388,2,    235.8,2,    11.57,2,    18.31,2,     0.05,2,     1.26,2
     06GA226_2,  AR19,    18,  6,     18,    D18,2,19930709,0311, 42.9133, -48.0267, 3483,    814.3,   4.6090,  34.9910,2,  34.9871,2,    250.4,2,    11.00,2,    17.54,2,     0.04,2,     1.18,2
     06GA226_2,  AR19,    18,  6,     17,    D17,2,19930709,0311, 42.9133, -48.0267, 3483,    994.6,   3.4300,  34.8457,2,  34.8460,2,    285.7,2,  -999.00,9,  -999.00,9,  -999.00,9,  -999.00,9
     06GA226_2,  AR19,    18,  6,     16,    D16,2,19930709,0311, 42.9133, -48.0267, 3483,   1145.0,   3.6840,  34.9101,2,  34.9052,2,    274.8,2,    10.43,2,    16.75,2,     0.05,2,     1.17,2
     06GA226_2,  AR19,    18,  6,     15,    D15,2,19930709,0311, 42.9133, -48.0267, 3483,   1294.5,   3.4940,  34.8911,2,  34.8904,2,    280.0,2,    10.25,2,    16.48,2,     0.04,2,     1.17,2
     06GA226_2,  AR19,    18,  6,     14,    D14,2,19930709,0311, 42.9133, -48.0267, 3483,   1444.0,   3.3850,  34.8840,2,  34.8834,2,    282.7,2,    10.26,2,    16.39,2,     0.04,2,     1.08,2
     06GA226_2,  AR19,    18,  6,     13,    D13,2,19930709,0311, 42.9133, -48.0267, 3483,   1594.5,   3.2600,  34.8714,2,  34.8698,2,    286.3,2,    10.25,2,    16.25,2,     0.04,2,     1.08,2
     06GA226_2,  AR19,    18,  6,     12,    D12,2,19930709,0311, 42.9133, -48.0267, 3483,   1744.8,   3.2130,  34.8717,2,  34.8719,2,    286.6,2,    10.45,2,    16.29,2,     0.06,2,     1.08,2
     06GA226_2,  AR19,    18,  6,     11,    D11,2,19930709,0311, 42.9133, -48.0267, 3483,   1895.0,   3.2170,  34.8823,2,  34.8815,2,    284.4,2,    10.79,2,    16.19,2,     0.04,2,     1.08,2
     06GA226_2,  AR19,    18,  6,     10,    D10,2,19930709,0311, 42.9133, -48.0267, 3483,   2045.4,   3.3240,  34.9140,2,  34.9140,2,    277.3,2,    11.93,2,    16.45,2,     0.05,2,     1.17,2
     06GA226_2,  AR19,    18,  6,     09,    D09,2,19930709,0311, 42.9133, -48.0267, 3483,   2205.0,   3.2140,  34.9147,2,  34.9128,2,    277.0,2,    12.23,2,    16.15,2,     0.04,2,     1.08,2
     06GA226_2,  AR19,    18,  6,     08,    D08,2,19930709,0311, 42.9133, -48.0267, 3483,   2344.0,   3.1560,  34.9285,2,  34.9290,2,    273.4,2,    13.23,2,    16.27,2,     0.05,2,     1.17,2
     06GA226_2,  AR19,    18,  6,     07,    D07,2,19930709,0311, 42.9133, -48.0267, 3483,   2495.3,   3.0540,  34.9307,2,  34.9302,2,    272.6,2,    13.14,2,    16.24,2,     0.05,2,     1.08,2
     06GA226_2,  AR19,    18,  6,     06,    D06,2,19930709,0311, 42.9133, -48.0267, 3483,   2645.5,   2.9470,  34.9290,2,  34.9286,2,    274.5,2,    14.00,2,    16.10,2,     0.05,2,     1.08,2
     06GA226_2,  AR19,    18,  6,     05,    D05,2,19930709,0311, 42.9133, -48.0267, 3483,   2796.2,   2.8360,  34.9267,2,  34.9266,2,    275.5,2,    14.33,2,    16.08,2,     0.06,2,     1.08,2
     06GA226_2,  AR19,    18,  6,     04,    D04,2,19930709,0311, 42.9133, -48.0267, 3483,   2947.1,   2.6870,  34.9231,2,  34.9244,2,    275.6,2,    15.14,2,    16.08,2,     0.05,2,     1.08,2
     06GA226_2,  AR19,    18,  6,     03,    D03,2,19930709,0311, 42.9133, -48.0267, 3483,   3100.3,   2.5380,  34.9163,2,  34.9165,2,    276.9,2,    15.96,2,    16.02,2,     0.05,2,     1.08,2
     06GA226_2,  AR19,    18,  6,     02,    D02,2,19930709,0311, 42.9133, -48.0267, 3483,   3248.1,   2.3770,  34.9100,2,  34.9104,2,    277.4,2,    17.42,2,    16.04,2,     0.04,2,     1.08,2
     06GA226_2,  AR19,    18,  6,     01,    D01,2,19930709,0311, 42.9133, -48.0267, 3483,   3497.7,   2.1510,  34.8997,2,  34.9006,2,    281.5,2,    18.56,2,    16.01,2,     0.05,2,     1.08,2
     06GA226_2,  AR19,    19,  1,     24,    D24,2,19930709,0845, 42.7250, -47.4417, 3839,      6.9,  19.3330,  35.5207,2,  35.5163,2,    229.6,2,     0.07,2,     0.10,2,     0.03,2,     0.10,2
     06GA226_2,  AR19,    19,  1,     23,    D23,2,19930709,0845, 42.7250, -47.4417, 3839,     95.3,  15.3670,  35.8998,2,  35.8951,2,    194.2,2,     2.63,2,     8.07,2,     0.04,2,     0.50,2
     06GA226_2,  AR19,    19,  1,     22,    D22,2,19930709,0845, 42.7250, -47.4417, 3839,    289.4,  11.6660,  35.4475,2,  35.4420,2,    182.2,2,     7.37,2,    15.92,2,     0.02,2,     1.07,2
     06GA226_2,  AR19,    19,  1,     21,    D21,2,19930709,0845, 42.7250, -47.4417, 3839,    494.5,   7.1890,  35.0079,2,  35.0051,2,    181.0,2,    12.85,2,    21.30,2,     0.03,2,     1.56,2
     06GA226_2,  AR19,    19,  1,     20,    D20,2,19930709,0845, 42.7250, -47.4417, 3839,    745.5,   5.3900,  35.0421,2,  35.0424,2,    227.5,2,    11.64,2,    18.83,2,     0.03,2,     1.36,2
     06GA226_2,  AR19,    19,  1,     19,    D19,2,19930709,0845, 42.7250, -47.4417, 3839,    994.4,   4.4830,  34.9977,2,  34.9983,2,    253.2,2,    11.06,2,    17.94,2,     0.02,2,     1.26,2
     06GA226_2,  AR19,    19,  1,     18,    D18,2,19930709,0845, 42.7250, -47.4417, 3839,   1194.6,   4.0710,  34.9611,2,  34.9626,2,    262.4,2,    11.08,2,    17.61,2,     0.04,2,     1.26,2
     06GA226_2,  AR19,    19,  1,     17,    D17,2,19930709,0845, 42.7250, -47.4417, 3839,   1394.2,   3.7510,  34.9265,2,  34.9275,2,    270.7,2,    10.89,2,    17.22,2,     0.03,2,     1.18,2
     06GA226_2,  AR19,    19,  1,     16,    D16,2,19930709,0845, 42.7250, -47.4417, 3839,   1595.6,   3.6220,  34.9192,2,  34.9210,2,    273.1,2,    11.09,2,    17.34,2,     0.03,2,     1.26,2
     06GA226_2,  AR19,    19,  1,     15,    D15,2,19930709,0845, 42.7250, -47.4417, 3839,   1796.6,   3.5200,  34.9172,2,  34.9181,2,    274.3,2,    11.41,2,    17.06,2,     0.03,2,     1.18,2
     06GA226_2,  AR19,    19,  1,     14,    D14,2,19930709,0845, 42.7250, -47.4417, 3839,   1998.0,   3.4440,  34.9223,2,  34.9252,2,    273.4,2,    12.05,2,    17.11,2,     0.03,2,     1.18,2
     06GA226_2,  AR19,    19,  1,     13,    D13,2,19930709,0845, 42.7250, -47.4417, 3839,   2196.7,   3.4390,  34.9421,2,  34.9448,2,    269.4,2,    13.37,2,    17.31,2,     0.03,2,     1.26,2
     06GA226_2,  AR19,    19,  1,     12,    D12,2,19930709,0845, 42.7250, -47.4417, 3839,   2396.5,   3.2480,  34.9259,2,  34.9291,2,    273.0,2,    12.81,2,    16.81,2,     0.03,2,     1.17,2
     06GA226_2,  AR19,    19,  1,     11,    D11,2,19930709,0845, 42.7250, -47.4417, 3839,   2598.6,   3.1050,  34.9294,2,  34.9310,2,    272.1,2,    13.62,2,    16.69,2,     0.03,2,     1.17,2
     06GA226_2,  AR19,    19,  1,     10,    D10,2,19930709,0845, 42.7250, -47.4417, 3839,   2799.5,   2.9650,  34.9299,2,  34.9306,2,    273.7,2,    14.14,2,    16.57,2,     0.03,2,     1.17,2
     06GA226_2,  AR19,    19,  1,     09,    D09,2,19930709,0845, 42.7250, -47.4417, 3839,   2998.9,   2.8130,  34.9261,2,  34.9290,2,    274.8,2,    14.48,2,    16.34,2,     0.02,2,     1.17,2
     06GA226_2,  AR19,    19,  1,     08,    D08,2,19930709,0845, 42.7250, -47.4417, 3839,   3098.3,   2.7170,  34.9235,2,  34.9232,2,    274.8,2,    15.11,2,    16.33,2,     0.02,2,     1.17,2
     06GA226_2,  AR19,    19,  1,     07,    D07,2,19930709,0845, 42.7250, -47.4417, 3839,   3199.8,   2.6180,  34.9198,2,  34.9231,2,    274.3,2,    15.02,2,    16.50,2,     0.03,2,     1.17,2
     06GA226_2,  AR19,    19,  1,     06,    D06,2,19930709,0845, 42.7250, -47.4417, 3839,   3298.7,   2.5170,  34.9158,2,  34.9158,2,    277.0,2,    15.95,2,    16.35,2,     0.03,2,     1.17,2
     06GA226_2,  AR19,    19,  1,     05,    D05,2,19930709,0845, 42.7250, -47.4417, 3839,   3398.8,   2.4210,  34.9115,2,  34.9124,2,    276.1,2,    17.13,2,    16.44,2,     0.04,2,     1.17,2
     06GA226_2,  AR19,    19,  1,     04,    D04,2,19930709,0845, 42.7250, -47.4417, 3839,   3499.6,   2.3460,  34.9078,2,  34.9080,2,    273.7,2,    19.49,2,    16.74,2,     0.04,2,     1.26,2
     06GA226_2,  AR19,    19,  1,     03,    D03,2,19930709,0845, 42.7250, -47.4417, 3839,   3599.0,   2.2630,  34.9036,2,  34.9031,2,    273.4,2,    21.15,2,    16.97,2,     0.03,2,     1.26,2
     06GA226_2,  AR19,    19,  1,     02,    D02,2,19930709,0845, 42.7250, -47.4417, 3839,   3699.8,   2.2350,  34.9017,2,  34.9011,2,    275.7,2,    20.31,2,    16.68,2,     0.03,2,     1.18,2
     06GA226_2,  AR19,    19,  1,     01,    D01,2,19930709,0845, 42.7250, -47.4417, 3839,   3857.7,   2.1810,  34.8980,2,  34.8984,2,    276.2,2,    20.93,2,    16.72,2,     0.03,2,     1.18,2
     06GA226_2,  AR19,    20,  1,     24,    D24,3,19930709,1331, 42.6100, -47.1183, 3997,   2421.1,   3.2590,  34.9241,2,  34.9241,2,    275.2,2,    12.36,2,    16.78,2,     0.01,2,     1.17,2
     06GA226_2,  AR19,    20,  1,     23,    D23,2,19930709,1331, 42.6100, -47.1183, 3997,   2421.9,   3.2600,  34.9241,2,  34.9251,2,    273.0,2,    12.34,2,    16.80,2,     0.00,2,     1.17,2
     06GA226_2,  AR19,    20,  1,     22,    D22,2,19930709,1331, 42.6100, -47.1183, 3997,   2424.5,   3.2540,  34.9241,2,  34.9247,2,    275.4,2,    12.36,2,    16.76,2,     0.00,2,     1.18,2
     06GA226_2,  AR19,    20,  1,     21,    D21,2,19930709,1331, 42.6100, -47.1183, 3997,   2426.2,   3.2530,  34.9251,2,  34.9245,2,    273.6,2,    12.37,2,    16.65,2,     0.01,2,     1.18,2
     06GA226_2,  AR19,    20,  1,     20,    D20,2,19930709,1331, 42.6100, -47.1183, 3997,   2427.6,   3.2520,  34.9241,2,  34.9243,2,    275.0,2,    12.39,2,    16.75,2,     0.01,2,     1.17,2
     06GA226_2,  AR19,    20,  1,     12,    D12,2,19930709,1331, 42.6100, -47.1183, 3997,   2427.8,   3.2580,  34.9241,2,  34.9247,2,    275.9,2,    12.41,2,    16.71,2,     0.02,2,     1.17,2
     06GA226_2,  AR19,    20,  1,     11,    D11,2,19930709,1331, 42.6100, -47.1183, 3997,   2427.8,   3.2580,  34.9241,2,  34.9241,2,    276.2,2,    12.43,2,    16.68,2,     0.01,2,     1.17,2
     06GA226_2,  AR19,    20,  1,     14,    D14,2,19930709,1331, 42.6100, -47.1183, 3997,   2428.4,   3.2570,  34.9241,2,  34.9245,2,    276.2,2,    12.40,2,    17.14,2,     0.01,2,     1.17,2
     06GA226_2,  AR19,    20,  1,     13,    D13,2,19930709,1331, 42.6100, -47.1183, 3997,   2428.5,   3.2570,  34.9241,2,  34.9235,2,    280.0,3,    12.40,2,    16.77,2,     0.01,2,     1.17,2
     06GA226_2,  AR19,    20,  1,     10,    D10,2,19930709,1331, 42.6100, -47.1183, 3997,   2428.5,   3.2590,  34.9241,2,  34.9240,2,    276.2,2,    12.45,2,    16.72,2,     0.02,2,     1.17,2
     06GA226_2,  AR19,    20,  1,     19,    D19,2,19930709,1331, 42.6100, -47.1183, 3997,   2428.6,   3.2510,  34.9241,2,  34.9239,2,    277.8,2,    12.40,2,    16.76,2,     0.01,2,     1.17,2
     06GA226_2,  AR19,    20,  1,     17,    D17,2,19930709,1331, 42.6100, -47.1183, 3997,   2428.6,   3.2520,  34.9241,2,  34.9231,2,    278.7,2,    12.40,2,    16.62,2,     0.02,2,     1.17,2
     06GA226_2,  AR19,    20,  1,     16,    D16,2,19930709,1331, 42.6100, -47.1183, 3997,   2428.6,   3.2520,  34.9241,2,  34.9239,2,    275.8,2,    12.40,2,    16.76,2,     0.01,2,     1.17,2
     06GA226_2,  AR19,    20,  1,     18,    D18,2,19930709,1331, 42.6100, -47.1183, 3997,   2428.8,   3.2510,  34.9241,2,  34.9237,2,    275.7,2,    12.39,2,    16.71,2,     0.01,2,     1.17,2
     06GA226_2,  AR19,    20,  1,     15,    D15,2,19930709,1331, 42.6100, -47.1183, 3997,   2428.8,   3.2540,  34.9241,2,  34.9241,2,    278.9,2,    12.40,2,    17.16,2,     0.02,2,     1.17,2
     06GA226_2,  AR19,    20,  1,     09,    D09,2,19930709,1331, 42.6100, -47.1183, 3997,   2429.8,   3.2590,  34.9241,2,  34.9238,2,    274.7,2,    12.47,2,    16.64,2,     0.02,2,     1.17,2
     06GA226_2,  AR19,    20,  1,     08,    D08,2,19930709,1331, 42.6100, -47.1183, 3997,   2431.6,   3.2590,  34.9241,2,  34.9245,2,    276.1,2,    12.48,2,    16.65,2,     0.02,2,     1.17,2
     06GA226_2,  AR19,    20,  1,     01,    D01,2,19930709,1331, 42.6100, -47.1183, 3997,   2431.6,   3.2590,  34.9251,2,  34.9250,2,    275.3,2,    12.55,2,    16.72,2,     0.01,2,     1.17,2
     06GA226_2,  AR19,    20,  1,     02,    D02,2,19930709,1331, 42.6100, -47.1183, 3997,   2432.6,   3.2580,  34.9251,2,  34.9241,2,    276.4,3,    12.51,2,    16.69,2,     0.01,2,     1.17,2
     06GA226_2,  AR19,    20,  1,     07,    D07,2,19930709,1331, 42.6100, -47.1183, 3997,   2433.1,   3.2580,  34.9251,2,-999.0000,9,    270.7,2,    12.29,2,    16.62,2,     0.01,2,     1.17,2
     06GA226_2,  AR19,    20,  1,     03,    D03,2,19930709,1331, 42.6100, -47.1183, 3997,   2434.1,   3.2570,  34.9251,2,  34.9245,2,    275.2,2,    12.52,2,    16.64,2,     0.01,2,     1.17,2
     06GA226_2,  AR19,    20,  1,     06,    D06,2,19930709,1331, 42.6100, -47.1183, 3997,   2434.4,   3.2580,  34.9251,2,-999.0000,9,    276.1,2,    12.53,2,    16.70,2,     0.01,2,     1.17,2
     06GA226_2,  AR19,    20,  1,     04,    D04,2,19930709,1331, 42.6100, -47.1183, 3997,   2435.1,   3.2570,  34.9251,2,  34.9234,2,    275.2,2,    12.54,2,    16.70,2,     0.01,2,     1.17,2
     06GA226_2,  AR19,    20,  1,     05,    D05,2,19930709,1331, 42.6100, -47.1183, 3997,   2435.2,   3.2580,  34.9251,2,  34.9246,2,    273.7,2,    12.50,2,    16.71,2,     0.01,2,     1.17,2