BOTTLE,20010917WHPSIOKJU
EXPOCODE,SECT_ID,STNNBR,CASTNO,SAMPNO,BTLNBR,BTLNBR_FLAG_W,DATE,TIME,LATITUDE,LONGITUDE,DEPTH,CTDPRS,CTDTMP,CTDSAL,CTDSAL_FLAG_W,SALNTY,SALNTY_FLAG_W,OXYGEN,OXYGEN_FLAG_W,SILCAT,SILCAT_FLAG_W,NITRAT,NITRAT_FLAG_W,NITRIT,NITRIT_FLAG_W,PHSPHT,PHSPHT_FLAG_W
,,,,,ID,,,,,,,DBAR,ITS-90,PSS-78,,PSS-78,,UMOL/KG,,UMOL/KG,,UMOL/KG,,UMOL/KG,,UMOL/KG,
     06GA226_2,  AR19,    63,  1,     13,    N04,2,19930720,1115, 47.6417, -22.4550, 4462,   4289.7,   2.5730,  34.9130,2,  34.9117,2,    241.3,2,    42.16,2,    20.94,2,     0.03,2,     1.56,2
     06GA226_2,  AR19,    63,  1,     12,    D12,2,19930720,1115, 47.6417, -22.4550, 4462,   4290.0,   2.5730,  34.9128,2,  34.9132,2,    241.4,2,    42.37,2,    20.94,2,     0.05,2,     1.56,2
     06GA226_2,  AR19,    63,  1,     11,    D11,2,19930720,1115, 47.6417, -22.4550, 4462,   4290.5,   2.5730,  34.9129,2,  34.9125,2,    241.1,2,    42.29,2,    20.83,2,     0.04,2,     1.56,2
     06GA226_2,  AR19,    63,  1,     10,    D19,2,19930720,1115, 47.6417, -22.4550, 4462,   4291.0,   2.5730,  34.9130,2,  34.9173,2,    242.3,2,    41.17,3,    20.67,2,     0.04,2,     1.56,2
     06GA226_2,  AR19,    63,  1,     09,    D09,2,19930720,1115, 47.6417, -22.4550, 4462,   4291.2,   2.5730,  34.9129,2,  34.9122,2,    241.2,2,    42.37,2,    20.87,2,     0.04,2,     1.56,2
     06GA226_2,  AR19,    63,  1,     08,    D08,2,19930720,1115, 47.6417, -22.4550, 4462,   4291.6,   2.5730,  34.9128,2,  34.9119,2,    241.4,2,    42.36,2,    20.72,2,     0.03,2,     1.56,2
     06GA226_2,  AR19,    63,  1,     07,    D16,2,19930720,1115, 47.6417, -22.4550, 4462,   4292.0,   2.5730,  34.9126,2,  34.9138,2,    242.4,2,    42.21,2,    20.79,2,     0.03,2,     1.56,2
     06GA226_2,  AR19,    63,  1,     06,    D06,2,19930720,1115, 47.6417, -22.4550, 4462,   4292.9,   2.5730,  34.9129,2,  34.9125,2,    242.4,2,    42.33,2,    20.76,2,     0.03,2,     1.56,2
     06GA226_2,  AR19,    63,  1,     20,    N01,2,19930720,1115, 47.6417, -22.4550, 4462,   4293.0,   2.5740,  34.9130,2,  34.9139,2,    241.2,2,    41.86,2,    20.90,2,     0.03,2,     1.56,2
     06GA226_2,  AR19,    63,  1,     22,    N02,2,19930720,1115, 47.6417, -22.4550, 4462,   4293.1,   2.5730,  34.9129,2,  34.9125,2,    241.3,2,    41.83,2,    21.11,2,     0.04,2,     1.56,2
     06GA226_2,  AR19,    63,  1,     21,    D21,2,19930720,1115, 47.6417, -22.4550, 4462,   4293.2,   2.5730,  34.9130,2,  34.9128,2,    241.2,2,    41.96,2,    21.02,2,     0.04,2,     1.56,2
     06GA226_2,  AR19,    63,  1,     05,    D05,2,19930720,1115, 47.6417, -22.4550, 4462,   4293.3,   2.5740,  34.9133,2,  34.9138,2,    242.1,2,    42.34,2,    20.80,2,     0.03,2,     1.56,2
     06GA226_2,  AR19,    63,  1,     24,    D24,2,19930720,1115, 47.6417, -22.4550, 4462,   4293.4,   2.5720,  34.9128,2,  34.9121,2,    241.2,2,    41.82,2,    21.31,2,     0.03,2,     1.56,2
     06GA226_2,  AR19,    63,  1,     23,    N05,2,19930720,1115, 47.6417, -22.4550, 4462,   4293.4,   2.5720,  34.9129,2,  34.9120,2,    241.6,2,    41.83,2,    21.33,2,     0.04,2,     1.56,2
     06GA226_2,  AR19,    63,  1,     19,    D04,2,19930720,1115, 47.6417, -22.4550, 4462,   4293.4,   2.5730,  34.9130,2,  34.9133,2,    241.0,2,    41.92,2,    20.75,2,     0.03,2,     1.56,2
     06GA226_2,  AR19,    63,  1,     15,    D15,2,19930720,1115, 47.6417, -22.4550, 4462,   4293.7,   2.5730,  34.9132,2,  34.9120,2,    241.3,2,    42.13,2,    21.46,2,     0.04,2,     1.56,2
     06GA226_2,  AR19,    63,  1,     18,    D18,2,19930720,1115, 47.6417, -22.4550, 4462,   4293.8,   2.5730,  34.9129,2,  34.9124,2,    241.1,2,    41.96,2,    20.81,2,     0.03,2,     1.56,2
     06GA226_2,  AR19,    63,  1,     04,    D13,2,19930720,1115, 47.6417, -22.4550, 4462,   4293.9,   2.5740,  34.9129,2,  34.9136,2,    241.8,2,    42.42,2,    20.89,2,     0.03,2,     1.56,2
     06GA226_2,  AR19,    63,  1,     14,    D14,2,19930720,1115, 47.6417, -22.4550, 4462,   4294.0,   2.5730,  34.9131,2,  34.9117,2,    241.4,2,    42.13,2,    21.18,2,     0.03,2,     1.56,2
     06GA226_2,  AR19,    63,  1,     16,    N03,2,19930720,1115, 47.6417, -22.4550, 4462,   4294.3,   2.5730,  34.9130,2,  34.9122,2,    243.3,3,    42.00,2,    20.92,2,     0.04,2,     1.56,2
     06GA226_2,  AR19,    63,  1,     17,    D17,2,19930720,1115, 47.6417, -22.4550, 4462,   4294.4,   2.5730,  34.9135,2,  34.9135,2,    241.3,2,    41.96,2,    20.67,2,     0.03,2,     1.56,2
     06GA226_2,  AR19,    63,  1,     03,    D03,2,19930720,1115, 47.6417, -22.4550, 4462,   4294.4,   2.5740,  34.9130,2,  34.9127,2,    242.0,2,    42.34,2,    20.74,2,     0.03,2,     1.56,2
     06GA226_2,  AR19,    63,  1,     02,    D02,2,19930720,1115, 47.6417, -22.4550, 4462,   4294.6,   2.5740,  34.9128,2,  34.9120,2,    241.8,2,    42.60,2,    20.89,2,     0.05,2,     1.56,2
     06GA226_2,  AR19,    63,  1,     01,    D10,2,19930720,1115, 47.6417, -22.4550, 4462,   4295.1,   2.5740,  34.9129,2,  34.9130,2,    242.3,2,    42.49,2,    20.91,2,     0.03,2,     1.56,2
     06GA226_2,  AR19,    64,  1,     24,    D24,2,19930720,1804, 47.7050, -22.0967, 4429,      7.6,  18.0260,  35.4974,2,  35.4894,2,    249.9,2,     0.02,2,     0.12,2,     0.02,2,     0.01,2
     06GA226_2,  AR19,    64,  1,     23,    N05,2,19930720,1804, 47.7050, -22.0967, 4429,     96.6,  10.8710,  35.4128,2,  35.4101,2,    250.3,2,     3.58,2,    10.43,2,     0.03,2,     0.68,2
     06GA226_2,  AR19,    64,  1,     22,    N02,2,19930720,1804, 47.7050, -22.0967, 4429,    195.8,  10.0010,  35.2755,2,  35.2734,2,    248.0,2,     4.84,2,    12.08,2,     0.03,2,     0.78,2
     06GA226_2,  AR19,    64,  1,     21,    D21,2,19930720,1804, 47.7050, -22.0967, 4429,    296.1,   9.4310,  35.2006,2,  35.1983,2,    244.9,2,     6.06,2,    13.23,2,     0.03,2,     0.88,2
     06GA226_2,  AR19,    64,  1,     20,    N01,2,19930720,1804, 47.7050, -22.0967, 4429,    494.5,   7.8430,  35.0774,2,  35.0789,2,    210.5,2,     9.83,2,    18.15,2,     0.03,2,     1.27,2
     06GA226_2,  AR19,    64,  1,     19,    D04,2,19930720,1804, 47.7050, -22.0967, 4429,    676.3,   6.2920,  35.0284,2,  35.0317,2,    216.7,2,    11.02,2,    18.98,2,     0.03,2,     1.28,2
     06GA226_2,  AR19,    64,  1,     18,    D18,2,19930720,1804, 47.7050, -22.0967, 4429,    796.1,   5.4460,  35.0052,2,  35.0021,2,    232.2,2,    11.04,2,    18.77,2,     0.03,2,     1.27,2
     06GA226_2,  AR19,    64,  1,     17,    D17,2,19930720,1804, 47.7050, -22.0967, 4429,    894.2,   4.9880,  34.9941,2,  34.9930,2,    242.3,2,    10.85,2,    18.38,2,     0.02,2,     1.26,2
     06GA226_2,  AR19,    64,  1,     16,    N03,2,19930720,1804, 47.7050, -22.0967, 4429,    995.4,   4.5610,  34.9680,2,  34.9679,2,    252.2,2,    10.69,2,    18.11,2,     0.02,2,     1.26,2
     06GA226_2,  AR19,    64,  1,     15,    D15,2,19930720,1804, 47.7050, -22.0967, 4429,   1095.2,   4.5390,  34.9968,2,  34.9968,2,    253.9,2,    10.70,2,    17.95,2,     0.02,2,     1.18,2
     06GA226_2,  AR19,    64,  1,     14,    D14,2,19930720,1804, 47.7050, -22.0967, 4429,   1245.2,   4.0570,  34.9424,2,  34.9411,2,    265.0,2,    10.59,2,    17.68,2,     0.02,2,     1.18,2
     06GA226_2,  AR19,    64,  1,     13,    N04,2,19930720,1804, 47.7050, -22.0967, 4429,   1495.5,   3.6860,  34.9127,2,  34.9135,2,    274.4,2,    10.63,2,    17.31,2,     0.02,2,     1.17,2
     06GA226_2,  AR19,    64,  1,     12,    D12,2,19930720,1804, 47.7050, -22.0967, 4429,   1745.0,   3.4650,  34.8962,2,  34.8946,2,    279.5,2,    10.61,2,    17.01,2,     0.02,2,     1.17,2
     06GA226_2,  AR19,    64,  1,     11,    D11,2,19930720,1804, 47.7050, -22.0967, 4429,   1996.6,   3.4920,  34.9243,2,  34.9263,2,    273.1,2,    12.06,2,    17.11,2,     0.02,2,     1.17,2
     06GA226_2,  AR19,    64,  1,     10,    D19,2,19930720,1804, 47.7050, -22.0967, 4429,   2246.3,   3.3910,  34.9414,2,  34.9428,2,    270.9,2,    13.66,2,    17.21,2,     0.03,2,     1.18,2
     06GA226_2,  AR19,    64,  1,     09,    D09,2,19930720,1804, 47.7050, -22.0967, 4429,   2496.6,   3.2110,  34.9484,2,  34.9493,2,    268.9,2,    15.59,2,    17.21,2,     0.03,2,     1.18,2
     06GA226_2,  AR19,    64,  1,     08,    D08,2,19930720,1804, 47.7050, -22.0967, 4429,   2746.6,   3.0450,  34.9543,2,  34.9544,2,    262.0,2,    21.43,2,    18.13,2,     0.04,2,     1.26,2
     06GA226_2,  AR19,    64,  1,     06,    D06,2,19930720,1804, 47.7050, -22.0967, 4429,   3248.2,   2.7360,  34.9401,2,  34.9381,2,    252.7,2,    32.50,2,    19.93,2,     0.04,2,     1.46,2
     06GA226_2,  AR19,    64,  1,     05,    D05,2,19930720,1804, 47.7050, -22.0967, 4429,   3498.0,   2.6250,  34.9280,2,  34.9269,2,    246.4,2,    38.05,2,    20.86,2,     0.03,2,     1.47,2
     06GA226_2,  AR19,    64,  1,     04,    D13,2,19930720,1804, 47.7050, -22.0967, 4429,   3748.6,   2.5730,  34.9201,2,  34.9207,2,    244.1,2,    41.02,2,    21.41,2,     0.02,2,     1.56,2
     06GA226_2,  AR19,    64,  1,     03,    D03,2,19930720,1804, 47.7050, -22.0967, 4429,   3999.5,   2.5560,  34.9141,2,  34.9142,2,    243.2,2,    42.75,2,    21.71,2,     0.04,2,     1.56,2
     06GA226_2,  AR19,    64,  1,     02,    D02,2,19930720,1804, 47.7050, -22.0967, 4429,   4249.0,   2.5610,  34.9115,2,  34.9120,2,    241.8,2,    43.96,2,    21.83,2,     0.04,2,     1.57,2
     06GA226_2,  AR19,    64,  1,     01,    D10,2,19930720,1804, 47.7050, -22.0967, 4429,   4498.1,   2.5740,  34.9093,2,  34.9103,2,    242.1,2,    44.68,2,    21.97,2,     0.03,2,     1.57,2
     06GA226_2,  AR19,    65,  1,     24,    N06,2,19930721,0040, 47.8050, -21.3850, 4368,      5.7,  18.0010,  35.6493,2,  35.6440,2,    252.0,2,     0.17,2,     0.08,2,     0.02,2,     0.10,2
     06GA226_2,  AR19,    65,  1,     23,    N05,2,19930721,0040, 47.8050, -21.3850, 4368,     96.9,  11.9730,  35.5892,2,  35.5873,2,    246.6,2,     2.83,2,     8.48,2,     0.02,2,     0.58,2
     06GA226_2,  AR19,    65,  1,     22,    N02,2,19930721,0040, 47.8050, -21.3850, 4368,    296.2,  10.8750,  35.4234,2,  35.4206,2,    242.8,2,     4.52,2,    10.95,2,     0.03,2,     0.69,2
     06GA226_2,  AR19,    65,  1,     21,    D21,2,19930721,0040, 47.8050, -21.3850, 4368,    494.1,   9.6810,  35.2807,2,  35.2762,2,    222.9,2,     6.92,2,    14.31,2,     0.03,2,     0.97,2
     06GA226_2,  AR19,    65,  1,     20,    N01,2,19930721,0040, 47.8050, -21.3850, 4368,    745.9,   7.7230,  35.1798,2,  35.1824,2,    203.0,2,    10.46,2,    18.05,2,     0.02,2,     1.27,2
     06GA226_2,  AR19,    65,  1,     19,    D04,2,19930721,0040, 47.8050, -21.3850, 4368,    997.6,   6.6130,  35.2573,2,  35.2597,2,    219.8,2,    10.75,2,    17.51,2,     0.02,2,     1.18,2
     06GA226_2,  AR19,    65,  1,     18,    D18,2,19930721,0040, 47.8050, -21.3850, 4368,   1194.4,   4.9510,  35.0500,2,  35.0479,2,    247.0,2,    10.84,2,    17.35,2,     0.02,2,     1.18,2
     06GA226_2,  AR19,    65,  1,     17,    D17,2,19930721,0040, 47.8050, -21.3850, 4368,   1396.0,   4.2370,  34.9716,2,  34.9707,2,    261.5,2,    10.69,2,    16.97,2,     0.01,2,     1.18,2
     06GA226_2,  AR19,    65,  1,     16,    N03,2,19930721,0040, 47.8050, -21.3850, 4368,   1595.3,   3.7880,  34.9225,2,  34.9217,2,    273.0,2,    10.68,2,    16.64,2,     0.01,2,     1.17,2
     06GA226_2,  AR19,    65,  1,     15,    D15,2,19930721,0040, 47.8050, -21.3850, 4368,   1795.8,   3.5820,  34.9048,2,  34.9053,2,    277.2,2,    10.80,2,    16.45,2,     0.02,2,     1.17,2
     06GA226_2,  AR19,    65,  1,     14,    D14,2,19930721,0040, 47.8050, -21.3850, 4368,   1995.8,   3.5010,  34.9160,2,  34.9156,2,    275.7,2,    11.48,2,    16.45,2,     0.02,2,     1.17,2
     06GA226_2,  AR19,    65,  1,     13,    N04,2,19930721,0040, 47.8050, -21.3850, 4368,   2195.8,   3.4680,  34.9375,2,  34.9361,2,    271.6,2,    12.84,2,    16.52,2,     0.02,2,     1.17,2
     06GA226_2,  AR19,    65,  1,     12,    D12,2,19930721,0040, 47.8050, -21.3850, 4368,   2396.7,   3.3470,  34.9457,2,  34.9464,2,    269.7,2,    14.24,2,    16.50,2,     0.02,2,     1.17,2
     06GA226_2,  AR19,    65,  1,     11,    D11,2,19930721,0040, 47.8050, -21.3850, 4368,   2597.2,   3.2110,  34.9517,2,  34.9509,2,    267.1,2,    16.70,2,    16.70,2,     0.01,2,     1.18,2
     06GA226_2,  AR19,    65,  1,     10,    D19,2,19930721,0040, 47.8050, -21.3850, 4368,   2797.9,   3.0800,  34.9572,2,  34.9592,2,    259.9,2,    22.73,2,    17.78,2,     0.02,2,     1.27,2
     06GA226_2,  AR19,    65,  1,     09,    D09,2,19930721,0040, 47.8050, -21.3850, 4368,   2997.7,   2.9220,  34.9516,2,  34.9512,2,    254.5,2,    27.74,2,    18.51,2,     0.02,2,     1.36,2
     06GA226_2,  AR19,    65,  1,     08,    D08,2,19930721,0040, 47.8050, -21.3850, 4368,   3198.5,   2.7980,  34.9445,2,  34.9434,2,    252.1,2,    30.56,2,    18.92,2,     0.02,2,     1.37,2
     06GA226_2,  AR19,    65,  1,     07,    D16,2,19930721,0040, 47.8050, -21.3850, 4368,   3398.9,   2.6920,  34.9353,2,  34.9359,2,    249.6,2,    34.50,2,    19.60,2,     0.01,2,     1.46,2
     06GA226_2,  AR19,    65,  1,     06,    D06,2,19930721,0040, 47.8050, -21.3850, 4368,   3600.1,   2.6240,  34.9268,2,  34.9275,2,    246.9,2,    37.76,2,    20.19,2,     0.02,2,     1.47,2
     06GA226_2,  AR19,    65,  1,     05,    D05,2,19930721,0040, 47.8050, -21.3850, 4368,   3798.0,   2.5700,  34.9191,2,  34.9201,2,    243.9,2,    40.57,2,    20.76,2,     0.03,2,     1.56,2
     06GA226_2,  AR19,    65,  1,     04,    D13,2,19930721,0040, 47.8050, -21.3850, 4368,   4000.7,   2.5500,  34.9137,2,  34.9156,2,    243.2,2,    41.43,2,    20.95,2,     0.03,2,     1.56,2
     06GA226_2,  AR19,    65,  1,     03,    D03,2,19930721,0040, 47.8050, -21.3850, 4368,   4199.1,   2.5560,  34.9117,2,  34.9136,2,    242.2,2,    42.61,2,    21.06,2,     0.01,2,     1.56,2
     06GA226_2,  AR19,    65,  1,     02,    D02,2,19930721,0040, 47.8050, -21.3850, 4368,   4399.6,   2.5660,  34.9103,2,  34.9102,2,    241.9,2,    43.08,2,    21.13,2,     0.03,2,     1.56,2
     06GA226_2,  AR19,    65,  1,     01,    D10,2,19930721,0040, 47.8050, -21.3850, 4368,   4435.6,   2.5670,  34.9093,2,  34.9114,2,    242.1,2,    43.21,2,    21.23,2,     0.02,2,     1.57,2
     06GA226_2,  AR19,    66,  1,     23,    N05,3,19930721,0712, 47.8967, -20.6400, 4328,     97.7,  12.6060,  35.7031,2,  35.6981,2,    248.0,2,     2.41,2,     7.10,2,     0.02,2,     0.39,2
     06GA226_2,  AR19,    66,  1,     22,    N02,2,19930721,0712, 47.8967, -20.6400, 4328,    295.1,  11.3790,  35.5184,2,  35.5208,2,    240.1,2,     3.78,2,    10.42,2,     0.02,2,     0.59,2
     06GA226_2,  AR19,    66,  1,     21,    D21,2,19930721,0712, 47.8967, -20.6400, 4328,    495.0,  10.7530,  35.4844,2,  35.4853,2,    234.0,2,     4.62,2,    12.07,2,     0.01,2,     0.69,2
     06GA226_2,  AR19,    66,  1,     20,    N01,2,19930721,0712, 47.8967, -20.6400, 4328,    595.2,  10.1700,  35.4066,2,  35.4026,2,    221.0,2,     6.16,2,    14.40,2,     0.01,2,     0.88,2
     06GA226_2,  AR19,    66,  1,     19,    D04,2,19930721,0712, 47.8967, -20.6400, 4328,    746.2,   9.1680,  35.3148,2,  35.3123,2,    207.1,2,     8.23,2,    16.72,2,     0.01,2,     1.07,2
     06GA226_2,  AR19,    66,  1,     18,    D18,2,19930721,0712, 47.8967, -20.6400, 4328,    895.0,   7.9970,  35.2712,2,  35.2693,2,    202.9,2,     9.81,2,    18.17,2,     0.01,2,     1.17,2
     06GA226_2,  AR19,    66,  1,     17,    D17,2,19930721,0712, 47.8967, -20.6400, 4328,   1008.3,   7.0580,  35.2184,2,  35.2128,2,    212.0,2,    10.33,2,    18.45,2,     0.02,2,     1.17,2
     06GA226_2,  AR19,    66,  1,     16,    N03,2,19930721,0712, 47.8967, -20.6400, 4328,   1096.2,   6.7980,  35.2610,2,  35.2604,2,    217.4,2,    10.37,2,    18.40,2,     0.02,2,     1.17,2
     06GA226_2,  AR19,    66,  1,     15,    D15,2,19930721,0712, 47.8967, -20.6400, 4328,   1244.9,   5.6220,  35.1355,2,  35.1334,2,    235.2,2,    10.51,2,    18.04,2,     0.02,2,     1.17,2
     06GA226_2,  AR19,    66,  1,     14,    D14,2,19930721,0712, 47.8967, -20.6400, 4328,   1495.8,   4.2800,  34.9649,2,  34.9649,2,    259.8,2,    10.29,2,    17.68,2,     0.01,2,     1.17,2
     06GA226_2,  AR19,    66,  1,     13,    N04,2,19930721,0712, 47.8967, -20.6400, 4328,   1743.6,   3.7610,  34.9152,2,  34.9159,2,    273.2,2,    10.21,2,    17.24,2,     0.01,2,     1.08,2
     06GA226_2,  AR19,    66,  1,     12,    D12,2,19930721,0712, 47.8967, -20.6400, 4328,   1994.8,   3.6180,  34.9196,2,  34.9241,2,    274.4,2,    10.84,2,    17.13,2,     0.02,2,     1.08,2
     06GA226_2,  AR19,    66,  1,     11,    D11,2,19930721,0712, 47.8967, -20.6400, 4328,   2196.1,   3.5510,  34.9363,2,  34.9370,2,    271.3,2,    12.06,2,    17.13,2,     0.02,2,     1.08,2
     06GA226_2,  AR19,    66,  1,     10,    D19,3,19930721,0712, 47.8967, -20.6400, 4328,   2396.7,   3.3980,  34.9417,2,-999.0000,9,    270.8,2,    12.74,2,    16.93,2,     0.02,2,     1.08,2
     06GA226_2,  AR19,    66,  1,     09,    D09,2,19930721,0712, 47.8967, -20.6400, 4328,   2497.9,   3.3210,  34.9431,2,  34.9447,2,    271.3,2,    13.37,2,    16.93,2,     0.01,2,     1.08,2
     06GA226_2,  AR19,    66,  1,     08,    D08,2,19930721,0712, 47.8967, -20.6400, 4328,   2747.3,   3.1370,  34.9519,2,  34.9529,2,    266.8,2,    16.71,2,    17.43,2,     0.01,2,     1.17,2
     06GA226_2,  AR19,    66,  1,     07,    D16,2,19930721,0712, 47.8967, -20.6400, 4328,   2998.1,   2.9420,  34.9515,2,  34.9528,2,    259.9,2,    23.23,2,    18.35,2,     0.02,2,     1.26,2
     06GA226_2,  AR19,    66,  1,     06,    D06,2,19930721,0712, 47.8967, -20.6400, 4328,   3249.1,   2.7960,  34.9439,2,  34.9434,2,    253.8,2,    29.08,2,    19.22,2,     0.02,2,     1.27,2
     06GA226_2,  AR19,    66,  1,     05,    D05,2,19930721,0712, 47.8967, -20.6400, 4328,   3499.9,   2.6670,  34.9324,2,  34.9320,2,    248.4,2,    34.22,2,    20.17,2,     0.02,2,     1.36,2
     06GA226_2,  AR19,    66,  1,     04,    D13,2,19930721,0712, 47.8967, -20.6400, 4328,   3744.8,   2.5950,  34.9221,2,  34.9230,2,    244.8,2,    37.77,2,    20.86,2,     0.03,2,     1.46,2
     06GA226_2,  AR19,    66,  1,     03,    D03,2,19930721,0712, 47.8967, -20.6400, 4328,   3999.0,   2.5650,  34.9150,2,  34.9164,2,    243.1,2,    39.51,2,    21.33,2,     0.03,2,     1.46,2
     06GA226_2,  AR19,    66,  1,     02,    D02,2,19930721,0712, 47.8967, -20.6400, 4328,   4250.5,   2.5600,  34.9118,2,  34.9143,2,    241.9,2,    41.56,2,    21.78,2,     0.03,2,     1.47,2
     06GA226_2,  AR19,    66,  1,     01,    D10,2,19930721,0712, 47.8967, -20.6400, 4328,   4397.3,   2.5660,  34.9097,2,  34.9109,2,    242.2,2,    40.71,3,    21.79,2,     0.03,2,     1.46,2