BOTTLE,20010917WHPSIOKJU
EXPOCODE,SECT_ID,STNNBR,CASTNO,SAMPNO,BTLNBR,BTLNBR_FLAG_W,DATE,TIME,LATITUDE,LONGITUDE,DEPTH,CTDPRS,CTDTMP,CTDSAL,CTDSAL_FLAG_W,SALNTY,SALNTY_FLAG_W,OXYGEN,OXYGEN_FLAG_W,SILCAT,SILCAT_FLAG_W,NITRAT,NITRAT_FLAG_W,NITRIT,NITRIT_FLAG_W,PHSPHT,PHSPHT_FLAG_W
,,,,,ID,,,,,,,DBAR,ITS-90,PSS-78,,PSS-78,,UMOL/KG,,UMOL/KG,,UMOL/KG,,UMOL/KG,,UMOL/KG,
     06GA226_2,  AR19,    70,  1,     24,    N06,2,19930722,0936, 48.3100, -17.7067, 4061,      6.8,  17.3420,  35.5717,2,  35.5663,2,    248.3,2,     0.06,2,     0.14,2,     0.02,2,     0.01,2
     06GA226_2,  AR19,    70,  1,     23,    N07,2,19930722,0936, 48.3100, -17.7067, 4061,     46.3,  12.7730,  35.6299,2,  35.6249,2,    249.7,2,     1.11,2,     5.49,2,     0.67,2,     0.39,2
     06GA226_2,  AR19,    70,  1,     22,    N02,2,19930722,0936, 48.3100, -17.7067, 4061,     71.9,  12.1870,  35.6313,2,  35.6290,2,    245.9,2,     2.73,2,     8.26,2,     0.03,2,     0.49,2
     06GA226_2,  AR19,    70,  1,     21,    D21,2,19930722,0936, 48.3100, -17.7067, 4061,     96.9,  11.9800,  35.6011,2,  35.5990,2,    247.9,2,     3.10,2,     8.51,2,     0.04,2,     0.50,2
     06GA226_2,  AR19,    70,  1,     20,    N01,2,19930722,0936, 48.3100, -17.7067, 4061,    195.3,  11.5620,  35.5389,2,  35.5384,2,    247.7,2,     3.48,2,     9.33,2,     0.03,2,     0.58,2
     06GA226_2,  AR19,    70,  1,     19,    D04,2,19930722,0936, 48.3100, -17.7067, 4061,    296.3,  10.9490,  35.4449,2,  35.4421,2,    236.8,2,     4.61,2,    11.47,2,     0.04,2,     0.69,2
     06GA226_2,  AR19,    70,  1,     18,    D18,2,19930722,0936, 48.3100, -17.7067, 4061,    397.7,  10.6010,  35.4105,2,  35.4079,2,    243.4,2,     4.58,2,    11.44,2,     0.03,2,     0.69,2
     06GA226_2,  AR19,    70,  1,     17,    D17,2,19930722,0936, 48.3100, -17.7067, 4061,    496.7,  10.3530,  35.4241,2,  35.4224,2,    228.5,2,     5.59,2,    13.29,2,     0.04,2,     0.79,2
     06GA226_2,  AR19,    70,  1,     16,    N03,2,19930722,0936, 48.3100, -17.7067, 4061,    595.4,   9.3780,  35.2798,2,  35.2761,2,    220.7,2,     7.35,2,    15.29,2,     0.03,2,     0.97,2
     06GA226_2,  AR19,    70,  1,     15,    D15,2,19930722,0936, 48.3100, -17.7067, 4061,    696.9,   8.8530,  35.2852,2,  35.2827,2,    205.9,2,     8.85,2,    17.00,2,     0.03,2,     1.08,2
     06GA226_2,  AR19,    70,  1,     14,    D14,2,19930722,0936, 48.3100, -17.7067, 4061,    795.8,   7.9220,  35.2276,2,  35.2185,2,    203.8,2,    10.12,2,    18.15,2,     0.04,2,     1.17,2
     06GA226_2,  AR19,    70,  1,     13,    N04,2,19930722,0936, 48.3100, -17.7067, 4061,    895.5,   6.9430,  35.1650,2,  35.1610,2,    211.6,2,    10.75,2,    18.50,2,     0.03,2,     1.18,2
     06GA226_2,  AR19,    70,  1,     12,    D12,2,19930722,0936, 48.3100, -17.7067, 4061,    996.4,   6.5390,  35.2067,2,  35.2046,2,    219.7,2,    10.76,2,    18.26,2,     0.03,2,     1.17,2
     06GA226_2,  AR19,    70,  1,     11,    N08,2,19930722,0936, 48.3100, -17.7067, 4061,   1095.3,   5.7410,  35.1224,2,  35.1206,2,    231.9,2,    10.88,2,    18.18,2,     0.04,2,     1.18,2
     06GA226_2,  AR19,    70,  1,     10,    D19,2,19930722,0936, 48.3100, -17.7067, 4061,   1194.9,   5.0900,  35.0622,2,  35.0598,2,    243.3,2,    10.84,2,    17.92,2,     0.03,2,     1.17,2
     06GA226_2,  AR19,    70,  1,     09,    D09,2,19930722,0936, 48.3100, -17.7067, 4061,   1295.5,   4.6490,  35.0098,2,  35.0078,2,    251.9,2,    10.80,2,    17.85,2,     0.04,2,     1.17,2
     06GA226_2,  AR19,    70,  1,     08,    D08,2,19930722,0936, 48.3100, -17.7067, 4061,   1394.9,   4.1520,  34.9503,2,  34.9489,2,    262.3,2,    10.66,2,    17.53,2,     0.03,2,     1.17,2
     06GA226_2,  AR19,    70,  1,     07,    D16,2,19930722,0936, 48.3100, -17.7067, 4061,   1493.3,   3.9570,  34.9372,2,  34.9377,2,    268.0,2,    10.64,2,    17.33,2,     0.03,2,     1.17,2
     06GA226_2,  AR19,    70,  1,     06,    D06,2,19930722,0936, 48.3100, -17.7067, 4061,   1595.9,   3.7910,  34.9199,2,  34.9183,2,    272.6,2,    10.62,2,    17.19,2,     0.04,2,     1.17,2
     06GA226_2,  AR19,    70,  1,     05,    D05,2,19930722,0936, 48.3100, -17.7067, 4061,   1695.3,   3.6870,  34.9144,2,  34.9132,2,    274.4,2,    10.71,2,    17.07,2,     0.03,2,     1.17,2
     06GA226_2,  AR19,    70,  1,     04,    D13,2,19930722,0936, 48.3100, -17.7067, 4061,   1797.6,   3.5660,  34.9064,2,  34.9049,2,    276.9,2,    10.83,2,    17.01,2,     0.04,2,     1.08,2
     06GA226_2,  AR19,    70,  1,     03,    D03,2,19930722,0936, 48.3100, -17.7067, 4061,   1895.9,   3.5480,  34.9133,2,  34.9135,2,    276.0,2,    11.16,2,    16.94,2,     0.03,2,     1.08,2
     06GA226_2,  AR19,    70,  1,     02,    D02,2,19930722,0936, 48.3100, -17.7067, 4061,   1996.1,   3.5730,  34.9316,2,  34.9305,2,    272.7,2,    12.05,2,    17.18,2,     0.04,2,     1.08,2
     06GA226_2,  AR19,    70,  1,     01,    D10,2,19930722,0936, 48.3100, -17.7067, 4061,   2096.9,   3.5150,  34.9388,2,  34.9364,2,    271.4,2,    12.80,2,    17.11,2,     0.05,2,     1.17,2
     06GA226_2,  AR19,    70,  2,     24,    N06,2,19930722,1240, 48.2933, -17.6750, 3963,   1997.3,   3.5190,  34.9215,2,  34.9211,2,    273.7,2,    11.70,2,    17.50,2,     0.03,2,     1.17,2
     06GA226_2,  AR19,    70,  2,     23,    N07,2,19930722,1240, 48.2933, -17.6750, 3963,   2046.1,   3.5020,  34.9274,2,  34.9265,2,    273.0,2,    12.08,2,    17.56,2,     0.03,2,     1.17,2
     06GA226_2,  AR19,    70,  2,     22,    N02,2,19930722,1240, 48.2933, -17.6750, 3963,   2096.9,   3.4830,  34.9317,2,  34.9305,2,    271.7,2,    12.57,2,    17.56,2,     0.03,2,     1.17,2
     06GA226_2,  AR19,    70,  2,     21,    D21,2,19930722,1240, 48.2933, -17.6750, 3963,   2146.9,   3.4650,  34.9361,2,  34.9373,2,    271.0,2,    12.99,2,    17.57,2,     0.04,2,     1.17,2
     06GA226_2,  AR19,    70,  2,     20,    N01,2,19930722,1240, 48.2933, -17.6750, 3963,   2195.9,   3.4430,  34.9381,2,  34.9379,2,    270.3,2,    13.41,2,    17.58,2,     0.03,2,     1.17,2
     06GA226_2,  AR19,    70,  2,     19,    D04,2,19930722,1240, 48.2933, -17.6750, 3963,   2297.2,   3.3810,  34.9459,2,  34.9465,2,    268.4,2,    14.49,2,    17.56,2,     0.03,2,     1.17,2
     06GA226_2,  AR19,    70,  2,     18,    D18,2,19930722,1240, 48.2933, -17.6750, 3963,   2396.6,   3.2900,  34.9474,2,  34.9469,2,    268.6,2,    14.94,2,    17.53,2,     0.04,2,     1.17,2
     06GA226_2,  AR19,    70,  2,     17,    D17,2,19930722,1240, 48.2933, -17.6750, 3963,   2496.9,   3.2320,  34.9502,2,  34.9466,2,    267.8,2,    15.88,2,    17.53,2,     0.04,2,     1.17,2
     06GA226_2,  AR19,    70,  2,     16,    N03,2,19930722,1240, 48.2933, -17.6750, 3963,   2598.7,   3.1600,  34.9525,2,  34.9509,2,    266.3,2,    17.47,2,    17.75,2,     0.03,2,     1.17,2
     06GA226_2,  AR19,    70,  2,     15,    D15,2,19930722,1240, 48.2933, -17.6750, 3963,   2697.7,   3.0720,  34.9546,2,  34.9535,2,    261.8,2,    21.00,2,    18.33,2,     0.04,2,     1.18,2
     06GA226_2,  AR19,    70,  2,     14,    D14,2,19930722,1240, 48.2933, -17.6750, 3963,   2797.4,   3.0010,  34.9541,2,  34.9538,2,    256.5,2,    25.09,2,    19.18,2,     0.04,2,     1.27,2
     06GA226_2,  AR19,    70,  2,     13,    N04,2,19930722,1240, 48.2933, -17.6750, 3963,   2898.0,   2.9290,  34.9511,2,  34.9503,2,    254.2,2,    27.26,2,    19.52,2,     0.04,2,     1.27,2
     06GA226_2,  AR19,    70,  2,     12,    D12,2,19930722,1240, 48.2933, -17.6750, 3963,   2999.6,   2.8540,  34.9493,2,  34.9465,2,    253.4,2,    28.70,2,    19.61,2,     0.04,2,     1.36,2
     06GA226_2,  AR19,    70,  2,     11,    N08,2,19930722,1240, 48.2933, -17.6750, 3963,   3098.9,   2.7860,  34.9443,2,  34.9435,2,    251.7,2,    30.86,2,    19.96,2,     0.03,2,     1.36,2
     06GA226_2,  AR19,    70,  2,     10,    D19,2,19930722,1240, 48.2933, -17.6750, 3963,   3199.3,   2.7150,  34.9382,2,  34.9352,2,    249.7,2,    33.22,2,    20.41,2,     0.03,2,     1.37,2
     06GA226_2,  AR19,    70,  2,     09,    D09,2,19930722,1240, 48.2933, -17.6750, 3963,   3296.6,   2.6680,  34.9334,2,  34.9314,2,    247.7,2,    35.07,2,    20.65,2,     0.04,2,     1.46,2
     06GA226_2,  AR19,    70,  2,     08,    D08,2,19930722,1240, 48.2933, -17.6750, 3963,   3399.2,   2.6300,  34.9290,2,  34.9279,2,    246.0,2,    36.72,2,    20.95,2,     0.04,2,     1.46,2
     06GA226_2,  AR19,    70,  2,     07,    D16,2,19930722,1240, 48.2933, -17.6750, 3963,   3498.0,   2.5950,  34.9246,2,  34.9233,2,    249.8,4,    38.15,2,    21.24,2,     0.03,2,     1.46,2
     06GA226_2,  AR19,    70,  2,     06,    D06,2,19930722,1240, 48.2933, -17.6750, 3963,   3600.1,   2.5560,  34.9199,2,  34.9177,2,    244.4,2,    39.95,2,    21.57,2,     0.03,2,     1.47,2
     06GA226_2,  AR19,    70,  2,     05,    D05,2,19930722,1240, 48.2933, -17.6750, 3963,   3699.0,   2.5420,  34.9171,2,  34.9165,2,    242.9,2,    40.77,2,    21.74,2,     0.03,2,     1.47,2
     06GA226_2,  AR19,    70,  2,     04,    D13,2,19930722,1240, 48.2933, -17.6750, 3963,   3797.9,   2.5330,  34.9152,2,  34.9123,2,    243.0,2,    41.56,2,    22.09,2,     0.03,2,     1.47,2
     06GA226_2,  AR19,    70,  2,     03,    D03,2,19930722,1240, 48.2933, -17.6750, 3963,   3900.1,   2.5240,  34.9132,2,  34.9121,2,    242.4,2,    42.03,2,    22.04,2,     0.04,2,     1.47,2
     06GA226_2,  AR19,    70,  2,     02,    D02,2,19930722,1240, 48.2933, -17.6750, 3963,   4000.1,   2.5250,  34.9103,2,  34.9097,2,    242.0,2,    42.59,2,    22.01,2,     0.02,2,     1.56,2
     06GA226_2,  AR19,    70,  2,     01,    D10,2,19930722,1240, 48.2933, -17.6750, 3963,   4042.5,   2.5280,  34.9099,2,  34.9096,2,    242.1,2,    42.66,2,    22.08,2,     0.02,2,     1.56,2
     06GA226_2,  AR19,    71,  1,     24,    N06,2,19930722,1848, 48.4167, -16.9617, 4524,      7.8,  16.7790,  35.5988,2,  35.5956,2,    251.1,2,     0.02,2,     0.08,2,     0.01,2,     0.01,2
     06GA226_2,  AR19,    71,  1,     23,    N07,2,19930722,1848, 48.4167, -16.9617, 4524,     97.6,  12.1550,  35.6239,2,  35.6217,2,    246.4,2,     2.40,2,     8.01,2,     0.02,2,     0.50,2
     06GA226_2,  AR19,    71,  1,     22,    N02,2,19930722,1848, 48.4167, -16.9617, 4524,    196.1,  11.3250,  35.5067,2,  35.5041,2,    247.1,2,     3.34,2,     9.79,2,     0.01,2,     0.59,2
     06GA226_2,  AR19,    71,  1,     21,    D21,2,19930722,1848, 48.4167, -16.9617, 4524,    295.8,  10.9450,  35.4617,2,  35.4560,2,    247.1,2,     3.84,2,    10.45,2,     0.01,2,     0.68,2
     06GA226_2,  AR19,    71,  1,     20,    N01,2,19930722,1848, 48.4167, -16.9617, 4524,    497.0,  10.0080,  35.3543,2,  35.3572,2,    222.9,2,     6.33,2,    14.23,2,     0.01,2,     0.89,2
     06GA226_2,  AR19,    71,  1,     19,    D04,2,19930722,1848, 48.4167, -16.9617, 4524,    645.5,   8.7700,  35.2364,2,  35.2377,2,    206.5,2,     8.90,2,    17.05,2,     0.01,2,     1.17,2
     06GA226_2,  AR19,    71,  1,     18,    D18,2,19930722,1848, 48.4167, -16.9617, 4524,    747.0,   8.2220,  35.2677,2,  35.2482,3,    201.6,2,     9.92,2,    18.05,2,     0.01,2,     1.18,2
     06GA226_2,  AR19,    71,  1,     17,    D17,2,19930722,1848, 48.4167, -16.9617, 4524,    994.4,   6.9160,  35.2709,2,  35.2681,2,    215.6,2,    10.70,2,    17.90,2,     0.00,2,     0.97,2
     06GA226_2,  AR19,    71,  1,     16,    N03,2,19930722,1848, 48.4167, -16.9617, 4524,   1246.2,   4.6790,  34.9922,2,  34.9909,2,    250.5,2,    10.71,2,    17.82,2,     0.01,2,     1.18,2
     06GA226_2,  AR19,    71,  1,     15,    D15,2,19930722,1848, 48.4167, -16.9617, 4524,   1495.3,   3.9800,  34.9290,2,  34.9289,2,    267.9,2,    10.50,2,    17.29,2,     0.01,2,     1.18,2
     06GA226_2,  AR19,    71,  1,     14,    D14,2,19930722,1848, 48.4167, -16.9617, 4524,   1745.6,   3.6410,  34.9037,2,  34.9035,2,    275.8,2,    10.53,2,    16.96,2,     0.01,2,     1.17,2
     06GA226_2,  AR19,    71,  1,     13,    N04,2,19930722,1848, 48.4167, -16.9617, 4524,   1996.8,   3.4860,  34.9074,2,  34.9080,2,    277.5,2,  -999.00,9,  -999.00,9,  -999.00,9,  -999.00,9
     06GA226_2,  AR19,    71,  1,     12,    D12,2,19930722,1848, 48.4167, -16.9617, 4524,   2246.4,   3.4700,  34.9402,2,  34.9410,2,    270.5,2,    13.33,2,    17.02,2,     0.01,2,     1.17,2
     06GA226_2,  AR19,    71,  1,     11,    N08,2,19930722,1848, 48.4167, -16.9617, 4524,   2496.8,   3.2580,  34.9565,2,  34.9548,2,    264.4,2,    17.96,2,    17.55,2,     0.01,2,     1.26,2
     06GA226_2,  AR19,    71,  1,     10,    D19,2,19930722,1848, 48.4167, -16.9617, 4524,   2747.6,   3.0260,  34.9569,2,  34.9568,2,    255.7,2,    25.73,2,    18.87,2,     0.01,2,     1.36,2
     06GA226_2,  AR19,    71,  1,     09,    D09,2,19930722,1848, 48.4167, -16.9617, 4524,   2998.1,   2.8320,  34.9468,2,  34.9469,2,    250.8,2,    31.05,2,    19.67,2,     0.01,2,     1.37,2
     06GA226_2,  AR19,    71,  1,     08,    D08,2,19930722,1848, 48.4167, -16.9617, 4524,   3249.9,   2.7120,  34.9369,2,  34.9352,2,    247.6,2,    34.77,2,    20.28,2,     0.02,2,     1.47,2
     06GA226_2,  AR19,    71,  1,     07,    D16,2,19930722,1848, 48.4167, -16.9617, 4524,   3500.4,   2.6230,  34.9271,2,  34.9247,2,    246.1,2,    37.96,2,    20.80,2,     0.01,2,     1.56,2
     06GA226_2,  AR19,    71,  1,     06,    D06,2,19930722,1848, 48.4167, -16.9617, 4524,   3743.4,   2.5580,  34.9187,2,  34.9172,2,    246.1,2,    40.66,2,    21.25,2,     0.01,2,     1.56,2
     06GA226_2,  AR19,    71,  1,     05,    D05,2,19930722,1848, 48.4167, -16.9617, 4524,   3999.7,   2.5330,  34.9112,2,  34.9130,2,    243.0,2,    42.33,2,    21.50,2,     0.02,2,     1.57,2
     06GA226_2,  AR19,    71,  1,     04,    D13,2,19930722,1848, 48.4167, -16.9617, 4524,   4248.2,   2.5250,  34.9073,2,  34.9067,2,    242.3,2,    43.55,2,    21.65,2,     0.01,2,     1.57,2
     06GA226_2,  AR19,    71,  1,     03,    D03,2,19930722,1848, 48.4167, -16.9617, 4524,   4500.4,   2.5250,  34.9036,2,  34.9048,2,    242.6,2,    43.94,2,    21.68,2,     0.01,2,     1.57,2
     06GA226_2,  AR19,    71,  1,     02,    D02,2,19930722,1848, 48.4167, -16.9617, 4524,   4548.1,   2.5260,  34.9031,2,  34.9040,2,    242.5,2,    44.08,2,    21.69,2,     0.01,2,     1.57,2
     06GA226_2,  AR19,    71,  1,     01,    D10,2,19930722,1848, 48.4167, -16.9617, 4524,   4579.7,   2.5250,  34.9028,2,  34.9032,2,    242.8,2,    44.36,2,    21.76,2,     0.01,2,     1.57,2
     06GA226_2,  AR19,    72,  1,     24,    N06,2,19930723,0112, 48.5217, -16.2283, 4807,     96.7,  12.5280,  35.6824,2,  35.6795,2,    241.7,2,     2.63,2,     7.62,3,     0.03,2,     0.49,2
     06GA226_2,  AR19,    72,  1,     23,    N07,2,19930723,0112, 48.5217, -16.2283, 4807,    495.5,  10.4980,  35.4379,2,  35.4359,2,    224.4,2,     5.60,2,    12.84,3,     0.02,2,     0.79,2
     06GA226_2,  AR19,    72,  1,     22,    N02,2,19930723,0112, 48.5217, -16.2283, 4807,    746.3,   8.2740,  35.2013,2,  35.1974,2,    202.5,2,     9.73,2,    17.17,3,     0.03,2,     1.17,2
     06GA226_2,  AR19,    72,  1,     21,    D21,2,19930723,0112, 48.5217, -16.2283, 4807,    996.6,   7.3370,  35.3172,2,  35.3180,2,    210.2,2,    10.47,2,    17.14,3,     0.04,2,     1.17,2
     06GA226_2,  AR19,    72,  1,     20,    N01,2,19930723,0112, 48.5217, -16.2283, 4807,   1196.5,   5.6540,  35.1231,2,  35.1237,2,    233.2,2,    10.85,2,    17.17,3,     0.04,2,     1.17,2
     06GA226_2,  AR19,    72,  1,     19,    D04,2,19930723,0112, 48.5217, -16.2283, 4807,   1395.3,   4.6780,  35.0274,2,  35.0250,2,    251.6,2,    10.78,2,    16.83,3,     0.03,2,     1.17,2
     06GA226_2,  AR19,    72,  1,     18,    D18,2,19930723,0112, 48.5217, -16.2283, 4807,   1597.1,   4.1770,  34.9751,2,  34.9743,2,    262.7,2,    10.86,2,    16.53,3,     0.04,2,     1.17,2
     06GA226_2,  AR19,    72,  1,     17,    D17,2,19930723,0112, 48.5217, -16.2283, 4807,   1797.2,   3.7440,  34.9282,2,  34.9296,2,    272.1,2,    10.95,2,    16.15,3,     0.03,2,     1.17,2
     06GA226_2,  AR19,    72,  1,     16,    N03,2,19930723,0112, 48.5217, -16.2283, 4807,   1998.2,   3.5500,  34.9214,2,  34.9200,2,    274.3,2,    11.50,2,    16.08,3,     0.03,2,     1.17,2
     06GA226_2,  AR19,    72,  1,     15,    D15,2,19930723,0112, 48.5217, -16.2283, 4807,   2198.2,   3.4650,  34.9388,2,  34.9385,2,    270.5,2,    13.05,2,    16.11,3,     0.04,2,     1.17,2
     06GA226_2,  AR19,    72,  1,     14,    D14,2,19930723,0112, 48.5217, -16.2283, 4807,   2396.4,   3.3560,  34.9530,2,  34.9536,2,    266.1,2,    15.96,2,    16.46,3,     0.03,2,     1.17,2
     06GA226_2,  AR19,    72,  1,     13,    N04,2,19930723,0112, 48.5217, -16.2283, 4807,   2597.9,   3.2040,  34.9564,2,  34.9560,2,    262.1,2,    19.61,2,    16.89,3,     0.03,2,     1.18,2
     06GA226_2,  AR19,    72,  1,     12,    D12,2,19930723,0112, 48.5217, -16.2283, 4807,   2798.0,   3.0740,  34.9565,2,  34.9554,2,    257.0,2,    24.01,2,    17.50,3,     0.03,2,     1.26,2
     06GA226_2,  AR19,    72,  1,     11,    N08,2,19930723,0112, 48.5217, -16.2283, 4807,   2999.2,   2.9030,  34.9499,2,  34.9517,2,    251.8,2,    29.37,2,    18.40,3,     0.03,2,     1.36,2
     06GA226_2,  AR19,    72,  1,     10,    D19,2,19930723,0112, 48.5217, -16.2283, 4807,   3200.8,   2.7940,  34.9433,2,  34.9442,2,    248.9,2,    32.82,2,    19.02,3,     0.04,2,     1.37,2
     06GA226_2,  AR19,    72,  1,     09,    D09,2,19930723,0112, 48.5217, -16.2283, 4807,   3399.8,   2.7140,  34.9359,2,  34.9340,2,    247.4,2,    35.04,2,    19.26,3,     0.03,2,     1.37,2
     06GA226_2,  AR19,    72,  1,     08,    D08,2,19930723,0112, 48.5217, -16.2283, 4807,   3600.8,   2.6330,  34.9272,2,  34.9261,2,    244.9,2,    38.01,2,    19.66,3,     0.04,2,     1.46,2
     06GA226_2,  AR19,    72,  1,     07,    D16,2,19930723,0112, 48.5217, -16.2283, 4807,   3801.1,   2.5820,  34.9187,2,  34.9211,2,    248.1,3,    39.93,2,    19.96,3,     0.03,2,     1.47,2
     06GA226_2,  AR19,    72,  1,     06,    D06,2,19930723,0112, 48.5217, -16.2283, 4807,   3998.7,   2.5540,  34.9136,2,  34.9132,2,    244.2,2,    41.51,2,    20.26,3,     0.03,2,     1.47,2
     06GA226_2,  AR19,    72,  1,     05,    D05,2,19930723,0112, 48.5217, -16.2283, 4807,   4199.4,   2.5460,  34.9106,2,  34.9114,2,    242.7,2,    42.14,2,    20.22,3,     0.02,2,     1.47,2
     06GA226_2,  AR19,    72,  1,     04,    D13,2,19930723,0112, 48.5217, -16.2283, 4807,   4401.3,   2.5430,  34.9077,2,  34.9166,2,    244.0,3,    40.85,3,    20.03,3,     0.03,2,     1.47,2
     06GA226_2,  AR19,    72,  1,     03,    D03,2,19930723,0112, 48.5217, -16.2283, 4807,   4600.6,   2.5480,  34.9053,2,  34.9056,2,    242.5,2,    43.43,2,    20.31,3,     0.03,2,     1.47,2
     06GA226_2,  AR19,    72,  1,     02,    D02,2,19930723,0112, 48.5217, -16.2283, 4807,   4801.4,   2.5560,  34.9032,2,  34.9069,2,    242.5,2,    43.87,2,    20.39,3,     0.03,2,     1.47,2
     06GA226_2,  AR19,    72,  1,     01,    D10,2,19930723,0112, 48.5217, -16.2283, 4807,   4902.9,   2.5630,  34.9021,2,  34.9043,2,    243.3,2,    43.87,2,    20.56,3,     0.03,2,     1.56,2