BOTTLE,20120214PRINUNIVRMK
EXPOCODE,SECT_ID,STNNBR,CASTNO,SAMPNO,BTLNBR,BTLNBR_FLAG_W,DATE,TIME,LATITUDE,LONGITUDE,DEPTH,CTDPRS,CTDTMP,CTDSAL,CTDSAL_FLAG_W,SALNTY,SALNTY_FLAG_W,CTDOXY,CTDOXY_FLAG_W,OXYGEN,OXYGEN_FLAG_W,SILCAT,SILCAT_FLAG_W,NITRAT,NITRAT_FLAG_W,PHSPHT,PHSPHT_FLAG_W,CFC-11,CFC-11_FLAG_W,CFC-12,CFC-12_FLAG_W,CFC113,CFC113_FLAG_W,CCL4,CCL4_FLAG_W,MCHFRM,MCHFRM_FLAG_W,TCARBN,TCARBN_FLAG_W,ALKALI,ALKALI_FLAG_W,BTL_DATE,BTL_TIME
,,,,,,,,,,,METERS,DBAR,ITS-90,PSS-78,,PSS-78,,UMOL/KG,,UMOL/KG,,UMOL/KG,,UMOL/KG,,UMOL/KG,,PMOL/KG,,PMOL/KG,,PMOL/KG,,PMOL/KG,,PMOL/KG,,UMOL/KG,,UMOL/KG,,,
  18HU19990627, AR07W,    68,  1, 213747,      1,2,19990703,0833, 55.4275, -53.8143, 2658,   2740.6,   2.1671,  34.8758,2,  34.8879,2,    310.6,2,    292.6,2,    11.66,6,    14.83,6,     0.99,6,    2.727,2,    1.659,2,    0.082,4,   68.737,4,    6.966,2,   2163.8,2,   2313.7,2, 19990703,      833
  18HU19990627, AR07W,    68,  1, 213748,      2,2,19990703,0833, 55.4275, -53.8143, 2658,   2743.4,   2.1691,  34.8757,2,  34.8866,2,    309.6,2,   -999.0,9,    11.60,6,    15.07,6,     0.97,6, -999.000,9, -999.000,9, -999.000,9, -999.000,9, -999.000,9,   -999.0,9,   -999.0,9, 19990703,      834
  18HU19990627, AR07W,    68,  1, 213749,      3,2,19990703,0833, 55.4275, -53.8143, 2658,   2598.7,   2.2835,  34.8786,2,  33.6777,4,    305.2,2,    289.2,2,    11.72,6,    14.94,6,     1.00,6,    2.713,2,    1.416,2,    0.164,2,   65.784,4,    6.811,2,   2162.2,2,   2301.1,2, 19990703,      838
  18HU19990627, AR07W,    68,  1, 213750,      4,2,19990703,0833, 55.4275, -53.8143, 2658,   2509.4,   2.4026,  34.8810,2,  34.8940,6,    303.8,2,   -999.0,9,    11.70,6,    15.34,6,     0.98,6,    2.623,2,    1.534,2,    0.170,2,   67.916,4,    6.976,2,   2159.9,2,   2289.8,2, 19990703,      840
  18HU19990627, AR07W,    68,  1, 213751,      5,2,19990703,0833, 55.4275, -53.8143, 2658,   2408.4,   2.4941,  34.8822,2,  34.8938,2,    302.2,2,    286.7,2,    11.51,6,    15.60,6,     1.02,6,    2.583,2,    1.291,2,    0.163,2,   64.931,4,    6.596,2,   2161.6,2,   2299.2,2, 19990703,      842
  18HU19990627, AR07W,    68,  1, 213752,      6,2,19990703,0833, 55.4275, -53.8143, 2658,   2288.8,   2.6980,  34.8828,2,  34.8931,2,    300.1,2,   -999.0,9,    11.23,6,    15.47,6,     0.99,6,    2.532,2,    1.302,2,    0.151,2,   66.669,4,    6.902,2,   2161.8,2,   2300.3,2, 19990703,      845
  18HU19990627, AR07W,    68,  1, 213753,      7,2,19990703,0833, 55.4275, -53.8143, 2658,   2248.9,   2.7583,  34.8818,2,  34.8928,2,    300.5,2,   -999.0,9,    11.12,6,    15.78,6,     1.00,6, -999.000,9, -999.000,9, -999.000,9, -999.000,9, -999.000,9,   -999.0,9,   -999.0,9, 19990703,      847
  18HU19990627, AR07W,    68,  1, 213754,      8,2,19990703,0833, 55.4275, -53.8143, 2658,   2147.5,   2.8952,  34.8804,2,  34.8925,2,    299.0,2,   -999.0,9,    10.86,6,    16.01,6,     1.00,6,    2.625,2,    1.383,2,    0.189,2,   67.865,4,    7.045,2,   2160.8,2,   2287.7,2, 19990703,      849
  18HU19990627, AR07W,    68,  1, 213755,      9,2,19990703,0833, 55.4275, -53.8143, 2658,   1997.7,   2.9808,  34.8716,2,  34.8820,2,    301.2,2,   -999.0,9,    10.45,6,    16.20,6,     1.02,6, -999.000,9, -999.000,9, -999.000,9, -999.000,9, -999.000,9,   -999.0,9,   -999.0,9, 19990703,      852
  18HU19990627, AR07W,    68,  1, 213756,     10,2,19990703,0833, 55.4275, -53.8143, 2658,   1992.8,   2.9804,  34.8716,2,  34.8831,2,    301.5,2,    288.3,2,    10.45,6,    15.99,6,     0.99,6,    2.817,2,    1.448,2,    0.200,2,   71.330,4,    7.609,2,   2162.1,2,   2292.4,3, 19990703,      853
  18HU19990627, AR07W,    68,  1, 213757,     11,2,19990703,0833, 55.4275, -53.8143, 2658,   1806.0,   2.9802,  34.8549,2,  34.8661,2,    304.7,2,    293.3,6,    10.14,6,    15.97,6,     1.00,6,    3.279,2,    1.776,2,    0.223,2,   86.789,4,    8.807,2,   2158.4,2,   2293.1,2, 19990703,      856
  18HU19990627, AR07W,    68,  1, 213758,     12,2,19990703,0833, 55.4275, -53.8143, 2658,   1747.4,   2.9732,  34.8491,2,  34.8603,2,    307.5,2,   -999.0,9,     9.76,6,    16.41,6,     1.00,6, -999.000,9, -999.000,9, -999.000,9, -999.000,9, -999.000,9,   -999.0,9,   -999.0,9, 19990703,      858
  18HU19990627, AR07W,    68,  1, 213759,     13,2,19990703,0833, 55.4275, -53.8143, 2658,   1608.5,   3.0204,  34.8491,2,  34.8600,2,    304.8,2,    294.1,2,     9.93,6,    16.32,6,     0.99,6,    3.540,6,    1.915,6,    0.247,6,   91.779,4,    9.365,6,   2160.4,2,   2297.7,2, 19990703,      901
  18HU19990627, AR07W,    68,  1, 213760,     14,2,19990703,0833, 55.4275, -53.8143, 2658,   1508.9,   3.0744,  34.8512,2,  34.8621,2,    304.1,2,   -999.0,9,     9.85,6,    16.27,6,     0.98,6, -999.000,9, -999.000,9, -999.000,9, -999.000,9, -999.000,9,   -999.0,9,   -999.0,9, 19990703,      902
  18HU19990627, AR07W,    68,  1, 213761,     15,2,19990703,0833, 55.4275, -53.8143, 2658,   1406.4,   3.1284,  34.8525,2,  34.8638,2,    302.4,2,    290.6,2,     9.84,6,    16.60,6,     0.99,6,    3.421,2,    1.815,2,    0.255,2,   85.633,4,    9.058,2,   2160.0,2,   2288.0,2, 19990703,      904
  18HU19990627, AR07W,    68,  1, 213762,     16,2,19990703,0833, 55.4275, -53.8143, 2658,   1249.5,   3.2471,  34.8556,2,  34.8662,2,    299.0,2,   -999.0,9,     9.77,6,    16.67,6,     1.01,6, -999.000,9, -999.000,9, -999.000,9, -999.000,9, -999.000,9,   -999.0,9,   -999.0,9, 19990703,      909
  18HU19990627, AR07W,    68,  1, 213763,     17,2,19990703,0833, 55.4275, -53.8143, 2658,   1208.8,   3.2839,  34.8568,2,  34.8669,2,    297.4,2,    290.3,2,     9.64,6,    16.81,6,     1.01,6,    3.488,2,    1.815,2,    0.226,2,   89.002,4,    8.557,2,   2159.4,2,   2294.8,2, 19990703,      910
  18HU19990627, AR07W,    68,  1, 213764,     18,2,19990703,0833, 55.4275, -53.8143, 2658,   1029.3,   3.3272,  34.8483,2,  34.8580,2,    299.3,2,    291.4,2,     9.33,6,    16.36,6,     0.99,6,    3.710,2,    1.995,2,    0.283,2,   94.789,4,    8.620,2,   2160.7,2,   2293.6,2, 19990703,      913
  18HU19990627, AR07W,    68,  1, 213765,     19,2,19990703,0833, 55.4275, -53.8143, 2658,    847.3,   3.2869,  34.8289,2,  34.8380,2,    306.8,2,    297.8,2,     8.76,6,    15.77,6,     0.96,6,    4.063,2,    2.430,2,    0.618,4,  106.936,4,    8.451,2,   2159.2,2,   2294.5,2, 19990703,      917
  18HU19990627, AR07W,    68,  1, 213766,     20,2,19990703,0833, 55.4275, -53.8143, 2658,    668.5,   3.3821,  34.8272,2,  34.8373,2,    306.9,2,    298.5,2,     8.44,6,    15.85,6,     0.96,6,    4.158,2,    2.310,2,    0.354,2,  116.481,4,    8.474,2,   2157.9,2,   2299.5,2, 19990703,      920
  18HU19990627, AR07W,    68,  1, 213767,     21,2,19990703,0833, 55.4275, -53.8143, 2658,    509.4,   3.4515,  34.8211,2,  34.8301,2,    308.8,2,    299.3,6,     8.21,6,    15.53,6,     0.95,6,    4.236,2,    2.372,2,    0.329,2,  104.046,4,    7.406,2,   2155.5,2,   2294.6,2, 19990703,      923
  18HU19990627, AR07W,    68,  1, 213768,     22,2,19990703,0833, 55.4275, -53.8143, 2658,    513.9,   3.4522,  34.8209,2,-999.0000,9,    307.7,2,   -999.0,9,     8.27,6,    15.29,6,     0.94,6, -999.000,9, -999.000,9, -999.000,9, -999.000,9, -999.000,9,   -999.0,9,   -999.0,9, 19990703,      924
  18HU19990627, AR07W,    68,  1, 213769,     23,2,19990703,0833, 55.4275, -53.8143, 2658,    368.3,   3.5824,  34.8186,2,  34.8273,2,    305.4,2,    292.0,2,     8.21,6,    15.44,6,     0.95,6,    4.219,2,    2.194,2,    0.331,2,  108.933,4,    7.540,2,   2157.2,2,   2295.7,2, 19990703,      927
  18HU19990627, AR07W,    68,  1, 213770,     24,2,19990703,0833, 55.4275, -53.8143, 2658,    249.5,   3.7118,  34.8092,2,  34.8179,2,    303.1,2,    295.9,2,     8.13,6,    15.29,6,     0.92,6,    4.117,2,    2.473,2,    0.290,2,  107.662,4,    7.622,2,   2158.0,2,   2300.9,2, 19990703,      929
  18HU19990627, AR07W,    70,  1, 213771,      1,2,19990703,1242, 55.4208, -53.8298, 2658,    252.0,   3.7076,  34.8108,2,  34.8202,2,    333.6,2,   -999.0,9,     7.94,6,    15.27,6,     0.93,6, -999.000,9, -999.000,9, -999.000,9, -999.000,9, -999.000,9,   -999.0,9,   -999.0,9, 19990703,     1242
  18HU19990627, AR07W,    70,  1, 213772,      2,2,19990703,1242, 55.4208, -53.8298, 2658,    198.6,   3.8167,  34.8063,2,-999.0000,9,    331.6,2,   -999.0,9,     7.88,6,    14.91,6,     0.92,6, -999.000,9, -999.000,9, -999.000,9, -999.000,9, -999.000,9,   -999.0,9,   -999.0,9, 19990703,     1244
  18HU19990627, AR07W,    70,  1, 213773,      3,2,19990703,1242, 55.4208, -53.8298, 2658,    174.1,   3.8616,  34.8012,2,-999.0000,9,    330.3,2,   -999.0,9,     7.80,6,    14.87,6,     0.92,6, -999.000,9, -999.000,9, -999.000,9, -999.000,9, -999.000,9,   -999.0,9,   -999.0,9, 19990703,     1245
  18HU19990627, AR07W,    70,  1, 213774,      4,2,19990703,1242, 55.4208, -53.8298, 2658,    149.3,   3.8611,  34.7860,2,  34.7989,2,    328.1,2,   -999.0,9,     7.55,6,    14.85,6,     0.91,6,    4.442,6,    2.578,6,    0.355,6,  108.216,4,    7.036,6,   2154.3,2,   2292.3,2, 19990703,     1246
  18HU19990627, AR07W,    70,  1, 213775,      5,2,19990703,1242, 55.4208, -53.8298, 2658,    123.8,   3.9113,  34.7763,2,-999.0000,9,    328.5,2,   -999.0,9,     7.51,6,    14.52,6,     0.89,6, -999.000,9, -999.000,9, -999.000,9, -999.000,9, -999.000,9,   -999.0,9,   -999.0,9, 19990703,     1247
  18HU19990627, AR07W,    70,  1, 213776,      6,2,19990703,1242, 55.4208, -53.8298, 2658,     99.3,   3.9306,  34.7585,2,  34.7658,2,    325.2,2,   -999.0,9,     6.91,6,    14.27,6,     0.88,6, -999.000,9, -999.000,9, -999.000,9, -999.000,9, -999.000,9,   -999.0,9,   -999.0,9, 19990703,     1248
  18HU19990627, AR07W,    70,  1, 213777,      7,2,19990703,1242, 55.4208, -53.8298, 2658,     89.0,   3.9289,  34.7541,2,  34.7581,2,    325.2,2,   -999.0,9,     6.91,6,    14.40,6,     0.89,6,    4.614,2,    2.686,2,    0.340,2,  113.803,4,    6.914,2,   2152.7,2,   2284.2,2, 19990703,     1248
  18HU19990627, AR07W,    70,  1, 213778,      8,2,19990703,1242, 55.4208, -53.8298, 2658,     79.3,   3.8888,  34.7169,2,-999.0000,9,    325.6,2,   -999.0,9,     6.21,6,    13.14,6,     0.85,6, -999.000,9, -999.000,9, -999.000,9, -999.000,9, -999.000,9,   -999.0,9,   -999.0,9, 19990703,     1249
  18HU19990627, AR07W,    70,  1, 213779,      9,2,19990703,1242, 55.4208, -53.8298, 2658,     68.9,   3.9217,  34.6826,2,-999.0000,9,    328.7,2,   -999.0,9,     5.25,6,    10.98,6,     0.81,6, -999.000,9, -999.000,9, -999.000,9, -999.000,9, -999.000,9,   -999.0,9,   -999.0,9, 19990703,     1250
  18HU19990627, AR07W,    70,  1, 213780,     10,2,19990703,1242, 55.4208, -53.8298, 2658,     58.7,   4.0399,  34.6567,2,-999.0000,9,    335.7,2,   -999.0,9,  -999.00,9,  -999.00,9,  -999.00,9, -999.000,9, -999.000,9, -999.000,9, -999.000,9, -999.000,9,   -999.0,9,   -999.0,9, 19990703,     1250
  18HU19990627, AR07W,    70,  1, 213781,     11,2,19990703,1242, 55.4208, -53.8298, 2658,     49.5,   4.1812,  34.6160,2,  34.6311,2,    342.6,2,   -999.0,9,     3.82,6,     8.42,6,     0.68,6,    5.220,2,    3.035,2,    0.366,4,  136.666,4,    6.663,2,   2129.4,2,   2287.6,2, 19990703,     1251
  18HU19990627, AR07W,    70,  1, 213782,     12,2,19990703,1242, 55.4208, -53.8298, 2658,     39.7,   4.4040,  34.5696,2,-999.0000,9,    347.7,2,   -999.0,9,     2.54,6,     7.37,6,     0.60,6, -999.000,9, -999.000,9, -999.000,9, -999.000,9, -999.000,9,   -999.0,9,   -999.0,9, 19990703,     1252
  18HU19990627, AR07W,    70,  1, 213783,     13,2,19990703,1242, 55.4208, -53.8298, 2658,     29.6,   4.5809,  34.5368,2,-999.0000,9,    351.7,2,   -999.0,9,     1.97,6,     6.29,6,     0.54,6, -999.000,9, -999.000,9, -999.000,9, -999.000,9, -999.000,9,   -999.0,9,   -999.0,9, 19990703,     1253
  18HU19990627, AR07W,    70,  1, 213784,     14,2,19990703,1242, 55.4208, -53.8298, 2658,     30.0,   4.5747,  34.5394,2,-999.0000,9,    350.7,2,   -999.0,9,     1.96,2,     6.34,2,     0.59,2, -999.000,9, -999.000,9, -999.000,9, -999.000,9, -999.000,9,   -999.0,9,   -999.0,9, 19990703,     1253
  18HU19990627, AR07W,    70,  1, 213785,     15,2,19990703,1242, 55.4208, -53.8298, 2658,     19.7,   5.7647,  34.4459,2,  34.5128,2,    349.6,2,   -999.0,9,     1.48,6,     4.84,6,     0.45,6,    4.843,2,    2.821,2,    0.367,2,  139.637,4,    6.583,2,   2099.3,2,   2289.4,2, 19990703,     1254
  18HU19990627, AR07W,    70,  1, 213786,     16,2,19990703,1242, 55.4208, -53.8298, 2658,     19.6,   5.8050,  34.4508,2,-999.0000,9,    352.1,2,   -999.0,9,     1.50,2,     4.81,2,     0.54,2, -999.000,9, -999.000,9, -999.000,9, -999.000,9, -999.000,9,   -999.0,9,   -999.0,9, 19990703,     1254
  18HU19990627, AR07W,    70,  1, 213787,     17,2,19990703,1242, 55.4208, -53.8298, 2658,      9.7,   6.6718,  34.3958,2,  34.4225,2,    341.3,2,   -999.0,9,     1.17,6,     3.65,6,     0.41,6, -999.000,9, -999.000,9, -999.000,9, -999.000,9, -999.000,9,   -999.0,9,   -999.0,9, 19990703,     1255
  18HU19990627, AR07W,    70,  1, 213788,     18,2,19990703,1242, 55.4208, -53.8298, 2658,      9.7,   6.6901,  34.3962,2,-999.0000,9,    338.4,2,   -999.0,9,     1.13,2,     3.63,2,     0.44,2, -999.000,9, -999.000,9, -999.000,9, -999.000,9, -999.000,9,   -999.0,9,   -999.0,9, 19990703,     1255
  18HU19990627, AR07W,    70,  1, 213789,     19,2,19990703,1242, 55.4208, -53.8298, 2658,      9.6,   6.6583,  34.4012,2,-999.0000,9,    340.7,2,   -999.0,9,  -999.00,9,  -999.00,9,  -999.00,9, -999.000,9, -999.000,9, -999.000,9, -999.000,9, -999.000,9,   -999.0,9,   -999.0,9, 19990703,     1255
  18HU19990627, AR07W,    70,  1, 213790,     20,2,19990703,1242, 55.4208, -53.8298, 2658,      9.7,   6.6920,  34.4002,2,-999.0000,9,    342.3,2,   -999.0,9,  -999.00,9,  -999.00,9,  -999.00,9, -999.000,9, -999.000,9, -999.000,9, -999.000,9, -999.000,9,   -999.0,9,   -999.0,9, 19990703,     1255
  18HU19990627, AR07W,    70,  1, 213791,     21,2,19990703,1242, 55.4208, -53.8298, 2658,      9.3,   6.7113,  34.3981,2,-999.0000,9,    341.8,2,   -999.0,9,  -999.00,9,  -999.00,9,  -999.00,9, -999.000,9, -999.000,9, -999.000,9, -999.000,9, -999.000,9,   -999.0,9,   -999.0,9, 19990703,     1256
  18HU19990627, AR07W,    70,  1, 213792,     22,2,19990703,1242, 55.4208, -53.8298, 2658,      3.7,   6.7117,  34.3986,2,-999.0000,9,    340.6,2,   -999.0,9,  -999.00,9,  -999.00,9,  -999.00,9, -999.000,9, -999.000,9, -999.000,9, -999.000,9, -999.000,9,   -999.0,9,   -999.0,9, 19990703,     1256
  18HU19990627, AR07W,    71,  1, 213793,     23,2,19990703,1305, 55.4168, -53.8333, 2868,      4.7,   6.6223,  34.3851,2,  34.3977,2,    355.6,2,   -999.0,9,     1.20,6,     3.66,6,     0.39,6,    5.074,2,    2.760,2,    0.361,2,  137.287,4,    6.346,2,   2088.3,2,   2282.0,2, 19990703,     1305