BOTTLE,20120214PRINUNIVRMK
EXPOCODE,SECT_ID,STNNBR,CASTNO,SAMPNO,BTLNBR,BTLNBR_FLAG_W,DATE,TIME,LATITUDE,LONGITUDE,DEPTH,CTDPRS,CTDTMP,CTDSAL,CTDSAL_FLAG_W,SALNTY,SALNTY_FLAG_W,CTDOXY,CTDOXY_FLAG_W,OXYGEN,OXYGEN_FLAG_W,SILCAT,SILCAT_FLAG_W,NITRAT,NITRAT_FLAG_W,PHSPHT,PHSPHT_FLAG_W,CFC-11,CFC-11_FLAG_W,CFC-12,CFC-12_FLAG_W,CFC113,CFC113_FLAG_W,CCL4,CCL4_FLAG_W,MCHFRM,MCHFRM_FLAG_W,TCARBN,TCARBN_FLAG_W,ALKALI,ALKALI_FLAG_W,BTL_DATE,BTL_TIME
,,,,,,,,,,,METERS,DBAR,ITS-90,PSS-78,,PSS-78,,UMOL/KG,,UMOL/KG,,UMOL/KG,,UMOL/KG,,UMOL/KG,,PMOL/KG,,PMOL/KG,,PMOL/KG,,PMOL/KG,,PMOL/KG,,UMOL/KG,,UMOL/KG,,,
  18HU19990627, AR07W,    32,  1, 213525,      1,2,19990629,1218, 45.4865, -59.5102,  150,    170.5,   2.5463,  33.0935,2,-999.0000,9,    278.5,2,   -999.0,9,  -999.00,9,  -999.00,9,  -999.00,9, -999.000,9, -999.000,9, -999.000,9, -999.000,9, -999.000,9,   -999.0,9,   -999.0,9, 19990629,     1218
  18HU19990627, AR07W,    32,  1, 213526,      2,2,19990629,1218, 45.4865, -59.5102,  150,    170.2,   2.5475,  33.0948,2,-999.0000,9,    276.1,2,   -999.0,9,  -999.00,9,  -999.00,9,  -999.00,9, -999.000,9, -999.000,9, -999.000,9, -999.000,9, -999.000,9,   -999.0,9,   -999.0,9, 19990629,     1218
  18HU19990627, AR07W,    32,  1, 213527,      3,2,19990629,1218, 45.4865, -59.5102,  150,    171.0,   2.5502,  33.0978,2,-999.0000,9,    275.7,2,   -999.0,9,  -999.00,9,  -999.00,9,  -999.00,9, -999.000,9, -999.000,9, -999.000,9, -999.000,9, -999.000,9,   -999.0,9,   -999.0,9, 19990629,     1218
  18HU19990627, AR07W,    32,  1, 213528,      4,2,19990629,1218, 45.4865, -59.5102,  150,    170.9,   2.5492,  33.0965,2,-999.0000,9,    274.7,2,   -999.0,9,  -999.00,9,  -999.00,9,  -999.00,9, -999.000,9, -999.000,9, -999.000,9, -999.000,9, -999.000,9,   -999.0,9,   -999.0,9, 19990629,     1218
  18HU19990627, AR07W,    32,  1, 213529,      5,2,19990629,1218, 45.4865, -59.5102,  150,    170.5,   2.5490,  33.0963,2,  33.1010,2,    273.5,2,   -999.0,9,    18.63,6,    13.38,6,     1.33,6, -999.000,9, -999.000,9, -999.000,9, -999.000,9, -999.000,9,   -999.0,9,   -999.0,9, 19990629,     1219
  18HU19990627, AR07W,    32,  1, 213530,      6,2,19990629,1218, 45.4865, -59.5102,  150,    150.9,   2.4472,  32.9799,2,  32.9791,2,    276.1,2,   -999.0,9,    17.85,6,    12.64,6,     1.30,6, -999.000,9, -999.000,9, -999.000,9, -999.000,9, -999.000,9,   -999.0,9,   -999.0,9, 19990629,     1220
  18HU19990627, AR07W,    32,  1, 213531,      7,2,19990629,1218, 45.4865, -59.5102,  150,    125.9,   2.3811,  32.8933,2,  32.9100,2,    281.2,2,   -999.0,9,    16.41,6,    12.49,6,     1.32,6, -999.000,9, -999.000,9, -999.000,9, -999.000,9, -999.000,9,   -999.0,9,   -999.0,9, 19990629,     1221
  18HU19990627, AR07W,    32,  1, 213532,      8,2,19990629,1218, 45.4865, -59.5102,  150,    100.5,   2.2037,  32.6887,2,  32.6954,2,    293.3,2,   -999.0,9,    13.10,6,    11.09,6,     1.26,6, -999.000,9, -999.000,9, -999.000,9, -999.000,9, -999.000,9,   -999.0,9,   -999.0,9, 19990629,     1223
  18HU19990627, AR07W,    32,  1, 213533,      9,2,19990629,1218, 45.4865, -59.5102,  150,     90.3,   2.1426,  32.5457,2,  32.5510,2,    303.4,2,   -999.0,9,    10.08,6,     9.50,6,     1.22,6, -999.000,9, -999.000,9, -999.000,9, -999.000,9, -999.000,9,   -999.0,9,   -999.0,9, 19990629,     1224
  18HU19990627, AR07W,    32,  1, 213534,     10,2,19990629,1218, 45.4865, -59.5102,  150,     80.2,   1.9526,  32.4828,2,  32.4834,2,    305.9,2,   -999.0,9,    10.41,6,     9.15,6,     1.24,6, -999.000,9, -999.000,9, -999.000,9, -999.000,9, -999.000,9,   -999.0,9,   -999.0,9, 19990629,     1225
  18HU19990627, AR07W,    32,  1, 213535,     11,2,19990629,1218, 45.4865, -59.5102,  150,     70.1,   1.8071,  32.3736,2,  32.3830,2,    315.7,2,   -999.0,9,     8.44,6,     7.61,6,     1.18,6, -999.000,9, -999.000,9, -999.000,9, -999.000,9, -999.000,9,   -999.0,9,   -999.0,9, 19990629,     1226
  18HU19990627, AR07W,    32,  1, 213536,     12,2,19990629,1218, 45.4865, -59.5102,  150,     60.8,   1.8567,  32.2425,2,  32.2871,2,    338.1,2,   -999.0,9,     5.34,6,     5.00,6,     1.01,6, -999.000,9, -999.000,9, -999.000,9, -999.000,9, -999.000,9,   -999.0,9,   -999.0,9, 19990629,     1226
  18HU19990627, AR07W,    32,  1, 213537,     13,2,19990629,1218, 45.4865, -59.5102,  150,     48.1,   1.9730,  32.0758,2,  32.0859,6,    359.4,2,   -999.0,9,     2.99,6,     2.53,6,     0.76,6, -999.000,9, -999.000,9, -999.000,9, -999.000,9, -999.000,9,   -999.0,9,   -999.0,9, 19990629,     1228
  18HU19990627, AR07W,    32,  1, 213538,     14,2,19990629,1218, 45.4865, -59.5102,  150,     48.5,   1.9906,  32.0612,2,-999.0000,9,    359.5,2,   -999.0,9,     2.32,2,     2.28,2,     0.76,2, -999.000,9, -999.000,9, -999.000,9, -999.000,9, -999.000,9,   -999.0,9,   -999.0,9, 19990629,     1228
  18HU19990627, AR07W,    32,  1, 213539,     15,2,19990629,1218, 45.4865, -59.5102,  150,     40.3,   2.3264,  31.8633,2,  31.9456,2,    372.1,2,   -999.0,9,     1.93,6,     1.34,6,     0.65,6, -999.000,9, -999.000,9, -999.000,9, -999.000,9, -999.000,9,   -999.0,9,   -999.0,9, 19990629,     1229
  18HU19990627, AR07W,    32,  1, 213540,     16,2,19990629,1218, 45.4865, -59.5102,  150,     30.2,   3.9674,  31.5972,2,  31.6610,2,    382.5,2,   -999.0,9,     1.26,6,     0.20,6,     0.46,6, -999.000,9, -999.000,9, -999.000,9, -999.000,9, -999.000,9,   -999.0,9,   -999.0,9, 19990629,     1230
  18HU19990627, AR07W,    32,  1, 213541,     17,2,19990629,1218, 45.4865, -59.5102,  150,     19.7,   7.0399,  30.9846,2,  31.1977,2,    350.7,2,   -999.0,9,     1.44,6,     0.00,6,     0.44,6, -999.000,9, -999.000,9, -999.000,9, -999.000,9, -999.000,9,   -999.0,9,   -999.0,9, 19990629,     1230
  18HU19990627, AR07W,    32,  1, 213542,     18,2,19990629,1218, 45.4865, -59.5102,  150,     19.9,   6.7266,  31.0627,2,-999.0000,9,    356.7,2,   -999.0,9,     1.08,2,     0.00,2,     0.47,2, -999.000,9, -999.000,9, -999.000,9, -999.000,9, -999.000,9,   -999.0,9,   -999.0,9, 19990629,     1231
  18HU19990627, AR07W,    32,  1, 213543,     19,2,19990629,1218, 45.4865, -59.5102,  150,     10.6,  12.5425,  30.3648,2,  30.5791,2,    302.1,2,   -999.0,9,     1.68,6,     0.00,6,     0.36,6, -999.000,9, -999.000,9, -999.000,9, -999.000,9, -999.000,9,   -999.0,9,   -999.0,9, 19990629,     1231
  18HU19990627, AR07W,    32,  1, 213544,     20,2,19990629,1218, 45.4865, -59.5102,  150,     10.5,  12.6052,  30.3641,2,-999.0000,9,    297.7,2,   -999.0,9,     1.48,2,     0.00,2,     0.38,2, -999.000,9, -999.000,9, -999.000,9, -999.000,9, -999.000,9,   -999.0,9,   -999.0,9, 19990629,     1232
  18HU19990627, AR07W,    32,  1, 213545,     21,2,19990629,1218, 45.4865, -59.5102,  150,     10.3,  12.4793,  30.4064,2,  30.3921,2,    299.3,2,   -999.0,9,     1.81,6,     0.00,6,     0.37,6, -999.000,9, -999.000,9, -999.000,9, -999.000,9, -999.000,9,   -999.0,9,   -999.0,9, 19990629,     1232
  18HU19990627, AR07W,    32,  1, 213546,     22,2,19990629,1218, 45.4865, -59.5102,  150,     10.8,  10.7496,  30.7934,2,  30.4789,2,    310.9,2,   -999.0,9,     1.71,6,     0.00,6,     0.39,6, -999.000,9, -999.000,9, -999.000,9, -999.000,9, -999.000,9,   -999.0,9,   -999.0,9, 19990629,     1232
  18HU19990627, AR07W,    32,  1, 213547,     23,2,19990629,1218, 45.4865, -59.5102,  150,      2.5,  12.6619,  30.3568,2,  30.3708,2,    299.5,2,   -999.0,9,     1.77,6,     0.00,6,     0.38,6, -999.000,9, -999.000,9, -999.000,9, -999.000,9, -999.000,9,   -999.0,9,   -999.0,9, 19990629,     1233
  18HU19990627, AR07W,    32,  1, 213548,     24,2,19990629,1218, 45.4865, -59.5102,  150,      1.9,  12.6067,  30.3649,2,  30.3734,2,    300.2,2,   -999.0,9,     1.87,6,     0.00,6,     0.34,6, -999.000,9, -999.000,9, -999.000,9, -999.000,9, -999.000,9,   -999.0,9,   -999.0,9, 19990629,     1233
  18HU19990627, AR07W,    35,  1, 213549,      1,2,19990630,1137, 49.7438, -58.3928,   91,     88.9,   0.6491,  32.6248,2,-999.0000,9,    353.4,2,   -999.0,9,  -999.00,9,  -999.00,9,  -999.00,9, -999.000,9, -999.000,9, -999.000,9, -999.000,9, -999.000,9,   -999.0,9,   -999.0,9, 19990630,     1137
  18HU19990627, AR07W,    35,  1, 213550,      2,2,19990630,1137, 49.7438, -58.3928,   91,     89.0,   0.6448,  32.6250,2,-999.0000,9,    351.8,2,   -999.0,9,  -999.00,9,  -999.00,9,  -999.00,9, -999.000,9, -999.000,9, -999.000,9, -999.000,9, -999.000,9,   -999.0,9,   -999.0,9, 19990630,     1137
  18HU19990627, AR07W,    35,  1, 213551,      3,2,19990630,1137, 49.7438, -58.3928,   91,     89.0,   0.6459,  32.6251,2,-999.0000,9,    349.5,2,   -999.0,9,  -999.00,9,  -999.00,9,  -999.00,9, -999.000,9, -999.000,9, -999.000,9, -999.000,9, -999.000,9,   -999.0,9,   -999.0,9, 19990630,     1137
  18HU19990627, AR07W,    35,  1, 213552,      4,2,19990630,1137, 49.7438, -58.3928,   91,     89.0,   0.6443,  32.6249,2,-999.0000,9,    347.9,2,   -999.0,9,  -999.00,9,  -999.00,9,  -999.00,9, -999.000,9, -999.000,9, -999.000,9, -999.000,9, -999.000,9,   -999.0,9,   -999.0,9, 19990630,     1138
  18HU19990627, AR07W,    35,  1, 213553,      5,2,19990630,1137, 49.7438, -58.3928,   91,     88.9,   0.6435,  32.6249,2,  32.6313,2,    346.4,2,   -999.0,9,    11.90,6,     9.92,6,     1.11,6, -999.000,9, -999.000,9, -999.000,9, -999.000,9, -999.000,9,   -999.0,9,   -999.0,9, 19990630,     1138
  18HU19990627, AR07W,    35,  1, 213554,      6,2,19990630,1137, 49.7438, -58.3928,   91,     80.3,   0.6030,  32.5569,2,  32.5636,2,    347.4,2,   -999.0,9,    10.94,6,     9.50,6,     1.06,6, -999.000,9, -999.000,9, -999.000,9, -999.000,9, -999.000,9,   -999.0,9,   -999.0,9, 19990630,     1139
  18HU19990627, AR07W,    35,  1, 213555,      7,2,19990630,1137, 49.7438, -58.3928,   91,     70.0,   0.3619,  32.3652,2,  32.3692,2,    362.5,2,   -999.0,9,     8.76,6,     7.59,6,     1.00,6, -999.000,9, -999.000,9, -999.000,9, -999.000,9, -999.000,9,   -999.0,9,   -999.0,9, 19990630,     1140
  18HU19990627, AR07W,    35,  1, 213556,      8,2,19990630,1137, 49.7438, -58.3928,   91,     60.3,   0.3308,  32.1871,2,  32.2125,6,    378.4,2,   -999.0,9,     5.05,6,     4.99,6,     0.85,6, -999.000,9, -999.000,9, -999.000,9, -999.000,9, -999.000,9,   -999.0,9,   -999.0,9, 19990630,     1140
  18HU19990627, AR07W,    35,  1, 213557,      9,2,19990630,1137, 49.7438, -58.3928,   91,     50.4,   0.2745,  32.0203,2,  32.0239,2,    415.3,2,   -999.0,9,     1.63,6,     1.62,6,     0.65,6, -999.000,9, -999.000,9, -999.000,9, -999.000,9, -999.000,9,   -999.0,9,   -999.0,9, 19990630,     1142
  18HU19990627, AR07W,    35,  1, 213558,     10,2,19990630,1137, 49.7438, -58.3928,   91,     39.7,   0.8698,  31.9068,2,-999.0000,9,    421.2,2,   -999.0,9,     1.87,2,     1.60,2,     0.66,2, -999.000,9, -999.000,9, -999.000,9, -999.000,9, -999.000,9,   -999.0,9,   -999.0,9, 19990630,     1143
  18HU19990627, AR07W,    35,  1, 213559,     11,2,19990630,1137, 49.7438, -58.3928,   91,     39.9,   0.8686,  31.9148,2,  31.9224,2,    424.6,2,   -999.0,9,     2.24,6,     1.56,6,     0.63,6, -999.000,9, -999.000,9, -999.000,9, -999.000,9, -999.000,9,   -999.0,9,   -999.0,9, 19990630,     1143
  18HU19990627, AR07W,    35,  1, 213560,     12,2,19990630,1137, 49.7438, -58.3928,   91,     29.4,   2.7325,  31.7445,2,  31.7876,2,    408.0,2,   -999.0,9,     0.77,6,     0.48,6,     0.58,6, -999.000,9, -999.000,9, -999.000,9, -999.000,9, -999.000,9,   -999.0,9,   -999.0,9, 19990630,     1143
  18HU19990627, AR07W,    35,  1, 213561,     13,2,19990630,1137, 49.7438, -58.3928,   91,     19.8,   6.5094,  31.5766,2,-999.0000,9,    360.8,2,   -999.0,9,     0.33,2,     0.00,2,     0.44,2, -999.000,9, -999.000,9, -999.000,9, -999.000,9, -999.000,9,   -999.0,9,   -999.0,9, 19990630,     1145
  18HU19990627, AR07W,    35,  1, 213562,     14,2,19990630,1137, 49.7438, -58.3928,   91,     19.7,   6.5794,  31.5748,2,  31.5832,2,    364.0,2,   -999.0,9,     1.19,6,     0.36,6,     0.38,6, -999.000,9, -999.000,9, -999.000,9, -999.000,9, -999.000,9,   -999.0,9,   -999.0,9, 19990630,     1145
  18HU19990627, AR07W,    35,  1, 213563,     15,2,19990630,1137, 49.7438, -58.3928,   91,      9.8,  12.1320,  31.2980,2,-999.0000,9,    307.1,2,   -999.0,9,     0.41,2,     0.00,2,     0.41,2, -999.000,9, -999.000,9, -999.000,9, -999.000,9, -999.000,9,   -999.0,9,   -999.0,9, 19990630,     1146
  18HU19990627, AR07W,    35,  1, 213564,     16,2,19990630,1137, 49.7438, -58.3928,   91,      9.7,  12.0726,  31.3347,2,-999.0000,9,    300.6,2,   -999.0,9,  -999.00,9,  -999.00,9,  -999.00,9, -999.000,9, -999.000,9, -999.000,9, -999.000,9, -999.000,9,   -999.0,9,   -999.0,9, 19990630,     1146
  18HU19990627, AR07W,    35,  1, 213565,     17,2,19990630,1137, 49.7438, -58.3928,   91,      9.8,  11.6086,  31.3625,2,-999.0000,9,    307.3,2,   -999.0,9,  -999.00,9,  -999.00,9,  -999.00,9, -999.000,9, -999.000,9, -999.000,9, -999.000,9, -999.000,9,   -999.0,9,   -999.0,9, 19990630,     1146
  18HU19990627, AR07W,    35,  1, 213566,     18,2,19990630,1137, 49.7438, -58.3928,   91,      9.8,  12.2103,  31.3198,2,-999.0000,9,    300.1,2,   -999.0,9,  -999.00,9,  -999.00,9,  -999.00,9, -999.000,9, -999.000,9, -999.000,9, -999.000,9, -999.000,9,   -999.0,9,   -999.0,9, 19990630,     1147
  18HU19990627, AR07W,    35,  1, 213567,     19,2,19990630,1137, 49.7438, -58.3928,   91,      9.7,  12.0863,  31.3447,2,  31.3531,2,    301.0,2,   -999.0,9,     0.61,6,     0.00,6,     0.33,6, -999.000,9, -999.000,9, -999.000,9, -999.000,9, -999.000,9,   -999.0,9,   -999.0,9, 19990630,     1147
  18HU19990627, AR07W,    35,  1, 213568,     20,2,19990630,1137, 49.7438, -58.3928,   91,      4.1,  12.3593,  31.3323,2,  31.3506,2,    304.0,2,   -999.0,9,     0.72,6,     0.00,6,     0.33,6, -999.000,9, -999.000,9, -999.000,9, -999.000,9, -999.000,9,   -999.0,9,   -999.0,9, 19990630,     1148
  18HU19990627, AR07W,    38,  1, 213569,      1,2,19990701,1145, 53.6800, -55.5495,  302,    147.1,  -0.6722,  33.2013,2,  33.2048,6,    381.3,2,    320.2,2,     9.77,6,     8.94,6,     0.94,6,    5.722,2,    2.916,2,    2.663,4,   56.747,4,    9.512,2,   2111.6,2,   -999.0,9, 19990701,     1145
  18HU19990627, AR07W,    38,  1, 213570,      2,2,19990701,1145, 53.6800, -55.5495,  302,    139.9,  -0.6963,  33.1816,2,  33.1890,2,    375.7,2,    320.6,6,     9.79,6,     8.85,6,     0.92,6,    5.671,2,    3.075,2,    1.913,4,   54.835,4,   10.141,2,   2113.3,2,   2223.5,2, 19990701,     1146
  18HU19990627, AR07W,    38,  1, 213571,      3,2,19990701,1145, 53.6800, -55.5495,  302,    124.6,  -0.7171,  33.1587,2,  33.1635,2,    370.8,2,    320.3,2,     9.86,6,     8.82,6,     0.93,6,    5.576,2,    2.757,2,    1.234,4,   54.068,4,    9.479,2,   2111.8,2,   2227.7,2, 19990701,     1147
  18HU19990627, AR07W,    38,  1, 213572,      4,2,19990701,1145, 53.6800, -55.5495,  302,     99.4,  -0.8744,  32.9496,2,  32.9407,2,    371.1,2,    325.5,2,     9.97,6,     8.73,6,     0.94,6,    5.818,2,    2.940,2,    1.356,4,   59.044,4,   10.230,2,   2112.1,2,   2217.6,2, 19990701,     1149
  18HU19990627, AR07W,    38,  1, 213573,      5,2,19990701,1145, 53.6800, -55.5495,  302,     89.7,  -0.9972,  32.8369,2,  32.8424,2,    370.4,2,    325.2,2,     9.99,6,     8.73,6,     0.95,6,    6.047,2,    3.019,2,    2.305,4,   60.614,4,    9.797,2,   2111.0,2,   2206.9,2, 19990701,     1150
  18HU19990627, AR07W,    38,  1, 213574,      6,2,19990701,1145, 53.6800, -55.5495,  302,     79.3,  -1.0546,  32.7688,2,  32.7758,2,    368.0,2,    325.0,2,     9.91,6,     8.51,6,     0.96,6,    5.807,2,    2.970,2,    1.654,4,   57.800,4,    9.556,2,   2109.8,2,   2214.3,2, 19990701,     1151
  18HU19990627, AR07W,    38,  1, 213575,      7,2,19990701,1145, 53.6800, -55.5495,  302,     68.7,  -1.1709,  32.6349,2,  32.6395,2,    368.7,2,    328.8,2,     9.77,6,     7.94,6,     1.00,6,    6.151,2,    2.985,2,    1.315,4,   60.166,4,    9.949,2,   2105.6,2,   2211.0,2, 19990701,     1152
  18HU19990627, AR07W,    38,  1, 213576,      8,2,19990701,1145, 53.6800, -55.5495,  302,     58.8,  -1.1838,  32.5590,2,  32.5571,2,    370.9,2,    332.0,2,     8.72,6,     7.66,6,     0.92,6,    6.336,2,    2.937,2,    1.220,4,   63.499,4,   10.437,2,   2099.3,2,   2193.7,2, 19990701,     1153
  18HU19990627, AR07W,    38,  1, 213577,      9,2,19990701,1145, 53.6800, -55.5495,  302,     49.2,  -1.2406,  32.4673,2,  32.4774,2,    373.8,2,    335.2,2,     8.19,6,     7.02,6,     0.87,6,    6.079,2,    3.132,2,    2.148,4,   62.284,4,    9.668,2,   2096.9,2,   2199.2,2, 19990701,     1153
  18HU19990627, AR07W,    38,  1, 213578,     10,2,19990701,1145, 53.6800, -55.5495,  302,     40.3,  -1.2255,  32.3795,2,  32.3813,2,    377.7,2,    340.1,2,     7.56,6,     6.51,6,     0.86,6,    5.997,2,    3.040,2,    1.484,4,   61.780,4,    9.819,2,   2089.1,2,   2205.2,2, 19990701,     1154
  18HU19990627, AR07W,    38,  1, 213579,     11,2,19990701,1145, 53.6800, -55.5495,  302,     40.2,  -1.2341,  32.3780,2,-999.0000,9,    380.5,2,   -999.0,9,     7.19,2,     6.65,2,     0.95,2, -999.000,9, -999.000,9, -999.000,9, -999.000,9, -999.000,9,   -999.0,9,   -999.0,9, 19990701,     1154
  18HU19990627, AR07W,    38,  1, 213580,     12,2,19990701,1145, 53.6800, -55.5495,  302,     28.8,  -1.1799,  32.2883,2,-999.0000,9,    389.2,2,    348.9,2,     6.26,6,     5.59,6,     0.81,6,    6.318,6,    3.241,6,    0.456,2,   91.296,4,    9.741,6,   2076.4,2,   2199.1,2, 19990701,     1155
  18HU19990627, AR07W,    38,  1, 213581,     13,2,19990701,1145, 53.6800, -55.5495,  302,     19.5,  -0.9688,  32.1171,2,  32.1081,2,    421.0,2,    406.8,2,     1.07,6,     0.43,6,     0.45,6,    6.396,2,    3.219,2,    1.634,4,   64.216,4,    9.821,2,   2023.0,2,   2198.0,2, 19990701,     1156
  18HU19990627, AR07W,    38,  1, 213582,     14,2,19990701,1145, 53.6800, -55.5495,  302,     20.0,  -0.8523,  32.0732,2,-999.0000,9,    447.6,2,   -999.0,9,     0.85,2,     0.54,2,     0.51,2, -999.000,9, -999.000,9, -999.000,9, -999.000,9, -999.000,9,   -999.0,9,   -999.0,9, 19990701,     1156
  18HU19990627, AR07W,    38,  1, 213583,     15,2,19990701,1145, 53.6800, -55.5495,  302,      9.8,   2.9229,  30.7916,2,  31.3657,2,    415.7,2,    404.9,2,     1.20,6,     0.71,6,     0.45,6,    5.988,2,    3.009,2,    1.325,4,   64.564,4,    8.951,2,   1942.2,2,   2131.5,2, 19990701,     1157
  18HU19990627, AR07W,    38,  1, 213584,     16,2,19990701,1145, 53.6800, -55.5495,  302,      9.6,   0.7444,  31.5644,2,  31.0706,2,    438.4,2,   -999.0,9,     1.23,6,     0.76,6,     0.45,6, -999.000,9, -999.000,9, -999.000,9, -999.000,9, -999.000,9,   -999.0,9,   -999.0,9, 19990701,     1158
  18HU19990627, AR07W,    38,  1, 213585,     17,2,19990701,1145, 53.6800, -55.5495,  302,      9.6,   0.5613,  31.5913,2,  34.9289,4,    453.2,3,   -999.0,9,     1.25,2,     0.87,2,     0.54,2, -999.000,9, -999.000,9, -999.000,9, -999.000,9, -999.000,9,   -999.0,9,   -999.0,9, 19990701,     1158
  18HU19990627, AR07W,    38,  1, 213586,     18,2,19990701,1145, 53.6800, -55.5495,  302,      9.5,   2.2336,  30.9727,2,-999.0000,9,    429.8,2,   -999.0,9,  -999.00,9,  -999.00,9,  -999.00,9, -999.000,9, -999.000,9, -999.000,9, -999.000,9, -999.000,9,   -999.0,9,   -999.0,9, 19990701,     1158
  18HU19990627, AR07W,    38,  1, 213587,     19,2,19990701,1145, 53.6800, -55.5495,  302,      9.8,   2.6772,  30.8595,2,-999.0000,9,    425.1,2,   -999.0,9,  -999.00,9,  -999.00,9,  -999.00,9, -999.000,9, -999.000,9, -999.000,9, -999.000,9, -999.000,9,   -999.0,9,   -999.0,9, 19990701,     1158
  18HU19990627, AR07W,    38,  1, 213588,     20,2,19990701,1145, 53.6800, -55.5495,  302,      9.7,   3.2495,  30.7555,2,-999.0000,9,    416.0,2,   -999.0,9,  -999.00,9,  -999.00,9,  -999.00,9, -999.000,9, -999.000,9, -999.000,9, -999.000,9, -999.000,9,   -999.0,9,   -999.0,9, 19990701,     1159
  18HU19990627, AR07W,    38,  1, 213589,     21,2,19990701,1145, 53.6800, -55.5495,  302,      3.6,   4.2907,  30.0600,2,  30.4175,2,    399.8,2,    375.3,2,  -999.00,9,  -999.00,9,  -999.00,9,    5.881,2,    3.398,2,    0.449,2,  147.580,4,    7.295,2,   1868.4,2,   2066.2,2, 19990701,     1159