BOTTLE,20120214PRINUNIVRMK
EXPOCODE,SECT_ID,STNNBR,CASTNO,SAMPNO,BTLNBR,BTLNBR_FLAG_W,DATE,TIME,LATITUDE,LONGITUDE,DEPTH,CTDPRS,CTDTMP,CTDSAL,CTDSAL_FLAG_W,SALNTY,SALNTY_FLAG_W,CTDOXY,CTDOXY_FLAG_W,OXYGEN,OXYGEN_FLAG_W,SILCAT,SILCAT_FLAG_W,NITRAT,NITRAT_FLAG_W,PHSPHT,PHSPHT_FLAG_W,CFC-11,CFC-11_FLAG_W,CFC-12,CFC-12_FLAG_W,CFC113,CFC113_FLAG_W,CCL4,CCL4_FLAG_W,MCHFRM,MCHFRM_FLAG_W,TCARBN,TCARBN_FLAG_W,ALKALI,ALKALI_FLAG_W,BTL_DATE,BTL_TIME
,,,,,,,,,,,METERS,DBAR,ITS-90,PSS-78,,PSS-78,,UMOL/KG,,UMOL/KG,,UMOL/KG,,UMOL/KG,,UMOL/KG,,PMOL/KG,,PMOL/KG,,PMOL/KG,,PMOL/KG,,PMOL/KG,,UMOL/KG,,UMOL/KG,,,
  18HU19990627, AR07W,   127,  1, 214245,      1,2,19990708,1224, 60.1762, -48.6717, 3152,   2895.2,   1.7799,  34.8479,2,-999.0000,9,    315.3,2,    297.2,2,     9.25,6,    13.88,6,     0.90,6,    3.184,2,    1.604,2,    0.197,2,   29.330,4,    7.655,2,   2162.1,2,   2293.0,2, 19990708,     1224
  18HU19990627, AR07W,   127,  1, 214246,      2,2,19990708,1224, 60.1762, -48.6717, 3152,   2859.1,   1.7799,  34.8480,2,  34.8637,2,    314.0,2,    296.2,2,     9.33,6,    13.69,6,     0.92,6,    3.219,2,    1.637,2,    0.195,2,   29.815,4,    7.915,2,   2154.6,2,   2299.1,2, 19990708,     1225
  18HU19990627, AR07W,   127,  1, 214247,      3,2,19990708,1224, 60.1762, -48.6717, 3152,   2798.9,   1.7804,  34.8481,2,  34.8591,2,    312.3,2,    296.1,2,     9.36,6,    13.92,6,     0.92,6,    3.222,2,    1.627,2,    0.187,2,   29.325,4,    7.877,2,   2154.0,2,   2291.4,2, 19990708,     1227
  18HU19990627, AR07W,   127,  1, 214248,      4,2,19990708,1224, 60.1762, -48.6717, 3152,   2719.8,   1.7850,  34.8483,2,  34.8594,6,    312.0,2,    296.4,2,     9.48,6,    13.88,6,     0.93,6,    3.190,2,    1.596,2,    0.196,2,   29.313,4,    7.729,2,   2156.2,2,   2304.8,2, 19990708,     1229
  18HU19990627, AR07W,   127,  1, 214249,      5,2,19990708,1224, 60.1762, -48.6717, 3152,   2620.3,   1.9153,  34.8497,2,  34.8609,2,    308.9,2,    295.3,6,     9.57,6,    14.01,6,     0.96,6,    3.162,2,    1.574,2,    0.197,2,   29.487,4,    7.778,2,   2156.7,2,   2301.8,2, 19990708,     1230
  18HU19990627, AR07W,   127,  1, 214250,      6,2,19990708,1224, 60.1762, -48.6717, 3152,   2500.6,   2.3174,  34.8789,2,  34.8894,2,    296.9,2,    285.5,2,    12.30,6,    15.05,6,     0.97,6,    2.386,6,    1.245,6,    0.146,6,   33.444,4,    6.003,6,   2153.2,2,   2315.4,2, 19990708,     1233
  18HU19990627, AR07W,   127,  1, 214251,      7,2,19990708,1224, 60.1762, -48.6717, 3152,   2359.5,   2.5912,  34.8943,2,  34.9057,2,    290.9,2,    281.4,2,    12.65,6,    15.26,6,     1.03,6,    2.033,4,    0.818,4,    0.078,4,   19.160,4,    5.492,4,   2144.9,2,   2305.1,2, 19990708,     1235
  18HU19990627, AR07W,   127,  1, 214252,      8,2,19990708,1224, 60.1762, -48.6717, 3152,   2200.6,   2.7651,  34.8922,2,  34.9039,2,    290.0,2,    281.6,2,    11.78,6,    15.75,6,     1.02,6,    2.259,2,    0.925,2,    0.102,2,   20.748,4,    6.062,2,   2147.7,2,   2306.6,2, 19990708,     1238
  18HU19990627, AR07W,   127,  1, 214253,      9,2,19990708,1224, 60.1762, -48.6717, 3152,   2040.6,   2.8813,  34.8849,2,  34.8959,2,    291.3,2,    283.2,2,    11.11,6,    15.56,6,     1.02,6,    2.395,2,    1.073,2,    0.114,2,   22.567,4,    6.702,2,   2145.3,2,   2303.8,2, 19990708,     1241
  18HU19990627, AR07W,   127,  1, 214254,     10,2,19990708,1224, 60.1762, -48.6717, 3152,   1880.2,   2.9897,  34.8715,2,  34.8811,2,    295.1,2,    286.3,2,    10.57,6,    15.76,6,     1.04,6,    2.668,2,    1.248,2,    0.132,2,   24.973,4,    7.546,2,   2142.0,2,   2301.9,2, 19990708,     1243
  18HU19990627, AR07W,   127,  1, 214255,     11,2,19990708,1224, 60.1762, -48.6717, 3152,   1719.4,   2.9786,  34.8550,2,  34.8673,2,    299.4,2,    291.4,2,    10.04,6,    16.01,6,     1.03,6,    3.160,2,    1.574,2,    0.147,2,   29.149,4,    9.339,2,   2141.6,2,   2299.8,2, 19990708,     1246
  18HU19990627, AR07W,   127,  1, 214256,     12,2,19990708,1224, 60.1762, -48.6717, 3152,   1561.1,   3.0039,  34.8482,2,  34.8583,2,    300.8,2,    292.4,2,    10.02,6,    16.06,6,     1.05,6,    3.360,2,    1.645,2,    0.190,2,   30.975,4,   10.040,2,   2140.6,2,   2322.8,2, 19990708,     1249
  18HU19990627, AR07W,   127,  1, 214257,     13,2,19990708,1224, 60.1762, -48.6717, 3152,   1400.0,   3.0977,  34.8538,2,  34.8640,2,    297.8,2,    290.2,2,    10.00,6,    16.39,6,     1.05,6,    3.343,2,    1.607,2,    0.179,2,   29.980,4,    9.689,2,   2142.8,2,   2313.1,2, 19990708,     1251
  18HU19990627, AR07W,   127,  1, 214258,     14,2,19990708,1224, 60.1762, -48.6717, 3152,   1240.2,   3.1954,  34.8588,2,  34.8704,2,    294.7,2,    286.5,2,     9.98,6,    16.26,6,     1.03,6,    3.370,2,    1.648,2,    0.207,2,   29.862,4,    9.674,2,   2142.9,2,   2303.7,2, 19990708,     1254
  18HU19990627, AR07W,   127,  1, 214259,     15,2,19990708,1224, 60.1762, -48.6717, 3152,   1080.1,   3.3200,  34.8636,2,  34.8740,2,    291.1,2,    284.3,2,     9.94,6,    16.13,6,     1.06,6,    3.270,2,    1.631,2,    0.193,2,   29.120,4,    9.040,2,   2143.2,2,   2308.9,2, 19990708,     1257
  18HU19990627, AR07W,   127,  1, 214260,     16,2,19990708,1224, 60.1762, -48.6717, 3152,    939.6,   3.4145,  34.8590,2,  34.8714,2,    291.7,2,    285.0,2,     9.65,6,    16.23,6,     1.05,6,    3.424,2,    1.767,2,    0.211,2,   30.714,4,    8.861,2,   2144.3,2,   2300.6,2, 19990708,     1259
  18HU19990627, AR07W,   127,  1, 214261,     17,2,19990708,1224, 60.1762, -48.6717, 3152,    809.6,   3.4948,  34.8588,2,  34.8679,2,    291.8,2,    284.2,2,     9.52,6,    15.98,6,     1.05,6,    3.567,2,    1.837,2,    0.226,2,   31.373,4,    8.674,2,   2139.3,2,   2297.9,2, 19990708,     1302
  18HU19990627, AR07W,   127,  1, 214262,     18,2,19990708,1224, 60.1762, -48.6717, 3152,    680.6,   3.6093,  34.8593,2,  34.8710,2,    293.2,2,    287.5,2,     9.15,6,    15.85,6,     1.05,6,    3.724,2,    1.923,2,    0.229,2,   32.561,4,    7.986,2,   2141.4,2,   2291.7,2, 19990708,     1304
  18HU19990627, AR07W,   127,  1, 214263,     19,2,19990708,1224, 60.1762, -48.6717, 3152,    560.3,   3.7286,  34.8609,2,  34.8696,2,    303.6,2,    295.7,2,     8.57,6,    15.53,6,     1.02,6,    4.111,2,    2.145,2,    0.259,2,   35.729,4,    7.326,2,   2135.9,2,   2300.2,2, 19990708,     1306
  18HU19990627, AR07W,   127,  1, 214264,     20,2,19990708,1224, 60.1762, -48.6717, 3152,    449.6,   3.9204,  34.8747,2,  34.8834,2,    299.2,2,    294.2,2,     8.58,6,    15.20,6,     1.03,6, -999.000,9, -999.000,9, -999.000,9, -999.000,9, -999.000,9,   2137.6,2,   2291.3,2, 19990708,     1308
  18HU19990627, AR07W,   127,  1, 214265,     21,2,19990708,1224, 60.1762, -48.6717, 3152,    350.6,   4.0755,  34.8845,2,  34.8936,2,    301.0,2,    293.3,2,     8.46,6,    15.49,6,     1.03,6,    3.973,2,    2.201,2,    0.270,2,   36.608,4,    7.233,2,   2133.3,2,   2300.5,2, 19990708,     1310
  18HU19990627, AR07W,   127,  1, 214266,     22,2,19990708,1224, 60.1762, -48.6717, 3152,    260.1,   4.2226,  34.8914,2,  34.9003,2,    301.4,2,    293.7,2,     8.29,6,    15.35,6,     1.00,6,    3.917,2,    2.173,2,    0.265,2,   35.780,4,    6.770,2,   2134.3,2,   2298.4,2, 19990708,     1311
  18HU19990627, AR07W,   127,  1, 214267,     23,2,19990708,1224, 60.1762, -48.6717, 3152,    180.5,   4.3742,  34.8836,2,  34.8940,2,    300.5,2,    293.6,2,     8.21,6,    15.03,6,     1.01,6,    3.991,2,    2.255,2,    0.261,2,   37.191,4,    6.448,2,   2133.3,2,   2299.6,2, 19990708,     1313
  18HU19990627, AR07W,   127,  1, 214268,     24,2,19990708,1224, 60.1762, -48.6717, 3152,    120.2,   4.3111,  34.8427,2,  34.8523,2,    308.8,2,    298.6,2,     7.88,6,    13.83,6,     0.99,6,    4.209,2,    2.313,2,    0.331,2,   38.736,4,    6.322,2,   2133.0,2,   2301.4,2, 19990708,     1314
  18HU19990627, AR07W,   129,  1, 214269,      1,2,19990708,1744, 59.7500, -49.1665, 3397,   3255.4,   1.4282,  34.8543,2,  34.8654,2,    317.1,2,    298.6,2,     8.95,6,    13.43,6,     0.95,6,    3.543,2,    2.124,2,    0.202,2,  100.780,4,    7.615,2,   2136.7,2,   2297.8,2, 19990708,     1744
  18HU19990627, AR07W,   129,  1, 214270,      2,2,19990708,1744, 59.7500, -49.1665, 3397,   3200.2,   1.4259,  34.8541,2,  34.8654,2,    315.5,2,    298.4,2,     8.93,6,    13.39,6,     0.93,6,    3.388,2,    2.423,2,    0.181,2,   98.989,4,    7.633,2,   2139.7,2,   2298.6,2, 19990708,     1747
  18HU19990627, AR07W,   129,  1, 214271,      3,2,19990708,1744, 59.7500, -49.1665, 3397,   3120.1,   1.4981,  34.8459,2,  34.8581,2,    313.8,2,    299.4,2,     8.67,6,    13.55,6,     0.94,6,    3.555,2,    2.117,2,    0.200,2,  101.994,4,    7.666,2,   2137.7,2,   2296.1,2, 19990708,     1748
  18HU19990627, AR07W,   129,  1, 214272,      4,2,19990708,1744, 59.7500, -49.1665, 3397,   3020.4,   1.7370,  34.8541,2,  34.8642,2,    308.5,2,    295.7,2,     9.44,6,    13.75,6,     0.96,6,    3.343,2,    2.072,2,    0.158,2,   90.980,4,    7.372,2,   2138.3,2,   2300.6,2, 19990708,     1751
  18HU19990627, AR07W,   129,  1, 214273,      5,2,19990708,1744, 59.7500, -49.1665, 3397,   2899.2,   2.1146,  34.8764,2,  34.8894,2,    298.3,2,    287.2,2,    12.22,6,    14.86,6,     1.03,6,    2.618,2,    1.345,2,    0.167,2,   79.880,4,    6.453,2,   2142.9,2,   2305.2,2, 19990708,     1753
  18HU19990627, AR07W,   129,  1, 214274,      6,2,19990708,1744, 59.7500, -49.1665, 3397,   2769.8,   2.2502,  34.8689,2,  34.8841,2,    298.0,2,    288.0,2,    11.37,6,    14.74,6,     0.98,6,    2.621,2,    1.621,2,    0.171,2,   78.082,4,    6.400,2,   2138.9,2,   2310.1,2, 19990708,     1756
  18HU19990627, AR07W,   129,  1, 214275,      7,2,19990708,1744, 59.7500, -49.1665, 3397,   2609.9,   2.4440,  34.8706,2,  34.8801,2,    296.8,2,    287.4,6,    11.28,6,    14.90,6,     1.01,6,    2.609,6,    1.531,6,    0.162,6,   52.381,4,    6.268,6,   2137.0,2,   2305.9,2, 19990708,     1759
  18HU19990627, AR07W,   129,  1, 214276,      8,2,19990708,1744, 59.7500, -49.1665, 3397,   2459.8,   2.7011,  34.8893,2,  34.9005,6,    290.4,2,    282.3,2,    11.82,6,    15.43,6,     1.04,6,    2.439,2,    1.385,2,    0.095,2,   67.165,4,    5.896,2,   2138.3,2,   2308.8,2, 19990708,     1802
  18HU19990627, AR07W,   129,  1, 214277,      9,2,19990708,1744, 59.7500, -49.1665, 3397,   2260.3,   2.8490,  34.8803,2,  34.8915,2,    291.2,2,    284.0,2,    11.03,6,    15.62,6,     1.04,6,    2.654,2,    1.517,2,    0.103,2,   72.087,4,    6.354,2,   2137.1,2,   2304.6,2, 19990708,     1806
  18HU19990627, AR07W,   129,  1, 214278,     10,2,19990708,1744, 59.7500, -49.1665, 3397,   2059.7,   2.8724,  34.8613,2,  34.8750,2,    295.7,2,    288.4,6,    10.37,6,    15.34,6,     1.05,6,    3.104,2,    2.178,2,    0.147,2,   84.988,4,    7.311,2,   2137.2,2,   2304.0,2, 19990708,     1809
  18HU19990627, AR07W,   129,  1, 214279,     11,2,19990708,1744, 59.7500, -49.1665, 3397,   1849.4,   2.9926,  34.8602,2,  34.8703,2,    296.0,2,    289.1,2,    10.30,6,    16.16,6,     1.08,6,    3.046,2,    1.742,2,    0.131,2,   83.727,4,    7.827,2,   2140.8,2,   2312.0,2, 19990708,     1814
  18HU19990627, AR07W,   129,  1, 214280,     12,2,19990708,1744, 59.7500, -49.1665, 3397,   1639.3,   3.0147,  34.8493,2,  34.8632,2,    298.1,2,    293.8,2,    10.09,6,    16.28,6,     1.07,6,    3.435,2,    1.967,2,    0.137,2,   97.552,4,    8.968,2,   2138.9,2,   2308.5,2, 19990708,     1818
  18HU19990627, AR07W,   129,  1, 214281,     13,2,19990708,1744, 59.7500, -49.1665, 3397,   1429.7,   3.1520,  34.8590,2,  34.8712,2,    293.9,2,    287.8,2,     9.98,6,    15.91,6,     1.06,6,    3.376,2,    2.025,2,    0.143,2,   95.066,4,    8.562,2,   2141.0,2,   2306.7,2, 19990708,     1821
  18HU19990627, AR07W,   129,  1, 214282,     14,2,19990708,1744, 59.7500, -49.1665, 3397,   1229.8,   3.2637,  34.8628,2,  34.8732,2,    291.1,2,    284.9,2,    10.03,6,    16.16,6,     1.08,6,    3.370,2,    2.025,2,    0.169,2,   89.663,4,    8.345,2,   2144.1,2,   2317.0,2, 19990708,     1825
  18HU19990627, AR07W,   129,  1, 214283,     15,2,19990708,1744, 59.7500, -49.1665, 3397,   1030.2,   3.4391,  34.8679,2,  34.8775,2,    288.5,2,    282.8,2,     9.86,6,    16.38,6,     1.06,6,    3.425,2,    2.002,2,    0.248,2,   97.117,4,    8.186,2,   2143.1,2,   2318.0,2, 19990708,     1828
  18HU19990627, AR07W,   129,  1, 214284,     16,2,19990708,1744, 59.7500, -49.1665, 3397,    839.1,   3.6165,  34.8612,2,  34.8685,2,    291.3,2,    285.3,2,     9.30,6,    15.83,6,     1.06,6,    3.745,2,    2.471,2,    0.268,2,  108.792,4,    7.976,2,   2142.8,2,   2318.7,2, 19990708,     1832
  18HU19990627, AR07W,   129,  1, 214285,     17,2,19990708,1744, 59.7500, -49.1665, 3397,    659.4,   3.7612,  34.8636,2,  34.8730,2,    302.5,2,    295.2,2,     8.63,6,    15.40,6,     1.04,6,    4.051,2,    2.673,2,    0.294,2,  120.422,4,    7.346,2,   2139.2,2,   2308.9,2, 19990708,     1835
  18HU19990627, AR07W,   129,  1, 214286,     18,2,19990708,1744, 59.7500, -49.1665, 3397,    480.6,   4.2108,  34.9052,2,  34.9127,2,    291.9,2,    285.6,2,     8.93,6,    15.72,6,     1.06,6,    3.820,2,    2.598,2,    0.274,2,  112.045,4,    7.344,2,   2140.5,2,   2313.3,2, 19990708,     1838
  18HU19990627, AR07W,   129,  1, 214287,     19,2,19990708,1744, 59.7500, -49.1665, 3397,    330.1,   4.3741,  34.9015,2,  34.9103,2,    296.3,2,    290.9,2,     8.45,6,    15.41,6,     1.03,6,    4.146,2,    2.749,2,    0.311,2,  122.227,4,    7.011,2,   2138.6,2,   2311.2,2, 19990708,     1841
  18HU19990627, AR07W,   129,  1, 214288,     20,2,19990708,1744, 59.7500, -49.1665, 3397,    209.5,   4.5678,  34.8964,2,  34.9082,2,    300.7,2,    292.3,2,     8.14,6,    15.37,6,     1.02,6,    4.280,2,    2.960,2,    0.319,2,  128.145,4,    6.940,2,   2135.4,2,   2305.7,2, 19990708,     1844
  18HU19990627, AR07W,   129,  1, 214289,     21,2,19990708,1744, 59.7500, -49.1665, 3397,    109.3,   4.5464,  34.8314,2,  34.8419,2,    304.6,2,    295.4,2,     7.79,6,    12.36,6,     0.99,6, -999.000,9, -999.000,9, -999.000,9, -999.000,9, -999.000,9,   2133.5,2,   2315.2,2, 19990708,     1846
  18HU19990627, AR07W,   129,  1, 214290,     22,2,19990708,1744, 59.7500, -49.1665, 3397,     49.6,   4.2016,  34.3583,2,  34.3853,2,    320.4,2,    310.0,2,     4.35,6,     6.41,6,     0.71,6,    4.335,2,    3.239,2,    0.829,3,  138.182,4,    7.646,2,   2089.0,2,   2291.7,2, 19990708,     1848
  18HU19990627, AR07W,   129,  1, 214291,     23,2,19990708,1744, 59.7500, -49.1665, 3397,     24.8,   4.3818,  33.9991,2,  34.0049,2,    338.9,2,    326.2,2,     3.15,6,     1.80,6,     0.40,6,    5.184,2,    3.541,2,    0.397,2,  182.270,4,    6.873,2,   2049.9,2,   2266.7,2, 19990708,     1849
  18HU19990627, AR07W,   129,  1, 214292,     24,2,19990708,1744, 59.7500, -49.1665, 3397,     13.0,   4.5316,  33.7923,2,  33.8541,2,    346.0,2,    310.4,2,     2.92,6,     0.82,6,     0.33,6,    5.065,2,    3.478,2,    0.407,4,  174.281,4,    6.857,2,   2031.4,2,   2263.3,2, 19990708,     1850