BOTTLE,20120214PRINUNIVRMK
EXPOCODE,SECT_ID,STNNBR,CASTNO,SAMPNO,BTLNBR,BTLNBR_FLAG_W,DATE,TIME,LATITUDE,LONGITUDE,DEPTH,CTDPRS,CTDTMP,CTDSAL,CTDSAL_FLAG_W,SALNTY,SALNTY_FLAG_W,CTDOXY,CTDOXY_FLAG_W,OXYGEN,OXYGEN_FLAG_W,SILCAT,SILCAT_FLAG_W,NITRAT,NITRAT_FLAG_W,PHSPHT,PHSPHT_FLAG_W,CFC-11,CFC-11_FLAG_W,CFC-12,CFC-12_FLAG_W,CFC113,CFC113_FLAG_W,CCL4,CCL4_FLAG_W,MCHFRM,MCHFRM_FLAG_W,TCARBN,TCARBN_FLAG_W,ALKALI,ALKALI_FLAG_W,BTL_DATE,BTL_TIME
,,,,,,,,,,,METERS,DBAR,ITS-90,PSS-78,,PSS-78,,UMOL/KG,,UMOL/KG,,UMOL/KG,,UMOL/KG,,UMOL/KG,,PMOL/KG,,PMOL/KG,,PMOL/KG,,PMOL/KG,,PMOL/KG,,UMOL/KG,,UMOL/KG,,,
  18HU19990627, AR07W,    86,  1, 213889,      1,2,19990704,1731, 56.5378, -52.6780, 3424,   3537.7,   1.5869,  34.8611,2,  34.8724,2,    317.9,2,    294.4,2,    10.52,6,    13.77,6,     0.92,6, -999.000,9, -999.000,9, -999.000,9, -999.000,9, -999.000,9,   2110.5,4,   2199.4,3, 19990704,     1731
  18HU19990627, AR07W,    86,  1, 213890,      2,2,19990704,1731, 56.5378, -52.6780, 3424,   3538.2,   1.5865,  34.8611,2,  34.8716,2,    318.2,2,   -999.0,9,    10.51,6,    13.72,6,     0.94,6, -999.000,9, -999.000,9, -999.000,9, -999.000,9, -999.000,9,   -999.0,9,   -999.0,9, 19990704,     1732
  18HU19990627, AR07W,    86,  1, 213891,      3,2,19990704,1731, 56.5378, -52.6780, 3424,   3471.5,   1.6955,  34.8646,2,  34.8765,2,    313.8,2,    293.8,2,    10.76,6,    13.86,6,     0.93,6, -999.000,9, -999.000,9, -999.000,9, -999.000,9, -999.000,9,   2160.7,2,   2315.3,2, 19990704,     1735
  18HU19990627, AR07W,    86,  1, 213892,      4,2,19990704,1731, 56.5378, -52.6780, 3424,   3469.0,   1.6970,  34.8648,2,  34.8767,2,    313.2,2,   -999.0,9,    10.90,6,    14.13,6,     0.94,6, -999.000,9, -999.000,9, -999.000,9, -999.000,9, -999.000,9,   -999.0,9,   -999.0,9, 19990704,     1735
  18HU19990627, AR07W,    86,  1, 213893,      5,2,19990704,1731, 56.5378, -52.6780, 3424,   3367.6,   1.9753,  34.8714,2,  34.8275,2,    308.7,2,    291.6,2,    10.69,6,    14.64,6,     0.97,6, -999.000,9, -999.000,9, -999.000,9, -999.000,9, -999.000,9,   2150.8,2,   2314.4,2, 19990704,     1737
  18HU19990627, AR07W,    86,  1, 213894,      6,2,19990704,1731, 56.5378, -52.6780, 3424,   3247.1,   2.2698,  34.8826,2,-999.0000,9,    301.8,2,    286.8,2,    12.26,6,    14.73,6,     0.99,6, -999.000,9, -999.000,9, -999.000,9, -999.000,9, -999.000,9,   2157.6,2,   2293.1,2, 19990704,     1740
  18HU19990627, AR07W,    86,  1, 213895,      7,2,19990704,1731, 56.5378, -52.6780, 3424,   3200.2,   2.3781,  34.8855,2,  34.8969,2,    299.3,2,   -999.0,9,    12.30,6,    14.84,6,     1.01,6, -999.000,9, -999.000,9, -999.000,9, -999.000,9, -999.000,9,   -999.0,9,   -999.0,9, 19990704,     1741
  18HU19990627, AR07W,    86,  1, 213896,      8,2,19990704,1731, 56.5378, -52.6780, 3424,   3099.8,   2.5271,  34.8916,2,  34.9034,2,    296.6,2,    282.6,2,    12.82,6,    14.99,6,     0.99,6,    2.483,2,    1.034,2,    0.108,2,   73.286,4,    6.119,2,   2159.1,2,   2297.8,2, 19990704,     1743
  18HU19990627, AR07W,    86,  1, 213897,      9,2,19990704,1731, 56.5378, -52.6780, 3424,   2998.6,   2.6577,  34.8971,2,  34.9089,2,    294.3,2,   -999.0,9,    12.87,6,    15.42,6,     1.01,6, -999.000,9, -999.000,9, -999.000,9, -999.000,9, -999.000,9,   -999.0,9,   -999.0,9, 19990704,     1746
  18HU19990627, AR07W,    86,  1, 213898,     10,2,19990704,1731, 56.5378, -52.6780, 3424,   2918.8,   2.7136,  34.8931,2,  34.9071,2,    294.7,2,    282.5,2,    12.07,6,    15.41,6,     1.02,6, -999.000,9, -999.000,9, -999.000,9, -999.000,9, -999.000,9,   2153.0,2,   2337.0,3, 19990704,     1747
  18HU19990627, AR07W,    86,  1, 213899,     11,2,19990704,1731, 56.5378, -52.6780, 3424,   2751.3,   2.8810,  34.8959,2,  34.9090,2,    292.9,2,   -999.0,9,    12.06,6,    15.53,6,     1.02,6, -999.000,9, -999.000,9, -999.000,9, -999.000,9, -999.000,9,   -999.0,9,   -999.0,9, 19990704,     1750
  18HU19990627, AR07W,    86,  1, 213900,     12,2,19990704,1731, 56.5378, -52.6780, 3424,   2751.3,   2.8822,  34.8958,2,  34.8557,2,    292.1,2,    288.5,4,    10.06,3,    14.67,6,     0.97,6, -999.000,9, -999.000,9, -999.000,9, -999.000,9, -999.000,9,   2149.2,2,   2313.4,2, 19990704,     1751
  18HU19990627, AR07W,    86,  1, 213901,     13,2,19990704,1731, 56.5378, -52.6780, 3424,   2579.3,   3.0050,  34.8961,2,-999.0000,9,    292.0,2,    280.5,2,    11.93,6,    15.73,6,     1.04,6, -999.000,9, -999.000,9, -999.000,9, -999.000,9, -999.000,9,   2160.9,2,   2302.1,3, 19990704,     1754
  18HU19990627, AR07W,    86,  1, 213902,     14,2,19990704,1731, 56.5378, -52.6780, 3424,   2549.7,   3.0221,  34.8956,2,  34.9072,2,    292.7,2,   -999.0,9,    12.12,6,    15.99,6,     1.03,6, -999.000,9, -999.000,9, -999.000,9, -999.000,9, -999.000,9,   -999.0,9,   -999.0,9, 19990704,     1755
  18HU19990627, AR07W,    86,  1, 213903,     15,2,19990704,1731, 56.5378, -52.6780, 3424,   2439.5,   3.0243,  34.8842,2,  34.8957,2,    294.8,2,    284.0,2,    11.26,6,    15.55,6,     1.01,6, -999.000,9, -999.000,9, -999.000,9, -999.000,9, -999.000,9,   2154.4,2,   2301.8,2, 19990704,     1757
  18HU19990627, AR07W,    86,  1, 213904,     16,2,19990704,1731, 56.5378, -52.6780, 3424,   2300.1,   3.0363,  34.8721,2,  34.8861,2,    298.2,2,    286.7,2,    10.79,6,    15.78,6,     1.02,6, -999.000,9, -999.000,9, -999.000,9, -999.000,9, -999.000,9,   2154.8,2,   2294.1,3, 19990704,     1800
  18HU19990627, AR07W,    86,  1, 213905,     17,2,19990704,1731, 56.5378, -52.6780, 3424,   2249.7,   3.0334,  34.8669,2,-999.0000,9,    299.0,2,   -999.0,9,    10.66,6,    15.88,6,     1.03,6, -999.000,9, -999.000,9, -999.000,9, -999.000,9, -999.000,9,   -999.0,9,   -999.0,9, 19990704,     1801
  18HU19990627, AR07W,    86,  1, 213906,     18,2,19990704,1731, 56.5378, -52.6780, 3424,   2109.6,   3.0040,  34.8535,2,  34.8652,2,    301.9,2,    292.1,2,    10.41,6,    15.94,6,     1.02,6, -999.000,9, -999.000,9, -999.000,9, -999.000,9, -999.000,9,   2153.3,2,   2303.0,2, 19990704,     1804
  18HU19990627, AR07W,    86,  1, 213907,     19,2,19990704,1731, 56.5378, -52.6780, 3424,   1999.9,   2.9789,  34.8448,2,  34.8563,2,    304.6,2,   -999.0,9,    10.07,6,    15.79,6,     1.02,6, -999.000,9, -999.000,9, -999.000,9, -999.000,9, -999.000,9,   -999.0,9,   -999.0,9, 19990704,     1806
  18HU19990627, AR07W,    86,  1, 213908,     20,2,19990704,1731, 56.5378, -52.6780, 3424,   1930.3,   2.9811,  34.8429,2,  34.8563,2,    305.2,2,    293.9,2,    10.06,6,    15.80,6,     1.02,6, -999.000,9, -999.000,9, -999.000,9, -999.000,9, -999.000,9,   2150.1,3,   2294.2,2, 19990704,     1808
  18HU19990627, AR07W,    86,  1, 213909,     21,2,19990704,1731, 56.5378, -52.6780, 3424,   1749.2,   3.0287,  34.8459,2,  34.8620,2,    303.2,2,    293.5,2,    10.20,6,    16.15,6,     1.04,6, -999.000,9, -999.000,9, -999.000,9, -999.000,9, -999.000,9,   2147.8,2,   2303.6,2, 19990704,     1811
  18HU19990627, AR07W,    86,  1, 213910,     22,2,19990704,1731, 56.5378, -52.6780, 3424,   1750.2,   3.0293,  34.8458,2,  34.8572,2,    303.3,2,   -999.0,9,    10.30,6,    16.10,6,     1.03,6, -999.000,9, -999.000,9, -999.000,9, -999.000,9, -999.000,9,   -999.0,9,   -999.0,9, 19990704,     1812
  18HU19990627, AR07W,    86,  1, 213911,     23,2,19990704,1731, 56.5378, -52.6780, 3424,   1598.8,   3.0788,  34.8478,2,  34.8584,2,    300.0,2,    291.4,2,    10.11,6,    15.89,6,     1.04,6, -999.000,9, -999.000,9, -999.000,9, -999.000,9, -999.000,9,   2150.4,2,   2302.9,2, 19990704,     1814
  18HU19990627, AR07W,    86,  1, 213912,     24,2,19990704,1731, 56.5378, -52.6780, 3424,   1498.2,   3.1045,  34.8477,2,  34.8584,2,    299.5,2,   -999.0,9,     9.95,6,    15.73,6,     1.03,6, -999.000,9, -999.000,9, -999.000,9, -999.000,9, -999.000,9,   -999.0,9,   -999.0,9, 19990704,     1816
  18HU19990627, AR07W,    87,  1, 213913,      1,2,19990704,2035, 56.5268, -52.6738, 3444,   1401.5,   3.1326,  34.8477,2,  34.8618,6,    314.0,2,   -999.0,9,     9.92,6,    15.88,6,     1.02,6, -999.000,9, -999.000,9, -999.000,9, -999.000,9, -999.000,9,   2140.9,2,   2302.9,2, 19990704,     2035
  18HU19990627, AR07W,    87,  1, 213914,      2,2,19990704,2035, 56.5268, -52.6738, 3444,   1247.4,   3.2070,  34.8512,2,  34.8622,2,    310.4,2,   -999.0,9,     9.95,6,    15.67,6,     1.03,6, -999.000,9, -999.000,9, -999.000,9, -999.000,9, -999.000,9,   -999.0,9,   -999.0,9, 19990704,     2038
  18HU19990627, AR07W,    87,  1, 213915,      3,2,19990704,2035, 56.5268, -52.6738, 3444,   1200.0,   3.2260,  34.8516,2,  34.8622,2,    309.9,2,   -999.0,9,     9.78,6,    15.71,6,     1.03,6, -999.000,9, -999.000,9, -999.000,9, -999.000,9, -999.000,9,   2143.8,2,   2296.4,2, 19990704,     2039
  18HU19990627, AR07W,    87,  1, 213916,      4,2,19990704,2035, 56.5268, -52.6738, 3444,    999.4,   3.2547,  34.8415,2,  34.8545,2,    311.0,2,   -999.0,9,     9.36,6,    15.53,6,     1.01,6, -999.000,9, -999.000,9, -999.000,9, -999.000,9, -999.000,9,   2145.4,2,   2302.2,2, 19990704,     2043
  18HU19990627, AR07W,    87,  1, 213917,      5,2,19990704,2035, 56.5268, -52.6738, 3444,    999.4,   3.2551,  34.8416,2,  34.8517,2,    311.2,2,   -999.0,9,     9.30,6,    15.44,6,     1.00,6, -999.000,9, -999.000,9, -999.000,9, -999.000,9, -999.000,9,   -999.0,9,   -999.0,9, 19990704,     2043
  18HU19990627, AR07W,    87,  1, 213918,      6,2,19990704,2035, 56.5268, -52.6738, 3444,    798.9,   3.3761,  34.8448,2,  34.8553,2,    306.6,2,   -999.0,9,     9.41,6,    15.66,6,     1.00,6, -999.000,9, -999.000,9, -999.000,9, -999.000,9, -999.000,9,   2146.5,2,   2298.5,3, 19990704,     2047
  18HU19990627, AR07W,    87,  1, 213919,      7,2,19990704,2035, 56.5268, -52.6738, 3444,    747.3,   3.4325,  34.8493,2,  34.8596,2,    303.4,2,   -999.0,9,     9.47,6,    15.69,6,     0.99,6, -999.000,9, -999.000,9, -999.000,9, -999.000,9, -999.000,9,   -999.0,9,   -999.0,9, 19990704,     2048
  18HU19990627, AR07W,    87,  1, 213920,      8,2,19990704,2035, 56.5268, -52.6738, 3444,    638.4,   3.4534,  34.8413,2,  34.8513,2,    304.7,2,   -999.0,9,     9.21,6,    15.46,6,     0.99,6, -999.000,9, -999.000,9, -999.000,9, -999.000,9, -999.000,9,   2145.0,2,   2302.2,2, 19990704,     2050
  18HU19990627, AR07W,    87,  1, 213921,      9,2,19990704,2035, 56.5268, -52.6738, 3444,    499.9,   3.4323,  34.8246,2,  34.8347,2,    307.8,2,   -999.0,9,     8.91,6,    15.28,6,     0.97,6, -999.000,9, -999.000,9, -999.000,9, -999.000,9, -999.000,9,   2143.6,2,   2291.0,2, 19990704,     2052
  18HU19990627, AR07W,    87,  1, 213922,     10,2,19990704,2035, 56.5268, -52.6738, 3444,    500.2,   3.4326,  34.8246,2,  34.8349,2,    307.1,2,   -999.0,9,     8.84,6,    15.09,6,     0.97,6, -999.000,9, -999.000,9, -999.000,9, -999.000,9, -999.000,9,   -999.0,9,   -999.0,9, 19990704,     2053
  18HU19990627, AR07W,    87,  1, 213923,     11,2,19990704,2035, 56.5268, -52.6738, 3444,    370.3,   3.2730,  34.7902,2,  34.8007,2,    318.1,2,   -999.0,9,     8.15,6,    14.69,6,     0.93,6, -999.000,9, -999.000,9, -999.000,9, -999.000,9, -999.000,9,   2138.7,2,   2285.0,2, 19990704,     2055
  18HU19990627, AR07W,    87,  1, 213924,     12,2,19990704,2035, 56.5268, -52.6738, 3444,    247.2,   3.4838,  34.7941,2,  34.8046,2,    312.6,2,   -999.0,9,     8.24,6,    14.75,6,     0.93,6, -999.000,9, -999.000,9, -999.000,9, -999.000,9, -999.000,9,   2139.2,2,   2299.6,2, 19990704,     2057
  18HU19990627, AR07W,    87,  1, 213925,     13,2,19990704,2035, 56.5268, -52.6738, 3444,    249.1,   3.4703,  34.7928,2,  34.8026,2,    314.0,2,   -999.0,9,     8.26,6,    14.59,6,     0.92,6, -999.000,9, -999.000,9, -999.000,9, -999.000,9, -999.000,9,   -999.0,9,   -999.0,9, 19990704,     2058
  18HU19990627, AR07W,    87,  1, 213926,     14,2,19990704,2035, 56.5268, -52.6738, 3444,    161.0,   3.6129,  34.7710,2,  34.7670,2,    311.8,2,   -999.0,9,     8.16,6,    14.59,6,     0.93,6, -999.000,9, -999.000,9, -999.000,9, -999.000,9, -999.000,9,   2138.6,2,   -999.0,9, 19990704,     2100
  18HU19990627, AR07W,    87,  1, 213927,     15,2,19990704,2035, 56.5268, -52.6738, 3444,     99.5,   3.6718,  34.7105,2,  34.7222,2,    312.1,2,   -999.0,9,     8.15,6,    14.19,6,     0.92,6, -999.000,9, -999.000,9, -999.000,9, -999.000,9, -999.000,9,   -999.0,9,   2284.3,2, 19990704,     2101
  18HU19990627, AR07W,    87,  1, 213928,     16,2,19990704,2035, 56.5268, -52.6738, 3444,    100.3,   3.6701,  34.7100,2,  34.7188,2,    313.4,2,   -999.0,9,     8.25,6,    14.46,6,     0.94,6, -999.000,9, -999.000,9, -999.000,9, -999.000,9, -999.000,9,   -999.0,9,   -999.0,9, 19990704,     2102
  18HU19990627, AR07W,    87,  1, 213929,     17,2,19990704,2035, 56.5268, -52.6738, 3444,     50.0,   4.2787,  34.6001,2,  34.6095,2,    333.2,2,   -999.0,9,     3.17,6,     7.85,6,     0.59,6, -999.000,9, -999.000,9, -999.000,9, -999.000,9, -999.000,9,   2108.0,2,   2293.3,2, 19990704,     2103
  18HU19990627, AR07W,    87,  1, 213930,     18,2,19990704,2035, 56.5268, -52.6738, 3444,      8.4,   7.0425,  34.5643,2,  34.5758,2,    326.9,2,   -999.0,9,     0.00,6,     3.68,6,     0.26,6, -999.000,9, -999.000,9, -999.000,9, -999.000,9, -999.000,9,   -999.0,9,   2311.6,3, 19990704,     2104
  18HU19990627, AR07W,    87,  1, 213931,     19,2,19990704,2035, 56.5268, -52.6738, 3444,      8.2,   7.0494,  34.5654,2,  34.5767,2,    327.1,2,   -999.0,9,     0.00,6,     3.69,6,     0.26,6, -999.000,9, -999.000,9, -999.000,9, -999.000,9, -999.000,9,   -999.0,9,   -999.0,9, 19990704,     2105
  18HU19990627, AR07W,    87,  1, 213932,     20,2,19990704,2035, 56.5268, -52.6738, 3444,      3.3,   7.0544,  34.5637,2,  34.5748,2,    329.1,2,   -999.0,9,     0.00,6,     3.68,6,     0.25,6,    4.859,2,    2.976,4,    0.356,2,  153.447,4,    6.221,2,   2004.6,2,   2292.7,2, 19990704,     2106