BOTTLE,20120214PRINUNIVRMK
EXPOCODE,SECT_ID,STNNBR,CASTNO,SAMPNO,BTLNBR,BTLNBR_FLAG_W,DATE,TIME,LATITUDE,LONGITUDE,DEPTH,CTDPRS,CTDTMP,CTDSAL,CTDSAL_FLAG_W,SALNTY,SALNTY_FLAG_W,CTDOXY,CTDOXY_FLAG_W,OXYGEN,OXYGEN_FLAG_W,SILCAT,SILCAT_FLAG_W,NITRAT,NITRAT_FLAG_W,PHSPHT,PHSPHT_FLAG_W,CFC-11,CFC-11_FLAG_W,CFC-12,CFC-12_FLAG_W,CFC113,CFC113_FLAG_W,CCL4,CCL4_FLAG_W,MCHFRM,MCHFRM_FLAG_W,TCARBN,TCARBN_FLAG_W,ALKALI,ALKALI_FLAG_W,BTL_DATE,BTL_TIME
,,,,,,,,,,,METERS,DBAR,ITS-90,PSS-78,,PSS-78,,UMOL/KG,,UMOL/KG,,UMOL/KG,,UMOL/KG,,UMOL/KG,,PMOL/KG,,PMOL/KG,,PMOL/KG,,PMOL/KG,,PMOL/KG,,UMOL/KG,,UMOL/KG,,,
  18HU19990627, AR07W,    80,  1, 213842,      1,2,19990704,0451, 56.1072, -53.1043, 3279,   3364.6,   1.6161,  34.8628,2,  34.8735,2,    317.2,2,    299.2,2,    10.32,6,    13.27,6,     0.89,6,    3.663,2,    2.095,4,    0.213,2,  102.569,4,    8.494,2,   2159.3,3,   2320.8,2, 19990704,      451
  18HU19990627, AR07W,    80,  1, 213843,      2,2,19990704,0451, 56.1072, -53.1043, 3279,   3299.9,   1.6659,  34.8644,2,  34.8752,2,    314.3,2,    293.9,2,    10.33,6,    13.45,6,     0.92,6,    3.906,2,    2.428,4,    0.158,2,   97.129,4,    8.278,2,   2159.4,3,   2313.7,2, 19990704,      454
  18HU19990627, AR07W,    80,  1, 213844,      3,2,19990704,0451, 56.1072, -53.1043, 3279,   3219.1,   1.8820,  34.8696,2,  34.8807,2,    310.4,2,    291.9,2,    10.93,6,    13.80,6,     0.93,6,    3.361,2,    1.803,2,    0.172,2,   97.054,4,    8.172,2,   2156.0,3,   2317.2,2, 19990704,      456
  18HU19990627, AR07W,    80,  1, 213845,      4,2,19990704,0451, 56.1072, -53.1043, 3279,   3122.7,   2.1074,  34.8755,2,  34.8872,2,    305.2,2,    288.6,2,    11.21,6,    14.19,6,     0.95,6,    2.961,2,    1.786,2,    0.123,2,   84.477,4,    7.223,2,   2156.7,3,   2326.7,2, 19990704,      458
  18HU19990627, AR07W,    80,  1, 213846,      5,2,19990704,0451, 56.1072, -53.1043, 3279,   3002.2,   2.4034,  34.8855,2,  34.8960,2,    300.2,2,    284.6,2,    11.87,6,    14.48,6,     0.95,6,    2.883,2,    1.983,2,    0.088,2,   75.788,4,    6.399,2,   2156.6,3,   2310.0,2, 19990704,      501
  18HU19990627, AR07W,    80,  1, 213847,      6,2,19990704,0451, 56.1072, -53.1043, 3279,   2859.8,   2.6538,  34.8965,2,  34.9070,2,    295.8,2,    281.4,2,    12.54,6,    15.15,6,     0.99,6,    2.498,2,    1.243,2,    0.090,2,   69.082,4,    5.803,2,   2158.0,3,   2325.1,2, 19990704,      504
  18HU19990627, AR07W,    80,  1, 213848,      7,2,19990704,0451, 56.1072, -53.1043, 3279,   2701.5,   2.8367,  34.8989,2,  34.9091,2,    294.2,2,    280.3,2,    12.29,6,    15.44,6,     0.99,6,    2.276,2,    1.392,2,    0.081,2,   67.585,4,    5.718,2,   2157.4,3,   2317.5,2, 19990704,      507
  18HU19990627, AR07W,    80,  1, 213849,      8,2,19990704,0451, 56.1072, -53.1043, 3279,   2518.1,   2.9834,  34.8979,2,  34.9079,2,    293.1,2,    280.1,2,    10.75,6,    15.70,6,     0.98,6,    2.299,2,    1.454,2,    0.081,2,   67.772,4,    5.801,2,   2158.0,3,   2314.3,2, 19990704,      510
  18HU19990627, AR07W,    80,  1, 213850,      9,2,19990704,0451, 56.1072, -53.1043, 3279,   2321.9,   3.0092,  34.8749,2,  34.8852,6,    299.1,2,    285.7,2,    10.61,6,    15.47,6,     0.98,6,    3.004,2,    1.842,2,    0.128,2,   90.081,4,    8.014,2,   2155.4,3,   2305.1,2, 19990704,      514
  18HU19990627, AR07W,    80,  1, 213851,     10,2,19990704,0451, 56.1072, -53.1043, 3279,   2117.4,   3.0107,  34.8560,2,  34.8660,2,    303.7,2,    290.7,2,    10.41,6,    15.61,6,     1.00,6,    3.551,2,    1.805,2,    0.140,2,   99.678,4,    9.086,2,   2152.9,3,   2307.1,2, 19990704,      518
  18HU19990627, AR07W,    80,  1, 213852,     11,2,19990704,0451, 56.1072, -53.1043, 3279,   1916.8,   2.9887,  34.8437,2,  34.8573,2,    306.5,2,    294.0,2,    10.15,6,    16.01,6,     0.99,6,    3.825,2,    2.194,2,    0.189,2,  109.645,4,   10.141,2,   2154.2,3,   2309.1,2, 19990704,      521
  18HU19990627, AR07W,    80,  1, 213853,     12,2,19990704,0451, 56.1072, -53.1043, 3279,   1714.7,   3.0537,  34.8472,2,  34.8567,2,    305.3,2,    292.5,2,     9.99,6,    15.91,6,     0.98,6,    3.579,6,    2.541,6,    0.234,6,  100.223,4,    9.518,6,   2154.0,3,   2298.7,2, 19990704,      524
  18HU19990627, AR07W,    80,  1, 213854,     13,2,19990704,0451, 56.1072, -53.1043, 3279,   1525.8,   3.1160,  34.8489,2,  34.8588,2,    299.8,2,    290.5,2,    10.36,6,    15.91,6,     1.01,6,    3.932,2,    1.954,2,    0.190,2,  109.976,4,   10.089,2,   2155.4,3,   2310.9,2, 19990704,      528
  18HU19990627, AR07W,    80,  1, 213855,     14,2,19990704,0451, 56.1072, -53.1043, 3279,   1318.6,   3.2335,  34.8556,2,  34.8651,2,    296.2,2,    286.2,2,    10.19,6,    16.38,6,     1.01,6,    3.861,2,    1.982,2,    0.125,4,  104.862,4,    9.304,2,   2155.8,3,   2309.0,2, 19990704,      532
  18HU19990627, AR07W,    80,  1, 213856,     15,2,19990704,0451, 56.1072, -53.1043, 3279,   1119.7,   3.3290,  34.8547,2,  34.8643,2,    295.3,2,    285.8,2,    10.03,6,    16.00,6,     1.00,6,    4.095,2,    2.558,4,    0.193,2,  111.371,4,    9.450,2,   2155.4,3,   2323.9,2, 19990704,      535
  18HU19990627, AR07W,    80,  1, 213857,     16,2,19990704,0451, 56.1072, -53.1043, 3279,    919.5,   3.3608,  34.8427,2,  34.8572,2,    300.7,2,    290.6,2,     9.16,6,    15.66,6,     0.97,6,    4.402,2,    2.518,4,    0.223,2,  123.099,4,    8.992,2,   2155.2,3,   2305.7,2, 19990704,      538
  18HU19990627, AR07W,    80,  1, 213858,     17,2,19990704,0451, 56.1072, -53.1043, 3279,    739.3,   3.3275,  34.8242,2,  34.8328,2,    304.8,2,    294.8,2,     8.79,6,    15.38,6,     0.97,6,    4.676,2,    2.406,4,    0.225,2,  128.455,4,    8.507,2,   2153.6,3,   2303.6,2, 19990704,      542
  18HU19990627, AR07W,    80,  1, 213859,     18,2,19990704,0451, 56.1072, -53.1043, 3279,    579.6,   3.3656,  34.8218,2,  34.8296,2,    308.2,2,    298.3,6,     8.33,6,    14.70,6,     0.93,6,    4.965,2,    2.816,2,    0.257,2,  139.924,4,    8.368,2,   2150.3,3,   2316.8,2, 19990704,      544
  18HU19990627, AR07W,    80,  1, 213860,     19,2,19990704,0451, 56.1072, -53.1043, 3279,    430.1,   3.4289,  34.8208,2,  34.8300,2,    307.7,2,    297.4,2,     8.38,6,    14.97,6,     0.92,6,    4.574,2,    2.454,4,    0.315,2,  132.979,4,    7.945,2,   2150.9,3,   2312.5,2, 19990704,      547
  18HU19990627, AR07W,    80,  1, 213861,     20,2,19990704,0451, 56.1072, -53.1043, 3279,    310.9,   3.3431,  34.7964,2,  34.8044,2,    310.9,2,    300.2,2,     8.24,6,    14.88,6,     0.96,6,    5.056,2,    2.551,4,    0.252,2,  142.230,4,    7.974,2,   2150.0,3,   2301.5,2, 19990704,      549
  18HU19990627, AR07W,    80,  1, 213862,     21,2,19990704,0451, 56.1072, -53.1043, 3279,    208.5,   3.5486,  34.8071,2,  34.8148,2,    306.4,2,    295.8,2,     8.30,6,    14.46,6,     0.91,6,    4.992,2,    2.958,2,    0.275,2,  137.014,4,    7.970,2,   2157.7,3,   2306.7,2, 19990704,      552
  18HU19990627, AR07W,    80,  1, 213863,     22,2,19990704,0451, 56.1072, -53.1043, 3279,    118.5,   3.7554,  34.7997,2,-999.0000,9,    305.1,2,   -999.0,9,  -999.00,9,  -999.00,9,  -999.00,9, -999.000,9, -999.000,9, -999.000,9, -999.000,9, -999.000,9,   -999.0,9,   -999.0,9, 19990704,      554
  18HU19990627, AR07W,    80,  1, 213864,     23,2,19990704,0451, 56.1072, -53.1043, 3279,     58.6,   4.1651,  34.6571,2,  34.6655,2,    326.3,2,    315.3,2,     5.32,6,     9.63,6,     0.74,6,    5.203,2,    2.739,4,    0.373,2,  173.689,4,    7.290,2,   2137.1,3,   2284.2,2, 19990704,      555
  18HU19990627, AR07W,    80,  1, 213865,     24,2,19990704,0451, 56.1072, -53.1043, 3279,      9.0,   6.9636,  34.5878,2,  34.5973,2,    325.0,2,    318.5,2,     0.00,6,     2.96,6,     0.25,6,    5.274,2,    2.629,4,    0.309,2,  159.122,4,    6.272,2,   2081.6,3,   2296.9,2, 19990704,      557
  18HU19990627, AR07W,    84,  1, 213866,      1,2,19990704,1224, 56.1215, -53.0560, 3424,    251.9,   3.4116,  34.7934,2,  34.8027,2,    336.8,2,   -999.0,9,     8.15,6,    14.84,6,     0.93,6, -999.000,9, -999.000,9, -999.000,9, -999.000,9, -999.000,9,   -999.0,9,   -999.0,9, 19990704,     1224
  18HU19990627, AR07W,    84,  1, 213867,      2,2,19990704,1224, 56.1215, -53.0560, 3424,    199.3,   3.5705,  34.7963,2,  34.8054,2,    331.7,2,   -999.0,9,     8.07,6,    14.94,6,     0.92,6, -999.000,9, -999.000,9, -999.000,9, -999.000,9, -999.000,9,   -999.0,9,   -999.0,9, 19990704,     1225
  18HU19990627, AR07W,    84,  1, 213868,      3,2,19990704,1224, 56.1215, -53.0560, 3424,    175.9,   3.5669,  34.7872,2,  34.7959,2,    330.8,2,   -999.0,9,     8.15,6,    14.72,6,     0.90,6, -999.000,9, -999.000,9, -999.000,9, -999.000,9, -999.000,9,   -999.0,9,   -999.0,9, 19990704,     1226
  18HU19990627, AR07W,    84,  1, 213869,      4,2,19990704,1224, 56.1215, -53.0560, 3424,    150.3,   3.5580,  34.7727,2,  34.7831,6,    333.5,2,   -999.0,9,     8.10,6,    14.43,6,     0.89,6, -999.000,9, -999.000,9, -999.000,9, -999.000,9, -999.000,9,   -999.0,9,   -999.0,9, 19990704,     1227
  18HU19990627, AR07W,    84,  1, 213870,      5,2,19990704,1224, 56.1215, -53.0560, 3424,    125.6,   3.4829,  34.7456,2,  34.7548,2,    335.3,2,   -999.0,9,     8.20,6,    14.51,6,     0.89,6, -999.000,9, -999.000,9, -999.000,9, -999.000,9, -999.000,9,   -999.0,9,   -999.0,9, 19990704,     1228
  18HU19990627, AR07W,    84,  1, 213871,      6,2,19990704,1224, 56.1215, -53.0560, 3424,    100.1,   3.6718,  34.7277,2,  34.7345,2,    332.9,2,   -999.0,9,     7.49,6,    13.74,6,     0.89,6, -999.000,9, -999.000,9, -999.000,9, -999.000,9, -999.000,9,   -999.0,9,   -999.0,9, 19990704,     1229
  18HU19990627, AR07W,    84,  1, 213872,      7,2,19990704,1224, 56.1215, -53.0560, 3424,     90.4,   3.8712,  34.6963,2,  34.7072,2,    333.8,2,   -999.0,9,     6.89,6,    12.11,6,     0.83,6, -999.000,9, -999.000,9, -999.000,9, -999.000,9, -999.000,9,   -999.0,9,   -999.0,9, 19990704,     1230
  18HU19990627, AR07W,    84,  1, 213873,      8,2,19990704,1224, 56.1215, -53.0560, 3424,     79.8,   4.1145,  34.6903,2,  34.7012,2,    339.3,2,   -999.0,9,     5.54,6,    10.62,6,     0.72,6, -999.000,9, -999.000,9, -999.000,9, -999.000,9, -999.000,9,   -999.0,9,   -999.0,9, 19990704,     1231
  18HU19990627, AR07W,    84,  1, 213874,      9,2,19990704,1224, 56.1215, -53.0560, 3424,     69.7,   4.1915,  34.6651,2,  34.6763,2,    339.8,2,   -999.0,9,     4.28,6,     9.83,6,     0.70,6, -999.000,9, -999.000,9, -999.000,9, -999.000,9, -999.000,9,   -999.0,9,   -999.0,9, 19990704,     1231
  18HU19990627, AR07W,    84,  1, 213875,     10,2,19990704,1224, 56.1215, -53.0560, 3424,     61.5,   4.2087,  34.6457,2,  34.6536,2,    343.8,2,   -999.0,9,     5.13,6,     9.71,6,     0.70,6, -999.000,9, -999.000,9, -999.000,9, -999.000,9, -999.000,9,   -999.0,9,   -999.0,9, 19990704,     1233
  18HU19990627, AR07W,    84,  1, 213876,     11,2,19990704,1224, 56.1215, -53.0560, 3424,     49.4,   4.2978,  34.6330,2,  34.6446,2,    341.8,2,   -999.0,9,     4.38,6,     9.10,6,     0.69,6, -999.000,9, -999.000,9, -999.000,9, -999.000,9, -999.000,9,   -999.0,9,   -999.0,9, 19990704,     1233
  18HU19990627, AR07W,    84,  1, 213877,     12,2,19990704,1224, 56.1215, -53.0560, 3424,     40.6,   4.3683,  34.6213,2,  34.6330,2,    344.6,2,   -999.0,9,     3.24,6,     8.45,6,     0.73,6, -999.000,9, -999.000,9, -999.000,9, -999.000,9, -999.000,9,   -999.0,9,   -999.0,9, 19990704,     1234
  18HU19990627, AR07W,    84,  1, 213878,     13,2,19990704,1224, 56.1215, -53.0560, 3424,     28.4,   4.6143,  34.6143,2,  34.6255,2,    353.9,2,   -999.0,9,     1.13,6,     7.27,6,     0.60,6, -999.000,9, -999.000,9, -999.000,9, -999.000,9, -999.000,9,   -999.0,9,   -999.0,9, 19990704,     1235
  18HU19990627, AR07W,    84,  1, 213879,     14,2,19990704,1224, 56.1215, -53.0560, 3424,     28.7,   4.6252,  34.6149,2,-999.0000,9,    354.8,2,   -999.0,9,     0.86,2,     7.52,2,     0.64,2, -999.000,9, -999.000,9, -999.000,9, -999.000,9, -999.000,9,   -999.0,9,   -999.0,9, 19990704,     1235
  18HU19990627, AR07W,    84,  1, 213880,     15,2,19990704,1224, 56.1215, -53.0560, 3424,     23.9,   6.5861,  34.5837,2,  34.6052,2,    339.4,2,   -999.0,9,     0.64,6,     4.76,6,     0.41,6, -999.000,9, -999.000,9, -999.000,9, -999.000,9, -999.000,9,   -999.0,9,   -999.0,9, 19990704,     1235
  18HU19990627, AR07W,    84,  1, 213881,     16,2,19990704,1224, 56.1215, -53.0560, 3424,     19.4,   6.9077,  34.5848,2,  34.5971,2,    336.6,2,   -999.0,9,     0.00,6,     4.12,6,     0.36,6, -999.000,9, -999.000,9, -999.000,9, -999.000,9, -999.000,9,   -999.0,9,   -999.0,9, 19990704,     1236
  18HU19990627, AR07W,    84,  1, 213882,     17,2,19990704,1224, 56.1215, -53.0560, 3424,     20.0,   6.9101,  34.5857,2,-999.0000,9,    337.0,2,   -999.0,9,     0.00,2,     4.26,2,     0.41,2, -999.000,9, -999.000,9, -999.000,9, -999.000,9, -999.000,9,   -999.0,9,   -999.0,9, 19990704,     1236
  18HU19990627, AR07W,    84,  1, 213883,     18,2,19990704,1224, 56.1215, -53.0560, 3424,      9.4,   6.9295,  34.5855,2,  34.5942,2,    336.0,2,   -999.0,9,     0.00,6,     4.12,6,     0.37,6, -999.000,9, -999.000,9, -999.000,9, -999.000,9, -999.000,9,   -999.0,9,   -999.0,9, 19990704,     1237
  18HU19990627, AR07W,    84,  1, 213884,     19,2,19990704,1224, 56.1215, -53.0560, 3424,      9.7,   6.9392,  34.5841,2,-999.0000,9,    337.0,2,   -999.0,9,     0.00,2,     4.21,2,     0.39,2, -999.000,9, -999.000,9, -999.000,9, -999.000,9, -999.000,9,   -999.0,9,   -999.0,9, 19990704,     1237
  18HU19990627, AR07W,    84,  1, 213885,     20,2,19990704,1224, 56.1215, -53.0560, 3424,      9.6,   6.9390,  34.5850,2,-999.0000,9,    333.6,2,   -999.0,9,  -999.00,9,  -999.00,9,  -999.00,9, -999.000,9, -999.000,9, -999.000,9, -999.000,9, -999.000,9,   -999.0,9,   -999.0,9, 19990704,     1237
  18HU19990627, AR07W,    84,  1, 213886,     21,2,19990704,1224, 56.1215, -53.0560, 3424,      9.5,   6.9416,  34.5848,2,-999.0000,9,    334.8,2,   -999.0,9,  -999.00,9,  -999.00,9,  -999.00,9, -999.000,9, -999.000,9, -999.000,9, -999.000,9, -999.000,9,   -999.0,9,   -999.0,9, 19990704,     1238
  18HU19990627, AR07W,    84,  1, 213887,     22,2,19990704,1224, 56.1215, -53.0560, 3424,      9.7,   6.9391,  34.5852,2,-999.0000,9,    334.4,2,   -999.0,9,  -999.00,9,  -999.00,9,  -999.00,9, -999.000,9, -999.000,9, -999.000,9, -999.000,9, -999.000,9,   -999.0,9,   -999.0,9, 19990704,     1238
  18HU19990627, AR07W,    84,  1, 213888,     23,2,19990704,1224, 56.1215, -53.0560, 3424,      2.6,   6.9386,  34.5850,2,  34.5949,2,    334.3,2,   -999.0,9,     0.27,6,     4.09,6,     0.35,6, -999.000,9, -999.000,9, -999.000,9, -999.000,9, -999.000,9,   -999.0,9,   -999.0,9, 19990704,     1239