BOTTLE,20120214PRINUNIVRMK
EXPOCODE,SECT_ID,STNNBR,CASTNO,SAMPNO,BTLNBR,BTLNBR_FLAG_W,DATE,TIME,LATITUDE,LONGITUDE,DEPTH,CTDPRS,CTDTMP,CTDSAL,CTDSAL_FLAG_W,SALNTY,SALNTY_FLAG_W,CTDOXY,CTDOXY_FLAG_W,OXYGEN,OXYGEN_FLAG_W,SILCAT,SILCAT_FLAG_W,NITRAT,NITRAT_FLAG_W,PHSPHT,PHSPHT_FLAG_W,CFC-11,CFC-11_FLAG_W,CFC-12,CFC-12_FLAG_W,CFC113,CFC113_FLAG_W,CCL4,CCL4_FLAG_W,MCHFRM,MCHFRM_FLAG_W,TCARBN,TCARBN_FLAG_W,ALKALI,ALKALI_FLAG_W,BTL_DATE,BTL_TIME
,,,,,,,,,,,METERS,DBAR,ITS-90,PSS-78,,PSS-78,,UMOL/KG,,UMOL/KG,,UMOL/KG,,UMOL/KG,,UMOL/KG,,PMOL/KG,,PMOL/KG,,PMOL/KG,,PMOL/KG,,PMOL/KG,,UMOL/KG,,UMOL/KG,,,
  18HU19990627, AR07W,    88,  1, 213933,      1,2,19990705,0211, 56.9582, -52.2423, 3572,   3563.6,   1.6090,  34.8615,2,  34.8725,2,    313.0,2,    295.8,2,    10.49,6,    13.39,6,     0.89,6, -999.000,9, -999.000,9, -999.000,9, -999.000,9, -999.000,9,   2146.7,3,   2314.1,2, 19990705,      211
  18HU19990627, AR07W,    88,  1, 213934,      2,2,19990705,0211, 56.9582, -52.2423, 3572,   3490.5,   1.7129,  34.8661,2,  34.8780,2,    309.9,2,   -999.0,9,    10.57,6,    13.46,6,     0.87,6, -999.000,9, -999.000,9, -999.000,9, -999.000,9, -999.000,9,   2143.5,3,   2308.3,2, 19990705,      213
  18HU19990627, AR07W,    88,  1, 213935,      3,2,19990705,0211, 56.9582, -52.2423, 3572,   3400.0,   1.9409,  34.8698,2,  34.8803,2,    306.3,2,    290.4,2,    10.62,6,    13.69,6,     0.87,6, -999.000,9, -999.000,9, -999.000,9, -999.000,9, -999.000,9,   2142.7,3,   2322.9,2, 19990705,      215
  18HU19990627, AR07W,    88,  1, 213936,      4,2,19990705,0211, 56.9582, -52.2423, 3572,   3291.2,   2.2760,  34.8813,2,  34.8919,2,    299.1,2,    285.6,2,    11.83,6,    14.58,6,     0.92,6, -999.000,9, -999.000,9, -999.000,9, -999.000,9, -999.000,9,   2142.4,3,   2329.5,2, 19990705,      218
  18HU19990627, AR07W,    88,  1, 213937,      5,2,19990705,0211, 56.9582, -52.2423, 3572,   3169.2,   2.5476,  34.8943,2,  34.9043,2,    292.5,2,    280.6,2,    12.81,6,    14.79,6,     0.93,6, -999.000,9, -999.000,9, -999.000,9, -999.000,9, -999.000,9,   2144.8,3,   2320.0,2, 19990705,      221
  18HU19990627, AR07W,    88,  1, 213938,      6,2,19990705,0211, 56.9582, -52.2423, 3572,   3030.6,   2.7164,  34.8950,2,  34.9065,2,    291.6,2,    281.2,2,    12.13,6,    15.20,6,     0.96,6, -999.000,9, -999.000,9, -999.000,9, -999.000,9, -999.000,9,   2143.8,3,   2309.8,2, 19990705,      224
  18HU19990627, AR07W,    88,  1, 213939,      7,2,19990705,0211, 56.9582, -52.2423, 3572,   2871.1,   2.8546,  34.8903,2,  34.9022,2,    291.8,2,    280.8,2,    11.42,6,    15.12,6,     0.95,6, -999.000,9, -999.000,9, -999.000,9, -999.000,9, -999.000,9,   2141.3,3,   2304.2,2, 19990705,      227
  18HU19990627, AR07W,    88,  1, 213940,      8,2,19990705,0211, 56.9582, -52.2423, 3572,   2690.7,   3.0535,  34.8971,2,  34.9073,2,    288.9,2,    278.7,2,    11.92,6,    15.37,6,     0.97,6, -999.000,9, -999.000,9, -999.000,9, -999.000,9, -999.000,9,   2142.5,3,   2318.2,2, 19990705,      231
  18HU19990627, AR07W,    88,  1, 213941,      9,2,19990705,0211, 56.9582, -52.2423, 3572,   2468.1,   3.0857,  34.8782,2,  34.8880,2,    293.5,2,    283.0,2,    11.11,6,    15.89,6,     0.98,6, -999.000,9, -999.000,9, -999.000,9, -999.000,9, -999.000,9,   2142.1,3,   2291.0,2, 19990705,      234
  18HU19990627, AR07W,    88,  1, 213942,     10,2,19990705,0211, 56.9582, -52.2423, 3572,   2228.1,   3.0033,  34.8461,2,  34.8561,2,    301.2,2,    291.6,2,     9.92,6,    15.62,6,     0.97,6, -999.000,9, -999.000,9, -999.000,9, -999.000,9, -999.000,9,   2141.6,3,   2299.3,2, 19990705,      238
  18HU19990627, AR07W,    88,  1, 213943,     11,2,19990705,0211, 56.9582, -52.2423, 3572,   2011.8,   3.0763,  34.8508,2,  34.8611,2,    299.7,2,    289.9,2,    10.14,6,    15.70,6,     0.97,6, -999.000,9, -999.000,9, -999.000,9, -999.000,9, -999.000,9,   2140.8,3,   2299.1,2, 19990705,      242
  18HU19990627, AR07W,    88,  1, 213944,     12,2,19990705,0211, 56.9582, -52.2423, 3572,   1770.4,   3.1792,  34.8547,2,  34.8650,2,    296.6,2,    288.0,2,    10.15,6,    16.00,6,     0.97,6, -999.000,9, -999.000,9, -999.000,9, -999.000,9, -999.000,9,   2141.6,3,   2292.2,2, 19990705,      246
  18HU19990627, AR07W,    88,  1, 213945,     13,2,19990705,0211, 56.9582, -52.2423, 3572,   1528.7,   3.3309,  34.8623,2,  34.8721,2,    290.6,2,    283.3,2,    10.17,6,    16.14,6,     0.99,6, -999.000,9, -999.000,9, -999.000,9, -999.000,9, -999.000,9,   2140.5,3,   2308.0,2, 19990705,      250
  18HU19990627, AR07W,    88,  1, 213946,     14,2,19990705,0211, 56.9582, -52.2423, 3572,   1288.7,   3.2997,  34.8381,2,  34.8479,2,    298.5,2,    289.6,2,     9.18,6,    15.50,6,     0.96,6, -999.000,9, -999.000,9, -999.000,9, -999.000,9, -999.000,9,   2142.2,3,   2288.9,2, 19990705,      254
  18HU19990627, AR07W,    88,  1, 213947,     15,2,19990705,0211, 56.9582, -52.2423, 3572,   1070.6,   3.3056,  34.8248,2,  34.8343,2,    301.4,2,    292.5,2,     8.78,6,    15.11,6,     0.94,6, -999.000,9, -999.000,9, -999.000,9, -999.000,9, -999.000,9,   2160.1,3,   2316.5,2, 19990705,      258
  18HU19990627, AR07W,    88,  1, 213948,     16,2,19990705,0211, 56.9582, -52.2423, 3572,    849.2,   3.2867,  34.8118,2,  34.8210,2,    306.2,2,    298.2,6,     8.30,6,    14.86,6,     0.93,6, -999.000,9, -999.000,9, -999.000,9, -999.000,9, -999.000,9,   2153.5,3,   2289.0,2, 19990705,      302
  18HU19990627, AR07W,    88,  1, 213949,     17,2,19990705,0211, 56.9582, -52.2423, 3572,    678.3,   3.3762,  34.8142,2,  34.8259,2,    308.2,2,    298.4,2,     8.30,6,    14.50,6,     0.93,6, -999.000,9, -999.000,9, -999.000,9, -999.000,9, -999.000,9,   2151.5,3,   2298.7,2, 19990705,      305
  18HU19990627, AR07W,    88,  1, 213950,     18,2,19990705,0211, 56.9582, -52.2423, 3572,    485.7,   3.5175,  34.8171,2,  34.8259,2,    308.4,2,    298.2,2,     8.00,6,    14.42,6,     0.90,6, -999.000,9, -999.000,9, -999.000,9, -999.000,9, -999.000,9,   2149.6,3,   2306.8,2, 19990705,      309
  18HU19990627, AR07W,    88,  1, 213951,     19,2,19990705,0211, 56.9582, -52.2423, 3572,    359.9,   3.7067,  34.8081,2,  34.8200,2,    306.8,2,    296.0,2,     7.87,6,    14.43,6,     0.89,6, -999.000,9, -999.000,9, -999.000,9, -999.000,9, -999.000,9,   2150.0,3,   2296.2,2, 19990705,      312
  18HU19990627, AR07W,    88,  1, 213952,     20,2,19990705,0211, 56.9582, -52.2423, 3572,    240.1,   4.2342,  34.8194,2,  34.8282,2,    302.1,2,    292.1,6,     7.32,6,    13.89,6,     0.88,6, -999.000,9, -999.000,9, -999.000,9, -999.000,9, -999.000,9,   2144.4,3,   -999.0,9, 19990705,      314
  18HU19990627, AR07W,    88,  1, 213953,     21,2,19990705,0211, 56.9582, -52.2423, 3572,    141.6,   4.4115,  34.8037,2,  34.8109,2,    298.2,2,    287.8,2,     7.24,6,    13.97,6,     0.87,6, -999.000,9, -999.000,9, -999.000,9, -999.000,9, -999.000,9,   2143.7,3,   2295.4,2, 19990705,      316
  18HU19990627, AR07W,    88,  1, 213954,     22,2,19990705,0211, 56.9582, -52.2423, 3572,     70.5,   4.1576,  34.6304,2,  34.6394,2,    325.2,2,    312.4,2,     4.03,6,     8.82,6,     0.64,6, -999.000,9, -999.000,9, -999.000,9, -999.000,9, -999.000,9,   2121.9,3,   2312.4,2, 19990705,      318
  18HU19990627, AR07W,    88,  1, 213955,     23,2,19990705,0211, 56.9582, -52.2423, 3572,     34.1,   5.3919,  34.3669,2,  34.3723,2,    327.6,2,    318.2,2,     2.30,6,     4.32,6,     0.38,6, -999.000,9, -999.000,9, -999.000,9, -999.000,9, -999.000,9,   2085.4,3,   2295.9,2, 19990705,      319
  18HU19990627, AR07W,    88,  1, 213956,     24,2,19990705,0211, 56.9582, -52.2423, 3572,      8.8,   5.3669,  34.3583,2,  34.3660,2,    329.5,2,    317.8,2,     2.17,6,     4.18,6,     0.38,6, -999.000,9, -999.000,9, -999.000,9, -999.000,9, -999.000,9,   2083.1,3,   2293.2,2, 19990705,      320
  18HU19990627, AR07W,    90,  1, 213957,      1,2,19990705,1628, 58.2160, -50.8875, 3481,    247.6,   3.5544,  34.8127,2,-999.0000,9,    341.5,2,   -999.0,9,     7.87,6,    14.69,6,     0.89,6, -999.000,9, -999.000,9, -999.000,9, -999.000,9, -999.000,9,   -999.0,9,   -999.0,9, 19990705,     1628
  18HU19990627, AR07W,    90,  1, 213958,      2,2,19990705,1628, 58.2160, -50.8875, 3481,    200.3,   3.7168,  34.8205,2,-999.0000,9,    331.4,2,   -999.0,9,     7.96,6,    14.76,6,     0.91,6, -999.000,9, -999.000,9, -999.000,9, -999.000,9, -999.000,9,   -999.0,9,   -999.0,9, 19990705,     1630
  18HU19990627, AR07W,    90,  1, 213959,      3,2,19990705,1628, 58.2160, -50.8875, 3481,    173.5,   3.6338,  34.7994,2,-999.0000,9,    333.1,2,   -999.0,9,     7.97,6,    14.16,6,     0.91,6, -999.000,9, -999.000,9, -999.000,9, -999.000,9, -999.000,9,   -999.0,9,   -999.0,9, 19990705,     1631
  18HU19990627, AR07W,    90,  1, 213960,      4,2,19990705,1628, 58.2160, -50.8875, 3481,    148.9,   3.5943,  34.7780,2,-999.0000,9,    331.4,2,   -999.0,9,     8.18,6,    14.19,6,     0.93,6, -999.000,9, -999.000,9, -999.000,9, -999.000,9, -999.000,9,   -999.0,9,   -999.0,9, 19990705,     1632
  18HU19990627, AR07W,    90,  1, 213961,      5,2,19990705,1628, 58.2160, -50.8875, 3481,    123.3,   3.5005,  34.7419,2,-999.0000,9,    334.6,2,   -999.0,9,     7.92,6,    14.24,6,     0.91,6, -999.000,9, -999.000,9, -999.000,9, -999.000,9, -999.000,9,   -999.0,9,   -999.0,9, 19990705,     1634
  18HU19990627, AR07W,    90,  1, 213962,      6,2,19990705,1628, 58.2160, -50.8875, 3481,    100.0,   3.7428,  34.7049,2,-999.0000,9,    335.1,2,   -999.0,9,     7.20,6,    12.35,6,     0.87,6, -999.000,9, -999.000,9, -999.000,9, -999.000,9, -999.000,9,   -999.0,9,   -999.0,9, 19990705,     1635
  18HU19990627, AR07W,    90,  1, 213963,      7,2,19990705,1628, 58.2160, -50.8875, 3481,     90.8,   4.0774,  34.6826,2,-999.0000,9,    337.3,2,   -999.0,9,     6.16,6,    10.82,6,     0.82,6, -999.000,9, -999.000,9, -999.000,9, -999.000,9, -999.000,9,   -999.0,9,   -999.0,9, 19990705,     1636
  18HU19990627, AR07W,    90,  1, 213964,      8,2,19990705,1628, 58.2160, -50.8875, 3481,     81.2,   4.2111,  34.6642,2,-999.0000,9,    337.2,2,   -999.0,9,     4.59,6,     9.61,6,     0.70,6, -999.000,9, -999.000,9, -999.000,9, -999.000,9, -999.000,9,   -999.0,9,   -999.0,9, 19990705,     1637
  18HU19990627, AR07W,    90,  1, 213965,      9,2,19990705,1628, 58.2160, -50.8875, 3481,     69.1,   4.1919,  34.6367,2,-999.0000,9,    340.4,2,   -999.0,9,     3.78,6,     8.75,6,     0.67,6, -999.000,9, -999.000,9, -999.000,9, -999.000,9, -999.000,9,   -999.0,9,   -999.0,9, 19990705,     1638
  18HU19990627, AR07W,    90,  1, 213966,     10,2,19990705,1628, 58.2160, -50.8875, 3481,     60.6,   4.2615,  34.6315,2,-999.0000,9,    342.4,2,   -999.0,9,     2.71,6,     8.36,6,     0.62,6, -999.000,9, -999.000,9, -999.000,9, -999.000,9, -999.000,9,   -999.0,9,   -999.0,9, 19990705,     1639
  18HU19990627, AR07W,    90,  1, 213967,     11,2,19990705,1628, 58.2160, -50.8875, 3481,     50.3,   5.3709,  34.5758,2,-999.0000,9,    341.8,2,   -999.0,9,     1.21,6,     6.54,6,     0.47,6, -999.000,9, -999.000,9, -999.000,9, -999.000,9, -999.000,9,   -999.0,9,   -999.0,9, 19990705,     1640
  18HU19990627, AR07W,    90,  1, 213968,     12,2,19990705,1628, 58.2160, -50.8875, 3481,     40.3,   5.5571,  34.5603,2,-999.0000,9,    338.7,2,   -999.0,9,     1.13,6,     6.13,6,     0.43,6, -999.000,9, -999.000,9, -999.000,9, -999.000,9, -999.000,9,   -999.0,9,   -999.0,9, 19990705,     1641
  18HU19990627, AR07W,    90,  1, 213969,     13,2,19990705,1628, 58.2160, -50.8875, 3481,     38.8,   5.5646,  34.5598,2,-999.0000,9,    339.7,2,   -999.0,9,     1.03,6,     6.16,6,     0.47,6, -999.000,9, -999.000,9, -999.000,9, -999.000,9, -999.000,9,   -999.0,9,   -999.0,9, 19990705,     1641
  18HU19990627, AR07W,    90,  1, 213970,     14,2,19990705,1628, 58.2160, -50.8875, 3481,     30.2,   5.5657,  34.5597,2,-999.0000,9,    341.8,2,   -999.0,9,     0.96,6,     6.03,6,     0.44,6, -999.000,9, -999.000,9, -999.000,9, -999.000,9, -999.000,9,   -999.0,9,   -999.0,9, 19990705,     1642
  18HU19990627, AR07W,    90,  1, 213971,     15,2,19990705,1628, 58.2160, -50.8875, 3481,     24.5,   5.5605,  34.5593,2,-999.0000,9,    341.4,2,   -999.0,9,  -999.00,9,  -999.00,9,  -999.00,9, -999.000,9, -999.000,9, -999.000,9, -999.000,9, -999.000,9,   -999.0,9,   -999.0,9, 19990705,     1642
  18HU19990627, AR07W,    90,  1, 213972,     16,2,19990705,1628, 58.2160, -50.8875, 3481,     20.3,   5.5608,  34.5593,2,-999.0000,9,    340.2,2,   -999.0,9,     1.01,6,     6.05,6,     0.43,6, -999.000,9, -999.000,9, -999.000,9, -999.000,9, -999.000,9,   -999.0,9,   -999.0,9, 19990705,     1643
  18HU19990627, AR07W,    90,  1, 213973,     17,2,19990705,1628, 58.2160, -50.8875, 3481,     20.8,   5.5602,  34.5586,2,-999.0000,9,    342.5,2,   -999.0,9,     1.19,2,     6.34,2,     0.60,2, -999.000,9, -999.000,9, -999.000,9, -999.000,9, -999.000,9,   -999.0,9,   -999.0,9, 19990705,     1643
  18HU19990627, AR07W,    90,  1, 213974,     18,2,19990705,1628, 58.2160, -50.8875, 3481,      9.8,   5.5576,  34.5597,2,-999.0000,9,    340.8,2,   -999.0,9,     1.02,6,     5.99,6,     0.44,6, -999.000,9, -999.000,9, -999.000,9, -999.000,9, -999.000,9,   -999.0,9,   -999.0,9, 19990705,     1644
  18HU19990627, AR07W,    90,  1, 213975,     19,2,19990705,1628, 58.2160, -50.8875, 3481,      7.8,   5.5650,  34.5594,2,-999.0000,9,    339.6,2,   -999.0,9,     1.21,2,     6.37,2,     0.58,2, -999.000,9, -999.000,9, -999.000,9, -999.000,9, -999.000,9,   -999.0,9,   -999.0,9, 19990705,     1644
  18HU19990627, AR07W,    90,  1, 213976,     20,2,19990705,1628, 58.2160, -50.8875, 3481,      8.9,   5.5687,  34.5593,2,-999.0000,9,    339.5,2,   -999.0,9,  -999.00,9,  -999.00,9,  -999.00,9, -999.000,9, -999.000,9, -999.000,9, -999.000,9, -999.000,9,   -999.0,9,   -999.0,9, 19990705,     1644
  18HU19990627, AR07W,    90,  1, 213977,     21,2,19990705,1628, 58.2160, -50.8875, 3481,      9.0,   5.5624,  34.5596,2,-999.0000,9,    340.5,2,   -999.0,9,  -999.00,9,  -999.00,9,  -999.00,9, -999.000,9, -999.000,9, -999.000,9, -999.000,9, -999.000,9,   -999.0,9,   -999.0,9, 19990705,     1645
  18HU19990627, AR07W,    90,  1, 213978,     22,2,19990705,1628, 58.2160, -50.8875, 3481,      9.4,   5.5613,  34.5593,2,-999.0000,9,    340.1,2,   -999.0,9,     1.16,6,     5.97,6,     0.44,6, -999.000,9, -999.000,9, -999.000,9, -999.000,9, -999.000,9,   -999.0,9,   -999.0,9, 19990705,     1645
  18HU19990627, AR07W,    90,  1, 213979,     23,2,19990705,1628, 58.2160, -50.8875, 3481,      5.4,   5.5576,  34.5591,2,-999.0000,9,    340.9,2,   -999.0,9,     1.08,6,     6.05,6,     0.44,6, -999.000,9, -999.000,9, -999.000,9, -999.000,9, -999.000,9,   -999.0,9,   -999.0,9, 19990705,     1646