BOTTLE,20120214PRINUNIVRMK
EXPOCODE,SECT_ID,STNNBR,CASTNO,SAMPNO,BTLNBR,BTLNBR_FLAG_W,DATE,TIME,LATITUDE,LONGITUDE,DEPTH,CTDPRS,CTDTMP,CTDSAL,CTDSAL_FLAG_W,SALNTY,SALNTY_FLAG_W,CTDOXY,CTDOXY_FLAG_W,OXYGEN,OXYGEN_FLAG_W,SILCAT,SILCAT_FLAG_W,NITRAT,NITRAT_FLAG_W,PHSPHT,PHSPHT_FLAG_W,CFC-11,CFC-11_FLAG_W,CFC-12,CFC-12_FLAG_W,CFC113,CFC113_FLAG_W,CCL4,CCL4_FLAG_W,MCHFRM,MCHFRM_FLAG_W,TCARBN,TCARBN_FLAG_W,ALKALI,ALKALI_FLAG_W,BTL_DATE,BTL_TIME
,,,,,,,,,,,METERS,DBAR,ITS-90,PSS-78,,PSS-78,,UMOL/KG,,UMOL/KG,,UMOL/KG,,UMOL/KG,,UMOL/KG,,PMOL/KG,,PMOL/KG,,PMOL/KG,,PMOL/KG,,PMOL/KG,,UMOL/KG,,UMOL/KG,,,
  18HU19990627, AR07W,   107,  1, 214076,      1,2,19990707,0624, 59.9817, -48.8983, 2932,   3050.4,   1.4079,  34.8548,2,  34.8650,2,    316.4,2,    296.2,2,     8.94,6,    13.92,6,     0.89,6,    3.617,2,    1.517,2,    0.193,2,   23.760,4,    8.096,2,   2132.5,3,   2290.4,2, 19990707,      624
  18HU19990627, AR07W,   107,  1, 214077,      2,2,19990707,0624, 59.9817, -48.8983, 2932,   3050.4,   1.4083,  34.8545,2,-999.0000,9,    316.7,2,   -999.0,9,  -999.00,9,  -999.00,9,  -999.00,9, -999.000,9, -999.000,9, -999.000,9, -999.000,9, -999.000,9,   -999.0,9,   -999.0,9, 19990707,      624
  18HU19990627, AR07W,   107,  1, 214078,      3,2,19990707,0624, 59.9817, -48.8983, 2932,   2969.0,   1.4366,  34.8563,2,  34.8741,2,    313.8,2,    295.0,2,     9.17,6,    13.80,6,     0.92,6,    3.569,2,    1.518,2,    0.192,2,   23.488,4,    8.045,2,   2132.1,3,   2291.2,2, 19990707,      627
  18HU19990627, AR07W,   107,  1, 214079,      4,2,19990707,0624, 59.9817, -48.8983, 2932,   2969.7,   1.4355,  34.8562,2,-999.0000,9,    314.1,2,   -999.0,9,  -999.00,9,  -999.00,9,  -999.00,9, -999.000,9, -999.000,9, -999.000,9, -999.000,9, -999.000,9,   -999.0,9,   -999.0,9, 19990707,      627
  18HU19990627, AR07W,   107,  1, 214080,      5,2,19990707,0624, 59.9817, -48.8983, 2932,   2879.7,   1.6352,  34.8598,2,  34.8709,2,    309.6,2,    292.9,2,     9.46,6,    14.06,6,     0.92,6,    3.517,2,    1.470,2,    0.190,2,   23.997,4,    7.906,2,   2130.8,3,   -999.0,9, 19990707,      630
  18HU19990627, AR07W,   107,  1, 214081,      6,2,19990707,0624, 59.9817, -48.8983, 2932,   2768.9,   1.8300,  34.8639,2,  34.8749,6,    305.0,2,    290.8,2,  -999.00,9,  -999.00,9,  -999.00,9,    3.240,2,    1.357,2,    0.180,2,   22.674,4,    7.548,2,   2130.7,3,   2297.7,2, 19990707,      633
  18HU19990627, AR07W,   107,  1, 214082,      7,2,19990707,0624, 59.9817, -48.8983, 2932,   2759.5,   1.8439,  34.8638,2,-999.0000,9,    305.0,2,   -999.0,9,    10.09,6,    14.62,6,     0.93,6, -999.000,9, -999.000,9, -999.000,9, -999.000,9, -999.000,9,   -999.0,9,   -999.0,9, 19990707,      635
  18HU19990627, AR07W,   107,  1, 214083,      8,2,19990707,0624, 59.9817, -48.8983, 2932,   2637.7,   2.0426,  34.8687,2,  34.8796,2,    302.1,2,    287.7,2,    10.93,6,    14.91,6,     0.97,6,    2.908,6,    1.403,6,    0.150,6,   39.193,4,    6.884,6,   2130.8,3,   2299.2,2, 19990707,      637
  18HU19990627, AR07W,   107,  1, 214084,      9,2,19990707,0624, 59.9817, -48.8983, 2932,   2499.4,   2.3025,  34.8824,2,  34.8926,2,    294.6,2,    282.3,2,    12.13,6,    15.37,6,     0.97,6,    2.535,2,    0.982,2,    0.116,2,   17.721,4,    6.311,2,   2130.7,3,   2302.0,2, 19990707,      640
  18HU19990627, AR07W,   107,  1, 214085,     10,2,19990707,0624, 59.9817, -48.8983, 2932,   2499.2,   2.3036,  34.8826,2,-999.0000,9,    294.9,2,   -999.0,9,  -999.00,9,  -999.00,9,  -999.00,9, -999.000,9, -999.000,9, -999.000,9, -999.000,9, -999.000,9,   -999.0,9,   -999.0,9, 19990707,      640
  18HU19990627, AR07W,   107,  1, 214086,     11,2,19990707,0624, 59.9817, -48.8983, 2932,   2308.7,   2.5309,  34.8774,2,  34.8898,2,    295.1,2,    283.3,2,    11.19,6,    15.19,6,     0.99,6,    2.656,2,    1.079,2,    0.143,2,   18.424,4,    6.353,2,   2129.5,3,   2298.7,2, 19990707,      644
  18HU19990627, AR07W,   107,  1, 214087,     12,2,19990707,0624, 59.9817, -48.8983, 2932,   2199.8,   2.7102,  34.8888,2,  34.9160,2,    291.1,2,    280.6,2,    11.34,6,    15.91,6,     1.00,6,    2.495,2,    0.931,2,    0.135,2,   16.933,4,    6.036,2,   2128.4,3,   2292.3,2, 19990707,      646
  18HU19990627, AR07W,   107,  1, 214088,     13,2,19990707,0624, 59.9817, -48.8983, 2932,   2118.1,   2.7138,  34.8709,2,  34.8810,2,    295.9,2,    283.8,2,    10.37,6,    15.23,6,     0.98,6,    2.863,2,    1.145,2,    0.137,2,   19.898,4,    7.108,2,   2161.0,3,   2299.9,2, 19990707,      651
  18HU19990627, AR07W,   107,  1, 214089,     14,2,19990707,0624, 59.9817, -48.8983, 2932,   1997.8,   2.8980,  34.8848,2,  34.8959,2,    292.9,2,   -999.0,9,    10.83,6,    16.06,6,     1.00,6, -999.000,9, -999.000,9, -999.000,9, -999.000,9, -999.000,9,   -999.0,9,   -999.0,9, 19990707,      654
  18HU19990627, AR07W,   107,  1, 214090,     15,2,19990707,0624, 59.9817, -48.8983, 2932,   1998.0,   2.8994,  34.8847,2,  34.8997,2,    291.5,2,    281.0,6,    10.81,6,    16.15,6,     0.99,6,    2.611,2,    1.026,2,    0.137,2,   17.756,4,    6.745,2,   2163.4,3,   2303.2,2, 19990707,      654
  18HU19990627, AR07W,   107,  1, 214091,     16,2,19990707,0624, 59.9817, -48.8983, 2932,   1779.7,   2.9418,  34.8634,2,  34.8741,2,    297.4,2,   -999.0,9,    10.10,6,    15.90,6,     1.00,6,    3.121,2,    1.296,2,    0.162,2,   21.135,4,    7.854,2,   2161.8,3,   2296.4,2, 19990707,      658
  18HU19990627, AR07W,   107,  1, 214092,     17,2,19990707,0624, 59.9817, -48.8983, 2932,   1749.2,   2.9121,  34.8575,2,  34.8682,2,    297.4,2,   -999.0,9,     9.90,6,    15.75,6,     1.00,6, -999.000,9, -999.000,9, -999.000,9, -999.000,9, -999.000,9,   -999.0,9,   -999.0,9, 19990707,      700
  18HU19990627, AR07W,   107,  1, 214093,     18,2,19990707,0624, 59.9817, -48.8983, 2932,   1580.0,   3.0095,  34.8554,2,  34.8729,2,    297.5,2,    287.4,2,     9.58,6,    16.02,6,     0.99,6,    3.493,2,    1.458,2,    0.167,2,   23.426,4,    8.474,2,   2159.0,3,   2294.1,2, 19990707,      703
  18HU19990627, AR07W,   107,  1, 214094,     19,2,19990707,0624, 59.9817, -48.8983, 2932,   1498.9,   3.0660,  34.8573,2,  34.8684,2,    296.5,2,   -999.0,9,     9.75,6,    16.09,6,     0.99,6, -999.000,9, -999.000,9, -999.000,9, -999.000,9, -999.000,9,   -999.0,9,   -999.0,9, 19990707,      705
  18HU19990627, AR07W,   107,  1, 214095,     20,2,19990707,0624, 59.9817, -48.8983, 2932,   1378.9,   3.1732,  34.8616,2,  34.8753,2,    294.0,2,    285.0,2,     9.73,6,    16.06,6,     1.00,6,    3.447,2,    1.442,2,    0.171,2,   23.157,4,    8.008,2,   2154.6,3,   2294.6,2, 19990707,      707
  18HU19990627, AR07W,   107,  1, 214096,     21,2,19990707,0624, 59.9817, -48.8983, 2932,   1248.5,   3.2752,  34.8665,2,  34.8768,2,    290.9,2,   -999.0,9,     9.59,6,    16.06,6,     1.02,6, -999.000,9, -999.000,9, -999.000,9, -999.000,9, -999.000,9,   -999.0,9,   -999.0,9, 19990707,      709
  18HU19990627, AR07W,   107,  1, 214097,     22,2,19990707,0624, 59.9817, -48.8983, 2932,   1180.9,   3.3714,  34.8706,2,  34.8802,2,    290.2,2,    281.6,2,     9.72,6,    15.97,6,     1.00,6,    3.475,2,    1.480,2,    0.186,2,   22.239,4,    7.876,2,   2155.7,3,   2298.0,2, 19990707,      711
  18HU19990627, AR07W,   107,  1, 214098,     23,2,19990707,0624, 59.9817, -48.8983, 2932,   1000.2,   3.5900,  34.8795,2,-999.0000,9,    288.4,2,   -999.0,9,  -999.00,9,  -999.00,9,  -999.00,9, -999.000,9, -999.000,9, -999.000,9, -999.000,9, -999.000,9,   -999.0,9,   -999.0,9, 19990707,      715
  18HU19990627, AR07W,   107,  1, 214099,     24,2,19990707,0624, 59.9817, -48.8983, 2932,    979.8,   3.6093,  34.8803,2,  34.8898,2,    287.6,2,    279.9,2,     9.40,6,    16.14,6,     1.01,6,    3.574,2,    1.526,2,    0.187,2,   22.468,4,    7.577,2,   2159.3,3,   2302.1,2, 19990707,      716
  18HU19990627, AR07W,   109,  1, 214100,      1,2,19990707,1027, 60.0017, -48.8895, 2694,    800.6,   3.8358,  34.8881,2,  34.9034,2,    306.6,2,   -999.0,9,     9.11,6,    16.28,6,     0.99,6,    3.752,2,    1.660,2,    0.200,2,   24.338,4,    8.366,2,   2168.2,3,   2303.6,2, 19990707,     1027
  18HU19990627, AR07W,   109,  1, 214101,      2,2,19990707,1027, 60.0017, -48.8895, 2694,    748.8,   3.9437,  34.8948,2,  34.9040,2,    304.1,2,   -999.0,9,     9.12,6,    16.04,6,     0.97,6, -999.000,9, -999.000,9, -999.000,9, -999.000,9, -999.000,9,   -999.0,9,   -999.0,9, 19990707,     1028
  18HU19990627, AR07W,   109,  1, 214102,      3,2,19990707,1027, 60.0017, -48.8895, 2694,    637.1,   4.1012,  34.9025,2,  34.9185,2,    302.5,2,   -999.0,9,     8.90,6,    15.82,6,     0.99,6,    3.846,2,    1.710,2,    0.186,2,   24.402,4,    7.307,2,   2166.8,3,   2304.0,2, 19990707,     1030
  18HU19990627, AR07W,   109,  1, 214103,      4,2,19990707,1027, 60.0017, -48.8895, 2694,    498.6,   4.3713,  34.9178,2,  34.9292,2,    301.6,2,   -999.0,9,     8.55,6,    15.81,6,     0.97,6,    3.995,2,    1.717,2,    0.213,2,   25.006,4,    7.181,2,   2165.9,3,   2313.5,2, 19990707,     1033
  18HU19990627, AR07W,   109,  1, 214104,      5,2,19990707,1027, 60.0017, -48.8895, 2694,    500.2,   4.3728,  34.9182,2,  34.9270,2,    301.2,2,   -999.0,9,     8.56,6,    15.95,6,     0.96,6, -999.000,9, -999.000,9, -999.000,9, -999.000,9, -999.000,9,   -999.0,9,   -999.0,9, 19990707,     1033
  18HU19990627, AR07W,   109,  1, 214105,      6,2,19990707,1027, 60.0017, -48.8895, 2694,    378.5,   4.5836,  34.9306,2,  34.9402,2,    301.1,2,   -999.0,9,     8.33,6,    15.69,6,     0.94,6,    3.890,2,    1.811,2,    0.233,2,   24.344,4,    6.650,2,   2164.7,3,   2308.2,2, 19990707,     1035
  18HU19990627, AR07W,   109,  1, 214106,      7,2,19990707,1027, 60.0017, -48.8895, 2694,    268.9,   4.9062,  34.9493,2,  34.9577,2,    301.0,2,   -999.0,9,     8.19,6,    15.36,6,     0.95,6,    4.111,2,    1.854,2,    0.238,2,   25.547,4,    6.501,2,   2160.5,3,   2306.4,3, 19990707,     1041
  18HU19990627, AR07W,   109,  1, 214107,      8,2,19990707,1027, 60.0017, -48.8895, 2694,    249.1,   4.9869,  34.9561,2,  34.9646,2,    301.1,2,   -999.0,9,     8.09,6,    15.19,6,     0.93,6, -999.000,9, -999.000,9, -999.000,9, -999.000,9, -999.000,9,   -999.0,9,   -999.0,9, 19990707,     1042
  18HU19990627, AR07W,   109,  1, 214108,      9,2,19990707,1027, 60.0017, -48.8895, 2694,    168.1,   5.2829,  34.9689,2,  34.9850,2,    301.7,2,   -999.0,9,     7.76,6,    15.08,6,     0.92,6,    4.031,6,    2.071,6,    0.248,6,   51.187,4,    6.153,6,   2159.7,3,   2304.0,2, 19990707,     1045
  18HU19990627, AR07W,   109,  1, 214109,     10,2,19990707,1027, 60.0017, -48.8895, 2694,     99.4,   4.8870,  34.8220,2,  34.8359,2,    307.8,2,   -999.0,9,     7.13,6,    13.38,6,     0.86,6,    4.400,2,    2.020,2,    0.252,2,   26.934,4,    6.661,2,   2150.4,3,   2311.6,2, 19990707,     1046
  18HU19990627, AR07W,   109,  1, 214110,     11,2,19990707,1027, 60.0017, -48.8895, 2694,     99.8,   4.8841,  34.8228,2,  34.8239,2,    305.9,2,   -999.0,9,     7.04,6,    13.17,6,     0.87,6, -999.000,9, -999.000,9, -999.000,9, -999.000,9, -999.000,9,   -999.0,9,   -999.0,9, 19990707,     1047
  18HU19990627, AR07W,   109,  1, 214111,     12,2,19990707,1027, 60.0017, -48.8895, 2694,     88.5,   4.5210,  34.7377,2,-999.0000,9,    312.9,2,   -999.0,9,     6.90,6,    12.79,6,     0.87,6, -999.000,9, -999.000,9, -999.000,9, -999.000,9, -999.000,9,   -999.0,9,   -999.0,9, 19990707,     1047
  18HU19990627, AR07W,   109,  1, 214112,     13,2,19990707,1027, 60.0017, -48.8895, 2694,     80.2,   4.4967,  34.6916,2,-999.0000,9,    313.7,2,   -999.0,9,     6.55,6,    12.39,6,     0.85,6, -999.000,9, -999.000,9, -999.000,9, -999.000,9, -999.000,9,   -999.0,9,   -999.0,9, 19990707,     1048
  18HU19990627, AR07W,   109,  1, 214113,     14,2,19990707,1027, 60.0017, -48.8895, 2694,     68.9,   4.2271,  34.6213,2,-999.0000,9,    318.8,2,   -999.0,9,     6.42,6,    11.87,6,     0.80,6, -999.000,9, -999.000,9, -999.000,9, -999.000,9, -999.000,9,   -999.0,9,   -999.0,9, 19990707,     1049
  18HU19990627, AR07W,   109,  1, 214114,     15,2,19990707,1027, 60.0017, -48.8895, 2694,     59.5,   4.2876,  34.6136,2,-999.0000,9,    316.0,2,   -999.0,9,     6.36,6,    11.91,6,     0.81,6, -999.000,9, -999.000,9, -999.000,9, -999.000,9, -999.000,9,   -999.0,9,   -999.0,9, 19990707,     1049
  18HU19990627, AR07W,   109,  1, 214115,     16,2,19990707,1027, 60.0017, -48.8895, 2694,     49.0,   4.3985,  34.4971,2,  34.4977,2,    321.9,2,   -999.0,9,     4.94,6,     9.79,6,     0.74,6,    4.702,2,    2.139,2,    0.274,2,   29.896,4,    6.814,2,   2121.8,3,   2288.0,2, 19990707,     1050
  18HU19990627, AR07W,   109,  1, 214116,     17,2,19990707,1027, 60.0017, -48.8895, 2694,     38.8,   4.9394,  34.3486,2,-999.0000,9,    323.0,2,   -999.0,9,     2.07,6,     6.22,6,     0.57,6, -999.000,9, -999.000,9, -999.000,9, -999.000,9, -999.000,9,   -999.0,9,   -999.0,9, 19990707,     1051
  18HU19990627, AR07W,   109,  1, 214117,     18,2,19990707,1027, 60.0017, -48.8895, 2694,     28.5,   5.2222,  34.2608,2,-999.0000,9,    328.3,2,   -999.0,9,     0.86,6,     4.26,6,     0.43,6, -999.000,9, -999.000,9, -999.000,9, -999.000,9, -999.000,9,   -999.0,9,   -999.0,9, 19990707,     1051
  18HU19990627, AR07W,   109,  1, 214118,     19,2,19990707,1027, 60.0017, -48.8895, 2694,     19.4,   5.2520,  34.2611,2,-999.0000,9,    332.0,2,   -999.0,9,     0.88,6,     4.18,6,     0.44,6, -999.000,9, -999.000,9, -999.000,9, -999.000,9, -999.000,9,   -999.0,9,   -999.0,9, 19990707,     1052
  18HU19990627, AR07W,   109,  1, 214119,     20,2,19990707,1027, 60.0017, -48.8895, 2694,      9.4,   5.2759,  34.2613,2,  34.2725,2,    330.8,2,   -999.0,9,     0.91,6,     4.07,6,     0.43,6,    4.969,2,    2.343,2,    0.306,2,   35.947,4,    6.417,2,   2074.2,3,   2274.1,2, 19990707,     1053
  18HU19990627, AR07W,   109,  1, 214120,     21,2,19990707,1027, 60.0017, -48.8895, 2694,      9.4,   5.2771,  34.2614,2,  34.2691,2,    328.7,2,   -999.0,9,     0.86,6,     4.12,6,     0.43,6,    4.960,2,    2.283,2,    0.302,2,   34.363,4,    5.781,2,   -999.0,9,   -999.0,9, 19990707,     1053
  18HU19990627, AR07W,   109,  1, 214121,     22,2,19990707,1027, 60.0017, -48.8895, 2694,      4.2,   5.2913,  34.2614,2,-999.0000,9,    330.9,2,   -999.0,9,     0.96,6,     4.07,6,     0.43,6,    4.945,2,    2.272,2,    0.315,2,   35.425,4,    5.976,2,   -999.0,9,   -999.0,9, 19990707,     1054
  18HU19990627, AR07W,   111,  1, 214122,      1,2,19990707,1339, 60.2988, -48.5600, 2694,    100.7,   5.5057,  34.9168,2,-999.0000,9,    330.6,2,   -999.0,9,     6.53,6,    12.84,6,     0.87,6, -999.000,9, -999.000,9, -999.000,9, -999.000,9, -999.000,9,   -999.0,9,   -999.0,9, 19990707,     1339
  18HU19990627, AR07W,   111,  1, 214123,      2,2,19990707,1339, 60.2988, -48.5600, 2694,     89.8,   5.4096,  34.7499,2,-999.0000,9,    334.8,2,   -999.0,9,     5.09,6,    10.71,6,     0.81,6, -999.000,9, -999.000,9, -999.000,9, -999.000,9, -999.000,9,   -999.0,9,   -999.0,9, 19990707,     1340
  18HU19990627, AR07W,   111,  1, 214124,      3,2,19990707,1339, 60.2988, -48.5600, 2694,     79.7,   5.2922,  34.6501,2,-999.0000,9,    336.9,2,   -999.0,9,     4.48,6,     9.73,6,     0.77,6, -999.000,9, -999.000,9, -999.000,9, -999.000,9, -999.000,9,   -999.0,9,   -999.0,9, 19990707,     1340
  18HU19990627, AR07W,   111,  1, 214125,      4,2,19990707,1339, 60.2988, -48.5600, 2694,     69.3,   5.0754,  34.4590,2,-999.0000,9,    341.3,2,   -999.0,9,     3.23,6,     8.04,6,     0.69,6, -999.000,9, -999.000,9, -999.000,9, -999.000,9, -999.000,9,   -999.0,9,   -999.0,9, 19990707,     1341
  18HU19990627, AR07W,   111,  1, 214126,      5,2,19990707,1339, 60.2988, -48.5600, 2694,     58.9,   4.9560,  34.3728,2,-999.0000,9,    345.3,2,   -999.0,9,     2.85,6,     7.32,6,     0.66,6, -999.000,9, -999.000,9, -999.000,9, -999.000,9, -999.000,9,   -999.0,9,   -999.0,9, 19990707,     1342
  18HU19990627, AR07W,   111,  1, 214127,      6,2,19990707,1339, 60.2988, -48.5600, 2694,     49.6,   4.9961,  34.3144,2,-999.0000,9,    344.6,2,   -999.0,9,     2.27,6,     6.57,6,     0.62,6, -999.000,9, -999.000,9, -999.000,9, -999.000,9, -999.000,9,   -999.0,9,   -999.0,9, 19990707,     1342
  18HU19990627, AR07W,   111,  1, 214128,      7,2,19990707,1339, 60.2988, -48.5600, 2694,     39.1,   5.1704,  34.2506,2,-999.0000,9,    343.3,2,   -999.0,9,     0.86,6,     4.70,6,     0.49,6, -999.000,9, -999.000,9, -999.000,9, -999.000,9, -999.000,9,   -999.0,9,   -999.0,9, 19990707,     1343
  18HU19990627, AR07W,   111,  1, 214129,      8,2,19990707,1339, 60.2988, -48.5600, 2694,     39.2,   5.0845,  34.2198,2,-999.0000,9,    347.0,2,   -999.0,9,     1.11,2,     4.53,2,     0.59,2, -999.000,9, -999.000,9, -999.000,9, -999.000,9, -999.000,9,   -999.0,9,   -999.0,9, 19990707,     1344
  18HU19990627, AR07W,   111,  1, 214130,      9,2,19990707,1339, 60.2988, -48.5600, 2694,     29.6,   4.5547,  33.9588,2,-999.0000,9,    356.5,2,   -999.0,9,     1.18,6,     4.29,6,     0.50,6, -999.000,9, -999.000,9, -999.000,9, -999.000,9, -999.000,9,   -999.0,9,   -999.0,9, 19990707,     1344
  18HU19990627, AR07W,   111,  1, 214131,     10,2,19990707,1339, 60.2988, -48.5600, 2694,     24.6,   4.2477,  33.6811,2,-999.0000,9,    361.9,2,   -999.0,9,     1.10,6,     3.74,6,     0.47,6, -999.000,9, -999.000,9, -999.000,9, -999.000,9, -999.000,9,   -999.0,9,   -999.0,9, 19990707,     1346
  18HU19990627, AR07W,   111,  1, 214132,     11,2,19990707,1339, 60.2988, -48.5600, 2694,     20.2,   4.1666,  33.5385,2,-999.0000,9,    362.2,2,   -999.0,9,     0.69,6,     2.82,6,     0.41,6, -999.000,9, -999.000,9, -999.000,9, -999.000,9, -999.000,9,   -999.0,9,   -999.0,9, 19990707,     1346
  18HU19990627, AR07W,   111,  1, 214133,     12,2,19990707,1339, 60.2988, -48.5600, 2694,     20.7,   4.1618,  33.5309,2,-999.0000,9,    365.5,2,   -999.0,9,     0.83,2,     2.47,2,     0.45,2, -999.000,9, -999.000,9, -999.000,9, -999.000,9, -999.000,9,   -999.0,9,   -999.0,9, 19990707,     1346
  18HU19990627, AR07W,   111,  1, 214134,     13,2,19990707,1339, 60.2988, -48.5600, 2694,     10.2,   4.1874,  33.4413,2,-999.0000,9,    365.4,2,   -999.0,9,     0.39,6,     1.98,6,     0.36,6, -999.000,9, -999.000,9, -999.000,9, -999.000,9, -999.000,9,   -999.0,9,   -999.0,9, 19990707,     1347
  18HU19990627, AR07W,   111,  1, 214135,     14,2,19990707,1339, 60.2988, -48.5600, 2694,     10.5,   4.1827,  33.4408,2,-999.0000,9,    366.5,2,   -999.0,9,     0.62,2,     1.87,2,     0.43,2, -999.000,9, -999.000,9, -999.000,9, -999.000,9, -999.000,9,   -999.0,9,   -999.0,9, 19990707,     1347
  18HU19990627, AR07W,   111,  1, 214136,     15,2,19990707,1339, 60.2988, -48.5600, 2694,     10.5,   4.1905,  33.4390,2,-999.0000,9,    365.4,2,   -999.0,9,  -999.00,9,  -999.00,9,  -999.00,9, -999.000,9, -999.000,9, -999.000,9, -999.000,9, -999.000,9,   -999.0,9,   -999.0,9, 19990707,     1348
  18HU19990627, AR07W,   111,  1, 214137,     16,2,19990707,1339, 60.2988, -48.5600, 2694,     10.6,   4.1812,  33.4381,2,-999.0000,9,    364.5,2,   -999.0,9,  -999.00,9,  -999.00,9,  -999.00,9, -999.000,9, -999.000,9, -999.000,9, -999.000,9, -999.000,9,   -999.0,9,   -999.0,9, 19990707,     1348
  18HU19990627, AR07W,   111,  1, 214138,     17,2,19990707,1339, 60.2988, -48.5600, 2694,     10.5,   4.1783,  33.4372,2,-999.0000,9,    365.7,2,   -999.0,9,  -999.00,9,  -999.00,9,  -999.00,9, -999.000,9, -999.000,9, -999.000,9, -999.000,9, -999.000,9,   -999.0,9,   -999.0,9, 19990707,     1348
  18HU19990627, AR07W,   111,  1, 214139,     18,2,19990707,1339, 60.2988, -48.5600, 2694,      3.5,   4.1961,  33.4359,2,-999.0000,9,    364.6,2,   -999.0,9,     0.00,6,     1.92,6,     0.36,6, -999.000,9, -999.000,9, -999.000,9, -999.000,9, -999.000,9,   -999.0,9,   -999.0,9, 19990707,     1349