BOTTLE,20120214PRINUNIVRMK
EXPOCODE,SECT_ID,STNNBR,CASTNO,SAMPNO,BTLNBR,BTLNBR_FLAG_W,DATE,TIME,LATITUDE,LONGITUDE,DEPTH,CTDPRS,CTDTMP,CTDSAL,CTDSAL_FLAG_W,SALNTY,SALNTY_FLAG_W,CTDOXY,CTDOXY_FLAG_W,OXYGEN,OXYGEN_FLAG_W,SILCAT,SILCAT_FLAG_W,NITRAT,NITRAT_FLAG_W,PHSPHT,PHSPHT_FLAG_W,CFC-11,CFC-11_FLAG_W,CFC-12,CFC-12_FLAG_W,CFC113,CFC113_FLAG_W,CCL4,CCL4_FLAG_W,MCHFRM,MCHFRM_FLAG_W,TCARBN,TCARBN_FLAG_W,ALKALI,ALKALI_FLAG_W,BTL_DATE,BTL_TIME
,,,,,,,,,,,METERS,DBAR,ITS-90,PSS-78,,PSS-78,,UMOL/KG,,UMOL/KG,,UMOL/KG,,UMOL/KG,,UMOL/KG,,PMOL/KG,,PMOL/KG,,PMOL/KG,,PMOL/KG,,PMOL/KG,,UMOL/KG,,UMOL/KG,,,
  18HU19990627, AR07W,   137,  1, 214341,      1,2,19990709,1515, 57.8207, -51.3468, 3552,    199.9,   3.8255,  34.7995,2,  34.8088,2,    337.4,2,   -999.0,9,     8.15,6,    14.83,6,     0.97,6,    4.420,2,    2.752,2,    0.379,2,   86.629,4,    6.969,2,   2123.4,3,   2314.2,2, 19990709,     1515
  18HU19990627, AR07W,   137,  1, 214342,      2,2,19990709,1515, 57.8207, -51.3468, 3552,    139.8,   3.6906,  34.7240,2,  34.7355,2,    340.2,2,   -999.0,9,     7.81,6,    14.21,6,     0.95,6,    4.710,2,    2.706,2,    0.498,2,   77.301,4,    6.978,2,   2118.7,3,   2292.7,2, 19990709,     1517
  18HU19990627, AR07W,   137,  1, 214343,      3,2,19990709,1515, 57.8207, -51.3468, 3552,    101.0,   4.1543,  34.6652,2,  34.6767,2,    346.4,2,   -999.0,9,     5.42,6,    10.56,6,     0.86,6,    5.142,2,    2.990,2,    0.421,2,   83.359,4,    6.570,2,   2104.3,3,   2303.3,2, 19990709,     1519
  18HU19990627, AR07W,   137,  1, 214344,      4,2,19990709,1515, 57.8207, -51.3468, 3552,    100.1,   4.1590,  34.6654,2,-999.0000,9,    345.6,2,   -999.0,9,     5.34,6,    10.49,6,     0.82,6, -999.000,9, -999.000,9, -999.000,9, -999.000,9, -999.000,9,   -999.0,9,   -999.0,9, 19990709,     1519
  18HU19990627, AR07W,   137,  1, 214345,      5,2,19990709,1515, 57.8207, -51.3468, 3552,     89.6,   4.2820,  34.6574,2,-999.0000,9,    345.3,2,   -999.0,9,     4.11,6,     9.46,6,     0.76,6, -999.000,9, -999.000,9, -999.000,9, -999.000,9, -999.000,9,   -999.0,9,   -999.0,9, 19990709,     1520
  18HU19990627, AR07W,   137,  1, 214346,      6,2,19990709,1515, 57.8207, -51.3468, 3552,     80.3,   4.3280,  34.6498,2,-999.0000,9,    346.4,2,   -999.0,9,     3.45,6,     8.99,6,     0.73,6, -999.000,9, -999.000,9, -999.000,9, -999.000,9, -999.000,9,   -999.0,9,   -999.0,9, 19990709,     1520
  18HU19990627, AR07W,   137,  1, 214347,      7,2,19990709,1515, 57.8207, -51.3468, 3552,     70.4,   4.4188,  34.6400,2,  34.6494,2,    345.7,2,   -999.0,9,     3.02,6,     8.54,6,     0.70,6,    4.979,2,    3.253,2,    0.426,2,   85.872,4,    6.668,2,   2095.2,3,   2299.3,2, 19990709,     1521
  18HU19990627, AR07W,   137,  1, 214348,      8,2,19990709,1515, 57.8207, -51.3468, 3552,     69.7,   4.4148,  34.6411,2,-999.0000,9,    345.1,2,   -999.0,9,     2.98,6,     8.64,6,     0.71,6, -999.000,9, -999.000,9, -999.000,9, -999.000,9, -999.000,9,   -999.0,9,   -999.0,9, 19990709,     1521
  18HU19990627, AR07W,   137,  1, 214349,      9,2,19990709,1515, 57.8207, -51.3468, 3552,     59.5,   5.0881,  34.5811,2,-999.0000,9,    340.7,2,   -999.0,9,     1.96,6,     7.76,6,     0.62,6, -999.000,9, -999.000,9, -999.000,9, -999.000,9, -999.000,9,   -999.0,9,   -999.0,9, 19990709,     1522
  18HU19990627, AR07W,   137,  1, 214350,     10,2,19990709,1515, 57.8207, -51.3468, 3552,     49.7,   5.4073,  34.5609,2,-999.0000,9,    337.2,2,   -999.0,9,     1.58,6,     7.21,6,     0.55,6, -999.000,9, -999.000,9, -999.000,9, -999.000,9, -999.000,9,   -999.0,9,   -999.0,9, 19990709,     1523
  18HU19990627, AR07W,   137,  1, 214351,     11,2,19990709,1515, 57.8207, -51.3468, 3552,     39.4,   5.5486,  34.5570,2,  34.5663,2,    338.4,2,   -999.0,9,     1.46,6,     7.22,6,     0.54,6,    4.806,2,    2.875,2,    0.355,2,   83.475,4,    6.358,2,   2079.1,3,   2286.3,2, 19990709,     1523
  18HU19990627, AR07W,   137,  1, 214352,     12,2,19990709,1515, 57.8207, -51.3468, 3552,     40.2,   5.5395,  34.5573,2,-999.0000,9,    336.9,2,   -999.0,9,  -999.00,9,  -999.00,9,  -999.00,9, -999.000,9, -999.000,9, -999.000,9, -999.000,9, -999.000,9,   -999.0,9,   -999.0,9, 19990709,     1524
  18HU19990627, AR07W,   137,  1, 214353,     13,2,19990709,1515, 57.8207, -51.3468, 3552,     40.0,   5.5554,  34.5587,2,-999.0000,9,    337.2,2,   -999.0,9,     1.55,2,     6.55,2,     0.61,2, -999.000,9, -999.000,9, -999.000,9, -999.000,9, -999.000,9,   -999.0,9,   -999.0,9, 19990709,     1524
  18HU19990627, AR07W,   137,  1, 214354,     14,2,19990709,1515, 57.8207, -51.3468, 3552,     29.2,   5.7622,  34.5699,2,-999.0000,9,    338.5,2,   -999.0,9,     0.90,6,     6.65,6,     0.50,6, -999.000,9, -999.000,9, -999.000,9, -999.000,9, -999.000,9,   -999.0,9,   -999.0,9, 19990709,     1524
  18HU19990627, AR07W,   137,  1, 214355,     15,2,19990709,1515, 57.8207, -51.3468, 3552,     29.8,   5.7581,  34.5711,2,-999.0000,9,    337.8,2,   -999.0,9,     1.03,2,     6.35,2,     0.57,2, -999.000,9, -999.000,9, -999.000,9, -999.000,9, -999.000,9,   -999.0,9,   -999.0,9, 19990709,     1525
  18HU19990627, AR07W,   137,  1, 214356,     16,2,19990709,1515, 57.8207, -51.3468, 3552,     20.0,   5.8309,  34.5605,2,-999.0000,9,    339.3,2,   -999.0,9,     0.89,6,     6.32,6,     0.47,6, -999.000,9, -999.000,9, -999.000,9, -999.000,9, -999.000,9,   -999.0,9,   -999.0,9, 19990709,     1525
  18HU19990627, AR07W,   137,  1, 214357,     17,2,19990709,1515, 57.8207, -51.3468, 3552,      9.7,   5.9699,  34.5610,2,  34.5700,2,    338.5,2,   -999.0,9,     0.87,6,     6.30,6,     0.47,6,    4.462,2,    2.666,2,    0.667,3,   76.942,4,    6.301,2,   1974.3,3,   2291.0,2, 19990709,     1526
  18HU19990627, AR07W,   137,  1, 214358,     18,2,19990709,1515, 57.8207, -51.3468, 3552,      9.8,   5.9663,  34.5614,2,-999.0000,9,    339.3,2,   -999.0,9,  -999.00,9,  -999.00,9,  -999.00,9, -999.000,9, -999.000,9, -999.000,9, -999.000,9, -999.000,9,   -999.0,9,   -999.0,9, 19990709,     1526
  18HU19990627, AR07W,   137,  1, 214359,     19,2,19990709,1515, 57.8207, -51.3468, 3552,      9.8,   5.9634,  34.5615,2,-999.0000,9,    339.2,2,   -999.0,9,     1.07,2,     6.33,2,     0.58,2, -999.000,9, -999.000,9, -999.000,9, -999.000,9, -999.000,9,   -999.0,9,   -999.0,9, 19990709,     1526
  18HU19990627, AR07W,   137,  1, 214360,     20,2,19990709,1515, 57.8207, -51.3468, 3552,      9.6,   5.9629,  34.5615,2,-999.0000,9,    337.1,2,   -999.0,9,  -999.00,9,  -999.00,9,  -999.00,9, -999.000,9, -999.000,9, -999.000,9, -999.000,9, -999.000,9,   -999.0,9,   -999.0,9, 19990709,     1527
  18HU19990627, AR07W,   137,  1, 214361,     21,2,19990709,1515, 57.8207, -51.3468, 3552,      9.7,   5.9576,  34.5616,2,-999.0000,9,    339.9,2,   -999.0,9,  -999.00,9,  -999.00,9,  -999.00,9, -999.000,9, -999.000,9, -999.000,9, -999.000,9, -999.000,9,   -999.0,9,   -999.0,9, 19990709,     1527
  18HU19990627, AR07W,   137,  1, 214362,     22,2,19990709,1515, 57.8207, -51.3468, 3552,      9.7,   5.9550,  34.5615,2,-999.0000,9,    336.8,2,   -999.0,9,  -999.00,9,  -999.00,9,  -999.00,9, -999.000,9, -999.000,9, -999.000,9, -999.000,9, -999.000,9,   -999.0,9,   -999.0,9, 19990709,     1527
  18HU19990627, AR07W,   137,  1, 214363,     23,2,19990709,1515, 57.8207, -51.3468, 3552,      4.5,   6.0485,  34.5612,2,-999.0000,9,    337.0,2,   -999.0,9,     0.92,6,     6.34,6,     0.47,6, -999.000,9, -999.000,9, -999.000,9, -999.000,9, -999.000,9,   -999.0,9,   -999.0,9, 19990709,     1528
  18HU19990627, AR07W,   138,  1, 214364,      1,2,19990709,1739, 57.7983, -51.3367, 3463,   3680.1,   1.6428,  34.8627,2,  34.8741,2,    311.5,2,    294.1,2,    10.20,6,    13.98,6,     0.88,6,    3.280,2,    1.982,2,    0.253,2,   47.748,4,    7.769,2,   2125.8,3,   2300.9,2, 19990709,     1739
  18HU19990627, AR07W,   138,  1, 214365,      2,2,19990709,1739, 57.7983, -51.3367, 3463,   3600.4,   1.6532,  34.8631,2,  34.8745,2,    309.0,2,    294.9,2,    10.27,6,    14.28,6,     0.88,6,    3.311,2,    1.950,2,    0.203,4,   47.606,4,    7.882,2,   2155.0,3,   2295.9,2, 19990709,     1741
  18HU19990627, AR07W,   138,  1, 214366,      3,2,19990709,1739, 57.7983, -51.3367, 3463,   3511.0,   1.7333,  34.8649,2,  34.8778,2,    307.2,2,    295.5,2,    10.30,6,    14.15,6,     0.90,6,    3.266,2,    2.072,2,    0.249,2,   47.299,4,    7.761,2,   2161.2,3,   2313.6,3, 19990709,     1743
  18HU19990627, AR07W,   138,  1, 214367,      4,2,19990709,1739, 57.7983, -51.3367, 3463,   3399.8,   1.9893,  34.8716,2,  34.8831,2,    301.8,2,    292.6,2,    10.89,6,    14.63,6,     0.92,6,    2.991,2,    1.740,2,    0.225,2,   43.896,4,    7.289,2,   2160.1,3,   2293.4,2, 19990709,     1745
  18HU19990627, AR07W,   138,  1, 214368,      5,2,19990709,1739, 57.7983, -51.3367, 3463,   3269.5,   2.2792,  34.8823,2,  34.8934,2,    295.8,2,    286.7,2,    12.11,6,    15.08,6,     0.94,6,    2.592,2,    3.125,2,    0.108,2,   38.228,4,    6.388,2,   2158.3,3,   2298.7,2, 19990709,     1748
  18HU19990627, AR07W,   138,  1, 214369,      6,2,19990709,1739, 57.7983, -51.3367, 3463,   3111.9,   2.5550,  34.8911,2,  34.9030,2,    290.3,2,    283.3,2,    12.22,6,    15.46,6,     0.96,6,    2.267,2,    1.310,2,    0.153,2,   34.710,4,    5.762,2,   2155.4,3,   2298.5,2, 19990709,     1751
  18HU19990627, AR07W,   138,  1, 214370,      7,2,19990709,1739, 57.7983, -51.3367, 3463,   2930.2,   2.7442,  34.8958,2,  34.9071,2,    287.5,2,    282.1,2,    12.05,6,    15.75,6,     0.98,6,    2.113,6,    1.147,2,    0.097,6,   26.708,4,    5.519,6,   2160.5,3,   2296.6,2, 19990709,     1754
  18HU19990627, AR07W,   138,  1, 214371,      8,2,19990709,1739, 57.7983, -51.3367, 3463,   2740.3,   2.9648,  34.9011,2,  34.9136,6,    285.3,2,    279.9,2,    12.41,6,    16.10,6,     1.01,6,    2.063,2,    1.268,2,    0.135,2,   31.326,4,    5.415,2,   2161.5,3,   2288.2,2, 19990709,     1757
  18HU19990627, AR07W,   138,  1, 214372,      9,2,19990709,1739, 57.7983, -51.3367, 3463,   2539.6,   3.0519,  34.8815,2,  34.8938,2,    289.6,2,    291.3,2,    11.05,6,    16.06,6,     1.02,6,    2.408,2,    1.742,4,    0.682,4,   38.175,4,    6.917,2,   2160.9,3,   2304.6,2, 19990709,     1801
  18HU19990627, AR07W,   138,  1, 214373,     10,2,19990709,1739, 57.7983, -51.3367, 3463,   2340.9,   3.0378,  34.8617,2,  34.8727,2,    294.2,2,    289.5,2,    10.23,6,    16.36,6,     1.00,6,    3.049,2,    1.689,2,    0.212,2,   47.053,4,    8.182,2,   2160.5,3,   2296.0,2, 19990709,     1804
  18HU19990627, AR07W,   138,  1, 214374,     11,2,19990709,1739, 57.7983, -51.3367, 3463,   2139.6,   3.0052,  34.8450,2,  34.8560,2,    298.8,2,    294.5,2,     9.97,6,    16.51,6,     1.02,6,    3.546,2,    2.794,4,    0.311,4,   55.742,4,    9.633,2,   2159.5,3,   -999.0,9, 19990709,     1808
  18HU19990627, AR07W,   138,  1, 214375,     12,2,19990709,1739, 57.7983, -51.3367, 3463,   1938.9,   3.0568,  34.8473,2,  34.8589,2,    297.5,2,    292.8,2,     9.88,6,    16.53,6,     1.03,6,    3.492,2,    2.947,2,    0.324,3,   54.603,4,    9.587,2,   2161.1,3,   2301.4,2, 19990709,     1811
  18HU19990627, AR07W,   138,  1, 214376,     13,2,19990709,1739, 57.7983, -51.3367, 3463,   1738.9,   3.1098,  34.8473,2,  34.8599,2,    295.0,2,    291.6,6,     9.90,6,    16.65,6,     1.03,6,    3.484,2,    3.108,4,    0.402,3,   53.798,4,    9.550,2,   2160.9,3,   2295.3,2, 19990709,     1814
  18HU19990627, AR07W,   138,  1, 214377,     14,2,19990709,1739, 57.7983, -51.3367, 3463,   1539.6,   3.2119,  34.8523,2,  34.8627,2,    291.9,2,    291.5,2,    10.05,6,    16.62,6,     1.03,6,    3.334,2,    3.417,4,    0.508,3,   51.154,4,    9.056,2,   2162.9,3,   2308.9,2, 19990709,     1818
  18HU19990627, AR07W,   138,  1, 214378,     15,2,19990709,1739, 57.7983, -51.3367, 3463,   1360.6,   3.2830,  34.8504,2,  34.8605,2,    291.4,2,    288.7,2,     9.88,6,    16.40,6,     1.02,6,    3.721,2,    2.375,4,    0.291,2,   54.935,4,    8.871,2,   2162.0,3,   2309.0,2, 19990709,     1821
  18HU19990627, AR07W,   138,  1, 214379,     16,2,19990709,1739, 57.7983, -51.3367, 3463,   1190.3,   3.3091,  34.8429,2,  34.8530,2,    292.9,2,    290.1,2,     9.55,6,    16.28,6,     1.02,6,    3.871,2,    2.266,4,    0.296,4,   57.309,4,    8.686,2,   2161.5,3,   2308.9,2, 19990709,     1824
  18HU19990627, AR07W,   138,  1, 214380,     17,2,19990709,1739, 57.7983, -51.3367, 3463,   1028.7,   3.3087,  34.8336,2,  34.8444,2,    295.7,2,    293.1,2,     9.13,6,    15.94,6,     0.99,6,    4.127,2,    2.535,2,    0.348,2,   60.845,4,    8.437,2,   2159.9,3,   2303.0,3, 19990709,     1827
  18HU19990627, AR07W,   138,  1, 214381,     18,2,19990709,1739, 57.7983, -51.3367, 3463,    879.1,   3.3636,  34.8311,2,  34.8412,2,    296.3,2,    293.3,2,     8.92,6,    16.08,6,     1.01,6,    4.152,2,    2.945,2,    0.331,2,   62.308,4,    8.366,2,   2160.0,3,   2298.1,2, 19990709,     1829
  18HU19990627, AR07W,   138,  1, 214382,     19,2,19990709,1739, 57.7983, -51.3367, 3463,    749.5,   3.3402,  34.8196,2,  34.8292,2,    301.6,2,    296.0,2,     8.60,6,    15.88,6,     0.99,6,    4.396,2,    3.113,2,    0.361,2,   67.357,4,    8.031,2,   2160.4,3,   2296.6,2, 19990709,     1832
  18HU19990627, AR07W,   138,  1, 214383,     20,2,19990709,1739, 57.7983, -51.3367, 3463,    618.1,   3.3594,  34.8147,2,  33.2346,4,    304.6,2,    300.5,2,     8.36,6,    15.56,6,     0.98,6,    4.565,2,    3.044,2,    0.360,2,   69.407,4,    7.748,2,   2158.1,3,   2295.6,2, 19990709,     1834
  18HU19990627, AR07W,   138,  1, 214384,     21,2,19990709,1739, 57.7983, -51.3367, 3463,    510.9,   3.4047,  34.8125,2,  34.8229,2,    304.7,2,    300.0,2,     8.26,6,    15.45,6,     0.98,6,    4.649,2,    3.189,2,    0.341,2,   70.176,4,    7.681,2,   2157.3,3,   2308.4,2, 19990709,     1836
  18HU19990627, AR07W,   138,  1, 214385,     22,2,19990709,1739, 57.7983, -51.3367, 3463,    429.2,   3.2968,  34.7912,2,  34.8017,2,    307.5,2,    303.8,2,     8.07,6,    15.33,6,     0.97,6,    4.718,2,    3.419,2,    0.380,2,   74.214,4,    7.526,2,   2157.3,3,   2298.9,2, 19990709,     1838
  18HU19990627, AR07W,   138,  1, 214386,     23,2,19990709,1739, 57.7983, -51.3367, 3463,    350.0,   3.2469,  34.7766,2,  34.7860,2,    310.2,2,    305.8,2,     8.15,6,    15.15,6,     0.97,6,    4.746,2,    3.104,4,    0.380,2,   74.852,4,    7.248,2,   2158.5,3,   2304.8,2, 19990709,     1840
  18HU19990627, AR07W,   138,  1, 214387,     24,2,19990709,1739, 57.7983, -51.3367, 3463,    269.1,   3.4244,  34.7846,2,  34.7940,2,    306.8,2,    299.6,2,     8.23,6,    15.18,6,     0.98,6,    4.653,2,    2.684,4,    0.385,2,   70.293,4,    7.196,2,   2156.6,3,   2293.6,2, 19990709,     1841