BOTTLE,20120214PRINUNIVRMK
EXPOCODE,SECT_ID,STNNBR,CASTNO,SAMPNO,BTLNBR,BTLNBR_FLAG_W,DATE,TIME,LATITUDE,LONGITUDE,DEPTH,CTDPRS,CTDTMP,CTDSAL,CTDSAL_FLAG_W,SALNTY,SALNTY_FLAG_W,CTDOXY,CTDOXY_FLAG_W,OXYGEN,OXYGEN_FLAG_W,SILCAT,SILCAT_FLAG_W,NITRAT,NITRAT_FLAG_W,PHSPHT,PHSPHT_FLAG_W,CFC-11,CFC-11_FLAG_W,CFC-12,CFC-12_FLAG_W,CFC113,CFC113_FLAG_W,CCL4,CCL4_FLAG_W,MCHFRM,MCHFRM_FLAG_W,TCARBN,TCARBN_FLAG_W,ALKALI,ALKALI_FLAG_W,BTL_DATE,BTL_TIME
,,,,,,,,,,,METERS,DBAR,ITS-90,PSS-78,,PSS-78,,UMOL/KG,,UMOL/KG,,UMOL/KG,,UMOL/KG,,UMOL/KG,,PMOL/KG,,PMOL/KG,,PMOL/KG,,PMOL/KG,,PMOL/KG,,UMOL/KG,,UMOL/KG,,,
  18HU19990627, AR07W,    56,  1, 213705,      1,2,19990702,0913, 55.2648, -53.9797, 2012,    250.0,   3.8556,  34.7998,2,-999.0000,9,    332.0,2,   -999.0,9,     8.01,6,    14.88,6,     0.93,6, -999.000,9, -999.000,9, -999.000,9, -999.000,9, -999.000,9,   -999.0,9,   -999.0,9, 19990702,      913
  18HU19990627, AR07W,    56,  1, 213706,      2,2,19990702,0913, 55.2648, -53.9797, 2012,    199.1,   3.9052,  34.7833,2,-999.0000,9,    329.1,2,   -999.0,9,     7.65,6,    14.56,6,     0.92,6, -999.000,9, -999.000,9, -999.000,9, -999.000,9, -999.000,9,   -999.0,9,   -999.0,9, 19990702,      915
  18HU19990627, AR07W,    56,  1, 213707,      3,2,19990702,0913, 55.2648, -53.9797, 2012,    173.3,   3.9517,  34.7781,2,-999.0000,9,    328.8,2,   -999.0,9,     7.50,6,    14.39,6,     0.92,6, -999.000,9, -999.000,9, -999.000,9, -999.000,9, -999.000,9,   -999.0,9,   -999.0,9, 19990702,      916
  18HU19990627, AR07W,    56,  1, 213708,      4,2,19990702,0913, 55.2648, -53.9797, 2012,    149.2,   3.9623,  34.7734,2,-999.0000,9,    326.9,2,   -999.0,9,     7.44,6,    14.58,6,     0.93,6, -999.000,9, -999.000,9, -999.000,9, -999.000,9, -999.000,9,   -999.0,9,   -999.0,9, 19990702,      917
  18HU19990627, AR07W,    56,  1, 213709,      5,2,19990702,0913, 55.2648, -53.9797, 2012,    124.3,   3.9772,  34.7607,2,-999.0000,9,    323.5,2,   -999.0,9,     7.40,6,    14.54,6,     0.91,6, -999.000,9, -999.000,9, -999.000,9, -999.000,9, -999.000,9,   -999.0,9,   -999.0,9, 19990702,      919
  18HU19990627, AR07W,    56,  1, 213710,      6,2,19990702,0913, 55.2648, -53.9797, 2012,     98.6,   3.8785,  34.7365,2,-999.0000,9,    325.8,2,   -999.0,9,     7.31,6,    14.40,6,     0.93,6, -999.000,9, -999.000,9, -999.000,9, -999.000,9, -999.000,9,   -999.0,9,   -999.0,9, 19990702,      920
  18HU19990627, AR07W,    56,  1, 213711,      7,2,19990702,0913, 55.2648, -53.9797, 2012,     89.1,   3.8069,  34.7249,2,-999.0000,9,    325.4,2,   -999.0,9,     7.06,6,    14.23,6,     0.93,6, -999.000,9, -999.000,9, -999.000,9, -999.000,9, -999.000,9,   -999.0,9,   -999.0,9, 19990702,      921
  18HU19990627, AR07W,    56,  1, 213712,      8,2,19990702,0913, 55.2648, -53.9797, 2012,     79.8,   3.8427,  34.7267,2,-999.0000,9,    326.0,2,   -999.0,9,     6.99,6,    14.11,6,     0.93,6, -999.000,9, -999.000,9, -999.000,9, -999.000,9, -999.000,9,   -999.0,9,   -999.0,9, 19990702,      921
  18HU19990627, AR07W,    56,  1, 213713,      9,2,19990702,0913, 55.2648, -53.9797, 2012,     69.4,   3.7927,  34.7081,2,-999.0000,9,    325.3,2,   -999.0,9,     6.60,6,    13.67,6,     0.91,6, -999.000,9, -999.000,9, -999.000,9, -999.000,9, -999.000,9,   -999.0,9,   -999.0,9, 19990702,      922
  18HU19990627, AR07W,    56,  1, 213714,     10,2,19990702,0913, 55.2648, -53.9797, 2012,     58.6,   3.8348,  34.6973,2,-999.0000,9,    324.7,2,   -999.0,9,     6.23,6,    13.23,6,     0.89,6, -999.000,9, -999.000,9, -999.000,9, -999.000,9, -999.000,9,   -999.0,9,   -999.0,9, 19990702,      923
  18HU19990627, AR07W,    56,  1, 213715,     11,2,19990702,0913, 55.2648, -53.9797, 2012,     48.2,   3.8594,  34.6924,2,-999.0000,9,    325.4,2,   -999.0,9,     6.28,6,    12.97,6,     0.93,6, -999.000,9, -999.000,9, -999.000,9, -999.000,9, -999.000,9,   -999.0,9,   -999.0,9, 19990702,      923
  18HU19990627, AR07W,    56,  1, 213716,     12,2,19990702,0913, 55.2648, -53.9797, 2012,     39.8,   4.1094,  34.6164,2,-999.0000,9,    339.0,2,   -999.0,9,     4.26,6,     9.78,6,     0.74,6, -999.000,9, -999.000,9, -999.000,9, -999.000,9, -999.000,9,   -999.0,9,   -999.0,9, 19990702,      924
  18HU19990627, AR07W,    56,  1, 213717,     13,2,19990702,0913, 55.2648, -53.9797, 2012,     29.6,   4.5273,  34.5568,2,-999.0000,9,    341.9,2,   -999.0,9,     2.67,6,     7.00,6,     0.59,6, -999.000,9, -999.000,9, -999.000,9, -999.000,9, -999.000,9,   -999.0,9,   -999.0,9, 19990702,      925
  18HU19990627, AR07W,    56,  1, 213718,     14,2,19990702,0913, 55.2648, -53.9797, 2012,     29.6,   4.6367,  34.5463,2,-999.0000,9,    344.9,2,   -999.0,9,     2.54,2,     6.95,2,     0.63,2, -999.000,9, -999.000,9, -999.000,9, -999.000,9, -999.000,9,   -999.0,9,   -999.0,9, 19990702,      925
  18HU19990627, AR07W,    56,  1, 213719,     15,2,19990702,0913, 55.2648, -53.9797, 2012,     24.3,   4.7211,  34.5340,2,-999.0000,9,    347.0,2,   -999.0,9,     2.59,6,     6.61,6,     0.56,6, -999.000,9, -999.000,9, -999.000,9, -999.000,9, -999.000,9,   -999.0,9,   -999.0,9, 19990702,      926
  18HU19990627, AR07W,    56,  1, 213720,     16,2,19990702,0913, 55.2648, -53.9797, 2012,     19.3,   5.4673,  34.5168,2,-999.0000,9,    343.6,2,   -999.0,9,     2.51,6,     5.02,6,     0.47,6, -999.000,9, -999.000,9, -999.000,9, -999.000,9, -999.000,9,   -999.0,9,   -999.0,9, 19990702,      926
  18HU19990627, AR07W,    56,  1, 213721,     17,2,19990702,0913, 55.2648, -53.9797, 2012,     19.4,   5.8743,  34.4898,2,-999.0000,9,    342.8,2,   -999.0,9,     1.77,2,     3.68,2,     0.44,2, -999.000,9, -999.000,9, -999.000,9, -999.000,9, -999.000,9,   -999.0,9,   -999.0,9, 19990702,      927
  18HU19990627, AR07W,    56,  1, 213722,     18,2,19990702,0913, 55.2648, -53.9797, 2012,     11.0,   6.1586,  34.4764,2,-999.0000,9,    340.8,2,   -999.0,9,     1.99,6,     4.57,6,     0.46,6, -999.000,9, -999.000,9, -999.000,9, -999.000,9, -999.000,9,   -999.0,9,   -999.0,9, 19990702,      927
  18HU19990627, AR07W,    56,  1, 213723,     19,2,19990702,0913, 55.2648, -53.9797, 2012,     11.3,   6.1709,  34.4742,2,-999.0000,9,    342.5,2,   -999.0,9,     1.94,2,     4.43,2,     0.48,2, -999.000,9, -999.000,9, -999.000,9, -999.000,9, -999.000,9,   -999.0,9,   -999.0,9, 19990702,      928
  18HU19990627, AR07W,    56,  1, 213724,     20,2,19990702,0913, 55.2648, -53.9797, 2012,     10.9,   6.1725,  34.4727,2,-999.0000,9,    343.4,2,   -999.0,9,  -999.00,9,  -999.00,9,  -999.00,9, -999.000,9, -999.000,9, -999.000,9, -999.000,9, -999.000,9,   -999.0,9,   -999.0,9, 19990702,      928
  18HU19990627, AR07W,    56,  1, 213725,     21,2,19990702,0913, 55.2648, -53.9797, 2012,     10.8,   6.1729,  34.4732,2,-999.0000,9,    342.6,2,   -999.0,9,  -999.00,9,  -999.00,9,  -999.00,9, -999.000,9, -999.000,9, -999.000,9, -999.000,9, -999.000,9,   -999.0,9,   -999.0,9, 19990702,      928
  18HU19990627, AR07W,    56,  1, 213726,     22,2,19990702,0913, 55.2648, -53.9797, 2012,     10.9,   6.1724,  34.4738,2,-999.0000,9,    340.8,2,   -999.0,9,  -999.00,9,  -999.00,9,  -999.00,9, -999.000,9, -999.000,9, -999.000,9, -999.000,9, -999.000,9,   -999.0,9,   -999.0,9, 19990702,      928
  18HU19990627, AR07W,    56,  1, 213727,     23,2,19990702,0913, 55.2648, -53.9797, 2012,     10.9,   6.1647,  34.4755,2,-999.0000,9,    340.9,2,   -999.0,9,  -999.00,9,  -999.00,9,  -999.00,9, -999.000,9, -999.000,9, -999.000,9, -999.000,9, -999.000,9,   -999.0,9,   -999.0,9, 19990702,      928
  18HU19990627, AR07W,    56,  1, 213728,     24,2,19990702,0913, 55.2648, -53.9797, 2012,      3.1,   6.1788,  34.4713,2,-999.0000,9,    343.3,2,   -999.0,9,     1.94,6,     4.50,6,     0.45,6, -999.000,9, -999.000,9, -999.000,9, -999.000,9, -999.000,9,   -999.0,9,   -999.0,9, 19990702,      929
  18HU19990627, AR07W,    61,  1, 213729,      1,2,19990702,1948, 55.2648, -53.9843, 2017,   2064.1,   2.8686,  34.8781,2,  34.8879,2,    310.7,2,    281.5,2,    11.07,6,    16.00,6,     1.01,6,    2.596,2,    1.634,2,    0.161,2,   52.400,4,    6.804,2,   2165.9,2,   2312.6,2, 19990702,     1948
  18HU19990627, AR07W,    61,  1, 213730,      2,2,19990702,1948, 55.2648, -53.9843, 2017,   1970.2,   2.9540,  34.8714,2,  34.8814,2,    310.4,2,    283.9,2,    10.73,6,    16.48,6,     1.03,6,    2.952,2,    1.579,2,    0.188,2,   56.425,4,    7.358,2,   2166.6,2,   2299.8,2, 19990702,     1953
  18HU19990627, AR07W,    61,  1, 213731,      3,2,19990702,1948, 55.2648, -53.9843, 2017,   1899.6,   2.9750,  34.8667,2,  34.8777,2,    309.9,2,    285.5,2,    10.55,6,    16.20,6,     1.03,6,    2.994,2,    1.637,2,    0.189,2,   58.425,4,    7.585,2,   2166.3,2,   2289.6,2, 19990702,     1957
  18HU19990627, AR07W,    61,  1, 213732,      4,2,19990702,1948, 55.2648, -53.9843, 2017,   1806.8,   2.9916,  34.8560,2,  34.8657,2,    311.5,2,    288.2,2,    10.34,6,    16.60,6,     1.08,6,    3.345,2,    1.783,2,    0.217,2,   62.830,4,    8.453,2,   2166.0,2,   2301.2,2, 19990702,     2004
  18HU19990627, AR07W,    61,  1, 213733,      5,2,19990702,1948, 55.2648, -53.9843, 2017,   1690.9,   3.0013,  34.8486,2,  34.8576,2,    312.9,2,    289.7,2,    10.28,6,    16.79,6,     1.05,6,    3.504,2,    1.884,2,    0.237,2,   67.248,4,    8.936,2,   2163.1,2,   2287.8,2, 19990702,     2009
  18HU19990627, AR07W,    61,  1, 213734,      6,2,19990702,1948, 55.2648, -53.9843, 2017,   1545.4,   3.0571,  34.8510,2,  34.8608,2,    310.2,2,    288.8,6,    10.34,6,    16.58,6,     1.04,6,    3.290,2,    1.955,2,    0.240,2,   66.065,4,    8.736,2,   2164.3,2,   2310.4,2, 19990702,     2014
  18HU19990627, AR07W,    61,  1, 213735,      7,2,19990702,1948, 55.2648, -53.9843, 2017,   1393.8,   3.1582,  34.8559,2,  34.8645,2,    306.1,2,    286.3,2,    10.33,6,    16.41,6,     1.06,6,    3.352,2,    1.823,2,    0.244,2,   65.065,4,    8.622,2,   2164.5,2,   2288.5,2, 19990702,     2020
  18HU19990627, AR07W,    61,  1, 213736,      8,2,19990702,1948, 55.2648, -53.9843, 2017,   1210.8,   3.3238,  34.8571,2,  34.8651,2,    303.3,2,    285.1,2,     9.98,6,    16.66,6,     1.07,6,    3.464,2,    2.038,2,    0.246,2,   67.192,4,    8.248,2,   2162.3,2,   2297.3,3, 19990702,     2026
  18HU19990627, AR07W,    61,  1, 213737,      9,2,19990702,1948, 55.2648, -53.9843, 2017,   1029.2,   3.3543,  34.8419,2,  34.8519,2,    307.0,2,    289.1,2,     9.43,6,    16.31,6,     1.04,6,    3.756,2,    2.305,2,    0.294,2,   73.421,4,    7.820,2,   2163.5,2,   2286.0,2, 19990702,     2032
  18HU19990627, AR07W,    61,  1, 213738,     10,2,19990702,1948, 55.2648, -53.9843, 2017,    848.2,   3.3955,  34.8319,2,  34.8397,2,    309.4,2,    292.6,2,     8.87,6,    15.73,6,     1.03,6,    4.114,2,    2.398,2,    0.319,2,   78.706,4,    7.583,2,   2161.5,2,   2290.6,2, 19990702,     2038
  18HU19990627, AR07W,    61,  1, 213739,     11,2,19990702,1948, 55.2648, -53.9843, 2017,    669.5,   3.5199,  34.8302,2,  34.8387,2,    309.7,2,    292.7,2,     8.66,6,    15.52,6,     1.00,6,    4.185,2,    2.503,2,    0.311,2,   80.399,4,    7.273,2,   2162.0,2,   2287.6,2, 19990702,     2043
  18HU19990627, AR07W,    61,  1, 213740,     12,2,19990702,1948, 55.2648, -53.9843, 2017,    508.0,   3.6221,  34.8261,2,  34.8346,2,    307.5,2,    290.8,2,     8.45,6,    15.23,6,     1.00,6,    4.136,2,    2.478,2,    0.297,2,   78.258,4,    6.983,2,   2158.4,2,   2296.6,2, 19990702,     2049
  18HU19990627, AR07W,    61,  1, 213741,     13,2,19990702,1948, 55.2648, -53.9843, 2017,    370.8,   3.6762,  34.8131,2,  34.8232,2,    308.3,2,    291.3,2,     8.27,6,    15.04,6,     1.00,6,    4.064,2,    2.570,2,    0.324,2,   84.162,4,    7.073,2,   2154.9,2,   2294.1,2, 19990702,     2055
  18HU19990627, AR07W,    61,  1, 213742,     14,2,19990702,1948, 55.2648, -53.9843, 2017,    248.9,   3.8358,  34.7989,2,  34.8090,2,    306.4,2,   -999.0,9,     8.08,6,    14.94,6,     0.99,6,    4.204,2,    2.624,2,    0.334,2,   83.218,4,    6.788,2,   2154.4,2,   2307.9,2, 19990702,     2059
  18HU19990627, AR07W,    61,  1, 213743,     15,2,19990702,1948, 55.2648, -53.9843, 2017,    149.2,   3.9613,  34.7754,2,  34.7845,6,    306.5,2,   -999.0,9,     7.53,6,    14.41,6,     0.97,6,    4.354,2,    2.691,2,    0.353,2,   81.890,4,    6.844,2,   2150.5,2,   2293.0,2, 19990702,     2103
  18HU19990627, AR07W,    61,  1, 213744,     16,2,19990702,1948, 55.2648, -53.9843, 2017,     89.8,   3.9114,  34.7301,2,  34.7371,2,    307.1,2,   -999.0,9,     6.78,6,    13.90,6,     0.93,6,    4.323,2,    2.763,2,    0.350,2,   84.060,4,    6.638,2,   2149.4,2,   2304.9,2, 19990702,     2106
  18HU19990627, AR07W,    61,  1, 213745,     17,2,19990702,1948, 55.2648, -53.9843, 2017,     49.5,   4.0204,  34.6058,2,  34.6111,2,    326.0,2,   -999.0,9,     4.20,6,     9.07,6,     0.75,6,    4.888,2,    2.936,2,    0.390,2,  100.572,4,    6.499,2,   2128.5,2,   2288.1,2, 19990702,     2109
  18HU19990627, AR07W,    61,  1, 213746,     18,2,19990702,1948, 55.2648, -53.9843, 2017,     20.1,   5.4453,  34.5079,2,  34.5173,2,    336.5,2,   -999.0,9,     2.63,6,     5.40,6,     0.50,6,    4.766,6,    2.889,6,    0.395,6,  104.540,4,    6.273,6,   2102.6,2,   2289.1,2, 19990702,     2112