BOTTLE,20120214PRINUNIVRMK
EXPOCODE,SECT_ID,STNNBR,CASTNO,SAMPNO,BTLNBR,BTLNBR_FLAG_W,DATE,TIME,LATITUDE,LONGITUDE,DEPTH,CTDPRS,CTDTMP,CTDSAL,CTDSAL_FLAG_W,SALNTY,SALNTY_FLAG_W,CTDOXY,CTDOXY_FLAG_W,OXYGEN,OXYGEN_FLAG_W,SILCAT,SILCAT_FLAG_W,NITRAT,NITRAT_FLAG_W,PHSPHT,PHSPHT_FLAG_W,CFC-11,CFC-11_FLAG_W,CFC-12,CFC-12_FLAG_W,CFC113,CFC113_FLAG_W,CCL4,CCL4_FLAG_W,MCHFRM,MCHFRM_FLAG_W,TCARBN,TCARBN_FLAG_W,ALKALI,ALKALI_FLAG_W,BTL_DATE,BTL_TIME
,,,,,,,,,,,METERS,DBAR,ITS-90,PSS-78,,PSS-78,,UMOL/KG,,UMOL/KG,,UMOL/KG,,UMOL/KG,,UMOL/KG,,PMOL/KG,,PMOL/KG,,PMOL/KG,,PMOL/KG,,PMOL/KG,,UMOL/KG,,UMOL/KG,,,
  18HU19990627, AR07W,    48,  1, 213647,      1,2,19990702,0045, 54.7620, -54.4852,  245,    238.8,   2.5872,  34.4261,2,  34.4330,2,    336.0,2,    298.5,2,     9.63,6,    13.25,6,     0.92,6,    4.762,2,    3.284,2,    1.157,3,   23.569,4,    7.297,2,   2149.6,2,   2273.4,2, 19990702,       45
  18HU19990627, AR07W,    48,  1, 213648,      2,2,19990702,0045, 54.7620, -54.4852,  245,    219.7,   2.1377,  34.3006,2,  34.3194,6,    337.2,2,    297.8,2,    10.39,6,    12.71,6,     0.92,6,    4.837,2,    3.385,2,    1.048,3,   26.145,4,    7.440,2,   2146.2,2,   2276.4,2, 19990702,       46
  18HU19990627, AR07W,    48,  1, 213649,      3,2,19990702,0045, 54.7620, -54.4852,  245,    200.0,   1.9242,  34.2432,2,  34.2540,2,    337.5,2,    298.6,6,    10.61,6,    12.68,6,     0.94,6,    4.944,2,    3.114,2,    1.308,3,   25.741,4,    7.676,2,   2146.4,2,   2258.4,2, 19990702,       47
  18HU19990627, AR07W,    48,  1, 213650,      4,2,19990702,0045, 54.7620, -54.4852,  245,    150.1,   1.5677,  34.1420,2,  34.1492,2,    343.1,2,    305.7,2,     8.99,6,    11.67,6,     0.90,6,    5.363,2,    3.500,2,    1.134,3,   27.028,4,    7.801,2,   2140.3,2,   2246.6,2, 19990702,       48
  18HU19990627, AR07W,    48,  1, 213651,      5,2,19990702,0045, 54.7620, -54.4852,  245,    124.8,   1.0723,  33.9863,2,  33.9917,2,    345.6,2,   -999.0,9,     9.64,6,    11.61,6,     0.93,6, -999.000,9, -999.000,9, -999.000,9, -999.000,9, -999.000,9,   -999.0,9,   -999.0,9, 19990702,       49
  18HU19990627, AR07W,    48,  1, 213652,      6,2,19990702,0045, 54.7620, -54.4852,  245,     98.7,   0.4257,  33.7589,2,  33.7714,2,    358.5,2,    314.5,2,     8.35,6,    10.28,6,     0.88,6,    5.240,2,    2.780,2,    1.109,4,   29.513,4,    8.155,2,   2134.0,2,   2264.6,2, 19990702,       50
  18HU19990627, AR07W,    48,  1, 213653,      7,2,19990702,0045, 54.7620, -54.4852,  245,     79.7,   0.0241,  33.6244,2,  33.6446,2,    356.8,2,   -999.0,9,     7.92,6,     9.62,6,     0.87,6, -999.000,9, -999.000,9, -999.000,9, -999.000,9, -999.000,9,   -999.0,9,   -999.0,9, 19990702,       51
  18HU19990627, AR07W,    48,  1, 213654,      8,2,19990702,0045, 54.7620, -54.4852,  245,     59.7,  -0.8515,  33.3339,2,  33.3324,2,    367.9,2,   -999.0,9,     7.94,6,     7.98,6,     0.83,6, -999.000,9, -999.000,9, -999.000,9, -999.000,9, -999.000,9,   -999.0,9,   -999.0,9, 19990702,       52
  18HU19990627, AR07W,    48,  1, 213655,      9,2,19990702,0045, 54.7620, -54.4852,  245,     49.5,  -0.6220,  33.2850,2,  33.2953,2,    376.4,2,    333.5,2,     6.69,6,     6.75,6,     0.76,6,    5.596,2,    2.732,2,    0.770,3,   29.443,4,    8.982,2,   2109.6,2,   2230.4,3, 19990702,       53
  18HU19990627, AR07W,    48,  1, 213656,     10,2,19990702,0045, 54.7620, -54.4852,  245,     39.4,  -0.6423,  33.2088,2,  33.2181,2,    381.5,2,   -999.0,9,     5.98,6,     6.14,6,     0.72,6, -999.000,9, -999.000,9, -999.000,9, -999.000,9, -999.000,9,   -999.0,9,   -999.0,9, 19990702,       54
  18HU19990627, AR07W,    48,  1, 213657,     11,2,19990702,0045, 54.7620, -54.4852,  245,     29.8,  -0.5090,  33.1562,2,  33.1591,2,    386.8,2,    348.4,2,     4.87,6,     4.97,6,     0.64,6,    6.088,6,    3.218,6,    0.481,2,   86.163,4,    8.964,6,   2087.3,2,   2217.4,2, 19990702,       54
  18HU19990627, AR07W,    48,  1, 213658,     12,2,19990702,0045, 54.7620, -54.4852,  245,     19.9,  -0.2057,  33.0615,2,  33.0802,2,    390.8,2,   -999.0,9,     4.85,6,     4.68,6,     0.62,6, -999.000,9, -999.000,9, -999.000,9, -999.000,9, -999.000,9,   -999.0,9,   -999.0,9, 19990702,       55
  18HU19990627, AR07W,    48,  1, 213659,     13,2,19990702,0045, 54.7620, -54.4852,  245,      9.6,   1.9563,  32.5159,2,  32.6315,2,    393.9,2,    361.6,6,     2.63,6,     2.61,6,     0.51,6,    5.983,2,    2.874,2,    1.417,3,   33.295,4,    8.047,2,   2036.3,2,   2193.0,2, 19990702,       56
  18HU19990627, AR07W,    48,  1, 213660,     14,2,19990702,0045, 54.7620, -54.4852,  245,      3.9,   3.3834,  31.8831,2,  31.8962,2,    375.8,2,   -999.0,9,     1.66,6,     2.02,6,     0.51,6, -999.000,9, -999.000,9, -999.000,9, -999.000,9, -999.000,9,   -999.0,9,   -999.0,9, 19990702,       57
  18HU19990627, AR07W,    50,  1, 213661,      1,2,19990702,0244, 54.9545, -54.2880,  364,    363.4,   3.6150,  34.6475,2,  34.6571,2,    323.4,2,    288.7,2,     8.47,6,    13.31,6,     0.92,6,    4.643,2,    3.273,2,    0.336,2,  122.729,4,    6.869,2,   2151.8,3,   2281.5,2, 19990702,      244
  18HU19990627, AR07W,    50,  1, 213662,      2,2,19990702,0244, 54.9545, -54.2880,  364,    329.2,   3.6186,  34.6455,2,  34.6533,6,    322.5,2,    288.6,2,     8.43,6,    13.49,6,     0.91,6,    4.783,2,    2.911,2,    0.351,2,  123.722,4,    6.861,2,   2152.5,3,   2287.6,2, 19990702,      246
  18HU19990627, AR07W,    50,  1, 213663,      3,2,19990702,0244, 54.9545, -54.2880,  364,    289.4,   3.6020,  34.6425,2,  34.6512,2,    321.9,2,    295.7,2,     8.42,6,    13.55,6,     0.92,6,    4.642,2,    2.927,2,    0.342,2,  122.350,4,    6.490,2,   2150.9,3,   2276.8,2, 19990702,      248
  18HU19990627, AR07W,    50,  1, 213664,      4,2,19990702,0244, 54.9545, -54.2880,  364,    249.5,   3.2851,  34.5589,2,  34.5749,2,    328.4,2,    293.2,6,     7.82,6,    12.85,6,     0.88,6,    4.620,2,    3.295,2,    0.366,2,  129.722,4,    7.036,2,   2150.9,3,   2277.8,2, 19990702,      249
  18HU19990627, AR07W,    50,  1, 213665,      5,2,19990702,0244, 54.9545, -54.2880,  364,    199.8,   2.5371,  34.3918,2,  34.3955,2,    337.3,2,    301.8,2,     7.05,6,    11.46,6,     0.84,6,    5.119,2,    3.236,2,    0.396,2,  146.042,4,    7.333,2,   2139.2,3,   2272.4,2, 19990702,      250
  18HU19990627, AR07W,    50,  1, 213666,      6,2,19990702,0244, 54.9545, -54.2880,  364,    200.4,   2.5150,  34.3878,2,  34.3963,2,    337.4,2,   -999.0,9,     7.11,6,    11.67,6,     0.84,6, -999.000,9, -999.000,9, -999.000,9, -999.000,9, -999.000,9,   -999.0,9,   -999.0,9, 19990702,      251
  18HU19990627, AR07W,    50,  1, 213667,      7,2,19990702,0244, 54.9545, -54.2880,  364,    150.6,   1.6944,  34.2059,2,  34.2145,2,    348.0,2,    310.9,2,     7.45,6,    10.56,6,     0.84,6,    5.320,2,    3.276,2,    0.418,2,  151.729,4,    7.346,2,   2136.2,3,   2266.2,2, 19990702,      252
  18HU19990627, AR07W,    50,  1, 213668,      8,2,19990702,0244, 54.9545, -54.2880,  364,    125.0,   1.0657,  34.0589,2,  34.0642,2,    356.9,2,   -999.0,9,     6.84,6,     9.48,6,     0.80,6, -999.000,9, -999.000,9, -999.000,9, -999.000,9, -999.000,9,   -999.0,9,   -999.0,9, 19990702,      253
  18HU19990627, AR07W,    50,  1, 213669,      9,2,19990702,0244, 54.9545, -54.2880,  364,     99.1,   0.6770,  33.9311,2,  33.9356,2,    356.1,2,    317.6,2,     7.79,6,     9.76,6,     0.83,6,    5.564,6,    3.206,6,    0.433,6,  119.340,4,    8.028,6,   2131.1,3,   2255.6,2, 19990702,      255
  18HU19990627, AR07W,    50,  1, 213670,     10,2,19990702,0244, 54.9545, -54.2880,  364,     90.4,   0.5519,  33.8936,2,  33.8981,2,    356.4,2,   -999.0,9,     7.91,6,     9.38,6,     0.82,6, -999.000,9, -999.000,9, -999.000,9, -999.000,9, -999.000,9,   -999.0,9,   -999.0,9, 19990702,      256
  18HU19990627, AR07W,    50,  1, 213671,     11,2,19990702,0244, 54.9545, -54.2880,  364,     80.4,   0.3185,  33.8238,2,  33.8330,2,    357.3,2,   -999.0,9,     8.02,6,     9.26,6,     0.84,6, -999.000,9, -999.000,9, -999.000,9, -999.000,9, -999.000,9,   -999.0,9,   -999.0,9, 19990702,      257
  18HU19990627, AR07W,    50,  1, 213672,     12,2,19990702,0244, 54.9545, -54.2880,  364,     70.1,   0.3446,  33.7598,2,  33.7681,2,    359.7,2,    325.5,2,     6.77,6,     7.86,6,     0.77,6,    5.867,2,    3.617,2,    0.443,2,  176.694,4,    8.308,2,   2120.5,3,   2254.5,2, 19990702,      257
  18HU19990627, AR07W,    50,  1, 213673,     13,2,19990702,0244, 54.9545, -54.2880,  364,     59.3,   0.3008,  33.6645,2,  33.6747,2,    377.5,2,   -999.0,9,     4.08,6,     4.88,6,     0.59,6, -999.000,9, -999.000,9, -999.000,9, -999.000,9, -999.000,9,   -999.0,9,   -999.0,9, 19990702,      258
  18HU19990627, AR07W,    50,  1, 213674,     14,2,19990702,0244, 54.9545, -54.2880,  364,     50.1,  -0.0646,  33.5631,2,  33.5731,2,    378.5,2,    340.3,2,     5.04,6,     5.39,6,     0.66,6,    6.136,2,    3.707,2,    0.471,2,  184.595,4,    8.499,2,   2102.5,3,   2235.8,2, 19990702,      259
  18HU19990627, AR07W,    50,  1, 213675,     15,2,19990702,0244, 54.9545, -54.2880,  364,     39.1,  -0.3968,  33.4831,2,  33.4966,2,    368.1,2,   -999.0,9,     6.92,6,     6.94,6,     0.78,6, -999.000,9, -999.000,9, -999.000,9, -999.000,9, -999.000,9,   -999.0,9,   -999.0,9, 19990702,      300
  18HU19990627, AR07W,    50,  1, 213676,     16,2,19990702,0244, 54.9545, -54.2880,  364,     29.1,  -0.5618,  33.3400,2,  33.3413,2,    380.5,2,    341.8,2,     5.04,6,     6.18,6,     0.72,6,    5.977,2,    4.068,2,    0.447,2,  168.583,4,    8.957,2,   2104.4,3,   2226.1,2, 19990702,      301
  18HU19990627, AR07W,    50,  1, 213677,     17,2,19990702,0244, 54.9545, -54.2880,  364,     18.6,  -0.6501,  33.1978,2,  33.2210,2,    394.2,2,   -999.0,9,     2.89,6,     4.72,6,     0.66,6, -999.000,9, -999.000,9, -999.000,9, -999.000,9, -999.000,9,   -999.0,9,   -999.0,9, 19990702,      302
  18HU19990627, AR07W,    50,  1, 213678,     18,2,19990702,0244, 54.9545, -54.2880,  364,      9.6,   2.3621,  31.9898,2,  32.4239,2,    408.3,2,    375.7,2,     0.87,6,     1.31,6,     0.37,6,    6.069,2,    4.258,2,    0.447,2,  195.674,4,    8.229,2,   2009.5,3,   2185.0,2, 19990702,      303
  18HU19990627, AR07W,    50,  1, 213679,     19,2,19990702,0244, 54.9545, -54.2880,  364,      9.8,   2.2077,  32.1901,2,  32.1524,2,    410.4,2,   -999.0,9,     0.53,6,     0.66,6,     0.34,6, -999.000,9, -999.000,9, -999.000,9, -999.000,9, -999.000,9,   -999.0,9,   -999.0,9, 19990702,      303
  18HU19990627, AR07W,    50,  1, 213680,     20,2,19990702,0244, 54.9545, -54.2880,  364,      3.9,   2.3968,  31.9857,2,  32.0132,2,    411.3,2,   -999.0,9,     0.38,6,     0.43,6,     0.31,6, -999.000,9, -999.000,9, -999.000,9, -999.000,9, -999.000,9,   -999.0,9,   -999.0,9, 19990702,      304
  18HU19990627, AR07W,    52,  1, 213681,      1,2,19990702,0515, 55.1068, -54.1172,  932,    954.1,   3.4865,  34.8346,2,  34.8447,2,    320.7,2,    290.3,2,     8.85,6,    15.33,6,     1.01,6,    4.066,2,    2.859,2,    0.751,3,   20.746,4,    7.407,2,   2157.5,2,   2306.2,2, 19990702,      515
  18HU19990627, AR07W,    52,  1, 213682,      2,2,19990702,0515, 55.1068, -54.1172,  932,    955.0,   3.4869,  34.8350,2,-999.0000,9,    320.5,2,   -999.0,9,  -999.00,9,  -999.00,9,  -999.00,9, -999.000,9, -999.000,9, -999.000,9, -999.000,9, -999.000,9,   -999.0,9,   -999.0,9, 19990702,      515
  18HU19990627, AR07W,    52,  1, 213683,      3,2,19990702,0515, 55.1068, -54.1172,  932,    870.4,   3.4847,  34.8343,2,  34.8427,6,    320.5,2,    291.1,2,     8.72,6,    15.55,6,     1.00,6,    4.087,2,    2.884,2,    0.776,3,   21.475,4,    7.284,2,   2159.1,2,   2291.5,2, 19990702,      518
  18HU19990627, AR07W,    52,  1, 213684,      4,2,19990702,0515, 55.1068, -54.1172,  932,    790.4,   3.5216,  34.8334,2,  34.8433,2,    318.2,2,    291.0,2,     8.61,6,    15.27,6,     0.98,6,    4.236,2,    2.168,2,    0.673,3,   22.362,4,    7.498,2,   2161.5,2,   2291.4,2, 19990702,      520
  18HU19990627, AR07W,    52,  1, 213685,      5,2,19990702,0515, 55.1068, -54.1172,  932,    749.1,   3.5314,  34.8336,2,  34.8425,2,    318.5,2,   -999.0,9,     8.47,6,    15.05,6,     1.00,6, -999.000,9, -999.000,9, -999.000,9, -999.000,9, -999.000,9,   -999.0,9,   -999.0,9, 19990702,      522
  18HU19990627, AR07W,    52,  1, 213686,      6,2,19990702,0515, 55.1068, -54.1172,  932,    700.0,   3.5385,  34.8284,2,  34.8368,2,    319.1,2,    292.1,2,     8.55,6,    15.22,6,     1.00,6,    4.074,2,    2.951,2,    0.746,3,   20.976,4,    7.202,2,   2161.1,2,   2284.1,3, 19990702,      524
  18HU19990627, AR07W,    52,  1, 213687,      7,2,19990702,0515, 55.1068, -54.1172,  932,    589.8,   3.6460,  34.8279,2,  34.8358,2,    315.3,2,    290.5,2,     8.50,6,    15.38,6,     0.98,6,    4.200,2,    2.686,2,    0.789,3,   22.008,4,    7.085,2,   2157.2,2,   -999.0,9, 19990702,      526
  18HU19990627, AR07W,    52,  1, 213688,      8,2,19990702,0515, 55.1068, -54.1172,  932,    499.8,   3.7103,  34.8176,2,-999.0000,9,    313.2,2,   -999.0,9,     8.38,6,    15.15,6,     0.96,6, -999.000,9, -999.000,9, -999.000,9, -999.000,9, -999.000,9,   -999.0,9,   -999.0,9, 19990702,      529
  18HU19990627, AR07W,    52,  1, 213689,      9,2,19990702,0515, 55.1068, -54.1172,  932,    469.8,   3.7166,  34.8104,2,  34.8187,2,    313.2,2,    289.1,2,     8.42,6,    14.96,6,     1.18,3,    4.230,2,    3.291,2,    0.748,3,   22.432,4,    7.025,2,   2159.5,2,   2276.7,2, 19990702,      530
  18HU19990627, AR07W,    52,  1, 213690,     10,2,19990702,0515, 55.1068, -54.1172,  932,    359.7,   3.7807,  34.8005,2,  34.8075,2,    312.4,2,   -999.0,9,     8.26,6,    14.79,6,     0.95,6, -999.000,9, -999.000,9, -999.000,9, -999.000,9, -999.000,9,   -999.0,9,   -999.0,9, 19990702,      533
  18HU19990627, AR07W,    52,  1, 213691,     11,2,19990702,0515, 55.1068, -54.1172,  932,    258.8,   3.9418,  34.7888,2,  34.7969,2,    313.2,2,    289.1,2,     7.87,6,    14.64,6,     0.94,6,    4.027,2,    2.902,2,    0.789,3,   21.120,4,    6.472,2,   2157.2,2,   2285.6,2, 19990702,      535
  18HU19990627, AR07W,    52,  1, 213692,     12,2,19990702,0515, 55.1068, -54.1172,  932,    199.5,   4.1645,  34.7986,2,  34.8020,2,    306.7,2,   -999.0,9,     8.03,6,    14.55,6,     0.95,6, -999.000,9, -999.000,9, -999.000,9, -999.000,9, -999.000,9,   -999.0,9,   -999.0,9, 19990702,      537
  18HU19990627, AR07W,    52,  1, 213693,     13,2,19990702,0515, 55.1068, -54.1172,  932,    189.6,   4.1506,  34.7924,2,  34.7990,2,    305.2,2,    285.4,2,     8.17,6,    14.54,6,     0.92,6,    4.127,2,    3.465,2,    0.767,3,   21.415,4,    6.764,2,   2155.6,2,   2273.1,2, 19990702,      538
  18HU19990627, AR07W,    52,  1, 213694,     14,2,19990702,0515, 55.1068, -54.1172,  932,    129.2,   3.9754,  34.7266,2,  34.7354,2,    309.8,2,    289.4,2,     7.36,6,    13.90,6,     0.89,6,    4.424,6,    2.558,6,    0.545,6,   54.594,4,    6.860,6,   2148.8,2,   2284.7,2, 19990702,      540
  18HU19990627, AR07W,    52,  1, 213695,     15,2,19990702,0515, 55.1068, -54.1172,  932,     98.7,   3.4027,  34.5900,2,  34.6057,2,    326.5,2,   -999.0,9,     5.66,6,    10.97,6,     0.78,6, -999.000,9, -999.000,9, -999.000,9, -999.000,9, -999.000,9,   -999.0,9,   -999.0,9, 19990702,      541
  18HU19990627, AR07W,    52,  1, 213696,     16,2,19990702,0515, 55.1068, -54.1172,  932,     79.9,   3.1719,  34.4037,2,  34.4249,2,    343.3,2,    315.8,2,     3.82,6,     7.00,6,     0.62,6,    5.084,2,    2.543,4,    0.798,4,   29.299,4,    6.943,2,   2121.3,2,   2270.9,2, 19990702,      542
  18HU19990627, AR07W,    52,  1, 213697,     17,2,19990702,0515, 55.1068, -54.1172,  932,     59.6,   4.1011,  34.3968,2,-999.0000,9,    344.8,2,   -999.0,9,     3.56,6,     5.35,6,     0.51,6, -999.000,9, -999.000,9, -999.000,9, -999.000,9, -999.000,9,   -999.0,9,   -999.0,9, 19990702,      543
  18HU19990627, AR07W,    52,  1, 213698,     18,2,19990702,0515, 55.1068, -54.1172,  932,     49.5,   3.8183,  34.2918,2,-999.0000,9,    353.1,2,   -999.0,9,     3.03,6,     4.69,6,     0.48,6, -999.000,9, -999.000,9, -999.000,9, -999.000,9, -999.000,9,   -999.0,9,   -999.0,9, 19990702,      544
  18HU19990627, AR07W,    52,  1, 213699,     19,2,19990702,0515, 55.1068, -54.1172,  932,     38.5,   3.5069,  34.1783,2,  34.1911,2,    361.0,2,    333.3,2,     2.60,6,     3.83,6,     0.45,6,    5.100,2,    2.997,2,    0.857,3,   30.052,4,    6.780,2,   2091.1,2,   2259.1,2, 19990702,      544
  18HU19990627, AR07W,    52,  1, 213700,     20,2,19990702,0515, 55.1068, -54.1172,  932,     25.2,   3.5439,  34.1577,2,-999.0000,9,    362.6,2,   -999.0,9,  -999.00,9,  -999.00,9,  -999.00,9, -999.000,9, -999.000,9, -999.000,9, -999.000,9, -999.000,9,   -999.0,9,   -999.0,9, 19990702,      546
  18HU19990627, AR07W,    52,  1, 213701,     21,2,19990702,0515, 55.1068, -54.1172,  932,     16.8,   3.5792,  34.0645,2,-999.0000,9,    362.8,2,   -999.0,9,  -999.00,9,  -999.00,9,  -999.00,9, -999.000,9, -999.000,9, -999.000,9, -999.000,9, -999.000,9,   -999.0,9,   -999.0,9, 19990702,      546
  18HU19990627, AR07W,    52,  1, 213702,     22,2,19990702,0515, 55.1068, -54.1172,  932,     10.1,   4.1190,  33.9172,2,  33.9048,2,    361.7,2,    336.4,2,     1.59,6,     2.07,6,     0.33,6,    5.359,2,    3.451,2,    0.782,3,   32.858,4,    6.820,2,   2069.9,2,   2258.9,2, 19990702,      547
  18HU19990627, AR07W,    52,  1, 213703,     23,2,19990702,0515, 55.1068, -54.1172,  932,     10.2,   4.1245,  33.9293,2,-999.0000,9,    362.7,2,   -999.0,9,  -999.00,9,  -999.00,9,  -999.00,9, -999.000,9, -999.000,9, -999.000,9, -999.000,9, -999.000,9,   -999.0,9,   -999.0,9, 19990702,      547
  18HU19990627, AR07W,    52,  1, 213704,     24,2,19990702,0515, 55.1068, -54.1172,  932,      4.0,   4.3003,  33.8305,2,-999.0000,9,    357.9,2,   -999.0,9,     1.44,6,     1.92,6,     0.32,6, -999.000,9, -999.000,9, -999.000,9, -999.000,9, -999.000,9,   -999.0,9,   -999.0,9, 19990702,      548