BOTTLE,20120214PRINUNIVRMK
EXPOCODE,SECT_ID,STNNBR,CASTNO,SAMPNO,BTLNBR,BTLNBR_FLAG_W,DATE,TIME,LATITUDE,LONGITUDE,DEPTH,CTDPRS,CTDTMP,CTDSAL,CTDSAL_FLAG_W,SALNTY,SALNTY_FLAG_W,CTDOXY,CTDOXY_FLAG_W,OXYGEN,OXYGEN_FLAG_W,SILCAT,SILCAT_FLAG_W,NITRAT,NITRAT_FLAG_W,PHSPHT,PHSPHT_FLAG_W,CFC-11,CFC-11_FLAG_W,CFC-12,CFC-12_FLAG_W,CFC113,CFC113_FLAG_W,CCL4,CCL4_FLAG_W,MCHFRM,MCHFRM_FLAG_W,TCARBN,TCARBN_FLAG_W,ALKALI,ALKALI_FLAG_W,BTL_DATE,BTL_TIME
,,,,,,,,,,,METERS,DBAR,ITS-90,PSS-78,,PSS-78,,UMOL/KG,,UMOL/KG,,UMOL/KG,,UMOL/KG,,UMOL/KG,,PMOL/KG,,PMOL/KG,,PMOL/KG,,PMOL/KG,,PMOL/KG,,UMOL/KG,,UMOL/KG,,,
  18HU19990627, AR07W,   141,  1, 214388,      1,2,19990709,2314, 57.3762, -51.8015, 3591,   3580.9,   1.6127,  34.8622,2,  34.8743,2,    309.3,2,    385.8,4,    10.40,6,    14.00,6,     0.95,6,    3.572,2,    1.811,2,    0.187,2,   20.352,4,    8.295,2,   2165.6,2,   2309.1,2, 19990709,     2314
  18HU19990627, AR07W,   141,  1, 214389,      2,2,19990709,2314, 57.3762, -51.8015, 3591,   3500.7,   1.6722,  34.8637,2,  34.8762,2,    306.8,2,    294.0,2,    10.35,6,    14.36,6,     0.96,6,    3.474,2,    2.121,2,    0.204,2,   20.140,4,    8.349,2,   2164.0,2,   2305.0,2, 19990709,     2316
  18HU19990627, AR07W,   141,  1, 214390,      3,2,19990709,2314, 57.3762, -51.8015, 3591,   3409.9,   1.8781,  34.8688,2,  34.8825,2,    302.8,2,    291.9,6,    10.56,6,    14.62,6,     0.97,6,    3.364,2,    1.658,2,    0.187,2,   20.547,4,    8.302,2,   2163.7,2,   2303.4,2, 19990709,     2318
  18HU19990627, AR07W,   141,  1, 214391,      4,2,19990709,2314, 57.3762, -51.8015, 3591,   3300.7,   2.1973,  34.8804,2,  34.8914,2,    295.6,2,    286.8,2,    12.25,6,    15.17,6,     0.97,6,    2.750,2,    1.421,2,    0.133,4,   17.113,4,    7.064,2,   2163.7,2,   2307.4,2, 19990709,     2321
  18HU19990627, AR07W,   141,  1, 214392,      5,2,19990709,2314, 57.3762, -51.8015, 3591,   3181.8,   2.4324,  34.8881,2,  34.9009,6,    290.8,2,    284.7,2,    12.56,6,    15.52,6,     1.00,6,    2.445,2,    1.717,2,    0.146,2,   15.540,4,    6.295,2,   2165.6,2,   2306.2,2, 19990709,     2323
  18HU19990627, AR07W,   141,  1, 214393,      6,2,19990709,2314, 57.3762, -51.8015, 3591,   3038.8,   2.6819,  34.9013,2,  34.9132,2,    285.9,2,    280.0,2,    13.09,6,    15.82,6,     1.02,6,    2.070,2,    0.991,2,    0.198,2,   13.689,4,    5.478,2,   2164.8,2,   2307.9,2, 19990709,     2326
  18HU19990627, AR07W,   141,  1, 214394,      7,2,19990709,2314, 57.3762, -51.8015, 3591,   2880.3,   2.8254,  34.8983,2,  34.9093,2,    285.8,2,    279.9,2,    12.22,6,    15.82,6,     1.03,6,    2.267,2,    1.146,2,    0.180,4,   14.190,4,    5.689,2,   2164.9,2,   2304.6,2, 19990709,     2329
  18HU19990627, AR07W,   141,  1, 214395,      8,2,19990709,2314, 57.3762, -51.8015, 3591,   2690.7,   2.9442,  34.8901,2,  34.9016,2,    286.4,2,    281.5,2,    11.52,6,    15.79,6,     1.02,6,    2.483,6,    2.129,6,    0.379,6,   22.490,4,    6.492,6,   2163.9,2,   2304.2,2, 19990709,     2332
  18HU19990627, AR07W,   141,  1, 214396,      9,2,19990709,2314, 57.3762, -51.8015, 3591,   2479.0,   3.0421,  34.8786,2,  34.8912,2,    288.7,2,    284.0,2,    11.01,6,    16.28,6,     1.05,6,    2.797,2,    1.798,4,    0.249,2,   17.319,4,    7.331,2,   2162.4,2,   2307.1,2, 19990709,     2335
  18HU19990627, AR07W,   141,  1, 214397,     10,2,19990709,2314, 57.3762, -51.8015, 3591,   2248.5,   3.0159,  34.8541,2,  34.8668,2,    295.3,2,    290.6,2,    10.17,6,    16.45,6,     1.03,6,    3.401,2,    1.722,2,    0.192,2,   20.723,4,    9.209,2,   2160.8,2,   2317.5,2, 19990709,     2339
  18HU19990627, AR07W,   141,  1, 214398,     11,2,19990709,2314, 57.3762, -51.8015, 3591,   2008.7,   3.0196,  34.8446,2,  34.8554,2,    297.7,2,    292.9,2,    10.06,6,    16.59,6,     1.05,6,    3.836,2,    2.032,2,    0.188,4,   21.938,4,    9.931,2,   2161.4,2,   2316.4,2, 19990709,     2343
  18HU19990627, AR07W,   141,  1, 214399,     12,2,19990709,2314, 57.3762, -51.8015, 3591,   1769.2,   3.0908,  34.8471,2,  34.8603,2,    294.8,2,    290.4,2,    10.17,6,    16.69,6,     1.05,6,    3.792,2,    2.483,2,    0.227,2,   22.241,4,   10.003,2,   2161.9,2,   2299.2,2, 19990709,     2349
  18HU19990627, AR07W,   141,  1, 214400,     13,2,19990709,2314, 57.3762, -51.8015, 3591,   1528.1,   3.1703,  34.8481,2,  34.8589,2,    292.3,2,   -999.0,9,    10.05,6,    16.69,6,     1.04,6,    3.892,2,    3.026,2,    0.241,4,   21.524,4,    9.660,2,   2163.6,2,   2309.2,2, 19990709,     2353
  18HU19990627, AR07W,   141,  1, 214401,     14,2,19990709,2314, 57.3762, -51.8015, 3591,   1289.1,   3.2762,  34.8467,2,  34.8572,2,    290.8,2,    288.6,2,     9.70,6,    16.46,6,     1.04,6,    3.972,2,    2.370,2,    0.287,4,   22.887,4,    9.170,2,   2162.7,2,   2296.7,2, 19990709,     2357
  18HU19990627, AR07W,   141,  1, 214402,     15,2,19990709,2314, 57.3762, -51.8015, 3591,   1069.8,   3.3018,  34.8353,2,  34.8454,2,    295.7,2,    291.3,2,     9.16,6,    16.04,6,     1.02,6,    4.311,2,    2.971,2,    0.282,4,   24.782,4,    9.057,2,   2161.0,2,   2296.7,2, 19990710,        0
  18HU19990627, AR07W,   141,  1, 214403,     16,2,19990709,2314, 57.3762, -51.8015, 3591,    869.0,   3.2721,  34.8201,2,  34.8304,2,    300.0,2,    296.4,6,     8.72,6,    15.68,6,     1.00,6,    4.653,2,    3.369,2,    0.389,4,   26.227,4,    8.523,2,   2159.5,2,   2297.5,2, 19990710,        4
  18HU19990627, AR07W,   141,  1, 214404,     17,2,19990709,2314, 57.3762, -51.8015, 3591,    678.1,   3.2845,  34.8123,2,  34.8222,2,    303.9,2,    299.1,2,     8.40,6,    15.29,6,     0.99,6,    4.746,2,    2.921,2,    0.443,4,   28.149,4,    8.451,2,   2160.1,2,   2300.3,2, 19990710,        7
  18HU19990627, AR07W,   141,  1, 214405,     18,2,19990709,2314, 57.3762, -51.8015, 3591,    510.2,   3.3501,  34.8119,2,  34.8208,2,    305.6,2,    300.2,2,     8.18,6,    15.12,6,     0.97,6,    4.686,2,    2.897,2,    0.373,4,   27.396,4,    7.953,2,   2156.2,2,   2284.7,2, 19990710,       10
  18HU19990627, AR07W,   141,  1, 214406,     19,2,19990709,2314, 57.3762, -51.8015, 3591,    359.8,   3.4597,  34.8127,2,  34.8206,2,    303.8,2,    299.0,2,     8.06,6,    15.21,6,     0.99,6,    4.692,2,    3.264,2,    0.422,4,   27.182,4,    7.593,2,   2156.7,2,   2304.5,2, 19990710,       12
  18HU19990627, AR07W,   141,  1, 214407,     20,2,19990709,2314, 57.3762, -51.8015, 3591,    239.2,   3.6035,  34.8010,2,  34.8133,2,    302.1,2,    296.8,2,     7.87,6,    15.35,6,     1.01,6,    4.845,2,    2.957,2,    0.460,4,   28.891,4,    7.833,2,   2149.5,2,   2298.7,2, 19990710,       14
  18HU19990627, AR07W,   141,  1, 214408,     21,2,19990709,2314, 57.3762, -51.8015, 3591,    138.2,   4.1322,  34.8065,2,  34.8192,2,    302.3,2,    295.2,2,     7.33,6,    14.59,6,     0.98,6,    4.792,2,    3.536,2,    0.437,4,   26.650,4,    6.841,2,   2149.8,2,   2299.2,2, 19990710,       16
  18HU19990627, AR07W,   141,  1, 214409,     22,2,19990709,2314, 57.3762, -51.8015, 3591,     69.1,   4.3702,  34.6830,2,  34.6912,2,    316.5,2,    310.9,2,     4.57,6,     9.97,6,     0.81,6,    5.256,2,    3.779,2,    0.528,4,   32.456,4,    6.703,2,   2134.5,2,   2290.6,2, 19990710,       18
  18HU19990627, AR07W,   141,  1, 214410,     23,2,19990709,2314, 57.3762, -51.8015, 3591,     33.5,   5.0396,  34.5131,2,  34.5319,2,    318.6,2,   -999.0,9,     1.94,6,     6.78,6,     0.60,6,    5.187,2,    2.672,2,    0.501,4,   33.274,4,    6.821,2,   2112.4,2,   2283.6,2, 19990710,       19
  18HU19990627, AR07W,   141,  1, 214411,     24,2,19990709,2314, 57.3762, -51.8015, 3591,      9.0,   6.0415,  34.3599,2,  34.3715,2,    321.9,2,    318.2,2,     1.72,6,     3.83,6,     0.43,6,    5.016,2,    2.594,2,    0.521,4,   32.372,4,    6.294,2,   2087.2,2,   2276.4,2, 19990710,       20
  18HU19990627, AR07W,   145,  1, 214412,      1,2,19990710,1233, 56.7273, -52.4797, 3294,    200.3,   3.4061,  34.7783,2,  34.7872,2,    342.6,2,   -999.0,9,     8.46,6,    15.41,6,     1.06,6, -999.000,9, -999.000,9, -999.000,9, -999.000,9, -999.000,9,   -999.0,9,   -999.0,9, 19990710,     1233
  18HU19990627, AR07W,   145,  1, 214413,      2,2,19990710,1233, 56.7273, -52.4797, 3294,    174.5,   3.4537,  34.7756,2,  34.7846,2,    335.6,2,   -999.0,9,     8.61,6,    15.52,6,     1.05,6, -999.000,9, -999.000,9, -999.000,9, -999.000,9, -999.000,9,   -999.0,9,   -999.0,9, 19990710,     1235
  18HU19990627, AR07W,   145,  1, 214414,      3,2,19990710,1233, 56.7273, -52.4797, 3294,    149.7,   3.4557,  34.7538,2,  34.7646,2,    333.4,2,   -999.0,9,     8.33,6,    15.69,6,     1.04,6, -999.000,9, -999.000,9, -999.000,9, -999.000,9, -999.000,9,   -999.0,9,   -999.0,9, 19990710,     1236
  18HU19990627, AR07W,   145,  1, 214415,      4,2,19990710,1233, 56.7273, -52.4797, 3294,    125.0,   3.5032,  34.7307,2,  34.7398,2,    333.7,2,   -999.0,9,     8.24,6,    14.94,6,     1.06,6, -999.000,9, -999.000,9, -999.000,9, -999.000,9, -999.000,9,   -999.0,9,   -999.0,9, 19990710,     1237
  18HU19990627, AR07W,   145,  1, 214416,      5,2,19990710,1233, 56.7273, -52.4797, 3294,     99.9,   3.5772,  34.7014,2,  34.7156,2,    334.8,2,   -999.0,9,     8.16,6,    14.48,6,     1.05,6, -999.000,9, -999.000,9, -999.000,9, -999.000,9, -999.000,9,   -999.0,9,   -999.0,9, 19990710,     1238
  18HU19990627, AR07W,   145,  1, 214417,      6,2,19990710,1233, 56.7273, -52.4797, 3294,     88.6,   3.7948,  34.6665,2,  34.6838,2,    331.2,2,   -999.0,9,     7.23,6,    13.33,6,     1.02,6, -999.000,9, -999.000,9, -999.000,9, -999.000,9, -999.000,9,   -999.0,9,   -999.0,9, 19990710,     1239
  18HU19990627, AR07W,   145,  1, 214418,      7,2,19990710,1233, 56.7273, -52.4797, 3294,     79.3,   4.0019,  34.6538,2,  34.6630,2,    334.9,2,   -999.0,9,     6.22,6,    12.26,6,     0.98,6, -999.000,9, -999.000,9, -999.000,9, -999.000,9, -999.000,9,   -999.0,9,   -999.0,9, 19990710,     1239
  18HU19990627, AR07W,   145,  1, 214419,      8,2,19990710,1233, 56.7273, -52.4797, 3294,     69.2,   4.1981,  34.6354,2,  34.6453,2,    333.9,2,   -999.0,9,     4.79,6,    10.67,6,     0.96,6, -999.000,9, -999.000,9, -999.000,9, -999.000,9, -999.000,9,   -999.0,9,   -999.0,9, 19990710,     1240
  18HU19990627, AR07W,   145,  1, 214420,      9,2,19990710,1233, 56.7273, -52.4797, 3294,     59.2,   4.4876,  34.6203,2,  34.6331,2,    332.4,2,   -999.0,9,     2.52,6,     9.67,6,     0.90,6, -999.000,9, -999.000,9, -999.000,9, -999.000,9, -999.000,9,   -999.0,9,   -999.0,9, 19990710,     1241
  18HU19990627, AR07W,   145,  1, 214421,     10,2,19990710,1233, 56.7273, -52.4797, 3294,     49.9,   4.7889,  34.6152,2,  34.6261,2,    335.1,2,   -999.0,9,     0.91,6,     8.19,6,     0.79,6, -999.000,9, -999.000,9, -999.000,9, -999.000,9, -999.000,9,   -999.0,9,   -999.0,9, 19990710,     1241
  18HU19990627, AR07W,   145,  1, 214422,     11,2,19990710,1233, 56.7273, -52.4797, 3294,     39.4,   5.6679,  34.5761,2,  34.6068,2,    337.2,2,   -999.0,9,     0.49,6,     6.88,6,     0.67,6, -999.000,9, -999.000,9, -999.000,9, -999.000,9, -999.000,9,   -999.0,9,   -999.0,9, 19990710,     1242
  18HU19990627, AR07W,   145,  1, 214423,     12,2,19990710,1233, 56.7273, -52.4797, 3294,     29.5,   6.4321,  34.5490,2,  34.5630,2,    332.7,2,   -999.0,9,     1.14,6,     5.48,6,     0.50,6, -999.000,9, -999.000,9, -999.000,9, -999.000,9, -999.000,9,   -999.0,9,   -999.0,9, 19990710,     1243
  18HU19990627, AR07W,   145,  1, 214424,     13,2,19990710,1233, 56.7273, -52.4797, 3294,     29.8,   6.4340,  34.5512,2,-999.0000,9,    330.4,2,   -999.0,9,     1.09,2,     5.46,2,     0.56,2, -999.000,9, -999.000,9, -999.000,9, -999.000,9, -999.000,9,   -999.0,9,   -999.0,9, 19990710,     1243
  18HU19990627, AR07W,   145,  1, 214425,     14,2,19990710,1233, 56.7273, -52.4797, 3294,     19.7,   6.7302,  34.5488,2,  34.5622,2,    333.2,2,   -999.0,9,     1.14,6,     5.51,6,     0.49,6, -999.000,9, -999.000,9, -999.000,9, -999.000,9, -999.000,9,   -999.0,9,   -999.0,9, 19990710,     1243
  18HU19990627, AR07W,   145,  1, 214426,     15,2,19990710,1233, 56.7273, -52.4797, 3294,     20.1,   6.6636,  34.5551,2,-999.0000,9,    335.0,2,   -999.0,9,     0.99,2,     5.09,2,     0.50,2, -999.000,9, -999.000,9, -999.000,9, -999.000,9, -999.000,9,   -999.0,9,   -999.0,9, 19990710,     1244
  18HU19990627, AR07W,   145,  1, 214427,     16,2,19990710,1233, 56.7273, -52.4797, 3294,      9.9,   7.1799,  34.5344,2,  34.5463,2,    327.3,2,   -999.0,9,     0.78,6,     4.58,6,     0.41,6, -999.000,9, -999.000,9, -999.000,9, -999.000,9, -999.000,9,   -999.0,9,   -999.0,9, 19990710,     1244
  18HU19990627, AR07W,   145,  1, 214428,     17,2,19990710,1233, 56.7273, -52.4797, 3294,     10.2,   7.1811,  34.5352,2,-999.0000,9,    325.8,2,   -999.0,9,     0.72,2,     4.34,2,     0.47,2, -999.000,9, -999.000,9, -999.000,9, -999.000,9, -999.000,9,   -999.0,9,   -999.0,9, 19990710,     1245
  18HU19990627, AR07W,   145,  1, 214429,     18,2,19990710,1233, 56.7273, -52.4797, 3294,      3.9,   7.1854,  34.5347,2,  34.5434,2,    325.5,2,   -999.0,9,     0.84,6,     4.55,6,     0.41,6, -999.000,9, -999.000,9, -999.000,9, -999.000,9, -999.000,9,   -999.0,9,   -999.0,9, 19990710,     1245
  18HU19990627, AR07W,   147,  1, 214430,      1,2,19990710,2121, 56.1348, -53.0855, 1560,   1350.2,   3.2126,  34.8507,2,  34.8663,6,    306.5,2,   -999.0,9,  -999.00,9,  -999.00,9,  -999.00,9, -999.000,9, -999.000,9, -999.000,9, -999.000,9, -999.000,9,   -999.0,9,   -999.0,9, 19990710,     2121
  18HU19990627, AR07W,   147,  1, 214431,      2,2,19990710,2121, 56.1348, -53.0855, 1560,    893.2,   3.2680,  34.8254,2,  34.8360,6,    310.6,2,   -999.0,9,  -999.00,9,  -999.00,9,  -999.00,9, -999.000,9, -999.000,9, -999.000,9, -999.000,9, -999.000,9,   -999.0,9,   -999.0,9, 19990710,     2137
  18HU19990627, AR07W,   147,  1, 214432,      3,2,19990710,2121, 56.1348, -53.0855, 1560,    639.4,   3.2698,  34.8137,2,  34.8255,6,    312.5,2,   -999.0,9,  -999.00,9,  -999.00,9,  -999.00,9, -999.000,9, -999.000,9, -999.000,9, -999.000,9, -999.000,9,   -999.0,9,   -999.0,9, 19990710,     2143
  18HU19990627, AR07W,   147,  1, 214433,      4,2,19990710,2121, 56.1348, -53.0855, 1560,    225.2,   3.3219,  34.7839,2,  34.7936,6,    310.7,2,   -999.0,9,  -999.00,9,  -999.00,9,  -999.00,9, -999.000,9, -999.000,9, -999.000,9, -999.000,9, -999.000,9,   -999.0,9,   -999.0,9, 19990710,     2155
  18HU19990627, AR07W,   147,  1, 214434,      5,2,19990710,2121, 56.1348, -53.0855, 1560,     50.6,   4.5028,  34.6596,2,  34.6653,6,    328.8,2,   -999.0,9,  -999.00,9,  -999.00,9,  -999.00,9, -999.000,9, -999.000,9, -999.000,9, -999.000,9, -999.000,9,   -999.0,9,   -999.0,9, 19990710,     2200
  18HU19990627, AR07W,   152,  1, 214435,      1,2,19990711,1135, 54.0857, -54.5145,  174,    150.5,   1.3760,  34.0835,2,-999.0000,9,    359.9,2,   -999.0,9,    10.07,6,    11.75,6,     0.98,6, -999.000,9, -999.000,9, -999.000,9, -999.000,9, -999.000,9,   -999.0,9,   -999.0,9, 19990711,     1135
  18HU19990627, AR07W,   152,  1, 214436,      2,2,19990711,1135, 54.0857, -54.5145,  174,    125.3,   0.8392,  33.9049,2,-999.0000,9,    361.8,2,   -999.0,9,    10.01,6,    11.79,6,     0.98,6, -999.000,9, -999.000,9, -999.000,9, -999.000,9, -999.000,9,   -999.0,9,   -999.0,9, 19990711,     1137
  18HU19990627, AR07W,   152,  1, 214437,      3,2,19990711,1135, 54.0857, -54.5145,  174,    100.0,  -0.0397,  33.5627,2,-999.0000,9,    369.5,2,   -999.0,9,     9.47,6,    10.55,6,     0.98,6, -999.000,9, -999.000,9, -999.000,9, -999.000,9, -999.000,9,   -999.0,9,   -999.0,9, 19990711,     1138
  18HU19990627, AR07W,   152,  1, 214438,      4,2,19990711,1135, 54.0857, -54.5145,  174,     89.9,  -0.2477,  33.4398,2,-999.0000,9,    369.7,2,   -999.0,9,     9.39,6,     9.84,6,     0.98,6, -999.000,9, -999.000,9, -999.000,9, -999.000,9, -999.000,9,   -999.0,9,   -999.0,9, 19990711,     1138
  18HU19990627, AR07W,   152,  1, 214439,      5,2,19990711,1135, 54.0857, -54.5145,  174,     79.8,  -0.4574,  33.2963,2,-999.0000,9,    371.8,2,   -999.0,9,     8.71,6,     9.61,6,     0.98,6, -999.000,9, -999.000,9, -999.000,9, -999.000,9, -999.000,9,   -999.0,9,   -999.0,9, 19990711,     1139
  18HU19990627, AR07W,   152,  1, 214440,      6,2,19990711,1135, 54.0857, -54.5145,  174,     69.3,  -0.6407,  33.1694,2,-999.0000,9,    373.0,2,   -999.0,9,     8.48,6,     9.22,6,     0.98,6, -999.000,9, -999.000,9, -999.000,9, -999.000,9, -999.000,9,   -999.0,9,   -999.0,9, 19990711,     1140
  18HU19990627, AR07W,   152,  1, 214441,      7,2,19990711,1135, 54.0857, -54.5145,  174,     59.6,  -0.7306,  33.0203,2,-999.0000,9,    371.6,2,   -999.0,9,     8.32,6,     8.13,6,     0.99,6, -999.000,9, -999.000,9, -999.000,9, -999.000,9, -999.000,9,   -999.0,9,   -999.0,9, 19990711,     1140
  18HU19990627, AR07W,   152,  1, 214442,      8,2,19990711,1135, 54.0857, -54.5145,  174,     49.3,  -0.7698,  32.8739,2,-999.0000,9,    372.3,2,   -999.0,9,     7.39,6,     7.69,6,     0.95,6, -999.000,9, -999.000,9, -999.000,9, -999.000,9, -999.000,9,   -999.0,9,   -999.0,9, 19990711,     1141
  18HU19990627, AR07W,   152,  1, 214443,      9,2,19990711,1135, 54.0857, -54.5145,  174,     40.6,  -0.8820,  32.7368,2,-999.0000,9,    381.3,2,   -999.0,9,     6.28,6,     6.82,6,     0.94,6, -999.000,9, -999.000,9, -999.000,9, -999.000,9, -999.000,9,   -999.0,9,   -999.0,9, 19990711,     1142
  18HU19990627, AR07W,   152,  1, 214444,     10,2,19990711,1135, 54.0857, -54.5145,  174,     29.3,  -0.7166,  32.4831,2,-999.0000,9,    386.3,2,   -999.0,9,     3.31,6,     4.72,6,     0.93,6, -999.000,9, -999.000,9, -999.000,9, -999.000,9, -999.000,9,   -999.0,9,   -999.0,9, 19990711,     1143
  18HU19990627, AR07W,   152,  1, 214445,     11,2,19990711,1135, 54.0857, -54.5145,  174,     24.5,   0.8307,  32.1991,2,-999.0000,9,    405.0,2,   -999.0,9,     0.91,6,     1.74,6,     0.66,6, -999.000,9, -999.000,9, -999.000,9, -999.000,9, -999.000,9,   -999.0,9,   -999.0,9, 19990711,     1143
  18HU19990627, AR07W,   152,  1, 214446,     12,2,19990711,1135, 54.0857, -54.5145,  174,     19.4,   3.2119,  31.9724,2,-999.0000,9,    389.8,2,   -999.0,9,     0.41,6,     0.47,6,     0.49,6, -999.000,9, -999.000,9, -999.000,9, -999.000,9, -999.000,9,   -999.0,9,   -999.0,9, 19990711,     1144
  18HU19990627, AR07W,   152,  1, 214447,     13,2,19990711,1135, 54.0857, -54.5145,  174,     19.5,   3.2353,  31.9813,2,-999.0000,9,    384.5,2,   -999.0,9,     0.59,2,     0.00,2,     0.44,2, -999.000,9, -999.000,9, -999.000,9, -999.000,9, -999.000,9,   -999.0,9,   -999.0,9, 19990711,     1144
  18HU19990627, AR07W,   152,  1, 214448,     14,4,19990711,1135, 54.0857, -54.5145,  174,      9.2,   3.7261,  31.9166,2,-999.0000,9,    371.2,2,   -999.0,9,  -999.00,9,  -999.00,9,  -999.00,9, -999.000,9, -999.000,9, -999.000,9, -999.000,9, -999.000,9,   -999.0,9,   -999.0,9, 19990711,     1144
  18HU19990627, AR07W,   152,  1, 214449,     15,2,19990711,1135, 54.0857, -54.5145,  174,      9.1,   3.7272,  31.9188,2,-999.0000,9,    371.1,2,   -999.0,9,     0.49,2,     0.00,2,     0.42,2, -999.000,9, -999.000,9, -999.000,9, -999.000,9, -999.000,9,   -999.0,9,   -999.0,9, 19990711,     1145
  18HU19990627, AR07W,   152,  1, 214450,     16,2,19990711,1135, 54.0857, -54.5145,  174,      4.2,   3.7669,  31.9173,2,-999.0000,9,    368.5,2,   -999.0,9,     0.42,6,     0.00,6,     0.44,6, -999.000,9, -999.000,9, -999.000,9, -999.000,9, -999.000,9,   -999.0,9,   -999.0,9, 19990711,     1145