BOTTLE,20120214PRINUNIVRMK
EXPOCODE,SECT_ID,STNNBR,CASTNO,SAMPNO,BTLNBR,BTLNBR_FLAG_W,DATE,TIME,LATITUDE,LONGITUDE,DEPTH,CTDPRS,CTDTMP,CTDSAL,CTDSAL_FLAG_W,SALNTY,SALNTY_FLAG_W,CTDOXY,CTDOXY_FLAG_W,OXYGEN,OXYGEN_FLAG_W,SILCAT,SILCAT_FLAG_W,NITRAT,NITRAT_FLAG_W,PHSPHT,PHSPHT_FLAG_W,CFC-11,CFC-11_FLAG_W,CFC-12,CFC-12_FLAG_W,CFC113,CFC113_FLAG_W,CCL4,CCL4_FLAG_W,MCHFRM,MCHFRM_FLAG_W,TCARBN,TCARBN_FLAG_W,ALKALI,ALKALI_FLAG_W,BTL_DATE,BTL_TIME
,,,,,,,,,,,METERS,DBAR,ITS-90,PSS-78,,PSS-78,,UMOL/KG,,UMOL/KG,,UMOL/KG,,UMOL/KG,,UMOL/KG,,PMOL/KG,,PMOL/KG,,PMOL/KG,,PMOL/KG,,PMOL/KG,,UMOL/KG,,UMOL/KG,,,
  18HU19990627, AR07W,    40,  1, 213590,      1,2,19990701,1424, 53.7960, -55.4348,  197,    197.8,   1.0098,  33.9651,2,  33.9748,2,    356.6,2,    303.5,2,    10.78,6,    11.97,6,     0.93,6,    5.219,6,    3.113,6,    0.823,4,   94.227,4,    8.708,6,   2122.7,2,   2262.9,2, 19990701,     1424
  18HU19990627, AR07W,    40,  1, 213591,      2,2,19990701,1424, 53.7960, -55.4348,  197,    148.7,  -0.4170,  33.4979,2,  33.5169,2,    376.5,2,    324.8,2,     8.79,6,     9.46,6,     0.84,6,    5.705,2,    3.504,2,    0.496,2,  126.167,4,    9.205,2,   2108.6,2,   2239.6,2, 19990701,     1426
  18HU19990627, AR07W,    40,  1, 213592,      3,2,19990701,1424, 53.7960, -55.4348,  197,    124.1,  -0.6495,  33.2721,2,  33.3171,2,    371.3,2,   -999.0,9,     9.43,6,     9.50,6,     0.89,6, -999.000,9, -999.000,9, -999.000,9, -999.000,9, -999.000,9,   -999.0,9,   -999.0,9, 19990701,     1427
  18HU19990627, AR07W,    40,  1, 213593,      4,2,19990701,1424, 53.7960, -55.4348,  197,    100.2,  -0.7292,  33.1646,2,  33.1722,2,    367.9,2,    322.3,6,     9.57,6,     9.23,6,     0.89,6,    5.507,2,    3.532,2,    0.727,4,  116.508,4,    9.538,2,   2110.1,2,   2239.9,2, 19990701,     1428
  18HU19990627, AR07W,    40,  1, 213594,      5,2,19990701,1424, 53.7960, -55.4348,  197,     79.6,  -0.8410,  33.0368,2,  33.0528,2,    368.8,2,   -999.0,9,     8.00,6,     8.10,6,     0.84,6, -999.000,9, -999.000,9, -999.000,9, -999.000,9, -999.000,9,   -999.0,9,   -999.0,9, 19990701,     1429
  18HU19990627, AR07W,    40,  1, 213595,      6,2,19990701,1424, 53.7960, -55.4348,  197,     58.8,  -1.0509,  32.6605,2,  32.6727,2,    375.7,2,   -999.0,9,     8.65,6,     7.76,6,     0.87,6, -999.000,9, -999.000,9, -999.000,9, -999.000,9, -999.000,9,   -999.0,9,   -999.0,9, 19990701,     1430
  18HU19990627, AR07W,    40,  1, 213596,      7,2,19990701,1424, 53.7960, -55.4348,  197,     48.7,  -1.1515,  32.5166,2,  32.5373,2,    377.9,2,    336.3,2,     7.60,6,     7.13,6,     0.82,6,    6.084,2,    3.499,2,    0.455,2,  136.325,4,    9.932,2,   2085.0,2,   2211.3,2, 19990701,     1431
  18HU19990627, AR07W,    40,  1, 213597,      8,2,19990701,1424, 53.7960, -55.4348,  197,     39.0,  -1.2118,  32.3657,2,  32.3906,2,    383.9,2,   -999.0,9,     6.81,6,     6.42,6,     0.82,6, -999.000,9, -999.000,9, -999.000,9, -999.000,9, -999.000,9,   -999.0,9,   -999.0,9, 19990701,     1431
  18HU19990627, AR07W,    40,  1, 213598,      9,2,19990701,1424, 53.7960, -55.4348,  197,     29.7,  -1.1017,  32.2115,2,  32.2103,2,    403.9,2,    361.3,2,     4.41,6,     4.55,6,     0.71,6,    6.400,2,    3.501,2,    0.549,2,  136.637,4,    9.478,2,   -999.0,9,   2196.3,2, 19990701,     1432
  18HU19990627, AR07W,    40,  1, 213599,     10,2,19990701,1424, 53.7960, -55.4348,  197,     18.6,  -0.5198,  31.8883,2,  31.9543,2,    436.3,2,   -999.0,9,     2.00,6,     1.19,6,     0.53,6, -999.000,9, -999.000,9, -999.000,9, -999.000,9, -999.000,9,   -999.0,9,   -999.0,9, 19990701,     1433
  18HU19990627, AR07W,    40,  1, 213600,     11,2,19990701,1424, 53.7960, -55.4348,  197,      8.7,   2.6685,  31.1447,2,  31.2227,2,    426.0,2,    401.1,2,     1.06,6,     0.84,6,     0.42,6,    6.070,2,    3.792,2,    0.460,2,  157.455,4,    8.234,2,   1914.1,2,   2135.8,2, 19990701,     1434
  18HU19990627, AR07W,    40,  1, 213601,     12,2,19990701,1424, 53.7960, -55.4348,  197,      4.2,   2.7608,  31.1460,2,  31.1620,6,    424.2,2,   -999.0,9,     0.83,6,     0.73,6,     0.41,6, -999.000,9, -999.000,9, -999.000,9, -999.000,9, -999.000,9,   -999.0,9,   -999.0,9, 19990701,     1434
  18HU19990627, AR07W,    42,  1, 213602,      1,2,19990701,1736, 53.9887, -55.2498,  144,    141.9,   0.6890,  33.8554,2,  33.7313,6,    364.6,2,    307.7,2,    10.87,6,    11.99,6,     0.89,6,    5.422,6,    3.161,6,    0.412,2,   89.105,4,    8.744,6,   2119.2,2,   2269.4,2, 19990701,     1736
  18HU19990627, AR07W,    42,  1, 213603,      2,2,19990701,1736, 53.9887, -55.2498,  144,    125.8,   0.0421,  33.5978,2,  33.6006,2,    364.9,2,   -999.0,9,    10.08,6,    11.45,6,     0.88,6, -999.000,9, -999.000,9, -999.000,9, -999.000,9, -999.000,9,   -999.0,9,   -999.0,9, 19990701,     1738
  18HU19990627, AR07W,    42,  1, 213604,      3,2,19990701,1736, 53.9887, -55.2498,  144,    101.0,  -0.4747,  33.3350,2,  33.3518,2,    373.0,2,    322.8,6,     9.26,6,     9.90,6,     0.88,6,    5.978,2,    3.801,2,    0.452,2,  131.144,4,    9.146,2,   2108.3,2,   2248.2,2, 19990701,     1739
  18HU19990627, AR07W,    42,  1, 213605,      4,2,19990701,1736, 53.9887, -55.2498,  144,     89.9,  -0.5760,  33.2350,2,  33.2490,2,    369.8,2,   -999.0,9,     8.91,6,     9.13,6,     0.86,6, -999.000,9, -999.000,9, -999.000,9, -999.000,9, -999.000,9,   -999.0,9,   -999.0,9, 19990701,     1740
  18HU19990627, AR07W,    42,  1, 213606,      5,2,19990701,1736, 53.9887, -55.2498,  144,     79.5,  -0.6709,  33.1212,2,  33.1360,2,    369.6,2,   -999.0,9,     8.90,6,     9.05,6,     0.88,6, -999.000,9, -999.000,9, -999.000,9, -999.000,9, -999.000,9,   -999.0,9,   -999.0,9, 19990701,     1741
  18HU19990627, AR07W,    42,  1, 213607,      6,2,19990701,1736, 53.9887, -55.2498,  144,     70.1,  -0.7479,  33.0372,2,  33.0498,2,    368.5,2,   -999.0,9,     7.56,6,     8.18,6,     0.85,6, -999.000,9, -999.000,9, -999.000,9, -999.000,9, -999.000,9,   -999.0,9,   -999.0,9, 19990701,     1742
  18HU19990627, AR07W,    42,  1, 213608,      7,2,19990701,1736, 53.9887, -55.2498,  144,     60.1,  -0.8293,  32.9138,2,  32.9406,2,    372.3,2,   -999.0,9,     7.92,6,     8.47,6,     0.86,6, -999.000,9, -999.000,9, -999.000,9, -999.000,9, -999.000,9,   -999.0,9,   -999.0,9, 19990701,     1743
  18HU19990627, AR07W,    42,  1, 213609,      8,2,19990701,1736, 53.9887, -55.2498,  144,     49.9,  -0.9680,  32.7824,2,  32.7892,2,    370.6,2,    331.3,2,     6.63,6,     8.10,6,     0.88,6,    6.349,2,    3.946,2,    0.446,2,  140.596,4,    9.330,2,   2105.7,2,   2244.4,2, 19990701,     1744
  18HU19990627, AR07W,    42,  1, 213610,      9,2,19990701,1736, 53.9887, -55.2498,  144,     40.6,  -1.1772,  32.6140,2,  32.6245,2,    374.7,2,   -999.0,9,     4.75,6,     7.24,6,     0.87,6, -999.000,9, -999.000,9, -999.000,9, -999.000,9, -999.000,9,   -999.0,9,   -999.0,9, 19990701,     1745
  18HU19990627, AR07W,    42,  1, 213611,     10,2,19990701,1736, 53.9887, -55.2498,  144,     29.5,  -0.6788,  32.3298,2,  32.4129,2,    416.8,2,    379.1,2,     1.76,6,     2.42,6,     0.62,6,    6.051,2,    3.177,2,    0.999,4,   65.996,4,    9.799,2,   2050.5,2,   2219.2,2, 19990701,     1746
  18HU19990627, AR07W,    42,  1, 213612,     11,2,19990701,1736, 53.9887, -55.2498,  144,     20.2,   0.3164,  31.9481,2,  32.0464,2,    447.2,2,   -999.0,9,     1.11,6,     1.02,6,     0.48,6, -999.000,9, -999.000,9, -999.000,9, -999.000,9, -999.000,9,   -999.0,9,   -999.0,9, 19990701,     1747
  18HU19990627, AR07W,    42,  1, 213613,     12,2,19990701,1736, 53.9887, -55.2498,  144,     10.1,   3.6185,  31.6324,2,  31.7045,2,    418.8,2,    385.8,2,     0.00,6,     0.00,6,     0.31,6,    6.241,2,    3.598,2,    0.461,2,  160.006,4,    7.887,2,   1926.0,2,   2176.6,2, 19990701,     1748
  18HU19990627, AR07W,    42,  1, 213614,     13,2,19990701,1736, 53.9887, -55.2498,  144,      9.8,   3.0879,  31.5570,2,  31.6232,2,    417.0,2,   -999.0,9,     0.41,6,     0.50,6,     0.35,6, -999.000,9, -999.000,9, -999.000,9, -999.000,9, -999.000,9,   -999.0,9,   -999.0,9, 19990701,     1748
  18HU19990627, AR07W,    42,  1, 213615,     14,2,19990701,1736, 53.9887, -55.2498,  144,      3.5,   2.4266,  31.1414,2,  31.2322,2,    411.3,2,   -999.0,9,     1.33,6,     1.56,6,     0.49,6, -999.000,9, -999.000,9, -999.000,9, -999.000,9, -999.000,9,   -999.0,9,   -999.0,9, 19990701,     1749
  18HU19990627, AR07W,    44,  1, 213616,      1,2,19990701,1954, 54.2197, -55.0232,  161,    160.0,   1.3688,  34.0877,2,  34.0506,2,    339.0,2,   -999.0,9,    12.91,6,    12.78,6,     0.98,6, -999.000,9, -999.000,9, -999.000,9, -999.000,9, -999.000,9,   -999.0,9,   -999.0,9, 19990701,     1954
  18HU19990627, AR07W,    44,  1, 213617,      2,2,19990701,1954, 54.2197, -55.0232,  161,    150.5,   1.1442,  34.0085,2,  34.0021,2,    340.6,2,    295.7,2,    11.66,6,    12.95,6,     0.94,6,    5.372,2,    3.244,2,    0.407,2,  115.573,4,    8.272,2,   2129.9,2,   2260.7,2, 19990701,     1955
  18HU19990627, AR07W,    44,  1, 213618,      3,2,19990701,1954, 54.2197, -55.0232,  161,    125.4,  -0.1030,  33.5641,2,  33.5800,2,    369.3,2,   -999.0,9,     9.46,6,    10.93,6,     0.89,6, -999.000,9, -999.000,9, -999.000,9, -999.000,9, -999.000,9,   -999.0,9,   -999.0,9, 19990701,     1957
  18HU19990627, AR07W,    44,  1, 213619,      4,2,19990701,1954, 54.2197, -55.0232,  161,    100.7,  -0.5751,  33.2737,2,  33.2869,2,    369.5,2,    319.2,2,     8.20,6,     9.83,6,     0.89,6,    6.064,2,    3.563,2,    0.476,2,  136.815,4,    9.403,2,   2134.2,2,   -999.0,9, 19990701,     1958
  18HU19990627, AR07W,    44,  1, 213620,      5,2,19990701,1954, 54.2197, -55.0232,  161,     80.5,  -0.9184,  32.9825,2,  32.9989,6,    371.8,2,   -999.0,9,     8.64,6,     9.21,6,     0.91,6, -999.000,9, -999.000,9, -999.000,9, -999.000,9, -999.000,9,   -999.0,9,   -999.0,9, 19990701,     1959
  18HU19990627, AR07W,    44,  1, 213621,      6,2,19990701,1954, 54.2197, -55.0232,  161,     60.4,  -1.1026,  32.7777,2,  32.7837,2,    371.2,2,   -999.0,9,     7.39,6,     8.43,6,     0.88,6, -999.000,9, -999.000,9, -999.000,9, -999.000,9, -999.000,9,   -999.0,9,   -999.0,9, 19990701,     2000
  18HU19990627, AR07W,    44,  1, 213622,      7,2,19990701,1954, 54.2197, -55.0232,  161,     50.4,  -1.2531,  32.6929,2,  32.7018,2,    368.7,2,    326.7,6,     7.43,6,     8.30,6,     0.92,6,    6.553,2,    3.756,2,    0.512,2,  147.262,4,    9.646,2,   2129.4,2,   -999.0,9, 19990701,     2002
  18HU19990627, AR07W,    44,  1, 213623,      8,2,19990701,1954, 54.2197, -55.0232,  161,     41.6,  -1.0701,  32.6163,2,  32.6307,2,    382.0,2,   -999.0,9,     3.01,6,     6.03,6,     0.82,6, -999.000,9, -999.000,9, -999.000,9, -999.000,9, -999.000,9,   -999.0,9,   -999.0,9, 19990701,     2003
  18HU19990627, AR07W,    44,  1, 213624,      9,2,19990701,1954, 54.2197, -55.0232,  161,     30.5,  -0.1264,  32.2174,2,  32.2568,2,    444.0,2,    408.7,2,     0.00,6,     0.00,6,     0.46,6,    6.719,6,    3.788,6,    0.527,6,  131.252,4,    9.236,6,   2031.8,2,   2207.9,2, 19990701,     2004
  18HU19990627, AR07W,    44,  1, 213625,     10,2,19990701,1954, 54.2197, -55.0232,  161,     19.8,   3.2257,  31.7311,2,  31.8879,2,    423.7,2,   -999.0,9,     0.00,6,     0.00,6,     0.36,6, -999.000,9, -999.000,9, -999.000,9, -999.000,9, -999.000,9,   -999.0,9,   -999.0,9, 19990701,     2005
  18HU19990627, AR07W,    44,  1, 213626,     11,2,19990701,1954, 54.2197, -55.0232,  161,     10.3,   3.7707,  31.7154,2,  31.7266,2,    407.7,2,    378.9,2,     0.00,6,     0.00,6,     0.32,6,    6.131,2,    3.563,2,    0.487,2,  157.841,4,    7.815,2,   1952.4,2,   2173.7,2, 19990701,     2006
  18HU19990627, AR07W,    44,  1, 213627,     12,2,19990701,1954, 54.2197, -55.0232,  161,     10.1,   3.7734,  31.7023,2,-999.0000,9,    404.2,2,   -999.0,9,  -999.00,9,  -999.00,9,  -999.00,9, -999.000,9, -999.000,9, -999.000,9, -999.000,9, -999.000,9,   -999.0,9,   -999.0,9, 19990701,     2006
  18HU19990627, AR07W,    44,  1, 213628,     13,2,19990701,1954, 54.2197, -55.0232,  161,     10.2,   3.7890,  31.6764,2,-999.0000,9,    408.4,2,   -999.0,9,  -999.00,9,  -999.00,9,  -999.00,9, -999.000,9, -999.000,9, -999.000,9, -999.000,9, -999.000,9,   -999.0,9,   -999.0,9, 19990701,     2006
  18HU19990627, AR07W,    44,  1, 213629,     14,2,19990701,1954, 54.2197, -55.0232,  161,     10.2,   3.8605,  31.6198,2,-999.0000,9,    406.8,2,   -999.0,9,  -999.00,9,  -999.00,9,  -999.00,9, -999.000,9, -999.000,9, -999.000,9, -999.000,9, -999.000,9,   -999.0,9,   -999.0,9, 19990701,     2006
  18HU19990627, AR07W,    44,  1, 213630,     15,2,19990701,1954, 54.2197, -55.0232,  161,      3.2,   3.9810,  31.5376,2,  31.5031,2,    397.3,2,   -999.0,9,     0.37,6,     0.54,6,     0.37,6, -999.000,9, -999.000,9, -999.000,9, -999.000,9, -999.000,9,   -999.0,9,   -999.0,9, 19990701,     2007
  18HU19990627, AR07W,    46,  1, 213631,      1,2,19990701,2223, 54.4918, -54.7560,  195,    189.3,   2.8183,  34.4889,2,  34.4948,2,    322.4,2,    290.5,2,    10.93,6,    13.88,6,     0.93,6, -999.000,9, -999.000,9, -999.000,9, -999.000,9, -999.000,9,   2152.9,2,   2281.3,2, 19990701,     2223
  18HU19990627, AR07W,    46,  1, 213632,      2,2,19990701,2223, 54.4918, -54.7560,  195,    170.2,   1.8261,  34.2082,2,  34.2373,2,    340.5,2,    304.4,6,     8.69,6,    12.45,6,     0.91,6,    5.387,2,    2.859,2,    0.422,2,   27.725,4,    8.297,2,   2143.3,2,   2263.6,2, 19990701,     2224
  18HU19990627, AR07W,    46,  1, 213633,      3,2,19990701,2223, 54.4918, -54.7560,  195,    149.7,   1.0085,  33.9649,2,  33.9863,6,    351.4,2,   -999.0,9,     8.76,6,    11.37,6,     0.89,6, -999.000,9, -999.000,9, -999.000,9, -999.000,9, -999.000,9,   -999.0,9,   -999.0,9, 19990701,     2225
  18HU19990627, AR07W,    46,  1, 213634,      4,2,19990701,2223, 54.4918, -54.7560,  195,    125.1,   0.3279,  33.7644,2,  33.7751,2,    363.2,2,    320.1,2,     7.85,6,     9.54,6,     0.85,6,    5.718,2,    2.879,2,    0.485,2,   29.305,4,    8.654,2,   2130.0,2,   2253.3,2, 19990701,     2227
  18HU19990627, AR07W,    46,  1, 213635,      5,2,19990701,2223, 54.4918, -54.7560,  195,    100.3,  -0.1758,  33.4844,2,  33.5029,2,    362.1,2,   -999.0,9,     8.62,6,     9.66,6,     0.91,6, -999.000,9, -999.000,9, -999.000,9, -999.000,9, -999.000,9,   -999.0,9,   -999.0,9, 19990701,     2228
  18HU19990627, AR07W,    46,  1, 213636,      6,2,19990701,2223, 54.4918, -54.7560,  195,     90.1,  -0.3203,  33.4007,2,  33.4143,2,    361.1,2,    320.6,2,     8.56,6,     9.53,6,     0.89,6,    5.998,2,    3.034,2,    0.561,2,   29.261,4,    8.808,2,   2134.3,2,   2287.9,2, 19990701,     2229
  18HU19990627, AR07W,    46,  1, 213637,      7,2,19990701,2223, 54.4918, -54.7560,  195,     79.1,  -0.6207,  33.2105,2,  33.2152,2,    359.9,2,   -999.0,9,     8.02,6,     9.40,6,     0.91,6, -999.000,9, -999.000,9, -999.000,9, -999.000,9, -999.000,9,   -999.0,9,   -999.0,9, 19990701,     2229
  18HU19990627, AR07W,    46,  1, 213638,      8,2,19990701,2223, 54.4918, -54.7560,  195,     69.9,  -0.7086,  33.1150,2,  33.1207,2,    360.6,2,   -999.0,9,     8.43,6,     9.02,6,     0.94,6, -999.000,9, -999.000,9, -999.000,9, -999.000,9, -999.000,9,   -999.0,9,   -999.0,9, 19990701,     2230
  18HU19990627, AR07W,    46,  1, 213639,      9,2,19990701,2223, 54.4918, -54.7560,  195,     59.6,  -0.7790,  33.0116,2,  33.0237,2,    367.4,2,    327.3,2,     8.83,6,     8.29,6,     0.92,6,    6.147,6,    3.253,6,    0.526,6,   67.453,4,    9.232,6,   2127.5,2,   2218.5,2, 19990701,     2231
  18HU19990627, AR07W,    46,  1, 213640,     10,2,19990701,2223, 54.4918, -54.7560,  195,     50.2,  -0.7402,  32.8951,2,  32.9057,2,    368.8,2,   -999.0,9,     6.75,6,     7.32,6,     0.91,6, -999.000,9, -999.000,9, -999.000,9, -999.000,9, -999.000,9,   -999.0,9,   -999.0,9, 19990701,     2232
  18HU19990627, AR07W,    46,  1, 213641,     11,2,19990701,2223, 54.4918, -54.7560,  195,     39.1,   1.3067,  32.9071,2,  32.9121,2,    394.1,2,    362.8,2,     2.52,6,     2.18,6,     0.50,6,    6.631,2,    3.202,2,    0.592,2,   34.931,4,    8.322,2,   2054.7,2,   -999.0,9, 19990701,     2232
  18HU19990627, AR07W,    46,  1, 213642,     12,2,19990701,2223, 54.4918, -54.7560,  195,     29.8,   0.1625,  32.4476,2,  32.5901,2,    419.5,2,   -999.0,9,     1.70,6,     1.77,6,     0.56,6, -999.000,9, -999.000,9, -999.000,9, -999.000,9, -999.000,9,   -999.0,9,   -999.0,9, 19990701,     2233
  18HU19990627, AR07W,    46,  1, 213643,     13,2,19990701,2223, 54.4918, -54.7560,  195,     19.6,   1.8413,  32.1379,2,  32.1742,2,    401.0,2,    372.0,2,     1.86,6,     2.27,6,     0.54,6, -999.000,9, -999.000,9, -999.000,9, -999.000,9, -999.000,9,   2021.1,2,   2186.9,2, 19990701,     2234
  18HU19990627, AR07W,    46,  1, 213644,     14,2,19990701,2223, 54.4918, -54.7560,  195,      9.9,   3.1109,  31.9754,2,  31.9857,2,    397.5,2,   -999.0,9,     0.67,6,     0.69,6,     0.40,6, -999.000,9, -999.000,9, -999.000,9, -999.000,9, -999.000,9,   -999.0,9,   -999.0,9, 19990701,     2234
  18HU19990627, AR07W,    46,  1, 213645,     15,2,19990701,2223, 54.4918, -54.7560,  195,     10.2,   3.1097,  31.9782,2,  31.9867,2,    399.4,2,    373.1,2,     0.59,6,     0.62,6,     0.39,6,    6.275,2,    3.188,2,    0.558,2,   37.006,4,    8.214,2,   1985.8,2,   2175.0,2, 19990701,     2235
  18HU19990627, AR07W,    46,  1, 213646,     16,2,19990701,2223, 54.4918, -54.7560,  195,      3.8,   3.3747,  31.9799,2,  31.9859,2,    397.1,2,   -999.0,9,     0.56,6,     0.62,6,     0.39,6, -999.000,9, -999.000,9, -999.000,9, -999.000,9, -999.000,9,   -999.0,9,   -999.0,9, 19990701,     2235