BOTTLE,20120214PRINUNIVRMK
EXPOCODE,SECT_ID,STNNBR,CASTNO,SAMPNO,BTLNBR,BTLNBR_FLAG_W,DATE,TIME,LATITUDE,LONGITUDE,DEPTH,CTDPRS,CTDTMP,CTDSAL,CTDSAL_FLAG_W,SALNTY,SALNTY_FLAG_W,CTDOXY,CTDOXY_FLAG_W,OXYGEN,OXYGEN_FLAG_W,SILCAT,SILCAT_FLAG_W,NITRAT,NITRAT_FLAG_W,PHSPHT,PHSPHT_FLAG_W,CFC-11,CFC-11_FLAG_W,CFC-12,CFC-12_FLAG_W,CFC113,CFC113_FLAG_W,CCL4,CCL4_FLAG_W,MCHFRM,MCHFRM_FLAG_W,TCARBN,TCARBN_FLAG_W,ALKALI,ALKALI_FLAG_W,BTL_DATE,BTL_TIME
,,,,,,,,,,,METERS,DBAR,ITS-90,PSS-78,,PSS-78,,UMOL/KG,,UMOL/KG,,UMOL/KG,,UMOL/KG,,UMOL/KG,,PMOL/KG,,PMOL/KG,,PMOL/KG,,PMOL/KG,,PMOL/KG,,UMOL/KG,,UMOL/KG,,,
  18HU19990627, AR07W,   112,  1, 214140,      1,2,19990707,1442, 60.2935, -48.5470, 2694,    620.4,   4.1833,  34.9035,2,  34.9158,2,    313.6,2,   -999.0,9,     8.34,6,    16.09,6,     0.99,6,    3.767,2,    2.276,2,    0.237,2,   93.484,4,    6.683,2,   2162.5,3,   2303.5,2, 19990707,     1442
  18HU19990627, AR07W,   112,  1, 214141,      2,2,19990707,1442, 60.2935, -48.5470, 2694,    497.1,   4.4909,  34.9263,2,  34.9353,2,    308.2,2,   -999.0,9,     8.07,6,    15.70,6,     0.99,6,    3.723,2,    2.289,2,    0.262,2,   92.097,4,    6.470,2,   2163.9,3,   2305.3,2, 19990707,     1447
  18HU19990627, AR07W,   112,  1, 214142,      3,2,19990707,1442, 60.2935, -48.5470, 2694,    496.7,   4.4928,  34.9264,2,  34.9362,2,    308.8,2,   -999.0,9,     8.15,6,    15.60,6,     0.98,6, -999.000,9, -999.000,9, -999.000,9, -999.000,9, -999.000,9,   -999.0,9,   -999.0,9, 19990707,     1447
  18HU19990627, AR07W,   112,  1, 214143,      4,2,19990707,1442, 60.2935, -48.5470, 2694,    368.1,   4.7754,  34.9455,2,  34.9543,2,    304.7,2,   -999.0,9,     7.92,6,    15.27,6,     0.97,6,    3.741,2,    2.350,2,    0.251,2,   90.701,4,    6.379,2,   2165.1,3,   2308.3,2, 19990707,     1449
  18HU19990627, AR07W,   112,  1, 214144,      5,2,19990707,1442, 60.2935, -48.5470, 2694,    248.8,   5.0879,  34.9675,2,  34.9809,2,    305.1,2,   -999.0,9,     7.72,6,    15.32,6,     0.96,6,    4.129,6,    1.905,6,    0.239,6,   26.073,4,    6.496,6,   2163.1,3,   2320.5,2, 19990707,     1452
  18HU19990627, AR07W,   112,  1, 214145,      6,2,19990707,1442, 60.2935, -48.5470, 2694,    248.9,   5.0910,  34.9679,2,  34.9766,2,    305.0,2,   -999.0,9,     7.70,6,    15.51,6,     0.96,6, -999.000,9, -999.000,9, -999.000,9, -999.000,9, -999.000,9,   -999.0,9,   -999.0,9, 19990707,     1452
  18HU19990627, AR07W,   112,  1, 214146,      7,2,19990707,1442, 60.2935, -48.5470, 2694,    198.7,   5.2951,  34.9743,2,-999.0000,9,    305.5,2,   -999.0,9,     7.52,6,    15.10,6,     0.97,6, -999.000,9, -999.000,9, -999.000,9, -999.000,9, -999.000,9,   -999.0,9,   -999.0,9, 19990707,     1454
  18HU19990627, AR07W,   112,  1, 214147,      8,2,19990707,1442, 60.2935, -48.5470, 2694,    173.8,   5.3999,  34.9719,2,-999.0000,9,    305.1,2,   -999.0,9,     7.36,6,    14.79,6,     0.95,6, -999.000,9, -999.000,9, -999.000,9, -999.000,9, -999.000,9,   -999.0,9,   -999.0,9, 19990707,     1455
  18HU19990627, AR07W,   112,  1, 214148,      9,2,19990707,1442, 60.2935, -48.5470, 2694,    159.3,   5.4133,  34.9642,2,  34.9785,2,    305.4,2,   -999.0,9,     7.36,6,    14.79,6,     0.94,6,    3.965,2,    3.048,2,    0.269,2,   96.872,4,    6.096,2,   2158.4,3,   2316.5,2, 19990707,     1455
  18HU19990627, AR07W,   112,  1, 214149,     10,2,19990707,1442, 60.2935, -48.5470, 2694,    148.9,   5.4189,  34.9617,2,-999.0000,9,    304.8,2,   -999.0,9,     7.29,6,    14.44,6,     0.95,6, -999.000,9, -999.000,9, -999.000,9, -999.000,9, -999.000,9,   -999.0,9,   -999.0,9, 19990707,     1456
  18HU19990627, AR07W,   112,  1, 214150,     11,2,19990707,1442, 60.2935, -48.5470, 2694,    123.9,   5.4291,  34.9554,2,-999.0000,9,    309.5,2,   -999.0,9,     7.29,6,    14.24,6,     0.94,6, -999.000,9, -999.000,9, -999.000,9, -999.000,9, -999.000,9,   -999.0,9,   -999.0,9, 19990707,     1457
  18HU19990627, AR07W,   112,  1, 214151,     12,2,19990707,1442, 60.2935, -48.5470, 2694,     99.2,   5.3899,  34.7760,2,  34.8371,2,    312.6,2,   -999.0,9,     5.87,6,    11.66,6,     0.85,6,    3.560,2,    2.478,2,    0.634,3,   96.309,4,    7.126,2,   2141.1,3,   2298.9,2, 19990707,     1458
  18HU19990627, AR07W,   112,  1, 214152,     13,2,19990707,1442, 60.2935, -48.5470, 2694,     99.4,   5.3903,  34.7766,2,  34.8201,2,    315.4,2,   -999.0,9,     5.75,6,    11.61,6,     0.83,6, -999.000,9, -999.000,9, -999.000,9, -999.000,9, -999.000,9,   -999.0,9,   -999.0,9, 19990707,     1458
  18HU19990627, AR07W,   112,  1, 214153,     14,2,19990707,1442, 60.2935, -48.5470, 2694,     59.0,   5.0858,  34.3849,2,  34.4299,2,    329.3,2,   -999.0,9,     2.65,6,     7.21,6,     0.65,6,    4.301,2,    2.742,2,    0.409,2,  120.784,4,    7.179,2,   2094.8,3,   2290.7,2, 19990707,     1459
  18HU19990627, AR07W,   112,  1, 214154,     15,2,19990707,1442, 60.2935, -48.5470, 2694,     11.3,   4.1026,  33.3848,2,  33.3950,2,    357.9,2,   -999.0,9,     0.44,6,     1.91,6,     0.40,6,    5.110,2,    2.901,2,    0.342,4,  143.970,4,    6.760,2,   2026.4,3,   2233.8,2, 19990707,     1501
  18HU19990627, AR07W,   112,  1, 214155,     16,2,19990707,1442, 60.2935, -48.5470, 2694,     11.3,   4.1925,  33.3976,2,  33.3926,2,    357.5,2,   -999.0,9,     0.45,6,     1.90,6,     0.37,6, -999.000,9, -999.000,9, -999.000,9, -999.000,9, -999.000,9,   -999.0,9,   -999.0,9, 19990707,     1501
  18HU19990627, AR07W,   116,  1, 214156,      1,2,19990707,2048, 60.2928, -48.5432,  162,   2802.7,   2.3164,  34.8610,2,  34.8725,6,    310.8,2,   -999.0,9,    10.28,6,    15.04,6,     0.99,6,    2.824,2,    1.849,2,    0.239,2,   75.043,4,    6.271,2,   2168.0,3,   2335.6,2, 19990707,     2048
  18HU19990627, AR07W,   116,  1, 214157,      2,2,19990707,2048, 60.2928, -48.5432,  162,   2798.8,   2.3313,  34.8616,2,  34.8743,2,    310.2,2,   -999.0,9,    10.26,6,    14.98,6,     0.96,6, -999.000,9, -999.000,9, -999.000,9, -999.000,9, -999.000,9,   -999.0,9,   -999.0,9, 19990707,     2048
  18HU19990627, AR07W,   116,  1, 214158,      3,2,19990707,2048, 60.2928, -48.5432,  162,   2710.9,   2.4389,  34.8689,2,  34.8804,2,    304.9,2,    284.9,2,    10.78,6,    15.33,6,     0.97,6,    2.678,2,    1.710,2,    0.207,2,   69.298,4,    6.062,2,   -999.0,9,   2311.0,2, 19990707,     2050
  18HU19990627, AR07W,   116,  1, 214159,      4,2,19990707,2048, 60.2928, -48.5432,  162,   2583.0,   2.6619,  34.8659,2,  34.8814,2,    303.7,2,    285.0,2,    10.24,6,    15.37,6,     0.97,6,    2.758,2,    1.646,2,    0.198,2,   72.591,4,    6.442,2,   2168.7,3,   2316.7,2, 19990707,     2054
  18HU19990627, AR07W,   116,  1, 214160,      5,2,19990707,2048, 60.2928, -48.5432,  162,   2581.9,   2.6628,  34.8658,2,  34.8772,2,    303.9,2,   -999.0,9,    10.27,6,    15.43,6,     0.97,6, -999.000,9, -999.000,9, -999.000,9, -999.000,9, -999.000,9,   -999.0,9,   -999.0,9, 19990707,     2055
  18HU19990627, AR07W,   116,  1, 214161,      6,2,19990707,2048, 60.2928, -48.5432,  162,   2430.7,   2.8400,  34.8737,2,  34.8847,2,    300.2,2,    283.0,2,    10.70,6,    15.89,6,     1.00,6,    2.735,2,    1.514,2,    0.207,2,   68.577,4,    6.261,2,   2160.5,3,   2320.4,2, 19990707,     2058
  18HU19990627, AR07W,   116,  1, 214162,      7,2,19990707,2048, 60.2928, -48.5432,  162,   2270.2,   2.8720,  34.8703,2,  34.8821,2,    299.3,2,    284.0,2,    10.32,6,    15.88,6,     1.01,6,    2.734,2,    1.629,2,    0.199,2,   71.608,4,    6.648,2,   2164.8,3,   2311.2,2, 19990707,     2101
  18HU19990627, AR07W,   116,  1, 214163,      8,2,19990707,2048, 60.2928, -48.5432,  162,   2270.2,   2.8708,  34.8704,2,  34.8813,2,    300.0,2,   -999.0,9,    10.34,6,    15.67,6,     0.99,6, -999.000,9, -999.000,9, -999.000,9, -999.000,9, -999.000,9,   -999.0,9,   -999.0,9, 19990707,     2102
  18HU19990627, AR07W,   116,  1, 214164,      9,2,19990707,2048, 60.2928, -48.5432,  162,   2150.5,   2.8906,  34.8657,2,  34.8772,2,    300.1,2,    285.0,2,    10.20,6,    15.95,6,     1.00,6,    2.954,6,    1.673,6,    0.188,6,   56.309,4,    7.077,6,   2160.1,3,   2303.7,2, 19990707,     2105
  18HU19990627, AR07W,   116,  1, 214165,     10,2,19990707,2048, 60.2928, -48.5432,  162,   1991.1,   2.9220,  34.8635,2,  34.8744,2,    301.0,2,    285.7,2,    10.01,6,    15.81,6,     0.97,6,    2.965,2,    1.781,2,    0.217,2,   77.066,4,    7.320,2,   2162.5,3,   2311.7,2, 19990707,     2108
  18HU19990627, AR07W,   116,  1, 214166,     11,2,19990707,2048, 60.2928, -48.5432,  162,   1991.5,   2.9222,  34.8635,2,  34.8742,2,    300.2,2,   -999.0,9,    10.11,6,    16.07,6,     1.00,6, -999.000,9, -999.000,9, -999.000,9, -999.000,9, -999.000,9,   -999.0,9,   -999.0,9, 19990707,     2108
  18HU19990627, AR07W,   116,  1, 214167,     12,2,19990707,2048, 60.2928, -48.5432,  162,   1830.3,   2.9821,  34.8575,2,  34.8679,2,    300.4,2,    287.4,2,     9.85,6,    16.08,6,     1.03,6,    3.133,2,    2.075,2,    0.247,2,   81.005,4,    7.937,2,   2182.7,3,   2322.7,2, 19990707,     2112
  18HU19990627, AR07W,   116,  1, 214168,     13,2,19990707,2048, 60.2928, -48.5432,  162,   1750.5,   3.0153,  34.8515,2,  34.8626,2,    302.7,2,   -999.0,9,     9.68,6,    16.23,6,     1.03,6, -999.000,9, -999.000,9, -999.000,9, -999.000,9, -999.000,9,   -999.0,9,   -999.0,9, 19990707,     2114
  18HU19990627, AR07W,   116,  1, 214169,     14,2,19990707,2048, 60.2928, -48.5432,  162,   1669.5,   3.0219,  34.8508,2,  34.8624,2,    302.0,2,    289.4,2,     9.72,6,    16.42,6,     1.02,6,    3.338,2,    1.901,2,    0.238,2,   86.592,4,    9.100,2,   2159.9,3,   2302.7,2, 19990707,     2116
  18HU19990627, AR07W,   116,  1, 214170,     15,2,19990707,2048, 60.2928, -48.5432,  162,   1499.7,   3.1377,  34.8551,2,  34.8661,2,    298.5,2,    286.8,2,     9.91,6,    16.74,6,     1.05,6,    3.332,2,    1.910,2,    0.191,2,   86.036,4,    8.758,2,   2161.0,3,   2312.2,2, 19990707,     2119
  18HU19990627, AR07W,   116,  1, 214171,     16,2,19990707,2048, 60.2928, -48.5432,  162,   1499.8,   3.1379,  34.8551,2,  34.8693,2,    297.5,2,   -999.0,9,     9.92,6,    16.57,6,     1.04,6, -999.000,9, -999.000,9, -999.000,9, -999.000,9, -999.000,9,   -999.0,9,   -999.0,9, 19990707,     2119
  18HU19990627, AR07W,   116,  1, 214172,     17,2,19990707,2048, 60.2928, -48.5432,  162,   1330.9,   3.1912,  34.8581,2,  34.8728,2,    296.5,2,    285.1,2,     9.70,6,    16.35,6,     1.04,6,    3.334,2,    2.004,2,    0.234,2,   85.035,4,    8.595,2,   2163.1,3,   2308.7,2, 19990707,     2123
  18HU19990627, AR07W,   116,  1, 214173,     18,2,19990707,2048, 60.2928, -48.5432,  162,   1248.5,   3.2481,  34.8607,2,  34.8712,2,    294.9,2,   -999.0,9,     9.53,6,    16.36,6,     1.02,6, -999.000,9, -999.000,9, -999.000,9, -999.000,9, -999.000,9,   -999.0,9,   -999.0,9, 19990707,     2125
  18HU19990627, AR07W,   116,  1, 214174,     19,2,19990707,2048, 60.2928, -48.5432,  162,   1170.4,   3.3193,  34.8636,2,  34.8799,2,    293.2,2,    282.3,6,     9.58,6,    16.51,6,     1.03,6,    3.362,2,    2.029,2,    0.224,2,   84.975,4,    8.009,2,   2159.4,3,   2307.2,2, 19990707,     2127
  18HU19990627, AR07W,   116,  1, 214175,     20,2,19990707,2048, 60.2928, -48.5432,  162,   1000.4,   3.5407,  34.8750,2,  34.8848,2,    288.9,2,   -999.0,9,     9.45,6,    16.36,6,     1.03,6,    3.456,2,    2.062,2,    0.228,2,   84.107,4,    7.594,2,   2163.0,3,   2307.0,2, 19990707,     2130
  18HU19990627, AR07W,   116,  1, 214176,     21,2,19990707,2048, 60.2928, -48.5432,  162,   1000.5,   3.5351,  34.8746,2,  34.8881,2,    288.8,2,   -999.0,9,     9.27,6,    16.15,6,     1.03,6, -999.000,9, -999.000,9, -999.000,9, -999.000,9, -999.000,9,   -999.0,9,   -999.0,9, 19990707,     2130
  18HU19990627, AR07W,   116,  1, 214177,     22,2,19990707,2048, 60.2928, -48.5432,  162,    870.0,   3.7261,  34.8840,2,  34.8944,2,    287.2,2,    277.6,2,     9.20,6,    16.31,6,     1.03,6,    3.372,2,    2.039,2,    0.247,2,   82.259,4,    7.195,2,   2160.9,3,   2315.2,2, 19990707,     2132
  18HU19990627, AR07W,   116,  1, 214178,     23,2,19990707,2048, 60.2928, -48.5432,  162,    748.1,   3.8612,  34.8881,2,  34.8981,2,    286.5,2,    278.9,2,     8.94,6,    16.12,6,     1.02,6,    3.487,2,    2.046,2,    0.228,2,   86.306,4,    7.076,2,   2161.2,3,   2301.5,2, 19990707,     2135
  18HU19990627, AR07W,   116,  1, 214179,     24,2,19990707,2048, 60.2928, -48.5432,  162,    747.4,   3.8562,  34.8878,2,  34.8979,2,    287.0,2,   -999.0,9,     8.96,6,    15.99,6,     1.03,6, -999.000,9, -999.000,9, -999.000,9, -999.000,9, -999.000,9,   -999.0,9,   -999.0,9, 19990707,     2135
  18HU19990627, AR07W,   120,  1, 214180,      1,2,19990708,0406, 60.4493, -48.3778,  584,    144.0,   2.1803,  34.0380,2,  34.0462,6,    357.5,2,    319.0,2,     6.00,6,     9.37,6,     0.81,6,    5.164,2,    3.089,2,    0.372,2,   43.386,4,    7.977,2,   2114.9,2,   2293.8,2, 19990708,      406
  18HU19990627, AR07W,   120,  1, 214181,      2,2,19990708,0406, 60.4493, -48.3778,  584,    120.5,   2.0980,  34.0067,2,  34.0094,2,    354.2,2,    316.3,6,     6.02,6,     9.07,6,     0.78,6,    5.075,2,    2.982,2,    0.362,2,   41.198,4,    7.543,2,   2112.6,2,   2264.9,2, 19990708,      408
  18HU19990627, AR07W,   120,  1, 214182,      3,2,19990708,0406, 60.4493, -48.3778,  584,     80.4,   2.2580,  33.9037,2,  33.8844,2,    357.7,2,    324.5,2,     4.45,6,     7.36,6,     0.69,6,    5.246,2,    2.998,2,    0.431,2,   43.370,4,    7.862,2,   2098.7,2,   2265.9,2, 19990708,      409
  18HU19990627, AR07W,   120,  1, 214183,      4,2,19990708,0406, 60.4493, -48.3778,  584,     60.0,   1.6140,  33.6632,2,-999.0000,9,    362.7,2,   -999.0,9,  -999.00,9,  -999.00,9,  -999.00,9, -999.000,9, -999.000,9, -999.000,9, -999.000,9, -999.000,9,   -999.0,9,   -999.0,9, 19990708,      410
  18HU19990627, AR07W,   120,  1, 214184,      5,2,19990708,0406, 60.4493, -48.3778,  584,     49.7,   1.3628,  33.5965,2,-999.0000,9,    367.5,2,   -999.0,9,  -999.00,9,  -999.00,9,  -999.00,9, -999.000,9, -999.000,9, -999.000,9, -999.000,9, -999.000,9,   -999.0,9,   -999.0,9, 19990708,      411
  18HU19990627, AR07W,   120,  1, 214185,      6,2,19990708,0406, 60.4493, -48.3778,  584,     39.7,   1.2746,  33.5761,2,  33.5878,2,    367.0,2,    334.9,2,     4.31,6,     6.34,6,     0.66,6,    5.583,6,    3.079,6,    0.450,6,   78.630,4,    8.514,6,   2091.0,2,   2237.2,3, 19990708,      412
  18HU19990627, AR07W,   120,  1, 214186,      7,2,19990708,0406, 60.4493, -48.3778,  584,     29.9,   0.7831,  33.4105,2,-999.0000,9,    371.4,2,   -999.0,9,  -999.00,9,  -999.00,9,  -999.00,9, -999.000,9, -999.000,9, -999.000,9, -999.000,9, -999.000,9,   -999.0,9,   -999.0,9, 19990708,      413
  18HU19990627, AR07W,   120,  1, 214187,      8,2,19990708,0406, 60.4493, -48.3778,  584,     20.1,   0.1345,  33.1426,2,-999.0000,9,    383.1,2,   -999.0,9,  -999.00,9,  -999.00,9,  -999.00,9, -999.000,9, -999.000,9, -999.000,9, -999.000,9, -999.000,9,   -999.0,9,   -999.0,9, 19990708,      414
  18HU19990627, AR07W,   120,  1, 214188,      9,2,19990708,0406, 60.4493, -48.3778,  584,     10.1,   0.4652,  32.2288,2,  32.2646,2,    409.7,2,    375.8,2,     1.54,6,     0.73,6,     0.40,6,    6.563,2,    3.492,2,    0.526,4,   58.813,4,    9.676,2,   1994.9,2,   2169.2,2, 19990708,      415
  18HU19990627, AR07W,   120,  1, 214189,     10,2,19990708,0406, 60.4493, -48.3778,  584,     10.1,   0.4667,  32.2162,2,-999.0000,9,    409.9,2,   -999.0,9,  -999.00,9,  -999.00,9,  -999.00,9, -999.000,9, -999.000,9, -999.000,9, -999.000,9, -999.000,9,   -999.0,9,   -999.0,9, 19990708,      415
  18HU19990627, AR07W,   120,  1, 214190,     11,2,19990708,0406, 60.4493, -48.3778,  584,      3.3,   0.4765,  32.0981,2,  32.1094,2,    412.4,2,    378.2,2,     1.19,6,     0.00,6,     0.36,6,    6.378,2,    3.390,2,    0.515,2,   57.161,4,    9.275,2,   1951.4,2,   2175.7,2, 19990708,      416
  18HU19990627, AR07W,   122,  1, 214191,      1,2,19990708,0548, 60.4072, -48.4108, 1103,    517.4,   4.3157,  34.9145,2,  34.9256,2,    308.0,2,    283.7,6,     8.44,6,    15.78,6,     1.02,6,    3.765,2,    2.145,2,    0.328,2,   30.123,4,    6.425,2,   2154.6,2,   2304.4,2, 19990708,      548
  18HU19990627, AR07W,   122,  1, 214192,      2,2,19990708,0548, 60.4072, -48.4108, 1103,    349.6,   4.7831,  34.8516,2,  34.8591,6,    310.2,2,    288.9,2,     7.36,6,    14.01,6,     0.92,6,    3.870,2,    2.253,2,    0.295,2,   33.082,4,    6.179,2,   2147.0,2,   2297.5,2, 19990708,      552
  18HU19990627, AR07W,   122,  1, 214193,      3,2,19990708,0548, 60.4072, -48.4108, 1103,    140.7,   3.5171,  34.4378,2,  34.4476,2,    330.9,2,    303.9,2,     6.29,6,    11.02,6,     0.84,6,    4.621,2,    2.590,2,    0.302,2,   36.940,4,    6.773,2,   2125.6,2,   2280.2,3, 19990708,      557
  18HU19990627, AR07W,   122,  1, 214194,      4,2,19990708,0548, 60.4072, -48.4108, 1103,     70.5,   3.1133,  34.3044,2,-999.0000,9,    336.1,2,   -999.0,9,  -999.00,9,  -999.00,9,  -999.00,9, -999.000,9, -999.000,9, -999.000,9, -999.000,9, -999.000,9,   -999.0,9,   -999.0,9, 19990708,      559
  18HU19990627, AR07W,   122,  1, 214195,      5,2,19990708,0548, 60.4072, -48.4108, 1103,     60.1,   2.7682,  34.2141,2,-999.0000,9,    336.7,2,   -999.0,9,  -999.00,9,  -999.00,9,  -999.00,9, -999.000,9, -999.000,9, -999.000,9, -999.000,9, -999.000,9,   -999.0,9,   -999.0,9, 19990708,      600
  18HU19990627, AR07W,   122,  1, 214196,      6,2,19990708,0548, 60.4072, -48.4108, 1103,     49.4,   2.4721,  34.0435,2,  34.0567,2,    345.1,2,    318.4,2,     4.96,6,     8.66,6,     0.76,6,    4.708,2,    2.772,2,    0.398,2,   40.422,4,    7.569,2,   2107.4,2,   2264.1,2, 19990708,      600
  18HU19990627, AR07W,   122,  1, 214197,      7,2,19990708,0548, 60.4072, -48.4108, 1103,     40.0,   1.6568,  33.7651,2,-999.0000,9,    354.9,2,   -999.0,9,  -999.00,9,  -999.00,9,  -999.00,9, -999.000,9, -999.000,9, -999.000,9, -999.000,9, -999.000,9,   -999.0,9,   -999.0,9, 19990708,      601
  18HU19990627, AR07W,   122,  1, 214198,      8,2,19990708,0548, 60.4072, -48.4108, 1103,     30.3,   0.7214,  33.5598,2,-999.0000,9,    366.2,2,   -999.0,9,  -999.00,9,  -999.00,9,  -999.00,9, -999.000,9, -999.000,9, -999.000,9, -999.000,9, -999.000,9,   -999.0,9,   -999.0,9, 19990708,      602
  18HU19990627, AR07W,   122,  1, 214199,      9,2,19990708,0548, 60.4072, -48.4108, 1103,     20.0,   0.3778,  33.4725,2,  33.4732,2,    370.1,2,    336.7,2,     5.29,6,     7.06,6,     0.72,6,    5.666,6,    3.088,6,    0.450,6,   75.484,4,    9.047,6,   2092.8,2,   2245.5,2, 19990708,      602
  18HU19990627, AR07W,   122,  1, 214200,     10,2,19990708,0548, 60.4072, -48.4108, 1103,     10.4,   0.3874,  33.2875,2,-999.0000,9,    372.9,2,   -999.0,9,  -999.00,9,  -999.00,9,  -999.00,9, -999.000,9, -999.000,9, -999.000,9, -999.000,9, -999.000,9,   -999.0,9,   -999.0,9, 19990708,      603
  18HU19990627, AR07W,   122,  1, 214201,     11,2,19990708,0548, 60.4072, -48.4108, 1103,      3.3,  -0.0077,  32.8328,2,  32.8764,2,    392.7,2,    354.8,2,     3.85,6,     4.38,6,     0.60,6,    5.857,4,    3.168,4,    0.402,4,   53.392,4,    9.186,4,   2055.3,2,   2210.5,2, 19990708,      604