BOTTLE,20120214PRINUNIVRMK
EXPOCODE,SECT_ID,STNNBR,CASTNO,SAMPNO,BTLNBR,BTLNBR_FLAG_W,DATE,TIME,LATITUDE,LONGITUDE,DEPTH,CTDPRS,CTDTMP,CTDSAL,CTDSAL_FLAG_W,SALNTY,SALNTY_FLAG_W,CTDOXY,CTDOXY_FLAG_W,OXYGEN,OXYGEN_FLAG_W,SILCAT,SILCAT_FLAG_W,NITRAT,NITRAT_FLAG_W,PHSPHT,PHSPHT_FLAG_W,CFC-11,CFC-11_FLAG_W,CFC-12,CFC-12_FLAG_W,CFC113,CFC113_FLAG_W,CCL4,CCL4_FLAG_W,MCHFRM,MCHFRM_FLAG_W,TCARBN,TCARBN_FLAG_W,ALKALI,ALKALI_FLAG_W,BTL_DATE,BTL_TIME
,,,,,,,,,,,METERS,DBAR,ITS-90,PSS-78,,PSS-78,,UMOL/KG,,UMOL/KG,,UMOL/KG,,UMOL/KG,,UMOL/KG,,PMOL/KG,,PMOL/KG,,PMOL/KG,,PMOL/KG,,PMOL/KG,,UMOL/KG,,UMOL/KG,,,
  18HU19990627, AR07W,   101,  1, 214028,      1,2,19990706,1644, 58.6467, -50.4395, 3335,   3574.7,   1.4097,  34.8521,2,  34.8625,2,    321.4,2,    300.1,2,     8.61,6,    12.75,6,     0.85,6,    3.494,2,    1.880,2,    0.142,2,   57.376,4,    7.936,2,   2155.9,3,   2336.6,3, 19990706,     1644
  18HU19990627, AR07W,   101,  1, 214029,      2,2,19990706,1644, 58.6467, -50.4395, 3335,   3519.5,   1.5164,  34.8554,2,  34.8898,2,    316.9,2,    298.3,2,     8.87,6,    12.85,6,     0.85,6,    3.330,2,    1.789,2,    0.114,2,   56.002,4,    7.447,2,   -999.0,9,   2298.1,2, 19990706,     1647
  18HU19990627, AR07W,   101,  1, 214030,      3,2,19990706,1644, 58.6467, -50.4395, 3335,   3470.8,   1.6218,  34.8465,2,  34.8582,6,    316.1,2,    299.4,2,     8.68,6,    13.16,6,     0.86,6,    3.493,2,    1.857,2,    0.176,2,   56.299,4,    7.753,2,   2156.2,3,   2301.9,2, 19990706,     1648
  18HU19990627, AR07W,   101,  1, 214031,      4,2,19990706,1644, 58.6467, -50.4395, 3335,   3379.2,   1.8663,  34.8510,2,  34.8615,2,    311.5,2,    295.8,2,     9.38,6,    13.35,6,     0.89,6,    3.182,6,    1.735,6,    0.172,6,   67.254,4,    7.428,6,   2152.6,3,   2297.8,2, 19990706,     1650
  18HU19990627, AR07W,   101,  1, 214032,      5,2,19990706,1644, 58.6467, -50.4395, 3335,   3269.2,   2.2120,  34.8751,2,  34.8900,2,    299.6,2,    287.2,2,    12.06,6,    14.16,6,     0.95,6,    2.564,2,    1.311,2,    0.188,2,   43.235,4,    6.218,2,   2155.3,3,   2296.1,2, 19990706,     1652
  18HU19990627, AR07W,   101,  1, 214033,      6,2,19990706,1644, 58.6467, -50.4395, 3335,   3138.5,   2.4782,  34.8937,2,  34.9079,2,    292.9,2,    281.9,2,    13.43,6,    14.58,6,     0.97,6,    2.006,2,    0.961,2,    0.073,2,   38.401,4,    5.452,2,   2155.7,3,   2296.7,2, 19990706,     1655
  18HU19990627, AR07W,   101,  1, 214034,      7,2,19990706,1644, 58.6467, -50.4395, 3335,   2999.6,   2.6565,  34.9009,2,  34.9122,2,    289.6,2,    279.8,2,    12.96,6,    14.88,6,     0.97,6,    1.913,2,    0.884,2,    0.134,2,   34.613,4,    5.171,2,   2156.1,3,   2289.5,2, 19990706,     1657
  18HU19990627, AR07W,   101,  1, 214035,      8,2,19990706,1644, 58.6467, -50.4395, 3335,   2850.6,   2.7974,  34.9001,2,  34.9102,2,    289.1,2,    280.2,2,    12.39,6,    14.87,6,     0.98,6,    1.974,2,    0.956,2,    0.066,2,   36.374,4,    5.361,2,   2154.7,3,   2301.2,2, 19990706,     1700
  18HU19990627, AR07W,   101,  1, 214036,      9,2,19990706,1644, 58.6467, -50.4395, 3335,   2699.1,   2.9134,  34.8971,2,  34.9077,2,    290.1,2,    280.6,2,    11.87,6,    15.24,6,     0.98,6,    2.050,2,    0.999,2,    0.090,2,   39.227,4,    5.625,2,   2153.5,3,   2292.2,2, 19990706,     1703
  18HU19990627, AR07W,   101,  1, 214037,     10,2,19990706,1644, 58.6467, -50.4395, 3335,   2549.0,   2.9927,  34.8926,2,  34.9035,2,    290.8,2,    281.8,2,    11.46,6,    15.17,6,     1.00,6,    2.236,2,    1.039,2,    0.188,2,   38.211,4,    5.815,2,   2153.1,3,   2300.1,2, 19990706,     1706
  18HU19990627, AR07W,   101,  1, 214038,     11,2,19990706,1644, 58.6467, -50.4395, 3335,   2398.9,   3.0339,  34.8819,2,  34.8972,2,    292.2,2,    284.5,2,    10.93,6,    15.16,6,     0.99,6,    2.452,2,    1.203,2,    0.049,2,   44.755,4,    6.692,2,   2151.2,3,   2292.2,2, 19990706,     1708
  18HU19990627, AR07W,   101,  1, 214039,     12,2,19990706,1644, 58.6467, -50.4395, 3335,   2248.9,   3.0328,  34.8643,2,  34.8764,2,    297.7,2,    288.9,2,    10.38,6,    15.00,6,     0.99,6,    2.848,2,    1.518,2,    0.063,2,   49.430,4,    7.884,2,   2150.1,3,   2294.3,2, 19990706,     1711
  18HU19990627, AR07W,   101,  1, 214040,     13,2,19990706,1644, 58.6467, -50.4395, 3335,   2101.0,   2.9882,  34.8472,2,  34.8604,2,    301.3,2,    293.6,2,     9.90,6,    15.32,6,     1.00,6,    3.267,2,    1.724,2,    0.115,2,   56.782,4,    9.057,2,   2155.6,3,   2287.1,2, 19990706,     1714
  18HU19990627, AR07W,   101,  1, 214041,     14,2,19990706,1644, 58.6467, -50.4395, 3335,   1948.2,   2.9974,  34.8441,2,  34.8543,2,    302.7,2,    293.9,2,     9.77,6,    15.43,6,     1.01,6,    3.387,2,    1.775,2,    0.105,2,   58.630,4,    9.389,2,   2160.0,3,   2283.1,2, 19990706,     1716
  18HU19990627, AR07W,   101,  1, 214042,     15,2,19990706,1644, 58.6467, -50.4395, 3335,   1799.8,   3.0521,  34.8471,2,  34.8583,2,    300.0,2,    293.4,2,     9.79,6,    15.21,6,     0.99,6,    3.426,2,    1.819,2,    0.106,2,   57.054,4,    9.381,2,   2161.5,3,   2288.5,2, 19990706,     1719
  18HU19990627, AR07W,   101,  1, 214043,     16,2,19990706,1644, 58.6467, -50.4395, 3335,   1647.4,   3.0925,  34.8476,2,  34.8584,2,    298.1,2,    291.1,2,     9.70,6,    15.54,6,     1.02,6,    3.386,2,    1.777,2,    0.109,2,   56.582,4,    8.805,2,   2161.0,3,   2306.4,2, 19990706,     1721
  18HU19990627, AR07W,   101,  1, 214044,     17,2,19990706,1644, 58.6467, -50.4395, 3335,   1499.9,   3.1364,  34.8477,2,  34.8575,2,    295.7,2,    290.3,2,     9.69,6,    15.37,6,     1.03,6,    3.387,2,    1.788,2,    0.103,2,   58.476,4,    9.070,2,   2162.5,3,   -999.0,9, 19990706,     1724
  18HU19990627, AR07W,   101,  1, 214045,     18,2,19990706,1644, 58.6467, -50.4395, 3335,   1350.1,   3.2170,  34.8514,2,  34.8612,2,    294.7,2,    288.0,2,     9.66,6,    15.13,6,     1.02,6,    3.371,2,    1.833,2,    0.129,2,   56.865,4,    8.792,2,   2160.1,3,   2300.9,2, 19990706,     1727
  18HU19990627, AR07W,   101,  1, 214046,     19,2,19990706,1644, 58.6467, -50.4395, 3335,   1198.8,   3.2625,  34.8468,2,  34.8561,2,    295.7,2,    288.7,2,     9.43,6,    15.05,6,     1.00,6,    3.649,2,    1.927,2,    0.149,2,   61.777,4,    8.773,2,   2162.1,3,   2295.7,2, 19990706,     1730
  18HU19990627, AR07W,   101,  1, 214047,     20,2,19990706,1644, 58.6467, -50.4395, 3335,   1039.5,   3.2924,  34.8406,2,  34.8519,2,    298.0,2,    291.7,2,     9.00,6,    15.13,6,     1.01,6,    3.794,2,    2.090,2,    0.144,2,   64.468,4,    8.451,2,   2160.0,3,   2285.8,2, 19990706,     1732
  18HU19990627, AR07W,   101,  1, 214048,     21,2,19990706,1644, 58.6467, -50.4395, 3335,    858.3,   3.2790,  34.8243,2,  34.8328,2,    303.6,2,    295.9,2,     8.51,6,    14.60,6,     0.98,6,    4.061,2,    2.303,2,    0.193,2,   67.879,4,    7.903,2,   2155.3,3,   2296.8,2, 19990706,     1735
  18HU19990627, AR07W,   101,  1, 214049,     22,2,19990706,1644, 58.6467, -50.4395, 3335,    678.4,   3.3158,  34.8194,2,  34.8277,2,    306.6,2,    297.8,2,     8.21,6,    14.10,6,     0.96,6,    4.318,2,    2.395,2,    0.187,2,   72.455,4,    7.835,2,   2157.3,3,   2300.7,2, 19990706,     1739
  18HU19990627, AR07W,   101,  1, 214050,     23,2,19990706,1644, 58.6467, -50.4395, 3335,    508.5,   3.5094,  34.8340,2,  34.8450,2,    304.8,2,    296.8,2,     7.94,6,    14.13,6,     0.96,6,    4.308,2,    2.414,2,    0.173,2,   75.602,4,    8.402,2,   2153.6,3,   2289.3,2, 19990706,     1742
  18HU19990627, AR07W,   101,  1, 214051,     24,2,19990706,1644, 58.6467, -50.4395, 3335,    358.8,   3.5441,  34.8264,2,  34.8344,2,    306.5,2,    298.8,2,     7.92,6,    13.83,6,     0.95,6,    4.362,2,    2.499,2,    0.275,2,   70.783,4,    7.343,2,   2153.2,3,   2291.6,2, 19990706,     1744
  18HU19990627, AR07W,   104,  1, 214052,      1,2,19990707,0028, 59.4817, -49.4572, 2969,   3431.6,   1.4760,  34.8579,2,  34.8719,2,    315.4,2,    308.3,2,     9.28,6,    12.99,6,     0.88,6,    3.302,2,    1.936,2,    0.274,2,   96.379,4,    7.864,2,   2150.8,2,   2311.4,2, 19990707,       28
  18HU19990627, AR07W,   104,  1, 214053,      2,2,19990707,0028, 59.4817, -49.4572, 2969,   3378.4,   1.4880,  34.8561,2,  34.8708,2,    314.3,2,    295.7,2,     9.14,6,    12.89,6,     0.89,6,    3.632,2,    1.816,2,    0.187,2,   96.394,4,    7.698,2,   2151.0,2,   2294.8,2, 19990707,       30
  18HU19990627, AR07W,   104,  1, 214054,      3,2,19990707,0028, 59.4817, -49.4572, 2969,   3297.4,   1.6571,  34.8581,2,  34.8696,2,    311.2,2,    293.6,2,     9.39,6,    13.31,6,     0.90,6,    3.240,2,    1.945,2,    0.280,2,   92.283,4,    7.818,2,   2149.4,2,   2284.2,2, 19990707,       32
  18HU19990627, AR07W,   104,  1, 214055,      4,2,19990707,0028, 59.4817, -49.4572, 2969,   3198.5,   1.8901,  34.8642,2,  34.8751,2,    306.2,2,    290.1,2,    10.20,6,    13.53,6,     0.92,6,    2.994,2,    1.729,2,    0.243,2,   86.544,4,    7.377,2,   2150.3,2,   2305.1,2, 19990707,       34
  18HU19990627, AR07W,   104,  1, 214056,      5,2,19990707,0028, 59.4817, -49.4572, 2969,   3086.7,   2.1637,  34.8776,2,  34.8882,2,    298.2,2,    285.1,2,    11.92,6,    13.98,6,     0.97,6,    2.768,2,    1.769,2,    0.132,2,   74.043,4,    6.647,2,   2148.6,2,   2298.5,2, 19990707,       36
  18HU19990627, AR07W,   104,  1, 214057,      6,2,19990707,0028, 59.4817, -49.4572, 2969,   2951.2,   2.3547,  34.8728,2,  34.8829,2,    298.2,2,    284.9,2,    11.44,6,    14.05,6,     0.98,6,    2.555,2,    1.348,2,    0.222,2,   75.459,4,    6.495,2,   2146.4,2,   2298.5,2, 19990707,       39
  18HU19990627, AR07W,   104,  1, 214058,      7,2,19990707,0028, 59.4817, -49.4572, 2969,   2787.5,   2.5684,  34.8848,2,  34.8969,2,    293.4,2,    281.6,2,    11.69,6,    14.49,6,     0.97,6,    2.327,2,    1.165,2,    0.162,2,   69.558,4,    6.082,2,   2150.9,2,   2312.1,2, 19990707,       42
  18HU19990627, AR07W,   104,  1, 214059,      8,2,19990707,0028, 59.4817, -49.4572, 2969,   2610.6,   2.6995,  34.8781,2,  34.8912,2,    294.7,2,    282.6,2,    10.95,6,    14.62,6,     0.97,6,    2.540,2,    1.350,2,    0.126,2,   72.688,4,    6.244,2,   2146.8,2,   2292.4,2, 19990707,       45
  18HU19990627, AR07W,   104,  1, 214060,      9,2,19990707,0028, 59.4817, -49.4572, 2969,   2407.8,   2.8415,  34.8748,2,  34.8857,2,    294.2,2,   -999.0,9,    10.70,6,    14.77,6,     0.99,6,    2.624,2,    1.489,2,    0.210,2,   76.990,4,    6.808,2,   2146.4,2,   2292.8,2, 19990707,       48
  18HU19990627, AR07W,   104,  1, 214061,     10,2,19990707,0028, 59.4817, -49.4572, 2969,   2192.4,   2.9819,  34.8707,2,  34.8816,2,    294.1,2,    284.2,2,    10.53,6,    14.71,6,     1.00,6,    2.820,6,    1.602,6,    0.166,6,   70.888,4,    7.352,6,   2136.1,2,   2303.9,2, 19990707,       53
  18HU19990627, AR07W,   104,  1, 214062,     11,2,19990707,0028, 59.4817, -49.4572, 2969,   1910.9,   2.9971,  34.8462,2,  34.8568,2,    300.7,2,    290.2,2,     9.92,6,    15.11,6,     1.00,6,    3.333,2,    1.836,2,    0.228,2,   93.068,4,    8.953,2,   2135.8,2,   2295.1,2, 19990707,       57
  18HU19990627, AR07W,   104,  1, 214063,     12,2,19990707,0028, 59.4817, -49.4572, 2969,   1709.2,   3.0645,  34.8487,2,  34.8603,2,    298.8,2,    289.4,6,     9.99,6,    15.43,6,     1.01,6,    3.433,2,    1.838,2,    0.221,2,   94.996,4,    9.137,2,   2136.7,2,   2295.7,2, 19990707,      100
  18HU19990627, AR07W,   104,  1, 214064,     13,2,19990707,0028, 59.4817, -49.4572, 2969,   1501.2,   3.1235,  34.8478,2,  34.8589,6,    297.5,2,    287.5,2,     9.97,6,    15.23,6,     1.01,6,    3.623,2,    1.934,2,    0.233,2,   99.031,4,    9.267,2,   2139.4,2,   2300.2,2, 19990707,      104
  18HU19990627, AR07W,   104,  1, 214065,     14,2,19990707,0028, 59.4817, -49.4572, 2969,   1331.5,   3.3160,  34.8657,2,  34.8764,2,    290.2,2,    281.9,2,     9.82,6,    15.12,6,     1.01,6,    3.196,2,    1.878,2,    0.718,4,   87.686,4,    8.739,2,   2139.9,2,   2288.9,2, 19990707,      107
  18HU19990627, AR07W,   104,  1, 214066,     15,2,19990707,0028, 59.4817, -49.4572, 2969,   1101.0,   3.3188,  34.8466,2,  34.8582,2,    295.4,2,    287.0,2,     9.56,6,    15.12,6,     1.02,6,    3.717,2,    2.116,2,    0.252,2,  100.359,4,    8.507,2,   2135.0,2,   2295.1,2, 19990707,      111
  18HU19990627, AR07W,   104,  1, 214067,     16,2,19990707,0028, 59.4817, -49.4572, 2969,    870.5,   3.3887,  34.8395,2,  34.8497,2,    298.9,2,    288.8,2,     8.93,6,    14.46,6,     0.98,6,    4.008,2,    2.317,2,    0.293,2,  107.145,4,    7.972,2,   2133.5,2,   2291.0,2, 19990707,      115
  18HU19990627, AR07W,   104,  1, 214068,     17,2,19990707,0028, 59.4817, -49.4572, 2969,    678.9,   3.3962,  34.8270,2,  34.8367,2,    304.4,2,    293.8,2,     8.44,6,    14.25,6,     0.96,6,    4.095,2,    2.393,2,    0.323,2,  118.667,4,    8.100,2,   2132.7,2,   2288.9,2, 19990707,      119
  18HU19990627, AR07W,   104,  1, 214069,     18,2,19990707,0028, 59.4817, -49.4572, 2969,    509.1,   3.5716,  34.8358,2,  34.8444,2,    303.3,2,    292.5,6,     8.33,6,    14.15,6,     0.96,6,    4.131,2,    2.388,2,    0.308,2,  114.081,4,    7.219,2,   2130.2,2,   2299.2,2, 19990707,      121
  18HU19990627, AR07W,   104,  1, 214070,     19,2,19990707,0028, 59.4817, -49.4572, 2969,    360.7,   3.9089,  34.8599,2,  34.8694,2,    300.1,2,    288.6,2,     8.37,6,    14.27,6,     0.97,6,    4.000,2,    2.405,2,    0.321,2,  110.765,4,    7.070,2,   2130.3,2,   2297.2,2, 19990707,      124
  18HU19990627, AR07W,   104,  1, 214071,     20,2,19990707,0028, 59.4817, -49.4572, 2969,    240.7,   4.1895,  34.8687,2,  34.8747,2,    298.9,2,    288.6,2,     8.13,6,    13.90,6,     0.94,6,    4.084,2,    2.349,2,    0.284,2,  113.184,4,    6.769,2,   2136.2,2,   2293.9,2, 19990707,      127
  18HU19990627, AR07W,   104,  1, 214072,     21,2,19990707,0028, 59.4817, -49.4572, 2969,    141.0,   4.0303,  34.7989,2,  34.8102,2,    301.4,2,    288.4,2,     7.50,6,    13.70,6,     0.93,6,    4.390,2,    2.556,2,    0.330,2,  121.949,4,    6.957,2,   2137.2,2,   2295.9,2, 19990707,      129
  18HU19990627, AR07W,   104,  1, 214073,     22,2,19990707,0028, 59.4817, -49.4572, 2969,     70.5,   3.8566,  34.5259,2,  34.5364,2,    323.6,2,    308.9,2,     4.43,6,     6.95,6,     0.66,6,    4.905,2,    2.870,2,    0.390,2,  154.812,4,    7.140,2,   2103.7,2,   2287.5,2, 19990707,      131
  18HU19990627, AR07W,   104,  1, 214074,     23,2,19990707,0028, 59.4817, -49.4572, 2969,     34.0,   4.4082,  34.1634,2,  34.1724,2,    333.4,2,    319.2,6,     3.47,6,     3.10,6,     0.43,6,    4.939,2,    2.808,2,    0.334,2,  156.083,4,    6.318,2,   2062.9,2,   2272.0,2, 19990707,      132
  18HU19990627, AR07W,   104,  1, 214075,     24,2,19990707,0028, 59.4817, -49.4572, 2969,      7.7,   4.7315,  33.9607,2,  33.9694,2,    344.2,2,    328.1,2,     2.89,6,     1.63,6,     0.33,6,    4.919,2,    3.258,2,    0.421,2,  166.219,4,    6.707,2,   2042.0,2,   2252.4,2, 19990707,      133