BOTTLE,20141031SIOCCHAMB
EXPOCODE,SECT_ID,STNNBR,CASTNO,SAMPNO,BTLNBR,BTLNBR_FLAG_W,DATE,TIME,LATITUDE,LONGITUDE,DEPTH,CTDPRS,CTDTMP,CTDSAL,CTDSAL_FLAG_W,SALNTY,SALNTY_FLAG_W,CTDOXY,CTDOXY_FLAG_W,OXYGEN,OXYGEN_FLAG_W,SILCAT,SILCAT_FLAG_W,PHSPHT,PHSPHT_FLAG_W,REVPRS,CTDRAW,THETA,NO2+NO3,NO2+NO3_FLAG_W,REVTMP
,,,,,,,,,,,METERS,DBAR,ITS-90,PSS-78,,PSS-78,,UMOL/KG,,UMOL/KG,,UMOL/KG,,UMOL/KG,,DBAR,DBAR,ITS-90,UMOL/KG,,DEG C
325020130404,       PRS2,       2,          3,         24,       8024,2,20130405,       2155,  22.749833,-157.9998333,       4725,     5.0,  22.9487,  35.4370,2,  35.4381,2,    215.4,2,   214.6,2,    1.24,2,    0.07,2,  -999.0,       5,    22.9477,    0.03,2,     -999.0
325020130404,       PRS2,       2,          3,         23,       8023,2,20130405,       2155,  22.749833,-157.9998333,       4725,    46.8,  22.5797,  35.4229,2,  35.4235,2,    213.7,2,   215.1,2,    1.24,2,    0.06,2,  -999.0,      47,    22.5703,    0.03,2,     -999.0
325020130404,       PRS2,       2,          3,         22,       8022,2,20130405,       2155,  22.749833,-157.9998333,       4725,    87.8,  22.2563,  35.4144,2,  35.4141,2,    214.7,2,   216.0,2,    1.26,2,    0.04,2,  -999.0,      88,    22.2387,    0.03,2,     -999.0
325020130404,       PRS2,       2,          3,         21,       8021,2,20130405,       2155,  22.749833,-157.9998333,       4725,   134.9,  22.0908,  35.4190,2,  35.4196,2,    216.3,2,   216.4,2,    1.30,2,    0.03,2,  -999.0,     135,    22.0640,    0.04,2,     -999.0
325020130404,       PRS2,       2,          3,         20,       8020,2,20130405,       2155,  22.749833,-157.9998333,       4725,   180.1,  21.1552,  35.2737,2,  35.2893,2,    209.4,2,   211.1,2,    2.17,2,    0.06,2,  -999.0,     180,    21.1205,    0.43,2,     -999.0
325020130404,       PRS2,       2,          3,         19,       8019,2,20130405,       2155,  22.749833,-157.9998333,       4725,   204.2,  19.4855,  35.0121,2,  35.0018,2,    198.8,2,   203.5,2,    2.57,2,    0.17,2,  -999.0,     205,    19.4485,    1.75,2,     -999.0
325020130404,       PRS2,       2,          3,         18,       8018,2,20130405,       2155,  22.749833,-157.9998333,       4725,   244.6,  15.9110,  34.5586,2,  34.5573,2,    194.5,2,   194.5,2,    7.44,2,    0.45,2,  -999.0,     244,    15.8725,    5.86,2,     -999.0
325020130404,       PRS2,       2,          3,         17,       8017,2,20130405,       2155,  22.749833,-157.9998333,       4725,   281.5,  14.0039,  34.3503,2,  34.3394,2,    194.7,2,   193.9,2,    8.76,2,    0.66,2,  -999.0,     281,    13.9633,    8.77,2,     -999.0
325020130404,       PRS2,       2,          3,         16,       8016,2,20130405,       2155,  22.749833,-157.9998333,       4725,   317.9,  11.7409,  34.1815,2,  34.1817,2,    179.5,2,   179.4,2,   17.03,2,    1.04,2,  -999.0,     318,    11.7001,   14.02,2,     -999.0
325020130404,       PRS2,       2,          3,         15,       8015,2,20130405,       2155,  22.749833,-157.9998333,       4725,   362.2,  10.1998,  34.1233,2,  34.1236,2,    177.2,2,   174.7,2,   20.38,2,    1.28,2,  -999.0,     362,    10.1574,   17.71,2,     -999.0
325020130404,       PRS2,       2,          3,         14,       8014,2,20130405,       2155,  22.749833,-157.9998333,       4725,   428.4,   8.9173,  34.1061,2,  34.1064,2,    148.0,2,   140.3,2,   31.77,2,    1.69,2,  -999.0,     427,     8.8710,   23.39,2,     -999.0
325020130404,       PRS2,       2,          3,         13,       8025,2,20130405,       2155,  22.749833,-157.9998333,       4725,   449.5,   8.3261,  34.0900,2,  34.0895,2,    131.7,2,   126.2,2,   36.52,2,    1.88,2,  -999.0,     450,     8.2794,   25.89,2,     -999.0
325020130404,       PRS2,       2,          3,         12,       8012,2,20130405,       2155,  22.749833,-157.9998333,       4725,   486.1,   7.4517,  34.0988,2,  34.0993,2,     95.7,2,    96.1,2,   47.13,2,    2.19,2,  -999.0,     486,     7.4043,   30.11,2,     -999.0
325020130404,       PRS2,       2,          3,         11,       8011,2,20130405,       2155,  22.749833,-157.9998333,       4725,   526.6,   6.9434,  34.1260,2,  34.1266,2,     71.7,2,    70.9,2,   55.14,2,    2.44,2,  -999.0,     527,     6.8938,   33.08,2,     -999.0
325020130404,       PRS2,       2,          3,         10,       8010,2,20130405,       2155,  22.749833,-157.9998333,       4725,   586.8,   6.0780,  34.1767,2,  34.1764,2,     45.2,2,  -999.0,5,   68.62,2,    2.74,2,  -999.0,     587,     6.0263,   37.22,2,     -999.0
325020130404,       PRS2,       2,          3,          9,       8009,2,20130405,       2155,  22.749833,-157.9998333,       4725,   610.5,   5.9739,  34.2244,2,  34.2277,2,     36.9,2,    35.5,2,   72.18,2,    2.80,2,  -999.0,     610,     5.9205,   38.04,2,     -999.0
325020130404,       PRS2,       2,          3,          8,       8008,2,20130405,       2155,  22.749833,-157.9998333,       4725,   646.9,   5.7578,  34.2706,2,  34.2719,2,     32.6,2,    32.5,2,   76.65,2,    2.84,2,  -999.0,     648,     5.7020,   38.82,2,     -999.0
325020130404,       PRS2,       2,          3,          7,       8026,2,20130405,       2155,  22.749833,-157.9998333,       4725,   681.7,   5.5910,  34.2993,2,  34.2997,2,     27.7,2,    27.4,2,   79.53,2,    2.90,2,  -999.0,     681,     5.5330,   39.44,2,     -999.0
325020130404,       PRS2,       2,          3,          6,       8006,2,20130405,       2155,  22.749833,-157.9998333,       4725,   739.6,   5.3699,  34.3691,2,  34.3686,2,     24.1,2,    23.4,2,   84.54,2,    2.97,2,  -999.0,     739,     5.3078,   40.56,2,     -999.0
325020130404,       PRS2,       2,          3,          5,       8005,2,20130405,       2155,  22.749833,-157.9998333,       4725,   756.5,   5.2890,  34.3887,2,  34.3902,2,     25.3,2,    25.5,2,   86.22,2,    2.98,2,  -999.0,     756,     5.2258,   40.85,2,     -999.0
325020130404,       PRS2,       2,          3,          4,       8004,2,20130405,       2155,  22.749833,-157.9998333,       4725,   815.8,   5.0616,  34.4156,2,  34.4169,2,     27.3,2,    27.3,2,   90.35,2,    2.97,2,  -999.0,     815,     4.9945,   41.34,2,     -999.0
325020130404,       PRS2,       2,          3,          3,       8003,2,20130405,       2155,  22.749833,-157.9998333,       4725,   874.7,   4.7780,  34.4415,2,  34.4412,2,     32.2,2,    31.3,2,   95.42,2,    2.98,2,  -999.0,     874,     4.7075,   41.42,2,     -999.0
325020130404,       PRS2,       2,          3,          2,       8002,2,20130405,       2155,  22.749833,-157.9998333,       4725,   949.9,   4.4263,  34.4555,2,  34.4589,2,     37.5,2,    39.8,2,  102.33,2,    2.96,2,  -999.0,     949,     4.3518,   41.29,2,     -999.0
325020130404,       PRS2,       2,          3,          1,       8001,2,20130405,       2155,  22.749833,-157.9998333,       4725,  1019.9,   4.1684,  34.4790,2,  34.4797,2,     43.1,2,    43.3,2,  107.35,2,    2.94,2,  -999.0,    1020,     4.0898,   41.20,2,     -999.0
325020130404,       PRS2,       2,          5,         22,       8022,2,20130406,       0255,  22.677833,-157.9653333,       4728,     5.3,  22.9181,  35.4396,2,  35.4399,2,    214.9,1,  -999.0,9, -999.00,9, -999.00,9,  -999.0,       5,    22.9170, -999.00,9,     -999.0
325020130404,       PRS2,       2,          5,         21,       8021,2,20130406,       0255,  22.677833,-157.9653333,       4728,    25.9,  22.8134,  35.4371,2,  35.4377,2,    214.9,1,  -999.0,9, -999.00,9, -999.00,9,  -999.0,      26,    22.8081, -999.00,9,     -999.0
325020130404,       PRS2,       2,          5,         20,       8020,2,20130406,       0255,  22.677833,-157.9653333,       4728,    26.1,  22.8105,  35.4373,2,  35.4385,2,    214.8,1,  -999.0,9, -999.00,9, -999.00,9,  -999.0,      26,    22.8052, -999.00,9,     -999.0
325020130404,       PRS2,       2,          5,         19,       8019,2,20130406,       0255,  22.677833,-157.9653333,       4728,    45.8,  22.7359,  35.4283,2,  35.4287,2,    215.4,1,  -999.0,9, -999.00,9, -999.00,9,  -999.0,      46,    22.7266, -999.00,9,     -999.0
325020130404,       PRS2,       2,          5,         18,       8018,2,20130406,       0255,  22.677833,-157.9653333,       4728,    75.7,  22.6874,  35.4262,2,  35.4277,2,    214.6,1,  -999.0,9, -999.00,9, -999.00,9,  -999.0,      76,    22.6721, -999.00,9,     -999.0
325020130404,       PRS2,       2,          5,         17,       8017,2,20130406,       0255,  22.677833,-157.9653333,       4728,   101.0,  22.6577,  35.4287,2,  35.4279,2,    214.5,1,  -999.0,9, -999.00,9, -999.00,9,  -999.0,     101,    22.6373, -999.00,9,     -999.0
325020130404,       PRS2,       2,          5,         16,       8016,2,20130406,       0255,  22.677833,-157.9653333,       4728,   125.5,  22.1436,  35.4092,2,  35.4123,2,    213.1,1,  -999.0,9, -999.00,9, -999.00,9,  -999.0,     124,    22.1186, -999.00,9,     -999.0
325020130404,       PRS2,       2,          5,         15,       8015,2,20130406,       0255,  22.677833,-157.9653333,       4728,   124.9,  22.1460,  35.4088,2,  35.4131,2,    213.4,1,  -999.0,9, -999.00,9, -999.00,9,  -999.0,     126,    22.1212, -999.00,9,     -999.0
325020130404,       PRS2,       2,          5,         14,       8014,2,20130406,       0255,  22.677833,-157.9653333,       4728,   150.9,  21.9364,  35.4376,2,  35.4385,2,    213.0,1,  -999.0,9, -999.00,9, -999.00,9,  -999.0,     150,    21.9065, -999.00,9,     -999.0
325020130404,       PRS2,       2,          5,         13,       8025,2,20130406,       0255,  22.677833,-157.9653333,       4728,   150.2,  21.9350,  35.4377,2,  35.4381,2,    212.9,1,  -999.0,9, -999.00,9, -999.00,9,  -999.0,     151,    21.9053, -999.00,9,     -999.0
325020130404,       PRS2,       2,          5,         12,       8012,2,20130406,       0255,  22.677833,-157.9653333,       4728,   175.8,  21.7902,  35.4130,2,  35.4105,2,    211.9,1,  -999.0,9, -999.00,9, -999.00,9,  -999.0,     175,    21.7556, -999.00,9,     -999.0
325020130404,       PRS2,       2,          5,         11,       8011,2,20130406,       0255,  22.677833,-157.9653333,       4728,   175.8,  21.7895,  35.4128,2,  35.4101,2,    211.7,1,  -999.0,9, -999.00,9, -999.00,9,  -999.0,     175,    21.7549, -999.00,9,     -999.0
325020130404,       PRS2,       2,          5,         10,       8010,2,20130406,       0255,  22.677833,-157.9653333,       4728,   200.2,  20.4191,  35.2846,2,  35.2842,2,    203.6,1,  -999.0,9, -999.00,9, -999.00,9,  -999.0,     202,    20.3815, -999.00,9,     -999.0
325020130404,       PRS2,       2,          5,          9,       8009,2,20130406,       0255,  22.677833,-157.9653333,       4728,   200.9,  20.4191,  35.2865,2,  35.2818,2,    203.8,1,  -999.0,9, -999.00,9, -999.00,9,  -999.0,     200,    20.3814, -999.00,9,     -999.0
325020130404,       PRS2,       2,          5,          8,       8008,2,20130406,       0255,  22.677833,-157.9653333,       4728,   251.3,  15.9156,  34.5447,2,  34.5488,2,    194.2,1,  -999.0,9, -999.00,9, -999.00,9,  -999.0,     252,    15.8760, -999.00,9,     -999.0
325020130404,       PRS2,       2,          5,          7,       8026,2,20130406,       0255,  22.677833,-157.9653333,       4728,   251.6,  15.8929,  34.5399,2,  34.5464,2,    194.2,1,  -999.0,9, -999.00,9, -999.00,9,  -999.0,     251,    15.8534, -999.00,9,     -999.0
325020130404,       PRS2,       2,          5,          6,       8006,2,20130406,       0255,  22.677833,-157.9653333,       4728,   350.9,  11.0604,  34.1636,2,  34.1648,2,    197.6,1,  -999.0,9, -999.00,9, -999.00,9,  -999.0,     351,    11.0171, -999.00,9,     -999.0
325020130404,       PRS2,       2,          5,          5,       8005,2,20130406,       0255,  22.677833,-157.9653333,       4728,   350.9,  11.0580,  34.1634,2,  34.1664,2,    197.6,1,  -999.0,9, -999.00,9, -999.00,9,  -999.0,     350,    11.0147, -999.00,9,     -999.0
325020130404,       PRS2,       2,          5,          4,       8004,2,20130406,       0255,  22.677833,-157.9653333,       4728,   350.3,  11.0561,  34.1636,2,  34.1648,2,    197.7,1,  -999.0,9, -999.00,9, -999.00,9,  -999.0,     352,    11.0129, -999.00,9,     -999.0
325020130404,       PRS2,       2,          5,          3,       8003,2,20130406,       0255,  22.677833,-157.9653333,       4728,   350.9,  11.0408,  34.1636,2,  34.1650,2,    197.7,1,  -999.0,9, -999.00,9, -999.00,9,  -999.0,     350,    10.9975, -999.00,9,     -999.0
325020130404,       PRS2,       2,          5,          2,       8002,2,20130406,       0255,  22.677833,-157.9653333,       4728,   420.6,   8.6243,  34.0835,2,  34.0848,2,    143.2,1,  -999.0,9, -999.00,9, -999.00,9,  -999.0,     420,     8.5797, -999.00,9,     -999.0
325020130404,       PRS2,       2,          5,          1,       8001,2,20130406,       0255,  22.677833,-157.9653333,       4728,  1021.3,   4.2073,  34.4909,2,  34.4909,2,     42.8,1,  -999.0,9, -999.00,9, -999.00,9,  -999.0,    1021,     4.1283, -999.00,9,     -999.0
325020130404,       PRS2,       2,          6,         23,       8023,2,20130406,       0602,  22.680833,-157.9528333,       4740,     5.3,  22.8611,  35.4389,2,  35.4385,2,    215.1,2,  -999.0,5, -999.00,9, -999.00,9,  -999.0,       5,    22.8600, -999.00,9,     -999.0
325020130404,       PRS2,       2,          6,         22,       8022,2,20130406,       0602,  22.680833,-157.9528333,       4740,     5.3,  22.8609,  35.4389,2,  35.4383,2,    215.1,2,   214.8,2, -999.00,9, -999.00,9,  -999.0,       5,    22.8598, -999.00,9,     -999.0
325020130404,       PRS2,       2,          6,         21,       8021,2,20130406,       0602,  22.680833,-157.9528333,       4740,    15.1,  22.8627,  35.4389,2,  35.4377,2,    215.2,2,  -999.0,5, -999.00,9, -999.00,9,  -999.0,      15,    22.8596, -999.00,9,     -999.0
325020130404,       PRS2,       2,          6,         20,       8020,2,20130406,       0602,  22.680833,-157.9528333,       4740,    25.1,  22.8307,  35.4363,2,  35.4336,2,    215.3,2,  -999.0,5, -999.00,9, -999.00,9,  -999.0,      25,    22.8256, -999.00,9,     -999.0
325020130404,       PRS2,       2,          6,         19,       8019,2,20130406,       0602,  22.680833,-157.9528333,       4740,    25.3,  22.8207,  35.4352,2,  35.4326,2,    215.4,2,   215.1,2, -999.00,9, -999.00,9,  -999.0,      25,    22.8156, -999.00,9,     -999.0
325020130404,       PRS2,       2,          6,         18,       8018,2,20130406,       0602,  22.680833,-157.9528333,       4740,    35.6,  22.7184,  35.4217,2,  35.4218,2,    215.4,2,  -999.0,5, -999.00,9, -999.00,9,  -999.0,      35,    22.7112, -999.00,9,     -999.0
325020130404,       PRS2,       2,          6,         17,       8017,2,20130406,       0602,  22.680833,-157.9528333,       4740,    45.5,  22.7021,  35.4201,2,  35.4198,2,    215.2,2,   215.3,2, -999.00,9, -999.00,9,  -999.0,      45,    22.6929, -999.00,9,     -999.0
325020130404,       PRS2,       2,          6,         16,       8016,2,20130406,       0602,  22.680833,-157.9528333,       4740,    60.5,  22.6885,  35.4207,2,  35.4204,2,    215.6,2,  -999.0,5, -999.00,9, -999.00,9,  -999.0,      60,    22.6763, -999.00,9,     -999.0
325020130404,       PRS2,       2,          6,         15,       8015,2,20130406,       0602,  22.680833,-157.9528333,       4740,    75.5,  22.6734,  35.4204,2,  35.4202,2,    214.8,2,   214.7,2, -999.00,9, -999.00,9,  -999.0,      75,    22.6581, -999.00,9,     -999.0
325020130404,       PRS2,       2,          6,         14,       8014,2,20130406,       0602,  22.680833,-157.9528333,       4740,    86.0,  22.6417,  35.4180,2,  35.4178,2,    214.4,2,   214.1,2, -999.00,9, -999.00,9,  -999.0,      86,    22.6244, -999.00,9,     -999.0
325020130404,       PRS2,       2,          6,         13,       8025,2,20130406,       0602,  22.680833,-157.9528333,       4740,    90.8,  22.5383,  35.4093,2,  35.4062,2,    213.1,2,  -999.0,5, -999.00,9, -999.00,9,  -999.0,      90,    22.5200, -999.00,9,     -999.0
325020130404,       PRS2,       2,          6,         12,       8012,2,20130406,       0602,  22.680833,-157.9528333,       4740,   100.1,  22.3523,  35.3959,2,  35.3961,2,    209.7,2,   209.5,2, -999.00,9, -999.00,9,  -999.0,     100,    22.3322, -999.00,9,     -999.0
325020130404,       PRS2,       2,          6,         11,       8011,2,20130406,       0602,  22.680833,-157.9528333,       4740,   110.9,  22.1507,  35.4057,2,  35.4032,2,    211.0,2,  -999.0,5, -999.00,9, -999.00,9,  -999.0,     110,    22.1286, -999.00,9,     -999.0
325020130404,       PRS2,       2,          6,         10,       8010,2,20130406,       0602,  22.680833,-157.9528333,       4740,   114.8,  22.1155,  35.4086,2,  35.4087,2,    212.5,2,   212.3,2, -999.00,9, -999.00,9,  -999.0,     116,    22.0926, -999.00,9,     -999.0
325020130404,       PRS2,       2,          6,          9,       8009,2,20130406,       0602,  22.680833,-157.9528333,       4740,   126.3,  22.0131,  35.4079,2,  35.4074,2,    212.4,2,   212.1,2, -999.00,9, -999.00,9,  -999.0,     126,    21.9881, -999.00,9,     -999.0
325020130404,       PRS2,       2,          6,          8,       8008,2,20130406,       0602,  22.680833,-157.9528333,       4740,   130.7,  22.0121,  35.4148,2,  35.4162,2,    213.0,2,  -999.0,5, -999.00,9, -999.00,9,  -999.0,     130,    21.9862, -999.00,9,     -999.0
325020130404,       PRS2,       2,          6,          7,       8026,2,20130406,       0602,  22.680833,-157.9528333,       4740,   150.7,  21.9257,  35.4324,2,  35.4330,2,    213.8,2,   212.7,2, -999.00,9, -999.00,9,  -999.0,     149,    21.8959, -999.00,9,     -999.0
325020130404,       PRS2,       2,          6,          6,       8006,2,20130406,       0602,  22.680833,-157.9528333,       4740,   164.9,  21.7952,  35.4146,2,  35.4145,2,    211.5,2,   211.4,2, -999.00,9, -999.00,9,  -999.0,     165,    21.7627, -999.00,9,     -999.0
325020130404,       PRS2,       2,          6,          5,       8005,2,20130406,       0602,  22.680833,-157.9528333,       4740,   175.3,  21.5136,  35.3619,2,  35.3563,2,    210.7,2,   209.6,2, -999.00,9, -999.00,9,  -999.0,     175,    21.4794, -999.00,9,     -999.0
325020130404,       PRS2,       2,          6,          4,       8004,2,20130406,       0602,  22.680833,-157.9528333,       4740,   200.4,  20.4272,  35.2901,2,  35.2889,2,    204.1,2,   205.1,2, -999.00,9, -999.00,9,  -999.0,     200,    20.3895, -999.00,9,     -999.0
325020130404,       PRS2,       2,          6,          3,       8003,2,20130406,       0602,  22.680833,-157.9528333,       4740,   430.5,   8.4761,  34.0887,2,  34.0899,2,    134.9,2,   135.8,2, -999.00,9, -999.00,9,  -999.0,     432,     8.4309, -999.00,9,     -999.0
325020130404,       PRS2,       2,          6,          2,       8002,2,20130406,       0602,  22.680833,-157.9528333,       4740,   730.1,   5.4443,  34.3594,2,  34.3602,2,     23.3,2,    23.5,2, -999.00,9, -999.00,9,  -999.0,     730,     5.3826, -999.00,9,     -999.0
325020130404,       PRS2,       2,          6,          1,       8001,2,20130406,       0602,  22.680833,-157.9528333,       4740,  1020.5,   4.1392,  34.4920,2,  34.4940,2,     44.4,2,    44.6,2, -999.00,9, -999.00,9,  -999.0,    1020,     4.0608, -999.00,9,     -999.0