BOTTLE,20141031SIOCCHAMB
EXPOCODE,SECT_ID,STNNBR,CASTNO,SAMPNO,BTLNBR,BTLNBR_FLAG_W,DATE,TIME,LATITUDE,LONGITUDE,DEPTH,CTDPRS,CTDTMP,CTDSAL,CTDSAL_FLAG_W,SALNTY,SALNTY_FLAG_W,CTDOXY,CTDOXY_FLAG_W,OXYGEN,OXYGEN_FLAG_W,SILCAT,SILCAT_FLAG_W,PHSPHT,PHSPHT_FLAG_W,REVPRS,CTDRAW,THETA,NO2+NO3,NO2+NO3_FLAG_W,REVTMP
,,,,,,,,,,,METERS,DBAR,ITS-90,PSS-78,,PSS-78,,UMOL/KG,,UMOL/KG,,UMOL/KG,,UMOL/KG,,DBAR,DBAR,ITS-90,UMOL/KG,,DEG C
325020130404,       PRS2,       1,          1,         24,       8024,2,20130404,       2312,  21.343167,-158.2733333,       1533,     4.5,  23.9094,  35.3189,2,  35.3210,2,    212.4,2,   212.3,2, -999.00,9, -999.00,9,  -999.0,       4,    23.9085, -999.00,9,     -999.0
325020130404,       PRS2,       1,          1,         23,       8023,2,20130404,       2312,  21.343167,-158.2733333,       1533,     4.5,  23.9125,  35.3193,2,  35.3198,2,    212.5,2,   212.1,2, -999.00,9, -999.00,9,  -999.0,       4,    23.9115, -999.00,9,     -999.0
325020130404,       PRS2,       1,          1,         22,       8022,2,20130404,       2312,  21.343167,-158.2733333,       1533,    24.6,  23.6801,  35.3172,2,  35.3191,2,    212.2,2,   212.9,2, -999.00,9, -999.00,9,  -999.0,      25,    23.6750, -999.00,9,     -999.0
325020130404,       PRS2,       1,          1,         21,       8021,2,20130404,       2312,  21.343167,-158.2733333,       1533,    45.1,  23.4754,  35.3023,2,  35.3031,2,    212.1,2,   211.8,2, -999.00,9, -999.00,9,  -999.0,      45,    23.4661, -999.00,9,     -999.0
325020130404,       PRS2,       1,          1,         20,       8020,2,20130404,       2312,  21.343167,-158.2733333,       1533,    60.6,  23.3355,  35.3109,2,  35.3129,2,    212.2,2,   212.3,2, -999.00,9, -999.00,9,  -999.0,      60,    23.3230, -999.00,9,     -999.0
325020130404,       PRS2,       1,          1,         19,       8019,2,20130404,       2312,  21.343167,-158.2733333,       1533,    75.1,  22.8976,  35.3075,2,  35.3080,2,    210.5,2,   209.8,2, -999.00,9, -999.00,9,  -999.0,      75,    22.8823, -999.00,9,     -999.0
325020130404,       PRS2,       1,          1,         18,       8018,2,20130404,       2312,  21.343167,-158.2733333,       1533,   100.4,  22.1793,  35.3256,2,  35.3202,2,    204.5,2,   205.7,2, -999.00,9, -999.00,9,  -999.0,      99,    22.1593, -999.00,9,     -999.0
325020130404,       PRS2,       1,          1,         17,       8017,2,20130404,       2312,  21.343167,-158.2733333,       1533,   115.0,  21.8021,  35.2802,2,  35.2649,4,    204.1,3,   200.7,2, -999.00,9, -999.00,9,  -999.0,     114,    21.7795, -999.00,9,     -999.0
325020130404,       PRS2,       1,          1,         16,       8016,2,20130404,       2312,  21.343167,-158.2733333,       1533,   125.0,  21.5706,  35.2318,2,  35.2385,2,    198.4,2,   198.6,2, -999.00,9, -999.00,9,  -999.0,     125,    21.5462, -999.00,9,     -999.0
325020130404,       PRS2,       1,          1,         15,       8015,2,20130404,       2312,  21.343167,-158.2733333,       1533,   149.7,  21.0413,  35.2141,2,  35.2085,2,    200.6,2,   199.2,2, -999.00,9, -999.00,9,  -999.0,     150,    21.0126, -999.00,9,     -999.0
325020130404,       PRS2,       1,          1,         14,       8014,2,20130404,       2312,  21.343167,-158.2733333,       1533,   175.3,  20.2188,  35.1220,2,  35.1222,2,    199.4,2,   200.1,2, -999.00,9, -999.00,9,  -999.0,     175,    20.1861, -999.00,9,     -999.0
325020130404,       PRS2,       1,          1,         13,       8025,2,20130404,       2312,  21.343167,-158.2733333,       1533,   199.6,  19.3633,  35.0093,2,  35.0079,2,    197.8,2,   197.4,2, -999.00,9, -999.00,9,  -999.0,     200,    19.3272, -999.00,9,     -999.0
325020130404,       PRS2,       1,          1,         12,       8012,2,20130404,       2312,  21.343167,-158.2733333,       1533,   224.5,  18.1289,  34.8401,2,  34.8235,2,    195.6,2,   195.2,2, -999.00,9, -999.00,9,  -999.0,     224,    18.0902, -999.00,9,     -999.0
325020130404,       PRS2,       1,          1,         11,       8011,2,20130404,       2312,  21.343167,-158.2733333,       1533,   250.5,  16.2833,  34.5926,2,  34.5832,2,    188.4,2,   189.2,2, -999.00,9, -999.00,9,  -999.0,     250,    16.2432, -999.00,9,     -999.0
325020130404,       PRS2,       1,          1,         10,       8010,2,20130404,       2312,  21.343167,-158.2733333,       1533,   299.7,  13.1741,  34.3140,2,  34.3211,2,    190.1,2,   190.8,2, -999.00,9, -999.00,9,  -999.0,     300,    13.1326, -999.00,9,     -999.0
325020130404,       PRS2,       1,          1,          9,       8009,2,20130404,       2312,  21.343167,-158.2733333,       1533,   349.6,  11.0977,  34.1910,2,  34.1893,2,    186.4,2,   181.4,2, -999.00,9, -999.00,9,  -999.0,     349,    11.0544, -999.00,9,     -999.0
325020130404,       PRS2,       1,          1,          8,       8008,2,20130404,       2312,  21.343167,-158.2733333,       1533,   400.5,   9.4006,  34.1350,2,  34.1338,2,    159.5,2,   159.3,2, -999.00,9, -999.00,9,  -999.0,     401,     9.3559, -999.00,9,     -999.0
325020130404,       PRS2,       1,          1,          7,       8026,2,20130404,       2312,  21.343167,-158.2733333,       1533,   500.8,   7.0236,  34.1612,2,  34.1619,2,     75.1,2,    74.7,2, -999.00,9, -999.00,9,  -999.0,     500,     6.9762, -999.00,9,     -999.0
325020130404,       PRS2,       1,          1,          6,       8006,2,20130404,       2312,  21.343167,-158.2733333,       1533,   600.7,   5.9779,  34.2541,2,  34.2548,2,     43.4,2,    43.4,2, -999.00,9, -999.00,9,  -999.0,     600,     5.9253, -999.00,9,     -999.0
325020130404,       PRS2,       1,          1,          5,       8005,2,20130404,       2312,  21.343167,-158.2733333,       1533,   700.1,   5.3431,  34.3652,2,  34.3635,2,     35.7,2,    36.0,2, -999.00,9, -999.00,9,  -999.0,     700,     5.2846, -999.00,9,     -999.0
325020130404,       PRS2,       1,          1,          4,       8004,2,20130404,       2312,  21.343167,-158.2733333,       1533,   750.3,   5.1006,  34.4022,2,  34.4014,2,     35.9,2,    35.8,2, -999.00,9, -999.00,9,  -999.0,     751,     5.0390, -999.00,9,     -999.0
325020130404,       PRS2,       1,          1,          3,       8003,2,20130404,       2312,  21.343167,-158.2733333,       1533,   900.7,   4.5661,  34.4651,2,  34.4657,2,     40.6,2,    40.9,2, -999.00,9, -999.00,9,  -999.0,     901,     4.4948, -999.00,9,     -999.0
325020130404,       PRS2,       1,          1,          2,       8002,2,20130404,       2312,  21.343167,-158.2733333,       1533,   900.7,   4.5680,  34.4644,2,  34.4654,2,     40.6,2,    40.4,2, -999.00,9, -999.00,9,  -999.0,     900,     4.4966, -999.00,9,     -999.0
325020130404,       PRS2,       1,          1,          1,       8001,2,20130404,       2312,  21.343167,-158.2733333,       1533,  1020.0,   4.1543,  34.4948,2,  34.4962,2,     46.6,2,    41.9,3, -999.00,9, -999.00,9,  -999.0,    1020,     4.0758, -999.00,9,     -999.0
325020130404,       PRS2,       2,          1,         23,       8023,2,20130405,       1146,  22.750167,-158.0178333,       4726,     5.3,  22.8188,  35.4334,2,  35.4344,2,    214.5,1,  -999.0,9, -999.00,9, -999.00,9,  -999.0,       5,    22.8178, -999.00,9,     -999.0
325020130404,       PRS2,       2,          1,         22,       8022,2,20130405,       1146,  22.750167,-158.0178333,       4726,     5.3,  22.8191,  35.4335,2,  35.4344,2,    214.5,1,  -999.0,9, -999.00,9, -999.00,9,  -999.0,       5,    22.8180, -999.00,9,     -999.0
325020130404,       PRS2,       2,          1,         21,       8021,2,20130405,       1146,  22.750167,-158.0178333,       4726,     5.3,  22.8195,  35.4334,2,  35.4346,2,    214.5,1,  -999.0,9, -999.00,9, -999.00,9,  -999.0,       5,    22.8185, -999.00,9,     -999.0
325020130404,       PRS2,       2,          1,         20,       8020,2,20130405,       1146,  22.750167,-158.0178333,       4726,    25.5,  22.7938,  35.4289,2,-999.0000,5,    214.7,1,  -999.0,9, -999.00,9, -999.00,9,  -999.0,      25,    22.7886, -999.00,9,     -999.0
325020130404,       PRS2,       2,          1,         19,       8019,2,20130405,       1146,  22.750167,-158.0178333,       4726,    25.5,  22.7927,  35.4289,2,  35.4287,2,    214.8,1,  -999.0,9, -999.00,9, -999.00,9,  -999.0,      25,    22.7876, -999.00,9,     -999.0
325020130404,       PRS2,       2,          1,         18,       8018,2,20130405,       1146,  22.750167,-158.0178333,       4726,    25.5,  22.7922,  35.4287,2,  35.4289,2,    214.8,1,  -999.0,9, -999.00,9, -999.00,9,  -999.0,      25,    22.7870, -999.00,9,     -999.0
325020130404,       PRS2,       2,          1,         17,       8017,2,20130405,       1146,  22.750167,-158.0178333,       4726,    25.4,  22.7860,  35.4282,2,  35.4289,2,    215.0,1,  -999.0,9, -999.00,9, -999.00,9,  -999.0,      25,    22.7808, -999.00,9,     -999.0
325020130404,       PRS2,       2,          1,         16,       8016,2,20130405,       1146,  22.750167,-158.0178333,       4726,    46.0,  22.7190,  35.4232,2,  35.4237,2,    215.2,1,  -999.0,9, -999.00,9, -999.00,9,  -999.0,      45,    22.7097, -999.00,9,     -999.0
325020130404,       PRS2,       2,          1,         15,       8015,2,20130405,       1146,  22.750167,-158.0178333,       4726,    45.9,  22.7186,  35.4231,2,  35.4243,2,    215.2,1,  -999.0,9, -999.00,9, -999.00,9,  -999.0,      45,    22.7093, -999.00,9,     -999.0
325020130404,       PRS2,       2,          1,         14,       8014,2,20130405,       1146,  22.750167,-158.0178333,       4726,    45.9,  22.7186,  35.4231,2,  35.4241,2,    215.1,1,  -999.0,9, -999.00,9, -999.00,9,  -999.0,      45,    22.7093, -999.00,9,     -999.0
325020130404,       PRS2,       2,          1,         13,       8025,2,20130405,       1146,  22.750167,-158.0178333,       4726,    76.0,  22.6848,  35.4194,2,  35.4204,2,    215.2,1,  -999.0,9, -999.00,9, -999.00,9,  -999.0,      76,    22.6694, -999.00,9,     -999.0
325020130404,       PRS2,       2,          1,         12,       8012,2,20130405,       1146,  22.750167,-158.0178333,       4726,    75.8,  22.6849,  35.4194,2,  35.4208,2,    215.1,1,  -999.0,9, -999.00,9, -999.00,9,  -999.0,      76,    22.6695, -999.00,9,     -999.0
325020130404,       PRS2,       2,          1,         11,       8011,2,20130405,       1146,  22.750167,-158.0178333,       4726,    75.7,  22.6848,  35.4193,2,  35.4200,2,    215.1,1,  -999.0,9, -999.00,9, -999.00,9,  -999.0,      75,    22.6695, -999.00,9,     -999.0
325020130404,       PRS2,       2,          1,         10,       8010,2,20130405,       1146,  22.750167,-158.0178333,       4726,   100.2,  22.6568,  35.4213,2,  35.4233,2,    214.0,1,  -999.0,9, -999.00,9, -999.00,9,  -999.0,     100,    22.6366, -999.00,9,     -999.0
325020130404,       PRS2,       2,          1,          9,       8009,2,20130405,       1146,  22.750167,-158.0178333,       4726,   100.1,  22.6582,  35.4216,2,  35.4229,2,    213.9,1,  -999.0,9, -999.00,9, -999.00,9,  -999.0,     100,    22.6380, -999.00,9,     -999.0
325020130404,       PRS2,       2,          1,          8,       8008,2,20130405,       1146,  22.750167,-158.0178333,       4726,   100.0,  22.6592,  35.4219,2,  35.4229,2,    213.8,1,  -999.0,9, -999.00,9, -999.00,9,  -999.0,     100,    22.6390, -999.00,9,     -999.0
325020130404,       PRS2,       2,          1,          7,       8026,2,20130405,       1146,  22.750167,-158.0178333,       4726,   125.4,  22.2654,  35.3970,2,  35.3981,2,    210.2,1,  -999.0,9, -999.00,9, -999.00,9,  -999.0,     125,    22.2403, -999.00,9,     -999.0
325020130404,       PRS2,       2,          1,          6,       8006,2,20130405,       1146,  22.750167,-158.0178333,       4726,   125.4,  22.2699,  35.3971,2,  35.3987,2,    210.2,1,  -999.0,9, -999.00,9, -999.00,9,  -999.0,     125,    22.2448, -999.00,9,     -999.0
325020130404,       PRS2,       2,          1,          5,       8005,2,20130405,       1146,  22.750167,-158.0178333,       4726,   125.2,  22.2848,  35.3965,2,  35.3985,2,    210.2,1,  -999.0,9, -999.00,9, -999.00,9,  -999.0,     125,    22.2598, -999.00,9,     -999.0
325020130404,       PRS2,       2,          1,          4,       8004,2,20130405,       1146,  22.750167,-158.0178333,       4726,   149.0,  22.0257,  35.4210,2,  35.4218,2,    213.8,1,  -999.0,9, -999.00,9, -999.00,9,  -999.0,     149,    21.9961, -999.00,9,     -999.0
325020130404,       PRS2,       2,          1,          3,       8003,2,20130405,       1146,  22.750167,-158.0178333,       4726,   174.2,  21.7351,  35.4006,2,  35.3975,2,    211.3,1,  -999.0,9, -999.00,9, -999.00,9,  -999.0,     175,    21.7009, -999.00,9,     -999.0
325020130404,       PRS2,       2,          1,          2,       8002,2,20130405,       1146,  22.750167,-158.0178333,       4726,   443.3,   8.3521,  34.0828,2,  34.0838,2,    133.0,1,  -999.0,9, -999.00,9, -999.00,9,  -999.0,     445,     8.3060, -999.00,9,     -999.0
325020130404,       PRS2,       2,          1,          1,       8001,2,20130405,       1146,  22.750167,-158.0178333,       4726,  1020.1,   4.2453,  34.4724,2,  34.4740,2,     42.3,1,  -999.0,9, -999.00,9, -999.00,9,  -999.0,    1020,     4.1661, -999.00,9,     -999.0
325020130404,       PRS2,       2,          2,         24,       8024,2,20130405,       1601,  22.750333,-157.9991667,       4725,     5.4,  22.7858,  35.4344,2,  35.4352,2,    212.6,2,   215.1,2,    1.40,2,    0.08,2,  -999.0,       5,    22.7847,    0.00,2,     -999.0
325020130404,       PRS2,       2,          2,         23,       8023,2,20130405,       1601,  22.750333,-157.9991667,       4725,   500.0,   7.2466,  34.0994,2,  34.1007,2,     90.0,2,    88.1,2,   49.49,2,    2.27,2,  -999.0,     500,     7.1985,   30.59,2,     -999.0
325020130404,       PRS2,       2,          2,         22,       8022,2,20130405,       1601,  22.750333,-157.9991667,       4725,   750.5,   5.3958,  34.3703,2,  34.3715,2,     25.2,2,    24.4,2,   84.10,2,    2.96,2,  -999.0,     749,     5.3326,   39.87,2,     -999.0
325020130404,       PRS2,       2,          2,         21,       8021,2,20130405,       1601,  22.750333,-157.9991667,       4725,  1000.6,   4.2648,  34.4720,2,  34.4726,2,     41.8,2,    41.3,2,  104.38,2,    3.00,2,  -999.0,    1000,     4.1871,   40.66,2,     -999.0
325020130404,       PRS2,       2,          2,         20,       8020,2,20130405,       1601,  22.750333,-157.9991667,       4725,  1201.0,   3.6063,  34.5179,2,  34.5188,2,     50.4,2,    51.2,2,  121.03,3,    2.93,2,  -999.0,    1201,     3.5172,   40.73,2,     -999.0
325020130404,       PRS2,       2,          2,         19,       8019,2,20130405,       1601,  22.750333,-157.9991667,       4725,  1399.4,   3.1526,  34.5528,2,  34.5533,2,     59.0,2,    59.3,2,  128.24,2,    2.93,2,  -999.0,    1399,     3.0515,   40.66,2,     -999.0
325020130404,       PRS2,       2,          2,         18,       8018,2,20130405,       1601,  22.750333,-157.9991667,       4725,  1598.4,   2.7041,  34.5824,2,  34.5826,2,     70.1,2,    71.1,2,  137.96,2,    2.86,2,  -999.0,    1597,     2.5915,   40.25,2,     -999.0
325020130404,       PRS2,       2,          2,         17,       8017,2,20130405,       1601,  22.750333,-157.9991667,       4725,  1801.2,   2.4161,  34.5992,2,  34.5995,2,     80.3,2,    80.1,2,  144.14,2,    2.81,2,  -999.0,    1801,     2.2904,   39.67,2,     -999.0
325020130404,       PRS2,       2,          2,         16,       8016,2,20130405,       1601,  22.750333,-157.9991667,       4725,  1999.8,   2.1920,  34.6145,2,  34.6148,2,     85.8,2,    86.7,2,  149.70,2,    2.79,2,  -999.0,    1999,     2.0527,   39.52,2,     -999.0
325020130404,       PRS2,       2,          2,         15,       8015,2,20130405,       1601,  22.750333,-157.9991667,       4725,  2200.1,   1.9878,  34.6281,2,  34.6282,2,     95.2,2,    95.7,2,  153.81,2,    2.73,2,  -999.0,    2201,     1.8345,   38.79,2,     -999.0
325020130404,       PRS2,       2,          2,         14,       8014,2,20130405,       1601,  22.750333,-157.9991667,       4725,  2399.8,   1.8264,  34.6413,2,  34.6409,2,    102.2,2,   102.7,2,  157.39,2,    2.70,2,  -999.0,    2398,     1.6584,   38.44,2,     -999.0
325020130404,       PRS2,       2,          2,         13,       8025,2,20130405,       1601,  22.750333,-157.9991667,       4725,  2599.3,   1.6975,  34.6521,2,  34.6510,2,    108.8,2,   110.3,2,  161.07,2,    2.67,2,  -999.0,    2599,     1.5139,   38.16,2,     -999.0
325020130404,       PRS2,       2,          2,         12,       8012,2,20130405,       1601,  22.750333,-157.9991667,       4725,  2799.9,   1.6117,  34.6608,2,  34.6608,2,    117.7,2,   118.3,2,  159.78,2,    2.62,2,  -999.0,    2800,     1.4115,   37.57,2,     -999.0
325020130404,       PRS2,       2,          2,         11,       8011,2,20130405,       1601,  22.750333,-157.9991667,       4725,  2999.8,   1.5471,  34.6673,2,  34.6673,2,    124.3,2,   124.7,2,  159.91,2,    2.58,2,  -999.0,    2999,     1.3293,   36.99,2,     -999.0
325020130404,       PRS2,       2,          2,         10,       8010,2,20130405,       1601,  22.750333,-157.9991667,       4725,  3200.3,   1.5087,  34.6724,2,  34.6722,2,    130.4,2,   131.1,2,  158.79,2,    2.56,2,  -999.0,    3201,     1.2723,   36.79,2,     -999.0
325020130404,       PRS2,       2,          2,          9,       8009,2,20130405,       1601,  22.750333,-157.9991667,       4725,  3399.8,   1.4836,  34.6765,2,  34.6765,2,    135.7,2,   135.6,2,  157.51,2,    2.52,2,  -999.0,    3400,     1.2281,   36.42,2,     -999.0
325020130404,       PRS2,       2,          2,          8,       8008,2,20130405,       1601,  22.750333,-157.9991667,       4725,  3600.4,   1.4693,  34.6796,2,  34.6796,2,    140.3,2,   140.9,2,  155.57,2,    2.50,2,  -999.0,    3599,     1.1937,   35.99,2,     -999.0
325020130404,       PRS2,       2,          2,          7,       8026,2,20130405,       1601,  22.750333,-157.9991667,       4725,  3799.5,   1.4611,  34.6822,2,  34.6822,2,    144.3,2,   144.0,2,  155.40,2,    2.48,2,  -999.0,    3799,     1.1648,   35.84,2,     -999.0
325020130404,       PRS2,       2,          2,          6,       8006,2,20130405,       1601,  22.750333,-157.9991667,       4725,  4000.3,   1.4601,  34.6844,2,  34.6842,2,    147.6,2,   147.8,2,  152.50,2,    2.47,2,  -999.0,    4001,     1.1423,   35.62,2,     -999.0
325020130404,       PRS2,       2,          2,          5,       8005,2,20130405,       1601,  22.750333,-157.9991667,       4725,  4200.9,   1.4670,  34.6858,2,  34.6857,2,    150.1,2,   149.4,2,  151.20,2,    2.46,2,  -999.0,    4201,     1.1269,   35.43,2,     -999.0
325020130404,       PRS2,       2,          2,          4,       8004,2,20130405,       1601,  22.750333,-157.9991667,       4725,  4401.3,   1.4816,  34.6866,2,  34.6865,2,    151.5,2,   151.1,2,  150.41,2,    2.45,2,  -999.0,    4402,     1.1185,   35.43,2,     -999.0
325020130404,       PRS2,       2,          2,          3,       8003,2,20130405,       1601,  22.750333,-157.9991667,       4725,  4500.4,   1.4899,  34.6871,2,  34.6869,2,    152.3,2,   151.8,2,  150.09,2,    2.46,2,  -999.0,    4499,     1.1152,   35.50,2,     -999.0
325020130404,       PRS2,       2,          2,          2,       8002,2,20130405,       1601,  22.750333,-157.9991667,       4725,  4600.6,   1.5002,  34.6871,2,  34.6873,2,    152.3,2,   152.1,2,  149.51,2,    2.46,2,  -999.0,    4600,     1.1135,   35.49,2,     -999.0
325020130404,       PRS2,       2,          2,          1,       8001,2,20130405,       1601,  22.750333,-157.9991667,       4725,  4808.6,   1.5238,  34.6874,2,  34.6875,2,    152.6,2,   151.8,2,  150.48,2,    2.46,2,  -999.0,    4810,     1.1119,   35.25,2,     -999.0