BOTTLE,20141031SIOCCHAMB
EXPOCODE,SECT_ID,STNNBR,CASTNO,SAMPNO,BTLNBR,BTLNBR_FLAG_W,DATE,TIME,LATITUDE,LONGITUDE,DEPTH,CTDPRS,CTDTMP,CTDSAL,CTDSAL_FLAG_W,SALNTY,SALNTY_FLAG_W,CTDOXY,CTDOXY_FLAG_W,OXYGEN,OXYGEN_FLAG_W,SILCAT,SILCAT_FLAG_W,PHSPHT,PHSPHT_FLAG_W,REVPRS,CTDRAW,THETA,NO2+NO3,NO2+NO3_FLAG_W,REVTMP
,,,,,,,,,,,METERS,DBAR,ITS-90,PSS-78,,PSS-78,,UMOL/KG,,UMOL/KG,,UMOL/KG,,UMOL/KG,,DBAR,DBAR,ITS-90,UMOL/KG,,DEG C
325020130404,       PRS2,       2,         14,         22,       8022,2,20130407,       0557,  22.750333,-157.9186667,       4703,     5.5,  22.6424,  35.4219,2,  35.4216,2,    216.0,1,  -999.0,9, -999.00,9, -999.00,9,  -999.0,       5,    22.6413, -999.00,9,     -999.0
325020130404,       PRS2,       2,         14,         21,       8021,2,20130407,       0557,  22.750333,-157.9186667,       4703,     5.5,  22.6426,  35.4219,2,  35.4214,2,    216.0,1,  -999.0,9, -999.00,9, -999.00,9,  -999.0,       6,    22.6415, -999.00,9,     -999.0
325020130404,       PRS2,       2,         14,         20,       8020,2,20130407,       0557,  22.750333,-157.9186667,       4703,    25.4,  22.4776,  35.4199,2,  35.4188,2,    216.3,1,  -999.0,9, -999.00,9, -999.00,9,  -999.0,      25,    22.4726, -999.00,9,     -999.0
325020130404,       PRS2,       2,         14,         19,       8019,2,20130407,       0557,  22.750333,-157.9186667,       4703,    25.3,  22.4747,  35.4198,2,  35.4188,2,    216.3,1,  -999.0,9, -999.00,9, -999.00,9,  -999.0,      25,    22.4696, -999.00,9,     -999.0
325020130404,       PRS2,       2,         14,         18,       8018,2,20130407,       0557,  22.750333,-157.9186667,       4703,    45.6,  22.1325,  35.3998,2,  35.3995,2,    217.6,1,  -999.0,9, -999.00,9, -999.00,9,  -999.0,      45,    22.1235, -999.00,9,     -999.0
325020130404,       PRS2,       2,         14,         17,       8017,2,20130407,       0557,  22.750333,-157.9186667,       4703,    45.6,  22.1328,  35.3998,2,  35.3999,2,    217.6,1,  -999.0,9, -999.00,9, -999.00,9,  -999.0,      45,    22.1238, -999.00,9,     -999.0
325020130404,       PRS2,       2,         14,         16,       8016,2,20130407,       0557,  22.750333,-157.9186667,       4703,    59.8,  22.0128,  35.3918,2,  35.3908,2,    217.8,1,  -999.0,9, -999.00,9, -999.00,9,  -999.0,      60,    22.0009, -999.00,9,     -999.0
325020130404,       PRS2,       2,         14,         15,       8015,2,20130407,       0557,  22.750333,-157.9186667,       4703,    75.7,  21.8084,  35.3668,2,  35.3662,2,    215.8,1,  -999.0,9, -999.00,9, -999.00,9,  -999.0,      75,    21.7935, -999.00,9,     -999.0
325020130404,       PRS2,       2,         14,         14,       8014,2,20130407,       0557,  22.750333,-157.9186667,       4703,    75.6,  21.8121,  35.3669,2,  35.3642,2,    215.8,1,  -999.0,9, -999.00,9, -999.00,9,  -999.0,      75,    21.7973, -999.00,9,     -999.0
325020130404,       PRS2,       2,         14,         13,       8025,2,20130407,       0557,  22.750333,-157.9186667,       4703,    85.2,  21.7111,  35.3633,2,  35.3600,2,    214.2,1,  -999.0,9, -999.00,9, -999.00,9,  -999.0,      85,    21.6944, -999.00,9,     -999.0
325020130404,       PRS2,       2,         14,         12,       8012,2,20130407,       0557,  22.750333,-157.9186667,       4703,   100.6,  21.5914,  35.3397,2,  35.3332,2,    212.6,1,  -999.0,9, -999.00,9, -999.00,9,  -999.0,     100,    21.5717, -999.00,9,     -999.0
325020130404,       PRS2,       2,         14,         11,       8011,2,20130407,       0557,  22.750333,-157.9186667,       4703,   100.6,  21.5921,  35.3398,2,  35.3328,2,    212.7,1,  -999.0,9, -999.00,9, -999.00,9,  -999.0,     100,    21.5725, -999.00,9,     -999.0
325020130404,       PRS2,       2,         14,         10,       8010,2,20130407,       0557,  22.750333,-157.9186667,       4703,   115.3,  21.1514,  35.2752,2,  35.2761,2,    209.6,1,  -999.0,9, -999.00,9, -999.00,9,  -999.0,     116,    21.1292, -999.00,9,     -999.0
325020130404,       PRS2,       2,         14,          9,       8009,2,20130407,       0557,  22.750333,-157.9186667,       4703,   124.4,  21.0640,  35.2659,2,  35.2643,2,    207.9,1,  -999.0,9, -999.00,9, -999.00,9,  -999.0,     125,    21.0401, -999.00,9,     -999.0
325020130404,       PRS2,       2,         14,          8,       8008,2,20130407,       0557,  22.750333,-157.9186667,       4703,   124.6,  21.0612,  35.2648,2,  35.2649,2,    207.8,1,  -999.0,9, -999.00,9, -999.00,9,  -999.0,     124,    21.0373, -999.00,9,     -999.0
325020130404,       PRS2,       2,         14,          7,       8026,2,20130407,       0557,  22.750333,-157.9186667,       4703,   134.8,  20.4957,  35.1549,2,  35.2635,4,    201.5,1,  -999.0,9, -999.00,9, -999.00,9,  -999.0,     135,    20.4704, -999.00,9,     -999.0
325020130404,       PRS2,       2,         14,          6,       8006,2,20130407,       0557,  22.750333,-157.9186667,       4703,   149.9,  20.0062,  35.0809,2,  35.0852,2,    201.0,1,  -999.0,9, -999.00,9, -999.00,9,  -999.0,     149,    19.9785, -999.00,9,     -999.0
325020130404,       PRS2,       2,         14,          5,       8005,2,20130407,       0557,  22.750333,-157.9186667,       4703,   149.8,  20.0085,  35.0817,2,  35.0823,2,    201.0,1,  -999.0,9, -999.00,9, -999.00,9,  -999.0,     150,    19.9808, -999.00,9,     -999.0
325020130404,       PRS2,       2,         14,          4,       8004,2,20130407,       0557,  22.750333,-157.9186667,       4703,   175.4,  18.9476,  34.9388,2,  34.9364,2,    208.3,1,  -999.0,9, -999.00,9, -999.00,9,  -999.0,     176,    18.9164, -999.00,9,     -999.0
325020130404,       PRS2,       2,         14,          3,       8003,2,20130407,       0557,  22.750333,-157.9186667,       4703,   175.6,  18.9447,  34.9387,2,  34.9335,2,    208.3,1,  -999.0,9, -999.00,9, -999.00,9,  -999.0,     175,    18.9134, -999.00,9,     -999.0
325020130404,       PRS2,       2,         14,          2,       8002,2,20130407,       0557,  22.750333,-157.9186667,       4703,   420.5,   8.9794,  34.1067,2,  34.1078,2,    135.8,1,  -999.0,9, -999.00,9, -999.00,9,  -999.0,     420,     8.9338, -999.00,9,     -999.0
325020130404,       PRS2,       2,         14,          1,       8001,2,20130407,       0557,  22.750333,-157.9186667,       4703,  1020.7,   4.1647,  34.4810,2,  34.4807,2,     42.0,1,  -999.0,9, -999.00,9, -999.00,9,  -999.0,    1020,     4.0860, -999.00,9,     -999.0
325020130404,       PRS2,       2,         15,         15,       8015,2,20130407,       0900,  22.749667,-158.0001667,       4725,     5.5,  22.6974,  35.4216,2,  35.4214,2,    215.4,2,   216.0,2, -999.00,9, -999.00,9,  -999.0,       5,    22.6963, -999.00,9,     -999.0
325020130404,       PRS2,       2,         15,         14,       8014,2,20130407,       0900,  22.749667,-158.0001667,       4725,    10.4,  22.7007,  35.4215,2,-999.0000,5,    215.5,2,  -999.0,5, -999.00,9, -999.00,9,  -999.0,      10,    22.6986, -999.00,9,     -999.0
325020130404,       PRS2,       2,         15,         13,       8025,2,20130407,       0900,  22.749667,-158.0001667,       4725,   111.0,  21.8323,  35.3878,2,  35.3847,2,    216.6,2,   216.6,2, -999.00,9, -999.00,9,  -999.0,     110,    21.8105, -999.00,9,     -999.0
325020130404,       PRS2,       2,         15,         12,       8012,2,20130407,       0900,  22.749667,-158.0001667,       4725,   449.9,   8.4282,  34.1123,2,  34.1148,2,    117.7,2,   120.0,2, -999.00,9, -999.00,9,  -999.0,     450,     8.3811, -999.00,9,     -999.0
325020130404,       PRS2,       2,         15,         11,       8011,2,20130407,       0900,  22.749667,-158.0001667,       4725,   700.4,   5.4422,  34.2880,2,  34.2885,2,     26.5,2,    25.8,2, -999.00,9, -999.00,9,  -999.0,     700,     5.3832, -999.00,9,     -999.0
325020130404,       PRS2,       2,         15,         10,       8010,2,20130407,       0900,  22.749667,-158.0001667,       4725,   799.6,   5.0481,  34.4161,2,-999.0000,5,     25.9,2,  -999.0,5, -999.00,9, -999.00,9,  -999.0,     799,     4.9825, -999.00,9,     -999.0
325020130404,       PRS2,       2,         15,          9,       8009,2,20130407,       0900,  22.749667,-158.0001667,       4725,  1000.8,   4.3225,  34.4868,2,-999.0000,5,     37.4,2,  -999.0,5, -999.00,9, -999.00,9,  -999.0,    1001,     4.2443, -999.00,9,     -999.0
325020130404,       PRS2,       2,         15,          8,       8008,2,20130407,       0900,  22.749667,-158.0001667,       4725,  1999.9,   2.2046,  34.6140,2,-999.0000,5,     85.8,2,  -999.0,5, -999.00,9, -999.00,9,  -999.0,    1999,     2.0651, -999.00,9,     -999.0
325020130404,       PRS2,       2,         15,          7,       8026,2,20130407,       0900,  22.749667,-158.0001667,       4725,  2000.0,   2.2019,  34.6137,2,  34.6140,2,     85.8,2,    87.2,2, -999.00,9, -999.00,9,  -999.0,    2000,     2.0624, -999.00,9,     -999.0
325020130404,       PRS2,       2,         15,          6,       8006,2,20130407,       0900,  22.749667,-158.0001667,       4725,  3000.1,   1.5635,  34.6671,2,-999.0000,5,    122.9,2,  -999.0,5, -999.00,9, -999.00,9,  -999.0,    3000,     1.3454, -999.00,9,     -999.0
325020130404,       PRS2,       2,         15,          5,       8005,2,20130407,       0900,  22.749667,-158.0001667,       4725,  3000.1,   1.5634,  34.6672,2,  34.6673,2,    122.9,2,   124.1,2, -999.00,9, -999.00,9,  -999.0,    3000,     1.3452, -999.00,9,     -999.0
325020130404,       PRS2,       2,         15,          4,       8004,2,20130407,       0900,  22.749667,-158.0001667,       4725,  3998.8,   1.4578,  34.6853,2,-999.0000,5,    147.7,2,  -999.0,5, -999.00,9, -999.00,9,  -999.0,    3998,     1.1402, -999.00,9,     -999.0
325020130404,       PRS2,       2,         15,          3,       8003,2,20130407,       0900,  22.749667,-158.0001667,       4725,  3998.2,   1.4577,  34.6854,2,  34.6850,2,    147.8,2,   147.6,2, -999.00,9, -999.00,9,  -999.0,    3999,     1.1402, -999.00,9,     -999.0
325020130404,       PRS2,       2,         15,          2,       8002,2,20130407,       0900,  22.749667,-158.0001667,       4725,  4398.2,   1.4820,  34.6874,2,-999.0000,5,    151.0,2,  -999.0,5, -999.00,9, -999.00,9,  -999.0,    4398,     1.1192, -999.00,9,     -999.0
325020130404,       PRS2,       2,         15,          1,       8001,2,20130407,       0900,  22.749667,-158.0001667,       4725,  4805.5,   1.5233,  34.6882,2,  34.6881,2,    152.4,2,   152.0,2, -999.00,9, -999.00,9,  -999.0,    4806,     1.1117, -999.00,9,     -999.0
325020130404,       PRS2,       6,          1,         17,       8017,2,20130408,       0611,  21.846500,-158.3641667,       2471,     5.6,  23.3392,  35.3899,2,  35.3894,2,    214.7,1,  -999.0,9, -999.00,9, -999.00,9,  -999.0,       5,    23.3380, -999.00,9,     -999.0
325020130404,       PRS2,       6,          1,         16,       8016,2,20130408,       0611,  21.846500,-158.3641667,       2471,    25.0,  23.2353,  35.3933,2,  35.3961,2,    214.8,1,  -999.0,9, -999.00,9, -999.00,9,  -999.0,      25,    23.2302, -999.00,9,     -999.0
325020130404,       PRS2,       6,          1,         15,       8015,2,20130408,       0611,  21.846500,-158.3641667,       2471,    45.9,  22.6098,  35.4314,2,  35.4302,2,    215.8,1,  -999.0,9, -999.00,9, -999.00,9,  -999.0,      45,    22.6005, -999.00,9,     -999.0
325020130404,       PRS2,       6,          1,         14,       8014,2,20130408,       0611,  21.846500,-158.3641667,       2471,    74.9,  22.4566,  35.4264,2,  35.4257,2,    216.1,1,  -999.0,9, -999.00,9, -999.00,9,  -999.0,      74,    22.4415, -999.00,9,     -999.0
325020130404,       PRS2,       6,          1,         13,       8025,2,20130408,       0611,  21.846500,-158.3641667,       2471,   100.1,  22.4182,  35.4250,2,  35.4243,2,    216.1,1,  -999.0,9, -999.00,9, -999.00,9,  -999.0,     100,    22.3981, -999.00,9,     -999.0
325020130404,       PRS2,       6,          1,         12,       8012,2,20130408,       0611,  21.846500,-158.3641667,       2471,   125.3,  22.0001,  35.4037,2,  35.4036,2,    214.8,1,  -999.0,9, -999.00,9, -999.00,9,  -999.0,     125,    21.9752, -999.00,9,     -999.0
325020130404,       PRS2,       6,          1,         11,       8011,2,20130408,       0611,  21.846500,-158.3641667,       2471,   130.2,  21.7871,  35.4017,2,-999.0000,5,    215.9,1,  -999.0,9, -999.00,9, -999.00,9,  -999.0,     130,    21.7615, -999.00,9,     -999.0
325020130404,       PRS2,       6,          1,         10,       8010,2,20130408,       0611,  21.846500,-158.3641667,       2471,   140.6,  21.6839,  35.4090,2,-999.0000,5,    212.5,1,  -999.0,9, -999.00,9, -999.00,9,  -999.0,     140,    21.6563, -999.00,9,     -999.0
325020130404,       PRS2,       6,          1,          9,       8009,2,20130408,       0611,  21.846500,-158.3641667,       2471,   150.2,  21.2069,  35.3052,2,  35.2974,2,    207.5,1,  -999.0,9, -999.00,9, -999.00,9,  -999.0,     150,    21.1779, -999.00,9,     -999.0
325020130404,       PRS2,       6,          1,          8,       8008,2,20130408,       0611,  21.846500,-158.3641667,       2471,   160.1,  20.5630,  35.1971,2,-999.0000,5,    194.7,1,  -999.0,9, -999.00,9, -999.00,9,  -999.0,     160,    20.5328, -999.00,9,     -999.0
325020130404,       PRS2,       6,          1,          7,       8026,2,20130408,       0611,  21.846500,-158.3641667,       2471,   175.7,  19.9194,  35.1170,2,  35.1008,2,    197.3,1,  -999.0,9, -999.00,9, -999.00,9,  -999.0,     175,    19.8870, -999.00,9,     -999.0
325020130404,       PRS2,       6,          1,          6,       8006,2,20130408,       0611,  21.846500,-158.3641667,       2471,   200.4,  18.2772,  34.8662,2,-999.0000,5,    198.6,1,  -999.0,9, -999.00,9, -999.00,9,  -999.0,     201,    18.2424, -999.00,9,     -999.0
325020130404,       PRS2,       6,          1,          5,       8005,2,20130408,       0611,  21.846500,-158.3641667,       2471,   500.1,   7.1107,  34.0847,2,  34.0852,2,     97.0,1,  -999.0,9, -999.00,9, -999.00,9,  -999.0,     500,     7.0631, -999.00,9,     -999.0
325020130404,       PRS2,       6,          1,          4,       8004,2,20130408,       0611,  21.846500,-158.3641667,       2471,  1000.2,   4.1539,  34.4981,2,-999.0000,5,     40.0,1,  -999.0,9, -999.00,9, -999.00,9,  -999.0,    1001,     4.0770, -999.00,9,     -999.0
325020130404,       PRS2,       6,          1,          3,       8003,2,20130408,       0611,  21.846500,-158.3641667,       2471,  1500.8,   3.0489,  34.5658,2,-999.0000,5,     60.8,1,  -999.0,9, -999.00,9, -999.00,9,  -999.0,    1500,     2.9405, -999.00,9,     -999.0
325020130404,       PRS2,       6,          1,          2,       8002,2,20130408,       0611,  21.846500,-158.3641667,       2471,  2000.4,   2.2279,  34.6159,2,-999.0000,5,     85.5,1,  -999.0,9, -999.00,9, -999.00,9,  -999.0,    2000,     2.0880, -999.00,9,     -999.0
325020130404,       PRS2,       6,          1,          1,       8001,2,20130408,       0611,  21.846500,-158.3641667,       2471,  2459.7,   1.8157,  34.6448,2,  34.6449,2,    106.4,1,  -999.0,9, -999.00,9, -999.00,9,  -999.0,    2460,     1.6425, -999.00,9,     -999.0