BOTTLE,20141031SIOCCHAMB
EXPOCODE,SECT_ID,STNNBR,CASTNO,SAMPNO,BTLNBR,BTLNBR_FLAG_W,DATE,TIME,LATITUDE,LONGITUDE,DEPTH,CTDPRS,CTDTMP,CTDSAL,CTDSAL_FLAG_W,SALNTY,SALNTY_FLAG_W,CTDOXY,CTDOXY_FLAG_W,OXYGEN,OXYGEN_FLAG_W,SILCAT,SILCAT_FLAG_W,PHSPHT,PHSPHT_FLAG_W,REVPRS,CTDRAW,THETA,NO2+NO3,NO2+NO3_FLAG_W,REVTMP
,,,,,,,,,,,METERS,DBAR,ITS-90,PSS-78,,PSS-78,,UMOL/KG,,UMOL/KG,,UMOL/KG,,UMOL/KG,,DBAR,DBAR,ITS-90,UMOL/KG,,DEG C
325020130404,       PRS2,       2,          7,         12,       8012,2,20130406,       0913,  22.688333,-157.9225000,       4724,     4.6,  22.7940,  35.4331,2,  35.4342,2,    214.9,1,  -999.0,9, -999.00,9, -999.00,9,  -999.0,       5,    22.7930, -999.00,9,     -999.0
325020130404,       PRS2,       2,          7,         11,       8011,2,20130406,       0913,  22.688333,-157.9225000,       4724,    25.7,  22.7960,  35.4317,2,  35.4328,2,    215.0,1,  -999.0,9, -999.00,9, -999.00,9,  -999.0,      25,    22.7908, -999.00,9,     -999.0
325020130404,       PRS2,       2,          7,         10,       8010,2,20130406,       0913,  22.688333,-157.9225000,       4724,    45.2,  22.7914,  35.4304,2,  35.4306,2,    215.1,1,  -999.0,9, -999.00,9, -999.00,9,  -999.0,      45,    22.7823, -999.00,9,     -999.0
325020130404,       PRS2,       2,          7,          9,       8009,2,20130406,       0913,  22.688333,-157.9225000,       4724,    75.3,  22.4969,  35.4181,2,  35.4174,2,    216.1,1,  -999.0,9, -999.00,9, -999.00,9,  -999.0,      75,    22.4818, -999.00,9,     -999.0
325020130404,       PRS2,       2,          7,          8,       8008,2,20130406,       0913,  22.688333,-157.9225000,       4724,   100.9,  22.2038,  35.4132,2,  35.4107,2,    208.8,1,  -999.0,9, -999.00,9, -999.00,9,  -999.0,     101,    22.1837, -999.00,9,     -999.0
325020130404,       PRS2,       2,          7,          7,       8026,2,20130406,       0913,  22.688333,-157.9225000,       4724,   125.9,  22.0893,  35.3980,2,  35.4048,2,    211.7,1,  -999.0,9, -999.00,9, -999.00,9,  -999.0,     124,    22.0643, -999.00,9,     -999.0
325020130404,       PRS2,       2,          7,          6,       8006,2,20130406,       0913,  22.688333,-157.9225000,       4724,   125.5,  22.0925,  35.3984,2,  35.4074,2,    211.4,1,  -999.0,9, -999.00,9, -999.00,9,  -999.0,     126,    22.0676, -999.00,9,     -999.0
325020130404,       PRS2,       2,          7,          5,       8005,2,20130406,       0913,  22.688333,-157.9225000,       4724,   125.6,  22.0925,  35.3984,2,  35.4089,2,    211.2,1,  -999.0,9, -999.00,9, -999.00,9,  -999.0,     125,    22.0676, -999.00,9,     -999.0
325020130404,       PRS2,       2,          7,          4,       8004,2,20130406,       0913,  22.688333,-157.9225000,       4724,   149.9,  21.6296,  35.3674,2,  35.3677,2,    208.2,1,  -999.0,9, -999.00,9, -999.00,9,  -999.0,     150,    21.6003, -999.00,9,     -999.0
325020130404,       PRS2,       2,          7,          3,       8003,2,20130406,       0913,  22.688333,-157.9225000,       4724,   176.0,  20.6115,  35.2108,2,  35.2180,2,    199.0,1,  -999.0,9, -999.00,9, -999.00,9,  -999.0,     176,    20.5783, -999.00,9,     -999.0
325020130404,       PRS2,       2,          7,          2,       8002,2,20130406,       0913,  22.688333,-157.9225000,       4724,   480.3,   7.5454,  34.0978,2,  34.0991,2,    101.5,1,  -999.0,9, -999.00,9, -999.00,9,  -999.0,     480,     7.4981, -999.00,9,     -999.0
325020130404,       PRS2,       2,          7,          1,       8001,2,20130406,       0913,  22.688333,-157.9225000,       4724,  1020.7,   4.2379,  34.4916,2,  34.4883,2,     41.0,1,  -999.0,9, -999.00,9, -999.00,9,  -999.0,    1021,     4.1587, -999.00,9,     -999.0
325020130404,       PRS2,       2,          8,         24,       8024,2,20130406,       1158,  22.693000,-157.9390000,       4731,     5.2,  22.7728,  35.4335,2,  35.4338,2,    214.9,1,  -999.0,9, -999.00,9, -999.00,9,  -999.0,       5,    22.7717, -999.00,9,     -999.0
325020130404,       PRS2,       2,          8,         23,       8023,2,20130406,       1158,  22.693000,-157.9390000,       4731,     5.3,  22.7730,  35.4335,2,  35.4332,2,    214.8,1,  -999.0,9, -999.00,9, -999.00,9,  -999.0,       6,    22.7719, -999.00,9,     -999.0
325020130404,       PRS2,       2,          8,         22,       8022,2,20130406,       1158,  22.693000,-157.9390000,       4731,    25.8,  22.7804,  35.4334,2,  35.4330,2,    214.9,1,  -999.0,9, -999.00,9, -999.00,9,  -999.0,      25,    22.7751, -999.00,9,     -999.0
325020130404,       PRS2,       2,          8,         21,       8021,2,20130406,       1158,  22.693000,-157.9390000,       4731,    25.8,  22.7823,  35.4332,2,  35.4332,2,    214.9,1,  -999.0,9, -999.00,9, -999.00,9,  -999.0,      25,    22.7770, -999.00,9,     -999.0
325020130404,       PRS2,       2,          8,         20,       8020,2,20130406,       1158,  22.693000,-157.9390000,       4731,    45.8,  22.7869,  35.4329,2,  35.4328,2,    214.9,1,  -999.0,9, -999.00,9, -999.00,9,  -999.0,      44,    22.7776, -999.00,9,     -999.0
325020130404,       PRS2,       2,          8,         19,       8019,2,20130406,       1158,  22.693000,-157.9390000,       4731,    45.6,  22.7872,  35.4329,2,  35.4328,2,    214.9,1,  -999.0,9, -999.00,9, -999.00,9,  -999.0,      45,    22.7779, -999.00,9,     -999.0
325020130404,       PRS2,       2,          8,         18,       8018,2,20130406,       1158,  22.693000,-157.9390000,       4731,    60.2,  22.6001,  35.4213,2,-999.0000,5,    213.8,1,  -999.0,9, -999.00,9, -999.00,9,  -999.0,      61,    22.5880, -999.00,9,     -999.0
325020130404,       PRS2,       2,          8,         17,       8017,2,20130406,       1158,  22.693000,-157.9390000,       4731,    74.3,  22.5212,  35.4220,2,  35.4214,2,    215.5,1,  -999.0,9, -999.00,9, -999.00,9,  -999.0,      75,    22.5063, -999.00,9,     -999.0
325020130404,       PRS2,       2,          8,         16,       8016,2,20130406,       1158,  22.693000,-157.9390000,       4731,    74.4,  22.5219,  35.4221,2,  35.4214,2,    215.5,1,  -999.0,9, -999.00,9, -999.00,9,  -999.0,      74,    22.5070, -999.00,9,     -999.0
325020130404,       PRS2,       2,          8,         15,       8015,2,20130406,       1158,  22.693000,-157.9390000,       4731,    90.6,  22.3180,  35.4061,2,-999.0000,5,    215.4,1,  -999.0,9, -999.00,9, -999.00,9,  -999.0,      89,    22.2999, -999.00,9,     -999.0
325020130404,       PRS2,       2,          8,         14,       8014,2,20130406,       1158,  22.693000,-157.9390000,       4731,   100.6,  22.2323,  35.4154,2,  35.4153,2,    216.8,1,  -999.0,9, -999.00,9, -999.00,9,  -999.0,      99,    22.2122, -999.00,9,     -999.0
325020130404,       PRS2,       2,          8,         13,       8025,2,20130406,       1158,  22.693000,-157.9390000,       4731,   100.1,  22.2323,  35.4155,2,  35.4156,2,    216.8,1,  -999.0,9, -999.00,9, -999.00,9,  -999.0,     100,    22.2123, -999.00,9,     -999.0
325020130404,       PRS2,       2,          8,         12,       8012,2,20130406,       1158,  22.693000,-157.9390000,       4731,   110.0,  22.2078,  35.4163,2,-999.0000,5,    216.5,1,  -999.0,9, -999.00,9, -999.00,9,  -999.0,     111,    22.1859, -999.00,9,     -999.0
325020130404,       PRS2,       2,          8,         11,       8011,2,20130406,       1158,  22.693000,-157.9390000,       4731,   119.8,  22.1829,  35.4200,2,-999.0000,5,    216.7,1,  -999.0,9, -999.00,9, -999.00,9,  -999.0,     121,    22.1590, -999.00,9,     -999.0
325020130404,       PRS2,       2,          8,         10,       8010,2,20130406,       1158,  22.693000,-157.9390000,       4731,   124.5,  22.1687,  35.4199,2,  35.4196,2,    216.4,1,  -999.0,9, -999.00,9, -999.00,9,  -999.0,     124,    22.1439, -999.00,9,     -999.0
325020130404,       PRS2,       2,          8,          9,       8009,2,20130406,       1158,  22.693000,-157.9390000,       4731,   124.5,  22.1689,  35.4200,2,  35.4190,2,    216.4,1,  -999.0,9, -999.00,9, -999.00,9,  -999.0,     125,    22.1441, -999.00,9,     -999.0
325020130404,       PRS2,       2,          8,          8,       8008,2,20130406,       1158,  22.693000,-157.9390000,       4731,   129.8,  22.1625,  35.4190,2,-999.0000,5,    216.5,1,  -999.0,9, -999.00,9, -999.00,9,  -999.0,     129,    22.1366, -999.00,9,     -999.0
325020130404,       PRS2,       2,          8,          7,       8026,2,20130406,       1158,  22.693000,-157.9390000,       4731,   139.5,  22.1141,  35.4206,2,-999.0000,5,    216.6,1,  -999.0,9, -999.00,9, -999.00,9,  -999.0,     139,    22.0864, -999.00,9,     -999.0
325020130404,       PRS2,       2,          8,          6,       8006,2,20130406,       1158,  22.693000,-157.9390000,       4731,   151.0,  22.0265,  35.4060,2,-999.0000,5,    214.9,1,  -999.0,9, -999.00,9, -999.00,9,  -999.0,     150,    21.9966, -999.00,9,     -999.0
325020130404,       PRS2,       2,          8,          5,       8005,2,20130406,       1158,  22.693000,-157.9390000,       4731,   159.9,  21.7317,  35.3870,2,-999.0000,5,    208.7,1,  -999.0,9, -999.00,9, -999.00,9,  -999.0,     158,    21.7003, -999.00,9,     -999.0
325020130404,       PRS2,       2,          8,          4,       8004,2,20130406,       1158,  22.693000,-157.9390000,       4731,   169.2,  21.3171,  35.3179,2,-999.0000,5,    205.4,1,  -999.0,9, -999.00,9, -999.00,9,  -999.0,     169,    21.2843, -999.00,9,     -999.0
325020130404,       PRS2,       2,          8,          3,       8003,2,20130406,       1158,  22.693000,-157.9390000,       4731,   180.1,  20.7528,  35.2252,2,-999.0000,5,    199.3,1,  -999.0,9, -999.00,9, -999.00,9,  -999.0,     179,    20.7186, -999.00,9,     -999.0
325020130404,       PRS2,       2,          8,          2,       8002,2,20130406,       1158,  22.693000,-157.9390000,       4731,   420.5,   8.5315,  34.0883,2,  34.0846,2,    141.2,1,  -999.0,9, -999.00,9, -999.00,9,  -999.0,     419,     8.4873, -999.00,9,     -999.0
325020130404,       PRS2,       2,          8,          1,       8001,2,20130406,       1158,  22.693000,-157.9390000,       4731,  1021.6,   4.2213,  34.4723,2,  34.4724,2,     41.7,1,  -999.0,9, -999.00,9, -999.00,9,  -999.0,    1021,     4.1421, -999.00,9,     -999.0
325020130404,       PRS2,       2,          9,         14,       8014,2,20130406,       1459,  22.733167,-157.9816667,       4722,     5.8,  22.7382,  35.4351,2,  35.4348,2,    215.1,1,  -999.0,9, -999.00,9, -999.00,9,  -999.0,       5,    22.7370, -999.00,9,     -999.0
325020130404,       PRS2,       2,          9,         13,       8025,2,20130406,       1459,  22.733167,-157.9816667,       4722,     5.9,  22.7382,  35.4351,2,-999.0000,5,    215.2,1,  -999.0,9, -999.00,9, -999.00,9,  -999.0,       6,    22.7370, -999.00,9,     -999.0
325020130404,       PRS2,       2,          9,         12,       8012,2,20130406,       1459,  22.733167,-157.9816667,       4722,     6.0,  22.7384,  35.4350,2,-999.0000,5,    215.2,1,  -999.0,9, -999.00,9, -999.00,9,  -999.0,       5,    22.7372, -999.00,9,     -999.0
325020130404,       PRS2,       2,          9,         11,       8011,2,20130406,       1459,  22.733167,-157.9816667,       4722,     5.9,  22.7382,  35.4350,2,-999.0000,5,    215.2,1,  -999.0,9, -999.00,9, -999.00,9,  -999.0,       5,    22.7370, -999.00,9,     -999.0
325020130404,       PRS2,       2,          9,         10,       8010,2,20130406,       1459,  22.733167,-157.9816667,       4722,     5.8,  22.7384,  35.4350,2,-999.0000,5,    215.2,1,  -999.0,9, -999.00,9, -999.00,9,  -999.0,       6,    22.7372, -999.00,9,     -999.0
325020130404,       PRS2,       2,          9,          9,       8009,2,20130406,       1459,  22.733167,-157.9816667,       4722,     5.9,  22.7390,  35.4349,2,-999.0000,5,    215.2,1,  -999.0,9, -999.00,9, -999.00,9,  -999.0,       6,    22.7378, -999.00,9,     -999.0
325020130404,       PRS2,       2,          9,          8,       8008,2,20130406,       1459,  22.733167,-157.9816667,       4722,     5.9,  22.7400,  35.4350,2,-999.0000,5,    215.2,1,  -999.0,9, -999.00,9, -999.00,9,  -999.0,       6,    22.7388, -999.00,9,     -999.0
325020130404,       PRS2,       2,          9,          7,       8026,2,20130406,       1459,  22.733167,-157.9816667,       4722,   480.1,   7.7408,  34.1199,2,  34.1199,2,    101.5,1,  -999.0,9, -999.00,9, -999.00,9,  -999.0,     480,     7.6929, -999.00,9,     -999.0
325020130404,       PRS2,       2,          9,          6,       8006,2,20130406,       1459,  22.733167,-157.9816667,       4722,  1021.5,   4.3552,  34.4821,2,-999.0000,5,     39.3,1,  -999.0,9, -999.00,9, -999.00,9,  -999.0,    1023,     4.2750, -999.00,9,     -999.0
325020130404,       PRS2,       2,          9,          5,       8005,2,20130406,       1459,  22.733167,-157.9816667,       4722,  1021.9,   4.3550,  34.4820,2,-999.0000,5,     39.3,1,  -999.0,9, -999.00,9, -999.00,9,  -999.0,    1021,     4.2748, -999.00,9,     -999.0
325020130404,       PRS2,       2,          9,          4,       8004,2,20130406,       1459,  22.733167,-157.9816667,       4722,  1021.9,   4.3550,  34.4820,2,-999.0000,5,     39.3,1,  -999.0,9, -999.00,9, -999.00,9,  -999.0,    1022,     4.2748, -999.00,9,     -999.0
325020130404,       PRS2,       2,          9,          3,       8003,2,20130406,       1459,  22.733167,-157.9816667,       4722,  1021.8,   4.3547,  34.4820,2,-999.0000,5,     39.3,1,  -999.0,9, -999.00,9, -999.00,9,  -999.0,    1022,     4.2745, -999.00,9,     -999.0
325020130404,       PRS2,       2,          9,          2,       8002,2,20130406,       1459,  22.733167,-157.9816667,       4722,  1021.8,   4.3547,  34.4820,2,-999.0000,5,     39.3,1,  -999.0,9, -999.00,9, -999.00,9,  -999.0,    1021,     4.2745, -999.00,9,     -999.0
325020130404,       PRS2,       2,          9,          1,       8001,2,20130406,       1459,  22.733167,-157.9816667,       4722,  1021.6,   4.3555,  34.4821,2,  34.4815,2,     39.3,1,  -999.0,9, -999.00,9, -999.00,9,  -999.0,    1021,     4.2753, -999.00,9,     -999.0
325020130404,       PRS2,       2,         10,         18,       8018,2,20130406,       1755,  22.733000,-157.9826667,       4722,     5.5,  22.6896,  35.4308,2,-999.0000,5,    214.7,1,  -999.0,9, -999.00,9, -999.00,9,  -999.0,       6,    22.6885, -999.00,9,     -999.0
325020130404,       PRS2,       2,         10,         17,       8017,2,20130406,       1755,  22.733000,-157.9826667,       4722,     5.5,  22.6953,  35.4310,2,-999.0000,5,    214.6,1,  -999.0,9, -999.00,9, -999.00,9,  -999.0,       6,    22.6942, -999.00,9,     -999.0
325020130404,       PRS2,       2,         10,         16,       8016,2,20130406,       1755,  22.733000,-157.9826667,       4722,    26.0,  22.4144,  35.4130,2,-999.0000,5,    215.2,1,  -999.0,9, -999.00,9, -999.00,9,  -999.0,      26,    22.4092, -999.00,9,     -999.0
325020130404,       PRS2,       2,         10,         15,       8015,2,20130406,       1755,  22.733000,-157.9826667,       4722,    25.9,  22.4146,  35.4129,2,  35.4123,2,    215.1,1,  -999.0,9, -999.00,9, -999.00,9,  -999.0,      26,    22.4094, -999.00,9,     -999.0
325020130404,       PRS2,       2,         10,         14,       8014,2,20130406,       1755,  22.733000,-157.9826667,       4722,    45.3,  22.3420,  35.4036,2,-999.0000,5,    214.8,1,  -999.0,9, -999.00,9, -999.00,9,  -999.0,      45,    22.3330, -999.00,9,     -999.0
325020130404,       PRS2,       2,         10,         13,       8025,2,20130406,       1755,  22.733000,-157.9826667,       4722,    45.3,  22.3391,  35.4033,2,  35.4030,2,    214.8,1,  -999.0,9, -999.00,9, -999.00,9,  -999.0,      45,    22.3301, -999.00,9,     -999.0
325020130404,       PRS2,       2,         10,         12,       8012,2,20130406,       1755,  22.733000,-157.9826667,       4722,    75.6,  22.1435,  35.3981,2,-999.0000,5,    216.0,1,  -999.0,9, -999.00,9, -999.00,9,  -999.0,      75,    22.1285, -999.00,9,     -999.0
325020130404,       PRS2,       2,         10,         11,       8011,2,20130406,       1755,  22.733000,-157.9826667,       4722,    75.3,  22.1433,  35.3977,2,  35.4003,2,    216.1,1,  -999.0,9, -999.00,9, -999.00,9,  -999.0,      75,    22.1284, -999.00,9,     -999.0
325020130404,       PRS2,       2,         10,         10,       8010,2,20130406,       1755,  22.733000,-157.9826667,       4722,   101.3,  22.1059,  35.4268,2,-999.0000,5,    216.3,1,  -999.0,9, -999.00,9, -999.00,9,  -999.0,     100,    22.0858, -999.00,9,     -999.0
325020130404,       PRS2,       2,         10,          9,       8009,2,20130406,       1755,  22.733000,-157.9826667,       4722,   100.8,  22.1059,  35.4264,2,  35.4263,2,    216.3,1,  -999.0,9, -999.00,9, -999.00,9,  -999.0,     101,    22.0859, -999.00,9,     -999.0
325020130404,       PRS2,       2,         10,          8,       8008,2,20130406,       1755,  22.733000,-157.9826667,       4722,   125.8,  22.0483,  35.4282,2,-999.0000,5,    216.2,1,  -999.0,9, -999.00,9, -999.00,9,  -999.0,     124,    22.0233, -999.00,9,     -999.0
325020130404,       PRS2,       2,         10,          7,       8026,2,20130406,       1755,  22.733000,-157.9826667,       4722,   125.4,  22.0486,  35.4288,2,  35.4194,2,    215.9,1,  -999.0,9, -999.00,9, -999.00,9,  -999.0,     126,    22.0237, -999.00,9,     -999.0
325020130404,       PRS2,       2,         10,          6,       8006,2,20130406,       1755,  22.733000,-157.9826667,       4722,   150.9,  21.1303,  35.2780,2,-999.0000,5,    211.5,1,  -999.0,9, -999.00,9, -999.00,9,  -999.0,     151,    21.1013, -999.00,9,     -999.0
325020130404,       PRS2,       2,         10,          5,       8005,2,20130406,       1755,  22.733000,-157.9826667,       4722,   151.2,  21.1044,  35.2714,2,  35.2808,2,    211.2,1,  -999.0,9, -999.00,9, -999.00,9,  -999.0,     150,    21.0753, -999.00,9,     -999.0
325020130404,       PRS2,       2,         10,          4,       8004,2,20130406,       1755,  22.733000,-157.9826667,       4722,   174.6,  19.6285,  35.0369,2,-999.0000,5,    205.9,1,  -999.0,9, -999.00,9, -999.00,9,  -999.0,     173,    19.5967, -999.00,9,     -999.0
325020130404,       PRS2,       2,         10,          3,       8003,2,20130406,       1755,  22.733000,-157.9826667,       4722,   174.1,  19.6455,  35.0387,2,  35.0435,2,    206.0,1,  -999.0,9, -999.00,9, -999.00,9,  -999.0,     174,    19.6137, -999.00,9,     -999.0
325020130404,       PRS2,       2,         10,          2,       8002,2,20130406,       1755,  22.733000,-157.9826667,       4722,   450.6,   8.0996,  34.0786,2,  34.0780,2,    123.7,1,  -999.0,9, -999.00,9, -999.00,9,  -999.0,     449,     8.0535, -999.00,9,     -999.0
325020130404,       PRS2,       2,         10,          1,       8001,2,20130406,       1755,  22.733000,-157.9826667,       4722,  1020.1,   4.2032,  34.4787,2,  34.4779,2,     41.9,1,  -999.0,9, -999.00,9, -999.00,9,  -999.0,    1020,     4.1243, -999.00,9,     -999.0