BOTTLE,20141031SIOCCHAMB
EXPOCODE,SECT_ID,STNNBR,CASTNO,SAMPNO,BTLNBR,BTLNBR_FLAG_W,DATE,TIME,LATITUDE,LONGITUDE,DEPTH,CTDPRS,CTDTMP,CTDSAL,CTDSAL_FLAG_W,SALNTY,SALNTY_FLAG_W,CTDOXY,CTDOXY_FLAG_W,OXYGEN,OXYGEN_FLAG_W,SILCAT,SILCAT_FLAG_W,PHSPHT,PHSPHT_FLAG_W,REVPRS,CTDRAW,THETA,NO2+NO3,NO2+NO3_FLAG_W,REVTMP
,,,,,,,,,,,METERS,DBAR,ITS-90,PSS-78,,PSS-78,,UMOL/KG,,UMOL/KG,,UMOL/KG,,UMOL/KG,,DBAR,DBAR,ITS-90,UMOL/KG,,DEG C
325020130404,       PRS2,       2,         11,         24,       8024,2,20130406,       2055,  22.740667,-157.9895000,       4724,     5.3,  22.7129,  35.4252,2,  35.4247,2,    215.5,1,  -999.0,9, -999.00,9, -999.00,9,  -999.0,       5,    22.7118, -999.00,9,     -999.0
325020130404,       PRS2,       2,         11,         23,       8023,2,20130406,       2055,  22.740667,-157.9895000,       4724,     5.2,  22.7406,  35.4263,2,-999.0000,5,    215.2,1,  -999.0,9, -999.00,9, -999.00,9,  -999.0,       5,    22.7396, -999.00,9,     -999.0
325020130404,       PRS2,       2,         11,         22,       8022,2,20130406,       2055,  22.740667,-157.9895000,       4724,     5.2,  22.7431,  35.4253,2,-999.0000,5,    215.1,1,  -999.0,9, -999.00,9, -999.00,9,  -999.0,       5,    22.7420, -999.00,9,     -999.0
325020130404,       PRS2,       2,         11,         21,       8021,2,20130406,       2055,  22.740667,-157.9895000,       4724,     5.2,  22.6318,  35.4262,2,-999.0000,5,    215.1,1,  -999.0,9, -999.00,9, -999.00,9,  -999.0,       5,    22.6307, -999.00,9,     -999.0
325020130404,       PRS2,       2,         11,         20,       8020,2,20130406,       2055,  22.740667,-157.9895000,       4724,     5.2,  22.6250,  35.4254,2,-999.0000,5,    215.1,1,  -999.0,9, -999.00,9, -999.00,9,  -999.0,       5,    22.6240, -999.00,9,     -999.0
325020130404,       PRS2,       2,         11,         19,       8019,2,20130406,       2055,  22.740667,-157.9895000,       4724,     5.1,  22.6270,  35.4250,2,-999.0000,5,    215.1,1,  -999.0,9, -999.00,9, -999.00,9,  -999.0,       5,    22.6260, -999.00,9,     -999.0
325020130404,       PRS2,       2,         11,         18,       8018,2,20130406,       2055,  22.740667,-157.9895000,       4724,     5.3,  22.6244,  35.4250,2,-999.0000,5,    215.1,1,  -999.0,9, -999.00,9, -999.00,9,  -999.0,       5,    22.6234, -999.00,9,     -999.0
325020130404,       PRS2,       2,         11,         17,       8017,2,20130406,       2055,  22.740667,-157.9895000,       4724,    25.6,  22.4144,  35.4178,2,-999.0000,5,    215.2,1,  -999.0,9, -999.00,9, -999.00,9,  -999.0,      25,    22.4093, -999.00,9,     -999.0
325020130404,       PRS2,       2,         11,         16,       8016,2,20130406,       2055,  22.740667,-157.9895000,       4724,    25.5,  22.4145,  35.4178,2,-999.0000,5,    215.1,1,  -999.0,9, -999.00,9, -999.00,9,  -999.0,      26,    22.4094, -999.00,9,     -999.0
325020130404,       PRS2,       2,         11,         15,       8015,2,20130406,       2055,  22.740667,-157.9895000,       4724,    45.0,  22.3053,  35.4033,2,-999.0000,5,    214.7,1,  -999.0,9, -999.00,9, -999.00,9,  -999.0,      44,    22.2963, -999.00,9,     -999.0
325020130404,       PRS2,       2,         11,         14,       8014,2,20130406,       2055,  22.740667,-157.9895000,       4724,    45.1,  22.3072,  35.4038,2,-999.0000,5,    214.6,1,  -999.0,9, -999.00,9, -999.00,9,  -999.0,      45,    22.2982, -999.00,9,     -999.0
325020130404,       PRS2,       2,         11,         13,       8025,2,20130406,       2055,  22.740667,-157.9895000,       4724,    44.9,  22.3147,  35.4053,2,-999.0000,5,    214.4,1,  -999.0,9, -999.00,9, -999.00,9,  -999.0,      45,    22.3057, -999.00,9,     -999.0
325020130404,       PRS2,       2,         11,         12,       8012,2,20130406,       2055,  22.740667,-157.9895000,       4724,    75.7,  22.0114,  35.3669,2,-999.0000,5,    214.1,1,  -999.0,9, -999.00,9, -999.00,9,  -999.0,      75,    21.9964, -999.00,9,     -999.0
325020130404,       PRS2,       2,         11,         11,       8011,2,20130406,       2055,  22.740667,-157.9895000,       4724,    75.5,  22.0116,  35.3671,2,-999.0000,5,    214.2,1,  -999.0,9, -999.00,9, -999.00,9,  -999.0,      76,    21.9966, -999.00,9,     -999.0
325020130404,       PRS2,       2,         11,         10,       8010,2,20130406,       2055,  22.740667,-157.9895000,       4724,   101.1,  22.0426,  35.4153,2,-999.0000,5,    216.9,1,  -999.0,9, -999.00,9, -999.00,9,  -999.0,     100,    22.0226, -999.00,9,     -999.0
325020130404,       PRS2,       2,         11,          9,       8009,2,20130406,       2055,  22.740667,-157.9895000,       4724,   100.9,  22.0457,  35.4158,2,-999.0000,5,    216.9,1,  -999.0,9, -999.00,9, -999.00,9,  -999.0,     100,    22.0257, -999.00,9,     -999.0
325020130404,       PRS2,       2,         11,          8,       8008,2,20130406,       2055,  22.740667,-157.9895000,       4724,   124.9,  21.6140,  35.3168,2,-999.0000,5,    216.6,1,  -999.0,9, -999.00,9, -999.00,9,  -999.0,     126,    21.5896, -999.00,9,     -999.0
325020130404,       PRS2,       2,         11,          7,       8026,2,20130406,       2055,  22.740667,-157.9895000,       4724,   125.1,  21.6060,  35.3147,2,-999.0000,5,    215.5,1,  -999.0,9, -999.00,9, -999.00,9,  -999.0,     125,    21.5815, -999.00,9,     -999.0
325020130404,       PRS2,       2,         11,          6,       8006,2,20130406,       2055,  22.740667,-157.9895000,       4724,   149.4,  20.6296,  35.1766,2,-999.0000,5,    211.2,1,  -999.0,9, -999.00,9, -999.00,9,  -999.0,     149,    20.6014, -999.00,9,     -999.0
325020130404,       PRS2,       2,         11,          5,       8005,2,20130406,       2055,  22.740667,-157.9895000,       4724,   149.5,  20.6350,  35.1796,2,-999.0000,5,    211.2,1,  -999.0,9, -999.00,9, -999.00,9,  -999.0,     149,    20.6067, -999.00,9,     -999.0
325020130404,       PRS2,       2,         11,          4,       8004,2,20130406,       2055,  22.740667,-157.9895000,       4724,   175.0,  19.0982,  34.9576,2,-999.0000,5,    204.5,1,  -999.0,9, -999.00,9, -999.00,9,  -999.0,     175,    19.0669, -999.00,9,     -999.0
325020130404,       PRS2,       2,         11,          3,       8003,2,20130406,       2055,  22.740667,-157.9895000,       4724,   175.0,  19.0731,  34.9552,2,-999.0000,5,    204.9,1,  -999.0,9, -999.00,9, -999.00,9,  -999.0,     174,    19.0418, -999.00,9,     -999.0
325020130404,       PRS2,       2,         11,          2,       8002,2,20130406,       2055,  22.740667,-157.9895000,       4724,   474.9,   7.8767,  34.0852,2,  34.0858,2,    115.4,1,  -999.0,9, -999.00,9, -999.00,9,  -999.0,     475,     7.8288, -999.00,9,     -999.0
325020130404,       PRS2,       2,         11,          1,       8001,2,20130406,       2055,  22.740667,-157.9895000,       4724,  1020.8,   4.2131,  34.4841,2,  34.4850,2,     42.7,1,  -999.0,9, -999.00,9, -999.00,9,  -999.0,    1020,     4.1340, -999.00,9,     -999.0
325020130404,       PRS2,       2,         12,         23,       8023,2,20130406,       2355,  22.750667,-157.9986667,       4725,     4.3,  22.8644,  35.4252,2,  35.4235,2,    216.2,1,  -999.0,9, -999.00,9, -999.00,9,  -999.0,       4,    22.8635, -999.00,9,     -999.0
325020130404,       PRS2,       2,         12,         22,       8022,2,20130406,       2355,  22.750667,-157.9986667,       4725,    25.2,  22.3822,  35.4064,2,  35.4044,2,    215.1,1,  -999.0,9, -999.00,9, -999.00,9,  -999.0,      25,    22.3771, -999.00,9,     -999.0
325020130404,       PRS2,       2,         12,         21,       8021,2,20130406,       2355,  22.750667,-157.9986667,       4725,    44.9,  22.2848,  35.4094,2,  35.4091,2,    216.0,1,  -999.0,9, -999.00,9, -999.00,9,  -999.0,      44,    22.2758, -999.00,9,     -999.0
325020130404,       PRS2,       2,         12,         20,       8020,2,20130406,       2355,  22.750667,-157.9986667,       4725,    74.8,  22.0619,  35.3720,2,  35.3691,2,    213.8,1,  -999.0,9, -999.00,9, -999.00,9,  -999.0,      75,    22.0471, -999.00,9,     -999.0
325020130404,       PRS2,       2,         12,         19,       8019,2,20130406,       2355,  22.750667,-157.9986667,       4725,   100.8,  21.8663,  35.3453,2,  35.3419,2,    212.2,1,  -999.0,9, -999.00,9, -999.00,9,  -999.0,     101,    21.8465, -999.00,9,     -999.0
325020130404,       PRS2,       2,         12,         18,       8018,2,20130406,       2355,  22.750667,-157.9986667,       4725,   125.7,  21.5102,  35.2824,2,  35.2785,2,    204.4,1,  -999.0,9, -999.00,9, -999.00,9,  -999.0,     126,    21.4857, -999.00,9,     -999.0
325020130404,       PRS2,       2,         12,         17,       8017,2,20130406,       2355,  22.750667,-157.9986667,       4725,   151.0,  20.9044,  35.1980,2,  35.2016,2,    201.6,1,  -999.0,9, -999.00,9, -999.00,9,  -999.0,     152,    20.8755, -999.00,9,     -999.0
325020130404,       PRS2,       2,         12,         16,       8016,2,20130406,       2355,  22.750667,-157.9986667,       4725,   200.1,  17.8531,  34.7942,2,-999.0000,5,    205.8,1,  -999.0,9, -999.00,9, -999.00,9,  -999.0,     199,    17.8190, -999.00,9,     -999.0
325020130404,       PRS2,       2,         12,         15,       8015,2,20130406,       2355,  22.750667,-157.9986667,       4725,   199.9,  17.8467,  34.7958,2,-999.0000,5,    205.8,1,  -999.0,9, -999.00,9, -999.00,9,  -999.0,     200,    17.8126, -999.00,9,     -999.0
325020130404,       PRS2,       2,         12,         14,       8014,2,20130406,       2355,  22.750667,-157.9986667,       4725,   250.7,  15.0931,  34.4953,2,  34.4911,2,    206.3,1,  -999.0,9, -999.00,9, -999.00,9,  -999.0,     250,    15.0551, -999.00,9,     -999.0
325020130404,       PRS2,       2,         12,         13,       8025,2,20130406,       2355,  22.750667,-157.9986667,       4725,   300.3,  13.2096,  34.2985,2,-999.0000,5,    201.9,1,  -999.0,9, -999.00,9, -999.00,9,  -999.0,     300,    13.1680, -999.00,9,     -999.0
325020130404,       PRS2,       2,         12,         12,       8012,2,20130406,       2355,  22.750667,-157.9986667,       4725,   300.3,  13.2082,  34.2980,2,-999.0000,5,    201.7,1,  -999.0,9, -999.00,9, -999.00,9,  -999.0,     300,    13.1665, -999.00,9,     -999.0
325020130404,       PRS2,       2,         12,         11,       8011,2,20130406,       2355,  22.750667,-157.9986667,       4725,   348.8,  11.0719,  34.1511,2,  34.1511,2,    180.3,1,  -999.0,9, -999.00,9, -999.00,9,  -999.0,     348,    11.0288, -999.00,9,     -999.0
325020130404,       PRS2,       2,         12,         10,       8010,2,20130406,       2355,  22.750667,-157.9986667,       4725,   402.0,   9.2729,  34.1157,2,-999.0000,5,    141.6,1,  -999.0,9, -999.00,9, -999.00,9,  -999.0,     400,     9.2284, -999.00,9,     -999.0
325020130404,       PRS2,       2,         12,          9,       8009,2,20130406,       2355,  22.750667,-157.9986667,       4725,   479.2,   7.6483,  34.1097,2,  34.1089,2,     99.4,1,  -999.0,9, -999.00,9, -999.00,9,  -999.0,     479,     7.6008, -999.00,9,     -999.0
325020130404,       PRS2,       2,         12,          8,       8008,2,20130406,       2355,  22.750667,-157.9986667,       4725,   499.7,   7.2424,  34.1115,2,-999.0000,5,     84.9,1,  -999.0,9, -999.00,9, -999.00,9,  -999.0,     499,     7.1944, -999.00,9,     -999.0
325020130404,       PRS2,       2,         12,          7,       8026,2,20130406,       2355,  22.750667,-157.9986667,       4725,   499.6,   7.2424,  34.1112,2,-999.0000,5,     84.8,1,  -999.0,9, -999.00,9, -999.00,9,  -999.0,     499,     7.1944, -999.00,9,     -999.0
325020130404,       PRS2,       2,         12,          6,       8006,2,20130406,       2355,  22.750667,-157.9986667,       4725,   599.4,   6.1466,  34.1628,2,-999.0000,5,     48.8,1,  -999.0,9, -999.00,9, -999.00,9,  -999.0,     599,     6.0934, -999.00,9,     -999.0
325020130404,       PRS2,       2,         12,          5,       8005,2,20130406,       2355,  22.750667,-157.9986667,       4725,   699.6,   5.2420,  34.2731,2,-999.0000,5,     27.4,1,  -999.0,9, -999.00,9, -999.00,9,  -999.0,     700,     5.1842, -999.00,9,     -999.0
325020130404,       PRS2,       2,         12,          4,       8004,2,20130406,       2355,  22.750667,-157.9986667,       4725,   769.7,   5.1191,  34.3323,2,-999.0000,5,     25.5,1,  -999.0,9, -999.00,9, -999.00,9,  -999.0,     769,     5.0558, -999.00,9,     -999.0
325020130404,       PRS2,       2,         12,          3,       8003,2,20130406,       2355,  22.750667,-157.9986667,       4725,   799.3,   5.1485,  34.3997,2,-999.0000,5,     25.6,1,  -999.0,9, -999.00,9, -999.00,9,  -999.0,     799,     5.0823, -999.00,9,     -999.0
325020130404,       PRS2,       2,         12,          2,       8002,2,20130406,       2355,  22.750667,-157.9986667,       4725,   900.3,   4.6731,  34.4612,2,-999.0000,5,     32.1,1,  -999.0,9, -999.00,9, -999.00,9,  -999.0,     900,     4.6010, -999.00,9,     -999.0
325020130404,       PRS2,       2,         12,          1,       8001,2,20130406,       2355,  22.750667,-157.9986667,       4725,  1020.9,   4.3092,  34.4868,2,  34.4868,2,     40.3,1,  -999.0,9, -999.00,9, -999.00,9,  -999.0,    1021,     4.2294, -999.00,9,     -999.0
325020130404,       PRS2,       2,         13,         24,       8024,2,20130407,       0259,  22.751667,-158.0001667,       4724,     4.8,  22.7124,  35.4229,2,-999.0000,5,    215.7,1,  -999.0,9, -999.00,9, -999.00,9,  -999.0,       5,    22.7114, -999.00,9,     -999.0
325020130404,       PRS2,       2,         13,         23,       8023,2,20130407,       0259,  22.751667,-158.0001667,       4724,    25.7,  22.5243,  35.4205,2,-999.0000,5,    215.7,1,  -999.0,9, -999.00,9, -999.00,9,  -999.0,      25,    22.5191, -999.00,9,     -999.0
325020130404,       PRS2,       2,         13,         22,       8022,2,20130407,       0259,  22.751667,-158.0001667,       4724,    40.5,  22.3991,  35.4113,2,  35.4107,2,    215.2,1,  -999.0,9, -999.00,9, -999.00,9,  -999.0,      40,    22.3909, -999.00,9,     -999.0
325020130404,       PRS2,       2,         13,         21,       8021,2,20130407,       0259,  22.751667,-158.0001667,       4724,    45.5,  22.3943,  35.4112,2,-999.0000,5,    215.1,1,  -999.0,9, -999.00,9, -999.00,9,  -999.0,      46,    22.3852, -999.00,9,     -999.0
325020130404,       PRS2,       2,         13,         20,       8020,2,20130407,       0259,  22.751667,-158.0001667,       4724,    50.6,  22.3330,  35.4089,2,-999.0000,5,    216.4,1,  -999.0,9, -999.00,9, -999.00,9,  -999.0,      50,    22.3228, -999.00,9,     -999.0
325020130404,       PRS2,       2,         13,         19,       8019,2,20130407,       0259,  22.751667,-158.0001667,       4724,    60.7,  22.2508,  35.4148,2,-999.0000,5,    216.3,1,  -999.0,9, -999.00,9, -999.00,9,  -999.0,      61,    22.2387, -999.00,9,     -999.0
325020130404,       PRS2,       2,         13,         18,       8018,2,20130407,       0259,  22.751667,-158.0001667,       4724,    65.3,  22.2205,  35.4199,2,-999.0000,5,    217.1,1,  -999.0,9, -999.00,9, -999.00,9,  -999.0,      65,    22.2075, -999.00,9,     -999.0
325020130404,       PRS2,       2,         13,         17,       8017,2,20130407,       0259,  22.751667,-158.0001667,       4724,    70.1,  22.1616,  35.4233,2,-999.0000,5,    217.1,1,  -999.0,9, -999.00,9, -999.00,9,  -999.0,      70,    22.1476, -999.00,9,     -999.0
325020130404,       PRS2,       2,         13,         16,       8016,2,20130407,       0259,  22.751667,-158.0001667,       4724,    75.0,  22.1323,  35.4230,2,-999.0000,5,    216.9,1,  -999.0,9, -999.00,9, -999.00,9,  -999.0,      75,    22.1174, -999.00,9,     -999.0
325020130404,       PRS2,       2,         13,         15,       8015,2,20130407,       0259,  22.751667,-158.0001667,       4724,    80.5,  22.1237,  35.4235,2,-999.0000,5,    217.3,1,  -999.0,9, -999.00,9, -999.00,9,  -999.0,      80,    22.1077, -999.00,9,     -999.0
325020130404,       PRS2,       2,         13,         14,       8014,2,20130407,       0259,  22.751667,-158.0001667,       4724,    91.1,  22.0831,  35.4226,2,-999.0000,5,    217.4,1,  -999.0,9, -999.00,9, -999.00,9,  -999.0,      91,    22.0650, -999.00,9,     -999.0
325020130404,       PRS2,       2,         13,         13,       8025,2,20130407,       0259,  22.751667,-158.0001667,       4724,   101.2,  22.0760,  35.4223,2,-999.0000,5,    216.7,1,  -999.0,9, -999.00,9, -999.00,9,  -999.0,     101,    22.0559, -999.00,9,     -999.0
325020130404,       PRS2,       2,         13,         12,       8012,2,20130407,       0259,  22.751667,-158.0001667,       4724,   111.7,  22.0395,  35.4132,2,-999.0000,5,    216.8,1,  -999.0,9, -999.00,9, -999.00,9,  -999.0,     110,    22.0174, -999.00,9,     -999.0
325020130404,       PRS2,       2,         13,         11,       8011,2,20130407,       0259,  22.751667,-158.0001667,       4724,   121.0,  21.9866,  35.4096,2,-999.0000,5,    216.6,1,  -999.0,9, -999.00,9, -999.00,9,  -999.0,     121,    21.9626, -999.00,9,     -999.0
325020130404,       PRS2,       2,         13,         10,       8010,2,20130407,       0259,  22.751667,-158.0001667,       4724,   125.6,  21.9468,  35.4086,2,-999.0000,5,    216.8,1,  -999.0,9, -999.00,9, -999.00,9,  -999.0,     125,    21.9220, -999.00,9,     -999.0
325020130404,       PRS2,       2,         13,          9,       8009,2,20130407,       0259,  22.751667,-158.0001667,       4724,   130.8,  21.6581,  35.3645,2,-999.0000,5,    214.5,1,  -999.0,9, -999.00,9, -999.00,9,  -999.0,     131,    21.6325, -999.00,9,     -999.0
325020130404,       PRS2,       2,         13,          8,       8008,2,20130407,       0259,  22.751667,-158.0001667,       4724,   141.0,  21.4591,  35.3458,2,-999.0000,5,    212.9,1,  -999.0,9, -999.00,9, -999.00,9,  -999.0,     140,    21.4316, -999.00,9,     -999.0
325020130404,       PRS2,       2,         13,          7,       8026,2,20130407,       0259,  22.751667,-158.0001667,       4724,   150.8,  21.1130,  35.2848,2,-999.0000,5,    209.7,1,  -999.0,9, -999.00,9, -999.00,9,  -999.0,     151,    21.0840, -999.00,9,     -999.0
325020130404,       PRS2,       2,         13,          6,       8006,2,20130407,       0259,  22.751667,-158.0001667,       4724,   161.0,  20.9472,  35.2549,2,-999.0000,5,    209.2,1,  -999.0,9, -999.00,9, -999.00,9,  -999.0,     160,    20.9164, -999.00,9,     -999.0
325020130404,       PRS2,       2,         13,          5,       8005,2,20130407,       0259,  22.751667,-158.0001667,       4724,   174.9,  20.3828,  35.1621,2,-999.0000,5,    207.7,1,  -999.0,9, -999.00,9, -999.00,9,  -999.0,     174,    20.3500, -999.00,9,     -999.0
325020130404,       PRS2,       2,         13,          4,       8004,2,20130407,       0259,  22.751667,-158.0001667,       4724,   185.7,  19.5742,  35.0319,2,-999.0000,5,    206.7,1,  -999.0,9, -999.00,9, -999.00,9,  -999.0,     186,    19.5404, -999.00,9,     -999.0
325020130404,       PRS2,       2,         13,          3,       8003,2,20130407,       0259,  22.751667,-158.0001667,       4724,   200.9,  17.9910,  34.8112,2,-999.0000,5,    206.1,1,  -999.0,9, -999.00,9, -999.00,9,  -999.0,     201,    17.9566, -999.00,9,     -999.0
325020130404,       PRS2,       2,         13,          2,       8002,2,20130407,       0259,  22.751667,-158.0001667,       4724,   425.9,   9.1338,  34.1158,2,  34.1178,2,    137.4,1,  -999.0,9, -999.00,9, -999.00,9,  -999.0,     426,     9.0871, -999.00,9,     -999.0
325020130404,       PRS2,       2,         13,          1,       8001,2,20130407,       0259,  22.751667,-158.0001667,       4724,  1020.9,   4.2536,  34.4902,2,  34.4901,2,     38.6,1,  -999.0,9, -999.00,9, -999.00,9,  -999.0,    1021,     4.1742, -999.00,9,     -999.0