BOTTLE,20090923WHPSIOMYS
EXPOCODE,SECT_ID,STNNBR,CASTNO,SAMPNO,BTLNBR,BTLNBR_FLAG_W,DATE,TIME,LATITUDE,LONGITUDE,DEPTH,CTDRAW,CTDPRS,CTDTMP,CTDSAL,CTDSAL_FLAG_W,SALNTY,SALNTY_FLAG_W,CTDOXY,CTDOXY_FLAG_W,THETA,OXYGEN,OXYGEN_FLAG_W,SILCAT,SILCAT_FLAG_W,NO2+NO3,NO2+NO3_FLAG_W,PHSPHT,PHSPHT_FLAG_W,REVPRS,REVTMP
,,,,,,,,,,,,,DBAR,ITS-90,PSS-78,,PSS-78,,UMOL/KG,,ITS-90,UMOL/KG,,UMOL/KG,,UMOL/KG,,UMOL/KG,,DBAR,DEG C
     33KB187_1,  PRS2,     2, 13,     14,   8014,2,20061110,0032, 22.6653,-158.0272, 4771,      8,      8.0,  25.9897,  35.1114,2,  35.1136,2,    203.8,1, 25.9880,   -999.0,9,  -999.00,9,  -999.00,9,  -999.00,9,  -999.0,-999.000
     33KB187_1,  PRS2,     2, 13,     13,   8025,2,20061110,0032, 22.6653,-158.0272, 4771,     25,     26.2,  25.9579,  35.1153,2,  35.1195,2,    204.1,1, 25.9521,   -999.0,9,  -999.00,9,  -999.00,9,  -999.00,9,  -999.0,-999.000
     33KB187_1,  PRS2,     2, 13,     12,   8012,2,20061110,0032, 22.6653,-158.0272, 4771,     44,     44.9,  25.8662,  35.1238,2,  35.1224,2,    204.9,1, 25.8562,   -999.0,9,  -999.00,9,  -999.00,9,  -999.00,9,  -999.0,-999.000
     33KB187_1,  PRS2,     2, 13,     11,   8011,2,20061110,0032, 22.6653,-158.0272, 4771,     76,     76.4,  23.6803,  35.1563,2,  35.1575,2,    220.8,1, 23.6643,   -999.0,9,  -999.00,9,  -999.00,9,  -999.00,9,  -999.0,-999.000
     33KB187_1,  PRS2,     2, 13,     10,   8010,2,20061110,0032, 22.6653,-158.0272, 4771,    101,    100.7,  22.7057,  35.2162,2,  35.2170,2,    212.2,1, 22.6853,   -999.0,9,  -999.00,9,  -999.00,9,  -999.00,9,  -999.0,-999.000
     33KB187_1,  PRS2,     2, 13,      9,   8009,2,20061110,0032, 22.6653,-158.0272, 4771,    127,    125.9,  21.8672,  35.2710,2,  35.2731,2,    201.9,1, 21.8424,   -999.0,9,  -999.00,9,  -999.00,9,  -999.00,9,  -999.0,-999.000
     33KB187_1,  PRS2,     2, 13,      8,   8008,2,20061110,0032, 22.6653,-158.0272, 4771,    150,    150.1,  21.2703,  35.2540,2,  35.2548,2,    197.4,1, 21.2413,   -999.0,9,  -999.00,9,  -999.00,9,  -999.00,9,  -999.0,-999.000
     33KB187_1,  PRS2,     2, 13,      7,   8026,2,20061110,0032, 22.6653,-158.0272, 4771,    174,    175.5,  20.5888,  35.1802,2,  35.1845,2,    195.5,1, 20.5556,   -999.0,9,  -999.00,9,  -999.00,9,  -999.00,9,  -999.0,-999.000
     33KB187_1,  PRS2,     2, 13,      6,   8006,2,20061110,0032, 22.6653,-158.0272, 4771,    201,    202.0,  18.7539,  34.9391,2,  34.9571,2,    197.6,1, 18.7182,   -999.0,9,  -999.00,9,  -999.00,9,  -999.00,9,  -999.0,-999.000
     33KB187_1,  PRS2,     2, 13,      5,   8005,2,20061110,0032, 22.6653,-158.0272, 4771,    250,    250.2,  15.9217,  34.6113,2,  34.6103,2,    200.8,1, 15.8822,   -999.0,9,  -999.00,9,  -999.00,9,  -999.00,9,  -999.0,-999.000
     33KB187_1,  PRS2,     2, 13,      4,   8004,2,20061110,0032, 22.6653,-158.0272, 4771,    352,    350.6,  11.5049,  34.2423,2,  34.2426,2,    207.1,1, 11.4605,   -999.0,9,  -999.00,9,  -999.00,9,  -999.00,9,  -999.0,-999.000
     33KB187_1,  PRS2,     2, 13,      3,   8003,2,20061110,0032, 22.6653,-158.0272, 4771,    351,    350.6,  11.4976,  34.2433,2,  34.2436,2,    207.0,1, 11.4532,   -999.0,9,  -999.00,9,  -999.00,9,  -999.00,9,  -999.0,-999.000
     33KB187_1,  PRS2,     2, 13,      2,   8002,2,20061110,0032, 22.6653,-158.0272, 4771,    499,    500.6,   7.4574,  34.0737,2,  34.0729,2,    122.6,1,  7.4084,   -999.0,9,  -999.00,9,  -999.00,9,  -999.00,9,  -999.0,-999.000
     33KB187_1,  PRS2,     2, 13,      1,   8001,2,20061110,0032, 22.6653,-158.0272, 4771,   1020,   1020.1,   3.9691,  34.4746,2,  34.4730,2,     39.9,1,  3.8920,   -999.0,9,  -999.00,9,  -999.00,9,  -999.00,9,  -999.0,-999.000
     33KB187_1,  PRS2,     2, 14,     14,   8014,2,20061110,0258, 22.7058,-158.0487, 4768,      6,      6.5,  25.9121,  35.1374,2,  35.1380,2,    204.2,1, 25.9107,   -999.0,9,  -999.00,9,  -999.00,9,  -999.00,9,  -999.0,-999.000
     33KB187_1,  PRS2,     2, 14,     13,   8025,2,20061110,0258, 22.7058,-158.0487, 4768,     24,     24.8,  25.9041,  35.1377,2,  35.1368,2,    204.3,1, 25.8986,   -999.0,9,  -999.00,9,  -999.00,9,  -999.00,9,  -999.0,-999.000
     33KB187_1,  PRS2,     2, 14,     12,   8012,2,20061110,0258, 22.7058,-158.0487, 4768,     45,     46.0,  25.8723,  35.1496,2,  35.1473,2,    204.4,1, 25.8621,   -999.0,9,  -999.00,9,  -999.00,9,  -999.00,9,  -999.0,-999.000
     33KB187_1,  PRS2,     2, 14,     11,   8011,2,20061110,0258, 22.7058,-158.0487, 4768,     74,     74.6,  24.0400,  35.1378,2,  35.1374,2,    220.7,1, 24.0243,   -999.0,9,  -999.00,9,  -999.00,9,  -999.00,9,  -999.0,-999.000
     33KB187_1,  PRS2,     2, 14,     10,   8010,2,20061110,0258, 22.7058,-158.0487, 4768,    100,     99.5,  22.7194,  35.2120,2,  35.2107,2,    211.1,1, 22.6993,   -999.0,9,  -999.00,9,  -999.00,9,  -999.00,9,  -999.0,-999.000
     33KB187_1,  PRS2,     2, 14,      9,   8009,2,20061110,0258, 22.7058,-158.0487, 4768,    125,    124.4,  22.0025,  35.2665,2,  35.2656,2,    202.6,1, 21.9778,   -999.0,9,  -999.00,9,  -999.00,9,  -999.00,9,  -999.0,-999.000
     33KB187_1,  PRS2,     2, 14,      8,   8008,2,20061110,0258, 22.7058,-158.0487, 4768,    151,    151.1,  21.5566,  35.2833,2,  35.2792,2,    199.9,1, 21.5271,   -999.0,9,  -999.00,9,  -999.00,9,  -999.00,9,  -999.0,-999.000
     33KB187_1,  PRS2,     2, 14,      7,   8026,2,20061110,0258, 22.7058,-158.0487, 4768,    176,    176.0,  21.1247,  35.2603,2,  35.2603,2,    197.4,1, 21.0909,   -999.0,9,  -999.00,9,  -999.00,9,  -999.00,9,  -999.0,-999.000
     33KB187_1,  PRS2,     2, 14,      6,   8006,2,20061110,0258, 22.7058,-158.0487, 4768,    199,    200.7,  20.2196,  35.1468,2,  35.1441,2,    196.8,1, 20.1822,   -999.0,9,  -999.00,9,  -999.00,9,  -999.00,9,  -999.0,-999.000
     33KB187_1,  PRS2,     2, 14,      5,   8005,2,20061110,0258, 22.7058,-158.0487, 4768,    250,    250.8,  16.6940,  34.6797,2,  34.6732,2,    196.6,1, 16.6532,   -999.0,9,  -999.00,9,  -999.00,9,  -999.00,9,  -999.0,-999.000
     33KB187_1,  PRS2,     2, 14,      3,   8003,2,20061110,0258, 22.7058,-158.0487, 4768,    349,    350.0,  12.8481,  34.3224,2,  34.3250,2,    207.7,1, 12.8004,   -999.0,9,  -999.00,9,  -999.00,9,  -999.00,9,  -999.0,-999.000
     33KB187_1,  PRS2,     2, 14,      4,   8004,2,20061110,0258, 22.7058,-158.0487, 4768,    348,    350.3,  12.8752,  34.3250,2,  34.3280,2,    207.8,1, 12.8274,   -999.0,9,  -999.00,9,  -999.00,9,  -999.00,9,  -999.0,-999.000
     33KB187_1,  PRS2,     2, 14,      2,   8002,2,20061110,0258, 22.7058,-158.0487, 4768,    561,    561.2,   6.7850,  34.0499,2,  34.0509,2,    106.2,1,  6.7328,   -999.0,9,  -999.00,9,  -999.00,9,  -999.00,9,  -999.0,-999.000
     33KB187_1,  PRS2,     2, 14,      1,   8001,2,20061110,0258, 22.7058,-158.0487, 4768,   1020,   1020.6,   3.8892,  34.4968,2,  34.4976,2,     42.9,1,  3.8128,   -999.0,9,  -999.00,9,  -999.00,9,  -999.00,9,  -999.0,-999.000
     33KB187_1,  PRS2,     2, 15,     17,   8017,2,20061110,0556, 22.7497,-158.0002, 4741,      8,      9.0,  25.9200,  35.1353,2,  35.1358,2,    203.7,1, 25.9180,   -999.0,9,  -999.00,9,  -999.00,9,  -999.00,9,  -999.0,-999.000
     33KB187_1,  PRS2,     2, 15,     16,   8016,2,20061110,0556, 22.7497,-158.0002, 4741,     25,     25.0,  25.9324,  35.1378,2,  35.1360,2,    203.7,1, 25.9268,   -999.0,9,  -999.00,9,  -999.00,9,  -999.00,9,  -999.0,-999.000
     33KB187_1,  PRS2,     2, 15,     15,   8015,2,20061110,0556, 22.7497,-158.0002, 4741,     43,     44.7,  25.9362,  35.1491,2,  35.1475,2,    203.5,1, 25.9262,   -999.0,9,  -999.00,9,  -999.00,9,  -999.00,9,  -999.0,-999.000
     33KB187_1,  PRS2,     2, 15,     14,   8014,2,20061110,0556, 22.7497,-158.0002, 4741,     61,     60.4,  25.8972,  35.1498,2,  35.1482,2,    203.9,1, 25.8838,   -999.0,9,  -999.00,9,  -999.00,9,  -999.00,9,  -999.0,-999.000
     33KB187_1,  PRS2,     2, 15,     13,   8025,2,20061110,0556, 22.7497,-158.0002, 4741,     74,     73.8,  25.4828,  35.1014,2,  35.1228,3,    206.3,1, 25.4666,   -999.0,9,  -999.00,9,  -999.00,9,  -999.00,9,  -999.0,-999.000
     33KB187_1,  PRS2,     2, 15,     12,   8012,2,20061110,0556, 22.7497,-158.0002, 4741,     83,     84.4,  24.3816,  35.1221,2,  35.1199,2,    221.2,1, 24.3636,   -999.0,9,  -999.00,9,  -999.00,9,  -999.00,9,  -999.0,-999.000
     33KB187_1,  PRS2,     2, 15,     11,   8011,2,20061110,0556, 22.7497,-158.0002, 4741,    102,    100.6,  23.0057,  35.1943,2,  35.1975,2,    213.5,1, 22.9852,   -999.0,9,  -999.00,9,  -999.00,9,  -999.00,9,  -999.0,-999.000
     33KB187_1,  PRS2,     2, 15,     10,   8010,2,20061110,0556, 22.7497,-158.0002, 4741,    115,    115.2,  22.3183,  35.2562,2,  35.2558,2,    204.5,1, 22.2953,   -999.0,9,  -999.00,9,  -999.00,9,  -999.00,9,  -999.0,-999.000
     33KB187_1,  PRS2,     2, 15,      9,   8009,2,20061110,0556, 22.7497,-158.0002, 4741,    124,    125.2,  22.0766,  35.2777,2,  35.2759,2,    203.3,1, 22.0518,   -999.0,9,  -999.00,9,  -999.00,9,  -999.00,9,  -999.0,-999.000
     33KB187_1,  PRS2,     2, 15,      8,   8008,2,20061110,0556, 22.7497,-158.0002, 4741,    137,    136.0,  21.7858,  35.2749,2,  35.2810,2,    200.6,1, 21.7590,   -999.0,9,  -999.00,9,  -999.00,9,  -999.00,9,  -999.0,-999.000
     33KB187_1,  PRS2,     2, 15,      7,   8026,2,20061110,0556, 22.7497,-158.0002, 4741,    150,    150.6,  21.6006,  35.2730,2,  35.2731,2,    199.3,1, 21.5712,   -999.0,9,  -999.00,9,  -999.00,9,  -999.00,9,  -999.0,-999.000
     33KB187_1,  PRS2,     2, 15,      5,   8005,2,20061110,0556, 22.7497,-158.0002, 4741,    174,    174.6,  21.0755,  35.2596,2,  35.2597,2,    197.5,1, 21.0420,   -999.0,9,  -999.00,9,  -999.00,9,  -999.00,9,  -999.0,-999.000
     33KB187_1,  PRS2,     2, 15,      6,   8006,2,20061110,0556, 22.7497,-158.0002, 4741,    175,    174.7,  21.0722,  35.2592,2,-999.0000,5,    197.5,1, 21.0387,   -999.0,9,  -999.00,9,  -999.00,9,  -999.00,9,  -999.0,-999.000
     33KB187_1,  PRS2,     2, 15,      3,   8003,2,20061110,0556, 22.7497,-158.0002, 4741,    500,    501.2,   8.1060,  34.0759,2,-999.0000,5,    153.8,1,  8.0546,   -999.0,9,  -999.00,9,  -999.00,9,  -999.00,9,  -999.0,-999.000
     33KB187_1,  PRS2,     2, 15,      4,   8004,2,20061110,0556, 22.7497,-158.0002, 4741,    501,    501.3,   8.1070,  34.0760,2,-999.0000,5,    154.1,1,  8.0556,   -999.0,9,  -999.00,9,  -999.00,9,  -999.00,9,  -999.0,-999.000
     33KB187_1,  PRS2,     2, 15,      2,   8002,2,20061110,0556, 22.7497,-158.0002, 4741,    560,    560.1,   6.9629,  34.0495,2,  34.0492,2,    113.1,1,  6.9101,   -999.0,9,  -999.00,9,  -999.00,9,  -999.00,9,  -999.0,-999.000
     33KB187_1,  PRS2,     2, 15,      1,   8001,2,20061110,0556, 22.7497,-158.0002, 4741,   1022,   1021.1,   3.9431,  34.4784,2,  34.4781,2,     41.1,1,  3.8662,   -999.0,9,  -999.00,9,  -999.00,9,  -999.00,9,  -999.0,-999.000
     33KB187_1,  PRS2,     2, 16,     24,   8024,2,20061110,0856, 22.7495,-158.0008, 4744,      7,      7.4,  25.8680,  35.0885,2,  35.0878,2,    203.8,2, 25.8663,    204.7,2,  -999.00,9,  -999.00,9,  -999.00,9,  -999.0,-999.000
     33KB187_1,  PRS2,     2, 16,     23,   8023,2,20061110,0856, 22.7495,-158.0008, 4744,     10,     11.1,  25.8708,  35.0884,2,-999.0000,5,    203.8,2, 25.8683,   -999.0,5,  -999.00,9,  -999.00,9,  -999.00,9,  -999.0,-999.000
     33KB187_1,  PRS2,     2, 16,     22,   8022,2,20061110,0856, 22.7495,-158.0008, 4744,     79,     76.3,  25.6402,  35.0675,2,-999.0000,5,    204.4,2, 25.6234,   -999.0,5,  -999.00,9,  -999.00,9,  -999.00,9,  -999.0,-999.000
     33KB187_1,  PRS2,     2, 16,     21,   8021,2,20061110,0856, 22.7495,-158.0008, 4744,     92,     91.5,  24.8113,  35.0160,2,  35.0159,2,    212.1,2, 24.7916,    215.8,2,  -999.00,9,  -999.00,9,  -999.00,9,  -999.0,-999.000
     33KB187_1,  PRS2,     2, 16,     20,   8020,2,20061110,0856, 22.7495,-158.0008, 4744,     98,    100.3,  24.1742,  35.0058,2,-999.0000,5,    217.8,2, 24.1530,   -999.0,5,  -999.00,9,  -999.00,9,  -999.00,9,  -999.0,-999.000
     33KB187_1,  PRS2,     2, 16,     19,   8019,2,20061110,0856, 22.7495,-158.0008, 4744,    126,    125.6,  23.0102,  35.1932,2,-999.0000,5,    215.8,2, 22.9845,   -999.0,5,  -999.00,9,  -999.00,9,  -999.00,9,  -999.0,-999.000
     33KB187_1,  PRS2,     2, 16,     18,   8018,2,20061110,0856, 22.7495,-158.0008, 4744,    174,    175.4,  21.6717,  35.2781,2,  35.2787,2,    199.3,2, 21.6373,   -999.0,5,  -999.00,9,  -999.00,9,  -999.00,9,  -999.0,-999.000
     33KB187_1,  PRS2,     2, 16,     17,   8017,2,20061110,0856, 22.7495,-158.0008, 4744,    399,    399.7,  10.4108,  34.1759,2,-999.0000,5,    199.8,2, 10.3632,   -999.0,5,  -999.00,9,  -999.00,9,  -999.00,9,  -999.0,-999.000
     33KB187_1,  PRS2,     2, 16,     16,   8016,2,20061110,0856, 22.7495,-158.0008, 4744,    570,    570.2,   6.7532,  34.0731,2,  34.0707,2,     97.6,2,  6.7003,     98.7,2,  -999.00,9,  -999.00,9,  -999.00,9,  -999.0,-999.000
     33KB187_1,  PRS2,     2, 16,     15,   8015,2,20061110,0856, 22.7495,-158.0008, 4744,    600,    600.0,   6.6282,  34.1225,2,-999.0000,5,     76.4,2,  6.5729,   -999.0,5,  -999.00,9,  -999.00,9,  -999.00,9,  -999.0,-999.000
     33KB187_1,  PRS2,     2, 16,     14,   8014,2,20061110,0856, 22.7495,-158.0008, 4744,    799,    799.7,   4.6683,  34.3338,2,  34.3335,2,     27.6,2,  4.6051,     26.7,2,  -999.00,9,  -999.00,9,  -999.00,9,  -999.0,-999.000
     33KB187_1,  PRS2,     2, 16,     13,   8025,2,20061110,0856, 22.7495,-158.0008, 4744,    799,    799.9,   4.6662,  34.3344,2,-999.0000,5,     27.7,2,  4.6029,   -999.0,5,  -999.00,9,  -999.00,9,  -999.00,9,  -999.0,-999.000
     33KB187_1,  PRS2,     2, 16,     11,   8011,2,20061110,0856, 22.7495,-158.0008, 4744,   1000,   1000.4,   4.0671,  34.4645,2,-999.0000,5,     37.2,2,  3.9909,   -999.0,5,  -999.00,9,  -999.00,9,  -999.00,9,  -999.0,-999.000
     33KB187_1,  PRS2,     2, 16,     12,   8012,2,20061110,0856, 22.7495,-158.0008, 4744,   1000,   1000.7,   4.0681,  34.4642,2,  34.4644,2,     37.2,2,  3.9920,   -999.0,5,  -999.00,9,  -999.00,9,  -999.00,9,  -999.0,-999.000
     33KB187_1,  PRS2,     2, 16,     10,   8010,2,20061110,0856, 22.7495,-158.0008, 4744,   2001,   1999.6,   2.1131,  34.6212,2,-999.0000,5,     87.1,2,  1.9750,   -999.0,5,  -999.00,9,  -999.00,9,  -999.00,9,  -999.0,-999.000
     33KB187_1,  PRS2,     2, 16,      9,   8009,2,20061110,0856, 22.7495,-158.0008, 4744,   2000,   1999.9,   2.1131,  34.6215,2,-999.0000,5,     87.1,2,  1.9749,   -999.0,5,  -999.00,9,  -999.00,9,  -999.00,9,  -999.0,-999.000
     33KB187_1,  PRS2,     2, 16,      8,   8008,2,20061110,0856, 22.7495,-158.0008, 4744,   1998,   1999.9,   2.1133,  34.6214,2,  34.6205,2,     87.1,2,  1.9752,     87.4,2,  -999.00,9,  -999.00,9,  -999.00,9,  -999.0,-999.000
     33KB187_1,  PRS2,     2, 16,      7,   8026,2,20061110,0856, 22.7495,-158.0008, 4744,   2998,   3000.0,   1.5338,  34.6734,2,-999.0000,5,    125.6,2,  1.3163,   -999.0,5,  -999.00,9,  -999.00,9,  -999.00,9,  -999.0,-999.000
     33KB187_1,  PRS2,     2, 16,      6,   8006,2,20061110,0856, 22.7495,-158.0008, 4744,   2999,   3000.2,   1.5340,  34.6731,2,-999.0000,5,    125.6,2,  1.3165,   -999.0,5,  -999.00,9,  -999.00,9,  -999.00,9,  -999.0,-999.000
     33KB187_1,  PRS2,     2, 16,      5,   8005,2,20061110,0856, 22.7495,-158.0008, 4744,   3001,   3000.3,   1.5339,  34.6732,2,  34.6724,2,    125.6,2,  1.3163,    125.8,2,  -999.00,9,  -999.00,9,  -999.00,9,  -999.0,-999.000
     33KB187_1,  PRS2,     2, 16,      4,   8004,2,20061110,0856, 22.7495,-158.0008, 4744,   4000,   4000.9,   1.4555,  34.6890,2,-999.0000,5,    147.7,2,  1.1377,   -999.0,5,  -999.00,9,  -999.00,9,  -999.00,9,  -999.0,-999.000
     33KB187_1,  PRS2,     2, 16,      2,   8002,2,20061110,0856, 22.7495,-158.0008, 4744,   4002,   4001.1,   1.4556,  34.6891,2,  34.6906,2,    147.6,2,  1.1378,    147.2,2,  -999.00,9,  -999.00,9,  -999.00,9,  -999.0,-999.000
     33KB187_1,  PRS2,     2, 16,      3,   8003,2,20061110,0856, 22.7495,-158.0008, 4744,   4002,   4001.2,   1.4556,  34.6890,2,-999.0000,5,    147.7,2,  1.1378,   -999.0,5,  -999.00,9,  -999.00,9,  -999.00,9,  -999.0,-999.000
     33KB187_1,  PRS2,     2, 16,      1,   8001,2,20061110,0856, 22.7495,-158.0008, 4744,   4802,   4799.7,   1.5261,  34.6913,2,  34.6920,2,    150.9,2,  1.1151,    150.2,2,  -999.00,9,  -999.00,9,  -999.00,9,  -999.0,-999.000
     33KB187_1,  PRS2,     6,  1,     13,   8025,2,20061111,0838, 21.8468,-158.3637, 2448,      7,      7.1,  26.3397,  34.9365,2,  34.9360,2,    200.8,1, 26.3381,   -999.0,9,  -999.00,9,  -999.00,9,  -999.00,9,  -999.0,-999.000
     33KB187_1,  PRS2,     6,  1,     12,   8012,2,20061111,0838, 21.8468,-158.3637, 2448,     25,     25.4,  26.2378,  34.9522,2,  34.9463,2,    200.9,1, 26.2321,   -999.0,9,  -999.00,9,  -999.00,9,  -999.00,9,  -999.0,-999.000
     33KB187_1,  PRS2,     6,  1,     11,   8011,2,20061111,0838, 21.8468,-158.3637, 2448,     45,     45.8,  26.0959,  34.9690,2,  34.9756,2,    202.1,1, 26.0856,   -999.0,9,  -999.00,9,  -999.00,9,  -999.00,9,  -999.0,-999.000
     33KB187_1,  PRS2,     6,  1,     10,   8010,2,20061111,0838, 21.8468,-158.3637, 2448,     76,     75.9,  24.8151,  35.0600,2,  35.0626,2,    210.2,1, 24.7988,   -999.0,9,  -999.00,9,  -999.00,9,  -999.00,9,  -999.0,-999.000
     33KB187_1,  PRS2,     6,  1,      9,   8009,2,20061111,0838, 21.8468,-158.3637, 2448,    101,    101.2,  22.6468,  35.1027,2,  35.1071,2,    206.2,1, 22.6264,   -999.0,9,  -999.00,9,  -999.00,9,  -999.00,9,  -999.0,-999.000
     33KB187_1,  PRS2,     6,  1,      8,   8008,2,20061111,0838, 21.8468,-158.3637, 2448,    125,    125.5,  21.6775,  35.1800,2,  35.1750,2,    199.1,1, 21.6529,   -999.0,9,  -999.00,9,  -999.00,9,  -999.00,9,  -999.0,-999.000
     33KB187_1,  PRS2,     6,  1,      7,   8026,2,20061111,0838, 21.8468,-158.3637, 2448,    151,    151.2,  20.8683,  35.1142,2,  35.1156,2,    195.6,1, 20.8395,   -999.0,9,  -999.00,9,  -999.00,9,  -999.00,9,  -999.0,-999.000
     33KB187_1,  PRS2,     6,  1,      6,   8006,2,20061111,0838, 21.8468,-158.3637, 2448,    175,    175.3,  20.4407,  35.0724,2,  35.0774,2,    191.6,1, 20.4078,   -999.0,9,  -999.00,9,  -999.00,9,  -999.00,9,  -999.0,-999.000
     33KB187_1,  PRS2,     6,  1,      5,   8005,2,20061111,0838, 21.8468,-158.3637, 2448,    500,    500.6,   8.0528,  34.0713,2,  34.0721,2,    141.6,1,  8.0017,   -999.0,9,  -999.00,9,  -999.00,9,  -999.00,9,  -999.0,-999.000
     33KB187_1,  PRS2,     6,  1,      4,   8004,2,20061111,0838, 21.8468,-158.3637, 2448,   1000,   1000.8,   4.0305,  34.4966,2,  34.4966,2,     44.2,1,  3.9545,   -999.0,9,  -999.00,9,  -999.00,9,  -999.00,9,  -999.0,-999.000
     33KB187_1,  PRS2,     6,  1,      3,   8003,2,20061111,0838, 21.8468,-158.3637, 2448,   1499,   1500.2,   2.9917,  34.5665,2,  34.5673,2,     63.6,1,  2.8839,   -999.0,9,  -999.00,9,  -999.00,9,  -999.00,9,  -999.0,-999.000
     33KB187_1,  PRS2,     6,  1,      2,   8002,2,20061111,0838, 21.8468,-158.3637, 2448,   1999,   2000.0,   2.1914,  34.6201,2,  34.6217,2,     88.8,1,  2.0520,   -999.0,9,  -999.00,9,  -999.00,9,  -999.00,9,  -999.0,-999.000
     33KB187_1,  PRS2,     6,  1,      1,   8001,2,20061111,0838, 21.8468,-158.3637, 2448,   2468,   2468.7,   1.8524,  34.6448,2,  34.6455,2,    104.4,1,  1.6777,   -999.0,9,  -999.00,9,  -999.00,9,  -999.00,9,  -999.0,-999.000