BOTTLE,20090923WHPSIOMYS
EXPOCODE,SECT_ID,STNNBR,CASTNO,SAMPNO,BTLNBR,BTLNBR_FLAG_W,DATE,TIME,LATITUDE,LONGITUDE,DEPTH,CTDRAW,CTDPRS,CTDTMP,CTDSAL,CTDSAL_FLAG_W,SALNTY,SALNTY_FLAG_W,CTDOXY,CTDOXY_FLAG_W,THETA,OXYGEN,OXYGEN_FLAG_W,SILCAT,SILCAT_FLAG_W,NO2+NO3,NO2+NO3_FLAG_W,PHSPHT,PHSPHT_FLAG_W,REVPRS,REVTMP
,,,,,,,,,,,,,DBAR,ITS-90,PSS-78,,PSS-78,,UMOL/KG,,ITS-90,UMOL/KG,,UMOL/KG,,UMOL/KG,,UMOL/KG,,DBAR,DEG C
     33KB187_1,  PRS2,     2,  3,     24,   8024,2,20061108,1454, 22.7500,-157.9998, 4745,      5,      6.0,  25.8999,  35.0911,2,  35.0894,2,    204.4,2, 25.8986,    204.5,2,     0.87,2,     0.02,2,     0.03,2,  -999.0,-999.000
     33KB187_1,  PRS2,     2,  3,     23,   8023,2,20061108,1454, 22.7500,-157.9998, 4745,    498,    499.3,   8.5049,  34.0876,2,  34.0882,2,    167.1,2,  8.4522,    162.7,2,    31.62,2,    22.33,2,     1.59,2,  -999.0,-999.000
     33KB187_1,  PRS2,     2,  3,     22,   8022,2,20061108,1454, 22.7500,-157.9998, 4745,    851,    849.4,   4.4197,  34.3991,2,  34.3972,2,     29.5,2,  4.3538,     29.9,2,    98.69,2,    41.28,2,     3.04,2,  -999.0,-999.000
     33KB187_1,  PRS2,     2,  3,     21,   8021,2,20061108,1454, 22.7500,-157.9998, 4745,    999,   1000.0,   3.9989,  34.4696,2,  34.4697,2,     38.6,2,  3.9233,     39.8,2,   111.88,2,    41.19,2,     3.03,2,  -999.0,-999.000
     33KB187_1,  PRS2,     2,  3,     20,   8020,2,20061108,1454, 22.7500,-157.9998, 4745,   1200,   1198.8,   3.5734,  34.5263,2,  34.5254,2,     49.6,2,  3.4848,     50.0,2,   119.22,2,    41.04,2,     3.00,2,  -999.0,-999.000
     33KB187_1,  PRS2,     2,  3,     19,   8019,2,20061108,1454, 22.7500,-157.9998, 4745,   1400,   1400.6,   3.1648,  34.5529,2,  34.5531,2,     57.5,2,  3.0635,     57.5,2,   131.50,3,    40.46,2,     2.96,2,  -999.0,-999.000
     33KB187_1,  PRS2,     2,  3,     18,   8018,2,20061108,1454, 22.7500,-157.9998, 4745,   1598,   1599.2,   2.7382,  34.5847,2,  34.5846,2,     69.1,2,  2.6252,     68.9,2,   140.33,3,    40.02,2,     2.91,2,  -999.0,-999.000
     33KB187_1,  PRS2,     2,  3,     17,   8017,2,20061108,1454, 22.7500,-157.9998, 4745,   1798,   1798.9,   2.3890,  34.6025,2,  34.6028,2,     78.5,2,  2.2639,     78.6,2,   144.79,2,    39.49,2,     2.86,2,  -999.0,-999.000
     33KB187_1,  PRS2,     2,  3,     16,   8016,2,20061108,1454, 22.7500,-157.9998, 4745,   1999,   1999.9,   2.1311,  34.6201,2,  34.6207,2,     86.9,2,  1.9928,     87.4,2,   151.60,2,    38.97,2,     2.82,2,  -999.0,-999.000
     33KB187_1,  PRS2,     2,  3,     15,   8015,2,20061108,1454, 22.7500,-157.9998, 4745,   2202,   2201.1,   1.9347,  34.6354,2,  34.6352,2,     95.4,2,  1.7822,     95.1,2,   156.34,2,    38.64,2,     2.77,2,  -999.0,-999.000
     33KB187_1,  PRS2,     2,  3,     14,   8014,2,20061108,1454, 22.7500,-157.9998, 4745,   2400,   2400.1,   1.7870,  34.6472,2,  34.6466,2,    102.6,2,  1.6196,    102.5,2,   158.90,2,    38.21,2,     2.73,2,  -999.0,-999.000
     33KB187_1,  PRS2,     2,  3,     13,   8025,3,20061108,1454, 22.7500,-157.9998, 4745,   2602,   2600.4,   1.6724,  34.6567,2,  34.6567,2,    108.6,2,  1.4892,    108.5,2,   163.00,2,    37.84,2,     2.70,2,  -999.0,-999.000
     33KB187_1,  PRS2,     2,  3,     12,   8012,2,20061108,1454, 22.7500,-157.9998, 4745,   2800,   2800.3,   1.5920,  34.6658,2,  34.6671,2,    117.5,2,  1.3921,    118.1,2,   159.55,2,    37.22,2,     2.65,2,  -999.0,-999.000
     33KB187_1,  PRS2,     2,  3,     11,   8011,2,20061108,1454, 22.7500,-157.9998, 4745,   3000,   2999.8,   1.5509,  34.6713,2,  34.6720,2,    124.4,2,  1.3330,    124.6,2,   161.04,3,    36.58,2,     2.61,2,  -999.0,-999.000
     33KB187_1,  PRS2,     2,  3,     10,   8010,2,20061108,1454, 22.7500,-157.9998, 4745,   3198,   3200.1,   1.5112,  34.6766,2,  34.6769,2,    130.6,2,  1.2749,    131.1,2,   156.07,2,    36.29,2,     2.59,2,  -999.0,-999.000
     33KB187_1,  PRS2,     2,  3,      9,   8009,2,20061108,1454, 22.7500,-157.9998, 4745,   3398,   3398.8,   1.4776,  34.6813,2,  34.6820,2,    136.7,2,  1.2223,    136.9,2,   158.42,3,    35.97,2,     2.54,2,  -999.0,-999.000
     33KB187_1,  PRS2,     2,  3,      8,   8008,2,20061108,1454, 22.7500,-157.9998, 4745,   3599,   3600.6,   1.4576,  34.6845,2,  34.6846,2,    141.3,2,  1.1822,    141.2,2,   154.27,2,    35.62,2,     2.52,2,  -999.0,-999.000
     33KB187_1,  PRS2,     2,  3,      7,   8026,2,20061108,1454, 22.7500,-157.9998, 4745,   3802,   3801.6,   1.4556,  34.6868,2,  34.6871,2,    144.6,2,  1.1592,    144.0,2,   151.72,2,    35.46,2,     2.50,2,  -999.0,-999.000
     33KB187_1,  PRS2,     2,  3,      6,   8006,2,20061108,1454, 22.7500,-157.9998, 4745,   3999,   4001.4,   1.4597,  34.6884,2,  34.6891,2,    147.4,2,  1.1418,    147.5,2,   151.37,2,    35.34,2,     2.49,2,  -999.0,-999.000
     33KB187_1,  PRS2,     2,  3,      5,   8005,2,20061108,1454, 22.7500,-157.9998, 4745,   4200,   4201.3,   1.4712,  34.6892,2,  34.6893,2,    148.8,2,  1.1309,    148.6,2,   151.29,2,    35.29,2,     2.49,2,  -999.0,-999.000
     33KB187_1,  PRS2,     2,  3,      4,   8004,2,20061108,1454, 22.7500,-157.9998, 4745,   4400,   4400.0,   1.4851,  34.6900,2,  34.6906,2,    150.2,2,  1.1220,    150.2,2,   156.06,4,    35.12,2,     2.48,2,  -999.0,-999.000
     33KB187_1,  PRS2,     2,  3,      3,   8003,2,20061108,1454, 22.7500,-157.9998, 4745,   4501,   4500.0,   1.4923,  34.6906,2,  34.6910,2,    150.9,2,  1.1176,    150.8,2,   150.39,2,    35.26,2,     2.48,2,  -999.0,-999.000
     33KB187_1,  PRS2,     2,  3,      2,   8002,2,20061108,1454, 22.7500,-157.9998, 4745,   4599,   4600.3,   1.5032,  34.6907,2,  34.6912,2,    151.0,2,  1.1165,    151.5,2,   149.14,2,    34.95,2,     2.46,2,  -999.0,-999.000
     33KB187_1,  PRS2,     2,  3,      1,   8001,2,20061108,1454, 22.7500,-157.9998, 4745,   4805,   4804.7,   1.5277,  34.6906,2,  34.6908,2,    151.0,2,  1.1160,    151.1,2,   148.32,2,    35.27,2,     2.49,2,  -999.0,-999.000
     33KB187_1,  PRS2,     2,  4,     24,   8024,2,20061108,2128, 22.7485,-158.0038, 4745,     12,     12.6,  25.9518,  35.0575,2,  35.0569,2,    204.7,2, 25.9490,    204.7,2,     8.98,4,     0.07,2,     0.03,2,  -999.0,-999.000
     33KB187_1,  PRS2,     2,  4,     23,   8023,2,20061108,2128, 22.7485,-158.0038, 4745,     69,     71.1,  25.7832,  35.1437,2,  35.1427,2,    204.7,2, 25.7675,    205.3,2,     0.95,2,     0.09,2,     0.01,2,  -999.0,-999.000
     33KB187_1,  PRS2,     2,  4,     22,   8022,2,20061108,2128, 22.7485,-158.0038, 4745,     79,     77.5,  23.9756,  35.1426,2,  35.1441,2,    222.4,2, 23.9593,    220.5,2,     4.90,4,     0.09,2,     0.01,2,  -999.0,-999.000
     33KB187_1,  PRS2,     2,  4,     21,   8021,2,20061108,2128, 22.7485,-158.0038, 4745,    120,    118.8,  22.1757,  35.2612,2,  35.2584,2,    206.3,2, 22.1521,    206.9,2,     1.76,2,     0.36,2,     0.06,2,  -999.0,-999.000
     33KB187_1,  PRS2,     2,  4,     20,   8020,2,20061108,2128, 22.7485,-158.0038, 4745,    154,    153.7,  21.5159,  35.2762,2,  35.2781,2,    200.1,2, 21.4860,    200.0,2,     1.98,2,     0.81,2,     0.10,2,  -999.0,-999.000
     33KB187_1,  PRS2,     2,  4,     19,   8019,2,20061108,2128, 22.7485,-158.0038, 4745,    192,    191.2,  19.6441,  35.0676,2,  35.0711,2,    199.5,2, 19.6092,    199.3,2,     5.86,4,     1.72,2,     0.15,2,  -999.0,-999.000
     33KB187_1,  PRS2,     2,  4,     18,   8018,2,20061108,2128, 22.7485,-158.0038, 4745,    241,    241.0,  16.1079,  34.6281,2,  34.6280,2,    200.6,2, 16.0697,    199.7,2,    14.72,4,     5.17,2,     0.40,2,  -999.0,-999.000
     33KB187_1,  PRS2,     2,  4,     17,   8017,2,20061108,2128, 22.7485,-158.0038, 4745,    296,    295.6,  13.9864,  34.4197,2,  34.4196,2,    204.2,2, 13.9438,    203.7,2,     4.95,3,     7.97,2,     0.58,2,  -999.0,-999.000
     33KB187_1,  PRS2,     2,  4,     16,   8016,2,20061108,2128, 22.7485,-158.0038, 4745,    351,    350.8,  12.1095,  34.2695,2,  34.2677,2,    206.2,2, 12.0636,    204.8,2,    13.15,2,    11.45,2,     0.82,2,  -999.0,-999.000
     33KB187_1,  PRS2,     2,  4,     15,   8015,2,20061108,2128, 22.7485,-158.0038, 4745,    412,    413.6,  10.4042,  34.1757,2,  34.1766,2,    199.5,2, 10.3550,    197.9,2,    15.73,2,    15.46,2,     1.09,2,  -999.0,-999.000
     33KB187_1,  PRS2,     2,  4,     14,   8014,2,20061108,2128, 22.7485,-158.0038, 4745,    475,    475.7,   8.5802,  34.0904,2,  34.0891,2,    165.8,2,  8.5298,    166.2,2,    29.63,2,    22.42,2,     1.57,2,  -999.0,-999.000
     33KB187_1,  PRS2,     2,  4,     13,   8025,2,20061108,2128, 22.7485,-158.0038, 4745,    511,    511.5,   7.7721,  34.0740,2,  34.0744,2,    135.1,2,  7.7209,    133.5,2,    69.51,4,    26.43,2,     1.89,2,  -999.0,-999.000
     33KB187_1,  PRS2,     2,  4,     12,   8012,2,20061108,2128, 22.7485,-158.0038, 4745,    549,    548.0,   7.1880,  34.0569,2,  34.0572,2,    119.0,2,  7.1354,    115.7,2,    38.75,3,    29.00,2,     2.09,2,  -999.0,-999.000
     33KB187_1,  PRS2,     2,  4,     11,   8011,2,20061108,2128, 22.7485,-158.0038, 4745,    574,    575.2,   6.7673,  34.0839,2,  34.0821,2,     94.2,2,  6.7138,     93.5,2,    55.05,2,    31.17,2,     2.30,2,  -999.0,-999.000
     33KB187_1,  PRS2,     2,  4,     10,   8010,2,20061108,2128, 22.7485,-158.0038, 4745,    633,    633.5,   6.3214,  34.1289,2,  34.1295,2,     67.8,2,  6.2643,     67.9,2,    52.80,3,    34.41,2,     2.55,2,  -999.0,-999.000
     33KB187_1,  PRS2,     2,  4,      9,   8009,2,20061108,2128, 22.7485,-158.0038, 4745,    667,    667.2,   5.7989,  34.1691,2,  34.1603,3,     51.6,3,  5.7413,     50.2,2,    74.82,2,    36.82,2,     2.73,2,  -999.0,-999.000
     33KB187_1,  PRS2,     2,  4,      8,   8008,2,20061108,2128, 22.7485,-158.0038, 4745,    718,    717.8,   5.1938,  34.2000,2,  34.1979,2,     38.7,2,  5.1347,     37.7,2,    82.93,2,    38.88,2,     2.87,2,  -999.0,-999.000
     33KB187_1,  PRS2,     2,  4,      7,   8026,2,20061108,2128, 22.7485,-158.0038, 4745,    767,    766.4,   4.8980,  34.2434,2,  34.2428,2,     28.4,2,  4.8364,     35.4,4,    88.32,2,    40.13,2,     2.98,2,  -999.0,-999.000
     33KB187_1,  PRS2,     2,  4,      6,   8006,2,20061108,2128, 22.7485,-158.0038, 4745,    816,    815.4,   4.7252,  34.3050,2,  34.3034,2,     26.4,2,  4.6603,     25.8,4,    93.71,2,    40.72,2,     3.02,2,  -999.0,-999.000
     33KB187_1,  PRS2,     2,  4,      5,   8005,2,20061108,2128, 22.7485,-158.0038, 4745,    851,    851.0,   4.5515,  34.3660,2,  34.3660,2,     28.1,2,  4.4846,     27.9,2,   102.52,2,    40.85,2,     3.03,2,  -999.0,-999.000
     33KB187_1,  PRS2,     2,  4,      4,   8004,2,20061108,2128, 22.7485,-158.0038, 4745,    886,    885.7,   4.4460,  34.3923,2,  34.3910,2,     29.7,2,  4.3769,     30.1,2,   101.26,2,    40.93,2,     3.03,2,  -999.0,-999.000
     33KB187_1,  PRS2,     2,  4,      3,   8003,2,20061108,2128, 22.7485,-158.0038, 4745,    940,    939.6,   4.2007,  34.4421,2,  34.4420,2,     35.1,2,  4.1287,     34.9,2,   107.48,2,    41.06,2,     3.03,2,  -999.0,-999.000
     33KB187_1,  PRS2,     2,  4,      2,   8002,2,20061108,2128, 22.7485,-158.0038, 4745,    991,    991.2,   4.0036,  34.4676,2,  34.4667,2,     38.9,2,  3.9287,     39.5,2,   111.37,2,    41.03,2,     3.03,2,  -999.0,-999.000
     33KB187_1,  PRS2,     2,  4,      1,   8001,2,20061108,2128, 22.7485,-158.0038, 4745,   1018,   1019.7,   3.9369,  34.4775,2,  34.4767,2,     40.7,2,  3.8601,     40.5,2,   114.58,2,    41.23,2,     3.03,2,  -999.0,-999.000
     33KB187_1,  PRS2,     2,  5,     24,   8024,2,20061109,0022, 22.7498,-158.0878, 4745,      8,      9.0,  26.0000,  35.0191,2,  35.0230,2,    204.9,1, 25.9980,   -999.0,9,  -999.00,9,  -999.00,9,  -999.00,9,  -999.0,-999.000
     33KB187_1,  PRS2,     2,  5,     23,   8023,2,20061109,0022, 22.7498,-158.0878, 4745,     23,     24.8,  25.9569,  35.0203,2,  35.0240,2,    204.9,1, 25.9513,   -999.0,9,  -999.00,9,  -999.00,9,  -999.00,9,  -999.0,-999.000
     33KB187_1,  PRS2,     2,  5,     22,   8022,2,20061109,0022, 22.7498,-158.0878, 4745,     46,     45.9,  25.9261,  35.1542,2,  35.1551,2,    204.8,1, 25.9159,   -999.0,9,  -999.00,9,  -999.00,9,  -999.00,9,  -999.0,-999.000
     33KB187_1,  PRS2,     2,  5,     21,   8021,2,20061109,0022, 22.7498,-158.0878, 4745,     75,     75.4,  24.3497,  35.1337,2,  35.1354,2,    221.1,1, 24.3337,   -999.0,9,  -999.00,9,  -999.00,9,  -999.00,9,  -999.0,-999.000
     33KB187_1,  PRS2,     2,  5,     19,   8019,2,20061109,0022, 22.7498,-158.0878, 4745,     99,     99.5,  23.1001,  35.1885,2,  35.1853,2,    215.8,1, 23.0797,   -999.0,9,  -999.00,9,  -999.00,9,  -999.00,9,  -999.0,-999.000
     33KB187_1,  PRS2,     2,  5,     20,   8020,2,20061109,0022, 22.7498,-158.0878, 4745,    100,     99.8,  23.0957,  35.1887,2,-999.0000,5,    216.1,1, 23.0752,   -999.0,9,  -999.00,9,  -999.00,9,  -999.00,9,  -999.0,-999.000
     33KB187_1,  PRS2,     2,  5,     17,   8017,2,20061109,0022, 22.7498,-158.0878, 4745,    126,    126.7,  22.1361,  35.2716,2,  35.2743,2,    204.4,1, 22.1109,   -999.0,9,  -999.00,9,  -999.00,9,  -999.00,9,  -999.0,-999.000
     33KB187_1,  PRS2,     2,  5,     18,   8018,2,20061109,0022, 22.7498,-158.0878, 4745,    126,    126.9,  22.1368,  35.2719,2,-999.0000,5,    204.4,1, 22.1116,   -999.0,9,  -999.00,9,  -999.00,9,  -999.00,9,  -999.0,-999.000
     33KB187_1,  PRS2,     2,  5,     15,   8015,2,20061109,0022, 22.7498,-158.0878, 4745,    148,    148.8,  21.6960,  35.2825,2,  35.2818,2,    201.3,1, 21.6668,   -999.0,9,  -999.00,9,  -999.00,9,  -999.00,9,  -999.0,-999.000
     33KB187_1,  PRS2,     2,  5,     16,   8016,2,20061109,0022, 22.7498,-158.0878, 4745,    148,    149.0,  21.6964,  35.2824,2,-999.0000,5,    201.2,1, 21.6672,   -999.0,9,  -999.00,9,  -999.00,9,  -999.00,9,  -999.0,-999.000
     33KB187_1,  PRS2,     2,  5,     14,   8014,2,20061109,0022, 22.7498,-158.0878, 4745,    200,    200.7,  19.2787,  34.9847,2,-999.0000,5,    192.9,1, 19.2425,   -999.0,9,  -999.00,9,  -999.00,9,  -999.00,9,  -999.0,-999.000
     33KB187_1,  PRS2,     2,  5,     13,   8025,2,20061109,0022, 22.7498,-158.0878, 4745,    200,    200.7,  19.2795,  34.9840,2,-999.0000,5,    192.9,1, 19.2433,   -999.0,9,  -999.00,9,  -999.00,9,  -999.00,9,  -999.0,-999.000
     33KB187_1,  PRS2,     2,  5,     12,   8012,2,20061109,0022, 22.7498,-158.0878, 4745,    252,    250.7,  16.0163,  34.6317,2,  34.6378,2,    202.6,1, 15.9767,   -999.0,9,  -999.00,9,  -999.00,9,  -999.00,9,  -999.0,-999.000
     33KB187_1,  PRS2,     2,  5,     11,   8011,2,20061109,0022, 22.7498,-158.0878, 4745,    300,    299.5,  13.4942,  34.3783,2,-999.0000,5,    207.4,1, 13.4520,   -999.0,9,  -999.00,9,  -999.00,9,  -999.00,9,  -999.0,-999.000
     33KB187_1,  PRS2,     2,  5,     10,   8010,2,20061109,0022, 22.7498,-158.0878, 4745,    301,    299.8,  13.4902,  34.3774,2,-999.0000,5,    207.4,1, 13.4480,   -999.0,9,  -999.00,9,  -999.00,9,  -999.00,9,  -999.0,-999.000
     33KB187_1,  PRS2,     2,  5,      9,   8009,2,20061109,0022, 22.7498,-158.0878, 4745,    351,    351.0,  12.1376,  34.2721,2,  34.2730,2,    207.5,1, 12.0915,   -999.0,9,  -999.00,9,  -999.00,9,  -999.00,9,  -999.0,-999.000
     33KB187_1,  PRS2,     2,  5,      8,   8008,2,20061109,0022, 22.7498,-158.0878, 4745,    500,    500.9,   8.2482,  34.0839,2,-999.0000,5,    146.5,1,  8.1963,   -999.0,9,  -999.00,9,  -999.00,9,  -999.00,9,  -999.0,-999.000
     33KB187_1,  PRS2,     2,  5,      7,   8026,2,20061109,0022, 22.7498,-158.0878, 4745,    500,    500.9,   8.2488,  34.0840,2,-999.0000,5,    146.1,1,  8.1969,   -999.0,9,  -999.00,9,  -999.00,9,  -999.00,9,  -999.0,-999.000
     33KB187_1,  PRS2,     2,  5,      6,   8006,2,20061109,0022, 22.7498,-158.0878, 4745,    501,    501.0,   8.2488,  34.0838,2,-999.0000,5,    145.8,1,  8.1968,   -999.0,9,  -999.00,9,  -999.00,9,  -999.00,9,  -999.0,-999.000
     33KB187_1,  PRS2,     2,  5,      5,   8005,2,20061109,0022, 22.7498,-158.0878, 4745,    574,    574.9,   6.4843,  34.0566,2,  34.0560,2,     99.3,1,  6.4320,   -999.0,9,  -999.00,9,  -999.00,9,  -999.00,9,  -999.0,-999.000
     33KB187_1,  PRS2,     2,  5,      4,   8004,2,20061109,0022, 22.7498,-158.0878, 4745,    772,    770.7,   4.8036,  34.2951,2,-999.0000,5,     28.3,1,  4.7421,   -999.0,9,  -999.00,9,  -999.00,9,  -999.00,9,  -999.0,-999.000
     33KB187_1,  PRS2,     2,  5,      1,   8001,2,20061109,0022, 22.7498,-158.0878, 4745,   1019,   1018.8,   4.0447,  34.4572,2,  34.4599,2,     38.1,1,  3.9672,   -999.0,9,  -999.00,9,  -999.00,9,  -999.00,9,  -999.0,-999.000
     33KB187_1,  PRS2,     2,  5,      3,   8003,2,20061109,0022, 22.7498,-158.0878, 4745,   1019,   1019.2,   4.0452,  34.4572,2,-999.0000,5,     38.1,1,  3.9677,   -999.0,9,  -999.00,9,  -999.00,9,  -999.00,9,  -999.0,-999.000
     33KB187_1,  PRS2,     2,  5,      2,   8002,2,20061109,0022, 22.7498,-158.0878, 4745,   1019,   1019.2,   4.0454,  34.4570,2,-999.0000,5,     38.1,1,  3.9678,   -999.0,9,  -999.00,9,  -999.00,9,  -999.00,9,  -999.0,-999.000