BOTTLE,20090923WHPSIOMYS
EXPOCODE,SECT_ID,STNNBR,CASTNO,SAMPNO,BTLNBR,BTLNBR_FLAG_W,DATE,TIME,LATITUDE,LONGITUDE,DEPTH,CTDRAW,CTDPRS,CTDTMP,CTDSAL,CTDSAL_FLAG_W,SALNTY,SALNTY_FLAG_W,CTDOXY,CTDOXY_FLAG_W,THETA,OXYGEN,OXYGEN_FLAG_W,SILCAT,SILCAT_FLAG_W,NO2+NO3,NO2+NO3_FLAG_W,PHSPHT,PHSPHT_FLAG_W,REVPRS,REVTMP
,,,,,,,,,,,,,DBAR,ITS-90,PSS-78,,PSS-78,,UMOL/KG,,ITS-90,UMOL/KG,,UMOL/KG,,UMOL/KG,,UMOL/KG,,DBAR,DEG C
     33KB187_1,  PRS2,     2,  9,     22,   8022,2,20061109,1150, 22.7523,-157.9852, 4738,      6,      6.9,  25.9079,  35.1441,2,  35.1425,2,    203.7,1, 25.9064,   -999.0,9,  -999.00,9,  -999.00,9,  -999.00,9,  -999.0,-999.000
     33KB187_1,  PRS2,     2,  9,     21,   8021,2,20061109,1150, 22.7523,-157.9852, 4738,      6,      6.9,  25.9079,  35.1441,2,  35.1447,2,    203.6,1, 25.9064,   -999.0,9,  -999.00,9,  -999.00,9,  -999.00,9,  -999.0,-999.000
     33KB187_1,  PRS2,     2,  9,     20,   8020,2,20061109,1150, 22.7523,-157.9852, 4738,      7,      6.9,  25.9079,  35.1441,2,  35.1553,3,    203.6,1, 25.9064,   -999.0,9,  -999.00,9,  -999.00,9,  -999.00,9,  -999.0,-999.000
     33KB187_1,  PRS2,     2,  9,     18,   8018,2,20061109,1150, 22.7523,-157.9852, 4738,     26,     25.0,  25.9131,  35.1433,2,  35.1427,2,    203.9,1, 25.9075,   -999.0,9,  -999.00,9,  -999.00,9,  -999.00,9,  -999.0,-999.000
     33KB187_1,  PRS2,     2,  9,     17,   8017,2,20061109,1150, 22.7523,-157.9852, 4738,     24,     25.0,  25.9134,  35.1432,2,  35.1435,2,    204.0,1, 25.9078,   -999.0,9,  -999.00,9,  -999.00,9,  -999.00,9,  -999.0,-999.000
     33KB187_1,  PRS2,     2,  9,     19,   8019,2,20061109,1150, 22.7523,-157.9852, 4738,     25,     25.3,  25.9128,  35.1432,2,  35.1417,2,    203.7,1, 25.9072,   -999.0,9,  -999.00,9,  -999.00,9,  -999.00,9,  -999.0,-999.000
     33KB187_1,  PRS2,     2,  9,     15,   8015,2,20061109,1150, 22.7523,-157.9852, 4738,     44,     45.4,  25.9192,  35.1429,2,  35.1417,2,    204.1,1, 25.9091,   -999.0,9,  -999.00,9,  -999.00,9,  -999.00,9,  -999.0,-999.000
     33KB187_1,  PRS2,     2,  9,     14,   8014,2,20061109,1150, 22.7523,-157.9852, 4738,     44,     45.5,  25.9190,  35.1430,2,  35.1421,2,    204.2,1, 25.9088,   -999.0,9,  -999.00,9,  -999.00,9,  -999.00,9,  -999.0,-999.000
     33KB187_1,  PRS2,     2,  9,     16,   8016,2,20061109,1150, 22.7523,-157.9852, 4738,     45,     45.6,  25.9194,  35.1430,2,  35.1419,2,    204.1,1, 25.9093,   -999.0,9,  -999.00,9,  -999.00,9,  -999.00,9,  -999.0,-999.000
     33KB187_1,  PRS2,     2,  9,     11,   8011,2,20061109,1150, 22.7523,-157.9852, 4738,     75,     76.1,  25.8413,  35.1423,2,  35.1415,2,    204.2,1, 25.8244,   -999.0,9,  -999.00,9,  -999.00,9,  -999.00,9,  -999.0,-999.000
     33KB187_1,  PRS2,     2,  9,     12,   8012,2,20061109,1150, 22.7523,-157.9852, 4738,     77,     76.4,  25.8483,  35.1422,2,  35.1419,2,    204.2,1, 25.8314,   -999.0,9,  -999.00,9,  -999.00,9,  -999.00,9,  -999.0,-999.000
     33KB187_1,  PRS2,     2,  9,     13,   8025,2,20061109,1150, 22.7523,-157.9852, 4738,     77,     76.7,  25.8484,  35.1422,2,  35.1410,2,    204.2,1, 25.8313,   -999.0,9,  -999.00,9,  -999.00,9,  -999.00,9,  -999.0,-999.000
     33KB187_1,  PRS2,     2,  9,      8,   8008,2,20061109,1150, 22.7523,-157.9852, 4738,     99,    100.8,  23.3941,  35.1773,2,  35.1752,2,    216.6,1, 23.3733,   -999.0,9,  -999.00,9,  -999.00,9,  -999.00,9,  -999.0,-999.000
     33KB187_1,  PRS2,     2,  9,      9,   8009,2,20061109,1150, 22.7523,-157.9852, 4738,    103,    101.0,  23.3937,  35.1775,2,  35.1794,2,    216.7,1, 23.3728,   -999.0,9,  -999.00,9,  -999.00,9,  -999.00,9,  -999.0,-999.000
     33KB187_1,  PRS2,     2,  9,     10,   8010,2,20061109,1150, 22.7523,-157.9852, 4738,    101,    101.1,  23.3916,  35.1783,2,  35.1738,2,    216.9,1, 23.3707,   -999.0,9,  -999.00,9,  -999.00,9,  -999.00,9,  -999.0,-999.000
     33KB187_1,  PRS2,     2,  9,      5,   8005,2,20061109,1150, 22.7523,-157.9852, 4738,    123,    124.8,  22.4304,  35.2370,2,  35.2365,2,    208.6,1, 22.4054,   -999.0,9,  -999.00,9,  -999.00,9,  -999.00,9,  -999.0,-999.000
     33KB187_1,  PRS2,     2,  9,      6,   8006,2,20061109,1150, 22.7523,-157.9852, 4738,    126,    125.5,  22.4274,  35.2379,2,  35.2363,2,    208.5,1, 22.4022,   -999.0,9,  -999.00,9,  -999.00,9,  -999.00,9,  -999.0,-999.000
     33KB187_1,  PRS2,     2,  9,      7,   8026,2,20061109,1150, 22.7523,-157.9852, 4738,    127,    125.8,  22.4242,  35.2375,2,  35.2353,2,    208.5,1, 22.3989,   -999.0,9,  -999.00,9,  -999.00,9,  -999.00,9,  -999.0,-999.000
     33KB187_1,  PRS2,     2,  9,      4,   8004,2,20061109,1150, 22.7523,-157.9852, 4738,    149,    150.1,  21.7578,  35.2733,2,  35.2723,2,    201.1,1, 21.7283,   -999.0,9,  -999.00,9,  -999.00,9,  -999.00,9,  -999.0,-999.000
     33KB187_1,  PRS2,     2,  9,      3,   8003,2,20061109,1150, 22.7523,-157.9852, 4738,    174,    175.0,  20.8992,  35.2194,2,  35.2312,2,    196.7,1, 20.8658,   -999.0,9,  -999.00,9,  -999.00,9,  -999.00,9,  -999.0,-999.000
     33KB187_1,  PRS2,     2,  9,      2,   8002,2,20061109,1150, 22.7523,-157.9852, 4738,    573,    572.0,   6.9747,  34.0560,2,  34.0554,2,    112.5,1,  6.9206,   -999.0,9,  -999.00,9,  -999.00,9,  -999.00,9,  -999.0,-999.000
     33KB187_1,  PRS2,     2,  9,      1,   8001,2,20061109,1150, 22.7523,-157.9852, 4738,   1018,   1019.8,   3.9765,  34.4745,2,  34.4738,2,     39.5,1,  3.8995,   -999.0,9,  -999.00,9,  -999.00,9,  -999.00,9,  -999.0,-999.000
     33KB187_1,  PRS2,     2, 10,     15,   8015,2,20061109,1425, 22.7502,-157.9868, 4744,      8,      8.6,  25.9179,  35.1500,2,  35.1522,2,    203.6,1, 25.9160,   -999.0,9,  -999.00,9,  -999.00,9,  -999.00,9,  -999.0,-999.000
     33KB187_1,  PRS2,     2, 10,     14,   8014,2,20061109,1425, 22.7502,-157.9868, 4744,     13,     12.9,  25.9187,  35.1499,2,-999.0000,5,    203.5,1, 25.9159,   -999.0,9,  -999.00,9,  -999.00,9,  -999.00,9,  -999.0,-999.000
     33KB187_1,  PRS2,     2, 10,     13,   8025,2,20061109,1425, 22.7502,-157.9868, 4744,     46,     46.5,  25.9190,  35.1489,2,-999.0000,5,    203.7,1, 25.9087,   -999.0,9,  -999.00,9,  -999.00,9,  -999.00,9,  -999.0,-999.000
     33KB187_1,  PRS2,     2, 10,     12,   8012,2,20061109,1425, 22.7502,-157.9868, 4744,     75,     75.5,  25.8532,  35.1470,2,-999.0000,5,    204.4,1, 25.8364,   -999.0,9,  -999.00,9,  -999.00,9,  -999.00,9,  -999.0,-999.000
     33KB187_1,  PRS2,     2, 10,     11,   8011,2,20061109,1425, 22.7502,-157.9868, 4744,     99,    100.9,  23.2867,  35.1811,2,-999.0000,5,    216.8,1, 23.2659,   -999.0,9,  -999.00,9,  -999.00,9,  -999.00,9,  -999.0,-999.000
     33KB187_1,  PRS2,     2, 10,     10,   8010,2,20061109,1425, 22.7502,-157.9868, 4744,    124,    124.8,  22.4221,  35.2380,2,-999.0000,5,    207.4,1, 22.3971,   -999.0,9,  -999.00,9,  -999.00,9,  -999.00,9,  -999.0,-999.000
     33KB187_1,  PRS2,     2, 10,      9,   8009,2,20061109,1425, 22.7502,-157.9868, 4744,    150,    150.3,  21.8968,  35.2720,2,-999.0000,5,    202.3,1, 21.8671,   -999.0,9,  -999.00,9,  -999.00,9,  -999.00,9,  -999.0,-999.000
     33KB187_1,  PRS2,     2, 10,      8,   8008,2,20061109,1425, 22.7502,-157.9868, 4744,    176,    174.3,  21.3093,  35.2657,2,-999.0000,5,    198.9,1, 21.2756,   -999.0,9,  -999.00,9,  -999.00,9,  -999.00,9,  -999.0,-999.000
     33KB187_1,  PRS2,     2, 10,      7,   8026,2,20061109,1425, 22.7502,-157.9868, 4744,    199,    199.0,  20.0658,  35.1249,2,-999.0000,5,    197.0,1, 20.0289,   -999.0,9,  -999.00,9,  -999.00,9,  -999.00,9,  -999.0,-999.000
     33KB187_1,  PRS2,     2, 10,      6,   8006,2,20061109,1425, 22.7502,-157.9868, 4744,    403,    401.3,  10.8302,  34.1998,2,-999.0000,5,    204.5,1, 10.7812,   -999.0,9,  -999.00,9,  -999.00,9,  -999.00,9,  -999.0,-999.000
     33KB187_1,  PRS2,     2, 10,      5,   8005,2,20061109,1425, 22.7502,-157.9868, 4744,    552,    552.1,   6.9955,  34.0532,2,  34.0537,2,    111.4,1,  6.9433,   -999.0,9,  -999.00,9,  -999.00,9,  -999.00,9,  -999.0,-999.000
     33KB187_1,  PRS2,     2, 10,      4,   8004,2,20061109,1425, 22.7502,-157.9868, 4744,    598,    600.7,   6.4834,  34.1415,2,-999.0000,5,     68.4,1,  6.4287,   -999.0,9,  -999.00,9,  -999.00,9,  -999.00,9,  -999.0,-999.000
     33KB187_1,  PRS2,     2, 10,      3,   8003,2,20061109,1425, 22.7502,-157.9868, 4744,    799,    800.3,   4.6972,  34.2915,2,-999.0000,5,     24.3,1,  4.6338,   -999.0,9,  -999.00,9,  -999.00,9,  -999.00,9,  -999.0,-999.000
     33KB187_1,  PRS2,     2, 10,      2,   8002,2,20061109,1425, 22.7502,-157.9868, 4744,   1018,   1019.4,   4.1160,  34.4558,2,-999.0000,5,     36.5,1,  4.0379,   -999.0,9,  -999.00,9,  -999.00,9,  -999.00,9,  -999.0,-999.000
     33KB187_1,  PRS2,     2, 10,      1,   8001,2,20061109,1425, 22.7502,-157.9868, 4744,   1018,   1019.4,   4.1164,  34.4558,2,  34.4581,2,     36.5,1,  4.0383,   -999.0,9,  -999.00,9,  -999.00,9,  -999.00,9,  -999.0,-999.000
     33KB187_1,  PRS2,     2, 11,     18,   8018,2,20061109,1829, 22.6680,-158.0537, 4775,      5,      5.2,  25.9549,  35.1230,2,-999.0000,5,    204.0,1, 25.9538,   -999.0,9,  -999.00,9,  -999.00,9,  -999.00,9,  -999.0,-999.000
     33KB187_1,  PRS2,     2, 11,     17,   8017,2,20061109,1829, 22.6680,-158.0537, 4775,      5,      5.2,  25.9546,  35.1228,2,  35.1217,2,    203.9,1, 25.9535,   -999.0,9,  -999.00,9,  -999.00,9,  -999.00,9,  -999.0,-999.000
     33KB187_1,  PRS2,     2, 11,     16,   8016,2,20061109,1829, 22.6680,-158.0537, 4775,     25,     25.3,  25.9605,  35.1283,2,-999.0000,5,    204.0,1, 25.9548,   -999.0,9,  -999.00,9,  -999.00,9,  -999.00,9,  -999.0,-999.000
     33KB187_1,  PRS2,     2, 11,     15,   8015,2,20061109,1829, 22.6680,-158.0537, 4775,     25,     25.3,  25.9604,  35.1287,2,  35.1274,2,    204.0,1, 25.9548,   -999.0,9,  -999.00,9,  -999.00,9,  -999.00,9,  -999.0,-999.000
     33KB187_1,  PRS2,     2, 11,     13,   8025,2,20061109,1829, 22.6680,-158.0537, 4775,     41,     43.2,  25.8221,  35.1467,2,  35.1459,2,    204.8,1, 25.8125,   -999.0,9,  -999.00,9,  -999.00,9,  -999.00,9,  -999.0,-999.000
     33KB187_1,  PRS2,     2, 11,     14,   8014,2,20061109,1829, 22.6680,-158.0537, 4775,     44,     43.5,  25.8221,  35.1466,2,-999.0000,5,    204.7,1, 25.8124,   -999.0,9,  -999.00,9,  -999.00,9,  -999.00,9,  -999.0,-999.000
     33KB187_1,  PRS2,     2, 11,     11,   8011,2,20061109,1829, 22.6680,-158.0537, 4775,     75,     75.3,  23.3826,  35.1767,2,  35.1736,2,    218.6,1, 23.3671,   -999.0,9,  -999.00,9,  -999.00,9,  -999.00,9,  -999.0,-999.000
     33KB187_1,  PRS2,     2, 11,     12,   8012,2,20061109,1829, 22.6680,-158.0537, 4775,     77,     75.7,  23.3864,  35.1757,2,-999.0000,5,    218.4,1, 23.3708,   -999.0,9,  -999.00,9,  -999.00,9,  -999.00,9,  -999.0,-999.000
     33KB187_1,  PRS2,     2, 11,     10,   8010,2,20061109,1829, 22.6680,-158.0537, 4775,    103,    101.9,  22.4373,  35.2385,2,-999.0000,5,    209.8,1, 22.4169,   -999.0,9,  -999.00,9,  -999.00,9,  -999.00,9,  -999.0,-999.000
     33KB187_1,  PRS2,     2, 11,      9,   8009,2,20061109,1829, 22.6680,-158.0537, 4775,    101,    101.9,  22.4385,  35.2381,2,  35.2383,2,    209.6,1, 22.4180,   -999.0,9,  -999.00,9,  -999.00,9,  -999.00,9,  -999.0,-999.000
     33KB187_1,  PRS2,     2, 11,      8,   8008,2,20061109,1829, 22.6680,-158.0537, 4775,    127,    127.6,  21.8561,  35.2745,2,-999.0000,5,    202.5,1, 21.8310,   -999.0,9,  -999.00,9,  -999.00,9,  -999.00,9,  -999.0,-999.000
     33KB187_1,  PRS2,     2, 11,      7,   8026,2,20061109,1829, 22.6680,-158.0537, 4775,    127,    127.6,  21.8418,  35.2745,2,  35.2747,2,    202.7,1, 21.8167,   -999.0,9,  -999.00,9,  -999.00,9,  -999.00,9,  -999.0,-999.000
     33KB187_1,  PRS2,     2, 11,      6,   8006,2,20061109,1829, 22.6680,-158.0537, 4775,    151,    150.8,  21.0076,  35.2375,2,-999.0000,5,    197.0,1, 20.9787,   -999.0,9,  -999.00,9,  -999.00,9,  -999.00,9,  -999.0,-999.000
     33KB187_1,  PRS2,     2, 11,      5,   8005,2,20061109,1829, 22.6680,-158.0537, 4775,    150,    150.9,  21.0057,  35.2377,2,  35.2341,2,    197.0,1, 20.9768,   -999.0,9,  -999.00,9,  -999.00,9,  -999.00,9,  -999.0,-999.000
     33KB187_1,  PRS2,     2, 11,      4,   8004,2,20061109,1829, 22.6680,-158.0537, 4775,    172,    173.6,  20.4475,  35.1673,2,-999.0000,5,    196.3,1, 20.4148,   -999.0,9,  -999.00,9,  -999.00,9,  -999.00,9,  -999.0,-999.000
     33KB187_1,  PRS2,     2, 11,      3,   8003,2,20061109,1829, 22.6680,-158.0537, 4775,    176,    174.2,  20.4367,  35.1665,2,  35.1701,2,    196.5,1, 20.4040,   -999.0,9,  -999.00,9,  -999.00,9,  -999.00,9,  -999.0,-999.000
     33KB187_1,  PRS2,     2, 11,      2,   8002,2,20061109,1829, 22.6680,-158.0537, 4775,    523,    524.3,   7.6965,  34.0692,2,  34.0739,2,    139.1,1,  7.6442,   -999.0,9,  -999.00,9,  -999.00,9,  -999.00,9,  -999.0,-999.000
     33KB187_1,  PRS2,     2, 11,      1,   8001,2,20061109,1829, 22.6680,-158.0537, 4775,   1020,   1020.7,   4.0148,  34.4697,2,  34.4705,2,     39.3,1,  3.9373,   -999.0,9,  -999.00,9,  -999.00,9,  -999.00,9,  -999.0,-999.000
     33KB187_1,  PRS2,     2, 12,     23,   8023,2,20061109,2054, 22.6685,-158.0442, 4772,      7,      7.0,  25.9775,  35.1220,2,-999.0000,5,    204.2,1, 25.9760,   -999.0,9,  -999.00,9,  -999.00,9,  -999.00,9,  -999.0,-999.000
     33KB187_1,  PRS2,     2, 12,     22,   8022,2,20061109,2054, 22.6685,-158.0442, 4772,      9,      7.2,  25.9754,  35.1226,2,  35.1211,2,    204.2,1, 25.9738,   -999.0,9,  -999.00,9,  -999.00,9,  -999.00,9,  -999.0,-999.000
     33KB187_1,  PRS2,     2, 12,     21,   8021,2,20061109,2054, 22.6685,-158.0442, 4772,     24,     25.2,  25.9566,  35.1244,2,  35.1240,2,    203.7,1, 25.9510,   -999.0,9,  -999.00,9,  -999.00,9,  -999.00,9,  -999.0,-999.000
     33KB187_1,  PRS2,     2, 12,     20,   8020,2,20061109,2054, 22.6685,-158.0442, 4772,     46,     45.0,  25.8564,  35.1472,2,  35.1502,2,    203.8,1, 25.8464,   -999.0,9,  -999.00,9,  -999.00,9,  -999.00,9,  -999.0,-999.000
     33KB187_1,  PRS2,     2, 12,     19,   8019,2,20061109,2054, 22.6685,-158.0442, 4772,     52,     51.3,  25.8401,  35.1497,2,-999.0000,5,    204.6,1, 25.8287,   -999.0,9,  -999.00,9,  -999.00,9,  -999.00,9,  -999.0,-999.000
     33KB187_1,  PRS2,     2, 12,     18,   8018,2,20061109,2054, 22.6685,-158.0442, 4772,     51,     51.3,  25.8314,  35.1498,2,-999.0000,5,    204.2,1, 25.8201,   -999.0,9,  -999.00,9,  -999.00,9,  -999.00,9,  -999.0,-999.000
     33KB187_1,  PRS2,     2, 12,     17,   8017,2,20061109,2054, 22.6685,-158.0442, 4772,     59,     60.3,  25.2490,  35.1516,2,  35.1502,2,    208.1,1, 25.2358,   -999.0,9,  -999.00,9,  -999.00,9,  -999.00,9,  -999.0,-999.000
     33KB187_1,  PRS2,     2, 12,     16,   8016,2,20061109,2054, 22.6685,-158.0442, 4772,     75,     75.4,  23.6593,  35.1588,2,  35.1577,2,    219.3,1, 23.6436,   -999.0,9,  -999.00,9,  -999.00,9,  -999.00,9,  -999.0,-999.000
     33KB187_1,  PRS2,     2, 12,     15,   8015,2,20061109,2054, 22.6685,-158.0442, 4772,     86,     85.3,  23.2479,  35.1862,2,  35.1865,2,    218.2,1, 23.2303,   -999.0,9,  -999.00,9,  -999.00,9,  -999.00,9,  -999.0,-999.000
     33KB187_1,  PRS2,     2, 12,     14,   8014,2,20061109,2054, 22.6685,-158.0442, 4772,    100,    100.5,  22.6470,  35.2245,2,-999.0000,5,    213.3,1, 22.6267,   -999.0,9,  -999.00,9,  -999.00,9,  -999.00,9,  -999.0,-999.000
     33KB187_1,  PRS2,     2, 12,     13,   8025,2,20061109,2054, 22.6685,-158.0442, 4772,    101,    100.7,  22.6501,  35.2246,2,-999.0000,5,    213.3,1, 22.6298,   -999.0,9,  -999.00,9,  -999.00,9,  -999.00,9,  -999.0,-999.000
     33KB187_1,  PRS2,     2, 12,     12,   8012,2,20061109,2054, 22.6685,-158.0442, 4772,    101,    100.7,  22.6479,  35.2244,2,  35.2245,2,    213.1,1, 22.6275,   -999.0,9,  -999.00,9,  -999.00,9,  -999.00,9,  -999.0,-999.000
     33KB187_1,  PRS2,     2, 12,     11,   8011,2,20061109,2054, 22.6685,-158.0442, 4772,    110,    110.1,  22.3520,  35.2482,2,-999.0000,5,    210.8,1, 22.3300,   -999.0,9,  -999.00,9,  -999.00,9,  -999.00,9,  -999.0,-999.000
     33KB187_1,  PRS2,     2, 12,     10,   8010,2,20061109,2054, 22.6685,-158.0442, 4772,    115,    115.4,  22.1285,  35.2628,2,  35.2609,2,    206.2,1, 22.1056,   -999.0,9,  -999.00,9,  -999.00,9,  -999.00,9,  -999.0,-999.000
     33KB187_1,  PRS2,     2, 12,      9,   8009,2,20061109,2054, 22.6685,-158.0442, 4772,    127,    125.7,  21.7877,  35.2746,2,  35.2753,2,    203.1,1, 21.7630,   -999.0,9,  -999.00,9,  -999.00,9,  -999.00,9,  -999.0,-999.000
     33KB187_1,  PRS2,     2, 12,      8,   8008,2,20061109,2054, 22.6685,-158.0442, 4772,    152,    151.5,  20.9126,  35.2236,2,  35.2253,2,    196.7,1, 20.8836,   -999.0,9,  -999.00,9,  -999.00,9,  -999.00,9,  -999.0,-999.000
     33KB187_1,  PRS2,     2, 12,      6,   8006,2,20061109,2054, 22.6685,-158.0442, 4772,    175,    175.1,  19.8585,  35.0973,2,  35.0996,2,    198.5,1, 19.8262,   -999.0,9,  -999.00,9,  -999.00,9,  -999.00,9,  -999.0,-999.000
     33KB187_1,  PRS2,     2, 12,      7,   8026,2,20061109,2054, 22.6685,-158.0442, 4772,    176,    175.3,  19.8567,  35.0963,2,-999.0000,5,    198.5,1, 19.8244,   -999.0,9,  -999.00,9,  -999.00,9,  -999.00,9,  -999.0,-999.000
     33KB187_1,  PRS2,     2, 12,      5,   8005,2,20061109,2054, 22.6685,-158.0442, 4772,    201,    201.4,  18.2403,  34.8530,2,  34.8582,2,    194.7,1, 18.2054,   -999.0,9,  -999.00,9,  -999.00,9,  -999.00,9,  -999.0,-999.000
     33KB187_1,  PRS2,     2, 12,      4,   8004,2,20061109,2054, 22.6685,-158.0442, 4772,    226,    225.5,  17.3169,  34.7437,2,  34.7406,2,    195.0,1, 17.2793,   -999.0,9,  -999.00,9,  -999.00,9,  -999.00,9,  -999.0,-999.000
     33KB187_1,  PRS2,     2, 12,      3,   8003,2,20061109,2054, 22.6685,-158.0442, 4772,    248,    249.5,  16.1794,  34.6373,2,  34.6417,2,    199.2,1, 16.1396,   -999.0,9,  -999.00,9,  -999.00,9,  -999.00,9,  -999.0,-999.000
     33KB187_1,  PRS2,     2, 12,      2,   8002,2,20061109,2054, 22.6685,-158.0442, 4772,    526,    525.5,   7.4536,  34.0756,2,  34.0740,2,    118.5,1,  7.4022,   -999.0,9,  -999.00,9,  -999.00,9,  -999.00,9,  -999.0,-999.000
     33KB187_1,  PRS2,     2, 12,      1,   8001,2,20061109,2054, 22.6685,-158.0442, 4772,   1019,   1019.8,   3.9640,  34.4791,2,  34.4791,2,     41.1,1,  3.8870,   -999.0,9,  -999.00,9,  -999.00,9,  -999.00,9,  -999.0,-999.000