BOTTLE,20090923WHPSIOMYS
EXPOCODE,SECT_ID,STNNBR,CASTNO,SAMPNO,BTLNBR,BTLNBR_FLAG_W,DATE,TIME,LATITUDE,LONGITUDE,DEPTH,CTDRAW,CTDPRS,CTDTMP,CTDSAL,CTDSAL_FLAG_W,SALNTY,SALNTY_FLAG_W,CTDOXY,CTDOXY_FLAG_W,THETA,OXYGEN,OXYGEN_FLAG_W,SILCAT,SILCAT_FLAG_W,NO2+NO3,NO2+NO3_FLAG_W,PHSPHT,PHSPHT_FLAG_W,REVPRS,REVTMP
,,,,,,,,,,,,,DBAR,ITS-90,PSS-78,,PSS-78,,UMOL/KG,,ITS-90,UMOL/KG,,UMOL/KG,,UMOL/KG,,UMOL/KG,,DBAR,DEG C
     33KB187_1,  PRS2,     2,  6,     24,   8024,2,20061109,0304, 22.7430,-158.0872, 4766,      6,      6.5,  25.9910,  35.0374,2,-999.0000,5,    204.2,1, 25.9896,   -999.0,9,  -999.00,9,  -999.00,9,  -999.00,9,  -999.0,-999.000
     33KB187_1,  PRS2,     2,  6,     23,   8023,2,20061109,0304, 22.7430,-158.0872, 4766,      6,      6.8,  25.9874,  35.0378,2,  35.0374,2,    204.4,1, 25.9859,   -999.0,9,  -999.00,9,  -999.00,9,  -999.00,9,  -999.0,-999.000
     33KB187_1,  PRS2,     2,  6,     22,   8022,2,20061109,0304, 22.7430,-158.0872, 4766,     13,     13.6,  25.9918,  35.0370,2,  35.0384,2,    204.4,1, 25.9887,   -999.0,9,  -999.00,9,  -999.00,9,  -999.00,9,  -999.0,-999.000
     33KB187_1,  PRS2,     2,  6,     20,   8020,2,20061109,0304, 22.7430,-158.0872, 4766,     26,     25.7,  25.9880,  35.0369,2,  35.0504,3,    204.4,1, 25.9823,   -999.0,9,  -999.00,9,  -999.00,9,  -999.00,9,  -999.0,-999.000
     33KB187_1,  PRS2,     2,  6,     21,   8021,2,20061109,0304, 22.7430,-158.0872, 4766,     26,     25.8,  25.9835,  35.0371,2,-999.0000,5,    204.4,1, 25.9778,   -999.0,9,  -999.00,9,  -999.00,9,  -999.00,9,  -999.0,-999.000
     33KB187_1,  PRS2,     2,  6,     18,   8018,2,20061109,0304, 22.7430,-158.0872, 4766,     36,     36.3,  25.9861,  35.0363,2,  35.0386,2,    203.8,1, 25.9780,   -999.0,9,  -999.00,9,  -999.00,9,  -999.00,9,  -999.0,-999.000
     33KB187_1,  PRS2,     2,  6,     19,   8019,2,20061109,0304, 22.7430,-158.0872, 4766,     37,     36.4,  25.9675,  35.0383,2,-999.0000,5,    204.0,1, 25.9594,   -999.0,9,  -999.00,9,  -999.00,9,  -999.00,9,  -999.0,-999.000
     33KB187_1,  PRS2,     2,  6,     16,   8016,2,20061109,0304, 22.7430,-158.0872, 4766,     45,     45.6,  25.9670,  35.0442,2,  35.0441,2,    204.2,1, 25.9569,   -999.0,9,  -999.00,9,  -999.00,9,  -999.00,9,  -999.0,-999.000
     33KB187_1,  PRS2,     2,  6,     17,   8017,2,20061109,0304, 22.7430,-158.0872, 4766,     45,     45.7,  25.9657,  35.0446,2,-999.0000,5,    204.1,1, 25.9555,   -999.0,9,  -999.00,9,  -999.00,9,  -999.00,9,  -999.0,-999.000
     33KB187_1,  PRS2,     2,  6,     15,   8015,2,20061109,0304, 22.7430,-158.0872, 4766,     60,     60.6,  25.8024,  35.1411,2,  35.1421,2,    204.8,1, 25.7889,   -999.0,9,  -999.00,9,  -999.00,9,  -999.00,9,  -999.0,-999.000
     33KB187_1,  PRS2,     2,  6,     14,   8014,2,20061109,0304, 22.7430,-158.0872, 4766,     74,     74.3,  24.1900,  34.9480,2,-999.0000,5,    218.7,1, 24.1743,   -999.0,9,  -999.00,9,  -999.00,9,  -999.00,9,  -999.0,-999.000
     33KB187_1,  PRS2,     2,  6,     13,   8025,2,20061109,0304, 22.7430,-158.0872, 4766,     75,     74.3,  24.1819,  34.9525,2,-999.0000,5,    219.1,1, 24.1662,   -999.0,9,  -999.00,9,  -999.00,9,  -999.00,9,  -999.0,-999.000
     33KB187_1,  PRS2,     2,  6,     12,   8012,2,20061109,0304, 22.7430,-158.0872, 4766,     76,     74.7,  24.1653,  34.9632,2,  34.9565,2,    220.1,1, 24.1495,   -999.0,9,  -999.00,9,  -999.00,9,  -999.00,9,  -999.0,-999.000
     33KB187_1,  PRS2,     2,  6,     11,   8011,2,20061109,0304, 22.7430,-158.0872, 4766,    101,    100.6,  23.1228,  35.1855,2,-999.0000,5,    216.5,1, 23.1022,   -999.0,9,  -999.00,9,  -999.00,9,  -999.00,9,  -999.0,-999.000
     33KB187_1,  PRS2,     2,  6,     10,   8010,2,20061109,0304, 22.7430,-158.0872, 4766,    100,    100.7,  23.1186,  35.1855,2,  35.1817,2,    216.4,1, 23.0979,   -999.0,9,  -999.00,9,  -999.00,9,  -999.00,9,  -999.0,-999.000
     33KB187_1,  PRS2,     2,  6,      9,   8009,2,20061109,0304, 22.7430,-158.0872, 4766,    122,    124.1,  22.3517,  35.2456,2,-999.0000,5,    208.0,1, 22.3269,   -999.0,9,  -999.00,9,  -999.00,9,  -999.00,9,  -999.0,-999.000
     33KB187_1,  PRS2,     2,  6,      7,   8026,2,20061109,0304, 22.7430,-158.0872, 4766,    125,    124.5,  22.3378,  35.2460,2,  35.2444,2,    207.5,1, 22.3129,   -999.0,9,  -999.00,9,  -999.00,9,  -999.00,9,  -999.0,-999.000
     33KB187_1,  PRS2,     2,  6,      8,   8008,2,20061109,0304, 22.7430,-158.0872, 4766,    125,    124.6,  22.3410,  35.2450,2,-999.0000,5,    207.8,1, 22.3161,   -999.0,9,  -999.00,9,  -999.00,9,  -999.00,9,  -999.0,-999.000
     33KB187_1,  PRS2,     2,  6,      5,   8005,2,20061109,0304, 22.7430,-158.0872, 4766,    148,    149.2,  21.7852,  35.2778,2,  35.2771,2,    200.8,1, 21.7559,   -999.0,9,  -999.00,9,  -999.00,9,  -999.00,9,  -999.0,-999.000
     33KB187_1,  PRS2,     2,  6,      6,   8006,2,20061109,0304, 22.7430,-158.0872, 4766,    151,    149.4,  21.7877,  35.2774,2,-999.0000,5,    200.8,1, 21.7584,   -999.0,9,  -999.00,9,  -999.00,9,  -999.00,9,  -999.0,-999.000
     33KB187_1,  PRS2,     2,  6,      3,   8003,2,20061109,0304, 22.7430,-158.0872, 4766,    175,    175.3,  21.3775,  35.2754,2,  35.2808,2,    199.6,1, 21.3434,   -999.0,9,  -999.00,9,  -999.00,9,  -999.00,9,  -999.0,-999.000
     33KB187_1,  PRS2,     2,  6,      4,   8004,2,20061109,0304, 22.7430,-158.0872, 4766,    174,    175.5,  21.3800,  35.2757,2,-999.0000,5,    199.7,1, 21.3459,   -999.0,9,  -999.00,9,  -999.00,9,  -999.00,9,  -999.0,-999.000
     33KB187_1,  PRS2,     2,  6,      2,   8002,2,20061109,0304, 22.7430,-158.0872, 4766,    575,    576.1,   6.6619,  34.0519,2,  34.0515,2,    103.7,1,  6.6088,   -999.0,9,  -999.00,9,  -999.00,9,  -999.00,9,  -999.0,-999.000
     33KB187_1,  PRS2,     2,  6,      1,   8001,2,20061109,0304, 22.7430,-158.0872, 4766,   1018,   1019.4,   4.0079,  34.4731,2,  34.4738,2,     40.1,1,  3.9306,   -999.0,9,  -999.00,9,  -999.00,9,  -999.00,9,  -999.0,-999.000
     33KB187_1,  PRS2,     2,  7,     21,   8021,2,20061109,0556, 22.7493,-158.0002, 4747,      5,      6.9,  25.9901,  35.1370,2,  35.1356,2,    204.2,1, 25.9886,   -999.0,9,  -999.00,9,  -999.00,9,  -999.00,9,  -999.0,-999.000
     33KB187_1,  PRS2,     2,  7,     22,   8022,2,20061109,0556, 22.7493,-158.0002, 4747,      6,      7.4,  25.9890,  35.1372,2,-999.0000,5,    204.2,1, 25.9874,   -999.0,9,  -999.00,9,  -999.00,9,  -999.00,9,  -999.0,-999.000
     33KB187_1,  PRS2,     2,  7,     20,   8020,2,20061109,0556, 22.7493,-158.0002, 4747,     25,     25.3,  25.9798,  35.1399,2,-999.0000,5,    204.1,1, 25.9741,   -999.0,9,  -999.00,9,  -999.00,9,  -999.00,9,  -999.0,-999.000
     33KB187_1,  PRS2,     2,  7,     19,   8019,2,20061109,0556, 22.7493,-158.0002, 4747,     26,     25.5,  25.9736,  35.1408,2,  35.1413,2,    204.1,1, 25.9679,   -999.0,9,  -999.00,9,  -999.00,9,  -999.00,9,  -999.0,-999.000
     33KB187_1,  PRS2,     2,  7,     18,   8018,2,20061109,0556, 22.7493,-158.0002, 4747,     43,     44.7,  25.8960,  35.1534,2,-999.0000,5,    204.1,1, 25.8860,   -999.0,9,  -999.00,9,  -999.00,9,  -999.00,9,  -999.0,-999.000
     33KB187_1,  PRS2,     2,  7,     17,   8017,2,20061109,0556, 22.7493,-158.0002, 4747,     43,     44.8,  25.8961,  35.1534,2,  35.1522,2,    204.1,1, 25.8862,   -999.0,9,  -999.00,9,  -999.00,9,  -999.00,9,  -999.0,-999.000
     33KB187_1,  PRS2,     2,  7,     16,   8016,3,20061109,0556, 22.7493,-158.0002, 4747,     59,     60.2,  25.8190,  35.1501,2,  35.1547,2,    205.1,1, 25.8057,   -999.0,9,  -999.00,9,  -999.00,9,  -999.00,9,  -999.0,-999.000
     33KB187_1,  PRS2,     2,  7,     15,   8015,2,20061109,0556, 22.7493,-158.0002, 4747,     75,     74.4,  24.0605,  35.1373,2,-999.0000,5,    221.6,1, 24.0448,   -999.0,9,  -999.00,9,  -999.00,9,  -999.00,9,  -999.0,-999.000
     33KB187_1,  PRS2,     2,  7,     14,   8014,2,20061109,0556, 22.7493,-158.0002, 4747,     74,     74.4,  24.0538,  35.1386,2,  35.1453,2,    221.5,1, 24.0381,   -999.0,9,  -999.00,9,  -999.00,9,  -999.00,9,  -999.0,-999.000
     33KB187_1,  PRS2,     2,  7,     13,   8025,2,20061109,0556, 22.7493,-158.0002, 4747,     86,     85.9,  23.3215,  35.1785,2,  35.1744,2,    215.4,1, 23.3038,   -999.0,9,  -999.00,9,  -999.00,9,  -999.00,9,  -999.0,-999.000
     33KB187_1,  PRS2,     2,  7,     12,   8012,2,20061109,0556, 22.7493,-158.0002, 4747,    101,    100.7,  22.7463,  35.2158,2,-999.0000,5,    212.4,1, 22.7259,   -999.0,9,  -999.00,9,  -999.00,9,  -999.00,9,  -999.0,-999.000
     33KB187_1,  PRS2,     2,  7,     11,   8011,2,20061109,0556, 22.7493,-158.0002, 4747,    101,    100.7,  22.7443,  35.2160,2,  35.2168,2,    212.2,1, 22.7239,   -999.0,9,  -999.00,9,  -999.00,9,  -999.00,9,  -999.0,-999.000
     33KB187_1,  PRS2,     2,  7,     10,   8010,2,20061109,0556, 22.7493,-158.0002, 4747,    115,    114.7,  22.3900,  35.2420,2,  35.2412,2,    207.8,1, 22.3670,   -999.0,9,  -999.00,9,  -999.00,9,  -999.00,9,  -999.0,-999.000
     33KB187_1,  PRS2,     2,  7,      9,   8009,2,20061109,0556, 22.7493,-158.0002, 4747,    125,    124.4,  22.2316,  35.2573,2,-999.0000,5,    207.2,1, 22.2068,   -999.0,9,  -999.00,9,  -999.00,9,  -999.00,9,  -999.0,-999.000
     33KB187_1,  PRS2,     2,  7,      8,   8008,2,20061109,0556, 22.7493,-158.0002, 4747,    124,    124.6,  22.2312,  35.2573,2,  35.2576,2,    207.1,1, 22.2063,   -999.0,9,  -999.00,9,  -999.00,9,  -999.00,9,  -999.0,-999.000
     33KB187_1,  PRS2,     2,  7,      7,   8026,2,20061109,0556, 22.7493,-158.0002, 4747,    133,    134.3,  21.9761,  35.2700,2,  35.2721,2,    203.0,1, 21.9495,   -999.0,9,  -999.00,9,  -999.00,9,  -999.00,9,  -999.0,-999.000
     33KB187_1,  PRS2,     2,  7,      6,   8006,2,20061109,0556, 22.7493,-158.0002, 4747,    151,    151.0,  21.5808,  35.2722,2,-999.0000,5,    200.1,1, 21.5513,   -999.0,9,  -999.00,9,  -999.00,9,  -999.00,9,  -999.0,-999.000
     33KB187_1,  PRS2,     2,  7,      5,   8005,2,20061109,0556, 22.7493,-158.0002, 4747,    150,    151.0,  21.5791,  35.2721,2,  35.2725,2,    200.3,1, 21.5496,   -999.0,9,  -999.00,9,  -999.00,9,  -999.00,9,  -999.0,-999.000
     33KB187_1,  PRS2,     2,  7,      3,   8003,2,20061109,0556, 22.7493,-158.0002, 4747,    175,    175.1,  20.8972,  35.2210,2,  35.2188,2,    196.8,1, 20.8638,   -999.0,9,  -999.00,9,  -999.00,9,  -999.00,9,  -999.0,-999.000
     33KB187_1,  PRS2,     2,  7,      4,   8004,2,20061109,0556, 22.7493,-158.0002, 4747,    175,    175.2,  20.9118,  35.2227,2,-999.0000,5,    196.7,1, 20.8783,   -999.0,9,  -999.00,9,  -999.00,9,  -999.00,9,  -999.0,-999.000
     33KB187_1,  PRS2,     2,  7,      2,   8002,2,20061109,0556, 22.7493,-158.0002, 4747,    539,    539.6,   7.1916,  34.0585,2,  34.0580,2,    117.8,1,  7.1398,   -999.0,9,  -999.00,9,  -999.00,9,  -999.00,9,  -999.0,-999.000
     33KB187_1,  PRS2,     2,  7,      1,   8001,2,20061109,0556, 22.7493,-158.0002, 4747,   1022,   1021.2,   3.9788,  34.4736,2,  34.4765,2,     39.6,1,  3.9016,   -999.0,9,  -999.00,9,  -999.00,9,  -999.00,9,  -999.0,-999.000
     33KB187_1,  PRS2,     2,  8,     22,   8022,2,20061109,0855, 22.7515,-157.9938, 4748,      9,      8.8,  25.9387,  35.1155,2,  35.1156,2,    205.3,2, 25.9367,    204.0,2,  -999.00,9,  -999.00,9,  -999.00,9,  -999.0,-999.000
     33KB187_1,  PRS2,     2,  8,     23,   8023,2,20061109,0855, 22.7515,-157.9938, 4748,      8,      9.0,  25.9385,  35.1153,2,  35.1165,2,    205.3,2, 25.9365,   -999.0,5,  -999.00,9,  -999.00,9,  -999.00,9,  -999.0,-999.000
     33KB187_1,  PRS2,     2,  8,     21,   8021,2,20061109,0855, 22.7515,-157.9938, 4748,     16,     15.6,  25.9416,  35.1168,2,  35.1221,2,    204.9,2, 25.9382,   -999.0,5,  -999.00,9,  -999.00,9,  -999.00,9,  -999.0,-999.000
     33KB187_1,  PRS2,     2,  8,     19,   8019,2,20061109,0855, 22.7515,-157.9938, 4748,     26,     25.8,  25.9437,  35.1167,2,  35.1159,2,    204.7,2, 25.9379,    204.3,2,  -999.00,9,  -999.00,9,  -999.00,9,  -999.0,-999.000
     33KB187_1,  PRS2,     2,  8,     20,   8020,2,20061109,0855, 22.7515,-157.9938, 4748,     26,     26.1,  25.9432,  35.1167,2,  35.1177,2,    204.8,2, 25.9374,   -999.0,5,  -999.00,9,  -999.00,9,  -999.00,9,  -999.0,-999.000
     33KB187_1,  PRS2,     2,  8,     18,   8018,2,20061109,0855, 22.7515,-157.9938, 4748,     35,     35.2,  25.9428,  35.1192,2,  35.1154,2,    204.3,2, 25.9350,   -999.0,5,  -999.00,9,  -999.00,9,  -999.00,9,  -999.0,-999.000
     33KB187_1,  PRS2,     2,  8,     17,   8017,2,20061109,0855, 22.7515,-157.9938, 4748,     45,     45.0,  25.9406,  35.1240,2,  35.1232,2,    204.1,2, 25.9306,    204.0,2,  -999.00,9,  -999.00,9,  -999.00,9,  -999.0,-999.000
     33KB187_1,  PRS2,     2,  8,     16,   8016,2,20061109,0855, 22.7515,-157.9938, 4748,     60,     61.0,  25.8270,  35.1478,2,  35.1482,2,    204.6,2, 25.8135,   -999.0,5,  -999.00,9,  -999.00,9,  -999.00,9,  -999.0,-999.000
     33KB187_1,  PRS2,     2,  8,     15,   8015,2,20061109,0855, 22.7515,-157.9938, 4748,     75,     75.2,  25.0596,  35.1470,2,  35.1484,2,    213.9,2, 25.0432,    212.9,2,  -999.00,9,  -999.00,9,  -999.00,9,  -999.0,-999.000
     33KB187_1,  PRS2,     2,  8,     14,   8014,2,20061109,0855, 22.7515,-157.9938, 4748,     85,     86.0,  24.0844,  35.1628,2,  35.1569,2,    221.4,2, 24.0663,    220.7,2,  -999.00,9,  -999.00,9,  -999.00,9,  -999.0,-999.000
     33KB187_1,  PRS2,     2,  8,     13,   8025,2,20061109,0855, 22.7515,-157.9938, 4748,     90,     90.0,  23.6766,  35.1597,2,  35.1601,2,    219.6,2, 23.6579,   -999.0,5,  -999.00,9,  -999.00,9,  -999.00,9,  -999.0,-999.000
     33KB187_1,  PRS2,     2,  8,     12,   8012,2,20061109,0855, 22.7515,-157.9938, 4748,     99,    100.5,  23.1092,  35.1918,2,  35.1908,2,    214.8,2, 23.0886,    215.7,2,  -999.00,9,  -999.00,9,  -999.00,9,  -999.0,-999.000
     33KB187_1,  PRS2,     2,  8,     11,   8011,2,20061109,0855, 22.7515,-157.9938, 4748,    109,    111.0,  22.7570,  35.2133,2,  35.2115,2,    212.4,2, 22.7345,   -999.0,5,  -999.00,9,  -999.00,9,  -999.00,9,  -999.0,-999.000
     33KB187_1,  PRS2,     2,  8,     10,   8010,2,20061109,0855, 22.7515,-157.9938, 4748,    114,    115.6,  22.6349,  35.2217,2,  35.2207,2,    210.9,2, 22.6115,    211.2,2,  -999.00,9,  -999.00,9,  -999.00,9,  -999.0,-999.000
     33KB187_1,  PRS2,     2,  8,      9,   8009,2,20061109,0855, 22.7515,-157.9938, 4748,    124,    125.2,  22.3680,  35.2468,2,  35.2452,2,    208.1,2, 22.3430,    209.1,2,  -999.00,9,  -999.00,9,  -999.00,9,  -999.0,-999.000
     33KB187_1,  PRS2,     2,  8,      8,   8008,2,20061109,0855, 22.7515,-157.9938, 4748,    131,    130.7,  22.2866,  35.2551,2,  35.2536,2,    207.6,2, 22.2605,   -999.0,5,  -999.00,9,  -999.00,9,  -999.00,9,  -999.0,-999.000
     33KB187_1,  PRS2,     2,  8,      7,   8026,2,20061109,0855, 22.7515,-157.9938, 4748,    151,    151.5,  21.5987,  35.2726,2,  35.2729,2,    199.9,2, 21.5691,    200.2,2,  -999.00,9,  -999.00,9,  -999.00,9,  -999.0,-999.000
     33KB187_1,  PRS2,     2,  8,      6,   8006,2,20061109,0855, 22.7515,-157.9938, 4748,    164,    165.0,  21.1606,  35.2477,2,  35.2467,2,    196.9,2, 21.1288,    197.3,2,  -999.00,9,  -999.00,9,  -999.00,9,  -999.0,-999.000
     33KB187_1,  PRS2,     2,  8,      5,   8005,2,20061109,0855, 22.7515,-157.9938, 4748,    177,    176.3,  20.7277,  35.2000,2,  35.2061,2,    196.2,2, 20.6942,    196.1,2,  -999.00,9,  -999.00,9,  -999.00,9,  -999.0,-999.000
     33KB187_1,  PRS2,     2,  8,      4,   8004,2,20061109,0855, 22.7515,-157.9938, 4748,    202,    201.5,  19.4960,  35.0496,2,  35.0514,2,    199.2,2, 19.4594,    198.8,2,  -999.00,9,  -999.00,9,  -999.00,9,  -999.0,-999.000
     33KB187_1,  PRS2,     2,  8,      3,   8003,2,20061109,0855, 22.7515,-157.9938, 4748,    578,    579.8,   6.7488,  34.0598,2,  34.0590,2,    102.9,2,  6.6949,    100.2,2,  -999.00,9,  -999.00,9,  -999.00,9,  -999.0,-999.000
     33KB187_1,  PRS2,     2,  8,      2,   8002,2,20061109,0855, 22.7515,-157.9938, 4748,    801,    800.0,   4.6293,  34.3311,2,  34.3301,2,     26.7,2,  4.5664,     26.1,2,  -999.00,9,  -999.00,9,  -999.00,9,  -999.0,-999.000
     33KB187_1,  PRS2,     2,  8,      1,   8001,2,20061109,0855, 22.7515,-157.9938, 4748,   1021,   1021.3,   3.8867,  34.4884,2,  34.4911,2,     42.0,2,  3.8102,     42.2,2,  -999.00,9,  -999.00,9,  -999.00,9,  -999.0,-999.000