BOTTLE,20090923WHPSIOMYS
#code : jjward hyd_to_exchange.pl 
#original files copied from HTML directory: 20090923
#original HYD file: 33KB187_1_hy.txt   Wed Sep 23 18:00:21 2009
#original SUM file: ../33KB187_1su.txt   Wed Sep 23 18:00:20 2009
EXPOCODE,SECT_ID,STNNBR,CASTNO,SAMPNO,BTLNBR,BTLNBR_FLAG_W,DATE,TIME,LATITUDE,LONGITUDE,DEPTH,CTDRAW,CTDPRS,CTDTMP,CTDSAL,CTDSAL_FLAG_W,SALNTY,SALNTY_FLAG_W,CTDOXY,CTDOXY_FLAG_W,THETA,OXYGEN,OXYGEN_FLAG_W,SILCAT,SILCAT_FLAG_W,NO2+NO3,NO2+NO3_FLAG_W,PHSPHT,PHSPHT_FLAG_W,REVPRS,REVTMP
,,,,,,,,,,,,,DBAR,ITS-90,PSS-78,,PSS-78,,UMOL/KG,,ITS-90,UMOL/KG,,UMOL/KG,,UMOL/KG,,UMOL/KG,,DBAR,DEG C
     33KB187_1,  PRS2,     1,  1,     23,   8023,2,20061107,2255, 21.3432,-158.2745, 1639,      5,      6.3,  27.1456,  34.9822,2,  34.9841,2,    201.0,2, 27.1441,    200.9,2,  -999.00,9,  -999.00,9,  -999.00,9,  -999.0,-999.000
     33KB187_1,  PRS2,     1,  1,     24,   8024,2,20061107,2255, 21.3432,-158.2745, 1639,      7,      6.6,  27.1456,  34.9819,2,-999.0000,5,    201.0,2, 27.1441,    201.0,2,  -999.00,9,  -999.00,9,  -999.00,9,  -999.0,-999.000
     33KB187_1,  PRS2,     1,  1,     22,   8022,2,20061107,2255, 21.3432,-158.2745, 1639,     25,     25.8,  26.8682,  34.9712,2,  34.9703,2,    201.0,2, 26.8623,    201.0,2,  -999.00,9,  -999.00,9,  -999.00,9,  -999.0,-999.000
     33KB187_1,  PRS2,     1,  1,     21,   8021,2,20061107,2255, 21.3432,-158.2745, 1639,     45,     46.1,  26.8494,  34.9724,2,  34.9724,2,    201.2,2, 26.8389,    200.9,2,  -999.00,9,  -999.00,9,  -999.00,9,  -999.0,-999.000
     33KB187_1,  PRS2,     1,  1,     20,   8020,2,20061107,2255, 21.3432,-158.2745, 1639,     60,     60.7,  26.5840,  34.9605,2,  34.9782,3,    202.4,3, 26.5703,    202.4,2,  -999.00,9,  -999.00,9,  -999.00,9,  -999.0,-999.000
     33KB187_1,  PRS2,     1,  1,     19,   8019,2,20061107,2255, 21.3432,-158.2745, 1639,     76,     76.1,  26.1920,  35.0691,2,  35.0693,2,    203.4,2, 26.1749,    203.0,2,  -999.00,9,  -999.00,9,  -999.00,9,  -999.0,-999.000
     33KB187_1,  PRS2,     1,  1,     18,   8018,2,20061107,2255, 21.3432,-158.2745, 1639,    101,    101.2,  24.5571,  34.8934,2,  34.9018,2,    213.0,2, 24.5354,    212.6,2,  -999.00,9,  -999.00,9,  -999.00,9,  -999.0,-999.000
     33KB187_1,  PRS2,     1,  1,     17,   8017,2,20061107,2255, 21.3432,-158.2745, 1639,    114,    115.8,  23.0239,  34.9312,2,  34.9286,2,    208.8,2, 23.0002,    209.3,2,  -999.00,9,  -999.00,9,  -999.00,9,  -999.0,-999.000
     33KB187_1,  PRS2,     1,  1,     16,   8016,2,20061107,2255, 21.3432,-158.2745, 1639,    124,    125.1,  22.6605,  35.0590,2,  35.0616,2,    204.9,2, 22.6353,    205.7,2,  -999.00,9,  -999.00,9,  -999.00,9,  -999.0,-999.000
     33KB187_1,  PRS2,     1,  1,     15,   8015,2,20061107,2255, 21.3432,-158.2745, 1639,    149,    150.3,  21.6319,  35.1465,2,  35.1437,2,    199.2,2, 21.6025,    199.2,2,  -999.00,9,  -999.00,9,  -999.00,9,  -999.0,-999.000
     33KB187_1,  PRS2,     1,  1,     14,   8014,2,20061107,2255, 21.3432,-158.2745, 1639,    174,    175.6,  20.4310,  35.0229,2,  35.0248,2,    193.3,2, 20.3981,    192.9,2,  -999.00,9,  -999.00,9,  -999.00,9,  -999.0,-999.000
     33KB187_1,  PRS2,     1,  1,     13,   8025,2,20061107,2255, 21.3432,-158.2745, 1639,    201,    200.3,  19.3398,  34.9818,2,  34.9805,2,    194.7,2, 19.3036,    193.8,2,  -999.00,9,  -999.00,9,  -999.00,9,  -999.0,-999.000
     33KB187_1,  PRS2,     1,  1,     12,   8012,2,20061107,2255, 21.3432,-158.2745, 1639,    225,    225.8,  17.3433,  34.7243,2,  34.7172,2,    190.9,2, 17.3056,    192.3,2,  -999.00,9,  -999.00,9,  -999.00,9,  -999.0,-999.000
     33KB187_1,  PRS2,     1,  1,     11,   8011,2,20061107,2255, 21.3432,-158.2745, 1639,    250,    250.5,  15.6107,  34.5518,2,  34.5490,2,    196.0,2, 15.5718,    197.2,2,  -999.00,9,  -999.00,9,  -999.00,9,  -999.0,-999.000
     33KB187_1,  PRS2,     1,  1,     10,   8010,2,20061107,2255, 21.3432,-158.2745, 1639,    295,    296.6,  12.5501,  34.2329,2,  34.2324,2,    191.7,2, 12.5104,    190.2,2,  -999.00,9,  -999.00,9,  -999.00,9,  -999.0,-999.000
     33KB187_1,  PRS2,     1,  1,      9,   8009,2,20061107,2255, 21.3432,-158.2745, 1639,    351,    350.9,  10.9013,  34.1802,2,  34.1803,2,    179.0,2, 10.8584,    173.2,3,  -999.00,9,  -999.00,9,  -999.00,9,  -999.0,-999.000
     33KB187_1,  PRS2,     1,  1,      8,   8008,2,20061107,2255, 21.3432,-158.2745, 1639,    399,    400.8,   9.3390,  34.1452,2,  34.1452,2,    141.1,2,  9.2944,    141.6,2,  -999.00,9,  -999.00,9,  -999.00,9,  -999.0,-999.000
     33KB187_1,  PRS2,     1,  1,      7,   8026,2,20061107,2255, 21.3432,-158.2745, 1639,    498,    499.6,   6.9253,  34.1688,2,  34.1699,2,     70.6,2,  6.8784,     69.2,2,  -999.00,9,  -999.00,9,  -999.00,9,  -999.0,-999.000
     33KB187_1,  PRS2,     1,  1,      6,   8006,2,20061107,2255, 21.3432,-158.2745, 1639,    601,    600.3,   5.9807,  34.2699,2,  34.2697,2,     38.7,2,  5.9282,     39.2,2,  -999.00,9,  -999.00,9,  -999.00,9,  -999.0,-999.000
     33KB187_1,  PRS2,     1,  1,      5,   8005,2,20061107,2255, 21.3432,-158.2745, 1639,    699,    700.9,   5.3817,  34.3526,2,  34.3523,2,     32.0,2,  5.3230,     31.8,2,  -999.00,9,  -999.00,9,  -999.00,9,  -999.0,-999.000
     33KB187_1,  PRS2,     1,  1,      4,   8004,2,20061107,2255, 21.3432,-158.2745, 1639,    750,    750.7,   5.1246,  34.3794,2,  34.3831,2,     33.7,2,  5.0629,     33.8,2,  -999.00,9,  -999.00,9,  -999.00,9,  -999.0,-999.000
     33KB187_1,  PRS2,     1,  1,      3,   8003,2,20061107,2255, 21.3432,-158.2745, 1639,    799,    800.6,   4.8532,  34.4256,2,  34.4257,2,     34.9,2,  4.7886,     35.2,2,  -999.00,9,  -999.00,9,  -999.00,9,  -999.0,-999.000
     33KB187_1,  PRS2,     1,  1,      2,   8002,2,20061107,2255, 21.3432,-158.2745, 1639,    899,    900.2,   4.4870,  34.4765,2,  34.4758,2,     39.2,2,  4.4162,     39.8,2,  -999.00,9,  -999.00,9,  -999.00,9,  -999.0,-999.000
     33KB187_1,  PRS2,     1,  1,      1,   8001,2,20061107,2255, 21.3432,-158.2745, 1639,   1019,   1020.1,   4.0957,  34.5066,2,  34.5072,2,     44.7,2,  4.0176,     44.4,2,  -999.00,9,  -999.00,9,  -999.00,9,  -999.0,-999.000
     33KB187_1,  PRS2,     2,  1,     21,   8021,2,20061108,1001, 22.7503,-157.9927, 4741,      7,      7.6,  25.9817,  35.0334,2,-999.0000,9,    204.5,1, 25.9800,   -999.0,9,  -999.00,9,  -999.00,9,  -999.00,9,  -999.0,-999.000
     33KB187_1,  PRS2,     2,  1,     22,   8022,2,20061108,1001, 22.7503,-157.9927, 4741,      9,      7.7,  25.9819,  35.0336,2,-999.0000,9,    204.5,1, 25.9802,   -999.0,9,  -999.00,9,  -999.00,9,  -999.00,9,  -999.0,-999.000
     33KB187_1,  PRS2,     2,  1,     23,   8023,2,20061108,1001, 22.7503,-157.9927, 4741,      8,      7.8,  25.9824,  35.0337,2,-999.0000,9,    204.5,1, 25.9806,   -999.0,9,  -999.00,9,  -999.00,9,  -999.00,9,  -999.0,-999.000
     33KB187_1,  PRS2,     2,  1,     20,   8020,2,20061108,1001, 22.7503,-157.9927, 4741,      6,      7.8,  25.9818,  35.0331,2,-999.0000,9,    204.6,1, 25.9801,   -999.0,9,  -999.00,9,  -999.00,9,  -999.00,9,  -999.0,-999.000
     33KB187_1,  PRS2,     2,  1,     19,   8019,2,20061108,1001, 22.7503,-157.9927, 4741,      8,      7.8,  25.9817,  35.0329,2,-999.0000,9,    204.6,1, 25.9800,   -999.0,9,  -999.00,9,  -999.00,9,  -999.00,9,  -999.0,-999.000
     33KB187_1,  PRS2,     2,  1,     24,   8024,2,20061108,1001, 22.7503,-157.9927, 4741,      9,      8.0,  25.9813,  35.0338,2,-999.0000,9,    204.5,1, 25.9795,   -999.0,9,  -999.00,9,  -999.00,9,  -999.00,9,  -999.0,-999.000
     33KB187_1,  PRS2,     2,  1,     18,   8018,2,20061108,1001, 22.7503,-157.9927, 4741,     24,     25.3,  25.9846,  35.0333,2,-999.0000,9,    204.6,1, 25.9789,   -999.0,9,  -999.00,9,  -999.00,9,  -999.00,9,  -999.0,-999.000
     33KB187_1,  PRS2,     2,  1,     17,   8017,2,20061108,1001, 22.7503,-157.9927, 4741,     24,     25.7,  25.9851,  35.0327,2,-999.0000,9,    204.6,1, 25.9794,   -999.0,9,  -999.00,9,  -999.00,9,  -999.00,9,  -999.0,-999.000
     33KB187_1,  PRS2,     2,  1,     16,   8016,2,20061108,1001, 22.7503,-157.9927, 4741,     25,     25.7,  25.9847,  35.0331,2,-999.0000,9,    204.6,1, 25.9790,   -999.0,9,  -999.00,9,  -999.00,9,  -999.00,9,  -999.0,-999.000
     33KB187_1,  PRS2,     2,  1,     15,   8015,2,20061108,1001, 22.7503,-157.9927, 4741,     25,     25.7,  25.9849,  35.0328,2,-999.0000,9,    204.5,1, 25.9792,   -999.0,9,  -999.00,9,  -999.00,9,  -999.00,9,  -999.0,-999.000
     33KB187_1,  PRS2,     2,  1,     14,   8014,2,20061108,1001, 22.7503,-157.9927, 4741,     26,     25.7,  25.9838,  35.0336,2,-999.0000,9,    204.5,1, 25.9781,   -999.0,9,  -999.00,9,  -999.00,9,  -999.00,9,  -999.0,-999.000
     33KB187_1,  PRS2,     2,  1,     13,   8025,2,20061108,1001, 22.7503,-157.9927, 4741,     25,     25.8,  25.9820,  35.0346,2,-999.0000,9,    204.5,1, 25.9762,   -999.0,9,  -999.00,9,  -999.00,9,  -999.00,9,  -999.0,-999.000
     33KB187_1,  PRS2,     2,  1,     12,   8012,2,20061108,1001, 22.7503,-157.9927, 4741,     26,     25.8,  25.9823,  35.0344,2,-999.0000,9,    204.5,1, 25.9766,   -999.0,9,  -999.00,9,  -999.00,9,  -999.00,9,  -999.0,-999.000
     33KB187_1,  PRS2,     2,  1,     11,   8011,2,20061108,1001, 22.7503,-157.9927, 4741,     44,     45.1,  25.8856,  35.1221,2,-999.0000,9,    205.3,1, 25.8756,   -999.0,9,  -999.00,9,  -999.00,9,  -999.00,9,  -999.0,-999.000
     33KB187_1,  PRS2,     2,  1,     10,   8010,2,20061108,1001, 22.7503,-157.9927, 4741,     45,     45.2,  25.8854,  35.1221,2,-999.0000,9,    205.2,1, 25.8754,   -999.0,9,  -999.00,9,  -999.00,9,  -999.00,9,  -999.0,-999.000
     33KB187_1,  PRS2,     2,  1,      4,   8004,2,20061108,1001, 22.7503,-157.9927, 4741,     46,     45.2,  25.8854,  35.1209,2,-999.0000,9,    204.8,1, 25.8753,   -999.0,9,  -999.00,9,  -999.00,9,  -999.00,9,  -999.0,-999.000
     33KB187_1,  PRS2,     2,  1,      3,   8003,2,20061108,1001, 22.7503,-157.9927, 4741,     46,     45.3,  25.8859,  35.1216,2,-999.0000,9,    204.8,1, 25.8758,   -999.0,9,  -999.00,9,  -999.00,9,  -999.00,9,  -999.0,-999.000
     33KB187_1,  PRS2,     2,  1,      2,   8002,2,20061108,1001, 22.7503,-157.9927, 4741,     45,     45.3,  25.8870,  35.1210,2,-999.0000,9,    204.8,1, 25.8770,   -999.0,9,  -999.00,9,  -999.00,9,  -999.00,9,  -999.0,-999.000
     33KB187_1,  PRS2,     2,  1,      1,   8001,2,20061108,1001, 22.7503,-157.9927, 4741,     45,     45.3,  25.8868,  35.1199,2,-999.0000,9,    204.7,1, 25.8768,   -999.0,9,  -999.00,9,  -999.00,9,  -999.00,9,  -999.0,-999.000
     33KB187_1,  PRS2,     2,  1,      9,   8009,2,20061108,1001, 22.7503,-157.9927, 4741,     45,     45.4,  25.8847,  35.1224,2,-999.0000,9,    205.1,1, 25.8746,   -999.0,9,  -999.00,9,  -999.00,9,  -999.00,9,  -999.0,-999.000
     33KB187_1,  PRS2,     2,  1,      8,   8008,2,20061108,1001, 22.7503,-157.9927, 4741,     45,     45.5,  25.8843,  35.1224,2,-999.0000,9,    205.1,1, 25.8742,   -999.0,9,  -999.00,9,  -999.00,9,  -999.00,9,  -999.0,-999.000
     33KB187_1,  PRS2,     2,  1,      7,   8026,2,20061108,1001, 22.7503,-157.9927, 4741,     45,     45.5,  25.8842,  35.1223,2,-999.0000,9,    205.0,1, 25.8741,   -999.0,9,  -999.00,9,  -999.00,9,  -999.00,9,  -999.0,-999.000
     33KB187_1,  PRS2,     2,  1,      6,   8006,2,20061108,1001, 22.7503,-157.9927, 4741,     45,     45.5,  25.8836,  35.1228,2,-999.0000,9,    204.9,1, 25.8735,   -999.0,9,  -999.00,9,  -999.00,9,  -999.00,9,  -999.0,-999.000
     33KB187_1,  PRS2,     2,  1,      5,   8005,2,20061108,1001, 22.7503,-157.9927, 4741,     45,     45.6,  25.8850,  35.1217,2,-999.0000,9,    204.8,1, 25.8749,   -999.0,9,  -999.00,9,  -999.00,9,  -999.00,9,  -999.0,-999.000
     33KB187_1,  PRS2,     2,  2,     20,   8020,2,20061108,1135, 22.7503,-157.9927, 4739,     75,     75.8,  25.4865,  35.1489,2,-999.0000,9,    207.5,1, 25.4698,   -999.0,9,  -999.00,9,  -999.00,9,  -999.00,9,  -999.0,-999.000
     33KB187_1,  PRS2,     2,  2,     15,   8015,2,20061108,1135, 22.7503,-157.9927, 4739,     76,     75.8,  25.4613,  35.1497,2,-999.0000,9,    211.5,1, 25.4446,   -999.0,9,  -999.00,9,  -999.00,9,  -999.00,9,  -999.0,-999.000
     33KB187_1,  PRS2,     2,  2,     16,   8016,2,20061108,1135, 22.7503,-157.9927, 4739,     75,     75.9,  25.4831,  35.1463,2,-999.0000,9,    210.6,1, 25.4665,   -999.0,9,  -999.00,9,  -999.00,9,  -999.00,9,  -999.0,-999.000
     33KB187_1,  PRS2,     2,  2,     21,   8021,2,20061108,1135, 22.7503,-157.9927, 4739,     75,     76.0,  25.5139,  35.1490,2,-999.0000,9,    207.1,1, 25.4971,   -999.0,9,  -999.00,9,  -999.00,9,  -999.00,9,  -999.0,-999.000
     33KB187_1,  PRS2,     2,  2,     19,   8019,2,20061108,1135, 22.7503,-157.9927, 4739,     76,     76.0,  25.4865,  35.1488,2,-999.0000,9,    208.1,1, 25.4697,   -999.0,9,  -999.00,9,  -999.00,9,  -999.00,9,  -999.0,-999.000
     33KB187_1,  PRS2,     2,  2,     18,   8018,2,20061108,1135, 22.7503,-157.9927, 4739,     76,     76.0,  25.4898,  35.1491,2,-999.0000,9,    208.8,1, 25.4731,   -999.0,9,  -999.00,9,  -999.00,9,  -999.00,9,  -999.0,-999.000
     33KB187_1,  PRS2,     2,  2,     17,   8017,2,20061108,1135, 22.7503,-157.9927, 4739,     77,     76.0,  25.4834,  35.1492,2,-999.0000,9,    209.7,1, 25.4667,   -999.0,9,  -999.00,9,  -999.00,9,  -999.00,9,  -999.0,-999.000
     33KB187_1,  PRS2,     2,  2,     13,   8025,2,20061108,1135, 22.7503,-157.9927, 4739,    101,    100.7,  23.2835,  35.1751,2,-999.0000,9,    215.4,1, 23.2628,   -999.0,9,  -999.00,9,  -999.00,9,  -999.00,9,  -999.0,-999.000
     33KB187_1,  PRS2,     2,  2,      9,   8009,2,20061108,1135, 22.7503,-157.9927, 4739,    101,    100.9,  23.2839,  35.1747,2,-999.0000,9,    214.7,1, 23.2631,   -999.0,9,  -999.00,9,  -999.00,9,  -999.00,9,  -999.0,-999.000
     33KB187_1,  PRS2,     2,  2,     14,   8014,2,20061108,1135, 22.7503,-157.9927, 4739,    100,    101.0,  23.2769,  35.1751,2,-999.0000,9,    215.6,1, 23.2561,   -999.0,9,  -999.00,9,  -999.00,9,  -999.00,9,  -999.0,-999.000
     33KB187_1,  PRS2,     2,  2,     12,   8012,2,20061108,1135, 22.7503,-157.9927, 4739,    100,    101.1,  23.2784,  35.1749,2,-999.0000,9,    215.1,1, 23.2576,   -999.0,9,  -999.00,9,  -999.00,9,  -999.00,9,  -999.0,-999.000
     33KB187_1,  PRS2,     2,  2,      8,   8008,2,20061108,1135, 22.7503,-157.9927, 4739,    101,    101.1,  23.2830,  35.1745,2,-999.0000,9,    214.6,1, 23.2621,   -999.0,9,  -999.00,9,  -999.00,9,  -999.00,9,  -999.0,-999.000
     33KB187_1,  PRS2,     2,  2,     11,   8011,2,20061108,1135, 22.7503,-157.9927, 4739,    101,    101.2,  23.2750,  35.1751,2,-999.0000,9,    215.0,1, 23.2542,   -999.0,9,  -999.00,9,  -999.00,9,  -999.00,9,  -999.0,-999.000
     33KB187_1,  PRS2,     2,  2,     10,   8010,2,20061108,1135, 22.7503,-157.9927, 4739,    101,    101.2,  23.2749,  35.1751,2,-999.0000,9,    214.8,1, 23.2541,   -999.0,9,  -999.00,9,  -999.00,9,  -999.00,9,  -999.0,-999.000
     33KB187_1,  PRS2,     2,  2,      3,   8003,2,20061108,1135, 22.7503,-157.9927, 4739,    126,    126.4,  22.2757,  35.2417,2,-999.0000,9,    204.6,1, 22.2505,   -999.0,9,  -999.00,9,  -999.00,9,  -999.00,9,  -999.0,-999.000
     33KB187_1,  PRS2,     2,  2,      1,   8001,2,20061108,1135, 22.7503,-157.9927, 4739,    127,    126.4,  22.2828,  35.2402,2,-999.0000,9,    204.0,1, 22.2576,   -999.0,9,  -999.00,9,  -999.00,9,  -999.00,9,  -999.0,-999.000
     33KB187_1,  PRS2,     2,  2,      2,   8002,2,20061108,1135, 22.7503,-157.9927, 4739,    127,    126.6,  22.2816,  35.2402,2,-999.0000,9,    204.3,1, 22.2563,   -999.0,9,  -999.00,9,  -999.00,9,  -999.00,9,  -999.0,-999.000
     33KB187_1,  PRS2,     2,  2,      7,   8026,2,20061108,1135, 22.7503,-157.9927, 4739,    127,    126.7,  22.2648,  35.2415,2,-999.0000,9,    205.1,1, 22.2395,   -999.0,9,  -999.00,9,  -999.00,9,  -999.00,9,  -999.0,-999.000
     33KB187_1,  PRS2,     2,  2,      6,   8006,2,20061108,1135, 22.7503,-157.9927, 4739,    127,    126.7,  22.2648,  35.2419,2,-999.0000,9,    205.1,1, 22.2395,   -999.0,9,  -999.00,9,  -999.00,9,  -999.00,9,  -999.0,-999.000
     33KB187_1,  PRS2,     2,  2,      5,   8005,2,20061108,1135, 22.7503,-157.9927, 4739,    127,    126.7,  22.2655,  35.2419,2,-999.0000,9,    205.0,1, 22.2402,   -999.0,9,  -999.00,9,  -999.00,9,  -999.00,9,  -999.0,-999.000
     33KB187_1,  PRS2,     2,  2,      4,   8004,2,20061108,1135, 22.7503,-157.9927, 4739,    126,    126.7,  22.2668,  35.2414,2,-999.0000,9,    204.8,1, 22.2415,   -999.0,9,  -999.00,9,  -999.00,9,  -999.00,9,  -999.0,-999.000