BOTTLE,20090923WHPSIOMYS
EXPOCODE,SECT_ID,STNNBR,CASTNO,SAMPNO,BTLNBR,BTLNBR_FLAG_W,DATE,TIME,LATITUDE,LONGITUDE,DEPTH,CTDRAW,CTDPRS,CTDTMP,CTDSAL,CTDSAL_FLAG_W,SALNTY,SALNTY_FLAG_W,CTDOXY,CTDOXY_FLAG_W,THETA,OXYGEN,OXYGEN_FLAG_W,SILCAT,SILCAT_FLAG_W,NO2+NO3,NO2+NO3_FLAG_W,PHSPHT,PHSPHT_FLAG_W,REVPRS,REVTMP
,,,,,,,,,,,,,DBAR,ITS-90,PSS-78,,PSS-78,,UMOL/KG,,ITS-90,UMOL/KG,,UMOL/KG,,UMOL/KG,,UMOL/KG,,DBAR,DEG C
     33KB201_1,  PRS2,     2, 15,     22,   8022,2,20080529,0557, 22.7498,-158.0000, 4743,      5,      6.5,  25.5818,  34.8597,2,-999.0000,5,    208.3,1, 25.5804,   -999.0,9,  -999.00,9,  -999.00,9,  -999.00,9,  -999.0,-999.000
     33KB201_1,  PRS2,     2, 15,     21,   8021,2,20080529,0557, 22.7498,-158.0000, 4743,      6,      7.2,  25.5780,  34.8596,2,  34.8599,2,    208.4,1, 25.5764,   -999.0,9,  -999.00,9,  -999.00,9,  -999.00,9,  -999.0,-999.000
     33KB201_1,  PRS2,     2, 15,     20,   8020,2,20080529,0557, 22.7498,-158.0000, 4743,     25,     26.2,  24.6499,  35.0116,2,-999.0000,5,    215.4,1, 24.6443,   -999.0,9,  -999.00,9,  -999.00,9,  -999.00,9,  -999.0,-999.000
     33KB201_1,  PRS2,     2, 15,     19,   8019,2,20080529,0557, 22.7498,-158.0000, 4743,     25,     26.3,  24.6501,  35.0132,2,  35.0254,2,    215.5,1, 24.6444,   -999.0,9,  -999.00,9,  -999.00,9,  -999.00,9,  -999.0,-999.000
     33KB201_1,  PRS2,     2, 15,     18,   8018,2,20080529,0557, 22.7498,-158.0000, 4743,     44,     45.4,  24.2696,  35.0972,2,-999.0000,5,    216.1,1, 24.2599,   -999.0,9,  -999.00,9,  -999.00,9,  -999.00,9,  -999.0,-999.000
     33KB201_1,  PRS2,     2, 15,     17,   8017,2,20080529,0557, 22.7498,-158.0000, 4743,     44,     45.5,  24.2678,  35.0973,2,  35.0965,2,    216.2,1, 24.2582,   -999.0,9,  -999.00,9,  -999.00,9,  -999.00,9,  -999.0,-999.000
     33KB201_1,  PRS2,     2, 15,     16,   8016,2,20080529,0557, 22.7498,-158.0000, 4743,     60,     60.5,  23.7456,  35.1506,2,  35.1510,2,    218.8,1, 23.7329,   -999.0,9,  -999.00,9,  -999.00,9,  -999.00,9,  -999.0,-999.000
     33KB201_1,  PRS2,     2, 15,     14,   8014,2,20080529,0557, 22.7498,-158.0000, 4743,     76,     75.5,  23.4692,  35.2030,2,  35.2030,2,    217.1,1, 23.4536,   -999.0,9,  -999.00,9,  -999.00,9,  -999.00,9,  -999.0,-999.000
     33KB201_1,  PRS2,     2, 15,     15,   8015,2,20080529,0557, 22.7498,-158.0000, 4743,     75,     75.7,  23.4694,  35.2028,2,-999.0000,5,    217.1,1, 23.4537,   -999.0,9,  -999.00,9,  -999.00,9,  -999.00,9,  -999.0,-999.000
     33KB201_1,  PRS2,     2, 15,     13,   8025,2,20080529,0557, 22.7498,-158.0000, 4743,     84,     86.0,  22.9651,  35.2393,2,  35.2371,2,    213.6,1, 22.9476,   -999.0,9,  -999.00,9,  -999.00,9,  -999.00,9,  -999.0,-999.000
     33KB201_1,  PRS2,     2, 15,     12,   8012,2,20080529,0557, 22.7498,-158.0000, 4743,    100,    100.5,  22.9141,  35.2772,2,-999.0000,5,    214.9,1, 22.8937,   -999.0,9,  -999.00,9,  -999.00,9,  -999.00,9,  -999.0,-999.000
     33KB201_1,  PRS2,     2, 15,     11,   8011,2,20080529,0557, 22.7498,-158.0000, 4743,     99,    100.5,  22.9129,  35.2772,2,  35.2747,2,    215.1,1, 22.8924,   -999.0,9,  -999.00,9,  -999.00,9,  -999.00,9,  -999.0,-999.000
     33KB201_1,  PRS2,     2, 15,     10,   8010,2,20080529,0557, 22.7498,-158.0000, 4743,    114,    114.8,  22.5785,  35.3061,2,  35.3045,2,    216.4,1, 22.5554,   -999.0,9,  -999.00,9,  -999.00,9,  -999.00,9,  -999.0,-999.000
     33KB201_1,  PRS2,     2, 15,      8,   8008,2,20080529,0557, 22.7498,-158.0000, 4743,    123,    124.3,  22.4727,  35.3133,2,  35.3122,2,    214.5,1, 22.4477,   -999.0,9,  -999.00,9,  -999.00,9,  -999.00,9,  -999.0,-999.000
     33KB201_1,  PRS2,     2, 15,      9,   8009,2,20080529,0557, 22.7498,-158.0000, 4743,    123,    124.4,  22.4695,  35.3142,2,-999.0000,5,    214.6,1, 22.4445,   -999.0,9,  -999.00,9,  -999.00,9,  -999.00,9,  -999.0,-999.000
     33KB201_1,  PRS2,     2, 15,      7,   8026,2,20080529,0557, 22.7498,-158.0000, 4743,    135,    135.4,  22.1721,  35.3156,2,  35.3167,2,    212.3,1, 22.1451,   -999.0,9,  -999.00,9,  -999.00,9,  -999.00,9,  -999.0,-999.000
     33KB201_1,  PRS2,     2, 15,      5,   8005,2,20080529,0557, 22.7498,-158.0000, 4743,    150,    150.7,  21.8980,  35.3175,2,  35.3151,2,    210.9,1, 21.8683,   -999.0,9,  -999.00,9,  -999.00,9,  -999.00,9,  -999.0,-999.000
     33KB201_1,  PRS2,     2, 15,      6,   8006,2,20080529,0557, 22.7498,-158.0000, 4743,    150,    150.8,  21.8967,  35.3179,2,-999.0000,5,    211.1,1, 21.8669,   -999.0,9,  -999.00,9,  -999.00,9,  -999.00,9,  -999.0,-999.000
     33KB201_1,  PRS2,     2, 15,      4,   8004,2,20080529,0557, 22.7498,-158.0000, 4743,    174,    174.9,  20.4471,  35.1463,2,-999.0000,5,    196.1,1, 20.4143,   -999.0,9,  -999.00,9,  -999.00,9,  -999.00,9,  -999.0,-999.000
     33KB201_1,  PRS2,     2, 15,      3,   8003,2,20080529,0557, 22.7498,-158.0000, 4743,    174,    174.9,  20.4337,  35.1440,2,  35.1498,2,    196.4,1, 20.4009,   -999.0,9,  -999.00,9,  -999.00,9,  -999.00,9,  -999.0,-999.000
     33KB201_1,  PRS2,     2, 15,      2,   8002,2,20080529,0557, 22.7498,-158.0000, 4743,    530,    529.9,   6.8652,  34.0591,2,  34.0601,2,    103.3,1,  6.8157,   -999.0,9,  -999.00,9,  -999.00,9,  -999.00,9,  -999.0,-999.000
     33KB201_1,  PRS2,     2, 15,      1,   8001,2,20080529,0557, 22.7498,-158.0000, 4743,   1020,   1020.9,   3.8965,  34.4682,2,  34.4665,2,     42.5,1,  3.8200,   -999.0,9,  -999.00,9,  -999.00,9,  -999.00,9,  -999.0,-999.000
     33KB201_1,  PRS2,     2, 16,     24,   8024,2,20080529,0859, 22.7498,-158.0012, 4743,      6,      7.6,  25.4609,  34.8540,2,  34.8550,2,    208.7,2, 25.4592,    208.3,2,  -999.00,9,  -999.00,9,  -999.00,9,  -999.0,-999.000
     33KB201_1,  PRS2,     2, 16,     23,   8023,2,20080529,0859, 22.7498,-158.0012, 4743,     12,     12.4,  25.4609,  34.8543,2,-999.0000,5,    208.5,2, 25.4582,   -999.0,5,  -999.00,9,  -999.00,9,  -999.00,9,  -999.0,-999.000
     33KB201_1,  PRS2,     2, 16,     22,   8022,4,20080529,0859, 22.7498,-158.0012, 4743,     75,     76.0,  23.4948,  35.1926,2,-999.0000,5,    217.3,2, 23.4791,   -999.0,5,  -999.00,9,  -999.00,9,  -999.00,9,  -999.0,-999.000
     33KB201_1,  PRS2,     2, 16,     21,   8021,2,20080529,0859, 22.7498,-158.0012, 4743,     75,     76.0,  23.4931,  35.1932,2,  35.1894,2,    217.3,2, 23.4773,    217.1,2,  -999.00,9,  -999.00,9,  -999.00,9,  -999.0,-999.000
     33KB201_1,  PRS2,     2, 16,     20,   8020,2,20080529,0859, 22.7498,-158.0012, 4743,    101,    100.9,  23.0829,  35.2345,2,-999.0000,5,    214.8,2, 23.0623,   -999.0,5,  -999.00,9,  -999.00,9,  -999.00,9,  -999.0,-999.000
     33KB201_1,  PRS2,     2, 16,     19,   8019,2,20080529,0859, 22.7498,-158.0012, 4743,    126,    126.5,  22.6695,  35.2578,2,  35.2617,2,    215.8,2, 22.6440,   -999.0,5,  -999.00,9,  -999.00,9,  -999.00,9,  -999.0,-999.000
     33KB201_1,  PRS2,     2, 16,     18,   8018,2,20080529,0859, 22.7498,-158.0012, 4743,    176,    176.8,  20.8203,  35.1770,2,-999.0000,5,    200.0,2, 20.7866,   -999.0,5,  -999.00,9,  -999.00,9,  -999.00,9,  -999.0,-999.000
     33KB201_1,  PRS2,     2, 16,     17,   8017,2,20080529,0859, 22.7498,-158.0012, 4743,    400,    400.4,   9.4382,  34.1241,2,-999.0000,5,    160.9,2,  9.3934,   -999.0,5,  -999.00,9,  -999.00,9,  -999.00,9,  -999.0,-999.000
     33KB201_1,  PRS2,     2, 16,     16,   8016,2,20080529,0859, 22.7498,-158.0012, 4743,    530,    531.0,   6.8651,  34.0596,2,  34.0613,2,    104.6,2,  6.8155,    101.5,2,  -999.00,9,  -999.00,9,  -999.00,9,  -999.0,-999.000
     33KB201_1,  PRS2,     2, 16,     15,   8015,2,20080529,0859, 22.7498,-158.0012, 4743,    601,    601.7,   5.7082,  34.0862,2,-999.0000,5,     66.3,2,  5.6570,   -999.0,5,  -999.00,9,  -999.00,9,  -999.00,9,  -999.0,-999.000
     33KB201_1,  PRS2,     2, 16,     14,   8014,2,20080529,0859, 22.7498,-158.0012, 4743,    759,    760.2,   4.7623,  34.3086,2,  34.3087,2,     28.9,2,  4.7019,     27.5,2,  -999.00,9,  -999.00,9,  -999.00,9,  -999.0,-999.000
     33KB201_1,  PRS2,     2, 16,     13,   8025,2,20080529,0859, 22.7498,-158.0012, 4743,    799,    800.9,   4.5717,  34.3227,2,-999.0000,5,     28.6,2,  4.5090,   -999.0,5,  -999.00,9,  -999.00,9,  -999.00,9,  -999.0,-999.000
     33KB201_1,  PRS2,     2, 16,     12,   8012,2,20080529,0859, 22.7498,-158.0012, 4743,   1001,   1001.4,   3.8808,  34.4621,2,  34.4636,2,     42.1,2,  3.8060,   -999.0,5,  -999.00,9,  -999.00,9,  -999.00,9,  -999.0,-999.000
     33KB201_1,  PRS2,     2, 16,     11,   8011,2,20080529,0859, 22.7498,-158.0012, 4743,   1001,   1001.4,   3.8806,  34.4621,2,-999.0000,5,     42.1,2,  3.8058,   -999.0,5,  -999.00,9,  -999.00,9,  -999.00,9,  -999.0,-999.000
     33KB201_1,  PRS2,     2, 16,      8,   8008,2,20080529,0859, 22.7498,-158.0012, 4743,   2000,   2001.4,   2.1220,  34.6176,2,  34.6164,2,     85.8,2,  1.9837,     86.4,2,  -999.00,9,  -999.00,9,  -999.00,9,  -999.0,-999.000
     33KB201_1,  PRS2,     2, 16,     10,   8010,2,20080529,0859, 22.7498,-158.0012, 4743,   2000,   2001.5,   2.1222,  34.6177,2,-999.0000,5,     85.8,2,  1.9838,   -999.0,5,  -999.00,9,  -999.00,9,  -999.00,9,  -999.0,-999.000
     33KB201_1,  PRS2,     2, 16,      9,   8009,2,20080529,0859, 22.7498,-158.0012, 4743,   2000,   2001.6,   2.1222,  34.6176,2,-999.0000,5,     85.8,2,  1.9838,   -999.0,5,  -999.00,9,  -999.00,9,  -999.00,9,  -999.0,-999.000
     33KB201_1,  PRS2,     2, 16,      7,   8026,2,20080529,0859, 22.7498,-158.0012, 4743,   3000,   3000.5,   1.5565,  34.6698,2,-999.0000,5,    123.4,2,  1.3384,   -999.0,5,  -999.00,9,  -999.00,9,  -999.00,9,  -999.0,-999.000
     33KB201_1,  PRS2,     2, 16,      6,   8006,2,20080529,0859, 22.7498,-158.0012, 4743,   3000,   3000.5,   1.5562,  34.6698,2,-999.0000,5,    123.4,2,  1.3382,   -999.0,5,  -999.00,9,  -999.00,9,  -999.00,9,  -999.0,-999.000
     33KB201_1,  PRS2,     2, 16,      5,   8005,2,20080529,0859, 22.7498,-158.0012, 4743,   2999,   3000.5,   1.5561,  34.6698,2,  34.6698,2,    123.4,2,  1.3381,    123.7,2,  -999.00,9,  -999.00,9,  -999.00,9,  -999.0,-999.000
     33KB201_1,  PRS2,     2, 16,      4,   8004,2,20080529,0859, 22.7498,-158.0012, 4743,   3998,   3999.3,   1.4618,  34.6872,2,-999.0000,5,    147.3,2,  1.1440,   -999.0,5,  -999.00,9,  -999.00,9,  -999.00,9,  -999.0,-999.000
     33KB201_1,  PRS2,     2, 16,      2,   8002,2,20080529,0859, 22.7498,-158.0012, 4743,   3999,   3999.5,   1.4617,  34.6870,2,  34.6871,2,    147.3,2,  1.1439,    147.0,2,  -999.00,9,  -999.00,9,  -999.00,9,  -999.0,-999.000
     33KB201_1,  PRS2,     2, 16,      3,   8003,2,20080529,0859, 22.7498,-158.0012, 4743,   3998,   3999.6,   1.4616,  34.6870,2,-999.0000,5,    147.3,2,  1.1438,   -999.0,5,  -999.00,9,  -999.00,9,  -999.00,9,  -999.0,-999.000
     33KB201_1,  PRS2,     2, 16,      1,   8001,2,20080529,0859, 22.7498,-158.0012, 4743,   4810,   4809.9,   1.5083,  34.6914,2,  34.6924,2,    154.0,2,  1.0967,    154.0,2,  -999.00,9,  -999.00,9,  -999.00,9,  -999.0,-999.000
     33KB201_1,  PRS2,     6,  1,     13,   8025,2,20080530,0510, 21.8463,-158.3640, 2433,      7,      8.2,  25.7347,  34.8823,2,  34.8835,2,    209.2,1, 25.7329,   -999.0,9,  -999.00,9,  -999.00,9,  -999.00,9,  -999.0,-999.000
     33KB201_1,  PRS2,     6,  1,     12,   8012,2,20080530,0510, 21.8463,-158.3640, 2433,     25,     25.6,  25.7022,  34.8912,2,  34.8902,2,    209.0,1, 25.6966,   -999.0,9,  -999.00,9,  -999.00,9,  -999.00,9,  -999.0,-999.000
     33KB201_1,  PRS2,     6,  1,     11,   8011,2,20080530,0510, 21.8463,-158.3640, 2433,     44,     45.3,  25.4944,  34.9527,2,  34.9528,2,    209.7,1, 25.4845,   -999.0,9,  -999.00,9,  -999.00,9,  -999.00,9,  -999.0,-999.000
     33KB201_1,  PRS2,     6,  1,     10,   8010,2,20080530,0510, 21.8463,-158.3640, 2433,     76,     76.3,  24.4344,  35.1878,2,  35.1853,2,    213.7,1, 24.4181,   -999.0,9,  -999.00,9,  -999.00,9,  -999.00,9,  -999.0,-999.000
     33KB201_1,  PRS2,     6,  1,      9,   8009,2,20080530,0510, 21.8463,-158.3640, 2433,     99,     99.3,  23.4499,  35.2039,2,  35.2048,2,    213.5,1, 23.4293,   -999.0,9,  -999.00,9,  -999.00,9,  -999.00,9,  -999.0,-999.000
     33KB201_1,  PRS2,     6,  1,      8,   8008,2,20080530,0510, 21.8463,-158.3640, 2433,    125,    125.7,  22.2434,  35.2371,2,  35.2371,2,    203.3,1, 22.2183,   -999.0,9,  -999.00,9,  -999.00,9,  -999.00,9,  -999.0,-999.000
     33KB201_1,  PRS2,     6,  1,      7,   8026,2,20080530,0510, 21.8463,-158.3640, 2433,    150,    151.0,  20.8461,  35.1396,2,  35.1410,2,    192.3,1, 20.8173,   -999.0,9,  -999.00,9,  -999.00,9,  -999.00,9,  -999.0,-999.000
     33KB201_1,  PRS2,     6,  1,      6,   8006,2,20080530,0510, 21.8463,-158.3640, 2433,    178,    178.1,  18.7034,  34.9019,2,  34.9038,2,    191.0,1, 18.6720,   -999.0,9,  -999.00,9,  -999.00,9,  -999.00,9,  -999.0,-999.000
     33KB201_1,  PRS2,     6,  1,      5,   8005,2,20080530,0510, 21.8463,-158.3640, 2433,    500,    500.1,   6.6673,  34.0746,2,  34.0752,2,    106.4,1,  6.6214,   -999.0,9,  -999.00,9,  -999.00,9,  -999.00,9,  -999.0,-999.000
     33KB201_1,  PRS2,     6,  1,      4,   8004,2,20080530,0510, 21.8463,-158.3640, 2433,    998,   1000.0,   4.0770,  34.4823,2,  34.4822,2,     44.3,1,  4.0008,   -999.0,9,  -999.00,9,  -999.00,9,  -999.00,9,  -999.0,-999.000
     33KB201_1,  PRS2,     6,  1,      3,   8003,2,20080530,0510, 21.8463,-158.3640, 2433,   1501,   1500.2,   2.9761,  34.5669,2,  34.5669,2,     64.8,1,  2.8685,   -999.0,9,  -999.00,9,  -999.00,9,  -999.00,9,  -999.0,-999.000
     33KB201_1,  PRS2,     6,  1,      2,   8002,2,20080530,0510, 21.8463,-158.3640, 2433,   2000,   1999.9,   2.1514,  34.6201,2,  34.6205,2,     89.7,1,  2.0127,   -999.0,9,  -999.00,9,  -999.00,9,  -999.00,9,  -999.0,-999.000
     33KB201_1,  PRS2,     6,  1,      1,   8001,2,20080530,0510, 21.8463,-158.3640, 2433,   2451,   2451.5,   1.7757,  34.6492,2,  34.6504,2,    108.1,1,  1.6040,   -999.0,9,  -999.00,9,  -999.00,9,  -999.00,9,  -999.0,-999.000
     33KB201_1,  PRS2,    52,  1,      8,   8008,2,20080529,1901, 22.6597,-157.9807, 4747,     15,     15.4,  25.3329,  34.8326,2,-999.0000,9,    208.9,1, 25.3295,   -999.0,9,  -999.00,9,  -999.00,9,  -999.00,9,  -999.0,-999.000
     33KB201_1,  PRS2,    52,  1,      6,   8006,2,20080529,1901, 22.6597,-157.9807, 4747,     30,     30.2,  24.5620,  35.0826,2,-999.0000,9,    214.4,1, 24.5556,   -999.0,9,  -999.00,9,  -999.00,9,  -999.00,9,  -999.0,-999.000
     33KB201_1,  PRS2,    52,  1,      5,   8005,2,20080529,1901, 22.6597,-157.9807, 4747,     30,     30.3,  24.5622,  35.0827,2,-999.0000,9,    214.6,1, 24.5557,   -999.0,9,  -999.00,9,  -999.00,9,  -999.00,9,  -999.0,-999.000
     33KB201_1,  PRS2,    52,  1,      4,   8004,2,20080529,1901, 22.6597,-157.9807, 4747,     30,     30.3,  24.5684,  35.0837,2,-999.0000,9,    214.7,1, 24.5619,   -999.0,9,  -999.00,9,  -999.00,9,  -999.00,9,  -999.0,-999.000
     33KB201_1,  PRS2,    52,  1,      7,   8026,2,20080529,1901, 22.6597,-157.9807, 4747,     29,     30.4,  24.5542,  35.0822,2,-999.0000,9,    214.4,1, 24.5477,   -999.0,9,  -999.00,9,  -999.00,9,  -999.00,9,  -999.0,-999.000
     33KB201_1,  PRS2,    52,  1,      3,   8003,2,20080529,1901, 22.6597,-157.9807, 4747,     40,     40.9,  24.3186,  35.1168,2,-999.0000,9,    216.0,1, 24.3099,   -999.0,9,  -999.00,9,  -999.00,9,  -999.00,9,  -999.0,-999.000
     33KB201_1,  PRS2,    52,  1,      1,   8001,2,20080529,1901, 22.6597,-157.9807, 4747,     70,     70.5,  23.7124,  35.1638,2,-999.0000,9,    218.7,1, 23.6977,   -999.0,9,  -999.00,9,  -999.00,9,  -999.00,9,  -999.0,-999.000
     33KB201_1,  PRS2,    52,  1,      2,   8002,2,20080529,1901, 22.6597,-157.9807, 4747,     70,     70.7,  23.7156,  35.1635,2,-999.0000,9,    218.7,1, 23.7009,   -999.0,9,  -999.00,9,  -999.00,9,  -999.00,9,  -999.0,-999.000