BOTTLE,20090923WHPSIOMYS
EXPOCODE,SECT_ID,STNNBR,CASTNO,SAMPNO,BTLNBR,BTLNBR_FLAG_W,DATE,TIME,LATITUDE,LONGITUDE,DEPTH,CTDRAW,CTDPRS,CTDTMP,CTDSAL,CTDSAL_FLAG_W,SALNTY,SALNTY_FLAG_W,CTDOXY,CTDOXY_FLAG_W,THETA,OXYGEN,OXYGEN_FLAG_W,SILCAT,SILCAT_FLAG_W,NO2+NO3,NO2+NO3_FLAG_W,PHSPHT,PHSPHT_FLAG_W,REVPRS,REVTMP
,,,,,,,,,,,,,DBAR,ITS-90,PSS-78,,PSS-78,,UMOL/KG,,ITS-90,UMOL/KG,,UMOL/KG,,UMOL/KG,,UMOL/KG,,DBAR,DEG C
     33KB201_1,  PRS2,     2,  3,     24,   8024,2,20080527,1454, 22.7497,-158.0007, 4743,      8,      8.8,  25.4122,  34.8701,2,  34.8772,2,    209.1,2, 25.4103,    208.1,2,     1.49,2,     0.04,2,     0.08,2,  -999.0,-999.000
     33KB201_1,  PRS2,     2,  3,     23,   8023,2,20080527,1454, 22.7497,-158.0007, 4743,    500,    500.4,   7.7255,  34.0688,2,  34.0697,2,    135.8,2,  7.6756,    129.9,2,    41.02,2,    27.09,2,     1.93,2,  -999.0,-999.000
     33KB201_1,  PRS2,     2,  3,     22,   8022,2,20080527,1454, 22.7497,-158.0007, 4743,    749,    750.5,   4.8172,  34.3121,2,  34.3119,2,     27.1,2,  4.7573,     26.5,2,    90.58,2,    41.33,2,     3.00,2,  -999.0,-999.000
     33KB201_1,  PRS2,     2,  3,     21,   8021,2,20080527,1454, 22.7497,-158.0007, 4743,    999,    999.7,   3.9327,  34.4720,2,  34.4714,2,     41.4,2,  3.8576,     41.6,2,   108.03,2,    41.74,2,     2.99,2,  -999.0,-999.000
     33KB201_1,  PRS2,     2,  3,     20,   8020,2,20080527,1454, 22.7497,-158.0007, 4743,   1198,   1199.4,   3.4021,  34.5227,2,  34.5229,2,     53.2,2,  3.3150,     53.1,2,   122.64,2,    41.52,2,     2.96,2,  -999.0,-999.000
     33KB201_1,  PRS2,     2,  3,     19,   8019,2,20080527,1454, 22.7497,-158.0007, 4743,   1399,   1400.2,   2.9584,  34.5591,2,  34.5588,2,     63.0,2,  2.8593,     63.3,2,   133.46,2,    41.25,2,     2.92,2,  -999.0,-999.000
     33KB201_1,  PRS2,     2,  3,     18,   8018,2,20080527,1454, 22.7497,-158.0007, 4743,   1599,   1599.6,   2.5606,  34.5871,2,  34.5865,2,     73.5,2,  2.4497,     73.7,2,   141.20,2,    40.72,2,     2.87,2,  -999.0,-999.000
     33KB201_1,  PRS2,     2,  3,     17,   8017,2,20080527,1454, 22.7497,-158.0007, 4743,   1799,   1800.0,   2.2788,  34.6061,2,  34.6052,2,     81.6,2,  2.1551,     82.9,2,   148.17,2,    40.25,2,     2.83,2,  -999.0,-999.000
     33KB201_1,  PRS2,     2,  3,     16,   8016,2,20080527,1454, 22.7497,-158.0007, 4743,   1999,   1999.4,   2.0814,  34.6203,2,  34.6211,2,     87.3,2,  1.9439,     87.3,2,   153.79,2,    39.89,2,     2.80,2,  -999.0,-999.000
     33KB201_1,  PRS2,     2,  3,     15,   8015,2,20080527,1454, 22.7497,-158.0007, 4743,   2199,   2200.5,   1.8909,  34.6368,2,  34.6376,2,     97.1,2,  1.7391,     97.8,2,   156.22,2,    39.28,2,     2.75,2,  -999.0,-999.000
     33KB201_1,  PRS2,     2,  3,     14,   8014,2,20080527,1454, 22.7497,-158.0007, 4743,   2397,   2398.8,   1.7842,  34.6466,2,  34.6472,2,    103.4,2,  1.6170,    104.2,2,   158.48,2,    38.92,2,     2.73,2,  -999.0,-999.000
     33KB201_1,  PRS2,     2,  3,     13,   8025,2,20080527,1454, 22.7497,-158.0007, 4743,   2599,   2600.7,   1.6841,  34.6559,2,  34.6569,2,    110.5,2,  1.5007,    110.7,2,   159.00,2,    38.63,2,     2.70,2,  -999.0,-999.000
     33KB201_1,  PRS2,     2,  3,     12,   8012,2,20080527,1454, 22.7497,-158.0007, 4743,   2798,   2798.7,   1.6096,  34.6640,2,  34.6650,2,    117.3,2,  1.4095,    118.4,2,   159.97,2,    38.07,2,     2.66,2,  -999.0,-999.000
     33KB201_1,  PRS2,     2,  3,     11,   8011,2,20080527,1454, 22.7497,-158.0007, 4743,   2999,   3000.6,   1.5544,  34.6708,2,  34.6712,2,    125.2,2,  1.3364,    126.2,2,   157.46,2,    37.53,2,     2.61,2,  -999.0,-999.000
     33KB201_1,  PRS2,     2,  3,     10,   8010,2,20080527,1454, 22.7497,-158.0007, 4743,   3198,   3198.9,   1.5118,  34.6758,2,  34.6757,2,    131.2,2,  1.2755,    131.6,2,   156.28,2,    37.33,2,     2.60,2,  -999.0,-999.000
     33KB201_1,  PRS2,     2,  3,      9,   8009,2,20080527,1454, 22.7497,-158.0007, 4743,   3400,   3399.9,   1.4778,  34.6800,2,  34.6796,2,    136.9,2,  1.2224,    137.5,2,   155.24,2,    36.50,2,     2.53,2,  -999.0,-999.000
     33KB201_1,  PRS2,     2,  3,      8,   8008,2,20080527,1454, 22.7497,-158.0007, 4743,   3598,   3598.5,   1.4651,  34.6829,2,  34.6832,2,    141.0,2,  1.1898,    141.0,2,   155.72,2,    36.62,2,     2.54,2,  -999.0,-999.000
     33KB201_1,  PRS2,     2,  3,      7,   8026,2,20080527,1454, 22.7497,-158.0007, 4743,   3798,   3799.1,   1.4583,  34.6858,2,  34.6857,2,    144.7,2,  1.1621,    144.3,2,   152.46,2,    36.29,2,     2.51,2,  -999.0,-999.000
     33KB201_1,  PRS2,     2,  3,      6,   8006,2,20080527,1454, 22.7497,-158.0007, 4743,   4000,   4001.0,   1.4574,  34.6877,2,  34.6883,2,    147.9,2,  1.1396,    147.8,2,   150.81,2,    36.10,2,     2.50,2,  -999.0,-999.000
     33KB201_1,  PRS2,     2,  3,      5,   8005,2,20080527,1454, 22.7497,-158.0007, 4743,   4199,   4199.2,   1.4671,  34.6889,2,  34.6889,2,    149.8,2,  1.1272,    149.5,2,   149.69,2,    36.09,2,     2.49,2,  -999.0,-999.000
     33KB201_1,  PRS2,     2,  3,      4,   8004,2,20080527,1454, 22.7497,-158.0007, 4743,   4400,   4400.8,   1.4784,  34.6902,2,  34.6901,2,    152.1,2,  1.1154,    151.1,2,   148.69,2,    35.91,2,     2.48,2,  -999.0,-999.000
     33KB201_1,  PRS2,     2,  3,      3,   8003,2,20080527,1454, 22.7497,-158.0007, 4743,   4499,   4499.7,   1.4869,  34.6904,2,  34.6910,2,    152.2,2,  1.1124,    152.0,2,   148.55,2,    35.81,2,     2.48,2,  -999.0,-999.000
     33KB201_1,  PRS2,     2,  3,      2,   8002,2,20080527,1454, 22.7497,-158.0007, 4743,   4598,   4599.1,   1.4955,  34.6905,2,  34.6905,2,    152.8,2,  1.1092,    152.7,2,   149.70,2,    35.72,2,     2.48,2,  -999.0,-999.000
     33KB201_1,  PRS2,     2,  3,      1,   8001,2,20080527,1454, 22.7497,-158.0007, 4743,   4801,   4801.1,   1.5077,  34.6915,2,  34.6924,2,    154.6,2,  1.0971,    154.2,2,   148.72,2,    35.59,2,     2.48,2,  -999.0,-999.000
     33KB201_1,  PRS2,     2,  4,     24,   8024,2,20080527,2058, 22.7497,-158.0028, 4742,      6,      6.2,  25.5050,  34.8567,2,  34.8558,2,    208.2,2, 25.5036,    208.4,2,     1.16,2,     0.07,2,     0.08,2,  -999.0,-999.000
     33KB201_1,  PRS2,     2,  4,     23,   8023,2,20080527,2058, 22.7497,-158.0028, 4742,     16,     17.3,  25.4087,  34.8600,2,  34.8709,2,    208.1,2, 25.4049,    209.5,2,     1.35,2,     0.15,3,     0.08,2,  -999.0,-999.000
     33KB201_1,  PRS2,     2,  4,     22,   8022,2,20080527,2058, 22.7497,-158.0028, 4742,     65,     64.9,  23.9114,  35.1530,2,  35.1534,2,    217.4,2, 23.8978,    216.9,2,     1.17,2,     0.18,3,     0.02,2,  -999.0,-999.000
     33KB201_1,  PRS2,     2,  4,     21,   8021,2,20080527,2058, 22.7497,-158.0028, 4742,    107,    107.7,  22.9425,  35.2699,2,  35.2710,2,    219.9,2, 22.9206,    219.7,2,     1.26,2,     0.15,2,     0.01,2,  -999.0,-999.000
     33KB201_1,  PRS2,     2,  4,     20,   8020,2,20080527,2058, 22.7497,-158.0028, 4742,    147,    148.5,  22.0756,  35.2603,2,  35.2593,2,    210.7,2, 22.0461,    210.5,2,     1.60,2,     0.21,2,     0.03,2,  -999.0,-999.000
     33KB201_1,  PRS2,     2,  4,     19,   8019,2,20080527,2058, 22.7497,-158.0028, 4742,    203,    203.7,  19.1638,  34.9429,2,  34.9351,2,    188.4,2, 19.1272,    189.1,2,     2.49,2,     3.23,3,     0.25,2,  -999.0,-999.000
     33KB201_1,  PRS2,     2,  4,     18,   8018,2,20080527,2058, 22.7497,-158.0028, 4742,    253,    253.4,  15.4632,  34.5249,2,  34.5070,2,    190.8,2, 15.4241,    193.7,2,     5.54,2,     6.80,2,     0.50,2,  -999.0,-999.000
     33KB201_1,  PRS2,     2,  4,     17,   8017,2,20080527,2058, 22.7497,-158.0028, 4742,    320,    320.4,  11.9589,  34.1922,2,  34.1946,2,    199.1,2, 11.9174,    185.9,2,    11.78,2,    12.90,2,     0.94,2,  -999.0,-999.000
     33KB201_1,  PRS2,     2,  4,     16,   8016,2,20080527,2058, 22.7497,-158.0028, 4742,    366,    367.5,  10.4050,  34.1429,2,  34.1421,2,    187.3,2, 10.3613,    185.3,2,    21.15,2,    16.55,2,     1.18,2,  -999.0,-999.000
     33KB201_1,  PRS2,     2,  4,     15,   8015,2,20080527,2058, 22.7497,-158.0028, 4742,    428,    428.6,   8.7147,  34.0996,2,  34.0991,2,    167.3,2,  8.6690,    162.6,2,    31.30,2,    22.47,2,     1.56,2,  -999.0,-999.000
     33KB201_1,  PRS2,     2,  4,     14,   8014,2,20080527,2058, 22.7497,-158.0028, 4742,    494,    494.6,   7.3928,  34.0672,2,  34.0660,2,    114.8,2,  7.3447,    115.5,2,    45.51,2,    29.11,2,     2.07,2,  -999.0,-999.000
     33KB201_1,  PRS2,     2,  4,     13,   8025,2,20080527,2058, 22.7497,-158.0028, 4742,    542,    543.0,   6.5986,  34.0676,2,  34.0678,2,     94.7,2,  6.5490,     92.8,2,    54.86,2,    32.51,2,     2.32,2,  -999.0,-999.000
     33KB201_1,  PRS2,     2,  4,     12,   8012,2,20080527,2058, 22.7497,-158.0028, 4742,    587,    587.2,   6.1418,  34.1039,2,  34.1072,2,     71.0,2,  6.0899,     66.0,2,    63.79,2,    35.57,2,     2.58,2,  -999.0,-999.000
     33KB201_1,  PRS2,     2,  4,     11,   8011,2,20080527,2058, 22.7497,-158.0028, 4742,    627,    628.4,   5.6125,  34.1622,2,  34.1597,2,     44.9,2,  5.5592,     46.1,2,    74.01,2,    38.15,2,     2.77,2,  -999.0,-999.000
     33KB201_1,  PRS2,     2,  4,     10,   8010,2,20080527,2058, 22.7497,-158.0028, 4742,    663,    663.5,   5.4064,  34.2041,2,  34.2011,2,     37.2,2,  5.3510,     37.3,2,    80.48,2,    39.34,2,     2.87,2,  -999.0,-999.000
     33KB201_1,  PRS2,     2,  4,      9,   8009,2,20080527,2058, 22.7497,-158.0028, 4742,    700,    700.7,   5.1410,  34.2427,2,  34.2417,2,     30.8,2,  5.0837,     30.3,2,    85.61,2,    40.43,2,     2.94,2,  -999.0,-999.000
     33KB201_1,  PRS2,     2,  4,      8,   8008,2,20080527,2058, 22.7497,-158.0028, 4742,    742,    743.2,   4.9586,  34.2813,2,  34.2811,2,     28.6,2,  4.8986,     28.0,2,    89.80,2,    41.25,2,     3.06,3,  -999.0,-999.000
     33KB201_1,  PRS2,     2,  4,      7,   8026,2,20080527,2058, 22.7497,-158.0028, 4742,    784,    784.5,   4.7698,  34.3207,2,  34.3221,2,     26.9,2,  4.7073,     26.9,2,    96.38,2,    41.51,2,     3.02,2,  -999.0,-999.000
     33KB201_1,  PRS2,     2,  4,      6,   8006,2,20080527,2058, 22.7497,-158.0028, 4742,    831,    832.3,   4.5353,  34.3489,2,  34.3454,2,     29.7,2,  4.4701,     29.0,2,    99.56,2,    41.63,2,     3.01,2,  -999.0,-999.000
     33KB201_1,  PRS2,     2,  4,      5,   8005,2,20080527,2058, 22.7497,-158.0028, 4742,    882,    881.8,   4.3895,  34.4006,2,  34.3986,2,     31.3,2,  4.3211,     31.9,2,   103.08,2,    41.74,2,     3.02,2,  -999.0,-999.000
     33KB201_1,  PRS2,     2,  4,      4,   8004,2,20080527,2058, 22.7497,-158.0028, 4742,    916,    915.4,   4.2906,  34.4265,2,  34.4269,2,     34.3,2,  4.2200,     33.5,2,   104.50,2,    41.92,2,     3.03,2,  -999.0,-999.000
     33KB201_1,  PRS2,     2,  4,      3,   8003,2,20080527,2058, 22.7497,-158.0028, 4742,    950,    949.4,   4.1569,  34.4442,2,  34.4442,2,     36.7,2,  4.0844,     36.9,2,   108.01,2,    42.11,2,     3.01,2,  -999.0,-999.000
     33KB201_1,  PRS2,     2,  4,      2,   8002,2,20080527,2058, 22.7497,-158.0028, 4742,    984,    984.4,   4.0456,  34.4532,2,  34.4530,2,     38.9,2,  3.9710,     38.4,2,   110.56,2,    41.66,2,     3.01,2,  -999.0,-999.000
     33KB201_1,  PRS2,     2,  4,      1,   8001,2,20080527,2058, 22.7497,-158.0028, 4742,   1021,   1021.5,   3.9360,  34.4669,2,  34.4659,2,     41.9,2,  3.8591,     41.1,2,   112.59,2,    41.39,2,     3.00,2,  -999.0,-999.000
     33KB201_1,  PRS2,     2,  5,     23,   8023,2,20080528,0020, 22.7640,-158.0852, 4762,      5,      5.2,  25.1367,  34.7257,2,  34.7327,2,    211.2,1, 25.1356,   -999.0,9,  -999.00,9,  -999.00,9,  -999.00,9,  -999.0,-999.000
     33KB201_1,  PRS2,     2,  5,     24,   8024,2,20080528,0020, 22.7640,-158.0852, 4762,      5,      5.4,  25.1387,  34.7240,2,-999.0000,5,    211.2,1, 25.1376,   -999.0,9,  -999.00,9,  -999.00,9,  -999.00,9,  -999.0,-999.000
     33KB201_1,  PRS2,     2,  5,     22,   8022,2,20080528,0020, 22.7640,-158.0852, 4762,     25,     24.5,  25.2749,  35.0718,2,  35.0907,3,    212.2,1, 25.2695,   -999.0,9,  -999.00,9,  -999.00,9,  -999.00,9,  -999.0,-999.000
     33KB201_1,  PRS2,     2,  5,     21,   8021,2,20080528,0020, 22.7640,-158.0852, 4762,     24,     24.7,  25.2813,  35.0763,2,  35.0811,2,    212.3,1, 25.2759,   -999.0,9,  -999.00,9,  -999.00,9,  -999.00,9,  -999.0,-999.000
     33KB201_1,  PRS2,     2,  5,     20,   8020,2,20080528,0020, 22.7640,-158.0852, 4762,     44,     44.7,  24.4547,  35.1341,2,  35.1242,2,    214.4,1, 24.4452,   -999.0,9,  -999.00,9,  -999.00,9,  -999.00,9,  -999.0,-999.000
     33KB201_1,  PRS2,     2,  5,     19,   8019,2,20080528,0020, 22.7640,-158.0852, 4762,     44,     44.7,  24.4551,  35.1343,2,  35.1228,3,    214.4,1, 24.4455,   -999.0,9,  -999.00,9,  -999.00,9,  -999.00,9,  -999.0,-999.000
     33KB201_1,  PRS2,     2,  5,     17,   8017,2,20080528,0020, 22.7640,-158.0852, 4762,     75,     75.1,  23.7881,  35.2143,2,  35.2172,2,    217.9,1, 23.7724,   -999.0,9,  -999.00,9,  -999.00,9,  -999.00,9,  -999.0,-999.000
     33KB201_1,  PRS2,     2,  5,     18,   8018,2,20080528,0020, 22.7640,-158.0852, 4762,     75,     75.2,  23.7889,  35.2139,2,-999.0000,5,    217.8,1, 23.7732,   -999.0,9,  -999.00,9,  -999.00,9,  -999.00,9,  -999.0,-999.000
     33KB201_1,  PRS2,     2,  5,     15,   8015,2,20080528,0020, 22.7640,-158.0852, 4762,    100,    100.2,  22.8697,  35.2769,2,  35.2761,2,    220.2,1, 22.8493,   -999.0,9,  -999.00,9,  -999.00,9,  -999.00,9,  -999.0,-999.000
     33KB201_1,  PRS2,     2,  5,     16,   8016,2,20080528,0020, 22.7640,-158.0852, 4762,    100,    100.3,  22.8708,  35.2768,2,  35.2753,2,    220.4,1, 22.8504,   -999.0,9,  -999.00,9,  -999.00,9,  -999.00,9,  -999.0,-999.000
     33KB201_1,  PRS2,     2,  5,     13,   8025,2,20080528,0020, 22.7640,-158.0852, 4762,    125,    125.9,  21.8652,  35.2532,2,  35.2524,2,    202.2,1, 21.8403,   -999.0,9,  -999.00,9,  -999.00,9,  -999.00,9,  -999.0,-999.000
     33KB201_1,  PRS2,     2,  5,     14,   8014,2,20080528,0020, 22.7640,-158.0852, 4762,    126,    126.0,  21.8641,  35.2529,2,  35.2519,2,    202.1,1, 21.8393,   -999.0,9,  -999.00,9,  -999.00,9,  -999.00,9,  -999.0,-999.000
     33KB201_1,  PRS2,     2,  5,     12,   8012,2,20080528,0020, 22.7640,-158.0852, 4762,    130,    130.6,  21.6030,  35.2288,2,-999.0000,5,    200.3,1, 21.5775,   -999.0,9,  -999.00,9,  -999.00,9,  -999.00,9,  -999.0,-999.000
     33KB201_1,  PRS2,     2,  5,     11,   8011,2,20080528,0020, 22.7640,-158.0852, 4762,    150,    150.9,  20.7606,  35.1229,2,  35.1201,2,    191.8,1, 20.7320,   -999.0,9,  -999.00,9,  -999.00,9,  -999.00,9,  -999.0,-999.000
     33KB201_1,  PRS2,     2,  5,     10,   8010,2,20080528,0020, 22.7640,-158.0852, 4762,    150,    150.9,  20.7635,  35.1226,2,  35.1205,2,    191.9,1, 20.7349,   -999.0,9,  -999.00,9,  -999.00,9,  -999.00,9,  -999.0,-999.000
     33KB201_1,  PRS2,     2,  5,      9,   8009,2,20080528,0020, 22.7640,-158.0852, 4762,    176,    176.1,  19.4259,  34.9757,2,  34.9724,2,    188.9,1, 19.3940,   -999.0,9,  -999.00,9,  -999.00,9,  -999.00,9,  -999.0,-999.000
     33KB201_1,  PRS2,     2,  5,      8,   8008,2,20080528,0020, 22.7640,-158.0852, 4762,    176,    176.1,  19.4166,  34.9737,2,  34.9719,2,    188.8,1, 19.3848,   -999.0,9,  -999.00,9,  -999.00,9,  -999.00,9,  -999.0,-999.000
     33KB201_1,  PRS2,     2,  5,      7,   8026,2,20080528,0020, 22.7640,-158.0852, 4762,    201,    200.7,  17.7654,  34.7731,2,  34.7699,2,    186.3,1, 17.7313,   -999.0,9,  -999.00,9,  -999.00,9,  -999.00,9,  -999.0,-999.000
     33KB201_1,  PRS2,     2,  5,      6,   8006,2,20080528,0020, 22.7640,-158.0852, 4762,    200,    200.7,  17.7588,  34.7724,2,  34.7687,2,    186.2,1, 17.7247,   -999.0,9,  -999.00,9,  -999.00,9,  -999.00,9,  -999.0,-999.000
     33KB201_1,  PRS2,     2,  5,      5,   8005,2,20080528,0020, 22.7640,-158.0852, 4762,    250,    250.3,  15.0545,  34.4991,2,-999.0000,5,    196.0,1, 15.0166,   -999.0,9,  -999.00,9,  -999.00,9,  -999.00,9,  -999.0,-999.000
     33KB201_1,  PRS2,     2,  5,      4,   8004,2,20080528,0020, 22.7640,-158.0852, 4762,    350,    350.5,  10.9591,  34.2156,2,  34.2168,2,    197.4,1, 10.9161,   -999.0,9,  -999.00,9,  -999.00,9,  -999.00,9,  -999.0,-999.000
     33KB201_1,  PRS2,     2,  5,      3,   8003,2,20080528,0020, 22.7640,-158.0852, 4762,    350,    350.5,  10.9593,  34.2156,2,  34.2164,2,    197.3,1, 10.9162,   -999.0,9,  -999.00,9,  -999.00,9,  -999.00,9,  -999.0,-999.000
     33KB201_1,  PRS2,     2,  5,      2,   8002,2,20080528,0020, 22.7640,-158.0852, 4762,    501,    501.1,   7.2505,  34.0564,2,  34.0566,2,    125.4,1,  7.2023,   -999.0,9,  -999.00,9,  -999.00,9,  -999.00,9,  -999.0,-999.000
     33KB201_1,  PRS2,     2,  5,      1,   8001,2,20080528,0020, 22.7640,-158.0852, 4762,   1021,   1021.0,   3.8358,  34.4875,2,  34.4860,2,     44.6,1,  3.7597,   -999.0,9,  -999.00,9,  -999.00,9,  -999.00,9,  -999.0,-999.000