BOTTLE,20090923WHPSIOMYS
EXPOCODE,SECT_ID,STNNBR,CASTNO,SAMPNO,BTLNBR,BTLNBR_FLAG_W,DATE,TIME,LATITUDE,LONGITUDE,DEPTH,CTDRAW,CTDPRS,CTDTMP,CTDSAL,CTDSAL_FLAG_W,SALNTY,SALNTY_FLAG_W,CTDOXY,CTDOXY_FLAG_W,THETA,OXYGEN,OXYGEN_FLAG_W,SILCAT,SILCAT_FLAG_W,NO2+NO3,NO2+NO3_FLAG_W,PHSPHT,PHSPHT_FLAG_W,REVPRS,REVTMP
,,,,,,,,,,,,,DBAR,ITS-90,PSS-78,,PSS-78,,UMOL/KG,,ITS-90,UMOL/KG,,UMOL/KG,,UMOL/KG,,UMOL/KG,,DBAR,DEG C
     33KB201_1,  PRS2,     2, 12,     22,   8022,2,20080528,2056, 22.7198,-157.9792, 4740,      6,      6.2,  25.2806,  34.9162,2,  34.9707,4,    211.9,1, 25.2793,   -999.0,9,  -999.00,9,  -999.00,9,  -999.00,9,  -999.0,-999.000
     33KB201_1,  PRS2,     2, 12,     21,   8021,2,20080528,2056, 22.7198,-157.9792, 4740,     25,     25.0,  24.6170,  35.0296,2,  35.0405,2,    215.3,1, 24.6117,   -999.0,9,  -999.00,9,  -999.00,9,  -999.00,9,  -999.0,-999.000
     33KB201_1,  PRS2,     2, 12,     20,   8020,2,20080528,2056, 22.7198,-157.9792, 4740,     45,     45.3,  24.4724,  35.1182,2,  35.1217,2,    214.0,1, 24.4627,   -999.0,9,  -999.00,9,  -999.00,9,  -999.00,9,  -999.0,-999.000
     33KB201_1,  PRS2,     2, 12,     19,   8019,2,20080528,2056, 22.7198,-157.9792, 4740,     60,     60.7,  24.2697,  35.1177,2,  35.1213,2,    215.1,1, 24.2568,   -999.0,9,  -999.00,9,  -999.00,9,  -999.00,9,  -999.0,-999.000
     33KB201_1,  PRS2,     2, 12,     18,   8018,2,20080528,2056, 22.7198,-157.9792, 4740,     75,     76.0,  23.9613,  35.1301,2,  35.1315,2,    217.0,1, 23.9453,   -999.0,9,  -999.00,9,  -999.00,9,  -999.00,9,  -999.0,-999.000
     33KB201_1,  PRS2,     2, 12,     17,   8017,2,20080528,2056, 22.7198,-157.9792, 4740,     85,     86.0,  23.6270,  35.1743,2,  35.1801,2,    217.9,1, 23.6091,   -999.0,9,  -999.00,9,  -999.00,9,  -999.00,9,  -999.0,-999.000
     33KB201_1,  PRS2,     2, 12,     16,   8016,2,20080528,2056, 22.7198,-157.9792, 4740,    100,    100.6,  23.1860,  35.2408,2,  35.2404,2,    214.1,1, 23.1653,   -999.0,9,  -999.00,9,  -999.00,9,  -999.00,9,  -999.0,-999.000
     33KB201_1,  PRS2,     2, 12,     15,   8015,2,20080528,2056, 22.7198,-157.9792, 4740,    114,    115.8,  22.8396,  35.2836,2,  35.2846,2,    216.4,1, 22.8161,   -999.0,9,  -999.00,9,  -999.00,9,  -999.00,9,  -999.0,-999.000
     33KB201_1,  PRS2,     2, 12,     14,   8014,2,20080528,2056, 22.7198,-157.9792, 4740,    125,    125.3,  22.5496,  35.3101,2,  35.3102,2,    216.1,1, 22.5243,   -999.0,9,  -999.00,9,  -999.00,9,  -999.00,9,  -999.0,-999.000
     33KB201_1,  PRS2,     2, 12,     13,   8025,2,20080528,2056, 22.7198,-157.9792, 4740,    150,    150.6,  21.7968,  35.3111,2,  35.3068,2,    210.1,1, 21.7671,   -999.0,9,  -999.00,9,  -999.00,9,  -999.00,9,  -999.0,-999.000
     33KB201_1,  PRS2,     2, 12,     12,   8012,2,20080528,2056, 22.7198,-157.9792, 4740,    175,    174.8,  20.2513,  35.0541,2,  35.0390,2,    187.7,1, 20.2187,   -999.0,9,  -999.00,9,  -999.00,9,  -999.00,9,  -999.0,-999.000
     33KB201_1,  PRS2,     2, 12,     11,   8011,2,20080528,2056, 22.7198,-157.9792, 4740,    200,    200.9,  19.1254,  34.9236,2,  34.9246,2,    187.3,1, 19.0894,   -999.0,9,  -999.00,9,  -999.00,9,  -999.00,9,  -999.0,-999.000
     33KB201_1,  PRS2,     2, 12,     10,   8010,2,20080528,2056, 22.7198,-157.9792, 4740,    225,    225.5,  17.9471,  34.7908,2,  34.7901,2,    186.1,1, 17.9085,   -999.0,9,  -999.00,9,  -999.00,9,  -999.00,9,  -999.0,-999.000
     33KB201_1,  PRS2,     2, 12,      9,   8009,2,20080528,2056, 22.7198,-157.9792, 4740,    250,    250.7,  16.0107,  34.5720,2,  34.5569,2,    188.2,1, 15.9711,   -999.0,9,  -999.00,9,  -999.00,9,  -999.00,9,  -999.0,-999.000
     33KB201_1,  PRS2,     2, 12,      8,   8008,2,20080528,2056, 22.7198,-157.9792, 4740,    510,    510.6,   6.9071,  34.0621,2,  34.0637,2,    104.7,1,  6.8593,   -999.0,9,  -999.00,9,  -999.00,9,  -999.00,9,  -999.0,-999.000
     33KB201_1,  PRS2,     2, 12,      3,   8003,2,20080528,2056, 22.7198,-157.9792, 4740,   1019,   1020.7,   3.8147,  34.4681,2,  34.4669,2,     43.8,1,  3.7388,   -999.0,9,  -999.00,9,  -999.00,9,  -999.00,9,  -999.0,-999.000
     33KB201_1,  PRS2,     2, 12,      2,   8002,2,20080528,2056, 22.7198,-157.9792, 4740,   1019,   1020.7,   3.8151,  34.4678,2,  34.4665,2,     43.9,1,  3.7393,   -999.0,9,  -999.00,9,  -999.00,9,  -999.00,9,  -999.0,-999.000
     33KB201_1,  PRS2,     2, 12,      1,   8001,2,20080528,2056, 22.7198,-157.9792, 4740,   1020,   1020.7,   3.8163,  34.4678,2,-999.0000,5,     43.9,1,  3.7405,   -999.0,9,  -999.00,9,  -999.00,9,  -999.00,9,  -999.0,-999.000
     33KB201_1,  PRS2,     2, 12,      5,   8005,2,20080528,2056, 22.7198,-157.9792, 4740,   1020,   1020.8,   3.8147,  34.4680,2,  34.4675,2,     43.8,1,  3.7389,   -999.0,9,  -999.00,9,  -999.00,9,  -999.00,9,  -999.0,-999.000
     33KB201_1,  PRS2,     2, 12,      4,   8004,2,20080528,2056, 22.7198,-157.9792, 4740,   1020,   1020.8,   3.8147,  34.4680,2,  34.4671,2,     43.8,1,  3.7388,   -999.0,9,  -999.00,9,  -999.00,9,  -999.00,9,  -999.0,-999.000
     33KB201_1,  PRS2,     2, 12,      6,   8006,2,20080528,2056, 22.7198,-157.9792, 4740,   1021,   1020.9,   3.8150,  34.4678,2,  34.4663,2,     43.7,1,  3.7391,   -999.0,9,  -999.00,9,  -999.00,9,  -999.00,9,  -999.0,-999.000
     33KB201_1,  PRS2,     2, 12,      7,   8026,2,20080528,2056, 22.7198,-157.9792, 4740,   1021,   1021.2,   3.8148,  34.4678,2,  34.4673,2,     43.7,1,  3.7389,   -999.0,9,  -999.00,9,  -999.00,9,  -999.00,9,  -999.0,-999.000
     33KB201_1,  PRS2,     2, 13,     24,   8024,2,20080528,2356, 22.7200,-157.9792, 4737,      7,      6.9,  25.6556,  34.8468,2,  34.8467,2,    209.0,1, 25.6541,   -999.0,9,  -999.00,9,  -999.00,9,  -999.00,9,  -999.0,-999.000
     33KB201_1,  PRS2,     2, 13,     23,   8023,2,20080528,2356, 22.7200,-157.9792, 4737,     24,     25.9,  24.7658,  35.0156,2,  34.9862,4,    214.0,1, 24.7603,   -999.0,9,  -999.00,9,  -999.00,9,  -999.00,9,  -999.0,-999.000
     33KB201_1,  PRS2,     2, 13,     22,   8022,2,20080528,2356, 22.7200,-157.9792, 4737,     45,     45.1,  24.4450,  35.1278,2,  35.1244,2,    215.1,1, 24.4354,   -999.0,9,  -999.00,9,  -999.00,9,  -999.00,9,  -999.0,-999.000
     33KB201_1,  PRS2,     2, 13,     21,   8021,2,20080528,2356, 22.7200,-157.9792, 4737,     75,     75.4,  23.7556,  35.1435,2,  35.1433,2,    217.5,1, 23.7399,   -999.0,9,  -999.00,9,  -999.00,9,  -999.00,9,  -999.0,-999.000
     33KB201_1,  PRS2,     2, 13,     20,   8020,2,20080528,2356, 22.7200,-157.9792, 4737,    100,    100.8,  22.9334,  35.2402,2,  35.2503,2,    212.1,1, 22.9128,   -999.0,9,  -999.00,9,  -999.00,9,  -999.00,9,  -999.0,-999.000
     33KB201_1,  PRS2,     2, 13,     19,   8019,2,20080528,2356, 22.7200,-157.9792, 4737,    125,    125.5,  22.5809,  35.3110,2,  35.3108,2,    216.9,1, 22.5555,   -999.0,9,  -999.00,9,  -999.00,9,  -999.00,9,  -999.0,-999.000
     33KB201_1,  PRS2,     2, 13,     18,   8018,2,20080528,2356, 22.7200,-157.9792, 4737,    151,    151.8,  22.1464,  35.3223,2,  35.3238,2,    213.7,1, 22.1162,   -999.0,9,  -999.00,9,  -999.00,9,  -999.00,9,  -999.0,-999.000
     33KB201_1,  PRS2,     2, 13,     16,   8016,2,20080528,2356, 22.7200,-157.9792, 4737,    201,    200.8,  19.4703,  34.9268,2,-999.0000,5,    179.4,1, 19.4338,   -999.0,9,  -999.00,9,  -999.00,9,  -999.00,9,  -999.0,-999.000
     33KB201_1,  PRS2,     2, 13,     17,   8017,2,20080528,2356, 22.7200,-157.9792, 4737,    201,    201.1,  19.4546,  34.9255,2,-999.0000,5,    179.4,1, 19.4182,   -999.0,9,  -999.00,9,  -999.00,9,  -999.00,9,  -999.0,-999.000
     33KB201_1,  PRS2,     2, 13,     15,   8015,2,20080528,2356, 22.7200,-157.9792, 4737,    250,    250.4,  15.2198,  34.4930,2,  34.4852,2,    190.1,1, 15.1816,   -999.0,9,  -999.00,9,  -999.00,9,  -999.00,9,  -999.0,-999.000
     33KB201_1,  PRS2,     2, 13,     14,   8014,2,20080528,2356, 22.7200,-157.9792, 4737,    299,    300.3,  12.1565,  34.2476,2,-999.0000,5,    201.4,1, 12.1172,   -999.0,9,  -999.00,9,  -999.00,9,  -999.00,9,  -999.0,-999.000
     33KB201_1,  PRS2,     2, 13,     13,   8025,2,20080528,2356, 22.7200,-157.9792, 4737,    300,    300.3,  12.1571,  34.2477,2,-999.0000,5,    202.0,1, 12.1177,   -999.0,9,  -999.00,9,  -999.00,9,  -999.00,9,  -999.0,-999.000
     33KB201_1,  PRS2,     2, 13,     12,   8012,2,20080528,2356, 22.7200,-157.9792, 4737,    350,    350.8,  10.6282,  34.1554,2,  34.1564,2,    180.0,1, 10.5860,   -999.0,9,  -999.00,9,  -999.00,9,  -999.00,9,  -999.0,-999.000
     33KB201_1,  PRS2,     2, 13,     10,   8010,2,20080528,2356, 22.7200,-157.9792, 4737,    399,    399.9,   9.5315,  34.1174,2,  34.1187,2,    171.9,1,  9.4865,   -999.0,9,  -999.00,9,  -999.00,9,  -999.00,9,  -999.0,-999.000
     33KB201_1,  PRS2,     2, 13,     11,   8011,2,20080528,2356, 22.7200,-157.9792, 4737,    400,    400.0,   9.5301,  34.1177,2,-999.0000,5,    172.4,1,  9.4851,   -999.0,9,  -999.00,9,  -999.00,9,  -999.00,9,  -999.0,-999.000
     33KB201_1,  PRS2,     2, 13,      8,   8008,2,20080528,2356, 22.7200,-157.9792, 4737,    500,    500.3,   7.6358,  34.0705,2,-999.0000,5,    124.1,1,  7.5863,   -999.0,9,  -999.00,9,  -999.00,9,  -999.00,9,  -999.0,-999.000
     33KB201_1,  PRS2,     2, 13,      9,   8009,2,20080528,2356, 22.7200,-157.9792, 4737,    500,    500.5,   7.6294,  34.0701,2,-999.0000,5,    124.1,1,  7.5799,   -999.0,9,  -999.00,9,  -999.00,9,  -999.00,9,  -999.0,-999.000
     33KB201_1,  PRS2,     2, 13,      7,   8026,2,20080528,2356, 22.7200,-157.9792, 4737,    598,    599.6,   5.9193,  34.1210,2,-999.0000,5,     59.3,1,  5.8672,   -999.0,9,  -999.00,9,  -999.00,9,  -999.00,9,  -999.0,-999.000
     33KB201_1,  PRS2,     2, 13,      6,   8006,2,20080528,2356, 22.7200,-157.9792, 4737,    700,    700.3,   5.1471,  34.2437,2,-999.0000,5,     30.3,1,  5.0898,   -999.0,9,  -999.00,9,  -999.00,9,  -999.00,9,  -999.0,-999.000
     33KB201_1,  PRS2,     2, 13,      5,   8005,2,20080528,2356, 22.7200,-157.9792, 4737,    770,    770.6,   4.6972,  34.3009,2,-999.0000,5,     29.3,1,  4.6364,   -999.0,9,  -999.00,9,  -999.00,9,  -999.00,9,  -999.0,-999.000
     33KB201_1,  PRS2,     2, 13,      4,   8004,2,20080528,2356, 22.7200,-157.9792, 4737,    800,    800.2,   4.5965,  34.3408,2,-999.0000,5,     29.0,1,  4.5337,   -999.0,9,  -999.00,9,  -999.00,9,  -999.00,9,  -999.0,-999.000
     33KB201_1,  PRS2,     2, 13,      3,   8003,2,20080528,2356, 22.7200,-157.9792, 4737,    901,    901.1,   4.2983,  34.4273,2,-999.0000,5,     34.4,1,  4.2288,   -999.0,9,  -999.00,9,  -999.00,9,  -999.00,9,  -999.0,-999.000
     33KB201_1,  PRS2,     2, 13,      2,   8002,2,20080528,2356, 22.7200,-157.9792, 4737,   1020,   1021.3,   3.8088,  34.4670,2,-999.0000,5,     43.3,1,  3.7330,   -999.0,9,  -999.00,9,  -999.00,9,  -999.00,9,  -999.0,-999.000
     33KB201_1,  PRS2,     2, 13,      1,   8001,2,20080528,2356, 22.7200,-157.9792, 4737,   1021,   1021.3,   3.8083,  34.4674,2,  34.4657,2,     43.5,1,  3.7324,   -999.0,9,  -999.00,9,  -999.00,9,  -999.00,9,  -999.0,-999.000
     33KB201_1,  PRS2,     2, 14,     23,   8023,2,20080529,0255, 22.7505,-157.9997, 4745,      6,      6.6,  25.4525,  34.8589,2,  34.8580,2,    208.9,1, 25.4510,   -999.0,9,  -999.00,9,  -999.00,9,  -999.00,9,  -999.0,-999.000
     33KB201_1,  PRS2,     2, 14,     24,   8024,2,20080529,0255, 22.7505,-157.9997, 4745,      6,      6.7,  25.4529,  34.8590,2,-999.0000,5,    208.7,1, 25.4515,   -999.0,9,  -999.00,9,  -999.00,9,  -999.00,9,  -999.0,-999.000
     33KB201_1,  PRS2,     2, 14,     22,   8022,2,20080529,0255, 22.7505,-157.9997, 4745,     15,     15.3,  25.3765,  34.8786,2,  34.8741,2,    209.4,1, 25.3731,   -999.0,9,  -999.00,9,  -999.00,9,  -999.00,9,  -999.0,-999.000
     33KB201_1,  PRS2,     2, 14,     21,   8021,2,20080529,0255, 22.7505,-157.9997, 4745,     24,     25.0,  25.3512,  34.8951,2,-999.0000,5,    209.6,1, 25.3457,   -999.0,9,  -999.00,9,  -999.00,9,  -999.00,9,  -999.0,-999.000
     33KB201_1,  PRS2,     2, 14,     20,   8020,2,20080529,0255, 22.7505,-157.9997, 4745,     25,     25.0,  25.3453,  34.8996,2,  34.9144,3,    209.7,1, 25.3398,   -999.0,9,  -999.00,9,  -999.00,9,  -999.00,9,  -999.0,-999.000
     33KB201_1,  PRS2,     2, 14,     18,   8018,2,20080529,0255, 22.7505,-157.9997, 4745,     35,     35.2,  24.5563,  35.0479,2,  35.0608,2,    216.0,1, 24.5487,   -999.0,9,  -999.00,9,  -999.00,9,  -999.00,9,  -999.0,-999.000
     33KB201_1,  PRS2,     2, 14,     19,   8019,2,20080529,0255, 22.7505,-157.9997, 4745,     35,     35.3,  24.5559,  35.0469,2,  35.0567,2,    215.9,1, 24.5483,   -999.0,9,  -999.00,9,  -999.00,9,  -999.00,9,  -999.0,-999.000
     33KB201_1,  PRS2,     2, 14,     15,   8015,2,20080529,0255, 22.7505,-157.9997, 4745,     44,     44.7,  24.4093,  35.0887,2,  35.0896,2,    215.6,1, 24.3997,   -999.0,9,  -999.00,9,  -999.00,9,  -999.00,9,  -999.0,-999.000
     33KB201_1,  PRS2,     2, 14,     17,   8017,2,20080529,0255, 22.7505,-157.9997, 4745,     44,     44.9,  24.4091,  35.0884,2,-999.0000,5,    215.8,1, 24.3995,   -999.0,9,  -999.00,9,  -999.00,9,  -999.00,9,  -999.0,-999.000
     33KB201_1,  PRS2,     2, 14,     16,   8016,2,20080529,0255, 22.7505,-157.9997, 4745,     44,     45.0,  24.4083,  35.0885,2,-999.0000,5,    215.7,1, 24.3987,   -999.0,9,  -999.00,9,  -999.00,9,  -999.00,9,  -999.0,-999.000
     33KB201_1,  PRS2,     2, 14,     14,   8014,2,20080529,0255, 22.7505,-157.9997, 4745,     59,     60.4,  24.1012,  35.1063,2,  35.1055,2,    216.9,1, 24.0884,   -999.0,9,  -999.00,9,  -999.00,9,  -999.00,9,  -999.0,-999.000
     33KB201_1,  PRS2,     2, 14,     11,   8011,2,20080529,0255, 22.7505,-157.9997, 4745,     75,     75.3,  23.7099,  35.1510,2,  35.1502,2,    217.7,1, 23.6941,   -999.0,9,  -999.00,9,  -999.00,9,  -999.00,9,  -999.0,-999.000
     33KB201_1,  PRS2,     2, 14,     13,   8025,2,20080529,0255, 22.7505,-157.9997, 4745,     74,     75.4,  23.7063,  35.1526,2,-999.0000,5,    218.0,1, 23.6906,   -999.0,9,  -999.00,9,  -999.00,9,  -999.00,9,  -999.0,-999.000
     33KB201_1,  PRS2,     2, 14,     12,   8012,2,20080529,0255, 22.7505,-157.9997, 4745,     75,     75.4,  23.7045,  35.1525,2,-999.0000,5,    217.8,1, 23.6888,   -999.0,9,  -999.00,9,  -999.00,9,  -999.00,9,  -999.0,-999.000
     33KB201_1,  PRS2,     2, 14,      9,   8009,2,20080529,0255, 22.7505,-157.9997, 4745,     99,     99.9,  22.8079,  35.2859,2,  35.2852,2,    218.3,1, 22.7876,   -999.0,9,  -999.00,9,  -999.00,9,  -999.00,9,  -999.0,-999.000
     33KB201_1,  PRS2,     2, 14,     10,   8010,2,20080529,0255, 22.7505,-157.9997, 4745,     99,    100.0,  22.8084,  35.2861,2,-999.0000,5,    218.3,1, 22.7881,   -999.0,9,  -999.00,9,  -999.00,9,  -999.00,9,  -999.0,-999.000
     33KB201_1,  PRS2,     2, 14,      8,   8008,2,20080529,0255, 22.7505,-157.9997, 4745,    124,    125.1,  22.5537,  35.3095,2,-999.0000,5,    215.5,1, 22.5285,   -999.0,9,  -999.00,9,  -999.00,9,  -999.00,9,  -999.0,-999.000
     33KB201_1,  PRS2,     2, 14,      7,   8026,2,20080529,0255, 22.7505,-157.9997, 4745,    124,    125.1,  22.5532,  35.3095,2,  35.3090,2,    215.3,1, 22.5280,   -999.0,9,  -999.00,9,  -999.00,9,  -999.00,9,  -999.0,-999.000
     33KB201_1,  PRS2,     2, 14,      5,   8005,2,20080529,0255, 22.7505,-157.9997, 4745,    149,    150.0,  22.0694,  35.3219,2,  35.3216,2,    212.1,1, 22.0397,   -999.0,9,  -999.00,9,  -999.00,9,  -999.00,9,  -999.0,-999.000
     33KB201_1,  PRS2,     2, 14,      6,   8006,2,20080529,0255, 22.7505,-157.9997, 4745,    149,    150.1,  22.0691,  35.3217,2,-999.0000,5,    212.0,1, 22.0393,   -999.0,9,  -999.00,9,  -999.00,9,  -999.00,9,  -999.0,-999.000
     33KB201_1,  PRS2,     2, 14,      4,   8004,2,20080529,0255, 22.7505,-157.9997, 4745,    176,    176.0,  20.8751,  35.1713,2,-999.0000,5,    199.5,1, 20.8416,   -999.0,9,  -999.00,9,  -999.00,9,  -999.00,9,  -999.0,-999.000
     33KB201_1,  PRS2,     2, 14,      3,   8003,2,20080529,0255, 22.7505,-157.9997, 4745,    175,    176.1,  20.8738,  35.1694,2,  35.1872,2,    198.5,1, 20.8402,   -999.0,9,  -999.00,9,  -999.00,9,  -999.00,9,  -999.0,-999.000
     33KB201_1,  PRS2,     2, 14,      2,   8002,2,20080529,0255, 22.7505,-157.9997, 4745,    540,    540.9,   6.4438,  34.0557,2,  34.0566,2,     93.6,1,  6.3949,   -999.0,9,  -999.00,9,  -999.00,9,  -999.00,9,  -999.0,-999.000
     33KB201_1,  PRS2,     2, 14,      1,   8001,2,20080529,0255, 22.7505,-157.9997, 4745,   1021,   1020.9,   3.7694,  34.4731,2,  34.4712,2,     44.3,1,  3.6938,   -999.0,9,  -999.00,9,  -999.00,9,  -999.00,9,  -999.0,-999.000