BOTTLE,20090923WHPSIOMYS
#code : jjward hyd_to_exchange.pl 
#original files copied from HTML directory: 20090923
#original HYD file: 33KB201_1_hy.txt   Wed Sep 23 18:02:27 2009
#original SUM file: ../33KB201_1su.txt   Wed Sep 23 18:02:26 2009
EXPOCODE,SECT_ID,STNNBR,CASTNO,SAMPNO,BTLNBR,BTLNBR_FLAG_W,DATE,TIME,LATITUDE,LONGITUDE,DEPTH,CTDRAW,CTDPRS,CTDTMP,CTDSAL,CTDSAL_FLAG_W,SALNTY,SALNTY_FLAG_W,CTDOXY,CTDOXY_FLAG_W,THETA,OXYGEN,OXYGEN_FLAG_W,SILCAT,SILCAT_FLAG_W,NO2+NO3,NO2+NO3_FLAG_W,PHSPHT,PHSPHT_FLAG_W,REVPRS,REVTMP
,,,,,,,,,,,,,DBAR,ITS-90,PSS-78,,PSS-78,,UMOL/KG,,ITS-90,UMOL/KG,,UMOL/KG,,UMOL/KG,,UMOL/KG,,DBAR,DEG C
     33KB201_1,  PRS2,     1,  1,     24,   8024,2,20080526,2316, 21.3443,-158.2743, 1746,      7,      7.4,  25.7450,  34.8324,2,  34.8342,2,    206.7,2, 25.7434,    207.4,2,  -999.00,9,  -999.00,9,  -999.00,9,  -999.0,-999.000
     33KB201_1,  PRS2,     1,  1,     23,   8023,2,20080526,2316, 21.3443,-158.2743, 1746,      7,      7.5,  25.7452,  34.8324,2,  34.8324,2,    206.7,2, 25.7436,    207.2,2,  -999.00,9,  -999.00,9,  -999.00,9,  -999.0,-999.000
     33KB201_1,  PRS2,     1,  1,     22,   8022,2,20080526,2316, 21.3443,-158.2743, 1746,     26,     26.1,  24.5451,  35.1222,2,  35.1228,2,    212.0,2, 24.5395,    212.1,2,  -999.00,9,  -999.00,9,  -999.00,9,  -999.0,-999.000
     33KB201_1,  PRS2,     1,  1,     21,   8021,2,20080526,2316, 21.3443,-158.2743, 1746,     45,     45.4,  23.7585,  35.2358,2,  35.2371,2,    218.3,2, 23.7490,    217.3,2,  -999.00,9,  -999.00,9,  -999.00,9,  -999.0,-999.000
     33KB201_1,  PRS2,     1,  1,     20,   8020,2,20080526,2316, 21.3443,-158.2743, 1746,     59,     59.7,  23.4823,  35.2503,2,  35.2499,2,    217.2,2, 23.4700,    217.2,2,  -999.00,9,  -999.00,9,  -999.00,9,  -999.0,-999.000
     33KB201_1,  PRS2,     1,  1,     19,   8019,2,20080526,2316, 21.3443,-158.2743, 1746,     75,     75.6,  23.1516,  35.2310,2,  35.2296,2,    215.0,2, 23.1361,    213.7,2,  -999.00,9,  -999.00,9,  -999.00,9,  -999.0,-999.000
     33KB201_1,  PRS2,     1,  1,     18,   8018,2,20080526,2316, 21.3443,-158.2743, 1746,    100,    100.5,  22.1120,  35.1645,2,  35.1612,2,    204.7,2, 22.0920,    203.8,2,  -999.00,9,  -999.00,9,  -999.00,9,  -999.0,-999.000
     33KB201_1,  PRS2,     1,  1,     17,   8017,2,20080526,2316, 21.3443,-158.2743, 1746,    114,    115.3,  21.3801,  35.1026,2,  35.1008,2,    196.4,2, 21.3577,    196.5,2,  -999.00,9,  -999.00,9,  -999.00,9,  -999.0,-999.000
     33KB201_1,  PRS2,     1,  1,     16,   8016,2,20080526,2316, 21.3443,-158.2743, 1746,    125,    125.9,  20.6476,  35.0661,2,  35.0600,2,    192.0,2, 20.6238,    192.1,2,  -999.00,9,  -999.00,9,  -999.00,9,  -999.0,-999.000
     33KB201_1,  PRS2,     1,  1,     15,   8015,2,20080526,2316, 21.3443,-158.2743, 1746,    149,    149.4,  19.6197,  34.9823,2,  34.9815,2,    187.8,2, 19.5925,    188.3,2,  -999.00,9,  -999.00,9,  -999.00,9,  -999.0,-999.000
     33KB201_1,  PRS2,     1,  1,     14,   8014,2,20080526,2316, 21.3443,-158.2743, 1746,    175,    175.2,  18.7911,  34.9047,2,  34.9038,2,    188.8,2, 18.7601,    189.3,2,  -999.00,9,  -999.00,9,  -999.00,9,  -999.0,-999.000
     33KB201_1,  PRS2,     1,  1,     13,   8025,2,20080526,2316, 21.3443,-158.2743, 1746,    200,    200.7,  17.2289,  34.7214,2,  34.7172,2,    188.2,2, 17.1956,    189.1,2,  -999.00,9,  -999.00,9,  -999.00,9,  -999.0,-999.000
     33KB201_1,  PRS2,     1,  1,     12,   8012,2,20080526,2316, 21.3443,-158.2743, 1746,    225,    225.2,  14.9978,  34.4541,2,  34.4518,2,    182.7,2, 14.9638,    182.9,2,  -999.00,9,  -999.00,9,  -999.00,9,  -999.0,-999.000
     33KB201_1,  PRS2,     1,  1,     11,   8011,2,20080526,2316, 21.3443,-158.2743, 1746,    250,    249.9,  13.8392,  34.3155,2,  34.3154,2,    173.2,2, 13.8035,    174.9,2,  -999.00,9,  -999.00,9,  -999.00,9,  -999.0,-999.000
     33KB201_1,  PRS2,     1,  1,     10,   8010,2,20080526,2316, 21.3443,-158.2743, 1746,    300,    300.3,  11.5319,  34.2022,2,  34.2003,2,    184.8,2, 11.4939,    184.7,2,  -999.00,9,  -999.00,9,  -999.00,9,  -999.0,-999.000
     33KB201_1,  PRS2,     1,  1,      9,   8009,2,20080526,2316, 21.3443,-158.2743, 1746,    350,    350.4,  10.0482,  34.1572,2,  34.1556,2,    172.1,2, 10.0075,    170.4,2,  -999.00,9,  -999.00,9,  -999.00,9,  -999.0,-999.000
     33KB201_1,  PRS2,     1,  1,      8,   8008,2,20080526,2316, 21.3443,-158.2743, 1746,    399,    400.0,   8.6882,  34.1298,2,  34.1303,2,    142.5,2,  8.6457,     28.6,4,  -999.00,9,  -999.00,9,  -999.00,9,  -999.0,-999.000
     33KB201_1,  PRS2,     1,  1,      7,   8026,2,20080526,2316, 21.3443,-158.2743, 1746,    501,    501.1,   6.9309,  34.1496,2,  34.1501,2,     89.1,2,  6.8839,     27.5,4,  -999.00,9,  -999.00,9,  -999.00,9,  -999.0,-999.000
     33KB201_1,  PRS2,     1,  1,      6,   8006,2,20080526,2316, 21.3443,-158.2743, 1746,    600,    600.5,   6.0039,  34.2335,2,  34.2332,2,     46.8,2,  5.9513,     45.7,2,  -999.00,9,  -999.00,9,  -999.00,9,  -999.0,-999.000
     33KB201_1,  PRS2,     1,  1,      5,   8005,2,20080526,2316, 21.3443,-158.2743, 1746,    700,    700.5,   5.4569,  34.3251,2,  34.3268,2,     34.9,2,  5.3978,     34.2,2,  -999.00,9,  -999.00,9,  -999.00,9,  -999.0,-999.000
     33KB201_1,  PRS2,     1,  1,      4,   8004,2,20080526,2316, 21.3443,-158.2743, 1746,    749,    749.9,   5.0907,  34.3826,2,  34.3827,2,     34.5,2,  5.0292,     34.9,2,  -999.00,9,  -999.00,9,  -999.00,9,  -999.0,-999.000
     33KB201_1,  PRS2,     1,  1,      3,   8003,2,20080526,2316, 21.3443,-158.2743, 1746,    800,    800.6,   4.7831,  34.4298,2,  34.4257,2,     37.0,2,  4.7190,     36.8,2,  -999.00,9,  -999.00,9,  -999.00,9,  -999.0,-999.000
     33KB201_1,  PRS2,     1,  1,      2,   8002,2,20080526,2316, 21.3443,-158.2743, 1746,    901,    901.3,   4.4784,  34.4715,2,  34.4710,2,     39.8,2,  4.4076,     41.1,2,  -999.00,9,  -999.00,9,  -999.00,9,  -999.0,-999.000
     33KB201_1,  PRS2,     1,  1,      1,   8001,2,20080526,2316, 21.3443,-158.2743, 1746,   1020,   1020.8,   4.0866,  34.5073,2,  34.5062,2,     44.7,2,  4.0085,     44.8,2,  -999.00,9,  -999.00,9,  -999.00,9,  -999.0,-999.000
     33KB201_1,  PRS2,     2,  1,     20,   8020,2,20080527,1002, 22.7505,-158.0090, 4741,     25,     25.2,  25.1139,  35.1314,2,-999.0000,9,    212.6,1, 25.1085,   -999.0,9,  -999.00,9,  -999.00,9,  -999.00,9,  -999.0,-999.000
     33KB201_1,  PRS2,     2,  1,     24,   8024,2,20080527,1002, 22.7505,-158.0090, 4741,     24,     25.3,  25.1191,  35.1318,2,-999.0000,9,    212.7,1, 25.1136,   -999.0,9,  -999.00,9,  -999.00,9,  -999.00,9,  -999.0,-999.000
     33KB201_1,  PRS2,     2,  1,     21,   8021,2,20080527,1002, 22.7505,-158.0090, 4741,     25,     25.3,  25.1125,  35.1314,2,-999.0000,9,    212.6,1, 25.1070,   -999.0,9,  -999.00,9,  -999.00,9,  -999.00,9,  -999.0,-999.000
     33KB201_1,  PRS2,     2,  1,     23,   8023,2,20080527,1002, 22.7505,-158.0090, 4741,     25,     25.4,  25.1135,  35.1315,2,-999.0000,9,    212.6,1, 25.1080,   -999.0,9,  -999.00,9,  -999.00,9,  -999.00,9,  -999.0,-999.000
     33KB201_1,  PRS2,     2,  1,     22,   8022,2,20080527,1002, 22.7505,-158.0090, 4741,     25,     25.4,  25.1125,  35.1314,2,-999.0000,9,    212.6,1, 25.1070,   -999.0,9,  -999.00,9,  -999.00,9,  -999.00,9,  -999.0,-999.000
     33KB201_1,  PRS2,     2,  1,     19,   8019,2,20080527,1002, 22.7505,-158.0090, 4741,     30,     30.9,  24.9704,  35.1314,2,-999.0000,9,    213.1,1, 24.9637,   -999.0,9,  -999.00,9,  -999.00,9,  -999.00,9,  -999.0,-999.000
     33KB201_1,  PRS2,     2,  1,     18,   8018,2,20080527,1002, 22.7505,-158.0090, 4741,     31,     30.9,  24.9634,  35.1321,2,-999.0000,9,    213.1,1, 24.9567,   -999.0,9,  -999.00,9,  -999.00,9,  -999.00,9,  -999.0,-999.000
     33KB201_1,  PRS2,     2,  1,     17,   8017,2,20080527,1002, 22.7505,-158.0090, 4741,     31,     31.0,  24.9534,  35.1327,2,-999.0000,9,    213.2,1, 24.9466,   -999.0,9,  -999.00,9,  -999.00,9,  -999.00,9,  -999.0,-999.000
     33KB201_1,  PRS2,     2,  1,     15,   8015,2,20080527,1002, 22.7505,-158.0090, 4741,     30,     31.0,  24.9255,  35.1338,2,-999.0000,9,    213.3,1, 24.9188,   -999.0,9,  -999.00,9,  -999.00,9,  -999.00,9,  -999.0,-999.000
     33KB201_1,  PRS2,     2,  1,     16,   8016,2,20080527,1002, 22.7505,-158.0090, 4741,     31,     31.1,  24.9396,  35.1321,2,-999.0000,9,    213.3,1, 24.9329,   -999.0,9,  -999.00,9,  -999.00,9,  -999.00,9,  -999.0,-999.000
     33KB201_1,  PRS2,     2,  1,     14,   8014,2,20080527,1002, 22.7505,-158.0090, 4741,     31,     31.1,  24.9219,  35.1337,2,-999.0000,9,    213.3,1, 24.9151,   -999.0,9,  -999.00,9,  -999.00,9,  -999.00,9,  -999.0,-999.000
     33KB201_1,  PRS2,     2,  1,     13,   8025,2,20080527,1002, 22.7505,-158.0090, 4741,     30,     31.1,  24.9134,  35.1342,2,-999.0000,9,    213.3,1, 24.9067,   -999.0,9,  -999.00,9,  -999.00,9,  -999.00,9,  -999.0,-999.000
     33KB201_1,  PRS2,     2,  1,     12,   8012,2,20080527,1002, 22.7505,-158.0090, 4741,     31,     31.1,  24.9135,  35.1347,2,-999.0000,9,    213.3,1, 24.9068,   -999.0,9,  -999.00,9,  -999.00,9,  -999.00,9,  -999.0,-999.000
     33KB201_1,  PRS2,     2,  1,     11,   8011,2,20080527,1002, 22.7505,-158.0090, 4741,     30,     31.1,  24.9119,  35.1343,2,-999.0000,9,    213.2,1, 24.9052,   -999.0,9,  -999.00,9,  -999.00,9,  -999.00,9,  -999.0,-999.000
     33KB201_1,  PRS2,     2,  1,      7,   8026,2,20080527,1002, 22.7505,-158.0090, 4741,     45,     45.8,  24.6061,  35.1774,2,-999.0000,9,    214.0,1, 24.5963,   -999.0,9,  -999.00,9,  -999.00,9,  -999.00,9,  -999.0,-999.000
     33KB201_1,  PRS2,     2,  1,      6,   8006,2,20080527,1002, 22.7505,-158.0090, 4741,     45,     45.8,  24.6065,  35.1774,2,-999.0000,9,    214.1,1, 24.5967,   -999.0,9,  -999.00,9,  -999.00,9,  -999.00,9,  -999.0,-999.000
     33KB201_1,  PRS2,     2,  1,     10,   8010,2,20080527,1002, 22.7505,-158.0090, 4741,     46,     45.9,  24.6098,  35.1771,2,-999.0000,9,    213.9,1, 24.5999,   -999.0,9,  -999.00,9,  -999.00,9,  -999.00,9,  -999.0,-999.000
     33KB201_1,  PRS2,     2,  1,      9,   8009,2,20080527,1002, 22.7505,-158.0090, 4741,     46,     45.9,  24.6077,  35.1772,2,-999.0000,9,    214.0,1, 24.5978,   -999.0,9,  -999.00,9,  -999.00,9,  -999.00,9,  -999.0,-999.000
     33KB201_1,  PRS2,     2,  1,      8,   8008,2,20080527,1002, 22.7505,-158.0090, 4741,     45,     45.9,  24.6067,  35.1774,2,-999.0000,9,    214.0,1, 24.5968,   -999.0,9,  -999.00,9,  -999.00,9,  -999.00,9,  -999.0,-999.000
     33KB201_1,  PRS2,     2,  1,      4,   8004,2,20080527,1002, 22.7505,-158.0090, 4741,     76,     76.3,  23.8533,  35.0681,2,-999.0000,9,    214.1,1, 23.8374,   -999.0,9,  -999.00,9,  -999.00,9,  -999.00,9,  -999.0,-999.000
     33KB201_1,  PRS2,     2,  1,      3,   8003,2,20080527,1002, 22.7505,-158.0090, 4741,     75,     76.3,  23.8530,  35.0678,2,-999.0000,9,    214.2,1, 23.8370,   -999.0,9,  -999.00,9,  -999.00,9,  -999.00,9,  -999.0,-999.000
     33KB201_1,  PRS2,     2,  1,      2,   8002,2,20080527,1002, 22.7505,-158.0090, 4741,     75,     76.3,  23.8533,  35.0682,2,-999.0000,9,    214.2,1, 23.8374,   -999.0,9,  -999.00,9,  -999.00,9,  -999.00,9,  -999.0,-999.000
     33KB201_1,  PRS2,     2,  1,      1,   8001,2,20080527,1002, 22.7505,-158.0090, 4741,     76,     76.3,  23.8533,  35.0680,2,-999.0000,9,    214.4,1, 23.8374,   -999.0,9,  -999.00,9,  -999.00,9,  -999.00,9,  -999.0,-999.000
     33KB201_1,  PRS2,     2,  1,      5,   8005,2,20080527,1002, 22.7505,-158.0090, 4741,     76,     76.4,  23.8543,  35.0679,2,-999.0000,9,    213.9,1, 23.8383,   -999.0,9,  -999.00,9,  -999.00,9,  -999.00,9,  -999.0,-999.000
     33KB201_1,  PRS2,     2,  2,     22,   8022,2,20080527,1129, 22.7505,-158.0090, 4743,      7,      7.5,  25.3263,  34.7853,2,  34.7997,3,    210.8,1, 25.3246,   -999.0,9,  -999.00,9,  -999.00,9,  -999.00,9,  -999.0,-999.000
     33KB201_1,  PRS2,     2,  2,     24,   8024,2,20080527,1129, 22.7505,-158.0090, 4743,      7,      7.7,  25.3262,  34.7849,2,  34.7903,2,    210.9,1, 25.3245,   -999.0,9,  -999.00,9,  -999.00,9,  -999.00,9,  -999.0,-999.000
     33KB201_1,  PRS2,     2,  2,     23,   8023,2,20080527,1129, 22.7505,-158.0090, 4743,      6,      7.7,  25.3263,  34.7851,2,  34.7948,2,    210.8,1, 25.3247,   -999.0,9,  -999.00,9,  -999.00,9,  -999.00,9,  -999.0,-999.000
     33KB201_1,  PRS2,     2,  2,     18,   8018,2,20080527,1129, 22.7505,-158.0090, 4743,     25,     26.1,  25.2708,  35.1177,2,  35.1173,2,    211.8,1, 25.2651,   -999.0,9,  -999.00,9,  -999.00,9,  -999.00,9,  -999.0,-999.000
     33KB201_1,  PRS2,     2,  2,     21,   8021,2,20080527,1129, 22.7505,-158.0090, 4743,     26,     26.2,  25.2932,  35.1135,2,  35.1187,2,    211.8,1, 25.2875,   -999.0,9,  -999.00,9,  -999.00,9,  -999.00,9,  -999.0,-999.000
     33KB201_1,  PRS2,     2,  2,     20,   8020,2,20080527,1129, 22.7505,-158.0090, 4743,     26,     26.2,  25.2889,  35.1133,2,  35.1165,2,    211.9,1, 25.2832,   -999.0,9,  -999.00,9,  -999.00,9,  -999.00,9,  -999.0,-999.000
     33KB201_1,  PRS2,     2,  2,     19,   8019,2,20080527,1129, 22.7505,-158.0090, 4743,     25,     26.3,  25.2777,  35.1148,2,  35.1173,2,    211.9,1, 25.2719,   -999.0,9,  -999.00,9,  -999.00,9,  -999.00,9,  -999.0,-999.000
     33KB201_1,  PRS2,     2,  2,     16,   8016,2,20080527,1129, 22.7505,-158.0090, 4743,     46,     45.9,  24.7108,  35.1592,2,  35.1595,2,    213.9,1, 24.7010,   -999.0,9,  -999.00,9,  -999.00,9,  -999.00,9,  -999.0,-999.000
     33KB201_1,  PRS2,     2,  2,     17,   8017,2,20080527,1129, 22.7505,-158.0090, 4743,     45,     46.0,  24.7117,  35.1591,2,  35.1595,2,    213.9,1, 24.7019,   -999.0,9,  -999.00,9,  -999.00,9,  -999.00,9,  -999.0,-999.000
     33KB201_1,  PRS2,     2,  2,     15,   8015,2,20080527,1129, 22.7505,-158.0090, 4743,     45,     46.0,  24.7058,  35.1595,2,  35.1589,2,    213.8,1, 24.6959,   -999.0,9,  -999.00,9,  -999.00,9,  -999.00,9,  -999.0,-999.000
     33KB201_1,  PRS2,     2,  2,     12,   8012,2,20080527,1129, 22.7505,-158.0090, 4743,     75,     75.6,  23.8528,  35.0544,2,  35.0675,3,    213.2,1, 23.8369,   -999.0,9,  -999.00,9,  -999.00,9,  -999.00,9,  -999.0,-999.000
     33KB201_1,  PRS2,     2,  2,     13,   8025,2,20080527,1129, 22.7505,-158.0090, 4743,     75,     75.7,  23.8526,  35.0551,2,  35.0716,4,    213.4,1, 23.8367,   -999.0,9,  -999.00,9,  -999.00,9,  -999.00,9,  -999.0,-999.000
     33KB201_1,  PRS2,     2,  2,     14,   8014,2,20080527,1129, 22.7505,-158.0090, 4743,     75,     75.8,  23.8521,  35.0554,2,  35.0734,4,    213.5,1, 23.8362,   -999.0,9,  -999.00,9,  -999.00,9,  -999.00,9,  -999.0,-999.000
     33KB201_1,  PRS2,     2,  2,     11,   8011,2,20080527,1129, 22.7505,-158.0090, 4743,    101,    101.0,  23.2870,  35.2752,2,  35.2759,2,    219.1,1, 23.2662,   -999.0,9,  -999.00,9,  -999.00,9,  -999.00,9,  -999.0,-999.000
     33KB201_1,  PRS2,     2,  2,     10,   8010,2,20080527,1129, 22.7505,-158.0090, 4743,    100,    101.0,  23.2966,  35.2763,2,  35.2755,2,    219.0,1, 23.2757,   -999.0,9,  -999.00,9,  -999.00,9,  -999.00,9,  -999.0,-999.000
     33KB201_1,  PRS2,     2,  2,      9,   8009,2,20080527,1129, 22.7505,-158.0090, 4743,    100,    101.1,  23.2969,  35.2760,2,  35.2759,2,    218.9,1, 23.2761,   -999.0,9,  -999.00,9,  -999.00,9,  -999.00,9,  -999.0,-999.000
     33KB201_1,  PRS2,     2,  2,      8,   8008,2,20080527,1129, 22.7505,-158.0090, 4743,    125,    125.5,  22.6707,  35.2852,2,  35.2842,2,    218.0,1, 22.6453,   -999.0,9,  -999.00,9,  -999.00,9,  -999.00,9,  -999.0,-999.000
     33KB201_1,  PRS2,     2,  2,      7,   8026,2,20080527,1129, 22.7505,-158.0090, 4743,    126,    125.5,  22.6700,  35.2849,2,  35.2828,2,    217.6,1, 22.6447,   -999.0,9,  -999.00,9,  -999.00,9,  -999.00,9,  -999.0,-999.000
     33KB201_1,  PRS2,     2,  2,      6,   8006,2,20080527,1129, 22.7505,-158.0090, 4743,    125,    125.6,  22.6700,  35.2849,2,  35.2816,2,    217.1,1, 22.6446,   -999.0,9,  -999.00,9,  -999.00,9,  -999.00,9,  -999.0,-999.000
     33KB201_1,  PRS2,     2,  2,      5,   8005,2,20080527,1129, 22.7505,-158.0090, 4743,    150,    150.0,  21.3857,  35.2050,2,  35.1977,2,    199.1,1, 21.3566,   -999.0,9,  -999.00,9,  -999.00,9,  -999.00,9,  -999.0,-999.000
     33KB201_1,  PRS2,     2,  2,      4,   8004,2,20080527,1129, 22.7505,-158.0090, 4743,    175,    175.6,  20.1982,  35.0667,2,  35.0512,2,    189.3,1, 20.1655,   -999.0,9,  -999.00,9,  -999.00,9,  -999.00,9,  -999.0,-999.000
     33KB201_1,  PRS2,     2,  2,      3,   8003,2,20080527,1129, 22.7505,-158.0090, 4743,    299,    300.2,  12.5639,  34.2378,2,  34.2248,2,    186.8,1, 12.5237,   -999.0,9,  -999.00,9,  -999.00,9,  -999.00,9,  -999.0,-999.000
     33KB201_1,  PRS2,     2,  2,      2,   8002,2,20080527,1129, 22.7505,-158.0090, 4743,    700,    701.2,   5.1995,  34.2348,2,-999.0000,5,     31.5,1,  5.1418,   -999.0,9,  -999.00,9,  -999.00,9,  -999.00,9,  -999.0,-999.000
     33KB201_1,  PRS2,     2,  2,      1,   8001,2,20080527,1129, 22.7505,-158.0090, 4743,   1020,   1020.6,   3.8378,  34.4731,2,  34.4738,2,     44.3,1,  3.7617,   -999.0,9,  -999.00,9,  -999.00,9,  -999.00,9,  -999.0,-999.000