BOTTLE,20090923WHPSIOMYS
EXPOCODE,SECT_ID,STNNBR,CASTNO,SAMPNO,BTLNBR,BTLNBR_FLAG_W,DATE,TIME,LATITUDE,LONGITUDE,DEPTH,CTDRAW,CTDPRS,CTDTMP,CTDSAL,CTDSAL_FLAG_W,SALNTY,SALNTY_FLAG_W,CTDOXY,CTDOXY_FLAG_W,THETA,OXYGEN,OXYGEN_FLAG_W,SILCAT,SILCAT_FLAG_W,NO2+NO3,NO2+NO3_FLAG_W,PHSPHT,PHSPHT_FLAG_W,REVPRS,REVTMP
,,,,,,,,,,,,,DBAR,ITS-90,PSS-78,,PSS-78,,UMOL/KG,,ITS-90,UMOL/KG,,UMOL/KG,,UMOL/KG,,UMOL/KG,,DBAR,DEG C
     33KB201_1,  PRS2,     2,  6,     24,   8024,2,20080528,0255, 22.7655,-158.0698, 4757,      7,      7.0,  25.1410,  34.7212,2,  34.7213,2,    212.0,1, 25.1395,   -999.0,9,  -999.00,9,  -999.00,9,  -999.00,9,  -999.0,-999.000
     33KB201_1,  PRS2,     2,  6,     23,   8023,2,20080528,0255, 22.7655,-158.0698, 4757,     25,     25.8,  25.1071,  35.1375,2,  35.1360,2,    212.2,1, 25.1015,   -999.0,9,  -999.00,9,  -999.00,9,  -999.00,9,  -999.0,-999.000
     33KB201_1,  PRS2,     2,  6,     22,   8022,2,20080528,0255, 22.7655,-158.0698, 4757,     45,     45.8,  24.5844,  35.1654,2,  35.1654,2,    213.9,1, 24.5745,   -999.0,9,  -999.00,9,  -999.00,9,  -999.00,9,  -999.0,-999.000
     33KB201_1,  PRS2,     2,  6,     21,   8021,2,20080528,0255, 22.7655,-158.0698, 4757,     74,     75.4,  23.9286,  35.1672,2,  35.1679,2,    215.5,1, 23.9127,   -999.0,9,  -999.00,9,  -999.00,9,  -999.00,9,  -999.0,-999.000
     33KB201_1,  PRS2,     2,  6,     20,   8020,2,20080528,0255, 22.7655,-158.0698, 4757,    100,    100.3,  23.3485,  35.2659,2,  35.2643,2,    218.4,1, 23.3277,   -999.0,9,  -999.00,9,  -999.00,9,  -999.00,9,  -999.0,-999.000
     33KB201_1,  PRS2,     2,  6,     19,   8019,2,20080528,0255, 22.7655,-158.0698, 4757,    126,    125.1,  22.5146,  35.2821,2,-999.0000,5,    214.2,1, 22.4894,   -999.0,9,  -999.00,9,  -999.00,9,  -999.00,9,  -999.0,-999.000
     33KB201_1,  PRS2,     2,  6,     16,   8016,2,20080528,0255, 22.7655,-158.0698, 4757,    125,    125.3,  22.5103,  35.2817,2,-999.0000,5,    213.0,1, 22.4851,   -999.0,9,  -999.00,9,  -999.00,9,  -999.00,9,  -999.0,-999.000
     33KB201_1,  PRS2,     2,  6,     15,   8015,2,20080528,0255, 22.7655,-158.0698, 4757,    125,    125.3,  22.5087,  35.2814,2,-999.0000,5,    212.5,1, 22.4835,   -999.0,9,  -999.00,9,  -999.00,9,  -999.00,9,  -999.0,-999.000
     33KB201_1,  PRS2,     2,  6,     14,   8014,2,20080528,0255, 22.7655,-158.0698, 4757,    124,    125.3,  22.5059,  35.2818,2,  35.2800,2,    212.0,1, 22.4807,   -999.0,9,  -999.00,9,  -999.00,9,  -999.00,9,  -999.0,-999.000
     33KB201_1,  PRS2,     2,  6,     18,   8018,2,20080528,0255, 22.7655,-158.0698, 4757,    125,    125.4,  22.5119,  35.2823,2,-999.0000,5,    213.8,1, 22.4867,   -999.0,9,  -999.00,9,  -999.00,9,  -999.00,9,  -999.0,-999.000
     33KB201_1,  PRS2,     2,  6,     17,   8017,2,20080528,0255, 22.7655,-158.0698, 4757,    125,    125.4,  22.5112,  35.2820,2,-999.0000,5,    213.4,1, 22.4860,   -999.0,9,  -999.00,9,  -999.00,9,  -999.00,9,  -999.0,-999.000
     33KB201_1,  PRS2,     2,  6,     13,   8025,2,20080528,0255, 22.7655,-158.0698, 4757,    149,    149.7,  21.3025,  35.1959,2,  35.1890,2,    197.8,1, 21.2736,   -999.0,9,  -999.00,9,  -999.00,9,  -999.00,9,  -999.0,-999.000
     33KB201_1,  PRS2,     2,  6,     12,   8012,2,20080528,0255, 22.7655,-158.0698, 4757,    175,    175.0,  19.8810,  35.0283,2,  35.0256,2,    190.0,1, 19.8488,   -999.0,9,  -999.00,9,  -999.00,9,  -999.00,9,  -999.0,-999.000
     33KB201_1,  PRS2,     2,  6,     11,   8011,2,20080528,0255, 22.7655,-158.0698, 4757,    199,    199.6,  18.5504,  34.8663,2,-999.0000,5,    185.9,1, 18.5155,   -999.0,9,  -999.00,9,  -999.00,9,  -999.00,9,  -999.0,-999.000
     33KB201_1,  PRS2,     2,  6,     10,   8010,2,20080528,0255, 22.7655,-158.0698, 4757,    199,    199.6,  18.5587,  34.8677,2,-999.0000,5,    185.9,1, 18.5237,   -999.0,9,  -999.00,9,  -999.00,9,  -999.00,9,  -999.0,-999.000
     33KB201_1,  PRS2,     2,  6,      9,   8009,2,20080528,0255, 22.7655,-158.0698, 4757,    199,    199.6,  18.5622,  34.8675,2,-999.0000,5,    186.0,1, 18.5272,   -999.0,9,  -999.00,9,  -999.00,9,  -999.00,9,  -999.0,-999.000
     33KB201_1,  PRS2,     2,  6,      8,   8008,2,20080528,0255, 22.7655,-158.0698, 4757,    199,    199.6,  18.5642,  34.8679,2,-999.0000,5,    186.1,1, 18.5292,   -999.0,9,  -999.00,9,  -999.00,9,  -999.00,9,  -999.0,-999.000
     33KB201_1,  PRS2,     2,  6,      7,   8026,2,20080528,0255, 22.7655,-158.0698, 4757,    199,    199.6,  18.5656,  34.8680,2,-999.0000,5,    186.2,1, 18.5305,   -999.0,9,  -999.00,9,  -999.00,9,  -999.00,9,  -999.0,-999.000
     33KB201_1,  PRS2,     2,  6,      6,   8006,2,20080528,0255, 22.7655,-158.0698, 4757,    199,    199.6,  18.5643,  34.8680,2,  34.8690,2,    186.2,1, 18.5293,   -999.0,9,  -999.00,9,  -999.00,9,  -999.00,9,  -999.0,-999.000
     33KB201_1,  PRS2,     2,  6,      5,   8005,2,20080528,0255, 22.7655,-158.0698, 4757,    250,    249.9,  15.4094,  34.5323,2,  34.5203,2,    194.9,1, 15.3709,   -999.0,9,  -999.00,9,  -999.00,9,  -999.00,9,  -999.0,-999.000
     33KB201_1,  PRS2,     2,  6,      4,   8004,2,20080528,0255, 22.7655,-158.0698, 4757,    349,    349.9,  11.3192,  34.2413,2,  34.2360,2,    202.1,1, 11.2754,   -999.0,9,  -999.00,9,  -999.00,9,  -999.00,9,  -999.0,-999.000
     33KB201_1,  PRS2,     2,  6,      3,   8003,2,20080528,0255, 22.7655,-158.0698, 4757,    349,    350.0,  11.3270,  34.2428,2,  34.2362,2,    202.2,1, 11.2831,   -999.0,9,  -999.00,9,  -999.00,9,  -999.00,9,  -999.0,-999.000
     33KB201_1,  PRS2,     2,  6,      2,   8002,2,20080528,0255, 22.7655,-158.0698, 4757,    520,    520.0,   6.8032,  34.0537,2,  34.0552,2,    106.3,1,  6.7548,   -999.0,9,  -999.00,9,  -999.00,9,  -999.00,9,  -999.0,-999.000
     33KB201_1,  PRS2,     2,  6,      1,   8001,2,20080528,0255, 22.7655,-158.0698, 4757,   1020,   1020.5,   3.8118,  34.4845,2,  34.4830,2,     45.0,1,  3.7359,   -999.0,9,  -999.00,9,  -999.00,9,  -999.00,9,  -999.0,-999.000
     33KB201_1,  PRS2,     2,  7,     22,   8022,2,20080528,0556, 22.7690,-158.0777, 4754,      8,      8.1,  25.2290,  34.7791,2,  34.7860,2,    210.1,2, 25.2273,    209.8,2,  -999.00,9,  -999.00,9,  -999.00,9,  -999.0,-999.000
     33KB201_1,  PRS2,     2,  7,     23,   8023,2,20080528,0556, 22.7690,-158.0777, 4754,      8,      8.2,  25.2302,  34.7783,2,  34.7821,2,    210.0,2, 25.2284,   -999.0,5,  -999.00,9,  -999.00,9,  -999.00,9,  -999.0,-999.000
     33KB201_1,  PRS2,     2,  7,     21,   8021,2,20080528,0556, 22.7690,-158.0777, 4754,     18,     18.1,  25.2798,  34.9545,2,  34.9532,2,    211.1,2, 25.2759,   -999.0,5,  -999.00,9,  -999.00,9,  -999.00,9,  -999.0,-999.000
     33KB201_1,  PRS2,     2,  7,     20,   8020,2,20080528,0556, 22.7690,-158.0777, 4754,     26,     25.7,  25.1410,  35.0965,2,  35.0941,2,    211.4,2, 25.1354,   -999.0,5,  -999.00,9,  -999.00,9,  -999.00,9,  -999.0,-999.000
     33KB201_1,  PRS2,     2,  7,     19,   8019,2,20080528,0556, 22.7690,-158.0777, 4754,     25,     25.9,  25.1080,  35.1018,2,  35.0896,3,    211.6,3, 25.1024,    212.4,2,  -999.00,9,  -999.00,9,  -999.00,9,  -999.0,-999.000
     33KB201_1,  PRS2,     2,  7,     18,   8018,2,20080528,0556, 22.7690,-158.0777, 4754,     36,     36.5,  24.6471,  35.1432,2,  35.1425,2,    213.0,2, 24.6393,   -999.0,5,  -999.00,9,  -999.00,9,  -999.00,9,  -999.0,-999.000
     33KB201_1,  PRS2,     2,  7,     17,   8017,2,20080528,0556, 22.7690,-158.0777, 4754,     45,     45.6,  24.5650,  35.1732,2,  35.1725,2,    213.3,2, 24.5552,    213.7,2,  -999.00,9,  -999.00,9,  -999.00,9,  -999.0,-999.000
     33KB201_1,  PRS2,     2,  7,     16,   8016,2,20080528,0556, 22.7690,-158.0777, 4754,     60,     60.9,  24.1873,  35.1111,2,  35.0992,2,    213.8,2, 24.1744,   -999.0,5,  -999.00,9,  -999.00,9,  -999.00,9,  -999.0,-999.000
     33KB201_1,  PRS2,     2,  7,     15,   8015,2,20080528,0556, 22.7690,-158.0777, 4754,     75,     75.9,  23.7757,  35.1827,2,  35.1817,2,    217.4,2, 23.7599,    217.5,2,  -999.00,9,  -999.00,9,  -999.00,9,  -999.0,-999.000
     33KB201_1,  PRS2,     2,  7,     14,   8014,2,20080528,0556, 22.7690,-158.0777, 4754,     84,     85.9,  23.6738,  35.2124,2,  35.2091,2,    217.7,2, 23.6559,    217.4,2,  -999.00,9,  -999.00,9,  -999.00,9,  -999.0,-999.000
     33KB201_1,  PRS2,     2,  7,     13,   8025,2,20080528,0556, 22.7690,-158.0777, 4754,     90,     90.9,  23.6424,  35.2531,2,  35.2521,2,    216.9,2, 23.6234,   -999.0,5,  -999.00,9,  -999.00,9,  -999.00,9,  -999.0,-999.000
     33KB201_1,  PRS2,     2,  7,     12,   8012,2,20080528,0556, 22.7690,-158.0777, 4754,     99,    100.3,  23.4461,  35.2668,2,  35.2649,2,    217.1,2, 23.4253,    216.9,2,  -999.00,9,  -999.00,9,  -999.00,9,  -999.0,-999.000
     33KB201_1,  PRS2,     2,  7,     11,   8011,2,20080528,0556, 22.7690,-158.0777, 4754,    110,    111.3,  23.1110,  35.2594,2,  35.2582,2,    219.7,2, 23.0882,   -999.0,5,  -999.00,9,  -999.00,9,  -999.00,9,  -999.0,-999.000
     33KB201_1,  PRS2,     2,  7,     10,   8010,2,20080528,0556, 22.7690,-158.0777, 4754,    115,    115.7,  22.9829,  35.2672,2,  35.2649,2,    219.7,2, 22.9593,    219.7,2,  -999.00,9,  -999.00,9,  -999.00,9,  -999.0,-999.000
     33KB201_1,  PRS2,     2,  7,      9,   8009,2,20080528,0556, 22.7690,-158.0777, 4754,    126,    126.2,  22.9224,  35.2733,2,  35.2725,2,    219.4,2, 22.8967,    219.4,2,  -999.00,9,  -999.00,9,  -999.00,9,  -999.0,-999.000
     33KB201_1,  PRS2,     2,  7,      8,   8008,2,20080528,0556, 22.7690,-158.0777, 4754,    130,    130.6,  22.8153,  35.2792,2,  35.2787,2,    218.9,2, 22.7887,   -999.0,5,  -999.00,9,  -999.00,9,  -999.00,9,  -999.0,-999.000
     33KB201_1,  PRS2,     2,  7,      7,   8026,2,20080528,0556, 22.7690,-158.0777, 4754,    149,    150.4,  22.3293,  35.2703,2,  35.2702,2,    211.5,2, 22.2992,    212.2,2,  -999.00,9,  -999.00,9,  -999.00,9,  -999.0,-999.000
     33KB201_1,  PRS2,     2,  7,      6,   8006,2,20080528,0556, 22.7690,-158.0777, 4754,    165,    165.7,  21.3157,  35.1973,2,  35.1955,2,    196.9,2, 21.2836,    199.7,3,  -999.00,9,  -999.00,9,  -999.00,9,  -999.0,-999.000
     33KB201_1,  PRS2,     2,  7,      5,   8005,2,20080528,0556, 22.7690,-158.0777, 4754,    174,    175.3,  20.6627,  35.1192,2,  35.1226,2,    192.3,2, 20.6295,    194.7,3,  -999.00,9,  -999.00,9,  -999.00,9,  -999.0,-999.000
     33KB201_1,  PRS2,     2,  7,      4,   8004,2,20080528,0556, 22.7690,-158.0777, 4754,    200,    201.2,  19.0508,  34.9265,2,  34.9303,2,    188.0,2, 19.0148,    189.3,2,  -999.00,9,  -999.00,9,  -999.00,9,  -999.0,-999.000
     33KB201_1,  PRS2,     2,  7,      3,   8003,2,20080528,0556, 22.7690,-158.0777, 4754,    520,    520.9,   6.9360,  34.0523,2,  34.0529,2,    111.9,2,  6.8871,    111.9,2,  -999.00,9,  -999.00,9,  -999.00,9,  -999.0,-999.000
     33KB201_1,  PRS2,     2,  7,      2,   8002,2,20080528,0556, 22.7690,-158.0777, 4754,    820,    821.2,   4.4864,  34.3620,2,  34.3670,2,     27.3,2,  4.4224,     28.3,2,  -999.00,9,  -999.00,9,  -999.00,9,  -999.0,-999.000
     33KB201_1,  PRS2,     2,  7,      1,   8001,2,20080528,0556, 22.7690,-158.0777, 4754,   1020,   1020.6,   3.9279,  34.4756,2,  34.4754,2,     42.0,2,  3.8511,     41.7,2,  -999.00,9,  -999.00,9,  -999.00,9,  -999.0,-999.000
     33KB201_1,  PRS2,     2,  8,     24,   8024,2,20080528,0853, 22.7312,-158.0612, 4764,      6,      6.6,  25.2827,  34.8146,2,  34.8161,2,    209.5,1, 25.2813,   -999.0,9,  -999.00,9,  -999.00,9,  -999.00,9,  -999.0,-999.000
     33KB201_1,  PRS2,     2,  8,     23,   8023,2,20080528,0853, 22.7312,-158.0612, 4764,     25,     26.1,  25.2860,  34.8149,2,  34.8263,2,    209.5,1, 25.2803,   -999.0,9,  -999.00,9,  -999.00,9,  -999.00,9,  -999.0,-999.000
     33KB201_1,  PRS2,     2,  8,     22,   8022,2,20080528,0853, 22.7312,-158.0612, 4764,     46,     45.8,  24.7064,  35.1378,2,  35.1404,2,    212.8,1, 24.6966,   -999.0,9,  -999.00,9,  -999.00,9,  -999.00,9,  -999.0,-999.000
     33KB201_1,  PRS2,     2,  8,     21,   8021,2,20080528,0853, 22.7312,-158.0612, 4764,     75,     75.5,  23.9248,  35.0618,2,  35.0915,3,    213.0,1, 23.9089,   -999.0,9,  -999.00,9,  -999.00,9,  -999.00,9,  -999.0,-999.000
     33KB201_1,  PRS2,     2,  8,     20,   8020,2,20080528,0853, 22.7312,-158.0612, 4764,    100,    101.0,  23.3195,  35.2303,2,  35.2308,2,    219.6,1, 23.2986,   -999.0,9,  -999.00,9,  -999.00,9,  -999.00,9,  -999.0,-999.000
     33KB201_1,  PRS2,     2,  8,     19,   8019,2,20080528,0853, 22.7312,-158.0612, 4764,    124,    124.9,  22.7612,  35.2794,2,  35.2802,2,    218.3,1, 22.7358,   -999.0,9,  -999.00,9,  -999.00,9,  -999.00,9,  -999.0,-999.000
     33KB201_1,  PRS2,     2,  8,     18,   8018,2,20080528,0853, 22.7312,-158.0612, 4764,    151,    151.3,  21.8345,  35.2484,2,  35.2414,2,    203.7,1, 21.8048,   -999.0,9,  -999.00,9,  -999.00,9,  -999.00,9,  -999.0,-999.000
     33KB201_1,  PRS2,     2,  8,     17,   8017,2,20080528,0853, 22.7312,-158.0612, 4764,    175,    175.9,  20.1923,  35.0610,2,  35.0496,2,    189.7,1, 20.1595,   -999.0,9,  -999.00,9,  -999.00,9,  -999.00,9,  -999.0,-999.000
     33KB201_1,  PRS2,     2,  8,     15,   8015,2,20080528,0853, 22.7312,-158.0612, 4764,    501,    500.9,   7.4204,  34.0587,2,-999.0000,5,    125.9,1,  7.3716,   -999.0,9,  -999.00,9,  -999.00,9,  -999.00,9,  -999.0,-999.000
     33KB201_1,  PRS2,     2,  8,     16,   8016,2,20080528,0853, 22.7312,-158.0612, 4764,    501,    501.0,   7.4324,  34.0585,2,-999.0000,5,    126.2,1,  7.3835,   -999.0,9,  -999.00,9,  -999.00,9,  -999.00,9,  -999.0,-999.000
     33KB201_1,  PRS2,     2,  8,     14,   8014,2,20080528,0853, 22.7312,-158.0612, 4764,    501,    501.0,   7.4115,  34.0589,2,-999.0000,5,    125.4,1,  7.3628,   -999.0,9,  -999.00,9,  -999.00,9,  -999.00,9,  -999.0,-999.000
     33KB201_1,  PRS2,     2,  8,     13,   8025,2,20080528,0853, 22.7312,-158.0612, 4764,    501,    501.0,   7.3982,  34.0585,2,-999.0000,5,    125.1,1,  7.3495,   -999.0,9,  -999.00,9,  -999.00,9,  -999.00,9,  -999.0,-999.000
     33KB201_1,  PRS2,     2,  8,     12,   8012,2,20080528,0853, 22.7312,-158.0612, 4764,    501,    501.1,   7.3743,  34.0585,2,-999.0000,5,    124.5,1,  7.3256,   -999.0,9,  -999.00,9,  -999.00,9,  -999.00,9,  -999.0,-999.000
     33KB201_1,  PRS2,     2,  8,     11,   8011,2,20080528,0853, 22.7312,-158.0612, 4764,    521,    520.9,   6.7679,  34.0524,2,  34.0541,2,    107.7,1,  6.7196,   -999.0,9,  -999.00,9,  -999.00,9,  -999.00,9,  -999.0,-999.000
     33KB201_1,  PRS2,     2,  8,     10,   8010,2,20080528,0853, 22.7312,-158.0612, 4764,    769,    770.4,   4.6685,  34.3058,2,-999.0000,5,     30.1,1,  4.6078,   -999.0,9,  -999.00,9,  -999.00,9,  -999.00,9,  -999.0,-999.000
     33KB201_1,  PRS2,     2,  8,      9,   8009,2,20080528,0853, 22.7312,-158.0612, 4764,    770,    770.4,   4.6657,  34.3052,2,-999.0000,5,     30.0,1,  4.6051,   -999.0,9,  -999.00,9,  -999.00,9,  -999.00,9,  -999.0,-999.000
     33KB201_1,  PRS2,     2,  8,      6,   8006,2,20080528,0853, 22.7312,-158.0612, 4764,    770,    770.5,   4.6669,  34.3075,2,-999.0000,5,     29.3,1,  4.6062,   -999.0,9,  -999.00,9,  -999.00,9,  -999.00,9,  -999.0,-999.000
     33KB201_1,  PRS2,     2,  8,      8,   8008,2,20080528,0853, 22.7312,-158.0612, 4764,    769,    770.6,   4.6660,  34.3062,2,-999.0000,5,     29.8,1,  4.6053,   -999.0,9,  -999.00,9,  -999.00,9,  -999.00,9,  -999.0,-999.000
     33KB201_1,  PRS2,     2,  8,      7,   8026,2,20080528,0853, 22.7312,-158.0612, 4764,    770,    770.6,   4.6662,  34.3064,2,-999.0000,5,     29.6,1,  4.6055,   -999.0,9,  -999.00,9,  -999.00,9,  -999.00,9,  -999.0,-999.000
     33KB201_1,  PRS2,     2,  8,      5,   8005,2,20080528,0853, 22.7312,-158.0612, 4764,   1020,   1020.5,   3.8730,  34.4747,2,-999.0000,5,     41.7,1,  3.7967,   -999.0,9,  -999.00,9,  -999.00,9,  -999.00,9,  -999.0,-999.000
     33KB201_1,  PRS2,     2,  8,      4,   8004,2,20080528,0853, 22.7312,-158.0612, 4764,   1020,   1020.6,   3.8743,  34.4741,2,-999.0000,5,     41.8,1,  3.7980,   -999.0,9,  -999.00,9,  -999.00,9,  -999.00,9,  -999.0,-999.000
     33KB201_1,  PRS2,     2,  8,      3,   8003,2,20080528,0853, 22.7312,-158.0612, 4764,   1020,   1020.6,   3.8758,  34.4742,2,-999.0000,5,     41.8,1,  3.7994,   -999.0,9,  -999.00,9,  -999.00,9,  -999.00,9,  -999.0,-999.000
     33KB201_1,  PRS2,     2,  8,      2,   8002,2,20080528,0853, 22.7312,-158.0612, 4764,   1020,   1020.6,   3.8774,  34.4734,2,-999.0000,5,     41.9,1,  3.8010,   -999.0,9,  -999.00,9,  -999.00,9,  -999.00,9,  -999.0,-999.000
     33KB201_1,  PRS2,     2,  8,      1,   8001,2,20080528,0853, 22.7312,-158.0612, 4764,   1020,   1020.6,   3.8817,  34.4722,2,-999.0000,5,     42.0,1,  3.8053,   -999.0,9,  -999.00,9,  -999.00,9,  -999.00,9,  -999.0,-999.000