BOTTLE,20090923WHPSIOMYS
EXPOCODE,SECT_ID,STNNBR,CASTNO,SAMPNO,BTLNBR,BTLNBR_FLAG_W,DATE,TIME,LATITUDE,LONGITUDE,DEPTH,CTDRAW,CTDPRS,CTDTMP,CTDSAL,CTDSAL_FLAG_W,SALNTY,SALNTY_FLAG_W,CTDOXY,CTDOXY_FLAG_W,THETA,OXYGEN,OXYGEN_FLAG_W,SILCAT,SILCAT_FLAG_W,NO2+NO3,NO2+NO3_FLAG_W,PHSPHT,PHSPHT_FLAG_W,REVPRS,REVTMP
,,,,,,,,,,,,,DBAR,ITS-90,PSS-78,,PSS-78,,UMOL/KG,,ITS-90,UMOL/KG,,UMOL/KG,,UMOL/KG,,UMOL/KG,,DBAR,DEG C
     33KB201_1,  PRS2,     2,  9,     24,   8024,2,20080528,1158, 22.7485,-157.9968, 4742,      7,      7.0,  25.3038,  34.9379,2,-999.0000,9,    208.0,1, 25.3022,   -999.0,9,  -999.00,9,  -999.00,9,  -999.00,9,  -999.0,-999.000
     33KB201_1,  PRS2,     2,  9,     23,   8023,2,20080528,1158, 22.7485,-157.9968, 4742,      6,      7.1,  25.3150,  34.9277,2,-999.0000,9,    208.0,1, 25.3135,   -999.0,9,  -999.00,9,  -999.00,9,  -999.00,9,  -999.0,-999.000
     33KB201_1,  PRS2,     2,  9,     22,   8022,2,20080528,1158, 22.7485,-157.9968, 4742,      7,      7.1,  25.3176,  34.9260,2,-999.0000,9,    208.3,1, 25.3160,   -999.0,9,  -999.00,9,  -999.00,9,  -999.00,9,  -999.0,-999.000
     33KB201_1,  PRS2,     2,  9,     21,   8021,2,20080528,1158, 22.7485,-157.9968, 4742,      6,      7.2,  25.3191,  34.9244,2,-999.0000,9,    208.7,1, 25.3176,   -999.0,9,  -999.00,9,  -999.00,9,  -999.00,9,  -999.0,-999.000
     33KB201_1,  PRS2,     2,  9,     19,   8019,2,20080528,1158, 22.7485,-157.9968, 4742,     25,     25.0,  24.7008,  35.0551,2,-999.0000,9,    213.4,1, 24.6954,   -999.0,9,  -999.00,9,  -999.00,9,  -999.00,9,  -999.0,-999.000
     33KB201_1,  PRS2,     2,  9,     20,   8020,2,20080528,1158, 22.7485,-157.9968, 4742,     25,     25.1,  24.6997,  35.0554,2,-999.0000,9,    213.5,1, 24.6943,   -999.0,9,  -999.00,9,  -999.00,9,  -999.00,9,  -999.0,-999.000
     33KB201_1,  PRS2,     2,  9,     18,   8018,2,20080528,1158, 22.7485,-157.9968, 4742,     24,     25.1,  24.7010,  35.0552,2,-999.0000,9,    213.4,1, 24.6956,   -999.0,9,  -999.00,9,  -999.00,9,  -999.00,9,  -999.0,-999.000
     33KB201_1,  PRS2,     2,  9,     17,   8017,2,20080528,1158, 22.7485,-157.9968, 4742,     25,     25.1,  24.7014,  35.0553,2,-999.0000,9,    213.3,1, 24.6960,   -999.0,9,  -999.00,9,  -999.00,9,  -999.00,9,  -999.0,-999.000
     33KB201_1,  PRS2,     2,  9,     14,   8014,2,20080528,1158, 22.7485,-157.9968, 4742,     45,     45.4,  24.4500,  35.0896,2,-999.0000,9,    215.8,1, 24.4403,   -999.0,9,  -999.00,9,  -999.00,9,  -999.00,9,  -999.0,-999.000
     33KB201_1,  PRS2,     2,  9,     13,   8025,2,20080528,1158, 22.7485,-157.9968, 4742,     44,     45.4,  24.4492,  35.0898,2,-999.0000,9,    215.7,1, 24.4395,   -999.0,9,  -999.00,9,  -999.00,9,  -999.00,9,  -999.0,-999.000
     33KB201_1,  PRS2,     2,  9,     15,   8015,2,20080528,1158, 22.7485,-157.9968, 4742,     45,     45.5,  24.4484,  35.0897,2,-999.0000,9,    215.8,1, 24.4386,   -999.0,9,  -999.00,9,  -999.00,9,  -999.00,9,  -999.0,-999.000
     33KB201_1,  PRS2,     2,  9,     16,   8016,2,20080528,1158, 22.7485,-157.9968, 4742,     45,     45.7,  24.4466,  35.0893,2,-999.0000,9,    215.8,1, 24.4369,   -999.0,9,  -999.00,9,  -999.00,9,  -999.00,9,  -999.0,-999.000
     33KB201_1,  PRS2,     2,  9,     12,   8012,2,20080528,1158, 22.7485,-157.9968, 4742,     75,     75.6,  23.8236,  35.2233,2,-999.0000,9,    217.6,1, 23.8078,   -999.0,9,  -999.00,9,  -999.00,9,  -999.00,9,  -999.0,-999.000
     33KB201_1,  PRS2,     2,  9,      9,   8009,2,20080528,1158, 22.7485,-157.9968, 4742,     75,     75.6,  23.8201,  35.2251,2,-999.0000,9,    217.6,1, 23.8043,   -999.0,9,  -999.00,9,  -999.00,9,  -999.00,9,  -999.0,-999.000
     33KB201_1,  PRS2,     2,  9,     11,   8011,2,20080528,1158, 22.7485,-157.9968, 4742,     75,     75.7,  23.8224,  35.2240,2,-999.0000,9,    217.6,1, 23.8066,   -999.0,9,  -999.00,9,  -999.00,9,  -999.00,9,  -999.0,-999.000
     33KB201_1,  PRS2,     2,  9,     10,   8010,2,20080528,1158, 22.7485,-157.9968, 4742,     75,     75.7,  23.8209,  35.2248,2,-999.0000,9,    217.6,1, 23.8051,   -999.0,9,  -999.00,9,  -999.00,9,  -999.00,9,  -999.0,-999.000
     33KB201_1,  PRS2,     2,  9,      8,   8008,2,20080528,1158, 22.7485,-157.9968, 4742,    102,    101.4,  23.1713,  35.2536,2,-999.0000,9,    219.7,1, 23.1504,   -999.0,9,  -999.00,9,  -999.00,9,  -999.00,9,  -999.0,-999.000
     33KB201_1,  PRS2,     2,  9,      7,   8026,2,20080528,1158, 22.7485,-157.9968, 4742,    101,    101.4,  23.2050,  35.2518,2,-999.0000,9,    219.8,1, 23.1842,   -999.0,9,  -999.00,9,  -999.00,9,  -999.00,9,  -999.0,-999.000
     33KB201_1,  PRS2,     2,  9,      6,   8006,2,20080528,1158, 22.7485,-157.9968, 4742,    101,    101.4,  23.2078,  35.2528,2,-999.0000,9,    219.9,1, 23.1870,   -999.0,9,  -999.00,9,  -999.00,9,  -999.00,9,  -999.0,-999.000
     33KB201_1,  PRS2,     2,  9,      4,   8004,2,20080528,1158, 22.7485,-157.9968, 4742,    125,    125.7,  22.5192,  35.3028,2,-999.0000,9,    214.2,1, 22.4939,   -999.0,9,  -999.00,9,  -999.00,9,  -999.00,9,  -999.0,-999.000
     33KB201_1,  PRS2,     2,  9,      3,   8003,2,20080528,1158, 22.7485,-157.9968, 4742,    126,    125.8,  22.5236,  35.3032,2,-999.0000,9,    214.1,1, 22.4983,   -999.0,9,  -999.00,9,  -999.00,9,  -999.00,9,  -999.0,-999.000
     33KB201_1,  PRS2,     2,  9,      5,   8005,2,20080528,1158, 22.7485,-157.9968, 4742,    125,    126.0,  22.5042,  35.3021,2,-999.0000,9,    214.3,1, 22.4788,   -999.0,9,  -999.00,9,  -999.00,9,  -999.00,9,  -999.0,-999.000
     33KB201_1,  PRS2,     2,  9,      2,   8002,2,20080528,1158, 22.7485,-157.9968, 4742,    150,    150.6,  21.6757,  35.2277,2,-999.0000,9,    200.1,1, 21.6461,   -999.0,9,  -999.00,9,  -999.00,9,  -999.00,9,  -999.0,-999.000
     33KB201_1,  PRS2,     2,  9,      1,   8001,2,20080528,1158, 22.7485,-157.9968, 4742,    176,    176.3,  20.2783,  35.0756,2,-999.0000,9,    191.4,1, 20.2453,   -999.0,9,  -999.00,9,  -999.00,9,  -999.00,9,  -999.0,-999.000
     33KB201_1,  PRS2,     2, 10,     20,   8020,2,20080528,1522, 22.7475,-157.9940, 4744,     12,     12.8,  24.6791,  35.0355,2,  35.0335,2,    214.1,1, 24.6764,   -999.0,9,  -999.00,9,  -999.00,9,  -999.00,9,  -999.0,-999.000
     33KB201_1,  PRS2,     2, 10,     18,   8018,2,20080528,1522, 22.7475,-157.9940, 4744,     23,     24.5,  24.6294,  35.0413,2,-999.0000,5,    214.1,1, 24.6242,   -999.0,9,  -999.00,9,  -999.00,9,  -999.00,9,  -999.0,-999.000
     33KB201_1,  PRS2,     2, 10,     19,   8019,2,20080528,1522, 22.7475,-157.9940, 4744,     24,     24.7,  24.6294,  35.0410,2,-999.0000,5,    214.0,1, 24.6241,   -999.0,9,  -999.00,9,  -999.00,9,  -999.00,9,  -999.0,-999.000
     33KB201_1,  PRS2,     2, 10,     17,   8017,2,20080528,1522, 22.7475,-157.9940, 4744,     25,     24.8,  24.6291,  35.0415,2,-999.0000,5,    214.2,1, 24.6238,   -999.0,9,  -999.00,9,  -999.00,9,  -999.00,9,  -999.0,-999.000
     33KB201_1,  PRS2,     2, 10,     16,   8016,2,20080528,1522, 22.7475,-157.9940, 4744,     44,     44.2,  24.5191,  35.0926,2,-999.0000,5,    214.1,1, 24.5097,   -999.0,9,  -999.00,9,  -999.00,9,  -999.00,9,  -999.0,-999.000
     33KB201_1,  PRS2,     2, 10,     15,   8015,2,20080528,1522, 22.7475,-157.9940, 4744,     74,     75.0,  24.0586,  35.1394,2,-999.0000,5,    216.4,1, 24.0428,   -999.0,9,  -999.00,9,  -999.00,9,  -999.00,9,  -999.0,-999.000
     33KB201_1,  PRS2,     2, 10,     14,   8014,2,20080528,1522, 22.7475,-157.9940, 4744,     99,     99.2,  23.3484,  35.2725,2,-999.0000,5,    218.0,1, 23.3279,   -999.0,9,  -999.00,9,  -999.00,9,  -999.00,9,  -999.0,-999.000
     33KB201_1,  PRS2,     2, 10,     13,   8025,2,20080528,1522, 22.7475,-157.9940, 4744,    125,    125.0,  22.4574,  35.3068,2,  35.3072,2,    213.8,1, 22.4323,   -999.0,9,  -999.00,9,  -999.00,9,  -999.00,9,  -999.0,-999.000
     33KB201_1,  PRS2,     2, 10,     10,   8010,2,20080528,1522, 22.7475,-157.9940, 4744,    139,    140.1,  21.7707,  35.2489,2,-999.0000,5,    206.1,1, 21.7432,   -999.0,9,  -999.00,9,  -999.00,9,  -999.00,9,  -999.0,-999.000
     33KB201_1,  PRS2,     2, 10,     11,   8011,2,20080528,1522, 22.7475,-157.9940, 4744,    139,    140.2,  21.7707,  35.2490,2,-999.0000,5,    206.5,1, 21.7431,   -999.0,9,  -999.00,9,  -999.00,9,  -999.00,9,  -999.0,-999.000
     33KB201_1,  PRS2,     2, 10,     12,   8012,2,20080528,1522, 22.7475,-157.9940, 4744,    140,    140.3,  21.7707,  35.2490,2,-999.0000,5,    206.8,1, 21.7431,   -999.0,9,  -999.00,9,  -999.00,9,  -999.00,9,  -999.0,-999.000
     33KB201_1,  PRS2,     2, 10,      9,   8009,2,20080528,1522, 22.7475,-157.9940, 4744,    148,    149.1,  21.3264,  35.2221,2,-999.0000,5,    198.1,1, 21.2976,   -999.0,9,  -999.00,9,  -999.00,9,  -999.00,9,  -999.0,-999.000
     33KB201_1,  PRS2,     2, 10,      8,   8008,2,20080528,1522, 22.7475,-157.9940, 4744,    174,    175.2,  19.5374,  34.9876,2,-999.0000,5,    186.6,1, 19.5055,   -999.0,9,  -999.00,9,  -999.00,9,  -999.00,9,  -999.0,-999.000
     33KB201_1,  PRS2,     2, 10,      7,   8026,2,20080528,1522, 22.7475,-157.9940, 4744,    198,    199.0,  17.5636,  34.7433,2,-999.0000,5,    185.1,1, 17.5301,   -999.0,9,  -999.00,9,  -999.00,9,  -999.00,9,  -999.0,-999.000
     33KB201_1,  PRS2,     2, 10,      6,   8006,2,20080528,1522, 22.7475,-157.9940, 4744,    400,    400.4,   9.6260,  34.1220,2,  34.1238,2,    170.5,1,  9.5807,   -999.0,9,  -999.00,9,  -999.00,9,  -999.00,9,  -999.0,-999.000
     33KB201_1,  PRS2,     2, 10,      5,   8005,2,20080528,1522, 22.7475,-157.9940, 4744,    524,    524.7,   6.7725,  34.0506,2,  34.0521,2,    105.6,1,  6.7238,   -999.0,9,  -999.00,9,  -999.00,9,  -999.00,9,  -999.0,-999.000
     33KB201_1,  PRS2,     2, 10,      4,   8004,2,20080528,1522, 22.7475,-157.9940, 4744,    601,    601.3,   5.8627,  34.1274,2,-999.0000,5,     58.8,1,  5.8108,   -999.0,9,  -999.00,9,  -999.00,9,  -999.00,9,  -999.0,-999.000
     33KB201_1,  PRS2,     2, 10,      3,   8003,2,20080528,1522, 22.7475,-157.9940, 4744,    799,    800.3,   4.3277,  34.3640,2,-999.0000,5,     31.1,1,  4.2665,   -999.0,9,  -999.00,9,  -999.00,9,  -999.00,9,  -999.0,-999.000
     33KB201_1,  PRS2,     2, 10,      2,   8002,2,20080528,1522, 22.7475,-157.9940, 4744,   1020,   1020.9,   3.7466,  34.4767,2,-999.0000,5,     45.0,1,  3.6713,   -999.0,9,  -999.00,9,  -999.00,9,  -999.00,9,  -999.0,-999.000
     33KB201_1,  PRS2,     2, 10,      1,   8001,2,20080528,1522, 22.7475,-157.9940, 4744,   1020,   1020.9,   3.7469,  34.4764,2,  34.4763,2,     45.0,1,  3.6715,   -999.0,9,  -999.00,9,  -999.00,9,  -999.00,9,  -999.0,-999.000
     33KB201_1,  PRS2,     2, 11,     24,   8024,2,20080528,1759, 22.7327,-157.9907, 4741,      6,      6.4,  25.2536,  34.9040,2,-999.0000,5,    212.5,1, 25.2522,   -999.0,9,  -999.00,9,  -999.00,9,  -999.00,9,  -999.0,-999.000
     33KB201_1,  PRS2,     2, 11,     22,   8022,2,20080528,1759, 22.7327,-157.9907, 4741,      6,      6.5,  25.2512,  34.9052,2,  34.9065,2,    212.6,1, 25.2498,   -999.0,9,  -999.00,9,  -999.00,9,  -999.00,9,  -999.0,-999.000
     33KB201_1,  PRS2,     2, 11,     23,   8023,2,20080528,1759, 22.7327,-157.9907, 4741,      6,      6.6,  25.2536,  34.9040,2,-999.0000,5,    212.6,1, 25.2522,   -999.0,9,  -999.00,9,  -999.00,9,  -999.00,9,  -999.0,-999.000
     33KB201_1,  PRS2,     2, 11,     19,   8019,2,20080528,1759, 22.7327,-157.9907, 4741,     26,     25.5,  24.5820,  35.0242,2,  35.0258,2,    214.7,1, 24.5765,   -999.0,9,  -999.00,9,  -999.00,9,  -999.00,9,  -999.0,-999.000
     33KB201_1,  PRS2,     2, 11,     21,   8021,2,20080528,1759, 22.7327,-157.9907, 4741,     25,     25.8,  24.5793,  35.0261,2,-999.0000,5,    214.8,1, 24.5738,   -999.0,9,  -999.00,9,  -999.00,9,  -999.00,9,  -999.0,-999.000
     33KB201_1,  PRS2,     2, 11,     20,   8020,2,20080528,1759, 22.7327,-157.9907, 4741,     25,     25.9,  24.5797,  35.0259,2,-999.0000,5,    214.7,1, 24.5742,   -999.0,9,  -999.00,9,  -999.00,9,  -999.00,9,  -999.0,-999.000
     33KB201_1,  PRS2,     2, 11,     17,   8017,2,20080528,1759, 22.7327,-157.9907, 4741,     44,     45.0,  24.4661,  35.1070,2,-999.0000,5,    215.0,1, 24.4565,   -999.0,9,  -999.00,9,  -999.00,9,  -999.00,9,  -999.0,-999.000
     33KB201_1,  PRS2,     2, 11,     18,   8018,2,20080528,1759, 22.7327,-157.9907, 4741,     44,     45.1,  24.4657,  35.1068,2,-999.0000,5,    214.9,1, 24.4560,   -999.0,9,  -999.00,9,  -999.00,9,  -999.00,9,  -999.0,-999.000
     33KB201_1,  PRS2,     2, 11,     16,   8016,2,20080528,1759, 22.7327,-157.9907, 4741,     45,     45.2,  24.4668,  35.1075,2,  35.1102,2,    215.0,1, 24.4572,   -999.0,9,  -999.00,9,  -999.00,9,  -999.00,9,  -999.0,-999.000
     33KB201_1,  PRS2,     2, 11,     14,   8014,2,20080528,1759, 22.7327,-157.9907, 4741,     75,     75.3,  23.9647,  35.1378,2,-999.0000,5,    217.3,1, 23.9489,   -999.0,9,  -999.00,9,  -999.00,9,  -999.00,9,  -999.0,-999.000
     33KB201_1,  PRS2,     2, 11,     13,   8025,2,20080528,1759, 22.7327,-157.9907, 4741,     75,     75.3,  23.9635,  35.1384,2,  35.1437,2,    217.4,1, 23.9476,   -999.0,9,  -999.00,9,  -999.00,9,  -999.00,9,  -999.0,-999.000
     33KB201_1,  PRS2,     2, 11,     15,   8015,2,20080528,1759, 22.7327,-157.9907, 4741,     75,     75.4,  23.9662,  35.1376,2,-999.0000,5,    217.4,1, 23.9503,   -999.0,9,  -999.00,9,  -999.00,9,  -999.00,9,  -999.0,-999.000
     33KB201_1,  PRS2,     2, 11,     11,   8011,2,20080528,1759, 22.7327,-157.9907, 4741,    100,     99.9,  23.4213,  35.2905,2,-999.0000,5,    216.4,1, 23.4006,   -999.0,9,  -999.00,9,  -999.00,9,  -999.00,9,  -999.0,-999.000
     33KB201_1,  PRS2,     2, 11,     10,   8010,2,20080528,1759, 22.7327,-157.9907, 4741,     99,    100.0,  23.4186,  35.2904,2,  35.2891,2,    216.5,1, 23.3979,   -999.0,9,  -999.00,9,  -999.00,9,  -999.00,9,  -999.0,-999.000
     33KB201_1,  PRS2,     2, 11,     12,   8012,2,20080528,1759, 22.7327,-157.9907, 4741,     99,    100.3,  23.4157,  35.2900,2,-999.0000,5,    216.3,1, 23.3950,   -999.0,9,  -999.00,9,  -999.00,9,  -999.00,9,  -999.0,-999.000
     33KB201_1,  PRS2,     2, 11,      8,   8008,2,20080528,1759, 22.7327,-157.9907, 4741,    126,    125.3,  22.5510,  35.2999,2,-999.0000,5,    214.8,1, 22.5258,   -999.0,9,  -999.00,9,  -999.00,9,  -999.00,9,  -999.0,-999.000
     33KB201_1,  PRS2,     2, 11,      9,   8009,2,20080528,1759, 22.7327,-157.9907, 4741,    124,    125.4,  22.5553,  35.3010,2,-999.0000,5,    215.0,1, 22.5300,   -999.0,9,  -999.00,9,  -999.00,9,  -999.00,9,  -999.0,-999.000
     33KB201_1,  PRS2,     2, 11,      7,   8026,2,20080528,1759, 22.7327,-157.9907, 4741,    124,    125.5,  22.5404,  35.3011,2,  35.3051,2,    214.7,1, 22.5151,   -999.0,9,  -999.00,9,  -999.00,9,  -999.00,9,  -999.0,-999.000
     33KB201_1,  PRS2,     2, 11,      5,   8005,2,20080528,1759, 22.7327,-157.9907, 4741,    150,    150.2,  21.6152,  35.2636,2,  35.2589,2,    204.8,1, 21.5858,   -999.0,9,  -999.00,9,  -999.00,9,  -999.00,9,  -999.0,-999.000
     33KB201_1,  PRS2,     2, 11,      6,   8006,2,20080528,1759, 22.7327,-157.9907, 4741,    150,    150.3,  21.6172,  35.2634,2,-999.0000,5,    205.1,1, 21.5878,   -999.0,9,  -999.00,9,  -999.00,9,  -999.00,9,  -999.0,-999.000
     33KB201_1,  PRS2,     2, 11,      3,   8003,2,20080528,1759, 22.7327,-157.9907, 4741,    176,    175.9,  20.1817,  35.0963,2,  35.1006,2,    192.2,1, 20.1490,   -999.0,9,  -999.00,9,  -999.00,9,  -999.00,9,  -999.0,-999.000
     33KB201_1,  PRS2,     2, 11,      4,   8004,2,20080528,1759, 22.7327,-157.9907, 4741,    174,    176.1,  20.2136,  35.1009,2,-999.0000,5,    191.9,1, 20.1808,   -999.0,9,  -999.00,9,  -999.00,9,  -999.00,9,  -999.0,-999.000
     33KB201_1,  PRS2,     2, 11,      2,   8002,2,20080528,1759, 22.7327,-157.9907, 4741,    520,    519.9,   6.8830,  34.0494,2,  34.0505,2,    109.0,1,  6.8344,   -999.0,9,  -999.00,9,  -999.00,9,  -999.00,9,  -999.0,-999.000
     33KB201_1,  PRS2,     2, 11,      1,   8001,2,20080528,1759, 22.7327,-157.9907, 4741,   1020,   1020.8,   3.7701,  34.4726,2,  34.4710,2,     44.4,1,  3.6945,   -999.0,9,  -999.00,9,  -999.00,9,  -999.00,9,  -999.0,-999.000