BOTTLE,20030108WHPSIODMB
EXPOCODE,SECT_ID,STNNBR,CASTNO,SAMPNO,BTLNBR,BTLNBR_FLAG_W,DATE,TIME,LATITUDE,LONGITUDE,DEPTH,CTDPRS,CTDTMP,CTDSAL,CTDSAL_FLAG_W,SALNTY,SALNTY_FLAG_W,CTDOXY,CTDOXY_FLAG_W,OXYGEN,OXYGEN_FLAG_W,NITRIT,NITRIT_FLAG_W,NO2+NO3,NO2+NO3_FLAG_W,PHSPHT,PHSPHT_FLAG_W,CTDRAW,THETA
,,,,,,,,,,,,DBAR,ITS-90,PSS-78,,PSS-78,,UMOL/KG,,UMOL/KG,,UMOL/KG,,UMOL/KG,,UMOL/KG,,,DEG C
    49RY9401_1,  PR02,    18,  2,     12,  10720,2,19940125,0916, 17.9953, 136.9592, 5095,      2.6,  26.8355,  34.7322,2,-999.0000,9,   -999.0,9,   -999.0,5,     0.00,2,     0.10,2,     0.10,2,   -999, 26.8349
    49RY9401_1,  PR02,    18,  2,     11,  10727,2,19940125,0916, 17.9953, 136.9592, 5095,     10.7,  26.8453,  34.7316,2,-999.0000,9,   -999.0,9,   -999.0,5,     0.00,2,     0.10,2,     0.10,2,   -999, 26.8429
    49RY9401_1,  PR02,    18,  2,     10,  10719,2,19940125,0916, 17.9953, 136.9592, 5095,     24.8,  26.8457,  34.7311,2,-999.0000,9,   -999.0,9,    202.0,2,     0.00,2,     0.10,2,     0.09,2,   -999, 26.8400
    49RY9401_1,  PR02,    18,  2,      9,  10721,2,19940125,0916, 17.9953, 136.9592, 5095,     49.5,  26.8501,  34.7313,2,-999.0000,9,   -999.0,9,    203.0,2,     0.00,2,     0.10,2,     0.10,2,   -999, 26.8388
    49RY9401_1,  PR02,    18,  2,      8,  10718,2,19940125,0916, 17.9953, 136.9592, 5095,     74.5,  26.8477,  34.7312,2,-999.0000,9,   -999.0,9,    202.0,2,     0.00,2,     0.10,2,     0.09,2,   -999, 26.8307
    49RY9401_1,  PR02,    18,  2,      7,  10371,2,19940125,0916, 17.9953, 136.9592, 5095,    100.1,  25.4531,  35.0425,2,-999.0000,9,   -999.0,9,    201.0,2,     0.00,2,     0.20,2,     0.11,2,   -999, 25.4311
    49RY9401_1,  PR02,    18,  2,      6,  10717,2,19940125,0916, 17.9953, 136.9592, 5095,    125.9,  24.2854,  35.0954,2,-999.0000,9,   -999.0,9,    190.0,2,     0.06,2,     0.60,2,     0.14,2,   -999, 24.2587
    49RY9401_1,  PR02,    18,  2,      5,  10382,2,19940125,0916, 17.9953, 136.9592, 5095,    152.5,  21.8146,  34.9652,2,-999.0000,9,   -999.0,9,    204.0,2,     0.05,2,     0.60,2,     0.12,2,   -999, 21.7847
    49RY9401_1,  PR02,    18,  2,      4,  10730,2,19940125,0916, 17.9953, 136.9592, 5095,    176.6,  20.9123,  35.0091,2,-999.0000,9,   -999.0,9,    193.0,2,     0.02,2,     1.70,2,     0.18,2,   -999, 20.8786
    49RY9401_1,  PR02,    18,  2,      3,  10722,2,19940125,0916, 17.9953, 136.9592, 5095,    200.4,  19.2196,  34.9314,2,-999.0000,9,   -999.0,9,    199.0,2,     0.01,2,     2.40,2,     0.22,2,   -999, 19.1836
    49RY9401_1,  PR02,    18,  2,      2,  10715,2,19940125,0916, 17.9953, 136.9592, 5095,    250.7,  17.2998,  34.7823,2,-999.0000,9,   -999.0,9,    201.0,2,     0.01,2,     5.20,2,     0.36,2,   -999, 17.2579
    49RY9401_1,  PR02,    18,  2,      1,  10716,2,19940125,0916, 17.9953, 136.9592, 5095,    302.9,  15.9465,  34.6943,2,-999.0000,9,   -999.0,9,    193.0,2,     0.00,2,     8.30,2,     0.56,2,   -999, 15.8986
    49RY9401_1,  PR02,    19,  1,      8,  10718,2,19940125,1647, 16.9955, 136.9918, 4470,    401.0,  10.4225,  34.2954,2,-999.0000,9,   -999.0,9,    157.0,2,     0.01,2,    20.00,2,     1.42,2,   -999, 10.3746
    49RY9401_1,  PR02,    19,  1,      7,  10371,2,19940125,1647, 16.9955, 136.9918, 4470,    502.1,   7.9744,  34.1944,2,  34.1821,4,   -999.0,9,    122.0,2,     0.00,2,    28.20,2,     2.03,2,   -999,  7.9233
    49RY9401_1,  PR02,    19,  1,      6,  10717,2,19940125,1647, 16.9955, 136.9918, 4470,    603.8,   6.4322,  34.2811,2,-999.0000,9,   -999.0,9,     75.0,2,     0.01,2,    35.30,2,     2.57,2,   -999,  6.3772
    49RY9401_1,  PR02,    19,  1,      5,  10382,2,19940125,1647, 16.9955, 136.9918, 4470,    705.2,   5.9290,  34.3882,2,  34.3884,2,   -999.0,9,     68.0,2,     0.00,2,    37.10,2,     2.73,2,   -999,  5.8669
    49RY9401_1,  PR02,    19,  1,      4,  10730,2,19940125,1647, 16.9955, 136.9918, 4470,    807.0,   5.2544,  34.4478,2,  34.4428,2,   -999.0,9,     74.0,2,     0.01,2,    38.00,2,     2.79,2,   -999,  5.1868
    49RY9401_1,  PR02,    19,  1,      3,  10722,2,19940125,1647, 16.9955, 136.9918, 4470,    908.3,   4.6853,  34.4812,2,  34.4791,2,   -999.0,9,     79.0,2,     0.00,2,    38.30,2,     2.82,2,   -999,  4.6124
    49RY9401_1,  PR02,    19,  1,      2,  10715,2,19940125,1647, 16.9955, 136.9918, 4470,   1007.6,   4.3429,  34.5062,2,  34.5078,2,   -999.0,9,     83.0,2,     0.00,2,    38.50,2,     2.84,2,   -999,  4.2640
    49RY9401_1,  PR02,    19,  1,      1,  10716,2,19940125,1647, 16.9955, 136.9918, 4470,   1261.8,   3.4400,  34.5472,2,  34.5459,2,   -999.0,9,     90.0,2,     0.00,2,    38.60,2,     2.84,2,   -999,  3.3474
    49RY9401_1,  PR02,    19,  2,     12,  10720,2,19940125,1801, 16.9840, 136.9723, 4685,      2.9,  26.4536,  34.7642,2,-999.0000,9,   -999.0,9,    203.0,2,     0.01,2,     0.10,2,     0.11,2,   -999, 26.4529
    49RY9401_1,  PR02,    19,  2,     11,  10727,2,19940125,1801, 16.9840, 136.9723, 4685,     11.5,  26.4576,  34.7600,2,  34.7618,2,   -999.0,9,    202.0,2,     0.01,2,     0.10,2,     0.11,2,   -999, 26.4550
    49RY9401_1,  PR02,    19,  2,     10,  10719,2,19940125,1801, 16.9840, 136.9723, 4685,     25.0,  26.4616,  34.7610,2,-999.0000,9,   -999.0,9,    203.0,2,     0.01,2,     0.10,2,     0.11,2,   -999, 26.4559
    49RY9401_1,  PR02,    19,  2,      9,  10721,2,19940125,1801, 16.9840, 136.9723, 4685,     49.0,  26.4730,  34.7608,2,  34.7614,2,   -999.0,9,    201.0,2,     0.00,2,     0.10,2,     0.11,2,   -999, 26.4619
    49RY9401_1,  PR02,    19,  2,      8,  10718,2,19940125,1801, 16.9840, 136.9723, 4685,     75.2,  26.5032,  34.7780,2,-999.0000,9,   -999.0,9,    202.0,2,     0.00,2,     0.10,2,     0.11,2,   -999, 26.4862
    49RY9401_1,  PR02,    19,  2,      7,  10371,2,19940125,1801, 16.9840, 136.9723, 4685,    100.7,  25.6158,  35.0048,2,-999.0000,9,   -999.0,9,    200.0,2,     0.00,2,     0.10,2,     0.12,2,   -999, 25.5935
    49RY9401_1,  PR02,    19,  2,      6,  10717,2,19940125,1801, 16.9840, 136.9723, 4685,    125.0,  24.0968,  35.0550,2,  35.0498,2,   -999.0,9,    192.0,2,     0.05,2,     0.50,2,     0.13,2,   -999, 24.0704
    49RY9401_1,  PR02,    19,  2,      5,  10382,2,19940125,1801, 16.9840, 136.9723, 4685,    151.3,  23.0605,  35.0908,2,-999.0000,9,   -999.0,9,    183.0,2,     0.04,2,     1.20,2,     0.18,2,   -999, 23.0296
    49RY9401_1,  PR02,    19,  2,      4,  10730,2,19940125,1801, 16.9840, 136.9723, 4685,    176.6,  21.4868,  35.0550,2,  35.0600,2,   -999.0,9,    175.0,2,     0.02,2,     2.50,2,     0.27,2,   -999, 21.4524
    49RY9401_1,  PR02,    19,  2,      3,  10722,2,19940125,1801, 16.9840, 136.9723, 4685,    201.3,  20.2936,  35.0112,2,-999.0000,9,   -999.0,9,    171.0,2,     0.02,2,     3.80,2,     0.38,2,   -999, 20.2560
    49RY9401_1,  PR02,    19,  2,      2,  10715,2,19940125,1801, 16.9840, 136.9723, 4685,    252.1,  16.8465,  34.7346,2,  34.7447,2,   -999.0,9,    167.0,2,     0.01,2,     8.10,2,     0.64,2,   -999, 16.8052
    49RY9401_1,  PR02,    19,  2,      1,  10716,2,19940125,1801, 16.9840, 136.9723, 4685,    304.1,  14.1675,  34.5014,2,-999.0000,9,   -999.0,9,    172.0,2,     0.01,2,    11.70,2,     0.87,2,   -999, 14.1232
    49RY9401_1,  PR02,    20,  1,      8,  10718,2,19940126,0038, 15.9902, 136.9697, 5235,    401.2,  10.4289,  34.3550,2,-999.0000,9,   -999.0,9,    132.0,2,     0.00,2,    22.70,2,     1.57,2,   -999, 10.3810
    49RY9401_1,  PR02,    20,  1,      7,  10371,2,19940126,0038, 15.9902, 136.9697, 5235,    503.2,   8.1850,  34.3290,2,-999.0000,9,   -999.0,9,     87.0,2,     0.00,2,    31.50,2,     2.22,2,   -999,  8.1328
    49RY9401_1,  PR02,    20,  1,      6,  10717,2,19940126,0038, 15.9902, 136.9697, 5235,    605.8,   6.8385,  34.3949,2,-999.0000,9,   -999.0,9,     72.0,2,     0.01,2,    35.60,2,     2.55,2,   -999,  6.7814
    49RY9401_1,  PR02,    20,  1,      5,  10382,2,19940126,0038, 15.9902, 136.9697, 5235,    703.2,   6.1483,  34.4288,2,-999.0000,9,   -999.0,9,     77.0,2,     0.00,2,    36.70,2,     2.67,2,   -999,  6.0852
    49RY9401_1,  PR02,    20,  1,      4,  10730,2,19940126,0038, 15.9902, 136.9697, 5235,    807.8,   5.4365,  34.4655,2,-999.0000,9,   -999.0,9,     80.0,2,     0.00,2,    37.80,2,     2.76,2,   -999,  5.3677
    49RY9401_1,  PR02,    20,  1,      3,  10722,2,19940126,0038, 15.9902, 136.9697, 5235,    907.0,   4.8926,  34.4894,2,-999.0000,9,   -999.0,9,     82.0,2,     0.01,2,    38.30,2,     2.81,2,   -999,  4.8184
    49RY9401_1,  PR02,    20,  1,      2,  10715,2,19940126,0038, 15.9902, 136.9697, 5235,   1008.6,   4.4048,  34.5135,2,-999.0000,9,   -999.0,9,     84.0,2,     0.01,2,    38.70,2,     2.86,2,   -999,  4.3253
    49RY9401_1,  PR02,    20,  1,      1,  10716,2,19940126,0038, 15.9902, 136.9697, 5235,   1259.0,   3.6151,  34.5477,2,-999.0000,9,   -999.0,9,     93.0,2,     0.01,2,    39.10,2,     2.86,2,   -999,  3.5211
    49RY9401_1,  PR02,    20,  2,     12,  10720,2,19940126,0155, 15.9760, 136.9460, 5185,      6.2,  27.3236,  34.5591,2,-999.0000,9,   -999.0,9,    200.0,2,     0.00,2,     0.10,2,     0.12,2,   -999, 27.3221
    49RY9401_1,  PR02,    20,  2,     11,  10727,2,19940126,0155, 15.9760, 136.9460, 5185,      9.9,  27.3258,  34.5604,2,-999.0000,9,   -999.0,9,    200.0,2,     0.00,2,     0.20,2,     0.12,2,   -999, 27.3235
    49RY9401_1,  PR02,    20,  2,     10,  10719,2,19940126,0155, 15.9760, 136.9460, 5185,     26.4,  27.3215,  34.5610,2,-999.0000,9,   -999.0,9,    199.0,2,     0.00,2,     0.20,2,     0.11,2,   -999, 27.3154
    49RY9401_1,  PR02,    20,  2,      9,  10721,2,19940126,0155, 15.9760, 136.9460, 5185,     51.4,  27.3183,  34.5597,2,-999.0000,9,   -999.0,9,    203.0,2,     0.00,2,     0.10,2,     0.11,2,   -999, 27.3064
    49RY9401_1,  PR02,    20,  2,      8,  10718,2,19940126,0155, 15.9760, 136.9460, 5185,     77.1,  27.3211,  34.5597,2,-999.0000,9,   -999.0,9,    199.0,2,     0.00,2,     0.20,2,     0.11,2,   -999, 27.3033
    49RY9401_1,  PR02,    20,  2,      7,  10371,2,19940126,0155, 15.9760, 136.9460, 5185,    102.0,  27.0805,  34.7094,2,-999.0000,9,   -999.0,9,    202.0,2,     0.00,2,     0.10,2,     0.11,2,   -999, 27.0570
    49RY9401_1,  PR02,    20,  2,      6,  10717,2,19940126,0155, 15.9760, 136.9460, 5185,    126.3,  25.0463,  35.0978,2,-999.0000,9,   -999.0,9,    195.0,2,     0.05,2,     0.20,2,     0.10,2,   -999, 25.0188
    49RY9401_1,  PR02,    20,  2,      5,  10382,2,19940126,0155, 15.9760, 136.9460, 5185,    150.7,  23.3083,  35.1003,2,-999.0000,9,   -999.0,9,    184.0,2,     0.03,2,     1.10,2,     0.16,2,   -999, 23.2772
    49RY9401_1,  PR02,    20,  2,      4,  10730,2,19940126,0155, 15.9760, 136.9460, 5185,    176.2,  21.3502,  35.0779,2,-999.0000,9,   -999.0,9,    182.0,2,     0.02,2,     2.20,2,     0.22,2,   -999, 21.3160
    49RY9401_1,  PR02,    20,  2,      3,  10722,2,19940126,0155, 15.9760, 136.9460, 5185,    202.6,  20.0731,  34.9866,2,-999.0000,9,   -999.0,9,    179.0,2,     0.01,2,     3.00,2,     0.27,2,   -999, 20.0355
    49RY9401_1,  PR02,    20,  2,      2,  10715,2,19940126,0155, 15.9760, 136.9460, 5185,    251.5,  16.9834,  34.7828,2,-999.0000,9,   -999.0,9,    190.0,2,     0.01,2,     6.00,2,     0.42,2,   -999, 16.9419
    49RY9401_1,  PR02,    20,  2,      1,  10716,2,19940126,0155, 15.9760, 136.9460, 5185,    305.2,  14.1221,  34.5366,2,-999.0000,9,   -999.0,9,    175.0,2,     0.01,2,    11.50,2,     0.80,2,   -999, 14.0778
    49RY9401_1,  PR02,    21,  1,     12,  10720,2,19940126,0932, 14.9705, 136.9440, 4775,    504.4,   7.9040,  34.2799,2,  34.2881,3,   -999.0,9,     98.0,2,     0.00,2,    30.60,2,     2.17,2,   -999,  7.8529
    49RY9401_1,  PR02,    21,  1,     11,  10727,2,19940126,0932, 14.9705, 136.9440, 4775,    603.8,   6.4578,  34.4134,2,  34.4163,2,   -999.0,9,     69.0,2,     0.01,2,    36.10,2,     2.60,2,   -999,  6.4026
    49RY9401_1,  PR02,    21,  1,     10,  10719,2,19940126,0932, 14.9705, 136.9440, 4775,    706.5,   5.7561,  34.4698,2,  34.4707,2,   -999.0,9,     74.0,2,     0.01,2,    37.30,2,     2.71,2,   -999,  5.6947
    49RY9401_1,  PR02,    21,  1,      9,  10721,2,19940126,0932, 14.9705, 136.9440, 4775,    805.3,   5.3768,  34.4907,2,  34.4887,2,   -999.0,9,     78.0,2,     0.00,2,    37.70,2,     2.74,2,   -999,  5.3085
    49RY9401_1,  PR02,    21,  1,      8,  10718,2,19940126,0932, 14.9705, 136.9440, 4775,    908.3,   4.8867,  34.5122,2,  34.5125,2,   -999.0,9,     79.0,2,     0.00,2,    38.40,2,     2.77,2,   -999,  4.8124
    49RY9401_1,  PR02,    21,  1,      7,  10371,2,19940126,0932, 14.9705, 136.9440, 4775,   1010.0,   4.5720,  34.5245,2,-999.0000,9,   -999.0,9,     83.0,2,     0.00,2,    37.90,2,     2.76,2,   -999,  4.4910
    49RY9401_1,  PR02,    21,  1,      6,  10717,2,19940126,0932, 14.9705, 136.9440, 4775,   1262.7,   3.7248,  34.5545,2,  34.5563,2,   -999.0,9,     91.0,2,     0.00,2,    38.80,2,     2.80,2,   -999,  3.6293
    49RY9401_1,  PR02,    21,  1,      5,  10382,2,19940126,0932, 14.9705, 136.9440, 4775,   1515.1,   3.0950,  34.5739,2,  34.5796,2,   -999.0,9,     99.0,2,     0.01,2,    38.70,2,     2.80,2,   -999,  2.9849
    49RY9401_1,  PR02,    21,  1,      4,  10730,2,19940126,0932, 14.9705, 136.9440, 4775,   2022.7,   2.2069,  34.6224,2,  34.6166,2,   -999.0,9,    112.0,2,     0.00,2,    38.30,2,     2.75,2,   -999,  2.0654
    49RY9401_1,  PR02,    21,  1,      3,  10722,2,19940126,0932, 14.9705, 136.9440, 4775,   2528.7,   1.8267,  34.6500,2,  34.6496,2,   -999.0,9,    132.0,3,     0.01,2,    37.70,2,     2.69,2,   -999,  1.6470
    49RY9401_1,  PR02,    21,  1,      2,  10715,2,19940126,0932, 14.9705, 136.9440, 4775,   3039.6,   1.6680,  34.6643,2,  34.6661,2,   -999.0,9,    138.0,2,     0.01,2,    37.10,2,     2.62,2,   -999,  1.4438
    49RY9401_1,  PR02,    21,  1,      1,  10716,2,19940126,0932, 14.9705, 136.9440, 4775,   4061.2,   1.5340,  34.6807,2,  34.6777,2,   -999.0,9,    154.0,2,     0.00,2,    36.00,2,     2.54,2,   -999,  1.2075
    49RY9401_1,  PR02,    21,  2,      0,   -999,2,19940126,1221, 14.9490, 136.8648, 5125,      1.9,  27.1974,  34.6906,2,-999.0000,9,   -999.0,9,    199.0,2,     0.00,2,     0.10,2,     0.09,2,   -999, 27.1969
    49RY9401_1,  PR02,    21,  2,     12,  10720,2,19940126,1221, 14.9490, 136.8648, 5125,     10.9,  27.2018,  34.6894,2,  34.6897,2,   -999.0,9,    201.0,2,     0.00,2,     0.10,2,     0.08,2,   -999, 27.1993
    49RY9401_1,  PR02,    21,  2,     11,  10727,2,19940126,1221, 14.9490, 136.8648, 5125,     24.4,  27.2062,  34.6894,2,-999.0000,9,   -999.0,9,    199.0,2,     0.00,2,     0.10,2,     0.09,2,   -999, 27.2006
    49RY9401_1,  PR02,    21,  2,     10,  10719,2,19940126,1221, 14.9490, 136.8648, 5125,     50.4,  27.2131,  34.6900,2,  34.6873,2,   -999.0,9,    200.0,2,     0.00,2,     0.10,2,     0.08,2,   -999, 27.2015
    49RY9401_1,  PR02,    21,  2,      9,  10721,2,19940126,1221, 14.9490, 136.8648, 5125,     76.6,  27.2146,  34.6870,2,  34.6859,2,   -999.0,9,    199.0,2,     0.00,2,     0.10,2,     0.09,2,   -999, 27.1970
    49RY9401_1,  PR02,    21,  2,      8,  10718,2,19940126,1221, 14.9490, 136.8648, 5125,    100.7,  26.5188,  34.9354,2,-999.0000,9,   -999.0,9,    203.0,2,     0.00,2,     0.10,2,     0.09,2,   -999, 26.4960
    49RY9401_1,  PR02,    21,  2,      7,  10371,2,19940126,1221, 14.9490, 136.8648, 5125,    126.3,  25.2452,  35.0164,2,-999.0000,9,   -999.0,9,    195.0,2,     0.06,2,     0.20,2,     0.11,2,   -999, 25.2176
    49RY9401_1,  PR02,    21,  2,      6,  10717,2,19940126,1221, 14.9490, 136.8648, 5125,    152.6,  23.6628,  35.0957,2,  35.1008,2,   -999.0,9,    185.0,2,     0.03,2,     0.80,2,     0.15,2,   -999, 23.6310
    49RY9401_1,  PR02,    21,  2,      5,  10382,2,19940126,1221, 14.9490, 136.8648, 5125,    177.2,  21.4589,  35.0466,2,  35.0610,3,   -999.0,9,    193.0,2,     0.02,2,     1.60,2,     0.17,2,   -999, 21.4244
    49RY9401_1,  PR02,    21,  2,      4,  10730,2,19940126,1221, 14.9490, 136.8648, 5125,    201.1,  19.3750,  34.9532,2,-999.0000,9,   -999.0,9,    193.0,2,     0.01,2,     2.50,2,     0.23,2,   -999, 19.3387
    49RY9401_1,  PR02,    21,  2,      3,  10722,2,19940126,1221, 14.9490, 136.8648, 5125,    251.7,  17.3310,  34.8065,2,-999.0000,9,   -999.0,9,    198.0,2,     0.00,2,     4.70,2,     0.33,2,   -999, 17.2889
    49RY9401_1,  PR02,    21,  2,      2,  10715,2,19940126,1221, 14.9490, 136.8648, 5125,    300.9,  14.6271,  34.5731,2,  34.5734,2,   -999.0,9,    183.0,2,     0.00,2,    10.10,2,     0.68,2,   -999, 14.5824
    49RY9401_1,  PR02,    21,  2,      1,  10716,2,19940126,1221, 14.9490, 136.8648, 5125,    403.9,   9.9212,  34.2538,2,  34.2532,2,   -999.0,9,    155.0,2,     0.00,2,    21.10,2,     1.45,2,   -999,  9.8745
    49RY9401_1,  PR02,    22,  1,      8,  10718,2,19940126,1846, 13.9962, 136.9805, 4965,    401.9,   9.0636,  34.2899,2,-999.0000,9,   -999.0,9,    118.0,2,     0.00,2,    26.60,2,  -999.00,5,   -999,  9.0196
    49RY9401_1,  PR02,    22,  1,      7,  10371,2,19940126,1846, 13.9962, 136.9805, 4965,    504.7,   7.6422,  34.3863,2,-999.0000,9,   -999.0,9,     75.0,2,     0.01,2,    33.50,2,     2.40,2,   -999,  7.5919
    49RY9401_1,  PR02,    22,  1,      6,  10717,2,19940126,1846, 13.9962, 136.9805, 4965,    605.8,   6.4026,  34.4258,2,-999.0000,9,   -999.0,9,     69.0,2,     0.00,2,    36.70,2,     2.66,2,   -999,  6.3475
    49RY9401_1,  PR02,    22,  1,      5,  10382,2,19940126,1846, 13.9962, 136.9805, 4965,    707.5,   5.6942,  34.4719,2,-999.0000,9,   -999.0,9,     82.0,2,     0.00,2,    37.60,2,     2.71,2,   -999,  5.6330
    49RY9401_1,  PR02,    22,  1,      4,  10730,2,19940126,1846, 13.9962, 136.9805, 4965,    806.6,   5.2420,  34.4954,2,-999.0000,9,   -999.0,9,     80.0,2,     0.00,2,    38.20,2,     2.75,2,   -999,  5.1744
    49RY9401_1,  PR02,    22,  1,      3,  10722,2,19940126,1846, 13.9962, 136.9805, 4965,    907.0,   4.7853,  34.5154,2,-999.0000,9,   -999.0,9,     86.0,2,     0.00,2,    38.50,2,     2.79,2,   -999,  4.7118
    49RY9401_1,  PR02,    22,  1,      2,  10715,2,19940126,1846, 13.9962, 136.9805, 4965,   1008.3,   4.3717,  34.5303,2,-999.0000,9,   -999.0,9,     85.0,2,     0.00,2,    38.70,2,     2.80,2,   -999,  4.2925
    49RY9401_1,  PR02,    22,  1,      1,  10716,2,19940126,1846, 13.9962, 136.9805, 4965,   1260.7,   3.5098,  34.5605,2,-999.0000,9,   -999.0,9,     95.0,2,     0.00,2,    38.90,2,  -999.00,5,   -999,  3.4166