BOTTLE,20030108WHPSIODMB
EXPOCODE,SECT_ID,STNNBR,CASTNO,SAMPNO,BTLNBR,BTLNBR_FLAG_W,DATE,TIME,LATITUDE,LONGITUDE,DEPTH,CTDPRS,CTDTMP,CTDSAL,CTDSAL_FLAG_W,SALNTY,SALNTY_FLAG_W,CTDOXY,CTDOXY_FLAG_W,OXYGEN,OXYGEN_FLAG_W,NITRIT,NITRIT_FLAG_W,NO2+NO3,NO2+NO3_FLAG_W,PHSPHT,PHSPHT_FLAG_W,CTDRAW,THETA
,,,,,,,,,,,,DBAR,ITS-90,PSS-78,,PSS-78,,UMOL/KG,,UMOL/KG,,UMOL/KG,,UMOL/KG,,UMOL/KG,,,DEG C
    49RY9401_1,  PR02,    10,  2,     12,  10720,2,19940122,1753, 25.9923, 136.9915, 5545,      2.8,  20.7963,  34.8998,2,-999.0000,9,   -999.0,9,    216.0,2,     0.14,2,     0.40,2,     0.07,2,   -999, 20.7957
    49RY9401_1,  PR02,    10,  2,     11,  10727,2,19940122,1753, 25.9923, 136.9915, 5545,     10.8,  20.8051,  34.8984,2,-999.0000,9,   -999.0,9,    208.0,2,     0.14,2,     0.40,2,     0.07,2,   -999, 20.8030
    49RY9401_1,  PR02,    10,  2,     10,  10719,2,19940122,1753, 25.9923, 136.9915, 5545,     24.6,  20.7967,  34.8977,2,-999.0000,9,   -999.0,9,    216.0,2,     0.14,2,     0.40,2,     0.06,2,   -999, 20.7920
    49RY9401_1,  PR02,    10,  2,      9,  10721,2,19940122,1753, 25.9923, 136.9915, 5545,     50.6,  20.8016,  34.8944,2,-999.0000,9,   -999.0,9,    219.0,2,     0.14,2,     0.40,2,     0.06,2,   -999, 20.7920
    49RY9401_1,  PR02,    10,  2,      8,  10718,2,19940122,1753, 25.9923, 136.9915, 5545,     77.2,  20.7866,  34.8928,2,-999.0000,9,   -999.0,9,    218.0,2,     0.17,2,     0.40,2,     0.06,2,   -999, 20.7720
    49RY9401_1,  PR02,    10,  2,      7,  10371,2,19940122,1753, 25.9923, 136.9915, 5545,    101.7,  20.7567,  34.8830,2,-999.0000,9,   -999.0,9,    218.0,2,     0.16,2,     0.40,2,     0.06,2,   -999, 20.7375
    49RY9401_1,  PR02,    10,  2,      6,  10717,2,19940122,1753, 25.9923, 136.9915, 5545,    126.0,  20.7473,  34.8804,2,-999.0000,9,   -999.0,9,    219.0,2,     0.17,2,     0.50,2,     0.06,2,   -999, 20.7234
    49RY9401_1,  PR02,    10,  2,      5,  10382,2,19940122,1753, 25.9923, 136.9915, 5545,    150.8,  20.7404,  34.8782,2,-999.0000,9,   -999.0,9,    220.0,2,     0.18,2,     0.50,2,     0.06,2,   -999, 20.7119
    49RY9401_1,  PR02,    10,  2,      4,  10730,2,19940122,1753, 25.9923, 136.9915, 5545,    176.3,  20.6656,  34.8771,2,-999.0000,9,   -999.0,9,    218.0,2,     0.18,2,     0.70,2,     0.07,2,   -999, 20.6322
    49RY9401_1,  PR02,    10,  2,      3,  10722,2,19940122,1753, 25.9923, 136.9915, 5545,    200.7,  19.1851,  34.8618,2,-999.0000,9,   -999.0,9,    203.0,2,     0.04,2,     2.50,2,     0.15,2,   -999, 19.1491
    49RY9401_1,  PR02,    10,  2,      2,  10715,2,19940122,1753, 25.9923, 136.9915, 5545,    252.0,  17.6578,  34.8039,2,-999.0000,9,   -999.0,9,    204.0,2,     0.01,2,     4.20,2,     0.25,2,   -999, 17.6151
    49RY9401_1,  PR02,    10,  2,      1,  10716,2,19940122,1753, 25.9923, 136.9915, 5545,    304.9,  16.9341,  34.7594,2,-999.0000,9,   -999.0,9,    201.0,2,     0.02,2,     5.60,2,     0.34,2,   -999, 16.8838
    49RY9401_1,  PR02,    11,  1,     12,  10720,2,19940123,0059, 25.0010, 137.0097, 4940,    503.2,  10.6511,  34.2910,2,-999.0000,9,   -999.0,9,    165.0,2,     0.01,2,    20.70,2,     1.42,2,   -999, 10.5899
    49RY9401_1,  PR02,    11,  1,     11,  10727,2,19940123,0059, 25.0010, 137.0097, 4940,    604.5,   7.9588,  34.1465,2,  34.1519,2,   -999.0,9,    153.0,2,     0.00,2,    25.20,2,     1.78,2,   -999,  7.8970
    49RY9401_1,  PR02,    11,  1,     10,  10719,2,19940123,0059, 25.0010, 137.0097, 4940,    705.2,   6.0904,  34.1603,2,  34.1597,2,   -999.0,9,    112.0,2,     0.00,2,    32.40,2,     2.28,2,   -999,  6.0277
    49RY9401_1,  PR02,    11,  1,      9,  10721,2,19940123,0059, 25.0010, 137.0097, 4940,    805.8,   4.9370,  34.1723,2,  34.1738,2,   -999.0,9,     85.0,2,     0.00,2,    36.50,2,     2.59,2,   -999,  4.8718
    49RY9401_1,  PR02,    11,  1,      8,  10718,2,19940123,0059, 25.0010, 137.0097, 4940,    907.6,   4.2436,  34.2617,2,  34.2656,2,   -999.0,9,     63.0,2,     0.00,2,    39.40,2,     2.82,2,   -999,  4.1742
    49RY9401_1,  PR02,    11,  1,      7,  10371,2,19940123,0059, 25.0010, 137.0097, 4940,   1009.3,   3.8083,  34.3368,2,-999.0000,9,   -999.0,9,     60.0,2,     0.00,2,    40.20,2,     2.88,2,   -999,  3.7337
    49RY9401_1,  PR02,    11,  1,      6,  10717,2,19940123,0059, 25.0010, 137.0097, 4940,   1260.8,   2.9027,  34.4638,2,  34.4638,2,   -999.0,9,     63.0,2,     0.00,2,    41.20,2,     2.91,2,   -999,  2.8156
    49RY9401_1,  PR02,    11,  1,      5,  10382,2,19940123,0059, 25.0010, 137.0097, 4940,   1514.7,   2.4480,  34.5317,2,  34.5370,2,   -999.0,9,     82.0,2,     0.01,2,    40.30,2,     2.85,2,   -999,  2.3454
    49RY9401_1,  PR02,    11,  1,      4,  10730,2,19940123,0059, 25.0010, 137.0097, 4940,   2022.3,   1.9290,  34.6162,2,  34.6181,2,   -999.0,9,    116.0,2,     0.01,2,    38.30,2,     2.69,2,   -999,  1.7918
    49RY9401_1,  PR02,    11,  1,      3,  10722,2,19940123,0059, 25.0010, 137.0097, 4940,   2531.1,   1.7192,  34.6470,2,  34.6480,2,   -999.0,9,    134.0,2,     0.01,2,    37.50,2,     2.59,2,   -999,  1.5414
    49RY9401_1,  PR02,    11,  1,      2,  10715,2,19940123,0059, 25.0010, 137.0097, 4940,   3042.8,   1.6253,  34.6619,2,  34.6649,3,   -999.0,9,    143.0,2,     0.00,2,    36.80,2,     2.52,2,   -999,  1.4017
    49RY9401_1,  PR02,    11,  1,      1,  10716,2,19940123,0059, 25.0010, 137.0097, 4940,   4069.4,   1.5251,  34.6790,2,  34.6830,2,   -999.0,9,    158.0,2,     0.01,2,    35.90,2,     2.48,2,   -999,  1.1980
    49RY9401_1,  PR02,    11,  2,      0,   -999,2,19940123,0319, 24.9778, 137.0275, 5200,      0.6,  21.4510,  34.9244,2,-999.0000,9,   -999.0,9,   -999.0,5,     0.02,2,     0.20,2,     0.06,2,   -999, 21.4509
    49RY9401_1,  PR02,    11,  2,     12,  10720,3,19940123,0319, 24.9778, 137.0275, 5200,     11.0,  21.4431,  34.9248,2,-999.0000,9,   -999.0,9,    219.0,2,     0.01,2,     0.20,2,     0.06,2,   -999, 21.4410
    49RY9401_1,  PR02,    11,  2,     11,  10727,2,19940123,0319, 24.9778, 137.0275, 5200,     25.5,  21.4211,  34.9238,2,  34.9227,2,   -999.0,9,    218.0,2,     0.02,2,     0.20,2,     0.06,2,   -999, 21.4162
    49RY9401_1,  PR02,    11,  2,     10,  10719,2,19940123,0319, 24.9778, 137.0275, 5200,     50.7,  21.4155,  34.9219,2,  34.9219,2,   -999.0,9,    219.0,2,     0.01,2,     0.10,2,     0.06,2,   -999, 21.4057
    49RY9401_1,  PR02,    11,  2,      9,  10721,2,19940123,0319, 24.9778, 137.0275, 5200,     75.5,  21.4150,  34.9217,2,  34.9205,2,   -999.0,9,    218.0,2,     0.01,2,     0.20,2,     0.06,2,   -999, 21.4004
    49RY9401_1,  PR02,    11,  2,      8,  10718,2,19940123,0319, 24.9778, 137.0275, 5200,    101.0,  21.3385,  34.9093,2,-999.0000,9,   -999.0,9,    218.0,2,     0.04,2,     0.20,2,     0.06,2,   -999, 21.3190
    49RY9401_1,  PR02,    11,  2,      7,  10371,2,19940123,0319, 24.9778, 137.0275, 5200,    126.3,  21.2294,  34.8942,2,-999.0000,9,   -999.0,9,    219.0,2,     0.04,2,     0.20,2,     0.06,2,   -999, 21.2051
    49RY9401_1,  PR02,    11,  2,      6,  10717,2,19940123,0319, 24.9778, 137.0275, 5200,    150.9,  20.9510,  34.8705,2,-999.0000,9,   -999.0,9,    218.0,2,     0.20,2,     0.40,2,     0.07,2,   -999, 20.9222
    49RY9401_1,  PR02,    11,  2,      5,  10382,2,19940123,0319, 24.9778, 137.0275, 5200,    176.1,  19.2984,  34.8661,2,-999.0000,9,   -999.0,9,    203.0,2,     0.03,2,     2.30,2,     0.17,2,   -999, 19.2667
    49RY9401_1,  PR02,    11,  2,      4,  10730,2,19940123,0319, 24.9778, 137.0275, 5200,    200.9,  18.3554,  34.8500,2,-999.0000,9,   -999.0,9,    206.0,2,     0.02,2,     2.70,2,     0.22,2,   -999, 18.3205
    49RY9401_1,  PR02,    11,  2,      3,  10722,2,19940123,0319, 24.9778, 137.0275, 5200,    251.9,  17.4808,  34.7955,2,-999.0000,9,   -999.0,9,    202.0,2,     0.01,2,     4.80,2,     0.32,2,   -999, 17.4384
    49RY9401_1,  PR02,    11,  2,      2,  10715,2,19940123,0319, 24.9778, 137.0275, 5200,    301.9,  16.4262,  34.7291,2,-999.0000,9,   -999.0,9,    197.0,2,     0.01,2,     6.80,2,     0.46,2,   -999, 16.3775
    49RY9401_1,  PR02,    11,  2,      1,  10716,2,19940123,0319, 24.9778, 137.0275, 5200,    403.0,  13.8004,  34.5327,2,-999.0000,9,   -999.0,9,    182.0,2,     0.01,2,    12.20,2,     0.82,2,   -999, 13.7425
    49RY9401_1,  PR02,    12,  1,      8,  10718,2,19940123,0928, 24.0100, 136.9898, 3875,    403.4,  13.5148,  34.4857,2,-999.0000,9,   -999.0,9,    187.0,2,     0.00,2,    12.00,2,     0.79,2,   -999, 13.4577
    49RY9401_1,  PR02,    12,  1,      7,  10371,2,19940123,0928, 24.0100, 136.9898, 3875,    502.8,  11.1244,  34.3120,2,-999.0000,9,   -999.0,9,    178.0,2,     0.01,2,    16.80,2,     1.13,2,   -999, 11.0616
    49RY9401_1,  PR02,    12,  1,      6,  10717,2,19940123,0928, 24.0100, 136.9898, 3875,    603.6,   8.3189,  34.1560,2,-999.0000,9,   -999.0,9,    149.0,2,     0.00,2,    24.70,2,     1.71,2,   -999,  8.2555
    49RY9401_1,  PR02,    12,  1,      5,  10382,2,19940123,0928, 24.0100, 136.9898, 3875,    706.2,   6.1903,  34.1503,2,-999.0000,9,   -999.0,9,    105.0,2,     0.00,2,    32.60,2,     2.29,2,   -999,  6.1270
    49RY9401_1,  PR02,    12,  1,      4,  10730,2,19940123,0928, 24.0100, 136.9898, 3875,    806.1,   4.9631,  34.2077,2,-999.0000,9,   -999.0,9,     80.0,2,     0.01,2,    37.10,2,     2.64,2,   -999,  4.8977
    49RY9401_1,  PR02,    12,  1,      3,  10722,2,19940123,0928, 24.0100, 136.9898, 3875,    907.7,   4.3122,  34.2977,2,-999.0000,9,   -999.0,9,     62.0,2,     0.00,2,    39.40,2,     2.81,2,   -999,  4.2423
    49RY9401_1,  PR02,    12,  1,      2,  10715,2,19940123,0928, 24.0100, 136.9898, 3875,   1007.3,   3.9037,  34.3601,2,-999.0000,9,   -999.0,9,     59.0,2,     0.00,2,    40.10,2,     2.86,2,   -999,  3.8285
    49RY9401_1,  PR02,    12,  1,      1,  10716,2,19940123,0928, 24.0100, 136.9898, 3875,   1264.8,   3.0740,  34.4570,2,-999.0000,9,   -999.0,9,     67.0,2,     0.00,2,    40.60,2,     2.87,2,   -999,  2.9849
    49RY9401_1,  PR02,    12,  2,     12,  10720,2,19940123,1025, 23.9998, 136.9942, 3900,      3.9,  23.4409,  34.9206,2,-999.0000,9,   -999.0,9,    212.0,2,     0.01,2,     0.10,2,     0.06,2,   -999, 23.4401
    49RY9401_1,  PR02,    12,  2,     11,  10727,2,19940123,1025, 23.9998, 136.9942, 3900,     10.9,  23.4416,  34.9179,2,-999.0000,9,   -999.0,9,    212.0,2,     0.00,2,     0.10,2,     0.04,2,   -999, 23.4393
    49RY9401_1,  PR02,    12,  2,     10,  10719,2,19940123,1025, 23.9998, 136.9942, 3900,     25.8,  23.4448,  34.9199,2,-999.0000,9,   -999.0,9,    211.0,2,     0.00,2,     0.10,2,     0.04,2,   -999, 23.4394
    49RY9401_1,  PR02,    12,  2,      9,  10721,2,19940123,1025, 23.9998, 136.9942, 3900,     50.9,  23.4470,  34.9177,2,-999.0000,9,   -999.0,9,    213.0,2,     0.00,2,     0.10,2,     0.04,2,   -999, 23.4365
    49RY9401_1,  PR02,    12,  2,      8,  10718,2,19940123,1025, 23.9998, 136.9942, 3900,     75.6,  23.3776,  34.9158,2,-999.0000,9,   -999.0,9,    211.0,2,     0.01,2,     0.10,2,     0.04,2,   -999, 23.3620
    49RY9401_1,  PR02,    12,  2,      7,  10371,2,19940123,1025, 23.9998, 136.9942, 3900,    100.1,  23.1385,  34.9093,2,-999.0000,9,   -999.0,9,    211.0,2,     0.01,2,     0.10,2,     0.04,2,   -999, 23.1180
    49RY9401_1,  PR02,    12,  2,      6,  10717,2,19940123,1025, 23.9998, 136.9942, 3900,    125.7,  20.1924,  34.9028,2,-999.0000,9,   -999.0,9,    208.0,2,     0.05,2,     0.90,2,     0.09,2,   -999, 20.1691
    49RY9401_1,  PR02,    12,  2,      5,  10382,2,19940123,1025, 23.9998, 136.9942, 3900,    151.4,  18.8069,  34.8578,2,-999.0000,9,   -999.0,9,    207.0,2,     0.03,2,     2.10,2,     0.16,2,   -999, 18.7802
    49RY9401_1,  PR02,    12,  2,      4,  10730,2,19940123,1025, 23.9998, 136.9942, 3900,    175.9,  18.1553,  34.8368,2,-999.0000,9,   -999.0,9,    207.0,2,     0.02,2,     2.80,2,     0.21,2,   -999, 18.1250
    49RY9401_1,  PR02,    12,  2,      3,  10722,2,19940123,1025, 23.9998, 136.9942, 3900,    201.6,  17.9342,  34.8235,2,-999.0000,9,   -999.0,9,    209.0,2,     0.01,2,     3.00,2,     0.23,2,   -999, 17.8997
    49RY9401_1,  PR02,    12,  2,      2,  10715,2,19940123,1025, 23.9998, 136.9942, 3900,    252.1,  17.2865,  34.7886,2,-999.0000,9,   -999.0,9,    208.0,2,     0.01,2,     4.20,2,     0.29,2,   -999, 17.2444
    49RY9401_1,  PR02,    12,  2,      1,  10716,2,19940123,1025, 23.9998, 136.9942, 3900,    303.9,  16.4227,  34.7318,2,-999.0000,9,   -999.0,9,    201.0,2,     0.01,2,     6.20,2,     0.41,2,   -999, 16.3737
    49RY9401_1,  PR02,    13,  1,      8,  10718,2,19940123,1636, 23.0065, 137.0023, 3050,    402.7,  13.4872,  34.4882,2,-999.0000,9,   -999.0,9,    187.0,2,     0.01,2,    12.40,2,     0.80,2,   -999, 13.4303
    49RY9401_1,  PR02,    13,  1,      7,  10371,2,19940123,1636, 23.0065, 137.0023, 3050,    504.7,  10.3691,  34.2630,2,-999.0000,9,   -999.0,9,    171.0,2,     0.01,2,    19.50,2,     1.28,2,   -999, 10.3088
    49RY9401_1,  PR02,    13,  1,      6,  10717,2,19940123,1636, 23.0065, 137.0023, 3050,    605.1,   7.7875,  34.1448,2,-999.0000,9,   -999.0,9,    141.0,2,     0.00,2,    27.10,2,     1.85,2,   -999,  7.7264
    49RY9401_1,  PR02,    13,  1,      5,  10382,2,19940123,1636, 23.0065, 137.0023, 3050,    705.7,   6.1488,  34.1285,2,-999.0000,9,   -999.0,9,    108.0,2,     0.01,2,    33.20,2,     2.31,2,   -999,  6.0858
    49RY9401_1,  PR02,    13,  1,      4,  10730,2,19940123,1636, 23.0065, 137.0023, 3050,    805.9,   5.0427,  34.2034,2,-999.0000,9,   -999.0,9,     76.0,2,     0.00,2,    38.10,2,     2.67,2,   -999,  4.9768
    49RY9401_1,  PR02,    13,  1,      3,  10722,2,19940123,1636, 23.0065, 137.0023, 3050,    906.4,   4.5533,  34.2869,2,-999.0000,9,   -999.0,9,     62.0,2,     0.00,2,    40.10,2,     2.86,2,   -999,  4.4818
    49RY9401_1,  PR02,    13,  1,      2,  10715,2,19940123,1636, 23.0065, 137.0023, 3050,   1007.9,   4.0329,  34.3879,2,-999.0000,9,   -999.0,9,     60.0,2,     0.00,2,    41.20,2,     2.93,2,   -999,  3.9565
    49RY9401_1,  PR02,    13,  1,      1,  10716,2,19940123,1636, 23.0065, 137.0023, 3050,   1263.0,   3.0140,  34.4741,2,-999.0000,9,   -999.0,9,     68.0,2,     0.00,2,    41.80,2,     2.96,2,   -999,  2.9256
    49RY9401_1,  PR02,    13,  2,     12,  10720,2,19940123,1730, 22.9938, 137.0097, -999,      2.7,  23.9512,  34.9023,2,-999.0000,9,   -999.0,9,    210.0,2,     0.00,2,     0.20,2,     0.08,2,   -999, 23.9507
    49RY9401_1,  PR02,    13,  2,     11,  10727,2,19940123,1730, 22.9938, 137.0097, -999,     10.3,  23.9628,  34.8994,2,-999.0000,9,   -999.0,9,    210.0,2,     0.00,2,     0.10,2,     0.07,2,   -999, 23.9606
    49RY9401_1,  PR02,    13,  2,     10,  10719,2,19940123,1730, 22.9938, 137.0097, -999,     25.9,  23.9612,  34.8994,2,-999.0000,9,   -999.0,9,    210.0,2,     0.00,2,     0.10,2,     0.06,2,   -999, 23.9558
    49RY9401_1,  PR02,    13,  2,      9,  10721,2,19940123,1730, 22.9938, 137.0097, -999,     49.8,  23.9698,  34.8985,2,-999.0000,9,   -999.0,9,    207.0,2,     0.00,2,     0.20,2,     0.06,2,   -999, 23.9593
    49RY9401_1,  PR02,    13,  2,      8,  10718,2,19940123,1730, 22.9938, 137.0097, -999,     75.6,  23.7299,  34.9196,2,-999.0000,9,   -999.0,9,    207.0,2,     0.00,2,     0.20,2,     0.05,2,   -999, 23.7141
    49RY9401_1,  PR02,    13,  2,      7,  10371,2,19940123,1730, 22.9938, 137.0097, -999,    101.2,  20.8734,  34.9204,2,-999.0000,9,   -999.0,9,    211.0,2,     0.02,2,     0.20,2,     0.07,2,   -999, 20.8541
    49RY9401_1,  PR02,    13,  2,      6,  10717,2,19940123,1730, 22.9938, 137.0097, -999,    125.4,  20.1954,  34.9139,2,-999.0000,9,   -999.0,9,    208.0,2,     0.06,2,     0.70,2,     0.09,2,   -999, 20.1721
    49RY9401_1,  PR02,    13,  2,      5,  10382,2,19940123,1730, 22.9938, 137.0097, -999,    152.4,  18.7542,  34.8910,2,-999.0000,9,   -999.0,9,    196.0,2,     0.02,2,     3.20,2,     0.22,2,   -999, 18.7273
    49RY9401_1,  PR02,    13,  2,      4,  10730,2,19940123,1730, 22.9938, 137.0097, -999,    176.0,  17.9202,  34.8306,2,-999.0000,9,   -999.0,9,    198.0,2,     0.01,2,     3.40,2,     0.23,2,   -999, 17.8901
    49RY9401_1,  PR02,    13,  2,      3,  10722,2,19940123,1730, 22.9938, 137.0097, -999,    201.5,  17.5819,  34.8092,2,-999.0000,9,   -999.0,9,    206.0,2,     0.02,2,     3.90,2,     0.26,2,   -999, 17.5479
    49RY9401_1,  PR02,    13,  2,      2,  10715,2,19940123,1730, 22.9938, 137.0097, -999,    250.9,  17.0392,  34.7739,2,-999.0000,9,   -999.0,9,    203.0,2,     0.01,2,     5.20,2,     0.34,2,   -999, 16.9977
    49RY9401_1,  PR02,    13,  2,      1,  10716,2,19940123,1730, 22.9938, 137.0097, -999,    302.7,  16.2179,  34.7217,2,-999.0000,9,   -999.0,9,    200.0,2,     0.01,2,     6.80,2,     0.44,2,   -999, 16.1695
    49RY9401_1,  PR02,    14,  1,      8,  10718,2,19940123,2352, 21.9990, 137.0012, 4485,    403.6,  13.9435,  34.5284,2,-999.0000,9,   -999.0,9,    188.0,2,     0.01,2,    11.30,2,     0.74,2,   -999, 13.8851
    49RY9401_1,  PR02,    14,  1,      7,  10371,2,19940123,2352, 21.9990, 137.0012, 4485,    504.0,  10.2375,  34.2704,2,-999.0000,9,   -999.0,9,    170.0,2,     0.01,2,    19.50,2,     1.31,2,   -999, 10.1778
    49RY9401_1,  PR02,    14,  1,      6,  10717,2,19940123,2352, 21.9990, 137.0012, 4485,    605.4,   7.5263,  34.1423,2,  34.1503,2,   -999.0,9,    132.0,2,     0.00,2,    28.00,2,     1.98,2,   -999,  7.4664
    49RY9401_1,  PR02,    14,  1,      5,  10382,2,19940123,2352, 21.9990, 137.0012, 4485,    705.9,   5.8907,  34.1740,2,  34.1768,2,   -999.0,9,     90.0,2,     0.01,2,    34.50,2,     2.47,2,   -999,  5.8290
    49RY9401_1,  PR02,    14,  1,      4,  10730,2,19940123,2352, 21.9990, 137.0012, 4485,    806.1,   4.9418,  34.2283,2,  34.2305,2,   -999.0,9,     69.0,2,     0.00,2,    38.00,2,     2.74,2,   -999,  4.8765
    49RY9401_1,  PR02,    14,  1,      3,  10722,2,19940123,2352, 21.9990, 137.0012, 4485,    907.6,   4.3561,  34.3351,2,  34.3376,2,   -999.0,9,     59.0,2,     0.00,2,    39.80,2,     2.89,2,   -999,  4.2858
    49RY9401_1,  PR02,    14,  1,      2,  10715,2,19940123,2352, 21.9990, 137.0012, 4485,   1008.4,   3.9058,  34.3950,2,  34.3955,2,   -999.0,9,     62.0,2,     0.00,2,    40.30,2,     2.91,2,   -999,  3.8304
    49RY9401_1,  PR02,    14,  1,      1,  10716,2,19940123,2352, 21.9990, 137.0012, 4485,   1261.0,   2.9168,  34.4898,2,  34.5025,4,   -999.0,9,     71.0,2,     0.00,2,    40.60,2,     2.92,2,   -999,  2.8295