BOTTLE,20030108WHPSIODMB
EXPOCODE,SECT_ID,STNNBR,CASTNO,SAMPNO,BTLNBR,BTLNBR_FLAG_W,DATE,TIME,LATITUDE,LONGITUDE,DEPTH,CTDPRS,CTDTMP,CTDSAL,CTDSAL_FLAG_W,SALNTY,SALNTY_FLAG_W,CTDOXY,CTDOXY_FLAG_W,OXYGEN,OXYGEN_FLAG_W,NITRIT,NITRIT_FLAG_W,NO2+NO3,NO2+NO3_FLAG_W,PHSPHT,PHSPHT_FLAG_W,CTDRAW,THETA
,,,,,,,,,,,,DBAR,ITS-90,PSS-78,,PSS-78,,UMOL/KG,,UMOL/KG,,UMOL/KG,,UMOL/KG,,UMOL/KG,,,DEG C
    49RY9401_1,  PR02,    14,  2,     11,  10727,2,19940124,0058, 21.9820, 137.0083, 4425,      2.9,  25.0480,  34.8471,2,  34.8483,2,   -999.0,9,    206.0,2,     0.00,2,     0.20,2,     0.07,2,   -999, 25.0474
    49RY9401_1,  PR02,    14,  2,     10,  10719,2,19940124,0058, 21.9820, 137.0083, 4425,      9.5,  25.0429,  34.8502,2,-999.0000,9,   -999.0,9,    205.0,2,     0.01,2,     0.20,2,     0.05,2,   -999, 25.0409
    49RY9401_1,  PR02,    14,  2,      9,  10721,2,19940124,0058, 21.9820, 137.0083, 4425,     26.0,  25.0420,  34.8489,2,  34.8469,2,   -999.0,9,    205.0,2,     0.00,2,     0.20,2,     0.05,2,   -999, 25.0364
    49RY9401_1,  PR02,    14,  2,      8,  10718,2,19940124,0058, 21.9820, 137.0083, 4425,     50.8,  25.0485,  34.8479,2,-999.0000,9,   -999.0,9,    205.0,2,     0.00,2,     0.20,2,     0.04,2,   -999, 25.0375
    49RY9401_1,  PR02,    14,  2,      7,  10371,2,19940124,0058, 21.9820, 137.0083, 4425,     75.4,  25.0501,  34.8485,2,-999.0000,9,   -999.0,9,    208.0,2,     0.00,2,     0.20,2,     0.04,2,   -999, 25.0337
    49RY9401_1,  PR02,    14,  2,      6,  10717,2,19940124,0058, 21.9820, 137.0083, 4425,    100.6,  24.5034,  35.0205,2,  35.0205,2,   -999.0,9,    196.0,2,     0.05,2,     0.40,2,     0.07,2,   -999, 24.4819
    49RY9401_1,  PR02,    14,  2,      5,  10382,2,19940124,0058, 21.9820, 137.0083, 4425,    125.2,  22.9845,  34.9952,2,-999.0000,9,   -999.0,9,    210.0,2,     0.05,2,     0.80,2,     0.08,2,   -999, 22.9589
    49RY9401_1,  PR02,    14,  2,      4,  10730,2,19940124,0058, 21.9820, 137.0083, 4425,    150.5,  20.5513,  34.9191,2,  34.9244,2,   -999.0,9,    208.0,2,     0.07,2,     0.70,2,     0.09,2,   -999, 20.5229
    49RY9401_1,  PR02,    14,  2,      3,  10722,2,19940124,0058, 21.9820, 137.0083, 4425,    176.0,  19.4827,  34.9251,2,-999.0000,9,   -999.0,9,    188.0,2,     0.02,2,     3.20,2,     0.23,2,   -999, 19.4507
    49RY9401_1,  PR02,    14,  2,      2,  10715,2,19940124,0058, 21.9820, 137.0083, 4425,    202.3,  18.3071,  34.8559,2,  34.8536,2,   -999.0,9,    199.0,2,     0.02,2,     3.60,2,     0.25,2,   -999, 18.2719
    49RY9401_1,  PR02,    14,  2,      1,  10716,3,19940124,0058, 21.9820, 137.0083, 4425,    251.7,  17.4059,  34.8015,2,-999.0000,9,   -999.0,9,    200.0,2,     0.01,2,     4.70,2,     0.32,2,   -999, 17.3637
    49RY9401_1,  PR02,    14,  2,     12,  10720,2,19940124,0058, 21.9820, 137.0083, 4425,    299.0,  16.5111,  34.7372,2,-999.0000,9,   -999.0,9,    200.0,2,     0.01,2,     6.30,2,     0.41,2,   -999, 16.4627
    49RY9401_1,  PR02,    15,  1,      8,  10718,2,19940124,0717, 21.0063, 137.0102, 4830,    403.8,  13.7603,  34.4733,2,-999.0000,9,   -999.0,9,    185.0,2,     0.00,2,    11.30,2,     0.71,2,   -999, 13.7025
    49RY9401_1,  PR02,    15,  1,      7,  10371,2,19940124,0717, 21.0063, 137.0102, 4830,    500.9,  10.3574,  34.2758,2,-999.0000,9,   -999.0,9,    154.0,2,     0.00,2,    20.20,2,     1.35,2,   -999, 10.2976
    49RY9401_1,  PR02,    15,  1,      6,  10717,2,19940124,0717, 21.0063, 137.0102, 4830,    603.6,   8.3201,  34.1985,2,-999.0000,9,   -999.0,9,    124.0,2,     0.00,2,    27.10,2,     1.87,2,   -999,  8.2567
    49RY9401_1,  PR02,    15,  1,      5,  10382,2,19940124,0717, 21.0063, 137.0102, 4830,    706.1,   6.2529,  34.1695,2,-999.0000,9,   -999.0,9,     84.0,2,     0.01,2,    34.20,2,     2.42,2,   -999,  6.1892
    49RY9401_1,  PR02,    15,  1,      4,  10730,2,19940124,0717, 21.0063, 137.0102, 4830,    806.7,   5.2331,  34.2880,2,-999.0000,9,   -999.0,9,     67.0,2,     0.00,2,    38.10,2,     2.71,2,   -999,  5.1659
    49RY9401_1,  PR02,    15,  1,      3,  10722,2,19940124,0717, 21.0063, 137.0102, 4830,    906.9,   4.6198,  34.3774,2,-999.0000,9,   -999.0,9,     63.0,2,     0.00,2,    39.20,2,     2.76,2,   -999,  4.5477
    49RY9401_1,  PR02,    15,  1,      2,  10715,2,19940124,0717, 21.0063, 137.0102, 4830,   1007.0,   4.0408,  34.4331,2,-999.0000,9,   -999.0,9,     68.0,2,     0.00,2,    38.80,2,     2.76,2,   -999,  3.9643
    49RY9401_1,  PR02,    15,  1,      1,  10716,2,19940124,0717, 21.0063, 137.0102, 4830,   1261.6,   3.0703,  34.5064,2,-999.0000,9,   -999.0,9,     75.0,2,     0.00,2,    39.90,2,     2.83,2,   -999,  2.9814
    49RY9401_1,  PR02,    15,  2,     12,  10720,2,19940124,0811, 20.9952, 137.0140, 4635,      5.7,  25.8800,  34.8705,2,-999.0000,9,   -999.0,9,    203.0,2,     0.00,2,     0.10,2,     0.06,2,   -999, 25.8788
    49RY9401_1,  PR02,    15,  2,     11,  10727,2,19940124,0811, 20.9952, 137.0140, 4635,     10.3,  25.8974,  34.8708,2,-999.0000,9,   -999.0,9,    203.0,2,     0.00,2,     0.20,2,     0.05,2,   -999, 25.8951
    49RY9401_1,  PR02,    15,  2,     10,  10719,2,19940124,0811, 20.9952, 137.0140, 4635,     24.8,  25.8939,  34.8683,2,-999.0000,9,   -999.0,9,    203.0,2,     0.01,2,     0.20,2,     0.05,2,   -999, 25.8883
    49RY9401_1,  PR02,    15,  2,      9,  10721,2,19940124,0811, 20.9952, 137.0140, 4635,     49.7,  25.8976,  34.8711,2,-999.0000,9,   -999.0,9,    203.0,2,     0.00,2,     0.10,2,     0.05,2,   -999, 25.8866
    49RY9401_1,  PR02,    15,  2,      8,  10718,2,19940124,0811, 20.9952, 137.0140, 4635,     74.5,  25.8813,  34.8680,2,-999.0000,9,   -999.0,9,    203.0,2,     0.00,2,     0.10,2,     0.05,2,   -999, 25.8647
    49RY9401_1,  PR02,    15,  2,      7,  10371,2,19940124,0811, 20.9952, 137.0140, 4635,    100.2,  24.4824,  34.9002,2,-999.0000,9,   -999.0,9,    206.0,2,     0.01,2,     0.20,2,     0.05,2,   -999, 24.4610
    49RY9401_1,  PR02,    15,  2,      6,  10717,2,19940124,0811, 20.9952, 137.0140, 4635,    126.4,  24.1429,  34.9763,2,-999.0000,9,   -999.0,9,    205.0,2,     0.07,2,     0.20,2,     0.05,2,   -999, 24.1162
    49RY9401_1,  PR02,    15,  2,      5,  10382,2,19940124,0811, 20.9952, 137.0140, 4635,    150.1,  21.7803,  34.9625,2,-999.0000,9,   -999.0,9,    210.0,2,     0.10,2,     0.40,2,     0.06,2,   -999, 21.7509
    49RY9401_1,  PR02,    15,  2,      4,  10730,2,19940124,0811, 20.9952, 137.0140, 4635,    177.3,  20.4438,  34.9020,2,-999.0000,9,   -999.0,9,    197.0,2,     0.03,2,     1.90,2,     0.12,2,   -999, 20.4105
    49RY9401_1,  PR02,    15,  2,      3,  10722,2,19940124,0811, 20.9952, 137.0140, 4635,    200.9,  19.4159,  34.8758,2,-999.0000,9,   -999.0,9,    203.0,2,     0.02,2,     2.30,2,     0.15,2,   -999, 19.3796
    49RY9401_1,  PR02,    15,  2,      2,  10715,2,19940124,0811, 20.9952, 137.0140, 4635,    251.0,  18.2832,  34.8469,2,-999.0000,9,   -999.0,9,    196.0,2,     0.01,2,     3.80,2,     0.23,2,   -999, 18.2396
    49RY9401_1,  PR02,    15,  2,      1,  10716,2,19940124,0811, 20.9952, 137.0140, 4635,    301.3,  16.6898,  34.7481,2,-999.0000,9,   -999.0,9,    193.0,2,     0.01,2,     6.30,2,     0.44,2,   -999, 16.6407
    49RY9401_1,  PR02,    16,  1,     12,  10720,2,19940124,1507, 19.9897, 136.9950, 4800,    504.6,  10.3338,  34.2590,2,  34.2556,2,   -999.0,9,    170.0,2,     0.00,2,    19.60,2,     1.27,2,   -999, 10.2737
    49RY9401_1,  PR02,    16,  1,     11,  10727,2,19940124,1507, 19.9897, 136.9950, 4800,    605.4,   7.6749,  34.1476,2,-999.0000,9,   -999.0,9,    128.0,2,     0.00,2,    27.80,2,     1.86,2,   -999,  7.6143
    49RY9401_1,  PR02,    16,  1,     10,  10719,2,19940124,1507, 19.9897, 136.9950, 4800,    706.3,   5.7246,  34.2222,2,  34.2126,3,   -999.0,9,     75.0,2,     0.00,2,    36.20,2,     2.52,2,   -999,  5.6637
    49RY9401_1,  PR02,    16,  1,      9,  10721,2,19940124,1507, 19.9897, 136.9950, 4800,    807.7,   5.0150,  34.3145,2,  34.3148,2,   -999.0,9,     67.0,2,     0.00,2,    38.60,2,     2.74,2,   -999,  4.9490
    49RY9401_1,  PR02,    16,  1,      8,  10718,2,19940124,1507, 19.9897, 136.9950, 4800,    908.2,   4.4033,  34.3721,2,  34.3554,4,   -999.0,9,     65.0,2,     0.01,2,    39.80,2,     2.83,2,   -999,  4.3326
    49RY9401_1,  PR02,    16,  1,      7,  10371,2,19940124,1507, 19.9897, 136.9950, 4800,   1009.5,   3.8554,  34.4359,2,-999.0000,9,   -999.0,9,     68.0,2,     0.00,2,    40.00,2,     2.85,2,   -999,  3.7802
    49RY9401_1,  PR02,    16,  1,      6,  10717,2,19940124,1507, 19.9897, 136.9950, 4800,   1261.8,   2.9295,  34.5146,2,  34.5107,2,   -999.0,9,     78.0,2,     0.00,2,    39.50,2,     2.86,2,   -999,  2.8419
    49RY9401_1,  PR02,    16,  1,      5,  10382,2,19940124,1507, 19.9897, 136.9950, 4800,   1515.0,   2.5227,  34.5768,2,  34.5596,4,   -999.0,9,    100.0,2,     0.01,2,    39.10,2,     2.78,2,   -999,  2.4192
    49RY9401_1,  PR02,    16,  1,      4,  10730,2,19940124,1507, 19.9897, 136.9950, 4800,   2020.8,   2.0310,  34.6236,2,  34.6236,2,   -999.0,9,    115.0,2,     0.01,2,    38.30,2,     2.71,2,   -999,  1.8924
    49RY9401_1,  PR02,    16,  1,      3,  10722,2,19940124,1507, 19.9897, 136.9950, 4800,   2529.2,   1.7712,  34.6466,2,  34.6494,2,   -999.0,9,    131.0,2,     0.00,2,    37.20,2,     2.64,2,   -999,  1.5926
    49RY9401_1,  PR02,    16,  1,      2,  10715,2,19940124,1507, 19.9897, 136.9950, 4800,   3040.4,   1.6152,  34.6622,2,  34.6570,4,   -999.0,9,    142.0,2,     0.01,2,    36.90,2,     2.58,2,   -999,  1.3920
    49RY9401_1,  PR02,    16,  1,      1,  10716,2,19940124,1507, 19.9897, 136.9950, 4800,   4064.0,   1.5195,  34.6804,2,  34.6794,2,   -999.0,9,    157.0,2,     0.00,2,    35.90,2,     2.50,2,   -999,  1.1931
    49RY9401_1,  PR02,    16,  2,      0,   -999,2,19940124,1705, 19.9640, 136.9828, 4650,      0.8,  25.6936,  34.7988,2,-999.0000,9,   -999.0,9,    208.0,2,     0.01,2,     0.20,2,     0.08,2,   -999, 25.6934
    49RY9401_1,  PR02,    16,  2,     12,  10720,2,19940124,1705, 19.9640, 136.9828, 4650,     12.3,  25.6938,  34.7974,2,-999.0000,9,   -999.0,9,    203.0,2,     0.01,2,     0.20,2,     0.07,2,   -999, 25.6911
    49RY9401_1,  PR02,    16,  2,     11,  10727,2,19940124,1705, 19.9640, 136.9828, 4650,     27.1,  25.7045,  34.7988,2,-999.0000,9,   -999.0,9,    203.0,2,     0.01,2,     0.20,2,     0.06,2,   -999, 25.6985
    49RY9401_1,  PR02,    16,  2,     10,  10719,2,19940124,1705, 19.9640, 136.9828, 4650,     51.3,  25.7052,  34.7973,2,  34.7956,2,   -999.0,9,    203.0,2,     0.00,2,     0.20,2,     0.06,2,   -999, 25.6939
    49RY9401_1,  PR02,    16,  2,      9,  10721,2,19940124,1705, 19.9640, 136.9828, 4650,     77.7,  25.7055,  34.7974,2,-999.0000,9,   -999.0,9,    204.0,2,     0.01,2,     0.20,2,     0.06,2,   -999, 25.6883
    49RY9401_1,  PR02,    16,  2,      8,  10718,2,19940124,1705, 19.9640, 136.9828, 4650,    102.6,  24.7933,  35.0552,2,  35.0195,2,   -999.0,9,    196.0,2,     0.03,2,     0.20,2,     0.07,2,   -999, 24.7712
    49RY9401_1,  PR02,    16,  2,      7,  10371,2,19940124,1705, 19.9640, 136.9828, 4650,    126.9,  23.4207,  35.0458,2,-999.0000,9,   -999.0,9,    188.0,2,     0.05,2,     1.00,2,     0.09,2,   -999, 23.3945
    49RY9401_1,  PR02,    16,  2,      6,  10717,2,19940124,1705, 19.9640, 136.9828, 4650,    153.1,  22.1078,  35.0174,2,-999.0000,9,   -999.0,9,    187.0,2,     0.03,2,     1.50,2,     0.11,2,   -999, 22.0774
    49RY9401_1,  PR02,    16,  2,      5,  10382,2,19940124,1705, 19.9640, 136.9828, 4650,    178.5,  20.8838,  34.9460,2,-999.0000,9,   -999.0,9,    189.0,2,     0.02,2,     2.00,2,     0.13,2,   -999, 20.8498
    49RY9401_1,  PR02,    16,  2,      4,  10730,2,19940124,1705, 19.9640, 136.9828, 4650,    204.9,  19.6082,  34.9029,2,  34.9158,2,   -999.0,9,    194.0,2,     0.02,2,     2.50,2,     0.17,2,   -999, 19.5708
    49RY9401_1,  PR02,    16,  2,      3,  10722,2,19940124,1705, 19.9640, 136.9828, 4650,    252.5,  18.2307,  34.8548,2,-999.0000,9,   -999.0,9,    194.0,2,     0.01,2,     4.00,2,     0.24,2,   -999, 18.1869
    49RY9401_1,  PR02,    16,  2,      2,  10715,2,19940124,1705, 19.9640, 136.9828, 4650,    302.6,  17.0712,  34.7801,2,  34.7819,2,   -999.0,9,    197.0,2,     0.01,2,     5.40,2,     0.34,2,   -999, 17.0211
    49RY9401_1,  PR02,    16,  2,      1,  10716,2,19940124,1705, 19.9640, 136.9828, 4650,    407.0,  13.5260,  34.4778,2,  34.4742,2,   -999.0,9,    181.0,2,     0.00,2,    12.10,2,     0.76,2,   -999, 13.4684
    49RY9401_1,  PR02,    17,  1,      8,  10718,2,19940125,0039, 18.9885, 136.9820, 4705,    404.1,  12.4213,  34.3877,2,-999.0000,9,   -999.0,9,    168.0,2,     0.01,2,    15.30,2,     1.03,2,   -999, 12.3673
    49RY9401_1,  PR02,    17,  1,      7,  10371,2,19940125,0039, 18.9885, 136.9820, 4705,    504.0,   9.3914,  34.2142,2,-999.0000,9,   -999.0,9,    159.0,2,     0.00,2,    21.70,2,     1.48,2,   -999,  9.3348
    49RY9401_1,  PR02,    17,  1,      6,  10717,2,19940125,0039, 18.9885, 136.9820, 4705,    603.9,   6.9781,  34.1666,2,-999.0000,9,   -999.0,9,    111.0,2,     0.00,2,    31.00,2,     2.15,2,   -999,  6.9208
    49RY9401_1,  PR02,    17,  1,      5,  10382,2,19940125,0039, 18.9885, 136.9820, 4705,    707.3,   5.7367,  34.2407,2,-999.0000,9,   -999.0,9,     71.0,2,     0.00,2,    36.70,2,     2.62,2,   -999,  5.6756
    49RY9401_1,  PR02,    17,  1,      4,  10730,2,19940125,0039, 18.9885, 136.9820, 4705,    807.2,   4.9558,  34.3497,2,-999.0000,9,   -999.0,9,     64.0,2,     0.01,2,    39.00,2,     2.81,2,   -999,  4.8901
    49RY9401_1,  PR02,    17,  1,      3,  10722,3,19940125,0039, 18.9885, 136.9820, 4705,    908.4,   4.3087,  34.4294,2,-999.0000,9,   -999.0,9,     71.0,2,     0.00,2,    39.30,2,     2.84,2,   -999,  4.2385
    49RY9401_1,  PR02,    17,  1,      2,  10715,2,19940125,0039, 18.9885, 136.9820, 4705,   1009.5,   3.8410,  34.4649,2,-999.0000,9,   -999.0,9,     72.0,2,     0.00,2,    39.30,2,     2.84,2,   -999,  3.7658
    49RY9401_1,  PR02,    17,  1,      1,  10716,2,19940125,0039, 18.9885, 136.9820, 4705,   1266.7,   3.0318,  34.5323,2,-999.0000,9,   -999.0,9,     86.0,2,     0.01,2,    39.50,2,     2.85,2,   -999,  2.9428
    49RY9401_1,  PR02,    17,  2,     12,  10720,2,19940125,0158, 18.9730, 136.9675, 4570,      3.0,  26.4353,  34.8096,2,-999.0000,9,   -999.0,9,   -999.0,5,     0.01,2,     0.20,2,     0.08,2,   -999, 26.4347
    49RY9401_1,  PR02,    17,  2,     11,  10727,2,19940125,0158, 18.9730, 136.9675, 4570,     10.1,  26.4309,  34.8118,2,-999.0000,9,   -999.0,9,    203.0,2,     0.01,2,     0.20,2,     0.08,2,   -999, 26.4286
    49RY9401_1,  PR02,    17,  2,     10,  10719,2,19940125,0158, 18.9730, 136.9675, 4570,     26.5,  26.4301,  34.8089,2,-999.0000,9,   -999.0,9,    203.0,2,     0.01,2,     0.20,2,     0.07,2,   -999, 26.4242
    49RY9401_1,  PR02,    17,  2,      9,  10721,2,19940125,0158, 18.9730, 136.9675, 4570,     50.1,  26.4388,  34.8104,2,-999.0000,9,   -999.0,9,    203.0,2,     0.01,2,     0.20,2,     0.07,2,   -999, 26.4275
    49RY9401_1,  PR02,    17,  2,      8,  10718,2,19940125,0158, 18.9730, 136.9675, 4570,     75.3,  26.1521,  34.8022,2,-999.0000,9,   -999.0,9,    203.0,2,     0.01,2,     0.20,2,     0.08,2,   -999, 26.1353
    49RY9401_1,  PR02,    17,  2,      7,  10371,2,19940125,0158, 18.9730, 136.9675, 4570,    101.0,  26.0265,  34.7924,2,-999.0000,9,   -999.0,9,    204.0,2,     0.01,2,     0.20,2,     0.08,2,   -999, 26.0040
    49RY9401_1,  PR02,    17,  2,      6,  10717,2,19940125,0158, 18.9730, 136.9675, 4570,    126.3,  24.9123,  35.0397,2,-999.0000,9,   -999.0,9,    196.0,2,     0.04,2,     0.30,2,     0.09,2,   -999, 24.8850
    49RY9401_1,  PR02,    17,  2,      5,  10382,2,19940125,0158, 18.9730, 136.9675, 4570,    152.4,  22.9361,  35.0577,2,-999.0000,9,   -999.0,9,    185.0,2,     0.04,2,     1.40,2,     0.13,2,   -999, 22.9050
    49RY9401_1,  PR02,    17,  2,      4,  10730,2,19940125,0158, 18.9730, 136.9675, 4570,    176.5,  20.6708,  34.9536,2,-999.0000,9,   -999.0,9,    190.0,2,     0.01,2,     1.90,2,     0.16,2,   -999, 20.6374
    49RY9401_1,  PR02,    17,  2,      3,  10722,2,19940125,0158, 18.9730, 136.9675, 4570,    201.5,  19.4833,  34.9148,2,-999.0000,9,   -999.0,9,    195.0,2,     0.02,2,     2.70,2,     0.21,2,   -999, 19.4467
    49RY9401_1,  PR02,    17,  2,      2,  10715,2,19940125,0158, 18.9730, 136.9675, 4570,    252.4,  17.8040,  34.8363,2,-999.0000,9,   -999.0,9,    198.0,2,     0.01,2,     4.40,2,     0.30,2,   -999, 17.7610
    49RY9401_1,  PR02,    17,  2,      1,  10716,2,19940125,0158, 18.9730, 136.9675, 4570,    301.7,  16.0820,  34.6955,2,-999.0000,9,   -999.0,9,    194.0,2,     0.00,2,     7.20,2,     0.52,2,   -999, 16.0340
    49RY9401_1,  PR02,    18,  1,      8,  10718,2,19940125,0821, 18.0005, 136.9747, 4850,    402.9,  12.3258,  34.3831,2,-999.0000,9,   -999.0,9,   -999.0,5,     0.00,2,    15.80,2,     1.07,2,   -999, 12.2723
    49RY9401_1,  PR02,    18,  1,      7,  10371,2,19940125,0821, 18.0005, 136.9747, 4850,    503.8,   8.6391,  34.2492,2,-999.0000,9,   -999.0,9,    116.0,2,     0.00,2,    29.80,2,     2.05,2,   -999,  8.5853
    49RY9401_1,  PR02,    18,  1,      6,  10717,2,19940125,0821, 18.0005, 136.9747, 4850,    605.2,   6.6236,  34.2187,2,-999.0000,9,   -999.0,9,     84.0,2,     0.00,2,    37.00,2,     2.64,2,   -999,  6.5677
    49RY9401_1,  PR02,    18,  1,      5,  10382,2,19940125,0821, 18.0005, 136.9747, 4850,    705.3,   5.9537,  34.3706,2,-999.0000,9,   -999.0,9,     71.0,2,     0.00,2,    39.90,2,     2.86,2,   -999,  5.8915
    49RY9401_1,  PR02,    18,  1,      4,  10730,2,19940125,0821, 18.0005, 136.9747, 4850,    805.9,   4.9488,  34.4075,2,-999.0000,9,   -999.0,9,     77.0,2,     0.00,2,    41.30,2,     2.95,2,   -999,  4.8832
    49RY9401_1,  PR02,    18,  1,      3,  10722,2,19940125,0821, 18.0005, 136.9747, 4850,    906.9,   4.4212,  34.4561,2,-999.0000,9,   -999.0,9,     79.0,2,     0.00,2,    41.60,2,     2.98,2,   -999,  4.3503
    49RY9401_1,  PR02,    18,  1,      2,  10715,2,19940125,0821, 18.0005, 136.9747, 4850,   1007.6,   3.9538,  34.5000,2,-999.0000,9,   -999.0,9,     85.0,2,     0.00,2,    41.80,2,     2.99,2,   -999,  3.8778
    49RY9401_1,  PR02,    18,  1,      1,  10716,2,19940125,0821, 18.0005, 136.9747, 4850,   1260.8,   3.2342,  34.5484,2,-999.0000,9,   -999.0,9,     95.0,2,     0.00,2,    42.00,2,     3.00,2,   -999,  3.1436