BOTTLE,20030108WHPSIODMB
EXPOCODE,SECT_ID,STNNBR,CASTNO,SAMPNO,BTLNBR,BTLNBR_FLAG_W,DATE,TIME,LATITUDE,LONGITUDE,DEPTH,CTDPRS,CTDTMP,CTDSAL,CTDSAL_FLAG_W,SALNTY,SALNTY_FLAG_W,CTDOXY,CTDOXY_FLAG_W,OXYGEN,OXYGEN_FLAG_W,NITRIT,NITRIT_FLAG_W,NO2+NO3,NO2+NO3_FLAG_W,PHSPHT,PHSPHT_FLAG_W,CTDRAW,THETA
,,,,,,,,,,,,DBAR,ITS-90,PSS-78,,PSS-78,,UMOL/KG,,UMOL/KG,,UMOL/KG,,UMOL/KG,,UMOL/KG,,,DEG C
    49RY9401_1,  PR02,    22,  2,     11,  10727,2,19940126,1935, 13.9920, 136.9623, 4825,      3.1,  27.6064,  34.6329,2,-999.0000,9,   -999.0,9,    198.0,2,     0.01,2,     0.20,2,     0.11,2,   -999, 27.6057
    49RY9401_1,  PR02,    22,  2,     10,  10719,2,19940126,1935, 13.9920, 136.9623, 4825,     10.9,  27.6145,  34.6330,2,-999.0000,9,   -999.0,9,    199.0,2,     0.00,2,     0.20,2,     0.11,2,   -999, 27.6120
    49RY9401_1,  PR02,    22,  2,      9,  10721,2,19940126,1935, 13.9920, 136.9623, 4825,     26.1,  27.6218,  34.6347,2,-999.0000,9,   -999.0,9,    197.0,2,     0.01,2,     0.20,2,     0.11,2,   -999, 27.6157
    49RY9401_1,  PR02,    22,  2,      8,  10718,2,19940126,1935, 13.9920, 136.9623, 4825,     52.0,  27.6280,  34.6332,2,-999.0000,9,   -999.0,9,   -999.0,5,     0.01,2,     0.20,2,     0.11,2,   -999, 27.6159
    49RY9401_1,  PR02,    22,  2,      7,  10371,2,19940126,1935, 13.9920, 136.9623, 4825,     76.9,  27.6308,  34.6332,2,-999.0000,9,   -999.0,9,    198.0,2,     0.00,2,     0.20,2,     0.11,2,   -999, 27.6129
    49RY9401_1,  PR02,    22,  2,      6,  10717,2,19940126,1935, 13.9920, 136.9623, 4825,    103.2,  27.1579,  34.7019,2,-999.0000,9,   -999.0,9,    200.0,2,     0.00,2,     0.20,2,     0.11,2,   -999, 27.1341
    49RY9401_1,  PR02,    22,  2,      5,  10382,2,19940126,1935, 13.9920, 136.9623, 4825,    127.5,  25.3780,  34.9937,2,-999.0000,9,   -999.0,9,    199.0,2,     0.00,2,     0.20,2,     0.12,2,   -999, 25.3501
    49RY9401_1,  PR02,    22,  2,      4,  10730,2,19940126,1935, 13.9920, 136.9623, 4825,    152.3,  24.2464,  35.0610,2,-999.0000,9,   -999.0,9,    190.0,2,     0.12,2,     0.50,2,     0.14,2,   -999, 24.2141
    49RY9401_1,  PR02,    22,  2,      3,  10722,2,19940126,1935, 13.9920, 136.9623, 4825,    176.4,  21.9875,  35.0614,2,-999.0000,9,   -999.0,9,    179.0,2,     0.03,2,     1.90,2,     0.23,2,   -999, 21.9526
    49RY9401_1,  PR02,    22,  2,      2,  10715,2,19940126,1935, 13.9920, 136.9623, 4825,    203.1,  19.6866,  34.9871,2,-999.0000,9,   -999.0,9,    181.0,2,     0.01,2,     3.40,2,     0.31,2,   -999, 19.6494
    49RY9401_1,  PR02,    22,  2,      1,  10716,2,19940126,1935, 13.9920, 136.9623, 4825,    253.5,  15.4283,  34.6214,2,-999.0000,9,   -999.0,9,    181.0,2,     0.01,2,     8.70,2,     0.63,2,   -999, 15.3892
    49RY9401_1,  PR02,    22,  2,     12,  10720,2,19940126,1935, 13.9920, 136.9623, 4825,    302.7,  12.2702,  34.3829,2,-999.0000,9,   -999.0,9,    175.0,2,     0.01,2,    14.70,2,     1.03,2,   -999, 12.2302
    49RY9401_1,  PR02,    23,  1,      8,  10718,2,19940127,0223, 12.9932, 136.9763, 4690,    404.5,   8.9397,  34.4075,2,-999.0000,9,   -999.0,9,     86.0,2,     0.00,2,    30.20,2,     2.19,2,   -999,  8.8957
    49RY9401_1,  PR02,    23,  1,      9,  10721,9,19940127,0223, 12.9932, 136.9763, 4690,    407.8,   8.8561,  34.4212,2,-999.0000,9,   -999.0,9,   -999.0,9,  -999.00,9,  -999.00,9,  -999.00,9,   -999,  8.8120
    49RY9401_1,  PR02,    23,  1,      7,  10371,2,19940127,0223, 12.9932, 136.9763, 4690,    504.5,   7.4066,  34.3876,2,-999.0000,9,   -999.0,9,     78.0,2,     0.00,2,    33.80,2,     2.48,2,   -999,  7.3572
    49RY9401_1,  PR02,    23,  1,      6,  10717,2,19940127,0223, 12.9932, 136.9763, 4690,    604.8,   6.4239,  34.4170,2,-999.0000,9,   -999.0,9,     77.0,2,     0.00,2,    35.70,2,     2.61,2,   -999,  6.3688
    49RY9401_1,  PR02,    23,  1,      5,  10382,2,19940127,0223, 12.9932, 136.9763, 4690,    706.9,   5.7271,  34.4530,2,-999.0000,9,   -999.0,9,     81.0,2,     0.00,2,    36.70,2,     2.69,2,   -999,  5.6658
    49RY9401_1,  PR02,    23,  1,      4,  10730,2,19940127,0223, 12.9932, 136.9763, 4690,    806.6,   5.1030,  34.4937,2,-999.0000,9,   -999.0,9,     84.0,2,     0.00,2,    37.90,2,     2.78,2,   -999,  5.0363
    49RY9401_1,  PR02,    23,  1,      3,  10722,2,19940127,0223, 12.9932, 136.9763, 4690,    909.6,   4.5240,  34.5226,2,-999.0000,9,   -999.0,9,     86.0,2,     0.00,2,    38.30,2,     2.80,2,   -999,  4.4521
    49RY9401_1,  PR02,    23,  1,      2,  10715,2,19940127,0223, 12.9932, 136.9763, 4690,   1010.1,   4.1817,  34.5428,2,-999.0000,9,   -999.0,9,     90.0,2,     0.00,2,    38.30,2,     2.81,2,   -999,  4.1037
    49RY9401_1,  PR02,    23,  1,      1,  10716,2,19940127,0223, 12.9932, 136.9763, 4690,   1257.3,   3.5103,  34.5669,2,-999.0000,9,   -999.0,9,     95.0,2,     0.00,2,    38.60,2,     2.83,2,   -999,  3.4174
    49RY9401_1,  PR02,    23,  2,     12,  10720,2,19940127,0326, 12.9905, 136.9558, 4915,      1.3,  27.6754,  34.1393,2,-999.0000,9,   -999.0,9,    208.0,2,     0.00,2,     0.20,2,     0.15,2,   -999, 27.6751
    49RY9401_1,  PR02,    23,  2,     11,  10727,2,19940127,0326, 12.9905, 136.9558, 4915,      9.5,  27.6295,  34.1348,2,-999.0000,9,   -999.0,9,   -999.0,5,     0.00,2,     0.20,2,     0.15,2,   -999, 27.6273
    49RY9401_1,  PR02,    23,  2,     10,  10719,2,19940127,0326, 12.9905, 136.9558, 4915,     25.4,  27.5923,  34.1346,2,-999.0000,9,   -999.0,9,    199.0,2,     0.00,2,     0.20,2,     0.16,2,   -999, 27.5864
    49RY9401_1,  PR02,    23,  2,      9,  10721,2,19940127,0326, 12.9905, 136.9558, 4915,     50.2,  27.5874,  34.1397,2,-999.0000,9,   -999.0,9,    199.0,2,     0.00,2,     0.20,2,     0.16,2,   -999, 27.5758
    49RY9401_1,  PR02,    23,  2,      8,  10718,2,19940127,0326, 12.9905, 136.9558, 4915,     74.7,  27.7817,  34.6165,2,-999.0000,9,   -999.0,9,    200.0,2,     0.00,2,     0.20,2,     0.15,2,   -999, 27.7642
    49RY9401_1,  PR02,    23,  2,      7,  10371,2,19940127,0326, 12.9905, 136.9558, 4915,    101.0,  27.0855,  34.7997,2,-999.0000,9,   -999.0,9,    203.0,2,     0.00,2,     0.20,2,     0.15,2,   -999, 27.0623
    49RY9401_1,  PR02,    23,  2,      6,  10717,2,19940127,0326, 12.9905, 136.9558, 4915,    124.9,  24.9276,  35.0467,2,-999.0000,9,   -999.0,9,    196.0,2,     0.00,2,     0.20,2,     0.15,2,   -999, 24.9005
    49RY9401_1,  PR02,    23,  2,      5,  10382,2,19940127,0326, 12.9905, 136.9558, 4915,    150.5,  22.7492,  35.1247,2,-999.0000,9,   -999.0,9,    183.0,2,     0.03,2,     1.20,2,     0.26,2,   -999, 22.7187
    49RY9401_1,  PR02,    23,  2,      4,  10730,2,19940127,0326, 12.9905, 136.9558, 4915,    176.5,  21.3994,  35.0658,2,-999.0000,9,   -999.0,9,    178.0,2,     0.03,2,     2.30,2,     0.30,2,   -999, 21.3652
    49RY9401_1,  PR02,    23,  2,      3,  10722,2,19940127,0326, 12.9905, 136.9558, 4915,    201.5,  19.4913,  34.9767,2,-999.0000,9,   -999.0,9,    175.0,2,     0.02,2,     4.00,2,     0.41,2,   -999, 19.4547
    49RY9401_1,  PR02,    23,  2,      2,  10715,3,19940127,0326, 12.9905, 136.9558, 4915,    252.5,  14.6902,  34.5731,2,-999.0000,9,   -999.0,9,    156.0,2,     0.01,2,    12.50,2,     0.96,2,   -999, 14.6526
    49RY9401_1,  PR02,    23,  2,      1,  10716,2,19940127,0326, 12.9905, 136.9558, 4915,    302.3,  11.9097,  34.4099,2,-999.0000,9,   -999.0,9,    140.0,2,     0.01,2,    18.60,2,     1.39,2,   -999, 11.8705
    49RY9401_1,  PR02,    24,  1,      8,  10718,2,19940127,0948, 11.9945, 136.9973, 5075,    404.4,   8.3011,  34.4390,2,  34.4385,2,   -999.0,9,     76.0,2,     0.00,2,    32.50,2,     2.39,2,   -999,  8.2591
    49RY9401_1,  PR02,    24,  1,      7,  10371,2,19940127,0948, 11.9945, 136.9973, 5075,    504.2,   6.9933,  34.4297,2,  34.4449,3,   -999.0,9,     80.0,2,     0.00,2,    34.20,2,     2.50,2,   -999,  6.9455
    49RY9401_1,  PR02,    24,  1,      6,  10717,2,19940127,0948, 11.9945, 136.9973, 5075,    606.1,   6.0475,  34.4774,2,  34.4758,2,   -999.0,9,     81.0,2,     0.00,2,    36.40,2,     2.65,2,   -999,  5.9939
    49RY9401_1,  PR02,    24,  1,      5,  10382,2,19940127,0948, 11.9945, 136.9973, 5075,    705.6,   5.5132,  34.4998,2,  34.4972,2,   -999.0,9,     86.0,2,     0.00,2,    37.10,2,     2.70,2,   -999,  5.4531
    49RY9401_1,  PR02,    24,  1,      4,  10730,2,19940127,0948, 11.9945, 136.9973, 5075,    805.5,   5.1150,  34.5141,2,  34.5192,2,   -999.0,9,     84.0,2,     0.00,2,    37.90,2,     2.76,2,   -999,  5.0483
    49RY9401_1,  PR02,    24,  1,      3,  10722,2,19940127,0948, 11.9945, 136.9973, 5075,    908.3,   4.7538,  34.5231,2,  34.5235,2,   -999.0,9,     87.0,2,     0.00,2,    38.00,2,     2.77,2,   -999,  4.6804
    49RY9401_1,  PR02,    24,  1,      2,  10715,2,19940127,0948, 11.9945, 136.9973, 5075,   1008.8,   4.2547,  34.5398,2,-999.0000,9,   -999.0,9,     90.0,2,     0.00,2,    38.40,2,     2.80,2,   -999,  4.1762
    49RY9401_1,  PR02,    24,  1,      1,  10716,2,19940127,0948, 11.9945, 136.9973, 5075,   1260.7,   3.2512,  34.5720,2,  34.5694,2,   -999.0,9,     98.0,2,     0.01,2,    38.70,2,     2.82,2,   -999,  3.1604
    49RY9401_1,  PR02,    24,  2,     12,  10720,2,19940127,1045, 11.9853, 136.9777, 4825,      3.7,  27.7416,  34.0143,2,-999.0000,9,   -999.0,9,    198.0,2,     0.00,2,     0.10,2,     0.10,2,   -999, 27.7407
    49RY9401_1,  PR02,    24,  2,     11,  10727,2,19940127,1045, 11.9853, 136.9777, 4825,      9.7,  27.7406,  34.0136,2,  34.0119,2,   -999.0,9,    198.0,2,     0.00,2,     0.20,2,     0.10,2,   -999, 27.7384
    49RY9401_1,  PR02,    24,  2,     10,  10719,2,19940127,1045, 11.9853, 136.9777, 4825,     25.2,  27.7512,  34.0107,2,-999.0000,9,   -999.0,9,    198.0,2,     0.00,2,     0.10,2,     0.10,2,   -999, 27.7454
    49RY9401_1,  PR02,    24,  2,      9,  10721,2,19940127,1045, 11.9853, 136.9777, 4825,     49.5,  27.7040,  34.0327,2,-999.0000,9,   -999.0,9,    198.0,2,     0.00,2,     0.10,2,     0.11,2,   -999, 27.6925
    49RY9401_1,  PR02,    24,  2,      8,  10718,2,19940127,1045, 11.9853, 136.9777, 4825,     75.8,  27.6709,  34.1859,2,-999.0000,9,   -999.0,9,    199.0,2,     0.00,2,     0.10,2,     0.13,2,   -999, 27.6533
    49RY9401_1,  PR02,    24,  2,      7,  10371,2,19940127,1045, 11.9853, 136.9777, 4825,    100.0,  25.5867,  34.9724,2,-999.0000,9,   -999.0,9,    206.0,2,     0.00,2,     0.20,2,     0.09,2,   -999, 25.5647
    49RY9401_1,  PR02,    24,  2,      6,  10717,2,19940127,1045, 11.9853, 136.9777, 4825,    125.9,  23.1236,  35.1106,2,-999.0000,9,   -999.0,9,    184.0,2,     0.08,2,     0.80,2,     0.20,2,   -999, 23.0978
    49RY9401_1,  PR02,    24,  2,      5,  10382,2,19940127,1045, 11.9853, 136.9777, 4825,    150.5,  20.9448,  35.1469,2,  35.0803,3,   -999.0,9,    178.0,2,     0.03,2,     2.20,2,     0.29,2,   -999, 20.9161
    49RY9401_1,  PR02,    24,  2,      4,  10730,2,19940127,1045, 11.9853, 136.9777, 4825,    175.6,  18.3880,  34.8685,2,-999.0000,9,   -999.0,9,    172.0,2,     0.02,2,     5.60,2,     0.53,2,   -999, 18.3575
    49RY9401_1,  PR02,    24,  2,      3,  10722,2,19940127,1045, 11.9853, 136.9777, 4825,    201.3,  16.3898,  34.7089,2,-999.0000,9,   -999.0,9,    165.0,2,     0.01,2,     8.90,2,     0.74,2,   -999, 16.3575
    49RY9401_1,  PR02,    24,  2,      2,  10715,2,19940127,1045, 11.9853, 136.9777, 4825,    251.1,  12.6738,  34.4659,2,  34.4524,2,   -999.0,9,    144.0,2,     0.00,2,    17.00,2,     1.30,2,   -999, 12.6400
    49RY9401_1,  PR02,    24,  2,      1,  10716,2,19940127,1045, 11.9853, 136.9777, 4825,    300.3,  10.6616,  34.4019,2,  34.3827,4,   -999.0,9,    121.0,2,     0.00,2,    23.10,2,     1.73,2,   -999, 10.6254
    49RY9401_1,  PR02,    25,  1,      8,  10718,2,19940127,1652, 11.0033, 136.9892, 4975,    402.5,   7.9153,  34.4304,2,-999.0000,9,   -999.0,9,     76.0,2,     0.00,2,    33.20,2,     2.43,2,   -999,  7.8746
    49RY9401_1,  PR02,    25,  1,      7,  10371,2,19940127,1652, 11.0033, 136.9892, 4975,    503.5,   6.9075,  34.4483,2,-999.0000,9,   -999.0,9,     76.0,2,     0.00,2,    35.00,2,     2.56,2,   -999,  6.8601
    49RY9401_1,  PR02,    25,  1,      6,  10717,2,19940127,1652, 11.0033, 136.9892, 4975,    603.4,   6.1026,  34.4785,2,-999.0000,9,   -999.0,9,     80.0,2,     0.00,2,    36.30,2,     2.65,2,   -999,  6.0490
    49RY9401_1,  PR02,    25,  1,      5,  10382,2,19940127,1652, 11.0033, 136.9892, 4975,    707.1,   5.5415,  34.5062,2,-999.0000,9,   -999.0,9,     84.0,2,     0.00,2,    37.00,2,     2.69,2,   -999,  5.4811
    49RY9401_1,  PR02,    25,  1,      4,  10730,2,19940127,1652, 11.0033, 136.9892, 4975,    805.9,   5.0867,  34.5252,2,-999.0000,9,   -999.0,9,     86.0,2,     0.00,2,    37.70,2,     2.75,2,   -999,  5.0201
    49RY9401_1,  PR02,    25,  1,      3,  10722,2,19940127,1652, 11.0033, 136.9892, 4975,    907.7,   4.6695,  34.5347,2,-999.0000,9,   -999.0,9,     86.0,2,     0.01,2,    38.20,2,     2.78,2,   -999,  4.5967
    49RY9401_1,  PR02,    25,  1,      2,  10715,2,19940127,1652, 11.0033, 136.9892, 4975,   1006.3,   4.3156,  34.5429,2,-999.0000,9,   -999.0,9,     87.0,2,     0.00,2,    38.20,2,     2.79,2,   -999,  4.2370
    49RY9401_1,  PR02,    25,  1,      1,  10716,2,19940127,1652, 11.0033, 136.9892, 4975,   1260.2,   3.4476,  34.5709,2,-999.0000,9,   -999.0,9,     95.0,2,     0.00,2,    38.70,2,     2.83,2,   -999,  3.3550
    49RY9401_1,  PR02,    25,  2,     12,  10720,2,19940127,1816, 10.9868, 136.9632, 5220,      2.9,  27.6210,  33.7845,2,-999.0000,9,   -999.0,9,    199.0,2,     0.00,2,     0.10,2,     0.08,2,   -999, 27.6204
    49RY9401_1,  PR02,    25,  2,     11,  10727,2,19940127,1816, 10.9868, 136.9632, 5220,     10.5,  27.6226,  33.7805,2,-999.0000,9,   -999.0,9,    198.0,2,     0.00,2,     0.10,2,     0.08,2,   -999, 27.6201
    49RY9401_1,  PR02,    25,  2,     10,  10719,2,19940127,1816, 10.9868, 136.9632, 5220,     25.5,  27.6327,  33.7835,2,-999.0000,9,   -999.0,9,    202.0,2,     0.00,2,     0.10,2,     0.08,2,   -999, 27.6268
    49RY9401_1,  PR02,    25,  2,      9,  10721,2,19940127,1816, 10.9868, 136.9632, 5220,     51.1,  27.6332,  33.7845,2,-999.0000,9,   -999.0,9,    198.0,2,     0.00,2,     0.10,2,     0.07,2,   -999, 27.6213
    49RY9401_1,  PR02,    25,  2,      8,  10718,2,19940127,1816, 10.9868, 136.9632, 5220,     75.0,  26.5025,  34.6557,2,-999.0000,9,   -999.0,9,    205.0,2,     0.00,2,     0.10,2,     0.12,2,   -999, 26.4855
    49RY9401_1,  PR02,    25,  2,      7,  10371,2,19940127,1816, 10.9868, 136.9632, 5220,    101.4,  24.1787,  34.8794,2,-999.0000,9,   -999.0,9,    199.0,2,     0.01,2,     0.20,2,     0.17,2,   -999, 24.1572
    49RY9401_1,  PR02,    25,  2,      6,  10717,2,19940127,1816, 10.9868, 136.9632, 5220,    125.5,  21.8248,  34.8936,2,-999.0000,9,   -999.0,9,   -999.0,5,     0.30,2,     1.90,2,     0.34,2,   -999, 21.8002
    49RY9401_1,  PR02,    25,  2,      5,  10382,2,19940127,1816, 10.9868, 136.9632, 5220,    150.8,  19.5703,  34.9320,2,-999.0000,9,   -999.0,9,    170.0,2,     0.05,2,     4.30,2,     0.47,2,   -999, 19.5429
    49RY9401_1,  PR02,    25,  2,      4,  10730,2,19940127,1816, 10.9868, 136.9632, 5220,    176.9,  16.6882,  34.7181,2,-999.0000,9,   -999.0,9,    168.0,2,     0.01,2,     7.80,2,     0.68,2,   -999, 16.6594
    49RY9401_1,  PR02,    25,  2,      3,  10722,2,19940127,1816, 10.9868, 136.9632, 5220,    201.1,  14.2460,  34.5392,2,-999.0000,9,   -999.0,9,    158.0,2,     0.01,2,    12.60,2,     0.99,2,   -999, 14.2167
    49RY9401_1,  PR02,    25,  2,      2,  10715,2,19940127,1816, 10.9868, 136.9632, 5220,    252.4,  10.8995,  34.3960,2,-999.0000,9,   -999.0,9,    113.0,2,     0.00,2,    23.30,2,     1.75,2,   -999, 10.8687
    49RY9401_1,  PR02,    25,  2,      1,  10716,2,19940127,1816, 10.9868, 136.9632, 5220,    302.5,   8.8780,  34.3697,2,-999.0000,9,   -999.0,9,     95.0,2,     0.00,2,    29.20,2,     2.16,2,   -999,  8.8455
    49RY9401_1,  PR02,    26,  1,     12,  10720,2,19940128,0130,  9.9855, 136.9793, 4835,    502.5,   6.9169,  34.4765,2,  34.4746,2,   -999.0,9,     85.0,2,     0.00,2,    34.10,2,     2.49,2,   -999,  6.8695
    49RY9401_1,  PR02,    26,  1,     11,  10727,2,19940128,0130,  9.9855, 136.9793, 4835,    607.9,   6.1990,  34.4882,2,  34.4850,2,   -999.0,9,     86.0,2,     0.00,2,    35.20,2,     2.57,2,   -999,  6.1445
    49RY9401_1,  PR02,    26,  1,     10,  10719,2,19940128,0130,  9.9855, 136.9793, 4835,    704.1,   5.7290,  34.5120,2,  34.5117,2,   -999.0,9,     87.0,2,     0.00,2,    36.00,2,     2.66,2,   -999,  5.6680
    49RY9401_1,  PR02,    26,  1,      9,  10721,2,19940128,0130,  9.9855, 136.9793, 4835,    807.3,   5.1508,  34.5197,2,  34.5217,2,   -999.0,9,     86.0,2,     0.00,2,    36.80,2,     2.71,2,   -999,  5.0838
    49RY9401_1,  PR02,    26,  1,      8,  10718,2,19940128,0130,  9.9855, 136.9793, 4835,    907.0,   4.7168,  34.5342,2,  34.5305,2,   -999.0,9,     86.0,2,     0.00,2,    37.30,2,     2.75,2,   -999,  4.6438
    49RY9401_1,  PR02,    26,  1,      7,  10371,2,19940128,0130,  9.9855, 136.9793, 4835,   1008.6,   4.3205,  34.5456,2,-999.0000,9,   -999.0,9,     93.0,2,     0.00,2,    37.00,2,     2.76,2,   -999,  4.2416
    49RY9401_1,  PR02,    26,  1,      6,  10717,2,19940128,0130,  9.9855, 136.9793, 4835,   1261.7,   3.3424,  34.5794,2,  34.5822,2,   -999.0,9,     95.0,2,     0.00,2,    37.60,2,     2.83,2,   -999,  3.2506
    49RY9401_1,  PR02,    26,  1,      5,  10382,2,19940128,0130,  9.9855, 136.9793, 4835,   1514.5,   2.8419,  34.5975,2,  34.5963,2,   -999.0,9,    100.0,2,     0.00,2,    37.20,2,     2.84,2,   -999,  2.7347
    49RY9401_1,  PR02,    26,  1,      4,  10730,2,19940128,0130,  9.9855, 136.9793, 4835,   2021.6,   2.0997,  34.6375,2,  34.6335,2,   -999.0,9,    117.0,2,     0.00,2,    36.60,2,     2.76,2,   -999,  1.9599
    49RY9401_1,  PR02,    26,  1,      3,  10722,2,19940128,0130,  9.9855, 136.9793, 4835,   2531.7,   1.7032,  34.6606,2,  34.6612,2,   -999.0,9,    134.0,2,     0.01,2,    35.40,2,     2.67,2,   -999,  1.5255
    49RY9401_1,  PR02,    26,  1,      2,  10715,2,19940128,0130,  9.9855, 136.9793, 4835,   3038.6,   1.5642,  34.6733,2,  34.6673,3,   -999.0,9,    145.0,2,     0.00,2,    35.00,2,     2.61,2,   -999,  1.3423
    49RY9401_1,  PR02,    26,  1,      1,  10716,2,19940128,0130,  9.9855, 136.9793, 4835,   4070.5,   1.5279,  34.6832,2,  34.6836,2,   -999.0,9,    157.0,2,  -999.00,5,  -999.00,5,     2.54,2,   -999,  1.2005