BOTTLE,20030108WHPSIODMB
EXPOCODE,SECT_ID,STNNBR,CASTNO,SAMPNO,BTLNBR,BTLNBR_FLAG_W,DATE,TIME,LATITUDE,LONGITUDE,DEPTH,CTDPRS,CTDTMP,CTDSAL,CTDSAL_FLAG_W,SALNTY,SALNTY_FLAG_W,CTDOXY,CTDOXY_FLAG_W,OXYGEN,OXYGEN_FLAG_W,NITRIT,NITRIT_FLAG_W,NO2+NO3,NO2+NO3_FLAG_W,PHSPHT,PHSPHT_FLAG_W,CTDRAW,THETA
,,,,,,,,,,,,DBAR,ITS-90,PSS-78,,PSS-78,,UMOL/KG,,UMOL/KG,,UMOL/KG,,UMOL/KG,,UMOL/KG,,,DEG C
    49RY9401_1,  PR02,    30,  2,     12,  10720,2,19940129,0813,  5.9930, 136.9842, 4230,      2.5,  28.2228,  34.1554,2,-999.0000,9,   -999.0,9,    199.0,2,     0.00,2,     0.00,2,     0.09,2,   -999, 28.2222
    49RY9401_1,  PR02,    30,  2,     11,  10727,2,19940129,0813,  5.9930, 136.9842, 4230,     10.8,  28.1742,  34.1511,2,-999.0000,9,   -999.0,9,    198.0,2,     0.00,2,     0.00,2,     0.10,2,   -999, 28.1717
    49RY9401_1,  PR02,    30,  2,     10,  10719,2,19940129,0813,  5.9930, 136.9842, 4230,     25.7,  27.8957,  34.1462,2,-999.0000,9,   -999.0,9,    199.0,2,     0.00,2,     0.00,2,     0.08,2,   -999, 27.8897
    49RY9401_1,  PR02,    30,  2,      9,  10721,2,19940129,0813,  5.9930, 136.9842, 4230,     50.3,  27.4694,  34.2856,2,-999.0000,9,   -999.0,9,    200.0,2,     0.00,2,     0.00,2,     0.09,2,   -999, 27.4577
    49RY9401_1,  PR02,    30,  2,      8,  10718,2,19940129,0813,  5.9930, 136.9842, 4230,     75.9,  22.6319,  34.6802,2,-999.0000,9,   -999.0,9,    187.0,2,     0.05,2,     0.80,2,     0.23,2,   -999, 22.6166
    49RY9401_1,  PR02,    30,  2,      7,  10371,2,19940129,0813,  5.9930, 136.9842, 4230,    101.0,  18.6648,  34.6952,2,-999.0000,9,   -999.0,9,    149.0,2,     0.28,2,     8.10,2,     0.64,2,   -999, 18.6471
    49RY9401_1,  PR02,    30,  2,      6,  10717,2,19940129,0813,  5.9930, 136.9842, 4230,    126.2,  15.5157,  34.6299,2,-999.0000,9,   -999.0,9,    137.0,2,     0.08,2,    12.80,2,     0.96,2,   -999, 15.4963
    49RY9401_1,  PR02,    30,  2,      5,  10382,2,19940129,0813,  5.9930, 136.9842, 4230,    149.9,  12.7660,  34.5086,2,-999.0000,9,   -999.0,9,    125.0,2,     0.02,2,    18.00,2,     1.33,2,   -999, 12.7457
    49RY9401_1,  PR02,    30,  2,      4,  10730,2,19940129,0813,  5.9930, 136.9842, 4230,    175.7,  11.0984,  34.4479,2,-999.0000,9,   -999.0,9,    114.0,2,     0.01,2,    21.90,2,     1.63,2,   -999, 11.0768
    49RY9401_1,  PR02,    30,  2,      3,  10722,2,19940129,0813,  5.9930, 136.9842, 4230,    200.6,  10.3945,  34.4746,2,-999.0000,9,   -999.0,9,   -999.0,5,     0.01,2,    25.30,2,     1.88,2,   -999, 10.3708
    49RY9401_1,  PR02,    30,  2,      2,  10715,2,19940129,0813,  5.9930, 136.9842, 4230,    252.8,   9.5061,  34.5576,2,-999.0000,9,   -999.0,9,     79.0,2,     0.01,2,    29.30,2,     2.12,2,   -999,  9.4777
    49RY9401_1,  PR02,    30,  2,      1,  10716,2,19940129,0813,  5.9930, 136.9842, 4230,    302.7,   8.8605,  34.5821,2,-999.0000,9,   -999.0,9,     67.0,2,     0.00,2,    31.90,2,     2.30,2,   -999,  8.8279
    49RY9401_1,  PR02,    31,  1,     12,  10720,2,19940129,1432,  5.1803, 137.0382, 4015,    504.3,   7.1940,  34.5417,2,  34.5459,2,   -999.0,9,     90.0,2,     0.01,2,    33.60,2,     2.43,2,   -999,  7.1453
    49RY9401_1,  PR02,    31,  1,     11,  10727,2,19940129,1432,  5.1803, 137.0382, 4015,    605.5,   6.7008,  34.5429,2,  34.5474,2,   -999.0,9,    104.0,2,     0.00,2,    33.00,2,     2.34,2,   -999,  6.6442
    49RY9401_1,  PR02,    31,  1,     10,  10719,2,19940129,1432,  5.1803, 137.0382, 4015,    705.4,   6.2008,  34.5335,2,  34.5209,3,   -999.0,9,    101.0,2,     0.01,2,    34.60,2,     2.46,2,   -999,  6.1370
    49RY9401_1,  PR02,    31,  1,      9,  10721,3,19940129,1432,  5.1803, 137.0382, 4015,    806.7,   5.5867,  34.5302,2,  34.5384,3,   -999.0,9,     89.0,2,     0.00,2,    36.70,2,     2.61,2,   -999,  5.5170
    49RY9401_1,  PR02,    31,  1,      8,  10718,2,19940129,1432,  5.1803, 137.0382, 4015,    908.2,   5.0530,  34.5402,2,  34.5408,2,   -999.0,9,     94.0,2,     0.01,2,    37.10,2,     2.63,2,   -999,  4.9775
    49RY9401_1,  PR02,    31,  1,      7,  10371,2,19940129,1432,  5.1803, 137.0382, 4015,   1009.8,   4.7166,  34.5457,2,-999.0000,9,   -999.0,9,     96.0,2,     0.01,2,    37.60,2,     2.66,2,   -999,  4.6345
    49RY9401_1,  PR02,    31,  1,      6,  10717,2,19940129,1432,  5.1803, 137.0382, 4015,   1263.2,   3.6457,  34.5719,2,  34.5751,2,   -999.0,9,     98.0,2,     0.00,2,    38.10,2,     2.70,2,   -999,  3.5510
    49RY9401_1,  PR02,    31,  1,      5,  10382,2,19940129,1432,  5.1803, 137.0382, 4015,   1517.0,   3.0144,  34.5971,2,  34.5421,4,   -999.0,9,   -999.0,5,  -999.00,5,  -999.00,5,  -999.00,5,   -999,  2.9050
    49RY9401_1,  PR02,    31,  1,      4,  10730,2,19940129,1432,  5.1803, 137.0382, 4015,   2022.7,   2.2121,  34.6333,2,  34.6321,2,   -999.0,9,    117.0,2,     0.01,2,    38.20,2,     2.66,2,   -999,  2.0705
    49RY9401_1,  PR02,    31,  1,      3,  10722,2,19940129,1432,  5.1803, 137.0382, 4015,   2532.8,   1.7549,  34.6590,2,  34.6596,2,   -999.0,9,    136.0,2,     0.00,2,    36.80,2,     2.56,2,   -999,  1.5762
    49RY9401_1,  PR02,    31,  1,      2,  10715,3,19940129,1432,  5.1803, 137.0382, 4015,   3042.3,   1.5935,  34.6694,2,  34.6696,2,   -999.0,9,    146.0,2,     0.00,2,    36.10,2,     2.50,2,   -999,  1.3706
    49RY9401_1,  PR02,    31,  1,      1,  10716,2,19940129,1432,  5.1803, 137.0382, 4015,   3864.9,   1.5179,  34.6805,2,  34.6814,2,   -999.0,9,    155.0,2,     0.01,2,    35.30,2,     2.45,2,   -999,  1.2132
    49RY9401_1,  PR02,    31,  2,      0,   -999,2,19940129,1652,  5.1937, 137.0750, 3830,      2.2,  27.7940,  34.2150,2,-999.0000,9,   -999.0,9,    198.0,2,     0.00,2,     0.00,2,     0.08,2,   -999, 27.7935
    49RY9401_1,  PR02,    31,  2,     12,  10720,2,19940129,1652,  5.1937, 137.0750, 3830,     11.0,  27.8166,  34.2126,2,  34.2119,2,   -999.0,9,    200.0,2,     0.01,2,     0.10,2,     0.08,2,   -999, 27.8140
    49RY9401_1,  PR02,    31,  2,     11,  10727,2,19940129,1652,  5.1937, 137.0750, 3830,     26.3,  27.7393,  34.2030,2,-999.0000,9,   -999.0,9,    200.0,2,     0.00,2,     0.00,2,     0.08,2,   -999, 27.7331
    49RY9401_1,  PR02,    31,  2,     10,  10719,2,19940129,1652,  5.1937, 137.0750, 3830,     51.4,  25.1284,  34.7602,2,-999.0000,9,   -999.0,9,    203.0,2,     0.00,2,     0.00,2,     0.10,2,   -999, 25.1172
    49RY9401_1,  PR02,    31,  2,      9,  10721,2,19940129,1652,  5.1937, 137.0750, 3830,     76.4,  20.4797,  34.8397,2,-999.0000,9,   -999.0,9,    170.0,2,     0.17,2,     3.90,2,     0.38,2,   -999, 20.4654
    49RY9401_1,  PR02,    31,  2,      8,  10718,2,19940129,1652,  5.1937, 137.0750, 3830,    102.1,  17.0229,  34.7041,2,-999.0000,9,   -999.0,9,    152.0,2,     0.10,2,     8.90,2,     0.71,2,   -999, 17.0061
    49RY9401_1,  PR02,    31,  2,      7,  10371,2,19940129,1652,  5.1937, 137.0750, 3830,    126.4,  15.5505,  34.6100,2,  34.6323,3,   -999.0,9,    140.0,2,     0.05,2,    12.30,2,     0.96,2,   -999, 15.5310
    49RY9401_1,  PR02,    31,  2,      6,  10717,2,19940129,1652,  5.1937, 137.0750, 3830,    151.4,  13.6234,  34.5542,2,-999.0000,9,   -999.0,9,    131.0,2,     0.02,2,    15.90,2,     1.24,2,   -999, 13.6020
    49RY9401_1,  PR02,    31,  2,      5,  10382,2,19940129,1652,  5.1937, 137.0750, 3830,    175.8,  12.7271,  34.4910,2,-999.0000,9,   -999.0,9,    126.0,2,     0.01,2,    17.80,2,     1.37,2,   -999, 12.7034
    49RY9401_1,  PR02,    31,  2,      4,  10730,2,19940129,1652,  5.1937, 137.0750, 3830,    202.0,  11.2273,  34.4591,2,-999.0000,9,   -999.0,9,    119.0,2,     0.01,2,    21.10,2,     1.59,2,   -999, 11.2022
    49RY9401_1,  PR02,    31,  2,      3,  10722,2,19940129,1652,  5.1937, 137.0750, 3830,    251.9,   9.5958,  34.4687,2,  34.4685,2,   -999.0,9,    112.0,2,     0.00,2,    25.40,2,     1.88,2,   -999,  9.5674
    49RY9401_1,  PR02,    31,  2,      2,  10715,3,19940129,1652,  5.1937, 137.0750, 3830,    302.1,   8.9032,  34.5102,2,-999.0000,9,   -999.0,9,     77.0,2,     0.00,2,    30.70,2,     2.23,2,   -999,  8.8706
    49RY9401_1,  PR02,    31,  2,      1,  10716,2,19940129,1652,  5.1937, 137.0750, 3830,    406.6,   8.0208,  34.5827,2,  34.5814,2,   -999.0,9,     68.0,2,     0.01,2,    33.80,2,     2.42,2,   -999,  7.9793
    49RY9401_1,  PR02,    32,  1,      8,  10718,2,19940130,1000,  4.0072, 136.9980, 4675,    403.8,   8.8581,  34.5151,2,-999.0000,9,   -999.0,9,    100.0,2,     0.00,2,    28.50,2,     2.05,2,   -999,  8.8145
    49RY9401_1,  PR02,    32,  1,      7,  10371,3,19940130,1000,  4.0072, 136.9980, 4675,    504.5,   7.8404,  34.5854,2,-999.0000,9,   -999.0,9,   -999.0,5,  -999.00,5,  -999.00,5,  -999.00,5,   -999,  7.7893
    49RY9401_1,  PR02,    32,  1,      6,  10717,2,19940130,1000,  4.0072, 136.9980, 4675,    605.0,   6.9612,  34.5491,2,-999.0000,9,   -999.0,9,    107.0,2,     0.00,2,    32.90,2,     2.32,2,   -999,  6.9035
    49RY9401_1,  PR02,    32,  1,      5,  10382,2,19940130,1000,  4.0072, 136.9980, 4675,    705.7,   6.1352,  34.5389,2,-999.0000,9,   -999.0,9,     84.0,2,     0.00,2,    37.00,2,     2.59,2,   -999,  6.0717
    49RY9401_1,  PR02,    32,  1,      4,  10730,2,19940130,1000,  4.0072, 136.9980, 4675,    806.1,   5.6799,  34.5376,2,-999.0000,9,   -999.0,9,   -999.0,5,     0.00,2,    37.50,2,     2.62,2,   -999,  5.6097
    49RY9401_1,  PR02,    32,  1,      3,  10722,2,19940130,1000,  4.0072, 136.9980, 4675,    907.0,   5.1194,  34.5419,2,-999.0000,9,   -999.0,9,     88.0,2,     0.00,2,    38.10,2,     2.67,2,   -999,  5.0436
    49RY9401_1,  PR02,    32,  1,      2,  10715,2,19940130,1000,  4.0072, 136.9980, 4675,   1007.5,   4.6540,  34.5491,2,-999.0000,9,   -999.0,9,     89.0,2,     0.00,2,    38.30,2,     2.69,2,   -999,  4.5726
    49RY9401_1,  PR02,    32,  1,      1,  10716,2,19940130,1000,  4.0072, 136.9980, 4675,   1261.3,   3.7940,  34.5704,2,-999.0000,9,   -999.0,9,     95.0,2,     0.00,2,    38.90,2,     2.72,2,   -999,  3.6979
    49RY9401_1,  PR02,    32,  2,     12,  10720,2,19940130,1053,  4.0233, 137.0065, 4665,      2.4,  28.8185,  34.2673,2,-999.0000,9,   -999.0,9,    203.0,2,     0.00,2,     0.00,2,     0.06,2,   -999, 28.8180
    49RY9401_1,  PR02,    32,  2,     11,  10727,2,19940130,1053,  4.0233, 137.0065, 4665,     10.0,  28.3487,  34.2559,2,-999.0000,9,   -999.0,9,    203.0,2,     0.00,2,     0.00,2,     0.06,2,   -999, 28.3463
    49RY9401_1,  PR02,    32,  2,     10,  10719,2,19940130,1053,  4.0233, 137.0065, 4665,     25.3,  27.7403,  34.2649,2,-999.0000,9,   -999.0,9,    203.0,2,     0.00,2,     0.00,2,     0.06,2,   -999, 27.7344
    49RY9401_1,  PR02,    32,  2,      9,  10721,2,19940130,1053,  4.0233, 137.0065, 4665,     49.5,  22.4217,  34.6772,2,-999.0000,9,   -999.0,9,    168.0,2,     0.14,2,     5.50,2,     0.47,2,   -999, 22.4118
    49RY9401_1,  PR02,    32,  2,      8,  10718,2,19940130,1053,  4.0233, 137.0065, 4665,     74.7,  21.4389,  34.6942,2,-999.0000,9,   -999.0,9,    153.0,2,     0.06,2,     7.70,2,     0.63,2,   -999, 21.4245
    49RY9401_1,  PR02,    32,  2,      7,  10371,2,19940130,1053,  4.0233, 137.0065, 4665,    100.9,  20.6244,  35.0703,2,-999.0000,9,   -999.0,9,    145.0,2,     0.02,2,     9.30,2,     0.75,2,   -999, 20.6054
    49RY9401_1,  PR02,    32,  2,      6,  10717,2,19940130,1053,  4.0233, 137.0065, 4665,    125.6,  20.5488,  35.2988,2,-999.0000,9,   -999.0,9,    146.0,2,     0.03,2,     8.30,2,     0.70,2,   -999, 20.5251
    49RY9401_1,  PR02,    32,  2,      5,  10382,2,19940130,1053,  4.0233, 137.0065, 4665,    151.0,  20.2862,  35.2600,2,-999.0000,9,   -999.0,9,    148.0,2,     0.02,2,     8.40,2,     0.71,2,   -999, 20.2580
    49RY9401_1,  PR02,    32,  2,      4,  10730,2,19940130,1053,  4.0233, 137.0065, 4665,    176.6,  19.2050,  35.0628,2,-999.0000,9,   -999.0,9,    145.0,2,     0.02,2,     9.80,2,     0.79,2,   -999, 19.1733
    49RY9401_1,  PR02,    32,  2,      3,  10722,2,19940130,1053,  4.0233, 137.0065, 4665,    202.2,  17.5013,  35.1589,2,-999.0000,9,   -999.0,9,    143.0,2,     0.01,2,    11.30,2,     0.91,2,   -999, 17.4672
    49RY9401_1,  PR02,    32,  2,      2,  10715,2,19940130,1053,  4.0233, 137.0065, 4665,    252.5,  12.0802,  34.6053,2,-999.0000,9,   -999.0,9,    130.0,2,     0.00,2,    19.60,2,     1.47,2,   -999, 12.0471
    49RY9401_1,  PR02,    32,  2,      1,  10716,2,19940130,1053,  4.0233, 137.0065, 4665,    302.4,  11.7049,  34.7740,2,-999.0000,9,   -999.0,9,    136.0,2,     0.01,2,    19.80,2,     1.50,2,   -999, 11.6660
    49RY9401_1,  PR02,    33,  1,      8,  10718,2,19940130,1732,  2.9948, 136.9955, 4500,    404.8,   9.6119,  34.6245,2,  34.6248,2,   -999.0,9,    124.0,2,     0.01,2,    25.30,2,     1.93,2,   -999,  9.5658
    49RY9401_1,  PR02,    33,  1,      7,  10371,2,19940130,1732,  2.9948, 136.9955, 4500,    503.7,   7.9323,  34.5734,2,  34.5612,3,   -999.0,9,     78.0,2,     0.00,2,    32.80,2,     2.41,2,   -999,  7.8809
    49RY9401_1,  PR02,    33,  1,      6,  10717,2,19940130,1732,  2.9948, 136.9955, 4500,    605.4,   7.0623,  34.5518,2,  34.5531,2,   -999.0,9,     98.0,2,     0.00,2,    33.20,2,     2.43,2,   -999,  7.0041
    49RY9401_1,  PR02,    33,  1,      5,  10382,2,19940130,1732,  2.9948, 136.9955, 4500,    705.2,   6.3563,  34.5370,2,  34.5386,2,   -999.0,9,     93.0,2,     0.00,2,    34.80,2,     2.53,2,   -999,  6.2917
    49RY9401_1,  PR02,    33,  1,      4,  10730,2,19940130,1732,  2.9948, 136.9955, 4500,    808.3,   5.7074,  34.5374,2,  34.5410,2,   -999.0,9,     87.0,2,     0.00,2,    36.90,2,     2.67,2,   -999,  5.6368
    49RY9401_1,  PR02,    33,  1,      3,  10722,2,19940130,1732,  2.9948, 136.9955, 4500,    909.6,   5.1006,  34.5420,2,  34.5421,2,   -999.0,9,     89.0,2,     0.00,2,    37.70,2,     2.73,2,   -999,  5.0247
    49RY9401_1,  PR02,    33,  1,      2,  10715,2,19940130,1732,  2.9948, 136.9955, 4500,   1008.7,   4.6023,  34.5524,2,  34.5519,2,   -999.0,9,     89.0,2,     0.00,2,    38.00,2,     2.75,2,   -999,  4.5211
    49RY9401_1,  PR02,    33,  1,      1,  10716,2,19940130,1732,  2.9948, 136.9955, 4500,   1263.1,   3.7465,  34.5736,2,  34.5741,2,   -999.0,9,     90.0,2,     0.01,2,    38.30,2,     2.79,2,   -999,  3.6507
    49RY9401_1,  PR02,    33,  2,     12,  10720,2,19940130,1831,  2.9965, 136.9902, 4480,      2.2,  28.9791,  34.1679,2,-999.0000,9,   -999.0,9,    197.0,2,     0.00,2,     0.00,2,     0.04,2,   -999, 28.9786
    49RY9401_1,  PR02,    33,  2,     11,  10727,2,19940130,1831,  2.9965, 136.9902, 4480,     10.0,  29.0058,  34.1990,2,  34.1950,2,   -999.0,9,    195.0,2,     0.00,2,     0.00,2,     0.04,2,   -999, 29.0034
    49RY9401_1,  PR02,    33,  2,     10,  10719,2,19940130,1831,  2.9965, 136.9902, 4480,     25.8,  28.1568,  34.2386,2,-999.0000,9,   -999.0,9,    200.0,2,     0.00,2,     0.00,2,     0.06,2,   -999, 28.1507
    49RY9401_1,  PR02,    33,  2,      9,  10721,2,19940130,1831,  2.9965, 136.9902, 4480,     51.7,  24.9097,  34.7199,2,-999.0000,9,   -999.0,9,    197.0,2,     0.04,2,     0.20,2,     0.14,2,   -999, 24.8986
    49RY9401_1,  PR02,    33,  2,      8,  10718,2,19940130,1831,  2.9965, 136.9902, 4480,     75.4,  22.6126,  34.7670,2,  34.7673,2,   -999.0,9,    178.0,2,     0.15,2,     2.70,2,     0.35,2,   -999, 22.5974
    49RY9401_1,  PR02,    33,  2,      7,  10371,2,19940130,1831,  2.9965, 136.9902, 4480,    100.2,  21.8009,  34.6735,2,-999.0000,9,   -999.0,9,    157.0,2,     0.17,2,     6.50,2,     0.59,2,   -999, 21.7812
    49RY9401_1,  PR02,    33,  2,      6,  10717,2,19940130,1831,  2.9965, 136.9902, 4480,    125.8,  22.3419,  35.1698,2,-999.0000,9,   -999.0,9,    153.0,2,     0.05,2,     6.10,2,     0.57,2,   -999, 22.3168
    49RY9401_1,  PR02,    33,  2,      5,  10382,2,19940130,1831,  2.9965, 136.9902, 4480,    150.1,  20.4337,  35.2598,2,-999.0000,9,   -999.0,9,    145.0,2,     0.02,2,     8.00,2,     0.72,2,   -999, 20.4055
    49RY9401_1,  PR02,    33,  2,      4,  10730,2,19940130,1831,  2.9965, 136.9902, 4480,    176.2,  19.1000,  35.2877,2,-999.0000,9,   -999.0,9,    146.0,2,     0.01,2,     9.20,2,     0.81,2,   -999, 19.0684
    49RY9401_1,  PR02,    33,  2,      3,  10722,2,19940130,1831,  2.9965, 136.9902, 4480,    201.8,  17.0825,  35.1837,2,  35.1803,2,   -999.0,9,    145.0,2,     0.01,2,    11.30,2,     0.97,2,   -999, 17.0490
    49RY9401_1,  PR02,    33,  2,      2,  10715,2,19940130,1831,  2.9965, 136.9902, 4480,    251.7,  14.3683,  34.9068,2,-999.0000,9,   -999.0,9,    139.0,2,     0.01,2,    15.50,2,     1.26,2,   -999, 14.3313
    49RY9401_1,  PR02,    33,  2,      1,  10716,2,19940130,1831,  2.9965, 136.9902, 4480,    304.8,  12.1265,  34.7235,2,  34.7083,3,   -999.0,9,    131.0,2,     0.00,2,    19.80,2,     1.56,2,   -999, 12.0864