BOTTLE,20030108WHPSIODMB
#code : jjward hyd_to_exchange.pl 
#original files copied from HTML directory: 20030108
#original HYD file: pr02_ihy.txt   Wed Jan  8 08:04:23 2003
#original SUM file: pr02_isu.txt   Wed Jan  8 08:20:50 2003
EXPOCODE,SECT_ID,STNNBR,CASTNO,SAMPNO,BTLNBR,BTLNBR_FLAG_W,DATE,TIME,LATITUDE,LONGITUDE,DEPTH,CTDPRS,CTDTMP,CTDSAL,CTDSAL_FLAG_W,SALNTY,SALNTY_FLAG_W,CTDOXY,CTDOXY_FLAG_W,OXYGEN,OXYGEN_FLAG_W,NITRIT,NITRIT_FLAG_W,NO2+NO3,NO2+NO3_FLAG_W,PHSPHT,PHSPHT_FLAG_W,CTDRAW,THETA
,,,,,,,,,,,,DBAR,ITS-90,PSS-78,,PSS-78,,UMOL/KG,,UMOL/KG,,UMOL/KG,,UMOL/KG,,UMOL/KG,,,DEG C
    49RY9401_1,  PR02,     1,  1,      7,  10371,2,19940119,2215, 33.9430, 137.0138, 1440,    504.3,   6.8503,  34.2664,2,  34.2750,4,   -999.0,9,    110.0,2,     0.00,2,    31.30,2,     2.29,2,   -999,  6.8032
    49RY9401_1,  PR02,     1,  1,      6,  10717,2,19940119,2215, 33.9430, 137.0138, 1440,    604.8,   5.4232,  34.2743,2,  34.2711,2,   -999.0,9,     87.0,2,     0.00,2,    36.00,2,     2.62,2,   -999,  5.3728
    49RY9401_1,  PR02,     1,  1,      5,  10382,2,19940119,2215, 33.9430, 137.0138, 1440,    705.6,   4.7550,  34.2987,2,  34.2991,2,   -999.0,9,     75.0,2,     0.01,2,    38.20,2,     2.83,2,   -999,  4.6993
    49RY9401_1,  PR02,     1,  1,      4,  10730,2,19940119,2215, 33.9430, 137.0138, 1440,    806.6,   4.0952,  34.3523,2,  34.3511,2,   -999.0,9,     68.0,2,     0.01,2,    39.90,2,     2.95,2,   -999,  4.0350
    49RY9401_1,  PR02,     1,  1,      3,  10722,2,19940119,2215, 33.9430, 137.0138, 1440,    907.3,   3.7509,  34.3844,2,  34.3864,2,   -999.0,9,     70.0,2,     0.01,2,    40.40,2,     2.96,2,   -999,  3.6849
    49RY9401_1,  PR02,     1,  1,      2,  10715,2,19940119,2215, 33.9430, 137.0138, 1440,   1007.9,   3.1570,  34.4480,2,-999.0000,9,   -999.0,9,     73.0,2,     0.02,2,    41.10,2,     3.01,2,   -999,  3.0873
    49RY9401_1,  PR02,     1,  1,      1,  10716,2,19940119,2215, 33.9430, 137.0138, 1440,   1258.0,   2.7016,  34.5108,2,  34.5107,2,   -999.0,9,     82.0,2,     0.00,2,    41.00,2,     2.98,2,   -999,  2.6166
    49RY9401_1,  PR02,     1,  2,      0,   -999,2,19940119,2331, 33.9125, 137.0228, 1675,      1.4,  15.9559,  34.6755,2,-999.0000,9,   -999.0,9,   -999.0,5,     0.39,2,     5.80,2,     0.45,2,   -999, 15.9557
    49RY9401_1,  PR02,     1,  2,     12,  10720,2,19940119,2331, 33.9125, 137.0228, 1675,     10.8,  15.9598,  34.6769,2,  34.6798,2,   -999.0,9,   -999.0,5,     0.40,2,     5.60,2,     0.48,2,   -999, 15.9582
    49RY9401_1,  PR02,     1,  2,     11,  10727,2,19940119,2331, 33.9125, 137.0228, 1675,     25.8,  15.9750,  34.6750,2,  34.6761,2,   -999.0,9,    230.0,2,     0.39,2,     5.60,2,     0.48,2,   -999, 15.9710
    49RY9401_1,  PR02,     1,  2,     10,  10719,2,19940119,2331, 33.9125, 137.0228, 1675,     51.2,  15.9742,  34.6748,2,  34.6708,2,   -999.0,9,    230.0,2,     0.39,2,     5.70,2,     0.49,2,   -999, 15.9662
    49RY9401_1,  PR02,     1,  2,      9,  10721,2,19940119,2331, 33.9125, 137.0228, 1675,     75.7,  15.8335,  34.6613,2,-999.0000,9,   -999.0,9,    224.0,2,     0.34,2,     6.70,2,     0.55,2,   -999, 15.8216
    49RY9401_1,  PR02,     1,  2,      8,  10718,2,19940119,2331, 33.9125, 137.0228, 1675,    101.3,  13.5962,  34.5290,2,-999.0000,9,   -999.0,9,    177.0,2,     0.04,2,    14.10,2,     0.98,2,   -999, 13.5820
    49RY9401_1,  PR02,     1,  2,      7,  10371,2,19940119,2331, 33.9125, 137.0228, 1675,    126.7,  13.3579,  34.5218,2,-999.0000,9,   -999.0,9,    172.0,2,     0.02,2,    14.80,2,     1.08,2,   -999, 13.3402
    49RY9401_1,  PR02,     1,  2,      6,  10717,2,19940119,2331, 33.9125, 137.0228, 1675,    151.0,  13.0264,  34.5069,2,-999.0000,9,   -999.0,9,    168.0,2,     0.02,2,    15.60,2,     1.14,2,   -999, 13.0058
    49RY9401_1,  PR02,     1,  2,      5,  10382,2,19940119,2331, 33.9125, 137.0228, 1675,    176.8,  12.8864,  34.4942,2,-999.0000,9,   -999.0,9,    166.0,2,     0.03,2,    15.90,2,     1.19,2,   -999, 12.8623
    49RY9401_1,  PR02,     1,  2,      4,  10730,2,19940119,2331, 33.9125, 137.0228, 1675,    202.3,  11.4590,  34.4276,2,-999.0000,9,   -999.0,9,    157.0,2,     0.03,2,    19.30,2,     1.39,2,   -999, 11.4335
    49RY9401_1,  PR02,     1,  2,      3,  10722,2,19940119,2331, 33.9125, 137.0228, 1675,    252.9,  10.8219,  34.4007,2,-999.0000,9,   -999.0,9,    152.0,2,     0.01,2,    20.70,2,     1.52,2,   -999, 10.7912
    49RY9401_1,  PR02,     1,  2,      2,  10715,2,19940119,2331, 33.9125, 137.0228, 1675,    302.8,  10.2414,  34.3740,2,-999.0000,9,   -999.0,9,    147.0,2,     0.01,2,    22.20,2,     1.63,2,   -999, 10.2058
    49RY9401_1,  PR02,     1,  2,      1,  10716,2,19940119,2331, 33.9125, 137.0228, 1675,    403.9,   8.0742,  34.3006,2,  34.2989,2,   -999.0,9,    125.0,2,     0.02,2,    27.90,2,     2.03,2,   -999,  8.0329
    49RY9401_1,  PR02,     2,  1,     10,  10719,2,19940120,0421, 33.3208, 137.1173, 3030,    403.9,   9.3839,  34.3311,2,-999.0000,9,   -999.0,9,    134.0,2,     0.01,2,    24.40,2,     1.76,2,   -999,  9.3387
    49RY9401_1,  PR02,     2,  1,      8,  10718,2,19940120,0421, 33.3208, 137.1173, 3030,    504.4,   6.6144,  34.2551,2,-999.0000,9,   -999.0,9,    104.0,2,     0.00,2,    31.70,2,     2.31,2,   -999,  6.5682
    49RY9401_1,  PR02,     2,  1,      9,  10721,9,19940120,0421, 33.3208, 137.1173, 3030,    507.9,   6.5232,  34.2601,2,-999.0000,9,   -999.0,9,   -999.0,9,  -999.00,9,  -999.00,9,  -999.00,9,   -999,  6.4769
    49RY9401_1,  PR02,     2,  1,      6,  10717,2,19940120,0421, 33.3208, 137.1173, 3030,    604.9,   5.4782,  34.2666,2,-999.0000,9,   -999.0,9,     95.0,2,     0.00,2,    34.80,2,     2.59,2,   -999,  5.4276
    49RY9401_1,  PR02,     2,  1,      7,  10371,9,19940120,0421, 33.3208, 137.1173, 3030,    607.4,   5.4583,  34.2708,2,-999.0000,9,   -999.0,9,   -999.0,9,  -999.00,9,  -999.00,9,  -999.00,9,   -999,  5.4075
    49RY9401_1,  PR02,     2,  1,      5,  10382,2,19940120,0421, 33.3208, 137.1173, 3030,    706.2,   4.8131,  34.2842,2,-999.0000,9,   -999.0,9,     81.0,2,     0.00,2,    36.90,2,     2.76,2,   -999,  4.7571
    49RY9401_1,  PR02,     2,  1,      4,  10730,2,19940120,0421, 33.3208, 137.1173, 3030,    807.3,   3.9390,  34.3571,2,-999.0000,9,   -999.0,9,     70.0,2,  -999.00,5,    39.00,2,     2.92,2,   -999,  3.8797
    49RY9401_1,  PR02,     2,  1,      3,  10722,2,19940120,0421, 33.3208, 137.1173, 3030,    908.1,   3.5054,  34.3904,2,-999.0000,9,   -999.0,9,     66.0,2,     0.00,2,    39.90,2,     3.00,2,   -999,  3.4410
    49RY9401_1,  PR02,     2,  1,      2,  10715,2,19940120,0421, 33.3208, 137.1173, 3030,   1010.1,   3.2676,  34.4367,2,-999.0000,9,   -999.0,9,     71.0,2,     0.01,2,    39.70,2,     2.99,2,   -999,  3.1969
    49RY9401_1,  PR02,     2,  1,      1,  10716,2,19940120,0421, 33.3208, 137.1173, 3030,   1262.9,   2.7752,  34.4927,2,-999.0000,9,   -999.0,9,     81.0,2,     0.01,2,    39.50,2,     2.97,2,   -999,  2.6891
    49RY9401_1,  PR02,     2,  2,     12,  10720,2,19940120,0559, 33.2903, 137.2440, 3625,      2.4,  20.4357,  34.8276,2,-999.0000,9,   -999.0,9,    220.0,2,     0.26,2,     0.90,2,     0.23,2,   -999, 20.4353
    49RY9401_1,  PR02,     2,  2,     11,  10727,2,19940120,0559, 33.2903, 137.2440, 3625,     10.1,  20.4402,  34.8261,2,-999.0000,9,   -999.0,9,    221.0,2,     0.26,2,     0.90,2,     0.22,2,   -999, 20.4383
    49RY9401_1,  PR02,     2,  2,     10,  10719,2,19940120,0559, 33.2903, 137.2440, 3625,     25.5,  20.4219,  34.8247,2,-999.0000,9,   -999.0,9,    220.0,2,     0.26,2,     1.00,2,     0.22,2,   -999, 20.4171
    49RY9401_1,  PR02,     2,  2,      9,  10721,2,19940120,0559, 33.2903, 137.2440, 3625,     50.6,  20.3695,  34.8149,2,-999.0000,9,   -999.0,9,    219.0,2,     0.29,2,     1.00,2,     0.19,2,   -999, 20.3600
    49RY9401_1,  PR02,     2,  2,      8,  10718,2,19940120,0559, 33.2903, 137.2440, 3625,     75.5,  20.1991,  34.7964,2,-999.0000,9,   -999.0,9,    221.0,2,     0.31,2,     1.30,2,     0.20,2,   -999, 20.1850
    49RY9401_1,  PR02,     2,  2,      7,  10371,2,19940120,0559, 33.2903, 137.2440, 3625,    101.3,  18.6553,  34.7086,2,-999.0000,9,   -999.0,9,    210.0,2,     0.18,2,     3.90,2,     0.43,2,   -999, 18.6375
    49RY9401_1,  PR02,     2,  2,      6,  10717,2,19940120,0559, 33.2903, 137.2440, 3625,    126.4,  17.0837,  34.4484,2,-999.0000,9,   -999.0,9,   -999.0,5,     0.69,2,     5.20,2,     0.44,2,   -999, 17.0629
    49RY9401_1,  PR02,     2,  2,      5,  10382,2,19940120,0559, 33.2903, 137.2440, 3625,    151.0,  17.3563,  34.6460,2,-999.0000,9,   -999.0,9,    208.0,2,     0.50,2,     5.30,2,     0.50,2,   -999, 17.3312
    49RY9401_1,  PR02,     2,  2,      4,  10730,2,19940120,0559, 33.2903, 137.2440, 3625,    177.9,  16.0960,  34.6495,2,-999.0000,9,   -999.0,9,    190.0,2,     0.07,2,     8.20,2,     0.65,2,   -999, 16.0678
    49RY9401_1,  PR02,     2,  2,      3,  10722,2,19940120,0559, 33.2903, 137.2440, 3625,    201.9,  15.5721,  34.6465,2,-999.0000,9,   -999.0,9,    184.0,2,     0.01,2,     9.20,2,     0.70,2,   -999, 15.5408
    49RY9401_1,  PR02,     2,  2,      2,  10715,2,19940120,0559, 33.2903, 137.2440, 3625,    251.2,  13.2310,  34.5072,2,-999.0000,9,   -999.0,9,    164.0,2,     0.03,2,    15.20,2,     1.08,2,   -999, 13.1962
    49RY9401_1,  PR02,     2,  2,      1,  10716,2,19940120,0559, 33.2903, 137.2440, 3625,    302.4,  11.0179,  34.3916,2,-999.0000,9,   -999.0,9,    153.0,2,     0.02,2,    19.30,2,     1.38,2,   -999, 10.9807
    49RY9401_1,  PR02,     3,  1,      8,  10718,2,19940120,1109, 32.6675, 136.9593, 4165,    405.3,  15.9452,  34.6847,2,-999.0000,9,   -999.0,9,    182.0,2,     0.01,2,     8.00,2,     0.57,2,   -999, 15.8809
    49RY9401_1,  PR02,     3,  1,      7,  10371,2,19940120,1109, 32.6675, 136.9593, 4165,    504.6,  13.7145,  34.5169,2,-999.0000,9,   -999.0,9,   -999.0,5,     0.01,2,    12.70,2,     0.88,2,   -999, 13.6422
    49RY9401_1,  PR02,     3,  1,      6,  10717,2,19940120,1109, 32.6675, 136.9593, 4165,    605.5,  11.1751,  34.3492,2,-999.0000,9,   -999.0,9,    169.0,2,     0.00,2,    18.10,2,     1.27,2,   -999, 11.0988
    49RY9401_1,  PR02,     3,  1,      5,  10382,2,19940120,1109, 32.6675, 136.9593, 4165,    706.0,   8.3323,  34.2084,2,-999.0000,9,   -999.0,9,    142.0,2,     0.00,2,    25.70,2,     1.82,2,   -999,  8.2577
    49RY9401_1,  PR02,     3,  1,      4,  10730,2,19940120,1109, 32.6675, 136.9593, 4165,    806.6,   6.2556,  34.1831,2,-999.0000,9,   -999.0,9,    109.0,2,     0.00,2,    32.40,2,     2.33,2,   -999,  6.1823
    49RY9401_1,  PR02,     3,  1,      3,  10722,2,19940120,1109, 32.6675, 136.9593, 4165,    907.4,   5.2684,  34.2286,2,-999.0000,9,   -999.0,9,     86.0,2,     0.00,2,    35.90,2,     2.67,2,   -999,  5.1920
    49RY9401_1,  PR02,     3,  1,      2,  10715,2,19940120,1109, 32.6675, 136.9593, 4165,   1008.3,   4.4366,  34.2864,2,-999.0000,9,   -999.0,9,     70.0,2,     0.00,2,    38.70,2,     2.91,2,   -999,  4.3572
    49RY9401_1,  PR02,     3,  1,      1,  10716,2,19940120,1109, 32.6675, 136.9593, 4165,   1259.3,   3.3513,  34.4341,2,-999.0000,9,   -999.0,9,     73.0,2,     0.00,2,    40.30,2,     3.04,2,   -999,  3.2600
    49RY9401_1,  PR02,     3,  2,     12,  10720,2,19940120,1221, 32.6588, 137.0085, 4175,      2.9,  19.8233,  34.8765,2,-999.0000,9,   -999.0,9,   -999.0,5,     0.25,2,     0.90,2,     0.23,2,   -999, 19.8228
    49RY9401_1,  PR02,     3,  2,     11,  10727,2,19940120,1221, 32.6588, 137.0085, 4175,     10.3,  19.8383,  34.8765,2,-999.0000,9,   -999.0,9,    220.0,2,     0.25,2,     0.80,2,     0.23,2,   -999, 19.8364
    49RY9401_1,  PR02,     3,  2,     10,  10719,2,19940120,1221, 32.6588, 137.0085, 4175,     25.7,  19.8368,  34.8762,2,-999.0000,9,   -999.0,9,    220.0,2,     0.25,2,     0.90,2,     0.23,2,   -999, 19.8321
    49RY9401_1,  PR02,     3,  2,      9,  10721,2,19940120,1221, 32.6588, 137.0085, 4175,     50.5,  19.8530,  34.8746,2,-999.0000,9,   -999.0,9,    221.0,2,     0.25,2,     0.90,2,     0.23,2,   -999, 19.8437
    49RY9401_1,  PR02,     3,  2,      8,  10718,2,19940120,1221, 32.6588, 137.0085, 4175,     75.8,  19.8600,  34.8746,2,-999.0000,9,   -999.0,9,    220.0,2,     0.25,2,     0.90,2,     0.22,2,   -999, 19.8461
    49RY9401_1,  PR02,     3,  2,      7,  10371,2,19940120,1221, 32.6588, 137.0085, 4175,    100.4,  19.8634,  34.8753,2,-999.0000,9,   -999.0,9,    220.0,2,     0.25,2,     0.90,2,     0.23,2,   -999, 19.8450
    49RY9401_1,  PR02,     3,  2,      6,  10717,2,19940120,1221, 32.6588, 137.0085, 4175,    126.4,  19.8665,  34.8760,2,-999.0000,9,   -999.0,9,    220.0,2,     0.25,2,     0.90,2,     0.21,2,   -999, 19.8433
    49RY9401_1,  PR02,     3,  2,      5,  10382,2,19940120,1221, 32.6588, 137.0085, 4175,    151.2,  19.8582,  34.8749,2,-999.0000,9,   -999.0,9,    221.0,2,     0.24,2,     1.00,2,     0.21,2,   -999, 19.8305
    49RY9401_1,  PR02,     3,  2,      4,  10730,2,19940120,1221, 32.6588, 137.0085, 4175,    176.7,  19.8262,  34.8728,2,-999.0000,9,   -999.0,9,    218.0,2,     0.23,2,     1.00,2,     0.21,2,   -999, 19.7937
    49RY9401_1,  PR02,     3,  2,      3,  10722,2,19940120,1221, 32.6588, 137.0085, 4175,    201.4,  18.9490,  34.8531,2,-999.0000,9,   -999.0,9,    203.0,2,     0.02,2,     2.60,2,     0.27,2,   -999, 18.9131
    49RY9401_1,  PR02,     3,  2,      2,  10715,2,19940120,1221, 32.6588, 137.0085, 4175,    252.2,  18.0882,  34.8308,2,-999.0000,9,   -999.0,9,    205.0,2,     0.01,2,     3.40,2,     0.32,2,   -999, 18.0448
    49RY9401_1,  PR02,     3,  2,      1,  10716,2,19940120,1221, 32.6588, 137.0085, 4175,    303.1,  17.4687,  34.8016,2,-999.0000,9,   -999.0,9,    204.0,2,     0.01,2,     4.30,2,     0.37,2,   -999, 17.4176
    49RY9401_1,  PR02,     4,  1,      8,  10718,2,19940120,1719, 31.9990, 137.0063, 4230,    403.4,  17.6479,  34.8114,2,-999.0000,9,   -999.0,9,    211.0,2,     0.01,2,     3.60,2,     0.22,2,   -999, 17.5793
    49RY9401_1,  PR02,     4,  1,      7,  10371,2,19940120,1719, 31.9990, 137.0063, 4230,    503.5,  16.3373,  34.7147,2,-999.0000,9,   -999.0,9,    198.0,2,     0.01,2,     7.20,2,     0.41,2,   -999, 16.2560
    49RY9401_1,  PR02,     4,  1,      6,  10717,2,19940120,1719, 31.9990, 137.0063, 4230,    604.6,  13.7962,  34.5271,2,-999.0000,9,   -999.0,9,    182.0,2,     0.00,2,    12.60,2,     0.75,2,   -999, 13.7088
    49RY9401_1,  PR02,     4,  1,      5,  10382,2,19940120,1719, 31.9990, 137.0063, 4230,    704.8,  10.6702,  34.2975,2,-999.0000,9,   -999.0,9,    168.0,2,     0.01,2,    19.20,2,     1.21,2,   -999, 10.5837
    49RY9401_1,  PR02,     4,  1,      4,  10730,2,19940120,1719, 31.9990, 137.0063, 4230,    806.0,   8.3092,  34.2157,2,-999.0000,9,   -999.0,9,    143.0,2,     0.00,2,    25.80,2,     1.73,2,   -999,  8.2235
    49RY9401_1,  PR02,     4,  1,      3,  10722,2,19940120,1719, 31.9990, 137.0063, 4230,    906.7,   6.7330,  34.2293,2,-999.0000,9,   -999.0,9,    109.0,2,     0.00,2,    31.60,2,     2.18,2,   -999,  6.6466
    49RY9401_1,  PR02,     4,  1,      2,  10715,2,19940120,1719, 31.9990, 137.0063, 4230,   1008.1,   5.3322,  34.2562,2,-999.0000,9,   -999.0,9,     87.0,2,     0.01,2,    36.10,2,     2.54,2,   -999,  5.2460
    49RY9401_1,  PR02,     4,  1,      1,  10716,2,19940120,1719, 31.9990, 137.0063, 4230,   1260.1,   3.8425,  34.3833,2,-999.0000,9,   -999.0,9,     68.0,2,     0.00,2,    40.00,2,     2.85,2,   -999,  3.7464
    49RY9401_1,  PR02,     4,  2,     12,  10720,2,19940120,1821, 32.0022, 137.0315, 4145,      3.0,  19.4342,  34.8444,2,-999.0000,9,   -999.0,9,    224.0,2,     0.22,2,     0.70,2,     0.17,2,   -999, 19.4336
    49RY9401_1,  PR02,     4,  2,     11,  10727,2,19940120,1821, 32.0022, 137.0315, 4145,     11.3,  19.4320,  34.8360,2,-999.0000,9,   -999.0,9,    224.0,2,     0.22,2,     0.70,2,     0.15,2,   -999, 19.4300
    49RY9401_1,  PR02,     4,  2,     10,  10719,2,19940120,1821, 32.0022, 137.0315, 4145,     25.5,  19.4701,  34.8491,2,-999.0000,9,   -999.0,9,    223.0,2,     0.22,2,     0.70,2,     0.13,2,   -999, 19.4655
    49RY9401_1,  PR02,     4,  2,      9,  10721,2,19940120,1821, 32.0022, 137.0315, 4145,     52.1,  19.4717,  34.8468,2,-999.0000,9,   -999.0,9,    223.0,2,     0.22,2,     0.70,2,     0.12,2,   -999, 19.4622
    49RY9401_1,  PR02,     4,  2,      8,  10718,2,19940120,1821, 32.0022, 137.0315, 4145,     76.4,  19.4718,  34.8483,2,-999.0000,9,   -999.0,9,    223.0,2,     0.21,2,     0.70,2,     0.12,2,   -999, 19.4580
    49RY9401_1,  PR02,     4,  2,      7,  10371,2,19940120,1821, 32.0022, 137.0315, 4145,    101.7,  19.4691,  34.8467,2,-999.0000,9,   -999.0,9,    223.0,2,     0.22,2,     0.70,2,     0.12,2,   -999, 19.4507
    49RY9401_1,  PR02,     4,  2,      6,  10717,2,19940120,1821, 32.0022, 137.0315, 4145,    126.6,  19.4652,  34.8465,2,-999.0000,9,   -999.0,9,    224.0,2,     0.22,2,     0.70,2,     0.11,2,   -999, 19.4423
    49RY9401_1,  PR02,     4,  2,      5,  10382,2,19940120,1821, 32.0022, 137.0315, 4145,    151.8,  19.4698,  34.8464,2,-999.0000,9,   -999.0,9,    224.0,2,     0.22,2,     0.70,2,     0.17,2,   -999, 19.4423
    49RY9401_1,  PR02,     4,  2,      4,  10730,2,19940120,1821, 32.0022, 137.0315, 4145,    176.9,  19.4554,  34.8439,2,-999.0000,9,   -999.0,9,    227.0,2,     0.17,2,     1.30,2,     0.11,2,   -999, 19.4233
    49RY9401_1,  PR02,     4,  2,      3,  10722,2,19940120,1821, 32.0022, 137.0315, 4145,    202.5,  19.2659,  34.8448,2,-999.0000,9,   -999.0,9,    219.0,2,     0.14,2,     1.30,2,     0.10,2,   -999, 19.2295
    49RY9401_1,  PR02,     4,  2,      2,  10715,2,19940120,1821, 32.0022, 137.0315, 4145,    251.4,  18.7745,  34.8451,2,-999.0000,9,   -999.0,9,    214.0,2,     0.02,2,     2.20,2,     0.14,2,   -999, 18.7300
    49RY9401_1,  PR02,     4,  2,      1,  10716,2,19940120,1821, 32.0022, 137.0315, 4145,    303.8,  18.5796,  34.8481,2,-999.0000,9,   -999.0,9,    212.0,2,     0.02,2,     2.30,2,     0.24,2,   -999, 18.5262
    49RY9401_1,  PR02,     5,  1,      8,  10718,2,19940121,0057, 30.9887, 136.9883, 4325,    403.7,  17.3663,  34.7951,2,-999.0000,9,   -999.0,9,    208.0,2,     0.00,2,     4.30,2,     0.36,2,   -999, 17.2985
    49RY9401_1,  PR02,     5,  1,      7,  10371,3,19940121,0057, 30.9887, 136.9883, 4325,    504.5,  15.9047,  34.6818,2,-999.0000,9,   -999.0,9,    192.0,2,     0.01,2,     8.10,2,     0.62,2,   -999, 15.8247
    49RY9401_1,  PR02,     5,  1,      6,  10717,2,19940121,0057, 30.9887, 136.9883, 4325,    604.7,  13.3874,  34.4938,2,-999.0000,9,   -999.0,9,    179.0,2,     0.00,2,    13.60,2,     1.00,2,   -999, 13.3017
    49RY9401_1,  PR02,     5,  1,      5,  10382,2,19940121,0057, 30.9887, 136.9883, 4325,    705.7,  10.2292,  34.3008,2,-999.0000,9,   -999.0,9,    159.0,2,     0.01,2,    21.00,2,     1.55,2,   -999, 10.1448
    49RY9401_1,  PR02,     5,  1,      4,  10730,2,19940121,0057, 30.9887, 136.9883, 4325,    807.3,   7.7030,  34.1880,2,-999.0000,9,   -999.0,9,    138.0,2,     0.00,2,    27.90,2,     2.05,2,   -999,  7.6209
    49RY9401_1,  PR02,     5,  1,      3,  10722,2,19940121,0057, 30.9887, 136.9883, 4325,    908.0,   6.2335,  34.1999,2,-999.0000,9,   -999.0,9,    102.0,2,     0.00,2,    33.80,2,     2.49,2,   -999,  6.1505
    49RY9401_1,  PR02,     5,  1,      2,  10715,3,19940121,0057, 30.9887, 136.9883, 4325,   1010.0,   5.2436,  34.2884,2,-999.0000,9,   -999.0,9,     83.0,2,     0.00,2,    37.30,2,     2.76,2,   -999,  5.1579
    49RY9401_1,  PR02,     5,  1,      1,  10716,2,19940121,0057, 30.9887, 136.9883, 4325,   1259.1,   3.5955,  34.3993,2,-999.0000,9,   -999.0,9,     68.0,2,     0.01,2,    41.30,2,     3.05,2,   -999,  3.5019