BOTTLE,20030108WHPSIODMB
EXPOCODE,SECT_ID,STNNBR,CASTNO,SAMPNO,BTLNBR,BTLNBR_FLAG_W,DATE,TIME,LATITUDE,LONGITUDE,DEPTH,CTDPRS,CTDTMP,CTDSAL,CTDSAL_FLAG_W,SALNTY,SALNTY_FLAG_W,CTDOXY,CTDOXY_FLAG_W,OXYGEN,OXYGEN_FLAG_W,NITRIT,NITRIT_FLAG_W,NO2+NO3,NO2+NO3_FLAG_W,PHSPHT,PHSPHT_FLAG_W,CTDRAW,THETA
,,,,,,,,,,,,DBAR,ITS-90,PSS-78,,PSS-78,,UMOL/KG,,UMOL/KG,,UMOL/KG,,UMOL/KG,,UMOL/KG,,,DEG C
    49RY9401_1,  PR02,     5,  2,     12,  10720,2,19940121,0158, 30.9845, 136.9957, 4270,      3.7,  19.8413,  34.8670,2,-999.0000,9,   -999.0,9,    223.0,2,     0.25,2,     0.80,2,     0.15,2,   -999, 19.8406
    49RY9401_1,  PR02,     5,  2,     11,  10727,2,19940121,0158, 30.9845, 136.9957, 4270,     11.0,  19.8484,  34.8702,2,-999.0000,9,   -999.0,9,    221.0,2,     0.25,2,     0.80,2,     0.15,2,   -999, 19.8464
    49RY9401_1,  PR02,     5,  2,     10,  10719,2,19940121,0158, 30.9845, 136.9957, 4270,     26.7,  19.8509,  34.8670,2,-999.0000,9,   -999.0,9,    224.0,2,     0.26,2,     0.80,2,     0.15,2,   -999, 19.8460
    49RY9401_1,  PR02,     5,  2,      9,  10721,2,19940121,0158, 30.9845, 136.9957, 4270,     50.7,  19.8559,  34.8689,2,-999.0000,9,   -999.0,9,    223.0,2,     0.26,2,     0.80,2,     0.14,2,   -999, 19.8466
    49RY9401_1,  PR02,     5,  2,      8,  10718,2,19940121,0158, 30.9845, 136.9957, 4270,     75.5,  19.8472,  34.8652,2,-999.0000,9,   -999.0,9,    222.0,2,     0.25,2,     0.80,2,     0.14,2,   -999, 19.8334
    49RY9401_1,  PR02,     5,  2,      7,  10371,2,19940121,0158, 30.9845, 136.9957, 4270,    101.2,  19.8575,  34.8670,2,-999.0000,9,   -999.0,9,    221.0,2,     0.24,2,     0.70,2,     0.13,2,   -999, 19.8389
    49RY9401_1,  PR02,     5,  2,      6,  10717,2,19940121,0158, 30.9845, 136.9957, 4270,    126.1,  19.8232,  34.8612,2,-999.0000,9,   -999.0,9,    220.0,2,     0.24,2,     0.80,2,     0.14,2,   -999, 19.8001
    49RY9401_1,  PR02,     5,  2,      5,  10382,2,19940121,0158, 30.9845, 136.9957, 4270,    152.7,  19.6699,  34.8520,2,-999.0000,9,   -999.0,9,    220.0,2,     0.23,2,     0.90,2,     0.15,2,   -999, 19.6420
    49RY9401_1,  PR02,     5,  2,      4,  10730,2,19940121,0158, 30.9845, 136.9957, 4270,    176.6,  19.6168,  34.8551,2,-999.0000,9,   -999.0,9,    223.0,2,     0.23,2,     0.70,2,     0.17,2,   -999, 19.5846
    49RY9401_1,  PR02,     5,  2,      3,  10722,2,19940121,0158, 30.9845, 136.9957, 4270,    202.7,  19.5487,  34.8511,2,-999.0000,9,   -999.0,9,    218.0,2,     0.18,2,     1.20,2,     0.17,2,   -999, 19.5118
    49RY9401_1,  PR02,     5,  2,      2,  10715,2,19940121,0158, 30.9845, 136.9957, 4270,    252.5,  18.7673,  34.8473,2,-999.0000,9,   -999.0,9,    210.0,2,     0.02,2,     2.20,2,     0.23,2,   -999, 18.7226
    49RY9401_1,  PR02,     5,  2,      1,  10716,2,19940121,0158, 30.9845, 136.9957, 4270,    302.1,  18.4684,  34.8505,2,-999.0000,9,   -999.0,9,    211.0,2,     0.02,2,     2.50,2,     0.25,2,   -999, 18.4155
    49RY9401_1,  PR02,     6,  1,     12,  10720,2,19940121,0940, 29.9628, 137.0078, 4500,    511.1,  13.8184,  34.5330,2,  34.5353,2,   -999.0,9,    180.0,2,     0.00,2,    13.00,2,     0.85,2,   -999, 13.7447
    49RY9401_1,  PR02,     6,  1,     11,  10727,2,19940121,0940, 29.9628, 137.0078, 4500,    611.7,  10.9438,  34.3445,2,  34.3405,2,   -999.0,9,    168.0,2,     0.00,2,    19.00,2,     1.30,2,   -999, 10.8677
    49RY9401_1,  PR02,     6,  1,     10,  10719,2,19940121,0940, 29.9628, 137.0078, 4500,    711.7,   8.4618,  34.1961,2,-999.0000,9,   -999.0,9,    153.0,2,     0.01,2,    25.40,2,     1.75,2,   -999,  8.3858
    49RY9401_1,  PR02,     6,  1,      9,  10721,2,19940121,0940, 29.9628, 137.0078, 4500,    813.1,   6.5014,  34.1702,2,  34.1687,2,   -999.0,9,    121.0,2,     0.00,2,    31.70,2,     2.21,2,   -999,  6.4259
    49RY9401_1,  PR02,     6,  1,      8,  10718,2,19940121,0940, 29.9628, 137.0078, 4500,    913.9,   5.3166,  34.2149,2,-999.0000,9,   -999.0,9,     87.0,2,     0.00,2,    37.10,2,     2.57,2,   -999,  5.2392
    49RY9401_1,  PR02,     6,  1,      7,  10371,2,19940121,0940, 29.9628, 137.0078, 4500,   1015.0,   4.3598,  34.2923,2,-999.0000,9,   -999.0,9,     71.0,2,     0.00,2,    40.00,2,     2.79,2,   -999,  4.2805
    49RY9401_1,  PR02,     6,  1,      6,  10717,2,19940121,0940, 29.9628, 137.0078, 4500,   1269.5,   3.3306,  34.4258,2,  34.4314,2,   -999.0,9,     68.0,2,     0.00,2,    42.00,2,     2.93,2,   -999,  3.2387
    49RY9401_1,  PR02,     6,  1,      5,  10382,2,19940121,0940, 29.9628, 137.0078, 4500,   1522.9,   2.7185,  34.5058,2,  34.5078,2,   -999.0,9,     81.0,2,     0.02,2,    41.80,2,     2.92,2,   -999,  2.6122
    49RY9401_1,  PR02,     6,  1,      4,  10730,2,19940121,0940, 29.9628, 137.0078, 4500,   2028.1,   2.0441,  34.5941,2,-999.0000,9,   -999.0,9,    109.0,2,     0.01,2,    40.30,2,     2.77,2,   -999,  1.9047
    49RY9401_1,  PR02,     6,  1,      3,  10722,2,19940121,0940, 29.9628, 137.0078, 4500,   2536.5,   1.7273,  34.6398,2,  34.6437,2,   -999.0,9,    133.0,2,     0.01,2,    39.00,2,     2.69,2,   -999,  1.5488
    49RY9401_1,  PR02,     6,  1,      2,  10715,2,19940121,0940, 29.9628, 137.0078, 4500,   3048.3,   1.5789,  34.6634,2,  34.6708,3,   -999.0,9,    148.0,2,     0.00,2,    38.20,2,     2.61,2,   -999,  1.3558
    49RY9401_1,  PR02,     6,  1,      1,  10716,2,19940121,0940, 29.9628, 137.0078, 4500,   4073.9,   1.5370,  34.6770,2,  34.6775,2,   -999.0,9,    157.0,2,     0.00,2,    37.50,2,     2.55,2,   -999,  1.2090
    49RY9401_1,  PR02,     7,  1,      0,   -999,2,19940121,1903, 28.9922, 137.0440, 4285,      2.5,  20.2890,  34.8992,2,-999.0000,9,   -999.0,9,   -999.0,5,     0.16,2,     0.40,2,     0.10,2,   -999, 20.2885
    49RY9401_1,  PR02,     7,  1,     12,  10720,2,19940121,1903, 28.9922, 137.0440, 4285,     25.3,  20.2947,  34.9010,2,-999.0000,9,   -999.0,9,   -999.0,5,     0.17,2,     0.40,2,     0.10,2,   -999, 20.2900
    49RY9401_1,  PR02,     7,  1,     11,  10727,2,19940121,1903, 28.9922, 137.0440, 4285,     52.4,  20.3089,  34.8991,2,-999.0000,9,   -999.0,9,    224.0,2,     0.16,2,     0.40,2,     0.10,2,   -999, 20.2992
    49RY9401_1,  PR02,     7,  1,     10,  10719,2,19940121,1903, 28.9922, 137.0440, 4285,    102.1,  20.3126,  34.9011,2,-999.0000,9,   -999.0,9,    222.0,2,     0.17,2,     0.50,2,     0.10,2,   -999, 20.2935
    49RY9401_1,  PR02,     7,  1,      9,  10721,2,19940121,1903, 28.9922, 137.0440, 4285,    151.0,  20.2926,  34.8971,2,-999.0000,9,   -999.0,9,    222.0,2,     0.17,2,     0.50,2,     0.10,2,   -999, 20.2645
    49RY9401_1,  PR02,     7,  1,      8,  10718,2,19940121,1903, 28.9922, 137.0440, 4285,    200.9,  18.7303,  34.8549,2,-999.0000,9,   -999.0,9,    204.0,2,     0.03,2,     2.90,2,     0.25,2,   -999, 18.6949
    49RY9401_1,  PR02,     7,  1,      7,  10371,2,19940121,1903, 28.9922, 137.0440, 4285,    302.8,  17.1980,  34.7826,2,-999.0000,9,   -999.0,9,    203.0,2,     0.02,2,     4.80,2,     0.36,2,   -999, 17.1476
    49RY9401_1,  PR02,     7,  1,      6,  10717,2,19940121,1903, 28.9922, 137.0440, 4285,    400.5,  15.4884,  34.6566,2,-999.0000,9,   -999.0,9,    189.0,2,     0.01,2,     9.00,2,     0.65,2,   -999, 15.4262
    49RY9401_1,  PR02,     7,  1,      5,  10382,2,19940121,1903, 28.9922, 137.0440, 4285,    504.1,  13.3415,  34.4911,2,-999.0000,9,   -999.0,9,    182.0,2,     0.03,2,    13.30,2,     0.96,2,   -999, 13.2705
    49RY9401_1,  PR02,     7,  1,      4,  10730,2,19940121,1903, 28.9922, 137.0440, 4285,    605.5,  10.2454,  34.2973,2,-999.0000,9,   -999.0,9,    167.0,2,     0.00,2,    19.80,2,     1.43,2,   -999, 10.1732
    49RY9401_1,  PR02,     7,  1,      3,  10722,2,19940121,1903, 28.9922, 137.0440, 4285,    805.8,   5.7105,  34.1576,2,-999.0000,9,   -999.0,9,    105.0,2,     0.00,2,    33.40,2,     2.43,2,   -999,  5.6406
    49RY9401_1,  PR02,     7,  1,      2,  10715,2,19940121,1903, 28.9922, 137.0440, 4285,   1007.9,   4.2245,  34.2835,2,-999.0000,9,   -999.0,9,     68.0,2,     0.00,2,    38.90,2,     2.86,2,   -999,  4.1468
    49RY9401_1,  PR02,     7,  1,      1,  10716,2,19940121,1903, 28.9922, 137.0440, 4285,   1264.0,   3.2586,  34.4171,2,-999.0000,9,   -999.0,9,     66.0,2,     0.00,2,    40.50,2,     2.94,2,   -999,  3.1679
    49RY9401_1,  PR02,     8,  1,      8,  10718,2,19940122,0226, 27.9783, 137.0403, 4290,    402.6,  15.5010,  34.6529,2,-999.0000,9,   -999.0,9,    188.0,2,     0.00,2,     9.00,2,     0.58,2,   -999, 15.4385
    49RY9401_1,  PR02,     8,  1,      7,  10371,2,19940122,0226, 27.9783, 137.0403, 4290,    503.6,  12.2326,  34.4251,2,-999.0000,9,   -999.0,9,    173.0,2,     0.01,2,    15.80,2,     1.05,2,   -999, 12.1657
    49RY9401_1,  PR02,     8,  1,      6,  10717,2,19940122,0226, 27.9783, 137.0403, 4290,    604.3,   9.6749,  34.2562,2,  34.2564,2,   -999.0,9,    162.0,2,     0.00,2,    21.20,2,     1.45,2,   -999,  9.6054
    49RY9401_1,  PR02,     8,  1,      5,  10382,2,19940122,0226, 27.9783, 137.0403, 4290,    706.5,   7.2060,  34.1370,2,  34.1493,4,   -999.0,9,    134.0,2,     0.01,2,    28.30,2,     1.99,2,   -999,  7.1373
    49RY9401_1,  PR02,     8,  1,      4,  10730,2,19940122,0226, 27.9783, 137.0403, 4290,    805.8,   5.8647,  34.1469,2,  34.1142,4,   -999.0,9,    107.0,2,     0.00,2,    33.00,2,     2.35,2,   -999,  5.7938
    49RY9401_1,  PR02,     8,  1,      3,  10722,2,19940122,0226, 27.9783, 137.0403, 4290,    907.8,   4.8287,  34.1962,2,-999.0000,9,   -999.0,9,     80.0,2,     0.00,2,    36.90,2,     2.62,2,   -999,  4.7553
    49RY9401_1,  PR02,     8,  1,      2,  10715,2,19940122,0226, 27.9783, 137.0403, 4290,   1008.9,   4.1533,  34.2852,2,  34.2829,2,   -999.0,9,     63.0,2,     0.00,2,    39.30,2,     2.80,2,   -999,  4.0761
    49RY9401_1,  PR02,     8,  1,      1,  10716,2,19940122,0226, 27.9783, 137.0403, 4290,   1259.6,   3.1786,  34.4221,2,  34.4218,2,   -999.0,9,     58.0,2,     0.00,2,    41.00,2,     2.90,2,   -999,  3.0889
    49RY9401_1,  PR02,     8,  2,     12,  10720,2,19940122,0342, 27.9555, 137.0750, 4390,      3.2,  21.1819,  34.8930,2,-999.0000,9,   -999.0,9,    219.0,2,     0.06,2,     0.30,2,     0.07,2,   -999, 21.1813
    49RY9401_1,  PR02,     8,  2,     11,  10727,2,19940122,0342, 27.9555, 137.0750, 4390,     10.1,  21.1825,  34.8959,2,-999.0000,9,   -999.0,9,    220.0,2,     0.05,2,     0.20,2,     0.06,2,   -999, 21.1805
    49RY9401_1,  PR02,     8,  2,     10,  10719,2,19940122,0342, 27.9555, 137.0750, 4390,     25.2,  21.1798,  34.8956,2,-999.0000,9,   -999.0,9,    220.0,2,     0.06,2,     0.20,2,     0.06,2,   -999, 21.1750
    49RY9401_1,  PR02,     8,  2,      9,  10721,2,19940122,0342, 27.9555, 137.0750, 4390,     49.5,  21.1811,  34.8942,2,  34.8936,2,   -999.0,9,    217.0,2,     0.07,2,     0.30,2,     0.03,2,   -999, 21.1716
    49RY9401_1,  PR02,     8,  2,      8,  10718,2,19940122,0342, 27.9555, 137.0750, 4390,     74.7,  21.1721,  34.8930,2,-999.0000,9,   -999.0,9,    217.0,2,     0.06,2,     0.30,2,     0.02,2,   -999, 21.1577
    49RY9401_1,  PR02,     8,  2,      7,  10371,2,19940122,0342, 27.9555, 137.0750, 4390,    100.3,  21.1472,  34.8915,2,  34.8914,2,   -999.0,9,    216.0,2,     0.07,2,     0.30,2,     0.03,2,   -999, 21.1279
    49RY9401_1,  PR02,     8,  2,      6,  10717,2,19940122,0342, 27.9555, 137.0750, 4390,    126.3,  20.9410,  34.8758,2,-999.0000,9,   -999.0,9,    211.0,2,     0.08,2,     0.90,2,     0.05,2,   -999, 20.9169
    49RY9401_1,  PR02,     8,  2,      5,  10382,2,19940122,0342, 27.9555, 137.0750, 4390,    151.4,  20.0908,  34.8787,2,-999.0000,9,   -999.0,9,    203.0,2,     0.03,2,     1.90,2,     0.12,2,   -999, 20.0627
    49RY9401_1,  PR02,     8,  2,      4,  10730,2,19940122,0342, 27.9555, 137.0750, 4390,    176.2,  19.1400,  34.8722,2,-999.0000,9,   -999.0,9,    202.0,2,     0.02,2,     2.60,2,     0.17,2,   -999, 19.1085
    49RY9401_1,  PR02,     8,  2,      3,  10722,2,19940122,0342, 27.9555, 137.0750, 4390,    200.5,  18.6211,  34.8459,2,-999.0000,9,   -999.0,9,    201.0,2,     0.01,2,     3.30,2,     0.22,2,   -999, 18.5858
    49RY9401_1,  PR02,     8,  2,      2,  10715,2,19940122,0342, 27.9555, 137.0750, 4390,    250.9,  17.8904,  34.8206,2,-999.0000,9,   -999.0,9,    202.0,2,     0.01,2,     4.00,2,     0.26,2,   -999, 17.8475
    49RY9401_1,  PR02,     8,  2,      1,  10716,2,19940122,0342, 27.9555, 137.0750, 4390,    300.7,  17.0096,  34.7718,2,-999.0000,9,   -999.0,9,    201.0,2,     0.01,2,     5.30,2,     0.34,2,   -999, 16.9599
    49RY9401_1,  PR02,     9,  1,      8,  10718,2,19940122,0938, 27.0007, 136.9750, 4785,    402.2,  14.9765,  34.6527,2,-999.0000,9,   -999.0,9,    185.0,2,     0.01,2,    10.20,2,     0.75,2,   -999, 14.9155
    49RY9401_1,  PR02,     9,  1,      7,  10371,2,19940122,0938, 27.0007, 136.9750, 4785,    504.9,  12.4335,  34.4344,2,-999.0000,9,   -999.0,9,    179.0,2,     0.01,2,    14.80,2,     1.07,2,   -999, 12.3656
    49RY9401_1,  PR02,     9,  1,      6,  10717,2,19940122,0938, 27.0007, 136.9750, 4785,    605.6,   9.4530,  34.2377,2,-999.0000,9,   -999.0,9,    161.0,2,     0.01,2,    21.60,2,     1.58,2,   -999,  9.3843
    49RY9401_1,  PR02,     9,  1,      5,  10382,2,19940122,0938, 27.0007, 136.9750, 4785,    708.8,   7.1997,  34.1230,2,-999.0000,9,   -999.0,9,    138.0,2,     0.01,2,    27.50,2,     2.02,2,   -999,  7.1307
    49RY9401_1,  PR02,     9,  1,      4,  10730,2,19940122,0938, 27.0007, 136.9750, 4785,    807.6,   5.6193,  34.1379,2,-999.0000,9,   -999.0,9,    103.0,2,     0.00,2,    33.60,2,     2.47,2,   -999,  5.5499
    49RY9401_1,  PR02,     9,  1,      3,  10722,2,19940122,0938, 27.0007, 136.9750, 4785,    909.9,   4.6305,  34.2111,2,-999.0000,9,   -999.0,9,     75.0,2,     0.00,2,    37.80,2,     2.76,2,   -999,  4.5583
    49RY9401_1,  PR02,     9,  1,      2,  10715,2,19940122,0938, 27.0007, 136.9750, 4785,   1009.8,   4.0937,  34.2795,2,-999.0000,9,   -999.0,9,     62.0,2,     0.00,2,    39.60,2,     2.90,2,   -999,  4.0168
    49RY9401_1,  PR02,     9,  1,      1,  10716,2,19940122,0938, 27.0007, 136.9750, 4785,   1262.2,   3.1583,  34.4300,2,-999.0000,9,   -999.0,9,     61.0,2,     0.00,2,    40.80,2,     2.97,2,   -999,  3.0686
    49RY9401_1,  PR02,     9,  2,     12,  10720,2,19940122,1042, 26.9937, 136.9822, 4675,      2.9,  21.1230,  34.8939,2,-999.0000,9,   -999.0,9,    219.0,2,     0.03,2,     0.20,2,     0.06,2,   -999, 21.1225
    49RY9401_1,  PR02,     9,  2,     11,  10727,2,19940122,1042, 26.9937, 136.9822, 4675,      8.7,  21.1350,  34.8935,2,-999.0000,9,   -999.0,9,    220.0,2,     0.02,2,     0.20,2,     0.05,2,   -999, 21.1333
    49RY9401_1,  PR02,     9,  2,     10,  10719,2,19940122,1042, 26.9937, 136.9822, 4675,     24.5,  21.1393,  34.8928,2,-999.0000,9,   -999.0,9,    219.0,2,     0.03,2,     0.30,2,     0.05,2,   -999, 21.1346
    49RY9401_1,  PR02,     9,  2,      9,  10721,2,19940122,1042, 26.9937, 136.9822, 4675,     49.9,  21.1448,  34.8937,2,-999.0000,9,   -999.0,9,    219.0,2,     0.03,2,     0.30,2,     0.14,2,   -999, 21.1352
    49RY9401_1,  PR02,     9,  2,      8,  10718,2,19940122,1042, 26.9937, 136.9822, 4675,     74.3,  21.1436,  34.8930,2,-999.0000,9,   -999.0,9,    223.0,2,     0.02,2,     0.30,2,     0.12,2,   -999, 21.1294
    49RY9401_1,  PR02,     9,  2,      7,  10371,2,19940122,1042, 26.9937, 136.9822, 4675,    101.3,  20.6061,  34.8838,2,-999.0000,9,   -999.0,9,    208.0,2,     0.05,2,     1.30,2,     0.16,2,   -999, 20.5870
    49RY9401_1,  PR02,     9,  2,      6,  10717,2,19940122,1042, 26.9937, 136.9822, 4675,    125.2,  19.7285,  34.8803,2,-999.0000,9,   -999.0,9,    202.0,2,     0.04,2,     2.20,2,     0.23,2,   -999, 19.7056
    49RY9401_1,  PR02,     9,  2,      5,  10382,2,19940122,1042, 26.9937, 136.9822, 4675,    150.3,  19.1256,  34.8459,2,-999.0000,9,   -999.0,9,    201.0,2,     0.03,2,     2.50,2,     0.25,2,   -999, 19.0987
    49RY9401_1,  PR02,     9,  2,      4,  10730,2,19940122,1042, 26.9937, 136.9822, 4675,    174.4,  18.4815,  34.8486,2,-999.0000,9,   -999.0,9,    204.0,2,     0.02,2,     3.00,2,     0.27,2,   -999, 18.4510
    49RY9401_1,  PR02,     9,  2,      3,  10722,2,19940122,1042, 26.9937, 136.9822, 4675,    201.3,  18.1057,  34.8265,2,-999.0000,9,   -999.0,9,    205.0,2,     0.01,2,     3.20,2,     0.29,2,   -999, 18.0710
    49RY9401_1,  PR02,     9,  2,      2,  10715,2,19940122,1042, 26.9937, 136.9822, 4675,    249.7,  17.6003,  34.8027,2,-999.0000,9,   -999.0,9,    206.0,2,     0.01,2,     3.80,2,     0.32,2,   -999, 17.5581
    49RY9401_1,  PR02,     9,  2,      1,  10716,2,19940122,1042, 26.9937, 136.9822, 4675,    303.3,  16.8998,  34.7545,2,-999.0000,9,   -999.0,9,    200.0,2,     0.01,2,     5.60,2,     0.44,2,   -999, 16.8499
    49RY9401_1,  PR02,    10,  1,      8,  10718,2,19940122,1648, 26.0028, 136.9938, 5550,    402.5,  14.6901,  34.5893,2,-999.0000,9,   -999.0,9,    188.0,2,     0.01,2,    10.30,2,     0.64,2,   -999, 14.6299
    49RY9401_1,  PR02,    10,  1,      7,  10371,2,19940122,1648, 26.0028, 136.9938, 5550,    504.3,  11.5189,  34.3534,2,-999.0000,9,   -999.0,9,    180.0,2,     0.01,2,    16.30,2,     1.04,2,   -999, 11.4544
    49RY9401_1,  PR02,    10,  1,      6,  10717,2,19940122,1648, 26.0028, 136.9938, 5550,    603.5,   8.9682,  34.2110,2,-999.0000,9,   -999.0,9,    159.0,2,     0.00,2,    22.80,2,     1.51,2,   -999,  8.9019
    49RY9401_1,  PR02,    10,  1,      5,  10382,2,19940122,1648, 26.0028, 136.9938, 5550,    704.3,   6.7945,  34.1480,2,-999.0000,9,   -999.0,9,    125.0,2,     0.01,2,    29.80,2,     2.04,2,   -999,  6.7282
    49RY9401_1,  PR02,    10,  1,      4,  10730,2,19940122,1648, 26.0028, 136.9938, 5550,    805.6,   5.5905,  34.1682,2,-999.0000,9,   -999.0,9,     97.0,2,     0.00,2,    34.50,2,     2.40,2,   -999,  5.5213
    49RY9401_1,  PR02,    10,  1,      3,  10722,2,19940122,1648, 26.0028, 136.9938, 5550,    907.6,   4.5674,  34.2169,2,-999.0000,9,   -999.0,9,     73.0,2,     0.00,2,    38.30,2,     2.67,2,   -999,  4.4959
    49RY9401_1,  PR02,    10,  1,      2,  10715,2,19940122,1648, 26.0028, 136.9938, 5550,   1007.5,   4.0130,  34.3023,2,-999.0000,9,   -999.0,9,     61.0,2,     0.00,2,    40.00,2,     2.82,2,   -999,  3.9369
    49RY9401_1,  PR02,    10,  1,      1,  10716,2,19940122,1648, 26.0028, 136.9938, 5550,   1265.0,   3.0667,  34.4355,2,-999.0000,9,   -999.0,9,     59.0,2,     0.00,2,    41.60,2,     2.93,2,   -999,  2.9777