BOTTLE,20030108WHPSIODMB
EXPOCODE,SECT_ID,STNNBR,CASTNO,SAMPNO,BTLNBR,BTLNBR_FLAG_W,DATE,TIME,LATITUDE,LONGITUDE,DEPTH,CTDPRS,CTDTMP,CTDSAL,CTDSAL_FLAG_W,SALNTY,SALNTY_FLAG_W,CTDOXY,CTDOXY_FLAG_W,OXYGEN,OXYGEN_FLAG_W,NITRIT,NITRIT_FLAG_W,NO2+NO3,NO2+NO3_FLAG_W,PHSPHT,PHSPHT_FLAG_W,CTDRAW,THETA
,,,,,,,,,,,,DBAR,ITS-90,PSS-78,,PSS-78,,UMOL/KG,,UMOL/KG,,UMOL/KG,,UMOL/KG,,UMOL/KG,,,DEG C
    49RY9401_1,  PR02,    26,  2,      0,   -999,2,19940128,0358,  9.9528, 136.9362, 5040,      1.2,  27.8640,  33.8766,2,-999.0000,9,   -999.0,9,    215.0,2,     0.00,2,     0.10,2,     0.21,2,   -999, 27.8637
    49RY9401_1,  PR02,    26,  2,     12,  10720,2,19940128,0358,  9.9528, 136.9362, 5040,     11.1,  27.7049,  33.8887,2,  33.8891,2,   -999.0,9,    198.0,2,     0.00,2,     0.20,2,     0.13,2,   -999, 27.7023
    49RY9401_1,  PR02,    26,  2,     11,  10727,2,19940128,0358,  9.9528, 136.9362, 5040,     25.9,  27.6874,  33.9626,2,  33.9471,3,   -999.0,9,    198.0,2,     0.00,2,     0.20,2,     0.12,2,   -999, 27.6814
    49RY9401_1,  PR02,    26,  2,     10,  10719,2,19940128,0358,  9.9528, 136.9362, 5040,     51.3,  27.4571,  34.1274,2,  34.1156,3,   -999.0,9,    199.0,2,     0.00,2,     0.30,2,     0.12,2,   -999, 27.4452
    49RY9401_1,  PR02,    26,  2,      9,  10721,2,19940128,0358,  9.9528, 136.9362, 5040,     76.7,  24.2063,  35.0338,2,-999.0000,9,   -999.0,9,    200.0,2,     0.00,2,     0.30,2,     0.13,2,   -999, 24.1901
    49RY9401_1,  PR02,    26,  2,      8,  10718,2,19940128,0358,  9.9528, 136.9362, 5040,    102.8,  21.1273,  35.0134,2,  35.0279,3,   -999.0,9,    177.0,2,     0.01,2,     2.30,2,     0.36,2,   -999, 21.1076
    49RY9401_1,  PR02,    26,  2,      7,  10371,2,19940128,0358,  9.9528, 136.9362, 5040,    127.7,  18.7164,  34.8607,2,  34.8747,3,   -999.0,9,    171.0,2,     0.02,2,     5.10,2,     0.40,2,   -999, 18.6939
    49RY9401_1,  PR02,    26,  2,      6,  10717,2,19940128,0358,  9.9528, 136.9362, 5040,    152.2,  15.1823,  34.5745,2,  34.6168,3,   -999.0,9,    143.0,2,     0.01,2,    12.70,2,     0.88,2,   -999, 15.1592
    49RY9401_1,  PR02,    26,  2,      5,  10382,2,19940128,0358,  9.9528, 136.9362, 5040,    177.5,  13.3772,  34.4870,2,-999.0000,9,   -999.0,9,    137.0,2,     0.00,2,    15.60,2,     1.14,2,   -999, 13.3524
    49RY9401_1,  PR02,    26,  2,      4,  10730,2,19940128,0358,  9.9528, 136.9362, 5040,    202.4,  11.5259,  34.4164,2,  34.4245,2,   -999.0,9,    119.0,2,     0.00,2,    20.50,2,     1.51,2,   -999, 11.5003
    49RY9401_1,  PR02,    26,  2,      3,  10722,2,19940128,0358,  9.9528, 136.9362, 5040,    253.0,  10.2769,  34.4641,2,  34.4657,2,   -999.0,9,     89.0,2,     0.00,2,    26.30,2,     1.91,2,   -999, 10.2471
    49RY9401_1,  PR02,    26,  2,      2,  10715,2,19940128,0358,  9.9528, 136.9362, 5040,    302.1,   9.3521,  34.4647,2,  34.4691,2,   -999.0,9,     81.0,2,     0.00,2,    28.80,2,     2.12,2,   -999,  9.3185
    49RY9401_1,  PR02,    26,  2,      1,  10716,2,19940128,0358,  9.9528, 136.9362, 5040,    402.8,   7.9268,  34.4897,2,  34.4860,2,   -999.0,9,     74.0,2,     0.00,2,    32.40,2,     2.37,2,   -999,  7.8860
    49RY9401_1,  PR02,    27,  1,      8,  10718,2,19940128,1006,  8.9822, 136.9608, 3345,    402.9,   7.8893,  34.5277,2,-999.0000,9,   -999.0,9,     73.0,2,     0.00,2,    33.60,2,     2.34,2,   -999,  7.8486
    49RY9401_1,  PR02,    27,  1,      7,  10371,2,19940128,1006,  8.9822, 136.9608, 3345,    504.0,   7.1814,  34.5155,2,-999.0000,9,   -999.0,9,     83.0,2,     0.00,2,    33.90,2,     2.38,2,   -999,  7.1329
    49RY9401_1,  PR02,    27,  1,      6,  10717,2,19940128,1006,  8.9822, 136.9608, 3345,    606.1,   6.6388,  34.5078,2,-999.0000,9,   -999.0,9,   -999.0,5,     0.00,2,    34.30,2,     2.45,2,   -999,  6.5825
    49RY9401_1,  PR02,    27,  1,      5,  10382,2,19940128,1006,  8.9822, 136.9608, 3345,    706.5,   6.0876,  34.5182,2,-999.0000,9,   -999.0,9,     84.0,2,     0.01,2,    35.60,2,     2.53,2,   -999,  6.0244
    49RY9401_1,  PR02,    27,  1,      4,  10730,2,19940128,1006,  8.9822, 136.9608, 3345,    806.5,   5.5020,  34.5256,2,-999.0000,9,   -999.0,9,     86.0,2,     0.00,2,    37.20,2,     2.60,2,   -999,  5.4329
    49RY9401_1,  PR02,    27,  1,      3,  10722,2,19940128,1006,  8.9822, 136.9608, 3345,    906.2,   4.8857,  34.5405,2,-999.0000,9,   -999.0,9,     86.0,2,     0.00,2,    37.80,2,     2.65,2,   -999,  4.8115
    49RY9401_1,  PR02,    27,  1,      2,  10715,2,19940128,1006,  8.9822, 136.9608, 3345,   1007.2,   4.4969,  34.5489,2,-999.0000,9,   -999.0,9,     88.0,2,     0.00,2,    38.10,2,     2.67,2,   -999,  4.4167
    49RY9401_1,  PR02,    27,  1,      1,  10716,2,19940128,1006,  8.9822, 136.9608, 3345,   1262.0,   3.4451,  34.5795,2,-999.0000,9,   -999.0,9,     96.0,2,     0.00,2,    38.40,2,     2.71,2,   -999,  3.3524
    49RY9401_1,  PR02,    27,  2,     12,  10720,2,19940128,1053,  8.9737, 136.9442, 3690,      2.8,  27.8985,  33.9153,2,-999.0000,9,   -999.0,9,    199.0,2,     0.00,2,     0.00,2,     0.08,2,   -999, 27.8979
    49RY9401_1,  PR02,    27,  2,     11,  10727,2,19940128,1053,  8.9737, 136.9442, 3690,     11.0,  27.9052,  33.9130,2,-999.0000,9,   -999.0,9,    200.0,2,     0.00,2,     0.00,2,     0.07,2,   -999, 27.9027
    49RY9401_1,  PR02,    27,  2,     10,  10719,2,19940128,1053,  8.9737, 136.9442, 3690,     25.9,  27.7826,  33.9276,2,-999.0000,9,   -999.0,9,    202.0,2,     0.00,2,     0.00,2,     0.07,2,   -999, 27.7766
    49RY9401_1,  PR02,    27,  2,      9,  10721,2,19940128,1053,  8.9737, 136.9442, 3690,     51.6,  27.6801,  33.9424,2,-999.0000,9,   -999.0,9,    201.0,2,     0.08,2,     1.30,2,     0.19,2,   -999, 27.6681
    49RY9401_1,  PR02,    27,  2,      8,  10718,2,19940128,1053,  8.9737, 136.9442, 3690,     75.3,  24.4731,  34.9526,2,-999.0000,9,   -999.0,9,    203.0,2,     0.01,2,     0.00,2,     0.12,2,   -999, 24.4571
    49RY9401_1,  PR02,    27,  2,      7,  10371,2,19940128,1053,  8.9737, 136.9442, 3690,    102.2,  20.9729,  34.9234,2,-999.0000,9,   -999.0,9,    185.0,2,     0.00,2,     0.00,2,     0.09,2,   -999, 20.9534
    49RY9401_1,  PR02,    27,  2,      6,  10717,2,19940128,1053,  8.9737, 136.9442, 3690,    128.2,  17.5609,  34.8030,2,-999.0000,9,   -999.0,9,    171.0,2,     0.07,2,     6.10,2,     0.41,2,   -999, 17.5393
    49RY9401_1,  PR02,    27,  2,      5,  10382,2,19940128,1053,  8.9737, 136.9442, 3690,    151.3,  14.3630,  34.5468,2,-999.0000,9,   -999.0,9,    133.0,2,     0.01,2,    14.80,2,     1.02,2,   -999, 14.3409
    49RY9401_1,  PR02,    27,  2,      4,  10730,2,19940128,1053,  8.9737, 136.9442, 3690,    177.5,  12.3464,  34.4961,2,-999.0000,9,   -999.0,9,    120.0,2,     0.01,2,    19.10,2,     1.39,2,   -999, 12.3229
    49RY9401_1,  PR02,    27,  2,      3,  10722,2,19940128,1053,  8.9737, 136.9442, 3690,    201.5,  11.6461,  34.4635,2,-999.0000,9,   -999.0,9,    111.0,2,     0.01,2,    21.20,2,     1.56,2,   -999, 11.6204
    49RY9401_1,  PR02,    27,  2,      2,  10715,2,19940128,1053,  8.9737, 136.9442, 3690,    252.2,  10.0082,  34.5045,2,-999.0000,9,   -999.0,9,     84.0,2,     0.01,2,    27.40,2,     1.98,2,   -999,  9.9790
    49RY9401_1,  PR02,    27,  2,      1,  10716,2,19940128,1053,  8.9737, 136.9442, 3690,    301.7,   9.2918,  34.5156,2,-999.0000,9,   -999.0,9,     74.0,2,     0.01,2,    30.10,2,     2.14,2,   -999,  9.2584
    49RY9401_1,  PR02,    28,  1,      8,  10718,2,19940128,1645,  8.0060, 136.9865, 3300,    404.2,   7.6857,  34.5257,2,-999.0000,9,   -999.0,9,     73.0,2,     0.00,2,    33.40,2,     2.40,2,   -999,  7.6455
    49RY9401_1,  PR02,    28,  1,      7,  10371,2,19940128,1645,  8.0060, 136.9865, 3300,    506.1,   7.1970,  34.5219,2,-999.0000,9,   -999.0,9,     78.0,2,     0.00,2,    33.90,2,     2.45,2,   -999,  7.1481
    49RY9401_1,  PR02,    28,  1,      6,  10717,2,19940128,1645,  8.0060, 136.9865, 3300,    605.1,   6.6015,  34.5177,2,-999.0000,9,   -999.0,9,     81.0,2,     0.00,2,    34.60,2,     2.50,2,   -999,  6.5454
    49RY9401_1,  PR02,    28,  1,      5,  10382,2,19940128,1645,  8.0060, 136.9865, 3300,    705.3,   5.9172,  34.5192,2,-999.0000,9,   -999.0,9,     83.0,2,     0.00,2,    35.60,2,     2.56,2,   -999,  5.8550
    49RY9401_1,  PR02,    28,  1,      4,  10730,2,19940128,1645,  8.0060, 136.9865, 3300,    806.4,   5.6923,  34.5253,2,-999.0000,9,   -999.0,9,     83.0,2,     0.00,2,    36.00,2,     2.60,2,   -999,  5.6220
    49RY9401_1,  PR02,    28,  1,      3,  10722,2,19940128,1645,  8.0060, 136.9865, 3300,    908.3,   5.1299,  34.5347,2,-999.0000,9,   -999.0,9,     85.0,2,     0.00,2,    36.80,2,     2.64,2,   -999,  5.0538
    49RY9401_1,  PR02,    28,  1,      2,  10715,2,19940128,1645,  8.0060, 136.9865, 3300,   1009.3,   4.4978,  34.5483,2,-999.0000,9,   -999.0,9,     88.0,2,     0.00,2,    37.40,2,     2.69,2,   -999,  4.4174
    49RY9401_1,  PR02,    28,  1,      1,  10716,2,19940128,1645,  8.0060, 136.9865, 3300,   1260.6,   3.4279,  34.5790,2,-999.0000,9,   -999.0,9,     97.0,2,     0.00,2,    37.80,2,     2.69,2,   -999,  3.3354
    49RY9401_1,  PR02,    28,  2,     12,  10720,2,19940128,1738,  7.9953, 136.9707, 3205,      3.2,  27.8768,  34.1412,2,-999.0000,9,   -999.0,9,    200.0,2,     0.00,2,     0.00,2,     0.08,2,   -999, 27.8761
    49RY9401_1,  PR02,    28,  2,     11,  10727,2,19940128,1738,  7.9953, 136.9707, 3205,     11.0,  27.8776,  34.1398,2,-999.0000,9,   -999.0,9,    199.0,2,     0.00,2,     0.10,2,     0.07,2,   -999, 27.8750
    49RY9401_1,  PR02,    28,  2,     10,  10719,2,19940128,1738,  7.9953, 136.9707, 3205,     25.8,  27.8862,  34.1402,2,-999.0000,9,   -999.0,9,    201.0,2,     0.00,2,     0.00,2,     0.07,2,   -999, 27.8801
    49RY9401_1,  PR02,    28,  2,      9,  10721,2,19940128,1738,  7.9953, 136.9707, 3205,     51.0,  27.3586,  34.3079,2,-999.0000,9,   -999.0,9,    199.0,2,     0.00,2,     0.00,2,     0.07,2,   -999, 27.3468
    49RY9401_1,  PR02,    28,  2,      8,  10718,2,19940128,1738,  7.9953, 136.9707, 3205,     76.8,  21.7978,  34.7553,2,-999.0000,9,   -999.0,9,    179.0,2,     0.12,2,     2.20,2,     0.28,2,   -999, 21.7827
    49RY9401_1,  PR02,    28,  2,      7,  10371,2,19940128,1738,  7.9953, 136.9707, 3205,    101.9,  18.3247,  34.8472,2,-999.0000,9,   -999.0,9,    171.0,2,     0.15,2,     5.20,2,     0.43,2,   -999, 18.3070
    49RY9401_1,  PR02,    28,  2,      6,  10717,2,19940128,1738,  7.9953, 136.9707, 3205,    127.0,  15.8490,  34.6584,2,-999.0000,9,   -999.0,9,    150.0,2,     0.03,2,    10.90,2,     0.81,2,   -999, 15.8291
    49RY9401_1,  PR02,    28,  2,      5,  10382,2,19940128,1738,  7.9953, 136.9707, 3205,    152.8,  14.0391,  34.5694,2,-999.0000,9,   -999.0,9,    130.0,2,     0.02,2,    15.50,2,     1.15,2,   -999, 14.0170
    49RY9401_1,  PR02,    28,  2,      4,  10730,2,19940128,1738,  7.9953, 136.9707, 3205,    177.5,  12.1785,  34.4300,2,-999.0000,9,   -999.0,9,    116.0,2,     0.01,2,    19.70,2,     1.46,2,   -999, 12.1553
    49RY9401_1,  PR02,    28,  2,      3,  10722,2,19940128,1738,  7.9953, 136.9707, 3205,    202.6,  11.2068,  34.4845,2,-999.0000,9,   -999.0,9,    104.0,2,     0.01,2,    22.60,2,     1.70,2,   -999, 11.1817
    49RY9401_1,  PR02,    28,  2,      2,  10715,2,19940128,1738,  7.9953, 136.9707, 3205,    251.8,   9.3597,  34.5059,2,-999.0000,9,   -999.0,9,     77.0,2,     0.01,2,    29.20,2,     2.12,2,   -999,  9.3317
    49RY9401_1,  PR02,    28,  2,      1,  10716,2,19940128,1738,  7.9953, 136.9707, 3205,    303.8,   8.4835,  34.5339,2,-999.0000,9,   -999.0,9,     72.0,2,     0.00,2,    31.80,2,     2.30,2,   -999,  8.4516
    49RY9401_1,  PR02,    29,  1,      8,  10718,2,19940128,2344,  7.0072, 136.9912, 4225,    404.2,   8.1722,  34.5861,2,  34.5879,2,   -999.0,9,     68.0,2,     0.00,2,    33.80,2,     2.40,2,   -999,  8.1305
    49RY9401_1,  PR02,    29,  1,      7,  10371,3,19940128,2344,  7.0072, 136.9912, 4225,    504.3,   7.5105,  34.5612,2,  34.5596,2,   -999.0,9,     79.0,2,     0.00,2,    34.30,2,     2.43,2,   -999,  7.4606
    49RY9401_1,  PR02,    29,  1,      6,  10717,2,19940128,2344,  7.0072, 136.9912, 4225,    606.1,   6.6441,  34.5301,2,  34.5319,2,   -999.0,9,     78.0,2,     0.00,2,    35.70,2,     2.54,2,   -999,  6.5877
    49RY9401_1,  PR02,    29,  1,      5,  10382,2,19940128,2344,  7.0072, 136.9912, 4225,    705.2,   6.1578,  34.5265,2,  34.5292,2,   -999.0,9,     79.0,2,     0.00,2,    36.50,2,     2.57,2,   -999,  6.0943
    49RY9401_1,  PR02,    29,  1,      4,  10730,2,19940128,2344,  7.0072, 136.9912, 4225,    807.6,   5.6534,  34.5285,2,  34.5301,2,   -999.0,9,     83.0,2,     0.00,2,    36.90,2,     2.60,2,   -999,  5.5832
    49RY9401_1,  PR02,    29,  1,      3,  10722,2,19940128,2344,  7.0072, 136.9912, 4225,    906.0,   5.1116,  34.5364,2,  34.5368,2,   -999.0,9,     82.0,2,     0.00,2,    37.80,2,     2.66,2,   -999,  5.0359
    49RY9401_1,  PR02,    29,  1,      2,  10715,3,19940128,2344,  7.0072, 136.9912, 4225,   1008.5,   4.4006,  34.5505,2,  34.5525,2,   -999.0,9,     88.0,2,     0.00,2,    38.10,2,     2.67,2,   -999,  4.3211
    49RY9401_1,  PR02,    29,  1,      1,  10716,2,19940128,2344,  7.0072, 136.9912, 4225,   1260.6,   3.4908,  34.5772,2,  34.5765,2,   -999.0,9,   -999.0,5,     0.00,2,    38.40,2,     2.71,2,   -999,  3.3977
    49RY9401_1,  PR02,    29,  2,     12,  10720,2,19940129,0055,  7.0040, 136.9717, 4255,      2.6,  28.2399,  34.0957,2,-999.0000,9,   -999.0,9,    197.0,2,     0.00,2,     0.00,2,     0.07,2,   -999, 28.2392
    49RY9401_1,  PR02,    29,  2,     11,  10727,2,19940129,0055,  7.0040, 136.9717, 4255,     11.1,  28.1624,  34.0968,2,  34.1036,2,   -999.0,9,    200.0,2,     0.00,2,     0.00,2,     0.08,2,   -999, 28.1598
    49RY9401_1,  PR02,    29,  2,     10,  10719,2,19940129,0055,  7.0040, 136.9717, 4255,     24.4,  28.1354,  34.0981,2,  34.1052,2,   -999.0,9,    197.0,2,     0.00,2,     0.00,2,     0.07,2,   -999, 28.1296
    49RY9401_1,  PR02,    29,  2,      9,  10721,2,19940129,0055,  7.0040, 136.9717, 4255,     51.3,  23.0648,  34.7392,2,  34.7514,2,   -999.0,9,    191.0,2,     0.00,2,     0.00,2,     0.18,2,   -999, 23.0543
    49RY9401_1,  PR02,    29,  2,      8,  10718,2,19940129,0055,  7.0040, 136.9717, 4255,     77.2,  17.7705,  34.7034,2,  34.6991,2,   -999.0,9,    138.0,2,     0.15,2,    10.60,2,     0.76,2,   -999, 17.7574
    49RY9401_1,  PR02,    29,  2,      7,  10371,2,19940129,0055,  7.0040, 136.9717, 4255,    102.9,  15.0660,  34.6246,2,-999.0000,9,   -999.0,9,    130.0,2,     0.04,2,    14.40,2,     1.07,2,   -999, 15.0505
    49RY9401_1,  PR02,    29,  2,      6,  10717,2,19940129,0055,  7.0040, 136.9717, 4255,    127.6,  13.2168,  34.5206,2,-999.0000,9,   -999.0,9,    117.0,2,     0.01,2,    18.80,2,     1.39,2,   -999, 13.1991
    49RY9401_1,  PR02,    29,  2,      5,  10382,2,19940129,0055,  7.0040, 136.9717, 4255,    151.7,  12.0324,  34.5315,2,-999.0000,9,   -999.0,9,    104.0,2,     0.01,2,    22.00,2,     1.63,2,   -999, 12.0127
    49RY9401_1,  PR02,    29,  2,      4,  10730,2,19940129,0055,  7.0040, 136.9717, 4255,    176.8,  11.0305,  34.5262,2,-999.0000,9,   -999.0,9,     94.0,2,     0.01,2,    24.80,2,     1.82,2,   -999, 11.0088
    49RY9401_1,  PR02,    29,  2,      3,  10722,2,19940129,0055,  7.0040, 136.9717, 4255,    203.0,  10.0971,  34.5455,2,  34.5549,3,   -999.0,9,     76.0,2,     0.01,2,    28.60,2,     2.06,2,   -999, 10.0735
    49RY9401_1,  PR02,    29,  2,      2,  10715,3,19940129,0055,  7.0040, 136.9717, 4255,    251.0,   9.5174,  34.5752,2,-999.0000,9,   -999.0,9,     63.0,2,     0.00,2,    31.50,2,     2.26,2,   -999,  9.4892
    49RY9401_1,  PR02,    29,  2,      1,  10716,2,19940129,0055,  7.0040, 136.9717, 4255,    301.9,   8.8646,  34.5859,2,  34.5934,3,   -999.0,9,     65.0,2,     0.01,2,    32.70,2,     2.33,2,   -999,  8.8321
    49RY9401_1,  PR02,    30,  1,     10,  10719,9,19940129,0715,  5.9953, 136.9895, 4185,    301.3,   8.9627,  34.5732,2,-999.0000,9,   -999.0,9,   -999.0,9,  -999.00,9,  -999.00,9,  -999.00,9,   -999,  8.9301
    49RY9401_1,  PR02,    30,  1,     11,  10727,9,19940129,0715,  5.9953, 136.9895, 4185,    302.3,   8.9384,  34.5720,2,-999.0000,9,   -999.0,9,   -999.0,9,  -999.00,9,  -999.00,9,  -999.00,9,   -999,  8.9057
    49RY9401_1,  PR02,    30,  1,      8,  10718,2,19940129,0715,  5.9953, 136.9895, 4185,    402.5,   8.1452,  34.5850,2,-999.0000,9,   -999.0,9,     63.0,2,     0.00,2,    34.10,2,     2.45,2,   -999,  8.1037
    49RY9401_1,  PR02,    30,  1,      9,  10721,9,19940129,0715,  5.9953, 136.9895, 4185,    403.1,   8.1392,  34.5853,2,-999.0000,9,   -999.0,9,   -999.0,9,  -999.00,9,  -999.00,9,  -999.00,9,   -999,  8.0976
    49RY9401_1,  PR02,    30,  1,      7,  10371,2,19940129,0715,  5.9953, 136.9895, 4185,    503.5,   7.3605,  34.5550,2,-999.0000,9,   -999.0,9,     73.0,2,     0.00,2,    34.70,2,     2.55,2,   -999,  7.3113
    49RY9401_1,  PR02,    30,  1,      6,  10717,2,19940129,0715,  5.9953, 136.9895, 4185,    604.6,   6.7022,  34.5338,2,-999.0000,9,   -999.0,9,     93.0,2,     0.00,2,    34.00,2,     2.48,2,   -999,  6.6457
    49RY9401_1,  PR02,    30,  1,      5,  10382,2,19940129,0715,  5.9953, 136.9895, 4185,    705.3,   6.1140,  34.5212,2,-999.0000,9,   -999.0,9,     91.0,2,     0.00,2,    35.30,2,     2.51,2,   -999,  6.0507
    49RY9401_1,  PR02,    30,  1,      4,  10730,2,19940129,0715,  5.9953, 136.9895, 4185,    806.4,   5.7519,  34.5189,2,-999.0000,9,   -999.0,9,     93.0,2,     0.00,2,    35.90,2,     2.57,2,   -999,  5.6812
    49RY9401_1,  PR02,    30,  1,      3,  10722,2,19940129,0715,  5.9953, 136.9895, 4185,    906.9,   5.2414,  34.5264,2,-999.0000,9,   -999.0,9,     86.0,2,     0.00,2,    37.00,2,     2.64,2,   -999,  5.1648
    49RY9401_1,  PR02,    30,  1,      2,  10715,2,19940129,0715,  5.9953, 136.9895, 4185,   1008.6,   4.6481,  34.5377,2,-999.0000,9,   -999.0,9,     89.0,2,     0.00,2,    37.50,2,     2.68,2,   -999,  4.5666
    49RY9401_1,  PR02,    30,  1,      1,  10716,2,19940129,0715,  5.9953, 136.9895, 4185,   1261.9,   3.4965,  34.5743,2,-999.0000,9,   -999.0,9,    100.0,2,     0.00,2,    38.00,2,     2.70,2,   -999,  3.4032