BOTTLE,20131027SIOCCHRJL
EXPOCODE,SECT_ID,STNNBR,CASTNO,SAMPNO,BTLNBR,BTLNBR_FLAG_W,DATE,TIME,LATITUDE,LONGITUDE,DEPTH,CTDPRS,CTDTMP,CTDSAL,CTDSAL_FLAG_W,SALNTY,SALNTY_FLAG_W,CTDOXY,CTDOXY_FLAG_W,OXYGEN,OXYGEN_FLAG_W,SILCAT,SILCAT_FLAG_W,NITRAT,NITRAT_FLAG_W,NITRIT,NITRIT_FLAG_W,PHSPHT,PHSPHT_FLAG_W,CFC-11,CFC-11_FLAG_W,CFC-12,CFC-12_FLAG_W,CFC113,CFC113_FLAG_W,TCARBN,TCARBN_FLAG_W,ALKALI,ALKALI_FLAG_W,TRITUM,TRITUM_FLAG_W,HELIUM,HELIUM_FLAG_W,DELHE3,DELHE3_FLAG_W,DELC13,DELC13_FLAG_W,DELC14,DELC14_FLAG_W,C14ERR,NEON,NEON_FLAG_W,NEONER,DOC,DOC_FLAG_W,CTDRAW,CDOM380,CDOM380_FLAG_W,CDOM325,CDOM325_FLAG_W,CDOMSL,CDOMSL_FLAG_W,CDOM340,CDOM340_FLAG_W,CDOMSN,CDOMSN_FLAG_W,HELIER,TRITER,CDOM412,CDOM412_FLAG_W,DELHER
,,,,,,,,,,,METERS,DBAR,ITS-90,PSS-78,,PSS-78,,UMOL/KG,,UMOL/KG,,UMOL/KG,,UMOL/KG,,UMOL/KG,,UMOL/KG,,PMOL/KG,,PMOL/KG,,PMOL/KG,,UMOL/KG,,UMOL/KG,,TU,,NMOL/KG,,PERCNT,,/MILLE,,/MILLE,,/MILLE,NMOL/KG,,NMOL/KG,UMOL/KG,,DBAR,1/M,,1/M,,1/NM,,1/M,,1/NM,,NMOL/KG,TU,1/M,,PERCNT
318M20040615,        P02,      42,          1,         36,         36,2,20040630,       2229,       30.0,   150.9042,       5940,    21.6,  27.1485,  34.9807,2,-999.0000,9, 208.7000,5,   203.8,2,    1.74,2,    0.16,2,    0.00,2,    0.02,2,   1.737,2,   1.129,2,   0.124,2,  1982.9,6,  2295.9,6,   0.789,2,   1.6844,2,   -1.12,2, -999.00,9,  -999.0,9,  -999.0,-999.000,9,-999.000,   69.00,2,   21.60,-999.0000,9,-999.0000,9,-999.0000,9,-999.0000,9,-999.0000,9,   0.0084,   0.005,-999.0000,9,    0.20
318M20040615,        P02,      42,          1,         35,         35,2,20040630,       2229,       30.0,   150.9042,       5940,    46.5,  20.8248,  34.8230,2,  34.8187,2, 242.2000,2,   243.3,2,    1.55,2,    0.10,2,    0.00,2,    0.04,2,   2.363,2,   1.463,2,   0.154,2,  1982.5,2,  2283.3,2,-999.000,9,-999.0000,9, -999.00,9, -999.00,9,  -999.0,9,  -999.0,-999.000,9,-999.000,   65.80,2,   46.50,-999.0000,9,-999.0000,9,-999.0000,9,-999.0000,9,-999.0000,9,-999.0000,-999.000,-999.0000,9, -999.00
318M20040615,        P02,      42,          1,         34,         34,2,20040630,       2229,       30.0,   150.9042,       5940,    86.9,  18.5774,  34.8660,2,  34.8632,2, 235.1000,2,   235.0,2,    1.73,2,    0.10,2,    0.00,2,    0.06,2,   2.430,2,   1.492,2,   0.145,2,  1999.7,2,  2288.8,6,   0.780,2,   1.7769,2,   -1.24,2, -999.00,9,  -999.0,9,  -999.0,-999.000,9,-999.000,   59.60,2,   86.90,-999.0000,9,-999.0000,9,-999.0000,9,-999.0000,9,-999.0000,9,   0.0089,   0.005,-999.0000,9,    0.20
318M20040615,        P02,      42,          1,         33,         33,2,20040630,       2229,       30.0,   150.9042,       5940,   143.3,  17.4388,  34.7924,2,  34.7902,2, 217.2000,2,   216.0,2,    2.98,2,    3.27,2,    0.05,2,    0.25,2,-999.000,5,-999.000,5,-999.000,5,  2021.8,2,  2281.8,2,   0.787,2,   1.7741,2,   -1.28,2, -999.00,9,  -999.0,9,  -999.0,-999.000,9,-999.000,   55.20,2,  143.30,-999.0000,9,-999.0000,9,-999.0000,9,-999.0000,9,-999.0000,9,   0.0089,   0.005,-999.0000,9,    0.20
318M20040615,        P02,      42,          1,         32,         32,2,20040630,       2229,       30.0,   150.9042,       5940,   192.3,  17.0980,  34.7729,2,  34.7721,2, 214.8000,2,   216.5,2,    3.52,2,    3.98,2,    0.01,2,    0.29,2,   2.508,2,   1.549,2,   0.093,2,  2024.2,2,  2280.8,2,-999.000,9,-999.0000,9, -999.00,9, -999.00,9,  -999.0,9,  -999.0,-999.000,9,-999.000,   54.50,2,  192.30,-999.0000,9,-999.0000,9,-999.0000,9,-999.0000,9,-999.0000,9,-999.0000,-999.000,-999.0000,9, -999.00
318M20040615,        P02,      42,          1,         31,         31,2,20040630,       2229,       30.0,   150.9042,       5940,   242.0,  16.7949,  34.7590,2,  34.7570,2, 213.6000,2,   215.5,2,    4.23,2,    4.56,2,    0.01,2,    0.33,2,   2.523,2,   1.532,2,   0.082,2,  2028.2,2,  2280.5,2,   0.811,2,   1.7720,2,   -0.74,2, -999.00,9,  -999.0,9,  -999.0,-999.000,9,-999.000,   52.80,2,  242.00,-999.0000,9,-999.0000,9,-999.0000,9,-999.0000,9,-999.0000,9,   0.0089,   0.006,-999.0000,9,    0.20
318M20040615,        P02,      42,          1,         30,         30,2,20040630,       2229,       30.0,   150.9042,       5940,   292.8,  16.5074,  34.7341,2,  34.7334,2, 211.3000,2,   212.7,2,    4.76,2,    5.30,2,    0.01,2,    0.38,2,   2.545,2,   1.546,2,   0.069,2,  2033.1,2,  2279.9,2,   0.763,2,   1.7734,2,   -0.47,2, -999.00,9,  -999.0,9,  -999.0,-999.000,9,-999.000,   52.20,2,  292.80,-999.0000,9,-999.0000,9,-999.0000,9,-999.0000,9,-999.0000,9,   0.0089,   0.006,-999.0000,9,    0.20
318M20040615,        P02,      42,          1,         29,         29,2,20040630,       2229,       30.0,   150.9042,       5940,   342.0,  15.7374,  34.6477,2,  34.6483,2, 201.4000,2,   201.8,2,    6.92,2,    7.34,2,    0.01,2,    0.52,2,   2.630,2,   1.553,2,   0.036,2,  2049.4,2,  2277.4,2,-999.000,9,-999.0000,9, -999.00,9, -999.00,9,  -999.0,9,  -999.0,-999.000,9,-999.000,   50.50,2,  342.00,-999.0000,9,-999.0000,9,-999.0000,9,-999.0000,9,-999.0000,9,-999.0000,-999.000,-999.0000,9, -999.00
318M20040615,        P02,      42,          1,         28,         28,2,20040630,       2229,       30.0,   150.9042,       5940,   393.0,  14.9883,  34.5875,2,  34.5866,2, 196.7000,2,   197.8,2,    8.89,2,    8.88,2,    0.00,2,    0.63,2,   2.701,2,   1.559,2,   0.031,2,  2060.8,2,  2274.9,2,   0.817,2,   1.7805,2,    1.72,2, -999.00,9,  -999.0,9,  -999.0,-999.000,9,-999.000,   48.90,2,  393.00,-999.0000,9,-999.0000,9,-999.0000,9,-999.0000,9,-999.0000,9,   0.0089,   0.007,-999.0000,9,    0.20
318M20040615,        P02,      42,          1,         27,         27,2,20040630,       2229,       30.0,   150.9042,       5940,   443.3,  13.7717,  34.5095,2,  34.5088,2, 190.2000,2,   188.8,2,   13.56,2,   11.82,2,    0.00,2,    0.82,2,   2.662,2,   1.519,2,   0.035,2,  2081.0,2,  2275.4,2,-999.000,9,-999.0000,9, -999.00,9, -999.00,9,  -999.0,9,  -999.0,-999.000,9,-999.000,   48.00,2,  443.30,-999.0000,9,-999.0000,9,-999.0000,9,-999.0000,9,-999.0000,9,-999.0000,-999.000,-999.0000,9, -999.00
318M20040615,        P02,      42,          1,         26,         26,2,20040630,       2229,       30.0,   150.9042,       5940,   492.6,  12.4829,  34.4173,2,  34.4179,2, 187.6000,2,   186.6,2,   17.86,2,   14.15,2,    0.00,2,    0.99,2,   2.667,2,   1.495,2,   0.054,2,  2098.6,2,  2272.7,2,   0.852,2,   1.8060,2,    4.53,2, -999.00,9,  -999.0,9,  -999.0,-999.000,9,-999.000,   47.00,2,  492.60,-999.0000,9,-999.0000,9,-999.0000,9,-999.0000,9,-999.0000,9,   0.0090,   0.006,-999.0000,9,    0.20
318M20040615,        P02,      42,          1,         25,         25,2,20040630,       2229,       30.0,   150.9042,       5940,   577.9,   9.9187,  34.2174,2,  34.2202,2, 183.0000,2,   182.8,2,   27.56,2,   18.55,2,    0.00,2,    1.33,2,   2.683,2,   1.463,2,   0.087,2,  2131.2,2,  2273.1,2,   0.787,2,   1.8187,2,    6.64,2, -999.00,9,  -999.0,9,  -999.0,-999.000,9,-999.000,   45.70,2,  577.90,-999.0000,9,-999.0000,9,-999.0000,9,-999.0000,9,-999.0000,9,   0.0091,   0.006,-999.0000,9,    0.20
318M20040615,        P02,      42,          1,         24,         24,2,20040630,       2229,       30.0,   150.9042,       5940,   678.5,   7.1139,  34.0320,2,  34.0316,2, 160.3000,2,   164.2,2,   46.38,2,   25.36,2,    0.00,2,    1.86,2,   2.574,2,   1.362,2,   0.109,2,  2182.9,2,  2281.1,2,   0.702,2,   1.8377,2,    9.57,2, -999.00,9,  -999.0,9,  -999.0,-999.000,9,-999.000,   45.10,2,  678.50,-999.0000,9,-999.0000,9,-999.0000,9,-999.0000,9,-999.0000,9,   0.0092,   0.006,-999.0000,9,    0.20
318M20040615,        P02,      42,          1,         23,         23,2,20040630,       2229,       30.0,   150.9042,       5940,   777.7,   5.7336,  34.0564,2,  34.0512,2, 117.7000,2,   115.2,2,   67.89,2,   32.45,2,    0.00,2,    2.36,2,-999.000,5,-999.000,5,-999.000,5,  2240.2,2,  2295.6,2,   0.543,2,   1.8721,2,   13.91,2, -999.00,9,  -999.0,9,  -999.0,-999.000,9,-999.000,   43.90,2,  777.70,-999.0000,9,-999.0000,9,-999.0000,9,-999.0000,9,-999.0000,9,   0.0094,   0.005,-999.0000,9,    0.20
318M20040615,        P02,      42,          1,         22,         22,2,20040630,       2229,       30.0,   150.9042,       5940,   880.0,   4.7304,  34.1325,2,  34.1307,2,  76.7000,2,    74.3,2,   90.32,2,   37.89,2,    0.00,2,    2.72,2,   0.966,2,   0.487,2,   0.027,2,  2288.6,2,  2317.8,2,-999.000,9,-999.0000,9, -999.00,9, -999.00,9,  -999.0,9,  -999.0,-999.000,9,-999.000,   43.00,2,  880.00,-999.0000,9,-999.0000,9,-999.0000,9,-999.0000,9,-999.0000,9,-999.0000,-999.000,-999.0000,9, -999.00
318M20040615,        P02,      42,          1,         21,         21,2,20040630,       2229,       30.0,   150.9042,       5940,   980.3,   4.1260,  34.2213,2,  34.2213,2,  54.4000,2,    52.2,2,  107.42,2,   40.63,2,    0.00,2,    2.91,2,   0.485,2,   0.250,2,   0.016,2,  2320.6,2,  2338.1,2,-999.000,9,-999.0000,9, -999.00,9, -999.00,9,  -999.0,9,  -999.0,-999.000,9,-999.000,   42.00,2,  980.30,-999.0000,9,-999.0000,9,-999.0000,9,-999.0000,9,-999.0000,9,-999.0000,-999.000,-999.0000,9, -999.00
318M20040615,        P02,      42,          1,         20,         20,2,20040630,       2229,       30.0,   150.9042,       5940,  1085.3,   3.6371,  34.3099,2,  34.3070,2,  41.7000,2,    39.6,2,  121.34,2,   42.22,2,    0.00,2,    3.02,2,   0.208,2,   0.108,2,   0.008,2,  2343.1,2,  2355.1,2,   0.126,2,   1.9159,2,   16.53,2, -999.00,9,  -999.0,9,  -999.0,-999.000,9,-999.000,   41.00,2, 1085.30,-999.0000,9,-999.0000,9,-999.0000,9,-999.0000,9,-999.0000,9,   0.0096,   0.002,-999.0000,9,    0.20
318M20040615,        P02,      42,          1,         19,         19,2,20040630,       2229,       30.0,   150.9042,       5940,  1183.7,   3.3456,  34.3638,2,  34.3622,2,  38.6000,2,    37.7,2,  130.23,2,   42.67,2,    0.00,2,    3.05,2,   0.125,2,   0.065,2,   0.006,2,  2356.5,6,  2365.9,2,-999.000,9,-999.0000,9, -999.00,9, -999.00,9,  -999.0,9,  -999.0,-999.000,9,-999.000,   39.90,2, 1183.70,-999.0000,9,-999.0000,9,-999.0000,9,-999.0000,9,-999.0000,9,-999.0000,-999.000,-999.0000,9, -999.00
318M20040615,        P02,      42,          1,         18,         18,2,20040630,       2229,       30.0,   150.9042,       5940,  1287.2,   3.0022,  34.4120,2,  34.4110,2,  37.2000,2,    37.5,2,  140.22,2,   42.95,2,    0.00,2,    3.07,2,   0.086,2,   0.046,2,  -0.001,2,  2366.0,2,  2376.6,6,   0.057,2,   1.9045,2,   17.50,2, -999.00,9,  -999.0,9,  -999.0,-999.000,9,-999.000,   39.50,2, 1287.20,-999.0000,9,-999.0000,9,-999.0000,9,-999.0000,9,-999.0000,9,   0.0095,   0.002,-999.0000,9,    0.20
318M20040615,        P02,      42,          1,         17,         17,2,20040630,       2229,       30.0,   150.9042,       5940,  1387.7,   2.7709,  34.4487,2,  34.4479,2,  39.0000,2,    38.6,2,  147.18,2,   43.06,2,    0.00,2,    3.08,2,   0.066,2,   0.033,2,   0.001,2,  2374.5,2,  2383.2,2,-999.000,9,-999.0000,9, -999.00,9, -999.00,9,  -999.0,9,  -999.0,-999.000,9,-999.000,   39.00,2, 1387.70,-999.0000,9,-999.0000,9,-999.0000,9,-999.0000,9,-999.0000,9,-999.0000,-999.000,-999.0000,9, -999.00
318M20040615,        P02,      42,          1,         16,         16,2,20040630,       2229,       30.0,   150.9042,       5940,  1488.5,   2.5886,  34.4800,2,  34.4787,2,  39.6000,2,    40.5,2,  152.30,2,   43.18,2,    0.00,2,    3.07,2,   0.037,2,   0.021,2,   0.003,2,  2379.3,2,  2392.4,2,   0.026,2,   1.9178,2,   18.56,2, -999.00,9,  -999.0,9,  -999.0,-999.000,9,-999.000,   38.80,2, 1488.50,-999.0000,9,-999.0000,9,-999.0000,9,-999.0000,9,-999.0000,9,   0.0096,   0.001,-999.0000,9,    0.20
318M20040615,        P02,      42,          1,         15,         15,2,20040630,       2229,       30.0,   150.9042,       5940,  1588.8,   2.4376,  34.5082,2,  34.5047,2,  43.1000,3,    43.7,2,  155.95,2,   43.00,2,    0.00,2,    3.06,2,   0.020,6,   0.012,6,   0.001,6,  2380.5,2,  2398.4,2,-999.000,9,-999.0000,9, -999.00,9, -999.00,9,  -999.0,9,  -999.0,-999.000,9,-999.000,   38.30,2, 1588.80,-999.0000,9,-999.0000,9,-999.0000,9,-999.0000,9,-999.0000,9,-999.0000,-999.000,-999.0000,9, -999.00
318M20040615,        P02,      42,          1,         14,         14,2,20040630,       2229,       30.0,   150.9042,       5940,  1792.2,   2.1879,  34.5551,2,  34.5518,2,  56.6000,3,    59.1,2,  159.80,2,   42.19,2,    0.00,2,    2.99,2,   0.010,2,   0.006,2,   0.001,2,  2378.2,2,  2404.9,6,   0.017,2,-999.0000,9, -999.00,9, -999.00,9,  -999.0,9,  -999.0,-999.000,9,-999.000,   38.30,2, 1792.20,-999.0000,9,-999.0000,9,-999.0000,9,-999.0000,9,-999.0000,9,-999.0000,   0.000,-999.0000,9, -999.00
318M20040615,        P02,      42,          1,         13,         13,2,20040630,       2229,       30.0,   150.9042,       5940,  1988.0,   1.9896,  34.5910,2,  34.5854,2,  72.1000,3,    74.1,2,  161.45,2,   41.51,2,    0.00,2,    2.91,2,   0.005,2,   0.005,2,   0.003,2,  2372.5,2,  2408.9,2,-999.000,9,-999.0000,9, -999.00,9, -999.00,9,  -999.0,9,  -999.0,-999.000,9,-999.000,   38.10,2, 1988.00,-999.0000,9,-999.0000,9,-999.0000,9,-999.0000,9,-999.0000,9,-999.0000,-999.000,-999.0000,9, -999.00
318M20040615,        P02,      42,          1,         12,         12,2,20040630,       2229,       30.0,   150.9042,       5940,  2196.6,   1.8461,  34.6158,2,  34.6139,2,  87.2000,2,    89.9,2,  160.72,2,   40.72,2,    0.00,2,    2.84,2,   0.002,2,   0.002,2,   0.004,2,  2363.0,2,  2413.0,2,   0.004,2,   1.9267,2,   19.08,2, -999.00,9,  -999.0,9,  -999.0,-999.000,9,-999.000,   38.00,2, 2196.60,-999.0000,9,-999.0000,9,-999.0000,9,-999.0000,9,-999.0000,9,   0.0096,   0.000,-999.0000,9,    0.20
318M20040615,        P02,      42,          1,         11,         11,2,20040630,       2229,       30.0,   150.9042,       5940,  2455.1,   1.7210,  34.6374,2,  34.6361,2, 105.8000,2,   107.0,2,  158.12,2,   39.46,2,    0.00,2,    2.76,2,   0.001,2,   0.002,2,   0.002,2,  2354.4,2,  2414.9,2,-999.000,9,-999.0000,9, -999.00,9, -999.00,9,  -999.0,9,  -999.0,-999.000,9,-999.000,   38.20,2, 2455.10,-999.0000,9,-999.0000,9,-999.0000,9,-999.0000,9,-999.0000,9,-999.0000,-999.000,-999.0000,9, -999.00
318M20040615,        P02,      42,          1,         10,         10,2,20040630,       2229,       30.0,   150.9042,       5940,  2707.7,   1.6417,  34.6512,2,  34.6490,2, 119.4000,2,   119.3,2,  155.90,2,   38.73,2,    0.00,2,    2.70,2,   0.004,2,   0.003,2,   0.003,2,  2346.3,2,  2415.2,2,   0.030,2,-999.0000,9, -999.00,9, -999.00,9,  -999.0,9,  -999.0,-999.000,9,-999.000,   37.30,2, 2707.70,-999.0000,9,-999.0000,9,-999.0000,9,-999.0000,9,-999.0000,9,-999.0000,   0.001,-999.0000,9, -999.00
318M20040615,        P02,      42,          1,          9,          9,2,20040630,       2229,       30.0,   150.9042,       5940,  2966.3,   1.5787,  34.6613,2,  34.6608,2, 127.9000,2,   127.8,2,  154.97,2,   38.05,2,    0.00,2,    2.64,2,   0.003,2,   0.003,2,   0.002,2,  2340.5,2,  2415.4,2,-999.000,9,-999.0000,9, -999.00,9, -999.00,9,  -999.0,9,  -999.0,-999.000,9,-999.000,   37.50,2, 2966.30,-999.0000,9,-999.0000,9,-999.0000,9,-999.0000,9,-999.0000,9,-999.0000,-999.000,-999.0000,9, -999.00
318M20040615,        P02,      42,          1,          8,          8,2,20040630,       2229,       30.0,   150.9042,       5940,  3301.6,   1.5288,  34.6706,2,  34.6681,2, 137.0000,3,   136.8,2,  152.78,2,   37.32,2,    0.00,2,    2.60,2,   0.003,2,   0.001,2,   0.000,2,  2340.9,4,  2415.7,2,-999.000,9,-999.0000,9, -999.00,9, -999.00,9,  -999.0,9,  -999.0,-999.000,9,-999.000,   37.50,2, 3301.60,-999.0000,9,-999.0000,9,-999.0000,9,-999.0000,9,-999.0000,9,-999.0000,-999.000,-999.0000,9, -999.00
318M20040615,        P02,      42,          1,          7,          7,2,20040630,       2229,       30.0,   150.9042,       5940,  3713.1,   1.4921,  34.6782,2,  34.6759,2, 144.8000,3,   145.9,2,  150.75,2,   36.76,2,    0.00,2,    2.55,2,   0.006,2,   0.000,2,   0.000,2,  2329.7,2,  2415.5,2,-999.000,9,-999.0000,9, -999.00,9, -999.00,9,  -999.0,9,  -999.0,-999.000,9,-999.000,   38.10,2, 3713.10,-999.0000,9,-999.0000,9,-999.0000,9,-999.0000,9,-999.0000,9,-999.0000,-999.000,-999.0000,9, -999.00
318M20040615,        P02,      42,          1,          6,          6,2,20040630,       2229,       30.0,   150.9042,       5940,  4121.2,   1.4799,  34.6837,2,  34.6804,2, 152.0000,3,   151.8,2,  148.94,2,   36.27,2,    0.00,2,    2.51,2,   0.002,2,   0.002,2,   0.002,2,  2325.6,2,  2414.6,2,-999.000,9,-999.0000,9, -999.00,9, -999.00,9,  -999.0,9,  -999.0,-999.000,9,-999.000,   38.20,2, 4121.20,-999.0000,9,-999.0000,9,-999.0000,9,-999.0000,9,-999.0000,9,-999.0000,-999.000,-999.0000,9, -999.00
318M20040615,        P02,      42,          1,          5,          5,2,20040630,       2229,       30.0,   150.9042,       5940,  4527.5,   1.4813,  34.6879,2,  34.6863,2, 157.2000,2,   157.6,2,  146.73,2,   35.87,2,    0.00,2,    2.48,2,   0.005,2,   0.007,2,   0.001,2,  2319.3,2,  2412.9,2,-999.000,9,-999.0000,9, -999.00,9, -999.00,9,  -999.0,9,  -999.0,-999.000,9,-999.000,   37.90,2, 4527.50,-999.0000,9,-999.0000,9,-999.0000,9,-999.0000,9,-999.0000,9,-999.0000,-999.000,-999.0000,9, -999.00
318M20040615,        P02,      42,          1,          4,          4,2,20040630,       2229,       30.0,   150.9042,       5940,  4939.4,   1.5010,  34.6906,2,  34.6954,2, 161.8000,3,   162.1,2,  143.78,2,   35.53,2,    0.00,2,    2.45,2,   0.008,2,   0.007,2,  -0.002,2,  2315.0,2,  2409.8,2,-999.000,9,-999.0000,9, -999.00,9, -999.00,9,  -999.0,9,  -999.0,-999.000,9,-999.000,   37.50,2, 4939.40,-999.0000,9,-999.0000,9,-999.0000,9,-999.0000,9,-999.0000,9,-999.0000,-999.000,-999.0000,9, -999.00
318M20040615,        P02,      42,          1,          3,          3,2,20040630,       2229,       30.0,   150.9042,       5940,  5354.0,   1.5278,  34.6930,2,  34.6909,2, 166.2000,2,   166.5,2,  140.48,2,   35.14,2,    0.00,2,    2.43,2,   0.003,2,   0.004,2,  -0.002,2,  2311.0,2,  2406.1,2,-999.000,9,-999.0000,9, -999.00,9, -999.00,9,  -999.0,9,  -999.0,-999.000,9,-999.000,   37.70,2, 5354.00,-999.0000,9,-999.0000,9,-999.0000,9,-999.0000,9,-999.0000,9,-999.0000,-999.000,-999.0000,9, -999.00
318M20040615,        P02,      42,          1,          2,          2,2,20040630,       2229,       30.0,   150.9042,       5940,  5821.5,   1.5714,  34.6945,2,  34.6934,2, 169.9000,2,   169.6,2,  137.56,2,   34.86,2,    0.00,2,    2.41,2,   0.005,2,   0.003,2,  -0.001,2,  2310.5,2,  2404.9,2,-999.000,9,-999.0000,9, -999.00,9, -999.00,9,  -999.0,9,  -999.0,-999.000,9,-999.000,   37.30,2, 5821.50,-999.0000,9,-999.0000,9,-999.0000,9,-999.0000,9,-999.0000,9,-999.0000,-999.000,-999.0000,9, -999.00
318M20040615,        P02,      42,          1,          1,          1,2,20040630,       2229,       30.0,   150.9042,       5940,  6087.9,   1.6010,  34.6952,2,  34.6954,2, 170.7000,2,   171.1,2,  136.82,2,   34.81,2,    0.00,2,    2.41,2,   0.008,2,   0.004,2,   0.001,2,  2306.5,2,  2404.2,6,-999.000,9,-999.0000,9, -999.00,9, -999.00,9,  -999.0,9,  -999.0,-999.000,9,-999.000,   37.80,2, 6087.90,-999.0000,9,-999.0000,9,-999.0000,9,-999.0000,9,-999.0000,9,-999.0000,-999.000,-999.0000,9, -999.00