BOTTLE,20131027SIOCCHRJL
EXPOCODE,SECT_ID,STNNBR,CASTNO,SAMPNO,BTLNBR,BTLNBR_FLAG_W,DATE,TIME,LATITUDE,LONGITUDE,DEPTH,CTDPRS,CTDTMP,CTDSAL,CTDSAL_FLAG_W,SALNTY,SALNTY_FLAG_W,CTDOXY,CTDOXY_FLAG_W,OXYGEN,OXYGEN_FLAG_W,SILCAT,SILCAT_FLAG_W,NITRAT,NITRAT_FLAG_W,NITRIT,NITRIT_FLAG_W,PHSPHT,PHSPHT_FLAG_W,CFC-11,CFC-11_FLAG_W,CFC-12,CFC-12_FLAG_W,CFC113,CFC113_FLAG_W,TCARBN,TCARBN_FLAG_W,ALKALI,ALKALI_FLAG_W,TRITUM,TRITUM_FLAG_W,HELIUM,HELIUM_FLAG_W,DELHE3,DELHE3_FLAG_W,DELC13,DELC13_FLAG_W,DELC14,DELC14_FLAG_W,C14ERR,NEON,NEON_FLAG_W,NEONER,DOC,DOC_FLAG_W,CTDRAW,CDOM380,CDOM380_FLAG_W,CDOM325,CDOM325_FLAG_W,CDOMSL,CDOMSL_FLAG_W,CDOM340,CDOM340_FLAG_W,CDOMSN,CDOMSN_FLAG_W,HELIER,TRITER,CDOM412,CDOM412_FLAG_W,DELHER
,,,,,,,,,,,METERS,DBAR,ITS-90,PSS-78,,PSS-78,,UMOL/KG,,UMOL/KG,,UMOL/KG,,UMOL/KG,,UMOL/KG,,UMOL/KG,,PMOL/KG,,PMOL/KG,,PMOL/KG,,UMOL/KG,,UMOL/KG,,TU,,NMOL/KG,,PERCNT,,/MILLE,,/MILLE,,/MILLE,NMOL/KG,,NMOL/KG,UMOL/KG,,DBAR,1/M,,1/M,,1/NM,,1/M,,1/NM,,NMOL/KG,TU,1/M,,PERCNT
318M20040615,        P02,     172,          1,         36,         36,2,20040823,       1104,    30.0012,  -123.7607,       4423,     5.6,  20.6528,  33.1957,2,  33.1948,2, 229.4000,2,   229.3,2,    1.47,2,    0.16,2,    0.00,2,    0.29,2,   2.312,2,   1.426,2,   0.172,2,  1986.9,6,  2224.7,6,-999.000,9,-999.0000,9, -999.00,9, -999.00,9,  -999.0,9,  -999.0,-999.000,9,-999.000, -999.00,9,    5.60,-999.0000,9,-999.0000,9,-999.0000,9,-999.0000,9,-999.0000,9,-999.0000,-999.000,-999.0000,9, -999.00
318M20040615,        P02,     172,          1,         35,         35,2,20040823,       1104,    30.0012,  -123.7607,       4423,    60.6,  18.4660,  33.5173,2,  33.5200,2, 249.0000,2,   249.7,2,    1.48,2,    0.16,2,    0.00,2,    0.25,2,-999.000,9,-999.000,9,-999.000,9,  -999.0,9,  -999.0,9,-999.000,9,-999.0000,9, -999.00,9, -999.00,9,  -999.0,9,  -999.0,-999.000,9,-999.000, -999.00,9,   60.60,-999.0000,9,-999.0000,9,-999.0000,9,-999.0000,9,-999.0000,9,-999.0000,-999.000,-999.0000,9, -999.00
318M20040615,        P02,     172,          1,         34,         34,2,20040823,       1104,    30.0012,  -123.7607,       4423,    99.8,  16.3320,  33.4552,2,  33.4572,2, 249.6000,2,   249.0,2,    1.68,2,    0.16,2,    0.00,2,    0.26,2,   2.802,2,   1.629,2,   0.195,2,  -999.0,9,  -999.0,9,-999.000,9,-999.0000,9, -999.00,9, -999.00,9,  -999.0,9,  -999.0,-999.000,9,-999.000, -999.00,9,   99.80,-999.0000,9,-999.0000,9,-999.0000,9,-999.0000,9,-999.0000,9,-999.0000,-999.000,-999.0000,9, -999.00
318M20040615,        P02,     172,          1,         33,         33,2,20040823,       1104,    30.0012,  -123.7607,       4423,   149.8,  11.2100,  33.1921,2,  33.1900,2, 225.1000,2,   226.0,2,    7.53,2,    9.05,2,    0.02,2,    0.86,2,   3.526,2,   2.029,2,   0.203,2,  -999.0,9,  -999.0,9,-999.000,9,-999.0000,9, -999.00,9, -999.00,9,  -999.0,9,  -999.0,-999.000,9,-999.000, -999.00,9,  149.80,-999.0000,9,-999.0000,9,-999.0000,9,-999.0000,9,-999.0000,9,-999.0000,-999.000,-999.0000,9, -999.00
318M20040615,        P02,     172,          1,         32,         32,2,20040823,       1104,    30.0012,  -123.7607,       4423,   199.7,   9.2856,  33.6226,2,  33.6118,2, 174.4000,2,   175.9,2,   19.44,2,   19.70,2,    0.00,2,    1.51,2,   3.536,6,   1.963,6,   0.146,6,  -999.0,9,  -999.0,9,-999.000,9,-999.0000,9, -999.00,9, -999.00,9,  -999.0,9,  -999.0,-999.000,9,-999.000, -999.00,9,  199.70,-999.0000,9,-999.0000,9,-999.0000,9,-999.0000,9,-999.0000,9,-999.0000,-999.000,-999.0000,9, -999.00
318M20040615,        P02,     172,          1,         31,         31,2,20040823,       1104,    30.0012,  -123.7607,       4423,   254.4,   8.6608,  33.9616,2,  33.9578,2, 145.6000,2,   143.4,2,   28.95,2,   24.66,2,    0.00,2,    1.79,2,   3.190,2,   1.649,2,   0.126,2,  -999.0,9,  -999.0,9,-999.000,9,-999.0000,9, -999.00,9, -999.00,9,  -999.0,9,  -999.0,-999.000,9,-999.000, -999.00,9,  254.40,-999.0000,9,-999.0000,9,-999.0000,9,-999.0000,9,-999.0000,9,-999.0000,-999.000,-999.0000,9, -999.00
318M20040615,        P02,     172,          1,         30,         30,2,20040823,       1104,    30.0012,  -123.7607,       4423,   304.7,   7.9365,  34.0495,2,  34.0491,2, 107.7000,2,   107.7,2,   39.50,2,   29.47,2,    0.00,2,    2.13,2,-999.000,9,-999.000,9,-999.000,9,  -999.0,9,  -999.0,9,-999.000,9,-999.0000,9, -999.00,9, -999.00,9,  -999.0,9,  -999.0,-999.000,9,-999.000, -999.00,9,  304.70,-999.0000,9,-999.0000,9,-999.0000,9,-999.0000,9,-999.0000,9,-999.0000,-999.000,-999.0000,9, -999.00
318M20040615,        P02,     172,          1,         29,         29,2,20040823,       1104,    30.0012,  -123.7607,       4423,   354.2,   7.3364,  34.0895,2,  34.0881,2,  76.7000,2,    77.8,2,   48.44,2,   32.81,2,    0.00,2,    2.42,2,   1.743,2,   0.890,2,   0.060,2,  -999.0,9,  -999.0,9,-999.000,9,-999.0000,9, -999.00,9, -999.00,9,  -999.0,9,  -999.0,-999.000,9,-999.000, -999.00,9,  354.20,-999.0000,9,-999.0000,9,-999.0000,9,-999.0000,9,-999.0000,9,-999.0000,-999.000,-999.0000,9, -999.00
318M20040615,        P02,     172,          1,         28,         28,2,20040823,       1104,    30.0012,  -123.7607,       4423,   403.9,   6.8402,  34.1380,2,  34.1384,2,  52.0000,2,    50.9,2,   57.60,2,   35.74,2,    0.00,2,    2.68,2,-999.000,9,-999.000,9,-999.000,9,  -999.0,9,  -999.0,9,-999.000,9,-999.0000,9, -999.00,9, -999.00,9,  -999.0,9,  -999.0,-999.000,9,-999.000, -999.00,9,  403.90,-999.0000,9,-999.0000,9,-999.0000,9,-999.0000,9,-999.0000,9,-999.0000,-999.000,-999.0000,9, -999.00
318M20040615,        P02,     172,          1,         27,         27,2,20040823,       1104,    30.0012,  -123.7607,       4423,   454.2,   6.2480,  34.1515,2,  34.1527,2,  37.2000,2,    38.8,2,   66.79,2,   37.79,2,    0.00,2,    2.84,2,   0.742,2,   0.372,2,   0.024,2,  -999.0,9,  -999.0,9,-999.000,9,-999.0000,9, -999.00,9, -999.00,9,  -999.0,9,  -999.0,-999.000,9,-999.000, -999.00,9,  454.20,-999.0000,9,-999.0000,9,-999.0000,9,-999.0000,9,-999.0000,9,-999.0000,-999.000,-999.0000,9, -999.00
318M20040615,        P02,     172,          1,         26,         26,2,20040823,       1104,    30.0012,  -123.7607,       4423,   503.9,   5.9130,  34.1984,2,  34.1990,2,  30.2000,2,    27.0,2,   73.53,2,   39.02,2,    0.00,2,    2.95,2,-999.000,9,-999.000,9,-999.000,9,  -999.0,9,  -999.0,9,-999.000,9,-999.0000,9, -999.00,9, -999.00,9,  -999.0,9,  -999.0,-999.000,9,-999.000, -999.00,9,  503.90,-999.0000,9,-999.0000,9,-999.0000,9,-999.0000,9,-999.0000,9,-999.0000,-999.000,-999.0000,9, -999.00
318M20040615,        P02,     172,          1,         25,         25,2,20040823,       1104,    30.0012,  -123.7607,       4423,   603.9,   5.3021,  34.2789,2,  34.2778,2,  16.1000,2,    14.6,2,   87.09,2,   41.20,2,    0.00,2,    3.12,2,   0.136,2,   0.066,2,   0.011,2,  -999.0,9,  -999.0,9,-999.000,9,-999.0000,9, -999.00,9, -999.00,9,  -999.0,9,  -999.0,-999.000,9,-999.000, -999.00,9,  603.90,-999.0000,9,-999.0000,9,-999.0000,9,-999.0000,9,-999.0000,9,-999.0000,-999.000,-999.0000,9, -999.00
318M20040615,        P02,     172,          1,         24,         24,2,20040823,       1104,    30.0012,  -123.7607,       4423,   708.5,   4.9671,  34.3619,2,  34.3624,2,  11.7000,2,    11.5,2,   96.15,2,   42.34,2,    0.00,2,    3.19,2,-999.000,9,-999.000,9,-999.000,9,  -999.0,9,  -999.0,9,-999.000,9,-999.0000,9, -999.00,9, -999.00,9,  -999.0,9,  -999.0,-999.000,9,-999.000, -999.00,9,  708.50,-999.0000,9,-999.0000,9,-999.0000,9,-999.0000,9,-999.0000,9,-999.0000,-999.000,-999.0000,9, -999.00
318M20040615,        P02,     172,          1,         23,         23,2,20040823,       1104,    30.0012,  -123.7607,       4423,   809.2,   4.6003,  34.4085,2,  34.4077,2,  12.8000,2,    13.4,2,  103.38,2,   43.16,2,    0.00,2,    3.20,2,   0.031,2,   0.020,2,   0.000,2,  -999.0,9,  -999.0,9,-999.000,9,-999.0000,9, -999.00,9, -999.00,9,  -999.0,9,  -999.0,-999.000,9,-999.000, -999.00,9,  809.20,-999.0000,9,-999.0000,9,-999.0000,9,-999.0000,9,-999.0000,9,-999.0000,-999.000,-999.0000,9, -999.00
318M20040615,        P02,     172,          1,         22,         22,2,20040823,       1104,    30.0012,  -123.7607,       4423,   908.8,   4.1536,  34.4302,2,  34.4297,2,  16.8000,2,    17.6,2,  112.90,2,   43.83,2,    0.00,2,    3.20,2,-999.000,9,-999.000,9,-999.000,9,  -999.0,9,  -999.0,9,-999.000,9,-999.0000,9, -999.00,9, -999.00,9,  -999.0,9,  -999.0,-999.000,9,-999.000, -999.00,9,  908.80,-999.0000,9,-999.0000,9,-999.0000,9,-999.0000,9,-999.0000,9,-999.0000,-999.000,-999.0000,9, -999.00
318M20040615,        P02,     172,          1,         21,         21,2,20040823,       1104,    30.0012,  -123.7607,       4423,  1009.3,   3.8510,  34.4655,2,  34.4646,2,  22.7000,2,    23.2,2,  119.54,2,   43.94,2,    0.00,2,    3.18,2,   0.026,2,   0.015,2,   0.000,2,  -999.0,9,  -999.0,9,-999.000,9,-999.0000,9, -999.00,9, -999.00,9,  -999.0,9,  -999.0,-999.000,9,-999.000, -999.00,9, 1009.30,-999.0000,9,-999.0000,9,-999.0000,9,-999.0000,9,-999.0000,9,-999.0000,-999.000,-999.0000,9, -999.00
318M20040615,        P02,     172,          1,         20,         20,2,20040823,       1104,    30.0012,  -123.7607,       4423,  1109.3,   3.6373,  34.4953,2,  34.4946,2,  29.6000,2,    29.3,2,  124.10,2,   43.78,2,    0.00,2,    3.16,2,-999.000,9,-999.000,9,-999.000,9,  -999.0,9,  -999.0,9,-999.000,9,-999.0000,9, -999.00,9, -999.00,9,  -999.0,9,  -999.0,-999.000,9,-999.000, -999.00,9, 1109.30,-999.0000,9,-999.0000,9,-999.0000,9,-999.0000,9,-999.0000,9,-999.0000,-999.000,-999.0000,9, -999.00
318M20040615,        P02,     172,          1,         19,         19,2,20040823,       1104,    30.0012,  -123.7607,       4423,  1214.5,   3.4146,  34.5176,2,  34.5166,2,  35.0000,2,    34.1,2,  129.72,2,   43.55,2,    0.00,2,    3.15,2,   0.022,2,   0.012,2,   0.000,2,  -999.0,9,  -999.0,9,-999.000,9,-999.0000,9, -999.00,9, -999.00,9,  -999.0,9,  -999.0,-999.000,9,-999.000, -999.00,9, 1214.50,-999.0000,9,-999.0000,9,-999.0000,9,-999.0000,9,-999.0000,9,-999.0000,-999.000,-999.0000,9, -999.00
318M20040615,        P02,     172,          1,         18,         18,2,20040823,       1104,    30.0012,  -123.7607,       4423,  1315.2,   3.1881,  34.5401,2,  34.5400,2,  39.3000,2,    39.5,2,  135.55,2,   43.22,2,    0.00,2,    3.12,2,-999.000,9,-999.000,9,-999.000,9,  -999.0,9,  -999.0,9,-999.000,9,-999.0000,9, -999.00,9, -999.00,9,  -999.0,9,  -999.0,-999.000,9,-999.000, -999.00,9, 1315.20,-999.0000,9,-999.0000,9,-999.0000,9,-999.0000,9,-999.0000,9,-999.0000,-999.000,-999.0000,9, -999.00
318M20040615,        P02,     172,          1,         17,         17,2,20040823,       1104,    30.0012,  -123.7607,       4423,  1415.6,   2.9837,  34.5533,2,  34.5523,2,  44.7000,2,    44.2,2,  140.97,2,   42.94,2,    0.00,2,    3.10,2,   0.019,2,   0.014,2,   0.005,2,  -999.0,9,  -999.0,9,-999.000,9,-999.0000,9, -999.00,9, -999.00,9,  -999.0,9,  -999.0,-999.000,9,-999.000, -999.00,9, 1415.60,-999.0000,9,-999.0000,9,-999.0000,9,-999.0000,9,-999.0000,9,-999.0000,-999.000,-999.0000,9, -999.00
318M20040615,        P02,     172,          1,         16,         16,2,20040823,       1104,    30.0012,  -123.7607,       4423,  1515.2,   2.7891,  34.5665,2,  34.5657,2,  49.3000,2,    49.8,2,  145.38,2,   42.57,2,    0.00,2,    3.06,2,-999.000,9,-999.000,9,-999.000,9,  -999.0,9,  -999.0,9,-999.000,9,-999.0000,9, -999.00,9, -999.00,9,  -999.0,9,  -999.0,-999.000,9,-999.000, -999.00,9, 1515.20,-999.0000,9,-999.0000,9,-999.0000,9,-999.0000,9,-999.0000,9,-999.0000,-999.000,-999.0000,9, -999.00
318M20040615,        P02,     172,          1,         15,         15,2,20040823,       1104,    30.0012,  -123.7607,       4423,  1620.5,   2.6099,  34.5827,2,  34.5814,2,  55.4000,2,    56.3,2,  150.41,2,   42.19,2,    0.00,2,    3.03,2,   0.021,2,   0.012,2,   0.004,2,  -999.0,9,  -999.0,9,-999.000,9,-999.0000,9, -999.00,9, -999.00,9,  -999.0,9,  -999.0,-999.000,9,-999.000, -999.00,9, 1620.50,-999.0000,9,-999.0000,9,-999.0000,9,-999.0000,9,-999.0000,9,-999.0000,-999.000,-999.0000,9, -999.00
318M20040615,        P02,     172,          1,         14,         14,2,20040823,       1104,    30.0012,  -123.7607,       4423,  1720.7,   2.4600,  34.5941,2,  34.5941,2,  61.4000,2,    61.6,2,  153.98,2,   41.92,2,    0.00,2,    2.99,2,-999.000,9,-999.000,9,-999.000,9,  -999.0,9,  -999.0,9,-999.000,9,-999.0000,9, -999.00,9, -999.00,9,  -999.0,9,  -999.0,-999.000,9,-999.000, -999.00,9, 1720.70,-999.0000,9,-999.0000,9,-999.0000,9,-999.0000,9,-999.0000,9,-999.0000,-999.000,-999.0000,9, -999.00
318M20040615,        P02,     172,          1,         13,         13,2,20040823,       1104,    30.0012,  -123.7607,       4423,  1821.3,   2.3182,  34.6056,2,  34.6055,2,  67.0000,2,    68.7,2,  156.71,2,   41.71,2,    0.00,2,    2.95,2,   0.008,2,   0.004,2,   0.000,2,  -999.0,9,  -999.0,9,-999.000,9,-999.0000,9, -999.00,9, -999.00,9,  -999.0,9,  -999.0,-999.000,9,-999.000, -999.00,9, 1821.30,-999.0000,9,-999.0000,9,-999.0000,9,-999.0000,9,-999.0000,9,-999.0000,-999.000,-999.0000,9, -999.00
318M20040615,        P02,     172,          1,         12,         12,2,20040823,       1104,    30.0012,  -123.7607,       4423,  1921.8,   2.2061,  34.6168,2,  34.6167,2,  74.7000,2,    75.6,2,  158.39,2,   41.43,2,    0.00,2,    2.91,2,-999.000,9,-999.000,9,-999.000,9,  -999.0,9,  -999.0,9,-999.000,9,-999.0000,9, -999.00,9, -999.00,9,  -999.0,9,  -999.0,-999.000,9,-999.000, -999.00,9, 1921.80,-999.0000,9,-999.0000,9,-999.0000,9,-999.0000,9,-999.0000,9,-999.0000,-999.000,-999.0000,9, -999.00
318M20040615,        P02,     172,          1,         11,         11,2,20040823,       1104,    30.0012,  -123.7607,       4423,  2023.1,   2.0966,  34.6269,2,  34.6265,2,  82.2000,2,    82.3,2,  160.27,2,   41.00,2,    0.00,2,    2.89,2,   0.007,2,   0.003,2,   0.000,2,  -999.0,9,  -999.0,9,-999.000,9,-999.0000,9, -999.00,9, -999.00,9,  -999.0,9,  -999.0,-999.000,9,-999.000, -999.00,9, 2023.10,-999.0000,9,-999.0000,9,-999.0000,9,-999.0000,9,-999.0000,9,-999.0000,-999.000,-999.0000,9, -999.00
318M20040615,        P02,     172,          1,         10,         10,2,20040823,       1104,    30.0012,  -123.7607,       4423,  2279.6,   1.9232,  34.6425,2,  34.6412,2,  94.0000,2,    94.0,2,  162.80,2,   40.19,2,    0.00,2,    2.82,2,-999.000,9,-999.000,9,-999.000,9,  -999.0,9,  -999.0,9,-999.000,9,-999.0000,9, -999.00,9, -999.00,9,  -999.0,9,  -999.0,-999.000,9,-999.000, -999.00,9, 2279.60,-999.0000,9,-999.0000,9,-999.0000,9,-999.0000,9,-999.0000,9,-999.0000,-999.000,-999.0000,9, -999.00
318M20040615,        P02,     172,          1,          9,          9,2,20040823,       1104,    30.0012,  -123.7607,       4423,  2532.2,   1.7871,  34.6530,2,  34.6523,2, 102.8000,2,   102.7,2,  165.31,2,   39.53,2,    0.00,2,    2.77,2,   0.006,2,   0.004,2,   0.000,2,  -999.0,9,  -999.0,9,-999.000,9,-999.0000,9, -999.00,9, -999.00,9,  -999.0,9,  -999.0,-999.000,9,-999.000, -999.00,9, 2532.20,-999.0000,9,-999.0000,9,-999.0000,9,-999.0000,9,-999.0000,9,-999.0000,-999.000,-999.0000,9, -999.00
318M20040615,        P02,     172,          1,          8,          8,2,20040823,       1104,    30.0012,  -123.7607,       4423,  2790.2,   1.6845,  34.6619,2,  34.6609,2, 111.5000,2,   111.7,2,  166.99,2,   38.89,2,    0.00,2,    2.71,2,-999.000,9,-999.000,9,-999.000,9,  -999.0,9,  -999.0,9,-999.000,9,-999.0000,9, -999.00,9, -999.00,9,  -999.0,9,  -999.0,-999.000,9,-999.000, -999.00,9, 2790.20,-999.0000,9,-999.0000,9,-999.0000,9,-999.0000,9,-999.0000,9,-999.0000,-999.000,-999.0000,9, -999.00
318M20040615,        P02,     172,          1,          7,          7,2,20040823,       1104,    30.0012,  -123.7607,       4423,  3042.5,   1.6010,  34.6679,2,  34.6672,2, 118.3000,2,   118.9,2,  168.25,2,   38.46,2,    0.00,2,    2.68,2,   0.007,2,   0.006,2,   0.000,2,  -999.0,9,  -999.0,9,-999.000,9,-999.0000,9, -999.00,9, -999.00,9,  -999.0,9,  -999.0,-999.000,9,-999.000, -999.00,9, 3042.50,-999.0000,9,-999.0000,9,-999.0000,9,-999.0000,9,-999.0000,9,-999.0000,-999.000,-999.0000,9, -999.00
318M20040615,        P02,     172,          1,          6,          6,2,20040823,       1104,    30.0012,  -123.7607,       4423,  3300.4,   1.5527,  34.6730,2,  34.6731,2, 124.6000,2,   125.0,2,  168.26,2,   38.03,2,    0.00,2,    2.64,2,   0.010,2,   0.005,2,   0.000,2,  -999.0,9,  -999.0,9,-999.000,9,-999.0000,9, -999.00,9, -999.00,9,  -999.0,9,  -999.0,-999.000,9,-999.000, -999.00,9, 3300.40,-999.0000,9,-999.0000,9,-999.0000,9,-999.0000,9,-999.0000,9,-999.0000,-999.000,-999.0000,9, -999.00
318M20040615,        P02,     172,          1,          5,          5,2,20040823,       1104,    30.0012,  -123.7607,       4423,  3556.9,   1.5295,  34.6771,2,  34.6770,2, 129.4000,2,   129.7,2,  168.26,2,   37.77,2,    0.00,2,    2.62,2,   0.013,2,   0.011,2,   0.000,2,  -999.0,9,  -999.0,9,-999.000,9,-999.0000,9, -999.00,9, -999.00,9,  -999.0,9,  -999.0,-999.000,9,-999.000, -999.00,9, 3556.90,-999.0000,9,-999.0000,9,-999.0000,9,-999.0000,9,-999.0000,9,-999.0000,-999.000,-999.0000,9, -999.00
318M20040615,        P02,     172,          1,          4,          4,2,20040823,       1104,    30.0012,  -123.7607,       4423,  3810.6,   1.5216,  34.6804,2,  34.6803,2, 133.3000,2,   133.6,2,  167.83,2,   37.66,2,    0.00,2,    2.59,2,   0.015,2,   0.010,2,   0.000,2,  -999.0,9,  -999.0,9,-999.000,9,-999.0000,9, -999.00,9, -999.00,9,  -999.0,9,  -999.0,-999.000,9,-999.000, -999.00,9, 3810.60,-999.0000,9,-999.0000,9,-999.0000,9,-999.0000,9,-999.0000,9,-999.0000,-999.000,-999.0000,9, -999.00
318M20040615,        P02,     172,          1,          3,          3,2,20040823,       1104,    30.0012,  -123.7607,       4423,  4061.4,   1.5214,  34.6832,2,  34.6827,2, 136.7000,2,   137.6,2,  166.56,2,   37.55,2,    0.00,2,    2.57,2,   0.014,2,   0.014,2,   0.000,2,  -999.0,9,  -999.0,9,-999.000,9,-999.0000,9, -999.00,9, -999.00,9,  -999.0,9,  -999.0,-999.000,9,-999.000, -999.00,9, 4061.40,-999.0000,9,-999.0000,9,-999.0000,9,-999.0000,9,-999.0000,9,-999.0000,-999.000,-999.0000,9, -999.00
318M20040615,        P02,     172,          1,          2,          2,2,20040823,       1104,    30.0012,  -123.7607,       4423,  4264.6,   1.5378,  34.6837,2,  34.6836,2, 137.8000,2,   138.1,2,  166.34,2,   37.55,2,    0.00,2,    2.57,2,   0.015,2,   0.015,2,   0.000,2,  -999.0,9,  -999.0,9,-999.000,9,-999.0000,9, -999.00,9, -999.00,9,  -999.0,9,  -999.0,-999.000,9,-999.000, -999.00,9, 4264.60,-999.0000,9,-999.0000,9,-999.0000,9,-999.0000,9,-999.0000,9,-999.0000,-999.000,-999.0000,9, -999.00
318M20040615,        P02,     172,          1,          1,          1,2,20040823,       1104,    30.0012,  -123.7607,       4423,  4449.6,   1.5568,  34.6839,2,  34.6838,2, 138.3000,2,   138.9,2,  166.33,2,   37.45,2,    0.00,2,    2.57,2,   0.013,2,   0.011,2,   0.000,2,  -999.0,9,  -999.0,9,-999.000,9,-999.0000,9, -999.00,9, -999.00,9,  -999.0,9,  -999.0,-999.000,9,-999.000, -999.00,9, 4449.60,-999.0000,9,-999.0000,9,-999.0000,9,-999.0000,9,-999.0000,9,-999.0000,-999.000,-999.0000,9, -999.00