BOTTLE,20131027SIOCCHRJL
EXPOCODE,SECT_ID,STNNBR,CASTNO,SAMPNO,BTLNBR,BTLNBR_FLAG_W,DATE,TIME,LATITUDE,LONGITUDE,DEPTH,CTDPRS,CTDTMP,CTDSAL,CTDSAL_FLAG_W,SALNTY,SALNTY_FLAG_W,CTDOXY,CTDOXY_FLAG_W,OXYGEN,OXYGEN_FLAG_W,SILCAT,SILCAT_FLAG_W,NITRAT,NITRAT_FLAG_W,NITRIT,NITRIT_FLAG_W,PHSPHT,PHSPHT_FLAG_W,CFC-11,CFC-11_FLAG_W,CFC-12,CFC-12_FLAG_W,CFC113,CFC113_FLAG_W,TCARBN,TCARBN_FLAG_W,ALKALI,ALKALI_FLAG_W,TRITUM,TRITUM_FLAG_W,HELIUM,HELIUM_FLAG_W,DELHE3,DELHE3_FLAG_W,DELC13,DELC13_FLAG_W,DELC14,DELC14_FLAG_W,C14ERR,NEON,NEON_FLAG_W,NEONER,DOC,DOC_FLAG_W,CTDRAW,CDOM380,CDOM380_FLAG_W,CDOM325,CDOM325_FLAG_W,CDOMSL,CDOMSL_FLAG_W,CDOM340,CDOM340_FLAG_W,CDOMSN,CDOMSN_FLAG_W,HELIER,TRITER,CDOM412,CDOM412_FLAG_W,DELHER
,,,,,,,,,,,METERS,DBAR,ITS-90,PSS-78,,PSS-78,,UMOL/KG,,UMOL/KG,,UMOL/KG,,UMOL/KG,,UMOL/KG,,UMOL/KG,,PMOL/KG,,PMOL/KG,,PMOL/KG,,UMOL/KG,,UMOL/KG,,TU,,NMOL/KG,,PERCNT,,/MILLE,,/MILLE,,/MILLE,NMOL/KG,,NMOL/KG,UMOL/KG,,DBAR,1/M,,1/M,,1/NM,,1/M,,1/NM,,NMOL/KG,TU,1/M,,PERCNT
318M20040615,        P02,      30,          1,         36,         36,2,20040626,       1701,       30.0,   143.1773,       5953,     8.1,  26.9472,  34.8750,2,  34.8755,2, 208.2000,2,   207.5,2,    1.14,2,    0.18,2,    0.01,2,    0.06,2,   1.764,2,   1.093,2,   0.127,2,  1973.2,2,  2289.6,6,-999.000,9,-999.0000,9, -999.00,9,    1.15,2,    82.9,2,     4.9,-999.000,9,-999.000,   68.50,2,    8.10,-999.0000,9,-999.0000,9,-999.0000,9,-999.0000,9,-999.0000,9,-999.0000,-999.000,-999.0000,9, -999.00
318M20040615,        P02,      30,          1,         35,         35,2,20040626,       1701,       30.0,   143.1773,       5953,    41.9,  21.8744,  34.8015,2,  34.8037,2, 232.1000,2,   230.7,2,    1.27,2,    0.18,2,    0.00,2,    0.06,2,   2.173,2,   1.330,2,   0.146,2,  1979.6,2,  2284.4,2,-999.000,9,-999.0000,9, -999.00,9, -999.00,9,  -999.0,9,  -999.0,-999.000,9,-999.000,   65.60,2,   41.90,-999.0000,9,-999.0000,9,-999.0000,9,-999.0000,9,-999.0000,9,-999.0000,-999.000,-999.0000,9, -999.00
318M20040615,        P02,      30,          1,         34,         34,2,20040626,       1701,       30.0,   143.1773,       5953,    91.8,  18.4586,  34.8368,2,  34.8382,2, 215.7000,2,   218.0,2,    2.25,2,    1.90,2,    0.11,2,    0.20,2,   2.354,2,   1.416,2,   0.114,2,  2008.8,2,  2287.7,2,-999.000,9,-999.0000,9, -999.00,9,    0.90,2,    75.6,2,     4.4,-999.000,9,-999.000,   61.70,2,   91.80,-999.0000,9,-999.0000,9,-999.0000,9,-999.0000,9,-999.0000,9,-999.0000,-999.000,-999.0000,9, -999.00
318M20040615,        P02,      30,          1,         33,         33,2,20040626,       1701,       30.0,   143.1773,       5953,   136.6,  17.7849,  34.7987,2,  34.7988,2, 215.4000,2,   209.1,2,    3.05,2,    3.62,2,    0.02,2,    0.30,2,   2.425,2,   1.453,2,   0.082,2,  2021.2,2,  2283.0,2,-999.000,9,-999.0000,9, -999.00,9,    0.72,2,    72.5,2,     4.6,-999.000,9,-999.000,   61.30,2,  136.60,-999.0000,9,-999.0000,9,-999.0000,9,-999.0000,9,-999.0000,9,-999.0000,-999.000,-999.0000,9, -999.00
318M20040615,        P02,      30,          1,         32,         32,2,20040626,       1701,       30.0,   143.1773,       5953,   186.8,  17.1700,  34.7697,2,  34.7705,2, 211.7000,2,   211.2,2,    3.51,2,    4.34,2,    0.02,2,    0.35,2,   2.459,2,   1.472,2,   0.081,2,  2025.2,2,  2282.1,2,-999.000,9,-999.0000,9, -999.00,9,    0.72,2,    68.4,2,     4.7,-999.000,9,-999.000,   57.50,2,  186.80,-999.0000,9,-999.0000,9,-999.0000,9,-999.0000,9,-999.0000,9,-999.0000,-999.000,-999.0000,9, -999.00
318M20040615,        P02,      30,          1,         31,         31,2,20040626,       1701,       30.0,   143.1773,       5953,   241.6,  16.7294,  34.7455,2,  34.7459,2, 209.8000,2,   210.7,2,    4.31,2,    5.06,2,    0.01,2,    0.40,2,   2.485,2,   1.486,2,   0.068,2,  2030.1,2,  2280.8,2,-999.000,9,-999.0000,9, -999.00,9,    0.66,2,    83.0,2,     4.6,-999.000,9,-999.000,   55.60,2,  241.60,-999.0000,9,-999.0000,9,-999.0000,9,-999.0000,9,-999.0000,9,-999.0000,-999.000,-999.0000,9, -999.00
318M20040615,        P02,      30,          1,         30,         30,2,20040626,       1701,       30.0,   143.1773,       5953,   291.8,  16.1415,  34.6918,2,  34.6917,2, 200.3000,2,   200.8,2,    6.13,2,    6.92,2,    0.01,2,    0.55,2,   2.530,2,   1.486,2,   0.035,2,  2043.6,2,  2279.3,2,-999.000,9,-999.0000,9, -999.00,9,    0.62,2,    82.8,2,     4.9,-999.000,9,-999.000,   54.50,2,  291.80,-999.0000,9,-999.0000,9,-999.0000,9,-999.0000,9,-999.0000,9,-999.0000,-999.000,-999.0000,9, -999.00
318M20040615,        P02,      30,          1,         29,         29,2,20040626,       1701,       30.0,   143.1773,       5953,   341.9,  15.0725,  34.6077,2,  34.6094,2, 190.0000,2,   187.0,2,   10.47,2,    9.93,2,    0.00,2,    0.74,2,   2.521,2,   1.448,2,   0.026,2,  2067.3,2,  2280.8,2,-999.000,9,-999.0000,9, -999.00,9,    0.56,2,    67.5,6,     2.5,-999.000,9,-999.000,   53.00,2,  341.90,-999.0000,9,-999.0000,9,-999.0000,9,-999.0000,9,-999.0000,9,-999.0000,-999.000,-999.0000,9, -999.00
318M20040615,        P02,      30,          1,         28,         28,2,20040626,       1701,       30.0,   143.1773,       5953,   391.9,  13.9159,  34.5197,2,  34.5192,2, 186.0000,2,   188.5,2,   12.46,2,   11.56,2,    0.01,2,    0.87,2,   2.617,2,   1.474,2,   0.035,2,  2080.2,2,  2275.2,2,-999.000,9,-999.0000,9, -999.00,9,    0.54,2,    48.9,2,     3.9,-999.000,9,-999.000,   51.60,2,  391.90,-999.0000,9,-999.0000,9,-999.0000,9,-999.0000,9,-999.0000,9,-999.0000,-999.000,-999.0000,9, -999.00
318M20040615,        P02,      30,          1,         27,         27,2,20040626,       1701,       30.0,   143.1773,       5953,   442.2,  12.7172,  34.4278,2,  34.4268,2, 188.9000,2,   190.5,2,   15.46,2,   13.29,2,    0.00,2,    1.00,2,   2.689,2,   1.505,2,   0.045,2,  2092.1,2,  2273.0,2,-999.000,9,-999.0000,9, -999.00,9, -999.00,9,  -999.0,9,  -999.0,-999.000,9,-999.000,   50.30,2,  442.20,-999.0000,9,-999.0000,9,-999.0000,9,-999.0000,9,-999.0000,9,-999.0000,-999.000,-999.0000,9, -999.00
318M20040615,        P02,      30,          1,         26,         26,2,20040626,       1701,       30.0,   143.1773,       5953,   492.2,  11.3994,  34.3435,2,  34.3469,2, 179.2000,2,   180.4,2,   22.02,2,   16.47,2,    0.00,2,    1.21,2,   2.562,2,   1.410,2,   0.058,2,  2114.3,2,  2274.8,2,-999.000,9,-999.0000,9, -999.00,9,    0.39,2,    20.2,2,     5.4,-999.000,9,-999.000,   49.40,2,  492.20,-999.0000,9,-999.0000,9,-999.0000,9,-999.0000,9,-999.0000,9,-999.0000,-999.000,-999.0000,9, -999.00
318M20040615,        P02,      30,          1,         25,         25,2,20040626,       1701,       30.0,   143.1773,       5953,   577.8,   9.0335,  34.1720,2,  34.1759,2, 167.6000,2,   168.9,2,   33.69,2,   21.54,2,    0.00,2,    1.59,2,   2.477,2,   1.331,2,   0.081,2,  2152.6,2,  2277.1,2,-999.000,9,-999.0000,9, -999.00,9,    0.30,2,   -15.3,2,     4.1,-999.000,9,-999.000,   48.40,2,  577.80,-999.0000,9,-999.0000,9,-999.0000,9,-999.0000,9,-999.0000,9,-999.0000,-999.000,-999.0000,9, -999.00
318M20040615,        P02,      30,          1,         24,         24,2,20040626,       1701,       30.0,   143.1773,       5953,   677.8,   6.7534,  34.0532,2,  34.0894,2, 142.0000,3,   142.1,2,   53.41,2,   28.36,2,    0.00,2,    2.10,2,   2.148,2,   1.126,2,   0.081,2,  2206.3,2,  2287.2,2,-999.000,9,-999.0000,9, -999.00,9, -999.00,9,  -999.0,9,  -999.0,-999.000,9,-999.000,   46.00,2,  677.80,-999.0000,9,-999.0000,9,-999.0000,9,-999.0000,9,-999.0000,9,-999.0000,-999.000,-999.0000,9, -999.00
318M20040615,        P02,      30,          1,         23,         23,2,20040626,       1701,       30.0,   143.1773,       5953,   778.2,   5.3284,  34.0891,2,  34.0890,2, 103.9000,2,    99.2,2,   75.64,2,   34.51,2,    0.00,2,    2.55,2,   1.411,2,   0.724,2,   0.052,2,  2260.0,2,  2306.5,2,-999.000,9,-999.0000,9, -999.00,9,   -0.10,2,  -112.6,2,     5.0,-999.000,9,-999.000,   45.00,2,  778.20,-999.0000,9,-999.0000,9,-999.0000,9,-999.0000,9,-999.0000,9,-999.0000,-999.000,-999.0000,9, -999.00
318M20040615,        P02,      30,          1,         22,         22,2,20040626,       1701,       30.0,   143.1773,       5953,   878.8,   4.5440,  34.1688,2,  34.1679,2,  73.1000,2,    67.5,2,   95.21,2,   38.56,2,    0.00,2,    2.83,2,   0.831,2,   0.430,2,   0.028,2,  2301.7,2,  2325.3,2,-999.000,9,-999.0000,9, -999.00,9, -999.00,9,  -999.0,9,  -999.0,-999.000,9,-999.000,   42.60,2,  878.80,-999.0000,9,-999.0000,9,-999.0000,9,-999.0000,9,-999.0000,9,-999.0000,-999.000,-999.0000,9, -999.00
318M20040615,        P02,      30,          1,         21,         21,2,20040626,       1701,       30.0,   143.1773,       5953,   979.4,   4.0722,  34.2494,2,  34.2508,2,  53.5000,2,    51.5,2,  108.81,2,   40.49,2,    0.00,2,    2.96,2,   0.448,2,   0.225,2,   0.012,2,  2326.2,2,  2341.9,2,-999.000,9,-999.0000,9, -999.00,9,   -0.40,2,  -170.7,2,     3.7,-999.000,9,-999.000,   40.70,2,  979.40,-999.0000,9,-999.0000,9,-999.0000,9,-999.0000,9,-999.0000,9,-999.0000,-999.000,-999.0000,9, -999.00
318M20040615,        P02,      30,          1,         20,         20,2,20040626,       1701,       30.0,   143.1773,       5953,  1080.0,   3.6344,  34.3139,2,  34.3149,2,  43.2000,2,    42.1,2,  121.78,2,   41.72,2,    0.00,2,    3.05,2,   0.246,2,   0.124,2,   0.007,2,  2343.4,2,  2356.7,2,-999.000,9,-999.0000,9, -999.00,9,   -0.39,2,  -166.7,2,     3.9,-999.000,9,-999.000,   39.90,2, 1080.00,-999.0000,9,-999.0000,9,-999.0000,9,-999.0000,9,-999.0000,9,-999.0000,-999.000,-999.0000,9, -999.00
318M20040615,        P02,      30,          1,         19,         19,2,20040626,       1701,       30.0,   143.1773,       5953,  1185.7,   3.2918,  34.3705,2,  34.3711,2,  38.9000,2,    38.4,2,  131.30,2,   42.42,2,    0.00,2,    3.09,2,   0.126,2,   0.068,2,   0.003,2,  2350.1,2,  2368.8,2,-999.000,9,-999.0000,9, -999.00,9,   -0.50,2,  -182.5,2,     5.0,-999.000,9,-999.000,   39.80,2, 1185.70,-999.0000,9,-999.0000,9,-999.0000,9,-999.0000,9,-999.0000,9,-999.0000,-999.000,-999.0000,9, -999.00
318M20040615,        P02,      30,          1,         18,         18,2,20040626,       1701,       30.0,   143.1773,       5953,  1286.4,   3.0309,  34.4123,2,  34.4123,2,  37.1000,2,    37.0,2,  138.92,2,   42.74,2,    0.00,2,    3.11,2,   0.074,2,   0.035,2,   0.003,2,  2364.6,2,  2377.1,6,-999.000,9,-999.0000,9, -999.00,9,   -0.35,2,  -195.7,2,     3.7,-999.000,9,-999.000,   38.90,2, 1286.40,-999.0000,9,-999.0000,9,-999.0000,9,-999.0000,9,-999.0000,9,-999.0000,-999.000,-999.0000,9, -999.00
318M20040615,        P02,      30,          1,         17,         17,2,20040626,       1701,       30.0,   143.1773,       5953,  1387.1,   2.8154,  34.4553,2,  34.4539,2,  39.4000,2,    41.2,2,  144.12,2,   42.68,2,    0.00,2,    3.10,2,   0.043,2,   0.024,2,   0.001,2,  2368.5,6,  2384.1,2,-999.000,9,-999.0000,9, -999.00,9,   -0.36,2,  -231.9,2,     3.6,-999.000,9,-999.000,   38.00,2, 1387.10,-999.0000,9,-999.0000,9,-999.0000,9,-999.0000,9,-999.0000,9,-999.0000,-999.000,-999.0000,9, -999.00
318M20040615,        P02,      30,          1,         16,         16,2,20040626,       1701,       30.0,   143.1773,       5953,  1488.1,   2.6320,  34.4834,2,  34.4851,2,  42.9000,2,    42.7,2,  149.47,2,   42.77,2,    0.00,2,    3.10,2,   0.028,2,   0.012,2,   0.002,2,  2373.6,2,  2390.5,2,-999.000,9,-999.0000,9, -999.00,9,   -0.38,2,  -221.2,2,     3.1,-999.000,9,-999.000,   37.60,2, 1488.10,-999.0000,9,-999.0000,9,-999.0000,9,-999.0000,9,-999.0000,9,-999.0000,-999.000,-999.0000,9, -999.00
318M20040615,        P02,      30,          1,         15,         15,2,20040626,       1701,       30.0,   143.1773,       5953,  1589.0,   2.4466,  34.5101,2,  34.5116,2,  44.5000,2,    45.0,2,  154.50,2,   42.71,2,    0.00,2,    3.10,2,   0.018,2,   0.008,2,   0.003,2,  2376.9,2,  2396.3,2,-999.000,9,-999.0000,9, -999.00,9,   -0.36,2,  -227.8,2,     3.5,-999.000,9,-999.000,   37.70,2, 1589.00,-999.0000,9,-999.0000,9,-999.0000,9,-999.0000,9,-999.0000,9,-999.0000,-999.000,-999.0000,9, -999.00
318M20040615,        P02,      30,          1,         14,         14,2,20040626,       1701,       30.0,   143.1773,       5953,  1790.8,   2.1900,  34.5569,2,  34.5582,2,  58.9000,2,    59.4,2,  159.00,2,   42.00,2,    0.00,2,    3.02,2,   0.007,2,   0.005,2,   0.003,2,  2372.4,2,  2404.2,2,-999.000,9,-999.0000,9, -999.00,9,   -0.35,2,  -234.9,2,     3.5,-999.000,9,-999.000,   37.60,2, 1790.80,-999.0000,9,-999.0000,9,-999.0000,9,-999.0000,9,-999.0000,9,-999.0000,-999.000,-999.0000,9, -999.00
318M20040615,        P02,      30,          1,         13,         13,2,20040626,       1701,       30.0,   143.1773,       5953,  1997.8,   2.0016,  34.5898,2,  34.5914,2,  74.7000,2,    74.6,2,  161.42,2,   41.09,2,    0.00,2,    2.95,2,   0.003,2,   0.002,2,   0.001,2,  2367.3,2,  2409.6,2,-999.000,9,-999.0000,9, -999.00,9,   -0.23,2,  -233.3,2,     3.3,-999.000,9,-999.000,   37.70,2, 1997.80,-999.0000,9,-999.0000,9,-999.0000,9,-999.0000,9,-999.0000,9,-999.0000,-999.000,-999.0000,9, -999.00
318M20040615,        P02,      30,          1,         12,         12,2,20040626,       1701,       30.0,   143.1773,       5953,  2200.2,   1.8629,  34.6137,2,  34.6144,2,  89.3000,2,    89.6,2,  159.62,2,   40.16,2,    0.00,2,    2.87,2,   0.001,2,   0.000,2,   0.001,2,  2361.8,2,  2412.2,2,-999.000,9,-999.0000,9, -999.00,9,   -0.14,2,  -239.9,2,     3.5,-999.000,9,-999.000,   37.70,2, 2200.20,-999.0000,9,-999.0000,9,-999.0000,9,-999.0000,9,-999.0000,9,-999.0000,-999.000,-999.0000,9, -999.00
318M20040615,        P02,      30,          1,         11,         11,2,20040626,       1701,       30.0,   143.1773,       5953,  2453.6,   1.7300,  34.6366,2,  34.6366,2, 106.0000,2,   108.2,2,  156.77,2,   38.91,2,    0.00,2,    2.79,2,   0.002,2,  -0.001,2,   0.002,2,  2351.5,2,  2413.6,2,-999.000,9,-999.0000,9, -999.00,9,   -0.05,2,  -231.7,2,     3.6,-999.000,9,-999.000,   38.20,2, 2453.60,-999.0000,9,-999.0000,9,-999.0000,9,-999.0000,9,-999.0000,9,-999.0000,-999.000,-999.0000,9, -999.00
318M20040615,        P02,      30,          1,         10,         10,2,20040626,       1701,       30.0,   143.1773,       5953,  2712.4,   1.6436,  34.6509,2,  34.6513,2, 119.7000,2,   119.6,2,  154.45,2,   38.21,2,    0.00,2,    2.72,2,   0.004,2,   0.002,2,   0.001,2,  2344.7,2,  2415.5,2,-999.000,9,-999.0000,9, -999.00,9,    0.03,2,  -233.2,2,     3.8,-999.000,9,-999.000,   37.70,2, 2712.40,-999.0000,9,-999.0000,9,-999.0000,9,-999.0000,9,-999.0000,9,-999.0000,-999.000,-999.0000,9, -999.00
318M20040615,        P02,      30,          1,          9,          9,2,20040626,       1701,       30.0,   143.1773,       5953,  2965.8,   1.5838,  34.6608,2,  34.6605,2, 128.4000,2,   128.2,2,  153.00,2,   37.72,2,    0.00,2,    2.70,2,   0.001,2,   0.001,2,   0.002,2,  2339.9,2,  2415.4,2,-999.000,9,-999.0000,9, -999.00,9,    0.08,2,  -229.8,2,     3.7,-999.000,9,-999.000,   37.80,2, 2965.80,-999.0000,9,-999.0000,9,-999.0000,9,-999.0000,9,-999.0000,9,-999.0000,-999.000,-999.0000,9, -999.00
318M20040615,        P02,      30,          1,          8,          8,2,20040626,       1701,       30.0,   143.1773,       5953,  3301.0,   1.5268,  34.6705,2,  34.6714,2, 136.1000,2,   137.0,2,  151.20,2,   37.11,2,    0.00,2,    2.64,2,   0.000,2,   0.000,2,   0.007,2,  2328.5,4,  2415.1,2,-999.000,9,-999.0000,9, -999.00,9,    0.08,2,  -230.2,2,     3.4,-999.000,9,-999.000,   38.00,2, 3301.00,-999.0000,9,-999.0000,9,-999.0000,9,-999.0000,9,-999.0000,9,-999.0000,-999.000,-999.0000,9, -999.00
318M20040615,        P02,      30,          1,          7,          7,2,20040626,       1701,       30.0,   143.1773,       5953,  3708.3,   1.4824,  34.6787,2,  34.6798,2, 145.3000,2,   146.0,2,  149.76,2,   36.58,2,    0.00,2,    2.60,2,   0.001,2,   0.000,2,   0.004,2,  2330.5,2,  2415.5,2,-999.000,9,-999.0000,9, -999.00,9,    0.18,2,  -225.8,2,     3.6,-999.000,9,-999.000,   37.60,2, 3708.30,-999.0000,9,-999.0000,9,-999.0000,9,-999.0000,9,-999.0000,9,-999.0000,-999.000,-999.0000,9, -999.00
318M20040615,        P02,      30,          1,          6,          6,2,20040626,       1701,       30.0,   143.1773,       5953,  4116.3,   1.4685,  34.6844,2,  34.6851,2, 152.0000,2,   152.6,2,  147.27,2,   36.09,2,    0.00,2,    2.56,2,   0.001,2,   0.002,2,   0.003,2,  2325.3,2,  2414.6,2,-999.000,9,-999.0000,9, -999.00,9,    0.19,2,  -220.5,2,     3.5,-999.000,9,-999.000,   37.60,2, 4116.30,-999.0000,9,-999.0000,9,-999.0000,9,-999.0000,9,-999.0000,9,-999.0000,-999.000,-999.0000,9, -999.00
318M20040615,        P02,      30,          1,          5,          5,2,20040626,       1701,       30.0,   143.1773,       5953,  4509.1,   1.4731,  34.6883,2,  34.6885,2, 157.9000,2,   157.9,2,  144.78,2,   35.70,2,    0.00,2,    2.52,2,   0.002,2,   0.001,2,   0.004,2,  2321.0,2,  2411.1,2,-999.000,9,-999.0000,9, -999.00,9,    0.28,2,  -218.5,2,     3.6,-999.000,9,-999.000,   37.70,2, 4509.10,-999.0000,9,-999.0000,9,-999.0000,9,-999.0000,9,-999.0000,9,-999.0000,-999.000,-999.0000,9, -999.00
318M20040615,        P02,      30,          1,          4,          4,2,20040626,       1701,       30.0,   143.1773,       5953,  4928.7,   1.4962,  34.6908,2,  34.6910,2, 161.3000,2,   161.8,2,  143.35,2,   35.48,2,    0.00,2,    2.50,2,   0.001,2,   0.001,2,   0.002,2,  2316.6,2,  2410.2,2,-999.000,9,-999.0000,9, -999.00,9,    0.34,2,  -213.4,2,     3.8,-999.000,9,-999.000,   37.70,2, 4928.70,-999.0000,9,-999.0000,9,-999.0000,9,-999.0000,9,-999.0000,9,-999.0000,-999.000,-999.0000,9, -999.00
318M20040615,        P02,      30,          1,          3,          3,2,20040626,       1701,       30.0,   143.1773,       5953,  5343.4,   1.5354,  34.6921,2,  34.6932,2, 163.5000,3,   163.9,2,  141.72,2,   35.31,2,    0.00,2,    3.39,4,   0.004,6,   0.003,6,   0.004,6,  2313.9,2,  2409.1,2,-999.000,9,-999.0000,9, -999.00,9,    0.34,2,  -212.3,2,     3.2,-999.000,9,-999.000,   37.90,2, 5343.40,-999.0000,9,-999.0000,9,-999.0000,9,-999.0000,9,-999.0000,9,-999.0000,-999.000,-999.0000,9, -999.00
318M20040615,        P02,      30,          1,          2,          2,2,20040626,       1701,       30.0,   143.1773,       5953,  5810.9,   1.5906,  34.6927,2,  34.6938,2, 164.7000,3,   165.2,2,  140.46,2,   35.20,2,    0.00,2,    2.49,2,   0.005,2,   0.004,2,   0.004,2,  2312.3,2,  2408.5,2,-999.000,9,-999.0000,9, -999.00,9,    0.39,2,  -208.7,2,     3.9,-999.000,9,-999.000,   37.40,2, 5810.90,-999.0000,9,-999.0000,9,-999.0000,9,-999.0000,9,-999.0000,9,-999.0000,-999.000,-999.0000,9, -999.00
318M20040615,        P02,      30,          1,          1,          1,2,20040626,       1701,       30.0,   143.1773,       5953,  6109.3,   1.6260,  34.6932,2,  34.6950,2, 166.3000,3,   167.0,2,  139.02,2,   35.09,2,    0.00,2,    2.49,2,   0.004,2,   0.007,2,   0.003,2,  2310.5,2,  2408.1,2,-999.000,9,-999.0000,9, -999.00,9,    0.37,2,  -206.6,2,     3.2,-999.000,9,-999.000,   37.70,2, 6109.30,-999.0000,9,-999.0000,9,-999.0000,9,-999.0000,9,-999.0000,9,-999.0000,-999.000,-999.0000,9, -999.00