BOTTLE,20131027SIOCCHRJL
EXPOCODE,SECT_ID,STNNBR,CASTNO,SAMPNO,BTLNBR,BTLNBR_FLAG_W,DATE,TIME,LATITUDE,LONGITUDE,DEPTH,CTDPRS,CTDTMP,CTDSAL,CTDSAL_FLAG_W,SALNTY,SALNTY_FLAG_W,CTDOXY,CTDOXY_FLAG_W,OXYGEN,OXYGEN_FLAG_W,SILCAT,SILCAT_FLAG_W,NITRAT,NITRAT_FLAG_W,NITRIT,NITRIT_FLAG_W,PHSPHT,PHSPHT_FLAG_W,CFC-11,CFC-11_FLAG_W,CFC-12,CFC-12_FLAG_W,CFC113,CFC113_FLAG_W,TCARBN,TCARBN_FLAG_W,ALKALI,ALKALI_FLAG_W,TRITUM,TRITUM_FLAG_W,HELIUM,HELIUM_FLAG_W,DELHE3,DELHE3_FLAG_W,DELC13,DELC13_FLAG_W,DELC14,DELC14_FLAG_W,C14ERR,NEON,NEON_FLAG_W,NEONER,DOC,DOC_FLAG_W,CTDRAW,CDOM380,CDOM380_FLAG_W,CDOM325,CDOM325_FLAG_W,CDOMSL,CDOMSL_FLAG_W,CDOM340,CDOM340_FLAG_W,CDOMSN,CDOMSN_FLAG_W,HELIER,TRITER,CDOM412,CDOM412_FLAG_W,DELHER
,,,,,,,,,,,METERS,DBAR,ITS-90,PSS-78,,PSS-78,,UMOL/KG,,UMOL/KG,,UMOL/KG,,UMOL/KG,,UMOL/KG,,UMOL/KG,,PMOL/KG,,PMOL/KG,,PMOL/KG,,UMOL/KG,,UMOL/KG,,TU,,NMOL/KG,,PERCNT,,/MILLE,,/MILLE,,/MILLE,NMOL/KG,,NMOL/KG,UMOL/KG,,DBAR,1/M,,1/M,,1/NM,,1/M,,1/NM,,NMOL/KG,TU,1/M,,PERCNT
318M20040615,        P02,     179,          2,         36,         36,2,20040825,       0642,    31.7778,  -120.2493,       3931,     5.3,  18.8779,  33.2073,2,  33.2084,2, 242.1000,2,   241.7,2,    1.00,2,    0.09,2,    0.00,2,    0.26,2,   2.548,2,   1.547,2,   0.187,2,  1985.5,2,  -999.0,9,-999.000,9,-999.0000,9, -999.00,9,    1.75,2,    42.5,2,     3.5,-999.000,9,-999.000,   66.90,2,    5.30,-999.0000,9,-999.0000,9,-999.0000,9,-999.0000,9,-999.0000,9,-999.0000,-999.000,-999.0000,9, -999.00
318M20040615,        P02,     179,          2,         35,         35,2,20040825,       0642,    31.7778,  -120.2493,       3931,    34.9,  15.4828,  33.2320,2,  33.2420,2, 262.7000,2,   263.3,2,    1.40,2,    1.71,2,    0.06,2,    0.40,2,-999.000,9,-999.000,9,-999.000,9,  2003.7,6,  -999.0,9,-999.000,9,-999.0000,9, -999.00,9,    1.66,2,    43.5,2,     3.9,-999.000,9,-999.000,   65.70,2,   34.90,-999.0000,9,-999.0000,9,-999.0000,9,-999.0000,9,-999.0000,9,-999.0000,-999.000,-999.0000,9, -999.00
318M20040615,        P02,     179,          2,         34,         34,2,20040825,       0642,    31.7778,  -120.2493,       3931,    69.5,  11.3896,  33.1706,2,  33.1751,2, 213.7000,2,   215.8,2,    8.44,2,   11.70,2,    0.32,2,    1.08,2,   3.455,2,   1.959,2,   0.206,2,  2072.4,2,  -999.0,9,-999.000,9,-999.0000,9, -999.00,9,    0.91,2,    34.5,2,     3.7,-999.000,9,-999.000,   53.80,2,   69.50,-999.0000,9,-999.0000,9,-999.0000,9,-999.0000,9,-999.0000,9,-999.0000,-999.000,-999.0000,9, -999.00
318M20040615,        P02,     179,          2,         33,         33,2,20040825,       0642,    31.7778,  -120.2493,       3931,    94.5,   9.8359,  33.4494,2,  33.4545,2, 171.8000,2,   171.6,2,   17.71,2,   19.86,2,    0.01,2,    1.58,2,-999.000,9,-999.000,9,-999.000,9,  2131.5,2,  -999.0,9,-999.000,9,-999.0000,9, -999.00,9, -999.00,9,  -999.0,9,  -999.0,-999.000,9,-999.000,   49.10,2,   94.50,-999.0000,9,-999.0000,9,-999.0000,9,-999.0000,9,-999.0000,9,-999.0000,-999.000,-999.0000,9, -999.00
318M20040615,        P02,     179,          2,         32,         32,2,20040825,       0642,    31.7778,  -120.2493,       3931,   119.1,   9.4639,  33.6965,2,  33.6977,2, 132.5000,2,   132.8,2,   24.36,2,   24.15,2,    0.01,2,    1.88,2,-999.000,1,-999.000,1,-999.000,1,  2166.9,2,  -999.0,9,-999.000,9,-999.0000,9, -999.00,9,    0.07,2,    28.8,2,     4.1,-999.000,9,-999.000,   49.70,2,  119.10,-999.0000,9,-999.0000,9,-999.0000,9,-999.0000,9,-999.0000,9,-999.0000,-999.000,-999.0000,9, -999.00
318M20040615,        P02,     179,          2,         31,         31,2,20040825,       0642,    31.7778,  -120.2493,       3931,   143.7,   9.1453,  33.8728,2,  33.8703,2, 129.2000,2,   122.6,2,   27.60,2,   25.29,2,    0.01,2,    1.93,2,-999.000,9,-999.000,9,-999.000,9,  2178.8,2,  -999.0,9,-999.000,9,-999.0000,9, -999.00,9, -999.00,9,  -999.0,9,  -999.0,-999.000,9,-999.000,   47.90,2,  143.70,-999.0000,9,-999.0000,9,-999.0000,9,-999.0000,9,-999.0000,9,-999.0000,-999.000,-999.0000,9, -999.00
318M20040615,        P02,     179,          2,         30,         30,2,20040825,       0642,    31.7778,  -120.2493,       3931,   168.4,   8.7423,  33.9487,2,  33.9485,2, 132.1000,2,   134.6,2,   29.21,2,   25.29,2,    0.01,2,    1.86,2,-999.000,1,-999.000,1,-999.000,1,  2176.4,2,  -999.0,9,-999.000,9,-999.0000,9, -999.00,9,    0.02,2,    22.4,2,     3.8,-999.000,9,-999.000,   57.80,2,  168.40,-999.0000,9,-999.0000,9,-999.0000,9,-999.0000,9,-999.0000,9,-999.0000,-999.000,-999.0000,9, -999.00
318M20040615,        P02,     179,          2,         29,         29,2,20040825,       0642,    31.7778,  -120.2493,       3931,   198.7,   8.5469,  34.0344,2,  34.0333,2, 102.5000,2,   103.5,2,   34.67,2,   28.52,2,    0.00,2,    2.09,2,-999.000,9,-999.000,9,-999.000,9,  2203.6,2,  -999.0,9,-999.000,9,-999.0000,9, -999.00,9, -999.00,9,  -999.0,9,  -999.0,-999.000,9,-999.000,   47.50,2,  198.70,-999.0000,9,-999.0000,9,-999.0000,9,-999.0000,9,-999.0000,9,-999.0000,-999.000,-999.0000,9, -999.00
318M20040615,        P02,     179,          2,         28,         28,2,20040825,       0642,    31.7778,  -120.2493,       3931,   223.8,   8.2302,  34.0612,2,  34.0609,2,  91.2000,2,    97.1,2,   38.30,2,   29.61,2,    0.00,2,    2.18,2,   2.400,2,   1.280,2,   0.099,2,  2212.8,2,  -999.0,9,-999.000,9,-999.0000,9, -999.00,9,   -0.15,2,     1.1,2,     3.2,-999.000,9,-999.000, -999.00,9,  223.80,-999.0000,9,-999.0000,9,-999.0000,9,-999.0000,9,-999.0000,9,-999.0000,-999.000,-999.0000,9, -999.00
318M20040615,        P02,     179,          2,         27,         27,2,20040825,       0642,    31.7778,  -120.2493,       3931,   273.3,   7.6016,  34.1148,2,  34.1170,2,  71.6000,2,    73.6,2,   46.82,2,   32.21,2,    0.00,2,    2.43,2,   1.685,2,   0.882,2,   0.060,2,  2239.9,2,  -999.0,9,-999.000,9,-999.0000,9, -999.00,9,   -0.23,2,   -30.4,2,     3.5,-999.000,9,-999.000,   44.70,2,  273.30,-999.0000,9,-999.0000,9,-999.0000,9,-999.0000,9,-999.0000,9,-999.0000,-999.000,-999.0000,9, -999.00
318M20040615,        P02,     179,          2,         26,         26,2,20040825,       0642,    31.7778,  -120.2493,       3931,   323.2,   7.0119,  34.1451,2,  34.1452,2,  52.0000,2,    54.5,2,   55.56,2,   34.70,2,    0.00,2,    2.64,2,-999.000,9,-999.000,9,-999.000,9,  2263.9,2,  -999.0,9,-999.000,9,-999.0000,9, -999.00,9,   -0.29,2,   -55.0,2,     3.3,-999.000,9,-999.000,   42.70,2,  323.20,-999.0000,9,-999.0000,9,-999.0000,9,-999.0000,9,-999.0000,9,-999.0000,-999.000,-999.0000,9, -999.00
318M20040615,        P02,     179,          2,         25,         25,2,20040825,       0642,    31.7778,  -120.2493,       3931,   372.9,   6.5651,  34.1725,2,  34.1726,2,  39.3000,2,    39.2,2,   63.09,2,   36.68,2,    0.00,2,    2.81,2,   0.776,2,   0.396,2,   0.023,2,  2279.7,2,  -999.0,9,-999.000,9,-999.0000,9, -999.00,9,   -0.32,2,   -86.7,2,     3.5,-999.000,9,-999.000, -999.00,9,  372.90,-999.0000,9,-999.0000,9,-999.0000,9,-999.0000,9,-999.0000,9,-999.0000,-999.000,-999.0000,9, -999.00
318M20040615,        P02,     179,          2,         24,         24,2,20040825,       0642,    31.7778,  -120.2493,       3931,   422.7,   6.3210,  34.2183,2,  34.2191,2,  27.2000,2,    27.7,2,   69.01,2,   38.07,2,    0.00,2,    2.93,2,-999.000,9,-999.000,9,-999.000,9,  2294.1,6,  -999.0,9,-999.000,9,-999.0000,9, -999.00,9, -999.00,9,  -999.0,9,  -999.0,-999.000,9,-999.000,   42.00,2,  422.70,-999.0000,9,-999.0000,9,-999.0000,9,-999.0000,9,-999.0000,9,-999.0000,-999.000,-999.0000,9, -999.00
318M20040615,        P02,     179,          2,         23,         23,2,20040825,       0642,    31.7778,  -120.2493,       3931,   472.3,   6.1342,  34.2851,2,  34.2846,2,  19.1000,2,    17.9,2,   74.53,2,   39.14,2,    0.00,2,    3.03,2,   0.246,2,   0.127,2,   0.000,2,  2309.0,2,  -999.0,9,-999.000,9,-999.0000,9, -999.00,9,   -0.33,2,  -124.3,2,     3.5,-999.000,9,-999.000, -999.00,9,  472.30,-999.0000,9,-999.0000,9,-999.0000,9,-999.0000,9,-999.0000,9,-999.0000,-999.000,-999.0000,9, -999.00
318M20040615,        P02,     179,          2,         22,         22,2,20040825,       0642,    31.7778,  -120.2493,       3931,   547.3,   5.6286,  34.3216,2,  34.3217,2,  13.4000,2,    12.9,2,   83.33,2,   40.87,2,    0.00,2,    3.13,2,-999.000,9,-999.000,9,-999.000,9,  2321.8,2,  -999.0,9,-999.000,9,-999.0000,9, -999.00,9,   -0.35,2,  -144.8,2,     3.3,-999.000,9,-999.000,   40.00,2,  547.30,-999.0000,9,-999.0000,9,-999.0000,9,-999.0000,9,-999.0000,9,-999.0000,-999.000,-999.0000,9, -999.00
318M20040615,        P02,     179,          2,         21,         21,2,20040825,       0642,    31.7778,  -120.2493,       3931,   646.6,   5.1983,  34.3673,2,  34.3678,2,  12.0000,2,    11.0,2,   91.95,2,   42.00,2,    0.00,2,    3.19,2,   0.053,2,   0.032,2,   0.000,2,  2335.1,2,  -999.0,9,-999.000,9,-999.0000,9, -999.00,9,   -0.32,2,  -155.2,2,     2.8,-999.000,9,-999.000,   41.20,2,  646.60,-999.0000,9,-999.0000,9,-999.0000,9,-999.0000,9,-999.0000,9,-999.0000,-999.000,-999.0000,9, -999.00
318M20040615,        P02,     179,          2,         20,         20,2,20040825,       0642,    31.7778,  -120.2493,       3931,   745.6,   4.8001,  34.4104,2,  34.4106,2,  14.2000,2,    13.0,2,  100.16,2,   42.70,2,    0.00,2,    3.22,2,-999.000,9,-999.000,9,-999.000,9,  2343.2,2,  -999.0,9,-999.000,9,-999.0000,9, -999.00,9,   -0.31,2,  -168.8,2,     2.8,-999.000,9,-999.000,   40.60,2,  745.60,-999.0000,9,-999.0000,9,-999.0000,9,-999.0000,9,-999.0000,9,-999.0000,-999.000,-999.0000,9, -999.00
318M20040615,        P02,     179,          2,         19,         19,2,20040825,       0642,    31.7778,  -120.2493,       3931,   849.8,   4.4477,  34.4441,2,  34.4447,2,  17.8000,2,    17.3,2,  107.20,2,   43.15,2,    0.00,2,    3.22,2,   0.029,2,   0.019,2,   0.000,2,  2350.7,2,  -999.0,9,-999.000,9,-999.0000,9, -999.00,9, -999.00,9,  -999.0,9,  -999.0,-999.000,9,-999.000,   42.40,3,  849.80,-999.0000,9,-999.0000,9,-999.0000,9,-999.0000,9,-999.0000,9,-999.0000,-999.000,-999.0000,9, -999.00
318M20040615,        P02,     179,          2,         18,         18,2,20040825,       0642,    31.7778,  -120.2493,       3931,   949.4,   4.0850,  34.4758,2,  34.4761,2,  23.1000,2,    22.9,2,  114.64,2,   43.30,2,    0.00,2,    3.20,2,-999.000,9,-999.000,9,-999.000,9,  2354.5,2,  -999.0,9,-999.000,9,-999.0000,9, -999.00,9,   -0.26,2,  -194.5,2,     3.8,-999.000,9,-999.000, -999.00,9,  949.40,-999.0000,9,-999.0000,9,-999.0000,9,-999.0000,9,-999.0000,9,-999.0000,-999.000,-999.0000,9, -999.00
318M20040615,        P02,     179,          2,         17,         17,2,20040825,       0642,    31.7778,  -120.2493,       3931,  1049.7,   3.8382,  34.4962,2,  34.4974,2,  27.6000,2,    27.4,2,  120.44,2,   43.29,2,    0.00,2,    3.19,2,   0.028,2,   0.017,2,   0.000,2,  2360.4,2,  -999.0,9,-999.000,9,-999.0000,9, -999.00,9, -999.00,9,  -999.0,9,  -999.0,-999.000,9,-999.000,   45.50,3, 1049.70,-999.0000,9,-999.0000,9,-999.0000,9,-999.0000,9,-999.0000,9,-999.0000,-999.000,-999.0000,9, -999.00
318M20040615,        P02,     179,          2,         16,         16,2,20040825,       0642,    31.7778,  -120.2493,       3931,  1150.5,   3.5375,  34.5197,2,  34.5194,2,  32.7000,2,    33.2,2,  127.51,2,   43.29,2,    0.00,2,    3.17,2,   0.029,2,   0.019,2,   0.000,2,  2363.9,2,  -999.0,9,-999.000,9,-999.0000,9, -999.00,9,   -0.22,2,  -214.1,2,     3.6,-999.000,9,-999.000, -999.00,9, 1150.50,-999.0000,9,-999.0000,9,-999.0000,9,-999.0000,9,-999.0000,9,-999.0000,-999.000,-999.0000,9, -999.00
318M20040615,        P02,     179,          2,         15,         15,2,20040825,       0642,    31.7778,  -120.2493,       3931,  1251.5,   3.3117,  34.5359,2,  34.5370,2,  37.5000,2,    37.5,2,  133.11,2,   43.34,2,    0.00,2,    3.15,2,   0.031,2,   0.021,2,   0.000,2,  2368.9,2,  -999.0,9,-999.000,9,-999.0000,9, -999.00,9, -999.00,9,  -999.0,9,  -999.0,-999.000,9,-999.000,   36.00,2, 1251.50,-999.0000,9,-999.0000,9,-999.0000,9,-999.0000,9,-999.0000,9,-999.0000,-999.000,-999.0000,9, -999.00
318M20040615,        P02,     179,          2,         14,         14,2,20040825,       0642,    31.7778,  -120.2493,       3931,  1352.3,   3.1048,  34.5493,2,  34.5496,2,  42.3000,2,    42.4,2,  137.90,2,   43.17,2,    0.00,2,    3.12,2,   0.032,2,   0.023,2,   0.000,2,  2370.8,2,  -999.0,9,-999.000,9,-999.0000,9, -999.00,9,   -0.21,2,  -225.2,2,     3.6,-999.000,9,-999.000, -999.00,9, 1352.30,-999.0000,9,-999.0000,9,-999.0000,9,-999.0000,9,-999.0000,9,-999.0000,-999.000,-999.0000,9, -999.00
318M20040615,        P02,     179,          2,         13,         13,2,20040825,       0642,    31.7778,  -120.2493,       3931,  1452.9,   2.8759,  34.5655,2,  34.5661,2,  47.2000,2,    49.4,2,  143.96,2,   42.78,2,    0.00,2,    3.08,2,   0.029,6,   0.022,6,   0.000,6,  2373.7,2,  -999.0,9,-999.000,9,-999.0000,9, -999.00,9, -999.00,9,  -999.0,9,  -999.0,-999.000,9,-999.000,   41.60,3, 1452.90,-999.0000,9,-999.0000,9,-999.0000,9,-999.0000,9,-999.0000,9,-999.0000,-999.000,-999.0000,9, -999.00
318M20040615,        P02,     179,          2,         12,         12,2,20040825,       0642,    31.7778,  -120.2493,       3931,  1558.8,   2.7056,  34.5764,2,  34.5775,2,  53.4000,2,    54.0,2,  148.12,2,   42.34,2,    0.00,2,    3.06,2,   0.028,2,   0.027,2,   0.000,2,  2375.0,2,  -999.0,9,-999.000,9,-999.0000,9, -999.00,9, -999.00,9,  -999.0,9,  -999.0,-999.000,9,-999.000, -999.00,9, 1558.80,-999.0000,9,-999.0000,9,-999.0000,9,-999.0000,9,-999.0000,9,-999.0000,-999.000,-999.0000,9, -999.00
318M20040615,        P02,     179,          2,         11,         11,2,20040825,       0642,    31.7778,  -120.2493,       3931,  1764.9,   2.3747,  34.5987,2,  34.5995,2,  64.8000,2,    65.1,2,  156.73,2,   41.57,2,    0.00,2,    2.98,2,   0.015,2,   0.013,2,   0.000,2,  2374.8,2,  -999.0,9,-999.000,9,-999.0000,9, -999.00,9, -999.00,9,  -999.0,9,  -999.0,-999.000,9,-999.000, -999.00,9, 1764.90,-999.0000,9,-999.0000,9,-999.0000,9,-999.0000,9,-999.0000,9,-999.0000,-999.000,-999.0000,9, -999.00
318M20040615,        P02,     179,          2,         10,         10,2,20040825,       0642,    31.7778,  -120.2493,       3931,  1962.8,   2.1470,  34.6183,2,  34.6185,2,  76.7000,2,    76.9,2,  161.37,2,   40.76,2,    0.00,2,    2.91,2,-999.000,9,-999.000,9,-999.000,9,  2371.7,2,  -999.0,9,-999.000,9,-999.0000,9, -999.00,9, -999.00,9,  -999.0,9,  -999.0,-999.000,9,-999.000,   35.80,2, 1962.80,-999.0000,9,-999.0000,9,-999.0000,9,-999.0000,9,-999.0000,9,-999.0000,-999.000,-999.0000,9, -999.00
318M20040615,        P02,     179,          2,          9,          9,2,20040825,       0642,    31.7778,  -120.2493,       3931,  2128.2,   2.0015,  34.6322,2,  34.6331,2,  86.7000,2,    86.6,2,  163.68,2,   40.10,2,    0.00,2,    2.87,2,   0.009,2,   0.008,2,   0.000,2,  2369.2,2,  -999.0,9,-999.000,9,-999.0000,9, -999.00,9, -999.00,9,  -999.0,9,  -999.0,-999.000,9,-999.000,   39.80,3, 2128.20,-999.0000,9,-999.0000,9,-999.0000,9,-999.0000,9,-999.0000,9,-999.0000,-999.000,-999.0000,9, -999.00
318M20040615,        P02,     179,          2,         37,         37,2,20040825,       0642,    31.7778,  -120.2493,       3931,  2380.3,   1.8657,  34.6466,2,  34.6476,2,  98.6000,2,    98.0,2,  164.50,2,   39.68,2,    0.03,4,    2.81,2,-999.000,9,-999.000,9,-999.000,9,  2364.0,2,  -999.0,9,-999.000,9,-999.0000,9, -999.00,9, -999.00,9,  -999.0,9,  -999.0,-999.000,9,-999.000, -999.00,9, 2380.30,-999.0000,9,-999.0000,9,-999.0000,9,-999.0000,9,-999.0000,9,-999.0000,-999.000,-999.0000,9, -999.00
318M20040615,        P02,     179,          2,          7,          7,2,20040825,       0642,    31.7778,  -120.2493,       3931,  2633.6,   1.7624,  34.6565,2,  34.6566,2, 106.3000,2,   105.9,2,  165.76,2,   39.33,2,    0.00,2,    2.75,2,   0.006,2,   0.006,2,   0.000,2,  2360.7,2,  -999.0,9,-999.000,9,-999.0000,9, -999.00,9, -999.00,9,  -999.0,9,  -999.0,-999.000,9,-999.000, -999.00,9, 2633.60,-999.0000,9,-999.0000,9,-999.0000,9,-999.0000,9,-999.0000,9,-999.0000,-999.000,-999.0000,9, -999.00
318M20040615,        P02,     179,          2,          6,          6,2,20040825,       0642,    31.7778,  -120.2493,       3931,  2887.3,   1.6836,  34.6636,2,  34.6643,2, 112.9000,2,   113.7,2,  167.01,2,   38.90,2,    0.00,2,    2.71,2,-999.000,9,-999.000,9,-999.000,9,  2357.3,2,  -999.0,9,-999.000,9,-999.0000,9, -999.00,9, -999.00,9,  -999.0,9,  -999.0,-999.000,9,-999.000,   37.80,2, 2887.30,-999.0000,9,-999.0000,9,-999.0000,9,-999.0000,9,-999.0000,9,-999.0000,-999.000,-999.0000,9, -999.00
318M20040615,        P02,     179,          2,          5,          5,2,20040825,       0642,    31.7778,  -120.2493,       3931,  3146.0,   1.6239,  34.6689,2,  34.6696,2, 119.0000,2,   119.6,2,  167.84,2,   38.45,2,    0.00,2,    2.68,2,   0.012,2,   0.011,2,   0.000,2,  2354.7,2,  -999.0,9,-999.000,9,-999.0000,9, -999.00,9, -999.00,9,  -999.0,9,  -999.0,-999.000,9,-999.000,   35.80,2, 3146.00,-999.0000,9,-999.0000,9,-999.0000,9,-999.0000,9,-999.0000,9,-999.0000,-999.000,-999.0000,9, -999.00
318M20040615,        P02,     179,          2,          4,          4,2,20040825,       0642,    31.7778,  -120.2493,       3931,  3399.5,   1.5849,  34.6732,2,  34.6734,2, 124.0000,2,   124.4,2,  168.87,2,   38.02,2,    0.00,2,    2.65,2,   0.022,2,   0.020,2,   0.000,2,  2349.8,2,  -999.0,9,-999.000,9,-999.0000,9, -999.00,9, -999.00,9,  -999.0,9,  -999.0,-999.000,9,-999.000, -999.00,9, 3399.50,-999.0000,9,-999.0000,9,-999.0000,9,-999.0000,9,-999.0000,9,-999.0000,-999.000,-999.0000,9, -999.00
318M20040615,        P02,     179,          2,          3,          3,2,20040825,       0642,    31.7778,  -120.2493,       3931,  3658.6,   1.5620,  34.6767,2,  34.6773,2, 127.4000,2,   128.2,2,  169.71,2,   37.64,2,    0.00,2,    2.64,2,   0.028,2,   0.026,2,   0.000,2,  2349.1,2,  -999.0,9,-999.000,9,-999.0000,9, -999.00,9, -999.00,9,  -999.0,9,  -999.0,-999.000,9,-999.000,   36.90,2, 3658.60,-999.0000,9,-999.0000,9,-999.0000,9,-999.0000,9,-999.0000,9,-999.0000,-999.000,-999.0000,9, -999.00
318M20040615,        P02,     179,          2,          2,          2,2,20040825,       0642,    31.7778,  -120.2493,       3931,  3857.1,   1.5513,  34.6791,2,  34.6793,2, 130.5000,2,   131.3,2,  169.92,2,   37.37,2,    0.00,2,    2.61,2,   0.032,2,   0.025,2,   0.000,2,  2348.6,6,  -999.0,9,-999.000,9,-999.0000,9, -999.00,9, -999.00,9,  -999.0,9,  -999.0,-999.000,9,-999.000, -999.00,9, 3857.10,-999.0000,9,-999.0000,9,-999.0000,9,-999.0000,9,-999.0000,9,-999.0000,-999.000,-999.0000,9, -999.00
318M20040615,        P02,     179,          2,          1,          1,2,20040825,       0642,    31.7778,  -120.2493,       3931,  4060.4,   1.5575,  34.6803,2,  34.6824,2, 132.0000,2,   132.3,2,  170.14,2,   37.31,2,    0.00,2,    2.61,2,   0.024,2,   0.022,2,   0.000,2,  2346.3,2,  -999.0,9,-999.000,9,-999.0000,9, -999.00,9, -999.00,9,  -999.0,9,  -999.0,-999.000,9,-999.000,   36.90,2, 4060.40,-999.0000,9,-999.0000,9,-999.0000,9,-999.0000,9,-999.0000,9,-999.0000,-999.000,-999.0000,9, -999.00