BOTTLE,20131027SIOCCHRJL
EXPOCODE,SECT_ID,STNNBR,CASTNO,SAMPNO,BTLNBR,BTLNBR_FLAG_W,DATE,TIME,LATITUDE,LONGITUDE,DEPTH,CTDPRS,CTDTMP,CTDSAL,CTDSAL_FLAG_W,SALNTY,SALNTY_FLAG_W,CTDOXY,CTDOXY_FLAG_W,OXYGEN,OXYGEN_FLAG_W,SILCAT,SILCAT_FLAG_W,NITRAT,NITRAT_FLAG_W,NITRIT,NITRIT_FLAG_W,PHSPHT,PHSPHT_FLAG_W,CFC-11,CFC-11_FLAG_W,CFC-12,CFC-12_FLAG_W,CFC113,CFC113_FLAG_W,TCARBN,TCARBN_FLAG_W,ALKALI,ALKALI_FLAG_W,TRITUM,TRITUM_FLAG_W,HELIUM,HELIUM_FLAG_W,DELHE3,DELHE3_FLAG_W,DELC13,DELC13_FLAG_W,DELC14,DELC14_FLAG_W,C14ERR,NEON,NEON_FLAG_W,NEONER,DOC,DOC_FLAG_W,CTDRAW,CDOM380,CDOM380_FLAG_W,CDOM325,CDOM325_FLAG_W,CDOMSL,CDOMSL_FLAG_W,CDOM340,CDOM340_FLAG_W,CDOMSN,CDOMSN_FLAG_W,HELIER,TRITER,CDOM412,CDOM412_FLAG_W,DELHER
,,,,,,,,,,,METERS,DBAR,ITS-90,PSS-78,,PSS-78,,UMOL/KG,,UMOL/KG,,UMOL/KG,,UMOL/KG,,UMOL/KG,,UMOL/KG,,PMOL/KG,,PMOL/KG,,PMOL/KG,,UMOL/KG,,UMOL/KG,,TU,,NMOL/KG,,PERCNT,,/MILLE,,/MILLE,,/MILLE,NMOL/KG,,NMOL/KG,UMOL/KG,,DBAR,1/M,,1/M,,1/NM,,1/M,,1/NM,,NMOL/KG,TU,1/M,,PERCNT
318M20040615,        P02,       9,          1,         32,         32,2,20040618,       0913,    31.6288,   133.7515,       4885,    11.7,  25.0403,  34.3943,2,  34.3924,2, 211.1000,2,   210.2,2,    1.28,2,    0.00,2,    0.00,2,    0.06,2,-999.000,9,-999.000,9,-999.000,9,  1943.1,6,  2263.6,2,-999.000,9,-999.0000,9, -999.00,9,    1.20,2,    56.4,2,     4.5,-999.000,9,-999.000, -999.00,9,   11.70,-999.0000,9,-999.0000,9,-999.0000,9,-999.0000,9,-999.0000,9,-999.0000,-999.000,-999.0000,9, -999.00
318M20040615,        P02,       9,          1,         31,         31,2,20040618,       0913,    31.6288,   133.7515,       4885,    41.7,  23.3219,  34.4624,2,  34.4505,2, 219.8000,2,   213.9,2,    1.84,2,    0.00,2,    0.00,2,    0.07,2,-999.000,9,-999.000,9,-999.000,9,  1960.3,2,  2270.4,2,-999.000,9,-999.0000,9, -999.00,9,    1.15,2,    62.6,2,     4.7,-999.000,9,-999.000, -999.00,9,   41.70,-999.0000,9,-999.0000,9,-999.0000,9,-999.0000,9,-999.0000,9,-999.0000,-999.000,-999.0000,9, -999.00
318M20040615,        P02,       9,          1,         30,         30,2,20040618,       0913,    31.6288,   133.7515,       4885,    87.0,  20.7687,  34.8088,2,  34.8070,2, 188.2000,2,   192.4,2,    3.28,2,    2.99,2,    0.05,2,    0.26,2,-999.000,9,-999.000,9,-999.000,9,  -999.0,9,  -999.0,9,-999.000,9,-999.0000,9, -999.00,9, -999.00,9,  -999.0,9,  -999.0,-999.000,9,-999.000, -999.00,9,   87.00,-999.0000,9,-999.0000,9,-999.0000,9,-999.0000,9,-999.0000,9,-999.0000,-999.000,-999.0000,9, -999.00
318M20040615,        P02,       9,          1,         29,         29,2,20040618,       0913,    31.6288,   133.7515,       4885,   136.7,  18.6686,  34.6361,2,  34.6337,2, 190.5000,2,   204.5,2,    5.10,2,    3.57,2,    0.03,2,    0.33,2,-999.000,9,-999.000,9,-999.000,9,  2017.3,2,  2279.5,2,-999.000,9,-999.0000,9, -999.00,9,    0.82,2,    84.2,2,     5.1,-999.000,9,-999.000, -999.00,9,  136.70,-999.0000,9,-999.0000,9,-999.0000,9,-999.0000,9,-999.0000,9,-999.0000,-999.000,-999.0000,9, -999.00
318M20040615,        P02,       9,          1,         28,         28,2,20040618,       0913,    31.6288,   133.7515,       4885,   185.9,  16.8017,  34.6619,2,  34.6606,2, 183.3000,2,   185.7,2,    9.47,2,    7.80,2,    0.01,2,    0.60,2,-999.000,9,-999.000,9,-999.000,9,  -999.0,9,  -999.0,9,-999.000,9,-999.0000,9, -999.00,9,    0.64,2,    75.1,2,     5.6,-999.000,9,-999.000, -999.00,9,  185.90,-999.0000,9,-999.0000,9,-999.0000,9,-999.0000,9,-999.0000,9,-999.0000,-999.000,-999.0000,9, -999.00
318M20040615,        P02,       9,          1,         27,         27,2,20040618,       0913,    31.6288,   133.7515,       4885,   236.8,  15.1238,  34.5909,2,  34.5907,2, 176.2000,2,   177.0,2,   14.21,2,   10.83,2,    0.01,2,    0.81,2,-999.000,9,-999.000,9,-999.000,9,  -999.0,9,  -999.0,9,-999.000,9,-999.0000,9, -999.00,9, -999.00,9,  -999.0,9,  -999.0,-999.000,9,-999.000, -999.00,9,  236.80,-999.0000,9,-999.0000,9,-999.0000,9,-999.0000,9,-999.0000,9,-999.0000,-999.000,-999.0000,9, -999.00
318M20040615,        P02,       9,          1,         26,         26,2,20040618,       0913,    31.6288,   133.7515,       4885,   281.8,  12.5124,  34.4590,2,  34.4584,2, 159.3000,2,   159.8,3,   25.33,2,   16.51,2,    0.01,2,    1.21,2,-999.000,9,-999.000,9,-999.000,9,  2123.2,2,  2285.1,2,-999.000,9,-999.0000,9, -999.00,9,    0.42,2,    40.2,2,     4.6,-999.000,9,-999.000, -999.00,9,  281.80,-999.0000,9,-999.0000,9,-999.0000,9,-999.0000,9,-999.0000,9,-999.0000,-999.000,-999.0000,9, -999.00
318M20040615,        P02,       9,          1,         25,         25,2,20040618,       0913,    31.6288,   133.7515,       4885,   371.5,   9.8749,  34.3205,2,  34.3199,2, 144.7000,2,   143.4,2,   39.03,2,   22.34,2,    0.00,2,    1.63,2,-999.000,9,-999.000,9,-999.000,9,  -999.0,9,  -999.0,9,-999.000,9,-999.0000,9, -999.00,9,    0.30,2,    -3.6,2,     5.6,-999.000,9,-999.000, -999.00,9,  371.50,-999.0000,9,-999.0000,9,-999.0000,9,-999.0000,9,-999.0000,9,-999.0000,-999.000,-999.0000,9, -999.00
318M20040615,        P02,       9,          1,         24,         24,2,20040618,       0913,    31.6288,   133.7515,       4885,   477.2,   7.4312,  34.2284,2,  34.2284,2, 117.0000,2,   117.5,2,   59.40,2,   28.90,2,    0.00,2,    2.12,2,-999.000,9,-999.000,9,-999.000,9,  2220.7,2,  2302.9,2,-999.000,9,-999.0000,9, -999.00,9, -999.00,5,  -999.0,5,  -999.0,-999.000,9,-999.000, -999.00,9,  477.20,-999.0000,9,-999.0000,9,-999.0000,9,-999.0000,9,-999.0000,9,-999.0000,-999.000,-999.0000,9, -999.00
318M20040615,        P02,       9,          1,         23,         23,2,20040618,       0913,    31.6288,   133.7515,       4885,   577.0,   5.8317,  34.2436,2,  34.2431,2,  92.0000,2,    89.6,2,   80.41,2,   34.13,2,    0.00,2,    2.49,2,-999.000,9,-999.000,9,-999.000,9,  -999.0,9,  -999.0,9,-999.000,9,-999.0000,9, -999.00,9,    0.00,2,  -104.1,2,     4.6,-999.000,9,-999.000, -999.00,9,  577.00,-999.0000,9,-999.0000,9,-999.0000,9,-999.0000,9,-999.0000,9,-999.0000,-999.000,-999.0000,9, -999.00
318M20040615,        P02,       9,          1,         22,         22,2,20040618,       0913,    31.6288,   133.7515,       4885,   670.9,   4.8854,  34.2906,2,  34.2893,2,  75.6000,2,    74.0,2,   96.13,2,   37.10,2,    0.00,2,    2.71,2,-999.000,9,-999.000,9,-999.000,9,  2298.5,2,  2338.8,2,-999.000,9,-999.0000,9, -999.00,9,   -0.10,2,  -142.0,2,     5.7,-999.000,9,-999.000, -999.00,9,  670.90,-999.0000,9,-999.0000,9,-999.0000,9,-999.0000,9,-999.0000,9,-999.0000,-999.000,-999.0000,9, -999.00
318M20040615,        P02,       9,          1,         21,         21,2,20040618,       0913,    31.6288,   133.7515,       4885,   777.8,   4.3004,  34.3508,2,  34.3491,2,  67.8000,2,    67.5,2,  107.63,2,   38.59,2,    0.00,2,    2.81,2,-999.000,9,-999.000,9,-999.000,9,  -999.0,9,  -999.0,9,-999.000,9,-999.0000,9, -999.00,9,   -0.10,2,  -163.0,2,     4.5,-999.000,9,-999.000, -999.00,9,  777.80,-999.0000,9,-999.0000,9,-999.0000,9,-999.0000,9,-999.0000,9,-999.0000,-999.000,-999.0000,9, -999.00
318M20040615,        P02,       9,          1,         20,         20,2,20040618,       0913,    31.6288,   133.7515,       4885,   879.5,   3.8162,  34.3918,2,  34.3912,2,  65.2000,2,    65.5,2,  117.47,2,   39.38,2,    0.00,2,    2.87,2,-999.000,9,-999.000,9,-999.000,9,  2329.0,2,  2365.1,2,-999.000,9,-999.0000,9, -999.00,9,   -0.19,2,  -186.5,2,     4.1,-999.000,9,-999.000, -999.00,9,  879.50,-999.0000,9,-999.0000,9,-999.0000,9,-999.0000,9,-999.0000,9,-999.0000,-999.000,-999.0000,9, -999.00
318M20040615,        P02,       9,          1,         19,         19,2,20040618,       0913,    31.6288,   133.7515,       4885,   940.2,   3.5422,  34.4128,2,  34.4116,2,  63.6000,2,    64.3,2,  123.24,2,   39.86,2,    0.00,2,    2.89,2,-999.000,9,-999.000,9,-999.000,9,  2336.4,2,  2370.2,2,-999.000,9,-999.0000,9, -999.00,9,   -0.18,2,  -195.1,2,     3.5,-999.000,9,-999.000, -999.00,9,  940.20,-999.0000,9,-999.0000,9,-999.0000,9,-999.0000,9,-999.0000,9,-999.0000,-999.000,-999.0000,9, -999.00
318M20040615,        P02,       9,          1,         18,         18,2,20040618,       0913,    31.6288,   133.7515,       4885,   983.0,   3.4603,  34.4242,2,  34.4223,2,  65.0000,2,    65.3,2,  124.74,2,   39.92,2,    0.00,2,    2.90,2,-999.000,9,-999.000,9,-999.000,9,  2338.2,2,  2372.1,2,-999.000,9,-999.0000,9, -999.00,9,   -0.21,2,  -197.6,2,     3.6,-999.000,9,-999.000, -999.00,9,  983.00,-999.0000,9,-999.0000,9,-999.0000,9,-999.0000,9,-999.0000,9,-999.0000,-999.000,-999.0000,9, -999.00
318M20040615,        P02,       9,          1,         17,         17,2,20040618,       0913,    31.6288,   133.7515,       4885,  1083.2,   3.1515,  34.4570,2,  34.4547,2,  67.3000,2,    67.5,2,  130.88,2,   40.13,2,    0.00,2,    2.91,2,-999.000,9,-999.000,9,-999.000,9,  2345.1,6,  2381.2,6,-999.000,9,-999.0000,9, -999.00,9,   -0.19,2,  -201.3,2,     4.1,-999.000,9,-999.000, -999.00,9, 1083.20,-999.0000,9,-999.0000,9,-999.0000,9,-999.0000,9,-999.0000,9,-999.0000,-999.000,-999.0000,9, -999.00
318M20040615,        P02,       9,          1,         16,         16,2,20040618,       0913,    31.6288,   133.7515,       4885,  1186.6,   2.8759,  34.4923,2,  34.4897,2,  70.5000,2,    73.5,2,  135.18,2,   39.97,2,    0.00,2,    2.90,2,-999.000,9,-999.000,9,-999.000,9,  -999.0,9,  -999.0,9,-999.000,9,-999.0000,9, -999.00,9, -999.00,9,  -999.0,9,  -999.0,-999.000,9,-999.000, -999.00,9, 1186.60,-999.0000,9,-999.0000,9,-999.0000,9,-999.0000,9,-999.0000,9,-999.0000,-999.000,-999.0000,9, -999.00
318M20040615,        P02,       9,          1,         15,         15,2,20040618,       0913,    31.6288,   133.7515,       4885,  1287.5,   2.7287,  34.5092,2,  34.5074,2,  76.6000,2,    76.9,2,  137.78,2,   39.97,2,    0.00,2,    2.89,2,-999.000,9,-999.000,9,-999.000,9,  -999.0,9,  -999.0,9,-999.000,9,-999.0000,9, -999.00,9,   -0.17,2,  -235.0,2,     3.7,-999.000,9,-999.000, -999.00,9, 1287.50,-999.0000,9,-999.0000,9,-999.0000,9,-999.0000,9,-999.0000,9,-999.0000,-999.000,-999.0000,9, -999.00
318M20040615,        P02,       9,          1,         14,         14,2,20040618,       0913,    31.6288,   133.7515,       4885,  1387.6,   2.5802,  34.5278,2,  34.5257,2,  79.7000,2,    81.6,2,  139.66,2,   39.75,2,    0.00,2,    2.88,2,-999.000,9,-999.000,9,-999.000,9,  -999.0,9,  -999.0,9,-999.000,9,-999.0000,9, -999.00,9, -999.00,9,  -999.0,9,  -999.0,-999.000,9,-999.000, -999.00,9, 1387.60,-999.0000,9,-999.0000,9,-999.0000,9,-999.0000,9,-999.0000,9,-999.0000,-999.000,-999.0000,9, -999.00
318M20040615,        P02,       9,          1,         13,         13,2,20040618,       0913,    31.6288,   133.7515,       4885,  1489.0,   2.4444,  34.5434,2,  34.5423,2,  85.7000,2,    85.8,2,  142.27,2,   39.64,2,    0.00,2,    2.88,2,-999.000,9,-999.000,9,-999.000,9,  -999.0,9,  -999.0,9,-999.000,9,-999.0000,9, -999.00,9,   -0.16,2,  -216.5,2,     4.6,-999.000,9,-999.000, -999.00,9, 1489.00,-999.0000,9,-999.0000,9,-999.0000,9,-999.0000,9,-999.0000,9,-999.0000,-999.000,-999.0000,9, -999.00
318M20040615,        P02,       9,          1,         12,         12,2,20040618,       0913,    31.6288,   133.7515,       4885,  1587.2,   2.3528,  34.5557,2,  34.5555,2,  90.6000,2,    90.1,2,  143.01,2,   39.49,2,    0.00,2,    2.87,2,-999.000,9,-999.000,9,-999.000,9,  -999.0,9,  -999.0,9,-999.000,9,-999.0000,9, -999.00,9,   -0.08,2,  -210.8,2,     3.2,-999.000,9,-999.000, -999.00,9, 1587.20,-999.0000,9,-999.0000,9,-999.0000,9,-999.0000,9,-999.0000,9,-999.0000,-999.000,-999.0000,9, -999.00
318M20040615,        P02,       9,          1,         11,         11,2,20040618,       0913,    31.6288,   133.7515,       4885,  1750.1,   2.1948,  34.5775,2,  34.5744,2,  98.0000,3,    98.0,2,  144.14,2,   39.06,2,    0.00,2,    2.83,2,-999.000,9,-999.000,9,-999.000,9,  -999.0,9,  -999.0,9,-999.000,9,-999.0000,9, -999.00,9,   -0.01,2,  -216.5,2,     3.3,-999.000,9,-999.000, -999.00,9, 1750.10,-999.0000,9,-999.0000,9,-999.0000,9,-999.0000,9,-999.0000,9,-999.0000,-999.000,-999.0000,9, -999.00
318M20040615,        P02,       9,          1,         10,         10,2,20040618,       0913,    31.6288,   133.7515,       4885,  1954.0,   2.0469,  34.5988,2,  34.5963,2, 105.3000,3,   107.0,2,  145.07,2,   38.63,2,    0.00,2,    2.79,2,-999.000,9,-999.000,9,-999.000,9,  -999.0,9,  -999.0,9,-999.000,9,-999.0000,9, -999.00,9,    0.02,2,  -223.2,2,     3.5,-999.000,9,-999.000, -999.00,9, 1954.00,-999.0000,9,-999.0000,9,-999.0000,9,-999.0000,9,-999.0000,9,-999.0000,-999.000,-999.0000,9, -999.00
318M20040615,        P02,       9,          1,          9,          9,2,20040618,       0913,    31.6288,   133.7515,       4885,  2200.7,   1.8939,  34.6208,2,  34.6177,2, 115.5000,3,   117.1,2,  145.24,2,   38.04,2,    0.00,2,    2.75,2,-999.000,9,-999.000,9,-999.000,9,  -999.0,9,  -999.0,9,-999.000,9,-999.0000,9, -999.00,9,    0.09,2,  -222.3,2,     3.8,-999.000,9,-999.000, -999.00,9, 2200.70,-999.0000,9,-999.0000,9,-999.0000,9,-999.0000,9,-999.0000,9,-999.0000,-999.000,-999.0000,9, -999.00
318M20040615,        P02,       9,          1,          8,          8,2,20040618,       0913,    31.6288,   133.7515,       4885,  2453.0,   1.7703,  34.6383,2,  34.6353,2, 126.4000,3,   126.8,2,  145.24,2,   37.56,2,    0.00,2,    2.71,2,-999.000,9,-999.000,9,-999.000,9,  -999.0,9,  -999.0,9,-999.000,9,-999.0000,9, -999.00,9,    0.14,2,  -227.3,2,     3.3,-999.000,9,-999.000, -999.00,9, 2453.00,-999.0000,9,-999.0000,9,-999.0000,9,-999.0000,9,-999.0000,9,-999.0000,-999.000,-999.0000,9, -999.00
318M20040615,        P02,       9,          1,          7,          7,2,20040618,       0913,    31.6288,   133.7515,       4885,  2706.4,   1.6803,  34.6517,2,  34.6487,2, 134.0000,3,   134.0,2,  144.67,2,   37.08,2,    0.00,2,    2.67,2,-999.000,9,-999.000,9,-999.000,9,  -999.0,9,  -999.0,9,-999.000,9,-999.0000,9, -999.00,9,    0.17,2,  -215.0,2,     3.9,-999.000,9,-999.000, -999.00,9, 2706.40,-999.0000,9,-999.0000,9,-999.0000,9,-999.0000,9,-999.0000,9,-999.0000,-999.000,-999.0000,9, -999.00
318M20040615,        P02,       9,          1,          6,          6,2,20040618,       0913,    31.6288,   133.7515,       4885,  2963.3,   1.6078,  34.6629,2,  34.6615,2, 140.3000,3,   141.1,2,  143.73,2,   36.66,2,    0.00,2,    2.60,2,-999.000,9,-999.000,9,-999.000,9,  -999.0,9,  -999.0,9,-999.000,9,-999.0000,9, -999.00,9,    0.21,2,  -217.4,2,     3.6,-999.000,9,-999.000, -999.00,9, 2963.30,-999.0000,9,-999.0000,9,-999.0000,9,-999.0000,9,-999.0000,9,-999.0000,-999.000,-999.0000,9, -999.00
318M20040615,        P02,       9,          1,          5,          5,2,20040618,       0913,    31.6288,   133.7515,       4885,  3298.9,   1.5558,  34.6721,2,  34.6684,2, 146.7000,3,   147.0,2,  143.19,2,   36.34,2,    0.00,2,    2.57,2,-999.000,9,-999.000,9,-999.000,9,  -999.0,9,  -999.0,9,-999.000,9,-999.0000,9, -999.00,9,    0.25,2,  -220.0,2,     3.5,-999.000,9,-999.000, -999.00,9, 3298.90,-999.0000,9,-999.0000,9,-999.0000,9,-999.0000,9,-999.0000,9,-999.0000,-999.000,-999.0000,9, -999.00
318M20040615,        P02,       9,          1,          4,          4,2,20040618,       0913,    31.6288,   133.7515,       4885,  3705.2,   1.5427,  34.6779,2,  34.6763,2, 150.9000,3,   151.2,2,  142.79,2,   36.07,2,    0.00,2,    2.54,2,-999.000,9,-999.000,9,-999.000,9,  -999.0,9,  -999.0,9,-999.000,9,-999.0000,9, -999.00,9,    0.07,3,  -225.0,2,     4.3,-999.000,9,-999.000, -999.00,9, 3705.20,-999.0000,9,-999.0000,9,-999.0000,9,-999.0000,9,-999.0000,9,-999.0000,-999.000,-999.0000,9, -999.00
318M20040615,        P02,       9,          1,          3,          3,2,20040618,       0913,    31.6288,   133.7515,       4885,  4120.2,   1.5623,  34.6807,2,  34.6773,2, 152.9000,3,   153.2,2,  142.42,2,   35.96,2,    0.00,2,    2.54,2,-999.000,9,-999.000,9,-999.000,9,  -999.0,9,  -999.0,9,-999.000,9,-999.0000,9, -999.00,9,    0.22,2,  -219.6,2,     3.4,-999.000,9,-999.000, -999.00,9, 4120.20,-999.0000,9,-999.0000,9,-999.0000,9,-999.0000,9,-999.0000,9,-999.0000,-999.000,-999.0000,9, -999.00
318M20040615,        P02,       9,          1,          2,          2,2,20040618,       0913,    31.6288,   133.7515,       4885,  4529.6,   1.5993,  34.6819,2,  34.6786,2, 153.7000,3,   154.1,2,  142.22,2,   35.96,2,    0.00,2,    2.53,2,-999.000,9,-999.000,9,-999.000,9,  -999.0,9,  -999.0,9,-999.000,9,-999.0000,9, -999.00,9,    0.27,2,  -212.4,2,     3.9,-999.000,9,-999.000, -999.00,9, 4529.60,-999.0000,9,-999.0000,9,-999.0000,9,-999.0000,9,-999.0000,9,-999.0000,-999.000,-999.0000,9, -999.00
318M20040615,        P02,       9,          1,          1,          1,2,20040618,       0913,    31.6288,   133.7515,       4885,  4967.7,   1.6436,  34.6827,2,  34.6808,2, 154.3000,2,  -999.0,5,  142.22,2,   35.91,2,    0.00,2,    2.53,2,-999.000,9,-999.000,9,-999.000,9,  -999.0,9,  -999.0,9,-999.000,9,-999.0000,9, -999.00,9,    0.30,2,  -214.6,2,     4.2,-999.000,9,-999.000, -999.00,9, 4967.70,-999.0000,9,-999.0000,9,-999.0000,9,-999.0000,9,-999.0000,9,-999.0000,-999.000,-999.0000,9, -999.00