BOTTLE,20131027SIOCCHRJL
EXPOCODE,SECT_ID,STNNBR,CASTNO,SAMPNO,BTLNBR,BTLNBR_FLAG_W,DATE,TIME,LATITUDE,LONGITUDE,DEPTH,CTDPRS,CTDTMP,CTDSAL,CTDSAL_FLAG_W,SALNTY,SALNTY_FLAG_W,CTDOXY,CTDOXY_FLAG_W,OXYGEN,OXYGEN_FLAG_W,SILCAT,SILCAT_FLAG_W,NITRAT,NITRAT_FLAG_W,NITRIT,NITRIT_FLAG_W,PHSPHT,PHSPHT_FLAG_W,CFC-11,CFC-11_FLAG_W,CFC-12,CFC-12_FLAG_W,CFC113,CFC113_FLAG_W,TCARBN,TCARBN_FLAG_W,ALKALI,ALKALI_FLAG_W,TRITUM,TRITUM_FLAG_W,HELIUM,HELIUM_FLAG_W,DELHE3,DELHE3_FLAG_W,DELC13,DELC13_FLAG_W,DELC14,DELC14_FLAG_W,C14ERR,NEON,NEON_FLAG_W,NEONER,DOC,DOC_FLAG_W,CTDRAW,CDOM380,CDOM380_FLAG_W,CDOM325,CDOM325_FLAG_W,CDOMSL,CDOMSL_FLAG_W,CDOM340,CDOM340_FLAG_W,CDOMSN,CDOMSN_FLAG_W,HELIER,TRITER,CDOM412,CDOM412_FLAG_W,DELHER
,,,,,,,,,,,METERS,DBAR,ITS-90,PSS-78,,PSS-78,,UMOL/KG,,UMOL/KG,,UMOL/KG,,UMOL/KG,,UMOL/KG,,UMOL/KG,,PMOL/KG,,PMOL/KG,,PMOL/KG,,UMOL/KG,,UMOL/KG,,TU,,NMOL/KG,,PERCNT,,/MILLE,,/MILLE,,/MILLE,NMOL/KG,,NMOL/KG,UMOL/KG,,DBAR,1/M,,1/M,,1/NM,,1/M,,1/NM,,NMOL/KG,TU,1/M,,PERCNT
318M20040615,        P02,     119,          2,         36,         36,2,20040804,       0316,     30.003,  -159.7015,       5691,    11.8,  25.4617,  35.3385,2,  35.3387,2, 210.3000,2,   210.0,2,    1.08,2,    0.09,2,    0.00,2,    0.02,2,   1.877,2,   1.064,2,   0.130,2,  2006.4,6,  2323.4,6,-999.000,9,   1.7374,2,   -1.17,2, -999.00,9,  -999.0,9,  -999.0,-999.000,9,-999.000, -999.00,9,   11.80,-999.0000,9,-999.0000,9,-999.0000,9,-999.0000,9,-999.0000,9,   0.0087,-999.000,-999.0000,9,    0.20
318M20040615,        P02,     119,          2,         35,         35,2,20040804,       0316,     30.003,  -159.7015,       5691,    36.5,  21.2246,  34.9849,2,  34.9870,2, 237.6000,2,   238.3,2,    2.21,2,    0.04,2,    0.00,2,    0.04,2,   2.341,2,   1.372,2,   0.156,2,  2013.8,2,  2301.9,2,   0.822,2,   1.7662,2,   -1.26,2, -999.00,9,  -999.0,9,  -999.0,-999.000,9,-999.000, -999.00,9,   36.50,-999.0000,9,-999.0000,9,-999.0000,9,-999.0000,9,-999.0000,9,   0.0088,   0.008,-999.0000,9,    0.20
318M20040615,        P02,     119,          2,         34,         34,2,20040804,       0316,     30.003,  -159.7015,       5691,    71.2,  17.7737,  34.8281,2,  34.8269,2, 246.7000,2,   245.9,2,    2.58,2,    0.04,2,    0.00,2,    0.08,2,-999.000,9,-999.000,9,-999.000,9,  2013.7,2,  2290.8,2,-999.000,9,-999.0000,9, -999.00,9, -999.00,9,  -999.0,9,  -999.0,-999.000,9,-999.000, -999.00,9,   71.20,-999.0000,9,-999.0000,9,-999.0000,9,-999.0000,9,-999.0000,9,-999.0000,-999.000,-999.0000,9, -999.00
318M20040615,        P02,     119,          2,         33,         33,2,20040804,       0316,     30.003,  -159.7015,       5691,   121.3,  15.5168,  34.6163,2,  34.6173,2, 228.5000,2,   229.0,2,    4.10,2,    3.08,2,    0.14,2,    0.30,2,   2.792,2,   1.615,2,   0.159,2,  2035.1,2,  2277.1,2,   0.815,2,   1.7760,2,   -0.66,2, -999.00,9,  -999.0,9,  -999.0,-999.000,9,-999.000, -999.00,9,  121.30,-999.0000,9,-999.0000,9,-999.0000,9,-999.0000,9,-999.0000,9,   0.0089,   0.008,-999.0000,9,    0.20
318M20040615,        P02,     119,          2,         32,         32,2,20040804,       0316,     30.003,  -159.7015,       5691,   171.1,  14.3320,  34.4713,2,  34.4710,2, 217.4000,2,   218.8,2,    6.17,2,    6.48,2,    0.01,2,    0.51,2,   2.929,2,   1.659,2,   0.107,2,  2051.2,2,  2270.3,2,   0.856,2,   1.7748,2,   -0.12,2, -999.00,9,  -999.0,9,  -999.0,-999.000,9,-999.000, -999.00,9,  171.10,-999.0000,9,-999.0000,9,-999.0000,9,-999.0000,9,-999.0000,9,   0.0089,   0.008,-999.0000,9,    0.20
318M20040615,        P02,     119,          2,         31,         31,2,20040804,       0316,     30.003,  -159.7015,       5691,   220.9,  13.0927,  34.3701,2,  34.3719,2, 217.8000,2,   218.6,2,    8.63,2,    8.90,2,    0.01,2,    0.67,2,   3.063,2,   1.731,2,   0.080,2,  2068.2,2,  2267.1,2,   0.842,2,   1.7861,2,    0.04,2, -999.00,9,  -999.0,9,  -999.0,-999.000,9,-999.000, -999.00,9,  220.90,-999.0000,9,-999.0000,9,-999.0000,9,-999.0000,9,-999.0000,9,   0.0089,   0.006,-999.0000,9,    0.20
318M20040615,        P02,     119,          2,         30,         30,2,20040804,       0316,     30.003,  -159.7015,       5691,   270.7,  12.2241,  34.3118,2,  34.3122,2, 219.5000,2,   221.0,2,   10.71,2,   10.51,2,    0.01,2,    0.77,2,   3.170,2,   1.757,2,   0.083,2,  2073.3,2,  2266.0,2,-999.000,9,-999.0000,9, -999.00,9, -999.00,9,  -999.0,9,  -999.0,-999.000,9,-999.000, -999.00,9,  270.70,-999.0000,9,-999.0000,9,-999.0000,9,-999.0000,9,-999.0000,9,-999.0000,-999.000,-999.0000,9, -999.00
318M20040615,        P02,     119,          2,         29,         29,2,20040804,       0316,     30.003,  -159.7015,       5691,   319.2,  11.3579,  34.2360,2,  34.2369,2, 219.3000,2,   219.5,2,   12.99,2,   12.28,2,    0.00,2,    0.89,2,   3.318,2,   1.795,2,   0.084,2,  2083.4,2,  2263.4,2,   0.849,2,   1.7782,2,    1.10,2, -999.00,9,  -999.0,9,  -999.0,-999.000,9,-999.000, -999.00,9,  319.20,-999.0000,9,-999.0000,9,-999.0000,9,-999.0000,9,-999.0000,9,   0.0089,   0.007,-999.0000,9,    0.20
318M20040615,        P02,     119,          2,         28,         28,2,20040804,       0316,     30.003,  -159.7015,       5691,   370.0,  10.5322,  34.1869,2,  34.1874,2, 213.2000,2,   214.7,2,   16.39,2,   14.44,2,    0.00,2,    1.03,2,-999.000,9,-999.000,9,-999.000,9,  2097.2,2,  2266.1,2,-999.000,9,-999.0000,9, -999.00,9, -999.00,9,  -999.0,9,  -999.0,-999.000,9,-999.000, -999.00,9,  370.00,-999.0000,9,-999.0000,9,-999.0000,9,-999.0000,9,-999.0000,9,-999.0000,-999.000,-999.0000,9, -999.00
318M20040615,        P02,     119,          2,         27,         27,2,20040804,       0316,     30.003,  -159.7015,       5691,   425.4,   9.6238,  34.1464,2,  34.1449,2, 199.1000,2,   199.1,2,   22.27,2,   17.78,2,    0.00,2,    1.25,2,   3.235,2,   1.684,2,   0.100,2,  2119.3,2,  2268.3,2,   0.797,2,   1.8148,2,    4.36,2, -999.00,9,  -999.0,9,  -999.0,-999.000,9,-999.000, -999.00,9,  425.40,-999.0000,9,-999.0000,9,-999.0000,9,-999.0000,9,-999.0000,9,   0.0091,   0.007,-999.0000,9,    0.20
318M20040615,        P02,     119,          2,         26,         26,2,20040804,       0316,     30.003,  -159.7015,       5691,   475.2,   8.5594,  34.0917,2,  34.0923,2, 179.4000,2,   179.3,2,   30.63,2,   21.67,2,    0.00,2,    1.53,2,   2.986,2,   1.536,2,   0.111,2,  2148.1,2,  2277.3,2,   0.834,2,   1.8187,2,    7.32,2, -999.00,9,  -999.0,9,  -999.0,-999.000,9,-999.000, -999.00,9,  475.20,-999.0000,9,-999.0000,9,-999.0000,9,-999.0000,9,-999.0000,9,   0.0091,   0.006,-999.0000,9,    0.20
318M20040615,        P02,     119,          2,         25,         25,2,20040804,       0316,     30.003,  -159.7015,       5691,   550.3,   6.8507,  34.0171,2,  34.0173,2, 141.8000,2,   141.0,2,   47.98,2,   28.48,2,    0.00,2,    2.03,2,-999.000,9,-999.000,9,-999.000,9,  2199.2,2,  2283.8,2,-999.000,9,-999.0000,9, -999.00,9, -999.00,9,  -999.0,9,  -999.0,-999.000,9,-999.000, -999.00,9,  550.30,-999.0000,9,-999.0000,9,-999.0000,9,-999.0000,9,-999.0000,9,-999.0000,-999.000,-999.0000,9, -999.00
318M20040615,        P02,     119,          2,         24,         24,2,20040804,       0316,     30.003,  -159.7015,       5691,   647.8,   5.3444,  34.0191,2,  34.0188,2,  98.4000,2,    96.2,2,   70.82,2,   34.96,2,    0.00,2,    2.52,2,   1.329,2,   0.653,2,   0.038,2,  2254.9,2,  2300.3,2,-999.000,9,   1.8580,2,   16.02,2, -999.00,9,  -999.0,9,  -999.0,-999.000,9,-999.000, -999.00,9,  647.80,-999.0000,9,-999.0000,9,-999.0000,9,-999.0000,9,-999.0000,9,   0.0093,-999.000,-999.0000,9,    0.20
318M20040615,        P02,     119,          2,         23,         23,2,20040804,       0316,     30.003,  -159.7015,       5691,   747.6,   4.4777,  34.0918,2,  34.0911,2,  58.8000,2,    51.9,2,   91.85,2,   40.11,2,    0.00,2,    2.88,2,   0.481,2,   0.236,2,   0.007,2,  2302.6,2,  2320.7,2,   0.348,2,   1.8742,2,   17.20,2, -999.00,9,  -999.0,9,  -999.0,-999.000,9,-999.000, -999.00,9,  747.60,-999.0000,9,-999.0000,9,-999.0000,9,-999.0000,9,-999.0000,9,   0.0094,   0.004,-999.0000,9,    0.20
318M20040615,        P02,     119,          2,         22,         22,2,20040804,       0316,     30.003,  -159.7015,       5691,   847.7,   4.0060,  34.1806,2,  34.1775,2,  28.5000,3,    25.9,2,  107.56,2,   42.66,2,    0.00,2,    3.06,2,   0.134,2,   0.067,2,   0.000,2,  2335.0,2,  2340.1,2,   0.168,2,   1.8828,2,   15.33,2, -999.00,9,  -999.0,9,  -999.0,-999.000,9,-999.000, -999.00,9,  847.70,-999.0000,9,-999.0000,9,-999.0000,9,-999.0000,9,-999.0000,9,   0.0094,   0.003,-999.0000,9,    0.20
318M20040615,        P02,     119,          2,         21,         21,2,20040804,       0316,     30.003,  -159.7015,       5691,   949.8,   3.6601,  34.2840,2,  34.2807,2,  14.5000,3,    13.4,2,  121.19,2,   43.88,2,    0.00,2,    3.17,2,   0.030,6,   0.015,6,   0.000,6,  2357.6,2,  2350.5,2,-999.000,9,-999.0000,9, -999.00,9, -999.00,9,  -999.0,9,  -999.0,-999.000,9,-999.000, -999.00,9,  949.80,-999.0000,9,-999.0000,9,-999.0000,9,-999.0000,9,-999.0000,9,-999.0000,-999.000,-999.0000,9, -999.00
318M20040615,        P02,     119,          2,         20,         20,2,20040804,       0316,     30.003,  -159.7015,       5691,  1054.5,   3.4358,  34.3699,2,  34.3662,2,  12.6000,3,    13.6,2,  129.60,2,   44.10,2,    0.00,2,    3.20,2,   0.006,2,   0.010,2,   0.000,2,  2368.5,6,  2372.2,2,   0.036,2,   1.9027,2,   16.20,2, -999.00,9,  -999.0,9,  -999.0,-999.000,9,-999.000, -999.00,9, 1054.50,-999.0000,9,-999.0000,9,-999.0000,9,-999.0000,9,-999.0000,9,   0.0095,   0.001,-999.0000,9,    0.20
318M20040615,        P02,     119,          2,         19,         19,2,20040804,       0316,     30.003,  -159.7015,       5691,  1153.5,   3.2712,  34.4313,2,  34.4296,2,  20.0000,3,    21.1,2,  133.90,2,   43.88,2,    0.00,2,    3.17,2,   0.004,2,   0.002,2,   0.000,2,  2369.9,2,  2380.5,2,-999.000,9,-999.0000,9, -999.00,9, -999.00,9,  -999.0,9,  -999.0,-999.000,9,-999.000, -999.00,9, 1153.50,-999.0000,9,-999.0000,9,-999.0000,9,-999.0000,9,-999.0000,9,-999.0000,-999.000,-999.0000,9, -999.00
318M20040615,        P02,     119,          2,         18,         18,2,20040804,       0316,     30.003,  -159.7015,       5691,  1254.1,   3.0877,  34.4774,2,  34.4777,2,  30.3000,3,    30.9,2,  137.82,2,   43.29,2,    0.00,2,    3.13,2,   0.003,2,   0.003,2,   0.000,2,  2371.2,2,  2389.4,6,   0.008,2,   1.9166,2,   18.53,2, -999.00,9,  -999.0,9,  -999.0,-999.000,9,-999.000, -999.00,9, 1254.10,-999.0000,9,-999.0000,9,-999.0000,9,-999.0000,9,-999.0000,9,   0.0096,   0.001,-999.0000,9,    0.20
318M20040615,        P02,     119,          2,         17,         17,2,20040804,       0316,     30.003,  -159.7015,       5691,  1355.0,   2.9099,  34.5091,2,  34.5067,2,  39.4000,3,    39.2,2,  141.53,2,   42.96,2,    0.00,2,    3.09,2,   0.002,2,  -0.001,2,   0.000,2,  2370.0,2,  2395.6,2,-999.000,9,-999.0000,9, -999.00,9, -999.00,9,  -999.0,9,  -999.0,-999.000,9,-999.000, -999.00,9, 1355.00,-999.0000,9,-999.0000,9,-999.0000,9,-999.0000,9,-999.0000,9,-999.0000,-999.000,-999.0000,9, -999.00
318M20040615,        P02,     119,          2,         16,         16,2,20040804,       0316,     30.003,  -159.7015,       5691,  1455.3,   2.7000,  34.5359,2,  34.5324,2,  46.2000,3,    46.7,2,  146.05,2,   42.85,2,    0.00,2,    3.05,2,   0.000,2,  -0.003,2,   0.000,2,  2371.9,2,  2401.6,2,   0.001,2,   1.9320,2,   20.15,2, -999.00,9,  -999.0,9,  -999.0,-999.000,9,-999.000, -999.00,9, 1455.30,-999.0000,9,-999.0000,9,-999.0000,9,-999.0000,9,-999.0000,9,   0.0097,   0.000,-999.0000,9,    0.20
318M20040615,        P02,     119,          2,         15,         15,2,20040804,       0316,     30.003,  -159.7015,       5691,  1561.0,   2.5396,  34.5562,2,  34.5535,2,  55.1000,3,    55.2,2,  149.58,2,   42.53,2,    0.00,2,    3.01,2,   0.001,2,   0.000,2,   0.000,2,  2371.0,2,  2407.0,2,   0.009,2,   1.9365,2,   20.53,2, -999.00,9,  -999.0,9,  -999.0,-999.000,9,-999.000, -999.00,9, 1561.00,-999.0000,9,-999.0000,9,-999.0000,9,-999.0000,9,-999.0000,9,   0.0097,   0.001,-999.0000,9,    0.20
318M20040615,        P02,     119,          2,         14,         14,2,20040804,       0316,     30.003,  -159.7015,       5691,  1767.2,   2.2522,  34.5875,2,  34.5849,2,  70.3000,3,    69.8,2,  154.89,2,   41.51,2,    0.00,2,    2.95,2,   0.002,2,   0.000,2,   0.000,2,  2367.7,2,  2411.6,2,   0.025,2,   1.9506,2,   20.54,2, -999.00,9,  -999.0,9,  -999.0,-999.000,9,-999.000, -999.00,9, 1767.20,-999.0000,9,-999.0000,9,-999.0000,9,-999.0000,9,-999.0000,9,   0.0098,   0.001,-999.0000,9,    0.20
318M20040615,        P02,     119,          2,         13,         13,2,20040804,       0316,     30.003,  -159.7015,       5691,  1967.1,   2.0280,  34.6098,2,  34.6080,2,  80.7000,3,    81.0,2,  159.61,2,   40.76,2,    0.00,2,    2.89,2,-999.000,9,-999.000,9,-999.000,9,  2367.2,2,  2418.5,2,-999.000,9,-999.0000,9, -999.00,9, -999.00,9,  -999.0,9,  -999.0,-999.000,9,-999.000, -999.00,9, 1967.10,-999.0000,9,-999.0000,9,-999.0000,9,-999.0000,9,-999.0000,9,-999.0000,-999.000,-999.0000,9, -999.00
318M20040615,        P02,     119,          2,         12,         12,2,20040804,       0316,     30.003,  -159.7015,       5691,  2128.8,   1.8883,  34.6252,2,  34.6238,2,  91.1000,3,    91.1,2,  160.79,2,   40.01,2,    0.00,2,    2.84,2,  -0.001,2,  -0.001,2,   0.000,2,  2363.8,2,  2422.7,2,-999.000,9,-999.0000,9, -999.00,9, -999.00,9,  -999.0,9,  -999.0,-999.000,9,-999.000, -999.00,9, 2128.80,-999.0000,9,-999.0000,9,-999.0000,9,-999.0000,9,-999.0000,9,-999.0000,-999.000,-999.0000,9, -999.00
318M20040615,        P02,     119,          2,         11,         11,2,20040804,       0316,     30.003,  -159.7015,       5691,  2381.5,   1.7554,  34.6388,2,  34.6361,2, 101.1000,3,   100.8,2,  162.39,2,   39.38,2,    0.00,2,    2.77,2,-999.000,9,-999.000,9,-999.000,9,  2359.0,2,  2423.7,2,-999.000,9,-999.0000,9, -999.00,9, -999.00,9,  -999.0,9,  -999.0,-999.000,9,-999.000, -999.00,9, 2381.50,-999.0000,9,-999.0000,9,-999.0000,9,-999.0000,9,-999.0000,9,-999.0000,-999.000,-999.0000,9, -999.00
318M20040615,        P02,     119,          2,         10,         10,2,20040804,       0316,     30.003,  -159.7015,       5691,  2635.1,   1.6497,  34.6507,2,  34.6483,2, 109.8000,3,   110.5,2,  162.98,2,   38.74,2,    0.00,2,    2.74,2,   0.004,2,   0.001,2,   0.000,2,  2355.1,2,  2424.3,2,   0.001,2,-999.0000,9, -999.00,9, -999.00,9,  -999.0,9,  -999.0,-999.000,9,-999.000, -999.00,9, 2635.10,-999.0000,9,-999.0000,9,-999.0000,9,-999.0000,9,-999.0000,9,-999.0000,   0.000,-999.0000,9, -999.00
318M20040615,        P02,     119,          2,          9,          9,2,20040804,       0316,     30.003,  -159.7015,       5691,  2889.3,   1.5802,  34.6601,2,  34.6565,2, 118.0000,3,   118.5,2,  162.19,2,   38.11,2,    0.00,2,    2.71,2,  -0.001,2,  -0.002,2,   0.000,2,  2349.6,2,  2425.9,2,-999.000,9,-999.0000,9, -999.00,9, -999.00,9,  -999.0,9,  -999.0,-999.000,9,-999.000, -999.00,9, 2889.30,-999.0000,9,-999.0000,9,-999.0000,9,-999.0000,9,-999.0000,9,-999.0000,-999.000,-999.0000,9, -999.00
318M20040615,        P02,     119,          2,          8,          8,2,20040804,       0316,     30.003,  -159.7015,       5691,  3144.7,   1.5295,  34.6681,2,  34.6650,2, 126.6000,3,   127.1,2,  160.80,2,   37.57,2,    0.00,2,    2.64,2,-999.000,9,-999.000,9,-999.000,9,  2344.8,2,  2427.2,2,-999.000,9,-999.0000,9, -999.00,9, -999.00,9,  -999.0,9,  -999.0,-999.000,9,-999.000, -999.00,9, 3144.70,-999.0000,9,-999.0000,9,-999.0000,9,-999.0000,9,-999.0000,9,-999.0000,-999.000,-999.0000,9, -999.00
318M20040615,        P02,     119,          2,          7,          7,2,20040804,       0316,     30.003,  -159.7015,       5691,  3556.1,   1.4856,  34.6774,2,  34.6756,2, 136.7000,3,   137.3,2,  159.41,2,   37.10,2,    0.00,2,    2.58,2,   0.000,2,   0.003,2,   0.000,2,  2339.3,2,  2426.3,2,-999.000,9,-999.0000,9, -999.00,9, -999.00,9,  -999.0,9,  -999.0,-999.000,9,-999.000, -999.00,9, 3556.10,-999.0000,9,-999.0000,9,-999.0000,9,-999.0000,9,-999.0000,9,-999.0000,-999.000,-999.0000,9, -999.00
318M20040615,        P02,     119,          2,          6,          6,2,20040804,       0316,     30.003,  -159.7015,       5691,  3966.7,   1.4775,  34.6830,2,  34.6811,2, 143.9000,3,   144.3,2,  156.83,2,   36.62,2,    0.00,2,    2.54,2,   0.000,2,   0.000,2,   0.000,2,  2333.1,2,  2425.3,2,-999.000,9,-999.0000,9, -999.00,9, -999.00,9,  -999.0,9,  -999.0,-999.000,9,-999.000, -999.00,9, 3966.70,-999.0000,9,-999.0000,9,-999.0000,9,-999.0000,9,-999.0000,9,-999.0000,-999.000,-999.0000,9, -999.00
318M20040615,        P02,     119,          2,          5,          5,2,20040804,       0316,     30.003,  -159.7015,       5691,  4377.8,   1.4841,  34.6869,2,  34.6840,2, 149.9000,3,   150.7,2,  153.68,2,   36.20,2,    0.00,2,    2.51,2,   0.002,2,   0.002,2,   0.000,2,  2328.5,2,  2425.6,2,-999.000,9,-999.0000,9, -999.00,9, -999.00,9,  -999.0,9,  -999.0,-999.000,9,-999.000, -999.00,9, 4377.80,-999.0000,9,-999.0000,9,-999.0000,9,-999.0000,9,-999.0000,9,-999.0000,-999.000,-999.0000,9, -999.00
318M20040615,        P02,     119,          2,          4,          4,2,20040804,       0316,     30.003,  -159.7015,       5691,  4790.6,   1.5066,  34.6893,2,  34.6874,2, 154.7000,3,   155.3,2,  150.32,2,   35.73,2,    0.00,2,    2.48,2,   0.002,2,   0.001,2,   0.000,2,  2325.3,2,  2422.8,2,-999.000,9,-999.0000,9, -999.00,9, -999.00,9,  -999.0,9,  -999.0,-999.000,9,-999.000, -999.00,9, 4790.60,-999.0000,9,-999.0000,9,-999.0000,9,-999.0000,9,-999.0000,9,-999.0000,-999.000,-999.0000,9, -999.00
318M20040615,        P02,     119,          2,          3,          3,2,20040804,       0316,     30.003,  -159.7015,       5691,  5203.7,   1.5428,  34.6907,2,  34.6893,2, 157.5000,3,   158.2,2,  147.38,2,   35.47,2,    0.00,2,    2.47,2,   0.000,2,   0.003,2,   0.000,2,  2321.9,2,  2421.9,2,-999.000,9,-999.0000,9, -999.00,9, -999.00,9,  -999.0,9,  -999.0,-999.000,9,-999.000, -999.00,9, 5203.70,-999.0000,9,-999.0000,9,-999.0000,9,-999.0000,9,-999.0000,9,-999.0000,-999.000,-999.0000,9, -999.00
318M20040615,        P02,     119,          2,          2,          2,2,20040804,       0316,     30.003,  -159.7015,       5691,  5622.5,   1.5915,  34.6910,2,  34.6901,2, 159.2000,2,   158.8,2,  146.99,2,   35.31,2,    0.00,2,    2.46,2,   0.002,2,   0.001,2,   0.000,2,  2320.4,2,  2420.6,2,-999.000,9,-999.0000,9, -999.00,9, -999.00,9,  -999.0,9,  -999.0,-999.000,9,-999.000, -999.00,9, 5622.50,-999.0000,9,-999.0000,9,-999.0000,9,-999.0000,9,-999.0000,9,-999.0000,-999.000,-999.0000,9, -999.00
318M20040615,        P02,     119,          2,          1,          1,2,20040804,       0316,     30.003,  -159.7015,       5691,  5826.4,   1.6186,  34.6910,2,  34.6917,2, 159.1000,2,   159.6,2,  146.80,2,   35.26,2,    0.00,2,    2.46,2,   0.003,2,   0.004,2,   0.000,2,  2320.5,6,  2420.7,6,-999.000,9,-999.0000,9, -999.00,9, -999.00,9,  -999.0,9,  -999.0,-999.000,9,-999.000, -999.00,9, 5826.40,-999.0000,9,-999.0000,9,-999.0000,9,-999.0000,9,-999.0000,9,-999.0000,-999.000,-999.0000,9, -999.00