BOTTLE,20131027SIOCCHRJL
EXPOCODE,SECT_ID,STNNBR,CASTNO,SAMPNO,BTLNBR,BTLNBR_FLAG_W,DATE,TIME,LATITUDE,LONGITUDE,DEPTH,CTDPRS,CTDTMP,CTDSAL,CTDSAL_FLAG_W,SALNTY,SALNTY_FLAG_W,CTDOXY,CTDOXY_FLAG_W,OXYGEN,OXYGEN_FLAG_W,SILCAT,SILCAT_FLAG_W,NITRAT,NITRAT_FLAG_W,NITRIT,NITRIT_FLAG_W,PHSPHT,PHSPHT_FLAG_W,CFC-11,CFC-11_FLAG_W,CFC-12,CFC-12_FLAG_W,CFC113,CFC113_FLAG_W,TCARBN,TCARBN_FLAG_W,ALKALI,ALKALI_FLAG_W,TRITUM,TRITUM_FLAG_W,HELIUM,HELIUM_FLAG_W,DELHE3,DELHE3_FLAG_W,DELC13,DELC13_FLAG_W,DELC14,DELC14_FLAG_W,C14ERR,NEON,NEON_FLAG_W,NEONER,DOC,DOC_FLAG_W,CTDRAW,CDOM380,CDOM380_FLAG_W,CDOM325,CDOM325_FLAG_W,CDOMSL,CDOMSL_FLAG_W,CDOM340,CDOM340_FLAG_W,CDOMSN,CDOMSN_FLAG_W,HELIER,TRITER,CDOM412,CDOM412_FLAG_W,DELHER
,,,,,,,,,,,METERS,DBAR,ITS-90,PSS-78,,PSS-78,,UMOL/KG,,UMOL/KG,,UMOL/KG,,UMOL/KG,,UMOL/KG,,UMOL/KG,,PMOL/KG,,PMOL/KG,,PMOL/KG,,UMOL/KG,,UMOL/KG,,TU,,NMOL/KG,,PERCNT,,/MILLE,,/MILLE,,/MILLE,NMOL/KG,,NMOL/KG,UMOL/KG,,DBAR,1/M,,1/M,,1/NM,,1/M,,1/NM,,NMOL/KG,TU,1/M,,PERCNT
318M20040615,        P02,     152,          1,         36,         36,2,20040817,       2327,    30.0012,  -135.4285,       4425,     8.1,  24.5040,  35.0216,2,  35.0053,2, 215.5000,2,   215.0,2,    0.94,2,    0.16,2,    0.00,2,    0.08,2,   1.927,2,   1.188,2,   0.138,2,  2020.8,2,  2319.7,6,-999.000,9,-999.0000,9, -999.00,9, -999.00,9,  -999.0,9,  -999.0,-999.000,9,-999.000, -999.00,9,    8.10,-999.0000,9,-999.0000,9,-999.0000,9,-999.0000,9,-999.0000,9,-999.0000,-999.000,-999.0000,9, -999.00
318M20040615,        P02,     152,          1,         35,         35,2,20040817,       2327,    30.0012,  -135.4285,       4425,    40.5,  22.7510,  34.9798,2,  34.9831,2, 231.6000,2,   230.4,2,    1.13,2,    0.16,2,    0.00,2,    0.06,2,   2.153,2,   1.305,2,   0.150,2,  -999.0,9,  -999.0,9,-999.000,9,-999.0000,9, -999.00,9, -999.00,9,  -999.0,9,  -999.0,-999.000,9,-999.000, -999.00,9,   40.50,-999.0000,9,-999.0000,9,-999.0000,9,-999.0000,9,-999.0000,9,-999.0000,-999.000,-999.0000,9, -999.00
318M20040615,        P02,     152,          1,         34,         34,2,20040817,       2327,    30.0012,  -135.4285,       4425,    69.7,  20.7261,  34.7827,2,  34.7889,2, 239.7000,2,   237.7,2,    1.53,2,    0.16,2,    0.00,2,    0.07,2,-999.000,9,-999.000,9,-999.000,9,  2013.5,2,  2300.8,2,-999.000,9,-999.0000,9, -999.00,9, -999.00,9,  -999.0,9,  -999.0,-999.000,9,-999.000, -999.00,9,   69.70,-999.0000,9,-999.0000,9,-999.0000,9,-999.0000,9,-999.0000,9,-999.0000,-999.000,-999.0000,9, -999.00
318M20040615,        P02,     152,          1,         33,         33,2,20040817,       2327,    30.0012,  -135.4285,       4425,   124.3,  17.6648,  34.4302,2,  34.4251,2, 235.7000,2,   234.9,2,    2.11,2,    0.16,2,    0.00,2,    0.13,2,   2.609,2,   1.524,2,   0.180,2,  -999.0,9,  -999.0,9,-999.000,9,-999.0000,9, -999.00,9, -999.00,9,  -999.0,9,  -999.0,-999.000,9,-999.000, -999.00,9,  124.30,-999.0000,9,-999.0000,9,-999.0000,9,-999.0000,9,-999.0000,9,-999.0000,-999.000,-999.0000,9, -999.00
318M20040615,        P02,     152,          1,         32,         32,2,20040817,       2327,    30.0012,  -135.4285,       4425,   174.0,  15.3344,  34.1401,2,  34.1485,2, 223.0000,2,   222.9,2,    3.48,2,    2.70,2,    0.02,2,    0.34,2,-999.000,9,-999.000,9,-999.000,9,  2032.9,2,  2258.5,2,-999.000,9,-999.0000,9, -999.00,9, -999.00,9,  -999.0,9,  -999.0,-999.000,9,-999.000, -999.00,9,  174.00,-999.0000,9,-999.0000,9,-999.0000,9,-999.0000,9,-999.0000,9,-999.0000,-999.000,-999.0000,9, -999.00
318M20040615,        P02,     152,          1,         31,         31,2,20040817,       2327,    30.0012,  -135.4285,       4425,   224.6,  11.5658,  33.7595,2,  33.7594,2, 218.2000,2,   219.4,2,    8.38,2,    9.08,2,    0.01,2,    0.76,2,   3.438,2,   1.913,2,   0.116,2,  -999.0,9,  -999.0,9,-999.000,9,-999.0000,9, -999.00,9, -999.00,9,  -999.0,9,  -999.0,-999.000,9,-999.000, -999.00,9,  224.60,-999.0000,9,-999.0000,9,-999.0000,9,-999.0000,9,-999.0000,9,-999.0000,-999.000,-999.0000,9, -999.00
318M20040615,        P02,     152,          1,         30,         30,2,20040817,       2327,    30.0012,  -135.4285,       4425,   273.7,  10.0517,  33.8730,2,  33.8729,2, 207.5000,2,   211.3,2,   14.46,2,   14.29,2,    0.00,2,    1.08,2,   3.635,2,   1.971,2,   0.112,2,  2094.3,2,  2247.2,2,-999.000,9,-999.0000,9, -999.00,9, -999.00,9,  -999.0,9,  -999.0,-999.000,9,-999.000, -999.00,9,  273.70,-999.0000,9,-999.0000,9,-999.0000,9,-999.0000,9,-999.0000,9,-999.0000,-999.000,-999.0000,9, -999.00
318M20040615,        P02,     152,          1,         29,         29,2,20040817,       2327,    30.0012,  -135.4285,       4425,   323.8,   9.1885,  33.9832,2,  33.9804,2, 184.9000,2,   189.3,2,   21.71,2,   18.97,2,    0.00,2,    1.36,2,   3.494,2,   1.844,2,   0.100,2,  -999.0,9,  -999.0,9,-999.000,9,-999.0000,9, -999.00,9, -999.00,9,  -999.0,9,  -999.0,-999.000,9,-999.000, -999.00,9,  323.80,-999.0000,9,-999.0000,9,-999.0000,9,-999.0000,9,-999.0000,9,-999.0000,-999.000,-999.0000,9, -999.00
318M20040615,        P02,     152,          1,         28,         28,2,20040817,       2327,    30.0012,  -135.4285,       4425,   373.9,   8.3305,  34.0360,2,  34.0360,2, 158.4000,2,   159.0,2,   31.51,2,   24.15,2,    0.00,2,    1.69,2,   3.201,2,   1.513,2,   0.096,2,  2163.3,2,  2268.7,2,-999.000,9,-999.0000,9, -999.00,9, -999.00,9,  -999.0,9,  -999.0,-999.000,9,-999.000, -999.00,9,  373.90,-999.0000,9,-999.0000,9,-999.0000,9,-999.0000,9,-999.0000,9,-999.0000,-999.000,-999.0000,9, -999.00
318M20040615,        P02,     152,          1,         27,         27,2,20040817,       2327,    30.0012,  -135.4285,       4425,   423.9,   7.3622,  34.0208,2,  34.0233,2, 131.8000,2,   129.0,2,   42.90,2,   29.06,2,    0.00,2,    2.05,2,   2.483,2,   1.205,2,   0.083,2,  -999.0,9,  -999.0,9,-999.000,9,-999.0000,9, -999.00,9, -999.00,9,  -999.0,9,  -999.0,-999.000,9,-999.000, -999.00,9,  423.90,-999.0000,9,-999.0000,9,-999.0000,9,-999.0000,9,-999.0000,9,-999.0000,-999.000,-999.0000,9, -999.00
318M20040615,        P02,     152,          1,         26,         26,2,20040817,       2327,    30.0012,  -135.4285,       4425,   474.0,   6.6777,  34.0165,2,  34.0174,2, 108.0000,2,   105.9,2,   51.35,2,   32.22,2,    0.00,2,    2.29,2,-999.000,9,-999.000,9,-999.000,9,  2225.3,2,  2280.2,2,-999.000,9,-999.0000,9, -999.00,9, -999.00,9,  -999.0,9,  -999.0,-999.000,9,-999.000, -999.00,9,  474.00,-999.0000,9,-999.0000,9,-999.0000,9,-999.0000,9,-999.0000,9,-999.0000,-999.000,-999.0000,9, -999.00
318M20040615,        P02,     152,          1,         25,         25,2,20040817,       2327,    30.0012,  -135.4285,       4425,   543.6,   5.7889,  34.0508,2,  34.0494,2,  67.9000,2,    67.9,2,   66.53,2,   37.01,2,    0.00,2,    2.67,2,   1.106,2,   0.533,2,   0.024,2,  -999.0,9,  -999.0,9,-999.000,9,-999.0000,9, -999.00,9, -999.00,9,  -999.0,9,  -999.0,-999.000,9,-999.000, -999.00,9,  543.60,-999.0000,9,-999.0000,9,-999.0000,9,-999.0000,9,-999.0000,9,-999.0000,-999.000,-999.0000,9, -999.00
318M20040615,        P02,     152,          1,         24,         24,2,20040817,       2327,    30.0012,  -135.4285,       4425,   647.8,   5.0643,  34.1220,2,  34.1215,2,  37.1000,2,    38.1,2,   83.74,2,   40.49,2,    0.00,2,    2.95,2,-999.000,9,-999.000,9,-999.000,9,  2303.8,2,  2313.8,2,-999.000,9,-999.0000,9, -999.00,9, -999.00,9,  -999.0,9,  -999.0,-999.000,9,-999.000, -999.00,9,  647.80,-999.0000,9,-999.0000,9,-999.0000,9,-999.0000,9,-999.0000,9,-999.0000,-999.000,-999.0000,9, -999.00
318M20040615,        P02,     152,          1,         23,         23,2,20040817,       2327,    30.0012,  -135.4285,       4425,   746.9,   4.4812,  34.2241,2,  34.2234,2,  18.5000,2,    19.2,2,  100.23,2,   42.61,2,    0.00,2,    3.13,2,   0.108,2,   0.058,2,   0.000,2,  -999.0,9,  -999.0,9,-999.000,9,-999.0000,9, -999.00,9, -999.00,9,  -999.0,9,  -999.0,-999.000,9,-999.000, -999.00,9,  746.90,-999.0000,9,-999.0000,9,-999.0000,9,-999.0000,9,-999.0000,9,-999.0000,-999.000,-999.0000,9, -999.00
318M20040615,        P02,     152,          1,         22,         22,2,20040817,       2327,    30.0012,  -135.4285,       4425,   847.2,   4.1738,  34.3183,2,  34.3174,2,  13.2000,2,    12.9,2,  111.19,2,   43.49,2,    0.00,2,    3.20,2,   0.031,2,   0.020,2,   0.000,2,  2351.1,6,  2352.3,2,-999.000,9,-999.0000,9, -999.00,9, -999.00,9,  -999.0,9,  -999.0,-999.000,9,-999.000, -999.00,9,  847.20,-999.0000,9,-999.0000,9,-999.0000,9,-999.0000,9,-999.0000,9,-999.0000,-999.000,-999.0000,9, -999.00
318M20040615,        P02,     152,          1,         21,         21,2,20040817,       2327,    30.0012,  -135.4285,       4425,   947.0,   3.9558,  34.3920,2,  34.3914,2,  15.9000,2,    16.0,2,  117.19,2,   43.65,2,    0.00,2,    3.21,2,   0.023,2,   0.014,2,   0.000,2,  -999.0,9,  -999.0,9,-999.000,9,-999.0000,9, -999.00,9, -999.00,9,  -999.0,9,  -999.0,-999.000,9,-999.000, -999.00,9,  947.00,-999.0000,9,-999.0000,9,-999.0000,9,-999.0000,9,-999.0000,9,-999.0000,-999.000,-999.0000,9, -999.00
318M20040615,        P02,     152,          1,         20,         20,2,20040817,       2327,    30.0012,  -135.4285,       4425,  1047.9,   3.6967,  34.4433,2,  34.4428,2,  22.6000,2,    22.6,2,  122.60,2,   43.76,2,    0.00,2,    3.18,2,   0.010,2,   0.008,2,   0.000,2,  -999.0,9,  -999.0,9,-999.000,9,-999.0000,9, -999.00,9, -999.00,9,  -999.0,9,  -999.0,-999.000,9,-999.000, -999.00,9, 1047.90,-999.0000,9,-999.0000,9,-999.0000,9,-999.0000,9,-999.0000,9,-999.0000,-999.000,-999.0000,9, -999.00
318M20040615,        P02,     152,          1,         19,         19,2,20040817,       2327,    30.0012,  -135.4285,       4425,  1153.7,   3.4591,  34.4842,2,  34.4846,2,  30.9000,2,    30.9,2,  128.22,2,   43.77,2,    0.00,2,    3.16,2,   0.006,2,   0.008,2,   0.000,2,  -999.0,9,  -999.0,9,-999.000,9,-999.0000,9, -999.00,9, -999.00,9,  -999.0,9,  -999.0,-999.000,9,-999.000, -999.00,9, 1153.70,-999.0000,9,-999.0000,9,-999.0000,9,-999.0000,9,-999.0000,9,-999.0000,-999.000,-999.0000,9, -999.00
318M20040615,        P02,     152,          1,         18,         18,2,20040817,       2327,    30.0012,  -135.4285,       4425,  1254.3,   3.2451,  34.5114,2,  34.5115,2,  37.5000,2,    38.4,2,  133.24,2,   43.61,2,    0.00,2,    3.12,2,   0.007,2,   0.010,2,   0.000,2,  -999.0,9,  -999.0,9,-999.000,9,-999.0000,9, -999.00,9, -999.00,9,  -999.0,9,  -999.0,-999.000,9,-999.000, -999.00,9, 1254.30,-999.0000,9,-999.0000,9,-999.0000,9,-999.0000,9,-999.0000,9,-999.0000,-999.000,-999.0000,9, -999.00
318M20040615,        P02,     152,          1,         17,         17,2,20040817,       2327,    30.0012,  -135.4285,       4425,  1354.8,   3.0399,  34.5362,2,  34.5354,2,  44.0000,2,    45.0,2,  137.07,2,   43.17,2,    0.00,2,    3.09,2,   0.003,2,   0.002,2,   0.000,2,  -999.0,9,  -999.0,9,-999.000,9,-999.0000,9, -999.00,9, -999.00,9,  -999.0,9,  -999.0,-999.000,9,-999.000, -999.00,9, 1354.80,-999.0000,9,-999.0000,9,-999.0000,9,-999.0000,9,-999.0000,9,-999.0000,-999.000,-999.0000,9, -999.00
318M20040615,        P02,     152,          1,         16,         16,2,20040817,       2327,    30.0012,  -135.4285,       4425,  1455.3,   2.8565,  34.5527,2,  34.5523,2,  50.0000,2,    50.6,2,  141.50,2,   42.79,2,    0.00,2,    3.06,2,-999.000,9,-999.000,9,-999.000,9,  -999.0,9,  -999.0,9,-999.000,9,-999.0000,9, -999.00,9, -999.00,9,  -999.0,9,  -999.0,-999.000,9,-999.000, -999.00,9, 1455.30,-999.0000,9,-999.0000,9,-999.0000,9,-999.0000,9,-999.0000,9,-999.0000,-999.000,-999.0000,9, -999.00
318M20040615,        P02,     152,          1,         15,         15,2,20040817,       2327,    30.0012,  -135.4285,       4425,  1555.6,   2.6925,  34.5661,2,  34.5651,2,  54.4000,2,    54.8,2,  146.15,2,   42.47,2,    0.00,2,    3.04,2,   0.012,2,   0.002,2,   0.000,2,  -999.0,9,  -999.0,9,-999.000,9,-999.0000,9, -999.00,9, -999.00,9,  -999.0,9,  -999.0,-999.000,9,-999.000, -999.00,9, 1555.60,-999.0000,9,-999.0000,9,-999.0000,9,-999.0000,9,-999.0000,9,-999.0000,-999.000,-999.0000,9, -999.00
318M20040615,        P02,     152,          1,         14,         14,2,20040817,       2327,    30.0012,  -135.4285,       4425,  1660.7,   2.5161,  34.5794,2,  34.5781,2,  58.6000,2,    59.8,2,  151.83,2,   42.04,2,    0.00,2,    3.00,2,   0.004,2,   0.002,2,   0.000,2,  -999.0,9,  -999.0,9,-999.000,9,-999.0000,9, -999.00,9, -999.00,9,  -999.0,9,  -999.0,-999.000,9,-999.000, -999.00,9, 1660.70,-999.0000,9,-999.0000,9,-999.0000,9,-999.0000,9,-999.0000,9,-999.0000,-999.000,-999.0000,9, -999.00
318M20040615,        P02,     152,          1,         13,         13,2,20040817,       2327,    30.0012,  -135.4285,       4425,  1760.5,   2.3947,  34.5895,2,  34.5893,2,  63.1000,2,    63.9,2,  154.47,2,   41.82,2,    0.00,2,    2.99,2,   0.002,2,   0.001,2,   0.000,2,  -999.0,9,  -999.0,9,-999.000,9,-999.0000,9, -999.00,9, -999.00,9,  -999.0,9,  -999.0,-999.000,9,-999.000, -999.00,9, 1760.50,-999.0000,9,-999.0000,9,-999.0000,9,-999.0000,9,-999.0000,9,-999.0000,-999.000,-999.0000,9, -999.00
318M20040615,        P02,     152,          1,         12,         12,2,20040817,       2327,    30.0012,  -135.4285,       4425,  1864.4,   2.2714,  34.5992,2,  34.5989,2,  68.3000,2,    68.4,2,  158.33,2,   41.50,2,    0.00,2,    2.96,2,   0.000,2,   0.002,2,   0.000,2,  -999.0,9,  -999.0,9,-999.000,9,-999.0000,9, -999.00,9, -999.00,9,  -999.0,9,  -999.0,-999.000,9,-999.000, -999.00,9, 1864.40,-999.0000,9,-999.0000,9,-999.0000,9,-999.0000,9,-999.0000,9,-999.0000,-999.000,-999.0000,9, -999.00
318M20040615,        P02,     152,          1,         11,         11,2,20040817,       2327,    30.0012,  -135.4285,       4425,  1967.6,   2.1639,  34.6084,2,  34.6079,2,  73.9000,2,    72.7,2,  160.77,2,   41.39,2,    0.00,2,    2.94,2,   0.011,2,   0.004,2,   0.000,2,  -999.0,9,  -999.0,9,-999.000,9,-999.0000,9, -999.00,9, -999.00,9,  -999.0,9,  -999.0,-999.000,9,-999.000, -999.00,9, 1967.60,-999.0000,9,-999.0000,9,-999.0000,9,-999.0000,9,-999.0000,9,-999.0000,-999.000,-999.0000,9, -999.00
318M20040615,        P02,     152,          1,         10,         10,2,20040817,       2327,    30.0012,  -135.4285,       4425,  2125.4,   2.0100,  34.6226,2,  34.6223,2,  82.0000,2,    81.4,2,  164.24,2,   41.13,2,    0.00,2,    2.90,2,-999.000,9,-999.000,9,-999.000,9,  -999.0,9,  -999.0,9,-999.000,9,-999.0000,9, -999.00,9, -999.00,9,  -999.0,9,  -999.0,-999.000,9,-999.000, -999.00,9, 2125.40,-999.0000,9,-999.0000,9,-999.0000,9,-999.0000,9,-999.0000,9,-999.0000,-999.000,-999.0000,9, -999.00
318M20040615,        P02,     152,          1,          9,          9,2,20040817,       2327,    30.0012,  -135.4285,       4425,  2376.7,   1.8273,  34.6409,2,  34.6407,2,  92.9000,2,    93.1,2,  167.70,2,   40.48,2,    0.00,2,    2.84,2,   0.005,2,   0.006,2,   0.000,2,  -999.0,9,  -999.0,9,-999.000,9,-999.0000,9, -999.00,9, -999.00,9,  -999.0,9,  -999.0,-999.000,9,-999.000, -999.00,9, 2376.70,-999.0000,9,-999.0000,9,-999.0000,9,-999.0000,9,-999.0000,9,-999.0000,-999.000,-999.0000,9, -999.00
318M20040615,        P02,     152,          1,          8,          8,2,20040817,       2327,    30.0012,  -135.4285,       4425,  2630.3,   1.6957,  34.6530,2,  34.6515,2, 103.2000,2,   103.6,2,  169.95,2,   39.61,2,    0.00,2,    2.77,2,-999.000,9,-999.000,9,-999.000,9,  -999.0,9,  -999.0,9,-999.000,9,-999.0000,9, -999.00,9, -999.00,9,  -999.0,9,  -999.0,-999.000,9,-999.000, -999.00,9, 2630.30,-999.0000,9,-999.0000,9,-999.0000,9,-999.0000,9,-999.0000,9,-999.0000,-999.000,-999.0000,9, -999.00
318M20040615,        P02,     152,          1,          7,          7,2,20040817,       2327,    30.0012,  -135.4285,       4425,  2884.4,   1.6002,  34.6626,2,  34.6624,2, 113.3000,2,   113.0,2,  170.35,2,   39.07,2,    0.00,2,    2.72,2,   0.003,2,   0.003,2,   0.000,2,  -999.0,9,  -999.0,9,-999.000,9,-999.0000,9, -999.00,9, -999.00,9,  -999.0,9,  -999.0,-999.000,9,-999.000, -999.00,9, 2884.40,-999.0000,9,-999.0000,9,-999.0000,9,-999.0000,9,-999.0000,9,-999.0000,-999.000,-999.0000,9, -999.00
318M20040615,        P02,     152,          1,          6,          6,2,20040817,       2327,    30.0012,  -135.4285,       4425,  3145.6,   1.5315,  34.6707,2,  34.6706,2, 121.9000,2,   123.1,2,  169.52,2,   38.26,2,    0.00,2,    2.67,2,   0.003,2,   0.002,2,   0.000,2,  -999.0,9,  -999.0,9,-999.000,9,-999.0000,9, -999.00,9, -999.00,9,  -999.0,9,  -999.0,-999.000,9,-999.000, -999.00,9, 3145.60,-999.0000,9,-999.0000,9,-999.0000,9,-999.0000,9,-999.0000,9,-999.0000,-999.000,-999.0000,9, -999.00
318M20040615,        P02,     152,          1,          5,          5,2,20040817,       2327,    30.0012,  -135.4285,       4425,  3449.9,   1.4927,  34.6775,2,  34.6771,2, 131.8000,2,   132.9,2,  164.83,2,   37.56,2,    0.00,2,    2.61,2,   0.003,2,   0.003,2,   0.000,2,  -999.0,9,  -999.0,9,-999.000,9,-999.0000,9, -999.00,9, -999.00,9,  -999.0,9,  -999.0,-999.000,9,-999.000, -999.00,9, 3449.90,-999.0000,9,-999.0000,9,-999.0000,9,-999.0000,9,-999.0000,9,-999.0000,-999.000,-999.0000,9, -999.00
318M20040615,        P02,     152,          1,          4,          4,2,20040817,       2327,    30.0012,  -135.4285,       4425,  3761.0,   1.4854,  34.6817,2,  34.6808,2, 137.5000,2,   138.2,2,  163.01,2,   37.24,2,    0.00,2,    2.58,2,   0.003,2,   0.005,2,   0.000,2,  -999.0,9,  -999.0,9,-999.000,9,-999.0000,9, -999.00,9, -999.00,9,  -999.0,9,  -999.0,-999.000,9,-999.000, -999.00,9, 3761.00,-999.0000,9,-999.0000,9,-999.0000,9,-999.0000,9,-999.0000,9,-999.0000,-999.000,-999.0000,9, -999.00
318M20040615,        P02,     152,          1,          3,          3,2,20040817,       2327,    30.0012,  -135.4285,       4425,  4015.1,   1.4933,  34.6842,2,  34.6834,2, 141.2000,2,   141.4,2,  163.02,2,   37.08,2,    0.00,2,    2.57,2,   0.003,2,   0.005,2,   0.000,2,  -999.0,9,  -999.0,9,-999.000,9,-999.0000,9, -999.00,9, -999.00,9,  -999.0,9,  -999.0,-999.000,9,-999.000, -999.00,9, 4015.10,-999.0000,9,-999.0000,9,-999.0000,9,-999.0000,9,-999.0000,9,-999.0000,-999.000,-999.0000,9, -999.00
318M20040615,        P02,     152,          1,          2,          2,2,20040817,       2327,    30.0012,  -135.4285,       4425,  4284.1,   1.5151,  34.6853,2,  34.6850,2, 142.7000,2,   143.0,2,  161.79,2,   37.09,2,    0.00,2,    2.55,2,   0.004,2,   0.007,2,   0.000,2,  -999.0,9,  -999.0,9,-999.000,9,-999.0000,9, -999.00,9, -999.00,9,  -999.0,9,  -999.0,-999.000,9,-999.000, -999.00,9, 4284.10,-999.0000,9,-999.0000,9,-999.0000,9,-999.0000,9,-999.0000,9,-999.0000,-999.000,-999.0000,9, -999.00
318M20040615,        P02,     152,          1,          1,          1,2,20040817,       2327,    30.0012,  -135.4285,       4425,  4488.0,   1.5379,  34.6854,2,  34.6853,2, 143.0000,2,   143.6,2,  161.78,2,   37.19,2,    0.00,2,    2.56,2,   0.004,6,   0.007,6,   0.000,6,  -999.0,9,  -999.0,9,-999.000,9,-999.0000,9, -999.00,9, -999.00,9,  -999.0,9,  -999.0,-999.000,9,-999.000, -999.00,9, 4488.00,-999.0000,9,-999.0000,9,-999.0000,9,-999.0000,9,-999.0000,9,-999.0000,-999.000,-999.0000,9, -999.00