BOTTLE,20131027SIOCCHRJL
EXPOCODE,SECT_ID,STNNBR,CASTNO,SAMPNO,BTLNBR,BTLNBR_FLAG_W,DATE,TIME,LATITUDE,LONGITUDE,DEPTH,CTDPRS,CTDTMP,CTDSAL,CTDSAL_FLAG_W,SALNTY,SALNTY_FLAG_W,CTDOXY,CTDOXY_FLAG_W,OXYGEN,OXYGEN_FLAG_W,SILCAT,SILCAT_FLAG_W,NITRAT,NITRAT_FLAG_W,NITRIT,NITRIT_FLAG_W,PHSPHT,PHSPHT_FLAG_W,CFC-11,CFC-11_FLAG_W,CFC-12,CFC-12_FLAG_W,CFC113,CFC113_FLAG_W,TCARBN,TCARBN_FLAG_W,ALKALI,ALKALI_FLAG_W,TRITUM,TRITUM_FLAG_W,HELIUM,HELIUM_FLAG_W,DELHE3,DELHE3_FLAG_W,DELC13,DELC13_FLAG_W,DELC14,DELC14_FLAG_W,C14ERR,NEON,NEON_FLAG_W,NEONER,DOC,DOC_FLAG_W,CTDRAW,CDOM380,CDOM380_FLAG_W,CDOM325,CDOM325_FLAG_W,CDOMSL,CDOMSL_FLAG_W,CDOM340,CDOM340_FLAG_W,CDOMSN,CDOMSN_FLAG_W,HELIER,TRITER,CDOM412,CDOM412_FLAG_W,DELHER
,,,,,,,,,,,METERS,DBAR,ITS-90,PSS-78,,PSS-78,,UMOL/KG,,UMOL/KG,,UMOL/KG,,UMOL/KG,,UMOL/KG,,UMOL/KG,,PMOL/KG,,PMOL/KG,,PMOL/KG,,UMOL/KG,,UMOL/KG,,TU,,NMOL/KG,,PERCNT,,/MILLE,,/MILLE,,/MILLE,NMOL/KG,,NMOL/KG,UMOL/KG,,DBAR,1/M,,1/M,,1/NM,,1/M,,1/NM,,NMOL/KG,TU,1/M,,PERCNT
318M20040615,        P02,     173,          1,         36,         36,2,20040823,       1711,    30.2598,  -123.2685,       4283,     9.1,  20.1095,  33.0930,2,  33.0859,2, 233.0000,3,   232.4,2,    1.40,2,    0.23,2,    0.00,2,    0.32,2,   2.362,2,   1.436,2,   0.173,2,  1986.0,6,  2218.3,6,-999.000,9,-999.0000,9, -999.00,9,    1.74,2,    29.7,2,     5.5,-999.000,9,-999.000,   62.70,2,    9.10,   0.0100,2,   0.0670,2,   0.0330,2,   0.0410,2,   0.0330,2,-999.0000,-999.000,   0.0030,3, -999.00
318M20040615,        P02,     173,          1,         35,         35,2,20040823,       1711,    30.2598,  -123.2685,       4283,    41.0,  19.0682,  33.3674,2,  33.3711,2, 243.7000,3,   247.2,2,    1.40,2,    0.23,2,    0.00,2,    0.28,2,-999.000,9,-999.000,9,-999.000,9,  1993.7,2,  2234.5,2,-999.000,9,-999.0000,9, -999.00,9,    1.76,2,    43.3,2,     5.5,-999.000,9,-999.000,   65.90,2,   41.00,   0.0190,2,   0.0930,2,   0.0300,2,   0.0590,2,   0.0300,2,-999.0000,-999.000,   0.0090,2, -999.00
318M20040615,        P02,     173,          1,         34,         34,2,20040823,       1711,    30.2598,  -123.2685,       4283,    85.5,  15.2198,  33.2183,2,  33.2133,2, 259.7000,3,   260.8,2,    2.01,2,    0.18,2,    0.00,2,    0.28,2,   3.045,2,   1.804,2,   0.209,2,  1991.8,2,  2216.6,2,-999.000,9,-999.0000,9, -999.00,9,    1.61,2,    46.3,2,     5.2,-999.000,9,-999.000,   61.60,2,   85.50,   0.0370,2,   0.1410,2,   0.0240,2,   0.0960,2,   0.0250,2,-999.0000,-999.000,   0.0200,2, -999.00
318M20040615,        P02,     173,          1,         33,         33,2,20040823,       1711,    30.2598,  -123.2685,       4283,   120.4,  13.3996,  33.3122,2,  33.3004,2, 243.1000,3,   243.1,2,    3.43,2,    2.17,2,    0.24,2,    0.45,2,-999.000,9,-999.000,9,-999.000,9,  2016.6,2,  2218.9,2,-999.000,9,-999.0000,9, -999.00,9,    1.34,2,    53.0,2,     4.6,-999.000,9,-999.000,   57.20,2,  120.40,   0.0440,2,   0.1380,2,   0.0180,2,   0.0980,2,   0.0200,2,-999.0000,-999.000,   0.0300,2, -999.00
318M20040615,        P02,     173,          1,         32,         32,2,20040823,       1711,    30.2598,  -123.2685,       4283,   155.0,  10.2145,  33.2367,2,  33.2328,2, 214.2000,3,   215.7,2,   11.10,2,   12.73,2,    0.01,2,    1.09,2,   3.808,2,   2.013,2,   0.201,2,  2073.7,2,  2214.3,2,-999.000,9,-999.0000,9, -999.00,9, -999.00,9,  -999.0,9,  -999.0,-999.000,9,-999.000,   48.20,2,  155.00,   0.0520,2,   0.1540,2,   0.0170,2,   0.1120,2,   0.0190,2,-999.0000,-999.000,   0.0350,2, -999.00
318M20040615,        P02,     173,          1,         31,         31,2,20040823,       1711,    30.2598,  -123.2685,       4283,   214.8,   9.0197,  33.8144,2,  33.8055,2, 154.5000,3,   153.3,2,   24.47,2,   22.77,2,    0.00,2,    1.69,2,-999.000,9,-999.000,9,-999.000,9,  2155.9,2,  2248.2,2,-999.000,9,-999.0000,9, -999.00,9,    0.16,2,    28.2,2,     4.9,-999.000,9,-999.000,   44.00,2,  214.80,   0.0550,2,   0.1520,2,   0.0150,2,   0.1080,2,   0.0170,2,-999.0000,-999.000,   0.0410,2, -999.00
318M20040615,        P02,     173,          1,         30,         30,2,20040823,       1711,    30.2598,  -123.2685,       4283,   264.3,   8.4833,  34.0011,2,  33.9935,2, 128.6000,3,   133.0,2,   31.97,2,   26.00,2,    0.00,2,    1.89,2,   2.930,2,   1.536,2,   0.115,2,  2182.5,2,  2262.1,2,-999.000,9,-999.0000,9, -999.00,9, -999.00,9,  -999.0,9,  -999.0,-999.000,9,-999.000,   50.50,2,  264.30,   0.0570,2,   0.1540,2,   0.0140,2,   0.1100,2,   0.0160,2,-999.0000,-999.000,   0.0430,2, -999.00
318M20040615,        P02,     173,          1,         29,         29,2,20040823,       1711,    30.2598,  -123.2685,       4283,   324.5,   7.6042,  34.0659,2,  34.0586,2,  89.5000,3,    90.7,2,   44.38,2,   31.36,2,    0.00,2,    2.30,2,-999.000,9,-999.000,9,-999.000,9,  2226.8,2,  2275.8,2,-999.000,9,-999.0000,9, -999.00,9,   -0.12,2,   -22.3,2,     4.0,-999.000,9,-999.000,   44.00,2,  324.50,   0.0710,2,   0.1980,2,   0.0160,2,   0.1490,2,   0.0170,2,-999.0000,-999.000,   0.0470,2, -999.00
318M20040615,        P02,     173,          1,         28,         28,2,20040823,       1711,    30.2598,  -123.2685,       4283,   374.5,   7.0915,  34.0928,2,  34.0858,2,  68.5000,3,    70.4,2,   51.92,2,   33.85,2,    0.00,2,    2.51,2,   1.533,2,   0.781,2,   0.044,2,  2251.0,2,  2283.0,2,-999.000,9,-999.0000,9, -999.00,9, -999.00,9,  -999.0,9,  -999.0,-999.000,9,-999.000,   42.20,2,  374.50,   0.0750,2,   0.1880,2,   0.0130,2,   0.1370,2,   0.0150,2,-999.0000,-999.000,   0.0580,2, -999.00
318M20040615,        P02,     173,          1,         27,         27,2,20040823,       1711,    30.2598,  -123.2685,       4283,   423.9,   6.5956,  34.1323,2,  34.1254,2,  48.6000,3,    49.2,2,   60.51,2,   36.26,2,    0.00,2,    2.72,2,-999.000,9,-999.000,9,-999.000,9,  2271.5,2,  2293.8,2,-999.000,9,-999.0000,9, -999.00,9,   -0.28,2,   -74.9,2,     4.4,-999.000,9,-999.000,   41.40,2,  423.90,-999.0000,9,-999.0000,9,-999.0000,9,-999.0000,9,-999.0000,9,-999.0000,-999.000,-999.0000,9, -999.00
318M20040615,        P02,     173,          1,         26,         26,2,20040823,       1711,    30.2598,  -123.2685,       4283,   476.2,   6.2577,  34.1835,2,  34.1744,2,  32.4000,3,    33.1,2,   68.50,2,   38.03,2,    0.00,2,    2.89,2,   0.596,6,   0.304,6,   0.013,6,  2291.9,2,  2305.4,2,-999.000,9,-999.0000,9, -999.00,9, -999.00,9,  -999.0,9,  -999.0,-999.000,9,-999.000, -999.00,9,  476.20,   0.0740,2,   0.1840,2,   0.0130,2,   0.1330,2,   0.0150,2,-999.0000,-999.000,   0.0560,2, -999.00
318M20040615,        P02,     173,          1,         25,         25,2,20040823,       1711,    30.2598,  -123.2685,       4283,   548.5,   5.6661,  34.2448,2,  34.2352,2,  20.1000,3,    18.5,2,   80.20,2,   40.19,2,    0.00,2,    3.05,2,   0.238,2,   0.116,2,   0.000,2,  2313.7,2,  2319.7,2,-999.000,9,-999.0000,9, -999.00,9,   -0.34,2,  -130.8,2,     3.8,-999.000,9,-999.000,   40.60,2,  548.50,-999.0000,9,-999.0000,9,-999.0000,9,-999.0000,9,-999.0000,9,-999.0000,-999.000,-999.0000,9, -999.00
318M20040615,        P02,     173,          1,         24,         24,2,20040823,       1711,    30.2598,  -123.2685,       4283,   648.2,   5.2477,  34.3202,2,  34.3205,2,  11.6000,2,    11.4,2,   89.88,2,   41.83,2,    0.00,2,    3.17,2,   0.078,2,   0.041,2,   0.000,2,  2331.4,6,  2335.5,2,-999.000,9,-999.0000,9, -999.00,9,    1.37,4,  -153.5,2,     3.6,-999.000,9,-999.000,   38.80,2,  648.20,   0.0800,2,   0.1920,2,   0.0130,2,   0.1410,2,   0.0140,2,-999.0000,-999.000,   0.0620,2, -999.00
318M20040615,        P02,     173,          1,         23,         23,2,20040823,       1711,    30.2598,  -123.2685,       4283,   748.6,   4.8188,  34.3648,2,  34.3660,2,  11.1000,2,    11.0,2,   98.76,2,   42.97,2,    0.00,2,    3.20,2,   0.039,2,   0.019,2,   0.000,2,  2341.0,2,  2346.8,2,-999.000,9,-999.0000,9, -999.00,9,   -0.31,2,  -181.2,2,     4.3,-999.000,9,-999.000,   37.30,2,  748.60,-999.0000,9,-999.0000,9,-999.0000,9,-999.0000,9,-999.0000,9,-999.0000,-999.000,-999.0000,9, -999.00
318M20040615,        P02,     173,          1,         22,         22,2,20040823,       1711,    30.2598,  -123.2685,       4283,   848.2,   4.4686,  34.4270,2,  34.4263,2,  14.0000,2,    14.5,2,  106.21,2,   43.62,2,    0.00,2,    3.22,2,   0.025,2,   0.013,2,   0.000,2,  2349.3,2,  2358.7,2,-999.000,9,-999.0000,9, -999.00,9,   -0.27,2,  -197.2,2,     3.7,-999.000,9,-999.000,   39.50,2,  848.20,   0.0820,2,   0.1910,2,   0.0120,2,   0.1400,2,   0.0130,2,-999.0000,-999.000,   0.0640,2, -999.00
318M20040615,        P02,     173,          1,         21,         21,2,20040823,       1711,    30.2598,  -123.2685,       4283,   947.4,   4.0974,  34.4588,2,  34.4581,2,  19.0000,2,    19.6,2,  114.31,2,   43.83,2,    0.00,2,    3.21,2,-999.000,9,-999.000,9,-999.000,9,  2356.8,2,  2368.6,2,-999.000,9,-999.0000,9, -999.00,9,   -0.32,2,  -200.8,2,     3.3,-999.000,9,-999.000, -999.00,9,  947.40,-999.0000,9,-999.0000,9,-999.0000,9,-999.0000,9,-999.0000,9,-999.0000,-999.000,-999.0000,9, -999.00
318M20040615,        P02,     173,          1,         20,         20,2,20040823,       1711,    30.2598,  -123.2685,       4283,  1049.1,   3.7908,  34.4864,2,  34.4854,2,  24.9000,2,    25.5,2,  121.59,2,   43.72,2,    0.00,2,    3.19,2,   0.024,2,   0.015,2,   0.000,2,  2361.6,2,  2377.7,2,-999.000,9,-999.0000,9, -999.00,9,   -0.66,3,  -215.3,2,     4.8,-999.000,9,-999.000,   37.50,2, 1049.10,   0.0810,2,   0.1880,2,   0.0120,2,   0.1380,2,   0.0130,2,-999.0000,-999.000,   0.0610,2, -999.00
318M20040615,        P02,     173,          1,         19,         19,2,20040823,       1711,    30.2598,  -123.2685,       4283,  1155.0,   3.4941,  34.5139,2,  34.5156,2,  31.0000,2,    31.2,2,  128.46,2,   43.55,2,    0.00,2,    3.17,2,-999.000,9,-999.000,9,-999.000,9,  2364.7,2,  2386.9,2,-999.000,9,-999.0000,9, -999.00,9,   -0.68,3,  -227.3,2,     4.3,-999.000,9,-999.000, -999.00,9, 1155.00,-999.0000,9,-999.0000,9,-999.0000,9,-999.0000,9,-999.0000,9,-999.0000,-999.000,-999.0000,9, -999.00
318M20040615,        P02,     173,          1,         18,         18,2,20040823,       1711,    30.2598,  -123.2685,       4283,  1254.5,   3.2876,  34.5311,2,  34.5303,2,  35.9000,2,    36.4,2,  133.67,2,   43.27,2,    0.00,2,    3.14,2,-999.000,1,-999.000,1,-999.000,1,  2368.9,2,  2393.6,6,-999.000,9,-999.0000,9, -999.00,9,   -0.23,2,  -229.7,2,     3.5,-999.000,9,-999.000,   35.40,2, 1254.50,-999.0000,9,-999.0000,9,-999.0000,9,-999.0000,9,-999.0000,9,-999.0000,-999.000,-999.0000,9, -999.00
318M20040615,        P02,     173,          1,         17,         17,2,20040823,       1711,    30.2598,  -123.2685,       4283,  1353.9,   3.0358,  34.5509,2,  34.5506,2,  41.6000,2,    42.5,2,  139.76,2,   42.99,2,    0.00,2,    3.11,2,-999.000,9,-999.000,9,-999.000,9,  2370.9,2,  2399.0,2,-999.000,9,-999.0000,9, -999.00,9,   -0.21,2,  -231.1,2,     3.9,-999.000,9,-999.000, -999.00,9, 1353.90,-999.0000,9,-999.0000,9,-999.0000,9,-999.0000,9,-999.0000,9,-999.0000,-999.000,-999.0000,9, -999.00
318M20040615,        P02,     173,          1,         16,         16,2,20040823,       1711,    30.2598,  -123.2685,       4283,  1454.9,   2.8562,  34.5655,2,  34.5649,2,  46.9000,2,    47.9,2,  144.59,2,   42.67,2,    0.00,2,    3.08,2,   0.025,6,   0.018,6,   0.009,6,  2371.5,2,  2404.9,2,-999.000,9,-999.0000,9, -999.00,9,   -0.24,2,  -235.9,2,     3.8,-999.000,9,-999.000, -999.00,9, 1454.90,-999.0000,9,-999.0000,9,-999.0000,9,-999.0000,9,-999.0000,9,-999.0000,-999.000,-999.0000,9, -999.00
318M20040615,        P02,     173,          1,         15,         15,2,20040823,       1711,    30.2598,  -123.2685,       4283,  1555.7,   2.6700,  34.5798,2,  34.5800,2,  53.2000,2,    54.0,2,  148.58,2,   42.34,2,    0.00,2,    3.06,2,-999.000,9,-999.000,9,-999.000,9,  2373.0,2,  2409.2,2,-999.000,9,-999.0000,9, -999.00,9,   -0.23,2,  -243.3,2,     3.4,-999.000,9,-999.000, -999.00,9, 1555.70,-999.0000,9,-999.0000,9,-999.0000,9,-999.0000,9,-999.0000,9,-999.0000,-999.000,-999.0000,9, -999.00
318M20040615,        P02,     173,          1,         14,         14,2,20040823,       1711,    30.2598,  -123.2685,       4283,  1656.3,   2.4999,  34.5876,2,  34.5869,2,  58.4000,2,    58.9,2,  152.99,2,   42.28,2,    0.00,2,    3.02,2,   0.008,2,   0.008,2,   0.000,2,  2374.0,2,  2412.8,2,-999.000,9,-999.0000,9, -999.00,9,   -0.16,2,  -246.4,2,     3.4,-999.000,9,-999.000, -999.00,9, 1656.30,-999.0000,9,-999.0000,9,-999.0000,9,-999.0000,9,-999.0000,9,-999.0000,-999.000,-999.0000,9, -999.00
318M20040615,        P02,     173,          1,         13,         13,2,20040823,       1711,    30.2598,  -123.2685,       4283,  1762.3,   2.3420,  34.6038,2,  34.6030,2,  66.1000,2,    66.7,2,  156.14,2,   41.94,2,    0.00,2,    2.98,2,-999.000,9,-999.000,9,-999.000,9,  2372.6,2,  2416.4,2,-999.000,9,-999.0000,9, -999.00,9,   -0.21,2,  -247.9,2,     4.1,-999.000,9,-999.000, -999.00,9, 1762.30,-999.0000,9,-999.0000,9,-999.0000,9,-999.0000,9,-999.0000,9,-999.0000,-999.000,-999.0000,9, -999.00
318M20040615,        P02,     173,          1,         12,         12,2,20040823,       1711,    30.2598,  -123.2685,       4283,  1862.5,   2.2185,  34.6126,2,  34.6121,2,  72.8000,2,    72.8,2,  158.45,2,   41.67,2,    0.00,2,    2.94,2,   0.002,2,   0.004,2,   0.000,2,  2372.5,2,  2420.4,2,-999.000,9,-999.0000,9, -999.00,9,   -0.12,2,  -270.0,3,     2.7,-999.000,9,-999.000,   34.40,2, 1862.50,-999.0000,9,-999.0000,9,-999.0000,9,-999.0000,9,-999.0000,9,-999.0000,-999.000,-999.0000,9, -999.00
318M20040615,        P02,     173,          1,         11,         11,2,20040823,       1711,    30.2598,  -123.2685,       4283,  1962.8,   2.1078,  34.6233,2,  34.6229,2,  79.0000,2,    79.5,2,  160.34,2,   41.12,2,    0.00,2,    2.91,2,-999.000,9,-999.000,9,-999.000,9,  2370.8,2,  2423.4,2,-999.000,9,-999.0000,9, -999.00,9,   -0.11,2,  -242.9,2,     3.4,-999.000,9,-999.000, -999.00,9, 1962.80,-999.0000,9,-999.0000,9,-999.0000,9,-999.0000,9,-999.0000,9,-999.0000,-999.000,-999.0000,9, -999.00
318M20040615,        P02,     173,          1,         10,         10,2,20040823,       1711,    30.2598,  -123.2685,       4283,  2124.6,   1.9888,  34.6347,2,  34.6339,2,  87.7000,2,    87.9,2,  162.23,2,   40.51,2,    0.00,2,    2.86,2,   0.005,2,   0.002,2,   0.000,2,  2367.4,2,  2426.1,2,-999.000,9,-999.0000,9, -999.00,9,   -0.05,2,  -242.9,2,     3.4,-999.000,9,-999.000,   35.90,2, 2124.60,   0.0590,2,   0.1550,2,   0.0140,2,   0.1090,2,   0.0160,2,-999.0000,-999.000,   0.0410,2, -999.00
318M20040615,        P02,     173,          1,          9,          9,2,20040823,       1711,    30.2598,  -123.2685,       4283,  2381.8,   1.8490,  34.6489,2,  34.6486,2,  98.9000,2,    98.4,2,  163.91,2,   39.81,2,    0.00,2,    2.80,2,-999.000,9,-999.000,9,-999.000,9,  2364.9,2,  2427.8,2,-999.000,9,-999.0000,9, -999.00,9,   -0.07,2,  -251.0,2,     3.6,-999.000,9,-999.000, -999.00,9, 2381.80,-999.0000,9,-999.0000,9,-999.0000,9,-999.0000,9,-999.0000,9,-999.0000,-999.000,-999.0000,9, -999.00
318M20040615,        P02,     173,          1,          8,          8,2,20040823,       1711,    30.2598,  -123.2685,       4283,  2634.1,   1.7354,  34.6592,2,  34.6588,2, 107.8000,2,   108.2,2,  165.16,2,   38.99,2,    0.00,2,    2.74,2,   0.007,2,   0.007,2,   0.000,2,  2360.1,2,  2434.4,2,-999.000,9,-999.0000,9, -999.00,9,   -0.01,2,  -242.5,2,     3.9,-999.000,9,-999.000, -999.00,9, 2634.10,-999.0000,9,-999.0000,9,-999.0000,9,-999.0000,9,-999.0000,9,-999.0000,-999.000,-999.0000,9, -999.00
318M20040615,        P02,     173,          1,          7,          7,2,20040823,       1711,    30.2598,  -123.2685,       4283,  2890.9,   1.6550,  34.6658,2,  34.6657,2, 115.3000,2,   115.2,2,  166.62,2,   38.71,2,    0.00,2,    2.71,2,-999.000,9,-999.000,9,-999.000,9,  2357.2,2,  2433.1,6,-999.000,9,-999.0000,9, -999.00,9,    0.04,2,  -242.8,2,     3.6,-999.000,9,-999.000,   35.80,2, 2890.90,-999.0000,9,-999.0000,9,-999.0000,9,-999.0000,9,-999.0000,9,-999.0000,-999.000,-999.0000,9, -999.00
318M20040615,        P02,     173,          1,          6,          6,2,20040823,       1711,    30.2598,  -123.2685,       4283,  3144.3,   1.5970,  34.6707,2,  34.6702,2, 120.7000,2,   120.9,2,  167.68,2,   38.28,2,    0.00,2,    2.67,2,   0.013,2,   0.009,2,   0.000,2,  2354.0,2,  2434.2,2,-999.000,9,-999.0000,9, -999.00,9,    0.10,2,  -242.5,2,     3.6,-999.000,9,-999.000, -999.00,9, 3144.30,   0.0620,2,   0.1620,2,   0.0140,2,   0.1160,2,   0.0160,2,-999.0000,-999.000,   0.0440,2, -999.00
318M20040615,        P02,     173,          1,          5,          5,2,20040823,       1711,    30.2598,  -123.2685,       4283,  3402.4,   1.5520,  34.6747,2,  34.6743,2, 125.6000,2,   125.9,2,  168.33,2,   37.95,2,    0.00,2,    2.64,2,   0.015,2,   0.010,2,   0.000,2,  2350.7,2,  2433.5,2,-999.000,9,-999.0000,9, -999.00,9,    0.11,2,  -232.0,2,     3.6,-999.000,9,-999.000,   35.30,2, 3402.40,-999.0000,9,-999.0000,9,-999.0000,9,-999.0000,9,-999.0000,9,-999.0000,-999.000,-999.0000,9, -999.00
318M20040615,        P02,     173,          1,          4,          4,2,20040823,       1711,    30.2598,  -123.2685,       4283,  3655.8,   1.5301,  34.6781,2,  34.6775,2, 129.6000,2,   130.5,2,  168.32,2,   37.63,2,    0.00,2,    2.62,2,   0.014,2,   0.015,2,   0.000,2,  2347.8,2,  2435.4,2,-999.000,9,-999.0000,9, -999.00,9,    0.12,2,  -234.4,2,     3.7,-999.000,9,-999.000, -999.00,9, 3655.80,-999.0000,9,-999.0000,9,-999.0000,9,-999.0000,9,-999.0000,9,-999.0000,-999.000,-999.0000,9, -999.00
318M20040615,        P02,     173,          1,          3,          3,2,20040823,       1711,    30.2598,  -123.2685,       4283,  3914.2,   1.5293,  34.6810,2,  34.6798,2, 133.0000,2,   134.3,2,  167.67,2,   37.52,2,    0.00,2,    2.60,2,   0.018,2,   0.016,2,   0.000,2,  2346.0,2,  2433.8,2,-999.000,9,-999.0000,9, -999.00,9,    0.09,2,  -230.7,2,     3.8,-999.000,9,-999.000,   36.80,2, 3914.20,-999.0000,9,-999.0000,9,-999.0000,9,-999.0000,9,-999.0000,9,-999.0000,-999.000,-999.0000,9, -999.00
318M20040615,        P02,     173,          1,          2,          2,2,20040823,       1711,    30.2598,  -123.2685,       4283,  4107.6,   1.5376,  34.6822,2,  34.6826,2, 135.0000,2,   135.8,2,  167.23,2,   37.57,2,    0.00,2,    2.59,2,   0.016,2,   0.016,2,   0.000,2,  2345.4,6,  2435.2,2,-999.000,9,-999.0000,9, -999.00,9,    0.14,2,  -228.1,2,     3.9,-999.000,9,-999.000,   40.70,4, 4107.60,-999.0000,9,-999.0000,9,-999.0000,9,-999.0000,9,-999.0000,9,-999.0000,-999.000,-999.0000,9, -999.00
318M20040615,        P02,     173,          1,          1,          1,2,20040823,       1711,    30.2598,  -123.2685,       4283,  4310.4,   1.5544,  34.6828,2,  34.6832,2, 136.2000,2,   136.7,2,  166.59,2,   37.57,2,    0.00,2,    2.59,2,   0.011,2,   0.014,2,   0.000,2,  2344.7,2,  2434.3,6,-999.000,9,-999.0000,9, -999.00,9,    0.19,2,  -226.2,2,     3.8,-999.000,9,-999.000,   37.10,2, 4310.40,-999.0000,9,-999.0000,9,-999.0000,9,-999.0000,9,-999.0000,9,-999.0000,-999.000,-999.0000,9, -999.00