BOTTLE,20131027SIOCCHRJL
EXPOCODE,SECT_ID,STNNBR,CASTNO,SAMPNO,BTLNBR,BTLNBR_FLAG_W,DATE,TIME,LATITUDE,LONGITUDE,DEPTH,CTDPRS,CTDTMP,CTDSAL,CTDSAL_FLAG_W,SALNTY,SALNTY_FLAG_W,CTDOXY,CTDOXY_FLAG_W,OXYGEN,OXYGEN_FLAG_W,SILCAT,SILCAT_FLAG_W,NITRAT,NITRAT_FLAG_W,NITRIT,NITRIT_FLAG_W,PHSPHT,PHSPHT_FLAG_W,CFC-11,CFC-11_FLAG_W,CFC-12,CFC-12_FLAG_W,CFC113,CFC113_FLAG_W,TCARBN,TCARBN_FLAG_W,ALKALI,ALKALI_FLAG_W,TRITUM,TRITUM_FLAG_W,HELIUM,HELIUM_FLAG_W,DELHE3,DELHE3_FLAG_W,DELC13,DELC13_FLAG_W,DELC14,DELC14_FLAG_W,C14ERR,NEON,NEON_FLAG_W,NEONER,DOC,DOC_FLAG_W,CTDRAW,CDOM380,CDOM380_FLAG_W,CDOM325,CDOM325_FLAG_W,CDOMSL,CDOMSL_FLAG_W,CDOM340,CDOM340_FLAG_W,CDOMSN,CDOMSN_FLAG_W,HELIER,TRITER,CDOM412,CDOM412_FLAG_W,DELHER
,,,,,,,,,,,METERS,DBAR,ITS-90,PSS-78,,PSS-78,,UMOL/KG,,UMOL/KG,,UMOL/KG,,UMOL/KG,,UMOL/KG,,UMOL/KG,,PMOL/KG,,PMOL/KG,,PMOL/KG,,UMOL/KG,,UMOL/KG,,TU,,NMOL/KG,,PERCNT,,/MILLE,,/MILLE,,/MILLE,NMOL/KG,,NMOL/KG,UMOL/KG,,DBAR,1/M,,1/M,,1/NM,,1/M,,1/NM,,NMOL/KG,TU,1/M,,PERCNT
318M20040615,        P02,      35,          1,         35,         35,2,20040628,       1345,       30.0,   146.0625,       6109,     8.1,  28.1954,  35.0476,2,  35.0439,2, 200.4000,2,   199.7,2,    1.20,2,    0.18,2,    0.00,2,    0.03,2,-999.000,5,-999.000,5,-999.000,5,  1974.4,6,  2302.2,6,-999.000,9,-999.0000,9, -999.00,9, -999.00,9,  -999.0,9,  -999.0,-999.000,9,-999.000, -999.00,9,    8.10,-999.0000,9,-999.0000,9,-999.0000,9,-999.0000,9,-999.0000,9,-999.0000,-999.000,-999.0000,9, -999.00
318M20040615,        P02,      35,          1,         34,         34,2,20040628,       1345,       30.0,   146.0625,       6109,    36.6,  22.7808,  34.9606,2,  34.9593,2, 226.1000,2,   226.4,2,    1.38,2,    0.18,2,    0.00,2,    0.02,2,   2.148,2,   1.271,2,   0.125,2,  1978.8,2,  2295.5,2,-999.000,9,-999.0000,9, -999.00,9, -999.00,9,  -999.0,9,  -999.0,-999.000,9,-999.000, -999.00,9,   36.60,-999.0000,9,-999.0000,9,-999.0000,9,-999.0000,9,-999.0000,9,-999.0000,-999.000,-999.0000,9, -999.00
318M20040615,        P02,      35,          1,         33,         33,2,20040628,       1345,       30.0,   146.0625,       6109,    71.4,  19.8005,  34.8482,2,  34.8482,2, 226.5000,2,   227.9,2,    1.92,2,    0.12,2,    0.00,2,    0.07,2,   2.277,2,   1.365,2,   0.140,2,  1990.6,2,  2288.0,2,-999.000,9,-999.0000,9, -999.00,9, -999.00,9,  -999.0,9,  -999.0,-999.000,9,-999.000, -999.00,9,   71.40,-999.0000,9,-999.0000,9,-999.0000,9,-999.0000,9,-999.0000,9,-999.0000,-999.000,-999.0000,9, -999.00
318M20040615,        P02,      35,          1,         32,         32,2,20040628,       1345,       30.0,   146.0625,       6109,   121.5,  18.5854,  34.8431,2,  34.8429,2, 212.2000,2,   212.9,2,    2.99,2,    2.61,2,    0.04,2,    0.21,2,   2.350,2,   1.404,2,   0.127,2,  -999.0,9,  -999.0,9,-999.000,9,-999.0000,9, -999.00,9, -999.00,9,  -999.0,9,  -999.0,-999.000,9,-999.000, -999.00,9,  121.50,-999.0000,9,-999.0000,9,-999.0000,9,-999.0000,9,-999.0000,9,-999.0000,-999.000,-999.0000,9, -999.00
318M20040615,        P02,      35,          1,         31,         31,2,20040628,       1345,       30.0,   146.0625,       6109,   171.4,  17.5720,  34.8029,2,  34.8037,2, 213.5000,2,   219.0,2,    2.81,2,    2.89,2,    0.02,2,    0.22,2,   2.475,2,   1.463,2,   0.124,2,  -999.0,9,  -999.0,9,-999.000,9,-999.0000,9, -999.00,9, -999.00,9,  -999.0,9,  -999.0,-999.000,9,-999.000, -999.00,9,  171.40,-999.0000,9,-999.0000,9,-999.0000,9,-999.0000,9,-999.0000,9,-999.0000,-999.000,-999.0000,9, -999.00
318M20040615,        P02,      35,          1,         30,         30,2,20040628,       1345,       30.0,   146.0625,       6109,   226.3,  17.2326,  34.8138,2,  34.8136,2, 221.7000,2,   224.4,2,    3.33,2,    3.22,2,    0.01,2,    0.23,2,   2.482,2,   1.478,2,   0.139,2,  2016.5,2,  2285.5,2,-999.000,9,-999.0000,9, -999.00,9, -999.00,9,  -999.0,9,  -999.0,-999.000,9,-999.000, -999.00,9,  226.30,-999.0000,9,-999.0000,9,-999.0000,9,-999.0000,9,-999.0000,9,-999.0000,-999.000,-999.0000,9, -999.00
318M20040615,        P02,      35,          1,         29,         29,2,20040628,       1345,       30.0,   146.0625,       6109,   275.3,  16.9765,  34.7875,2,  34.7865,2, 217.8000,2,   220.8,2,    3.87,2,    3.89,2,    0.01,2,    0.27,2,   2.505,6,   1.482,6,   0.114,6,  -999.0,9,  -999.0,9,-999.000,9,-999.0000,9, -999.00,9, -999.00,9,  -999.0,9,  -999.0,-999.000,9,-999.000, -999.00,9,  275.30,-999.0000,9,-999.0000,9,-999.0000,9,-999.0000,9,-999.0000,9,-999.0000,-999.000,-999.0000,9, -999.00
318M20040615,        P02,      35,          1,         28,         28,2,20040628,       1345,       30.0,   146.0625,       6109,   325.0,  16.4466,  34.7181,2,  34.7165,2, 212.1000,2,   209.0,2,    5.12,2,    5.74,2,    0.01,2,    0.41,2,-999.000,9,-999.000,9,-999.000,9,  -999.0,9,  -999.0,9,-999.000,9,-999.0000,9, -999.00,9, -999.00,9,  -999.0,9,  -999.0,-999.000,9,-999.000, -999.00,9,  325.00,-999.0000,9,-999.0000,9,-999.0000,9,-999.0000,9,-999.0000,9,-999.0000,-999.000,-999.0000,9, -999.00
318M20040615,        P02,      35,          1,         27,         27,2,20040628,       1345,       30.0,   146.0625,       6109,   374.9,  15.4554,  34.6280,2,  34.6304,2, 200.9000,2,   197.0,2,    8.01,2,    8.26,2,    0.01,2,    0.58,2,   2.594,2,   1.494,2,   0.027,2,  2054.5,2,  2276.5,2,-999.000,9,-999.0000,9, -999.00,9, -999.00,9,  -999.0,9,  -999.0,-999.000,9,-999.000, -999.00,9,  374.90,-999.0000,9,-999.0000,9,-999.0000,9,-999.0000,9,-999.0000,9,-999.0000,-999.000,-999.0000,9, -999.00
318M20040615,        P02,      35,          1,         26,         26,2,20040628,       1345,       30.0,   146.0625,       6109,   424.9,  14.2677,  34.5386,2,  34.5377,2, 194.7000,2,   192.3,2,   11.06,2,   10.52,2,    0.01,2,    0.74,2,   2.650,2,   1.487,2,   0.025,2,  -999.0,9,  -999.0,9,-999.000,9,-999.0000,9, -999.00,9, -999.00,9,  -999.0,9,  -999.0,-999.000,9,-999.000, -999.00,9,  424.90,-999.0000,9,-999.0000,9,-999.0000,9,-999.0000,9,-999.0000,9,-999.0000,-999.000,-999.0000,9, -999.00
318M20040615,        P02,      35,          1,         25,         25,2,20040628,       1345,       30.0,   146.0625,       6109,   474.7,  12.9752,  34.4513,2,  34.4517,2, 193.1000,2,   184.8,2,   16.09,2,   13.42,2,    0.00,2,    0.94,2,   2.635,2,   1.463,2,   0.040,2,  -999.0,9,  -999.0,9,-999.000,9,-999.0000,9, -999.00,9, -999.00,9,  -999.0,9,  -999.0,-999.000,9,-999.000, -999.00,9,  474.70,-999.0000,9,-999.0000,9,-999.0000,9,-999.0000,9,-999.0000,9,-999.0000,-999.000,-999.0000,9, -999.00
318M20040615,        P02,      35,          1,         24,         24,2,20040628,       1345,       30.0,   146.0625,       6109,   545.3,  11.1957,  34.3163,2,  34.3169,2, 182.2000,2,   186.6,2,   22.03,2,   16.23,2,    0.00,2,    1.14,2,   2.691,2,   1.483,2,   0.068,2,  2112.9,2,  2274.3,2,-999.000,9,-999.0000,9, -999.00,9, -999.00,9,  -999.0,9,  -999.0,-999.000,9,-999.000, -999.00,9,  545.30,-999.0000,9,-999.0000,9,-999.0000,9,-999.0000,9,-999.0000,9,-999.0000,-999.000,-999.0000,9, -999.00
318M20040615,        P02,      35,          1,         23,         23,2,20040628,       1345,       30.0,   146.0625,       6109,   646.5,   8.6282,  34.1632,2,  34.1604,2, 162.5000,2,   157.7,2,   39.10,2,   23.37,2,    0.00,2,    1.68,2,-999.000,9,-999.000,9,-999.000,9,  -999.0,9,  -999.0,9,-999.000,9,-999.0000,9, -999.00,9, -999.00,9,  -999.0,9,  -999.0,-999.000,9,-999.000, -999.00,9,  646.50,-999.0000,9,-999.0000,9,-999.0000,9,-999.0000,9,-999.0000,9,-999.0000,-999.000,-999.0000,9, -999.00
318M20040615,        P02,      35,          1,         22,         22,2,20040628,       1345,       30.0,   146.0625,       6109,   747.6,   6.3733,  34.0608,2,  34.0572,2, 126.6000,2,   128.0,2,   60.05,2,   29.97,2,    0.00,2,    2.20,2,   1.906,2,   0.977,2,   0.077,2,  2219.7,2,  2291.6,2,-999.000,9,-999.0000,9, -999.00,9, -999.00,9,  -999.0,9,  -999.0,-999.000,9,-999.000, -999.00,9,  747.60,-999.0000,9,-999.0000,9,-999.0000,9,-999.0000,9,-999.0000,9,-999.0000,-999.000,-999.0000,9, -999.00
318M20040615,        P02,      35,          1,         21,         21,2,20040628,       1345,       30.0,   146.0625,       6109,   848.0,   5.1131,  34.1017,2,  34.0995,2,  97.9000,2,    89.6,2,   81.12,2,   35.71,2,    0.00,2,    2.58,2,-999.000,9,-999.000,9,-999.000,9,  -999.0,9,  -999.0,9,-999.000,9,-999.0000,9, -999.00,9, -999.00,9,  -999.0,9,  -999.0,-999.000,9,-999.000, -999.00,9,  848.00,-999.0000,9,-999.0000,9,-999.0000,9,-999.0000,9,-999.0000,9,-999.0000,-999.000,-999.0000,9, -999.00
318M20040615,        P02,      35,          1,         20,         20,2,20040628,       1345,       30.0,   146.0625,       6109,   948.6,   4.4109,  34.1874,2,  34.1850,2,  65.3000,2,    60.9,2,  100.04,2,   39.27,2,    0.00,2,    2.84,2,   0.688,2,   0.340,2,   0.025,2,  2309.4,2,  2329.2,2,-999.000,9,-999.0000,9, -999.00,9, -999.00,9,  -999.0,9,  -999.0,-999.000,9,-999.000, -999.00,9,  948.60,-999.0000,9,-999.0000,9,-999.0000,9,-999.0000,9,-999.0000,9,-999.0000,-999.000,-999.0000,9, -999.00
318M20040615,        P02,      35,          1,         19,         19,2,20040628,       1345,       30.0,   146.0625,       6109,  1048.8,   3.8774,  34.2757,2,  34.2707,2,  46.7000,2,    45.3,2,  114.49,2,   41.25,2,    0.00,2,    2.97,2,-999.000,9,-999.000,9,-999.000,9,  -999.0,9,  -999.0,9,-999.000,9,-999.0000,9, -999.00,9, -999.00,9,  -999.0,9,  -999.0,-999.000,9,-999.000, -999.00,9, 1048.80,-999.0000,9,-999.0000,9,-999.0000,9,-999.0000,9,-999.0000,9,-999.0000,-999.000,-999.0000,9, -999.00
318M20040615,        P02,      35,          1,         18,         18,2,20040628,       1345,       30.0,   146.0625,       6109,  1148.8,   3.5194,  34.3383,2,  34.3407,2,  39.9000,2,    39.3,2,  125.36,2,   42.09,2,    0.00,2,    3.03,2,   0.161,2,   0.079,2,   0.001,2,  2349.5,2,  2360.3,2,-999.000,9,-999.0000,9, -999.00,9, -999.00,9,  -999.0,9,  -999.0,-999.000,9,-999.000, -999.00,9, 1148.80,-999.0000,9,-999.0000,9,-999.0000,9,-999.0000,9,-999.0000,9,-999.0000,-999.000,-999.0000,9, -999.00
318M20040615,        P02,      35,          1,         17,         17,2,20040628,       1345,       30.0,   146.0625,       6109,  1240.1,   3.1875,  34.3980,2,  34.3969,2,  36.8000,2,    35.9,2,  134.11,2,   42.72,2,    0.00,2,    3.07,2,   0.067,2,   0.035,2,   0.005,2,  2362.1,2,  2374.1,2,-999.000,9,-999.0000,9, -999.00,9, -999.00,9,  -999.0,9,  -999.0,-999.000,9,-999.000, -999.00,9, 1240.10,-999.0000,9,-999.0000,9,-999.0000,9,-999.0000,9,-999.0000,9,-999.0000,-999.000,-999.0000,9, -999.00
318M20040615,        P02,      35,          1,         16,         16,2,20040628,       1345,       30.0,   146.0625,       6109,  1341.0,   2.9467,  34.4407,2,  34.4400,2,  37.2000,2,    37.9,2,  140.67,2,   42.84,2,    0.00,2,    3.07,2,   0.036,2,   0.018,2,  -0.001,2,  2367.5,2,  2383.3,2,-999.000,9,-999.0000,9, -999.00,9, -999.00,9,  -999.0,9,  -999.0,-999.000,9,-999.000, -999.00,9, 1341.00,-999.0000,9,-999.0000,9,-999.0000,9,-999.0000,9,-999.0000,9,-999.0000,-999.000,-999.0000,9, -999.00
318M20040615,        P02,      35,          1,         15,         15,2,20040628,       1345,       30.0,   146.0625,       6109,  1441.6,   2.7352,  34.4731,2,  34.4740,2,  40.7000,2,    42.3,2,  145.94,2,   42.60,2,    0.00,2,    3.06,2,-999.000,9,-999.000,9,-999.000,9,  -999.0,9,  -999.0,9,-999.000,9,-999.0000,9, -999.00,9, -999.00,9,  -999.0,9,  -999.0,-999.000,9,-999.000, -999.00,9, 1441.60,-999.0000,9,-999.0000,9,-999.0000,9,-999.0000,9,-999.0000,9,-999.0000,-999.000,-999.0000,9, -999.00
318M20040615,        P02,      35,          1,         14,         14,2,20040628,       1345,       30.0,   146.0625,       6109,  1547.3,   2.5574,  34.5046,2,  34.5051,2,  46.9000,2,    48.4,2,  149.81,2,   42.38,2,    0.00,2,    3.02,2,-999.000,9,-999.000,9,-999.000,9,  -999.0,9,  -999.0,9,-999.000,9,-999.0000,9, -999.00,9, -999.00,9,  -999.0,9,  -999.0,-999.000,9,-999.000, -999.00,9, 1547.30,-999.0000,9,-999.0000,9,-999.0000,9,-999.0000,9,-999.0000,9,-999.0000,-999.000,-999.0000,9, -999.00
318M20040615,        P02,      35,          1,         13,         13,2,20040628,       1345,       30.0,   146.0625,       6109,  1744.2,   2.2842,  34.5489,2,  34.5494,2,  60.3000,2,    61.6,2,  154.59,2,   41.64,2,    0.00,2,    2.97,2,   0.007,2,   0.004,2,   0.002,2,  -999.0,9,  2400.2,2,-999.000,9,-999.0000,9, -999.00,9, -999.00,9,  -999.0,9,  -999.0,-999.000,9,-999.000, -999.00,9, 1744.20,-999.0000,9,-999.0000,9,-999.0000,9,-999.0000,9,-999.0000,9,-999.0000,-999.000,-999.0000,9, -999.00
318M20040615,        P02,      35,          1,         12,         12,2,20040628,       1345,       30.0,   146.0625,       6109,  1945.3,   2.0560,  34.5872,2,  34.5874,2,  75.7000,2,    81.6,2,  154.75,2,   40.39,2,    0.00,2,    2.87,2,-999.000,9,-999.000,9,-999.000,9,  -999.0,9,  -999.0,9,-999.000,9,-999.0000,9, -999.00,9, -999.00,9,  -999.0,9,  -999.0,-999.000,9,-999.000, -999.00,9, 1945.30,-999.0000,9,-999.0000,9,-999.0000,9,-999.0000,9,-999.0000,9,-999.0000,-999.000,-999.0000,9, -999.00
318M20040615,        P02,      35,          1,         11,         11,2,20040628,       1345,       30.0,   146.0625,       6109,  2103.0,   1.9290,  34.6076,2,  34.6078,2,  89.6000,2,    92.8,2,  154.37,2,   39.71,2,    0.00,2,    2.82,2,   0.005,2,   0.004,2,   0.002,2,  -999.0,9,  2409.7,2,-999.000,9,-999.0000,9, -999.00,9, -999.00,9,  -999.0,9,  -999.0,-999.000,9,-999.000, -999.00,9, 2103.00,-999.0000,9,-999.0000,9,-999.0000,9,-999.0000,9,-999.0000,9,-999.0000,-999.000,-999.0000,9, -999.00
318M20040615,        P02,      35,          1,         10,         10,2,20040628,       1345,       30.0,   146.0625,       6109,  2340.2,   1.8058,  34.6282,2,  34.6284,2, 103.9000,2,   107.0,2,  153.81,2,   39.15,2,    0.00,2,    2.75,2,-999.000,9,-999.000,9,-999.000,9,  -999.0,9,  -999.0,9,-999.000,9,-999.0000,9, -999.00,9, -999.00,9,  -999.0,9,  -999.0,-999.000,9,-999.000, -999.00,9, 2340.20,-999.0000,9,-999.0000,9,-999.0000,9,-999.0000,9,-999.0000,9,-999.0000,-999.000,-999.0000,9, -999.00
318M20040615,        P02,      35,          1,          9,          9,2,20040628,       1345,       30.0,   146.0625,       6109,  2593.7,   1.6957,  34.6440,2,  34.6436,2, 112.5000,2,   115.5,2,  154.52,2,   38.75,2,    0.00,2,    2.71,2,   0.002,2,   0.001,2,   0.002,2,  -999.0,9,  2414.6,2,-999.000,9,-999.0000,9, -999.00,9, -999.00,9,  -999.0,9,  -999.0,-999.000,9,-999.000, -999.00,9, 2593.70,-999.0000,9,-999.0000,9,-999.0000,9,-999.0000,9,-999.0000,9,-999.0000,-999.000,-999.0000,9, -999.00
318M20040615,        P02,      35,          1,          8,          8,2,20040628,       1345,       30.0,   146.0625,       6109,  2854.0,   1.6234,  34.6561,2,  34.6564,2, 123.3000,2,   125.6,2,  152.86,2,   38.08,2,    0.00,2,    2.65,2,-999.000,9,-999.000,9,-999.000,9,  -999.0,9,  2415.1,2,-999.000,9,-999.0000,9, -999.00,9, -999.00,9,  -999.0,9,  -999.0,-999.000,9,-999.000, -999.00,9, 2854.00,-999.0000,9,-999.0000,9,-999.0000,9,-999.0000,9,-999.0000,9,-999.0000,-999.000,-999.0000,9, -999.00
318M20040615,        P02,      35,          1,          7,          7,2,20040628,       1345,       30.0,   146.0625,       6109,  3482.1,   1.5405,  34.6716,2,  34.6715,2, 138.6000,2,   138.8,2,  151.22,2,   36.96,2,    0.00,2,    2.59,2,   0.002,2,   0.000,2,   0.001,2,  -999.0,9,  2415.3,2,-999.000,9,-999.0000,9, -999.00,9, -999.00,9,  -999.0,9,  -999.0,-999.000,9,-999.000, -999.00,9, 3482.10,-999.0000,9,-999.0000,9,-999.0000,9,-999.0000,9,-999.0000,9,-999.0000,-999.000,-999.0000,9, -999.00
318M20040615,        P02,      35,          1,          6,          6,2,20040628,       1345,       30.0,   146.0625,       6109,  3852.4,   1.5111,  34.6777,2,  34.6776,2, 144.8000,2,   144.9,2,  150.08,2,   36.56,2,    0.00,2,    2.55,2,-999.000,9,-999.000,9,-999.000,9,  -999.0,9,  2415.7,2,-999.000,9,-999.0000,9, -999.00,9, -999.00,9,  -999.0,9,  -999.0,-999.000,9,-999.000, -999.00,9, 3852.40,-999.0000,9,-999.0000,9,-999.0000,9,-999.0000,9,-999.0000,9,-999.0000,-999.000,-999.0000,9, -999.00
318M20040615,        P02,      35,          1,          5,          5,2,20040628,       1345,       30.0,   146.0625,       6109,  4289.9,   1.4993,  34.6836,2,  34.6831,2, 151.7000,2,   151.9,2,  148.07,2,   36.12,2,    0.00,2,    2.52,2,   0.002,2,   0.000,2,   0.002,2,  -999.0,9,  2413.7,2,-999.000,9,-999.0000,9, -999.00,9, -999.00,9,  -999.0,9,  -999.0,-999.000,9,-999.000, -999.00,9, 4289.90,-999.0000,9,-999.0000,9,-999.0000,9,-999.0000,9,-999.0000,9,-999.0000,-999.000,-999.0000,9, -999.00
318M20040615,        P02,      35,          1,          4,          4,2,20040628,       1345,       30.0,   146.0625,       6109,  4700.0,   1.5029,  34.6875,2,  34.6871,2, 156.7000,2,   157.3,2,  146.02,2,   35.73,2,    0.00,2,    2.49,2,-999.000,9,-999.000,9,-999.000,9,  -999.0,9,  2411.7,2,-999.000,9,-999.0000,9, -999.00,9, -999.00,9,  -999.0,9,  -999.0,-999.000,9,-999.000, -999.00,9, 4700.00,-999.0000,9,-999.0000,9,-999.0000,9,-999.0000,9,-999.0000,9,-999.0000,-999.000,-999.0000,9, -999.00
318M20040615,        P02,      35,          1,          3,          3,2,20040628,       1345,       30.0,   146.0625,       6109,  5195.5,   1.5315,  34.6905,2,  34.6908,2, 161.6000,2,   162.1,2,  143.28,2,   35.40,2,    0.00,2,    2.46,2,   0.003,2,   0.002,2,   0.003,2,  -999.0,9,  2410.0,2,-999.000,9,-999.0000,9, -999.00,9, -999.00,9,  -999.0,9,  -999.0,-999.000,9,-999.000, -999.00,9, 5195.50,-999.0000,9,-999.0000,9,-999.0000,9,-999.0000,9,-999.0000,9,-999.0000,-999.000,-999.0000,9, -999.00
318M20040615,        P02,      35,          1,          2,          2,2,20040628,       1345,       30.0,   146.0625,       6109,  5599.3,   1.5644,  34.6923,2,  34.6922,2, 164.9000,2,   165.7,2,  140.34,2,   35.17,2,    0.00,2,    2.44,2,   0.002,2,   0.000,2,  -0.001,2,  -999.0,9,  2407.6,2,-999.000,9,-999.0000,9, -999.00,9, -999.00,9,  -999.0,9,  -999.0,-999.000,9,-999.000, -999.00,9, 5599.30,-999.0000,9,-999.0000,9,-999.0000,9,-999.0000,9,-999.0000,9,-999.0000,-999.000,-999.0000,9, -999.00
318M20040615,        P02,      35,          1,          1,          1,2,20040628,       1345,       30.0,   146.0625,       6109,  6005.2,   1.6009,  34.6939,2,  34.6957,2, 168.2000,3,   168.9,2,  137.96,2,   34.90,2,    0.00,2,    2.42,2,   0.004,2,   0.001,2,   0.001,2,  -999.0,9,  2407.1,6,-999.000,9,-999.0000,9, -999.00,9, -999.00,9,  -999.0,9,  -999.0,-999.000,9,-999.000, -999.00,9, 6005.20,-999.0000,9,-999.0000,9,-999.0000,9,-999.0000,9,-999.0000,9,-999.0000,-999.000,-999.0000,9, -999.00