BOTTLE,20131027SIOCCHRJL
EXPOCODE,SECT_ID,STNNBR,CASTNO,SAMPNO,BTLNBR,BTLNBR_FLAG_W,DATE,TIME,LATITUDE,LONGITUDE,DEPTH,CTDPRS,CTDTMP,CTDSAL,CTDSAL_FLAG_W,SALNTY,SALNTY_FLAG_W,CTDOXY,CTDOXY_FLAG_W,OXYGEN,OXYGEN_FLAG_W,SILCAT,SILCAT_FLAG_W,NITRAT,NITRAT_FLAG_W,NITRIT,NITRIT_FLAG_W,PHSPHT,PHSPHT_FLAG_W,CFC-11,CFC-11_FLAG_W,CFC-12,CFC-12_FLAG_W,CFC113,CFC113_FLAG_W,TCARBN,TCARBN_FLAG_W,ALKALI,ALKALI_FLAG_W,TRITUM,TRITUM_FLAG_W,HELIUM,HELIUM_FLAG_W,DELHE3,DELHE3_FLAG_W,DELC13,DELC13_FLAG_W,DELC14,DELC14_FLAG_W,C14ERR,NEON,NEON_FLAG_W,NEONER,DOC,DOC_FLAG_W,CTDRAW,CDOM380,CDOM380_FLAG_W,CDOM325,CDOM325_FLAG_W,CDOMSL,CDOMSL_FLAG_W,CDOM340,CDOM340_FLAG_W,CDOMSN,CDOMSN_FLAG_W,HELIER,TRITER,CDOM412,CDOM412_FLAG_W,DELHER
,,,,,,,,,,,METERS,DBAR,ITS-90,PSS-78,,PSS-78,,UMOL/KG,,UMOL/KG,,UMOL/KG,,UMOL/KG,,UMOL/KG,,UMOL/KG,,PMOL/KG,,PMOL/KG,,PMOL/KG,,UMOL/KG,,UMOL/KG,,TU,,NMOL/KG,,PERCNT,,/MILLE,,/MILLE,,/MILLE,NMOL/KG,,NMOL/KG,UMOL/KG,,DBAR,1/M,,1/M,,1/NM,,1/M,,1/NM,,NMOL/KG,TU,1/M,,PERCNT
318M20040615,        P02,     162,          1,         36,         36,2,20040820,       1811,    29.9998,  -129.5358,       4748,     9.4,  22.8241,  33.4878,2,  33.4877,2, 221.8000,2,   221.9,2,    1.51,2,    0.04,2,    0.00,2,    0.28,2,   2.068,2,   1.244,2,   0.159,2,  1992.8,6,  2242.5,6,-999.000,9,-999.0000,9, -999.00,9, -999.00,9,  -999.0,9,  -999.0,-999.000,9,-999.000, -999.00,9,    9.40,-999.0000,9,-999.0000,9,-999.0000,9,-999.0000,9,-999.0000,9,-999.0000,-999.000,-999.0000,9, -999.00
318M20040615,        P02,     162,          1,         35,         35,2,20040820,       1811,    29.9998,  -129.5358,       4748,    41.0,  19.6311,  33.5711,2,  33.5661,2, 252.1000,2,   252.2,2,    1.70,2,    0.09,2,    0.00,2,    0.23,2,-999.000,9,-999.000,9,-999.000,9,  -999.0,9,  -999.0,9,-999.000,9,-999.0000,9, -999.00,9, -999.00,9,  -999.0,9,  -999.0,-999.000,9,-999.000, -999.00,9,   41.00,-999.0000,9,-999.0000,9,-999.0000,9,-999.0000,9,-999.0000,9,-999.0000,-999.000,-999.0000,9, -999.00
318M20040615,        P02,     162,          1,         34,         34,2,20040820,       1811,    29.9998,  -129.5358,       4748,    86.0,  15.9488,  33.4693,2,  33.4746,2, 255.1000,2,   253.7,2,    2.09,2,    0.14,2,    0.00,2,    0.25,2,   2.928,2,   1.674,2,   0.213,2,  -999.0,9,  -999.0,9,-999.000,9,-999.0000,9, -999.00,9, -999.00,9,  -999.0,9,  -999.0,-999.000,9,-999.000, -999.00,9,   86.00,-999.0000,9,-999.0000,9,-999.0000,9,-999.0000,9,-999.0000,9,-999.0000,-999.000,-999.0000,9, -999.00
318M20040615,        P02,     162,          1,         33,         33,2,20040820,       1811,    29.9998,  -129.5358,       4748,   135.5,  13.8121,  33.5726,2,  33.5745,2, 231.6000,2,   235.2,2,    3.71,2,    2.54,2,    0.12,2,    0.43,2,   3.180,2,   1.810,2,   0.205,2,  -999.0,9,  -999.0,9,-999.000,9,-999.0000,9, -999.00,9, -999.00,9,  -999.0,9,  -999.0,-999.000,9,-999.000, -999.00,9,  135.50,-999.0000,9,-999.0000,9,-999.0000,9,-999.0000,9,-999.0000,9,-999.0000,-999.000,-999.0000,9, -999.00
318M20040615,        P02,     162,          1,         32,         32,2,20040820,       1811,    29.9998,  -129.5358,       4748,   179.6,  10.7613,  33.3744,2,  33.3857,2, 219.6000,2,   224.0,2,    8.57,2,    9.73,2,    0.01,2,    0.87,2,   3.682,2,   2.018,2,   0.187,2,  -999.0,9,  -999.0,9,-999.000,9,-999.0000,9, -999.00,9, -999.00,9,  -999.0,9,  -999.0,-999.000,9,-999.000, -999.00,9,  179.60,-999.0000,9,-999.0000,9,-999.0000,9,-999.0000,9,-999.0000,9,-999.0000,-999.000,-999.0000,9, -999.00
318M20040615,        P02,     162,          1,         31,         31,2,20040820,       1811,    29.9998,  -129.5358,       4748,   238.5,   8.9932,  33.8411,2,  33.8369,2, 169.7000,2,   180.3,2,   21.97,2,   19.97,2,    0.00,2,    1.49,2,   3.664,2,   1.871,2,   0.123,2,  -999.0,9,  -999.0,9,-999.000,9,-999.0000,9, -999.00,9, -999.00,9,  -999.0,9,  -999.0,-999.000,9,-999.000, -999.00,9,  238.50,-999.0000,9,-999.0000,9,-999.0000,9,-999.0000,9,-999.0000,9,-999.0000,-999.000,-999.0000,9, -999.00
318M20040615,        P02,     162,          1,         30,         30,2,20040820,       1811,    29.9998,  -129.5358,       4748,   290.1,   8.2726,  34.0105,2,  34.0088,2, 148.5000,2,   154.8,2,   31.74,2,   24.29,2,    0.00,2,    1.75,2,   3.173,2,   1.645,2,   0.132,2,  -999.0,9,  -999.0,9,-999.000,9,-999.0000,9, -999.00,9, -999.00,9,  -999.0,9,  -999.0,-999.000,9,-999.000, -999.00,9,  290.10,-999.0000,9,-999.0000,9,-999.0000,9,-999.0000,9,-999.0000,9,-999.0000,-999.000,-999.0000,9, -999.00
318M20040615,        P02,     162,          1,         29,         29,2,20040820,       1811,    29.9998,  -129.5358,       4748,   337.8,   7.3255,  34.0075,2,  34.0086,2, 120.8000,2,   120.7,2,   43.38,2,   29.63,2,    0.00,2,    2.11,2,   2.643,2,   1.320,2,   0.126,2,  -999.0,9,  -999.0,9,-999.000,9,-999.0000,9, -999.00,9, -999.00,9,  -999.0,9,  -999.0,-999.000,9,-999.000, -999.00,9,  337.80,-999.0000,9,-999.0000,9,-999.0000,9,-999.0000,9,-999.0000,9,-999.0000,-999.000,-999.0000,9, -999.00
318M20040615,        P02,     162,          1,         28,         28,2,20040820,       1811,    29.9998,  -129.5358,       4748,   388.4,   6.5308,  34.0324,2,  34.0321,2,  83.4000,2,    82.9,2,   54.84,2,   34.66,2,    0.00,2,    2.49,2,-999.000,9,-999.000,9,-999.000,9,  -999.0,9,  -999.0,9,-999.000,9,-999.0000,9, -999.00,9, -999.00,9,  -999.0,9,  -999.0,-999.000,9,-999.000, -999.00,9,  388.40,-999.0000,9,-999.0000,9,-999.0000,9,-999.0000,9,-999.0000,9,-999.0000,-999.000,-999.0000,9, -999.00
318M20040615,        P02,     162,          1,         27,         27,2,20040820,       1811,    29.9998,  -129.5358,       4748,   438.6,   5.9126,  34.0562,2,  34.0556,2,  64.5000,2,    61.7,2,   65.32,2,   37.41,2,    0.00,2,    2.71,2,   1.184,2,   0.577,2,   0.035,2,  -999.0,9,  -999.0,9,-999.000,9,-999.0000,9, -999.00,9, -999.00,9,  -999.0,9,  -999.0,-999.000,9,-999.000, -999.00,9,  438.60,-999.0000,9,-999.0000,9,-999.0000,9,-999.0000,9,-999.0000,9,-999.0000,-999.000,-999.0000,9, -999.00
318M20040615,        P02,     162,          1,         26,         26,2,20040820,       1811,    29.9998,  -129.5358,       4748,   488.6,   5.4645,  34.0866,2,  34.0862,2,  48.8000,2,    47.7,2,   74.78,2,   39.23,2,    0.00,2,    2.85,2,-999.000,9,-999.000,9,-999.000,9,  -999.0,9,  -999.0,9,-999.000,9,-999.0000,9, -999.00,9, -999.00,9,  -999.0,9,  -999.0,-999.000,9,-999.000, -999.00,9,  488.60,-999.0000,9,-999.0000,9,-999.0000,9,-999.0000,9,-999.0000,9,-999.0000,-999.000,-999.0000,9, -999.00
318M20040615,        P02,     162,          1,         25,         25,2,20040820,       1811,    29.9998,  -129.5358,       4748,   574.0,   5.1112,  34.1987,2,  34.1983,2,  23.2000,2,    20.7,2,   87.58,2,   41.50,2,    0.00,2,    3.08,2,   0.231,6,   0.115,6,   0.000,6,  -999.0,9,  -999.0,9,-999.000,9,-999.0000,9, -999.00,9, -999.00,9,  -999.0,9,  -999.0,-999.000,9,-999.000, -999.00,9,  574.00,-999.0000,9,-999.0000,9,-999.0000,9,-999.0000,9,-999.0000,9,-999.0000,-999.000,-999.0000,9, -999.00
318M20040615,        P02,     162,          1,         24,         24,2,20040820,       1811,    29.9998,  -129.5358,       4748,   672.5,   4.7318,  34.2868,2,  34.2878,2,  13.1000,2,    12.6,2,   98.36,2,   42.62,2,    0.00,2,    3.18,2,-999.000,9,-999.000,9,-999.000,9,  -999.0,9,  -999.0,9,-999.000,9,-999.0000,9, -999.00,9, -999.00,9,  -999.0,9,  -999.0,-999.000,9,-999.000, -999.00,9,  672.50,-999.0000,9,-999.0000,9,-999.0000,9,-999.0000,9,-999.0000,9,-999.0000,-999.000,-999.0000,9, -999.00
318M20040615,        P02,     162,          1,         23,         23,2,20040820,       1811,    29.9998,  -129.5358,       4748,   777.9,   4.4972,  34.3864,2,  34.3870,2,  12.7000,2,    12.9,2,  105.63,2,   43.00,2,    0.00,2,    3.22,2,   0.026,2,   0.016,2,   0.000,2,  -999.0,9,  -999.0,9,-999.000,9,-999.0000,9, -999.00,9, -999.00,9,  -999.0,9,  -999.0,-999.000,9,-999.000, -999.00,9,  777.90,-999.0000,9,-999.0000,9,-999.0000,9,-999.0000,9,-999.0000,9,-999.0000,-999.000,-999.0000,9, -999.00
318M20040615,        P02,     162,          1,         22,         22,2,20040820,       1811,    29.9998,  -129.5358,       4748,   879.9,   4.1788,  34.4308,2,  34.4312,2,  17.1000,2,    17.3,2,  112.29,2,   43.26,2,    0.00,2,    3.22,2,-999.000,9,-999.000,9,-999.000,9,  -999.0,9,  -999.0,9,-999.000,9,-999.0000,9, -999.00,9, -999.00,9,  -999.0,9,  -999.0,-999.000,9,-999.000, -999.00,9,  879.90,-999.0000,9,-999.0000,9,-999.0000,9,-999.0000,9,-999.0000,9,-999.0000,-999.000,-999.0000,9, -999.00
318M20040615,        P02,     162,          1,         21,         21,2,20040820,       1811,    29.9998,  -129.5358,       4748,   977.5,   3.9334,  34.4643,2,  34.4642,2,  22.6000,2,    23.5,2,  117.71,2,   43.43,2,    0.00,2,    3.20,2,   0.027,2,   0.022,2,   0.000,2,  -999.0,9,  -999.0,9,-999.000,9,-999.0000,9, -999.00,9, -999.00,9,  -999.0,9,  -999.0,-999.000,9,-999.000, -999.00,9,  977.50,-999.0000,9,-999.0000,9,-999.0000,9,-999.0000,9,-999.0000,9,-999.0000,-999.000,-999.0000,9, -999.00
318M20040615,        P02,     162,          1,         20,         20,2,20040820,       1811,    29.9998,  -129.5358,       4748,  1078.5,   3.6837,  34.4919,2,  34.4919,2,  28.8000,2,    28.9,2,  122.93,2,   43.59,2,    0.00,2,    3.18,2,-999.000,9,-999.000,9,-999.000,9,  -999.0,9,  -999.0,9,-999.000,9,-999.0000,9, -999.00,9, -999.00,9,  -999.0,9,  -999.0,-999.000,9,-999.000, -999.00,9, 1078.50,-999.0000,9,-999.0000,9,-999.0000,9,-999.0000,9,-999.0000,9,-999.0000,-999.000,-999.0000,9, -999.00
318M20040615,        P02,     162,          1,         19,         19,2,20040820,       1811,    29.9998,  -129.5358,       4748,  1183.5,   3.4280,  34.5157,2,  34.5160,2,  35.4000,2,    34.9,2,  129.20,2,   43.56,2,    0.00,2,    3.15,2,   0.013,2,   0.007,2,   0.000,2,  -999.0,9,  -999.0,9,-999.000,9,-999.0000,9, -999.00,9, -999.00,9,  -999.0,9,  -999.0,-999.000,9,-999.000, -999.00,9, 1183.50,-999.0000,9,-999.0000,9,-999.0000,9,-999.0000,9,-999.0000,9,-999.0000,-999.000,-999.0000,9, -999.00
318M20040615,        P02,     162,          1,         18,         18,2,20040820,       1811,    29.9998,  -129.5358,       4748,  1284.2,   3.2237,  34.5321,2,  34.5331,2,  40.2000,2,    40.3,2,  133.80,2,   43.28,2,    0.00,2,    3.13,2,-999.000,9,-999.000,9,-999.000,9,  -999.0,9,  -999.0,9,-999.000,9,-999.0000,9, -999.00,9, -999.00,9,  -999.0,9,  -999.0,-999.000,9,-999.000, -999.00,9, 1284.20,-999.0000,9,-999.0000,9,-999.0000,9,-999.0000,9,-999.0000,9,-999.0000,-999.000,-999.0000,9, -999.00
318M20040615,        P02,     162,          1,         17,         17,2,20040820,       1811,    29.9998,  -129.5358,       4748,  1382.8,   3.0155,  34.5482,2,  34.5488,2,  45.4000,2,    45.1,2,  139.23,2,   42.86,2,    0.00,2,    3.10,2,   0.009,2,   0.005,2,   0.000,2,  -999.0,9,  -999.0,9,-999.000,9,-999.0000,9, -999.00,9, -999.00,9,  -999.0,9,  -999.0,-999.000,9,-999.000, -999.00,9, 1382.80,-999.0000,9,-999.0000,9,-999.0000,9,-999.0000,9,-999.0000,9,-999.0000,-999.000,-999.0000,9, -999.00
318M20040615,        P02,     162,          1,         16,         16,2,20040820,       1811,    29.9998,  -129.5358,       4748,  1485.0,   2.8177,  34.5636,2,  34.5633,2,  51.1000,2,    50.7,2,  144.08,2,   42.40,2,    0.00,2,    3.07,2,-999.000,9,-999.000,9,-999.000,9,  -999.0,9,  -999.0,9,-999.000,9,-999.0000,9, -999.00,9, -999.00,9,  -999.0,9,  -999.0,-999.000,9,-999.000, -999.00,9, 1485.00,-999.0000,9,-999.0000,9,-999.0000,9,-999.0000,9,-999.0000,9,-999.0000,-999.000,-999.0000,9, -999.00
318M20040615,        P02,     162,          1,         15,         15,2,20040820,       1811,    29.9998,  -129.5358,       4748,  1586.4,   2.6454,  34.5767,2,  34.5769,2,  56.1000,2,    55.9,2,  148.50,2,   42.11,2,    0.00,2,    3.04,2,   0.005,2,   0.003,2,   0.000,2,  -999.0,9,  -999.0,9,-999.000,9,-999.0000,9, -999.00,9, -999.00,9,  -999.0,9,  -999.0,-999.000,9,-999.000, -999.00,9, 1586.40,-999.0000,9,-999.0000,9,-999.0000,9,-999.0000,9,-999.0000,9,-999.0000,-999.000,-999.0000,9, -999.00
318M20040615,        P02,     162,          1,         14,         14,2,20040820,       1811,    29.9998,  -129.5358,       4748,  1686.6,   2.5037,  34.5881,2,  34.5885,2,  61.1000,2,    60.9,2,  152.09,2,   41.71,2,    0.00,2,    3.01,2,-999.000,9,-999.000,9,-999.000,9,  -999.0,9,  -999.0,9,-999.000,9,-999.0000,9, -999.00,9, -999.00,9,  -999.0,9,  -999.0,-999.000,9,-999.000, -999.00,9, 1686.60,-999.0000,9,-999.0000,9,-999.0000,9,-999.0000,9,-999.0000,9,-999.0000,-999.000,-999.0000,9, -999.00
318M20040615,        P02,     162,          1,         13,         13,2,20040820,       1811,    29.9998,  -129.5358,       4748,  1792.0,   2.3510,  34.6007,2,  34.6020,2,  66.7000,2,    67.1,2,  155.67,2,   41.48,2,    0.00,2,    2.98,2,   0.004,2,   0.003,2,   0.000,2,  -999.0,9,  -999.0,9,-999.000,9,-999.0000,9, -999.00,9, -999.00,9,  -999.0,9,  -999.0,-999.000,9,-999.000, -999.00,9, 1792.00,-999.0000,9,-999.0000,9,-999.0000,9,-999.0000,9,-999.0000,9,-999.0000,-999.000,-999.0000,9, -999.00
318M20040615,        P02,     162,          1,         12,         12,2,20040820,       1811,    29.9998,  -129.5358,       4748,  1892.5,   2.2376,  34.6104,2,  34.6113,2,  71.8000,2,    72.6,2,  158.20,2,   41.24,2,    0.00,2,    2.94,2,-999.000,9,-999.000,9,-999.000,9,  -999.0,9,  -999.0,9,-999.000,9,-999.0000,9, -999.00,9, -999.00,9,  -999.0,9,  -999.0,-999.000,9,-999.000, -999.00,9, 1892.50,-999.0000,9,-999.0000,9,-999.0000,9,-999.0000,9,-999.0000,9,-999.0000,-999.000,-999.0000,9, -999.00
318M20040615,        P02,     162,          1,         11,         11,2,20040820,       1811,    29.9998,  -129.5358,       4748,  1993.9,   2.1441,  34.6186,2,  34.6191,2,  77.6000,2,    77.6,2,  160.28,2,   41.06,2,    0.00,2,    2.91,2,   0.003,2,   0.000,2,   0.000,2,  -999.0,9,  -999.0,9,-999.000,9,-999.0000,9, -999.00,9, -999.00,9,  -999.0,9,  -999.0,-999.000,9,-999.000, -999.00,9, 1993.90,-999.0000,9,-999.0000,9,-999.0000,9,-999.0000,9,-999.0000,9,-999.0000,-999.000,-999.0000,9, -999.00
318M20040615,        P02,     162,          1,         10,         10,2,20040820,       1811,    29.9998,  -129.5358,       4748,  2194.2,   1.9677,  34.6328,2,  34.6319,2,  87.1000,2,    87.6,2,  163.46,2,   40.21,2,    0.00,2,    2.87,2,-999.000,9,-999.000,9,-999.000,9,  -999.0,9,  -999.0,9,-999.000,9,-999.0000,9, -999.00,9, -999.00,9,  -999.0,9,  -999.0,-999.000,9,-999.000, -999.00,9, 2194.20,-999.0000,9,-999.0000,9,-999.0000,9,-999.0000,9,-999.0000,9,-999.0000,-999.000,-999.0000,9, -999.00
318M20040615,        P02,     162,          1,          9,          9,2,20040820,       1811,    29.9998,  -129.5358,       4748,  2451.9,   1.8016,  34.6461,2,  34.6466,2,  96.5000,2,    97.7,2,  167.48,2,   39.48,2,    0.00,2,    2.81,2,   0.001,2,   0.001,2,   0.000,2,  -999.0,9,  -999.0,9,-999.000,9,-999.0000,9, -999.00,9, -999.00,9,  -999.0,9,  -999.0,-999.000,9,-999.000, -999.00,9, 2451.90,-999.0000,9,-999.0000,9,-999.0000,9,-999.0000,9,-999.0000,9,-999.0000,-999.000,-999.0000,9, -999.00
318M20040615,        P02,     162,          1,          8,          8,2,20040820,       1811,    29.9998,  -129.5358,       4748,  2704.7,   1.6767,  34.6563,2,  34.6563,2, 106.4000,2,   107.3,2,  169.62,2,   38.87,2,    0.00,2,    2.76,2,-999.000,9,-999.000,9,-999.000,9,  -999.0,9,  -999.0,9,-999.000,9,-999.0000,9, -999.00,9, -999.00,9,  -999.0,9,  -999.0,-999.000,9,-999.000, -999.00,9, 2704.70,-999.0000,9,-999.0000,9,-999.0000,9,-999.0000,9,-999.0000,9,-999.0000,-999.000,-999.0000,9, -999.00
318M20040615,        P02,     162,          1,          7,          7,2,20040820,       1811,    29.9998,  -129.5358,       4748,  2961.0,   1.5898,  34.6649,2,  34.6645,2, 115.4000,2,   116.0,2,  170.45,2,   38.53,2,    0.00,2,    2.70,2,   0.004,2,   0.002,2,   0.000,2,  -999.0,9,  -999.0,9,-999.000,9,-999.0000,9, -999.00,9, -999.00,9,  -999.0,9,  -999.0,-999.000,9,-999.000, -999.00,9, 2961.00,-999.0000,9,-999.0000,9,-999.0000,9,-999.0000,9,-999.0000,9,-999.0000,-999.000,-999.0000,9, -999.00
318M20040615,        P02,     162,          1,          6,          6,2,20040820,       1811,    29.9998,  -129.5358,       4748,  3268.6,   1.5167,  34.6740,2,  34.6745,2, 125.7000,2,   126.2,2,  169.79,2,   38.06,2,    0.00,2,    2.65,2,-999.000,9,-999.000,9,-999.000,9,  -999.0,9,  -999.0,9,-999.000,9,-999.0000,9, -999.00,9, -999.00,9,  -999.0,9,  -999.0,-999.000,9,-999.000, -999.00,9, 3268.60,-999.0000,9,-999.0000,9,-999.0000,9,-999.0000,9,-999.0000,9,-999.0000,-999.000,-999.0000,9, -999.00
318M20040615,        P02,     162,          1,          5,          5,2,20040820,       1811,    29.9998,  -129.5358,       4748,  3573.8,   1.4900,  34.6798,2,  34.6810,2, 133.2000,2,   134.1,2,  167.42,2,   37.56,2,    0.00,2,    2.61,2,   0.006,2,   0.007,2,   0.000,2,  -999.0,9,  -999.0,9,-999.000,9,-999.0000,9, -999.00,9, -999.00,9,  -999.0,9,  -999.0,-999.000,9,-999.000, -999.00,9, 3573.80,-999.0000,9,-999.0000,9,-999.0000,9,-999.0000,9,-999.0000,9,-999.0000,-999.000,-999.0000,9, -999.00
318M20040615,        P02,     162,          1,          4,          4,2,20040820,       1811,    29.9998,  -129.5358,       4748,  3878.2,   1.4928,  34.6832,2,  34.6832,2, 138.4000,2,   138.7,2,  165.69,2,   37.16,2,    0.00,2,    2.58,2,   0.012,2,   0.008,2,   0.000,2,  -999.0,9,  -999.0,9,-999.000,9,-999.0000,9, -999.00,9, -999.00,9,  -999.0,9,  -999.0,-999.000,9,-999.000, -999.00,9, 3878.20,-999.0000,9,-999.0000,9,-999.0000,9,-999.0000,9,-999.0000,9,-999.0000,-999.000,-999.0000,9, -999.00
318M20040615,        P02,     162,          1,          3,          3,2,20040820,       1811,    29.9998,  -129.5358,       4748,  4239.8,   1.5192,  34.6850,2,  34.6853,2, 141.1000,2,   141.5,2,  164.17,2,   36.82,2,    0.00,2,    2.56,2,   0.012,2,   0.014,2,   0.000,2,  -999.0,9,  -999.0,9,-999.000,9,-999.0000,9, -999.00,9, -999.00,9,  -999.0,9,  -999.0,-999.000,9,-999.000, -999.00,9, 4239.80,-999.0000,9,-999.0000,9,-999.0000,9,-999.0000,9,-999.0000,9,-999.0000,-999.000,-999.0000,9, -999.00
318M20040615,        P02,     162,          1,          2,          2,2,20040820,       1811,    29.9998,  -129.5358,       4748,  4621.6,   1.5595,  34.6856,2,  34.6859,2, 142.2000,2,   142.5,2,  163.53,2,   36.70,2,    0.00,2,    2.57,2,   0.012,2,   0.013,2,   0.000,2,  -999.0,9,  -999.0,9,-999.000,9,-999.0000,9, -999.00,9, -999.00,9,  -999.0,9,  -999.0,-999.000,9,-999.000, -999.00,9, 4621.60,-999.0000,9,-999.0000,9,-999.0000,9,-999.0000,9,-999.0000,9,-999.0000,-999.000,-999.0000,9, -999.00
318M20040615,        P02,     162,          1,          1,          1,2,20040820,       1811,    29.9998,  -129.5358,       4748,  4824.1,   1.5853,  34.6855,2,  34.6861,2, 141.9000,2,   142.6,2,  162.88,2,   36.64,2,    0.00,2,    2.56,2,   0.010,2,   0.016,2,   0.000,2,  -999.0,9,  -999.0,9,-999.000,9,-999.0000,9, -999.00,9, -999.00,9,  -999.0,9,  -999.0,-999.000,9,-999.000, -999.00,9, 4824.10,-999.0000,9,-999.0000,9,-999.0000,9,-999.0000,9,-999.0000,9,-999.0000,-999.000,-999.0000,9, -999.00