BOTTLE,20131027SIOCCHRJL
EXPOCODE,SECT_ID,STNNBR,CASTNO,SAMPNO,BTLNBR,BTLNBR_FLAG_W,DATE,TIME,LATITUDE,LONGITUDE,DEPTH,CTDPRS,CTDTMP,CTDSAL,CTDSAL_FLAG_W,SALNTY,SALNTY_FLAG_W,CTDOXY,CTDOXY_FLAG_W,OXYGEN,OXYGEN_FLAG_W,SILCAT,SILCAT_FLAG_W,NITRAT,NITRAT_FLAG_W,NITRIT,NITRIT_FLAG_W,PHSPHT,PHSPHT_FLAG_W,CFC-11,CFC-11_FLAG_W,CFC-12,CFC-12_FLAG_W,CFC113,CFC113_FLAG_W,TCARBN,TCARBN_FLAG_W,ALKALI,ALKALI_FLAG_W,TRITUM,TRITUM_FLAG_W,HELIUM,HELIUM_FLAG_W,DELHE3,DELHE3_FLAG_W,DELC13,DELC13_FLAG_W,DELC14,DELC14_FLAG_W,C14ERR,NEON,NEON_FLAG_W,NEONER,DOC,DOC_FLAG_W,CTDRAW,CDOM380,CDOM380_FLAG_W,CDOM325,CDOM325_FLAG_W,CDOMSL,CDOMSL_FLAG_W,CDOM340,CDOM340_FLAG_W,CDOMSN,CDOMSN_FLAG_W,HELIER,TRITER,CDOM412,CDOM412_FLAG_W,DELHER
,,,,,,,,,,,METERS,DBAR,ITS-90,PSS-78,,PSS-78,,UMOL/KG,,UMOL/KG,,UMOL/KG,,UMOL/KG,,UMOL/KG,,UMOL/KG,,PMOL/KG,,PMOL/KG,,PMOL/KG,,UMOL/KG,,UMOL/KG,,TU,,NMOL/KG,,PERCNT,,/MILLE,,/MILLE,,/MILLE,NMOL/KG,,NMOL/KG,UMOL/KG,,DBAR,1/M,,1/M,,1/NM,,1/M,,1/NM,,NMOL/KG,TU,1/M,,PERCNT
318M20040615,        P02,      58,          1,         36,         36,2,20040707,       0225,    30.0008,   162.8522,       5988,    10.9,  26.4436,  35.1713,2,  35.1780,2, 204.4000,2,   205.6,2,    1.40,2,    0.10,2,    0.00,2,    0.02,2,   1.747,2,   1.102,2,   0.118,2,  1990.3,2,  2310.7,6,   0.773,2,   1.7326,2,   -1.16,2, -999.00,9,  -999.0,9,  -999.0,-999.000,9,-999.000,   68.20,2,   10.90,-999.0000,9,-999.0000,9,-999.0000,9,-999.0000,9,-999.0000,9,   0.0087,   0.005,-999.0000,9,    0.20
318M20040615,        P02,      58,          1,         35,         35,2,20040707,       0225,    30.0008,   162.8522,       5988,    52.7,  21.0025,  35.0221,2,  35.0217,2, 235.0000,2,   235.0,2,    1.76,2,    0.10,2,    0.00,2,    0.02,2,   2.204,2,   1.339,2,   0.147,2,  1996.6,2,  2299.4,2,   0.780,2,   1.7523,2,   -1.22,2, -999.00,9,  -999.0,9,  -999.0,-999.000,9,-999.000,   63.40,2,   52.70,-999.0000,9,-999.0000,9,-999.0000,9,-999.0000,9,-999.0000,9,   0.0088,   0.005,-999.0000,9,    0.20
318M20040615,        P02,      58,          1,         34,         34,2,20040707,       0225,    30.0008,   162.8522,       5988,   102.0,  18.7263,  34.9294,2,  34.9322,2, 228.4000,2,   234.8,2,    1.76,2,    0.10,2,    0.00,2,    0.06,2,   2.357,2,   1.418,2,   0.154,2,  2006.0,2,  2294.1,2,   0.794,2,   1.7823,2,   -2.70,2, -999.00,9,  -999.0,9,  -999.0,-999.000,9,-999.000,   58.80,2,  102.00,-999.0000,9,-999.0000,9,-999.0000,9,-999.0000,9,-999.0000,9,   0.0089,   0.005,-999.0000,9,    0.20
318M20040615,        P02,      58,          1,         33,         33,2,20040707,       0225,    30.0008,   162.8522,       5988,   151.3,  17.7624,  34.8462,2,  34.8490,2, 220.4000,2,   221.9,2,    2.48,2,    2.39,2,    0.03,2,    0.20,2,   2.420,2,   1.459,2,   0.136,2,  2017.0,2,  2289.0,2,   0.772,2,   1.7635,2,   -1.36,2, -999.00,9,  -999.0,9,  -999.0,-999.000,9,-999.000,   57.00,2,  151.30,-999.0000,9,-999.0000,9,-999.0000,9,-999.0000,9,-999.0000,9,   0.0088,   0.005,-999.0000,9,    0.20
318M20040615,        P02,      58,          1,         32,         32,2,20040707,       0225,    30.0008,   162.8522,       5988,   201.7,  17.1881,  34.7871,2,  34.7868,2, 218.1000,2,   220.3,2,    3.02,2,    3.46,2,    0.02,2,    0.25,2,   2.473,2,   1.483,2,   0.122,2,  2022.7,2,  2284.4,2,   0.825,2,   1.7629,2,   -0.94,2, -999.00,9,  -999.0,9,  -999.0,-999.000,9,-999.000,   55.40,2,  201.70,-999.0000,9,-999.0000,9,-999.0000,9,-999.0000,9,-999.0000,9,   0.0088,   0.005,-999.0000,9,    0.20
318M20040615,        P02,      58,          1,         31,         31,2,20040707,       0225,    30.0008,   162.8522,       5988,   250.9,  16.6952,  34.7407,2,  34.7395,2, 221.9000,2,   220.3,2,    3.74,2,    4.30,2,    0.01,2,    0.30,2,   2.508,2,   1.494,2,   0.101,2,  2026.0,2,  2281.4,2,-999.000,9,-999.0000,9, -999.00,9, -999.00,9,  -999.0,9,  -999.0,-999.000,9,-999.000,   54.50,2,  250.90,-999.0000,9,-999.0000,9,-999.0000,9,-999.0000,9,-999.0000,9,-999.0000,-999.000,-999.0000,9, -999.00
318M20040615,        P02,      58,          1,         30,         30,2,20040707,       0225,    30.0008,   162.8522,       5988,   300.8,  16.3427,  34.7115,2,  34.7108,2, 220.4000,2,   222.4,2,    4.28,2,    4.65,2,    0.01,2,    0.33,2,   2.555,2,   1.504,2,   0.106,2,  2028.5,2,  2280.1,2,   0.790,2,   1.7679,2,   -0.87,2, -999.00,9,  -999.0,9,  -999.0,-999.000,9,-999.000,   51.70,2,  300.80,-999.0000,9,-999.0000,9,-999.0000,9,-999.0000,9,-999.0000,9,   0.0088,   0.006,-999.0000,9,    0.20
318M20040615,        P02,      58,          1,         29,         29,2,20040707,       0225,    30.0008,   162.8522,       5988,   350.8,  15.8815,  34.6666,2,  34.6640,2, 212.4000,2,   213.2,2,    5.91,2,    6.08,2,    0.00,2,    0.43,2,   2.581,2,   1.500,2,   0.065,2,  2039.3,2,  2278.9,2,-999.000,9,-999.0000,9, -999.00,9, -999.00,9,  -999.0,9,  -999.0,-999.000,9,-999.000,   49.70,2,  350.80,-999.0000,9,-999.0000,9,-999.0000,9,-999.0000,9,-999.0000,9,-999.0000,-999.000,-999.0000,9, -999.00
318M20040615,        P02,      58,          1,         28,         28,2,20040707,       0225,    30.0008,   162.8522,       5988,   400.7,  15.1165,  34.6005,2,  34.6005,2, 207.3000,2,   207.5,2,    8.09,2,    7.81,2,    0.00,2,    0.55,2,   2.623,2,   1.508,2,   0.048,2,  2052.3,2,  2276.2,2,   0.812,2,   1.7389,2,    0.93,2, -999.00,9,  -999.0,9,  -999.0,-999.000,9,-999.000,   48.60,2,  400.70,-999.0000,9,-999.0000,9,-999.0000,9,-999.0000,9,-999.0000,9,   0.0087,   0.006,-999.0000,9,    0.20
318M20040615,        P02,      58,          1,         27,         27,2,20040707,       0225,    30.0008,   162.8522,       5988,   449.7,  14.1980,  34.5267,2,  34.5279,2, 203.6000,2,   207.8,2,    9.72,2,    9.09,2,    0.00,2,    0.64,2,   2.742,2,   1.547,2,   0.049,2,  2062.9,2,  2273.9,2,-999.000,9,-999.0000,9, -999.00,9, -999.00,9,  -999.0,9,  -999.0,-999.000,9,-999.000,   47.50,2,  449.70,-999.0000,9,-999.0000,9,-999.0000,9,-999.0000,9,-999.0000,9,-999.0000,-999.000,-999.0000,9, -999.00
318M20040615,        P02,      58,          1,         26,         26,2,20040707,       0225,    30.0008,   162.8522,       5988,   500.5,  13.1377,  34.4503,2,  34.4485,2, 203.7000,2,   202.7,2,   13.18,2,   11.40,2,    0.00,2,    0.80,2,   2.795,2,   1.545,2,   0.053,2,  2079.5,2,  2271.8,2,   0.801,2,   1.7925,2,    2.76,2, -999.00,9,  -999.0,9,  -999.0,-999.000,9,-999.000,   45.20,2,  500.50,-999.0000,9,-999.0000,9,-999.0000,9,-999.0000,9,-999.0000,9,   0.0090,   0.006,-999.0000,9,    0.20
318M20040615,        P02,      58,          1,         25,         25,2,20040707,       0225,    30.0008,   162.8522,       5988,   600.2,  10.8809,  34.2667,2,  34.2684,2, 205.9000,2,   204.0,2,   19.18,2,   14.95,2,    0.00,2,    1.07,2,   2.954,2,   1.605,2,   0.090,2,  2104.9,2,  2268.6,2,   0.124,4,   1.8132,2,    3.94,2, -999.00,9,  -999.0,9,  -999.0,-999.000,9,-999.000,   43.70,2,  600.20,-999.0000,9,-999.0000,9,-999.0000,9,-999.0000,9,-999.0000,9,   0.0091,   0.002,-999.0000,9,    0.20
318M20040615,        P02,      58,          1,         24,         24,2,20040707,       0225,    30.0008,   162.8522,       5988,   699.7,   8.5928,  34.1176,2,  34.1182,2, 171.3000,2,   171.9,2,   33.77,2,   21.84,2,    0.00,2,    1.57,2,   2.557,2,   1.331,2,   0.084,2,  2155.9,2,  2273.7,2,-999.000,9,   1.8346,2,    9.10,2, -999.00,9,  -999.0,9,  -999.0,-999.000,9,-999.000,   42.30,2,  699.70,-999.0000,9,-999.0000,9,-999.0000,9,-999.0000,9,-999.0000,9,   0.0092,-999.000,-999.0000,9,    0.20
318M20040615,        P02,      58,          1,         23,         23,2,20040707,       0225,    30.0008,   162.8522,       5988,   800.3,   6.5197,  34.0589,2,  34.0610,2, 125.2000,2,   121.4,2,   57.18,2,   30.16,2,    0.00,2,    2.21,2,   1.672,2,   0.846,2,   0.048,2,  2221.8,2,  2290.6,2,   0.656,2,   1.8405,2,   14.00,2, -999.00,9,  -999.0,9,  -999.0,-999.000,9,-999.000,   41.40,2,  800.30,-999.0000,9,-999.0000,9,-999.0000,9,-999.0000,9,-999.0000,9,   0.0092,   0.005,-999.0000,9,    0.20
318M20040615,        P02,      58,          1,         22,         22,2,20040707,       0225,    30.0008,   162.8522,       5988,   900.6,   5.2537,  34.0895,2,  34.0892,2,  90.3000,2,    88.9,2,   77.91,2,   35.33,2,    0.00,2,    2.58,2,   1.160,2,   0.578,2,   0.041,2,  2267.9,2,  2308.0,2,-999.000,9,-999.0000,9, -999.00,9, -999.00,9,  -999.0,9,  -999.0,-999.000,9,-999.000,   40.80,2,  900.60,-999.0000,9,-999.0000,9,-999.0000,9,-999.0000,9,-999.0000,9,-999.0000,-999.000,-999.0000,9, -999.00
318M20040615,        P02,      58,          1,         21,         21,2,20040707,       0225,    30.0008,   162.8522,       5988,  1000.7,   4.4467,  34.1788,2,  34.1800,2,  63.4000,2,    58.1,2,   98.16,2,   39.45,2,    0.00,2,    2.85,2,   0.597,2,   0.303,2,   0.019,2,  2309.5,2,  2330.2,2,-999.000,9,   1.8898,2,   16.05,2, -999.00,9,  -999.0,9,  -999.0,-999.000,9,-999.000,   40.00,2, 1000.70,-999.0000,9,-999.0000,9,-999.0000,9,-999.0000,9,-999.0000,9,   0.0094,-999.000,-999.0000,9,    0.20
318M20040615,        P02,      58,          1,         20,         20,2,20040707,       0225,    30.0008,   162.8522,       5988,  1101.1,   3.8846,  34.2594,2,  34.2596,2,  49.1000,2,    46.4,2,  114.41,2,   41.11,2,    0.00,2,    2.95,2,   0.409,2,   0.205,2,   0.012,2,  2333.5,2,  2346.0,2,-999.000,9,-999.0000,9, -999.00,9, -999.00,9,  -999.0,9,  -999.0,-999.000,9,-999.000,   39.10,2, 1101.10,-999.0000,9,-999.0000,9,-999.0000,9,-999.0000,9,-999.0000,9,-999.0000,-999.000,-999.0000,9, -999.00
318M20040615,        P02,      58,          1,         19,         19,2,20040707,       0225,    30.0008,   162.8522,       5988,  1201.8,   3.5156,  34.3207,2,  34.3216,2,  39.7000,2,    36.2,2,  125.31,2,   42.29,2,    0.00,2,    3.04,2,   0.186,2,   0.100,2,   0.007,2,  2350.8,2,  2360.6,2,-999.000,9,-999.0000,9, -999.00,9, -999.00,9,  -999.0,9,  -999.0,-999.000,9,-999.000,   38.00,2, 1201.80,-999.0000,9,-999.0000,9,-999.0000,9,-999.0000,9,-999.0000,9,-999.0000,-999.000,-999.0000,9, -999.00
318M20040615,        P02,      58,          1,         18,         18,2,20040707,       0225,    30.0008,   162.8522,       5988,  1301.5,   3.2138,  34.3754,2,  34.3771,2,  34.3000,2,    33.9,2,  134.57,2,   42.67,2,    0.00,2,    3.07,2,   0.107,2,   0.053,2,   0.004,2,  2363.9,2,  2372.2,6,   0.090,2,   1.9041,2,   17.11,2, -999.00,9,  -999.0,9,  -999.0,-999.000,9,-999.000,   38.10,2, 1301.50,-999.0000,9,-999.0000,9,-999.0000,9,-999.0000,9,-999.0000,9,   0.0095,   0.002,-999.0000,9,    0.20
318M20040615,        P02,      58,          1,         17,         17,2,20040707,       0225,    30.0008,   162.8522,       5988,  1400.3,   2.9631,  34.4250,2,  34.4246,2,  33.7000,2,    33.7,2,  141.83,2,   42.84,2,    0.00,2,    3.09,2,   0.054,2,   0.026,2,  -0.002,2,  2371.1,6,  2381.8,2,-999.000,9,-999.0000,9, -999.00,9, -999.00,9,  -999.0,9,  -999.0,-999.000,9,-999.000,   38.00,2, 1400.30,-999.0000,9,-999.0000,9,-999.0000,9,-999.0000,9,-999.0000,9,-999.0000,-999.000,-999.0000,9, -999.00
318M20040615,        P02,      58,          1,         16,         16,2,20040707,       0225,    30.0008,   162.8522,       5988,  1505.0,   2.7455,  34.4641,2,  34.4641,2,  35.3000,2,    36.3,2,  147.95,2,   42.78,2,    0.00,2,    3.09,2,   0.031,2,   0.016,2,  -0.002,2,  2377.1,2,  2389.2,2,   0.028,2,   1.9182,2,   18.40,2, -999.00,9,  -999.0,9,  -999.0,-999.000,9,-999.000,   37.80,2, 1505.00,-999.0000,9,-999.0000,9,-999.0000,9,-999.0000,9,-999.0000,9,   0.0096,   0.001,-999.0000,9,    0.20
318M20040615,        P02,      58,          1,         15,         15,2,20040707,       0225,    30.0008,   162.8522,       5988,  1597.4,   2.5643,  34.4862,2,  34.4861,2,  37.3000,2,    37.6,2,  153.50,2,   42.71,2,    0.00,2,    3.08,2,   0.031,2,   0.014,2,   0.002,2,  2380.6,2,  2394.2,2,-999.000,9,-999.0000,9, -999.00,9, -999.00,9,  -999.0,9,  -999.0,-999.000,9,-999.000,   37.70,2, 1597.40,-999.0000,9,-999.0000,9,-999.0000,9,-999.0000,9,-999.0000,9,-999.0000,-999.000,-999.0000,9, -999.00
318M20040615,        P02,      58,          1,         14,         14,2,20040707,       0225,    30.0008,   162.8522,       5988,  1794.2,   2.2970,  34.5386,2,  34.5391,2,  47.8000,2,    49.9,2,  159.24,2,   42.28,2,    0.00,2,    3.03,2,   0.009,2,   0.005,2,  -0.002,2,  2381.2,2,  2402.9,2,   0.008,2,   1.9368,2,   18.98,2, -999.00,9,  -999.0,9,  -999.0,-999.000,9,-999.000,   37.90,2, 1794.20,-999.0000,9,-999.0000,9,-999.0000,9,-999.0000,9,-999.0000,9,   0.0097,   0.000,-999.0000,9,    0.20
318M20040615,        P02,      58,          1,         13,         13,2,20040707,       0225,    30.0008,   162.8522,       5988,  2000.8,   2.0694,  34.5795,2,  34.5798,2,  63.2000,2,    65.9,2,  162.02,2,   41.51,2,    0.00,2,    2.95,2,   0.008,2,   0.004,2,   0.001,2,  2376.2,2,  2410.3,2,   0.006,2,   1.8947,2,   19.57,2, -999.00,9,  -999.0,9,  -999.0,-999.000,9,-999.000,   38.10,2, 2000.80,-999.0000,9,-999.0000,9,-999.0000,9,-999.0000,9,-999.0000,9,   0.0095,   0.000,-999.0000,9,    0.20
318M20040615,        P02,      58,          1,         12,         12,2,20040707,       0225,    30.0008,   162.8522,       5988,  2250.5,   1.8882,  34.6122,2,  34.6110,2,  87.4000,3,    87.5,2,  160.49,2,   40.21,2,    0.00,2,    2.84,2,   0.003,2,   0.000,2,   0.001,2,  2364.3,2,  2414.0,2,-999.000,9,-999.0000,9, -999.00,9, -999.00,9,  -999.0,9,  -999.0,-999.000,9,-999.000,   37.40,2, 2250.50,-999.0000,9,-999.0000,9,-999.0000,9,-999.0000,9,-999.0000,9,-999.0000,-999.000,-999.0000,9, -999.00
318M20040615,        P02,      58,          1,         11,         11,2,20040707,       0225,    30.0008,   162.8522,       5988,  2504.8,   1.7474,  34.6345,2,  34.6322,2, 100.9000,3,   103.1,2,  159.54,2,   39.09,2,    0.00,2,    2.77,2,   0.003,2,   0.001,2,   0.002,2,  2357.0,2,  2418.7,2,   0.004,2,-999.0000,9, -999.00,9, -999.00,9,  -999.0,9,  -999.0,-999.000,9,-999.000,   37.30,2, 2504.80,-999.0000,9,-999.0000,9,-999.0000,9,-999.0000,9,-999.0000,9,-999.0000,   0.000,-999.0000,9, -999.00
318M20040615,        P02,      58,          1,         10,         10,2,20040707,       0225,    30.0008,   162.8522,       5988,  2751.9,   1.6668,  34.6466,2,  34.6466,2, 113.6000,2,   112.6,2,  159.00,2,   38.34,2,    0.00,2,    2.72,2,   0.003,2,   0.005,2,  -0.001,2,  2351.7,2,  2419.0,2,-999.000,9,-999.0000,9, -999.00,9, -999.00,9,  -999.0,9,  -999.0,-999.000,9,-999.000,   37.50,2, 2751.90,-999.0000,9,-999.0000,9,-999.0000,9,-999.0000,9,-999.0000,9,-999.0000,-999.000,-999.0000,9, -999.00
318M20040615,        P02,      58,          1,          9,          9,2,20040707,       0225,    30.0008,   162.8522,       5988,  2997.3,   1.6098,  34.6588,2,  34.6590,2, 125.7000,2,   125.8,2,  154.33,2,   37.43,2,    0.00,2,    2.68,2,   0.001,2,   0.002,2,  -0.001,2,  2343.2,2,  2416.4,2,-999.000,9,-999.0000,9, -999.00,9, -999.00,9,  -999.0,9,  -999.0,-999.000,9,-999.000,   38.00,2, 2997.30,-999.0000,9,-999.0000,9,-999.0000,9,-999.0000,9,-999.0000,9,-999.0000,-999.000,-999.0000,9, -999.00
318M20040615,        P02,      58,          1,          8,          8,2,20040707,       0225,    30.0008,   162.8522,       5988,  3399.0,   1.5386,  34.6707,2,  34.6709,2, 137.4000,2,   138.0,2,  151.87,2,   36.59,2,    0.00,2,    2.59,2,   0.002,2,   0.001,2,  -0.001,2,  2335.8,2,  2416.9,2,-999.000,9,-999.0000,9, -999.00,9, -999.00,9,  -999.0,9,  -999.0,-999.000,9,-999.000,   37.80,2, 3399.00,-999.0000,9,-999.0000,9,-999.0000,9,-999.0000,9,-999.0000,9,-999.0000,-999.000,-999.0000,9, -999.00
318M20040615,        P02,      58,          1,          7,          7,2,20040707,       0225,    30.0008,   162.8522,       5988,  3800.1,   1.5030,  34.6779,2,  34.6780,2, 145.1000,2,   145.4,2,  149.98,2,   36.21,2,    0.00,2,    2.55,2,   0.002,2,   0.002,2,  -0.001,2,  2330.4,6,  2417.7,6,-999.000,9,-999.0000,9, -999.00,9, -999.00,9,  -999.0,9,  -999.0,-999.000,9,-999.000,   37.50,2, 3800.10,-999.0000,9,-999.0000,9,-999.0000,9,-999.0000,9,-999.0000,9,-999.0000,-999.000,-999.0000,9, -999.00
318M20040615,        P02,      58,          1,          6,          6,2,20040707,       0225,    30.0008,   162.8522,       5988,  4197.3,   1.4884,  34.6833,2,  34.6835,2, 151.9000,2,   152.5,2,  147.17,2,   35.90,2,    0.00,2,    2.51,2,   0.002,2,   0.002,2,  -0.001,2,  2324.9,2,  2412.8,2,-999.000,9,-999.0000,9, -999.00,9, -999.00,9,  -999.0,9,  -999.0,-999.000,9,-999.000,   38.10,2, 4197.30,-999.0000,9,-999.0000,9,-999.0000,9,-999.0000,9,-999.0000,9,-999.0000,-999.000,-999.0000,9, -999.00
318M20040615,        P02,      58,          1,          5,          5,2,20040707,       0225,    30.0008,   162.8522,       5988,  4594.6,   1.4872,  34.6875,2,  34.6875,2, 157.6000,2,   158.0,2,  146.05,2,   35.47,2,    0.00,2,    2.48,2,   0.003,2,   0.002,2,  -0.001,2,  2320.8,2,  2413.8,6,-999.000,9,-999.0000,9, -999.00,9, -999.00,9,  -999.0,9,  -999.0,-999.000,9,-999.000,   37.60,2, 4594.60,-999.0000,9,-999.0000,9,-999.0000,9,-999.0000,9,-999.0000,9,-999.0000,-999.000,-999.0000,9, -999.00
318M20040615,        P02,      58,          1,          4,          4,2,20040707,       0225,    30.0008,   162.8522,       5988,  4996.9,   1.4965,  34.6910,2,  34.6910,2, 163.5000,2,   164.3,2,  142.13,2,   34.95,2,    0.00,2,    2.44,2,   0.003,2,   0.004,2,   0.003,2,  2314.4,2,  2411.1,6,-999.000,9,-999.0000,9, -999.00,9, -999.00,9,  -999.0,9,  -999.0,-999.000,9,-999.000,   37.00,2, 4996.90,-999.0000,9,-999.0000,9,-999.0000,9,-999.0000,9,-999.0000,9,-999.0000,-999.000,-999.0000,9, -999.00
318M20040615,        P02,      58,          1,          3,          3,2,20040707,       0225,    30.0008,   162.8522,       5988,  5395.2,   1.5128,  34.6939,2,  34.6940,2, 168.9000,2,   169.6,2,  138.61,2,   34.43,2,    0.00,2,    2.41,2,   0.000,2,   0.002,2,   0.000,2,  2308.0,2,  2406.2,2,-999.000,9,-999.0000,9, -999.00,9, -999.00,9,  -999.0,9,  -999.0,-999.000,9,-999.000,   37.60,2, 5395.20,-999.0000,9,-999.0000,9,-999.0000,9,-999.0000,9,-999.0000,9,-999.0000,-999.000,-999.0000,9, -999.00
318M20040615,        P02,      58,          1,          2,          2,2,20040707,       0225,    30.0008,   162.8522,       5988,  5690.9,   1.5372,  34.6949,2,  34.6947,2, 171.2000,2,   171.5,2,  137.13,2,   34.33,2,    0.00,2,    2.41,2,   0.008,2,   0.003,2,   0.002,2,  2307.2,2,  2405.4,2,-999.000,9,-999.0000,9, -999.00,9, -999.00,9,  -999.0,9,  -999.0,-999.000,9,-999.000,   37.50,2, 5690.90,-999.0000,9,-999.0000,9,-999.0000,9,-999.0000,9,-999.0000,9,-999.0000,-999.000,-999.0000,9, -999.00
318M20040615,        P02,      58,          1,          1,          1,2,20040707,       0225,    30.0008,   162.8522,       5988,  6114.1,   1.5806,  34.6958,2,  34.6967,2, 172.9000,2,   173.5,2,  135.43,2,   34.11,2,    0.00,2,    2.39,2,   0.004,2,   0.004,2,   0.003,2,  2304.1,6,  2403.7,2,-999.000,9,-999.0000,9, -999.00,9, -999.00,9,  -999.0,9,  -999.0,-999.000,9,-999.000,   37.40,2, 6114.10,-999.0000,9,-999.0000,9,-999.0000,9,-999.0000,9,-999.0000,9,-999.0000,-999.000,-999.0000,9, -999.00