BOTTLE,20131027SIOCCHRJL
EXPOCODE,SECT_ID,STNNBR,CASTNO,SAMPNO,BTLNBR,BTLNBR_FLAG_W,DATE,TIME,LATITUDE,LONGITUDE,DEPTH,CTDPRS,CTDTMP,CTDSAL,CTDSAL_FLAG_W,SALNTY,SALNTY_FLAG_W,CTDOXY,CTDOXY_FLAG_W,OXYGEN,OXYGEN_FLAG_W,SILCAT,SILCAT_FLAG_W,NITRAT,NITRAT_FLAG_W,NITRIT,NITRIT_FLAG_W,PHSPHT,PHSPHT_FLAG_W,CFC-11,CFC-11_FLAG_W,CFC-12,CFC-12_FLAG_W,CFC113,CFC113_FLAG_W,TCARBN,TCARBN_FLAG_W,ALKALI,ALKALI_FLAG_W,TRITUM,TRITUM_FLAG_W,HELIUM,HELIUM_FLAG_W,DELHE3,DELHE3_FLAG_W,DELC13,DELC13_FLAG_W,DELC14,DELC14_FLAG_W,C14ERR,NEON,NEON_FLAG_W,NEONER,DOC,DOC_FLAG_W,CTDRAW,CDOM380,CDOM380_FLAG_W,CDOM325,CDOM325_FLAG_W,CDOMSL,CDOMSL_FLAG_W,CDOM340,CDOM340_FLAG_W,CDOMSN,CDOMSN_FLAG_W,HELIER,TRITER,CDOM412,CDOM412_FLAG_W,DELHER
,,,,,,,,,,,METERS,DBAR,ITS-90,PSS-78,,PSS-78,,UMOL/KG,,UMOL/KG,,UMOL/KG,,UMOL/KG,,UMOL/KG,,UMOL/KG,,PMOL/KG,,PMOL/KG,,PMOL/KG,,UMOL/KG,,UMOL/KG,,TU,,NMOL/KG,,PERCNT,,/MILLE,,/MILLE,,/MILLE,NMOL/KG,,NMOL/KG,UMOL/KG,,DBAR,1/M,,1/M,,1/NM,,1/M,,1/NM,,NMOL/KG,TU,1/M,,PERCNT
318M20040615,        P02,     161,          2,         36,         36,2,20040820,       1141,    30.0005,  -130.1137,       4681,     5.8,  22.8080,  33.4400,2,  33.4403,2, 222.3000,2,   222.1,2,    1.71,2,    0.14,2,    0.00,2,    0.29,2,   2.121,2,   1.285,2,   0.161,2,  1993.2,2,  2238.8,6,   0.943,2,   1.7566,2,   -0.72,2, -999.00,9,  -999.0,9,  -999.0,-999.000,9,-999.000,   66.60,2,    5.80,   0.0020,3,   0.0400,2,   0.0380,2,   0.0220,2,   0.0360,2,   0.0088,   0.009,  -0.0020,4,    0.20
318M20040615,        P02,     161,          2,         35,         35,2,20040820,       1141,    30.0005,  -130.1137,       4681,    35.7,  19.5126,  33.6132,2,  33.6127,2, 251.8000,2,   251.4,2,    1.70,2,    0.09,2,    0.00,2,    0.22,2,   2.591,6,   1.544,6,   0.187,6,  1991.7,2,  2238.8,2,   0.927,2,   1.7785,2,   -1.00,2, -999.00,9,  -999.0,9,  -999.0,-999.000,9,-999.000,   64.30,2,   35.70,   0.0260,2,   0.1010,2,   0.0250,2,   0.0680,2,   0.0260,2,   0.0089,   0.009,   0.0140,2,    0.20
318M20040615,        P02,     161,          2,         34,         34,2,20040820,       1141,    30.0005,  -130.1137,       4681,    70.0,  17.2940,  33.5708,2,  33.5773,2, 256.5000,2,   255.4,2,    1.69,2,    0.14,2,    0.00,2,    0.23,2,   2.773,2,   1.641,2,   0.193,2,  1992.3,6,  2236.7,2,   0.706,3,   1.7774,2,   -0.62,2, -999.00,9,  -999.0,9,  -999.0,-999.000,9,-999.000,   64.10,2,   70.00,   0.0330,2,   0.1300,2,   0.0250,2,   0.0870,2,   0.0250,2,   0.0089,   0.007,   0.0180,2,    0.20
318M20040615,        P02,     161,          2,         33,         33,2,20040820,       1141,    30.0005,  -130.1137,       4681,   110.6,  15.2968,  33.5667,2,  33.5726,2, 244.2000,2,   244.1,2,    2.29,2,    0.14,2,    0.00,2,    0.28,2,   2.950,2,   1.747,2,   0.206,2,  2009.1,2,  2235.2,2,   0.880,2,   1.7608,2,   -0.95,2, -999.00,9,  -999.0,9,  -999.0,-999.000,9,-999.000,   56.90,2,  110.60,   0.0460,2,   0.1470,2,   0.0190,2,   0.1060,2,   0.0210,2,   0.0088,   0.009,   0.0290,2,    0.20
318M20040615,        P02,     161,          2,         32,         32,2,20040820,       1141,    30.0005,  -130.1137,       4681,   170.1,  11.6416,  33.4673,2,  33.4677,2, 225.1000,2,   227.1,2,    6.76,2,    7.61,2,    0.01,2,    0.73,2,   3.435,2,   1.958,2,   0.192,2,  2046.3,2,  2230.5,2,   0.876,2,   1.8051,2,    0.07,2, -999.00,9,  -999.0,9,  -999.0,-999.000,9,-999.000,   57.60,2,  170.10,   0.0410,2,   0.1300,2,   0.0180,2,   0.0920,2,   0.0200,2,   0.0090,   0.008,   0.0290,2,    0.20
318M20040615,        P02,     161,          2,         31,         31,2,20040820,       1141,    30.0005,  -130.1137,       4681,   219.9,   9.4201,  33.6894,2,  33.6906,2, 201.7000,2,   204.2,2,   16.51,2,   16.39,2,    0.00,2,    1.24,2,   3.700,2,   2.052,2,   0.130,2,  2103.4,2,  2237.4,2,   0.842,2,-999.0000,9, -999.00,9, -999.00,9,  -999.0,9,  -999.0,-999.000,9,-999.000,   52.50,2,  219.90,   0.0350,2,   0.1160,2,   0.0210,2,   0.0790,2,   0.0230,2,-999.0000,   0.009,   0.0250,2, -999.00
318M20040615,        P02,     161,          2,         30,         30,2,20040820,       1141,    30.0005,  -130.1137,       4681,   274.9,   8.8333,  33.9536,2,  33.9531,2, 168.6000,2,   175.9,2,   25.26,2,   21.40,2,    0.00,2,    1.54,2,   3.434,2,   1.864,2,   0.126,2,  2143.2,2,  2256.1,2,   0.824,2,-999.0000,9, -999.00,9, -999.00,9,  -999.0,9,  -999.0,-999.000,9,-999.000,   46.70,2,  274.90,   0.0400,3,   0.1280,3,   0.0180,3,   0.0880,3,   0.0200,3,-999.0000,   0.008,   0.0300,3, -999.00
318M20040615,        P02,     161,          2,         29,         29,2,20040820,       1141,    30.0005,  -130.1137,       4681,   324.6,   8.0017,  34.0189,2,  34.0178,2, 131.9000,2,   132.5,2,   36.49,2,   27.32,2,    0.00,2,    1.95,2,   2.895,2,   1.501,2,   0.127,2,  2188.3,2,  2266.8,2,-999.000,9,   1.8157,2,    8.19,2, -999.00,9,  -999.0,9,  -999.0,-999.000,9,-999.000,   45.10,2,  324.60,   0.0590,2,   0.1590,2,   0.0140,2,   0.1140,2,   0.0170,2,   0.0091,-999.000,   0.0430,2,    0.20
318M20040615,        P02,     161,          2,         28,         28,2,20040820,       1141,    30.0005,  -130.1137,       4681,   374.5,   6.9417,  34.0173,2,  34.0154,2, 102.0000,2,   100.9,2,   49.60,2,   32.35,2,    0.00,2,    2.32,2,   2.215,2,   1.093,2,   0.095,2,  2224.7,2,  2277.6,2,   0.676,2,   1.8337,2,   12.48,2, -999.00,9,  -999.0,9,  -999.0,-999.000,9,-999.000,   44.20,2,  374.50,   0.0650,2,   0.1740,2,   0.0140,2,   0.1250,2,   0.0160,2,   0.0092,   0.007,   0.0480,2,    0.20
318M20040615,        P02,     161,          2,         27,         27,2,20040820,       1141,    30.0005,  -130.1137,       4681,   424.3,   6.4067,  34.0618,2,  34.0619,2,  72.9000,2,    67.6,2,   59.65,2,   35.73,2,    0.00,2,    2.61,2,   1.349,2,   0.651,2,   0.045,2,  2258.7,2,  2288.7,2,   0.586,2,   1.8445,2,   15.76,2, -999.00,9,  -999.0,9,  -999.0,-999.000,9,-999.000,   42.20,2,  424.30,-999.0000,9,-999.0000,9,-999.0000,9,-999.0000,9,-999.0000,9,   0.0092,   0.007,-999.0000,9,    0.20
318M20040615,        P02,     161,          2,         26,         26,2,20040820,       1141,    30.0005,  -130.1137,       4681,   473.6,   5.9721,  34.0995,2,  34.1007,2,  52.4000,2,    50.2,2,   67.28,2,   37.60,2,    0.00,2,    2.79,2,   0.881,2,   0.431,2,   0.025,2,  2280.8,2,  2298.3,2,-999.000,9,   1.8487,2,   16.15,2, -999.00,9,  -999.0,9,  -999.0,-999.000,9,-999.000, -999.00,9,  473.60,   0.0750,2,   0.1900,2,   0.0130,2,   0.1380,2,   0.0150,2,   0.0092,-999.000,   0.0560,2,    0.20
318M20040615,        P02,     161,          2,         25,         25,2,20040820,       1141,    30.0005,  -130.1137,       4681,   543.7,   5.4302,  34.1526,2,  34.1532,2,  32.9000,2,    31.6,2,   79.26,2,   39.86,2,    0.00,2,    2.97,2,   0.421,2,   0.211,2,   0.013,2,  2306.0,2,  2310.5,2,-999.000,9,   1.8541,2,   16.75,2, -999.00,9,  -999.0,9,  -999.0,-999.000,9,-999.000,   39.80,2,  543.70,-999.0000,9,-999.0000,9,-999.0000,9,-999.0000,9,-999.0000,9,   0.0093,-999.000,-999.0000,9,    0.20
318M20040615,        P02,     161,          2,         24,         24,2,20040820,       1141,    30.0005,  -130.1137,       4681,   648.4,   4.8847,  34.2515,2,  34.2488,2,  16.4000,2,    15.8,2,   94.17,2,   41.90,2,    0.00,2,    3.15,2,   0.112,2,   0.058,2,   0.000,2,  2333.2,2,  2331.2,2,   0.122,2,   1.8721,2,   14.30,2, -999.00,9,  -999.0,9,  -999.0,-999.000,9,-999.000,   40.60,2,  648.40,   0.0830,2,   0.1980,2,   0.0130,2,   0.1450,2,   0.0140,2,   0.0094,   0.002,   0.0630,2,    0.20
318M20040615,        P02,     161,          2,         23,         23,2,20040820,       1141,    30.0005,  -130.1137,       4681,   747.6,   4.5007,  34.3308,2,  34.3312,2,  12.0000,2,    12.6,2,  104.15,2,   43.00,2,    0.00,2,    3.20,2,   0.038,2,   0.024,2,   0.000,2,  2349.1,2,  2347.2,2,-999.000,9,   1.8852,2,   15.05,2, -999.00,9,  -999.0,9,  -999.0,-999.000,9,-999.000,   38.80,2,  747.60,-999.0000,9,-999.0000,9,-999.0000,9,-999.0000,9,-999.0000,9,   0.0094,-999.000,-999.0000,9,    0.20
318M20040615,        P02,     161,          2,         22,         22,2,20040820,       1141,    30.0005,  -130.1137,       4681,   847.1,   4.2297,  34.4002,2,  34.3999,2,  13.9000,2,    15.5,2,  111.23,2,   43.72,2,    0.00,2,    3.22,2,   0.024,2,   0.015,2,   0.000,2,  2355.4,2,  2360.0,2,-999.000,9,   1.8898,2,   16.59,2, -999.00,9,  -999.0,9,  -999.0,-999.000,9,-999.000,   37.20,2,  847.10,   0.0690,2,   0.1820,2,   0.0150,2,   0.1310,2,   0.0160,2,   0.0094,-999.000,   0.0490,2,    0.20
318M20040615,        P02,     161,          2,         21,         21,2,20040820,       1141,    30.0005,  -130.1137,       4681,   948.5,   3.9455,  34.4445,2,  34.4439,2,  19.3000,2,    21.4,2,  117.27,2,   43.99,2,    0.00,2,    3.21,2,   0.024,2,   0.015,2,   0.000,2,  2360.1,6,  2368.4,2,-999.000,9,   1.8958,2,   18.44,2, -999.00,9,  -999.0,9,  -999.0,-999.000,9,-999.000, -999.00,9,  948.50,-999.0000,9,-999.0000,9,-999.0000,9,-999.0000,9,-999.0000,9,   0.0095,-999.000,-999.0000,9,    0.20
318M20040615,        P02,     161,          2,         20,         20,2,20040820,       1141,    30.0005,  -130.1137,       4681,  1048.5,   3.7181,  34.4811,2,  34.4820,2,  26.0000,2,    28.2,2,  122.07,2,   43.68,2,    0.00,2,    3.18,2,   0.023,2,   0.013,2,   0.000,2,  2362.6,2,  2378.2,2,   0.005,2,   1.8929,2,   20.07,2, -999.00,9,  -999.0,9,  -999.0,-999.000,9,-999.000,   38.20,2, 1048.50,   0.0820,2,   0.1930,2,   0.0130,2,   0.1410,2,   0.0140,2,   0.0095,   0.000,   0.0620,2,    0.20
318M20040615,        P02,     161,          2,         19,         19,2,20040820,       1141,    30.0005,  -130.1137,       4681,  1149.4,   3.4906,  34.5055,2,  34.5142,2,  32.1000,3,    34.2,2,  127.49,2,   43.33,2,    0.00,2,    3.15,2,   0.017,2,   0.010,2,   0.000,2,  2365.0,2,  2383.3,2,-999.000,9,   1.8937,2,   20.96,2, -999.00,9,  -999.0,9,  -999.0,-999.000,9,-999.000, -999.00,9, 1149.40,-999.0000,9,-999.0000,9,-999.0000,9,-999.0000,9,-999.0000,9,   0.0095,-999.000,-999.0000,9,    0.20
318M20040615,        P02,     161,          2,         18,         18,2,20040820,       1141,    30.0005,  -130.1137,       4681,  1254.9,   3.2718,  34.5270,2,  34.5270,2,  38.7000,2,    39.1,2,  132.73,2,   42.92,2,    0.00,2,    3.13,2,   0.017,2,   0.011,2,   0.000,2,  2367.2,2,  2393.1,6,   0.010,2,   1.9168,2,   21.67,2, -999.00,9,  -999.0,9,  -999.0,-999.000,9,-999.000,   55.10,4, 1254.90,-999.0000,9,-999.0000,9,-999.0000,9,-999.0000,9,-999.0000,9,   0.0096,   0.000,-999.0000,9,    0.20
318M20040615,        P02,     161,          2,         17,         17,2,20040820,       1141,    30.0005,  -130.1137,       4681,  1355.1,   3.0894,  34.5422,2,  34.5425,2,  43.5000,2,    43.6,2,  136.93,2,   42.63,2,    0.00,2,    3.11,2,   0.015,2,   0.010,2,   0.000,2,  2369.5,2,  2397.3,2,-999.000,9,   1.9172,2,   22.29,2, -999.00,9,  -999.0,9,  -999.0,-999.000,9,-999.000, -999.00,9, 1355.10,-999.0000,9,-999.0000,9,-999.0000,9,-999.0000,9,-999.0000,9,   0.0096,-999.000,-999.0000,9,    0.20
318M20040615,        P02,     161,          2,         16,         16,2,20040820,       1141,    30.0005,  -130.1137,       4681,  1455.7,   2.9219,  34.5556,2,  34.5551,2,  48.2000,2,    48.1,2,  141.37,2,   42.29,2,    0.00,2,    3.08,2,   0.014,2,   0.012,2,   0.000,2,  2371.0,2,  2400.1,2,   0.004,2,   1.8012,2,   22.94,2, -999.00,9,  -999.0,9,  -999.0,-999.000,9,-999.000, -999.00,9, 1455.70,-999.0000,9,-999.0000,9,-999.0000,9,-999.0000,9,-999.0000,9,   0.0090,   0.000,-999.0000,9,    0.20
318M20040615,        P02,     161,          2,         15,         15,2,20040820,       1141,    30.0005,  -130.1137,       4681,  1556.2,   2.7460,  34.5692,2,  34.5706,2,  53.9000,2,    53.3,2,  145.77,2,   42.10,2,    0.00,2,    3.08,3,   0.014,2,   0.010,2,   0.000,2,  2372.0,2,  2405.6,2,-999.000,9,   1.9288,2,   23.44,2, -999.00,9,  -999.0,9,  -999.0,-999.000,9,-999.000,   36.00,2, 1556.20,-999.0000,9,-999.0000,9,-999.0000,9,-999.0000,9,-999.0000,9,   0.0096,-999.000,-999.0000,9,    0.20
318M20040615,        P02,     161,          2,         14,         14,2,20040820,       1141,    30.0005,  -130.1137,       4681,  1656.3,   2.5940,  34.5807,2,  34.5811,2,  59.3000,2,    57.9,2,  149.99,2,   42.14,2,    0.00,2,    3.03,2,   0.011,2,   0.007,2,   0.000,2,  2372.8,2,  2408.6,2,   0.004,2,   1.9282,2,   23.90,2, -999.00,9,  -999.0,9,  -999.0,-999.000,9,-999.000, -999.00,9, 1656.30,-999.0000,9,-999.0000,9,-999.0000,9,-999.0000,9,-999.0000,9,   0.0096,   0.000,-999.0000,9,    0.20
318M20040615,        P02,     161,          2,         13,         13,2,20040820,       1141,    30.0005,  -130.1137,       4681,  1761.5,   2.4396,  34.5932,2,  34.6001,2,  64.7000,3,    63.8,2,  153.56,2,   42.02,2,    0.00,2,    3.00,2,-999.000,9,-999.000,9,-999.000,9,  2373.4,2,  2413.5,2,-999.000,9,-999.0000,9, -999.00,9, -999.00,9,  -999.0,9,  -999.0,-999.000,9,-999.000, -999.00,9, 1761.50,-999.0000,9,-999.0000,9,-999.0000,9,-999.0000,9,-999.0000,9,-999.0000,-999.000,-999.0000,9, -999.00
318M20040615,        P02,     161,          2,         12,         12,2,20040820,       1141,    30.0005,  -130.1137,       4681,  1860.8,   2.3014,  34.6048,2,  34.6053,2,  70.7000,2,    69.7,2,  156.93,2,   41.67,2,    0.00,2,    2.96,2,-999.000,9,-999.000,9,-999.000,9,  2373.3,2,  2416.7,2,-999.000,9,-999.0000,9, -999.00,9, -999.00,9,  -999.0,9,  -999.0,-999.000,9,-999.000,   33.60,3, 1860.80,-999.0000,9,-999.0000,9,-999.0000,9,-999.0000,9,-999.0000,9,-999.0000,-999.000,-999.0000,9, -999.00
318M20040615,        P02,     161,          2,         11,         11,2,20040820,       1141,    30.0005,  -130.1137,       4681,  1961.4,   2.1869,  34.6147,2,  34.6149,2,  76.5000,2,    75.4,2,  159.23,2,   41.16,2,    0.00,2,    2.93,2,   0.007,2,   0.003,2,   0.000,2,  2371.7,2,  2420.5,2,-999.000,9,-999.0000,9, -999.00,9, -999.00,9,  -999.0,9,  -999.0,-999.000,9,-999.000, -999.00,9, 1961.40,-999.0000,9,-999.0000,9,-999.0000,9,-999.0000,9,-999.0000,9,-999.0000,-999.000,-999.0000,9, -999.00
318M20040615,        P02,     161,          2,         10,         10,2,20040820,       1141,    30.0005,  -130.1137,       4681,  2123.4,   2.0277,  34.6276,2,  34.6271,2,  84.0000,2,    84.1,2,  161.97,2,   40.36,2,    0.00,2,    2.89,2,-999.000,9,-999.000,9,-999.000,9,  2371.0,2,  2423.4,2,-999.000,9,-999.0000,9, -999.00,9, -999.00,9,  -999.0,9,  -999.0,-999.000,9,-999.000,   37.60,2, 2123.40,   0.0670,2,   0.1680,2,   0.0130,2,   0.1200,2,   0.0150,2,-999.0000,-999.000,   0.0480,2, -999.00
318M20040615,        P02,     161,          2,          9,          9,2,20040820,       1141,    30.0005,  -130.1137,       4681,  2381.4,   1.8421,  34.6422,2,  34.6423,2,  94.7000,2,    95.3,2,  166.65,2,   39.58,2,    0.00,2,    2.82,2,   0.008,2,   0.002,2,   0.000,2,  2367.1,2,  2427.5,2,-999.000,9,-999.0000,9, -999.00,9, -999.00,9,  -999.0,9,  -999.0,-999.000,9,-999.000, -999.00,9, 2381.40,-999.0000,9,-999.0000,9,-999.0000,9,-999.0000,9,-999.0000,9,-999.0000,-999.000,-999.0000,9, -999.00
318M20040615,        P02,     161,          2,          8,          8,2,20040820,       1141,    30.0005,  -130.1137,       4681,  2633.6,   1.7071,  34.6531,2,  34.6533,2, 104.6000,2,   105.0,2,  168.77,2,   38.86,2,    0.00,2,    2.77,2,-999.000,9,-999.000,9,-999.000,9,  2362.8,2,  2429.4,2,-999.000,9,-999.0000,9, -999.00,9, -999.00,9,  -999.0,9,  -999.0,-999.000,9,-999.000, -999.00,9, 2633.60,-999.0000,9,-999.0000,9,-999.0000,9,-999.0000,9,-999.0000,9,-999.0000,-999.000,-999.0000,9, -999.00
318M20040615,        P02,     161,          2,          7,          7,2,20040820,       1141,    30.0005,  -130.1137,       4681,  2891.4,   1.6055,  34.6628,2,  34.6631,2, 113.5000,2,   114.3,2,  170.88,2,   38.18,2,    0.00,2,    2.71,2,   0.009,2,   0.005,2,   0.000,2,  2358.1,2,  2432.9,2,-999.000,9,-999.0000,9, -999.00,9, -999.00,9,  -999.0,9,  -999.0,-999.000,9,-999.000,   37.00,2, 2891.40,-999.0000,9,-999.0000,9,-999.0000,9,-999.0000,9,-999.0000,9,-999.0000,-999.000,-999.0000,9, -999.00
318M20040615,        P02,     161,          2,          6,          6,2,20040820,       1141,    30.0005,  -130.1137,       4681,  3148.0,   1.5451,  34.6700,2,  34.6706,2, 121.3000,2,   122.4,2,  169.79,2,   37.89,2,    0.00,2,    2.67,2,-999.000,9,-999.000,9,-999.000,9,  2353.4,2,  2432.6,2,-999.000,9,-999.0000,9, -999.00,9, -999.00,9,  -999.0,9,  -999.0,-999.000,9,-999.000, -999.00,9, 3148.00,   0.0590,2,   0.1550,2,   0.0140,2,   0.1090,2,   0.0160,2,-999.0000,-999.000,   0.0420,2, -999.00
318M20040615,        P02,     161,          2,          5,          5,2,20040820,       1141,    30.0005,  -130.1137,       4681,  3455.6,   1.4985,  34.6774,2,  34.6779,2, 131.3000,2,   131.7,2,  167.84,2,   37.60,2,    0.00,2,    2.62,2,   0.011,2,   0.007,2,   0.000,2,  2348.0,2,  2431.9,2,-999.000,9,-999.0000,9, -999.00,9, -999.00,9,  -999.0,9,  -999.0,-999.000,9,-999.000,   36.70,2, 3455.60,-999.0000,9,-999.0000,9,-999.0000,9,-999.0000,9,-999.0000,9,-999.0000,-999.000,-999.0000,9, -999.00
318M20040615,        P02,     161,          2,          4,          4,2,20040820,       1141,    30.0005,  -130.1137,       4681,  3758.0,   1.4874,  34.6820,2,  34.6823,2, 137.5000,2,   138.2,2,  165.25,2,   37.32,2,    0.00,2,    2.58,2,-999.000,9,-999.000,9,-999.000,9,  2343.9,2,  2431.1,2,-999.000,9,-999.0000,9, -999.00,9, -999.00,9,  -999.0,9,  -999.0,-999.000,9,-999.000,   37.00,2, 3758.00,-999.0000,9,-999.0000,9,-999.0000,9,-999.0000,9,-999.0000,9,-999.0000,-999.000,-999.0000,9, -999.00
318M20040615,        P02,     161,          2,          3,          3,2,20040820,       1141,    30.0005,  -130.1137,       4681,  4167.0,   1.5108,  34.6847,2,  34.6850,2, 141.6000,2,   142.7,2,  163.51,2,   36.92,2,    0.00,2,    2.56,2,   0.014,2,   0.016,2,   0.000,2,  2341.6,2,  2433.1,2,-999.000,9,-999.0000,9, -999.00,9, -999.00,9,  -999.0,9,  -999.0,-999.000,9,-999.000,   35.80,2, 4167.00,-999.0000,9,-999.0000,9,-999.0000,9,-999.0000,9,-999.0000,9,-999.0000,-999.000,-999.0000,9, -999.00
318M20040615,        P02,     161,          2,          2,          2,2,20040820,       1141,    30.0005,  -130.1137,       4681,  4548.3,   1.5508,  34.6854,2,  34.6860,2, 142.7000,2,   143.1,2,  163.05,2,   36.63,2,    0.00,2,    2.55,2,   0.013,2,   0.011,2,   0.000,2,  2340.1,2,  2432.3,2,-999.000,9,-999.0000,9, -999.00,9, -999.00,9,  -999.0,9,  -999.0,-999.000,9,-999.000, -999.00,9, 4548.30,-999.0000,9,-999.0000,9,-999.0000,9,-999.0000,9,-999.0000,9,-999.0000,-999.000,-999.0000,9, -999.00
318M20040615,        P02,     161,          2,          1,          1,2,20040820,       1141,    30.0005,  -130.1137,       4681,  4752.0,   1.5749,  34.6854,2,  34.6859,2, 142.9000,2,   143.3,2,  163.03,2,   36.56,2,    0.00,2,    2.55,2,   0.013,2,   0.013,2,   0.000,2,  2339.3,6,  2435.0,6,-999.000,9,-999.0000,9, -999.00,9, -999.00,9,  -999.0,9,  -999.0,-999.000,9,-999.000,   37.10,2, 4752.00,-999.0000,9,-999.0000,9,-999.0000,9,-999.0000,9,-999.0000,9,-999.0000,-999.000,-999.0000,9, -999.00