BOTTLE,20131027SIOCCHRJL
EXPOCODE,SECT_ID,STNNBR,CASTNO,SAMPNO,BTLNBR,BTLNBR_FLAG_W,DATE,TIME,LATITUDE,LONGITUDE,DEPTH,CTDPRS,CTDTMP,CTDSAL,CTDSAL_FLAG_W,SALNTY,SALNTY_FLAG_W,CTDOXY,CTDOXY_FLAG_W,OXYGEN,OXYGEN_FLAG_W,SILCAT,SILCAT_FLAG_W,NITRAT,NITRAT_FLAG_W,NITRIT,NITRIT_FLAG_W,PHSPHT,PHSPHT_FLAG_W,CFC-11,CFC-11_FLAG_W,CFC-12,CFC-12_FLAG_W,CFC113,CFC113_FLAG_W,TCARBN,TCARBN_FLAG_W,ALKALI,ALKALI_FLAG_W,TRITUM,TRITUM_FLAG_W,HELIUM,HELIUM_FLAG_W,DELHE3,DELHE3_FLAG_W,DELC13,DELC13_FLAG_W,DELC14,DELC14_FLAG_W,C14ERR,NEON,NEON_FLAG_W,NEONER,DOC,DOC_FLAG_W,CTDRAW,CDOM380,CDOM380_FLAG_W,CDOM325,CDOM325_FLAG_W,CDOMSL,CDOMSL_FLAG_W,CDOM340,CDOM340_FLAG_W,CDOMSN,CDOMSN_FLAG_W,HELIER,TRITER,CDOM412,CDOM412_FLAG_W,DELHER
,,,,,,,,,,,METERS,DBAR,ITS-90,PSS-78,,PSS-78,,UMOL/KG,,UMOL/KG,,UMOL/KG,,UMOL/KG,,UMOL/KG,,UMOL/KG,,PMOL/KG,,PMOL/KG,,PMOL/KG,,UMOL/KG,,UMOL/KG,,TU,,NMOL/KG,,PERCNT,,/MILLE,,/MILLE,,/MILLE,NMOL/KG,,NMOL/KG,UMOL/KG,,DBAR,1/M,,1/M,,1/NM,,1/M,,1/NM,,NMOL/KG,TU,1/M,,PERCNT
318M20040615,        P02,     158,          1,         36,         36,2,20040819,       1521,       30.0,  -131.8517,       4504,     6.0,  23.5727,  33.6287,2,  33.6283,2, 219.9000,2,   219.8,2,    1.73,2,    0.14,2,    0.00,2,    0.26,2,   2.067,2,   1.273,2,   0.155,2,  1995.9,6,  2249.9,6,-999.000,9,-999.0000,9, -999.00,9, -999.00,9,  -999.0,9,  -999.0,-999.000,9,-999.000, -999.00,9,    6.00,-999.0000,9,-999.0000,9,-999.0000,9,-999.0000,9,-999.0000,9,-999.0000,-999.000,-999.0000,9, -999.00
318M20040615,        P02,     158,          1,         35,         35,2,20040819,       1521,       30.0,  -131.8517,       4504,    35.9,  20.2641,  33.5209,2,  33.5155,2, 246.2000,2,   245.6,2,    1.52,2,    0.14,2,    0.00,2,    0.24,2,-999.000,9,-999.000,9,-999.000,9,  -999.0,9,  -999.0,9,-999.000,9,-999.0000,9, -999.00,9, -999.00,9,  -999.0,9,  -999.0,-999.000,9,-999.000, -999.00,9,   35.90,-999.0000,9,-999.0000,9,-999.0000,9,-999.0000,9,-999.0000,9,-999.0000,-999.000,-999.0000,9, -999.00
318M20040615,        P02,     158,          1,         34,         34,2,20040819,       1521,       30.0,  -131.8517,       4504,    60.8,  17.7604,  33.5202,2,  33.5239,2, 255.6000,2,   254.4,2,    1.51,2,    0.09,2,    0.00,2,    0.23,2,   2.739,2,   1.621,2,   0.209,2,  -999.0,9,  -999.0,9,-999.000,9,-999.0000,9, -999.00,9, -999.00,9,  -999.0,9,  -999.0,-999.000,9,-999.000, -999.00,9,   60.80,-999.0000,9,-999.0000,9,-999.0000,9,-999.0000,9,-999.0000,9,-999.0000,-999.000,-999.0000,9, -999.00
318M20040615,        P02,     158,          1,         33,         33,2,20040819,       1521,       30.0,  -131.8517,       4504,   120.5,  15.9360,  33.7744,2,  33.7731,2, 239.0000,2,   238.3,2,    2.31,2,    0.17,2,    0.02,2,    0.25,2,-999.000,9,-999.000,9,-999.000,9,  -999.0,9,  -999.0,9,-999.000,9,-999.0000,9, -999.00,9, -999.00,9,  -999.0,9,  -999.0,-999.000,9,-999.000, -999.00,9,  120.50,-999.0000,9,-999.0000,9,-999.0000,9,-999.0000,9,-999.0000,9,-999.0000,-999.000,-999.0000,9, -999.00
318M20040615,        P02,     158,          1,         32,         32,2,20040819,       1521,       30.0,  -131.8517,       4504,   169.6,  12.6274,  33.5656,2,  33.5683,2, 225.1000,2,   229.0,2,    5.37,2,    5.54,2,    0.01,2,    0.60,2,   3.313,2,   1.929,2,   0.194,2,  -999.0,9,  -999.0,9,-999.000,9,-999.0000,9, -999.00,9, -999.00,9,  -999.0,9,  -999.0,-999.000,9,-999.000, -999.00,9,  169.60,-999.0000,9,-999.0000,9,-999.0000,9,-999.0000,9,-999.0000,9,-999.0000,-999.000,-999.0000,9, -999.00
318M20040615,        P02,     158,          1,         31,         31,2,20040819,       1521,       30.0,  -131.8517,       4504,   209.9,  10.5705,  33.6516,2,  33.6322,2, 205.4000,2,   217.1,2,   11.12,2,   11.74,2,    0.00,2,    0.96,2,-999.000,9,-999.000,9,-999.000,9,  -999.0,9,  -999.0,9,-999.000,9,-999.0000,9, -999.00,9, -999.00,9,  -999.0,9,  -999.0,-999.000,9,-999.000, -999.00,9,  209.90,-999.0000,9,-999.0000,9,-999.0000,9,-999.0000,9,-999.0000,9,-999.0000,-999.000,-999.0000,9, -999.00
318M20040615,        P02,     158,          1,         30,         30,2,20040819,       1521,       30.0,  -131.8517,       4504,   274.9,   8.8742,  33.9697,2,  33.9716,2, 173.1000,2,   177.9,2,   24.68,2,   20.75,2,    0.00,2,    1.50,2,   3.404,2,   1.834,2,   0.115,2,  -999.0,9,  -999.0,9,-999.000,9,-999.0000,9, -999.00,9, -999.00,9,  -999.0,9,  -999.0,-999.000,9,-999.000, -999.00,9,  274.90,-999.0000,9,-999.0000,9,-999.0000,9,-999.0000,9,-999.0000,9,-999.0000,-999.000,-999.0000,9, -999.00
318M20040615,        P02,     158,          1,         29,         29,2,20040819,       1521,       30.0,  -131.8517,       4504,   324.7,   8.0340,  34.0227,2,  34.0228,2, 138.7000,2,   140.2,2,   36.02,2,   26.37,2,    0.00,2,    1.89,2,-999.000,9,-999.000,9,-999.000,9,  -999.0,9,  -999.0,9,-999.000,9,-999.0000,9, -999.00,9, -999.00,9,  -999.0,9,  -999.0,-999.000,9,-999.000, -999.00,9,  324.70,-999.0000,9,-999.0000,9,-999.0000,9,-999.0000,9,-999.0000,9,-999.0000,-999.000,-999.0000,9, -999.00
318M20040615,        P02,     158,          1,         28,         28,2,20040819,       1521,       30.0,  -131.8517,       4504,   374.4,   7.1024,  34.0228,2,  34.0224,2, 109.0000,2,   107.8,2,   47.17,2,   30.94,2,    0.00,2,    2.24,2,   2.171,2,   1.095,2,   0.080,2,  -999.0,9,  -999.0,9,-999.000,9,-999.0000,9, -999.00,9, -999.00,9,  -999.0,9,  -999.0,-999.000,9,-999.000, -999.00,9,  374.40,-999.0000,9,-999.0000,9,-999.0000,9,-999.0000,9,-999.0000,9,-999.0000,-999.000,-999.0000,9, -999.00
318M20040615,        P02,     158,          1,         27,         27,2,20040819,       1521,       30.0,  -131.8517,       4504,   423.3,   6.5580,  34.0417,2,  34.0412,2,  87.0000,2,    85.4,2,   54.85,2,   33.58,2,    0.00,2,    2.47,2,-999.000,9,-999.000,9,-999.000,9,  -999.0,9,  -999.0,9,-999.000,9,-999.0000,9, -999.00,9, -999.00,9,  -999.0,9,  -999.0,-999.000,9,-999.000, -999.00,9,  423.30,-999.0000,9,-999.0000,9,-999.0000,9,-999.0000,9,-999.0000,9,-999.0000,-999.000,-999.0000,9, -999.00
318M20040615,        P02,     158,          1,         26,         26,2,20040819,       1521,       30.0,  -131.8517,       4504,   471.4,   6.0733,  34.0570,2,  34.0565,2,  68.5000,2,    70.6,2,   62.54,2,   35.63,2,    0.00,2,    2.63,2,   1.205,2,   0.591,2,   0.022,2,  -999.0,9,  -999.0,9,-999.000,9,-999.0000,9, -999.00,9, -999.00,9,  -999.0,9,  -999.0,-999.000,9,-999.000, -999.00,9,  471.40,-999.0000,9,-999.0000,9,-999.0000,9,-999.0000,9,-999.0000,9,-999.0000,-999.000,-999.0000,9, -999.00
318M20040615,        P02,     158,          1,         25,         25,2,20040819,       1521,       30.0,  -131.8517,       4504,   543.2,   5.4424,  34.1327,2,  34.1341,2,  43.0000,2,    38.5,2,   77.96,2,   39.27,2,    0.00,2,    2.93,2,   0.496,2,   0.250,2,   0.000,2,  -999.0,9,  -999.0,9,-999.000,9,-999.0000,9, -999.00,9, -999.00,9,  -999.0,9,  -999.0,-999.000,9,-999.000, -999.00,9,  543.20,-999.0000,9,-999.0000,9,-999.0000,9,-999.0000,9,-999.0000,9,-999.0000,-999.000,-999.0000,9, -999.00
318M20040615,        P02,     158,          1,         24,         24,2,20040819,       1521,       30.0,  -131.8517,       4504,   648.1,   4.8716,  34.2423,2,  34.2428,2,  18.2000,2,    18.3,2,   93.46,2,   41.96,2,    0.00,2,    3.13,2,   0.136,2,   0.067,2,   0.000,2,  -999.0,9,  -999.0,9,-999.000,9,-999.0000,9, -999.00,9, -999.00,9,  -999.0,9,  -999.0,-999.000,9,-999.000, -999.00,9,  648.10,-999.0000,9,-999.0000,9,-999.0000,9,-999.0000,9,-999.0000,9,-999.0000,-999.000,-999.0000,9, -999.00
318M20040615,        P02,     158,          1,         23,         23,2,20040819,       1521,       30.0,  -131.8517,       4504,   748.1,   4.4867,  34.3404,2,  34.3389,2,  14.7000,2,    14.0,2,  104.37,2,   43.40,2,    0.00,2,    3.21,2,   0.038,6,   0.022,6,   0.000,6,  -999.0,9,  -999.0,9,-999.000,9,-999.0000,9, -999.00,9, -999.00,9,  -999.0,9,  -999.0,-999.000,9,-999.000, -999.00,9,  748.10,-999.0000,9,-999.0000,9,-999.0000,9,-999.0000,9,-999.0000,9,-999.0000,-999.000,-999.0000,9, -999.00
318M20040615,        P02,     158,          1,         22,         22,2,20040819,       1521,       30.0,  -131.8517,       4504,   848.8,   4.2515,  34.4163,2,  34.4164,2,  17.0000,2,    17.4,2,  110.48,2,   43.61,2,    0.00,2,    3.21,2,   0.026,2,   0.016,2,   0.000,2,  -999.0,9,  -999.0,9,-999.000,9,-999.0000,9, -999.00,9, -999.00,9,  -999.0,9,  -999.0,-999.000,9,-999.000, -999.00,9,  848.80,-999.0000,9,-999.0000,9,-999.0000,9,-999.0000,9,-999.0000,9,-999.0000,-999.000,-999.0000,9, -999.00
318M20040615,        P02,     158,          1,         21,         21,2,20040819,       1521,       30.0,  -131.8517,       4504,   948.7,   3.9853,  34.4493,2,  34.4480,2,  23.8000,2,    23.9,2,  115.33,2,   43.55,2,    0.00,2,    3.20,2,   0.017,2,   0.015,2,   0.000,2,  -999.0,9,  -999.0,9,-999.000,9,-999.0000,9, -999.00,9, -999.00,9,  -999.0,9,  -999.0,-999.000,9,-999.000, -999.00,9,  948.70,-999.0000,9,-999.0000,9,-999.0000,9,-999.0000,9,-999.0000,9,-999.0000,-999.000,-999.0000,9, -999.00
318M20040615,        P02,     158,          1,         20,         20,2,20040819,       1521,       30.0,  -131.8517,       4504,  1047.6,   3.7402,  34.4823,2,  34.4826,2,  30.1000,2,    30.7,2,  121.02,2,   43.27,2,    0.00,2,    3.17,2,   0.018,2,   0.010,2,   0.000,2,  -999.0,9,  -999.0,9,-999.000,9,-999.0000,9, -999.00,9, -999.00,9,  -999.0,9,  -999.0,-999.000,9,-999.000, -999.00,9, 1047.60,-999.0000,9,-999.0000,9,-999.0000,9,-999.0000,9,-999.0000,9,-999.0000,-999.000,-999.0000,9, -999.00
318M20040615,        P02,     158,          1,         19,         19,2,20040819,       1521,       30.0,  -131.8517,       4504,  1148.2,   3.5108,  34.5053,2,  34.5052,2,  36.9000,2,    36.0,2,  125.90,2,   42.98,2,    0.00,2,    3.13,2,   0.013,2,   0.007,2,   0.000,2,  -999.0,9,  -999.0,9,-999.000,9,-999.0000,9, -999.00,9, -999.00,9,  -999.0,9,  -999.0,-999.000,9,-999.000, -999.00,9, 1148.20,-999.0000,9,-999.0000,9,-999.0000,9,-999.0000,9,-999.0000,9,-999.0000,-999.000,-999.0000,9, -999.00
318M20040615,        P02,     158,          1,         18,         18,2,20040819,       1521,       30.0,  -131.8517,       4504,  1254.5,   3.3095,  34.5264,2,  34.5254,2,  41.5000,2,    41.7,2,  130.35,2,   42.64,2,    0.00,2,    3.11,2,-999.000,9,-999.000,9,-999.000,9,  -999.0,9,  -999.0,9,-999.000,9,-999.0000,9, -999.00,9, -999.00,9,  -999.0,9,  -999.0,-999.000,9,-999.000, -999.00,9, 1254.50,-999.0000,9,-999.0000,9,-999.0000,9,-999.0000,9,-999.0000,9,-999.0000,-999.000,-999.0000,9, -999.00
318M20040615,        P02,     158,          1,         17,         17,2,20040819,       1521,       30.0,  -131.8517,       4504,  1355.0,   3.0907,  34.5432,2,  34.5431,2,  46.1000,2,    45.8,2,  136.32,2,   42.42,2,    0.00,2,    3.10,2,   0.012,2,   0.008,2,   0.000,2,  -999.0,9,  -999.0,9,-999.000,9,-999.0000,9, -999.00,9, -999.00,9,  -999.0,9,  -999.0,-999.000,9,-999.000, -999.00,9, 1355.00,-999.0000,9,-999.0000,9,-999.0000,9,-999.0000,9,-999.0000,9,-999.0000,-999.000,-999.0000,9, -999.00
318M20040615,        P02,     158,          1,         16,         16,2,20040819,       1521,       30.0,  -131.8517,       4504,  1454.4,   2.9211,  34.5573,2,  34.5565,2,  50.1000,2,    50.8,2,  140.15,2,   42.21,2,    0.00,2,    3.07,2,-999.000,9,-999.000,9,-999.000,9,  -999.0,9,  -999.0,9,-999.000,9,-999.0000,9, -999.00,9, -999.00,9,  -999.0,9,  -999.0,-999.000,9,-999.000, -999.00,9, 1454.40,-999.0000,9,-999.0000,9,-999.0000,9,-999.0000,9,-999.0000,9,-999.0000,-999.000,-999.0000,9, -999.00
318M20040615,        P02,     158,          1,         15,         15,2,20040819,       1521,       30.0,  -131.8517,       4504,  1554.9,   2.7396,  34.5701,2,  34.5698,2,  54.1000,2,    54.5,2,  145.47,2,   42.36,2,    0.00,2,    3.05,2,   0.007,2,   0.006,2,   0.000,2,  -999.0,9,  -999.0,9,-999.000,9,-999.0000,9, -999.00,9, -999.00,9,  -999.0,9,  -999.0,-999.000,9,-999.000, -999.00,9, 1554.90,-999.0000,9,-999.0000,9,-999.0000,9,-999.0000,9,-999.0000,9,-999.0000,-999.000,-999.0000,9, -999.00
318M20040615,        P02,     158,          1,         14,         14,2,20040819,       1521,       30.0,  -131.8517,       4504,  1656.3,   2.5784,  34.5823,2,  34.5822,2,  58.0000,2,    59.3,2,  149.74,2,   42.30,2,    0.00,2,    3.02,2,-999.000,9,-999.000,9,-999.000,9,  -999.0,9,  -999.0,9,-999.000,9,-999.0000,9, -999.00,9, -999.00,9,  -999.0,9,  -999.0,-999.000,9,-999.000, -999.00,9, 1656.30,-999.0000,9,-999.0000,9,-999.0000,9,-999.0000,9,-999.0000,9,-999.0000,-999.000,-999.0000,9, -999.00
318M20040615,        P02,     158,          1,         13,         13,2,20040819,       1521,       30.0,  -131.8517,       4504,  1757.2,   2.4355,  34.5936,2,  34.5932,2,  63.0000,2,    64.0,2,  153.16,2,   41.97,2,    0.00,2,    3.00,2,   0.007,2,   0.004,2,   0.000,2,  -999.0,9,  -999.0,9,-999.000,9,-999.0000,9, -999.00,9, -999.00,9,  -999.0,9,  -999.0,-999.000,9,-999.000, -999.00,9, 1757.20,-999.0000,9,-999.0000,9,-999.0000,9,-999.0000,9,-999.0000,9,-999.0000,-999.000,-999.0000,9, -999.00
318M20040615,        P02,     158,          1,         12,         12,2,20040819,       1521,       30.0,  -131.8517,       4504,  1862.2,   2.3102,  34.6044,2,  34.6042,2,  69.3000,2,    69.7,2,  156.37,2,   41.47,2,    0.00,2,    2.97,2,-999.000,9,-999.000,9,-999.000,9,  -999.0,9,  -999.0,9,-999.000,9,-999.0000,9, -999.00,9, -999.00,9,  -999.0,9,  -999.0,-999.000,9,-999.000, -999.00,9, 1862.20,-999.0000,9,-999.0000,9,-999.0000,9,-999.0000,9,-999.0000,9,-999.0000,-999.000,-999.0000,9, -999.00
318M20040615,        P02,     158,          1,         11,         11,2,20040819,       1521,       30.0,  -131.8517,       4504,  1962.8,   2.2052,  34.6140,2,  34.6141,2,  74.6000,2,    75.4,2,  158.48,2,   41.01,2,    0.00,2,    2.93,2,   0.007,2,   0.004,2,   0.000,2,  -999.0,9,  -999.0,9,-999.000,9,-999.0000,9, -999.00,9, -999.00,9,  -999.0,9,  -999.0,-999.000,9,-999.000, -999.00,9, 1962.80,-999.0000,9,-999.0000,9,-999.0000,9,-999.0000,9,-999.0000,9,-999.0000,-999.000,-999.0000,9, -999.00
318M20040615,        P02,     158,          1,         10,         10,2,20040819,       1521,       30.0,  -131.8517,       4504,  2128.5,   2.0595,  34.6260,2,  34.6245,2,  82.6000,2,    83.7,2,  161.50,2,   40.41,2,    0.00,2,    2.89,2,-999.000,9,-999.000,9,-999.000,9,  -999.0,9,  -999.0,9,-999.000,9,-999.0000,9, -999.00,9, -999.00,9,  -999.0,9,  -999.0,-999.000,9,-999.000, -999.00,9, 2128.50,-999.0000,9,-999.0000,9,-999.0000,9,-999.0000,9,-999.0000,9,-999.0000,-999.000,-999.0000,9, -999.00
318M20040615,        P02,     158,          1,          9,          9,2,20040819,       1521,       30.0,  -131.8517,       4504,  2380.5,   1.8627,  34.6391,2,  34.6388,2,  93.0000,2,    92.6,2,  167.10,2,   39.74,2,    0.00,2,    2.84,2,   0.007,2,   0.001,2,   0.000,2,  -999.0,9,  -999.0,9,-999.000,9,-999.0000,9, -999.00,9, -999.00,9,  -999.0,9,  -999.0,-999.000,9,-999.000, -999.00,9, 2380.50,-999.0000,9,-999.0000,9,-999.0000,9,-999.0000,9,-999.0000,9,-999.0000,-999.000,-999.0000,9, -999.00
318M20040615,        P02,     158,          1,          8,          8,2,20040819,       1521,       30.0,  -131.8517,       4504,  2631.9,   1.7200,  34.6513,2,  34.6510,2, 102.6000,2,   103.2,2,  169.69,2,   39.09,2,    0.00,2,    2.78,2,-999.000,9,-999.000,9,-999.000,9,  -999.0,9,  -999.0,9,-999.000,9,-999.0000,9, -999.00,9, -999.00,9,  -999.0,9,  -999.0,-999.000,9,-999.000, -999.00,9, 2631.90,-999.0000,9,-999.0000,9,-999.0000,9,-999.0000,9,-999.0000,9,-999.0000,-999.000,-999.0000,9, -999.00
318M20040615,        P02,     158,          1,          7,          7,2,20040819,       1521,       30.0,  -131.8517,       4504,  2891.2,   1.6221,  34.6618,2,  34.6609,2, 112.2000,2,   112.3,2,  170.77,2,   38.70,2,    0.00,2,    2.73,2,   0.007,2,   0.004,2,   0.000,2,  -999.0,9,  -999.0,9,-999.000,9,-999.0000,9, -999.00,9, -999.00,9,  -999.0,9,  -999.0,-999.000,9,-999.000, -999.00,9, 2891.20,-999.0000,9,-999.0000,9,-999.0000,9,-999.0000,9,-999.0000,9,-999.0000,-999.000,-999.0000,9, -999.00
318M20040615,        P02,     158,          1,          6,          6,2,20040819,       1521,       30.0,  -131.8517,       4504,  3148.2,   1.5538,  34.6695,2,  34.6695,2, 120.6000,2,   120.9,2,  171.19,2,   38.43,2,    0.00,2,    2.68,2,-999.000,9,-999.000,9,-999.000,9,  -999.0,9,  -999.0,9,-999.000,9,-999.0000,9, -999.00,9, -999.00,9,  -999.0,9,  -999.0,-999.000,9,-999.000, -999.00,9, 3148.20,-999.0000,9,-999.0000,9,-999.0000,9,-999.0000,9,-999.0000,9,-999.0000,-999.000,-999.0000,9, -999.00
318M20040615,        P02,     158,          1,          5,          5,2,20040819,       1521,       30.0,  -131.8517,       4504,  3459.9,   1.5006,  34.6773,2,  34.6766,2, 130.6000,2,   130.8,2,  169.24,2,   37.83,2,    0.00,2,    2.63,2,   0.011,2,   0.011,2,   0.000,2,  -999.0,9,  -999.0,9,-999.000,9,-999.0000,9, -999.00,9, -999.00,9,  -999.0,9,  -999.0,-999.000,9,-999.000, -999.00,9, 3459.90,-999.0000,9,-999.0000,9,-999.0000,9,-999.0000,9,-999.0000,9,-999.0000,-999.000,-999.0000,9, -999.00
318M20040615,        P02,     158,          1,          4,          4,2,20040819,       1521,       30.0,  -131.8517,       4504,  3756.9,   1.4833,  34.6824,2,  34.6813,2, 137.4000,2,   139.3,2,  166.00,2,   37.16,2,    0.00,2,    2.59,2,   0.013,2,   0.013,2,   0.003,2,  -999.0,9,  -999.0,9,-999.000,9,-999.0000,9, -999.00,9, -999.00,9,  -999.0,9,  -999.0,-999.000,9,-999.000, -999.00,9, 3756.90,-999.0000,9,-999.0000,9,-999.0000,9,-999.0000,9,-999.0000,9,-999.0000,-999.000,-999.0000,9, -999.00
318M20040615,        P02,     158,          1,          3,          3,2,20040819,       1521,       30.0,  -131.8517,       4504,  4060.3,   1.4950,  34.6848,2,  34.6843,2, 142.1000,2,   141.9,2,  163.60,2,   36.88,2,    0.00,2,    2.56,2,   0.013,2,   0.013,2,   0.000,2,  -999.0,9,  -999.0,9,-999.000,9,-999.0000,9, -999.00,9, -999.00,9,  -999.0,9,  -999.0,-999.000,9,-999.000, -999.00,9, 4060.30,-999.0000,9,-999.0000,9,-999.0000,9,-999.0000,9,-999.0000,9,-999.0000,-999.000,-999.0000,9, -999.00
318M20040615,        P02,     158,          1,          2,          2,2,20040819,       1521,       30.0,  -131.8517,       4504,  4351.8,   1.5205,  34.6858,2,  34.6853,2, 143.8000,2,   143.8,2,  162.74,2,   36.67,2,    0.00,2,    2.55,2,   0.009,2,   0.010,2,   0.000,2,  -999.0,9,  -999.0,9,-999.000,9,-999.0000,9, -999.00,9, -999.00,9,  -999.0,9,  -999.0,-999.000,9,-999.000, -999.00,9, 4351.80,-999.0000,9,-999.0000,9,-999.0000,9,-999.0000,9,-999.0000,9,-999.0000,-999.000,-999.0000,9, -999.00
318M20040615,        P02,     158,          1,          1,          1,2,20040819,       1521,       30.0,  -131.8517,       4504,  4563.7,   1.5446,  34.6859,2,  34.6859,2, 144.1000,2,   144.7,2,  162.53,2,   36.55,2,    0.00,2,    2.55,2,   0.008,2,   0.008,2,   0.000,2,  -999.0,9,  -999.0,9,-999.000,9,-999.0000,9, -999.00,9, -999.00,9,  -999.0,9,  -999.0,-999.000,9,-999.000, -999.00,9, 4563.70,-999.0000,9,-999.0000,9,-999.0000,9,-999.0000,9,-999.0000,9,-999.0000,-999.000,-999.0000,9, -999.00