BOTTLE,20131027SIOCCHRJL
EXPOCODE,SECT_ID,STNNBR,CASTNO,SAMPNO,BTLNBR,BTLNBR_FLAG_W,DATE,TIME,LATITUDE,LONGITUDE,DEPTH,CTDPRS,CTDTMP,CTDSAL,CTDSAL_FLAG_W,SALNTY,SALNTY_FLAG_W,CTDOXY,CTDOXY_FLAG_W,OXYGEN,OXYGEN_FLAG_W,SILCAT,SILCAT_FLAG_W,NITRAT,NITRAT_FLAG_W,NITRIT,NITRIT_FLAG_W,PHSPHT,PHSPHT_FLAG_W,CFC-11,CFC-11_FLAG_W,CFC-12,CFC-12_FLAG_W,CFC113,CFC113_FLAG_W,TCARBN,TCARBN_FLAG_W,ALKALI,ALKALI_FLAG_W,TRITUM,TRITUM_FLAG_W,HELIUM,HELIUM_FLAG_W,DELHE3,DELHE3_FLAG_W,DELC13,DELC13_FLAG_W,DELC14,DELC14_FLAG_W,C14ERR,NEON,NEON_FLAG_W,NEONER,DOC,DOC_FLAG_W,CTDRAW,CDOM380,CDOM380_FLAG_W,CDOM325,CDOM325_FLAG_W,CDOMSL,CDOMSL_FLAG_W,CDOM340,CDOM340_FLAG_W,CDOMSN,CDOMSN_FLAG_W,HELIER,TRITER,CDOM412,CDOM412_FLAG_W,DELHER
,,,,,,,,,,,METERS,DBAR,ITS-90,PSS-78,,PSS-78,,UMOL/KG,,UMOL/KG,,UMOL/KG,,UMOL/KG,,UMOL/KG,,UMOL/KG,,PMOL/KG,,PMOL/KG,,PMOL/KG,,UMOL/KG,,UMOL/KG,,TU,,NMOL/KG,,PERCNT,,/MILLE,,/MILLE,,/MILLE,NMOL/KG,,NMOL/KG,UMOL/KG,,DBAR,1/M,,1/M,,1/NM,,1/M,,1/NM,,NMOL/KG,TU,1/M,,PERCNT
318M20040615,        P02,       3,          1,         14,         14,2,20040617,       0526,    32.4133,   133.2912,        957,    18.5,  24.3535,  34.5449,2,  34.5467,2, 213.8000,2,   213.4,2,    1.10,2,    0.10,2,    0.02,2,    0.05,2,   1.904,2,   1.205,2,   0.123,2,  1954.3,6,  2268.9,2,-999.000,9,-999.0000,9, -999.00,9,    1.18,2,    73.6,2,     4.9,-999.000,9,-999.000, -999.00,9,   18.50,-999.0000,9,-999.0000,9,-999.0000,9,-999.0000,9,-999.0000,9,-999.0000,-999.000,-999.0000,9, -999.00
318M20040615,        P02,       3,          1,         13,         13,2,20040617,       0526,    32.4133,   133.2912,        957,    43.2,  22.7956,  34.5980,2,  34.5861,2, 216.7000,2,   215.5,2,    1.48,2,    0.05,2,    0.01,2,    0.06,2,   2.011,2,   1.239,2,   0.114,2,  1965.8,2,  2273.2,2,-999.000,9,-999.0000,9, -999.00,9,    1.17,2,    73.0,2,     4.4,-999.000,9,-999.000, -999.00,9,   43.20,-999.0000,9,-999.0000,9,-999.0000,9,-999.0000,9,-999.0000,9,-999.0000,-999.000,-999.0000,9, -999.00
318M20040615,        P02,       3,          1,         12,         12,2,20040617,       0526,    32.4133,   133.2912,        957,    88.1,  19.6550,  34.6932,2,  34.6928,2, 195.6000,2,   196.0,2,    4.76,2,    3.91,2,    0.09,2,    0.32,2,   2.238,2,   1.330,2,   0.089,2,  2018.6,2,  2281.0,2,-999.000,9,-999.0000,9, -999.00,9,    0.81,2,    71.4,2,     4.8,-999.000,9,-999.000, -999.00,9,   88.10,-999.0000,9,-999.0000,9,-999.0000,9,-999.0000,9,-999.0000,9,-999.0000,-999.000,-999.0000,9, -999.00
318M20040615,        P02,       3,          1,         11,         11,2,20040617,       0526,    32.4133,   133.2912,        957,   138.4,  17.7334,  34.6964,2,  34.6999,2, 189.8000,2,   190.0,2,    7.13,2,    6.36,2,    0.03,2,    0.48,2,   2.330,2,   1.363,2,   0.080,2,  2041.8,2,  2281.9,2,-999.000,9,-999.0000,9, -999.00,9,    0.70,2,    71.0,2,     4.6,-999.000,9,-999.000, -999.00,9,  138.40,-999.0000,9,-999.0000,9,-999.0000,9,-999.0000,9,-999.0000,9,-999.0000,-999.000,-999.0000,9, -999.00
318M20040615,        P02,       3,          1,         10,         10,2,20040617,       0526,    32.4133,   133.2912,        957,   188.7,  15.0159,  34.5907,2,  34.5877,2, 177.8000,2,   179.3,2,   13.34,2,   10.95,2,    0.01,2,    0.79,2,   2.422,2,   1.358,2,   0.044,2,  2079.2,2,  2279.8,2,-999.000,9,-999.0000,9, -999.00,9,    0.55,2,    60.7,2,     5.2,-999.000,9,-999.000, -999.00,9,  188.70,-999.0000,9,-999.0000,9,-999.0000,9,-999.0000,9,-999.0000,9,-999.0000,-999.000,-999.0000,9, -999.00
318M20040615,        P02,       3,          1,          9,          9,2,20040617,       0526,    32.4133,   133.2912,        957,   238.3,  12.7439,  34.4638,2,  34.4627,2, 162.9000,2,   164.9,2,   22.66,2,   15.80,2,    0.01,2,    1.14,2,   2.295,2,   1.258,2,   0.043,2,  2115.1,2,  2280.4,2,-999.000,9,-999.0000,9, -999.00,9,    0.44,2,    44.3,2,     4.5,-999.000,9,-999.000, -999.00,9,  238.30,-999.0000,9,-999.0000,9,-999.0000,9,-999.0000,9,-999.0000,9,-999.0000,-999.000,-999.0000,9, -999.00
318M20040615,        P02,       3,          1,          8,          8,2,20040617,       0526,    32.4133,   133.2912,        957,   283.8,  11.0176,  34.3859,2,  34.3863,2, 152.7000,2,   149.4,2,   33.28,2,   20.07,2,    0.01,2,    1.46,2,   2.053,2,   1.104,2,   0.036,2,  2148.9,2,  2286.2,2,-999.000,9,-999.0000,9, -999.00,9,    0.36,2,     5.9,2,     4.4,-999.000,9,-999.000, -999.00,9,  283.80,-999.0000,9,-999.0000,9,-999.0000,9,-999.0000,9,-999.0000,9,-999.0000,-999.000,-999.0000,9, -999.00
318M20040615,        P02,       3,          1,          7,          7,2,20040617,       0526,    32.4133,   133.2912,        957,   368.9,   9.1532,  34.3059,2,  34.3075,2, 131.5000,2,   133.5,2,   46.12,2,   24.73,2,    0.01,2,    1.79,2,   1.733,2,   0.911,2,   0.033,2,  2185.6,2,  2293.5,2,-999.000,9,-999.0000,9, -999.00,9,    0.22,2,   -36.1,2,     4.6,-999.000,9,-999.000, -999.00,9,  368.90,-999.0000,9,-999.0000,9,-999.0000,9,-999.0000,9,-999.0000,9,-999.0000,-999.000,-999.0000,9, -999.00
318M20040615,        P02,       3,          1,          6,          6,2,20040617,       0526,    32.4133,   133.2912,        957,   469.2,   7.2366,  34.2758,2,  34.2773,2, 109.1000,2,   108.2,2,   65.47,2,   30.22,2,    0.00,2,    2.20,2,   1.215,2,   0.629,2,   0.028,2,  2233.4,2,  2315.0,2,-999.000,9,-999.0000,9, -999.00,9,    0.09,2,   -82.4,2,     4.6,-999.000,9,-999.000, -999.00,9,  469.20,-999.0000,9,-999.0000,9,-999.0000,9,-999.0000,9,-999.0000,9,-999.0000,-999.000,-999.0000,9, -999.00
318M20040615,        P02,       3,          1,          5,          5,2,20040617,       0526,    32.4133,   133.2912,        957,   569.6,   5.5591,  34.2779,2,  34.2779,2,  85.0000,2,    83.7,2,   86.55,2,   35.30,2,    0.00,2,    2.59,2,   0.732,2,   0.374,2,   0.024,2,  2278.4,2,  2330.8,2,-999.000,9,-999.0000,9, -999.00,9,   -0.05,2,  -126.3,2,     4.1,-999.000,9,-999.000, -999.00,9,  569.60,-999.0000,9,-999.0000,9,-999.0000,9,-999.0000,9,-999.0000,9,-999.0000,-999.000,-999.0000,9, -999.00
318M20040615,        P02,       3,          1,          4,          4,2,20040617,       0526,    32.4133,   133.2912,        957,   670.2,   4.5973,  34.3174,2,  34.3234,2,  71.0000,2,    70.3,2,  102.70,2,   38.12,2,    0.01,2,    2.80,2,   0.436,2,   0.224,2,   0.018,2,  2308.6,2,  2352.1,2,-999.000,9,-999.0000,9, -999.00,9,   -0.16,2,  -160.4,2,     4.4,-999.000,9,-999.000, -999.00,9,  670.20,-999.0000,9,-999.0000,9,-999.0000,9,-999.0000,9,-999.0000,9,-999.0000,-999.000,-999.0000,9, -999.00
318M20040615,        P02,       3,          1,          3,          3,2,20040617,       0526,    32.4133,   133.2912,        957,   770.7,   3.9352,  34.3791,2,  34.3793,2,  65.9000,2,    66.2,2,  114.97,2,   39.41,2,    0.00,2,    2.90,2,   0.264,6,   0.137,6,   0.011,6,  2326.6,2,  2359.3,2,-999.000,9,-999.0000,9, -999.00,9,   -0.16,2,  -175.5,2,     3.8,-999.000,9,-999.000, -999.00,9,  770.70,-999.0000,9,-999.0000,9,-999.0000,9,-999.0000,9,-999.0000,9,-999.0000,-999.000,-999.0000,9, -999.00
318M20040615,        P02,       3,          1,          2,          2,2,20040617,       0526,    32.4133,   133.2912,        957,   865.7,   3.7088,  34.4011,2,  34.4023,2,  66.1000,2,    66.2,2,  120.56,2,   39.78,2,    0.00,2,    2.90,2,   0.207,2,   0.107,2,   0.009,2,  2332.7,2,  2363.7,2,-999.000,9,-999.0000,9, -999.00,9,   -0.25,2,  -184.8,2,     3.7,-999.000,9,-999.000, -999.00,9,  865.70,-999.0000,9,-999.0000,9,-999.0000,9,-999.0000,9,-999.0000,9,-999.0000,-999.000,-999.0000,9, -999.00
318M20040615,        P02,       3,          1,          1,          1,2,20040617,       0526,    32.4133,   133.2912,        957,   952.1,   3.5286,  34.4199,2,  34.4215,2,  66.5000,2,    66.8,2,  124.09,2,   39.93,2,    0.01,2,    2.93,2,   0.179,2,   0.105,2,   0.014,2,  2338.3,2,  2374.5,6,-999.000,9,-999.0000,9, -999.00,9,   -0.28,2,  -198.5,2,     3.7,-999.000,9,-999.000, -999.00,9,  952.10,-999.0000,9,-999.0000,9,-999.0000,9,-999.0000,9,-999.0000,9,-999.0000,-999.000,-999.0000,9, -999.00
318M20040615,        P02,       4,          1,         16,         16,2,20040617,       0817,    32.2455,   133.3762,       1154,    13.2,  24.4521,  34.5087,2,  34.5111,2, 214.6000,2,   213.7,2,    0.98,2,    0.13,2,    0.01,2,    0.06,2,   1.893,2,   1.166,2,   0.126,2,  1951.2,6,  2266.1,2,-999.000,9,-999.0000,9, -999.00,9, -999.00,9,  -999.0,9,  -999.0,-999.000,9,-999.000,   67.80,2,   13.20,-999.0000,9,-999.0000,9,-999.0000,9,-999.0000,9,-999.0000,9,-999.0000,-999.000,-999.0000,9, -999.00
318M20040615,        P02,       4,          1,         15,         15,2,20040617,       0817,    32.2455,   133.3762,       1154,    52.9,  22.7140,  34.6068,2,  34.6045,2, 216.9000,2,   217.6,2,    1.71,2,    0.13,2,    0.01,2,    0.08,2,   2.014,2,   1.225,2,   0.115,2,  1966.2,2,  2275.4,2,-999.000,9,-999.0000,9, -999.00,9, -999.00,9,  -999.0,9,  -999.0,-999.000,9,-999.000,   65.20,2,   52.90,-999.0000,9,-999.0000,9,-999.0000,9,-999.0000,9,-999.0000,9,-999.0000,-999.000,-999.0000,9, -999.00
318M20040615,        P02,       4,          1,         14,         14,2,20040617,       0817,    32.2455,   133.3762,       1154,   102.3,  19.0520,  34.6936,2,  34.7020,2, 199.4000,2,   197.4,2,    4.99,2,    4.09,2,    0.10,2,    0.35,2,   2.282,2,   1.328,2,   0.096,2,  2020.5,2,  2281.2,2,-999.000,9,-999.0000,9, -999.00,9, -999.00,9,  -999.0,9,  -999.0,-999.000,9,-999.000,   59.60,2,  102.30,-999.0000,9,-999.0000,9,-999.0000,9,-999.0000,9,-999.0000,9,-999.0000,-999.000,-999.0000,9, -999.00
318M20040615,        P02,       4,          1,         13,         13,2,20040617,       0817,    32.2455,   133.3762,       1154,   152.2,  16.1637,  34.6361,2,  34.6368,2, 184.7000,2,   184.9,2,   11.00,2,    8.94,2,    0.01,2,    0.67,2,   2.350,2,   1.322,2,   0.061,2,  2060.7,2,  2281.5,2,-999.000,9,-999.0000,9, -999.00,9, -999.00,9,  -999.0,9,  -999.0,-999.000,9,-999.000,   57.50,2,  152.20,-999.0000,9,-999.0000,9,-999.0000,9,-999.0000,9,-999.0000,9,-999.0000,-999.000,-999.0000,9, -999.00
318M20040615,        P02,       4,          1,         12,         12,2,20040617,       0817,    32.2455,   133.3762,       1154,   202.3,  14.2399,  34.5475,2,  34.5509,2, 170.3000,2,   172.1,2,   17.20,2,   12.86,2,    0.01,2,    0.98,2,   2.282,2,   1.277,2,   0.040,2,  2092.0,2,  2281.5,2,-999.000,9,-999.0000,9, -999.00,9, -999.00,9,  -999.0,9,  -999.0,-999.000,9,-999.000,   51.00,2,  202.30,-999.0000,9,-999.0000,9,-999.0000,9,-999.0000,9,-999.0000,9,-999.0000,-999.000,-999.0000,9, -999.00
318M20040615,        P02,       4,          1,         11,         11,2,20040617,       0817,    32.2455,   133.3762,       1154,   252.4,  12.0365,  34.4311,2,  34.4313,2, 158.5000,2,   158.9,2,   26.87,2,   17.42,2,    0.01,2,    1.29,2,   2.159,2,   1.161,2,   0.032,2,  2128.2,2,  2282.8,2,-999.000,9,-999.0000,9, -999.00,9, -999.00,9,  -999.0,9,  -999.0,-999.000,9,-999.000,   47.90,2,  252.40,-999.0000,9,-999.0000,9,-999.0000,9,-999.0000,9,-999.0000,9,-999.0000,-999.000,-999.0000,9, -999.00
318M20040615,        P02,       4,          1,         10,         10,2,20040617,       0817,    32.2455,   133.3762,       1154,   303.1,  10.1347,  34.3586,2,  34.3564,2, 139.4000,2,   138.7,2,   40.60,2,   22.62,2,    0.01,2,    1.67,2,   1.804,2,   0.968,2,   0.034,2,  2169.8,2,  2291.2,2,-999.000,9,-999.0000,9, -999.00,9, -999.00,9,  -999.0,9,  -999.0,-999.000,9,-999.000,   47.80,2,  303.10,-999.0000,9,-999.0000,9,-999.0000,9,-999.0000,9,-999.0000,9,-999.0000,-999.000,-999.0000,9, -999.00
318M20040615,        P02,       4,          1,          9,          9,2,20040617,       0817,    32.2455,   133.3762,       1154,   403.6,   7.8465,  34.3098,2,  34.3108,2, 112.8000,2,   112.6,2,   60.99,2,   28.71,2,    0.01,2,    2.14,2,   1.274,2,   0.678,2,   0.029,2,  2223.2,2,  2301.1,2,-999.000,9,-999.0000,9, -999.00,9, -999.00,9,  -999.0,9,  -999.0,-999.000,9,-999.000,   46.00,2,  403.60,-999.0000,9,-999.0000,9,-999.0000,9,-999.0000,9,-999.0000,9,-999.0000,-999.000,-999.0000,9, -999.00
318M20040615,        P02,       4,          1,          8,          8,2,20040617,       0817,    32.2455,   133.3762,       1154,   503.9,   5.9820,  34.2504,2,  34.2508,2,  93.2000,2,    91.9,2,   79.08,2,   33.88,2,    0.00,2,    2.51,2,   0.912,2,   0.465,2,   0.024,2,  2265.2,2,  2319.9,2,-999.000,9,-999.0000,9, -999.00,9, -999.00,9,  -999.0,9,  -999.0,-999.000,9,-999.000,   42.50,2,  503.90,-999.0000,9,-999.0000,9,-999.0000,9,-999.0000,9,-999.0000,9,-999.0000,-999.000,-999.0000,9, -999.00
318M20040615,        P02,       4,          1,          7,          7,2,20040617,       0817,    32.2455,   133.3762,       1154,   604.3,   4.6518,  34.3125,2,  34.3119,2,  72.6000,2,    71.8,2,   99.62,2,   37.72,2,    0.00,2,    2.78,2,   0.479,2,   0.242,2,   0.018,2,  2304.7,2,  2342.3,2,-999.000,9,-999.0000,9, -999.00,9, -999.00,9,  -999.0,9,  -999.0,-999.000,9,-999.000,   40.50,2,  604.30,-999.0000,9,-999.0000,9,-999.0000,9,-999.0000,9,-999.0000,9,-999.0000,-999.000,-999.0000,9, -999.00
318M20040615,        P02,       4,          1,          6,          6,2,20040617,       0817,    32.2455,   133.3762,       1154,   703.7,   4.0657,  34.3709,2,  34.3722,2,  67.3000,2,    67.6,2,  113.19,2,   39.00,2,    0.00,2,    2.88,2,   0.296,2,   0.149,2,   0.013,2,  2322.7,2,  2359.3,2,-999.000,9,-999.0000,9, -999.00,9, -999.00,9,  -999.0,9,  -999.0,-999.000,9,-999.000,   40.20,2,  703.70,-999.0000,9,-999.0000,9,-999.0000,9,-999.0000,9,-999.0000,9,-999.0000,-999.000,-999.0000,9, -999.00
318M20040615,        P02,       4,          1,          5,          5,2,20040617,       0817,    32.2455,   133.3762,       1154,   805.4,   3.7876,  34.3947,2,  34.3978,2,  66.6000,2,    66.4,2,  118.95,2,   39.48,2,    0.00,2,    2.89,2,   0.229,2,   0.114,2,   0.012,2,  2331.2,2,  2365.0,2,-999.000,9,-999.0000,9, -999.00,9, -999.00,9,  -999.0,9,  -999.0,-999.000,9,-999.000,   40.80,2,  805.40,-999.0000,9,-999.0000,9,-999.0000,9,-999.0000,9,-999.0000,9,-999.0000,-999.000,-999.0000,9, -999.00
318M20040615,        P02,       4,          1,          4,          4,2,20040617,       0817,    32.2455,   133.3762,       1154,   899.6,   3.5433,  34.4182,2,  34.4214,2,  66.2000,2,    66.6,2,  123.21,2,   39.73,2,    0.01,2,    2.91,2,   0.172,2,   0.087,2,   0.014,2,  2337.5,2,  2370.7,2,-999.000,9,-999.0000,9, -999.00,9, -999.00,9,  -999.0,9,  -999.0,-999.000,9,-999.000,   40.40,2,  899.60,-999.0000,9,-999.0000,9,-999.0000,9,-999.0000,9,-999.0000,9,-999.0000,-999.000,-999.0000,9, -999.00
318M20040615,        P02,       4,          1,          3,          3,2,20040617,       0817,    32.2455,   133.3762,       1154,   998.5,   3.3534,  34.4378,2,  34.4403,2,  66.9000,2,    67.5,2,  126.56,2,   40.06,2,    0.00,2,    2.91,2,   0.137,2,   0.074,2,   0.009,2,  2340.3,2,  2373.2,2,-999.000,9,-999.0000,9, -999.00,9, -999.00,9,  -999.0,9,  -999.0,-999.000,9,-999.000,   40.70,2,  998.50,-999.0000,9,-999.0000,9,-999.0000,9,-999.0000,9,-999.0000,9,-999.0000,-999.000,-999.0000,9, -999.00
318M20040615,        P02,       4,          1,          2,          2,2,20040617,       0817,    32.2455,   133.3762,       1154,  1103.8,   3.2611,  34.4483,2,  34.4535,2,  68.0000,2,    68.3,2,  128.98,2,   40.05,2,    0.00,2,    2.91,2,   0.119,2,   0.064,2,   0.011,2,  2342.8,2,  2379.7,2,-999.000,9,-999.0000,9, -999.00,9, -999.00,9,  -999.0,9,  -999.0,-999.000,9,-999.000,   41.00,2, 1103.80,-999.0000,9,-999.0000,9,-999.0000,9,-999.0000,9,-999.0000,9,-999.0000,-999.000,-999.0000,9, -999.00
318M20040615,        P02,       4,          1,          1,          1,2,20040617,       0817,    32.2455,   133.3762,       1154,  1173.4,   3.1969,  34.4557,2,-999.0000,9,  68.7000,5,    69.1,2,  130.09,2,   40.11,2,    0.00,2,    2.92,2,   0.112,2,   0.064,2,   0.007,2,  2343.5,2,  2377.8,2,-999.000,9,-999.0000,9, -999.00,9, -999.00,9,  -999.0,9,  -999.0,-999.000,9,-999.000,   41.20,2, 1173.40,-999.0000,9,-999.0000,9,-999.0000,9,-999.0000,9,-999.0000,9,-999.0000,-999.000,-999.0000,9, -999.00