BOTTLE,20131027SIOCCHRJL
EXPOCODE,SECT_ID,STNNBR,CASTNO,SAMPNO,BTLNBR,BTLNBR_FLAG_W,DATE,TIME,LATITUDE,LONGITUDE,DEPTH,CTDPRS,CTDTMP,CTDSAL,CTDSAL_FLAG_W,SALNTY,SALNTY_FLAG_W,CTDOXY,CTDOXY_FLAG_W,OXYGEN,OXYGEN_FLAG_W,SILCAT,SILCAT_FLAG_W,NITRAT,NITRAT_FLAG_W,NITRIT,NITRIT_FLAG_W,PHSPHT,PHSPHT_FLAG_W,CFC-11,CFC-11_FLAG_W,CFC-12,CFC-12_FLAG_W,CFC113,CFC113_FLAG_W,TCARBN,TCARBN_FLAG_W,ALKALI,ALKALI_FLAG_W,TRITUM,TRITUM_FLAG_W,HELIUM,HELIUM_FLAG_W,DELHE3,DELHE3_FLAG_W,DELC13,DELC13_FLAG_W,DELC14,DELC14_FLAG_W,C14ERR,NEON,NEON_FLAG_W,NEONER,DOC,DOC_FLAG_W,CTDRAW,CDOM380,CDOM380_FLAG_W,CDOM325,CDOM325_FLAG_W,CDOMSL,CDOMSL_FLAG_W,CDOM340,CDOM340_FLAG_W,CDOMSN,CDOMSN_FLAG_W,HELIER,TRITER,CDOM412,CDOM412_FLAG_W,DELHER
,,,,,,,,,,,METERS,DBAR,ITS-90,PSS-78,,PSS-78,,UMOL/KG,,UMOL/KG,,UMOL/KG,,UMOL/KG,,UMOL/KG,,UMOL/KG,,PMOL/KG,,PMOL/KG,,PMOL/KG,,UMOL/KG,,UMOL/KG,,TU,,NMOL/KG,,PERCNT,,/MILLE,,/MILLE,,/MILLE,NMOL/KG,,NMOL/KG,UMOL/KG,,DBAR,1/M,,1/M,,1/NM,,1/M,,1/NM,,NMOL/KG,TU,1/M,,PERCNT
318M20040615,        P02,     107,          1,         36,         36,2,20040722,       1942,     30.002,  -165.7818,       5491,     9.2,  25.4931,  35.2636,2,  35.2627,2, 209.8000,2,   209.6,2,    0.94,2,    0.03,2,    0.00,2,    0.03,2,   1.767,2,   1.115,2,   0.128,2,  1997.7,6,  2316.3,6,   0.827,2,   1.7469,2,   -0.43,2, -999.00,9,  -999.0,9,  -999.0,-999.000,9,-999.000, -999.00,9,    9.20,-999.0000,9,-999.0000,9,-999.0000,9,-999.0000,9,-999.0000,9,   0.0087,   0.003,-999.0000,9,    0.20
318M20040615,        P02,     107,          1,         35,         35,2,20040722,       1942,     30.002,  -165.7818,       5491,    36.2,  22.4720,  35.2079,2,  35.2058,2, 231.3000,2,   231.0,2,    1.12,2,    0.08,2,    0.00,2,    0.03,2,   2.068,2,   1.284,2,   0.151,2,  2001.3,2,  2312.4,2,   0.751,2,   1.7516,2,   -0.79,2, -999.00,9,  -999.0,9,  -999.0,-999.000,9,-999.000, -999.00,9,   36.20,-999.0000,9,-999.0000,9,-999.0000,9,-999.0000,9,-999.0000,9,   0.0088,   0.009,-999.0000,9,    0.20
318M20040615,        P02,     107,          1,         34,         34,2,20040722,       1942,     30.002,  -165.7818,       5491,    70.9,  19.2902,  35.0323,2,  35.0268,2, 241.4000,2,   241.2,2,    2.10,2,    0.08,2,    0.00,2,    0.06,2,   2.334,2,   1.423,2,   0.162,2,  2013.3,2,  2301.6,2,-999.000,9,   1.7989,2,   -1.64,2, -999.00,9,  -999.0,9,  -999.0,-999.000,9,-999.000, -999.00,9,   70.90,-999.0000,9,-999.0000,9,-999.0000,9,-999.0000,9,-999.0000,9,   0.0090,-999.000,-999.0000,9,    0.20
318M20040615,        P02,     107,          1,         33,         33,2,20040722,       1942,     30.002,  -165.7818,       5491,   125.5,  16.6315,  34.7559,2,  34.7642,2, 232.2000,2,   225.1,2,    3.48,2,    2.22,2,    0.04,2,    0.23,2,   2.538,2,   1.517,2,   0.141,2,  2032.0,2,  2284.4,2,   0.805,2,   1.8363,2,   -0.30,2, -999.00,9,  -999.0,9,  -999.0,-999.000,9,-999.000, -999.00,9,  125.50,-999.0000,9,-999.0000,9,-999.0000,9,-999.0000,9,-999.0000,9,   0.0092,   0.008,-999.0000,9,    0.20
318M20040615,        P02,     107,          1,         32,         32,2,20040722,       1942,     30.002,  -165.7818,       5491,   175.2,  15.4460,  34.6031,2,  34.6014,2, 217.9000,2,   218.3,2,    4.86,2,    4.78,2,    0.02,2,    0.38,2,   2.705,2,   1.592,2,   0.115,2,  2043.9,2,  2274.4,6,   0.823,2,   1.8289,2,   -0.53,2, -999.00,9,  -999.0,9,  -999.0,-999.000,9,-999.000, -999.00,9,  175.20,-999.0000,9,-999.0000,9,-999.0000,9,-999.0000,9,-999.0000,9,   0.0091,   0.009,-999.0000,9,    0.20
318M20040615,        P02,     107,          1,         31,         31,2,20040722,       1942,     30.002,  -165.7818,       5491,   225.3,  14.2942,  34.4786,2,  34.4706,2, 214.5000,2,   214.9,2,    7.06,2,    7.26,2,    0.01,2,    0.55,2,   2.780,2,   1.632,2,   0.075,2,  2055.5,2,  2268.4,2,   0.824,2,   1.7907,2,    0.66,2, -999.00,9,  -999.0,9,  -999.0,-999.000,9,-999.000, -999.00,9,  225.30,-999.0000,9,-999.0000,9,-999.0000,9,-999.0000,9,-999.0000,9,   0.0090,   0.010,-999.0000,9,    0.20
318M20040615,        P02,     107,          1,         30,         30,2,20040722,       1942,     30.002,  -165.7818,       5491,   275.2,  13.0542,  34.3801,2,  34.3778,2, 215.4000,2,   217.5,2,    9.45,2,    9.38,2,    0.01,2,    0.69,2,   2.884,2,   1.628,2,   0.081,2,  2066.5,2,  2266.0,2,   0.843,2,   1.8392,2,    0.99,2, -999.00,9,  -999.0,9,  -999.0,-999.000,9,-999.000, -999.00,9,  275.20,-999.0000,9,-999.0000,9,-999.0000,9,-999.0000,9,-999.0000,9,   0.0092,   0.010,-999.0000,9,    0.20
318M20040615,        P02,     107,          1,         29,         29,2,20040722,       1942,     30.002,  -165.7818,       5491,   325.2,  12.2954,  34.3390,2,  34.3358,2, 216.5000,2,   218.6,2,   11.66,2,   10.85,2,    0.01,2,    0.78,2,   3.029,2,   1.700,2,   0.086,2,  2074.7,2,  2265.7,2,   0.826,2,   1.7654,2,    1.45,2, -999.00,9,  -999.0,9,  -999.0,-999.000,9,-999.000, -999.00,9,  325.20,-999.0000,9,-999.0000,9,-999.0000,9,-999.0000,9,-999.0000,9,   0.0088,   0.009,-999.0000,9,    0.20
318M20040615,        P02,     107,          1,         28,         28,2,20040722,       1942,     30.002,  -165.7818,       5491,   374.5,  11.0838,  34.2426,2,  34.2417,2, 209.9000,2,   211.4,2,   15.49,2,   13.63,2,    0.01,2,    0.98,2,   3.115,2,   1.718,2,   0.084,2,  2093.4,2,  2264.3,6,   0.837,2,   1.8288,2,    3.56,2, -999.00,9,  -999.0,9,  -999.0,-999.000,9,-999.000, -999.00,9,  374.50,-999.0000,9,-999.0000,9,-999.0000,9,-999.0000,9,-999.0000,9,   0.0091,   0.009,-999.0000,9,    0.20
318M20040615,        P02,     107,          1,         27,         27,2,20040722,       1942,     30.002,  -165.7818,       5491,   424.3,  10.2552,  34.1927,2,  34.1893,2, 205.1000,2,   202.9,2,   19.54,2,   16.01,2,    0.01,2,    1.15,2,   3.057,2,   1.645,2,   0.088,2,  2108.8,2,  2266.0,2,   0.833,2,   1.8209,2,    4.86,2, -999.00,9,  -999.0,9,  -999.0,-999.000,9,-999.000, -999.00,9,  424.30,-999.0000,9,-999.0000,9,-999.0000,9,-999.0000,9,-999.0000,9,   0.0091,   0.009,-999.0000,9,    0.20
318M20040615,        P02,     107,          1,         26,         26,2,20040722,       1942,     30.002,  -165.7818,       5491,   474.6,   9.4244,  34.1440,2,  34.1430,2, 193.2000,2,   193.4,2,   24.42,2,   18.56,2,    0.01,2,    1.32,2,   2.960,2,   1.570,2,   0.098,2,  2127.1,2,  2267.7,2,   0.812,2,   1.8236,2,    5.48,2, -999.00,9,  -999.0,9,  -999.0,-999.000,9,-999.000, -999.00,9,  474.60,-999.0000,9,-999.0000,9,-999.0000,9,-999.0000,9,-999.0000,9,   0.0091,   0.009,-999.0000,9,    0.20
318M20040615,        P02,     107,          1,         25,         25,2,20040722,       1942,     30.002,  -165.7818,       5491,   544.8,   7.6847,  34.0607,2,  34.0603,2, 161.6000,2,   155.6,2,   39.66,2,   25.43,2,    0.01,2,    1.81,2,   2.365,2,   1.218,2,   0.081,2,  2176.7,2,  2274.6,2,   0.809,2,   1.8893,2,   10.39,2, -999.00,9,  -999.0,9,  -999.0,-999.000,9,-999.000, -999.00,9,  544.80,-999.0000,9,-999.0000,9,-999.0000,9,-999.0000,9,-999.0000,9,   0.0094,   0.010,-999.0000,9,    0.20
318M20040615,        P02,     107,          1,         24,         24,2,20040722,       1942,     30.002,  -165.7818,       5491,   644.3,   6.1793,  34.0373,2,  34.0372,2, 112.6000,2,   110.2,2,   59.44,2,   32.45,2,    0.01,2,    2.32,2,   1.529,2,   0.762,2,   0.042,2,  2230.8,2,  2289.8,6,   0.647,2,   1.8777,2,   15.70,2, -999.00,9,  -999.0,9,  -999.0,-999.000,9,-999.000, -999.00,9,  644.30,-999.0000,9,-999.0000,9,-999.0000,9,-999.0000,9,-999.0000,9,   0.0094,   0.007,-999.0000,9,    0.20
318M20040615,        P02,     107,          1,         23,         23,2,20040722,       1942,     30.002,  -165.7818,       5491,   744.6,   5.0114,  34.1004,2,  34.1019,2,  67.2000,2,    60.8,2,   83.01,2,   39.02,2,    0.01,2,    2.79,2,   0.612,2,   0.305,2,   0.014,2,  2289.6,2,  2311.9,2,   0.370,2,   1.8812,2,   17.08,2, -999.00,9,  -999.0,9,  -999.0,-999.000,9,-999.000, -999.00,9,  744.60,-999.0000,9,-999.0000,9,-999.0000,9,-999.0000,9,-999.0000,9,   0.0094,   0.006,-999.0000,9,    0.20
318M20040615,        P02,     107,          1,         22,         22,2,20040722,       1942,     30.002,  -165.7818,       5491,   844.7,   4.4021,  34.2087,2,  34.2089,2,  35.2000,2,    31.5,2,  100.15,2,   42.37,2,    0.01,2,    3.04,2,   0.180,2,   0.092,2,   0.001,2,  -999.0,9,  2334.4,2,   0.163,2,   1.8967,2,   15.62,2, -999.00,9,  -999.0,9,  -999.0,-999.000,9,-999.000, -999.00,9,  844.70,-999.0000,9,-999.0000,9,-999.0000,9,-999.0000,9,-999.0000,9,   0.0095,   0.003,-999.0000,9,    0.20
318M20040615,        P02,     107,          1,         21,         21,2,20040722,       1942,     30.002,  -165.7818,       5491,   944.5,   4.0957,  34.2907,2,  34.2901,2,  25.2000,2,    24.6,2,  110.31,2,   43.32,2,    0.01,2,    3.12,2,   0.071,6,   0.037,6,   0.001,6,  2345.4,2,  2348.7,2,   0.072,2,   1.9069,2,   15.05,2, -999.00,9,  -999.0,9,  -999.0,-999.000,9,-999.000, -999.00,9,  944.50,-999.0000,9,-999.0000,9,-999.0000,9,-999.0000,9,-999.0000,9,   0.0095,   0.002,-999.0000,9,    0.20
318M20040615,        P02,     107,          1,         20,         20,2,20040722,       1942,     30.002,  -165.7818,       5491,  1055.3,   3.7418,  34.3785,2,  34.3784,2,  25.1000,2,    25.3,2,  120.70,2,   43.64,2,    0.01,2,    3.14,2,   0.022,2,   0.012,2,   0.001,2,  2356.7,2,  2363.7,6,   0.032,2,   1.9134,2,   16.82,2, -999.00,9,  -999.0,9,  -999.0,-999.000,9,-999.000, -999.00,9, 1055.30,-999.0000,9,-999.0000,9,-999.0000,9,-999.0000,9,-999.0000,9,   0.0096,   0.001,-999.0000,9,    0.20
318M20040615,        P02,     107,          1,         19,         19,2,20040722,       1942,     30.002,  -165.7818,       5491,  1155.2,   3.5115,  34.4333,2,  34.4335,2,  32.0000,2,    32.3,2,  125.35,2,   43.31,2,    0.01,2,    3.12,2,   0.015,2,   0.005,2,   0.001,2,  2360.5,2,  2373.1,2,   0.015,2,   1.9267,2,   18.30,2, -999.00,9,  -999.0,9,  -999.0,-999.000,9,-999.000, -999.00,9, 1155.20,-999.0000,9,-999.0000,9,-999.0000,9,-999.0000,9,-999.0000,9,   0.0096,   0.001,-999.0000,9,    0.20
318M20040615,        P02,     107,          1,         18,         18,2,20040722,       1942,     30.002,  -165.7818,       5491,  1255.0,   3.2815,  34.4767,2,  34.4765,2,  40.5000,2,    41.3,2,  130.42,2,   42.87,2,    0.01,2,    3.08,2,   0.010,2,   0.007,2,   0.001,2,  -999.0,9,  2383.5,6,   0.010,2,   1.9363,2,   18.96,2, -999.00,9,  -999.0,9,  -999.0,-999.000,9,-999.000, -999.00,9, 1255.00,-999.0000,9,-999.0000,9,-999.0000,9,-999.0000,9,-999.0000,9,   0.0097,   0.001,-999.0000,9,    0.20
318M20040615,        P02,     107,          1,         17,         17,2,20040722,       1942,     30.002,  -165.7818,       5491,  1355.9,   3.1123,  34.5008,2,  34.4999,2,  46.5000,2,    47.1,2,  134.02,2,   42.54,2,    0.01,2,    3.05,2,   0.009,2,   0.004,2,   0.001,2,  -999.0,9,  2387.4,6,-999.000,9,   1.9265,2,   19.83,2, -999.00,9,  -999.0,9,  -999.0,-999.000,9,-999.000, -999.00,9, 1355.90,-999.0000,9,-999.0000,9,-999.0000,9,-999.0000,9,-999.0000,9,   0.0096,-999.000,-999.0000,9,    0.20
318M20040615,        P02,     107,          1,         16,         16,2,20040722,       1942,     30.002,  -165.7818,       5491,  1456.5,   2.8334,  34.5254,2,  34.5247,2,  45.6000,2,    51.7,2,  141.01,2,   42.31,2,    0.01,2,    3.03,2,   0.006,2,   0.003,2,   0.001,2,  -999.0,9,  2394.2,6,   0.007,2,   1.9347,2,   19.68,2, -999.00,9,  -999.0,9,  -999.0,-999.000,9,-999.000, -999.00,9, 1456.50,-999.0000,9,-999.0000,9,-999.0000,9,-999.0000,9,-999.0000,9,   0.0097,   0.001,-999.0000,9,    0.20
318M20040615,        P02,     107,          1,         15,         15,2,20040722,       1942,     30.002,  -165.7818,       5491,  1556.5,   2.6139,  34.5406,2,  34.5398,2,  52.7000,2,    53.1,2,  147.57,2,   42.37,2,    0.01,2,    3.03,2,   0.009,2,   0.001,2,   0.001,2,  -999.0,9,  2400.6,2,   0.010,2,-999.0000,9, -999.00,9, -999.00,9,  -999.0,9,  -999.0,-999.000,9,-999.000, -999.00,9, 1556.50,-999.0000,9,-999.0000,9,-999.0000,9,-999.0000,9,-999.0000,9,-999.0000,   0.001,-999.0000,9, -999.00
318M20040615,        P02,     107,          1,         14,         14,2,20040722,       1942,     30.002,  -165.7818,       5491,  1662.4,   2.4514,  34.5599,2,  34.5584,2,  60.0000,2,    59.7,2,  150.52,2,   42.10,2,    0.00,2,    2.99,2,   0.007,2,   0.005,2,   0.001,2,  -999.0,9,  2403.4,2,   0.004,2,   1.9324,2,   20.21,2, -999.00,9,  -999.0,9,  -999.0,-999.000,9,-999.000, -999.00,9, 1662.40,-999.0000,9,-999.0000,9,-999.0000,9,-999.0000,9,-999.0000,9,   0.0097,   0.000,-999.0000,9,    0.20
318M20040615,        P02,     107,          1,         13,         13,2,20040722,       1942,     30.002,  -165.7818,       5491,  1763.0,   2.3286,  34.5722,2,  34.5720,2,  63.2000,2,    63.0,2,  154.09,2,   42.20,2,    0.00,2,    2.97,2,   0.002,2,   0.001,2,   0.001,2,  -999.0,9,  2407.7,2,   0.005,2,   1.9395,2,   20.37,2, -999.00,9,  -999.0,9,  -999.0,-999.000,9,-999.000, -999.00,9, 1763.00,-999.0000,9,-999.0000,9,-999.0000,9,-999.0000,9,-999.0000,9,   0.0097,   0.000,-999.0000,9,    0.20
318M20040615,        P02,     107,          1,         12,         12,2,20040722,       1942,     30.002,  -165.7818,       5491,  1963.9,   2.0474,  34.6018,2,  34.6009,2,  73.6000,2,    75.0,2,  160.42,2,   41.60,2,    0.00,2,    2.92,2,   0.003,2,   0.002,2,   0.001,2,  -999.0,9,  2414.6,6,-999.000,9,-999.0000,9, -999.00,9, -999.00,9,  -999.0,9,  -999.0,-999.000,9,-999.000, -999.00,9, 1963.90,-999.0000,9,-999.0000,9,-999.0000,9,-999.0000,9,-999.0000,9,-999.0000,-999.000,-999.0000,9, -999.00
318M20040615,        P02,     107,          1,         11,         11,2,20040722,       1942,     30.002,  -165.7818,       5491,  2130.1,   1.9173,  34.6168,2,  34.6162,2,  82.7000,2,    83.1,2,  163.13,2,   41.05,2,    0.00,2,    2.88,2,   0.002,2,  -0.001,2,   0.001,2,  -999.0,9,  2418.2,2,-999.000,9,-999.0000,9, -999.00,9, -999.00,9,  -999.0,9,  -999.0,-999.000,9,-999.000, -999.00,9, 2130.10,-999.0000,9,-999.0000,9,-999.0000,9,-999.0000,9,-999.0000,9,-999.0000,-999.000,-999.0000,9, -999.00
318M20040615,        P02,     107,          1,         10,         10,2,20040722,       1942,     30.002,  -165.7818,       5491,  2381.8,   1.7619,  34.6354,2,  34.6337,2,  94.9000,2,    95.9,2,  164.59,2,   40.11,2,    0.00,2,    2.81,2,   0.001,2,  -0.001,2,   0.001,2,  -999.0,9,  2421.0,2,-999.000,9,-999.0000,9, -999.00,9, -999.00,9,  -999.0,9,  -999.0,-999.000,9,-999.000, -999.00,9, 2381.80,-999.0000,9,-999.0000,9,-999.0000,9,-999.0000,9,-999.0000,9,-999.0000,-999.000,-999.0000,9, -999.00
318M20040615,        P02,     107,          1,          9,          9,2,20040722,       1942,     30.002,  -165.7818,       5491,  2634.0,   1.6548,  34.6495,2,  34.6490,2, 107.0000,2,   107.5,2,  164.57,2,   39.29,2,    0.00,2,    2.76,2,   0.002,2,   0.000,2,   0.001,2,  -999.0,9,  2422.3,2,-999.000,9,-999.0000,9, -999.00,9, -999.00,9,  -999.0,9,  -999.0,-999.000,9,-999.000, -999.00,9, 2634.00,-999.0000,9,-999.0000,9,-999.0000,9,-999.0000,9,-999.0000,9,-999.0000,-999.000,-999.0000,9, -999.00
318M20040615,        P02,     107,          1,          8,          8,2,20040722,       1942,     30.002,  -165.7818,       5491,  2897.4,   1.5893,  34.6589,2,  34.6586,2, 117.1000,2,   117.1,2,  162.85,2,   38.58,2,    0.00,2,    2.71,2,   0.001,2,   0.000,2,   0.001,2,  -999.0,9,  2422.9,6,-999.000,9,-999.0000,9, -999.00,9, -999.00,9,  -999.0,9,  -999.0,-999.000,9,-999.000, -999.00,9, 2897.40,-999.0000,9,-999.0000,9,-999.0000,9,-999.0000,9,-999.0000,9,-999.0000,-999.000,-999.0000,9, -999.00
318M20040615,        P02,     107,          1,          7,          7,2,20040722,       1942,     30.002,  -165.7818,       5491,  3150.3,   1.5231,  34.6684,2,  34.6675,2, 127.3000,2,   127.5,2,  161.38,2,   37.82,2,    0.00,2,    2.65,2,   0.003,2,   0.001,2,   0.001,2,  -999.0,9,  2423.8,2,-999.000,9,-999.0000,9, -999.00,9, -999.00,9,  -999.0,9,  -999.0,-999.000,9,-999.000, -999.00,9, 3150.30,-999.0000,9,-999.0000,9,-999.0000,9,-999.0000,9,-999.0000,9,-999.0000,-999.000,-999.0000,9, -999.00
318M20040615,        P02,     107,          1,          6,          6,2,20040722,       1942,     30.002,  -165.7818,       5491,  3560.8,   1.4851,  34.6768,2,  34.6751,2, 137.5000,2,   138.0,2,  157.78,2,   37.12,2,    0.00,2,    2.59,2,   0.006,2,   0.003,2,   0.001,2,  -999.0,9,  2423.1,2,-999.000,9,-999.0000,9, -999.00,9, -999.00,9,  -999.0,9,  -999.0,-999.000,9,-999.000, -999.00,9, 3560.80,-999.0000,9,-999.0000,9,-999.0000,9,-999.0000,9,-999.0000,9,-999.0000,-999.000,-999.0000,9, -999.00
318M20040615,        P02,     107,          1,          5,          5,2,20040722,       1942,     30.002,  -165.7818,       5491,  3966.8,   1.4647,  34.6834,2,  34.6822,2, 146.3000,2,   146.8,2,  155.01,2,   36.47,2,    0.00,2,    2.54,2,   0.004,2,   0.002,2,   0.001,2,  -999.0,9,  2423.1,2,-999.000,9,-999.0000,9, -999.00,9, -999.00,9,  -999.0,9,  -999.0,-999.000,9,-999.000, -999.00,9, 3966.80,-999.0000,9,-999.0000,9,-999.0000,9,-999.0000,9,-999.0000,9,-999.0000,-999.000,-999.0000,9, -999.00
318M20040615,        P02,     107,          1,          4,          4,2,20040722,       1942,     30.002,  -165.7818,       5491,  4378.7,   1.4785,  34.6868,2,  34.6857,2, 150.9000,2,   151.6,2,  154.78,2,   36.31,2,    0.00,2,    2.52,2,   0.006,2,   0.004,2,   0.001,2,  -999.0,9,  2421.1,6,-999.000,9,-999.0000,9, -999.00,9, -999.00,9,  -999.0,9,  -999.0,-999.000,9,-999.000, -999.00,9, 4378.70,-999.0000,9,-999.0000,9,-999.0000,9,-999.0000,9,-999.0000,9,-999.0000,-999.000,-999.0000,9, -999.00
318M20040615,        P02,     107,          1,          3,          3,2,20040722,       1942,     30.002,  -165.7818,       5491,  4785.4,   1.5095,  34.6887,2,  34.6881,2, 153.8000,2,   154.3,2,  152.85,2,   36.26,2,    0.00,2,    2.50,2,   0.006,2,   0.003,2,   0.001,2,  -999.0,9,  2421.2,6,-999.000,9,-999.0000,9, -999.00,9, -999.00,9,  -999.0,9,  -999.0,-999.000,9,-999.000, -999.00,9, 4785.40,-999.0000,9,-999.0000,9,-999.0000,9,-999.0000,9,-999.0000,9,-999.0000,-999.000,-999.0000,9, -999.00
318M20040615,        P02,     107,          1,          2,          2,2,20040722,       1942,     30.002,  -165.7818,       5491,  5306.0,   1.5428,  34.6911,2,  34.6901,2, 160.1000,2,   160.3,2,  146.69,2,   35.83,2,    0.00,2,    2.48,2,-999.000,9,-999.000,9,-999.000,9,  -999.0,9,  2415.6,2,-999.000,9,-999.0000,9, -999.00,9, -999.00,9,  -999.0,9,  -999.0,-999.000,9,-999.000, -999.00,9, 5306.00,-999.0000,9,-999.0000,9,-999.0000,9,-999.0000,9,-999.0000,9,-999.0000,-999.000,-999.0000,9, -999.00
318M20040615,        P02,     107,          1,          1,          1,2,20040722,       1942,     30.002,  -165.7818,       5491,  5617.6,   1.5627,  34.6925,2,  34.6928,2, 164.5000,2,   165.1,2,  142.86,2,   35.45,2,    0.00,2,    2.45,2,   0.008,2,   0.005,2,   0.001,2,  -999.0,9,  2411.1,6,-999.000,9,-999.0000,9, -999.00,9, -999.00,9,  -999.0,9,  -999.0,-999.000,9,-999.000, -999.00,9, 5617.60,-999.0000,9,-999.0000,9,-999.0000,9,-999.0000,9,-999.0000,9,-999.0000,-999.000,-999.0000,9, -999.00