BOTTLE,20131027SIOCCHRJL
EXPOCODE,SECT_ID,STNNBR,CASTNO,SAMPNO,BTLNBR,BTLNBR_FLAG_W,DATE,TIME,LATITUDE,LONGITUDE,DEPTH,CTDPRS,CTDTMP,CTDSAL,CTDSAL_FLAG_W,SALNTY,SALNTY_FLAG_W,CTDOXY,CTDOXY_FLAG_W,OXYGEN,OXYGEN_FLAG_W,SILCAT,SILCAT_FLAG_W,NITRAT,NITRAT_FLAG_W,NITRIT,NITRIT_FLAG_W,PHSPHT,PHSPHT_FLAG_W,CFC-11,CFC-11_FLAG_W,CFC-12,CFC-12_FLAG_W,CFC113,CFC113_FLAG_W,TCARBN,TCARBN_FLAG_W,ALKALI,ALKALI_FLAG_W,TRITUM,TRITUM_FLAG_W,HELIUM,HELIUM_FLAG_W,DELHE3,DELHE3_FLAG_W,DELC13,DELC13_FLAG_W,DELC14,DELC14_FLAG_W,C14ERR,NEON,NEON_FLAG_W,NEONER,DOC,DOC_FLAG_W,CTDRAW,CDOM380,CDOM380_FLAG_W,CDOM325,CDOM325_FLAG_W,CDOMSL,CDOMSL_FLAG_W,CDOM340,CDOM340_FLAG_W,CDOMSN,CDOMSN_FLAG_W,HELIER,TRITER,CDOM412,CDOM412_FLAG_W,DELHER
,,,,,,,,,,,METERS,DBAR,ITS-90,PSS-78,,PSS-78,,UMOL/KG,,UMOL/KG,,UMOL/KG,,UMOL/KG,,UMOL/KG,,UMOL/KG,,PMOL/KG,,PMOL/KG,,PMOL/KG,,UMOL/KG,,UMOL/KG,,TU,,NMOL/KG,,PERCNT,,/MILLE,,/MILLE,,/MILLE,NMOL/KG,,NMOL/KG,UMOL/KG,,DBAR,1/M,,1/M,,1/NM,,1/M,,1/NM,,NMOL/KG,TU,1/M,,PERCNT
318M20040615,        P02,      13,          1,         31,         31,2,20040619,       1437,    30.6258,   134.3385,       4483,    12.8,  25.3440,  34.5424,2,  34.5417,2, 209.2000,2,   208.5,2,    1.19,2,    0.08,2,    0.00,2,    0.03,2,   1.839,2,   1.153,2,   0.119,2,  1946.1,6,  2269.5,6,-999.000,9,-999.0000,9, -999.00,9, -999.00,9,  -999.0,9,  -999.0,-999.000,9,-999.000, -999.00,9,   12.80,-999.0000,9,-999.0000,9,-999.0000,9,-999.0000,9,-999.0000,9,-999.0000,-999.000,-999.0000,9, -999.00
318M20040615,        P02,      13,          1,         30,         30,2,20040619,       1437,    30.6258,   134.3385,       4483,    54.2,  23.3382,  34.7895,2,  34.7876,2, 215.8000,2,   212.9,2,    1.39,2,    0.08,2,    0.00,2,    0.06,2,   1.982,2,   1.211,2,   0.116,2,  1968.4,2,  2285.6,2,-999.000,9,-999.0000,9, -999.00,9, -999.00,9,  -999.0,9,  -999.0,-999.000,9,-999.000, -999.00,9,   54.20,-999.0000,9,-999.0000,9,-999.0000,9,-999.0000,9,-999.0000,9,-999.0000,-999.000,-999.0000,9, -999.00
318M20040615,        P02,      13,          1,         29,         29,2,20040619,       1437,    30.6258,   134.3385,       4483,   102.7,  21.2719,  34.9016,2,  34.9044,2, 212.9000,2,   213.5,2,    1.58,2,    0.38,2,    0.15,2,    0.08,2,   2.122,2,   1.285,2,   0.122,2,  -999.0,9,  2291.3,2,-999.000,9,-999.0000,9, -999.00,9, -999.00,9,  -999.0,9,  -999.0,-999.000,9,-999.000, -999.00,9,  102.70,-999.0000,9,-999.0000,9,-999.0000,9,-999.0000,9,-999.0000,9,-999.0000,-999.000,-999.0000,9, -999.00
318M20040615,        P02,      13,          1,         28,         28,2,20040619,       1437,    30.6258,   134.3385,       4483,   153.2,  20.5934,  34.8975,2,  34.8979,2, 206.9000,2,   211.1,2,    1.60,2,    1.03,2,    0.02,2,    0.11,2,   2.188,2,   1.307,2,   0.122,2,  -999.0,9,  2291.0,2,-999.000,9,-999.0000,9, -999.00,9, -999.00,9,  -999.0,9,  -999.0,-999.000,9,-999.000, -999.00,9,  153.20,-999.0000,9,-999.0000,9,-999.0000,9,-999.0000,9,-999.0000,9,-999.0000,-999.000,-999.0000,9, -999.00
318M20040615,        P02,      13,          1,         27,         27,2,20040619,       1437,    30.6258,   134.3385,       4483,   202.5,  19.6904,  34.8785,2,  34.8794,2, 205.7000,2,   205.1,2,    2.15,2,    2.06,2,    0.01,2,    0.19,2,   2.275,2,   1.337,2,   0.083,2,  2008.8,2,  2289.3,2,-999.000,9,-999.0000,9, -999.00,9, -999.00,9,  -999.0,9,  -999.0,-999.000,9,-999.000, -999.00,9,  202.50,-999.0000,9,-999.0000,9,-999.0000,9,-999.0000,9,-999.0000,9,-999.0000,-999.000,-999.0000,9, -999.00
318M20040615,        P02,      13,          1,         26,         26,2,20040619,       1437,    30.6258,   134.3385,       4483,   244.1,  18.9412,  34.8556,2,  34.8554,2, 204.9000,2,   206.0,2,    2.71,2,    2.77,2,    0.01,2,    0.22,2,   2.325,2,   1.367,2,   0.073,2,  -999.0,9,  2288.8,2,-999.000,9,-999.0000,9, -999.00,9, -999.00,9,  -999.0,9,  -999.0,-999.000,9,-999.000, -999.00,9,  244.10,-999.0000,9,-999.0000,9,-999.0000,9,-999.0000,9,-999.0000,9,-999.0000,-999.000,-999.0000,9, -999.00
318M20040615,        P02,      13,          1,         25,         25,2,20040619,       1437,    30.6258,   134.3385,       4483,   294.4,  18.1834,  34.8086,2,  34.8127,2, 205.4000,2,   203.3,2,    3.25,2,    3.86,2,    0.01,2,    0.29,2,   2.399,2,   1.391,2,   0.050,2,  2021.7,2,  2284.8,2,-999.000,9,-999.0000,9, -999.00,9, -999.00,9,  -999.0,9,  -999.0,-999.000,9,-999.000, -999.00,9,  294.40,-999.0000,9,-999.0000,9,-999.0000,9,-999.0000,9,-999.0000,9,-999.0000,-999.000,-999.0000,9, -999.00
318M20040615,        P02,      13,          1,         24,         24,2,20040619,       1437,    30.6258,   134.3385,       4483,   395.7,  15.7375,  34.6476,2,  34.6484,2, 192.4000,2,   191.1,2,    8.12,2,    8.38,2,    0.00,2,    0.61,2,   2.572,2,   1.412,2,   0.026,2,  -999.0,9,  2279.3,2,-999.000,9,-999.0000,9, -999.00,9, -999.00,9,  -999.0,9,  -999.0,-999.000,9,-999.000, -999.00,9,  395.70,-999.0000,9,-999.0000,9,-999.0000,9,-999.0000,9,-999.0000,9,-999.0000,-999.000,-999.0000,9, -999.00
318M20040615,        P02,      13,          1,         23,         23,2,20040619,       1437,    30.6258,   134.3385,       4483,   499.7,  13.4367,  34.4873,2,  34.4893,2, 179.7000,2,   181.1,2,   15.13,2,   12.87,2,    0.01,2,    0.93,2,   2.586,2,   1.379,2,   0.031,2,  2090.0,2,  2275.1,2,-999.000,9,-999.0000,9, -999.00,9, -999.00,9,  -999.0,9,  -999.0,-999.000,9,-999.000, -999.00,9,  499.70,-999.0000,9,-999.0000,9,-999.0000,9,-999.0000,9,-999.0000,9,-999.0000,-999.000,-999.0000,9, -999.00
318M20040615,        P02,      13,          1,         22,         22,2,20040619,       1437,    30.6258,   134.3385,       4483,   608.3,  10.0056,  34.2632,2,  34.2705,2, 159.3000,2,   161.3,2,   31.00,2,   20.25,2,    0.00,2,    1.49,2,   2.332,2,   1.221,2,   0.043,2,  -999.0,9,  2277.8,2,-999.000,9,-999.0000,9, -999.00,9, -999.00,9,  -999.0,9,  -999.0,-999.000,9,-999.000, -999.00,9,  608.30,-999.0000,9,-999.0000,9,-999.0000,9,-999.0000,9,-999.0000,9,-999.0000,-999.000,-999.0000,9, -999.00
318M20040615,        P02,      13,          1,         21,         21,2,20040619,       1437,    30.6258,   134.3385,       4483,   702.2,   7.7681,  34.1802,2,  34.4573,2, 130.3000,3,   129.6,2,   51.26,2,   27.13,2,    0.00,2,    1.99,2,   1.726,6,   0.910,6,   0.045,6,  2200.5,2,  2291.5,3,-999.000,9,-999.0000,9, -999.00,9, -999.00,9,  -999.0,9,  -999.0,-999.000,9,-999.000, -999.00,9,  702.20,-999.0000,9,-999.0000,9,-999.0000,9,-999.0000,9,-999.0000,9,-999.0000,-999.000,-999.0000,9, -999.00
318M20040615,        P02,      13,          1,         20,         20,2,20040619,       1437,    30.6258,   134.3385,       4483,   802.5,   5.9101,  34.1681,2,  34.1679,2,  99.8000,2,    94.8,2,   73.80,2,   33.62,2,    0.00,2,    2.48,2,   1.093,2,   0.567,2,   0.030,2,  -999.0,9,  2310.4,2,-999.000,9,-999.0000,9, -999.00,9, -999.00,9,  -999.0,9,  -999.0,-999.000,9,-999.000, -999.00,9,  802.50,-999.0000,9,-999.0000,9,-999.0000,9,-999.0000,9,-999.0000,9,-999.0000,-999.000,-999.0000,9, -999.00
318M20040615,        P02,      13,          1,         19,         19,2,20040619,       1437,    30.6258,   134.3385,       4483,   907.7,   4.9939,  34.2542,2,  34.2626,2,  77.6000,2,    74.4,2,   93.16,2,   36.85,2,    0.00,2,    2.72,2,   0.629,2,   0.321,2,   0.014,2,  2291.1,2,  2332.5,2,-999.000,9,-999.0000,9, -999.00,9, -999.00,9,  -999.0,9,  -999.0,-999.000,9,-999.000, -999.00,9,  907.70,-999.0000,9,-999.0000,9,-999.0000,9,-999.0000,9,-999.0000,9,-999.0000,-999.000,-999.0000,9, -999.00
318M20040615,        P02,      13,          1,         18,         18,2,20040619,       1437,    30.6258,   134.3385,       4483,  1022.9,   4.3262,  34.3602,2,  34.3611,2,  69.7000,2,    69.2,2,  107.99,2,   38.35,2,    0.00,2,    2.81,2,   0.322,2,   0.160,2,   0.006,2,  2313.4,2,  2353.9,2,-999.000,9,-999.0000,9, -999.00,9, -999.00,9,  -999.0,9,  -999.0,-999.000,9,-999.000, -999.00,9, 1022.90,-999.0000,9,-999.0000,9,-999.0000,9,-999.0000,9,-999.0000,9,-999.0000,-999.000,-999.0000,9, -999.00
318M20040615,        P02,      13,          1,         17,         17,2,20040619,       1437,    30.6258,   134.3385,       4483,  1118.2,   3.8008,  34.3988,2,  34.4135,2,  66.6000,3,    66.7,2,  120.85,2,   39.44,2,    0.00,2,    2.89,2,   0.188,2,   0.088,2,   0.006,2,  2331.2,2,  2367.0,2,-999.000,9,-999.0000,9, -999.00,9, -999.00,9,  -999.0,9,  -999.0,-999.000,9,-999.000, -999.00,9, 1118.20,-999.0000,9,-999.0000,9,-999.0000,9,-999.0000,9,-999.0000,9,-999.0000,-999.000,-999.0000,9, -999.00
318M20040615,        P02,      13,          1,         16,         16,2,20040619,       1437,    30.6258,   134.3385,       4483,  1216.2,   3.4547,  34.4338,2,  34.4328,2,  66.8000,2,    66.4,2,  124.71,2,   39.76,2,    0.00,2,    2.91,2,   0.132,2,   0.067,2,   0.000,2,  2335.6,6,  2372.3,2,-999.000,9,-999.0000,9, -999.00,9, -999.00,9,  -999.0,9,  -999.0,-999.000,9,-999.000, -999.00,9, 1216.20,-999.0000,9,-999.0000,9,-999.0000,9,-999.0000,9,-999.0000,9,-999.0000,-999.000,-999.0000,9, -999.00
318M20040615,        P02,      13,          1,         14,         14,9,20040619,       1437,    30.6258,   134.3385,       4483,  1300.8,   3.1686,  34.4634,2,-999.0000,9,  67.9000,9,  -999.0,9, -999.00,9, -999.00,9, -999.00,9, -999.00,9,-999.000,9,-999.000,9,-999.000,9,  -999.0,9,  -999.0,9,-999.000,9,-999.0000,9, -999.00,9, -999.00,9,  -999.0,9,  -999.0,-999.000,9,-999.000, -999.00,9, 1300.80,-999.0000,9,-999.0000,9,-999.0000,9,-999.0000,9,-999.0000,9,-999.0000,-999.000,-999.0000,9, -999.00
318M20040615,        P02,      13,          1,         15,         15,2,20040619,       1437,    30.6258,   134.3385,       4483,  1301.9,   3.1673,  34.4642,2,  34.4777,2,  68.0000,3,    69.3,2,  130.60,2,   39.92,2,    0.00,2,    2.92,2,   0.084,2,   0.042,2,   0.007,2,  -999.0,9,  2380.5,2,-999.000,9,-999.0000,9, -999.00,9, -999.00,9,  -999.0,9,  -999.0,-999.000,9,-999.000, -999.00,9, 1301.90,-999.0000,9,-999.0000,9,-999.0000,9,-999.0000,9,-999.0000,9,-999.0000,-999.000,-999.0000,9, -999.00
318M20040615,        P02,      13,          1,         13,         13,2,20040619,       1437,    30.6258,   134.3385,       4483,  1389.6,   3.0417,  34.4875,2,  34.4877,2,  69.0000,2,    74.2,2,  132.46,2,   39.70,2,    0.00,2,    2.90,2,   0.067,2,   0.034,2,   0.005,2,  -999.0,9,  2383.2,2,-999.000,9,-999.0000,9, -999.00,9, -999.00,9,  -999.0,9,  -999.0,-999.000,9,-999.000, -999.00,9, 1389.60,-999.0000,9,-999.0000,9,-999.0000,9,-999.0000,9,-999.0000,9,-999.0000,-999.000,-999.0000,9, -999.00
318M20040615,        P02,      13,          1,         12,         12,2,20040619,       1437,    30.6258,   134.3385,       4483,  1487.4,   2.8420,  34.5016,2,  34.5038,2,  76.2000,2,    75.7,2,  136.14,2,   39.80,2,    0.00,2,    2.91,2,   0.054,2,   0.027,2,   0.003,2,  -999.0,9,  2388.5,2,-999.000,9,-999.0000,9, -999.00,9, -999.00,9,  -999.0,9,  -999.0,-999.000,9,-999.000, -999.00,9, 1487.40,-999.0000,9,-999.0000,9,-999.0000,9,-999.0000,9,-999.0000,9,-999.0000,-999.000,-999.0000,9, -999.00
318M20040615,        P02,      13,          1,         11,         11,2,20040619,       1437,    30.6258,   134.3385,       4483,  1606.7,   2.6163,  34.5250,2,  34.5247,2,  80.7000,2,    80.5,2,  139.64,2,   39.69,2,    0.00,2,    2.90,2,   0.036,2,   0.018,2,   0.009,2,  -999.0,9,  2391.7,2,-999.000,9,-999.0000,9, -999.00,9, -999.00,9,  -999.0,9,  -999.0,-999.000,9,-999.000, -999.00,9, 1606.70,-999.0000,9,-999.0000,9,-999.0000,9,-999.0000,9,-999.0000,9,-999.0000,-999.000,-999.0000,9, -999.00
318M20040615,        P02,      13,          1,         10,         10,2,20040619,       1437,    30.6258,   134.3385,       4483,  1782.2,   2.3909,  34.5531,2,  34.5541,2,  88.8000,2,    88.8,2,  142.59,2,   39.35,2,    0.00,2,    2.87,2,   0.022,2,   0.011,2,   0.010,2,  -999.0,9,  2398.7,2,-999.000,9,-999.0000,9, -999.00,9, -999.00,9,  -999.0,9,  -999.0,-999.000,9,-999.000, -999.00,9, 1782.20,-999.0000,9,-999.0000,9,-999.0000,9,-999.0000,9,-999.0000,9,-999.0000,-999.000,-999.0000,9, -999.00
318M20040615,        P02,      13,          1,          9,          9,2,20040619,       1437,    30.6258,   134.3385,       4483,  2013.5,   2.1584,  34.5876,2,  34.5883,2, 102.0000,2,   102.2,2,  143.88,2,   38.65,2,    0.00,2,    2.81,2,   0.012,2,   0.009,2,   0.003,2,  -999.0,9,  2403.5,2,-999.000,9,-999.0000,9, -999.00,9, -999.00,9,  -999.0,9,  -999.0,-999.000,9,-999.000, -999.00,9, 2013.50,-999.0000,9,-999.0000,9,-999.0000,9,-999.0000,9,-999.0000,9,-999.0000,-999.000,-999.0000,9, -999.00
318M20040615,        P02,      13,          1,          8,          8,2,20040619,       1437,    30.6258,   134.3385,       4483,  2297.3,   1.9586,  34.6147,2,  34.6223,2, 114.2000,3,   114.0,2,  144.62,2,   38.04,2,    0.00,2,    2.76,2,   0.006,2,   0.008,2,   0.005,2,  -999.0,9,  2409.4,2,-999.000,9,-999.0000,9, -999.00,9, -999.00,9,  -999.0,9,  -999.0,-999.000,9,-999.000, -999.00,9, 2297.30,-999.0000,9,-999.0000,9,-999.0000,9,-999.0000,9,-999.0000,9,-999.0000,-999.000,-999.0000,9, -999.00
318M20040615,        P02,      13,          1,          7,          7,2,20040619,       1437,    30.6258,   134.3385,       4483,  2513.7,   1.8281,  34.6317,2,  34.6319,2, 121.9000,2,   122.6,2,  145.02,2,   37.62,2,    0.00,2,    2.72,2,   0.006,2,   0.004,2,   0.004,2,  -999.0,9,  2409.5,2,-999.000,9,-999.0000,9, -999.00,9, -999.00,9,  -999.0,9,  -999.0,-999.000,9,-999.000, -999.00,9, 2513.70,-999.0000,9,-999.0000,9,-999.0000,9,-999.0000,9,-999.0000,9,-999.0000,-999.000,-999.0000,9, -999.00
318M20040615,        P02,      13,          1,          6,          6,2,20040619,       1437,    30.6258,   134.3385,       4483,  2790.3,   1.6827,  34.6526,2,  34.6551,2, 133.6000,3,   134.4,2,  144.43,2,   36.91,2,    0.00,2,    2.64,2,   0.003,2,   0.002,2,   0.003,2,  -999.0,9,  2412.7,2,-999.000,9,-999.0000,9, -999.00,9, -999.00,9,  -999.0,9,  -999.0,-999.000,9,-999.000, -999.00,9, 2790.30,-999.0000,9,-999.0000,9,-999.0000,9,-999.0000,9,-999.0000,9,-999.0000,-999.000,-999.0000,9, -999.00
318M20040615,        P02,      13,          1,          5,          5,2,20040619,       1437,    30.6258,   134.3385,       4483,  3064.8,   1.6020,  34.6649,2,  34.6663,2, 141.6000,3,   142.0,2,  143.69,2,   36.42,2,    0.00,2,    2.59,2,   0.005,2,   0.003,2,   0.002,2,  -999.0,9,  2413.1,2,-999.000,9,-999.0000,9, -999.00,9, -999.00,9,  -999.0,9,  -999.0,-999.000,9,-999.000, -999.00,9, 3064.80,-999.0000,9,-999.0000,9,-999.0000,9,-999.0000,9,-999.0000,9,-999.0000,-999.000,-999.0000,9, -999.00
318M20040615,        P02,      13,          1,          4,          4,2,20040619,       1437,    30.6258,   134.3385,       4483,  3435.8,   1.5440,  34.6752,2,  34.6771,2, 148.3000,3,   148.9,2,  142.77,2,   35.98,2,    0.00,2,    2.56,2,   0.006,2,   0.004,2,   0.002,2,  -999.0,9,  2414.3,2,-999.000,9,-999.0000,9, -999.00,9, -999.00,9,  -999.0,9,  -999.0,-999.000,9,-999.000, -999.00,9, 3435.80,-999.0000,9,-999.0000,9,-999.0000,9,-999.0000,9,-999.0000,9,-999.0000,-999.000,-999.0000,9, -999.00
318M20040615,        P02,      13,          1,          3,          3,2,20040619,       1437,    30.6258,   134.3385,       4483,  3778.7,   1.5373,  34.6796,2,  34.6824,2, 151.9000,3,   152.2,2,  142.57,2,   35.87,2,    0.00,2,    2.53,2,   0.006,2,   0.003,2,   0.003,2,  -999.0,9,  2415.0,2,-999.000,9,-999.0000,9, -999.00,9, -999.00,9,  -999.0,9,  -999.0,-999.000,9,-999.000, -999.00,9, 3778.70,-999.0000,9,-999.0000,9,-999.0000,9,-999.0000,9,-999.0000,9,-999.0000,-999.000,-999.0000,9, -999.00
318M20040615,        P02,      13,          1,          2,          2,2,20040619,       1437,    30.6258,   134.3385,       4483,  4215.5,   1.5644,  34.6819,2,  34.6836,2, 153.7000,3,   154.1,2,  142.03,2,   35.76,2,    0.00,2,    2.53,2,   0.008,2,   0.005,2,   0.001,2,  -999.0,9,  2415.5,2,-999.000,9,-999.0000,9, -999.00,9, -999.00,9,  -999.0,9,  -999.0,-999.000,9,-999.000, -999.00,9, 4215.50,-999.0000,9,-999.0000,9,-999.0000,9,-999.0000,9,-999.0000,9,-999.0000,-999.000,-999.0000,9, -999.00
318M20040615,        P02,      13,          1,          1,          1,2,20040619,       1437,    30.6258,   134.3385,       4483,  4526.7,   1.5875,  34.6832,2,  34.6905,2, 154.8000,3,   155.5,2,  141.65,2,   35.64,2,    0.00,2,    2.52,2,   0.008,2,   0.003,2,   0.001,2,  -999.0,9,  2415.7,3,-999.000,9,-999.0000,9, -999.00,9, -999.00,9,  -999.0,9,  -999.0,-999.000,9,-999.000, -999.00,9, 4526.70,-999.0000,9,-999.0000,9,-999.0000,9,-999.0000,9,-999.0000,9,-999.0000,-999.000,-999.0000,9, -999.00