BOTTLE,20131027SIOCCHRJL
EXPOCODE,SECT_ID,STNNBR,CASTNO,SAMPNO,BTLNBR,BTLNBR_FLAG_W,DATE,TIME,LATITUDE,LONGITUDE,DEPTH,CTDPRS,CTDTMP,CTDSAL,CTDSAL_FLAG_W,SALNTY,SALNTY_FLAG_W,CTDOXY,CTDOXY_FLAG_W,OXYGEN,OXYGEN_FLAG_W,SILCAT,SILCAT_FLAG_W,NITRAT,NITRAT_FLAG_W,NITRIT,NITRIT_FLAG_W,PHSPHT,PHSPHT_FLAG_W,CFC-11,CFC-11_FLAG_W,CFC-12,CFC-12_FLAG_W,CFC113,CFC113_FLAG_W,TCARBN,TCARBN_FLAG_W,ALKALI,ALKALI_FLAG_W,TRITUM,TRITUM_FLAG_W,HELIUM,HELIUM_FLAG_W,DELHE3,DELHE3_FLAG_W,DELC13,DELC13_FLAG_W,DELC14,DELC14_FLAG_W,C14ERR,NEON,NEON_FLAG_W,NEONER,DOC,DOC_FLAG_W,CTDRAW,CDOM380,CDOM380_FLAG_W,CDOM325,CDOM325_FLAG_W,CDOMSL,CDOMSL_FLAG_W,CDOM340,CDOM340_FLAG_W,CDOMSN,CDOMSN_FLAG_W,HELIER,TRITER,CDOM412,CDOM412_FLAG_W,DELHER
,,,,,,,,,,,METERS,DBAR,ITS-90,PSS-78,,PSS-78,,UMOL/KG,,UMOL/KG,,UMOL/KG,,UMOL/KG,,UMOL/KG,,UMOL/KG,,PMOL/KG,,PMOL/KG,,PMOL/KG,,UMOL/KG,,UMOL/KG,,TU,,NMOL/KG,,PERCNT,,/MILLE,,/MILLE,,/MILLE,NMOL/KG,,NMOL/KG,UMOL/KG,,DBAR,1/M,,1/M,,1/NM,,1/M,,1/NM,,NMOL/KG,TU,1/M,,PERCNT
318M20040615,        P02,      81,          1,         36,         36,2,20040714,       1215,    30.0012,    177.704,       5338,     7.1,  26.3796,  34.7019,2,  34.6902,2, 214.7000,2,   211.4,2,    1.40,2,    0.15,2,    0.00,2,    0.02,2,   1.826,2,   1.139,2,   0.134,2,  1985.6,6,  2276.5,6,-999.000,9,-999.0000,9, -999.00,9, -999.00,9,  -999.0,9,  -999.0,-999.000,9,-999.000, -999.00,9,    7.10,-999.0000,9,-999.0000,9,-999.0000,9,-999.0000,9,-999.0000,9,-999.0000,-999.000,-999.0000,9, -999.00
318M20040615,        P02,      81,          1,         35,         35,2,20040714,       1215,    30.0012,    177.704,       5338,    40.9,  18.0179,  34.6867,2,  34.6916,2, 260.7000,2,   264.8,2,    2.64,2,    0.15,2,    0.00,2,    0.06,2,   2.541,2,   1.525,2,   0.167,2,  1995.0,2,  2278.3,2,-999.000,9,-999.0000,9, -999.00,9, -999.00,9,  -999.0,9,  -999.0,-999.000,9,-999.000, -999.00,9,   40.90,-999.0000,9,-999.0000,9,-999.0000,9,-999.0000,9,-999.0000,9,-999.0000,-999.000,-999.0000,9, -999.00
318M20040615,        P02,      81,          1,         34,         34,2,20040714,       1215,    30.0012,    177.704,       5338,    85.8,  15.8479,  34.6606,2,  34.6604,2, 222.5000,2,   219.4,2,    4.96,2,    5.39,2,    0.03,2,    0.38,2,   2.593,2,   1.533,2,   0.103,2,  2037.1,2,  2276.2,2,-999.000,9,-999.0000,9, -999.00,9, -999.00,9,  -999.0,9,  -999.0,-999.000,9,-999.000, -999.00,9,   85.80,-999.0000,9,-999.0000,9,-999.0000,9,-999.0000,9,-999.0000,9,-999.0000,-999.000,-999.0000,9, -999.00
318M20040615,        P02,      81,          1,         33,         33,2,20040714,       1215,    30.0012,    177.704,       5338,   135.6,  15.2378,  34.6148,2,  34.6163,2, 219.1000,2,   226.6,2,    5.43,2,    5.72,2,    0.01,2,    0.40,2,   2.653,2,   1.578,2,   0.149,2,  2038.3,2,  2275.5,2,-999.000,9,-999.0000,9, -999.00,9, -999.00,9,  -999.0,9,  -999.0,-999.000,9,-999.000, -999.00,9,  135.60,-999.0000,9,-999.0000,9,-999.0000,9,-999.0000,9,-999.0000,9,-999.0000,-999.000,-999.0000,9, -999.00
318M20040615,        P02,      81,          1,         32,         32,2,20040714,       1215,    30.0012,    177.704,       5338,   185.4,  14.5868,  34.5655,2,  34.5621,2, 218.6000,2,   221.8,2,    7.75,2,    7.38,2,    0.01,2,    0.52,2,   2.651,2,   1.554,2,   0.130,2,  -999.0,9,  -999.0,9,-999.000,9,-999.0000,9, -999.00,9, -999.00,9,  -999.0,9,  -999.0,-999.000,9,-999.000, -999.00,9,  185.40,-999.0000,9,-999.0000,9,-999.0000,9,-999.0000,9,-999.0000,9,-999.0000,-999.000,-999.0000,9, -999.00
318M20040615,        P02,      81,          1,         31,         31,2,20040714,       1215,    30.0012,    177.704,       5338,   235.5,  13.3709,  34.4695,2,  34.4671,2, 212.8000,2,   214.5,2,   11.18,2,    9.98,2,    0.00,2,    0.69,2,   2.781,6,   1.580,6,   0.100,6,  2068.8,2,  2272.2,2,-999.000,9,-999.0000,9, -999.00,9, -999.00,9,  -999.0,9,  -999.0,-999.000,9,-999.000, -999.00,9,  235.50,-999.0000,9,-999.0000,9,-999.0000,9,-999.0000,9,-999.0000,9,-999.0000,-999.000,-999.0000,9, -999.00
318M20040615,        P02,      81,          1,         30,         30,2,20040714,       1215,    30.0012,    177.704,       5338,   290.5,  12.3501,  34.3973,2,  34.4011,2, 213.8000,2,   216.4,2,   13.67,2,   11.52,2,    0.00,2,    0.81,2,   2.861,2,   1.617,2,   0.128,2,  -999.0,9,  -999.0,9,-999.000,9,-999.0000,9, -999.00,9, -999.00,9,  -999.0,9,  -999.0,-999.000,9,-999.000, -999.00,9,  290.50,-999.0000,9,-999.0000,9,-999.0000,9,-999.0000,9,-999.0000,9,-999.0000,-999.000,-999.0000,9, -999.00
318M20040615,        P02,      81,          1,         29,         29,2,20040714,       1215,    30.0012,    177.704,       5338,   340.1,  11.3255,  34.3178,2,  34.3185,2, 219.8000,2,   217.3,2,   16.64,2,   13.16,2,    0.00,2,    0.93,2,-999.000,5,-999.000,5,-999.000,5,  2091.0,2,  2273.6,6,-999.000,9,-999.0000,9, -999.00,9, -999.00,9,  -999.0,9,  -999.0,-999.000,9,-999.000, -999.00,9,  340.10,-999.0000,9,-999.0000,9,-999.0000,9,-999.0000,9,-999.0000,9,-999.0000,-999.000,-999.0000,9, -999.00
318M20040615,        P02,      81,          1,         28,         28,2,20040714,       1215,    30.0012,    177.704,       5338,   389.9,   9.9473,  34.2015,2,  34.2023,2, 203.9000,2,   204.4,2,   23.06,2,   16.75,2,    0.00,2,    1.19,2,   2.949,2,   1.612,2,   0.125,2,  -999.0,9,  -999.0,9,-999.000,9,-999.0000,9, -999.00,9, -999.00,9,  -999.0,9,  -999.0,-999.000,9,-999.000, -999.00,9,  389.90,-999.0000,9,-999.0000,9,-999.0000,9,-999.0000,9,-999.0000,9,-999.0000,-999.000,-999.0000,9, -999.00
318M20040615,        P02,      81,          1,         27,         27,2,20040714,       1215,    30.0012,    177.704,       5338,   440.1,   9.2431,  34.1491,2,  34.1500,2, 194.3000,2,   194.9,2,   27.31,2,   18.75,2,    0.00,2,    1.34,2,   2.873,2,   1.546,2,   0.115,2,  2131.4,2,  2271.0,2,-999.000,9,-999.0000,9, -999.00,9, -999.00,9,  -999.0,9,  -999.0,-999.000,9,-999.000, -999.00,9,  440.10,-999.0000,9,-999.0000,9,-999.0000,9,-999.0000,9,-999.0000,9,-999.0000,-999.000,-999.0000,9, -999.00
318M20040615,        P02,      81,          1,         26,         26,2,20040714,       1215,    30.0012,    177.704,       5338,   490.1,   8.1667,  34.0741,2,  34.0735,2, 185.3000,2,   185.0,2,   34.89,2,   21.57,2,    0.00,2,    1.56,2,   2.823,2,   1.499,2,   0.121,2,  -999.0,9,  -999.0,9,-999.000,9,-999.0000,9, -999.00,9, -999.00,9,  -999.0,9,  -999.0,-999.000,9,-999.000, -999.00,9,  490.10,-999.0000,9,-999.0000,9,-999.0000,9,-999.0000,9,-999.0000,9,-999.0000,-999.000,-999.0000,9, -999.00
318M20040615,        P02,      81,          1,         25,         25,2,20040714,       1215,    30.0012,    177.704,       5338,   574.6,   6.2806,  34.0046,2,  34.0043,2, 149.5000,2,   146.9,2,   55.23,2,   28.33,2,    0.00,2,    2.07,2,   2.339,2,   1.207,2,   0.114,2,  2206.0,2,  2285.8,2,-999.000,9,-999.0000,9, -999.00,9, -999.00,9,  -999.0,9,  -999.0,-999.000,9,-999.000, -999.00,9,  574.60,-999.0000,9,-999.0000,9,-999.0000,9,-999.0000,9,-999.0000,9,-999.0000,-999.000,-999.0000,9, -999.00
318M20040615,        P02,      81,          1,         24,         24,2,20040714,       1215,    30.0012,    177.704,       5338,   674.9,   5.1102,  34.0626,2,  34.0619,2,  97.0000,2,    95.6,2,   78.37,2,   34.86,2,    0.00,2,    2.54,2,   1.468,2,   0.742,2,   0.059,2,  -999.0,9,  -999.0,9,-999.000,9,-999.0000,9, -999.00,9, -999.00,9,  -999.0,9,  -999.0,-999.000,9,-999.000, -999.00,9,  674.90,-999.0000,9,-999.0000,9,-999.0000,9,-999.0000,9,-999.0000,9,-999.0000,-999.000,-999.0000,9, -999.00
318M20040615,        P02,      81,          1,         23,         23,2,20040714,       1215,    30.0012,    177.704,       5338,   774.7,   4.3449,  34.1638,2,  34.1634,2,  57.6000,2,    56.5,2,   99.76,2,   39.32,2,    0.00,2,    2.86,2,   0.667,2,   0.337,2,   0.024,2,  2310.1,2,  2327.2,2,-999.000,9,-999.0000,9, -999.00,9, -999.00,9,  -999.0,9,  -999.0,-999.000,9,-999.000, -999.00,9,  774.70,-999.0000,9,-999.0000,9,-999.0000,9,-999.0000,9,-999.0000,9,-999.0000,-999.000,-999.0000,9, -999.00
318M20040615,        P02,      81,          1,         22,         22,2,20040714,       1215,    30.0012,    177.704,       5338,   874.7,   3.8606,  34.2455,2,  34.2444,2,  44.1000,2,    42.5,2,  114.57,2,   41.05,2,    0.00,2,    2.98,2,   0.374,2,   0.186,2,   0.014,2,  -999.0,9,  -999.0,9,-999.000,9,-999.0000,9, -999.00,9, -999.00,9,  -999.0,9,  -999.0,-999.000,9,-999.000, -999.00,9,  874.70,-999.0000,9,-999.0000,9,-999.0000,9,-999.0000,9,-999.0000,9,-999.0000,-999.000,-999.0000,9, -999.00
318M20040615,        P02,      81,          1,         21,         21,2,20040714,       1215,    30.0012,    177.704,       5338,   975.1,   3.5264,  34.3080,2,  34.3058,2,  33.4000,2,    33.6,2,  125.67,2,   42.14,2,    0.00,2,    3.06,2,   0.205,2,   0.100,2,   0.006,2,  -999.0,9,  -999.0,9,-999.000,9,-999.0000,9, -999.00,9, -999.00,9,  -999.0,9,  -999.0,-999.000,9,-999.000, -999.00,9,  975.10,-999.0000,9,-999.0000,9,-999.0000,9,-999.0000,9,-999.0000,9,-999.0000,-999.000,-999.0000,9, -999.00
318M20040615,        P02,      81,          1,         20,         20,2,20040714,       1215,    30.0012,    177.704,       5338,  1085.2,   3.1811,  34.3612,2,  34.3578,2,  29.7000,2,    29.4,2,  135.81,2,   42.79,2,    0.00,2,    3.10,2,   0.121,2,   0.059,2,   0.004,2,  2363.9,2,  2369.6,2,-999.000,9,-999.0000,9, -999.00,9, -999.00,9,  -999.0,9,  -999.0,-999.000,9,-999.000, -999.00,9, 1085.20,-999.0000,9,-999.0000,9,-999.0000,9,-999.0000,9,-999.0000,9,-999.0000,-999.000,-999.0000,9, -999.00
318M20040615,        P02,      81,          1,         19,         19,2,20040714,       1215,    30.0012,    177.704,       5338,  1185.1,   2.9151,  34.4106,2,  34.4072,2,  28.1000,2,    28.0,2,  144.02,2,   43.18,2,    0.00,2,    3.12,2,   0.066,2,   0.033,2,   0.005,2,  2372.7,2,  2380.4,2,-999.000,9,-999.0000,9, -999.00,9, -999.00,9,  -999.0,9,  -999.0,-999.000,9,-999.000, -999.00,9, 1185.10,-999.0000,9,-999.0000,9,-999.0000,9,-999.0000,9,-999.0000,9,-999.0000,-999.000,-999.0000,9, -999.00
318M20040615,        P02,      81,          1,         18,         18,2,20040714,       1215,    30.0012,    177.704,       5338,  1284.3,   2.7155,  34.4500,2,  34.4459,2,  30.1000,2,    30.1,2,  150.38,2,   43.16,2,    0.00,2,    3.11,2,   0.044,2,   0.023,2,   0.001,2,  2379.0,2,  2387.5,2,-999.000,9,-999.0000,9, -999.00,9, -999.00,9,  -999.0,9,  -999.0,-999.000,9,-999.000, -999.00,9, 1284.30,-999.0000,9,-999.0000,9,-999.0000,9,-999.0000,9,-999.0000,9,-999.0000,-999.000,-999.0000,9, -999.00
318M20040615,        P02,      81,          1,         17,         17,2,20040714,       1215,    30.0012,    177.704,       5338,  1384.8,   2.5316,  34.4898,2,  34.4904,2,  34.1000,2,    34.5,2,  154.97,2,   43.03,2,    0.00,2,    3.10,2,   0.024,2,   0.007,2,   0.001,2,  -999.0,9,  -999.0,9,-999.000,9,-999.0000,9, -999.00,9, -999.00,9,  -999.0,9,  -999.0,-999.000,9,-999.000, -999.00,9, 1384.80,-999.0000,9,-999.0000,9,-999.0000,9,-999.0000,9,-999.0000,9,-999.0000,-999.000,-999.0000,9, -999.00
318M20040615,        P02,      81,          1,         16,         16,2,20040714,       1215,    30.0012,    177.704,       5338,  1484.9,   2.3855,  34.5233,2,  34.5242,2,  38.7000,2,    40.1,2,  158.43,2,   43.09,2,    0.00,2,    3.08,2,   0.012,2,   0.007,2,   0.001,2,  -999.0,9,  -999.0,9,-999.000,9,-999.0000,9, -999.00,9, -999.00,9,  -999.0,9,  -999.0,-999.000,9,-999.000, -999.00,9, 1484.90,-999.0000,9,-999.0000,9,-999.0000,9,-999.0000,9,-999.0000,9,-999.0000,-999.000,-999.0000,9, -999.00
318M20040615,        P02,      81,          1,         15,         15,2,20040714,       1215,    30.0012,    177.704,       5338,  1594.2,   2.2715,  34.5479,2,  34.5481,2,  46.9000,2,    47.8,2,  160.73,2,   42.91,2,    0.00,2,    3.04,2,-999.000,9,-999.000,9,-999.000,9,  -999.0,9,  2405.7,2,-999.000,9,-999.0000,9, -999.00,9, -999.00,9,  -999.0,9,  -999.0,-999.000,9,-999.000, -999.00,9, 1594.20,-999.0000,9,-999.0000,9,-999.0000,9,-999.0000,9,-999.0000,9,-999.0000,-999.000,-999.0000,9, -999.00
318M20040615,        P02,      81,          1,         14,         14,2,20040714,       1215,    30.0012,    177.704,       5338,  1794.3,   2.0663,  34.5835,2,  34.5831,2,  64.5000,2,    64.3,2,  162.86,2,   41.96,2,    0.00,2,    2.96,2,   0.005,2,   0.003,2,   0.001,2,  -999.0,9,  -999.0,9,-999.000,9,-999.0000,9, -999.00,9, -999.00,9,  -999.0,9,  -999.0,-999.000,9,-999.000, -999.00,9, 1794.30,-999.0000,9,-999.0000,9,-999.0000,9,-999.0000,9,-999.0000,9,-999.0000,-999.000,-999.0000,9, -999.00
318M20040615,        P02,      81,          1,         13,         13,2,20040714,       1215,    30.0012,    177.704,       5338,  1993.5,   1.8898,  34.6100,2,  34.6106,2,  80.1000,2,    80.4,2,  163.85,2,   40.90,2,    0.00,2,    2.88,2,-999.000,9,-999.000,9,-999.000,9,  -999.0,9,  2415.1,2,-999.000,9,-999.0000,9, -999.00,9, -999.00,9,  -999.0,9,  -999.0,-999.000,9,-999.000, -999.00,9, 1993.50,-999.0000,9,-999.0000,9,-999.0000,9,-999.0000,9,-999.0000,9,-999.0000,-999.000,-999.0000,9, -999.00
318M20040615,        P02,      81,          1,         12,         12,2,20040714,       1215,    30.0012,    177.704,       5338,  2195.3,   1.7616,  34.6256,2,  34.6265,2,  91.6000,2,    91.0,2,  164.85,2,   40.07,2,    0.00,2,    2.83,2,   0.001,2,   0.001,2,   0.001,2,  -999.0,9,  -999.0,9,-999.000,9,-999.0000,9, -999.00,9, -999.00,9,  -999.0,9,  -999.0,-999.000,9,-999.000, -999.00,9, 2195.30,-999.0000,9,-999.0000,9,-999.0000,9,-999.0000,9,-999.0000,9,-999.0000,-999.000,-999.0000,9, -999.00
318M20040615,        P02,      81,          1,         11,         11,2,20040714,       1215,    30.0012,    177.704,       5338,  2447.2,   1.6500,  34.6422,2,  34.6428,2, 105.2000,2,   105.3,2,  163.06,2,   39.14,2,    0.00,2,    2.76,2,-999.000,9,-999.000,9,-999.000,9,  -999.0,9,  2418.4,2,-999.000,9,-999.0000,9, -999.00,9, -999.00,9,  -999.0,9,  -999.0,-999.000,9,-999.000, -999.00,9, 2447.20,-999.0000,9,-999.0000,9,-999.0000,9,-999.0000,9,-999.0000,9,-999.0000,-999.000,-999.0000,9, -999.00
318M20040615,        P02,      81,          1,         10,         10,2,20040714,       1215,    30.0012,    177.704,       5338,  2701.6,   1.5698,  34.6548,2,  34.6554,2, 117.4000,2,   117.5,2,  161.26,2,   38.32,2,    0.00,2,    2.69,2,   0.005,2,   0.002,2,   0.001,2,  -999.0,9,  -999.0,9,-999.000,9,-999.0000,9, -999.00,9, -999.00,9,  -999.0,9,  -999.0,-999.000,9,-999.000, -999.00,9, 2701.60,-999.0000,9,-999.0000,9,-999.0000,9,-999.0000,9,-999.0000,9,-999.0000,-999.000,-999.0000,9, -999.00
318M20040615,        P02,      81,          1,          9,          9,2,20040714,       1215,    30.0012,    177.704,       5338,  2966.7,   1.5240,  34.6635,2,  34.6636,2, 125.9000,2,   126.4,2,  159.48,2,   37.60,2,    0.00,2,    2.64,2,-999.000,9,-999.000,9,-999.000,9,  -999.0,9,  2418.1,2,-999.000,9,-999.0000,9, -999.00,9, -999.00,9,  -999.0,9,  -999.0,-999.000,9,-999.000, -999.00,9, 2966.70,-999.0000,9,-999.0000,9,-999.0000,9,-999.0000,9,-999.0000,9,-999.0000,-999.000,-999.0000,9, -999.00
318M20040615,        P02,      81,          1,          8,          8,2,20040714,       1215,    30.0012,    177.704,       5338,  3302.2,   1.4741,  34.6733,2,  34.6732,2, 135.9000,2,   137.3,2,  156.71,2,   36.90,2,    0.00,2,    2.58,2,   0.006,2,   0.004,2,   0.001,2,  -999.0,9,  -999.0,9,-999.000,9,-999.0000,9, -999.00,9, -999.00,9,  -999.0,9,  -999.0,-999.000,9,-999.000, -999.00,9, 3302.20,-999.0000,9,-999.0000,9,-999.0000,9,-999.0000,9,-999.0000,9,-999.0000,-999.000,-999.0000,9, -999.00
318M20040615,        P02,      81,          1,          7,          7,2,20040714,       1215,    30.0012,    177.704,       5338,  3604.0,   1.4559,  34.6787,2,  34.6791,2, 142.9000,2,   144.0,2,  154.44,2,   36.41,2,    0.00,2,    2.55,2,-999.000,9,-999.000,9,-999.000,9,  -999.0,9,  2418.7,2,-999.000,9,-999.0000,9, -999.00,9, -999.00,9,  -999.0,9,  -999.0,-999.000,9,-999.000, -999.00,9, 3604.00,-999.0000,9,-999.0000,9,-999.0000,9,-999.0000,9,-999.0000,9,-999.0000,-999.000,-999.0000,9, -999.00
318M20040615,        P02,      81,          1,          6,          6,2,20040714,       1215,    30.0012,    177.704,       5338,  3919.5,   1.4499,  34.6830,2,  34.6842,2, 148.5000,2,   149.2,2,  152.78,2,   36.02,2,    0.00,2,    2.52,2,   0.006,2,   0.003,2,   0.001,2,  -999.0,9,  -999.0,9,-999.000,9,-999.0000,9, -999.00,9, -999.00,9,  -999.0,9,  -999.0,-999.000,9,-999.000, -999.00,9, 3919.50,-999.0000,9,-999.0000,9,-999.0000,9,-999.0000,9,-999.0000,9,-999.0000,-999.000,-999.0000,9, -999.00
318M20040615,        P02,      81,          1,          5,          5,2,20040714,       1215,    30.0012,    177.704,       5338,  4225.1,   1.4501,  34.6865,2,  34.6872,2, 153.6000,2,   154.3,2,  150.52,2,   35.64,2,    0.00,2,    2.49,2,-999.000,9,-999.000,9,-999.000,9,  -999.0,9,  2416.2,2,-999.000,9,-999.0000,9, -999.00,9, -999.00,9,  -999.0,9,  -999.0,-999.000,9,-999.000, -999.00,9, 4225.10,-999.0000,9,-999.0000,9,-999.0000,9,-999.0000,9,-999.0000,9,-999.0000,-999.000,-999.0000,9, -999.00
318M20040615,        P02,      81,          1,          4,          4,2,20040714,       1215,    30.0012,    177.704,       5338,  4531.6,   1.4539,  34.6894,2,  34.6891,2, 158.9000,2,   159.4,2,  146.94,2,   35.26,2,    0.00,2,    2.46,2,   0.004,2,   0.002,2,   0.002,2,  -999.0,9,  2412.8,2,-999.000,9,-999.0000,9, -999.00,9, -999.00,9,  -999.0,9,  -999.0,-999.000,9,-999.000, -999.00,9, 4531.60,-999.0000,9,-999.0000,9,-999.0000,9,-999.0000,9,-999.0000,9,-999.0000,-999.000,-999.0000,9, -999.00
318M20040615,        P02,      81,          1,          3,          3,2,20040714,       1215,    30.0012,    177.704,       5338,  4836.2,   1.4525,  34.6926,2,  34.6934,2, 165.5000,2,   166.1,2,  141.88,2,   34.77,2,    0.00,2,    2.42,2,-999.000,9,-999.000,9,-999.000,9,  -999.0,9,  2409.3,2,-999.000,9,-999.0000,9, -999.00,9, -999.00,9,  -999.0,9,  -999.0,-999.000,9,-999.000, -999.00,9, 4836.20,-999.0000,9,-999.0000,9,-999.0000,9,-999.0000,9,-999.0000,9,-999.0000,-999.000,-999.0000,9, -999.00
318M20040615,        P02,      81,          1,          2,          2,2,20040714,       1215,    30.0012,    177.704,       5338,  5192.1,   1.4756,  34.6943,2,  34.6936,2, 169.3000,2,   169.6,2,  139.13,2,   34.50,2,    0.00,2,    2.41,2,   0.004,2,   0.003,2,   0.003,2,  -999.0,9,  2406.2,2,-999.000,9,-999.0000,9, -999.00,9, -999.00,9,  -999.0,9,  -999.0,-999.000,9,-999.000, -999.00,9, 5192.10,-999.0000,9,-999.0000,9,-999.0000,9,-999.0000,9,-999.0000,9,-999.0000,-999.000,-999.0000,9, -999.00
318M20040615,        P02,      81,          1,          1,          1,2,20040714,       1215,    30.0012,    177.704,       5338,  5418.9,   1.4951,  34.6950,2,  34.6987,2, 171.3000,3,   171.7,2,  137.82,2,   34.38,2,    0.00,2,    2.40,2,   0.005,2,   0.005,2,   0.001,2,  -999.0,9,  2404.6,6,-999.000,9,-999.0000,9, -999.00,9, -999.00,9,  -999.0,9,  -999.0,-999.000,9,-999.000, -999.00,9, 5418.90,-999.0000,9,-999.0000,9,-999.0000,9,-999.0000,9,-999.0000,9,-999.0000,-999.000,-999.0000,9, -999.00