BOTTLE,20131027SIOCCHRJL
EXPOCODE,SECT_ID,STNNBR,CASTNO,SAMPNO,BTLNBR,BTLNBR_FLAG_W,DATE,TIME,LATITUDE,LONGITUDE,DEPTH,CTDPRS,CTDTMP,CTDSAL,CTDSAL_FLAG_W,SALNTY,SALNTY_FLAG_W,CTDOXY,CTDOXY_FLAG_W,OXYGEN,OXYGEN_FLAG_W,SILCAT,SILCAT_FLAG_W,NITRAT,NITRAT_FLAG_W,NITRIT,NITRIT_FLAG_W,PHSPHT,PHSPHT_FLAG_W,CFC-11,CFC-11_FLAG_W,CFC-12,CFC-12_FLAG_W,CFC113,CFC113_FLAG_W,TCARBN,TCARBN_FLAG_W,ALKALI,ALKALI_FLAG_W,TRITUM,TRITUM_FLAG_W,HELIUM,HELIUM_FLAG_W,DELHE3,DELHE3_FLAG_W,DELC13,DELC13_FLAG_W,DELC14,DELC14_FLAG_W,C14ERR,NEON,NEON_FLAG_W,NEONER,DOC,DOC_FLAG_W,CTDRAW,CDOM380,CDOM380_FLAG_W,CDOM325,CDOM325_FLAG_W,CDOMSL,CDOMSL_FLAG_W,CDOM340,CDOM340_FLAG_W,CDOMSN,CDOMSN_FLAG_W,HELIER,TRITER,CDOM412,CDOM412_FLAG_W,DELHER
,,,,,,,,,,,METERS,DBAR,ITS-90,PSS-78,,PSS-78,,UMOL/KG,,UMOL/KG,,UMOL/KG,,UMOL/KG,,UMOL/KG,,UMOL/KG,,PMOL/KG,,PMOL/KG,,PMOL/KG,,UMOL/KG,,UMOL/KG,,TU,,NMOL/KG,,PERCNT,,/MILLE,,/MILLE,,/MILLE,NMOL/KG,,NMOL/KG,UMOL/KG,,DBAR,1/M,,1/M,,1/NM,,1/M,,1/NM,,NMOL/KG,TU,1/M,,PERCNT
318M20040615,        P02,      49,          1,         36,         36,2,20040703,       1833,    29.9992,      156.1,       5732,    12.1,  26.4453,  34.7171,2,  34.7158,2, 207.3000,2,   206.1,2,    1.41,2,    0.15,2,    0.00,2,    0.04,2,   1.793,2,   1.121,2,   0.127,2,  1961.4,6,  2282.0,6,-999.000,9,-999.0000,9, -999.00,9, -999.00,9,  -999.0,9,  -999.0,-999.000,9,-999.000, -999.00,9,   12.10,-999.0000,9,-999.0000,9,-999.0000,9,-999.0000,9,-999.0000,9,-999.0000,-999.000,-999.0000,9, -999.00
318M20040615,        P02,      49,          1,         35,         35,2,20040703,       1833,    29.9992,      156.1,       5732,    52.1,  22.5091,  34.8044,2,  34.8019,2, 227.3000,2,   230.8,2,    1.93,2,    0.10,2,    0.00,2,    0.04,2,   2.355,2,   1.410,2,   0.152,2,  1981.7,2,  2286.5,2,-999.000,9,-999.0000,9, -999.00,9, -999.00,9,  -999.0,9,  -999.0,-999.000,9,-999.000, -999.00,9,   52.10,-999.0000,9,-999.0000,9,-999.0000,9,-999.0000,9,-999.0000,9,-999.0000,-999.000,-999.0000,9, -999.00
318M20040615,        P02,      49,          1,         34,         34,2,20040703,       1833,    29.9992,      156.1,       5732,   106.4,  19.6944,  34.8043,2,  34.8035,2, 238.0000,2,   235.4,2,    2.08,2,    0.06,2,    0.00,2,    0.07,2,   2.208,2,   1.336,2,   0.157,2,  1989.5,2,  2287.1,2,-999.000,9,-999.0000,9, -999.00,9, -999.00,9,  -999.0,9,  -999.0,-999.000,9,-999.000, -999.00,9,  106.40,-999.0000,9,-999.0000,9,-999.0000,9,-999.0000,9,-999.0000,9,-999.0000,-999.000,-999.0000,9, -999.00
318M20040615,        P02,      49,          1,         33,         33,2,20040703,       1833,    29.9992,      156.1,       5732,   156.5,  18.0647,  34.8059,2,  34.8037,2, 206.5000,2,   204.3,2,    4.44,2,    4.12,2,    0.02,2,    0.31,2,   2.376,2,   1.409,2,   0.078,3,  2024.4,2,  2286.1,2,-999.000,9,-999.0000,9, -999.00,9, -999.00,9,  -999.0,9,  -999.0,-999.000,9,-999.000, -999.00,9,  156.50,-999.0000,9,-999.0000,9,-999.0000,9,-999.0000,9,-999.0000,9,-999.0000,-999.000,-999.0000,9, -999.00
318M20040615,        P02,      49,          1,         32,         32,2,20040703,       1833,    29.9992,      156.1,       5732,   206.5,  17.3030,  34.8152,2,  34.8145,2, 222.4000,2,   222.6,2,    3.31,2,    3.19,2,    0.01,2,    0.25,2,   2.446,2,   1.459,2,   0.146,2,  2017.6,2,  2286.4,2,-999.000,9,-999.0000,9, -999.00,9, -999.00,9,  -999.0,9,  -999.0,-999.000,9,-999.000, -999.00,9,  206.50,-999.0000,9,-999.0000,9,-999.0000,9,-999.0000,9,-999.0000,9,-999.0000,-999.000,-999.0000,9, -999.00
318M20040615,        P02,      49,          1,         31,         31,2,20040703,       1833,    29.9992,      156.1,       5732,   256.2,  17.1020,  34.8073,2,  34.8073,2, 222.7000,2,   223.3,2,    3.65,2,    3.42,2,    0.01,2,    0.26,2,   2.499,2,   1.493,2,   0.134,2,  2020.2,2,  2284.9,2,-999.000,9,-999.0000,9, -999.00,9, -999.00,9,  -999.0,9,  -999.0,-999.000,9,-999.000, -999.00,9,  256.20,-999.0000,9,-999.0000,9,-999.0000,9,-999.0000,9,-999.0000,9,-999.0000,-999.000,-999.0000,9, -999.00
318M20040615,        P02,      49,          1,         30,         30,2,20040703,       1833,    29.9992,      156.1,       5732,   306.7,  16.5787,  34.7613,2,  34.7634,2, 213.9000,2,   220.9,2,    4.91,2,    4.74,2,    0.01,2,    0.34,2,   2.532,2,   1.510,2,   0.120,2,  2029.6,2,  2282.9,2,-999.000,9,-999.0000,9, -999.00,9, -999.00,9,  -999.0,9,  -999.0,-999.000,9,-999.000, -999.00,9,  306.70,-999.0000,9,-999.0000,9,-999.0000,9,-999.0000,9,-999.0000,9,-999.0000,-999.000,-999.0000,9, -999.00
318M20040615,        P02,      49,          1,         29,         29,2,20040703,       1833,    29.9992,      156.1,       5732,   356.5,  15.7604,  34.6668,2,  34.6687,2, 222.0000,2,   201.2,2,    8.36,2,    7.77,2,    0.01,2,    0.56,2,   2.559,2,   1.471,2,   0.063,2,  2049.6,2,  -999.0,9,-999.000,9,-999.0000,9, -999.00,9, -999.00,9,  -999.0,9,  -999.0,-999.000,9,-999.000, -999.00,9,  356.50,-999.0000,9,-999.0000,9,-999.0000,9,-999.0000,9,-999.0000,9,-999.0000,-999.000,-999.0000,9, -999.00
318M20040615,        P02,      49,          1,         28,         28,2,20040703,       1833,    29.9992,      156.1,       5732,   407.0,  14.2276,  34.5498,2,  34.5485,2, 199.2000,2,   196.6,2,   12.54,2,   10.52,2,    0.01,2,    0.75,2,   2.612,2,   1.486,2,   0.070,2,  -999.0,9,  2276.9,2,-999.000,9,-999.0000,9, -999.00,9, -999.00,9,  -999.0,9,  -999.0,-999.000,9,-999.000, -999.00,9,  407.00,-999.0000,9,-999.0000,9,-999.0000,9,-999.0000,9,-999.0000,9,-999.0000,-999.000,-999.0000,9, -999.00
318M20040615,        P02,      49,          1,         27,         27,2,20040703,       1833,    29.9992,      156.1,       5732,   456.5,  12.8290,  34.4436,2,  34.4444,2, 179.3000,2,   188.7,2,   17.82,2,   13.39,2,    0.01,2,    0.96,2,   2.604,2,   1.458,2,   0.067,2,  2093.7,2,  -999.0,9,-999.000,9,-999.0000,9, -999.00,9, -999.00,9,  -999.0,9,  -999.0,-999.000,9,-999.000, -999.00,9,  456.50,-999.0000,9,-999.0000,9,-999.0000,9,-999.0000,9,-999.0000,9,-999.0000,-999.000,-999.0000,9, -999.00
318M20040615,        P02,      49,          1,         26,         26,2,20040703,       1833,    29.9992,      156.1,       5732,   506.6,  11.1353,  34.3320,2,  34.3259,2, 180.0000,2,   181.9,2,   25.29,2,   16.82,2,    0.01,2,    1.22,2,   2.529,2,   1.400,2,   0.083,2,  -999.0,9,  2277.8,2,-999.000,9,-999.0000,9, -999.00,9, -999.00,9,  -999.0,9,  -999.0,-999.000,9,-999.000, -999.00,9,  506.60,-999.0000,9,-999.0000,9,-999.0000,9,-999.0000,9,-999.0000,9,-999.0000,-999.000,-999.0000,9, -999.00
318M20040615,        P02,      49,          1,         25,         25,2,20040703,       1833,    29.9992,      156.1,       5732,   608.2,   8.1055,  34.0970,2,  34.0957,2, 189.0000,2,   171.0,2,   40.41,2,   22.88,2,    0.00,2,    1.69,2,   2.575,6,   1.386,6,   0.115,6,  2164.5,2,  2280.2,2,-999.000,9,-999.0000,9, -999.00,9, -999.00,9,  -999.0,9,  -999.0,-999.000,9,-999.000, -999.00,9,  608.20,-999.0000,9,-999.0000,9,-999.0000,9,-999.0000,9,-999.0000,9,-999.0000,-999.000,-999.0000,9, -999.00
318M20040615,        P02,      49,          1,         24,         24,2,20040703,       1833,    29.9992,      156.1,       5732,   708.2,   5.7587,  34.0149,2,  34.0126,2, 137.5000,2,   128.4,2,   64.30,2,   31.15,2,    0.00,2,    2.29,2,   2.051,2,   1.062,2,   0.113,2,  -999.0,9,  2292.9,2,-999.000,9,-999.0000,9, -999.00,9, -999.00,9,  -999.0,9,  -999.0,-999.000,9,-999.000, -999.00,9,  708.20,-999.0000,9,-999.0000,9,-999.0000,9,-999.0000,9,-999.0000,9,-999.0000,-999.000,-999.0000,9, -999.00
318M20040615,        P02,      49,          1,         23,         23,2,20040703,       1833,    29.9992,      156.1,       5732,   808.4,   4.3531,  34.0348,2,  34.0341,2,  96.5000,2,    91.6,2,   89.12,2,   36.94,2,    0.00,2,    2.70,2,   1.707,2,   0.877,2,   0.096,2,  2281.8,2,  2310.3,2,-999.000,9,-999.0000,9, -999.00,9, -999.00,9,  -999.0,9,  -999.0,-999.000,9,-999.000, -999.00,9,  808.40,-999.0000,9,-999.0000,9,-999.0000,9,-999.0000,9,-999.0000,9,-999.0000,-999.000,-999.0000,9, -999.00
318M20040615,        P02,      49,          1,         22,         22,2,20040703,       1833,    29.9992,      156.1,       5732,   909.5,   4.2910,  34.1993,2,  34.1972,2,  63.4000,2,    61.0,2,  103.20,2,   39.65,2,    0.00,2,    2.86,2,   0.758,2,   0.389,2,   0.032,2,  -999.0,9,  -999.0,9,-999.000,9,-999.0000,9, -999.00,9, -999.00,9,  -999.0,9,  -999.0,-999.000,9,-999.000, -999.00,9,  909.50,-999.0000,9,-999.0000,9,-999.0000,9,-999.0000,9,-999.0000,9,-999.0000,-999.000,-999.0000,9, -999.00
318M20040615,        P02,      49,          1,         21,         21,2,20040703,       1833,    29.9992,      156.1,       5732,  1009.5,   3.7974,  34.2804,2,  34.2794,2,  48.5000,2,    47.4,2,  117.32,2,   41.40,2,    0.00,2,    2.97,2,   0.401,2,   0.208,2,   0.016,2,  2333.1,2,  -999.0,9,-999.000,9,-999.0000,9, -999.00,9, -999.00,9,  -999.0,9,  -999.0,-999.000,9,-999.000, -999.00,9, 1009.50,-999.0000,9,-999.0000,9,-999.0000,9,-999.0000,9,-999.0000,9,-999.0000,-999.000,-999.0000,9, -999.00
318M20040615,        P02,      49,          1,         20,         20,2,20040703,       1833,    29.9992,      156.1,       5732,  1110.0,   3.4329,  34.3351,2,  34.3341,2,  40.6000,2,    40.5,2,  128.01,2,   42.28,2,    0.00,2,    3.03,2,   0.231,2,   0.119,2,   0.005,2,  -999.0,9,  2361.2,2,-999.000,9,-999.0000,9, -999.00,9, -999.00,9,  -999.0,9,  -999.0,-999.000,9,-999.000, -999.00,9, 1110.00,-999.0000,9,-999.0000,9,-999.0000,9,-999.0000,9,-999.0000,9,-999.0000,-999.000,-999.0000,9, -999.00
318M20040615,        P02,      49,          1,         19,         19,2,20040703,       1833,    29.9992,      156.1,       5732,  1211.2,   3.1409,  34.3843,2,  34.3832,2,  38.6000,2,    38.7,2,  136.30,2,   42.63,2,    0.00,2,    3.06,2,   0.146,2,   0.073,2,   0.002,2,  2359.4,2,  -999.0,9,-999.000,9,-999.0000,9, -999.00,9, -999.00,9,  -999.0,9,  -999.0,-999.000,9,-999.000, -999.00,9, 1211.20,-999.0000,9,-999.0000,9,-999.0000,9,-999.0000,9,-999.0000,9,-999.0000,-999.000,-999.0000,9, -999.00
318M20040615,        P02,      49,          1,         18,         18,2,20040703,       1833,    29.9992,      156.1,       5732,  1311.6,   2.9209,  34.4218,2,  34.4211,2,  35.5000,2,    35.6,2,  142.96,2,   43.04,2,    0.00,2,    3.09,2,   0.079,2,   0.051,2,   0.001,2,  -999.0,5,  2380.9,2,-999.000,9,-999.0000,9, -999.00,9, -999.00,9,  -999.0,9,  -999.0,-999.000,9,-999.000, -999.00,9, 1311.60,-999.0000,9,-999.0000,9,-999.0000,9,-999.0000,9,-999.0000,9,-999.0000,-999.000,-999.0000,9, -999.00
318M20040615,        P02,      49,          1,         17,         17,2,20040703,       1833,    29.9992,      156.1,       5732,  1417.2,   2.6911,  34.4583,2,  34.4584,2,  37.7000,2,    37.7,2,  149.45,2,   43.04,2,    0.00,2,    3.09,2,   0.055,2,   0.030,2,   0.001,2,  -999.0,9,  -999.0,9,-999.000,9,-999.0000,9, -999.00,9, -999.00,9,  -999.0,9,  -999.0,-999.000,9,-999.000, -999.00,9, 1417.20,-999.0000,9,-999.0000,9,-999.0000,9,-999.0000,9,-999.0000,9,-999.0000,-999.000,-999.0000,9, -999.00
318M20040615,        P02,      49,          1,         16,         16,2,20040703,       1833,    29.9992,      156.1,       5732,  1518.2,   2.4978,  34.4921,2,  34.4924,2,  40.3000,2,    40.9,2,  155.01,2,   42.97,2,    0.00,2,    3.10,2,   0.034,2,   0.017,2,   0.000,2,  -999.0,9,  -999.0,9,-999.000,9,-999.0000,9, -999.00,9, -999.00,9,  -999.0,9,  -999.0,-999.000,9,-999.000, -999.00,9, 1518.20,-999.0000,9,-999.0000,9,-999.0000,9,-999.0000,9,-999.0000,9,-999.0000,-999.000,-999.0000,9, -999.00
318M20040615,        P02,      49,          1,         15,         15,2,20040703,       1833,    29.9992,      156.1,       5732,  1619.5,   2.3493,  34.5185,2,  34.5185,2,  44.8000,2,    46.9,2,  158.54,2,   42.68,2,    0.00,2,    3.06,2,   0.024,2,   0.012,2,   0.010,2,  -999.0,9,  2399.3,2,-999.000,9,-999.0000,9, -999.00,9, -999.00,9,  -999.0,9,  -999.0,-999.000,9,-999.000, -999.00,9, 1619.50,-999.0000,9,-999.0000,9,-999.0000,9,-999.0000,9,-999.0000,9,-999.0000,-999.000,-999.0000,9, -999.00
318M20040615,        P02,      49,          1,         14,         14,2,20040703,       1833,    29.9992,      156.1,       5732,  1826.1,   2.1155,  34.5625,2,  34.5625,2,  56.7000,2,    58.3,2,  163.38,2,   42.09,2,    0.00,2,    3.01,2,   0.009,2,   0.005,2,  -0.002,2,  -999.0,9,  -999.0,9,-999.000,9,-999.0000,9, -999.00,9, -999.00,9,  -999.0,9,  -999.0,-999.000,9,-999.000, -999.00,9, 1826.10,-999.0000,9,-999.0000,9,-999.0000,9,-999.0000,9,-999.0000,9,-999.0000,-999.000,-999.0000,9, -999.00
318M20040615,        P02,      49,          1,         13,         13,2,20040703,       1833,    29.9992,      156.1,       5732,  2027.9,   1.9365,  34.5965,2,  34.5969,2,  71.8000,2,    73.8,2,  164.73,2,   41.11,2,    0.00,2,    2.95,2,   0.007,2,   0.005,2,  -0.002,2,  -999.0,9,  2413.1,2,-999.000,9,-999.0000,9, -999.00,9, -999.00,9,  -999.0,9,  -999.0,-999.000,9,-999.000, -999.00,9, 2027.90,-999.0000,9,-999.0000,9,-999.0000,9,-999.0000,9,-999.0000,9,-999.0000,-999.000,-999.0000,9, -999.00
318M20040615,        P02,      49,          1,         12,         12,2,20040703,       1833,    29.9992,      156.1,       5732,  2281.4,   1.7771,  34.6257,2,  34.6244,2,  93.5000,2,    94.9,2,  162.27,2,   39.77,2,    0.00,2,    2.83,2,   0.001,2,   0.000,2,  -0.002,2,  -999.0,9,  -999.0,9,-999.000,9,-999.0000,9, -999.00,9, -999.00,9,  -999.0,9,  -999.0,-999.000,9,-999.000, -999.00,9, 2281.40,-999.0000,9,-999.0000,9,-999.0000,9,-999.0000,9,-999.0000,9,-999.0000,-999.000,-999.0000,9, -999.00
318M20040615,        P02,      49,          1,         11,         11,2,20040703,       1833,    29.9992,      156.1,       5732,  2534.8,   1.6702,  34.6422,2,  34.6411,2, 105.9000,2,   107.7,2,  161.11,2,   38.82,2,    0.00,2,    2.76,2,   0.001,2,   0.001,2,  -0.002,2,  -999.0,9,  2418.5,2,-999.000,9,-999.0000,9, -999.00,9, -999.00,9,  -999.0,9,  -999.0,-999.000,9,-999.000, -999.00,9, 2534.80,-999.0000,9,-999.0000,9,-999.0000,9,-999.0000,9,-999.0000,9,-999.0000,-999.000,-999.0000,9, -999.00
318M20040615,        P02,      49,          1,         10,         10,2,20040703,       1833,    29.9992,      156.1,       5732,  2787.3,   1.5851,  34.6561,2,  34.6546,2, 118.3000,2,   120.0,2,  158.67,2,   38.08,2,    0.00,2,    2.71,2,   0.001,2,   0.000,2,   0.000,2,  -999.0,9,  -999.0,9,-999.000,9,-999.0000,9, -999.00,9, -999.00,9,  -999.0,9,  -999.0,-999.000,9,-999.000, -999.00,9, 2787.30,-999.0000,9,-999.0000,9,-999.0000,9,-999.0000,9,-999.0000,9,-999.0000,-999.000,-999.0000,9, -999.00
318M20040615,        P02,      49,          1,          9,          9,2,20040703,       1833,    29.9992,      156.1,       5732,  3040.9,   1.5351,  34.6658,2,  34.6651,2, 130.1000,2,   130.5,2,  155.45,2,   37.61,2,    0.00,2,    2.65,2,   0.001,2,   0.001,2,  -0.002,2,  -999.0,9,  2418.0,2,-999.000,9,-999.0000,9, -999.00,9, -999.00,9,  -999.0,9,  -999.0,-999.000,9,-999.000, -999.00,9, 3040.90,-999.0000,9,-999.0000,9,-999.0000,9,-999.0000,9,-999.0000,9,-999.0000,-999.000,-999.0000,9, -999.00
318M20040615,        P02,      49,          1,          8,          8,2,20040703,       1833,    29.9992,      156.1,       5732,  3458.0,   1.4817,  34.6755,2,  34.6749,2, 140.0000,2,   140.6,2,  154.89,2,   37.09,2,    0.00,2,    2.59,2,   0.001,2,   0.001,2,  -0.002,2,  -999.0,9,  2417.1,2,-999.000,9,-999.0000,9, -999.00,9, -999.00,9,  -999.0,9,  -999.0,-999.000,9,-999.000, -999.00,9, 3458.00,-999.0000,9,-999.0000,9,-999.0000,9,-999.0000,9,-999.0000,9,-999.0000,-999.000,-999.0000,9, -999.00
318M20040615,        P02,      49,          1,          7,          7,2,20040703,       1833,    29.9992,      156.1,       5732,  3864.1,   1.4584,  34.6822,2,  34.6816,2, 148.5000,2,   148.8,2,  152.46,2,   36.53,2,    0.00,2,    2.55,2,   0.003,2,   0.003,2,  -0.002,2,  -999.0,9,  2417.0,2,-999.000,9,-999.0000,9, -999.00,9, -999.00,9,  -999.0,9,  -999.0,-999.000,9,-999.000, -999.00,9, 3864.10,-999.0000,9,-999.0000,9,-999.0000,9,-999.0000,9,-999.0000,9,-999.0000,-999.000,-999.0000,9, -999.00
318M20040615,        P02,      49,          1,          6,          6,2,20040703,       1833,    29.9992,      156.1,       5732,  4271.4,   1.4605,  34.6866,2,  34.6859,2, 153.9000,2,   154.5,2,  150.96,2,   36.07,2,    0.00,2,    2.53,2,  -0.004,2,  -0.003,2,  -0.002,2,  -999.0,9,  2415.0,2,-999.000,9,-999.0000,9, -999.00,9, -999.00,9,  -999.0,9,  -999.0,-999.000,9,-999.000, -999.00,9, 4271.40,-999.0000,9,-999.0000,9,-999.0000,9,-999.0000,9,-999.0000,9,-999.0000,-999.000,-999.0000,9, -999.00
318M20040615,        P02,      49,          1,          5,          5,2,20040703,       1833,    29.9992,      156.1,       5732,  4680.1,   1.4784,  34.6894,2,  34.6881,2, 158.6000,2,   158.8,2,  148.52,2,   35.72,2,    0.00,2,    2.50,2,  -0.004,2,  -0.003,2,  -0.002,2,  -999.0,9,  2413.3,2,-999.000,9,-999.0000,9, -999.00,9, -999.00,9,  -999.0,9,  -999.0,-999.000,9,-999.000, -999.00,9, 4680.10,-999.0000,9,-999.0000,9,-999.0000,9,-999.0000,9,-999.0000,9,-999.0000,-999.000,-999.0000,9, -999.00
318M20040615,        P02,      49,          1,          4,          4,2,20040703,       1833,    29.9992,      156.1,       5732,  5100.4,   1.4995,  34.6921,2,  34.6910,2, 163.9000,2,   164.2,2,  144.01,2,   35.31,2,    0.00,2,    2.46,2,   0.001,2,   0.002,2,   0.001,2,  -999.0,9,  2409.7,2,-999.000,9,-999.0000,9, -999.00,9, -999.00,9,  -999.0,9,  -999.0,-999.000,9,-999.000, -999.00,9, 5100.40,-999.0000,9,-999.0000,9,-999.0000,9,-999.0000,9,-999.0000,9,-999.0000,-999.000,-999.0000,9, -999.00
318M20040615,        P02,      49,          1,          3,          3,2,20040703,       1833,    29.9992,      156.1,       5732,  5299.5,   1.5094,  34.6934,2,  34.6920,2, 166.8000,2,   167.3,2,  141.38,2,   35.09,2,    0.00,2,    2.44,2,   0.002,2,   0.003,2,  -0.002,2,  -999.0,9,  2409.0,2,-999.000,9,-999.0000,9, -999.00,9, -999.00,9,  -999.0,9,  -999.0,-999.000,9,-999.000, -999.00,9, 5299.50,-999.0000,9,-999.0000,9,-999.0000,9,-999.0000,9,-999.0000,9,-999.0000,-999.000,-999.0000,9, -999.00
318M20040615,        P02,      49,          1,          2,          2,2,20040703,       1833,    29.9992,      156.1,       5732,  5607.3,   1.5342,  34.6946,2,  34.6940,2, 170.0000,2,   170.4,2,  138.77,2,   34.86,2,    0.00,2,    2.42,2,   0.004,2,   0.003,2,   0.001,2,  -999.0,9,  2406.7,2,-999.000,9,-999.0000,9, -999.00,9, -999.00,9,  -999.0,9,  -999.0,-999.000,9,-999.000, -999.00,9, 5607.30,-999.0000,9,-999.0000,9,-999.0000,9,-999.0000,9,-999.0000,9,-999.0000,-999.000,-999.0000,9, -999.00
318M20040615,        P02,      49,          1,          1,          1,2,20040703,       1833,    29.9992,      156.1,       5732,  5875.0,   1.5563,  34.6956,2,  34.6967,2, 172.3000,2,   173.0,2,  137.08,2,   34.74,2,    0.00,2,    2.42,2,   0.003,2,   0.004,2,   0.001,2,  -999.0,9,  2404.9,6,-999.000,9,-999.0000,9, -999.00,9, -999.00,9,  -999.0,9,  -999.0,-999.000,9,-999.000, -999.00,9, 5875.00,-999.0000,9,-999.0000,9,-999.0000,9,-999.0000,9,-999.0000,9,-999.0000,-999.000,-999.0000,9, -999.00