BOTTLE,20131027SIOCCHRJL
EXPOCODE,SECT_ID,STNNBR,CASTNO,SAMPNO,BTLNBR,BTLNBR_FLAG_W,DATE,TIME,LATITUDE,LONGITUDE,DEPTH,CTDPRS,CTDTMP,CTDSAL,CTDSAL_FLAG_W,SALNTY,SALNTY_FLAG_W,CTDOXY,CTDOXY_FLAG_W,OXYGEN,OXYGEN_FLAG_W,SILCAT,SILCAT_FLAG_W,NITRAT,NITRAT_FLAG_W,NITRIT,NITRIT_FLAG_W,PHSPHT,PHSPHT_FLAG_W,CFC-11,CFC-11_FLAG_W,CFC-12,CFC-12_FLAG_W,CFC113,CFC113_FLAG_W,TCARBN,TCARBN_FLAG_W,ALKALI,ALKALI_FLAG_W,TRITUM,TRITUM_FLAG_W,HELIUM,HELIUM_FLAG_W,DELHE3,DELHE3_FLAG_W,DELC13,DELC13_FLAG_W,DELC14,DELC14_FLAG_W,C14ERR,NEON,NEON_FLAG_W,NEONER,DOC,DOC_FLAG_W,CTDRAW,CDOM380,CDOM380_FLAG_W,CDOM325,CDOM325_FLAG_W,CDOMSL,CDOMSL_FLAG_W,CDOM340,CDOM340_FLAG_W,CDOMSN,CDOMSN_FLAG_W,HELIER,TRITER,CDOM412,CDOM412_FLAG_W,DELHER
,,,,,,,,,,,METERS,DBAR,ITS-90,PSS-78,,PSS-78,,UMOL/KG,,UMOL/KG,,UMOL/KG,,UMOL/KG,,UMOL/KG,,UMOL/KG,,PMOL/KG,,PMOL/KG,,PMOL/KG,,UMOL/KG,,UMOL/KG,,TU,,NMOL/KG,,PERCNT,,/MILLE,,/MILLE,,/MILLE,NMOL/KG,,NMOL/KG,UMOL/KG,,DBAR,1/M,,1/M,,1/NM,,1/M,,1/NM,,NMOL/KG,TU,1/M,,PERCNT
318M20040615,        P02,      23,          1,         28,         28,2,20040624,       0946,    29.9887,   139.3725,       2142,     6.5,  24.9956,  34.6673,2,  34.6675,2, 212.1000,2,   211.9,2,    1.40,2,    0.16,2,    0.00,2,    0.06,2,   1.935,2,   1.165,2,   0.152,2,  1967.3,6,  2278.7,6,   0.738,2,   1.7258,2,   -0.78,2, -999.00,9,  -999.0,9,  -999.0,-999.000,9,-999.000, -999.00,9,    6.50,-999.0000,9,-999.0000,9,-999.0000,9,-999.0000,9,-999.0000,9,   0.0086,   0.008,-999.0000,9,    0.20
318M20040615,        P02,      23,          1,         27,         27,2,20040624,       0946,    29.9887,   139.3725,       2142,    36.2,  22.2233,  34.7812,2,  34.7829,2, 228.2000,2,   224.3,2,    1.57,2,    0.16,2,    0.00,2,    0.07,2,   2.119,6,   1.270,6,   0.153,6,  1976.0,2,  2284.6,2,   0.736,2,   1.7486,2,   -0.67,2, -999.00,9,  -999.0,9,  -999.0,-999.000,9,-999.000, -999.00,9,   36.20,-999.0000,9,-999.0000,9,-999.0000,9,-999.0000,9,-999.0000,9,   0.0087,   0.007,-999.0000,9,    0.20
318M20040615,        P02,      23,          1,         26,         26,2,20040624,       0946,    29.9887,   139.3725,       2142,    71.1,  20.3127,  34.8651,2,  34.8647,2, 226.9000,2,   229.1,2,    1.75,2,    0.10,2,    0.00,2,    0.08,2,   2.285,2,   1.359,2,   0.145,2,  1989.7,2,  2293.7,2,-999.000,9,-999.0000,9, -999.00,9, -999.00,9,  -999.0,9,  -999.0,-999.000,9,-999.000, -999.00,9,   71.10,-999.0000,9,-999.0000,9,-999.0000,9,-999.0000,9,-999.0000,9,-999.0000,-999.000,-999.0000,9, -999.00
318M20040615,        P02,      23,          1,         25,         25,2,20040624,       0946,    29.9887,   139.3725,       2142,   121.1,  18.5853,  34.8677,2,  34.8661,2, 215.5000,2,   214.5,2,    2.82,2,    2.48,2,    0.02,2,    0.22,2,   2.356,2,   1.402,2,   0.126,2,  2008.6,2,  2289.0,2,   0.757,2,   1.7678,2,   -0.76,2, -999.00,9,  -999.0,9,  -999.0,-999.000,9,-999.000, -999.00,9,  121.10,-999.0000,9,-999.0000,9,-999.0000,9,-999.0000,9,-999.0000,9,   0.0088,   0.009,-999.0000,9,    0.20
318M20040615,        P02,      23,          1,         24,         24,2,20040624,       0946,    29.9887,   139.3725,       2142,   171.2,  17.9342,  34.8241,2,  34.8262,2, 215.2000,2,   216.7,2,    3.00,2,    2.75,2,    0.02,2,    0.24,2,   2.442,2,   1.457,2,   0.129,2,  -999.0,9,  2285.8,2,   0.756,2,   1.7704,2,   -0.63,2, -999.00,9,  -999.0,9,  -999.0,-999.000,9,-999.000, -999.00,9,  171.20,-999.0000,9,-999.0000,9,-999.0000,9,-999.0000,9,-999.0000,9,   0.0089,   0.008,-999.0000,9,    0.20
318M20040615,        P02,      23,          1,         23,         23,2,20040624,       0946,    29.9887,   139.3725,       2142,   221.0,  17.4066,  34.7916,2,  34.7936,2, 212.0000,2,   213.9,2,    3.71,2,    3.78,2,    0.01,2,    0.31,2,   2.472,2,   1.451,2,   0.103,2,  2022.5,2,  2284.9,2,   0.747,2,   1.7669,2,   -0.70,2, -999.00,9,  -999.0,9,  -999.0,-999.000,9,-999.000, -999.00,9,  221.00,-999.0000,9,-999.0000,9,-999.0000,9,-999.0000,9,-999.0000,9,   0.0088,   0.007,-999.0000,9,    0.20
318M20040615,        P02,      23,          1,         22,         22,2,20040624,       0946,    29.9887,   139.3725,       2142,   271.2,  17.1522,  34.7930,2,  34.7915,2, 209.5000,2,   219.1,2,    3.53,2,    3.74,2,    0.01,2,    0.30,2,   2.490,2,   1.490,2,   0.122,2,  -999.0,9,  2284.1,2,-999.000,9,-999.0000,9, -999.00,9, -999.00,9,  -999.0,9,  -999.0,-999.000,9,-999.000, -999.00,9,  271.20,-999.0000,9,-999.0000,9,-999.0000,9,-999.0000,9,-999.0000,9,-999.0000,-999.000,-999.0000,9, -999.00
318M20040615,        P02,      23,          1,         21,         21,2,20040624,       0946,    29.9887,   139.3725,       2142,   321.5,  16.8555,  34.7537,2,  34.7524,2, 210.3000,2,   210.0,2,    4.59,2,    4.98,2,    0.01,2,    0.39,2,   2.525,2,   1.479,2,   0.077,2,  -999.0,9,  2282.2,2,   0.795,2,   1.7721,2,   -0.11,2, -999.00,9,  -999.0,9,  -999.0,-999.000,9,-999.000, -999.00,9,  321.50,-999.0000,9,-999.0000,9,-999.0000,9,-999.0000,9,-999.0000,9,   0.0089,   0.008,-999.0000,9,    0.20
318M20040615,        P02,      23,          1,         20,         20,2,20040624,       0946,    29.9887,   139.3725,       2142,   371.2,  16.2296,  34.6956,2,  34.6962,2, 200.9000,2,   200.2,2,    6.57,2,    6.86,2,    0.01,2,    0.52,2,   2.527,2,   1.466,2,   0.037,2,  -999.0,9,  2282.0,2,-999.000,9,-999.0000,9, -999.00,9, -999.00,9,  -999.0,9,  -999.0,-999.000,9,-999.000, -999.00,9,  371.20,-999.0000,9,-999.0000,9,-999.0000,9,-999.0000,9,-999.0000,9,-999.0000,-999.000,-999.0000,9, -999.00
318M20040615,        P02,      23,          1,         19,         19,2,20040624,       0946,    29.9887,   139.3725,       2142,   420.9,  15.0462,  34.6041,2,  34.6054,2, 189.7000,2,   189.2,2,   10.51,2,    9.76,2,    0.00,2,    0.71,2,   2.586,2,   1.462,2,   0.030,2,  2067.0,2,  2279.4,2,   0.805,2,   1.7830,2,    2.84,2, -999.00,9,  -999.0,9,  -999.0,-999.000,9,-999.000, -999.00,9,  420.90,-999.0000,9,-999.0000,9,-999.0000,9,-999.0000,9,-999.0000,9,   0.0089,   0.008,-999.0000,9,    0.20
318M20040615,        P02,      23,          1,         18,         18,2,20040624,       0946,    29.9887,   139.3725,       2142,   470.4,  14.1518,  34.5382,2,  34.5418,2, 185.1000,2,   185.6,2,   13.20,2,   11.50,2,    0.00,2,    0.84,2,   2.612,2,   1.445,2,   0.029,2,  -999.0,9,  2277.5,2,-999.000,9,-999.0000,9, -999.00,9, -999.00,9,  -999.0,9,  -999.0,-999.000,9,-999.000, -999.00,9,  470.40,-999.0000,9,-999.0000,9,-999.0000,9,-999.0000,9,-999.0000,9,-999.0000,-999.000,-999.0000,9, -999.00
318M20040615,        P02,      23,          1,         17,         17,2,20040624,       0946,    29.9887,   139.3725,       2142,   543.6,  12.4481,  34.4269,2,  34.4284,2, 175.6000,2,   175.6,2,   20.57,2,   15.13,2,    0.00,2,    1.10,2,   2.519,2,   1.368,2,   0.039,2,  2107.0,2,  2277.0,2,   0.787,2,   1.8092,2,    6.22,2, -999.00,9,  -999.0,9,  -999.0,-999.000,9,-999.000, -999.00,9,  543.60,-999.0000,9,-999.0000,9,-999.0000,9,-999.0000,9,-999.0000,9,   0.0090,   0.008,-999.0000,9,    0.20
318M20040615,        P02,      23,          1,         16,         16,2,20040624,       0946,    29.9887,   139.3725,       2142,   640.5,   9.3810,  34.2450,2,  34.2444,2, 155.4000,2,   154.3,2,   38.60,2,   22.23,2,    0.00,2,    1.61,2,   2.218,2,   1.095,2,   0.058,2,  -999.0,9,  2284.7,2,   0.744,2,   1.8330,2,    9.95,2, -999.00,9,  -999.0,9,  -999.0,-999.000,9,-999.000, -999.00,9,  640.50,-999.0000,9,-999.0000,9,-999.0000,9,-999.0000,9,-999.0000,9,   0.0092,   0.006,-999.0000,9,    0.20
318M20040615,        P02,      23,          1,         15,         15,2,20040624,       0946,    29.9887,   139.3725,       2142,   739.1,   7.0984,  34.1671,2,  34.1695,2, 122.8000,2,   123.9,2,   59.78,2,   28.97,2,    0.00,2,    2.11,2,   1.687,2,   0.850,2,   0.049,2,  2217.9,2,  2300.0,2,-999.000,9,   1.8606,2,   13.24,2, -999.00,9,  -999.0,9,  -999.0,-999.000,9,-999.000, -999.00,9,  739.10,-999.0000,9,-999.0000,9,-999.0000,9,-999.0000,9,-999.0000,9,   0.0093,-999.000,-999.0000,9,    0.20
318M20040615,        P02,      23,          1,         14,         14,2,20040624,       0946,    29.9887,   139.3725,       2142,   840.0,   5.5823,  34.1827,2,  34.1827,2,  94.3000,2,    93.2,2,   80.89,2,   34.16,2,    0.00,2,    2.49,2,   1.158,2,   0.556,2,   0.036,2,  -999.0,9,  2317.3,2,   0.436,2,-999.0000,9, -999.00,9, -999.00,9,  -999.0,9,  -999.0,-999.000,9,-999.000, -999.00,9,  840.00,-999.0000,9,-999.0000,9,-999.0000,9,-999.0000,9,-999.0000,9,-999.0000,   0.004,-999.0000,9, -999.00
318M20040615,        P02,      23,          1,         13,         13,2,20040624,       0946,    29.9887,   139.3725,       2142,   936.8,   4.9510,  34.2213,2,  34.2227,2,  74.8000,2,    77.0,2,   93.28,2,   36.56,2,    0.00,2,    2.66,2,   0.833,2,   0.394,2,   0.023,2,  2290.3,2,  2327.4,2,-999.000,9,-999.0000,9, -999.00,9, -999.00,9,  -999.0,9,  -999.0,-999.000,9,-999.000, -999.00,9,  936.80,-999.0000,9,-999.0000,9,-999.0000,9,-999.0000,9,-999.0000,9,-999.0000,-999.000,-999.0000,9, -999.00
318M20040615,        P02,      23,          1,         12,         12,2,20040624,       0946,    29.9887,   139.3725,       2142,  1037.2,   4.2092,  34.2980,2,  34.3018,2,  63.2000,2,    62.8,2,  109.38,2,   38.85,2,    0.00,2,    2.82,2,   0.453,2,   0.213,2,   0.012,2,  2318.2,2,  2347.1,2,   0.193,2,-999.0000,9, -999.00,9, -999.00,9,  -999.0,9,  -999.0,-999.000,9,-999.000, -999.00,9, 1037.20,-999.0000,9,-999.0000,9,-999.0000,9,-999.0000,9,-999.0000,9,-999.0000,   0.003,-999.0000,9, -999.00
318M20040615,        P02,      23,          1,         11,         11,2,20040624,       0946,    29.9887,   139.3725,       2142,  1138.5,   3.7684,  34.3775,2,  34.3791,2,  62.7000,2,    62.2,2,  119.52,2,   39.47,2,    0.00,2,    2.86,2,   0.297,2,   0.143,2,   0.005,2,  2332.4,2,  2363.9,2,-999.000,9,-999.0000,9, -999.00,9, -999.00,9,  -999.0,9,  -999.0,-999.000,9,-999.000, -999.00,9, 1138.50,-999.0000,9,-999.0000,9,-999.0000,9,-999.0000,9,-999.0000,9,-999.0000,-999.000,-999.0000,9, -999.00
318M20040615,        P02,      23,          1,         10,         10,2,20040624,       0946,    29.9887,   139.3725,       2142,  1243.4,   3.4025,  34.4220,2,  34.4270,2,  62.9000,3,    63.7,2,  126.88,2,   39.87,2,    0.00,2,    2.89,2,   0.161,2,   0.081,2,   0.006,2,  -999.0,9,  2381.1,3,   0.081,2,   1.9042,2,   17.94,2, -999.00,9,  -999.0,9,  -999.0,-999.000,9,-999.000, -999.00,9, 1243.40,-999.0000,9,-999.0000,9,-999.0000,9,-999.0000,9,-999.0000,9,   0.0095,   0.002,-999.0000,9,    0.20
318M20040615,        P02,      23,          1,          9,          9,2,20040624,       0946,    29.9887,   139.3725,       2142,  1345.6,   3.1095,  34.4547,2,  34.4523,2,  65.1000,2,    64.9,2,  132.90,2,   40.02,2,    0.00,2,    2.88,2,   0.110,2,   0.055,2,   0.003,2,  -999.0,9,  2379.2,3,-999.000,9,-999.0000,9, -999.00,9, -999.00,9,  -999.0,9,  -999.0,-999.000,9,-999.000, -999.00,9, 1345.60,-999.0000,9,-999.0000,9,-999.0000,9,-999.0000,9,-999.0000,9,-999.0000,-999.000,-999.0000,9, -999.00
318M20040615,        P02,      23,          1,          8,          8,2,20040624,       0946,    29.9887,   139.3725,       2142,  1443.3,   2.8918,  34.4806,2,  34.4812,2,  67.9000,2,    68.5,2,  136.97,2,   40.14,2,    0.00,2,    2.89,2,   0.078,2,   0.040,2,  -0.001,2,  -999.0,9,  2385.5,3,   0.053,2,   1.9135,2,   18.55,2, -999.00,9,  -999.0,9,  -999.0,-999.000,9,-999.000, -999.00,9, 1443.30,-999.0000,9,-999.0000,9,-999.0000,9,-999.0000,9,-999.0000,9,   0.0096,   0.001,-999.0000,9,    0.20
318M20040615,        P02,      23,          1,          7,          7,2,20040624,       0946,    29.9887,   139.3725,       2142,  1541.9,   2.6739,  34.5076,2,  34.5101,2,  72.4000,3,    72.9,2,  140.64,2,   40.36,2,    0.00,2,    2.88,2,   0.058,2,   0.029,2,   0.003,2,  -999.0,9,  2398.3,3,-999.000,9,-999.0000,9, -999.00,9, -999.00,9,  -999.0,9,  -999.0,-999.000,9,-999.000, -999.00,9, 1541.90,-999.0000,9,-999.0000,9,-999.0000,9,-999.0000,9,-999.0000,9,-999.0000,-999.000,-999.0000,9, -999.00
318M20040615,        P02,      23,          1,          6,          6,2,20040624,       0946,    29.9887,   139.3725,       2142,  1640.1,   2.4883,  34.5313,2,  34.5314,2,  77.4000,2,    78.6,2,  143.75,2,   40.36,2,    0.00,2,    2.87,2,   0.041,2,   0.021,2,   0.002,2,  -999.0,9,  2397.0,3,   0.028,2,   1.9319,2,   18.66,2, -999.00,9,  -999.0,9,  -999.0,-999.000,9,-999.000, -999.00,9, 1640.10,-999.0000,9,-999.0000,9,-999.0000,9,-999.0000,9,-999.0000,9,   0.0097,   0.001,-999.0000,9,    0.20
318M20040615,        P02,      23,          1,          5,          5,2,20040624,       0946,    29.9887,   139.3725,       2142,  1738.7,   2.3049,  34.5528,2,  34.5650,2,  81.2000,3,    82.4,2,  147.25,2,   40.26,2,    0.00,2,    2.85,2,   0.031,2,   0.017,2,  -0.003,2,  -999.0,9,  2401.9,3,-999.000,9,-999.0000,9, -999.00,9, -999.00,9,  -999.0,9,  -999.0,-999.000,9,-999.000, -999.00,9, 1738.70,-999.0000,9,-999.0000,9,-999.0000,9,-999.0000,9,-999.0000,9,-999.0000,-999.000,-999.0000,9, -999.00
318M20040615,        P02,      23,          1,          4,          4,2,20040624,       0946,    29.9887,   139.3725,       2142,  1842.9,   2.2097,  34.5667,2,  34.5658,2,  86.6000,2,    86.9,2,  148.36,2,   39.77,2,    0.00,2,    2.84,2,   0.023,2,   0.013,2,   0.004,2,  -999.0,9,  2403.4,2,-999.000,9,-999.0000,9, -999.00,9, -999.00,9,  -999.0,9,  -999.0,-999.000,9,-999.000, -999.00,9, 1842.90,-999.0000,9,-999.0000,9,-999.0000,9,-999.0000,9,-999.0000,9,-999.0000,-999.000,-999.0000,9, -999.00
318M20040615,        P02,      23,          1,          3,          3,2,20040624,       0946,    29.9887,   139.3725,       2142,  1942.3,   2.1006,  34.5820,2,  34.5839,2,  91.9000,3,    92.3,2,  149.26,2,   39.56,2,    0.00,2,    2.82,2,   0.016,2,   0.010,2,  -0.003,2,  -999.0,9,  2406.8,2,   0.013,2,   1.9278,2,   18.88,2, -999.00,9,  -999.0,9,  -999.0,-999.000,9,-999.000, -999.00,9, 1942.30,-999.0000,9,-999.0000,9,-999.0000,9,-999.0000,9,-999.0000,9,   0.0096,   0.001,-999.0000,9,    0.20
318M20040615,        P02,      23,          1,          2,          2,2,20040624,       0946,    29.9887,   139.3725,       2142,  2085.8,   1.9366,  34.6050,2,  34.6049,2, 100.8000,2,   102.3,2,  150.33,2,   39.01,2,    0.00,2,    2.77,2,   0.016,2,   0.012,2,   0.002,2,  -999.0,9,  2410.4,2,-999.000,9,-999.0000,9, -999.00,9, -999.00,9,  -999.0,9,  -999.0,-999.000,9,-999.000, -999.00,9, 2085.80,-999.0000,9,-999.0000,9,-999.0000,9,-999.0000,9,-999.0000,9,-999.0000,-999.000,-999.0000,9, -999.00
318M20040615,        P02,      23,          1,          1,          1,2,20040624,       0946,    29.9887,   139.3725,       2142,  2237.8,   1.8663,  34.6168,2,  34.6175,2, 108.0000,2,   108.4,2,  150.15,2,   38.69,2,    0.00,2,    2.74,2,   0.011,2,   0.008,2,   0.001,2,  -999.0,9,  2411.9,6,-999.000,9,-999.0000,9, -999.00,9, -999.00,9,  -999.0,9,  -999.0,-999.000,9,-999.000, -999.00,9, 2237.80,-999.0000,9,-999.0000,9,-999.0000,9,-999.0000,9,-999.0000,9,-999.0000,-999.000,-999.0000,9, -999.00