BOTTLE,20131027SIOCCHRJL
EXPOCODE,SECT_ID,STNNBR,CASTNO,SAMPNO,BTLNBR,BTLNBR_FLAG_W,DATE,TIME,LATITUDE,LONGITUDE,DEPTH,CTDPRS,CTDTMP,CTDSAL,CTDSAL_FLAG_W,SALNTY,SALNTY_FLAG_W,CTDOXY,CTDOXY_FLAG_W,OXYGEN,OXYGEN_FLAG_W,SILCAT,SILCAT_FLAG_W,NITRAT,NITRAT_FLAG_W,NITRIT,NITRIT_FLAG_W,PHSPHT,PHSPHT_FLAG_W,CFC-11,CFC-11_FLAG_W,CFC-12,CFC-12_FLAG_W,CFC113,CFC113_FLAG_W,TCARBN,TCARBN_FLAG_W,ALKALI,ALKALI_FLAG_W,TRITUM,TRITUM_FLAG_W,HELIUM,HELIUM_FLAG_W,DELHE3,DELHE3_FLAG_W,DELC13,DELC13_FLAG_W,DELC14,DELC14_FLAG_W,C14ERR,NEON,NEON_FLAG_W,NEONER,DOC,DOC_FLAG_W,CTDRAW,CDOM380,CDOM380_FLAG_W,CDOM325,CDOM325_FLAG_W,CDOMSL,CDOMSL_FLAG_W,CDOM340,CDOM340_FLAG_W,CDOMSN,CDOMSN_FLAG_W,HELIER,TRITER,CDOM412,CDOM412_FLAG_W,DELHER
,,,,,,,,,,,METERS,DBAR,ITS-90,PSS-78,,PSS-78,,UMOL/KG,,UMOL/KG,,UMOL/KG,,UMOL/KG,,UMOL/KG,,UMOL/KG,,PMOL/KG,,PMOL/KG,,PMOL/KG,,UMOL/KG,,UMOL/KG,,TU,,NMOL/KG,,PERCNT,,/MILLE,,/MILLE,,/MILLE,NMOL/KG,,NMOL/KG,UMOL/KG,,DBAR,1/M,,1/M,,1/NM,,1/M,,1/NM,,NMOL/KG,TU,1/M,,PERCNT
318M20040615,        P02,     131,          2,         36,         36,2,20040811,       0950,    29.9943,  -151.1577,       5606,     6.5,  25.4010,  35.2693,2,  35.2558,2, 213.1000,2,   211.7,2,    1.22,2,    0.17,2,    0.00,2,    0.02,2,   1.838,2,   1.117,2,   0.129,2,  2010.3,6,  2320.6,6,-999.000,9,-999.0000,9, -999.00,9, -999.00,9,  -999.0,9,  -999.0,-999.000,9,-999.000,   79.00,4,    6.50,-999.0000,9,-999.0000,9,-999.0000,9,-999.0000,9,-999.0000,9,-999.0000,-999.000,-999.0000,9, -999.00
318M20040615,        P02,     131,          2,         35,         35,2,20040811,       0950,    29.9943,  -151.1577,       5606,    36.5,  24.2198,  35.1679,2,  35.1665,2, 215.2000,2,   219.0,2,    1.41,2,    0.16,2,    0.00,2,    0.02,2,   1.973,2,   1.204,2,   0.138,2,  2010.1,2,  2315.4,2,-999.000,9,-999.0000,9, -999.00,9, -999.00,9,  -999.0,9,  -999.0,-999.000,9,-999.000,   69.90,2,   36.50,-999.0000,9,-999.0000,9,-999.0000,9,-999.0000,9,-999.0000,9,-999.0000,-999.000,-999.0000,9, -999.00
318M20040615,        P02,     131,          2,         34,         34,2,20040811,       0950,    29.9943,  -151.1577,       5606,    71.2,  19.4616,  34.9650,2,  34.9580,2, 234.9000,2,   233.9,2,    2.17,2,    0.16,2,    0.00,2,    0.05,2,-999.000,9,-999.000,9,-999.000,9,  2013.8,2,  2299.7,2,-999.000,9,-999.0000,9, -999.00,9, -999.00,9,  -999.0,9,  -999.0,-999.000,9,-999.000,   66.00,2,   71.20,-999.0000,9,-999.0000,9,-999.0000,9,-999.0000,9,-999.0000,9,-999.0000,-999.000,-999.0000,9, -999.00
318M20040615,        P02,     131,          2,         33,         33,2,20040811,       0950,    29.9943,  -151.1577,       5606,   121.1,  16.5094,  34.5651,2,  34.5674,2, 242.0000,2,   242.1,2,    2.94,2,    0.16,2,    0.00,2,    0.11,2,   2.675,2,   1.538,2,   0.176,2,  2017.2,2,  2277.2,2,-999.000,9,-999.0000,9, -999.00,9, -999.00,9,  -999.0,9,  -999.0,-999.000,9,-999.000,   59.20,2,  121.10,-999.0000,9,-999.0000,9,-999.0000,9,-999.0000,9,-999.0000,9,-999.0000,-999.000,-999.0000,9, -999.00
318M20040615,        P02,     131,          2,         32,         32,2,20040811,       0950,    29.9943,  -151.1577,       5606,   170.2,  14.4311,  34.3932,2,  34.3944,2, 227.5000,2,   227.1,2,    5.08,2,    4.50,2,    0.03,2,    0.39,2,   2.921,2,   1.669,2,   0.152,2,  2041.2,2,  2264.6,2,-999.000,9,-999.0000,9, -999.00,9, -999.00,9,  -999.0,9,  -999.0,-999.000,9,-999.000,   53.80,2,  170.20,-999.0000,9,-999.0000,9,-999.0000,9,-999.0000,9,-999.0000,9,-999.0000,-999.000,-999.0000,9, -999.00
318M20040615,        P02,     131,          2,         31,         31,2,20040811,       0950,    29.9943,  -151.1577,       5606,   224.4,  12.4043,  34.2194,2,  34.2196,2, 220.7000,2,   224.0,2,    8.58,2,    8.97,2,    0.01,2,    0.68,2,   3.200,2,   1.800,2,   0.099,2,  2063.2,2,  2259.6,2,-999.000,9,-999.0000,9, -999.00,9, -999.00,9,  -999.0,9,  -999.0,-999.000,9,-999.000,   50.70,2,  224.40,-999.0000,9,-999.0000,9,-999.0000,9,-999.0000,9,-999.0000,9,-999.0000,-999.000,-999.0000,9, -999.00
318M20040615,        P02,     131,          2,         30,         30,2,20040811,       0950,    29.9943,  -151.1577,       5606,   273.6,  11.6199,  34.2236,2,  34.2241,2, 216.7000,2,   219.3,2,   11.69,2,   11.59,2,    0.01,2,    0.83,2,-999.000,9,-999.000,9,-999.000,9,  2078.6,2,  2261.5,2,-999.000,9,-999.0000,9, -999.00,9, -999.00,9,  -999.0,9,  -999.0,-999.000,9,-999.000,   45.90,2,  273.60,-999.0000,9,-999.0000,9,-999.0000,9,-999.0000,9,-999.0000,9,-999.0000,-999.000,-999.0000,9, -999.00
318M20040615,        P02,     131,          2,         29,         29,2,20040811,       0950,    29.9943,  -151.1577,       5606,   323.1,  10.7878,  34.1814,2,  34.1825,2, 215.7000,2,   216.0,2,   14.62,2,   13.59,2,    0.01,2,    0.97,2,   3.323,2,   1.808,2,   0.083,2,  2091.8,2,  2263.1,2,-999.000,9,-999.0000,9, -999.00,9, -999.00,9,  -999.0,9,  -999.0,-999.000,9,-999.000,   47.00,2,  323.10,-999.0000,9,-999.0000,9,-999.0000,9,-999.0000,9,-999.0000,9,-999.0000,-999.000,-999.0000,9, -999.00
318M20040615,        P02,     131,          2,         28,         28,2,20040811,       0950,    29.9943,  -151.1577,       5606,   373.4,  10.0212,  34.1466,2,  34.1478,2, 209.8000,2,   210.8,2,   18.33,2,   15.72,2,    0.01,2,    1.11,2,   3.307,2,   1.773,2,   0.095,2,  2105.4,2,  2264.1,2,-999.000,9,-999.0000,9, -999.00,9, -999.00,9,  -999.0,9,  -999.0,-999.000,9,-999.000, -999.00,9,  373.40,-999.0000,9,-999.0000,9,-999.0000,9,-999.0000,9,-999.0000,9,-999.0000,-999.000,-999.0000,9, -999.00
318M20040615,        P02,     131,          2,         27,         27,2,20040811,       0950,    29.9943,  -151.1577,       5606,   423.9,   9.2779,  34.1238,2,  34.1244,2, 193.7000,2,   194.2,2,   23.80,2,   18.82,2,    0.01,2,    1.31,2,   3.187,2,   1.672,2,   0.105,2,  2125.9,2,  2268.9,2,-999.000,9,-999.0000,9, -999.00,9, -999.00,9,  -999.0,9,  -999.0,-999.000,9,-999.000, -999.00,9,  423.90,-999.0000,9,-999.0000,9,-999.0000,9,-999.0000,9,-999.0000,9,-999.0000,-999.000,-999.0000,9, -999.00
318M20040615,        P02,     131,          2,         26,         26,2,20040811,       0950,    29.9943,  -151.1577,       5606,   474.2,   8.2202,  34.0636,2,  34.0650,2, 173.7000,2,   171.2,2,   33.02,2,   23.36,2,    0.01,2,    1.62,2,   2.967,2,   1.507,2,   0.120,2,  2156.5,2,  2272.6,2,-999.000,9,-999.0000,9, -999.00,9, -999.00,9,  -999.0,9,  -999.0,-999.000,9,-999.000,   43.40,2,  474.20,-999.0000,9,-999.0000,9,-999.0000,9,-999.0000,9,-999.0000,9,-999.0000,-999.000,-999.0000,9, -999.00
318M20040615,        P02,     131,          2,         25,         25,2,20040811,       0950,    29.9943,  -151.1577,       5606,   549.8,   6.4316,  34.0014,2,  34.0025,2, 133.2000,2,   129.1,2,   52.72,2,   30.96,2,    0.01,2,    2.16,2,   2.082,6,   1.021,6,   0.075,6,  2212.2,2,  2285.2,2,-999.000,9,-999.0000,9, -999.00,9, -999.00,9,  -999.0,9,  -999.0,-999.000,9,-999.000, -999.00,9,  549.80,-999.0000,9,-999.0000,9,-999.0000,9,-999.0000,9,-999.0000,9,-999.0000,-999.000,-999.0000,9, -999.00
318M20040615,        P02,     131,          2,         24,         24,2,20040811,       0950,    29.9943,  -151.1577,       5606,   652.1,   5.0388,  34.0364,2,  34.0358,2,  79.3000,2,    73.3,2,   77.08,2,   38.22,2,    0.01,2,    2.70,2,-999.000,9,-999.000,9,-999.000,9,  2274.8,2,  2304.1,2,-999.000,9,-999.0000,9, -999.00,9, -999.00,9,  -999.0,9,  -999.0,-999.000,9,-999.000,   41.00,2,  652.10,-999.0000,9,-999.0000,9,-999.0000,9,-999.0000,9,-999.0000,9,-999.0000,-999.000,-999.0000,9, -999.00
318M20040615,        P02,     131,          2,         23,         23,2,20040811,       0950,    29.9943,  -151.1577,       5606,   747.9,   4.4122,  34.1359,2,  34.1357,2,  37.7000,2,    32.7,2,   96.61,2,   42.39,2,    0.01,2,    3.00,2,   0.248,2,   0.121,2,   0.000,2,  2319.3,2,  2324.9,2,-999.000,9,-999.0000,9, -999.00,9, -999.00,9,  -999.0,9,  -999.0,-999.000,9,-999.000,   41.00,2,  747.90,-999.0000,9,-999.0000,9,-999.0000,9,-999.0000,9,-999.0000,9,-999.0000,-999.000,-999.0000,9, -999.00
318M20040615,        P02,     131,          2,         22,         22,2,20040811,       0950,    29.9943,  -151.1577,       5606,   847.4,   4.0821,  34.2614,2,  34.2606,2,  16.5000,2,    13.0,2,  111.01,2,   43.96,2,    0.01,2,    3.17,2,-999.000,9,-999.000,9,-999.000,9,  2346.2,2,  2347.8,2,-999.000,9,-999.0000,9, -999.00,9, -999.00,9,  -999.0,9,  -999.0,-999.000,9,-999.000,   43.00,2,  847.40,-999.0000,9,-999.0000,9,-999.0000,9,-999.0000,9,-999.0000,9,-999.0000,-999.000,-999.0000,9, -999.00
318M20040615,        P02,     131,          2,         21,         21,2,20040811,       0950,    29.9943,  -151.1577,       5606,   948.0,   3.8326,  34.3491,2,  34.3490,2,  11.5000,2,    11.6,2,  119.83,2,   44.28,2,    0.01,2,    3.21,2,   0.026,2,   0.014,2,   0.000,2,  2360.1,2,  2361.1,2,-999.000,9,-999.0000,9, -999.00,9, -999.00,9,  -999.0,9,  -999.0,-999.000,9,-999.000, -999.00,9,  948.00,-999.0000,9,-999.0000,9,-999.0000,9,-999.0000,9,-999.0000,9,-999.0000,-999.000,-999.0000,9, -999.00
318M20040615,        P02,     131,          2,         20,         20,2,20040811,       0950,    29.9943,  -151.1577,       5606,  1048.4,   3.5392,  34.4016,2,  34.4012,2,  13.8000,2,    15.1,2,  127.89,2,   44.33,2,    0.01,2,    3.20,2,-999.000,9,-999.000,9,-999.000,9,  2367.6,6,  2362.5,3,-999.000,9,-999.0000,9, -999.00,9, -999.00,9,  -999.0,9,  -999.0,-999.000,9,-999.000,   39.40,2, 1048.40,-999.0000,9,-999.0000,9,-999.0000,9,-999.0000,9,-999.0000,9,-999.0000,-999.000,-999.0000,9, -999.00
318M20040615,        P02,     131,          2,         19,         19,2,20040811,       0950,    29.9943,  -151.1577,       5606,  1149.0,   3.3172,  34.4527,2,  34.4528,2,  21.3000,2,    22.6,2,  133.34,2,   44.06,2,    0.01,2,    3.17,2,   0.012,2,   0.006,2,   0.000,2,  2370.3,2,  2381.9,6,-999.000,9,-999.0000,9, -999.00,9, -999.00,9,  -999.0,9,  -999.0,-999.000,9,-999.000, -999.00,9, 1149.00,-999.0000,9,-999.0000,9,-999.0000,9,-999.0000,9,-999.0000,9,-999.0000,-999.000,-999.0000,9, -999.00
318M20040615,        P02,     131,          2,         18,         18,2,20040811,       0950,    29.9943,  -151.1577,       5606,  1254.2,   3.1075,  34.4881,2,  34.4883,2,  30.7000,2,    31.0,2,  137.78,2,   43.56,2,    0.01,2,    3.13,2,-999.000,9,-999.000,9,-999.000,9,  2370.0,2,  2389.7,6,-999.000,9,-999.0000,9, -999.00,9, -999.00,9,  -999.0,9,  -999.0,-999.000,9,-999.000,   38.50,2, 1254.20,-999.0000,9,-999.0000,9,-999.0000,9,-999.0000,9,-999.0000,9,-999.0000,-999.000,-999.0000,9, -999.00
318M20040615,        P02,     131,          2,         17,         17,2,20040811,       0950,    29.9943,  -151.1577,       5606,  1354.1,   2.9229,  34.5157,2,  34.5159,2,  40.0000,2,    39.0,2,  141.62,2,   43.18,2,    0.01,2,    3.09,2,   0.006,2,   0.004,2,   0.000,2,  2370.0,2,  2395.9,2,-999.000,9,-999.0000,9, -999.00,9, -999.00,9,  -999.0,9,  -999.0,-999.000,9,-999.000, -999.00,9, 1354.10,-999.0000,9,-999.0000,9,-999.0000,9,-999.0000,9,-999.0000,9,-999.0000,-999.000,-999.0000,9, -999.00
318M20040615,        P02,     131,          2,         16,         16,2,20040811,       0950,    29.9943,  -151.1577,       5606,  1455.1,   2.7302,  34.5413,2,  34.5418,2,  49.3000,2,    49.0,2,  145.25,2,   42.90,2,    0.00,2,    3.04,2,-999.000,9,-999.000,9,-999.000,9,  2371.5,2,  2404.3,6,-999.000,9,-999.0000,9, -999.00,9, -999.00,9,  -999.0,9,  -999.0,-999.000,9,-999.000,   36.80,2, 1455.10,-999.0000,9,-999.0000,9,-999.0000,9,-999.0000,9,-999.0000,9,-999.0000,-999.000,-999.0000,9, -999.00
318M20040615,        P02,     131,          2,         15,         15,2,20040811,       0950,    29.9943,  -151.1577,       5606,  1555.3,   2.5716,  34.5608,2,  34.5607,2,  57.1000,2,    56.9,2,  148.68,2,   42.78,2,    0.00,2,    3.00,2,   0.006,2,   0.003,2,   0.000,2,  2370.4,2,  2405.4,2,-999.000,9,-999.0000,9, -999.00,9, -999.00,9,  -999.0,9,  -999.0,-999.000,9,-999.000, -999.00,9, 1555.30,-999.0000,9,-999.0000,9,-999.0000,9,-999.0000,9,-999.0000,9,-999.0000,-999.000,-999.0000,9, -999.00
318M20040615,        P02,     131,          2,         14,         14,2,20040811,       0950,    29.9943,  -151.1577,       5606,  1760.5,   2.2776,  34.5879,2,  34.5879,2,  66.8000,2,    66.8,2,  156.38,2,   42.12,2,    0.00,2,    2.94,2,   0.007,2,   0.002,2,   0.000,2,  2372.5,2,  2413.5,6,-999.000,9,-999.0000,9, -999.00,9, -999.00,9,  -999.0,9,  -999.0,-999.000,9,-999.000, -999.00,9, 1760.50,-999.0000,9,-999.0000,9,-999.0000,9,-999.0000,9,-999.0000,9,-999.0000,-999.000,-999.0000,9, -999.00
318M20040615,        P02,     131,          2,         13,         13,2,20040811,       0950,    29.9943,  -151.1577,       5606,  1961.0,   2.0653,  34.6109,2,  34.6109,2,  78.8000,2,    78.9,2,  160.63,2,   41.36,2,    0.00,2,    2.89,2,   0.005,2,   0.002,2,   0.000,2,  2369.7,2,  2412.5,3,-999.000,9,-999.0000,9, -999.00,9, -999.00,9,  -999.0,9,  -999.0,-999.000,9,-999.000,   36.60,2, 1961.00,-999.0000,9,-999.0000,9,-999.0000,9,-999.0000,9,-999.0000,9,-999.0000,-999.000,-999.0000,9, -999.00
318M20040615,        P02,     131,          2,          6,          6,2,20040811,       0950,    29.9943,  -151.1577,       5606,  2122.5,   1.9384,  34.6240,2,  34.6236,2,  84.8000,2,    85.5,2,  164.29,2,   40.81,2,    0.00,2,    2.86,2,   0.003,2,   0.000,2,   0.000,2,  2372.9,2,  2416.5,3,-999.000,9,-999.0000,9, -999.00,9, -999.00,9,  -999.0,9,  -999.0,-999.000,9,-999.000,   36.30,2, 2122.50,-999.0000,9,-999.0000,9,-999.0000,9,-999.0000,9,-999.0000,9,-999.0000,-999.000,-999.0000,9, -999.00
318M20040615,        P02,     131,          2,          5,          5,2,20040811,       0950,    29.9943,  -151.1577,       5606,  2376.7,   1.7824,  34.6404,2,  34.6403,2,  96.3000,2,    96.4,2,  166.72,2,   39.94,2,    0.00,2,    2.80,2,   0.007,2,   0.004,2,   0.000,2,  2365.6,2,  2427.3,2,-999.000,9,-999.0000,9, -999.00,9, -999.00,9,  -999.0,9,  -999.0,-999.000,9,-999.000,   36.10,2, 2376.70,-999.0000,9,-999.0000,9,-999.0000,9,-999.0000,9,-999.0000,9,-999.0000,-999.000,-999.0000,9, -999.00
318M20040615,        P02,     131,          2,          4,          4,2,20040811,       0950,    29.9943,  -151.1577,       5606,  2636.5,   1.6779,  34.6517,2,  34.6513,2, 105.0000,2,   105.4,2,  167.96,2,   39.34,2,    0.00,2,    2.75,2,-999.000,9,-999.000,9,-999.000,9,  2361.2,2,  2427.9,2,-999.000,9,-999.0000,9, -999.00,9, -999.00,9,  -999.0,9,  -999.0,-999.000,9,-999.000, -999.00,9, 2636.50,-999.0000,9,-999.0000,9,-999.0000,9,-999.0000,9,-999.0000,9,-999.0000,-999.000,-999.0000,9, -999.00
318M20040615,        P02,     131,          2,          3,          3,2,20040811,       0950,    29.9943,  -151.1577,       5606,  2895.4,   1.5921,  34.6613,2,  34.6607,2, 114.1000,2,   114.1,2,  168.16,2,   38.75,2,    0.00,2,    2.70,2,   0.007,2,   0.002,2,   0.000,2,  2357.8,2,  2427.9,2,-999.000,9,-999.0000,9, -999.00,9, -999.00,9,  -999.0,9,  -999.0,-999.000,9,-999.000,   35.30,2, 2895.40,-999.0000,9,-999.0000,9,-999.0000,9,-999.0000,9,-999.0000,9,-999.0000,-999.000,-999.0000,9, -999.00
318M20040615,        P02,     131,          2,          2,          2,2,20040811,       0950,    29.9943,  -151.1577,       5606,  3145.2,   1.5314,  34.6694,2,  34.6687,2, 122.8000,2,   123.6,2,  166.74,2,   38.15,2,    0.00,2,    2.66,2,-999.000,9,-999.000,9,-999.000,9,  2349.9,2,  2429.8,2,-999.000,9,-999.0000,9, -999.00,9, -999.00,9,  -999.0,9,  -999.0,-999.000,9,-999.000,   37.10,2, 3145.20,-999.0000,9,-999.0000,9,-999.0000,9,-999.0000,9,-999.0000,9,-999.0000,-999.000,-999.0000,9, -999.00
318M20040615,        P02,     131,          2,          1,          1,2,20040811,       0950,    29.9943,  -151.1577,       5606,  3552.8,   1.4837,  34.6786,2,  34.6785,2, 135.0000,2,   135.4,2,  163.88,2,   37.39,2,    0.00,2,    2.59,2,   0.006,2,   0.004,2,   0.000,2,  2341.2,2,  2430.1,6,-999.000,9,-999.0000,9, -999.00,9, -999.00,9,  -999.0,9,  -999.0,-999.000,9,-999.000,   37.00,2, 3552.80,-999.0000,9,-999.0000,9,-999.0000,9,-999.0000,9,-999.0000,9,-999.0000,-999.000,-999.0000,9, -999.00
318M20040615,        P02,     131,          2,         12,         12,2,20040811,       0950,    29.9943,  -151.1577,       5606,  3965.7,   1.4756,  34.6843,2,  34.6855,2, 143.0000,2,   144.1,2,  158.78,2,   37.07,2,    0.00,2,    2.54,2,   0.006,2,   0.004,2,   0.000,2,  2334.6,2,  2430.4,2,-999.000,9,-999.0000,9, -999.00,9, -999.00,9,  -999.0,9,  -999.0,-999.000,9,-999.000, -999.00,9, 3965.70,-999.0000,9,-999.0000,9,-999.0000,9,-999.0000,9,-999.0000,9,-999.0000,-999.000,-999.0000,9, -999.00
318M20040615,        P02,     131,          2,         11,         11,2,20040811,       0950,    29.9943,  -151.1577,       5606,  4367.3,   1.4841,  34.6879,2,  34.6872,2, 150.1000,2,   150.6,2,  154.90,2,   36.79,2,    0.00,2,    2.49,2,   0.008,2,   0.006,2,   0.000,2,  2329.1,2,  2427.3,2,-999.000,9,-999.0000,9, -999.00,9, -999.00,9,  -999.0,9,  -999.0,-999.000,9,-999.000,   36.90,2, 4367.30,-999.0000,9,-999.0000,9,-999.0000,9,-999.0000,9,-999.0000,9,-999.0000,-999.000,-999.0000,9, -999.00
318M20040615,        P02,     131,          2,         10,         10,2,20040811,       0950,    29.9943,  -151.1577,       5606,  4785.1,   1.5073,  34.6899,2,  34.6894,2, 155.5000,2,   155.9,2,  150.02,2,   36.36,2,    0.00,2,    2.47,2,   0.011,6,   0.008,6,   0.000,6,  2324.3,2,  2423.2,2,-999.000,9,-999.0000,9, -999.00,9, -999.00,9,  -999.0,9,  -999.0,-999.000,9,-999.000, -999.00,9, 4785.10,-999.0000,9,-999.0000,9,-999.0000,9,-999.0000,9,-999.0000,9,-999.0000,-999.000,-999.0000,9, -999.00
318M20040615,        P02,     131,          2,          9,          9,2,20040811,       0950,    29.9943,  -151.1577,       5606,  5199.5,   1.5363,  34.6916,2,  34.6909,2, 159.5000,2,   159.6,2,  146.96,2,   35.98,2,    0.00,2,    2.46,2,   0.010,2,   0.004,2,   0.000,2,  2317.1,2,  2416.9,2,-999.000,9,-999.0000,9, -999.00,9, -999.00,9,  -999.0,9,  -999.0,-999.000,9,-999.000, -999.00,9, 5199.50,-999.0000,9,-999.0000,9,-999.0000,9,-999.0000,9,-999.0000,9,-999.0000,-999.000,-999.0000,9, -999.00
318M20040615,        P02,     131,          2,          8,          8,2,20040811,       0950,    29.9943,  -151.1577,       5606,  5531.1,   1.5675,  34.6924,2,  34.6921,2, 161.5000,2,   162.1,2,  144.92,2,   35.70,2,    0.00,2,    2.45,2,   0.007,2,   0.007,2,   0.000,2,  2315.5,2,  2416.1,6,-999.000,9,-999.0000,9, -999.00,9, -999.00,9,  -999.0,9,  -999.0,-999.000,9,-999.000,   37.70,2, 5531.10,-999.0000,9,-999.0000,9,-999.0000,9,-999.0000,9,-999.0000,9,-999.0000,-999.000,-999.0000,9, -999.00
318M20040615,        P02,     131,          2,          7,          7,2,20040811,       0950,    29.9943,  -151.1577,       5606,  5741.8,   1.5943,  34.6925,2,  34.6917,2, 161.6000,2,   162.0,2,  144.92,2,   35.59,2,    0.00,2,    2.45,2,   0.008,2,   0.009,2,   0.000,2,  2314.3,2,  2418.3,2,-999.000,9,-999.0000,9, -999.00,9, -999.00,9,  -999.0,9,  -999.0,-999.000,9,-999.000,   36.60,2, 5741.80,-999.0000,9,-999.0000,9,-999.0000,9,-999.0000,9,-999.0000,9,-999.0000,-999.000,-999.0000,9, -999.00