BOTTLE,20131027SIOCCHRJL
EXPOCODE,SECT_ID,STNNBR,CASTNO,SAMPNO,BTLNBR,BTLNBR_FLAG_W,DATE,TIME,LATITUDE,LONGITUDE,DEPTH,CTDPRS,CTDTMP,CTDSAL,CTDSAL_FLAG_W,SALNTY,SALNTY_FLAG_W,CTDOXY,CTDOXY_FLAG_W,OXYGEN,OXYGEN_FLAG_W,SILCAT,SILCAT_FLAG_W,NITRAT,NITRAT_FLAG_W,NITRIT,NITRIT_FLAG_W,PHSPHT,PHSPHT_FLAG_W,CFC-11,CFC-11_FLAG_W,CFC-12,CFC-12_FLAG_W,CFC113,CFC113_FLAG_W,TCARBN,TCARBN_FLAG_W,ALKALI,ALKALI_FLAG_W,TRITUM,TRITUM_FLAG_W,HELIUM,HELIUM_FLAG_W,DELHE3,DELHE3_FLAG_W,DELC13,DELC13_FLAG_W,DELC14,DELC14_FLAG_W,C14ERR,NEON,NEON_FLAG_W,NEONER,DOC,DOC_FLAG_W,CTDRAW,CDOM380,CDOM380_FLAG_W,CDOM325,CDOM325_FLAG_W,CDOMSL,CDOMSL_FLAG_W,CDOM340,CDOM340_FLAG_W,CDOMSN,CDOMSN_FLAG_W,HELIER,TRITER,CDOM412,CDOM412_FLAG_W,DELHER
,,,,,,,,,,,METERS,DBAR,ITS-90,PSS-78,,PSS-78,,UMOL/KG,,UMOL/KG,,UMOL/KG,,UMOL/KG,,UMOL/KG,,UMOL/KG,,PMOL/KG,,PMOL/KG,,PMOL/KG,,UMOL/KG,,UMOL/KG,,TU,,NMOL/KG,,PERCNT,,/MILLE,,/MILLE,,/MILLE,NMOL/KG,,NMOL/KG,UMOL/KG,,DBAR,1/M,,1/M,,1/NM,,1/M,,1/NM,,NMOL/KG,TU,1/M,,PERCNT
318M20040615,        P02,      67,          1,         36,         36,2,20040710,       0407,    29.9957,    168.738,       5641,    10.8,  25.2939,  34.8673,2,  34.8641,2, 215.3000,2,   214.3,2,    1.16,2,    0.10,2,    0.00,2,    0.03,2,   1.891,2,   1.160,2,   0.136,2,  1982.2,6,  2292.4,3,-999.000,9,-999.0000,9, -999.00,9, -999.00,9,  -999.0,9,  -999.0,-999.000,9,-999.000, -999.00,9,   10.80,-999.0000,9,-999.0000,9,-999.0000,9,-999.0000,9,-999.0000,9,-999.0000,-999.000,-999.0000,9, -999.00
318M20040615,        P02,      67,          1,         35,         35,2,20040710,       0407,    29.9957,    168.738,       5641,    52.6,  20.4726,  34.8090,2,  34.8120,2, 226.3000,2,   226.5,2,    1.30,2,    0.09,2,    0.00,2,    0.07,2,   2.159,2,   1.298,2,   0.110,2,  -999.0,9,  -999.0,9,-999.000,9,-999.0000,9, -999.00,9, -999.00,9,  -999.0,9,  -999.0,-999.000,9,-999.000, -999.00,9,   52.60,-999.0000,9,-999.0000,9,-999.0000,9,-999.0000,9,-999.0000,9,-999.0000,-999.000,-999.0000,9, -999.00
318M20040615,        P02,      67,          1,         34,         34,2,20040710,       0407,    29.9957,    168.738,       5641,   102.5,  18.3208,  34.8812,2,  34.8863,2, 222.1000,2,   221.7,2,    2.34,2,    1.20,2,    0.15,2,    0.14,2,   2.368,2,   1.400,2,   0.138,2,  2014.7,2,  2290.5,2,-999.000,9,-999.0000,9, -999.00,9, -999.00,9,  -999.0,9,  -999.0,-999.000,9,-999.000, -999.00,9,  102.50,-999.0000,9,-999.0000,9,-999.0000,9,-999.0000,9,-999.0000,9,-999.0000,-999.000,-999.0000,9, -999.00
318M20040615,        P02,      67,          1,         33,         33,2,20040710,       0407,    29.9957,    168.738,       5641,   152.3,  17.0976,  34.7792,2,  34.7794,2, 216.6000,2,   217.9,2,    3.55,2,    3.85,2,    0.01,2,    0.27,2,   2.471,2,   1.483,2,   0.114,2,  -999.0,9,  -999.0,9,-999.000,9,-999.0000,9, -999.00,9, -999.00,9,  -999.0,9,  -999.0,-999.000,9,-999.000, -999.00,9,  152.30,-999.0000,9,-999.0000,9,-999.0000,9,-999.0000,9,-999.0000,9,-999.0000,-999.000,-999.0000,9, -999.00
318M20040615,        P02,      67,          1,         32,         32,2,20040710,       0407,    29.9957,    168.738,       5641,   202.0,  16.5801,  34.7463,2,  34.7458,2, 217.3000,2,   217.3,2,    4.58,2,    4.83,2,    0.01,2,    0.34,2,   2.483,2,   1.472,2,   0.090,2,  2029.8,2,  2280.8,2,-999.000,9,-999.0000,9, -999.00,9, -999.00,9,  -999.0,9,  -999.0,-999.000,9,-999.000, -999.00,9,  202.00,-999.0000,9,-999.0000,9,-999.0000,9,-999.0000,9,-999.0000,9,-999.0000,-999.000,-999.0000,9, -999.00
318M20040615,        P02,      67,          1,         31,         31,2,20040710,       0407,    29.9957,    168.738,       5641,   251.6,  16.0222,  34.6921,2,  34.6943,2, 218.2000,2,   211.7,2,    6.15,2,    6.19,2,    0.01,2,    0.43,2,   2.541,2,   1.476,2,   0.074,2,  -999.0,9,  -999.0,9,-999.000,9,-999.0000,9, -999.00,9, -999.00,9,  -999.0,9,  -999.0,-999.000,9,-999.000, -999.00,9,  251.60,-999.0000,9,-999.0000,9,-999.0000,9,-999.0000,9,-999.0000,9,-999.0000,-999.000,-999.0000,9, -999.00
318M20040615,        P02,      67,          1,         30,         30,2,20040710,       0407,    29.9957,    168.738,       5641,   301.6,  15.3010,  34.6313,2,  34.6352,2, 211.9000,2,   210.2,2,    7.91,2,    7.44,2,    0.01,2,    0.53,2,   2.582,2,   1.486,2,   0.079,2,  2049.6,2,  2278.5,2,-999.000,9,-999.0000,9, -999.00,9, -999.00,9,  -999.0,9,  -999.0,-999.000,9,-999.000, -999.00,9,  301.60,-999.0000,9,-999.0000,9,-999.0000,9,-999.0000,9,-999.0000,9,-999.0000,-999.000,-999.0000,9, -999.00
318M20040615,        P02,      67,          1,         29,         29,2,20040710,       0407,    29.9957,    168.738,       5641,   351.7,  14.2493,  34.5413,2,  34.5412,2, 202.9000,2,   203.7,2,   10.73,2,    9.66,2,    0.00,2,    0.67,2,   2.666,2,   1.491,2,   0.062,2,  -999.0,9,  -999.0,9,-999.000,9,-999.0000,9, -999.00,9, -999.00,9,  -999.0,9,  -999.0,-999.000,9,-999.000, -999.00,9,  351.70,-999.0000,9,-999.0000,9,-999.0000,9,-999.0000,9,-999.0000,9,-999.0000,-999.000,-999.0000,9, -999.00
318M20040615,        P02,      67,          1,         28,         28,2,20040710,       0407,    29.9957,    168.738,       5641,   401.3,  13.1241,  34.4626,2,  34.4641,2, 193.6000,2,   194.2,2,   14.82,2,   12.31,2,    0.00,2,    0.86,2,   2.660,2,   1.462,2,   0.050,2,  2085.1,2,  2274.4,2,-999.000,9,-999.0000,9, -999.00,9, -999.00,9,  -999.0,9,  -999.0,-999.000,9,-999.000, -999.00,9,  401.30,-999.0000,9,-999.0000,9,-999.0000,9,-999.0000,9,-999.0000,9,-999.0000,-999.000,-999.0000,9, -999.00
318M20040615,        P02,      67,          1,         27,         27,2,20040710,       0407,    29.9957,    168.738,       5641,   451.3,  11.7274,  34.3565,2,  34.3588,2, 194.1000,2,   195.0,2,   19.11,2,   14.48,2,    0.00,2,    1.03,2,   2.751,2,   1.501,2,   0.070,2,  -999.0,9,  -999.0,9,-999.000,9,-999.0000,9, -999.00,9, -999.00,9,  -999.0,9,  -999.0,-999.000,9,-999.000, -999.00,9,  451.30,-999.0000,9,-999.0000,9,-999.0000,9,-999.0000,9,-999.0000,9,-999.0000,-999.000,-999.0000,9, -999.00
318M20040615,        P02,      67,          1,         26,         26,2,20040710,       0407,    29.9957,    168.738,       5641,   501.3,   9.8944,  34.2030,2,  34.2019,2, 191.6000,2,   192.7,2,   25.22,2,   17.79,2,    0.00,2,    1.27,2,   2.854,2,   1.518,2,   0.090,2,  2125.5,2,  2271.0,2,-999.000,9,-999.0000,9, -999.00,9, -999.00,9,  -999.0,9,  -999.0,-999.000,9,-999.000, -999.00,9,  501.30,-999.0000,9,-999.0000,9,-999.0000,9,-999.0000,9,-999.0000,9,-999.0000,-999.000,-999.0000,9, -999.00
318M20040615,        P02,      67,          1,         25,         25,2,20040710,       0407,    29.9957,    168.738,       5641,   601.3,   8.0173,  34.0717,2,  34.0719,2, 177.3000,2,   178.0,2,   37.32,2,   22.48,2,    0.00,2,    1.63,2,   2.722,2,   1.417,2,   0.117,2,  -999.0,9,  -999.0,9,-999.000,9,-999.0000,9, -999.00,9, -999.00,9,  -999.0,9,  -999.0,-999.000,9,-999.000, -999.00,9,  601.30,-999.0000,9,-999.0000,9,-999.0000,9,-999.0000,9,-999.0000,9,-999.0000,-999.000,-999.0000,9, -999.00
318M20040615,        P02,      67,          1,         24,         24,2,20040710,       0407,    29.9957,    168.738,       5641,   701.5,   5.6729,  34.0073,2,  34.0096,2, 134.0000,2,   129.3,2,   64.26,2,   30.98,2,    0.00,2,    2.28,2,   2.105,2,   1.074,2,   0.094,2,  2230.9,2,  2295.0,3,-999.000,9,-999.0000,9, -999.00,9, -999.00,9,  -999.0,9,  -999.0,-999.000,9,-999.000, -999.00,9,  701.50,-999.0000,9,-999.0000,9,-999.0000,9,-999.0000,9,-999.0000,9,-999.0000,-999.000,-999.0000,9, -999.00
318M20040615,        P02,      67,          1,         23,         23,2,20040710,       0407,    29.9957,    168.738,       5641,   801.4,   4.7503,  34.1043,2,  34.1045,2,  85.3000,2,    82.8,2,   87.13,2,   36.77,2,    0.00,2,    2.67,2,   1.268,2,   0.629,2,   0.056,2,  -999.0,9,  -999.0,9,-999.000,9,-999.0000,9, -999.00,9, -999.00,9,  -999.0,9,  -999.0,-999.000,9,-999.000, -999.00,9,  801.40,-999.0000,9,-999.0000,9,-999.0000,9,-999.0000,9,-999.0000,9,-999.0000,-999.000,-999.0000,9, -999.00
318M20040615,        P02,      67,          1,         22,         22,2,20040710,       0407,    29.9957,    168.738,       5641,   901.7,   4.2285,  34.1954,2,  34.1982,2,  57.7000,2,    56.8,2,  104.36,2,   39.98,2,    0.00,2,    2.87,2,   0.704,2,   0.347,2,   0.029,2,  -999.0,9,  -999.0,9,-999.000,9,-999.0000,9, -999.00,9, -999.00,9,  -999.0,9,  -999.0,-999.000,9,-999.000, -999.00,9,  901.70,-999.0000,9,-999.0000,9,-999.0000,9,-999.0000,9,-999.0000,9,-999.0000,-999.000,-999.0000,9, -999.00
318M20040615,        P02,      67,          1,         21,         21,2,20040710,       0407,    29.9957,    168.738,       5641,  1001.5,   3.6898,  34.2891,2,  34.2912,2,  44.0000,2,    44.0,2,  120.15,2,   41.77,2,    0.00,2,    2.98,2,   0.357,6,   0.172,6,   0.012,6,  2341.4,2,  2352.6,2,-999.000,9,-999.0000,9, -999.00,9, -999.00,9,  -999.0,9,  -999.0,-999.000,9,-999.000, -999.00,9, 1001.50,-999.0000,9,-999.0000,9,-999.0000,9,-999.0000,9,-999.0000,9,-999.0000,-999.000,-999.0000,9, -999.00
318M20040615,        P02,      67,          1,         20,         20,2,20040710,       0407,    29.9957,    168.738,       5641,  1101.9,   3.3596,  34.3475,2,  34.3499,2,  39.8000,2,    39.9,2,  129.69,2,   42.34,2,    0.00,2,    3.03,2,   0.211,2,   0.103,2,   0.006,2,  -999.0,9,  -999.0,9,-999.000,9,-999.0000,9, -999.00,9, -999.00,9,  -999.0,9,  -999.0,-999.000,9,-999.000, -999.00,9, 1101.90,-999.0000,9,-999.0000,9,-999.0000,9,-999.0000,9,-999.0000,9,-999.0000,-999.000,-999.0000,9, -999.00
318M20040615,        P02,      67,          1,         19,         19,2,20040710,       0407,    29.9957,    168.738,       5641,  1202.3,   3.0429,  34.3974,2,  34.4033,2,  34.9000,3,    35.6,2,  139.04,2,   42.92,2,    0.00,2,    3.07,2,   0.108,2,   0.054,2,   0.006,2,  2366.1,2,  2376.2,2,-999.000,9,-999.0000,9, -999.00,9, -999.00,9,  -999.0,9,  -999.0,-999.000,9,-999.000, -999.00,9, 1202.30,-999.0000,9,-999.0000,9,-999.0000,9,-999.0000,9,-999.0000,9,-999.0000,-999.000,-999.0000,9, -999.00
318M20040615,        P02,      67,          1,         18,         18,2,20040710,       0407,    29.9957,    168.738,       5641,  1297.2,   2.8184,  34.4375,2,  34.4396,2,  32.4000,2,    32.8,2,  146.17,2,   43.44,2,    0.00,2,    3.10,2,   0.056,2,   0.029,2,   0.002,2,  -999.0,9,  -999.0,9,-999.000,9,-999.0000,9, -999.00,9, -999.00,9,  -999.0,9,  -999.0,-999.000,9,-999.000, -999.00,9, 1297.20,-999.0000,9,-999.0000,9,-999.0000,9,-999.0000,9,-999.0000,9,-999.0000,-999.000,-999.0000,9, -999.00
318M20040615,        P02,      67,          1,         17,         17,2,20040710,       0407,    29.9957,    168.738,       5641,  1398.0,   2.6349,  34.4715,2,  34.4699,2,  32.5000,2,    33.5,2,  151.47,2,   43.49,2,    0.00,2,    3.10,2,   0.034,2,   0.015,2,   0.002,2,  -999.0,9,  2390.8,2,-999.000,9,-999.0000,9, -999.00,9, -999.00,9,  -999.0,9,  -999.0,-999.000,9,-999.000, -999.00,9, 1398.00,-999.0000,9,-999.0000,9,-999.0000,9,-999.0000,9,-999.0000,9,-999.0000,-999.000,-999.0000,9, -999.00
318M20040615,        P02,      67,          1,         16,         16,2,20040710,       0407,    29.9957,    168.738,       5641,  1498.2,   2.4770,  34.4995,2,  34.5005,2,  37.2000,2,    38.3,2,  155.66,3,   43.19,3,    0.00,2,    3.08,3,   0.022,2,   0.009,2,   0.000,2,  -999.0,9,  -999.0,9,-999.000,9,-999.0000,9, -999.00,9, -999.00,9,  -999.0,9,  -999.0,-999.000,9,-999.000, -999.00,9, 1498.20,-999.0000,9,-999.0000,9,-999.0000,9,-999.0000,9,-999.0000,9,-999.0000,-999.000,-999.0000,9, -999.00
318M20040615,        P02,      67,          1,         15,         15,2,20040710,       0407,    29.9957,    168.738,       5641,  1599.0,   2.3279,  34.5269,2,  34.5671,2,  43.1000,3,    61.3,3,  160.82,3,   41.80,3,    0.00,2,    2.97,3,   0.012,2,   0.004,2,  -0.001,2,  -999.0,9,  2407.1,6,-999.000,9,-999.0000,9, -999.00,9, -999.00,9,  -999.0,9,  -999.0,-999.000,9,-999.000, -999.00,9, 1599.00,-999.0000,9,-999.0000,9,-999.0000,9,-999.0000,9,-999.0000,9,-999.0000,-999.000,-999.0000,9, -999.00
318M20040615,        P02,      67,          1,         14,         14,2,20040710,       0407,    29.9957,    168.738,       5641,  1800.0,   2.0981,  34.5700,2,  34.5701,2,  58.3000,2,    59.0,2,  155.68,3,   43.14,3,    0.00,2,    3.08,3,   0.006,2,   0.005,2,  -0.002,2,  -999.0,9,  -999.0,9,-999.000,9,-999.0000,9, -999.00,9, -999.00,9,  -999.0,9,  -999.0,-999.000,9,-999.000, -999.00,9, 1800.00,-999.0000,9,-999.0000,9,-999.0000,9,-999.0000,9,-999.0000,9,-999.0000,-999.000,-999.0000,9, -999.00
318M20040615,        P02,      67,          1,         13,         13,2,20040710,       0407,    29.9957,    168.738,       5641,  2001.6,   1.9171,  34.5992,2,  34.5994,2,  74.6000,2,    74.2,2,  163.89,2,   41.03,2,    0.00,2,    2.92,2,   0.006,2,   0.002,2,   0.004,2,  -999.0,9,  2413.1,2,-999.000,9,-999.0000,9, -999.00,9, -999.00,9,  -999.0,9,  -999.0,-999.000,9,-999.000, -999.00,9, 2001.60,-999.0000,9,-999.0000,9,-999.0000,9,-999.0000,9,-999.0000,9,-999.0000,-999.000,-999.0000,9, -999.00
318M20040615,        P02,      67,          1,         12,         12,2,20040710,       0407,    29.9957,    168.738,       5641,  2248.5,   1.7579,  34.6257,2,  34.6279,2,  92.2000,2,    92.9,2,  163.11,2,   39.87,2,    0.00,2,    2.83,2,   0.003,2,   0.002,2,  -0.002,2,  -999.0,9,  -999.0,9,-999.000,9,-999.0000,9, -999.00,9, -999.00,9,  -999.0,9,  -999.0,-999.000,9,-999.000, -999.00,9, 2248.50,-999.0000,9,-999.0000,9,-999.0000,9,-999.0000,9,-999.0000,9,-999.0000,-999.000,-999.0000,9, -999.00
318M20040615,        P02,      67,          1,         11,         11,2,20040710,       0407,    29.9957,    168.738,       5641,  2500.3,   1.6404,  34.6440,2,  34.6462,2, 107.3000,2,   108.2,2,  161.08,2,   39.02,2,    0.00,2,    2.75,2,   0.004,2,   0.003,2,   0.000,2,  -999.0,9,  2418.6,2,-999.000,9,-999.0000,9, -999.00,9, -999.00,9,  -999.0,9,  -999.0,-999.000,9,-999.000, -999.00,9, 2500.30,-999.0000,9,-999.0000,9,-999.0000,9,-999.0000,9,-999.0000,9,-999.0000,-999.000,-999.0000,9, -999.00
318M20040615,        P02,      67,          1,         10,         10,2,20040710,       0407,    29.9957,    168.738,       5641,  2753.3,   1.5679,  34.6566,2,  34.6607,2, 120.4000,3,   120.4,2,  158.49,2,   38.32,2,    0.00,2,    2.69,2,   0.005,2,   0.003,2,  -0.001,2,  -999.0,9,  2418.4,2,-999.000,9,-999.0000,9, -999.00,9, -999.00,9,  -999.0,9,  -999.0,-999.000,9,-999.000, -999.00,9, 2753.30,-999.0000,9,-999.0000,9,-999.0000,9,-999.0000,9,-999.0000,9,-999.0000,-999.000,-999.0000,9, -999.00
318M20040615,        P02,      67,          1,          9,          9,2,20040710,       0407,    29.9957,    168.738,       5641,  2995.8,   1.5184,  34.6664,2,  34.6682,2, 130.7000,2,   131.1,2,  155.52,2,   37.63,2,    0.00,2,    2.63,2,   0.005,2,   0.000,2,   0.000,2,  -999.0,9,  2418.2,2,-999.000,9,-999.0000,9, -999.00,9, -999.00,9,  -999.0,9,  -999.0,-999.000,9,-999.000, -999.00,9, 2995.80,-999.0000,9,-999.0000,9,-999.0000,9,-999.0000,9,-999.0000,9,-999.0000,-999.000,-999.0000,9, -999.00
318M20040615,        P02,      67,          1,          8,          8,2,20040710,       0407,    29.9957,    168.738,       5641,  3395.8,   1.4710,  34.6757,2,  34.6763,2, 141.9000,2,   141.7,2,  153.09,2,   37.00,2,    0.00,2,    2.57,2,   0.002,2,   0.000,2,  -0.001,2,  -999.0,9,  2416.7,2,-999.000,9,-999.0000,9, -999.00,9, -999.00,9,  -999.0,9,  -999.0,-999.000,9,-999.000, -999.00,9, 3395.80,-999.0000,9,-999.0000,9,-999.0000,9,-999.0000,9,-999.0000,9,-999.0000,-999.000,-999.0000,9, -999.00
318M20040615,        P02,      67,          1,          7,          7,2,20040710,       0407,    29.9957,    168.738,       5641,  3796.3,   1.4485,  34.6824,2,  34.6893,2, 150.0000,3,   150.0,2,  149.77,2,   36.26,2,    0.00,2,    2.52,2,   0.004,2,   0.002,2,  -0.001,2,  -999.0,9,  2415.9,2,-999.000,9,-999.0000,9, -999.00,9, -999.00,9,  -999.0,9,  -999.0,-999.000,9,-999.000, -999.00,9, 3796.30,-999.0000,9,-999.0000,9,-999.0000,9,-999.0000,9,-999.0000,9,-999.0000,-999.000,-999.0000,9, -999.00
318M20040615,        P02,      67,          1,          6,          6,2,20040710,       0407,    29.9957,    168.738,       5641,  4196.7,   1.4440,  34.6870,2,  34.6867,2, 156.5000,2,   156.9,2,  147.36,2,   35.69,2,    0.00,2,    2.49,2,   0.006,2,   0.003,2,   0.002,2,  -999.0,9,  2412.9,2,-999.000,9,-999.0000,9, -999.00,9, -999.00,9,  -999.0,9,  -999.0,-999.000,9,-999.000, -999.00,9, 4196.70,-999.0000,9,-999.0000,9,-999.0000,9,-999.0000,9,-999.0000,9,-999.0000,-999.000,-999.0000,9, -999.00
318M20040615,        P02,      67,          1,          5,          5,2,20040710,       0407,    29.9957,    168.738,       5641,  4603.6,   1.4488,  34.6908,2,  34.7013,2, 162.1000,3,   163.2,2,  143.66,2,   35.30,2,    0.00,2,    2.45,2,   0.005,2,   0.002,2,   0.000,2,  -999.0,9,  2410.3,2,-999.000,9,-999.0000,9, -999.00,9, -999.00,9,  -999.0,9,  -999.0,-999.000,9,-999.000, -999.00,9, 4603.60,-999.0000,9,-999.0000,9,-999.0000,9,-999.0000,9,-999.0000,9,-999.0000,-999.000,-999.0000,9, -999.00
318M20040615,        P02,      67,          1,          4,          4,2,20040710,       0407,    29.9957,    168.738,       5641,  4894.8,   1.4579,  34.6929,2,  34.6927,2, 166.5000,2,   167.3,2,  140.33,2,   34.90,2,    0.00,2,    2.43,2,   0.006,2,   0.002,2,   0.002,2,  -999.0,9,  2408.3,2,-999.000,9,-999.0000,9, -999.00,9, -999.00,9,  -999.0,9,  -999.0,-999.000,9,-999.000, -999.00,9, 4894.80,-999.0000,9,-999.0000,9,-999.0000,9,-999.0000,9,-999.0000,9,-999.0000,-999.000,-999.0000,9, -999.00
318M20040615,        P02,      67,          1,          3,          3,2,20040710,       0407,    29.9957,    168.738,       5641,  5195.8,   1.4689,  34.6951,2,  34.6945,2, 171.2000,2,   171.6,2,  136.44,2,   34.55,2,    0.00,2,    2.41,2,   0.004,2,   0.003,2,   0.000,2,  2309.1,2,  2406.1,2,-999.000,9,-999.0000,9, -999.00,9, -999.00,9,  -999.0,9,  -999.0,-999.000,9,-999.000, -999.00,9, 5195.80,-999.0000,9,-999.0000,9,-999.0000,9,-999.0000,9,-999.0000,9,-999.0000,-999.000,-999.0000,9, -999.00
318M20040615,        P02,      67,          1,          2,          2,2,20040710,       0407,    29.9957,    168.738,       5641,  5564.8,   1.4927,  34.6966,2,  34.7034,2, 174.9000,3,   175.4,2,  134.03,2,   34.22,2,    0.00,2,    2.39,2,   0.003,2,   0.003,2,   0.001,2,  2304.5,2,  2401.2,2,-999.000,9,-999.0000,9, -999.00,9, -999.00,9,  -999.0,9,  -999.0,-999.000,9,-999.000, -999.00,9, 5564.80,-999.0000,9,-999.0000,9,-999.0000,9,-999.0000,9,-999.0000,9,-999.0000,-999.000,-999.0000,9, -999.00
318M20040615,        P02,      67,          1,          1,          1,2,20040710,       0407,    29.9957,    168.738,       5641,  5768.4,   1.5066,  34.6976,2,  34.6999,2, 176.9000,3,   177.5,2,  132.70,2,   34.15,2,    0.00,2,    2.38,2,   0.005,2,   0.003,2,   0.002,2,  2302.8,2,  2399.8,6,-999.000,9,-999.0000,9, -999.00,9, -999.00,9,  -999.0,9,  -999.0,-999.000,9,-999.000, -999.00,9, 5768.40,-999.0000,9,-999.0000,9,-999.0000,9,-999.0000,9,-999.0000,9,-999.0000,-999.000,-999.0000,9, -999.00