BOTTLE,20131027SIOCCHRJL
EXPOCODE,SECT_ID,STNNBR,CASTNO,SAMPNO,BTLNBR,BTLNBR_FLAG_W,DATE,TIME,LATITUDE,LONGITUDE,DEPTH,CTDPRS,CTDTMP,CTDSAL,CTDSAL_FLAG_W,SALNTY,SALNTY_FLAG_W,CTDOXY,CTDOXY_FLAG_W,OXYGEN,OXYGEN_FLAG_W,SILCAT,SILCAT_FLAG_W,NITRAT,NITRAT_FLAG_W,NITRIT,NITRIT_FLAG_W,PHSPHT,PHSPHT_FLAG_W,CFC-11,CFC-11_FLAG_W,CFC-12,CFC-12_FLAG_W,CFC113,CFC113_FLAG_W,TCARBN,TCARBN_FLAG_W,ALKALI,ALKALI_FLAG_W,TRITUM,TRITUM_FLAG_W,HELIUM,HELIUM_FLAG_W,DELHE3,DELHE3_FLAG_W,DELC13,DELC13_FLAG_W,DELC14,DELC14_FLAG_W,C14ERR,NEON,NEON_FLAG_W,NEONER,DOC,DOC_FLAG_W,CTDRAW,CDOM380,CDOM380_FLAG_W,CDOM325,CDOM325_FLAG_W,CDOMSL,CDOMSL_FLAG_W,CDOM340,CDOM340_FLAG_W,CDOMSN,CDOMSN_FLAG_W,HELIER,TRITER,CDOM412,CDOM412_FLAG_W,DELHER
,,,,,,,,,,,METERS,DBAR,ITS-90,PSS-78,,PSS-78,,UMOL/KG,,UMOL/KG,,UMOL/KG,,UMOL/KG,,UMOL/KG,,UMOL/KG,,PMOL/KG,,PMOL/KG,,PMOL/KG,,UMOL/KG,,UMOL/KG,,TU,,NMOL/KG,,PERCNT,,/MILLE,,/MILLE,,/MILLE,NMOL/KG,,NMOL/KG,UMOL/KG,,DBAR,1/M,,1/M,,1/NM,,1/M,,1/NM,,NMOL/KG,TU,1/M,,PERCNT
318M20040615,        P02,      51,          1,         36,         36,2,20040704,       1431,    30.0002,    157.599,       5711,     9.2,  26.4521,  34.7349,2,  34.7355,2, 206.7000,2,   206.2,2,    1.72,2,    0.13,2,    0.00,2,    0.04,2,   1.753,2,   1.094,2,   0.125,2,  1963.2,6,  2283.5,6,   0.700,2,   1.6964,2,   -1.03,2, -999.00,9,  -999.0,9,  -999.0,-999.000,9,-999.000, -999.00,9,    9.20,-999.0000,9,-999.0000,9,-999.0000,9,-999.0000,9,-999.0000,9,   0.0085,   0.007,-999.0000,9,    0.20
318M20040615,        P02,      51,          1,         35,         35,2,20040704,       1431,    30.0002,    157.599,       5711,    42.7,  22.8938,  34.7292,2,  34.7260,2, 220.6000,2,   221.8,2,    1.72,2,    0.13,2,    0.00,2,    0.05,2,   2.004,2,   1.236,2,   0.127,2,  1965.9,2,  2282.3,2,   0.734,2,   1.7415,2,   -0.98,2, -999.00,9,  -999.0,9,  -999.0,-999.000,9,-999.000, -999.00,9,   42.70,-999.0000,9,-999.0000,9,-999.0000,9,-999.0000,9,-999.0000,9,   0.0087,   0.006,-999.0000,9,    0.20
318M20040615,        P02,      51,          1,         34,         34,2,20040704,       1431,    30.0002,    157.599,       5711,    87.7,  20.5715,  34.7781,2,  34.7804,2, 202.2000,2,   203.5,2,    3.33,2,    2.00,2,    0.19,2,    0.20,2,   2.125,2,   1.278,2,   0.108,2,  2000.3,2,  2285.5,2,   0.763,2,   1.7526,2,   -0.30,2, -999.00,9,  -999.0,9,  -999.0,-999.000,9,-999.000, -999.00,9,   87.70,-999.0000,9,-999.0000,9,-999.0000,9,-999.0000,9,-999.0000,9,   0.0088,   0.006,-999.0000,9,    0.20
318M20040615,        P02,      51,          1,         33,         33,2,20040704,       1431,    30.0002,    157.599,       5711,   137.4,  18.3136,  34.7709,2,  34.7592,2, 221.5000,2,   217.6,2,    4.41,2,    2.49,2,    0.12,2,    0.23,2,   2.368,2,   1.404,2,   0.117,2,  2011.4,2,  2284.7,2,   0.776,2,   1.7654,2,   -0.06,2, -999.00,9,  -999.0,9,  -999.0,-999.000,9,-999.000, -999.00,9,  137.40,-999.0000,9,-999.0000,9,-999.0000,9,-999.0000,9,-999.0000,9,   0.0088,   0.007,-999.0000,9,    0.20
318M20040615,        P02,      51,          1,         32,         32,2,20040704,       1431,    30.0002,    157.599,       5711,   187.2,  17.1584,  34.7699,2,  34.7698,2, 218.7000,2,   219.9,2,    4.05,2,    3.44,2,    0.13,2,    0.27,2,   2.487,2,   1.479,2,   0.132,2,  2021.0,2,  2283.5,2,   0.756,2,   1.7672,2,   -0.55,2, -999.00,9,  -999.0,9,  -999.0,-999.000,9,-999.000, -999.00,9,  187.20,-999.0000,9,-999.0000,9,-999.0000,9,-999.0000,9,-999.0000,9,   0.0088,   0.006,-999.0000,9,    0.20
318M20040615,        P02,      51,          1,         31,         31,2,20040704,       1431,    30.0002,    157.599,       5711,   242.2,  16.3263,  34.6829,2,  34.6821,2, 204.2000,2,   192.2,2,    9.10,2,    7.80,2,    0.01,2,    0.56,2,   2.413,2,   1.407,2,   0.045,3,  2050.5,2,  2282.8,2,   0.967,3,   1.7765,2,    1.88,2, -999.00,9,  -999.0,9,  -999.0,-999.000,9,-999.000, -999.00,9,  242.20,-999.0000,9,-999.0000,9,-999.0000,9,-999.0000,9,-999.0000,9,   0.0089,   0.006,-999.0000,9,    0.20
318M20040615,        P02,      51,          1,         30,         30,2,20040704,       1431,    30.0002,    157.599,       5711,   292.0,  15.9096,  34.7044,2,  34.7100,2, 218.4000,2,   220.7,2,    6.38,2,    5.79,2,    0.01,2,    0.42,2,   2.567,6,   1.520,6,   0.121,6,  2034.7,2,  2281.5,2,-999.000,9,-999.0000,9, -999.00,9, -999.00,9,  -999.0,9,  -999.0,-999.000,9,-999.000, -999.00,9,  292.00,-999.0000,9,-999.0000,9,-999.0000,9,-999.0000,9,-999.0000,9,-999.0000,-999.000,-999.0000,9, -999.00
318M20040615,        P02,      51,          1,         29,         29,2,20040704,       1431,    30.0002,    157.599,       5711,   341.9,  15.3210,  34.6463,2,  34.6453,2, 208.0000,2,   208.9,2,    8.73,2,    7.74,2,    0.01,2,    0.55,2,   2.601,2,   1.504,2,   0.088,2,  2050.1,2,  2279.1,2,   0.794,2,   1.7806,2,    0.85,2, -999.00,9,  -999.0,9,  -999.0,-999.000,9,-999.000, -999.00,9,  341.90,-999.0000,9,-999.0000,9,-999.0000,9,-999.0000,9,-999.0000,9,   0.0089,   0.007,-999.0000,9,    0.20
318M20040615,        P02,      51,          1,         28,         28,2,20040704,       1431,    30.0002,    157.599,       5711,   391.8,  14.1474,  34.5449,2,  34.5463,2, 188.6000,2,   194.2,2,   13.06,2,   10.82,2,    0.00,2,    0.76,2,   2.577,2,   1.468,2,   0.061,2,  -999.0,9,  -999.0,9,-999.000,9,-999.0000,9, -999.00,9, -999.00,9,  -999.0,9,  -999.0,-999.000,9,-999.000, -999.00,9,  391.80,-999.0000,9,-999.0000,9,-999.0000,9,-999.0000,9,-999.0000,9,-999.0000,-999.000,-999.0000,9, -999.00
318M20040615,        P02,      51,          1,         27,         27,2,20040704,       1431,    30.0002,    157.599,       5711,   441.7,  12.7190,  34.4261,2,  34.4238,2, 196.1000,2,   194.2,2,   16.51,2,   13.00,2,    0.01,2,    0.92,2,   2.695,2,   1.512,2,   0.069,2,  -999.0,9,  -999.0,9,   0.816,2,   1.7888,2,    3.81,2, -999.00,9,  -999.0,9,  -999.0,-999.000,9,-999.000, -999.00,9,  441.70,-999.0000,9,-999.0000,9,-999.0000,9,-999.0000,9,-999.0000,9,   0.0089,   0.006,-999.0000,9,    0.20
318M20040615,        P02,      51,          1,         26,         26,2,20040704,       1431,    30.0002,    157.599,       5711,   491.5,  11.3487,  34.3273,2,  34.3307,2, 190.7000,2,   190.4,2,   21.03,2,   15.50,2,    0.00,2,    1.10,2,   2.724,2,   1.500,2,   0.070,2,  2107.9,2,  2273.8,2,-999.000,9,-999.0000,9, -999.00,9, -999.00,9,  -999.0,9,  -999.0,-999.000,9,-999.000, -999.00,9,  491.50,-999.0000,9,-999.0000,9,-999.0000,9,-999.0000,9,-999.0000,9,-999.0000,-999.000,-999.0000,9, -999.00
318M20040615,        P02,      51,          1,         25,         25,2,20040704,       1431,    30.0002,    157.599,       5711,   577.1,   8.9374,  34.1409,2,  34.1438,2, 183.0000,2,   181.9,2,   31.74,2,   20.48,2,    0.00,2,    1.47,2,   2.717,2,   1.459,2,   0.104,2,  -999.0,9,  -999.0,9,-999.000,9,   1.8215,2,    7.18,2, -999.00,9,  -999.0,9,  -999.0,-999.000,9,-999.000, -999.00,9,  577.10,-999.0000,9,-999.0000,9,-999.0000,9,-999.0000,9,-999.0000,9,   0.0091,-999.000,-999.0000,9,    0.20
318M20040615,        P02,      51,          1,         24,         24,2,20040704,       1431,    30.0002,    157.599,       5711,   676.7,   6.4397,  34.0140,2,  34.0141,2, 147.3000,2,   147.6,2,   54.15,2,   28.28,2,    0.00,2,    2.05,2,   2.294,2,   1.207,2,   0.106,2,  -999.0,9,  -999.0,9,   0.677,2,   1.8578,2,   11.12,2, -999.00,9,  -999.0,9,  -999.0,-999.000,9,-999.000, -999.00,9,  676.70,-999.0000,9,-999.0000,9,-999.0000,9,-999.0000,9,-999.0000,9,   0.0093,   0.004,-999.0000,9,    0.20
318M20040615,        P02,      51,          1,         23,         23,2,20040704,       1431,    30.0002,    157.599,       5711,   776.9,   5.1836,  34.0760,2,  34.0813,2, 101.1000,2,    95.2,2,   78.10,2,   35.40,2,    0.00,2,    2.55,2,   1.374,2,   0.690,2,   0.054,2,  2262.5,2,  2306.6,2,   0.460,2,-999.0000,9, -999.00,9, -999.00,9,  -999.0,9,  -999.0,-999.000,9,-999.000, -999.00,9,  776.90,-999.0000,9,-999.0000,9,-999.0000,9,-999.0000,9,-999.0000,9,-999.0000,   0.004,-999.0000,9, -999.00
318M20040615,        P02,      51,          1,         22,         22,2,20040704,       1431,    30.0002,    157.599,       5711,   877.0,   4.4757,  34.1642,2,  34.1642,2,  66.1000,2,    64.2,2,   97.20,2,   39.21,2,    0.00,2,    2.81,2,   0.776,2,   0.397,2,   0.031,2,  -999.0,9,  -999.0,9,-999.000,9,-999.0000,9, -999.00,9, -999.00,9,  -999.0,9,  -999.0,-999.000,9,-999.000, -999.00,9,  877.00,-999.0000,9,-999.0000,9,-999.0000,9,-999.0000,9,-999.0000,9,-999.0000,-999.000,-999.0000,9, -999.00
318M20040615,        P02,      51,          1,         21,         21,2,20040704,       1431,    30.0002,    157.599,       5711,   977.0,   3.9475,  34.2477,2,  34.2469,2,  49.4000,2,    47.7,2,  112.85,2,   41.19,2,    0.00,2,    2.94,2,   0.436,2,   0.219,2,   0.011,2,  -999.0,9,  -999.0,9,   0.210,2,   1.8859,2,   16.81,2, -999.00,9,  -999.0,9,  -999.0,-999.000,9,-999.000, -999.00,9,  977.00,-999.0000,9,-999.0000,9,-999.0000,9,-999.0000,9,-999.0000,9,   0.0094,   0.002,-999.0000,9,    0.20
318M20040615,        P02,      51,          1,         20,         20,2,20040704,       1431,    30.0002,    157.599,       5711,  1077.4,   3.5975,  34.3132,2,  34.3140,2,  37.4000,2,    36.6,2,  123.56,2,   42.73,2,    0.00,2,    3.04,2,   0.176,2,   0.091,2,   0.005,2,  -999.0,9,  -999.0,9,-999.000,9,-999.0000,9, -999.00,9, -999.00,9,  -999.0,9,  -999.0,-999.000,9,-999.000, -999.00,9, 1077.40,-999.0000,9,-999.0000,9,-999.0000,9,-999.0000,9,-999.0000,9,-999.0000,-999.000,-999.0000,9, -999.00
318M20040615,        P02,      51,          1,         19,         19,2,20040704,       1431,    30.0002,    157.599,       5711,  1177.9,   3.2661,  34.3742,2,  34.3742,2,  33.7000,2,    33.5,2,  133.14,2,   43.23,2,    0.00,2,    3.08,2,   0.092,2,   0.044,2,  -0.001,2,  2360.0,2,  2369.8,2,-999.000,9,-999.0000,9, -999.00,9, -999.00,9,  -999.0,9,  -999.0,-999.000,9,-999.000, -999.00,9, 1177.90,-999.0000,9,-999.0000,9,-999.0000,9,-999.0000,9,-999.0000,9,-999.0000,-999.000,-999.0000,9, -999.00
318M20040615,        P02,      51,          1,         18,         18,2,20040704,       1431,    30.0002,    157.599,       5711,  1278.0,   2.9962,  34.4245,2,  34.4246,2,  34.1000,2,    34.7,2,  146.14,2,   43.40,2,    0.00,2,    3.08,2,   0.046,2,   0.022,2,  -0.001,2,  -999.0,9,  -999.0,9,   0.048,2,   1.9094,2,   17.68,2, -999.00,9,  -999.0,9,  -999.0,-999.000,9,-999.000, -999.00,9, 1278.00,-999.0000,9,-999.0000,9,-999.0000,9,-999.0000,9,-999.0000,9,   0.0095,   0.001,-999.0000,9,    0.20
318M20040615,        P02,      51,          1,         17,         17,2,20040704,       1431,    30.0002,    157.599,       5711,  1388.6,   2.7973,  34.4609,2,  34.4599,2,  37.0000,2,    37.1,2,  146.15,2,   43.28,2,    0.00,2,    3.08,2,   0.027,2,   0.013,2,  -0.001,2,  -999.0,9,  -999.0,9,-999.000,9,-999.0000,9, -999.00,9, -999.00,9,  -999.0,9,  -999.0,-999.000,9,-999.000, -999.00,9, 1388.60,-999.0000,9,-999.0000,9,-999.0000,9,-999.0000,9,-999.0000,9,-999.0000,-999.000,-999.0000,9, -999.00
318M20040615,        P02,      51,          1,         16,         16,2,20040704,       1431,    30.0002,    157.599,       5711,  1489.2,   2.5702,  34.4922,2,  34.4986,2,  39.2000,2,    39.4,2,  152.99,2,   43.32,2,    0.00,2,    3.07,2,   0.016,2,   0.009,2,   0.000,2,  -999.0,9,  -999.0,9,   0.019,2,   1.9178,2,   18.60,2, -999.00,9,  -999.0,9,  -999.0,-999.000,9,-999.000, -999.00,9, 1489.20,-999.0000,9,-999.0000,9,-999.0000,9,-999.0000,9,-999.0000,9,   0.0096,   0.000,-999.0000,9,    0.20
318M20040615,        P02,      51,          1,         15,         15,2,20040704,       1431,    30.0002,    157.599,       5711,  1589.8,   2.4002,  34.5208,2,  34.5208,2,  45.8000,2,    45.9,2,  156.92,2,   43.03,2,    0.00,2,    3.05,2,   0.011,2,   0.008,2,   0.000,2,  -999.0,9,  2400.1,2,-999.000,9,-999.0000,9, -999.00,9, -999.00,9,  -999.0,9,  -999.0,-999.000,9,-999.000, -999.00,9, 1589.80,-999.0000,9,-999.0000,9,-999.0000,9,-999.0000,9,-999.0000,9,-999.0000,-999.000,-999.0000,9, -999.00
318M20040615,        P02,      51,          1,         14,         14,2,20040704,       1431,    30.0002,    157.599,       5711,  1790.8,   2.1765,  34.5631,2,  34.5645,2,  59.5000,2,    61.5,2,  159.50,2,   42.22,2,    0.00,2,    2.97,2,   0.006,2,   0.004,2,   0.003,2,  -999.0,9,  -999.0,9,   0.010,2,   1.8975,2,   19.21,2, -999.00,9,  -999.0,9,  -999.0,-999.000,9,-999.000, -999.00,9, 1790.80,-999.0000,9,-999.0000,9,-999.0000,9,-999.0000,9,-999.0000,9,   0.0095,   0.000,-999.0000,9,    0.20
318M20040615,        P02,      51,          1,         13,         13,2,20040704,       1431,    30.0002,    157.599,       5711,  1991.6,   1.9808,  34.5940,2,  34.5942,2,  75.3000,2,    75.1,2,  161.74,2,   41.42,2,    0.00,2,    2.90,2,   0.004,2,   0.003,2,   0.000,2,  -999.0,9,  2411.5,2,-999.000,9,-999.0000,9, -999.00,9, -999.00,9,  -999.0,9,  -999.0,-999.000,9,-999.000, -999.00,9, 1991.60,-999.0000,9,-999.0000,9,-999.0000,9,-999.0000,9,-999.0000,9,-999.0000,-999.000,-999.0000,9, -999.00
318M20040615,        P02,      51,          1,         12,         12,2,20040704,       1431,    30.0002,    157.599,       5711,  2193.8,   1.8406,  34.6158,2,  34.6158,2,  87.0000,2,    87.9,2,  162.52,2,   40.62,2,    0.00,2,    2.84,2,   0.002,2,   0.003,2,   0.000,2,  -999.0,9,  -999.0,9,   0.012,2,   1.9324,2,   19.09,2, -999.00,9,  -999.0,9,  -999.0,-999.000,9,-999.000, -999.00,9, 2193.80,-999.0000,9,-999.0000,9,-999.0000,9,-999.0000,9,-999.0000,9,   0.0097,   0.000,-999.0000,9,    0.20
318M20040615,        P02,      51,          1,         11,         11,2,20040704,       1431,    30.0002,    157.599,       5711,  2435.1,   1.6915,  34.6356,2,  34.6358,2,  99.2000,2,   100.4,2,  164.20,2,   39.71,2,    0.00,2,    2.79,2,   0.003,2,   0.004,2,   0.000,2,  -999.0,9,  2416.3,2,-999.000,9,-999.0000,9, -999.00,9, -999.00,9,  -999.0,9,  -999.0,-999.000,9,-999.000, -999.00,9, 2435.10,-999.0000,9,-999.0000,9,-999.0000,9,-999.0000,9,-999.0000,9,-999.0000,-999.000,-999.0000,9, -999.00
318M20040615,        P02,      51,          1,         10,         10,2,20040704,       1431,    30.0002,    157.599,       5711,  2708.4,   1.5902,  34.6532,2,  34.6535,2, 115.3000,2,   116.4,2,  161.40,2,   38.63,2,    0.00,2,    2.71,2,   0.002,2,   0.001,2,   0.003,2,  -999.0,9,  -999.0,9,-999.000,9,-999.0000,9, -999.00,9, -999.00,9,  -999.0,9,  -999.0,-999.000,9,-999.000, -999.00,9, 2708.40,-999.0000,9,-999.0000,9,-999.0000,9,-999.0000,9,-999.0000,9,-999.0000,-999.000,-999.0000,9, -999.00
318M20040615,        P02,      51,          1,          9,          9,2,20040704,       1431,    30.0002,    157.599,       5711,  2960.3,   1.5334,  34.6638,2,  34.6635,2, 126.8000,2,   127.6,2,  157.67,2,   37.84,2,    0.00,2,    2.65,2,   0.002,2,   0.002,2,   0.002,2,  -999.0,9,  2416.9,2,-999.000,9,-999.0000,9, -999.00,9, -999.00,9,  -999.0,9,  -999.0,-999.000,9,-999.000, -999.00,9, 2960.30,-999.0000,9,-999.0000,9,-999.0000,9,-999.0000,9,-999.0000,9,-999.0000,-999.000,-999.0000,9, -999.00
318M20040615,        P02,      51,          1,          8,          8,2,20040704,       1431,    30.0002,    157.599,       5711,  3294.2,   1.4806,  34.6731,2,  34.6729,2, 137.1000,2,   137.6,2,  155.99,2,   37.15,2,    0.00,2,    2.60,2,   0.003,2,   0.001,2,   0.002,2,  -999.0,9,  2417.3,2,-999.000,9,-999.0000,9, -999.00,9, -999.00,9,  -999.0,9,  -999.0,-999.000,9,-999.000, -999.00,9, 3294.20,-999.0000,9,-999.0000,9,-999.0000,9,-999.0000,9,-999.0000,9,-999.0000,-999.000,-999.0000,9, -999.00
318M20040615,        P02,      51,          1,          7,          7,2,20040704,       1431,    30.0002,    157.599,       5711,  3710.2,   1.4414,  34.6819,2,  34.6817,2, 147.4000,2,   148.3,2,  152.83,2,   36.42,2,    0.00,2,    2.55,2,   0.002,2,   0.003,2,   0.000,2,  -999.0,9,  2416.4,2,-999.000,9,-999.0000,9, -999.00,9, -999.00,9,  -999.0,9,  -999.0,-999.000,9,-999.000, -999.00,9, 3710.20,-999.0000,9,-999.0000,9,-999.0000,9,-999.0000,9,-999.0000,9,-999.0000,-999.000,-999.0000,9, -999.00
318M20040615,        P02,      51,          1,          6,          6,2,20040704,       1431,    30.0002,    157.599,       5711,  4125.9,   1.4415,  34.6867,2,  34.6868,2, 153.9000,2,   154.3,2,  151.20,2,   35.98,2,    0.00,2,    2.51,2,   0.004,2,   0.002,2,   0.000,2,  -999.0,9,  2415.8,2,-999.000,9,-999.0000,9, -999.00,9, -999.00,9,  -999.0,9,  -999.0,-999.000,9,-999.000, -999.00,9, 4125.90,-999.0000,9,-999.0000,9,-999.0000,9,-999.0000,9,-999.0000,9,-999.0000,-999.000,-999.0000,9, -999.00
318M20040615,        P02,      51,          1,          5,          5,2,20040704,       1431,    30.0002,    157.599,       5711,  4532.7,   1.4583,  34.6895,2,  34.6897,2, 158.3000,2,   158.7,2,  149.15,2,   35.69,2,    0.00,2,    2.49,2,   0.004,2,   0.004,2,   0.000,2,  -999.0,9,  2415.1,6,-999.000,9,-999.0000,9, -999.00,9, -999.00,9,  -999.0,9,  -999.0,-999.000,9,-999.000, -999.00,9, 4532.70,-999.0000,9,-999.0000,9,-999.0000,9,-999.0000,9,-999.0000,9,-999.0000,-999.000,-999.0000,9, -999.00
318M20040615,        P02,      51,          1,          4,          4,2,20040704,       1431,    30.0002,    157.599,       5711,  4939.4,   1.4774,  34.6921,2,  34.6931,2, 163.6000,3,   164.5,2,  143.59,2,   35.24,2,    0.00,2,    2.45,2,   0.005,2,   0.003,2,   0.002,2,  -999.0,9,  2410.2,2,-999.000,9,-999.0000,9, -999.00,9, -999.00,9,  -999.0,9,  -999.0,-999.000,9,-999.000, -999.00,9, 4939.40,-999.0000,9,-999.0000,9,-999.0000,9,-999.0000,9,-999.0000,9,-999.0000,-999.000,-999.0000,9, -999.00
318M20040615,        P02,      51,          1,          3,          3,2,20040704,       1431,    30.0002,    157.599,       5711,  5358.1,   1.5095,  34.6938,2,  34.6936,2, 167.3000,2,   167.9,2,  140.98,2,   35.01,2,    0.00,2,    2.44,2,   0.005,2,   0.005,2,   0.000,2,  -999.0,9,  2407.7,2,-999.000,9,-999.0000,9, -999.00,9, -999.00,9,  -999.0,9,  -999.0,-999.000,9,-999.000, -999.00,9, 5358.10,-999.0000,9,-999.0000,9,-999.0000,9,-999.0000,9,-999.0000,9,-999.0000,-999.000,-999.0000,9, -999.00
318M20040615,        P02,      51,          1,          2,          2,2,20040704,       1431,    30.0002,    157.599,       5711,  5603.4,   1.5374,  34.6942,2,  34.6934,2, 168.1000,2,   168.6,2,  140.24,2,   35.00,2,    0.00,2,    2.43,2,   0.006,2,   0.006,2,   0.000,2,  -999.0,9,  2407.2,2,-999.000,9,-999.0000,9, -999.00,9, -999.00,9,  -999.0,9,  -999.0,-999.000,9,-999.000, -999.00,9, 5603.40,-999.0000,9,-999.0000,9,-999.0000,9,-999.0000,9,-999.0000,9,-999.0000,-999.000,-999.0000,9, -999.00
318M20040615,        P02,      51,          1,          1,          1,2,20040704,       1431,    30.0002,    157.599,       5711,  5840.0,   1.5598,  34.6949,2,  34.6958,2, 169.9000,3,   170.7,2,  138.20,2,   34.94,2,    0.00,2,    2.42,2,   0.004,2,   0.005,2,   0.000,2,  -999.0,9,  2406.4,6,-999.000,9,-999.0000,9, -999.00,9, -999.00,9,  -999.0,9,  -999.0,-999.000,9,-999.000, -999.00,9, 5840.00,-999.0000,9,-999.0000,9,-999.0000,9,-999.0000,9,-999.0000,9,-999.0000,-999.000,-999.0000,9, -999.00