BOTTLE,20131027SIOCCHRJL
EXPOCODE,SECT_ID,STNNBR,CASTNO,SAMPNO,BTLNBR,BTLNBR_FLAG_W,DATE,TIME,LATITUDE,LONGITUDE,DEPTH,CTDPRS,CTDTMP,CTDSAL,CTDSAL_FLAG_W,SALNTY,SALNTY_FLAG_W,CTDOXY,CTDOXY_FLAG_W,OXYGEN,OXYGEN_FLAG_W,SILCAT,SILCAT_FLAG_W,NITRAT,NITRAT_FLAG_W,NITRIT,NITRIT_FLAG_W,PHSPHT,PHSPHT_FLAG_W,CFC-11,CFC-11_FLAG_W,CFC-12,CFC-12_FLAG_W,CFC113,CFC113_FLAG_W,TCARBN,TCARBN_FLAG_W,ALKALI,ALKALI_FLAG_W,TRITUM,TRITUM_FLAG_W,HELIUM,HELIUM_FLAG_W,DELHE3,DELHE3_FLAG_W,DELC13,DELC13_FLAG_W,DELC14,DELC14_FLAG_W,C14ERR,NEON,NEON_FLAG_W,NEONER,DOC,DOC_FLAG_W,CTDRAW,CDOM380,CDOM380_FLAG_W,CDOM325,CDOM325_FLAG_W,CDOMSL,CDOMSL_FLAG_W,CDOM340,CDOM340_FLAG_W,CDOMSN,CDOMSN_FLAG_W,HELIER,TRITER,CDOM412,CDOM412_FLAG_W,DELHER
,,,,,,,,,,,METERS,DBAR,ITS-90,PSS-78,,PSS-78,,UMOL/KG,,UMOL/KG,,UMOL/KG,,UMOL/KG,,UMOL/KG,,UMOL/KG,,PMOL/KG,,PMOL/KG,,PMOL/KG,,UMOL/KG,,UMOL/KG,,TU,,NMOL/KG,,PERCNT,,/MILLE,,/MILLE,,/MILLE,NMOL/KG,,NMOL/KG,UMOL/KG,,DBAR,1/M,,1/M,,1/NM,,1/M,,1/NM,,NMOL/KG,TU,1/M,,PERCNT
318M20040615,        P02,      24,          2,         30,         30,2,20040624,       1609,     29.993,   139.9285,       2901,     6.4,  24.6625,  34.6268,2,-999.0000,9, 216.7000,5,   213.7,2,    2.04,2,    0.20,2,    0.00,2,    0.07,2,   1.947,2,   1.186,2,   0.151,2,  1962.8,6,  2276.0,6,-999.000,9,-999.0000,9, -999.00,9,    1.09,2,    65.0,2,     4.6,-999.000,9,-999.000,   67.80,2,    6.40,   0.0120,2,   0.0670,2,   0.0320,2,   0.0410,2,   0.0320,2,-999.0000,-999.000,   0.0060,2, -999.00
318M20040615,        P02,      24,          2,         29,         29,2,20040624,       1609,     29.993,   139.9285,       2901,    40.0,  22.3758,  34.7458,2,  34.7487,2, 224.5000,2,   224.1,2,    2.22,2,    0.20,2,    0.00,2,    0.08,2,   2.132,2,   1.296,2,   0.147,2,  1975.0,2,  2283.9,2,-999.000,9,-999.0000,9, -999.00,9, -999.00,9,  -999.0,9,  -999.0,-999.000,9,-999.000,   64.80,2,   40.00,-999.0000,9,-999.0000,9,-999.0000,9,-999.0000,9,-999.0000,9,-999.0000,-999.000,-999.0000,9, -999.00
318M20040615,        P02,      24,          2,         28,         28,2,20040624,       1609,     29.993,   139.9285,       2901,    84.8,  19.9894,  34.8247,2,  34.8246,2, 226.6000,2,   224.8,2,    2.56,2,    0.66,2,    0.04,2,    0.12,2,   2.319,2,   1.386,2,   0.139,2,  1994.9,2,  2288.4,2,-999.000,9,-999.0000,9, -999.00,9,    1.02,2,    78.3,2,     4.5,-999.000,9,-999.000,   60.70,2,   84.80,-999.0000,9,-999.0000,9,-999.0000,9,-999.0000,9,-999.0000,9,-999.0000,-999.000,-999.0000,9, -999.00
318M20040615,        P02,      24,          2,         27,         27,2,20040624,       1609,     29.993,   139.9285,       2901,   134.9,  18.7468,  34.8417,2,  34.8425,2, 218.2000,2,   210.9,2,    3.43,2,    2.72,2,    0.05,2,    0.24,2,   2.366,2,   1.410,2,   0.106,2,  2012.7,2,  2287.8,2,-999.000,9,-999.0000,9, -999.00,9,    0.71,2,    86.2,2,     4.8,-999.000,9,-999.000,   56.80,2,  134.90,-999.0000,9,-999.0000,9,-999.0000,9,-999.0000,9,-999.0000,9,-999.0000,-999.000,-999.0000,9, -999.00
318M20040615,        P02,      24,          2,         26,         26,2,20040624,       1609,     29.993,   139.9285,       2901,   184.6,  17.7781,  34.8028,2,  34.8024,2, 207.3000,2,   209.4,2,    3.96,2,    3.84,2,    0.02,2,    0.32,2,   2.453,2,   1.466,2,   0.090,2,  2023.1,2,  2285.7,2,-999.000,9,-999.0000,9, -999.00,9,    0.74,2,    81.2,2,     4.6,-999.000,9,-999.000,   55.40,2,  184.60,   0.0210,2,   0.0700,2,   0.0250,2,   0.0470,2,   0.0250,2,-999.0000,-999.000,   0.0130,2, -999.00
318M20040615,        P02,      24,          2,         25,         25,2,20040624,       1609,     29.993,   139.9285,       2901,   235.1,  17.0704,  34.7626,2,  34.7662,2, 207.1000,2,   208.4,2,    4.83,2,    4.78,2,    0.01,2,    0.38,2,   2.499,6,   1.472,6,   0.076,6,  2032.0,2,  2283.8,2,-999.000,9,-999.0000,9, -999.00,9,    0.68,2,    86.7,2,     4.1,-999.000,9,-999.000,   53.40,2,  235.10,   0.0310,2,   0.0900,2,   0.0190,2,   0.0640,2,   0.0200,2,-999.0000,-999.000,   0.0220,2, -999.00
318M20040615,        P02,      24,          2,         24,         24,2,20040624,       1609,     29.993,   139.9285,       2901,   289.9,  16.6448,  34.7291,2,  34.7308,2, 205.9000,2,   203.3,2,    6.06,2,    5.93,2,    0.01,2,    0.46,2,   2.513,2,   1.466,2,   0.059,2,  2040.0,2,  2282.4,2,-999.000,9,-999.0000,9, -999.00,9, -999.00,5,  -999.0,5,  -999.0,-999.000,9,-999.000,   52.50,2,  289.90,   0.0240,2,   0.0800,2,   0.0230,2,   0.0550,2,   0.0230,2,-999.0000,-999.000,   0.0160,2, -999.00
318M20040615,        P02,      24,          2,         23,         23,2,20040624,       1609,     29.993,   139.9285,       2901,   339.9,  16.2229,  34.6944,2,  34.6941,2, 199.7000,2,   198.7,2,    7.47,2,    7.04,2,    0.00,2,    0.54,2,   2.535,2,   1.460,2,   0.045,2,  2045.4,2,  2282.0,2,-999.000,9,-999.0000,9, -999.00,9, -999.00,5,  -999.0,5,  -999.0,-999.000,9,-999.000,   51.40,2,  339.90,   0.0230,2,   0.0770,2,   0.0230,2,   0.0520,2,   0.0240,2,-999.0000,-999.000,   0.0150,2, -999.00
318M20040615,        P02,      24,          2,         22,         22,2,20040624,       1609,     29.993,   139.9285,       2901,   389.7,  14.9688,  34.5975,2,  34.5990,2, 186.8000,2,   185.8,2,   11.35,2,   10.20,2,    0.00,2,    0.76,2,   2.540,2,   1.416,2,   0.023,2,  2066.9,2,  2279.0,2,-999.000,9,-999.0000,9, -999.00,9, -999.00,9,  -999.0,9,  -999.0,-999.000,9,-999.000,   50.50,2,  389.70,   0.0280,2,   0.0910,2,   0.0220,2,   0.0630,2,   0.0230,2,-999.0000,-999.000,   0.0180,2, -999.00
318M20040615,        P02,      24,          2,         21,         21,2,20040624,       1609,     29.993,   139.9285,       2901,   439.7,  13.8735,  34.5187,2,  34.5209,2, 181.4000,2,   184.2,2,   14.53,2,   12.07,2,    0.00,2,    0.90,2,   2.601,2,   1.440,2,   0.033,2,  2080.4,2,  2277.6,2,-999.000,9,-999.0000,9, -999.00,9, -999.00,9,  -999.0,9,  -999.0,-999.000,9,-999.000,   49.70,2,  439.70,   0.0330,2,   0.1010,2,   0.0200,2,   0.0700,2,   0.0210,2,-999.0000,-999.000,   0.0230,2, -999.00
318M20040615,        P02,      24,          2,         20,         20,2,20040624,       1609,     29.993,   139.9285,       2901,   489.6,  13.0834,  34.4679,2,  34.3081,2, 178.7000,3,   179.5,2,   18.07,2,   13.78,2,    0.00,2,    1.01,2,   2.554,2,   1.406,2,   0.033,2,  2097.1,2,  2278.4,2,-999.000,9,-999.0000,9, -999.00,9, -999.00,5,  -999.0,5,  -999.0,-999.000,9,-999.000,   48.80,2,  489.60,   0.0500,2,   0.1320,2,   0.0150,2,   0.0950,2,   0.0170,2,-999.0000,-999.000,   0.0350,2, -999.00
318M20040615,        P02,      24,          2,         19,         19,2,20040624,       1609,     29.993,   139.9285,       2901,   575.2,  10.7783,  34.3296,2,  34.3297,2, 158.6000,2,   161.8,2,   30.48,2,   19.28,2,    0.00,2,    1.41,2,   2.315,2,   1.216,2,   0.044,2,  2138.9,2,  2282.2,2,-999.000,9,-999.0000,9, -999.00,9,    0.30,2,     1.9,2,     4.1,-999.000,9,-999.000,   47.50,2,  575.20,   0.0540,2,   0.1410,2,   0.0140,2,   0.1010,2,   0.0160,2,-999.0000,-999.000,   0.0390,2, -999.00
318M20040615,        P02,      24,          2,         18,         18,2,20040624,       1609,     29.993,   139.9285,       2901,   675.5,   8.0675,  34.2016,2,  34.2032,2, 135.0000,2,   137.2,2,   51.15,2,   26.14,2,    0.00,2,    1.93,2,   1.923,2,   0.950,2,   0.058,2,  2193.4,2,  2293.6,2,-999.000,9,-999.0000,9, -999.00,9,    0.14,2,   -40.9,2,     4.4,-999.000,9,-999.000,   45.70,2,  675.50,   0.0690,2,   0.1730,2,   0.0130,2,   0.1260,2,   0.0150,2,-999.0000,-999.000,   0.0510,2, -999.00
318M20040615,        P02,      24,          2,         17,         17,2,20040624,       1609,     29.993,   139.9285,       2901,   776.0,   6.7724,  34.1909,2,  34.1942,2, 114.4000,2,   114.1,2,   66.90,2,   30.42,2,    0.00,2,    2.25,2,   1.520,2,   0.752,2,   0.050,2,  2231.7,2,  2305.9,2,-999.000,9,-999.0000,9, -999.00,9,   -0.01,2,   -88.4,2,     6.2,-999.000,9,-999.000,   44.70,2,  776.00,   0.0720,2,   0.1770,2,   0.0130,2,   0.1300,2,   0.0150,2,-999.0000,-999.000,   0.0530,2, -999.00
318M20040615,        P02,      24,          2,         16,         16,2,20040624,       1609,     29.993,   139.9285,       2901,   876.5,   5.1787,  34.2289,2,  34.2296,2,  81.1000,2,    82.7,2,   91.19,2,   35.80,2,    0.00,2,    2.63,2,   0.909,2,   0.429,2,   0.028,2,  2282.2,2,  2347.4,2,-999.000,9,-999.0000,9, -999.00,9, -999.00,9,  -999.0,9,  -999.0,-999.000,9,-999.000,   42.80,2,  876.50,   0.1010,2,   0.2330,2,   0.0120,2,   0.1730,2,   0.0130,2,-999.0000,-999.000,   0.0770,2, -999.00
318M20040615,        P02,      24,          2,         15,         15,2,20040624,       1609,     29.993,   139.9285,       2901,   976.6,   4.3369,  34.3008,2,  34.3039,2,  66.9000,2,    67.0,2,  108.40,2,   38.33,2,    0.00,2,    2.84,2,   0.509,2,   0.242,2,   0.009,2,  2311.9,2,  2363.5,2,-999.000,9,-999.0000,9, -999.00,9,   -0.25,2,  -171.7,2,     3.5,-999.000,9,-999.000,   41.10,2,  976.60,   0.0810,2,   0.2030,2,   0.0130,2,   0.1460,2,   0.0140,2,-999.0000,-999.000,   0.0620,2, -999.00
318M20040615,        P02,      24,          2,         14,         14,2,20040624,       1609,     29.993,   139.9285,       2901,  1077.9,   3.6845,  34.3613,2,  34.3646,2,  58.0000,2,    57.4,2,  122.76,2,   40.10,2,    0.00,2,    2.95,2,   0.273,2,   0.134,2,   0.004,2,  2333.1,2,  2373.9,2,-999.000,9,-999.0000,9, -999.00,9, -999.00,9,  -999.0,9,  -999.0,-999.000,9,-999.000,   40.20,2, 1077.90,   0.0720,2,   0.1840,2,   0.0130,2,   0.1320,2,   0.0140,2,-999.0000,-999.000,   0.0570,2, -999.00
318M20040615,        P02,      24,          2,         13,         13,2,20040624,       1609,     29.993,   139.9285,       2901,  1178.5,   3.2543,  34.4184,2,  34.4195,2,  57.2000,2,    57.2,2,  132.61,2,   40.60,2,    0.00,2,    2.97,2,   0.154,2,   0.073,2,   0.006,2,  2343.6,2,  2375.7,3,-999.000,9,-999.0000,9, -999.00,9,   -0.28,2,  -205.6,2,     3.3,-999.000,9,-999.000,   39.00,2, 1178.50,-999.0000,9,-999.0000,9,-999.0000,9,-999.0000,9,-999.0000,9,-999.0000,-999.000,-999.0000,9, -999.00
318M20040615,        P02,      24,          2,         12,         12,2,20040624,       1609,     29.993,   139.9285,       2901,  1279.2,   2.9746,  34.4442,2,  34.4466,2,  53.9000,2,    53.9,2,  139.75,2,   41.32,2,    0.00,2,    3.01,2,   0.108,2,   0.052,2,   0.004,2,  2354.7,6,  2382.9,2,-999.000,9,-999.0000,9, -999.00,9, -999.00,9,  -999.0,9,  -999.0,-999.000,9,-999.000,   38.90,2, 1279.20,-999.0000,9,-999.0000,9,-999.0000,9,-999.0000,9,-999.0000,9,-999.0000,-999.000,-999.0000,9, -999.00
318M20040615,        P02,      24,          2,         11,         11,2,20040624,       1609,     29.993,   139.9285,       2901,  1390.0,   2.6771,  34.4874,2,  34.4879,2,  58.6000,2,    58.7,2,  146.16,2,   41.59,2,    0.00,2,    3.00,2,   0.065,2,   0.035,2,   0.005,2,  2360.1,2,  2391.7,3,-999.000,9,-999.0000,9, -999.00,9, -999.00,5,  -999.0,5,  -999.0,-999.000,9,-999.000,   37.80,2, 1390.00,-999.0000,9,-999.0000,9,-999.0000,9,-999.0000,9,-999.0000,9,-999.0000,-999.000,-999.0000,9, -999.00
318M20040615,        P02,      24,          2,         10,         10,2,20040624,       1609,     29.993,   139.9285,       2901,  1481.0,   2.6345,  34.4952,2,  34.4961,2,  60.2000,2,    60.7,2,  147.48,2,   41.65,2,    0.00,2,    3.00,2,   0.057,2,   0.029,2,   0.004,2,  2362.1,2,  2391.7,2,-999.000,9,-999.0000,9, -999.00,9, -999.00,9,  -999.0,9,  -999.0,-999.000,9,-999.000,   37.90,2, 1481.00,-999.0000,9,-999.0000,9,-999.0000,9,-999.0000,9,-999.0000,9,-999.0000,-999.000,-999.0000,9, -999.00
318M20040615,        P02,      24,          2,          9,          9,2,20040624,       1609,     29.993,   139.9285,       2901,  1591.8,   2.4234,  34.5254,2,  34.5278,2,  65.5000,2,    66.1,2,  151.53,2,   41.50,2,    0.00,2,    2.98,2,   0.037,2,   0.022,2,   0.001,2,  2364.3,2,  2398.1,2,-999.000,9,-999.0000,9, -999.00,9, -999.00,5,  -999.0,5,  -999.0,-999.000,9,-999.000,   38.00,2, 1591.80,-999.0000,9,-999.0000,9,-999.0000,9,-999.0000,9,-999.0000,9,-999.0000,-999.000,-999.0000,9, -999.00
318M20040615,        P02,      24,          2,          8,          8,2,20040624,       1609,     29.993,   139.9285,       2901,  1692.8,   2.2818,  34.5460,2,  34.5496,2,  69.2000,2,    70.8,2,  154.32,2,   41.17,2,    0.00,2,    2.96,2,   0.026,2,   0.017,2,   0.002,2,  2365.6,2,  2408.9,3,-999.000,9,-999.0000,9, -999.00,9, -999.00,9,  -999.0,9,  -999.0,-999.000,9,-999.000,   37.50,2, 1692.80,-999.0000,9,-999.0000,9,-999.0000,9,-999.0000,9,-999.0000,9,-999.0000,-999.000,-999.0000,9, -999.00
318M20040615,        P02,      24,          2,          7,          7,2,20040624,       1609,     29.993,   139.9285,       2901,  1793.5,   2.1718,  34.5632,2,  34.5663,2,  75.5000,2,    75.4,2,  156.37,2,   40.90,2,    0.00,2,    2.94,2,   0.016,2,   0.009,2,   0.001,2,  2364.3,2,  2404.5,2,-999.000,9,-999.0000,9, -999.00,9, -999.00,9,  -999.0,9,  -999.0,-999.000,9,-999.000,   38.10,2, 1793.50,-999.0000,9,-999.0000,9,-999.0000,9,-999.0000,9,-999.0000,9,-999.0000,-999.000,-999.0000,9, -999.00
318M20040615,        P02,      24,          2,          6,          6,2,20040624,       1609,     29.993,   139.9285,       2901,  1894.4,   2.0282,  34.5861,2,  34.5895,2,  86.6000,2,    86.6,2,  156.24,2,   40.20,2,    0.00,2,    2.89,2,   0.015,2,   0.008,2,   0.002,2,  2360.2,2,  2406.8,2,-999.000,9,-999.0000,9, -999.00,9, -999.00,9,  -999.0,9,  -999.0,-999.000,9,-999.000,   37.60,2, 1894.40,-999.0000,9,-999.0000,9,-999.0000,9,-999.0000,9,-999.0000,9,-999.0000,-999.000,-999.0000,9, -999.00
318M20040615,        P02,      24,          2,          5,          5,2,20040624,       1609,     29.993,   139.9285,       2901,  1995.2,   1.9559,  34.5983,2,  34.5999,2,  93.8000,2,    93.8,2,  156.26,2,   39.66,2,    0.00,2,    2.86,2,   0.011,2,   0.009,2,   0.000,2,  2356.9,2,  2408.9,2,-999.000,9,-999.0000,9, -999.00,9, -999.00,9,  -999.0,9,  -999.0,-999.000,9,-999.000,   37.50,2, 1995.20,-999.0000,9,-999.0000,9,-999.0000,9,-999.0000,9,-999.0000,9,-999.0000,-999.000,-999.0000,9, -999.00
318M20040615,        P02,      24,          2,          4,          4,2,20040624,       1609,     29.993,   139.9285,       2901,  2197.4,   1.8622,  34.6152,2,  34.6162,2, 102.2000,2,   104.3,2,  155.00,2,   39.06,2,    0.00,2,    2.81,2,   0.009,2,   0.007,2,  -0.003,2,  2351.6,2,  2410.9,2,-999.000,9,-999.0000,9, -999.00,9, -999.00,9,  -999.0,9,  -999.0,-999.000,9,-999.000,   37.30,2, 2197.40,   0.0800,2,   0.1900,2,   0.0130,2,   0.1390,2,   0.0140,2,-999.0000,-999.000,   0.0590,2, -999.00
318M20040615,        P02,      24,          2,          3,          3,2,20040624,       1609,     29.993,   139.9285,       2901,  2449.9,   1.7971,  34.6284,2,  34.6320,2, 112.6000,3,   113.1,2,  151.54,2,   38.40,2,    0.00,2,    2.76,2,   0.007,2,   0.004,2,   0.000,2,  2345.9,2,  2410.8,2,-999.000,9,-999.0000,9, -999.00,9, -999.00,9,  -999.0,9,  -999.0,-999.000,9,-999.000,   37.40,2, 2449.90,-999.0000,9,-999.0000,9,-999.0000,9,-999.0000,9,-999.0000,9,-999.0000,-999.000,-999.0000,9, -999.00
318M20040615,        P02,      24,          2,          2,          2,2,20040624,       1609,     29.993,   139.9285,       2901,  2703.2,   1.7875,  34.6334,2,  34.6375,2, 116.6000,3,   117.1,2,  150.30,2,   38.13,2,    0.00,2,    2.74,2,   0.007,2,   0.006,2,   0.002,2,  2341.8,2,  2412.5,2,-999.000,9,-999.0000,9, -999.00,9, -999.00,9,  -999.0,9,  -999.0,-999.000,9,-999.000,   37.30,2, 2703.20,-999.0000,9,-999.0000,9,-999.0000,9,-999.0000,9,-999.0000,9,-999.0000,-999.000,-999.0000,9, -999.00
318M20040615,        P02,      24,          2,          1,          1,2,20040624,       1609,     29.993,   139.9285,       2901,  2914.4,   1.7959,  34.6358,2,  34.6389,2, 118.5000,3,   119.3,2,  149.63,2,   38.04,2,    0.00,2,    2.74,2,   0.009,2,   0.007,2,   0.002,2,  2342.0,6,  2411.4,2,-999.000,9,-999.0000,9, -999.00,9, -999.00,9,  -999.0,9,  -999.0,-999.000,9,-999.000,   37.00,2, 2914.40,-999.0000,9,-999.0000,9,-999.0000,9,-999.0000,9,-999.0000,9,-999.0000,-999.000,-999.0000,9, -999.00