BOTTLE,20131027SIOCCHRJL
EXPOCODE,SECT_ID,STNNBR,CASTNO,SAMPNO,BTLNBR,BTLNBR_FLAG_W,DATE,TIME,LATITUDE,LONGITUDE,DEPTH,CTDPRS,CTDTMP,CTDSAL,CTDSAL_FLAG_W,SALNTY,SALNTY_FLAG_W,CTDOXY,CTDOXY_FLAG_W,OXYGEN,OXYGEN_FLAG_W,SILCAT,SILCAT_FLAG_W,NITRAT,NITRAT_FLAG_W,NITRIT,NITRIT_FLAG_W,PHSPHT,PHSPHT_FLAG_W,CFC-11,CFC-11_FLAG_W,CFC-12,CFC-12_FLAG_W,CFC113,CFC113_FLAG_W,TCARBN,TCARBN_FLAG_W,ALKALI,ALKALI_FLAG_W,TRITUM,TRITUM_FLAG_W,HELIUM,HELIUM_FLAG_W,DELHE3,DELHE3_FLAG_W,DELC13,DELC13_FLAG_W,DELC14,DELC14_FLAG_W,C14ERR,NEON,NEON_FLAG_W,NEONER,DOC,DOC_FLAG_W,CTDRAW,CDOM380,CDOM380_FLAG_W,CDOM325,CDOM325_FLAG_W,CDOMSL,CDOMSL_FLAG_W,CDOM340,CDOM340_FLAG_W,CDOMSN,CDOMSN_FLAG_W,HELIER,TRITER,CDOM412,CDOM412_FLAG_W,DELHER
,,,,,,,,,,,METERS,DBAR,ITS-90,PSS-78,,PSS-78,,UMOL/KG,,UMOL/KG,,UMOL/KG,,UMOL/KG,,UMOL/KG,,UMOL/KG,,PMOL/KG,,PMOL/KG,,PMOL/KG,,UMOL/KG,,UMOL/KG,,TU,,NMOL/KG,,PERCNT,,/MILLE,,/MILLE,,/MILLE,NMOL/KG,,NMOL/KG,UMOL/KG,,DBAR,1/M,,1/M,,1/NM,,1/M,,1/NM,,NMOL/KG,TU,1/M,,PERCNT
318M20040615,        P02,      33,          1,         36,         36,2,20040627,       2108,     30.003,   144.9125,       5811,     6.8,  28.1613,  34.9744,2,  34.9732,2, 201.9000,2,   200.2,2,    1.20,2,    0.14,2,    0.00,2,    0.00,2,   1.651,2,   1.049,2,   0.123,2,  1968.1,6,  2296.0,6,-999.000,9,-999.0000,9, -999.00,9, -999.00,9,  -999.0,9,  -999.0,-999.000,9,-999.000, -999.00,9,    6.80,-999.0000,9,-999.0000,9,-999.0000,9,-999.0000,9,-999.0000,9,-999.0000,-999.000,-999.0000,9, -999.00
318M20040615,        P02,      33,          1,         35,         35,2,20040627,       2108,     30.003,   144.9125,       5811,    40.4,  22.9583,  34.9304,2,  34.9344,2, 226.6000,2,   229.1,2,    1.38,2,    0.09,2,    0.00,2,    0.00,2,   2.085,2,   1.277,2,   0.133,2,  1975.6,2,  2294.0,2,-999.000,9,-999.0000,9, -999.00,9, -999.00,9,  -999.0,9,  -999.0,-999.000,9,-999.000, -999.00,9,   40.40,-999.0000,9,-999.0000,9,-999.0000,9,-999.0000,9,-999.0000,9,-999.0000,-999.000,-999.0000,9, -999.00
318M20040615,        P02,      33,          1,         34,         34,2,20040627,       2108,     30.003,   144.9125,       5811,    85.1,  19.9788,  34.8983,2,  34.8980,2, 221.1000,2,   221.8,2,    1.73,2,    0.09,2,    0.00,2,    0.03,2,   2.269,2,   1.354,2,   0.109,2,  1998.6,2,  2291.7,2,-999.000,9,-999.0000,9, -999.00,9, -999.00,9,  -999.0,9,  -999.0,-999.000,9,-999.000, -999.00,9,   85.10,-999.0000,9,-999.0000,9,-999.0000,9,-999.0000,9,-999.0000,9,-999.0000,-999.000,-999.0000,9, -999.00
318M20040615,        P02,      33,          1,         33,         33,2,20040627,       2108,     30.003,   144.9125,       5811,   134.9,  18.5586,  34.8329,2,  34.8333,2, 200.9000,2,   197.4,2,    2.98,2,    3.49,2,    0.02,2,    0.24,2,   2.359,2,   1.414,2,   0.040,3,  2026.4,2,  2285.1,2,-999.000,9,-999.0000,9, -999.00,9, -999.00,9,  -999.0,9,  -999.0,-999.000,9,-999.000, -999.00,9,  134.90,-999.0000,9,-999.0000,9,-999.0000,9,-999.0000,9,-999.0000,9,-999.0000,-999.000,-999.0000,9, -999.00
318M20040615,        P02,      33,          1,         32,         32,2,20040627,       2108,     30.003,   144.9125,       5811,   189.6,  17.6406,  34.7887,2,  34.7871,2, 207.3000,2,   208.5,2,    3.52,2,    3.81,2,    0.01,2,    0.26,2,   2.412,2,   1.445,2,   0.076,2,  2025.1,2,  2283.1,2,-999.000,9,-999.0000,9, -999.00,9, -999.00,9,  -999.0,9,  -999.0,-999.000,9,-999.000, -999.00,9,  189.60,-999.0000,9,-999.0000,9,-999.0000,9,-999.0000,9,-999.0000,9,-999.0000,-999.000,-999.0000,9, -999.00
318M20040615,        P02,      33,          1,         31,         31,2,20040627,       2108,     30.003,   144.9125,       5811,   238.5,  17.2712,  34.7795,2,  34.7796,2, 211.2000,2,   214.0,2,    3.69,2,    3.92,2,    0.01,2,    0.26,2,   2.437,2,   1.462,2,   0.086,2,  2023.4,2,  2282.5,2,-999.000,9,-999.0000,9, -999.00,9, -999.00,9,  -999.0,9,  -999.0,-999.000,9,-999.000, -999.00,9,  238.50,-999.0000,9,-999.0000,9,-999.0000,9,-999.0000,9,-999.0000,9,-999.0000,-999.000,-999.0000,9, -999.00
318M20040615,        P02,      33,          1,         30,         30,2,20040627,       2108,     30.003,   144.9125,       5811,   288.1,  16.7741,  34.7371,2,  34.7375,2, 207.2000,2,   208.7,2,    4.77,2,    5.14,2,    0.00,2,    0.35,2,   2.464,2,   1.445,2,   0.057,2,  2032.7,2,  2281.1,2,-999.000,9,-999.0000,9, -999.00,9, -999.00,9,  -999.0,9,  -999.0,-999.000,9,-999.000, -999.00,9,  288.10,-999.0000,9,-999.0000,9,-999.0000,9,-999.0000,9,-999.0000,9,-999.0000,-999.000,-999.0000,9, -999.00
318M20040615,        P02,      33,          1,         29,         29,2,20040627,       2108,     30.003,   144.9125,       5811,   337.4,  16.1048,  34.6860,2,  34.6850,2, 202.3000,2,   201.3,2,    6.74,2,    6.88,2,    0.00,2,    0.47,2,   2.509,2,   1.464,2,   0.040,2,  2045.4,2,  2279.4,2,-999.000,9,-999.0000,9, -999.00,9, -999.00,9,  -999.0,9,  -999.0,-999.000,9,-999.000, -999.00,9,  337.40,-999.0000,9,-999.0000,9,-999.0000,9,-999.0000,9,-999.0000,9,-999.0000,-999.000,-999.0000,9, -999.00
318M20040615,        P02,      33,          1,         28,         28,2,20040627,       2108,     30.003,   144.9125,       5811,   386.8,  15.2225,  34.6126,2,  34.6123,2, 192.7000,2,   193.2,2,    9.26,2,    8.99,2,    0.00,2,    0.61,2,   2.537,2,   1.451,2,   0.027,2,  2061.1,2,  2276.0,2,-999.000,9,-999.0000,9, -999.00,9, -999.00,9,  -999.0,9,  -999.0,-999.000,9,-999.000, -999.00,9,  386.80,-999.0000,9,-999.0000,9,-999.0000,9,-999.0000,9,-999.0000,9,-999.0000,-999.000,-999.0000,9, -999.00
318M20040615,        P02,      33,          1,         27,         27,2,20040627,       2108,     30.003,   144.9125,       5811,   437.5,  13.9031,  34.5141,2,  34.5136,2, 187.9000,2,   187.5,2,   12.86,2,   11.47,2,    0.00,2,    0.79,2,   2.618,2,   1.450,2,   0.035,2,  2080.5,2,  2273.9,2,-999.000,9,-999.0000,9, -999.00,9, -999.00,9,  -999.0,9,  -999.0,-999.000,9,-999.000, -999.00,9,  437.50,-999.0000,9,-999.0000,9,-999.0000,9,-999.0000,9,-999.0000,9,-999.0000,-999.000,-999.0000,9, -999.00
318M20040615,        P02,      33,          1,         26,         26,2,20040627,       2108,     30.003,   144.9125,       5811,   488.5,  12.6183,  34.4182,2,  34.4180,2, 192.3000,2,   192.3,2,   15.74,2,   13.12,2,    0.00,2,    0.92,2,   2.709,2,   1.484,2,   0.051,2,  2091.3,2,  2271.6,2,-999.000,9,-999.0000,9, -999.00,9, -999.00,9,  -999.0,9,  -999.0,-999.000,9,-999.000, -999.00,9,  488.50,-999.0000,9,-999.0000,9,-999.0000,9,-999.0000,9,-999.0000,9,-999.0000,-999.000,-999.0000,9, -999.00
318M20040615,        P02,      33,          1,         25,         25,2,20040627,       2108,     30.003,   144.9125,       5811,   576.3,  10.0715,  34.2337,2,  34.2336,2, 181.3000,2,   181.2,2,   27.07,2,   18.43,2,    0.00,2,    1.30,2,   2.626,2,   1.419,2,   0.083,2,  2129.7,2,  2272.4,2,-999.000,9,-999.0000,9, -999.00,9, -999.00,9,  -999.0,9,  -999.0,-999.000,9,-999.000, -999.00,9,  576.30,-999.0000,9,-999.0000,9,-999.0000,9,-999.0000,9,-999.0000,9,-999.0000,-999.000,-999.0000,9, -999.00
318M20040615,        P02,      33,          1,         24,         24,2,20040627,       2108,     30.003,   144.9125,       5811,   676.5,   7.4956,  34.0813,2,  34.0789,2, 153.2000,2,   152.8,2,   46.48,2,   25.83,2,    0.00,2,    1.87,2,   2.240,2,   1.174,2,   0.084,2,  2187.5,2,  2281.5,2,-999.000,9,-999.0000,9, -999.00,9, -999.00,9,  -999.0,9,  -999.0,-999.000,9,-999.000, -999.00,9,  676.50,-999.0000,9,-999.0000,9,-999.0000,9,-999.0000,9,-999.0000,9,-999.0000,-999.000,-999.0000,9, -999.00
318M20040615,        P02,      33,          1,         23,         23,2,20040627,       2108,     30.003,   144.9125,       5811,   777.0,   5.7968,  34.0654,2,  34.0634,2, 107.8000,2,   109.8,2,   68.41,2,   32.77,2,    0.00,2,    2.36,2,   1.542,2,   0.790,2,   0.055,2,  2242.3,2,  2297.7,2,-999.000,9,-999.0000,9, -999.00,9, -999.00,9,  -999.0,9,  -999.0,-999.000,9,-999.000, -999.00,9,  777.00,-999.0000,9,-999.0000,9,-999.0000,9,-999.0000,9,-999.0000,9,-999.0000,-999.000,-999.0000,9, -999.00
318M20040615,        P02,      33,          1,         22,         22,2,20040627,       2108,     30.003,   144.9125,       5811,   877.1,   5.0335,  34.1430,2,  34.1417,2,  77.2000,2,    79.3,2,   86.05,2,   36.87,2,    0.00,2,    2.65,2,   0.936,2,   0.472,2,   0.032,2,  2280.5,2,  2316.6,2,-999.000,9,-999.0000,9, -999.00,9, -999.00,9,  -999.0,9,  -999.0,-999.000,9,-999.000, -999.00,9,  877.10,-999.0000,9,-999.0000,9,-999.0000,9,-999.0000,9,-999.0000,9,-999.0000,-999.000,-999.0000,9, -999.00
318M20040615,        P02,      33,          1,         21,         21,2,20040627,       2108,     30.003,   144.9125,       5811,   977.3,   4.3932,  34.2166,2,  34.2133,2,  53.7000,2,    58.0,2,  101.76,2,   39.75,2,    0.00,2,    2.85,2,   0.538,2,   0.269,2,   0.014,2,  2312.8,2,  2332.7,2,-999.000,9,-999.0000,9, -999.00,9, -999.00,9,  -999.0,9,  -999.0,-999.000,9,-999.000, -999.00,9,  977.30,-999.0000,9,-999.0000,9,-999.0000,9,-999.0000,9,-999.0000,9,-999.0000,-999.000,-999.0000,9, -999.00
318M20040615,        P02,      33,          1,         20,         20,2,20040627,       2108,     30.003,   144.9125,       5811,  1082.6,   3.8180,  34.2845,2,  34.2829,2,  41.7000,2,    42.2,2,  116.98,2,   41.79,2,    0.00,2,    2.97,2,   0.258,2,   0.134,2,   0.007,2,  2337.7,6,  2351.0,2,-999.000,9,-999.0000,9, -999.00,9, -999.00,9,  -999.0,9,  -999.0,-999.000,9,-999.000, -999.00,9, 1082.60,-999.0000,9,-999.0000,9,-999.0000,9,-999.0000,9,-999.0000,9,-999.0000,-999.000,-999.0000,9, -999.00
318M20040615,        P02,      33,          1,         19,         19,2,20040627,       2108,     30.003,   144.9125,       5811,  1183.7,   3.4537,  34.3561,2,  34.3553,2,  37.4000,2,    37.9,2,  127.36,2,   42.60,2,    0.00,2,    3.03,2,   0.114,2,   0.065,2,   0.005,2,  2351.9,2,  2364.1,2,-999.000,9,-999.0000,9, -999.00,9, -999.00,9,  -999.0,9,  -999.0,-999.000,9,-999.000, -999.00,9, 1183.70,-999.0000,9,-999.0000,9,-999.0000,9,-999.0000,9,-999.0000,9,-999.0000,-999.000,-999.0000,9, -999.00
318M20040615,        P02,      33,          1,         18,         18,2,20040627,       2108,     30.003,   144.9125,       5811,  1284.2,   3.1933,  34.4023,2,  34.4019,2,  37.7000,2,    37.7,2,  135.39,2,   42.83,2,    0.00,2,    3.05,2,   0.072,2,   0.038,2,   0.001,2,  2362.0,2,  2372.7,6,-999.000,9,-999.0000,9, -999.00,9, -999.00,9,  -999.0,9,  -999.0,-999.000,9,-999.000, -999.00,9, 1284.20,-999.0000,9,-999.0000,9,-999.0000,9,-999.0000,9,-999.0000,9,-999.0000,-999.000,-999.0000,9, -999.00
318M20040615,        P02,      33,          1,         17,         17,2,20040627,       2108,     30.003,   144.9125,       5811,  1384.8,   2.9122,  34.4486,2,  34.4477,2,  41.0000,2,    39.1,2,  142.36,2,   42.95,2,    0.00,2,    3.05,2,   0.041,2,   0.020,2,   0.003,2,  2367.3,2,  2382.0,2,-999.000,9,-999.0000,9, -999.00,9, -999.00,9,  -999.0,9,  -999.0,-999.000,9,-999.000, -999.00,9, 1384.80,-999.0000,9,-999.0000,9,-999.0000,9,-999.0000,9,-999.0000,9,-999.0000,-999.000,-999.0000,9, -999.00
318M20040615,        P02,      33,          1,         16,         16,2,20040627,       2108,     30.003,   144.9125,       5811,  1486.3,   2.7418,  34.4797,2,  34.4802,2,  44.2000,2,    44.3,2,  146.41,2,   42.74,2,    0.00,2,    3.03,2,   0.028,2,   0.011,2,   0.004,2,  2368.9,2,  2388.4,2,-999.000,9,-999.0000,9, -999.00,9, -999.00,9,  -999.0,9,  -999.0,-999.000,9,-999.000, -999.00,9, 1486.30,-999.0000,9,-999.0000,9,-999.0000,9,-999.0000,9,-999.0000,9,-999.0000,-999.000,-999.0000,9, -999.00
318M20040615,        P02,      33,          1,         15,         15,2,20040627,       2108,     30.003,   144.9125,       5811,  1592.0,   2.5471,  34.5084,2,  34.5085,2,  49.1000,2,    48.2,2,  151.40,2,   42.63,2,    0.00,2,    3.02,2,   0.021,2,   0.008,2,   0.000,2,  2371.8,2,  2395.4,2,-999.000,9,-999.0000,9, -999.00,9, -999.00,9,  -999.0,9,  -999.0,-999.000,9,-999.000, -999.00,9, 1592.00,-999.0000,9,-999.0000,9,-999.0000,9,-999.0000,9,-999.0000,9,-999.0000,-999.000,-999.0000,9, -999.00
318M20040615,        P02,      33,          1,         14,         14,2,20040627,       2108,     30.003,   144.9125,       5811,  1793.5,   2.2460,  34.5548,2,  34.5540,2,  64.1000,2,    61.6,2,  156.95,2,   41.84,2,    0.00,2,    2.96,2,   0.016,2,   0.006,2,   0.003,2,  2371.6,2,  2402.3,2,-999.000,9,-999.0000,9, -999.00,9, -999.00,9,  -999.0,9,  -999.0,-999.000,9,-999.000, -999.00,9, 1793.50,-999.0000,9,-999.0000,9,-999.0000,9,-999.0000,9,-999.0000,9,-999.0000,-999.000,-999.0000,9, -999.00
318M20040615,        P02,      33,          1,         13,         13,2,20040627,       2108,     30.003,   144.9125,       5811,  1996.1,   2.0467,  34.5876,2,  34.5884,2,  79.6000,2,    77.7,2,  158.07,2,   40.89,2,    0.00,2,    2.88,2,   0.013,6,   0.004,6,   0.001,6,  2365.7,2,  2408.4,2,-999.000,9,-999.0000,9, -999.00,9, -999.00,9,  -999.0,9,  -999.0,-999.000,9,-999.000, -999.00,9, 1996.10,-999.0000,9,-999.0000,9,-999.0000,9,-999.0000,9,-999.0000,9,-999.0000,-999.000,-999.0000,9, -999.00
318M20040615,        P02,      33,          1,         12,         12,2,20040627,       2108,     30.003,   144.9125,       5811,  2198.8,   1.8833,  34.6135,2,  34.6137,2,  93.2000,2,    92.7,2,  158.08,2,   39.99,2,    0.00,2,    2.82,2,   0.013,2,   0.002,2,   0.000,2,  2358.7,2,  2412.7,2,-999.000,9,-999.0000,9, -999.00,9, -999.00,9,  -999.0,9,  -999.0,-999.000,9,-999.000, -999.00,9, 2198.80,-999.0000,9,-999.0000,9,-999.0000,9,-999.0000,9,-999.0000,9,-999.0000,-999.000,-999.0000,9, -999.00
318M20040615,        P02,      33,          1,         11,         11,2,20040627,       2108,     30.003,   144.9125,       5811,  2455.8,   1.7603,  34.6338,2,  34.6335,2, 107.4000,2,   106.8,2,  156.81,2,   39.10,2,    0.00,2,    2.75,2,   0.011,2,   0.001,2,   0.002,2,  2351.2,2,  2413.7,2,-999.000,9,-999.0000,9, -999.00,9, -999.00,9,  -999.0,9,  -999.0,-999.000,9,-999.000, -999.00,9, 2455.80,-999.0000,9,-999.0000,9,-999.0000,9,-999.0000,9,-999.0000,9,-999.0000,-999.000,-999.0000,9, -999.00
318M20040615,        P02,      33,          1,         10,         10,2,20040627,       2108,     30.003,   144.9125,       5811,  2706.9,   1.6620,  34.6489,2,  34.6478,2, 118.1000,2,   118.4,2,  155.55,2,   38.38,2,    0.00,2,    2.70,2,   0.009,2,   0.002,2,   0.001,2,  2344.8,2,  2415.9,2,-999.000,9,-999.0000,9, -999.00,9, -999.00,9,  -999.0,9,  -999.0,-999.000,9,-999.000, -999.00,9, 2706.90,-999.0000,9,-999.0000,9,-999.0000,9,-999.0000,9,-999.0000,9,-999.0000,-999.000,-999.0000,9, -999.00
318M20040615,        P02,      33,          1,          9,          9,2,20040627,       2108,     30.003,   144.9125,       5811,  2958.6,   1.5920,  34.6597,2,  34.6592,2, 126.1000,2,   127.0,2,  154.44,2,   37.81,2,    0.00,2,    2.64,2,   0.002,2,   0.001,2,   0.002,2,  2339.7,2,  2416.2,2,-999.000,9,-999.0000,9, -999.00,9, -999.00,9,  -999.0,9,  -999.0,-999.000,9,-999.000, -999.00,9, 2958.60,-999.0000,9,-999.0000,9,-999.0000,9,-999.0000,9,-999.0000,9,-999.0000,-999.000,-999.0000,9, -999.00
318M20040615,        P02,      33,          1,          8,          8,2,20040627,       2108,     30.003,   144.9125,       5811,  3297.2,   1.5436,  34.6693,2,  34.6688,2, 136.9000,2,   137.1,2,  151.34,2,   37.09,2,    0.00,2,    2.59,2,   0.003,2,   0.004,2,   0.000,2,  2333.4,2,  2413.9,2,-999.000,9,-999.0000,9, -999.00,9, -999.00,9,  -999.0,9,  -999.0,-999.000,9,-999.000, -999.00,9, 3297.20,-999.0000,9,-999.0000,9,-999.0000,9,-999.0000,9,-999.0000,9,-999.0000,-999.000,-999.0000,9, -999.00
318M20040615,        P02,      33,          1,          7,          7,2,20040627,       2108,     30.003,   144.9125,       5811,  3711.2,   1.5067,  34.6769,2,  34.6768,2, 143.9000,2,   144.6,2,  150.63,2,   36.66,2,    0.00,2,    2.56,2,-999.000,5,-999.000,5,-999.000,5,  2329.4,2,  2411.8,2,-999.000,9,-999.0000,9, -999.00,9, -999.00,9,  -999.0,9,  -999.0,-999.000,9,-999.000, -999.00,9, 3711.20,-999.0000,9,-999.0000,9,-999.0000,9,-999.0000,9,-999.0000,9,-999.0000,-999.000,-999.0000,9, -999.00
318M20040615,        P02,      33,          1,          6,          6,2,20040627,       2108,     30.003,   144.9125,       5811,  4120.3,   1.4829,  34.6829,2,  34.6819,2, 150.1000,2,   151.1,2,  149.18,2,   36.16,2,    0.00,2,    2.52,2,   0.002,2,   0.000,2,  -0.001,2,  2324.9,2,  2413.2,2,-999.000,9,-999.0000,9, -999.00,9, -999.00,9,  -999.0,9,  -999.0,-999.000,9,-999.000, -999.00,9, 4120.30,-999.0000,9,-999.0000,9,-999.0000,9,-999.0000,9,-999.0000,9,-999.0000,-999.000,-999.0000,9, -999.00
318M20040615,        P02,      33,          1,          5,          5,2,20040627,       2108,     30.003,   144.9125,       5811,  4518.5,   1.4842,  34.6872,2,  34.6868,2, 156.0000,2,   156.7,2,  146.99,2,   35.78,2,    0.00,2,    2.49,2,   0.001,2,  -0.001,2,   0.000,2,  2319.0,2,  2411.7,2,-999.000,9,-999.0000,9, -999.00,9, -999.00,9,  -999.0,9,  -999.0,-999.000,9,-999.000, -999.00,9, 4518.50,-999.0000,9,-999.0000,9,-999.0000,9,-999.0000,9,-999.0000,9,-999.0000,-999.000,-999.0000,9, -999.00
318M20040615,        P02,      33,          1,          4,          4,2,20040627,       2108,     30.003,   144.9125,       5811,  5095.4,   1.5176,  34.6906,2,  34.6909,2, 161.4000,2,   161.8,2,  144.25,2,   35.46,2,    0.00,2,    2.46,2,   0.000,2,   0.001,2,   0.001,2,  2314.5,2,  2409.1,2,-999.000,9,-999.0000,9, -999.00,9, -999.00,9,  -999.0,9,  -999.0,-999.000,9,-999.000, -999.00,9, 5095.40,-999.0000,9,-999.0000,9,-999.0000,9,-999.0000,9,-999.0000,9,-999.0000,-999.000,-999.0000,9, -999.00
318M20040615,        P02,      33,          1,          3,          3,2,20040627,       2108,     30.003,   144.9125,       5811,  5503.9,   1.5523,  34.6923,2,  34.6921,2, 164.4000,2,   164.9,2,  141.88,2,   35.18,2,    0.00,2,    2.44,2,   0.001,2,   0.000,2,  -0.001,2,  2313.5,2,  2409.6,2,-999.000,9,-999.0000,9, -999.00,9, -999.00,9,  -999.0,9,  -999.0,-999.000,9,-999.000, -999.00,9, 5503.90,-999.0000,9,-999.0000,9,-999.0000,9,-999.0000,9,-999.0000,9,-999.0000,-999.000,-999.0000,9, -999.00
318M20040615,        P02,      33,          1,          2,          2,2,20040627,       2108,     30.003,   144.9125,       5811,  5949.8,   1.6016,  34.6932,2,  34.6931,2, 166.9000,2,   167.5,2,  140.07,2,   35.03,2,    0.00,2,    2.43,2,   0.002,2,   0.002,2,  -0.001,2,  2311.5,2,  2406.3,2,-999.000,9,-999.0000,9, -999.00,9, -999.00,9,  -999.0,9,  -999.0,-999.000,9,-999.000, -999.00,9, 5949.80,-999.0000,9,-999.0000,9,-999.0000,9,-999.0000,9,-999.0000,9,-999.0000,-999.000,-999.0000,9, -999.00
318M20040615,        P02,      33,          1,          1,          1,2,20040627,       2108,     30.003,   144.9125,       5811,  5950.5,   1.6016,  34.6932,2,  34.6944,2, 166.9000,3,   173.6,3,  139.90,2,   35.04,2,    0.00,2,    2.44,2,   0.002,2,   0.000,2,  -0.002,2,  2311.0,6,  2407.5,6,-999.000,9,-999.0000,9, -999.00,9, -999.00,9,  -999.0,9,  -999.0,-999.000,9,-999.000, -999.00,9, 5950.50,-999.0000,9,-999.0000,9,-999.0000,9,-999.0000,9,-999.0000,9,-999.0000,-999.000,-999.0000,9, -999.00