BOTTLE,20131027SIOCCHRJL
EXPOCODE,SECT_ID,STNNBR,CASTNO,SAMPNO,BTLNBR,BTLNBR_FLAG_W,DATE,TIME,LATITUDE,LONGITUDE,DEPTH,CTDPRS,CTDTMP,CTDSAL,CTDSAL_FLAG_W,SALNTY,SALNTY_FLAG_W,CTDOXY,CTDOXY_FLAG_W,OXYGEN,OXYGEN_FLAG_W,SILCAT,SILCAT_FLAG_W,NITRAT,NITRAT_FLAG_W,NITRIT,NITRIT_FLAG_W,PHSPHT,PHSPHT_FLAG_W,CFC-11,CFC-11_FLAG_W,CFC-12,CFC-12_FLAG_W,CFC113,CFC113_FLAG_W,TCARBN,TCARBN_FLAG_W,ALKALI,ALKALI_FLAG_W,TRITUM,TRITUM_FLAG_W,HELIUM,HELIUM_FLAG_W,DELHE3,DELHE3_FLAG_W,DELC13,DELC13_FLAG_W,DELC14,DELC14_FLAG_W,C14ERR,NEON,NEON_FLAG_W,NEONER,DOC,DOC_FLAG_W,CTDRAW,CDOM380,CDOM380_FLAG_W,CDOM325,CDOM325_FLAG_W,CDOMSL,CDOMSL_FLAG_W,CDOM340,CDOM340_FLAG_W,CDOMSN,CDOMSN_FLAG_W,HELIER,TRITER,CDOM412,CDOM412_FLAG_W,DELHER
,,,,,,,,,,,METERS,DBAR,ITS-90,PSS-78,,PSS-78,,UMOL/KG,,UMOL/KG,,UMOL/KG,,UMOL/KG,,UMOL/KG,,UMOL/KG,,PMOL/KG,,PMOL/KG,,PMOL/KG,,UMOL/KG,,UMOL/KG,,TU,,NMOL/KG,,PERCNT,,/MILLE,,/MILLE,,/MILLE,NMOL/KG,,NMOL/KG,UMOL/KG,,DBAR,1/M,,1/M,,1/NM,,1/M,,1/NM,,NMOL/KG,TU,1/M,,PERCNT
318M20040615,        P02,      98,          1,         36,         36,2,20040719,       2202,    30.0075,  -171.6742,       5336,     9.3,  25.7830,  35.3567,2,  35.3548,2, 209.2000,2,   208.6,2,    1.16,2,    0.13,2,    0.00,2,    0.03,2,   1.744,2,   1.057,2,   0.126,2,  1998.4,2,  2322.9,6,   0.668,2,   1.7504,2,   -0.64,2, -999.00,9,  -999.0,9,  -999.0,-999.000,9,-999.000,   67.00,2,    9.30,-999.0000,9,-999.0000,9,-999.0000,9,-999.0000,9,-999.0000,9,   0.0088,   0.006,-999.0000,9,    0.20
318M20040615,        P02,      98,          1,         35,         35,2,20040719,       2202,    30.0075,  -171.6742,       5336,    36.5,  23.6915,  35.2344,2,  35.2308,2, 222.9000,2,   222.9,2,    1.54,2,    0.14,2,    0.00,2,    0.02,2,   1.944,2,   1.179,2,   0.141,2,  2002.4,2,  2313.6,2,-999.000,9,-999.0000,9, -999.00,9, -999.00,9,  -999.0,9,  -999.0,-999.000,9,-999.000,   63.00,2,   36.50,-999.0000,9,-999.0000,9,-999.0000,9,-999.0000,9,-999.0000,9,-999.0000,-999.000,-999.0000,9, -999.00
318M20040615,        P02,      98,          1,         34,         34,2,20040719,       2202,    30.0075,  -171.6742,       5336,    71.3,  19.9881,  35.0643,2,  35.0593,2, 236.7000,2,   237.1,2,    2.13,2,    0.14,2,    0.00,2,    0.05,2,   2.284,2,   1.325,2,   0.153,2,  2010.9,2,  2301.8,2,   0.750,2,   1.7607,2,   -1.54,2, -999.00,9,  -999.0,9,  -999.0,-999.000,9,-999.000,   58.20,2,   71.30,-999.0000,9,-999.0000,9,-999.0000,9,-999.0000,9,-999.0000,9,   0.0088,   0.007,-999.0000,9,    0.20
318M20040615,        P02,      98,          1,         33,         33,2,20040719,       2202,    30.0075,  -171.6742,       5336,   121.2,  17.8726,  34.8560,2,  34.8499,2, 225.8000,2,   224.9,2,    3.13,2,    1.09,2,    0.11,2,    0.16,2,   2.449,2,   1.425,2,   0.143,2,  2025.4,2,  2288.9,2,   0.790,2,   1.7840,2,   -0.75,2, -999.00,9,  -999.0,9,  -999.0,-999.000,9,-999.000,   56.70,2,  121.20,-999.0000,9,-999.0000,9,-999.0000,9,-999.0000,9,-999.0000,9,   0.0089,   0.007,-999.0000,9,    0.20
318M20040615,        P02,      98,          1,         32,         32,2,20040719,       2202,    30.0075,  -171.6742,       5336,   171.1,  16.1943,  34.6959,2,  34.6954,2, 223.4000,2,   224.7,2,    4.73,2,    3.93,2,    0.03,2,    0.30,2,   2.580,2,   1.524,2,   0.152,2,  2034.2,2,  2279.1,2,   0.787,2,   1.7762,2,   -0.80,2, -999.00,9,  -999.0,9,  -999.0,-999.000,9,-999.000,   55.40,2,  171.10,-999.0000,9,-999.0000,9,-999.0000,9,-999.0000,9,-999.0000,9,   0.0089,   0.007,-999.0000,9,    0.20
318M20040615,        P02,      98,          1,         31,         31,2,20040719,       2202,    30.0075,  -171.6742,       5336,   220.8,  15.1193,  34.5889,2,  34.5878,2, 212.3000,2,   214.4,2,    6.96,2,    6.73,2,    0.01,2,    0.49,2,   2.676,2,   1.532,2,   0.082,2,  2050.2,6,  2274.4,2,   0.816,2,   1.7813,2,   -0.20,2, -999.00,9,  -999.0,9,  -999.0,-999.000,9,-999.000,   54.40,2,  220.80,-999.0000,9,-999.0000,9,-999.0000,9,-999.0000,9,-999.0000,9,   0.0089,   0.006,-999.0000,9,    0.20
318M20040615,        P02,      98,          1,         30,         30,2,20040719,       2202,    30.0075,  -171.6742,       5336,   270.6,  14.1860,  34.5232,2,  34.5212,2, 214.4000,2,   216.3,2,    8.99,2,    8.31,2,    0.01,2,    0.60,2,   2.753,2,   1.566,2,   0.087,2,  2059.6,2,  2272.6,2,-999.000,9,-999.0000,9, -999.00,9, -999.00,9,  -999.0,9,  -999.0,-999.000,9,-999.000,   53.70,2,  270.60,-999.0000,9,-999.0000,9,-999.0000,9,-999.0000,9,-999.0000,9,-999.0000,-999.000,-999.0000,9, -999.00
318M20040615,        P02,      98,          1,         29,         29,2,20040719,       2202,    30.0075,  -171.6742,       5336,   325.3,  13.0326,  34.4027,2,  34.4016,2, 212.8000,2,   213.1,2,   10.60,2,   10.03,2,    0.01,2,    0.72,2,   2.910,2,   1.607,2,   0.068,2,  2075.5,2,  2267.9,2,   0.841,2,   1.7954,2,    1.46,2, -999.00,9,  -999.0,9,  -999.0,-999.000,9,-999.000,   52.10,2,  325.30,-999.0000,9,-999.0000,9,-999.0000,9,-999.0000,9,-999.0000,9,   0.0090,   0.008,-999.0000,9,    0.20
318M20040615,        P02,      98,          1,         28,         28,2,20040719,       2202,    30.0075,  -171.6742,       5336,   375.2,  11.8906,  34.3221,2,  34.3200,2, 211.3000,2,   211.8,2,   13.87,2,   12.26,2,    0.01,2,    0.88,2,   2.966,2,   1.623,2,   0.075,2,  2085.5,2,  2266.4,2,   0.845,2,   1.8082,2,    1.80,2, -999.00,9,  -999.0,9,  -999.0,-999.000,9,-999.000,   51.40,2,  375.20,-999.0000,9,-999.0000,9,-999.0000,9,-999.0000,9,-999.0000,9,   0.0090,   0.008,-999.0000,9,    0.20
318M20040615,        P02,      98,          1,         27,         27,2,20040719,       2202,    30.0075,  -171.6742,       5336,   425.3,  11.1344,  34.2792,2,  34.2755,2, 208.1000,2,   209.6,2,   17.35,2,   14.04,2,    0.00,2,    1.00,2,   2.960,2,   1.614,2,   0.089,2,  2099.2,2,  2268.1,2,   0.887,2,   1.8133,2,    3.04,2, -999.00,9,  -999.0,9,  -999.0,-999.000,9,-999.000,   50.50,2,  425.30,-999.0000,9,-999.0000,9,-999.0000,9,-999.0000,9,-999.0000,9,   0.0091,   0.008,-999.0000,9,    0.20
318M20040615,        P02,      98,          1,         26,         26,2,20040719,       2202,    30.0075,  -171.6742,       5336,   475.1,  10.0544,  34.1959,2,  34.1915,2, 207.3000,2,   207.8,2,   21.88,2,   16.23,2,    0.00,2,    1.15,2,   3.030,2,   1.639,2,   0.111,2,  2113.1,2,  2269.5,2,   0.788,2,   1.8217,2,    3.53,2, -999.00,9,  -999.0,9,  -999.0,   7.461,2,   0.037,   48.60,2,  475.10,-999.0000,9,-999.0000,9,-999.0000,9,-999.0000,9,-999.0000,9,   0.0091,   0.009,-999.0000,9,    0.20
318M20040615,        P02,      98,          1,         25,         25,2,20040719,       2202,    30.0075,  -171.6742,       5336,   545.1,   8.3998,  34.0872,2,  34.0902,2, 186.7000,2,   186.4,2,   32.69,2,   21.25,2,    0.00,2,    1.52,2,   2.802,2,   1.497,2,   0.120,2,  2148.4,2,  2272.7,2,-999.000,9,   1.8342,2,    6.81,2, -999.00,9,  -999.0,9,  -999.0,   7.623,2,   0.038,   47.20,2,  545.10,-999.0000,9,-999.0000,9,-999.0000,9,-999.0000,9,-999.0000,9,   0.0092,-999.000,-999.0000,9,    0.20
318M20040615,        P02,      98,          1,         24,         24,2,20040719,       2202,    30.0075,  -171.6742,       5336,   645.0,   6.3020,  34.0328,2,  34.0328,2, 130.0000,2,   127.9,2,   58.62,2,   30.46,2,    0.00,2,    2.20,2,   1.913,2,   0.983,2,   0.075,2,  2221.5,2,  2290.8,2,-999.000,9,-999.0000,9, -999.00,9, -999.00,9,  -999.0,9,  -999.0,-999.000,9,-999.000,   45.70,2,  645.00,-999.0000,9,-999.0000,9,-999.0000,9,-999.0000,9,-999.0000,9,-999.0000,-999.000,-999.0000,9, -999.00
318M20040615,        P02,      98,          1,         23,         23,2,20040719,       2202,    30.0075,  -171.6742,       5336,   745.1,   4.9794,  34.0744,2,  34.0749,2,  88.3000,2,    81.5,2,   82.50,2,   36.87,2,    0.00,2,    2.66,2,   1.094,2,   0.547,2,   0.034,2,  2278.1,2,  2310.8,2,-999.000,9,   1.8905,2,   15.50,2, -999.00,9,  -999.0,9,  -999.0,   7.818,2,   0.039,   44.50,2,  745.10,-999.0000,9,-999.0000,9,-999.0000,9,-999.0000,9,-999.0000,9,   0.0095,-999.000,-999.0000,9,    0.20
318M20040615,        P02,      98,          1,         22,         22,2,20040719,       2202,    30.0075,  -171.6742,       5336,   845.5,   4.3035,  34.1732,2,  34.1711,2,  49.2000,2,    45.5,2,  101.22,2,   40.93,2,    0.00,2,    2.94,2,   0.420,2,   0.210,2,   0.009,2,  2319.7,2,  2331.5,2,   0.223,2,   1.8869,2,   15.90,2, -999.00,9,  -999.0,9,  -999.0,   7.833,2,   0.039,   43.00,2,  845.50,-999.0000,9,-999.0000,9,-999.0000,9,-999.0000,9,-999.0000,9,   0.0094,   0.005,-999.0000,9,    0.20
318M20040615,        P02,      98,          1,         21,         21,2,20040719,       2202,    30.0075,  -171.6742,       5336,   945.2,   3.8675,  34.2658,2,  34.2647,2,  32.8000,2,    27.1,2,  115.86,2,   43.04,2,    0.00,2,    3.09,2,   0.126,2,   0.069,2,   0.004,2,  2347.5,2,  2350.6,2,-999.000,9,-999.0000,9, -999.00,9, -999.00,9,  -999.0,9,  -999.0,-999.000,9,-999.000,   42.20,2,  945.20,-999.0000,9,-999.0000,9,-999.0000,9,-999.0000,9,-999.0000,9,-999.0000,-999.000,-999.0000,9, -999.00
318M20040615,        P02,      98,          1,         20,         20,2,20040719,       2202,    30.0075,  -171.6742,       5336,  1050.3,   3.5851,  34.3392,2,  34.3383,2,  23.0000,2,    22.6,2,  124.87,2,   43.69,2,    0.00,2,    3.15,2,   0.042,2,   0.022,2,   0.001,2,  2363.2,6,  2363.7,2,   0.040,2,   1.8956,2,   15.73,2, -999.00,9,  -999.0,9,  -999.0,   7.873,2,   0.039,   40.50,2, 1050.30,-999.0000,9,-999.0000,9,-999.0000,9,-999.0000,9,-999.0000,9,   0.0095,   0.002,-999.0000,9,    0.20
318M20040615,        P02,      98,          1,         19,         19,2,20040719,       2202,    30.0075,  -171.6742,       5336,  1155.4,   3.3593,  34.4013,2,  34.4015,2,  23.7000,2,    23.8,2,  131.75,2,   43.81,2,    0.00,2,    3.16,2,   0.013,2,   0.009,2,   0.004,2,  2369.4,2,  2374.4,2,-999.000,9,-999.0000,9, -999.00,9, -999.00,9,  -999.0,9,  -999.0,-999.000,9,-999.000,   39.90,2, 1155.40,-999.0000,9,-999.0000,9,-999.0000,9,-999.0000,9,-999.0000,9,-999.0000,-999.000,-999.0000,9, -999.00
318M20040615,        P02,      98,          1,         18,         18,2,20040719,       2202,    30.0075,  -171.6742,       5336,  1255.3,   3.0786,  34.4566,2,  34.4569,2,  28.9000,2,    29.1,2,  138.85,2,   43.99,2,    0.00,2,    3.14,2,   0.008,2,   0.005,2,   0.001,2,  2374.0,2,  2384.8,6,   0.014,2,-999.0000,9, -999.00,9, -999.00,9,  -999.0,9,  -999.0,-999.000,9,-999.000,   38.90,2, 1255.30,-999.0000,9,-999.0000,9,-999.0000,9,-999.0000,9,-999.0000,9,-999.0000,   0.001,-999.0000,9, -999.00
318M20040615,        P02,      98,          1,         17,         17,2,20040719,       2202,    30.0075,  -171.6742,       5336,  1355.7,   2.9423,  34.4816,2,  34.4797,2,  33.7000,2,    32.8,2,  142.70,2,   44.09,2,    0.00,2,    3.12,2,   0.008,2,   0.007,2,   0.001,2,  2379.8,2,  2385.0,3,-999.000,9,-999.0000,9, -999.00,9, -999.00,9,  -999.0,9,  -999.0,-999.000,9,-999.000,   38.30,2, 1355.70,-999.0000,9,-999.0000,9,-999.0000,9,-999.0000,9,-999.0000,9,-999.0000,-999.000,-999.0000,9, -999.00
318M20040615,        P02,      98,          1,         16,         16,2,20040719,       2202,    30.0075,  -171.6742,       5336,  1455.7,   2.7770,  34.5063,2,  34.5064,2,  38.2000,2,    37.5,2,  146.76,2,   43.75,2,    0.00,2,    3.10,2,  -0.002,2,   0.004,2,   0.001,2,  2381.9,2,  2395.9,2,   0.003,2,   1.9408,2,   19.61,2, -999.00,9,  -999.0,9,  -999.0,   7.765,2,   0.039,   37.70,2, 1455.70,-999.0000,9,-999.0000,9,-999.0000,9,-999.0000,9,-999.0000,9,   0.0097,   0.000,-999.0000,9,    0.20
318M20040615,        P02,      98,          1,         15,         15,2,20040719,       2202,    30.0075,  -171.6742,       5336,  1555.4,   2.5609,  34.5335,2,  34.5315,2,  42.7000,2,    42.6,2,  152.78,2,   43.42,2,    0.00,2,    3.08,2,  -0.002,2,   0.003,2,   0.001,2,  2382.2,2,  2401.4,2,-999.000,9,-999.0000,9, -999.00,9, -999.00,9,  -999.0,9,  -999.0,-999.000,9,-999.000,   37.80,2, 1555.40,-999.0000,9,-999.0000,9,-999.0000,9,-999.0000,9,-999.0000,9,-999.0000,-999.000,-999.0000,9, -999.00
318M20040615,        P02,      98,          1,         14,         14,2,20040719,       2202,    30.0075,  -171.6742,       5336,  1656.3,   2.3794,  34.5569,2,  34.5561,2,  52.4000,2,    52.3,2,  156.41,2,   42.74,2,    0.00,2,    3.03,2,  -0.007,2,   0.000,2,   0.001,2,  2379.9,2,  2406.9,2,   0.011,2,   1.9425,2,   20.92,2, -999.00,9,  -999.0,9,  -999.0,   8.238,2,   0.041,   37.50,2, 1656.30,-999.0000,9,-999.0000,9,-999.0000,9,-999.0000,9,-999.0000,9,   0.0097,   0.001,-999.0000,9,    0.20
318M20040615,        P02,      98,          1,         13,         13,2,20040719,       2202,    30.0075,  -171.6742,       5336,  1756.4,   2.2441,  34.5730,2,  34.5730,2,  59.1000,2,    59.1,2,  159.90,2,   42.20,2,    0.00,2,    2.99,2,  -0.003,2,   0.001,2,   0.001,2,  2378.5,2,  2410.2,2,-999.000,9,-999.0000,9, -999.00,9, -999.00,9,  -999.0,9,  -999.0,-999.000,9,-999.000,   37.30,2, 1756.40,-999.0000,9,-999.0000,9,-999.0000,9,-999.0000,9,-999.0000,9,-999.0000,-999.000,-999.0000,9, -999.00
318M20040615,        P02,      98,          1,         12,         12,2,20040719,       2202,    30.0075,  -171.6742,       5336,  1957.4,   2.0089,  34.6015,2,  34.6011,2,  72.6000,2,    73.4,2,  163.12,2,   41.32,2,    0.00,2,    2.93,2,-999.000,9,-999.000,9,-999.000,9,  2374.4,2,  2416.3,2,-999.000,9,-999.0000,9, -999.00,9, -999.00,9,  -999.0,9,  -999.0,-999.000,9,-999.000,   37.00,2, 1957.40,-999.0000,9,-999.0000,9,-999.0000,9,-999.0000,9,-999.0000,9,-999.0000,-999.000,-999.0000,9, -999.00
318M20040615,        P02,      98,          1,         11,         11,2,20040719,       2202,    30.0075,  -171.6742,       5336,  2123.5,   1.8751,  34.6188,2,  34.6182,2,  81.5000,2,    85.9,2,  163.71,2,   40.42,2,    0.00,2,    2.86,2,  -0.002,2,   0.002,2,   0.001,2,  2370.5,2,  2417.7,2,-999.000,9,-999.0000,9, -999.00,9, -999.00,9,  -999.0,9,  -999.0,-999.000,9,-999.000,   37.40,2, 2123.50,-999.0000,9,-999.0000,9,-999.0000,9,-999.0000,9,-999.0000,9,-999.0000,-999.000,-999.0000,9, -999.00
318M20040615,        P02,      98,          1,         10,         10,2,20040719,       2202,    30.0075,  -171.6742,       5336,  2380.4,   1.7355,  34.6372,2,  34.6353,2, 101.3000,2,   101.8,2,  161.78,2,   39.39,2,    0.00,2,    2.78,2,-999.000,9,-999.000,9,-999.000,9,  2361.0,2,  2418.7,2,-999.000,9,-999.0000,9, -999.00,9, -999.00,9,  -999.0,9,  -999.0,-999.000,9,-999.000,   36.90,2, 2380.40,-999.0000,9,-999.0000,9,-999.0000,9,-999.0000,9,-999.0000,9,-999.0000,-999.000,-999.0000,9, -999.00
318M20040615,        P02,      98,          1,          9,          9,2,20040719,       2202,    30.0075,  -171.6742,       5336,  2642.2,   1.6259,  34.6512,2,  34.6512,2, 111.9000,2,   112.4,2,  162.38,2,   38.89,2,    0.00,2,    2.73,2,  -0.001,2,   0.003,2,   0.001,2,  2356.8,2,  2421.2,2,-999.000,9,-999.0000,9, -999.00,9, -999.00,9,  -999.0,9,  -999.0,-999.000,9,-999.000,   37.00,2, 2642.20,-999.0000,9,-999.0000,9,-999.0000,9,-999.0000,9,-999.0000,9,-999.0000,-999.000,-999.0000,9, -999.00
318M20040615,        P02,      98,          1,          8,          8,2,20040719,       2202,    30.0075,  -171.6742,       5336,  2894.9,   1.5637,  34.6604,2,  34.6589,2, 120.0000,2,   120.9,2,  161.96,2,   38.35,2,    0.00,2,    2.69,2,-999.000,9,-999.000,9,-999.000,9,  2352.6,2,  2422.7,2,-999.000,9,-999.0000,9, -999.00,9, -999.00,9,  -999.0,9,  -999.0,-999.000,9,-999.000,   37.10,2, 2894.90,-999.0000,9,-999.0000,9,-999.0000,9,-999.0000,9,-999.0000,9,-999.0000,-999.000,-999.0000,9, -999.00
318M20040615,        P02,      98,          1,          7,          7,2,20040719,       2202,    30.0075,  -171.6742,       5336,  3147.7,   1.5197,  34.6680,2,  34.6664,2, 128.3000,2,   129.2,2,  160.01,2,   37.85,2,    0.00,2,    2.64,2,   0.000,2,   0.002,2,   0.001,2,  2346.8,2,  2423.1,2,-999.000,9,-999.0000,9, -999.00,9, -999.00,9,  -999.0,9,  -999.0,-999.000,9,-999.000,   37.70,2, 3147.70,-999.0000,9,-999.0000,9,-999.0000,9,-999.0000,9,-999.0000,9,-999.0000,-999.000,-999.0000,9, -999.00
318M20040615,        P02,      98,          1,          6,          6,2,20040719,       2202,    30.0075,  -171.6742,       5336,  3559.0,   1.4788,  34.6768,2,  34.6764,2, 139.1000,2,   139.7,2,  158.07,2,   37.15,2,    0.00,2,    2.59,2,-999.000,9,-999.000,9,-999.000,9,  2338.9,2,  2416.9,2,-999.000,9,-999.0000,9, -999.00,9, -999.00,9,  -999.0,9,  -999.0,-999.000,9,-999.000,   37.50,2, 3559.00,-999.0000,9,-999.0000,9,-999.0000,9,-999.0000,9,-999.0000,9,-999.0000,-999.000,-999.0000,9, -999.00
318M20040615,        P02,      98,          1,          5,          5,2,20040719,       2202,    30.0075,  -171.6742,       5336,  3969.7,   1.4671,  34.6827,2,  34.6812,2, 147.0000,2,   147.3,2,  155.69,2,   36.60,2,    0.00,2,    2.55,2,   0.001,2,   0.001,2,   0.001,2,  2334.0,2,  2417.8,6,-999.000,9,-999.0000,9, -999.00,9, -999.00,9,  -999.0,9,  -999.0,-999.000,9,-999.000,   37.70,2, 3969.70,-999.0000,9,-999.0000,9,-999.0000,9,-999.0000,9,-999.0000,9,-999.0000,-999.000,-999.0000,9, -999.00
318M20040615,        P02,      98,          1,          4,          4,2,20040719,       2202,    30.0075,  -171.6742,       5336,  4383.7,   1.4798,  34.6862,2,  34.6851,2, 151.8000,2,   152.1,2,  153.99,2,   36.23,2,    0.00,2,    2.53,2,-999.000,9,-999.000,9,-999.000,9,  2329.7,2,  2420.7,2,-999.000,9,-999.0000,9, -999.00,9, -999.00,9,  -999.0,9,  -999.0,-999.000,9,-999.000,   37.30,2, 4383.70,-999.0000,9,-999.0000,9,-999.0000,9,-999.0000,9,-999.0000,9,-999.0000,-999.000,-999.0000,9, -999.00
318M20040615,        P02,      98,          1,          3,          3,2,20040719,       2202,    30.0075,  -171.6742,       5336,  4788.2,   1.5037,  34.6887,2,  34.6877,2, 155.7000,2,   155.9,2,  151.19,2,   35.91,2,    0.00,2,    2.50,2,   0.002,2,   0.004,2,   0.001,2,  2326.5,2,  2420.0,2,-999.000,9,-999.0000,9, -999.00,9, -999.00,9,  -999.0,9,  -999.0,-999.000,9,-999.000,   37.40,2, 4788.20,-999.0000,9,-999.0000,9,-999.0000,9,-999.0000,9,-999.0000,9,-999.0000,-999.000,-999.0000,9, -999.00
318M20040615,        P02,      98,          1,          2,          2,2,20040719,       2202,    30.0075,  -171.6742,       5336,  5196.4,   1.5246,  34.6910,2,  34.6902,2, 161.1000,2,   161.3,2,  146.65,2,   35.48,2,    0.00,2,    2.47,2,-999.000,9,-999.000,9,-999.000,9,  2320.0,2,  2414.9,2,-999.000,9,-999.0000,9, -999.00,9, -999.00,9,  -999.0,9,  -999.0,-999.000,9,-999.000,   37.20,2, 5196.40,-999.0000,9,-999.0000,9,-999.0000,9,-999.0000,9,-999.0000,9,-999.0000,-999.000,-999.0000,9, -999.00
318M20040615,        P02,      98,          1,          1,          1,2,20040719,       2202,    30.0075,  -171.6742,       5336,  5444.3,   1.5326,  34.6928,2,  34.6938,3, 163.8000,2,   166.2,2,  142.54,2,   35.16,2,    0.00,2,    2.44,2,   0.003,2,   0.004,2,   0.001,2,  2315.1,6,  2410.5,6,-999.000,9,-999.0000,9, -999.00,9, -999.00,9,  -999.0,9,  -999.0,-999.000,9,-999.000,   37.30,2, 5444.30,-999.0000,9,-999.0000,9,-999.0000,9,-999.0000,9,-999.0000,9,-999.0000,-999.000,-999.0000,9, -999.00