BOTTLE,20131027SIOCCHRJL
EXPOCODE,SECT_ID,STNNBR,CASTNO,SAMPNO,BTLNBR,BTLNBR_FLAG_W,DATE,TIME,LATITUDE,LONGITUDE,DEPTH,CTDPRS,CTDTMP,CTDSAL,CTDSAL_FLAG_W,SALNTY,SALNTY_FLAG_W,CTDOXY,CTDOXY_FLAG_W,OXYGEN,OXYGEN_FLAG_W,SILCAT,SILCAT_FLAG_W,NITRAT,NITRAT_FLAG_W,NITRIT,NITRIT_FLAG_W,PHSPHT,PHSPHT_FLAG_W,CFC-11,CFC-11_FLAG_W,CFC-12,CFC-12_FLAG_W,CFC113,CFC113_FLAG_W,TCARBN,TCARBN_FLAG_W,ALKALI,ALKALI_FLAG_W,TRITUM,TRITUM_FLAG_W,HELIUM,HELIUM_FLAG_W,DELHE3,DELHE3_FLAG_W,DELC13,DELC13_FLAG_W,DELC14,DELC14_FLAG_W,C14ERR,NEON,NEON_FLAG_W,NEONER,DOC,DOC_FLAG_W,CTDRAW,CDOM380,CDOM380_FLAG_W,CDOM325,CDOM325_FLAG_W,CDOMSL,CDOMSL_FLAG_W,CDOM340,CDOM340_FLAG_W,CDOMSN,CDOMSN_FLAG_W,HELIER,TRITER,CDOM412,CDOM412_FLAG_W,DELHER
,,,,,,,,,,,METERS,DBAR,ITS-90,PSS-78,,PSS-78,,UMOL/KG,,UMOL/KG,,UMOL/KG,,UMOL/KG,,UMOL/KG,,UMOL/KG,,PMOL/KG,,PMOL/KG,,PMOL/KG,,UMOL/KG,,UMOL/KG,,TU,,NMOL/KG,,PERCNT,,/MILLE,,/MILLE,,/MILLE,NMOL/KG,,NMOL/KG,UMOL/KG,,DBAR,1/M,,1/M,,1/NM,,1/M,,1/NM,,NMOL/KG,TU,1/M,,PERCNT
318M20040615,        P02,      62,          2,         36,         36,2,20040708,       1125,    29.9992,   165.4708,       5800,     7.4,  25.8372,  35.1674,2,  35.1650,2, 209.6000,2,   208.8,2,    1.29,2,    0.09,2,    0.00,2,    0.02,2,   1.794,2,   1.132,2,   0.135,2,  2000.2,6,  2309.8,6,-999.000,9,-999.0000,9, -999.00,9, -999.00,9,  -999.0,9,  -999.0,-999.000,9,-999.000,   69.30,2,    7.40,-999.0000,9,-999.0000,9,-999.0000,9,-999.0000,9,-999.0000,9,-999.0000,-999.000,-999.0000,9, -999.00
318M20040615,        P02,      62,          2,         35,         35,2,20040708,       1125,    29.9992,   165.4708,       5800,    36.1,  21.2057,  34.9427,2,  34.9292,2, 235.7000,2,   234.7,2,    1.28,2,    0.09,2,    0.00,2,    0.03,2,   2.227,2,   1.348,2,   0.158,2,  1992.5,2,  2294.4,2,-999.000,9,-999.0000,9, -999.00,9, -999.00,9,  -999.0,9,  -999.0,-999.000,9,-999.000,   66.80,2,   36.10,-999.0000,9,-999.0000,9,-999.0000,9,-999.0000,9,-999.0000,9,-999.0000,-999.000,-999.0000,9, -999.00
318M20040615,        P02,      62,          2,         34,         34,2,20040708,       1125,    29.9992,   165.4708,       5800,    76.2,  18.5343,  34.8350,2,  34.8330,2, 236.0000,2,   236.9,2,    2.36,2,    0.09,2,    0.00,2,    0.08,2,   2.337,2,   1.401,2,   0.145,2,  2002.6,2,  2289.8,2,-999.000,9,-999.0000,9, -999.00,9, -999.00,9,  -999.0,9,  -999.0,-999.000,9,-999.000,   63.90,2,   76.20,-999.0000,9,-999.0000,9,-999.0000,9,-999.0000,9,-999.0000,9,-999.0000,-999.000,-999.0000,9, -999.00
318M20040615,        P02,      62,          2,         33,         33,2,20040708,       1125,    29.9992,   165.4708,       5800,   126.2,  17.1910,  34.7774,2,  34.7777,2, 216.0000,2,   216.2,2,    3.42,2,    3.83,2,    0.04,2,    0.28,2,   2.472,2,   1.494,2,   0.117,2,  2025.9,2,  2284.8,2,-999.000,9,-999.0000,9, -999.00,9, -999.00,9,  -999.0,9,  -999.0,-999.000,9,-999.000,   59.10,2,  126.20,-999.0000,9,-999.0000,9,-999.0000,9,-999.0000,9,-999.0000,9,-999.0000,-999.000,-999.0000,9, -999.00
318M20040615,        P02,      62,          2,         32,         32,2,20040708,       1125,    29.9992,   165.4708,       5800,   175.9,  16.7503,  34.7663,2,  34.7662,2, 215.7000,2,   220.4,2,    3.59,2,    4.27,2,    0.01,2,    0.30,2,   2.496,2,   1.510,2,   0.125,2,  2026.1,2,  2284.2,2,-999.000,9,-999.0000,9, -999.00,9, -999.00,9,  -999.0,9,  -999.0,-999.000,9,-999.000,   55.80,2,  175.90,-999.0000,9,-999.0000,9,-999.0000,9,-999.0000,9,-999.0000,9,-999.0000,-999.000,-999.0000,9, -999.00
318M20040615,        P02,      62,          2,         31,         31,2,20040708,       1125,    29.9992,   165.4708,       5800,   225.3,  16.4179,  34.7373,2,  34.7359,2, 214.9000,2,   218.5,2,    4.30,2,    4.98,2,    0.01,2,    0.35,2,   2.534,2,   1.518,2,   0.096,2,  2030.3,2,  2281.9,2,-999.000,9,-999.0000,9, -999.00,9, -999.00,9,  -999.0,9,  -999.0,-999.000,9,-999.000,   53.80,2,  225.30,-999.0000,9,-999.0000,9,-999.0000,9,-999.0000,9,-999.0000,9,-999.0000,-999.000,-999.0000,9, -999.00
318M20040615,        P02,      62,          2,         30,         30,2,20040708,       1125,    29.9992,   165.4708,       5800,   275.1,  15.9779,  34.6975,2,  34.6972,2, 220.2000,2,   220.1,2,    5.01,2,    5.49,2,    0.01,2,    0.39,2,   2.579,2,   1.541,2,   0.112,2,  2034.5,2,  2280.5,2,-999.000,9,-999.0000,9, -999.00,9, -999.00,9,  -999.0,9,  -999.0,-999.000,9,-999.000,   51.70,2,  275.10,-999.0000,9,-999.0000,9,-999.0000,9,-999.0000,9,-999.0000,9,-999.0000,-999.000,-999.0000,9, -999.00
318M20040615,        P02,      62,          2,         29,         29,2,20040708,       1125,    29.9992,   165.4708,       5800,   324.9,  15.3180,  34.6198,2,  34.6202,2, 216.0000,2,   213.4,2,    6.62,2,    6.92,2,    0.01,2,    0.49,2,   2.640,2,   1.570,2,   0.081,2,  2045.3,2,  2282.3,3,-999.000,9,-999.0000,9, -999.00,9, -999.00,9,  -999.0,9,  -999.0,-999.000,9,-999.000,   50.90,2,  324.90,-999.0000,9,-999.0000,9,-999.0000,9,-999.0000,9,-999.0000,9,-999.0000,-999.000,-999.0000,9, -999.00
318M20040615,        P02,      62,          2,         28,         28,2,20040708,       1125,    29.9992,   165.4708,       5800,   374.9,  14.4676,  34.5540,2,  34.5565,2, 208.9000,2,   209.9,2,    9.13,2,    8.70,2,    0.00,2,    0.61,2,   2.659,2,   1.560,2,   0.083,2,  2057.8,2,  2274.3,2,-999.000,9,-999.0000,9, -999.00,9, -999.00,9,  -999.0,9,  -999.0,-999.000,9,-999.000,   50.10,2,  374.90,-999.0000,9,-999.0000,9,-999.0000,9,-999.0000,9,-999.0000,9,-999.0000,-999.000,-999.0000,9, -999.00
318M20040615,        P02,      62,          2,         27,         27,2,20040708,       1125,    29.9992,   165.4708,       5800,   424.6,  13.4948,  34.4832,2,  34.4843,2, 206.5000,2,   206.3,2,   11.99,2,   10.58,2,    0.00,2,    0.74,2,   2.705,2,   1.577,2,   0.087,2,  2071.4,2,  2272.5,2,-999.000,9,-999.0000,9, -999.00,9, -999.00,9,  -999.0,9,  -999.0,-999.000,9,-999.000,   49.00,2,  424.60,-999.0000,9,-999.0000,9,-999.0000,9,-999.0000,9,-999.0000,9,-999.0000,-999.000,-999.0000,9, -999.00
318M20040615,        P02,      62,          2,         26,         26,2,20040708,       1125,    29.9992,   165.4708,       5800,   474.1,  12.5551,  34.4119,2,  34.4124,2, 203.1000,2,   202.6,2,   14.87,2,   12.31,2,    0.00,2,    0.87,2,   2.776,2,   1.581,2,   0.077,2,  2086.0,2,  2271.7,2,-999.000,9,-999.0000,9, -999.00,9, -999.00,9,  -999.0,9,  -999.0,-999.000,9,-999.000,   48.40,2,  474.10,-999.0000,9,-999.0000,9,-999.0000,9,-999.0000,9,-999.0000,9,-999.0000,-999.000,-999.0000,9, -999.00
318M20040615,        P02,      62,          2,         25,         25,2,20040708,       1125,    29.9992,   165.4708,       5800,   544.0,  10.7050,  34.2761,2,  34.2784,2, 199.7000,2,   201.0,2,   21.90,2,   15.55,2,    0.00,2,    1.11,2,   2.825,2,   1.592,2,   0.111,2,  2109.8,2,  2272.5,2,-999.000,9,-999.0000,9, -999.00,9, -999.00,9,  -999.0,9,  -999.0,-999.000,9,-999.000, -999.00,9,  544.00,-999.0000,9,-999.0000,9,-999.0000,9,-999.0000,9,-999.0000,9,-999.0000,-999.000,-999.0000,9, -999.00
318M20040615,        P02,      62,          2,         24,         24,2,20040708,       1125,    29.9992,   165.4708,       5800,   644.2,   7.8035,  34.0599,2,  34.0618,2, 175.0000,2,   176.9,2,   39.29,2,   22.71,2,    0.00,2,    1.66,2,   2.694,2,   1.453,2,   0.126,2,  2163.9,2,  2278.3,2,-999.000,9,-999.0000,9, -999.00,9, -999.00,9,  -999.0,9,  -999.0,-999.000,9,-999.000,   46.60,2,  644.20,-999.0000,9,-999.0000,9,-999.0000,9,-999.0000,9,-999.0000,9,-999.0000,-999.000,-999.0000,9, -999.00
318M20040615,        P02,      62,          2,         23,         23,2,20040708,       1125,    29.9992,   165.4708,       5800,   744.6,   5.5928,  33.9977,2,  33.9983,2, 134.9000,2,   132.6,2,   64.31,2,   30.63,2,    0.00,2,    2.26,2,   2.181,6,   1.156,6,   0.112,6,  2228.7,2,  2293.3,2,-999.000,9,-999.0000,9, -999.00,9, -999.00,9,  -999.0,9,  -999.0,-999.000,9,-999.000,   45.00,2,  744.60,-999.0000,9,-999.0000,9,-999.0000,9,-999.0000,9,-999.0000,9,-999.0000,-999.000,-999.0000,9, -999.00
318M20040615,        P02,      62,          2,         22,         22,2,20040708,       1125,    29.9992,   165.4708,       5800,   845.0,   4.7870,  34.0885,2,  34.0877,2,  87.1000,2,    86.5,2,   85.95,2,   36.02,2,    0.00,2,    2.64,2,   1.396,2,   0.717,2,   0.073,2,  2276.6,2,  2313.2,2,-999.000,9,-999.0000,9, -999.00,9, -999.00,9,  -999.0,9,  -999.0,-999.000,9,-999.000,   43.60,2,  845.00,-999.0000,9,-999.0000,9,-999.0000,9,-999.0000,9,-999.0000,9,-999.0000,-999.000,-999.0000,9, -999.00
318M20040615,        P02,      62,          2,         21,         21,2,20040708,       1125,    29.9992,   165.4708,       5800,   945.1,   4.2457,  34.1960,2,  34.1970,2,  55.3000,2,    55.8,2,  103.58,2,   39.42,2,    0.00,2,    2.87,2,   0.613,2,   0.311,2,   0.025,2,  2314.5,2,  2334.2,2,-999.000,9,-999.0000,9, -999.00,9, -999.00,9,  -999.0,9,  -999.0,-999.000,9,-999.000,   41.90,2,  945.10,-999.0000,9,-999.0000,9,-999.0000,9,-999.0000,9,-999.0000,9,-999.0000,-999.000,-999.0000,9, -999.00
318M20040615,        P02,      62,          2,         20,         20,2,20040708,       1125,    29.9992,   165.4708,       5800,  1035.2,   3.8125,  34.2710,2,  34.2712,2,  45.3000,2,    45.8,2,  116.47,2,   40.85,2,    0.00,2,    2.97,2,   0.391,2,   0.196,2,   0.017,2,  2333.5,2,  2348.4,2,-999.000,9,-999.0000,9, -999.00,9, -999.00,9,  -999.0,9,  -999.0,-999.000,9,-999.000,   40.50,2, 1035.20,-999.0000,9,-999.0000,9,-999.0000,9,-999.0000,9,-999.0000,9,-999.0000,-999.000,-999.0000,9, -999.00
318M20040615,        P02,      62,          2,         19,         19,2,20040708,       1125,    29.9992,   165.4708,       5800,  1135.5,   3.4665,  34.3274,2,  34.3281,2,  39.0000,2,    39.1,2,  126.42,2,   42.01,2,    0.00,2,    3.03,2,   0.227,2,   0.121,2,   0.008,2,  2349.3,2,  2359.8,2,-999.000,9,-999.0000,9, -999.00,9, -999.00,9,  -999.0,9,  -999.0,-999.000,9,-999.000,   39.50,2, 1135.50,-999.0000,9,-999.0000,9,-999.0000,9,-999.0000,9,-999.0000,9,-999.0000,-999.000,-999.0000,9, -999.00
318M20040615,        P02,      62,          2,         18,         18,2,20040708,       1125,    29.9992,   165.4708,       5800,  1235.6,   3.1758,  34.3792,2,  34.3785,2,  33.4000,2,    33.8,2,  135.25,2,   43.08,2,    0.00,2,    3.09,2,   0.116,2,   0.057,2,   0.006,2,  2361.8,2,  2371.1,2,-999.000,9,-999.0000,9, -999.00,9, -999.00,9,  -999.0,9,  -999.0,-999.000,9,-999.000,   39.40,2, 1235.60,-999.0000,9,-999.0000,9,-999.0000,9,-999.0000,9,-999.0000,9,-999.0000,-999.000,-999.0000,9, -999.00
318M20040615,        P02,      62,          2,         17,         17,2,20040708,       1125,    29.9992,   165.4708,       5800,  1336.2,   2.9472,  34.4253,2,  34.4255,2,  32.9000,2,    32.7,2,  142.25,2,   43.41,2,    0.00,2,    3.10,2,   0.054,2,   0.026,2,   0.000,2,  2370.9,6,  2380.7,2,-999.000,9,-999.0000,9, -999.00,9, -999.00,9,  -999.0,9,  -999.0,-999.000,9,-999.000,   39.30,2, 1336.20,-999.0000,9,-999.0000,9,-999.0000,9,-999.0000,9,-999.0000,9,-999.0000,-999.000,-999.0000,9, -999.00
318M20040615,        P02,      62,          2,         16,         16,2,20040708,       1125,    29.9992,   165.4708,       5800,  1436.8,   2.7511,  34.4639,2,  34.4643,2,  35.5000,2,    35.1,2,  147.97,2,   43.30,2,    0.00,2,    3.10,2,   0.029,2,   0.015,2,   0.003,2,  2375.0,2,  2389.3,2,-999.000,9,-999.0000,9, -999.00,9, -999.00,9,  -999.0,9,  -999.0,-999.000,9,-999.000,   38.90,2, 1436.80,-999.0000,9,-999.0000,9,-999.0000,9,-999.0000,9,-999.0000,9,-999.0000,-999.000,-999.0000,9, -999.00
318M20040615,        P02,      62,          2,         15,         15,2,20040708,       1125,    29.9992,   165.4708,       5800,  1537.1,   2.6010,  34.4981,2,  34.4987,2,  40.4000,2,    40.3,2,  151.09,2,   42.90,2,    0.00,2,    3.07,2,   0.015,2,   0.010,2,   0.003,2,  2378.1,2,  2393.4,2,-999.000,9,-999.0000,9, -999.00,9, -999.00,9,  -999.0,9,  -999.0,-999.000,9,-999.000,   38.50,2, 1537.10,-999.0000,9,-999.0000,9,-999.0000,9,-999.0000,9,-999.0000,9,-999.0000,-999.000,-999.0000,9, -999.00
318M20040615,        P02,      62,          2,         14,         14,2,20040708,       1125,    29.9992,   165.4708,       5800,  1737.8,   2.2596,  34.5470,2,  34.5478,2,  51.0000,2,    52.2,2,  159.38,2,   42.24,2,    0.00,2,    3.02,2,   0.010,2,   0.006,2,   0.000,2,  2379.0,2,  2404.1,2,-999.000,9,-999.0000,9, -999.00,9, -999.00,9,  -999.0,9,  -999.0,-999.000,9,-999.000,   38.40,2, 1737.80,-999.0000,9,-999.0000,9,-999.0000,9,-999.0000,9,-999.0000,9,-999.0000,-999.000,-999.0000,9, -999.00
318M20040615,        P02,      62,          2,         13,         13,2,20040708,       1125,    29.9992,   165.4708,       5800,  1939.5,   2.0467,  34.5825,2,  34.5849,2,  66.2000,2,    67.7,2,  162.16,2,   41.19,2,    0.00,2,    2.94,2,   0.002,2,   0.004,2,   0.003,2,  2375.7,2,  2409.5,2,-999.000,9,-999.0000,9, -999.00,9, -999.00,9,  -999.0,9,  -999.0,-999.000,9,-999.000,   38.30,2, 1939.50,-999.0000,9,-999.0000,9,-999.0000,9,-999.0000,9,-999.0000,9,-999.0000,-999.000,-999.0000,9, -999.00
318M20040615,        P02,      62,          2,         12,         12,2,20040708,       1125,    29.9992,   165.4708,       5800,  2095.4,   1.9103,  34.6045,2,  34.6048,2,  77.5000,2,    79.4,2,  162.59,2,   40.43,2,    0.00,2,    2.88,2,   0.006,2,   0.002,2,   0.000,2,  2367.7,2,  2413.7,2,-999.000,9,-999.0000,9, -999.00,9, -999.00,9,  -999.0,9,  -999.0,-999.000,9,-999.000,   37.50,2, 2095.40,-999.0000,9,-999.0000,9,-999.0000,9,-999.0000,9,-999.0000,9,-999.0000,-999.000,-999.0000,9, -999.00
318M20040615,        P02,      62,          2,         11,         11,2,20040708,       1125,    29.9992,   165.4708,       5800,  2297.5,   1.7873,  34.6248,2,  34.6248,2,  91.6000,2,    94.0,2,  161.82,2,   39.37,2,    0.00,2,    2.82,2,   0.002,2,   0.000,2,   0.002,2,  2361.6,2,  2415.2,2,-999.000,9,-999.0000,9, -999.00,9, -999.00,9,  -999.0,9,  -999.0,-999.000,9,-999.000,   38.10,2, 2297.50,-999.0000,9,-999.0000,9,-999.0000,9,-999.0000,9,-999.0000,9,-999.0000,-999.000,-999.0000,9, -999.00
318M20040615,        P02,      62,          2,         10,         10,2,20040708,       1125,    29.9992,   165.4708,       5800,  2599.4,   1.6540,  34.6455,2,  34.6462,2, 109.1000,2,   110.6,2,  160.18,2,   38.34,2,    0.00,2,    2.74,2,   0.002,2,   0.002,2,   0.002,2,  2352.2,2,  2416.6,2,-999.000,9,-999.0000,9, -999.00,9, -999.00,9,  -999.0,9,  -999.0,-999.000,9,-999.000,   37.50,2, 2599.40,-999.0000,9,-999.0000,9,-999.0000,9,-999.0000,9,-999.0000,9,-999.0000,-999.000,-999.0000,9, -999.00
318M20040615,        P02,      62,          2,          9,          9,2,20040708,       1125,    29.9992,   165.4708,       5800,  2846.5,   1.5953,  34.6568,2,  34.6569,2, 120.7000,2,   121.9,2,  156.89,2,   37.79,2,    0.00,2,    2.68,2,   0.002,2,   0.000,2,   0.000,2,  2345.0,2,  2416.4,2,-999.000,9,-999.0000,9, -999.00,9, -999.00,9,  -999.0,9,  -999.0,-999.000,9,-999.000,   37.90,2, 2846.50,-999.0000,9,-999.0000,9,-999.0000,9,-999.0000,9,-999.0000,9,-999.0000,-999.000,-999.0000,9, -999.00
318M20040615,        P02,      62,          2,          8,          8,2,20040708,       1125,    29.9992,   165.4708,       5800,  3098.7,   1.5482,  34.6653,2,  34.6657,2, 130.3000,2,   130.5,2,  155.07,2,   37.58,2,    0.00,2,    2.64,2,   0.004,2,   0.001,2,   0.002,2,  2341.3,2,  2416.6,2,-999.000,9,-999.0000,9, -999.00,9, -999.00,9,  -999.0,9,  -999.0,-999.000,9,-999.000,   37.60,2, 3098.70,-999.0000,9,-999.0000,9,-999.0000,9,-999.0000,9,-999.0000,9,-999.0000,-999.000,-999.0000,9, -999.00
318M20040615,        P02,      62,          2,          7,          7,2,20040708,       1125,    29.9992,   165.4708,       5800,  3497.2,   1.5044,  34.6742,2,  34.6748,2, 140.0000,2,   140.4,2,  152.68,2,   36.99,2,    0.00,2,    2.58,2,   0.002,2,   0.000,2,   0.000,2,  2334.6,2,  2417.2,2,-999.000,9,-999.0000,9, -999.00,9, -999.00,9,  -999.0,9,  -999.0,-999.000,9,-999.000,   37.70,2, 3497.20,-999.0000,9,-999.0000,9,-999.0000,9,-999.0000,9,-999.0000,9,-999.0000,-999.000,-999.0000,9, -999.00
318M20040615,        P02,      62,          2,          6,          6,2,20040708,       1125,    29.9992,   165.4708,       5800,  3898.2,   1.4781,  34.6810,2,  34.6817,2, 147.9000,2,   148.1,2,  150.66,2,   36.33,2,    0.00,2,    2.54,2,   0.005,2,   0.002,2,   0.004,2,  2328.2,2,  2415.8,2,-999.000,9,-999.0000,9, -999.00,9, -999.00,9,  -999.0,9,  -999.0,-999.000,9,-999.000,   38.00,2, 3898.20,-999.0000,9,-999.0000,9,-999.0000,9,-999.0000,9,-999.0000,9,-999.0000,-999.000,-999.0000,9, -999.00
318M20040615,        P02,      62,          2,          5,          5,2,20040708,       1125,    29.9992,   165.4708,       5800,  4297.9,   1.4729,  34.6856,2,  34.6931,2, 154.0000,3,   154.1,2,  149.03,2,   35.80,2,    0.00,2,    2.51,2,   0.001,2,  -0.001,2,   0.003,2,  2324.4,2,  2413.8,2,-999.000,9,-999.0000,9, -999.00,9, -999.00,9,  -999.0,9,  -999.0,-999.000,9,-999.000,   38.10,2, 4297.90,-999.0000,9,-999.0000,9,-999.0000,9,-999.0000,9,-999.0000,9,-999.0000,-999.000,-999.0000,9, -999.00
318M20040615,        P02,      62,          2,          4,          4,2,20040708,       1125,    29.9992,   165.4708,       5800,  4698.8,   1.4792,  34.6894,2,  34.6895,2, 160.0000,2,   160.0,2,  146.26,2,   35.25,2,    0.00,2,    2.47,2,   0.003,2,   0.000,2,   0.000,2,  2318.8,2,  2412.6,2,-999.000,9,-999.0000,9, -999.00,9, -999.00,9,  -999.0,9,  -999.0,-999.000,9,-999.000,   37.90,2, 4698.80,-999.0000,9,-999.0000,9,-999.0000,9,-999.0000,9,-999.0000,9,-999.0000,-999.000,-999.0000,9, -999.00
318M20040615,        P02,      62,          2,          3,          3,2,20040708,       1125,    29.9992,   165.4708,       5800,  5096.7,   1.4881,  34.6929,2,  34.6917,2, 166.8000,2,   167.2,2,  140.55,2,   34.66,2,    0.00,2,    2.43,2,   0.003,2,  -0.001,2,   0.000,2,  2311.0,2,  2407.5,2,-999.000,9,-999.0000,9, -999.00,9, -999.00,9,  -999.0,9,  -999.0,-999.000,9,-999.000,   37.60,2, 5096.70,-999.0000,9,-999.0000,9,-999.0000,9,-999.0000,9,-999.0000,9,-999.0000,-999.000,-999.0000,9, -999.00
318M20040615,        P02,      62,          2,          2,          2,2,20040708,       1125,    29.9992,   165.4708,       5800,  5493.6,   1.5095,  34.6952,2,  34.6955,2, 171.3000,2,   171.2,2,  137.26,2,   34.35,2,    0.00,2,    2.41,2,   0.003,2,   0.001,2,   0.000,2,  2305.5,2,  2404.7,2,-999.000,9,-999.0000,9, -999.00,9, -999.00,9,  -999.0,9,  -999.0,-999.000,9,-999.000,   37.60,2, 5493.60,-999.0000,9,-999.0000,9,-999.0000,9,-999.0000,9,-999.0000,9,-999.0000,-999.000,-999.0000,9, -999.00
318M20040615,        P02,      62,          2,          1,          1,2,20040708,       1125,    29.9992,   165.4708,       5800,  5938.6,   1.5494,  34.6965,2,  34.6980,2, 174.1000,3,   174.7,2,  135.46,2,   34.14,2,    0.00,2,    2.40,2,   0.002,2,  -0.001,2,   0.003,2,  2302.3,6,  2402.7,6,-999.000,9,-999.0000,9, -999.00,9, -999.00,9,  -999.0,9,  -999.0,-999.000,9,-999.000,   37.70,2, 5938.60,-999.0000,9,-999.0000,9,-999.0000,9,-999.0000,9,-999.0000,9,-999.0000,-999.000,-999.0000,9, -999.00