BOTTLE,20131027SIOCCHRJL
EXPOCODE,SECT_ID,STNNBR,CASTNO,SAMPNO,BTLNBR,BTLNBR_FLAG_W,DATE,TIME,LATITUDE,LONGITUDE,DEPTH,CTDPRS,CTDTMP,CTDSAL,CTDSAL_FLAG_W,SALNTY,SALNTY_FLAG_W,CTDOXY,CTDOXY_FLAG_W,OXYGEN,OXYGEN_FLAG_W,SILCAT,SILCAT_FLAG_W,NITRAT,NITRAT_FLAG_W,NITRIT,NITRIT_FLAG_W,PHSPHT,PHSPHT_FLAG_W,CFC-11,CFC-11_FLAG_W,CFC-12,CFC-12_FLAG_W,CFC113,CFC113_FLAG_W,TCARBN,TCARBN_FLAG_W,ALKALI,ALKALI_FLAG_W,TRITUM,TRITUM_FLAG_W,HELIUM,HELIUM_FLAG_W,DELHE3,DELHE3_FLAG_W,DELC13,DELC13_FLAG_W,DELC14,DELC14_FLAG_W,C14ERR,NEON,NEON_FLAG_W,NEONER,DOC,DOC_FLAG_W,CTDRAW,CDOM380,CDOM380_FLAG_W,CDOM325,CDOM325_FLAG_W,CDOMSL,CDOMSL_FLAG_W,CDOM340,CDOM340_FLAG_W,CDOMSN,CDOMSN_FLAG_W,HELIER,TRITER,CDOM412,CDOM412_FLAG_W,DELHER
,,,,,,,,,,,METERS,DBAR,ITS-90,PSS-78,,PSS-78,,UMOL/KG,,UMOL/KG,,UMOL/KG,,UMOL/KG,,UMOL/KG,,UMOL/KG,,PMOL/KG,,PMOL/KG,,PMOL/KG,,UMOL/KG,,UMOL/KG,,TU,,NMOL/KG,,PERCNT,,/MILLE,,/MILLE,,/MILLE,NMOL/KG,,NMOL/KG,UMOL/KG,,DBAR,1/M,,1/M,,1/NM,,1/M,,1/NM,,NMOL/KG,TU,1/M,,PERCNT
318M20040615,        P02,     128,          1,         36,         36,2,20040810,       0936,    29.9958,   -153.402,       5277,     5.6,  25.5034,  35.4707,2,  35.4638,2, 209.7000,2,   209.7,2,    1.13,2,    0.06,2,    0.00,2,    0.03,2,   1.808,2,   1.133,2,   0.128,2,  2019.2,2,  2334.4,6,-999.000,9,-999.0000,9, -999.00,9, -999.00,9,  -999.0,9,  -999.0,-999.000,9,-999.000, -999.00,9,    5.60,-999.0000,9,-999.0000,9,-999.0000,9,-999.0000,9,-999.0000,9,-999.0000,-999.000,-999.0000,9, -999.00
318M20040615,        P02,     128,          1,         35,         35,2,20040810,       0936,    29.9958,   -153.402,       5277,    35.8,  24.9188,  35.4455,2,  35.4375,2, 212.2000,2,   212.0,2,    1.11,2,    0.00,2,    0.00,2,    0.02,2,   1.850,6,   1.152,6,   0.122,6,  -999.0,9,  -999.0,9,-999.000,9,-999.0000,9, -999.00,9, -999.00,9,  -999.0,9,  -999.0,-999.000,9,-999.000, -999.00,9,   35.80,-999.0000,9,-999.0000,9,-999.0000,9,-999.0000,9,-999.0000,9,-999.0000,-999.000,-999.0000,9, -999.00
318M20040615,        P02,     128,          1,         34,         34,2,20040810,       0936,    29.9958,   -153.402,       5277,    70.4,  19.5154,  34.9533,2,  34.9520,2, 240.3000,2,   239.8,2,    1.88,2,    0.00,2,    0.00,2,    0.04,2,-999.000,9,-999.000,9,-999.000,9,  2013.0,2,  2300.9,2,-999.000,9,-999.0000,9, -999.00,9, -999.00,9,  -999.0,9,  -999.0,-999.000,9,-999.000, -999.00,9,   70.40,-999.0000,9,-999.0000,9,-999.0000,9,-999.0000,9,-999.0000,9,-999.0000,-999.000,-999.0000,9, -999.00
318M20040615,        P02,     128,          1,         33,         33,2,20040810,       0936,    29.9958,   -153.402,       5277,   120.5,  17.0953,  34.6938,2,  34.6940,2, 232.4000,2,   232.1,2,    2.64,2,    0.14,2,    0.02,2,    0.12,2,   2.617,2,   1.534,2,   0.156,2,  -999.0,9,  -999.0,9,-999.000,9,-999.0000,9, -999.00,9, -999.00,9,  -999.0,9,  -999.0,-999.000,9,-999.000, -999.00,9,  120.50,-999.0000,9,-999.0000,9,-999.0000,9,-999.0000,9,-999.0000,9,-999.0000,-999.000,-999.0000,9, -999.00
318M20040615,        P02,     128,          1,         32,         32,2,20040810,       0936,    29.9958,   -153.402,       5277,   170.0,  15.0360,  34.4916,2,  34.4924,2, 210.7000,2,   209.9,2,    5.17,2,    5.71,2,    0.01,2,    0.46,2,   2.863,2,   1.622,2,   0.069,2,  2052.5,2,  2272.2,2,-999.000,9,-999.0000,9, -999.00,9, -999.00,9,  -999.0,9,  -999.0,-999.000,9,-999.000, -999.00,9,  170.00,-999.0000,9,-999.0000,9,-999.0000,9,-999.0000,9,-999.0000,9,-999.0000,-999.000,-999.0000,9, -999.00
318M20040615,        P02,     128,          1,         31,         31,2,20040810,       0936,    29.9958,   -153.402,       5277,   219.9,  13.1286,  34.2833,2,  34.2836,2, 210.8000,2,   210.7,2,    7.72,2,    8.60,2,    0.00,2,    0.66,2,   3.122,2,   1.723,2,   0.070,2,  -999.0,9,  -999.0,9,-999.000,9,-999.0000,9, -999.00,9, -999.00,9,  -999.0,9,  -999.0,-999.000,9,-999.000, -999.00,9,  219.90,-999.0000,9,-999.0000,9,-999.0000,9,-999.0000,9,-999.0000,9,-999.0000,-999.000,-999.0000,9, -999.00
318M20040615,        P02,     128,          1,         30,         30,2,20040810,       0936,    29.9958,   -153.402,       5277,   269.5,  11.8093,  34.2218,2,  34.2232,2, 211.3000,2,   212.7,2,   11.45,2,   11.59,2,    0.00,2,    0.84,2,-999.000,9,-999.000,9,-999.000,9,  2082.8,2,  2260.9,2,-999.000,9,-999.0000,9, -999.00,9, -999.00,9,  -999.0,9,  -999.0,-999.000,9,-999.000, -999.00,9,  269.50,-999.0000,9,-999.0000,9,-999.0000,9,-999.0000,9,-999.0000,9,-999.0000,-999.000,-999.0000,9, -999.00
318M20040615,        P02,     128,          1,         29,         29,2,20040810,       0936,    29.9958,   -153.402,       5277,   324.7,  10.9625,  34.1972,2,  34.1985,2, 212.3000,2,   214.1,2,   14.38,2,   13.37,2,    0.00,2,    0.96,2,   3.318,2,   1.786,2,   0.079,2,  -999.0,9,  -999.0,9,-999.000,9,-999.0000,9, -999.00,9, -999.00,9,  -999.0,9,  -999.0,-999.000,9,-999.000, -999.00,9,  324.70,-999.0000,9,-999.0000,9,-999.0000,9,-999.0000,9,-999.0000,9,-999.0000,-999.000,-999.0000,9, -999.00
318M20040615,        P02,     128,          1,         28,         28,2,20040810,       0936,    29.9958,   -153.402,       5277,   374.6,  10.1534,  34.1676,2,  34.1679,2, 206.4000,2,   206.6,2,   18.31,2,   15.77,2,    0.00,2,    1.12,2,   3.280,2,   1.715,2,   0.084,2,  2109.0,2,  2266.0,2,-999.000,9,-999.0000,9, -999.00,9, -999.00,9,  -999.0,9,  -999.0,-999.000,9,-999.000, -999.00,9,  374.60,-999.0000,9,-999.0000,9,-999.0000,9,-999.0000,9,-999.0000,9,-999.0000,-999.000,-999.0000,9, -999.00
318M20040615,        P02,     128,          1,         27,         27,2,20040810,       0936,    29.9958,   -153.402,       5277,   424.2,   9.2831,  34.1273,2,  34.1291,2, 195.0000,2,   193.8,2,   24.22,2,   18.74,2,    0.00,2,    1.32,2,   3.170,2,   1.640,2,   0.097,2,  -999.0,9,  -999.0,9,-999.000,9,-999.0000,9, -999.00,9, -999.00,9,  -999.0,9,  -999.0,-999.000,9,-999.000, -999.00,9,  424.20,-999.0000,9,-999.0000,9,-999.0000,9,-999.0000,9,-999.0000,9,-999.0000,-999.000,-999.0000,9, -999.00
318M20040615,        P02,     128,          1,         26,         26,2,20040810,       0936,    29.9958,   -153.402,       5277,   474.1,   8.2675,  34.0759,2,  34.0769,2, 174.9000,2,   171.5,2,   33.32,2,   22.86,2,    0.00,2,    1.61,2,-999.000,9,-999.000,9,-999.000,9,  2159.2,2,  2274.1,2,-999.000,9,-999.0000,9, -999.00,9, -999.00,9,  -999.0,9,  -999.0,-999.000,9,-999.000, -999.00,9,  474.10,-999.0000,9,-999.0000,9,-999.0000,9,-999.0000,9,-999.0000,9,-999.0000,-999.000,-999.0000,9, -999.00
318M20040615,        P02,     128,          1,         25,         25,2,20040810,       0936,    29.9958,   -153.402,       5277,   543.8,   7.0183,  34.0204,2,  34.0209,2, 141.7000,2,   141.8,2,   46.42,2,   28.07,2,    0.00,2,    2.00,2,   2.341,2,   1.168,2,   0.084,2,  -999.0,9,  -999.0,9,-999.000,9,-999.0000,9, -999.00,9, -999.00,9,  -999.0,9,  -999.0,-999.000,9,-999.000, -999.00,9,  543.80,-999.0000,9,-999.0000,9,-999.0000,9,-999.0000,9,-999.0000,9,-999.0000,-999.000,-999.0000,9, -999.00
318M20040615,        P02,     128,          1,         24,         24,2,20040810,       0936,    29.9958,   -153.402,       5277,   643.6,   5.3487,  34.0134,2,  34.0148,2,  96.2000,2,    93.7,2,   71.16,2,   35.48,2,    0.00,2,    2.54,2,   1.255,2,   0.626,2,   0.039,2,  2259.3,2,  2294.9,2,-999.000,9,-999.0000,9, -999.00,9, -999.00,9,  -999.0,9,  -999.0,-999.000,9,-999.000, -999.00,9,  643.60,-999.0000,9,-999.0000,9,-999.0000,9,-999.0000,9,-999.0000,9,-999.0000,-999.000,-999.0000,9, -999.00
318M20040615,        P02,     128,          1,         23,         23,2,20040810,       0936,    29.9958,   -153.402,       5277,   743.5,   4.4208,  34.1034,2,  34.1065,2,  48.8000,2,    43.8,2,   95.04,2,   41.30,2,    0.00,2,    2.95,2,   0.365,2,   0.188,2,   0.000,2,  -999.0,9,  -999.0,9,-999.000,9,-999.0000,9, -999.00,9, -999.00,9,  -999.0,9,  -999.0,-999.000,9,-999.000, -999.00,9,  743.50,-999.0000,9,-999.0000,9,-999.0000,9,-999.0000,9,-999.0000,9,-999.0000,-999.000,-999.0000,9, -999.00
318M20040615,        P02,     128,          1,         22,         22,2,20040810,       0936,    29.9958,   -153.402,       5277,   849.2,   3.9452,  34.2182,2,  34.2188,2,  18.6000,2,    17.1,2,  112.59,2,   44.05,2,    0.00,2,    3.15,2,-999.000,9,-999.000,9,-999.000,9,  2349.3,2,  2338.3,2,-999.000,9,-999.0000,9, -999.00,9, -999.00,9,  -999.0,9,  -999.0,-999.000,9,-999.000, -999.00,9,  849.20,-999.0000,9,-999.0000,9,-999.0000,9,-999.0000,9,-999.0000,9,-999.0000,-999.000,-999.0000,9, -999.00
318M20040615,        P02,     128,          1,         21,         21,2,20040810,       0936,    29.9958,   -153.402,       5277,   948.9,   3.6778,  34.3090,2,  34.3089,2,  11.3000,2,    10.2,2,  123.30,2,   44.86,2,    0.00,2,    3.21,2,   0.018,2,   0.008,2,   0.000,2,  -999.0,9,  -999.0,9,-999.000,9,-999.0000,9, -999.00,9, -999.00,9,  -999.0,9,  -999.0,-999.000,9,-999.000, -999.00,9,  948.90,-999.0000,9,-999.0000,9,-999.0000,9,-999.0000,9,-999.0000,9,-999.0000,-999.000,-999.0000,9, -999.00
318M20040615,        P02,     128,          1,         20,         20,2,20040810,       0936,    29.9958,   -153.402,       5277,  1049.5,   3.4322,  34.3810,2,  34.3815,2,  11.2000,2,    11.1,2,  132.01,2,   44.92,2,    0.00,2,    3.23,2,   0.009,2,   0.002,2,   0.000,2,  2374.2,6,  2370.5,2,-999.000,9,-999.0000,9, -999.00,9, -999.00,9,  -999.0,9,  -999.0,-999.000,9,-999.000, -999.00,9, 1049.50,-999.0000,9,-999.0000,9,-999.0000,9,-999.0000,9,-999.0000,9,-999.0000,-999.000,-999.0000,9, -999.00
318M20040615,        P02,     128,          1,         19,         19,2,20040810,       0936,    29.9958,   -153.402,       5277,  1155.1,   3.2934,  34.4542,2,  34.4552,2,  20.1000,2,    21.8,2,  135.23,2,   44.21,2,    0.00,2,    3.19,2,   0.009,2,   0.004,2,   0.000,2,  -999.0,9,  -999.0,9,-999.000,9,-999.0000,9, -999.00,9, -999.00,9,  -999.0,9,  -999.0,-999.000,9,-999.000, -999.00,9, 1155.10,-999.0000,9,-999.0000,9,-999.0000,9,-999.0000,9,-999.0000,9,-999.0000,-999.000,-999.0000,9, -999.00
318M20040615,        P02,     128,          1,         18,         18,2,20040810,       0936,    29.9958,   -153.402,       5277,  1257.9,   3.0985,  34.4931,2,  34.4939,2,  29.5000,2,    30.9,2,  139.28,2,   43.67,2,    0.00,2,    3.15,2,-999.000,9,-999.000,9,-999.000,9,  -999.0,9,  -999.0,9,-999.000,9,-999.0000,9, -999.00,9, -999.00,9,  -999.0,9,  -999.0,-999.000,9,-999.000, -999.00,9, 1257.90,-999.0000,9,-999.0000,9,-999.0000,9,-999.0000,9,-999.0000,9,-999.0000,-999.000,-999.0000,9, -999.00
318M20040615,        P02,     128,          1,         17,         17,2,20040810,       0936,    29.9958,   -153.402,       5277,  1361.4,   2.8931,  34.5220,2,  34.5216,2,  40.3000,2,    40.2,2,  143.14,2,   43.09,2,    0.00,2,    3.10,2,   0.008,2,   0.004,2,   0.000,2,  -999.0,9,  -999.0,9,-999.000,9,-999.0000,9, -999.00,9, -999.00,9,  -999.0,9,  -999.0,-999.000,9,-999.000, -999.00,9, 1361.40,-999.0000,9,-999.0000,9,-999.0000,9,-999.0000,9,-999.0000,9,-999.0000,-999.000,-999.0000,9, -999.00
318M20040615,        P02,     128,          1,         16,         16,2,20040810,       0936,    29.9958,   -153.402,       5277,  1445.9,   2.7582,  34.5387,2,  34.5399,2,  46.5000,2,    46.1,2,  145.98,2,   42.66,2,    0.00,2,    3.07,2,   0.008,2,   0.001,2,   0.000,2,  -999.0,9,  -999.0,9,-999.000,9,-999.0000,9, -999.00,9, -999.00,9,  -999.0,9,  -999.0,-999.000,9,-999.000, -999.00,9, 1445.90,-999.0000,9,-999.0000,9,-999.0000,9,-999.0000,9,-999.0000,9,-999.0000,-999.000,-999.0000,9, -999.00
318M20040615,        P02,     128,          1,         15,         15,2,20040810,       0936,    29.9958,   -153.402,       5277,  1549.1,   2.5825,  34.5576,2,  34.5587,2,  53.5000,2,    55.6,2,  149.44,2,   42.13,2,    0.00,2,    3.02,2,   0.006,2,   0.005,2,   0.000,2,  -999.0,9,  -999.0,9,-999.000,9,-999.0000,9, -999.00,9, -999.00,9,  -999.0,9,  -999.0,-999.000,9,-999.000, -999.00,9, 1549.10,-999.0000,9,-999.0000,9,-999.0000,9,-999.0000,9,-999.0000,9,-999.0000,-999.000,-999.0000,9, -999.00
318M20040615,        P02,     128,          1,         14,         14,2,20040810,       0936,    29.9958,   -153.402,       5277,  1655.3,   2.4199,  34.5740,2,  34.5764,2,  59.9000,2,    60.3,2,  153.70,2,   42.08,2,    0.00,2,    3.00,2,-999.000,9,-999.000,9,-999.000,9,  -999.0,9,  -999.0,9,-999.000,9,-999.0000,9, -999.00,9, -999.00,9,  -999.0,9,  -999.0,-999.000,9,-999.000, -999.00,9, 1655.30,-999.0000,9,-999.0000,9,-999.0000,9,-999.0000,9,-999.0000,9,-999.0000,-999.000,-999.0000,9, -999.00
318M20040615,        P02,     128,          1,         13,         13,2,20040810,       0936,    29.9958,   -153.402,       5277,  1761.2,   2.2704,  34.5877,2,  34.5884,2,  65.1000,2,    64.9,2,  158.18,2,   42.14,2,    0.00,2,    2.98,2,   0.005,2,   0.000,2,   0.000,2,  -999.0,9,  -999.0,9,-999.000,9,-999.0000,9, -999.00,9, -999.00,9,  -999.0,9,  -999.0,-999.000,9,-999.000, -999.00,9, 1761.20,-999.0000,9,-999.0000,9,-999.0000,9,-999.0000,9,-999.0000,9,-999.0000,-999.000,-999.0000,9, -999.00
318M20040615,        P02,     128,          1,         12,         12,2,20040810,       0936,    29.9958,   -153.402,       5277,  1962.6,   2.0657,  34.6088,2,  34.6098,2,  76.5000,2,    76.1,2,  163.27,2,   41.60,2,    0.00,2,    2.91,2,   0.004,2,   0.000,2,   0.000,2,  -999.0,9,  -999.0,9,-999.000,9,-999.0000,9, -999.00,9, -999.00,9,  -999.0,9,  -999.0,-999.000,9,-999.000, -999.00,9, 1962.60,-999.0000,9,-999.0000,9,-999.0000,9,-999.0000,9,-999.0000,9,-999.0000,-999.000,-999.0000,9, -999.00
318M20040615,        P02,     128,          1,         11,         11,2,20040810,       0936,    29.9958,   -153.402,       5277,  2124.1,   1.9214,  34.6239,2,  34.6247,2,  83.7000,2,    84.3,2,  166.32,2,   40.90,2,    0.00,2,    2.87,2,   0.006,2,   0.000,2,   0.000,2,  -999.0,9,  -999.0,9,-999.000,9,-999.0000,9, -999.00,9, -999.00,9,  -999.0,9,  -999.0,-999.000,9,-999.000, -999.00,9, 2124.10,-999.0000,9,-999.0000,9,-999.0000,9,-999.0000,9,-999.0000,9,-999.0000,-999.000,-999.0000,9, -999.00
318M20040615,        P02,     128,          1,         10,         10,2,20040810,       0936,    29.9958,   -153.402,       5277,  2381.2,   1.7561,  34.6412,2,  34.6416,2,  95.3000,2,    96.2,2,  169.17,2,   40.05,2,    0.00,2,    2.81,2,-999.000,9,-999.000,9,-999.000,9,  -999.0,9,  -999.0,9,-999.000,9,-999.0000,9, -999.00,9, -999.00,9,  -999.0,9,  -999.0,-999.000,9,-999.000, -999.00,9, 2381.20,-999.0000,9,-999.0000,9,-999.0000,9,-999.0000,9,-999.0000,9,-999.0000,-999.000,-999.0000,9, -999.00
318M20040615,        P02,     128,          1,          9,          9,2,20040810,       0936,    29.9958,   -153.402,       5277,  2633.5,   1.6417,  34.6540,2,  34.6547,2, 107.2000,2,   106.6,2,  170.13,2,   39.24,2,    0.00,2,    2.75,2,   0.006,2,   0.000,2,   0.000,2,  -999.0,9,  -999.0,9,-999.000,9,-999.0000,9, -999.00,9, -999.00,9,  -999.0,9,  -999.0,-999.000,9,-999.000, -999.00,9, 2633.50,-999.0000,9,-999.0000,9,-999.0000,9,-999.0000,9,-999.0000,9,-999.0000,-999.000,-999.0000,9, -999.00
318M20040615,        P02,     128,          1,          8,          8,2,20040810,       0936,    29.9958,   -153.402,       5277,  2891.4,   1.5735,  34.6638,2,  34.6646,2, 118.8000,2,   118.8,2,  167.28,2,   38.45,2,    0.00,2,    2.69,2,   0.007,2,  -0.001,2,   0.000,2,  -999.0,9,  -999.0,9,-999.000,9,-999.0000,9, -999.00,9, -999.00,9,  -999.0,9,  -999.0,-999.000,9,-999.000, -999.00,9, 2891.40,-999.0000,9,-999.0000,9,-999.0000,9,-999.0000,9,-999.0000,9,-999.0000,-999.000,-999.0000,9, -999.00
318M20040615,        P02,     128,          1,          7,          7,2,20040810,       0936,    29.9958,   -153.402,       5277,  3144.5,   1.5244,  34.6725,2,  34.6728,2, 127.9000,2,   128.4,2,  163.77,2,   37.71,2,    0.00,2,    2.64,2,   0.007,2,   0.002,2,   0.000,2,  -999.0,9,  -999.0,9,-999.000,9,-999.0000,9, -999.00,9, -999.00,9,  -999.0,9,  -999.0,-999.000,9,-999.000, -999.00,9, 3144.50,-999.0000,9,-999.0000,9,-999.0000,9,-999.0000,9,-999.0000,9,-999.0000,-999.000,-999.0000,9, -999.00
318M20040615,        P02,     128,          1,          6,          6,2,20040810,       0936,    29.9958,   -153.402,       5277,  3554.5,   1.4876,  34.6797,2,  34.6803,2, 137.2000,2,   138.2,2,  160.88,2,   37.07,2,    0.00,2,    2.58,2,-999.000,9,-999.000,9,-999.000,9,  -999.0,9,  -999.0,9,-999.000,9,-999.0000,9, -999.00,9, -999.00,9,  -999.0,9,  -999.0,-999.000,9,-999.000, -999.00,9, 3554.50,-999.0000,9,-999.0000,9,-999.0000,9,-999.0000,9,-999.0000,9,-999.0000,-999.000,-999.0000,9, -999.00
318M20040615,        P02,     128,          1,          5,          5,2,20040810,       0936,    29.9958,   -153.402,       5277,  3966.2,   1.4742,  34.6844,2,  34.6846,2, 144.2000,2,   145.2,2,  158.39,2,   36.70,2,    0.00,2,    2.55,2,   0.007,2,   0.004,2,   0.000,2,  -999.0,9,  -999.0,9,-999.000,9,-999.0000,9, -999.00,9, -999.00,9,  -999.0,9,  -999.0,-999.000,9,-999.000, -999.00,9, 3966.20,-999.0000,9,-999.0000,9,-999.0000,9,-999.0000,9,-999.0000,9,-999.0000,-999.000,-999.0000,9, -999.00
318M20040615,        P02,     128,          1,          4,          4,2,20040810,       0936,    29.9958,   -153.402,       5277,  4372.4,   1.4855,  34.6876,2,  34.6881,2, 150.4000,2,   150.8,2,  155.28,2,   36.65,2,    0.00,2,    2.51,2,   0.009,2,   0.006,2,   0.000,2,  -999.0,9,  -999.0,9,-999.000,9,-999.0000,9, -999.00,9, -999.00,9,  -999.0,9,  -999.0,-999.000,9,-999.000, -999.00,9, 4372.40,-999.0000,9,-999.0000,9,-999.0000,9,-999.0000,9,-999.0000,9,-999.0000,-999.000,-999.0000,9, -999.00
318M20040615,        P02,     128,          1,          3,          3,2,20040810,       0936,    29.9958,   -153.402,       5277,  4784.8,   1.5102,  34.6898,2,  34.6905,2, 154.7000,2,   155.0,2,  151.16,2,   36.49,2,    0.00,2,    2.49,2,   0.008,2,   0.005,2,   0.000,2,  -999.0,9,  -999.0,9,-999.000,9,-999.0000,9, -999.00,9, -999.00,9,  -999.0,9,  -999.0,-999.000,9,-999.000, -999.00,9, 4784.80,-999.0000,9,-999.0000,9,-999.0000,9,-999.0000,9,-999.0000,9,-999.0000,-999.000,-999.0000,9, -999.00
318M20040615,        P02,     128,          1,          2,          2,2,20040810,       0936,    29.9958,   -153.402,       5277,  5192.6,   1.5392,  34.6914,2,  34.6919,2, 159.2000,2,   159.0,2,  148.06,2,   36.07,2,    0.00,2,    2.47,2,   0.010,6,   0.007,6,   0.000,6,  -999.0,9,  -999.0,9,-999.000,9,-999.0000,9, -999.00,9, -999.00,9,  -999.0,9,  -999.0,-999.000,9,-999.000, -999.00,9, 5192.60,-999.0000,9,-999.0000,9,-999.0000,9,-999.0000,9,-999.0000,9,-999.0000,-999.000,-999.0000,9, -999.00
318M20040615,        P02,     128,          1,          1,          1,2,20040810,       0936,    29.9958,   -153.402,       5277,  5391.3,   1.5565,  34.6919,2,  34.6922,2, 159.4000,2,   160.4,2,  146.81,2,   35.81,2,    0.00,2,    2.46,2,   0.007,2,   0.004,2,   0.000,2,  -999.0,9,  -999.0,9,-999.000,9,-999.0000,9, -999.00,9, -999.00,9,  -999.0,9,  -999.0,-999.000,9,-999.000, -999.00,9, 5391.30,-999.0000,9,-999.0000,9,-999.0000,9,-999.0000,9,-999.0000,9,-999.0000,-999.000,-999.0000,9, -999.00