BOTTLE,20131027SIOCCHRJL
EXPOCODE,SECT_ID,STNNBR,CASTNO,SAMPNO,BTLNBR,BTLNBR_FLAG_W,DATE,TIME,LATITUDE,LONGITUDE,DEPTH,CTDPRS,CTDTMP,CTDSAL,CTDSAL_FLAG_W,SALNTY,SALNTY_FLAG_W,CTDOXY,CTDOXY_FLAG_W,OXYGEN,OXYGEN_FLAG_W,SILCAT,SILCAT_FLAG_W,NITRAT,NITRAT_FLAG_W,NITRIT,NITRIT_FLAG_W,PHSPHT,PHSPHT_FLAG_W,CFC-11,CFC-11_FLAG_W,CFC-12,CFC-12_FLAG_W,CFC113,CFC113_FLAG_W,TCARBN,TCARBN_FLAG_W,ALKALI,ALKALI_FLAG_W,TRITUM,TRITUM_FLAG_W,HELIUM,HELIUM_FLAG_W,DELHE3,DELHE3_FLAG_W,DELC13,DELC13_FLAG_W,DELC14,DELC14_FLAG_W,C14ERR,NEON,NEON_FLAG_W,NEONER,DOC,DOC_FLAG_W,CTDRAW,CDOM380,CDOM380_FLAG_W,CDOM325,CDOM325_FLAG_W,CDOMSL,CDOMSL_FLAG_W,CDOM340,CDOM340_FLAG_W,CDOMSN,CDOMSN_FLAG_W,HELIER,TRITER,CDOM412,CDOM412_FLAG_W,DELHER
,,,,,,,,,,,METERS,DBAR,ITS-90,PSS-78,,PSS-78,,UMOL/KG,,UMOL/KG,,UMOL/KG,,UMOL/KG,,UMOL/KG,,UMOL/KG,,PMOL/KG,,PMOL/KG,,PMOL/KG,,UMOL/KG,,UMOL/KG,,TU,,NMOL/KG,,PERCNT,,/MILLE,,/MILLE,,/MILLE,NMOL/KG,,NMOL/KG,UMOL/KG,,DBAR,1/M,,1/M,,1/NM,,1/M,,1/NM,,NMOL/KG,TU,1/M,,PERCNT
318M20040615,        P02,      19,          1,         29,         29,2,20040621,       1107,    29.9838,   137.1683,       4321,    15.9,  24.6816,  34.5623,2,  34.5639,2, 211.9000,2,   211.5,2,    1.20,2,    0.06,2,    0.00,2,    0.04,2,   1.922,2,   1.197,2,   0.139,2,  1955.4,6,  2275.8,2,   0.737,2,   1.7288,2,   -1.37,2, -999.00,9,  -999.0,9,  -999.0,-999.000,9,-999.000, -999.00,9,   15.90,-999.0000,9,-999.0000,9,-999.0000,9,-999.0000,9,-999.0000,9,   0.0086,   0.006,-999.0000,9,    0.20
318M20040615,        P02,      19,          1,         28,         28,2,20040621,       1107,    29.9838,   137.1683,       4321,    51.1,  22.0199,  34.7129,2,  34.7127,2, 224.4000,2,   225.2,2,    1.20,2,    0.05,2,    0.00,2,    0.04,2,   2.148,2,   1.281,2,   0.145,2,  1972.4,2,  2280.0,2,   0.762,2,   1.7555,2,   -1.55,2, -999.00,9,  -999.0,9,  -999.0,-999.000,9,-999.000, -999.00,9,   51.10,-999.0000,9,-999.0000,9,-999.0000,9,-999.0000,9,-999.0000,9,   0.0088,   0.006,-999.0000,9,    0.20
318M20040615,        P02,      19,          1,         27,         27,2,20040621,       1107,    29.9838,   137.1683,       4321,   100.8,  19.7239,  34.8835,2,  34.8842,2, 222.4000,2,   221.6,2,    1.38,2,    0.33,2,    0.21,2,    0.11,2,   2.295,2,   1.342,2,   0.133,2,  1996.1,2,  2289.8,2,   0.751,2,   1.7842,2,   -1.01,2, -999.00,9,  -999.0,9,  -999.0,-999.000,9,-999.000, -999.00,9,  100.80,-999.0000,9,-999.0000,9,-999.0000,9,-999.0000,9,-999.0000,9,   0.0089,   0.005,-999.0000,9,    0.20
318M20040615,        P02,      19,          1,         26,         26,2,20040621,       1107,    29.9838,   137.1683,       4321,   150.8,  18.7223,  34.8737,2,  34.8747,2, 214.8000,2,   215.5,2,    2.09,2,    2.22,2,    0.02,2,    0.21,2,   2.353,2,   1.387,2,   0.128,2,  2007.8,2,  2288.6,2,   0.766,2,   1.8202,2,   -1.02,2, -999.00,9,  -999.0,9,  -999.0,-999.000,9,-999.000, -999.00,9,  150.80,-999.0000,9,-999.0000,9,-999.0000,9,-999.0000,9,-999.0000,9,   0.0091,   0.006,-999.0000,9,    0.20
318M20040615,        P02,      19,          1,         25,         25,2,20040621,       1107,    29.9838,   137.1683,       4321,   200.4,  18.4360,  34.8576,2,  34.8620,2, 215.4000,2,   214.3,2,    2.62,2,    2.62,2,    0.01,2,    0.23,2,   2.365,2,   1.366,2,   0.114,2,  -999.0,9,  2288.9,2,-999.000,9,   1.7823,2,   -0.82,2, -999.00,9,  -999.0,9,  -999.0,-999.000,9,-999.000, -999.00,9,  200.40,-999.0000,9,-999.0000,9,-999.0000,9,-999.0000,9,-999.0000,9,   0.0089,-999.000,-999.0000,9,    0.20
318M20040615,        P02,      19,          1,         24,         24,2,20040621,       1107,    29.9838,   137.1683,       4321,   250.1,  17.8150,  34.8143,2,  34.8142,2, 213.0000,2,   215.1,2,    3.16,2,    3.22,2,    0.01,2,    0.25,2,   2.431,2,   1.378,2,   0.103,2,  2017.5,2,  2286.2,2,   0.787,2,   1.7796,2,   -0.25,2, -999.00,9,  -999.0,9,  -999.0,-999.000,9,-999.000, -999.00,9,  250.10,-999.0000,9,-999.0000,9,-999.0000,9,-999.0000,9,-999.0000,9,   0.0089,   0.007,-999.0000,9,    0.20
318M20040615,        P02,      19,          1,         23,         23,2,20040621,       1107,    29.9838,   137.1683,       4321,   301.5,  16.9617,  34.7643,2,  34.7643,2, 206.8000,2,   210.3,2,    4.59,2,    4.83,2,    0.00,2,    0.36,2,   2.513,2,   1.399,2,   0.076,2,  -999.0,9,  2282.9,2,   0.774,2,   1.8247,2,    0.13,2, -999.00,9,  -999.0,9,  -999.0,-999.000,9,-999.000, -999.00,9,  301.50,-999.0000,9,-999.0000,9,-999.0000,9,-999.0000,9,-999.0000,9,   0.0091,   0.007,-999.0000,9,    0.20
318M20040615,        P02,      19,          1,         22,         22,2,20040621,       1107,    29.9838,   137.1683,       4321,   400.4,  15.6351,  34.6488,2,  34.6499,2, 193.4000,2,   192.3,2,    8.73,2,    8.58,2,    0.00,2,    0.63,2,   2.547,2,   1.389,2,   0.033,2,  2057.4,2,  2278.8,2,   0.837,2,   1.7985,2,    2.33,2, -999.00,9,  -999.0,9,  -999.0,-999.000,9,-999.000, -999.00,9,  400.40,-999.0000,9,-999.0000,9,-999.0000,9,-999.0000,9,-999.0000,9,   0.0090,   0.005,-999.0000,9,    0.20
318M20040615,        P02,      19,          1,         21,         21,2,20040621,       1107,    29.9838,   137.1683,       4321,   502.9,  12.8053,  34.4531,2,  34.4559,2, 175.3000,2,   174.8,2,   18.82,2,   14.56,2,    0.00,2,    1.04,2,   2.498,2,   1.325,2,   0.039,2,  -999.0,9,  2278.4,2,   0.793,2,   1.8024,2,    5.95,2, -999.00,9,  -999.0,9,  -999.0,-999.000,9,-999.000, -999.00,9,  502.90,-999.0000,9,-999.0000,9,-999.0000,9,-999.0000,9,-999.0000,9,   0.0090,   0.006,-999.0000,9,    0.20
318M20040615,        P02,      19,          1,         20,         20,2,20040621,       1107,    29.9838,   137.1683,       4321,   596.3,  10.4199,  34.3038,2,  34.3057,2, 159.1000,2,   159.7,2,   30.92,2,   19.93,2,    0.00,2,    1.46,2,   2.199,2,   1.186,2,   0.041,2,  2143.8,2,  2280.0,2,   0.742,2,   1.8234,2,    9.45,2, -999.00,9,  -999.0,9,  -999.0,-999.000,9,-999.000, -999.00,9,  596.30,-999.0000,9,-999.0000,9,-999.0000,9,-999.0000,9,-999.0000,9,   0.0091,   0.005,-999.0000,9,    0.20
318M20040615,        P02,      19,          1,         19,         19,2,20040621,       1107,    29.9838,   137.1683,       4321,   699.6,   7.9038,  34.1908,2,  34.1981,2, 131.0000,2,   132.9,2,   51.06,2,   26.74,2,    0.00,2,    1.97,2,   1.777,2,   0.955,2,   0.043,2,  -999.0,9,  2290.9,2,   0.613,2,   1.8500,2,   12.30,2, -999.00,9,  -999.0,9,  -999.0,-999.000,9,-999.000, -999.00,9,  699.60,-999.0000,9,-999.0000,9,-999.0000,9,-999.0000,9,-999.0000,9,   0.0093,   0.005,-999.0000,9,    0.20
318M20040615,        P02,      19,          1,         18,         18,2,20040621,       1107,    29.9838,   137.1683,       4321,   801.0,   6.2236,  34.2105,2,  34.2157,2,  99.7000,2,    99.4,2,   73.32,2,   32.61,2,    0.00,2,    2.40,2,   1.102,2,   0.599,2,   0.030,2,  2251.5,2,  2313.7,2,   0.449,2,   1.8646,2,   15.39,2, -999.00,9,  -999.0,9,  -999.0,-999.000,9,-999.000, -999.00,9,  801.00,-999.0000,9,-999.0000,9,-999.0000,9,-999.0000,9,-999.0000,9,   0.0093,   0.004,-999.0000,9,    0.20
318M20040615,        P02,      19,          1,         17,         17,2,20040621,       1107,    29.9838,   137.1683,       4321,   900.7,   5.3046,  34.2585,2,  34.2632,2,  80.7000,2,    81.1,2,   89.25,2,   35.76,2,    0.00,2,    2.62,2,   0.709,2,   0.379,2,   0.017,2,  -999.0,9,  2328.8,2,   0.321,2,   1.8863,2,   16.45,2, -999.00,9,  -999.0,9,  -999.0,-999.000,9,-999.000, -999.00,9,  900.70,-999.0000,9,-999.0000,9,-999.0000,9,-999.0000,9,-999.0000,9,   0.0094,   0.003,-999.0000,9,    0.20
318M20040615,        P02,      19,          1,         16,         16,2,20040621,       1107,    29.9838,   137.1683,       4321,  1002.2,   4.2613,  34.3300,2,  34.3517,2,  67.7000,3,    66.6,2,  109.10,2,   38.61,2,    0.00,2,    2.83,2,   0.378,2,   0.204,2,   0.009,2,  -999.0,9,  2349.3,2,-999.000,9,   1.9317,2,   16.97,2, -999.00,9,  -999.0,9,  -999.0,-999.000,9,-999.000, -999.00,9, 1002.20,-999.0000,9,-999.0000,9,-999.0000,9,-999.0000,9,-999.0000,9,   0.0097,-999.000,-999.0000,9,    0.20
318M20040615,        P02,      19,          1,         15,         15,2,20040621,       1107,    29.9838,   137.1683,       4321,  1102.0,   3.7555,  34.3783,2,  34.3802,2,  62.8000,2,    62.1,2,  119.59,2,   39.60,2,    0.00,2,    2.90,2,   0.242,2,   0.128,2,   0.003,2,  2332.3,2,  2363.6,2,   0.130,2,   1.9080,2,   17.71,2, -999.00,9,  -999.0,9,  -999.0,-999.000,9,-999.000, -999.00,9, 1102.00,-999.0000,9,-999.0000,9,-999.0000,9,-999.0000,9,-999.0000,9,   0.0095,   0.003,-999.0000,9,    0.20
318M20040615,        P02,      19,          1,         14,         14,2,20040621,       1107,    29.9838,   137.1683,       4321,  1201.0,   3.4069,  34.4203,2,  34.4218,2,  62.3000,2,    62.6,2,  126.42,2,   40.23,2,    0.00,2,    2.92,2,   0.148,2,   0.077,2,   0.006,2,  2340.5,2,  2371.8,2,   0.085,2,   1.9103,2,   18.04,2, -999.00,9,  -999.0,9,  -999.0,-999.000,9,-999.000, -999.00,9, 1201.00,-999.0000,9,-999.0000,9,-999.0000,9,-999.0000,9,-999.0000,9,   0.0096,   0.001,-999.0000,9,    0.20
318M20040615,        P02,      19,          1,         13,         13,2,20040621,       1107,    29.9838,   137.1683,       4321,  1302.9,   3.1041,  34.4570,2,  34.4587,2,  65.4000,2,    65.6,2,  132.52,2,   40.65,2,    0.00,2,    2.93,2,   0.100,2,   0.053,2,   0.006,2,  2346.9,6,  2380.4,2,   0.061,2,   1.9225,2,   18.11,2, -999.00,9,  -999.0,9,  -999.0,-999.000,9,-999.000, -999.00,9, 1302.90,-999.0000,9,-999.0000,9,-999.0000,9,-999.0000,9,-999.0000,9,   0.0096,   0.001,-999.0000,9,    0.20
318M20040615,        P02,      19,          1,         12,         12,2,20040621,       1107,    29.9838,   137.1683,       4321,  1399.8,   2.9136,  34.4793,2,  34.4813,2,  68.0000,2,    68.7,2,  136.60,2,   40.79,2,    0.00,2,    2.93,2,   0.073,2,   0.039,2,   0.003,2,  -999.0,9,  2383.0,2,   0.055,2,   1.9221,2,   18.40,2, -999.00,9,  -999.0,9,  -999.0,-999.000,9,-999.000, -999.00,9, 1399.80,-999.0000,9,-999.0000,9,-999.0000,9,-999.0000,9,-999.0000,9,   0.0096,   0.001,-999.0000,9,    0.20
318M20040615,        P02,      19,          1,         11,         11,2,20040621,       1107,    29.9838,   137.1683,       4321,  1507.2,   2.6828,  34.5051,2,  34.5078,2,  71.6000,2,    72.6,2,  141.45,2,   40.74,2,    0.00,2,    2.93,2,   0.053,2,   0.027,2,   0.004,2,  -999.0,9,  2389.7,2,   0.037,2,   1.9199,2,   18.44,2, -999.00,9,  -999.0,9,  -999.0,-999.000,9,-999.000, -999.00,9, 1507.20,-999.0000,9,-999.0000,9,-999.0000,9,-999.0000,9,-999.0000,9,   0.0096,   0.001,-999.0000,9,    0.20
318M20040615,        P02,      19,          1,         10,         10,2,20040621,       1107,    29.9838,   137.1683,       4321,  1598.1,   2.5030,  34.5284,2,  34.5312,2,  77.5000,2,    77.1,2,  144.05,2,   40.46,2,    0.00,2,    2.93,2,   0.036,2,   0.020,2,   0.002,2,  -999.0,9,  2395.5,2,   0.025,2,   1.9404,2,   18.95,2, -999.00,9,  -999.0,9,  -999.0,-999.000,9,-999.000, -999.00,9, 1598.10,-999.0000,9,-999.0000,9,-999.0000,9,-999.0000,9,-999.0000,9,   0.0097,   0.001,-999.0000,9,    0.20
318M20040615,        P02,      19,          1,          9,          9,2,20040621,       1107,    29.9838,   137.1683,       4321,  1799.9,   2.2500,  34.5623,2,  34.5642,2,  84.5000,2,    86.5,2,  147.74,2,   39.97,2,    0.00,2,    2.88,2,   0.023,2,   0.013,2,   0.008,2,  -999.0,9,  2400.6,2,   0.015,2,   1.9432,2,   19.19,2, -999.00,9,  -999.0,9,  -999.0,-999.000,9,-999.000, -999.00,9, 1799.90,-999.0000,9,-999.0000,9,-999.0000,9,-999.0000,9,-999.0000,9,   0.0097,   0.001,-999.0000,9,    0.20
318M20040615,        P02,      19,          1,          8,          8,2,20040621,       1107,    29.9838,   137.1683,       4321,  1999.6,   2.0542,  34.5939,2,  34.5958,2,  99.3000,2,   101.5,2,  147.17,2,   38.95,2,    0.00,2,    2.81,2,   0.015,2,   0.012,2,   0.004,2,  -999.0,9,  2404.9,2,   0.010,2,   1.9322,2,   19.02,2, -999.00,9,  -999.0,9,  -999.0,-999.000,9,-999.000, -999.00,9, 1999.60,-999.0000,9,-999.0000,9,-999.0000,9,-999.0000,9,-999.0000,9,   0.0097,   0.001,-999.0000,9,    0.20
318M20040615,        P02,      19,          1,          7,          7,2,20040621,       1107,    29.9838,   137.1683,       4321,  2259.4,   1.8633,  34.6219,2,  34.6237,2, 114.5000,2,   115.2,2,  147.72,2,   38.14,2,    0.00,2,    2.75,2,   0.012,2,   0.011,2,   0.001,2,  -999.0,9,  2409.0,2,   0.006,2,   1.9737,2,   18.52,2, -999.00,9,  -999.0,9,  -999.0,-999.000,9,-999.000, -999.00,9, 2259.40,-999.0000,9,-999.0000,9,-999.0000,9,-999.0000,9,-999.0000,9,   0.0099,   0.000,-999.0000,9,    0.20
318M20040615,        P02,      19,          1,          6,          6,2,20040621,       1107,    29.9838,   137.1683,       4321,  2510.9,   1.7550,  34.6396,2,  34.6468,2, 125.4000,3,   125.9,2,  146.26,2,   37.46,2,    0.00,2,    2.70,2,   0.010,2,   0.008,2,   0.002,2,  -999.0,9,  2411.3,2,   0.004,2,   1.9214,2,   19.01,2, -999.00,9,  -999.0,9,  -999.0,-999.000,9,-999.000, -999.00,9, 2510.90,-999.0000,9,-999.0000,9,-999.0000,9,-999.0000,9,-999.0000,9,   0.0096,   0.000,-999.0000,9,    0.20
318M20040615,        P02,      19,          1,          5,          5,2,20040621,       1107,    29.9838,   137.1683,       4321,  2759.8,   1.6738,  34.6533,2,  34.6564,2, 134.3000,3,   134.8,2,  145.39,2,   36.88,2,    0.00,2,    2.65,2,   0.008,6,   0.008,6,   0.003,6,  -999.0,9,  2410.6,2,-999.000,9,-999.0000,9, -999.00,9, -999.00,9,  -999.0,9,  -999.0,-999.000,9,-999.000, -999.00,9, 2759.80,-999.0000,9,-999.0000,9,-999.0000,9,-999.0000,9,-999.0000,9,-999.0000,-999.000,-999.0000,9, -999.00
318M20040615,        P02,      19,          1,          4,          4,2,20040621,       1107,    29.9838,   137.1683,       4321,  3007.5,   1.6181,  34.6624,2,  34.6641,2, 140.1000,2,   140.7,2,  144.47,2,   36.40,2,    0.00,2,    2.62,2,   0.008,2,   0.009,2,   0.004,2,  -999.0,9,  2413.2,2,-999.000,9,-999.0000,9, -999.00,9, -999.00,9,  -999.0,9,  -999.0,-999.000,9,-999.000, -999.00,9, 3007.50,-999.0000,9,-999.0000,9,-999.0000,9,-999.0000,9,-999.0000,9,-999.0000,-999.000,-999.0000,9, -999.00
318M20040615,        P02,      19,          1,          3,          3,2,20040621,       1107,    29.9838,   137.1683,       4321,  3383.8,   1.5577,  34.6731,2,  34.6743,2, 148.2000,2,   148.0,2,  143.52,2,   35.97,2,    0.00,2,    2.58,2,   0.011,2,   0.010,2,   0.003,2,  -999.0,9,  2412.9,2,-999.000,9,-999.0000,9, -999.00,9, -999.00,9,  -999.0,9,  -999.0,-999.000,9,-999.000, -999.00,9, 3383.80,-999.0000,9,-999.0000,9,-999.0000,9,-999.0000,9,-999.0000,9,-999.0000,-999.000,-999.0000,9, -999.00
318M20040615,        P02,      19,          1,          2,          2,2,20040621,       1107,    29.9838,   137.1683,       4321,  3796.6,   1.5368,  34.6798,2,  34.6816,2, 152.3000,3,   152.7,2,  142.94,2,   35.79,2,    0.00,2,    2.56,2,   0.012,2,   0.011,2,   0.003,2,  -999.0,9,  2412.8,2,-999.000,9,-999.0000,9, -999.00,9, -999.00,9,  -999.0,9,  -999.0,-999.000,9,-999.000, -999.00,9, 3796.60,-999.0000,9,-999.0000,9,-999.0000,9,-999.0000,9,-999.0000,9,-999.0000,-999.000,-999.0000,9, -999.00
318M20040615,        P02,      19,          1,          1,          1,2,20040621,       1107,    29.9838,   137.1683,       4321,  4395.8,   1.5775,  34.6827,2,  34.6906,2, 154.6000,3,   155.1,2,  142.21,2,   35.89,2,    0.00,2,    2.55,2,   0.008,2,   0.010,2,   0.000,2,  -999.0,9,  2414.0,6,-999.000,9,-999.0000,9, -999.00,9, -999.00,9,  -999.0,9,  -999.0,-999.000,9,-999.000, -999.00,9, 4395.80,-999.0000,9,-999.0000,9,-999.0000,9,-999.0000,9,-999.0000,9,-999.0000,-999.000,-999.0000,9, -999.00