BOTTLE,20131027SIOCCHRJL
EXPOCODE,SECT_ID,STNNBR,CASTNO,SAMPNO,BTLNBR,BTLNBR_FLAG_W,DATE,TIME,LATITUDE,LONGITUDE,DEPTH,CTDPRS,CTDTMP,CTDSAL,CTDSAL_FLAG_W,SALNTY,SALNTY_FLAG_W,CTDOXY,CTDOXY_FLAG_W,OXYGEN,OXYGEN_FLAG_W,SILCAT,SILCAT_FLAG_W,NITRAT,NITRAT_FLAG_W,NITRIT,NITRIT_FLAG_W,PHSPHT,PHSPHT_FLAG_W,CFC-11,CFC-11_FLAG_W,CFC-12,CFC-12_FLAG_W,CFC113,CFC113_FLAG_W,TCARBN,TCARBN_FLAG_W,ALKALI,ALKALI_FLAG_W,TRITUM,TRITUM_FLAG_W,HELIUM,HELIUM_FLAG_W,DELHE3,DELHE3_FLAG_W,DELC13,DELC13_FLAG_W,DELC14,DELC14_FLAG_W,C14ERR,NEON,NEON_FLAG_W,NEONER,DOC,DOC_FLAG_W,CTDRAW,CDOM380,CDOM380_FLAG_W,CDOM325,CDOM325_FLAG_W,CDOMSL,CDOMSL_FLAG_W,CDOM340,CDOM340_FLAG_W,CDOMSN,CDOMSN_FLAG_W,HELIER,TRITER,CDOM412,CDOM412_FLAG_W,DELHER
,,,,,,,,,,,METERS,DBAR,ITS-90,PSS-78,,PSS-78,,UMOL/KG,,UMOL/KG,,UMOL/KG,,UMOL/KG,,UMOL/KG,,UMOL/KG,,PMOL/KG,,PMOL/KG,,PMOL/KG,,UMOL/KG,,UMOL/KG,,TU,,NMOL/KG,,PERCNT,,/MILLE,,/MILLE,,/MILLE,NMOL/KG,,NMOL/KG,UMOL/KG,,DBAR,1/M,,1/M,,1/NM,,1/M,,1/NM,,NMOL/KG,TU,1/M,,PERCNT
318M20040615,        P02,      66,          1,         36,         36,2,20040709,       1937,    30.0007,   168.0858,       5818,     7.8,  25.6024,  35.0817,2,  35.0809,2, 209.8000,2,   209.4,2,    1.32,2,    0.14,2,    0.00,2,    0.02,2,   1.855,2,   1.138,2,   0.131,2,  1997.8,2,  2303.5,6,   0.819,2,   1.7299,2,   -1.06,2, -999.00,9,  -999.0,9,  -999.0,-999.000,9,-999.000,   67.60,2,    7.80,-999.0000,9,-999.0000,9,-999.0000,9,-999.0000,9,-999.0000,9,   0.0086,   0.006,-999.0000,9,    0.20
318M20040615,        P02,      66,          1,         35,         35,2,20040709,       1937,    30.0007,   168.0858,       5818,    41.3,  20.9412,  35.0235,2,  35.0179,2, 235.2000,2,   234.5,2,    1.30,2,    0.08,2,    0.00,2,    0.03,2,   2.232,2,   1.342,2,   0.149,2,  1995.3,2,  2298.2,2,   0.767,2,   1.7553,2,   -1.50,2, -999.00,9,  -999.0,9,  -999.0,-999.000,9,-999.000,   64.80,2,   41.30,-999.0000,9,-999.0000,9,-999.0000,9,-999.0000,9,-999.0000,9,   0.0088,   0.006,-999.0000,9,    0.20
318M20040615,        P02,      66,          1,         34,         34,2,20040709,       1937,    30.0007,   168.0858,       5818,    86.5,  18.4499,  34.8937,2,  34.8934,2, 224.4000,2,   223.2,2,    2.17,2,    0.84,2,    0.17,2,    0.12,2,   2.385,2,   1.423,2,   0.138,2,  2013.6,2,  2289.8,2,   0.795,2,   1.7625,2,   -1.39,2, -999.00,9,  -999.0,9,  -999.0,-999.000,9,-999.000,   62.00,2,   86.50,-999.0000,9,-999.0000,9,-999.0000,9,-999.0000,9,-999.0000,9,   0.0088,   0.006,-999.0000,9,    0.20
318M20040615,        P02,      66,          1,         33,         33,2,20040709,       1937,    30.0007,   168.0858,       5818,   135.0,  17.3561,  34.7986,2,  34.8059,2, 212.7000,2,   216.7,2,    3.23,2,    3.55,2,    0.02,2,    0.25,2,   2.469,2,   1.456,2,   0.117,2,  2021.4,6,  2283.3,2,-999.000,9,-999.0000,9, -999.00,9, -999.00,9,  -999.0,9,  -999.0,-999.000,9,-999.000,   54.00,2,  135.00,-999.0000,9,-999.0000,9,-999.0000,9,-999.0000,9,-999.0000,9,-999.0000,-999.000,-999.0000,9, -999.00
318M20040615,        P02,      66,          1,         32,         32,2,20040709,       1937,    30.0007,   168.0858,       5818,   186.0,  16.9182,  34.7799,2,  34.7801,2, 216.9000,2,   217.8,2,    3.73,2,    4.21,2,    0.01,2,    0.29,2,   2.505,2,   1.472,2,   0.110,2,  2025.3,2,  2281.6,2,   0.819,2,   1.7708,2,   -0.58,2, -999.00,9,  -999.0,9,  -999.0,-999.000,9,-999.000,   53.00,2,  186.00,-999.0000,9,-999.0000,9,-999.0000,9,-999.0000,9,-999.0000,9,   0.0089,   0.006,-999.0000,9,    0.20
318M20040615,        P02,      66,          1,         31,         31,2,20040709,       1937,    30.0007,   168.0858,       5818,   236.2,  16.4184,  34.7267,2,  34.7304,2, 221.5000,2,   217.4,2,    4.61,2,    5.08,2,    0.01,2,    0.35,2,   2.569,2,   1.489,2,   0.095,2,  2032.3,2,  2278.7,2,   0.784,2,   1.7716,2,   -0.61,2, -999.00,9,  -999.0,9,  -999.0,-999.000,9,-999.000,   52.20,2,  236.20,-999.0000,9,-999.0000,9,-999.0000,9,-999.0000,9,-999.0000,9,   0.0089,   0.007,-999.0000,9,    0.20
318M20040615,        P02,      66,          1,         30,         30,2,20040709,       1937,    30.0007,   168.0858,       5818,   290.6,  15.8588,  34.6764,2,  34.6774,2, 214.9000,2,   214.1,2,    6.03,2,    6.27,2,    0.01,2,    0.44,2,   2.603,2,   1.502,2,   0.087,2,  2041.9,2,  2278.9,2,   0.790,2,   1.7770,2,    0.28,2, -999.00,9,  -999.0,9,  -999.0,-999.000,9,-999.000,   51.20,2,  290.60,-999.0000,9,-999.0000,9,-999.0000,9,-999.0000,9,-999.0000,9,   0.0089,   0.008,-999.0000,9,    0.20
318M20040615,        P02,      66,          1,         29,         29,2,20040709,       1937,    30.0007,   168.0858,       5818,   340.6,  15.1867,  34.6410,2,  34.6405,2, 206.1000,2,   222.4,2,    7.09,2,    6.70,2,    0.01,2,    0.47,2,   2.695,2,   1.553,2,   0.130,3,  2045.2,2,  2275.9,2,-999.000,9,-999.0000,9, -999.00,9, -999.00,9,  -999.0,9,  -999.0,-999.000,9,-999.000,   50.80,2,  340.60,-999.0000,9,-999.0000,9,-999.0000,9,-999.0000,9,-999.0000,9,-999.0000,-999.000,-999.0000,9, -999.00
318M20040615,        P02,      66,          1,         28,         28,2,20040709,       1937,    30.0007,   168.0858,       5818,   390.5,  14.1373,  34.5317,2,  34.5307,2, 201.3000,2,   202.9,2,   10.84,2,    9.90,2,    0.00,2,    0.69,2,   2.693,2,   1.507,2,   0.065,2,  2068.5,2,  2274.0,2,   0.822,2,   1.7781,2,    1.85,2, -999.00,9,  -999.0,9,  -999.0,-999.000,9,-999.000,   48.80,2,  390.50,-999.0000,9,-999.0000,9,-999.0000,9,-999.0000,9,-999.0000,9,   0.0089,   0.006,-999.0000,9,    0.20
318M20040615,        P02,      66,          1,         27,         27,2,20040709,       1937,    30.0007,   168.0858,       5818,   440.1,  12.7549,  34.4314,2,  34.4267,2, 201.0000,2,   201.6,2,   14.90,2,   12.44,2,    0.00,2,    0.88,2,   2.771,2,   1.526,2,   0.075,2,  2087.2,2,  2272.4,2,-999.000,9,-999.0000,9, -999.00,9, -999.00,9,  -999.0,9,  -999.0,-999.000,9,-999.000,   47.80,2,  440.10,-999.0000,9,-999.0000,9,-999.0000,9,-999.0000,9,-999.0000,9,-999.0000,-999.000,-999.0000,9, -999.00
318M20040615,        P02,      66,          1,         26,         26,2,20040709,       1937,    30.0007,   168.0858,       5818,   490.1,  11.4708,  34.3369,2,  34.3362,2, 203.1000,2,   195.5,2,   19.58,2,   14.98,2,    0.00,2,    1.07,2,   2.794,2,   1.509,2,   0.081,2,  2104.6,2,  2272.3,2,-999.000,9,   1.8112,2,    4.01,2, -999.00,9,  -999.0,9,  -999.0,-999.000,9,-999.000,   47.30,2,  490.10,-999.0000,9,-999.0000,9,-999.0000,9,-999.0000,9,-999.0000,9,   0.0091,-999.000,-999.0000,9,    0.20
318M20040615,        P02,      66,          1,         25,         25,2,20040709,       1937,    30.0007,   168.0858,       5818,   575.5,   8.7978,  34.1239,2,  34.1264,2, 187.4000,2,   195.4,2,   30.99,2,   19.60,2,    0.00,2,    1.41,2,   2.939,2,   1.558,2,   0.133,2,  2139.1,2,  2273.5,2,   0.797,2,   1.8260,2,    5.95,2, -999.00,9,  -999.0,9,  -999.0,-999.000,9,-999.000,   46.50,2,  575.50,-999.0000,9,-999.0000,9,-999.0000,9,-999.0000,9,-999.0000,9,   0.0091,   0.006,-999.0000,9,    0.20
318M20040615,        P02,      66,          1,         24,         24,2,20040709,       1937,    30.0007,   168.0858,       5818,   680.2,   6.0787,  34.0046,2,  34.0067,2, 147.4000,2,   140.2,2,   58.18,2,   29.63,2,    0.00,2,    2.15,2,   2.273,2,   1.150,2,   0.106,2,  2215.3,2,  2289.4,2,   0.594,2,   1.8251,2,   11.54,2, -999.00,9,  -999.0,9,  -999.0,-999.000,9,-999.000,   45.40,2,  680.20,-999.0000,9,-999.0000,9,-999.0000,9,-999.0000,9,-999.0000,9,   0.0091,   0.005,-999.0000,9,    0.20
318M20040615,        P02,      66,          1,         23,         23,2,20040709,       1937,    30.0007,   168.0858,       5818,   780.2,   4.9818,  34.0758,2,  34.0782,2,  90.7000,2,    91.8,2,   81.66,2,   35.86,2,    0.00,2,    2.59,2,   1.351,6,   0.675,6,   0.060,6,  2270.5,2,  2309.4,2,   0.431,2,   1.8917,2,   14.85,2, -999.00,9,  -999.0,9,  -999.0,-999.000,9,-999.000,   44.40,2,  780.20,-999.0000,9,-999.0000,9,-999.0000,9,-999.0000,9,-999.0000,9,   0.0095,   0.004,-999.0000,9,    0.20
318M20040615,        P02,      66,          1,         22,         22,2,20040709,       1937,    30.0007,   168.0858,       5818,   880.0,   4.3095,  34.1781,2,  34.1790,2,  59.1000,2,    59.2,2,  101.35,2,   39.68,2,    0.00,2,    2.85,2,   0.737,2,   0.360,2,   0.024,2,  2309.8,2,  2329.8,2,-999.000,9,-999.0000,9, -999.00,9, -999.00,9,  -999.0,9,  -999.0,-999.000,9,-999.000,   43.70,2,  880.00,-999.0000,9,-999.0000,9,-999.0000,9,-999.0000,9,-999.0000,9,-999.0000,-999.000,-999.0000,9, -999.00
318M20040615,        P02,      66,          1,         21,         21,2,20040709,       1937,    30.0007,   168.0858,       5818,   980.6,   3.8832,  34.2514,2,  34.2541,2,  44.0000,2,    44.3,2,  114.07,2,   41.19,2,    0.00,2,    2.95,2,   0.397,2,   0.195,2,   0.010,2,  2332.7,2,  2343.7,2,   0.185,2,   1.8987,2,   16.12,2, -999.00,9,  -999.0,9,  -999.0,-999.000,9,-999.000,   42.30,2,  980.60,-999.0000,9,-999.0000,9,-999.0000,9,-999.0000,9,-999.0000,9,   0.0095,   0.003,-999.0000,9,    0.20
318M20040615,        P02,      66,          1,         20,         20,2,20040709,       1937,    30.0007,   168.0858,       5818,  1085.4,   3.4307,  34.3276,2,  34.3285,2,  34.6000,2,    35.2,2,  127.72,2,   42.42,2,    0.00,2,    3.04,2,   0.191,2,   0.099,2,   0.008,2,  2352.4,2,  2361.4,2,-999.000,9,-999.0000,9, -999.00,9, -999.00,9,  -999.0,9,  -999.0,-999.000,9,-999.000,   40.50,2, 1085.40,-999.0000,9,-999.0000,9,-999.0000,9,-999.0000,9,-999.0000,9,-999.0000,-999.000,-999.0000,9, -999.00
318M20040615,        P02,      66,          1,         19,         19,2,20040709,       1937,    30.0007,   168.0858,       5818,  1185.6,   3.1386,  34.3778,2,  34.3799,2,  31.5000,2,    31.8,2,  136.72,2,   42.98,2,    0.00,2,    3.09,2,   0.110,6,   0.056,6,   0.002,6,  2363.3,2,  2372.5,2,-999.000,9,-999.0000,9, -999.00,9, -999.00,9,  -999.0,9,  -999.0,-999.000,9,-999.000,   40.00,2, 1185.60,-999.0000,9,-999.0000,9,-999.0000,9,-999.0000,9,-999.0000,9,-999.0000,-999.000,-999.0000,9, -999.00
318M20040615,        P02,      66,          1,         18,         18,2,20040709,       1937,    30.0007,   168.0858,       5818,  1286.6,   2.8801,  34.4259,2,  34.4294,2,  31.3000,2,    31.5,2,  144.66,2,   43.44,2,    0.00,2,    3.10,2,   0.060,2,   0.029,2,   0.003,2,  2373.2,6,  2381.7,6,-999.000,9,   1.9154,2,   17.43,2, -999.00,9,  -999.0,9,  -999.0,-999.000,9,-999.000,   39.00,2, 1286.60,-999.0000,9,-999.0000,9,-999.0000,9,-999.0000,9,-999.0000,9,   0.0096,-999.000,-999.0000,9,    0.20
318M20040615,        P02,      66,          1,         17,         17,2,20040709,       1937,    30.0007,   168.0858,       5818,  1386.0,   2.6960,  34.4624,2,  34.4637,2,  34.1000,2,    34.0,2,  149.79,2,   43.43,2,    0.00,2,    3.10,2,   0.039,2,   0.017,2,   0.000,2,  2377.9,2,  2387.9,2,-999.000,9,-999.0000,9, -999.00,9, -999.00,9,  -999.0,9,  -999.0,-999.000,9,-999.000,   38.30,2, 1386.00,-999.0000,9,-999.0000,9,-999.0000,9,-999.0000,9,-999.0000,9,-999.0000,-999.000,-999.0000,9, -999.00
318M20040615,        P02,      66,          1,         16,         16,2,20040709,       1937,    30.0007,   168.0858,       5818,  1492.1,   2.4853,  34.4980,2,  34.4993,2,  38.6000,2,    38.6,2,  155.50,2,   43.26,2,    0.00,2,    3.08,2,   0.024,2,   0.012,2,   0.000,2,  2380.7,2,  2395.1,2,   0.017,2,   1.9245,2,   18.32,2, -999.00,9,  -999.0,9,  -999.0,-999.000,9,-999.000,   38.20,2, 1492.10,-999.0000,9,-999.0000,9,-999.0000,9,-999.0000,9,-999.0000,9,   0.0096,   0.001,-999.0000,9,    0.20
318M20040615,        P02,      66,          1,         15,         15,2,20040709,       1937,    30.0007,   168.0858,       5818,  1591.9,   2.3475,  34.5247,2,  34.5245,2,  44.2000,2,    44.2,2,  158.81,2,   42.98,2,    0.00,2,    3.06,2,   0.012,2,   0.006,2,   0.001,2,  2381.2,2,  2400.3,2,-999.000,9,-999.0000,9, -999.00,9, -999.00,9,  -999.0,9,  -999.0,-999.000,9,-999.000,   38.20,2, 1591.90,-999.0000,9,-999.0000,9,-999.0000,9,-999.0000,9,-999.0000,9,-999.0000,-999.000,-999.0000,9, -999.00
318M20040615,        P02,      66,          1,         14,         14,2,20040709,       1937,    30.0007,   168.0858,       5818,  1793.7,   2.1125,  34.5663,2,  34.5682,2,  58.5000,2,    57.9,2,  163.00,2,   42.15,2,    0.00,2,    2.99,2,   0.003,2,   0.005,2,  -0.001,2,  2378.0,2,  2406.8,2,-999.000,9,   1.9386,2,   19.42,2, -999.00,9,  -999.0,9,  -999.0,-999.000,9,-999.000,   37.40,2, 1793.70,-999.0000,9,-999.0000,9,-999.0000,9,-999.0000,9,-999.0000,9,   0.0097,-999.000,-999.0000,9,    0.20
318M20040615,        P02,      66,          1,         13,         13,2,20040709,       1937,    30.0007,   168.0858,       5818,  1999.3,   1.9247,  34.5991,2,  34.6013,2,  73.7000,2,    75.0,2,  163.54,2,   41.10,2,    0.00,2,    2.91,2,   0.006,2,   0.003,2,  -0.002,2,  2370.7,2,  2412.5,2,   0.004,2,   1.9257,2,   19.40,2, -999.00,9,  -999.0,9,  -999.0,-999.000,9,-999.000,   37.60,2, 1999.30,-999.0000,9,-999.0000,9,-999.0000,9,-999.0000,9,-999.0000,9,   0.0096,   0.000,-999.0000,9,    0.20
318M20040615,        P02,      66,          1,         12,         12,2,20040709,       1937,    30.0007,   168.0858,       5818,  2199.3,   1.7820,  34.6221,2,  34.6233,2,  90.3000,2,    90.4,2,  163.32,2,   40.24,2,    0.00,2,    2.84,2,   0.002,2,   0.001,2,   0.000,2,  2363.3,2,  2413.3,2,-999.000,9,-999.0000,9, -999.00,9, -999.00,9,  -999.0,9,  -999.0,-999.000,9,-999.000,   38.20,2, 2199.30,-999.0000,9,-999.0000,9,-999.0000,9,-999.0000,9,-999.0000,9,-999.0000,-999.000,-999.0000,9, -999.00
318M20040615,        P02,      66,          1,         11,         11,2,20040709,       1937,    30.0007,   168.0858,       5818,  2450.2,   1.6696,  34.6403,2,  34.6419,2, 105.5000,2,   105.1,2,  161.63,2,   39.48,2,    0.00,2,    2.77,2,   0.003,2,   0.000,2,  -0.002,2,  2355.2,2,  2416.1,2,-999.000,9,-999.0000,9, -999.00,9, -999.00,9,  -999.0,9,  -999.0,-999.000,9,-999.000,   38.10,2, 2450.20,-999.0000,9,-999.0000,9,-999.0000,9,-999.0000,9,-999.0000,9,-999.0000,-999.000,-999.0000,9, -999.00
318M20040615,        P02,      66,          1,         10,         10,2,20040709,       1937,    30.0007,   168.0858,       5818,  2714.3,   1.5924,  34.6534,2,  34.6543,2, 118.2000,2,   117.3,2,  159.57,2,   38.74,2,    0.00,2,    2.71,2,   0.005,2,   0.002,2,  -0.002,2,  2347.7,2,  2415.9,2,-999.000,9,-999.0000,9, -999.00,9, -999.00,9,  -999.0,9,  -999.0,-999.000,9,-999.000,   38.50,2, 2714.30,-999.0000,9,-999.0000,9,-999.0000,9,-999.0000,9,-999.0000,9,-999.0000,-999.000,-999.0000,9, -999.00
318M20040615,        P02,      66,          1,          9,          9,2,20040709,       1937,    30.0007,   168.0858,       5818,  2964.2,   1.5429,  34.6639,2,  34.6653,2, 128.5000,2,   129.2,2,  155.69,2,   37.82,2,    0.00,2,    2.64,2,   0.002,2,   0.001,2,  -0.002,2,  2340.0,2,  2415.1,2,-999.000,9,-999.0000,9, -999.00,9, -999.00,9,  -999.0,9,  -999.0,-999.000,9,-999.000,   37.50,2, 2964.20,-999.0000,9,-999.0000,9,-999.0000,9,-999.0000,9,-999.0000,9,-999.0000,-999.000,-999.0000,9, -999.00
318M20040615,        P02,      66,          1,          8,          8,2,20040709,       1937,    30.0007,   168.0858,       5818,  3304.0,   1.5065,  34.6726,2,  34.6742,2, 138.8000,2,   138.6,2,  152.72,2,   37.13,2,    0.00,2,    2.60,2,   0.002,2,   0.004,2,  -0.001,2,  2333.9,2,  2415.4,2,-999.000,9,-999.0000,9, -999.00,9, -999.00,9,  -999.0,9,  -999.0,-999.000,9,-999.000,   37.90,2, 3304.00,-999.0000,9,-999.0000,9,-999.0000,9,-999.0000,9,-999.0000,9,-999.0000,-999.000,-999.0000,9, -999.00
318M20040615,        P02,      66,          1,          7,          7,2,20040709,       1937,    30.0007,   168.0858,       5818,  3710.4,   1.4747,  34.6795,2,  34.6811,2, 146.6000,2,   147.6,2,  150.11,2,   36.45,2,    0.00,2,    2.55,2,   0.002,2,   0.002,2,  -0.002,2,  2327.7,2,  2414.6,2,-999.000,9,-999.0000,9, -999.00,9, -999.00,9,  -999.0,9,  -999.0,-999.000,9,-999.000,   37.60,2, 3710.40,-999.0000,9,-999.0000,9,-999.0000,9,-999.0000,9,-999.0000,9,-999.0000,-999.000,-999.0000,9, -999.00
318M20040615,        P02,      66,          1,          6,          6,2,20040709,       1937,    30.0007,   168.0858,       5818,  4124.0,   1.4587,  34.6851,2,  34.6866,2, 154.0000,2,   154.7,2,  147.71,2,   35.99,2,    0.00,2,    2.51,2,   0.005,2,   0.002,2,  -0.003,2,  2321.2,2,  2412.8,2,-999.000,9,-999.0000,9, -999.00,9, -999.00,9,  -999.0,9,  -999.0,-999.000,9,-999.000,   37.70,2, 4124.00,-999.0000,9,-999.0000,9,-999.0000,9,-999.0000,9,-999.0000,9,-999.0000,-999.000,-999.0000,9, -999.00
318M20040615,        P02,      66,          1,          5,          5,2,20040709,       1937,    30.0007,   168.0858,       5818,  4532.0,   1.4563,  34.6894,2,  34.6933,2, 161.1000,3,   161.6,2,  143.82,2,   35.43,2,    0.00,2,    2.47,2,   0.006,2,   0.003,2,  -0.002,2,  2313.6,2,  2409.2,2,-999.000,9,-999.0000,9, -999.00,9, -999.00,9,  -999.0,9,  -999.0,-999.000,9,-999.000,   38.00,2, 4532.00,-999.0000,9,-999.0000,9,-999.0000,9,-999.0000,9,-999.0000,9,-999.0000,-999.000,-999.0000,9, -999.00
318M20040615,        P02,      66,          1,          4,          4,2,20040709,       1937,    30.0007,   168.0858,       5818,  4940.2,   1.4637,  34.6931,2,  34.6951,2, 168.0000,2,   168.4,2,  139.02,2,   34.92,2,    0.00,2,    2.42,2,   0.005,2,   0.002,2,  -0.003,2,  2307.4,2,  2404.6,2,-999.000,9,-999.0000,9, -999.00,9, -999.00,9,  -999.0,9,  -999.0,-999.000,9,-999.000,   37.30,2, 4940.20,-999.0000,9,-999.0000,9,-999.0000,9,-999.0000,9,-999.0000,9,-999.0000,-999.000,-999.0000,9, -999.00
318M20040615,        P02,      66,          1,          3,          3,2,20040709,       1937,    30.0007,   168.0858,       5818,  5359.0,   1.4779,  34.6959,2,  34.6977,2, 173.6000,2,   174.1,2,  135.10,2,   34.47,2,    0.00,2,    2.40,2,   0.004,2,   0.003,2,  -0.003,2,  2302.1,2,  2401.2,2,-999.000,9,-999.0000,9, -999.00,9, -999.00,9,  -999.0,9,  -999.0,-999.000,9,-999.000,   37.70,2, 5359.00,-999.0000,9,-999.0000,9,-999.0000,9,-999.0000,9,-999.0000,9,-999.0000,-999.000,-999.0000,9, -999.00
318M20040615,        P02,      66,          1,          2,          2,2,20040709,       1937,    30.0007,   168.0858,       5818,  5716.9,   1.5066,  34.6971,2,  34.7059,2, 175.8000,3,   175.9,2,  133.60,2,   34.46,2,    0.00,2,    2.38,2,   0.001,2,   0.002,2,  -0.001,2,  2300.1,2,  2398.3,2,-999.000,9,-999.0000,9, -999.00,9, -999.00,9,  -999.0,9,  -999.0,-999.000,9,-999.000,   38.00,2, 5716.90,-999.0000,9,-999.0000,9,-999.0000,9,-999.0000,9,-999.0000,9,-999.0000,-999.000,-999.0000,9, -999.00
318M20040615,        P02,      66,          1,          1,          1,2,20040709,       1937,    30.0007,   168.0858,       5818,  5962.6,   1.5314,  34.6977,2,  34.7014,2, 177.0000,3,   177.6,2,  132.83,2,   34.45,2,    0.00,2,    2.38,2,   0.007,2,   0.004,2,  -0.001,2,  2299.5,6,  2399.9,6,-999.000,9,-999.0000,9, -999.00,9, -999.00,9,  -999.0,9,  -999.0,-999.000,9,-999.000,   38.40,2, 5962.60,-999.0000,9,-999.0000,9,-999.0000,9,-999.0000,9,-999.0000,9,-999.0000,-999.000,-999.0000,9, -999.00