BOTTLE,20131027SIOCCHRJL
EXPOCODE,SECT_ID,STNNBR,CASTNO,SAMPNO,BTLNBR,BTLNBR_FLAG_W,DATE,TIME,LATITUDE,LONGITUDE,DEPTH,CTDPRS,CTDTMP,CTDSAL,CTDSAL_FLAG_W,SALNTY,SALNTY_FLAG_W,CTDOXY,CTDOXY_FLAG_W,OXYGEN,OXYGEN_FLAG_W,SILCAT,SILCAT_FLAG_W,NITRAT,NITRAT_FLAG_W,NITRIT,NITRIT_FLAG_W,PHSPHT,PHSPHT_FLAG_W,CFC-11,CFC-11_FLAG_W,CFC-12,CFC-12_FLAG_W,CFC113,CFC113_FLAG_W,TCARBN,TCARBN_FLAG_W,ALKALI,ALKALI_FLAG_W,TRITUM,TRITUM_FLAG_W,HELIUM,HELIUM_FLAG_W,DELHE3,DELHE3_FLAG_W,DELC13,DELC13_FLAG_W,DELC14,DELC14_FLAG_W,C14ERR,NEON,NEON_FLAG_W,NEONER,DOC,DOC_FLAG_W,CTDRAW,CDOM380,CDOM380_FLAG_W,CDOM325,CDOM325_FLAG_W,CDOMSL,CDOMSL_FLAG_W,CDOM340,CDOM340_FLAG_W,CDOMSN,CDOMSN_FLAG_W,HELIER,TRITER,CDOM412,CDOM412_FLAG_W,DELHER
,,,,,,,,,,,METERS,DBAR,ITS-90,PSS-78,,PSS-78,,UMOL/KG,,UMOL/KG,,UMOL/KG,,UMOL/KG,,UMOL/KG,,UMOL/KG,,PMOL/KG,,PMOL/KG,,PMOL/KG,,UMOL/KG,,UMOL/KG,,TU,,NMOL/KG,,PERCNT,,/MILLE,,/MILLE,,/MILLE,NMOL/KG,,NMOL/KG,UMOL/KG,,DBAR,1/M,,1/M,,1/NM,,1/M,,1/NM,,NMOL/KG,TU,1/M,,PERCNT
318M20040615,        P02,      44,          1,         36,         36,2,20040701,       1828,    30.0003,   152.4038,       5899,    21.2,  24.3377,  35.0472,2,  35.0600,2, 230.8000,2,   223.8,2,    1.39,2,    0.18,2,    0.00,2,    0.04,2,   2.031,2,   1.282,2,   0.148,2,  1983.1,6,  2303.3,6,-999.000,9,-999.0000,9, -999.00,9,    1.12,2,    73.3,2,     4.2,-999.000,9,-999.000,   68.80,2,   21.20,-999.0000,9,-999.0000,9,-999.0000,9,-999.0000,9,-999.0000,9,-999.0000,-999.000,-999.0000,9, -999.00
318M20040615,        P02,      44,          1,         35,         35,2,20040701,       1828,    30.0003,   152.4038,       5899,    35.3,  22.5989,  35.0698,2,  35.0736,2, 229.7000,2,   230.9,2,    1.39,2,    0.18,2,    0.00,2,    0.03,2,   2.128,2,   1.335,2,   0.147,2,  1984.0,2,  2302.9,2,-999.000,9,-999.0000,9, -999.00,9, -999.00,9,  -999.0,9,  -999.0,-999.000,9,-999.000,   65.60,2,   35.30,   0.0180,2,   0.0760,2,   0.0280,2,   0.0490,2,   0.0280,2,-999.0000,-999.000,   0.0090,2, -999.00
318M20040615,        P02,      44,          1,         34,         34,2,20040701,       1828,    30.0003,   152.4038,       5899,    69.8,  20.6571,  35.0656,2,  35.0650,2, 223.7000,2,   226.2,2,    1.55,2,    0.13,2,    0.00,2,    0.04,2,   2.238,2,   1.399,2,   0.147,2,  1996.9,2,  2301.7,2,-999.000,9,-999.0000,9, -999.00,9,    1.02,2,    77.8,2,     4.4,-999.000,9,-999.000,   63.50,2,   69.80,   0.0350,2,   0.1180,2,   0.0220,2,   0.0820,2,   0.0230,2,-999.0000,-999.000,   0.0210,2, -999.00
318M20040615,        P02,      44,          1,         33,         33,2,20040701,       1828,    30.0003,   152.4038,       5899,   119.0,  18.5516,  34.8753,2,  34.8757,2, 220.9000,2,   224.1,2,    2.09,2,    0.39,2,    0.10,2,    0.10,2,   2.409,2,   1.495,2,   0.153,2,  2006.8,2,  2289.9,2,-999.000,9,-999.0000,9, -999.00,9,    0.89,2,    86.5,2,     4.8,-999.000,9,-999.000,   60.60,2,  119.00,   0.0460,2,   0.1220,2,   0.0150,2,   0.0890,2,   0.0170,2,-999.0000,-999.000,   0.0330,2, -999.00
318M20040615,        P02,      44,          1,         32,         32,2,20040701,       1828,    30.0003,   152.4038,       5899,   169.8,  17.5100,  34.7840,2,  34.7864,2, 210.7000,2,   212.1,2,    3.17,2,    3.64,2,    0.02,2,    0.28,2,   2.492,2,   1.521,2,   0.095,2,  2022.5,2,  2284.0,2,-999.000,9,-999.0000,9, -999.00,9,    0.73,2,    82.9,2,     4.3,-999.000,9,-999.000,   58.80,2,  169.80,   0.0770,2,   0.1670,2,   0.0110,2,   0.1280,2,   0.0120,2,-999.0000,-999.000,   0.0600,2, -999.00
318M20040615,        P02,      44,          1,         31,         31,2,20040701,       1828,    30.0003,   152.4038,       5899,   219.7,  17.0862,  34.7792,2,  34.7803,2, 218.2000,2,   218.3,2,    3.70,2,    3.96,2,    0.01,2,    0.29,2,   2.508,2,   1.525,2,   0.110,2,  2022.0,2,  2284.1,2,-999.000,9,-999.0000,9, -999.00,9,    0.75,2,    94.1,2,     4.4,-999.000,9,-999.000,   55.70,2,  219.70,   0.0230,2,   0.0830,2,   0.0250,2,   0.0550,2,   0.0260,2,-999.0000,-999.000,   0.0160,2, -999.00
318M20040615,        P02,      44,          1,         30,         30,2,20040701,       1828,    30.0003,   152.4038,       5899,   270.2,  16.6998,  34.7511,2,  34.7512,2, 212.2000,2,   216.4,2,    4.42,2,    4.75,2,    0.01,2,    0.34,2,   2.535,2,   1.552,2,   0.085,2,  2027.7,2,  2282.8,2,-999.000,9,-999.0000,9, -999.00,9,    0.73,2,    90.5,2,     4.4,-999.000,9,-999.000,   52.50,2,  270.20,   0.0220,2,   0.0790,2,   0.0250,2,   0.0530,2,   0.0260,2,-999.0000,-999.000,   0.0160,2, -999.00
318M20040615,        P02,      44,          1,         29,         29,2,20040701,       1828,    30.0003,   152.4038,       5899,   321.2,  16.2495,  34.7066,2,  34.7054,2, 217.7000,2,   208.1,2,    5.86,2,    6.18,2,    0.01,2,    0.44,2,   2.569,6,   1.529,6,   0.063,6,  2038.0,2,  2279.4,2,-999.000,9,-999.0000,9, -999.00,9,    0.70,2,    78.1,2,     4.4,-999.000,9,-999.000,   50.10,2,  321.20,   0.0190,2,   0.0760,2,   0.0280,2,   0.0490,2,   0.0280,2,-999.0000,-999.000,   0.0130,2, -999.00
318M20040615,        P02,      44,          1,         28,         28,2,20040701,       1828,    30.0003,   152.4038,       5899,   370.5,  15.3986,  34.6241,2,  34.6233,2, 205.7000,2,   198.1,2,    8.02,2,    8.23,2,    0.00,2,    0.59,2,   2.639,2,   1.534,2,   0.040,2,  2055.8,2,  2277.6,2,-999.000,9,-999.0000,9, -999.00,9,    0.42,3,    69.1,2,     4.8,-999.000,9,-999.000,   48.90,2,  370.50,   0.0330,2,   0.0970,2,   0.0190,2,   0.0680,2,   0.0200,2,-999.0000,-999.000,   0.0230,2, -999.00
318M20040615,        P02,      44,          1,         27,         27,2,20040701,       1828,    30.0003,   152.4038,       5899,   460.6,  13.5061,  34.4821,2,  34.4818,2, 195.1000,2,   194.6,2,   12.89,2,   11.51,2,    0.00,2,    0.82,2,   2.734,2,   1.568,2,   0.053,2,  2079.4,2,  2273.4,2,-999.000,9,-999.0000,9, -999.00,9, -999.00,9,  -999.0,9,  -999.0,-999.000,9,-999.000,   48.20,2,  460.60,-999.0000,9,-999.0000,9,-999.0000,9,-999.0000,9,-999.0000,9,-999.0000,-999.000,-999.0000,9, -999.00
318M20040615,        P02,      44,          1,         26,         26,2,20040701,       1828,    30.0003,   152.4038,       5899,   480.1,  13.0967,  34.4484,2,  34.4514,2, 195.7000,2,   196.3,2,   13.60,2,   11.88,2,    0.00,2,    0.86,2,   2.766,2,   1.579,2,   0.056,2,  2082.0,2,  2273.2,2,-999.000,9,-999.0000,9, -999.00,9,    0.54,2,    60.3,2,     4.9,-999.000,9,-999.000,   47.80,2,  480.10,   0.0370,2,   0.1070,2,   0.0180,2,   0.0750,2,   0.0200,2,-999.0000,-999.000,   0.0260,2, -999.00
318M20040615,        P02,      44,          1,         25,         25,2,20040701,       1828,    30.0003,   152.4038,       5899,   550.8,  11.3382,  34.3196,2,  34.3219,2, 189.6000,2,   190.4,2,   20.26,2,   15.54,2,    0.00,2,    1.11,2,   2.755,2,   1.539,2,   0.073,2,  2107.8,2,  2272.3,2,-999.000,9,-999.0000,9, -999.00,9,    0.46,2,    47.1,2,     5.1,-999.000,9,-999.000,   47.40,2,  550.80,-999.0000,9,-999.0000,9,-999.0000,9,-999.0000,9,-999.0000,9,-999.0000,-999.000,-999.0000,9, -999.00
318M20040615,        P02,      44,          1,         24,         24,2,20040701,       1828,    30.0003,   152.4038,       5899,   650.1,   8.7067,  34.1316,2,  34.1315,2, 171.9000,2,   175.9,2,   34.47,2,   21.41,2,    0.00,2,    1.55,2,   2.647,2,   1.433,2,   0.098,2,  2150.3,2,  2275.7,2,-999.000,9,-999.0000,9, -999.00,9,    0.32,2,     4.2,2,     4.1,-999.000,9,-999.000,   45.80,2,  650.10,   0.0440,2,   0.1350,2,   0.0180,2,   0.0940,2,   0.0200,2,-999.0000,-999.000,   0.0300,2, -999.00
318M20040615,        P02,      44,          1,         23,         23,2,20040701,       1828,    30.0003,   152.4038,       5899,   750.7,   6.5113,  34.0398,2,  34.0413,2, 135.7000,2,   136.5,2,   55.85,2,   29.15,2,    0.00,2,    2.11,2,   2.063,2,   1.085,2,   0.082,2,  2209.3,2,  2288.1,2,-999.000,9,-999.0000,9, -999.00,9,    0.09,2,   -51.7,2,     3.6,-999.000,9,-999.000,   44.10,2,  750.70,-999.0000,9,-999.0000,9,-999.0000,9,-999.0000,9,-999.0000,9,-999.0000,-999.000,-999.0000,9, -999.00
318M20040615,        P02,      44,          1,         22,         22,2,20040701,       1828,    30.0003,   152.4038,       5899,   852.2,   5.2308,  34.0792,2,  34.0788,2,  94.3000,2,    94.0,2,   78.31,2,   35.21,2,    0.00,2,    2.55,2,   1.331,2,   0.690,2,   0.056,2,  2262.9,2,  2306.5,2,-999.000,9,-999.0000,9, -999.00,9, -999.00,9,  -999.0,9,  -999.0,-999.000,9,-999.000,   41.90,2,  852.20,   0.0870,2,   0.2120,2,   0.0130,2,   0.1550,2,   0.0140,2,-999.0000,-999.000,   0.0640,2, -999.00
318M20040615,        P02,      44,          1,         21,         21,2,20040701,       1828,    30.0003,   152.4038,       5899,   952.4,   4.4248,  34.1705,2,  34.1707,2,  64.4000,2,    61.4,2,   98.82,2,   39.30,2,    0.00,2,    2.83,2,   0.702,2,   0.364,2,   0.029,2,  2305.6,2,  2328.1,2,-999.000,9,-999.0000,9, -999.00,9,   -0.26,2,  -142.4,2,     3.9,-999.000,9,-999.000,   40.60,2,  952.40,-999.0000,9,-999.0000,9,-999.0000,9,-999.0000,9,-999.0000,9,-999.0000,-999.000,-999.0000,9, -999.00
318M20040615,        P02,      44,          1,         20,         20,2,20040701,       1828,    30.0003,   152.4038,       5899,  1053.0,   3.9773,  34.2525,2,  34.2515,2,  47.4000,2,    45.7,2,  111.82,2,   41.17,2,    0.00,2,    2.96,2,   0.343,2,   0.176,2,   0.014,2,  2328.2,2,  2344.5,2,-999.000,9,-999.0000,9, -999.00,9, -999.00,9,  -999.0,9,  -999.0,-999.000,9,-999.000,   40.50,2, 1053.00,   0.1280,2,   0.2820,2,   0.0120,2,   0.2130,2,   0.0120,2,-999.0000,-999.000,   0.0970,2, -999.00
318M20040615,        P02,      44,          1,         19,         19,2,20040701,       1828,    30.0003,   152.4038,       5899,  1154.7,   3.5873,  34.3312,2,  34.3305,2,  38.8000,2,    37.6,2,  123.59,2,   42.30,2,    0.00,2,    3.03,2,   0.139,2,   0.079,2,   0.009,2,  2349.2,2,  2359.8,2,-999.000,9,-999.0000,9, -999.00,9,   -0.34,2,  -189.9,2,     3.9,-999.000,9,-999.000,   39.70,2, 1154.70,-999.0000,9,-999.0000,9,-999.0000,9,-999.0000,9,-999.0000,9,-999.0000,-999.000,-999.0000,9, -999.00
318M20040615,        P02,      44,          1,         18,         18,2,20040701,       1828,    30.0003,   152.4038,       5899,  1254.1,   3.2424,  34.3887,2,  34.3888,2,  35.7000,2,    35.1,2,  133.38,2,   42.82,2,    0.00,2,    3.07,2,   0.074,2,   0.041,2,   0.003,2,  2361.1,6,  2371.1,6,-999.000,9,-999.0000,9, -999.00,9, -999.00,9,  -999.0,9,  -999.0,-999.000,9,-999.000,   38.70,2, 1254.10,-999.0000,9,-999.0000,9,-999.0000,9,-999.0000,9,-999.0000,9,-999.0000,-999.000,-999.0000,9, -999.00
318M20040615,        P02,      44,          1,         17,         17,2,20040701,       1828,    30.0003,   152.4038,       5899,  1355.9,   2.9913,  34.4365,2,  34.4373,2,  36.6000,2,    38.0,2,  139.92,2,   42.88,2,    0.00,2,    3.07,2,   0.038,2,   0.022,2,   0.000,2,  2366.4,2,  2379.6,2,-999.000,9,-999.0000,9, -999.00,9,   -0.35,2,  -211.8,2,     3.9,-999.000,9,-999.000,   37.70,2, 1355.90,-999.0000,9,-999.0000,9,-999.0000,9,-999.0000,9,-999.0000,9,-999.0000,-999.000,-999.0000,9, -999.00
318M20040615,        P02,      44,          1,         16,         16,2,20040701,       1828,    30.0003,   152.4038,       5899,  1460.0,   2.7623,  34.4717,2,  34.4677,2,  40.9000,2,    40.6,2,  146.65,2,   42.89,2,    0.00,2,    3.07,2,   0.023,2,   0.012,2,   0.002,2,  2370.3,2,  2388.4,2,-999.000,9,-999.0000,9, -999.00,9, -999.00,9,  -999.0,9,  -999.0,-999.000,9,-999.000,   37.60,2, 1460.00,-999.0000,9,-999.0000,9,-999.0000,9,-999.0000,9,-999.0000,9,-999.0000,-999.000,-999.0000,9, -999.00
318M20040615,        P02,      44,          1,         15,         15,2,20040701,       1828,    30.0003,   152.4038,       5899,  1561.6,   2.6129,  34.4987,2,  34.4993,2,  45.1000,2,    45.7,2,  149.54,2,   42.60,2,    0.00,2,    3.04,2,   0.014,2,   0.008,2,   0.000,2,  2371.9,2,  2389.0,6,-999.000,9,-999.0000,9, -999.00,9,   -0.34,2,  -228.9,2,     3.4,-999.000,9,-999.000,   37.90,2, 1561.60,-999.0000,9,-999.0000,9,-999.0000,9,-999.0000,9,-999.0000,9,-999.0000,-999.000,-999.0000,9, -999.00
318M20040615,        P02,      44,          1,         14,         14,2,20040701,       1828,    30.0003,   152.4038,       5899,  1762.8,   2.3045,  34.5443,2,  34.5443,2,  55.0000,2,    55.7,2,  157.04,2,   42.14,2,    0.00,2,    3.00,2,   0.008,2,   0.006,2,   0.003,2,  2374.9,2,  2402.3,2,-999.000,9,-999.0000,9, -999.00,9, -999.00,9,  -999.0,9,  -999.0,-999.000,9,-999.000,   37.40,2, 1762.80,-999.0000,9,-999.0000,9,-999.0000,9,-999.0000,9,-999.0000,9,-999.0000,-999.000,-999.0000,9, -999.00
318M20040615,        P02,      44,          1,         13,         13,9,20040701,       1828,    30.0003,   152.4038,       5899,  1967.0,   2.0451,  34.5858,2,-999.0000,9,  71.0000,9,  -999.0,9, -999.00,9, -999.00,9, -999.00,9, -999.00,9,-999.000,9,-999.000,9,-999.000,9,  -999.0,9,  -999.0,9,-999.000,9,-999.0000,9, -999.00,9, -999.00,9,  -999.0,9,  -999.0,-999.000,9,-999.000,   37.50,9, 1967.00,-999.0000,9,-999.0000,9,-999.0000,9,-999.0000,9,-999.0000,9,-999.0000,-999.000,-999.0000,9, -999.00
318M20040615,        P02,      44,          1,         12,         12,2,20040701,       1828,    30.0003,   152.4038,       5899,  2127.3,   1.9199,  34.6062,2,  34.6056,2,  81.5000,2,    84.0,2,  160.15,2,   40.39,2,    0.00,2,    2.86,2,   0.001,2,   0.002,2,   0.002,2,  2364.4,2,  2412.1,2,-999.000,9,-999.0000,9, -999.00,9, -999.00,9,  -999.0,9,  -999.0,-999.000,9,-999.000,   37.80,2, 2127.30,   0.1170,2,   0.2580,2,   0.0120,2,   0.1920,2,   0.0120,2,-999.0000,-999.000,   0.0900,2, -999.00
318M20040615,        P02,      44,          1,         11,         11,2,20040701,       1828,    30.0003,   152.4038,       5899,  2384.4,   1.7711,  34.6306,2,  34.6311,2,  98.6000,2,   101.0,2,  158.45,2,   39.31,2,    0.00,2,    2.79,2,   0.003,2,   0.001,2,   0.000,2,  2356.3,2,  2415.7,2,-999.000,9,-999.0000,9, -999.00,9, -999.00,9,  -999.0,9,  -999.0,-999.000,9,-999.000,   37.80,2, 2384.40,-999.0000,9,-999.0000,9,-999.0000,9,-999.0000,9,-999.0000,9,-999.0000,-999.000,-999.0000,9, -999.00
318M20040615,        P02,      44,          1,         10,         10,2,20040701,       1828,    30.0003,   152.4038,       5899,  2639.0,   1.6663,  34.6469,2,  34.6480,2, 112.0000,2,   114.2,2,  156.94,2,   38.53,2,    0.00,2,    2.72,2,   0.000,2,  -0.003,2,   0.001,2,  2348.8,2,  2417.8,2,-999.000,9,-999.0000,9, -999.00,9, -999.00,9,  -999.0,9,  -999.0,-999.000,9,-999.000,   37.20,2, 2639.00,-999.0000,9,-999.0000,9,-999.0000,9,-999.0000,9,-999.0000,9,-999.0000,-999.000,-999.0000,9, -999.00
318M20040615,        P02,      44,          1,          9,          9,2,20040701,       1828,    30.0003,   152.4038,       5899,  2891.9,   1.5956,  34.6589,2,  34.6594,2, 124.1000,2,   125.2,2,  154.51,2,   37.91,2,    0.00,2,    2.66,2,   0.000,2,   0.002,2,   0.000,2,  2342.3,2,  2418.1,2,-999.000,9,-999.0000,9, -999.00,9, -999.00,9,  -999.0,9,  -999.0,-999.000,9,-999.000,   37.60,2, 2891.90,-999.0000,9,-999.0000,9,-999.0000,9,-999.0000,9,-999.0000,9,-999.0000,-999.000,-999.0000,9, -999.00
318M20040615,        P02,      44,          1,          8,          8,2,20040701,       1828,    30.0003,   152.4038,       5899,  3145.8,   1.5523,  34.6665,2,  34.6675,2, 132.2000,2,   132.6,2,  153.00,2,   37.52,2,    0.00,2,    2.62,2,   0.002,2,   0.002,2,   0.000,2,  2336.3,2,  2417.4,2,-999.000,9,-999.0000,9, -999.00,9, -999.00,9,  -999.0,9,  -999.0,-999.000,9,-999.000,   38.00,2, 3145.80,   0.0630,2,   0.1630,2,   0.0140,2,   0.1160,2,   0.0160,2,-999.0000,-999.000,   0.0450,2, -999.00
318M20040615,        P02,      44,          1,          7,          7,2,20040701,       1828,    30.0003,   152.4038,       5899,  3563.4,   1.5022,  34.6759,2,  34.6765,2, 141.8000,2,   142.6,2,  151.14,2,   36.90,2,    0.00,2,    2.58,2,   0.002,2,  -0.002,2,   0.002,2,  2331.6,2,  2415.9,2,-999.000,9,-999.0000,9, -999.00,9, -999.00,9,  -999.0,9,  -999.0,-999.000,9,-999.000,   37.60,2, 3563.40,-999.0000,9,-999.0000,9,-999.0000,9,-999.0000,9,-999.0000,9,-999.0000,-999.000,-999.0000,9, -999.00
318M20040615,        P02,      44,          1,          6,          6,2,20040701,       1828,    30.0003,   152.4038,       5899,  3970.9,   1.4789,  34.6822,2,  34.6828,2, 149.6000,2,   149.7,2,  149.10,2,   36.35,2,    0.00,2,    2.54,2,   0.000,2,   0.001,2,   0.002,2,  2325.3,2,  2416.0,6,-999.000,9,-999.0000,9, -999.00,9, -999.00,9,  -999.0,9,  -999.0,-999.000,9,-999.000,   37.70,2, 3970.90,-999.0000,9,-999.0000,9,-999.0000,9,-999.0000,9,-999.0000,9,-999.0000,-999.000,-999.0000,9, -999.00
318M20040615,        P02,      44,          1,          5,          5,2,20040701,       1828,    30.0003,   152.4038,       5899,  4379.2,   1.4745,  34.6869,2,  34.6881,2, 155.1000,3,   155.6,2,  148.15,2,   35.97,2,    0.00,2,    2.50,2,   0.001,2,   0.001,2,   0.001,2,  2321.5,2,  2414.0,2,-999.000,9,-999.0000,9, -999.00,9, -999.00,9,  -999.0,9,  -999.0,-999.000,9,-999.000,   37.20,2, 4379.20,-999.0000,9,-999.0000,9,-999.0000,9,-999.0000,9,-999.0000,9,-999.0000,-999.000,-999.0000,9, -999.00
318M20040615,        P02,      44,          1,          4,          4,2,20040701,       1828,    30.0003,   152.4038,       5899,  4789.3,   1.4885,  34.6902,2,  34.6907,2, 160.3000,2,   160.7,2,  144.46,2,   35.52,2,    0.00,2,    2.47,2,   0.003,2,   0.000,2,   0.000,2,  2316.2,2,  2411.9,2,-999.000,9,-999.0000,9, -999.00,9, -999.00,9,  -999.0,9,  -999.0,-999.000,9,-999.000,   37.30,2, 4789.30,-999.0000,9,-999.0000,9,-999.0000,9,-999.0000,9,-999.0000,9,-999.0000,-999.000,-999.0000,9, -999.00
318M20040615,        P02,      44,          1,          3,          3,2,20040701,       1828,    30.0003,   152.4038,       5899,  5300.7,   1.5186,  34.6932,2,  34.6932,2, 166.1000,2,   166.8,2,  139.87,2,   35.08,2,    0.00,2,    2.45,2,   0.001,2,   0.001,2,   0.002,2,  2310.3,2,  2408.8,2,-999.000,9,-999.0000,9, -999.00,9, -999.00,9,  -999.0,9,  -999.0,-999.000,9,-999.000,   37.50,2, 5300.70,-999.0000,9,-999.0000,9,-999.0000,9,-999.0000,9,-999.0000,9,-999.0000,-999.000,-999.0000,9, -999.00
318M20040615,        P02,      44,          1,          2,          2,2,20040701,       1828,    30.0003,   152.4038,       5899,  5711.1,   1.5544,  34.6948,2,  34.6956,2, 169.1000,3,   169.2,2,  137.64,2,   34.85,2,    0.00,2,    2.42,2,   0.001,2,   0.003,2,   0.001,2,  2306.8,2,  2406.5,2,-999.000,9,-999.0000,9, -999.00,9, -999.00,9,  -999.0,9,  -999.0,-999.000,9,-999.000,   37.60,2, 5711.10,-999.0000,9,-999.0000,9,-999.0000,9,-999.0000,9,-999.0000,9,-999.0000,-999.000,-999.0000,9, -999.00
318M20040615,        P02,      44,          1,          1,          1,2,20040701,       1828,    30.0003,   152.4038,       5899,  6045.8,   1.5922,  34.6952,2,  34.6960,2, 169.9000,3,   170.5,2,  137.06,2,   34.80,2,    0.00,2,    2.45,2,   0.003,2,   0.002,2,   0.000,2,  2307.4,6,  2406.9,6,-999.000,9,-999.0000,9, -999.00,9, -999.00,9,  -999.0,9,  -999.0,-999.000,9,-999.000, -999.00,2, 6045.80,-999.0000,9,-999.0000,9,-999.0000,9,-999.0000,9,-999.0000,9,-999.0000,-999.000,-999.0000,9, -999.00