BOTTLE,20131027SIOCCHRJL
EXPOCODE,SECT_ID,STNNBR,CASTNO,SAMPNO,BTLNBR,BTLNBR_FLAG_W,DATE,TIME,LATITUDE,LONGITUDE,DEPTH,CTDPRS,CTDTMP,CTDSAL,CTDSAL_FLAG_W,SALNTY,SALNTY_FLAG_W,CTDOXY,CTDOXY_FLAG_W,OXYGEN,OXYGEN_FLAG_W,SILCAT,SILCAT_FLAG_W,NITRAT,NITRAT_FLAG_W,NITRIT,NITRIT_FLAG_W,PHSPHT,PHSPHT_FLAG_W,CFC-11,CFC-11_FLAG_W,CFC-12,CFC-12_FLAG_W,CFC113,CFC113_FLAG_W,TCARBN,TCARBN_FLAG_W,ALKALI,ALKALI_FLAG_W,TRITUM,TRITUM_FLAG_W,HELIUM,HELIUM_FLAG_W,DELHE3,DELHE3_FLAG_W,DELC13,DELC13_FLAG_W,DELC14,DELC14_FLAG_W,C14ERR,NEON,NEON_FLAG_W,NEONER,DOC,DOC_FLAG_W,CTDRAW,CDOM380,CDOM380_FLAG_W,CDOM325,CDOM325_FLAG_W,CDOMSL,CDOMSL_FLAG_W,CDOM340,CDOM340_FLAG_W,CDOMSN,CDOMSN_FLAG_W,HELIER,TRITER,CDOM412,CDOM412_FLAG_W,DELHER
,,,,,,,,,,,METERS,DBAR,ITS-90,PSS-78,,PSS-78,,UMOL/KG,,UMOL/KG,,UMOL/KG,,UMOL/KG,,UMOL/KG,,UMOL/KG,,PMOL/KG,,PMOL/KG,,PMOL/KG,,UMOL/KG,,UMOL/KG,,TU,,NMOL/KG,,PERCNT,,/MILLE,,/MILLE,,/MILLE,NMOL/KG,,NMOL/KG,UMOL/KG,,DBAR,1/M,,1/M,,1/NM,,1/M,,1/NM,,NMOL/KG,TU,1/M,,PERCNT
318M20040615,        P02,       5,          1,         21,         21,2,20040617,       1244,     32.123,   133.4437,       1699,     7.4,  23.6301,  34.4721,2,  34.4707,2, 217.6000,2,   217.3,2,    1.07,2,    0.01,2,    0.00,2,    0.06,2,   1.947,2,   1.256,2,   0.131,2,  1955.0,6,  2266.6,2,-999.000,9,-999.0000,9, -999.00,9, -999.00,9,  -999.0,9,  -999.0,-999.000,9,-999.000, -999.00,9,    7.40,-999.0000,9,-999.0000,9,-999.0000,9,-999.0000,9,-999.0000,9,-999.0000,-999.000,-999.0000,9, -999.00
318M20040615,        P02,       5,          1,         20,         20,2,20040617,       1244,     32.123,   133.4437,       1699,    38.5,  22.2037,  34.4876,2,  34.4858,2, 223.3000,2,   222.3,2,    1.61,2,    0.05,2,    0.01,2,    0.07,2,   2.060,2,   1.279,2,   0.133,2,  1963.9,2,  2269.8,2,-999.000,9,-999.0000,9, -999.00,9, -999.00,9,  -999.0,9,  -999.0,-999.000,9,-999.000, -999.00,9,   38.50,-999.0000,9,-999.0000,9,-999.0000,9,-999.0000,9,-999.0000,9,-999.0000,-999.000,-999.0000,9, -999.00
318M20040615,        P02,       5,          1,         19,         19,2,20040617,       1244,     32.123,   133.4437,       1699,    73.7,  19.8196,  34.6683,2,  34.6689,2, 206.3000,2,   207.6,2,    4.15,2,    2.19,2,    0.16,2,    0.23,2,   2.206,2,   1.352,2,   0.106,2,  2006.9,2,  2281.7,2,-999.000,9,-999.0000,9, -999.00,9, -999.00,9,  -999.0,9,  -999.0,-999.000,9,-999.000, -999.00,9,   73.70,-999.0000,9,-999.0000,9,-999.0000,9,-999.0000,9,-999.0000,9,-999.0000,-999.000,-999.0000,9, -999.00
318M20040615,        P02,       5,          1,         18,         18,2,20040617,       1244,     32.123,   133.4437,       1699,   123.8,  17.5726,  34.6944,2,  34.6940,2, 188.2000,2,   188.8,2,    7.78,2,    6.58,2,    0.02,2,    0.49,2,   2.325,2,   1.403,2,   0.067,2,  2043.5,2,  2280.7,2,-999.000,9,-999.0000,9, -999.00,9, -999.00,9,  -999.0,9,  -999.0,-999.000,9,-999.000, -999.00,9,  123.80,-999.0000,9,-999.0000,9,-999.0000,9,-999.0000,9,-999.0000,9,-999.0000,-999.000,-999.0000,9, -999.00
318M20040615,        P02,       5,          1,         17,         17,2,20040617,       1244,     32.123,   133.4437,       1699,   173.5,  15.5292,  34.6222,2,  34.6223,2, 177.7000,2,   179.8,2,   11.22,2,    9.84,2,    0.01,2,    0.70,2,   2.413,2,   1.409,2,   0.027,2,  2071.6,2,  2279.5,2,-999.000,9,-999.0000,9, -999.00,9, -999.00,9,  -999.0,9,  -999.0,-999.000,9,-999.000, -999.00,9,  173.50,-999.0000,9,-999.0000,9,-999.0000,9,-999.0000,9,-999.0000,9,-999.0000,-999.000,-999.0000,9, -999.00
318M20040615,        P02,       5,          1,         16,         16,2,20040617,       1244,     32.123,   133.4437,       1699,   223.1,  13.6549,  34.5171,2,  34.5180,2, 166.4000,2,   167.4,2,   20.13,2,   14.05,2,    0.01,2,    1.01,2,   2.251,2,   1.290,2,   0.037,2,  2102.3,2,  2282.3,2,-999.000,9,-999.0000,9, -999.00,9, -999.00,9,  -999.0,9,  -999.0,-999.000,9,-999.000, -999.00,9,  223.10,-999.0000,9,-999.0000,9,-999.0000,9,-999.0000,9,-999.0000,9,-999.0000,-999.000,-999.0000,9, -999.00
318M20040615,        P02,       5,          1,         15,         15,2,20040617,       1244,     32.123,   133.4437,       1699,   272.9,  12.1743,  34.4418,2,  34.4421,2, 158.8000,2,   157.9,2,   26.87,2,   17.23,2,    0.00,2,    1.28,2,   2.144,2,   1.218,2,   0.037,2,  2127.4,2,  2283.7,2,-999.000,9,-999.0000,9, -999.00,9, -999.00,9,  -999.0,9,  -999.0,-999.000,9,-999.000, -999.00,9,  272.90,-999.0000,9,-999.0000,9,-999.0000,9,-999.0000,9,-999.0000,9,-999.0000,-999.000,-999.0000,9, -999.00
318M20040615,        P02,       5,          1,         14,         14,2,20040617,       1244,     32.123,   133.4437,       1699,   344.1,   9.6670,  34.3453,2,  34.3459,2, 135.6000,2,   134.2,2,   43.85,2,   23.53,2,    0.00,2,    1.71,2,   1.715,2,   0.957,2,   0.033,2,  2177.9,2,  2292.9,2,-999.000,9,-999.0000,9, -999.00,9, -999.00,9,  -999.0,9,  -999.0,-999.000,9,-999.000, -999.00,9,  344.10,-999.0000,9,-999.0000,9,-999.0000,9,-999.0000,9,-999.0000,9,-999.0000,-999.000,-999.0000,9, -999.00
318M20040615,        P02,       5,          1,         13,         13,2,20040617,       1244,     32.123,   133.4437,       1699,   442.9,   7.2903,  34.2878,2,  34.2842,2, 109.8000,2,   107.9,2,   65.67,2,   29.92,2,    0.00,2,    2.19,2,   1.188,2,   0.659,2,   0.024,2,  2232.2,2,  2310.9,2,-999.000,9,-999.0000,9, -999.00,9, -999.00,9,  -999.0,9,  -999.0,-999.000,9,-999.000, -999.00,9,  442.90,-999.0000,9,-999.0000,9,-999.0000,9,-999.0000,9,-999.0000,9,-999.0000,-999.000,-999.0000,9, -999.00
318M20040615,        P02,       5,          1,         12,         12,2,20040617,       1244,     32.123,   133.4437,       1699,   543.4,   5.7675,  34.2710,2,  34.2731,2,  89.4000,2,    86.9,2,   83.35,2,   34.47,2,    0.00,2,    2.50,2,   0.798,2,   0.438,2,   0.020,2,  2271.8,2,  2325.4,2,-999.000,9,-999.0000,9, -999.00,9, -999.00,9,  -999.0,9,  -999.0,-999.000,9,-999.000, -999.00,9,  543.40,-999.0000,9,-999.0000,9,-999.0000,9,-999.0000,9,-999.0000,9,-999.0000,-999.000,-999.0000,9, -999.00
318M20040615,        P02,       5,          1,         11,         11,2,20040617,       1244,     32.123,   133.4437,       1699,   643.2,   4.2569,  34.3488,2,  34.3477,2,  68.2000,2,    67.9,2,  108.87,2,   38.54,2,    0.00,2,    2.78,2,   0.345,2,   0.203,2,   0.014,2,  2316.8,2,  2353.3,2,-999.000,9,-999.0000,9, -999.00,9, -999.00,9,  -999.0,9,  -999.0,-999.000,9,-999.000, -999.00,9,  643.20,-999.0000,9,-999.0000,9,-999.0000,9,-999.0000,9,-999.0000,9,-999.0000,-999.000,-999.0000,9, -999.00
318M20040615,        P02,       5,          1,         10,         10,2,20040617,       1244,     32.123,   133.4437,       1699,   743.0,   3.9915,  34.3774,2,  34.3765,2,  67.1000,2,    67.3,2,  114.79,2,   38.85,2,    0.00,2,    2.82,2,   0.282,2,   0.168,2,   0.013,2,  2325.1,2,  2360.4,2,-999.000,9,-999.0000,9, -999.00,9, -999.00,9,  -999.0,9,  -999.0,-999.000,9,-999.000, -999.00,9,  743.00,-999.0000,9,-999.0000,9,-999.0000,9,-999.0000,9,-999.0000,9,-999.0000,-999.000,-999.0000,9, -999.00
318M20040615,        P02,       5,          1,          9,          9,2,20040617,       1244,     32.123,   133.4437,       1699,   844.9,   3.6125,  34.4122,2,  34.4099,2,  66.5000,2,    66.5,2,  122.04,2,   39.56,2,    0.00,2,    2.85,2,   0.190,2,   0.133,2,   0.008,2,  2333.5,6,  2370.2,2,-999.000,9,-999.0000,9, -999.00,9, -999.00,9,  -999.0,9,  -999.0,-999.000,9,-999.000, -999.00,9,  844.90,-999.0000,9,-999.0000,9,-999.0000,9,-999.0000,9,-999.0000,9,-999.0000,-999.000,-999.0000,9, -999.00
318M20040615,        P02,       5,          1,          8,          8,2,20040617,       1244,     32.123,   133.4437,       1699,   945.4,   3.4624,  34.4271,2,  34.4266,2,  67.2000,2,    66.9,2,  125.93,2,   39.72,2,    0.00,2,    2.86,2,   0.163,2,   0.193,3,   0.016,2,  2337.7,2,  2377.6,2,-999.000,9,-999.0000,9, -999.00,9, -999.00,9,  -999.0,9,  -999.0,-999.000,9,-999.000, -999.00,9,  945.40,-999.0000,9,-999.0000,9,-999.0000,9,-999.0000,9,-999.0000,9,-999.0000,-999.000,-999.0000,9, -999.00
318M20040615,        P02,       5,          1,          7,          7,2,20040617,       1244,     32.123,   133.4437,       1699,  1046.5,   3.2404,  34.4506,2,  34.4519,2,  68.2000,2,    68.7,2,  130.01,2,   39.93,2,    0.00,2,    2.86,2,   0.120,2,   0.085,2,   0.009,2,  2342.3,2,  2378.1,2,-999.000,9,-999.0000,9, -999.00,9, -999.00,9,  -999.0,9,  -999.0,-999.000,9,-999.000, -999.00,9, 1046.50,-999.0000,9,-999.0000,9,-999.0000,9,-999.0000,9,-999.0000,9,-999.0000,-999.000,-999.0000,9, -999.00
318M20040615,        P02,       5,          1,          6,          6,2,20040617,       1244,     32.123,   133.4437,       1699,  1148.2,   3.1443,  34.4614,2,  34.4627,2,  69.3000,2,    69.7,2,  131.85,2,   39.98,2,    0.00,2,    2.88,2,   0.108,2,   0.090,2,   0.010,2,  2343.8,2,  2379.2,3,-999.000,9,-999.0000,9, -999.00,9, -999.00,9,  -999.0,9,  -999.0,-999.000,9,-999.000, -999.00,9, 1148.20,-999.0000,9,-999.0000,9,-999.0000,9,-999.0000,9,-999.0000,9,-999.0000,-999.000,-999.0000,9, -999.00
318M20040615,        P02,       5,          1,          5,          5,2,20040617,       1244,     32.123,   133.4437,       1699,  1242.8,   2.9802,  34.4798,2,  34.4871,2,  71.7000,2,    72.3,2,  134.64,2,   39.98,2,    0.00,2,    2.87,2,   0.083,2,   0.086,2,   0.009,2,  2345.1,2,  2385.2,2,-999.000,9,-999.0000,9, -999.00,9, -999.00,9,  -999.0,9,  -999.0,-999.000,9,-999.000, -999.00,9, 1242.80,-999.0000,9,-999.0000,9,-999.0000,9,-999.0000,9,-999.0000,9,-999.0000,-999.000,-999.0000,9, -999.00
318M20040615,        P02,       5,          1,          4,          4,2,20040617,       1244,     32.123,   133.4437,       1699,  1338.1,   2.8699,  34.4926,2,  34.4934,2,  73.9000,2,    74.3,2,  136.87,2,   39.93,2,    0.00,2,    2.86,2,   0.072,2,   0.061,2,   0.009,2,  2347.6,2,  2387.0,2,-999.000,9,-999.0000,9, -999.00,9, -999.00,9,  -999.0,9,  -999.0,-999.000,9,-999.000, -999.00,9, 1338.10,-999.0000,9,-999.0000,9,-999.0000,9,-999.0000,9,-999.0000,9,-999.0000,-999.000,-999.0000,9, -999.00
318M20040615,        P02,       5,          1,          3,          3,2,20040617,       1244,     32.123,   133.4437,       1699,  1439.1,   2.7679,  34.5044,2,  34.5032,2,  76.4000,2,    76.5,2,  138.34,2,   39.92,2,    0.00,2,    2.86,2,   0.060,6,   0.058,6,   0.013,6,  2348.6,2,  2390.6,2,-999.000,9,-999.0000,9, -999.00,9, -999.00,9,  -999.0,9,  -999.0,-999.000,9,-999.000, -999.00,9, 1439.10,-999.0000,9,-999.0000,9,-999.0000,9,-999.0000,9,-999.0000,9,-999.0000,-999.000,-999.0000,9, -999.00
318M20040615,        P02,       5,          1,          2,          2,2,20040617,       1244,     32.123,   133.4437,       1699,  1540.5,   2.4376,  34.5434,2,  34.5429,2,  83.0000,2,    86.2,2,  142.43,2,   39.59,2,    0.00,2,    2.83,2,   0.035,2,   0.059,2,   0.016,2,  2349.5,2,  2396.5,2,-999.000,9,-999.0000,9, -999.00,9, -999.00,9,  -999.0,9,  -999.0,-999.000,9,-999.000, -999.00,9, 1540.50,-999.0000,9,-999.0000,9,-999.0000,9,-999.0000,9,-999.0000,9,-999.0000,-999.000,-999.0000,9, -999.00
318M20040615,        P02,       5,          1,          1,          1,2,20040617,       1244,     32.123,   133.4437,       1699,  1697.1,   2.2583,  34.5668,2,  34.5657,2,  94.0000,2,    94.1,2,  144.48,2,   39.27,2,    0.00,2,    2.80,2,-999.000,5,-999.000,5,-999.000,5,  2349.5,2,  2401.7,6,-999.000,9,-999.0000,9, -999.00,9, -999.00,9,  -999.0,9,  -999.0,-999.000,9,-999.000, -999.00,9, 1697.10,-999.0000,9,-999.0000,9,-999.0000,9,-999.0000,9,-999.0000,9,-999.0000,-999.000,-999.0000,9, -999.00