BOTTLE,20131027SIOCCHRJL
EXPOCODE,SECT_ID,STNNBR,CASTNO,SAMPNO,BTLNBR,BTLNBR_FLAG_W,DATE,TIME,LATITUDE,LONGITUDE,DEPTH,CTDPRS,CTDTMP,CTDSAL,CTDSAL_FLAG_W,SALNTY,SALNTY_FLAG_W,CTDOXY,CTDOXY_FLAG_W,OXYGEN,OXYGEN_FLAG_W,SILCAT,SILCAT_FLAG_W,NITRAT,NITRAT_FLAG_W,NITRIT,NITRIT_FLAG_W,PHSPHT,PHSPHT_FLAG_W,CFC-11,CFC-11_FLAG_W,CFC-12,CFC-12_FLAG_W,CFC113,CFC113_FLAG_W,TCARBN,TCARBN_FLAG_W,ALKALI,ALKALI_FLAG_W,TRITUM,TRITUM_FLAG_W,HELIUM,HELIUM_FLAG_W,DELHE3,DELHE3_FLAG_W,DELC13,DELC13_FLAG_W,DELC14,DELC14_FLAG_W,C14ERR,NEON,NEON_FLAG_W,NEONER,DOC,DOC_FLAG_W,CTDRAW,CDOM380,CDOM380_FLAG_W,CDOM325,CDOM325_FLAG_W,CDOMSL,CDOMSL_FLAG_W,CDOM340,CDOM340_FLAG_W,CDOMSN,CDOMSN_FLAG_W,HELIER,TRITER,CDOM412,CDOM412_FLAG_W,DELHER
,,,,,,,,,,,METERS,DBAR,ITS-90,PSS-78,,PSS-78,,UMOL/KG,,UMOL/KG,,UMOL/KG,,UMOL/KG,,UMOL/KG,,UMOL/KG,,PMOL/KG,,PMOL/KG,,PMOL/KG,,UMOL/KG,,UMOL/KG,,TU,,NMOL/KG,,PERCNT,,/MILLE,,/MILLE,,/MILLE,NMOL/KG,,NMOL/KG,UMOL/KG,,DBAR,1/M,,1/M,,1/NM,,1/M,,1/NM,,NMOL/KG,TU,1/M,,PERCNT
318M20040615,        P02,      11,          1,         31,         31,2,20040618,       2232,    31.3145,   133.9402,       4578,     8.3,  25.9673,  34.7226,2,  34.7250,2, 206.2000,2,   205.4,2,    0.75,2,    0.10,2,    0.00,2,    0.01,2,   1.783,2,   1.056,2,   0.111,2,  1952.3,6,  2278.7,2,   0.732,2,   1.7442,2,   -1.31,2, -999.00,9,  -999.0,9,  -999.0,-999.000,9,-999.000, -999.00,9,    8.30,-999.0000,9,-999.0000,9,-999.0000,9,-999.0000,9,-999.0000,9,   0.0087,   0.005,-999.0000,9,    0.20
318M20040615,        P02,      11,          1,         30,         30,2,20040618,       2232,    31.3145,   133.9402,       4578,    37.8,  25.9705,  34.7227,2,  34.7232,2, 207.0000,2,   205.4,2,    0.75,2,    0.10,2,    0.00,2,    0.00,2,   1.754,2,   1.067,2,   0.115,2,  1952.7,2,  2279.4,2,-999.000,9,-999.0000,9, -999.00,9, -999.00,9,  -999.0,9,  -999.0,-999.000,9,-999.000, -999.00,9,   37.80,-999.0000,9,-999.0000,9,-999.0000,9,-999.0000,9,-999.0000,9,-999.0000,-999.000,-999.0000,9, -999.00
318M20040615,        P02,      11,          1,         29,         29,2,20040618,       2232,    31.3145,   133.9402,       4578,    66.6,  23.7342,  34.8777,2,  34.8767,2, 217.6000,2,   217.2,2,    0.94,2,    0.10,2,    0.00,2,    0.00,2,   1.962,2,   1.141,2,   0.168,3,  -999.0,9,  2288.9,2,   0.749,2,   1.7558,2,   -1.39,2, -999.00,9,  -999.0,9,  -999.0,-999.000,9,-999.000, -999.00,9,   66.60,-999.0000,9,-999.0000,9,-999.0000,9,-999.0000,9,-999.0000,9,   0.0088,   0.005,-999.0000,9,    0.20
318M20040615,        P02,      11,          1,         28,         28,2,20040618,       2232,    31.3145,   133.9402,       4578,   121.7,  20.8806,  34.9123,2,  34.9105,2, 206.8000,2,   209.9,2,    1.31,2,    0.39,2,    0.15,2,    0.06,2,   2.166,2,   1.238,2,   0.103,2,  1996.2,2,  2290.9,2,   0.768,2,   1.7572,2,   -1.35,2, -999.00,9,  -999.0,9,  -999.0,-999.000,9,-999.000, -999.00,9,  121.70,-999.0000,9,-999.0000,9,-999.0000,9,-999.0000,9,-999.0000,9,   0.0088,   0.006,-999.0000,9,    0.20
318M20040615,        P02,      11,          1,         27,         27,2,20040618,       2232,    31.3145,   133.9402,       4578,   177.1,  19.4909,  34.8644,2,  34.8666,2, 200.3000,2,   204.1,2,    2.23,2,    2.41,2,    0.02,2,    0.18,2,   2.269,2,   1.283,2,   0.079,2,  -999.0,9,  2287.7,2,   0.824,2,   1.7538,2,   -0.82,2, -999.00,9,  -999.0,9,  -999.0,-999.000,9,-999.000, -999.00,9,  177.10,-999.0000,9,-999.0000,9,-999.0000,9,-999.0000,9,-999.0000,9,   0.0088,   0.005,-999.0000,9,    0.20
318M20040615,        P02,      11,          1,         26,         26,2,20040618,       2232,    31.3145,   133.9402,       4578,   226.4,  18.1328,  34.7281,2,  34.7264,2, 192.7000,2,   180.6,2,    7.35,2,    6.84,2,    0.01,2,    0.50,2,   2.274,2,   1.256,2,   0.042,2,  -999.0,9,  2284.9,2,   0.767,2,   1.7886,2,    1.49,2, -999.00,9,  -999.0,9,  -999.0,-999.000,9,-999.000, -999.00,9,  226.40,-999.0000,9,-999.0000,9,-999.0000,9,-999.0000,9,-999.0000,9,   0.0089,   0.007,-999.0000,9,    0.20
318M20040615,        P02,      11,          1,         25,         25,2,20040618,       2232,    31.3145,   133.9402,       4578,   276.2,  15.8409,  34.5936,2,  34.5941,2, 186.3000,2,   174.7,2,   14.89,2,   10.67,2,    0.01,2,    0.79,2,   2.259,2,   1.230,2,   0.050,2,  2074.6,2,  2282.4,2,   0.768,2,   1.7897,2,    3.28,2, -999.00,9,  -999.0,9,  -999.0,-999.000,9,-999.000, -999.00,9,  276.20,-999.0000,9,-999.0000,9,-999.0000,9,-999.0000,9,-999.0000,9,   0.0089,   0.006,-999.0000,9,    0.20
318M20040615,        P02,      11,          1,         24,         24,9,20040618,       2232,    31.3145,   133.9402,       4578,   368.7,  12.4027,  34.4250,2,-999.0000,9, 171.3000,9,  -999.0,9, -999.00,9, -999.00,9, -999.00,9, -999.00,9,-999.000,9,-999.000,9,-999.000,9,  -999.0,9,  -999.0,9,-999.000,9,-999.0000,9, -999.00,9, -999.00,9,  -999.0,9,  -999.0,-999.000,9,-999.000, -999.00,9,  368.70,-999.0000,9,-999.0000,9,-999.0000,9,-999.0000,9,-999.0000,9,-999.0000,-999.000,-999.0000,9, -999.00
318M20040615,        P02,      11,          1,         23,         23,2,20040618,       2232,    31.3145,   133.9402,       4578,   468.4,   9.8485,  34.2998,2,  34.2896,2, 154.0000,2,   149.8,2,   35.87,2,   21.79,2,    0.00,2,    1.58,2,   2.070,2,   1.062,2,   0.040,2,  2158.7,2,  2283.9,2,   0.760,2,   1.8317,2,   10.48,2, -999.00,9,  -999.0,9,  -999.0,-999.000,9,-999.000, -999.00,9,  468.40,-999.0000,9,-999.0000,9,-999.0000,9,-999.0000,9,-999.0000,9,   0.0092,   0.006,-999.0000,9,    0.20
318M20040615,        P02,      11,          1,         22,         22,2,20040618,       2232,    31.3145,   133.9402,       4578,   560.8,   7.9313,  34.3296,2,  34.3312,2, 113.6000,2,   113.0,2,   61.76,2,   28.43,2,    0.00,2,    2.07,2,   1.252,2,   0.651,2,   0.023,2,  -999.0,9,  2310.2,2,   0.496,2,   1.8823,2,   15.02,2, -999.00,9,  -999.0,9,  -999.0,-999.000,9,-999.000, -999.00,9,  560.80,-999.0000,9,-999.0000,9,-999.0000,9,-999.0000,9,-999.0000,9,   0.0094,   0.005,-999.0000,9,    0.20
318M20040615,        P02,      11,          1,         21,         21,2,20040618,       2232,    31.3145,   133.9402,       4578,   662.5,   6.0056,  34.2989,2,  34.3021,2,  88.6000,2,    90.6,2,   82.02,2,   33.75,2,    0.00,2,    2.47,2,   0.807,2,   0.409,2,   0.015,2,  2266.2,2,  2325.7,2,   0.359,2,   1.8772,2,   16.79,2, -999.00,9,  -999.0,9,  -999.0,-999.000,9,-999.000, -999.00,9,  662.50,-999.0000,9,-999.0000,9,-999.0000,9,-999.0000,9,-999.0000,9,   0.0094,   0.004,-999.0000,9,    0.20
318M20040615,        P02,      11,          1,         20,         20,2,20040618,       2232,    31.3145,   133.9402,       4578,   763.6,   4.6764,  34.3129,2,  34.3136,2,  69.9000,2,    71.2,2,  100.13,2,   37.68,2,    0.00,2,    2.75,2,   0.460,2,   0.229,2,   0.011,2,  -999.0,9,  2342.9,2,   0.224,2,   1.8923,2,   16.81,2, -999.00,9,  -999.0,9,  -999.0,-999.000,9,-999.000, -999.00,9,  763.60,-999.0000,9,-999.0000,9,-999.0000,9,-999.0000,9,-999.0000,9,   0.0095,   0.003,-999.0000,9,    0.20
318M20040615,        P02,      11,          1,         19,         19,2,20040618,       2232,    31.3145,   133.9402,       4578,   875.3,   4.0092,  34.3758,2,  34.3746,2,  63.7000,2,    66.3,2,  113.40,2,   39.14,2,    0.00,2,    2.85,2,   0.265,2,   0.129,2,   0.007,2,  2324.0,2,  2358.4,2,   0.143,2,   1.9124,2,   16.95,2, -999.00,9,  -999.0,9,  -999.0,-999.000,9,-999.000, -999.00,9,  875.30,-999.0000,9,-999.0000,9,-999.0000,9,-999.0000,9,-999.0000,9,   0.0096,   0.002,-999.0000,9,    0.20
318M20040615,        P02,      11,          1,         18,         18,2,20040618,       2232,    31.3145,   133.9402,       4578,   969.1,   3.6372,  34.4065,2,  34.4072,2,  65.1000,2,    64.3,2,  120.89,2,   39.87,2,    0.00,2,    2.90,2,   0.187,2,   0.095,2,   0.009,2,  2334.2,2,  2366.1,2,-999.000,9,-999.0000,9, -999.00,9, -999.00,9,  -999.0,9,  -999.0,-999.000,9,-999.000, -999.00,9,  969.10,-999.0000,9,-999.0000,9,-999.0000,9,-999.0000,9,-999.0000,9,-999.0000,-999.000,-999.0000,9, -999.00
318M20040615,        P02,      11,          1,         17,         17,2,20040618,       2232,    31.3145,   133.9402,       4578,  1082.7,   3.2285,  34.4549,2,  34.4574,2,  68.3000,2,    68.5,2,  129.16,2,   40.03,2,    0.00,2,    2.91,2,   0.101,2,   0.051,2,  -0.002,2,  2342.1,2,  2376.9,2,   0.066,2,   1.9161,2,   17.90,2, -999.00,9,  -999.0,9,  -999.0,-999.000,9,-999.000, -999.00,9, 1082.70,-999.0000,9,-999.0000,9,-999.0000,9,-999.0000,9,-999.0000,9,   0.0096,   0.001,-999.0000,9,    0.20
318M20040615,        P02,      11,          1,         16,         16,2,20040618,       2232,    31.3145,   133.9402,       4578,  1165.7,   3.0497,  34.4738,2,  34.4772,2,  70.5000,2,    70.5,2,  132.35,2,   40.08,2,    0.00,2,    2.91,2,-999.000,9,-999.000,9,-999.000,9,  2343.9,6,  2383.1,2,-999.000,9,-999.0000,9, -999.00,9, -999.00,9,  -999.0,9,  -999.0,-999.000,9,-999.000, -999.00,9, 1165.70,-999.0000,9,-999.0000,9,-999.0000,9,-999.0000,9,-999.0000,9,-999.0000,-999.000,-999.0000,9, -999.00
318M20040615,        P02,      11,          1,         15,         15,2,20040618,       2232,    31.3145,   133.9402,       4578,  1294.2,   2.8550,  34.4952,2,  34.5007,2,  73.9000,2,    74.1,2,  135.74,2,   40.07,2,    0.00,2,    2.90,2,   0.067,2,   0.030,2,   0.002,2,  -999.0,9,  2386.4,2,   0.042,2,   1.9190,2,   18.08,2, -999.00,9,  -999.0,9,  -999.0,-999.000,9,-999.000, -999.00,9, 1294.20,-999.0000,9,-999.0000,9,-999.0000,9,-999.0000,9,-999.0000,9,   0.0096,   0.002,-999.0000,9,    0.20
318M20040615,        P02,      11,          1,         14,         14,2,20040618,       2232,    31.3145,   133.9402,       4578,  1394.2,   2.7174,  34.5109,2,  34.5120,2,  76.6000,2,    77.3,2,  138.17,2,   39.96,2,    0.00,2,    2.89,2,-999.000,9,-999.000,9,-999.000,9,  -999.0,9,  2392.9,2,-999.000,9,-999.0000,9, -999.00,9, -999.00,9,  -999.0,9,  -999.0,-999.000,9,-999.000, -999.00,9, 1394.20,-999.0000,9,-999.0000,9,-999.0000,9,-999.0000,9,-999.0000,9,-999.0000,-999.000,-999.0000,9, -999.00
318M20040615,        P02,      11,          1,         13,         13,2,20040618,       2232,    31.3145,   133.9402,       4578,  1471.5,   2.6509,  34.5193,2,  34.5196,2,  78.8000,2,    79.4,2,  139.11,2,   39.90,2,    0.00,2,    2.89,2,   0.064,2,   0.033,2,   0.006,2,  -999.0,9,  2393.9,2,   0.036,2,   1.9216,2,   18.55,2, -999.00,9,  -999.0,9,  -999.0,-999.000,9,-999.000, -999.00,9, 1471.50,-999.0000,9,-999.0000,9,-999.0000,9,-999.0000,9,-999.0000,9,   0.0096,   0.001,-999.0000,9,    0.20
318M20040615,        P02,      11,          1,         12,         12,2,20040618,       2232,    31.3145,   133.9402,       4578,  1553.0,   2.5645,  34.5300,2,  34.5296,2,  82.7000,2,    82.1,2,  140.42,2,   39.84,2,    0.00,2,    2.86,2,-999.000,9,-999.000,9,-999.000,9,  -999.0,9,  2395.7,2,-999.000,9,-999.0000,9, -999.00,9, -999.00,9,  -999.0,9,  -999.0,-999.000,9,-999.000, -999.00,9, 1553.00,-999.0000,9,-999.0000,9,-999.0000,9,-999.0000,9,-999.0000,9,-999.0000,-999.000,-999.0000,9, -999.00
318M20040615,        P02,      11,          1,         11,         11,2,20040618,       2232,    31.3145,   133.9402,       4578,  1717.2,   2.3500,  34.5584,2,  34.5585,2,  89.8000,2,    91.2,2,  142.68,2,   39.41,2,    0.00,2,    2.82,2,   0.049,2,   0.027,2,   0.004,2,  -999.0,9,  2400.7,2,   0.024,2,   1.5867,2,   18.67,2, -999.00,9,  -999.0,9,  -999.0,-999.000,9,-999.000, -999.00,9, 1717.20,-999.0000,9,-999.0000,9,-999.0000,9,-999.0000,9,-999.0000,9,   0.0079,   0.001,-999.0000,9,    0.20
318M20040615,        P02,      11,          1,         10,         10,2,20040618,       2232,    31.3145,   133.9402,       4578,  1902.2,   2.1346,  34.5860,2,  34.5879,2, 100.4000,2,   101.2,2,  144.55,2,   38.93,2,    0.00,2,    2.78,2,-999.000,9,-999.000,9,-999.000,9,  -999.0,9,  2403.0,2,   0.010,2,   1.9274,2,   19.23,2, -999.00,9,  -999.0,9,  -999.0,-999.000,9,-999.000, -999.00,9, 1902.20,-999.0000,9,-999.0000,9,-999.0000,9,-999.0000,9,-999.0000,9,   0.0096,   0.001,-999.0000,9,    0.20
318M20040615,        P02,      11,          1,          9,          9,2,20040618,       2232,    31.3145,   133.9402,       4578,  2118.8,   1.9901,  34.6074,2,  34.6073,2, 108.8000,2,   110.7,2,  145.12,2,   38.40,2,    0.00,2,    2.73,2,   0.031,2,   0.018,2,   0.003,2,  -999.0,9,  2407.9,2,-999.000,9,-999.0000,9, -999.00,9, -999.00,9,  -999.0,9,  -999.0,-999.000,9,-999.000, -999.00,9, 2118.80,-999.0000,9,-999.0000,9,-999.0000,9,-999.0000,9,-999.0000,9,-999.0000,-999.000,-999.0000,9, -999.00
318M20040615,        P02,      11,          1,          8,          8,2,20040618,       2232,    31.3145,   133.9402,       4578,  2346.3,   1.8824,  34.6256,2,  34.6259,2, 119.7000,2,   120.6,2,  143.80,2,   37.82,2,    0.00,2,    2.68,2,-999.000,9,-999.000,9,-999.000,9,  -999.0,9,  2409.8,2,-999.000,9,-999.0000,9, -999.00,9, -999.00,9,  -999.0,9,  -999.0,-999.000,9,-999.000, -999.00,9, 2346.30,-999.0000,9,-999.0000,9,-999.0000,9,-999.0000,9,-999.0000,9,-999.0000,-999.000,-999.0000,9, -999.00
318M20040615,        P02,      11,          1,          7,          7,2,20040618,       2232,    31.3145,   133.9402,       4578,  2630.2,   1.7461,  34.6438,2,  34.6445,2, 128.9000,2,   129.8,2,  144.36,2,   37.29,2,    0.00,2,    2.64,2,   0.018,2,   0.013,2,   0.005,2,  -999.0,9,  2412.1,2,   0.010,2,-999.0000,9, -999.00,9, -999.00,9,  -999.0,9,  -999.0,-999.000,9,-999.000, -999.00,9, 2630.20,-999.0000,9,-999.0000,9,-999.0000,9,-999.0000,9,-999.0000,9,-999.0000,   0.001,-999.0000,9, -999.00
318M20040615,        P02,      11,          1,          6,          6,2,20040618,       2232,    31.3145,   133.9402,       4578,  2904.9,   1.6534,  34.6569,2,  34.6563,2, 136.7000,2,   137.1,2,  144.35,2,   36.81,2,    0.00,2,    2.61,2,-999.000,9,-999.000,9,-999.000,9,  -999.0,9,  2413.2,2,-999.000,9,-999.0000,9, -999.00,9, -999.00,9,  -999.0,9,  -999.0,-999.000,9,-999.000, -999.00,9, 2904.90,-999.0000,9,-999.0000,9,-999.0000,9,-999.0000,9,-999.0000,9,-999.0000,-999.000,-999.0000,9, -999.00
318M20040615,        P02,      11,          1,          5,          5,2,20040618,       2232,    31.3145,   133.9402,       4578,  3143.2,   1.5820,  34.6674,2,  34.6684,2, 143.8000,2,   143.9,2,  143.40,2,   36.43,2,    0.00,2,    2.57,2,   0.023,2,   0.012,2,   0.006,2,  -999.0,9,  2415.2,2,-999.000,9,-999.0000,9, -999.00,9, -999.00,9,  -999.0,9,  -999.0,-999.000,9,-999.000, -999.00,9, 3143.20,-999.0000,9,-999.0000,9,-999.0000,9,-999.0000,9,-999.0000,9,-999.0000,-999.000,-999.0000,9, -999.00
318M20040615,        P02,      11,          1,          4,          4,2,20040618,       2232,    31.3145,   133.9402,       4578,  3564.5,   1.5315,  34.6776,2,  34.6786,2, 150.1000,2,   150.8,2,  142.82,2,   35.96,2,    0.00,2,    2.54,2,-999.000,9,-999.000,9,-999.000,9,  -999.0,9,  2415.1,2,-999.000,9,-999.0000,9, -999.00,9, -999.00,9,  -999.0,9,  -999.0,-999.000,9,-999.000, -999.00,9, 3564.50,-999.0000,9,-999.0000,9,-999.0000,9,-999.0000,9,-999.0000,9,-999.0000,-999.000,-999.0000,9, -999.00
318M20040615,        P02,      11,          1,          3,          3,2,20040618,       2232,    31.3145,   133.9402,       4578,  3961.0,   1.5433,  34.6809,2,  34.6831,2, 152.3000,3,   153.3,2,  142.26,2,   35.80,2,    0.00,2,    2.53,2,   0.040,2,   0.018,2,   0.008,2,  -999.0,9,  2414.6,2,-999.000,9,-999.0000,9, -999.00,9, -999.00,9,  -999.0,9,  -999.0,-999.000,9,-999.000, -999.00,9, 3961.00,-999.0000,9,-999.0000,9,-999.0000,9,-999.0000,9,-999.0000,9,-999.0000,-999.000,-999.0000,9, -999.00
318M20040615,        P02,      11,          1,          2,          2,2,20040618,       2232,    31.3145,   133.9402,       4578,  4362.9,   1.5768,  34.6821,2,  34.6825,2, 153.3000,2,   154.2,2,  142.07,2,   35.74,2,    0.00,2,    2.52,2,-999.000,9,-999.000,9,-999.000,9,  -999.0,9,  2413.6,2,-999.000,9,-999.0000,9, -999.00,9, -999.00,9,  -999.0,9,  -999.0,-999.000,9,-999.000, -999.00,9, 4362.90,-999.0000,9,-999.0000,9,-999.0000,9,-999.0000,9,-999.0000,9,-999.0000,-999.000,-999.0000,9, -999.00
318M20040615,        P02,      11,          1,          1,          1,2,20040618,       2232,    31.3145,   133.9402,       4578,  4659.9,   1.6021,  34.6830,2,  34.6824,2, 154.3000,2,   155.0,2,  141.69,2,   35.74,2,    0.00,2,    2.58,3,   0.038,2,   0.015,2,   0.003,2,  -999.0,9,  2414.7,6,-999.000,9,-999.0000,9, -999.00,9, -999.00,9,  -999.0,9,  -999.0,-999.000,9,-999.000, -999.00,9, 4659.90,-999.0000,9,-999.0000,9,-999.0000,9,-999.0000,9,-999.0000,9,-999.0000,-999.000,-999.0000,9, -999.00