BOTTLE,20131027SIOCCHRJL
EXPOCODE,SECT_ID,STNNBR,CASTNO,SAMPNO,BTLNBR,BTLNBR_FLAG_W,DATE,TIME,LATITUDE,LONGITUDE,DEPTH,CTDPRS,CTDTMP,CTDSAL,CTDSAL_FLAG_W,SALNTY,SALNTY_FLAG_W,CTDOXY,CTDOXY_FLAG_W,OXYGEN,OXYGEN_FLAG_W,SILCAT,SILCAT_FLAG_W,NITRAT,NITRAT_FLAG_W,NITRIT,NITRIT_FLAG_W,PHSPHT,PHSPHT_FLAG_W,CFC-11,CFC-11_FLAG_W,CFC-12,CFC-12_FLAG_W,CFC113,CFC113_FLAG_W,TCARBN,TCARBN_FLAG_W,ALKALI,ALKALI_FLAG_W,TRITUM,TRITUM_FLAG_W,HELIUM,HELIUM_FLAG_W,DELHE3,DELHE3_FLAG_W,DELC13,DELC13_FLAG_W,DELC14,DELC14_FLAG_W,C14ERR,NEON,NEON_FLAG_W,NEONER,DOC,DOC_FLAG_W,CTDRAW,CDOM380,CDOM380_FLAG_W,CDOM325,CDOM325_FLAG_W,CDOMSL,CDOMSL_FLAG_W,CDOM340,CDOM340_FLAG_W,CDOMSN,CDOMSN_FLAG_W,HELIER,TRITER,CDOM412,CDOM412_FLAG_W,DELHER
,,,,,,,,,,,METERS,DBAR,ITS-90,PSS-78,,PSS-78,,UMOL/KG,,UMOL/KG,,UMOL/KG,,UMOL/KG,,UMOL/KG,,UMOL/KG,,PMOL/KG,,PMOL/KG,,PMOL/KG,,UMOL/KG,,UMOL/KG,,TU,,NMOL/KG,,PERCNT,,/MILLE,,/MILLE,,/MILLE,NMOL/KG,,NMOL/KG,UMOL/KG,,DBAR,1/M,,1/M,,1/NM,,1/M,,1/NM,,NMOL/KG,TU,1/M,,PERCNT
318M20040615,        P02,      76,          1,         36,         36,2,20040712,       2337,     30.001,   174.6297,       5348,     9.6,  25.9447,  35.2315,2,  35.2252,2, 208.3000,2,   207.5,2,    0.96,2,    0.09,2,    0.01,2,    0.01,2,   1.754,2,   1.086,2,   0.136,2,  1992.9,6,  2315.0,6,-999.000,9,-999.0000,9, -999.00,9, -999.00,9,  -999.0,9,  -999.0,-999.000,9,-999.000,   68.50,2,    9.60,   0.0040,3,   0.0390,2,   0.0330,2,   0.0230,2,   0.0310,2,-999.0000,-999.000,   0.0000,4, -999.00
318M20040615,        P02,      76,          1,         35,         35,2,20040712,       2337,     30.001,   174.6297,       5348,    56.2,  19.6562,  34.9784,2,  34.9681,2, 240.0000,2,   239.9,2,    1.49,2,    0.09,2,    0.00,2,    0.04,2,   2.321,2,   1.408,2,   0.165,2,  1996.1,2,  2297.9,2,-999.000,9,-999.0000,9, -999.00,9, -999.00,9,  -999.0,9,  -999.0,-999.000,9,-999.000,   63.60,2,   56.20,   0.0320,2,   0.1140,2,   0.0230,2,   0.0780,2,   0.0240,2,-999.0000,-999.000,   0.0190,2, -999.00
318M20040615,        P02,      76,          1,         34,         34,2,20040712,       2337,     30.001,   174.6297,       5348,   130.6,  17.2029,  34.7776,2,  34.7760,2, 217.2000,2,   221.5,2,    2.86,2,    3.27,2,    0.06,2,    0.23,2,   2.474,2,   1.463,2,   0.142,2,  2013.8,2,  2283.9,2,-999.000,9,-999.0000,9, -999.00,9, -999.00,9,  -999.0,9,  -999.0,-999.000,9,-999.000,   58.20,2,  130.60,   0.0670,2,   0.1530,2,   0.0120,2,   0.1160,2,   0.0130,2,-999.0000,-999.000,   0.0500,2, -999.00
318M20040615,        P02,      76,          1,         33,         33,2,20040712,       2337,     30.001,   174.6297,       5348,   205.1,  16.4458,  34.7258,2,  34.7237,2, 220.4000,2,   224.5,2,    3.73,2,    4.23,2,    0.01,2,    0.30,2,   2.534,6,   1.505,6,   0.131,6,  2020.0,2,  2281.7,2,-999.000,9,-999.0000,9, -999.00,9, -999.00,9,  -999.0,9,  -999.0,-999.000,9,-999.000,   54.10,2,  205.10,   0.0430,2,   0.1100,2,   0.0140,2,   0.0810,2,   0.0160,2,-999.0000,-999.000,   0.0320,2, -999.00
318M20040615,        P02,      76,          1,         32,         32,2,20040712,       2337,     30.001,   174.6297,       5348,   255.3,  15.8826,  34.6758,2,  34.6686,2, 219.4000,2,   219.5,2,    5.12,2,    5.62,2,    0.01,2,    0.39,2,   2.571,2,   1.504,2,   0.102,2,  2031.6,2,  2279.9,2,-999.000,9,-999.0000,9, -999.00,9, -999.00,9,  -999.0,9,  -999.0,-999.000,9,-999.000,   52.70,2,  255.30,   0.0370,2,   0.0980,2,   0.0170,2,   0.0710,2,   0.0180,2,-999.0000,-999.000,   0.0260,2, -999.00
318M20040615,        P02,      76,          1,         31,         31,2,20040712,       2337,     30.001,   174.6297,       5348,   305.6,  14.9958,  34.5932,2,  34.5850,2, 216.2000,2,   216.3,2,    7.03,2,    7.15,2,    0.01,2,    0.50,2,   2.673,2,   1.529,2,   0.088,2,  2044.5,2,  2276.3,2,-999.000,9,-999.0000,9, -999.00,9, -999.00,9,  -999.0,9,  -999.0,-999.000,9,-999.000,   51.80,2,  305.60,   0.0480,2,   0.1150,2,   0.0140,2,   0.0860,2,   0.0150,2,-999.0000,-999.000,   0.0350,2, -999.00
318M20040615,        P02,      76,          1,         30,         30,2,20040712,       2337,     30.001,   174.6297,       5348,   355.2,  14.1261,  34.5198,2,  34.5186,2, 210.2000,2,   211.3,2,    9.12,2,    8.94,2,    0.01,2,    0.63,2,   2.721,2,   1.543,2,   0.067,2,  2059.3,2,  2274.6,2,-999.000,9,-999.0000,9, -999.00,9, -999.00,9,  -999.0,9,  -999.0,-999.000,9,-999.000,   49.80,2,  355.20,   0.0610,2,   0.1420,2,   0.0130,2,   0.1070,2,   0.0140,2,-999.0000,-999.000,   0.0420,2, -999.00
318M20040615,        P02,      76,          1,         29,         29,2,20040712,       2337,     30.001,   174.6297,       5348,   404.8,  13.0703,  34.4412,2,  34.4456,2, 210.7000,2,   208.3,2,   11.90,2,   10.82,2,    0.00,2,    0.76,2,   2.803,2,   1.570,2,   0.078,2,  2071.7,2,  2271.7,2,-999.000,9,-999.0000,9, -999.00,9, -999.00,9,  -999.0,9,  -999.0,-999.000,9,-999.000,   48.80,2,  404.80,   0.0890,2,   0.2010,2,   0.0130,2,   0.1540,2,   0.0140,2,-999.0000,-999.000,   0.0620,2, -999.00
318M20040615,        P02,      76,          1,         28,         28,2,20040712,       2337,     30.001,   174.6297,       5348,   454.7,  11.9763,  34.3564,2,  34.3551,2, 207.4000,2,   206.5,2,   15.21,2,   12.86,2,    0.00,2,    0.91,2,   2.882,2,   1.596,2,   0.085,2,  2085.5,2,  2272.4,2,-999.000,9,-999.0000,9, -999.00,9, -999.00,9,  -999.0,9,  -999.0,-999.000,9,-999.000,   47.80,2,  454.70,   0.1010,2,   0.2240,2,   0.0120,2,   0.1720,2,   0.0130,2,-999.0000,-999.000,   0.0730,2, -999.00
318M20040615,        P02,      76,          1,         27,         27,2,20040712,       2337,     30.001,   174.6297,       5348,   504.4,  10.8409,  34.2617,2,  34.2600,2, 204.1000,2,   204.4,2,   18.87,2,   15.16,2,    0.00,2,    1.07,2,   2.956,2,   1.598,2,   0.095,2,  2101.3,2,  2270.6,2,-999.000,9,-999.0000,9, -999.00,9, -999.00,9,  -999.0,9,  -999.0,-999.000,9,-999.000,   46.50,2,  504.40,-999.0000,9,-999.0000,9,-999.0000,9,-999.0000,9,-999.0000,9,-999.0000,-999.000,-999.0000,9, -999.00
318M20040615,        P02,      76,          1,         26,         26,2,20040712,       2337,     30.001,   174.6297,       5348,   604.0,   8.5201,  34.0979,2,  34.0971,2, 187.1000,2,   189.6,2,   32.70,2,   20.58,2,    0.00,2,    1.47,2,   2.833,2,   1.529,2,   0.133,2,  2142.6,2,  2276.1,2,-999.000,9,-999.0000,9, -999.00,9, -999.00,9,  -999.0,9,  -999.0,-999.000,9,-999.000,   45.70,2,  604.00,   0.0970,2,   0.2270,2,   0.0130,2,   0.1710,2,   0.0140,2,-999.0000,-999.000,   0.0680,2, -999.00
318M20040615,        P02,      76,          1,         25,         25,2,20040712,       2337,     30.001,   174.6297,       5348,   708.9,   6.0472,  34.0007,2,  33.9995,2, 141.7000,2,   143.0,2,   57.90,2,   29.41,2,    0.00,2,    2.13,2,   2.283,2,   1.181,2,   0.113,2,  2210.1,2,  2289.6,2,-999.000,9,-999.0000,9, -999.00,9, -999.00,9,  -999.0,9,  -999.0,-999.000,9,-999.000,   44.90,2,  708.90,-999.0000,9,-999.0000,9,-999.0000,9,-999.0000,9,-999.0000,9,-999.0000,-999.000,-999.0000,9, -999.00
318M20040615,        P02,      76,          1,         24,         24,2,20040712,       2337,     30.001,   174.6297,       5348,   808.9,   5.0704,  34.0794,2,  34.0769,2,  88.0000,2,    88.1,2,   80.39,2,   36.18,2,    0.00,2,    2.59,2,   1.224,2,   0.615,2,   0.048,2,  2263.5,2,  2309.3,2,-999.000,9,-999.0000,9, -999.00,9, -999.00,9,  -999.0,9,  -999.0,-999.000,9,-999.000,   43.30,2,  808.90,   0.0850,2,   0.2070,2,   0.0130,2,   0.1510,2,   0.0140,2,-999.0000,-999.000,   0.0630,2, -999.00
318M20040615,        P02,      76,          1,         23,         23,2,20040712,       2337,     30.001,   174.6297,       5348,   908.4,   4.4105,  34.1621,2,  34.1618,2,  61.0000,2,    59.3,2,   98.15,2,   39.65,2,    0.00,2,    2.84,2,   0.696,2,   0.344,2,   0.027,2,  2301.5,2,  2328.3,2,-999.000,9,-999.0000,9, -999.00,9, -999.00,9,  -999.0,9,  -999.0,-999.000,9,-999.000,   41.70,2,  908.40,-999.0000,9,-999.0000,9,-999.0000,9,-999.0000,9,-999.0000,9,-999.0000,-999.000,-999.0000,9, -999.00
318M20040615,        P02,      76,          1,         22,         22,2,20040712,       2337,     30.001,   174.6297,       5348,  1008.5,   3.8674,  34.2508,2,  34.2490,2,  44.6000,2,    41.3,2,  114.33,2,   41.74,2,    0.00,2,    2.98,2,   0.353,2,   0.177,2,   0.008,2,  2329.0,2,  2347.2,2,-999.000,9,-999.0000,9, -999.00,9, -999.00,9,  -999.0,9,  -999.0,-999.000,9,-999.000,   41.10,2, 1008.50,   0.1130,2,   0.2500,2,   0.0120,2,   0.1860,2,   0.0130,2,-999.0000,-999.000,   0.0850,2, -999.00
318M20040615,        P02,      76,          1,         21,         21,2,20040712,       2337,     30.001,   174.6297,       5348,  1114.0,   3.5044,  34.3183,2,  34.3162,2,  34.7000,3,    38.2,2,  125.53,2,   42.36,2,    0.00,2,    3.02,2,   0.232,2,   0.120,2,   0.007,2,  2339.3,3,  2360.1,2,-999.000,9,-999.0000,9, -999.00,9, -999.00,9,  -999.0,9,  -999.0,-999.000,9,-999.000,   40.00,2, 1114.00,-999.0000,9,-999.0000,9,-999.0000,9,-999.0000,9,-999.0000,9,-999.0000,-999.000,-999.0000,9, -999.00
318M20040615,        P02,      76,          1,         20,         20,2,20040712,       2337,     30.001,   174.6297,       5348,  1214.4,   3.1836,  34.3716,2,  34.3711,2,  34.4000,2,    34.4,2,  134.98,2,   42.98,2,    0.00,2,    3.06,2,  -0.002,4,  -0.004,4,  -0.002,4,  2353.1,3,  2372.5,2,-999.000,9,-999.0000,9, -999.00,9, -999.00,9,  -999.0,9,  -999.0,-999.000,9,-999.000,   39.40,2, 1214.40,-999.0000,9,-999.0000,9,-999.0000,9,-999.0000,9,-999.0000,9,-999.0000,-999.000,-999.0000,9, -999.00
318M20040615,        P02,      76,          1,         19,         19,2,20040712,       2337,     30.001,   174.6297,       5348,  1315.5,   2.9092,  34.4192,2,  34.4186,2,  31.9000,2,    32.2,2,  143.31,2,   43.36,2,    0.00,2,    3.09,2,   0.074,2,   0.035,2,  -0.002,2,  2365.4,3,  2381.8,2,-999.000,9,-999.0000,9, -999.00,9, -999.00,9,  -999.0,9,  -999.0,-999.000,9,-999.000,   38.70,2, 1315.50,-999.0000,9,-999.0000,9,-999.0000,9,-999.0000,9,-999.0000,9,-999.0000,-999.000,-999.0000,9, -999.00
318M20040615,        P02,      76,          1,         18,         18,2,20040712,       2337,     30.001,   174.6297,       5348,  1415.6,   2.7264,  34.4561,2,  34.4551,2,  33.3000,2,    33.2,2,  148.42,2,   43.47,2,    0.00,2,    3.09,2,   0.046,2,   0.023,2,  -0.002,2,  2369.1,3,  2389.0,6,-999.000,9,-999.0000,9, -999.00,9, -999.00,9,  -999.0,9,  -999.0,-999.000,9,-999.000,   37.90,2, 1415.60,-999.0000,9,-999.0000,9,-999.0000,9,-999.0000,9,-999.0000,9,-999.0000,-999.000,-999.0000,9, -999.00
318M20040615,        P02,      76,          1,         17,         17,2,20040712,       2337,     30.001,   174.6297,       5348,  1516.0,   2.5399,  34.4842,2,  34.4832,2,  36.8000,2,    36.0,2,  154.26,2,   43.57,2,    0.00,2,    3.08,2,   0.033,2,   0.013,2,   0.001,2,  2371.1,3,  2395.6,2,-999.000,9,-999.0000,9, -999.00,9, -999.00,9,  -999.0,9,  -999.0,-999.000,9,-999.000,   37.60,2, 1516.00,-999.0000,9,-999.0000,9,-999.0000,9,-999.0000,9,-999.0000,9,-999.0000,-999.000,-999.0000,9, -999.00
318M20040615,        P02,      76,          1,         16,         16,2,20040712,       2337,     30.001,   174.6297,       5348,  1616.6,   2.3743,  34.5244,2,  34.5213,2,  43.4000,3,    43.4,2,  157.27,2,   43.46,2,    0.00,2,    3.05,2,-999.000,9,-999.000,9,-999.000,9,  2373.5,3,  2401.3,2,-999.000,9,-999.0000,9, -999.00,9, -999.00,9,  -999.0,9,  -999.0,-999.000,9,-999.000,   37.60,2, 1616.60,-999.0000,9,-999.0000,9,-999.0000,9,-999.0000,9,-999.0000,9,-999.0000,-999.000,-999.0000,9, -999.00
318M20040615,        P02,      76,          1,         15,         15,2,20040712,       2337,     30.001,   174.6297,       5348,  1717.2,   2.2366,  34.5497,2,  34.5484,2,  51.0000,3,    51.7,2,  160.06,2,   43.18,2,    0.00,2,    3.01,2,   0.011,2,   0.005,2,   0.001,2,  2372.4,3,  2407.4,2,-999.000,9,-999.0000,9, -999.00,9, -999.00,9,  -999.0,9,  -999.0,-999.000,9,-999.000,   37.70,2, 1717.20,-999.0000,9,-999.0000,9,-999.0000,9,-999.0000,9,-999.0000,9,-999.0000,-999.000,-999.0000,9, -999.00
318M20040615,        P02,      76,          1,         14,         14,2,20040712,       2337,     30.001,   174.6297,       5348,  1823.0,   2.1326,  34.5729,2,  34.5720,2,  62.0000,2,    61.2,2,  160.39,2,   42.50,2,    0.00,2,    2.97,2,-999.000,9,-999.000,9,-999.000,9,  2368.6,3,  2410.2,2,-999.000,9,-999.0000,9, -999.00,9, -999.00,9,  -999.0,9,  -999.0,-999.000,9,-999.000,   37.60,2, 1823.00,-999.0000,9,-999.0000,9,-999.0000,9,-999.0000,9,-999.0000,9,-999.0000,-999.000,-999.0000,9, -999.00
318M20040615,        P02,      76,          1,         13,         13,2,20040712,       2337,     30.001,   174.6297,       5348,  1922.9,   2.0320,  34.5886,2,  34.5858,2,  68.8000,3,    68.5,2,  161.97,2,   41.88,2,    0.00,2,    2.93,2,   0.007,2,   0.001,2,   0.001,2,  2366.1,3,  2412.8,2,-999.000,9,-999.0000,9, -999.00,9, -999.00,9,  -999.0,9,  -999.0,-999.000,9,-999.000,   36.90,2, 1922.90,-999.0000,9,-999.0000,9,-999.0000,9,-999.0000,9,-999.0000,9,-999.0000,-999.000,-999.0000,9, -999.00
318M20040615,        P02,      76,          1,         12,         12,2,20040712,       2337,     30.001,   174.6297,       5348,  2021.7,   1.9469,  34.6029,2,  34.6021,2,  77.3000,2,    77.4,2,  161.95,2,   41.21,2,    0.00,2,    2.88,2,-999.000,9,-999.000,9,-999.000,9,  2363.7,3,  2414.4,6,-999.000,9,-999.0000,9, -999.00,9, -999.00,9,  -999.0,9,  -999.0,-999.000,9,-999.000,   37.40,2, 2021.70,   0.1060,2,   0.2340,2,   0.0120,2,   0.1750,2,   0.0130,2,-999.0000,-999.000,   0.0790,2, -999.00
318M20040615,        P02,      76,          1,         11,         11,2,20040712,       2337,     30.001,   174.6297,       5348,  2279.2,   1.7607,  34.6282,2,  34.6257,2,  93.0000,3,    94.0,2,  162.80,2,   40.11,2,    0.00,2,    2.80,2,   0.005,2,   0.001,2,  -0.002,2,  2352.1,3,  2417.5,2,-999.000,9,-999.0000,9, -999.00,9, -999.00,9,  -999.0,9,  -999.0,-999.000,9,-999.000,   37.60,2, 2279.20,-999.0000,9,-999.0000,9,-999.0000,9,-999.0000,9,-999.0000,9,-999.0000,-999.000,-999.0000,9, -999.00
318M20040615,        P02,      76,          1,         10,         10,2,20040712,       2337,     30.001,   174.6297,       5348,  2532.5,   1.6546,  34.6436,2,  34.6440,2, 105.4000,2,   107.0,2,  161.57,2,   39.18,2,    0.00,2,    2.75,2,-999.000,9,-999.000,9,-999.000,9,  2346.7,3,  2418.8,2,-999.000,9,-999.0000,9, -999.00,9, -999.00,9,  -999.0,9,  -999.0,-999.000,9,-999.000,   37.20,2, 2532.50,-999.0000,9,-999.0000,9,-999.0000,9,-999.0000,9,-999.0000,9,-999.0000,-999.000,-999.0000,9, -999.00
318M20040615,        P02,      76,          1,          9,          9,2,20040712,       2337,     30.001,   174.6297,       5348,  2786.8,   1.5769,  34.6558,2,  34.6532,2, 116.8000,3,   118.7,2,  159.83,2,   38.36,2,    0.00,2,    2.69,2,   0.007,2,   0.002,2,  -0.002,2,  2339.9,3,  2419.0,2,-999.000,9,-999.0000,9, -999.00,9, -999.00,9,  -999.0,9,  -999.0,-999.000,9,-999.000,   37.10,2, 2786.80,-999.0000,9,-999.0000,9,-999.0000,9,-999.0000,9,-999.0000,9,-999.0000,-999.000,-999.0000,9, -999.00
318M20040615,        P02,      76,          1,          8,          8,2,20040712,       2337,     30.001,   174.6297,       5348,  3049.0,   1.5217,  34.6652,2,  34.6640,2, 127.6000,2,   128.6,2,  157.70,2,   37.71,2,    0.00,2,    2.63,2,-999.000,9,-999.000,9,-999.000,9,  2335.8,3,  2419.1,2,-999.000,9,-999.0000,9, -999.00,9, -999.00,9,  -999.0,9,  -999.0,-999.000,9,-999.000,   37.80,2, 3049.00,   0.0750,2,   0.1810,2,   0.0130,2,   0.1310,2,   0.0150,2,-999.0000,-999.000,   0.0530,2, -999.00
318M20040615,        P02,      76,          1,          7,          7,2,20040712,       2337,     30.001,   174.6297,       5348,  3452.3,   1.4730,  34.6756,2,  34.6727,2, 139.7000,3,   139.9,2,  154.81,2,   36.88,2,    0.00,2,    2.57,2,   0.008,2,   0.001,2,   0.000,2,  2328.3,3,  2420.1,6,-999.000,9,-999.0000,9, -999.00,9, -999.00,9,  -999.0,9,  -999.0,-999.000,9,-999.000,   37.40,2, 3452.30,-999.0000,9,-999.0000,9,-999.0000,9,-999.0000,9,-999.0000,9,-999.0000,-999.000,-999.0000,9, -999.00
318M20040615,        P02,      76,          1,          6,          6,2,20040712,       2337,     30.001,   174.6297,       5348,  3862.4,   1.4561,  34.6820,2,  34.6792,2, 148.1000,3,   148.3,2,  151.76,2,   36.50,2,    0.00,2,    2.53,2,-999.000,9,-999.000,9,-999.000,9,  2319.0,3,  2418.0,2,-999.000,9,-999.0000,9, -999.00,9, -999.00,9,  -999.0,9,  -999.0,-999.000,9,-999.000,   37.60,2, 3862.40,-999.0000,9,-999.0000,9,-999.0000,9,-999.0000,9,-999.0000,9,-999.0000,-999.000,-999.0000,9, -999.00
318M20040615,        P02,      76,          1,          5,          5,2,20040712,       2337,     30.001,   174.6297,       5348,  4274.5,   1.4527,  34.6869,2,  34.6886,2, 155.5000,2,   155.4,2,  148.74,2,   36.13,2,    0.00,2,    2.49,2,   0.009,2,   0.004,2,   0.001,2,  2314.1,3,  2416.5,2,-999.000,9,-999.0000,9, -999.00,9, -999.00,9,  -999.0,9,  -999.0,-999.000,9,-999.000,   37.40,2, 4274.50,-999.0000,9,-999.0000,9,-999.0000,9,-999.0000,9,-999.0000,9,-999.0000,-999.000,-999.0000,9, -999.00
318M20040615,        P02,      76,          1,          4,          4,2,20040712,       2337,     30.001,   174.6297,       5348,  4682.6,   1.4562,  34.6910,2,  34.6894,2, 162.5000,2,   162.6,2,  143.57,2,   35.68,2,    0.00,2,    2.44,2,-999.000,9,-999.000,9,-999.000,9,  2306.8,3,  2412.2,2,-999.000,9,-999.0000,9, -999.00,9, -999.00,9,  -999.0,9,  -999.0,-999.000,9,-999.000,   38.00,2, 4682.60,-999.0000,9,-999.0000,9,-999.0000,9,-999.0000,9,-999.0000,9,-999.0000,-999.000,-999.0000,9, -999.00
318M20040615,        P02,      76,          1,          3,          3,2,20040712,       2337,     30.001,   174.6297,       5348,  5096.1,   1.4746,  34.6937,2,  34.6920,2, 167.7000,2,   168.2,2,  139.48,2,   35.31,2,    0.00,2,    2.42,2,   0.006,2,   0.002,2,  -0.002,2,  2301.7,3,  2408.5,2,-999.000,9,-999.0000,9, -999.00,9, -999.00,9,  -999.0,9,  -999.0,-999.000,9,-999.000,   37.20,2, 5096.10,-999.0000,9,-999.0000,9,-999.0000,9,-999.0000,9,-999.0000,9,-999.0000,-999.000,-999.0000,9, -999.00
318M20040615,        P02,      76,          1,          2,          2,2,20040712,       2337,     30.001,   174.6297,       5348,  5300.9,   1.4789,  34.6953,2,  34.6940,2, 170.8000,2,   171.5,2,  136.62,2,   34.87,2,    0.00,2,    2.39,2,-999.000,9,-999.000,9,-999.000,9,  2295.5,3,  2403.9,2,-999.000,9,-999.0000,9, -999.00,9, -999.00,9,  -999.0,9,  -999.0,-999.000,9,-999.000,   37.60,2, 5300.90,-999.0000,9,-999.0000,9,-999.0000,9,-999.0000,9,-999.0000,9,-999.0000,-999.000,-999.0000,9, -999.00
318M20040615,        P02,      76,          1,          1,          1,2,20040712,       2337,     30.001,   174.6297,       5348,  5464.0,   1.4948,  34.6957,2,  34.6953,2, 171.9000,2,   172.5,2,  135.89,2,   34.82,2,    0.00,2,    2.38,2,   0.005,2,   0.002,2,   0.002,2,  2299.1,3,  2405.1,2,-999.000,9,-999.0000,9, -999.00,9, -999.00,9,  -999.0,9,  -999.0,-999.000,9,-999.000,   38.00,2, 5464.00,-999.0000,9,-999.0000,9,-999.0000,9,-999.0000,9,-999.0000,9,-999.0000,-999.000,-999.0000,9, -999.00