BOTTLE,20131027SIOCCHRJL
EXPOCODE,SECT_ID,STNNBR,CASTNO,SAMPNO,BTLNBR,BTLNBR_FLAG_W,DATE,TIME,LATITUDE,LONGITUDE,DEPTH,CTDPRS,CTDTMP,CTDSAL,CTDSAL_FLAG_W,SALNTY,SALNTY_FLAG_W,CTDOXY,CTDOXY_FLAG_W,OXYGEN,OXYGEN_FLAG_W,SILCAT,SILCAT_FLAG_W,NITRAT,NITRAT_FLAG_W,NITRIT,NITRIT_FLAG_W,PHSPHT,PHSPHT_FLAG_W,CFC-11,CFC-11_FLAG_W,CFC-12,CFC-12_FLAG_W,CFC113,CFC113_FLAG_W,TCARBN,TCARBN_FLAG_W,ALKALI,ALKALI_FLAG_W,TRITUM,TRITUM_FLAG_W,HELIUM,HELIUM_FLAG_W,DELHE3,DELHE3_FLAG_W,DELC13,DELC13_FLAG_W,DELC14,DELC14_FLAG_W,C14ERR,NEON,NEON_FLAG_W,NEONER,DOC,DOC_FLAG_W,CTDRAW,CDOM380,CDOM380_FLAG_W,CDOM325,CDOM325_FLAG_W,CDOMSL,CDOMSL_FLAG_W,CDOM340,CDOM340_FLAG_W,CDOMSN,CDOMSN_FLAG_W,HELIER,TRITER,CDOM412,CDOM412_FLAG_W,DELHER
,,,,,,,,,,,METERS,DBAR,ITS-90,PSS-78,,PSS-78,,UMOL/KG,,UMOL/KG,,UMOL/KG,,UMOL/KG,,UMOL/KG,,UMOL/KG,,PMOL/KG,,PMOL/KG,,PMOL/KG,,UMOL/KG,,UMOL/KG,,TU,,NMOL/KG,,PERCNT,,/MILLE,,/MILLE,,/MILLE,NMOL/KG,,NMOL/KG,UMOL/KG,,DBAR,1/M,,1/M,,1/NM,,1/M,,1/NM,,NMOL/KG,TU,1/M,,PERCNT
318M20040615,        P02,      74,          2,         36,         36,2,20040712,       1001,    29.9912,    173.315,       4491,     6.5,  25.9581,  35.0322,2,  35.0321,2, 210.7000,2,   209.8,2,    1.21,2,    0.00,2,    0.00,2,    0.02,2,   1.787,2,   1.097,2,   0.126,2,  1995.4,2,  2300.5,6,   0.812,2,-999.0000,9, -999.00,9,    1.12,2,    73.2,2,     4.6,-999.000,9,-999.000,   68.40,2,    6.50,-999.0000,9,-999.0000,9,-999.0000,9,-999.0000,9,-999.0000,9,-999.0000,   0.008,-999.0000,9, -999.00
318M20040615,        P02,      74,          2,         35,         35,2,20040712,       1001,    29.9912,    173.315,       4491,    35.2,  22.0939,  35.1486,2,  35.1486,2, 231.0000,2,   230.5,2,    1.20,2,    0.00,2,    0.00,2,    0.02,2,   2.076,2,   1.270,2,   0.146,2,  2002.8,2,  2306.1,2,   0.766,2,   1.7541,2,   -2.09,2, -999.00,9,  -999.0,9,  -999.0,-999.000,9,-999.000,   65.80,2,   35.20,-999.0000,9,-999.0000,9,-999.0000,9,-999.0000,9,-999.0000,9,   0.0088,   0.006,-999.0000,9,    0.20
318M20040615,        P02,      74,          2,         34,         34,2,20040712,       1001,    29.9912,    173.315,       4491,    69.9,  18.5310,  34.9078,2,  34.8931,2, 235.7000,2,   237.9,2,    1.71,2,    0.05,2,    0.00,2,    0.06,2,   2.359,2,   1.399,2,   0.149,2,  2008.1,2,  2290.3,2,   0.802,2,   1.7763,2,   -1.63,2,    0.98,2,    87.9,2,     6.1,-999.000,9,-999.000,   59.90,2,   69.90,-999.0000,9,-999.0000,9,-999.0000,9,-999.0000,9,-999.0000,9,   0.0089,   0.007,-999.0000,9,    0.20
318M20040615,        P02,      74,          2,         33,         33,2,20040712,       1001,    29.9912,    173.315,       4491,   119.6,  17.2599,  34.7842,2,  34.7852,2, 220.8000,2,   223.1,2,    2.74,2,    2.96,2,    0.05,2,    0.22,2,   2.424,2,   1.453,2,   0.142,2,  2021.8,2,  2283.2,2,   0.797,2,   1.7863,2,   -1.65,2,    0.80,2,    87.4,2,     4.3,   7.270,2,   0.036,   56.00,2,  119.60,-999.0000,9,-999.0000,9,-999.0000,9,-999.0000,9,-999.0000,9,   0.0089,   0.006,-999.0000,9,    0.20
318M20040615,        P02,      74,          2,         32,         32,2,20040712,       1001,    29.9912,    173.315,       4491,   170.1,  16.8031,  34.7440,2,  34.7439,2, 222.4000,2,   223.7,2,    3.25,2,    3.71,2,    0.02,2,    0.26,2,   2.483,2,   1.478,2,   0.128,2,  2024.4,2,  2281.0,2,   0.873,2,   1.7793,2,   -1.14,2,    0.78,2,    87.6,2,     4.7,   7.224,2,   0.036,   54.00,2,  170.10,-999.0000,9,-999.0000,9,-999.0000,9,-999.0000,9,-999.0000,9,   0.0089,   0.006,-999.0000,9,    0.20
318M20040615,        P02,      74,          2,         31,         31,2,20040712,       1001,    29.9912,    173.315,       4491,   219.4,  16.5235,  34.7287,2,  34.7285,2, 225.6000,2,   225.9,2,    3.75,2,    3.98,2,    0.01,2,    0.28,2,   2.504,2,   1.488,2,   0.125,2,  2025.5,2,  2281.2,2,   0.767,2,   1.7814,2,   -1.17,2,    0.77,2,    77.8,2,     4.3,   7.316,2,   0.037,   52.40,2,  219.40,-999.0000,9,-999.0000,9,-999.0000,9,-999.0000,9,-999.0000,9,   0.0089,   0.006,-999.0000,9,    0.20
318M20040615,        P02,      74,          2,         30,         30,2,20040712,       1001,    29.9912,    173.315,       4491,   274.7,  15.9801,  34.6868,2,  34.6859,2, 222.9000,2,   222.8,2,    4.96,2,    5.20,2,    0.01,2,    0.37,2,   2.515,2,   1.461,2,   0.103,2,  2035.9,2,  2278.7,2,   0.800,2,   1.7854,2,   -0.88,2,    0.74,2,    79.6,2,     5.2,   6.793,2,   0.034,   51.60,2,  274.70,-999.0000,9,-999.0000,9,-999.0000,9,-999.0000,9,-999.0000,9,   0.0089,   0.006,-999.0000,9,    0.20
318M20040615,        P02,      74,          2,         29,         29,2,20040712,       1001,    29.9912,    173.315,       4491,   324.4,  15.3645,  34.6351,2,  34.6360,2, 222.4000,2,   222.4,2,    5.98,2,    5.96,2,    0.01,2,    0.42,2,   2.595,2,   1.505,2,   0.111,2,  2037.0,2,  2277.2,2,   0.804,2,   1.7787,2,   -0.57,2,   -0.64,4,    37.2,4,     7.2,   6.990,2,   0.035,   50.10,2,  324.40,-999.0000,9,-999.0000,9,-999.0000,9,-999.0000,9,-999.0000,9,   0.0089,   0.006,-999.0000,9,    0.20
318M20040615,        P02,      74,          2,         28,         28,2,20040712,       1001,    29.9912,    173.315,       4491,   374.4,  14.4731,  34.5571,2,  34.5570,2, 213.9000,2,   213.4,2,    8.91,2,    8.36,2,    0.01,2,    0.59,2,   2.644,2,   1.516,2,   0.090,2,  2054.9,2,  2273.4,2,   0.798,2,-999.0000,9, -999.00,9,    0.66,2,    71.8,2,     4.6,-999.000,9,-999.000,   48.60,2,  374.40,-999.0000,9,-999.0000,9,-999.0000,9,-999.0000,9,-999.0000,9,-999.0000,   0.007,-999.0000,9, -999.00
318M20040615,        P02,      74,          2,         27,         27,2,20040712,       1001,    29.9912,    173.315,       4491,   423.6,  13.3780,  34.4623,2,  34.4045,2, 208.5000,3,   208.9,2,   11.16,2,   10.29,2,    0.01,2,    0.72,2,   2.758,6,   1.545,6,   0.065,6,  2072.2,2,  2272.1,2,   0.793,2,   1.7874,2,    1.76,2, -999.00,9,  -999.0,9,  -999.0,-999.000,9,-999.000,   47.20,2,  423.60,-999.0000,9,-999.0000,9,-999.0000,9,-999.0000,9,-999.0000,9,   0.0089,   0.007,-999.0000,9,    0.20
318M20040615,        P02,      74,          2,         26,         26,2,20040712,       1001,    29.9912,    173.315,       4491,   473.9,  11.9033,  34.3561,2,  34.3570,2, 204.7000,2,   204.2,2,   16.19,2,   13.28,2,    0.01,2,    0.93,2,   2.804,2,   1.535,2,   0.079,2,  2093.1,2,  2272.2,2,   0.846,2,-999.0000,9, -999.00,9,    0.49,2,    58.0,2,     4.5,-999.000,9,-999.000,   46.20,2,  473.90,-999.0000,9,-999.0000,9,-999.0000,9,-999.0000,9,-999.0000,9,-999.0000,   0.006,-999.0000,9, -999.00
318M20040615,        P02,      74,          2,         25,         25,2,20040712,       1001,    29.9912,    173.315,       4491,   543.4,  10.2001,  34.2163,2,  34.2161,2, 199.1000,2,   199.2,2,   22.09,2,   16.64,2,    0.01,2,    1.18,2,   2.919,2,   1.567,2,   0.099,2,  2117.0,6,  2269.0,2,-999.000,9,-999.0000,9, -999.00,9,    0.42,2,    41.1,2,     5.2,-999.000,9,-999.000,   45.50,2,  543.40,-999.0000,9,-999.0000,9,-999.0000,9,-999.0000,9,-999.0000,9,-999.0000,-999.000,-999.0000,9, -999.00
318M20040615,        P02,      74,          2,         24,         24,2,20040712,       1001,    29.9912,    173.315,       4491,   641.7,   7.0848,  34.0169,2,  34.0166,2, 171.7000,2,   170.6,2,   44.48,2,   24.75,2,    0.01,2,    1.80,2,   2.662,2,   1.399,2,   0.126,2,  2178.7,2,  2280.3,2,   0.725,2,   1.8472,2,    9.07,2,    0.30,2,   -19.2,2,     4.3,-999.000,9,-999.000,   44.20,2,  641.70,-999.0000,9,-999.0000,9,-999.0000,9,-999.0000,9,-999.0000,9,   0.0092,   0.007,-999.0000,9,    0.20
318M20040615,        P02,      74,          2,         23,         23,2,20040712,       1001,    29.9912,    173.315,       4491,   739.9,   5.8707,  34.0033,2,  34.0040,2, 142.0000,2,   136.7,2,   60.87,2,   30.18,2,    0.01,2,    2.19,2,   2.204,2,   1.139,2,   0.104,2,  2222.4,2,  2291.4,2,   0.598,2,   1.8285,2,   11.11,2,    0.08,2,   -57.4,2,     3.8,-999.000,9,-999.000,   43.30,2,  739.90,-999.0000,9,-999.0000,9,-999.0000,9,-999.0000,9,-999.0000,9,   0.0091,   0.007,-999.0000,9,    0.20
318M20040615,        P02,      74,          2,         22,         22,2,20040712,       1001,    29.9912,    173.315,       4491,   844.0,   5.0463,  34.0628,2,  34.0626,2,  98.4000,2,    97.4,2,   79.05,2,   35.33,2,    0.01,2,    2.54,2,   1.549,2,   0.774,2,   0.070,2,  2265.2,2,  2307.0,2,   0.448,2,   1.8303,2,   14.42,2, -999.00,9,  -999.0,9,  -999.0,-999.000,9,-999.000,   42.40,2,  844.00,-999.0000,9,-999.0000,9,-999.0000,9,-999.0000,9,-999.0000,9,   0.0092,   0.006,-999.0000,9,    0.20
318M20040615,        P02,      74,          2,         21,         21,2,20040712,       1001,    29.9912,    173.315,       4491,   937.5,   4.5814,  34.1293,2,  34.1302,2,  68.8000,2,    73.0,2,   92.50,2,   38.09,2,    0.01,2,    2.74,2,   1.060,2,   0.532,2,   0.046,2,  2293.2,2,  2320.6,2,   0.371,2,   1.8864,2,   15.15,2,   -0.27,2,  -144.7,2,     4.6,-999.000,9,-999.000,   41.10,2,  937.50,-999.0000,9,-999.0000,9,-999.0000,9,-999.0000,9,-999.0000,9,   0.0094,   0.006,-999.0000,9,    0.20
318M20040615,        P02,      74,          2,         20,         20,2,20040712,       1001,    29.9912,    173.315,       4491,  1036.6,   4.0022,  34.2298,2,  34.2294,2,  43.1000,2,    45.2,2,  109.86,2,   41.26,2,    0.01,2,    2.95,2,   0.429,2,   0.209,2,   0.011,2,  2329.2,2,  2342.4,2,   0.219,2,   1.8960,2,   16.58,2, -999.00,9,  -999.0,9,  -999.0,-999.000,9,-999.000,   39.80,2, 1036.60,-999.0000,9,-999.0000,9,-999.0000,9,-999.0000,9,-999.0000,9,   0.0095,   0.004,-999.0000,9,    0.20
318M20040615,        P02,      74,          2,         19,         19,2,20040712,       1001,    29.9912,    173.315,       4491,  1137.6,   3.6179,  34.2905,2,  34.2908,2,  35.2000,2,    37.5,2,  121.39,2,   42.21,2,    0.01,2,    3.02,2,   0.277,2,   0.134,2,   0.009,2,  2346.9,2,  2355.1,2,   0.152,2,   1.9127,2,   16.66,2,   -0.41,2,  -180.8,2,     3.2,-999.000,9,-999.000,   39.00,2, 1137.60,-999.0000,9,-999.0000,9,-999.0000,9,-999.0000,9,-999.0000,9,   0.0096,   0.003,-999.0000,9,    0.20
318M20040615,        P02,      74,          2,         18,         18,2,20040712,       1001,    29.9912,    173.315,       4491,  1238.7,   3.2383,  34.3718,2,  34.3728,2,  31.7000,2,    29.3,2,  133.26,2,   43.32,2,    0.01,2,    3.09,2,   0.091,2,   0.040,2,   0.003,2,  2362.7,6,  2371.4,6,   0.060,2,   1.9164,2,   17.02,2, -999.00,9,  -999.0,9,  -999.0,-999.000,9,-999.000,   38.50,2, 1238.70,-999.0000,9,-999.0000,9,-999.0000,9,-999.0000,9,-999.0000,9,   0.0096,   0.002,-999.0000,9,    0.20
318M20040615,        P02,      74,          2,         17,         17,2,20040712,       1001,    29.9912,    173.315,       4491,  1340.1,   2.9648,  34.4190,2,  34.4205,2,  29.1000,2,    28.9,2,  141.62,2,   43.62,2,    0.01,2,    3.11,2,   0.053,2,   0.024,2,   0.001,2,  2374.5,2,  2381.3,2,-999.000,9,-999.0000,9, -999.00,9,   -0.41,2,  -225.3,2,     5.2,-999.000,9,-999.000,   38.50,2, 1340.10,-999.0000,9,-999.0000,9,-999.0000,9,-999.0000,9,-999.0000,9,-999.0000,-999.000,-999.0000,9, -999.00
318M20040615,        P02,      74,          2,         16,         16,2,20040712,       1001,    29.9912,    173.315,       4491,  1440.7,   2.7338,  34.4592,2,  34.4601,2,  32.1000,2,    31.9,2,  147.99,2,   43.56,2,    0.01,2,    3.10,2,   0.033,2,   0.015,2,   0.004,2,  2378.9,2,  2388.5,2,   0.027,2,   1.9174,2,   18.00,2, -999.00,9,  -999.0,9,  -999.0,-999.000,9,-999.000,   38.40,2, 1440.70,-999.0000,9,-999.0000,9,-999.0000,9,-999.0000,9,-999.0000,9,   0.0096,   0.001,-999.0000,9,    0.20
318M20040615,        P02,      74,          2,         15,         15,2,20040712,       1001,    29.9912,    173.315,       4491,  1541.0,   2.5253,  34.4971,2,  34.4976,2,  36.2000,2,    36.8,2,  153.49,2,   43.35,2,    0.01,2,    3.08,2,   0.017,2,   0.008,2,   0.001,2,  2383.5,2,  2397.0,2,   0.010,2,   1.9283,2,   18.71,2,   -0.36,2,  -237.4,2,     3.9,-999.000,9,-999.000,   38.40,2, 1541.00,-999.0000,9,-999.0000,9,-999.0000,9,-999.0000,9,-999.0000,9,   0.0096,   0.001,-999.0000,9,    0.20
318M20040615,        P02,      74,          2,         14,         14,2,20040712,       1001,    29.9912,    173.315,       4491,  1640.3,   2.3838,  34.5268,2,  34.5269,2,  42.8000,2,    43.4,2,  156.47,2,   43.07,2,    0.01,2,    3.05,2,   0.007,2,   0.005,2,   0.001,2,  2382.7,2,  2403.0,2,   0.008,2,   1.9309,2,   18.96,2, -999.00,9,  -999.0,9,  -999.0,-999.000,9,-999.000,   37.70,2, 1640.30,-999.0000,9,-999.0000,9,-999.0000,9,-999.0000,9,-999.0000,9,   0.0097,   0.000,-999.0000,9,    0.20
318M20040615,        P02,      74,          2,         13,         13,2,20040712,       1001,    29.9912,    173.315,       4491,  1739.4,   2.2724,  34.5487,2,  34.5491,2,  50.2000,2,    50.3,2,  158.59,2,   42.90,2,    0.00,2,    3.02,2,   0.007,2,   0.004,2,   0.001,2,  2381.3,2,  2405.8,2,-999.000,9,   1.9067,2,   19.74,2, -999.00,9,  -999.0,9,  -999.0,-999.000,9,-999.000,   37.80,2, 1739.40,-999.0000,9,-999.0000,9,-999.0000,9,-999.0000,9,-999.0000,9,   0.0095,-999.000,-999.0000,9,    0.20
318M20040615,        P02,      74,          2,         12,         12,2,20040712,       1001,    29.9912,    173.315,       4491,  1843.9,   2.1606,  34.5677,2,  34.5687,2,  58.1000,2,    57.9,2,  160.33,2,   42.57,2,    0.00,2,    2.98,2,   0.007,2,   0.000,2,   0.001,2,  2379.9,2,  2409.3,2,   0.007,2,   1.9310,2,   19.64,2, -999.00,9,  -999.0,9,  -999.0,-999.000,9,-999.000,   38.20,2, 1843.90,-999.0000,9,-999.0000,9,-999.0000,9,-999.0000,9,-999.0000,9,   0.0097,   0.000,-999.0000,9,    0.20
318M20040615,        P02,      74,          2,         11,         11,2,20040712,       1001,    29.9912,    173.315,       4491,  1942.1,   2.0521,  34.5846,2,  34.5840,2,  66.1000,2,    66.3,2,  161.57,2,   41.96,2,    0.01,2,    2.94,2,   0.004,2,   0.002,2,   0.001,2,  2375.9,2,  2411.3,2,-999.000,9,-999.0000,9, -999.00,9, -999.00,9,  -999.0,9,  -999.0,-999.000,9,-999.000,   37.60,2, 1942.10,-999.0000,9,-999.0000,9,-999.0000,9,-999.0000,9,-999.0000,9,-999.0000,-999.000,-999.0000,9, -999.00
318M20040615,        P02,      74,          2,         10,         10,2,20040712,       1001,    29.9912,    173.315,       4491,  2096.7,   1.8965,  34.6073,2,  34.6052,2,  78.2000,3,    79.6,2,  162.26,2,   40.97,2,    0.01,2,    2.88,2,   0.004,2,   0.000,2,   0.001,2,  2370.1,2,  2414.2,2,-999.000,9,-999.0000,9, -999.00,9, -999.00,9,  -999.0,9,  -999.0,-999.000,9,-999.000,   38.10,2, 2096.70,-999.0000,9,-999.0000,9,-999.0000,9,-999.0000,9,-999.0000,9,-999.0000,-999.000,-999.0000,9, -999.00
318M20040615,        P02,      74,          2,          9,          9,2,20040712,       1001,    29.9912,    173.315,       4491,  2348.1,   1.7643,  34.6271,2,  34.6264,2,  94.0000,2,    94.1,2,  161.87,2,   39.97,2,    0.01,2,    2.81,2,   0.005,2,   0.001,2,   0.001,2,  2364.2,2,  2416.1,2,-999.000,9,-999.0000,9, -999.00,9, -999.00,9,  -999.0,9,  -999.0,-999.000,9,-999.000,   37.20,2, 2348.10,-999.0000,9,-999.0000,9,-999.0000,9,-999.0000,9,-999.0000,9,-999.0000,-999.000,-999.0000,9, -999.00
318M20040615,        P02,      74,          2,          8,          8,2,20040712,       1001,    29.9912,    173.315,       4491,  2599.2,   1.6480,  34.6444,2,  34.6453,2, 107.9000,2,   108.9,2,  160.15,2,   38.78,2,    0.00,2,    2.73,2,   0.002,2,  -0.001,2,   0.001,2,  2355.2,2,  2418.3,2,-999.000,9,-999.0000,9, -999.00,9, -999.00,9,  -999.0,9,  -999.0,-999.000,9,-999.000,   37.90,2, 2599.20,-999.0000,9,-999.0000,9,-999.0000,9,-999.0000,9,-999.0000,9,-999.0000,-999.000,-999.0000,9, -999.00
318M20040615,        P02,      74,          2,          7,          7,2,20040712,       1001,    29.9912,    173.315,       4491,  2849.7,   1.5824,  34.6555,2,  34.6547,2, 118.2000,2,   119.7,2,  158.58,2,   38.25,2,    0.00,2,    2.68,2,   0.003,2,  -0.002,2,   0.001,2,  2347.0,2,  2418.4,6,-999.000,9,-999.0000,9, -999.00,9, -999.00,9,  -999.0,9,  -999.0,-999.000,9,-999.000,   37.50,2, 2849.70,-999.0000,9,-999.0000,9,-999.0000,9,-999.0000,9,-999.0000,9,-999.0000,-999.000,-999.0000,9, -999.00
318M20040615,        P02,      74,          2,          6,          6,2,20040712,       1001,    29.9912,    173.315,       4491,  3099.2,   1.5288,  34.6648,2,  34.6638,2, 128.0000,2,   128.8,2,  156.58,2,   37.59,2,    0.00,2,    2.63,2,   0.004,2,   0.000,2,   0.003,2,  2339.9,2,  2417.8,2,-999.000,9,-999.0000,9, -999.00,9, -999.00,9,  -999.0,9,  -999.0,-999.000,9,-999.000,   37.30,2, 3099.20,-999.0000,9,-999.0000,9,-999.0000,9,-999.0000,9,-999.0000,9,-999.0000,-999.000,-999.0000,9, -999.00
318M20040615,        P02,      74,          2,          5,          5,2,20040712,       1001,    29.9912,    173.315,       4491,  3348.8,   1.4900,  34.6722,2,  34.6712,2, 135.8000,2,   136.9,2,  154.44,2,   37.06,2,    0.00,2,    2.59,2,   0.004,2,  -0.002,2,   0.001,2,  2336.1,2,  2418.4,2,-999.000,9,-999.0000,9, -999.00,9, -999.00,9,  -999.0,9,  -999.0,-999.000,9,-999.000,   37.60,2, 3348.80,-999.0000,9,-999.0000,9,-999.0000,9,-999.0000,9,-999.0000,9,-999.0000,-999.000,-999.0000,9, -999.00
318M20040615,        P02,      74,          2,          4,          4,2,20040712,       1001,    29.9912,    173.315,       4491,  3598.2,   1.4747,  34.6767,2,  34.6755,2, 142.0000,2,   142.3,2,  152.86,2,   36.90,2,    0.00,2,    2.56,2,   0.046,4,   0.087,4,   0.001,4,  2322.7,3,  2418.0,2,-999.000,9,-999.0000,9, -999.00,9, -999.00,9,  -999.0,9,  -999.0,-999.000,9,-999.000,   37.40,2, 3598.20,-999.0000,9,-999.0000,9,-999.0000,9,-999.0000,9,-999.0000,9,-999.0000,-999.000,-999.0000,9, -999.00
318M20040615,        P02,      74,          2,          3,          3,2,20040712,       1001,    29.9912,    173.315,       4491,  3886.0,   1.4617,  34.6814,2,  34.6801,2, 147.8000,2,   148.0,2,  151.07,2,   36.68,2,    0.00,2,    2.53,2,-999.000,5,-999.000,5,-999.000,5,  2328.0,2,  2417.6,2,-999.000,9,-999.0000,9, -999.00,9, -999.00,9,  -999.0,9,  -999.0,-999.000,9,-999.000,   36.80,2, 3886.00,-999.0000,9,-999.0000,9,-999.0000,9,-999.0000,9,-999.0000,9,-999.0000,-999.000,-999.0000,9, -999.00
318M20040615,        P02,      74,          2,          2,          2,2,20040712,       1001,    29.9912,    173.315,       4491,  4191.9,   1.4481,  34.6861,2,  34.6861,2, 154.5000,2,   154.2,2,  148.41,2,   36.25,2,    0.00,2,    2.49,2,   0.005,2,   0.001,2,   0.002,2,  2323.5,2,  2415.9,2,-999.000,9,-999.0000,9, -999.00,9, -999.00,9,  -999.0,9,  -999.0,-999.000,9,-999.000,   36.90,2, 4191.90,-999.0000,9,-999.0000,9,-999.0000,9,-999.0000,9,-999.0000,9,-999.0000,-999.000,-999.0000,9, -999.00
318M20040615,        P02,      74,          2,          1,          1,2,20040712,       1001,    29.9912,    173.315,       4491,  4642.7,   1.4522,  34.6905,2,  34.6907,2, 161.8000,2,   162.6,2,  143.25,2,   35.56,2,    0.00,2,    2.45,2,   0.001,2,   0.000,2,   0.001,2,  2316.9,6,  2411.2,6,-999.000,9,-999.0000,9, -999.00,9, -999.00,9,  -999.0,9,  -999.0,-999.000,9,-999.000,   37.00,2, 4642.70,-999.0000,9,-999.0000,9,-999.0000,9,-999.0000,9,-999.0000,9,-999.0000,-999.000,-999.0000,9, -999.00