BOTTLE,20131027SIOCCHRJL
EXPOCODE,SECT_ID,STNNBR,CASTNO,SAMPNO,BTLNBR,BTLNBR_FLAG_W,DATE,TIME,LATITUDE,LONGITUDE,DEPTH,CTDPRS,CTDTMP,CTDSAL,CTDSAL_FLAG_W,SALNTY,SALNTY_FLAG_W,CTDOXY,CTDOXY_FLAG_W,OXYGEN,OXYGEN_FLAG_W,SILCAT,SILCAT_FLAG_W,NITRAT,NITRAT_FLAG_W,NITRIT,NITRIT_FLAG_W,PHSPHT,PHSPHT_FLAG_W,CFC-11,CFC-11_FLAG_W,CFC-12,CFC-12_FLAG_W,CFC113,CFC113_FLAG_W,TCARBN,TCARBN_FLAG_W,ALKALI,ALKALI_FLAG_W,TRITUM,TRITUM_FLAG_W,HELIUM,HELIUM_FLAG_W,DELHE3,DELHE3_FLAG_W,DELC13,DELC13_FLAG_W,DELC14,DELC14_FLAG_W,C14ERR,NEON,NEON_FLAG_W,NEONER,DOC,DOC_FLAG_W,CTDRAW,CDOM380,CDOM380_FLAG_W,CDOM325,CDOM325_FLAG_W,CDOMSL,CDOMSL_FLAG_W,CDOM340,CDOM340_FLAG_W,CDOMSN,CDOMSN_FLAG_W,HELIER,TRITER,CDOM412,CDOM412_FLAG_W,DELHER
,,,,,,,,,,,METERS,DBAR,ITS-90,PSS-78,,PSS-78,,UMOL/KG,,UMOL/KG,,UMOL/KG,,UMOL/KG,,UMOL/KG,,UMOL/KG,,PMOL/KG,,PMOL/KG,,PMOL/KG,,UMOL/KG,,UMOL/KG,,TU,,NMOL/KG,,PERCNT,,/MILLE,,/MILLE,,/MILLE,NMOL/KG,,NMOL/KG,UMOL/KG,,DBAR,1/M,,1/M,,1/NM,,1/M,,1/NM,,NMOL/KG,TU,1/M,,PERCNT
318M20040615,        P02,     156,          1,         36,         36,2,20040819,       0209,    29.9988,  -133.0072,       4557,     8.9,  23.4235,  33.7448,2,  33.7421,2, 221.9000,2,   221.0,2,    1.72,2,    0.10,2,    0.00,2,    0.22,2,-999.000,1,-999.000,1,-999.000,1,  1997.1,6,  2251.9,6,-999.000,9,-999.0000,9, -999.00,9, -999.00,9,  -999.0,9,  -999.0,-999.000,9,-999.000, -999.00,9,    8.90,-999.0000,9,-999.0000,9,-999.0000,9,-999.0000,9,-999.0000,9,-999.0000,-999.000,-999.0000,9, -999.00
318M20040615,        P02,     156,          1,         35,         35,2,20040819,       0209,    29.9988,  -133.0072,       4557,    40.6,  18.7829,  33.5263,2,  33.5162,2, 255.5000,2,   255.3,2,    1.70,2,    0.10,2,    0.00,2,    0.23,2,   2.649,2,   1.520,2,   0.179,2,  -999.0,9,  -999.0,9,-999.000,9,-999.0000,9, -999.00,9, -999.00,9,  -999.0,9,  -999.0,-999.000,9,-999.000, -999.00,9,   40.60,-999.0000,9,-999.0000,9,-999.0000,9,-999.0000,9,-999.0000,9,-999.0000,-999.000,-999.0000,9, -999.00
318M20040615,        P02,     156,          1,         34,         34,2,20040819,       0209,    29.9988,  -133.0072,       4557,    85.3,  16.5114,  33.6447,2,  33.6587,2, 248.0000,2,   248.8,2,    2.10,2,    0.10,2,    0.00,2,    0.22,2,-999.000,9,-999.000,9,-999.000,9,  -999.0,9,  -999.0,9,-999.000,9,-999.0000,9, -999.00,9, -999.00,9,  -999.0,9,  -999.0,-999.000,9,-999.000, -999.00,9,   85.30,-999.0000,9,-999.0000,9,-999.0000,9,-999.0000,9,-999.0000,9,-999.0000,-999.000,-999.0000,9, -999.00
318M20040615,        P02,     156,          1,         33,         33,2,20040819,       0209,    29.9988,  -133.0072,       4557,   135.1,  14.7819,  33.7360,2,  33.7338,2, 236.1000,2,   236.7,2,    3.12,2,    1.37,2,    0.12,2,    0.32,2,   2.976,2,   1.675,2,   0.202,2,  -999.0,9,  -999.0,9,-999.000,9,-999.0000,9, -999.00,9, -999.00,9,  -999.0,9,  -999.0,-999.000,9,-999.000, -999.00,9,  135.10,-999.0000,9,-999.0000,9,-999.0000,9,-999.0000,9,-999.0000,9,-999.0000,-999.000,-999.0000,9, -999.00
318M20040615,        P02,     156,          1,         32,         32,2,20040819,       0209,    29.9988,  -133.0072,       4557,   189.7,  10.9734,  33.5460,2,  33.5475,2, 220.0000,2,   222.6,2,    9.15,2,    9.65,2,    0.01,2,    0.83,2,   3.552,2,   1.919,2,   0.167,2,  -999.0,9,  -999.0,9,-999.000,9,-999.0000,9, -999.00,9, -999.00,9,  -999.0,9,  -999.0,-999.000,9,-999.000, -999.00,9,  189.70,-999.0000,9,-999.0000,9,-999.0000,9,-999.0000,9,-999.0000,9,-999.0000,-999.000,-999.0000,9, -999.00
318M20040615,        P02,     156,          1,         31,         31,2,20040819,       0209,    29.9988,  -133.0072,       4557,   239.1,  10.3454,  33.8334,2,  33.8331,2, 216.8000,2,   220.1,2,   12.87,2,   12.61,2,    0.01,2,    0.97,2,   3.611,2,   1.955,2,   0.114,2,  -999.0,9,  -999.0,9,-999.000,9,-999.0000,9, -999.00,9, -999.00,9,  -999.0,9,  -999.0,-999.000,9,-999.000, -999.00,9,  239.10,-999.0000,9,-999.0000,9,-999.0000,9,-999.0000,9,-999.0000,9,-999.0000,-999.000,-999.0000,9, -999.00
318M20040615,        P02,     156,          1,         30,         30,2,20040819,       0209,    29.9988,  -133.0072,       4557,   289.0,   8.8852,  33.9581,2,  33.9601,2, 185.9000,2,   185.2,2,   23.91,2,   20.01,2,    0.00,2,    1.45,2,-999.000,9,-999.000,9,-999.000,9,  -999.0,9,  -999.0,9,-999.000,9,-999.0000,9, -999.00,9, -999.00,9,  -999.0,9,  -999.0,-999.000,9,-999.000, -999.00,9,  289.00,-999.0000,9,-999.0000,9,-999.0000,9,-999.0000,9,-999.0000,9,-999.0000,-999.000,-999.0000,9, -999.00
318M20040615,        P02,     156,          1,         29,         29,2,20040819,       0209,    29.9988,  -133.0072,       4557,   338.3,   8.1151,  34.0113,2,  34.0117,2, 151.9000,2,   152.9,2,   33.52,2,   24.84,2,    0.00,2,    1.77,2,   3.111,2,   1.606,2,   0.136,2,  -999.0,9,  -999.0,9,-999.000,9,-999.0000,9, -999.00,9, -999.00,9,  -999.0,9,  -999.0,-999.000,9,-999.000, -999.00,9,  338.30,-999.0000,9,-999.0000,9,-999.0000,9,-999.0000,9,-999.0000,9,-999.0000,-999.000,-999.0000,9, -999.00
318M20040615,        P02,     156,          1,         28,         28,9,20040819,       0209,    29.9988,  -133.0072,       4557,   388.5,   7.1896,  34.0056,2,-999.0000,9, 132.2000,9,  -999.0,9, -999.00,9, -999.00,9, -999.00,9, -999.00,9,-999.000,9,-999.000,9,-999.000,9,  -999.0,9,  -999.0,9,-999.000,9,-999.0000,9, -999.00,9, -999.00,9,  -999.0,9,  -999.0,-999.000,9,-999.000, -999.00,9,  388.50,-999.0000,9,-999.0000,9,-999.0000,9,-999.0000,9,-999.0000,9,-999.0000,-999.000,-999.0000,9, -999.00
318M20040615,        P02,     156,          1,         27,         27,2,20040819,       0209,    29.9988,  -133.0072,       4557,   438.7,   6.3239,  34.0146,2,  34.0152,2,  99.3000,2,    96.9,2,   56.17,2,   33.58,2,    0.00,2,    2.40,2,   1.716,2,   0.833,2,   0.038,2,  -999.0,9,  -999.0,9,-999.000,9,-999.0000,9, -999.00,9, -999.00,9,  -999.0,9,  -999.0,-999.000,9,-999.000, -999.00,9,  438.70,-999.0000,9,-999.0000,9,-999.0000,9,-999.0000,9,-999.0000,9,-999.0000,-999.000,-999.0000,9, -999.00
318M20040615,        P02,     156,          1,         26,         26,2,20040819,       0209,    29.9988,  -133.0072,       4557,   488.6,   5.7560,  34.0379,2,  34.0393,2,  76.4000,2,    72.4,2,   66.89,2,   37.08,2,    0.00,2,    2.64,2,   1.159,2,   0.569,2,   0.027,2,  -999.0,9,  -999.0,9,-999.000,9,-999.0000,9, -999.00,9, -999.00,9,  -999.0,9,  -999.0,-999.000,9,-999.000, -999.00,9,  488.60,-999.0000,9,-999.0000,9,-999.0000,9,-999.0000,9,-999.0000,9,-999.0000,-999.000,-999.0000,9, -999.00
318M20040615,        P02,     156,          1,         25,         25,2,20040819,       0209,    29.9988,  -133.0072,       4557,   574.0,   5.1167,  34.1126,2,  34.1137,2,  41.3000,2,    39.0,2,   82.95,2,   40.83,2,    0.00,2,    2.94,2,   0.485,2,   0.243,2,   0.000,2,  -999.0,9,  -999.0,9,-999.000,9,-999.0000,9, -999.00,9, -999.00,9,  -999.0,9,  -999.0,-999.000,9,-999.000, -999.00,9,  574.00,-999.0000,9,-999.0000,9,-999.0000,9,-999.0000,9,-999.0000,9,-999.0000,-999.000,-999.0000,9, -999.00
318M20040615,        P02,     156,          1,         24,         24,2,20040819,       0209,    29.9988,  -133.0072,       4557,   678.1,   4.6528,  34.2255,2,  34.2251,2,  19.8000,2,    17.4,2,   97.78,2,   42.96,2,    0.00,2,    3.12,2,-999.000,9,-999.000,9,-999.000,9,  -999.0,9,  -999.0,9,-999.000,9,-999.0000,9, -999.00,9, -999.00,9,  -999.0,9,  -999.0,-999.000,9,-999.000, -999.00,9,  678.10,-999.0000,9,-999.0000,9,-999.0000,9,-999.0000,9,-999.0000,9,-999.0000,-999.000,-999.0000,9, -999.00
318M20040615,        P02,     156,          1,         23,         23,2,20040819,       0209,    29.9988,  -133.0072,       4557,   779.0,   4.2871,  34.3172,2,  34.3181,2,  12.7000,2,    12.6,2,  109.05,2,   43.73,2,    0.00,2,    3.20,2,   0.032,2,   0.020,2,   0.000,2,  -999.0,9,  -999.0,9,-999.000,9,-999.0000,9, -999.00,9, -999.00,9,  -999.0,9,  -999.0,-999.000,9,-999.000, -999.00,9,  779.00,-999.0000,9,-999.0000,9,-999.0000,9,-999.0000,9,-999.0000,9,-999.0000,-999.000,-999.0000,9, -999.00
318M20040615,        P02,     156,          1,         22,         22,2,20040819,       0209,    29.9988,  -133.0072,       4557,   878.8,   4.0452,  34.3951,2,  34.3965,2,  14.5000,2,    15.3,2,  115.87,2,   43.90,2,    0.00,2,    3.21,2,-999.000,9,-999.000,9,-999.000,9,  -999.0,9,  -999.0,9,-999.000,9,-999.0000,9, -999.00,9, -999.00,9,  -999.0,9,  -999.0,-999.000,9,-999.000, -999.00,9,  878.80,-999.0000,9,-999.0000,9,-999.0000,9,-999.0000,9,-999.0000,9,-999.0000,-999.000,-999.0000,9, -999.00
318M20040615,        P02,     156,          1,         21,         21,2,20040819,       0209,    29.9988,  -133.0072,       4557,   979.0,   3.7847,  34.4481,2,  34.4466,2,  21.5000,2,    22.3,2,  121.42,2,   43.79,2,    0.00,2,    3.19,2,   0.023,2,   0.018,2,   0.000,2,  -999.0,9,  -999.0,9,-999.000,9,-999.0000,9, -999.00,9, -999.00,9,  -999.0,9,  -999.0,-999.000,9,-999.000, -999.00,9,  979.00,-999.0000,9,-999.0000,9,-999.0000,9,-999.0000,9,-999.0000,9,-999.0000,-999.000,-999.0000,9, -999.00
318M20040615,        P02,     156,          1,         20,         20,2,20040819,       0209,    29.9988,  -133.0072,       4557,  1079.1,   3.5353,  34.4814,2,  34.4827,2,  29.8000,2,    30.9,2,  126.77,2,   43.46,2,    0.00,2,    3.15,2,   0.011,2,   0.005,2,   0.000,2,  -999.0,9,  -999.0,9,-999.000,9,-999.0000,9, -999.00,9, -999.00,9,  -999.0,9,  -999.0,-999.000,9,-999.000, -999.00,9, 1079.10,-999.0000,9,-999.0000,9,-999.0000,9,-999.0000,9,-999.0000,9,-999.0000,-999.000,-999.0000,9, -999.00
318M20040615,        P02,     156,          1,         19,         19,2,20040819,       0209,    29.9988,  -133.0072,       4557,  1184.5,   3.3196,  34.5107,2,  34.5110,2,  37.4000,2,    37.0,2,  131.48,2,   43.36,2,    0.00,2,    3.12,2,   0.010,2,   0.010,2,   0.000,2,  -999.0,9,  -999.0,9,-999.000,9,-999.0000,9, -999.00,9, -999.00,9,  -999.0,9,  -999.0,-999.000,9,-999.000, -999.00,9, 1184.50,-999.0000,9,-999.0000,9,-999.0000,9,-999.0000,9,-999.0000,9,-999.0000,-999.000,-999.0000,9, -999.00
318M20040615,        P02,     156,          1,         18,         18,2,20040819,       0209,    29.9988,  -133.0072,       4557,  1284.8,   3.1358,  34.5290,2,  34.5286,2,  42.8000,2,    42.5,2,  135.76,2,   43.41,2,    0.00,2,    3.10,2,-999.000,9,-999.000,9,-999.000,9,  -999.0,9,  -999.0,9,-999.000,9,-999.0000,9, -999.00,9, -999.00,9,  -999.0,9,  -999.0,-999.000,9,-999.000, -999.00,9, 1284.80,-999.0000,9,-999.0000,9,-999.0000,9,-999.0000,9,-999.0000,9,-999.0000,-999.000,-999.0000,9, -999.00
318M20040615,        P02,     156,          1,         17,         17,2,20040819,       0209,    29.9988,  -133.0072,       4557,  1384.9,   2.9593,  34.5457,2,  34.5461,2,  46.9000,2,    46.4,2,  140.68,2,   43.35,2,    0.00,2,    3.08,2,   0.005,2,   0.002,2,   0.000,2,  -999.0,9,  -999.0,9,-999.000,9,-999.0000,9, -999.00,9, -999.00,9,  -999.0,9,  -999.0,-999.000,9,-999.000, -999.00,9, 1384.90,-999.0000,9,-999.0000,9,-999.0000,9,-999.0000,9,-999.0000,9,-999.0000,-999.000,-999.0000,9, -999.00
318M20040615,        P02,     156,          1,         16,         16,2,20040819,       0209,    29.9988,  -133.0072,       4557,  1485.7,   2.7791,  34.5599,2,  34.5593,2,  50.8000,2,    51.0,2,  145.40,2,   43.03,2,    0.00,2,    3.06,2,   0.007,2,   0.005,2,   0.000,2,  -999.0,9,  -999.0,9,-999.000,9,-999.0000,9, -999.00,9, -999.00,9,  -999.0,9,  -999.0,-999.000,9,-999.000, -999.00,9, 1485.70,-999.0000,9,-999.0000,9,-999.0000,9,-999.0000,9,-999.0000,9,-999.0000,-999.000,-999.0000,9, -999.00
318M20040615,        P02,     156,          1,         15,         15,2,20040819,       0209,    29.9988,  -133.0072,       4557,  1585.8,   2.6102,  34.5738,2,  34.5744,2,  56.1000,2,    56.2,2,  149.91,2,   42.58,2,    0.00,2,    3.03,2,   0.005,2,   0.004,2,   0.000,2,  -999.0,9,  -999.0,9,-999.000,9,-999.0000,9, -999.00,9, -999.00,9,  -999.0,9,  -999.0,-999.000,9,-999.000, -999.00,9, 1585.80,-999.0000,9,-999.0000,9,-999.0000,9,-999.0000,9,-999.0000,9,-999.0000,-999.000,-999.0000,9, -999.00
318M20040615,        P02,     156,          1,         14,         14,2,20040819,       0209,    29.9988,  -133.0072,       4557,  1686.2,   2.4686,  34.5853,2,  34.5858,2,  60.6000,2,    60.0,2,  154.00,2,   42.20,2,    0.00,2,    3.00,2,-999.000,9,-999.000,9,-999.000,9,  -999.0,9,  -999.0,9,-999.000,9,-999.0000,9, -999.00,9, -999.00,9,  -999.0,9,  -999.0,-999.000,9,-999.000, -999.00,9, 1686.20,-999.0000,9,-999.0000,9,-999.0000,9,-999.0000,9,-999.0000,9,-999.0000,-999.000,-999.0000,9, -999.00
318M20040615,        P02,     156,          1,         13,         13,2,20040819,       0209,    29.9988,  -133.0072,       4557,  1792.2,   2.3168,  34.5979,2,  34.5978,2,  66.2000,2,    65.4,2,  157.89,2,   41.76,2,    0.00,2,    2.97,2,   0.003,2,   0.000,2,   0.000,2,  -999.0,9,  -999.0,9,-999.000,9,-999.0000,9, -999.00,9, -999.00,9,  -999.0,9,  -999.0,-999.000,9,-999.000, -999.00,9, 1792.20,-999.0000,9,-999.0000,9,-999.0000,9,-999.0000,9,-999.0000,9,-999.0000,-999.000,-999.0000,9, -999.00
318M20040615,        P02,     156,          1,         12,         12,2,20040819,       0209,    29.9988,  -133.0072,       4557,  1893.0,   2.1856,  34.6099,2,  34.6105,2,  72.4000,2,    72.4,2,  161.13,2,   41.34,2,    0.00,2,    2.94,2,   0.003,2,   0.003,2,   0.000,2,  -999.0,9,  -999.0,9,-999.000,9,-999.0000,9, -999.00,9, -999.00,9,  -999.0,9,  -999.0,-999.000,9,-999.000, -999.00,9, 1893.00,-999.0000,9,-999.0000,9,-999.0000,9,-999.0000,9,-999.0000,9,-999.0000,-999.000,-999.0000,9, -999.00
318M20040615,        P02,     156,          1,         11,         11,2,20040819,       0209,    29.9988,  -133.0072,       4557,  1993.5,   2.0797,  34.6193,2,  34.6194,2,  77.5000,2,    77.9,2,  163.26,2,   41.00,2,    0.00,2,    2.92,2,-999.000,9,-999.000,9,-999.000,9,  -999.0,9,  -999.0,9,-999.000,9,-999.0000,9, -999.00,9, -999.00,9,  -999.0,9,  -999.0,-999.000,9,-999.000, -999.00,9, 1993.50,-999.0000,9,-999.0000,9,-999.0000,9,-999.0000,9,-999.0000,9,-999.0000,-999.000,-999.0000,9, -999.00
318M20040615,        P02,     156,          1,         10,         10,2,20040819,       0209,    29.9988,  -133.0072,       4557,  2199.7,   1.9150,  34.6345,2,  34.6337,2,  87.3000,2,    88.3,2,  166.93,2,   40.72,2,    0.00,2,    2.86,2,   0.005,2,   0.003,2,   0.000,2,  -999.0,9,  -999.0,9,-999.000,9,-999.0000,9, -999.00,9, -999.00,9,  -999.0,9,  -999.0,-999.000,9,-999.000, -999.00,9, 2199.70,-999.0000,9,-999.0000,9,-999.0000,9,-999.0000,9,-999.0000,9,-999.0000,-999.000,-999.0000,9, -999.00
318M20040615,        P02,     156,          1,          9,          9,2,20040819,       0209,    29.9988,  -133.0072,       4557,  2451.5,   1.7602,  34.6481,2,  34.6484,2,  97.1000,2,    98.4,2,  169.94,2,   40.24,2,    0.00,2,    2.80,2,   0.002,2,   0.002,2,   0.000,2,  -999.0,9,  -999.0,9,-999.000,9,-999.0000,9, -999.00,9, -999.00,9,  -999.0,9,  -999.0,-999.000,9,-999.000, -999.00,9, 2451.50,-999.0000,9,-999.0000,9,-999.0000,9,-999.0000,9,-999.0000,9,-999.0000,-999.000,-999.0000,9, -999.00
318M20040615,        P02,     156,          1,          8,          8,2,20040819,       0209,    29.9988,  -133.0072,       4557,  2708.7,   1.6492,  34.6587,2,  34.6579,2, 107.2000,2,   108.3,2,  171.44,2,   39.48,2,    0.00,2,    2.74,2,-999.000,9,-999.000,9,-999.000,9,  -999.0,9,  -999.0,9,-999.000,9,-999.0000,9, -999.00,9, -999.00,9,  -999.0,9,  -999.0,-999.000,9,-999.000, -999.00,9, 2708.70,-999.0000,9,-999.0000,9,-999.0000,9,-999.0000,9,-999.0000,9,-999.0000,-999.000,-999.0000,9, -999.00
318M20040615,        P02,     156,          1,          7,          7,2,20040819,       0209,    29.9988,  -133.0072,       4557,  2960.5,   1.5740,  34.6664,2,  34.6665,2, 115.4000,2,   116.2,2,  172.29,2,   38.76,2,    0.00,2,    2.70,2,   0.005,2,   0.006,2,   0.000,2,  -999.0,9,  -999.0,9,-999.000,9,-999.0000,9, -999.00,9, -999.00,9,  -999.0,9,  -999.0,-999.000,9,-999.000, -999.00,9, 2960.50,-999.0000,9,-999.0000,9,-999.0000,9,-999.0000,9,-999.0000,9,-999.0000,-999.000,-999.0000,9, -999.00
318M20040615,        P02,     156,          1,          6,          6,2,20040819,       0209,    29.9988,  -133.0072,       4557,  3248.4,   1.5096,  34.6743,2,  34.6748,2, 125.4000,2,   125.8,2,  171.15,2,   38.06,2,    0.00,2,    2.64,2,   0.008,2,   0.007,2,   0.000,2,  -999.0,9,  -999.0,9,-999.000,9,-999.0000,9, -999.00,9, -999.00,9,  -999.0,9,  -999.0,-999.000,9,-999.000, -999.00,9, 3248.40,-999.0000,9,-999.0000,9,-999.0000,9,-999.0000,9,-999.0000,9,-999.0000,-999.000,-999.0000,9, -999.00
318M20040615,        P02,     156,          1,          5,          5,2,20040819,       0209,    29.9988,  -133.0072,       4557,  3551.7,   1.4757,  34.6806,2,  34.6808,2, 134.6000,2,   135.1,2,  167.66,2,   37.41,2,    0.00,2,    2.60,2,   0.006,2,   0.007,2,   0.000,2,  -999.0,9,  -999.0,9,-999.000,9,-999.0000,9, -999.00,9, -999.00,9,  -999.0,9,  -999.0,-999.000,9,-999.000, -999.00,9, 3551.70,-999.0000,9,-999.0000,9,-999.0000,9,-999.0000,9,-999.0000,9,-999.0000,-999.000,-999.0000,9, -999.00
318M20040615,        P02,     156,          1,          4,          4,2,20040819,       0209,    29.9988,  -133.0072,       4557,  3862.6,   1.4789,  34.6842,2,  34.6840,2, 140.2000,2,   140.7,2,  164.82,2,   37.04,2,    0.00,2,    2.56,2,   0.009,2,   0.009,2,   0.000,2,  -999.0,9,  -999.0,9,-999.000,9,-999.0000,9, -999.00,9, -999.00,9,  -999.0,9,  -999.0,-999.000,9,-999.000, -999.00,9, 3862.60,-999.0000,9,-999.0000,9,-999.0000,9,-999.0000,9,-999.0000,9,-999.0000,-999.000,-999.0000,9, -999.00
318M20040615,        P02,     156,          1,          3,          3,2,20040819,       0209,    29.9988,  -133.0072,       4557,  4172.4,   1.5016,  34.6856,2,  34.6859,2, 142.6000,2,   143.1,2,  163.27,2,   36.83,2,    0.00,2,    2.54,2,   0.005,2,   0.009,2,   0.000,2,  -999.0,9,  -999.0,9,-999.000,9,-999.0000,9, -999.00,9, -999.00,9,  -999.0,9,  -999.0,-999.000,9,-999.000, -999.00,9, 4172.40,-999.0000,9,-999.0000,9,-999.0000,9,-999.0000,9,-999.0000,9,-999.0000,-999.000,-999.0000,9, -999.00
318M20040615,        P02,     156,          1,          2,          2,2,20040819,       0209,    29.9988,  -133.0072,       4557,  4435.9,   1.5280,  34.6860,2,  34.6865,2, 143.7000,2,   143.7,2,  162.81,2,   37.10,2,    0.00,2,    2.54,2,   0.006,6,   0.009,6,   0.000,6,  -999.0,9,  -999.0,9,-999.000,9,-999.0000,9, -999.00,9, -999.00,9,  -999.0,9,  -999.0,-999.000,9,-999.000, -999.00,9, 4435.90,-999.0000,9,-999.0000,9,-999.0000,9,-999.0000,9,-999.0000,9,-999.0000,-999.000,-999.0000,9, -999.00
318M20040615,        P02,     156,          1,          1,          1,2,20040819,       0209,    29.9988,  -133.0072,       4557,  4646.5,   1.5527,  34.6860,2,  34.6861,2, 143.4000,2,   144.1,2,  162.57,2,   37.21,2,    0.00,2,    2.55,2,   0.010,2,   0.006,2,   0.006,2,  -999.0,9,  -999.0,9,-999.000,9,-999.0000,9, -999.00,9, -999.00,9,  -999.0,9,  -999.0,-999.000,9,-999.000, -999.00,9, 4646.50,-999.0000,9,-999.0000,9,-999.0000,9,-999.0000,9,-999.0000,9,-999.0000,-999.000,-999.0000,9, -999.00