BOTTLE,20131027SIOCCHRJL
EXPOCODE,SECT_ID,STNNBR,CASTNO,SAMPNO,BTLNBR,BTLNBR_FLAG_W,DATE,TIME,LATITUDE,LONGITUDE,DEPTH,CTDPRS,CTDTMP,CTDSAL,CTDSAL_FLAG_W,SALNTY,SALNTY_FLAG_W,CTDOXY,CTDOXY_FLAG_W,OXYGEN,OXYGEN_FLAG_W,SILCAT,SILCAT_FLAG_W,NITRAT,NITRAT_FLAG_W,NITRIT,NITRIT_FLAG_W,PHSPHT,PHSPHT_FLAG_W,CFC-11,CFC-11_FLAG_W,CFC-12,CFC-12_FLAG_W,CFC113,CFC113_FLAG_W,TCARBN,TCARBN_FLAG_W,ALKALI,ALKALI_FLAG_W,TRITUM,TRITUM_FLAG_W,HELIUM,HELIUM_FLAG_W,DELHE3,DELHE3_FLAG_W,DELC13,DELC13_FLAG_W,DELC14,DELC14_FLAG_W,C14ERR,NEON,NEON_FLAG_W,NEONER,DOC,DOC_FLAG_W,CTDRAW,CDOM380,CDOM380_FLAG_W,CDOM325,CDOM325_FLAG_W,CDOMSL,CDOMSL_FLAG_W,CDOM340,CDOM340_FLAG_W,CDOMSN,CDOMSN_FLAG_W,HELIER,TRITER,CDOM412,CDOM412_FLAG_W,DELHER
,,,,,,,,,,,METERS,DBAR,ITS-90,PSS-78,,PSS-78,,UMOL/KG,,UMOL/KG,,UMOL/KG,,UMOL/KG,,UMOL/KG,,UMOL/KG,,PMOL/KG,,PMOL/KG,,PMOL/KG,,UMOL/KG,,UMOL/KG,,TU,,NMOL/KG,,PERCNT,,/MILLE,,/MILLE,,/MILLE,NMOL/KG,,NMOL/KG,UMOL/KG,,DBAR,1/M,,1/M,,1/NM,,1/M,,1/NM,,NMOL/KG,TU,1/M,,PERCNT
318M20040615,        P02,     186,          1,         21,         21,2,20040826,       1753,    32.6122,  -118.5423,       1109,     3.5,  19.5175,  33.3916,2,  33.3860,2, 241.5000,2,   241.3,2,    0.62,2,    0.14,2,    0.00,2,    0.26,2,   2.464,2,   1.523,2,   0.183,2,  1989.8,2,  -999.0,9,-999.000,9,-999.0000,9, -999.00,9, -999.00,9,  -999.0,9,  -999.0,-999.000,9,-999.000,   65.50,2,    3.50,   0.0510,2,   0.1660,2,   0.0190,2,   0.1170,2,   0.0210,2,-999.0000,-999.000,   0.0310,2, -999.00
318M20040615,        P02,     186,          1,         20,         20,2,20040826,       1753,    32.6122,  -118.5423,       1109,    23.0,  18.1381,  33.2945,2,  33.2829,2, 258.2000,2,   260.9,2,    0.57,2,    0.32,2,    0.01,2,    0.30,2,-999.000,9,-999.000,9,-999.000,9,  1993.0,6,  -999.0,9,-999.000,9,-999.0000,9, -999.00,9, -999.00,9,  -999.0,9,  -999.0,-999.000,9,-999.000,   63.30,2,   23.00,   0.0890,2,   0.2460,2,   0.0160,2,   0.1800,2,   0.0170,2,-999.0000,-999.000,   0.0580,2, -999.00
318M20040615,        P02,     186,          1,         19,         19,2,20040826,       1753,    32.6122,  -118.5423,       1109,    67.8,  10.6725,  33.3062,2,  33.3126,2, 186.8000,2,   186.2,2,   12.75,2,   15.71,2,    0.05,2,    1.32,2,   3.484,2,   2.028,2,   0.183,2,  2100.9,2,  -999.0,9,-999.000,9,-999.0000,9, -999.00,9, -999.00,9,  -999.0,9,  -999.0,-999.000,9,-999.000,   50.00,2,   67.80,   0.0960,2,   0.2330,2,   0.0140,2,   0.1750,2,   0.0140,2,-999.0000,-999.000,   0.0710,2, -999.00
318M20040615,        P02,     186,          1,         18,         18,2,20040826,       1753,    32.6122,  -118.5423,       1109,    97.9,   9.8748,  33.7329,2,  33.7235,2, 135.7000,2,   136.1,2,   21.95,2,   21.88,2,    0.01,2,    1.75,2,-999.000,9,-999.000,9,-999.000,9,  2158.4,2,  -999.0,9,-999.000,9,-999.0000,9, -999.00,9, -999.00,9,  -999.0,9,  -999.0,-999.000,9,-999.000,   41.50,2,   97.90,-999.0000,9,-999.0000,9,-999.0000,9,-999.0000,9,-999.0000,9,-999.0000,-999.000,-999.0000,9, -999.00
318M20040615,        P02,     186,          1,         17,         17,2,20040826,       1753,    32.6122,  -118.5423,       1109,   122.9,   9.9936,  33.9525,2,  33.9427,2, 107.9000,2,   109.2,2,   25.93,2,   23.65,2,    0.01,2,    1.95,2,   2.844,2,   1.513,2,   0.107,2,  2183.5,2,  -999.0,9,-999.000,9,-999.0000,9, -999.00,9, -999.00,9,  -999.0,9,  -999.0,-999.000,9,-999.000,   39.50,2,  122.90,   0.0760,2,   0.1910,2,   0.0140,2,   0.1410,2,   0.0150,2,-999.0000,-999.000,   0.0570,2, -999.00
318M20040615,        P02,     186,          1,         16,         16,2,20040826,       1753,    32.6122,  -118.5423,       1109,   147.7,   9.7906,  34.0941,2,  34.0827,2,  90.8000,2,    91.8,2,   29.51,2,   25.58,2,    0.01,2,    2.10,2,-999.000,9,-999.000,9,-999.000,9,  2202.3,2,  -999.0,9,-999.000,9,-999.0000,9, -999.00,9, -999.00,9,  -999.0,9,  -999.0,-999.000,9,-999.000,   46.30,2,  147.70,-999.0000,9,-999.0000,9,-999.0000,9,-999.0000,9,-999.0000,9,-999.0000,-999.000,-999.0000,9, -999.00
318M20040615,        P02,     186,          1,         15,         15,2,20040826,       1753,    32.6122,  -118.5423,       1109,   171.5,   9.6719,  34.1810,2,  34.1781,2,  82.7000,2,    80.6,2,   32.29,2,   26.79,2,    0.01,2,    2.21,2,   2.100,2,   1.159,2,   0.056,2,  2216.1,2,  -999.0,9,-999.000,9,-999.0000,9, -999.00,9, -999.00,9,  -999.0,9,  -999.0,-999.000,9,-999.000,   47.30,2,  171.50,-999.0000,9,-999.0000,9,-999.0000,9,-999.0000,9,-999.0000,9,-999.0000,-999.000,-999.0000,9, -999.00
318M20040615,        P02,     186,          1,         14,         14,2,20040826,       1753,    32.6122,  -118.5423,       1109,   196.7,   9.5177,  34.2108,2,  34.2090,2,  73.3000,2,    73.6,2,   33.87,2,   27.57,2,    0.01,2,    2.27,2,-999.000,9,-999.000,9,-999.000,9,  2221.9,2,  -999.0,9,-999.000,9,-999.0000,9, -999.00,9, -999.00,9,  -999.0,9,  -999.0,-999.000,9,-999.000,   42.50,2,  196.70,   0.0800,2,   0.1920,2,   0.0130,2,   0.1420,2,   0.0140,2,-999.0000,-999.000,   0.0610,2, -999.00
318M20040615,        P02,     186,          1,         13,         13,2,20040826,       1753,    32.6122,  -118.5423,       1109,   221.4,   9.1500,  34.2271,2,  34.2241,2,  67.4000,2,    68.6,2,   37.06,2,   28.78,2,    0.01,2,    2.35,2,   1.745,6,   0.938,6,   0.042,6,  2230.9,2,  -999.0,9,-999.000,9,-999.0000,9, -999.00,9, -999.00,9,  -999.0,9,  -999.0,-999.000,9,-999.000,   44.70,2,  221.40,   0.0880,2,   0.2020,2,   0.0130,2,   0.1520,2,   0.0140,2,-999.0000,-999.000,   0.0670,2, -999.00
318M20040615,        P02,     186,          1,         12,         12,2,20040826,       1753,    32.6122,  -118.5423,       1109,   271.7,   8.7494,  34.2235,2,  34.2214,2,  63.5000,2,    65.0,2,   40.25,2,   29.84,2,    0.01,2,    2.42,2,-999.000,9,-999.000,9,-999.000,9,  2238.8,2,  -999.0,9,-999.000,9,-999.0000,9, -999.00,9, -999.00,9,  -999.0,9,  -999.0,-999.000,9,-999.000,   45.50,2,  271.70,   0.1030,2,   0.2300,2,   0.0120,2,   0.1750,2,   0.0130,2,-999.0000,-999.000,   0.0790,2, -999.00
318M20040615,        P02,     186,          1,         11,         11,2,20040826,       1753,    32.6122,  -118.5423,       1109,   324.1,   8.3254,  34.2674,2,  34.2626,2,  51.9000,2,    48.6,2,   46.07,2,   31.54,2,    0.00,2,    2.59,2,   1.140,2,   0.625,2,   0.020,2,  2256.5,2,  -999.0,9,-999.000,9,-999.0000,9, -999.00,9, -999.00,9,  -999.0,9,  -999.0,-999.000,9,-999.000,   43.00,2,  324.10,   0.0930,2,   0.2140,2,   0.0130,2,   0.1600,2,   0.0130,2,-999.0000,-999.000,   0.0720,2, -999.00
318M20040615,        P02,     186,          1,         10,         10,2,20040826,       1753,    32.6122,  -118.5423,       1109,   371.8,   7.7697,  34.2527,2,  34.2483,2,  42.2000,2,    43.6,2,   51.50,2,   33.08,2,    0.01,2,    2.69,2,-999.000,9,-999.000,9,-999.000,9,  2268.7,2,  -999.0,9,-999.000,9,-999.0000,9, -999.00,9, -999.00,9,  -999.0,9,  -999.0,-999.000,9,-999.000,   72.30,4,  371.80,   0.1070,2,   0.2380,2,   0.0120,2,   0.1800,2,   0.0130,2,-999.0000,-999.000,   0.0840,2, -999.00
318M20040615,        P02,     186,          1,          9,          9,2,20040826,       1753,    32.6122,  -118.5423,       1109,   422.5,   7.3283,  34.2691,2,  34.2648,2,  32.6000,2,    33.2,2,   57.76,2,   34.86,2,    0.00,2,    2.82,2,   0.674,2,   0.340,2,   0.011,2,  2283.1,2,  -999.0,9,-999.000,9,-999.0000,9, -999.00,9, -999.00,9,  -999.0,9,  -999.0,-999.000,9,-999.000,   42.70,2,  422.50,-999.0000,9,-999.0000,9,-999.0000,9,-999.0000,9,-999.0000,9,-999.0000,-999.000,-999.0000,9, -999.00
318M20040615,        P02,     186,          1,         37,         37,2,20040826,       1753,    32.6122,  -118.5423,       1109,   473.1,   6.9285,  34.2839,2,  34.2799,2,  25.9000,2,    24.3,2,   63.42,2,   36.37,2,    0.00,2,    2.93,2,-999.000,1,-999.000,1,-999.000,1,  2293.9,2,  -999.0,9,-999.000,9,-999.0000,9, -999.00,9, -999.00,9,  -999.0,9,  -999.0,-999.000,9,-999.000,   41.50,2,  473.10,-999.0000,9,-999.0000,9,-999.0000,9,-999.0000,9,-999.0000,9,-999.0000,-999.000,-999.0000,9, -999.00
318M20040615,        P02,     186,          1,          7,          7,2,20040826,       1753,    32.6122,  -118.5423,       1109,   545.3,   6.4359,  34.3113,2,  34.3083,2,  17.3000,2,    16.8,2,   71.53,2,   38.15,2,    0.00,2,    3.04,2,   0.272,2,   0.142,2,   0.000,2,  2309.3,2,  -999.0,9,-999.000,9,-999.0000,9, -999.00,9, -999.00,9,  -999.0,9,  -999.0,-999.000,9,-999.000,   42.00,2,  545.30,-999.0000,9,-999.0000,9,-999.0000,9,-999.0000,9,-999.0000,9,-999.0000,-999.000,-999.0000,9, -999.00
318M20040615,        P02,     186,          1,          6,          6,2,20040826,       1753,    32.6122,  -118.5423,       1109,   646.9,   5.7910,  34.3558,2,  34.3547,2,  11.3000,2,    10.5,2,   82.53,2,   40.37,2,    0.00,2,    3.16,2,   0.116,2,   0.062,2,   0.000,2,  2325.9,2,  -999.0,9,-999.000,9,-999.0000,9, -999.00,9, -999.00,9,  -999.0,9,  -999.0,-999.000,9,-999.000,   39.90,2,  646.90,   0.1060,2,   0.2420,2,   0.0130,2,   0.1850,2,   0.0130,2,-999.0000,-999.000,   0.0790,2, -999.00
318M20040615,        P02,     186,          1,          5,          5,2,20040826,       1753,    32.6122,  -118.5423,       1109,   746.0,   5.2755,  34.3865,2,  34.3839,2,  11.0000,2,    11.1,2,   91.51,2,   41.96,2,    0.00,2,    3.21,2,   0.066,2,   0.040,2,   0.000,2,  2337.1,2,  -999.0,9,-999.000,9,-999.0000,9, -999.00,9, -999.00,9,  -999.0,9,  -999.0,-999.000,9,-999.000,   38.30,2,  746.00,-999.0000,9,-999.0000,9,-999.0000,9,-999.0000,9,-999.0000,9,-999.0000,-999.000,-999.0000,9, -999.00
318M20040615,        P02,     186,          1,          4,          4,2,20040826,       1753,    32.6122,  -118.5423,       1109,   844.9,   4.8934,  34.4194,2,  34.4171,2,  12.5000,2,    13.0,2,   99.89,2,   42.50,2,    0.00,2,    3.23,2,   0.089,2,   0.060,2,   0.013,2,  2346.1,2,  -999.0,9,-999.000,9,-999.0000,9, -999.00,9, -999.00,9,  -999.0,9,  -999.0,-999.000,9,-999.000,   38.50,2,  844.90,   0.0930,2,   0.2090,2,   0.0120,2,   0.1560,2,   0.0130,2,-999.0000,-999.000,   0.0720,2, -999.00
318M20040615,        P02,     186,          1,          3,          3,2,20040826,       1753,    32.6122,  -118.5423,       1109,   951.7,   4.3551,  34.4595,2,  34.4572,2,  17.1000,2,    17.7,2,  111.82,2,   42.83,2,    0.00,2,    3.24,2,   0.100,2,   0.088,2,   0.027,2,  2357.1,2,  -999.0,9,-999.000,9,-999.0000,9, -999.00,9, -999.00,9,  -999.0,9,  -999.0,-999.000,9,-999.000,   37.80,2,  951.70,-999.0000,9,-999.0000,9,-999.0000,9,-999.0000,9,-999.0000,9,-999.0000,-999.000,-999.0000,9, -999.00
318M20040615,        P02,     186,          1,          2,          2,2,20040826,       1753,    32.6122,  -118.5423,       1109,  1049.2,   3.9142,  34.4931,2,  34.4916,2,  23.0000,2,    23.4,2,  123.17,2,   42.77,2,    0.00,2,    3.23,2,   0.121,2,   0.164,2,   0.037,2,  2366.8,6,  -999.0,9,-999.000,9,-999.0000,9, -999.00,9, -999.00,9,  -999.0,9,  -999.0,-999.000,9,-999.000,   38.90,2, 1049.20,-999.0000,9,-999.0000,9,-999.0000,9,-999.0000,9,-999.0000,9,-999.0000,-999.000,-999.0000,9, -999.00
318M20040615,        P02,     186,          1,          1,          1,2,20040826,       1753,    32.6122,  -118.5423,       1109,  1099.2,   3.6789,  34.5117,2,  34.5102,2,  29.3000,2,    29.1,2,  127.50,2,   42.88,2,    0.00,2,    3.21,2,   0.101,2,   0.152,2,   0.033,2,  2367.8,2,  -999.0,9,-999.000,9,-999.0000,9, -999.00,9, -999.00,9,  -999.0,9,  -999.0,-999.000,9,-999.000,   59.30,4, 1099.20,   0.1010,2,   0.2260,2,   0.0120,2,   0.1690,2,   0.0130,2,-999.0000,-999.000,   0.0770,2, -999.00