BOTTLE,20131027SIOCCHRJL
EXPOCODE,SECT_ID,STNNBR,CASTNO,SAMPNO,BTLNBR,BTLNBR_FLAG_W,DATE,TIME,LATITUDE,LONGITUDE,DEPTH,CTDPRS,CTDTMP,CTDSAL,CTDSAL_FLAG_W,SALNTY,SALNTY_FLAG_W,CTDOXY,CTDOXY_FLAG_W,OXYGEN,OXYGEN_FLAG_W,SILCAT,SILCAT_FLAG_W,NITRAT,NITRAT_FLAG_W,NITRIT,NITRIT_FLAG_W,PHSPHT,PHSPHT_FLAG_W,CFC-11,CFC-11_FLAG_W,CFC-12,CFC-12_FLAG_W,CFC113,CFC113_FLAG_W,TCARBN,TCARBN_FLAG_W,ALKALI,ALKALI_FLAG_W,TRITUM,TRITUM_FLAG_W,HELIUM,HELIUM_FLAG_W,DELHE3,DELHE3_FLAG_W,DELC13,DELC13_FLAG_W,DELC14,DELC14_FLAG_W,C14ERR,NEON,NEON_FLAG_W,NEONER,DOC,DOC_FLAG_W,CTDRAW,CDOM380,CDOM380_FLAG_W,CDOM325,CDOM325_FLAG_W,CDOMSL,CDOMSL_FLAG_W,CDOM340,CDOM340_FLAG_W,CDOMSN,CDOMSN_FLAG_W,HELIER,TRITER,CDOM412,CDOM412_FLAG_W,DELHER
,,,,,,,,,,,METERS,DBAR,ITS-90,PSS-78,,PSS-78,,UMOL/KG,,UMOL/KG,,UMOL/KG,,UMOL/KG,,UMOL/KG,,UMOL/KG,,PMOL/KG,,PMOL/KG,,PMOL/KG,,UMOL/KG,,UMOL/KG,,TU,,NMOL/KG,,PERCNT,,/MILLE,,/MILLE,,/MILLE,NMOL/KG,,NMOL/KG,UMOL/KG,,DBAR,1/M,,1/M,,1/NM,,1/M,,1/NM,,NMOL/KG,TU,1/M,,PERCNT
318M20040615,        P02,     170,          1,         36,         36,2,20040822,       2224,    30.0008,  -124.9183,       4324,     9.5,  21.2786,  33.3850,2,  33.3865,2, 227.1000,2,   227.7,2,    1.47,2,    0.16,2,    0.00,2,    0.30,2,   2.212,2,   1.374,2,   0.160,2,  1996.1,6,  2237.4,6,   0.999,2,   1.7065,2,   -2.39,2, -999.00,9,  -999.0,9,  -999.0,-999.000,9,-999.000, -999.00,9,    9.50,-999.0000,9,-999.0000,9,-999.0000,9,-999.0000,9,-999.0000,9,   0.0085,   0.006,-999.0000,9,    0.20
318M20040615,        P02,     170,          1,         35,         35,2,20040822,       2224,    30.0008,  -124.9183,       4324,    36.3,  19.8039,  33.3256,2,  33.3420,2, 237.8000,2,   237.5,2,    1.24,2,    0.11,2,    0.00,2,    0.30,2,   2.408,2,   1.461,2,   0.175,2,  -999.0,9,  -999.0,9,-999.000,9,   1.7606,2,   -1.41,2, -999.00,9,  -999.0,9,  -999.0,-999.000,9,-999.000, -999.00,9,   36.30,-999.0000,9,-999.0000,9,-999.0000,9,-999.0000,9,-999.0000,9,   0.0088,-999.000,-999.0000,9,    0.20
318M20040615,        P02,     170,          1,         34,         34,2,20040822,       2224,    30.0008,  -124.9183,       4324,    71.0,  17.4641,  33.3264,2,  33.3207,2, 255.3000,2,   253.3,2,    1.43,2,    0.11,2,    0.00,2,    0.29,2,   2.724,2,   1.664,2,   0.190,2,  -999.0,9,  -999.0,9,-999.000,9,   1.7804,2,   -2.58,2, -999.00,9,  -999.0,9,  -999.0,-999.000,9,-999.000, -999.00,9,   71.00,-999.0000,9,-999.0000,9,-999.0000,9,-999.0000,9,-999.0000,9,   0.0089,-999.000,-999.0000,9,    0.20
318M20040615,        P02,     170,          1,         33,         33,2,20040822,       2224,    30.0008,  -124.9183,       4324,   120.5,  15.0673,  33.3395,2,  33.3496,2, 245.1000,2,   244.3,2,    2.03,2,    0.33,2,    0.02,2,    0.36,2,   2.968,2,   1.785,2,   0.201,2,  -999.0,9,  -999.0,9,   0.926,2,   1.7864,2,   -1.67,2, -999.00,9,  -999.0,9,  -999.0,-999.000,9,-999.000, -999.00,9,  120.50,-999.0000,9,-999.0000,9,-999.0000,9,-999.0000,9,-999.0000,9,   0.0089,   0.005,-999.0000,9,    0.20
318M20040615,        P02,     170,          1,         32,         32,2,20040822,       2224,    30.0008,  -124.9183,       4324,   170.5,  10.3197,  33.2546,2,  33.2584,2, 208.4000,2,   211.9,2,   10.87,2,   12.68,2,    0.01,2,    1.11,2,   3.643,2,   2.084,2,   0.177,2,  -999.0,9,  -999.0,9,   0.887,2,   1.8096,2,    0.15,2, -999.00,9,  -999.0,9,  -999.0,-999.000,9,-999.000, -999.00,9,  170.50,-999.0000,9,-999.0000,9,-999.0000,9,-999.0000,9,-999.0000,9,   0.0090,   0.006,-999.0000,9,    0.20
318M20040615,        P02,     170,          1,         31,         31,2,20040822,       2224,    30.0008,  -124.9183,       4324,   220.5,   9.0877,  33.7600,2,  33.7773,2, 155.5000,2,   158.3,2,   23.36,2,   22.08,2,    0.00,2,    1.65,2,   3.399,6,   1.851,6,   0.125,6,  -999.0,9,  -999.0,9,   0.903,2,   1.8136,2,    2.09,2, -999.00,9,  -999.0,9,  -999.0,-999.000,9,-999.000, -999.00,9,  220.50,-999.0000,9,-999.0000,9,-999.0000,9,-999.0000,9,-999.0000,9,   0.0091,   0.005,-999.0000,9,    0.20
318M20040615,        P02,     170,          1,         30,         30,2,20040822,       2224,    30.0008,  -124.9183,       4324,   270.3,   8.5259,  34.0057,2,  34.0083,2, 132.0000,2,   133.8,2,   32.04,2,   25.92,2,    0.00,2,    1.88,2,   2.922,2,   1.528,2,   0.105,2,  -999.0,9,  -999.0,9,-999.000,9,   1.8167,2,    7.10,2, -999.00,9,  -999.0,9,  -999.0,-999.000,9,-999.000, -999.00,9,  270.30,-999.0000,9,-999.0000,9,-999.0000,9,-999.0000,9,-999.0000,9,   0.0091,-999.000,-999.0000,9,    0.20
318M20040615,        P02,     170,          1,         29,         29,2,20040822,       2224,    30.0008,  -124.9183,       4324,   319.9,   7.7514,  34.0613,2,  34.0603,2, 101.8000,2,    98.1,2,   42.16,2,   30.48,2,    0.00,2,    2.24,2,   2.218,2,   1.141,2,   0.071,2,  -999.0,9,  -999.0,9,-999.000,9,   1.8242,2,   11.86,2, -999.00,9,  -999.0,9,  -999.0,-999.000,9,-999.000, -999.00,9,  319.90,-999.0000,9,-999.0000,9,-999.0000,9,-999.0000,9,-999.0000,9,   0.0091,-999.000,-999.0000,9,    0.20
318M20040615,        P02,     170,          1,         28,         28,2,20040822,       2224,    30.0008,  -124.9183,       4324,   370.1,   7.2042,  34.0938,2,  34.0930,2,  77.3000,2,    73.3,2,   50.67,2,   33.33,2,    0.00,2,    2.48,2,   1.622,2,   0.818,2,   0.054,2,  -999.0,9,  -999.0,9,   0.685,2,   1.8252,2,   13.74,2, -999.00,9,  -999.0,9,  -999.0,-999.000,9,-999.000, -999.00,9,  370.10,-999.0000,9,-999.0000,9,-999.0000,9,-999.0000,9,-999.0000,9,   0.0091,   0.005,-999.0000,9,    0.20
318M20040615,        P02,     170,          1,         27,         27,2,20040822,       2224,    30.0008,  -124.9183,       4324,   425.3,   6.6907,  34.1396,2,  34.1392,2,  54.7000,2,    49.1,2,   60.04,2,   36.01,2,    0.00,2,    2.73,2,   1.002,2,   0.510,2,   0.023,2,  -999.0,9,  -999.0,9,   0.511,2,   1.8353,2,   15.09,2, -999.00,9,  -999.0,9,  -999.0,-999.000,9,-999.000, -999.00,9,  425.30,-999.0000,9,-999.0000,9,-999.0000,9,-999.0000,9,-999.0000,9,   0.0092,   0.004,-999.0000,9,    0.20
318M20040615,        P02,     170,          1,         26,         26,2,20040822,       2224,    30.0008,  -124.9183,       4324,   474.9,   6.3017,  34.1773,2,  34.1768,2,  39.6000,2,    34.8,2,   67.15,2,   37.56,2,    0.00,2,    2.88,2,   0.641,2,   0.315,2,   0.016,2,  -999.0,9,  -999.0,9,   0.408,2,   1.8406,2,   15.27,2, -999.00,9,  -999.0,9,  -999.0,-999.000,9,-999.000, -999.00,9,  474.90,-999.0000,9,-999.0000,9,-999.0000,9,-999.0000,9,-999.0000,9,   0.0092,   0.003,-999.0000,9,    0.20
318M20040615,        P02,     170,          1,         25,         25,2,20040822,       2224,    30.0008,  -124.9183,       4324,   545.0,   5.7749,  34.2312,2,  34.2317,2,  24.8000,2,    20.8,2,   78.42,2,   39.62,2,    0.00,2,    3.04,2,   0.282,2,   0.138,2,   0.006,2,  -999.0,9,  -999.0,9,-999.000,9,   1.8409,2,   14.45,2, -999.00,9,  -999.0,9,  -999.0,-999.000,9,-999.000, -999.00,9,  545.00,-999.0000,9,-999.0000,9,-999.0000,9,-999.0000,9,-999.0000,9,   0.0092,-999.000,-999.0000,9,    0.20
318M20040615,        P02,     170,          1,         24,         24,2,20040822,       2224,    30.0008,  -124.9183,       4324,   644.6,   5.0607,  34.2895,2,  34.2892,2,  15.2000,2,    13.7,2,   92.36,2,   41.85,2,    0.00,2,    3.16,2,   0.083,2,   0.040,2,   0.000,2,  -999.0,9,  -999.0,9,-999.000,9,   1.8623,2,   13.88,2, -999.00,9,  -999.0,9,  -999.0,-999.000,9,-999.000, -999.00,9,  644.60,-999.0000,9,-999.0000,9,-999.0000,9,-999.0000,9,-999.0000,9,   0.0093,-999.000,-999.0000,9,    0.20
318M20040615,        P02,     170,          1,         23,         23,2,20040822,       2224,    30.0008,  -124.9183,       4324,   749.5,   4.8053,  34.3835,2,  34.3835,2,  12.3000,2,    12.0,2,   99.75,2,   42.77,2,    0.00,2,    3.22,2,   0.038,2,   0.027,2,   0.009,2,  -999.0,9,  -999.0,9,   0.022,2,   1.8732,2,   14.91,2, -999.00,9,  -999.0,9,  -999.0,-999.000,9,-999.000, -999.00,9,  749.50,-999.0000,9,-999.0000,9,-999.0000,9,-999.0000,9,-999.0000,9,   0.0094,   0.001,-999.0000,9,    0.20
318M20040615,        P02,     170,          1,         22,         22,2,20040822,       2224,    30.0008,  -124.9183,       4324,   849.2,   4.4833,  34.4279,2,  34.4277,2,  15.0000,2,    15.4,2,  106.55,2,   43.42,2,    0.00,2,    3.23,2,   0.027,2,   0.020,2,   0.000,2,  -999.0,9,  -999.0,9,   0.008,2,   1.8811,2,   16.25,2, -999.00,9,  -999.0,9,  -999.0,-999.000,9,-999.000, -999.00,9,  849.20,-999.0000,9,-999.0000,9,-999.0000,9,-999.0000,9,-999.0000,9,   0.0094,   0.000,-999.0000,9,    0.20
318M20040615,        P02,     170,          1,         21,         21,2,20040822,       2224,    30.0008,  -124.9183,       4324,   950.0,   4.1595,  34.4621,2,  34.4646,2,  19.4000,2,    20.2,2,  113.98,2,   43.70,2,    0.00,2,    3.22,2,   0.033,2,   0.015,2,   0.000,2,  -999.0,9,  -999.0,9,   0.007,2,   1.8763,2,   18.34,2, -999.00,9,  -999.0,9,  -999.0,-999.000,9,-999.000, -999.00,9,  950.00,-999.0000,9,-999.0000,9,-999.0000,9,-999.0000,9,-999.0000,9,   0.0094,   0.000,-999.0000,9,    0.20
318M20040615,        P02,     170,          1,         20,         20,2,20040822,       2224,    30.0008,  -124.9183,       4324,  1050.0,   3.8938,  34.4858,2,  34.4871,2,  24.4000,2,    24.9,2,  119.14,2,   43.65,2,    0.00,2,    3.21,2,   0.020,2,   0.012,2,   0.000,2,  -999.0,9,  -999.0,9,   0.004,2,-999.0000,9, -999.00,9, -999.00,9,  -999.0,9,  -999.0,-999.000,9,-999.000, -999.00,9, 1050.00,-999.0000,9,-999.0000,9,-999.0000,9,-999.0000,9,-999.0000,9,-999.0000,   0.000,-999.0000,9, -999.00
318M20040615,        P02,     170,          1,         19,         19,2,20040822,       2224,    30.0008,  -124.9183,       4324,  1150.3,   3.6391,  34.5070,2,  34.5071,2,  29.4000,2,    29.7,2,  125.56,2,   43.48,2,    0.00,2,    3.19,2,   0.023,2,   0.019,2,   0.000,2,  -999.0,9,  -999.0,9,   0.004,2,   1.8972,2,   18.83,2, -999.00,9,  -999.0,9,  -999.0,-999.000,9,-999.000, -999.00,9, 1150.30,-999.0000,9,-999.0000,9,-999.0000,9,-999.0000,9,-999.0000,9,   0.0095,   0.000,-999.0000,9,    0.20
318M20040615,        P02,     170,          1,         18,         18,2,20040822,       2224,    30.0008,  -124.9183,       4324,  1255.1,   3.3982,  34.5257,2,  34.5248,2,  34.8000,2,    34.2,2,  131.17,2,   43.21,2,    0.00,2,    3.17,2,   0.023,2,   0.021,2,   0.000,2,  -999.0,9,  -999.0,9,   0.003,2,   1.9067,2,   21.84,2, -999.00,9,  -999.0,9,  -999.0,-999.000,9,-999.000, -999.00,9, 1255.10,-999.0000,9,-999.0000,9,-999.0000,9,-999.0000,9,-999.0000,9,   0.0095,   0.000,-999.0000,9,    0.20
318M20040615,        P02,     170,          1,         17,         17,2,20040822,       2224,    30.0008,  -124.9183,       4324,  1355.5,   3.1415,  34.5439,2,  34.5442,2,  40.3000,2,    40.2,2,  137.85,2,   42.89,2,    0.00,2,    3.14,2,   0.019,2,   0.015,2,   0.000,2,  -999.0,9,  -999.0,9,   0.002,2,   1.8675,2,   22.16,2, -999.00,9,  -999.0,9,  -999.0,-999.000,9,-999.000, -999.00,9, 1355.50,-999.0000,9,-999.0000,9,-999.0000,9,-999.0000,9,-999.0000,9,   0.0093,   0.000,-999.0000,9,    0.20
318M20040615,        P02,     170,          1,         16,         16,2,20040822,       2224,    30.0008,  -124.9183,       4324,  1455.1,   2.9346,  34.5616,2,  34.5605,2,  45.4000,2,    46.8,2,  142.85,2,   42.61,2,    0.00,2,    3.11,2,   0.018,2,   0.015,2,   0.000,2,  -999.0,9,  -999.0,9,   0.001,2,   1.9232,2,   22.87,2, -999.00,9,  -999.0,9,  -999.0,-999.000,9,-999.000, -999.00,9, 1455.10,-999.0000,9,-999.0000,9,-999.0000,9,-999.0000,9,-999.0000,9,   0.0096,   0.000,-999.0000,9,    0.20
318M20040615,        P02,     170,          1,         15,         15,2,20040822,       2224,    30.0008,  -124.9183,       4324,  1555.8,   2.7742,  34.5735,2,  34.5738,2,  51.6000,2,    51.3,2,  147.02,2,   42.55,2,    0.00,2,    3.08,2,   0.013,2,   0.010,2,   0.000,2,  -999.0,9,  -999.0,9,   0.002,2,   1.9234,2,   23.51,2, -999.00,9,  -999.0,9,  -999.0,-999.000,9,-999.000, -999.00,9, 1555.80,-999.0000,9,-999.0000,9,-999.0000,9,-999.0000,9,-999.0000,9,   0.0096,   0.000,-999.0000,9,    0.20
318M20040615,        P02,     170,          1,         14,         14,2,20040822,       2224,    30.0008,  -124.9183,       4324,  1661.8,   2.5899,  34.5861,2,  34.5858,2,  56.9000,2,    57.8,2,  151.39,2,   42.34,2,    0.00,2,    3.04,2,   0.016,2,   0.016,2,   0.000,2,  -999.0,9,  -999.0,9,   0.005,2,   1.9275,2,   24.06,2, -999.00,9,  -999.0,9,  -999.0,-999.000,9,-999.000, -999.00,9, 1661.80,-999.0000,9,-999.0000,9,-999.0000,9,-999.0000,9,-999.0000,9,   0.0096,   0.000,-999.0000,9,    0.20
318M20040615,        P02,     170,          1,         13,         13,2,20040822,       2224,    30.0008,  -124.9183,       4324,  1761.3,   2.4123,  34.5996,2,  34.6001,2,  63.9000,2,    64.8,2,  155.56,2,   42.01,2,    0.00,2,    3.00,2,   0.006,2,   0.004,2,   0.000,2,  -999.0,9,  -999.0,9,   0.005,2,   1.9270,2,   24.41,2, -999.00,9,  -999.0,9,  -999.0,-999.000,9,-999.000, -999.00,9, 1761.30,-999.0000,9,-999.0000,9,-999.0000,9,-999.0000,9,-999.0000,9,   0.0096,   0.000,-999.0000,9,    0.20
318M20040615,        P02,     170,          1,         12,         12,2,20040822,       2224,    30.0008,  -124.9183,       4324,  1861.9,   2.2719,  34.6108,2,  34.6105,2,  70.4000,2,    71.4,2,  158.28,2,   41.52,2,    0.00,2,    2.96,2,-999.000,9,-999.000,9,-999.000,9,  -999.0,9,  -999.0,9,-999.000,9,-999.0000,9, -999.00,9, -999.00,9,  -999.0,9,  -999.0,-999.000,9,-999.000, -999.00,9, 1861.90,-999.0000,9,-999.0000,9,-999.0000,9,-999.0000,9,-999.0000,9,-999.0000,-999.000,-999.0000,9, -999.00
318M20040615,        P02,     170,          1,         11,         11,2,20040822,       2224,    30.0008,  -124.9183,       4324,  1963.3,   2.1714,  34.6201,2,  34.6201,2,  76.4000,2,    77.5,2,  159.93,2,   41.03,2,    0.00,2,    2.92,2,-999.000,9,-999.000,9,-999.000,9,  -999.0,9,  -999.0,9,-999.000,9,-999.0000,9, -999.00,9, -999.00,9,  -999.0,9,  -999.0,-999.000,9,-999.000, -999.00,9, 1963.30,-999.0000,9,-999.0000,9,-999.0000,9,-999.0000,9,-999.0000,9,-999.0000,-999.000,-999.0000,9, -999.00
318M20040615,        P02,     170,          1,         10,         10,2,20040822,       2224,    30.0008,  -124.9183,       4324,  2128.9,   2.0439,  34.6319,2,  34.6311,2,  85.4000,2,    85.6,2,  161.81,2,   40.43,2,    0.00,2,    2.89,2,   0.002,2,   0.003,2,   0.000,2,  -999.0,9,  -999.0,9,-999.000,9,-999.0000,9, -999.00,9, -999.00,9,  -999.0,9,  -999.0,-999.000,9,-999.000, -999.00,9, 2128.90,-999.0000,9,-999.0000,9,-999.0000,9,-999.0000,9,-999.0000,9,-999.0000,-999.000,-999.0000,9, -999.00
318M20040615,        P02,     170,          1,          9,          9,2,20040822,       2224,    30.0008,  -124.9183,       4324,  2379.6,   1.8817,  34.6444,2,  34.6437,2,  96.1000,2,    95.6,2,  164.54,2,   39.73,2,    0.00,2,    2.82,2,-999.000,9,-999.000,9,-999.000,9,  -999.0,9,  -999.0,9,-999.000,9,-999.0000,9, -999.00,9, -999.00,9,  -999.0,9,  -999.0,-999.000,9,-999.000, -999.00,9, 2379.60,-999.0000,9,-999.0000,9,-999.0000,9,-999.0000,9,-999.0000,9,-999.0000,-999.000,-999.0000,9, -999.00
318M20040615,        P02,     170,          1,          8,          8,2,20040822,       2224,    30.0008,  -124.9183,       4324,  2637.0,   1.7531,  34.6547,2,  34.6540,2, 104.6000,2,   105.0,2,  166.62,2,   39.15,2,    0.00,2,    2.77,2,-999.000,9,-999.000,9,-999.000,9,  -999.0,9,  -999.0,9,-999.000,9,-999.0000,9, -999.00,9, -999.00,9,  -999.0,9,  -999.0,-999.000,9,-999.000, -999.00,9, 2637.00,-999.0000,9,-999.0000,9,-999.0000,9,-999.0000,9,-999.0000,9,-999.0000,-999.000,-999.0000,9, -999.00
318M20040615,        P02,     170,          1,          7,          7,2,20040822,       2224,    30.0008,  -124.9183,       4324,  2890.4,   1.6571,  34.6625,2,  34.6621,2, 111.9000,2,   112.5,2,  168.49,2,   38.82,2,    0.00,2,    2.72,2,   0.001,2,   0.002,2,   0.000,2,  -999.0,9,  -999.0,9,-999.000,9,-999.0000,9, -999.00,9, -999.00,9,  -999.0,9,  -999.0,-999.000,9,-999.000, -999.00,9, 2890.40,-999.0000,9,-999.0000,9,-999.0000,9,-999.0000,9,-999.0000,9,-999.0000,-999.000,-999.0000,9, -999.00
318M20040615,        P02,     170,          1,          6,          6,2,20040822,       2224,    30.0008,  -124.9183,       4324,  3148.3,   1.5813,  34.6694,2,  34.6692,2, 119.8000,2,   120.4,2,  170.59,2,   38.50,2,    0.00,2,    2.69,2,-999.000,9,-999.000,9,-999.000,9,  -999.0,9,  -999.0,9,-999.000,9,-999.0000,9, -999.00,9, -999.00,9,  -999.0,9,  -999.0,-999.000,9,-999.000, -999.00,9, 3148.30,-999.0000,9,-999.0000,9,-999.0000,9,-999.0000,9,-999.0000,9,-999.0000,-999.000,-999.0000,9, -999.00
318M20040615,        P02,     170,          1,          5,          5,2,20040822,       2224,    30.0008,  -124.9183,       4324,  3406.3,   1.5273,  34.6755,2,  34.6756,2, 126.9000,2,   127.5,2,  170.76,2,   38.13,2,    0.00,2,    2.64,2,   0.010,2,   0.010,2,   0.000,2,  -999.0,9,  -999.0,9,-999.000,9,-999.0000,9, -999.00,9, -999.00,9,  -999.0,9,  -999.0,-999.000,9,-999.000, -999.00,9, 3406.30,-999.0000,9,-999.0000,9,-999.0000,9,-999.0000,9,-999.0000,9,-999.0000,-999.000,-999.0000,9, -999.00
318M20040615,        P02,     170,          1,          4,          4,2,20040822,       2224,    30.0008,  -124.9183,       4324,  3657.5,   1.5024,  34.6803,2,  34.6791,2, 132.7000,2,   133.4,2,  167.97,2,   37.58,2,    0.00,2,    2.61,2,   2.355,4,   3.620,4,   0.866,4,  -999.0,9,  -999.0,9,-999.000,9,-999.0000,9, -999.00,9, -999.00,9,  -999.0,9,  -999.0,-999.000,9,-999.000, -999.00,9, 3657.50,-999.0000,9,-999.0000,9,-999.0000,9,-999.0000,9,-999.0000,9,-999.0000,-999.000,-999.0000,9, -999.00
318M20040615,        P02,     170,          1,          3,          3,2,20040822,       2224,    30.0008,  -124.9183,       4324,  3864.9,   1.5062,  34.6823,2,  34.6813,2, 135.1000,2,   136.1,2,  167.54,2,   37.37,2,    0.00,2,    2.60,2,   0.006,2,   0.011,2,   0.000,2,  -999.0,9,  -999.0,9,-999.000,9,-999.0000,9, -999.00,9, -999.00,9,  -999.0,9,  -999.0,-999.000,9,-999.000, -999.00,9, 3864.90,-999.0000,9,-999.0000,9,-999.0000,9,-999.0000,9,-999.0000,9,-999.0000,-999.000,-999.0000,9, -999.00
318M20040615,        P02,     170,          1,          2,          2,2,20040822,       2224,    30.0008,  -124.9183,       4324,  4072.2,   1.5100,  34.6841,2,  34.6842,2, 137.8000,2,   138.5,2,  166.88,2,   37.11,2,    0.00,2,    2.58,2,   0.007,2,   0.010,2,   0.000,2,  -999.0,9,  -999.0,9,-999.000,9,-999.0000,9, -999.00,9, -999.00,9,  -999.0,9,  -999.0,-999.000,9,-999.000, -999.00,9, 4072.20,-999.0000,9,-999.0000,9,-999.0000,9,-999.0000,9,-999.0000,9,-999.0000,-999.000,-999.0000,9, -999.00
318M20040615,        P02,     170,          1,          1,          1,2,20040822,       2224,    30.0008,  -124.9183,       4324,  4276.3,   1.5322,  34.6841,2,  34.6870,2, 138.5000,2,   138.8,2,  167.49,2,   37.05,2,    0.00,2,    2.58,2,   0.008,2,   0.012,2,   0.000,2,  -999.0,9,  -999.0,9,-999.000,9,-999.0000,9, -999.00,9, -999.00,9,  -999.0,9,  -999.0,-999.000,9,-999.000, -999.00,9, 4276.30,-999.0000,9,-999.0000,9,-999.0000,9,-999.0000,9,-999.0000,9,-999.0000,-999.000,-999.0000,9, -999.00