BOTTLE,20131027SIOCCHRJL
EXPOCODE,SECT_ID,STNNBR,CASTNO,SAMPNO,BTLNBR,BTLNBR_FLAG_W,DATE,TIME,LATITUDE,LONGITUDE,DEPTH,CTDPRS,CTDTMP,CTDSAL,CTDSAL_FLAG_W,SALNTY,SALNTY_FLAG_W,CTDOXY,CTDOXY_FLAG_W,OXYGEN,OXYGEN_FLAG_W,SILCAT,SILCAT_FLAG_W,NITRAT,NITRAT_FLAG_W,NITRIT,NITRIT_FLAG_W,PHSPHT,PHSPHT_FLAG_W,CFC-11,CFC-11_FLAG_W,CFC-12,CFC-12_FLAG_W,CFC113,CFC113_FLAG_W,TCARBN,TCARBN_FLAG_W,ALKALI,ALKALI_FLAG_W,TRITUM,TRITUM_FLAG_W,HELIUM,HELIUM_FLAG_W,DELHE3,DELHE3_FLAG_W,DELC13,DELC13_FLAG_W,DELC14,DELC14_FLAG_W,C14ERR,NEON,NEON_FLAG_W,NEONER,DOC,DOC_FLAG_W,CTDRAW,CDOM380,CDOM380_FLAG_W,CDOM325,CDOM325_FLAG_W,CDOMSL,CDOMSL_FLAG_W,CDOM340,CDOM340_FLAG_W,CDOMSN,CDOMSN_FLAG_W,HELIER,TRITER,CDOM412,CDOM412_FLAG_W,DELHER
,,,,,,,,,,,METERS,DBAR,ITS-90,PSS-78,,PSS-78,,UMOL/KG,,UMOL/KG,,UMOL/KG,,UMOL/KG,,UMOL/KG,,UMOL/KG,,PMOL/KG,,PMOL/KG,,PMOL/KG,,UMOL/KG,,UMOL/KG,,TU,,NMOL/KG,,PERCNT,,/MILLE,,/MILLE,,/MILLE,NMOL/KG,,NMOL/KG,UMOL/KG,,DBAR,1/M,,1/M,,1/NM,,1/M,,1/NM,,NMOL/KG,TU,1/M,,PERCNT
318M20040615,        P02,     184,          3,         22,         22,2,20040826,       1002,     32.309,  -119.1495,       1143,     3.4,  18.4625,  33.4213,2,  33.4218,2, 244.7000,2,   244.3,2,    0.62,2,    0.12,2,    0.00,2,    0.23,2,   2.541,2,   1.581,2,   0.186,2,  1990.1,2,  -999.0,9,-999.000,9,-999.0000,9, -999.00,9,    1.74,2,    29.4,2,     4.7,-999.000,9,-999.000,   67.40,2,    3.40,-999.0000,9,-999.0000,9,-999.0000,9,-999.0000,9,-999.0000,9,-999.0000,-999.000,-999.0000,9, -999.00
318M20040615,        P02,     184,          3,         21,         21,2,20040826,       1002,     32.309,  -119.1495,       1143,    18.4,  17.8291,  33.4523,2,  33.4523,2, 252.8000,2,   253.1,2,    0.98,2,    0.22,2,    0.01,2,    0.25,2,   2.631,2,   1.636,2,   0.193,2,  1992.0,6,  -999.0,9,-999.000,9,-999.0000,9, -999.00,9,    1.84,2,    35.3,2,     4.2,-999.000,9,-999.000,   62.00,2,   18.40,-999.0000,9,-999.0000,9,-999.0000,9,-999.0000,9,-999.0000,9,-999.0000,-999.000,-999.0000,9, -999.00
318M20040615,        P02,     184,          3,         20,         20,2,20040826,       1002,     32.309,  -119.1495,       1143,    43.0,  12.6195,  33.2066,2,  33.2070,2, 224.4000,2,   225.2,2,    5.74,2,    9.15,2,    0.44,2,    0.94,2,-999.000,9,-999.000,9,-999.000,9,  2057.7,2,  -999.0,9,-999.000,9,-999.0000,9, -999.00,9,    0.99,2,    30.4,2,     4.5,-999.000,9,-999.000,   52.80,2,   43.00,-999.0000,9,-999.0000,9,-999.0000,9,-999.0000,9,-999.0000,9,-999.0000,-999.000,-999.0000,9, -999.00
318M20040615,        P02,     184,          3,         19,         19,2,20040826,       1002,     32.309,  -119.1495,       1143,    88.1,   9.5823,  33.6265,2,  33.6302,2, 144.8000,2,   144.5,2,   22.12,2,   22.81,2,    0.02,2,    1.75,2,   3.355,2,   1.897,2,   0.168,2,  2152.2,2,  -999.0,9,-999.000,9,-999.0000,9, -999.00,9,    0.15,2,    30.8,2,     5.6,-999.000,9,-999.000,   49.70,2,   88.10,-999.0000,9,-999.0000,9,-999.0000,9,-999.0000,9,-999.0000,9,-999.0000,-999.000,-999.0000,9, -999.00
318M20040615,        P02,     184,          3,         18,         18,2,20040826,       1002,     32.309,  -119.1495,       1143,   112.8,   9.2619,  33.7909,2,  33.7923,2, 129.4000,2,   129.4,2,   25.89,2,   24.59,2,    0.01,2,    1.87,2,-999.000,9,-999.000,9,-999.000,9,  2169.4,2,  -999.0,9,-999.000,9,-999.0000,9, -999.00,9,    0.06,2,    16.2,2,     4.3,-999.000,9,-999.000,   49.70,2,  112.80,-999.0000,9,-999.0000,9,-999.0000,9,-999.0000,9,-999.0000,9,-999.0000,-999.000,-999.0000,9, -999.00
318M20040615,        P02,     184,          3,         17,         17,2,20040826,       1002,     32.309,  -119.1495,       1143,   137.8,   9.0149,  33.9217,2,  33.9223,2, 113.4000,2,   114.1,2,   29.67,2,   26.37,2,    0.01,2,    1.99,2,   2.913,2,   1.618,2,   0.118,2,  2186.7,2,  -999.0,9,-999.000,9,-999.0000,9, -999.00,9,   -0.10,2,    19.0,2,     4.4,-999.000,9,-999.000, -999.00,9,  137.80,-999.0000,9,-999.0000,9,-999.0000,9,-999.0000,9,-999.0000,9,-999.0000,-999.000,-999.0000,9, -999.00
318M20040615,        P02,     184,          3,         16,         16,2,20040826,       1002,     32.309,  -119.1495,       1143,   162.4,   8.7330,  34.0067,2,  34.0077,2, 105.0000,2,   106.8,2,   32.85,2,   27.52,2,    0.01,2,    2.05,2,-999.000,9,-999.000,9,-999.000,9,  2198.2,2,  -999.0,9,-999.000,9,-999.0000,9, -999.00,9,   -0.09,2,    11.1,2,     4.4,-999.000,9,-999.000,   45.40,2,  162.40,-999.0000,9,-999.0000,9,-999.0000,9,-999.0000,9,-999.0000,9,-999.0000,-999.000,-999.0000,9, -999.00
318M20040615,        P02,     184,          3,         15,         15,2,20040826,       1002,     32.309,  -119.1495,       1143,   187.3,   8.5905,  34.0877,2,  34.0864,2,  93.1000,2,    90.4,2,   36.62,2,   28.98,2,    0.01,2,    2.19,2,   2.307,2,   1.245,2,   0.083,2,  2213.9,2,  -999.0,9,-999.000,9,-999.0000,9, -999.00,9,   -0.14,2,   -11.3,2,     4.6,-999.000,9,-999.000,   45.00,2,  187.30,-999.0000,9,-999.0000,9,-999.0000,9,-999.0000,9,-999.0000,9,-999.0000,-999.000,-999.0000,9, -999.00
318M20040615,        P02,     184,          3,         14,         14,2,20040826,       1002,     32.309,  -119.1495,       1143,   212.4,   8.4512,  34.1052,2,  34.1054,2,  86.5000,2,    85.9,2,   38.40,2,   29.62,2,    0.01,2,    2.24,2,-999.000,9,-999.000,9,-999.000,9,  2219.9,2,  -999.0,9,-999.000,9,-999.0000,9, -999.00,9,   -0.13,2,    -7.8,6,    10.0,-999.000,9,-999.000, -999.00,9,  212.40,-999.0000,9,-999.0000,9,-999.0000,9,-999.0000,9,-999.0000,9,-999.0000,-999.000,-999.0000,9, -999.00
318M20040615,        P02,     184,          3,         13,         13,2,20040826,       1002,     32.309,  -119.1495,       1143,   237.5,   8.1511,  34.1297,2,  34.1307,2,  74.4000,2,    76.8,2,   41.99,2,   30.79,2,    0.01,2,    2.35,2,   1.870,2,   0.996,2,   0.063,2,  2232.3,2,  -999.0,9,-999.000,9,-999.0000,9, -999.00,9,   -0.20,2,   -24.3,2,     8.0,-999.000,9,-999.000,   43.00,2,  237.50,-999.0000,9,-999.0000,9,-999.0000,9,-999.0000,9,-999.0000,9,-999.0000,-999.000,-999.0000,9, -999.00
318M20040615,        P02,     184,          3,         12,         12,2,20040826,       1002,     32.309,  -119.1495,       1143,   287.2,   7.7457,  34.2080,2,  34.2081,2,  49.2000,2,    49.7,2,   50.03,2,   33.14,2,    0.00,2,    2.61,2,-999.000,9,-999.000,9,-999.000,9,  2259.9,2,  -999.0,9,-999.000,9,-999.0000,9, -999.00,9,   -0.26,2,   -34.5,2,     3.9,-999.000,9,-999.000,   42.10,2,  287.20,-999.0000,9,-999.0000,9,-999.0000,9,-999.0000,9,-999.0000,9,-999.0000,-999.000,-999.0000,9, -999.00
318M20040615,        P02,     184,          3,         11,         11,2,20040826,       1002,     32.309,  -119.1495,       1143,   336.9,   7.3287,  34.2176,2,  34.2175,2,  42.7000,2,    43.6,2,   55.05,2,   34.32,2,    0.00,2,    2.70,2,   0.937,2,   0.479,2,   0.021,2,  2269.7,2,  -999.0,9,-999.000,9,-999.0000,9, -999.00,9,   -0.20,2,   -81.9,2,     3.7,-999.000,9,-999.000,   42.30,2,  336.90,-999.0000,9,-999.0000,9,-999.0000,9,-999.0000,9,-999.0000,9,-999.0000,-999.000,-999.0000,9, -999.00
318M20040615,        P02,     184,          3,         10,         10,2,20040826,       1002,     32.309,  -119.1495,       1143,   391.7,   7.0667,  34.2719,2,  34.2719,2,  30.6000,2,    29.4,2,   60.88,2,   35.87,2,    0.00,2,    2.85,2,-999.000,9,-999.000,9,-999.000,9,  2286.7,6,  -999.0,9,-999.000,9,-999.0000,9, -999.00,9,   -0.25,2,  -116.3,2,     3.7,-999.000,9,-999.000,   44.70,2,  391.70,-999.0000,9,-999.0000,9,-999.0000,9,-999.0000,9,-999.0000,9,-999.0000,-999.000,-999.0000,9, -999.00
318M20040615,        P02,     184,          3,          9,          9,2,20040826,       1002,     32.309,  -119.1495,       1143,   440.2,   6.8041,  34.2830,2,  34.2822,2,  24.2000,2,    23.5,2,   65.10,2,   37.01,2,    0.00,2,    2.92,2,   0.439,2,   0.230,2,   0.003,2,  2294.2,2,  -999.0,9,-999.000,9,-999.0000,9, -999.00,9,   -0.28,2,  -108.4,2,     3.5,-999.000,9,-999.000,   43.50,2,  440.20,-999.0000,9,-999.0000,9,-999.0000,9,-999.0000,9,-999.0000,9,-999.0000,-999.000,-999.0000,9, -999.00
318M20040615,        P02,     184,          3,         37,         37,2,20040826,       1002,     32.309,  -119.1495,       1143,   489.2,   6.4878,  34.3121,2,  34.3120,2,  17.1000,2,    16.0,2,   71.57,2,   38.15,2,    0.00,2,    3.02,2,-999.000,9,-999.000,9,-999.000,9,  2306.7,2,  -999.0,9,-999.000,9,-999.0000,9, -999.00,9,   -0.33,2,  -131.3,2,     3.7,-999.000,9,-999.000,   42.30,2,  489.20,-999.0000,9,-999.0000,9,-999.0000,9,-999.0000,9,-999.0000,9,-999.0000,-999.000,-999.0000,9, -999.00
318M20040615,        P02,     184,          3,          7,          7,2,20040826,       1002,     32.309,  -119.1495,       1143,   575.2,   5.9477,  34.3422,2,  34.3422,2,  12.3000,2,    11.9,2,   80.05,2,   39.76,2,    0.00,2,    3.10,2,   0.158,2,   0.082,2,   0.000,2,  2322.4,2,  -999.0,9,-999.000,9,-999.0000,9, -999.00,9,   -0.31,2,  -141.8,2,     3.4,-999.000,9,-999.000,   39.90,2,  575.20,-999.0000,9,-999.0000,9,-999.0000,9,-999.0000,9,-999.0000,9,-999.0000,-999.000,-999.0000,9, -999.00
318M20040615,        P02,     184,          3,          6,          6,2,20040826,       1002,     32.309,  -119.1495,       1143,   675.4,   5.4596,  34.3781,2,  34.3783,2,  11.0000,2,    11.2,2,   89.43,2,   40.81,2,    0.00,2,    3.17,2,-999.000,9,-999.000,9,-999.000,9,  2333.0,2,  -999.0,9,-999.000,9,-999.0000,9, -999.00,9,   -0.32,2,  -154.9,2,     3.7,-999.000,9,-999.000,   44.40,4,  675.40,-999.0000,9,-999.0000,9,-999.0000,9,-999.0000,9,-999.0000,9,-999.0000,-999.000,-999.0000,9, -999.00
318M20040615,        P02,     184,          3,          5,          5,2,20040826,       1002,     32.309,  -119.1495,       1143,   776.2,   4.9963,  34.4094,2,  34.4095,2,  12.4000,2,    13.2,2,   98.19,2,   41.74,2,    0.00,2,    3.20,2,   0.086,2,   0.056,2,   0.009,2,  2342.7,2,  -999.0,9,-999.000,9,-999.0000,9, -999.00,9,   -0.37,2,  -189.3,2,     4.4,-999.000,9,-999.000,   38.40,2,  776.20,-999.0000,9,-999.0000,9,-999.0000,9,-999.0000,9,-999.0000,9,-999.0000,-999.000,-999.0000,9, -999.00
318M20040615,        P02,     184,          3,          4,          4,2,20040826,       1002,     32.309,  -119.1495,       1143,   876.4,   4.5047,  34.4375,2,  34.4378,2,  15.7000,2,    15.8,2,  108.44,2,   42.40,2,    0.00,2,    3.21,2,-999.000,9,-999.000,9,-999.000,9,  2350.9,2,  -999.0,9,-999.000,9,-999.0000,9, -999.00,9,   -0.37,2,  -203.0,2,     3.5,-999.000,9,-999.000,   42.60,4,  876.40,-999.0000,9,-999.0000,9,-999.0000,9,-999.0000,9,-999.0000,9,-999.0000,-999.000,-999.0000,9, -999.00
318M20040615,        P02,     184,          3,          3,          3,2,20040826,       1002,     32.309,  -119.1495,       1143,   981.7,   4.1455,  34.4690,2,  34.4697,2,  20.6000,2,    20.5,2,  116.03,2,   42.90,2,    0.00,2,    3.21,2,   0.083,6,   0.062,6,   0.016,6,  2357.9,2,  -999.0,9,-999.000,9,-999.0000,9, -999.00,9,   -0.32,2,  -999.0,5,  -999.0,-999.000,9,-999.000,   38.90,2,  981.70,-999.0000,9,-999.0000,9,-999.0000,9,-999.0000,9,-999.0000,9,-999.0000,-999.000,-999.0000,9, -999.00
318M20040615,        P02,     184,          3,          2,          2,2,20040826,       1002,     32.309,  -119.1495,       1143,  1075.0,   3.7428,  34.5034,2,  34.5051,2,  26.9000,2,    27.4,2,  125.28,2,   43.12,2,    0.00,2,    3.19,2,-999.000,9,-999.000,9,-999.000,9,  2365.0,6,  -999.0,9,-999.000,9,-999.0000,9, -999.00,9,   -0.33,2,  -189.4,2,     3.9,-999.000,9,-999.000,   43.90,4, 1075.00,-999.0000,9,-999.0000,9,-999.0000,9,-999.0000,9,-999.0000,9,-999.0000,-999.000,-999.0000,9, -999.00
318M20040615,        P02,     184,          3,          1,          1,2,20040826,       1002,     32.309,  -119.1495,       1143,  1134.8,   3.6599,  34.5095,2,  34.5102,2,  29.6000,2,    29.6,2,  126.90,2,   43.29,2,    0.00,2,    3.18,2,   0.089,2,   0.093,2,   0.034,2,  2365.5,2,  -999.0,9,-999.000,9,-999.0000,9, -999.00,9,   -0.35,2,  -184.1,2,     3.6,-999.000,9,-999.000,   37.10,2, 1134.80,-999.0000,9,-999.0000,9,-999.0000,9,-999.0000,9,-999.0000,9,-999.0000,-999.000,-999.0000,9, -999.00