BOTTLE,20131027SIOCCHRJL
EXPOCODE,SECT_ID,STNNBR,CASTNO,SAMPNO,BTLNBR,BTLNBR_FLAG_W,DATE,TIME,LATITUDE,LONGITUDE,DEPTH,CTDPRS,CTDTMP,CTDSAL,CTDSAL_FLAG_W,SALNTY,SALNTY_FLAG_W,CTDOXY,CTDOXY_FLAG_W,OXYGEN,OXYGEN_FLAG_W,SILCAT,SILCAT_FLAG_W,NITRAT,NITRAT_FLAG_W,NITRIT,NITRIT_FLAG_W,PHSPHT,PHSPHT_FLAG_W,CFC-11,CFC-11_FLAG_W,CFC-12,CFC-12_FLAG_W,CFC113,CFC113_FLAG_W,TCARBN,TCARBN_FLAG_W,ALKALI,ALKALI_FLAG_W,TRITUM,TRITUM_FLAG_W,HELIUM,HELIUM_FLAG_W,DELHE3,DELHE3_FLAG_W,DELC13,DELC13_FLAG_W,DELC14,DELC14_FLAG_W,C14ERR,NEON,NEON_FLAG_W,NEONER,DOC,DOC_FLAG_W,CTDRAW,CDOM380,CDOM380_FLAG_W,CDOM325,CDOM325_FLAG_W,CDOMSL,CDOMSL_FLAG_W,CDOM340,CDOM340_FLAG_W,CDOMSN,CDOMSN_FLAG_W,HELIER,TRITER,CDOM412,CDOM412_FLAG_W,DELHER
,,,,,,,,,,,METERS,DBAR,ITS-90,PSS-78,,PSS-78,,UMOL/KG,,UMOL/KG,,UMOL/KG,,UMOL/KG,,UMOL/KG,,UMOL/KG,,PMOL/KG,,PMOL/KG,,PMOL/KG,,UMOL/KG,,UMOL/KG,,TU,,NMOL/KG,,PERCNT,,/MILLE,,/MILLE,,/MILLE,NMOL/KG,,NMOL/KG,UMOL/KG,,DBAR,1/M,,1/M,,1/NM,,1/M,,1/NM,,NMOL/KG,TU,1/M,,PERCNT
318M20040615,        P02,      91,          1,         36,         36,2,20040717,       1537,    30.0025,  -176.1383,       5193,     8.2,  25.6602,  34.8093,2,  34.8088,2, 212.1000,2,   211.7,2,    1.67,2,    0.15,2,    0.00,2,    0.04,2,   1.830,2,   1.136,2,   0.134,2,  1992.2,6,  2284.5,6,-999.000,9,-999.0000,9, -999.00,9, -999.00,9,  -999.0,9,  -999.0,-999.000,9,-999.000, -999.00,9,    8.20,-999.0000,9,-999.0000,9,-999.0000,9,-999.0000,9,-999.0000,9,-999.0000,-999.000,-999.0000,9, -999.00
318M20040615,        P02,      91,          1,         35,         35,2,20040717,       1537,    30.0025,  -176.1383,       5193,    51.4,  19.3008,  34.8387,2,  34.8393,2, 246.1000,2,   246.2,2,    1.87,2,    0.09,2,    0.00,2,    0.05,2,   2.404,2,   1.466,2,   0.168,2,  2001.1,2,  2288.4,2,-999.000,9,-999.0000,9, -999.00,9, -999.00,9,  -999.0,9,  -999.0,-999.000,9,-999.000, -999.00,9,   51.40,-999.0000,9,-999.0000,9,-999.0000,9,-999.0000,9,-999.0000,9,-999.0000,-999.000,-999.0000,9, -999.00
318M20040615,        P02,      91,          1,         34,         34,2,20040717,       1537,    30.0025,  -176.1383,       5193,   101.4,  16.3165,  34.6803,2,  34.6784,2, 231.3000,2,   233.2,2,    3.43,2,    2.54,2,    0.26,2,    0.28,2,   2.603,2,   1.536,2,   0.156,2,  2022.8,2,  2278.3,2,-999.000,9,-999.0000,9, -999.00,9, -999.00,9,  -999.0,9,  -999.0,-999.000,9,-999.000, -999.00,9,  101.40,-999.0000,9,-999.0000,9,-999.0000,9,-999.0000,9,-999.0000,9,-999.0000,-999.000,-999.0000,9, -999.00
318M20040615,        P02,      91,          1,         33,         33,2,20040717,       1537,    30.0025,  -176.1383,       5193,   151.4,  15.6527,  34.6372,2,  34.6555,2, 229.5000,2,   231.7,2,    4.60,2,    4.17,2,    0.01,2,    0.31,2,   2.682,2,   1.578,2,   0.179,2,  2028.1,2,  2276.8,2,-999.000,9,-999.0000,9, -999.00,9, -999.00,9,  -999.0,9,  -999.0,-999.000,9,-999.000, -999.00,9,  151.40,-999.0000,9,-999.0000,9,-999.0000,9,-999.0000,9,-999.0000,9,-999.0000,-999.000,-999.0000,9, -999.00
318M20040615,        P02,      91,          1,         32,         32,2,20040717,       1537,    30.0025,  -176.1383,       5193,   205.6,  15.0442,  34.5903,2,  34.5910,2, 226.1000,2,   225.7,2,    5.98,2,    5.74,2,    0.01,2,    0.43,2,   2.692,2,   1.567,2,   0.141,2,  -999.0,9,  -999.0,9,-999.000,9,-999.0000,9, -999.00,9, -999.00,9,  -999.0,9,  -999.0,-999.000,9,-999.000, -999.00,9,  205.60,-999.0000,9,-999.0000,9,-999.0000,9,-999.0000,9,-999.0000,9,-999.0000,-999.000,-999.0000,9, -999.00
318M20040615,        P02,      91,          1,         31,         31,2,20040717,       1537,    30.0025,  -176.1383,       5193,   255.2,  14.1411,  34.5182,2,  34.5170,2, 219.1000,2,   219.1,2,    8.34,2,    8.01,2,    0.00,2,    0.58,2,   2.796,2,   1.595,2,   0.096,2,  2053.7,2,  2271.7,2,-999.000,9,-999.0000,9, -999.00,9, -999.00,9,  -999.0,9,  -999.0,-999.000,9,-999.000, -999.00,9,  255.20,-999.0000,9,-999.0000,9,-999.0000,9,-999.0000,9,-999.0000,9,-999.0000,-999.000,-999.0000,9, -999.00
318M20040615,        P02,      91,          1,         30,         30,2,20040717,       1537,    30.0025,  -176.1383,       5193,   305.3,  13.2200,  34.4449,2,  34.4504,2, 221.1000,2,   221.9,2,   10.11,2,    9.27,2,    0.00,2,    0.69,2,   2.916,2,   1.667,2,   0.099,2,  -999.0,9,  -999.0,9,-999.000,9,-999.0000,9, -999.00,9, -999.00,9,  -999.0,9,  -999.0,-999.000,9,-999.000, -999.00,9,  305.30,-999.0000,9,-999.0000,9,-999.0000,9,-999.0000,9,-999.0000,9,-999.0000,-999.000,-999.0000,9, -999.00
318M20040615,        P02,      91,          1,         29,         29,2,20040717,       1537,    30.0025,  -176.1383,       5193,   355.7,  12.2288,  34.3724,2,  34.3715,2, 218.4000,2,   217.5,2,   13.45,2,   11.41,2,    0.00,2,    0.81,2,   2.976,2,   1.657,2,   0.098,2,  2078.9,2,  2269.1,2,-999.000,9,-999.0000,9, -999.00,9, -999.00,9,  -999.0,9,  -999.0,-999.000,9,-999.000, -999.00,9,  355.70,-999.0000,9,-999.0000,9,-999.0000,9,-999.0000,9,-999.0000,9,-999.0000,-999.000,-999.0000,9, -999.00
318M20040615,        P02,      91,          1,         28,         28,2,20040717,       1537,    30.0025,  -176.1383,       5193,   405.3,  11.4606,  34.3067,2,  34.3053,2, 217.5000,2,   216.9,2,   15.62,2,   12.76,2,    0.00,2,    0.91,2,   3.023,2,   1.686,2,   0.105,2,  -999.0,9,  -999.0,9,-999.000,9,-999.0000,9, -999.00,9, -999.00,9,  -999.0,9,  -999.0,-999.000,9,-999.000, -999.00,9,  405.30,-999.0000,9,-999.0000,9,-999.0000,9,-999.0000,9,-999.0000,9,-999.0000,-999.000,-999.0000,9, -999.00
318M20040615,        P02,      91,          1,         27,         27,2,20040717,       1537,    30.0025,  -176.1383,       5193,   455.7,  10.2818,  34.2141,2,  34.2137,2, 213.5000,2,   213.2,2,   20.19,2,   15.15,2,    0.00,2,    1.10,2,   3.086,2,   1.686,2,   0.126,2,  2103.9,2,  2268.8,2,-999.000,9,-999.0000,9, -999.00,9, -999.00,9,  -999.0,9,  -999.0,-999.000,9,-999.000, -999.00,9,  455.70,-999.0000,9,-999.0000,9,-999.0000,9,-999.0000,9,-999.0000,9,-999.0000,-999.000,-999.0000,9, -999.00
318M20040615,        P02,      91,          1,         26,         26,2,20040717,       1537,    30.0025,  -176.1383,       5193,   505.8,   9.2594,  34.1358,2,  34.1361,2, 199.8000,2,   201.3,2,   25.75,2,   18.03,2,    0.00,2,    1.30,2,   3.021,2,   1.624,2,   0.127,2,  -999.0,9,  -999.0,9,-999.000,9,-999.0000,9, -999.00,9, -999.00,9,  -999.0,9,  -999.0,-999.000,9,-999.000, -999.00,9,  505.80,-999.0000,9,-999.0000,9,-999.0000,9,-999.0000,9,-999.0000,9,-999.0000,-999.000,-999.0000,9, -999.00
318M20040615,        P02,      91,          1,         25,         25,2,20040717,       1537,    30.0025,  -176.1383,       5193,   605.3,   7.0707,  34.0196,2,  34.0199,2, 160.7000,2,   165.6,2,   44.55,2,   25.12,2,    0.00,2,    1.85,2,   2.615,2,   1.357,2,   0.119,2,  2179.5,2,  2279.1,2,-999.000,9,-999.0000,9, -999.00,9, -999.00,9,  -999.0,9,  -999.0,-999.000,9,-999.000, -999.00,9,  605.30,-999.0000,9,-999.0000,9,-999.0000,9,-999.0000,9,-999.0000,9,-999.0000,-999.000,-999.0000,9, -999.00
318M20040615,        P02,      91,          1,         24,         24,2,20040717,       1537,    30.0025,  -176.1383,       5193,   710.4,   5.3940,  34.0261,2,  34.0258,2, 106.7000,2,   110.7,2,   70.63,2,   32.84,2,    0.00,2,    2.42,2,   1.813,6,   0.916,6,   0.081,6,  -999.0,9,  -999.0,9,-999.000,9,-999.0000,9, -999.00,9, -999.00,9,  -999.0,9,  -999.0,-999.000,9,-999.000, -999.00,9,  710.40,-999.0000,9,-999.0000,9,-999.0000,9,-999.0000,9,-999.0000,9,-999.0000,-999.000,-999.0000,9, -999.00
318M20040615,        P02,      91,          1,         23,         23,2,20040717,       1537,    30.0025,  -176.1383,       5193,   809.4,   4.5405,  34.1171,2,  34.1159,2,  64.9000,2,    67.1,2,   92.23,2,   38.26,2,    0.00,2,    2.77,2,   0.907,2,   0.454,2,   0.036,2,  2297.3,2,  2319.5,2,-999.000,9,-999.0000,9, -999.00,9, -999.00,9,  -999.0,9,  -999.0,-999.000,9,-999.000, -999.00,9,  809.40,-999.0000,9,-999.0000,9,-999.0000,9,-999.0000,9,-999.0000,9,-999.0000,-999.000,-999.0000,9, -999.00
318M20040615,        P02,      91,          1,         22,         22,2,20040717,       1537,    30.0025,  -176.1383,       5193,   908.8,   4.0078,  34.2066,2,  34.2047,2,  41.6000,2,    43.0,2,  108.61,2,   41.13,2,    0.00,2,    2.95,2,   0.433,2,   0.213,2,   0.014,2,  -999.0,9,  -999.0,9,-999.000,9,-999.0000,9, -999.00,9, -999.00,9,  -999.0,9,  -999.0,-999.000,9,-999.000, -999.00,9,  908.80,-999.0000,9,-999.0000,9,-999.0000,9,-999.0000,9,-999.0000,9,-999.0000,-999.000,-999.0000,9, -999.00
318M20040615,        P02,      91,          1,         21,         21,2,20040717,       1537,    30.0025,  -176.1383,       5193,  1009.4,   3.6301,  34.2841,2,  34.2837,2,  28.9000,2,    29.0,2,  121.54,2,   42.64,2,    0.00,2,    3.06,2,   0.188,2,   0.097,2,   0.008,2,  -999.0,9,  2368.4,3,-999.000,9,-999.0000,9, -999.00,9, -999.00,9,  -999.0,9,  -999.0,-999.000,9,-999.000, -999.00,9, 1009.40,-999.0000,9,-999.0000,9,-999.0000,9,-999.0000,9,-999.0000,9,-999.0000,-999.000,-999.0000,9, -999.00
318M20040615,        P02,      91,          1,         20,         20,2,20040717,       1537,    30.0025,  -176.1383,       5193,  1110.7,   3.2975,  34.3593,2,  34.3599,2,  22.7000,2,    22.6,2,  132.43,2,   43.45,2,    0.00,2,    3.12,2,   0.067,2,   0.038,2,   0.001,2,  2365.9,2,  -999.0,9,-999.000,9,-999.0000,9, -999.00,9, -999.00,9,  -999.0,9,  -999.0,-999.000,9,-999.000, -999.00,9, 1110.70,-999.0000,9,-999.0000,9,-999.0000,9,-999.0000,9,-999.0000,9,-999.0000,-999.000,-999.0000,9, -999.00
318M20040615,        P02,      91,          1,         19,         19,2,20040717,       1537,    30.0025,  -176.1383,       5193,  1216.1,   3.0537,  34.4304,2,  34.4293,2,  25.6000,2,    23.9,2,  140.04,2,   43.55,2,    0.00,2,    3.14,2,   0.020,2,   0.011,2,   0.004,2,  2375.9,2,  2381.0,2,-999.000,9,-999.0000,9, -999.00,9, -999.00,9,  -999.0,9,  -999.0,-999.000,9,-999.000, -999.00,9, 1216.10,-999.0000,9,-999.0000,9,-999.0000,9,-999.0000,9,-999.0000,9,-999.0000,-999.000,-999.0000,9, -999.00
318M20040615,        P02,      91,          1,         18,         18,2,20040717,       1537,    30.0025,  -176.1383,       5193,  1316.8,   2.9248,  34.4751,2,  34.4747,2,  34.9000,2,    35.3,2,  141.71,2,   42.85,2,    0.00,2,    3.08,2,   0.009,2,   0.005,2,   0.001,2,  -999.0,9,  -999.0,9,-999.000,9,-999.0000,9, -999.00,9, -999.00,9,  -999.0,9,  -999.0,-999.000,9,-999.000, -999.00,9, 1316.80,-999.0000,9,-999.0000,9,-999.0000,9,-999.0000,9,-999.0000,9,-999.0000,-999.000,-999.0000,9, -999.00
318M20040615,        P02,      91,          1,         17,         17,2,20040717,       1537,    30.0025,  -176.1383,       5193,  1416.9,   2.7278,  34.5028,2,  34.5020,2,  38.6000,2,    38.9,2,  147.12,2,   42.76,2,    0.00,2,    3.07,2,   0.008,2,   0.006,2,   0.001,2,  -999.0,9,  2393.8,2,-999.000,9,-999.0000,9, -999.00,9, -999.00,9,  -999.0,9,  -999.0,-999.000,9,-999.000, -999.00,9, 1416.90,-999.0000,9,-999.0000,9,-999.0000,9,-999.0000,9,-999.0000,9,-999.0000,-999.000,-999.0000,9, -999.00
318M20040615,        P02,      91,          1,         16,         16,2,20040717,       1537,    30.0025,  -176.1383,       5193,  1517.5,   2.5465,  34.5285,2,  34.5277,2,  43.0000,2,    43.4,2,  151.80,2,   42.41,2,    0.00,2,    3.05,2,   0.004,2,   0.002,2,   0.001,2,  -999.0,9,  -999.0,9,-999.000,9,-999.0000,9, -999.00,9, -999.00,9,  -999.0,9,  -999.0,-999.000,9,-999.000, -999.00,9, 1517.50,-999.0000,9,-999.0000,9,-999.0000,9,-999.0000,9,-999.0000,9,-999.0000,-999.000,-999.0000,9, -999.00
318M20040615,        P02,      91,          1,         15,         15,2,20040717,       1537,    30.0025,  -176.1383,       5193,  1618.4,   2.3906,  34.5511,2,  34.5502,2,  49.3000,2,    51.3,2,  154.70,2,   41.98,2,    0.00,2,    3.01,2,   0.007,2,   0.003,2,   0.001,2,  -999.0,9,  2404.3,2,-999.000,9,-999.0000,9, -999.00,9, -999.00,9,  -999.0,9,  -999.0,-999.000,9,-999.000, -999.00,9, 1618.40,-999.0000,9,-999.0000,9,-999.0000,9,-999.0000,9,-999.0000,9,-999.0000,-999.000,-999.0000,9, -999.00
318M20040615,        P02,      91,          1,         14,         14,2,20040717,       1537,    30.0025,  -176.1383,       5193,  1723.7,   2.2657,  34.5672,2,  34.5677,2,  55.5000,2,    55.3,2,  158.22,2,   41.94,2,    0.00,2,    2.99,2,   0.004,2,   0.002,2,   0.001,2,  -999.0,9,  -999.0,9,-999.000,9,-999.0000,9, -999.00,9, -999.00,9,  -999.0,9,  -999.0,-999.000,9,-999.000, -999.00,9, 1723.70,-999.0000,9,-999.0000,9,-999.0000,9,-999.0000,9,-999.0000,9,-999.0000,-999.000,-999.0000,9, -999.00
318M20040615,        P02,      91,          1,         13,         13,2,20040717,       1537,    30.0025,  -176.1383,       5193,  1823.8,   2.1577,  34.5811,2,  34.5817,2,  61.5000,2,    62.5,2,  159.82,2,   41.61,2,    0.00,2,    2.95,2,   0.006,2,   0.004,2,   0.001,2,  -999.0,9,  2409.8,2,-999.000,9,-999.0000,9, -999.00,9, -999.00,9,  -999.0,9,  -999.0,-999.000,9,-999.000, -999.00,9, 1823.80,-999.0000,9,-999.0000,9,-999.0000,9,-999.0000,9,-999.0000,9,-999.0000,-999.000,-999.0000,9, -999.00
318M20040615,        P02,      91,          1,         12,         12,2,20040717,       1537,    30.0025,  -176.1383,       5193,  1925.0,   2.0519,  34.5945,2,  34.5986,2,  67.2000,3,    68.6,2,  162.28,2,   41.28,2,    0.00,2,    2.93,2,   0.002,2,   0.000,2,   0.001,2,  -999.0,9,  -999.0,9,-999.000,9,-999.0000,9, -999.00,9, -999.00,9,  -999.0,9,  -999.0,-999.000,9,-999.000, -999.00,9, 1925.00,-999.0000,9,-999.0000,9,-999.0000,9,-999.0000,9,-999.0000,9,-999.0000,-999.000,-999.0000,9, -999.00
318M20040615,        P02,      91,          1,         11,         11,2,20040717,       1537,    30.0025,  -176.1383,       5193,  2025.1,   1.9690,  34.6047,2,  34.6056,2,  73.9000,2,    74.3,2,  163.73,2,   40.90,2,    0.00,2,    2.89,2,-999.000,9,-999.000,9,-999.000,9,  -999.0,9,  2415.9,2,-999.000,9,-999.0000,9, -999.00,9, -999.00,9,  -999.0,9,  -999.0,-999.000,9,-999.000, -999.00,9, 2025.10,-999.0000,9,-999.0000,9,-999.0000,9,-999.0000,9,-999.0000,9,-999.0000,-999.000,-999.0000,9, -999.00
318M20040615,        P02,      91,          1,         10,         10,2,20040717,       1537,    30.0025,  -176.1383,       5193,  2281.4,   1.8042,  34.6264,2,  34.6270,2,  90.1000,2,    90.2,2,  164.12,2,   39.83,2,    0.00,2,    2.81,2,   0.002,2,   0.001,2,   0.001,2,  -999.0,9,  -999.0,9,-999.000,9,-999.0000,9, -999.00,9, -999.00,9,  -999.0,9,  -999.0,-999.000,9,-999.000, -999.00,9, 2281.40,-999.0000,9,-999.0000,9,-999.0000,9,-999.0000,9,-999.0000,9,-999.0000,-999.000,-999.0000,9, -999.00
318M20040615,        P02,      91,          1,          9,          9,2,20040717,       1537,    30.0025,  -176.1383,       5193,  2537.7,   1.6657,  34.6443,2,  34.6437,2, 104.8000,2,   104.6,2,  163.69,2,   38.87,2,    0.00,2,    2.75,2,-999.000,9,-999.000,9,-999.000,9,  -999.0,9,  2420.5,2,-999.000,9,-999.0000,9, -999.00,9, -999.00,9,  -999.0,9,  -999.0,-999.000,9,-999.000, -999.00,9, 2537.70,-999.0000,9,-999.0000,9,-999.0000,9,-999.0000,9,-999.0000,9,-999.0000,-999.000,-999.0000,9, -999.00
318M20040615,        P02,      91,          1,          8,          8,2,20040717,       1537,    30.0025,  -176.1383,       5193,  2790.5,   1.5803,  34.6559,2,  34.6620,2, 115.8000,3,   115.8,2,  162.31,2,   38.03,2,    0.00,2,    2.69,2,   0.006,2,   0.002,2,   0.001,2,  -999.0,9,  -999.0,9,-999.000,9,-999.0000,9, -999.00,9, -999.00,9,  -999.0,9,  -999.0,-999.000,9,-999.000, -999.00,9, 2790.50,-999.0000,9,-999.0000,9,-999.0000,9,-999.0000,9,-999.0000,9,-999.0000,-999.000,-999.0000,9, -999.00
318M20040615,        P02,      91,          1,          7,          7,2,20040717,       1537,    30.0025,  -176.1383,       5193,  3048.2,   1.5200,  34.6657,2,  34.6659,2, 126.5000,2,   126.8,2,  159.86,2,   37.24,2,    0.00,2,    2.63,2,-999.000,9,-999.000,9,-999.000,9,  -999.0,9,  2420.0,2,-999.000,9,-999.0000,9, -999.00,9, -999.00,9,  -999.0,9,  -999.0,-999.000,9,-999.000, -999.00,9, 3048.20,-999.0000,9,-999.0000,9,-999.0000,9,-999.0000,9,-999.0000,9,-999.0000,-999.000,-999.0000,9, -999.00
318M20040615,        P02,      91,          1,          6,          6,2,20040717,       1537,    30.0025,  -176.1383,       5193,  3460.7,   1.4703,  34.6761,2,  34.6763,2, 138.6000,2,   138.5,2,  157.36,2,   36.50,2,    0.00,2,    2.57,2,   0.002,2,   0.000,2,   0.001,2,  -999.0,9,  -999.0,9,-999.000,9,-999.0000,9, -999.00,9, -999.00,9,  -999.0,9,  -999.0,-999.000,9,-999.000, -999.00,9, 3460.70,-999.0000,9,-999.0000,9,-999.0000,9,-999.0000,9,-999.0000,9,-999.0000,-999.000,-999.0000,9, -999.00
318M20040615,        P02,      91,          1,          5,          5,2,20040717,       1537,    30.0025,  -176.1383,       5193,  3862.9,   1.4594,  34.6819,2,  34.6822,2, 145.2000,2,   146.2,2,  154.44,2,   36.08,2,    0.00,2,    2.53,2,-999.000,9,-999.000,9,-999.000,9,  -999.0,9,  2420.1,2,-999.000,9,-999.0000,9, -999.00,9, -999.00,9,  -999.0,9,  -999.0,-999.000,9,-999.000, -999.00,9, 3862.90,-999.0000,9,-999.0000,9,-999.0000,9,-999.0000,9,-999.0000,9,-999.0000,-999.000,-999.0000,9, -999.00
318M20040615,        P02,      91,          1,          4,          4,2,20040717,       1537,    30.0025,  -176.1383,       5193,  4270.5,   1.4723,  34.6853,2,  34.6850,2, 149.6000,2,   150.3,2,  154.24,2,   35.92,2,    0.00,2,    2.50,2,   0.003,2,   0.001,2,   0.001,2,  -999.0,9,  2420.5,2,-999.000,9,-999.0000,9, -999.00,9, -999.00,9,  -999.0,9,  -999.0,-999.000,9,-999.000, -999.00,9, 4270.50,-999.0000,9,-999.0000,9,-999.0000,9,-999.0000,9,-999.0000,9,-999.0000,-999.000,-999.0000,9, -999.00
318M20040615,        P02,      91,          1,          3,          3,2,20040717,       1537,    30.0025,  -176.1383,       5193,  4686.5,   1.4948,  34.6881,2,  34.6877,2, 154.1000,2,   154.5,2,  151.57,2,   35.61,2,    0.00,2,    2.48,2,-999.000,9,-999.000,9,-999.000,9,  -999.0,9,  2417.9,2,-999.000,9,-999.0000,9, -999.00,9, -999.00,9,  -999.0,9,  -999.0,-999.000,9,-999.000, -999.00,9, 4686.50,-999.0000,9,-999.0000,9,-999.0000,9,-999.0000,9,-999.0000,9,-999.0000,-999.000,-999.0000,9, -999.00
318M20040615,        P02,      91,          1,          2,          2,2,20040717,       1537,    30.0025,  -176.1383,       5193,  5094.3,   1.5176,  34.6901,2,  34.6893,2, 159.3000,2,   159.3,2,  146.39,2,   35.34,2,    0.00,2,    2.45,2,   0.001,2,   0.002,2,   0.001,2,  -999.0,9,  2414.8,2,-999.000,9,-999.0000,9, -999.00,9, -999.00,9,  -999.0,9,  -999.0,-999.000,9,-999.000, -999.00,9, 5094.30,-999.0000,9,-999.0000,9,-999.0000,9,-999.0000,9,-999.0000,9,-999.0000,-999.000,-999.0000,9, -999.00
318M20040615,        P02,      91,          1,          1,          1,2,20040717,       1537,    30.0025,  -176.1383,       5193,  5279.0,   1.5327,  34.6909,2,  34.6908,2, 160.8000,2,   161.4,2,  144.98,2,   35.19,2,    0.00,2,    2.44,2,   0.005,2,   0.002,2,   0.001,2,  -999.0,9,  2414.4,6,-999.000,9,-999.0000,9, -999.00,9, -999.00,9,  -999.0,9,  -999.0,-999.000,9,-999.000, -999.00,9, 5279.00,-999.0000,9,-999.0000,9,-999.0000,9,-999.0000,9,-999.0000,9,-999.0000,-999.000,-999.0000,9, -999.00