BOTTLE,20131027SIOCCHRJL
EXPOCODE,SECT_ID,STNNBR,CASTNO,SAMPNO,BTLNBR,BTLNBR_FLAG_W,DATE,TIME,LATITUDE,LONGITUDE,DEPTH,CTDPRS,CTDTMP,CTDSAL,CTDSAL_FLAG_W,SALNTY,SALNTY_FLAG_W,CTDOXY,CTDOXY_FLAG_W,OXYGEN,OXYGEN_FLAG_W,SILCAT,SILCAT_FLAG_W,NITRAT,NITRAT_FLAG_W,NITRIT,NITRIT_FLAG_W,PHSPHT,PHSPHT_FLAG_W,CFC-11,CFC-11_FLAG_W,CFC-12,CFC-12_FLAG_W,CFC113,CFC113_FLAG_W,TCARBN,TCARBN_FLAG_W,ALKALI,ALKALI_FLAG_W,TRITUM,TRITUM_FLAG_W,HELIUM,HELIUM_FLAG_W,DELHE3,DELHE3_FLAG_W,DELC13,DELC13_FLAG_W,DELC14,DELC14_FLAG_W,C14ERR,NEON,NEON_FLAG_W,NEONER,DOC,DOC_FLAG_W,CTDRAW,CDOM380,CDOM380_FLAG_W,CDOM325,CDOM325_FLAG_W,CDOMSL,CDOMSL_FLAG_W,CDOM340,CDOM340_FLAG_W,CDOMSN,CDOMSN_FLAG_W,HELIER,TRITER,CDOM412,CDOM412_FLAG_W,DELHER
,,,,,,,,,,,METERS,DBAR,ITS-90,PSS-78,,PSS-78,,UMOL/KG,,UMOL/KG,,UMOL/KG,,UMOL/KG,,UMOL/KG,,UMOL/KG,,PMOL/KG,,PMOL/KG,,PMOL/KG,,UMOL/KG,,UMOL/KG,,TU,,NMOL/KG,,PERCNT,,/MILLE,,/MILLE,,/MILLE,NMOL/KG,,NMOL/KG,UMOL/KG,,DBAR,1/M,,1/M,,1/NM,,1/M,,1/NM,,NMOL/KG,TU,1/M,,PERCNT
318M20040615,        P02,     136,          1,         36,         36,2,20040813,       0107,    29.9997,   -147.399,       4765,     8.6,  25.5665,  35.3440,2,  35.3447,2, 209.3000,2,   209.2,2,    0.93,2,    0.16,2,    0.00,2,    0.02,2,   1.792,2,   1.087,2,   0.125,2,  2000.2,6,  2327.8,6,-999.000,9,-999.0000,9, -999.00,9, -999.00,9,  -999.0,9,  -999.0,-999.000,9,-999.000, -999.00,9,    8.60,-999.0000,9,-999.0000,9,-999.0000,9,-999.0000,9,-999.0000,9,-999.0000,-999.000,-999.0000,9, -999.00
318M20040615,        P02,     136,          1,         35,         35,2,20040813,       0107,    29.9997,   -147.399,       4765,    50.2,  20.6886,  34.9569,2,  34.9512,2, 240.6000,2,   240.0,2,    1.90,2,    0.10,2,    0.00,2,    0.02,2,   2.280,2,   1.345,2,   0.151,2,  -999.0,9,  -999.0,9,-999.000,9,-999.0000,9, -999.00,9, -999.00,9,  -999.0,9,  -999.0,-999.000,9,-999.000, -999.00,9,   50.20,-999.0000,9,-999.0000,9,-999.0000,9,-999.0000,9,-999.0000,9,-999.0000,-999.000,-999.0000,9, -999.00
318M20040615,        P02,     136,          1,         34,         34,2,20040813,       0107,    29.9997,   -147.399,       4765,   100.4,  18.2791,  34.7309,2,  34.7325,2, 235.7000,2,   235.3,2,    2.48,2,    0.10,2,    0.00,2,    0.06,2,   2.462,2,   1.443,2,   0.159,2,  2012.8,2,  2286.6,2,-999.000,9,-999.0000,9, -999.00,9, -999.00,9,  -999.0,9,  -999.0,-999.000,9,-999.000, -999.00,9,  100.40,-999.0000,9,-999.0000,9,-999.0000,9,-999.0000,9,-999.0000,9,-999.0000,-999.000,-999.0000,9, -999.00
318M20040615,        P02,     136,          1,         33,         33,2,20040813,       0107,    29.9997,   -147.399,       4765,   154.7,  14.7080,  34.2423,2,  34.2416,2, 230.0000,2,   231.2,2,    4.03,2,    2.18,2,    0.07,2,    0.28,2,   2.863,2,   1.629,2,   0.177,2,  -999.0,9,  -999.0,9,-999.000,9,-999.0000,9, -999.00,9, -999.00,9,  -999.0,9,  -999.0,-999.000,9,-999.000, -999.00,9,  154.70,-999.0000,9,-999.0000,9,-999.0000,9,-999.0000,9,-999.0000,9,-999.0000,-999.000,-999.0000,9, -999.00
318M20040615,        P02,     136,          1,         32,         32,2,20040813,       0107,    29.9997,   -147.399,       4765,   204.7,  13.1830,  34.2414,2,  34.2400,2, 215.7000,2,   217.3,2,    7.34,2,    7.52,2,    0.01,2,    0.59,2,-999.000,9,-999.000,9,-999.000,9,  2058.6,2,  2257.5,2,-999.000,9,-999.0000,9, -999.00,9, -999.00,9,  -999.0,9,  -999.0,-999.000,9,-999.000, -999.00,9,  204.70,-999.0000,9,-999.0000,9,-999.0000,9,-999.0000,9,-999.0000,9,-999.0000,-999.000,-999.0000,9, -999.00
318M20040615,        P02,     136,          1,         31,         31,2,20040813,       0107,    29.9997,   -147.399,       4765,   254.1,  11.6616,  34.1424,2,  34.1424,2, 224.7000,2,   226.2,2,   10.06,2,   10.18,2,    0.01,2,    0.75,2,   3.303,2,   1.801,2,   0.102,2,  -999.0,9,  -999.0,9,-999.000,9,-999.0000,9, -999.00,9, -999.00,9,  -999.0,9,  -999.0,-999.000,9,-999.000, -999.00,9,  254.10,-999.0000,9,-999.0000,9,-999.0000,9,-999.0000,9,-999.0000,9,-999.0000,-999.000,-999.0000,9, -999.00
318M20040615,        P02,     136,          1,         30,         30,2,20040813,       0107,    29.9997,   -147.399,       4765,   304.6,  10.8210,  34.1629,2,  34.1643,2, 214.9000,2,   217.1,2,   14.33,2,   13.30,2,    0.01,2,    0.95,2,   3.319,2,   1.760,2,   0.081,2,  2090.1,2,  2260.9,2,-999.000,9,-999.0000,9, -999.00,9, -999.00,9,  -999.0,9,  -999.0,-999.000,9,-999.000, -999.00,9,  304.60,-999.0000,9,-999.0000,9,-999.0000,9,-999.0000,9,-999.0000,9,-999.0000,-999.000,-999.0000,9, -999.00
318M20040615,        P02,     136,          1,         29,         29,2,20040813,       0107,    29.9997,   -147.399,       4765,   354.1,   9.9872,  34.1482,2,  34.1451,2, 205.9000,2,   206.4,2,   19.21,2,   16.17,2,    0.01,2,    1.14,2,   3.309,2,   1.708,2,   0.091,2,  -999.0,9,  -999.0,9,-999.000,9,-999.0000,9, -999.00,9, -999.00,9,  -999.0,9,  -999.0,-999.000,9,-999.000, -999.00,9,  354.10,-999.0000,9,-999.0000,9,-999.0000,9,-999.0000,9,-999.0000,9,-999.0000,-999.000,-999.0000,9, -999.00
318M20040615,        P02,     136,          1,         28,         28,2,20040813,       0107,    29.9997,   -147.399,       4765,   404.0,   8.8995,  34.0885,2,  34.0886,2, 187.7000,2,   186.3,2,   26.62,2,   20.17,2,    0.00,2,    1.42,2,   3.098,2,   1.568,2,   0.097,2,  2136.9,2,  2268.2,2,-999.000,9,-999.0000,9, -999.00,9, -999.00,9,  -999.0,9,  -999.0,-999.000,9,-999.000, -999.00,9,  404.00,-999.0000,9,-999.0000,9,-999.0000,9,-999.0000,9,-999.0000,9,-999.0000,-999.000,-999.0000,9, -999.00
318M20040615,        P02,     136,          1,         27,         27,2,20040813,       0107,    29.9997,   -147.399,       4765,   453.9,   7.7185,  34.0333,2,  34.0369,2, 158.4000,2,   152.7,2,   37.76,2,   25.94,2,    0.00,2,    1.81,2,   2.744,2,   1.348,2,   0.110,2,  -999.0,9,  -999.0,9,-999.000,9,-999.0000,9, -999.00,9, -999.00,9,  -999.0,9,  -999.0,-999.000,9,-999.000, -999.00,9,  453.90,-999.0000,9,-999.0000,9,-999.0000,9,-999.0000,9,-999.0000,9,-999.0000,-999.000,-999.0000,9, -999.00
318M20040615,        P02,     136,          1,         26,         26,2,20040813,       0107,    29.9997,   -147.399,       4765,   504.1,   6.9298,  34.0150,2,  34.0155,2, 136.1000,2,   134.5,2,   46.97,2,   29.35,2,    0.00,2,    2.06,2,   2.281,2,   1.119,2,   0.073,2,  2201.2,2,  2281.0,2,-999.000,9,-999.0000,9, -999.00,9, -999.00,9,  -999.0,9,  -999.0,-999.000,9,-999.000, -999.00,9,  504.10,-999.0000,9,-999.0000,9,-999.0000,9,-999.0000,9,-999.0000,9,-999.0000,-999.000,-999.0000,9, -999.00
318M20040615,        P02,     136,          1,         25,         25,2,20040813,       0107,    29.9997,   -147.399,       4765,   608.5,   5.4436,  34.0301,2,  34.0314,2,  81.1000,2,    74.0,2,   70.78,2,   37.35,2,    0.00,2,    2.66,2,   1.066,2,   0.522,2,   0.029,2,  2268.7,2,  2296.0,2,-999.000,9,-999.0000,9, -999.00,9, -999.00,9,  -999.0,9,  -999.0,-999.000,9,-999.000, -999.00,9,  608.50,-999.0000,9,-999.0000,9,-999.0000,9,-999.0000,9,-999.0000,9,-999.0000,-999.000,-999.0000,9, -999.00
318M20040615,        P02,     136,          1,         24,         24,2,20040813,       0107,    29.9997,   -147.399,       4765,   710.9,   4.6298,  34.1147,2,  34.1155,2,  45.1000,2,    41.9,2,   90.77,2,   41.16,2,    0.00,2,    2.94,2,-999.000,9,-999.000,9,-999.000,9,  2308.8,2,  2318.9,2,-999.000,9,-999.0000,9, -999.00,9, -999.00,9,  -999.0,9,  -999.0,-999.000,9,-999.000, -999.00,9,  710.90,-999.0000,9,-999.0000,9,-999.0000,9,-999.0000,9,-999.0000,9,-999.0000,-999.000,-999.0000,9, -999.00
318M20040615,        P02,     136,          1,         23,         23,2,20040813,       0107,    29.9997,   -147.399,       4765,   806.4,   4.2032,  34.2165,2,  34.2166,2,  20.0000,2,    19.8,2,  105.86,2,   43.35,2,    0.00,2,    3.13,2,   0.086,2,   0.052,2,   0.000,2,  2339.2,2,  2339.3,2,-999.000,9,-999.0000,9, -999.00,9, -999.00,9,  -999.0,9,  -999.0,-999.000,9,-999.000, -999.00,9,  806.40,-999.0000,9,-999.0000,9,-999.0000,9,-999.0000,9,-999.0000,9,-999.0000,-999.000,-999.0000,9, -999.00
318M20040615,        P02,     136,          1,         22,         22,2,20040813,       0107,    29.9997,   -147.399,       4765,   910.9,   3.8512,  34.3148,2,  34.3143,2,  12.4000,2,    12.6,2,  118.03,2,   44.17,2,    0.00,2,    3.19,2,   0.022,2,   0.022,2,   0.000,2,  2358.0,2,  2357.2,2,-999.000,9,-999.0000,9, -999.00,9, -999.00,9,  -999.0,9,  -999.0,-999.000,9,-999.000, -999.00,9,  910.90,-999.0000,9,-999.0000,9,-999.0000,9,-999.0000,9,-999.0000,9,-999.0000,-999.000,-999.0000,9, -999.00
318M20040615,        P02,     136,          1,         21,         21,2,20040813,       0107,    29.9997,   -147.399,       4765,  1011.3,   3.5987,  34.4004,2,  34.4008,2,  15.7000,2,    16.8,2,  125.83,2,   44.11,2,    0.00,2,    3.20,2,   0.008,2,   0.005,2,   0.000,2,  2366.0,2,  2371.3,2,-999.000,9,-999.0000,9, -999.00,9, -999.00,9,  -999.0,9,  -999.0,-999.000,9,-999.000, -999.00,9, 1011.30,-999.0000,9,-999.0000,9,-999.0000,9,-999.0000,9,-999.0000,9,-999.0000,-999.000,-999.0000,9, -999.00
318M20040615,        P02,     136,          1,         20,         20,2,20040813,       0107,    29.9997,   -147.399,       4765,  1110.0,   3.4254,  34.4448,2,  34.4465,2,  22.5000,2,    22.5,2,  129.83,2,   43.83,2,    0.00,2,    3.18,2,   0.005,2,   0.003,2,   0.000,2,  -999.0,9,  -999.0,9,-999.000,9,-999.0000,9, -999.00,9, -999.00,9,  -999.0,9,  -999.0,-999.000,9,-999.000, -999.00,9, 1110.00,-999.0000,9,-999.0000,9,-999.0000,9,-999.0000,9,-999.0000,9,-999.0000,-999.000,-999.0000,9, -999.00
318M20040615,        P02,     136,          1,         19,         19,2,20040813,       0107,    29.9997,   -147.399,       4765,  1214.5,   3.2040,  34.4913,2,  34.4915,2,  33.0000,2,    32.7,2,  134.42,2,   43.33,2,    0.00,2,    3.14,2,   0.003,2,   0.002,2,   0.000,2,  -999.0,9,  -999.0,9,-999.000,9,-999.0000,9, -999.00,9, -999.00,9,  -999.0,9,  -999.0,-999.000,9,-999.000, -999.00,9, 1214.50,-999.0000,9,-999.0000,9,-999.0000,9,-999.0000,9,-999.0000,9,-999.0000,-999.000,-999.0000,9, -999.00
318M20040615,        P02,     136,          1,         18,         18,2,20040813,       0107,    29.9997,   -147.399,       4765,  1313.5,   3.0109,  34.5179,2,  34.5181,2,  42.0000,2,    40.9,2,  138.62,2,   43.04,2,    0.00,2,    3.10,2,   0.006,2,   0.005,2,   0.000,2,  -999.0,9,  -999.0,9,-999.000,9,-999.0000,9, -999.00,9, -999.00,9,  -999.0,9,  -999.0,-999.000,9,-999.000, -999.00,9, 1313.50,-999.0000,9,-999.0000,9,-999.0000,9,-999.0000,9,-999.0000,9,-999.0000,-999.000,-999.0000,9, -999.00
318M20040615,        P02,     136,          1,         17,         17,2,20040813,       0107,    29.9997,   -147.399,       4765,  1409.0,   2.8051,  34.5417,2,  34.5421,2,  50.4000,2,    48.8,2,  143.02,2,   42.98,2,    0.00,2,    3.06,2,   0.001,2,  -0.002,2,   0.000,2,  -999.0,9,  -999.0,9,-999.000,9,-999.0000,9, -999.00,9, -999.00,9,  -999.0,9,  -999.0,-999.000,9,-999.000, -999.00,9, 1409.00,-999.0000,9,-999.0000,9,-999.0000,9,-999.0000,9,-999.0000,9,-999.0000,-999.000,-999.0000,9, -999.00
318M20040615,        P02,     136,          1,         16,         16,2,20040813,       0107,    29.9997,   -147.399,       4765,  1510.9,   2.6371,  34.5600,2,  34.5607,2,  55.8000,2,    55.4,2,  146.82,2,   42.75,2,    0.00,2,    3.02,2,   0.001,2,  -0.002,2,   0.000,2,  -999.0,9,  -999.0,9,-999.000,9,-999.0000,9, -999.00,9, -999.00,9,  -999.0,9,  -999.0,-999.000,9,-999.000, -999.00,9, 1510.90,-999.0000,9,-999.0000,9,-999.0000,9,-999.0000,9,-999.0000,9,-999.0000,-999.000,-999.0000,9, -999.00
318M20040615,        P02,     136,          1,         15,         15,2,20040813,       0107,    29.9997,   -147.399,       4765,  1612.8,   2.4773,  34.5750,2,  34.5761,2,  61.4000,2,    61.4,2,  151.03,2,   42.30,2,    0.00,2,    2.98,2,   0.003,2,   0.001,2,   0.000,2,  -999.0,9,  -999.0,9,-999.000,9,-999.0000,9, -999.00,9, -999.00,9,  -999.0,9,  -999.0,-999.000,9,-999.000, -999.00,9, 1612.80,-999.0000,9,-999.0000,9,-999.0000,9,-999.0000,9,-999.0000,9,-999.0000,-999.000,-999.0000,9, -999.00
318M20040615,        P02,     136,          1,         14,         14,2,20040813,       0107,    29.9997,   -147.399,       4765,  1714.1,   2.3509,  34.5864,2,  34.5863,2,  66.4000,2,    65.8,2,  154.44,2,   41.91,2,    0.00,2,    2.96,2,-999.000,9,-999.000,9,-999.000,9,  -999.0,9,  -999.0,9,-999.000,9,-999.0000,9, -999.00,9, -999.00,9,  -999.0,9,  -999.0,-999.000,9,-999.000, -999.00,9, 1714.10,-999.0000,9,-999.0000,9,-999.0000,9,-999.0000,9,-999.0000,9,-999.0000,-999.000,-999.0000,9, -999.00
318M20040615,        P02,     136,          1,         13,         13,2,20040813,       0107,    29.9997,   -147.399,       4765,  1815.9,   2.2088,  34.5979,2,  34.5982,2,  71.0000,2,    70.4,2,  158.48,2,   41.47,2,    0.00,2,    2.93,2,   0.003,2,   0.003,2,   0.000,2,  -999.0,9,  -999.0,9,-999.000,9,-999.0000,9, -999.00,9, -999.00,9,  -999.0,9,  -999.0,-999.000,9,-999.000, -999.00,9, 1815.90,-999.0000,9,-999.0000,9,-999.0000,9,-999.0000,9,-999.0000,9,-999.0000,-999.000,-999.0000,9, -999.00
318M20040615,        P02,     136,          1,         12,         12,2,20040813,       0107,    29.9997,   -147.399,       4765,  1917.4,   2.0961,  34.6097,2,  34.6098,2,  76.0000,2,    76.2,2,  161.89,2,   41.08,2,    0.00,2,    2.91,2,-999.000,9,-999.000,9,-999.000,9,  -999.0,9,  -999.0,9,-999.000,9,-999.0000,9, -999.00,9, -999.00,9,  -999.0,9,  -999.0,-999.000,9,-999.000, -999.00,9, 1917.40,-999.0000,9,-999.0000,9,-999.0000,9,-999.0000,9,-999.0000,9,-999.0000,-999.000,-999.0000,9, -999.00
318M20040615,        P02,     136,          1,         11,         11,2,20040813,       0107,    29.9997,   -147.399,       4765,  2020.3,   2.0008,  34.6186,2,  34.6187,2,  80.1000,2,    80.2,2,  164.11,2,   40.80,2,    0.00,2,    2.89,2,   0.000,2,  -0.002,2,   0.000,2,  -999.0,9,  -999.0,9,-999.000,9,-999.0000,9, -999.00,9, -999.00,9,  -999.0,9,  -999.0,-999.000,9,-999.000, -999.00,9, 2020.30,-999.0000,9,-999.0000,9,-999.0000,9,-999.0000,9,-999.0000,9,-999.0000,-999.000,-999.0000,9, -999.00
318M20040615,        P02,     136,          1,         10,         10,2,20040813,       0107,    29.9997,   -147.399,       4765,  2280.4,   1.8304,  34.6352,2,  34.6346,2,  89.9000,2,    90.7,2,  167.72,2,   40.02,2,    0.00,2,    2.84,2,-999.000,9,-999.000,9,-999.000,9,  -999.0,9,  -999.0,9,-999.000,9,-999.0000,9, -999.00,9, -999.00,9,  -999.0,9,  -999.0,-999.000,9,-999.000, -999.00,9, 2280.40,-999.0000,9,-999.0000,9,-999.0000,9,-999.0000,9,-999.0000,9,-999.0000,-999.000,-999.0000,9, -999.00
318M20040615,        P02,     136,          1,          9,          9,2,20040813,       0107,    29.9997,   -147.399,       4765,  2532.7,   1.6973,  34.6489,2,  34.6489,2, 100.8000,2,   101.7,2,  169.12,2,   39.47,2,    0.00,2,    2.78,2,   0.000,2,  -0.003,2,   0.000,2,  -999.0,9,  -999.0,9,-999.000,9,-999.0000,9, -999.00,9, -999.00,9,  -999.0,9,  -999.0,-999.000,9,-999.000, -999.00,9, 2532.70,-999.0000,9,-999.0000,9,-999.0000,9,-999.0000,9,-999.0000,9,-999.0000,-999.000,-999.0000,9, -999.00
318M20040615,        P02,     136,          1,          8,          8,2,20040813,       0107,    29.9997,   -147.399,       4765,  2789.7,   1.5976,  34.6597,2,  34.6601,2, 110.5000,2,   112.4,2,  169.10,2,   39.08,2,    0.00,2,    2.72,2,-999.000,9,-999.000,9,-999.000,9,  -999.0,9,  -999.0,9,-999.000,9,-999.0000,9, -999.00,9, -999.00,9,  -999.0,9,  -999.0,-999.000,9,-999.000, -999.00,9, 2789.70,-999.0000,9,-999.0000,9,-999.0000,9,-999.0000,9,-999.0000,9,-999.0000,-999.000,-999.0000,9, -999.00
318M20040615,        P02,     136,          1,          7,          7,2,20040813,       0107,    29.9997,   -147.399,       4765,  3042.3,   1.5442,  34.6677,2,  34.6675,2, 121.1000,2,   121.9,2,  166.44,2,   38.47,2,    0.00,2,    2.66,2,   0.000,2,  -0.002,2,   0.000,2,  -999.0,9,  -999.0,9,-999.000,9,-999.0000,9, -999.00,9, -999.00,9,  -999.0,9,  -999.0,-999.000,9,-999.000, -999.00,9, 3042.30,-999.0000,9,-999.0000,9,-999.0000,9,-999.0000,9,-999.0000,9,-999.0000,-999.000,-999.0000,9, -999.00
318M20040615,        P02,     136,          1,          6,          6,2,20040813,       0107,    29.9997,   -147.399,       4765,  3346.8,   1.5044,  34.6749,2,  34.6746,2, 130.8000,2,   130.8,2,  163.40,2,   37.76,2,    0.00,2,    2.61,2,   0.000,2,  -0.002,2,   0.000,2,  -999.0,9,  -999.0,9,-999.000,9,-999.0000,9, -999.00,9, -999.00,9,  -999.0,9,  -999.0,-999.000,9,-999.000, -999.00,9, 3346.80,-999.0000,9,-999.0000,9,-999.0000,9,-999.0000,9,-999.0000,9,-999.0000,-999.000,-999.0000,9, -999.00
318M20040615,        P02,     136,          1,          5,          5,2,20040813,       0107,    29.9997,   -147.399,       4765,  3711.7,   1.4797,  34.6811,2,  34.6807,2, 139.2000,2,   139.4,2,  160.36,2,   37.06,2,    0.00,2,    2.57,2,   0.001,6,   0.002,6,   0.000,6,  -999.0,9,  -999.0,9,-999.000,9,-999.0000,9, -999.00,9, -999.00,9,  -999.0,9,  -999.0,-999.000,9,-999.000, -999.00,9, 3711.70,-999.0000,9,-999.0000,9,-999.0000,9,-999.0000,9,-999.0000,9,-999.0000,-999.000,-999.0000,9, -999.00
318M20040615,        P02,     136,          1,          4,          4,2,20040813,       0107,    29.9997,   -147.399,       4765,  4067.1,   1.4733,  34.6856,2,  34.6848,2, 145.7000,2,   146.5,2,  156.93,2,   36.52,2,    0.00,2,    2.53,2,-999.000,9,-999.000,9,-999.000,9,  -999.0,9,  -999.0,9,-999.000,9,-999.0000,9, -999.00,9, -999.00,9,  -999.0,9,  -999.0,-999.000,9,-999.000, -999.00,9, 4067.10,-999.0000,9,-999.0000,9,-999.0000,9,-999.0000,9,-999.0000,9,-999.0000,-999.000,-999.0000,9, -999.00
318M20040615,        P02,     136,          1,          3,          3,2,20040813,       0107,    29.9997,   -147.399,       4765,  4375.9,   1.4833,  34.6879,2,  34.6877,2, 150.5000,2,   150.9,2,  154.29,2,   36.18,2,    0.00,2,    2.51,2,   0.002,2,   0.004,2,   0.000,2,  -999.0,9,  -999.0,9,-999.000,9,-999.0000,9, -999.00,9, -999.00,9,  -999.0,9,  -999.0,-999.000,9,-999.000, -999.00,9, 4375.90,-999.0000,9,-999.0000,9,-999.0000,9,-999.0000,9,-999.0000,9,-999.0000,-999.000,-999.0000,9, -999.00
318M20040615,        P02,     136,          1,          2,          2,2,20040813,       0107,    29.9997,   -147.399,       4765,  4641.5,   1.5049,  34.6889,2,  34.6887,2, 152.9000,2,   152.8,2,  152.65,2,   36.28,2,    0.00,2,    2.50,2,   0.004,2,   0.003,2,   0.000,2,  -999.0,9,  -999.0,9,-999.000,9,-999.0000,9, -999.00,9, -999.00,9,  -999.0,9,  -999.0,-999.000,9,-999.000, -999.00,9, 4641.50,-999.0000,9,-999.0000,9,-999.0000,9,-999.0000,9,-999.0000,9,-999.0000,-999.000,-999.0000,9, -999.00
318M20040615,        P02,     136,          1,          1,          1,2,20040813,       0107,    29.9997,   -147.399,       4765,  4844.4,   1.5174,  34.6898,2,  34.6899,2, 154.7000,2,   155.2,2,  151.62,2,   36.33,2,    0.00,2,    2.48,2,   0.006,2,   0.005,2,   0.000,2,  -999.0,9,  -999.0,9,-999.000,9,-999.0000,9, -999.00,9, -999.00,9,  -999.0,9,  -999.0,-999.000,9,-999.000, -999.00,9, 4844.40,-999.0000,9,-999.0000,9,-999.0000,9,-999.0000,9,-999.0000,9,-999.0000,-999.000,-999.0000,9, -999.00