BOTTLE,20131027SIOCCHRJL
EXPOCODE,SECT_ID,STNNBR,CASTNO,SAMPNO,BTLNBR,BTLNBR_FLAG_W,DATE,TIME,LATITUDE,LONGITUDE,DEPTH,CTDPRS,CTDTMP,CTDSAL,CTDSAL_FLAG_W,SALNTY,SALNTY_FLAG_W,CTDOXY,CTDOXY_FLAG_W,OXYGEN,OXYGEN_FLAG_W,SILCAT,SILCAT_FLAG_W,NITRAT,NITRAT_FLAG_W,NITRIT,NITRIT_FLAG_W,PHSPHT,PHSPHT_FLAG_W,CFC-11,CFC-11_FLAG_W,CFC-12,CFC-12_FLAG_W,CFC113,CFC113_FLAG_W,TCARBN,TCARBN_FLAG_W,ALKALI,ALKALI_FLAG_W,TRITUM,TRITUM_FLAG_W,HELIUM,HELIUM_FLAG_W,DELHE3,DELHE3_FLAG_W,DELC13,DELC13_FLAG_W,DELC14,DELC14_FLAG_W,C14ERR,NEON,NEON_FLAG_W,NEONER,DOC,DOC_FLAG_W,CTDRAW,CDOM380,CDOM380_FLAG_W,CDOM325,CDOM325_FLAG_W,CDOMSL,CDOMSL_FLAG_W,CDOM340,CDOM340_FLAG_W,CDOMSN,CDOMSN_FLAG_W,HELIER,TRITER,CDOM412,CDOM412_FLAG_W,DELHER
,,,,,,,,,,,METERS,DBAR,ITS-90,PSS-78,,PSS-78,,UMOL/KG,,UMOL/KG,,UMOL/KG,,UMOL/KG,,UMOL/KG,,UMOL/KG,,PMOL/KG,,PMOL/KG,,PMOL/KG,,UMOL/KG,,UMOL/KG,,TU,,NMOL/KG,,PERCNT,,/MILLE,,/MILLE,,/MILLE,NMOL/KG,,NMOL/KG,UMOL/KG,,DBAR,1/M,,1/M,,1/NM,,1/M,,1/NM,,NMOL/KG,TU,1/M,,PERCNT
318M20040615,        P02,      93,          1,         36,         36,2,20040718,       0650,    29.9998,  -174.9077,       5324,     9.1,  25.5140,  34.7709,2,  34.7703,2, 211.5000,2,   210.6,2,    2.24,2,    0.07,2,    0.00,2,    0.04,2,   1.815,2,   1.137,2,   0.136,2,  1996.6,6,  2283.0,6,   0.793,2,   1.7512,2,   -0.92,2, -999.00,9,  -999.0,9,  -999.0,   6.727,2,   0.034, -999.00,9,    9.10,-999.0000,9,-999.0000,9,-999.0000,9,-999.0000,9,-999.0000,9,   0.0088,   0.009,-999.0000,9,    0.20
318M20040615,        P02,      93,          1,         35,         35,2,20040718,       0650,    29.9998,  -174.9077,       5324,    40.5,  20.9133,  34.8052,2,  34.8059,2, 238.4000,2,   237.9,2,    2.45,2,    0.12,2,    0.00,2,    0.04,2,   2.274,2,   1.356,2,   0.149,2,  2003.6,2,  2286.5,2,   0.808,2,-999.0000,9, -999.00,9, -999.00,9,  -999.0,9,  -999.0,-999.000,9,-999.000, -999.00,9,   40.50,-999.0000,9,-999.0000,9,-999.0000,9,-999.0000,9,-999.0000,9,-999.0000,   0.009,-999.0000,9, -999.00
318M20040615,        P02,      93,          1,         34,         34,2,20040718,       0650,    29.9998,  -174.9077,       5324,    85.1,  16.2730,  34.6630,2,  34.6641,2, 238.5000,2,   242.4,2,    3.28,2,    1.40,2,    0.14,2,    0.18,2,   2.607,2,   1.523,2,   0.166,2,  2017.5,2,  2276.6,2,   0.780,2,   1.7793,2,   -1.10,2, -999.00,9,  -999.0,9,  -999.0,   6.945,2,   0.035, -999.00,9,   85.10,-999.0000,9,-999.0000,9,-999.0000,9,-999.0000,9,-999.0000,9,   0.0089,   0.009,-999.0000,9,    0.20
318M20040615,        P02,      93,          1,         33,         33,2,20040718,       0650,    29.9998,  -174.9077,       5324,   135.3,  15.6106,  34.6387,2,  34.6372,2, 227.1000,2,   232.4,2,    4.52,2,    4.19,2,    0.02,2,    0.32,2,   2.646,2,   1.557,2,   0.176,2,  2030.7,2,  2278.5,2,   0.788,2,-999.0000,9, -999.00,9, -999.00,9,  -999.0,9,  -999.0,-999.000,9,-999.000, -999.00,9,  135.30,-999.0000,9,-999.0000,9,-999.0000,9,-999.0000,9,-999.0000,9,-999.0000,   0.009,-999.0000,9, -999.00
318M20040615,        P02,      93,          1,         32,         32,2,20040718,       0650,    29.9998,  -174.9077,       5324,   184.9,  14.8800,  34.5758,2,  34.5742,2, 217.9000,2,   221.8,2,    6.37,2,    6.39,2,    0.01,2,    0.46,2,   2.672,2,   1.552,2,   0.125,2,  2045.0,2,  2275.6,2,   0.815,2,   1.7064,2,   -0.82,2, -999.00,9,  -999.0,9,  -999.0,   6.803,2,   0.034, -999.00,9,  184.90,-999.0000,9,-999.0000,9,-999.0000,9,-999.0000,9,-999.0000,9,   0.0085,   0.009,-999.0000,9,    0.20
318M20040615,        P02,      93,          1,         31,         31,2,20040718,       0650,    29.9998,  -174.9077,       5324,   233.2,  13.9529,  34.5042,2,  34.5031,2, 216.1000,2,   218.1,2,    8.45,2,    8.36,2,    0.01,2,    0.59,2,   2.780,2,   1.610,2,   0.093,2,  2059.2,2,  2271.9,2,   0.831,2,   1.7873,2,   -0.16,2, -999.00,9,  -999.0,9,  -999.0,   7.247,2,   0.036, -999.00,9,  233.20,-999.0000,9,-999.0000,9,-999.0000,9,-999.0000,9,-999.0000,9,   0.0089,   0.009,-999.0000,9,    0.20
318M20040615,        P02,      93,          1,         30,         30,2,20040718,       0650,    29.9998,  -174.9077,       5324,   283.8,  13.0049,  34.4353,2,  34.4338,2, 216.4000,2,   217.1,2,   11.15,2,   10.22,2,    0.00,2,    0.71,2,   2.852,2,   1.624,2,   0.094,2,  2071.4,2,  2269.8,2,   0.869,2,-999.0000,9, -999.00,9, -999.00,9,  -999.0,9,  -999.0,-999.000,9,-999.000, -999.00,9,  283.80,-999.0000,9,-999.0000,9,-999.0000,9,-999.0000,9,-999.0000,9,-999.0000,   0.009,-999.0000,9, -999.00
318M20040615,        P02,      93,          1,         29,         29,2,20040718,       0650,    29.9998,  -174.9077,       5324,   333.7,  11.9348,  34.3510,2,  34.3467,2, 216.5000,2,   215.8,2,   14.48,2,   12.22,2,    0.00,2,    0.86,2,   2.909,6,   1.631,6,   0.095,6,  2085.8,2,  2270.0,2,-999.000,9,   1.7518,2,    1.77,2, -999.00,9,  -999.0,9,  -999.0,   7.328,2,   0.037, -999.00,9,  333.70,-999.0000,9,-999.0000,9,-999.0000,9,-999.0000,9,-999.0000,9,   0.0088,-999.000,-999.0000,9,    0.20
318M20040615,        P02,      93,          1,         28,         28,2,20040718,       0650,    29.9998,  -174.9077,       5324,   384.3,  10.8450,  34.2604,2,  34.2608,2, 216.4000,2,   215.8,2,   17.81,2,   13.97,2,    0.00,2,    1.00,2,   2.974,2,   1.658,2,   0.115,2,  2097.5,2,  2269.5,2,   0.821,2,   1.8123,2,    2.42,2, -999.00,9,  -999.0,9,  -999.0,-999.000,9,-999.000, -999.00,9,  384.30,-999.0000,9,-999.0000,9,-999.0000,9,-999.0000,9,-999.0000,9,   0.0091,   0.010,-999.0000,9,    0.20
318M20040615,        P02,      93,          1,         27,         27,2,20040718,       0650,    29.9998,  -174.9077,       5324,   433.5,  10.0259,  34.1933,2,  34.1908,2, 212.8000,2,   212.4,2,   21.58,2,   15.78,2,    0.00,2,    1.12,2,   3.016,2,   1.657,2,   0.118,2,  -999.0,9,  -999.0,9,   0.795,2,   1.8225,2,    3.68,2, -999.00,9,  -999.0,9,  -999.0,-999.000,9,-999.000, -999.00,9,  433.50,-999.0000,9,-999.0000,9,-999.0000,9,-999.0000,9,-999.0000,9,   0.0091,   0.008,-999.0000,9,    0.20
318M20040615,        P02,      93,          1,         26,         26,2,20040718,       0650,    29.9998,  -174.9077,       5324,   484.1,   9.0459,  34.1216,2,  34.1190,2, 201.8000,2,   200.2,2,   27.46,2,   18.56,2,    0.00,2,    1.34,2,   2.939,2,   1.581,2,   0.134,2,  2130.0,2,  2268.0,2,   0.793,2,   1.8243,2,    5.54,2, -999.00,9,  -999.0,9,  -999.0,-999.000,9,-999.000, -999.00,9,  484.10,-999.0000,9,-999.0000,9,-999.0000,9,-999.0000,9,-999.0000,9,   0.0091,   0.008,-999.0000,9,    0.20
318M20040615,        P02,      93,          1,         25,         25,2,20040718,       0650,    29.9998,  -174.9077,       5324,   573.9,   6.9617,  34.0165,2,  34.0159,2, 165.9000,2,   163.6,2,   46.12,2,   25.66,2,    0.00,2,    1.87,2,   2.546,2,   1.319,2,   0.120,2,  -999.0,9,  -999.0,9,   0.676,2,   1.8610,2,    9.43,2, -999.00,9,  -999.0,9,  -999.0,-999.000,9,-999.000, -999.00,9,  573.90,-999.0000,9,-999.0000,9,-999.0000,9,-999.0000,9,-999.0000,9,   0.0093,   0.008,-999.0000,9,    0.20
318M20040615,        P02,      93,          1,         24,         24,2,20040718,       0650,    29.9998,  -174.9077,       5324,   672.3,   5.5637,  34.0216,2,  34.0199,2, 118.7000,2,   116.3,2,   67.77,2,   32.21,2,    0.00,2,    2.36,2,   1.843,2,   0.933,2,   0.080,2,  2242.0,2,  2296.7,2,   0.555,2,   1.8754,2,   13.47,2, -999.00,9,  -999.0,9,  -999.0,-999.000,9,-999.000, -999.00,9,  672.30,-999.0000,9,-999.0000,9,-999.0000,9,-999.0000,9,-999.0000,9,   0.0094,   0.008,-999.0000,9,    0.20
318M20040615,        P02,      93,          1,         23,         23,2,20040718,       0650,    29.9998,  -174.9077,       5324,   764.0,   4.6213,  34.1040,2,  34.1038,2,  74.3000,2,    70.7,2,   90.25,2,   37.86,2,    0.00,2,    2.76,2,   0.955,2,   0.480,2,   0.037,2,  -999.0,9,  -999.0,9,   0.381,2,   1.8861,2,   16.09,2, -999.00,9,  -999.0,9,  -999.0,-999.000,9,-999.000, -999.00,9,  764.00,-999.0000,9,-999.0000,9,-999.0000,9,-999.0000,9,-999.0000,9,   0.0094,   0.006,-999.0000,9,    0.20
318M20040615,        P02,      93,          1,         22,         22,2,20040718,       0650,    29.9998,  -174.9077,       5324,   867.0,   4.0673,  34.1931,2,  34.1916,2,  45.6000,2,    43.0,2,  106.76,2,   41.06,2,    0.00,2,    2.96,2,   0.416,2,   0.201,2,   0.012,2,  -999.0,9,  -999.0,9,   0.221,2,   1.8529,2,   15.98,2, -999.00,9,  -999.0,9,  -999.0,-999.000,9,-999.000, -999.00,9,  867.00,-999.0000,9,-999.0000,9,-999.0000,9,-999.0000,9,-999.0000,9,   0.0093,   0.005,-999.0000,9,    0.20
318M20040615,        P02,      93,          1,         21,         21,2,20040718,       0650,    29.9998,  -174.9077,       5324,   969.2,   3.6978,  34.2826,2,  34.2826,2,  28.4000,2,    29.1,2,  119.59,2,   42.94,2,    0.00,2,    3.08,2,   0.164,2,   0.079,2,   0.005,2,  2351.4,2,  2354.5,2,-999.000,9,   1.9008,2,   15.57,2, -999.00,9,  -999.0,9,  -999.0,-999.000,9,-999.000, -999.00,9,  969.20,-999.0000,9,-999.0000,9,-999.0000,9,-999.0000,9,-999.0000,9,   0.0095,-999.000,-999.0000,9,    0.20
318M20040615,        P02,      93,          1,         20,         20,2,20040718,       0650,    29.9998,  -174.9077,       5324,  1068.1,   3.3519,  34.3598,2,  34.3581,2,  24.0000,2,    24.3,2,  130.92,2,   43.94,2,    0.00,2,    3.13,2,   0.066,2,   0.030,2,   0.001,2,  2367.0,2,  2368.3,2,   0.074,2,   1.9232,2,   16.26,2, -999.00,9,  -999.0,9,  -999.0,-999.000,9,-999.000, -999.00,9, 1068.10,-999.0000,9,-999.0000,9,-999.0000,9,-999.0000,9,-999.0000,9,   0.0096,   0.003,-999.0000,9,    0.20
318M20040615,        P02,      93,          1,         19,         19,2,20040718,       0650,    29.9998,  -174.9077,       5324,  1167.0,   3.1804,  34.4045,2,  34.4041,2,  25.5000,2,    24.5,2,  136.57,2,   44.11,2,    0.00,2,    3.13,2,   0.030,2,   0.013,2,   0.005,2,  2373.6,2,  2377.1,2,   0.027,6,   1.9182,2,   17.33,2, -999.00,9,  -999.0,9,  -999.0,-999.000,9,-999.000, -999.00,9, 1167.00,-999.0000,9,-999.0000,9,-999.0000,9,-999.0000,9,-999.0000,9,   0.0096,   0.004,-999.0000,9,    0.20
318M20040615,        P02,      93,          1,         18,         18,2,20040718,       0650,    29.9998,  -174.9077,       5324,  1270.1,   2.9914,  34.4622,2,  34.4594,2,  32.7000,2,    33.1,2,  140.46,2,   43.54,2,    0.00,2,    3.10,2,   0.013,2,   0.006,2,   0.001,2,  -999.0,9,  -999.0,9,   0.016,2,   1.9348,2,   18.01,2, -999.00,9,  -999.0,9,  -999.0,-999.000,9,-999.000, -999.00,9, 1270.10,-999.0000,9,-999.0000,9,-999.0000,9,-999.0000,9,-999.0000,9,   0.0097,   0.001,-999.0000,9,    0.20
318M20040615,        P02,      93,          1,         17,         17,2,20040718,       0650,    29.9998,  -174.9077,       5324,  1369.9,   2.8054,  34.4922,2,  34.4891,2,  37.6000,2,    37.2,2,  145.67,2,   43.31,2,    0.00,2,    3.09,2,   0.010,2,   0.005,2,   0.001,2,  -999.0,9,  -999.0,9,   0.008,2,   1.9255,2,   18.70,2, -999.00,9,  -999.0,9,  -999.0,-999.000,9,-999.000, -999.00,9, 1369.90,-999.0000,9,-999.0000,9,-999.0000,9,-999.0000,9,-999.0000,9,   0.0096,   0.001,-999.0000,9,    0.20
318M20040615,        P02,      93,          1,         16,         16,2,20040718,       0650,    29.9998,  -174.9077,       5324,  1471.2,   2.6201,  34.5225,2,  34.5203,2,  44.7000,2,    43.9,3,  149.77,2,   42.81,2,    0.00,2,    3.05,2,   0.004,2,   0.001,2,   0.001,2,  -999.0,9,  -999.0,9,   0.027,2,   1.9209,2,   19.68,2, -999.00,9,  -999.0,9,  -999.0,-999.000,9,-999.000, -999.00,9, 1471.20,-999.0000,9,-999.0000,9,-999.0000,9,-999.0000,9,-999.0000,9,   0.0096,   0.001,-999.0000,9,    0.20
318M20040615,        P02,      93,          1,         15,         15,2,20040718,       0650,    29.9998,  -174.9077,       5324,  1571.8,   2.4611,  34.5431,2,  34.5410,2,  52.1000,2,    51.1,2,  153.08,2,   42.38,2,    0.00,2,    3.02,2,   0.007,2,   0.005,2,   0.003,2,  -999.0,9,  2402.9,2,   0.008,2,   1.9481,2,   19.99,2, -999.00,9,  -999.0,9,  -999.0,-999.000,9,-999.000, -999.00,9, 1571.80,-999.0000,9,-999.0000,9,-999.0000,9,-999.0000,9,-999.0000,9,   0.0097,   0.000,-999.0000,9,    0.20
318M20040615,        P02,      93,          1,         14,         14,2,20040718,       0650,    29.9998,  -174.9077,       5324,  1672.2,   2.3165,  34.5621,2,  34.5637,2,  58.4000,2,    57.4,2,  156.13,2,   41.94,2,    0.00,2,    2.99,2,   0.003,2,   0.002,2,   0.001,2,  -999.0,9,  -999.0,9,-999.000,9,   1.9385,2,   19.96,2, -999.00,9,  -999.0,9,  -999.0,-999.000,9,-999.000, -999.00,9, 1672.20,-999.0000,9,-999.0000,9,-999.0000,9,-999.0000,9,-999.0000,9,   0.0097,-999.000,-999.0000,9,    0.20
318M20040615,        P02,      93,          1,         13,         13,2,20040718,       0650,    29.9998,  -174.9077,       5324,  1771.7,   2.1880,  34.5801,2,  34.5791,2,  67.1000,2,    67.1,2,  157.40,2,   41.38,2,    0.00,2,    2.94,2,   0.004,2,   0.002,2,   0.001,2,  -999.0,9,  2410.2,2,-999.000,9,-999.0000,9, -999.00,9, -999.00,9,  -999.0,9,  -999.0,-999.000,9,-999.000, -999.00,9, 1771.70,-999.0000,9,-999.0000,9,-999.0000,9,-999.0000,9,-999.0000,9,-999.0000,-999.000,-999.0000,9, -999.00
318M20040615,        P02,      93,          1,         12,         12,2,20040718,       0650,    29.9998,  -174.9077,       5324,  1973.7,   1.9835,  34.6044,2,  34.6033,2,  79.0000,2,    78.5,2,  161.27,2,   40.72,2,    0.00,2,    2.88,2,   0.004,2,   0.003,2,   0.001,2,  -999.0,9,  -999.0,9,-999.000,9,-999.0000,9, -999.00,9, -999.00,9,  -999.0,9,  -999.0,-999.000,9,-999.000, -999.00,9, 1973.70,-999.0000,9,-999.0000,9,-999.0000,9,-999.0000,9,-999.0000,9,-999.0000,-999.000,-999.0000,9, -999.00
318M20040615,        P02,      93,          1,         11,         11,2,20040718,       0650,    29.9998,  -174.9077,       5324,  2170.0,   1.8315,  34.6224,2,  34.6208,2,  89.9000,2,    90.3,2,  162.34,2,   40.23,2,    0.00,2,    2.83,2,-999.000,9,-999.000,9,-999.000,9,  -999.0,9,  2416.4,6,-999.000,9,-999.0000,9, -999.00,9, -999.00,9,  -999.0,9,  -999.0,-999.000,9,-999.000, -999.00,9, 2170.00,-999.0000,9,-999.0000,9,-999.0000,9,-999.0000,9,-999.0000,9,-999.0000,-999.000,-999.0000,9, -999.00
318M20040615,        P02,      93,          1,         10,         10,2,20040718,       0650,    29.9998,  -174.9077,       5324,  2422.7,   1.6968,  34.6398,2,  34.6428,2, 102.7000,3,   103.7,2,  161.92,2,   39.51,2,    0.00,2,    2.77,2,   0.003,2,   0.003,2,   0.001,2,  -999.0,9,  -999.0,9,-999.000,9,-999.0000,9, -999.00,9, -999.00,9,  -999.0,9,  -999.0,-999.000,9,-999.000, -999.00,9, 2422.70,-999.0000,9,-999.0000,9,-999.0000,9,-999.0000,9,-999.0000,9,-999.0000,-999.000,-999.0000,9, -999.00
318M20040615,        P02,      93,          1,          9,          9,2,20040718,       0650,    29.9998,  -174.9077,       5324,  2674.7,   1.5958,  34.6538,2,  34.6522,2, 115.8000,2,   116.8,2,  160.64,2,   38.60,2,    0.00,2,    2.70,2,-999.000,9,-999.000,9,-999.000,9,  -999.0,9,  2418.8,2,-999.000,9,-999.0000,9, -999.00,9, -999.00,9,  -999.0,9,  -999.0,-999.000,9,-999.000, -999.00,9, 2674.70,-999.0000,9,-999.0000,9,-999.0000,9,-999.0000,9,-999.0000,9,-999.0000,-999.000,-999.0000,9, -999.00
318M20040615,        P02,      93,          1,          8,          8,2,20040718,       0650,    29.9998,  -174.9077,       5324,  2922.0,   1.5415,  34.6625,2,  34.6617,2, 124.8000,2,   125.4,2,  158.91,2,   37.89,2,    0.00,2,    2.66,2,   0.003,2,   0.004,2,   0.001,2,  -999.0,9,  2419.6,2,-999.000,9,-999.0000,9, -999.00,9, -999.00,9,  -999.0,9,  -999.0,-999.000,9,-999.000, -999.00,9, 2922.00,-999.0000,9,-999.0000,9,-999.0000,9,-999.0000,9,-999.0000,9,-999.0000,-999.000,-999.0000,9, -999.00
318M20040615,        P02,      93,          1,          7,          7,2,20040718,       0650,    29.9998,  -174.9077,       5324,  3250.5,   1.4992,  34.6709,2,  34.6695,2, 133.6000,2,   134.1,2,  157.40,2,   37.25,2,    0.00,2,    2.61,2,-999.000,9,-999.000,9,-999.000,9,  -999.0,9,  2421.0,2,-999.000,9,-999.0000,9, -999.00,9, -999.00,9,  -999.0,9,  -999.0,-999.000,9,-999.000, -999.00,9, 3250.50,-999.0000,9,-999.0000,9,-999.0000,9,-999.0000,9,-999.0000,9,-999.0000,-999.000,-999.0000,9, -999.00
318M20040615,        P02,      93,          1,          6,          6,2,20040718,       0650,    29.9998,  -174.9077,       5324,  3646.6,   1.4657,  34.6787,2,  34.6784,2, 141.3000,2,   142.0,2,  156.77,2,   36.71,2,    0.00,2,    2.57,2,   0.004,2,   0.003,2,   0.001,2,  -999.0,9,  2421.1,2,-999.000,9,-999.0000,9, -999.00,9, -999.00,9,  -999.0,9,  -999.0,-999.000,9,-999.000, -999.00,9, 3646.60,-999.0000,9,-999.0000,9,-999.0000,9,-999.0000,9,-999.0000,9,-999.0000,-999.000,-999.0000,9, -999.00
318M20040615,        P02,      93,          1,          5,          5,2,20040718,       0650,    29.9998,  -174.9077,       5324,  4048.4,   1.4641,  34.6837,2,  34.6884,2, 148.0000,3,   148.6,2,  154.83,2,   36.18,2,    0.00,2,    2.53,2,-999.000,9,-999.000,9,-999.000,9,  -999.0,9,  2421.0,2,-999.000,9,-999.0000,9, -999.00,9, -999.00,9,  -999.0,9,  -999.0,-999.000,9,-999.000, -999.00,9, 4048.40,-999.0000,9,-999.0000,9,-999.0000,9,-999.0000,9,-999.0000,9,-999.0000,-999.000,-999.0000,9, -999.00
318M20040615,        P02,      93,          1,          4,          4,2,20040718,       0650,    29.9998,  -174.9077,       5324,  4449.5,   1.4849,  34.6864,2,  34.6863,2, 151.0000,2,   151.5,2,  154.87,2,   35.91,2,    0.00,2,    2.52,2,   0.007,2,   0.007,2,   0.001,2,  -999.0,9,  2421.7,6,-999.000,9,-999.0000,9, -999.00,9, -999.00,9,  -999.0,9,  -999.0,-999.000,9,-999.000, -999.00,9, 4449.50,-999.0000,9,-999.0000,9,-999.0000,9,-999.0000,9,-999.0000,9,-999.0000,-999.000,-999.0000,9, -999.00
318M20040615,        P02,      93,          1,          3,          3,2,20040718,       0650,    29.9998,  -174.9077,       5324,  4845.5,   1.5099,  34.6886,2,  34.6873,2, 154.6000,2,   155.3,2,  151.80,2,   35.64,2,    0.00,2,    2.49,2,-999.000,9,-999.000,9,-999.000,9,  -999.0,9,  2418.9,2,-999.000,9,-999.0000,9, -999.00,9, -999.00,9,  -999.0,9,  -999.0,-999.000,9,-999.000, -999.00,9, 4845.50,-999.0000,9,-999.0000,9,-999.0000,9,-999.0000,9,-999.0000,9,-999.0000,-999.000,-999.0000,9, -999.00
318M20040615,        P02,      93,          1,          2,          2,2,20040718,       0650,    29.9998,  -174.9077,       5324,  5198.9,   1.5317,  34.6902,2,  34.6883,2, 159.1000,2,   159.3,2,  147.23,2,   35.37,2,    0.00,2,    2.47,2,   0.004,2,   0.004,2,   0.001,2,  -999.0,9,  2416.4,2,-999.000,9,-999.0000,9, -999.00,9, -999.00,9,  -999.0,9,  -999.0,-999.000,9,-999.000, -999.00,9, 5198.90,-999.0000,9,-999.0000,9,-999.0000,9,-999.0000,9,-999.0000,9,-999.0000,-999.000,-999.0000,9, -999.00
318M20040615,        P02,      93,          1,          1,          1,2,20040718,       0650,    29.9998,  -174.9077,       5324,  5413.2,   1.5342,  34.6922,2,  34.6918,2, 163.9000,2,   164.3,2,  142.66,2,   34.94,2,    0.00,2,    2.44,2,   0.003,2,   0.003,2,   0.001,2,  -999.0,9,  2412.4,6,-999.000,9,-999.0000,9, -999.00,9, -999.00,9,  -999.0,9,  -999.0,-999.000,9,-999.000, -999.00,9, 5413.20,-999.0000,9,-999.0000,9,-999.0000,9,-999.0000,9,-999.0000,9,-999.0000,-999.000,-999.0000,9, -999.00