BOTTLE,20131027SIOCCHRJL
EXPOCODE,SECT_ID,STNNBR,CASTNO,SAMPNO,BTLNBR,BTLNBR_FLAG_W,DATE,TIME,LATITUDE,LONGITUDE,DEPTH,CTDPRS,CTDTMP,CTDSAL,CTDSAL_FLAG_W,SALNTY,SALNTY_FLAG_W,CTDOXY,CTDOXY_FLAG_W,OXYGEN,OXYGEN_FLAG_W,SILCAT,SILCAT_FLAG_W,NITRAT,NITRAT_FLAG_W,NITRIT,NITRIT_FLAG_W,PHSPHT,PHSPHT_FLAG_W,CFC-11,CFC-11_FLAG_W,CFC-12,CFC-12_FLAG_W,CFC113,CFC113_FLAG_W,TCARBN,TCARBN_FLAG_W,ALKALI,ALKALI_FLAG_W,TRITUM,TRITUM_FLAG_W,HELIUM,HELIUM_FLAG_W,DELHE3,DELHE3_FLAG_W,DELC13,DELC13_FLAG_W,DELC14,DELC14_FLAG_W,C14ERR,NEON,NEON_FLAG_W,NEONER,DOC,DOC_FLAG_W,CTDRAW,CDOM380,CDOM380_FLAG_W,CDOM325,CDOM325_FLAG_W,CDOMSL,CDOMSL_FLAG_W,CDOM340,CDOM340_FLAG_W,CDOMSN,CDOMSN_FLAG_W,HELIER,TRITER,CDOM412,CDOM412_FLAG_W,DELHER
,,,,,,,,,,,METERS,DBAR,ITS-90,PSS-78,,PSS-78,,UMOL/KG,,UMOL/KG,,UMOL/KG,,UMOL/KG,,UMOL/KG,,UMOL/KG,,PMOL/KG,,PMOL/KG,,PMOL/KG,,UMOL/KG,,UMOL/KG,,TU,,NMOL/KG,,PERCNT,,/MILLE,,/MILLE,,/MILLE,NMOL/KG,,NMOL/KG,UMOL/KG,,DBAR,1/M,,1/M,,1/NM,,1/M,,1/NM,,NMOL/KG,TU,1/M,,PERCNT
318M20040615,        P02,     178,          1,         36,         36,2,20040825,       0001,    31.5297,  -120.7555,       3918,     7.9,  19.6414,  33.2012,2,  33.1955,2, 241.9000,2,   241.9,2,    0.97,2,    0.10,2,    0.00,2,    0.27,2,-999.000,9,-999.000,9,-999.000,9,  1985.0,6,  2224.2,6,-999.000,9,-999.0000,9, -999.00,9, -999.00,9,  -999.0,9,  -999.0,-999.000,9,-999.000, -999.00,9,    7.90,-999.0000,9,-999.0000,9,-999.0000,9,-999.0000,9,-999.0000,9,-999.0000,-999.000,-999.0000,9, -999.00
318M20040615,        P02,     178,          1,         35,         35,2,20040825,       0001,    31.5297,  -120.7555,       3918,    24.6,  17.6184,  33.1974,2,  33.1764,2, 256.7000,2,   259.5,2,    0.96,2,    0.14,2,    0.00,2,    0.29,2,   2.664,2,   1.616,2,   0.189,2,  -999.0,9,  -999.0,9,-999.000,9,-999.0000,9, -999.00,9, -999.00,9,  -999.0,9,  -999.0,-999.000,9,-999.000, -999.00,9,   24.60,-999.0000,9,-999.0000,9,-999.0000,9,-999.0000,9,-999.0000,9,-999.0000,-999.000,-999.0000,9, -999.00
318M20040615,        P02,     178,          1,         34,         34,2,20040825,       0001,    31.5297,  -120.7555,       3918,    54.6,  11.9424,  33.1698,2,  33.1666,2, 239.3000,2,   236.5,2,    6.40,2,    9.56,2,    0.51,2,    0.98,2,-999.000,9,-999.000,9,-999.000,9,  -999.0,9,  -999.0,9,-999.000,9,-999.0000,9, -999.00,9, -999.00,9,  -999.0,9,  -999.0,-999.000,9,-999.000, -999.00,9,   54.60,-999.0000,9,-999.0000,9,-999.0000,9,-999.0000,9,-999.0000,9,-999.0000,-999.000,-999.0000,9, -999.00
318M20040615,        P02,     178,          1,         33,         33,2,20040825,       0001,    31.5297,  -120.7555,       3918,    79.8,  10.4025,  33.3996,2,  33.4052,2, 185.0000,2,   186.4,2,   14.87,2,   18.28,2,    0.02,2,    1.48,2,   2.720,2,   1.667,2,   0.188,2,  -999.0,9,  -999.0,9,-999.000,9,-999.0000,9, -999.00,9, -999.00,9,  -999.0,9,  -999.0,-999.000,9,-999.000, -999.00,9,   79.80,-999.0000,9,-999.0000,9,-999.0000,9,-999.0000,9,-999.0000,9,-999.0000,-999.000,-999.0000,9, -999.00
318M20040615,        P02,     178,          1,         32,         32,2,20040825,       0001,    31.5297,  -120.7555,       3918,   104.1,   9.3910,  33.6844,2,  33.6963,2, 133.8000,2,   137.8,2,   24.17,2,   24.12,2,    0.01,2,    1.84,2,-999.000,9,-999.000,9,-999.000,9,  -999.0,9,  -999.0,9,-999.000,9,-999.0000,9, -999.00,9, -999.00,9,  -999.0,9,  -999.0,-999.000,9,-999.000, -999.00,9,  104.10,-999.0000,9,-999.0000,9,-999.0000,9,-999.0000,9,-999.0000,9,-999.0000,-999.000,-999.0000,9, -999.00
318M20040615,        P02,     178,          1,         31,         31,2,20040825,       0001,    31.5297,  -120.7555,       3918,   129.7,   8.9499,  33.8925,2,  33.8896,2, 111.0000,2,   122.6,2,   28.82,2,   26.03,2,    0.01,2,    1.95,2,   3.063,2,   1.665,2,   0.122,2,  -999.0,9,  -999.0,9,-999.000,9,-999.0000,9, -999.00,9, -999.00,9,  -999.0,9,  -999.0,-999.000,9,-999.000, -999.00,9,  129.70,-999.0000,9,-999.0000,9,-999.0000,9,-999.0000,9,-999.0000,9,-999.0000,-999.000,-999.0000,9, -999.00
318M20040615,        P02,     178,          1,         30,         30,2,20040825,       0001,    31.5297,  -120.7555,       3918,   154.1,   8.6686,  33.9975,2,  33.9952,2, 109.0000,2,   110.4,2,   32.66,2,   27.59,2,    0.02,2,    2.03,2,-999.000,9,-999.000,9,-999.000,9,  -999.0,9,  -999.0,9,-999.000,9,-999.0000,9, -999.00,9, -999.00,9,  -999.0,9,  -999.0,-999.000,9,-999.000, -999.00,9,  154.10,-999.0000,9,-999.0000,9,-999.0000,9,-999.0000,9,-999.0000,9,-999.0000,-999.000,-999.0000,9, -999.00
318M20040615,        P02,     178,          1,         29,         29,2,20040825,       0001,    31.5297,  -120.7555,       3918,   179.0,   8.2165,  34.0364,2,  34.0349,2,  94.2000,2,   106.4,2,   36.91,2,   28.84,2,    0.01,2,    2.10,2,   0.002,4,  -0.001,4,   0.000,4,  -999.0,9,  -999.0,9,-999.000,9,-999.0000,9, -999.00,9, -999.00,9,  -999.0,9,  -999.0,-999.000,9,-999.000, -999.00,9,  179.00,-999.0000,9,-999.0000,9,-999.0000,9,-999.0000,9,-999.0000,9,-999.0000,-999.000,-999.0000,9, -999.00
318M20040615,        P02,     178,          1,         28,         28,2,20040825,       0001,    31.5297,  -120.7555,       3918,   219.3,   8.0147,  34.1305,2,  34.1276,2,  86.5000,2,    69.2,2,   44.43,2,   31.81,2,    0.01,2,    2.44,2,-999.000,9,-999.000,9,-999.000,9,  -999.0,9,  -999.0,9,-999.000,9,-999.0000,9, -999.00,9, -999.00,9,  -999.0,9,  -999.0,-999.000,9,-999.000, -999.00,9,  219.30,-999.0000,9,-999.0000,9,-999.0000,9,-999.0000,9,-999.0000,9,-999.0000,-999.000,-999.0000,9, -999.00
318M20040615,        P02,     178,          1,         27,         27,2,20040825,       0001,    31.5297,  -120.7555,       3918,   252.9,   7.4250,  34.1053,2,  34.1058,2,  63.0000,2,    67.9,2,   49.32,2,   33.29,2,    0.01,2,    2.50,2,   1.719,2,   0.884,2,   0.056,2,  -999.0,9,  -999.0,9,-999.000,9,-999.0000,9, -999.00,9, -999.00,9,  -999.0,9,  -999.0,-999.000,9,-999.000, -999.00,9,  252.90,-999.0000,9,-999.0000,9,-999.0000,9,-999.0000,9,-999.0000,9,-999.0000,-999.000,-999.0000,9, -999.00
318M20040615,        P02,     178,          1,         26,         26,2,20040825,       0001,    31.5297,  -120.7555,       3918,   303.5,   6.5456,  34.0735,2,  34.0735,2,  56.0000,2,    62.1,2,   57.47,2,   35.80,2,    0.01,2,    2.62,2,-999.000,9,-999.000,9,-999.000,9,  -999.0,9,  -999.0,9,-999.000,9,-999.0000,9, -999.00,9, -999.00,9,  -999.0,9,  -999.0,-999.000,9,-999.000, -999.00,9,  303.50,-999.0000,9,-999.0000,9,-999.0000,9,-999.0000,9,-999.0000,9,-999.0000,-999.000,-999.0000,9, -999.00
318M20040615,        P02,     178,          1,         25,         25,2,20040825,       0001,    31.5297,  -120.7555,       3918,   353.1,   6.2213,  34.1131,2,  34.1121,2,  54.1000,2,    46.0,2,   64.61,2,   37.78,2,    0.00,2,    2.79,2,   0.996,2,   0.504,2,   0.027,2,  -999.0,9,  -999.0,9,-999.000,9,-999.0000,9, -999.00,9, -999.00,9,  -999.0,9,  -999.0,-999.000,9,-999.000, -999.00,9,  353.10,-999.0000,9,-999.0000,9,-999.0000,9,-999.0000,9,-999.0000,9,-999.0000,-999.000,-999.0000,9, -999.00
318M20040615,        P02,     178,          1,         24,         24,2,20040825,       0001,    31.5297,  -120.7555,       3918,   403.0,   5.8727,  34.1437,2,  34.1430,2,  35.5000,2,    34.6,2,   71.77,2,   39.28,2,    0.00,2,    2.91,2,-999.000,9,-999.000,9,-999.000,9,  -999.0,9,  -999.0,9,-999.000,9,-999.0000,9, -999.00,9, -999.00,9,  -999.0,9,  -999.0,-999.000,9,-999.000, -999.00,9,  403.00,-999.0000,9,-999.0000,9,-999.0000,9,-999.0000,9,-999.0000,9,-999.0000,-999.000,-999.0000,9, -999.00
318M20040615,        P02,     178,          1,         23,         23,2,20040825,       0001,    31.5297,  -120.7555,       3918,   452.3,   5.7848,  34.2132,2,  34.2255,2,  21.4000,2,    21.0,2,   76.68,2,   39.94,2,    0.00,2,    3.02,2,   0.322,2,   0.162,2,   0.000,2,  -999.0,9,  -999.0,9,-999.000,9,-999.0000,9, -999.00,9, -999.00,9,  -999.0,9,  -999.0,-999.000,9,-999.000, -999.00,9,  452.30,-999.0000,9,-999.0000,9,-999.0000,9,-999.0000,9,-999.0000,9,-999.0000,-999.000,-999.0000,9, -999.00
318M20040615,        P02,     178,          1,         22,         22,2,20040825,       0001,    31.5297,  -120.7555,       3918,   508.5,   5.5528,  34.2628,2,  34.2653,2,  14.8000,2,    15.1,2,   82.63,2,   40.85,2,    0.00,2,    3.09,2,-999.000,9,-999.000,9,-999.000,9,  -999.0,9,  -999.0,9,-999.000,9,-999.0000,9, -999.00,9, -999.00,9,  -999.0,9,  -999.0,-999.000,9,-999.000, -999.00,9,  508.50,-999.0000,9,-999.0000,9,-999.0000,9,-999.0000,9,-999.0000,9,-999.0000,-999.000,-999.0000,9, -999.00
318M20040615,        P02,     178,          1,         21,         21,2,20040825,       0001,    31.5297,  -120.7555,       3918,   607.9,   5.1124,  34.3319,2,  34.3287,2,   9.9000,2,    10.9,2,   92.69,2,   41.98,2,    0.00,2,    3.18,2,   0.080,2,   0.046,2,   0.000,2,  -999.0,9,  -999.0,9,-999.000,9,-999.0000,9, -999.00,9, -999.00,9,  -999.0,9,  -999.0,-999.000,9,-999.000, -999.00,9,  607.90,-999.0000,9,-999.0000,9,-999.0000,9,-999.0000,9,-999.0000,9,-999.0000,-999.000,-999.0000,9, -999.00
318M20040615,        P02,     178,          1,         20,         20,2,20040825,       0001,    31.5297,  -120.7555,       3918,   708.2,   4.7093,  34.3843,2,  34.3832,2,  10.4000,2,    11.1,2,  101.37,2,   42.85,2,    0.00,2,    3.21,2,-999.000,9,-999.000,9,-999.000,9,  -999.0,9,  -999.0,9,-999.000,9,-999.0000,9, -999.00,9, -999.00,9,  -999.0,9,  -999.0,-999.000,9,-999.000, -999.00,9,  708.20,-999.0000,9,-999.0000,9,-999.0000,9,-999.0000,9,-999.0000,9,-999.0000,-999.000,-999.0000,9, -999.00
318M20040615,        P02,     178,          1,         19,         19,2,20040825,       0001,    31.5297,  -120.7555,       3918,   807.9,   4.3830,  34.4217,2,  34.4212,2,  13.7000,2,    14.5,2,  108.63,2,   43.23,2,    0.00,2,    3.21,2,   0.031,2,   0.018,2,   0.008,2,  -999.0,9,  -999.0,9,-999.000,9,-999.0000,9, -999.00,9, -999.00,9,  -999.0,9,  -999.0,-999.000,9,-999.000, -999.00,9,  807.90,-999.0000,9,-999.0000,9,-999.0000,9,-999.0000,9,-999.0000,9,-999.0000,-999.000,-999.0000,9, -999.00
318M20040615,        P02,     178,          1,         18,         18,2,20040825,       0001,    31.5297,  -120.7555,       3918,   907.2,   4.0995,  34.4563,2,  34.4556,2,  18.7000,2,    19.5,2,  114.02,2,   43.45,2,    0.00,2,    3.21,2,-999.000,9,-999.000,9,-999.000,9,  -999.0,9,  -999.0,9,-999.000,9,-999.0000,9, -999.00,9, -999.00,9,  -999.0,9,  -999.0,-999.000,9,-999.000, -999.00,9,  907.20,-999.0000,9,-999.0000,9,-999.0000,9,-999.0000,9,-999.0000,9,-999.0000,-999.000,-999.0000,9, -999.00
318M20040615,        P02,     178,          1,         17,         17,2,20040825,       0001,    31.5297,  -120.7555,       3918,  1006.7,   3.8822,  34.4820,2,  34.4817,2,  23.8000,2,    23.7,2,  118.79,2,   43.66,2,    0.00,2,    3.19,2,   0.024,2,   0.016,2,   0.000,2,  -999.0,9,  -999.0,9,-999.000,9,-999.0000,9, -999.00,9, -999.00,9,  -999.0,9,  -999.0,-999.000,9,-999.000, -999.00,9, 1006.70,-999.0000,9,-999.0000,9,-999.0000,9,-999.0000,9,-999.0000,9,-999.0000,-999.000,-999.0000,9, -999.00
318M20040615,        P02,     178,          1,         16,         16,2,20040825,       0001,    31.5297,  -120.7555,       3918,  1113.7,   3.6106,  34.5057,2,  34.5048,2,  29.5000,2,    29.4,2,  125.45,2,   43.77,2,    0.00,2,    3.18,2,   0.021,2,   0.016,2,   0.000,2,  -999.0,9,  -999.0,9,-999.000,9,-999.0000,9, -999.00,9, -999.00,9,  -999.0,9,  -999.0,-999.000,9,-999.000, -999.00,9, 1113.70,-999.0000,9,-999.0000,9,-999.0000,9,-999.0000,9,-999.0000,9,-999.0000,-999.000,-999.0000,9, -999.00
318M20040615,        P02,     178,          1,         15,         15,2,20040825,       0001,    31.5297,  -120.7555,       3918,  1213.4,   3.3696,  34.5247,2,  34.5244,2,  34.7000,2,  -999.0,5,  131.07,2,   43.65,2,    0.00,2,    3.16,2,   0.023,2,   0.017,2,   0.000,2,  -999.0,9,  -999.0,9,-999.000,9,-999.0000,9, -999.00,9, -999.00,9,  -999.0,9,  -999.0,-999.000,9,-999.000, -999.00,9, 1213.40,-999.0000,9,-999.0000,9,-999.0000,9,-999.0000,9,-999.0000,9,-999.0000,-999.000,-999.0000,9, -999.00
318M20040615,        P02,     178,          1,         14,         14,2,20040825,       0001,    31.5297,  -120.7555,       3918,  1314.2,   3.1282,  34.5427,2,  34.5423,2,  39.7000,2,    40.3,2,  137.11,2,   43.31,2,    0.00,2,    3.12,2,   0.015,2,   0.014,2,   0.000,2,  -999.0,9,  -999.0,9,-999.000,9,-999.0000,9, -999.00,9, -999.00,9,  -999.0,9,  -999.0,-999.000,9,-999.000, -999.00,9, 1314.20,-999.0000,9,-999.0000,9,-999.0000,9,-999.0000,9,-999.0000,9,-999.0000,-999.000,-999.0000,9, -999.00
318M20040615,        P02,     178,          1,         13,         13,2,20040825,       0001,    31.5297,  -120.7555,       3918,  1414.8,   2.9382,  34.5538,2,  34.5530,2,  43.9000,2,    44.0,2,  142.56,2,   42.98,2,    0.00,2,    3.10,2,-999.000,9,-999.000,9,-999.000,9,  -999.0,9,  -999.0,9,-999.000,9,-999.0000,9, -999.00,9, -999.00,9,  -999.0,9,  -999.0,-999.000,9,-999.000, -999.00,9, 1414.80,-999.0000,9,-999.0000,9,-999.0000,9,-999.0000,9,-999.0000,9,-999.0000,-999.000,-999.0000,9, -999.00
318M20040615,        P02,     178,          1,         12,         12,2,20040825,       0001,    31.5297,  -120.7555,       3918,  1515.2,   2.7662,  34.5654,2,  34.5652,2,  48.4000,2,    48.6,2,  147.16,2,   42.54,2,    0.00,2,    3.07,2,   0.017,2,   0.019,2,   0.000,2,  -999.0,9,  -999.0,9,-999.000,9,-999.0000,9, -999.00,9, -999.00,9,  -999.0,9,  -999.0,-999.000,9,-999.000, -999.00,9, 1515.20,-999.0000,9,-999.0000,9,-999.0000,9,-999.0000,9,-999.0000,9,-999.0000,-999.000,-999.0000,9, -999.00
318M20040615,        P02,     178,          1,         11,         11,2,20040825,       0001,    31.5297,  -120.7555,       3918,  1620.7,   2.5620,  34.5808,2,  34.5803,2,  54.7000,2,    55.4,2,  152.21,2,   42.20,2,    0.00,2,    3.03,2,-999.000,9,-999.000,9,-999.000,9,  -999.0,9,  -999.0,9,-999.000,9,-999.0000,9, -999.00,9, -999.00,9,  -999.0,9,  -999.0,-999.000,9,-999.000, -999.00,9, 1620.70,-999.0000,9,-999.0000,9,-999.0000,9,-999.0000,9,-999.0000,9,-999.0000,-999.000,-999.0000,9, -999.00
318M20040615,        P02,     178,          1,         10,         10,2,20040825,       0001,    31.5297,  -120.7555,       3918,  1821.3,   2.2502,  34.6085,2,  34.6074,2,  67.9000,2,    70.2,2,  158.96,2,   41.28,2,    0.00,2,    2.95,2,   0.005,2,   0.008,2,   0.000,2,  -999.0,9,  -999.0,9,-999.000,9,-999.0000,9, -999.00,9, -999.00,9,  -999.0,9,  -999.0,-999.000,9,-999.000, -999.00,9, 1821.30,-999.0000,9,-999.0000,9,-999.0000,9,-999.0000,9,-999.0000,9,-999.0000,-999.000,-999.0000,9, -999.00
318M20040615,        P02,     178,          1,          9,          9,2,20040825,       0001,    31.5297,  -120.7555,       3918,  2026.9,   2.0445,  34.6288,2,  34.6290,2,  80.5000,2,    83.3,4,  162.12,2,   40.57,2,    0.00,2,    2.89,2,   0.002,2,   0.005,2,   0.000,2,  -999.0,9,  -999.0,9,-999.000,9,-999.0000,9, -999.00,9, -999.00,9,  -999.0,9,  -999.0,-999.000,9,-999.000, -999.00,9, 2026.90,-999.0000,9,-999.0000,9,-999.0000,9,-999.0000,9,-999.0000,9,-999.0000,-999.000,-999.0000,9, -999.00
318M20040615,        P02,     178,          1,          8,          8,2,20040825,       0001,    31.5297,  -120.7555,       3918,  2278.5,   1.8882,  34.6458,2,  34.6449,2,  93.4000,2,    95.7,2,  162.74,2,   39.97,2,    0.00,2,    2.81,2,   0.002,2,   0.003,2,   0.000,2,  -999.0,9,  -999.0,9,-999.000,9,-999.0000,9, -999.00,9, -999.00,9,  -999.0,9,  -999.0,-999.000,9,-999.000, -999.00,9, 2278.50,-999.0000,9,-999.0000,9,-999.0000,9,-999.0000,9,-999.0000,9,-999.0000,-999.000,-999.0000,9, -999.00
318M20040615,        P02,     178,          1,          7,          7,2,20040825,       0001,    31.5297,  -120.7555,       3918,  2535.2,   1.7776,  34.6553,2,  34.6547,2, 103.5000,2,   104.1,2,  164.85,2,   39.59,2,    0.00,2,    2.76,2,   0.002,2,   0.004,2,   0.000,2,  -999.0,9,  -999.0,9,-999.000,9,-999.0000,9, -999.00,9, -999.00,9,  -999.0,9,  -999.0,-999.000,9,-999.000, -999.00,9, 2535.20,-999.0000,9,-999.0000,9,-999.0000,9,-999.0000,9,-999.0000,9,-999.0000,-999.000,-999.0000,9, -999.00
318M20040615,        P02,     178,          1,          6,          6,2,20040825,       0001,    31.5297,  -120.7555,       3918,  2788.4,   1.6924,  34.6630,2,  34.6627,2, 111.0000,2,   111.6,2,  166.32,2,   39.10,2,    0.00,2,    2.72,2,-999.000,9,-999.000,9,-999.000,9,  -999.0,9,  -999.0,9,-999.000,9,-999.0000,9, -999.00,9, -999.00,9,  -999.0,9,  -999.0,-999.000,9,-999.000, -999.00,9, 2788.40,-999.0000,9,-999.0000,9,-999.0000,9,-999.0000,9,-999.0000,9,-999.0000,-999.000,-999.0000,9, -999.00
318M20040615,        P02,     178,          1,          5,          5,2,20040825,       0001,    31.5297,  -120.7555,       3918,  3045.3,   1.6278,  34.6685,2,  34.6690,2, 117.2000,2,   117.5,2,  167.36,2,   38.56,2,    0.00,2,    2.69,2,   0.009,2,   0.008,2,   0.000,2,  -999.0,9,  -999.0,9,-999.000,9,-999.0000,9, -999.00,9, -999.00,9,  -999.0,9,  -999.0,-999.000,9,-999.000, -999.00,9, 3045.30,-999.0000,9,-999.0000,9,-999.0000,9,-999.0000,9,-999.0000,9,-999.0000,-999.000,-999.0000,9, -999.00
318M20040615,        P02,     178,          1,          4,          4,2,20040825,       0001,    31.5297,  -120.7555,       3918,  3298.8,   1.5792,  34.6729,2,  34.6717,2, 122.7000,2,   123.0,2,  168.39,2,   38.17,2,    0.00,2,    2.65,2,   0.012,2,   0.012,2,   0.000,2,  -999.0,9,  -999.0,9,-999.000,9,-999.0000,9, -999.00,9, -999.00,9,  -999.0,9,  -999.0,-999.000,9,-999.000, -999.00,9, 3298.80,-999.0000,9,-999.0000,9,-999.0000,9,-999.0000,9,-999.0000,9,-999.0000,-999.000,-999.0000,9, -999.00
318M20040615,        P02,     178,          1,          3,          3,2,20040825,       0001,    31.5297,  -120.7555,       3918,  3542.3,   1.5582,  34.6763,2,  34.6764,2, 126.5000,2,   126.7,2,  169.02,2,   37.84,2,    0.00,2,    2.64,2,   0.020,2,   0.017,2,   0.000,2,  -999.0,9,  -999.0,9,-999.000,9,-999.0000,9, -999.00,9, -999.00,9,  -999.0,9,  -999.0,-999.000,9,-999.000, -999.00,9, 3542.30,-999.0000,9,-999.0000,9,-999.0000,9,-999.0000,9,-999.0000,9,-999.0000,-999.000,-999.0000,9, -999.00
318M20040615,        P02,     178,          1,          2,          2,2,20040825,       0001,    31.5297,  -120.7555,       3918,  3750.4,   1.5500,  34.6787,2,  34.6787,2, 129.0000,2,   129.2,2,  169.26,2,   37.63,2,    0.00,2,    2.62,2,   0.026,2,   0.023,2,   0.000,2,  -999.0,9,  -999.0,9,-999.000,9,-999.0000,9, -999.00,9, -999.00,9,  -999.0,9,  -999.0,-999.000,9,-999.000, -999.00,9, 3750.40,-999.0000,9,-999.0000,9,-999.0000,9,-999.0000,9,-999.0000,9,-999.0000,-999.000,-999.0000,9, -999.00
318M20040615,        P02,     178,          1,          1,          1,2,20040825,       0001,    31.5297,  -120.7555,       3918,  3953.4,   1.5469,  34.6805,2,  34.6805,2, 131.5000,2,   131.9,2,  169.46,2,   37.52,2,    0.00,2,    2.61,2,   0.019,2,   0.021,2,   0.000,2,  -999.0,9,  -999.0,9,-999.000,9,-999.0000,9, -999.00,9, -999.00,9,  -999.0,9,  -999.0,-999.000,9,-999.000, -999.00,9, 3953.40,-999.0000,9,-999.0000,9,-999.0000,9,-999.0000,9,-999.0000,9,-999.0000,-999.000,-999.0000,9, -999.00