BOTTLE,20131027SIOCCHRJL
EXPOCODE,SECT_ID,STNNBR,CASTNO,SAMPNO,BTLNBR,BTLNBR_FLAG_W,DATE,TIME,LATITUDE,LONGITUDE,DEPTH,CTDPRS,CTDTMP,CTDSAL,CTDSAL_FLAG_W,SALNTY,SALNTY_FLAG_W,CTDOXY,CTDOXY_FLAG_W,OXYGEN,OXYGEN_FLAG_W,SILCAT,SILCAT_FLAG_W,NITRAT,NITRAT_FLAG_W,NITRIT,NITRIT_FLAG_W,PHSPHT,PHSPHT_FLAG_W,CFC-11,CFC-11_FLAG_W,CFC-12,CFC-12_FLAG_W,CFC113,CFC113_FLAG_W,TCARBN,TCARBN_FLAG_W,ALKALI,ALKALI_FLAG_W,TRITUM,TRITUM_FLAG_W,HELIUM,HELIUM_FLAG_W,DELHE3,DELHE3_FLAG_W,DELC13,DELC13_FLAG_W,DELC14,DELC14_FLAG_W,C14ERR,NEON,NEON_FLAG_W,NEONER,DOC,DOC_FLAG_W,CTDRAW,CDOM380,CDOM380_FLAG_W,CDOM325,CDOM325_FLAG_W,CDOMSL,CDOMSL_FLAG_W,CDOM340,CDOM340_FLAG_W,CDOMSN,CDOMSN_FLAG_W,HELIER,TRITER,CDOM412,CDOM412_FLAG_W,DELHER
,,,,,,,,,,,METERS,DBAR,ITS-90,PSS-78,,PSS-78,,UMOL/KG,,UMOL/KG,,UMOL/KG,,UMOL/KG,,UMOL/KG,,UMOL/KG,,PMOL/KG,,PMOL/KG,,PMOL/KG,,UMOL/KG,,UMOL/KG,,TU,,NMOL/KG,,PERCNT,,/MILLE,,/MILLE,,/MILLE,NMOL/KG,,NMOL/KG,UMOL/KG,,DBAR,1/M,,1/M,,1/NM,,1/M,,1/NM,,NMOL/KG,TU,1/M,,PERCNT
318M20040615,        P02,      10,          2,         31,         31,2,20040618,       1616,    31.4705,   133.8235,       4793,    11.9,  25.6726,  34.4661,2,  34.4658,2, 205.4000,2,   206.0,2,    1.33,2,    0.12,2,    0.00,2,    0.04,2,   1.795,2,   1.029,2,   0.100,2,  1939.9,6,  2264.8,6,-999.000,9,-999.0000,9, -999.00,9, -999.00,9,  -999.0,9,  -999.0,-999.000,9,-999.000,   67.70,2,   11.90,-999.0000,9,-999.0000,9,-999.0000,9,-999.0000,9,-999.0000,9,-999.0000,-999.000,-999.0000,9, -999.00
318M20040615,        P02,      10,          2,         30,         30,2,20040618,       1616,    31.4705,   133.8235,       4793,    51.3,  24.0046,  34.4311,2,  34.4652,2, 210.5000,3,   213.1,2,    1.52,2,    0.12,2,    0.00,2,    0.04,2,   1.970,2,   1.167,2,   0.114,2,  1951.1,2,  2266.4,2,-999.000,9,-999.0000,9, -999.00,9, -999.00,9,  -999.0,9,  -999.0,-999.000,9,-999.000,   66.70,2,   51.30,-999.0000,9,-999.0000,9,-999.0000,9,-999.0000,9,-999.0000,9,-999.0000,-999.000,-999.0000,9, -999.00
318M20040615,        P02,      10,          2,         29,         29,2,20040618,       1616,    31.4705,   133.8235,       4793,   101.1,  21.6992,  34.7085,2,  34.7107,2, 208.1000,2,   194.0,2,    3.53,2,    2.61,2,    0.11,2,    0.24,2,   2.078,2,   1.185,2,   0.077,2,  1998.9,2,  2283.1,2,-999.000,9,-999.0000,9, -999.00,9, -999.00,9,  -999.0,9,  -999.0,-999.000,9,-999.000,   60.70,2,  101.10,-999.0000,9,-999.0000,9,-999.0000,9,-999.0000,9,-999.0000,9,-999.0000,-999.000,-999.0000,9, -999.00
318M20040615,        P02,      10,          2,         28,         28,2,20040618,       1616,    31.4705,   133.8235,       4793,   156.6,  18.7886,  34.6059,2,  34.6039,2, 187.6000,2,   185.7,2,    8.27,2,    6.24,2,    0.04,2,    0.48,2,   2.273,2,   1.265,2,   0.081,2,  2034.3,2,  2280.9,2,-999.000,9,-999.0000,9, -999.00,9, -999.00,9,  -999.0,9,  -999.0,-999.000,9,-999.000,   56.80,2,  156.60,-999.0000,9,-999.0000,9,-999.0000,9,-999.0000,9,-999.0000,9,-999.0000,-999.000,-999.0000,9, -999.00
318M20040615,        P02,      10,          2,         27,         27,2,20040618,       1616,    31.4705,   133.8235,       4793,   205.2,  16.9028,  34.7147,2,  34.7155,2, 187.7000,2,   191.6,2,    6.45,2,    6.72,2,    0.01,2,    0.49,2,   2.471,2,   1.340,2,   0.025,2,  2044.2,2,  2282.0,2,-999.000,9,-999.0000,9, -999.00,9, -999.00,9,  -999.0,9,  -999.0,-999.000,9,-999.000,   53.50,2,  205.20,-999.0000,9,-999.0000,9,-999.0000,9,-999.0000,9,-999.0000,9,-999.0000,-999.000,-999.0000,9, -999.00
318M20040615,        P02,      10,          2,         26,         26,2,20040618,       1616,    31.4705,   133.8235,       4793,   255.9,  15.0442,  34.5986,2,  34.5978,2, 187.2000,2,   185.3,2,   10.47,2,    9.98,2,    0.00,2,    0.71,2,   2.560,2,   1.363,2,   0.020,2,  2068.2,2,  2270.2,3,-999.000,9,-999.0000,9, -999.00,9, -999.00,9,  -999.0,9,  -999.0,-999.000,9,-999.000,   49.30,2,  255.90,-999.0000,9,-999.0000,9,-999.0000,9,-999.0000,9,-999.0000,9,-999.0000,-999.000,-999.0000,9, -999.00
318M20040615,        P02,      10,          2,         25,         25,2,20040618,       1616,    31.4705,   133.8235,       4793,   303.6,  13.6801,  34.5039,2,  34.5061,2, 182.0000,2,   182.0,2,   13.77,2,   12.31,2,    0.00,2,    0.89,2,   2.605,6,   1.352,6,   0.027,6,  2085.3,2,  2275.4,2,-999.000,9,-999.0000,9, -999.00,9, -999.00,9,  -999.0,9,  -999.0,-999.000,9,-999.000,   48.70,2,  303.60,-999.0000,9,-999.0000,9,-999.0000,9,-999.0000,9,-999.0000,9,-999.0000,-999.000,-999.0000,9, -999.00
318M20040615,        P02,      10,          2,         24,         24,2,20040618,       1616,    31.4705,   133.8235,       4793,   403.8,  11.0546,  34.3925,2,  34.3917,2, 149.5000,2,   147.7,2,   33.71,2,   20.08,2,    0.00,2,    1.47,2,   2.022,2,   1.074,2,   0.025,2,  2147.1,2,  2287.8,2,-999.000,9,-999.0000,9, -999.00,9, -999.00,9,  -999.0,9,  -999.0,-999.000,9,-999.000,   47.70,2,  403.80,-999.0000,9,-999.0000,9,-999.0000,9,-999.0000,9,-999.0000,9,-999.0000,-999.000,-999.0000,9, -999.00
318M20040615,        P02,      10,          2,         23,         23,2,20040618,       1616,    31.4705,   133.8235,       4793,   500.5,   8.4063,  34.3063,2,  34.3065,2, 118.5000,2,   120.6,2,   54.67,2,   26.95,2,    0.01,2,    1.97,2,   1.428,2,   0.728,2,   0.019,2,  2204.8,2,  2301.7,2,-999.000,9,-999.0000,9, -999.00,9, -999.00,9,  -999.0,9,  -999.0,-999.000,9,-999.000,   44.90,2,  500.50,-999.0000,9,-999.0000,9,-999.0000,9,-999.0000,9,-999.0000,9,-999.0000,-999.000,-999.0000,9, -999.00
318M20040615,        P02,      10,          2,         22,         22,2,20040618,       1616,    31.4705,   133.8235,       4793,   593.6,   6.6667,  34.2729,2,  34.2746,2,  97.1000,2,   100.2,2,   72.20,2,   31.79,2,    0.00,2,    2.33,2,   1.039,2,   0.551,2,   0.015,2,  2245.8,2,  2315.7,2,-999.000,9,-999.0000,9, -999.00,9, -999.00,9,  -999.0,9,  -999.0,-999.000,9,-999.000,   44.10,2,  593.60,-999.0000,9,-999.0000,9,-999.0000,9,-999.0000,9,-999.0000,9,-999.0000,-999.000,-999.0000,9, -999.00
318M20040615,        P02,      10,          2,         21,         21,2,20040618,       1616,    31.4705,   133.8235,       4793,   723.9,   4.8235,  34.3043,2,  34.3056,2,  74.8000,2,    73.2,2,   97.60,2,   37.27,2,    0.00,2,    2.72,2,   0.493,2,   0.251,2,   0.007,2,  2297.5,2,  2340.4,2,-999.000,9,-999.0000,9, -999.00,9, -999.00,9,  -999.0,9,  -999.0,-999.000,9,-999.000,   42.40,2,  723.90,-999.0000,9,-999.0000,9,-999.0000,9,-999.0000,9,-999.0000,9,-999.0000,-999.000,-999.0000,9, -999.00
318M20040615,        P02,      10,          2,         20,         20,2,20040618,       1616,    31.4705,   133.8235,       4793,   832.8,   4.1376,  34.3401,2,  34.3396,2,  64.2000,2,    64.2,2,  110.46,2,   39.13,2,    0.00,2,    2.85,2,   0.335,2,   0.168,2,   0.007,2,  2317.8,6,  2352.1,2,-999.000,9,-999.0000,9, -999.00,9, -999.00,9,  -999.0,9,  -999.0,-999.000,9,-999.000,   41.20,2,  832.80,-999.0000,9,-999.0000,9,-999.0000,9,-999.0000,9,-999.0000,9,-999.0000,-999.000,-999.0000,9, -999.00
318M20040615,        P02,      10,          2,         19,         19,2,20040618,       1616,    31.4705,   133.8235,       4793,   905.0,   3.8789,  34.3933,2,  34.3930,2,  65.5000,2,    66.5,2,  116.40,2,   39.28,2,    0.00,2,    2.85,2,   0.225,2,   0.114,2,   0.004,2,  2324.6,2,  2363.2,2,-999.000,9,-999.0000,9, -999.00,9, -999.00,9,  -999.0,9,  -999.0,-999.000,9,-999.000,   40.00,2,  905.00,-999.0000,9,-999.0000,9,-999.0000,9,-999.0000,9,-999.0000,9,-999.0000,-999.000,-999.0000,9, -999.00
318M20040615,        P02,      10,          2,         18,         18,2,20040618,       1616,    31.4705,   133.8235,       4793,  1001.9,   3.4724,  34.4293,2,  34.4285,2,  66.2000,2,  -999.0,5,  124.42,2,   39.86,2,    0.00,2,    2.87,2,   0.386,4,   0.222,4,   0.024,4,  2334.6,2,  2370.8,2,-999.000,9,-999.0000,9, -999.00,9, -999.00,9,  -999.0,9,  -999.0,-999.000,9,-999.000,   39.00,2, 1001.90,-999.0000,9,-999.0000,9,-999.0000,9,-999.0000,9,-999.0000,9,-999.0000,-999.000,-999.0000,9, -999.00
318M20040615,        P02,      10,          2,         17,         17,2,20040618,       1616,    31.4705,   133.8235,       4793,  1107.4,   3.1232,  34.4655,2,  34.4640,2,  68.4000,2,    69.3,2,  130.96,2,   40.12,2,    0.00,2,    2.89,2,   0.096,2,   0.048,2,  -0.003,2,  2342.1,2,  2380.9,2,-999.000,9,-999.0000,9, -999.00,9, -999.00,9,  -999.0,9,  -999.0,-999.000,9,-999.000,   38.80,2, 1107.40,-999.0000,9,-999.0000,9,-999.0000,9,-999.0000,9,-999.0000,9,-999.0000,-999.000,-999.0000,9, -999.00
318M20040615,        P02,      10,          2,         16,         16,2,20040618,       1616,    31.4705,   133.8235,       4793,  1211.6,   2.9416,  34.4859,2,  34.4864,2,  71.9000,2,    72.5,2,  133.78,2,   40.13,2,    0.00,2,    2.88,2,   0.080,2,   0.041,2,   0.000,2,  2343.6,2,  2385.1,2,-999.000,9,-999.0000,9, -999.00,9, -999.00,9,  -999.0,9,  -999.0,-999.000,9,-999.000,   38.00,2, 1211.60,-999.0000,9,-999.0000,9,-999.0000,9,-999.0000,9,-999.0000,9,-999.0000,-999.000,-999.0000,9, -999.00
318M20040615,        P02,      10,          2,         15,         15,2,20040618,       1616,    31.4705,   133.8235,       4793,  1315.8,   2.7671,  34.5054,2,  34.5061,2,  75.9000,2,    76.3,2,  137.32,2,   40.12,2,    0.00,2,    2.88,2,   0.057,2,   0.025,2,   0.002,2,  2345.6,2,  2389.9,2,-999.000,9,-999.0000,9, -999.00,9, -999.00,9,  -999.0,9,  -999.0,-999.000,9,-999.000,   38.20,2, 1315.80,-999.0000,9,-999.0000,9,-999.0000,9,-999.0000,9,-999.0000,9,-999.0000,-999.000,-999.0000,9, -999.00
318M20040615,        P02,      10,          2,         14,         14,2,20040618,       1616,    31.4705,   133.8235,       4793,  1417.3,   2.6220,  34.5222,2,  34.5222,2,  80.3000,2,    79.9,2,  139.39,2,   39.90,2,    0.00,2,    2.87,2,   0.040,2,   0.019,2,   0.000,2,  2346.1,2,  2393.4,2,-999.000,9,-999.0000,9, -999.00,9, -999.00,9,  -999.0,9,  -999.0,-999.000,9,-999.000,   38.10,2, 1417.30,-999.0000,9,-999.0000,9,-999.0000,9,-999.0000,9,-999.0000,9,-999.0000,-999.000,-999.0000,9, -999.00
318M20040615,        P02,      10,          2,         13,         13,2,20040618,       1616,    31.4705,   133.8235,       4793,  1514.8,   2.4877,  34.5393,2,  34.5391,2,  85.0000,2,    84.6,2,  141.07,2,   39.74,2,    0.00,2,    2.87,2,   0.027,2,   0.013,2,   0.003,2,  2347.7,2,  2395.9,2,-999.000,9,-999.0000,9, -999.00,9, -999.00,9,  -999.0,9,  -999.0,-999.000,9,-999.000,   37.80,2, 1514.80,-999.0000,9,-999.0000,9,-999.0000,9,-999.0000,9,-999.0000,9,-999.0000,-999.000,-999.0000,9, -999.00
318M20040615,        P02,      10,          2,         12,         12,2,20040618,       1616,    31.4705,   133.8235,       4793,  1617.1,   2.3558,  34.5563,2,  34.5556,2,  90.0000,2,    90.4,2,  142.58,2,   39.51,2,    0.00,2,    2.84,2,   0.018,2,   0.013,2,   0.005,2,  2347.1,2,  2399.7,2,-999.000,9,-999.0000,9, -999.00,9, -999.00,9,  -999.0,9,  -999.0,-999.000,9,-999.000,   37.40,2, 1617.10,-999.0000,9,-999.0000,9,-999.0000,9,-999.0000,9,-999.0000,9,-999.0000,-999.000,-999.0000,9, -999.00
318M20040615,        P02,      10,          2,         11,         11,2,20040618,       1616,    31.4705,   133.8235,       4793,  1811.8,   2.1929,  34.5784,2,  34.5782,2,  98.7000,2,    98.3,2,  143.71,2,   39.09,2,    0.00,2,    2.81,2,   0.014,2,   0.013,2,   0.005,2,  2346.3,2,  2402.7,2,-999.000,9,-999.0000,9, -999.00,9, -999.00,9,  -999.0,9,  -999.0,-999.000,9,-999.000,   37.30,2, 1811.80,-999.0000,9,-999.0000,9,-999.0000,9,-999.0000,9,-999.0000,9,-999.0000,-999.000,-999.0000,9, -999.00
318M20040615,        P02,      10,          2,         10,         10,2,20040618,       1616,    31.4705,   133.8235,       4793,  2011.7,   2.0224,  34.6023,2,  34.6022,2, 108.9000,2,   108.3,2,  144.44,2,   38.55,2,    0.00,2,    2.75,2,   0.011,2,   0.006,2,   0.006,2,  2342.4,2,  2405.9,2,-999.000,9,-999.0000,9, -999.00,9, -999.00,9,  -999.0,9,  -999.0,-999.000,9,-999.000,   37.50,2, 2011.70,-999.0000,9,-999.0000,9,-999.0000,9,-999.0000,9,-999.0000,9,-999.0000,-999.000,-999.0000,9, -999.00
318M20040615,        P02,      10,          2,          9,          9,2,20040618,       1616,    31.4705,   133.8235,       4793,  2282.2,   1.8626,  34.6259,2,  34.6260,2, 119.2000,2,   119.6,2,  144.63,2,   37.91,2,    0.00,2,    2.70,2,   0.006,2,   0.005,2,   0.006,2,  2337.3,2,  2408.6,2,-999.000,9,-999.0000,9, -999.00,9, -999.00,9,  -999.0,9,  -999.0,-999.000,9,-999.000,   37.60,2, 2282.20,-999.0000,9,-999.0000,9,-999.0000,9,-999.0000,9,-999.0000,9,-999.0000,-999.000,-999.0000,9, -999.00
318M20040615,        P02,      10,          2,          8,          8,2,20040618,       1616,    31.4705,   133.8235,       4793,  2544.5,   1.7624,  34.6417,2,  34.6429,2, 128.5000,2,   128.9,2,  144.07,2,   37.26,2,    0.00,2,    2.66,2,   0.006,2,   0.002,2,   0.004,2,  2335.1,2,  2409.4,2,-999.000,9,-999.0000,9, -999.00,9, -999.00,9,  -999.0,9,  -999.0,-999.000,9,-999.000,   37.40,2, 2544.50,-999.0000,9,-999.0000,9,-999.0000,9,-999.0000,9,-999.0000,9,-999.0000,-999.000,-999.0000,9, -999.00
318M20040615,        P02,      10,          2,          7,          7,2,20040618,       1616,    31.4705,   133.8235,       4793,  2813.1,   1.6646,  34.6561,2,  34.6565,2, 136.6000,2,   136.8,2,  143.68,2,   36.84,2,    0.00,2,    2.62,2,   0.005,2,   0.003,2,   0.005,2,  2328.0,2,  2414.1,2,-999.000,9,-999.0000,9, -999.00,9, -999.00,9,  -999.0,9,  -999.0,-999.000,9,-999.000,   37.10,2, 2813.10,-999.0000,9,-999.0000,9,-999.0000,9,-999.0000,9,-999.0000,9,-999.0000,-999.000,-999.0000,9, -999.00
318M20040615,        P02,      10,          2,          6,          6,2,20040618,       1616,    31.4705,   133.8235,       4793,  3036.9,   1.6070,  34.6638,2,  34.6642,2, 141.0000,2,   141.6,2,  143.49,2,   36.36,2,    0.00,2,    2.59,2,   0.007,2,   0.004,2,   0.004,2,  2325.5,2,  2413.6,2,-999.000,9,-999.0000,9, -999.00,9, -999.00,9,  -999.0,9,  -999.0,-999.000,9,-999.000,   37.30,2, 3036.90,-999.0000,9,-999.0000,9,-999.0000,9,-999.0000,9,-999.0000,9,-999.0000,-999.000,-999.0000,9, -999.00
318M20040615,        P02,      10,          2,          5,          5,2,20040618,       1616,    31.4705,   133.8235,       4793,  3431.3,   1.5565,  34.6737,2,  34.6734,2, 147.6000,2,   148.0,2,  143.11,2,   36.19,2,    0.00,2,    2.55,2,   0.008,2,   0.002,2,   0.002,2,  2322.8,2,  2414.7,2,-999.000,9,-999.0000,9, -999.00,9, -999.00,9,  -999.0,9,  -999.0,-999.000,9,-999.000,   37.30,2, 3431.30,-999.0000,9,-999.0000,9,-999.0000,9,-999.0000,9,-999.0000,9,-999.0000,-999.000,-999.0000,9, -999.00
318M20040615,        P02,      10,          2,          4,          4,2,20040618,       1616,    31.4705,   133.8235,       4793,  3857.4,   1.5507,  34.6790,2,  34.6917,2, 151.4000,3,   152.3,2,  142.56,2,   35.98,2,    0.00,2,    2.53,2,   0.009,2,   0.002,2,   0.001,2,  2321.3,2,  2413.8,2,-999.000,9,-999.0000,9, -999.00,9, -999.00,9,  -999.0,9,  -999.0,-999.000,9,-999.000,   37.30,2, 3857.40,-999.0000,9,-999.0000,9,-999.0000,9,-999.0000,9,-999.0000,9,-999.0000,-999.000,-999.0000,9, -999.00
318M20040615,        P02,      10,          2,          3,          3,2,20040618,       1616,    31.4705,   133.8235,       4793,  4274.9,   1.5750,  34.6814,2,  34.6815,2, 153.5000,2,   154.0,2,  142.17,2,   35.87,2,    0.00,2,    2.53,2,   0.011,2,   0.002,2,   0.001,2,  2321.3,2,  2414.2,2,-999.000,9,-999.0000,9, -999.00,9, -999.00,9,  -999.0,9,  -999.0,-999.000,9,-999.000,   37.40,2, 4274.90,-999.0000,9,-999.0000,9,-999.0000,9,-999.0000,9,-999.0000,9,-999.0000,-999.000,-999.0000,9, -999.00
318M20040615,        P02,      10,          2,          2,          2,2,20040618,       1616,    31.4705,   133.8235,       4793,  4685.3,   1.6110,  34.6827,2,  34.6839,2, 154.7000,3,   155.5,2,  141.62,2,   35.82,2,    0.00,2,    2.53,2,   0.013,2,   0.003,2,   0.002,2,  2320.7,2,  2416.0,2,-999.000,9,-999.0000,9, -999.00,9, -999.00,9,  -999.0,9,  -999.0,-999.000,9,-999.000,   37.50,2, 4685.30,-999.0000,9,-999.0000,9,-999.0000,9,-999.0000,9,-999.0000,9,-999.0000,-999.000,-999.0000,9, -999.00
318M20040615,        P02,      10,          2,          1,          1,2,20040618,       1616,    31.4705,   133.8235,       4793,  4874.9,   1.6322,  34.6828,2,  34.6843,2, 154.8000,3,  -999.0,5,  141.61,2,   35.82,2,    0.00,2,    2.52,2,   0.016,2,   0.000,2,   0.002,2,  2321.5,6,  2414.0,6,-999.000,9,-999.0000,9, -999.00,9, -999.00,9,  -999.0,9,  -999.0,-999.000,9,-999.000,   37.30,2, 4874.90,-999.0000,9,-999.0000,9,-999.0000,9,-999.0000,9,-999.0000,9,-999.0000,-999.000,-999.0000,9, -999.00