BOTTLE,20131027SIOCCHRJL
EXPOCODE,SECT_ID,STNNBR,CASTNO,SAMPNO,BTLNBR,BTLNBR_FLAG_W,DATE,TIME,LATITUDE,LONGITUDE,DEPTH,CTDPRS,CTDTMP,CTDSAL,CTDSAL_FLAG_W,SALNTY,SALNTY_FLAG_W,CTDOXY,CTDOXY_FLAG_W,OXYGEN,OXYGEN_FLAG_W,SILCAT,SILCAT_FLAG_W,NITRAT,NITRAT_FLAG_W,NITRIT,NITRIT_FLAG_W,PHSPHT,PHSPHT_FLAG_W,CFC-11,CFC-11_FLAG_W,CFC-12,CFC-12_FLAG_W,CFC113,CFC113_FLAG_W,TCARBN,TCARBN_FLAG_W,ALKALI,ALKALI_FLAG_W,TRITUM,TRITUM_FLAG_W,HELIUM,HELIUM_FLAG_W,DELHE3,DELHE3_FLAG_W,DELC13,DELC13_FLAG_W,DELC14,DELC14_FLAG_W,C14ERR,NEON,NEON_FLAG_W,NEONER,DOC,DOC_FLAG_W,CTDRAW,CDOM380,CDOM380_FLAG_W,CDOM325,CDOM325_FLAG_W,CDOMSL,CDOMSL_FLAG_W,CDOM340,CDOM340_FLAG_W,CDOMSN,CDOMSN_FLAG_W,HELIER,TRITER,CDOM412,CDOM412_FLAG_W,DELHER
,,,,,,,,,,,METERS,DBAR,ITS-90,PSS-78,,PSS-78,,UMOL/KG,,UMOL/KG,,UMOL/KG,,UMOL/KG,,UMOL/KG,,UMOL/KG,,PMOL/KG,,PMOL/KG,,PMOL/KG,,UMOL/KG,,UMOL/KG,,TU,,NMOL/KG,,PERCNT,,/MILLE,,/MILLE,,/MILLE,NMOL/KG,,NMOL/KG,UMOL/KG,,DBAR,1/M,,1/M,,1/NM,,1/M,,1/NM,,NMOL/KG,TU,1/M,,PERCNT
318M20040615,        P02,      78,          1,         36,         36,2,20040713,       1401,    29.9992,   175.8547,       5241,     6.5,  25.9912,  35.1508,2,  35.1490,2, 209.7000,2,   208.7,2,    1.07,2,    0.08,2,    0.00,2,    0.02,2,   1.835,2,   1.130,2,   0.130,2,  1998.4,2,  2307.9,6,   0.814,2,   1.7291,2,   -0.43,2, -999.00,9,  -999.0,9,  -999.0,-999.000,9,-999.000,   67.80,2,    6.50,-999.0000,9,-999.0000,9,-999.0000,9,-999.0000,9,-999.0000,9,   0.0086,   0.005,-999.0000,9,    0.20
318M20040615,        P02,      78,          1,         35,         35,2,20040713,       1401,    29.9992,   175.8547,       5241,    40.1,  19.6262,  34.9074,2,  34.9447,2, 237.7000,2,   241.0,2,    1.41,2,    0.08,2,    0.00,2,    0.04,2,   2.337,2,   1.411,2,   0.152,2,  2000.6,2,  2294.7,2,   0.766,2,   1.7596,2,   -0.63,2, -999.00,9,  -999.0,9,  -999.0,-999.000,9,-999.000,   65.60,2,   40.10,-999.0000,9,-999.0000,9,-999.0000,9,-999.0000,9,-999.0000,9,   0.0088,   0.006,-999.0000,9,    0.20
318M20040615,        P02,      78,          1,         34,         34,2,20040713,       1401,    29.9992,   175.8547,       5241,    85.3,  17.8191,  34.8447,2,  34.8497,2, 233.1000,2,   231.1,2,    2.09,2,    0.64,2,    0.06,2,    0.11,2,   2.465,2,   1.465,2,   0.148,2,  2016.8,2,  2289.2,2,   0.775,2,   1.7652,2,   -0.53,2, -999.00,9,  -999.0,9,  -999.0,-999.000,9,-999.000,   58.30,2,   85.30,-999.0000,9,-999.0000,9,-999.0000,9,-999.0000,9,-999.0000,9,   0.0088,   0.005,-999.0000,9,    0.20
318M20040615,        P02,      78,          1,         33,         33,2,20040713,       1401,    29.9992,   175.8547,       5241,   135.2,  16.7236,  34.7361,2,  34.7366,2, 218.5000,2,   220.2,2,    3.64,2,    4.18,2,    0.02,2,    0.29,2,   2.548,2,   1.490,2,   0.117,2,  2027.7,2,  2281.2,2,-999.000,9,   1.7734,2,   -0.38,2, -999.00,9,  -999.0,9,  -999.0,-999.000,9,-999.000,   56.80,2,  135.20,-999.0000,9,-999.0000,9,-999.0000,9,-999.0000,9,-999.0000,9,   0.0089,-999.000,-999.0000,9,    0.20
318M20040615,        P02,      78,          1,         32,         32,2,20040713,       1401,    29.9992,   175.8547,       5241,   189.7,  16.4412,  34.7268,2,  34.7262,2, 224.2000,2,   225.5,2,    3.80,2,    4.19,2,    0.01,2,    0.29,2,   2.560,2,   1.490,2,   0.123,2,  2026.9,2,  2280.3,2,   0.777,2,   1.7699,2,   -0.36,2, -999.00,9,  -999.0,9,  -999.0,-999.000,9,-999.000,   55.20,2,  189.70,-999.0000,9,-999.0000,9,-999.0000,9,-999.0000,9,-999.0000,9,   0.0088,   0.005,-999.0000,9,    0.20
318M20040615,        P02,      78,          1,         31,         31,2,20040713,       1401,    29.9992,   175.8547,       5241,   239.8,  15.9670,  34.6971,2,  34.6952,2, 222.1000,2,   222.5,2,    5.01,2,    5.38,2,    0.01,2,    0.37,2,   2.604,2,   1.521,2,   0.120,2,  2033.9,6,  2279.7,2,-999.000,9,-999.0000,9, -999.00,9, -999.00,9,  -999.0,9,  -999.0,-999.000,9,-999.000,   53.60,2,  239.80,-999.0000,9,-999.0000,9,-999.0000,9,-999.0000,9,-999.0000,9,-999.0000,-999.000,-999.0000,9, -999.00
318M20040615,        P02,      78,          1,         30,         30,2,20040713,       1401,    29.9992,   175.8547,       5241,   289.5,  15.1727,  34.6040,2,  34.6044,2, 215.9000,2,   216.3,2,    6.39,2,    6.81,2,    0.01,2,    0.48,2,   2.693,2,   1.539,2,   0.078,2,  2047.7,2,  2275.5,2,   0.775,2,   1.6389,2,   -0.21,2, -999.00,9,  -999.0,9,  -999.0,-999.000,9,-999.000,   52.80,2,  289.50,-999.0000,9,-999.0000,9,-999.0000,9,-999.0000,9,-999.0000,9,   0.0082,   0.005,-999.0000,9,    0.20
318M20040615,        P02,      78,          1,         29,         29,2,20040713,       1401,    29.9992,   175.8547,       5241,   339.3,  14.1588,  34.5305,2,  34.5302,2, 213.4000,2,   211.6,2,    9.50,2,    8.97,2,    0.01,2,    0.63,2,   2.748,2,   1.548,2,   0.083,2,  2062.9,2,  2266.9,2,-999.000,9,-999.0000,9, -999.00,9, -999.00,9,  -999.0,9,  -999.0,-999.000,9,-999.000,   51.30,2,  339.30,-999.0000,9,-999.0000,9,-999.0000,9,-999.0000,9,-999.0000,9,-999.0000,-999.000,-999.0000,9, -999.00
318M20040615,        P02,      78,          1,         28,         28,2,20040713,       1401,    29.9992,   175.8547,       5241,   389.3,  13.0211,  34.4460,2,  34.4453,2, 206.2000,2,   205.6,2,   12.96,2,   11.33,2,    0.01,2,    0.79,2,   2.806,2,   1.535,2,   0.102,2,  2079.5,2,  2272.4,2,   0.774,2,   1.7573,2,    2.48,2, -999.00,9,  -999.0,9,  -999.0,-999.000,9,-999.000,   50.50,2,  389.30,-999.0000,9,-999.0000,9,-999.0000,9,-999.0000,9,-999.0000,9,   0.0088,   0.005,-999.0000,9,    0.20
318M20040615,        P02,      78,          1,         27,         27,2,20040713,       1401,    29.9992,   175.8547,       5241,   439.4,  11.7591,  34.3297,2,  34.3280,2, 204.4000,2,   205.8,2,   15.57,2,   13.33,2,    0.01,2,    0.94,2,   2.950,6,   1.599,6,   0.077,6,  2093.4,2,  2269.4,2,-999.000,9,-999.0000,9, -999.00,9, -999.00,9,  -999.0,9,  -999.0,-999.000,9,-999.000,   48.90,2,  439.40,-999.0000,9,-999.0000,9,-999.0000,9,-999.0000,9,-999.0000,9,-999.0000,-999.000,-999.0000,9, -999.00
318M20040615,        P02,      78,          1,         26,         26,2,20040713,       1401,    29.9992,   175.8547,       5241,   489.1,  10.5228,  34.2485,2,  34.2493,2, 202.3000,2,   202.0,2,   20.95,2,   15.79,2,    0.00,2,    1.12,2,   2.942,2,   1.592,2,   0.096,2,  2111.5,2,  2271.0,2,   0.814,2,   1.8168,2,    4.12,2, -999.00,9,  -999.0,9,  -999.0,-999.000,9,-999.000,   48.30,2,  489.10,-999.0000,9,-999.0000,9,-999.0000,9,-999.0000,9,-999.0000,9,   0.0091,   0.005,-999.0000,9,    0.20
318M20040615,        P02,      78,          1,         25,         25,2,20040713,       1401,    29.9992,   175.8547,       5241,   579.0,   8.3934,  34.0922,2,  34.0906,2, 185.2000,2,   184.8,2,   33.69,2,   21.21,2,    0.00,2,    1.53,2,   2.815,2,   1.500,2,   0.121,2,  2150.7,2,  2275.3,2,   0.729,2,   1.8493,2,    6.62,2, -999.00,9,  -999.0,9,  -999.0,-999.000,9,-999.000,   46.90,2,  579.00,-999.0000,9,-999.0000,9,-999.0000,9,-999.0000,9,-999.0000,9,   0.0092,   0.005,-999.0000,9,    0.20
318M20040615,        P02,      78,          1,         24,         24,2,20040713,       1401,    29.9992,   175.8547,       5241,   679.0,   6.1827,  34.0172,2,  34.0159,2, 140.4000,2,   136.7,2,   57.24,2,   29.72,2,    0.00,2,    2.15,2,   2.148,2,   1.107,2,   0.097,2,  2215.8,2,  2288.5,2,-999.000,9,   1.8256,2,   11.79,2, -999.00,9,  -999.0,9,  -999.0,-999.000,9,-999.000,   45.80,2,  679.00,-999.0000,9,-999.0000,9,-999.0000,9,-999.0000,9,-999.0000,9,   0.0091,-999.000,-999.0000,9,    0.20
318M20040615,        P02,      78,          1,         23,         23,2,20040713,       1401,    29.9992,   175.8547,       5241,   779.1,   4.9689,  34.0705,2,  34.0729,2,  95.0000,2,    91.9,2,   81.29,2,   35.95,2,    0.00,2,    2.59,2,   1.442,2,   0.746,2,   0.066,2,  2269.8,2,  2309.4,2,   0.475,2,   1.8840,2,   13.93,2, -999.00,9,  -999.0,9,  -999.0,-999.000,9,-999.000,   44.20,2,  779.10,-999.0000,9,-999.0000,9,-999.0000,9,-999.0000,9,-999.0000,9,   0.0094,   0.004,-999.0000,9,    0.20
318M20040615,        P02,      78,          1,         22,         22,2,20040713,       1401,    29.9992,   175.8547,       5241,   879.2,   4.2995,  34.1732,2,  34.1729,2,  62.7000,2,    59.7,2,  100.44,2,   39.72,2,    0.00,2,    2.85,2,   0.769,2,   0.384,2,   0.032,2,  2309.6,2,  2329.8,2,-999.000,9,-999.0000,9, -999.00,9, -999.00,9,  -999.0,9,  -999.0,-999.000,9,-999.000,   43.00,2,  879.20,-999.0000,9,-999.0000,9,-999.0000,9,-999.0000,9,-999.0000,9,-999.0000,-999.000,-999.0000,9, -999.00
318M20040615,        P02,      78,          1,         21,         21,2,20040713,       1401,    29.9992,   175.8547,       5241,   984.1,   3.7869,  34.2628,2,  34.2633,2,  42.1000,2,    40.4,2,  115.87,2,   41.92,2,    0.00,2,    3.00,2,   0.341,2,   0.170,2,   0.010,2,  2337.3,2,  2348.3,2,   0.164,2,   1.9048,2,   16.40,2, -999.00,9,  -999.0,9,  -999.0,-999.000,9,-999.000,   41.30,2,  984.10,-999.0000,9,-999.0000,9,-999.0000,9,-999.0000,9,-999.0000,9,   0.0095,   0.002,-999.0000,9,    0.20
318M20040615,        P02,      78,          1,         20,         20,2,20040713,       1401,    29.9992,   175.8547,       5241,  1084.3,   3.4961,  34.3246,2,  34.3239,2,  31.6000,2,    30.6,2,  125.10,2,   43.04,2,    0.00,2,    3.08,2,   0.141,2,   0.070,2,   0.005,2,  2355.1,2,  2361.5,2,-999.000,9,-999.0000,9, -999.00,9, -999.00,9,  -999.0,9,  -999.0,-999.000,9,-999.000,   40.40,2, 1084.30,-999.0000,9,-999.0000,9,-999.0000,9,-999.0000,9,-999.0000,9,-999.0000,-999.000,-999.0000,9, -999.00
318M20040615,        P02,      78,          1,         19,         19,2,20040713,       1401,    29.9992,   175.8547,       5241,  1184.8,   3.2010,  34.3808,2,  34.3804,2,  28.3000,2,    28.0,2,  133.98,2,   43.48,2,    0.00,2,    3.11,2,   0.074,2,   0.037,2,   0.003,2,  2367.3,6,  2373.9,2,   0.056,2,   1.7462,2,   15.11,2, -999.00,9,  -999.0,9,  -999.0,-999.000,9,-999.000,   39.30,2, 1184.80,-999.0000,9,-999.0000,9,-999.0000,9,-999.0000,9,-999.0000,9,   0.0087,   0.002,-999.0000,9,    0.20
318M20040615,        P02,      78,          1,         18,         18,2,20040713,       1401,    29.9992,   175.8547,       5241,  1285.2,   2.9595,  34.4272,2,  34.4270,2,  28.7000,2,    28.6,2,  141.12,2,   43.61,2,    0.00,2,    3.14,2,   0.041,2,   0.020,2,   0.004,2,  2373.1,2,  2382.6,6,-999.000,9,-999.0000,9, -999.00,9, -999.00,9,  -999.0,9,  -999.0,-999.000,9,-999.000,   38.90,2, 1285.20,-999.0000,9,-999.0000,9,-999.0000,9,-999.0000,9,-999.0000,9,-999.0000,-999.000,-999.0000,9, -999.00
318M20040615,        P02,      78,          1,         17,         17,2,20040713,       1401,    29.9992,   175.8547,       5241,  1389.6,   2.7253,  34.4655,2,  34.4649,2,  31.2000,2,    30.8,2,  148.02,2,   43.61,2,    0.00,2,    3.11,2,   0.025,2,   0.013,2,   0.001,2,  2379.1,2,  2390.0,2,   0.039,2,   1.9270,2,   18.03,2, -999.00,9,  -999.0,9,  -999.0,-999.000,9,-999.000,   38.70,2, 1389.60,-999.0000,9,-999.0000,9,-999.0000,9,-999.0000,9,-999.0000,9,   0.0096,   0.000,-999.0000,9,    0.20
318M20040615,        P02,      78,          1,         16,         16,2,20040713,       1401,    29.9992,   175.8547,       5241,  1438.2,   2.6556,  34.4776,2,  34.4761,2,  32.5000,2,    32.4,2,  149.78,2,   43.54,2,    0.00,2,    3.11,2,   0.023,2,   0.008,2,   0.004,2,  2381.5,2,  2392.4,2,-999.000,9,-999.0000,9, -999.00,9, -999.00,9,  -999.0,9,  -999.0,-999.000,9,-999.000,   38.70,2, 1438.20,-999.0000,9,-999.0000,9,-999.0000,9,-999.0000,9,-999.0000,9,-999.0000,-999.000,-999.0000,9, -999.00
318M20040615,        P02,      78,          1,         15,         15,2,20040713,       1401,    29.9992,   175.8547,       5241,  1586.4,   2.3767,  34.5258,2,  34.5251,2,  41.1000,2,    41.5,2,  156.87,2,   43.37,2,    0.00,2,    3.06,2,   0.012,2,   0.003,2,   0.003,2,  2384.2,2,  2402.1,2,   0.010,2,   1.9229,2,   18.74,2, -999.00,9,  -999.0,9,  -999.0,-999.000,9,-999.000,   38.40,2, 1586.40,-999.0000,9,-999.0000,9,-999.0000,9,-999.0000,9,-999.0000,9,   0.0096,   0.000,-999.0000,9,    0.20
318M20040615,        P02,      78,          1,         14,         14,2,20040713,       1401,    29.9992,   175.8547,       5241,  1692.9,   2.2475,  34.5511,2,  34.5517,2,  48.0000,2,    49.3,2,  159.36,2,   43.09,2,    0.00,2,    3.03,2,-999.000,9,-999.000,9,-999.000,9,  2382.7,2,  2407.1,2,-999.000,9,-999.0000,9, -999.00,9, -999.00,9,  -999.0,9,  -999.0,-999.000,9,-999.000,   38.00,2, 1692.90,-999.0000,9,-999.0000,9,-999.0000,9,-999.0000,9,-999.0000,9,-999.0000,-999.000,-999.0000,9, -999.00
318M20040615,        P02,      78,          1,         13,         13,2,20040713,       1401,    29.9992,   175.8547,       5241,  1793.5,   2.1340,  34.5723,2,  34.5727,2,  56.8000,2,    57.2,2,  160.92,2,   42.69,2,    0.00,2,    2.99,2,   0.006,2,   0.004,2,   0.000,2,  2379.1,2,  2410.8,2,   0.004,2,   1.9176,2,   19.37,2, -999.00,9,  -999.0,9,  -999.0,-999.000,9,-999.000,   37.70,2, 1793.50,-999.0000,9,-999.0000,9,-999.0000,9,-999.0000,9,-999.0000,9,   0.0096,   0.000,-999.0000,9,    0.20
318M20040615,        P02,      78,          1,         12,         12,2,20040713,       1401,    29.9992,   175.8547,       5241,  1995.3,   1.9438,  34.6001,2,  34.6000,2,  71.5000,2,    72.6,2,  163.22,2,   41.62,2,    0.00,2,    2.91,2,-999.000,9,-999.000,9,-999.000,9,  2375.2,2,  2414.6,2,-999.000,9,-999.0000,9, -999.00,9, -999.00,9,  -999.0,9,  -999.0,-999.000,9,-999.000,   37.30,2, 1995.30,-999.0000,9,-999.0000,9,-999.0000,9,-999.0000,9,-999.0000,9,-999.0000,-999.000,-999.0000,9, -999.00
318M20040615,        P02,      78,          1,         11,         11,2,20040713,       1401,    29.9992,   175.8547,       5241,  2196.2,   1.7959,  34.6211,2,  34.6202,2,  84.9000,2,    87.1,2,  163.38,2,   40.56,2,    0.00,2,    2.84,2,   0.004,2,   0.002,2,   0.000,2,  2368.4,2,  2417.4,2,-999.000,9,-999.0000,9, -999.00,9, -999.00,9,  -999.0,9,  -999.0,-999.000,9,-999.000,   37.50,2, 2196.20,-999.0000,9,-999.0000,9,-999.0000,9,-999.0000,9,-999.0000,9,-999.0000,-999.000,-999.0000,9, -999.00
318M20040615,        P02,      78,          1,         10,         10,2,20040713,       1401,    29.9992,   175.8547,       5241,  2454.0,   1.6668,  34.6406,2,  34.6397,2, 100.9000,2,   103.3,2,  161.97,2,   39.45,2,    0.00,2,    2.77,2,-999.000,9,-999.000,9,-999.000,9,  2358.5,2,  2418.8,2,-999.000,9,-999.0000,9, -999.00,9, -999.00,9,  -999.0,9,  -999.0,-999.000,9,-999.000,   37.30,2, 2454.00,-999.0000,9,-999.0000,9,-999.0000,9,-999.0000,9,-999.0000,9,-999.0000,-999.000,-999.0000,9, -999.00
318M20040615,        P02,      78,          1,          9,          9,2,20040713,       1401,    29.9992,   175.8547,       5241,  2711.2,   1.5842,  34.6533,2,  34.6531,2, 114.3000,2,   115.3,2,  160.20,2,   38.52,2,    0.00,2,    2.71,2,   0.005,2,   0.001,2,   0.000,2,  2352.1,2,  2419.2,2,   0.010,2,-999.0000,9, -999.00,9, -999.00,9,  -999.0,9,  -999.0,-999.000,9,-999.000,   37.10,2, 2711.20,-999.0000,9,-999.0000,9,-999.0000,9,-999.0000,9,-999.0000,9,-999.0000,   0.001,-999.0000,9, -999.00
318M20040615,        P02,      78,          1,          8,          8,2,20040713,       1401,    29.9992,   175.8547,       5241,  2964.4,   1.5269,  34.6632,2,  34.6647,2, 124.6000,2,   125.9,2,  158.09,2,   37.80,2,    0.00,2,    2.65,2,-999.000,9,-999.000,9,-999.000,9,  2345.8,2,  2418.9,2,-999.000,9,-999.0000,9, -999.00,9, -999.00,9,  -999.0,9,  -999.0,-999.000,9,-999.000,   37.60,2, 2964.40,-999.0000,9,-999.0000,9,-999.0000,9,-999.0000,9,-999.0000,9,-999.0000,-999.000,-999.0000,9, -999.00
318M20040615,        P02,      78,          1,          7,          7,2,20040713,       1401,    29.9992,   175.8547,       5241,  3299.3,   1.4800,  34.6727,2,  34.6745,2, 135.8000,2,   135.9,2,  155.79,2,   37.09,2,    0.00,2,    2.59,2,   0.005,2,   0.000,2,   0.000,2,  2339.3,2,  2419.6,2,-999.000,9,-999.0000,9, -999.00,9, -999.00,9,  -999.0,9,  -999.0,-999.000,9,-999.000,   37.40,2, 3299.30,-999.0000,9,-999.0000,9,-999.0000,9,-999.0000,9,-999.0000,9,-999.0000,-999.000,-999.0000,9, -999.00
318M20040615,        P02,      78,          1,          6,          6,2,20040713,       1401,    29.9992,   175.8547,       5241,  3705.4,   1.4572,  34.6799,2,  34.6804,2, 145.1000,2,   144.8,2,  153.35,2,   36.49,2,    0.00,2,    2.54,2,-999.000,9,-999.000,9,-999.000,9,  2332.3,2,  2419.6,2,-999.000,9,-999.0000,9, -999.00,9, -999.00,9,  -999.0,9,  -999.0,-999.000,9,-999.000,   37.60,2, 3705.40,-999.0000,9,-999.0000,9,-999.0000,9,-999.0000,9,-999.0000,9,-999.0000,-999.000,-999.0000,9, -999.00
318M20040615,        P02,      78,          1,          5,          5,2,20040713,       1401,    29.9992,   175.8547,       5241,  4122.4,   1.4532,  34.6851,2,  34.6877,2, 152.0000,3,   152.1,2,  150.33,2,   35.89,2,    0.00,2,    2.51,2,   0.008,2,   0.002,2,   0.000,2,  2327.0,2,  2418.6,2,-999.000,9,-999.0000,9, -999.00,9, -999.00,9,  -999.0,9,  -999.0,-999.000,9,-999.000,   37.70,2, 4122.40,-999.0000,9,-999.0000,9,-999.0000,9,-999.0000,9,-999.0000,9,-999.0000,-999.000,-999.0000,9, -999.00
318M20040615,        P02,      78,          1,          4,          4,2,20040713,       1401,    29.9992,   175.8547,       5241,  4529.8,   1.4603,  34.6888,2,  34.6896,2, 158.0000,2,   158.7,2,  146.24,2,   35.51,2,    0.00,2,    2.47,2,-999.000,9,-999.000,9,-999.000,9,  2320.3,2,  2414.1,2,-999.000,9,-999.0000,9, -999.00,9, -999.00,9,  -999.0,9,  -999.0,-999.000,9,-999.000,   37.60,2, 4529.80,-999.0000,9,-999.0000,9,-999.0000,9,-999.0000,9,-999.0000,9,-999.0000,-999.000,-999.0000,9, -999.00
318M20040615,        P02,      78,          1,          3,          3,2,20040713,       1401,    29.9992,   175.8547,       5241,  4938.1,   1.4701,  34.6923,2,  34.6928,2, 164.7000,2,   165.3,2,  141.27,2,   35.13,2,    0.00,2,    2.44,2,   0.006,2,   0.001,2,   0.002,2,  2313.2,2,  2409.9,2,-999.000,9,-999.0000,9, -999.00,9, -999.00,9,  -999.0,9,  -999.0,-999.000,9,-999.000,   37.30,2, 4938.10,-999.0000,9,-999.0000,9,-999.0000,9,-999.0000,9,-999.0000,9,-999.0000,-999.000,-999.0000,9, -999.00
318M20040615,        P02,      78,          1,          2,          2,2,20040713,       1401,    29.9992,   175.8547,       5241,  5095.7,   1.4744,  34.6935,2,  34.6944,2, 167.3000,2,   168.1,2,  138.96,2,   35.02,2,    0.00,2,    2.42,2,-999.000,9,-999.000,9,-999.000,9,  2309.8,2,  2406.8,2,-999.000,9,-999.0000,9, -999.00,9, -999.00,9,  -999.0,9,  -999.0,-999.000,9,-999.000,   37.50,2, 5095.70,-999.0000,9,-999.0000,9,-999.0000,9,-999.0000,9,-999.0000,9,-999.0000,-999.000,-999.0000,9, -999.00
318M20040615,        P02,      78,          1,          1,          1,2,20040713,       1401,    29.9992,   175.8547,       5241,  5351.8,   1.4841,  34.6952,2,  34.6962,2, 171.0000,2,   171.9,2,  136.12,2,   34.80,2,    0.00,2,    2.39,2,   0.006,2,   0.005,2,   0.000,2,  2306.9,6,  2405.6,6,-999.000,9,-999.0000,9, -999.00,9, -999.00,9,  -999.0,9,  -999.0,-999.000,9,-999.000,   37.80,2, 5351.80,-999.0000,9,-999.0000,9,-999.0000,9,-999.0000,9,-999.0000,9,-999.0000,-999.000,-999.0000,9, -999.00