BOTTLE,20131027SIOCCHRJL
EXPOCODE,SECT_ID,STNNBR,CASTNO,SAMPNO,BTLNBR,BTLNBR_FLAG_W,DATE,TIME,LATITUDE,LONGITUDE,DEPTH,CTDPRS,CTDTMP,CTDSAL,CTDSAL_FLAG_W,SALNTY,SALNTY_FLAG_W,CTDOXY,CTDOXY_FLAG_W,OXYGEN,OXYGEN_FLAG_W,SILCAT,SILCAT_FLAG_W,NITRAT,NITRAT_FLAG_W,NITRIT,NITRIT_FLAG_W,PHSPHT,PHSPHT_FLAG_W,CFC-11,CFC-11_FLAG_W,CFC-12,CFC-12_FLAG_W,CFC113,CFC113_FLAG_W,TCARBN,TCARBN_FLAG_W,ALKALI,ALKALI_FLAG_W,TRITUM,TRITUM_FLAG_W,HELIUM,HELIUM_FLAG_W,DELHE3,DELHE3_FLAG_W,DELC13,DELC13_FLAG_W,DELC14,DELC14_FLAG_W,C14ERR,NEON,NEON_FLAG_W,NEONER,DOC,DOC_FLAG_W,CTDRAW,CDOM380,CDOM380_FLAG_W,CDOM325,CDOM325_FLAG_W,CDOMSL,CDOMSL_FLAG_W,CDOM340,CDOM340_FLAG_W,CDOMSN,CDOMSN_FLAG_W,HELIER,TRITER,CDOM412,CDOM412_FLAG_W,DELHER
,,,,,,,,,,,METERS,DBAR,ITS-90,PSS-78,,PSS-78,,UMOL/KG,,UMOL/KG,,UMOL/KG,,UMOL/KG,,UMOL/KG,,UMOL/KG,,PMOL/KG,,PMOL/KG,,PMOL/KG,,UMOL/KG,,UMOL/KG,,TU,,NMOL/KG,,PERCNT,,/MILLE,,/MILLE,,/MILLE,NMOL/KG,,NMOL/KG,UMOL/KG,,DBAR,1/M,,1/M,,1/NM,,1/M,,1/NM,,NMOL/KG,TU,1/M,,PERCNT
318M20040615,        P02,     174,          1,         34,         34,2,20040823,       2326,    30.5115,  -122.7815,       2960,     7.3,  20.5717,  33.0559,2,  33.0568,2, 230.9000,2,   231.0,2,    1.37,2,    0.10,2,    0.00,2,    0.30,2,   2.309,2,   1.419,2,   0.169,2,  1981.9,6,  2216.7,6,-999.000,9,-999.0000,9, -999.00,9, -999.00,9,  -999.0,9,  -999.0,-999.000,9,-999.000, -999.00,9,    7.30,-999.0000,9,-999.0000,9,-999.0000,9,-999.0000,9,-999.0000,9,-999.0000,-999.000,-999.0000,9, -999.00
318M20040615,        P02,     174,          1,         33,         33,2,20040823,       2326,    30.5115,  -122.7815,       2960,    19.4,  20.2937,  33.1218,2,  33.1219,2, 233.2000,2,   231.8,2,    1.37,2,    0.10,2,    0.00,2,    0.30,2,   2.308,2,   1.410,2,   0.171,2,  -999.0,9,  -999.0,9,-999.000,9,-999.0000,9, -999.00,9, -999.00,9,  -999.0,9,  -999.0,-999.000,9,-999.000, -999.00,9,   19.40,-999.0000,9,-999.0000,9,-999.0000,9,-999.0000,9,-999.0000,9,-999.0000,-999.000,-999.0000,9, -999.00
318M20040615,        P02,     174,          1,         32,         32,2,20040823,       2326,    30.5115,  -122.7815,       2960,    44.5,  18.2725,  33.1293,2,  33.1278,2, 257.0000,2,   253.5,2,    1.77,2,    0.10,2,    0.00,2,    0.28,2,   2.695,2,   1.636,2,   0.189,2,  -999.0,9,  -999.0,9,-999.000,9,-999.0000,9, -999.00,9, -999.00,9,  -999.0,9,  -999.0,-999.000,9,-999.000, -999.00,9,   44.50,-999.0000,9,-999.0000,9,-999.0000,9,-999.0000,9,-999.0000,9,-999.0000,-999.000,-999.0000,9, -999.00
318M20040615,        P02,     174,          1,         31,         31,2,20040823,       2326,    30.5115,  -122.7815,       2960,    83.9,  15.6338,  33.3310,2,  33.3003,2, 256.7000,2,   255.8,2,    1.97,2,    0.10,2,    0.00,2,    0.28,2,   2.944,6,   1.731,6,   0.208,6,  -999.0,9,  -999.0,9,-999.000,9,-999.0000,9, -999.00,9, -999.00,9,  -999.0,9,  -999.0,-999.000,9,-999.000, -999.00,9,   83.90,-999.0000,9,-999.0000,9,-999.0000,9,-999.0000,9,-999.0000,9,-999.0000,-999.000,-999.0000,9, -999.00
318M20040615,        P02,     174,          1,         30,         30,2,20040823,       2326,    30.5115,  -122.7815,       2960,   108.0,  13.9439,  33.2529,2,  33.2540,2, 248.8000,2,   252.7,2,    2.78,2,    0.41,2,    0.03,2,    0.34,2,   3.021,2,   1.778,2,   0.209,2,  -999.0,9,  -999.0,9,-999.000,9,-999.0000,9, -999.00,9, -999.00,9,  -999.0,9,  -999.0,-999.000,9,-999.000, -999.00,9,  108.00,-999.0000,9,-999.0000,9,-999.0000,9,-999.0000,9,-999.0000,9,-999.0000,-999.000,-999.0000,9, -999.00
318M20040615,        P02,     174,          1,         29,         29,2,20040823,       2326,    30.5115,  -122.7815,       2960,   133.8,  12.3115,  33.2141,2,  33.2139,2, 232.2000,2,   235.3,2,    5.21,2,    5.40,2,    0.12,2,    0.65,2,   3.345,2,   1.940,2,   0.212,2,  -999.0,9,  -999.0,9,-999.000,9,-999.0000,9, -999.00,9, -999.00,9,  -999.0,9,  -999.0,-999.000,9,-999.000, -999.00,9,  133.80,-999.0000,9,-999.0000,9,-999.0000,9,-999.0000,9,-999.0000,9,-999.0000,-999.000,-999.0000,9, -999.00
318M20040615,        P02,     174,          1,         28,         28,2,20040823,       2326,    30.5115,  -122.7815,       2960,   158.6,  10.1143,  33.2322,2,  33.2602,2, 209.8000,2,   210.7,2,   12.30,2,   13.68,2,    0.01,2,    1.16,2,-999.000,9,-999.000,9,-999.000,9,  -999.0,9,  -999.0,9,-999.000,9,-999.0000,9, -999.00,9, -999.00,9,  -999.0,9,  -999.0,-999.000,9,-999.000, -999.00,9,  158.60,-999.0000,9,-999.0000,9,-999.0000,9,-999.0000,9,-999.0000,9,-999.0000,-999.000,-999.0000,9, -999.00
318M20040615,        P02,     174,          1,         27,         27,2,20040823,       2326,    30.5115,  -122.7815,       2960,   188.8,   9.1193,  33.6241,2,  33.6555,2, 173.0000,2,   166.5,2,   22.05,2,   21.35,2,    0.00,2,    1.62,2,   3.573,2,   1.849,2,   0.143,2,  -999.0,9,  -999.0,9,-999.000,9,-999.0000,9, -999.00,9, -999.00,9,  -999.0,9,  -999.0,-999.000,9,-999.000, -999.00,9,  188.80,-999.0000,9,-999.0000,9,-999.0000,9,-999.0000,9,-999.0000,9,-999.0000,-999.000,-999.0000,9, -999.00
318M20040615,        P02,     174,          1,         26,         26,2,20040823,       2326,    30.5115,  -122.7815,       2960,   213.0,   8.8281,  33.8830,2,  33.8842,2, 152.1000,2,   151.5,2,   26.52,2,   23.43,2,    0.00,2,    1.73,2,-999.000,9,-999.000,9,-999.000,9,  -999.0,9,  -999.0,9,-999.000,9,-999.0000,9, -999.00,9, -999.00,9,  -999.0,9,  -999.0,-999.000,9,-999.000, -999.00,9,  213.00,-999.0000,9,-999.0000,9,-999.0000,9,-999.0000,9,-999.0000,9,-999.0000,-999.000,-999.0000,9, -999.00
318M20040615,        P02,     174,          1,         25,         25,2,20040823,       2326,    30.5115,  -122.7815,       2960,   238.6,   8.5269,  33.9980,2,  33.9944,2, 125.3000,2,   126.1,2,   32.02,2,   26.46,2,    0.00,2,    1.93,2,   2.885,2,   1.524,2,   0.111,2,  -999.0,9,  -999.0,9,-999.000,9,-999.0000,9, -999.00,9, -999.00,9,  -999.0,9,  -999.0,-999.000,9,-999.000, -999.00,9,  238.60,-999.0000,9,-999.0000,9,-999.0000,9,-999.0000,9,-999.0000,9,-999.0000,-999.000,-999.0000,9, -999.00
318M20040615,        P02,     174,          1,         24,         24,2,20040823,       2326,    30.5115,  -122.7815,       2960,   288.8,   7.5540,  34.0483,2,  34.0491,2, 101.4000,2,    97.7,2,   43.85,2,   31.16,2,    0.00,2,    2.25,2,-999.000,9,-999.000,9,-999.000,9,  -999.0,9,  -999.0,9,-999.000,9,-999.0000,9, -999.00,9, -999.00,9,  -999.0,9,  -999.0,-999.000,9,-999.000, -999.00,9,  288.80,-999.0000,9,-999.0000,9,-999.0000,9,-999.0000,9,-999.0000,9,-999.0000,-999.000,-999.0000,9, -999.00
318M20040615,        P02,     174,          1,         23,         23,2,20040823,       2326,    30.5115,  -122.7815,       2960,   338.4,   6.8716,  34.0632,2,  34.0637,2,  75.0000,2,    74.9,2,   54.08,2,   34.64,2,    0.00,2,    2.50,2,   1.661,2,   0.829,2,   0.055,2,  -999.0,9,  -999.0,9,-999.000,9,-999.0000,9, -999.00,9, -999.00,9,  -999.0,9,  -999.0,-999.000,9,-999.000, -999.00,9,  338.40,-999.0000,9,-999.0000,9,-999.0000,9,-999.0000,9,-999.0000,9,-999.0000,-999.000,-999.0000,9, -999.00
318M20040615,        P02,     174,          1,         22,         22,2,20040823,       2326,    30.5115,  -122.7815,       2960,   387.4,   6.3916,  34.0873,2,  34.0870,2,  62.2000,2,    59.4,2,   61.45,2,   36.62,2,    0.00,2,    2.67,2,-999.000,9,-999.000,9,-999.000,9,  -999.0,9,  -999.0,9,-999.000,9,-999.0000,9, -999.00,9, -999.00,9,  -999.0,9,  -999.0,-999.000,9,-999.000, -999.00,9,  387.40,-999.0000,9,-999.0000,9,-999.0000,9,-999.0000,9,-999.0000,9,-999.0000,-999.000,-999.0000,9, -999.00
318M20040615,        P02,     174,          1,         21,         21,2,20040823,       2326,    30.5115,  -122.7815,       2960,   437.8,   6.0600,  34.1189,2,  34.1186,2,  48.0000,2,    46.3,2,   68.02,2,   38.08,2,    0.00,2,    2.80,2,   0.929,2,   0.466,2,   0.029,2,  -999.0,9,  -999.0,9,-999.000,9,-999.0000,9, -999.00,9, -999.00,9,  -999.0,9,  -999.0,-999.000,9,-999.000, -999.00,9,  437.80,-999.0000,9,-999.0000,9,-999.0000,9,-999.0000,9,-999.0000,9,-999.0000,-999.000,-999.0000,9, -999.00
318M20040615,        P02,     174,          1,         20,         20,2,20040823,       2326,    30.5115,  -122.7815,       2960,   487.7,   5.8170,  34.1466,2,  34.1468,2,  37.7000,2,    37.3,2,   73.56,2,   39.16,2,    0.00,2,    2.90,2,-999.000,9,-999.000,9,-999.000,9,  -999.0,9,  -999.0,9,-999.000,9,-999.0000,9, -999.00,9, -999.00,9,  -999.0,9,  -999.0,-999.000,9,-999.000, -999.00,9,  487.70,-999.0000,9,-999.0000,9,-999.0000,9,-999.0000,9,-999.0000,9,-999.0000,-999.000,-999.0000,9, -999.00
318M20040615,        P02,     174,          1,         19,         19,2,20040823,       2326,    30.5115,  -122.7815,       2960,   577.5,   5.3797,  34.2460,2,  34.2463,2,  18.8000,2,    17.5,2,   85.72,2,   41.17,2,    0.00,2,    3.10,2,   0.211,2,   0.106,2,   0.006,2,  -999.0,9,  -999.0,9,-999.000,9,-999.0000,9, -999.00,9, -999.00,9,  -999.0,9,  -999.0,-999.000,9,-999.000, -999.00,9,  577.50,-999.0000,9,-999.0000,9,-999.0000,9,-999.0000,9,-999.0000,9,-999.0000,-999.000,-999.0000,9, -999.00
318M20040615,        P02,     174,          1,         18,         18,2,20040823,       2326,    30.5115,  -122.7815,       2960,   676.4,   5.0253,  34.3494,2,  34.3485,2,  11.1000,2,    10.9,2,   95.01,2,   42.32,2,    0.00,2,    3.20,2,-999.000,9,-999.000,9,-999.000,9,  -999.0,9,  -999.0,9,-999.000,9,-999.0000,9, -999.00,9, -999.00,9,  -999.0,9,  -999.0,-999.000,9,-999.000, -999.00,9,  676.40,-999.0000,9,-999.0000,9,-999.0000,9,-999.0000,9,-999.0000,9,-999.0000,-999.000,-999.0000,9, -999.00
318M20040615,        P02,     174,          1,         17,         17,2,20040823,       2326,    30.5115,  -122.7815,       2960,   777.5,   4.5932,  34.4049,2,  34.4050,2,  13.0000,2,    12.7,2,  103.94,2,   43.15,2,    0.00,2,    3.22,2,   0.027,2,   0.021,2,   0.000,2,  -999.0,9,  -999.0,9,-999.000,9,-999.0000,9, -999.00,9, -999.00,9,  -999.0,9,  -999.0,-999.000,9,-999.000, -999.00,9,  777.50,-999.0000,9,-999.0000,9,-999.0000,9,-999.0000,9,-999.0000,9,-999.0000,-999.000,-999.0000,9, -999.00
318M20040615,        P02,     174,          1,         16,         16,2,20040823,       2326,    30.5115,  -122.7815,       2960,   877.9,   4.2351,  34.4457,2,  34.4439,2,  16.8000,2,    17.8,2,  112.25,2,   43.47,2,    0.00,2,    3.22,2,-999.000,9,-999.000,9,-999.000,9,  -999.0,9,  -999.0,9,-999.000,9,-999.0000,9, -999.00,9, -999.00,9,  -999.0,9,  -999.0,-999.000,9,-999.000, -999.00,9,  877.90,-999.0000,9,-999.0000,9,-999.0000,9,-999.0000,9,-999.0000,9,-999.0000,-999.000,-999.0000,9, -999.00
318M20040615,        P02,     174,          1,         15,         15,2,20040823,       2326,    30.5115,  -122.7815,       2960,   978.1,   3.8760,  34.4644,2,  34.4646,2,  21.3000,2,    22.2,2,  119.34,2,   43.75,2,    0.00,2,    3.21,2,   0.018,2,   0.015,2,   0.000,2,  -999.0,9,  -999.0,9,-999.000,9,-999.0000,9, -999.00,9, -999.00,9,  -999.0,9,  -999.0,-999.000,9,-999.000, -999.00,9,  978.10,-999.0000,9,-999.0000,9,-999.0000,9,-999.0000,9,-999.0000,9,-999.0000,-999.000,-999.0000,9, -999.00
318M20040615,        P02,     174,          1,         14,         14,2,20040823,       2326,    30.5115,  -122.7815,       2960,  1083.1,   3.6270,  34.4974,2,  34.4970,2,  27.6000,2,    28.5,2,  124.75,2,   43.86,2,    0.00,2,    3.18,2,-999.000,9,-999.000,9,-999.000,9,  -999.0,9,  -999.0,9,-999.000,9,-999.0000,9, -999.00,9, -999.00,9,  -999.0,9,  -999.0,-999.000,9,-999.000, -999.00,9, 1083.10,-999.0000,9,-999.0000,9,-999.0000,9,-999.0000,9,-999.0000,9,-999.0000,-999.000,-999.0000,9, -999.00
318M20040615,        P02,     174,          1,         13,         13,2,20040823,       2326,    30.5115,  -122.7815,       2960,  1183.4,   3.4025,  34.5136,2,  34.5139,2,  33.2000,2,    33.4,2,  130.18,2,   43.80,2,    0.00,2,    3.16,2,   0.017,2,   0.017,2,   0.000,2,  -999.0,9,  -999.0,9,-999.000,9,-999.0000,9, -999.00,9, -999.00,9,  -999.0,9,  -999.0,-999.000,9,-999.000, -999.00,9, 1183.40,-999.0000,9,-999.0000,9,-999.0000,9,-999.0000,9,-999.0000,9,-999.0000,-999.000,-999.0000,9, -999.00
318M20040615,        P02,     174,          1,         12,         12,2,20040823,       2326,    30.5115,  -122.7815,       2960,  1283.9,   3.2201,  34.5367,2,  34.5366,2,  37.6000,2,    37.5,2,  135.82,2,   43.74,2,    0.00,2,    3.15,2,-999.000,9,-999.000,9,-999.000,9,  -999.0,9,  -999.0,9,-999.000,9,-999.0000,9, -999.00,9, -999.00,9,  -999.0,9,  -999.0,-999.000,9,-999.000, -999.00,9, 1283.90,-999.0000,9,-999.0000,9,-999.0000,9,-999.0000,9,-999.0000,9,-999.0000,-999.000,-999.0000,9, -999.00
318M20040615,        P02,     174,          1,         11,         11,2,20040823,       2326,    30.5115,  -122.7815,       2960,  1384.3,   3.0114,  34.5537,2,  34.5533,2,  43.1000,2,    43.2,2,  141.06,2,   43.36,2,    0.00,2,    3.12,2,   0.021,2,   0.017,2,   0.000,2,  -999.0,9,  -999.0,9,-999.000,9,-999.0000,9, -999.00,9, -999.00,9,  -999.0,9,  -999.0,-999.000,9,-999.000, -999.00,9, 1384.30,-999.0000,9,-999.0000,9,-999.0000,9,-999.0000,9,-999.0000,9,-999.0000,-999.000,-999.0000,9, -999.00
318M20040615,        P02,     174,          1,         10,         10,2,20040823,       2326,    30.5115,  -122.7815,       2960,  1484.8,   2.8322,  34.5697,2,  34.5692,2,  49.0000,2,    49.2,2,  145.66,2,   42.81,2,    0.00,2,    3.09,2,-999.000,9,-999.000,9,-999.000,9,  -999.0,9,  -999.0,9,-999.000,9,-999.0000,9, -999.00,9, -999.00,9,  -999.0,9,  -999.0,-999.000,9,-999.000, -999.00,9, 1484.80,-999.0000,9,-999.0000,9,-999.0000,9,-999.0000,9,-999.0000,9,-999.0000,-999.000,-999.0000,9, -999.00
318M20040615,        P02,     174,          1,          9,          9,2,20040823,       2326,    30.5115,  -122.7815,       2960,  1585.6,   2.6601,  34.5813,2,  34.5813,2,  54.2000,2,    54.7,2,  149.43,2,   42.47,2,    0.00,2,    3.06,2,   0.016,2,   0.016,2,   0.000,2,  -999.0,9,  -999.0,9,-999.000,9,-999.0000,9, -999.00,9, -999.00,9,  -999.0,9,  -999.0,-999.000,9,-999.000, -999.00,9, 1585.60,-999.0000,9,-999.0000,9,-999.0000,9,-999.0000,9,-999.0000,9,-999.0000,-999.000,-999.0000,9, -999.00
318M20040615,        P02,     174,          1,          8,          8,2,20040823,       2326,    30.5115,  -122.7815,       2960,  1685.9,   2.4688,  34.5946,2,  34.5939,2,  61.2000,2,    62.2,2,  153.84,2,   42.03,2,    0.00,2,    3.01,2,-999.000,9,-999.000,9,-999.000,9,  -999.0,9,  -999.0,9,-999.000,9,-999.0000,9, -999.00,9, -999.00,9,  -999.0,9,  -999.0,-999.000,9,-999.000, -999.00,9, 1685.90,-999.0000,9,-999.0000,9,-999.0000,9,-999.0000,9,-999.0000,9,-999.0000,-999.000,-999.0000,9, -999.00
318M20040615,        P02,     174,          1,          7,          7,2,20040823,       2326,    30.5115,  -122.7815,       2960,  1791.3,   2.2970,  34.6080,2,  34.6076,2,  68.1000,2,    69.4,2,  157.83,2,   41.53,2,    0.00,2,    2.97,2,   0.007,2,   0.006,2,   0.000,2,  -999.0,9,  -999.0,9,-999.000,9,-999.0000,9, -999.00,9, -999.00,9,  -999.0,9,  -999.0,-999.000,9,-999.000, -999.00,9, 1791.30,-999.0000,9,-999.0000,9,-999.0000,9,-999.0000,9,-999.0000,9,-999.0000,-999.000,-999.0000,9, -999.00
318M20040615,        P02,     174,          1,          6,          6,2,20040823,       2326,    30.5115,  -122.7815,       2960,  1891.8,   2.1818,  34.6175,2,  34.6176,2,  75.7000,2,    75.6,2,  160.15,2,   41.15,2,    0.00,2,    2.93,2,-999.000,9,-999.000,9,-999.000,9,  -999.0,9,  -999.0,9,-999.000,9,-999.0000,9, -999.00,9, -999.00,9,  -999.0,9,  -999.0,-999.000,9,-999.000, -999.00,9, 1891.80,-999.0000,9,-999.0000,9,-999.0000,9,-999.0000,9,-999.0000,9,-999.0000,-999.000,-999.0000,9, -999.00
318M20040615,        P02,     174,          1,          5,          5,2,20040823,       2326,    30.5115,  -122.7815,       2960,  1992.5,   2.0764,  34.6268,2,  34.6268,2,  82.0000,2,    81.7,2,  161.63,2,   40.72,2,    0.00,2,    2.90,2,   0.004,2,   0.003,2,   0.000,2,  -999.0,9,  -999.0,9,-999.000,9,-999.0000,9, -999.00,9, -999.00,9,  -999.0,9,  -999.0,-999.000,9,-999.000, -999.00,9, 1992.50,-999.0000,9,-999.0000,9,-999.0000,9,-999.0000,9,-999.0000,9,-999.0000,-999.000,-999.0000,9, -999.00
318M20040615,        P02,     174,          1,          4,          4,2,20040823,       2326,    30.5115,  -122.7815,       2960,  2198.6,   1.9423,  34.6403,2,  34.6393,2,  91.6000,2,    91.6,2,  163.31,2,   40.17,2,    0.00,2,    2.85,2,   0.004,2,   0.004,2,   0.000,2,  -999.0,9,  -999.0,9,-999.000,9,-999.0000,9, -999.00,9, -999.00,9,  -999.0,9,  -999.0,-999.000,9,-999.000, -999.00,9, 2198.60,-999.0000,9,-999.0000,9,-999.0000,9,-999.0000,9,-999.0000,9,-999.0000,-999.000,-999.0000,9, -999.00
318M20040615,        P02,     174,          1,          3,          3,2,20040823,       2326,    30.5115,  -122.7815,       2960,  2455.8,   1.8030,  34.6526,2,  34.6523,2, 101.9000,2,   102.0,2,  165.19,2,   39.74,2,    0.00,2,    2.79,2,   0.002,2,   0.004,2,   0.000,2,  -999.0,9,  -999.0,9,-999.000,9,-999.0000,9, -999.00,9, -999.00,9,  -999.0,9,  -999.0,-999.000,9,-999.000, -999.00,9, 2455.80,-999.0000,9,-999.0000,9,-999.0000,9,-999.0000,9,-999.0000,9,-999.0000,-999.000,-999.0000,9, -999.00
318M20040615,        P02,     174,          1,          2,          2,2,20040823,       2326,    30.5115,  -122.7815,       2960,  2672.0,   1.7139,  34.6603,2,  34.6603,2, 108.2000,2,   109.6,2,  166.00,2,   39.46,2,    0.00,2,    2.74,2,   0.003,2,   0.004,2,   0.000,2,  -999.0,9,  -999.0,9,-999.000,9,-999.0000,9, -999.00,9, -999.00,9,  -999.0,9,  -999.0,-999.000,9,-999.000, -999.00,9, 2672.00,-999.0000,9,-999.0000,9,-999.0000,9,-999.0000,9,-999.0000,9,-999.0000,-999.000,-999.0000,9, -999.00
318M20040615,        P02,     174,          1,          1,          1,2,20040823,       2326,    30.5115,  -122.7815,       2960,  2872.6,   1.6676,  34.6646,2,  34.6646,2, 113.9000,2,   114.3,2,  166.40,2,   39.25,2,    0.00,2,    2.71,2,   0.005,2,   0.003,2,   0.000,2,  -999.0,9,  -999.0,9,-999.000,9,-999.0000,9, -999.00,9, -999.00,9,  -999.0,9,  -999.0,-999.000,9,-999.000, -999.00,9, 2872.60,-999.0000,9,-999.0000,9,-999.0000,9,-999.0000,9,-999.0000,9,-999.0000,-999.000,-999.0000,9, -999.00