BOTTLE,20131027SIOCCHRJL
EXPOCODE,SECT_ID,STNNBR,CASTNO,SAMPNO,BTLNBR,BTLNBR_FLAG_W,DATE,TIME,LATITUDE,LONGITUDE,DEPTH,CTDPRS,CTDTMP,CTDSAL,CTDSAL_FLAG_W,SALNTY,SALNTY_FLAG_W,CTDOXY,CTDOXY_FLAG_W,OXYGEN,OXYGEN_FLAG_W,SILCAT,SILCAT_FLAG_W,NITRAT,NITRAT_FLAG_W,NITRIT,NITRIT_FLAG_W,PHSPHT,PHSPHT_FLAG_W,CFC-11,CFC-11_FLAG_W,CFC-12,CFC-12_FLAG_W,CFC113,CFC113_FLAG_W,TCARBN,TCARBN_FLAG_W,ALKALI,ALKALI_FLAG_W,TRITUM,TRITUM_FLAG_W,HELIUM,HELIUM_FLAG_W,DELHE3,DELHE3_FLAG_W,DELC13,DELC13_FLAG_W,DELC14,DELC14_FLAG_W,C14ERR,NEON,NEON_FLAG_W,NEONER,DOC,DOC_FLAG_W,CTDRAW,CDOM380,CDOM380_FLAG_W,CDOM325,CDOM325_FLAG_W,CDOMSL,CDOMSL_FLAG_W,CDOM340,CDOM340_FLAG_W,CDOMSN,CDOMSN_FLAG_W,HELIER,TRITER,CDOM412,CDOM412_FLAG_W,DELHER
,,,,,,,,,,,METERS,DBAR,ITS-90,PSS-78,,PSS-78,,UMOL/KG,,UMOL/KG,,UMOL/KG,,UMOL/KG,,UMOL/KG,,UMOL/KG,,PMOL/KG,,PMOL/KG,,PMOL/KG,,UMOL/KG,,UMOL/KG,,TU,,NMOL/KG,,PERCNT,,/MILLE,,/MILLE,,/MILLE,NMOL/KG,,NMOL/KG,UMOL/KG,,DBAR,1/M,,1/M,,1/NM,,1/M,,1/NM,,NMOL/KG,TU,1/M,,PERCNT
318M20040615,        P02,       7,          1,         26,         26,2,20040617,       2146,    31.8785,    133.582,       3030,    10.1,  23.4619,  34.4513,2,  34.4474,2, 217.1000,2,   217.8,2,    0.88,2,    0.14,2,    0.00,2,    0.06,2,   1.975,2,   1.219,2,   0.131,2,  1953.2,6,  2263.8,2,-999.000,9,-999.0000,9, -999.00,9, -999.00,9,  -999.0,9,  -999.0,-999.000,9,-999.000, -999.00,9,   10.10,-999.0000,9,-999.0000,9,-999.0000,9,-999.0000,9,-999.0000,9,-999.0000,-999.000,-999.0000,9, -999.00
318M20040615,        P02,       7,          1,         25,         25,2,20040617,       2146,    31.8785,    133.582,       3030,    54.6,  21.5241,  34.5550,2,  34.5509,2, 224.6000,2,   224.1,2,    1.60,2,    0.08,2,    0.00,2,    0.08,2,   2.120,6,   1.271,6,   0.125,6,  1971.1,2,  2273.2,6,-999.000,9,-999.0000,9, -999.00,9, -999.00,9,  -999.0,9,  -999.0,-999.000,9,-999.000, -999.00,9,   54.60,-999.0000,9,-999.0000,9,-999.0000,9,-999.0000,9,-999.0000,9,-999.0000,-999.000,-999.0000,9, -999.00
318M20040615,        P02,       7,          1,         24,         24,3,20040617,       2146,    31.8785,    133.582,       3030,   103.8,  17.5967,  34.6849,2,-999.0000,9, 194.9000,5,  -999.0,9, -999.00,1, -999.00,5, -999.00,5, -999.00,5,-999.000,5,-999.000,5,-999.000,5,  -999.0,9,  2281.5,2,-999.000,9,-999.0000,9, -999.00,9, -999.00,9,  -999.0,9,  -999.0,-999.000,9,-999.000, -999.00,9,  103.80,-999.0000,9,-999.0000,9,-999.0000,9,-999.0000,9,-999.0000,9,-999.0000,-999.000,-999.0000,9, -999.00
318M20040615,        P02,       7,          1,         23,         23,2,20040617,       2146,    31.8785,    133.582,       3030,   154.2,  16.0034,  34.6438,2,  34.6398,2, 182.1000,2,   182.1,2,   10.45,2,    9.09,2,    0.01,2,    0.67,2,   2.346,2,   1.342,2,   0.035,2,  2064.6,2,  2279.6,2,-999.000,9,-999.0000,9, -999.00,9, -999.00,9,  -999.0,9,  -999.0,-999.000,9,-999.000, -999.00,9,  154.20,-999.0000,9,-999.0000,9,-999.0000,9,-999.0000,9,-999.0000,9,-999.0000,-999.000,-999.0000,9, -999.00
318M20040615,        P02,       7,          1,         22,         22,2,20040617,       2146,    31.8785,    133.582,       3030,   205.3,  13.8957,  34.5322,2,  34.5287,2, 167.6000,2,   168.1,2,   19.32,2,   13.64,2,    0.01,2,    1.01,2,   2.274,2,   1.263,2,   0.037,2,  2098.6,2,  2281.2,2,-999.000,9,-999.0000,9, -999.00,9, -999.00,9,  -999.0,9,  -999.0,-999.000,9,-999.000, -999.00,9,  205.30,-999.0000,9,-999.0000,9,-999.0000,9,-999.0000,9,-999.0000,9,-999.0000,-999.000,-999.0000,9, -999.00
318M20040615,        P02,       7,          1,         21,         21,2,20040617,       2146,    31.8785,    133.582,       3030,   255.0,  12.3230,  34.4497,2,  34.4464,2, 158.1000,2,   158.1,2,   26.22,2,   16.95,2,    0.01,2,    1.25,2,   2.142,2,   1.158,2,   0.037,2,  2124.8,2,  2283.9,2,-999.000,9,-999.0000,9, -999.00,9, -999.00,9,  -999.0,9,  -999.0,-999.000,9,-999.000, -999.00,9,  255.00,-999.0000,9,-999.0000,9,-999.0000,9,-999.0000,9,-999.0000,9,-999.0000,-999.000,-999.0000,9, -999.00
318M20040615,        P02,       7,          1,         20,         20,2,20040617,       2146,    31.8785,    133.582,       3030,   305.6,  10.8088,  34.3788,2,  34.3740,2, 147.5000,2,   147.5,2,   34.56,2,   20.42,2,    0.01,2,    1.51,2,-999.000,5,-999.000,5,-999.000,5,  2151.9,2,  2288.1,2,-999.000,9,-999.0000,9, -999.00,9, -999.00,9,  -999.0,9,  -999.0,-999.000,9,-999.000, -999.00,9,  305.60,-999.0000,9,-999.0000,9,-999.0000,9,-999.0000,9,-999.0000,9,-999.0000,-999.000,-999.0000,9, -999.00
318M20040615,        P02,       7,          1,         19,         19,2,20040617,       2146,    31.8785,    133.582,       3030,   406.7,   8.6100,  34.3216,2,  34.3237,2, 121.8000,2,   122.0,2,   53.32,2,   26.40,2,    0.01,2,    1.94,2,   1.469,2,   0.767,2,   0.030,2,  2201.4,2,  2302.8,2,-999.000,9,-999.0000,9, -999.00,9, -999.00,9,  -999.0,9,  -999.0,-999.000,9,-999.000, -999.00,9,  406.70,-999.0000,9,-999.0000,9,-999.0000,9,-999.0000,9,-999.0000,9,-999.0000,-999.000,-999.0000,9, -999.00
318M20040615,        P02,       7,          1,         18,         18,2,20040617,       2146,    31.8785,    133.582,       3030,   506.1,   7.1356,  34.2941,2,  34.2914,2, 101.9000,2,   103.7,2,   67.77,2,   30.53,2,    0.00,2,    2.24,2,   1.149,2,   0.597,2,   0.032,2,  2235.0,2,  2312.5,2,-999.000,9,-999.0000,9, -999.00,9, -999.00,9,  -999.0,9,  -999.0,-999.000,9,-999.000, -999.00,9,  506.10,-999.0000,9,-999.0000,9,-999.0000,9,-999.0000,9,-999.0000,9,-999.0000,-999.000,-999.0000,9, -999.00
318M20040615,        P02,       7,          1,         17,         17,2,20040617,       2146,    31.8785,    133.582,       3030,   606.3,   5.1852,  34.2715,2,  34.2666,2,  78.6000,2,    79.0,2,   67.75,4,   30.58,4,    0.00,2,    2.26,4,   0.663,2,   0.320,2,   0.013,2,  2288.2,2,  2330.7,2,-999.000,9,-999.0000,9, -999.00,9, -999.00,9,  -999.0,9,  -999.0,-999.000,9,-999.000, -999.00,9,  606.30,-999.0000,9,-999.0000,9,-999.0000,9,-999.0000,9,-999.0000,9,-999.0000,-999.000,-999.0000,9, -999.00
318M20040615,        P02,       7,          1,         16,         16,2,20040617,       2146,    31.8785,    133.582,       3030,   705.9,   4.5382,  34.3204,2,  34.3175,2,  68.9000,2,    68.8,2,  102.47,2,   38.03,2,    0.00,2,    2.78,2,   0.402,2,   0.182,2,   0.009,2,  2309.2,2,  2344.4,2,-999.000,9,-999.0000,9, -999.00,9, -999.00,9,  -999.0,9,  -999.0,-999.000,9,-999.000, -999.00,9,  705.90,-999.0000,9,-999.0000,9,-999.0000,9,-999.0000,9,-999.0000,9,-999.0000,-999.000,-999.0000,9, -999.00
318M20040615,        P02,       7,          1,         15,         15,2,20040617,       2146,    31.8785,    133.582,       3030,   805.6,   3.9220,  34.3810,2,  34.3764,2,  65.4000,2,    65.6,2,  114.83,2,   39.20,2,    0.00,2,    2.88,2,   0.262,2,   0.119,2,   0.010,2,  2331.5,6,  2360.2,2,-999.000,9,-999.0000,9, -999.00,9, -999.00,9,  -999.0,9,  -999.0,-999.000,9,-999.000, -999.00,9,  805.60,-999.0000,9,-999.0000,9,-999.0000,9,-999.0000,9,-999.0000,9,-999.0000,-999.000,-999.0000,9, -999.00
318M20040615,        P02,       7,          1,         14,         14,2,20040617,       2146,    31.8785,    133.582,       3030,   906.7,   3.4935,  34.4166,2,  34.4134,2,  64.8000,2,    64.6,2,  123.71,2,   39.85,2,    0.00,2,    2.90,2,   0.165,2,   0.070,2,  -0.002,2,  2337.8,2,  2370.0,2,-999.000,9,-999.0000,9, -999.00,9, -999.00,9,  -999.0,9,  -999.0,-999.000,9,-999.000, -999.00,9,  906.70,-999.0000,9,-999.0000,9,-999.0000,9,-999.0000,9,-999.0000,9,-999.0000,-999.000,-999.0000,9, -999.00
318M20040615,        P02,       7,          1,         13,         13,2,20040617,       2146,    31.8785,    133.582,       3030,  1006.9,   3.3055,  34.4378,2,  34.4359,2,  66.4000,2,    65.6,2,  127.38,2,   40.06,2,    0.00,2,    2.91,2,   0.177,2,   0.082,2,   0.010,2,  2343.3,2,  2375.4,2,-999.000,9,-999.0000,9, -999.00,9, -999.00,9,  -999.0,9,  -999.0,-999.000,9,-999.000, -999.00,9, 1006.90,-999.0000,9,-999.0000,9,-999.0000,9,-999.0000,9,-999.0000,9,-999.0000,-999.000,-999.0000,9, -999.00
318M20040615,        P02,       7,          1,         12,         12,2,20040617,       2146,    31.8785,    133.582,       3030,  1108.1,   3.0048,  34.4715,2,  34.4684,2,  69.0000,2,    69.0,2,  133.66,2,   40.16,2,    0.00,2,    2.91,2,   0.084,2,   0.031,2,   0.002,2,  2347.9,2,  2382.5,2,-999.000,9,-999.0000,9, -999.00,9, -999.00,9,  -999.0,9,  -999.0,-999.000,9,-999.000, -999.00,9, 1108.10,-999.0000,9,-999.0000,9,-999.0000,9,-999.0000,9,-999.0000,9,-999.0000,-999.000,-999.0000,9, -999.00
318M20040615,        P02,       7,          1,         11,         11,2,20040617,       2146,    31.8785,    133.582,       3030,  1208.5,   2.7829,  34.4972,2,  34.4948,2,  72.4000,2,    73.4,2,  137.17,2,   40.10,2,    0.00,2,    2.90,2,   0.083,2,   0.078,2,   0.004,2,  2350.5,2,  2387.6,2,-999.000,9,-999.0000,9, -999.00,9, -999.00,9,  -999.0,9,  -999.0,-999.000,9,-999.000, -999.00,9, 1208.50,-999.0000,9,-999.0000,9,-999.0000,9,-999.0000,9,-999.0000,9,-999.0000,-999.000,-999.0000,9, -999.00
318M20040615,        P02,       7,          1,         10,         10,2,20040617,       2146,    31.8785,    133.582,       3030,  1310.3,   2.6604,  34.5126,2,  34.5129,2,  76.0000,2,    76.8,2,  138.82,2,   40.00,2,    0.00,2,    2.88,2,   0.052,2,   0.071,2,   0.007,2,  2351.5,2,  2391.0,2,-999.000,9,-999.0000,9, -999.00,9, -999.00,9,  -999.0,9,  -999.0,-999.000,9,-999.000, -999.00,9, 1310.30,-999.0000,9,-999.0000,9,-999.0000,9,-999.0000,9,-999.0000,9,-999.0000,-999.000,-999.0000,9, -999.00
318M20040615,        P02,       7,          1,          9,          9,2,20040617,       2146,    31.8785,    133.582,       3030,  1411.1,   2.5297,  34.5317,2,  34.5291,2,  81.7000,2,    83.0,2,  140.30,2,   39.63,2,    0.00,2,    2.87,2,   0.080,2,   0.104,2,   0.004,2,  2350.4,2,  2394.1,2,-999.000,9,-999.0000,9, -999.00,9, -999.00,9,  -999.0,9,  -999.0,-999.000,9,-999.000, -999.00,9, 1411.10,-999.0000,9,-999.0000,9,-999.0000,9,-999.0000,9,-999.0000,9,-999.0000,-999.000,-999.0000,9, -999.00
318M20040615,        P02,       7,          1,          8,          8,2,20040617,       2146,    31.8785,    133.582,       3030,  1512.1,   2.4341,  34.5444,2,  34.5404,2,  86.9000,3,    87.1,2,  141.57,2,   39.30,2,    0.00,2,    2.85,2,   0.094,2,   0.121,2,   0.010,2,  2350.4,2,  2396.5,2,-999.000,9,-999.0000,9, -999.00,9, -999.00,9,  -999.0,9,  -999.0,-999.000,9,-999.000, -999.00,9, 1512.10,-999.0000,9,-999.0000,9,-999.0000,9,-999.0000,9,-999.0000,9,-999.0000,-999.000,-999.0000,9, -999.00
318M20040615,        P02,       7,          1,          7,          7,2,20040617,       2146,    31.8785,    133.582,       3030,  1613.6,   2.3260,  34.5578,2,  34.5564,2,  90.5000,2,    91.2,2,  142.66,2,   39.25,2,    0.00,2,    2.83,2,   0.030,2,   0.066,2,   0.003,2,  2350.1,2,  2399.0,2,-999.000,9,-999.0000,9, -999.00,9, -999.00,9,  -999.0,9,  -999.0,-999.000,9,-999.000, -999.00,9, 1613.60,-999.0000,9,-999.0000,9,-999.0000,9,-999.0000,9,-999.0000,9,-999.0000,-999.000,-999.0000,9, -999.00
318M20040615,        P02,       7,          1,          6,          6,2,20040617,       2146,    31.8785,    133.582,       3030,  1814.5,   2.1698,  34.5793,2,  34.5783,2,  99.8000,2,    98.4,2,  143.95,2,   38.93,2,    0.00,2,    2.80,2,   0.036,2,   0.031,2,   0.004,2,  2349.2,2,  2401.2,2,-999.000,9,-999.0000,9, -999.00,9, -999.00,9,  -999.0,9,  -999.0,-999.000,9,-999.000, -999.00,9, 1814.50,-999.0000,9,-999.0000,9,-999.0000,9,-999.0000,9,-999.0000,9,-999.0000,-999.000,-999.0000,9, -999.00
318M20040615,        P02,       7,          1,          5,          5,2,20040617,       2146,    31.8785,    133.582,       3030,  2027.7,   1.9539,  34.6095,2,  34.6087,2, 111.6000,2,   111.6,2,  144.67,2,   38.19,2,    0.00,2,    2.73,2,   0.043,2,   0.032,2,   0.003,2,  2343.9,2,  2407.1,2,-999.000,9,-999.0000,9, -999.00,9, -999.00,9,  -999.0,9,  -999.0,-999.000,9,-999.000, -999.00,9, 2027.70,-999.0000,9,-999.0000,9,-999.0000,9,-999.0000,9,-999.0000,9,-999.0000,-999.000,-999.0000,9, -999.00
318M20040615,        P02,       7,          1,          4,          4,2,20040617,       2146,    31.8785,    133.582,       3030,  2277.6,   1.7905,  34.6331,2,  34.6317,2, 123.2000,2,   123.7,2,  144.63,2,   37.54,2,    0.00,2,    2.68,2,   0.009,2,   0.031,2,   0.002,2,  2339.6,2,  2410.4,2,-999.000,9,-999.0000,9, -999.00,9, -999.00,9,  -999.0,9,  -999.0,-999.000,9,-999.000, -999.00,9, 2277.60,-999.0000,9,-999.0000,9,-999.0000,9,-999.0000,9,-999.0000,9,-999.0000,-999.000,-999.0000,9, -999.00
318M20040615,        P02,       7,          1,          3,          3,2,20040617,       2146,    31.8785,    133.582,       3030,  2532.5,   1.6599,  34.6516,2,  34.6505,2, 133.5000,2,   134.3,2,  143.67,2,   37.01,2,    0.00,2,    2.62,2,   0.005,2,   0.015,2,   0.003,2,  2334.7,2,  2413.0,2,-999.000,9,-999.0000,9, -999.00,9, -999.00,9,  -999.0,9,  -999.0,-999.000,9,-999.000, -999.00,9, 2532.50,-999.0000,9,-999.0000,9,-999.0000,9,-999.0000,9,-999.0000,9,-999.0000,-999.000,-999.0000,9, -999.00
318M20040615,        P02,       7,          1,          2,          2,2,20040617,       2146,    31.8785,    133.582,       3030,  2786.1,   1.5871,  34.6625,2,  34.6618,2, 140.6000,2,   141.0,2,  142.92,2,   36.53,2,    0.00,2,    2.59,2,   0.006,2,   0.014,2,   0.004,2,  2331.2,2,  2412.7,2,-999.000,9,-999.0000,9, -999.00,9, -999.00,9,  -999.0,9,  -999.0,-999.000,9,-999.000, -999.00,9, 2786.10,-999.0000,9,-999.0000,9,-999.0000,9,-999.0000,9,-999.0000,9,-999.0000,-999.000,-999.0000,9, -999.00
318M20040615,        P02,       7,          1,          1,          1,2,20040617,       2146,    31.8785,    133.582,       3030,  3091.8,   1.5174,  34.6733,2,  34.6831,2, 147.7000,3,   148.3,2,  143.27,2,   36.16,2,    0.00,2,    2.55,2,   0.010,2,   0.012,2,   0.006,2,  2327.5,6,  2413.2,6,-999.000,9,-999.0000,9, -999.00,9, -999.00,9,  -999.0,9,  -999.0,-999.000,9,-999.000, -999.00,9, 3091.80,-999.0000,9,-999.0000,9,-999.0000,9,-999.0000,9,-999.0000,9,-999.0000,-999.000,-999.0000,9, -999.00