BOTTLE,20131027SIOCCHRJL
EXPOCODE,SECT_ID,STNNBR,CASTNO,SAMPNO,BTLNBR,BTLNBR_FLAG_W,DATE,TIME,LATITUDE,LONGITUDE,DEPTH,CTDPRS,CTDTMP,CTDSAL,CTDSAL_FLAG_W,SALNTY,SALNTY_FLAG_W,CTDOXY,CTDOXY_FLAG_W,OXYGEN,OXYGEN_FLAG_W,SILCAT,SILCAT_FLAG_W,NITRAT,NITRAT_FLAG_W,NITRIT,NITRIT_FLAG_W,PHSPHT,PHSPHT_FLAG_W,CFC-11,CFC-11_FLAG_W,CFC-12,CFC-12_FLAG_W,CFC113,CFC113_FLAG_W,TCARBN,TCARBN_FLAG_W,ALKALI,ALKALI_FLAG_W,TRITUM,TRITUM_FLAG_W,HELIUM,HELIUM_FLAG_W,DELHE3,DELHE3_FLAG_W,DELC13,DELC13_FLAG_W,DELC14,DELC14_FLAG_W,C14ERR,NEON,NEON_FLAG_W,NEONER,DOC,DOC_FLAG_W,CTDRAW,CDOM380,CDOM380_FLAG_W,CDOM325,CDOM325_FLAG_W,CDOMSL,CDOMSL_FLAG_W,CDOM340,CDOM340_FLAG_W,CDOMSN,CDOMSN_FLAG_W,HELIER,TRITER,CDOM412,CDOM412_FLAG_W,DELHER
,,,,,,,,,,,METERS,DBAR,ITS-90,PSS-78,,PSS-78,,UMOL/KG,,UMOL/KG,,UMOL/KG,,UMOL/KG,,UMOL/KG,,UMOL/KG,,PMOL/KG,,PMOL/KG,,PMOL/KG,,UMOL/KG,,UMOL/KG,,TU,,NMOL/KG,,PERCNT,,/MILLE,,/MILLE,,/MILLE,NMOL/KG,,NMOL/KG,UMOL/KG,,DBAR,1/M,,1/M,,1/NM,,1/M,,1/NM,,NMOL/KG,TU,1/M,,PERCNT
318M20040615,        P02,     138,          1,         36,         36,2,20040813,       1627,    30.0002,  -145.8968,       5084,     3.2,  24.8591,  34.6693,2,  34.6698,2, 213.7000,2,   214.1,2,    1.90,2,    0.21,2,    0.00,2,    0.02,2,-999.000,1,-999.000,1,-999.000,1,  2000.2,2,  2285.1,6,   0.878,2,   1.7501,2,   -1.45,2, -999.00,9,  -999.0,9,  -999.0,-999.000,9,-999.000, -999.00,9,    3.20,-999.0000,9,-999.0000,9,-999.0000,9,-999.0000,9,-999.0000,9,   0.0088,   0.006,-999.0000,9,    0.20
318M20040615,        P02,     138,          1,         35,         35,2,20040813,       1627,    30.0002,  -145.8968,       5084,    40.9,  19.9233,  34.6581,2,  34.6553,2, 248.6000,2,   248.2,2,    1.90,2,    0.15,2,    0.00,2,    0.02,2,   2.485,2,   1.380,2,   0.171,2,  -999.0,9,  -999.0,9,-999.000,9,   1.7676,2,   -1.54,2, -999.00,9,  -999.0,9,  -999.0,-999.000,9,-999.000, -999.00,9,   40.90,-999.0000,9,-999.0000,9,-999.0000,9,-999.0000,9,-999.0000,9,   0.0088,-999.000,-999.0000,9,    0.20
318M20040615,        P02,     138,          1,         34,         34,2,20040813,       1627,    30.0002,  -145.8968,       5084,    85.7,  16.2326,  34.2055,2,  34.2052,2, 249.9000,2,   251.0,2,    2.49,2,    0.15,2,    0.00,2,    0.10,2,   2.717,2,   1.570,2,   0.200,2,  2005.4,2,  2257.2,2,   0.890,2,   1.7777,2,   -0.66,2, -999.00,9,  -999.0,9,  -999.0,-999.000,9,-999.000, -999.00,9,   85.70,-999.0000,9,-999.0000,9,-999.0000,9,-999.0000,9,-999.0000,9,   0.0089,   0.006,-999.0000,9,    0.20
318M20040615,        P02,     138,          1,         33,         33,2,20040813,       1627,    30.0002,  -145.8968,       5084,   135.6,  14.9146,  34.1223,2,  34.1278,2, 240.0000,2,   240.6,2,    2.87,2,    0.54,2,    0.12,2,    0.20,2,   2.783,2,   1.651,2,   0.200,2,  -999.0,9,  -999.0,9,   0.893,2,   1.7823,2,   -1.03,2, -999.00,9,  -999.0,9,  -999.0,-999.000,9,-999.000, -999.00,9,  135.60,-999.0000,9,-999.0000,9,-999.0000,9,-999.0000,9,-999.0000,9,   0.0089,   0.007,-999.0000,9,    0.20
318M20040615,        P02,     138,          1,         32,         32,2,20040813,       1627,    30.0002,  -145.8968,       5084,   185.3,  12.3097,  34.0065,2,  34.0076,2, 227.6000,2,   228.9,2,    6.95,2,    7.46,2,    0.01,2,    0.61,2,   3.282,2,   1.838,2,   0.185,2,  2052.7,2,  2245.9,6,   0.874,2,   1.7874,2,   -0.37,2, -999.00,9,  -999.0,9,  -999.0,-999.000,9,-999.000, -999.00,9,  185.30,-999.0000,9,-999.0000,9,-999.0000,9,-999.0000,9,-999.0000,9,   0.0089,   0.007,-999.0000,9,    0.20
318M20040615,        P02,     138,          1,         31,         31,2,20040813,       1627,    30.0002,  -145.8968,       5084,   235.2,  11.3001,  34.0838,2,  34.0903,2, 229.3000,2,   231.0,2,    9.87,2,   10.45,2,    0.00,2,    0.76,2,   3.375,2,   1.884,2,   0.108,2,  -999.0,9,  -999.0,9,   0.849,2,   1.7901,2,   -0.53,2, -999.00,9,  -999.0,9,  -999.0,-999.000,9,-999.000, -999.00,9,  235.20,-999.0000,9,-999.0000,9,-999.0000,9,-999.0000,9,-999.0000,9,   0.0090,   0.007,-999.0000,9,    0.20
318M20040615,        P02,     138,          1,         30,         30,2,20040813,       1627,    30.0002,  -145.8968,       5084,   285.0,  10.3975,  34.1276,2,  34.1294,2, 217.2000,2,   218.8,2,   15.71,2,   14.22,2,    0.00,2,    1.00,2,   3.351,2,   1.844,2,   0.080,2,  2093.8,2,  2260.1,2,   0.834,2,-999.0000,9, -999.00,9, -999.00,9,  -999.0,9,  -999.0,-999.000,9,-999.000, -999.00,9,  285.00,-999.0000,9,-999.0000,9,-999.0000,9,-999.0000,9,-999.0000,9,-999.0000,   0.006,-999.0000,9, -999.00
318M20040615,        P02,     138,          1,         29,         29,2,20040813,       1627,    30.0002,  -145.8968,       5084,   340.3,   9.1875,  34.0805,2,  34.0798,2, 195.5000,2,   195.0,2,   22.92,2,   18.59,2,    0.00,2,    1.31,2,   3.333,2,   1.739,2,   0.106,2,  -999.0,9,  -999.0,9,   0.891,2,   1.8081,2,    4.31,2, -999.00,9,  -999.0,9,  -999.0,-999.000,9,-999.000, -999.00,9,  340.30,-999.0000,9,-999.0000,9,-999.0000,9,-999.0000,9,-999.0000,9,   0.0090,   0.007,-999.0000,9,    0.20
318M20040615,        P02,     138,          1,         28,         28,2,20040813,       1627,    30.0002,  -145.8968,       5084,   389.6,   8.3479,  34.0572,2,  34.0580,2, 175.9000,2,   172.1,2,   31.52,2,   22.67,2,    0.00,2,    1.61,2,   3.007,2,   1.543,2,   0.109,2,  2155.4,2,  2270.9,2,   0.808,2,   1.8142,2,    7.22,2, -999.00,9,  -999.0,9,  -999.0,-999.000,9,-999.000, -999.00,9,  389.60,-999.0000,9,-999.0000,9,-999.0000,9,-999.0000,9,-999.0000,9,   0.0091,   0.006,-999.0000,9,    0.20
318M20040615,        P02,     138,          1,         27,         27,2,20040813,       1627,    30.0002,  -145.8968,       5084,   438.8,   7.3357,  34.0194,2,  34.0185,2, 139.9000,2,   138.6,2,   42.69,2,   27.83,2,    0.00,2,    1.97,2,   2.522,2,   1.247,2,   0.097,2,  -999.0,9,  -999.0,9,   0.772,2,   1.8339,2,   10.96,2, -999.00,9,  -999.0,9,  -999.0,-999.000,9,-999.000, -999.00,9,  438.80,-999.0000,9,-999.0000,9,-999.0000,9,-999.0000,9,-999.0000,9,   0.0092,   0.006,-999.0000,9,    0.20
318M20040615,        P02,     138,          1,         26,         26,2,20040813,       1627,    30.0002,  -145.8968,       5084,   489.2,   6.2482,  33.9949,2,  33.9955,2, 111.8000,2,   112.9,2,   55.47,2,   32.19,2,    0.00,2,    2.30,2,   1.935,2,   0.969,2,   0.063,2,  2226.8,2,  2285.6,2,   0.735,2,   1.8447,2,   13.85,2, -999.00,9,  -999.0,9,  -999.0,-999.000,9,-999.000, -999.00,9,  489.20,-999.0000,9,-999.0000,9,-999.0000,9,-999.0000,9,-999.0000,9,   0.0092,   0.006,-999.0000,9,    0.20
318M20040615,        P02,     138,          1,         25,         25,2,20040813,       1627,    30.0002,  -145.8968,       5084,   574.4,   5.2671,  34.0236,2,  34.0226,2,  88.8000,2,    77.9,2,   72.66,2,   36.86,2,    0.00,2,    2.64,2,   1.074,2,   0.545,2,   0.030,2,  -999.0,9,  -999.0,9,   0.569,2,   1.8541,2,   17.47,2, -999.00,9,  -999.0,9,  -999.0,-999.000,9,-999.000, -999.00,9,  574.40,-999.0000,9,-999.0000,9,-999.0000,9,-999.0000,9,-999.0000,9,   0.0093,   0.006,-999.0000,9,    0.20
318M20040615,        P02,     138,          1,         24,         24,2,20040813,       1627,    30.0002,  -145.8968,       5084,   674.5,   4.6926,  34.1451,2,  34.1476,2,  33.1000,2,    30.3,2,   91.88,2,   41.44,2,    0.00,2,    3.02,2,   0.269,2,   0.137,2,   0.000,2,  2316.5,2,  2322.6,2,-999.000,9,   1.8702,2,   16.81,2, -999.00,9,  -999.0,9,  -999.0,-999.000,9,-999.000, -999.00,9,  674.50,-999.0000,9,-999.0000,9,-999.0000,9,-999.0000,9,-999.0000,9,   0.0094,-999.000,-999.0000,9,    0.20
318M20040615,        P02,     138,          1,         23,         23,2,20040813,       1627,    30.0002,  -145.8968,       5084,   779.3,   4.2737,  34.2501,2,  34.2490,2,  16.8000,2,    14.7,2,  105.81,2,   43.07,2,    0.00,2,    3.16,2,   0.066,2,   0.033,2,   0.004,2,  -999.0,9,  -999.0,9,   0.082,2,   1.7746,2,   14.09,2, -999.00,9,  -999.0,9,  -999.0,-999.000,9,-999.000, -999.00,9,  779.30,-999.0000,9,-999.0000,9,-999.0000,9,-999.0000,9,-999.0000,9,   0.0089,   0.002,-999.0000,9,    0.20
318M20040615,        P02,     138,          1,         22,         22,2,20040813,       1627,    30.0002,  -145.8968,       5084,   878.5,   3.9893,  34.3414,2,  34.3424,2,  12.0000,2,    11.9,2,  115.60,2,   43.98,2,    0.00,2,    3.21,2,   0.024,2,   0.010,2,   0.000,2,  2356.2,6,  2358.6,2,   0.013,2,   1.8927,2,   15.70,2, -999.00,9,  -999.0,9,  -999.0,-999.000,9,-999.000, -999.00,9,  878.50,-999.0000,9,-999.0000,9,-999.0000,9,-999.0000,9,-999.0000,9,   0.0095,   0.001,-999.0000,9,    0.20
318M20040615,        P02,     138,          1,         21,         21,2,20040813,       1627,    30.0002,  -145.8968,       5084,   977.9,   3.6916,  34.3953,2,  34.3956,2,  14.5000,2,    14.9,2,  123.80,2,   44.40,2,    0.00,2,    3.21,2,   0.021,2,   0.008,2,   0.000,2,  -999.0,9,  -999.0,9,   0.005,2,   1.9394,2,   17.00,2, -999.00,9,  -999.0,9,  -999.0,-999.000,9,-999.000, -999.00,9,  977.90,-999.0000,9,-999.0000,9,-999.0000,9,-999.0000,9,-999.0000,9,   0.0097,   0.000,-999.0000,9,    0.20
318M20040615,        P02,     138,          1,         20,         20,2,20040813,       1627,    30.0002,  -145.8968,       5084,  1079.8,   3.4693,  34.4517,2,  34.4515,2,  22.4000,2,    22.4,2,  128.80,2,   44.22,2,    0.00,2,    3.18,2,   0.013,2,   0.006,2,   0.000,2,  -999.0,9,  -999.0,9,-999.000,9,   1.9160,2,   18.99,2, -999.00,9,  -999.0,9,  -999.0,-999.000,9,-999.000, -999.00,9, 1079.80,-999.0000,9,-999.0000,9,-999.0000,9,-999.0000,9,-999.0000,9,   0.0096,-999.000,-999.0000,9,    0.20
318M20040615,        P02,     138,          1,         19,         19,2,20040813,       1627,    30.0002,  -145.8968,       5084,  1184.0,   3.2603,  34.4844,2,  34.4845,2,  30.7000,2,    29.9,2,  133.61,2,   43.83,2,    0.00,2,    3.14,2,   0.008,2,   0.003,2,   0.000,2,  -999.0,9,  -999.0,9,   0.023,2,   1.9143,2,   19.98,2, -999.00,9,  -999.0,9,  -999.0,-999.000,9,-999.000, -999.00,9, 1184.00,-999.0000,9,-999.0000,9,-999.0000,9,-999.0000,9,-999.0000,9,   0.0096,   0.000,-999.0000,9,    0.20
318M20040615,        P02,     138,          1,         18,         18,2,20040813,       1627,    30.0002,  -145.8968,       5084,  1282.6,   3.0596,  34.5161,2,  34.5165,2,  39.9000,2,    39.1,2,  137.63,2,   43.21,2,    0.00,2,    3.12,2,   0.009,2,   0.003,2,   0.000,2,  -999.0,9,  -999.0,9,   0.009,2,   1.9119,2,   20.90,2, -999.00,9,  -999.0,9,  -999.0,-999.000,9,-999.000, -999.00,9, 1282.60,-999.0000,9,-999.0000,9,-999.0000,9,-999.0000,9,-999.0000,9,   0.0096,   0.000,-999.0000,9,    0.20
318M20040615,        P02,     138,          1,         17,         17,2,20040813,       1627,    30.0002,  -145.8968,       5084,  1384.2,   2.8907,  34.5374,2,  34.5383,2,  47.5000,2,    46.0,2,  141.64,2,   42.76,2,    0.00,2,    3.06,2,   0.005,2,  -0.001,2,   0.000,2,  -999.0,9,  -999.0,9,   0.002,2,   1.9197,2,   21.07,2, -999.00,9,  -999.0,9,  -999.0,-999.000,9,-999.000, -999.00,9, 1384.20,-999.0000,9,-999.0000,9,-999.0000,9,-999.0000,9,-999.0000,9,   0.0096,   0.000,-999.0000,9,    0.20
318M20040615,        P02,     138,          1,         16,         16,2,20040813,       1627,    30.0002,  -145.8968,       5084,  1485.4,   2.6995,  34.5561,2,  34.5566,2,  53.0000,2,    52.5,2,  145.87,2,   42.36,2,    0.00,2,    3.03,2,   0.006,2,   0.000,2,   0.000,2,  -999.0,9,  -999.0,9,-999.000,9,   1.9239,2,   22.25,2, -999.00,9,  -999.0,9,  -999.0,-999.000,9,-999.000, -999.00,9, 1485.40,-999.0000,9,-999.0000,9,-999.0000,9,-999.0000,9,-999.0000,9,   0.0096,-999.000,-999.0000,9,    0.20
318M20040615,        P02,     138,          1,         15,         15,2,20040813,       1627,    30.0002,  -145.8968,       5084,  1586.8,   2.5312,  34.5706,2,  34.5705,2,  57.2000,2,    57.1,2,  150.91,2,   42.08,2,    0.00,2,    3.01,2,   0.010,2,   0.002,2,   0.000,2,  -999.0,9,  -999.0,9,   0.007,2,   1.9310,2,   22.42,2, -999.00,9,  -999.0,9,  -999.0,-999.000,9,-999.000, -999.00,9, 1586.80,-999.0000,9,-999.0000,9,-999.0000,9,-999.0000,9,-999.0000,9,   0.0097,   0.000,-999.0000,9,    0.20
318M20040615,        P02,     138,          1,         14,         14,2,20040813,       1627,    30.0002,  -145.8968,       5084,  1687.2,   2.3643,  34.5850,2,  34.5853,2,  61.6000,2,    62.2,2,  155.38,2,   41.64,2,    0.00,2,    2.97,2,   0.008,2,   0.002,2,   0.000,2,  -999.0,9,  -999.0,9,   0.006,2,   1.9279,2,   23.02,2, -999.00,9,  -999.0,9,  -999.0,-999.000,9,-999.000, -999.00,9, 1687.20,-999.0000,9,-999.0000,9,-999.0000,9,-999.0000,9,-999.0000,9,   0.0096,   0.000,-999.0000,9,    0.20
318M20040615,        P02,     138,          1,         13,         13,2,20040813,       1627,    30.0002,  -145.8968,       5084,  1792.8,   2.2362,  34.5978,2,  34.5982,2,  67.3000,2,    68.4,2,  158.40,2,   41.24,2,    0.00,2,    2.95,2,   0.005,2,   0.002,2,   0.000,2,  -999.0,9,  -999.0,9,-999.000,9,-999.0000,9, -999.00,9, -999.00,9,  -999.0,9,  -999.0,-999.000,9,-999.000, -999.00,9, 1792.80,-999.0000,9,-999.0000,9,-999.0000,9,-999.0000,9,-999.0000,9,-999.0000,-999.000,-999.0000,9, -999.00
318M20040615,        P02,     138,          1,         12,         12,2,20040813,       1627,    30.0002,  -145.8968,       5084,  1993.2,   2.0319,  34.6162,2,  34.6167,2,  77.3000,2,    77.8,2,  164.68,2,   40.69,2,    0.00,2,    2.90,2,-999.000,9,-999.000,9,-999.000,9,  -999.0,9,  -999.0,9,-999.000,9,-999.0000,9, -999.00,9, -999.00,9,  -999.0,9,  -999.0,-999.000,9,-999.000, -999.00,9, 1993.20,-999.0000,9,-999.0000,9,-999.0000,9,-999.0000,9,-999.0000,9,-999.0000,-999.000,-999.0000,9, -999.00
318M20040615,        P02,     138,          1,         11,         11,2,20040813,       1627,    30.0002,  -145.8968,       5084,  2194.9,   1.8769,  34.6312,2,  34.6314,2,  86.1000,2,    87.1,2,  167.52,2,   40.36,2,    0.00,2,    2.85,2,   0.006,2,   0.003,2,   0.000,2,  -999.0,9,  -999.0,9,-999.000,9,-999.0000,9, -999.00,9, -999.00,9,  -999.0,9,  -999.0,-999.000,9,-999.000, -999.00,9, 2194.90,-999.0000,9,-999.0000,9,-999.0000,9,-999.0000,9,-999.0000,9,-999.0000,-999.000,-999.0000,9, -999.00
318M20040615,        P02,     138,          1,         10,         10,2,20040813,       1627,    30.0002,  -145.8968,       5084,  2451.9,   1.7377,  34.6455,2,  34.6460,2,  97.5000,2,    98.3,2,  169.13,2,   39.85,2,    0.00,2,    2.79,2,-999.000,9,-999.000,9,-999.000,9,  -999.0,9,  -999.0,9,-999.000,9,-999.0000,9, -999.00,9, -999.00,9,  -999.0,9,  -999.0,-999.000,9,-999.000, -999.00,9, 2451.90,-999.0000,9,-999.0000,9,-999.0000,9,-999.0000,9,-999.0000,9,-999.0000,-999.000,-999.0000,9, -999.00
318M20040615,        P02,     138,          1,          9,          9,2,20040813,       1627,    30.0002,  -145.8968,       5084,  2705.1,   1.6410,  34.6557,2,  34.6558,2, 107.3000,2,   107.9,2,  169.32,2,   39.41,2,    0.00,2,    2.73,2,   0.009,2,   0.001,2,   0.000,2,  -999.0,9,  -999.0,9,-999.000,9,-999.0000,9, -999.00,9, -999.00,9,  -999.0,9,  -999.0,-999.000,9,-999.000, -999.00,9, 2705.10,-999.0000,9,-999.0000,9,-999.0000,9,-999.0000,9,-999.0000,9,-999.0000,-999.000,-999.0000,9, -999.00
318M20040615,        P02,     138,          1,          8,          8,2,20040813,       1627,    30.0002,  -145.8968,       5084,  2962.0,   1.5659,  34.6645,2,  34.6645,2, 117.3000,2,   117.9,2,  168.09,2,   38.70,2,    0.00,2,    2.69,2,-999.000,9,-999.000,9,-999.000,9,  -999.0,9,  -999.0,9,-999.000,9,-999.0000,9, -999.00,9, -999.00,9,  -999.0,9,  -999.0,-999.000,9,-999.000, -999.00,9, 2962.00,-999.0000,9,-999.0000,9,-999.0000,9,-999.0000,9,-999.0000,9,-999.0000,-999.000,-999.0000,9, -999.00
318M20040615,        P02,     138,          1,          7,          7,2,20040813,       1627,    30.0002,  -145.8968,       5084,  3298.8,   1.5010,  34.6741,2,  34.6737,2, 128.6000,2,   128.9,2,  165.65,2,   37.87,2,    0.00,2,    2.63,2,   0.005,2,   0.003,2,   0.000,2,  -999.0,9,  -999.0,9,-999.000,9,-999.0000,9, -999.00,9, -999.00,9,  -999.0,9,  -999.0,-999.000,9,-999.000, -999.00,9, 3298.80,-999.0000,9,-999.0000,9,-999.0000,9,-999.0000,9,-999.0000,9,-999.0000,-999.000,-999.0000,9, -999.00
318M20040615,        P02,     138,          1,          6,          6,2,20040813,       1627,    30.0002,  -145.8968,       5084,  3654.6,   1.4727,  34.6809,2,  34.6808,2, 137.5000,2,   138.4,2,  163.21,2,   37.22,2,    0.00,2,    2.57,2,-999.000,9,-999.000,9,-999.000,9,  -999.0,9,  -999.0,9,-999.000,9,-999.0000,9, -999.00,9, -999.00,9,  -999.0,9,  -999.0,-999.000,9,-999.000, -999.00,9, 3654.60,-999.0000,9,-999.0000,9,-999.0000,9,-999.0000,9,-999.0000,9,-999.0000,-999.000,-999.0000,9, -999.00
318M20040615,        P02,     138,          1,          5,          5,2,20040813,       1627,    30.0002,  -145.8968,       5084,  4016.4,   1.4725,  34.6853,2,  34.6847,2, 143.9000,2,   144.7,2,  159.97,2,   36.72,2,    0.00,2,    2.54,2,   0.008,2,   0.004,2,   0.000,2,  -999.0,9,  -999.0,9,-999.000,9,-999.0000,9, -999.00,9, -999.00,9,  -999.0,9,  -999.0,-999.000,9,-999.000, -999.00,9, 4016.40,-999.0000,9,-999.0000,9,-999.0000,9,-999.0000,9,-999.0000,9,-999.0000,-999.000,-999.0000,9, -999.00
318M20040615,        P02,     138,          1,          4,          4,2,20040813,       1627,    30.0002,  -145.8968,       5084,  4377.2,   1.4893,  34.6879,2,  34.6879,2, 149.3000,2,   149.7,2,  155.91,2,   36.28,2,    0.00,2,    2.51,2,-999.000,9,-999.000,9,-999.000,9,  -999.0,9,  -999.0,9,-999.000,9,-999.0000,9, -999.00,9, -999.00,9,  -999.0,9,  -999.0,-999.000,9,-999.000, -999.00,9, 4377.20,-999.0000,9,-999.0000,9,-999.0000,9,-999.0000,9,-999.0000,9,-999.0000,-999.000,-999.0000,9, -999.00
318M20040615,        P02,     138,          1,          3,          3,2,20040813,       1627,    30.0002,  -145.8968,       5084,  4733.9,   1.5167,  34.6893,2,  34.6887,2, 152.5000,2,   152.7,2,  153.28,2,   36.00,2,    0.00,2,    2.49,2,   0.008,2,   0.007,2,   0.000,2,  -999.0,9,  -999.0,9,-999.000,9,-999.0000,9, -999.00,9, -999.00,9,  -999.0,9,  -999.0,-999.000,9,-999.000, -999.00,9, 4733.90,-999.0000,9,-999.0000,9,-999.0000,9,-999.0000,9,-999.0000,9,-999.0000,-999.000,-999.0000,9, -999.00
318M20040615,        P02,     138,          1,          2,          2,2,20040813,       1627,    30.0002,  -145.8968,       5084,  4978.7,   1.5402,  34.6899,2,  34.6898,2, 154.2000,2,   154.4,2,  151.68,2,   35.83,2,    0.00,2,    2.49,2,   0.010,2,   0.009,2,   0.000,2,  -999.0,9,  -999.0,9,-999.000,9,-999.0000,9, -999.00,9, -999.00,9,  -999.0,9,  -999.0,-999.000,9,-999.000, -999.00,9, 4978.70,-999.0000,9,-999.0000,9,-999.0000,9,-999.0000,9,-999.0000,9,-999.0000,-999.000,-999.0000,9, -999.00
318M20040615,        P02,     138,          1,          1,          1,2,20040813,       1627,    30.0002,  -145.8968,       5084,  5182.7,   1.5651,  34.6898,2,  34.6910,2, 154.1000,2,   154.9,2,  151.26,2,   35.82,2,    0.00,2,    2.49,2,   0.010,2,   0.007,2,   0.000,2,  -999.0,9,  -999.0,9,-999.000,9,-999.0000,9, -999.00,9, -999.00,9,  -999.0,9,  -999.0,-999.000,9,-999.000, -999.00,9, 5182.70,-999.0000,9,-999.0000,9,-999.0000,9,-999.0000,9,-999.0000,9,-999.0000,-999.000,-999.0000,9, -999.00