BOTTLE,20131027SIOCCHRJL
EXPOCODE,SECT_ID,STNNBR,CASTNO,SAMPNO,BTLNBR,BTLNBR_FLAG_W,DATE,TIME,LATITUDE,LONGITUDE,DEPTH,CTDPRS,CTDTMP,CTDSAL,CTDSAL_FLAG_W,SALNTY,SALNTY_FLAG_W,CTDOXY,CTDOXY_FLAG_W,OXYGEN,OXYGEN_FLAG_W,SILCAT,SILCAT_FLAG_W,NITRAT,NITRAT_FLAG_W,NITRIT,NITRIT_FLAG_W,PHSPHT,PHSPHT_FLAG_W,CFC-11,CFC-11_FLAG_W,CFC-12,CFC-12_FLAG_W,CFC113,CFC113_FLAG_W,TCARBN,TCARBN_FLAG_W,ALKALI,ALKALI_FLAG_W,TRITUM,TRITUM_FLAG_W,HELIUM,HELIUM_FLAG_W,DELHE3,DELHE3_FLAG_W,DELC13,DELC13_FLAG_W,DELC14,DELC14_FLAG_W,C14ERR,NEON,NEON_FLAG_W,NEONER,DOC,DOC_FLAG_W,CTDRAW,CDOM380,CDOM380_FLAG_W,CDOM325,CDOM325_FLAG_W,CDOMSL,CDOMSL_FLAG_W,CDOM340,CDOM340_FLAG_W,CDOMSN,CDOMSN_FLAG_W,HELIER,TRITER,CDOM412,CDOM412_FLAG_W,DELHER
,,,,,,,,,,,METERS,DBAR,ITS-90,PSS-78,,PSS-78,,UMOL/KG,,UMOL/KG,,UMOL/KG,,UMOL/KG,,UMOL/KG,,UMOL/KG,,PMOL/KG,,PMOL/KG,,PMOL/KG,,UMOL/KG,,UMOL/KG,,TU,,NMOL/KG,,PERCNT,,/MILLE,,/MILLE,,/MILLE,NMOL/KG,,NMOL/KG,UMOL/KG,,DBAR,1/M,,1/M,,1/NM,,1/M,,1/NM,,NMOL/KG,TU,1/M,,PERCNT
318M20040615,        P02,      37,          1,         36,         36,2,20040629,       0555,    29.9982,   147.2952,       6194,    10.8,  26.9517,  34.9906,2,  34.9894,2, 211.2000,2,   205.3,2,    1.09,2,    0.12,2,    0.00,2,    0.03,2,   1.719,2,   1.062,2,   0.123,2,  1975.5,6,  2298.1,6,-999.000,9,-999.0000,9, -999.00,9, -999.00,9,  -999.0,9,  -999.0,-999.000,9,-999.000, -999.00,9,   10.80,-999.0000,9,-999.0000,9,-999.0000,9,-999.0000,9,-999.0000,9,-999.0000,-999.000,-999.0000,9, -999.00
318M20040615,        P02,      37,          1,         35,         35,2,20040629,       0555,    29.9982,   147.2952,       6194,    52.5,  21.1579,  34.9395,2,  34.9361,2, 233.1000,2,   233.2,2,    1.27,2,    0.12,2,    0.00,2,    0.03,2,   2.185,2,   1.334,2,   0.136,2,  1984.6,2,  2293.2,2,-999.000,9,-999.0000,9, -999.00,9, -999.00,9,  -999.0,9,  -999.0,-999.000,9,-999.000, -999.00,9,   52.50,-999.0000,9,-999.0000,9,-999.0000,9,-999.0000,9,-999.0000,9,-999.0000,-999.000,-999.0000,9, -999.00
318M20040615,        P02,      37,          1,         34,         34,2,20040629,       0555,    29.9982,   147.2952,       6194,   102.5,  18.6615,  34.8359,2,  34.8303,2, 229.7000,2,   229.1,2,    1.82,2,    0.23,2,    0.05,2,    0.08,2,   2.367,2,   1.415,2,   0.132,2,  2001.6,2,  2287.5,2,-999.000,9,-999.0000,9, -999.00,9, -999.00,9,  -999.0,9,  -999.0,-999.000,9,-999.000, -999.00,9,  102.50,-999.0000,9,-999.0000,9,-999.0000,9,-999.0000,9,-999.0000,9,-999.0000,-999.000,-999.0000,9, -999.00
318M20040615,        P02,      37,          1,         33,         33,2,20040629,       0555,    29.9982,   147.2952,       6194,   152.7,  17.5874,  34.7927,2,  34.7906,2, 211.7000,2,   215.1,2,    2.73,2,    3.17,2,    0.02,2,    0.24,2,   2.441,2,   1.444,2,   0.106,2,  2018.8,2,  2284.7,2,-999.000,9,-999.0000,9, -999.00,9, -999.00,9,  -999.0,9,  -999.0,-999.000,9,-999.000, -999.00,9,  152.70,-999.0000,9,-999.0000,9,-999.0000,9,-999.0000,9,-999.0000,9,-999.0000,-999.000,-999.0000,9, -999.00
318M20040615,        P02,      37,          1,         32,         32,2,20040629,       0555,    29.9982,   147.2952,       6194,   202.1,  17.1797,  34.7752,2,  34.7732,2, 209.9000,2,   214.7,2,    3.26,2,    3.96,2,    0.01,2,    0.29,2,-999.000,9,-999.000,9,-999.000,9,  -999.0,9,  -999.0,9,-999.000,9,-999.0000,9, -999.00,9, -999.00,9,  -999.0,9,  -999.0,-999.000,9,-999.000, -999.00,9,  202.10,-999.0000,9,-999.0000,9,-999.0000,9,-999.0000,9,-999.0000,9,-999.0000,-999.000,-999.0000,9, -999.00
318M20040615,        P02,      37,          1,         31,         31,2,20040629,       0555,    29.9982,   147.2952,       6194,   247.8,  17.0152,  34.7734,2,  34.7710,2, 213.1000,2,   215.4,2,    3.63,2,    4.22,2,    0.01,2,    0.30,2,   2.476,2,   1.457,2,   0.091,2,  -999.0,9,  -999.0,9,-999.000,9,-999.0000,9, -999.00,9, -999.00,9,  -999.0,9,  -999.0,-999.000,9,-999.000, -999.00,9,  247.80,-999.0000,9,-999.0000,9,-999.0000,9,-999.0000,9,-999.0000,9,-999.0000,-999.000,-999.0000,9, -999.00
318M20040615,        P02,      37,          1,         30,         30,2,20040629,       0555,    29.9982,   147.2952,       6194,   302.9,  16.6852,  34.7464,2,  34.7419,2, 211.1000,2,   211.3,2,    4.54,2,    5.16,2,    0.01,2,    0.37,2,   2.495,2,   1.457,2,   0.069,2,  2032.5,2,  2287.5,2,-999.000,9,-999.0000,9, -999.00,9, -999.00,9,  -999.0,9,  -999.0,-999.000,9,-999.000, -999.00,9,  302.90,-999.0000,9,-999.0000,9,-999.0000,9,-999.0000,9,-999.0000,9,-999.0000,-999.000,-999.0000,9, -999.00
318M20040615,        P02,      37,          1,         29,         29,2,20040629,       0555,    29.9982,   147.2952,       6194,   352.4,  16.0157,  34.6725,2,  34.6692,2, 201.1000,2,   199.4,2,    6.53,2,    7.29,2,    0.01,2,    0.51,2,-999.000,9,-999.000,9,-999.000,9,  -999.0,9,  -999.0,9,-999.000,9,-999.0000,9, -999.00,9, -999.00,9,  -999.0,9,  -999.0,-999.000,9,-999.000, -999.00,9,  352.40,-999.0000,9,-999.0000,9,-999.0000,9,-999.0000,9,-999.0000,9,-999.0000,-999.000,-999.0000,9, -999.00
318M20040615,        P02,      37,          1,         28,         28,2,20040629,       0555,    29.9982,   147.2952,       6194,   401.9,  15.0065,  34.5986,2,  34.5960,2, 191.4000,2,   190.6,2,   10.15,2,    9.75,2,    0.00,2,    0.67,2,   2.538,2,   1.422,2,   0.030,2,  2064.7,2,  2276.6,2,-999.000,9,-999.0000,9, -999.00,9, -999.00,9,  -999.0,9,  -999.0,-999.000,9,-999.000, -999.00,9,  401.90,-999.0000,9,-999.0000,9,-999.0000,9,-999.0000,9,-999.0000,9,-999.0000,-999.000,-999.0000,9, -999.00
318M20040615,        P02,      37,          1,         27,         27,2,20040629,       0555,    29.9982,   147.2952,       6194,   452.5,  13.7683,  34.5104,2,  34.5072,2, 185.7000,2,   185.3,2,   13.95,2,   12.20,2,    0.00,2,    0.85,2,   2.561,2,   1.411,2,   0.036,2,  -999.0,9,  -999.0,9,-999.000,9,-999.0000,9, -999.00,9, -999.00,9,  -999.0,9,  -999.0,-999.000,9,-999.000, -999.00,9,  452.50,-999.0000,9,-999.0000,9,-999.0000,9,-999.0000,9,-999.0000,9,-999.0000,-999.000,-999.0000,9, -999.00
318M20040615,        P02,      37,          1,         26,         26,2,20040629,       0555,    29.9982,   147.2952,       6194,   497.6,  12.6046,  34.4191,2,  34.4179,2, 185.7000,2,   185.3,2,   16.85,2,   13.98,2,    0.00,2,    0.99,2,-999.000,9,-999.000,9,-999.000,9,  -999.0,9,  -999.0,9,-999.000,9,-999.0000,9, -999.00,9, -999.00,9,  -999.0,9,  -999.0,-999.000,9,-999.000, -999.00,9,  497.60,-999.0000,9,-999.0000,9,-999.0000,9,-999.0000,9,-999.0000,9,-999.0000,-999.000,-999.0000,9, -999.00
318M20040615,        P02,      37,          1,         25,         25,2,20040629,       0555,    29.9982,   147.2952,       6194,   598.5,   9.8843,  34.2486,2,  34.2461,2, 167.2000,2,   168.6,2,   32.22,2,   20.09,2,    0.00,2,    1.45,2,   2.368,2,   1.280,2,   0.067,2,  2144.5,2,  2280.2,2,-999.000,9,-999.0000,9, -999.00,9, -999.00,9,  -999.0,9,  -999.0,-999.000,9,-999.000, -999.00,9,  598.50,-999.0000,9,-999.0000,9,-999.0000,9,-999.0000,9,-999.0000,9,-999.0000,-999.000,-999.0000,9, -999.00
318M20040615,        P02,      37,          1,         24,         24,2,20040629,       0555,    29.9982,   147.2952,       6194,   698.9,   7.0240,  34.0524,2,  34.0504,2, 153.1000,2,   155.6,2,   49.72,2,   26.38,2,    0.00,2,    1.93,2,   2.355,2,   1.241,2,   0.106,2,  -999.0,9,  -999.0,9,-999.000,9,-999.0000,9, -999.00,9, -999.00,9,  -999.0,9,  -999.0,-999.000,9,-999.000, -999.00,9,  698.90,-999.0000,9,-999.0000,9,-999.0000,9,-999.0000,9,-999.0000,9,-999.0000,-999.000,-999.0000,9, -999.00
318M20040615,        P02,      37,          1,         23,         23,2,20040629,       0555,    29.9982,   147.2952,       6194,   798.9,   5.4879,  34.0688,2,  34.0677,2, 110.1000,2,   110.0,2,   72.82,2,   33.25,2,    0.00,2,    2.42,2,-999.000,9,-999.000,9,-999.000,9,  -999.0,9,  -999.0,9,-999.000,9,-999.0000,9, -999.00,9, -999.00,9,  -999.0,9,  -999.0,-999.000,9,-999.000, -999.00,9,  798.90,-999.0000,9,-999.0000,9,-999.0000,9,-999.0000,9,-999.0000,9,-999.0000,-999.000,-999.0000,9, -999.00
318M20040615,        P02,      37,          1,         22,         22,2,20040629,       0555,    29.9982,   147.2952,       6194,   899.5,   4.6227,  34.1503,2,  34.1502,2,  73.0000,2,    72.9,2,   93.99,2,   38.05,2,    0.00,2,    2.75,2,   1.011,6,   0.513,6,   0.047,6,  2296.0,2,  2322.8,2,-999.000,9,-999.0000,9, -999.00,9, -999.00,9,  -999.0,9,  -999.0,-999.000,9,-999.000, -999.00,9,  899.50,-999.0000,9,-999.0000,9,-999.0000,9,-999.0000,9,-999.0000,9,-999.0000,-999.000,-999.0000,9, -999.00
318M20040615,        P02,      37,          1,         21,         21,2,20040629,       0555,    29.9982,   147.2952,       6194,   999.9,   4.1115,  34.2458,2,  34.2454,2,  56.9000,2,    55.0,2,  109.40,2,   40.23,2,    0.00,2,    2.89,2,-999.000,5,-999.000,5,-999.000,5,  -999.0,9,  -999.0,9,-999.000,9,-999.0000,9, -999.00,9, -999.00,9,  -999.0,9,  -999.0,-999.000,9,-999.000, -999.00,9,  999.90,-999.0000,9,-999.0000,9,-999.0000,9,-999.0000,9,-999.0000,9,-999.0000,-999.000,-999.0000,9, -999.00
318M20040615,        P02,      37,          1,         20,         20,2,20040629,       0555,    29.9982,   147.2952,       6194,  1098.8,   3.6366,  34.3106,2,  34.3079,2,  44.1000,3,    42.4,2,  121.97,2,   41.92,2,    0.00,2,    3.01,2,-999.000,9,-999.000,9,-999.000,9,  -999.0,9,  -999.0,9,-999.000,9,-999.0000,9, -999.00,9, -999.00,9,  -999.0,9,  -999.0,-999.000,9,-999.000, -999.00,9, 1098.80,-999.0000,9,-999.0000,9,-999.0000,9,-999.0000,9,-999.0000,9,-999.0000,-999.000,-999.0000,9, -999.00
318M20040615,        P02,      37,          1,         19,         19,2,20040629,       0555,    29.9982,   147.2952,       6194,  1199.2,   3.2856,  34.3684,2,  34.3660,2,  39.5000,3,    40.0,2,  132.02,2,   42.42,2,    0.00,2,    3.04,2,   0.165,2,   0.083,2,   0.008,2,  2356.4,2,  2367.8,2,-999.000,9,-999.0000,9, -999.00,9, -999.00,9,  -999.0,9,  -999.0,-999.000,9,-999.000, -999.00,9, 1199.20,-999.0000,9,-999.0000,9,-999.0000,9,-999.0000,9,-999.0000,9,-999.0000,-999.000,-999.0000,9, -999.00
318M20040615,        P02,      37,          1,         18,         18,2,20040629,       0555,    29.9982,   147.2952,       6194,  1297.3,   3.0230,  34.4130,2,  34.4108,2,  37.3000,3,    37.1,2,  139.18,2,   42.88,2,    0.00,2,    3.07,2,   0.082,6,   0.040,6,   0.000,6,  2366.5,2,  2377.8,2,-999.000,9,-999.0000,9, -999.00,9, -999.00,9,  -999.0,9,  -999.0,-999.000,9,-999.000, -999.00,9, 1297.30,-999.0000,9,-999.0000,9,-999.0000,9,-999.0000,9,-999.0000,9,-999.0000,-999.000,-999.0000,9, -999.00
318M20040615,        P02,      37,          1,         17,         17,2,20040629,       0555,    29.9982,   147.2952,       6194,  1399.1,   2.8380,  34.4514,2,  34.4489,2,  37.9000,3,    38.6,2,  144.35,2,   43.11,2,    0.00,2,    3.08,2,   0.040,2,   0.018,2,   0.001,2,  2371.1,2,  -999.0,9,-999.000,9,-999.0000,9, -999.00,9, -999.00,9,  -999.0,9,  -999.0,-999.000,9,-999.000, -999.00,9, 1399.10,-999.0000,9,-999.0000,9,-999.0000,9,-999.0000,9,-999.0000,9,-999.0000,-999.000,-999.0000,9, -999.00
318M20040615,        P02,      37,          1,         16,         16,2,20040629,       0555,    29.9982,   147.2952,       6194,  1500.4,   2.6616,  34.4856,2,  34.4817,2,  42.8000,3,    43.2,2,  148.39,2,   42.83,2,    0.00,2,    3.06,2,-999.000,9,-999.000,9,-999.000,9,  -999.0,9,  -999.0,9,-999.000,9,-999.0000,9, -999.00,9, -999.00,9,  -999.0,9,  -999.0,-999.000,9,-999.000, -999.00,9, 1500.40,-999.0000,9,-999.0000,9,-999.0000,9,-999.0000,9,-999.0000,9,-999.0000,-999.000,-999.0000,9, -999.00
318M20040615,        P02,      37,          1,         15,         15,2,20040629,       0555,    29.9982,   147.2952,       6194,  1600.8,   2.4849,  34.5101,2,  34.5049,2,  45.2000,3,    46.1,2,  153.38,2,   42.89,2,    0.00,2,    3.06,2,   0.015,2,   0.007,2,   0.001,2,  -999.0,9,  2396.0,2,-999.000,9,-999.0000,9, -999.00,9, -999.00,9,  -999.0,9,  -999.0,-999.000,9,-999.000, -999.00,9, 1600.80,-999.0000,9,-999.0000,9,-999.0000,9,-999.0000,9,-999.0000,9,-999.0000,-999.000,-999.0000,9, -999.00
318M20040615,        P02,      37,          1,         14,         14,2,20040629,       0555,    29.9982,   147.2952,       6194,  1804.2,   2.2329,  34.5509,2,  34.5477,2,  59.0000,3,    57.8,2,  158.23,2,   42.11,2,    0.00,2,    3.00,2,-999.000,9,-999.000,9,-999.000,9,  -999.0,9,  -999.0,9,-999.000,9,-999.0000,9, -999.00,9, -999.00,9,  -999.0,9,  -999.0,-999.000,9,-999.000, -999.00,9, 1804.20,-999.0000,9,-999.0000,9,-999.0000,9,-999.0000,9,-999.0000,9,-999.0000,-999.000,-999.0000,9, -999.00
318M20040615,        P02,      37,          1,         13,         13,2,20040629,       0555,    29.9982,   147.2952,       6194,  2000.3,   2.0396,  34.5861,2,  34.5827,2,  74.2000,3,    72.6,2,  160.09,2,   41.32,2,    0.00,2,    2.93,2,   0.004,2,   0.003,2,  -0.001,2,  -999.0,9,  2408.7,2,-999.000,9,-999.0000,9, -999.00,9, -999.00,9,  -999.0,9,  -999.0,-999.000,9,-999.000, -999.00,9, 2000.30,-999.0000,9,-999.0000,9,-999.0000,9,-999.0000,9,-999.0000,9,-999.0000,-999.000,-999.0000,9, -999.00
318M20040615,        P02,      37,          1,         12,         12,2,20040629,       0555,    29.9982,   147.2952,       6194,  2248.7,   1.8643,  34.6180,2,  34.6152,2,  94.0000,3,    94.8,2,  157.10,2,   39.86,2,    0.00,2,    2.83,2,-999.000,9,-999.000,9,-999.000,9,  -999.0,9,  -999.0,9,-999.000,9,-999.0000,9, -999.00,9, -999.00,9,  -999.0,9,  -999.0,-999.000,9,-999.000, -999.00,9, 2248.70,-999.0000,9,-999.0000,9,-999.0000,9,-999.0000,9,-999.0000,9,-999.0000,-999.000,-999.0000,9, -999.00
318M20040615,        P02,      37,          1,         11,         11,2,20040629,       0555,    29.9982,   147.2952,       6194,  2500.6,   1.7459,  34.6368,2,  34.6348,2, 109.2000,3,   109.1,2,  155.80,2,   39.07,2,    0.00,2,    2.75,2,   0.002,2,   0.000,2,  -0.001,2,  -999.0,9,  2413.4,2,-999.000,9,-999.0000,9, -999.00,9, -999.00,9,  -999.0,9,  -999.0,-999.000,9,-999.000, -999.00,9, 2500.60,-999.0000,9,-999.0000,9,-999.0000,9,-999.0000,9,-999.0000,9,-999.0000,-999.000,-999.0000,9, -999.00
318M20040615,        P02,      37,          1,         10,         10,2,20040629,       0555,    29.9982,   147.2952,       6194,  2748.5,   1.6616,  34.6502,2,  34.6466,2, 119.4000,3,   119.8,2,  155.23,2,   38.52,2,    0.00,2,    2.70,2,-999.000,9,-999.000,9,-999.000,9,  -999.0,9,  -999.0,9,-999.000,9,-999.0000,9, -999.00,9, -999.00,9,  -999.0,9,  -999.0,-999.000,9,-999.000, -999.00,9, 2748.50,-999.0000,9,-999.0000,9,-999.0000,9,-999.0000,9,-999.0000,9,-999.0000,-999.000,-999.0000,9, -999.00
318M20040615,        P02,      37,          1,          9,          9,2,20040629,       0555,    29.9982,   147.2952,       6194,  2990.3,   1.6062,  34.6596,2,  34.6531,2, 127.5000,3,   128.0,2,  153.78,2,   38.07,2,    0.00,2,    2.65,2,   0.002,2,   0.001,2,   0.000,2,  -999.0,9,  2416.0,2,-999.000,9,-999.0000,9, -999.00,9, -999.00,9,  -999.0,9,  -999.0,-999.000,9,-999.000, -999.00,9, 2990.30,-999.0000,9,-999.0000,9,-999.0000,9,-999.0000,9,-999.0000,9,-999.0000,-999.000,-999.0000,9, -999.00
318M20040615,        P02,      37,          1,          8,          8,2,20040629,       0555,    29.9982,   147.2952,       6194,  3397.9,   1.5380,  34.6711,2,  34.6685,2, 138.0000,3,   138.3,2,  151.36,2,   37.36,2,    0.00,2,    2.60,2,-999.000,9,-999.000,9,-999.000,9,  -999.0,9,  2414.0,2,-999.000,9,-999.0000,9, -999.00,9, -999.00,9,  -999.0,9,  -999.0,-999.000,9,-999.000, -999.00,9, 3397.90,-999.0000,9,-999.0000,9,-999.0000,9,-999.0000,9,-999.0000,9,-999.0000,-999.000,-999.0000,9, -999.00
318M20040615,        P02,      37,          1,          7,          7,2,20040629,       0555,    29.9982,   147.2952,       6194,  3799.3,   1.5093,  34.6778,2,  34.6754,2, 145.2000,3,   145.8,2,  150.09,2,   36.86,2,    0.00,2,    2.56,2,   0.005,2,   0.002,2,  -0.002,2,  -999.0,9,  2414.4,2,-999.000,9,-999.0000,9, -999.00,9, -999.00,9,  -999.0,9,  -999.0,-999.000,9,-999.000, -999.00,9, 3799.30,-999.0000,9,-999.0000,9,-999.0000,9,-999.0000,9,-999.0000,9,-999.0000,-999.000,-999.0000,9, -999.00
318M20040615,        P02,      37,          1,          6,          6,2,20040629,       0555,    29.9982,   147.2952,       6194,  4201.5,   1.4944,  34.6830,2,  34.6776,2, 151.0000,3,   151.4,2,  149.03,2,   36.49,2,    0.00,2,    2.53,2,-999.000,9,-999.000,9,-999.000,9,  -999.0,9,  2414.2,2,-999.000,9,-999.0000,9, -999.00,9, -999.00,9,  -999.0,9,  -999.0,-999.000,9,-999.000, -999.00,9, 4201.50,-999.0000,9,-999.0000,9,-999.0000,9,-999.0000,9,-999.0000,9,-999.0000,-999.000,-999.0000,9, -999.00
318M20040615,        P02,      37,          1,          5,          5,2,20040629,       0555,    29.9982,   147.2952,       6194,  4600.6,   1.4954,  34.6872,2,  34.6805,2, 156.8000,3,   156.9,2,  146.61,2,   35.98,2,    0.00,2,    2.50,2,   0.004,2,   0.002,2,  -0.002,2,  -999.0,9,  2411.1,2,-999.000,9,-999.0000,9, -999.00,9, -999.00,9,  -999.0,9,  -999.0,-999.000,9,-999.000, -999.00,9, 4600.60,-999.0000,9,-999.0000,9,-999.0000,9,-999.0000,9,-999.0000,9,-999.0000,-999.000,-999.0000,9, -999.00
318M20040615,        P02,      37,          1,          4,          4,2,20040629,       0555,    29.9982,   147.2952,       6194,  4995.6,   1.5123,  34.6901,2,  34.6827,2, 161.0000,3,   161.6,2,  143.67,2,   35.66,2,    0.00,2,    2.47,2,-999.000,9,-999.000,9,-999.000,9,  -999.0,9,  2410.0,2,-999.000,9,-999.0000,9, -999.00,9, -999.00,9,  -999.0,9,  -999.0,-999.000,9,-999.000, -999.00,9, 4995.60,-999.0000,9,-999.0000,9,-999.0000,9,-999.0000,9,-999.0000,9,-999.0000,-999.000,-999.0000,9, -999.00
318M20040615,        P02,      37,          1,          3,          3,2,20040629,       0555,    29.9982,   147.2952,       6194,  5397.9,   1.5403,  34.6923,2,  34.6912,2, 165.1000,2,   165.6,2,  141.27,2,   35.38,2,    0.00,2,    2.45,2,   0.005,2,   0.002,2,  -0.002,2,  -999.0,9,  2407.0,2,-999.000,9,-999.0000,9, -999.00,9, -999.00,9,  -999.0,9,  -999.0,-999.000,9,-999.000, -999.00,9, 5397.90,-999.0000,9,-999.0000,9,-999.0000,9,-999.0000,9,-999.0000,9,-999.0000,-999.000,-999.0000,9, -999.00
318M20040615,        P02,      37,          1,          2,          2,2,20040629,       0555,    29.9982,   147.2952,       6194,  5806.8,   1.5802,  34.6935,2,  34.6920,2, 167.9000,2,   168.5,2,  139.26,2,   35.16,2,    0.00,2,    2.44,2,-999.000,9,-999.000,9,-999.000,9,  -999.0,9,  2404.9,2,-999.000,9,-999.0000,9, -999.00,9, -999.00,9,  -999.0,9,  -999.0,-999.000,9,-999.000, -999.00,9, 5806.80,-999.0000,9,-999.0000,9,-999.0000,9,-999.0000,9,-999.0000,9,-999.0000,-999.000,-999.0000,9, -999.00
318M20040615,        P02,      37,          1,          1,          1,2,20040629,       0555,    29.9982,   147.2952,       6194,  6005.0,   1.6005,  34.6940,2,  34.6942,2, 169.1000,3,   169.7,2,  138.35,2,   35.05,2,    0.00,2,    2.43,2,   0.004,2,   0.003,2,   0.002,2,  -999.0,9,  2405.3,6,-999.000,9,-999.0000,9, -999.00,9, -999.00,9,  -999.0,9,  -999.0,-999.000,9,-999.000, -999.00,9, 6005.00,-999.0000,9,-999.0000,9,-999.0000,9,-999.0000,9,-999.0000,9,-999.0000,-999.000,-999.0000,9, -999.00