BOTTLE,20131027SIOCCHRJL
EXPOCODE,SECT_ID,STNNBR,CASTNO,SAMPNO,BTLNBR,BTLNBR_FLAG_W,DATE,TIME,LATITUDE,LONGITUDE,DEPTH,CTDPRS,CTDTMP,CTDSAL,CTDSAL_FLAG_W,SALNTY,SALNTY_FLAG_W,CTDOXY,CTDOXY_FLAG_W,OXYGEN,OXYGEN_FLAG_W,SILCAT,SILCAT_FLAG_W,NITRAT,NITRAT_FLAG_W,NITRIT,NITRIT_FLAG_W,PHSPHT,PHSPHT_FLAG_W,CFC-11,CFC-11_FLAG_W,CFC-12,CFC-12_FLAG_W,CFC113,CFC113_FLAG_W,TCARBN,TCARBN_FLAG_W,ALKALI,ALKALI_FLAG_W,TRITUM,TRITUM_FLAG_W,HELIUM,HELIUM_FLAG_W,DELHE3,DELHE3_FLAG_W,DELC13,DELC13_FLAG_W,DELC14,DELC14_FLAG_W,C14ERR,NEON,NEON_FLAG_W,NEONER,DOC,DOC_FLAG_W,CTDRAW,CDOM380,CDOM380_FLAG_W,CDOM325,CDOM325_FLAG_W,CDOMSL,CDOMSL_FLAG_W,CDOM340,CDOM340_FLAG_W,CDOMSN,CDOMSN_FLAG_W,HELIER,TRITER,CDOM412,CDOM412_FLAG_W,DELHER
,,,,,,,,,,,METERS,DBAR,ITS-90,PSS-78,,PSS-78,,UMOL/KG,,UMOL/KG,,UMOL/KG,,UMOL/KG,,UMOL/KG,,UMOL/KG,,PMOL/KG,,PMOL/KG,,PMOL/KG,,UMOL/KG,,UMOL/KG,,TU,,NMOL/KG,,PERCNT,,/MILLE,,/MILLE,,/MILLE,NMOL/KG,,NMOL/KG,UMOL/KG,,DBAR,1/M,,1/M,,1/NM,,1/M,,1/NM,,NMOL/KG,TU,1/M,,PERCNT
318M20040615,        P02,     182,          2,         27,         27,2,20040825,       2237,    32.0578,  -119.6497,       1635,     6.1,  18.2668,  33.2033,2,  33.2017,9,-999.0000,9,   247.5,2,    1.43,2,    0.14,2,    0.00,2,    0.27,2,   2.593,2,   1.563,2,   0.195,2,  1984.3,6,  -999.0,9,-999.000,9,-999.0000,9, -999.00,9, -999.00,9,  -999.0,9,  -999.0,-999.000,9,-999.000,   67.70,2,    6.10,   0.0570,2,   0.1860,2,   0.0200,2,   0.1320,2,   0.0210,2,-999.0000,-999.000,   0.0340,2, -999.00
318M20040615,        P02,     182,          2,         26,         26,2,20040825,       2237,    32.0578,  -119.6497,       1635,    24.0,  16.7072,  33.2507,2,  33.2398,9,-999.0000,9,   262.5,2,    1.63,2,    0.18,2,    0.01,2,    0.28,2,-999.000,9,-999.000,9,-999.000,9,  1987.4,2,  -999.0,9,-999.000,9,-999.0000,9, -999.00,9, -999.00,9,  -999.0,9,  -999.0,-999.000,9,-999.000,   57.40,2,   24.00,   0.0810,2,   0.2390,2,   0.0170,2,   0.1730,2,   0.0190,2,-999.0000,-999.000,   0.0510,2, -999.00
318M20040615,        P02,     182,          2,         25,         25,2,20040825,       2237,    32.0578,  -119.6497,       1635,    53.2,  11.7171,  33.1940,2,  33.1922,9,-999.0000,9,   231.1,2,    7.25,2,   10.45,2,    0.54,2,    1.03,2,   3.492,2,   1.999,2,   0.221,2,  2065.4,2,  -999.0,9,-999.000,9,-999.0000,9, -999.00,9, -999.00,9,  -999.0,9,  -999.0,-999.000,9,-999.000,   53.10,2,   53.20,-999.0000,9,-999.0000,9,-999.0000,9,-999.0000,9,-999.0000,9,-999.0000,-999.000,-999.0000,9, -999.00
318M20040615,        P02,     182,          2,         24,         24,2,20040825,       2237,    32.0578,  -119.6497,       1635,    78.7,  10.2200,  33.3237,2,  33.3611,9,-999.0000,9,   192.6,2,   14.88,2,   17.38,2,    0.02,2,    1.42,2,   3.505,2,   1.992,2,   0.194,2,  2107.8,2,  -999.0,9,-999.000,9,-999.0000,9, -999.00,9, -999.00,9,  -999.0,9,  -999.0,-999.000,9,-999.000,   48.40,2,   78.70,   0.0560,2,   0.1690,2,   0.0160,2,   0.1190,2,   0.0190,2,-999.0000,-999.000,   0.0400,2, -999.00
318M20040615,        P02,     182,          2,         23,         23,2,20040825,       2237,    32.0578,  -119.6497,       1635,   102.8,   9.6857,  33.5970,2,  33.6052,9,-999.0000,9,   142.1,2,   22.12,2,   23.27,2,    0.01,2,    1.82,2,   3.379,2,   1.873,2,   0.171,2,  2157.6,2,  -999.0,9,-999.000,9,-999.0000,9, -999.00,9, -999.00,9,  -999.0,9,  -999.0,-999.000,9,-999.000,   46.00,2,  102.80,-999.0000,9,-999.0000,9,-999.0000,9,-999.0000,9,-999.0000,9,-999.0000,-999.000,-999.0000,9, -999.00
318M20040615,        P02,     182,          2,         22,         22,2,20040825,       2237,    32.0578,  -119.6497,       1635,   128.3,   9.1983,  33.8629,2,  33.8651,9,-999.0000,9,   120.2,2,   27.35,2,   25.44,2,    0.01,2,    1.93,2,-999.000,9,-999.000,9,-999.000,9,  2178.7,2,  -999.0,9,-999.000,9,-999.0000,9, -999.00,9, -999.00,9,  -999.0,9,  -999.0,-999.000,9,-999.000,   48.30,2,  128.30,   0.0720,2,   0.1860,2,   0.0140,2,   0.1350,2,   0.0150,2,-999.0000,-999.000,   0.0540,2, -999.00
318M20040615,        P02,     182,          2,         21,         21,2,20040825,       2237,    32.0578,  -119.6497,       1635,   151.2,   9.0321,  34.0009,2,  34.0249,9,-999.0000,9,   102.0,2,   31.99,2,   27.44,2,    0.01,2,    2.07,2,   2.627,2,   1.393,2,   0.098,2,  2198.7,2,  -999.0,9,-999.000,9,-999.0000,9, -999.00,9, -999.00,9,  -999.0,9,  -999.0,-999.000,9,-999.000,   46.40,2,  151.20,-999.0000,9,-999.0000,9,-999.0000,9,-999.0000,9,-999.0000,9,-999.0000,-999.000,-999.0000,9, -999.00
318M20040615,        P02,     182,          2,         20,         20,2,20040825,       2237,    32.0578,  -119.6497,       1635,   177.6,   8.6293,  34.0869,2,  34.0900,9,-999.0000,9,    90.0,2,   36.83,2,   29.16,2,    0.01,2,    2.20,2,-999.000,9,-999.000,9,-999.000,9,  2215.2,2,  -999.0,9,-999.000,9,-999.0000,9, -999.00,9, -999.00,9,  -999.0,9,  -999.0,-999.000,9,-999.000,   46.30,2,  177.60,   0.0720,2,   0.1850,2,   0.0130,2,   0.1340,2,   0.0150,2,-999.0000,-999.000,   0.0550,2, -999.00
318M20040615,        P02,     182,          2,         19,         19,2,20040825,       2237,    32.0578,  -119.6497,       1635,   218.0,   8.1262,  34.1398,2,  34.1459,9,-999.0000,9,    71.1,2,   43.50,2,   31.33,2,    0.01,2,    2.40,2,   1.800,2,   0.925,2,   0.055,2,  2235.2,2,  -999.0,9,-999.000,9,-999.0000,9, -999.00,9, -999.00,9,  -999.0,9,  -999.0,-999.000,9,-999.000,   44.70,2,  218.00,-999.0000,9,-999.0000,9,-999.0000,9,-999.0000,9,-999.0000,9,-999.0000,-999.000,-999.0000,9, -999.00
318M20040615,        P02,     182,          2,         18,         18,2,20040825,       2237,    32.0578,  -119.6497,       1635,   253.0,   7.7913,  34.1787,2,  34.1785,9,-999.0000,9,    61.4,2,   47.95,2,   32.27,2,    0.01,2,    2.52,2,-999.000,9,-999.000,9,-999.000,9,  2250.1,2,  -999.0,9,-999.000,9,-999.0000,9, -999.00,9, -999.00,9,  -999.0,9,  -999.0,-999.000,9,-999.000,   43.00,2,  253.00,   0.0790,2,   0.1980,2,   0.0130,2,   0.1440,2,   0.0150,2,-999.0000,-999.000,   0.0600,2, -999.00
318M20040615,        P02,     182,          2,         17,         17,2,20040825,       2237,    32.0578,  -119.6497,       1635,   302.9,   7.3560,  34.2202,2,  34.2206,9,-999.0000,9,    43.5,2,   55.04,2,   34.19,2,    0.00,2,    2.71,2,   0.927,2,   0.476,2,   0.020,2,  2269.8,2,  -999.0,9,-999.000,9,-999.0000,9, -999.00,9, -999.00,9,  -999.0,9,  -999.0,-999.000,9,-999.000, -999.00,9,  302.90,   0.0780,2,   0.1920,2,   0.0130,2,   0.1400,2,   0.0140,2,-999.0000,-999.000,   0.0600,2, -999.00
318M20040615,        P02,     182,          2,         16,         16,2,20040825,       2237,    32.0578,  -119.6497,       1635,   352.9,   6.9842,  34.2566,2,  34.2587,9,-999.0000,9,    28.8,2,   61.75,2,   35.90,2,    0.00,2,    2.86,2,-999.000,9,-999.000,9,-999.000,9,  2287.3,2,  -999.0,9,-999.000,9,-999.0000,9, -999.00,9, -999.00,9,  -999.0,9,  -999.0,-999.000,9,-999.000, -999.00,9,  352.90,   0.0850,2,   0.2050,2,   0.0130,2,   0.1510,2,   0.0140,2,-999.0000,-999.000,   0.0640,2, -999.00
318M20040615,        P02,     182,          2,         15,         15,2,20040825,       2237,    32.0578,  -119.6497,       1635,   402.7,   6.5452,  34.2631,2,  34.2595,9,-999.0000,9,    24.3,2,   67.44,2,   37.45,2,    0.00,2,    2.94,2,   0.418,2,   0.210,2,   0.000,2,  2296.7,2,  -999.0,9,-999.000,9,-999.0000,9, -999.00,9, -999.00,9,  -999.0,9,  -999.0,-999.000,9,-999.000, -999.00,9,  402.70,   0.0830,2,   0.1970,2,   0.0130,2,   0.1450,2,   0.0140,2,-999.0000,-999.000,   0.0630,2, -999.00
318M20040615,        P02,     182,          2,         14,         14,2,20040825,       2237,    32.0578,  -119.6497,       1635,   452.3,   6.4685,  34.3014,2,  34.3021,9,-999.0000,9,    17.2,2,   71.10,2,   38.20,2,    0.00,2,    3.01,2,-999.000,9,-999.000,9,-999.000,9,  2306.1,2,  -999.0,9,-999.000,9,-999.0000,9, -999.00,9, -999.00,9,  -999.0,9,  -999.0,-999.000,9,-999.000,   40.60,2,  452.30,-999.0000,9,-999.0000,9,-999.0000,9,-999.0000,9,-999.0000,9,-999.0000,-999.000,-999.0000,9, -999.00
318M20040615,        P02,     182,          2,         13,         13,2,20040825,       2237,    32.0578,  -119.6497,       1635,   502.1,   6.1629,  34.3160,2,  34.3170,9,-999.0000,9,    14.1,2,   75.80,2,   39.40,2,    0.00,2,    3.07,2,   0.212,2,   0.105,2,   0.000,2,  2313.7,2,  -999.0,9,-999.000,9,-999.0000,9, -999.00,9, -999.00,9,  -999.0,9,  -999.0,-999.000,9,-999.000,   40.20,2,  502.10,   0.0840,2,   0.1970,2,   0.0130,2,   0.1450,2,   0.0140,2,-999.0000,-999.000,   0.0650,2, -999.00
318M20040615,        P02,     182,          2,         12,         12,2,20040825,       2237,    32.0578,  -119.6497,       1635,   607.0,   5.7244,  34.3609,2,  34.3614,9,-999.0000,9,    10.0,2,   84.99,2,   40.58,2,    0.00,2,    3.16,2,-999.000,9,-999.000,9,-999.000,9,  2329.6,2,  -999.0,9,-999.000,9,-999.0000,9, -999.00,9, -999.00,9,  -999.0,9,  -999.0,-999.000,9,-999.000,   39.90,2,  607.00,-999.0000,9,-999.0000,9,-999.0000,9,-999.0000,9,-999.0000,9,-999.0000,-999.000,-999.0000,9, -999.00
318M20040615,        P02,     182,          2,         11,         11,2,20040825,       2237,    32.0578,  -119.6497,       1635,   707.2,   5.1310,  34.4007,2,  34.4013,9,-999.0000,9,    10.9,2,   95.83,2,   41.88,2,    0.00,2,    3.21,2,   0.092,2,   0.053,2,   0.007,2,  2341.8,2,  -999.0,9,-999.000,9,-999.0000,9, -999.00,9, -999.00,9,  -999.0,9,  -999.0,-999.000,9,-999.000,   39.10,2,  707.20,   0.0840,2,   0.1940,2,   0.0130,2,   0.1430,2,   0.0130,2,-999.0000,-999.000,   0.0650,2, -999.00
318M20040615,        P02,     182,          2,         10,         10,2,20040825,       2237,    32.0578,  -119.6497,       1635,   807.5,   4.7508,  34.4262,2,  34.4258,9,-999.0000,9,    13.0,2,  102.84,2,   42.53,2,    0.00,2,    3.22,2,-999.000,9,-999.000,9,-999.000,9,  2348.2,2,  -999.0,9,-999.000,9,-999.0000,9, -999.00,9, -999.00,9,  -999.0,9,  -999.0,-999.000,9,-999.000,   38.60,2,  807.50,   0.0970,2,   0.2160,2,   0.0120,2,   0.1620,2,   0.0130,2,-999.0000,-999.000,   0.0760,2, -999.00
318M20040615,        P02,     182,          2,          9,          9,2,20040825,       2237,    32.0578,  -119.6497,       1635,   908.0,   4.4651,  34.4457,2,  34.4457,9,-999.0000,9,    15.8,2,  108.60,2,   42.92,2,    0.00,2,    3.23,2,   0.061,2,   0.045,2,   0.005,2,  2352.0,2,  -999.0,9,-999.000,9,-999.0000,9, -999.00,9, -999.00,9,  -999.0,9,  -999.0,-999.000,9,-999.000,   38.00,2,  908.00,-999.0000,9,-999.0000,9,-999.0000,9,-999.0000,9,-999.0000,9,-999.0000,-999.000,-999.0000,9, -999.00
318M20040615,        P02,     182,          2,         37,         37,2,20040825,       2237,    32.0578,  -119.6497,       1635,   908.0,   4.4645,  34.4457,2,-999.0000,9,-999.0000,9,  -999.0,9,  109.01,2,   42.85,2,    0.01,2,    3.22,2,-999.000,9,-999.000,9,-999.000,9,  -999.0,9,  -999.0,9,-999.000,9,-999.0000,9, -999.00,9, -999.00,9,  -999.0,9,  -999.0,-999.000,9,-999.000, -999.00,9,  908.00,-999.0000,9,-999.0000,9,-999.0000,9,-999.0000,9,-999.0000,9,-999.0000,-999.000,-999.0000,9, -999.00
318M20040615,        P02,     182,          2,          7,          7,2,20040825,       2237,    32.0578,  -119.6497,       1635,  1012.5,   4.1905,  34.4662,2,  34.4657,9,-999.0000,9,    19.5,2,  113.97,2,   43.33,2,    0.00,2,    3.22,2,   0.052,6,   0.038,6,   0.007,6,  2356.6,6,  -999.0,9,-999.000,9,-999.0000,9, -999.00,9, -999.00,9,  -999.0,9,  -999.0,-999.000,9,-999.000,   38.50,2, 1012.50,   0.1270,2,   0.2600,2,   0.0120,2,   0.2000,2,   0.0110,2,-999.0000,-999.000,   0.1000,2, -999.00
318M20040615,        P02,     182,          2,          6,          6,2,20040825,       2237,    32.0578,  -119.6497,       1635,  1112.9,   3.9646,  34.4872,2,  34.4871,9,-999.0000,9,    24.2,2,  118.31,2,   43.71,2,    0.00,2,    3.21,2,-999.000,9,-999.000,9,-999.000,9,  2361.1,2,  -999.0,9,-999.000,9,-999.0000,9, -999.00,9, -999.00,9,  -999.0,9,  -999.0,-999.000,9,-999.000,   37.80,2, 1112.90,-999.0000,9,-999.0000,9,-999.0000,9,-999.0000,9,-999.0000,9,-999.0000,-999.000,-999.0000,9, -999.00
318M20040615,        P02,     182,          2,          5,          5,2,20040825,       2237,    32.0578,  -119.6497,       1635,  1213.1,   3.5982,  34.5115,2,  34.5113,9,-999.0000,9,    30.4,2,  127.63,2,   43.65,2,    0.00,2,    3.18,2,   0.042,2,   0.038,2,   0.014,2,  2367.8,2,  -999.0,9,-999.000,9,-999.0000,9, -999.00,9, -999.00,9,  -999.0,9,  -999.0,-999.000,9,-999.000,   37.50,2, 1213.10,-999.0000,9,-999.0000,9,-999.0000,9,-999.0000,9,-999.0000,9,-999.0000,-999.000,-999.0000,9, -999.00
318M20040615,        P02,     182,          2,          4,          4,2,20040825,       2237,    32.0578,  -119.6497,       1635,  1313.1,   3.3860,  34.5258,2,  34.5255,9,-999.0000,9,    34.5,2,  132.82,2,   43.38,2,    0.00,2,    3.15,2,-999.000,9,-999.000,9,-999.000,9,  2369.5,2,  -999.0,9,-999.000,9,-999.0000,9, -999.00,9, -999.00,9,  -999.0,9,  -999.0,-999.000,9,-999.000,   36.30,2, 1313.10,   0.1150,2,   0.2460,2,   0.0120,2,   0.1860,2,   0.0120,2,-999.0000,-999.000,   0.0910,2, -999.00
318M20040615,        P02,     182,          2,          3,          3,2,20040825,       2237,    32.0578,  -119.6497,       1635,  1413.6,   3.0033,  34.5556,2,  34.5558,9,-999.0000,9,    44.3,2,  142.18,2,   42.82,2,    0.00,2,    3.10,2,   0.035,2,   0.038,2,   0.011,2,  2372.8,2,  -999.0,9,-999.000,9,-999.0000,9, -999.00,9, -999.00,9,  -999.0,9,  -999.0,-999.000,9,-999.000,   36.30,2, 1413.60,-999.0000,9,-999.0000,9,-999.0000,9,-999.0000,9,-999.0000,9,-999.0000,-999.000,-999.0000,9, -999.00
318M20040615,        P02,     182,          2,          2,          2,2,20040825,       2237,    32.0578,  -119.6497,       1635,  1519.5,   2.7241,  34.5785,2,  34.5792,9,-999.0000,9,    54.1,2,  148.86,2,   42.11,2,    0.00,2,    3.05,2,   0.035,2,   0.042,2,   0.011,2,  2374.6,2,  -999.0,9,-999.000,9,-999.0000,9, -999.00,9, -999.00,9,  -999.0,9,  -999.0,-999.000,9,-999.000, -999.00,9, 1519.50,-999.0000,9,-999.0000,9,-999.0000,9,-999.0000,9,-999.0000,9,-999.0000,-999.000,-999.0000,9, -999.00
318M20040615,        P02,     182,          2,          1,          1,2,20040825,       2237,    32.0578,  -119.6497,       1635,  1624.6,   2.6134,  34.5868,2,  34.5870,9,-999.0000,9,    58.1,2,  151.58,2,   41.94,2,    0.00,2,    3.03,2,   0.027,2,   0.032,2,   0.009,2,  2373.9,6,  -999.0,9,-999.000,9,-999.0000,9, -999.00,9, -999.00,9,  -999.0,9,  -999.0,-999.000,9,-999.000,   36.60,2, 1624.60,   0.0930,2,   0.2090,2,   0.0120,2,   0.1550,2,   0.0130,2,-999.0000,-999.000,   0.0710,2, -999.00