BOTTLE,20131027SIOCCHRJL
EXPOCODE,SECT_ID,STNNBR,CASTNO,SAMPNO,BTLNBR,BTLNBR_FLAG_W,DATE,TIME,LATITUDE,LONGITUDE,DEPTH,CTDPRS,CTDTMP,CTDSAL,CTDSAL_FLAG_W,SALNTY,SALNTY_FLAG_W,CTDOXY,CTDOXY_FLAG_W,OXYGEN,OXYGEN_FLAG_W,SILCAT,SILCAT_FLAG_W,NITRAT,NITRAT_FLAG_W,NITRIT,NITRIT_FLAG_W,PHSPHT,PHSPHT_FLAG_W,CFC-11,CFC-11_FLAG_W,CFC-12,CFC-12_FLAG_W,CFC113,CFC113_FLAG_W,TCARBN,TCARBN_FLAG_W,ALKALI,ALKALI_FLAG_W,TRITUM,TRITUM_FLAG_W,HELIUM,HELIUM_FLAG_W,DELHE3,DELHE3_FLAG_W,DELC13,DELC13_FLAG_W,DELC14,DELC14_FLAG_W,C14ERR,NEON,NEON_FLAG_W,NEONER,DOC,DOC_FLAG_W,CTDRAW,CDOM380,CDOM380_FLAG_W,CDOM325,CDOM325_FLAG_W,CDOMSL,CDOMSL_FLAG_W,CDOM340,CDOM340_FLAG_W,CDOMSN,CDOMSN_FLAG_W,HELIER,TRITER,CDOM412,CDOM412_FLAG_W,DELHER
,,,,,,,,,,,METERS,DBAR,ITS-90,PSS-78,,PSS-78,,UMOL/KG,,UMOL/KG,,UMOL/KG,,UMOL/KG,,UMOL/KG,,UMOL/KG,,PMOL/KG,,PMOL/KG,,PMOL/KG,,UMOL/KG,,UMOL/KG,,TU,,NMOL/KG,,PERCNT,,/MILLE,,/MILLE,,/MILLE,NMOL/KG,,NMOL/KG,UMOL/KG,,DBAR,1/M,,1/M,,1/NM,,1/M,,1/NM,,NMOL/KG,TU,1/M,,PERCNT
318M20040615,        P02,      71,          1,         36,         36,2,20040711,       1104,    30.0003,    171.353,       5421,     7.4,  26.1175,  35.2691,2,  35.2672,2, 207.9000,2,   207.2,2,    0.96,2,    0.05,2,    0.00,2,    0.02,2,   1.779,2,   1.100,2,   0.152,2,  1998.4,6,  2314.5,6,-999.000,9,-999.0000,9, -999.00,9, -999.00,9,  -999.0,9,  -999.0,-999.000,9,-999.000, -999.00,9,    7.40,-999.0000,9,-999.0000,9,-999.0000,9,-999.0000,9,-999.0000,9,-999.0000,-999.000,-999.0000,9, -999.00
318M20040615,        P02,      71,          1,         35,         35,2,20040711,       1104,    30.0003,    171.353,       5421,    36.3,  23.3824,  35.2320,2,  35.2338,2, 222.7000,2,   222.9,2,    0.96,2,    0.05,2,    0.00,2,    0.02,2,   2.008,2,   1.234,2,   0.130,2,  1997.2,2,  2312.6,2,-999.000,9,-999.0000,9, -999.00,9, -999.00,9,  -999.0,9,  -999.0,-999.000,9,-999.000, -999.00,9,   36.30,-999.0000,9,-999.0000,9,-999.0000,9,-999.0000,9,-999.0000,9,-999.0000,-999.000,-999.0000,9, -999.00
318M20040615,        P02,      71,          1,         34,         34,2,20040711,       1104,    30.0003,    171.353,       5421,    71.0,  19.2191,  34.9342,2,  34.9338,2, 232.3000,2,   232.1,2,    1.64,2,    0.10,2,    0.00,2,    0.06,2,   2.339,2,   1.387,2,   0.129,2,  2005.6,2,  2294.0,2,-999.000,9,-999.0000,9, -999.00,9, -999.00,9,  -999.0,9,  -999.0,-999.000,9,-999.000, -999.00,9,   71.00,-999.0000,9,-999.0000,9,-999.0000,9,-999.0000,9,-999.0000,9,-999.0000,-999.000,-999.0000,9, -999.00
318M20040615,        P02,      71,          1,         33,         33,2,20040711,       1104,    30.0003,    171.353,       5421,   120.8,  17.5744,  34.8126,2,  34.8700,2, 218.1000,3,   221.5,2,    2.51,2,    2.56,2,    0.12,2,    0.21,2,   2.411,2,   1.438,2,   0.137,2,  2016.3,2,  2284.7,2,-999.000,9,-999.0000,9, -999.00,9, -999.00,9,  -999.0,9,  -999.0,-999.000,9,-999.000, -999.00,9,  120.80,-999.0000,9,-999.0000,9,-999.0000,9,-999.0000,9,-999.0000,9,-999.0000,-999.000,-999.0000,9, -999.00
318M20040615,        P02,      71,          1,         32,         32,2,20040711,       1104,    30.0003,    171.353,       5421,   175.5,  16.8845,  34.7677,2,  34.7674,2, 218.8000,2,   219.6,2,    4.23,2,    4.98,2,    0.01,2,    0.35,2,   2.471,2,   1.476,2,   0.106,2,  2023.1,2,  2282.5,2,-999.000,9,-999.0000,9, -999.00,9, -999.00,9,  -999.0,9,  -999.0,-999.000,9,-999.000, -999.00,9,  175.50,-999.0000,9,-999.0000,9,-999.0000,9,-999.0000,9,-999.0000,9,-999.0000,-999.000,-999.0000,9, -999.00
318M20040615,        P02,      71,          1,         31,         31,2,20040711,       1104,    30.0003,    171.353,       5421,   225.5,  16.4563,  34.7359,2,  34.7364,2, 217.7000,2,   217.8,2,    4.23,2,    4.98,2,    0.01,2,    0.34,2,   2.491,2,   1.488,2,   0.090,2,  2028.1,2,  2280.4,2,-999.000,9,-999.0000,9, -999.00,9, -999.00,9,  -999.0,9,  -999.0,-999.000,9,-999.000, -999.00,9,  225.50,-999.0000,9,-999.0000,9,-999.0000,9,-999.0000,9,-999.0000,9,-999.0000,-999.000,-999.0000,9, -999.00
318M20040615,        P02,      71,          1,         30,         30,2,20040711,       1104,    30.0003,    171.353,       5421,   275.7,  16.0596,  34.7025,2,  34.7030,2, 219.5000,2,   220.0,2,    5.09,2,    5.51,2,    0.01,2,    0.38,2,   2.534,2,   1.493,2,   0.104,2,  2030.4,2,  2279.5,2,-999.000,9,-999.0000,9, -999.00,9, -999.00,9,  -999.0,9,  -999.0,-999.000,9,-999.000, -999.00,9,  275.70,-999.0000,9,-999.0000,9,-999.0000,9,-999.0000,9,-999.0000,9,-999.0000,-999.000,-999.0000,9, -999.00
318M20040615,        P02,      71,          1,         29,         29,2,20040711,       1104,    30.0003,    171.353,       5421,   325.1,  15.5244,  34.6610,2,  34.6587,2, 218.0000,2,   216.7,2,    6.31,2,    6.61,2,    0.01,2,    0.46,2,   2.595,2,   1.515,2,   0.102,2,  2040.4,2,  2278.6,2,-999.000,9,-999.0000,9, -999.00,9, -999.00,9,  -999.0,9,  -999.0,-999.000,9,-999.000, -999.00,9,  325.10,-999.0000,9,-999.0000,9,-999.0000,9,-999.0000,9,-999.0000,9,-999.0000,-999.000,-999.0000,9, -999.00
318M20040615,        P02,      71,          1,         28,         28,2,20040711,       1104,    30.0003,    171.353,       5421,   375.3,  14.4659,  34.5614,2,  34.5615,2, 204.1000,2,   204.6,2,    9.77,2,    9.23,2,    0.01,2,    0.65,2,-999.000,9,-999.000,9,-999.000,9,  -999.0,9,  -999.0,9,-999.000,9,-999.0000,9, -999.00,9, -999.00,9,  -999.0,9,  -999.0,-999.000,9,-999.000, -999.00,9,  375.30,-999.0000,9,-999.0000,9,-999.0000,9,-999.0000,9,-999.0000,9,-999.0000,-999.000,-999.0000,9, -999.00
318M20040615,        P02,      71,          1,         27,         27,2,20040711,       1104,    30.0003,    171.353,       5421,   425.0,  13.3496,  34.4710,2,  34.4708,2, 203.2000,2,   205.4,2,   12.19,2,   10.78,2,    0.01,2,    0.76,2,-999.000,9,-999.000,9,-999.000,9,  -999.0,9,  -999.0,9,-999.000,9,-999.0000,9, -999.00,9, -999.00,9,  -999.0,9,  -999.0,-999.000,9,-999.000, -999.00,9,  425.00,-999.0000,9,-999.0000,9,-999.0000,9,-999.0000,9,-999.0000,9,-999.0000,-999.000,-999.0000,9, -999.00
318M20040615,        P02,      71,          1,         26,         26,2,20040711,       1104,    30.0003,    171.353,       5421,   475.1,  11.9383,  34.3668,2,  34.3662,2, 201.5000,2,   202.4,2,   16.70,2,   13.50,2,    0.01,2,    0.95,2,   2.803,2,   1.570,2,   0.078,2,  2093.1,2,  2272.3,2,-999.000,9,-999.0000,9, -999.00,9, -999.00,9,  -999.0,9,  -999.0,-999.000,9,-999.000, -999.00,9,  475.10,-999.0000,9,-999.0000,9,-999.0000,9,-999.0000,9,-999.0000,9,-999.0000,-999.000,-999.0000,9, -999.00
318M20040615,        P02,      71,          1,         25,         25,2,20040711,       1104,    30.0003,    171.353,       5421,   544.8,  10.0863,  34.2222,2,  34.2244,2, 197.0000,2,   197.9,2,   24.17,2,   17.15,2,    0.00,2,    1.20,2,-999.000,9,-999.000,9,-999.000,9,  -999.0,9,  -999.0,9,-999.000,9,-999.0000,9, -999.00,9, -999.00,9,  -999.0,9,  -999.0,-999.000,9,-999.000, -999.00,9,  544.80,-999.0000,9,-999.0000,9,-999.0000,9,-999.0000,9,-999.0000,9,-999.0000,-999.000,-999.0000,9, -999.00
318M20040615,        P02,      71,          1,         24,         24,2,20040711,       1104,    30.0003,    171.353,       5421,   644.9,   7.4275,  34.0375,2,  34.0380,2, 170.5000,2,   170.5,2,   41.82,2,   24.46,2,    0.00,2,    1.75,2,-999.000,9,-999.000,9,-999.000,9,  -999.0,9,  -999.0,9,-999.000,9,-999.0000,9, -999.00,9, -999.00,9,  -999.0,9,  -999.0,-999.000,9,-999.000, -999.00,9,  644.90,-999.0000,9,-999.0000,9,-999.0000,9,-999.0000,9,-999.0000,9,-999.0000,-999.000,-999.0000,9, -999.00
318M20040615,        P02,      71,          1,         23,         23,2,20040711,       1104,    30.0003,    171.353,       5421,   744.5,   5.7418,  34.0283,2,  34.0284,2, 116.3000,2,   121.3,2,   65.38,2,   31.95,2,    0.00,2,    2.31,2,   1.899,2,   0.954,2,   0.086,2,  2231.3,2,  -999.0,9,-999.000,9,-999.0000,9, -999.00,9, -999.00,9,  -999.0,9,  -999.0,-999.000,9,-999.000, -999.00,9,  744.50,-999.0000,9,-999.0000,9,-999.0000,9,-999.0000,9,-999.0000,9,-999.0000,-999.000,-999.0000,9, -999.00
318M20040615,        P02,      71,          1,         22,         22,2,20040711,       1104,    30.0003,    171.353,       5421,   844.5,   4.7131,  34.1211,2,  34.1209,2,  77.7000,2,    75.0,2,   89.57,2,   37.73,2,    0.00,2,    2.72,2,-999.000,9,-999.000,9,-999.000,9,  -999.0,9,  2318.1,2,-999.000,9,-999.0000,9, -999.00,9, -999.00,9,  -999.0,9,  -999.0,-999.000,9,-999.000, -999.00,9,  844.50,-999.0000,9,-999.0000,9,-999.0000,9,-999.0000,9,-999.0000,9,-999.0000,-999.000,-999.0000,9, -999.00
318M20040615,        P02,      71,          1,         21,         21,2,20040711,       1104,    30.0003,    171.353,       5421,   944.1,   4.1767,  34.2000,2,  34.2002,2,  51.4000,2,    53.5,2,  104.95,2,   40.22,2,    0.00,2,    2.89,2,-999.000,9,-999.000,9,-999.000,9,  -999.0,9,  -999.0,9,-999.000,9,-999.0000,9, -999.00,9, -999.00,9,  -999.0,9,  -999.0,-999.000,9,-999.000, -999.00,9,  944.10,-999.0000,9,-999.0000,9,-999.0000,9,-999.0000,9,-999.0000,9,-999.0000,-999.000,-999.0000,9, -999.00
318M20040615,        P02,      71,          1,         20,         20,2,20040711,       1104,    30.0003,    171.353,       5421,  1044.8,   3.6928,  34.2815,2,  34.2814,2,  37.2000,2,    37.9,2,  119.63,2,   42.07,2,    0.00,2,    3.02,2,   0.276,2,   0.136,2,   0.006,2,  2339.8,2,  2352.4,2,-999.000,9,-999.0000,9, -999.00,9, -999.00,9,  -999.0,9,  -999.0,-999.000,9,-999.000, -999.00,9, 1044.80,-999.0000,9,-999.0000,9,-999.0000,9,-999.0000,9,-999.0000,9,-999.0000,-999.000,-999.0000,9, -999.00
318M20040615,        P02,      71,          1,         19,         19,2,20040711,       1104,    30.0003,    171.353,       5421,  1144.8,   3.3419,  34.3466,2,  34.3475,2,  32.5000,2,    31.3,2,  130.80,2,   42.85,2,    0.00,2,    3.08,2,   0.132,2,   0.067,2,   0.002,2,  2356.7,2,  2367.1,2,-999.000,9,-999.0000,9, -999.00,9, -999.00,9,  -999.0,9,  -999.0,-999.000,9,-999.000, -999.00,9, 1144.80,-999.0000,9,-999.0000,9,-999.0000,9,-999.0000,9,-999.0000,9,-999.0000,-999.000,-999.0000,9, -999.00
318M20040615,        P02,      71,          1,         18,         18,2,20040711,       1104,    30.0003,    171.353,       5421,  1239.7,   3.1168,  34.3917,2,  34.3934,2,  31.3000,2,    31.5,2,  137.01,2,   43.01,2,    0.00,2,    3.09,2,   0.086,2,   0.043,2,   0.003,2,  2364.7,2,  2375.5,2,-999.000,9,-999.0000,9, -999.00,9, -999.00,9,  -999.0,9,  -999.0,-999.000,9,-999.000, -999.00,9, 1239.70,-999.0000,9,-999.0000,9,-999.0000,9,-999.0000,9,-999.0000,9,-999.0000,-999.000,-999.0000,9, -999.00
318M20040615,        P02,      71,          1,         17,         17,2,20040711,       1104,    30.0003,    171.353,       5421,  1340.3,   2.8455,  34.4443,2,  34.4449,2,  31.4000,2,    31.8,2,  145.13,2,   43.28,2,    0.00,2,    3.11,2,-999.000,9,-999.000,9,-999.000,9,  -999.0,9,  -999.0,9,-999.000,9,-999.0000,9, -999.00,9, -999.00,9,  -999.0,9,  -999.0,-999.000,9,-999.000, -999.00,9, 1340.30,-999.0000,9,-999.0000,9,-999.0000,9,-999.0000,9,-999.0000,9,-999.0000,-999.000,-999.0000,9, -999.00
318M20040615,        P02,      71,          1,         16,         16,2,20040711,       1104,    30.0003,    171.353,       5421,  1441.0,   2.6441,  34.4786,2,  34.4784,2,  35.0000,2,    35.1,2,  150.37,2,   43.08,2,    0.00,2,    3.10,2,-999.000,9,-999.000,9,-999.000,9,  -999.0,9,  -999.0,9,-999.000,9,-999.0000,9, -999.00,9, -999.00,9,  -999.0,9,  -999.0,-999.000,9,-999.000, -999.00,9, 1441.00,-999.0000,9,-999.0000,9,-999.0000,9,-999.0000,9,-999.0000,9,-999.0000,-999.000,-999.0000,9, -999.00
318M20040615,        P02,      71,          1,         15,         15,2,20040711,       1104,    30.0003,    171.353,       5421,  1536.3,   2.5131,  34.5100,2,  34.5101,2,  38.8000,2,    40.7,2,  153.20,2,   43.19,2,    0.00,2,    3.07,2,   0.014,2,   0.006,2,   0.001,2,  -999.0,9,  2397.7,2,-999.000,9,-999.0000,9, -999.00,9, -999.00,9,  -999.0,9,  -999.0,-999.000,9,-999.000, -999.00,9, 1536.30,-999.0000,9,-999.0000,9,-999.0000,9,-999.0000,9,-999.0000,9,-999.0000,-999.000,-999.0000,9, -999.00
318M20040615,        P02,      71,          1,         14,         14,2,20040711,       1104,    30.0003,    171.353,       5421,  1736.8,   2.2298,  34.5536,2,  34.5549,2,  52.5000,2,    52.7,2,  159.69,2,   42.88,2,    0.00,2,    3.01,2,   0.007,2,   0.001,2,  -0.001,2,  -999.0,9,  -999.0,9,-999.000,9,-999.0000,9, -999.00,9, -999.00,9,  -999.0,9,  -999.0,-999.000,9,-999.000, -999.00,9, 1736.80,-999.0000,9,-999.0000,9,-999.0000,9,-999.0000,9,-999.0000,9,-999.0000,-999.000,-999.0000,9, -999.00
318M20040615,        P02,      71,          1,         13,         13,2,20040711,       1104,    30.0003,    171.353,       5421,  1958.5,   1.9912,  34.5933,2,  34.5932,2,  72.9000,2,    71.5,2,  161.78,2,   41.81,2,    0.00,2,    2.92,2,   0.003,2,   0.000,2,   0.000,2,  -999.0,9,  2411.8,2,-999.000,9,-999.0000,9, -999.00,9, -999.00,9,  -999.0,9,  -999.0,-999.000,9,-999.000, -999.00,9, 1958.50,-999.0000,9,-999.0000,9,-999.0000,9,-999.0000,9,-999.0000,9,-999.0000,-999.000,-999.0000,9, -999.00
318M20040615,        P02,      71,          1,         12,         12,2,20040711,       1104,    30.0003,    171.353,       5421,  2149.9,   1.8625,  34.6136,2,  34.6130,2,  85.6000,2,    84.9,2,  161.93,2,   40.84,2,    0.00,2,    2.86,2,-999.000,9,-999.000,9,-999.000,9,  -999.0,9,  -999.0,9,-999.000,9,-999.0000,9, -999.00,9, -999.00,9,  -999.0,9,  -999.0,-999.000,9,-999.000, -999.00,9, 2149.90,-999.0000,9,-999.0000,9,-999.0000,9,-999.0000,9,-999.0000,9,-999.0000,-999.000,-999.0000,9, -999.00
318M20040615,        P02,      71,          1,         11,         11,2,20040711,       1104,    30.0003,    171.353,       5421,  2346.2,   1.7503,  34.6304,2,  34.6309,2,  98.0000,2,    97.3,2,  160.87,2,   39.81,2,    0.00,2,    2.80,2,   0.001,2,   0.002,2,   0.000,2,  -999.0,9,  2402.4,3,-999.000,9,-999.0000,9, -999.00,9, -999.00,9,  -999.0,9,  -999.0,-999.000,9,-999.000, -999.00,9, 2346.20,-999.0000,9,-999.0000,9,-999.0000,9,-999.0000,9,-999.0000,9,-999.0000,-999.000,-999.0000,9, -999.00
318M20040615,        P02,      71,          1,         10,         10,2,20040711,       1104,    30.0003,    171.353,       5421,  2599.2,   1.6473,  34.6458,2,  34.6467,2, 110.9000,2,   110.7,2,  159.63,2,   38.85,2,    0.00,2,    2.73,2,-999.000,9,-999.000,9,-999.000,9,  -999.0,9,  -999.0,9,-999.000,9,-999.0000,9, -999.00,9, -999.00,9,  -999.0,9,  -999.0,-999.000,9,-999.000, -999.00,9, 2599.20,-999.0000,9,-999.0000,9,-999.0000,9,-999.0000,9,-999.0000,9,-999.0000,-999.000,-999.0000,9, -999.00
318M20040615,        P02,      71,          1,          9,          9,2,20040711,       1104,    30.0003,    171.353,       5421,  2852.3,   1.5709,  34.6578,2,  34.6581,2, 121.3000,2,   121.4,2,  158.18,2,   38.11,2,    0.00,2,    2.67,2,   0.005,2,   0.002,2,  -0.001,2,  -999.0,9,  2418.8,2,-999.000,9,-999.0000,9, -999.00,9, -999.00,9,  -999.0,9,  -999.0,-999.000,9,-999.000, -999.00,9, 2852.30,-999.0000,9,-999.0000,9,-999.0000,9,-999.0000,9,-999.0000,9,-999.0000,-999.000,-999.0000,9, -999.00
318M20040615,        P02,      71,          1,          8,          8,2,20040711,       1104,    30.0003,    171.353,       5421,  3100.1,   1.5221,  34.6658,2,  34.6669,2, 128.9000,2,   129.0,2,  157.83,2,   37.50,2,    0.00,2,    2.63,2,   0.004,2,   0.002,2,   0.001,2,  -999.0,9,  2418.0,2,-999.000,9,-999.0000,9, -999.00,9, -999.00,9,  -999.0,9,  -999.0,-999.000,9,-999.000, -999.00,9, 3100.10,-999.0000,9,-999.0000,9,-999.0000,9,-999.0000,9,-999.0000,9,-999.0000,-999.000,-999.0000,9, -999.00
318M20040615,        P02,      71,          1,          7,          7,2,20040711,       1104,    30.0003,    171.353,       5421,  3500.4,   1.4808,  34.6752,2,  34.6754,2, 139.2000,2,   140.2,2,  154.32,2,   36.73,2,    0.00,2,    2.57,2,   0.004,2,   0.003,2,   0.000,2,  -999.0,9,  2417.3,2,-999.000,9,-999.0000,9, -999.00,9, -999.00,9,  -999.0,9,  -999.0,-999.000,9,-999.000, -999.00,9, 3500.40,-999.0000,9,-999.0000,9,-999.0000,9,-999.0000,9,-999.0000,9,-999.0000,-999.000,-999.0000,9, -999.00
318M20040615,        P02,      71,          1,          6,          6,2,20040711,       1104,    30.0003,    171.353,       5421,  3900.6,   1.4552,  34.6826,2,  34.6823,2, 148.5000,2,   149.5,2,  150.61,2,   35.95,2,    0.00,2,    2.52,2,   0.006,2,   0.005,2,   0.001,2,  -999.0,9,  2415.6,2,-999.000,9,-999.0000,9, -999.00,9, -999.00,9,  -999.0,9,  -999.0,-999.000,9,-999.000, -999.00,9, 3900.60,-999.0000,9,-999.0000,9,-999.0000,9,-999.0000,9,-999.0000,9,-999.0000,-999.000,-999.0000,9, -999.00
318M20040615,        P02,      71,          1,          5,          5,2,20040711,       1104,    30.0003,    171.353,       5421,  4200.8,   1.4514,  34.6863,2,  34.6864,2, 153.7000,2,   154.8,2,  148.46,2,   35.39,2,    0.00,2,    2.49,2,   0.004,2,   0.002,2,   0.001,2,  -999.0,9,  2415.5,6,-999.000,9,-999.0000,9, -999.00,9, -999.00,9,  -999.0,9,  -999.0,-999.000,9,-999.000, -999.00,9, 4200.80,-999.0000,9,-999.0000,9,-999.0000,9,-999.0000,9,-999.0000,9,-999.0000,-999.000,-999.0000,9, -999.00
318M20040615,        P02,      71,          1,          4,          4,2,20040711,       1104,    30.0003,    171.353,       5421,  4501.9,   1.4493,  34.6896,2,  34.6900,2, 160.0000,2,   160.9,2,  144.56,2,   35.16,2,    0.00,2,    2.46,2,   0.004,2,   0.003,2,   0.001,2,  -999.0,9,  2411.8,2,-999.000,9,-999.0000,9, -999.00,9, -999.00,9,  -999.0,9,  -999.0,-999.000,9,-999.000, -999.00,9, 4501.90,-999.0000,9,-999.0000,9,-999.0000,9,-999.0000,9,-999.0000,9,-999.0000,-999.000,-999.0000,9, -999.00
318M20040615,        P02,      71,          1,          3,          3,2,20040711,       1104,    30.0003,    171.353,       5421,  4801.1,   1.4527,  34.6925,2,  34.6933,2, 164.9000,2,   166.0,2,  140.82,2,   35.04,2,    0.00,2,    2.43,2,   0.003,2,   0.003,2,   0.000,2,  2310.0,2,  2409.1,2,-999.000,9,-999.0000,9, -999.00,9, -999.00,9,  -999.0,9,  -999.0,-999.000,9,-999.000, -999.00,9, 4801.10,-999.0000,9,-999.0000,9,-999.0000,9,-999.0000,9,-999.0000,9,-999.0000,-999.000,-999.0000,9, -999.00
318M20040615,        P02,      71,          1,          2,          2,2,20040711,       1104,    30.0003,    171.353,       5421,  5153.8,   1.4701,  34.6946,2,  34.6949,2, 169.6000,2,   169.9,2,  137.62,2,   34.92,2,    0.00,2,    2.41,2,   0.005,2,   0.001,2,   0.001,2,  2304.0,2,  2405.7,2,-999.000,9,-999.0000,9, -999.00,9, -999.00,9,  -999.0,9,  -999.0,-999.000,9,-999.000, -999.00,9, 5153.80,-999.0000,9,-999.0000,9,-999.0000,9,-999.0000,9,-999.0000,9,-999.0000,-999.000,-999.0000,9, -999.00
318M20040615,        P02,      71,          1,          1,          1,2,20040711,       1104,    30.0003,    171.353,       5421,  5530.8,   1.4824,  34.6971,2,  34.6983,2, 175.6000,2,   176.0,2,  133.37,2,   34.47,2,    0.00,2,    2.37,2,   0.005,2,   0.004,2,   0.000,2,  2299.6,6,  2401.2,6,-999.000,9,-999.0000,9, -999.00,9, -999.00,9,  -999.0,9,  -999.0,-999.000,9,-999.000, -999.00,9, 5530.80,-999.0000,9,-999.0000,9,-999.0000,9,-999.0000,9,-999.0000,9,-999.0000,-999.000,-999.0000,9, -999.00