BOTTLE,20131027SIOCCHRJL
EXPOCODE,SECT_ID,STNNBR,CASTNO,SAMPNO,BTLNBR,BTLNBR_FLAG_W,DATE,TIME,LATITUDE,LONGITUDE,DEPTH,CTDPRS,CTDTMP,CTDSAL,CTDSAL_FLAG_W,SALNTY,SALNTY_FLAG_W,CTDOXY,CTDOXY_FLAG_W,OXYGEN,OXYGEN_FLAG_W,SILCAT,SILCAT_FLAG_W,NITRAT,NITRAT_FLAG_W,NITRIT,NITRIT_FLAG_W,PHSPHT,PHSPHT_FLAG_W,CFC-11,CFC-11_FLAG_W,CFC-12,CFC-12_FLAG_W,CFC113,CFC113_FLAG_W,TCARBN,TCARBN_FLAG_W,ALKALI,ALKALI_FLAG_W,TRITUM,TRITUM_FLAG_W,HELIUM,HELIUM_FLAG_W,DELHE3,DELHE3_FLAG_W,DELC13,DELC13_FLAG_W,DELC14,DELC14_FLAG_W,C14ERR,NEON,NEON_FLAG_W,NEONER,DOC,DOC_FLAG_W,CTDRAW,CDOM380,CDOM380_FLAG_W,CDOM325,CDOM325_FLAG_W,CDOMSL,CDOMSL_FLAG_W,CDOM340,CDOM340_FLAG_W,CDOMSN,CDOMSN_FLAG_W,HELIER,TRITER,CDOM412,CDOM412_FLAG_W,DELHER
,,,,,,,,,,,METERS,DBAR,ITS-90,PSS-78,,PSS-78,,UMOL/KG,,UMOL/KG,,UMOL/KG,,UMOL/KG,,UMOL/KG,,UMOL/KG,,PMOL/KG,,PMOL/KG,,PMOL/KG,,UMOL/KG,,UMOL/KG,,TU,,NMOL/KG,,PERCNT,,/MILLE,,/MILLE,,/MILLE,NMOL/KG,,NMOL/KG,UMOL/KG,,DBAR,1/M,,1/M,,1/NM,,1/M,,1/NM,,NMOL/KG,TU,1/M,,PERCNT
318M20040615,        P02,     183,          1,         27,         27,2,20040826,       0248,     32.177,  -119.4217,       1606,     7.5,  17.9984,  33.3899,2,  33.3904,2, 255.6000,2,   255.4,2,    2.25,2,    0.31,2,    0.02,2,    0.26,2,-999.000,9,-999.000,9,-999.000,9,  1991.6,6,  -999.0,9,-999.000,9,-999.0000,9, -999.00,9, -999.00,9,  -999.0,9,  -999.0,-999.000,9,-999.000, -999.00,9,    7.50,-999.0000,9,-999.0000,9,-999.0000,9,-999.0000,9,-999.0000,9,-999.0000,-999.000,-999.0000,9, -999.00
318M20040615,        P02,     183,          1,         25,         25,2,20040826,       0248,     32.177,  -119.4217,       1606,    34.4,  16.4581,  33.3807,2,  33.3795,2, 250.2000,2,   250.8,2,    2.44,2,    1.67,2,    0.06,2,    0.40,2,   2.863,2,   1.706,2,   0.207,2,  -999.0,9,  -999.0,9,-999.000,9,-999.0000,9, -999.00,9, -999.00,9,  -999.0,9,  -999.0,-999.000,9,-999.000, -999.00,9,   34.40,-999.0000,9,-999.0000,9,-999.0000,9,-999.0000,9,-999.0000,9,-999.0000,-999.000,-999.0000,9, -999.00
318M20040615,        P02,     183,          1,         26,         26,9,20040826,       0248,     32.177,  -119.4217,       1606,    34.5,  16.4645,  33.3813,2,-999.0000,9, 250.2000,9,  -999.0,9, -999.00,9, -999.00,9, -999.00,9, -999.00,9,-999.000,9,-999.000,9,-999.000,9,  -999.0,9,  -999.0,9,-999.000,9,-999.0000,9, -999.00,9, -999.00,9,  -999.0,9,  -999.0,-999.000,9,-999.000, -999.00,9,   34.50,-999.0000,9,-999.0000,9,-999.0000,9,-999.0000,9,-999.0000,9,-999.0000,-999.000,-999.0000,9, -999.00
318M20040615,        P02,     183,          1,         24,         24,2,20040826,       0248,     32.177,  -119.4217,       1606,    69.7,  10.8233,  33.3528,2,  33.3525,2, 185.5000,2,   185.6,2,   12.40,2,   16.61,2,    0.05,2,    1.37,2,-999.000,9,-999.000,9,-999.000,9,  -999.0,9,  -999.0,9,-999.000,9,-999.0000,9, -999.00,9, -999.00,9,  -999.0,9,  -999.0,-999.000,9,-999.000, -999.00,9,   69.70,-999.0000,9,-999.0000,9,-999.0000,9,-999.0000,9,-999.0000,9,-999.0000,-999.000,-999.0000,9, -999.00
318M20040615,        P02,     183,          1,         23,         23,2,20040826,       0248,     32.177,  -119.4217,       1606,    94.0,   9.8315,  33.5729,2,  33.5888,2, 148.6000,2,   149.9,2,   20.97,2,   22.24,2,    0.01,2,    1.73,2,   3.469,2,   1.918,2,   0.174,2,  -999.0,9,  -999.0,9,-999.000,9,-999.0000,9, -999.00,9, -999.00,9,  -999.0,9,  -999.0,-999.000,9,-999.000, -999.00,9,   94.00,-999.0000,9,-999.0000,9,-999.0000,9,-999.0000,9,-999.0000,9,-999.0000,-999.000,-999.0000,9, -999.00
318M20040615,        P02,     183,          1,         22,         22,2,20040826,       0248,     32.177,  -119.4217,       1606,   118.8,   9.2648,  33.8036,2,  33.8081,2, 125.6000,2,   125.1,2,   26.15,2,   24.99,2,    0.01,2,    1.90,2,-999.000,9,-999.000,9,-999.000,9,  -999.0,9,  -999.0,9,-999.000,9,-999.0000,9, -999.00,9, -999.00,9,  -999.0,9,  -999.0,-999.000,9,-999.000, -999.00,9,  118.80,-999.0000,9,-999.0000,9,-999.0000,9,-999.0000,9,-999.0000,9,-999.0000,-999.000,-999.0000,9, -999.00
318M20040615,        P02,     183,          1,         21,         21,2,20040826,       0248,     32.177,  -119.4217,       1606,   144.2,   9.1267,  33.9526,2,  33.9645,2, 109.5000,2,   109.9,2,   29.74,2,   26.44,2,    0.01,2,    2.01,2,   2.847,2,   1.524,2,   0.113,2,  -999.0,9,  -999.0,9,-999.000,9,-999.0000,9, -999.00,9, -999.00,9,  -999.0,9,  -999.0,-999.000,9,-999.000, -999.00,9,  144.20,-999.0000,9,-999.0000,9,-999.0000,9,-999.0000,9,-999.0000,9,-999.0000,-999.000,-999.0000,9, -999.00
318M20040615,        P02,     183,          1,         20,         20,2,20040826,       0248,     32.177,  -119.4217,       1606,   169.0,   8.9162,  34.0422,2,  34.0519,2,  96.7000,2,    97.2,2,   33.34,2,   27.80,2,    0.01,2,    2.11,2,-999.000,9,-999.000,9,-999.000,9,  -999.0,9,  -999.0,9,-999.000,9,-999.0000,9, -999.00,9, -999.00,9,  -999.0,9,  -999.0,-999.000,9,-999.000, -999.00,9,  169.00,-999.0000,9,-999.0000,9,-999.0000,9,-999.0000,9,-999.0000,9,-999.0000,-999.000,-999.0000,9, -999.00
318M20040615,        P02,     183,          1,         19,         19,2,20040826,       0248,     32.177,  -119.4217,       1606,   199.1,   8.4042,  34.1193,2,  34.1189,2,  80.2000,2,    81.9,2,   39.34,2,   29.84,2,    0.01,2,    2.28,2,   2.096,2,   1.088,2,   0.076,2,  -999.0,9,  -999.0,9,-999.000,9,-999.0000,9, -999.00,9, -999.00,9,  -999.0,9,  -999.0,-999.000,9,-999.000, -999.00,9,  199.10,-999.0000,9,-999.0000,9,-999.0000,9,-999.0000,9,-999.0000,9,-999.0000,-999.000,-999.0000,9, -999.00
318M20040615,        P02,     183,          1,         18,         18,2,20040826,       0248,     32.177,  -119.4217,       1606,   223.8,   8.1230,  34.1397,2,  34.1405,2,  72.8000,2,    73.5,2,   42.75,2,   30.84,2,    0.01,2,    2.38,2,-999.000,9,-999.000,9,-999.000,9,  -999.0,9,  -999.0,9,-999.000,9,-999.0000,9, -999.00,9, -999.00,9,  -999.0,9,  -999.0,-999.000,9,-999.000, -999.00,9,  223.80,-999.0000,9,-999.0000,9,-999.0000,9,-999.0000,9,-999.0000,9,-999.0000,-999.000,-999.0000,9, -999.00
318M20040615,        P02,     183,          1,         17,         17,2,20040826,       0248,     32.177,  -119.4217,       1606,   273.1,   7.5885,  34.1911,2,  34.1909,2,  54.4000,2,    52.9,2,   50.79,2,   33.07,2,    0.01,2,    2.59,2,   1.242,2,   0.634,2,   0.033,2,  -999.0,9,  -999.0,9,-999.000,9,-999.0000,9, -999.00,9, -999.00,9,  -999.0,9,  -999.0,-999.000,9,-999.000, -999.00,9,  273.10,-999.0000,9,-999.0000,9,-999.0000,9,-999.0000,9,-999.0000,9,-999.0000,-999.000,-999.0000,9, -999.00
318M20040615,        P02,     183,          1,         16,         16,2,20040826,       0248,     32.177,  -119.4217,       1606,   322.2,   7.3113,  34.2444,2,  34.2432,2,  36.3000,2,    36.3,2,   56.63,2,   34.56,2,    0.01,2,    2.76,2,-999.000,9,-999.000,9,-999.000,9,  -999.0,9,  -999.0,9,-999.000,9,-999.0000,9, -999.00,9, -999.00,9,  -999.0,9,  -999.0,-999.000,9,-999.000, -999.00,9,  322.20,-999.0000,9,-999.0000,9,-999.0000,9,-999.0000,9,-999.0000,9,-999.0000,-999.000,-999.0000,9, -999.00
318M20040615,        P02,     183,          1,         15,         15,2,20040826,       0248,     32.177,  -119.4217,       1606,   372.6,   6.9120,  34.2636,2,  34.2636,2,  29.0000,2,    27.4,2,   62.48,2,   36.27,2,    0.01,2,    2.88,2,   0.538,2,   0.265,2,   0.015,2,  -999.0,9,  -999.0,9,-999.000,9,-999.0000,9, -999.00,9, -999.00,9,  -999.0,9,  -999.0,-999.000,9,-999.000, -999.00,9,  372.60,-999.0000,9,-999.0000,9,-999.0000,9,-999.0000,9,-999.0000,9,-999.0000,-999.000,-999.0000,9, -999.00
318M20040615,        P02,     183,          1,         14,         14,2,20040826,       0248,     32.177,  -119.4217,       1606,   428.3,   6.6717,  34.2936,2,  34.2931,2,  21.2000,2,    20.0,2,   67.73,2,   37.51,2,    0.00,2,    2.97,2,-999.000,9,-999.000,9,-999.000,9,  -999.0,9,  -999.0,9,-999.000,9,-999.0000,9, -999.00,9, -999.00,9,  -999.0,9,  -999.0,-999.000,9,-999.000, -999.00,9,  428.30,-999.0000,9,-999.0000,9,-999.0000,9,-999.0000,9,-999.0000,9,-999.0000,-999.000,-999.0000,9, -999.00
318M20040615,        P02,     183,          1,         13,         13,2,20040826,       0248,     32.177,  -119.4217,       1606,   475.9,   6.4633,  34.3104,2,  34.3074,2,  16.4000,2,    15.6,2,   71.57,2,   38.26,2,    0.00,2,    3.02,2,   0.367,2,   0.185,2,   0.006,2,  -999.0,9,  -999.0,9,-999.000,9,-999.0000,9, -999.00,9, -999.00,9,  -999.0,9,  -999.0,-999.000,9,-999.000, -999.00,9,  475.90,-999.0000,9,-999.0000,9,-999.0000,9,-999.0000,9,-999.0000,9,-999.0000,-999.000,-999.0000,9, -999.00
318M20040615,        P02,     183,          1,         12,         12,2,20040826,       0248,     32.177,  -119.4217,       1606,   545.5,   6.1234,  34.3314,2,  34.3282,2,  12.9000,2,    12.5,2,   77.45,2,   39.23,2,    0.00,2,    3.09,2,   0.244,2,   0.127,2,   0.005,2,  -999.0,9,  -999.0,9,-999.000,9,-999.0000,9, -999.00,9, -999.00,9,  -999.0,9,  -999.0,-999.000,9,-999.000, -999.00,9,  545.50,-999.0000,9,-999.0000,9,-999.0000,9,-999.0000,9,-999.0000,9,-999.0000,-999.000,-999.0000,9, -999.00
318M20040615,        P02,     183,          1,         11,         11,2,20040826,       0248,     32.177,  -119.4217,       1606,   651.5,   5.6157,  34.3601,2,  34.3570,2,   9.9000,2,    10.0,2,   85.97,2,   40.69,2,    0.00,2,    3.16,2,   0.119,2,   0.064,2,   0.000,2,  -999.0,9,  -999.0,9,-999.000,9,-999.0000,9, -999.00,9, -999.00,9,  -999.0,9,  -999.0,-999.000,9,-999.000, -999.00,9,  651.50,-999.0000,9,-999.0000,9,-999.0000,9,-999.0000,9,-999.0000,9,-999.0000,-999.000,-999.0000,9, -999.00
318M20040615,        P02,     183,          1,         10,         10,2,20040826,       0248,     32.177,  -119.4217,       1606,   749.2,   5.0170,  34.4048,2,  34.4012,2,  10.8000,2,    11.5,2,   97.39,2,   41.78,2,    0.00,2,    3.20,2,-999.000,9,-999.000,9,-999.000,9,  -999.0,9,  -999.0,9,-999.000,9,-999.0000,9, -999.00,9, -999.00,9,  -999.0,9,  -999.0,-999.000,9,-999.000, -999.00,9,  749.20,-999.0000,9,-999.0000,9,-999.0000,9,-999.0000,9,-999.0000,9,-999.0000,-999.000,-999.0000,9, -999.00
318M20040615,        P02,     183,          1,          9,          9,2,20040826,       0248,     32.177,  -119.4217,       1606,   846.8,   4.6412,  34.4325,2,  34.4300,2,  13.0000,2,    13.8,2,  105.17,2,   42.48,2,    0.00,2,    3.22,2,-999.000,9,-999.000,9,-999.000,9,  -999.0,9,  -999.0,9,-999.000,9,-999.0000,9, -999.00,9, -999.00,9,  -999.0,9,  -999.0,-999.000,9,-999.000, -999.00,9,  846.80,-999.0000,9,-999.0000,9,-999.0000,9,-999.0000,9,-999.0000,9,-999.0000,-999.000,-999.0000,9, -999.00
318M20040615,        P02,     183,          1,         37,         37,2,20040826,       0248,     32.177,  -119.4217,       1606,   943.5,   4.2661,  34.4607,2,  34.4583,2,  17.3000,2,    17.9,2,  111.94,2,   42.92,2,    0.00,2,    3.22,2,   0.069,6,   0.047,6,   0.008,6,  -999.0,9,  -999.0,9,-999.000,9,-999.0000,9, -999.00,9, -999.00,9,  -999.0,9,  -999.0,-999.000,9,-999.000, -999.00,9,  943.50,-999.0000,9,-999.0000,9,-999.0000,9,-999.0000,9,-999.0000,9,-999.0000,-999.000,-999.0000,9, -999.00
318M20040615,        P02,     183,          1,          7,          7,2,20040826,       0248,     32.177,  -119.4217,       1606,  1052.5,   4.0346,  34.4835,2,  34.4807,2,  21.5000,2,    22.2,2,  115.85,2,   43.14,2,    0.00,2,    3.21,2,   0.118,2,   0.074,2,   0.011,2,  -999.0,9,  -999.0,9,-999.000,9,-999.0000,9, -999.00,9, -999.00,9,  -999.0,9,  -999.0,-999.000,9,-999.000, -999.00,9, 1052.50,-999.0000,9,-999.0000,9,-999.0000,9,-999.0000,9,-999.0000,9,-999.0000,-999.000,-999.0000,9, -999.00
318M20040615,        P02,     183,          1,          6,          6,2,20040826,       0248,     32.177,  -119.4217,       1606,  1153.2,   3.6880,  34.5039,2,  34.5023,2,  27.8000,2,    27.9,2,  126.16,2,   43.19,2,    0.00,2,    3.18,2,   0.058,2,   0.055,2,   0.036,2,  -999.0,9,  -999.0,9,-999.000,9,-999.0000,9, -999.00,9, -999.00,9,  -999.0,9,  -999.0,-999.000,9,-999.000, -999.00,9, 1153.20,-999.0000,9,-999.0000,9,-999.0000,9,-999.0000,9,-999.0000,9,-999.0000,-999.000,-999.0000,9, -999.00
318M20040615,        P02,     183,          1,          5,          5,2,20040826,       0248,     32.177,  -119.4217,       1606,  1252.4,   3.4303,  34.5243,2,  34.5215,2,  33.1000,2,    33.5,2,  131.95,2,   43.25,2,    0.00,2,    3.16,2,   0.080,2,   0.073,2,   0.044,2,  -999.0,9,  -999.0,9,-999.000,9,-999.0000,9, -999.00,9, -999.00,9,  -999.0,9,  -999.0,-999.000,9,-999.000, -999.00,9, 1252.40,-999.0000,9,-999.0000,9,-999.0000,9,-999.0000,9,-999.0000,9,-999.0000,-999.000,-999.0000,9, -999.00
318M20040615,        P02,     183,          1,          4,          4,2,20040826,       0248,     32.177,  -119.4217,       1606,  1351.8,   3.0879,  34.5513,2,  34.5510,2,  41.3000,2,    42.1,2,  140.02,2,   43.02,2,    0.00,2,    3.11,2,   0.078,2,   0.069,2,   0.016,2,  -999.0,9,  -999.0,9,-999.000,9,-999.0000,9, -999.00,9, -999.00,9,  -999.0,9,  -999.0,-999.000,9,-999.000, -999.00,9, 1351.80,-999.0000,9,-999.0000,9,-999.0000,9,-999.0000,9,-999.0000,9,-999.0000,-999.000,-999.0000,9, -999.00
318M20040615,        P02,     183,          1,          3,          3,2,20040826,       0248,     32.177,  -119.4217,       1606,  1458.2,   2.8435,  34.5688,2,  34.5686,2,  48.3000,2,    49.0,2,  145.42,2,   42.64,2,    0.00,2,    3.08,2,   0.052,2,   0.047,2,   0.023,2,  -999.0,9,  -999.0,9,-999.000,9,-999.0000,9, -999.00,9, -999.00,9,  -999.0,9,  -999.0,-999.000,9,-999.000, -999.00,9, 1458.20,-999.0000,9,-999.0000,9,-999.0000,9,-999.0000,9,-999.0000,9,-999.0000,-999.000,-999.0000,9, -999.00
318M20040615,        P02,     183,          1,          2,          2,2,20040826,       0248,     32.177,  -119.4217,       1606,  1554.8,   2.7872,  34.5730,2,  34.5732,2,  51.5000,2,    51.1,2,  147.07,2,   42.47,2,    0.00,2,    3.06,2,   0.063,2,   0.054,2,   0.010,2,  -999.0,9,  -999.0,9,-999.000,9,-999.0000,9, -999.00,9, -999.00,9,  -999.0,9,  -999.0,-999.000,9,-999.000, -999.00,9, 1554.80,-999.0000,9,-999.0000,9,-999.0000,9,-999.0000,9,-999.0000,9,-999.0000,-999.000,-999.0000,9, -999.00
318M20040615,        P02,     183,          1,          1,          1,2,20040826,       0248,     32.177,  -119.4217,       1606,  1619.4,   2.7397,  34.5772,2,  34.5789,2,  53.2000,2,    53.2,2,  147.89,2,   42.19,2,    0.00,2,    3.05,2,   0.046,2,   0.045,2,   0.009,2,  -999.0,9,  -999.0,9,-999.000,9,-999.0000,9, -999.00,9, -999.00,9,  -999.0,9,  -999.0,-999.000,9,-999.000, -999.00,9, 1619.40,-999.0000,9,-999.0000,9,-999.0000,9,-999.0000,9,-999.0000,9,-999.0000,-999.000,-999.0000,9, -999.00