BOTTLE,20131027SIOCCHRJL
EXPOCODE,SECT_ID,STNNBR,CASTNO,SAMPNO,BTLNBR,BTLNBR_FLAG_W,DATE,TIME,LATITUDE,LONGITUDE,DEPTH,CTDPRS,CTDTMP,CTDSAL,CTDSAL_FLAG_W,SALNTY,SALNTY_FLAG_W,CTDOXY,CTDOXY_FLAG_W,OXYGEN,OXYGEN_FLAG_W,SILCAT,SILCAT_FLAG_W,NITRAT,NITRAT_FLAG_W,NITRIT,NITRIT_FLAG_W,PHSPHT,PHSPHT_FLAG_W,CFC-11,CFC-11_FLAG_W,CFC-12,CFC-12_FLAG_W,CFC113,CFC113_FLAG_W,TCARBN,TCARBN_FLAG_W,ALKALI,ALKALI_FLAG_W,TRITUM,TRITUM_FLAG_W,HELIUM,HELIUM_FLAG_W,DELHE3,DELHE3_FLAG_W,DELC13,DELC13_FLAG_W,DELC14,DELC14_FLAG_W,C14ERR,NEON,NEON_FLAG_W,NEONER,DOC,DOC_FLAG_W,CTDRAW,CDOM380,CDOM380_FLAG_W,CDOM325,CDOM325_FLAG_W,CDOMSL,CDOMSL_FLAG_W,CDOM340,CDOM340_FLAG_W,CDOMSN,CDOMSN_FLAG_W,HELIER,TRITER,CDOM412,CDOM412_FLAG_W,DELHER
,,,,,,,,,,,METERS,DBAR,ITS-90,PSS-78,,PSS-78,,UMOL/KG,,UMOL/KG,,UMOL/KG,,UMOL/KG,,UMOL/KG,,UMOL/KG,,PMOL/KG,,PMOL/KG,,PMOL/KG,,UMOL/KG,,UMOL/KG,,TU,,NMOL/KG,,PERCNT,,/MILLE,,/MILLE,,/MILLE,NMOL/KG,,NMOL/KG,UMOL/KG,,DBAR,1/M,,1/M,,1/NM,,1/M,,1/NM,,NMOL/KG,TU,1/M,,PERCNT
318M20040615,        P02,      53,          1,         36,         36,2,20040705,       0759,    29.9937,    159.094,       5736,     9.6,  27.2287,  35.2093,2,  35.2117,2, 202.9000,2,   202.1,2,    1.15,2,    0.03,2,    0.00,2,    0.01,2,   1.686,2,   1.072,2,   0.122,2,  1988.2,6,  2311.2,6,-999.000,9,-999.0000,9, -999.00,9, -999.00,9,  -999.0,9,  -999.0,-999.000,9,-999.000, -999.00,9,    9.60,-999.0000,9,-999.0000,9,-999.0000,9,-999.0000,9,-999.0000,9,-999.0000,-999.000,-999.0000,9, -999.00
318M20040615,        P02,      53,          1,         35,         35,2,20040705,       0759,    29.9937,    159.094,       5736,    37.0,  24.1616,  35.2016,2,  35.2103,2, 225.3000,2,   223.8,2,    1.14,2,    0.03,2,    0.00,2,    0.01,2,   1.990,2,   1.218,2,   0.137,2,  1987.1,2,  2315.5,3,-999.000,9,-999.0000,9, -999.00,9, -999.00,9,  -999.0,9,  -999.0,-999.000,9,-999.000, -999.00,9,   37.00,-999.0000,9,-999.0000,9,-999.0000,9,-999.0000,9,-999.0000,9,-999.0000,-999.000,-999.0000,9, -999.00
318M20040615,        P02,      53,          1,         34,         34,2,20040705,       0759,    29.9937,    159.094,       5736,    71.0,  20.6927,  35.0865,2,  35.0856,2, 228.2000,2,   228.6,2,    1.50,2,    0.03,2,    0.00,2,    0.02,2,   2.223,2,   1.349,2,   0.146,2,  1998.2,2,  2303.9,2,-999.000,9,-999.0000,9, -999.00,9, -999.00,9,  -999.0,9,  -999.0,-999.000,9,-999.000, -999.00,9,   71.00,-999.0000,9,-999.0000,9,-999.0000,9,-999.0000,9,-999.0000,9,-999.0000,-999.000,-999.0000,9, -999.00
318M20040615,        P02,      53,          1,         33,         33,2,20040705,       0759,    29.9937,    159.094,       5736,   119.7,  18.4103,  34.8830,2,  34.8841,2, 227.0000,2,   229.4,2,    1.67,2,    0.09,2,    0.04,2,    0.06,2,   2.385,2,   1.421,2,   0.157,2,  2005.0,2,  2287.2,6,-999.000,9,-999.0000,9, -999.00,9, -999.00,9,  -999.0,9,  -999.0,-999.000,9,-999.000, -999.00,9,  119.70,-999.0000,9,-999.0000,9,-999.0000,9,-999.0000,9,-999.0000,9,-999.0000,-999.000,-999.0000,9, -999.00
318M20040615,        P02,      53,          1,         32,         32,2,20040705,       0759,    29.9937,    159.094,       5736,   174.4,  17.7083,  34.8174,2,  34.8186,2, 219.4000,2,   220.4,2,    2.39,2,    2.48,2,    0.02,2,    0.19,2,   2.428,2,   1.450,2,   0.137,2,  2016.0,2,  2285.5,2,-999.000,9,-999.0000,9, -999.00,9, -999.00,9,  -999.0,9,  -999.0,-999.000,9,-999.000, -999.00,9,  174.40,-999.0000,9,-999.0000,9,-999.0000,9,-999.0000,9,-999.0000,9,-999.0000,-999.000,-999.0000,9, -999.00
318M20040615,        P02,      53,          1,         31,         31,2,20040705,       0759,    29.9937,    159.094,       5736,   222.9,  17.0124,  34.7885,2,  34.7881,2, 221.8000,2,   225.4,2,    2.55,2,    3.02,2,    0.01,2,    0.22,2,   2.512,2,   1.496,2,   0.157,2,  2019.0,2,  2283.2,2,-999.000,9,-999.0000,9, -999.00,9, -999.00,9,  -999.0,9,  -999.0,-999.000,9,-999.000, -999.00,9,  222.90,-999.0000,9,-999.0000,9,-999.0000,9,-999.0000,9,-999.0000,9,-999.0000,-999.000,-999.0000,9, -999.00
318M20040615,        P02,      53,          1,         30,         30,2,20040705,       0759,    29.9937,    159.094,       5736,   271.8,  16.6800,  34.7585,2,  34.7571,2, 224.3000,2,   221.4,2,    3.64,2,    4.29,2,    0.01,2,    0.30,2,   2.484,2,   1.476,2,   0.114,2,  2027.0,2,  2281.6,2,-999.000,9,-999.0000,9, -999.00,9, -999.00,9,  -999.0,9,  -999.0,-999.000,9,-999.000, -999.00,9,  271.80,-999.0000,9,-999.0000,9,-999.0000,9,-999.0000,9,-999.0000,9,-999.0000,-999.000,-999.0000,9, -999.00
318M20040615,        P02,      53,          1,         29,         29,2,20040705,       0759,    29.9937,    159.094,       5736,   320.3,  16.0518,  34.6976,2,  34.6977,2, 216.0000,2,   213.9,2,    5.44,2,    5.83,2,    0.01,2,    0.40,2,   2.558,2,   1.501,2,   0.088,2,  2039.3,2,  2280.9,2,-999.000,9,-999.0000,9, -999.00,9, -999.00,9,  -999.0,9,  -999.0,-999.000,9,-999.000, -999.00,9,  320.30,-999.0000,9,-999.0000,9,-999.0000,9,-999.0000,9,-999.0000,9,-999.0000,-999.000,-999.0000,9, -999.00
318M20040615,        P02,      53,          1,         28,         28,2,20040705,       0759,    29.9937,    159.094,       5736,   369.7,  15.2264,  34.6212,2,  34.6203,2, 222.5000,2,   206.3,2,    7.79,2,    7.68,2,    0.00,2,    0.54,2,   2.588,2,   1.462,2,   0.062,2,  2053.2,2,  2277.4,2,-999.000,9,-999.0000,9, -999.00,9, -999.00,9,  -999.0,9,  -999.0,-999.000,9,-999.000, -999.00,9,  369.70,-999.0000,9,-999.0000,9,-999.0000,9,-999.0000,9,-999.0000,9,-999.0000,-999.000,-999.0000,9, -999.00
318M20040615,        P02,      53,          1,         27,         27,2,20040705,       0759,    29.9937,    159.094,       5736,   424.1,  13.9632,  34.5055,2,  34.5062,2, 202.1000,2,   203.9,2,   10.14,2,    9.70,2,    0.00,2,    0.67,2,   2.721,2,   1.539,2,   0.046,2,  -999.0,9,  -999.0,9,-999.000,9,-999.0000,9, -999.00,9, -999.00,9,  -999.0,9,  -999.0,-999.000,9,-999.000, -999.00,9,  424.10,-999.0000,9,-999.0000,9,-999.0000,9,-999.0000,9,-999.0000,9,-999.0000,-999.000,-999.0000,9, -999.00
318M20040615,        P02,      53,          1,         26,         26,2,20040705,       0759,    29.9937,    159.094,       5736,   471.5,  13.0646,  34.4530,2,  34.4563,2, 194.9000,2,   193.8,2,   15.22,2,   12.20,2,    0.00,2,    0.86,2,   2.633,2,   1.472,2,   0.059,2,  -999.0,9,  -999.0,9,-999.000,9,-999.0000,9, -999.00,9, -999.00,9,  -999.0,9,  -999.0,-999.000,9,-999.000, -999.00,9,  471.50,-999.0000,9,-999.0000,9,-999.0000,9,-999.0000,9,-999.0000,9,-999.0000,-999.000,-999.0000,9, -999.00
318M20040615,        P02,      53,          1,         25,         25,2,20040705,       0759,    29.9937,    159.094,       5736,   542.8,  10.9042,  34.2811,2,  34.2844,2, 197.4000,2,   196.4,2,   20.49,2,   15.46,2,    0.00,2,    1.10,2,   2.854,2,   1.524,2,   0.076,2,  2109.1,2,  2271.0,6,-999.000,9,-999.0000,9, -999.00,9, -999.00,9,  -999.0,9,  -999.0,-999.000,9,-999.000, -999.00,9,  542.80,-999.0000,9,-999.0000,9,-999.0000,9,-999.0000,9,-999.0000,9,-999.0000,-999.000,-999.0000,9, -999.00
318M20040615,        P02,      53,          1,         24,         24,2,20040705,       0759,    29.9937,    159.094,       5736,   649.3,   8.2113,  34.0937,2,  34.0942,2, 178.1000,2,   176.8,2,   37.44,2,   22.03,2,    0.00,2,    1.60,2,   2.579,2,   1.387,2,   0.113,2,  -999.0,9,  -999.0,9,-999.000,9,-999.0000,9, -999.00,9, -999.00,9,  -999.0,9,  -999.0,-999.000,9,-999.000, -999.00,9,  649.30,-999.0000,9,-999.0000,9,-999.0000,9,-999.0000,9,-999.0000,9,-999.0000,-999.000,-999.0000,9, -999.00
318M20040615,        P02,      53,          1,         23,         23,2,20040705,       0759,    29.9937,    159.094,       5736,   747.5,   5.6619,  33.9697,2,  33.9692,2, 140.9000,2,   144.6,2,   60.86,2,   29.53,2,    0.00,2,    2.18,2,   2.440,2,   1.278,2,   0.127,2,  -999.0,9,  -999.0,9,-999.000,9,-999.0000,9, -999.00,9, -999.00,9,  -999.0,9,  -999.0,-999.000,9,-999.000, -999.00,9,  747.50,-999.0000,9,-999.0000,9,-999.0000,9,-999.0000,9,-999.0000,9,-999.0000,-999.000,-999.0000,9, -999.00
318M20040615,        P02,      53,          1,         22,         22,2,20040705,       0759,    29.9937,    159.094,       5736,   845.6,   4.8677,  34.0760,2,  34.0739,2,  89.9000,2,    92.1,2,   83.47,2,   35.61,2,    0.00,2,    2.60,2,   1.498,2,   0.764,2,   0.077,2,  2273.0,2,  2311.1,2,-999.000,9,-999.0000,9, -999.00,9, -999.00,9,  -999.0,9,  -999.0,-999.000,9,-999.000, -999.00,9,  845.60,-999.0000,9,-999.0000,9,-999.0000,9,-999.0000,9,-999.0000,9,-999.0000,-999.000,-999.0000,9, -999.00
318M20040615,        P02,      53,          1,         21,         21,2,20040705,       0759,    29.9937,    159.094,       5736,   943.3,   4.2768,  34.1903,2,  34.1887,2,  59.4000,2,    59.3,2,  102.84,2,   39.32,2,    0.00,2,    2.86,2,   0.741,2,   0.379,2,   0.024,2,  -999.0,9,  -999.0,9,-999.000,9,-999.0000,9, -999.00,9, -999.00,9,  -999.0,9,  -999.0,-999.000,9,-999.000, -999.00,9,  943.30,-999.0000,9,-999.0000,9,-999.0000,9,-999.0000,9,-999.0000,9,-999.0000,-999.000,-999.0000,9, -999.00
318M20040615,        P02,      53,          1,         20,         20,2,20040705,       0759,    29.9937,    159.094,       5736,  1042.6,   3.7972,  34.2742,2,  34.2709,2,  48.3000,2,    46.2,2,  117.22,2,   40.96,2,    0.00,2,    2.97,2,   0.408,2,   0.207,2,   0.012,2,  -999.0,9,  -999.0,9,-999.000,9,-999.0000,9, -999.00,9, -999.00,9,  -999.0,9,  -999.0,-999.000,9,-999.000, -999.00,9, 1042.60,-999.0000,9,-999.0000,9,-999.0000,9,-999.0000,9,-999.0000,9,-999.0000,-999.000,-999.0000,9, -999.00
318M20040615,        P02,      53,          1,         19,         19,2,20040705,       0759,    29.9937,    159.094,       5736,  1144.9,   3.4044,  34.3411,2,  34.3372,2,  41.5000,2,    40.7,2,  128.71,2,   41.95,2,    0.00,2,    3.03,2,   0.224,2,   0.118,2,   0.005,2,  2350.5,2,  2363.5,2,-999.000,9,-999.0000,9, -999.00,9, -999.00,9,  -999.0,9,  -999.0,-999.000,9,-999.000, -999.00,9, 1144.90,-999.0000,9,-999.0000,9,-999.0000,9,-999.0000,9,-999.0000,9,-999.0000,-999.000,-999.0000,9, -999.00
318M20040615,        P02,      53,          1,         18,         18,2,20040705,       0759,    29.9937,    159.094,       5736,  1242.1,   3.1141,  34.3977,2,  34.3963,2,  34.1000,2,    34.3,2,  137.03,2,   43.14,2,    0.00,2,    3.10,2,   0.076,2,   0.040,2,   0.003,2,  -999.0,9,  -999.0,9,-999.000,9,-999.0000,9, -999.00,9, -999.00,9,  -999.0,9,  -999.0,-999.000,9,-999.000, -999.00,9, 1242.10,-999.0000,9,-999.0000,9,-999.0000,9,-999.0000,9,-999.0000,9,-999.0000,-999.000,-999.0000,9, -999.00
318M20040615,        P02,      53,          1,         17,         17,2,20040705,       0759,    29.9937,    159.094,       5736,  1335.8,   2.9249,  34.4337,2,  34.4339,2,  34.1000,2,    33.8,2,  142.79,2,   43.43,2,    0.00,2,    3.10,2,   0.040,6,   0.020,6,   0.002,6,  2370.6,2,  2381.3,2,-999.000,9,-999.0000,9, -999.00,9, -999.00,9,  -999.0,9,  -999.0,-999.000,9,-999.000, -999.00,9, 1335.80,-999.0000,9,-999.0000,9,-999.0000,9,-999.0000,9,-999.0000,9,-999.0000,-999.000,-999.0000,9, -999.00
318M20040615,        P02,      53,          1,         16,         16,2,20040705,       0759,    29.9937,    159.094,       5736,  1433.5,   2.7180,  34.4709,2,  34.4710,2,  36.5000,2,    37.5,2,  148.15,2,   43.25,2,    0.00,2,    3.09,2,   0.024,2,   0.013,2,  -0.001,2,  -999.0,9,  -999.0,9,-999.000,9,-999.0000,9, -999.00,9, -999.00,9,  -999.0,9,  -999.0,-999.000,9,-999.000, -999.00,9, 1433.50,-999.0000,9,-999.0000,9,-999.0000,9,-999.0000,9,-999.0000,9,-999.0000,-999.000,-999.0000,9, -999.00
318M20040615,        P02,      53,          1,         15,         15,2,20040705,       0759,    29.9937,    159.094,       5736,  1535.1,   2.5553,  34.5060,2,  34.5062,2,  44.5000,2,    44.7,2,  151.67,2,   42.85,2,    0.00,2,    3.06,2,   0.012,2,   0.007,2,   0.003,2,  2374.8,2,  2395.2,2,-999.000,9,-999.0000,9, -999.00,9, -999.00,9,  -999.0,9,  -999.0,-999.000,9,-999.000, -999.00,9, 1535.10,-999.0000,9,-999.0000,9,-999.0000,9,-999.0000,9,-999.0000,9,-999.0000,-999.000,-999.0000,9, -999.00
318M20040615,        P02,      53,          1,         14,         14,2,20040705,       0759,    29.9937,    159.094,       5736,  1738.5,   2.2746,  34.5509,2,  34.5512,2,  56.0000,2,    57.4,2,  157.05,2,   42.05,2,    0.00,2,    2.99,2,   0.008,2,   0.003,2,   0.001,2,  -999.0,9,  -999.0,9,-999.000,9,-999.0000,9, -999.00,9, -999.00,9,  -999.0,9,  -999.0,-999.000,9,-999.000, -999.00,9, 1738.50,-999.0000,9,-999.0000,9,-999.0000,9,-999.0000,9,-999.0000,9,-999.0000,-999.000,-999.0000,9, -999.00
318M20040615,        P02,      53,          1,         13,         13,2,20040705,       0759,    29.9937,    159.094,       5736,  1936.8,   2.0367,  34.5838,2,  34.5844,2,  72.1000,2,    68.7,2,  161.89,2,   41.36,2,    0.00,2,    2.94,2,   0.006,2,   0.004,2,   0.000,2,  -999.0,9,  2410.9,2,-999.000,9,-999.0000,9, -999.00,9, -999.00,9,  -999.0,9,  -999.0,-999.000,9,-999.000, -999.00,9, 1936.80,-999.0000,9,-999.0000,9,-999.0000,9,-999.0000,9,-999.0000,9,-999.0000,-999.000,-999.0000,9, -999.00
318M20040615,        P02,      53,          1,         12,         12,2,20040705,       0759,    29.9937,    159.094,       5736,  2096.2,   1.9150,  34.6042,2,  34.6050,2,  79.6000,2,    80.8,2,  162.27,2,   40.58,2,    0.00,2,    2.88,2,   0.004,2,   0.000,2,   0.002,2,  -999.0,9,  -999.0,9,-999.000,9,-999.0000,9, -999.00,9, -999.00,9,  -999.0,9,  -999.0,-999.000,9,-999.000, -999.00,9, 2096.20,-999.0000,9,-999.0000,9,-999.0000,9,-999.0000,9,-999.0000,9,-999.0000,-999.000,-999.0000,9, -999.00
318M20040615,        P02,      53,          1,         11,         11,2,20040705,       0759,    29.9937,    159.094,       5736,  2344.5,   1.7677,  34.6292,2,  34.6293,2,  97.6000,2,    99.5,2,  159.82,2,   39.38,2,    0.00,2,    2.79,2,   0.002,2,  -0.001,2,   0.000,2,  -999.0,9,  2415.5,2,-999.000,9,-999.0000,9, -999.00,9, -999.00,9,  -999.0,9,  -999.0,-999.000,9,-999.000, -999.00,9, 2344.50,-999.0000,9,-999.0000,9,-999.0000,9,-999.0000,9,-999.0000,9,-999.0000,-999.000,-999.0000,9, -999.00
318M20040615,        P02,      53,          1,         10,         10,2,20040705,       0759,    29.9937,    159.094,       5736,  2592.0,   1.6568,  34.6468,2,  34.6468,2, 113.2000,2,   114.0,2,  157.76,2,   38.41,2,    0.00,2,    2.72,2,   0.001,2,  -0.001,2,   0.000,2,  -999.0,9,  -999.0,9,-999.000,9,-999.0000,9, -999.00,9, -999.00,9,  -999.0,9,  -999.0,-999.000,9,-999.000, -999.00,9, 2592.00,-999.0000,9,-999.0000,9,-999.0000,9,-999.0000,9,-999.0000,9,-999.0000,-999.000,-999.0000,9, -999.00
318M20040615,        P02,      53,          1,          9,          9,2,20040705,       0759,    29.9937,    159.094,       5736,  2841.4,   1.5957,  34.6576,2,  34.6582,2, 124.3000,2,   123.9,2,  155.69,2,   37.85,2,    0.00,2,    2.67,2,   0.002,2,  -0.002,2,   0.000,2,  -999.0,9,  2417.0,2,-999.000,9,-999.0000,9, -999.00,9, -999.00,9,  -999.0,9,  -999.0,-999.000,9,-999.000, -999.00,9, 2841.40,-999.0000,9,-999.0000,9,-999.0000,9,-999.0000,9,-999.0000,9,-999.0000,-999.000,-999.0000,9, -999.00
318M20040615,        P02,      53,          1,          8,          8,2,20040705,       0759,    29.9937,    159.094,       5736,  3082.0,   1.5504,  34.6653,2,  34.6659,2, 131.8000,2,   131.9,2,  154.00,2,   37.51,2,    0.00,2,    2.63,2,   0.005,2,   0.003,2,  -0.001,2,  -999.0,9,  2417.5,6,-999.000,9,-999.0000,9, -999.00,9, -999.00,9,  -999.0,9,  -999.0,-999.000,9,-999.000, -999.00,9, 3082.00,-999.0000,9,-999.0000,9,-999.0000,9,-999.0000,9,-999.0000,9,-999.0000,-999.000,-999.0000,9, -999.00
318M20040615,        P02,      53,          1,          7,          7,2,20040705,       0759,    29.9937,    159.094,       5736,  3488.7,   1.4856,  34.6750,2,  34.6755,2, 139.8000,2,   140.5,2,  153.79,2,   36.89,2,    0.00,2,    2.58,2,   0.002,2,   0.000,2,  -0.001,2,  -999.0,9,  2416.6,2,-999.000,9,-999.0000,9, -999.00,9, -999.00,9,  -999.0,9,  -999.0,-999.000,9,-999.000, -999.00,9, 3488.70,-999.0000,9,-999.0000,9,-999.0000,9,-999.0000,9,-999.0000,9,-999.0000,-999.000,-999.0000,9, -999.00
318M20040615,        P02,      53,          1,          6,          6,2,20040705,       0759,    29.9937,    159.094,       5736,  3877.9,   1.4570,  34.6822,2,  34.6822,2, 148.6000,2,   149.6,2,  151.17,2,   36.33,2,    0.00,2,    2.53,2,   0.003,2,   0.000,2,   0.002,2,  -999.0,9,  2415.6,2,-999.000,9,-999.0000,9, -999.00,9, -999.00,9,  -999.0,9,  -999.0,-999.000,9,-999.000, -999.00,9, 3877.90,-999.0000,9,-999.0000,9,-999.0000,9,-999.0000,9,-999.0000,9,-999.0000,-999.000,-999.0000,9, -999.00
318M20040615,        P02,      53,          1,          5,          5,2,20040705,       0759,    29.9937,    159.094,       5736,  4288.4,   1.4597,  34.6867,2,  34.6865,2, 155.7000,2,   155.6,2,  148.18,2,   35.83,2,    0.00,2,    2.50,2,   0.006,2,   0.002,2,   0.004,2,  -999.0,9,  2415.0,2,-999.000,9,-999.0000,9, -999.00,9, -999.00,9,  -999.0,9,  -999.0,-999.000,9,-999.000, -999.00,9, 4288.40,-999.0000,9,-999.0000,9,-999.0000,9,-999.0000,9,-999.0000,9,-999.0000,-999.000,-999.0000,9, -999.00
318M20040615,        P02,      53,          1,          4,          4,2,20040705,       0759,    29.9937,    159.094,       5736,  4697.3,   1.4738,  34.6898,2,  34.6897,2, 160.0000,2,   160.3,2,  146.69,2,   35.44,2,    0.00,2,    2.47,2,   0.003,2,   0.002,2,  -0.001,2,  -999.0,9,  2412.3,2,-999.000,9,-999.0000,9, -999.00,9, -999.00,9,  -999.0,9,  -999.0,-999.000,9,-999.000, -999.00,9, 4697.30,-999.0000,9,-999.0000,9,-999.0000,9,-999.0000,9,-999.0000,9,-999.0000,-999.000,-999.0000,9, -999.00
318M20040615,        P02,      53,          1,          3,          3,2,20040705,       0759,    29.9937,    159.094,       5736,  5103.2,   1.4924,  34.6926,2,  34.6922,2, 165.3000,2,   166.7,2,  141.14,2,   35.00,2,    0.00,2,    2.44,2,   0.003,2,   0.002,2,  -0.002,2,  2309.9,2,  2408.8,2,-999.000,9,-999.0000,9, -999.00,9, -999.00,9,  -999.0,9,  -999.0,-999.000,9,-999.000, -999.00,9, 5103.20,-999.0000,9,-999.0000,9,-999.0000,9,-999.0000,9,-999.0000,9,-999.0000,-999.000,-999.0000,9, -999.00
318M20040615,        P02,      53,          1,          2,          2,2,20040705,       0759,    29.9937,    159.094,       5736,  5506.0,   1.5204,  34.6944,2,  34.6950,2, 169.8000,2,   170.3,2,  138.51,2,   34.72,2,    0.00,2,    2.42,2,   0.004,2,   0.004,2,   0.000,2,  2306.1,2,  2406.3,2,-999.000,9,-999.0000,9, -999.00,9, -999.00,9,  -999.0,9,  -999.0,-999.000,9,-999.000, -999.00,9, 5506.00,-999.0000,9,-999.0000,9,-999.0000,9,-999.0000,9,-999.0000,9,-999.0000,-999.000,-999.0000,9, -999.00
318M20040615,        P02,      53,          1,          1,          1,2,20040705,       0759,    29.9937,    159.094,       5736,  5863.6,   1.5505,  34.6957,2,  34.6962,2, 172.2000,2,   172.6,2,  137.19,2,   34.49,2,    0.00,2,    2.41,2,   0.003,2,   0.003,2,  -0.002,2,  2304.1,2,  2404.1,6,-999.000,9,-999.0000,9, -999.00,9, -999.00,9,  -999.0,9,  -999.0,-999.000,9,-999.000, -999.00,9, 5863.60,-999.0000,9,-999.0000,9,-999.0000,9,-999.0000,9,-999.0000,9,-999.0000,-999.000,-999.0000,9, -999.00