BOTTLE,20131027SIOCCHRJL
EXPOCODE,SECT_ID,STNNBR,CASTNO,SAMPNO,BTLNBR,BTLNBR_FLAG_W,DATE,TIME,LATITUDE,LONGITUDE,DEPTH,CTDPRS,CTDTMP,CTDSAL,CTDSAL_FLAG_W,SALNTY,SALNTY_FLAG_W,CTDOXY,CTDOXY_FLAG_W,OXYGEN,OXYGEN_FLAG_W,SILCAT,SILCAT_FLAG_W,NITRAT,NITRAT_FLAG_W,NITRIT,NITRIT_FLAG_W,PHSPHT,PHSPHT_FLAG_W,CFC-11,CFC-11_FLAG_W,CFC-12,CFC-12_FLAG_W,CFC113,CFC113_FLAG_W,TCARBN,TCARBN_FLAG_W,ALKALI,ALKALI_FLAG_W,TRITUM,TRITUM_FLAG_W,HELIUM,HELIUM_FLAG_W,DELHE3,DELHE3_FLAG_W,DELC13,DELC13_FLAG_W,DELC14,DELC14_FLAG_W,C14ERR,NEON,NEON_FLAG_W,NEONER,DOC,DOC_FLAG_W,CTDRAW,CDOM380,CDOM380_FLAG_W,CDOM325,CDOM325_FLAG_W,CDOMSL,CDOMSL_FLAG_W,CDOM340,CDOM340_FLAG_W,CDOMSN,CDOMSN_FLAG_W,HELIER,TRITER,CDOM412,CDOM412_FLAG_W,DELHER
,,,,,,,,,,,METERS,DBAR,ITS-90,PSS-78,,PSS-78,,UMOL/KG,,UMOL/KG,,UMOL/KG,,UMOL/KG,,UMOL/KG,,UMOL/KG,,PMOL/KG,,PMOL/KG,,PMOL/KG,,UMOL/KG,,UMOL/KG,,TU,,NMOL/KG,,PERCNT,,/MILLE,,/MILLE,,/MILLE,NMOL/KG,,NMOL/KG,UMOL/KG,,DBAR,1/M,,1/M,,1/NM,,1/M,,1/NM,,NMOL/KG,TU,1/M,,PERCNT
318M20040615,        P02,      75,          1,         36,         36,2,20040712,       1651,    29.9985,   174.0048,       4829,     6.6,  25.8392,  35.0598,2,  35.0581,2, 209.2000,2,   208.5,2,    0.98,2,    0.13,2,    0.00,2,    0.04,2,   1.804,2,   1.104,2,   0.134,2,  1993.6,6,  2302.3,6,-999.000,9,-999.0000,9, -999.00,9, -999.00,9,  -999.0,9,  -999.0,-999.000,9,-999.000, -999.00,9,    6.60,-999.0000,9,-999.0000,9,-999.0000,9,-999.0000,9,-999.0000,9,-999.0000,-999.000,-999.0000,9, -999.00
318M20040615,        P02,      75,          1,         35,         35,2,20040712,       1651,    29.9985,   174.0048,       4829,    40.5,  20.2734,  34.9585,2,  34.9560,2, 240.7000,2,   242.1,2,    0.98,2,    0.08,2,    0.00,2,    0.03,2,   2.292,2,   1.376,2,   0.158,2,  1994.9,2,  2294.9,2,-999.000,9,-999.0000,9, -999.00,9, -999.00,9,  -999.0,9,  -999.0,-999.000,9,-999.000, -999.00,9,   40.50,-999.0000,9,-999.0000,9,-999.0000,9,-999.0000,9,-999.0000,9,-999.0000,-999.000,-999.0000,9, -999.00
318M20040615,        P02,      75,          1,         34,         34,2,20040712,       1651,    29.9985,   174.0048,       4829,    85.3,  17.9054,  34.8526,2,  34.8519,2, 233.3000,2,   235.3,2,    1.50,2,    0.11,2,    0.02,2,    0.08,2,   2.416,2,   1.417,2,   0.158,2,  2005.2,2,  2289.9,2,-999.000,9,-999.0000,9, -999.00,9, -999.00,9,  -999.0,9,  -999.0,-999.000,9,-999.000, -999.00,9,   85.30,-999.0000,9,-999.0000,9,-999.0000,9,-999.0000,9,-999.0000,9,-999.0000,-999.000,-999.0000,9, -999.00
318M20040615,        P02,      75,          1,         33,         33,2,20040712,       1651,    29.9985,   174.0048,       4829,   139.7,  17.0017,  34.7602,2,  34.7713,2, 221.6000,2,   223.6,2,    2.86,2,    3.51,2,    0.03,2,    0.24,2,   2.500,2,   1.469,2,   0.147,2,  2015.7,2,  2282.7,2,-999.000,9,-999.0000,9, -999.00,9, -999.00,9,  -999.0,9,  -999.0,-999.000,9,-999.000, -999.00,9,  139.70,-999.0000,9,-999.0000,9,-999.0000,9,-999.0000,9,-999.0000,9,-999.0000,-999.000,-999.0000,9, -999.00
318M20040615,        P02,      75,          1,         32,         32,2,20040712,       1651,    29.9985,   174.0048,       4829,   189.4,  16.6311,  34.7403,2,  34.7405,2, 226.3000,2,   226.8,2,    3.04,2,    3.78,2,    0.01,2,    0.26,2,   2.538,2,   1.494,2,   0.147,2,  2017.3,2,  2281.6,2,-999.000,9,-999.0000,9, -999.00,9, -999.00,9,  -999.0,9,  -999.0,-999.000,9,-999.000, -999.00,9,  189.40,-999.0000,9,-999.0000,9,-999.0000,9,-999.0000,9,-999.0000,9,-999.0000,-999.000,-999.0000,9, -999.00
318M20040615,        P02,      75,          1,         31,         31,2,20040712,       1651,    29.9985,   174.0048,       4829,   238.8,  16.4606,  34.7248,2,  34.7248,2, 226.1000,2,   226.9,2,    3.38,2,    4.04,2,    0.01,2,    0.28,2,   2.532,2,   1.488,2,   0.137,2,  2018.9,2,  2279.4,2,-999.000,9,-999.0000,9, -999.00,9, -999.00,9,  -999.0,9,  -999.0,-999.000,9,-999.000, -999.00,9,  238.80,-999.0000,9,-999.0000,9,-999.0000,9,-999.0000,9,-999.0000,9,-999.0000,-999.000,-999.0000,9, -999.00
318M20040615,        P02,      75,          1,         30,         30,2,20040712,       1651,    29.9985,   174.0048,       4829,   288.6,  16.1806,  34.7068,2,  34.7069,2, 223.6000,2,   224.3,2,    4.24,2,    4.85,2,    0.01,2,    0.34,2,   2.564,2,   1.509,2,   0.119,2,  2024.9,2,  2280.6,2,-999.000,9,-999.0000,9, -999.00,9, -999.00,9,  -999.0,9,  -999.0,-999.000,9,-999.000, -999.00,9,  288.60,-999.0000,9,-999.0000,9,-999.0000,9,-999.0000,9,-999.0000,9,-999.0000,-999.000,-999.0000,9, -999.00
318M20040615,        P02,      75,          1,         29,         29,2,20040712,       1651,    29.9985,   174.0048,       4829,   338.5,  15.6396,  34.6541,2,  34.6542,2, 222.2000,2,   220.9,2,    5.27,2,    5.86,2,    0.01,2,    0.41,2,   2.590,6,   1.511,6,   0.112,6,  2031.9,2,  2274.1,2,-999.000,9,-999.0000,9, -999.00,9, -999.00,9,  -999.0,9,  -999.0,-999.000,9,-999.000, -999.00,9,  338.50,-999.0000,9,-999.0000,9,-999.0000,9,-999.0000,9,-999.0000,9,-999.0000,-999.000,-999.0000,9, -999.00
318M20040615,        P02,      75,          1,         28,         28,2,20040712,       1651,    29.9985,   174.0048,       4829,   387.4,  15.1090,  34.6148,2,  34.6152,2, 218.7000,2,   223.6,2,    6.13,2,    6.22,2,    0.01,2,    0.44,2,   2.647,2,   1.532,2,   0.127,2,  -999.0,9,  -999.0,9,-999.000,9,-999.0000,9, -999.00,9, -999.00,9,  -999.0,9,  -999.0,-999.000,9,-999.000, -999.00,9,  387.40,-999.0000,9,-999.0000,9,-999.0000,9,-999.0000,9,-999.0000,9,-999.0000,-999.000,-999.0000,9, -999.00
318M20040615,        P02,      75,          1,         27,         27,2,20040712,       1651,    29.9985,   174.0048,       4829,   436.7,  13.8337,  34.4987,2,  34.4991,2, 208.5000,2,   207.8,2,    9.89,2,    9.66,2,    0.01,2,    0.67,2,   2.726,2,   1.509,2,   0.069,2,  2064.7,2,  2278.4,3,-999.000,9,-999.0000,9, -999.00,9, -999.00,9,  -999.0,9,  -999.0,-999.000,9,-999.000, -999.00,9,  436.70,-999.0000,9,-999.0000,9,-999.0000,9,-999.0000,9,-999.0000,9,-999.0000,-999.000,-999.0000,9, -999.00
318M20040615,        P02,      75,          1,         26,         26,2,20040712,       1651,    29.9985,   174.0048,       4829,   487.0,  12.2449,  34.3649,2,  34.3641,2, 210.5000,2,   209.5,2,   13.16,2,   11.99,2,    0.01,2,    0.84,2,   2.909,2,   1.599,2,   0.080,2,  -999.0,9,  -999.0,9,-999.000,9,-999.0000,9, -999.00,9, -999.00,9,  -999.0,9,  -999.0,-999.000,9,-999.000, -999.00,9,  487.00,-999.0000,9,-999.0000,9,-999.0000,9,-999.0000,9,-999.0000,9,-999.0000,-999.000,-999.0000,9, -999.00
318M20040615,        P02,      75,          1,         25,         25,2,20040712,       1651,    29.9985,   174.0048,       4829,   577.2,   9.9310,  34.1913,2,  34.1919,2, 198.6000,2,   198.1,2,   22.63,2,   17.20,2,    0.00,2,    1.21,2,   2.922,2,   1.552,2,   0.101,2,  2117.5,2,  2270.1,2,-999.000,9,-999.0000,9, -999.00,9, -999.00,9,  -999.0,9,  -999.0,-999.000,9,-999.000, -999.00,9,  577.20,-999.0000,9,-999.0000,9,-999.0000,9,-999.0000,9,-999.0000,9,-999.0000,-999.000,-999.0000,9, -999.00
318M20040615,        P02,      75,          1,         24,         24,2,20040712,       1651,    29.9985,   174.0048,       4829,   677.3,   7.4184,  34.0325,2,  34.0331,2, 171.5000,2,   175.0,2,   40.79,2,   23.79,2,    0.00,2,    1.72,2,   2.678,2,   1.415,2,   0.125,2,  -999.0,9,  -999.0,9,-999.000,9,-999.0000,9, -999.00,9, -999.00,9,  -999.0,9,  -999.0,-999.000,9,-999.000, -999.00,9,  677.30,-999.0000,9,-999.0000,9,-999.0000,9,-999.0000,9,-999.0000,9,-999.0000,-999.000,-999.0000,9, -999.00
318M20040615,        P02,      75,          1,         23,         23,2,20040712,       1651,    29.9985,   174.0048,       4829,   777.6,   5.6151,  34.0447,2,  34.0455,2, 112.7000,2,   109.0,2,   68.15,2,   33.28,2,    0.00,2,    2.39,2,   1.602,2,   0.803,2,   0.065,2,  2240.0,2,  2299.2,2,-999.000,9,-999.0000,9, -999.00,9, -999.00,9,  -999.0,9,  -999.0,-999.000,9,-999.000, -999.00,9,  777.60,-999.0000,9,-999.0000,9,-999.0000,9,-999.0000,9,-999.0000,9,-999.0000,-999.000,-999.0000,9, -999.00
318M20040615,        P02,      75,          1,         22,         22,2,20040712,       1651,    29.9985,   174.0048,       4829,   878.1,   4.6227,  34.1309,2,  34.1329,2,  69.4000,2,    66.4,2,   91.61,2,   38.70,2,    0.00,2,    2.77,2,   0.813,2,   0.401,2,   0.034,2,  -999.0,9,  -999.0,9,-999.000,9,-999.0000,9, -999.00,9, -999.00,9,  -999.0,9,  -999.0,-999.000,9,-999.000, -999.00,9,  878.10,-999.0000,9,-999.0000,9,-999.0000,9,-999.0000,9,-999.0000,9,-999.0000,-999.000,-999.0000,9, -999.00
318M20040615,        P02,      75,          1,         21,         21,2,20040712,       1651,    29.9985,   174.0048,       4829,   983.8,   3.9982,  34.2276,2,  34.2274,2,  50.0000,2,    49.2,2,  109.50,2,   40.83,2,    0.00,2,    2.91,2,   0.520,2,   0.250,2,   0.021,2,  -999.0,9,  -999.0,9,-999.000,9,-999.0000,9, -999.00,9, -999.00,9,  -999.0,9,  -999.0,-999.000,9,-999.000, -999.00,9,  983.80,-999.0000,9,-999.0000,9,-999.0000,9,-999.0000,9,-999.0000,9,-999.0000,-999.000,-999.0000,9, -999.00
318M20040615,        P02,      75,          1,         20,         20,2,20040712,       1651,    29.9985,   174.0048,       4829,  1084.5,   3.5571,  34.3035,2,  34.3010,2,  39.4000,3,    38.7,2,  122.31,2,   42.10,2,    0.00,2,    3.00,2,   0.271,2,   0.142,2,   0.009,2,  2343.3,2,  2356.8,2,-999.000,9,-999.0000,9, -999.00,9, -999.00,9,  -999.0,9,  -999.0,-999.000,9,-999.000, -999.00,9, 1084.50,-999.0000,9,-999.0000,9,-999.0000,9,-999.0000,9,-999.0000,9,-999.0000,-999.000,-999.0000,9, -999.00
318M20040615,        P02,      75,          1,         19,         19,2,20040712,       1651,    29.9985,   174.0048,       4829,  1184.7,   3.2631,  34.3557,2,  34.3552,2,  33.2000,2,    33.0,2,  131.61,2,   42.87,2,    0.00,2,    3.05,2,   0.139,2,   0.074,2,   0.005,2,  2354.9,2,  2368.7,2,-999.000,9,-999.0000,9, -999.00,9, -999.00,9,  -999.0,9,  -999.0,-999.000,9,-999.000, -999.00,9, 1184.70,-999.0000,9,-999.0000,9,-999.0000,9,-999.0000,9,-999.0000,9,-999.0000,-999.000,-999.0000,9, -999.00
318M20040615,        P02,      75,          1,         18,         18,2,20040712,       1651,    29.9985,   174.0048,       4829,  1285.0,   3.0364,  34.4093,2,  34.4080,2,  29.2000,2,    29.1,2,  138.47,2,   43.42,2,    0.00,2,    3.09,2,   0.056,2,   0.030,2,   0.001,2,  2367.0,2,  2378.9,2,-999.000,9,-999.0000,9, -999.00,9, -999.00,9,  -999.0,9,  -999.0,-999.000,9,-999.000, -999.00,9, 1285.00,-999.0000,9,-999.0000,9,-999.0000,9,-999.0000,9,-999.0000,9,-999.0000,-999.000,-999.0000,9, -999.00
318M20040615,        P02,      75,          1,         17,         17,2,20040712,       1651,    29.9985,   174.0048,       4829,  1385.4,   2.8348,  34.4461,2,  34.4461,2,  30.8000,2,    30.7,2,  144.63,2,   43.43,2,    0.00,2,    3.09,2,   0.034,2,   0.021,2,   0.001,2,  -999.0,9,  -999.0,9,-999.000,9,-999.0000,9, -999.00,9, -999.00,9,  -999.0,9,  -999.0,-999.000,9,-999.000, -999.00,9, 1385.40,-999.0000,9,-999.0000,9,-999.0000,9,-999.0000,9,-999.0000,9,-999.0000,-999.000,-999.0000,9, -999.00
318M20040615,        P02,      75,          1,         16,         16,2,20040712,       1651,    29.9985,   174.0048,       4829,  1485.8,   2.6045,  34.4797,2,  34.4818,2,  34.4000,2,    34.6,2,  150.57,2,   43.37,2,    0.00,2,    3.07,2,-999.000,9,-999.000,9,-999.000,9,  -999.0,9,  -999.0,9,-999.000,9,-999.0000,9, -999.00,9, -999.00,9,  -999.0,9,  -999.0,-999.000,9,-999.000, -999.00,9, 1485.80,-999.0000,9,-999.0000,9,-999.0000,9,-999.0000,9,-999.0000,9,-999.0000,-999.000,-999.0000,9, -999.00
318M20040615,        P02,      75,          1,         15,         15,2,20040712,       1651,    29.9985,   174.0048,       4829,  1591.3,   2.4377,  34.5101,2,  34.5087,2,  39.2000,2,    39.9,2,  154.96,2,   43.15,2,    0.00,2,    3.05,2,   0.016,2,   0.007,2,   0.001,2,  -999.0,9,  2398.7,2,-999.000,9,-999.0000,9, -999.00,9, -999.00,9,  -999.0,9,  -999.0,-999.000,9,-999.000, -999.00,9, 1591.30,-999.0000,9,-999.0000,9,-999.0000,9,-999.0000,9,-999.0000,9,-999.0000,-999.000,-999.0000,9, -999.00
318M20040615,        P02,      75,          1,         14,         14,2,20040712,       1651,    29.9985,   174.0048,       4829,  1691.8,   2.3198,  34.5315,2,  34.5301,2,  44.8000,2,    45.4,2,  157.57,2,   42.98,2,    0.00,2,    3.03,2,-999.000,9,-999.000,9,-999.000,9,  -999.0,9,  -999.0,9,-999.000,9,-999.0000,9, -999.00,9, -999.00,9,  -999.0,9,  -999.0,-999.000,9,-999.000, -999.00,9, 1691.80,-999.0000,9,-999.0000,9,-999.0000,9,-999.0000,9,-999.0000,9,-999.0000,-999.000,-999.0000,9, -999.00
318M20040615,        P02,      75,          1,         13,         13,2,20040712,       1651,    29.9985,   174.0048,       4829,  1792.3,   2.2083,  34.5548,2,  34.5547,2,  51.2000,2,    51.6,2,  159.66,2,   42.92,2,    0.00,2,    2.99,2,   0.007,2,   0.003,2,   0.010,2,  -999.0,9,  2407.1,2,-999.000,9,-999.0000,9, -999.00,9, -999.00,9,  -999.0,9,  -999.0,-999.000,9,-999.000, -999.00,9, 1792.30,-999.0000,9,-999.0000,9,-999.0000,9,-999.0000,9,-999.0000,9,-999.0000,-999.000,-999.0000,9, -999.00
318M20040615,        P02,      75,          1,         12,         12,2,20040712,       1651,    29.9985,   174.0048,       4829,  1893.0,   2.0693,  34.5771,2,  34.5771,2,  58.7000,2,    61.8,2,  161.59,2,   42.26,2,    0.00,2,    2.94,2,-999.000,9,-999.000,9,-999.000,9,  -999.0,9,  -999.0,9,-999.000,9,-999.0000,9, -999.00,9, -999.00,9,  -999.0,9,  -999.0,-999.000,9,-999.000, -999.00,9, 1893.00,-999.0000,9,-999.0000,9,-999.0000,9,-999.0000,9,-999.0000,9,-999.0000,-999.000,-999.0000,9, -999.00
318M20040615,        P02,      75,          1,         11,         11,2,20040712,       1651,    29.9985,   174.0048,       4829,  1993.5,   1.9702,  34.5917,2,  34.5919,2,  67.0000,2,    69.6,2,  162.44,2,   41.69,2,    0.00,2,    2.91,2,   0.008,2,   0.005,2,   0.001,2,  -999.0,9,  2412.7,2,-999.000,9,-999.0000,9, -999.00,9, -999.00,9,  -999.0,9,  -999.0,-999.000,9,-999.000, -999.00,9, 1993.50,-999.0000,9,-999.0000,9,-999.0000,9,-999.0000,9,-999.0000,9,-999.0000,-999.000,-999.0000,9, -999.00
318M20040615,        P02,      75,          1,         10,         10,2,20040712,       1651,    29.9985,   174.0048,       4829,  2200.2,   1.8217,  34.6168,2,  34.6188,2,  83.1000,2,    86.0,2,  161.92,2,   40.54,2,    0.00,2,    2.83,2,-999.000,9,-999.000,9,-999.000,9,  -999.0,9,  2415.4,2,-999.000,9,-999.0000,9, -999.00,9, -999.00,9,  -999.0,9,  -999.0,-999.000,9,-999.000, -999.00,9, 2200.20,-999.0000,9,-999.0000,9,-999.0000,9,-999.0000,9,-999.0000,9,-999.0000,-999.000,-999.0000,9, -999.00
318M20040615,        P02,      75,          1,          9,          9,2,20040712,       1651,    29.9985,   174.0048,       4829,  2456.1,   1.6942,  34.6361,2,  34.6284,2,  99.5000,3,   100.5,2,  161.38,2,   39.49,2,    0.00,2,    2.76,2,   0.005,2,   0.002,2,   0.001,2,  -999.0,9,  2415.9,2,-999.000,9,-999.0000,9, -999.00,9, -999.00,9,  -999.0,9,  -999.0,-999.000,9,-999.000, -999.00,9, 2456.10,-999.0000,9,-999.0000,9,-999.0000,9,-999.0000,9,-999.0000,9,-999.0000,-999.000,-999.0000,9, -999.00
318M20040615,        P02,      75,          1,          8,          8,2,20040712,       1651,    29.9985,   174.0048,       4829,  2711.4,   1.6020,  34.6511,2,  34.6501,2, 113.9000,2,   114.7,2,  159.11,2,   38.51,2,    0.00,2,    2.69,2,-999.000,9,-999.000,9,-999.000,9,  -999.0,9,  2418.5,2,-999.000,9,-999.0000,9, -999.00,9, -999.00,9,  -999.0,9,  -999.0,-999.000,9,-999.000, -999.00,9, 2711.40,-999.0000,9,-999.0000,9,-999.0000,9,-999.0000,9,-999.0000,9,-999.0000,-999.000,-999.0000,9, -999.00
318M20040615,        P02,      75,          1,          7,          7,2,20040712,       1651,    29.9985,   174.0048,       4829,  2962.7,   1.5416,  34.6618,2,  34.6589,2, 124.7000,3,   125.1,2,  156.87,2,   37.75,2,    0.00,2,    2.63,2,   0.004,2,   0.002,2,   0.001,2,  -999.0,9,  -999.0,9,-999.000,9,-999.0000,9, -999.00,9, -999.00,9,  -999.0,9,  -999.0,-999.000,9,-999.000, -999.00,9, 2962.70,-999.0000,9,-999.0000,9,-999.0000,9,-999.0000,9,-999.0000,9,-999.0000,-999.000,-999.0000,9, -999.00
318M20040615,        P02,      75,          1,          6,          6,2,20040712,       1651,    29.9985,   174.0048,       4829,  3302.3,   1.4870,  34.6721,2,  34.6723,2, 135.9000,2,   136.1,2,  154.25,2,   37.05,2,    0.00,2,    2.58,2,-999.000,9,-999.000,9,-999.000,9,  -999.0,9,  2418.2,2,-999.000,9,-999.0000,9, -999.00,9, -999.00,9,  -999.0,9,  -999.0,-999.000,9,-999.000, -999.00,9, 3302.30,-999.0000,9,-999.0000,9,-999.0000,9,-999.0000,9,-999.0000,9,-999.0000,-999.000,-999.0000,9, -999.00
318M20040615,        P02,      75,          1,          5,          5,2,20040712,       1651,    29.9985,   174.0048,       4829,  3704.9,   1.4584,  34.6799,2,  34.6794,2, 145.5000,2,   145.7,2,  151.26,2,   36.34,2,    0.00,2,    2.52,2,   0.005,2,   0.002,2,   0.001,2,  -999.0,9,  -999.0,9,-999.000,9,-999.0000,9, -999.00,9, -999.00,9,  -999.0,9,  -999.0,-999.000,9,-999.000, -999.00,9, 3704.90,-999.0000,9,-999.0000,9,-999.0000,9,-999.0000,9,-999.0000,9,-999.0000,-999.000,-999.0000,9, -999.00
318M20040615,        P02,      75,          1,          4,          4,2,20040712,       1651,    29.9985,   174.0048,       4829,  4123.2,   1.4481,  34.6857,2,  34.6847,2, 153.4000,2,   153.7,2,  148.12,2,   35.81,2,    0.00,2,    2.48,2,-999.000,9,-999.000,9,-999.000,9,  -999.0,9,  2416.0,2,-999.000,9,-999.0000,9, -999.00,9, -999.00,9,  -999.0,9,  -999.0,-999.000,9,-999.000, -999.00,9, 4123.20,-999.0000,9,-999.0000,9,-999.0000,9,-999.0000,9,-999.0000,9,-999.0000,-999.000,-999.0000,9, -999.00
318M20040615,        P02,      75,          1,          3,          3,2,20040712,       1651,    29.9985,   174.0048,       4829,  4528.3,   1.4431,  34.6904,2,  34.6894,2, 160.8000,2,   161.7,2,  143.41,2,   35.43,2,    0.00,2,    2.44,2,   0.005,2,   0.007,2,   0.003,2,  2313.2,2,  2412.7,2,-999.000,9,-999.0000,9, -999.00,9, -999.00,9,  -999.0,9,  -999.0,-999.000,9,-999.000, -999.00,9, 4528.30,-999.0000,9,-999.0000,9,-999.0000,9,-999.0000,9,-999.0000,9,-999.0000,-999.000,-999.0000,9, -999.00
318M20040615,        P02,      75,          1,          2,          2,2,20040712,       1651,    29.9985,   174.0048,       4829,  4689.5,   1.4477,  34.6916,2,  34.6910,2, 163.0000,2,   164.1,2,  141.65,2,   35.32,2,    0.00,2,    2.42,2,   0.002,2,   0.003,2,   0.001,2,  2311.2,2,  2411.6,2,-999.000,9,-999.0000,9, -999.00,9, -999.00,9,  -999.0,9,  -999.0,-999.000,9,-999.000, -999.00,9, 4689.50,-999.0000,9,-999.0000,9,-999.0000,9,-999.0000,9,-999.0000,9,-999.0000,-999.000,-999.0000,9, -999.00
318M20040615,        P02,      75,          1,          1,          1,2,20040712,       1651,    29.9985,   174.0048,       4829,  4996.1,   1.4560,  34.6939,2,  34.6940,2, 168.4000,2,   168.8,2,  137.60,2,   34.89,2,    0.00,2,    2.40,2,   0.006,2,   0.004,2,   0.002,2,  2304.9,2,  2406.7,6,-999.000,9,-999.0000,9, -999.00,9, -999.00,9,  -999.0,9,  -999.0,-999.000,9,-999.000, -999.00,9, 4996.10,-999.0000,9,-999.0000,9,-999.0000,9,-999.0000,9,-999.0000,9,-999.0000,-999.000,-999.0000,9, -999.00