BOTTLE,20131027SIOCCHRJL
EXPOCODE,SECT_ID,STNNBR,CASTNO,SAMPNO,BTLNBR,BTLNBR_FLAG_W,DATE,TIME,LATITUDE,LONGITUDE,DEPTH,CTDPRS,CTDTMP,CTDSAL,CTDSAL_FLAG_W,SALNTY,SALNTY_FLAG_W,CTDOXY,CTDOXY_FLAG_W,OXYGEN,OXYGEN_FLAG_W,SILCAT,SILCAT_FLAG_W,NITRAT,NITRAT_FLAG_W,NITRIT,NITRIT_FLAG_W,PHSPHT,PHSPHT_FLAG_W,CFC-11,CFC-11_FLAG_W,CFC-12,CFC-12_FLAG_W,CFC113,CFC113_FLAG_W,TCARBN,TCARBN_FLAG_W,ALKALI,ALKALI_FLAG_W,TRITUM,TRITUM_FLAG_W,HELIUM,HELIUM_FLAG_W,DELHE3,DELHE3_FLAG_W,DELC13,DELC13_FLAG_W,DELC14,DELC14_FLAG_W,C14ERR,NEON,NEON_FLAG_W,NEONER,DOC,DOC_FLAG_W,CTDRAW,CDOM380,CDOM380_FLAG_W,CDOM325,CDOM325_FLAG_W,CDOMSL,CDOMSL_FLAG_W,CDOM340,CDOM340_FLAG_W,CDOMSN,CDOMSN_FLAG_W,HELIER,TRITER,CDOM412,CDOM412_FLAG_W,DELHER
,,,,,,,,,,,METERS,DBAR,ITS-90,PSS-78,,PSS-78,,UMOL/KG,,UMOL/KG,,UMOL/KG,,UMOL/KG,,UMOL/KG,,UMOL/KG,,PMOL/KG,,PMOL/KG,,PMOL/KG,,UMOL/KG,,UMOL/KG,,TU,,NMOL/KG,,PERCNT,,/MILLE,,/MILLE,,/MILLE,NMOL/KG,,NMOL/KG,UMOL/KG,,DBAR,1/M,,1/M,,1/NM,,1/M,,1/NM,,NMOL/KG,TU,1/M,,PERCNT
318M20040615,        P02,     140,          1,         36,         36,2,20040814,       0739,    29.9988,   -144.396,       5168,     6.2,  25.1986,  35.3771,2,  35.3745,2, 211.9000,2,   211.3,2,    1.18,2,    0.16,2,    0.00,2,    0.02,2,   1.891,2,   1.086,2,   0.128,2,  2013.5,6,  2330.1,6,-999.000,9,-999.0000,9, -999.00,9, -999.00,9,  -999.0,9,  -999.0,-999.000,9,-999.000, -999.00,9,    6.20,-999.0000,9,-999.0000,9,-999.0000,9,-999.0000,9,-999.0000,9,-999.0000,-999.000,-999.0000,9, -999.00
318M20040615,        P02,     140,          1,         35,         35,2,20040814,       0739,    29.9988,   -144.396,       5168,    36.1,  22.7706,  35.1211,2,  35.1234,2, 233.0000,2,   231.6,2,    1.36,2,    0.16,2,    0.00,2,    0.02,2,   2.080,2,   1.256,2,   0.140,2,  -999.0,9,  -999.0,9,-999.000,9,-999.0000,9, -999.00,9, -999.00,9,  -999.0,9,  -999.0,-999.000,9,-999.000, -999.00,9,   36.10,-999.0000,9,-999.0000,9,-999.0000,9,-999.0000,9,-999.0000,9,-999.0000,-999.000,-999.0000,9, -999.00
318M20040615,        P02,     140,          1,         34,         34,2,20040814,       0739,    29.9988,   -144.396,       5168,    70.9,  19.4893,  34.8380,2,  34.8477,2, 242.2000,2,   240.9,2,    2.12,2,    0.16,2,    0.00,2,    0.04,2,   2.331,2,   1.401,2,   0.166,2,  -999.0,9,  2294.6,2,-999.000,9,-999.0000,9, -999.00,9, -999.00,9,  -999.0,9,  -999.0,-999.000,9,-999.000, -999.00,9,   70.90,-999.0000,9,-999.0000,9,-999.0000,9,-999.0000,9,-999.0000,9,-999.0000,-999.000,-999.0000,9, -999.00
318M20040615,        P02,     140,          1,         33,         33,2,20040814,       0739,    29.9988,   -144.396,       5168,   120.5,  16.6346,  34.5210,2,  34.5246,2, 229.3000,2,   230.3,2,    2.89,2,    0.29,2,    0.07,2,    0.15,2,   2.600,2,   1.520,2,   0.156,2,  -999.0,9,  -999.0,9,-999.000,9,-999.0000,9, -999.00,9, -999.00,9,  -999.0,9,  -999.0,-999.000,9,-999.000, -999.00,9,  120.50,-999.0000,9,-999.0000,9,-999.0000,9,-999.0000,9,-999.0000,9,-999.0000,-999.000,-999.0000,9, -999.00
318M20040615,        P02,     140,          1,         32,         32,2,20040814,       0739,    29.9988,   -144.396,       5168,   170.2,  13.9323,  34.2315,2,  34.2333,2, 222.5000,2,   223.3,2,    5.39,2,    5.20,2,    0.02,2,    0.45,2,   2.929,2,   1.695,2,   0.134,2,  -999.0,9,  2257.4,2,-999.000,9,-999.0000,9, -999.00,9, -999.00,9,  -999.0,9,  -999.0,-999.000,9,-999.000, -999.00,9,  170.20,-999.0000,9,-999.0000,9,-999.0000,9,-999.0000,9,-999.0000,9,-999.0000,-999.000,-999.0000,9, -999.00
318M20040615,        P02,     140,          1,         31,         31,2,20040814,       0739,    29.9988,   -144.396,       5168,   220.1,  12.2960,  34.1378,2,  34.1380,2, 226.3000,2,   227.2,2,    8.29,2,    8.44,2,    0.00,2,    0.65,2,   3.178,2,   1.799,2,   0.112,2,  -999.0,9,  -999.0,9,-999.000,9,-999.0000,9, -999.00,9, -999.00,9,  -999.0,9,  -999.0,-999.000,9,-999.000, -999.00,9,  220.10,-999.0000,9,-999.0000,9,-999.0000,9,-999.0000,9,-999.0000,9,-999.0000,-999.000,-999.0000,9, -999.00
318M20040615,        P02,     140,          1,         30,         30,2,20040814,       0739,    29.9988,   -144.396,       5168,   269.9,  11.1915,  34.1295,2,  34.1300,2, 221.0000,2,   222.5,2,   12.36,2,   12.01,2,    0.00,2,    0.86,2,   3.279,2,   1.821,2,   0.116,2,  -999.0,9,  2257.7,2,-999.000,9,-999.0000,9, -999.00,9, -999.00,9,  -999.0,9,  -999.0,-999.000,9,-999.000, -999.00,9,  269.90,-999.0000,9,-999.0000,9,-999.0000,9,-999.0000,9,-999.0000,9,-999.0000,-999.000,-999.0000,9, -999.00
318M20040615,        P02,     140,          1,         29,         29,2,20040814,       0739,    29.9988,   -144.396,       5168,   324.9,   9.8321,  34.0903,2,  34.0903,2, 212.4000,2,   209.9,2,   18.57,2,   15.94,2,    0.00,2,    1.13,2,   3.339,2,   1.823,2,   0.098,2,  -999.0,9,  -999.0,9,-999.000,9,-999.0000,9, -999.00,9, -999.00,9,  -999.0,9,  -999.0,-999.000,9,-999.000, -999.00,9,  324.90,-999.0000,9,-999.0000,9,-999.0000,9,-999.0000,9,-999.0000,9,-999.0000,-999.000,-999.0000,9, -999.00
318M20040615,        P02,     140,          1,         28,         28,2,20040814,       0739,    29.9988,   -144.396,       5168,   374.7,   9.0935,  34.0825,2,  34.0836,2, 189.5000,2,   192.5,2,   24.21,2,   19.12,2,    0.00,2,    1.34,2,-999.000,9,-999.000,9,-999.000,9,  -999.0,9,  2266.1,2,-999.000,9,-999.0000,9, -999.00,9, -999.00,9,  -999.0,9,  -999.0,-999.000,9,-999.000, -999.00,9,  374.70,-999.0000,9,-999.0000,9,-999.0000,9,-999.0000,9,-999.0000,9,-999.0000,-999.000,-999.0000,9, -999.00
318M20040615,        P02,     140,          1,         27,         27,2,20040814,       0739,    29.9988,   -144.396,       5168,   424.0,   8.0734,  34.0542,2,  34.0544,2, 165.2000,2,   164.1,2,   34.75,2,   24.01,2,    0.00,2,    1.68,2,   2.786,2,   1.440,2,   0.109,2,  -999.0,9,  -999.0,9,-999.000,9,-999.0000,9, -999.00,9, -999.00,9,  -999.0,9,  -999.0,-999.000,9,-999.000, -999.00,9,  424.00,-999.0000,9,-999.0000,9,-999.0000,9,-999.0000,9,-999.0000,9,-999.0000,-999.000,-999.0000,9, -999.00
318M20040615,        P02,     140,          1,         26,         26,2,20040814,       0739,    29.9988,   -144.396,       5168,   473.4,   6.8975,  34.0159,2,  34.0166,2, 138.1000,2,   134.7,2,   47.48,2,   28.98,2,    0.00,2,    2.06,2,   2.194,2,   1.113,2,   0.067,2,  -999.0,9,  2279.4,2,-999.000,9,-999.0000,9, -999.00,9, -999.00,9,  -999.0,9,  -999.0,-999.000,9,-999.000, -999.00,9,  473.40,-999.0000,9,-999.0000,9,-999.0000,9,-999.0000,9,-999.0000,9,-999.0000,-999.000,-999.0000,9, -999.00
318M20040615,        P02,     140,          1,         25,         25,2,20040814,       0739,    29.9988,   -144.396,       5168,   542.8,   5.8130,  34.0101,2,  34.0099,2, 103.3000,2,    98.4,2,   62.82,2,   34.33,2,    0.00,2,    2.45,2,   1.427,6,   0.724,6,   0.020,6,  -999.0,9,  -999.0,9,-999.000,9,-999.0000,9, -999.00,9, -999.00,9,  -999.0,9,  -999.0,-999.000,9,-999.000, -999.00,9,  542.80,-999.0000,9,-999.0000,9,-999.0000,9,-999.0000,9,-999.0000,9,-999.0000,-999.000,-999.0000,9, -999.00
318M20040615,        P02,     140,          1,         24,         24,2,20040814,       0739,    29.9988,   -144.396,       5168,   647.7,   4.7512,  34.0947,2,  34.0947,2,  55.5000,2,    48.4,2,   86.92,2,   40.49,2,    0.00,2,    2.89,2,-999.000,9,-999.000,9,-999.000,9,  -999.0,9,  2315.9,2,-999.000,9,-999.0000,9, -999.00,9, -999.00,9,  -999.0,9,  -999.0,-999.000,9,-999.000, -999.00,9,  647.70,-999.0000,9,-999.0000,9,-999.0000,9,-999.0000,9,-999.0000,9,-999.0000,-999.000,-999.0000,9, -999.00
318M20040615,        P02,     140,          1,         23,         23,2,20040814,       0739,    29.9988,   -144.396,       5168,   747.9,   4.1357,  34.2042,2,  34.2037,2,  25.5000,2,    21.8,2,  106.19,2,   43.44,2,    0.00,2,    3.09,2,   0.089,2,   0.047,2,   0.000,2,  -999.0,9,  -999.0,9,-999.000,9,-999.0000,9, -999.00,9, -999.00,9,  -999.0,9,  -999.0,-999.000,9,-999.000, -999.00,9,  747.90,-999.0000,9,-999.0000,9,-999.0000,9,-999.0000,9,-999.0000,9,-999.0000,-999.000,-999.0000,9, -999.00
318M20040615,        P02,     140,          1,         22,         22,2,20040814,       0739,    29.9988,   -144.396,       5168,   848.0,   4.0045,  34.3163,2,  34.3176,2,  14.0000,2,    12.6,2,  114.96,2,   44.03,2,    0.00,2,    3.19,2,-999.000,9,-999.000,9,-999.000,9,  -999.0,9,  2355.8,2,-999.000,9,-999.0000,9, -999.00,9, -999.00,9,  -999.0,9,  -999.0,-999.000,9,-999.000, -999.00,9,  848.00,-999.0000,9,-999.0000,9,-999.0000,9,-999.0000,9,-999.0000,9,-999.0000,-999.000,-999.0000,9, -999.00
318M20040615,        P02,     140,          1,         21,         21,2,20040814,       0739,    29.9988,   -144.396,       5168,   953.1,   3.6900,  34.3963,2,  34.3951,2,  16.3000,2,    16.6,2,  123.54,2,   44.09,2,    0.00,2,    3.19,2,   0.015,2,   0.009,2,   0.000,2,  -999.0,9,  -999.0,9,-999.000,9,-999.0000,9, -999.00,9, -999.00,9,  -999.0,9,  -999.0,-999.000,9,-999.000, -999.00,9,  953.10,-999.0000,9,-999.0000,9,-999.0000,9,-999.0000,9,-999.0000,9,-999.0000,-999.000,-999.0000,9, -999.00
318M20040615,        P02,     140,          1,         20,         20,2,20040814,       0739,    29.9988,   -144.396,       5168,  1052.3,   3.4826,  34.4482,2,  34.4481,2,  23.2000,2,    23.3,2,  128.33,2,   43.76,2,    0.00,2,    3.16,2,   0.007,2,   0.005,2,   0.000,2,  -999.0,9,  2379.7,2,-999.000,9,-999.0000,9, -999.00,9, -999.00,9,  -999.0,9,  -999.0,-999.000,9,-999.000, -999.00,9, 1052.30,-999.0000,9,-999.0000,9,-999.0000,9,-999.0000,9,-999.0000,9,-999.0000,-999.000,-999.0000,9, -999.00
318M20040615,        P02,     140,          1,         19,         19,2,20040814,       0739,    29.9988,   -144.396,       5168,  1152.5,   3.2704,  34.4864,2,  34.4862,2,  32.1000,2,    32.1,2,  133.35,2,   43.38,2,    0.00,2,    3.12,2,   0.006,2,   0.004,2,   0.000,2,  -999.0,9,  -999.0,9,-999.000,9,-999.0000,9, -999.00,9, -999.00,9,  -999.0,9,  -999.0,-999.000,9,-999.000, -999.00,9, 1152.50,-999.0000,9,-999.0000,9,-999.0000,9,-999.0000,9,-999.0000,9,-999.0000,-999.000,-999.0000,9, -999.00
318M20040615,        P02,     140,          1,         18,         18,2,20040814,       0739,    29.9988,   -144.396,       5168,  1253.3,   3.0579,  34.5150,2,  34.5156,2,  39.7000,2,    40.9,2,  137.36,2,   42.84,2,    0.00,2,    3.08,2,   0.004,2,   0.003,2,   0.000,2,  -999.0,9,  -999.0,9,-999.000,9,-999.0000,9, -999.00,9, -999.00,9,  -999.0,9,  -999.0,-999.000,9,-999.000, -999.00,9, 1253.30,-999.0000,9,-999.0000,9,-999.0000,9,-999.0000,9,-999.0000,9,-999.0000,-999.000,-999.0000,9, -999.00
318M20040615,        P02,     140,          1,         17,         17,2,20040814,       0739,    29.9988,   -144.396,       5168,  1344.4,   2.8958,  34.5364,2,  34.5362,2,  46.4000,2,    47.0,2,  141.37,2,   42.56,2,    0.00,2,    3.05,2,-999.000,9,-999.000,9,-999.000,9,  -999.0,9,  -999.0,9,-999.000,9,-999.0000,9, -999.00,9, -999.00,9,  -999.0,9,  -999.0,-999.000,9,-999.000, -999.00,9, 1344.40,-999.0000,9,-999.0000,9,-999.0000,9,-999.0000,9,-999.0000,9,-999.0000,-999.000,-999.0000,9, -999.00
318M20040615,        P02,     140,          1,         16,         16,2,20040814,       0739,    29.9988,   -144.396,       5168,  1455.3,   2.7285,  34.5537,2,  34.5540,2,  54.1000,2,    53.9,2,  144.38,2,   42.24,2,    0.00,2,    3.01,2,   0.001,2,   0.002,2,   0.000,2,  -999.0,9,  -999.0,9,-999.000,9,-999.0000,9, -999.00,9, -999.00,9,  -999.0,9,  -999.0,-999.000,9,-999.000, -999.00,9, 1455.30,-999.0000,9,-999.0000,9,-999.0000,9,-999.0000,9,-999.0000,9,-999.0000,-999.000,-999.0000,9, -999.00
318M20040615,        P02,     140,          1,         15,         15,2,20040814,       0739,    29.9988,   -144.396,       5168,  1555.7,   2.5763,  34.5684,2,  34.5683,2,  58.7000,2,    59.3,2,  148.40,2,   42.30,2,    0.00,2,    2.99,2,-999.000,9,-999.000,9,-999.000,9,  -999.0,9,  -999.0,9,-999.000,9,-999.0000,9, -999.00,9, -999.00,9,  -999.0,9,  -999.0,-999.000,9,-999.000, -999.00,9, 1555.70,-999.0000,9,-999.0000,9,-999.0000,9,-999.0000,9,-999.0000,9,-999.0000,-999.000,-999.0000,9, -999.00
318M20040615,        P02,     140,          1,         14,         14,2,20040814,       0739,    29.9988,   -144.396,       5168,  1762.3,   2.2744,  34.5953,2,  34.5954,2,  69.1000,2,    70.4,2,  156.47,2,   41.91,2,    0.00,2,    2.94,2,   0.004,2,  -0.001,2,   0.000,2,  -999.0,9,  -999.0,9,-999.000,9,-999.0000,9, -999.00,9, -999.00,9,  -999.0,9,  -999.0,-999.000,9,-999.000, -999.00,9, 1762.30,-999.0000,9,-999.0000,9,-999.0000,9,-999.0000,9,-999.0000,9,-999.0000,-999.000,-999.0000,9, -999.00
318M20040615,        P02,     140,          1,         13,         13,2,20040814,       0739,    29.9988,   -144.396,       5168,  1963.6,   2.0784,  34.6135,2,  34.6131,2,  77.3000,2,    77.8,2,  161.91,2,   41.36,2,    0.00,2,    2.90,2,   0.004,2,   0.001,2,   0.000,2,  -999.0,9,  -999.0,9,-999.000,9,-999.0000,9, -999.00,9, -999.00,9,  -999.0,9,  -999.0,-999.000,9,-999.000, -999.00,9, 1963.60,-999.0000,9,-999.0000,9,-999.0000,9,-999.0000,9,-999.0000,9,-999.0000,-999.000,-999.0000,9, -999.00
318M20040615,        P02,     140,          1,         12,         12,2,20040814,       0739,    29.9988,   -144.396,       5168,  2129.2,   1.9255,  34.6274,2,  34.6274,2,  84.7000,2,    85.2,2,  166.15,2,   40.82,2,    0.00,2,    2.86,2,   0.002,2,   0.002,2,   0.000,2,  -999.0,9,  -999.0,9,-999.000,9,-999.0000,9, -999.00,9, -999.00,9,  -999.0,9,  -999.0,-999.000,9,-999.000, -999.00,9, 2129.20,-999.0000,9,-999.0000,9,-999.0000,9,-999.0000,9,-999.0000,9,-999.0000,-999.000,-999.0000,9, -999.00
318M20040615,        P02,     140,          1,         11,         11,2,20040814,       0739,    29.9988,   -144.396,       5168,  2381.4,   1.7858,  34.6410,2,  34.6411,2,  94.7000,2,    95.3,2,  168.97,2,   40.12,2,    0.00,2,    2.80,2,   0.003,2,   0.002,2,   0.000,2,  -999.0,9,  -999.0,9,-999.000,9,-999.0000,9, -999.00,9, -999.00,9,  -999.0,9,  -999.0,-999.000,9,-999.000, -999.00,9, 2381.40,-999.0000,9,-999.0000,9,-999.0000,9,-999.0000,9,-999.0000,9,-999.0000,-999.000,-999.0000,9, -999.00
318M20040615,        P02,     140,          1,         10,         10,2,20040814,       0739,    29.9988,   -144.396,       5168,  2699.2,   1.6492,  34.6553,2,  34.6555,2, 107.4000,2,   107.8,2,  169.55,2,   39.24,2,    0.00,2,    2.73,2,-999.000,9,-999.000,9,-999.000,9,  -999.0,9,  -999.0,9,-999.000,9,-999.0000,9, -999.00,9, -999.00,9,  -999.0,9,  -999.0,-999.000,9,-999.000, -999.00,9, 2699.20,-999.0000,9,-999.0000,9,-999.0000,9,-999.0000,9,-999.0000,9,-999.0000,-999.000,-999.0000,9, -999.00
318M20040615,        P02,     140,          1,          9,          9,2,20040814,       0739,    29.9988,   -144.396,       5168,  2895.9,   1.5858,  34.6625,2,  34.6621,2, 115.1000,2,   115.4,2,  168.74,2,   38.71,2,    0.00,2,    2.69,2,   0.005,2,   0.001,2,   0.000,2,  -999.0,9,  -999.0,9,-999.000,9,-999.0000,9, -999.00,9, -999.00,9,  -999.0,9,  -999.0,-999.000,9,-999.000, -999.00,9, 2895.90,-999.0000,9,-999.0000,9,-999.0000,9,-999.0000,9,-999.0000,9,-999.0000,-999.000,-999.0000,9, -999.00
318M20040615,        P02,     140,          1,          8,          8,2,20040814,       0739,    29.9988,   -144.396,       5168,  3146.0,   1.5340,  34.6695,2,  34.6696,2, 123.5000,2,   124.1,2,  166.92,2,   38.07,2,    0.00,2,    2.64,2,-999.000,9,-999.000,9,-999.000,9,  -999.0,9,  -999.0,9,-999.000,9,-999.0000,9, -999.00,9, -999.00,9,  -999.0,9,  -999.0,-999.000,9,-999.000, -999.00,9, 3146.00,-999.0000,9,-999.0000,9,-999.0000,9,-999.0000,9,-999.0000,9,-999.0000,-999.000,-999.0000,9, -999.00
318M20040615,        P02,     140,          1,          7,          7,2,20040814,       0739,    29.9988,   -144.396,       5168,  3553.1,   1.4796,  34.6792,2,  34.6790,2, 135.8000,2,   136.6,2,  163.45,2,   37.19,2,    0.00,2,    2.58,2,   0.000,2,   0.003,2,   0.000,2,  -999.0,9,  -999.0,9,-999.000,9,-999.0000,9, -999.00,9, -999.00,9,  -999.0,9,  -999.0,-999.000,9,-999.000, -999.00,9, 3553.10,-999.0000,9,-999.0000,9,-999.0000,9,-999.0000,9,-999.0000,9,-999.0000,-999.000,-999.0000,9, -999.00
318M20040615,        P02,     140,          1,          6,          6,2,20040814,       0739,    29.9988,   -144.396,       5168,  3965.3,   1.4727,  34.6847,2,  34.6874,2, 143.7000,2,   144.7,2,  159.60,2,   36.66,2,    0.00,2,    2.53,2,-999.000,9,-999.000,9,-999.000,9,  -999.0,9,  -999.0,9,-999.000,9,-999.0000,9, -999.00,9, -999.00,9,  -999.0,9,  -999.0,-999.000,9,-999.000, -999.00,9, 3965.30,-999.0000,9,-999.0000,9,-999.0000,9,-999.0000,9,-999.0000,9,-999.0000,-999.000,-999.0000,9, -999.00
318M20040615,        P02,     140,          1,          5,          5,2,20040814,       0739,    29.9988,   -144.396,       5168,  4274.4,   1.4815,  34.6875,2,  34.6872,2, 148.7000,2,   148.9,2,  156.75,2,   36.61,2,    0.00,2,    2.51,2,   0.004,2,   0.006,2,   0.000,2,  -999.0,9,  -999.0,9,-999.000,9,-999.0000,9, -999.00,9, -999.00,9,  -999.0,9,  -999.0,-999.000,9,-999.000, -999.00,9, 4274.40,-999.0000,9,-999.0000,9,-999.0000,9,-999.0000,9,-999.0000,9,-999.0000,-999.000,-999.0000,9, -999.00
318M20040615,        P02,     140,          1,          4,          4,2,20040814,       0739,    29.9988,   -144.396,       5168,  4576.7,   1.4997,  34.6892,2,  34.6919,2, 152.4000,2,   152.8,2,  153.70,2,   36.61,2,    0.00,2,    2.49,2,   0.001,2,   0.005,2,   0.000,2,  -999.0,9,  -999.0,9,-999.000,9,-999.0000,9, -999.00,9, -999.00,9,  -999.0,9,  -999.0,-999.000,9,-999.000, -999.00,9, 4576.70,-999.0000,9,-999.0000,9,-999.0000,9,-999.0000,9,-999.0000,9,-999.0000,-999.000,-999.0000,9, -999.00
318M20040615,        P02,     140,          1,          3,          3,2,20040814,       0739,    29.9988,   -144.396,       5168,  4871.0,   1.5249,  34.6900,2,  34.6889,2, 154.8000,2,   154.9,2,  151.66,2,   36.45,2,    0.00,2,    2.47,2,   0.001,2,   0.005,2,   0.000,2,  -999.0,9,  -999.0,9,-999.000,9,-999.0000,9, -999.00,9, -999.00,9,  -999.0,9,  -999.0,-999.000,9,-999.000, -999.00,9, 4871.00,-999.0000,9,-999.0000,9,-999.0000,9,-999.0000,9,-999.0000,9,-999.0000,-999.000,-999.0000,9, -999.00
318M20040615,        P02,     140,          1,          2,          2,2,20040814,       0739,    29.9988,   -144.396,       5168,  5077.9,   1.5461,  34.6903,2,  34.6896,2, 155.9000,2,   156.1,2,  150.43,2,   36.23,2,    0.00,2,    2.47,2,   0.004,2,   0.006,2,   0.000,2,  -999.0,9,  -999.0,9,-999.000,9,-999.0000,9, -999.00,9, -999.00,9,  -999.0,9,  -999.0,-999.000,9,-999.000, -999.00,9, 5077.90,-999.0000,9,-999.0000,9,-999.0000,9,-999.0000,9,-999.0000,9,-999.0000,-999.000,-999.0000,9, -999.00
318M20040615,        P02,     140,          1,          1,          1,2,20040814,       0739,    29.9988,   -144.396,       5168,  5281.3,   1.5720,  34.6903,2,  34.6992,2, 155.5000,3,   156.5,2,  150.21,2,   36.12,2,    0.00,2,    2.47,2,   0.008,2,   0.004,2,   0.000,2,  -999.0,9,  -999.0,9,-999.000,9,-999.0000,9, -999.00,9, -999.00,9,  -999.0,9,  -999.0,-999.000,9,-999.000, -999.00,9, 5281.30,-999.0000,9,-999.0000,9,-999.0000,9,-999.0000,9,-999.0000,9,-999.0000,-999.000,-999.0000,9, -999.00