BOTTLE,20131027SIOCCHRJL
EXPOCODE,SECT_ID,STNNBR,CASTNO,SAMPNO,BTLNBR,BTLNBR_FLAG_W,DATE,TIME,LATITUDE,LONGITUDE,DEPTH,CTDPRS,CTDTMP,CTDSAL,CTDSAL_FLAG_W,SALNTY,SALNTY_FLAG_W,CTDOXY,CTDOXY_FLAG_W,OXYGEN,OXYGEN_FLAG_W,SILCAT,SILCAT_FLAG_W,NITRAT,NITRAT_FLAG_W,NITRIT,NITRIT_FLAG_W,PHSPHT,PHSPHT_FLAG_W,CFC-11,CFC-11_FLAG_W,CFC-12,CFC-12_FLAG_W,CFC113,CFC113_FLAG_W,TCARBN,TCARBN_FLAG_W,ALKALI,ALKALI_FLAG_W,TRITUM,TRITUM_FLAG_W,HELIUM,HELIUM_FLAG_W,DELHE3,DELHE3_FLAG_W,DELC13,DELC13_FLAG_W,DELC14,DELC14_FLAG_W,C14ERR,NEON,NEON_FLAG_W,NEONER,DOC,DOC_FLAG_W,CTDRAW,CDOM380,CDOM380_FLAG_W,CDOM325,CDOM325_FLAG_W,CDOMSL,CDOMSL_FLAG_W,CDOM340,CDOM340_FLAG_W,CDOMSN,CDOMSN_FLAG_W,HELIER,TRITER,CDOM412,CDOM412_FLAG_W,DELHER
,,,,,,,,,,,METERS,DBAR,ITS-90,PSS-78,,PSS-78,,UMOL/KG,,UMOL/KG,,UMOL/KG,,UMOL/KG,,UMOL/KG,,UMOL/KG,,PMOL/KG,,PMOL/KG,,PMOL/KG,,UMOL/KG,,UMOL/KG,,TU,,NMOL/KG,,PERCNT,,/MILLE,,/MILLE,,/MILLE,NMOL/KG,,NMOL/KG,UMOL/KG,,DBAR,1/M,,1/M,,1/NM,,1/M,,1/NM,,NMOL/KG,TU,1/M,,PERCNT
318M20040615,        P02,     135,          1,         36,         36,2,20040812,       1706,    29.9988,  -148.1512,       4912,     4.4,  25.3905,  35.1745,2,  35.1740,2, 209.6000,2,   210.1,2,    1.44,2,    0.03,2,    0.00,2,    0.02,2,   1.826,2,   1.145,2,   0.132,2,  2002.3,2,  2316.6,6,-999.000,9,-999.0000,9, -999.00,9, -999.00,9,  -999.0,9,  -999.0,-999.000,9,-999.000,   72.10,2,    4.40,-999.0000,9,-999.0000,9,-999.0000,9,-999.0000,9,-999.0000,9,-999.0000,-999.000,-999.0000,9, -999.00
318M20040615,        P02,     135,          1,         35,         35,2,20040812,       1706,    29.9988,  -148.1512,       4912,    41.0,  20.7716,  34.6187,2,  34.6415,2, 244.7000,2,   243.7,2,    2.21,2,    0.03,2,    0.00,2,    0.02,2,-999.000,9,-999.000,9,-999.000,9,  1997.8,2,  2283.1,2,-999.000,9,-999.0000,9, -999.00,9, -999.00,9,  -999.0,9,  -999.0,-999.000,9,-999.000,   66.70,2,   41.00,-999.0000,9,-999.0000,9,-999.0000,9,-999.0000,9,-999.0000,9,-999.0000,-999.000,-999.0000,9, -999.00
318M20040615,        P02,     135,          1,         34,         34,2,20040812,       1706,    29.9988,  -148.1512,       4912,    85.6,  17.1188,  34.4265,2,  34.4278,2, 244.3000,2,   246.0,2,    2.78,2,    0.03,2,    0.00,2,    0.08,2,   2.621,2,   1.549,2,   0.174,2,  2006.6,2,  2269.3,2,-999.000,9,-999.0000,9, -999.00,9, -999.00,9,  -999.0,9,  -999.0,-999.000,9,-999.000,   61.40,2,   85.60,-999.0000,9,-999.0000,9,-999.0000,9,-999.0000,9,-999.0000,9,-999.0000,-999.000,-999.0000,9, -999.00
318M20040615,        P02,     135,          1,         33,         33,2,20040812,       1706,    29.9988,  -148.1512,       4912,   135.5,  14.6212,  34.2097,2,  34.2122,2, 227.9000,2,   227.5,2,    4.32,2,    2.85,2,    0.07,2,    0.33,2,   2.891,2,   1.647,2,   0.170,2,  2033.9,2,  2257.1,2,-999.000,9,-999.0000,9, -999.00,9, -999.00,9,  -999.0,9,  -999.0,-999.000,9,-999.000,   53.80,2,  135.50,-999.0000,9,-999.0000,9,-999.0000,9,-999.0000,9,-999.0000,9,-999.0000,-999.000,-999.0000,9, -999.00
318M20040615,        P02,     135,          1,         32,         32,2,20040812,       1706,    29.9988,  -148.1512,       4912,   185.3,  12.8318,  34.1324,2,  34.1405,2, 224.4000,2,   226.3,2,    6.84,2,    6.87,2,    0.01,2,    0.57,2,   3.157,2,   1.764,2,   0.135,2,  2052.6,2,  2253.8,2,-999.000,9,-999.0000,9, -999.00,9, -999.00,9,  -999.0,9,  -999.0,-999.000,9,-999.000,   47.20,2,  185.30,-999.0000,9,-999.0000,9,-999.0000,9,-999.0000,9,-999.0000,9,-999.0000,-999.000,-999.0000,9, -999.00
318M20040615,        P02,     135,          1,         31,         31,2,20040812,       1706,    29.9988,  -148.1512,       4912,   235.0,  11.8765,  34.1555,2,  34.1571,2, 222.3000,2,   223.0,2,    9.93,2,    9.89,2,    0.01,2,    0.73,2,   3.256,2,   1.813,2,   0.094,2,  2069.0,2,  2256.2,2,-999.000,9,-999.0000,9, -999.00,9, -999.00,9,  -999.0,9,  -999.0,-999.000,9,-999.000,   46.50,2,  235.00,-999.0000,9,-999.0000,9,-999.0000,9,-999.0000,9,-999.0000,9,-999.0000,-999.000,-999.0000,9, -999.00
318M20040615,        P02,     135,          1,         30,         30,2,20040812,       1706,    29.9988,  -148.1512,       4912,   284.9,  10.9123,  34.1374,2,  34.1387,2, 218.4000,2,   219.3,2,   13.61,2,   12.72,2,    0.00,2,    0.92,2,   3.340,2,   1.840,2,   0.091,2,  2084.9,2,  2258.2,2,-999.000,9,-999.0000,9, -999.00,9, -999.00,9,  -999.0,9,  -999.0,-999.000,9,-999.000,   44.80,3,  284.90,-999.0000,9,-999.0000,9,-999.0000,9,-999.0000,9,-999.0000,9,-999.0000,-999.000,-999.0000,9, -999.00
318M20040615,        P02,     135,          1,         29,         29,2,20040812,       1706,    29.9988,  -148.1512,       4912,   335.1,  10.0754,  34.1250,2,  34.1261,2, 212.0000,2,   212.2,2,   17.68,2,   15.13,2,    0.00,2,    1.08,2,-999.000,9,-999.000,9,-999.000,9,  2101.4,2,  2262.1,2,-999.000,9,-999.0000,9, -999.00,9, -999.00,9,  -999.0,9,  -999.0,-999.000,9,-999.000,   47.70,3,  335.10,-999.0000,9,-999.0000,9,-999.0000,9,-999.0000,9,-999.0000,9,-999.0000,-999.000,-999.0000,9, -999.00
318M20040615,        P02,     135,          1,         28,         28,2,20040812,       1706,    29.9988,  -148.1512,       4912,   389.8,   9.0808,  34.0969,2,  34.0989,2, 191.7000,2,   191.5,2,   25.07,2,   19.12,2,    0.00,2,    1.35,2,   3.202,2,   1.673,2,   0.100,2,  2130.4,2,  2267.1,2,-999.000,9,-999.0000,9, -999.00,9, -999.00,9,  -999.0,9,  -999.0,-999.000,9,-999.000, -999.00,9,  389.80,-999.0000,9,-999.0000,9,-999.0000,9,-999.0000,9,-999.0000,9,-999.0000,-999.000,-999.0000,9, -999.00
318M20040615,        P02,     135,          1,         27,         27,2,20040812,       1706,    29.9988,  -148.1512,       4912,   439.0,   8.1844,  34.0667,2,  34.0685,2, 167.6000,2,   169.1,2,   33.84,2,   23.13,2,    0.00,2,    1.62,2,-999.000,9,-999.000,9,-999.000,9,  2158.5,2,  2272.3,2,-999.000,9,-999.0000,9, -999.00,9, -999.00,9,  -999.0,9,  -999.0,-999.000,9,-999.000,   44.50,2,  439.00,-999.0000,9,-999.0000,9,-999.0000,9,-999.0000,9,-999.0000,9,-999.0000,-999.000,-999.0000,9, -999.00
318M20040615,        P02,     135,          1,         26,         26,2,20040812,       1706,    29.9988,  -148.1512,       4912,   493.0,   7.0482,  34.0199,2,  34.0221,2, 138.6000,2,   138.7,2,   45.37,2,   28.02,2,    0.00,2,    2.00,2,   2.231,2,   1.110,2,   0.076,2,  2194.1,2,  2279.8,2,-999.000,9,-999.0000,9, -999.00,9, -999.00,9,  -999.0,9,  -999.0,-999.000,9,-999.000, -999.00,9,  493.00,-999.0000,9,-999.0000,9,-999.0000,9,-999.0000,9,-999.0000,9,-999.0000,-999.000,-999.0000,9, -999.00
318M20040615,        P02,     135,          1,         25,         25,2,20040812,       1706,    29.9988,  -148.1512,       4912,   575.4,   5.7688,  34.0193,2,  34.0203,2,  94.5000,2,    97.1,2,   63.82,2,   33.90,2,    0.00,2,    2.46,2,   1.293,2,   0.643,2,   0.030,2,  2243.1,2,  2293.1,2,-999.000,9,-999.0000,9, -999.00,9, -999.00,9,  -999.0,9,  -999.0,-999.000,9,-999.000,   41.40,2,  575.40,-999.0000,9,-999.0000,9,-999.0000,9,-999.0000,9,-999.0000,9,-999.0000,-999.000,-999.0000,9, -999.00
318M20040615,        P02,     135,          1,         24,         24,2,20040812,       1706,    29.9988,  -148.1512,       4912,   676.7,   4.7685,  34.0843,2,  34.0844,2,  53.5000,2,    53.4,2,   85.92,2,   39.43,2,    0.00,2,    2.85,2,   0.515,2,   0.258,2,   0.009,2,  2295.1,2,  2314.8,2,-999.000,9,-999.0000,9, -999.00,9, -999.00,9,  -999.0,9,  -999.0,-999.000,9,-999.000,   40.30,2,  676.70,-999.0000,9,-999.0000,9,-999.0000,9,-999.0000,9,-999.0000,9,-999.0000,-999.000,-999.0000,9, -999.00
318M20040615,        P02,     135,          1,         23,         23,2,20040812,       1706,    29.9988,  -148.1512,       4912,   778.7,   4.1815,  34.1969,2,  34.1985,2,  24.0000,2,    23.6,2,  105.14,2,   42.79,2,    0.00,2,    3.08,2,   0.107,2,   0.056,2,   0.000,2,  2335.5,2,  2337.0,2,-999.000,9,-999.0000,9, -999.00,9, -999.00,9,  -999.0,9,  -999.0,-999.000,9,-999.000,   39.80,2,  778.70,-999.0000,9,-999.0000,9,-999.0000,9,-999.0000,9,-999.0000,9,-999.0000,-999.000,-999.0000,9, -999.00
318M20040615,        P02,     135,          1,         22,         22,2,20040812,       1706,    29.9988,  -148.1512,       4912,   878.3,   3.9117,  34.2916,2,  34.2930,2,  14.4000,2,    14.0,2,  115.89,2,   44.09,2,    0.00,2,    3.17,2,   0.023,2,   0.012,2,   0.000,2,  2353.2,2,  2353.4,2,-999.000,9,-999.0000,9, -999.00,9, -999.00,9,  -999.0,9,  -999.0,-999.000,9,-999.000,   37.40,2,  878.30,-999.0000,9,-999.0000,9,-999.0000,9,-999.0000,9,-999.0000,9,-999.0000,-999.000,-999.0000,9, -999.00
318M20040615,        P02,     135,          1,         21,         21,2,20040812,       1706,    29.9988,  -148.1512,       4912,   977.4,   3.6729,  34.3692,2,  34.3695,2,  14.9000,2,    15.2,2,  123.46,2,   44.21,2,    0.00,2,    3.19,2,   0.008,2,   0.004,2,   0.000,2,  2362.6,6,  2365.9,2,-999.000,9,-999.0000,9, -999.00,9, -999.00,9,  -999.0,9,  -999.0,-999.000,9,-999.000, -999.00,9,  977.40,-999.0000,9,-999.0000,9,-999.0000,9,-999.0000,9,-999.0000,9,-999.0000,-999.000,-999.0000,9, -999.00
318M20040615,        P02,     135,          1,         20,         20,2,20040812,       1706,    29.9988,  -148.1512,       4912,  1083.2,   3.4237,  34.4441,2,  34.4454,2,  22.1000,2,    23.3,2,  129.65,2,   43.82,2,    0.00,2,    3.16,2,   0.005,2,   0.008,2,   0.000,2,  2367.6,2,  2379.3,2,-999.000,9,-999.0000,9, -999.00,9, -999.00,9,  -999.0,9,  -999.0,-999.000,9,-999.000,   37.30,2, 1083.20,-999.0000,9,-999.0000,9,-999.0000,9,-999.0000,9,-999.0000,9,-999.0000,-999.000,-999.0000,9, -999.00
318M20040615,        P02,     135,          1,         19,         19,2,20040812,       1706,    29.9988,  -148.1512,       4912,  1183.1,   3.2422,  34.4811,2,  34.4821,2,  29.9000,2,    30.7,2,  133.84,2,   43.33,2,    0.00,2,    3.13,2,   0.003,2,   0.002,2,   0.000,2,  2369.6,2,  2385.6,2,-999.000,9,-999.0000,9, -999.00,9, -999.00,9,  -999.0,9,  -999.0,-999.000,9,-999.000, -999.00,9, 1183.10,-999.0000,9,-999.0000,9,-999.0000,9,-999.0000,9,-999.0000,9,-999.0000,-999.000,-999.0000,9, -999.00
318M20040615,        P02,     135,          1,         18,         18,2,20040812,       1706,    29.9988,  -148.1512,       4912,  1292.6,   3.0263,  34.5145,2,  34.5151,2,  39.2000,2,    40.2,2,  138.06,2,   42.74,2,    0.00,2,    3.09,2,-999.000,9,-999.000,9,-999.000,9,  2369.8,2,  2394.7,6,-999.000,9,-999.0000,9, -999.00,9, -999.00,9,  -999.0,9,  -999.0,-999.000,9,-999.000,   38.10,2, 1292.60,-999.0000,9,-999.0000,9,-999.0000,9,-999.0000,9,-999.0000,9,-999.0000,-999.000,-999.0000,9, -999.00
318M20040615,        P02,     135,          1,         17,         17,2,20040812,       1706,    29.9988,  -148.1512,       4912,  1384.8,   2.8459,  34.5346,2,  34.5367,2,  45.3000,2,    46.1,2,  142.89,2,   42.43,2,    0.00,2,    3.05,2,   0.001,2,   0.001,2,   0.000,2,  2370.2,2,  2399.2,2,-999.000,9,-999.0000,9, -999.00,9, -999.00,9,  -999.0,9,  -999.0,-999.000,9,-999.000, -999.00,9, 1384.80,-999.0000,9,-999.0000,9,-999.0000,9,-999.0000,9,-999.0000,9,-999.0000,-999.000,-999.0000,9, -999.00
318M20040615,        P02,     135,          1,         16,         16,2,20040812,       1706,    29.9988,  -148.1512,       4912,  1484.1,   2.6503,  34.5558,2,  34.5572,2,  53.3000,2,    54.5,2,  146.69,2,   41.83,2,    0.00,2,    3.01,2,-999.000,9,-999.000,9,-999.000,9,  2369.9,2,  2403.9,2,-999.000,9,-999.0000,9, -999.00,9, -999.00,9,  -999.0,9,  -999.0,-999.000,9,-999.000, -999.00,9, 1484.10,-999.0000,9,-999.0000,9,-999.0000,9,-999.0000,9,-999.0000,9,-999.0000,-999.000,-999.0000,9, -999.00
318M20040615,        P02,     135,          1,         15,         15,2,20040812,       1706,    29.9988,  -148.1512,       4912,  1584.7,   2.5196,  34.5692,2,  34.5699,2,  59.4000,2,    59.2,2,  150.51,2,   41.67,2,    0.00,2,    2.98,2,   0.000,2,  -0.001,2,   0.000,2,  2369.7,2,  2409.3,2,-999.000,9,-999.0000,9, -999.00,9, -999.00,9,  -999.0,9,  -999.0,-999.000,9,-999.000,   36.70,2, 1584.70,-999.0000,9,-999.0000,9,-999.0000,9,-999.0000,9,-999.0000,9,-999.0000,-999.000,-999.0000,9, -999.00
318M20040615,        P02,     135,          1,         14,         14,2,20040812,       1706,    29.9988,  -148.1512,       4912,  1684.1,   2.3815,  34.5823,2,  34.5831,2,  64.3000,2,    64.1,2,  153.92,2,   41.73,2,    0.00,2,    2.96,2,-999.000,9,-999.000,9,-999.000,9,  2370.8,2,  2411.4,2,-999.000,9,-999.0000,9, -999.00,9, -999.00,9,  -999.0,9,  -999.0,-999.000,9,-999.000, -999.00,9, 1684.10,-999.0000,9,-999.0000,9,-999.0000,9,-999.0000,9,-999.0000,9,-999.0000,-999.000,-999.0000,9, -999.00
318M20040615,        P02,     135,          1,         13,         13,2,20040812,       1706,    29.9988,  -148.1512,       4912,  1787.4,   2.2412,  34.5949,2,  34.5960,2,  69.3000,2,    69.1,2,  157.33,2,   41.73,2,    0.00,2,    2.93,2,   0.003,2,  -0.001,2,   0.000,2,  2370.4,2,  2415.0,2,-999.000,9,-999.0000,9, -999.00,9, -999.00,9,  -999.0,9,  -999.0,-999.000,9,-999.000, -999.00,9, 1787.40,-999.0000,9,-999.0000,9,-999.0000,9,-999.0000,9,-999.0000,9,-999.0000,-999.000,-999.0000,9, -999.00
318M20040615,        P02,     135,          1,          6,          6,2,20040812,       1706,    29.9988,  -148.1512,       4912,  1891.4,   2.1447,  34.6042,2,  34.6048,2,  72.7000,2,    72.9,2,  160.74,2,   41.40,2,    0.00,2,    2.91,2,   0.005,2,   0.003,2,   0.000,2,  2369.0,2,  2417.9,2,-999.000,9,-999.0000,9, -999.00,9, -999.00,9,  -999.0,9,  -999.0,-999.000,9,-999.000,   37.10,2, 1891.40,-999.0000,9,-999.0000,9,-999.0000,9,-999.0000,9,-999.0000,9,-999.0000,-999.000,-999.0000,9, -999.00
318M20040615,        P02,     135,          1,          5,          5,2,20040812,       1706,    29.9988,  -148.1512,       4912,  1989.2,   2.0279,  34.6150,2,  34.6154,2,  78.0000,2,    78.1,2,  163.16,2,   40.86,2,    0.00,2,    2.89,2,   0.004,2,   0.002,2,   0.000,2,  2369.0,2,  2422.4,2,-999.000,9,-999.0000,9, -999.00,9, -999.00,9,  -999.0,9,  -999.0,-999.000,9,-999.000, -999.00,9, 1989.20,-999.0000,9,-999.0000,9,-999.0000,9,-999.0000,9,-999.0000,9,-999.0000,-999.000,-999.0000,9, -999.00
318M20040615,        P02,     135,          1,          4,          4,2,20040812,       1706,    29.9988,  -148.1512,       4912,  2194.8,   1.8575,  34.6314,2,  34.6313,2,  86.5000,2,    87.8,2,  168.21,2,   40.17,2,    0.00,2,    2.85,2,-999.000,9,-999.000,9,-999.000,9,  2368.7,2,  2426.7,2,-999.000,9,-999.0000,9, -999.00,9, -999.00,9,  -999.0,9,  -999.0,-999.000,9,-999.000,   37.50,2, 2194.80,-999.0000,9,-999.0000,9,-999.0000,9,-999.0000,9,-999.0000,9,-999.0000,-999.000,-999.0000,9, -999.00
318M20040615,        P02,     135,          1,          3,          3,2,20040812,       1706,    29.9988,  -148.1512,       4912,  2452.5,   1.7206,  34.6456,2,  34.6461,2,  97.8000,2,    98.3,2,  169.42,2,   39.52,2,    0.00,2,    2.79,2,   0.005,2,   0.003,2,   0.000,2,  2364.0,2,  2428.7,2,-999.000,9,-999.0000,9, -999.00,9, -999.00,9,  -999.0,9,  -999.0,-999.000,9,-999.000, -999.00,9, 2452.50,-999.0000,9,-999.0000,9,-999.0000,9,-999.0000,9,-999.0000,9,-999.0000,-999.000,-999.0000,9, -999.00
318M20040615,        P02,     135,          1,          2,          2,2,20040812,       1706,    29.9988,  -148.1512,       4912,  2704.7,   1.6302,  34.6559,2,  34.6563,2, 106.5000,2,   107.4,2,  170.03,2,   38.94,2,    0.00,2,    2.74,2,-999.000,9,-999.000,9,-999.000,9,  2360.5,2,  2429.5,2,-999.000,9,-999.0000,9, -999.00,9, -999.00,9,  -999.0,9,  -999.0,-999.000,9,-999.000,   36.40,2, 2704.70,-999.0000,9,-999.0000,9,-999.0000,9,-999.0000,9,-999.0000,9,-999.0000,-999.000,-999.0000,9, -999.00
318M20040615,        P02,     135,          1,          1,          1,2,20040812,       1706,    29.9988,  -148.1512,       4912,  2962.8,   1.5509,  34.6657,2,  34.6657,2, 117.8000,2,   118.5,2,  168.59,2,   38.19,2,    0.00,2,    2.68,2,   0.009,2,   0.001,2,   0.000,2,  2352.6,6,  2429.2,6,-999.000,9,-999.0000,9, -999.00,9, -999.00,9,  -999.0,9,  -999.0,-999.000,9,-999.000,   37.90,2, 2962.80,-999.0000,9,-999.0000,9,-999.0000,9,-999.0000,9,-999.0000,9,-999.0000,-999.000,-999.0000,9, -999.00
318M20040615,        P02,     135,          1,         12,         12,2,20040812,       1706,    29.9988,  -148.1512,       4912,  3302.1,   1.5039,  34.6739,2,  34.6750,2, 129.1000,2,   128.9,2,  165.34,2,   37.54,2,    0.00,2,    2.62,2,   0.007,2,   0.003,2,   0.000,2,  2347.2,2,  2429.0,2,-999.000,9,-999.0000,9, -999.00,9, -999.00,9,  -999.0,9,  -999.0,-999.000,9,-999.000,   38.00,2, 3302.10,-999.0000,9,-999.0000,9,-999.0000,9,-999.0000,9,-999.0000,9,-999.0000,-999.000,-999.0000,9, -999.00
318M20040615,        P02,     135,          1,         11,         11,2,20040812,       1706,    29.9988,  -148.1512,       4912,  3706.8,   1.4728,  34.6818,2,  34.6817,2, 140.4000,2,   140.6,2,  159.87,2,   36.95,2,    0.00,2,    2.55,2,   0.006,2,   0.005,2,   0.000,2,  2337.1,2,  2430.3,2,-999.000,9,-999.0000,9, -999.00,9, -999.00,9,  -999.0,9,  -999.0,-999.000,9,-999.000,   37.20,2, 3706.80,-999.0000,9,-999.0000,9,-999.0000,9,-999.0000,9,-999.0000,9,-999.0000,-999.000,-999.0000,9, -999.00
318M20040615,        P02,     135,          1,         10,         10,2,20040812,       1706,    29.9988,  -148.1512,       4912,  4116.7,   1.4710,  34.6863,2,  34.6866,2, 148.0000,2,   148.5,2,  155.22,2,   36.42,2,    0.00,2,    2.51,2,   0.012,2,   0.008,2,   0.000,2,  2330.7,2,  2425.9,2,-999.000,9,-999.0000,9, -999.00,9, -999.00,9,  -999.0,9,  -999.0,-999.000,9,-999.000,   37.00,2, 4116.70,-999.0000,9,-999.0000,9,-999.0000,9,-999.0000,9,-999.0000,9,-999.0000,-999.000,-999.0000,9, -999.00
318M20040615,        P02,     135,          1,          9,          9,2,20040812,       1706,    29.9988,  -148.1512,       4912,  4529.8,   1.4828,  34.6895,2,  34.6891,2, 153.8000,2,   154.3,2,  151.40,2,   35.94,2,    0.00,2,    2.48,2,   0.017,2,   0.009,2,   0.000,2,  2325.9,2,  2424.0,2,-999.000,9,-999.0000,9, -999.00,9, -999.00,9,  -999.0,9,  -999.0,-999.000,9,-999.000, -999.00,9, 4529.80,-999.0000,9,-999.0000,9,-999.0000,9,-999.0000,9,-999.0000,9,-999.0000,-999.000,-999.0000,9, -999.00
318M20040615,        P02,     135,          1,          8,          8,2,20040812,       1706,    29.9988,  -148.1512,       4912,  4799.7,   1.4987,  34.6907,2,  34.6907,2, 156.6000,2,   157.5,2,  148.37,2,   35.69,2,    0.00,2,    2.47,2,   0.045,3,   0.012,6,   0.000,6,  2323.9,2,  2420.8,2,-999.000,9,-999.0000,9, -999.00,9, -999.00,9,  -999.0,9,  -999.0,-999.000,9,-999.000, -999.00,9, 4799.70,-999.0000,9,-999.0000,9,-999.0000,9,-999.0000,9,-999.0000,9,-999.0000,-999.000,-999.0000,9, -999.00
318M20040615,        P02,     135,          1,          7,          7,2,20040812,       1706,    29.9988,  -148.1512,       4912,  5002.3,   1.5150,  34.6914,2,  34.6919,2, 158.5000,2,   159.0,2,  147.15,2,   35.53,2,    0.00,2,    2.46,2,   0.021,2,   0.008,2,   0.000,2,  2322.2,2,  2422.6,2,-999.000,9,-999.0000,9, -999.00,9, -999.00,9,  -999.0,9,  -999.0,-999.000,9,-999.000,   36.80,2, 5002.30,-999.0000,9,-999.0000,9,-999.0000,9,-999.0000,9,-999.0000,9,-999.0000,-999.000,-999.0000,9, -999.00