BOTTLE,20131027SIOCCHRJL
EXPOCODE,SECT_ID,STNNBR,CASTNO,SAMPNO,BTLNBR,BTLNBR_FLAG_W,DATE,TIME,LATITUDE,LONGITUDE,DEPTH,CTDPRS,CTDTMP,CTDSAL,CTDSAL_FLAG_W,SALNTY,SALNTY_FLAG_W,CTDOXY,CTDOXY_FLAG_W,OXYGEN,OXYGEN_FLAG_W,SILCAT,SILCAT_FLAG_W,NITRAT,NITRAT_FLAG_W,NITRIT,NITRIT_FLAG_W,PHSPHT,PHSPHT_FLAG_W,CFC-11,CFC-11_FLAG_W,CFC-12,CFC-12_FLAG_W,CFC113,CFC113_FLAG_W,TCARBN,TCARBN_FLAG_W,ALKALI,ALKALI_FLAG_W,TRITUM,TRITUM_FLAG_W,HELIUM,HELIUM_FLAG_W,DELHE3,DELHE3_FLAG_W,DELC13,DELC13_FLAG_W,DELC14,DELC14_FLAG_W,C14ERR,NEON,NEON_FLAG_W,NEONER,DOC,DOC_FLAG_W,CTDRAW,CDOM380,CDOM380_FLAG_W,CDOM325,CDOM325_FLAG_W,CDOMSL,CDOMSL_FLAG_W,CDOM340,CDOM340_FLAG_W,CDOMSN,CDOMSN_FLAG_W,HELIER,TRITER,CDOM412,CDOM412_FLAG_W,DELHER
,,,,,,,,,,,METERS,DBAR,ITS-90,PSS-78,,PSS-78,,UMOL/KG,,UMOL/KG,,UMOL/KG,,UMOL/KG,,UMOL/KG,,UMOL/KG,,PMOL/KG,,PMOL/KG,,PMOL/KG,,UMOL/KG,,UMOL/KG,,TU,,NMOL/KG,,PERCNT,,/MILLE,,/MILLE,,/MILLE,NMOL/KG,,NMOL/KG,UMOL/KG,,DBAR,1/M,,1/M,,1/NM,,1/M,,1/NM,,NMOL/KG,TU,1/M,,PERCNT
318M20040615,        P02,     115,          1,         36,         36,2,20040802,       1622,    30.0003,  -162.4757,       5608,     6.4,  25.4574,  35.3897,2,  35.3894,2, 209.9000,2,   209.7,2,    1.37,2,    0.02,2,    0.00,2,    0.03,2,   1.780,2,   1.087,2,   0.135,2,  2014.1,6,  2327.9,6,-999.000,9,-999.0000,9, -999.00,9, -999.00,9,  -999.0,9,  -999.0,-999.000,9,-999.000, -999.00,9,    6.40,-999.0000,9,-999.0000,9,-999.0000,9,-999.0000,9,-999.0000,9,-999.0000,-999.000,-999.0000,9, -999.00
318M20040615,        P02,     115,          1,         35,         35,2,20040802,       1622,    30.0003,  -162.4757,       5608,    51.0,  20.0222,  35.0413,2,  35.0403,2, 241.4000,2,   240.4,2,    1.93,2,    0.07,2,    0.00,2,    0.06,2,-999.000,9,-999.000,9,-999.000,9,  2013.2,2,  2306.3,2,-999.000,9,-999.0000,9, -999.00,9, -999.00,9,  -999.0,9,  -999.0,-999.000,9,-999.000, -999.00,9,   51.00,-999.0000,9,-999.0000,9,-999.0000,9,-999.0000,9,-999.0000,9,-999.0000,-999.000,-999.0000,9, -999.00
318M20040615,        P02,     115,          1,         34,         34,2,20040802,       1622,    30.0003,  -162.4757,       5608,   101.2,  16.8375,  34.7239,2,  34.7221,2, 240.0000,2,   240.7,2,    2.68,2,    0.06,2,    0.01,2,    0.11,2,   2.645,2,   1.546,2,   0.177,2,  2020.7,2,  2287.8,2,-999.000,9,-999.0000,9, -999.00,9, -999.00,9,  -999.0,9,  -999.0,-999.000,9,-999.000, -999.00,9,  101.20,-999.0000,9,-999.0000,9,-999.0000,9,-999.0000,9,-999.0000,9,-999.0000,-999.000,-999.0000,9, -999.00
318M20040615,        P02,     115,          1,         33,         33,2,20040802,       1622,    30.0003,  -162.4757,       5608,   151.4,  15.5319,  34.5918,2,  34.5979,2, 227.7000,2,   230.2,2,    3.62,2,    2.77,2,    0.06,2,    0.27,2,-999.000,9,-999.000,9,-999.000,9,  2033.8,2,  2276.9,2,-999.000,9,-999.0000,9, -999.00,9, -999.00,9,  -999.0,9,  -999.0,-999.000,9,-999.000, -999.00,9,  151.40,-999.0000,9,-999.0000,9,-999.0000,9,-999.0000,9,-999.0000,9,-999.0000,-999.000,-999.0000,9, -999.00
318M20040615,        P02,     115,          1,         32,         32,2,20040802,       1622,    30.0003,  -162.4757,       5608,   200.9,  13.9336,  34.4095,2,  34.4088,2, 222.5000,2,   222.6,2,    6.27,2,    6.48,2,    0.01,2,    0.51,2,   2.930,2,   1.672,2,   0.119,2,  2050.6,2,  2265.0,2,-999.000,9,-999.0000,9, -999.00,9, -999.00,9,  -999.0,9,  -999.0,-999.000,9,-999.000, -999.00,9,  200.90,-999.0000,9,-999.0000,9,-999.0000,9,-999.0000,9,-999.0000,9,-999.0000,-999.000,-999.0000,9, -999.00
318M20040615,        P02,     115,          1,         31,         31,2,20040802,       1622,    30.0003,  -162.4757,       5608,   250.6,  12.8727,  34.3587,2,  34.3556,2, 220.0000,3,   221.6,2,    9.12,2,    9.20,2,    0.01,2,    0.68,2,   3.079,2,   1.731,2,   0.097,2,  2064.8,2,  2265.8,2,-999.000,9,-999.0000,9, -999.00,9, -999.00,9,  -999.0,9,  -999.0,-999.000,9,-999.000, -999.00,9,  250.60,-999.0000,9,-999.0000,9,-999.0000,9,-999.0000,9,-999.0000,9,-999.0000,-999.000,-999.0000,9, -999.00
318M20040615,        P02,     115,          1,         30,         30,2,20040802,       1622,    30.0003,  -162.4757,       5608,   300.7,  11.8458,  34.2817,2,  34.2781,2, 218.9000,3,   220.9,2,   11.97,2,   11.25,2,    0.01,2,    0.82,2,-999.000,9,-999.000,9,-999.000,9,  2078.7,2,  2265.7,2,-999.000,9,-999.0000,9, -999.00,9, -999.00,9,  -999.0,9,  -999.0,-999.000,9,-999.000, -999.00,9,  300.70,-999.0000,9,-999.0000,9,-999.0000,9,-999.0000,9,-999.0000,9,-999.0000,-999.000,-999.0000,9, -999.00
318M20040615,        P02,     115,          1,         29,         29,2,20040802,       1622,    30.0003,  -162.4757,       5608,   350.6,  11.1036,  34.2375,2,  34.2364,2, 216.0000,3,   216.5,2,   14.63,2,   13.05,2,    0.01,2,    0.95,2,   3.237,2,   1.749,2,   0.091,2,  2090.0,2,  2267.0,2,-999.000,9,-999.0000,9, -999.00,9, -999.00,9,  -999.0,9,  -999.0,-999.000,9,-999.000, -999.00,9,  350.60,-999.0000,9,-999.0000,9,-999.0000,9,-999.0000,9,-999.0000,9,-999.0000,-999.000,-999.0000,9, -999.00
318M20040615,        P02,     115,          1,         28,         28,2,20040802,       1622,    30.0003,  -162.4757,       5608,   405.7,  10.0299,  34.1745,2,  34.1709,2, 210.9000,3,   210.7,2,   19.58,2,   15.67,2,    0.01,2,    1.14,2,   3.236,2,   1.733,2,   0.111,2,  2108.0,2,  2268.8,2,-999.000,9,-999.0000,9, -999.00,9, -999.00,9,  -999.0,9,  -999.0,-999.000,9,-999.000, -999.00,9,  405.70,-999.0000,9,-999.0000,9,-999.0000,9,-999.0000,9,-999.0000,9,-999.0000,-999.000,-999.0000,9, -999.00
318M20040615,        P02,     115,          1,         27,         27,2,20040802,       1622,    30.0003,  -162.4757,       5608,   455.2,   9.1754,  34.1262,2,  34.1242,2, 193.8000,3,   191.8,2,   25.50,2,   19.09,2,    0.01,2,    1.36,2,-999.000,9,-999.000,9,-999.000,9,  2132.6,2,  2271.4,2,-999.000,9,-999.0000,9, -999.00,9, -999.00,9,  -999.0,9,  -999.0,-999.000,9,-999.000, -999.00,9,  455.20,-999.0000,9,-999.0000,9,-999.0000,9,-999.0000,9,-999.0000,9,-999.0000,-999.000,-999.0000,9, -999.00
318M20040615,        P02,     115,          1,         26,         26,2,20040802,       1622,    30.0003,  -162.4757,       5608,   505.0,   8.2041,  34.0744,2,  34.0717,2, 176.3000,3,   173.2,2,   34.11,2,   22.84,2,    0.00,2,    1.62,2,   2.905,2,   1.408,2,   0.100,2,  2156.1,2,  2274.9,2,-999.000,9,-999.0000,9, -999.00,9, -999.00,9,  -999.0,9,  -999.0,-999.000,9,-999.000, -999.00,9,  505.00,-999.0000,9,-999.0000,9,-999.0000,9,-999.0000,9,-999.0000,9,-999.0000,-999.000,-999.0000,9, -999.00
318M20040615,        P02,     115,          1,         25,         25,2,20040802,       1622,    30.0003,  -162.4757,       5608,   605.2,   6.1466,  34.0187,2,  34.0162,2, 124.3000,3,   120.6,2,   58.55,2,   31.48,2,    0.00,2,    2.25,2,   1.839,2,   0.924,2,   0.069,2,  2225.5,2,  2291.7,2,-999.000,9,-999.0000,9, -999.00,9, -999.00,9,  -999.0,9,  -999.0,-999.000,9,-999.000, -999.00,9,  605.20,-999.0000,9,-999.0000,9,-999.0000,9,-999.0000,9,-999.0000,9,-999.0000,-999.000,-999.0000,9, -999.00
318M20040615,        P02,     115,          1,         24,         24,2,20040802,       1622,    30.0003,  -162.4757,       5608,   704.9,   4.9832,  34.0580,2,  34.0568,2,  74.1000,3,    77.4,2,   79.85,2,   37.25,2,    0.00,2,    2.68,2,-999.000,9,-999.000,9,-999.000,9,  2277.1,2,  2308.9,2,-999.000,9,-999.0000,9, -999.00,9, -999.00,9,  -999.0,9,  -999.0,-999.000,9,-999.000, -999.00,9,  704.90,-999.0000,9,-999.0000,9,-999.0000,9,-999.0000,9,-999.0000,9,-999.0000,-999.000,-999.0000,9, -999.00
318M20040615,        P02,     115,          1,         23,         23,2,20040802,       1622,    30.0003,  -162.4757,       5608,   805.1,   4.2755,  34.1477,2,  34.1481,2,  43.2000,3,    41.8,2,   99.90,2,   41.15,2,    0.00,2,    2.95,2,   0.349,6,   0.174,6,   0.010,6,  2318.8,2,  2331.7,2,-999.000,9,-999.0000,9, -999.00,9, -999.00,9,  -999.0,9,  -999.0,-999.000,9,-999.000, -999.00,9,  805.10,-999.0000,9,-999.0000,9,-999.0000,9,-999.0000,9,-999.0000,9,-999.0000,-999.000,-999.0000,9, -999.00
318M20040615,        P02,     115,          1,         22,         22,2,20040802,       1622,    30.0003,  -162.4757,       5608,   910.3,   3.7764,  34.2475,2,  34.2448,2,  20.3000,3,    19.7,2,  116.52,2,   43.33,2,    0.00,2,    3.12,2,   0.085,2,   0.049,2,   0.000,2,  2350.9,2,  2351.5,2,-999.000,9,-999.0000,9, -999.00,9, -999.00,9,  -999.0,9,  -999.0,-999.000,9,-999.000, -999.00,9,  910.30,-999.0000,9,-999.0000,9,-999.0000,9,-999.0000,9,-999.0000,9,-999.0000,-999.000,-999.0000,9, -999.00
318M20040615,        P02,     115,          1,         21,         21,2,20040802,       1622,    30.0003,  -162.4757,       5608,  1010.8,   3.5471,  34.3230,2,  34.3203,2,  13.9000,3,    15.0,2,  125.14,2,   43.81,2,    0.00,2,    3.17,2,-999.000,9,-999.000,9,-999.000,9,  2363.3,2,  2364.3,2,-999.000,9,-999.0000,9, -999.00,9, -999.00,9,  -999.0,9,  -999.0,-999.000,9,-999.000, -999.00,9, 1010.80,-999.0000,9,-999.0000,9,-999.0000,9,-999.0000,9,-999.0000,9,-999.0000,-999.000,-999.0000,9, -999.00
318M20040615,        P02,     115,          1,         20,         20,2,20040802,       1622,    30.0003,  -162.4757,       5608,  1111.1,   3.4145,  34.3845,2,  34.3813,2,  13.0000,3,    18.7,2,  129.67,2,   43.69,2,    0.00,2,    3.17,2,   0.017,2,   0.009,2,   0.000,2,  2367.3,6,  2373.5,2,-999.000,9,-999.0000,9, -999.00,9, -999.00,9,  -999.0,9,  -999.0,-999.000,9,-999.000, -999.00,9, 1111.10,-999.0000,9,-999.0000,9,-999.0000,9,-999.0000,9,-999.0000,9,-999.0000,-999.000,-999.0000,9, -999.00
318M20040615,        P02,     115,          1,         19,         19,2,20040802,       1622,    30.0003,  -162.4757,       5608,  1210.5,   3.1485,  34.4356,2,  34.4339,2,  17.9000,3,    17.4,2,  138.52,2,   43.97,2,    0.00,2,    3.19,2,   0.007,2,   0.002,2,   0.000,2,  2377.2,2,  2384.5,2,-999.000,9,-999.0000,9, -999.00,9, -999.00,9,  -999.0,9,  -999.0,-999.000,9,-999.000, -999.00,9, 1210.50,-999.0000,9,-999.0000,9,-999.0000,9,-999.0000,9,-999.0000,9,-999.0000,-999.000,-999.0000,9, -999.00
318M20040615,        P02,     115,          1,         18,         18,2,20040802,       1622,    30.0003,  -162.4757,       5608,  1311.2,   2.9773,  34.4827,2,  34.4813,2,  28.5000,3,    26.0,2,  142.25,2,   43.58,2,    0.00,2,    3.16,2,-999.000,9,-999.000,9,-999.000,9,  2378.2,2,  2392.4,6,-999.000,9,-999.0000,9, -999.00,9, -999.00,9,  -999.0,9,  -999.0,-999.000,9,-999.000, -999.00,9, 1311.20,-999.0000,9,-999.0000,9,-999.0000,9,-999.0000,9,-999.0000,9,-999.0000,-999.000,-999.0000,9, -999.00
318M20040615,        P02,     115,          1,         17,         17,2,20040802,       1622,    30.0003,  -162.4757,       5608,  1416.7,   2.8209,  34.5221,2,  34.5205,2,  46.7000,3,    45.9,2,  142.62,2,   42.41,2,    0.00,2,    3.06,2,   0.007,2,   0.002,2,   0.000,2,  2370.6,2,  2397.2,2,-999.000,9,-999.0000,9, -999.00,9, -999.00,9,  -999.0,9,  -999.0,-999.000,9,-999.000, -999.00,9, 1416.70,-999.0000,9,-999.0000,9,-999.0000,9,-999.0000,9,-999.0000,9,-999.0000,-999.000,-999.0000,9, -999.00
318M20040615,        P02,     115,          1,         16,         16,2,20040802,       1622,    30.0003,  -162.4757,       5608,  1516.1,   2.6435,  34.5411,2,  34.5410,2,  46.5000,2,    47.2,2,  148.33,2,   42.51,2,    0.00,2,    3.05,2,   0.009,2,   0.002,2,   0.000,2,  2376.0,2,  2402.8,2,-999.000,9,-999.0000,9, -999.00,9, -999.00,9,  -999.0,9,  -999.0,-999.000,9,-999.000, -999.00,9, 1516.10,-999.0000,9,-999.0000,9,-999.0000,9,-999.0000,9,-999.0000,9,-999.0000,-999.000,-999.0000,9, -999.00
318M20040615,        P02,     115,          1,         15,         15,2,20040802,       1622,    30.0003,  -162.4757,       5608,  1617.3,   2.4778,  34.5607,2,  34.5588,2,  55.8000,2,    56.4,2,  151.29,2,   42.02,2,    0.00,2,    3.01,2,-999.000,9,-999.000,9,-999.000,9,  2373.9,2,  2407.7,2,-999.000,9,-999.0000,9, -999.00,9, -999.00,9,  -999.0,9,  -999.0,-999.000,9,-999.000, -999.00,9, 1617.30,-999.0000,9,-999.0000,9,-999.0000,9,-999.0000,9,-999.0000,9,-999.0000,-999.000,-999.0000,9, -999.00
318M20040615,        P02,     115,          1,         14,         14,2,20040802,       1622,    30.0003,  -162.4757,       5608,  1723.2,   2.3218,  34.5776,2,  34.5771,2,  62.9000,2,    62.8,2,  155.06,2,   41.61,2,    0.00,2,    2.98,2,   0.006,2,  -0.001,2,   0.000,2,  2373.9,2,  2412.6,2,-999.000,9,-999.0000,9, -999.00,9, -999.00,9,  -999.0,9,  -999.0,-999.000,9,-999.000, -999.00,9, 1723.20,-999.0000,9,-999.0000,9,-999.0000,9,-999.0000,9,-999.0000,9,-999.0000,-999.000,-999.0000,9, -999.00
318M20040615,        P02,     115,          1,         13,         13,2,20040802,       1622,    30.0003,  -162.4757,       5608,  1822.8,   2.2006,  34.5901,2,  34.5897,2,  69.7000,2,    68.1,2,  157.81,2,   41.23,2,    0.00,2,    2.94,2,   0.006,2,   0.002,2,   0.000,2,  2372.7,2,  2414.7,2,-999.000,9,-999.0000,9, -999.00,9, -999.00,9,  -999.0,9,  -999.0,-999.000,9,-999.000, -999.00,9, 1822.80,-999.0000,9,-999.0000,9,-999.0000,9,-999.0000,9,-999.0000,9,-999.0000,-999.000,-999.0000,9, -999.00
318M20040615,        P02,     115,          1,         12,         12,2,20040802,       1622,    30.0003,  -162.4757,       5608,  2021.7,   2.0038,  34.6117,2,  34.6105,2,  80.0000,2,    81.3,2,  160.78,2,   40.38,2,    0.00,2,    2.88,2,-999.000,9,-999.000,9,-999.000,9,  2368.4,2,  2419.9,2,-999.000,9,-999.0000,9, -999.00,9, -999.00,9,  -999.0,9,  -999.0,-999.000,9,-999.000, -999.00,9, 2021.70,-999.0000,9,-999.0000,9,-999.0000,9,-999.0000,9,-999.0000,9,-999.0000,-999.000,-999.0000,9, -999.00
318M20040615,        P02,     115,          1,         11,         11,2,20040802,       1622,    30.0003,  -162.4757,       5608,  2277.0,   1.8149,  34.6307,2,  34.6297,2,  92.5000,2,    93.0,2,  163.55,2,   39.75,2,    0.00,2,    2.82,2,   0.005,2,   0.002,2,   0.000,2,  2363.7,2,  2421.3,2,-999.000,9,-999.0000,9, -999.00,9, -999.00,9,  -999.0,9,  -999.0,-999.000,9,-999.000, -999.00,9, 2277.00,-999.0000,9,-999.0000,9,-999.0000,9,-999.0000,9,-999.0000,9,-999.0000,-999.000,-999.0000,9, -999.00
318M20040615,        P02,     115,          1,         10,         10,2,20040802,       1622,    30.0003,  -162.4757,       5608,  2534.5,   1.6914,  34.6456,2,  34.6445,2, 103.6000,2,   104.6,2,  164.11,2,   39.22,2,    0.00,2,    2.76,2,   0.004,2,   0.001,2,   0.000,2,  2359.2,2,  2425.1,2,-999.000,9,-999.0000,9, -999.00,9, -999.00,9,  -999.0,9,  -999.0,-999.000,9,-999.000, -999.00,9, 2534.50,-999.0000,9,-999.0000,9,-999.0000,9,-999.0000,9,-999.0000,9,-999.0000,-999.000,-999.0000,9, -999.00
318M20040615,        P02,     115,          1,          9,          9,2,20040802,       1622,    30.0003,  -162.4757,       5608,  2791.8,   1.6202,  34.6545,2,  34.6545,2, 112.9000,2,   113.6,2,  163.09,2,   38.79,2,    0.00,2,    2.71,2,-999.000,9,-999.000,9,-999.000,9,  2354.2,2,  2426.1,2,-999.000,9,-999.0000,9, -999.00,9, -999.00,9,  -999.0,9,  -999.0,-999.000,9,-999.000, -999.00,9, 2791.80,-999.0000,9,-999.0000,9,-999.0000,9,-999.0000,9,-999.0000,9,-999.0000,-999.000,-999.0000,9, -999.00
318M20040615,        P02,     115,          1,          8,          8,2,20040802,       1622,    30.0003,  -162.4757,       5608,  3044.5,   1.5544,  34.6642,2,  34.6645,2, 122.3000,2,   123.0,2,  161.87,2,   38.11,2,    0.00,2,    2.66,2,   0.005,2,   0.002,2,   0.000,2,  2348.7,2,  2426.9,2,-999.000,9,-999.0000,9, -999.00,9, -999.00,9,  -999.0,9,  -999.0,-999.000,9,-999.000, -999.00,9, 3044.50,-999.0000,9,-999.0000,9,-999.0000,9,-999.0000,9,-999.0000,9,-999.0000,-999.000,-999.0000,9, -999.00
318M20040615,        P02,     115,          1,          7,          7,2,20040802,       1622,    30.0003,  -162.4757,       5608,  3455.3,   1.4990,  34.6745,2,  34.6741,2, 134.3000,2,   134.5,3,  159.26,2,   37.27,2,    0.00,2,    2.60,2,   0.005,2,   0.001,2,   0.000,2,  2340.7,2,  2426.9,2,-999.000,9,-999.0000,9, -999.00,9, -999.00,9,  -999.0,9,  -999.0,-999.000,9,-999.000, -999.00,9, 3455.30,-999.0000,9,-999.0000,9,-999.0000,9,-999.0000,9,-999.0000,9,-999.0000,-999.000,-999.0000,9, -999.00
318M20040615,        P02,     115,          1,          6,          6,2,20040802,       1622,    30.0003,  -162.4757,       5608,  3862.7,   1.4713,  34.6817,2,  34.6824,2, 143.2000,2,   144.2,2,  156.47,2,   36.52,2,    0.00,2,    2.55,2,-999.000,9,-999.000,9,-999.000,9,  2335.2,2,  2426.1,2,-999.000,9,-999.0000,9, -999.00,9, -999.00,9,  -999.0,9,  -999.0,-999.000,9,-999.000, -999.00,9, 3862.70,-999.0000,9,-999.0000,9,-999.0000,9,-999.0000,9,-999.0000,9,-999.0000,-999.000,-999.0000,9, -999.00
318M20040615,        P02,     115,          1,          5,          5,2,20040802,       1622,    30.0003,  -162.4757,       5608,  4262.0,   1.4772,  34.6856,2,  34.6853,2, 148.8000,2,   149.2,2,  154.67,2,   36.10,2,    0.00,2,    2.52,2,   0.007,2,   0.003,2,   0.000,2,  2330.7,2,  2423.4,2,-999.000,9,-999.0000,9, -999.00,9, -999.00,9,  -999.0,9,  -999.0,-999.000,9,-999.000, -999.00,9, 4262.00,-999.0000,9,-999.0000,9,-999.0000,9,-999.0000,9,-999.0000,9,-999.0000,-999.000,-999.0000,9, -999.00
318M20040615,        P02,     115,          1,          4,          4,2,20040802,       1622,    30.0003,  -162.4757,       5608,  4680.1,   1.4994,  34.6883,2,  34.6895,2, 152.6000,3,   153.3,2,  152.89,2,   35.79,2,    0.00,2,    2.50,2,   0.009,2,   0.002,2,   0.000,2,  2326.3,2,  2424.4,2,-999.000,9,-999.0000,9, -999.00,9, -999.00,9,  -999.0,9,  -999.0,-999.000,9,-999.000, -999.00,9, 4680.10,-999.0000,9,-999.0000,9,-999.0000,9,-999.0000,9,-999.0000,9,-999.0000,-999.000,-999.0000,9, -999.00
318M20040615,        P02,     115,          1,          3,          3,2,20040802,       1622,    30.0003,  -162.4757,       5608,  5096.4,   1.5335,  34.6899,2,  34.6903,2, 156.2000,2,   156.7,2,  149.10,2,   35.48,2,    0.00,2,    2.48,2,-999.000,9,-999.000,9,-999.000,9,  2322.8,2,  2422.0,2,-999.000,9,-999.0000,9, -999.00,9, -999.00,9,  -999.0,9,  -999.0,-999.000,9,-999.000, -999.00,9, 5096.40,-999.0000,9,-999.0000,9,-999.0000,9,-999.0000,9,-999.0000,9,-999.0000,-999.000,-999.0000,9, -999.00
318M20040615,        P02,     115,          1,          2,          2,2,20040802,       1622,    30.0003,  -162.4757,       5608,  5509.6,   1.5724,  34.6909,2,  34.6912,2, 159.3000,2,   160.0,2,  146.12,2,   35.27,2,    0.00,2,    2.47,2,   0.005,2,   0.001,2,   0.000,2,  2318.8,2,  2419.7,2,-999.000,9,-999.0000,9, -999.00,9, -999.00,9,  -999.0,9,  -999.0,-999.000,9,-999.000, -999.00,9, 5509.60,-999.0000,9,-999.0000,9,-999.0000,9,-999.0000,9,-999.0000,9,-999.0000,-999.000,-999.0000,9, -999.00
318M20040615,        P02,     115,          1,          1,          1,2,20040802,       1622,    30.0003,  -162.4757,       5608,  5737.0,   1.5970,  34.6912,2,  34.6924,2, 160.5000,3,   161.0,2,  145.31,2,   35.32,2,    0.00,2,    2.47,2,   0.008,2,   0.002,2,   0.000,2,  2318.9,6,  2421.2,6,-999.000,9,-999.0000,9, -999.00,9, -999.00,9,  -999.0,9,  -999.0,-999.000,9,-999.000, -999.00,9, 5737.00,-999.0000,9,-999.0000,9,-999.0000,9,-999.0000,9,-999.0000,9,-999.0000,-999.000,-999.0000,9, -999.00