BOTTLE,20131027SIOCCHRJL
EXPOCODE,SECT_ID,STNNBR,CASTNO,SAMPNO,BTLNBR,BTLNBR_FLAG_W,DATE,TIME,LATITUDE,LONGITUDE,DEPTH,CTDPRS,CTDTMP,CTDSAL,CTDSAL_FLAG_W,SALNTY,SALNTY_FLAG_W,CTDOXY,CTDOXY_FLAG_W,OXYGEN,OXYGEN_FLAG_W,SILCAT,SILCAT_FLAG_W,NITRAT,NITRAT_FLAG_W,NITRIT,NITRIT_FLAG_W,PHSPHT,PHSPHT_FLAG_W,CFC-11,CFC-11_FLAG_W,CFC-12,CFC-12_FLAG_W,CFC113,CFC113_FLAG_W,TCARBN,TCARBN_FLAG_W,ALKALI,ALKALI_FLAG_W,TRITUM,TRITUM_FLAG_W,HELIUM,HELIUM_FLAG_W,DELHE3,DELHE3_FLAG_W,DELC13,DELC13_FLAG_W,DELC14,DELC14_FLAG_W,C14ERR,NEON,NEON_FLAG_W,NEONER,DOC,DOC_FLAG_W,CTDRAW,CDOM380,CDOM380_FLAG_W,CDOM325,CDOM325_FLAG_W,CDOMSL,CDOMSL_FLAG_W,CDOM340,CDOM340_FLAG_W,CDOMSN,CDOMSN_FLAG_W,HELIER,TRITER,CDOM412,CDOM412_FLAG_W,DELHER
,,,,,,,,,,,METERS,DBAR,ITS-90,PSS-78,,PSS-78,,UMOL/KG,,UMOL/KG,,UMOL/KG,,UMOL/KG,,UMOL/KG,,UMOL/KG,,PMOL/KG,,PMOL/KG,,PMOL/KG,,UMOL/KG,,UMOL/KG,,TU,,NMOL/KG,,PERCNT,,/MILLE,,/MILLE,,/MILLE,NMOL/KG,,NMOL/KG,UMOL/KG,,DBAR,1/M,,1/M,,1/NM,,1/M,,1/NM,,NMOL/KG,TU,1/M,,PERCNT
318M20040615,        P02,      54,          1,         36,         36,2,20040705,       1551,    30.0023,   159.8485,       5585,     7.9,  26.5083,  34.8060,2,-999.0000,9, 206.5000,5,   206.4,2,    0.00,2,    0.03,2,    0.00,2,    0.03,2,   1.747,2,   1.104,2,   0.123,2,  1970.5,2,  2287.9,6,   0.768,2,   1.7176,2,   -1.00,2,    1.18,2,    82.2,2,     4.0,-999.000,9,-999.000,   67.90,2,    7.90,-999.0000,9,-999.0000,9,-999.0000,9,-999.0000,9,-999.0000,9,   0.0086,   0.006,-999.0000,9,    0.20
318M20040615,        P02,      54,          1,         35,         35,2,20040705,       1551,    30.0023,   159.8485,       5585,    41.5,  21.9086,  34.7980,2,  34.7988,2, 231.9000,2,   231.8,2,    0.27,2,    0.03,2,    0.00,2,    0.04,2,   2.159,2,   1.295,2,   0.149,2,  1980.4,6,  2286.7,2,-999.000,9,-999.0000,9, -999.00,9, -999.00,9,  -999.0,9,  -999.0,-999.000,9,-999.000,   63.70,2,   41.50,-999.0000,9,-999.0000,9,-999.0000,9,-999.0000,9,-999.0000,9,-999.0000,-999.000,-999.0000,9, -999.00
318M20040615,        P02,      54,          1,         34,         34,2,20040705,       1551,    30.0023,   159.8485,       5585,    91.3,  18.7541,  34.8645,2,  34.8596,2, 220.1000,2,   227.3,2,    1.00,2,    0.12,2,    0.12,2,    0.09,2,   2.354,2,   1.406,2,   0.142,2,  2002.0,2,  2290.2,2,   0.789,2,   1.6208,2,   -0.86,2,    0.97,2,    77.1,2,     4.7,-999.000,9,-999.000,   59.90,2,   91.30,-999.0000,9,-999.0000,9,-999.0000,9,-999.0000,9,-999.0000,9,   0.0081,   0.006,-999.0000,9,    0.20
318M20040615,        P02,      54,          1,         33,         33,2,20040705,       1551,    30.0023,   159.8485,       5585,   140.6,  17.5076,  34.7834,2,-999.0000,9, 213.2000,5,   211.0,2,    2.80,2,    3.90,2,    0.02,2,    0.29,2,   2.399,2,   1.430,2,   0.106,2,  2023.8,2,  2285.5,2,   0.809,2,   1.7779,2,   -0.61,2,    0.80,2,    83.9,2,     4.3,-999.000,9,-999.000, -999.00,9,  140.60,-999.0000,9,-999.0000,9,-999.0000,9,-999.0000,9,-999.0000,9,   0.0089,   0.006,-999.0000,9,    0.20
318M20040615,        P02,      54,          1,         32,         32,2,20040705,       1551,    30.0023,   159.8485,       5585,   190.2,  16.9899,  34.7751,2,  34.7725,2, 218.3000,2,   219.7,2,    2.43,2,    3.79,2,    0.01,2,    0.28,2,   2.486,2,   1.479,2,   0.120,2,  2023.2,2,  2284.0,2,   0.818,2,   1.7794,2,   -1.24,2,    0.78,2,    84.7,2,     4.9,-999.000,9,-999.000,   53.00,2,  190.20,-999.0000,9,-999.0000,9,-999.0000,9,-999.0000,9,-999.0000,9,   0.0089,   0.006,-999.0000,9,    0.20
318M20040615,        P02,      54,          1,         31,         31,2,20040705,       1551,    30.0023,   159.8485,       5585,   239.3,  16.5431,  34.7313,2,  34.7263,2, 219.3000,2,   215.8,2,    3.33,2,    4.87,2,    0.01,2,    0.34,2,   2.527,2,   1.504,2,   0.078,2,  2031.7,2,  2282.0,2,   0.793,2,   1.7832,2,   -1.06,2,    0.66,2,    76.5,2,     4.0,-999.000,9,-999.000,   51.20,2,  239.30,-999.0000,9,-999.0000,9,-999.0000,9,-999.0000,9,-999.0000,9,   0.0089,   0.006,-999.0000,9,    0.20
318M20040615,        P02,      54,          1,         30,         30,2,20040705,       1551,    30.0023,   159.8485,       5585,   290.2,  16.0967,  34.7104,2,  34.7096,2, 213.5000,2,   214.7,2,    4.78,2,    5.89,2,    0.01,2,    0.41,2,   2.524,2,   1.484,2,   0.101,2,  2037.1,2,  2282.3,2,   0.814,2,   1.7505,2,   -0.87,2,    0.75,2,    75.5,2,     4.6,-999.000,9,-999.000,   49.10,2,  290.20,-999.0000,9,-999.0000,9,-999.0000,9,-999.0000,9,-999.0000,9,   0.0088,   0.006,-999.0000,9,    0.20
318M20040615,        P02,      54,          1,         29,         29,2,20040705,       1551,    30.0023,   159.8485,       5585,   340.4,  15.3370,  34.6369,2,  34.6336,2, 208.1000,2,   208.6,2,    6.59,2,    7.49,2,    0.01,2,    0.53,2,   2.586,2,   1.509,2,   0.079,2,  2050.3,2,  2278.6,2,   0.813,2,   1.8018,2,    0.36,2,    0.68,2,    72.7,2,     4.8,-999.000,9,-999.000,   48.60,2,  340.40,-999.0000,9,-999.0000,9,-999.0000,9,-999.0000,9,-999.0000,9,   0.0090,   0.006,-999.0000,9,    0.20
318M20040615,        P02,      54,          1,         28,         28,2,20040705,       1551,    30.0023,   159.8485,       5585,   390.4,  14.1450,  34.5195,2,  34.5206,2, 203.3000,2,   202.6,2,    8.76,2,    9.57,2,    0.00,2,    0.67,2,   2.697,2,   1.531,2,   0.049,2,  2065.4,2,  2274.1,6,   0.827,2,   1.7745,2,    1.65,2,    0.53,2,    75.5,2,     4.1,-999.000,9,-999.000,   48.10,2,  390.40,-999.0000,9,-999.0000,9,-999.0000,9,-999.0000,9,-999.0000,9,   0.0089,   0.006,-999.0000,9,    0.20
318M20040615,        P02,      54,          1,         27,         27,2,20040705,       1551,    30.0023,   159.8485,       5585,   439.7,  13.3561,  34.4815,2,  34.4800,2, 190.5000,2,   192.7,2,   14.22,2,   12.20,2,    0.00,2,    0.85,2,   2.554,2,   1.429,2,   0.065,2,  2085.6,2,  2277.2,2,   0.814,2,   1.7950,2,    3.65,2, -999.00,9,  -999.0,9,  -999.0,-999.000,9,-999.000,   48.00,2,  439.70,-999.0000,9,-999.0000,9,-999.0000,9,-999.0000,9,-999.0000,9,   0.0090,   0.006,-999.0000,9,    0.20
318M20040615,        P02,      54,          1,         26,         26,2,20040705,       1551,    30.0023,   159.8485,       5585,   489.4,  12.0248,  34.3748,2,  34.3752,2, 192.5000,2,   194.3,2,   18.22,2,   14.09,2,    0.00,2,    1.00,2,   2.636,2,   1.454,2,   0.089,2,  2099.3,2,  2276.4,2,-999.000,9,   1.8068,2,    4.43,2,    0.49,2,    44.3,2,     4.5,-999.000,9,-999.000,   47.10,2,  489.40,-999.0000,9,-999.0000,9,-999.0000,9,-999.0000,9,-999.0000,9,   0.0090,-999.000,-999.0000,9,    0.20
318M20040615,        P02,      54,          1,         25,         25,2,20040705,       1551,    30.0023,   159.8485,       5585,   575.5,   9.8575,  34.2152,2,  34.2130,2, 190.8000,2,   188.3,2,   27.51,2,   18.31,2,    0.00,2,    1.32,2,   2.677,2,   1.439,2,   0.113,2,  2129.7,2,  2277.3,2,   0.785,2,   1.8144,2,    6.48,2,    0.47,2,    15.4,2,     4.6,-999.000,9,-999.000,   46.40,2,  575.50,-999.0000,9,-999.0000,9,-999.0000,9,-999.0000,9,-999.0000,9,   0.0091,   0.006,-999.0000,9,    0.20
318M20040615,        P02,      54,          1,         24,         24,2,20040705,       1551,    30.0023,   159.8485,       5585,   680.1,   6.8459,  34.0090,2,  34.0092,2, 167.5000,2,   168.7,2,   46.88,2,   25.36,2,    0.00,2,    1.87,2,-999.000,5,-999.000,5,-999.000,5,  2184.1,2,  2282.2,2,   0.671,2,   1.8565,2,    8.56,2,    0.25,2,   -34.4,2,     4.7,-999.000,9,-999.000,   45.20,2,  680.10,-999.0000,9,-999.0000,9,-999.0000,9,-999.0000,9,-999.0000,9,   0.0093,   0.005,-999.0000,9,    0.20
318M20040615,        P02,      54,          1,         23,         23,2,20040705,       1551,    30.0023,   159.8485,       5585,   779.7,   5.2445,  34.0060,2,  34.0049,2, 116.7000,2,   121.0,2,   69.81,2,   32.57,2,    0.00,2,    2.40,2,   2.048,6,   1.067,6,   0.111,6,  2243.5,2,  2297.9,2,   0.560,2,   1.8649,2,   12.16,2,   -0.11,2,   -77.4,2,     4.4,-999.000,9,-999.000,   43.80,2,  779.70,-999.0000,9,-999.0000,9,-999.0000,9,-999.0000,9,-999.0000,9,   0.0093,   0.005,-999.0000,9,    0.20
318M20040615,        P02,      54,          1,         22,         22,2,20040705,       1551,    30.0023,   159.8485,       5585,   879.5,   4.5474,  34.1334,2,  34.1313,2,  72.6000,2,    72.9,2,   92.83,2,   37.93,2,    0.00,2,    2.76,2,   1.096,2,   0.555,2,   0.054,2,  2294.6,2,  2321.9,2,   0.389,2,   1.8381,2,   15.56,2, -999.00,9,  -999.0,9,  -999.0,-999.000,9,-999.000,   41.90,2,  879.50,-999.0000,9,-999.0000,9,-999.0000,9,-999.0000,9,-999.0000,9,   0.0092,   0.004,-999.0000,9,    0.20
318M20040615,        P02,      54,          1,         21,         21,2,20040705,       1551,    30.0023,   159.8485,       5585,   983.5,   3.9772,  34.2386,2,  34.2382,2,  50.6000,2,    49.3,2,  112.05,2,   40.62,2,    0.00,2,    2.94,2,   0.508,2,   0.259,2,   0.020,2,  2328.1,2,  2343.5,2,   0.232,2,   1.8745,2,   16.83,2,   -0.33,2,  -164.8,2,     3.5,-999.000,9,-999.000,   40.90,2,  983.50,-999.0000,9,-999.0000,9,-999.0000,9,-999.0000,9,-999.0000,9,   0.0094,   0.003,-999.0000,9,    0.20
318M20040615,        P02,      54,          1,         20,         20,2,20040705,       1551,    30.0023,   159.8485,       5585,  1083.6,   3.6064,  34.3012,2,  34.3008,2,  41.1000,2,    41.0,2,  121.84,2,   41.87,2,    0.00,2,    3.03,2,   0.294,2,   0.145,2,   0.009,2,  2343.1,2,  2355.0,2,   0.146,2,   1.9061,2,   16.93,2, -999.00,9,  -999.0,9,  -999.0,-999.000,9,-999.000,   40.00,2, 1083.60,-999.0000,9,-999.0000,9,-999.0000,9,-999.0000,9,-999.0000,9,   0.0095,   0.002,-999.0000,9,    0.20
318M20040615,        P02,      54,          1,         19,         19,2,20040705,       1551,    30.0023,   159.8485,       5585,  1183.7,   3.2670,  34.3622,2,  34.3588,2,  38.7000,2,    38.6,2,  131.66,2,   42.56,2,    0.00,2,    3.06,2,   0.170,2,   0.087,2,   0.006,2,  2354.8,2,  2367.5,2,   0.096,2,   1.8961,2,   16.76,2,   -0.36,2,  -191.5,2,     3.3,-999.000,9,-999.000,   39.60,2, 1183.70,-999.0000,9,-999.0000,9,-999.0000,9,-999.0000,9,-999.0000,9,   0.0095,   0.002,-999.0000,9,    0.20
318M20040615,        P02,      54,          1,         18,         18,2,20040705,       1551,    30.0023,   159.8485,       5585,  1284.1,   2.9968,  34.4055,2,  34.4064,2,  37.3000,2,    37.2,2,  139.63,2,   43.01,2,    0.00,2,    3.08,2,   0.106,2,   0.053,2,   0.003,2,  2364.6,2,  2377.2,6,   0.066,2,   1.8940,2,   17.50,2, -999.00,9,  -999.0,9,  -999.0,-999.000,9,-999.000,   39.10,2, 1284.10,-999.0000,9,-999.0000,9,-999.0000,9,-999.0000,9,-999.0000,9,   0.0095,   0.001,-999.0000,9,    0.20
318M20040615,        P02,      54,          1,         17,         17,2,20040705,       1551,    30.0023,   159.8485,       5585,  1389.1,   2.7601,  34.4482,2,  34.4423,2,  36.3000,2,    36.6,2,  147.80,2,   43.29,2,    0.00,2,    3.10,2,   0.055,2,   0.028,2,   0.003,2,  2372.6,6,  2386.9,2,   0.038,2,   1.9285,2,   17.80,2,   -0.38,2,  -218.3,2,     3.4,-999.000,9,-999.000,   38.60,2, 1389.10,-999.0000,9,-999.0000,9,-999.0000,9,-999.0000,9,-999.0000,9,   0.0096,   0.001,-999.0000,9,    0.20
318M20040615,        P02,      54,          1,         16,         16,2,20040705,       1551,    30.0023,   159.8485,       5585,  1493.0,   2.5578,  34.4829,2,  34.4828,2,  38.0000,2,    38.9,2,  153.38,2,   43.12,2,    0.00,2,    3.10,2,   0.035,2,   0.018,2,   0.000,2,  2377.0,2,  2395.0,2,   0.025,2,   1.9197,2,   18.19,2, -999.00,9,  -999.0,9,  -999.0,-999.000,9,-999.000,   38.30,2, 1493.00,-999.0000,9,-999.0000,9,-999.0000,9,-999.0000,9,-999.0000,9,   0.0096,   0.001,-999.0000,9,    0.20
318M20040615,        P02,      54,          1,         15,         15,2,20040705,       1551,    30.0023,   159.8485,       5585,  1590.8,   2.4227,  34.5099,2,  34.5110,2,  41.6000,2,    42.4,2,  157.13,2,   43.01,2,    0.00,2,    3.08,2,   0.019,2,   0.008,2,   0.000,2,  2379.0,2,  2399.4,2,   0.020,2,   1.9307,2,   18.52,2,   -0.38,2,  -225.4,2,     3.4,-999.000,9,-999.000,   37.50,2, 1590.80,-999.0000,9,-999.0000,9,-999.0000,9,-999.0000,9,-999.0000,9,   0.0097,   0.000,-999.0000,9,    0.20
318M20040615,        P02,      54,          1,         14,         14,2,20040705,       1551,    30.0023,   159.8485,       5585,  1693.0,   2.2669,  34.5328,2,  34.5332,2,  46.1000,2,    47.6,2,  160.84,2,   42.71,2,    0.00,2,    3.05,2,   0.015,2,   0.009,2,   0.006,2,  2380.6,2,  2403.3,2,-999.000,9,-999.0000,9, -999.00,9, -999.00,9,  -999.0,9,  -999.0,-999.000,9,-999.000,   37.70,2, 1693.00,-999.0000,9,-999.0000,9,-999.0000,9,-999.0000,9,-999.0000,9,-999.0000,-999.000,-999.0000,9, -999.00
318M20040615,        P02,      54,          1,         13,         13,2,20040705,       1551,    30.0023,   159.8485,       5585,  1796.6,   2.1605,  34.5511,2,  34.5509,2,  52.9000,2,    53.8,2,  162.90,2,   42.30,2,    0.00,2,    3.02,2,   0.012,2,   0.009,2,   0.000,2,  2375.8,2,  2405.8,2,   0.008,2,   1.9334,2,   18.44,2, -999.00,9,  -999.0,9,  -999.0,-999.000,9,-999.000,   37.70,2, 1796.60,-999.0000,9,-999.0000,9,-999.0000,9,-999.0000,9,-999.0000,9,   0.0097,   0.000,-999.0000,9,    0.20
318M20040615,        P02,      54,          1,         12,         12,2,20040705,       1551,    30.0023,   159.8485,       5585,  1998.7,   1.9974,  34.5867,2,  34.5867,2,  67.5000,2,    68.7,2,  163.99,2,   41.66,2,    0.00,2,    2.96,2,   0.004,2,   0.001,2,   0.004,2,  2373.4,2,  2412.5,6,   0.006,2,-999.0000,9, -999.00,9, -999.00,9,  -999.0,9,  -999.0,-999.000,9,-999.000,   38.10,2, 1998.70,-999.0000,9,-999.0000,9,-999.0000,9,-999.0000,9,-999.0000,9,-999.0000,   0.000,-999.0000,9, -999.00
318M20040615,        P02,      54,          1,         11,         11,2,20040705,       1551,    30.0023,   159.8485,       5585,  2196.8,   1.8629,  34.6103,2,  34.6093,2,  82.0000,2,    82.4,2,  163.96,2,   40.85,2,    0.00,2,    2.88,2,   0.000,2,   0.000,2,   0.024,3,  2367.2,2,  2412.6,2,-999.000,9,-999.0000,9, -999.00,9, -999.00,9,  -999.0,9,  -999.0,-999.000,9,-999.000,   37.60,2, 2196.80,-999.0000,9,-999.0000,9,-999.0000,9,-999.0000,9,-999.0000,9,-999.0000,-999.000,-999.0000,9, -999.00
318M20040615,        P02,      54,          1,         10,         10,2,20040705,       1551,    30.0023,   159.8485,       5585,  2453.5,   1.7299,  34.6338,2,  34.6343,2, 100.5000,2,   100.8,2,  159.27,2,   38.84,2,    0.00,2,    2.72,2,   0.000,2,   0.001,2,   0.001,2,  2357.0,2,  2415.3,2,-999.000,9,-999.0000,9, -999.00,9, -999.00,9,  -999.0,9,  -999.0,-999.000,9,-999.000,   38.00,2, 2453.50,-999.0000,9,-999.0000,9,-999.0000,9,-999.0000,9,-999.0000,9,-999.0000,-999.000,-999.0000,9, -999.00
318M20040615,        P02,      54,          1,          9,          9,2,20040705,       1551,    30.0023,   159.8485,       5585,  2707.2,   1.6351,  34.6494,2,  34.6508,2, 114.3000,2,   114.4,2,  159.25,2,   38.72,2,    0.00,2,    2.72,2,   0.001,2,   0.002,2,   0.004,2,  2349.2,2,  2417.4,2,-999.000,9,-999.0000,9, -999.00,9, -999.00,9,  -999.0,9,  -999.0,-999.000,9,-999.000,   37.70,2, 2707.20,-999.0000,9,-999.0000,9,-999.0000,9,-999.0000,9,-999.0000,9,-999.0000,-999.000,-999.0000,9, -999.00
318M20040615,        P02,      54,          1,          8,          8,2,20040705,       1551,    30.0023,   159.8485,       5585,  2961.8,   1.5718,  34.6598,2,  34.6612,2, 124.4000,2,   124.1,2,  158.30,2,   38.03,2,    0.00,2,    2.67,2,   0.000,2,   0.001,2,   0.001,2,  2343.2,2,  2417.7,2,-999.000,9,-999.0000,9, -999.00,9, -999.00,9,  -999.0,9,  -999.0,-999.000,9,-999.000,   37.60,2, 2961.80,-999.0000,9,-999.0000,9,-999.0000,9,-999.0000,9,-999.0000,9,-999.0000,-999.000,-999.0000,9, -999.00
318M20040615,        P02,      54,          1,          7,          7,2,20040705,       1551,    30.0023,   159.8485,       5585,  3301.8,   1.5096,  34.6704,2,  34.6717,2, 134.5000,2,   135.4,2,  155.70,2,   37.25,2,    0.00,2,    2.61,2,   0.001,2,   0.002,2,   0.001,2,  2335.8,2,  2417.9,2,-999.000,9,-999.0000,9, -999.00,9, -999.00,9,  -999.0,9,  -999.0,-999.000,9,-999.000,   37.30,2, 3301.80,-999.0000,9,-999.0000,9,-999.0000,9,-999.0000,9,-999.0000,9,-999.0000,-999.000,-999.0000,9, -999.00
318M20040615,        P02,      54,          1,          6,          6,2,20040705,       1551,    30.0023,   159.8485,       5585,  3708.1,   1.4804,  34.6788,2,  34.6801,2, 146.1000,2,   145.8,2,  151.21,2,   36.44,2,    0.00,2,    2.56,2,   0.001,2,   0.001,2,   0.001,2,  2328.1,2,  2416.2,2,-999.000,9,-999.0000,9, -999.00,9, -999.00,9,  -999.0,9,  -999.0,-999.000,9,-999.000,   37.10,2, 3708.10,-999.0000,9,-999.0000,9,-999.0000,9,-999.0000,9,-999.0000,9,-999.0000,-999.000,-999.0000,9, -999.00
318M20040615,        P02,      54,          1,          5,          5,2,20040705,       1551,    30.0023,   159.8485,       5585,  4119.6,   1.4649,  34.6842,2,  34.6853,2, 151.2000,2,   151.9,2,  149.71,2,   35.99,2,    0.00,2,    2.52,2,   0.001,2,   0.003,2,   0.006,2,  2323.8,2,  2416.3,2,-999.000,9,-999.0000,9, -999.00,9, -999.00,9,  -999.0,9,  -999.0,-999.000,9,-999.000,   37.20,2, 4119.60,-999.0000,9,-999.0000,9,-999.0000,9,-999.0000,9,-999.0000,9,-999.0000,-999.000,-999.0000,9, -999.00
318M20040615,        P02,      54,          1,          4,          4,2,20040705,       1551,    30.0023,   159.8485,       5585,  4541.5,   1.4657,  34.6888,2,  34.6888,2, 157.4000,2,   157.9,2,  148.96,2,   35.37,2,    0.00,2,    2.49,2,   0.003,2,   0.003,2,   0.000,2,  2318.0,2,  2414.1,2,-999.000,9,-999.0000,9, -999.00,9, -999.00,9,  -999.0,9,  -999.0,-999.000,9,-999.000,   37.60,2, 4541.50,-999.0000,9,-999.0000,9,-999.0000,9,-999.0000,9,-999.0000,9,-999.0000,-999.000,-999.0000,9, -999.00
318M20040615,        P02,      54,          1,          3,          3,2,20040705,       1551,    30.0023,   159.8485,       5585,  4954.0,   1.4780,  34.6920,2,  34.6934,2, 164.0000,2,   164.6,2,  142.98,2,   35.30,2,    0.00,2,    2.47,2,   0.001,2,   0.000,2,   0.000,2,  2311.8,2,  2409.8,2,-999.000,9,-999.0000,9, -999.00,9, -999.00,9,  -999.0,9,  -999.0,-999.000,9,-999.000,   37.20,2, 4954.00,-999.0000,9,-999.0000,9,-999.0000,9,-999.0000,9,-999.0000,9,-999.0000,-999.000,-999.0000,9, -999.00
318M20040615,        P02,      54,          1,          2,          2,2,20040705,       1551,    30.0023,   159.8485,       5585,  5386.0,   1.5032,  34.6944,2,  34.6953,2, 169.0000,2,   169.3,2,  139.06,2,   35.07,2,    0.00,2,    2.42,2,   0.002,2,   0.004,2,   0.000,2,  2306.7,2,  2405.8,2,-999.000,9,-999.0000,9, -999.00,9, -999.00,9,  -999.0,9,  -999.0,-999.000,9,-999.000,   37.60,2, 5386.00,-999.0000,9,-999.0000,9,-999.0000,9,-999.0000,9,-999.0000,9,-999.0000,-999.000,-999.0000,9, -999.00
318M20040615,        P02,      54,          1,          1,          1,2,20040705,       1551,    30.0023,   159.8485,       5585,  5719.6,   1.5350,  34.6953,2,  34.7052,2, 171.1000,3,   171.6,2,  137.18,2,   34.84,2,    0.00,2,    2.42,2,   0.005,2,   0.007,2,   0.007,2,  2305.1,6,  2405.7,6,-999.000,9,-999.0000,9, -999.00,9, -999.00,9,  -999.0,9,  -999.0,-999.000,9,-999.000,   37.90,2, 5719.60,-999.0000,9,-999.0000,9,-999.0000,9,-999.0000,9,-999.0000,9,-999.0000,-999.000,-999.0000,9, -999.00