BOTTLE,20131027SIOCCHRJL
EXPOCODE,SECT_ID,STNNBR,CASTNO,SAMPNO,BTLNBR,BTLNBR_FLAG_W,DATE,TIME,LATITUDE,LONGITUDE,DEPTH,CTDPRS,CTDTMP,CTDSAL,CTDSAL_FLAG_W,SALNTY,SALNTY_FLAG_W,CTDOXY,CTDOXY_FLAG_W,OXYGEN,OXYGEN_FLAG_W,SILCAT,SILCAT_FLAG_W,NITRAT,NITRAT_FLAG_W,NITRIT,NITRIT_FLAG_W,PHSPHT,PHSPHT_FLAG_W,CFC-11,CFC-11_FLAG_W,CFC-12,CFC-12_FLAG_W,CFC113,CFC113_FLAG_W,TCARBN,TCARBN_FLAG_W,ALKALI,ALKALI_FLAG_W,TRITUM,TRITUM_FLAG_W,HELIUM,HELIUM_FLAG_W,DELHE3,DELHE3_FLAG_W,DELC13,DELC13_FLAG_W,DELC14,DELC14_FLAG_W,C14ERR,NEON,NEON_FLAG_W,NEONER,DOC,DOC_FLAG_W,CTDRAW,CDOM380,CDOM380_FLAG_W,CDOM325,CDOM325_FLAG_W,CDOMSL,CDOMSL_FLAG_W,CDOM340,CDOM340_FLAG_W,CDOMSN,CDOMSN_FLAG_W,HELIER,TRITER,CDOM412,CDOM412_FLAG_W,DELHER
,,,,,,,,,,,METERS,DBAR,ITS-90,PSS-78,,PSS-78,,UMOL/KG,,UMOL/KG,,UMOL/KG,,UMOL/KG,,UMOL/KG,,UMOL/KG,,PMOL/KG,,PMOL/KG,,PMOL/KG,,UMOL/KG,,UMOL/KG,,TU,,NMOL/KG,,PERCNT,,/MILLE,,/MILLE,,/MILLE,NMOL/KG,,NMOL/KG,UMOL/KG,,DBAR,1/M,,1/M,,1/NM,,1/M,,1/NM,,NMOL/KG,TU,1/M,,PERCNT
318M20040615,        P02,     164,          1,         36,         36,2,20040821,       0727,    30.0002,  -128.3822,       4531,     5.2,  22.3186,  33.4470,2,  33.4477,2, 223.3000,2,   223.2,2,    1.55,2,    0.14,2,    0.00,2,    0.30,2,   2.129,2,   1.306,2,   0.167,2,  1995.2,6,  2242.9,6,-999.000,9,-999.0000,9, -999.00,9, -999.00,9,  -999.0,9,  -999.0,-999.000,9,-999.000, -999.00,9,    5.20,-999.0000,9,-999.0000,9,-999.0000,9,-999.0000,9,-999.0000,9,-999.0000,-999.000,-999.0000,9, -999.00
318M20040615,        P02,     164,          1,         35,         35,2,20040821,       0727,    30.0002,  -128.3822,       4531,    34.8,  21.0277,  33.4760,2,  33.4758,2, 238.6000,2,   237.9,2,    1.54,2,    0.14,2,    0.00,2,    0.26,2,   2.353,2,   1.435,2,   0.176,2,  -999.0,9,  -999.0,9,-999.000,9,-999.0000,9, -999.00,9, -999.00,9,  -999.0,9,  -999.0,-999.000,9,-999.000, -999.00,9,   34.80,-999.0000,9,-999.0000,9,-999.0000,9,-999.0000,9,-999.0000,9,-999.0000,-999.000,-999.0000,9, -999.00
318M20040615,        P02,     164,          1,         34,         34,2,20040821,       0727,    30.0002,  -128.3822,       4531,    69.7,  17.4369,  33.5622,2,  33.5690,2, 256.1000,2,   254.9,2,    1.73,2,    0.14,2,    0.00,2,    0.23,2,   2.737,2,   1.665,2,   0.200,2,  -999.0,9,  -999.0,9,-999.000,9,-999.0000,9, -999.00,9, -999.00,9,  -999.0,9,  -999.0,-999.000,9,-999.000, -999.00,9,   69.70,-999.0000,9,-999.0000,9,-999.0000,9,-999.0000,9,-999.0000,9,-999.0000,-999.000,-999.0000,9, -999.00
318M20040615,        P02,     164,          1,         33,         33,2,20040821,       0727,    30.0002,  -128.3822,       4531,   119.0,  14.4207,  33.3506,2,  33.3646,2, 247.7000,2,   248.8,2,    2.33,2,    0.18,2,    0.00,2,    0.31,2,   3.031,2,   1.804,2,   0.211,2,  -999.0,9,  -999.0,9,-999.000,9,-999.0000,9, -999.00,9, -999.00,9,  -999.0,9,  -999.0,-999.000,9,-999.000, -999.00,9,  119.00,-999.0000,9,-999.0000,9,-999.0000,9,-999.0000,9,-999.0000,9,-999.0000,-999.000,-999.0000,9, -999.00
318M20040615,        P02,     164,          1,         32,         32,2,20040821,       0727,    30.0002,  -128.3822,       4531,   168.7,  10.2858,  33.3048,2,  33.3064,2, 200.8000,2,   212.3,2,   10.86,2,   12.69,2,    0.01,2,    1.09,2,   3.622,2,   2.073,2,   0.182,2,  -999.0,9,  -999.0,9,-999.000,9,-999.0000,9, -999.00,9, -999.00,9,  -999.0,9,  -999.0,-999.000,9,-999.000, -999.00,9,  168.70,-999.0000,9,-999.0000,9,-999.0000,9,-999.0000,9,-999.0000,9,-999.0000,-999.000,-999.0000,9, -999.00
318M20040615,        P02,     164,          1,         31,         31,2,20040821,       0727,    30.0002,  -128.3822,       4531,   223.6,   9.0323,  33.8491,2,  33.8524,2, 177.7000,2,   181.1,2,   22.03,2,   19.86,2,    0.00,2,    1.47,2,   3.476,2,   1.935,2,   0.125,2,  -999.0,9,  -999.0,9,-999.000,9,-999.0000,9, -999.00,9, -999.00,9,  -999.0,9,  -999.0,-999.000,9,-999.000, -999.00,9,  223.60,-999.0000,9,-999.0000,9,-999.0000,9,-999.0000,9,-999.0000,9,-999.0000,-999.000,-999.0000,9, -999.00
318M20040615,        P02,     164,          1,         30,         30,2,20040821,       0727,    30.0002,  -128.3822,       4531,   273.6,   8.4730,  33.9925,2,  33.9930,2, 153.2000,2,   153.5,2,   29.97,2,   24.13,2,    0.00,2,    1.73,2,-999.000,9,-999.000,9,-999.000,9,  -999.0,9,  -999.0,9,-999.000,9,-999.0000,9, -999.00,9, -999.00,9,  -999.0,9,  -999.0,-999.000,9,-999.000, -999.00,9,  273.60,-999.0000,9,-999.0000,9,-999.0000,9,-999.0000,9,-999.0000,9,-999.0000,-999.000,-999.0000,9, -999.00
318M20040615,        P02,     164,          1,         29,         29,2,20040821,       0727,    30.0002,  -128.3822,       4531,   323.8,   7.3389,  34.0190,2,  34.0204,2, 113.1000,2,   113.4,2,   43.85,2,   30.41,2,    0.00,2,    2.15,2,   2.475,2,   1.248,2,   0.114,2,  -999.0,9,  -999.0,9,-999.000,9,-999.0000,9, -999.00,9, -999.00,9,  -999.0,9,  -999.0,-999.000,9,-999.000, -999.00,9,  323.80,-999.0000,9,-999.0000,9,-999.0000,9,-999.0000,9,-999.0000,9,-999.0000,-999.000,-999.0000,9, -999.00
318M20040615,        P02,     164,          1,         28,         28,2,20040821,       0727,    30.0002,  -128.3822,       4531,   373.6,   6.5266,  34.0316,2,  34.0312,2,  86.7000,2,    85.7,2,   54.91,2,   34.37,2,    0.00,2,    2.47,2,-999.000,9,-999.000,9,-999.000,9,  -999.0,9,  -999.0,9,-999.000,9,-999.0000,9, -999.00,9, -999.00,9,  -999.0,9,  -999.0,-999.000,9,-999.000, -999.00,9,  373.60,-999.0000,9,-999.0000,9,-999.0000,9,-999.0000,9,-999.0000,9,-999.0000,-999.000,-999.0000,9, -999.00
318M20040615,        P02,     164,          1,         27,         27,2,20040821,       0727,    30.0002,  -128.3822,       4531,   423.3,   6.1065,  34.0934,2,  34.0945,2,  57.7000,2,    52.5,2,   64.96,2,   37.55,2,    0.00,2,    2.75,2,   0.981,2,   0.496,2,   0.031,2,  -999.0,9,  -999.0,9,-999.000,9,-999.0000,9, -999.00,9, -999.00,9,  -999.0,9,  -999.0,-999.000,9,-999.000, -999.00,9,  423.30,-999.0000,9,-999.0000,9,-999.0000,9,-999.0000,9,-999.0000,9,-999.0000,-999.000,-999.0000,9, -999.00
318M20040615,        P02,     164,          1,         26,         26,2,20040821,       0727,    30.0002,  -128.3822,       4531,   473.6,   5.8079,  34.1464,2,  34.1501,2,  44.9000,2,    35.0,2,   72.99,2,   39.29,2,    0.00,2,    2.91,2,-999.000,9,-999.000,9,-999.000,9,  -999.0,9,  -999.0,9,-999.000,9,-999.0000,9, -999.00,9, -999.00,9,  -999.0,9,  -999.0,-999.000,9,-999.000, -999.00,9,  473.60,-999.0000,9,-999.0000,9,-999.0000,9,-999.0000,9,-999.0000,9,-999.0000,-999.000,-999.0000,9, -999.00
318M20040615,        P02,     164,          1,         25,         25,2,20040821,       0727,    30.0002,  -128.3822,       4531,   543.0,   5.5125,  34.2236,2,  34.2295,2,  25.4000,2,    19.8,2,   81.85,2,   40.75,2,    0.00,2,    3.06,2,   0.238,2,   0.122,2,   0.011,2,  -999.0,9,  -999.0,9,-999.000,9,-999.0000,9, -999.00,9, -999.00,9,  -999.0,9,  -999.0,-999.000,9,-999.000, -999.00,9,  543.00,-999.0000,9,-999.0000,9,-999.0000,9,-999.0000,9,-999.0000,9,-999.0000,-999.000,-999.0000,9, -999.00
318M20040615,        P02,     164,          1,         24,         24,2,20040821,       0727,    30.0002,  -128.3822,       4531,   648.2,   5.0639,  34.3163,2,  34.3177,2,  12.4000,2,    12.1,2,   93.22,2,   42.29,2,    0.00,2,    3.17,2,-999.000,9,-999.000,9,-999.000,9,  -999.0,9,  -999.0,9,-999.000,9,-999.0000,9, -999.00,9, -999.00,9,  -999.0,9,  -999.0,-999.000,9,-999.000, -999.00,9,  648.20,-999.0000,9,-999.0000,9,-999.0000,9,-999.0000,9,-999.0000,9,-999.0000,-999.000,-999.0000,9, -999.00
318M20040615,        P02,     164,          1,         23,         23,2,20040821,       0727,    30.0002,  -128.3822,       4531,   748.6,   4.7268,  34.4026,2,  34.4009,2,  12.3000,2,    12.4,2,  100.47,2,   43.16,2,    0.00,2,    3.21,2,   0.030,2,   0.020,2,   0.000,2,  -999.0,9,  -999.0,9,-999.000,9,-999.0000,9, -999.00,9, -999.00,9,  -999.0,9,  -999.0,-999.000,9,-999.000, -999.00,9,  748.60,-999.0000,9,-999.0000,9,-999.0000,9,-999.0000,9,-999.0000,9,-999.0000,-999.000,-999.0000,9, -999.00
318M20040615,        P02,     164,          1,         22,         22,2,20040821,       0727,    30.0002,  -128.3822,       4531,   848.5,   4.4100,  34.4403,2,  34.4398,2,  15.6000,2,    16.7,2,  107.73,2,   43.76,2,    0.00,2,    3.23,2,   0.026,2,   0.015,2,   0.000,2,  -999.0,9,  -999.0,9,-999.000,9,-999.0000,9, -999.00,9, -999.00,9,  -999.0,9,  -999.0,-999.000,9,-999.000, -999.00,9,  848.50,-999.0000,9,-999.0000,9,-999.0000,9,-999.0000,9,-999.0000,9,-999.0000,-999.000,-999.0000,9, -999.00
318M20040615,        P02,     164,          1,         21,         21,2,20040821,       0727,    30.0002,  -128.3822,       4531,   948.5,   4.0452,  34.4649,2,  34.4633,2,  21.2000,2,    21.6,2,  115.01,2,   44.10,2,    0.00,2,    3.20,2,   0.024,2,   0.016,2,   0.000,2,  -999.0,9,  -999.0,9,-999.000,9,-999.0000,9, -999.00,9, -999.00,9,  -999.0,9,  -999.0,-999.000,9,-999.000, -999.00,9,  948.50,-999.0000,9,-999.0000,9,-999.0000,9,-999.0000,9,-999.0000,9,-999.0000,-999.000,-999.0000,9, -999.00
318M20040615,        P02,     164,          1,         20,         20,2,20040821,       0727,    30.0002,  -128.3822,       4531,  1048.7,   3.7875,  34.4940,2,  34.4931,2,  25.6000,2,    27.0,2,  121.04,2,   44.02,2,    0.00,2,    3.19,2,-999.000,9,-999.000,9,-999.000,9,  -999.0,9,  -999.0,9,-999.000,9,-999.0000,9, -999.00,9, -999.00,9,  -999.0,9,  -999.0,-999.000,9,-999.000, -999.00,9, 1048.70,-999.0000,9,-999.0000,9,-999.0000,9,-999.0000,9,-999.0000,9,-999.0000,-999.000,-999.0000,9, -999.00
318M20040615,        P02,     164,          1,         19,         19,2,20040821,       0727,    30.0002,  -128.3822,       4531,  1153.7,   3.5194,  34.5140,2,  34.5145,2,  33.2000,2,    32.6,2,  127.29,2,   43.75,2,    0.00,2,    3.16,2,   0.022,2,   0.017,2,   0.000,2,  -999.0,9,  -999.0,9,-999.000,9,-999.0000,9, -999.00,9, -999.00,9,  -999.0,9,  -999.0,-999.000,9,-999.000, -999.00,9, 1153.70,-999.0000,9,-999.0000,9,-999.0000,9,-999.0000,9,-999.0000,9,-999.0000,-999.000,-999.0000,9, -999.00
318M20040615,        P02,     164,          1,         18,         18,2,20040821,       0727,    30.0002,  -128.3822,       4531,  1254.1,   3.3311,  34.5291,2,  34.5292,2,  36.4000,2,    36.2,2,  132.10,2,   43.47,2,    0.00,2,    3.14,2,   0.023,2,   0.016,2,   0.000,2,  -999.0,9,  -999.0,9,-999.000,9,-999.0000,9, -999.00,9, -999.00,9,  -999.0,9,  -999.0,-999.000,9,-999.000, -999.00,9, 1254.10,-999.0000,9,-999.0000,9,-999.0000,9,-999.0000,9,-999.0000,9,-999.0000,-999.000,-999.0000,9, -999.00
318M20040615,        P02,     164,          1,         17,         17,2,20040821,       0727,    30.0002,  -128.3822,       4531,  1354.3,   3.0902,  34.5469,2,  34.5475,2,  41.9000,2,    42.8,2,  137.75,2,   43.18,2,    0.00,2,    3.11,2,   0.021,2,   0.013,2,   0.000,2,  -999.0,9,  -999.0,9,-999.000,9,-999.0000,9, -999.00,9, -999.00,9,  -999.0,9,  -999.0,-999.000,9,-999.000, -999.00,9, 1354.30,-999.0000,9,-999.0000,9,-999.0000,9,-999.0000,9,-999.0000,9,-999.0000,-999.000,-999.0000,9, -999.00
318M20040615,        P02,     164,          1,         16,         16,2,20040821,       0727,    30.0002,  -128.3822,       4531,  1454.3,   2.8816,  34.5618,2,  34.5606,2,  48.0000,2,    48.5,2,  142.56,2,   42.74,2,    0.00,2,    3.07,2,-999.000,9,-999.000,9,-999.000,9,  -999.0,9,  -999.0,9,-999.000,9,-999.0000,9, -999.00,9, -999.00,9,  -999.0,9,  -999.0,-999.000,9,-999.000, -999.00,9, 1454.30,-999.0000,9,-999.0000,9,-999.0000,9,-999.0000,9,-999.0000,9,-999.0000,-999.000,-999.0000,9, -999.00
318M20040615,        P02,     164,          1,         15,         15,2,20040821,       0727,    30.0002,  -128.3822,       4531,  1554.2,   2.7224,  34.5731,2,  34.5738,2,  53.5000,2,    53.6,2,  146.33,2,   42.68,2,    0.00,2,    3.04,2,   0.015,2,   0.008,2,   0.000,2,  -999.0,9,  -999.0,9,-999.000,9,-999.0000,9, -999.00,9, -999.00,9,  -999.0,9,  -999.0,-999.000,9,-999.000, -999.00,9, 1554.20,-999.0000,9,-999.0000,9,-999.0000,9,-999.0000,9,-999.0000,9,-999.0000,-999.000,-999.0000,9, -999.00
318M20040615,        P02,     164,          1,         14,         14,2,20040821,       0727,    30.0002,  -128.3822,       4531,  1659.2,   2.5445,  34.5855,2,  34.5863,2,  59.0000,2,    59.5,2,  150.93,2,   42.39,2,    0.00,2,    3.01,2,   0.011,2,   0.007,2,   0.000,2,  -999.0,9,  -999.0,9,-999.000,9,-999.0000,9, -999.00,9, -999.00,9,  -999.0,9,  -999.0,-999.000,9,-999.000, -999.00,9, 1659.20,-999.0000,9,-999.0000,9,-999.0000,9,-999.0000,9,-999.0000,9,-999.0000,-999.000,-999.0000,9, -999.00
318M20040615,        P02,     164,          1,         13,         13,2,20040821,       0727,    30.0002,  -128.3822,       4531,  1763.4,   2.3922,  34.5985,2,  34.5993,2,  64.7000,2,    65.9,2,  154.27,2,   42.06,2,    0.00,2,    2.97,2,   0.009,2,   0.005,2,   0.000,2,  -999.0,9,  -999.0,9,-999.000,9,-999.0000,9, -999.00,9, -999.00,9,  -999.0,9,  -999.0,-999.000,9,-999.000, -999.00,9, 1763.40,-999.0000,9,-999.0000,9,-999.0000,9,-999.0000,9,-999.0000,9,-999.0000,-999.000,-999.0000,9, -999.00
318M20040615,        P02,     164,          1,         12,         12,2,20040821,       0727,    30.0002,  -128.3822,       4531,  1966.3,   2.1934,  34.6170,2,  34.6195,2,  76.0000,2,    76.6,2,  158.27,2,   41.35,2,    0.00,2,    2.91,2,-999.000,9,-999.000,9,-999.000,9,  -999.0,9,  -999.0,9,-999.000,9,-999.0000,9, -999.00,9, -999.00,9,  -999.0,9,  -999.0,-999.000,9,-999.000, -999.00,9, 1966.30,-999.0000,9,-999.0000,9,-999.0000,9,-999.0000,9,-999.0000,9,-999.0000,-999.000,-999.0000,9, -999.00
318M20040615,        P02,     164,          1,         11,         11,2,20040821,       0727,    30.0002,  -128.3822,       4531,  2133.4,   2.0429,  34.6304,2,  34.6307,2,  84.9000,2,    85.1,2,  161.00,2,   40.74,2,    0.00,2,    2.87,2,   0.009,2,   0.006,2,   0.000,2,  -999.0,9,  -999.0,9,-999.000,9,-999.0000,9, -999.00,9, -999.00,9,  -999.0,9,  -999.0,-999.000,9,-999.000, -999.00,9, 2133.40,-999.0000,9,-999.0000,9,-999.0000,9,-999.0000,9,-999.0000,9,-999.0000,-999.000,-999.0000,9, -999.00
318M20040615,        P02,     164,          1,         10,         10,2,20040821,       0727,    30.0002,  -128.3822,       4531,  2375.8,   1.8771,  34.6430,2,  34.6429,2,  94.9000,2,    95.1,2,  164.38,2,   40.19,2,    0.00,2,    2.81,2,   0.009,2,   0.004,2,   0.000,2,  -999.0,9,  -999.0,9,-999.000,9,-999.0000,9, -999.00,9, -999.00,9,  -999.0,9,  -999.0,-999.000,9,-999.000, -999.00,9, 2375.80,-999.0000,9,-999.0000,9,-999.0000,9,-999.0000,9,-999.0000,9,-999.0000,-999.000,-999.0000,9, -999.00
318M20040615,        P02,     164,          1,          9,          9,2,20040821,       0727,    30.0002,  -128.3822,       4531,  2627.0,   1.7356,  34.6533,2,  34.6539,2, 104.4000,2,   104.2,2,  168.17,2,   39.75,2,    0.00,2,    2.76,2,   0.007,2,   0.002,2,   0.000,2,  -999.0,9,  -999.0,9,-999.000,9,-999.0000,9, -999.00,9, -999.00,9,  -999.0,9,  -999.0,-999.000,9,-999.000, -999.00,9, 2627.00,-999.0000,9,-999.0000,9,-999.0000,9,-999.0000,9,-999.0000,9,-999.0000,-999.000,-999.0000,9, -999.00
318M20040615,        P02,     164,          1,          8,          8,2,20040821,       0727,    30.0002,  -128.3822,       4531,  2889.4,   1.6310,  34.6629,2,  34.6633,2, 113.4000,2,   114.0,2,  169.62,2,   39.20,2,    0.00,2,    2.71,2,-999.000,9,-999.000,9,-999.000,9,  -999.0,9,  -999.0,9,-999.000,9,-999.0000,9, -999.00,9, -999.00,9,  -999.0,9,  -999.0,-999.000,9,-999.000, -999.00,9, 2889.40,-999.0000,9,-999.0000,9,-999.0000,9,-999.0000,9,-999.0000,9,-999.0000,-999.000,-999.0000,9, -999.00
318M20040615,        P02,     164,          1,          7,          7,2,20040821,       0727,    30.0002,  -128.3822,       4531,  3144.1,   1.5657,  34.6694,2,  34.6696,2, 120.5000,2,   120.5,2,  170.22,2,   38.65,2,    0.00,2,    2.66,2,   0.011,2,   0.008,2,   0.000,2,  -999.0,9,  -999.0,9,-999.000,9,-999.0000,9, -999.00,9, -999.00,9,  -999.0,9,  -999.0,-999.000,9,-999.000, -999.00,9, 3144.10,-999.0000,9,-999.0000,9,-999.0000,9,-999.0000,9,-999.0000,9,-999.0000,-999.000,-999.0000,9, -999.00
318M20040615,        P02,     164,          1,          6,          6,2,20040821,       0727,    30.0002,  -128.3822,       4531,  3397.7,   1.5221,  34.6751,2,  34.6758,2, 127.0000,2,   128.1,2,  168.49,2,   38.10,2,    0.00,2,    2.63,2,-999.000,9,-999.000,9,-999.000,9,  -999.0,9,  -999.0,9,-999.000,9,-999.0000,9, -999.00,9, -999.00,9,  -999.0,9,  -999.0,-999.000,9,-999.000, -999.00,9, 3397.70,-999.0000,9,-999.0000,9,-999.0000,9,-999.0000,9,-999.0000,9,-999.0000,-999.000,-999.0000,9, -999.00
318M20040615,        P02,     164,          1,          5,          5,2,20040821,       0727,    30.0002,  -128.3822,       4531,  3658.0,   1.5049,  34.6795,2,  34.6793,2, 133.1000,2,   133.5,2,  167.57,2,   37.65,2,    0.00,2,    2.59,2,   0.013,2,   0.013,2,   0.000,2,  -999.0,9,  -999.0,9,-999.000,9,-999.0000,9, -999.00,9, -999.00,9,  -999.0,9,  -999.0,-999.000,9,-999.000, -999.00,9, 3658.00,-999.0000,9,-999.0000,9,-999.0000,9,-999.0000,9,-999.0000,9,-999.0000,-999.000,-999.0000,9, -999.00
318M20040615,        P02,     164,          1,          4,          4,2,20040821,       0727,    30.0002,  -128.3822,       4531,  3912.7,   1.5040,  34.6825,2,  34.6821,2, 137.5000,2,   138.3,2,  165.86,2,   37.27,2,    0.00,2,    2.57,2,   0.014,6,   0.015,6,   0.000,6,  -999.0,9,  -999.0,9,-999.000,9,-999.0000,9, -999.00,9, -999.00,9,  -999.0,9,  -999.0,-999.000,9,-999.000, -999.00,9, 3912.70,-999.0000,9,-999.0000,9,-999.0000,9,-999.0000,9,-999.0000,9,-999.0000,-999.000,-999.0000,9, -999.00
318M20040615,        P02,     164,          1,          3,          3,2,20040821,       0727,    30.0002,  -128.3822,       4531,  4171.4,   1.5194,  34.6841,2,  34.6844,2, 139.4000,2,   140.0,2,  165.00,2,   37.11,2,    0.00,2,    2.57,2,   0.007,2,   0.016,2,   0.000,2,  -999.0,9,  -999.0,9,-999.000,9,-999.0000,9, -999.00,9, -999.00,9,  -999.0,9,  -999.0,-999.000,9,-999.000, -999.00,9, 4171.40,-999.0000,9,-999.0000,9,-999.0000,9,-999.0000,9,-999.0000,9,-999.0000,-999.000,-999.0000,9, -999.00
318M20040615,        P02,     164,          1,          2,          2,2,20040821,       0727,    30.0002,  -128.3822,       4531,  4402.7,   1.5417,  34.6848,2,  34.6856,2, 141.0000,2,   141.4,2,  164.33,2,   37.11,2,    0.00,2,    2.57,2,   0.010,2,   0.017,2,   0.011,2,  -999.0,9,  -999.0,9,-999.000,9,-999.0000,9, -999.00,9, -999.00,9,  -999.0,9,  -999.0,-999.000,9,-999.000, -999.00,9, 4402.70,-999.0000,9,-999.0000,9,-999.0000,9,-999.0000,9,-999.0000,9,-999.0000,-999.000,-999.0000,9, -999.00
318M20040615,        P02,     164,          1,          1,          1,2,20040821,       0727,    30.0002,  -128.3822,       4531,  4607.1,   1.5659,  34.6847,2,  34.6856,2, 141.1000,2,   141.7,2,  164.08,2,   37.22,2,    0.00,2,    2.56,2,   0.011,2,   0.014,2,   0.000,2,  -999.0,9,  -999.0,9,-999.000,9,-999.0000,9, -999.00,9, -999.00,9,  -999.0,9,  -999.0,-999.000,9,-999.000, -999.00,9, 4607.10,-999.0000,9,-999.0000,9,-999.0000,9,-999.0000,9,-999.0000,9,-999.0000,-999.000,-999.0000,9, -999.00