BOTTLE,20131027SIOCCHRJL
EXPOCODE,SECT_ID,STNNBR,CASTNO,SAMPNO,BTLNBR,BTLNBR_FLAG_W,DATE,TIME,LATITUDE,LONGITUDE,DEPTH,CTDPRS,CTDTMP,CTDSAL,CTDSAL_FLAG_W,SALNTY,SALNTY_FLAG_W,CTDOXY,CTDOXY_FLAG_W,OXYGEN,OXYGEN_FLAG_W,SILCAT,SILCAT_FLAG_W,NITRAT,NITRAT_FLAG_W,NITRIT,NITRIT_FLAG_W,PHSPHT,PHSPHT_FLAG_W,CFC-11,CFC-11_FLAG_W,CFC-12,CFC-12_FLAG_W,CFC113,CFC113_FLAG_W,TCARBN,TCARBN_FLAG_W,ALKALI,ALKALI_FLAG_W,TRITUM,TRITUM_FLAG_W,HELIUM,HELIUM_FLAG_W,DELHE3,DELHE3_FLAG_W,DELC13,DELC13_FLAG_W,DELC14,DELC14_FLAG_W,C14ERR,NEON,NEON_FLAG_W,NEONER,DOC,DOC_FLAG_W,CTDRAW,CDOM380,CDOM380_FLAG_W,CDOM325,CDOM325_FLAG_W,CDOMSL,CDOMSL_FLAG_W,CDOM340,CDOM340_FLAG_W,CDOMSN,CDOMSN_FLAG_W,HELIER,TRITER,CDOM412,CDOM412_FLAG_W,DELHER
,,,,,,,,,,,METERS,DBAR,ITS-90,PSS-78,,PSS-78,,UMOL/KG,,UMOL/KG,,UMOL/KG,,UMOL/KG,,UMOL/KG,,UMOL/KG,,PMOL/KG,,PMOL/KG,,PMOL/KG,,UMOL/KG,,UMOL/KG,,TU,,NMOL/KG,,PERCNT,,/MILLE,,/MILLE,,/MILLE,NMOL/KG,,NMOL/KG,UMOL/KG,,DBAR,1/M,,1/M,,1/NM,,1/M,,1/NM,,NMOL/KG,TU,1/M,,PERCNT
318M20040615,        P02,     104,          1,         36,         36,2,20040721,       2015,    30.0028,  -167.7482,       5520,     9.1,  25.2009,  35.2748,2,  35.2733,2, 212.4000,2,   211.8,2,    1.57,2,    0.13,2,    0.00,2,    0.03,2,   1.819,2,   1.153,2,   0.132,2,  2015.1,6,  2316.5,6,-999.000,9,-999.0000,9, -999.00,9,    1.03,2,    76.2,2,     5.6,-999.000,9,-999.000,   68.50,2,    9.10,   0.0200,2,   0.0760,2,   0.0270,2,   0.0520,2,   0.0260,2,-999.0000,-999.000,   0.0130,2, -999.00
318M20040615,        P02,     104,          1,         35,         35,2,20040721,       2015,    30.0028,  -167.7482,       5520,    36.5,  20.7118,  35.0560,2,  35.0673,2, 241.3000,2,   240.7,2,    1.96,2,    0.08,2,    0.00,2,    0.04,2,   2.265,2,   1.375,2,   0.162,2,  2009.4,2,  2303.5,2,-999.000,9,-999.0000,9, -999.00,9, -999.00,9,  -999.0,9,  -999.0,-999.000,9,-999.000,   64.10,2,   36.50,   0.0250,2,   0.0880,2,   0.0240,2,   0.0600,2,   0.0250,2,-999.0000,-999.000,   0.0140,2, -999.00
318M20040615,        P02,     104,          1,         34,         34,2,20040721,       2015,    30.0028,  -167.7482,       5520,    71.5,  18.6231,  34.9848,2,  34.9852,2, 230.3000,2,   237.5,2,    2.34,2,    0.13,2,    0.00,2,    0.07,2,   2.407,2,   1.443,2,   0.158,2,  2016.4,2,  2298.3,2,-999.000,9,-999.0000,9, -999.00,9,    1.02,2,    76.0,2,     4.7,-999.000,9,-999.000,   61.20,2,   71.50,   0.0630,2,   0.1740,2,   0.0170,2,   0.1330,2,   0.0180,2,-999.0000,-999.000,   0.0400,2, -999.00
318M20040615,        P02,     104,          1,         33,         33,2,20040721,       2015,    30.0028,  -167.7482,       5520,   121.4,  16.5182,  34.7544,2,  34.7550,2, 222.6000,2,   224.8,2,    3.73,2,    2.62,2,    0.04,2,    0.24,2,   2.560,2,   1.517,2,   0.141,2,  2033.7,2,  2283.1,2,-999.000,9,-999.0000,9, -999.00,9,    0.84,2,    74.8,2,     4.4,-999.000,9,-999.000,   58.00,2,  121.40,   0.0620,2,   0.1500,2,   0.0130,2,   0.1140,2,   0.0140,2,-999.0000,-999.000,   0.0460,2, -999.00
318M20040615,        P02,     104,          1,         32,         32,2,20040721,       2015,    30.0028,  -167.7482,       5520,   171.0,  14.8321,  34.5439,2,  34.5455,2, 216.9000,2,   216.7,2,    6.33,2,    6.39,2,    0.01,2,    0.47,2,   2.765,2,   1.607,2,   0.094,2,  2050.9,2,  2271.4,2,-999.000,9,-999.0000,9, -999.00,9,    0.69,2,    76.9,2,     4.2,-999.000,9,-999.000,   56.40,2,  171.00,-999.0000,9,-999.0000,9,-999.0000,9,-999.0000,9,-999.0000,9,-999.0000,-999.000,-999.0000,9, -999.00
318M20040615,        P02,     104,          1,         31,         31,2,20040721,       2015,    30.0028,  -167.7482,       5520,   220.8,  13.6587,  34.4687,2,  34.4664,2, 219.6000,2,   219.9,2,    9.14,2,    8.67,2,    0.00,2,    0.62,2,   2.866,2,   1.647,2,   0.087,2,  2062.2,2,  2269.0,2,-999.000,9,-999.0000,9, -999.00,9,    0.57,2,    77.1,2,     4.6,-999.000,9,-999.000,   54.10,2,  220.80,   0.0360,2,   0.1010,2,   0.0180,2,   0.0720,2,   0.0190,2,-999.0000,-999.000,   0.0250,2, -999.00
318M20040615,        P02,     104,          1,         30,         30,2,20040721,       2015,    30.0028,  -167.7482,       5520,   275.1,  12.7851,  34.4065,2,  34.4106,2, 221.2000,2,   221.5,2,   10.95,2,   10.03,2,    0.00,2,    0.71,2,   2.950,2,   1.679,2,   0.095,2,  2071.7,2,  2267.7,2,-999.000,9,-999.0000,9, -999.00,9,    0.54,2,    65.0,2,     4.6,-999.000,9,-999.000,   52.40,2,  275.10,   0.0390,2,   0.1170,2,   0.0190,2,   0.0870,2,   0.0200,2,-999.0000,-999.000,   0.0250,2, -999.00
318M20040615,        P02,     104,          1,         29,         29,2,20040721,       2015,    30.0028,  -167.7482,       5520,   325.6,  11.7425,  34.3222,2,  34.3164,2, 222.1000,2,   221.7,2,   13.98,2,   12.05,2,    0.00,2,    0.86,2,   3.047,2,   1.706,2,   0.112,2,  2083.3,2,  2267.1,2,-999.000,9,-999.0000,9, -999.00,9,    0.52,2,    59.5,2,     4.9,-999.000,9,-999.000,   50.90,2,  325.60,-999.0000,9,-999.0000,9,-999.0000,9,-999.0000,9,-999.0000,9,-999.0000,-999.000,-999.0000,9, -999.00
318M20040615,        P02,     104,          1,         28,         28,2,20040721,       2015,    30.0028,  -167.7482,       5520,   375.4,  10.4811,  34.2156,2,  34.2159,2, 217.7000,2,   216.2,2,   18.04,2,   14.51,2,    0.00,2,    1.04,2,   3.121,2,   1.714,2,   0.115,2,  2100.6,2,  2265.7,2,-999.000,9,-999.0000,9, -999.00,9,    0.47,2,    40.5,2,     4.5,-999.000,9,-999.000,   49.40,2,  375.40,-999.0000,9,-999.0000,9,-999.0000,9,-999.0000,9,-999.0000,9,-999.0000,-999.000,-999.0000,9, -999.00
318M20040615,        P02,     104,          1,         27,         27,2,20040721,       2015,    30.0028,  -167.7482,       5520,   425.5,   9.5884,  34.1549,2,  34.1567,2, 204.7000,2,   200.3,2,   23.13,2,   17.61,2,    0.00,2,    1.25,2,   3.032,2,   1.606,2,   0.104,2,  2121.1,2,  2266.7,2,-999.000,9,-999.0000,9, -999.00,9, -999.00,9,  -999.0,9,  -999.0,-999.000,9,-999.000,   48.20,2,  425.50,-999.0000,9,-999.0000,9,-999.0000,9,-999.0000,9,-999.0000,9,-999.0000,-999.000,-999.0000,9, -999.00
318M20040615,        P02,     104,          1,         26,         26,2,20040721,       2015,    30.0028,  -167.7482,       5520,   475.4,   8.6579,  34.0974,2,  34.0922,2, 189.5000,2,   184.8,2,   30.52,2,   21.16,2,    0.00,2,    1.51,2,   2.867,2,   1.503,2,   0.119,2,  2146.2,2,  2269.8,2,-999.000,9,-999.0000,9, -999.00,9,    0.18,2,     4.2,2,     4.4,-999.000,9,-999.000,   46.80,2,  475.40,   0.0730,2,   0.1790,2,   0.0130,2,   0.1320,2,   0.0140,2,-999.0000,-999.000,   0.0540,2, -999.00
318M20040615,        P02,     104,          1,         25,         25,2,20040721,       2015,    30.0028,  -167.7482,       5520,   545.2,   7.2835,  34.0281,2,  34.0326,2, 162.5000,2,   162.1,2,   42.52,2,   25.84,2,    0.00,2,    1.85,2,   2.552,2,   1.303,2,   0.112,2,  2180.8,2,  2277.3,2,-999.000,9,-999.0000,9, -999.00,9,    0.13,2,   -36.9,2,     4.1,-999.000,9,-999.000,   45.00,2,  545.20,-999.0000,9,-999.0000,9,-999.0000,9,-999.0000,9,-999.0000,9,-999.0000,-999.000,-999.0000,9, -999.00
318M20040615,        P02,     104,          1,         24,         24,2,20040721,       2015,    30.0028,  -167.7482,       5520,   645.0,   5.6587,  34.0221,2,  34.0230,2, 114.4000,2,   109.9,2,   66.59,2,   33.42,2,    0.00,2,    2.41,2,   1.648,2,   0.808,2,   0.069,2,  2242.3,2,  2294.4,2,-999.000,9,-999.0000,9, -999.00,9,   -0.11,2,   -73.4,2,     4.1,-999.000,9,-999.000,   43.50,2,  645.00,   0.0830,2,   0.2030,2,   0.0130,2,   0.1490,2,   0.0140,2,-999.0000,-999.000,   0.0610,2, -999.00
318M20040615,        P02,     104,          1,         23,         23,2,20040721,       2015,    30.0028,  -167.7482,       5520,   750.1,   4.6838,  34.1067,2,  34.1082,2,  63.3000,2,    59.0,2,   89.21,2,   39.51,2,    0.00,2,    2.84,2,   0.599,6,   0.304,6,   0.014,6,  2300.0,2,  2316.5,2,-999.000,9,-999.0000,9, -999.00,9,   -0.36,2,  -133.4,2,     3.5,-999.000,9,-999.000,   42.50,2,  750.10,-999.0000,9,-999.0000,9,-999.0000,9,-999.0000,9,-999.0000,9,-999.0000,-999.000,-999.0000,9, -999.00
318M20040615,        P02,     104,          1,         22,         22,2,20040721,       2015,    30.0028,  -167.7482,       5520,   849.9,   4.1740,  34.1925,2,  34.1940,2,  34.4000,2,    32.7,2,  105.35,2,   42.36,2,    0.00,2,    3.04,2,   0.210,2,   0.106,2,   0.001,2,  2331.9,2,  2334.6,2,-999.000,9,-999.0000,9, -999.00,9, -999.00,9,  -999.0,9,  -999.0,-999.000,9,-999.000,   41.30,2,  849.90,   0.1430,2,   0.3020,2,   0.0110,2,   0.2310,2,   0.0120,2,-999.0000,-999.000,   0.1100,2, -999.00
318M20040615,        P02,     104,          1,         21,         21,2,20040721,       2015,    30.0028,  -167.7482,       5520,   949.9,   3.8407,  34.2795,2,  34.2801,2,  22.0000,2,    21.3,2,  116.42,2,   43.63,2,    0.00,2,    3.14,2,   0.061,2,   0.033,2,   0.001,2,  2352.3,2,  2351.5,2,-999.000,9,-999.0000,9, -999.00,9,   -0.48,2,  -185.8,2,     3.5,-999.000,9,-999.000,   40.40,2,  949.90,-999.0000,9,-999.0000,9,-999.0000,9,-999.0000,9,-999.0000,9,-999.0000,-999.000,-999.0000,9, -999.00
318M20040615,        P02,     104,          1,         20,         20,2,20040721,       2015,    30.0028,  -167.7482,       5520,  1049.7,   3.5800,  34.3528,2,  34.3534,2,  19.2000,2,    19.1,2,  125.14,2,   43.96,2,    0.00,2,    3.18,2,   0.021,2,   0.014,2,   0.001,2,  2363.2,2,  2364.2,2,-999.000,9,-999.0000,9, -999.00,9,   -0.45,2,  -200.6,2,     3.8,-999.000,9,-999.000,   39.30,2, 1049.70,-999.0000,9,-999.0000,9,-999.0000,9,-999.0000,9,-999.0000,9,-999.0000,-999.000,-999.0000,9, -999.00
318M20040615,        P02,     104,          1,         19,         19,2,20040721,       2015,    30.0028,  -167.7482,       5520,  1150.2,   3.3555,  34.4169,2,  34.4339,2,  23.9000,3,    24.0,2,  131.50,2,   43.84,2,    0.00,2,    3.16,2,   0.012,2,   0.006,2,   0.001,2,  2368.4,2,  2375.4,2,-999.000,9,-999.0000,9, -999.00,9,   -0.43,2,  -210.7,2,     3.3,-999.000,9,-999.000,   38.30,2, 1150.20,-999.0000,9,-999.0000,9,-999.0000,9,-999.0000,9,-999.0000,9,-999.0000,-999.000,-999.0000,9, -999.00
318M20040615,        P02,     104,          1,         18,         18,2,20040721,       2015,    30.0028,  -167.7482,       5520,  1250.8,   3.1613,  34.4603,2,  34.4605,2,  31.1000,2,    30.9,2,  135.74,2,   43.67,2,    0.00,2,    3.14,2,   0.009,2,   0.007,2,   0.001,2,  2375.4,2,  2383.2,6,-999.000,9,-999.0000,9, -999.00,9, -999.00,9,  -999.0,9,  -999.0,-999.000,9,-999.000,   37.50,2, 1250.80,-999.0000,9,-999.0000,9,-999.0000,9,-999.0000,9,-999.0000,9,-999.0000,-999.000,-999.0000,9, -999.00
318M20040615,        P02,     104,          1,         17,         17,2,20040721,       2015,    30.0028,  -167.7482,       5520,  1356.5,   2.9468,  34.4936,2,  34.4947,2,  36.7000,2,    36.5,2,  141.26,2,   43.78,2,    0.00,2,    3.11,2,   0.005,2,   0.002,2,   0.001,2,  2374.8,2,  2391.8,2,-999.000,9,-999.0000,9, -999.00,9,   -0.38,2,  -223.4,2,     3.5,-999.000,9,-999.000,   37.40,2, 1356.50,-999.0000,9,-999.0000,9,-999.0000,9,-999.0000,9,-999.0000,9,-999.0000,-999.000,-999.0000,9, -999.00
318M20040615,        P02,     104,          1,         16,         16,2,20040721,       2015,    30.0028,  -167.7482,       5520,  1456.6,   2.7397,  34.5213,2,  34.5222,2,  42.8000,2,    43.2,2,  146.34,2,   43.49,2,    0.00,2,    3.08,2,   0.005,2,   0.002,2,   0.001,2,  2376.0,2,  2396.8,2,-999.000,9,-999.0000,9, -999.00,9, -999.00,9,  -999.0,9,  -999.0,-999.000,9,-999.000,   37.90,2, 1456.60,-999.0000,9,-999.0000,9,-999.0000,9,-999.0000,9,-999.0000,9,-999.0000,-999.000,-999.0000,9, -999.00
318M20040615,        P02,     104,          1,         15,         15,2,20040721,       2015,    30.0028,  -167.7482,       5520,  1557.5,   2.5518,  34.5423,2,  34.5423,2,  47.5000,2,    48.0,2,  151.64,2,   43.16,2,    0.00,2,    3.05,2,   0.006,2,   0.005,2,   0.001,2,  2379.0,2,  2401.4,2,-999.000,9,-999.0000,9, -999.00,9, -999.00,9,  -999.0,9,  -999.0,-999.000,9,-999.000,   38.00,2, 1557.50,-999.0000,9,-999.0000,9,-999.0000,9,-999.0000,9,-999.0000,9,-999.0000,-999.000,-999.0000,9, -999.00
318M20040615,        P02,     104,          1,         14,         14,2,20040721,       2015,    30.0028,  -167.7482,       5520,  1657.6,   2.3817,  34.5610,2,  34.5608,2,  52.8000,2,    54.0,2,  156.05,2,   42.76,2,    0.00,2,    3.02,2,   0.004,2,   0.004,2,   0.001,2,  2378.3,2,  2407.1,2,-999.000,9,-999.0000,9, -999.00,9, -999.00,9,  -999.0,9,  -999.0,-999.000,9,-999.000,   37.50,2, 1657.60,-999.0000,9,-999.0000,9,-999.0000,9,-999.0000,9,-999.0000,9,-999.0000,-999.000,-999.0000,9, -999.00
318M20040615,        P02,     104,          1,         13,         13,2,20040721,       2015,    30.0028,  -167.7482,       5520,  1758.2,   2.2422,  34.5784,2,  34.5788,2,  60.4000,2,    61.0,2,  159.01,2,   42.20,2,    0.00,2,    2.99,2,   0.002,2,   0.002,2,   0.002,2,  2378.9,2,  2410.9,2,-999.000,9,-999.0000,9, -999.00,9, -999.00,9,  -999.0,9,  -999.0,-999.000,9,-999.000,   37.40,2, 1758.20,-999.0000,9,-999.0000,9,-999.0000,9,-999.0000,9,-999.0000,9,-999.0000,-999.000,-999.0000,9, -999.00
318M20040615,        P02,     104,          1,         12,         12,2,20040721,       2015,    30.0028,  -167.7482,       5520,  1964.5,   2.0096,  34.6053,2,  34.6043,2,  73.5000,2,    73.8,2,  163.88,2,   41.38,2,    0.00,2,    2.94,2,-999.000,9,-999.000,9,-999.000,9,  2375.6,2,  2416.4,2,-999.000,9,-999.0000,9, -999.00,9, -999.00,9,  -999.0,9,  -999.0,-999.000,9,-999.000,   37.20,2, 1964.50,-999.0000,9,-999.0000,9,-999.0000,9,-999.0000,9,-999.0000,9,-999.0000,-999.000,-999.0000,9, -999.00
318M20040615,        P02,     104,          1,         11,         11,2,20040721,       2015,    30.0028,  -167.7482,       5520,  2126.1,   1.8942,  34.6194,2,  34.6191,2,  83.0000,2,    82.3,2,  165.13,2,   40.76,2,    0.00,2,    2.90,2,   0.003,2,   0.002,2,   0.001,2,  2372.7,2,  2419.3,2,-999.000,9,-999.0000,9, -999.00,9, -999.00,9,  -999.0,9,  -999.0,-999.000,9,-999.000,   36.90,2, 2126.10,   0.0910,2,   0.2110,2,   0.0130,2,   0.1560,2,   0.0130,2,-999.0000,-999.000,   0.0670,2, -999.00
318M20040615,        P02,     104,          1,         10,         10,2,20040721,       2015,    30.0028,  -167.7482,       5520,  2382.7,   1.7399,  34.6383,2,  34.6430,2,  96.9000,3,    96.9,2,  165.76,2,   39.88,2,    0.00,2,    2.82,2,-999.000,9,-999.000,9,-999.000,9,  2364.3,2,  2423.0,2,-999.000,9,-999.0000,9, -999.00,9, -999.00,9,  -999.0,9,  -999.0,-999.000,9,-999.000,   37.60,2, 2382.70,-999.0000,9,-999.0000,9,-999.0000,9,-999.0000,9,-999.0000,9,-999.0000,-999.000,-999.0000,9, -999.00
318M20040615,        P02,     104,          1,          9,          9,2,20040721,       2015,    30.0028,  -167.7482,       5520,  2634.8,   1.6355,  34.6516,2,  34.6508,2, 107.7000,2,   108.5,2,  165.54,2,   39.28,2,    0.00,2,    2.76,2,   0.003,2,  -0.001,2,   0.001,2,  2359.5,2,  2423.9,2,-999.000,9,-999.0000,9, -999.00,9, -999.00,9,  -999.0,9,  -999.0,-999.000,9,-999.000,   37.70,2, 2634.80,-999.0000,9,-999.0000,9,-999.0000,9,-999.0000,9,-999.0000,9,-999.0000,-999.000,-999.0000,9, -999.00
318M20040615,        P02,     104,          1,          8,          8,2,20040721,       2015,    30.0028,  -167.7482,       5520,  2893.6,   1.5681,  34.6613,2,  34.6602,2, 118.1000,2,   119.2,2,  163.83,2,   38.68,2,    0.00,2,    2.70,2,-999.000,9,-999.000,9,-999.000,9,  2352.5,2,  2423.2,2,-999.000,9,-999.0000,9, -999.00,9, -999.00,9,  -999.0,9,  -999.0,-999.000,9,-999.000,   37.50,2, 2893.60,-999.0000,9,-999.0000,9,-999.0000,9,-999.0000,9,-999.0000,9,-999.0000,-999.000,-999.0000,9, -999.00
318M20040615,        P02,     104,          1,          7,          7,2,20040721,       2015,    30.0028,  -167.7482,       5520,  3146.2,   1.5216,  34.6685,2,  34.6669,2, 127.0000,2,   128.1,2,  161.70,2,   38.03,2,    0.00,2,    2.65,2,   0.003,2,   0.003,2,   0.001,2,  2346.2,2,  2422.7,2,-999.000,9,-999.0000,9, -999.00,9, -999.00,9,  -999.0,9,  -999.0,-999.000,9,-999.000,   37.20,2, 3146.20,   0.0810,2,   0.1950,2,   0.0130,2,   0.1440,2,   0.0140,2,-999.0000,-999.000,   0.0580,2, -999.00
318M20040615,        P02,     104,          1,          6,          6,2,20040721,       2015,    30.0028,  -167.7482,       5520,  3551.3,   1.4845,  34.6768,2,  34.6767,2, 137.6000,2,   138.3,2,  158.49,2,   37.26,2,    0.00,2,    2.60,2,-999.000,9,-999.000,9,-999.000,9,  2339.1,2,  2423.3,6,-999.000,9,-999.0000,9, -999.00,9, -999.00,9,  -999.0,9,  -999.0,-999.000,9,-999.000,   37.70,2, 3551.30,-999.0000,9,-999.0000,9,-999.0000,9,-999.0000,9,-999.0000,9,-999.0000,-999.000,-999.0000,9, -999.00
318M20040615,        P02,     104,          1,          5,          5,2,20040721,       2015,    30.0028,  -167.7482,       5520,  3967.2,   1.4718,  34.6827,2,  34.6857,2, 146.1000,3,   146.1,2,  156.19,2,   36.56,2,    0.00,2,    2.55,2,   0.003,2,   0.002,2,   0.001,2,  2334.1,2,  2423.0,6,-999.000,9,-999.0000,9, -999.00,9, -999.00,9,  -999.0,9,  -999.0,-999.000,9,-999.000,   37.10,2, 3967.20,-999.0000,9,-999.0000,9,-999.0000,9,-999.0000,9,-999.0000,9,-999.0000,-999.000,-999.0000,9, -999.00
318M20040615,        P02,     104,          1,          4,          4,2,20040721,       2015,    30.0028,  -167.7482,       5520,  4379.0,   1.4857,  34.6860,2,  34.6848,2, 150.6000,2,   150.7,2,  154.47,2,   36.24,2,    0.00,2,    2.53,2,-999.000,9,-999.000,9,-999.000,9,  2330.4,2,  2420.8,2,-999.000,9,-999.0000,9, -999.00,9, -999.00,9,  -999.0,9,  -999.0,-999.000,9,-999.000,   37.00,2, 4379.00,-999.0000,9,-999.0000,9,-999.0000,9,-999.0000,9,-999.0000,9,-999.0000,-999.000,-999.0000,9, -999.00
318M20040615,        P02,     104,          1,          3,          3,2,20040721,       2015,    30.0028,  -167.7482,       5520,  4786.5,   1.5105,  34.6883,2,  34.6874,2, 153.9000,2,   154.2,2,  152.34,2,   35.91,2,    0.00,2,    2.51,2,   0.002,2,   0.003,2,   0.001,2,  2326.6,2,  2420.0,2,-999.000,9,-999.0000,9, -999.00,9, -999.00,9,  -999.0,9,  -999.0,-999.000,9,-999.000,   37.40,2, 4786.50,-999.0000,9,-999.0000,9,-999.0000,9,-999.0000,9,-999.0000,9,-999.0000,-999.000,-999.0000,9, -999.00
318M20040615,        P02,     104,          1,          2,          2,2,20040721,       2015,    30.0028,  -167.7482,       5520,  5305.7,   1.5382,  34.6914,2,  34.6903,2, 160.9000,2,   160.9,2,  145.74,2,   35.48,2,    0.00,2,    2.48,2,-999.000,9,-999.000,9,-999.000,9,  2319.1,2,  2415.6,2,-999.000,9,-999.0000,9, -999.00,9, -999.00,9,  -999.0,9,  -999.0,-999.000,9,-999.000,   37.50,2, 5305.70,-999.0000,9,-999.0000,9,-999.0000,9,-999.0000,9,-999.0000,9,-999.0000,-999.000,-999.0000,9, -999.00
318M20040615,        P02,     104,          1,          1,          1,2,20040721,       2015,    30.0028,  -167.7482,       5520,  5646.4,   1.5638,  34.6927,2,  34.6928,2, 164.5000,2,   165.3,2,  142.54,2,   35.31,2,    0.00,2,    2.46,2,   0.009,2,   0.012,2,   0.001,2,  2314.6,6,  2412.7,6,-999.000,9,-999.0000,9, -999.00,9, -999.00,9,  -999.0,9,  -999.0,-999.000,9,-999.000,   37.10,2, 5646.40,-999.0000,9,-999.0000,9,-999.0000,9,-999.0000,9,-999.0000,9,-999.0000,-999.000,-999.0000,9, -999.00