BOTTLE,20131027SIOCCHRJL
EXPOCODE,SECT_ID,STNNBR,CASTNO,SAMPNO,BTLNBR,BTLNBR_FLAG_W,DATE,TIME,LATITUDE,LONGITUDE,DEPTH,CTDPRS,CTDTMP,CTDSAL,CTDSAL_FLAG_W,SALNTY,SALNTY_FLAG_W,CTDOXY,CTDOXY_FLAG_W,OXYGEN,OXYGEN_FLAG_W,SILCAT,SILCAT_FLAG_W,NITRAT,NITRAT_FLAG_W,NITRIT,NITRIT_FLAG_W,PHSPHT,PHSPHT_FLAG_W,CFC-11,CFC-11_FLAG_W,CFC-12,CFC-12_FLAG_W,CFC113,CFC113_FLAG_W,TCARBN,TCARBN_FLAG_W,ALKALI,ALKALI_FLAG_W,TRITUM,TRITUM_FLAG_W,HELIUM,HELIUM_FLAG_W,DELHE3,DELHE3_FLAG_W,DELC13,DELC13_FLAG_W,DELC14,DELC14_FLAG_W,C14ERR,NEON,NEON_FLAG_W,NEONER,DOC,DOC_FLAG_W,CTDRAW,CDOM380,CDOM380_FLAG_W,CDOM325,CDOM325_FLAG_W,CDOMSL,CDOMSL_FLAG_W,CDOM340,CDOM340_FLAG_W,CDOMSN,CDOMSN_FLAG_W,HELIER,TRITER,CDOM412,CDOM412_FLAG_W,DELHER
,,,,,,,,,,,METERS,DBAR,ITS-90,PSS-78,,PSS-78,,UMOL/KG,,UMOL/KG,,UMOL/KG,,UMOL/KG,,UMOL/KG,,UMOL/KG,,PMOL/KG,,PMOL/KG,,PMOL/KG,,UMOL/KG,,UMOL/KG,,TU,,NMOL/KG,,PERCNT,,/MILLE,,/MILLE,,/MILLE,NMOL/KG,,NMOL/KG,UMOL/KG,,DBAR,1/M,,1/M,,1/NM,,1/M,,1/NM,,NMOL/KG,TU,1/M,,PERCNT
318M20040615,        P02,      56,          2,         36,         36,2,20040706,       1024,    30.0153,   161.3427,       5928,    11.4,  26.5301,  35.3600,2,  35.3603,2, 204.9000,2,   204.5,2,    0.86,2,    0.08,2,    0.00,2,    0.02,2,   1.722,2,   1.088,2,   0.118,2,  1992.4,6,  2322.6,6,-999.000,9,-999.0000,9, -999.00,9, -999.00,9,  -999.0,9,  -999.0,-999.000,9,-999.000,   68.70,2,   11.40,   0.0100,2,   0.0440,2,   0.0320,2,   0.0270,2,   0.0330,2,-999.0000,-999.000,   0.0050,2, -999.00
318M20040615,        P02,      56,          2,         35,         35,2,20040706,       1024,    30.0153,   161.3427,       5928,    36.4,  25.2785,  35.3407,2,  35.3197,2, 217.1000,3,   214.1,2,    1.04,2,    0.08,2,    0.00,2,    0.02,2,   1.850,2,   1.153,2,   0.128,2,  1995.0,2,  2319.7,2,-999.000,9,-999.0000,9, -999.00,9, -999.00,9,  -999.0,9,  -999.0,-999.000,9,-999.000,   65.60,2,   36.40,   0.0070,2,   0.0430,2,   0.0340,2,   0.0260,2,   0.0340,2,-999.0000,-999.000,   0.0030,2, -999.00
318M20040615,        P02,      56,          2,         34,         34,2,20040706,       1024,    30.0153,   161.3427,       5928,    71.3,  20.1468,  35.0164,2,  35.0181,2, 230.8000,2,   230.9,2,    1.57,2,    0.08,2,    0.00,2,    0.05,2,   2.276,2,   1.376,2,   0.135,2,  2003.9,2,  2300.4,2,-999.000,9,-999.0000,9, -999.00,9, -999.00,9,  -999.0,9,  -999.0,-999.000,9,-999.000,   62.60,2,   71.30,   0.0290,2,   0.1070,2,   0.0240,2,   0.0720,2,   0.0250,2,-999.0000,-999.000,   0.0170,2, -999.00
318M20040615,        P02,      56,          2,         33,         33,2,20040706,       1024,    30.0153,   161.3427,       5928,   120.7,  18.1571,  34.8735,2,-999.0000,9, 219.9000,5,   221.4,2,    2.12,2,    1.13,2,    0.16,2,    0.15,2,   2.388,2,   1.426,2,   0.138,2,  2018.4,2,  2289.6,2,-999.000,9,-999.0000,9, -999.00,9, -999.00,9,  -999.0,9,  -999.0,-999.000,9,-999.000,   55.30,2,  120.70,   0.0310,2,   0.0990,2,   0.0210,2,   0.0720,2,   0.0210,2,-999.0000,-999.000,   0.0210,2, -999.00
318M20040615,        P02,      56,          2,         32,         32,2,20040706,       1024,    30.0153,   161.3427,       5928,   170.1,  17.2769,  34.7896,2,  34.7901,2, 220.4000,2,   220.0,2,    2.84,2,    3.24,2,    0.02,2,    0.24,2,   2.494,2,   1.486,2,   0.132,2,  2021.9,2,  2285.1,2,-999.000,9,-999.0000,9, -999.00,9, -999.00,9,  -999.0,9,  -999.0,-999.000,9,-999.000,   53.80,2,  170.10,   0.0240,2,   0.0800,2,   0.0230,2,   0.0550,2,   0.0230,2,-999.0000,-999.000,   0.0180,2, -999.00
318M20040615,        P02,      56,          2,         31,         31,2,20040706,       1024,    30.0153,   161.3427,       5928,   220.0,  16.7575,  34.7533,2,  34.7552,2, 221.9000,2,   222.4,2,    3.38,2,    3.93,2,    0.01,2,    0.29,2,   2.490,2,   1.477,2,   0.114,2,  2023.5,2,  2284.0,2,-999.000,9,-999.0000,9, -999.00,9, -999.00,9,  -999.0,9,  -999.0,-999.000,9,-999.000,   53.10,2,  220.00,   0.0240,2,   0.0800,2,   0.0230,2,   0.0550,2,   0.0230,2,-999.0000,-999.000,   0.0170,2, -999.00
318M20040615,        P02,      56,          2,         30,         30,2,20040706,       1024,    30.0153,   161.3427,       5928,   269.3,  16.4611,  34.7428,2,  34.7430,2, 215.9000,2,   222.2,2,    3.93,2,    4.56,2,    0.01,2,    0.33,2,   2.526,2,   1.478,2,   0.115,2,  2027.6,2,  2282.9,2,-999.000,9,-999.0000,9, -999.00,9, -999.00,9,  -999.0,9,  -999.0,-999.000,9,-999.000,   51.60,2,  269.30,   0.0270,2,   0.0820,2,   0.0210,2,   0.0570,2,   0.0220,2,-999.0000,-999.000,   0.0200,2, -999.00
318M20040615,        P02,      56,          2,         29,         29,2,20040706,       1024,    30.0153,   161.3427,       5928,   320.2,  15.9962,  34.7100,2,  34.7114,2, 215.9000,2,   223.1,2,    4.84,2,    5.21,2,    0.01,2,    0.37,2,   2.553,2,   1.491,2,   0.116,2,  2032.0,2,  2281.0,2,-999.000,9,-999.0000,9, -999.00,9, -999.00,9,  -999.0,9,  -999.0,-999.000,9,-999.000,   50.10,2,  320.20,   0.0220,2,   0.0730,2,   0.0240,2,   0.0500,2,   0.0240,2,-999.0000,-999.000,   0.0150,2, -999.00
318M20040615,        P02,      56,          2,         28,         28,2,20040706,       1024,    30.0153,   161.3427,       5928,   369.4,  15.4798,  34.6599,2,  34.6619,2, 215.8000,2,   216.7,2,    6.47,2,    6.43,2,    0.01,2,    0.47,2,   2.588,2,   1.494,2,   0.104,2,  2042.0,2,  2280.6,2,-999.000,9,-999.0000,9, -999.00,9, -999.00,9,  -999.0,9,  -999.0,-999.000,9,-999.000,   49.40,2,  369.40,   0.0230,2,   0.0780,2,   0.0230,2,   0.0530,2,   0.0240,2,-999.0000,-999.000,   0.0160,2, -999.00
318M20040615,        P02,      56,          2,         27,         27,2,20040706,       1024,    30.0153,   161.3427,       5928,   420.3,  14.3639,  34.5379,2,  34.5401,2, 207.5000,2,   208.3,2,    8.83,2,    8.61,2,    0.00,2,    0.62,2,   2.732,2,   1.545,2,   0.054,2,  2060.3,2,  2280.1,3,-999.000,9,-999.0000,9, -999.00,9, -999.00,9,  -999.0,9,  -999.0,-999.000,9,-999.000,   47.90,2,  420.30,-999.0000,9,-999.0000,9,-999.0000,9,-999.0000,9,-999.0000,9,-999.0000,-999.000,-999.0000,9, -999.00
318M20040615,        P02,      56,          2,         26,         26,2,20040706,       1024,    30.0153,   161.3427,       5928,   473.8,  13.3331,  34.4729,2,  34.4743,2, 200.3000,2,   199.3,2,   13.38,2,   11.27,2,    0.00,2,    0.80,2,   2.699,2,   1.492,2,   0.060,2,  2079.4,2,  2273.7,6,-999.000,9,-999.0000,9, -999.00,9, -999.00,9,  -999.0,9,  -999.0,-999.000,9,-999.000,   47.20,2,  473.80,   0.0350,2,   0.1040,2,   0.0190,2,   0.0730,2,   0.0210,2,-999.0000,-999.000,   0.0240,2, -999.00
318M20040615,        P02,      56,          2,         25,         25,2,20040706,       1024,    30.0153,   161.3427,       5928,   542.7,  11.8250,  34.3589,2,  34.3603,2, 204.6000,2,   199.2,2,   17.94,2,   13.83,2,    0.00,2,    0.99,2,   2.798,2,   1.526,2,   0.084,2,  2098.0,2,  2276.2,2,-999.000,9,-999.0000,9, -999.00,9, -999.00,9,  -999.0,9,  -999.0,-999.000,9,-999.000,   46.40,2,  542.70,-999.0000,9,-999.0000,9,-999.0000,9,-999.0000,9,-999.0000,9,-999.0000,-999.000,-999.0000,9, -999.00
318M20040615,        P02,      56,          2,         24,         24,2,20040706,       1024,    30.0153,   161.3427,       5928,   641.6,   9.0547,  34.1410,2,  34.1443,2, 186.3000,2,   190.2,2,   30.17,2,   19.16,2,    0.00,2,    1.40,2,   2.812,2,   1.506,2,   0.119,2,  2137.1,2,  2274.7,2,-999.000,9,-999.0000,9, -999.00,9, -999.00,9,  -999.0,9,  -999.0,-999.000,9,-999.000,   45.00,2,  641.60,   0.0910,2,   0.2140,2,   0.0120,2,   0.1580,2,   0.0130,2,-999.0000,-999.000,   0.0680,2, -999.00
318M20040615,        P02,      56,          2,         23,         23,2,20040706,       1024,    30.0153,   161.3427,       5928,   741.3,   6.9066,  34.0535,2,  34.0550,2, 145.5000,2,   137.9,2,   50.86,2,   27.99,2,    0.00,2,    2.04,2,   1.983,6,   1.003,6,   0.073,6,  2203.6,2,  2284.8,2,-999.000,9,-999.0000,9, -999.00,9, -999.00,9,  -999.0,9,  -999.0,-999.000,9,-999.000,   44.20,2,  741.30,-999.0000,9,-999.0000,9,-999.0000,9,-999.0000,9,-999.0000,9,-999.0000,-999.000,-999.0000,9, -999.00
318M20040615,        P02,      56,          2,         22,         22,2,20040706,       1024,    30.0153,   161.3427,       5928,   841.2,   5.4512,  34.0695,2,  34.0703,2, 101.3000,2,    98.3,2,   73.48,2,   34.04,2,    0.00,2,    2.50,2,   1.345,2,   0.670,2,   0.054,2,  2256.7,2,  2306.9,2,-999.000,9,-999.0000,9, -999.00,9, -999.00,9,  -999.0,9,  -999.0,-999.000,9,-999.000,   43.50,2,  841.20,-999.0000,9,-999.0000,9,-999.0000,9,-999.0000,9,-999.0000,9,-999.0000,-999.000,-999.0000,9, -999.00
318M20040615,        P02,      56,          2,         21,         21,2,20040706,       1024,    30.0153,   161.3427,       5928,   940.7,   4.6341,  34.1609,2,  34.1622,2,  64.3000,2,    60.9,2,   93.42,2,   38.61,2,    0.00,2,    2.84,2,   0.601,2,   0.299,2,   0.019,2,  2301.4,2,  2324.4,2,-999.000,9,-999.0000,9, -999.00,9, -999.00,9,  -999.0,9,  -999.0,-999.000,9,-999.000,   41.80,2,  940.70,-999.0000,9,-999.0000,9,-999.0000,9,-999.0000,9,-999.0000,9,-999.0000,-999.000,-999.0000,9, -999.00
318M20040615,        P02,      56,          2,         20,         20,2,20040706,       1024,    30.0153,   161.3427,       5928,  1038.1,   4.0345,  34.2450,2,  34.2454,2,  47.2000,2,    44.8,2,  109.86,2,   40.71,2,    0.00,2,    2.99,2,   0.333,2,   0.167,2,   0.010,2,  2329.0,2,  2342.8,2,-999.000,9,-999.0000,9, -999.00,9, -999.00,9,  -999.0,9,  -999.0,-999.000,9,-999.000,   40.70,2, 1038.10,   0.1000,2,   0.2270,2,   0.0120,2,   0.1680,2,   0.0130,2,-999.0000,-999.000,   0.0770,2, -999.00
318M20040615,        P02,      56,          2,         19,         19,2,20040706,       1024,    30.0153,   161.3427,       5928,  1139.2,   3.6392,  34.3114,2,  34.3126,2,  38.0000,2,    36.7,2,  120.42,2,   42.01,2,    0.00,2,    3.07,2,   0.179,2,   0.087,2,   0.004,2,  2347.2,2,  2357.0,2,-999.000,9,-999.0000,9, -999.00,9, -999.00,9,  -999.0,9,  -999.0,-999.000,9,-999.000,   39.70,2, 1139.20,-999.0000,9,-999.0000,9,-999.0000,9,-999.0000,9,-999.0000,9,-999.0000,-999.000,-999.0000,9, -999.00
318M20040615,        P02,      56,          2,         18,         18,2,20040706,       1024,    30.0153,   161.3427,       5928,  1238.1,   3.3224,  34.3685,2,  34.3686,2,  33.7000,2,    33.5,2,  130.99,2,   42.82,2,    0.00,2,    3.11,2,   0.095,2,   0.045,2,   0.008,2,  2357.2,2,  2368.9,2,-999.000,9,-999.0000,9, -999.00,9, -999.00,9,  -999.0,9,  -999.0,-999.000,9,-999.000,   39.00,2, 1238.10,-999.0000,9,-999.0000,9,-999.0000,9,-999.0000,9,-999.0000,9,-999.0000,-999.000,-999.0000,9, -999.00
318M20040615,        P02,      56,          2,         17,         17,2,20040706,       1024,    30.0153,   161.3427,       5928,  1338.1,   3.0451,  34.4208,2,  34.4220,2,  32.8000,2,    33.1,2,  139.18,2,   43.34,2,    0.00,2,    3.12,2,   0.045,2,   0.019,2,   0.000,2,  2367.6,6,  2379.4,2,-999.000,9,-999.0000,9, -999.00,9, -999.00,9,  -999.0,9,  -999.0,-999.000,9,-999.000,   38.50,2, 1338.10,-999.0000,9,-999.0000,9,-999.0000,9,-999.0000,9,-999.0000,9,-999.0000,-999.000,-999.0000,9, -999.00
318M20040615,        P02,      56,          2,         16,         16,2,20040706,       1024,    30.0153,   161.3427,       5928,  1438.6,   2.8150,  34.4556,2,  34.4571,2,  34.7000,2,    35.5,2,  145.87,2,   43.21,2,    0.00,2,    3.12,2,   0.027,2,   0.012,2,   0.003,2,  2373.1,2,  2386.8,2,-999.000,9,-999.0000,9, -999.00,9, -999.00,9,  -999.0,9,  -999.0,-999.000,9,-999.000,   38.10,2, 1438.60,-999.0000,9,-999.0000,9,-999.0000,9,-999.0000,9,-999.0000,9,-999.0000,-999.000,-999.0000,9, -999.00
318M20040615,        P02,      56,          2,         15,         15,2,20040706,       1024,    30.0153,   161.3427,       5928,  1540.1,   2.6288,  34.4876,2,  34.4920,2,  37.9000,3,    39.0,2,  151.10,2,   43.10,2,    0.00,2,    3.10,2,   0.018,2,   0.009,2,   0.003,2,  2375.6,2,  2392.5,2,-999.000,9,-999.0000,9, -999.00,9, -999.00,9,  -999.0,9,  -999.0,-999.000,9,-999.000,   38.30,2, 1540.10,-999.0000,9,-999.0000,9,-999.0000,9,-999.0000,9,-999.0000,9,-999.0000,-999.000,-999.0000,9, -999.00
318M20040615,        P02,      56,          2,         14,         14,2,20040706,       1024,    30.0153,   161.3427,       5928,  1740.5,   2.3486,  34.5386,2,  34.5400,2,  52.6000,2,    52.3,2,  156.66,2,   42.28,2,    0.00,2,    3.04,2,   0.009,2,   0.004,2,   0.000,2,  2375.5,2,  2403.3,2,-999.000,9,-999.0000,9, -999.00,9, -999.00,9,  -999.0,9,  -999.0,-999.000,9,-999.000,   38.20,2, 1740.50,-999.0000,9,-999.0000,9,-999.0000,9,-999.0000,9,-999.0000,9,-999.0000,-999.000,-999.0000,9, -999.00
318M20040615,        P02,      56,          2,         13,         13,2,20040706,       1024,    30.0153,   161.3427,       5928,  1939.2,   2.1313,  34.5736,2,  34.5742,2,  66.6000,2,    66.0,2,  159.66,2,   41.42,2,    0.00,2,    2.97,2,   0.006,2,   0.003,2,   0.000,2,  2371.7,2,  2408.1,2,-999.000,9,-999.0000,9, -999.00,9, -999.00,9,  -999.0,9,  -999.0,-999.000,9,-999.000,   38.10,2, 1939.20,-999.0000,9,-999.0000,9,-999.0000,9,-999.0000,9,-999.0000,9,-999.0000,-999.000,-999.0000,9, -999.00
318M20040615,        P02,      56,          2,         12,         12,2,20040706,       1024,    30.0153,   161.3427,       5928,  2100.8,   1.9794,  34.5986,2,  34.5991,2,  79.9000,2,    80.0,2,  159.30,2,   40.46,2,    0.00,2,    2.89,2,   0.001,2,   0.002,2,   0.000,2,  2365.3,2,  2410.5,2,-999.000,9,-999.0000,9, -999.00,9, -999.00,9,  -999.0,9,  -999.0,-999.000,9,-999.000,   37.70,2, 2100.80,   0.0740,2,   0.1780,2,   0.0130,2,   0.1290,2,   0.0140,2,-999.0000,-999.000,   0.0550,2, -999.00
318M20040615,        P02,      56,          2,         11,         11,2,20040706,       1024,    30.0153,   161.3427,       5928,  2351.3,   1.8158,  34.6253,2,  34.6260,2,  97.9000,2,    97.9,2,  159.14,2,   39.28,2,    0.00,2,    2.82,2,   0.001,2,   0.002,2,   0.000,2,  2356.8,2,  2413.7,2,-999.000,9,-999.0000,9, -999.00,9, -999.00,9,  -999.0,9,  -999.0,-999.000,9,-999.000,   38.10,2, 2351.30,-999.0000,9,-999.0000,9,-999.0000,9,-999.0000,9,-999.0000,9,-999.0000,-999.000,-999.0000,9, -999.00
318M20040615,        P02,      56,          2,         10,         10,2,20040706,       1024,    30.0153,   161.3427,       5928,  2601.5,   1.7040,  34.6431,2,  34.6447,2, 111.2000,2,   112.3,2,  156.67,2,   38.24,2,    0.00,2,    2.75,2,   0.001,2,   0.001,2,   0.000,2,  2349.1,2,  2415.6,2,-999.000,9,-999.0000,9, -999.00,9, -999.00,9,  -999.0,9,  -999.0,-999.000,9,-999.000,   37.80,2, 2601.50,-999.0000,9,-999.0000,9,-999.0000,9,-999.0000,9,-999.0000,9,-999.0000,-999.000,-999.0000,9, -999.00
318M20040615,        P02,      56,          2,          9,          9,2,20040706,       1024,    30.0153,   161.3427,       5928,  2847.1,   1.6330,  34.6543,2,  34.6549,2, 121.5000,2,   121.8,2,  154.96,2,   37.95,2,    0.00,2,    2.68,2,   0.000,2,   0.003,2,   0.000,2,  2344.9,2,  2418.2,2,-999.000,9,-999.0000,9, -999.00,9, -999.00,9,  -999.0,9,  -999.0,-999.000,9,-999.000,   38.10,2, 2847.10,-999.0000,9,-999.0000,9,-999.0000,9,-999.0000,9,-999.0000,9,-999.0000,-999.000,-999.0000,9, -999.00
318M20040615,        P02,      56,          2,          8,          8,2,20040706,       1024,    30.0153,   161.3427,       5928,  3099.3,   1.5869,  34.6628,2,  34.6642,2, 129.8000,2,   130.5,2,  153.06,2,   37.56,2,    0.00,2,    2.65,2,   0.002,2,   0.001,2,   0.000,2,  2339.3,2,  2417.3,2,-999.000,9,-999.0000,9, -999.00,9, -999.00,9,  -999.0,9,  -999.0,-999.000,9,-999.000,   37.70,2, 3099.30,   0.0560,2,   0.1490,2,   0.0150,2,   0.1060,2,   0.0160,2,-999.0000,-999.000,   0.0390,2, -999.00
318M20040615,        P02,      56,          2,          7,          7,2,20040706,       1024,    30.0153,   161.3427,       5928,  3500.7,   1.5392,  34.6718,2,  34.6722,2, 138.5000,2,   138.7,2,  151.74,2,   37.10,2,    0.00,2,    2.60,2,   0.000,2,   0.003,2,   0.000,2,  2334.3,2,  2417.4,2,-999.000,9,-999.0000,9, -999.00,9, -999.00,9,  -999.0,9,  -999.0,-999.000,9,-999.000,   37.50,2, 3500.70,-999.0000,9,-999.0000,9,-999.0000,9,-999.0000,9,-999.0000,9,-999.0000,-999.000,-999.0000,9, -999.00
318M20040615,        P02,      56,          2,          6,          6,2,20040706,       1024,    30.0153,   161.3427,       5928,  3897.2,   1.5005,  34.6787,2,  34.6787,2, 145.1000,2,   146.0,2,  150.60,2,   36.53,2,    0.00,2,    2.56,2,   0.001,2,   0.003,2,   0.003,2,  2329.0,2,  2415.9,2,-999.000,9,-999.0000,9, -999.00,9, -999.00,9,  -999.0,9,  -999.0,-999.000,9,-999.000,   38.00,2, 3897.20,-999.0000,9,-999.0000,9,-999.0000,9,-999.0000,9,-999.0000,9,-999.0000,-999.000,-999.0000,9, -999.00
318M20040615,        P02,      56,          2,          5,          5,2,20040706,       1024,    30.0153,   161.3427,       5928,  4297.6,   1.4863,  34.6843,2,  34.6840,2, 152.5000,2,   152.9,2,  148.17,2,   35.91,2,    0.00,2,    2.54,2,   0.003,2,   0.004,2,   0.000,2,  2322.7,2,  2414.6,2,-999.000,9,-999.0000,9, -999.00,9, -999.00,9,  -999.0,9,  -999.0,-999.000,9,-999.000,   37.80,2, 4297.60,-999.0000,9,-999.0000,9,-999.0000,9,-999.0000,9,-999.0000,9,-999.0000,-999.000,-999.0000,9, -999.00
318M20040615,        P02,      56,          2,          4,          4,2,20040706,       1024,    30.0153,   161.3427,       5928,  4699.2,   1.4914,  34.6881,2,  34.6880,2, 158.1000,2,   158.1,2,  147.04,2,   35.52,2,    0.00,2,    2.50,2,   0.003,2,   0.002,2,   0.000,2,  2317.2,2,  2412.9,2,-999.000,9,-999.0000,9, -999.00,9, -999.00,9,  -999.0,9,  -999.0,-999.000,9,-999.000,   37.50,2, 4699.20,-999.0000,9,-999.0000,9,-999.0000,9,-999.0000,9,-999.0000,9,-999.0000,-999.000,-999.0000,9, -999.00
318M20040615,        P02,      56,          2,          3,          3,2,20040706,       1024,    30.0153,   161.3427,       5928,  5204.2,   1.5114,  34.6919,2,  34.6923,2, 165.1000,2,   165.6,2,  141.48,2,   34.91,2,    0.00,2,    2.46,2,   0.001,2,   0.001,2,   0.000,2,  2310.4,2,  2408.2,2,-999.000,9,-999.0000,9, -999.00,9, -999.00,9,  -999.0,9,  -999.0,-999.000,9,-999.000,   38.10,2, 5204.20,-999.0000,9,-999.0000,9,-999.0000,9,-999.0000,9,-999.0000,9,-999.0000,-999.000,-999.0000,9, -999.00
318M20040615,        P02,      56,          2,          2,          2,2,20040706,       1024,    30.0153,   161.3427,       5928,  5592.3,   1.5363,  34.6939,2,  34.6937,2, 168.9000,2,   169.6,2,  138.53,2,   34.58,2,    0.00,2,    2.43,2,   0.002,2,   0.005,2,   0.000,2,  2306.3,2,  2406.4,2,-999.000,9,-999.0000,9, -999.00,9, -999.00,9,  -999.0,9,  -999.0,-999.000,9,-999.000,   37.60,2, 5592.30,-999.0000,9,-999.0000,9,-999.0000,9,-999.0000,9,-999.0000,9,-999.0000,-999.000,-999.0000,9, -999.00
318M20040615,        P02,      56,          2,          1,          1,2,20040706,       1024,    30.0153,   161.3427,       5928,  6083.4,   1.5800,  34.6956,2,  34.6960,2, 172.1000,2,   172.8,2,  136.10,2,   34.29,2,    0.00,2,    2.47,2,   0.002,2,   0.004,2,   0.003,2,  2304.3,6,  2403.5,6,-999.000,9,-999.0000,9, -999.00,9, -999.00,9,  -999.0,9,  -999.0,-999.000,9,-999.000,   37.40,2, 6083.40,-999.0000,9,-999.0000,9,-999.0000,9,-999.0000,9,-999.0000,9,-999.0000,-999.000,-999.0000,9, -999.00