BOTTLE,20131027SIOCCHRJL
EXPOCODE,SECT_ID,STNNBR,CASTNO,SAMPNO,BTLNBR,BTLNBR_FLAG_W,DATE,TIME,LATITUDE,LONGITUDE,DEPTH,CTDPRS,CTDTMP,CTDSAL,CTDSAL_FLAG_W,SALNTY,SALNTY_FLAG_W,CTDOXY,CTDOXY_FLAG_W,OXYGEN,OXYGEN_FLAG_W,SILCAT,SILCAT_FLAG_W,NITRAT,NITRAT_FLAG_W,NITRIT,NITRIT_FLAG_W,PHSPHT,PHSPHT_FLAG_W,CFC-11,CFC-11_FLAG_W,CFC-12,CFC-12_FLAG_W,CFC113,CFC113_FLAG_W,TCARBN,TCARBN_FLAG_W,ALKALI,ALKALI_FLAG_W,TRITUM,TRITUM_FLAG_W,HELIUM,HELIUM_FLAG_W,DELHE3,DELHE3_FLAG_W,DELC13,DELC13_FLAG_W,DELC14,DELC14_FLAG_W,C14ERR,NEON,NEON_FLAG_W,NEONER,DOC,DOC_FLAG_W,CTDRAW,CDOM380,CDOM380_FLAG_W,CDOM325,CDOM325_FLAG_W,CDOMSL,CDOMSL_FLAG_W,CDOM340,CDOM340_FLAG_W,CDOMSN,CDOMSN_FLAG_W,HELIER,TRITER,CDOM412,CDOM412_FLAG_W,DELHER
,,,,,,,,,,,METERS,DBAR,ITS-90,PSS-78,,PSS-78,,UMOL/KG,,UMOL/KG,,UMOL/KG,,UMOL/KG,,UMOL/KG,,UMOL/KG,,PMOL/KG,,PMOL/KG,,PMOL/KG,,UMOL/KG,,UMOL/KG,,TU,,NMOL/KG,,PERCNT,,/MILLE,,/MILLE,,/MILLE,NMOL/KG,,NMOL/KG,UMOL/KG,,DBAR,1/M,,1/M,,1/NM,,1/M,,1/NM,,NMOL/KG,TU,1/M,,PERCNT
318M20040615,        P02,      31,          1,         35,         35,2,20040627,       0119,    29.9978,   143.7672,       5493,    12.4,  26.3087,  34.9069,2,  34.9044,2, 210.4000,2,   208.2,2,    1.30,2,    0.12,2,    0.00,2,    0.02,2,   1.776,2,   1.094,2,   0.127,2,  1970.6,6,  2291.8,6,-999.000,9,-999.0000,9, -999.00,9, -999.00,9,  -999.0,9,  -999.0,-999.000,9,-999.000, -999.00,9,   12.40,-999.0000,9,-999.0000,9,-999.0000,9,-999.0000,9,-999.0000,9,-999.0000,-999.000,-999.0000,9, -999.00
318M20040615,        P02,      31,          1,         34,         34,2,20040627,       0119,    29.9978,   143.7672,       5493,    57.2,  21.4066,  34.8737,2,  34.8725,2, 233.4000,2,   232.3,2,    1.66,2,    0.11,2,    0.00,2,    0.03,2,   2.162,2,   1.325,2,   0.141,2,  -999.0,9,  2289.1,2,-999.000,9,-999.0000,9, -999.00,9, -999.00,9,  -999.0,9,  -999.0,-999.000,9,-999.000, -999.00,9,   57.20,-999.0000,9,-999.0000,9,-999.0000,9,-999.0000,9,-999.0000,9,-999.0000,-999.000,-999.0000,9, -999.00
318M20040615,        P02,      31,          1,         33,         33,2,20040627,       0119,    29.9978,   143.7672,       5493,   107.1,  18.2072,  34.8231,2,  34.8291,2, 213.0000,2,   215.3,2,    2.75,2,    2.11,2,    0.09,2,    0.18,2,   2.371,2,   1.414,2,   0.105,2,  -999.0,9,  2286.3,2,-999.000,9,-999.0000,9, -999.00,9, -999.00,9,  -999.0,9,  -999.0,-999.000,9,-999.000, -999.00,9,  107.10,-999.0000,9,-999.0000,9,-999.0000,9,-999.0000,9,-999.0000,9,-999.0000,-999.000,-999.0000,9, -999.00
318M20040615,        P02,      31,          1,         32,         32,2,20040627,       0119,    29.9978,   143.7672,       5493,   151.3,  17.6743,  34.7995,2,  34.7979,2, 210.7000,2,   211.7,2,    3.47,2,    3.55,2,    0.02,2,    0.25,2,   2.417,2,   1.437,2,   0.088,2,  -999.0,9,  -999.0,9,-999.000,9,-999.0000,9, -999.00,9, -999.00,9,  -999.0,9,  -999.0,-999.000,9,-999.000, -999.00,9,  151.30,-999.0000,9,-999.0000,9,-999.0000,9,-999.0000,9,-999.0000,9,-999.0000,-999.000,-999.0000,9, -999.00
318M20040615,        P02,      31,          1,         31,         31,2,20040627,       0119,    29.9978,   143.7672,       5493,   200.8,  17.1788,  34.8000,2,  34.7969,2, 216.6000,2,   220.5,2,    3.47,2,    3.50,2,    0.01,2,    0.25,2,   2.441,2,   1.445,2,   0.121,2,  -999.0,9,  2282.4,2,-999.000,9,-999.0000,9, -999.00,9, -999.00,9,  -999.0,9,  -999.0,-999.000,9,-999.000, -999.00,9,  200.80,-999.0000,9,-999.0000,9,-999.0000,9,-999.0000,9,-999.0000,9,-999.0000,-999.000,-999.0000,9, -999.00
318M20040615,        P02,      31,          1,         30,         30,2,20040627,       0119,    29.9978,   143.7672,       5493,   250.8,  16.7532,  34.7480,2,  34.7470,2, 216.6000,2,   213.0,2,    4.73,2,    4.97,2,    0.01,2,    0.35,2,   2.502,2,   1.469,2,   0.067,2,  -999.0,9,  -999.0,9,-999.000,9,-999.0000,9, -999.00,9, -999.00,9,  -999.0,9,  -999.0,-999.000,9,-999.000, -999.00,9,  250.80,-999.0000,9,-999.0000,9,-999.0000,9,-999.0000,9,-999.0000,9,-999.0000,-999.000,-999.0000,9, -999.00
318M20040615,        P02,      31,          1,         29,         29,2,20040627,       0119,    29.9978,   143.7672,       5493,   300.0,  16.1444,  34.6921,2,  34.6914,2, 204.6000,2,   201.9,2,    6.54,2,    6.85,2,    0.00,2,    0.48,2,   2.497,2,   1.441,2,   0.040,2,  -999.0,9,  2279.0,2,-999.000,9,-999.0000,9, -999.00,9, -999.00,9,  -999.0,9,  -999.0,-999.000,9,-999.000, -999.00,9,  300.00,-999.0000,9,-999.0000,9,-999.0000,9,-999.0000,9,-999.0000,9,-999.0000,-999.000,-999.0000,9, -999.00
318M20040615,        P02,      31,          1,         28,         28,2,20040627,       0119,    29.9978,   143.7672,       5493,   352.2,  15.3504,  34.6270,2,  34.6256,2, 193.7000,2,   192.2,2,    9.24,2,    9.01,2,    0.00,2,    0.64,2,   2.545,2,   1.432,2,   0.027,2,  -999.0,9,  -999.0,9,-999.000,9,-999.0000,9, -999.00,9, -999.00,9,  -999.0,9,  -999.0,-999.000,9,-999.000, -999.00,9,  352.20,-999.0000,9,-999.0000,9,-999.0000,9,-999.0000,9,-999.0000,9,-999.0000,-999.000,-999.0000,9, -999.00
318M20040615,        P02,      31,          1,         27,         27,2,20040627,       0119,    29.9978,   143.7672,       5493,   401.1,  14.1879,  34.5423,2,  34.5415,2, 186.9000,2,   186.5,2,   12.83,2,   11.25,2,    0.00,2,    0.79,2,   2.539,2,   1.411,2,   0.032,2,  -999.0,9,  2277.5,2,-999.000,9,-999.0000,9, -999.00,9, -999.00,9,  -999.0,9,  -999.0,-999.000,9,-999.000, -999.00,9,  401.10,-999.0000,9,-999.0000,9,-999.0000,9,-999.0000,9,-999.0000,9,-999.0000,-999.000,-999.0000,9, -999.00
318M20040615,        P02,      31,          1,         26,         26,2,20040627,       0119,    29.9978,   143.7672,       5493,   450.5,  12.9866,  34.4561,2,  34.4537,2, 180.3000,2,   183.8,2,   16.78,2,   13.41,2,    0.00,2,    0.96,2,   2.566,2,   1.417,2,   0.044,2,  -999.0,9,  -999.0,9,-999.000,9,-999.0000,9, -999.00,9, -999.00,9,  -999.0,9,  -999.0,-999.000,9,-999.000, -999.00,9,  450.50,-999.0000,9,-999.0000,9,-999.0000,9,-999.0000,9,-999.0000,9,-999.0000,-999.000,-999.0000,9, -999.00
318M20040615,        P02,      31,          1,         25,         25,2,20040627,       0119,    29.9978,   143.7672,       5493,   500.5,  11.8310,  34.3774,2,  34.3764,2, 180.7000,2,   179.8,2,   21.80,2,   15.88,2,    0.00,2,    1.12,2,   2.534,6,   1.384,6,   0.055,6,  -999.0,9,  2278.6,2,-999.000,9,-999.0000,9, -999.00,9, -999.00,9,  -999.0,9,  -999.0,-999.000,9,-999.000, -999.00,9,  500.50,-999.0000,9,-999.0000,9,-999.0000,9,-999.0000,9,-999.0000,9,-999.0000,-999.000,-999.0000,9, -999.00
318M20040615,        P02,      31,          1,         24,         24,2,20040627,       0119,    29.9978,   143.7672,       5493,   601.2,   9.0219,  34.1903,2,  34.1895,2, 161.3000,2,   163.6,2,   37.21,2,   22.19,2,    0.00,2,    1.59,2,   2.360,2,   1.242,2,   0.073,2,  -999.0,9,  -999.0,9,-999.000,9,-999.0000,9, -999.00,9, -999.00,9,  -999.0,9,  -999.0,-999.000,9,-999.000, -999.00,9,  601.20,-999.0000,9,-999.0000,9,-999.0000,9,-999.0000,9,-999.0000,9,-999.0000,-999.000,-999.0000,9, -999.00
318M20040615,        P02,      31,          1,         23,         23,2,20040627,       0119,    29.9978,   143.7672,       5493,   697.4,   6.9717,  34.1170,2,  34.1170,2, 129.8000,2,   129.9,2,   56.72,2,   28.85,2,    0.00,2,    2.09,2,   1.840,2,   0.947,2,   0.061,2,  -999.0,9,  2292.2,2,-999.000,9,-999.0000,9, -999.00,9, -999.00,9,  -999.0,9,  -999.0,-999.000,9,-999.000, -999.00,9,  697.40,-999.0000,9,-999.0000,9,-999.0000,9,-999.0000,9,-999.0000,9,-999.0000,-999.000,-999.0000,9, -999.00
318M20040615,        P02,      31,          1,         22,         22,2,20040627,       0119,    29.9978,   143.7672,       5493,   801.7,   5.2660,  34.0880,2,  34.0862,2,  96.4000,2,    98.3,2,   78.55,2,   34.70,2,    0.00,2,    2.52,2,   1.439,2,   0.716,2,   0.058,2,  -999.0,9,  -999.0,9,-999.000,9,-999.0000,9, -999.00,9, -999.00,9,  -999.0,9,  -999.0,-999.000,9,-999.000, -999.00,9,  801.70,-999.0000,9,-999.0000,9,-999.0000,9,-999.0000,9,-999.0000,9,-999.0000,-999.000,-999.0000,9, -999.00
318M20040615,        P02,      31,          1,         21,         21,2,20040627,       0119,    29.9978,   143.7672,       5493,   902.1,   4.5012,  34.1766,2,  34.1758,2,  64.4000,2,    65.7,2,   98.08,2,   38.80,2,    0.00,2,    2.81,2,   0.781,2,   0.391,2,   0.033,2,  -999.0,9,  2327.6,2,-999.000,9,-999.0000,9, -999.00,9, -999.00,9,  -999.0,9,  -999.0,-999.000,9,-999.000, -999.00,9,  902.10,-999.0000,9,-999.0000,9,-999.0000,9,-999.0000,9,-999.0000,9,-999.0000,-999.000,-999.0000,9, -999.00
318M20040615,        P02,      31,          1,         20,         20,2,20040627,       0119,    29.9978,   143.7672,       5493,  1007.5,   3.9763,  34.2666,2,  34.2653,2,  48.0000,2,    49.7,2,  112.83,2,   40.76,2,    0.00,2,    2.95,2,   0.391,2,   0.195,2,   0.012,2,  -999.0,9,  -999.0,9,-999.000,9,-999.0000,9, -999.00,9, -999.00,9,  -999.0,9,  -999.0,-999.000,9,-999.000, -999.00,9, 1007.50,-999.0000,9,-999.0000,9,-999.0000,9,-999.0000,9,-999.0000,9,-999.0000,-999.000,-999.0000,9, -999.00
318M20040615,        P02,      31,          1,         19,         19,2,20040627,       0119,    29.9978,   143.7672,       5493,  1104.0,   3.5907,  34.3295,2,  34.3276,2,  43.0000,2,    42.8,2,  123.29,2,   41.77,2,    0.00,2,    3.01,2,   0.220,2,   0.106,2,   0.006,2,  -999.0,9,  -999.0,9,-999.000,9,-999.0000,9, -999.00,9, -999.00,9,  -999.0,9,  -999.0,-999.000,9,-999.000, -999.00,9, 1104.00,-999.0000,9,-999.0000,9,-999.0000,9,-999.0000,9,-999.0000,9,-999.0000,-999.000,-999.0000,9, -999.00
318M20040615,        P02,      31,          1,         18,         18,2,20040627,       0119,    29.9978,   143.7672,       5493,  1197.4,   3.3268,  34.3815,2,  34.3800,2,  41.4000,2,    42.5,2,  130.32,2,   42.10,2,    0.00,2,    3.03,2,   0.122,2,   0.063,2,   0.006,2,  -999.0,9,  2368.9,2,-999.000,9,-999.0000,9, -999.00,9, -999.00,9,  -999.0,9,  -999.0,-999.000,9,-999.000, -999.00,9, 1197.40,-999.0000,9,-999.0000,9,-999.0000,9,-999.0000,9,-999.0000,9,-999.0000,-999.000,-999.0000,9, -999.00
318M20040615,        P02,      31,          1,         17,         17,2,20040627,       0119,    29.9978,   143.7672,       5493,  1299.9,   3.0822,  34.4232,2,  34.4215,2,  41.6000,2,    40.9,2,  136.86,2,   42.44,2,    0.00,2,    3.06,2,   0.063,2,   0.033,2,   0.003,2,  -999.0,9,  -999.0,9,-999.000,9,-999.0000,9, -999.00,9, -999.00,9,  -999.0,9,  -999.0,-999.000,9,-999.000, -999.00,9, 1299.90,-999.0000,9,-999.0000,9,-999.0000,9,-999.0000,9,-999.0000,9,-999.0000,-999.000,-999.0000,9, -999.00
318M20040615,        P02,      31,          1,         16,         16,2,20040627,       0119,    29.9978,   143.7672,       5493,  1396.9,   2.8247,  34.4570,2,  34.4562,2,  42.6000,2,    42.6,2,  143.92,2,   42.50,2,    0.00,2,    3.06,2,   0.043,2,   0.019,2,   0.003,2,  -999.0,9,  -999.0,9,-999.000,9,-999.0000,9, -999.00,9, -999.00,9,  -999.0,9,  -999.0,-999.000,9,-999.000, -999.00,9, 1396.90,-999.0000,9,-999.0000,9,-999.0000,9,-999.0000,9,-999.0000,9,-999.0000,-999.000,-999.0000,9, -999.00
318M20040615,        P02,      31,          1,         15,         15,2,20040627,       0119,    29.9978,   143.7672,       5493,  1494.3,   2.6607,  34.4902,2,  34.4894,2,  49.3000,2,    48.1,2,  147.36,2,   42.26,2,    0.00,2,    3.04,2,   0.025,2,   0.010,2,   0.003,2,  -999.0,9,  2391.9,2,-999.000,9,-999.0000,9, -999.00,9, -999.00,9,  -999.0,9,  -999.0,-999.000,9,-999.000, -999.00,9, 1494.30,-999.0000,9,-999.0000,9,-999.0000,9,-999.0000,9,-999.0000,9,-999.0000,-999.000,-999.0000,9, -999.00
318M20040615,        P02,      31,          1,         14,         14,2,20040627,       0119,    29.9978,   143.7672,       5493,  1598.5,   2.4654,  34.5156,2,  34.5134,2,  50.7000,2,    51.1,2,  152.46,2,   42.37,2,    0.00,2,    3.03,2,   0.019,2,   0.011,2,   0.001,2,  -999.0,9,  -999.0,9,-999.000,9,-999.0000,9, -999.00,9, -999.00,9,  -999.0,9,  -999.0,-999.000,9,-999.000, -999.00,9, 1598.50,-999.0000,9,-999.0000,9,-999.0000,9,-999.0000,9,-999.0000,9,-999.0000,-999.000,-999.0000,9, -999.00
318M20040615,        P02,      31,          1,         13,         13,2,20040627,       0119,    29.9978,   143.7672,       5493,  1802.4,   2.2280,  34.5557,2,  34.5541,2,  62.6000,2,    62.5,2,  156.62,2,   42.02,2,    0.00,2,    2.97,2,   0.012,2,   0.013,2,   0.003,2,  -999.0,9,  2405.2,2,-999.000,9,-999.0000,9, -999.00,9, -999.00,9,  -999.0,9,  -999.0,-999.000,9,-999.000, -999.00,9, 1802.40,-999.0000,9,-999.0000,9,-999.0000,9,-999.0000,9,-999.0000,9,-999.0000,-999.000,-999.0000,9, -999.00
318M20040615,        P02,      31,          1,         12,         12,2,20040627,       0119,    29.9978,   143.7672,       5493,  2004.9,   2.0165,  34.5893,2,  34.5887,2,  76.1000,2,    76.4,2,  159.15,2,   41.29,2,    0.00,2,    2.90,2,   0.003,2,   0.001,2,   0.004,2,  -999.0,9,  -999.0,9,-999.000,9,-999.0000,9, -999.00,9, -999.00,9,  -999.0,9,  -999.0,-999.000,9,-999.000, -999.00,9, 2004.90,-999.0000,9,-999.0000,9,-999.0000,9,-999.0000,9,-999.0000,9,-999.0000,-999.000,-999.0000,9, -999.00
318M20040615,        P02,      31,          1,         11,         11,2,20040627,       0119,    29.9978,   143.7672,       5493,  2256.7,   1.8274,  34.6209,2,  34.6207,2,  92.9000,2,    97.8,2,  156.93,2,   39.54,2,    0.00,2,    2.81,2,   0.002,2,   0.005,2,   0.005,2,  -999.0,9,  2411.5,2,-999.000,9,-999.0000,9, -999.00,9, -999.00,9,  -999.0,9,  -999.0,-999.000,9,-999.000, -999.00,9, 2256.70,-999.0000,9,-999.0000,9,-999.0000,9,-999.0000,9,-999.0000,9,-999.0000,-999.000,-999.0000,9, -999.00
318M20040615,        P02,      31,          1,         10,         10,2,20040627,       0119,    29.9978,   143.7672,       5493,  2497.1,   1.7168,  34.6391,2,  34.6376,2, 110.4000,2,   111.3,2,  155.63,2,   38.86,2,    0.00,2,    2.74,2,   0.001,2,   0.001,2,  -0.002,2,  -999.0,9,  -999.0,9,-999.000,9,-999.0000,9, -999.00,9, -999.00,9,  -999.0,9,  -999.0,-999.000,9,-999.000, -999.00,9, 2497.10,-999.0000,9,-999.0000,9,-999.0000,9,-999.0000,9,-999.0000,9,-999.0000,-999.000,-999.0000,9, -999.00
318M20040615,        P02,      31,          1,          9,          9,2,20040627,       0119,    29.9978,   143.7672,       5493,  2747.3,   1.6329,  34.6524,2,  34.6516,2, 120.8000,2,   120.8,2,  154.49,2,   38.18,2,    0.00,2,    2.69,2,   0.002,2,   0.003,2,   0.001,2,  -999.0,9,  2415.8,2,-999.000,9,-999.0000,9, -999.00,9, -999.00,9,  -999.0,9,  -999.0,-999.000,9,-999.000, -999.00,9, 2747.30,-999.0000,9,-999.0000,9,-999.0000,9,-999.0000,9,-999.0000,9,-999.0000,-999.000,-999.0000,9, -999.00
318M20040615,        P02,      31,          1,          8,          8,2,20040627,       0119,    29.9978,   143.7672,       5493,  3000.2,   1.5709,  34.6623,2,  34.6610,2, 128.5000,2,   129.7,2,  153.36,2,   37.57,2,    0.00,2,    2.64,2,   0.001,2,   0.001,2,   0.003,2,  -999.0,9,  2417.0,2,-999.000,9,-999.0000,9, -999.00,9, -999.00,9,  -999.0,9,  -999.0,-999.000,9,-999.000, -999.00,9, 3000.20,-999.0000,9,-999.0000,9,-999.0000,9,-999.0000,9,-999.0000,9,-999.0000,-999.000,-999.0000,9, -999.00
318M20040615,        P02,      31,          1,          7,          7,2,20040627,       0119,    29.9978,   143.7672,       5493,  3400.0,   1.4977,  34.6742,2,  34.6726,2, 140.3000,2,   140.7,2,  151.15,2,   36.84,2,    0.00,2,    2.59,2,   0.001,2,   0.002,2,   0.004,2,  -999.0,9,  2416.6,2,-999.000,9,-999.0000,9, -999.00,9, -999.00,9,  -999.0,9,  -999.0,-999.000,9,-999.000, -999.00,9, 3400.00,-999.0000,9,-999.0000,9,-999.0000,9,-999.0000,9,-999.0000,9,-999.0000,-999.000,-999.0000,9, -999.00
318M20040615,        P02,      31,          1,          6,          6,2,20040627,       0119,    29.9978,   143.7672,       5493,  3793.7,   1.4665,  34.6811,2,  34.6805,2, 148.2000,2,   148.4,2,  149.31,2,   36.28,2,    0.00,2,    2.54,2,   0.002,2,   0.003,2,   0.004,2,  -999.0,9,  2422.8,3,-999.000,9,-999.0000,9, -999.00,9, -999.00,9,  -999.0,9,  -999.0,-999.000,9,-999.000, -999.00,9, 3793.70,-999.0000,9,-999.0000,9,-999.0000,9,-999.0000,9,-999.0000,9,-999.0000,-999.000,-999.0000,9, -999.00
318M20040615,        P02,      31,          1,          5,          5,2,20040627,       0119,    29.9978,   143.7672,       5493,  4190.4,   1.4557,  34.6863,2,  34.6849,2, 154.6000,2,   155.1,2,  147.12,2,   35.84,2,    0.00,2,    2.51,2,   0.005,2,   0.003,2,   0.000,2,  -999.0,9,  2416.6,2,-999.000,9,-999.0000,9, -999.00,9, -999.00,9,  -999.0,9,  -999.0,-999.000,9,-999.000, -999.00,9, 4190.40,-999.0000,9,-999.0000,9,-999.0000,9,-999.0000,9,-999.0000,9,-999.0000,-999.000,-999.0000,9, -999.00
318M20040615,        P02,      31,          1,          4,          4,2,20040627,       0119,    29.9978,   143.7672,       5493,  4681.4,   1.4728,  34.6900,2,  34.6888,2, 159.7000,2,   160.6,2,  145.27,2,   35.45,2,    0.00,2,    2.48,2,   0.006,2,   0.004,2,  -0.002,2,  -999.0,9,  2412.9,2,-999.000,9,-999.0000,9, -999.00,9, -999.00,9,  -999.0,9,  -999.0,-999.000,9,-999.000, -999.00,9, 4681.40,-999.0000,9,-999.0000,9,-999.0000,9,-999.0000,9,-999.0000,9,-999.0000,-999.000,-999.0000,9, -999.00
318M20040615,        P02,      31,          1,          3,          3,2,20040627,       0119,    29.9978,   143.7672,       5493,  5092.5,   1.5047,  34.6919,2,  34.6906,2, 163.0000,2,   163.6,2,  142.52,2,   35.23,2,    0.00,2,    2.46,2,   0.004,2,   0.002,2,   0.001,2,  -999.0,9,  2409.3,2,-999.000,9,-999.0000,9, -999.00,9, -999.00,9,  -999.0,9,  -999.0,-999.000,9,-999.000, -999.00,9, 5092.50,-999.0000,9,-999.0000,9,-999.0000,9,-999.0000,9,-999.0000,9,-999.0000,-999.000,-999.0000,9, -999.00
318M20040615,        P02,      31,          1,          2,          2,2,20040627,       0119,    29.9978,   143.7672,       5493,  5451.9,   1.5406,  34.6928,2,  34.6914,2, 165.2000,2,   165.7,2,  140.68,2,   35.27,2,    0.00,2,    2.44,2,   0.003,2,   0.004,2,   0.002,2,  -999.0,9,  2408.7,2,-999.000,9,-999.0000,9, -999.00,9, -999.00,9,  -999.0,9,  -999.0,-999.000,9,-999.000, -999.00,9, 5451.90,-999.0000,9,-999.0000,9,-999.0000,9,-999.0000,9,-999.0000,9,-999.0000,-999.000,-999.0000,9, -999.00
318M20040615,        P02,      31,          1,          1,          1,2,20040627,       0119,    29.9978,   143.7672,       5493,  5597.1,   1.5580,  34.6929,2,  34.6936,2, 165.7000,2,   166.2,2,  140.28,2,   35.32,2,    0.00,2,    2.44,2,   0.004,2,   0.007,2,   0.004,2,  -999.0,9,  2407.6,2,-999.000,9,-999.0000,9, -999.00,9, -999.00,9,  -999.0,9,  -999.0,-999.000,9,-999.000, -999.00,9, 5597.10,-999.0000,9,-999.0000,9,-999.0000,9,-999.0000,9,-999.0000,9,-999.0000,-999.000,-999.0000,9, -999.00