BOTTLE,20131027SIOCCHRJL
EXPOCODE,SECT_ID,STNNBR,CASTNO,SAMPNO,BTLNBR,BTLNBR_FLAG_W,DATE,TIME,LATITUDE,LONGITUDE,DEPTH,CTDPRS,CTDTMP,CTDSAL,CTDSAL_FLAG_W,SALNTY,SALNTY_FLAG_W,CTDOXY,CTDOXY_FLAG_W,OXYGEN,OXYGEN_FLAG_W,SILCAT,SILCAT_FLAG_W,NITRAT,NITRAT_FLAG_W,NITRIT,NITRIT_FLAG_W,PHSPHT,PHSPHT_FLAG_W,CFC-11,CFC-11_FLAG_W,CFC-12,CFC-12_FLAG_W,CFC113,CFC113_FLAG_W,TCARBN,TCARBN_FLAG_W,ALKALI,ALKALI_FLAG_W,TRITUM,TRITUM_FLAG_W,HELIUM,HELIUM_FLAG_W,DELHE3,DELHE3_FLAG_W,DELC13,DELC13_FLAG_W,DELC14,DELC14_FLAG_W,C14ERR,NEON,NEON_FLAG_W,NEONER,DOC,DOC_FLAG_W,CTDRAW,CDOM380,CDOM380_FLAG_W,CDOM325,CDOM325_FLAG_W,CDOMSL,CDOMSL_FLAG_W,CDOM340,CDOM340_FLAG_W,CDOMSN,CDOMSN_FLAG_W,HELIER,TRITER,CDOM412,CDOM412_FLAG_W,DELHER
,,,,,,,,,,,METERS,DBAR,ITS-90,PSS-78,,PSS-78,,UMOL/KG,,UMOL/KG,,UMOL/KG,,UMOL/KG,,UMOL/KG,,UMOL/KG,,PMOL/KG,,PMOL/KG,,PMOL/KG,,UMOL/KG,,UMOL/KG,,TU,,NMOL/KG,,PERCNT,,/MILLE,,/MILLE,,/MILLE,NMOL/KG,,NMOL/KG,UMOL/KG,,DBAR,1/M,,1/M,,1/NM,,1/M,,1/NM,,NMOL/KG,TU,1/M,,PERCNT
318M20040615,        P02,     148,          1,         36,         36,2,20040816,       1910,    29.9997,  -138.3915,       4695,     9.1,  24.8553,  35.4000,2,  35.3985,2, 212.6000,2,   212.5,2,    1.28,2,    0.16,2,    0.00,2,    0.02,2,   1.880,2,   1.135,2,   0.128,2,  2019.1,6,  2336.2,6,-999.000,9,-999.0000,9, -999.00,9, -999.00,9,  -999.0,9,  -999.0,-999.000,9,-999.000, -999.00,9,    9.10,-999.0000,9,-999.0000,9,-999.0000,9,-999.0000,9,-999.0000,9,-999.0000,-999.000,-999.0000,9, -999.00
318M20040615,        P02,     148,          1,         35,         35,2,20040816,       1910,    29.9997,  -138.3915,       4695,    50.8,  21.9303,  34.9908,2,  35.0147,2, 237.9000,2,   237.1,2,    1.45,2,    0.16,2,    0.00,2,    0.01,3,-999.000,9,-999.000,9,-999.000,9,  -999.0,9,  2332.9,2,-999.000,9,-999.0000,9, -999.00,9, -999.00,9,  -999.0,9,  -999.0,-999.000,9,-999.000, -999.00,9,   50.80,-999.0000,9,-999.0000,9,-999.0000,9,-999.0000,9,-999.0000,9,-999.0000,-999.000,-999.0000,9, -999.00
318M20040615,        P02,     148,          1,         34,         34,2,20040816,       1910,    29.9997,  -138.3915,       4695,   100.8,  18.3608,  34.6563,2,  34.6497,2, 240.4000,2,   238.8,2,    2.20,2,    0.11,2,    0.00,2,    0.06,2,   2.523,2,   1.494,2,   0.173,2,  -999.0,9,  2282.8,2,-999.000,9,-999.0000,9, -999.00,9, -999.00,9,  -999.0,9,  -999.0,-999.000,9,-999.000, -999.00,9,  100.80,-999.0000,9,-999.0000,9,-999.0000,9,-999.0000,9,-999.0000,9,-999.0000,-999.000,-999.0000,9, -999.00
318M20040615,        P02,     148,          1,         33,         33,2,20040816,       1910,    29.9997,  -138.3915,       4695,   150.4,  15.7992,  34.4085,2,  34.3978,2, 222.7000,2,   222.3,2,    3.74,2,    2.42,2,    0.05,2,    0.27,2,-999.000,9,-999.000,9,-999.000,9,  -999.0,9,  -999.0,9,-999.000,9,-999.0000,9, -999.00,9, -999.00,9,  -999.0,9,  -999.0,-999.000,9,-999.000, -999.00,9,  150.40,-999.0000,9,-999.0000,9,-999.0000,9,-999.0000,9,-999.0000,9,-999.0000,-999.000,-999.0000,9, -999.00
318M20040615,        P02,     148,          1,         32,         32,2,20040816,       1910,    29.9997,  -138.3915,       4695,   200.0,  13.0365,  34.1171,2,  34.1075,2, 223.2000,2,   224.4,2,    6.64,2,    6.71,2,    0.00,2,    0.55,2,   3.231,2,   1.855,2,   0.147,2,  -999.0,9,  2250.9,2,-999.000,9,-999.0000,9, -999.00,9, -999.00,9,  -999.0,9,  -999.0,-999.000,9,-999.000, -999.00,9,  200.00,-999.0000,9,-999.0000,9,-999.0000,9,-999.0000,9,-999.0000,9,-999.0000,-999.000,-999.0000,9, -999.00
318M20040615,        P02,     148,          1,         31,         31,2,20040816,       1910,    29.9997,  -138.3915,       4695,   255.1,  10.5279,  33.9918,2,  33.9927,2, 215.7000,2,   219.0,2,   13.24,2,   12.92,2,    0.00,2,    0.94,2,-999.000,9,-999.000,9,-999.000,9,  -999.0,9,  -999.0,9,-999.000,9,-999.0000,9, -999.00,9, -999.00,9,  -999.0,9,  -999.0,-999.000,9,-999.000, -999.00,9,  255.10,-999.0000,9,-999.0000,9,-999.0000,9,-999.0000,9,-999.0000,9,-999.0000,-999.000,-999.0000,9, -999.00
318M20040615,        P02,     148,          1,         30,         30,2,20040816,       1910,    29.9997,  -138.3915,       4695,   304.9,   9.4113,  34.0171,2,  34.0140,2, 200.0000,2,   205.0,2,   19.66,2,   17.02,2,    0.00,2,    1.20,2,   3.570,2,   1.916,2,   0.141,2,  -999.0,9,  2256.2,2,-999.000,9,-999.0000,9, -999.00,9, -999.00,9,  -999.0,9,  -999.0,-999.000,9,-999.000, -999.00,9,  304.90,-999.0000,9,-999.0000,9,-999.0000,9,-999.0000,9,-999.0000,9,-999.0000,-999.000,-999.0000,9, -999.00
318M20040615,        P02,     148,          1,         29,         29,2,20040816,       1910,    29.9997,  -138.3915,       4695,   354.4,   8.6912,  34.0631,2,  34.0620,2, 178.3000,2,   179.8,2,   28.06,2,   21.30,2,    0.00,2,    1.49,2,-999.000,9,-999.000,9,-999.000,9,  -999.0,9,  -999.0,9,-999.000,9,-999.0000,9, -999.00,9, -999.00,9,  -999.0,9,  -999.0,-999.000,9,-999.000, -999.00,9,  354.40,-999.0000,9,-999.0000,9,-999.0000,9,-999.0000,9,-999.0000,9,-999.0000,-999.000,-999.0000,9, -999.00
318M20040615,        P02,     148,          1,         28,         28,2,20040816,       1910,    29.9997,  -138.3915,       4695,   404.2,   7.3578,  34.0113,2,  34.0110,2, 140.7000,2,   137.1,2,   42.18,2,   28.01,2,    0.00,2,    1.97,2,   2.708,2,   1.377,2,   0.114,2,  -999.0,9,  2273.5,2,-999.000,9,-999.0000,9, -999.00,9, -999.00,9,  -999.0,9,  -999.0,-999.000,9,-999.000, -999.00,9,  404.20,-999.0000,9,-999.0000,9,-999.0000,9,-999.0000,9,-999.0000,9,-999.0000,-999.000,-999.0000,9, -999.00
318M20040615,        P02,     148,          1,         27,         27,2,20040816,       1910,    29.9997,  -138.3915,       4695,   453.9,   6.7376,  34.0010,2,  34.0007,2, 117.0000,2,   116.7,2,   49.85,2,   31.07,2,    0.00,2,    2.19,2,   2.274,2,   1.132,2,   0.083,2,  -999.0,9,  -999.0,9,-999.000,9,-999.0000,9, -999.00,9, -999.00,9,  -999.0,9,  -999.0,-999.000,9,-999.000, -999.00,9,  453.90,-999.0000,9,-999.0000,9,-999.0000,9,-999.0000,9,-999.0000,9,-999.0000,-999.000,-999.0000,9, -999.00
318M20040615,        P02,     148,          1,         26,         26,2,20040816,       1910,    29.9997,  -138.3915,       4695,   503.3,   6.0256,  34.0123,2,  34.0124,2,  99.1000,2,    96.1,2,   59.90,2,   33.97,2,    0.00,2,    2.43,2,   1.584,2,   0.777,2,   0.035,2,  -999.0,9,  2287.8,2,-999.000,9,-999.0000,9, -999.00,9, -999.00,9,  -999.0,9,  -999.0,-999.000,9,-999.000, -999.00,9,  503.30,-999.0000,9,-999.0000,9,-999.0000,9,-999.0000,9,-999.0000,9,-999.0000,-999.000,-999.0000,9, -999.00
318M20040615,        P02,     148,          1,         25,         25,2,20040816,       1910,    29.9997,  -138.3915,       4695,   608.2,   5.1841,  34.1045,2,  34.1051,2,  46.5000,2,    44.7,2,   80.31,2,   39.51,2,    0.00,2,    2.87,2,   0.549,2,   0.274,2,   0.014,2,  -999.0,9,  -999.0,9,-999.000,9,-999.0000,9, -999.00,9, -999.00,9,  -999.0,9,  -999.0,-999.000,9,-999.000, -999.00,9,  608.20,-999.0000,9,-999.0000,9,-999.0000,9,-999.0000,9,-999.0000,9,-999.0000,-999.000,-999.0000,9, -999.00
318M20040615,        P02,     148,          1,         24,         24,2,20040816,       1910,    29.9997,  -138.3915,       4695,   707.6,   4.6032,  34.1831,2,  34.1817,2,  24.7000,2,    25.3,2,   95.44,2,   42.05,2,    0.00,2,    3.04,2,   0.185,2,   0.090,2,   0.000,2,  -999.0,9,  2328.3,2,-999.000,9,-999.0000,9, -999.00,9, -999.00,9,  -999.0,9,  -999.0,-999.000,9,-999.000, -999.00,9,  707.60,-999.0000,9,-999.0000,9,-999.0000,9,-999.0000,9,-999.0000,9,-999.0000,-999.000,-999.0000,9, -999.00
318M20040615,        P02,     148,          1,         23,         23,2,20040816,       1910,    29.9997,  -138.3915,       4695,   808.4,   4.1899,  34.2910,2,  34.2903,2,  13.9000,2,    13.8,2,  109.42,2,   43.72,2,    0.00,2,    3.16,2,   0.041,2,   0.022,2,   0.000,2,  -999.0,9,  -999.0,9,-999.000,9,-999.0000,9, -999.00,9, -999.00,9,  -999.0,9,  -999.0,-999.000,9,-999.000, -999.00,9,  808.40,-999.0000,9,-999.0000,9,-999.0000,9,-999.0000,9,-999.0000,9,-999.0000,-999.000,-999.0000,9, -999.00
318M20040615,        P02,     148,          1,         22,         22,2,20040816,       1910,    29.9997,  -138.3915,       4695,   908.4,   3.9044,  34.3737,2,  34.3727,2,  14.2000,2,    14.3,2,  117.63,2,   44.25,2,    0.00,2,    3.19,2,   0.015,6,   0.009,6,   0.000,6,  -999.0,9,  2362.7,2,-999.000,9,-999.0000,9, -999.00,9, -999.00,9,  -999.0,9,  -999.0,-999.000,9,-999.000, -999.00,9,  908.40,-999.0000,9,-999.0000,9,-999.0000,9,-999.0000,9,-999.0000,9,-999.0000,-999.000,-999.0000,9, -999.00
318M20040615,        P02,     148,          1,         21,         21,2,20040816,       1910,    29.9997,  -138.3915,       4695,  1009.3,   3.6582,  34.4320,2,  34.4310,2,  19.7000,2,    20.9,2,  123.64,2,   44.09,2,    0.00,2,    3.17,2,   0.014,2,   0.014,2,   0.000,2,  -999.0,9,  -999.0,9,-999.000,9,-999.0000,9, -999.00,9, -999.00,9,  -999.0,9,  -999.0,-999.000,9,-999.000, -999.00,9, 1009.30,-999.0000,9,-999.0000,9,-999.0000,9,-999.0000,9,-999.0000,9,-999.0000,-999.000,-999.0000,9, -999.00
318M20040615,        P02,     148,          1,         20,         20,2,20040816,       1910,    29.9997,  -138.3915,       4695,  1114.9,   3.4294,  34.4757,2,  34.4752,2,  28.0000,2,    30.1,2,  128.46,2,   43.65,2,    0.00,2,    3.13,2,   0.006,2,   0.011,2,   0.000,2,  -999.0,9,  -999.0,9,-999.000,9,-999.0000,9, -999.00,9, -999.00,9,  -999.0,9,  -999.0,-999.000,9,-999.000, -999.00,9, 1114.90,-999.0000,9,-999.0000,9,-999.0000,9,-999.0000,9,-999.0000,9,-999.0000,-999.000,-999.0000,9, -999.00
318M20040615,        P02,     148,          1,         19,         19,2,20040816,       1910,    29.9997,  -138.3915,       4695,  1214.9,   3.2440,  34.5027,2,  34.5027,2,  35.9000,2,    35.9,2,  132.87,2,   43.27,2,    0.00,2,    3.10,2,   0.005,2,   0.004,2,   0.000,2,  -999.0,9,  -999.0,9,-999.000,9,-999.0000,9, -999.00,9, -999.00,9,  -999.0,9,  -999.0,-999.000,9,-999.000, -999.00,9, 1214.90,-999.0000,9,-999.0000,9,-999.0000,9,-999.0000,9,-999.0000,9,-999.0000,-999.000,-999.0000,9, -999.00
318M20040615,        P02,     148,          1,         18,         18,2,20040816,       1910,    29.9997,  -138.3915,       4695,  1317.5,   3.0089,  34.5306,2,  34.5299,2,  42.7000,2,    43.5,2,  138.29,2,   42.82,2,    0.00,2,    3.06,2,   0.004,2,   0.004,2,   0.000,2,  -999.0,9,  -999.0,9,-999.000,9,-999.0000,9, -999.00,9, -999.00,9,  -999.0,9,  -999.0,-999.000,9,-999.000, -999.00,9, 1317.50,-999.0000,9,-999.0000,9,-999.0000,9,-999.0000,9,-999.0000,9,-999.0000,-999.000,-999.0000,9, -999.00
318M20040615,        P02,     148,          1,         17,         17,2,20040816,       1910,    29.9997,  -138.3915,       4695,  1415.7,   2.8565,  34.5468,2,  34.5462,2,  49.2000,2,    48.6,2,  141.74,2,   42.46,2,    0.00,2,    3.04,2,   0.002,2,   0.002,2,   0.000,2,  -999.0,9,  -999.0,9,-999.000,9,-999.0000,9, -999.00,9, -999.00,9,  -999.0,9,  -999.0,-999.000,9,-999.000, -999.00,9, 1415.70,-999.0000,9,-999.0000,9,-999.0000,9,-999.0000,9,-999.0000,9,-999.0000,-999.000,-999.0000,9, -999.00
318M20040615,        P02,     148,          1,         16,         16,2,20040816,       1910,    29.9997,  -138.3915,       4695,  1516.6,   2.6949,  34.5627,2,  34.5623,2,  54.6000,2,    54.6,2,  145.79,2,   42.08,2,    0.00,2,    3.01,2,-999.000,9,-999.000,9,-999.000,9,  -999.0,9,  -999.0,9,-999.000,9,-999.0000,9, -999.00,9, -999.00,9,  -999.0,9,  -999.0,-999.000,9,-999.000, -999.00,9, 1516.60,-999.0000,9,-999.0000,9,-999.0000,9,-999.0000,9,-999.0000,9,-999.0000,-999.000,-999.0000,9, -999.00
318M20040615,        P02,     148,          1,         15,         15,2,20040816,       1910,    29.9997,  -138.3915,       4695,  1617.8,   2.5372,  34.5768,2,  34.5757,2,  60.0000,2,    59.6,2,  150.05,2,   41.87,2,    0.00,2,    2.99,2,   0.001,2,   0.000,2,   0.000,2,  -999.0,9,  -999.0,9,-999.000,9,-999.0000,9, -999.00,9, -999.00,9,  -999.0,9,  -999.0,-999.000,9,-999.000, -999.00,9, 1617.80,-999.0000,9,-999.0000,9,-999.0000,9,-999.0000,9,-999.0000,9,-999.0000,-999.000,-999.0000,9, -999.00
318M20040615,        P02,     148,          1,         14,         14,2,20040816,       1910,    29.9997,  -138.3915,       4695,  1718.9,   2.3671,  34.5909,2,  34.5904,2,  65.3000,2,    65.4,2,  154.51,2,   41.65,2,    0.00,2,    2.95,2,-999.000,9,-999.000,9,-999.000,9,  -999.0,9,  -999.0,9,-999.000,9,-999.0000,9, -999.00,9, -999.00,9,  -999.0,9,  -999.0,-999.000,9,-999.000, -999.00,9, 1718.90,-999.0000,9,-999.0000,9,-999.0000,9,-999.0000,9,-999.0000,9,-999.0000,-999.000,-999.0000,9, -999.00
318M20040615,        P02,     148,          1,         13,         13,2,20040816,       1910,    29.9997,  -138.3915,       4695,  1820.0,   2.2458,  34.6009,2,  34.6006,2,  69.3000,2,    69.4,2,  158.15,2,   41.59,2,    0.00,2,    2.95,2,   0.000,2,  -0.001,2,   0.000,2,  -999.0,9,  -999.0,9,-999.000,9,-999.0000,9, -999.00,9, -999.00,9,  -999.0,9,  -999.0,-999.000,9,-999.000, -999.00,9, 1820.00,-999.0000,9,-999.0000,9,-999.0000,9,-999.0000,9,-999.0000,9,-999.0000,-999.000,-999.0000,9, -999.00
318M20040615,        P02,     148,          1,         12,         12,2,20040816,       1910,    29.9997,  -138.3915,       4695,  1921.6,   2.1310,  34.6108,2,  34.6104,2,  73.5000,2,    74.4,2,  160.58,2,   41.43,2,    0.00,2,    2.91,2,-999.000,9,-999.000,9,-999.000,9,  -999.0,9,  -999.0,9,-999.000,9,-999.0000,9, -999.00,9, -999.00,9,  -999.0,9,  -999.0,-999.000,9,-999.000, -999.00,9, 1921.60,-999.0000,9,-999.0000,9,-999.0000,9,-999.0000,9,-999.0000,9,-999.0000,-999.000,-999.0000,9, -999.00
318M20040615,        P02,     148,          1,         11,         11,2,20040816,       1910,    29.9997,  -138.3915,       4695,  2028.2,   2.0170,  34.6210,2,  34.6208,2,  79.1000,2,    80.5,2,  163.83,2,   41.05,2,    0.00,2,    2.88,2,   0.000,2,   0.001,2,   0.000,2,  -999.0,9,  -999.0,9,-999.000,9,-999.0000,9, -999.00,9, -999.00,9,  -999.0,9,  -999.0,-999.000,9,-999.000, -999.00,9, 2028.20,-999.0000,9,-999.0000,9,-999.0000,9,-999.0000,9,-999.0000,9,-999.0000,-999.000,-999.0000,9, -999.00
318M20040615,        P02,     148,          1,         10,         10,2,20040816,       1910,    29.9997,  -138.3915,       4695,  2289.6,   1.8303,  34.6388,2,  34.6383,2,  92.8000,2,    93.2,2,  167.07,2,   40.13,2,    0.00,2,    2.82,2,-999.000,9,-999.000,9,-999.000,9,  -999.0,9,  -999.0,9,-999.000,9,-999.0000,9, -999.00,9, -999.00,9,  -999.0,9,  -999.0,-999.000,9,-999.000, -999.00,9, 2289.60,-999.0000,9,-999.0000,9,-999.0000,9,-999.0000,9,-999.0000,9,-999.0000,-999.000,-999.0000,9, -999.00
318M20040615,        P02,     148,          1,          9,          9,2,20040816,       1910,    29.9997,  -138.3915,       4695,  2532.3,   1.7106,  34.6497,2,  34.6489,2, 101.7000,2,   101.7,2,  169.07,2,   39.43,2,    0.00,2,    2.76,2,   0.006,2,   0.004,2,   0.000,2,  -999.0,9,  -999.0,9,-999.000,9,-999.0000,9, -999.00,9, -999.00,9,  -999.0,9,  -999.0,-999.000,9,-999.000, -999.00,9, 2532.30,-999.0000,9,-999.0000,9,-999.0000,9,-999.0000,9,-999.0000,9,-999.0000,-999.000,-999.0000,9, -999.00
318M20040615,        P02,     148,          1,          8,          8,2,20040816,       1910,    29.9997,  -138.3915,       4695,  2784.2,   1.6221,  34.6593,2,  34.6593,2, 111.5000,2,   111.8,2,  168.28,2,   38.79,2,    0.00,2,    2.71,2,   0.004,2,   0.004,2,   0.000,2,  -999.0,9,  -999.0,9,-999.000,9,-999.0000,9, -999.00,9, -999.00,9,  -999.0,9,  -999.0,-999.000,9,-999.000, -999.00,9, 2784.20,-999.0000,9,-999.0000,9,-999.0000,9,-999.0000,9,-999.0000,9,-999.0000,-999.000,-999.0000,9, -999.00
318M20040615,        P02,     148,          1,          7,          7,2,20040816,       1910,    29.9997,  -138.3915,       4695,  3045.2,   1.5635,  34.6672,2,  34.6668,2, 119.8000,2,   120.3,2,  167.25,2,   38.15,2,    0.00,2,    2.66,2,   0.001,2,   0.003,2,   0.000,2,  -999.0,9,  -999.0,9,-999.000,9,-999.0000,9, -999.00,9, -999.00,9,  -999.0,9,  -999.0,-999.000,9,-999.000, -999.00,9, 3045.20,-999.0000,9,-999.0000,9,-999.0000,9,-999.0000,9,-999.0000,9,-999.0000,-999.000,-999.0000,9, -999.00
318M20040615,        P02,     148,          1,          6,          6,2,20040816,       1910,    29.9997,  -138.3915,       4695,  3351.6,   1.5266,  34.6733,2,  34.6730,2, 127.2000,2,   128.0,2,  165.62,2,   37.67,2,    0.00,2,    2.62,2,   0.002,2,   0.002,2,   0.000,2,  -999.0,9,  -999.0,9,-999.000,9,-999.0000,9, -999.00,9, -999.00,9,  -999.0,9,  -999.0,-999.000,9,-999.000, -999.00,9, 3351.60,-999.0000,9,-999.0000,9,-999.0000,9,-999.0000,9,-999.0000,9,-999.0000,-999.000,-999.0000,9, -999.00
318M20040615,        P02,     148,          1,          5,          5,2,20040816,       1910,    29.9997,  -138.3915,       4695,  3652.8,   1.5076,  34.6783,2,  34.6773,2, 133.9000,2,   134.5,2,  163.37,2,   37.40,2,    0.00,2,    2.58,2,   0.003,2,   0.004,2,   0.000,2,  -999.0,9,  -999.0,9,-999.000,9,-999.0000,9, -999.00,9, -999.00,9,  -999.0,9,  -999.0,-999.000,9,-999.000, -999.00,9, 3652.80,-999.0000,9,-999.0000,9,-999.0000,9,-999.0000,9,-999.0000,9,-999.0000,-999.000,-999.0000,9, -999.00
318M20040615,        P02,     148,          1,          4,          4,2,20040816,       1910,    29.9997,  -138.3915,       4695,  3964.2,   1.5020,  34.6824,2,  34.6819,2, 139.7000,2,   140.2,2,  161.34,2,   37.24,2,    0.00,2,    2.57,2,   0.004,2,   0.010,2,   0.000,2,  -999.0,9,  -999.0,9,-999.000,9,-999.0000,9, -999.00,9, -999.00,9,  -999.0,9,  -999.0,-999.000,9,-999.000, -999.00,9, 3964.20,-999.0000,9,-999.0000,9,-999.0000,9,-999.0000,9,-999.0000,9,-999.0000,-999.000,-999.0000,9, -999.00
318M20040615,        P02,     148,          1,          3,          3,2,20040816,       1910,    29.9997,  -138.3915,       4695,  4269.7,   1.5141,  34.6849,2,  34.6838,2, 143.3000,2,   143.5,2,  159.89,2,   37.08,2,    0.00,2,    2.53,2,   0.003,2,   0.008,2,   0.000,2,  -999.0,9,  -999.0,9,-999.000,9,-999.0000,9, -999.00,9, -999.00,9,  -999.0,9,  -999.0,-999.000,9,-999.000, -999.00,9, 4269.70,-999.0000,9,-999.0000,9,-999.0000,9,-999.0000,9,-999.0000,9,-999.0000,-999.000,-999.0000,9, -999.00
318M20040615,        P02,     148,          1,          2,          2,2,20040816,       1910,    29.9997,  -138.3915,       4695,  4580.1,   1.5379,  34.6860,2,  34.6854,2, 145.2000,2,   145.4,2,  158.86,2,   36.92,2,    0.00,2,    2.52,2,   0.008,2,   0.007,2,   0.000,2,  -999.0,9,  -999.0,9,-999.000,9,-999.0000,9, -999.00,9, -999.00,9,  -999.0,9,  -999.0,-999.000,9,-999.000, -999.00,9, 4580.10,-999.0000,9,-999.0000,9,-999.0000,9,-999.0000,9,-999.0000,9,-999.0000,-999.000,-999.0000,9, -999.00
318M20040615,        P02,     148,          1,          1,          1,2,20040816,       1910,    29.9997,  -138.3915,       4695,  4753.6,   1.5553,  34.6864,2,  34.6863,2, 145.8000,2,   146.4,2,  158.65,2,   36.81,2,    0.00,2,    2.54,2,   0.007,2,   0.008,2,   0.000,2,  -999.0,9,  -999.0,9,-999.000,9,-999.0000,9, -999.00,9, -999.00,9,  -999.0,9,  -999.0,-999.000,9,-999.000, -999.00,9, 4753.60,-999.0000,9,-999.0000,9,-999.0000,9,-999.0000,9,-999.0000,9,-999.0000,-999.000,-999.0000,9, -999.00