BOTTLE,20131027SIOCCHRJL
EXPOCODE,SECT_ID,STNNBR,CASTNO,SAMPNO,BTLNBR,BTLNBR_FLAG_W,DATE,TIME,LATITUDE,LONGITUDE,DEPTH,CTDPRS,CTDTMP,CTDSAL,CTDSAL_FLAG_W,SALNTY,SALNTY_FLAG_W,CTDOXY,CTDOXY_FLAG_W,OXYGEN,OXYGEN_FLAG_W,SILCAT,SILCAT_FLAG_W,NITRAT,NITRAT_FLAG_W,NITRIT,NITRIT_FLAG_W,PHSPHT,PHSPHT_FLAG_W,CFC-11,CFC-11_FLAG_W,CFC-12,CFC-12_FLAG_W,CFC113,CFC113_FLAG_W,TCARBN,TCARBN_FLAG_W,ALKALI,ALKALI_FLAG_W,TRITUM,TRITUM_FLAG_W,HELIUM,HELIUM_FLAG_W,DELHE3,DELHE3_FLAG_W,DELC13,DELC13_FLAG_W,DELC14,DELC14_FLAG_W,C14ERR,NEON,NEON_FLAG_W,NEONER,DOC,DOC_FLAG_W,CTDRAW,CDOM380,CDOM380_FLAG_W,CDOM325,CDOM325_FLAG_W,CDOMSL,CDOMSL_FLAG_W,CDOM340,CDOM340_FLAG_W,CDOMSN,CDOMSN_FLAG_W,HELIER,TRITER,CDOM412,CDOM412_FLAG_W,DELHER
,,,,,,,,,,,METERS,DBAR,ITS-90,PSS-78,,PSS-78,,UMOL/KG,,UMOL/KG,,UMOL/KG,,UMOL/KG,,UMOL/KG,,UMOL/KG,,PMOL/KG,,PMOL/KG,,PMOL/KG,,UMOL/KG,,UMOL/KG,,TU,,NMOL/KG,,PERCNT,,/MILLE,,/MILLE,,/MILLE,NMOL/KG,,NMOL/KG,UMOL/KG,,DBAR,1/M,,1/M,,1/NM,,1/M,,1/NM,,NMOL/KG,TU,1/M,,PERCNT
318M20040615,        P02,      15,          1,         33,         33,2,20040622,       2009,    29.9992,   134.8625,       4683,     3.4,  25.2872,  34.5963,2,  34.5961,2, 208.2000,2,   207.4,2,    1.05,2,    0.06,2,    0.00,2,    0.05,2,   1.822,2,   1.137,2,   0.124,2,  1951.6,6,  2275.1,6,   0.742,2,   1.7249,2,   -1.53,2, -999.00,9,  -999.0,9,  -999.0,-999.000,9,-999.000, -999.00,9,    3.40,-999.0000,9,-999.0000,9,-999.0000,9,-999.0000,9,-999.0000,9,   0.0086,   0.008,-999.0000,9,    0.20
318M20040615,        P02,      15,          1,         32,         32,2,20040622,       2009,    29.9992,   134.8625,       4683,    36.5,  25.1634,  34.7106,2,  34.7103,2, 210.3000,2,   209.4,2,    0.87,2,    0.06,2,    0.00,2,    0.04,2,   1.835,2,   1.120,2,   0.121,2,  1956.1,2,  2280.8,2,   0.706,2,   1.7389,2,   -1.65,2, -999.00,9,  -999.0,9,  -999.0,-999.000,9,-999.000, -999.00,9,   36.50,-999.0000,9,-999.0000,9,-999.0000,9,-999.0000,9,-999.0000,9,   0.0087,   0.006,-999.0000,9,    0.20
318M20040615,        P02,      15,          1,         31,         31,2,20040622,       2009,    29.9992,   134.8625,       4683,    86.6,  22.0597,  34.9147,2,  34.9165,2, 215.0000,2,   214.4,2,    1.22,2,    0.10,2,    0.00,2,    0.06,2,   2.098,2,   1.248,2,   0.121,2,  1982.5,2,  2293.1,2,   0.702,2,   1.7570,2,   -1.24,2, -999.00,9,  -999.0,9,  -999.0,-999.000,9,-999.000, -999.00,9,   86.60,-999.0000,9,-999.0000,9,-999.0000,9,-999.0000,9,-999.0000,9,   0.0088,   0.007,-999.0000,9,    0.20
318M20040615,        P02,      15,          1,         30,         30,2,20040622,       2009,    29.9992,   134.8625,       4683,   136.4,  20.6554,  34.9121,2,  34.9119,2, 206.6000,2,   207.8,2,    1.58,2,    1.11,2,    0.05,2,    0.13,2,   2.149,2,   1.270,2,   0.114,2,  1996.1,2,  2292.4,2,   0.703,2,   1.7628,2,   -1.24,2, -999.00,9,  -999.0,9,  -999.0,-999.000,9,-999.000, -999.00,9,  136.40,-999.0000,9,-999.0000,9,-999.0000,9,-999.0000,9,-999.0000,9,   0.0088,   0.008,-999.0000,9,    0.20
318M20040615,        P02,      15,          1,         29,         29,2,20040622,       2009,    29.9992,   134.8625,       4683,   186.1,  19.6088,  34.8720,2,  34.8715,2, 202.4000,2,   205.7,2,    2.30,2,    2.11,2,    0.01,2,    0.13,2,   2.225,2,   1.315,2,   0.087,2,  -999.0,9,  2290.0,2,-999.000,9,   1.7763,2,   -1.04,2, -999.00,9,  -999.0,9,  -999.0,-999.000,9,-999.000, -999.00,9,  186.10,-999.0000,9,-999.0000,9,-999.0000,9,-999.0000,9,-999.0000,9,   0.0089,-999.000,-999.0000,9,    0.20
318M20040615,        P02,      15,          1,         28,         28,2,20040622,       2009,    29.9992,   134.8625,       4683,   236.4,  18.7408,  34.8384,2,  34.8381,2, 202.1000,2,   201.8,2,    2.82,2,    3.18,2,    0.01,2,    0.20,2,   2.316,2,   1.337,2,   0.051,2,  2017.6,2,  2287.4,2,   0.759,6,   1.7853,2,   -0.57,2, -999.00,9,  -999.0,9,  -999.0,-999.000,9,-999.000, -999.00,9,  236.40,-999.0000,9,-999.0000,9,-999.0000,9,-999.0000,9,-999.0000,9,   0.0089,   0.006,-999.0000,9,    0.20
318M20040615,        P02,      15,          1,         27,         27,2,20040622,       2009,    29.9992,   134.8625,       4683,   286.4,  18.1652,  34.8035,2,  34.8017,2, 202.6000,2,   200.2,2,    3.36,2,    3.99,2,    0.01,2,    0.27,2,   2.385,2,   1.377,2,   0.035,2,  -999.0,9,  2286.2,2,   0.770,2,   1.7595,2,   -0.19,2, -999.00,9,  -999.0,9,  -999.0,-999.000,9,-999.000, -999.00,9,  286.40,-999.0000,9,-999.0000,9,-999.0000,9,-999.0000,9,-999.0000,9,   0.0088,   0.008,-999.0000,9,    0.20
318M20040615,        P02,      15,          1,         26,         26,2,20040622,       2009,    29.9992,   134.8625,       4683,   376.6,  16.9068,  34.7239,2,  34.7235,2, 194.4000,2,   196.2,2,    5.49,2,    6.13,2,    0.01,2,    0.41,2,   2.495,2,   1.394,2,   0.035,2,  -999.0,9,  2281.9,2,   0.763,2,   1.7755,2,    1.01,2, -999.00,9,  -999.0,9,  -999.0,-999.000,9,-999.000, -999.00,9,  376.60,-999.0000,9,-999.0000,9,-999.0000,9,-999.0000,9,-999.0000,9,   0.0089,   0.008,-999.0000,9,    0.20
318M20040615,        P02,      15,          1,         25,         25,2,20040622,       2009,    29.9992,   134.8625,       4683,   476.7,  15.5379,  34.6304,2,  34.6305,2, 185.6000,2,   186.7,2,    9.24,2,    9.03,2,    0.01,2,    0.61,2,   2.533,2,   1.372,2,   0.019,2,  2061.6,2,  2279.8,2,   0.790,2,   1.7749,2,    2.64,2, -999.00,9,  -999.0,9,  -999.0,-999.000,9,-999.000, -999.00,9,  476.70,-999.0000,9,-999.0000,9,-999.0000,9,-999.0000,9,-999.0000,9,   0.0089,   0.008,-999.0000,9,    0.20
318M20040615,        P02,      15,          1,         24,         24,2,20040622,       2009,    29.9992,   134.8625,       4683,   576.7,  13.0494,  34.4899,2,  34.4896,2, 162.0000,2,   161.3,2,   23.69,2,   15.58,2,    0.01,2,    1.10,2,   2.194,2,   1.200,2,   0.025,2,  -999.0,9,  2285.9,3,   0.746,2,   1.8365,2,    6.62,2, -999.00,9,  -999.0,9,  -999.0,-999.000,9,-999.000, -999.00,9,  576.70,-999.0000,9,-999.0000,9,-999.0000,9,-999.0000,9,-999.0000,9,   0.0092,   0.008,-999.0000,9,    0.20
318M20040615,        P02,      15,          1,         23,         23,2,20040622,       2009,    29.9992,   134.8625,       4683,   677.0,   9.5748,  34.2448,2,  34.2452,2, 153.3000,2,   153.7,2,   35.15,2,   21.89,2,    0.01,2,    1.55,2,   2.175,2,   1.141,2,   0.036,2,  2155.6,2,  2281.2,2,   0.718,2,   1.8235,2,   10.69,2, -999.00,9,  -999.0,9,  -999.0,-999.000,9,-999.000, -999.00,9,  677.00,-999.0000,9,-999.0000,9,-999.0000,9,-999.0000,9,-999.0000,9,   0.0091,   0.007,-999.0000,9,    0.20
318M20040615,        P02,      15,          1,         22,         22,2,20040622,       2009,    29.9992,   134.8625,       4683,   775.9,   7.5943,  34.2053,2,  34.2039,2, 123.0000,2,   121.9,2,   55.47,2,   28.23,2,    0.01,2,    2.02,2,   1.548,2,   0.807,2,   0.032,2,  -999.0,9,  2298.3,2,-999.000,9,   1.8494,2,   13.81,2, -999.00,9,  -999.0,9,  -999.0,-999.000,9,-999.000, -999.00,9,  775.90,-999.0000,9,-999.0000,9,-999.0000,9,-999.0000,9,-999.0000,9,   0.0092,-999.000,-999.0000,9,    0.20
318M20040615,        P02,      15,          1,         21,         21,2,20040622,       2009,    29.9992,   134.8625,       4683,   893.0,   5.7233,  34.2718,2,  34.2711,2,  90.9000,2,    85.7,2,   84.55,2,   34.74,2,    0.01,2,    2.49,2,   0.759,6,   0.390,6,   0.014,6,  2270.3,2,  2326.8,2,   0.345,2,   1.8722,2,   16.22,2, -999.00,9,  -999.0,9,  -999.0,-999.000,9,-999.000, -999.00,9,  893.00,-999.0000,9,-999.0000,9,-999.0000,9,-999.0000,9,-999.0000,9,   0.0094,   0.004,-999.0000,9,    0.20
318M20040615,        P02,      15,          1,         20,         20,2,20040622,       2009,    29.9992,   134.8625,       4683,   989.2,   4.7364,  34.3006,2,  34.2996,2,  72.0000,2,    71.7,2,  100.17,2,   37.52,2,    0.01,2,    2.70,2,   0.509,2,   0.258,2,   0.011,2,  -999.0,9,  2342.1,2,-999.000,9,   1.8873,2,   16.65,2, -999.00,9,  -999.0,9,  -999.0,-999.000,9,-999.000, -999.00,9,  989.20,-999.0000,9,-999.0000,9,-999.0000,9,-999.0000,9,-999.0000,9,   0.0094,-999.000,-999.0000,9,    0.20
318M20040615,        P02,      15,          1,         19,         19,2,20040622,       2009,    29.9992,   134.8625,       4683,  1103.0,   3.9562,  34.3620,2,  34.3613,2,  63.7000,2,    63.1,2,  115.65,2,   39.51,2,    0.01,2,    2.83,2,   0.278,2,   0.140,2,   0.005,2,  2323.0,2,  2358.9,2,   0.151,2,   1.9009,2,   17.16,2, -999.00,9,  -999.0,9,  -999.0,-999.000,9,-999.000, -999.00,9, 1103.00,-999.0000,9,-999.0000,9,-999.0000,9,-999.0000,9,-999.0000,9,   0.0095,   0.002,-999.0000,9,    0.20
318M20040615,        P02,      15,          1,         18,         18,2,20040622,       2009,    29.9992,   134.8625,       4683,  1189.4,   3.5743,  34.4137,2,  34.4136,2,  64.1000,2,    64.8,2,  123.52,2,   40.23,2,    0.01,2,    2.87,2,   0.174,2,   0.084,2,   0.001,2,  2331.5,2,  2370.0,2,   0.102,2,   1.9051,2,   17.43,2, -999.00,9,  -999.0,9,  -999.0,-999.000,9,-999.000, -999.00,9, 1189.40,-999.0000,9,-999.0000,9,-999.0000,9,-999.0000,9,-999.0000,9,   0.0095,   0.002,-999.0000,9,    0.20
318M20040615,        P02,      15,          1,         17,         17,2,20040622,       2009,    29.9992,   134.8625,       4683,  1284.1,   3.2633,  34.4462,2,  34.4459,2,  65.8000,2,    66.5,2,  129.71,2,   40.60,2,    0.01,2,    2.88,2,   0.116,2,   0.059,2,   0.002,2,  2339.4,2,  2376.9,2,   0.072,2,   1.9102,2,   17.64,2, -999.00,9,  -999.0,9,  -999.0,-999.000,9,-999.000, -999.00,9, 1284.10,-999.0000,9,-999.0000,9,-999.0000,9,-999.0000,9,-999.0000,9,   0.0096,   0.002,-999.0000,9,    0.20
318M20040615,        P02,      15,          1,         16,         16,2,20040622,       2009,    29.9992,   134.8625,       4683,  1380.8,   2.9623,  34.4787,2,  34.4776,2,  69.7000,2,    69.5,2,  135.38,2,   40.65,2,    0.01,2,    2.88,2,   0.076,2,   0.041,2,   0.001,2,  -999.0,9,  2385.2,2,   0.049,2,   1.9182,2,   18.29,2, -999.00,9,  -999.0,9,  -999.0,-999.000,9,-999.000, -999.00,9, 1380.80,-999.0000,9,-999.0000,9,-999.0000,9,-999.0000,9,-999.0000,9,   0.0096,   0.001,-999.0000,9,    0.20
318M20040615,        P02,      15,          1,         15,         15,2,20040622,       2009,    29.9992,   134.8625,       4683,  1480.3,   2.7615,  34.5008,2,  34.4999,2,  71.9000,2,    72.8,2,  139.03,2,   40.54,2,    0.01,2,    2.89,2,   0.052,2,   0.028,2,   0.001,2,  -999.0,9,  2390.6,2,   0.039,2,   1.9325,2,   18.56,2, -999.00,9,  -999.0,9,  -999.0,-999.000,9,-999.000, -999.00,9, 1480.30,-999.0000,9,-999.0000,9,-999.0000,9,-999.0000,9,-999.0000,9,   0.0097,   0.001,-999.0000,9,    0.20
318M20040615,        P02,      15,          1,         14,         14,2,20040622,       2009,    29.9992,   134.8625,       4683,  1582.9,   2.5859,  34.5234,2,  34.5218,2,  77.9000,2,    78.3,2,  141.60,2,   40.27,2,    0.01,2,    2.86,2,   0.039,2,   0.020,2,   0.000,2,  -999.0,9,  2394.4,2,   0.027,2,   1.6030,2,   17.86,2, -999.00,9,  -999.0,9,  -999.0,-999.000,9,-999.000, -999.00,9, 1582.90,-999.0000,9,-999.0000,9,-999.0000,9,-999.0000,9,-999.0000,9,   0.0080,   0.001,-999.0000,9,    0.20
318M20040615,        P02,      15,          1,         13,         13,2,20040622,       2009,    29.9992,   134.8625,       4683,  1746.5,   2.3512,  34.5533,2,  34.5512,2,  86.3000,2,    86.4,2,  144.54,2,   39.84,2,    0.01,2,    2.83,2,   0.025,2,   0.018,2,   0.004,2,  -999.0,9,  2399.9,2,   0.016,2,   1.9230,2,   18.96,2, -999.00,9,  -999.0,9,  -999.0,-999.000,9,-999.000, -999.00,9, 1746.50,-999.0000,9,-999.0000,9,-999.0000,9,-999.0000,9,-999.0000,9,   0.0096,   0.001,-999.0000,9,    0.20
318M20040615,        P02,      15,          1,         12,         12,2,20040622,       2009,    29.9992,   134.8625,       4683,  1951.6,   2.1139,  34.5877,2,  34.5870,2,  98.9000,2,    99.9,2,  146.01,2,   39.08,2,    0.01,2,    2.79,2,   0.015,2,   0.011,2,   0.003,2,  -999.0,9,  2406.1,2,   0.010,2,   1.9502,2,   18.91,2, -999.00,9,  -999.0,9,  -999.0,-999.000,9,-999.000, -999.00,9, 1951.60,-999.0000,9,-999.0000,9,-999.0000,9,-999.0000,9,-999.0000,9,   0.0098,   0.000,-999.0000,9,    0.20
318M20040615,        P02,      15,          1,         11,         11,2,20040622,       2009,    29.9992,   134.8625,       4683,  2199.0,   1.9162,  34.6172,2,  34.6154,2, 113.3000,3,   114.1,2,  145.98,2,   38.21,2,    0.01,2,    2.71,2,   0.010,2,   0.008,2,   0.004,2,  -999.0,9,  2409.4,2,   0.006,2,   1.9176,2,   19.07,2, -999.00,9,  -999.0,9,  -999.0,-999.000,9,-999.000, -999.00,9, 2199.00,-999.0000,9,-999.0000,9,-999.0000,9,-999.0000,9,-999.0000,9,   0.0096,   0.000,-999.0000,9,    0.20
318M20040615,        P02,      15,          1,         10,         10,2,20040622,       2009,    29.9992,   134.8625,       4683,  2444.3,   1.7877,  34.6364,2,  34.6344,2, 124.6000,3,   124.9,2,  145.80,2,   37.57,2,    0.01,2,    2.66,2,   0.009,2,   0.008,2,   0.002,2,  -999.0,9,  2411.4,2,-999.000,9,-999.0000,9, -999.00,9, -999.00,9,  -999.0,9,  -999.0,-999.000,9,-999.000, -999.00,9, 2444.30,-999.0000,9,-999.0000,9,-999.0000,9,-999.0000,9,-999.0000,9,-999.0000,-999.000,-999.0000,9, -999.00
318M20040615,        P02,      15,          1,          9,          9,2,20040622,       2009,    29.9992,   134.8625,       4683,  2699.3,   1.6817,  34.6523,2,  34.6494,2, 134.0000,3,   134.0,2,  143.99,2,   37.04,2,    0.01,2,    2.60,2,   0.007,2,   0.009,2,   0.002,2,  -999.0,9,  2412.4,2,-999.000,9,-999.0000,9, -999.00,9, -999.00,9,  -999.0,9,  -999.0,-999.000,9,-999.000, -999.00,9, 2699.30,-999.0000,9,-999.0000,9,-999.0000,9,-999.0000,9,-999.0000,9,-999.0000,-999.000,-999.0000,9, -999.00
318M20040615,        P02,      15,          1,          8,          8,2,20040622,       2009,    29.9992,   134.8625,       4683,  2964.5,   1.6122,  34.6630,2,  34.6607,2, 140.5000,3,   140.5,2,  144.16,2,   36.56,2,    0.01,2,    2.57,2,   0.008,2,   0.010,2,   0.003,2,  -999.0,9,  2414.5,2,-999.000,9,-999.0000,9, -999.00,9, -999.00,9,  -999.0,9,  -999.0,-999.000,9,-999.000, -999.00,9, 2964.50,-999.0000,9,-999.0000,9,-999.0000,9,-999.0000,9,-999.0000,9,-999.0000,-999.000,-999.0000,9, -999.00
318M20040615,        P02,      15,          1,          7,          7,2,20040622,       2009,    29.9992,   134.8625,       4683,  3300.6,   1.5487,  34.6733,2,  34.6709,2, 147.1000,3,   147.4,2,  143.21,2,   36.17,2,    0.01,2,    2.54,2,   0.008,2,   0.004,2,   0.005,2,  -999.0,9,  2415.1,2,-999.000,9,-999.0000,9, -999.00,9, -999.00,9,  -999.0,9,  -999.0,-999.000,9,-999.000, -999.00,9, 3300.60,-999.0000,9,-999.0000,9,-999.0000,9,-999.0000,9,-999.0000,9,-999.0000,-999.000,-999.0000,9, -999.00
318M20040615,        P02,      15,          1,          6,          6,2,20040622,       2009,    29.9992,   134.8625,       4683,  3707.2,   1.5274,  34.6800,2,  34.6777,2, 151.9000,3,   152.3,2,  142.65,2,   36.07,2,    0.01,2,    2.53,2,   0.011,2,   0.008,2,   0.005,2,  -999.0,9,  2415.0,2,-999.000,9,-999.0000,9, -999.00,9, -999.00,9,  -999.0,9,  -999.0,-999.000,9,-999.000, -999.00,9, 3707.20,-999.0000,9,-999.0000,9,-999.0000,9,-999.0000,9,-999.0000,9,-999.0000,-999.000,-999.0000,9, -999.00
318M20040615,        P02,      15,          1,          5,          5,9,20040622,       2009,    29.9992,   134.8625,       4683,  4059.3,   1.5462,  34.6819,2,-999.0000,9, 153.4000,9,  -999.0,9, -999.00,9, -999.00,9, -999.00,9, -999.00,9,-999.000,9,-999.000,9,-999.000,9,  -999.0,9,  -999.0,9,-999.000,9,-999.0000,9, -999.00,9, -999.00,9,  -999.0,9,  -999.0,-999.000,9,-999.000, -999.00,9, 4059.30,-999.0000,9,-999.0000,9,-999.0000,9,-999.0000,9,-999.0000,9,-999.0000,-999.000,-999.0000,9, -999.00
318M20040615,        P02,      15,          1,          4,          4,2,20040622,       2009,    29.9992,   134.8625,       4683,  4116.5,   1.5517,  34.6822,2,  34.6797,2, 153.7000,3,   154.1,2,  142.10,2,   36.17,2,    0.01,2,    2.54,2,   0.008,2,   0.005,2,   0.005,2,  -999.0,9,  2414.7,2,-999.000,9,-999.0000,9, -999.00,9, -999.00,9,  -999.0,9,  -999.0,-999.000,9,-999.000, -999.00,9, 4116.50,-999.0000,9,-999.0000,9,-999.0000,9,-999.0000,9,-999.0000,9,-999.0000,-999.000,-999.0000,9, -999.00
318M20040615,        P02,      15,          1,          3,          3,9,20040622,       2009,    29.9992,   134.8625,       4683,  4325.8,   1.5671,  34.6828,2,-999.0000,9, 154.2000,9,  -999.0,9, -999.00,9, -999.00,9, -999.00,9, -999.00,9,-999.000,9,-999.000,9,-999.000,9,  -999.0,9,  -999.0,9,-999.000,9,-999.0000,9, -999.00,9, -999.00,9,  -999.0,9,  -999.0,-999.000,9,-999.000, -999.00,9, 4325.80,-999.0000,9,-999.0000,9,-999.0000,9,-999.0000,9,-999.0000,9,-999.0000,-999.000,-999.0000,9, -999.00
318M20040615,        P02,      15,          1,          2,          2,2,20040622,       2009,    29.9992,   134.8625,       4683,  4529.6,   1.5869,  34.6833,2,  34.6802,2, 154.5000,3,   155.3,2,  142.09,2,   36.02,2,    0.01,2,    2.52,2,   0.008,2,   0.004,2,  -0.001,2,  -999.0,9,  2413.0,2,-999.000,9,-999.0000,9, -999.00,9, -999.00,9,  -999.0,9,  -999.0,-999.000,9,-999.000, -999.00,9, 4529.60,-999.0000,9,-999.0000,9,-999.0000,9,-999.0000,9,-999.0000,9,-999.0000,-999.000,-999.0000,9, -999.00
318M20040615,        P02,      15,          1,          1,          1,2,20040622,       2009,    29.9992,   134.8625,       4683,  4774.3,   1.6132,  34.6836,2,  34.6807,2, 154.9000,3,   155.3,2,  142.26,2,   36.06,2,    0.01,2,    2.53,2,   0.006,2,   0.005,2,   0.004,2,  -999.0,9,  2414.5,2,-999.000,9,-999.0000,9, -999.00,9, -999.00,9,  -999.0,9,  -999.0,-999.000,9,-999.000, -999.00,9, 4774.30,-999.0000,9,-999.0000,9,-999.0000,9,-999.0000,9,-999.0000,9,-999.0000,-999.000,-999.0000,9, -999.00