BOTTLE,20131027SIOCCHRJL
EXPOCODE,SECT_ID,STNNBR,CASTNO,SAMPNO,BTLNBR,BTLNBR_FLAG_W,DATE,TIME,LATITUDE,LONGITUDE,DEPTH,CTDPRS,CTDTMP,CTDSAL,CTDSAL_FLAG_W,SALNTY,SALNTY_FLAG_W,CTDOXY,CTDOXY_FLAG_W,OXYGEN,OXYGEN_FLAG_W,SILCAT,SILCAT_FLAG_W,NITRAT,NITRAT_FLAG_W,NITRIT,NITRIT_FLAG_W,PHSPHT,PHSPHT_FLAG_W,CFC-11,CFC-11_FLAG_W,CFC-12,CFC-12_FLAG_W,CFC113,CFC113_FLAG_W,TCARBN,TCARBN_FLAG_W,ALKALI,ALKALI_FLAG_W,TRITUM,TRITUM_FLAG_W,HELIUM,HELIUM_FLAG_W,DELHE3,DELHE3_FLAG_W,DELC13,DELC13_FLAG_W,DELC14,DELC14_FLAG_W,C14ERR,NEON,NEON_FLAG_W,NEONER,DOC,DOC_FLAG_W,CTDRAW,CDOM380,CDOM380_FLAG_W,CDOM325,CDOM325_FLAG_W,CDOMSL,CDOMSL_FLAG_W,CDOM340,CDOM340_FLAG_W,CDOMSN,CDOMSN_FLAG_W,HELIER,TRITER,CDOM412,CDOM412_FLAG_W,DELHER
,,,,,,,,,,,METERS,DBAR,ITS-90,PSS-78,,PSS-78,,UMOL/KG,,UMOL/KG,,UMOL/KG,,UMOL/KG,,UMOL/KG,,UMOL/KG,,PMOL/KG,,PMOL/KG,,PMOL/KG,,UMOL/KG,,UMOL/KG,,TU,,NMOL/KG,,PERCNT,,/MILLE,,/MILLE,,/MILLE,NMOL/KG,,NMOL/KG,UMOL/KG,,DBAR,1/M,,1/M,,1/NM,,1/M,,1/NM,,NMOL/KG,TU,1/M,,PERCNT
318M20040615,        P02,      89,          1,         36,         36,2,20040717,       0025,    30.0007,  -177.3697,       5343,     9.5,  26.3706,  34.9875,2,  34.9853,2, 208.7000,2,   208.5,2,    1.61,2,    0.10,2,    0.00,2,    0.02,2,   1.758,2,   1.114,2,   0.131,2,  1998.0,6,  2295.8,6,-999.000,9,-999.0000,9, -999.00,9, -999.00,9,  -999.0,9,  -999.0,-999.000,9,-999.000, -999.00,9,    9.50,-999.0000,9,-999.0000,9,-999.0000,9,-999.0000,9,-999.0000,9,-999.0000,-999.000,-999.0000,9, -999.00
318M20040615,        P02,      89,          1,         35,         35,2,20040717,       0025,    30.0007,  -177.3697,       5343,    36.1,  21.4822,  35.0064,2,  35.0180,2, 235.2000,2,   235.3,2,    1.60,2,    0.09,2,    0.00,2,    0.02,2,   2.174,2,   1.322,2,   0.152,2,  2001.3,2,  2299.6,2,-999.000,9,-999.0000,9, -999.00,9, -999.00,9,  -999.0,9,  -999.0,-999.000,9,-999.000, -999.00,9,   36.10,-999.0000,9,-999.0000,9,-999.0000,9,-999.0000,9,-999.0000,9,-999.0000,-999.000,-999.0000,9, -999.00
318M20040615,        P02,      89,          1,         34,         34,2,20040717,       0025,    30.0007,  -177.3697,       5343,    71.5,  18.5833,  34.9087,2,  34.9080,2, 236.3000,2,   236.6,2,    1.98,2,    0.09,2,    0.00,2,    0.07,2,   2.389,2,   1.416,2,   0.149,2,  2010.3,2,  2293.9,2,-999.000,9,-999.0000,9, -999.00,9, -999.00,9,  -999.0,9,  -999.0,-999.000,9,-999.000, -999.00,9,   71.50,-999.0000,9,-999.0000,9,-999.0000,9,-999.0000,9,-999.0000,9,-999.0000,-999.000,-999.0000,9, -999.00
318M20040615,        P02,      89,          1,         33,         33,2,20040717,       0025,    30.0007,  -177.3697,       5343,   121.9,  16.4052,  34.7037,2,  34.7055,2, 208.6000,2,   209.4,2,    4.14,2,    5.01,2,    0.02,2,    0.38,2,   2.578,2,   1.519,2,   0.077,2,  2042.4,2,  2280.8,2,-999.000,9,-999.0000,9, -999.00,9, -999.00,9,  -999.0,9,  -999.0,-999.000,9,-999.000, -999.00,9,  121.90,-999.0000,9,-999.0000,9,-999.0000,9,-999.0000,9,-999.0000,9,-999.0000,-999.000,-999.0000,9, -999.00
318M20040615,        P02,      89,          1,         32,         32,2,20040717,       0025,    30.0007,  -177.3697,       5343,   171.7,  15.5079,  34.6152,2,  34.6116,2, 207.8000,2,   211.0,2,    5.50,2,    6.42,2,    0.01,2,    0.46,2,   2.658,2,   1.545,2,   0.066,2,  2048.6,2,  2276.2,2,-999.000,9,-999.0000,9, -999.00,9, -999.00,9,  -999.0,9,  -999.0,-999.000,9,-999.000, -999.00,9,  171.70,-999.0000,9,-999.0000,9,-999.0000,9,-999.0000,9,-999.0000,9,-999.0000,-999.000,-999.0000,9, -999.00
318M20040615,        P02,      89,          1,         31,         31,2,20040717,       0025,    30.0007,  -177.3697,       5343,   221.1,  14.8151,  34.5827,2,  34.5839,2, 219.4000,2,   220.5,2,    6.87,2,    6.98,2,    0.01,2,    0.49,2,   2.672,2,   1.554,2,   0.110,2,  2047.2,2,  2276.0,2,-999.000,9,-999.0000,9, -999.00,9, -999.00,9,  -999.0,9,  -999.0,-999.000,9,-999.000, -999.00,9,  221.10,-999.0000,9,-999.0000,9,-999.0000,9,-999.0000,9,-999.0000,9,-999.0000,-999.000,-999.0000,9, -999.00
318M20040615,        P02,      89,          1,         30,         30,2,20040717,       0025,    30.0007,  -177.3697,       5343,   270.9,  13.9228,  34.5062,2,  34.5042,2, 216.0000,2,   216.5,2,    9.24,2,    8.88,2,    0.00,2,    0.63,2,   2.762,2,   1.586,2,   0.092,2,  2061.6,2,  2272.2,2,-999.000,9,-999.0000,9, -999.00,9, -999.00,9,  -999.0,9,  -999.0,-999.000,9,-999.000, -999.00,9,  270.90,-999.0000,9,-999.0000,9,-999.0000,9,-999.0000,9,-999.0000,9,-999.0000,-999.000,-999.0000,9, -999.00
318M20040615,        P02,      89,          1,         29,         29,2,20040717,       0025,    30.0007,  -177.3697,       5343,   320.4,  12.9831,  34.4289,2,  34.4282,2, 215.1000,2,   216.0,2,   11.20,2,   10.37,2,    0.00,2,    0.72,2,   2.888,6,   1.628,6,   0.084,6,  2070.9,2,  2269.6,2,-999.000,9,-999.0000,9, -999.00,9, -999.00,9,  -999.0,9,  -999.0,-999.000,9,-999.000, -999.00,9,  320.40,-999.0000,9,-999.0000,9,-999.0000,9,-999.0000,9,-999.0000,9,-999.0000,-999.000,-999.0000,9, -999.00
318M20040615,        P02,      89,          1,         28,         28,2,20040717,       0025,    30.0007,  -177.3697,       5343,   370.9,  12.0893,  34.3545,2,  34.3519,2, 214.1000,2,   214.6,2,   13.76,2,   12.06,2,    0.00,2,    0.84,2,   2.982,2,   1.656,2,   0.089,2,  2082.8,2,  2269.0,2,-999.000,9,-999.0000,9, -999.00,9, -999.00,9,  -999.0,9,  -999.0,-999.000,9,-999.000, -999.00,9,  370.90,-999.0000,9,-999.0000,9,-999.0000,9,-999.0000,9,-999.0000,9,-999.0000,-999.000,-999.0000,9, -999.00
318M20040615,        P02,      89,          1,         27,         27,2,20040717,       0025,    30.0007,  -177.3697,       5343,   420.9,  10.7614,  34.2493,2,  34.2572,2, 212.1000,2,   213.1,2,   17.72,2,   14.25,2,    0.00,2,    1.01,2,   3.066,2,   1.659,2,   0.104,2,  -999.0,9,  -999.0,9,-999.000,9,-999.0000,9, -999.00,9, -999.00,9,  -999.0,9,  -999.0,-999.000,9,-999.000, -999.00,9,  420.90,-999.0000,9,-999.0000,9,-999.0000,9,-999.0000,9,-999.0000,9,-999.0000,-999.000,-999.0000,9, -999.00
318M20040615,        P02,      89,          1,         26,         26,2,20040717,       0025,    30.0007,  -177.3697,       5343,   470.5,   9.9383,  34.1864,2,  34.1846,2, 205.4000,2,   204.8,2,   22.29,2,   16.68,2,    0.00,2,    1.18,2,   3.044,2,   1.630,2,   0.106,2,  2115.2,2,  2270.3,2,-999.000,9,-999.0000,9, -999.00,9, -999.00,9,  -999.0,9,  -999.0,-999.000,9,-999.000, -999.00,9,  470.50,-999.0000,9,-999.0000,9,-999.0000,9,-999.0000,9,-999.0000,9,-999.0000,-999.000,-999.0000,9, -999.00
318M20040615,        P02,      89,          1,         25,         25,2,20040717,       0025,    30.0007,  -177.3697,       5343,   540.6,   8.5344,  34.0924,2,  34.0919,2, 185.6000,2,   187.0,2,   31.46,2,   20.88,2,    0.00,2,    1.50,2,   2.897,2,   1.507,2,   0.117,2,  -999.0,9,  -999.0,9,-999.000,9,-999.0000,9, -999.00,9, -999.00,9,  -999.0,9,  -999.0,-999.000,9,-999.000, -999.00,9,  540.60,-999.0000,9,-999.0000,9,-999.0000,9,-999.0000,9,-999.0000,9,-999.0000,-999.000,-999.0000,9, -999.00
318M20040615,        P02,      89,          1,         24,         24,2,20040717,       0025,    30.0007,  -177.3697,       5343,   640.7,   6.2199,  34.0186,2,  34.0169,2, 137.2000,2,   132.8,2,   57.24,2,   29.80,2,    0.00,2,    2.16,2,   2.071,2,   1.028,2,   0.084,2,  2218.0,2,  2288.0,2,-999.000,9,-999.0000,9, -999.00,9, -999.00,9,  -999.0,9,  -999.0,-999.000,9,-999.000, -999.00,9,  640.70,-999.0000,9,-999.0000,9,-999.0000,9,-999.0000,9,-999.0000,9,-999.0000,-999.000,-999.0000,9, -999.00
318M20040615,        P02,      89,          1,         23,         23,2,20040717,       0025,    30.0007,  -177.3697,       5343,   740.4,   5.0542,  34.0665,2,  34.0622,2,  89.3000,2,    87.9,2,   79.22,2,   35.85,2,    0.00,2,    2.59,2,   1.256,2,   0.603,2,   0.049,2,  -999.0,9,  -999.0,9,-999.000,9,-999.0000,9, -999.00,9, -999.00,9,  -999.0,9,  -999.0,-999.000,9,-999.000, -999.00,9,  740.40,-999.0000,9,-999.0000,9,-999.0000,9,-999.0000,9,-999.0000,9,-999.0000,-999.000,-999.0000,9, -999.00
318M20040615,        P02,      89,          1,         22,         22,2,20040717,       0025,    30.0007,  -177.3697,       5343,   840.4,   4.3868,  34.1451,2,  34.1443,2,  58.2000,2,    55.2,2,   97.87,2,   39.85,2,    0.00,2,    2.87,2,   0.624,2,   0.309,2,   0.017,2,  2310.1,2,  2327.0,2,-999.000,9,-999.0000,9, -999.00,9, -999.00,9,  -999.0,9,  -999.0,-999.000,9,-999.000, -999.00,9,  840.40,-999.0000,9,-999.0000,9,-999.0000,9,-999.0000,9,-999.0000,9,-999.0000,-999.000,-999.0000,9, -999.00
318M20040615,        P02,      89,          1,         21,         21,2,20040717,       0025,    30.0007,  -177.3697,       5343,   940.0,   3.8640,  34.2494,2,  34.2480,2,  37.1000,2,    34.8,2,  114.52,2,   42.14,2,    0.00,2,    3.03,2,   0.253,2,   0.124,2,   0.008,2,  -999.0,9,  -999.0,9,-999.000,9,-999.0000,9, -999.00,9, -999.00,9,  -999.0,9,  -999.0,-999.000,9,-999.000, -999.00,9,  940.00,-999.0000,9,-999.0000,9,-999.0000,9,-999.0000,9,-999.0000,9,-999.0000,-999.000,-999.0000,9, -999.00
318M20040615,        P02,      89,          1,         20,         20,2,20040717,       0025,    30.0007,  -177.3697,       5343,  1040.1,   3.5531,  34.3124,2,  34.3096,2,  27.9000,2,    27.5,2,  124.41,2,   42.95,2,    0.00,2,    3.09,2,   0.128,2,   0.065,2,   0.004,2,  2355.9,2,  2359.7,2,-999.000,9,-999.0000,9, -999.00,9, -999.00,9,  -999.0,9,  -999.0,-999.000,9,-999.000, -999.00,9, 1040.10,-999.0000,9,-999.0000,9,-999.0000,9,-999.0000,9,-999.0000,9,-999.0000,-999.000,-999.0000,9, -999.00
318M20040615,        P02,      89,          1,         19,         19,2,20040717,       0025,    30.0007,  -177.3697,       5343,  1140.8,   3.3320,  34.3886,2,  34.3883,2,  25.9000,2,    26.3,2,  131.62,2,   43.43,2,    0.00,2,    3.12,2,   0.038,2,   0.017,2,   0.020,3,  2365.9,2,  2371.1,2,-999.000,9,-999.0000,9, -999.00,9, -999.00,9,  -999.0,9,  -999.0,-999.000,9,-999.000, -999.00,9, 1140.80,-999.0000,9,-999.0000,9,-999.0000,9,-999.0000,9,-999.0000,9,-999.0000,-999.000,-999.0000,9, -999.00
318M20040615,        P02,      89,          1,         18,         18,2,20040717,       0025,    30.0007,  -177.3697,       5343,  1241.1,   3.0647,  34.4373,2,  34.4361,2,  28.6000,3,    27.9,2,  139.49,2,   43.43,2,    0.00,2,    3.12,2,   0.021,2,   0.013,2,   0.001,2,  2374.3,2,  2381.5,2,-999.000,9,-999.0000,9, -999.00,9, -999.00,9,  -999.0,9,  -999.0,-999.000,9,-999.000, -999.00,9, 1241.10,-999.0000,9,-999.0000,9,-999.0000,9,-999.0000,9,-999.0000,9,-999.0000,-999.000,-999.0000,9, -999.00
318M20040615,        P02,      89,          1,         17,         17,2,20040717,       0025,    30.0007,  -177.3697,       5343,  1341.7,   2.8909,  34.4747,2,  34.4726,2,  32.5000,3,    33.7,2,  144.66,2,   43.11,2,    0.00,2,    3.10,2,   0.013,2,   0.009,2,   0.001,2,  -999.0,9,  -999.0,9,-999.000,9,-999.0000,9, -999.00,9, -999.00,9,  -999.0,9,  -999.0,-999.000,9,-999.000, -999.00,9, 1341.70,-999.0000,9,-999.0000,9,-999.0000,9,-999.0000,9,-999.0000,9,-999.0000,-999.000,-999.0000,9, -999.00
318M20040615,        P02,      89,          1,         16,         16,2,20040717,       0025,    30.0007,  -177.3697,       5343,  1441.8,   2.7090,  34.5059,2,  34.5045,2,  39.9000,3,    40.7,2,  147.72,2,   42.71,2,    0.00,2,    3.07,2,   0.007,2,   0.005,2,   0.001,2,  -999.0,9,  2395.9,2,-999.000,9,-999.0000,9, -999.00,9, -999.00,9,  -999.0,9,  -999.0,-999.000,9,-999.000, -999.00,9, 1441.80,-999.0000,9,-999.0000,9,-999.0000,9,-999.0000,9,-999.0000,9,-999.0000,-999.000,-999.0000,9, -999.00
318M20040615,        P02,      89,          1,         15,         15,2,20040717,       0025,    30.0007,  -177.3697,       5343,  1541.9,   2.5063,  34.5339,2,  34.5320,2,  46.5000,3,    47.3,2,  152.68,2,   42.44,2,    0.00,2,    3.04,2,   0.004,2,   0.003,2,   0.001,2,  -999.0,9,  -999.0,9,-999.000,9,-999.0000,9, -999.00,9, -999.00,9,  -999.0,9,  -999.0,-999.000,9,-999.000, -999.00,9, 1541.90,-999.0000,9,-999.0000,9,-999.0000,9,-999.0000,9,-999.0000,9,-999.0000,-999.000,-999.0000,9, -999.00
318M20040615,        P02,      89,          1,         14,         14,2,20040717,       0025,    30.0007,  -177.3697,       5343,  1642.0,   2.3751,  34.5537,2,  34.5524,2,  54.7000,3,    53.6,2,  155.57,2,   42.17,2,    0.00,2,    3.01,2,   0.003,2,   0.003,2,   0.001,2,  -999.0,9,  -999.0,9,-999.000,9,-999.0000,9, -999.00,9, -999.00,9,  -999.0,9,  -999.0,-999.000,9,-999.000, -999.00,9, 1642.00,-999.0000,9,-999.0000,9,-999.0000,9,-999.0000,9,-999.0000,9,-999.0000,-999.000,-999.0000,9, -999.00
318M20040615,        P02,      89,          1,         13,         13,2,20040717,       0025,    30.0007,  -177.3697,       5343,  1737.9,   2.2537,  34.5697,2,  34.5701,2,  62.0000,2,    60.7,2,  158.25,2,   42.01,2,    0.00,2,    2.97,2,   0.004,2,   0.001,2,   0.001,2,  -999.0,9,  2407.7,2,-999.000,9,-999.0000,9, -999.00,9, -999.00,9,  -999.0,9,  -999.0,-999.000,9,-999.000, -999.00,9, 1737.90,-999.0000,9,-999.0000,9,-999.0000,9,-999.0000,9,-999.0000,9,-999.0000,-999.000,-999.0000,9, -999.00
318M20040615,        P02,      89,          1,         12,         12,2,20040717,       0025,    30.0007,  -177.3697,       5343,  1938.9,   2.0131,  34.5985,2,  34.5957,2,  71.1000,3,    71.8,2,  163.82,2,   41.30,2,    0.00,2,    2.92,2,-999.000,9,-999.000,9,-999.000,9,  -999.0,9,  -999.0,9,-999.000,9,-999.0000,9, -999.00,9, -999.00,9,  -999.0,9,  -999.0,-999.000,9,-999.000, -999.00,9, 1938.90,-999.0000,9,-999.0000,9,-999.0000,9,-999.0000,9,-999.0000,9,-999.0000,-999.000,-999.0000,9, -999.00
318M20040615,        P02,      89,          1,         11,         11,2,20040717,       0025,    30.0007,  -177.3697,       5343,  2099.8,   1.8893,  34.6143,2,  34.6130,2,  81.1000,3,    81.4,2,  165.46,2,   40.60,2,    0.00,2,    2.87,2,   0.002,2,   0.002,2,   0.001,2,  -999.0,9,  -999.0,9,-999.000,9,-999.0000,9, -999.00,9, -999.00,9,  -999.0,9,  -999.0,-999.000,9,-999.000, -999.00,9, 2099.80,-999.0000,9,-999.0000,9,-999.0000,9,-999.0000,9,-999.0000,9,-999.0000,-999.000,-999.0000,9, -999.00
318M20040615,        P02,      89,          1,         10,         10,2,20040717,       0025,    30.0007,  -177.3697,       5343,  2347.1,   1.7291,  34.6347,2,  34.6328,2,  97.5000,3,    99.0,2,  164.82,2,   39.37,2,    0.00,2,    2.79,2,-999.000,9,-999.000,9,-999.000,9,  -999.0,9,  2418.5,2,-999.000,9,-999.0000,9, -999.00,9, -999.00,9,  -999.0,9,  -999.0,-999.000,9,-999.000, -999.00,9, 2347.10,-999.0000,9,-999.0000,9,-999.0000,9,-999.0000,9,-999.0000,9,-999.0000,-999.000,-999.0000,9, -999.00
318M20040615,        P02,      89,          1,          9,          9,2,20040717,       0025,    30.0007,  -177.3697,       5343,  2600.8,   1.6315,  34.6487,2,  34.6464,2, 110.5000,3,   110.1,2,  163.16,2,   38.63,2,    0.00,2,    2.73,2,   0.001,2,   0.000,2,   0.001,2,  -999.0,9,  -999.0,9,-999.000,9,-999.0000,9, -999.00,9, -999.00,9,  -999.0,9,  -999.0,-999.000,9,-999.000, -999.00,9, 2600.80,-999.0000,9,-999.0000,9,-999.0000,9,-999.0000,9,-999.0000,9,-999.0000,-999.000,-999.0000,9, -999.00
318M20040615,        P02,      89,          1,          8,          8,2,20040717,       0025,    30.0007,  -177.3697,       5343,  2858.2,   1.5514,  34.6605,2,  34.6580,2, 122.0000,3,   123.3,2,  160.89,2,   37.73,2,    0.00,2,    2.66,2,-999.000,9,-999.000,9,-999.000,9,  -999.0,9,  2418.8,2,-999.000,9,-999.0000,9, -999.00,9, -999.00,9,  -999.0,9,  -999.0,-999.000,9,-999.000, -999.00,9, 2858.20,-999.0000,9,-999.0000,9,-999.0000,9,-999.0000,9,-999.0000,9,-999.0000,-999.000,-999.0000,9, -999.00
318M20040615,        P02,      89,          1,          7,          7,2,20040717,       0025,    30.0007,  -177.3697,       5343,  3107.8,   1.5111,  34.6676,2,  34.6655,2, 128.8000,3,   129.3,2,  159.90,2,   37.21,2,    0.00,2,    2.62,2,   0.003,2,   0.003,2,   0.001,2,  -999.0,9,  -999.0,9,-999.000,9,-999.0000,9, -999.00,9, -999.00,9,  -999.0,9,  -999.0,-999.000,9,-999.000, -999.00,9, 3107.80,-999.0000,9,-999.0000,9,-999.0000,9,-999.0000,9,-999.0000,9,-999.0000,-999.000,-999.0000,9, -999.00
318M20040615,        P02,      89,          1,          6,          6,2,20040717,       0025,    30.0007,  -177.3697,       5343,  3496.5,   1.4652,  34.6769,2,  34.6756,2, 140.6000,3,   140.7,2,  155.95,2,   36.47,2,    0.00,2,    2.56,2,-999.000,9,-999.000,9,-999.000,9,  -999.0,9,  2420.3,2,-999.000,9,-999.0000,9, -999.00,9, -999.00,9,  -999.0,9,  -999.0,-999.000,9,-999.000, -999.00,9, 3496.50,-999.0000,9,-999.0000,9,-999.0000,9,-999.0000,9,-999.0000,9,-999.0000,-999.000,-999.0000,9, -999.00
318M20040615,        P02,      89,          1,          5,          5,2,20040717,       0025,    30.0007,  -177.3697,       5343,  3900.3,   1.4556,  34.6826,2,  34.6818,2, 147.3000,2,   147.4,2,  154.51,2,   36.21,2,    0.00,2,    2.53,2,   0.004,2,   0.001,2,   0.001,2,  -999.0,9,  -999.0,9,-999.000,9,-999.0000,9, -999.00,9, -999.00,9,  -999.0,9,  -999.0,-999.000,9,-999.000, -999.00,9, 3900.30,-999.0000,9,-999.0000,9,-999.0000,9,-999.0000,9,-999.0000,9,-999.0000,-999.000,-999.0000,9, -999.00
318M20040615,        P02,      89,          1,          4,          4,2,20040717,       0025,    30.0007,  -177.3697,       5343,  4298.6,   1.4684,  34.6862,2,  34.6838,2, 150.8000,3,   151.9,2,  155.32,2,   36.05,2,    0.00,2,    2.51,2,-999.000,9,-999.000,9,-999.000,9,  -999.0,9,  2420.5,2,-999.000,9,-999.0000,9, -999.00,9, -999.00,9,  -999.0,9,  -999.0,-999.000,9,-999.000, -999.00,9, 4298.60,-999.0000,9,-999.0000,9,-999.0000,9,-999.0000,9,-999.0000,9,-999.0000,-999.000,-999.0000,9, -999.00
318M20040615,        P02,      89,          1,          3,          3,2,20040717,       0025,    30.0007,  -177.3697,       5343,  4701.8,   1.4834,  34.6891,2,  34.6882,2, 156.8000,2,   157.2,2,  149.94,2,   35.68,2,    0.00,2,    2.47,2,   0.003,2,   0.001,2,   0.001,2,  -999.0,9,  2418.6,2,-999.000,9,-999.0000,9, -999.00,9, -999.00,9,  -999.0,9,  -999.0,-999.000,9,-999.000, -999.00,9, 4701.80,-999.0000,9,-999.0000,9,-999.0000,9,-999.0000,9,-999.0000,9,-999.0000,-999.000,-999.0000,9, -999.00
318M20040615,        P02,      89,          1,          2,          2,2,20040717,       0025,    30.0007,  -177.3697,       5343,  4993.8,   1.5003,  34.6905,2,  34.6892,2, 160.4000,3,   160.8,2,  146.00,2,   35.32,2,    0.00,2,    2.45,2,-999.000,9,-999.000,9,-999.000,9,  -999.0,9,  2414.7,2,-999.000,9,-999.0000,9, -999.00,9, -999.00,9,  -999.0,9,  -999.0,-999.000,9,-999.000, -999.00,9, 4993.80,-999.0000,9,-999.0000,9,-999.0000,9,-999.0000,9,-999.0000,9,-999.0000,-999.000,-999.0000,9, -999.00
318M20040615,        P02,      89,          1,          1,          1,2,20040717,       0025,    30.0007,  -177.3697,       5343,  5439.3,   1.5271,  34.6928,2,  34.6925,2, 166.0000,2,   166.4,2,  141.43,2,   35.00,2,    0.00,2,    2.42,2,   0.004,2,   0.004,2,   0.001,2,  -999.0,9,  2409.7,6,-999.000,9,-999.0000,9, -999.00,9, -999.00,9,  -999.0,9,  -999.0,-999.000,9,-999.000, -999.00,9, 5439.30,-999.0000,9,-999.0000,9,-999.0000,9,-999.0000,9,-999.0000,9,-999.0000,-999.000,-999.0000,9, -999.00