BOTTLE,20131027SIOCCHRJL
EXPOCODE,SECT_ID,STNNBR,CASTNO,SAMPNO,BTLNBR,BTLNBR_FLAG_W,DATE,TIME,LATITUDE,LONGITUDE,DEPTH,CTDPRS,CTDTMP,CTDSAL,CTDSAL_FLAG_W,SALNTY,SALNTY_FLAG_W,CTDOXY,CTDOXY_FLAG_W,OXYGEN,OXYGEN_FLAG_W,SILCAT,SILCAT_FLAG_W,NITRAT,NITRAT_FLAG_W,NITRIT,NITRIT_FLAG_W,PHSPHT,PHSPHT_FLAG_W,CFC-11,CFC-11_FLAG_W,CFC-12,CFC-12_FLAG_W,CFC113,CFC113_FLAG_W,TCARBN,TCARBN_FLAG_W,ALKALI,ALKALI_FLAG_W,TRITUM,TRITUM_FLAG_W,HELIUM,HELIUM_FLAG_W,DELHE3,DELHE3_FLAG_W,DELC13,DELC13_FLAG_W,DELC14,DELC14_FLAG_W,C14ERR,NEON,NEON_FLAG_W,NEONER,DOC,DOC_FLAG_W,CTDRAW,CDOM380,CDOM380_FLAG_W,CDOM325,CDOM325_FLAG_W,CDOMSL,CDOMSL_FLAG_W,CDOM340,CDOM340_FLAG_W,CDOMSN,CDOMSN_FLAG_W,HELIER,TRITER,CDOM412,CDOM412_FLAG_W,DELHER
,,,,,,,,,,,METERS,DBAR,ITS-90,PSS-78,,PSS-78,,UMOL/KG,,UMOL/KG,,UMOL/KG,,UMOL/KG,,UMOL/KG,,UMOL/KG,,PMOL/KG,,PMOL/KG,,PMOL/KG,,UMOL/KG,,UMOL/KG,,TU,,NMOL/KG,,PERCNT,,/MILLE,,/MILLE,,/MILLE,NMOL/KG,,NMOL/KG,UMOL/KG,,DBAR,1/M,,1/M,,1/NM,,1/M,,1/NM,,NMOL/KG,TU,1/M,,PERCNT
318M20040615,        P02,     165,          1,         36,         36,2,20040821,       1340,    29.9983,  -127.8033,       4554,     6.4,  21.9526,  33.4316,2,  33.4295,2, 224.0000,2,   224.4,2,    1.36,2,    0.14,2,    0.00,2,    0.29,2,   2.122,2,   1.281,2,   0.155,2,  1993.6,2,  2238.4,6,-999.000,9,-999.0000,9, -999.00,9, -999.00,9,  -999.0,9,  -999.0,-999.000,9,-999.000,   65.60,2,    6.40,   0.0380,2,   0.1020,2,   0.0170,2,   0.0740,2,   0.0180,2,-999.0000,-999.000,   0.0270,2, -999.00
318M20040615,        P02,     165,          1,         35,         35,2,20040821,       1340,    29.9983,  -127.8033,       4554,    41.1,  19.1660,  33.2076,2,  33.1405,2, 246.5000,2,   247.9,2,    1.54,2,    0.14,2,    0.00,2,    0.30,2,-999.000,9,-999.000,9,-999.000,9,  1986.8,6,  2218.2,2,-999.000,9,-999.0000,9, -999.00,9, -999.00,9,  -999.0,9,  -999.0,-999.000,9,-999.000,   63.20,2,   41.10,   0.0370,2,   0.1160,2,   0.0200,2,   0.0810,2,   0.0210,2,-999.0000,-999.000,   0.0240,2, -999.00
318M20040615,        P02,     165,          1,         34,         34,2,20040821,       1340,    29.9983,  -127.8033,       4554,    76.0,  16.3666,  33.2616,2,  33.2644,2, 259.1000,2,   259.4,2,    1.70,2,    0.14,2,    0.00,2,    0.26,2,-999.000,9,-999.000,9,-999.000,9,  1985.8,2,  2220.7,2,-999.000,9,-999.0000,9, -999.00,9, -999.00,9,  -999.0,9,  -999.0,-999.000,9,-999.000,   61.80,2,   76.00,   0.0530,2,   0.1690,2,   0.0190,2,   0.1190,2,   0.0200,2,-999.0000,-999.000,   0.0330,2, -999.00
318M20040615,        P02,     165,          1,         33,         33,2,20040821,       1340,    29.9983,  -127.8033,       4554,   130.7,  12.9828,  33.2288,2,  33.2361,2, 236.3000,2,   237.9,2,    3.90,2,    3.22,2,    0.22,2,    0.54,2,   3.263,2,   1.875,2,   0.212,2,  2021.6,2,  2215.3,2,-999.000,9,-999.0000,9, -999.00,9, -999.00,9,  -999.0,9,  -999.0,-999.000,9,-999.000,   53.70,2,  130.70,   0.0520,2,   0.1530,2,   0.0170,2,   0.1100,2,   0.0180,2,-999.0000,-999.000,   0.0360,2, -999.00
318M20040615,        P02,     165,          1,         32,         32,2,20040821,       1340,    29.9983,  -127.8033,       4554,   184.9,   9.7767,  33.4308,2,  33.4275,2, 205.1000,2,   207.8,2,   13.33,2,   14.47,2,    0.00,2,    1.18,2,   3.672,2,   2.059,2,   0.148,2,  2088.0,2,  2223.2,2,-999.000,9,-999.0000,9, -999.00,9, -999.00,9,  -999.0,9,  -999.0,-999.000,9,-999.000,   49.50,2,  184.90,   0.0580,2,   0.1550,2,   0.0140,2,   0.1130,2,   0.0160,2,-999.0000,-999.000,   0.0420,2, -999.00
318M20040615,        P02,     165,          1,         31,         31,2,20040821,       1340,    29.9983,  -127.8033,       4554,   235.0,   8.9357,  33.8799,2,  33.8813,2, 180.4000,2,   179.7,2,   22.97,2,   20.28,2,    0.00,2,    1.49,2,   3.486,2,   1.906,2,   0.119,2,  2136.1,2,  2250.6,2,-999.000,9,-999.0000,9, -999.00,9, -999.00,9,  -999.0,9,  -999.0,-999.000,9,-999.000,   47.30,2,  235.00,   0.0520,2,   0.1420,2,   0.0150,2,   0.1010,2,   0.0170,2,-999.0000,-999.000,   0.0380,2, -999.00
318M20040615,        P02,     165,          1,         30,         30,2,20040821,       1340,    29.9983,  -127.8033,       4554,   288.1,   8.2075,  34.0169,2,  34.0162,2, 138.2000,2,   139.7,2,   33.45,2,   25.86,2,    0.00,2,    1.87,2,   2.957,2,   1.560,2,   0.113,2,  2180.0,2,  2264.6,2,-999.000,9,-999.0000,9, -999.00,9, -999.00,9,  -999.0,9,  -999.0,-999.000,9,-999.000,   43.80,2,  288.10,   0.0600,2,   0.1590,2,   0.0140,2,   0.1140,2,   0.0160,2,-999.0000,-999.000,   0.0450,2, -999.00
318M20040615,        P02,     165,          1,         29,         29,2,20040821,       1340,    29.9983,  -127.8033,       4554,   338.3,   7.2533,  34.0301,2,  34.0309,2, 108.2000,2,   102.4,2,   45.59,2,   31.19,2,    0.00,2,    2.25,2,-999.000,9,-999.000,9,-999.000,9,  2220.6,2,  2275.8,2,-999.000,9,-999.0000,9, -999.00,9, -999.00,9,  -999.0,9,  -999.0,-999.000,9,-999.000,   44.90,2,  338.30,   0.0680,2,   0.1750,2,   0.0140,2,   0.1270,2,   0.0150,2,-999.0000,-999.000,   0.0510,2, -999.00
318M20040615,        P02,     165,          1,         28,         28,2,20040821,       1340,    29.9983,  -127.8033,       4554,   389.0,   6.7809,  34.0780,2,  34.0783,2,  76.5000,2,    71.9,2,   54.50,2,   34.54,2,    0.00,2,    2.54,2,   1.481,2,   0.752,2,   0.047,2,  2252.2,2,  2283.9,2,-999.000,9,-999.0000,9, -999.00,9, -999.00,9,  -999.0,9,  -999.0,-999.000,9,-999.000,   39.50,2,  389.00,   0.0900,2,   0.2110,2,   0.0130,2,   0.1570,2,   0.0140,2,-999.0000,-999.000,   0.0680,2, -999.00
318M20040615,        P02,     165,          1,         27,         27,2,20040821,       1340,    29.9983,  -127.8033,       4554,   439.0,   6.5477,  34.1406,2,  34.1408,2,  50.4000,2,    45.9,2,   61.19,2,   36.81,2,    0.00,2,    2.76,2,-999.000,9,-999.000,9,-999.000,9,  2276.7,2,  2294.4,2,-999.000,9,-999.0000,9, -999.00,9, -999.00,9,  -999.0,9,  -999.0,-999.000,9,-999.000,   43.90,2,  439.00,-999.0000,9,-999.0000,9,-999.0000,9,-999.0000,9,-999.0000,9,-999.0000,-999.000,-999.0000,9, -999.00
318M20040615,        P02,     165,          1,         26,         26,2,20040821,       1340,    29.9983,  -127.8033,       4554,   488.1,   5.9975,  34.1500,2,  34.1536,2,  37.1000,2,    37.2,2,   69.95,2,   38.65,2,    0.00,2,    2.89,2,-999.000,9,-999.000,9,-999.000,9,  2291.9,2,  2302.3,2,-999.000,9,-999.0000,9, -999.00,9, -999.00,9,  -999.0,9,  -999.0,-999.000,9,-999.000, -999.00,9,  488.10,   0.0900,2,   0.2110,2,   0.0130,2,   0.1560,2,   0.0130,2,-999.0000,-999.000,   0.0700,2, -999.00
318M20040615,        P02,     165,          1,         25,         25,2,20040821,       1340,    29.9983,  -127.8033,       4554,   573.8,   5.3602,  34.2155,2,  34.2165,2,  22.7000,2,    20.5,2,   83.85,2,   41.05,2,    0.00,2,    3.06,2,   0.233,2,   0.117,2,   0.000,2,  2316.5,2,  2320.9,2,-999.000,9,-999.0000,9, -999.00,9, -999.00,9,  -999.0,9,  -999.0,-999.000,9,-999.000,   43.10,2,  573.80,-999.0000,9,-999.0000,9,-999.0000,9,-999.0000,9,-999.0000,9,-999.0000,-999.000,-999.0000,9, -999.00
318M20040615,        P02,     165,          1,         24,         24,2,20040821,       1340,    29.9983,  -127.8033,       4554,   674.5,   4.8392,  34.2949,2,  34.2946,2,  13.5000,2,    13.2,2,   96.16,2,   42.47,2,    0.00,2,    3.17,2,   0.074,2,   0.040,2,   0.000,2,  2336.5,2,  2337.2,2,-999.000,9,-999.0000,9, -999.00,9, -999.00,9,  -999.0,9,  -999.0,-999.000,9,-999.000,   42.80,2,  674.50,   0.0770,2,   0.1910,2,   0.0130,2,   0.1390,2,   0.0150,2,-999.0000,-999.000,   0.0570,2, -999.00
318M20040615,        P02,     165,          1,         23,         23,2,20040821,       1340,    29.9983,  -127.8033,       4554,   779.5,   4.5198,  34.3746,2,  34.3781,2,  12.4000,2,    12.9,2,  104.39,2,   43.13,2,    0.00,2,    3.20,2,   0.032,6,   0.019,6,   0.000,6,  2349.5,2,  2351.9,2,-999.000,9,-999.0000,9, -999.00,9, -999.00,9,  -999.0,9,  -999.0,-999.000,9,-999.000,   40.10,2,  779.50,-999.0000,9,-999.0000,9,-999.0000,9,-999.0000,9,-999.0000,9,-999.0000,-999.000,-999.0000,9, -999.00
318M20040615,        P02,     165,          1,         22,         22,2,20040821,       1340,    29.9983,  -127.8033,       4554,   879.7,   4.2448,  34.4303,2,  34.4299,2,  16.8000,2,    17.7,2,  110.16,2,   43.30,2,    0.00,2,    3.20,2,-999.000,9,-999.000,9,-999.000,9,  2354.4,6,  2365.4,2,-999.000,9,-999.0000,9, -999.00,9, -999.00,9,  -999.0,9,  -999.0,-999.000,9,-999.000,   37.40,2,  879.70,   0.0850,2,   0.1950,2,   0.0120,2,   0.1440,2,   0.0130,2,-999.0000,-999.000,   0.0650,2, -999.00
318M20040615,        P02,     165,          1,         21,         21,2,20040821,       1340,    29.9983,  -127.8033,       4554,   979.7,   3.9560,  34.4623,2,  34.4631,2,  22.5000,2,    24.0,2,  116.37,2,   43.47,2,    0.00,2,    3.19,2,-999.000,9,-999.000,9,-999.000,9,  2358.2,2,  2372.8,2,-999.000,9,-999.0000,9, -999.00,9, -999.00,9,  -999.0,9,  -999.0,-999.000,9,-999.000, -999.00,9,  979.70,-999.0000,9,-999.0000,9,-999.0000,9,-999.0000,9,-999.0000,9,-999.0000,-999.000,-999.0000,9, -999.00
318M20040615,        P02,     165,          1,         20,         20,2,20040821,       1340,    29.9983,  -127.8033,       4554,  1079.7,   3.7179,  34.4874,2,  34.4886,2,  29.1000,2,    29.2,2,  121.52,2,   43.58,2,    0.00,2,    3.17,2,   0.019,2,   0.012,2,   0.000,2,  2362.3,2,  2379.0,2,-999.000,9,-999.0000,9, -999.00,9, -999.00,9,  -999.0,9,  -999.0,-999.000,9,-999.000,   36.20,2, 1079.70,   0.1030,2,   0.2240,2,   0.0120,2,   0.1690,2,   0.0120,2,-999.0000,-999.000,   0.0800,2, -999.00
318M20040615,        P02,     165,          1,         19,         19,2,20040821,       1340,    29.9983,  -127.8033,       4554,  1185.0,   3.4838,  34.5120,2,  34.5126,2,  35.5000,2,    34.9,2,  126.90,2,   43.63,2,    0.00,2,    3.15,2,-999.000,9,-999.000,9,-999.000,9,  2366.0,2,  2386.8,2,-999.000,9,-999.0000,9, -999.00,9, -999.00,9,  -999.0,9,  -999.0,-999.000,9,-999.000, -999.00,9, 1185.00,-999.0000,9,-999.0000,9,-999.0000,9,-999.0000,9,-999.0000,9,-999.0000,-999.000,-999.0000,9, -999.00
318M20040615,        P02,     165,          1,         18,         18,2,20040821,       1340,    29.9983,  -127.8033,       4554,  1284.7,   3.2612,  34.5301,2,  34.5304,2,  40.1000,2,    39.9,2,  132.09,2,   43.48,2,    0.00,2,    3.12,2,-999.000,9,-999.000,9,-999.000,9,  2367.5,2,  2392.9,6,-999.000,9,-999.0000,9, -999.00,9, -999.00,9,  -999.0,9,  -999.0,-999.000,9,-999.000,   36.20,2, 1284.70,-999.0000,9,-999.0000,9,-999.0000,9,-999.0000,9,-999.0000,9,-999.0000,-999.000,-999.0000,9, -999.00
318M20040615,        P02,     165,          1,         17,         17,2,20040821,       1340,    29.9983,  -127.8033,       4554,  1384.7,   3.0717,  34.5449,2,  34.5456,2,  44.7000,2,    44.1,2,  137.08,2,   43.08,2,    0.00,2,    3.10,2,   0.010,2,   0.005,2,   0.000,2,  2369.6,2,  2397.9,2,-999.000,9,-999.0000,9, -999.00,9, -999.00,9,  -999.0,9,  -999.0,-999.000,9,-999.000, -999.00,9, 1384.70,-999.0000,9,-999.0000,9,-999.0000,9,-999.0000,9,-999.0000,9,-999.0000,-999.000,-999.0000,9, -999.00
318M20040615,        P02,     165,          1,         16,         16,2,20040821,       1340,    29.9983,  -127.8033,       4554,  1492.3,   2.8680,  34.5602,2,  34.5583,2,  49.9000,2,    49.5,2,  142.27,2,   42.70,2,    0.00,2,    3.07,2,-999.000,9,-999.000,9,-999.000,9,  2372.2,2,  2403.2,2,-999.000,9,-999.0000,9, -999.00,9, -999.00,9,  -999.0,9,  -999.0,-999.000,9,-999.000, -999.00,9, 1492.30,-999.0000,9,-999.0000,9,-999.0000,9,-999.0000,9,-999.0000,9,-999.0000,-999.000,-999.0000,9, -999.00
318M20040615,        P02,     165,          1,         15,         15,2,20040821,       1340,    29.9983,  -127.8033,       4554,  1590.1,   2.7038,  34.5747,2,  34.5748,2,  55.1000,2,    54.8,2,  146.22,2,   42.31,2,    0.00,2,    3.04,2,-999.000,9,-999.000,9,-999.000,9,  2373.9,2,  2406.6,2,-999.000,9,-999.0000,9, -999.00,9, -999.00,9,  -999.0,9,  -999.0,-999.000,9,-999.000,   37.30,2, 1590.10,-999.0000,9,-999.0000,9,-999.0000,9,-999.0000,9,-999.0000,9,-999.0000,-999.000,-999.0000,9, -999.00
318M20040615,        P02,     165,          1,         14,         14,2,20040821,       1340,    29.9983,  -127.8033,       4554,  1681.1,   2.5386,  34.5870,2,  34.5872,2,  60.2000,2,    60.5,2,  150.21,2,   41.94,2,    0.00,2,    3.01,2,   0.007,2,   0.005,2,   0.000,2,  2372.9,2,  2412.2,2,-999.000,9,-999.0000,9, -999.00,9, -999.00,9,  -999.0,9,  -999.0,-999.000,9,-999.000, -999.00,9, 1681.10,-999.0000,9,-999.0000,9,-999.0000,9,-999.0000,9,-999.0000,9,-999.0000,-999.000,-999.0000,9, -999.00
318M20040615,        P02,     165,          1,         13,         13,2,20040821,       1340,    29.9983,  -127.8033,       4554,  1783.5,   2.4308,  34.5958,2,  34.5970,2,  65.9000,2,    64.4,2,  152.92,2,   41.77,2,    0.00,2,    2.98,2,   0.012,2,   0.006,2,   0.000,2,  2373.6,2,  2414.2,2,-999.000,9,-999.0000,9, -999.00,9, -999.00,9,  -999.0,9,  -999.0,-999.000,9,-999.000, -999.00,9, 1783.50,-999.0000,9,-999.0000,9,-999.0000,9,-999.0000,9,-999.0000,9,-999.0000,-999.000,-999.0000,9, -999.00
318M20040615,        P02,     165,          1,         12,         12,2,20040821,       1340,    29.9983,  -127.8033,       4554,  1888.6,   2.2836,  34.6083,2,  34.6084,2,  71.8000,2,    71.7,2,  156.04,2,   41.51,2,    0.00,2,    2.95,2,-999.000,9,-999.000,9,-999.000,9,  2373.0,2,  2419.7,2,-999.000,9,-999.0000,9, -999.00,9, -999.00,9,  -999.0,9,  -999.0,-999.000,9,-999.000,   35.70,2, 1888.60,-999.0000,9,-999.0000,9,-999.0000,9,-999.0000,9,-999.0000,9,-999.0000,-999.000,-999.0000,9, -999.00
318M20040615,        P02,     165,          1,         11,         11,2,20040821,       1340,    29.9983,  -127.8033,       4554,  1992.0,   2.1565,  34.6192,2,  34.6200,2,  77.7000,2,    78.2,2,  158.75,2,   41.29,2,    0.00,2,    2.91,2,   0.007,2,   0.004,2,   0.000,2,  2371.8,2,  2421.7,2,-999.000,9,-999.0000,9, -999.00,9, -999.00,9,  -999.0,9,  -999.0,-999.000,9,-999.000, -999.00,9, 1992.00,-999.0000,9,-999.0000,9,-999.0000,9,-999.0000,9,-999.0000,9,-999.0000,-999.000,-999.0000,9, -999.00
318M20040615,        P02,     165,          1,         10,         10,2,20040821,       1340,    29.9983,  -127.8033,       4554,  2193.6,   1.9914,  34.6335,2,  34.6335,2,  87.5000,2,    87.8,2,  161.68,2,   40.74,2,    0.00,2,    2.86,2,-999.000,9,-999.000,9,-999.000,9,  2369.8,2,  2425.1,2,-999.000,9,-999.0000,9, -999.00,9, -999.00,9,  -999.0,9,  -999.0,-999.000,9,-999.000,   36.10,2, 2193.60,   0.0760,2,   0.1790,2,   0.0130,2,   0.1310,2,   0.0140,2,-999.0000,-999.000,   0.0560,2, -999.00
318M20040615,        P02,     165,          1,          9,          9,2,20040821,       1340,    29.9983,  -127.8033,       4554,  2451.7,   1.8407,  34.6477,2,  34.6482,2,  98.0000,2,    98.5,2,  163.55,2,   39.98,2,    0.00,2,    2.80,2,-999.000,9,-999.000,9,-999.000,9,  2366.5,2,  2429.5,2,-999.000,9,-999.0000,9, -999.00,9, -999.00,9,  -999.0,9,  -999.0,-999.000,9,-999.000, -999.00,9, 2451.70,-999.0000,9,-999.0000,9,-999.0000,9,-999.0000,9,-999.0000,9,-999.0000,-999.000,-999.0000,9, -999.00
318M20040615,        P02,     165,          1,          8,          8,2,20040821,       1340,    29.9983,  -127.8033,       4554,  2709.7,   1.7060,  34.6572,2,  34.6567,2, 106.7000,2,   107.8,2,  167.73,2,   39.27,2,    0.00,2,    2.74,2,-999.000,9,-999.000,9,-999.000,9,  2362.1,2,  2431.5,2,-999.000,9,-999.0000,9, -999.00,9, -999.00,9,  -999.0,9,  -999.0,-999.000,9,-999.000, -999.00,9, 2709.70,-999.0000,9,-999.0000,9,-999.0000,9,-999.0000,9,-999.0000,9,-999.0000,-999.000,-999.0000,9, -999.00
318M20040615,        P02,     165,          1,          7,          7,2,20040821,       1340,    29.9983,  -127.8033,       4554,  2958.5,   1.6180,  34.6642,2,  34.6643,2, 114.0000,2,   114.6,2,  170.07,2,   38.79,2,    0.00,2,    2.71,2,   0.011,2,   0.008,2,   0.000,2,  2358.7,2,  2432.7,2,-999.000,9,-999.0000,9, -999.00,9, -999.00,9,  -999.0,9,  -999.0,-999.000,9,-999.000,   35.60,2, 2958.50,-999.0000,9,-999.0000,9,-999.0000,9,-999.0000,9,-999.0000,9,-999.0000,-999.000,-999.0000,9, -999.00
318M20040615,        P02,     165,          1,          6,          6,2,20040821,       1340,    29.9983,  -127.8033,       4554,  3211.6,   1.5640,  34.6703,2,  34.6706,2, 120.2000,2,   121.2,2,  170.02,2,   38.29,2,    0.00,2,    2.67,2,-999.000,9,-999.000,9,-999.000,9,  2355.1,2,  2434.3,2,-999.000,9,-999.0000,9, -999.00,9, -999.00,9,  -999.0,9,  -999.0,-999.000,9,-999.000,   35.90,2, 3211.60,   0.0600,2,   0.1580,2,   0.0150,2,   0.1140,2,   0.0160,2,-999.0000,-999.000,   0.0420,2, -999.00
318M20040615,        P02,     165,          1,          5,          5,2,20040821,       1340,    29.9983,  -127.8033,       4554,  3472.8,   1.5261,  34.6758,2,  34.6761,2, 126.8000,2,   127.8,2,  169.38,2,   37.87,2,    0.00,2,    2.64,2,   0.012,2,   0.010,2,   0.000,2,  2350.5,2,  2434.4,2,-999.000,9,-999.0000,9, -999.00,9, -999.00,9,  -999.0,9,  -999.0,-999.000,9,-999.000, -999.00,9, 3472.80,-999.0000,9,-999.0000,9,-999.0000,9,-999.0000,9,-999.0000,9,-999.0000,-999.000,-999.0000,9, -999.00
318M20040615,        P02,     165,          1,          4,          4,2,20040821,       1340,    29.9983,  -127.8033,       4554,  3731.0,   1.5074,  34.6802,2,  34.6820,2, 133.6000,2,   133.9,2,  167.04,2,   37.55,2,    0.00,2,    2.59,2,-999.000,9,-999.000,9,-999.000,9,  2346.2,2,  2433.6,2,-999.000,9,-999.0000,9, -999.00,9, -999.00,9,  -999.0,9,  -999.0,-999.000,9,-999.000, -999.00,9, 3731.00,-999.0000,9,-999.0000,9,-999.0000,9,-999.0000,9,-999.0000,9,-999.0000,-999.000,-999.0000,9, -999.00
318M20040615,        P02,     165,          1,          3,          3,2,20040821,       1340,    29.9983,  -127.8033,       4554,  3982.3,   1.5096,  34.6828,2,  34.6828,2, 137.7000,2,   138.6,2,  165.11,2,   37.50,2,    0.00,2,    2.57,2,   0.012,2,   0.011,2,   0.000,2,  2343.6,2,  2431.9,6,-999.000,9,-999.0000,9, -999.00,9, -999.00,9,  -999.0,9,  -999.0,-999.000,9,-999.000,   35.40,2, 3982.30,-999.0000,9,-999.0000,9,-999.0000,9,-999.0000,9,-999.0000,9,-999.0000,-999.000,-999.0000,9, -999.00
318M20040615,        P02,     165,          1,          2,          2,2,20040821,       1340,    29.9983,  -127.8033,       4554,  4323.5,   1.5343,  34.6846,2,  34.6848,2, 140.6000,2,   141.1,2,  163.81,2,   37.45,2,    0.00,2,    2.56,2,   0.014,2,   0.021,2,   0.000,2,  2341.6,6,  2433.3,2,-999.000,9,-999.0000,9, -999.00,9, -999.00,9,  -999.0,9,  -999.0,-999.000,9,-999.000,   36.30,2, 4323.50,-999.0000,9,-999.0000,9,-999.0000,9,-999.0000,9,-999.0000,9,-999.0000,-999.000,-999.0000,9, -999.00
318M20040615,        P02,     165,          1,          1,          1,2,20040821,       1340,    29.9983,  -127.8033,       4554,  4620.4,   1.5673,  34.6848,2,  34.6859,2, 141.5000,2,   142.0,2,  163.15,2,   37.34,2,    0.00,2,    2.55,2,   0.014,2,   0.016,2,   0.000,2,  2340.2,2,  2434.3,6,-999.000,9,-999.0000,9, -999.00,9, -999.00,9,  -999.0,9,  -999.0,-999.000,9,-999.000,   38.10,2, 4620.40,-999.0000,9,-999.0000,9,-999.0000,9,-999.0000,9,-999.0000,9,-999.0000,-999.000,-999.0000,9, -999.00