BOTTLE,20131027SIOCCHRJL
EXPOCODE,SECT_ID,STNNBR,CASTNO,SAMPNO,BTLNBR,BTLNBR_FLAG_W,DATE,TIME,LATITUDE,LONGITUDE,DEPTH,CTDPRS,CTDTMP,CTDSAL,CTDSAL_FLAG_W,SALNTY,SALNTY_FLAG_W,CTDOXY,CTDOXY_FLAG_W,OXYGEN,OXYGEN_FLAG_W,SILCAT,SILCAT_FLAG_W,NITRAT,NITRAT_FLAG_W,NITRIT,NITRIT_FLAG_W,PHSPHT,PHSPHT_FLAG_W,CFC-11,CFC-11_FLAG_W,CFC-12,CFC-12_FLAG_W,CFC113,CFC113_FLAG_W,TCARBN,TCARBN_FLAG_W,ALKALI,ALKALI_FLAG_W,TRITUM,TRITUM_FLAG_W,HELIUM,HELIUM_FLAG_W,DELHE3,DELHE3_FLAG_W,DELC13,DELC13_FLAG_W,DELC14,DELC14_FLAG_W,C14ERR,NEON,NEON_FLAG_W,NEONER,DOC,DOC_FLAG_W,CTDRAW,CDOM380,CDOM380_FLAG_W,CDOM325,CDOM325_FLAG_W,CDOMSL,CDOMSL_FLAG_W,CDOM340,CDOM340_FLAG_W,CDOMSN,CDOMSN_FLAG_W,HELIER,TRITER,CDOM412,CDOM412_FLAG_W,DELHER
,,,,,,,,,,,METERS,DBAR,ITS-90,PSS-78,,PSS-78,,UMOL/KG,,UMOL/KG,,UMOL/KG,,UMOL/KG,,UMOL/KG,,UMOL/KG,,PMOL/KG,,PMOL/KG,,PMOL/KG,,UMOL/KG,,UMOL/KG,,TU,,NMOL/KG,,PERCNT,,/MILLE,,/MILLE,,/MILLE,NMOL/KG,,NMOL/KG,UMOL/KG,,DBAR,1/M,,1/M,,1/NM,,1/M,,1/NM,,NMOL/KG,TU,1/M,,PERCNT
318M20040615,        P02,     141,          1,         36,         36,2,20040814,       1444,    29.9993,   -143.644,       5171,     6.5,  24.7607,  35.3529,2,  35.3539,2, 214.6000,2,   213.3,2,    1.15,2,    0.16,2,    0.00,2,    0.02,2,   1.867,2,   1.173,2,   0.138,2,  2015.5,6,  2325.9,6,-999.000,9,-999.0000,9, -999.00,9,    1.19,2,    60.2,2,     4.7,-999.000,9,-999.000,   69.20,2,    6.50,   0.0090,2,   0.0520,2,   0.0320,2,   0.0320,2,   0.0320,2,-999.0000,-999.000,   0.0040,2, -999.00
318M20040615,        P02,     141,          1,         35,         35,2,20040814,       1444,    29.9993,   -143.644,       5171,    40.8,  22.5201,  35.0702,2,  35.0441,2, 233.3000,2,   233.7,2,    1.53,2,    0.15,2,    0.00,2,    0.02,2,   2.192,6,   1.341,6,   0.148,6,  2007.3,2,  2307.6,2,-999.000,9,-999.0000,9, -999.00,9,    1.24,2,    80.0,6,     3.7,-999.000,9,-999.000,   77.30,3,   40.80,   0.0200,2,   0.0800,2,   0.0260,2,   0.0520,2,   0.0270,2,-999.0000,-999.000,   0.0100,2, -999.00
318M20040615,        P02,     141,          1,         34,         34,2,20040814,       1444,    29.9993,   -143.644,       5171,    85.9,  18.3339,  34.6482,2,  34.6470,2, 241.3000,2,   240.2,2,    2.29,2,    0.15,2,    0.00,2,    0.07,2,-999.000,9,-999.000,9,-999.000,9,  2011.8,2,  2282.1,2,-999.000,9,-999.0000,9, -999.00,9,    1.16,2,    56.8,2,     3.9,-999.000,9,-999.000,   64.80,2,   85.90,   0.0430,2,   0.1410,2,   0.0210,2,   0.1010,2,   0.0210,2,-999.0000,-999.000,   0.0250,2, -999.00
318M20040615,        P02,     141,          1,         33,         33,2,20040814,       1444,    29.9993,   -143.644,       5171,   135.6,  15.7949,  34.3418,2,  34.3388,2, 236.0000,2,   236.0,2,    3.24,2,    0.43,2,    0.18,2,    0.18,2,   2.827,2,   1.644,2,   0.187,2,  2021.6,2,  2263.0,2,-999.000,9,-999.0000,9, -999.00,9,    1.04,2,    58.9,2,     5.2,-999.000,9,-999.000,   58.00,2,  135.60,   0.0430,2,   0.1230,2,   0.0180,2,   0.0900,2,   0.0190,2,-999.0000,-999.000,   0.0270,2, -999.00
318M20040615,        P02,     141,          1,         32,         32,2,20040814,       1444,    29.9993,   -143.644,       5171,   185.3,  12.9711,  34.1473,2,  34.1487,2, 224.0000,2,   225.3,2,    6.54,2,    6.79,2,    0.01,2,    0.55,2,-999.000,9,-999.000,9,-999.000,9,  2052.5,2,  2251.5,2,-999.000,9,-999.0000,9, -999.00,9,    0.72,2,    66.9,2,     5.0,-999.000,9,-999.000,   52.40,2,  185.30,   0.0610,2,   0.1490,2,   0.0130,2,   0.1120,2,   0.0140,2,-999.0000,-999.000,   0.0450,2, -999.00
318M20040615,        P02,     141,          1,         31,         31,2,20040814,       1444,    29.9993,   -143.644,       5171,   235.3,  11.5974,  34.0716,2,  34.0737,2, 225.2000,2,   226.8,2,    9.64,2,    9.98,2,    0.00,2,    0.74,2,   3.379,2,   1.893,2,   0.109,2,  2068.2,2,  2251.4,2,-999.000,9,-999.0000,9, -999.00,9,    0.62,2,    55.5,2,     4.8,-999.000,9,-999.000,   49.50,2,  235.30,   0.0720,2,   0.1800,2,   0.0130,2,   0.1350,2,   0.0150,2,-999.0000,-999.000,   0.0520,2, -999.00
318M20040615,        P02,     141,          1,         30,         30,2,20040814,       1444,    29.9993,   -143.644,       5171,   290.0,  10.3583,  34.0892,2,  34.0905,2, 217.2000,2,   220.1,2,   15.09,2,   13.96,2,    0.00,2,    1.00,2,-999.000,9,-999.000,9,-999.000,9,  2094.4,2,  2257.9,2,-999.000,9,-999.0000,9, -999.00,9,    0.50,2,    35.9,2,     5.2,-999.000,9,-999.000,   46.70,2,  290.00,   0.0460,2,   0.1270,2,   0.0150,2,   0.0910,2,   0.0170,2,-999.0000,-999.000,   0.0330,2, -999.00
318M20040615,        P02,     141,          1,         29,         29,2,20040814,       1444,    29.9993,   -143.644,       5171,   339.7,   9.4410,  34.0878,2,  34.0882,2, 204.2000,2,   205.7,2,   21.13,2,   17.35,2,    0.00,2,    1.21,2,   3.389,2,   1.817,2,   0.104,2,  2116.3,2,  2263.9,2,-999.000,9,-999.0000,9, -999.00,9,    0.36,2,    14.0,2,     4.4,-999.000,9,-999.000,   46.10,2,  339.70,   0.0860,2,   0.1990,2,   0.0120,2,   0.1520,2,   0.0130,2,-999.0000,-999.000,   0.0630,2, -999.00
318M20040615,        P02,     141,          1,         28,         28,2,20040814,       1444,    29.9993,   -143.644,       5171,   389.9,   8.6087,  34.0755,2,  34.0770,2, 184.3000,2,   183.8,2,   28.95,2,   21.22,2,    0.00,2,    1.48,2,-999.000,9,-999.000,9,-999.000,9,  2145.0,2,  2270.1,2,-999.000,9,-999.0000,9, -999.00,9,    0.23,2,    15.7,2,     4.2,-999.000,9,-999.000,   45.50,2,  389.90,   0.0800,2,   0.1880,2,   0.0120,2,   0.1410,2,   0.0140,2,-999.0000,-999.000,   0.0580,2, -999.00
318M20040615,        P02,     141,          1,         27,         27,2,20040814,       1444,    29.9993,   -143.644,       5171,   444.7,   7.5158,  34.0210,2,  34.0207,2, 151.4000,2,   150.1,2,   39.93,2,   26.58,2,    0.00,2,    1.86,2,   2.910,2,   1.382,2,   0.123,2,  2183.7,2,  2274.6,2,-999.000,9,-999.0000,9, -999.00,9, -999.00,9,  -999.0,9,  -999.0,-999.000,9,-999.000, -999.00,9,  444.70,-999.0000,9,-999.0000,9,-999.0000,9,-999.0000,9,-999.0000,9,-999.0000,-999.000,-999.0000,9, -999.00
318M20040615,        P02,     141,          1,         26,         26,2,20040814,       1444,    29.9993,   -143.644,       5171,   494.2,   6.4327,  33.9908,2,  33.9937,2, 131.7000,2,   128.0,2,   51.72,2,   30.63,2,    0.00,2,    2.16,2,-999.000,9,-999.000,9,-999.000,9,  2215.9,2,  2281.7,2,-999.000,9,-999.0000,9, -999.00,9,   -0.05,2,   -45.4,2,     3.8,-999.000,9,-999.000,   44.60,2,  494.20,   0.0820,2,   0.1990,2,   0.0130,2,   0.1460,2,   0.0140,2,-999.0000,-999.000,   0.0620,2, -999.00
318M20040615,        P02,     141,          1,         25,         25,2,20040814,       1444,    29.9993,   -143.644,       5171,   578.3,   5.2210,  34.0107,2,  34.0112,2,  86.9000,2,    83.9,2,   71.87,2,   36.74,2,    0.00,2,    2.61,2,   1.218,2,   0.598,2,   0.032,2,  2266.6,2,  2299.8,2,-999.000,9,-999.0000,9, -999.00,9, -999.00,5,  -999.0,5,  -999.0,-999.000,9,-999.000, -999.00,9,  578.30,-999.0000,9,-999.0000,9,-999.0000,9,-999.0000,9,-999.0000,9,-999.0000,-999.000,-999.0000,9, -999.00
318M20040615,        P02,     141,          1,         24,         24,2,20040814,       1444,    29.9993,   -143.644,       5171,   679.3,   4.6478,  34.1332,2,  34.1332,2,  34.7000,2,    33.0,2,   91.12,2,   41.88,2,    0.00,2,    2.99,2,   0.296,2,   0.152,2,   0.000,2,  2317.6,2,  2321.4,2,-999.000,9,-999.0000,9, -999.00,9,   -0.40,2,  -134.1,2,     3.7,-999.000,9,-999.000,   42.40,2,  679.30,   0.0970,2,   0.2260,2,   0.0130,2,   0.1670,2,   0.0130,2,-999.0000,-999.000,   0.0740,2, -999.00
318M20040615,        P02,     141,          1,         23,         23,2,20040814,       1444,    29.9993,   -143.644,       5171,   778.9,   4.3120,  34.2260,2,  34.2266,2,  16.4000,2,    16.9,2,  103.45,2,   43.68,2,    0.00,2,    3.13,2,   0.087,6,   0.045,6,   0.000,6,  2342.5,2,  2338.7,2,-999.000,9,-999.0000,9, -999.00,9,   -0.44,2,  -162.0,2,     3.6,-999.000,9,-999.000,   38.70,2,  778.90,-999.0000,9,-999.0000,9,-999.0000,9,-999.0000,9,-999.0000,9,-999.0000,-999.000,-999.0000,9, -999.00
318M20040615,        P02,     141,          1,         22,         22,2,20040814,       1444,    29.9993,   -143.644,       5171,   877.4,   3.9870,  34.3229,2,  34.3240,2,  11.7000,2,    11.8,2,  114.82,2,   44.38,2,    0.00,2,    3.19,2,   0.021,2,   0.011,2,   0.000,2,  2357.6,2,  2354.0,2,-999.000,9,-999.0000,9, -999.00,9, -999.00,9,  -999.0,9,  -999.0,-999.000,9,-999.000,   38.10,2,  877.40,   0.1420,2,   0.2890,2,   0.0110,2,   0.2240,2,   0.0110,2,-999.0000,-999.000,   0.1120,2, -999.00
318M20040615,        P02,     141,          1,         21,         21,2,20040814,       1444,    29.9993,   -143.644,       5171,   974.5,   3.7816,  34.3966,2,  34.3972,2,  14.7000,2,    15.3,2,  120.80,2,   44.32,2,    0.00,2,    3.20,2,   0.025,2,   0.011,2,   0.000,2,  2364.5,2,  2367.9,2,-999.000,9,-999.0000,9, -999.00,9,   -0.41,2,  -205.6,2,     4.0,-999.000,9,-999.000, -999.00,9,  974.50,-999.0000,9,-999.0000,9,-999.0000,9,-999.0000,9,-999.0000,9,-999.0000,-999.000,-999.0000,9, -999.00
318M20040615,        P02,     141,          1,         20,         20,2,20040814,       1444,    29.9993,   -143.644,       5171,  1076.6,   3.5353,  34.4467,2,  34.4493,2,  22.1000,2,    23.0,2,  127.00,2,   44.04,2,    0.00,2,    3.17,2,   0.016,2,   0.012,2,   0.000,2,  2368.5,2,  2377.2,2,-999.000,9,-999.0000,9, -999.00,9, -999.00,9,  -999.0,9,  -999.0,-999.000,9,-999.000,   38.20,2, 1076.60,   0.1930,2,   0.3730,2,   0.0100,2,   0.2950,2,   0.0100,2,-999.0000,-999.000,   0.1550,2, -999.00
318M20040615,        P02,     141,          1,         19,         19,2,20040814,       1444,    29.9993,   -143.644,       5171,  1185.0,   3.2927,  34.4929,2,  34.4934,2,  31.9000,2,    31.4,2,  131.78,2,   43.59,2,    0.00,2,    3.13,2,   0.012,2,   0.009,2,   0.000,2,  2368.7,2,  2386.3,2,-999.000,9,-999.0000,9, -999.00,9,   -0.31,2,  -217.8,2,     3.3,-999.000,9,-999.000, -999.00,9, 1185.00,-999.0000,9,-999.0000,9,-999.0000,9,-999.0000,9,-999.0000,9,-999.0000,-999.000,-999.0000,9, -999.00
318M20040615,        P02,     141,          1,         18,         18,2,20040814,       1444,    29.9993,   -143.644,       5171,  1282.8,   3.0835,  34.5179,2,  34.5199,2,  39.6000,2,    40.0,2,  136.39,2,   43.14,2,    0.00,2,    3.09,2,-999.000,9,-999.000,9,-999.000,9,  2367.9,2,  2393.3,6,-999.000,9,-999.0000,9, -999.00,9, -999.00,9,  -999.0,9,  -999.0,-999.000,9,-999.000,   36.80,2, 1282.80,-999.0000,9,-999.0000,9,-999.0000,9,-999.0000,9,-999.0000,9,-999.0000,-999.000,-999.0000,9, -999.00
318M20040615,        P02,     141,          1,         17,         17,2,20040814,       1444,    29.9993,   -143.644,       5171,  1382.5,   2.8897,  34.5396,2,  34.5410,2,  46.4000,2,    45.9,2,  141.01,2,   42.77,2,    0.00,2,    3.09,2,   0.010,2,   0.006,2,   0.000,2,  2370.4,2,  2397.3,2,-999.000,9,-999.0000,9, -999.00,9,   -0.27,2,  -241.2,2,     3.5,-999.000,9,-999.000, -999.00,9, 1382.50,-999.0000,9,-999.0000,9,-999.0000,9,-999.0000,9,-999.0000,9,-999.0000,-999.000,-999.0000,9, -999.00
318M20040615,        P02,     141,          1,         16,         16,2,20040814,       1444,    29.9993,   -143.644,       5171,  1484.8,   2.7055,  34.5568,2,  34.5584,2,  52.6000,2,    52.4,2,  145.42,2,   42.27,2,    0.00,2,    3.02,2,-999.000,9,-999.000,9,-999.000,9,  2369.7,2,  2403.3,2,-999.000,9,-999.0000,9, -999.00,9, -999.00,9,  -999.0,9,  -999.0,-999.000,9,-999.000, -999.00,9, 1484.80,-999.0000,9,-999.0000,9,-999.0000,9,-999.0000,9,-999.0000,9,-999.0000,-999.000,-999.0000,9, -999.00
318M20040615,        P02,     141,          1,         15,         15,2,20040814,       1444,    29.9993,   -143.644,       5171,  1585.4,   2.5426,  34.5725,2,  34.5734,2,  58.7000,2,    58.3,2,  149.02,2,   42.10,2,    0.00,2,    3.00,2,   0.007,2,   0.003,2,   0.000,2,  2371.1,2,  2407.4,2,-999.000,9,-999.0000,9, -999.00,9, -999.00,9,  -999.0,9,  -999.0,-999.000,9,-999.000,   37.00,2, 1585.40,-999.0000,9,-999.0000,9,-999.0000,9,-999.0000,9,-999.0000,9,-999.0000,-999.000,-999.0000,9, -999.00
318M20040615,        P02,     141,          1,         14,         14,2,20040814,       1444,    29.9993,   -143.644,       5171,  1792.1,   2.2505,  34.5979,2,  34.5993,2,  68.9000,2,    68.8,2,  157.29,2,   41.66,2,    0.00,2,    2.95,2,-999.000,9,-999.000,9,-999.000,9,  2373.2,2,  2416.7,2,-999.000,9,-999.0000,9, -999.00,9, -999.00,9,  -999.0,9,  -999.0,-999.000,9,-999.000, -999.00,9, 1792.10,-999.0000,9,-999.0000,9,-999.0000,9,-999.0000,9,-999.0000,9,-999.0000,-999.000,-999.0000,9, -999.00
318M20040615,        P02,     141,          1,         13,         13,2,20040814,       1444,    29.9993,   -143.644,       5171,  1994.1,   2.0443,  34.6163,2,  34.6172,2,  78.8000,2,    77.8,2,  162.72,2,   41.27,2,    0.00,2,    2.89,2,   0.010,2,   0.006,2,   0.000,2,  2372.4,2,  2421.4,2,-999.000,9,-999.0000,9, -999.00,9, -999.00,9,  -999.0,9,  -999.0,-999.000,9,-999.000, -999.00,9, 1994.10,-999.0000,9,-999.0000,9,-999.0000,9,-999.0000,9,-999.0000,9,-999.0000,-999.000,-999.0000,9, -999.00
318M20040615,        P02,     141,          1,         12,         12,2,20040814,       1444,    29.9993,   -143.644,       5171,  2195.5,   1.8751,  34.6325,2,  34.6339,2,  87.9000,2,    88.1,2,  166.33,2,   40.88,2,    0.00,2,    2.84,2,-999.000,9,-999.000,9,-999.000,9,  2369.3,2,  2426.0,2,-999.000,9,-999.0000,9, -999.00,9, -999.00,9,  -999.0,9,  -999.0,-999.000,9,-999.000,   36.40,2, 2195.50,   0.0940,2,   0.2120,2,   0.0120,2,   0.1570,2,   0.0130,2,-999.0000,-999.000,   0.0720,2, -999.00
318M20040615,        P02,     141,          1,         11,         11,2,20040814,       1444,    29.9993,   -143.644,       5171,  2452.3,   1.7251,  34.6470,2,  34.6480,2,  98.5000,2,   100.1,2,  168.31,2,   40.00,2,    0.00,2,    2.77,2,   0.008,2,   0.005,2,   0.000,2,  2365.4,2,  2428.7,2,-999.000,9,-999.0000,9, -999.00,9, -999.00,9,  -999.0,9,  -999.0,-999.000,9,-999.000, -999.00,9, 2452.30,-999.0000,9,-999.0000,9,-999.0000,9,-999.0000,9,-999.0000,9,-999.0000,-999.000,-999.0000,9, -999.00
318M20040615,        P02,     141,          1,         10,         10,2,20040814,       1444,    29.9993,   -143.644,       5171,  2703.7,   1.6362,  34.6565,2,  34.6574,2, 108.1000,2,   109.3,2,  168.49,2,   39.35,2,    0.00,2,    2.73,2,-999.000,9,-999.000,9,-999.000,9,  2359.9,2,  2429.5,2,-999.000,9,-999.0000,9, -999.00,9, -999.00,9,  -999.0,9,  -999.0,-999.000,9,-999.000, -999.00,9, 2703.70,-999.0000,9,-999.0000,9,-999.0000,9,-999.0000,9,-999.0000,9,-999.0000,-999.000,-999.0000,9, -999.00
318M20040615,        P02,     141,          1,          9,          9,2,20040814,       1444,    29.9993,   -143.644,       5171,  2962.3,   1.5632,  34.6652,2,  34.6657,2, 117.6000,2,   118.2,2,  167.21,2,   38.64,2,    0.00,2,    2.67,2,   0.007,2,   0.005,2,   0.000,2,  2355.0,2,  2428.1,2,-999.000,9,-999.0000,9, -999.00,9, -999.00,9,  -999.0,9,  -999.0,-999.000,9,-999.000,   37.10,2, 2962.30,-999.0000,9,-999.0000,9,-999.0000,9,-999.0000,9,-999.0000,9,-999.0000,-999.000,-999.0000,9, -999.00
318M20040615,        P02,     141,          1,          8,          8,2,20040814,       1444,    29.9993,   -143.644,       5171,  3276.7,   1.5061,  34.6735,2,  34.6745,2, 127.8000,2,   128.9,2,  164.72,2,   37.81,2,    0.00,2,    2.61,2,-999.000,9,-999.000,9,-999.000,9,  2347.8,2,  2429.7,2,-999.000,9,-999.0000,9, -999.00,9, -999.00,9,  -999.0,9,  -999.0,-999.000,9,-999.000,   37.90,2, 3276.70,   0.0710,2,   0.1740,2,   0.0130,2,   0.1260,2,   0.0140,2,-999.0000,-999.000,   0.0530,2, -999.00
318M20040615,        P02,     141,          1,          7,          7,2,20040814,       1444,    29.9993,   -143.644,       5171,  3605.6,   1.4778,  34.6798,2,  34.6822,2, 136.9000,2,   137.5,2,  161.67,2,   37.28,2,    0.00,2,    2.56,2,   0.008,2,   0.005,2,   0.000,2,  2342.5,2,  2427.5,2,-999.000,9,-999.0000,9, -999.00,9, -999.00,9,  -999.0,9,  -999.0,-999.000,9,-999.000, -999.00,9, 3605.60,-999.0000,9,-999.0000,9,-999.0000,9,-999.0000,9,-999.0000,9,-999.0000,-999.000,-999.0000,9, -999.00
318M20040615,        P02,     141,          1,          6,          6,2,20040814,       1444,    29.9993,   -143.644,       5171,  3859.2,   1.4706,  34.6835,2,  34.6844,2, 142.7000,2,   143.0,2,  159.21,2,   36.84,2,    0.00,2,    2.54,2,   0.010,2,   0.004,2,   0.000,2,  2338.4,2,  2429.1,2,-999.000,9,-999.0000,9, -999.00,9, -999.00,9,  -999.0,9,  -999.0,-999.000,9,-999.000,   37.90,2, 3859.20,-999.0000,9,-999.0000,9,-999.0000,9,-999.0000,9,-999.0000,9,-999.0000,-999.000,-999.0000,9, -999.00
318M20040615,        P02,     141,          1,          5,          5,2,20040814,       1444,    29.9993,   -143.644,       5171,  4168.9,   1.4796,  34.6862,2,  34.6871,2, 147.0000,2,   147.6,2,  156.94,2,   36.51,2,    0.00,2,    2.52,2,   0.010,2,   0.006,2,   0.000,2,  2333.2,2,  2426.8,2,-999.000,9,-999.0000,9, -999.00,9, -999.00,9,  -999.0,9,  -999.0,-999.000,9,-999.000,   36.50,2, 4168.90,-999.0000,9,-999.0000,9,-999.0000,9,-999.0000,9,-999.0000,9,-999.0000,-999.000,-999.0000,9, -999.00
318M20040615,        P02,     141,          1,          4,          4,2,20040814,       1444,    29.9993,   -143.644,       5171,  4479.3,   1.4959,  34.6882,2,  34.6893,2, 151.0000,2,   151.4,2,  153.87,2,   36.29,2,    0.00,2,    2.49,2,   0.008,2,   0.008,2,   0.000,2,  2329.7,2,  2426.5,2,-999.000,9,-999.0000,9, -999.00,9, -999.00,9,  -999.0,9,  -999.0,-999.000,9,-999.000, -999.00,9, 4479.30,-999.0000,9,-999.0000,9,-999.0000,9,-999.0000,9,-999.0000,9,-999.0000,-999.000,-999.0000,9, -999.00
318M20040615,        P02,     141,          1,          3,          3,2,20040814,       1444,    29.9993,   -143.644,       5171,  4784.5,   1.5188,  34.6895,2,  34.6910,2, 153.9000,2,   153.9,2,  151.42,2,   36.28,2,    0.00,2,    2.48,2,   0.012,2,   0.011,2,   0.000,2,  2327.3,2,  2424.1,2,-999.000,9,-999.0000,9, -999.00,9, -999.00,9,  -999.0,9,  -999.0,-999.000,9,-999.000,   38.60,3, 4784.50,-999.0000,9,-999.0000,9,-999.0000,9,-999.0000,9,-999.0000,9,-999.0000,-999.000,-999.0000,9, -999.00
318M20040615,        P02,     141,          1,          2,          2,2,20040814,       1444,    29.9993,   -143.644,       5171,  5095.8,   1.5493,  34.6901,2,  34.6906,2, 155.5000,2,   156.0,2,  149.76,2,   36.23,2,    0.00,2,    2.47,2,   0.010,2,   0.011,2,   0.000,2,  2325.7,2,  2423.8,2,-999.000,9,-999.0000,9, -999.00,9, -999.00,9,  -999.0,9,  -999.0,-999.000,9,-999.000,   39.50,3, 5095.80,-999.0000,9,-999.0000,9,-999.0000,9,-999.0000,9,-999.0000,9,-999.0000,-999.000,-999.0000,9, -999.00
318M20040615,        P02,     141,          1,          1,          1,2,20040814,       1444,    29.9993,   -143.644,       5171,  5279.3,   1.5721,  34.6901,2,  34.6918,2, 155.8000,2,   156.5,2,  149.32,2,   36.22,2,    0.00,2,    2.47,2,   0.014,2,   0.010,2,   0.000,2,  2325.7,6,  2424.2,6,-999.000,9,-999.0000,9, -999.00,9, -999.00,9,  -999.0,9,  -999.0,-999.000,9,-999.000, -999.00,9, 5279.30,-999.0000,9,-999.0000,9,-999.0000,9,-999.0000,9,-999.0000,9,-999.0000,-999.000,-999.0000,9, -999.00