BOTTLE,20131027SIOCCHRJL
EXPOCODE,SECT_ID,STNNBR,CASTNO,SAMPNO,BTLNBR,BTLNBR_FLAG_W,DATE,TIME,LATITUDE,LONGITUDE,DEPTH,CTDPRS,CTDTMP,CTDSAL,CTDSAL_FLAG_W,SALNTY,SALNTY_FLAG_W,CTDOXY,CTDOXY_FLAG_W,OXYGEN,OXYGEN_FLAG_W,SILCAT,SILCAT_FLAG_W,NITRAT,NITRAT_FLAG_W,NITRIT,NITRIT_FLAG_W,PHSPHT,PHSPHT_FLAG_W,CFC-11,CFC-11_FLAG_W,CFC-12,CFC-12_FLAG_W,CFC113,CFC113_FLAG_W,TCARBN,TCARBN_FLAG_W,ALKALI,ALKALI_FLAG_W,TRITUM,TRITUM_FLAG_W,HELIUM,HELIUM_FLAG_W,DELHE3,DELHE3_FLAG_W,DELC13,DELC13_FLAG_W,DELC14,DELC14_FLAG_W,C14ERR,NEON,NEON_FLAG_W,NEONER,DOC,DOC_FLAG_W,CTDRAW,CDOM380,CDOM380_FLAG_W,CDOM325,CDOM325_FLAG_W,CDOMSL,CDOMSL_FLAG_W,CDOM340,CDOM340_FLAG_W,CDOMSN,CDOMSN_FLAG_W,HELIER,TRITER,CDOM412,CDOM412_FLAG_W,DELHER
,,,,,,,,,,,METERS,DBAR,ITS-90,PSS-78,,PSS-78,,UMOL/KG,,UMOL/KG,,UMOL/KG,,UMOL/KG,,UMOL/KG,,UMOL/KG,,PMOL/KG,,PMOL/KG,,PMOL/KG,,UMOL/KG,,UMOL/KG,,TU,,NMOL/KG,,PERCNT,,/MILLE,,/MILLE,,/MILLE,NMOL/KG,,NMOL/KG,UMOL/KG,,DBAR,1/M,,1/M,,1/NM,,1/M,,1/NM,,NMOL/KG,TU,1/M,,PERCNT
318M20040615,        P02,      36,          1,         36,         36,2,20040628,       2117,     30.004,   146.6465,       6166,     7.2,  27.6900,  34.8917,2,  34.8922,2, 204.5000,2,   203.1,2,    1.37,2,    0.16,2,    0.00,2,    0.01,2,   1.728,2,   1.069,2,   0.121,2,  1974.8,6,  2290.1,6,-999.000,9,-999.0000,9, -999.00,9, -999.00,9,  -999.0,9,  -999.0,-999.000,9,-999.000,   68.10,2,    7.20,   0.0110,2,   0.0550,2,   0.0300,2,   0.0350,2,   0.0300,2,-999.0000,-999.000,   0.0070,2, -999.00
318M20040615,        P02,      36,          1,         35,         35,2,20040628,       2117,     30.004,   146.6465,       6166,    41.2,  22.6466,  34.8930,2,  34.8892,2, 229.8000,2,   231.9,2,    1.72,2,    0.16,2,    0.00,2,    0.02,2,   2.158,2,   1.309,2,   0.152,2,  1980.5,2,  2290.0,2,-999.000,9,-999.0000,9, -999.00,9, -999.00,9,  -999.0,9,  -999.0,-999.000,9,-999.000,   67.90,2,   41.20,   0.0510,3,   0.1230,3,   0.0150,3,   0.0920,3,   0.0160,3,-999.0000,-999.000,   0.0330,3, -999.00
318M20040615,        P02,      36,          1,         34,         34,2,20040628,       2117,     30.004,   146.6465,       6166,    86.5,  19.1522,  34.8918,2,  34.8868,2, 226.9000,2,   225.0,2,    2.07,2,    0.16,2,    0.00,2,    0.06,2,   2.341,2,   1.389,2,   0.122,2,  2000.6,2,  2288.4,2,-999.000,9,-999.0000,9, -999.00,9, -999.00,9,  -999.0,9,  -999.0,-999.000,9,-999.000,   59.70,2,   86.50,   0.0400,2,   0.1200,2,   0.0180,2,   0.0850,2,   0.0200,2,-999.0000,-999.000,   0.0270,2, -999.00
318M20040615,        P02,      36,          1,         33,         33,2,20040628,       2117,     30.004,   146.6465,       6166,   136.5,  17.7204,  34.8021,2,  34.8015,2, 216.6000,2,   217.0,2,    2.97,2,    2.76,2,    0.09,2,    0.22,2,   2.446,2,   1.438,2,   0.113,2,  2016.0,2,  2283.7,2,-999.000,9,-999.0000,9, -999.00,9, -999.00,9,  -999.0,9,  -999.0,-999.000,9,-999.000,   54.60,2,  136.50,   0.0290,2,   0.0910,2,   0.0220,2,   0.0650,2,   0.0220,2,-999.0000,-999.000,   0.0200,2, -999.00
318M20040615,        P02,      36,          1,         32,         32,2,20040628,       2117,     30.004,   146.6465,       6166,   186.4,  17.3005,  34.7952,2,  34.7942,2, 216.4000,2,   218.2,2,    3.32,2,    3.56,2,    0.02,2,    0.25,2,   2.493,2,   1.457,2,   0.115,2,  2018.5,2,  2283.1,2,-999.000,9,-999.0000,9, -999.00,9, -999.00,9,  -999.0,9,  -999.0,-999.000,9,-999.000,   54.00,2,  186.40,   0.0290,2,   0.0840,2,   0.0200,2,   0.0600,2,   0.0210,2,-999.0000,-999.000,   0.0200,2, -999.00
318M20040615,        P02,      36,          1,         31,         31,2,20040628,       2117,     30.004,   146.6465,       6166,   236.3,  17.0868,  34.7910,2,  34.7920,2, 218.1000,2,   219.9,2,    3.68,2,    3.82,2,    0.01,2,    0.27,2,   2.492,2,   1.474,2,   0.110,2,  2020.2,2,  2283.1,2,-999.000,9,-999.0000,9, -999.00,9, -999.00,9,  -999.0,9,  -999.0,-999.000,9,-999.000,   53.30,2,  236.30,-999.0000,9,-999.0000,9,-999.0000,9,-999.0000,9,-999.0000,9,-999.0000,-999.000,-999.0000,9, -999.00
318M20040615,        P02,      36,          1,         30,         30,2,20040628,       2117,     30.004,   146.6465,       6166,   286.3,  16.8271,  34.7695,2,  34.7705,2, 215.4000,2,   216.4,2,    4.56,2,    4.51,2,    0.01,2,    0.31,2,   2.531,6,   1.503,6,   0.102,6,  2026.1,2,  2281.6,2,-999.000,9,-999.0000,9, -999.00,9, -999.00,9,  -999.0,9,  -999.0,-999.000,9,-999.000,   52.40,2,  286.30,-999.0000,9,-999.0000,9,-999.0000,9,-999.0000,9,-999.0000,9,-999.0000,-999.000,-999.0000,9, -999.00
318M20040615,        P02,      36,          1,         29,         29,2,20040628,       2117,     30.004,   146.6465,       6166,   336.3,  16.3279,  34.7155,2,  34.7212,2, 206.6000,2,   205.2,2,    6.37,2,    6.35,2,    0.01,2,    0.44,2,   2.510,2,   1.438,2,   0.055,2,  2039.6,2,  2279.3,2,-999.000,9,-999.0000,9, -999.00,9, -999.00,9,  -999.0,9,  -999.0,-999.000,9,-999.000,   50.70,2,  336.30,-999.0000,9,-999.0000,9,-999.0000,9,-999.0000,9,-999.0000,9,-999.0000,-999.000,-999.0000,9, -999.00
318M20040615,        P02,      36,          1,         28,         28,2,20040628,       2117,     30.004,   146.6465,       6166,   391.7,  15.2860,  34.6230,2,  34.6212,2, 189.7000,2,   188.2,2,   10.71,2,    9.52,2,    0.01,2,    0.66,2,   2.503,2,   1.388,2,   0.030,2,  2065.0,2,  2278.4,2,-999.000,9,-999.0000,9, -999.00,9, -999.00,9,  -999.0,9,  -999.0,-999.000,9,-999.000,   48.90,2,  391.70,   0.0560,2,   0.1390,2,   0.0130,2,   0.1040,2,   0.0150,2,-999.0000,-999.000,   0.0410,2, -999.00
318M20040615,        P02,      36,          1,         27,         27,2,20040628,       2117,     30.004,   146.6465,       6166,   441.5,  14.1571,  34.5460,2,  34.5404,2, 182.6000,2,   181.7,2,   14.32,2,   11.90,2,    0.00,2,    0.84,2,   2.528,2,   1.406,2,   0.030,2,  2082.2,2,  2281.5,3,-999.000,9,-999.0000,9, -999.00,9, -999.00,9,  -999.0,9,  -999.0,-999.000,9,-999.000,   48.30,2,  441.50,   0.0220,2,   0.0850,2,   0.0260,2,   0.0570,2,   0.0260,2,-999.0000,-999.000,   0.0150,2, -999.00
318M20040615,        P02,      36,          1,         26,         26,2,20040628,       2117,     30.004,   146.6465,       6166,   491.7,  12.8438,  34.4528,2,  34.4483,2, 177.7000,2,   179.3,2,   18.65,2,   14.18,2,    0.00,2,    1.01,2,   2.511,2,   1.366,2,   0.037,2,  2098.8,2,  2276.1,2,-999.000,9,-999.0000,9, -999.00,9, -999.00,9,  -999.0,9,  -999.0,-999.000,9,-999.000,   47.50,2,  491.70,   0.0290,2,   0.0980,2,   0.0220,2,   0.0670,2,   0.0230,2,-999.0000,-999.000,   0.0210,2, -999.00
318M20040615,        P02,      36,          1,         25,         25,2,20040628,       2117,     30.004,   146.6465,       6166,   576.9,  10.6923,  34.3021,2,  34.2966,2, 171.8000,2,   173.3,2,   28.03,2,   18.22,2,    0.00,2,    1.31,2,   2.470,6,   1.328,6,   0.065,6,  2129.9,2,  2278.2,2,-999.000,9,-999.0000,9, -999.00,9, -999.00,9,  -999.0,9,  -999.0,-999.000,9,-999.000,   46.70,2,  576.90,   0.0410,2,   0.1230,2,   0.0180,2,   0.0860,2,   0.0200,2,-999.0000,-999.000,   0.0280,2, -999.00
318M20040615,        P02,      36,          1,         24,         24,2,20040628,       2117,     30.004,   146.6465,       6166,   672.2,   7.7839,  34.0966,2,  34.0930,2, 161.5000,2,   162.0,2,   44.45,2,   24.27,2,    0.00,2,    1.78,2,   2.434,2,   1.259,2,   0.100,2,  2175.6,2,  2282.8,2,-999.000,9,-999.0000,9, -999.00,9, -999.00,9,  -999.0,9,  -999.0,-999.000,9,-999.000,   45.20,2,  672.20,   0.0790,2,   0.1930,2,   0.0130,2,   0.1430,2,   0.0140,2,-999.0000,-999.000,   0.0580,2, -999.00
318M20040615,        P02,      36,          1,         23,         23,2,20040628,       2117,     30.004,   146.6465,       6166,   772.6,   6.0298,  34.1017,2,  34.0997,2, 120.7000,2,   118.3,2,   67.72,2,   31.42,2,    0.00,2,    2.30,2,   1.722,2,   0.871,2,   0.068,2,  2234.2,2,  2300.1,2,-999.000,9,-999.0000,9, -999.00,9, -999.00,9,  -999.0,9,  -999.0,-999.000,9,-999.000,   44.20,2,  772.60,   0.0780,2,   0.1940,2,   0.0130,2,   0.1410,2,   0.0150,2,-999.0000,-999.000,   0.0570,2, -999.00
318M20040615,        P02,      36,          1,         22,         22,2,20040628,       2117,     30.004,   146.6465,       6166,   872.8,   4.9947,  34.1543,2,  34.1514,2,  83.9000,2,    85.1,2,   88.12,2,   36.23,2,    0.00,2,    2.62,2,   1.190,2,   0.588,2,   0.049,2,  2277.7,2,  2319.5,2,-999.000,9,-999.0000,9, -999.00,9, -999.00,9,  -999.0,9,  -999.0,-999.000,9,-999.000,   43.40,2,  872.80,   0.0720,2,   0.1860,2,   0.0140,2,   0.1350,2,   0.0160,2,-999.0000,-999.000,   0.0520,2, -999.00
318M20040615,        P02,      36,          1,         21,         21,2,20040628,       2117,     30.004,   146.6465,       6166,   972.8,   4.2799,  34.2253,2,  34.2214,2,  54.9000,2,    59.8,2,  105.12,2,   39.53,2,    0.00,2,    2.85,2,   0.663,2,   0.325,2,   0.024,2,  2311.3,2,  2337.3,2,-999.000,9,-999.0000,9, -999.00,9, -999.00,9,  -999.0,9,  -999.0,-999.000,9,-999.000,   42.60,2,  972.80,   0.0750,2,   0.1870,2,   0.0140,2,   0.1360,2,   0.0150,2,-999.0000,-999.000,   0.0540,2, -999.00
318M20040615,        P02,      36,          1,         20,         20,2,20040628,       2117,     30.004,   146.6465,       6166,  1072.2,   3.7698,  34.2888,2,  34.2875,2,  44.6000,2,    45.1,2,  118.74,2,   41.40,2,    0.00,2,    2.98,2,   0.337,2,   0.162,2,   0.007,2,  2333.3,2,  2351.1,2,-999.000,9,-999.0000,9, -999.00,9, -999.00,9,  -999.0,9,  -999.0,-999.000,9,-999.000,   41.40,2, 1072.20,   0.0930,2,   0.2180,2,   0.0130,2,   0.1610,2,   0.0140,2,-999.0000,-999.000,   0.0690,2, -999.00
318M20040615,        P02,      36,          1,         19,         19,2,20040628,       2117,     30.004,   146.6465,       6166,  1174.7,   3.3956,  34.3508,2,  34.3497,2,  40.5000,2,    40.5,2,  129.32,2,   42.20,2,    0.00,2,    3.03,2,   0.191,2,   0.098,2,   0.001,2,  2349.9,6,  2364.3,2,-999.000,9,-999.0000,9, -999.00,9, -999.00,9,  -999.0,9,  -999.0,-999.000,9,-999.000,   40.40,2, 1174.70,-999.0000,9,-999.0000,9,-999.0000,9,-999.0000,9,-999.0000,9,-999.0000,-999.000,-999.0000,9, -999.00
318M20040615,        P02,      36,          1,         18,         18,2,20040628,       2117,     30.004,   146.6465,       6166,  1276.5,   3.0653,  34.4063,2,  34.4066,2,  43.3000,2,    42.9,2,  138.09,2,   42.20,2,    0.00,2,    3.03,2,   0.140,2,   0.067,2,   0.005,2,  2365.1,2,  2375.6,6,-999.000,9,-999.0000,9, -999.00,9, -999.00,9,  -999.0,9,  -999.0,-999.000,9,-999.000,   39.50,2, 1276.50,-999.0000,9,-999.0000,9,-999.0000,9,-999.0000,9,-999.0000,9,-999.0000,-999.000,-999.0000,9, -999.00
318M20040615,        P02,      36,          1,         17,         17,2,20040628,       2117,     30.004,   146.6465,       6166,  1373.6,   2.8598,  34.4454,2,  34.4454,2,  41.3000,2,    40.6,2,  144.14,2,   42.72,2,    0.00,2,    3.07,2,   0.060,2,   0.029,2,   0.003,2,  2365.2,2,  2382.6,2,-999.000,9,-999.0000,9, -999.00,9, -999.00,9,  -999.0,9,  -999.0,-999.000,9,-999.000,   39.40,2, 1373.60,-999.0000,9,-999.0000,9,-999.0000,9,-999.0000,9,-999.0000,9,-999.0000,-999.000,-999.0000,9, -999.00
318M20040615,        P02,      36,          1,         16,         16,2,20040628,       2117,     30.004,   146.6465,       6166,  1470.6,   2.6774,  34.4786,2,  34.4792,2,  40.5000,2,    42.2,2,  148.34,2,   42.72,2,    0.00,2,    3.06,2,   0.026,2,   0.012,2,  -0.002,2,  2370.1,2,  2389.9,2,-999.000,9,-999.0000,9, -999.00,9, -999.00,9,  -999.0,9,  -999.0,-999.000,9,-999.000,   38.50,2, 1470.60,-999.0000,9,-999.0000,9,-999.0000,9,-999.0000,9,-999.0000,9,-999.0000,-999.000,-999.0000,9, -999.00
318M20040615,        P02,      36,          1,         15,         15,2,20040628,       2117,     30.004,   146.6465,       6166,  1570.1,   2.4978,  34.5107,2,  34.5106,2,  47.0000,2,    48.0,2,  152.89,2,   42.59,2,    0.00,2,    3.04,2,   0.014,2,   0.007,2,   0.001,2,  2372.0,2,  2398.9,2,-999.000,9,-999.0000,9, -999.00,9, -999.00,9,  -999.0,9,  -999.0,-999.000,9,-999.000,   38.20,2, 1570.10,-999.0000,9,-999.0000,9,-999.0000,9,-999.0000,9,-999.0000,9,-999.0000,-999.000,-999.0000,9, -999.00
318M20040615,        P02,      36,          1,         14,         14,2,20040628,       2117,     30.004,   146.6465,       6166,  1768.2,   2.2105,  34.5540,2,  34.5520,2,  54.0000,2,    57.7,2,  159.73,2,   42.15,2,    0.00,2,    3.01,2,   0.007,2,   0.003,2,   0.001,2,  2374.7,2,  2403.7,2,-999.000,9,-999.0000,9, -999.00,9, -999.00,9,  -999.0,9,  -999.0,-999.000,9,-999.000,   37.80,2, 1768.20,-999.0000,9,-999.0000,9,-999.0000,9,-999.0000,9,-999.0000,9,-999.0000,-999.000,-999.0000,9, -999.00
318M20040615,        P02,      36,          1,         13,         13,2,20040628,       2117,     30.004,   146.6465,       6166,  1966.4,   2.0242,  34.5856,2,  34.5846,2,  69.5000,2,    71.6,2,  161.55,2,   41.29,2,    0.00,2,    2.93,2,   0.003,2,   0.002,2,   0.001,2,  2369.4,2,  2407.6,2,-999.000,9,-999.0000,9, -999.00,9, -999.00,9,  -999.0,9,  -999.0,-999.000,9,-999.000,   37.70,2, 1966.40,-999.0000,9,-999.0000,9,-999.0000,9,-999.0000,9,-999.0000,9,-999.0000,-999.000,-999.0000,9, -999.00
318M20040615,        P02,      36,          1,         12,         12,2,20040628,       2117,     30.004,   146.6465,       6166,  2164.6,   1.8917,  34.6114,2,  34.6107,2,  85.0000,2,    90.5,2,  158.57,2,   40.04,2,    0.00,2,    2.84,2,   0.001,2,   0.001,2,   0.001,2,  2358.4,2,  2409.9,2,-999.000,9,-999.0000,9, -999.00,9, -999.00,9,  -999.0,9,  -999.0,-999.000,9,-999.000,   37.70,2, 2164.60,-999.0000,9,-999.0000,9,-999.0000,9,-999.0000,9,-999.0000,9,-999.0000,-999.000,-999.0000,9, -999.00
318M20040615,        P02,      36,          1,         11,         11,2,20040628,       2117,     30.004,   146.6465,       6166,  2419.2,   1.7665,  34.6335,2,  34.6315,2, 106.5000,2,   107.9,2,  155.21,2,   38.90,2,    0.00,2,    2.76,2,   0.002,2,  -0.001,2,  -0.001,2,  2358.3,3,  2420.3,3,-999.000,9,-999.0000,9, -999.00,9, -999.00,9,  -999.0,9,  -999.0,-999.000,9,-999.000,   37.20,2, 2419.20,-999.0000,9,-999.0000,9,-999.0000,9,-999.0000,9,-999.0000,9,-999.0000,-999.000,-999.0000,9, -999.00
318M20040615,        P02,      36,          1,         10,         10,2,20040628,       2117,     30.004,   146.6465,       6166,  2675.9,   1.6810,  34.6472,2,  34.6462,2, 118.5000,2,   117.8,2,  154.65,2,   38.29,2,    0.00,2,    2.71,2,   0.001,2,   0.000,2,  -0.001,2,  2348.9,2,  2413.1,2,-999.000,9,-999.0000,9, -999.00,9, -999.00,9,  -999.0,9,  -999.0,-999.000,9,-999.000,   37.30,2, 2675.90,-999.0000,9,-999.0000,9,-999.0000,9,-999.0000,9,-999.0000,9,-999.0000,-999.000,-999.0000,9, -999.00
318M20040615,        P02,      36,          1,          9,          9,2,20040628,       2117,     30.004,   146.6465,       6166,  2922.4,   1.6245,  34.6571,2,  34.6552,2, 125.2000,2,   126.5,2,  152.75,2,   37.73,2,    0.00,2,    2.66,2,   0.001,2,   0.000,2,   0.000,2,  2344.1,2,  2414.3,2,-999.000,9,-999.0000,9, -999.00,9, -999.00,9,  -999.0,9,  -999.0,-999.000,9,-999.000,   37.70,2, 2922.40,   0.0620,2,   0.1580,2,   0.0140,2,   0.1120,2,   0.0150,2,-999.0000,-999.000,   0.0450,2, -999.00
318M20040615,        P02,      36,          1,          8,          8,2,20040628,       2117,     30.004,   146.6465,       6166,  3249.2,   1.5619,  34.6666,2,  34.6552,2, 133.4000,3,   133.4,2,  153.12,2,   37.28,2,    0.00,2,    2.63,2,   0.001,2,  -0.001,2,  -0.001,2,  2335.1,2,  2413.4,2,-999.000,9,-999.0000,9, -999.00,9, -999.00,9,  -999.0,9,  -999.0,-999.000,9,-999.000,   38.10,2, 3249.20,-999.0000,9,-999.0000,9,-999.0000,9,-999.0000,9,-999.0000,9,-999.0000,-999.000,-999.0000,9, -999.00
318M20040615,        P02,      36,          1,          7,          7,2,20040628,       2117,     30.004,   146.6465,       6166,  3634.3,   1.5246,  34.6747,2,  34.6719,2, 141.7000,2,   142.2,2,  150.71,2,   36.73,2,    0.00,2,    2.58,2,  -0.001,2,   0.001,2,   0.001,2,  2329.4,2,  2415.0,2,-999.000,9,-999.0000,9, -999.00,9, -999.00,9,  -999.0,9,  -999.0,-999.000,9,-999.000,   37.60,2, 3634.30,-999.0000,9,-999.0000,9,-999.0000,9,-999.0000,9,-999.0000,9,-999.0000,-999.000,-999.0000,9, -999.00
318M20040615,        P02,      36,          1,          6,          6,2,20040628,       2117,     30.004,   146.6465,       6166,  4050.6,   1.4948,  34.6817,2,  34.6805,2, 149.3000,2,   149.5,2,  148.89,2,   36.23,2,    0.00,2,    2.54,2,   0.000,2,   0.001,2,  -0.001,2,  2324.6,2,  2415.1,2,-999.000,9,-999.0000,9, -999.00,9, -999.00,9,  -999.0,9,  -999.0,-999.000,9,-999.000,   37.60,2, 4050.60,   0.0770,2,   0.1840,2,   0.0130,2,   0.1350,2,   0.0140,2,-999.0000,-999.000,   0.0570,2, -999.00
318M20040615,        P02,      36,          1,          5,          5,2,20040628,       2117,     30.004,   146.6465,       6166,  4455.7,   1.4921,  34.6858,2,  34.6837,2, 154.1000,2,   154.3,2,  148.14,2,   35.90,2,    0.00,2,    2.52,2,   0.001,2,   0.000,2,   0.001,2,  2320.7,2,  2412.0,2,-999.000,9,-999.0000,9, -999.00,9, -999.00,9,  -999.0,9,  -999.0,-999.000,9,-999.000,   37.20,2, 4455.70,-999.0000,9,-999.0000,9,-999.0000,9,-999.0000,9,-999.0000,9,-999.0000,-999.000,-999.0000,9, -999.00
318M20040615,        P02,      36,          1,          4,          4,2,20040628,       2117,     30.004,   146.6465,       6166,  4925.1,   1.5160,  34.6889,2,  34.6864,2, 158.4000,2,   159.0,2,  145.16,2,   35.50,2,    0.00,2,    2.49,2,   0.001,2,  -0.001,2,  -0.004,2,  2316.1,2,  2412.7,2,-999.000,9,-999.0000,9, -999.00,9, -999.00,9,  -999.0,9,  -999.0,-999.000,9,-999.000,   37.40,2, 4925.10,   0.0570,2,   0.1510,2,   0.0140,2,   0.1060,2,   0.0160,2,-999.0000,-999.000,   0.0400,2, -999.00
318M20040615,        P02,      36,          1,          3,          3,2,20040628,       2117,     30.004,   146.6465,       6166,  5347.8,   1.5413,  34.6915,2,  34.6883,2, 162.9000,2,   163.5,2,  142.56,2,   35.39,2,    0.00,2,    2.47,2,   0.002,2,  -0.001,2,   0.001,2,  2311.3,2,  2410.6,2,-999.000,9,-999.0000,9, -999.00,9, -999.00,9,  -999.0,9,  -999.0,-999.000,9,-999.000,   37.20,2, 5347.80,-999.0000,9,-999.0000,9,-999.0000,9,-999.0000,9,-999.0000,9,-999.0000,-999.000,-999.0000,9, -999.00
318M20040615,        P02,      36,          1,          2,          2,2,20040628,       2117,     30.004,   146.6465,       6166,  5919.6,   1.5951,  34.6936,2,  34.6844,2, 167.5000,3,   167.6,2,  139.23,2,   35.22,2,    0.00,2,    2.44,2,   0.000,2,  -0.003,2,  -0.002,2,  2307.7,2,  2405.4,2,-999.000,9,-999.0000,9, -999.00,9, -999.00,9,  -999.0,9,  -999.0,-999.000,9,-999.000,   38.20,2, 5919.60,-999.0000,9,-999.0000,9,-999.0000,9,-999.0000,9,-999.0000,9,-999.0000,-999.000,-999.0000,9, -999.00
318M20040615,        P02,      36,          1,          1,          1,2,20040628,       2117,     30.004,   146.6465,       6166,  6121.8,   1.6173,  34.6940,2,  34.6887,2, 168.4000,3,   168.9,2,  139.03,2,   35.16,2,    0.00,2,    2.44,2,   0.002,2,   0.002,2,  -0.001,2,  2307.5,6,  2404.5,2,-999.000,9,-999.0000,9, -999.00,9, -999.00,9,  -999.0,9,  -999.0,-999.000,9,-999.000,   38.10,2, 6121.80,   0.0660,2,   0.1640,2,   0.0130,2,   0.1190,2,   0.0150,2,-999.0000,-999.000,   0.0480,2, -999.00