BOTTLE,20131027SIOCCHRJL
EXPOCODE,SECT_ID,STNNBR,CASTNO,SAMPNO,BTLNBR,BTLNBR_FLAG_W,DATE,TIME,LATITUDE,LONGITUDE,DEPTH,CTDPRS,CTDTMP,CTDSAL,CTDSAL_FLAG_W,SALNTY,SALNTY_FLAG_W,CTDOXY,CTDOXY_FLAG_W,OXYGEN,OXYGEN_FLAG_W,SILCAT,SILCAT_FLAG_W,NITRAT,NITRAT_FLAG_W,NITRIT,NITRIT_FLAG_W,PHSPHT,PHSPHT_FLAG_W,CFC-11,CFC-11_FLAG_W,CFC-12,CFC-12_FLAG_W,CFC113,CFC113_FLAG_W,TCARBN,TCARBN_FLAG_W,ALKALI,ALKALI_FLAG_W,TRITUM,TRITUM_FLAG_W,HELIUM,HELIUM_FLAG_W,DELHE3,DELHE3_FLAG_W,DELC13,DELC13_FLAG_W,DELC14,DELC14_FLAG_W,C14ERR,NEON,NEON_FLAG_W,NEONER,DOC,DOC_FLAG_W,CTDRAW,CDOM380,CDOM380_FLAG_W,CDOM325,CDOM325_FLAG_W,CDOMSL,CDOMSL_FLAG_W,CDOM340,CDOM340_FLAG_W,CDOMSN,CDOMSN_FLAG_W,HELIER,TRITER,CDOM412,CDOM412_FLAG_W,DELHER
,,,,,,,,,,,METERS,DBAR,ITS-90,PSS-78,,PSS-78,,UMOL/KG,,UMOL/KG,,UMOL/KG,,UMOL/KG,,UMOL/KG,,UMOL/KG,,PMOL/KG,,PMOL/KG,,PMOL/KG,,UMOL/KG,,UMOL/KG,,TU,,NMOL/KG,,PERCNT,,/MILLE,,/MILLE,,/MILLE,NMOL/KG,,NMOL/KG,UMOL/KG,,DBAR,1/M,,1/M,,1/NM,,1/M,,1/NM,,NMOL/KG,TU,1/M,,PERCNT
318M20040615,        P02,     189,          2,         21,         21,2,20040827,       0631,    32.6378,  -117.5233,       1183,     3.2,  21.2641,  33.4878,2,  33.4811,2, 235.5000,2,   235.7,2,    1.11,2,    0.19,2,    0.00,2,    0.22,2,   2.261,2,   1.328,2,   0.314,2,  1986.1,2,  -999.0,9,-999.000,9,-999.0000,9, -999.00,9, -999.00,9,  -999.0,9,  -999.0,-999.000,9,-999.000, -999.00,9,    3.20,-999.0000,9,-999.0000,9,-999.0000,9,-999.0000,9,-999.0000,9,-999.0000,-999.000,-999.0000,9, -999.00
318M20040615,        P02,     189,          2,         20,         20,2,20040827,       0631,    32.6378,  -117.5233,       1183,    33.4,  14.3813,  33.2149,2,  33.2149,2, 255.9000,2,   256.1,2,    2.49,2,    3.69,2,    0.18,2,    0.56,2,-999.000,1,-999.000,1,-999.000,1,  -999.0,9,  -999.0,9,-999.000,9,-999.0000,9, -999.00,9, -999.00,9,  -999.0,9,  -999.0,-999.000,9,-999.000, -999.00,9,   33.40,-999.0000,9,-999.0000,9,-999.0000,9,-999.0000,9,-999.0000,9,-999.0000,-999.000,-999.0000,9, -999.00
318M20040615,        P02,     189,          2,         19,         19,2,20040827,       0631,    32.6378,  -117.5233,       1183,    68.3,  10.4095,  33.3317,2,  33.3265,2, 181.3000,2,   182.8,2,   14.00,2,   16.49,2,    0.05,2,    1.38,2,   3.401,2,   1.836,2,   0.283,2,  -999.0,9,  -999.0,9,-999.000,9,-999.0000,9, -999.00,9, -999.00,9,  -999.0,9,  -999.0,-999.000,9,-999.000, -999.00,9,   68.30,-999.0000,9,-999.0000,9,-999.0000,9,-999.0000,9,-999.0000,9,-999.0000,-999.000,-999.0000,9, -999.00
318M20040615,        P02,     189,          2,         18,         18,2,20040827,       0631,    32.6378,  -117.5233,       1183,    97.6,  10.1544,  33.6662,2,  33.6805,2, 136.3000,2,   135.9,2,   21.75,2,   20.94,2,    0.05,2,    1.73,2,-999.000,9,-999.000,9,-999.000,9,  2155.3,2,  -999.0,9,-999.000,9,-999.0000,9, -999.00,9, -999.00,9,  -999.0,9,  -999.0,-999.000,9,-999.000, -999.00,9,   97.60,-999.0000,9,-999.0000,9,-999.0000,9,-999.0000,9,-999.0000,9,-999.0000,-999.000,-999.0000,9, -999.00
318M20040615,        P02,     189,          2,         17,         17,2,20040827,       0631,    32.6378,  -117.5233,       1183,   122.9,  10.1912,  33.8793,2,  33.8850,2, 113.4000,2,   110.1,2,   25.12,2,   22.88,2,    0.01,2,    1.92,2,   2.750,2,   1.477,2,   0.174,2,  -999.0,9,  -999.0,9,-999.000,9,-999.0000,9, -999.00,9, -999.00,9,  -999.0,9,  -999.0,-999.000,9,-999.000, -999.00,9,  122.90,-999.0000,9,-999.0000,9,-999.0000,9,-999.0000,9,-999.0000,9,-999.0000,-999.000,-999.0000,9, -999.00
318M20040615,        P02,     189,          2,         16,         16,2,20040827,       0631,    32.6378,  -117.5233,       1183,   147.7,  10.0389,  33.9861,2,  33.9835,2, 103.6000,2,   103.8,2,   26.90,2,   23.96,2,    0.01,2,    2.00,2,   2.573,2,   1.404,2,   0.103,2,  -999.0,9,  -999.0,9,-999.000,9,-999.0000,9, -999.00,9, -999.00,9,  -999.0,9,  -999.0,-999.000,9,-999.000, -999.00,9,  147.70,-999.0000,9,-999.0000,9,-999.0000,9,-999.0000,9,-999.0000,9,-999.0000,-999.000,-999.0000,9, -999.00
318M20040615,        P02,     189,          2,         15,         15,2,20040827,       0631,    32.6378,  -117.5233,       1183,   172.5,   9.5086,  34.0208,2,  34.0100,2, 117.0000,2,   117.2,2,   27.89,2,   24.37,2,    0.01,2,    1.94,2,   3.028,2,   1.689,2,   0.413,2,  -999.0,9,  -999.0,9,-999.000,9,-999.0000,9, -999.00,9, -999.00,9,  -999.0,9,  -999.0,-999.000,9,-999.000, -999.00,9,  172.50,-999.0000,9,-999.0000,9,-999.0000,9,-999.0000,9,-999.0000,9,-999.0000,-999.000,-999.0000,9, -999.00
318M20040615,        P02,     189,          2,         14,         14,2,20040827,       0631,    32.6378,  -117.5233,       1183,   197.6,   9.4220,  34.0936,2,  34.0985,2,  97.9000,2,   105.2,2,   30.26,2,   25.57,2,    0.01,2,    2.04,2,-999.000,9,-999.000,9,-999.000,9,  -999.0,9,  -999.0,9,-999.000,9,-999.0000,9, -999.00,9, -999.00,9,  -999.0,9,  -999.0,-999.000,9,-999.000, -999.00,9,  197.60,-999.0000,9,-999.0000,9,-999.0000,9,-999.0000,9,-999.0000,9,-999.0000,-999.000,-999.0000,9, -999.00
318M20040615,        P02,     189,          2,         13,         13,2,20040827,       0631,    32.6378,  -117.5233,       1183,   222.7,   8.9879,  34.1023,2,  34.1052,2, 106.6000,2,   106.1,2,   32.65,2,   26.65,2,    0.01,2,    2.06,2,   2.327,2,   1.204,2,   0.089,2,  2200.0,2,  -999.0,9,-999.000,9,-999.0000,9, -999.00,9, -999.00,9,  -999.0,9,  -999.0,-999.000,9,-999.000, -999.00,9,  222.70,-999.0000,9,-999.0000,9,-999.0000,9,-999.0000,9,-999.0000,9,-999.0000,-999.000,-999.0000,9, -999.00
318M20040615,        P02,     189,          2,         12,         12,2,20040827,       0631,    32.6378,  -117.5233,       1183,   272.4,   9.0792,  34.2823,2,  34.2795,2,  60.1000,2,    56.5,2,   39.81,2,   29.43,2,    0.01,2,    2.47,2,   1.405,2,   0.719,2,   0.056,2,  -999.0,9,  -999.0,9,-999.000,9,-999.0000,9, -999.00,9, -999.00,9,  -999.0,9,  -999.0,-999.000,9,-999.000, -999.00,9,  272.40,-999.0000,9,-999.0000,9,-999.0000,9,-999.0000,9,-999.0000,9,-999.0000,-999.000,-999.0000,9, -999.00
318M20040615,        P02,     189,          2,         11,         11,2,20040827,       0631,    32.6378,  -117.5233,       1183,   321.4,   8.7918,  34.2777,2,  34.2711,2,  51.1000,2,    54.0,2,   42.40,2,   30.16,2,    0.00,2,    2.51,2,   1.312,2,   0.653,2,   0.066,2,  2248.3,2,  -999.0,9,-999.000,9,-999.0000,9, -999.00,9, -999.00,9,  -999.0,9,  -999.0,-999.000,9,-999.000, -999.00,9,  321.40,-999.0000,9,-999.0000,9,-999.0000,9,-999.0000,9,-999.0000,9,-999.0000,-999.000,-999.0000,9, -999.00
318M20040615,        P02,     189,          2,         10,         10,2,20040827,       0631,    32.6378,  -117.5233,       1183,   371.6,   8.3616,  34.3210,2,  34.3221,2,  36.4000,2,    36.2,2,   48.19,2,   31.73,2,    0.00,2,    2.70,2,-999.000,9,-999.000,9,-999.000,9,  -999.0,9,  -999.0,9,-999.000,9,-999.0000,9, -999.00,9, -999.00,9,  -999.0,9,  -999.0,-999.000,9,-999.000, -999.00,9,  371.60,-999.0000,9,-999.0000,9,-999.0000,9,-999.0000,9,-999.0000,9,-999.0000,-999.000,-999.0000,9, -999.00
318M20040615,        P02,     189,          2,          9,          9,2,20040827,       0631,    32.6378,  -117.5233,       1183,   426.4,   7.7048,  34.2835,2,  34.2834,2,  35.6000,2,    34.9,2,   53.81,2,   33.37,2,    0.00,2,    2.77,2,   0.816,2,   0.370,2,   0.075,2,  -999.0,9,  -999.0,9,-999.000,9,-999.0000,9, -999.00,9, -999.00,9,  -999.0,9,  -999.0,-999.000,9,-999.000, -999.00,9,  426.40,-999.0000,9,-999.0000,9,-999.0000,9,-999.0000,9,-999.0000,9,-999.0000,-999.000,-999.0000,9, -999.00
318M20040615,        P02,     189,          2,         37,         37,2,20040827,       0631,    32.6378,  -117.5233,       1183,   475.8,   7.1796,  34.2705,2,  34.2715,2,  30.5000,2,    30.0,2,   59.20,2,   35.07,2,    0.00,2,    2.85,2,   0.578,2,   0.283,2,   0.061,2,  2285.0,2,  -999.0,9,-999.000,9,-999.0000,9, -999.00,9, -999.00,9,  -999.0,9,  -999.0,-999.000,9,-999.000, -999.00,9,  475.80,-999.0000,9,-999.0000,9,-999.0000,9,-999.0000,9,-999.0000,9,-999.0000,-999.000,-999.0000,9, -999.00
318M20040615,        P02,     189,          2,          7,          7,2,20040827,       0631,    32.6378,  -117.5233,       1183,   549.6,   6.4868,  34.3071,2,  34.3074,2,  17.9000,2,    17.6,2,   70.26,2,   37.68,2,    0.00,2,    3.03,2,   0.310,2,   0.157,2,   0.014,2,  2306.7,2,  -999.0,9,-999.000,9,-999.0000,9, -999.00,9, -999.00,9,  -999.0,9,  -999.0,-999.000,9,-999.000, -999.00,9,  549.60,-999.0000,9,-999.0000,9,-999.0000,9,-999.0000,9,-999.0000,9,-999.0000,-999.000,-999.0000,9, -999.00
318M20040615,        P02,     189,          2,          6,          6,2,20040827,       0631,    32.6378,  -117.5233,       1183,   649.0,   5.8999,  34.3513,2,  34.3515,2,  11.6000,2,    11.0,2,   80.55,2,   39.83,2,    0.00,2,    3.15,2,   0.154,2,   0.085,2,   0.024,2,  2322.8,2,  -999.0,9,-999.000,9,-999.0000,9, -999.00,9, -999.00,9,  -999.0,9,  -999.0,-999.000,9,-999.000, -999.00,9,  649.00,-999.0000,9,-999.0000,9,-999.0000,9,-999.0000,9,-999.0000,9,-999.0000,-999.000,-999.0000,9, -999.00
318M20040615,        P02,     189,          2,          5,          5,2,20040827,       0631,    32.6378,  -117.5233,       1183,   751.1,   5.1934,  34.4001,2,  34.4006,2,  11.0000,2,    10.8,2,   94.10,2,   41.62,2,    0.00,2,    3.23,2,   0.102,2,   0.069,2,   0.027,2,  2341.2,2,  -999.0,9,-999.000,9,-999.0000,9, -999.00,9, -999.00,9,  -999.0,9,  -999.0,-999.000,9,-999.000, -999.00,9,  751.10,-999.0000,9,-999.0000,9,-999.0000,9,-999.0000,9,-999.0000,9,-999.0000,-999.000,-999.0000,9, -999.00
318M20040615,        P02,     189,          2,          4,          4,2,20040827,       0631,    32.6378,  -117.5233,       1183,   847.4,   4.7365,  34.4318,2,  34.4320,2,  12.9000,2,    13.9,2,  103.85,2,   42.31,2,    0.00,2,    3.25,2,   0.129,2,   0.087,2,   0.038,2,  2349.4,2,  -999.0,9,-999.000,9,-999.0000,9, -999.00,9, -999.00,9,  -999.0,9,  -999.0,-999.000,9,-999.000, -999.00,9,  847.40,-999.0000,9,-999.0000,9,-999.0000,9,-999.0000,9,-999.0000,9,-999.0000,-999.000,-999.0000,9, -999.00
318M20040615,        P02,     189,          2,          3,          3,2,20040827,       0631,    32.6378,  -117.5233,       1183,   956.7,   4.3963,  34.4578,2,  34.4585,2,  15.9000,2,    16.2,2,  111.78,2,   42.47,2,    0.00,2,    3.26,2,   0.145,2,   0.107,2,   0.035,2,  2358.5,2,  -999.0,9,-999.000,9,-999.0000,9, -999.00,9, -999.00,9,  -999.0,9,  -999.0,-999.000,9,-999.000, -999.00,9,  956.70,-999.0000,9,-999.0000,9,-999.0000,9,-999.0000,9,-999.0000,9,-999.0000,-999.000,-999.0000,9, -999.00
318M20040615,        P02,     189,          2,          2,          2,2,20040827,       0631,    32.6378,  -117.5233,       1183,  1071.6,   3.7920,  34.5041,2,  34.5052,2,  26.7000,2,    26.6,2,  123.21,2,   42.94,2,    0.00,2,    3.22,2,   0.116,2,   0.099,2,   0.114,2,  2365.9,2,  -999.0,9,-999.000,9,-999.0000,9, -999.00,9, -999.00,9,  -999.0,9,  -999.0,-999.000,9,-999.000, -999.00,9, 1071.60,-999.0000,9,-999.0000,9,-999.0000,9,-999.0000,9,-999.0000,9,-999.0000,-999.000,-999.0000,9, -999.00
318M20040615,        P02,     189,          2,          1,          1,2,20040827,       0631,    32.6378,  -117.5233,       1183,  1171.8,   3.4911,  34.5275,2,  34.5288,2,  31.5000,2,    31.5,2,  132.25,2,   42.38,2,    0.02,2,    3.22,2,   0.123,2,   0.145,2,   0.101,2,  2373.0,2,  -999.0,9,-999.000,9,-999.0000,9, -999.00,9, -999.00,9,  -999.0,9,  -999.0,-999.000,9,-999.000, -999.00,9, 1171.80,-999.0000,9,-999.0000,9,-999.0000,9,-999.0000,9,-999.0000,9,-999.0000,-999.000,-999.0000,9, -999.00
318M20040615,        P02,     190,          1,         10,         10,2,20040827,       0821,    32.6427,  -117.3838,        246,     3.0,  21.4652,  33.4763,2,  33.4763,2, 237.3000,2,   237.9,2,    1.33,2,    0.26,2,    0.00,2,    0.22,2,   2.406,2,   1.457,2,   0.160,2,  1981.5,2,  -999.0,9,-999.000,9,-999.0000,9, -999.00,9, -999.00,9,  -999.0,9,  -999.0,-999.000,9,-999.000,   68.40,2,    3.00,-999.0000,9,-999.0000,9,-999.0000,9,-999.0000,9,-999.0000,9,-999.0000,-999.000,-999.0000,9, -999.00
318M20040615,        P02,     190,          1,          9,          9,2,20040827,       0821,    32.6427,  -117.3838,        246,    17.9,  14.9507,  33.1865,2,  33.1891,2, 274.7000,2,   275.4,2,    0.72,2,    0.54,2,    0.02,2,    0.36,2,-999.000,9,-999.000,9,-999.000,9,  1997.8,2,  -999.0,9,-999.000,9,-999.0000,9, -999.00,9, -999.00,9,  -999.0,9,  -999.0,-999.000,9,-999.000,   60.40,2,   17.90,-999.0000,9,-999.0000,9,-999.0000,9,-999.0000,9,-999.0000,9,-999.0000,-999.000,-999.0000,9, -999.00
318M20040615,        P02,     190,          1,         37,         37,2,20040827,       0821,    32.6427,  -117.3838,        246,    48.0,  11.3188,  33.2494,2,  33.2507,2, 200.4000,2,   200.0,2,    9.83,2,   13.50,2,    0.11,2,    1.17,2,   3.495,2,   1.949,2,   0.204,2,  2081.4,2,  -999.0,9,-999.000,9,-999.0000,9, -999.00,9, -999.00,9,  -999.0,9,  -999.0,-999.000,9,-999.000,   54.20,2,   48.00,-999.0000,9,-999.0000,9,-999.0000,9,-999.0000,9,-999.0000,9,-999.0000,-999.000,-999.0000,9, -999.00
318M20040615,        P02,     190,          1,          7,          7,2,20040827,       0821,    32.6427,  -117.3838,        246,    87.1,   9.7305,  33.6068,2,  33.5904,2, 157.4000,2,   158.0,2,   19.94,2,   20.46,2,    0.03,2,    1.62,2,   3.426,2,   1.894,2,   0.142,2,  2136.4,2,  -999.0,9,-999.000,9,-999.0000,9, -999.00,9, -999.00,9,  -999.0,9,  -999.0,-999.000,9,-999.000,   49.10,2,   87.10,-999.0000,9,-999.0000,9,-999.0000,9,-999.0000,9,-999.0000,9,-999.0000,-999.000,-999.0000,9, -999.00
318M20040615,        P02,     190,          1,          6,          6,2,20040827,       0821,    32.6427,  -117.3838,        246,   112.5,  10.1061,  33.8848,2,  33.8863,2, 114.0000,2,   114.8,2,   24.89,2,   23.02,2,    0.03,2,    1.89,2,-999.000,9,-999.000,9,-999.000,9,  2173.8,2,  -999.0,9,-999.000,9,-999.0000,9, -999.00,9, -999.00,9,  -999.0,9,  -999.0,-999.000,9,-999.000,   48.60,2,  112.50,-999.0000,9,-999.0000,9,-999.0000,9,-999.0000,9,-999.0000,9,-999.0000,-999.000,-999.0000,9, -999.00
318M20040615,        P02,     190,          1,          5,          5,2,20040827,       0821,    32.6427,  -117.3838,        246,   137.3,   9.9488,  34.0071,2,  34.0104,2,  99.1000,2,   100.3,2,   27.46,2,   24.62,2,    0.02,2,    2.02,2,   2.665,2,   1.418,2,   0.089,2,  2188.9,2,  -999.0,9,-999.000,9,-999.0000,9, -999.00,9, -999.00,9,  -999.0,9,  -999.0,-999.000,9,-999.000,   47.60,2,  137.30,-999.0000,9,-999.0000,9,-999.0000,9,-999.0000,9,-999.0000,9,-999.0000,-999.000,-999.0000,9, -999.00
318M20040615,        P02,     190,          1,          4,          4,2,20040827,       0821,    32.6427,  -117.3838,        246,   162.4,   9.8159,  34.1000,2,  34.0992,2,  87.4000,2,    87.8,2,   30.03,2,   25.89,2,    0.04,2,    2.12,2,-999.000,9,-999.000,9,-999.000,9,  2202.0,2,  -999.0,9,-999.000,9,-999.0000,9, -999.00,9, -999.00,9,  -999.0,9,  -999.0,-999.000,9,-999.000,   47.10,2,  162.40,-999.0000,9,-999.0000,9,-999.0000,9,-999.0000,9,-999.0000,9,-999.0000,-999.000,-999.0000,9, -999.00
318M20040615,        P02,     190,          1,          3,          3,2,20040827,       0821,    32.6427,  -117.3838,        246,   187.2,   9.6023,  34.1834,2,  34.1801,2,  74.0000,2,    72.8,2,   33.41,2,   27.24,2,    0.05,2,    2.26,2,   2.101,2,   1.122,2,   0.067,2,  2217.2,2,  -999.0,9,-999.000,9,-999.0000,9, -999.00,9, -999.00,9,  -999.0,9,  -999.0,-999.000,9,-999.000,   46.50,2,  187.20,-999.0000,9,-999.0000,9,-999.0000,9,-999.0000,9,-999.0000,9,-999.0000,-999.000,-999.0000,9, -999.00
318M20040615,        P02,     190,          1,          2,          2,2,20040827,       0821,    32.6427,  -117.3838,        246,   212.3,   9.5407,  34.2086,2,  34.2095,2,  68.0000,2,    67.7,2,   34.79,2,   27.74,2,    0.06,2,    2.31,2,-999.000,9,-999.000,9,-999.000,9,  2223.4,2,  -999.0,9,-999.000,9,-999.0000,9, -999.00,9, -999.00,9,  -999.0,9,  -999.0,-999.000,9,-999.000,   45.50,2,  212.30,-999.0000,9,-999.0000,9,-999.0000,9,-999.0000,9,-999.0000,9,-999.0000,-999.000,-999.0000,9, -999.00
318M20040615,        P02,     190,          1,          1,          1,2,20040827,       0821,    32.6427,  -117.3838,        246,   237.1,   9.3387,  34.2291,2,  34.2282,2,  60.7000,2,    61.2,2,   36.77,2,   28.45,2,    0.13,2,    2.39,2,   1.861,6,   0.985,6,   0.058,6,  2232.9,2,  -999.0,9,-999.000,9,-999.0000,9, -999.00,9, -999.00,9,  -999.0,9,  -999.0,-999.000,9,-999.000,   44.90,2,  237.10,-999.0000,9,-999.0000,9,-999.0000,9,-999.0000,9,-999.0000,9,-999.0000,-999.000,-999.0000,9, -999.00