BOTTLE,20131027SIOCCHRJL
EXPOCODE,SECT_ID,STNNBR,CASTNO,SAMPNO,BTLNBR,BTLNBR_FLAG_W,DATE,TIME,LATITUDE,LONGITUDE,DEPTH,CTDPRS,CTDTMP,CTDSAL,CTDSAL_FLAG_W,SALNTY,SALNTY_FLAG_W,CTDOXY,CTDOXY_FLAG_W,OXYGEN,OXYGEN_FLAG_W,SILCAT,SILCAT_FLAG_W,NITRAT,NITRAT_FLAG_W,NITRIT,NITRIT_FLAG_W,PHSPHT,PHSPHT_FLAG_W,CFC-11,CFC-11_FLAG_W,CFC-12,CFC-12_FLAG_W,CFC113,CFC113_FLAG_W,TCARBN,TCARBN_FLAG_W,ALKALI,ALKALI_FLAG_W,TRITUM,TRITUM_FLAG_W,HELIUM,HELIUM_FLAG_W,DELHE3,DELHE3_FLAG_W,DELC13,DELC13_FLAG_W,DELC14,DELC14_FLAG_W,C14ERR,NEON,NEON_FLAG_W,NEONER,DOC,DOC_FLAG_W,CTDRAW,CDOM380,CDOM380_FLAG_W,CDOM325,CDOM325_FLAG_W,CDOMSL,CDOMSL_FLAG_W,CDOM340,CDOM340_FLAG_W,CDOMSN,CDOMSN_FLAG_W,HELIER,TRITER,CDOM412,CDOM412_FLAG_W,DELHER
,,,,,,,,,,,METERS,DBAR,ITS-90,PSS-78,,PSS-78,,UMOL/KG,,UMOL/KG,,UMOL/KG,,UMOL/KG,,UMOL/KG,,UMOL/KG,,PMOL/KG,,PMOL/KG,,PMOL/KG,,UMOL/KG,,UMOL/KG,,TU,,NMOL/KG,,PERCNT,,/MILLE,,/MILLE,,/MILLE,NMOL/KG,,NMOL/KG,UMOL/KG,,DBAR,1/M,,1/M,,1/NM,,1/M,,1/NM,,NMOL/KG,TU,1/M,,PERCNT
318M20040615,        P02,     102,          2,         36,         36,2,20040721,       0542,    30.0013,  -169.0545,       5324,    10.2,  24.3779,  34.8521,2,  34.8446,3, 216.6000,2,   215.6,2,    2.40,2,    0.07,2,    0.00,2,    0.04,2,   1.881,2,   1.146,2,   0.136,2,  1998.9,6,  2287.2,6,   0.794,2,   1.7528,2,   -1.10,2, -999.00,9,  -999.0,9,  -999.0,-999.000,9,-999.000,   67.80,2,   10.20,-999.0000,9,-999.0000,9,-999.0000,9,-999.0000,9,-999.0000,9,   0.0088,   0.007,-999.0000,9,    0.20
318M20040615,        P02,     102,          2,         35,         35,2,20040721,       0542,    30.0013,  -169.0545,       5324,    42.3,  19.3129,  34.8807,2,  34.8899,3, 246.1000,2,   247.2,2,    2.61,2,    0.12,2,    0.00,2,    0.04,2,   2.350,2,   1.419,2,   0.163,2,  2003.5,2,  2292.1,2,   0.801,2,   1.7573,2,   -1.11,2, -999.00,9,  -999.0,9,  -999.0,-999.000,9,-999.000,   64.50,2,   42.30,-999.0000,9,-999.0000,9,-999.0000,9,-999.0000,9,-999.0000,9,   0.0088,   0.008,-999.0000,9,    0.20
318M20040615,        P02,     102,          2,         34,         34,2,20040721,       0542,    30.0013,  -169.0545,       5324,    85.2,  16.8006,  34.7642,2,  34.7654,3, 243.6000,2,   235.6,2,    3.42,2,    0.61,2,    0.08,2,    0.14,2,   2.552,2,   1.467,2,   0.159,2,  2021.5,2,  2285.5,2,-999.000,9,-999.0000,9, -999.00,9, -999.00,9,  -999.0,9,  -999.0,-999.000,9,-999.000,   61.10,2,   85.20,-999.0000,9,-999.0000,9,-999.0000,9,-999.0000,9,-999.0000,9,-999.0000,-999.000,-999.0000,9, -999.00
318M20040615,        P02,     102,          2,         33,         33,2,20040721,       0542,    30.0013,  -169.0545,       5324,   137.0,  15.6000,  34.6358,2,  34.6286,3, 219.9000,2,   227.0,2,    5.45,2,    4.78,2,    0.04,2,    0.36,2,   2.653,2,   1.539,2,   0.154,2,  2035.0,2,  2276.4,2,   0.775,2,   1.7619,2,   -0.44,2, -999.00,9,  -999.0,9,  -999.0,-999.000,9,-999.000,   56.80,2,  137.00,-999.0000,9,-999.0000,9,-999.0000,9,-999.0000,9,-999.0000,9,   0.0088,   0.009,-999.0000,9,    0.20
318M20040615,        P02,     102,          2,         32,         32,2,20040721,       0542,    30.0013,  -169.0545,       5324,   186.4,  14.4804,  34.5360,2,  34.5361,3, 226.9000,2,   232.2,2,    6.47,2,    5.56,2,    0.01,2,    0.42,2,   2.798,2,   1.620,2,   0.165,2,  2042.8,2,  2272.0,2,   0.777,2,   1.7890,2,   -0.85,2, -999.00,9,  -999.0,9,  -999.0,-999.000,9,-999.000,   55.40,2,  186.40,-999.0000,9,-999.0000,9,-999.0000,9,-999.0000,9,-999.0000,9,   0.0089,   0.007,-999.0000,9,    0.20
318M20040615,        P02,     102,          2,         31,         31,2,20040721,       0542,    30.0013,  -169.0545,       5324,   236.2,  13.6426,  34.4589,2,  34.4576,3, 226.6000,2,   229.8,2,    8.30,2,    7.37,2,    0.01,2,    0.55,2,   2.881,2,   1.648,2,   0.142,2,  2053.7,2,  2270.5,2,-999.000,9,-999.0000,9, -999.00,9, -999.00,9,  -999.0,9,  -999.0,-999.000,9,-999.000,   53.80,2,  236.20,-999.0000,9,-999.0000,9,-999.0000,9,-999.0000,9,-999.0000,9,-999.0000,-999.000,-999.0000,9, -999.00
318M20040615,        P02,     102,          2,         30,         30,2,20040721,       0542,    30.0013,  -169.0545,       5324,   286.1,  12.7844,  34.3997,2,  34.3995,3, 227.6000,2,   227.7,2,   10.34,2,    9.34,2,    0.01,2,    0.67,2,   2.929,2,   1.661,2,   0.131,2,  2065.6,2,  2268.5,2,   0.807,2,-999.0000,9, -999.00,9, -999.00,9,  -999.0,9,  -999.0,-999.000,9,-999.000,   51.90,2,  286.10,-999.0000,9,-999.0000,9,-999.0000,9,-999.0000,9,-999.0000,9,-999.0000,   0.008,-999.0000,9, -999.00
318M20040615,        P02,     102,          2,         29,         29,2,20040721,       0542,    30.0013,  -169.0545,       5324,   336.1,  11.9836,  34.3402,2,  34.3418,3, 220.8000,2,   221.2,2,   13.21,2,   11.50,2,    0.01,2,    0.81,2,   2.984,2,   1.679,2,   0.105,2,  2078.8,2,  2268.3,2,-999.000,9,-999.0000,9, -999.00,9, -999.00,9,  -999.0,9,  -999.0,-999.000,9,-999.000,   50.50,2,  336.10,-999.0000,9,-999.0000,9,-999.0000,9,-999.0000,9,-999.0000,9,-999.0000,-999.000,-999.0000,9, -999.00
318M20040615,        P02,     102,          2,         28,         28,2,20040721,       0542,    30.0013,  -169.0545,       5324,   385.5,  11.1092,  34.2645,2,  34.2619,3, 217.4000,2,   219.0,2,   16.07,2,   13.36,2,    0.00,2,    0.95,2,   3.072,2,   1.700,2,   0.110,2,  2090.6,2,  2267.4,2,-999.000,9,   1.8016,2,    1.83,2, -999.00,9,  -999.0,9,  -999.0,-999.000,9,-999.000,   49.60,2,  385.50,-999.0000,9,-999.0000,9,-999.0000,9,-999.0000,9,-999.0000,9,   0.0090,-999.000,-999.0000,9,    0.20
318M20040615,        P02,     102,          2,         27,         27,2,20040721,       0542,    30.0013,  -169.0545,       5324,   435.6,  10.0839,  34.1855,2,  34.1857,3, 219.6000,2,   216.3,2,   20.18,2,   15.37,2,    0.00,2,    1.10,2,   3.099,2,   1.707,2,   0.125,2,  2104.5,2,  2268.2,2,-999.000,9,-999.0000,9, -999.00,9, -999.00,9,  -999.0,9,  -999.0,-999.000,9,-999.000,   48.40,2,  435.60,-999.0000,9,-999.0000,9,-999.0000,9,-999.0000,9,-999.0000,9,-999.0000,-999.000,-999.0000,9, -999.00
318M20040615,        P02,     102,          2,         26,         26,2,20040721,       0542,    30.0013,  -169.0545,       5324,   485.7,   9.1615,  34.1220,2,  34.1228,3, 199.7000,2,   201.3,2,   26.17,2,   18.50,2,    0.00,2,    1.32,2,   3.025,2,   1.624,2,   0.125,2,  2127.0,2,  2269.9,2,   0.804,2,   1.8204,2,    5.00,2, -999.00,9,  -999.0,9,  -999.0,-999.000,9,-999.000,   46.70,2,  485.70,-999.0000,9,-999.0000,9,-999.0000,9,-999.0000,9,-999.0000,9,   0.0091,   0.008,-999.0000,9,    0.20
318M20040615,        P02,     102,          2,         25,         25,2,20040721,       0542,    30.0013,  -169.0545,       5324,   569.9,   7.3651,  34.0227,2,  34.0224,3, 178.0000,2,   170.8,2,   41.56,2,   24.63,2,    0.00,2,    1.79,2,   2.690,2,   1.417,2,   0.130,2,  2171.6,2,  2277.1,2,   0.744,2,   1.8435,2,    8.83,2, -999.00,9,  -999.0,9,  -999.0,-999.000,9,-999.000,   45.30,2,  569.90,-999.0000,9,-999.0000,9,-999.0000,9,-999.0000,9,-999.0000,9,   0.0092,   0.008,-999.0000,9,    0.20
318M20040615,        P02,     102,          2,         24,         24,2,20040721,       0542,    30.0013,  -169.0545,       5324,   670.7,   5.5760,  34.0215,2,  34.0222,3, 120.6000,2,   111.2,2,   68.76,2,   33.13,2,    0.00,2,    2.41,2,   1.713,6,   0.850,6,   0.072,6,  2242.6,2,  2297.9,2,   0.589,2,   1.8820,2,   14.26,2, -999.00,9,  -999.0,9,  -999.0,-999.000,9,-999.000,   43.80,2,  670.70,-999.0000,9,-999.0000,9,-999.0000,9,-999.0000,9,-999.0000,9,   0.0094,   0.007,-999.0000,9,    0.20
318M20040615,        P02,     102,          2,         23,         23,2,20040721,       0542,    30.0013,  -169.0545,       5324,   770.1,   4.6981,  34.1046,2,  34.1038,3,  63.6000,2,    59.5,2,   89.38,2,   39.18,2,    0.00,2,    2.84,2,   0.610,2,   0.302,2,   0.017,2,  2294.7,2,  2316.9,2,   0.349,2,   1.8878,2,   16.56,2, -999.00,9,  -999.0,9,  -999.0,-999.000,9,-999.000,   43.00,2,  770.10,-999.0000,9,-999.0000,9,-999.0000,9,-999.0000,9,-999.0000,9,   0.0094,   0.005,-999.0000,9,    0.20
318M20040615,        P02,     102,          2,         22,         22,2,20040721,       0542,    30.0013,  -169.0545,       5324,   869.8,   4.1729,  34.1961,2,  34.1983,3,  33.3000,2,    32.5,2,  106.04,2,   42.45,2,    0.00,2,    3.05,2,   0.198,2,   0.102,2,   0.004,2,  2329.6,2,  2336.6,2,   0.171,2,   1.8974,2,   15.55,2, -999.00,9,  -999.0,9,  -999.0,-999.000,9,-999.000,   41.50,2,  869.80,-999.0000,9,-999.0000,9,-999.0000,9,-999.0000,9,-999.0000,9,   0.0095,   0.004,-999.0000,9,    0.20
318M20040615,        P02,     102,          2,         21,         21,2,20040721,       0542,    30.0013,  -169.0545,       5324,   971.0,   3.7696,  34.2804,2,  34.2789,3,  22.9000,2,    22.8,2,  119.09,2,   43.89,2,    0.00,2,    3.13,2,   0.084,2,   0.039,2,   0.004,2,  2350.1,2,  2353.2,2,-999.000,9,-999.0000,9, -999.00,9, -999.00,9,  -999.0,9,  -999.0,-999.000,9,-999.000,   40.10,2,  971.00,-999.0000,9,-999.0000,9,-999.0000,9,-999.0000,9,-999.0000,9,-999.0000,-999.000,-999.0000,9, -999.00
318M20040615,        P02,     102,          2,         20,         20,2,20040721,       0542,    30.0013,  -169.0545,       5324,  1070.6,   3.4864,  34.3472,2,  34.3505,3,  18.2000,2,    18.8,2,  128.92,2,   44.54,2,    0.00,2,    3.18,2,   0.027,2,   0.011,2,   0.001,2,  2363.6,6,  2362.7,6,   0.035,2,   1.8991,2,   16.45,2, -999.00,9,  -999.0,9,  -999.0,-999.000,9,-999.000,   38.50,2, 1070.60,-999.0000,9,-999.0000,9,-999.0000,9,-999.0000,9,-999.0000,9,   0.0095,   0.001,-999.0000,9,    0.20
318M20040615,        P02,     102,          2,         19,         19,2,20040721,       0542,    30.0013,  -169.0545,       5324,  1169.3,   3.2710,  34.4159,2,  34.4280,3,  21.1000,3,    21.8,2,  135.34,2,   44.43,2,    0.00,2,    3.18,2,   0.008,2,   0.008,2,   0.001,2,  2369.7,2,  2376.5,2,   0.010,2,   1.9063,2,   17.06,2, -999.00,9,  -999.0,9,  -999.0,-999.000,9,-999.000,   38.90,2, 1169.30,-999.0000,9,-999.0000,9,-999.0000,9,-999.0000,9,-999.0000,9,   0.0095,   0.001,-999.0000,9,    0.20
318M20040615,        P02,     102,          2,         18,         18,2,20040721,       0542,    30.0013,  -169.0545,       5324,  1269.2,   3.0771,  34.4632,2,  34.4640,3,  28.3000,2,    29.0,2,  140.05,2,   43.86,2,    0.00,2,    3.15,2,   0.009,2,   0.007,2,   0.001,2,  2373.9,2,  2384.6,6,   0.016,2,-999.0000,9, -999.00,9, -999.00,9,  -999.0,9,  -999.0,-999.000,9,-999.000,   38.00,2, 1269.20,-999.0000,9,-999.0000,9,-999.0000,9,-999.0000,9,-999.0000,9,-999.0000,   0.001,-999.0000,9, -999.00
318M20040615,        P02,     102,          2,         17,         17,2,20040721,       0542,    30.0013,  -169.0545,       5324,  1369.9,   2.8488,  34.5005,2,  34.4997,3,  35.9000,2,    36.1,2,  146.03,2,   43.47,2,    0.00,2,    3.12,2,   0.005,2,   0.004,2,   0.001,2,  2375.3,2,  2393.5,2,-999.000,9,-999.0000,9, -999.00,9, -999.00,9,  -999.0,9,  -999.0,-999.000,9,-999.000,   37.00,2, 1369.90,-999.0000,9,-999.0000,9,-999.0000,9,-999.0000,9,-999.0000,9,-999.0000,-999.000,-999.0000,9, -999.00
318M20040615,        P02,     102,          2,         16,         16,2,20040721,       0542,    30.0013,  -169.0545,       5324,  1471.1,   2.6669,  34.5260,2,  34.5251,3,  43.0000,2,    43.1,2,  150.09,2,   43.08,2,    0.00,2,    3.08,2,   0.004,2,   0.002,2,   0.001,2,  2377.6,2,  2398.5,2,   0.005,2,   1.9442,2,   20.14,2, -999.00,9,  -999.0,9,  -999.0,-999.000,9,-999.000,   37.10,2, 1471.10,-999.0000,9,-999.0000,9,-999.0000,9,-999.0000,9,-999.0000,9,   0.0097,   0.000,-999.0000,9,    0.20
318M20040615,        P02,     102,          2,         15,         15,2,20040721,       0542,    30.0013,  -169.0545,       5324,  1571.3,   2.5048,  34.5482,2,  34.5465,3,  51.2000,2,    50.4,2,  153.94,2,   42.63,2,    0.00,2,    3.05,2,   0.004,2,   0.001,2,   0.001,2,  2377.1,2,  2404.1,2,-999.000,9,-999.0000,9, -999.00,9, -999.00,9,  -999.0,9,  -999.0,-999.000,9,-999.000,   37.40,2, 1571.30,-999.0000,9,-999.0000,9,-999.0000,9,-999.0000,9,-999.0000,9,-999.0000,-999.000,-999.0000,9, -999.00
318M20040615,        P02,     102,          2,         14,         14,2,20040721,       0542,    30.0013,  -169.0545,       5324,  1768.0,   2.2158,  34.5819,2,  34.5803,3,  62.9000,2,    62.4,2,  160.52,2,   42.01,2,    0.00,2,    2.99,2,   0.004,2,   0.005,2,   0.001,2,  2379.6,2,  2410.6,2,   0.006,2,   1.9220,2,   21.13,2, -999.00,9,  -999.0,9,  -999.0,-999.000,9,-999.000,   38.10,2, 1768.00,-999.0000,9,-999.0000,9,-999.0000,9,-999.0000,9,-999.0000,9,   0.0096,   0.000,-999.0000,9,    0.20
318M20040615,        P02,     102,          2,         13,         13,2,20040721,       0542,    30.0013,  -169.0545,       5324,  1968.4,   2.0174,  34.6055,2,  34.6056,3,  75.1000,2,    74.0,2,  164.56,2,   41.51,2,    0.00,2,    2.92,2,   0.004,2,   0.002,2,   0.001,2,  2375.3,2,  2416.2,2,-999.000,9,-999.0000,9, -999.00,9, -999.00,9,  -999.0,9,  -999.0,-999.000,9,-999.000,   38.00,2, 1968.40,-999.0000,9,-999.0000,9,-999.0000,9,-999.0000,9,-999.0000,9,-999.0000,-999.000,-999.0000,9, -999.00
318M20040615,        P02,     102,          2,         12,         12,2,20040721,       0542,    30.0013,  -169.0545,       5324,  2170.7,   1.8512,  34.6247,2,  34.6239,3,  86.7000,2,    86.3,2,  166.86,2,   40.84,2,    0.00,2,    2.86,2,-999.000,9,-999.000,9,-999.000,9,  2369.6,2,  2420.7,2,-999.000,9,-999.0000,9, -999.00,9, -999.00,9,  -999.0,9,  -999.0,-999.000,9,-999.000,   37.80,2, 2170.70,-999.0000,9,-999.0000,9,-999.0000,9,-999.0000,9,-999.0000,9,-999.0000,-999.000,-999.0000,9, -999.00
318M20040615,        P02,     102,          2,         11,         11,2,20040721,       0542,    30.0013,  -169.0545,       5324,  2423.1,   1.7083,  34.6420,2,  34.6410,3,  98.7000,2,    99.4,2,  167.71,2,   39.85,2,    0.00,2,    2.80,2,   0.002,2,   0.002,2,   0.001,2,  2366.3,2,  2422.7,6,-999.000,9,-999.0000,9, -999.00,9, -999.00,9,  -999.0,9,  -999.0,-999.000,9,-999.000,   37.50,2, 2423.10,-999.0000,9,-999.0000,9,-999.0000,9,-999.0000,9,-999.0000,9,-999.0000,-999.000,-999.0000,9, -999.00
318M20040615,        P02,     102,          2,         10,         10,2,20040721,       0542,    30.0013,  -169.0545,       5324,  2671.0,   1.6258,  34.6531,2,  34.6538,3, 109.1000,2,   110.5,2,  166.64,2,   39.13,2,    0.00,2,    2.75,2,-999.000,9,-999.000,9,-999.000,9,  2360.2,2,  2422.6,2,-999.000,9,-999.0000,9, -999.00,9, -999.00,9,  -999.0,9,  -999.0,-999.000,9,-999.000,   37.30,2, 2671.00,-999.0000,9,-999.0000,9,-999.0000,9,-999.0000,9,-999.0000,9,-999.0000,-999.000,-999.0000,9, -999.00
318M20040615,        P02,     102,          2,          9,          9,2,20040721,       0542,    30.0013,  -169.0545,       5324,  2918.8,   1.5633,  34.6614,2,  34.6605,3, 122.5000,2,   123.5,2,  160.93,2,   38.11,2,    0.00,2,    2.68,2,   0.002,2,   0.000,2,   0.001,2,  2348.2,2,  2419.8,6,-999.000,9,-999.0000,9, -999.00,9, -999.00,9,  -999.0,9,  -999.0,-999.000,9,-999.000,   38.00,2, 2918.80,-999.0000,9,-999.0000,9,-999.0000,9,-999.0000,9,-999.0000,9,-999.0000,-999.000,-999.0000,9, -999.00
318M20040615,        P02,     102,          2,          8,          8,2,20040721,       0542,    30.0013,  -169.0545,       5324,  3247.8,   1.5080,  34.6710,2,  34.6691,4, 128.6000,2,   130.8,2,  162.42,2,   37.61,2,    0.00,2,    2.64,2,-999.000,9,-999.000,9,-999.000,9,  2344.3,2,  2422.3,2,-999.000,9,-999.0000,9, -999.00,9, -999.00,9,  -999.0,9,  -999.0,-999.000,9,-999.000,   37.70,2, 3247.80,-999.0000,9,-999.0000,9,-999.0000,9,-999.0000,9,-999.0000,9,-999.0000,-999.000,-999.0000,9, -999.00
318M20040615,        P02,     102,          2,          7,          7,2,20040721,       0542,    30.0013,  -169.0545,       5324,  3551.3,   1.4760,  34.6774,2,  34.6762,4, 139.7000,2,   140.1,2,  158.39,2,   36.86,2,    0.00,2,    2.59,2,   0.004,2,   0.002,2,   0.001,2,  2333.9,2,  2420.4,2,-999.000,9,-999.0000,9, -999.00,9, -999.00,9,  -999.0,9,  -999.0,-999.000,9,-999.000,   37.80,2, 3551.30,-999.0000,9,-999.0000,9,-999.0000,9,-999.0000,9,-999.0000,9,-999.0000,-999.000,-999.0000,9, -999.00
318M20040615,        P02,     102,          2,          6,          6,2,20040721,       0542,    30.0013,  -169.0545,       5324,  3850.0,   1.4653,  34.6819,2,  34.6802,4, 145.5000,2,   145.2,2,  157.33,2,   36.58,2,    0.00,2,    2.56,2,-999.000,9,-999.000,9,-999.000,9,  2330.6,2,  2420.6,2,-999.000,9,-999.0000,9, -999.00,9, -999.00,9,  -999.0,9,  -999.0,-999.000,9,-999.000,   37.80,2, 3850.00,-999.0000,9,-999.0000,9,-999.0000,9,-999.0000,9,-999.0000,9,-999.0000,-999.000,-999.0000,9, -999.00
318M20040615,        P02,     102,          2,          5,          5,2,20040721,       0542,    30.0013,  -169.0545,       5324,  4149.7,   1.4679,  34.6850,2,  34.6859,4, 150.9000,2,   149.6,2,  155.60,2,   36.46,2,    0.00,2,    2.53,2,   0.005,2,   0.003,2,   0.001,2,  2327.7,2,  2420.9,2,-999.000,9,-999.0000,9, -999.00,9, -999.00,9,  -999.0,9,  -999.0,-999.000,9,-999.000,   37.20,2, 4149.70,-999.0000,9,-999.0000,9,-999.0000,9,-999.0000,9,-999.0000,9,-999.0000,-999.000,-999.0000,9, -999.00
318M20040615,        P02,     102,          2,          4,          4,2,20040721,       0542,    30.0013,  -169.0545,       5324,  4500.6,   1.4855,  34.6874,2,  34.6857,4, 156.1000,2,   157.7,3,  154.54,2,   36.29,2,    0.00,2,    2.52,2,   0.007,2,   0.008,2,   0.001,2,  2326.0,2,  2418.6,2,-999.000,9,-999.0000,9, -999.00,9, -999.00,9,  -999.0,9,  -999.0,-999.000,9,-999.000,   37.40,2, 4500.60,-999.0000,9,-999.0000,9,-999.0000,9,-999.0000,9,-999.0000,9,-999.0000,-999.000,-999.0000,9, -999.00
318M20040615,        P02,     102,          2,          3,          3,2,20040721,       0542,    30.0013,  -169.0545,       5324,  4852.1,   1.5075,  34.6891,2,  34.6882,4, 165.9000,2,   156.9,2,  151.34,2,   36.02,2,    0.00,2,    2.50,2,   0.006,2,   0.005,2,   0.001,2,  2322.6,2,  2417.1,2,-999.000,9,-999.0000,9, -999.00,9, -999.00,9,  -999.0,9,  -999.0,-999.000,9,-999.000,   37.60,2, 4852.10,-999.0000,9,-999.0000,9,-999.0000,9,-999.0000,9,-999.0000,9,-999.0000,-999.000,-999.0000,9, -999.00
318M20040615,        P02,     102,          2,          2,          2,2,20040721,       0542,    30.0013,  -169.0545,       5324,  5141.0,   1.5242,  34.6908,2,  34.6955,4, 175.9000,3,   160.4,2,  148.14,2,   35.69,2,    0.00,2,    2.48,2,-999.000,9,-999.000,9,-999.000,9,  2319.2,2,  2415.1,2,-999.000,9,-999.0000,9, -999.00,9, -999.00,9,  -999.0,9,  -999.0,-999.000,9,-999.000,   37.40,2, 5141.00,-999.0000,9,-999.0000,9,-999.0000,9,-999.0000,9,-999.0000,9,-999.0000,-999.000,-999.0000,9, -999.00
318M20040615,        P02,     102,          2,          1,          1,2,20040721,       0542,    30.0013,  -169.0545,       5324,  5444.4,   1.5365,  34.6928,2,  34.6944,4, 187.2000,2,   165.3,2,  143.89,2,   35.21,2,    0.00,2,    2.45,2,   0.006,2,   0.003,2,   0.001,2,  2313.2,6,  2412.0,6,-999.000,9,-999.0000,9, -999.00,9, -999.00,9,  -999.0,9,  -999.0,-999.000,9,-999.000,   37.00,2, 5444.40,-999.0000,9,-999.0000,9,-999.0000,9,-999.0000,9,-999.0000,9,-999.0000,-999.000,-999.0000,9, -999.00