BOTTLE,20131027SIOCCHRJL
EXPOCODE,SECT_ID,STNNBR,CASTNO,SAMPNO,BTLNBR,BTLNBR_FLAG_W,DATE,TIME,LATITUDE,LONGITUDE,DEPTH,CTDPRS,CTDTMP,CTDSAL,CTDSAL_FLAG_W,SALNTY,SALNTY_FLAG_W,CTDOXY,CTDOXY_FLAG_W,OXYGEN,OXYGEN_FLAG_W,SILCAT,SILCAT_FLAG_W,NITRAT,NITRAT_FLAG_W,NITRIT,NITRIT_FLAG_W,PHSPHT,PHSPHT_FLAG_W,CFC-11,CFC-11_FLAG_W,CFC-12,CFC-12_FLAG_W,CFC113,CFC113_FLAG_W,TCARBN,TCARBN_FLAG_W,ALKALI,ALKALI_FLAG_W,TRITUM,TRITUM_FLAG_W,HELIUM,HELIUM_FLAG_W,DELHE3,DELHE3_FLAG_W,DELC13,DELC13_FLAG_W,DELC14,DELC14_FLAG_W,C14ERR,NEON,NEON_FLAG_W,NEONER,DOC,DOC_FLAG_W,CTDRAW,CDOM380,CDOM380_FLAG_W,CDOM325,CDOM325_FLAG_W,CDOMSL,CDOMSL_FLAG_W,CDOM340,CDOM340_FLAG_W,CDOMSN,CDOMSN_FLAG_W,HELIER,TRITER,CDOM412,CDOM412_FLAG_W,DELHER
,,,,,,,,,,,METERS,DBAR,ITS-90,PSS-78,,PSS-78,,UMOL/KG,,UMOL/KG,,UMOL/KG,,UMOL/KG,,UMOL/KG,,UMOL/KG,,PMOL/KG,,PMOL/KG,,PMOL/KG,,UMOL/KG,,UMOL/KG,,TU,,NMOL/KG,,PERCNT,,/MILLE,,/MILLE,,/MILLE,NMOL/KG,,NMOL/KG,UMOL/KG,,DBAR,1/M,,1/M,,1/NM,,1/M,,1/NM,,NMOL/KG,TU,1/M,,PERCNT
318M20040615,        P02,      18,          1,         30,         30,2,20040621,       2121,       30.0,   136.6072,       4386,     7.5,  24.2516,  34.5140,2,  34.5144,2, 219.2000,2,   219.5,2,    1.38,2,    0.13,2,    0.00,2,    0.08,2,   1.951,2,   1.194,2,   0.137,2,  1954.1,6,  2266.0,6,-999.000,9,-999.0000,9, -999.00,9,    1.13,2,    69.8,2,     5.8,-999.000,9,-999.000,   66.80,2,    7.50,-999.0000,9,-999.0000,9,-999.0000,9,-999.0000,9,-999.0000,9,-999.0000,-999.000,-999.0000,9, -999.00
318M20040615,        P02,      18,          1,         29,         29,2,20040621,       2121,       30.0,   136.6072,       4386,    41.7,  23.6103,  34.5915,2,  34.5981,2, 223.4000,2,   217.5,2,    1.37,2,    0.13,2,    0.00,2,    0.09,2,   2.016,2,   1.230,2,   0.136,2,  1962.5,2,  2270.7,2,-999.000,9,-999.0000,9, -999.00,9, -999.00,9,  -999.0,9,  -999.0,-999.000,9,-999.000,   63.50,2,   41.70,-999.0000,9,-999.0000,9,-999.0000,9,-999.0000,9,-999.0000,9,-999.0000,-999.000,-999.0000,9, -999.00
318M20040615,        P02,      18,          1,         28,         28,2,20040621,       2121,       30.0,   136.6072,       4386,    86.7,  20.7827,  34.8757,2,  34.8755,2, 229.1000,2,   227.4,2,    1.54,2,    0.13,2,    0.00,2,    0.08,2,   2.221,2,   1.314,2,   0.139,2,  1986.0,2,  2288.9,2,-999.000,9,-999.0000,9, -999.00,9,    1.08,2,    65.6,2,     4.9,-999.000,9,-999.000,   61.50,2,   86.70,-999.0000,9,-999.0000,9,-999.0000,9,-999.0000,9,-999.0000,9,-999.0000,-999.000,-999.0000,9, -999.00
318M20040615,        P02,      18,          1,         27,         27,2,20040621,       2121,       30.0,   136.6072,       4386,   136.6,  19.1131,  34.8757,2,  34.8748,2, 212.3000,2,   215.8,2,    2.08,2,    1.76,2,    0.06,2,    0.21,2,   2.308,2,   1.360,2,   0.127,2,  2005.2,2,  2288.3,2,-999.000,9,-999.0000,9, -999.00,9, -999.00,9,  -999.0,9,  -999.0,-999.000,9,-999.000,   58.20,2,  136.60,-999.0000,9,-999.0000,9,-999.0000,9,-999.0000,9,-999.0000,9,-999.0000,-999.000,-999.0000,9, -999.00
318M20040615,        P02,      18,          1,         26,         26,2,20040621,       2121,       30.0,   136.6072,       4386,   186.5,  18.6385,  34.8761,2,  34.8742,2, 216.7000,2,   216.8,2,    2.26,2,    2.25,2,    0.01,2,    0.23,2,   2.338,2,   1.358,2,   0.124,2,  2008.5,2,  2287.7,2,-999.000,9,-999.0000,9, -999.00,9,    0.88,2,    81.7,2,     4.7,-999.000,9,-999.000,   56.90,2,  186.50,-999.0000,9,-999.0000,9,-999.0000,9,-999.0000,9,-999.0000,9,-999.0000,-999.000,-999.0000,9, -999.00
318M20040615,        P02,      18,          1,         25,         25,2,20040621,       2121,       30.0,   136.6072,       4386,   241.1,  18.2972,  34.8479,2,  34.8471,2, 215.3000,2,   214.2,2,    2.61,2,    2.80,2,    0.01,2,    0.27,2,   2.365,2,   1.366,2,   0.107,2,  2014.4,2,  2286.7,2,-999.000,9,-999.0000,9, -999.00,9, -999.00,9,  -999.0,9,  -999.0,-999.000,9,-999.000,   55.50,2,  241.10,-999.0000,9,-999.0000,9,-999.0000,9,-999.0000,9,-999.0000,9,-999.0000,-999.000,-999.0000,9, -999.00
318M20040615,        P02,      18,          1,         24,         24,2,20040621,       2121,       30.0,   136.6072,       4386,   291.4,  17.5372,  34.8031,2,  34.8004,2, 215.7000,2,   215.7,2,    3.15,2,    3.35,2,    0.01,2,    0.30,2,   2.476,2,   1.413,2,   0.105,2,  2020.4,2,  2284.4,2,-999.000,9,-999.0000,9, -999.00,9,    0.75,2,    87.3,2,     4.8,-999.000,9,-999.000,   52.70,2,  291.40,-999.0000,9,-999.0000,9,-999.0000,9,-999.0000,9,-999.0000,9,-999.0000,-999.000,-999.0000,9, -999.00
318M20040615,        P02,      18,          1,         23,         23,2,20040621,       2121,       30.0,   136.6072,       4386,   376.5,  16.7515,  34.7371,2,  34.7377,2, 216.8000,2,   204.9,2,    5.29,2,    5.65,2,    0.00,2,    0.46,2,   2.501,2,   1.418,2,   0.061,2,  2037.3,2,  2280.2,2,-999.000,9,-999.0000,9, -999.00,9,    0.65,2,    81.5,2,     5.3,-999.000,9,-999.000,   51.10,2,  376.50,-999.0000,9,-999.0000,9,-999.0000,9,-999.0000,9,-999.0000,9,-999.0000,-999.000,-999.0000,9, -999.00
318M20040615,        P02,      18,          1,         22,         22,2,20040621,       2121,       30.0,   136.6072,       4386,   475.9,  14.5898,  34.5700,2,  34.5688,2, 187.5000,2,   183.9,2,   11.93,2,   10.97,2,    0.00,2,    0.82,2,   2.527,2,   1.392,2,   0.028,2,  2076.9,2,  2276.3,2,-999.000,9,-999.0000,9, -999.00,9,    0.58,2,    71.5,2,     4.6,-999.000,9,-999.000,   49.60,2,  475.90,-999.0000,9,-999.0000,9,-999.0000,9,-999.0000,9,-999.0000,9,-999.0000,-999.000,-999.0000,9, -999.00
318M20040615,        P02,      18,          1,         21,         21,2,20040621,       2121,       30.0,   136.6072,       4386,   574.4,  12.0234,  34.4015,2,  34.3957,2, 170.1000,2,   171.8,2,   22.35,2,   16.32,2,    0.00,2,    1.21,2,   2.419,2,   1.309,2,   0.038,2,  2116.2,2,  2275.4,2,-999.000,9,-999.0000,9, -999.00,9,    0.42,2,    41.7,2,     4.5,-999.000,9,-999.000,   47.10,2,  574.40,-999.0000,9,-999.0000,9,-999.0000,9,-999.0000,9,-999.0000,9,-999.0000,-999.000,-999.0000,9, -999.00
318M20040615,        P02,      18,          1,         20,         20,2,20040621,       2121,       30.0,   136.6072,       4386,   674.4,   9.1446,  34.2359,2,  34.2359,2, 147.6000,2,   149.1,2,   39.85,2,   23.20,2,    0.00,2,    1.71,2,   2.078,2,   1.093,2,   0.050,2,  2168.6,2,  2282.7,2,-999.000,9,-999.0000,9, -999.00,9,    0.19,2,    -6.9,2,     4.4,-999.000,9,-999.000,   46.00,2,  674.40,-999.0000,9,-999.0000,9,-999.0000,9,-999.0000,9,-999.0000,9,-999.0000,-999.000,-999.0000,9, -999.00
318M20040615,        P02,      18,          1,         19,         19,2,20040621,       2121,       30.0,   136.6072,       4386,   776.2,   6.9644,  34.1784,2,  34.1781,2, 115.0000,2,   117.5,2,   61.96,2,   29.92,2,    0.00,2,    2.21,2,   1.526,2,   0.819,2,   0.047,2,  2224.5,2,  2299.7,2,-999.000,9,-999.0000,9, -999.00,9,    0.11,2,   -60.4,2,     4.2,-999.000,9,-999.000,   44.70,2,  776.20,-999.0000,9,-999.0000,9,-999.0000,9,-999.0000,9,-999.0000,9,-999.0000,-999.000,-999.0000,9, -999.00
318M20040615,        P02,      18,          1,         18,         18,2,20040621,       2121,       30.0,   136.6072,       4386,   877.3,   5.4571,  34.2478,2,  34.2515,2,  90.8000,2,    85.7,2,   86.19,2,   35.10,2,    0.00,2,    2.58,2,   0.828,2,   0.442,2,   0.022,2,  2275.2,2,  2325.1,2,-999.000,9,-999.0000,9, -999.00,9,   -0.06,2,  -120.0,2,     4.2,-999.000,9,-999.000,   43.60,2,  877.30,-999.0000,9,-999.0000,9,-999.0000,9,-999.0000,9,-999.0000,9,-999.0000,-999.000,-999.0000,9, -999.00
318M20040615,        P02,      18,          1,         17,         17,2,20040621,       2121,       30.0,   136.6072,       4386,   977.8,   4.6354,  34.2940,2,  34.2941,2,  72.5000,2,    69.5,2,  100.85,2,   37.84,2,    0.00,2,    2.78,2,   0.491,2,   0.247,2,   0.009,2,  2304.4,2,  2340.3,2,-999.000,9,-999.0000,9, -999.00,9,   -0.14,2,  -158.2,2,     4.0,-999.000,9,-999.000,   41.60,2,  977.80,-999.0000,9,-999.0000,9,-999.0000,9,-999.0000,9,-999.0000,9,-999.0000,-999.000,-999.0000,9, -999.00
318M20040615,        P02,      18,          1,         16,         16,2,20040621,       2121,       30.0,   136.6072,       4386,  1084.1,   3.9832,  34.3548,2,  34.3548,2,  62.8000,2,    63.2,2,  114.61,2,   39.29,2,    0.00,2,    2.88,2,   0.302,2,   0.158,2,   0.007,2,  2323.8,6,  2355.8,2,-999.000,9,-999.0000,9, -999.00,9,   -0.19,2,  -179.9,2,     3.4,-999.000,9,-999.000,   40.30,2, 1084.10,-999.0000,9,-999.0000,9,-999.0000,9,-999.0000,9,-999.0000,9,-999.0000,-999.000,-999.0000,9, -999.00
318M20040615,        P02,      18,          1,         15,         15,2,20040621,       2121,       30.0,   136.6072,       4386,  1185.2,   3.5317,  34.4069,2,  34.4066,2,  62.1000,2,    63.2,2,  124.19,2,   39.93,2,    0.00,2,    2.92,2,   0.196,6,   0.105,6,   0.008,6,  2337.3,2,  2367.5,2,-999.000,9,-999.0000,9, -999.00,9,   -0.19,2,  -189.2,2,     3.0,-999.000,9,-999.000,   39.00,2, 1185.20,-999.0000,9,-999.0000,9,-999.0000,9,-999.0000,9,-999.0000,9,-999.0000,-999.000,-999.0000,9, -999.00
318M20040615,        P02,      18,          1,         14,         14,2,20040621,       2121,       30.0,   136.6072,       4386,  1290.3,   3.1995,  34.4457,2,  34.4451,2,  65.1000,2,    64.4,2,  130.86,2,   40.16,2,    0.00,2,    2.93,2,   0.112,2,   0.059,2,   0.004,2,  2344.0,2,  2376.1,2,-999.000,9,-999.0000,9, -999.00,9,   -0.25,2,  -204.0,2,     4.6,-999.000,9,-999.000,   38.60,2, 1290.30,-999.0000,9,-999.0000,9,-999.0000,9,-999.0000,9,-999.0000,9,-999.0000,-999.000,-999.0000,9, -999.00
318M20040615,        P02,      18,          1,         13,         13,2,20040621,       2121,       30.0,   136.6072,       4386,  1390.3,   2.9604,  34.4747,2,  34.4750,2,  67.9000,2,    67.7,2,  135.32,2,   40.22,2,    0.00,2,    2.93,2,   0.083,2,   0.039,2,  -0.001,2,  2348.0,2,  2382.3,2,-999.000,9,-999.0000,9, -999.00,9,   -0.20,2,  -209.2,2,     3.5,-999.000,9,-999.000,   38.30,2, 1390.30,-999.0000,9,-999.0000,9,-999.0000,9,-999.0000,9,-999.0000,9,-999.0000,-999.000,-999.0000,9, -999.00
318M20040615,        P02,      18,          1,         12,         12,2,20040621,       2121,       30.0,   136.6072,       4386,  1490.6,   2.7524,  34.5006,2,  34.5008,2,  71.5000,2,    72.3,2,  138.85,2,   40.12,2,    0.00,2,    2.92,2,   0.057,2,   0.026,2,   0.005,2,  2349.7,2,  2388.6,2,-999.000,9,-999.0000,9, -999.00,9,   -0.17,6,  -215.5,6,     1.3,-999.000,9,-999.000,   38.20,2, 1490.60,-999.0000,9,-999.0000,9,-999.0000,9,-999.0000,9,-999.0000,9,-999.0000,-999.000,-999.0000,9, -999.00
318M20040615,        P02,      18,          1,         11,         11,2,20040621,       2121,       30.0,   136.6072,       4386,  1592.6,   2.5948,  34.5219,2,  34.5244,2,  77.8000,2,    77.9,2,  140.71,2,   39.87,2,    0.00,2,    2.89,2,   0.040,2,   0.019,2,   0.001,2,  2348.4,2,  2391.7,2,-999.000,9,-999.0000,9, -999.00,9,   -0.13,2,  -217.6,2,     4.3,-999.000,9,-999.000,   37.80,2, 1592.60,-999.0000,9,-999.0000,9,-999.0000,9,-999.0000,9,-999.0000,9,-999.0000,-999.000,-999.0000,9, -999.00
318M20040615,        P02,      18,          1,         10,         10,2,20040621,       2121,       30.0,   136.6072,       4386,  1754.2,   2.3500,  34.5544,2,  34.5549,2,  88.9000,2,    87.6,2,  143.48,2,   39.66,2,    0.00,2,    2.86,2,   0.021,2,   0.013,2,   0.004,2,  2349.0,2,  2397.3,2,-999.000,9,-999.0000,9, -999.00,9,   -0.11,2,  -219.4,2,     4.0,-999.000,9,-999.000,   37.70,2, 1754.20,-999.0000,9,-999.0000,9,-999.0000,9,-999.0000,9,-999.0000,9,-999.0000,-999.000,-999.0000,9, -999.00
318M20040615,        P02,      18,          1,          9,          9,2,20040621,       2121,       30.0,   136.6072,       4386,  1955.6,   2.1195,  34.5865,2,  34.5866,2,  99.4000,2,    99.7,2,  145.16,2,   39.34,2,    0.00,2,    2.82,2,   0.014,2,   0.010,2,   0.004,2,  2347.1,2,  2401.6,2,-999.000,9,-999.0000,9, -999.00,9,   -0.03,2,  -221.7,2,     3.9,-999.000,9,-999.000,   37.60,2, 1955.60,-999.0000,9,-999.0000,9,-999.0000,9,-999.0000,9,-999.0000,9,-999.0000,-999.000,-999.0000,9, -999.00
318M20040615,        P02,      18,          1,          8,          8,2,20040621,       2121,       30.0,   136.6072,       4386,  2199.5,   1.9494,  34.6121,2,  34.6136,2, 112.2000,2,   111.1,2,  145.73,2,   39.09,2,    0.00,2,    2.74,2,   0.008,2,   0.009,2,   0.006,2,  2341.3,2,  2406.5,2,-999.000,9,-999.0000,9, -999.00,9,    0.01,2,  -225.7,2,     3.7,-999.000,9,-999.000,   37.90,2, 2199.50,-999.0000,9,-999.0000,9,-999.0000,9,-999.0000,9,-999.0000,9,-999.0000,-999.000,-999.0000,9, -999.00
318M20040615,        P02,      18,          1,          7,          7,2,20040621,       2121,       30.0,   136.6072,       4386,  2452.1,   1.8219,  34.6324,2,  34.6325,2, 123.0000,2,   122.6,2,  144.81,2,   38.35,2,    0.00,2,    2.70,2,   0.005,2,   0.008,2,   0.006,2,  2337.1,2,  2407.8,2,-999.000,9,-999.0000,9, -999.00,9, -999.00,5,  -999.0,5,  -999.0,-999.000,9,-999.000,   37.80,2, 2452.10,-999.0000,9,-999.0000,9,-999.0000,9,-999.0000,9,-999.0000,9,-999.0000,-999.000,-999.0000,9, -999.00
318M20040615,        P02,      18,          1,          6,          6,2,20040621,       2121,       30.0,   136.6072,       4386,  2741.7,   1.6959,  34.6507,2,  34.6522,2, 132.7000,2,   133.2,2,  144.27,2,   37.61,2,    0.00,2,    2.65,2,   0.007,2,   0.006,2,   0.005,2,  2333.2,2,  2410.3,2,-999.000,9,-999.0000,9, -999.00,9,    0.17,2,  -232.7,2,     3.6,-999.000,9,-999.000,   37.30,2, 2741.70,-999.0000,9,-999.0000,9,-999.0000,9,-999.0000,9,-999.0000,9,-999.0000,-999.000,-999.0000,9, -999.00
318M20040615,        P02,      18,          1,          5,          5,2,20040621,       2121,       30.0,   136.6072,       4386,  2985.7,   1.6147,  34.6624,2,  34.6627,2, 139.4000,2,   140.3,2,  143.35,2,   36.98,2,    0.00,2,    2.62,2,   0.008,2,   0.005,2,   0.007,2,  2329.8,2,  2411.4,2,-999.000,9,-999.0000,9, -999.00,9,    0.18,2,  -221.3,2,     3.8,-999.000,9,-999.000,   37.70,2, 2985.70,-999.0000,9,-999.0000,9,-999.0000,9,-999.0000,9,-999.0000,9,-999.0000,-999.000,-999.0000,9, -999.00
318M20040615,        P02,      18,          1,          4,          4,2,20040621,       2121,       30.0,   136.6072,       4386,  3307.4,   1.5488,  34.6732,2,  34.6759,2, 147.0000,3,   147.6,2,  142.79,2,   36.51,2,    0.00,2,    2.58,2,   0.010,2,   0.006,2,   0.007,2,  2326.3,2,  2412.3,2,-999.000,9,-999.0000,9, -999.00,9,    0.23,2,  -213.8,2,     3.7,-999.000,9,-999.000,   37.20,2, 3307.40,-999.0000,9,-999.0000,9,-999.0000,9,-999.0000,9,-999.0000,9,-999.0000,-999.000,-999.0000,9, -999.00
318M20040615,        P02,      18,          1,          3,          3,2,20040621,       2121,       30.0,   136.6072,       4386,  3708.0,   1.5398,  34.6784,2,  34.6838,2, 151.3000,3,   151.5,2,  142.44,2,   36.26,2,    0.00,2,    2.56,2,   0.010,2,   0.006,2,   0.005,2,  2324.5,2,  2410.9,2,-999.000,9,-999.0000,9, -999.00,9,    0.26,2,  -218.2,2,     3.9,-999.000,9,-999.000,   37.40,2, 3708.00,-999.0000,9,-999.0000,9,-999.0000,9,-999.0000,9,-999.0000,9,-999.0000,-999.000,-999.0000,9, -999.00
318M20040615,        P02,      18,          1,          2,          2,2,20040621,       2121,       30.0,   136.6072,       4386,  4119.6,   1.5541,  34.6818,2,  34.6823,2, 153.7000,2,   154.1,2,  141.91,2,   35.79,2,    0.00,2,    2.52,2,   0.011,2,   0.003,2,   0.006,2,  2323.1,2,  2412.2,2,-999.000,9,-999.0000,9, -999.00,9,    0.27,2,  -206.0,2,     3.8,-999.000,9,-999.000,   37.80,2, 4119.60,-999.0000,9,-999.0000,9,-999.0000,9,-999.0000,9,-999.0000,9,-999.0000,-999.000,-999.0000,9, -999.00
318M20040615,        P02,      18,          1,          1,          1,2,20040621,       2121,       30.0,   136.6072,       4386,  4449.7,   1.5835,  34.6825,2,  34.6827,2, 154.4000,2,   154.9,2,  141.74,2,   35.74,2,    0.00,2,    2.51,2,   0.011,2,   0.005,2,   0.004,2,  2322.3,6,  2410.7,2,-999.000,9,-999.0000,9, -999.00,9,    0.28,2,  -213.9,2,     3.5,-999.000,9,-999.000,   37.60,2, 4449.70,-999.0000,9,-999.0000,9,-999.0000,9,-999.0000,9,-999.0000,9,-999.0000,-999.000,-999.0000,9, -999.00