BOTTLE,20131027SIOCCHRJL
EXPOCODE,SECT_ID,STNNBR,CASTNO,SAMPNO,BTLNBR,BTLNBR_FLAG_W,DATE,TIME,LATITUDE,LONGITUDE,DEPTH,CTDPRS,CTDTMP,CTDSAL,CTDSAL_FLAG_W,SALNTY,SALNTY_FLAG_W,CTDOXY,CTDOXY_FLAG_W,OXYGEN,OXYGEN_FLAG_W,SILCAT,SILCAT_FLAG_W,NITRAT,NITRAT_FLAG_W,NITRIT,NITRIT_FLAG_W,PHSPHT,PHSPHT_FLAG_W,CFC-11,CFC-11_FLAG_W,CFC-12,CFC-12_FLAG_W,CFC113,CFC113_FLAG_W,TCARBN,TCARBN_FLAG_W,ALKALI,ALKALI_FLAG_W,TRITUM,TRITUM_FLAG_W,HELIUM,HELIUM_FLAG_W,DELHE3,DELHE3_FLAG_W,DELC13,DELC13_FLAG_W,DELC14,DELC14_FLAG_W,C14ERR,NEON,NEON_FLAG_W,NEONER,DOC,DOC_FLAG_W,CTDRAW,CDOM380,CDOM380_FLAG_W,CDOM325,CDOM325_FLAG_W,CDOMSL,CDOMSL_FLAG_W,CDOM340,CDOM340_FLAG_W,CDOMSN,CDOMSN_FLAG_W,HELIER,TRITER,CDOM412,CDOM412_FLAG_W,DELHER
,,,,,,,,,,,METERS,DBAR,ITS-90,PSS-78,,PSS-78,,UMOL/KG,,UMOL/KG,,UMOL/KG,,UMOL/KG,,UMOL/KG,,UMOL/KG,,PMOL/KG,,PMOL/KG,,PMOL/KG,,UMOL/KG,,UMOL/KG,,TU,,NMOL/KG,,PERCNT,,/MILLE,,/MILLE,,/MILLE,NMOL/KG,,NMOL/KG,UMOL/KG,,DBAR,1/M,,1/M,,1/NM,,1/M,,1/NM,,NMOL/KG,TU,1/M,,PERCNT
318M20040615,        P02,      14,          2,         32,         32,2,20040623,       0342,      30.24,   134.4903,       4537,    12.2,  25.2105,  34.5483,2,  34.5475,2, 209.1000,2,   209.2,2,    0.72,2,    0.05,2,    0.00,2,    0.04,2,   1.833,6,   1.100,6,   0.121,6,  1948.5,6,  2270.7,6,-999.000,9,-999.0000,9, -999.00,9,    1.11,2,    82.8,2,     4.2,-999.000,9,-999.000,   67.80,2,   12.20,-999.0000,9,-999.0000,9,-999.0000,9,-999.0000,9,-999.0000,9,-999.0000,-999.000,-999.0000,9, -999.00
318M20040615,        P02,      14,          2,         31,         31,2,20040623,       0342,      30.24,   134.4903,       4537,    35.9,  25.0252,  34.5600,2,  34.5562,2, 210.8000,2,   209.5,2,    0.73,2,    0.05,2,    0.00,2,    0.03,2,   1.824,2,   1.103,2,   0.118,2,  1948.8,2,  2270.6,2,-999.000,9,-999.0000,9, -999.00,9, -999.00,9,  -999.0,9,  -999.0,-999.000,9,-999.000,   64.10,2,   35.90,-999.0000,9,-999.0000,9,-999.0000,9,-999.0000,9,-999.0000,9,-999.0000,-999.000,-999.0000,9, -999.00
318M20040615,        P02,      14,          2,         30,         30,2,20040623,       0342,      30.24,   134.4903,       4537,    71.3,  24.4098,  34.6571,2,  34.6605,2, 212.3000,2,   211.6,2,    0.73,2,    0.05,2,    0.00,2,    0.03,2,   1.883,2,   1.147,2,   0.124,2,  1956.8,2,  2277.5,2,-999.000,9,-999.0000,9, -999.00,9,    1.08,2,    86.3,2,     4.0,-999.000,9,-999.000,   61.60,2,   71.30,-999.0000,9,-999.0000,9,-999.0000,9,-999.0000,9,-999.0000,9,-999.0000,-999.000,-999.0000,9, -999.00
318M20040615,        P02,      14,          2,         29,         29,2,20040623,       0342,      30.24,   134.4903,       4537,   122.0,  21.2935,  34.8971,2,  34.8986,2, 206.4000,2,   209.5,2,    1.27,2,    0.77,2,    0.05,2,    0.10,2,   2.093,2,   1.222,2,   0.114,2,  1989.3,2,  2292.6,2,-999.000,9,-999.0000,9, -999.00,9,    0.94,2,    78.0,2,     4.6,-999.000,9,-999.000,   59.10,2,  122.00,-999.0000,9,-999.0000,9,-999.0000,9,-999.0000,9,-999.0000,9,-999.0000,-999.000,-999.0000,9, -999.00
318M20040615,        P02,      14,          2,         28,         28,2,20040623,       0342,      30.24,   134.4903,       4537,   171.5,  20.4856,  34.8887,2,  34.8861,2, 204.5000,2,   205.7,2,    1.63,2,    1.48,2,    0.01,2,    0.14,2,   2.131,2,   1.239,2,   0.098,2,  1998.9,2,  2292.5,2,-999.000,9,-999.0000,9, -999.00,9,    0.90,2,    85.0,2,     4.9,-999.000,9,-999.000,   57.30,2,  171.50,-999.0000,9,-999.0000,9,-999.0000,9,-999.0000,9,-999.0000,9,-999.0000,-999.000,-999.0000,9, -999.00
318M20040615,        P02,      14,          2,         27,         27,2,20040623,       0342,      30.24,   134.4903,       4537,   220.3,  19.5987,  34.8763,2,  34.8705,2, 200.6000,2,   203.1,2,    2.17,2,    2.21,2,    0.01,2,    0.20,2,   2.252,2,   1.290,2,   0.071,2,  2011.1,2,  2292.2,2,-999.000,9,-999.0000,9, -999.00,9,    0.82,2,    79.9,2,     5.0,-999.000,9,-999.000,   55.50,2,  220.30,-999.0000,9,-999.0000,9,-999.0000,9,-999.0000,9,-999.0000,9,-999.0000,-999.000,-999.0000,9, -999.00
318M20040615,        P02,      14,          2,         26,         26,2,20040623,       0342,      30.24,   134.4903,       4537,   271.9,  18.6540,  34.8433,2,  34.8456,2, 200.5000,2,   205.6,2,    2.71,2,    2.93,2,    0.01,2,    0.23,2,   2.310,2,   1.323,2,   0.067,2,  2016.7,2,  2290.2,2,-999.000,9,-999.0000,9, -999.00,9,    0.80,2,    84.1,2,     5.3,-999.000,9,-999.000,   53.50,2,  271.90,-999.0000,9,-999.0000,9,-999.0000,9,-999.0000,9,-999.0000,9,-999.0000,-999.000,-999.0000,9, -999.00
318M20040615,        P02,      14,          2,         25,         25,2,20040623,       0342,      30.24,   134.4903,       4537,   342.0,  17.4337,  34.7550,2,  34.7516,2, 196.7000,2,   198.7,2,    4.14,2,    4.95,2,    0.01,2,    0.37,2,   2.442,2,   1.359,2,   0.026,2,  2034.8,2,  2284.3,2,-999.000,9,-999.0000,9, -999.00,9,    0.70,2,    85.6,2,     4.5,-999.000,9,-999.000,   50.90,2,  342.00,-999.0000,9,-999.0000,9,-999.0000,9,-999.0000,9,-999.0000,9,-999.0000,-999.000,-999.0000,9, -999.00
318M20040615,        P02,      14,          2,         24,         24,2,20040623,       0342,      30.24,   134.4903,       4537,   441.1,  15.7291,  34.6430,2,  34.6414,2, 189.0000,2,   188.6,2,    8.43,2,    8.57,2,    0.01,2,    0.63,2,   2.509,2,   1.341,2,   0.022,2,  2061.4,2,  2281.7,2,-999.000,9,-999.0000,9, -999.00,9,    0.58,2,    74.3,2,     4.0,-999.000,9,-999.000,   48.30,2,  441.10,-999.0000,9,-999.0000,9,-999.0000,9,-999.0000,9,-999.0000,9,-999.0000,-999.000,-999.0000,9, -999.00
318M20040615,        P02,      14,          2,         23,         23,2,20040623,       0342,      30.24,   134.4903,       4537,   541.7,  13.2559,  34.4748,2,  34.4719,2, 178.7000,2,   180.3,2,   15.77,2,   13.19,2,    0.01,2,    0.96,2,   2.540,2,   1.308,2,   0.035,2,  2093.5,2,  2277.2,2,-999.000,9,-999.0000,9, -999.00,9,    0.52,2,    65.1,2,     5.3,-999.000,9,-999.000,   46.90,2,  541.70,-999.0000,9,-999.0000,9,-999.0000,9,-999.0000,9,-999.0000,9,-999.0000,-999.000,-999.0000,9, -999.00
318M20040615,        P02,      14,          2,         22,         22,2,20040623,       0342,      30.24,   134.4903,       4537,   642.5,  11.0584,  34.3403,2,  34.3416,2, 165.1000,2,   164.1,2,   26.87,2,   18.41,2,    0.01,2,    1.34,2,   2.304,2,   1.191,2,   0.044,2,  2132.0,2,  2281.5,2,-999.000,9,-999.0000,9, -999.00,9,    0.40,2,    35.8,2,     4.5,-999.000,9,-999.000,   45.30,2,  642.50,-999.0000,9,-999.0000,9,-999.0000,9,-999.0000,9,-999.0000,9,-999.0000,-999.000,-999.0000,9, -999.00
318M20040615,        P02,      14,          2,         21,         21,2,20040623,       0342,      30.24,   134.4903,       4537,   742.9,   7.9094,  34.1942,2,  34.1924,2, 131.5000,2,   129.2,2,   50.63,2,   27.17,2,    0.01,2,    1.98,2,   1.686,2,   0.880,2,   0.041,2,  2199.7,2,  2295.6,2,-999.000,9,-999.0000,9, -999.00,9,    0.17,2,   -32.6,2,     4.4,-999.000,9,-999.000,   44.10,2,  742.90,-999.0000,9,-999.0000,9,-999.0000,9,-999.0000,9,-999.0000,9,-999.0000,-999.000,-999.0000,9, -999.00
318M20040615,        P02,      14,          2,         20,         20,2,20040623,       0342,      30.24,   134.4903,       4537,   843.0,   6.6357,  34.2502,2,  34.2489,2,  99.7000,2,   101.3,2,   70.89,2,   31.93,2,    0.01,2,    2.33,2,   1.065,2,   0.560,2,   0.024,2,  2244.8,2,  2316.5,2,-999.000,9,-999.0000,9, -999.00,9,    0.03,2,  -114.8,2,     4.6,-999.000,9,-999.000,   43.20,2,  843.00,-999.0000,9,-999.0000,9,-999.0000,9,-999.0000,9,-999.0000,9,-999.0000,-999.000,-999.0000,9, -999.00
318M20040615,        P02,      14,          2,         19,         19,2,20040623,       0342,      30.24,   134.4903,       4537,   942.6,   5.1966,  34.2772,2,  34.2785,2,  79.6000,2,    77.8,2,   90.69,2,   36.47,2,    0.01,2,    2.65,2,   0.604,2,   0.308,2,   0.013,2,  2286.4,6,  2333.6,2,-999.000,9,-999.0000,9, -999.00,9,   -0.09,2,  -143.5,2,     5.1,-999.000,9,-999.000,   41.90,2,  942.60,-999.0000,9,-999.0000,9,-999.0000,9,-999.0000,9,-999.0000,9,-999.0000,-999.000,-999.0000,9, -999.00
318M20040615,        P02,      14,          2,         18,         18,2,20040623,       0342,      30.24,   134.4903,       4537,  1041.7,   4.4857,  34.3680,2,  34.3674,2,  71.4000,2,    73.0,2,  106.18,2,   37.94,2,    0.00,2,    2.75,2,   0.371,2,   0.183,2,   0.004,2,  2308.9,2,  2356.9,2,-999.000,9,-999.0000,9, -999.00,9,   -0.12,2,  -174.8,2,     4.2,-999.000,9,-999.000,   40.20,2, 1041.70,-999.0000,9,-999.0000,9,-999.0000,9,-999.0000,9,-999.0000,9,-999.0000,-999.000,-999.0000,9, -999.00
318M20040615,        P02,      14,          2,         17,         17,2,20040623,       0342,      30.24,   134.4903,       4537,  1137.3,   3.7849,  34.3986,2,  34.3971,2,  64.9000,2,    65.5,2,  118.25,2,   39.92,2,    0.00,2,    2.87,2,   0.205,2,   0.099,2,   0.024,3,  2328.4,2,  2367.9,2,-999.000,9,-999.0000,9, -999.00,9,   -0.19,2,  -188.0,2,     4.5,-999.000,9,-999.000,   39.00,2, 1137.30,-999.0000,9,-999.0000,9,-999.0000,9,-999.0000,9,-999.0000,9,-999.0000,-999.000,-999.0000,9, -999.00
318M20040615,        P02,      14,          2,         16,         16,2,20040623,       0342,      30.24,   134.4903,       4537,  1237.7,   3.4425,  34.4302,2,  34.4299,2,  66.5000,2,    65.6,2,  125.02,2,   40.57,2,    0.00,2,    2.90,2,   0.140,2,   0.070,2,   0.001,2,  2337.5,2,  2374.8,2,-999.000,9,-999.0000,9, -999.00,9,   -0.18,2,  -194.3,2,     3.7,-999.000,9,-999.000,   38.20,2, 1237.70,-999.0000,9,-999.0000,9,-999.0000,9,-999.0000,9,-999.0000,9,-999.0000,-999.000,-999.0000,9, -999.00
318M20040615,        P02,      14,          2,         15,         15,2,20040623,       0342,      30.24,   134.4903,       4537,  1342.0,   3.1810,  34.4666,2,  34.4652,2,  68.8000,2,    70.3,2,  129.98,2,   40.69,2,    0.00,2,    2.90,2,   0.093,2,   0.048,2,   0.002,2,  2341.1,2,  2381.6,2,-999.000,9,-999.0000,9, -999.00,9, -999.00,9,  -999.0,9,  -999.0,-999.000,9,-999.000,   37.90,2, 1342.00,-999.0000,9,-999.0000,9,-999.0000,9,-999.0000,9,-999.0000,9,-999.0000,-999.000,-999.0000,9, -999.00
318M20040615,        P02,      14,          2,         14,         14,2,20040623,       0342,      30.24,   134.4903,       4537,  1442.1,   2.9634,  34.4852,2,  34.4847,2,  72.4000,2,    72.2,2,  134.38,2,   40.74,2,    0.00,2,    2.90,2,   0.071,2,   0.039,2,   0.002,2,  2343.8,2,  2385.2,2,-999.000,9,-999.0000,9, -999.00,9, -999.00,9,  -999.0,9,  -999.0,-999.000,9,-999.000,   37.30,2, 1442.10,-999.0000,9,-999.0000,9,-999.0000,9,-999.0000,9,-999.0000,9,-999.0000,-999.000,-999.0000,9, -999.00
318M20040615,        P02,      14,          2,         13,         13,2,20040623,       0342,      30.24,   134.4903,       4537,  1541.7,   2.7617,  34.5079,2,  34.5089,2,  76.1000,2,    76.5,2,  137.68,2,   40.59,2,    0.00,2,    2.90,2,   0.052,2,   0.025,2,   0.005,2,  2347.2,2,  2392.8,2,-999.000,9,-999.0000,9, -999.00,9, -999.00,9,  -999.0,9,  -999.0,-999.000,9,-999.000,   37.50,2, 1541.70,-999.0000,9,-999.0000,9,-999.0000,9,-999.0000,9,-999.0000,9,-999.0000,-999.000,-999.0000,9, -999.00
318M20040615,        P02,      14,          2,         12,         12,2,20040623,       0342,      30.24,   134.4903,       4537,  1685.1,   2.5248,  34.5370,2,  34.5430,2,  83.2000,3,    84.2,2,  140.80,2,   40.14,2,    0.00,2,    2.86,2,   0.033,2,   0.019,2,  -0.004,2,  2346.6,2,  2398.6,2,-999.000,9,-999.0000,9, -999.00,9, -999.00,9,  -999.0,9,  -999.0,-999.000,9,-999.000,   37.10,2, 1685.10,-999.0000,9,-999.0000,9,-999.0000,9,-999.0000,9,-999.0000,9,-999.0000,-999.000,-999.0000,9, -999.00
318M20040615,        P02,      14,          2,         11,         11,2,20040623,       0342,      30.24,   134.4903,       4537,  1881.3,   2.2919,  34.5691,2,  34.5674,2,  95.1000,2,    95.3,2,  142.66,2,   39.55,2,    0.00,2,    2.82,2,   0.022,2,   0.014,2,   0.010,2,  2344.9,2,  2403.0,2,-999.000,9,-999.0000,9, -999.00,9, -999.00,9,  -999.0,9,  -999.0,-999.000,9,-999.000,   37.20,2, 1881.30,-999.0000,9,-999.0000,9,-999.0000,9,-999.0000,9,-999.0000,9,-999.0000,-999.000,-999.0000,9, -999.00
318M20040615,        P02,      14,          2,         10,         10,2,20040623,       0342,      30.24,   134.4903,       4537,  2100.4,   2.0789,  34.5958,2,  34.5959,2, 105.8000,2,   104.8,2,  145.03,2,   39.00,2,    0.01,2,    2.77,2,   0.013,2,   0.010,2,   0.005,2,  2343.1,2,  2408.5,2,-999.000,9,-999.0000,9, -999.00,9, -999.00,9,  -999.0,9,  -999.0,-999.000,9,-999.000,   37.50,2, 2100.40,-999.0000,9,-999.0000,9,-999.0000,9,-999.0000,9,-999.0000,9,-999.0000,-999.000,-999.0000,9, -999.00
318M20040615,        P02,      14,          2,          9,          9,2,20040623,       0342,      30.24,   134.4903,       4537,  2351.0,   1.8797,  34.6231,2,  34.6229,2, 117.7000,2,   117.9,2,  145.40,2,   38.24,2,    0.01,2,    2.72,2,   0.009,2,   0.009,2,   0.008,2,  2339.4,2,  2412.3,2,-999.000,9,-999.0000,9, -999.00,9, -999.00,9,  -999.0,9,  -999.0,-999.000,9,-999.000,   36.90,2, 2351.00,-999.0000,9,-999.0000,9,-999.0000,9,-999.0000,9,-999.0000,9,-999.0000,-999.000,-999.0000,9, -999.00
318M20040615,        P02,      14,          2,          8,          8,2,20040623,       0342,      30.24,   134.4903,       4537,  2601.2,   1.7380,  34.6438,2,  34.6449,2, 128.3000,2,   129.2,2,  145.22,2,   37.53,2,    0.01,2,    2.65,2,   0.008,2,   0.008,2,   0.004,2,  2333.6,2,  2414.3,2,-999.000,9,-999.0000,9, -999.00,9, -999.00,9,  -999.0,9,  -999.0,-999.000,9,-999.000,   37.20,2, 2601.20,-999.0000,9,-999.0000,9,-999.0000,9,-999.0000,9,-999.0000,9,-999.0000,-999.000,-999.0000,9, -999.00
318M20040615,        P02,      14,          2,          7,          7,2,20040623,       0342,      30.24,   134.4903,       4537,  2879.0,   1.6364,  34.6589,2,  34.6608,2, 137.7000,2,   138.7,2,  144.51,2,   37.00,2,    0.00,2,    2.61,2,   0.011,2,   0.008,2,   0.006,2,  2329.3,2,  2416.5,2,-999.000,9,-999.0000,9, -999.00,9, -999.00,9,  -999.0,9,  -999.0,-999.000,9,-999.000,   37.40,2, 2879.00,-999.0000,9,-999.0000,9,-999.0000,9,-999.0000,9,-999.0000,9,-999.0000,-999.000,-999.0000,9, -999.00
318M20040615,        P02,      14,          2,          6,          6,2,20040623,       0342,      30.24,   134.4903,       4537,  3105.0,   1.5715,  34.6684,2,  34.6693,2, 144.0000,2,   144.4,2,  143.94,2,   36.56,2,    0.00,2,    2.58,2,   0.011,2,   0.010,2,   0.009,2,  2326.6,2,  2417.2,2,-999.000,9,-999.0000,9, -999.00,9, -999.00,9,  -999.0,9,  -999.0,-999.000,9,-999.000,   37.20,2, 3105.00,-999.0000,9,-999.0000,9,-999.0000,9,-999.0000,9,-999.0000,9,-999.0000,-999.000,-999.0000,9, -999.00
318M20040615,        P02,      14,          2,          5,          5,2,20040623,       0342,      30.24,   134.4903,       4537,  3505.6,   1.5279,  34.6774,2,  34.6766,2, 150.2000,2,   150.6,2,  142.83,2,   36.24,2,    0.00,2,    2.55,2,   0.012,2,   0.006,2,   0.006,2,  2323.7,2,  2418.6,2,-999.000,9,-999.0000,9, -999.00,9, -999.00,9,  -999.0,9,  -999.0,-999.000,9,-999.000,   37.30,2, 3505.60,-999.0000,9,-999.0000,9,-999.0000,9,-999.0000,9,-999.0000,9,-999.0000,-999.000,-999.0000,9, -999.00
318M20040615,        P02,      14,          2,          4,          4,2,20040623,       0342,      30.24,   134.4903,       4537,  3890.7,   1.5368,  34.6809,2,  34.6800,2, 152.6000,2,   153.1,2,  142.47,2,   36.19,2,    0.00,2,    2.54,2,   0.013,2,   0.008,2,   0.003,2,  2321.6,2,  2418.1,2,-999.000,9,-999.0000,9, -999.00,9, -999.00,9,  -999.0,9,  -999.0,-999.000,9,-999.000,   37.20,2, 3890.70,-999.0000,9,-999.0000,9,-999.0000,9,-999.0000,9,-999.0000,9,-999.0000,-999.000,-999.0000,9, -999.00
318M20040615,        P02,      14,          2,          3,          3,2,20040623,       0342,      30.24,   134.4903,       4537,  4184.7,   1.5593,  34.6821,2,  34.6808,2, 153.5000,2,   154.0,2,  141.91,2,   36.35,2,    0.00,2,    2.53,2,   0.016,2,   0.010,2,   0.009,2,  2321.6,2,  2415.6,2,-999.000,9,-999.0000,9, -999.00,9, -999.00,9,  -999.0,9,  -999.0,-999.000,9,-999.000,   37.70,2, 4184.70,-999.0000,9,-999.0000,9,-999.0000,9,-999.0000,9,-999.0000,9,-999.0000,-999.000,-999.0000,9, -999.00
318M20040615,        P02,      14,          2,          2,          2,2,20040623,       0342,      30.24,   134.4903,       4537,  4563.2,   1.5885,  34.6833,2,  34.6824,2, 154.6000,2,   155.4,2,  141.72,2,   36.36,2,    0.00,2,    2.52,2,   0.012,2,   0.009,2,   0.008,2,  2320.3,2,  2415.8,2,-999.000,9,-999.0000,9, -999.00,9, -999.00,9,  -999.0,9,  -999.0,-999.000,9,-999.000,   37.60,2, 4563.20,-999.0000,9,-999.0000,9,-999.0000,9,-999.0000,9,-999.0000,9,-999.0000,-999.000,-999.0000,9, -999.00
318M20040615,        P02,      14,          2,          1,          1,2,20040623,       0342,      30.24,   134.4903,       4537,  4616.6,   1.5942,  34.6833,2,  34.6837,2, 154.6000,2,   155.1,2,  141.91,2,   36.30,2,    0.00,2,    2.53,2,   0.013,2,   0.009,2,   0.001,2,  2320.5,6,  2415.8,6,-999.000,9,-999.0000,9, -999.00,9, -999.00,9,  -999.0,9,  -999.0,-999.000,9,-999.000,   37.60,2, 4616.60,-999.0000,9,-999.0000,9,-999.0000,9,-999.0000,9,-999.0000,9,-999.0000,-999.000,-999.0000,9, -999.00