BOTTLE,20131027SIOCCHRJL
EXPOCODE,SECT_ID,STNNBR,CASTNO,SAMPNO,BTLNBR,BTLNBR_FLAG_W,DATE,TIME,LATITUDE,LONGITUDE,DEPTH,CTDPRS,CTDTMP,CTDSAL,CTDSAL_FLAG_W,SALNTY,SALNTY_FLAG_W,CTDOXY,CTDOXY_FLAG_W,OXYGEN,OXYGEN_FLAG_W,SILCAT,SILCAT_FLAG_W,NITRAT,NITRAT_FLAG_W,NITRIT,NITRIT_FLAG_W,PHSPHT,PHSPHT_FLAG_W,CFC-11,CFC-11_FLAG_W,CFC-12,CFC-12_FLAG_W,CFC113,CFC113_FLAG_W,TCARBN,TCARBN_FLAG_W,ALKALI,ALKALI_FLAG_W,TRITUM,TRITUM_FLAG_W,HELIUM,HELIUM_FLAG_W,DELHE3,DELHE3_FLAG_W,DELC13,DELC13_FLAG_W,DELC14,DELC14_FLAG_W,C14ERR,NEON,NEON_FLAG_W,NEONER,DOC,DOC_FLAG_W,CTDRAW,CDOM380,CDOM380_FLAG_W,CDOM325,CDOM325_FLAG_W,CDOMSL,CDOMSL_FLAG_W,CDOM340,CDOM340_FLAG_W,CDOMSN,CDOMSN_FLAG_W,HELIER,TRITER,CDOM412,CDOM412_FLAG_W,DELHER
,,,,,,,,,,,METERS,DBAR,ITS-90,PSS-78,,PSS-78,,UMOL/KG,,UMOL/KG,,UMOL/KG,,UMOL/KG,,UMOL/KG,,UMOL/KG,,PMOL/KG,,PMOL/KG,,PMOL/KG,,UMOL/KG,,UMOL/KG,,TU,,NMOL/KG,,PERCNT,,/MILLE,,/MILLE,,/MILLE,NMOL/KG,,NMOL/KG,UMOL/KG,,DBAR,1/M,,1/M,,1/NM,,1/M,,1/NM,,NMOL/KG,TU,1/M,,PERCNT
318M20040615,        P02,     117,          2,         36,         36,2,20040803,       1028,    29.9992,  -161.0833,       5425,     6.0,  25.3221,  35.2976,2,  35.2968,2, 210.6000,2,   210.4,2,    1.80,2,    0.10,2,    0.00,2,    0.04,2,   1.845,2,   1.121,2,   0.138,2,  2016.8,6,  2322.6,6,-999.000,9,-999.0000,9, -999.00,9,    1.11,2,    75.7,2,     5.5,-999.000,9,-999.000, -999.00,9,    6.00,   0.0260,2,   0.0750,2,   0.0210,2,   0.0530,2,   0.0220,2,-999.0000,-999.000,   0.0180,2, -999.00
318M20040615,        P02,     117,          2,         35,         35,2,20040803,       1028,    29.9992,  -161.0833,       5425,    40.7,  20.7094,  35.0144,2,  35.0160,2, 240.5000,2,   239.2,2,    2.17,2,    0.05,2,    0.00,2,    0.05,2,   2.344,2,   1.415,2,   0.164,2,  2013.8,2,  2302.5,2,-999.000,9,-999.0000,9, -999.00,9,    1.16,2,    73.1,2,     4.6,-999.000,9,-999.000, -999.00,9,   40.70,   0.0140,2,   0.0720,2,   0.0310,2,   0.0450,2,   0.0310,2,-999.0000,-999.000,   0.0060,2, -999.00
318M20040615,        P02,     117,          2,         34,         34,2,20040803,       1028,    29.9992,  -161.0833,       5425,    85.3,  17.0733,  34.6783,2,  34.6785,2, 243.5000,2,   245.4,2,    2.74,2,    0.05,2,    0.00,2,    0.09,2,   2.638,2,   1.556,2,   0.188,2,  2014.6,2,  2281.7,2,-999.000,9,-999.0000,9, -999.00,9,    1.06,2,    72.0,2,     3.9,-999.000,9,-999.000, -999.00,9,   85.30,   0.0300,2,   0.1130,2,   0.0250,2,   0.0770,2,   0.0250,2,-999.0000,-999.000,   0.0170,2, -999.00
318M20040615,        P02,     117,          2,         33,         33,2,20040803,       1028,    29.9992,  -161.0833,       5425,   139.2,  15.6109,  34.6072,2,  34.6074,2, 233.8000,2,   234.0,2,    3.68,2,    2.02,2,    0.10,2,    0.23,2,   2.763,2,   1.611,2,   0.178,2,  2031.5,2,  2277.4,2,-999.000,9,-999.0000,9, -999.00,9, -999.00,9,  -999.0,9,  -999.0,-999.000,9,-999.000, -999.00,9,  139.20,   0.0520,2,   0.1340,2,   0.0140,2,   0.1000,2,   0.0160,2,-999.0000,-999.000,   0.0390,2, -999.00
318M20040615,        P02,     117,          2,         32,         32,2,20040803,       1028,    29.9992,  -161.0833,       5425,   188.5,  14.2286,  34.4462,2,  34.4458,2, 224.1000,2,   223.1,2,    6.13,2,    6.05,2,    0.01,2,    0.47,2,   2.939,2,   1.700,2,   0.124,2,  2049.8,2,  2268.8,2,-999.000,9,-999.0000,9, -999.00,9,    0.69,2,    79.3,2,     5.0,-999.000,9,-999.000, -999.00,9,  188.50,   0.0420,2,   0.1170,2,   0.0160,2,   0.0850,2,   0.0180,2,-999.0000,-999.000,   0.0310,2, -999.00
318M20040615,        P02,     117,          2,         31,         31,2,20040803,       1028,    29.9992,  -161.0833,       5425,   236.9,  12.5870,  34.2892,2,  34.2888,2, 224.6000,2,   223.6,2,    9.17,2,    8.98,2,    0.01,2,    0.68,2,   3.167,2,   1.795,2,   0.099,2,  2064.5,2,  2263.3,2,-999.000,9,-999.0000,9, -999.00,9, -999.00,9,  -999.0,9,  -999.0,-999.000,9,-999.000, -999.00,9,  236.90,   0.0400,2,   0.1150,2,   0.0170,2,   0.0810,2,   0.0190,2,-999.0000,-999.000,   0.0280,2, -999.00
318M20040615,        P02,     117,          2,         30,         30,2,20040803,       1028,    29.9992,  -161.0833,       5425,   280.4,  12.0254,  34.2760,2,  34.2767,2, 221.7000,2,   222.6,2,   11.24,2,   10.55,2,    0.00,2,    0.77,2,   3.205,2,   1.793,2,   0.094,2,  2074.3,2,  2264.1,2,-999.000,9,-999.0000,9, -999.00,9,    0.61,2,    57.8,2,     4.8,-999.000,9,-999.000, -999.00,9,  280.40,   0.0570,2,   0.1500,2,   0.0150,2,   0.1130,2,   0.0160,2,-999.0000,-999.000,   0.0390,2, -999.00
318M20040615,        P02,     117,          2,         29,         29,2,20040803,       1028,    29.9992,  -161.0833,       5425,   333.3,  11.2326,  34.2460,2,  34.2461,2, 219.1000,2,   219.2,2,   14.46,2,   12.57,2,    0.01,2,    0.91,2,   3.232,2,   1.791,2,   0.099,2,  2086.9,2,  2266.5,2,-999.000,9,-999.0000,9, -999.00,9, -999.00,9,  -999.0,9,  -999.0,-999.000,9,-999.000, -999.00,9,  333.30,   0.1000,2,   0.2190,2,   0.0110,2,   0.1680,2,   0.0120,2,-999.0000,-999.000,   0.0750,2, -999.00
318M20040615,        P02,     117,          2,         28,         28,2,20040803,       1028,    29.9992,  -161.0833,       5425,   389.7,  10.2351,  34.1771,2,  34.1775,2, 209.5000,2,   209.7,2,   18.63,2,   15.26,2,    0.01,2,    1.10,2,   3.232,2,   1.757,2,   0.095,2,  2105.8,2,  2267.1,2,-999.000,9,-999.0000,9, -999.00,9,    0.45,2,    44.2,2,     4.2,-999.000,9,-999.000, -999.00,9,  389.70,   0.0740,2,   0.1760,2,   0.0130,2,   0.1310,2,   0.0140,2,-999.0000,-999.000,   0.0530,2, -999.00
318M20040615,        P02,     117,          2,         27,         27,2,20040803,       1028,    29.9992,  -161.0833,       5425,   429.6,   9.5720,  34.1453,2,  34.1456,2, 199.2000,2,   199.6,2,   22.81,2,   17.54,2,    0.01,2,    1.25,2,   3.161,2,   1.691,2,   0.104,2,  2121.1,2,  2270.5,2,-999.000,9,-999.0000,9, -999.00,9, -999.00,9,  -999.0,9,  -999.0,-999.000,9,-999.000, -999.00,9,  429.60,-999.0000,9,-999.0000,9,-999.0000,9,-999.0000,9,-999.0000,9,-999.0000,-999.000,-999.0000,9, -999.00
318M20040615,        P02,     117,          2,         26,         26,2,20040803,       1028,    29.9992,  -161.0833,       5425,   474.4,   8.7322,  34.1020,2,  34.1007,2, 180.6000,2,   181.8,2,   29.85,2,   20.94,2,    0.01,2,    1.49,2,   2.969,2,   1.549,2,   0.106,2,  2146.3,2,  2272.6,2,-999.000,9,-999.0000,9, -999.00,9,    0.32,2,    12.0,2,     4.2,-999.000,9,-999.000, -999.00,9,  474.40,   0.0770,2,   0.1950,2,   0.0140,2,   0.1430,2,   0.0150,2,-999.0000,-999.000,   0.0550,2, -999.00
318M20040615,        P02,     117,          2,         25,         25,2,20040803,       1028,    29.9992,  -161.0833,       5425,   574.5,   6.3352,  34.0125,2,  34.0127,2, 133.3000,2,   126.5,2,   55.85,2,   30.70,2,    0.00,2,    2.20,2,   1.958,2,   0.964,2,   0.069,2,  2218.9,2,  2287.7,2,-999.000,9,-999.0000,9, -999.00,9,    0.04,2,   -41.7,2,     3.9,-999.000,9,-999.000, -999.00,9,  574.50,-999.0000,9,-999.0000,9,-999.0000,9,-999.0000,9,-999.0000,9,-999.0000,-999.000,-999.0000,9, -999.00
318M20040615,        P02,     117,          2,         24,         24,4,20040803,       1028,    29.9992,  -161.0833,       5425,   674.2,   4.9464,  34.0410,2,  34.0427,2,  88.6000,2,  -999.0,9,   79.53,2,   37.33,2,    0.00,2,    2.67,2,-999.000,9,-999.000,9,-999.000,9,  -999.0,9,  -999.0,9,-999.000,9,-999.0000,9, -999.00,9,   -0.18,2,   -90.1,2,     4.2,-999.000,9,-999.000, -999.00,9,  674.20,   0.1150,3,   0.2640,3,   0.0110,3,   0.2010,3,   0.0120,3,-999.0000,-999.000,   0.0880,3, -999.00
318M20040615,        P02,     117,          2,         23,         23,2,20040803,       1028,    29.9992,  -161.0833,       5425,   778.8,   4.2040,  34.1446,2,  34.1455,2,  44.6000,2,    36.4,2,  101.21,2,   41.96,2,    0.00,2,    2.98,2,   0.265,2,   0.128,2,   0.008,2,  2324.9,2,  2331.2,2,-999.000,9,-999.0000,9, -999.00,9,   -0.37,2,  -147.3,2,     3.6,-999.000,9,-999.000, -999.00,9,  778.80,-999.0000,9,-999.0000,9,-999.0000,9,-999.0000,9,-999.0000,9,-999.0000,-999.000,-999.0000,9, -999.00
318M20040615,        P02,     117,          2,         22,         22,2,20040803,       1028,    29.9992,  -161.0833,       5425,   877.9,   3.8221,  34.2279,2,  34.2282,2,  21.8000,2,    17.8,2,  114.83,2,   43.67,2,    0.00,2,    3.12,2,   0.067,2,   0.034,2,   0.000,2,  2350.5,2,  2349.0,2,-999.000,9,-999.0000,9, -999.00,9,   -0.47,2,  -157.8,2,     4.2,-999.000,9,-999.000, -999.00,9,  877.90,   0.0990,2,   0.2300,2,   0.0130,2,   0.1710,2,   0.0140,2,-999.0000,-999.000,   0.0750,2, -999.00
318M20040615,        P02,     117,          2,         21,         21,2,20040803,       1028,    29.9992,  -161.0833,       5425,   978.6,   3.5160,  34.3228,2,  34.3234,2,  12.1000,2,    10.4,2,  126.92,2,   44.32,2,    0.00,2,    3.19,2,   0.016,6,   0.010,6,   0.000,6,  2369.2,2,  2362.7,2,-999.000,9,-999.0000,9, -999.00,9,   -0.52,2,  -186.1,2,     3.9,-999.000,9,-999.000, -999.00,9,  978.60,-999.0000,9,-999.0000,9,-999.0000,9,-999.0000,9,-999.0000,9,-999.0000,-999.000,-999.0000,9, -999.00
318M20040615,        P02,     117,          2,         20,         20,2,20040803,       1028,    29.9992,  -161.0833,       5425,  1079.5,   3.3380,  34.3944,2,  34.3952,2,  14.7000,2,    14.7,2,  132.80,2,   44.21,2,    0.00,2,    3.19,2,   0.010,2,   0.004,2,   0.000,2,  2373.8,6,  2375.1,2,-999.000,9,-999.0000,9, -999.00,9, -999.00,9,  -999.0,9,  -999.0,-999.000,9,-999.000, -999.00,9, 1079.50,   0.1190,2,   0.2640,2,   0.0120,2,   0.1980,2,   0.0130,2,-999.0000,-999.000,   0.0920,2, -999.00
318M20040615,        P02,     117,          2,         19,         19,2,20040803,       1028,    29.9992,  -161.0833,       5425,  1179.9,   3.1603,  34.4557,2,  34.4555,2,  23.0000,2,    24.2,2,  136.71,2,   43.67,2,    0.00,2,    3.15,2,   0.008,2,   0.005,2,   0.000,2,  2375.4,2,  2384.8,2,-999.000,9,-999.0000,9, -999.00,9, -999.00,9,  -999.0,9,  -999.0,-999.000,9,-999.000, -999.00,9, 1179.90,-999.0000,9,-999.0000,9,-999.0000,9,-999.0000,9,-999.0000,9,-999.0000,-999.000,-999.0000,9, -999.00
318M20040615,        P02,     117,          2,         18,         18,2,20040803,       1028,    29.9992,  -161.0833,       5425,  1285.8,   3.0012,  34.4930,2,  34.4940,2,  33.7000,2,    34.1,2,  139.84,2,   43.04,2,    0.00,2,    3.11,2,-999.000,9,-999.000,9,-999.000,9,  2373.4,2,  2392.5,6,-999.000,9,-999.0000,9, -999.00,9,   -0.32,2,  -222.7,2,     3.5,-999.000,9,-999.000, -999.00,9, 1285.80,-999.0000,9,-999.0000,9,-999.0000,9,-999.0000,9,-999.0000,9,-999.0000,-999.000,-999.0000,9, -999.00
318M20040615,        P02,     117,          2,         17,         17,2,20040803,       1028,    29.9992,  -161.0833,       5425,  1385.5,   2.8157,  34.5247,2,  34.5248,2,  43.4000,2,    44.6,2,  143.18,2,   42.56,2,    0.00,2,    3.06,2,   0.008,2,   0.007,2,   0.000,2,  2370.9,2,  2400.1,2,-999.000,9,-999.0000,9, -999.00,9, -999.00,9,  -999.0,9,  -999.0,-999.000,9,-999.000, -999.00,9, 1385.50,-999.0000,9,-999.0000,9,-999.0000,9,-999.0000,9,-999.0000,9,-999.0000,-999.000,-999.0000,9, -999.00
318M20040615,        P02,     117,          2,         16,         16,2,20040803,       1028,    29.9992,  -161.0833,       5425,  1486.0,   2.6520,  34.5462,2,  34.5468,2,  52.0000,2,    52.5,2,  146.10,2,   42.23,2,    0.00,2,    3.02,2,   0.007,2,   0.002,2,   0.000,2,  2372.2,2,  2402.4,2,-999.000,9,-999.0000,9, -999.00,9,   -0.22,2,  -216.7,2,     3.8,-999.000,9,-999.000, -999.00,9, 1486.00,-999.0000,9,-999.0000,9,-999.0000,9,-999.0000,9,-999.0000,9,-999.0000,-999.000,-999.0000,9, -999.00
318M20040615,        P02,     117,          2,         15,         15,2,20040803,       1028,    29.9992,  -161.0833,       5425,  1585.4,   2.5081,  34.5638,2,  34.5634,2,  60.9000,2,    61.0,2,  148.65,2,   42.01,2,    0.00,2,    2.98,2,-999.000,9,-999.000,9,-999.000,9,  2370.3,2,  2407.6,2,-999.000,9,-999.0000,9, -999.00,9, -999.00,9,  -999.0,9,  -999.0,-999.000,9,-999.000, -999.00,9, 1585.40,-999.0000,9,-999.0000,9,-999.0000,9,-999.0000,9,-999.0000,9,-999.0000,-999.000,-999.0000,9, -999.00
318M20040615,        P02,     117,          2,         14,         14,2,20040803,       1028,    29.9992,  -161.0833,       5425,  1686.0,   2.3618,  34.5783,2,  34.5787,2,  66.2000,2,    66.3,2,  152.17,2,   41.70,2,    0.00,2,    2.94,2,   0.007,2,   0.002,2,   0.000,2,  2370.8,2,  2412.9,2,-999.000,9,-999.0000,9, -999.00,9, -999.00,9,  -999.0,9,  -999.0,-999.000,9,-999.000, -999.00,9, 1686.00,-999.0000,9,-999.0000,9,-999.0000,9,-999.0000,9,-999.0000,9,-999.0000,-999.000,-999.0000,9, -999.00
318M20040615,        P02,     117,          2,         13,         13,2,20040803,       1028,    29.9992,  -161.0833,       5425,  1792.4,   2.2306,  34.5916,2,  34.5936,2,  72.1000,2,    72.8,2,  154.72,2,   41.22,2,    0.00,2,    2.91,2,   0.006,2,   0.001,2,   0.000,2,  2369.5,2,  2413.9,2,-999.000,9,-999.0000,9, -999.00,9,   -0.16,2,  -236.8,2,     3.4,-999.000,9,-999.000, -999.00,9, 1792.40,-999.0000,9,-999.0000,9,-999.0000,9,-999.0000,9,-999.0000,9,-999.0000,-999.000,-999.0000,9, -999.00
318M20040615,        P02,     117,          2,         12,         12,2,20040803,       1028,    29.9992,  -161.0833,       5425,  1993.8,   2.0036,  34.6114,2,  34.6121,2,  82.3000,2,    81.3,2,  160.25,2,   40.63,2,    0.00,2,    2.88,2,-999.000,9,-999.000,9,-999.000,9,  2369.1,2,  2418.3,2,-999.000,9,-999.0000,9, -999.00,9,   -0.13,2,  -233.1,2,     3.9,-999.000,9,-999.000, -999.00,9, 1993.80,-999.0000,9,-999.0000,9,-999.0000,9,-999.0000,9,-999.0000,9,-999.0000,-999.000,-999.0000,9, -999.00
318M20040615,        P02,     117,          2,         11,         11,2,20040803,       1028,    29.9992,  -161.0833,       5425,  2200.0,   1.8753,  34.6268,2,  34.6343,2,  90.9000,3,    91.5,2,  161.42,2,   39.90,2,    0.00,2,    2.82,2,   0.009,2,   0.002,2,   0.000,2,  2365.7,2,  2422.3,2,-999.000,9,-999.0000,9, -999.00,9, -999.00,9,  -999.0,9,  -999.0,-999.000,9,-999.000, -999.00,9, 2200.00,   0.0760,2,   0.1860,2,   0.0130,2,   0.1340,2,   0.0140,2,-999.0000,-999.000,   0.0560,2, -999.00
318M20040615,        P02,     117,          2,         10,         10,2,20040803,       1028,    29.9992,  -161.0833,       5425,  2452.2,   1.7369,  34.6420,2,  34.6432,2, 100.6000,2,   101.3,2,  163.97,2,   39.31,2,    0.00,2,    2.77,2,   0.007,2,   0.000,2,   0.000,2,  2361.0,2,  2425.2,2,-999.000,9,-999.0000,9, -999.00,9, -999.00,9,  -999.0,9,  -999.0,-999.000,9,-999.000, -999.00,9, 2452.20,-999.0000,9,-999.0000,9,-999.0000,9,-999.0000,9,-999.0000,9,-999.0000,-999.000,-999.0000,9, -999.00
318M20040615,        P02,     117,          2,          9,          9,2,20040803,       1028,    29.9992,  -161.0833,       5425,  2704.5,   1.6399,  34.6530,2,  34.6536,2, 109.8000,2,   110.7,2,  164.15,2,   38.67,2,    0.00,2,    2.72,2,-999.000,9,-999.000,9,-999.000,9,  2357.2,2,  2425.2,2,-999.000,9,-999.0000,9, -999.00,9, -999.00,9,  -999.0,9,  -999.0,-999.000,9,-999.000, -999.00,9, 2704.50,-999.0000,9,-999.0000,9,-999.0000,9,-999.0000,9,-999.0000,9,-999.0000,-999.000,-999.0000,9, -999.00
318M20040615,        P02,     117,          2,          8,          8,2,20040803,       1028,    29.9992,  -161.0833,       5425,  2962.8,   1.5660,  34.6628,2,  34.6631,2, 120.2000,2,   121.1,2,  162.16,2,   38.05,2,    0.00,2,    2.66,2,   0.007,2,   0.001,2,   0.000,2,  2351.2,2,  2425.9,2,-999.000,9,-999.0000,9, -999.00,9, -999.00,9,  -999.0,9,  -999.0,-999.000,9,-999.000, -999.00,9, 2962.80,   0.0920,3,   0.2210,2,   0.0130,3,   0.1630,3,   0.0140,3,-999.0000,-999.000,   0.0670,3, -999.00
318M20040615,        P02,     117,          2,          7,          7,2,20040803,       1028,    29.9992,  -161.0833,       5425,  3300.2,   1.5114,  34.6722,2,  34.6731,2, 130.5000,2,   131.1,2,  160.16,2,   37.41,2,    0.00,2,    2.61,2,   0.026,3,   0.005,2,   0.000,2,  2344.8,2,  2425.5,2,-999.000,9,-999.0000,9, -999.00,9, -999.00,9,  -999.0,9,  -999.0,-999.000,9,-999.000, -999.00,9, 3300.20,-999.0000,9,-999.0000,9,-999.0000,9,-999.0000,9,-999.0000,9,-999.0000,-999.000,-999.0000,9, -999.00
318M20040615,        P02,     117,          2,          6,          6,2,20040803,       1028,    29.9992,  -161.0833,       5425,  3703.8,   1.4805,  34.6800,2,  34.6816,2, 139.4000,2,   139.9,2,  158.60,2,   36.84,2,    0.00,2,    2.57,2,-999.000,9,-999.000,9,-999.000,9,  2338.7,2,  2425.9,2,-999.000,9,-999.0000,9, -999.00,9, -999.00,9,  -999.0,9,  -999.0,-999.000,9,-999.000, -999.00,9, 3703.80,-999.0000,9,-999.0000,9,-999.0000,9,-999.0000,9,-999.0000,9,-999.0000,-999.000,-999.0000,9, -999.00
318M20040615,        P02,     117,          2,          5,          5,2,20040803,       1028,    29.9992,  -161.0833,       5425,  4119.7,   1.4770,  34.6849,2,  34.6864,2, 146.5000,2,   147.2,2,  155.82,2,   36.32,2,    0.00,2,    2.52,2,   0.025,3,   0.002,2,   0.000,2,  2334.1,2,  2427.5,2,-999.000,9,-999.0000,9, -999.00,9, -999.00,9,  -999.0,9,  -999.0,-999.000,9,-999.000, -999.00,9, 4119.70,-999.0000,9,-999.0000,9,-999.0000,9,-999.0000,9,-999.0000,9,-999.0000,-999.000,-999.0000,9, -999.00
318M20040615,        P02,     117,          2,          4,          4,2,20040803,       1028,    29.9992,  -161.0833,       5425,  4528.9,   1.4924,  34.6879,2,  34.6888,2, 151.9000,2,   152.3,2,  152.45,2,   35.90,2,    0.00,2,    2.50,2,   0.027,3,   0.006,2,   0.000,2,  2330.1,2,  2422.5,2,-999.000,9,-999.0000,9, -999.00,9, -999.00,9,  -999.0,9,  -999.0,-999.000,9,-999.000, -999.00,9, 4528.90,-999.0000,9,-999.0000,9,-999.0000,9,-999.0000,9,-999.0000,9,-999.0000,-999.000,-999.0000,9, -999.00
318M20040615,        P02,     117,          2,          3,          3,2,20040803,       1028,    29.9992,  -161.0833,       5425,  4937.1,   1.5163,  34.6901,2,  34.6915,2, 156.6000,2,   156.7,2,  148.89,2,   35.79,2,    0.00,2,    2.47,2,-999.000,9,-999.000,9,-999.000,9,  2325.2,2,  2423.2,2,-999.000,9,-999.0000,9, -999.00,9, -999.00,9,  -999.0,9,  -999.0,-999.000,9,-999.000, -999.00,9, 4937.10,-999.0000,9,-999.0000,9,-999.0000,9,-999.0000,9,-999.0000,9,-999.0000,-999.000,-999.0000,9, -999.00
318M20040615,        P02,     117,          2,          2,          2,2,20040803,       1028,    29.9992,  -161.0833,       5425,  5313.6,   1.5533,  34.6911,2,  34.6923,2, 159.0000,2,   158.8,2,  147.30,2,   35.69,2,    0.00,2,    2.46,2,   0.026,3,   0.005,2,   0.000,2,  2322.8,2,  2419.5,2,-999.000,9,-999.0000,9, -999.00,9, -999.00,9,  -999.0,9,  -999.0,-999.000,9,-999.000, -999.00,9, 5313.60,-999.0000,9,-999.0000,9,-999.0000,9,-999.0000,9,-999.0000,9,-999.0000,-999.000,-999.0000,9, -999.00
318M20040615,        P02,     117,          2,          1,          1,2,20040803,       1028,    29.9992,  -161.0833,       5425,  5518.3,   1.5789,  34.6911,2,  34.6930,2, 159.2000,2,   159.8,2,  146.89,2,   35.69,2,    0.00,2,    2.46,2,   0.030,3,   0.006,2,   0.000,2,  2320.8,6,  2420.5,2,-999.000,9,-999.0000,9, -999.00,9, -999.00,9,  -999.0,9,  -999.0,-999.000,9,-999.000, -999.00,9, 5518.30,-999.0000,9,-999.0000,9,-999.0000,9,-999.0000,9,-999.0000,9,-999.0000,-999.000,-999.0000,9, -999.00