BOTTLE,20131027SIOCCHRJL
EXPOCODE,SECT_ID,STNNBR,CASTNO,SAMPNO,BTLNBR,BTLNBR_FLAG_W,DATE,TIME,LATITUDE,LONGITUDE,DEPTH,CTDPRS,CTDTMP,CTDSAL,CTDSAL_FLAG_W,SALNTY,SALNTY_FLAG_W,CTDOXY,CTDOXY_FLAG_W,OXYGEN,OXYGEN_FLAG_W,SILCAT,SILCAT_FLAG_W,NITRAT,NITRAT_FLAG_W,NITRIT,NITRIT_FLAG_W,PHSPHT,PHSPHT_FLAG_W,CFC-11,CFC-11_FLAG_W,CFC-12,CFC-12_FLAG_W,CFC113,CFC113_FLAG_W,TCARBN,TCARBN_FLAG_W,ALKALI,ALKALI_FLAG_W,TRITUM,TRITUM_FLAG_W,HELIUM,HELIUM_FLAG_W,DELHE3,DELHE3_FLAG_W,DELC13,DELC13_FLAG_W,DELC14,DELC14_FLAG_W,C14ERR,NEON,NEON_FLAG_W,NEONER,DOC,DOC_FLAG_W,CTDRAW,CDOM380,CDOM380_FLAG_W,CDOM325,CDOM325_FLAG_W,CDOMSL,CDOMSL_FLAG_W,CDOM340,CDOM340_FLAG_W,CDOMSN,CDOMSN_FLAG_W,HELIER,TRITER,CDOM412,CDOM412_FLAG_W,DELHER
,,,,,,,,,,,METERS,DBAR,ITS-90,PSS-78,,PSS-78,,UMOL/KG,,UMOL/KG,,UMOL/KG,,UMOL/KG,,UMOL/KG,,UMOL/KG,,PMOL/KG,,PMOL/KG,,PMOL/KG,,UMOL/KG,,UMOL/KG,,TU,,NMOL/KG,,PERCNT,,/MILLE,,/MILLE,,/MILLE,NMOL/KG,,NMOL/KG,UMOL/KG,,DBAR,1/M,,1/M,,1/NM,,1/M,,1/NM,,NMOL/KG,TU,1/M,,PERCNT
318M20040615,        P02,     142,          1,         36,         36,2,20040814,       2259,    29.9982,  -142.8893,       4976,     9.0,  24.8375,  34.9496,2,  34.9425,2, 214.9000,2,   214.0,2,    1.11,2,    0.16,2,    0.00,2,    0.02,2,   1.879,2,   1.175,2,   0.135,2,  2009.6,6,  2304.2,6,   0.885,2,   1.7416,2,    0.80,2, -999.00,9,  -999.0,9,  -999.0,-999.000,9,-999.000, -999.00,9,    9.00,-999.0000,9,-999.0000,9,-999.0000,9,-999.0000,9,-999.0000,9,   0.0087,   0.007,-999.0000,9,    0.20
318M20040615,        P02,     142,          1,         35,         35,2,20040814,       2259,    29.9982,  -142.8893,       4976,    50.0,  20.2668,  34.6499,2,  34.6501,2, 245.6000,2,   245.5,2,    1.58,2,    0.16,2,    0.00,2,    0.04,2,   2.392,2,   1.439,2,   0.153,2,  -999.0,9,  -999.0,9,   0.870,2,   1.7649,2,   -1.43,2, -999.00,9,  -999.0,9,  -999.0,-999.000,9,-999.000, -999.00,9,   50.00,-999.0000,9,-999.0000,9,-999.0000,9,-999.0000,9,-999.0000,9,   0.0088,   0.006,-999.0000,9,    0.20
318M20040615,        P02,     142,          1,         34,         34,2,20040814,       2259,    29.9982,  -142.8893,       4976,   105.0,  17.3472,  34.3972,2,  34.3919,2, 236.2000,2,   237.9,2,    2.25,2,    0.16,2,    0.00,2,    0.12,2,   2.631,2,   1.552,2,   0.176,2,  2013.8,2,  2270.7,2,-999.000,9,   1.7703,2,   -0.61,2, -999.00,9,  -999.0,9,  -999.0,-999.000,9,-999.000, -999.00,9,  105.00,-999.0000,9,-999.0000,9,-999.0000,9,-999.0000,9,-999.0000,9,   0.0089,-999.000,-999.0000,9,    0.20
318M20040615,        P02,     142,          1,         33,         33,2,20040814,       2259,    29.9982,  -142.8893,       4976,   154.8,  14.3130,  34.0315,2,  34.0299,2, 229.1000,2,   228.7,2,    4.08,2,    3.39,2,    0.03,2,    0.38,2,   3.018,2,   1.728,2,   0.173,2,  -999.0,9,  -999.0,9,   0.885,2,   1.7836,2,   -0.22,2, -999.00,9,  -999.0,9,  -999.0,-999.000,9,-999.000, -999.00,9,  154.80,-999.0000,9,-999.0000,9,-999.0000,9,-999.0000,9,-999.0000,9,   0.0089,   0.007,-999.0000,9,    0.20
318M20040615,        P02,     142,          1,         32,         32,2,20040814,       2259,    29.9982,  -142.8893,       4976,   204.9,  11.6337,  33.8787,2,  33.8875,2, 225.9000,2,   226.7,2,    8.45,2,    8.93,2,    0.01,2,    0.72,2,   3.393,2,   1.921,2,   0.136,2,  2060.0,2,  2242.6,2,   0.892,2,   1.8008,2,   -0.44,2, -999.00,9,  -999.0,9,  -999.0,-999.000,9,-999.000, -999.00,9,  204.90,-999.0000,9,-999.0000,9,-999.0000,9,-999.0000,9,-999.0000,9,   0.0090,   0.006,-999.0000,9,    0.20
318M20040615,        P02,     142,          1,         31,         31,2,20040814,       2259,    29.9982,  -142.8893,       4976,   254.8,  10.6128,  34.0149,2,  34.0187,2, 219.4000,2,   220.4,2,   13.22,2,   12.84,2,    0.00,2,    0.94,2,   3.491,2,   1.949,2,   0.094,2,  -999.0,9,  -999.0,9,-999.000,9,-999.0000,9, -999.00,9, -999.00,9,  -999.0,9,  -999.0,-999.000,9,-999.000, -999.00,9,  254.80,-999.0000,9,-999.0000,9,-999.0000,9,-999.0000,9,-999.0000,9,-999.0000,-999.000,-999.0000,9, -999.00
318M20040615,        P02,     142,          1,         30,         30,2,20040814,       2259,    29.9982,  -142.8893,       4976,   304.8,   9.9657,  34.0952,2,  34.0959,2, 212.4000,2,   213.9,2,   17.79,2,   15.37,2,    0.00,2,    1.09,2,   3.417,2,   1.871,2,   0.091,2,  2101.0,2,  2260.2,2,   0.836,2,   1.8027,2,    1.61,2, -999.00,9,  -999.0,9,  -999.0,-999.000,9,-999.000, -999.00,9,  304.80,-999.0000,9,-999.0000,9,-999.0000,9,-999.0000,9,-999.0000,9,   0.0090,   0.005,-999.0000,9,    0.20
318M20040615,        P02,     142,          1,         29,         29,2,20040814,       2259,    29.9982,  -142.8893,       4976,   353.9,   9.0210,  34.0581,2,  34.0606,2, 194.5000,2,   192.7,2,   24.13,2,   19.17,2,    0.00,2,    1.35,2,-999.000,9,-999.000,9,-999.000,9,  -999.0,9,  -999.0,9,-999.000,9,-999.0000,9, -999.00,9, -999.00,9,  -999.0,9,  -999.0,-999.000,9,-999.000, -999.00,9,  353.90,-999.0000,9,-999.0000,9,-999.0000,9,-999.0000,9,-999.0000,9,-999.0000,-999.000,-999.0000,9, -999.00
318M20040615,        P02,     142,          1,         28,         28,2,20040814,       2259,    29.9982,  -142.8893,       4976,   404.6,   8.1760,  34.0414,2,  34.0444,2, 168.5000,2,   165.0,2,   32.45,2,   23.71,2,    0.00,2,    1.66,2,   3.030,2,   1.553,2,   0.131,2,  2160.2,2,  2269.4,2,   0.842,2,   1.8171,2,    7.10,2, -999.00,9,  -999.0,9,  -999.0,-999.000,9,-999.000, -999.00,9,  404.60,-999.0000,9,-999.0000,9,-999.0000,9,-999.0000,9,-999.0000,9,   0.0091,   0.006,-999.0000,9,    0.20
318M20040615,        P02,     142,          1,         27,         27,2,20040814,       2259,    29.9982,  -142.8893,       4976,   453.2,   7.2991,  34.0142,2,  34.0157,2, 138.9000,2,   143.8,2,   41.76,2,   27.46,2,    0.00,2,    1.94,2,-999.000,9,-999.000,9,-999.000,9,  -999.0,9,  -999.0,9,-999.000,9,-999.0000,9, -999.00,9, -999.00,9,  -999.0,9,  -999.0,-999.000,9,-999.000, -999.00,9,  453.20,-999.0000,9,-999.0000,9,-999.0000,9,-999.0000,9,-999.0000,9,-999.0000,-999.000,-999.0000,9, -999.00
318M20040615,        P02,     142,          1,         26,         26,2,20040814,       2259,    29.9982,  -142.8893,       4976,   503.9,   6.3964,  33.9978,2,  33.9981,2, 114.6000,2,   115.6,2,   53.27,2,   31.91,2,    0.00,2,    2.26,2,   2.032,2,   1.004,2,   0.064,2,  2222.7,2,  2282.7,2,   0.731,2,   1.8421,2,   14.17,2, -999.00,9,  -999.0,9,  -999.0,-999.000,9,-999.000, -999.00,9,  503.90,-999.0000,9,-999.0000,9,-999.0000,9,-999.0000,9,-999.0000,9,   0.0092,   0.005,-999.0000,9,    0.20
318M20040615,        P02,     142,          1,         25,         25,2,20040814,       2259,    29.9982,  -142.8893,       4976,   604.0,   5.1624,  34.0373,2,  34.0400,2,  64.1000,2,    67.4,2,   75.70,2,   38.36,2,    0.00,2,    2.72,2,   0.923,2,   0.445,2,   0.018,2,  2276.4,2,  2301.1,2,   0.525,2,   1.8592,2,   17.53,2, -999.00,9,  -999.0,9,  -999.0,-999.000,9,-999.000, -999.00,9,  604.00,-999.0000,9,-999.0000,9,-999.0000,9,-999.0000,9,-999.0000,9,   0.0093,   0.005,-999.0000,9,    0.20
318M20040615,        P02,     142,          1,         24,         24,2,20040814,       2259,    29.9982,  -142.8893,       4976,   709.0,   4.5426,  34.1614,2,  34.1619,2,  25.5000,2,    26.7,2,   95.46,2,   42.54,2,    0.00,2,    3.04,2,   0.204,2,   0.115,2,   0.000,2,  2323.4,2,  2326.4,2,   0.226,2,   1.8774,2,   16.02,2, -999.00,9,  -999.0,9,  -999.0,-999.000,9,-999.000, -999.00,9,  709.00,-999.0000,9,-999.0000,9,-999.0000,9,-999.0000,9,-999.0000,9,   0.0094,   0.003,-999.0000,9,    0.20
318M20040615,        P02,     142,          1,         23,         23,2,20040814,       2259,    29.9982,  -142.8893,       4976,   808.6,   4.2205,  34.2744,2,  34.2735,2,  13.2000,2,    13.3,2,  108.11,2,   43.78,2,    0.00,2,    3.17,2,   0.046,2,   0.027,2,   0.000,2,  2345.7,2,  2344.9,2,   0.052,2,   1.8894,2,   15.40,2, -999.00,9,  -999.0,9,  -999.0,-999.000,9,-999.000, -999.00,9,  808.60,-999.0000,9,-999.0000,9,-999.0000,9,-999.0000,9,-999.0000,9,   0.0094,   0.001,-999.0000,9,    0.20
318M20040615,        P02,     142,          1,         22,         22,2,20040814,       2259,    29.9982,  -142.8893,       4976,   908.7,   3.9149,  34.3577,2,  34.3582,2,  12.8000,2,    12.8,2,  117.81,2,   44.06,2,    0.00,2,    3.20,2,   0.018,6,   0.010,6,   0.000,6,  2353.7,2,  2360.5,2,-999.000,9,-999.0000,9, -999.00,9, -999.00,9,  -999.0,9,  -999.0,-999.000,9,-999.000, -999.00,9,  908.70,-999.0000,9,-999.0000,9,-999.0000,9,-999.0000,9,-999.0000,9,-999.0000,-999.000,-999.0000,9, -999.00
318M20040615,        P02,     142,          1,         21,         21,2,20040814,       2259,    29.9982,  -142.8893,       4976,  1009.1,   3.6183,  34.4161,2,  34.4163,2,  17.6000,2,    18.1,2,  125.11,2,   44.00,2,    0.00,2,    3.18,2,   0.017,2,   0.010,2,   0.000,2,  2362.0,2,  2372.7,2,   0.021,2,   1.9059,2,   17.73,2, -999.00,9,  -999.0,9,  -999.0,-999.000,9,-999.000, -999.00,9, 1009.10,-999.0000,9,-999.0000,9,-999.0000,9,-999.0000,9,-999.0000,9,   0.0095,   0.001,-999.0000,9,    0.20
318M20040615,        P02,     142,          1,         20,         20,2,20040814,       2259,    29.9982,  -142.8893,       4976,  1114.5,   3.4022,  34.4672,2,  34.4677,2,  26.4000,2,    26.2,2,  130.23,2,   43.63,2,    0.00,2,    3.15,2,-999.000,9,-999.000,9,-999.000,9,  -999.0,9,  -999.0,9,-999.000,9,-999.0000,9, -999.00,9, -999.00,9,  -999.0,9,  -999.0,-999.000,9,-999.000, -999.00,9, 1114.50,-999.0000,9,-999.0000,9,-999.0000,9,-999.0000,9,-999.0000,9,-999.0000,-999.000,-999.0000,9, -999.00
318M20040615,        P02,     142,          1,         19,         19,2,20040814,       2259,    29.9982,  -142.8893,       4976,  1214.9,   3.1862,  34.5002,2,  34.5003,2,  34.7000,2,    35.3,2,  134.36,2,   43.15,2,    0.00,2,    3.11,2,   0.002,2,   0.005,2,   0.000,2,  -999.0,9,  -999.0,9,   0.005,2,   1.9252,2,   20.23,2, -999.00,9,  -999.0,9,  -999.0,-999.000,9,-999.000, -999.00,9, 1214.90,-999.0000,9,-999.0000,9,-999.0000,9,-999.0000,9,-999.0000,9,   0.0096,   0.000,-999.0000,9,    0.20
318M20040615,        P02,     142,          1,         18,         18,2,20040814,       2259,    29.9982,  -142.8893,       4976,  1314.8,   2.9862,  34.5272,2,  34.5278,2,  43.4000,2,    43.8,2,  137.84,2,   42.70,2,    0.00,2,    3.07,2,-999.000,9,-999.000,9,-999.000,9,  -999.0,9,  -999.0,9,-999.000,9,-999.0000,9, -999.00,9, -999.00,9,  -999.0,9,  -999.0,-999.000,9,-999.000, -999.00,9, 1314.80,-999.0000,9,-999.0000,9,-999.0000,9,-999.0000,9,-999.0000,9,-999.0000,-999.000,-999.0000,9, -999.00
318M20040615,        P02,     142,          1,         17,         17,2,20040814,       2259,    29.9982,  -142.8893,       4976,  1420.0,   2.8310,  34.5473,2,  34.5478,2,  48.1000,2,    47.6,2,  142.17,2,   42.55,2,    0.00,2,    3.06,2,   0.004,2,   0.002,2,   0.000,2,  -999.0,9,  -999.0,9,   0.003,2,   1.9261,2,   21.50,2, -999.00,9,  -999.0,9,  -999.0,-999.000,9,-999.000, -999.00,9, 1420.00,-999.0000,9,-999.0000,9,-999.0000,9,-999.0000,9,-999.0000,9,   0.0096,   0.000,-999.0000,9,    0.20
318M20040615,        P02,     142,          1,         16,         16,2,20040814,       2259,    29.9982,  -142.8893,       4976,  1519.0,   2.6393,  34.5646,2,  34.5649,2,  54.0000,2,    54.0,2,  146.70,2,   42.44,2,    0.00,2,    3.02,2,   0.003,2,   0.002,2,   0.000,2,  -999.0,9,  -999.0,9,-999.000,9,-999.0000,9, -999.00,9, -999.00,9,  -999.0,9,  -999.0,-999.000,9,-999.000, -999.00,9, 1519.00,-999.0000,9,-999.0000,9,-999.0000,9,-999.0000,9,-999.0000,9,-999.0000,-999.000,-999.0000,9, -999.00
318M20040615,        P02,     142,          1,         15,         15,2,20040814,       2259,    29.9982,  -142.8893,       4976,  1617.8,   2.4957,  34.5769,2,  34.5780,2,  59.8000,2,    59.8,2,  150.43,2,   42.44,2,    0.00,2,    2.99,2,   0.003,2,   0.001,2,   0.000,2,  -999.0,9,  -999.0,9,   0.003,2,   1.9283,2,   21.92,2, -999.00,9,  -999.0,9,  -999.0,-999.000,9,-999.000, -999.00,9, 1617.80,-999.0000,9,-999.0000,9,-999.0000,9,-999.0000,9,-999.0000,9,   0.0096,   0.000,-999.0000,9,    0.20
318M20040615,        P02,     142,          1,         14,         14,2,20040814,       2259,    29.9982,  -142.8893,       4976,  1717.5,   2.3558,  34.5887,2,  34.5886,2,  63.6000,2,    64.4,2,  154.56,2,   42.12,2,    0.00,2,    2.96,2,-999.000,9,-999.000,9,-999.000,9,  -999.0,9,  -999.0,9,-999.000,9,-999.0000,9, -999.00,9, -999.00,9,  -999.0,9,  -999.0,-999.000,9,-999.000, -999.00,9, 1717.50,-999.0000,9,-999.0000,9,-999.0000,9,-999.0000,9,-999.0000,9,-999.0000,-999.000,-999.0000,9, -999.00
318M20040615,        P02,     142,          1,         13,         13,2,20040814,       2259,    29.9982,  -142.8893,       4976,  1820.3,   2.2335,  34.5999,2,  34.6012,2,  69.0000,2,    68.8,2,  158.49,2,   41.69,2,    0.00,2,    2.94,2,   0.001,2,  -0.001,2,   0.000,2,  -999.0,9,  -999.0,9,   0.002,2,-999.0000,9, -999.00,9, -999.00,9,  -999.0,9,  -999.0,-999.000,9,-999.000, -999.00,9, 1820.30,-999.0000,9,-999.0000,9,-999.0000,9,-999.0000,9,-999.0000,9,-999.0000,   0.000,-999.0000,9, -999.00
318M20040615,        P02,     142,          1,         12,         12,2,20040814,       2259,    29.9982,  -142.8893,       4976,  2023.2,   2.0170,  34.6193,2,  34.6197,2,  79.0000,2,    79.2,2,  164.45,2,   40.92,2,    0.00,2,    2.89,2,-999.000,9,-999.000,9,-999.000,9,  -999.0,9,  -999.0,9,-999.000,9,-999.0000,9, -999.00,9, -999.00,9,  -999.0,9,  -999.0,-999.000,9,-999.000, -999.00,9, 2023.20,-999.0000,9,-999.0000,9,-999.0000,9,-999.0000,9,-999.0000,9,-999.0000,-999.000,-999.0000,9, -999.00
318M20040615,        P02,     142,          1,         11,         11,2,20040814,       2259,    29.9982,  -142.8893,       4976,  2280.2,   1.8217,  34.6378,2,  34.6379,2,  91.1000,2,    91.6,2,  167.99,2,   40.11,2,    0.00,2,    2.82,2,   0.002,2,  -0.002,2,   0.000,2,  -999.0,9,  -999.0,9,-999.000,9,-999.0000,9, -999.00,9, -999.00,9,  -999.0,9,  -999.0,-999.000,9,-999.000, -999.00,9, 2280.20,-999.0000,9,-999.0000,9,-999.0000,9,-999.0000,9,-999.0000,9,-999.0000,-999.000,-999.0000,9, -999.00
318M20040615,        P02,     142,          1,         10,         10,2,20040814,       2259,    29.9982,  -142.8893,       4976,  2532.2,   1.7058,  34.6495,2,  34.6489,2, 102.1000,2,   102.4,2,  169.07,2,   39.46,2,    0.00,2,    2.76,2,   0.003,2,   0.004,2,   0.000,2,  -999.0,9,  -999.0,9,-999.000,9,-999.0000,9, -999.00,9, -999.00,9,  -999.0,9,  -999.0,-999.000,9,-999.000, -999.00,9, 2532.20,-999.0000,9,-999.0000,9,-999.0000,9,-999.0000,9,-999.0000,9,-999.0000,-999.000,-999.0000,9, -999.00
318M20040615,        P02,     142,          1,          9,          9,2,20040814,       2259,    29.9982,  -142.8893,       4976,  2840.8,   1.6061,  34.6606,2,  34.6607,2, 112.7000,2,   113.3,2,  168.58,2,   38.77,2,    0.00,2,    2.70,2,   0.002,2,   0.002,2,   0.000,2,  -999.0,9,  -999.0,9,-999.000,9,-999.0000,9, -999.00,9, -999.00,9,  -999.0,9,  -999.0,-999.000,9,-999.000, -999.00,9, 2840.80,-999.0000,9,-999.0000,9,-999.0000,9,-999.0000,9,-999.0000,9,-999.0000,-999.000,-999.0000,9, -999.00
318M20040615,        P02,     142,          1,          8,          8,2,20040814,       2259,    29.9982,  -142.8893,       4976,  3149.6,   1.5273,  34.6703,2,  34.6705,2, 123.6000,2,   124.7,2,  166.41,2,   38.00,2,    0.00,2,    2.64,2,-999.000,9,-999.000,9,-999.000,9,  -999.0,9,  -999.0,9,-999.000,9,-999.0000,9, -999.00,9, -999.00,9,  -999.0,9,  -999.0,-999.000,9,-999.000, -999.00,9, 3149.60,-999.0000,9,-999.0000,9,-999.0000,9,-999.0000,9,-999.0000,9,-999.0000,-999.000,-999.0000,9, -999.00
318M20040615,        P02,     142,          1,          7,          7,2,20040814,       2259,    29.9982,  -142.8893,       4976,  3452.7,   1.4850,  34.6775,2,  34.6776,2, 132.9000,2,   134.0,2,  162.85,2,   37.47,2,    0.00,2,    2.59,2,   0.006,2,   0.011,2,   0.000,2,  -999.0,9,  -999.0,9,-999.000,9,-999.0000,9, -999.00,9, -999.00,9,  -999.0,9,  -999.0,-999.000,9,-999.000, -999.00,9, 3452.70,-999.0000,9,-999.0000,9,-999.0000,9,-999.0000,9,-999.0000,9,-999.0000,-999.000,-999.0000,9, -999.00
318M20040615,        P02,     142,          1,          6,          6,2,20040814,       2259,    29.9982,  -142.8893,       4976,  3761.9,   1.4713,  34.6824,2,  34.6821,2, 140.7000,2,   141.0,2,  159.48,2,   37.15,2,    0.00,2,    2.55,2,-999.000,9,-999.000,9,-999.000,9,  -999.0,9,  -999.0,9,-999.000,9,-999.0000,9, -999.00,9, -999.00,9,  -999.0,9,  -999.0,-999.000,9,-999.000, -999.00,9, 3761.90,-999.0000,9,-999.0000,9,-999.0000,9,-999.0000,9,-999.0000,9,-999.0000,-999.000,-999.0000,9, -999.00
318M20040615,        P02,     142,          1,          5,          5,2,20040814,       2259,    29.9982,  -142.8893,       4976,  4071.4,   1.4716,  34.6860,2,  34.6858,2, 146.4000,2,   146.6,2,  156.52,2,   36.94,2,    0.00,2,    2.52,2,   0.004,2,   0.004,2,   0.000,2,  -999.0,9,  -999.0,9,-999.000,9,-999.0000,9, -999.00,9, -999.00,9,  -999.0,9,  -999.0,-999.000,9,-999.000, -999.00,9, 4071.40,-999.0000,9,-999.0000,9,-999.0000,9,-999.0000,9,-999.0000,9,-999.0000,-999.000,-999.0000,9, -999.00
318M20040615,        P02,     142,          1,          4,          4,2,20040814,       2259,    29.9982,  -142.8893,       4976,  4374.7,   1.4872,  34.6880,2,  34.6889,2, 150.4000,2,   150.7,2,  154.37,2,   36.72,2,    0.00,2,    2.50,2,   0.006,2,   0.004,2,   0.000,2,  -999.0,9,  -999.0,9,-999.000,9,-999.0000,9, -999.00,9, -999.00,9,  -999.0,9,  -999.0,-999.000,9,-999.000, -999.00,9, 4374.70,-999.0000,9,-999.0000,9,-999.0000,9,-999.0000,9,-999.0000,9,-999.0000,-999.000,-999.0000,9, -999.00
318M20040615,        P02,     142,          1,          3,          3,2,20040814,       2259,    29.9982,  -142.8893,       4976,  4683.9,   1.5143,  34.6891,2,  34.6891,2, 153.0000,2,   152.7,2,  153.24,2,   36.46,2,    0.00,2,    2.48,2,  -0.002,4,  -0.001,4,   0.000,4,  -999.0,9,  -999.0,9,-999.000,9,-999.0000,9, -999.00,9, -999.00,9,  -999.0,9,  -999.0,-999.000,9,-999.000, -999.00,9, 4683.90,-999.0000,9,-999.0000,9,-999.0000,9,-999.0000,9,-999.0000,9,-999.0000,-999.000,-999.0000,9, -999.00
318M20040615,        P02,     142,          1,          2,          2,2,20040814,       2259,    29.9982,  -142.8893,       4976,  4892.1,   1.5373,  34.6894,2,  34.6895,2, 153.2000,2,   153.6,2,  152.71,2,   36.29,2,    0.00,2,    2.48,2,   0.006,2,   0.006,2,   0.000,2,  -999.0,9,  -999.0,9,-999.000,9,-999.0000,9, -999.00,9, -999.00,9,  -999.0,9,  -999.0,-999.000,9,-999.000, -999.00,9, 4892.10,-999.0000,9,-999.0000,9,-999.0000,9,-999.0000,9,-999.0000,9,-999.0000,-999.000,-999.0000,9, -999.00
318M20040615,        P02,     142,          1,          1,          1,2,20040814,       2259,    29.9982,  -142.8893,       4976,  5066.3,   1.5581,  34.6895,2,  34.6897,2, 152.9000,2,   153.8,2,  152.19,2,   36.19,2,    0.00,2,    2.49,2,   0.009,2,   0.015,2,   0.000,2,  -999.0,9,  -999.0,9,-999.000,9,-999.0000,9, -999.00,9, -999.00,9,  -999.0,9,  -999.0,-999.000,9,-999.000, -999.00,9, 5066.30,-999.0000,9,-999.0000,9,-999.0000,9,-999.0000,9,-999.0000,9,-999.0000,-999.000,-999.0000,9, -999.00