BOTTLE,20131027SIOCCHRJL
EXPOCODE,SECT_ID,STNNBR,CASTNO,SAMPNO,BTLNBR,BTLNBR_FLAG_W,DATE,TIME,LATITUDE,LONGITUDE,DEPTH,CTDPRS,CTDTMP,CTDSAL,CTDSAL_FLAG_W,SALNTY,SALNTY_FLAG_W,CTDOXY,CTDOXY_FLAG_W,OXYGEN,OXYGEN_FLAG_W,SILCAT,SILCAT_FLAG_W,NITRAT,NITRAT_FLAG_W,NITRIT,NITRIT_FLAG_W,PHSPHT,PHSPHT_FLAG_W,CFC-11,CFC-11_FLAG_W,CFC-12,CFC-12_FLAG_W,CFC113,CFC113_FLAG_W,TCARBN,TCARBN_FLAG_W,ALKALI,ALKALI_FLAG_W,TRITUM,TRITUM_FLAG_W,HELIUM,HELIUM_FLAG_W,DELHE3,DELHE3_FLAG_W,DELC13,DELC13_FLAG_W,DELC14,DELC14_FLAG_W,C14ERR,NEON,NEON_FLAG_W,NEONER,DOC,DOC_FLAG_W,CTDRAW,CDOM380,CDOM380_FLAG_W,CDOM325,CDOM325_FLAG_W,CDOMSL,CDOMSL_FLAG_W,CDOM340,CDOM340_FLAG_W,CDOMSN,CDOMSN_FLAG_W,HELIER,TRITER,CDOM412,CDOM412_FLAG_W,DELHER
,,,,,,,,,,,METERS,DBAR,ITS-90,PSS-78,,PSS-78,,UMOL/KG,,UMOL/KG,,UMOL/KG,,UMOL/KG,,UMOL/KG,,UMOL/KG,,PMOL/KG,,PMOL/KG,,PMOL/KG,,UMOL/KG,,UMOL/KG,,TU,,NMOL/KG,,PERCNT,,/MILLE,,/MILLE,,/MILLE,NMOL/KG,,NMOL/KG,UMOL/KG,,DBAR,1/M,,1/M,,1/NM,,1/M,,1/NM,,NMOL/KG,TU,1/M,,PERCNT
318M20040615,        P02,     168,          1,         36,         36,2,20040822,       0919,    30.0005,  -126.0733,       4255,     5.8,  21.2016,  33.5002,2,  33.5045,2, 226.9000,2,   226.7,2,    1.29,2,    0.09,2,    0.00,2,    0.28,2,   2.179,2,   1.338,2,   0.151,2,  1997.0,6,  2242.3,6,-999.000,9,-999.0000,9, -999.00,9, -999.00,9,  -999.0,9,  -999.0,-999.000,9,-999.000, -999.00,9,    5.80,-999.0000,9,-999.0000,9,-999.0000,9,-999.0000,9,-999.0000,9,-999.0000,-999.000,-999.0000,9, -999.00
318M20040615,        P02,     168,          1,         35,         35,2,20040822,       0919,    30.0005,  -126.0733,       4255,    40.6,  19.6794,  33.6487,2,  33.6525,2, 242.0000,2,   243.2,2,    1.08,2,    0.09,2,    0.00,2,    0.25,2,-999.000,9,-999.000,9,-999.000,9,  -999.0,9,  -999.0,9,-999.000,9,-999.0000,9, -999.00,9, -999.00,9,  -999.0,9,  -999.0,-999.000,9,-999.000, -999.00,9,   40.60,-999.0000,9,-999.0000,9,-999.0000,9,-999.0000,9,-999.0000,9,-999.0000,-999.000,-999.0000,9, -999.00
318M20040615,        P02,     168,          1,         34,         34,2,20040822,       0919,    30.0005,  -126.0733,       4255,    85.2,  16.9161,  33.4317,2,  33.4201,2, 253.0000,2,   250.4,2,    1.07,2,    0.09,2,    0.00,2,    0.27,2,   2.772,2,   1.667,2,   0.190,2,  -999.0,9,  -999.0,9,-999.000,9,-999.0000,9, -999.00,9, -999.00,9,  -999.0,9,  -999.0,-999.000,9,-999.000, -999.00,9,   85.20,-999.0000,9,-999.0000,9,-999.0000,9,-999.0000,9,-999.0000,9,-999.0000,-999.000,-999.0000,9, -999.00
318M20040615,        P02,     168,          1,         33,         33,2,20040822,       0919,    30.0005,  -126.0733,       4255,   115.0,  16.9821,  33.9197,2,  33.9029,2, 237.3000,2,   237.6,2,    1.46,2,    0.13,2,    0.01,2,    0.23,2,-999.000,9,-999.000,9,-999.000,9,  -999.0,9,  -999.0,9,-999.000,9,-999.0000,9, -999.00,9, -999.00,9,  -999.0,9,  -999.0,-999.000,9,-999.000, -999.00,9,  115.00,-999.0000,9,-999.0000,9,-999.0000,9,-999.0000,9,-999.0000,9,-999.0000,-999.000,-999.0000,9, -999.00
318M20040615,        P02,     168,          1,         32,         32,2,20040822,       0919,    30.0005,  -126.0733,       4255,   145.0,  12.0548,  33.2254,2,  33.2272,2, 223.4000,2,   225.5,2,    5.66,2,    7.02,2,    0.02,2,    0.76,2,   3.384,2,   1.958,2,   0.192,2,  -999.0,9,  -999.0,9,-999.000,9,-999.0000,9, -999.00,9, -999.00,9,  -999.0,9,  -999.0,-999.000,9,-999.000, -999.00,9,  145.00,-999.0000,9,-999.0000,9,-999.0000,9,-999.0000,9,-999.0000,9,-999.0000,-999.000,-999.0000,9, -999.00
318M20040615,        P02,     168,          1,         31,         31,2,20040822,       0919,    30.0005,  -126.0733,       4255,   184.4,   9.9082,  33.3874,2,  33.3836,2, 188.5000,2,   188.9,2,   14.50,2,   16.61,2,    0.00,2,    1.36,2,   3.577,2,   2.015,2,   0.164,2,  -999.0,9,  -999.0,9,-999.000,9,-999.0000,9, -999.00,9, -999.00,9,  -999.0,9,  -999.0,-999.000,9,-999.000, -999.00,9,  184.40,-999.0000,9,-999.0000,9,-999.0000,9,-999.0000,9,-999.0000,9,-999.0000,-999.000,-999.0000,9, -999.00
318M20040615,        P02,     168,          1,         30,         30,2,20040822,       0919,    30.0005,  -126.0733,       4255,   239.2,   8.9896,  33.9009,2,  33.9013,2, 131.6000,2,   131.7,2,   27.18,2,   24.82,2,    0.00,2,    1.85,2,   3.063,2,   1.662,2,   0.108,2,  -999.0,9,  -999.0,9,-999.000,9,-999.0000,9, -999.00,9, -999.00,9,  -999.0,9,  -999.0,-999.000,9,-999.000, -999.00,9,  239.20,-999.0000,9,-999.0000,9,-999.0000,9,-999.0000,9,-999.0000,9,-999.0000,-999.000,-999.0000,9, -999.00
318M20040615,        P02,     168,          1,         29,         29,2,20040822,       0919,    30.0005,  -126.0733,       4255,   289.4,   8.4901,  34.0524,2,  34.0523,2, 101.6000,2,   102.4,2,   35.24,2,   28.44,2,    0.00,2,    2.11,2,   2.517,2,   1.335,2,   0.088,2,  -999.0,9,  -999.0,9,-999.000,9,-999.0000,9, -999.00,9, -999.00,9,  -999.0,9,  -999.0,-999.000,9,-999.000, -999.00,9,  289.40,-999.0000,9,-999.0000,9,-999.0000,9,-999.0000,9,-999.0000,9,-999.0000,-999.000,-999.0000,9, -999.00
318M20040615,        P02,     168,          1,         28,         28,2,20040822,       0919,    30.0005,  -126.0733,       4255,   339.5,   7.7068,  34.0749,2,  34.0733,2,  85.8000,2,    88.0,2,   43.31,2,   31.17,2,    0.00,2,    2.31,2,-999.000,9,-999.000,9,-999.000,9,  -999.0,9,  -999.0,9,-999.000,9,-999.0000,9, -999.00,9, -999.00,9,  -999.0,9,  -999.0,-999.000,9,-999.000, -999.00,9,  339.50,-999.0000,9,-999.0000,9,-999.0000,9,-999.0000,9,-999.0000,9,-999.0000,-999.000,-999.0000,9, -999.00
318M20040615,        P02,     168,          1,         27,         27,2,20040822,       0919,    30.0005,  -126.0733,       4255,   389.0,   7.2135,  34.1175,2,  34.1172,2,  65.4000,2,    64.1,2,   51.02,2,   33.63,2,    0.00,2,    2.54,2,   1.475,2,   0.753,2,   0.051,2,  -999.0,9,  -999.0,9,-999.000,9,-999.0000,9, -999.00,9, -999.00,9,  -999.0,9,  -999.0,-999.000,9,-999.000, -999.00,9,  389.00,-999.0000,9,-999.0000,9,-999.0000,9,-999.0000,9,-999.0000,9,-999.0000,-999.000,-999.0000,9, -999.00
318M20040615,        P02,     168,          1,         26,         26,2,20040822,       0919,    30.0005,  -126.0733,       4255,   439.0,   6.6413,  34.1504,2,  34.1500,2,  45.5000,2,    44.9,2,   60.57,2,   36.15,2,    0.00,2,    2.76,2,-999.000,9,-999.000,9,-999.000,9,  -999.0,9,  -999.0,9,-999.000,9,-999.0000,9, -999.00,9, -999.00,9,  -999.0,9,  -999.0,-999.000,9,-999.000, -999.00,9,  439.00,-999.0000,9,-999.0000,9,-999.0000,9,-999.0000,9,-999.0000,9,-999.0000,-999.000,-999.0000,9, -999.00
318M20040615,        P02,     168,          1,         25,         25,2,20040822,       0919,    30.0005,  -126.0733,       4255,   487.6,   6.3003,  34.1839,2,  34.1821,2,  33.9000,2,    33.5,2,   66.88,2,   37.55,2,    0.00,2,    2.88,2,   0.635,6,   0.318,6,   0.016,6,  -999.0,9,  -999.0,9,-999.000,9,-999.0000,9, -999.00,9, -999.00,9,  -999.0,9,  -999.0,-999.000,9,-999.000, -999.00,9,  487.60,-999.0000,9,-999.0000,9,-999.0000,9,-999.0000,9,-999.0000,9,-999.0000,-999.000,-999.0000,9, -999.00
318M20040615,        P02,     168,          1,         24,         24,2,20040822,       0919,    30.0005,  -126.0733,       4255,   571.8,   5.7962,  34.2590,2,  34.2584,2,  18.5000,2,    17.7,2,   77.89,2,   39.61,2,    0.00,2,    3.05,2,   0.240,2,   0.123,2,   0.000,2,  -999.0,9,  -999.0,9,-999.000,9,-999.0000,9, -999.00,9, -999.00,9,  -999.0,9,  -999.0,-999.000,9,-999.000, -999.00,9,  571.80,-999.0000,9,-999.0000,9,-999.0000,9,-999.0000,9,-999.0000,9,-999.0000,-999.000,-999.0000,9, -999.00
318M20040615,        P02,     168,          1,         23,         23,2,20040822,       0919,    30.0005,  -126.0733,       4255,   672.5,   5.3381,  34.3301,2,  34.3284,2,  10.8000,2,    11.0,2,   87.93,2,   41.29,2,    0.00,2,    3.16,2,   0.079,2,   0.043,2,   0.000,2,  -999.0,9,  -999.0,9,-999.000,9,-999.0000,9, -999.00,9, -999.00,9,  -999.0,9,  -999.0,-999.000,9,-999.000, -999.00,9,  672.50,-999.0000,9,-999.0000,9,-999.0000,9,-999.0000,9,-999.0000,9,-999.0000,-999.000,-999.0000,9, -999.00
318M20040615,        P02,     168,          1,         22,         22,2,20040822,       0919,    30.0005,  -126.0733,       4255,   778.9,   4.7706,  34.3884,2,  34.3893,2,  11.7000,2,    11.9,2,   99.64,2,   42.71,2,    0.00,2,    3.21,2,   0.039,2,   0.021,2,   0.000,2,  -999.0,9,  -999.0,9,-999.000,9,-999.0000,9, -999.00,9, -999.00,9,  -999.0,9,  -999.0,-999.000,9,-999.000, -999.00,9,  778.90,-999.0000,9,-999.0000,9,-999.0000,9,-999.0000,9,-999.0000,9,-999.0000,-999.000,-999.0000,9, -999.00
318M20040615,        P02,     168,          1,         21,         21,2,20040822,       0919,    30.0005,  -126.0733,       4255,   878.8,   4.4738,  34.4277,2,  34.4270,2,  14.6000,2,    14.7,2,  106.02,2,   43.10,2,    0.00,2,    3.21,2,   0.034,2,   0.018,2,  -0.073,2,  -999.0,9,  -999.0,9,-999.000,9,-999.0000,9, -999.00,9, -999.00,9,  -999.0,9,  -999.0,-999.000,9,-999.000, -999.00,9,  878.80,-999.0000,9,-999.0000,9,-999.0000,9,-999.0000,9,-999.0000,9,-999.0000,-999.000,-999.0000,9, -999.00
318M20040615,        P02,     168,          1,         20,         20,2,20040822,       0919,    30.0005,  -126.0733,       4255,   979.1,   4.1105,  34.4619,2,  34.4619,2,  21.0000,2,    21.2,2,  113.24,2,   43.26,2,    0.00,2,    3.20,2,-999.000,9,-999.000,9,-999.000,9,  -999.0,9,  -999.0,9,-999.000,9,-999.0000,9, -999.00,9, -999.00,9,  -999.0,9,  -999.0,-999.000,9,-999.000, -999.00,9,  979.10,-999.0000,9,-999.0000,9,-999.0000,9,-999.0000,9,-999.0000,9,-999.0000,-999.000,-999.0000,9, -999.00
318M20040615,        P02,     168,          1,         19,         19,2,20040822,       0919,    30.0005,  -126.0733,       4255,  1078.9,   3.8409,  34.4905,2,  34.4906,2,  26.2000,2,    26.0,2,  119.43,2,   43.21,2,    0.00,2,    3.18,2,   0.026,2,   0.015,2,  -0.068,2,  -999.0,9,  -999.0,9,-999.000,9,-999.0000,9, -999.00,9, -999.00,9,  -999.0,9,  -999.0,-999.000,9,-999.000, -999.00,9, 1078.90,-999.0000,9,-999.0000,9,-999.0000,9,-999.0000,9,-999.0000,9,-999.0000,-999.000,-999.0000,9, -999.00
318M20040615,        P02,     168,          1,         18,         18,2,20040822,       0919,    30.0005,  -126.0733,       4255,  1184.3,   3.5552,  34.5142,2,  34.5136,2,  32.4000,2,    32.2,2,  125.45,2,   43.00,2,    0.00,2,    3.17,2,-999.000,9,-999.000,9,-999.000,9,  -999.0,9,  -999.0,9,-999.000,9,-999.0000,9, -999.00,9, -999.00,9,  -999.0,9,  -999.0,-999.000,9,-999.000, -999.00,9, 1184.30,-999.0000,9,-999.0000,9,-999.0000,9,-999.0000,9,-999.0000,9,-999.0000,-999.000,-999.0000,9, -999.00
318M20040615,        P02,     168,          1,         17,         17,2,20040822,       0919,    30.0005,  -126.0733,       4255,  1284.8,   3.3659,  34.5302,2,  34.5301,2,  37.1000,2,    36.1,2,  130.24,2,   42.77,2,    0.00,2,    3.14,2,   0.025,2,   0.017,2,  -0.064,2,  -999.0,9,  -999.0,9,-999.000,9,-999.0000,9, -999.00,9, -999.00,9,  -999.0,9,  -999.0,-999.000,9,-999.000, -999.00,9, 1284.80,-999.0000,9,-999.0000,9,-999.0000,9,-999.0000,9,-999.0000,9,-999.0000,-999.000,-999.0000,9, -999.00
318M20040615,        P02,     168,          1,         16,         16,2,20040822,       0919,    30.0005,  -126.0733,       4255,  1385.4,   3.1407,  34.5467,2,  34.5466,2,  42.0000,2,    41.7,2,  135.87,2,   42.62,2,    0.00,2,    3.12,2,-999.000,9,-999.000,9,-999.000,9,  -999.0,9,  -999.0,9,-999.000,9,-999.0000,9, -999.00,9, -999.00,9,  -999.0,9,  -999.0,-999.000,9,-999.000, -999.00,9, 1385.40,-999.0000,9,-999.0000,9,-999.0000,9,-999.0000,9,-999.0000,9,-999.0000,-999.000,-999.0000,9, -999.00
318M20040615,        P02,     168,          1,         15,         15,2,20040822,       0919,    30.0005,  -126.0733,       4255,  1485.3,   2.9330,  34.5609,2,  34.5607,2,  47.8000,2,    46.9,2,  141.29,2,   42.62,2,    0.00,2,    3.09,2,   0.020,2,   0.014,2,  -0.059,2,  -999.0,9,  -999.0,9,-999.000,9,-999.0000,9, -999.00,9, -999.00,9,  -999.0,9,  -999.0,-999.000,9,-999.000, -999.00,9, 1485.30,-999.0000,9,-999.0000,9,-999.0000,9,-999.0000,9,-999.0000,9,-999.0000,-999.000,-999.0000,9, -999.00
318M20040615,        P02,     168,          1,         14,         14,2,20040822,       0919,    30.0005,  -126.0733,       4255,  1586.1,   2.7427,  34.5743,2,  34.5748,2,  53.9000,2,    52.5,2,  145.68,2,   42.52,2,    0.00,2,    3.06,2,-999.000,9,-999.000,9,-999.000,9,  -999.0,9,  -999.0,9,-999.000,9,-999.0000,9, -999.00,9, -999.00,9,  -999.0,9,  -999.0,-999.000,9,-999.000, -999.00,9, 1586.10,-999.0000,9,-999.0000,9,-999.0000,9,-999.0000,9,-999.0000,9,-999.0000,-999.000,-999.0000,9, -999.00
318M20040615,        P02,     168,          1,         13,         13,2,20040822,       0919,    30.0005,  -126.0733,       4255,  1686.8,   2.5627,  34.5882,2,  34.5894,2,  59.7000,2,    58.8,2,  150.06,2,   42.08,2,    0.00,2,    3.01,2,-999.000,9,-999.000,9,-999.000,9,  -999.0,9,  -999.0,9,-999.000,9,-999.0000,9, -999.00,9, -999.00,9,  -999.0,9,  -999.0,-999.000,9,-999.000, -999.00,9, 1686.80,-999.0000,9,-999.0000,9,-999.0000,9,-999.0000,9,-999.0000,9,-999.0000,-999.000,-999.0000,9, -999.00
318M20040615,        P02,     168,          1,         12,         12,2,20040822,       0919,    30.0005,  -126.0733,       4255,  1792.1,   2.3931,  34.6012,2,  34.6016,2,  65.3000,2,    66.2,2,  154.05,2,   41.70,2,    0.00,2,    2.97,2,-999.000,9,-999.000,9,-999.000,9,  -999.0,9,  -999.0,9,-999.000,9,-999.0000,9, -999.00,9, -999.00,9,  -999.0,9,  -999.0,-999.000,9,-999.000, -999.00,9, 1792.10,-999.0000,9,-999.0000,9,-999.0000,9,-999.0000,9,-999.0000,9,-999.0000,-999.000,-999.0000,9, -999.00
318M20040615,        P02,     168,          1,         11,         11,2,20040822,       0919,    30.0005,  -126.0733,       4255,  1892.5,   2.2955,  34.6093,2,  34.6098,2,  71.4000,2,    71.1,2,  156.12,2,   41.37,2,    0.00,2,    2.94,2,   0.007,2,   0.004,2,  -0.054,2,  -999.0,9,  -999.0,9,-999.000,9,-999.0000,9, -999.00,9, -999.00,9,  -999.0,9,  -999.0,-999.000,9,-999.000, -999.00,9, 1892.50,-999.0000,9,-999.0000,9,-999.0000,9,-999.0000,9,-999.0000,9,-999.0000,-999.000,-999.0000,9, -999.00
318M20040615,        P02,     168,          1,         10,         10,2,20040822,       0919,    30.0005,  -126.0733,       4255,  1992.7,   2.1573,  34.6209,2,  34.6206,2,  76.6000,2,    78.6,2,  158.66,2,   40.67,2,    0.00,2,    2.91,2,-999.000,9,-999.000,9,-999.000,9,  -999.0,9,  -999.0,9,-999.000,9,-999.0000,9, -999.00,9, -999.00,9,  -999.0,9,  -999.0,-999.000,9,-999.000, -999.00,9, 1992.70,-999.0000,9,-999.0000,9,-999.0000,9,-999.0000,9,-999.0000,9,-999.0000,-999.000,-999.0000,9, -999.00
318M20040615,        P02,     168,          1,          9,          9,2,20040822,       0919,    30.0005,  -126.0733,       4255,  2198.9,   1.9946,  34.6362,2,  34.6362,2,  88.9000,2,    88.7,2,  160.97,2,   40.03,2,    0.00,2,    2.85,2,   0.007,2,   0.005,2,  -0.050,2,  -999.0,9,  -999.0,9,-999.000,9,-999.0000,9, -999.00,9, -999.00,9,  -999.0,9,  -999.0,-999.000,9,-999.000, -999.00,9, 2198.90,-999.0000,9,-999.0000,9,-999.0000,9,-999.0000,9,-999.0000,9,-999.0000,-999.000,-999.0000,9, -999.00
318M20040615,        P02,     168,          1,          8,          8,2,20040822,       0919,    30.0005,  -126.0733,       4255,  2450.9,   1.8404,  34.6492,2,  34.6484,2,  98.4000,2,   100.1,2,  163.27,2,   39.37,2,    0.00,2,    2.79,2,-999.000,9,-999.000,9,-999.000,9,  -999.0,9,  -999.0,9,-999.000,9,-999.0000,9, -999.00,9, -999.00,9,  -999.0,9,  -999.0,-999.000,9,-999.000, -999.00,9, 2450.90,-999.0000,9,-999.0000,9,-999.0000,9,-999.0000,9,-999.0000,9,-999.0000,-999.000,-999.0000,9, -999.00
318M20040615,        P02,     168,          1,          7,          7,2,20040822,       0919,    30.0005,  -126.0733,       4255,  2703.6,   1.7359,  34.6576,2,  34.6570,2, 106.5000,2,   107.4,2,  165.16,2,   38.94,2,    0.00,2,    2.74,2,   0.005,2,   0.006,2,  -0.018,2,  -999.0,9,  -999.0,9,-999.000,9,-999.0000,9, -999.00,9, -999.00,9,  -999.0,9,  -999.0,-999.000,9,-999.000, -999.00,9, 2703.60,-999.0000,9,-999.0000,9,-999.0000,9,-999.0000,9,-999.0000,9,-999.0000,-999.000,-999.0000,9, -999.00
318M20040615,        P02,     168,          1,          6,          6,2,20040822,       0919,    30.0005,  -126.0733,       4255,  2961.7,   1.6498,  34.6637,2,  34.6660,2, 113.6000,2,   114.2,2,  167.91,2,   38.67,2,    0.00,2,    2.70,2,   0.008,2,   0.006,2,  -0.022,2,  -999.0,9,  -999.0,9,-999.000,9,-999.0000,9, -999.00,9, -999.00,9,  -999.0,9,  -999.0,-999.000,9,-999.000, -999.00,9, 2961.70,-999.0000,9,-999.0000,9,-999.0000,9,-999.0000,9,-999.0000,9,-999.0000,-999.000,-999.0000,9, -999.00
318M20040615,        P02,     168,          1,          5,          5,2,20040822,       0919,    30.0005,  -126.0733,       4255,  3214.6,   1.5779,  34.6700,2,  34.6700,2, 119.7000,2,   120.9,2,  169.18,2,   38.29,2,    0.00,2,    2.67,2,   0.013,2,   0.010,2,  -0.027,2,  -999.0,9,  -999.0,9,-999.000,9,-999.0000,9, -999.00,9, -999.00,9,  -999.0,9,  -999.0,-999.000,9,-999.000, -999.00,9, 3214.60,-999.0000,9,-999.0000,9,-999.0000,9,-999.0000,9,-999.0000,9,-999.0000,-999.000,-999.0000,9, -999.00
318M20040615,        P02,     168,          1,          4,          4,2,20040822,       0919,    30.0005,  -126.0733,       4255,  3472.4,   1.5457,  34.6742,2,  34.6733,2, 125.3000,2,   125.4,2,  169.59,2,   38.08,2,    0.00,2,    2.64,2,   0.014,2,   0.012,2,  -0.031,2,  -999.0,9,  -999.0,9,-999.000,9,-999.0000,9, -999.00,9, -999.00,9,  -999.0,9,  -999.0,-999.000,9,-999.000, -999.00,9, 3472.40,-999.0000,9,-999.0000,9,-999.0000,9,-999.0000,9,-999.0000,9,-999.0000,-999.000,-999.0000,9, -999.00
318M20040615,        P02,     168,          1,          3,          3,2,20040822,       0919,    30.0005,  -126.0733,       4255,  3811.5,   1.5060,  34.6813,2,  34.6810,2, 134.5000,2,   134.8,2,  167.46,2,   37.38,2,    0.00,2,    2.59,2,   0.013,2,   0.011,2,  -0.036,2,  -999.0,9,  -999.0,9,-999.000,9,-999.0000,9, -999.00,9, -999.00,9,  -999.0,9,  -999.0,-999.000,9,-999.000, -999.00,9, 3811.50,-999.0000,9,-999.0000,9,-999.0000,9,-999.0000,9,-999.0000,9,-999.0000,-999.000,-999.0000,9, -999.00
318M20040615,        P02,     168,          1,          2,          2,2,20040822,       0919,    30.0005,  -126.0733,       4255,  4131.1,   1.5116,  34.6846,2,  34.6847,2, 139.6000,2,   139.8,2,  165.33,2,   37.01,2,    0.00,2,    2.56,2,   0.018,2,   0.018,2,  -0.040,2,  -999.0,9,  -999.0,9,-999.000,9,-999.0000,9, -999.00,9, -999.00,9,  -999.0,9,  -999.0,-999.000,9,-999.000, -999.00,9, 4131.10,-999.0000,9,-999.0000,9,-999.0000,9,-999.0000,9,-999.0000,9,-999.0000,-999.000,-999.0000,9, -999.00
318M20040615,        P02,     168,          1,          1,          1,2,20040822,       0919,    30.0005,  -126.0733,       4255,  4334.3,   1.5315,  34.6850,2,  34.6853,2, 140.4000,2,   141.1,2,  165.14,2,   36.90,2,    0.00,2,    2.55,2,   0.016,2,   0.019,2,  -0.045,2,  -999.0,9,  -999.0,9,-999.000,9,-999.0000,9, -999.00,9, -999.00,9,  -999.0,9,  -999.0,-999.000,9,-999.000, -999.00,9, 4334.30,-999.0000,9,-999.0000,9,-999.0000,9,-999.0000,9,-999.0000,9,-999.0000,-999.000,-999.0000,9, -999.00