BOTTLE,20131027SIOCCHRJL
EXPOCODE,SECT_ID,STNNBR,CASTNO,SAMPNO,BTLNBR,BTLNBR_FLAG_W,DATE,TIME,LATITUDE,LONGITUDE,DEPTH,CTDPRS,CTDTMP,CTDSAL,CTDSAL_FLAG_W,SALNTY,SALNTY_FLAG_W,CTDOXY,CTDOXY_FLAG_W,OXYGEN,OXYGEN_FLAG_W,SILCAT,SILCAT_FLAG_W,NITRAT,NITRAT_FLAG_W,NITRIT,NITRIT_FLAG_W,PHSPHT,PHSPHT_FLAG_W,CFC-11,CFC-11_FLAG_W,CFC-12,CFC-12_FLAG_W,CFC113,CFC113_FLAG_W,TCARBN,TCARBN_FLAG_W,ALKALI,ALKALI_FLAG_W,TRITUM,TRITUM_FLAG_W,HELIUM,HELIUM_FLAG_W,DELHE3,DELHE3_FLAG_W,DELC13,DELC13_FLAG_W,DELC14,DELC14_FLAG_W,C14ERR,NEON,NEON_FLAG_W,NEONER,DOC,DOC_FLAG_W,CTDRAW,CDOM380,CDOM380_FLAG_W,CDOM325,CDOM325_FLAG_W,CDOMSL,CDOMSL_FLAG_W,CDOM340,CDOM340_FLAG_W,CDOMSN,CDOMSN_FLAG_W,HELIER,TRITER,CDOM412,CDOM412_FLAG_W,DELHER
,,,,,,,,,,,METERS,DBAR,ITS-90,PSS-78,,PSS-78,,UMOL/KG,,UMOL/KG,,UMOL/KG,,UMOL/KG,,UMOL/KG,,UMOL/KG,,PMOL/KG,,PMOL/KG,,PMOL/KG,,UMOL/KG,,UMOL/KG,,TU,,NMOL/KG,,PERCNT,,/MILLE,,/MILLE,,/MILLE,NMOL/KG,,NMOL/KG,UMOL/KG,,DBAR,1/M,,1/M,,1/NM,,1/M,,1/NM,,NMOL/KG,TU,1/M,,PERCNT
318M20040615,        P02,     120,          1,         36,         36,2,20040807,       1134,    29.9998,  -159.0115,       5671,     6.4,  24.5951,  35.2475,2,  35.2448,2, 210.7000,2,   210.6,2,    1.30,2,    0.13,2,    0.00,2,    0.03,2,   1.955,2,   1.134,2,   0.136,2,  2015.7,2,  2317.7,6,-999.000,9,-999.0000,9, -999.00,9, -999.00,9,  -999.0,9,  -999.0,-999.000,9,-999.000, -999.00,9,    6.40,-999.0000,9,-999.0000,9,-999.0000,9,-999.0000,9,-999.0000,9,-999.0000,-999.000,-999.0000,9, -999.00
318M20040615,        P02,     120,          1,         35,         35,2,20040807,       1134,    29.9998,  -159.0115,       5671,    41.3,  20.5032,  35.0078,2,  34.9188,2, 239.5000,3,   239.5,2,    2.06,2,    0.13,2,    0.00,2,    0.05,2,   2.403,2,   1.432,2,   0.169,2,  -999.0,9,  2318.2,2,-999.000,9,-999.0000,9, -999.00,9, -999.00,9,  -999.0,9,  -999.0,-999.000,9,-999.000, -999.00,9,   41.30,-999.0000,9,-999.0000,9,-999.0000,9,-999.0000,9,-999.0000,9,-999.0000,-999.000,-999.0000,9, -999.00
318M20040615,        P02,     120,          1,         34,         34,2,20040807,       1134,    29.9998,  -159.0115,       5671,    85.6,  17.7541,  34.8148,2,  34.8152,2, 240.0000,2,   238.4,2,    2.44,2,    0.13,2,    0.00,2,    0.09,2,   2.561,2,   1.511,2,   0.167,2,  2018.6,2,  2290.4,2,-999.000,9,-999.0000,9, -999.00,9, -999.00,9,  -999.0,9,  -999.0,-999.000,9,-999.000, -999.00,9,   85.60,-999.0000,9,-999.0000,9,-999.0000,9,-999.0000,9,-999.0000,9,-999.0000,-999.000,-999.0000,9, -999.00
318M20040615,        P02,     120,          1,         33,         33,2,20040807,       1134,    29.9998,  -159.0115,       5671,   135.5,  15.3673,  34.5048,2,  34.5102,2, 235.0000,2,   230.5,2,    3.59,2,    2.12,2,    0.12,2,    0.24,2,   2.821,6,   1.630,6,   0.170,6,  -999.0,9,  -999.0,9,-999.000,9,-999.0000,9, -999.00,9, -999.00,9,  -999.0,9,  -999.0,-999.000,9,-999.000, -999.00,9,  135.50,-999.0000,9,-999.0000,9,-999.0000,9,-999.0000,9,-999.0000,9,-999.0000,-999.000,-999.0000,9, -999.00
318M20040615,        P02,     120,          1,         32,         32,2,20040807,       1134,    29.9998,  -159.0115,       5671,   185.0,  14.0962,  34.4210,2,  34.4201,2, 233.7000,2,   235.8,2,    4.92,2,    4.30,2,    0.01,2,    0.37,2,   2.993,2,   1.632,2,   0.176,2,  -999.0,9,  -999.0,9,-999.000,9,-999.0000,9, -999.00,9, -999.00,9,  -999.0,9,  -999.0,-999.000,9,-999.000, -999.00,9,  185.00,-999.0000,9,-999.0000,9,-999.0000,9,-999.0000,9,-999.0000,9,-999.0000,-999.000,-999.0000,9, -999.00
318M20040615,        P02,     120,          1,         31,         31,2,20040807,       1134,    29.9998,  -159.0115,       5671,   235.4,  13.1047,  34.3487,2,  34.3479,2, 229.5000,2,   230.6,2,    7.01,2,    7.03,2,    0.01,2,    0.55,2,   3.100,2,   1.731,2,   0.145,2,  2056.0,2,  2264.2,2,-999.000,9,-999.0000,9, -999.00,9, -999.00,9,  -999.0,9,  -999.0,-999.000,9,-999.000, -999.00,9,  235.40,-999.0000,9,-999.0000,9,-999.0000,9,-999.0000,9,-999.0000,9,-999.0000,-999.000,-999.0000,9, -999.00
318M20040615,        P02,     120,          1,         30,         30,2,20040807,       1134,    29.9998,  -159.0115,       5671,   290.1,  11.8643,  34.2540,2,  34.2548,2, 218.3000,2,   217.4,2,   11.19,2,   11.22,2,    0.01,2,    0.81,2,   3.229,2,   1.771,2,   0.079,2,  -999.0,9,  -999.0,9,-999.000,9,-999.0000,9, -999.00,9, -999.00,9,  -999.0,9,  -999.0,-999.000,9,-999.000, -999.00,9,  290.10,-999.0000,9,-999.0000,9,-999.0000,9,-999.0000,9,-999.0000,9,-999.0000,-999.000,-999.0000,9, -999.00
318M20040615,        P02,     120,          1,         29,         29,2,20040807,       1134,    29.9998,  -159.0115,       5671,   339.7,  11.0971,  34.2075,2,  34.2079,2, 216.8000,2,   217.6,2,   13.48,2,   12.68,2,    0.00,2,    0.92,2,   3.320,2,   1.802,2,   0.087,2,  -999.0,9,  -999.0,9,-999.000,9,-999.0000,9, -999.00,9, -999.00,9,  -999.0,9,  -999.0,-999.000,9,-999.000, -999.00,9,  339.70,-999.0000,9,-999.0000,9,-999.0000,9,-999.0000,9,-999.0000,9,-999.0000,-999.000,-999.0000,9, -999.00
318M20040615,        P02,     120,          1,         28,         28,2,20040807,       1134,    29.9998,  -159.0115,       5671,   389.4,  10.2617,  34.1813,2,  34.1817,2, 209.5000,2,   208.4,2,   17.87,2,   15.31,2,    0.00,2,    1.10,2,   3.263,2,   1.758,2,   0.097,2,  2106.2,2,  2267.1,2,-999.000,9,-999.0000,9, -999.00,9, -999.00,9,  -999.0,9,  -999.0,-999.000,9,-999.000, -999.00,9,  389.40,-999.0000,9,-999.0000,9,-999.0000,9,-999.0000,9,-999.0000,9,-999.0000,-999.000,-999.0000,9, -999.00
318M20040615,        P02,     120,          1,         27,         27,2,20040807,       1134,    29.9998,  -159.0115,       5671,   439.5,   9.4179,  34.1390,2,  34.1386,2, 194.7000,2,   193.3,2,   23.59,2,   18.40,2,    0.00,2,    1.30,2,   3.150,2,   1.640,2,   0.093,2,  -999.0,9,  -999.0,9,-999.000,9,-999.0000,9, -999.00,9, -999.00,9,  -999.0,9,  -999.0,-999.000,9,-999.000, -999.00,9,  439.50,-999.0000,9,-999.0000,9,-999.0000,9,-999.0000,9,-999.0000,9,-999.0000,-999.000,-999.0000,9, -999.00
318M20040615,        P02,     120,          1,         26,         26,2,20040807,       1134,    29.9998,  -159.0115,       5671,   493.9,   8.4163,  34.0871,2,  34.0874,2, 173.3000,2,   173.5,2,   32.00,2,   22.26,2,    0.00,2,    1.58,2,   2.871,2,   1.463,2,   0.102,2,  -999.0,9,  -999.0,9,-999.000,9,-999.0000,9, -999.00,9, -999.00,9,  -999.0,9,  -999.0,-999.000,9,-999.000, -999.00,9,  493.90,-999.0000,9,-999.0000,9,-999.0000,9,-999.0000,9,-999.0000,9,-999.0000,-999.000,-999.0000,9, -999.00
318M20040615,        P02,     120,          1,         25,         25,2,20040807,       1134,    29.9998,  -159.0115,       5671,   577.5,   6.6147,  34.0139,2,  34.0140,2, 135.8000,2,   132.3,2,   51.00,2,   29.65,2,    0.00,2,    2.11,2,   2.129,2,   1.046,2,   0.079,2,  2210.1,2,  2285.3,2,-999.000,9,-999.0000,9, -999.00,9, -999.00,9,  -999.0,9,  -999.0,-999.000,9,-999.000, -999.00,9,  577.50,-999.0000,9,-999.0000,9,-999.0000,9,-999.0000,9,-999.0000,9,-999.0000,-999.000,-999.0000,9, -999.00
318M20040615,        P02,     120,          1,         24,         24,2,20040807,       1134,    29.9998,  -159.0115,       5671,   675.1,   5.1247,  34.0326,2,  34.0330,2,  87.7000,2,    85.7,2,   75.12,2,   36.37,2,    0.00,2,    2.60,2,   1.108,2,   0.538,2,   0.035,2,  2268.7,2,  2304.1,2,-999.000,9,-999.0000,9, -999.00,9, -999.00,9,  -999.0,9,  -999.0,-999.000,9,-999.000, -999.00,9,  675.10,-999.0000,9,-999.0000,9,-999.0000,9,-999.0000,9,-999.0000,9,-999.0000,-999.000,-999.0000,9, -999.00
318M20040615,        P02,     120,          1,         23,         23,2,20040807,       1134,    29.9998,  -159.0115,       5671,   773.5,   4.3589,  34.1221,2,  34.1234,2,  44.9000,2,    43.0,2,   96.08,2,   41.08,2,    0.00,2,    2.93,2,   0.343,2,   0.166,2,   0.011,2,  2317.1,2,  2325.6,2,-999.000,9,-999.0000,9, -999.00,9, -999.00,9,  -999.0,9,  -999.0,-999.000,9,-999.000, -999.00,9,  773.50,-999.0000,9,-999.0000,9,-999.0000,9,-999.0000,9,-999.0000,9,-999.0000,-999.000,-999.0000,9, -999.00
318M20040615,        P02,     120,          1,         22,         22,2,20040807,       1134,    29.9998,  -159.0115,       5671,   876.1,   3.9240,  34.2270,2,  34.2268,2,  22.2000,2,    21.3,2,  112.07,2,   43.11,2,    0.00,2,    3.09,2,   0.087,2,   0.043,2,   0.000,2,  2347.0,2,  2346.7,2,-999.000,9,-999.0000,9, -999.00,9, -999.00,9,  -999.0,9,  -999.0,-999.000,9,-999.000, -999.00,9,  876.10,-999.0000,9,-999.0000,9,-999.0000,9,-999.0000,9,-999.0000,9,-999.0000,-999.000,-999.0000,9, -999.00
318M20040615,        P02,     120,          1,         21,         21,2,20040807,       1134,    29.9998,  -159.0115,       5671,   979.4,   3.6367,  34.3272,2,  34.3254,2,  15.8000,2,    16.2,2,  122.65,2,   43.75,2,    0.00,2,    3.16,2,   0.023,2,   0.010,2,   0.000,2,  -999.0,5,  2363.0,2,-999.000,9,-999.0000,9, -999.00,9, -999.00,9,  -999.0,9,  -999.0,-999.000,9,-999.000, -999.00,9,  979.40,-999.0000,9,-999.0000,9,-999.0000,9,-999.0000,9,-999.0000,9,-999.0000,-999.000,-999.0000,9, -999.00
318M20040615,        P02,     120,          1,         20,         20,2,20040807,       1134,    29.9998,  -159.0115,       5671,  1080.2,   3.4296,  34.4102,2,  34.4091,2,  21.9000,2,    22.4,2,  128.74,2,   43.47,2,    0.00,2,    3.15,2,   0.013,2,   0.006,2,   0.000,2,  2368.2,6,  2375.5,2,-999.000,9,-999.0000,9, -999.00,9, -999.00,9,  -999.0,9,  -999.0,-999.000,9,-999.000, -999.00,9, 1080.20,-999.0000,9,-999.0000,9,-999.0000,9,-999.0000,9,-999.0000,9,-999.0000,-999.000,-999.0000,9, -999.00
318M20040615,        P02,     120,          1,         19,         19,2,20040807,       1134,    29.9998,  -159.0115,       5671,  1178.6,   3.2369,  34.4547,2,  34.4542,2,  28.7000,3,    28.4,2,  133.48,2,   43.16,2,    0.00,2,    3.13,2,   0.005,2,   0.003,2,   0.000,2,  -999.0,9,  -999.0,9,-999.000,9,-999.0000,9, -999.00,9, -999.00,9,  -999.0,9,  -999.0,-999.000,9,-999.000, -999.00,9, 1178.60,-999.0000,9,-999.0000,9,-999.0000,9,-999.0000,9,-999.0000,9,-999.0000,-999.000,-999.0000,9, -999.00
318M20040615,        P02,     120,          1,         18,         18,2,20040807,       1134,    29.9998,  -159.0115,       5671,  1284.6,   3.0448,  34.4961,2,  34.4953,2,  38.9000,2,    38.7,2,  136.82,2,   42.52,2,    0.00,2,    3.07,2,-999.000,9,-999.000,9,-999.000,9,  -999.0,9,  -999.0,9,-999.000,9,-999.0000,9, -999.00,9, -999.00,9,  -999.0,9,  -999.0,-999.000,9,-999.000, -999.00,9, 1284.60,-999.0000,9,-999.0000,9,-999.0000,9,-999.0000,9,-999.0000,9,-999.0000,-999.000,-999.0000,9, -999.00
318M20040615,        P02,     120,          1,         17,         17,2,20040807,       1134,    29.9998,  -159.0115,       5671,  1385.7,   2.8312,  34.5264,2,  34.5251,2,  47.1000,2,    47.2,2,  141.36,2,   42.09,2,    0.00,2,    3.03,2,   0.007,2,   0.003,2,   0.000,2,  -999.0,9,  -999.0,9,-999.000,9,-999.0000,9, -999.00,9, -999.00,9,  -999.0,9,  -999.0,-999.000,9,-999.000, -999.00,9, 1385.70,-999.0000,9,-999.0000,9,-999.0000,9,-999.0000,9,-999.0000,9,-999.0000,-999.000,-999.0000,9, -999.00
318M20040615,        P02,     120,          1,         16,         16,2,20040807,       1134,    29.9998,  -159.0115,       5671,  1486.8,   2.6863,  34.5453,2,  34.5450,2,  54.5000,2,    54.8,2,  144.11,2,   41.87,2,    0.00,2,    2.99,2,-999.000,9,-999.000,9,-999.000,9,  -999.0,9,  -999.0,9,-999.000,9,-999.0000,9, -999.00,9, -999.00,9,  -999.0,9,  -999.0,-999.000,9,-999.000, -999.00,9, 1486.80,-999.0000,9,-999.0000,9,-999.0000,9,-999.0000,9,-999.0000,9,-999.0000,-999.000,-999.0000,9, -999.00
318M20040615,        P02,     120,          1,         15,         15,2,20040807,       1134,    29.9998,  -159.0115,       5671,  1587.0,   2.5138,  34.5648,2,  34.5637,2,  62.3000,2,    62.6,2,  147.47,2,   41.71,2,    0.00,2,    2.96,2,   0.007,2,   0.001,2,   0.000,2,  -999.0,9,  -999.0,9,-999.000,9,-999.0000,9, -999.00,9, -999.00,9,  -999.0,9,  -999.0,-999.000,9,-999.000, -999.00,9, 1587.00,-999.0000,9,-999.0000,9,-999.0000,9,-999.0000,9,-999.0000,9,-999.0000,-999.000,-999.0000,9, -999.00
318M20040615,        P02,     120,          1,         14,         14,2,20040807,       1134,    29.9998,  -159.0115,       5671,  1798.7,   2.2305,  34.5925,2,  34.5924,2,  73.7000,2,    74.0,2,  153.79,2,   41.12,2,    0.00,2,    2.90,2,-999.000,9,-999.000,9,-999.000,9,  -999.0,9,  -999.0,9,-999.000,9,-999.0000,9, -999.00,9, -999.00,9,  -999.0,9,  -999.0,-999.000,9,-999.000, -999.00,9, 1798.70,-999.0000,9,-999.0000,9,-999.0000,9,-999.0000,9,-999.0000,9,-999.0000,-999.000,-999.0000,9, -999.00
318M20040615,        P02,     120,          1,         13,         13,2,20040807,       1134,    29.9998,  -159.0115,       5671,  1987.6,   2.0336,  34.6110,2,  34.6119,2,  82.6000,2,    82.5,2,  158.15,2,   40.53,2,    0.00,2,    2.86,2,   0.004,2,   0.002,2,   0.000,2,  -999.0,9,  -999.0,9,-999.000,9,-999.0000,9, -999.00,9, -999.00,9,  -999.0,9,  -999.0,-999.000,9,-999.000, -999.00,9, 1987.60,-999.0000,9,-999.0000,9,-999.0000,9,-999.0000,9,-999.0000,9,-999.0000,-999.000,-999.0000,9, -999.00
318M20040615,        P02,     120,          1,         12,         12,2,20040807,       1134,    29.9998,  -159.0115,       5671,  2192.3,   1.8840,  34.6258,2,  34.6259,2,  91.1000,2,    90.6,2,  161.31,2,   39.90,2,    0.00,2,    2.81,2,-999.000,9,-999.000,9,-999.000,9,  -999.0,9,  -999.0,9,-999.000,9,-999.0000,9, -999.00,9, -999.00,9,  -999.0,9,  -999.0,-999.000,9,-999.000, -999.00,9, 2192.30,-999.0000,9,-999.0000,9,-999.0000,9,-999.0000,9,-999.0000,9,-999.0000,-999.000,-999.0000,9, -999.00
318M20040615,        P02,     120,          1,         11,         11,2,20040807,       1134,    29.9998,  -159.0115,       5671,  2446.7,   1.7389,  34.6402,2,  34.6406,2, 100.5000,2,   100.6,2,  162.90,2,   39.26,2,    0.00,2,    2.76,2,   0.005,2,   0.003,2,   0.000,2,  -999.0,9,  -999.0,9,-999.000,9,-999.0000,9, -999.00,9, -999.00,9,  -999.0,9,  -999.0,-999.000,9,-999.000, -999.00,9, 2446.70,-999.0000,9,-999.0000,9,-999.0000,9,-999.0000,9,-999.0000,9,-999.0000,-999.000,-999.0000,9, -999.00
318M20040615,        P02,     120,          1,         10,         10,2,20040807,       1134,    29.9998,  -159.0115,       5671,  2702.3,   1.6405,  34.6526,2,  34.6524,2, 110.3000,2,   110.7,2,  162.71,2,   38.57,2,    0.00,2,    2.71,2,-999.000,9,-999.000,9,-999.000,9,  -999.0,9,  -999.0,9,-999.000,9,-999.0000,9, -999.00,9, -999.00,9,  -999.0,9,  -999.0,-999.000,9,-999.000, -999.00,9, 2702.30,-999.0000,9,-999.0000,9,-999.0000,9,-999.0000,9,-999.0000,9,-999.0000,-999.000,-999.0000,9, -999.00
318M20040615,        P02,     120,          1,          9,          9,2,20040807,       1134,    29.9998,  -159.0115,       5671,  2957.2,   1.5735,  34.6623,2,  34.6627,2, 119.0000,2,   119.1,2,  162.52,2,   37.93,2,    0.00,2,    2.67,2,   0.007,2,   0.000,2,   0.000,2,  -999.0,9,  -999.0,9,-999.000,9,-999.0000,9, -999.00,9, -999.00,9,  -999.0,9,  -999.0,-999.000,9,-999.000, -999.00,9, 2957.20,-999.0000,9,-999.0000,9,-999.0000,9,-999.0000,9,-999.0000,9,-999.0000,-999.000,-999.0000,9, -999.00
318M20040615,        P02,     120,          1,          8,          8,2,20040807,       1134,    29.9998,  -159.0115,       5671,  3295.4,   1.5178,  34.6708,2,  34.6706,2, 128.9000,2,   129.6,2,  159.75,2,   37.25,2,    0.00,2,    2.60,2,-999.000,9,-999.000,9,-999.000,9,  -999.0,9,  -999.0,9,-999.000,9,-999.0000,9, -999.00,9, -999.00,9,  -999.0,9,  -999.0,-999.000,9,-999.000, -999.00,9, 3295.40,-999.0000,9,-999.0000,9,-999.0000,9,-999.0000,9,-999.0000,9,-999.0000,-999.000,-999.0000,9, -999.00
318M20040615,        P02,     120,          1,          7,          7,2,20040807,       1134,    29.9998,  -159.0115,       5671,  3703.5,   1.4869,  34.6784,2,  34.6786,2, 138.2000,2,   138.6,2,  157.17,2,   36.67,2,    0.00,2,    2.56,2,   0.006,2,   0.001,2,   0.000,2,  -999.0,9,  -999.0,9,-999.000,9,-999.0000,9, -999.00,9, -999.00,9,  -999.0,9,  -999.0,-999.000,9,-999.000, -999.00,9, 3703.50,-999.0000,9,-999.0000,9,-999.0000,9,-999.0000,9,-999.0000,9,-999.0000,-999.000,-999.0000,9, -999.00
318M20040615,        P02,     120,          1,          6,          6,2,20040807,       1134,    29.9998,  -159.0115,       5671,  4121.5,   1.4758,  34.6842,2,  34.6848,2, 145.7000,2,   146.1,2,  154.60,2,   36.31,2,    0.00,2,    2.52,2,-999.000,9,-999.000,9,-999.000,9,  -999.0,9,  -999.0,9,-999.000,9,-999.0000,9, -999.00,9, -999.00,9,  -999.0,9,  -999.0,-999.000,9,-999.000, -999.00,9, 4121.50,-999.0000,9,-999.0000,9,-999.0000,9,-999.0000,9,-999.0000,9,-999.0000,-999.000,-999.0000,9, -999.00
318M20040615,        P02,     120,          1,          5,          5,2,20040807,       1134,    29.9998,  -159.0115,       5671,  4530.4,   1.4889,  34.6876,2,  34.6873,2, 150.5000,2,   151.2,2,  152.62,2,   36.09,2,    0.00,2,    2.49,2,   0.006,2,   0.005,2,   0.000,2,  -999.0,9,  -999.0,9,-999.000,9,-999.0000,9, -999.00,9, -999.00,9,  -999.0,9,  -999.0,-999.000,9,-999.000, -999.00,9, 4530.40,-999.0000,9,-999.0000,9,-999.0000,9,-999.0000,9,-999.0000,9,-999.0000,-999.000,-999.0000,9, -999.00
318M20040615,        P02,     120,          1,          4,          4,2,20040807,       1134,    29.9998,  -159.0115,       5671,  4936.1,   1.5195,  34.6896,2,  34.6897,2, 154.7000,2,   155.3,2,  148.87,2,   35.78,2,    0.00,2,    2.46,2,   0.005,2,   0.001,2,   0.000,2,  -999.0,9,  -999.0,9,-999.000,9,-999.0000,9, -999.00,9, -999.00,9,  -999.0,9,  -999.0,-999.000,9,-999.000, -999.00,9, 4936.10,-999.0000,9,-999.0000,9,-999.0000,9,-999.0000,9,-999.0000,9,-999.0000,-999.000,-999.0000,9, -999.00
318M20040615,        P02,     120,          1,          3,          3,2,20040807,       1134,    29.9998,  -159.0115,       5671,  5349.3,   1.5604,  34.6905,2,  34.6905,2, 157.1000,2,   157.6,2,  146.89,2,   35.51,2,    0.00,2,    2.46,2,   0.004,2,   0.001,2,   0.000,2,  -999.0,9,  -999.0,9,-999.000,9,-999.0000,9, -999.00,9, -999.00,9,  -999.0,9,  -999.0,-999.000,9,-999.000, -999.00,9, 5349.30,-999.0000,9,-999.0000,9,-999.0000,9,-999.0000,9,-999.0000,9,-999.0000,-999.000,-999.0000,9, -999.00
318M20040615,        P02,     120,          1,          2,          2,2,20040807,       1134,    29.9998,  -159.0115,       5671,  5630.6,   1.5936,  34.6908,2,  34.6917,2, 158.2000,2,   158.5,2,  146.10,2,   35.31,2,    0.00,2,    2.46,2,   0.008,2,   0.004,2,   0.000,2,  -999.0,9,  -999.0,9,-999.000,9,-999.0000,9, -999.00,9, -999.00,9,  -999.0,9,  -999.0,-999.000,9,-999.000, -999.00,9, 5630.60,-999.0000,9,-999.0000,9,-999.0000,9,-999.0000,9,-999.0000,9,-999.0000,-999.000,-999.0000,9, -999.00
318M20040615,        P02,     120,          1,          1,          1,2,20040807,       1134,    29.9998,  -159.0115,       5671,  5826.5,   1.6171,  34.6910,2,  34.6916,2, 158.7000,2,   158.9,2,  145.52,2,   35.31,2,    0.00,2,    2.46,2,   0.008,2,   0.006,2,   0.000,2,  -999.0,9,  -999.0,9,-999.000,9,-999.0000,9, -999.00,9, -999.00,9,  -999.0,9,  -999.0,-999.000,9,-999.000, -999.00,9, 5826.50,-999.0000,9,-999.0000,9,-999.0000,9,-999.0000,9,-999.0000,9,-999.0000,-999.000,-999.0000,9, -999.00