BOTTLE,20131027SIOCCHRJL
EXPOCODE,SECT_ID,STNNBR,CASTNO,SAMPNO,BTLNBR,BTLNBR_FLAG_W,DATE,TIME,LATITUDE,LONGITUDE,DEPTH,CTDPRS,CTDTMP,CTDSAL,CTDSAL_FLAG_W,SALNTY,SALNTY_FLAG_W,CTDOXY,CTDOXY_FLAG_W,OXYGEN,OXYGEN_FLAG_W,SILCAT,SILCAT_FLAG_W,NITRAT,NITRAT_FLAG_W,NITRIT,NITRIT_FLAG_W,PHSPHT,PHSPHT_FLAG_W,CFC-11,CFC-11_FLAG_W,CFC-12,CFC-12_FLAG_W,CFC113,CFC113_FLAG_W,TCARBN,TCARBN_FLAG_W,ALKALI,ALKALI_FLAG_W,TRITUM,TRITUM_FLAG_W,HELIUM,HELIUM_FLAG_W,DELHE3,DELHE3_FLAG_W,DELC13,DELC13_FLAG_W,DELC14,DELC14_FLAG_W,C14ERR,NEON,NEON_FLAG_W,NEONER,DOC,DOC_FLAG_W,CTDRAW,CDOM380,CDOM380_FLAG_W,CDOM325,CDOM325_FLAG_W,CDOMSL,CDOMSL_FLAG_W,CDOM340,CDOM340_FLAG_W,CDOMSN,CDOMSN_FLAG_W,HELIER,TRITER,CDOM412,CDOM412_FLAG_W,DELHER
,,,,,,,,,,,METERS,DBAR,ITS-90,PSS-78,,PSS-78,,UMOL/KG,,UMOL/KG,,UMOL/KG,,UMOL/KG,,UMOL/KG,,UMOL/KG,,PMOL/KG,,PMOL/KG,,PMOL/KG,,UMOL/KG,,UMOL/KG,,TU,,NMOL/KG,,PERCNT,,/MILLE,,/MILLE,,/MILLE,NMOL/KG,,NMOL/KG,UMOL/KG,,DBAR,1/M,,1/M,,1/NM,,1/M,,1/NM,,NMOL/KG,TU,1/M,,PERCNT
318M20040615,        P02,      25,          1,         28,         28,2,20040624,       2146,    30.0005,   140.5255,       2496,    14.0,  25.4691,  34.8519,7,  34.8538,2, 211.7000,2,   210.5,2,    1.80,2,    0.14,2,    0.00,2,    0.07,2,   1.906,2,   1.118,2,   0.148,2,  1975.5,6,  2286.7,6,-999.000,9,-999.0000,9, -999.00,9, -999.00,9,  -999.0,9,  -999.0,-999.000,9,-999.000, -999.00,9,   14.00,-999.0000,9,-999.0000,9,-999.0000,9,-999.0000,9,-999.0000,9,-999.0000,-999.000,-999.0000,9, -999.00
318M20040615,        P02,      25,          1,         27,         27,2,20040624,       2146,    30.0005,   140.5255,       2496,    56.0,  20.5636,  34.9083,7,  34.9118,2, 232.7000,2,   230.7,2,    1.98,2,    0.19,2,    0.00,2,    0.07,2,   2.281,2,   1.357,2,   0.138,2,  1986.9,2,  2290.9,2,-999.000,9,-999.0000,9, -999.00,9, -999.00,9,  -999.0,9,  -999.0,-999.000,9,-999.000, -999.00,9,   56.00,-999.0000,9,-999.0000,9,-999.0000,9,-999.0000,9,-999.0000,9,-999.0000,-999.000,-999.0000,9, -999.00
318M20040615,        P02,      25,          1,         26,         26,2,20040624,       2146,    30.0005,   140.5255,       2496,   104.0,  18.3521,  34.8315,7,  34.8338,2, 211.9000,2,   219.8,2,    2.86,2,    1.47,2,    0.08,2,    0.19,2,   2.354,2,   1.358,2,   0.121,2,  2009.6,2,  2285.2,2,-999.000,9,-999.0000,9, -999.00,9, -999.00,9,  -999.0,9,  -999.0,-999.000,9,-999.000, -999.00,9,  104.00,-999.0000,9,-999.0000,9,-999.0000,9,-999.0000,9,-999.0000,9,-999.0000,-999.000,-999.0000,9, -999.00
318M20040615,        P02,      25,          1,         25,         25,2,20040624,       2146,    30.0005,   140.5255,       2496,   154.4,  17.5568,  34.7963,7,  34.8005,2, 217.0000,2,   216.7,2,    3.58,2,    3.17,2,    0.04,2,    0.27,2,   2.455,2,   1.448,2,   0.117,2,  2018.2,2,  2286.5,2,-999.000,9,-999.0000,9, -999.00,9, -999.00,9,  -999.0,9,  -999.0,-999.000,9,-999.000, -999.00,9,  154.40,-999.0000,9,-999.0000,9,-999.0000,9,-999.0000,9,-999.0000,9,-999.0000,-999.000,-999.0000,9, -999.00
318M20040615,        P02,      25,          1,         24,         24,2,20040624,       2146,    30.0005,   140.5255,       2496,   204.2,  17.1340,  34.7777,7,  34.7789,2, 217.5000,2,   216.3,2,    4.29,2,    4.06,2,    0.01,2,    0.33,2,   2.468,2,   1.476,2,   0.101,2,  -999.0,9,  2283.5,2,-999.000,9,-999.0000,9, -999.00,9, -999.00,9,  -999.0,9,  -999.0,-999.000,9,-999.000, -999.00,9,  204.20,-999.0000,9,-999.0000,9,-999.0000,9,-999.0000,9,-999.0000,9,-999.0000,-999.000,-999.0000,9, -999.00
318M20040615,        P02,      25,          1,         23,         23,2,20040624,       2146,    30.0005,   140.5255,       2496,   254.2,  16.8654,  34.7696,7,  34.7710,2, 210.4000,2,   215.9,2,    4.64,2,    4.47,2,    0.01,2,    0.36,2,   2.484,2,   1.473,2,   0.094,2,  2026.5,2,  2283.5,2,-999.000,9,-999.0000,9, -999.00,9, -999.00,9,  -999.0,9,  -999.0,-999.000,9,-999.000, -999.00,9,  254.20,-999.0000,9,-999.0000,9,-999.0000,9,-999.0000,9,-999.0000,9,-999.0000,-999.000,-999.0000,9, -999.00
318M20040615,        P02,      25,          1,         22,         22,2,20040624,       2146,    30.0005,   140.5255,       2496,   303.9,  16.2228,  34.6907,7,  34.6934,2, 200.0000,2,   201.3,2,    6.77,2,    6.56,2,    0.01,2,    0.52,2,   2.541,2,   1.471,2,   0.043,2,  -999.0,9,  2279.4,2,-999.000,9,-999.0000,9, -999.00,9, -999.00,9,  -999.0,9,  -999.0,-999.000,9,-999.000, -999.00,9,  303.90,-999.0000,9,-999.0000,9,-999.0000,9,-999.0000,9,-999.0000,9,-999.0000,-999.000,-999.0000,9, -999.00
318M20040615,        P02,      25,          1,         21,         21,2,20040624,       2146,    30.0005,   140.5255,       2496,   353.4,  15.3345,  34.6221,7,  34.6284,2, 189.7000,2,   189.9,2,   10.13,2,    9.08,2,    0.01,2,    0.67,2,   2.508,2,   1.421,2,   0.027,2,  2062.1,2,  2279.0,2,-999.000,9,-999.0000,9, -999.00,9, -999.00,9,  -999.0,9,  -999.0,-999.000,9,-999.000, -999.00,9,  353.40,-999.0000,9,-999.0000,9,-999.0000,9,-999.0000,9,-999.0000,9,-999.0000,-999.000,-999.0000,9, -999.00
318M20040615,        P02,      25,          1,         20,         20,2,20040624,       2146,    30.0005,   140.5255,       2496,   403.8,  14.1411,  34.5434,7,  34.5427,2, 184.6000,2,   184.2,2,   13.85,2,   11.53,2,    0.00,2,    0.85,2,   2.557,2,   1.449,2,   0.039,2,  -999.0,9,  2277.1,2,-999.000,9,-999.0000,9, -999.00,9, -999.00,9,  -999.0,9,  -999.0,-999.000,9,-999.000, -999.00,9,  403.80,-999.0000,9,-999.0000,9,-999.0000,9,-999.0000,9,-999.0000,9,-999.0000,-999.000,-999.0000,9, -999.00
318M20040615,        P02,      25,          1,         19,         19,2,20040624,       2146,    30.0005,   140.5255,       2496,   453.4,  12.6577,  34.4413,7,  34.4430,2, 177.0000,2,   176.8,2,   19.88,2,   14.62,2,    0.00,2,    1.08,2,   2.503,2,   1.371,2,   0.040,2,  -999.0,9,  2278.6,2,-999.000,9,-999.0000,9, -999.00,9, -999.00,9,  -999.0,9,  -999.0,-999.000,9,-999.000, -999.00,9,  453.40,-999.0000,9,-999.0000,9,-999.0000,9,-999.0000,9,-999.0000,9,-999.0000,-999.000,-999.0000,9, -999.00
318M20040615,        P02,      25,          1,         18,         18,2,20040624,       2146,    30.0005,   140.5255,       2496,   503.6,  11.1282,  34.3395,7,  34.3429,2, 168.2000,2,   169.5,2,   27.16,2,   17.88,2,    0.00,2,    1.31,2,   2.441,2,   1.298,2,   0.049,2,  2127.9,2,  2278.4,2,-999.000,9,-999.0000,9, -999.00,9, -999.00,9,  -999.0,9,  -999.0,-999.000,9,-999.000, -999.00,9,  503.60,-999.0000,9,-999.0000,9,-999.0000,9,-999.0000,9,-999.0000,9,-999.0000,-999.000,-999.0000,9, -999.00
318M20040615,        P02,      25,          1,         17,         17,2,20040624,       2146,    30.0005,   140.5255,       2496,   603.6,   8.3415,  34.1758,7,  34.1793,2, 152.3000,2,   148.7,2,   44.96,2,   24.69,2,    0.00,2,    1.81,2,   2.157,2,   1.102,2,   0.066,2,  -999.0,9,  2287.4,2,-999.000,9,-999.0000,9, -999.00,9, -999.00,9,  -999.0,9,  -999.0,-999.000,9,-999.000, -999.00,9,  603.60,-999.0000,9,-999.0000,9,-999.0000,9,-999.0000,9,-999.0000,9,-999.0000,-999.000,-999.0000,9, -999.00
318M20040615,        P02,      25,          1,         16,         16,2,20040624,       2146,    30.0005,   140.5255,       2496,   734.3,   5.9799,  34.1083,7,  34.1119,2, 115.6000,2,   112.3,2,   69.65,2,   32.18,2,    0.00,2,    2.37,2,   1.627,2,   0.765,2,   0.069,2,  2240.2,2,  2302.8,2,-999.000,9,-999.0000,9, -999.00,9, -999.00,9,  -999.0,9,  -999.0,-999.000,9,-999.000, -999.00,9,  734.30,-999.0000,9,-999.0000,9,-999.0000,9,-999.0000,9,-999.0000,9,-999.0000,-999.000,-999.0000,9, -999.00
318M20040615,        P02,      25,          1,         15,         15,2,20040624,       2146,    30.0005,   140.5255,       2496,   803.8,   5.3737,  34.1349,7,  34.1385,2,  95.9000,2,    94.3,2,   80.79,2,   34.72,2,    0.00,2,    2.55,2,   1.307,6,   0.618,6,   0.051,6,  -999.0,9,  2313.4,2,-999.000,9,-999.0000,9, -999.00,9, -999.00,9,  -999.0,9,  -999.0,-999.000,9,-999.000, -999.00,9,  803.80,-999.0000,9,-999.0000,9,-999.0000,9,-999.0000,9,-999.0000,9,-999.0000,-999.000,-999.0000,9, -999.00
318M20040615,        P02,      25,          1,         14,         14,2,20040624,       2146,    30.0005,   140.5255,       2496,   902.3,   4.5789,  34.2080,7,  34.2109,2,  69.4000,2,    69.4,2,  100.26,2,   37.99,2,    0.00,2,    2.79,2,   0.808,2,   0.374,2,   0.030,2,  2299.9,2,  2330.9,2,-999.000,9,-999.0000,9, -999.00,9, -999.00,9,  -999.0,9,  -999.0,-999.000,9,-999.000, -999.00,9,  902.30,-999.0000,9,-999.0000,9,-999.0000,9,-999.0000,9,-999.0000,9,-999.0000,-999.000,-999.0000,9, -999.00
318M20040615,        P02,      25,          1,         13,         13,2,20040624,       2146,    30.0005,   140.5255,       2496,  1009.4,   3.7740,  34.3003,7,  34.3033,2,  49.0000,2,    47.6,2,  118.92,2,   40.88,2,    0.00,2,    2.99,2,   0.334,2,   0.157,2,   0.009,2,  2334.8,2,  2353.3,2,-999.000,9,-999.0000,9, -999.00,9, -999.00,9,  -999.0,9,  -999.0,-999.000,9,-999.000, -999.00,9, 1009.40,-999.0000,9,-999.0000,9,-999.0000,9,-999.0000,9,-999.0000,9,-999.0000,-999.000,-999.0000,9, -999.00
318M20040615,        P02,      25,          1,         12,         12,2,20040624,       2146,    30.0005,   140.5255,       2496,  1112.0,   3.5459,  34.3860,2,  34.3872,2,  58.5000,2,    57.9,2,  124.91,2,   40.35,2,    0.00,2,    2.94,2,   0.215,2,   0.100,2,   0.002,2,  2337.0,2,  2364.9,2,-999.000,9,-999.0000,9, -999.00,9, -999.00,9,  -999.0,9,  -999.0,-999.000,9,-999.000, -999.00,9, 1112.00,-999.0000,9,-999.0000,9,-999.0000,9,-999.0000,9,-999.0000,9,-999.0000,-999.000,-999.0000,9, -999.00
318M20040615,        P02,      25,          1,         11,         11,2,20040624,       2146,    30.0005,   140.5255,       2496,  1215.2,   3.1508,  34.4178,2,  34.4192,2,  52.0000,2,    51.6,2,  134.93,2,   41.32,2,    0.00,2,    3.01,2,   0.135,2,   0.065,2,   0.001,2,  -999.0,9,  2379.4,3,-999.000,9,-999.0000,9, -999.00,9, -999.00,9,  -999.0,9,  -999.0,-999.000,9,-999.000, -999.00,9, 1215.20,-999.0000,9,-999.0000,9,-999.0000,9,-999.0000,9,-999.0000,9,-999.0000,-999.000,-999.0000,9, -999.00
318M20040615,        P02,      25,          1,         10,         10,2,20040624,       2146,    30.0005,   140.5255,       2496,  1316.6,   2.9374,  34.4463,2,  34.4481,2,  52.1000,2,    52.4,2,  140.05,2,   41.48,2,    0.00,2,    3.02,2,   0.095,2,   0.054,2,   0.002,2,  -999.0,9,  2380.9,3,-999.000,9,-999.0000,9, -999.00,9, -999.00,9,  -999.0,9,  -999.0,-999.000,9,-999.000, -999.00,9, 1316.60,-999.0000,9,-999.0000,9,-999.0000,9,-999.0000,9,-999.0000,9,-999.0000,-999.000,-999.0000,9, -999.00
318M20040615,        P02,      25,          1,          9,          9,2,20040624,       2146,    30.0005,   140.5255,       2496,  1418.1,   2.6835,  34.4816,2,  34.4824,2,  54.5000,2,    54.5,2,  146.63,2,   41.60,2,    0.00,2,    3.02,2,   0.061,2,   0.043,2,   0.000,2,  -999.0,9,  2389.5,2,-999.000,9,-999.0000,9, -999.00,9, -999.00,9,  -999.0,9,  -999.0,-999.000,9,-999.000, -999.00,9, 1418.10,-999.0000,9,-999.0000,9,-999.0000,9,-999.0000,9,-999.0000,9,-999.0000,-999.000,-999.0000,9, -999.00
318M20040615,        P02,      25,          1,          8,          8,2,20040624,       2146,    30.0005,   140.5255,       2496,  1519.6,   2.5171,  34.5124,2,  34.5146,2,  60.6000,2,    63.6,2,  148.12,2,   41.12,2,    0.00,2,    2.98,2,   0.042,2,   0.031,2,   0.000,2,  -999.0,9,  2395.2,2,-999.000,9,-999.0000,9, -999.00,9, -999.00,9,  -999.0,9,  -999.0,-999.000,9,-999.000, -999.00,9, 1519.60,-999.0000,9,-999.0000,9,-999.0000,9,-999.0000,9,-999.0000,9,-999.0000,-999.000,-999.0000,9, -999.00
318M20040615,        P02,      25,          1,          7,          7,2,20040624,       2146,    30.0005,   140.5255,       2496,  1620.5,   2.3550,  34.5358,2,  34.5392,2,  68.5000,2,    69.1,2,  151.08,2,   40.92,2,    0.00,2,    2.95,2,   0.031,2,   0.028,2,   0.001,2,  -999.0,9,  2392.9,3,-999.000,9,-999.0000,9, -999.00,9, -999.00,9,  -999.0,9,  -999.0,-999.000,9,-999.000, -999.00,9, 1620.50,-999.0000,9,-999.0000,9,-999.0000,9,-999.0000,9,-999.0000,9,-999.0000,-999.000,-999.0000,9, -999.00
318M20040615,        P02,      25,          1,          6,          6,2,20040624,       2146,    30.0005,   140.5255,       2496,  1721.6,   2.2340,  34.5541,2,  34.5567,2,  74.1000,2,    74.0,2,  152.95,2,   40.66,2,    0.00,2,    2.94,2,   0.022,2,   0.027,2,   0.000,2,  -999.0,9,  2402.4,2,-999.000,9,-999.0000,9, -999.00,9, -999.00,9,  -999.0,9,  -999.0,-999.000,9,-999.000, -999.00,9, 1721.60,-999.0000,9,-999.0000,9,-999.0000,9,-999.0000,9,-999.0000,9,-999.0000,-999.000,-999.0000,9, -999.00
318M20040615,        P02,      25,          1,          5,          5,2,20040624,       2146,    30.0005,   140.5255,       2496,  1823.0,   2.0981,  34.5769,2,  34.5798,2,  85.6000,2,    85.9,2,  152.92,2,   40.01,2,    0.00,2,    2.88,2,   0.016,2,   0.019,2,   0.000,2,  -999.0,9,  2405.1,2,-999.000,9,-999.0000,9, -999.00,9, -999.00,9,  -999.0,9,  -999.0,-999.000,9,-999.000, -999.00,9, 1823.00,-999.0000,9,-999.0000,9,-999.0000,9,-999.0000,9,-999.0000,9,-999.0000,-999.000,-999.0000,9, -999.00
318M20040615,        P02,      25,          1,          4,          4,2,20040624,       2146,    30.0005,   140.5255,       2496,  1924.6,   1.9857,  34.5930,2,  34.5948,2,  87.8000,2,    90.3,2,  154.40,2,   39.90,2,    0.00,2,    2.87,2,   0.011,2,   0.009,2,  -0.001,2,  -999.0,9,  2409.5,3,-999.000,9,-999.0000,9, -999.00,9, -999.00,9,  -999.0,9,  -999.0,-999.000,9,-999.000, -999.00,9, 1924.60,-999.0000,9,-999.0000,9,-999.0000,9,-999.0000,9,-999.0000,9,-999.0000,-999.000,-999.0000,9, -999.00
318M20040615,        P02,      25,          1,          3,          3,2,20040624,       2146,    30.0005,   140.5255,       2496,  2025.9,   1.9421,  34.6018,2,  34.6048,2,  96.7000,2,    97.9,2,  152.60,2,   39.59,2,    0.00,2,    2.83,2,   0.010,2,   0.007,2,   0.002,2,  -999.0,9,  2407.1,3,-999.000,9,-999.0000,9, -999.00,9, -999.00,9,  -999.0,9,  -999.0,-999.000,9,-999.000, -999.00,9, 2025.90,-999.0000,9,-999.0000,9,-999.0000,9,-999.0000,9,-999.0000,9,-999.0000,-999.000,-999.0000,9, -999.00
318M20040615,        P02,      25,          1,          2,          2,2,20040624,       2146,    30.0005,   140.5255,       2496,  2278.8,   1.7732,  34.6267,2,  34.6297,2, 105.3000,2,   105.9,2,  156.63,2,   39.22,2,    0.00,2,    2.80,2,   0.007,2,   0.007,2,   0.000,2,  -999.0,9,  2411.7,2,-999.000,9,-999.0000,9, -999.00,9, -999.00,9,  -999.0,9,  -999.0,-999.000,9,-999.000, -999.00,9, 2278.80,-999.0000,9,-999.0000,9,-999.0000,9,-999.0000,9,-999.0000,9,-999.0000,-999.000,-999.0000,9, -999.00
318M20040615,        P02,      25,          1,          1,          1,2,20040624,       2146,    30.0005,   140.5255,       2496,  2501.9,   1.6983,  34.6390,2,  34.6421,2, 112.0000,2,   112.4,2,  157.02,2,   38.74,2,    0.00,2,    2.77,2,   0.007,2,   0.005,2,   0.002,2,  -999.0,9,  2414.2,6,-999.000,9,-999.0000,9, -999.00,9, -999.00,9,  -999.0,9,  -999.0,-999.000,9,-999.000, -999.00,9, 2501.90,-999.0000,9,-999.0000,9,-999.0000,9,-999.0000,9,-999.0000,9,-999.0000,-999.000,-999.0000,9, -999.00