BOTTLE,20131027SIOCCHRJL
EXPOCODE,SECT_ID,STNNBR,CASTNO,SAMPNO,BTLNBR,BTLNBR_FLAG_W,DATE,TIME,LATITUDE,LONGITUDE,DEPTH,CTDPRS,CTDTMP,CTDSAL,CTDSAL_FLAG_W,SALNTY,SALNTY_FLAG_W,CTDOXY,CTDOXY_FLAG_W,OXYGEN,OXYGEN_FLAG_W,SILCAT,SILCAT_FLAG_W,NITRAT,NITRAT_FLAG_W,NITRIT,NITRIT_FLAG_W,PHSPHT,PHSPHT_FLAG_W,CFC-11,CFC-11_FLAG_W,CFC-12,CFC-12_FLAG_W,CFC113,CFC113_FLAG_W,TCARBN,TCARBN_FLAG_W,ALKALI,ALKALI_FLAG_W,TRITUM,TRITUM_FLAG_W,HELIUM,HELIUM_FLAG_W,DELHE3,DELHE3_FLAG_W,DELC13,DELC13_FLAG_W,DELC14,DELC14_FLAG_W,C14ERR,NEON,NEON_FLAG_W,NEONER,DOC,DOC_FLAG_W,CTDRAW,CDOM380,CDOM380_FLAG_W,CDOM325,CDOM325_FLAG_W,CDOMSL,CDOMSL_FLAG_W,CDOM340,CDOM340_FLAG_W,CDOMSN,CDOMSN_FLAG_W,HELIER,TRITER,CDOM412,CDOM412_FLAG_W,DELHER
,,,,,,,,,,,METERS,DBAR,ITS-90,PSS-78,,PSS-78,,UMOL/KG,,UMOL/KG,,UMOL/KG,,UMOL/KG,,UMOL/KG,,UMOL/KG,,PMOL/KG,,PMOL/KG,,PMOL/KG,,UMOL/KG,,UMOL/KG,,TU,,NMOL/KG,,PERCNT,,/MILLE,,/MILLE,,/MILLE,NMOL/KG,,NMOL/KG,UMOL/KG,,DBAR,1/M,,1/M,,1/NM,,1/M,,1/NM,,NMOL/KG,TU,1/M,,PERCNT
318M20040615,        P02,     125,          2,         36,         36,2,20040809,       0543,     29.992,  -155.5228,       5623,    11.4,  24.6820,  35.3801,2,  35.3821,2, 212.9000,2,   212.5,2,    1.39,2,    0.15,2,    0.00,2,    0.02,2,   1.853,2,   1.134,2,   0.134,2,  2015.3,6,  2327.5,6,-999.000,9,-999.0000,9, -999.00,9,    1.15,2,   112.4,2,     5.6,-999.000,9,-999.000, -999.00,9,   11.40,   0.0050,2,   0.0470,2,   0.0360,2,   0.0270,2,   0.0360,2,-999.0000,-999.000,   0.0010,3, -999.00
318M20040615,        P02,     125,          2,         35,         35,2,20040809,       0543,     29.992,  -155.5228,       5623,    36.8,  21.3658,  35.1620,2,  35.1543,2, 239.5000,2,   237.5,2,    1.38,2,    0.15,2,    0.00,2,    0.03,2,   2.266,2,   1.334,2,   0.137,2,  2010.0,2,  2313.6,2,-999.000,9,-999.0000,9, -999.00,9,    1.16,2,   110.7,2,     5.1,-999.000,9,-999.000, -999.00,9,   36.80,   0.0150,2,   0.0800,2,   0.0320,2,   0.0490,2,   0.0320,2,-999.0000,-999.000,   0.0080,2, -999.00
318M20040615,        P02,     125,          2,         34,         34,2,20040809,       0543,     29.992,  -155.5228,       5623,    71.5,  18.8653,  34.9118,2,  34.9184,2, 239.3000,2,   239.6,2,    1.94,2,    0.15,2,    0.00,2,    0.05,2,   2.430,2,   1.428,2,   0.161,2,  2012.5,2,  2297.3,2,-999.000,9,-999.0000,9, -999.00,9, -999.00,9,  -999.0,9,  -999.0,-999.000,9,-999.000, -999.00,9,   71.50,   0.0120,2,   0.0890,2,   0.0330,2,   0.0550,2,   0.0330,2,-999.0000,-999.000,   0.0050,2, -999.00
318M20040615,        P02,     125,          2,         33,         33,2,20040809,       0543,     29.992,  -155.5228,       5623,   121.2,  16.8037,  34.7139,2,  34.7027,2, 227.1000,2,   227.9,2,    2.88,2,    1.06,2,    0.28,2,    0.19,2,   2.628,2,   1.521,2,   0.149,2,  2028.8,2,  2283.2,2,-999.000,9,-999.0000,9, -999.00,9,    0.88,2,    89.1,2,     5.6,-999.000,9,-999.000, -999.00,9,  121.20,   0.0530,2,   0.1360,2,   0.0140,2,   0.1010,2,   0.0160,2,-999.0000,-999.000,   0.0380,2, -999.00
318M20040615,        P02,     125,          2,         32,         32,2,20040809,       0543,     29.992,  -155.5228,       5623,   171.3,  14.5098,  34.4583,2,  34.4640,2, 212.8000,2,   214.1,2,    5.70,2,    6.38,2,    0.01,2,    0.49,2,   2.895,2,   1.659,2,   0.086,2,  2051.2,2,  2269.6,2,-999.000,9,-999.0000,9, -999.00,9, -999.00,9,  -999.0,9,  -999.0,-999.000,9,-999.000, -999.00,9,  171.30,   0.0640,2,   0.1510,2,   0.0130,2,   0.1150,2,   0.0140,2,-999.0000,-999.000,   0.0470,2, -999.00
318M20040615,        P02,     125,          2,         31,         31,2,20040809,       0543,     29.992,  -155.5228,       5623,   220.7,  12.6993,  34.2734,2,  34.2752,2, 221.4000,2,   223.5,2,    8.15,2,    8.67,2,    0.00,2,    0.65,2,   3.168,2,   1.773,2,   0.097,2,  2061.9,2,  2261.0,2,-999.000,9,-999.0000,9, -999.00,9,    0.62,2,    80.5,2,     4.4,-999.000,9,-999.000, -999.00,9,  220.70,   0.0320,2,   0.1000,2,   0.0200,2,   0.0700,2,   0.0220,2,-999.0000,-999.000,   0.0220,2, -999.00
318M20040615,        P02,     125,          2,         30,         30,2,20040809,       0543,     29.992,  -155.5228,       5623,   270.6,  11.7425,  34.2233,2,  34.2240,2, 220.3000,2,   219.3,2,   10.99,2,   11.20,2,    0.00,2,    0.81,2,   3.260,2,   1.780,2,   0.083,2,  2077.2,2,  2261.8,2,-999.000,9,-999.0000,9, -999.00,9, -999.00,9,  -999.0,9,  -999.0,-999.000,9,-999.000, -999.00,9,  270.60,   0.0390,2,   0.1110,2,   0.0180,2,   0.0800,2,   0.0190,2,-999.0000,-999.000,   0.0260,2, -999.00
318M20040615,        P02,     125,          2,         29,         29,2,20040809,       0543,     29.992,  -155.5228,       5623,   320.7,  11.0212,  34.1954,2,  34.1947,2, 217.7000,2,   218.9,2,   13.63,2,   12.84,2,    0.00,2,    0.93,2,   3.306,2,   1.806,2,   0.083,2,  2088.5,2,  2263.5,2,-999.000,9,-999.0000,9, -999.00,9,    0.48,2,    75.5,2,     4.4,-999.000,9,-999.000, -999.00,9,  320.70,   0.0410,2,   0.1170,2,   0.0160,2,   0.0830,2,   0.0180,2,-999.0000,-999.000,   0.0290,2, -999.00
318M20040615,        P02,     125,          2,         28,         28,2,20040809,       0543,     29.992,  -155.5228,       5623,   375.9,  10.1058,  34.1646,2,  34.1639,2, 207.1000,2,   207.8,2,   18.36,2,   15.67,2,    0.00,2,    1.12,2,   3.271,2,   1.722,2,   0.091,2,  2108.0,2,  2261.7,2,-999.000,9,-999.0000,9, -999.00,9, -999.00,9,  -999.0,9,  -999.0,-999.000,9,-999.000, -999.00,9,  375.90,   0.0400,2,   0.1190,2,   0.0180,2,   0.0830,2,   0.0200,2,-999.0000,-999.000,   0.0270,2, -999.00
318M20040615,        P02,     125,          2,         27,         27,2,20040809,       0543,     29.992,  -155.5228,       5623,   425.5,   9.1859,  34.1217,2,  34.1229,2, 194.6000,2,   192.6,2,   24.81,2,   19.02,2,    0.00,2,    1.33,2,-999.000,9,-999.000,9,-999.000,9,  2130.6,2,  2267.6,2,-999.000,9,-999.0000,9, -999.00,9,    0.36,2,    45.1,2,     5.1,-999.000,9,-999.000, -999.00,9,  425.50,-999.0000,9,-999.0000,9,-999.0000,9,-999.0000,9,-999.0000,9,-999.0000,-999.000,-999.0000,9, -999.00
318M20040615,        P02,     125,          2,         26,         26,2,20040809,       0543,     29.992,  -155.5228,       5623,   475.2,   8.2979,  34.0758,2,  34.0760,2, 173.3000,2,   172.1,2,   32.80,2,   22.89,2,    0.00,2,    1.60,2,   2.881,2,   1.455,2,   0.111,2,  2157.4,2,  2274.6,2,-999.000,9,-999.0000,9, -999.00,9,    0.18,2,    42.8,2,     5.0,-999.000,9,-999.000, -999.00,9,  475.20,   0.0550,2,   0.1510,2,   0.0150,2,   0.1080,2,   0.0170,2,-999.0000,-999.000,   0.0390,2, -999.00
318M20040615,        P02,     125,          2,         25,         25,2,20040809,       0543,     29.992,  -155.5228,       5623,   544.5,   6.8092,  34.0133,2,  34.0183,2, 141.0000,2,   138.7,2,   48.26,2,   28.81,2,    0.00,2,    2.04,2,   2.269,2,   1.113,2,   0.087,2,  2200.6,2,  2283.6,2,-999.000,9,-999.0000,9, -999.00,9, -999.00,9,  -999.0,9,  -999.0,-999.000,9,-999.000, -999.00,9,  544.50,-999.0000,9,-999.0000,9,-999.0000,9,-999.0000,9,-999.0000,9,-999.0000,-999.000,-999.0000,9, -999.00
318M20040615,        P02,     125,          2,         24,         24,2,20040809,       0543,     29.992,  -155.5228,       5623,   648.2,   5.1705,  34.0194,2,  34.0207,2,  92.3000,2,    85.8,2,   73.22,2,   36.15,2,    0.00,2,    2.60,2,   1.098,2,   0.539,2,   0.035,2,  2262.7,2,  2302.7,2,-999.000,9,-999.0000,9, -999.00,9,   -0.18,2,   -69.5,2,     4.0,-999.000,9,-999.000, -999.00,9,  648.20,   0.0780,2,   0.1940,2,   0.0140,2,   0.1400,2,   0.0150,2,-999.0000,-999.000,   0.0560,2, -999.00
318M20040615,        P02,     125,          2,         23,         23,2,20040809,       0543,     29.992,  -155.5228,       5623,   747.3,   4.3681,  34.1166,2,  34.1174,2,  47.4000,2,    39.8,2,   95.64,2,   41.07,2,    0.00,2,    2.95,2,   0.294,6,   0.145,6,   0.013,6,  2315.3,2,  2317.2,2,-999.000,9,-999.0000,9, -999.00,9,   -0.37,2,  -120.8,2,     3.8,-999.000,9,-999.000, -999.00,9,  747.30,-999.0000,9,-999.0000,9,-999.0000,9,-999.0000,9,-999.0000,9,-999.0000,-999.000,-999.0000,9, -999.00
318M20040615,        P02,     125,          2,         22,         22,2,20040809,       0543,     29.992,  -155.5228,       5623,   852.0,   3.9308,  34.2203,2,  34.2215,2,  22.4000,2,    17.1,2,  111.57,2,   43.20,2,    0.00,2,    3.13,2,   0.050,2,   0.024,2,   0.000,2,  2344.9,2,  2345.4,2,-999.000,9,-999.0000,9, -999.00,9,   -0.48,2,  -157.7,2,     4.6,-999.000,9,-999.000, -999.00,9,  852.00,   0.1150,2,   0.2560,2,   0.0120,2,   0.1920,2,   0.0130,2,-999.0000,-999.000,   0.0870,2, -999.00
318M20040615,        P02,     125,          2,         21,         21,2,20040809,       0543,     29.992,  -155.5228,       5623,   951.1,   3.6795,  34.3115,2,  34.3121,2,  14.6000,2,    10.7,2,  121.71,2,   43.73,2,    0.00,2,    3.19,2,   0.019,2,   0.010,2,   0.013,2,  2361.6,2,  2358.6,2,-999.000,9,-999.0000,9, -999.00,9,   -0.49,2,  -167.7,2,     3.7,-999.000,9,-999.000, -999.00,9,  951.10,-999.0000,9,-999.0000,9,-999.0000,9,-999.0000,9,-999.0000,9,-999.0000,-999.000,-999.0000,9, -999.00
318M20040615,        P02,     125,          2,         20,         20,2,20040809,       0543,     29.992,  -155.5228,       5623,  1050.9,   3.4411,  34.3904,2,  34.3903,2,  11.4000,2,    11.5,2,  130.12,2,   43.83,2,    0.00,2,    3.21,2,   0.004,2,   0.002,2,   0.000,2,  2370.0,6,  2370.5,2,-999.000,9,-999.0000,9, -999.00,9,   -0.45,2,  -181.9,2,     4.3,-999.000,9,-999.000, -999.00,9, 1050.90,   0.1220,2,   0.2750,2,   0.0120,2,   0.2060,2,   0.0130,2,-999.0000,-999.000,   0.0940,2, -999.00
318M20040615,        P02,     125,          2,         19,         19,2,20040809,       0543,     29.992,  -155.5228,       5623,  1150.6,   3.2483,  34.4461,2,  34.4468,2,  20.3000,2,    22.8,2,  134.03,2,   43.47,2,    0.00,2,    3.16,2,   0.007,2,   0.001,2,   0.009,2,  2370.4,2,  2382.3,2,-999.000,9,-999.0000,9, -999.00,9, -999.00,9,  -999.0,9,  -999.0,-999.000,9,-999.000, -999.00,9, 1150.60,-999.0000,9,-999.0000,9,-999.0000,9,-999.0000,9,-999.0000,9,-999.0000,-999.000,-999.0000,9, -999.00
318M20040615,        P02,     125,          2,         18,         18,2,20040809,       0543,     29.992,  -155.5228,       5623,  1255.6,   3.0336,  34.4896,2,  34.4906,2,  28.9000,2,    31.2,2,  138.75,2,   43.21,2,    0.00,2,    3.12,2,   0.005,2,   0.001,2,  -0.001,2,  2372.5,2,  2392.1,6,-999.000,9,-999.0000,9, -999.00,9,   -0.32,2,  -195.5,2,     3.3,-999.000,9,-999.000, -999.00,9, 1255.60,-999.0000,9,-999.0000,9,-999.0000,9,-999.0000,9,-999.0000,9,-999.0000,-999.000,-999.0000,9, -999.00
318M20040615,        P02,     125,          2,         17,         17,2,20040809,       0543,     29.992,  -155.5228,       5623,  1355.3,   2.8677,  34.5156,2,  34.5161,2,  34.9000,2,    36.7,2,  143.07,2,   42.96,2,    0.00,2,    3.09,2,-999.000,9,-999.000,9,-999.000,9,  2373.4,2,  2396.9,2,-999.000,9,-999.0000,9, -999.00,9, -999.00,9,  -999.0,9,  -999.0,-999.000,9,-999.000, -999.00,9, 1355.30,-999.0000,9,-999.0000,9,-999.0000,9,-999.0000,9,-999.0000,9,-999.0000,-999.000,-999.0000,9, -999.00
318M20040615,        P02,     125,          2,         16,         16,2,20040809,       0543,     29.992,  -155.5228,       5623,  1455.5,   2.7015,  34.5382,2,  34.5388,2,  42.9000,2,    43.2,2,  146.81,2,   42.54,2,    0.00,2,    3.07,2,   0.007,2,   0.000,2,   0.012,2,  2374.9,2,  2402.6,2,-999.000,9,-999.0000,9, -999.00,9, -999.00,9,  -999.0,9,  -999.0,-999.000,9,-999.000, -999.00,9, 1455.50,-999.0000,9,-999.0000,9,-999.0000,9,-999.0000,9,-999.0000,9,-999.0000,-999.000,-999.0000,9, -999.00
318M20040615,        P02,     125,          2,         15,         15,2,20040809,       0543,     29.992,  -155.5228,       5623,  1559.6,   2.5209,  34.5595,2,  34.5630,2,  49.6000,3,    53.9,2,  150.57,2,   41.81,2,    0.00,2,    3.01,2,-999.000,9,-999.000,9,-999.000,9,  2371.8,2,  2408.2,2,-999.000,9,-999.0000,9, -999.00,9,   -0.25,2,  -213.0,2,     3.4,-999.000,9,-999.000, -999.00,9, 1559.60,-999.0000,9,-999.0000,9,-999.0000,9,-999.0000,9,-999.0000,9,-999.0000,-999.000,-999.0000,9, -999.00
318M20040615,        P02,     125,          2,         14,         14,2,20040809,       0543,     29.992,  -155.5228,       5623,  1759.9,   2.2277,  34.5899,2,  34.5900,2,  69.4000,2,    68.2,2,  156.48,2,   41.01,2,    0.00,2,    2.94,2,   0.007,2,   0.004,2,  -0.001,2,  2370.4,2,  2412.9,2,-999.000,9,-999.0000,9, -999.00,9,   -0.16,2,  -213.5,2,     3.4,-999.000,9,-999.000, -999.00,9, 1759.90,-999.0000,9,-999.0000,9,-999.0000,9,-999.0000,9,-999.0000,9,-999.0000,-999.000,-999.0000,9, -999.00
318M20040615,        P02,     125,          2,         13,         13,2,20040809,       0543,     29.992,  -155.5228,       5623,  1965.7,   2.0336,  34.6103,2,  34.6110,2,  77.8000,2,    78.4,2,  160.83,2,   40.60,2,    0.00,2,    2.89,2,-999.000,9,-999.000,9,-999.000,9,  2369.3,2,  2415.8,2,-999.000,9,-999.0000,9, -999.00,9,   -0.14,2,  -206.9,2,     3.3,-999.000,9,-999.000, -999.00,9, 1965.70,-999.0000,9,-999.0000,9,-999.0000,9,-999.0000,9,-999.0000,9,-999.0000,-999.000,-999.0000,9, -999.00
318M20040615,        P02,     125,          2,         12,         12,2,20040809,       0543,     29.992,  -155.5228,       5623,  2126.4,   1.9191,  34.6229,2,  34.6230,2,  85.5000,2,    85.4,2,  163.40,2,   40.29,2,    0.00,2,    2.86,2,   0.004,2,   0.000,2,  -0.001,2,  2368.1,2,  2423.6,6,-999.000,9,-999.0000,9, -999.00,9, -999.00,9,  -999.0,9,  -999.0,-999.000,9,-999.000, -999.00,9, 2126.40,   0.1150,2,   0.2580,2,   0.0110,2,   0.1910,2,   0.0120,2,-999.0000,-999.000,   0.0870,2, -999.00
318M20040615,        P02,     125,          2,         11,         11,2,20040809,       0543,     29.992,  -155.5228,       5623,  2382.8,   1.7743,  34.6408,2,  34.6406,2,  96.8000,2,    97.6,2,  165.77,2,   39.56,2,    0.00,2,    2.79,2,-999.000,9,-999.000,9,-999.000,9,  2363.7,2,  2426.3,2,-999.000,9,-999.0000,9, -999.00,9, -999.00,9,  -999.0,9,  -999.0,-999.000,9,-999.000, -999.00,9, 2382.80,-999.0000,9,-999.0000,9,-999.0000,9,-999.0000,9,-999.0000,9,-999.0000,-999.000,-999.0000,9, -999.00
318M20040615,        P02,     125,          2,         10,         10,2,20040809,       0543,     29.992,  -155.5228,       5623,  2635.7,   1.6707,  34.6521,2,  34.6518,2, 106.3000,2,   106.6,2,  166.76,2,   38.88,2,    0.00,2,    2.74,2,   0.007,2,   0.000,2,  -0.001,2,  2360.4,2,  2430.0,2,-999.000,9,-999.0000,9, -999.00,9, -999.00,9,  -999.0,9,  -999.0,-999.000,9,-999.000, -999.00,9, 2635.70,-999.0000,9,-999.0000,9,-999.0000,9,-999.0000,9,-999.0000,9,-999.0000,-999.000,-999.0000,9, -999.00
318M20040615,        P02,     125,          2,          9,          9,2,20040809,       0543,     29.992,  -155.5228,       5623,  2890.4,   1.5976,  34.6613,2,  34.6624,2, 116.0000,2,   116.4,2,  165.58,2,   38.26,2,    0.00,2,    2.69,2,-999.000,9,-999.000,9,-999.000,9,  2355.1,2,  2428.9,2,-999.000,9,-999.0000,9, -999.00,9, -999.00,9,  -999.0,9,  -999.0,-999.000,9,-999.000, -999.00,9, 2890.40,-999.0000,9,-999.0000,9,-999.0000,9,-999.0000,9,-999.0000,9,-999.0000,-999.000,-999.0000,9, -999.00
318M20040615,        P02,     125,          2,          8,          8,2,20040809,       0543,     29.992,  -155.5228,       5623,  3145.1,   1.5484,  34.6684,2,  34.6682,2, 124.5000,2,   125.1,2,  163.43,2,   37.64,2,    0.00,2,    2.64,2,   0.001,2,   0.001,2,   0.000,2,  2348.1,2,  2429.0,2,-999.000,9,-999.0000,9, -999.00,9, -999.00,9,  -999.0,9,  -999.0,-999.000,9,-999.000, -999.00,9, 3145.10,   0.0750,2,   0.1880,2,   0.0130,2,   0.1360,2,   0.0150,2,-999.0000,-999.000,   0.0540,2, -999.00
318M20040615,        P02,     125,          2,          7,          7,2,20040809,       0543,     29.992,  -155.5228,       5623,  3556.0,   1.4995,  34.6775,2,  34.6770,2, 135.2000,2,   136.1,2,  160.85,2,   36.86,2,    0.00,2,    2.58,2,-999.000,9,-999.000,9,-999.000,9,  2340.7,2,  2428.9,2,-999.000,9,-999.0000,9, -999.00,9, -999.00,9,  -999.0,9,  -999.0,-999.000,9,-999.000, -999.00,9, 3556.00,-999.0000,9,-999.0000,9,-999.0000,9,-999.0000,9,-999.0000,9,-999.0000,-999.000,-999.0000,9, -999.00
318M20040615,        P02,     125,          2,          6,          6,2,20040809,       0543,     29.992,  -155.5228,       5623,  3966.8,   1.4816,  34.6834,2,  34.6833,2, 143.8000,2,   144.1,2,  157.50,2,   36.30,2,    0.00,2,    2.54,2,   0.002,2,  -0.001,2,   0.000,2,  2334.5,2,  2428.0,2,-999.000,9,-999.0000,9, -999.00,9, -999.00,9,  -999.0,9,  -999.0,-999.000,9,-999.000, -999.00,9, 3966.80,-999.0000,9,-999.0000,9,-999.0000,9,-999.0000,9,-999.0000,9,-999.0000,-999.000,-999.0000,9, -999.00
318M20040615,        P02,     125,          2,          5,          5,2,20040809,       0543,     29.992,  -155.5228,       5623,  4382.9,   1.4884,  34.6865,2,  34.6858,2, 149.6000,2,   150.6,2,  153.36,2,   35.98,2,    0.00,2,    2.50,2,   0.001,2,   0.000,2,   0.000,2,  2327.9,2,  2420.6,2,-999.000,9,-999.0000,9, -999.00,9, -999.00,9,  -999.0,9,  -999.0,-999.000,9,-999.000, -999.00,9, 4382.90,-999.0000,9,-999.0000,9,-999.0000,9,-999.0000,9,-999.0000,9,-999.0000,-999.000,-999.0000,9, -999.00
318M20040615,        P02,     125,          2,          4,          4,2,20040809,       0543,     29.992,  -155.5228,       5623,  4788.9,   1.5059,  34.6893,2,  34.6893,2, 155.2000,2,   155.3,2,  149.61,2,   35.79,2,    0.00,2,    2.47,2,   0.003,2,   0.004,2,   0.000,2,  2323.9,2,  2422.4,2,-999.000,9,-999.0000,9, -999.00,9, -999.00,9,  -999.0,9,  -999.0,-999.000,9,-999.000, -999.00,9, 4788.90,-999.0000,9,-999.0000,9,-999.0000,9,-999.0000,9,-999.0000,9,-999.0000,-999.000,-999.0000,9, -999.00
318M20040615,        P02,     125,          2,          3,          3,2,20040809,       0543,     29.992,  -155.5228,       5623,  5350.6,   1.5561,  34.6911,2,  34.6910,2, 159.1000,2,   159.4,2,  146.46,2,   35.58,2,    0.00,2,    2.45,2,   0.002,2,   0.002,2,   0.000,2,  2320.9,2,  2420.5,2,-999.000,9,-999.0000,9, -999.00,9, -999.00,9,  -999.0,9,  -999.0,-999.000,9,-999.000, -999.00,9, 5350.60,-999.0000,9,-999.0000,9,-999.0000,9,-999.0000,9,-999.0000,9,-999.0000,-999.000,-999.0000,9, -999.00
318M20040615,        P02,     125,          2,          2,          2,2,20040809,       0543,     29.992,  -155.5228,       5623,  5555.6,   1.5768,  34.6914,2,  34.6910,2, 160.2000,2,   160.8,2,  145.46,2,   35.43,2,    0.00,2,    2.45,2,   0.002,2,   0.006,2,   0.000,2,  2318.3,2,  2420.0,2,-999.000,9,-999.0000,9, -999.00,9, -999.00,9,  -999.0,9,  -999.0,-999.000,9,-999.000, -999.00,9, 5555.60,-999.0000,9,-999.0000,9,-999.0000,9,-999.0000,9,-999.0000,9,-999.0000,-999.000,-999.0000,9, -999.00
318M20040615,        P02,     125,          2,          1,          1,2,20040809,       0543,     29.992,  -155.5228,       5623,  5841.5,   1.6120,  34.6916,2,  34.6914,2, 160.8000,2,   161.4,2,  144.87,2,   35.22,2,    0.00,2,    2.45,2,   0.006,2,   0.008,2,   0.012,2,  2317.4,6,  2419.6,6,-999.000,9,-999.0000,9, -999.00,9, -999.00,9,  -999.0,9,  -999.0,-999.000,9,-999.000, -999.00,9, 5841.50,-999.0000,9,-999.0000,9,-999.0000,9,-999.0000,9,-999.0000,9,-999.0000,-999.000,-999.0000,9, -999.00