BOTTLE,20131027SIOCCHRJL
EXPOCODE,SECT_ID,STNNBR,CASTNO,SAMPNO,BTLNBR,BTLNBR_FLAG_W,DATE,TIME,LATITUDE,LONGITUDE,DEPTH,CTDPRS,CTDTMP,CTDSAL,CTDSAL_FLAG_W,SALNTY,SALNTY_FLAG_W,CTDOXY,CTDOXY_FLAG_W,OXYGEN,OXYGEN_FLAG_W,SILCAT,SILCAT_FLAG_W,NITRAT,NITRAT_FLAG_W,NITRIT,NITRIT_FLAG_W,PHSPHT,PHSPHT_FLAG_W,CFC-11,CFC-11_FLAG_W,CFC-12,CFC-12_FLAG_W,CFC113,CFC113_FLAG_W,TCARBN,TCARBN_FLAG_W,ALKALI,ALKALI_FLAG_W,TRITUM,TRITUM_FLAG_W,HELIUM,HELIUM_FLAG_W,DELHE3,DELHE3_FLAG_W,DELC13,DELC13_FLAG_W,DELC14,DELC14_FLAG_W,C14ERR,NEON,NEON_FLAG_W,NEONER,DOC,DOC_FLAG_W,CTDRAW,CDOM380,CDOM380_FLAG_W,CDOM325,CDOM325_FLAG_W,CDOMSL,CDOMSL_FLAG_W,CDOM340,CDOM340_FLAG_W,CDOMSN,CDOMSN_FLAG_W,HELIER,TRITER,CDOM412,CDOM412_FLAG_W,DELHER
,,,,,,,,,,,METERS,DBAR,ITS-90,PSS-78,,PSS-78,,UMOL/KG,,UMOL/KG,,UMOL/KG,,UMOL/KG,,UMOL/KG,,UMOL/KG,,PMOL/KG,,PMOL/KG,,PMOL/KG,,UMOL/KG,,UMOL/KG,,TU,,NMOL/KG,,PERCNT,,/MILLE,,/MILLE,,/MILLE,NMOL/KG,,NMOL/KG,UMOL/KG,,DBAR,1/M,,1/M,,1/NM,,1/M,,1/NM,,NMOL/KG,TU,1/M,,PERCNT
318M20040615,        P02,      21,          1,         29,         29,2,20040620,       1442,    30.0115,   138.3615,       3598,     9.6,  25.3119,  34.6816,2,  34.6791,2, 210.6000,2,   209.0,2,    0.92,2,    0.00,2,    0.00,2,    0.05,2,   1.883,2,   1.175,2,   0.134,2,  1963.6,6,  2276.7,6,-999.000,9,-999.0000,9, -999.00,9, -999.00,9,  -999.0,9,  -999.0,-999.000,9,-999.000, -999.00,9,    9.60,-999.0000,9,-999.0000,9,-999.0000,9,-999.0000,9,-999.0000,9,-999.0000,-999.000,-999.0000,9, -999.00
318M20040615,        P02,      21,          1,         28,         28,2,20040620,       1442,    30.0115,   138.3615,       3598,    43.1,  22.1350,  34.8528,2,  34.8504,2, 229.7000,2,   227.9,2,    1.09,2,    0.00,2,    0.00,2,    0.03,2,   2.182,2,   1.331,2,   0.140,2,  1981.4,2,  2288.8,2,-999.000,9,-999.0000,9, -999.00,9, -999.00,9,  -999.0,9,  -999.0,-999.000,9,-999.000, -999.00,9,   43.10,-999.0000,9,-999.0000,9,-999.0000,9,-999.0000,9,-999.0000,9,-999.0000,-999.000,-999.0000,9, -999.00
318M20040615,        P02,      21,          1,         27,         27,2,20040620,       1442,    30.0115,   138.3615,       3598,    88.1,  18.8613,  34.8655,2,  34.8652,2, 229.1000,2,   223.6,2,    1.64,2,    0.68,2,    0.15,2,    0.12,2,   2.338,2,   1.394,2,   0.124,2,  -999.0,9,  2290.0,2,-999.000,9,-999.0000,9, -999.00,9, -999.00,9,  -999.0,9,  -999.0,-999.000,9,-999.000, -999.00,9,   88.10,-999.0000,9,-999.0000,9,-999.0000,9,-999.0000,9,-999.0000,9,-999.0000,-999.000,-999.0000,9, -999.00
318M20040615,        P02,      21,          1,         26,         26,2,20040620,       1442,    30.0115,   138.3615,       3598,   150.9,  17.6174,  34.8096,2,  34.8071,2, 211.7000,2,   217.3,2,    2.90,2,    3.20,2,    0.01,2,    0.25,2,   2.456,2,   1.444,2,   0.118,2,  2017.7,2,  2283.6,2,-999.000,9,-999.0000,9, -999.00,9, -999.00,9,  -999.0,9,  -999.0,-999.000,9,-999.000, -999.00,9,  150.90,-999.0000,9,-999.0000,9,-999.0000,9,-999.0000,9,-999.0000,9,-999.0000,-999.000,-999.0000,9, -999.00
318M20040615,        P02,      21,          1,         25,         25,2,20040620,       1442,    30.0115,   138.3615,       3598,   186.4,  17.3443,  34.8100,2,  34.8083,2, 221.8000,2,   223.5,2,    2.73,2,    3.09,2,    0.01,2,    0.23,2,   2.507,2,   1.350,2,   0.129,2,  -999.0,9,  2284.5,3,-999.000,9,-999.0000,9, -999.00,9, -999.00,9,  -999.0,9,  -999.0,-999.000,9,-999.000, -999.00,9,  186.40,-999.0000,9,-999.0000,9,-999.0000,9,-999.0000,9,-999.0000,9,-999.0000,-999.000,-999.0000,9, -999.00
318M20040615,        P02,      21,          1,         24,         24,2,20040620,       1442,    30.0115,   138.3615,       3598,   250.2,  17.1914,  34.8096,2,  34.8070,2, 227.0000,2,   225.8,2,    2.91,2,    3.18,2,    0.01,2,    0.23,2,   2.495,2,   1.385,2,   0.134,2,  -999.0,9,  2296.3,3,-999.000,9,-999.0000,9, -999.00,9, -999.00,9,  -999.0,9,  -999.0,-999.000,9,-999.000, -999.00,9,  250.20,-999.0000,9,-999.0000,9,-999.0000,9,-999.0000,9,-999.0000,9,-999.0000,-999.000,-999.0000,9, -999.00
318M20040615,        P02,      21,          1,         23,         23,2,20040620,       1442,    30.0115,   138.3615,       3598,   298.8,  17.0921,  34.8017,2,  34.7998,2, 223.9000,2,   223.3,2,    3.27,2,    3.52,2,    0.01,2,    0.26,2,   2.521,2,   1.386,2,   0.117,2,  2019.1,2,  2284.9,2,-999.000,9,-999.0000,9, -999.00,9, -999.00,9,  -999.0,9,  -999.0,-999.000,9,-999.000, -999.00,9,  298.80,-999.0000,9,-999.0000,9,-999.0000,9,-999.0000,9,-999.0000,9,-999.0000,-999.000,-999.0000,9, -999.00
318M20040615,        P02,      21,          1,         22,         22,2,20040620,       1442,    30.0115,   138.3615,       3598,   407.9,  15.5032,  34.6365,2,  34.6389,2, 196.8000,2,   192.2,2,    8.67,2,    8.80,2,    0.00,2,    0.62,2,   2.559,2,   1.372,2,   0.028,2,  -999.0,9,  2278.5,2,-999.000,9,-999.0000,9, -999.00,9, -999.00,9,  -999.0,9,  -999.0,-999.000,9,-999.000, -999.00,9,  407.90,-999.0000,9,-999.0000,9,-999.0000,9,-999.0000,9,-999.0000,9,-999.0000,-999.000,-999.0000,9, -999.00
318M20040615,        P02,      21,          1,         21,         21,2,20040620,       1442,    30.0115,   138.3615,       3598,   499.2,  12.8914,  34.4565,2,  34.4574,2, 183.5000,2,   178.2,2,   18.04,2,   14.26,2,    0.00,2,    1.02,2,   2.606,2,   1.284,2,   0.032,2,  2099.9,2,  2277.0,2,-999.000,9,-999.0000,9, -999.00,9, -999.00,9,  -999.0,9,  -999.0,-999.000,9,-999.000, -999.00,9,  499.20,-999.0000,9,-999.0000,9,-999.0000,9,-999.0000,9,-999.0000,9,-999.0000,-999.000,-999.0000,9, -999.00
318M20040615,        P02,      21,          1,         20,         20,2,20040620,       1442,    30.0115,   138.3615,       3598,   591.6,  10.3304,  34.2707,2,  34.2705,2, 169.1000,2,   172.6,2,   28.16,2,   18.99,2,    0.00,2,    1.37,2,   2.486,2,   1.264,2,   0.058,2,  -999.0,9,  2276.9,2,-999.000,9,-999.0000,9, -999.00,9, -999.00,9,  -999.0,9,  -999.0,-999.000,9,-999.000, -999.00,9,  591.60,-999.0000,9,-999.0000,9,-999.0000,9,-999.0000,9,-999.0000,9,-999.0000,-999.000,-999.0000,9, -999.00
318M20040615,        P02,      21,          1,         19,         19,2,20040620,       1442,    30.0115,   138.3615,       3598,   646.9,   9.0020,  34.2250,2,  34.2247,2, 152.6000,2,   151.4,2,   18.24,4,   14.23,4,    0.00,4,    1.02,4,   2.084,2,   1.093,2,   0.057,2,  2168.8,2,  2286.6,2,-999.000,9,-999.0000,9, -999.00,9, -999.00,9,  -999.0,9,  -999.0,-999.000,9,-999.000, -999.00,9,  646.90,-999.0000,9,-999.0000,9,-999.0000,9,-999.0000,9,-999.0000,9,-999.0000,-999.000,-999.0000,9, -999.00
318M20040615,        P02,      21,          1,         18,         18,2,20040620,       1442,    30.0115,   138.3615,       3598,   758.3,   6.9156,  34.1505,2,  34.1512,2, 123.2000,2,   124.3,2,   60.50,2,   29.27,2,    0.00,2,    2.13,2,   1.712,2,   0.903,2,   0.052,2,  -999.0,9,  2297.8,2,-999.000,9,-999.0000,9, -999.00,9, -999.00,9,  -999.0,9,  -999.0,-999.000,9,-999.000, -999.00,9,  758.30,-999.0000,9,-999.0000,9,-999.0000,9,-999.0000,9,-999.0000,9,-999.0000,-999.000,-999.0000,9, -999.00
318M20040615,        P02,      21,          1,         17,         17,2,20040620,       1442,    30.0115,   138.3615,       3598,   893.1,   5.0329,  34.1960,2,  34.1940,2,  81.9000,2,    81.3,2,   89.96,2,   36.26,2,    0.00,2,    2.64,2,   0.943,6,   0.506,6,   0.031,6,  2283.2,2,  2324.0,2,-999.000,9,-999.0000,9, -999.00,9, -999.00,9,  -999.0,9,  -999.0,-999.000,9,-999.000, -999.00,9,  893.10,-999.0000,9,-999.0000,9,-999.0000,9,-999.0000,9,-999.0000,9,-999.0000,-999.000,-999.0000,9, -999.00
318M20040615,        P02,      21,          1,         16,         16,2,20040620,       1442,    30.0115,   138.3615,       3598,  1006.6,   4.2978,  34.2797,2,  34.2798,2,  62.4000,2,    63.2,2,  106.49,2,   39.00,2,    0.00,2,    2.83,2,   0.491,2,   0.251,2,   0.016,2,  2314.0,2,  2342.3,2,-999.000,9,-999.0000,9, -999.00,9, -999.00,9,  -999.0,9,  -999.0,-999.000,9,-999.000, -999.00,9, 1006.60,-999.0000,9,-999.0000,9,-999.0000,9,-999.0000,9,-999.0000,9,-999.0000,-999.000,-999.0000,9, -999.00
318M20040615,        P02,      21,          1,         15,         15,2,20040620,       1442,    30.0115,   138.3615,       3598,  1098.7,   3.8305,  34.3241,2,  34.3222,2,  54.3000,2,    54.7,2,  117.17,2,   40.25,2,    0.00,2,    2.92,2,   0.337,2,   0.164,2,   0.014,2,  2332.3,2,  2353.8,2,-999.000,9,-999.0000,9, -999.00,9, -999.00,9,  -999.0,9,  -999.0,-999.000,9,-999.000, -999.00,9, 1098.70,-999.0000,9,-999.0000,9,-999.0000,9,-999.0000,9,-999.0000,9,-999.0000,-999.000,-999.0000,9, -999.00
318M20040615,        P02,      21,          1,         14,         14,2,20040620,       1442,    30.0115,   138.3615,       3598,  1145.6,   3.5946,  34.3648,2,  34.3684,2,  53.0000,3,    54.7,3,  122.87,2,   40.76,2,    0.00,2,    2.94,2,   0.233,2,   0.114,2,   0.005,2,  2338.1,6,  2362.8,2,-999.000,9,-999.0000,9, -999.00,9, -999.00,9,  -999.0,9,  -999.0,-999.000,9,-999.000, -999.00,9, 1145.60,-999.0000,9,-999.0000,9,-999.0000,9,-999.0000,9,-999.0000,9,-999.0000,-999.000,-999.0000,9, -999.00
318M20040615,        P02,      21,          1,         13,         13,2,20040620,       1442,    30.0115,   138.3615,       3598,  1183.8,   3.4616,  34.3824,2,  34.3802,2,  53.7000,2,    53.5,2,  126.04,2,   41.23,2,    0.00,2,    2.96,2,   0.190,2,   0.101,2,   0.004,2,  -999.0,9,  2366.6,2,-999.000,9,-999.0000,9, -999.00,9, -999.00,9,  -999.0,9,  -999.0,-999.000,9,-999.000, -999.00,9, 1183.80,-999.0000,9,-999.0000,9,-999.0000,9,-999.0000,9,-999.0000,9,-999.0000,-999.000,-999.0000,9, -999.00
318M20040615,        P02,      21,          1,         12,         12,2,20040620,       1442,    30.0115,   138.3615,       3598,  1281.5,   3.1893,  34.4271,2,  34.4275,2,  59.1000,2,    56.8,2,  132.15,2,   41.27,2,    0.00,2,    2.96,2,   0.121,2,   0.063,2,   0.003,2,  -999.0,9,  2375.6,2,-999.000,9,-999.0000,9, -999.00,9, -999.00,9,  -999.0,9,  -999.0,-999.000,9,-999.000, -999.00,9, 1281.50,-999.0000,9,-999.0000,9,-999.0000,9,-999.0000,9,-999.0000,9,-999.0000,-999.000,-999.0000,9, -999.00
318M20040615,        P02,      21,          1,         11,         11,2,20040620,       1442,    30.0115,   138.3615,       3598,  1371.3,   2.9704,  34.4606,2,  34.4637,2,  61.1000,3,    66.6,3,  136.20,2,   41.09,2,    0.00,2,    2.96,2,   0.085,2,   0.044,2,   0.002,2,  -999.0,9,  2381.8,2,-999.000,9,-999.0000,9, -999.00,9, -999.00,9,  -999.0,9,  -999.0,-999.000,9,-999.000, -999.00,9, 1371.30,-999.0000,9,-999.0000,9,-999.0000,9,-999.0000,9,-999.0000,9,-999.0000,-999.000,-999.0000,9, -999.00
318M20040615,        P02,      21,          1,         10,         10,2,20040620,       1442,    30.0115,   138.3615,       3598,  1488.1,   2.7035,  34.4990,2,  34.4976,2,  68.8000,3,    68.9,2,  140.84,2,   40.74,2,    0.00,2,    2.93,2,   0.053,2,   0.026,2,   0.001,2,  -999.0,9,  2389.3,6,-999.000,9,-999.0000,9, -999.00,9, -999.00,9,  -999.0,9,  -999.0,-999.000,9,-999.000, -999.00,9, 1488.10,-999.0000,9,-999.0000,9,-999.0000,9,-999.0000,9,-999.0000,9,-999.0000,-999.000,-999.0000,9, -999.00
318M20040615,        P02,      21,          1,          9,          9,2,20040620,       1442,    30.0115,   138.3615,       3598,  1579.7,   2.5484,  34.5243,2,  34.5224,2,  76.0000,3,    76.9,2,  142.52,2,   40.30,2,    0.00,2,    2.89,2,   0.039,2,   0.019,2,   0.002,2,  -999.0,9,  2394.8,2,-999.000,9,-999.0000,9, -999.00,9, -999.00,9,  -999.0,9,  -999.0,-999.000,9,-999.000, -999.00,9, 1579.70,-999.0000,9,-999.0000,9,-999.0000,9,-999.0000,9,-999.0000,9,-999.0000,-999.000,-999.0000,9, -999.00
318M20040615,        P02,      21,          1,          8,          8,2,20040620,       1442,    30.0115,   138.3615,       3598,  1794.9,   2.2895,  34.5594,2,  34.5595,2,  85.0000,2,    86.9,2,  145.68,2,   39.86,2,    0.00,2,    2.85,2,   0.021,2,   0.013,2,   0.001,2,  -999.0,9,  2400.0,2,-999.000,9,-999.0000,9, -999.00,9, -999.00,9,  -999.0,9,  -999.0,-999.000,9,-999.000, -999.00,9, 1794.90,-999.0000,9,-999.0000,9,-999.0000,9,-999.0000,9,-999.0000,9,-999.0000,-999.000,-999.0000,9, -999.00
318M20040615,        P02,      21,          1,          7,          7,2,20040620,       1442,    30.0115,   138.3615,       3598,  1955.3,   2.1351,  34.5807,2,  34.5798,2,  96.6000,2,    94.7,2,  147.54,2,   39.42,2,    0.00,2,    2.82,2,   0.016,2,   0.009,2,   0.000,2,  -999.0,9,  2403.8,2,-999.000,9,-999.0000,9, -999.00,9, -999.00,9,  -999.0,9,  -999.0,-999.000,9,-999.000, -999.00,9, 1955.30,-999.0000,9,-999.0000,9,-999.0000,9,-999.0000,9,-999.0000,9,-999.0000,-999.000,-999.0000,9, -999.00
318M20040615,        P02,      21,          1,          6,          6,2,20040620,       1442,    30.0115,   138.3615,       3598,  2192.4,   1.9430,  34.6099,2,  34.6111,2, 108.0000,3,   108.1,2,  147.73,2,   38.61,2,    0.00,2,    2.75,2,   0.009,2,   0.006,2,  -0.001,2,  -999.0,9,  2407.7,2,-999.000,9,-999.0000,9, -999.00,9, -999.00,9,  -999.0,9,  -999.0,-999.000,9,-999.000, -999.00,9, 2192.40,-999.0000,9,-999.0000,9,-999.0000,9,-999.0000,9,-999.0000,9,-999.0000,-999.000,-999.0000,9, -999.00
318M20040615,        P02,      21,          1,          5,          5,2,20040620,       1442,    30.0115,   138.3615,       3598,  2451.8,   1.8008,  34.6324,2,  34.6322,2, 118.1000,2,   121.1,2,  146.43,2,   37.75,2,    0.00,2,    2.69,2,   0.007,2,   0.005,2,   0.001,2,  -999.0,9,  2408.3,2,-999.000,9,-999.0000,9, -999.00,9, -999.00,9,  -999.0,9,  -999.0,-999.000,9,-999.000, -999.00,9, 2451.80,-999.0000,9,-999.0000,9,-999.0000,9,-999.0000,9,-999.0000,9,-999.0000,-999.000,-999.0000,9, -999.00
318M20040615,        P02,      21,          1,          4,          4,2,20040620,       1442,    30.0115,   138.3615,       3598,  2713.1,   1.6751,  34.6518,2,  34.6582,2, 133.1000,3,   133.4,2,  144.76,2,   36.99,2,    0.00,2,    2.63,2,   0.005,2,   0.005,2,   0.000,2,  -999.0,9,  2410.5,2,-999.000,9,-999.0000,9, -999.00,9, -999.00,9,  -999.0,9,  -999.0,-999.000,9,-999.000, -999.00,9, 2713.10,-999.0000,9,-999.0000,9,-999.0000,9,-999.0000,9,-999.0000,9,-999.0000,-999.000,-999.0000,9, -999.00
318M20040615,        P02,      21,          1,          3,          3,2,20040620,       1442,    30.0115,   138.3615,       3598,  2951.1,   1.6175,  34.6615,2,  34.6612,2, 139.0000,2,   139.7,2,  143.87,2,   36.56,2,    0.00,2,    2.60,2,   0.006,2,   0.003,2,  -0.001,2,  -999.0,9,  2410.9,2,-999.000,9,-999.0000,9, -999.00,9, -999.00,9,  -999.0,9,  -999.0,-999.000,9,-999.000, -999.00,9, 2951.10,-999.0000,9,-999.0000,9,-999.0000,9,-999.0000,9,-999.0000,9,-999.0000,-999.000,-999.0000,9, -999.00
318M20040615,        P02,      21,          1,          2,          2,2,20040620,       1442,    30.0115,   138.3615,       3598,  3276.8,   1.5627,  34.6711,2,  34.6728,2, 145.6000,3,   146.4,2,  143.12,2,   36.13,2,    0.00,2,    2.56,2,   0.008,2,   0.004,2,   0.002,2,  -999.0,9,  2414.5,6,-999.000,9,-999.0000,9, -999.00,9, -999.00,9,  -999.0,9,  -999.0,-999.000,9,-999.000, -999.00,9, 3276.80,-999.0000,9,-999.0000,9,-999.0000,9,-999.0000,9,-999.0000,9,-999.0000,-999.000,-999.0000,9, -999.00
318M20040615,        P02,      21,          1,          1,          1,2,20040620,       1442,    30.0115,   138.3615,       3598,  3717.2,   1.5010,  34.6824,2,  34.6855,2, 154.3000,3,   154.8,2,  142.04,2,   35.49,2,    0.00,2,    2.52,2,   0.008,2,   0.005,2,  -0.002,2,  -999.0,9,  2417.0,6,-999.000,9,-999.0000,9, -999.00,9, -999.00,9,  -999.0,9,  -999.0,-999.000,9,-999.000, -999.00,9, 3717.20,-999.0000,9,-999.0000,9,-999.0000,9,-999.0000,9,-999.0000,9,-999.0000,-999.000,-999.0000,9, -999.00