BOTTLE,20131027SIOCCHRJL
EXPOCODE,SECT_ID,STNNBR,CASTNO,SAMPNO,BTLNBR,BTLNBR_FLAG_W,DATE,TIME,LATITUDE,LONGITUDE,DEPTH,CTDPRS,CTDTMP,CTDSAL,CTDSAL_FLAG_W,SALNTY,SALNTY_FLAG_W,CTDOXY,CTDOXY_FLAG_W,OXYGEN,OXYGEN_FLAG_W,SILCAT,SILCAT_FLAG_W,NITRAT,NITRAT_FLAG_W,NITRIT,NITRIT_FLAG_W,PHSPHT,PHSPHT_FLAG_W,CFC-11,CFC-11_FLAG_W,CFC-12,CFC-12_FLAG_W,CFC113,CFC113_FLAG_W,TCARBN,TCARBN_FLAG_W,ALKALI,ALKALI_FLAG_W,TRITUM,TRITUM_FLAG_W,HELIUM,HELIUM_FLAG_W,DELHE3,DELHE3_FLAG_W,DELC13,DELC13_FLAG_W,DELC14,DELC14_FLAG_W,C14ERR,NEON,NEON_FLAG_W,NEONER,DOC,DOC_FLAG_W,CTDRAW,CDOM380,CDOM380_FLAG_W,CDOM325,CDOM325_FLAG_W,CDOMSL,CDOMSL_FLAG_W,CDOM340,CDOM340_FLAG_W,CDOMSN,CDOMSN_FLAG_W,HELIER,TRITER,CDOM412,CDOM412_FLAG_W,DELHER
,,,,,,,,,,,METERS,DBAR,ITS-90,PSS-78,,PSS-78,,UMOL/KG,,UMOL/KG,,UMOL/KG,,UMOL/KG,,UMOL/KG,,UMOL/KG,,PMOL/KG,,PMOL/KG,,PMOL/KG,,UMOL/KG,,UMOL/KG,,TU,,NMOL/KG,,PERCNT,,/MILLE,,/MILLE,,/MILLE,NMOL/KG,,NMOL/KG,UMOL/KG,,DBAR,1/M,,1/M,,1/NM,,1/M,,1/NM,,NMOL/KG,TU,1/M,,PERCNT
318M20040615,        P02,      60,          1,         36,         36,2,20040707,       1821,    29.9987,    164.155,       5905,     7.7,  25.8888,  35.2228,2,  35.2369,2, 208.0000,2,   207.7,2,    1.21,2,    0.18,2,    0.00,2,    0.02,2,   1.782,2,   1.113,2,   0.134,2,  1999.6,6,  2313.1,6,-999.000,9,-999.0000,9, -999.00,9,    1.10,2,   129.0,2,     5.0,-999.000,9,-999.000,   67.60,2,    7.70,-999.0000,9,-999.0000,9,-999.0000,9,-999.0000,9,-999.0000,9,-999.0000,-999.000,-999.0000,9, -999.00
318M20040615,        P02,      60,          1,         35,         35,2,20040707,       1821,    29.9987,    164.155,       5905,    41.3,  22.7270,  35.1438,2,  35.1502,2, 226.9000,2,   226.2,2,    1.20,2,    0.13,2,    0.00,2,    0.02,2,   2.272,2,   1.375,2,   0.152,2,  1999.8,2,  2308.2,2,-999.000,9,-999.0000,9, -999.00,9, -999.00,9,  -999.0,9,  -999.0,-999.000,9,-999.000,   64.10,2,   41.30,-999.0000,9,-999.0000,9,-999.0000,9,-999.0000,9,-999.0000,9,-999.0000,-999.000,-999.0000,9, -999.00
318M20040615,        P02,      60,          1,         34,         34,2,20040707,       1821,    29.9987,    164.155,       5905,    85.4,  19.0947,  34.9012,2,  34.9034,2, 229.9000,2,   231.0,2,    1.93,2,    0.13,2,    0.00,2,    0.06,2,   2.047,3,   1.272,3,   0.150,2,  2002.1,2,  2293.5,2,-999.000,9,-999.0000,9, -999.00,9,    1.02,2,   129.6,2,     4.6,-999.000,9,-999.000,   58.80,2,   85.40,-999.0000,9,-999.0000,9,-999.0000,9,-999.0000,9,-999.0000,9,-999.0000,-999.000,-999.0000,9, -999.00
318M20040615,        P02,      60,          1,         33,         33,2,20040707,       1821,    29.9987,    164.155,       5905,   141.1,  17.8887,  34.8533,2,  34.8562,2, 220.7000,2,   221.2,2,    2.46,2,    2.23,2,    0.03,2,    0.18,2,   2.426,2,   1.470,2,   0.155,2,  2018.0,2,  2288.0,2,-999.000,9,-999.0000,9, -999.00,9,    0.89,2,   120.7,2,     4.4,-999.000,9,-999.000,   55.40,2,  141.10,   0.0270,2,   0.0840,2,   0.0210,2,   0.0590,2,   0.0220,2,-999.0000,-999.000,   0.0190,2, -999.00
318M20040615,        P02,      60,          1,         32,         32,2,20040707,       1821,    29.9987,    164.155,       5905,   190.7,  16.9958,  34.7628,2,  34.7642,2, 214.9000,2,   216.1,2,    3.72,2,    4.27,2,    0.01,2,    0.29,2,   2.482,2,   1.484,2,   0.103,2,  2027.1,2,  2281.1,2,-999.000,9,-999.0000,9, -999.00,9,    0.78,2,   118.1,2,     4.6,-999.000,9,-999.000,   54.30,2,  190.70,-999.0000,9,-999.0000,9,-999.0000,9,-999.0000,9,-999.0000,9,-999.0000,-999.000,-999.0000,9, -999.00
318M20040615,        P02,      60,          1,         31,         31,2,20040707,       1821,    29.9987,    164.155,       5905,   240.3,  16.6385,  34.7423,2,  34.7437,2, 218.6000,2,   218.8,2,    4.26,2,    4.56,2,    0.01,2,    0.32,2,   2.507,2,   1.502,2,   0.091,2,  2028.3,2,  2280.8,2,-999.000,9,-999.0000,9, -999.00,9,    0.67,2,   118.0,2,     5.7,-999.000,9,-999.000,   52.00,2,  240.30,   0.0210,2,   0.0750,2,   0.0240,2,   0.0510,2,   0.0250,2,-999.0000,-999.000,   0.0140,2, -999.00
318M20040615,        P02,      60,          1,         30,         30,2,20040707,       1821,    29.9987,    164.155,       5905,   290.4,  16.2674,  34.7178,2,  34.7184,2, 213.1000,2,   218.4,2,    5.16,2,    5.26,2,    0.01,2,    0.37,2,   2.530,2,   1.512,2,   0.101,2,  2032.7,2,  2280.8,2,-999.000,9,-999.0000,9, -999.00,9,    0.72,2,   110.3,2,     5.5,-999.000,9,-999.000,   50.60,2,  290.40,   0.0250,2,   0.0790,2,   0.0230,2,   0.0550,2,   0.0230,2,-999.0000,-999.000,   0.0170,2, -999.00
318M20040615,        P02,      60,          1,         29,         29,2,20040707,       1821,    29.9987,    164.155,       5905,   340.2,  15.7445,  34.6837,2,  34.6859,2, 222.7000,2,   221.5,2,    5.87,2,    5.80,2,    0.01,2,    0.40,2,   2.561,2,   1.514,2,   0.119,2,  2036.6,2,  2279.8,2,-999.000,9,-999.0000,9, -999.00,9, -999.00,9,  -999.0,9,  -999.0,-999.000,9,-999.000,   49.20,2,  340.20,   0.0290,2,   0.0870,2,   0.0200,2,   0.0620,2,   0.0210,2,-999.0000,-999.000,   0.0200,2, -999.00
318M20040615,        P02,      60,          1,         28,         28,2,20040707,       1821,    29.9987,    164.155,       5905,   390.4,  14.8857,  34.5917,2,  34.5938,2, 207.3000,2,   206.9,2,    8.77,2,    8.41,2,    0.00,2,    0.58,2,   2.637,2,   1.520,2,   0.063,2,  2056.4,2,  2276.9,6,-999.000,9,-999.0000,9, -999.00,9,    0.64,2,   116.6,2,     4.3,-999.000,9,-999.000,   48.40,2,  390.40,   0.0440,2,   0.1160,2,   0.0140,2,   0.0840,2,   0.0160,2,-999.0000,-999.000,   0.0330,2, -999.00
318M20040615,        P02,      60,          1,         27,         27,2,20040707,       1821,    29.9987,    164.155,       5905,   433.8,  13.9187,  34.4986,2,  34.4997,2, 205.1000,2,   205.2,2,   10.03,2,    9.78,2,    0.00,2,    0.68,2,   2.778,2,   1.562,2,   0.047,2,  2069.6,2,  2271.3,2,-999.000,9,-999.0000,9, -999.00,9, -999.00,9,  -999.0,9,  -999.0,-999.000,9,-999.000,   47.60,2,  433.80,-999.0000,9,-999.0000,9,-999.0000,9,-999.0000,9,-999.0000,9,-999.0000,-999.000,-999.0000,9, -999.00
318M20040615,        P02,      60,          1,         26,         26,2,20040707,       1821,    29.9987,    164.155,       5905,   489.9,  12.8867,  34.4338,2,  34.4367,2, 202.4000,2,   201.1,2,   14.01,2,   12.00,2,    0.00,2,    0.84,2,   2.770,2,   1.545,2,   0.069,2,  2085.0,2,  2272.1,2,-999.000,9,-999.0000,9, -999.00,9,    0.30,3,    15.5,6,     3.3,-999.000,9,-999.000,   46.90,2,  489.90,   0.0500,2,   0.1300,2,   0.0140,2,   0.0940,2,   0.0160,2,-999.0000,-999.000,   0.0360,2, -999.00
318M20040615,        P02,      60,          1,         25,         25,2,20040707,       1821,    29.9987,    164.155,       5905,   574.8,  10.7067,  34.2697,2,  34.2689,2, 196.5000,2,   195.8,2,   21.98,2,   16.32,2,    0.00,2,    1.15,2,   2.810,2,   1.536,2,   0.096,2,  2114.6,2,  2271.7,2,-999.000,9,-999.0000,9, -999.00,9,    0.46,2,   106.7,2,     4.7,-999.000,9,-999.000,   46.20,2,  574.80,-999.0000,9,-999.0000,9,-999.0000,9,-999.0000,9,-999.0000,9,-999.0000,-999.000,-999.0000,9, -999.00
318M20040615,        P02,      60,          1,         24,         24,2,20040707,       1821,    29.9987,    164.155,       5905,   679.8,   8.0715,  34.0798,2,  34.0793,2, 175.6000,2,   174.3,2,   37.78,2,   23.06,2,    0.00,2,    1.65,2,   2.619,2,   1.400,2,   0.109,2,  2163.0,2,  2276.9,2,-999.000,9,-999.0000,9, -999.00,9,    0.48,2,    84.2,2,     4.4,-999.000,9,-999.000,   44.60,2,  679.80,   0.0630,2,   0.1700,2,   0.0160,2,   0.1250,2,   0.0170,2,-999.0000,-999.000,   0.0420,2, -999.00
318M20040615,        P02,      60,          1,         23,         23,2,20040707,       1821,    29.9987,    164.155,       5905,   779.8,   6.1759,  34.0275,2,  34.0280,2, 132.3000,2,   131.9,2,   58.91,2,   30.34,2,    0.00,2,    2.19,2,   2.007,6,   1.035,6,   0.088,6,  2218.4,2,  2289.4,2,-999.000,9,-999.0000,9, -999.00,9,    0.06,2,   -44.2,2,     4.1,-999.000,9,-999.000,   43.10,2,  779.80,-999.0000,9,-999.0000,9,-999.0000,9,-999.0000,9,-999.0000,9,-999.0000,-999.000,-999.0000,9, -999.00
318M20040615,        P02,      60,          1,         22,         22,2,20040707,       1821,    29.9987,    164.155,       5905,   879.5,   5.0327,  34.0891,2,  34.0907,2,  87.2000,2,    87.5,2,   82.32,2,   36.30,2,    0.00,2,    2.61,2,   1.238,2,   0.624,2,   0.051,2,  2273.9,2,  2310.9,2,-999.000,9,-999.0000,9, -999.00,9,   -0.13,2,  -111.3,2,     3.6,-999.000,9,-999.000,   42.10,2,  879.50,   0.1250,2,   0.2730,2,   0.0120,2,   0.2080,2,   0.0120,2,-999.0000,-999.000,   0.0940,2, -999.00
318M20040615,        P02,      60,          1,         21,         21,2,20040707,       1821,    29.9987,    164.155,       5905,   980.0,   4.3660,  34.1796,2,  34.1811,2,  61.1000,2,    59.0,2,  100.69,2,   39.63,2,    0.00,2,    2.85,2,   0.676,2,   0.344,2,   0.024,2,  2309.8,2,  2329.8,2,-999.000,9,-999.0000,9, -999.00,9,   -0.28,2,  -153.5,2,     3.9,-999.000,9,-999.000,   41.20,2,  980.00,-999.0000,9,-999.0000,9,-999.0000,9,-999.0000,9,-999.0000,9,-999.0000,-999.000,-999.0000,9, -999.00
318M20040615,        P02,      60,          1,         20,         20,2,20040707,       1821,    29.9987,    164.155,       5905,  1080.3,   3.8855,  34.2559,2,  34.2572,2,  44.4000,2,    44.7,2,  115.23,2,   41.39,2,    0.00,2,    2.97,2,   0.382,2,   0.195,2,   0.013,2,  2333.7,2,  2346.4,2,-999.000,9,-999.0000,9, -999.00,9,   -0.34,2,  -172.3,2,     4.0,-999.000,9,-999.000,   40.60,2, 1080.30,   0.1380,2,   0.2960,2,   0.0110,2,   0.2240,2,   0.0120,2,-999.0000,-999.000,   0.1070,2, -999.00
318M20040615,        P02,      60,          1,         19,         19,2,20040707,       1821,    29.9987,    164.155,       5905,  1185.4,   3.4650,  34.3289,2,  34.3305,2,  37.4000,2,    36.6,2,  127.82,2,   42.37,2,    0.00,2,    3.04,2,   0.193,2,   0.101,2,   0.008,2,  2351.9,2,  2361.2,2,-999.000,9,-999.0000,9, -999.00,9, -999.00,9,  -999.0,9,  -999.0,-999.000,9,-999.000,   39.70,2, 1185.40,-999.0000,9,-999.0000,9,-999.0000,9,-999.0000,9,-999.0000,9,-999.0000,-999.000,-999.0000,9, -999.00
318M20040615,        P02,      60,          1,         18,         18,2,20040707,       1821,    29.9987,    164.155,       5905,  1285.8,   3.1466,  34.3858,2,  34.3910,2,  33.7000,2,    33.8,2,  137.12,2,   42.81,2,    0.00,2,    3.08,2,   0.099,2,   0.056,2,   0.002,2,  2352.7,3,  2372.8,6,-999.000,9,-999.0000,9, -999.00,9,   -0.45,2,  -205.9,2,     4.3,-999.000,9,-999.000,   38.90,2, 1285.80,-999.0000,9,-999.0000,9,-999.0000,9,-999.0000,9,-999.0000,9,-999.0000,-999.000,-999.0000,9, -999.00
318M20040615,        P02,      60,          1,         17,         17,2,20040707,       1821,    29.9987,    164.155,       5905,  1386.3,   2.9106,  34.4275,2,  34.4282,2,  33.1000,2,    33.3,2,  144.15,2,   43.07,2,    0.00,2,    3.09,2,   0.054,2,   0.028,2,   0.004,2,  2372.1,6,  2381.3,2,-999.000,9,-999.0000,9, -999.00,9,   -0.34,2,  -209.4,2,     2.4,-999.000,9,-999.000,   38.40,2, 1386.30,-999.0000,9,-999.0000,9,-999.0000,9,-999.0000,9,-999.0000,9,-999.0000,-999.000,-999.0000,9, -999.00
318M20040615,        P02,      60,          1,         16,         16,2,20040707,       1821,    29.9987,    164.155,       5905,  1486.8,   2.7245,  34.4647,2,  34.4667,2,  34.5000,2,    34.9,2,  149.72,2,   43.22,2,    0.00,2,    3.09,2,   0.029,2,   0.015,2,   0.000,2,  2378.8,2,  2389.3,2,-999.000,9,-999.0000,9, -999.00,9,   -0.45,2,  -210.2,2,     4.1,-999.000,9,-999.000,   37.90,2, 1486.80,-999.0000,9,-999.0000,9,-999.0000,9,-999.0000,9,-999.0000,9,-999.0000,-999.000,-999.0000,9, -999.00
318M20040615,        P02,      60,          1,         15,         15,2,20040707,       1821,    29.9987,    164.155,       5905,  1592.3,   2.5492,  34.4987,2,  34.4993,2,  38.8000,2,    39.6,2,  153.44,2,   43.38,2,    0.00,2,    3.08,2,   0.016,2,   0.008,2,   0.004,2,  2380.5,2,  2396.4,2,-999.000,9,-999.0000,9, -999.00,9,   -0.40,2,  -212.0,2,     3.5,-999.000,9,-999.000,   37.80,2, 1592.30,-999.0000,9,-999.0000,9,-999.0000,9,-999.0000,9,-999.0000,9,-999.0000,-999.000,-999.0000,9, -999.00
318M20040615,        P02,      60,          1,         14,         14,2,20040707,       1821,    29.9987,    164.155,       5905,  1793.7,   2.2720,  34.5424,2,  34.5439,2,  50.4000,2,    50.5,2,  160.33,2,   42.99,2,    0.00,2,    3.02,2,   0.008,2,   0.008,2,   0.000,2,  2380.2,2,  2405.0,2,-999.000,9,-999.0000,9, -999.00,9,   -0.85,3,  -223.0,2,     3.5,-999.000,9,-999.000,   37.70,2, 1793.70,-999.0000,9,-999.0000,9,-999.0000,9,-999.0000,9,-999.0000,9,-999.0000,-999.000,-999.0000,9, -999.00
318M20040615,        P02,      60,          1,         13,         13,2,20040707,       1821,    29.9987,    164.155,       5905,  2004.1,   2.0446,  34.5823,2,  34.5832,2,  66.2000,2,    66.6,2,  163.14,2,   42.07,2,    0.00,2,    2.97,2,   0.007,2,   0.008,2,   0.003,2,  2376.0,2,  2410.1,2,-999.000,9,-999.0000,9, -999.00,9,   -0.30,2,  -228.9,2,     2.8,-999.000,9,-999.000,   38.00,2, 2004.10,-999.0000,9,-999.0000,9,-999.0000,9,-999.0000,9,-999.0000,9,-999.0000,-999.000,-999.0000,9, -999.00
318M20040615,        P02,      60,          1,         12,         12,2,20040707,       1821,    29.9987,    164.155,       5905,  2204.2,   1.8951,  34.6081,2,  34.6097,2,  81.1000,2,    82.1,2,  163.33,2,   40.92,2,    0.00,2,    2.88,2,   0.004,2,   0.003,2,   0.000,2,  2369.0,2,  2413.4,2,-999.000,9,-999.0000,9, -999.00,9,   -0.17,6,  -231.4,6,     2.5,-999.000,9,-999.000,   38.00,2, 2204.20,   0.2220,2,   0.4310,2,   0.0100,2,   0.3420,2,   0.0100,2,-999.0000,-999.000,   0.1720,2, -999.00
318M20040615,        P02,      60,          1,         11,         11,2,20040707,       1821,    29.9987,    164.155,       5905,  2453.7,   1.7526,  34.6316,2,  34.6325,2,  99.6000,2,    99.5,2,  160.75,2,   39.58,2,    0.00,2,    2.79,2,   0.005,2,   0.003,2,   0.002,2,  2359.1,2,  2415.3,2,-999.000,9,-999.0000,9, -999.00,9,   -0.10,2,  -238.6,2,     3.3,-999.000,9,-999.000,   38.10,2, 2453.70,-999.0000,9,-999.0000,9,-999.0000,9,-999.0000,9,-999.0000,9,-999.0000,-999.000,-999.0000,9, -999.00
318M20040615,        P02,      60,          1,         10,         10,2,20040707,       1821,    29.9987,    164.155,       5905,  2702.7,   1.6625,  34.6468,2,  34.6480,2, 112.1000,2,   112.8,2,  159.49,2,   38.62,2,    0.00,2,    2.72,2,   0.004,2,   0.001,2,   0.000,2,  2352.1,2,  2416.5,2,-999.000,9,-999.0000,9, -999.00,9,   -0.02,2,  -237.8,2,     3.3,-999.000,9,-999.000,   38.10,2, 2702.70,-999.0000,9,-999.0000,9,-999.0000,9,-999.0000,9,-999.0000,9,-999.0000,-999.000,-999.0000,9, -999.00
318M20040615,        P02,      60,          1,          9,          9,2,20040707,       1821,    29.9987,    164.155,       5905,  2955.5,   1.5945,  34.6583,2,  34.6590,2, 123.1000,2,   123.7,2,  157.31,2,   37.78,2,    0.00,2,    2.68,2,   0.004,2,   0.002,2,   0.000,2,  2345.5,2,  2416.3,2,-999.000,9,-999.0000,9, -999.00,9,    0.04,2,  -234.3,2,     3.2,-999.000,9,-999.000,   38.00,2, 2955.50,-999.0000,9,-999.0000,9,-999.0000,9,-999.0000,9,-999.0000,9,-999.0000,-999.000,-999.0000,9, -999.00
318M20040615,        P02,      60,          1,          8,          8,2,20040707,       1821,    29.9987,    164.155,       5905,  3288.1,   1.5326,  34.6685,2,  34.6692,2, 132.9000,2,   133.5,2,  155.62,2,   37.07,2,    0.00,2,    2.61,2,   0.004,2,   0.001,2,   0.000,2,  2338.7,2,  2416.6,2,-999.000,9,-999.0000,9, -999.00,9,    0.14,2,  -229.9,2,     4.0,-999.000,9,-999.000,   38.10,2, 3288.10,   0.1440,3,   0.3050,3,   0.0100,3,   0.2330,3,   0.0110,3,-999.0000,-999.000,   0.1080,3, -999.00
318M20040615,        P02,      60,          1,          7,          7,2,20040707,       1821,    29.9987,    164.155,       5905,  3701.0,   1.4947,  34.6771,2,  34.6781,2, 142.5000,2,   143.8,2,  152.85,2,   36.44,2,    0.00,2,    2.56,2,   0.003,2,   0.003,2,   0.000,2,  2331.6,2,  2416.4,2,-999.000,9,-999.0000,9, -999.00,9,    0.22,2,  -223.6,2,     3.7,-999.000,9,-999.000,   38.30,2, 3701.00,-999.0000,9,-999.0000,9,-999.0000,9,-999.0000,9,-999.0000,9,-999.0000,-999.000,-999.0000,9, -999.00
318M20040615,        P02,      60,          1,          6,          6,2,20040707,       1821,    29.9987,    164.155,       5905,  4134.9,   1.4818,  34.6829,2,  34.6842,2, 150.1000,2,   150.4,2,  150.81,2,   36.22,2,    0.00,2,    2.53,2,   0.009,2,   0.008,2,   0.000,2,  2326.2,2,  2414.9,2,-999.000,9,-999.0000,9, -999.00,9,    0.26,2,  -215.4,2,     3.8,-999.000,9,-999.000,   37.70,2, 4134.90,-999.0000,9,-999.0000,9,-999.0000,9,-999.0000,9,-999.0000,9,-999.0000,-999.000,-999.0000,9, -999.00
318M20040615,        P02,      60,          1,          5,          5,2,20040707,       1821,    29.9987,    164.155,       5905,  4528.4,   1.4817,  34.6872,2,  34.6883,2, 155.9000,2,   156.4,2,  148.43,2,   35.96,2,    0.00,2,    2.49,2,  -0.001,2,   0.000,2,  -0.001,2,  2320.7,2,  2413.5,2,-999.000,9,-999.0000,9, -999.00,9,    0.29,2,  -213.1,2,     3.9,-999.000,9,-999.000,   38.20,2, 4528.40,-999.0000,9,-999.0000,9,-999.0000,9,-999.0000,9,-999.0000,9,-999.0000,-999.000,-999.0000,9, -999.00
318M20040615,        P02,      60,          1,          4,          4,2,20040707,       1821,    29.9987,    164.155,       5905,  4922.7,   1.4936,  34.6905,2,  34.6918,2, 161.4000,2,   161.9,2,  145.47,2,   35.59,2,    0.00,2,    2.46,2,   0.006,2,   0.002,2,   0.002,2,  2316.0,2,  2410.5,2,-999.000,9,-999.0000,9, -999.00,9,    0.35,2,  -205.5,2,     3.3,-999.000,9,-999.000,   38.00,2, 4922.70,-999.0000,9,-999.0000,9,-999.0000,9,-999.0000,9,-999.0000,9,-999.0000,-999.000,-999.0000,9, -999.00
318M20040615,        P02,      60,          1,          3,          3,2,20040707,       1821,    29.9987,    164.155,       5905,  5339.2,   1.5097,  34.6935,2,  34.6948,2, 168.1000,2,   168.7,2,  139.92,2,   34.96,2,    0.00,2,    2.42,2,   0.003,2,   0.002,2,  -0.001,2,  2308.2,2,  2406.1,2,-999.000,9,-999.0000,9, -999.00,9,    0.31,2,  -201.4,2,     3.7,-999.000,9,-999.000,   37.90,2, 5339.20,-999.0000,9,-999.0000,9,-999.0000,9,-999.0000,9,-999.0000,9,-999.0000,-999.000,-999.0000,9, -999.00
318M20040615,        P02,      60,          1,          2,          2,2,20040707,       1821,    29.9987,    164.155,       5905,  5810.0,   1.5459,  34.6956,2,  34.6964,2, 172.0000,2,   172.2,2,  136.98,2,   34.59,2,    0.00,2,    2.40,2,   0.005,2,   0.004,2,   0.001,2,  2306.2,2,  2403.3,2,-999.000,9,-999.0000,9, -999.00,9,    0.32,2,  -198.0,2,     3.2,-999.000,9,-999.000,   38.10,2, 5810.00,-999.0000,9,-999.0000,9,-999.0000,9,-999.0000,9,-999.0000,9,-999.0000,-999.000,-999.0000,9, -999.00
318M20040615,        P02,      60,          1,          1,          1,2,20040707,       1821,    29.9987,    164.155,       5905,  6062.6,   1.5728,  34.6960,2,  34.6975,2, 172.9000,3,   173.5,2,  136.46,2,   34.44,2,    0.00,2,    2.40,2,   0.006,2,   0.006,2,  -0.001,2,  2304.7,6,  2403.2,6,-999.000,9,-999.0000,9, -999.00,9,    0.38,2,  -200.5,2,     3.6,-999.000,9,-999.000,   37.90,2, 6062.60,-999.0000,9,-999.0000,9,-999.0000,9,-999.0000,9,-999.0000,9,-999.0000,-999.000,-999.0000,9, -999.00