BOTTLE,20131027SIOCCHRJL
EXPOCODE,SECT_ID,STNNBR,CASTNO,SAMPNO,BTLNBR,BTLNBR_FLAG_W,DATE,TIME,LATITUDE,LONGITUDE,DEPTH,CTDPRS,CTDTMP,CTDSAL,CTDSAL_FLAG_W,SALNTY,SALNTY_FLAG_W,CTDOXY,CTDOXY_FLAG_W,OXYGEN,OXYGEN_FLAG_W,SILCAT,SILCAT_FLAG_W,NITRAT,NITRAT_FLAG_W,NITRIT,NITRIT_FLAG_W,PHSPHT,PHSPHT_FLAG_W,CFC-11,CFC-11_FLAG_W,CFC-12,CFC-12_FLAG_W,CFC113,CFC113_FLAG_W,TCARBN,TCARBN_FLAG_W,ALKALI,ALKALI_FLAG_W,TRITUM,TRITUM_FLAG_W,HELIUM,HELIUM_FLAG_W,DELHE3,DELHE3_FLAG_W,DELC13,DELC13_FLAG_W,DELC14,DELC14_FLAG_W,C14ERR,NEON,NEON_FLAG_W,NEONER,DOC,DOC_FLAG_W,CTDRAW,CDOM380,CDOM380_FLAG_W,CDOM325,CDOM325_FLAG_W,CDOMSL,CDOMSL_FLAG_W,CDOM340,CDOM340_FLAG_W,CDOMSN,CDOMSN_FLAG_W,HELIER,TRITER,CDOM412,CDOM412_FLAG_W,DELHER
,,,,,,,,,,,METERS,DBAR,ITS-90,PSS-78,,PSS-78,,UMOL/KG,,UMOL/KG,,UMOL/KG,,UMOL/KG,,UMOL/KG,,UMOL/KG,,PMOL/KG,,PMOL/KG,,PMOL/KG,,UMOL/KG,,UMOL/KG,,TU,,NMOL/KG,,PERCNT,,/MILLE,,/MILLE,,/MILLE,NMOL/KG,,NMOL/KG,UMOL/KG,,DBAR,1/M,,1/M,,1/NM,,1/M,,1/NM,,NMOL/KG,TU,1/M,,PERCNT
318M20040615,        P02,     163,          2,         36,         36,2,20040821,       0116,    29.9997,  -128.9627,       4423,     9.0,  22.7205,  33.4288,2,  33.4297,2, 222.3000,2,   222.2,2,    1.67,2,    0.14,2,    0.00,2,    0.29,2,   2.132,2,   1.289,2,   0.157,2,  1992.9,6,  2239.3,6,-999.000,9,-999.0000,9, -999.00,9,    1.74,2,    48.0,2,     4.2,-999.000,9,-999.000,   65.80,2,    9.00,-999.0000,9,-999.0000,9,-999.0000,9,-999.0000,9,-999.0000,9,-999.0000,-999.000,-999.0000,9, -999.00
318M20040615,        P02,     163,          2,         35,         35,2,20040821,       0116,    29.9997,  -128.9627,       4423,    49.1,  18.2932,  33.4829,2,  33.4888,2, 258.9000,2,   258.3,2,    1.86,2,    0.14,2,    0.00,2,    0.23,2,   2.708,2,   1.578,2,   0.192,2,  1988.3,2,  2236.4,2,-999.000,9,-999.0000,9, -999.00,9,    1.73,2,    58.4,2,     4.5,-999.000,9,-999.000,   64.70,2,   49.10,-999.0000,9,-999.0000,9,-999.0000,9,-999.0000,9,-999.0000,9,-999.0000,-999.000,-999.0000,9, -999.00
318M20040615,        P02,     163,          2,         34,         34,2,20040821,       0116,    29.9997,  -128.9627,       4423,   100.2,  15.8380,  33.6025,2,  33.5799,2, 247.4000,2,   248.7,2,    2.25,2,    0.04,2,    0.00,2,    0.24,2,-999.000,9,-999.000,9,-999.000,9,  2001.5,2,  2235.4,2,-999.000,9,-999.0000,9, -999.00,9,    1.44,2,    64.1,2,     5.1,-999.000,9,-999.000,   65.60,2,  100.20,-999.0000,9,-999.0000,9,-999.0000,9,-999.0000,9,-999.0000,9,-999.0000,-999.000,-999.0000,9, -999.00
318M20040615,        P02,     163,          2,         33,         33,2,20040821,       0116,    29.9997,  -128.9627,       4423,   150.0,  11.5211,  33.3959,2,  33.4058,2, 226.6000,2,   228.1,2,    6.69,2,    7.03,2,    0.02,2,    0.71,2,   3.397,2,   1.905,2,   0.204,2,  2043.2,2,  2221.6,2,-999.000,9,-999.0000,9, -999.00,9, -999.00,9,  -999.0,9,  -999.0,-999.000,9,-999.000,   47.80,2,  150.00,-999.0000,9,-999.0000,9,-999.0000,9,-999.0000,9,-999.0000,9,-999.0000,-999.000,-999.0000,9, -999.00
318M20040615,        P02,     163,          2,         32,         32,2,20040821,       0116,    29.9997,  -128.9627,       4423,   199.2,   9.3922,  33.6013,2,  33.5958,2, 197.1000,2,   200.3,2,   16.81,2,   16.60,2,    0.01,2,    1.29,2,-999.000,9,-999.000,9,-999.000,9,  2105.5,2,  2235.1,2,-999.000,9,-999.0000,9, -999.00,9,    0.47,2,    45.3,2,     4.5,-999.000,9,-999.000,   47.10,2,  199.20,-999.0000,9,-999.0000,9,-999.0000,9,-999.0000,9,-999.0000,9,-999.0000,-999.000,-999.0000,9, -999.00
318M20040615,        P02,     163,          2,         31,         31,2,20040821,       0116,    29.9997,  -128.9627,       4423,   249.7,   8.7882,  33.9780,2,  33.9823,2, 178.2000,2,   178.0,2,   25.74,2,   20.88,2,    0.00,2,    1.51,2,   3.417,2,   1.815,2,   0.126,2,  2141.3,2,  2260.2,2,-999.000,9,-999.0000,9, -999.00,9, -999.00,9,  -999.0,9,  -999.0,-999.000,9,-999.000,   46.30,2,  249.70,-999.0000,9,-999.0000,9,-999.0000,9,-999.0000,9,-999.0000,9,-999.0000,-999.000,-999.0000,9, -999.00
318M20040615,        P02,     163,          2,         30,         30,2,20040821,       0116,    29.9997,  -128.9627,       4423,   304.5,   7.9607,  34.0235,2,  34.0228,2, 136.5000,2,   137.8,2,   36.93,2,   26.66,2,    0.01,2,    1.91,2,-999.000,9,-999.000,9,-999.000,9,  2186.0,2,  2270.4,2,-999.000,9,-999.0000,9, -999.00,9,    0.03,2,     2.6,2,     4.1,-999.000,9,-999.000,   48.40,2,  304.50,-999.0000,9,-999.0000,9,-999.0000,9,-999.0000,9,-999.0000,9,-999.0000,-999.000,-999.0000,9, -999.00
318M20040615,        P02,     163,          2,         29,         29,2,20040821,       0116,    29.9997,  -128.9627,       4423,   354.1,   7.1121,  34.0236,2,  34.0230,2, 105.8000,2,   105.7,2,   47.33,2,   30.93,2,    0.00,2,    2.24,2,   2.252,2,   1.119,2,   0.086,2,  2219.8,2,  2277.2,2,-999.000,9,-999.0000,9, -999.00,9, -999.00,9,  -999.0,9,  -999.0,-999.000,9,-999.000,   44.60,2,  354.10,-999.0000,9,-999.0000,9,-999.0000,9,-999.0000,9,-999.0000,9,-999.0000,-999.000,-999.0000,9, -999.00
318M20040615,        P02,     163,          2,         28,         28,2,20040821,       0116,    29.9997,  -128.9627,       4423,   404.4,   6.3081,  34.0405,2,  34.0407,2,  78.3000,2,    76.1,2,   59.41,2,   34.86,2,    0.01,2,    2.56,2,-999.000,9,-999.000,9,-999.000,9,  2252.9,2,  2294.3,2,-999.000,9,-999.0000,9, -999.00,9,   -0.26,2,   -51.5,2,     3.7,-999.000,9,-999.000,   43.90,2,  404.40,-999.0000,9,-999.0000,9,-999.0000,9,-999.0000,9,-999.0000,9,-999.0000,-999.000,-999.0000,9, -999.00
318M20040615,        P02,     163,          2,         27,         27,2,20040821,       0116,    29.9997,  -128.9627,       4423,   454.3,   5.9059,  34.0840,2,  34.0834,2,  53.8000,2,    52.4,2,   68.24,2,   37.35,2,    0.01,2,    2.78,2,   0.937,2,   0.472,2,   0.018,2,  2279.2,2,  2296.9,2,-999.000,9,-999.0000,9, -999.00,9, -999.00,9,  -999.0,9,  -999.0,-999.000,9,-999.000, -999.00,9,  454.30,-999.0000,9,-999.0000,9,-999.0000,9,-999.0000,9,-999.0000,9,-999.0000,-999.000,-999.0000,9, -999.00
318M20040615,        P02,     163,          2,         26,         26,2,20040821,       0116,    29.9997,  -128.9627,       4423,   508.9,   5.6981,  34.1388,2,  34.1390,2,  34.9000,2,    35.7,2,   74.40,2,   38.90,2,    0.00,2,    2.92,2,-999.000,9,-999.000,9,-999.000,9,  2292.6,2,  2306.2,2,-999.000,9,-999.0000,9, -999.00,9,   -0.38,2,  -101.8,2,     4.3,-999.000,9,-999.000,   40.50,2,  508.90,-999.0000,9,-999.0000,9,-999.0000,9,-999.0000,9,-999.0000,9,-999.0000,-999.000,-999.0000,9, -999.00
318M20040615,        P02,     163,          2,         25,         25,2,20040821,       0116,    29.9997,  -128.9627,       4423,   607.3,   5.1287,  34.2210,2,  34.2204,2,  18.3000,2,    18.5,2,   88.43,2,   41.52,2,    0.00,2,    3.10,2,   0.182,2,   0.093,2,   0.000,2,  2320.1,2,  2324.8,2,-999.000,9,-999.0000,9, -999.00,9,   -0.39,2,  -140.7,2,     3.8,-999.000,9,-999.000,   41.80,2,  607.30,-999.0000,9,-999.0000,9,-999.0000,9,-999.0000,9,-999.0000,9,-999.0000,-999.000,-999.0000,9, -999.00
318M20040615,        P02,     163,          2,         24,         24,2,20040821,       0116,    29.9997,  -128.9627,       4423,   705.7,   4.6519,  34.3115,2,  34.3136,2,  11.6000,2,    11.9,2,  101.06,2,   43.14,2,    0.00,2,    3.19,2,   0.048,2,   0.029,2,   0.000,2,  2337.2,2,  2343.1,2,-999.000,9,-999.0000,9, -999.00,9,   -0.36,2,  -170.1,2,     3.2,-999.000,9,-999.000,   38.90,2,  705.70,-999.0000,9,-999.0000,9,-999.0000,9,-999.0000,9,-999.0000,9,-999.0000,-999.000,-999.0000,9, -999.00
318M20040615,        P02,     163,          2,         23,         23,2,20040821,       0116,    29.9997,  -128.9627,       4423,   806.0,   4.4192,  34.3968,2,  34.3967,2,  13.7000,2,    13.9,2,  107.49,2,   43.54,2,    0.00,2,    3.22,2,   0.025,2,   0.015,2,   0.000,2,  2346.0,2,  2356.2,2,-999.000,9,-999.0000,9, -999.00,9,   -0.42,2,  -183.4,2,     3.7,-999.000,9,-999.000,   36.50,2,  806.00,-999.0000,9,-999.0000,9,-999.0000,9,-999.0000,9,-999.0000,9,-999.0000,-999.000,-999.0000,9, -999.00
318M20040615,        P02,     163,          2,         22,         22,2,20040821,       0116,    29.9997,  -128.9627,       4423,   910.7,   4.1251,  34.4428,2,  34.4431,2,  18.5000,2,    19.0,2,  113.95,2,   43.53,2,    0.00,2,    3.22,2,   0.020,2,   0.012,2,   0.000,2,  2353.7,2,  2367.5,2,-999.000,9,-999.0000,9, -999.00,9,   -0.31,2,  -200.4,2,     3.4,-999.000,9,-999.000, -999.00,9,  910.70,-999.0000,9,-999.0000,9,-999.0000,9,-999.0000,9,-999.0000,9,-999.0000,-999.000,-999.0000,9, -999.00
318M20040615,        P02,     163,          2,         21,         21,2,20040821,       0116,    29.9997,  -128.9627,       4423,  1011.6,   3.8343,  34.4755,2,  34.4762,2,  25.2000,2,    25.4,2,  120.22,2,   43.31,2,    0.00,2,    3.19,2,   0.016,2,   0.010,2,   0.019,2,  2357.5,6,  2373.7,2,-999.000,9,-999.0000,9, -999.00,9,   -0.28,2,  -207.1,2,     3.3,-999.000,9,-999.000,   37.20,2, 1011.60,-999.0000,9,-999.0000,9,-999.0000,9,-999.0000,9,-999.0000,9,-999.0000,-999.000,-999.0000,9, -999.00
318M20040615,        P02,     163,          2,         20,         20,2,20040821,       0116,    29.9997,  -128.9627,       4423,  1112.5,   3.5692,  34.5036,2,  34.5037,2,  31.3000,2,    31.6,2,  126.07,2,   43.09,2,    0.00,2,    3.17,2,-999.000,9,-999.000,9,-999.000,9,  2362.1,2,  2382.8,2,-999.000,9,-999.0000,9, -999.00,9,   -0.26,2,  -216.3,2,     3.8,-999.000,9,-999.000, -999.00,9, 1112.50,-999.0000,9,-999.0000,9,-999.0000,9,-999.0000,9,-999.0000,9,-999.0000,-999.000,-999.0000,9, -999.00
318M20040615,        P02,     163,          2,         19,         19,2,20040821,       0116,    29.9997,  -128.9627,       4423,  1213.5,   3.3448,  34.5219,2,  34.5224,2,  37.7000,2,  -999.0,5,  131.29,2,   42.80,2,    0.00,2,    3.14,2,   0.013,2,   0.016,2,   0.000,2,  2361.5,2,  2388.1,2,-999.000,9,-999.0000,9, -999.00,9,   -0.23,2,  -219.7,2,     3.1,-999.000,9,-999.000,   36.30,2, 1213.50,-999.0000,9,-999.0000,9,-999.0000,9,-999.0000,9,-999.0000,9,-999.0000,-999.000,-999.0000,9, -999.00
318M20040615,        P02,     163,          2,         18,         18,2,20040821,       0116,    29.9997,  -128.9627,       4423,  1313.5,   3.1462,  34.5387,2,  34.5393,2,  42.4000,2,    41.8,2,  136.34,2,   42.53,2,    0.00,2,    3.11,2,   0.011,2,   0.008,2,   0.000,2,  2364.0,2,  2393.8,6,-999.000,9,-999.0000,9, -999.00,9,   -0.22,2,  -229.2,2,     3.8,-999.000,9,-999.000, -999.00,9, 1313.50,-999.0000,9,-999.0000,9,-999.0000,9,-999.0000,9,-999.0000,9,-999.0000,-999.000,-999.0000,9, -999.00
318M20040615,        P02,     163,          2,         17,         17,2,20040821,       0116,    29.9997,  -128.9627,       4423,  1413.5,   2.9697,  34.5514,2,  34.5518,2,  47.2000,2,    46.8,2,  140.54,2,   42.53,2,    0.00,2,    3.09,2,   0.005,2,   0.008,2,   0.000,2,  2367.9,2,  2399.4,2,-999.000,9,-999.0000,9, -999.00,9,   -0.26,2,  -216.3,2,     5.0,-999.000,9,-999.000, -999.00,9, 1413.50,-999.0000,9,-999.0000,9,-999.0000,9,-999.0000,9,-999.0000,9,-999.0000,-999.000,-999.0000,9, -999.00
318M20040615,        P02,     163,          2,         16,         16,2,20040821,       0116,    29.9997,  -128.9627,       4423,  1514.9,   2.8004,  34.5652,2,  34.5658,2,  52.2000,2,    51.7,2,  144.76,2,   42.30,2,    0.00,2,    3.06,2,   0.007,2,   0.005,2,   0.000,2,  2366.4,2,  2402.7,2,-999.000,9,-999.0000,9, -999.00,9,   -0.21,2,  -230.4,2,     4.2,-999.000,9,-999.000,   36.10,2, 1514.90,-999.0000,9,-999.0000,9,-999.0000,9,-999.0000,9,-999.0000,9,-999.0000,-999.000,-999.0000,9, -999.00
318M20040615,        P02,     163,          2,         15,         15,2,20040821,       0116,    29.9997,  -128.9627,       4423,  1615.7,   2.6241,  34.5792,2,  34.5789,2,  57.5000,2,    57.3,2,  149.19,2,   41.81,2,    0.00,2,    3.03,2,   0.003,2,   0.003,2,   0.000,2,  2368.6,2,  2408.8,2,-999.000,9,-999.0000,9, -999.00,9,   -0.22,2,  -244.2,2,     3.6,-999.000,9,-999.000, -999.00,9, 1615.70,-999.0000,9,-999.0000,9,-999.0000,9,-999.0000,9,-999.0000,9,-999.0000,-999.000,-999.0000,9, -999.00
318M20040615,        P02,     163,          2,         14,         14,2,20040821,       0116,    29.9997,  -128.9627,       4423,  1721.7,   2.4677,  34.5913,2,  34.5925,2,  62.7000,2,    62.6,2,  153.40,2,   41.64,2,    0.00,2,    3.00,2,-999.000,9,-999.000,9,-999.000,9,  2369.5,2,  2412.4,2,-999.000,9,-999.0000,9, -999.00,9,   -0.23,2,  -238.0,2,     4.5,-999.000,9,-999.000, -999.00,9, 1721.70,-999.0000,9,-999.0000,9,-999.0000,9,-999.0000,9,-999.0000,9,-999.0000,-999.000,-999.0000,9, -999.00
318M20040615,        P02,     163,          2,         13,         13,2,20040821,       0116,    29.9997,  -128.9627,       4423,  1821.8,   2.3413,  34.6016,2,  34.6019,2,  67.6000,2,    67.6,2,  156.36,2,   41.74,2,    0.00,2,    2.97,2,   0.001,2,   0.003,2,   0.000,2,  2370.5,2,  2416.3,2,-999.000,9,-999.0000,9, -999.00,9,   -0.21,2,  -243.8,2,     3.6,-999.000,9,-999.000,   36.40,2, 1821.80,-999.0000,9,-999.0000,9,-999.0000,9,-999.0000,9,-999.0000,9,-999.0000,-999.000,-999.0000,9, -999.00
318M20040615,        P02,     163,          2,         12,         12,2,20040821,       0116,    29.9997,  -128.9627,       4423,  1923.2,   2.2405,  34.6106,2,  34.6107,2,  74.0000,2,    72.9,2,  158.46,2,   41.63,2,    0.00,2,    2.94,2,   0.006,2,   0.003,2,   0.000,2,  2369.6,2,  2417.9,2,-999.000,9,-999.0000,9, -999.00,9,   -0.16,2,  -256.4,2,     4.1,-999.000,9,-999.000,   36.30,2, 1923.20,-999.0000,9,-999.0000,9,-999.0000,9,-999.0000,9,-999.0000,9,-999.0000,-999.000,-999.0000,9, -999.00
318M20040615,        P02,     163,          2,         11,         11,2,20040821,       0116,    29.9997,  -128.9627,       4423,  2027.7,   2.1405,  34.6202,2,  34.6200,2,  79.3000,2,    78.5,2,  160.15,2,   41.19,2,    0.00,2,    2.92,2,   0.000,2,   0.001,2,   0.000,2,  2368.4,2,  2421.2,2,-999.000,9,-999.0000,9, -999.00,9,   -0.14,2,  -268.1,2,     3.4,-999.000,9,-999.000, -999.00,9, 2027.70,-999.0000,9,-999.0000,9,-999.0000,9,-999.0000,9,-999.0000,9,-999.0000,-999.000,-999.0000,9, -999.00
318M20040615,        P02,     163,          2,         10,         10,2,20040821,       0116,    29.9997,  -128.9627,       4423,  2279.4,   1.9206,  34.6378,2,  34.6374,2,  90.8000,2,    92.0,2,  164.60,2,   40.24,2,    0.00,2,    2.84,2,   0.023,3,   0.014,3,   0.000,2,  2366.1,2,  2423.2,2,-999.000,9,-999.0000,9, -999.00,9,   -0.07,2,  -258.3,2,     3.9,-999.000,9,-999.000,   36.50,2, 2279.40,-999.0000,9,-999.0000,9,-999.0000,9,-999.0000,9,-999.0000,9,-999.0000,-999.000,-999.0000,9, -999.00
318M20040615,        P02,     163,          2,          9,          9,2,20040821,       0116,    29.9997,  -128.9627,       4423,  2532.6,   1.7700,  34.6490,2,  34.6484,2, 100.0000,2,   100.8,2,  168.21,2,   39.46,2,    0.00,2,    2.79,2,-999.000,9,-999.000,9,-999.000,9,  2363.8,2,  2430.0,2,-999.000,9,-999.0000,9, -999.00,9,   -0.05,2,  -254.9,2,     3.5,-999.000,9,-999.000, -999.00,9, 2532.60,-999.0000,9,-999.0000,9,-999.0000,9,-999.0000,9,-999.0000,9,-999.0000,-999.000,-999.0000,9, -999.00
318M20040615,        P02,     163,          2,          8,          8,2,20040821,       0116,    29.9997,  -128.9627,       4423,  2790.3,   1.6569,  34.6585,2,  34.6579,2, 108.7000,2,   109.5,2,  170.34,2,   38.74,2,    0.00,2,    2.74,2,   0.002,2,   0.004,2,   0.000,2,  2358.6,2,  2430.2,2,-999.000,9,-999.0000,9, -999.00,9,   -0.03,2,  -243.6,2,     4.0,-999.000,9,-999.000,   37.10,2, 2790.30,-999.0000,9,-999.0000,9,-999.0000,9,-999.0000,9,-999.0000,9,-999.0000,-999.000,-999.0000,9, -999.00
318M20040615,        P02,     163,          2,          7,          7,2,20040821,       0116,    29.9997,  -128.9627,       4423,  3042.5,   1.5783,  34.6666,2,  34.6661,2, 117.1000,2,   118.1,2,  170.77,2,   38.13,2,    0.00,2,    2.69,2,-999.000,9,-999.000,9,-999.000,9,  2353.3,2,  2431.0,2,-999.000,9,-999.0000,9, -999.00,9,    0.06,2,  -243.6,2,     4.0,-999.000,9,-999.000,   36.40,2, 3042.50,-999.0000,9,-999.0000,9,-999.0000,9,-999.0000,9,-999.0000,9,-999.0000,-999.000,-999.0000,9, -999.00
318M20040615,        P02,     163,          2,          6,          6,2,20040821,       0116,    29.9997,  -128.9627,       4423,  3300.8,   1.5220,  34.6739,2,  34.6736,2, 125.4000,2,   126.8,2,  169.49,2,   37.58,2,    0.00,2,    2.64,2,   0.004,2,   0.006,2,   0.000,2,  2349.0,2,  2431.4,2,-999.000,9,-999.0000,9, -999.00,9,    0.04,2,  -233.0,2,     3.8,-999.000,9,-999.000, -999.00,9, 3300.80,-999.0000,9,-999.0000,9,-999.0000,9,-999.0000,9,-999.0000,9,-999.0000,-999.000,-999.0000,9, -999.00
318M20040615,        P02,     163,          2,          5,          5,2,20040821,       0116,    29.9997,  -128.9627,       4423,  3554.3,   1.4960,  34.6790,2,  34.6789,2, 132.6000,2,   132.9,2,  167.77,2,   37.36,2,    0.00,2,    2.61,2,   0.006,2,   0.011,2,   0.000,2,  2343.7,2,  2434.6,2,-999.000,9,-999.0000,9, -999.00,9,    0.15,2,  -247.9,3,     3.3,-999.000,9,-999.000, -999.00,9, 3554.30,-999.0000,9,-999.0000,9,-999.0000,9,-999.0000,9,-999.0000,9,-999.0000,-999.000,-999.0000,9, -999.00
318M20040615,        P02,     163,          2,          4,          4,2,20040821,       0116,    29.9997,  -128.9627,       4423,  3808.4,   1.4936,  34.6822,2,  34.6820,2, 137.0000,2,   137.3,2,  166.90,2,   37.36,2,    0.00,2,    2.58,2,   0.006,6,   0.011,6,   0.006,6,  2340.5,2,  2431.8,6,-999.000,9,-999.0000,9, -999.00,9,    0.19,2,  -235.1,2,     3.5,-999.000,9,-999.000,   37.90,2, 3808.40,-999.0000,9,-999.0000,9,-999.0000,9,-999.0000,9,-999.0000,9,-999.0000,-999.000,-999.0000,9, -999.00
318M20040615,        P02,     163,          2,          3,          3,2,20040821,       0116,    29.9997,  -128.9627,       4423,  4062.0,   1.5056,  34.6842,2,  34.6844,2, 139.7000,2,   140.6,2,  165.61,2,   37.31,2,    0.00,2,    2.57,2,   0.006,2,   0.011,2,   0.000,2,  2339.3,2,  2425.5,3,-999.000,9,-999.0000,9, -999.00,9,    0.19,2,  -229.2,2,     4.3,-999.000,9,-999.000,   36.70,2, 4062.00,-999.0000,9,-999.0000,9,-999.0000,9,-999.0000,9,-999.0000,9,-999.0000,-999.000,-999.0000,9, -999.00
318M20040615,        P02,     163,          2,          2,          2,2,20040821,       0116,    29.9997,  -128.9627,       4423,  4305.6,   1.5281,  34.6850,2,  34.6850,2, 141.0000,2,   141.9,2,  164.75,2,   37.14,2,    0.00,2,    2.56,2,   0.010,2,   0.015,2,   0.000,2,  2339.7,2,  2432.5,2,-999.000,9,-999.0000,9, -999.00,9,    0.20,2,  -221.5,2,     3.5,-999.000,9,-999.000, -999.00,9, 4305.60,-999.0000,9,-999.0000,9,-999.0000,9,-999.0000,9,-999.0000,9,-999.0000,-999.000,-999.0000,9, -999.00
318M20040615,        P02,     163,          2,          1,          1,2,20040821,       0116,    29.9997,  -128.9627,       4423,  4503.0,   1.5493,  34.6852,2,  34.6853,2, 141.8000,2,   142.0,2,  164.52,2,   36.87,2,    0.00,2,    2.56,2,   0.030,3,   0.028,3,   0.016,3,  2339.1,6,  2432.4,6,-999.000,9,-999.0000,9, -999.00,9,    0.21,2,  -219.9,2,     3.2,-999.000,9,-999.000,   37.90,2, 4503.00,-999.0000,9,-999.0000,9,-999.0000,9,-999.0000,9,-999.0000,9,-999.0000,-999.000,-999.0000,9, -999.00