BOTTLE,20131027SIOCCHRJL
EXPOCODE,SECT_ID,STNNBR,CASTNO,SAMPNO,BTLNBR,BTLNBR_FLAG_W,DATE,TIME,LATITUDE,LONGITUDE,DEPTH,CTDPRS,CTDTMP,CTDSAL,CTDSAL_FLAG_W,SALNTY,SALNTY_FLAG_W,CTDOXY,CTDOXY_FLAG_W,OXYGEN,OXYGEN_FLAG_W,SILCAT,SILCAT_FLAG_W,NITRAT,NITRAT_FLAG_W,NITRIT,NITRIT_FLAG_W,PHSPHT,PHSPHT_FLAG_W,CFC-11,CFC-11_FLAG_W,CFC-12,CFC-12_FLAG_W,CFC113,CFC113_FLAG_W,TCARBN,TCARBN_FLAG_W,ALKALI,ALKALI_FLAG_W,TRITUM,TRITUM_FLAG_W,HELIUM,HELIUM_FLAG_W,DELHE3,DELHE3_FLAG_W,DELC13,DELC13_FLAG_W,DELC14,DELC14_FLAG_W,C14ERR,NEON,NEON_FLAG_W,NEONER,DOC,DOC_FLAG_W,CTDRAW,CDOM380,CDOM380_FLAG_W,CDOM325,CDOM325_FLAG_W,CDOMSL,CDOMSL_FLAG_W,CDOM340,CDOM340_FLAG_W,CDOMSN,CDOMSN_FLAG_W,HELIER,TRITER,CDOM412,CDOM412_FLAG_W,DELHER
,,,,,,,,,,,METERS,DBAR,ITS-90,PSS-78,,PSS-78,,UMOL/KG,,UMOL/KG,,UMOL/KG,,UMOL/KG,,UMOL/KG,,UMOL/KG,,PMOL/KG,,PMOL/KG,,PMOL/KG,,UMOL/KG,,UMOL/KG,,TU,,NMOL/KG,,PERCNT,,/MILLE,,/MILLE,,/MILLE,NMOL/KG,,NMOL/KG,UMOL/KG,,DBAR,1/M,,1/M,,1/NM,,1/M,,1/NM,,NMOL/KG,TU,1/M,,PERCNT
318M20040615,        P02,     153,          2,         36,         36,2,20040818,       0653,    30.0002,   -134.738,       4482,     5.8,  24.4935,  34.5246,2,  34.5247,2, 215.5000,2,   214.9,2,    1.53,2,    0.21,2,    0.00,2,    0.15,2,   1.950,2,   1.180,2,   0.143,2,  2014.0,6,  2298.3,6,   0.941,2,   1.7435,2,   -0.89,2, -999.00,9,  -999.0,9,  -999.0,-999.000,9,-999.000,   64.70,2,    5.80,   0.0290,2,   0.0950,2,   0.0210,2,   0.0730,2,   0.0200,2,   0.0087,   0.009,   0.0160,2,    0.20
318M20040615,        P02,     153,          2,         35,         35,2,20040818,       0653,    30.0002,   -134.738,       4482,    40.3,  23.0983,  35.0967,2,  35.0929,2, 228.8000,2,   227.2,2,    1.30,2,    0.20,2,    0.00,2,    0.05,2,   2.097,2,   1.259,2,   0.139,2,  2013.9,2,  2321.5,2,   0.805,2,   1.7473,2,   -1.23,2, -999.00,9,  -999.0,9,  -999.0,-999.000,9,-999.000,   80.70,3,   40.30,   0.0080,2,   0.0540,2,   0.0350,2,   0.0320,2,   0.0350,2,   0.0087,   0.009,   0.0020,3,    0.20
318M20040615,        P02,     153,          2,         34,         34,2,20040818,       0653,    30.0002,   -134.738,       4482,    85.0,  20.0579,  34.7030,2,  34.7007,2, 236.6000,2,   234.3,2,    1.67,2,    0.20,2,    0.00,2,    0.11,2,   2.361,2,   1.395,2,   0.160,2,  2017.4,2,  2298.1,2,   0.883,2,   1.7313,2,   -1.59,2, -999.00,9,  -999.0,9,  -999.0,-999.000,9,-999.000,   72.50,3,   85.00,   0.0180,2,   0.0890,2,   0.0290,2,   0.0570,2,   0.0290,2,   0.0087,   0.008,   0.0080,2,    0.20
318M20040615,        P02,     153,          2,         33,         33,2,20040818,       0653,    30.0002,   -134.738,       4482,   134.9,  19.6288,  34.9070,2,  34.9069,2, 225.4000,2,   227.1,2,    1.85,2,    0.20,2,    0.00,2,    0.08,2,   2.349,2,   1.369,2,   0.162,2,  2024.0,2,  2305.6,2,   0.838,2,   1.7521,2,   -1.23,2, -999.00,9,  -999.0,9,  -999.0,-999.000,9,-999.000,   69.70,3,  134.90,   0.0210,2,   0.0860,2,   0.0260,2,   0.0580,2,   0.0270,2,   0.0088,   0.007,   0.0120,2,    0.20
318M20040615,        P02,     153,          2,         32,         32,2,20040818,       0653,    30.0002,   -134.738,       4482,   184.2,  15.7003,  34.1602,2,  34.1728,2, 222.8000,2,   221.3,2,    3.39,2,    2.22,2,    0.08,2,    0.32,2,   2.827,2,   1.670,2,   0.185,2,  2034.1,2,  2260.5,2,   0.889,2,   1.7788,2,   -0.56,2, -999.00,9,  -999.0,9,  -999.0,-999.000,9,-999.000,   54.70,2,  184.20,   0.0380,2,   0.1190,2,   0.0200,2,   0.0850,2,   0.0210,2,   0.0089,   0.008,   0.0260,2,    0.20
318M20040615,        P02,     153,          2,         31,         31,2,20040818,       0653,    30.0002,   -134.738,       4482,   238.9,  11.7783,  33.8132,2,  33.8194,2, 217.7000,2,   218.1,2,    8.44,2,    9.04,2,    0.01,2,    0.74,2,   3.351,2,   1.927,2,   0.108,2,  2063.3,2,  2241.3,2,   0.917,2,-999.0000,9, -999.00,9, -999.00,9,  -999.0,9,  -999.0,-999.000,9,-999.000,   47.10,2,  238.90,   0.0370,2,   0.1140,2,   0.0190,2,   0.0800,2,   0.0200,2,-999.0000,   0.008,   0.0260,2, -999.00
318M20040615,        P02,     153,          2,         30,         30,2,20040818,       0653,    30.0002,   -134.738,       4482,   289.2,   9.6821,  33.8318,2,  33.8353,2, 203.4000,2,   207.4,2,   16.23,2,   15.47,2,    0.00,2,    1.16,2,   3.588,2,   1.983,2,   0.126,2,  2102.5,2,  2245.9,2,   0.896,2,   1.8054,2,    1.39,2, -999.00,9,  -999.0,9,  -999.0,-999.000,9,-999.000,   47.50,2,  289.20,   0.0370,2,   0.1150,2,   0.0200,2,   0.0790,2,   0.0210,2,   0.0090,   0.008,   0.0250,2,    0.20
318M20040615,        P02,     153,          2,         29,         29,2,20040818,       0653,    30.0002,   -134.738,       4482,   338.9,   8.8888,  34.0138,2,  34.0139,2, 174.8000,2,   177.9,2,   25.40,2,   20.80,2,    0.00,2,    1.48,2,   3.318,2,   1.778,2,   0.109,2,  2142.3,2,  2262.3,2,   0.859,2,   1.8062,2,    4.48,2, -999.00,9,  -999.0,9,  -999.0,-999.000,9,-999.000,   44.40,2,  338.90,   0.0490,2,   0.1380,2,   0.0160,2,   0.0990,2,   0.0180,2,   0.0090,   0.008,   0.0350,2,    0.20
318M20040615,        P02,     153,          2,         28,         28,2,20040818,       0653,    30.0002,   -134.738,       4482,   388.6,   8.1295,  34.0357,2,  34.0358,2, 153.1000,2,   152.7,2,   34.38,2,   25.21,2,    0.00,2,    1.77,2,   2.907,2,   1.488,2,   0.107,2,  2173.1,2,  2266.6,2,-999.000,9,   1.6946,2,    8.96,2, -999.00,9,  -999.0,9,  -999.0,-999.000,9,-999.000, -999.00,9,  388.60,   0.0510,2,   0.1430,2,   0.0150,2,   0.1010,2,   0.0170,2,   0.0085,-999.000,   0.0370,2,    0.20
318M20040615,        P02,     153,          2,         27,         27,2,20040818,       0653,    30.0002,   -134.738,       4482,   438.3,   7.1589,  34.0194,2,  34.0200,2, 124.0000,2,   122.6,2,   45.33,2,   30.07,2,    0.00,2,    2.11,2,   2.311,2,   1.151,2,   0.091,2,  2206.9,2,  2277.6,2,   0.775,2,   1.8371,2,   12.61,2, -999.00,9,  -999.0,9,  -999.0,-999.000,9,-999.000,   43.20,2,  438.30,-999.0000,9,-999.0000,9,-999.0000,9,-999.0000,9,-999.0000,9,   0.0092,   0.008,-999.0000,9,    0.20
318M20040615,        P02,     153,          2,         26,         26,2,20040818,       0653,    30.0002,   -134.738,       4482,   488.5,   6.2867,  34.0174,2,  34.0180,2,  97.8000,2,    96.7,2,   56.69,2,   34.00,2,    0.00,2,    2.40,2,   1.659,2,   0.806,2,   0.052,2,  2239.4,2,  2286.5,2,   0.668,2,   1.8464,2,   14.85,2, -999.00,9,  -999.0,9,  -999.0,-999.000,9,-999.000, -999.00,9,  488.50,   0.0780,2,   0.1970,2,   0.0130,2,   0.1430,2,   0.0150,2,   0.0092,   0.007,   0.0590,2,    0.20
318M20040615,        P02,     153,          2,         25,         25,2,20040818,       0653,    30.0002,   -134.738,       4482,   577.7,   5.4787,  34.0582,2,  34.0590,2,  63.4000,2,    61.9,2,   72.42,2,   38.26,2,    0.00,2,    2.74,2,   0.937,2,   0.427,2,   0.030,2,  2278.0,2,  2303.1,2,   0.509,2,   1.8555,2,   17.78,2, -999.00,9,  -999.0,9,  -999.0,-999.000,9,-999.000,   43.30,2,  577.70,-999.0000,9,-999.0000,9,-999.0000,9,-999.0000,9,-999.0000,9,   0.0093,   0.006,-999.0000,9,    0.20
318M20040615,        P02,     153,          2,         24,         24,2,20040818,       0653,    30.0002,   -134.738,       4482,   677.3,   4.7547,  34.1610,2,  34.1603,2,  28.7000,2,    29.7,2,   91.57,2,   41.85,2,    0.00,2,    3.02,2,   0.265,2,   0.132,2,   0.000,2,  2319.1,2,  2322.1,2,   0.256,2,   1.8577,2,   17.59,2, -999.00,9,  -999.0,9,  -999.0,-999.000,9,-999.000,   42.20,2,  677.30,   0.0770,2,   0.1940,2,   0.0130,2,   0.1390,2,   0.0150,2,   0.0093,   0.003,   0.0590,2,    0.20
318M20040615,        P02,     153,          2,         23,         23,2,20040818,       0653,    30.0002,   -134.738,       4482,   777.3,   4.3566,  34.2467,2,  34.2466,2,  15.8000,2,    17.1,2,  103.84,2,   43.19,2,    0.00,2,    3.14,2,   0.084,2,   0.045,2,   0.000,2,  2341.6,2,  2342.3,2,   0.027,2,   1.8810,2,   15.52,2, -999.00,9,  -999.0,9,  -999.0,-999.000,9,-999.000,   39.40,2,  777.30,-999.0000,9,-999.0000,9,-999.0000,9,-999.0000,9,-999.0000,9,   0.0094,   0.000,-999.0000,9,    0.20
318M20040615,        P02,     153,          2,         22,         22,2,20040818,       0653,    30.0002,   -134.738,       4482,   877.6,   4.0300,  34.3576,2,  34.3586,2,  15.5000,2,    15.1,2,  114.57,2,   43.68,2,    0.00,2,    3.19,2,   0.024,2,   0.013,2,   0.000,2,  2355.1,6,  2360.3,2,   0.015,2,   1.8927,2,   15.97,2, -999.00,9,  -999.0,9,  -999.0,-999.000,9,-999.000,   43.50,3,  877.60,   0.0880,2,   0.2060,2,   0.0120,2,   0.1510,2,   0.0130,2,   0.0095,   0.001,   0.0680,2,    0.20
318M20040615,        P02,     153,          2,         21,         21,2,20040818,       0653,    30.0002,   -134.738,       4482,   982.9,   3.8197,  34.4230,2,  34.4237,2,  20.4000,2,    20.4,2,  119.75,2,   43.57,2,    0.00,2,    3.19,2,   0.027,2,   0.015,2,   0.000,2,  2360.7,2,  2371.3,2,   0.021,2,-999.0000,9, -999.00,9, -999.00,9,  -999.0,9,  -999.0,-999.000,9,-999.000, -999.00,9,  982.90,-999.0000,9,-999.0000,9,-999.0000,9,-999.0000,9,-999.0000,9,-999.0000,   0.001,-999.0000,9, -999.00
318M20040615,        P02,     153,          2,         20,         20,2,20040818,       0653,    30.0002,   -134.738,       4482,  1082.4,   3.5795,  34.4699,2,  34.4706,2,  28.0000,2,    29.4,2,  124.53,2,   43.46,2,    0.00,2,    3.16,2,   0.017,2,   0.010,2,   0.000,2,  2362.5,2,  2376.4,2,   0.005,2,   1.9051,2,   19.58,2, -999.00,9,  -999.0,9,  -999.0,-999.000,9,-999.000,   37.20,2, 1082.40,   0.0680,2,   0.1710,2,   0.0130,2,   0.1220,2,   0.0150,2,   0.0095,   0.000,   0.0520,2,    0.20
318M20040615,        P02,     153,          2,         19,         19,2,20040818,       0653,    30.0002,   -134.738,       4482,  1183.9,   3.3471,  34.5018,2,  34.5029,2,  36.3000,2,    36.8,2,  129.52,2,   43.40,2,    0.00,2,    3.12,2,   0.009,2,   0.004,2,   0.000,2,  2365.4,2,  2386.2,2,   0.003,2,   1.9119,2,   20.10,2, -999.00,9,  -999.0,9,  -999.0,-999.000,9,-999.000, -999.00,9, 1183.90,-999.0000,9,-999.0000,9,-999.0000,9,-999.0000,9,-999.0000,9,   0.0096,   0.000,-999.0000,9,    0.20
318M20040615,        P02,     153,          2,         18,         18,2,20040818,       0653,    30.0002,   -134.738,       4482,  1280.8,   3.1630,  34.5209,2,  34.5221,2,  41.5000,2,    41.4,2,  134.71,2,   43.40,2,    0.00,2,    3.09,2,   0.010,2,   0.006,2,   0.000,2,  2366.8,2,  2392.0,6,   0.005,2,   1.9058,2,   22.05,2, -999.00,9,  -999.0,9,  -999.0,-999.000,9,-999.000,   36.70,2, 1280.80,-999.0000,9,-999.0000,9,-999.0000,9,-999.0000,9,-999.0000,9,   0.0095,   0.000,-999.0000,9,    0.20
318M20040615,        P02,     153,          2,         17,         17,2,20040818,       0653,    30.0002,   -134.738,       4482,  1382.1,   2.9695,  34.5413,2,  34.5419,2,  47.4000,2,    47.1,2,  138.91,2,   43.12,2,    0.00,2,    3.07,2,   0.009,2,   0.007,2,   0.000,2,  2368.9,2,  2398.1,2,   0.003,2,   1.9191,2,   22.54,2, -999.00,9,  -999.0,9,  -999.0,-999.000,9,-999.000, -999.00,9, 1382.10,-999.0000,9,-999.0000,9,-999.0000,9,-999.0000,9,-999.0000,9,   0.0096,   0.000,-999.0000,9,    0.20
318M20040615,        P02,     153,          2,         16,         16,2,20040818,       0653,    30.0002,   -134.738,       4482,  1484.6,   2.7954,  34.5576,2,  34.5582,2,  52.2000,2,    52.6,2,  143.92,2,   42.73,2,    0.00,2,    3.04,2,   0.010,2,   0.007,2,   0.007,2,  2370.2,2,  2401.2,2,   0.004,2,   1.9269,2,   23.52,2, -999.00,9,  -999.0,9,  -999.0,-999.000,9,-999.000, -999.00,9, 1484.60,-999.0000,9,-999.0000,9,-999.0000,9,-999.0000,9,-999.0000,9,   0.0096,   0.000,-999.0000,9,    0.20
318M20040615,        P02,     153,          2,         15,         15,2,20040818,       0653,    30.0002,   -134.738,       4482,  1586.2,   2.6292,  34.5713,2,  34.5720,2,  58.1000,2,    57.6,2,  147.73,2,   42.33,2,    0.00,2,    3.01,2,   0.012,2,   0.004,2,   0.000,2,  2371.6,2,  2407.4,2,   0.014,2,   1.9267,2,   22.92,2, -999.00,9,  -999.0,9,  -999.0,-999.000,9,-999.000,   36.50,2, 1586.20,-999.0000,9,-999.0000,9,-999.0000,9,-999.0000,9,-999.0000,9,   0.0096,   0.001,-999.0000,9,    0.20
318M20040615,        P02,     153,          2,         14,         14,2,20040818,       0653,    30.0002,   -134.738,       4482,  1687.7,   2.4935,  34.5822,2,  34.5834,2,  62.4000,2,    61.4,2,  151.14,2,   41.95,2,    0.00,2,    2.99,2,   0.012,2,   0.008,2,   0.000,2,  2371.9,2,  2410.2,2,   0.003,2,   1.9280,2,   22.99,2, -999.00,9,  -999.0,9,  -999.0,-999.000,9,-999.000, -999.00,9, 1687.70,-999.0000,9,-999.0000,9,-999.0000,9,-999.0000,9,-999.0000,9,   0.0096,   0.000,-999.0000,9,    0.20
318M20040615,        P02,     153,          2,         13,         13,2,20040818,       0653,    30.0002,   -134.738,       4482,  1790.0,   2.3530,  34.5934,2,  34.5946,2,  66.9000,2,    66.3,2,  155.38,2,   41.57,2,    0.00,2,    2.97,2,   0.007,2,   0.003,2,   0.000,2,  2373.0,2,  2413.9,2,   0.009,2,   1.9325,2,   23.24,2, -999.00,9,  -999.0,9,  -999.0,-999.000,9,-999.000, -999.00,9, 1790.00,-999.0000,9,-999.0000,9,-999.0000,9,-999.0000,9,-999.0000,9,   0.0097,   0.000,-999.0000,9,    0.20
318M20040615,        P02,     153,          2,         12,         12,2,20040818,       0653,    30.0002,   -134.738,       4482,  1891.1,   2.2068,  34.6052,2,  34.6050,2,  71.7000,2,    71.6,2,  159.43,2,   41.35,2,    0.00,2,    2.94,2,-999.000,9,-999.000,9,-999.000,9,  2373.5,2,  2416.3,2,-999.000,9,-999.0000,9, -999.00,9, -999.00,9,  -999.0,9,  -999.0,-999.000,9,-999.000,   36.80,2, 1891.10,-999.0000,9,-999.0000,9,-999.0000,9,-999.0000,9,-999.0000,9,-999.0000,-999.000,-999.0000,9, -999.00
318M20040615,        P02,     153,          2,         11,         11,2,20040818,       0653,    30.0002,   -134.738,       4482,  1997.9,   2.0854,  34.6158,2,  34.6164,2,  76.0000,2,    77.5,2,  162.25,2,   40.91,2,    0.00,2,    2.91,2,   0.007,6,   0.004,6,   0.000,6,  2372.3,2,  2421.9,2,-999.000,9,-999.0000,9, -999.00,9, -999.00,9,  -999.0,9,  -999.0,-999.000,9,-999.000,   36.30,2, 1997.90,-999.0000,9,-999.0000,9,-999.0000,9,-999.0000,9,-999.0000,9,-999.0000,-999.000,-999.0000,9, -999.00
318M20040615,        P02,     153,          2,         10,         10,2,20040818,       0653,    30.0002,   -134.738,       4482,  2198.4,   1.9203,  34.6309,2,  34.6305,2,  86.4000,2,    86.9,2,  165.89,2,   40.74,2,    0.00,2,    2.86,2,-999.000,9,-999.000,9,-999.000,9,  2370.5,2,  2427.1,2,-999.000,9,-999.0000,9, -999.00,9, -999.00,9,  -999.0,9,  -999.0,-999.000,9,-999.000,   36.30,2, 2198.40,   0.0630,2,   0.1690,2,   0.0130,2,   0.1180,2,   0.0160,2,-999.0000,-999.000,   0.0480,2, -999.00
318M20040615,        P02,     153,          2,          9,          9,2,20040818,       0653,    30.0002,   -134.738,       4482,  2450.9,   1.7748,  34.6441,2,  34.6445,2,  96.6000,2,    97.0,2,  168.71,2,   40.19,2,    0.00,2,    2.80,2,   0.009,2,   0.003,2,   0.000,2,  2367.1,2,  2428.9,6,-999.000,9,-999.0000,9, -999.00,9, -999.00,9,  -999.0,9,  -999.0,-999.000,9,-999.000, -999.00,9, 2450.90,-999.0000,9,-999.0000,9,-999.0000,9,-999.0000,9,-999.0000,9,-999.0000,-999.000,-999.0000,9, -999.00
318M20040615,        P02,     153,          2,          8,          8,2,20040818,       0653,    30.0002,   -134.738,       4482,  2708.9,   1.6640,  34.6558,2,  34.6568,2, 106.7000,2,   107.8,2,  170.12,2,   39.43,2,    0.00,2,    2.75,2,-999.000,9,-999.000,9,-999.000,9,  2363.1,2,  2428.8,6,-999.000,9,-999.0000,9, -999.00,9, -999.00,9,  -999.0,9,  -999.0,-999.000,9,-999.000,   35.20,2, 2708.90,-999.0000,9,-999.0000,9,-999.0000,9,-999.0000,9,-999.0000,9,-999.0000,-999.000,-999.0000,9, -999.00
318M20040615,        P02,     153,          2,          7,          7,2,20040818,       0653,    30.0002,   -134.738,       4482,  2965.1,   1.5883,  34.6647,2,  34.6651,2, 114.7000,2,   115.4,2,  170.70,2,   38.72,2,    0.00,2,    2.70,2,   0.008,2,   0.006,2,   0.000,2,  2359.0,2,  2433.8,2,-999.000,9,-999.0000,9, -999.00,9, -999.00,9,  -999.0,9,  -999.0,-999.000,9,-999.000, -999.00,9, 2965.10,-999.0000,9,-999.0000,9,-999.0000,9,-999.0000,9,-999.0000,9,-999.0000,-999.000,-999.0000,9, -999.00
318M20040615,        P02,     153,          2,          6,          6,2,20040818,       0653,    30.0002,   -134.738,       4482,  3218.3,   1.5274,  34.6722,2,  34.6726,2, 123.1000,2,   123.9,2,  169.86,2,   38.11,2,    0.00,2,    2.65,2,-999.000,9,-999.000,9,-999.000,9,  2354.5,2,  2431.4,2,-999.000,9,-999.0000,9, -999.00,9, -999.00,9,  -999.0,9,  -999.0,-999.000,9,-999.000,   35.80,2, 3218.30,   0.0460,2,   0.1420,2,   0.0160,2,   0.0950,2,   0.0190,2,-999.0000,-999.000,   0.0330,2, -999.00
318M20040615,        P02,     153,          2,          5,          5,2,20040818,       0653,    30.0002,   -134.738,       4482,  3472.2,   1.4909,  34.6780,2,  34.6785,2, 132.0000,2,   132.7,2,  166.57,2,   37.51,2,    0.00,2,    2.60,2,   0.009,2,   0.007,2,   0.000,2,  2346.8,2,  2427.2,2,-999.000,9,-999.0000,9, -999.00,9, -999.00,9,  -999.0,9,  -999.0,-999.000,9,-999.000, -999.00,9, 3472.20,-999.0000,9,-999.0000,9,-999.0000,9,-999.0000,9,-999.0000,9,-999.0000,-999.000,-999.0000,9, -999.00
318M20040615,        P02,     153,          2,          4,          4,2,20040818,       0653,    30.0002,   -134.738,       4482,  3730.9,   1.4806,  34.6820,2,  34.6828,2, 138.9000,2,   139.2,2,  163.51,2,   37.03,2,    0.00,2,    2.57,2,   0.011,2,   0.011,2,   0.000,2,  2341.7,2,  2429.1,2,-999.000,9,-999.0000,9, -999.00,9, -999.00,9,  -999.0,9,  -999.0,-999.000,9,-999.000,   37.40,2, 3730.90,-999.0000,9,-999.0000,9,-999.0000,9,-999.0000,9,-999.0000,9,-999.0000,-999.000,-999.0000,9, -999.00
318M20040615,        P02,     153,          2,          3,          3,2,20040818,       0653,    30.0002,   -134.738,       4482,  4034.2,   1.4937,  34.6844,2,  34.6850,2, 141.8000,2,   142.1,2,  162.28,2,   36.91,2,    0.00,2,    2.55,2,   0.009,2,   0.011,2,   0.000,2,  2339.8,2,  2431.6,2,-999.000,9,-999.0000,9, -999.00,9, -999.00,9,  -999.0,9,  -999.0,-999.000,9,-999.000, -999.00,9, 4034.20,-999.0000,9,-999.0000,9,-999.0000,9,-999.0000,9,-999.0000,9,-999.0000,-999.000,-999.0000,9, -999.00
318M20040615,        P02,     153,          2,          2,          2,2,20040818,       0653,    30.0002,   -134.738,       4482,  4284.3,   1.5144,  34.6856,2,  34.6857,2, 143.6000,2,   144.0,2,  161.45,2,   37.08,2,    0.00,2,    2.55,2,   0.012,2,   0.011,2,   0.000,2,  2338.2,2,  2430.2,2,-999.000,9,-999.0000,9, -999.00,9, -999.00,9,  -999.0,9,  -999.0,-999.000,9,-999.000,   37.20,2, 4284.30,-999.0000,9,-999.0000,9,-999.0000,9,-999.0000,9,-999.0000,9,-999.0000,-999.000,-999.0000,9, -999.00
318M20040615,        P02,     153,          2,          1,          1,2,20040818,       0653,    30.0002,   -134.738,       4482,  4563.4,   1.5473,  34.6856,2,  34.6859,2, 143.5000,2,   144.1,2,  161.62,2,   37.13,2,    0.00,2,    2.54,2,   0.012,2,   0.016,2,   0.000,2,  2338.3,6,  2432.3,6,-999.000,9,-999.0000,9, -999.00,9, -999.00,9,  -999.0,9,  -999.0,-999.000,9,-999.000,   37.40,2, 4563.40,-999.0000,9,-999.0000,9,-999.0000,9,-999.0000,9,-999.0000,9,-999.0000,-999.000,-999.0000,9, -999.00