BOTTLE,20131027SIOCCHRJL
EXPOCODE,SECT_ID,STNNBR,CASTNO,SAMPNO,BTLNBR,BTLNBR_FLAG_W,DATE,TIME,LATITUDE,LONGITUDE,DEPTH,CTDPRS,CTDTMP,CTDSAL,CTDSAL_FLAG_W,SALNTY,SALNTY_FLAG_W,CTDOXY,CTDOXY_FLAG_W,OXYGEN,OXYGEN_FLAG_W,SILCAT,SILCAT_FLAG_W,NITRAT,NITRAT_FLAG_W,NITRIT,NITRIT_FLAG_W,PHSPHT,PHSPHT_FLAG_W,CFC-11,CFC-11_FLAG_W,CFC-12,CFC-12_FLAG_W,CFC113,CFC113_FLAG_W,TCARBN,TCARBN_FLAG_W,ALKALI,ALKALI_FLAG_W,TRITUM,TRITUM_FLAG_W,HELIUM,HELIUM_FLAG_W,DELHE3,DELHE3_FLAG_W,DELC13,DELC13_FLAG_W,DELC14,DELC14_FLAG_W,C14ERR,NEON,NEON_FLAG_W,NEONER,DOC,DOC_FLAG_W,CTDRAW,CDOM380,CDOM380_FLAG_W,CDOM325,CDOM325_FLAG_W,CDOMSL,CDOMSL_FLAG_W,CDOM340,CDOM340_FLAG_W,CDOMSN,CDOMSN_FLAG_W,HELIER,TRITER,CDOM412,CDOM412_FLAG_W,DELHER
,,,,,,,,,,,METERS,DBAR,ITS-90,PSS-78,,PSS-78,,UMOL/KG,,UMOL/KG,,UMOL/KG,,UMOL/KG,,UMOL/KG,,UMOL/KG,,PMOL/KG,,PMOL/KG,,PMOL/KG,,UMOL/KG,,UMOL/KG,,TU,,NMOL/KG,,PERCNT,,/MILLE,,/MILLE,,/MILLE,NMOL/KG,,NMOL/KG,UMOL/KG,,DBAR,1/M,,1/M,,1/NM,,1/M,,1/NM,,NMOL/KG,TU,1/M,,PERCNT
318M20040615,        P02,     175,          2,         36,         36,2,20040824,       0548,    30.7738,  -122.2725,       4142,     5.3,  19.7344,  33.1185,2,  33.1192,2, 234.7000,2,   234.3,2,    1.09,2,    0.13,2,    0.00,2,    0.31,2,   2.444,2,   1.422,2,   0.178,2,  1985.6,2,  2219.8,6,   0.924,2,   1.7674,2,   -1.89,2, -999.00,9,  -999.0,9,  -999.0,-999.000,9,-999.000,   65.70,2,    5.30,-999.0000,9,-999.0000,9,-999.0000,9,-999.0000,9,-999.0000,9,   0.0088,   0.010,-999.0000,9,    0.20
318M20040615,        P02,     175,          2,         35,         35,2,20040824,       0548,    30.7738,  -122.2725,       4142,    25.2,  18.7924,  33.0928,2,  33.0919,2, 248.0000,2,   242.9,2,    0.85,2,    0.13,2,    0.00,2,    0.29,2,-999.000,9,-999.000,9,-999.000,9,  1983.6,6,  2219.6,2,-999.000,9,-999.0000,9, -999.00,9, -999.00,9,  -999.0,9,  -999.0,-999.000,9,-999.000,   67.60,2,   25.20,-999.0000,9,-999.0000,9,-999.0000,9,-999.0000,9,-999.0000,9,-999.0000,-999.000,-999.0000,9, -999.00
318M20040615,        P02,     175,          2,         34,         34,2,20040824,       0548,    30.7738,  -122.2725,       4142,    55.0,  17.8823,  33.0750,2,  33.0769,2, 247.4000,2,   250.0,2,    0.82,2,    0.13,2,    0.00,2,    0.28,2,   2.666,2,   1.625,2,   0.192,2,  1982.9,2,  2218.8,2,   0.866,2,   1.7665,2,   -1.46,2, -999.00,9,  -999.0,9,  -999.0,-999.000,9,-999.000,   64.20,2,   55.00,-999.0000,9,-999.0000,9,-999.0000,9,-999.0000,9,-999.0000,9,   0.0088,   0.009,-999.0000,9,    0.20
318M20040615,        P02,     175,          2,         33,         33,2,20040824,       0548,    30.7738,  -122.2725,       4142,    79.5,  14.7953,  33.0156,2,  33.0193,2, 263.9000,2,   263.0,2,    1.39,2,    0.17,2,    0.00,2,    0.36,2,-999.000,9,-999.000,9,-999.000,9,  1996.5,2,  2212.3,2,-999.000,9,-999.0000,9, -999.00,9, -999.00,9,  -999.0,9,  -999.0,-999.000,9,-999.000,   64.10,2,   79.50,-999.0000,9,-999.0000,9,-999.0000,9,-999.0000,9,-999.0000,9,-999.0000,-999.000,-999.0000,9, -999.00
318M20040615,        P02,     175,          2,         32,         32,2,20040824,       0548,    30.7738,  -122.2725,       4142,   104.5,  13.1291,  33.2212,2,  33.2269,2, 233.3000,2,   234.5,2,    3.56,2,    7.24,2,    0.52,2,    0.82,2,   3.264,2,   1.871,2,   0.226,2,  2048.3,2,  2219.6,2,   0.871,2,   1.7881,2,   -0.67,2, -999.00,9,  -999.0,9,  -999.0,-999.000,9,-999.000,   55.90,2,  104.50,-999.0000,9,-999.0000,9,-999.0000,9,-999.0000,9,-999.0000,9,   0.0089,   0.008,-999.0000,9,    0.20
318M20040615,        P02,     175,          2,         31,         31,2,20040824,       0548,    30.7738,  -122.2725,       4142,   129.6,  11.2450,  33.2490,2,  33.2506,2, 209.2000,2,   209.3,2,    9.36,2,   13.63,2,    0.02,2,    1.17,2,-999.000,9,-999.000,9,-999.000,9,  2082.2,2,  2219.8,2,-999.000,9,-999.0000,9, -999.00,9, -999.00,9,  -999.0,9,  -999.0,-999.000,9,-999.000,   57.10,2,  129.60,-999.0000,9,-999.0000,9,-999.0000,9,-999.0000,9,-999.0000,9,-999.0000,-999.000,-999.0000,9, -999.00
318M20040615,        P02,     175,          2,         30,         30,2,20040824,       0548,    30.7738,  -122.2725,       4142,   154.5,   9.7703,  33.4272,2,  33.4285,2, 169.6000,2,   176.1,2,   16.56,2,   18.74,2,    0.01,2,    1.50,2,   3.539,2,   1.975,2,   0.168,2,  2121.3,2,  2226.2,2,   0.830,2,   1.8054,2,    1.72,2, -999.00,9,  -999.0,9,  -999.0,-999.000,9,-999.000, -999.00,9,  154.50,-999.0000,9,-999.0000,9,-999.0000,9,-999.0000,9,-999.0000,9,   0.0090,   0.010,-999.0000,9,    0.20
318M20040615,        P02,     175,          2,         29,         29,2,20040824,       0548,    30.7738,  -122.2725,       4142,   179.1,   9.1217,  33.7102,2,  33.7093,2, 155.6000,2,   156.1,2,   22.58,2,   22.30,2,    0.00,2,    1.69,2,-999.000,9,-999.000,9,-999.000,9,  2151.6,2,  2241.7,2,-999.000,9,-999.0000,9, -999.00,9, -999.00,9,  -999.0,9,  -999.0,-999.000,9,-999.000,   51.50,2,  179.10,-999.0000,9,-999.0000,9,-999.0000,9,-999.0000,9,-999.0000,9,-999.0000,-999.000,-999.0000,9, -999.00
318M20040615,        P02,     175,          2,         28,         28,2,20040824,       0548,    30.7738,  -122.2725,       4142,   219.1,   8.6506,  33.9748,2,  33.9768,2, 134.4000,2,   133.9,2,   29.81,2,   25.40,2,    0.00,2,    1.86,2,   3.013,2,   1.617,2,   0.121,2,  2177.4,2,  2258.9,2,   0.789,2,   1.8068,2,    6.14,2, -999.00,9,  -999.0,9,  -999.0,-999.000,9,-999.000,   46.20,2,  219.10,-999.0000,9,-999.0000,9,-999.0000,9,-999.0000,9,-999.0000,9,   0.0090,   0.009,-999.0000,9,    0.20
318M20040615,        P02,     175,          2,         27,         27,2,20040824,       0548,    30.7738,  -122.2725,       4142,   253.8,   8.2187,  34.0395,2,  34.0409,2, 110.3000,2,   112.0,2,   36.24,2,   28.37,2,    0.00,2,    2.07,2,-999.000,9,-999.000,9,-999.000,9,  2203.2,2,  2268.4,2,-999.000,9,-999.0000,9, -999.00,9, -999.00,9,  -999.0,9,  -999.0,-999.000,9,-999.000,   63.00,2,  253.80,-999.0000,9,-999.0000,9,-999.0000,9,-999.0000,9,-999.0000,9,-999.0000,-999.000,-999.0000,9, -999.00
318M20040615,        P02,     175,          2,         26,         26,2,20040824,       0548,    30.7738,  -122.2725,       4142,   304.1,   7.4435,  34.0685,2,  34.0669,2,  86.4000,2,    87.6,2,   45.73,2,   31.96,2,    0.00,2,    2.34,2,   1.986,2,   1.021,2,   0.079,2,  2229.6,2,  2276.1,2,   0.738,2,   1.8241,2,   12.84,2, -999.00,9,  -999.0,9,  -999.0,-999.000,9,-999.000, -999.00,9,  304.10,-999.0000,9,-999.0000,9,-999.0000,9,-999.0000,9,-999.0000,9,   0.0091,   0.008,-999.0000,9,    0.20
318M20040615,        P02,     175,          2,         25,         25,2,20040824,       0548,    30.7738,  -122.2725,       4142,   354.0,   6.8834,  34.1071,2,  34.1084,2,  69.2000,2,    62.1,2,   54.43,2,   35.04,2,    0.00,2,    2.59,2,-999.000,9,-999.000,9,-999.000,9,  2257.0,2,  2288.0,2,-999.000,9,-999.0000,9, -999.00,9, -999.00,9,  -999.0,9,  -999.0,-999.000,9,-999.000,   45.50,2,  354.00,-999.0000,9,-999.0000,9,-999.0000,9,-999.0000,9,-999.0000,9,-999.0000,-999.000,-999.0000,9, -999.00
318M20040615,        P02,     175,          2,         24,         24,2,20040824,       0548,    30.7738,  -122.2725,       4142,   403.8,   6.2483,  34.0968,2,  34.0988,2,  49.2000,2,    52.3,2,   62.53,2,   37.28,2,    0.00,2,    2.73,2,   1.075,2,   0.549,2,   0.034,2,  2273.4,6,  2292.5,2,   0.513,2,   1.8323,2,   15.64,2, -999.00,9,  -999.0,9,  -999.0,-999.000,9,-999.000,   47.70,2,  403.80,-999.0000,9,-999.0000,9,-999.0000,9,-999.0000,9,-999.0000,9,   0.0092,   0.008,-999.0000,9,    0.20
318M20040615,        P02,     175,          2,         23,         23,2,20040824,       0548,    30.7738,  -122.2725,       4142,   453.5,   5.9500,  34.1372,2,  34.1427,2,  42.9000,2,    36.6,2,   70.45,2,   38.95,2,    0.00,2,    2.88,2,-999.000,9,-999.000,9,-999.000,9,  2290.4,2,  2303.3,2,-999.000,9,-999.0000,9, -999.00,9, -999.00,9,  -999.0,9,  -999.0,-999.000,9,-999.000, -999.00,9,  453.50,-999.0000,9,-999.0000,9,-999.0000,9,-999.0000,9,-999.0000,9,-999.0000,-999.000,-999.0000,9, -999.00
318M20040615,        P02,     175,          2,         22,         22,2,20040824,       0548,    30.7738,  -122.2725,       4142,   503.5,   5.6954,  34.1793,2,  34.1827,2,  30.1000,2,    27.0,2,   76.34,2,   39.97,2,    0.00,2,    2.97,2,   0.409,2,   0.211,2,   0.017,2,  2302.8,2,  2310.9,2,   0.367,2,   1.8506,2,   15.64,2, -999.00,9,  -999.0,9,  -999.0,-999.000,9,-999.000,   41.70,2,  503.50,-999.0000,9,-999.0000,9,-999.0000,9,-999.0000,9,-999.0000,9,   0.0093,   0.004,-999.0000,9,    0.20
318M20040615,        P02,     175,          2,         21,         21,2,20040824,       0548,    30.7738,  -122.2725,       4142,   603.4,   5.3234,  34.2832,2,  34.2889,2,  14.5000,2,    13.5,2,   86.95,2,   41.43,2,    0.00,2,    3.13,2,   0.123,2,   0.061,2,   0.000,2,  2324.4,2,  2330.5,2,   0.114,2,   1.6131,2,   12.79,2, -999.00,9,  -999.0,9,  -999.0,-999.000,9,-999.000,   41.40,2,  603.40,-999.0000,9,-999.0000,9,-999.0000,9,-999.0000,9,-999.0000,9,   0.0081,   0.003,-999.0000,9,    0.20
318M20040615,        P02,     175,          2,         20,         20,2,20040824,       0548,    30.7738,  -122.2725,       4142,   708.8,   4.9105,  34.3666,2,  34.3676,2,  11.3000,2,    11.1,2,   96.38,2,   42.52,2,    0.00,2,    3.19,2,   0.048,2,   0.030,2,   0.000,2,  2341.3,2,  2345.8,2,-999.000,9,   1.8801,2,   14.36,2, -999.00,9,  -999.0,9,  -999.0,-999.000,9,-999.000,   39.70,2,  708.80,-999.0000,9,-999.0000,9,-999.0000,9,-999.0000,9,-999.0000,9,   0.0094,-999.000,-999.0000,9,    0.20
318M20040615,        P02,     175,          2,         19,         19,2,20040824,       0548,    30.7738,  -122.2725,       4142,   808.3,   4.5672,  34.4260,2,  34.4266,2,  13.6000,2,    14.8,2,  103.56,2,   43.01,2,    0.00,2,    3.21,2,   0.038,2,   0.022,2,   0.000,2,  2351.4,2,  2359.3,2,   0.011,2,   1.8789,2,   16.39,2, -999.00,9,  -999.0,9,  -999.0,-999.000,9,-999.000,   38.40,2,  808.30,-999.0000,9,-999.0000,9,-999.0000,9,-999.0000,9,-999.0000,9,   0.0094,   0.001,-999.0000,9,    0.20
318M20040615,        P02,     175,          2,         18,         18,2,20040824,       0548,    30.7738,  -122.2725,       4142,   908.8,   4.2697,  34.4572,2,  34.4584,2,  17.3000,2,    18.7,2,  110.34,2,   43.39,2,    0.00,2,    3.21,2,   0.045,2,   0.029,2,   0.000,2,  2358.6,2,  2367.1,6,   0.006,2,   1.8659,2,   18.18,2, -999.00,9,  -999.0,9,  -999.0,-999.000,9,-999.000, -999.00,9,  908.80,-999.0000,9,-999.0000,9,-999.0000,9,-999.0000,9,-999.0000,9,   0.0093,   0.001,-999.0000,9,    0.20
318M20040615,        P02,     175,          2,         17,         17,2,20040824,       0548,    30.7738,  -122.2725,       4142,  1008.1,   3.9861,  34.4817,2,  34.4841,2,  22.1000,2,    23.5,2,  117.77,2,   43.56,2,    0.00,2,    3.20,2,   0.045,2,   0.033,2,   0.000,2,  2360.7,2,  2375.3,2,   0.030,2,   1.8951,2,   20.13,2, -999.00,9,  -999.0,9,  -999.0,-999.000,9,-999.000,   36.20,2, 1008.10,-999.0000,9,-999.0000,9,-999.0000,9,-999.0000,9,-999.0000,9,   0.0095,   0.001,-999.0000,9,    0.20
318M20040615,        P02,     175,          2,         16,         16,2,20040824,       0548,    30.7738,  -122.2725,       4142,  1113.3,   3.6681,  34.5061,2,  34.5063,2,  28.0000,2,    28.4,2,  123.96,2,   43.71,2,    0.00,2,    3.18,2,-999.000,9,-999.000,9,-999.000,9,  2365.8,2,  2383.4,2,-999.000,9,-999.0000,9, -999.00,9, -999.00,9,  -999.0,9,  -999.0,-999.000,9,-999.000, -999.00,9, 1113.30,-999.0000,9,-999.0000,9,-999.0000,9,-999.0000,9,-999.0000,9,-999.0000,-999.000,-999.0000,9, -999.00
318M20040615,        P02,     175,          2,         15,         15,2,20040824,       0548,    30.7738,  -122.2725,       4142,  1213.7,   3.4239,  34.5275,2,  34.5282,2,  34.1000,2,    34.9,2,  129.33,2,   43.66,2,    0.00,2,    3.16,2,   0.040,2,   0.034,2,   0.000,2,  2370.2,2,  2390.4,2,   0.010,2,   1.9159,2,   21.71,2, -999.00,9,  -999.0,9,  -999.0,-999.000,9,-999.000,   36.40,2, 1213.70,-999.0000,9,-999.0000,9,-999.0000,9,-999.0000,9,-999.0000,9,   0.0096,   0.001,-999.0000,9,    0.20
318M20040615,        P02,     175,          2,         14,         14,2,20040824,       0548,    30.7738,  -122.2725,       4142,  1313.1,   3.1865,  34.5454,2,  34.5459,2,  40.2000,2,    39.7,2,  135.33,2,   43.27,2,    0.00,2,    3.13,2,-999.000,9,-999.000,9,-999.000,9,  2371.4,2,  2397.0,2,-999.000,9,-999.0000,9, -999.00,9, -999.00,9,  -999.0,9,  -999.0,-999.000,9,-999.000, -999.00,9, 1313.10,-999.0000,9,-999.0000,9,-999.0000,9,-999.0000,9,-999.0000,9,-999.0000,-999.000,-999.0000,9, -999.00
318M20040615,        P02,     175,          2,         13,         13,2,20040824,       0548,    30.7738,  -122.2725,       4142,  1413.2,   2.9764,  34.5592,2,  34.5606,2,  45.8000,2,    45.4,2,  140.52,2,   42.99,2,    0.00,2,    3.09,2,   0.029,2,   0.026,2,   0.000,2,  2372.7,2,  2399.6,2,   0.011,2,   1.9185,2,   23.84,2, -999.00,9,  -999.0,9,  -999.0,-999.000,9,-999.000, -999.00,9, 1413.20,-999.0000,9,-999.0000,9,-999.0000,9,-999.0000,9,-999.0000,9,   0.0096,   0.001,-999.0000,9,    0.20
318M20040615,        P02,     175,          2,         12,         12,2,20040824,       0548,    30.7738,  -122.2725,       4142,  1514.2,   2.8031,  34.5697,2,  34.5710,2,  51.2000,2,    50.7,2,  144.63,2,   42.65,2,    0.00,2,    3.07,2,-999.000,9,-999.000,9,-999.000,9,  2373.1,2,  2405.9,2,-999.000,9,-999.0000,9, -999.00,9, -999.00,9,  -999.0,9,  -999.0,-999.000,9,-999.000,   35.60,2, 1514.20,-999.0000,9,-999.0000,9,-999.0000,9,-999.0000,9,-999.0000,9,-999.0000,-999.000,-999.0000,9, -999.00
318M20040615,        P02,     175,          2,         11,         11,2,20040824,       0548,    30.7738,  -122.2725,       4142,  1620.0,   2.6202,  34.5827,2,  34.5841,2,  57.4000,2,    56.4,2,  150.07,2,   42.28,2,    0.00,2,    3.03,2,   0.018,2,   0.019,2,   0.000,2,  2376.1,2,  2408.4,2,   0.006,2,   1.9188,2,   24.72,2, -999.00,9,  -999.0,9,  -999.0,-999.000,9,-999.000, -999.00,9, 1620.00,-999.0000,9,-999.0000,9,-999.0000,9,-999.0000,9,-999.0000,9,   0.0096,   0.000,-999.0000,9,    0.20
318M20040615,        P02,     175,          2,          5,          5,2,20040824,       0548,    30.7738,  -122.2725,       4142,  1820.5,   2.3215,  34.6060,2,  34.6071,2,  69.5000,2,    69.2,2,  156.59,2,   41.83,2,    0.00,2,    2.95,2,-999.000,9,-999.000,9,-999.000,9,  2373.8,2,  2417.5,2,-999.000,9,-999.0000,9, -999.00,9, -999.00,9,  -999.0,9,  -999.0,-999.000,9,-999.000, -999.00,9, 1820.50,-999.0000,9,-999.0000,9,-999.0000,9,-999.0000,9,-999.0000,9,-999.0000,-999.000,-999.0000,9, -999.00
318M20040615,        P02,     175,          2,          4,          4,2,20040824,       0548,    30.7738,  -122.2725,       4142,  2027.4,   2.0931,  34.6259,2,  34.6260,2,  82.3000,2,    81.7,2,  159.90,2,   40.90,2,    0.00,2,    2.89,2,   0.008,2,   0.009,2,   0.000,2,  2370.6,2,  2424.5,2,   0.015,2,-999.0000,9, -999.00,9, -999.00,9,  -999.0,9,  -999.0,-999.000,9,-999.000,   36.70,2, 2027.40,-999.0000,9,-999.0000,9,-999.0000,9,-999.0000,9,-999.0000,9,-999.0000,   0.000,-999.0000,9, -999.00
318M20040615,        P02,     175,          2,          3,          3,2,20040824,       0548,    30.7738,  -122.2725,       4142,  2279.9,   1.9063,  34.6440,2,  34.6446,2,  94.4000,2,    95.1,2,  163.00,2,   40.02,2,    0.00,2,    2.81,2,   0.002,2,   0.003,2,   0.000,2,  2365.8,2,  2427.5,2,-999.000,9,   1.9408,2,   24.23,2, -999.00,9,  -999.0,9,  -999.0,-999.000,9,-999.000, -999.00,9, 2279.90,-999.0000,9,-999.0000,9,-999.0000,9,-999.0000,9,-999.0000,9,   0.0097,-999.000,-999.0000,9,    0.20
318M20040615,        P02,     175,          2,          2,          2,2,20040824,       0548,    30.7738,  -122.2725,       4142,  2536.6,   1.7891,  34.6545,2,  34.6554,2, 103.5000,2,   104.2,2,  164.65,2,   39.37,2,    0.00,2,    2.76,2,   0.003,2,   0.007,2,   0.000,2,  2361.4,2,  2431.0,2,   0.008,2,   1.9426,2,   22.78,2, -999.00,9,  -999.0,9,  -999.0,-999.000,9,-999.000, -999.00,9, 2536.60,-999.0000,9,-999.0000,9,-999.0000,9,-999.0000,9,-999.0000,9,   0.0097,   0.000,-999.0000,9,    0.20
318M20040615,        P02,     175,          2,          1,          1,2,20040824,       0548,    30.7738,  -122.2725,       4142,  2895.3,   1.6685,  34.6647,2,  34.6656,2, 114.3000,2,   114.7,2,  166.53,2,   38.72,2,    0.00,2,    2.71,2,   0.006,6,   0.007,6,   0.000,6,  2359.3,2,  2433.3,2,-999.000,9,-999.0000,9, -999.00,9, -999.00,9,  -999.0,9,  -999.0,-999.000,9,-999.000,   36.20,2, 2895.30,-999.0000,9,-999.0000,9,-999.0000,9,-999.0000,9,-999.0000,9,-999.0000,-999.000,-999.0000,9, -999.00
318M20040615,        P02,     175,          2,         10,         10,2,20040824,       0548,    30.7738,  -122.2725,       4142,  3248.6,   1.5971,  34.6710,2,  34.6707,2, 121.4000,2,   121.6,2,  168.56,2,   38.21,2,    0.00,2,    2.66,2,   0.013,2,   0.012,2,   0.000,2,  2352.7,2,  2437.6,2,   0.021,2,   1.9300,2,   20.45,2, -999.00,9,  -999.0,9,  -999.0,-999.000,9,-999.000,   35.30,2, 3248.60,-999.0000,9,-999.0000,9,-999.0000,9,-999.0000,9,-999.0000,9,   0.0097,   0.001,-999.0000,9,    0.20
318M20040615,        P02,     175,          2,          9,          9,2,20040824,       0548,    30.7738,  -122.2725,       4142,  3557.7,   1.5517,  34.6762,2,  34.6770,2, 127.6000,2,   128.2,2,  168.54,2,   37.83,2,    0.00,2,    2.63,2,   0.018,2,   0.016,2,   0.000,2,  2350.3,2,  2433.7,2,   0.027,2,   1.9288,2,   19.04,2, -999.00,9,  -999.0,9,  -999.0,-999.000,9,-999.000, -999.00,9, 3557.70,-999.0000,9,-999.0000,9,-999.0000,9,-999.0000,9,-999.0000,9,   0.0096,   0.001,-999.0000,9,    0.20
318M20040615,        P02,     175,          2,          8,          8,2,20040824,       0548,    30.7738,  -122.2725,       4142,  3811.2,   1.5342,  34.6801,2,  34.6789,2, 131.8000,2,   132.3,2,  167.87,2,   37.72,2,    0.00,2,    2.60,2,   0.023,2,   0.021,2,   0.000,2,  2348.3,2,  2436.0,2,-999.000,9,   1.9213,2,   16.63,2, -999.00,9,  -999.0,9,  -999.0,-999.000,9,-999.000,   35.30,2, 3811.20,-999.0000,9,-999.0000,9,-999.0000,9,-999.0000,9,-999.0000,9,   0.0096,-999.000,-999.0000,9,    0.20
318M20040615,        P02,     175,          2,          7,          7,2,20040824,       0548,    30.7738,  -122.2725,       4142,  3983.1,   1.5422,  34.6809,2,  34.6811,2, 133.0000,2,   133.9,2,  168.46,2,   37.72,2,    0.00,2,    2.59,2,   0.022,2,   0.021,2,   0.000,2,  2347.8,6,  2434.1,2,   0.041,2,   1.9207,2,   15.83,2, -999.00,9,  -999.0,9,  -999.0,-999.000,9,-999.000,   35.70,2, 3983.10,-999.0000,9,-999.0000,9,-999.0000,9,-999.0000,9,-999.0000,9,   0.0096,   0.001,-999.0000,9,    0.20
318M20040615,        P02,     175,          2,          6,          6,2,20040824,       0548,    30.7738,  -122.2725,       4142,  4186.9,   1.5555,  34.6817,2,  34.6830,2, 134.4000,2,   134.7,2,  168.84,2,   37.72,2,    0.00,2,    2.59,2,   0.022,2,   0.023,2,   0.000,2,  2345.9,2,  2437.0,6,   0.016,2,   1.9233,2,   16.48,2, -999.00,9,  -999.0,9,  -999.0,-999.000,9,-999.000,   36.30,2, 4186.90,-999.0000,9,-999.0000,9,-999.0000,9,-999.0000,9,-999.0000,9,   0.0096,   0.000,-999.0000,9,    0.20