BOTTLE,20131027SIOCCHRJL
EXPOCODE,SECT_ID,STNNBR,CASTNO,SAMPNO,BTLNBR,BTLNBR_FLAG_W,DATE,TIME,LATITUDE,LONGITUDE,DEPTH,CTDPRS,CTDTMP,CTDSAL,CTDSAL_FLAG_W,SALNTY,SALNTY_FLAG_W,CTDOXY,CTDOXY_FLAG_W,OXYGEN,OXYGEN_FLAG_W,SILCAT,SILCAT_FLAG_W,NITRAT,NITRAT_FLAG_W,NITRIT,NITRIT_FLAG_W,PHSPHT,PHSPHT_FLAG_W,CFC-11,CFC-11_FLAG_W,CFC-12,CFC-12_FLAG_W,CFC113,CFC113_FLAG_W,TCARBN,TCARBN_FLAG_W,ALKALI,ALKALI_FLAG_W,TRITUM,TRITUM_FLAG_W,HELIUM,HELIUM_FLAG_W,DELHE3,DELHE3_FLAG_W,DELC13,DELC13_FLAG_W,DELC14,DELC14_FLAG_W,C14ERR,NEON,NEON_FLAG_W,NEONER,DOC,DOC_FLAG_W,CTDRAW,CDOM380,CDOM380_FLAG_W,CDOM325,CDOM325_FLAG_W,CDOMSL,CDOMSL_FLAG_W,CDOM340,CDOM340_FLAG_W,CDOMSN,CDOMSN_FLAG_W,HELIER,TRITER,CDOM412,CDOM412_FLAG_W,DELHER
,,,,,,,,,,,METERS,DBAR,ITS-90,PSS-78,,PSS-78,,UMOL/KG,,UMOL/KG,,UMOL/KG,,UMOL/KG,,UMOL/KG,,UMOL/KG,,PMOL/KG,,PMOL/KG,,PMOL/KG,,UMOL/KG,,UMOL/KG,,TU,,NMOL/KG,,PERCNT,,/MILLE,,/MILLE,,/MILLE,NMOL/KG,,NMOL/KG,UMOL/KG,,DBAR,1/M,,1/M,,1/NM,,1/M,,1/NM,,NMOL/KG,TU,1/M,,PERCNT
318M20040615,        P02,     144,          1,         36,         36,2,20040815,       1332,    30.0002,  -141.3905,       4938,     5.5,  25.2358,  35.0319,2,  35.0307,2, 212.2000,2,   211.5,2,    1.16,2,    0.21,2,    0.00,2,    0.02,2,   1.901,2,   1.173,2,   0.141,2,  2013.7,6,  2309.9,6,-999.000,9,-999.0000,9, -999.00,9, -999.00,9,  -999.0,9,  -999.0,-999.000,9,-999.000, -999.00,9,    5.50,-999.0000,9,-999.0000,9,-999.0000,9,-999.0000,9,-999.0000,9,-999.0000,-999.000,-999.0000,9, -999.00
318M20040615,        P02,     144,          1,         35,         35,2,20040815,       1332,    30.0002,  -141.3905,       4938,    40.4,  23.5358,  34.9800,2,  34.9451,2, 228.7000,2,   227.8,2,    1.36,2,    0.21,2,    0.00,2,    0.02,2,-999.000,9,-999.000,9,-999.000,9,  -999.0,9,  2303.8,2,-999.000,9,-999.0000,9, -999.00,9, -999.00,9,  -999.0,9,  -999.0,-999.000,9,-999.000, -999.00,9,   40.40,-999.0000,9,-999.0000,9,-999.0000,9,-999.0000,9,-999.0000,9,-999.0000,-999.000,-999.0000,9, -999.00
318M20040615,        P02,     144,          1,         34,         34,2,20040815,       1332,    30.0002,  -141.3905,       4938,    84.7,  18.8220,  34.6066,2,  34.6119,2, 241.0000,2,   241.3,2,    1.96,2,    0.20,2,    0.00,2,    0.06,2,   2.465,2,   1.465,2,   0.168,2,  -999.0,9,  -999.0,9,-999.000,9,-999.0000,9, -999.00,9, -999.00,9,  -999.0,9,  -999.0,-999.000,9,-999.000, -999.00,9,   84.70,-999.0000,9,-999.0000,9,-999.0000,9,-999.0000,9,-999.0000,9,-999.0000,-999.000,-999.0000,9, -999.00
318M20040615,        P02,     144,          1,         33,         33,2,20040815,       1332,    30.0002,  -141.3905,       4938,   134.4,  15.4550,  34.2266,2,  34.2166,2, 230.2000,2,   230.5,2,    3.33,2,    1.61,2,    0.11,2,    0.25,2,   2.869,2,   1.672,2,   0.181,2,  -999.0,9,  -999.0,9,-999.000,9,-999.0000,9, -999.00,9, -999.00,9,  -999.0,9,  -999.0,-999.000,9,-999.000, -999.00,9,  134.40,-999.0000,9,-999.0000,9,-999.0000,9,-999.0000,9,-999.0000,9,-999.0000,-999.000,-999.0000,9, -999.00
318M20040615,        P02,     144,          1,         32,         32,2,20040815,       1332,    30.0002,  -141.3905,       4938,   184.9,  12.6420,  33.9480,2,  33.9424,2, 224.6000,2,   225.8,2,    6.66,2,    6.83,2,    0.01,2,    0.59,2,-999.000,9,-999.000,9,-999.000,9,  -999.0,9,  -999.0,9,-999.000,9,-999.0000,9, -999.00,9, -999.00,9,  -999.0,9,  -999.0,-999.000,9,-999.000, -999.00,9,  184.90,-999.0000,9,-999.0000,9,-999.0000,9,-999.0000,9,-999.0000,9,-999.0000,-999.000,-999.0000,9, -999.00
318M20040615,        P02,     144,          1,         31,         31,2,20040815,       1332,    30.0002,  -141.3905,       4938,   234.4,  11.0657,  33.9791,2,  33.9849,2, 220.3000,2,   224.7,2,   10.58,2,   10.94,2,    0.00,2,    0.82,2,   3.491,2,   1.968,2,   0.116,2,  -999.0,9,  -999.0,9,-999.000,9,-999.0000,9, -999.00,9, -999.00,9,  -999.0,9,  -999.0,-999.000,9,-999.000, -999.00,9,  234.40,-999.0000,9,-999.0000,9,-999.0000,9,-999.0000,9,-999.0000,9,-999.0000,-999.000,-999.0000,9, -999.00
318M20040615,        P02,     144,          1,         30,         30,2,20040815,       1332,    30.0002,  -141.3905,       4938,   289.0,  10.0975,  34.0579,2,  34.0562,2, 212.5000,2,   214.7,2,   16.27,2,   14.87,2,    0.00,2,    1.06,2,-999.000,9,-999.000,9,-999.000,9,  -999.0,9,  -999.0,9,-999.000,9,-999.0000,9, -999.00,9, -999.00,9,  -999.0,9,  -999.0,-999.000,9,-999.000, -999.00,9,  289.00,-999.0000,9,-999.0000,9,-999.0000,9,-999.0000,9,-999.0000,9,-999.0000,-999.000,-999.0000,9, -999.00
318M20040615,        P02,     144,          1,         29,         29,2,20040815,       1332,    30.0002,  -141.3905,       4938,   338.8,   9.4290,  34.1018,2,  34.1009,2, 197.6000,2,   197.8,2,   21.77,2,   18.03,2,    0.00,2,    1.26,2,   3.372,2,   1.807,2,   0.098,2,  -999.0,9,  -999.0,9,-999.000,9,-999.0000,9, -999.00,9, -999.00,9,  -999.0,9,  -999.0,-999.000,9,-999.000, -999.00,9,  338.80,-999.0000,9,-999.0000,9,-999.0000,9,-999.0000,9,-999.0000,9,-999.0000,-999.000,-999.0000,9, -999.00
318M20040615,        P02,     144,          1,         28,         28,2,20040815,       1332,    30.0002,  -141.3905,       4938,   388.6,   8.5922,  34.0652,2,  34.0654,2, 173.4000,2,   178.8,2,   28.86,2,   21.68,2,    0.00,2,    1.52,2,   3.193,2,   1.681,2,   0.133,2,  -999.0,9,  -999.0,9,-999.000,9,-999.0000,9, -999.00,9, -999.00,9,  -999.0,9,  -999.0,-999.000,9,-999.000, -999.00,9,  388.60,-999.0000,9,-999.0000,9,-999.0000,9,-999.0000,9,-999.0000,9,-999.0000,-999.000,-999.0000,9, -999.00
318M20040615,        P02,     144,          1,         27,         27,2,20040815,       1332,    30.0002,  -141.3905,       4938,   439.1,   7.4079,  34.0244,2,  34.0245,2, 144.8000,2,   145.6,2,   41.29,2,   27.40,2,    0.00,2,    1.91,2,-999.000,9,-999.000,9,-999.000,9,  -999.0,9,  -999.0,9,-999.000,9,-999.0000,9, -999.00,9, -999.00,9,  -999.0,9,  -999.0,-999.000,9,-999.000, -999.00,9,  439.10,-999.0000,9,-999.0000,9,-999.0000,9,-999.0000,9,-999.0000,9,-999.0000,-999.000,-999.0000,9, -999.00
318M20040615,        P02,     144,          1,         26,         26,2,20040815,       1332,    30.0002,  -141.3905,       4938,   489.2,   6.5700,  34.0083,2,  34.0061,2, 124.2000,2,   124.3,2,   52.19,2,   31.11,2,    0.00,2,    2.18,2,   2.069,2,   1.019,2,   0.068,2,  -999.0,9,  -999.0,9,-999.000,9,-999.0000,9, -999.00,9, -999.00,9,  -999.0,9,  -999.0,-999.000,9,-999.000, -999.00,9,  489.20,-999.0000,9,-999.0000,9,-999.0000,9,-999.0000,9,-999.0000,9,-999.0000,-999.000,-999.0000,9, -999.00
318M20040615,        P02,     144,          1,         25,         25,2,20040815,       1332,    30.0002,  -141.3905,       4938,   574.0,   5.5009,  34.0364,2,  34.0384,2,  76.8000,2,    74.8,2,   70.06,2,   37.16,2,    0.00,2,    2.64,2,   1.023,2,   0.498,2,   0.029,2,  -999.0,9,  -999.0,9,-999.000,9,-999.0000,9, -999.00,9, -999.00,9,  -999.0,9,  -999.0,-999.000,9,-999.000, -999.00,9,  574.00,-999.0000,9,-999.0000,9,-999.0000,9,-999.0000,9,-999.0000,9,-999.0000,-999.000,-999.0000,9, -999.00
318M20040615,        P02,     144,          1,         24,         24,2,20040815,       1332,    30.0002,  -141.3905,       4938,   674.0,   4.6534,  34.1394,2,  34.1403,2,  39.3000,2,    34.8,2,   92.03,2,   41.70,2,    0.00,2,    2.98,2,   0.272,2,   0.139,2,   0.000,2,  -999.0,9,  -999.0,9,-999.000,9,-999.0000,9, -999.00,9, -999.00,9,  -999.0,9,  -999.0,-999.000,9,-999.000, -999.00,9,  674.00,-999.0000,9,-999.0000,9,-999.0000,9,-999.0000,9,-999.0000,9,-999.0000,-999.000,-999.0000,9, -999.00
318M20040615,        P02,     144,          1,         23,         23,2,20040815,       1332,    30.0002,  -141.3905,       4938,   779.4,   4.2524,  34.2493,2,  34.2470,2,  18.0000,2,    16.6,2,  105.67,2,   43.43,2,    0.00,2,    3.14,2,   0.066,2,   0.037,2,   0.000,2,  -999.0,9,  -999.0,9,-999.000,9,-999.0000,9, -999.00,9, -999.00,9,  -999.0,9,  -999.0,-999.000,9,-999.000, -999.00,9,  779.40,-999.0000,9,-999.0000,9,-999.0000,9,-999.0000,9,-999.0000,9,-999.0000,-999.000,-999.0000,9, -999.00
318M20040615,        P02,     144,          1,         22,         22,2,20040815,       1332,    30.0002,  -141.3905,       4938,   878.8,   3.9725,  34.3424,2,  34.3425,2,  13.2000,2,    13.0,2,  115.74,2,   43.91,2,    0.00,2,    3.20,2,   0.025,2,   0.014,2,   0.000,2,  -999.0,9,  -999.0,9,-999.000,9,-999.0000,9, -999.00,9, -999.00,9,  -999.0,9,  -999.0,-999.000,9,-999.000, -999.00,9,  878.80,-999.0000,9,-999.0000,9,-999.0000,9,-999.0000,9,-999.0000,9,-999.0000,-999.000,-999.0000,9, -999.00
318M20040615,        P02,     144,          1,         21,         21,2,20040815,       1332,    30.0002,  -141.3905,       4938,   978.9,   3.7369,  34.4068,2,  34.4078,2,  16.6000,2,    17.5,2,  122.01,2,   43.79,2,    0.00,2,    3.19,2,   0.022,6,   0.013,6,   0.000,6,  -999.0,9,  -999.0,9,-999.000,9,-999.0000,9, -999.00,9, -999.00,9,  -999.0,9,  -999.0,-999.000,9,-999.000, -999.00,9,  978.90,-999.0000,9,-999.0000,9,-999.0000,9,-999.0000,9,-999.0000,9,-999.0000,-999.000,-999.0000,9, -999.00
318M20040615,        P02,     144,          1,         20,         20,2,20040815,       1332,    30.0002,  -141.3905,       4938,  1079.0,   3.5121,  34.4561,2,  34.4589,2,  23.4000,2,    25.1,2,  127.50,2,   43.68,2,    0.00,2,    3.17,2,   0.013,2,   0.008,2,   0.000,2,  -999.0,9,  -999.0,9,-999.000,9,-999.0000,9, -999.00,9, -999.00,9,  -999.0,9,  -999.0,-999.000,9,-999.000, -999.00,9, 1079.00,-999.0000,9,-999.0000,9,-999.0000,9,-999.0000,9,-999.0000,9,-999.0000,-999.000,-999.0000,9, -999.00
318M20040615,        P02,     144,          1,         19,         19,2,20040815,       1332,    30.0002,  -141.3905,       4938,  1184.6,   3.2876,  34.4945,2,  34.4940,2,  32.8000,2,    33.5,2,  131.96,2,   43.29,2,    0.00,2,    3.13,2,   0.011,2,   0.007,2,   0.000,2,  -999.0,9,  -999.0,9,-999.000,9,-999.0000,9, -999.00,9, -999.00,9,  -999.0,9,  -999.0,-999.000,9,-999.000, -999.00,9, 1184.60,-999.0000,9,-999.0000,9,-999.0000,9,-999.0000,9,-999.0000,9,-999.0000,-999.000,-999.0000,9, -999.00
318M20040615,        P02,     144,          1,         18,         18,2,20040815,       1332,    30.0002,  -141.3905,       4938,  1284.7,   3.0981,  34.5192,2,  34.5201,2,  39.6000,2,    40.5,2,  135.82,2,   42.94,2,    0.00,2,    3.09,2,   0.009,2,   0.006,2,   0.000,2,  -999.0,9,  -999.0,9,-999.000,9,-999.0000,9, -999.00,9, -999.00,9,  -999.0,9,  -999.0,-999.000,9,-999.000, -999.00,9, 1284.70,-999.0000,9,-999.0000,9,-999.0000,9,-999.0000,9,-999.0000,9,-999.0000,-999.000,-999.0000,9, -999.00
318M20040615,        P02,     144,          1,         17,         17,2,20040815,       1332,    30.0002,  -141.3905,       4938,  1385.2,   2.9186,  34.5395,2,  34.5398,2,  46.5000,2,    46.1,2,  139.88,2,   42.88,2,    0.00,2,    3.07,2,   0.012,2,   0.008,2,   0.000,2,  -999.0,9,  -999.0,9,-999.000,9,-999.0000,9, -999.00,9, -999.00,9,  -999.0,9,  -999.0,-999.000,9,-999.000, -999.00,9, 1385.20,-999.0000,9,-999.0000,9,-999.0000,9,-999.0000,9,-999.0000,9,-999.0000,-999.000,-999.0000,9, -999.00
318M20040615,        P02,     144,          1,         16,         16,2,20040815,       1332,    30.0002,  -141.3905,       4938,  1485.5,   2.7425,  34.5562,2,  34.5567,2,  52.3000,2,    52.2,2,  144.57,2,   42.87,2,    0.00,2,    3.03,2,-999.000,9,-999.000,9,-999.000,9,  -999.0,9,  -999.0,9,-999.000,9,-999.0000,9, -999.00,9, -999.00,9,  -999.0,9,  -999.0,-999.000,9,-999.000, -999.00,9, 1485.50,-999.0000,9,-999.0000,9,-999.0000,9,-999.0000,9,-999.0000,9,-999.0000,-999.000,-999.0000,9, -999.00
318M20040615,        P02,     144,          1,         15,         15,2,20040815,       1332,    30.0002,  -141.3905,       4938,  1585.5,   2.5997,  34.5692,2,  34.5700,2,  57.7000,2,    57.5,2,  148.45,2,   42.60,2,    0.00,2,    3.00,2,   0.011,2,   0.008,2,   0.000,2,  -999.0,9,  -999.0,9,-999.000,9,-999.0000,9, -999.00,9, -999.00,9,  -999.0,9,  -999.0,-999.000,9,-999.000, -999.00,9, 1585.50,-999.0000,9,-999.0000,9,-999.0000,9,-999.0000,9,-999.0000,9,-999.0000,-999.000,-999.0000,9, -999.00
318M20040615,        P02,     144,          1,         14,         14,2,20040815,       1332,    30.0002,  -141.3905,       4938,  1791.2,   2.3109,  34.5941,2,  34.5946,2,  67.5000,2,    67.0,2,  156.00,2,   41.87,2,    0.00,2,    2.95,2,-999.000,9,-999.000,9,-999.000,9,  -999.0,9,  -999.0,9,-999.000,9,-999.0000,9, -999.00,9, -999.00,9,  -999.0,9,  -999.0,-999.000,9,-999.000, -999.00,9, 1791.20,-999.0000,9,-999.0000,9,-999.0000,9,-999.0000,9,-999.0000,9,-999.0000,-999.000,-999.0000,9, -999.00
318M20040615,        P02,     144,          1,         13,         13,2,20040815,       1332,    30.0002,  -141.3905,       4938,  1992.7,   2.0974,  34.6137,2,  34.6138,2,  76.9000,2,    76.9,2,  161.72,2,   41.21,2,    0.00,2,    2.91,2,   0.008,2,   0.003,2,   0.000,2,  -999.0,9,  -999.0,9,-999.000,9,-999.0000,9, -999.00,9, -999.00,9,  -999.0,9,  -999.0,-999.000,9,-999.000, -999.00,9, 1992.70,-999.0000,9,-999.0000,9,-999.0000,9,-999.0000,9,-999.0000,9,-999.0000,-999.000,-999.0000,9, -999.00
318M20040615,        P02,     144,          1,         12,         12,2,20040815,       1332,    30.0002,  -141.3905,       4938,  2194.9,   1.9060,  34.6307,2,  34.6309,2,  86.8000,2,    87.4,2,  166.43,2,   40.50,2,    0.00,2,    2.85,2,-999.000,9,-999.000,9,-999.000,9,  -999.0,9,  -999.0,9,-999.000,9,-999.0000,9, -999.00,9, -999.00,9,  -999.0,9,  -999.0,-999.000,9,-999.000, -999.00,9, 2194.90,-999.0000,9,-999.0000,9,-999.0000,9,-999.0000,9,-999.0000,9,-999.0000,-999.000,-999.0000,9, -999.00
318M20040615,        P02,     144,          1,         11,         11,2,20040815,       1332,    30.0002,  -141.3905,       4938,  2452.0,   1.7537,  34.6457,2,  34.6510,2,  97.5000,3,    99.0,2,  168.29,2,   39.73,2,    0.00,2,    2.78,2,   0.006,2,   0.005,2,   0.000,2,  -999.0,9,  -999.0,9,-999.000,9,-999.0000,9, -999.00,9, -999.00,9,  -999.0,9,  -999.0,-999.000,9,-999.000, -999.00,9, 2452.00,-999.0000,9,-999.0000,9,-999.0000,9,-999.0000,9,-999.0000,9,-999.0000,-999.000,-999.0000,9, -999.00
318M20040615,        P02,     144,          1,         10,         10,2,20040815,       1332,    30.0002,  -141.3905,       4938,  2704.8,   1.6531,  34.6560,2,  34.6561,2, 107.7000,2,   108.8,2,  168.74,2,   39.02,2,    0.00,2,    2.73,2,-999.000,9,-999.000,9,-999.000,9,  -999.0,9,  -999.0,9,-999.000,9,-999.0000,9, -999.00,9, -999.00,9,  -999.0,9,  -999.0,-999.000,9,-999.000, -999.00,9, 2704.80,-999.0000,9,-999.0000,9,-999.0000,9,-999.0000,9,-999.0000,9,-999.0000,-999.000,-999.0000,9, -999.00
318M20040615,        P02,     144,          1,          9,          9,2,20040815,       1332,    30.0002,  -141.3905,       4938,  2962.2,   1.5777,  34.6646,2,  34.6645,2, 117.1000,2,   118.2,2,  167.34,2,   38.43,2,    0.00,2,    2.67,2,   0.007,2,   0.006,2,   0.000,2,  -999.0,9,  -999.0,9,-999.000,9,-999.0000,9, -999.00,9, -999.00,9,  -999.0,9,  -999.0,-999.000,9,-999.000, -999.00,9, 2962.20,-999.0000,9,-999.0000,9,-999.0000,9,-999.0000,9,-999.0000,9,-999.0000,-999.000,-999.0000,9, -999.00
318M20040615,        P02,     144,          1,          8,          8,2,20040815,       1332,    30.0002,  -141.3905,       4938,  3300.7,   1.5166,  34.6732,2,  34.6734,2, 127.5000,2,   128.6,2,  165.29,2,   37.66,2,    0.00,2,    2.62,2,-999.000,9,-999.000,9,-999.000,9,  -999.0,9,  -999.0,9,-999.000,9,-999.0000,9, -999.00,9, -999.00,9,  -999.0,9,  -999.0,-999.000,9,-999.000, -999.00,9, 3300.70,-999.0000,9,-999.0000,9,-999.0000,9,-999.0000,9,-999.0000,9,-999.0000,-999.000,-999.0000,9, -999.00
318M20040615,        P02,     144,          1,          7,          7,2,20040815,       1332,    30.0002,  -141.3905,       4938,  3605.0,   1.4861,  34.6793,2,  34.6789,2, 136.7000,2,   136.4,2,  162.86,2,   37.28,2,    0.00,2,    2.58,2,   0.007,2,   0.005,2,   0.000,2,  -999.0,9,  -999.0,9,-999.000,9,-999.0000,9, -999.00,9, -999.00,9,  -999.0,9,  -999.0,-999.000,9,-999.000, -999.00,9, 3605.00,-999.0000,9,-999.0000,9,-999.0000,9,-999.0000,9,-999.0000,9,-999.0000,-999.000,-999.0000,9, -999.00
318M20040615,        P02,     144,          1,          6,          6,2,20040815,       1332,    30.0002,  -141.3905,       4938,  3812.3,   1.4766,  34.6826,2,  34.6828,2, 140.8000,2,   141.1,2,  160.84,2,   37.17,2,    0.00,2,    2.56,2,   0.007,2,   0.006,2,   0.000,2,  -999.0,9,  -999.0,9,-999.000,9,-999.0000,9, -999.00,9, -999.00,9,  -999.0,9,  -999.0,-999.000,9,-999.000, -999.00,9, 3812.30,-999.0000,9,-999.0000,9,-999.0000,9,-999.0000,9,-999.0000,9,-999.0000,-999.000,-999.0000,9, -999.00
318M20040615,        P02,     144,          1,          5,          5,2,20040815,       1332,    30.0002,  -141.3905,       4938,  4014.7,   1.4805,  34.6846,2,  34.6850,2, 144.0000,2,   144.1,2,  159.42,2,   37.10,2,    0.00,2,    2.54,2,   0.007,2,   0.006,2,   0.000,2,  -999.0,9,  -999.0,9,-999.000,9,-999.0000,9, -999.00,9, -999.00,9,  -999.0,9,  -999.0,-999.000,9,-999.000, -999.00,9, 4014.70,-999.0000,9,-999.0000,9,-999.0000,9,-999.0000,9,-999.0000,9,-999.0000,-999.000,-999.0000,9, -999.00
318M20040615,        P02,     144,          1,          4,          4,2,20040815,       1332,    30.0002,  -141.3905,       4938,  4221.0,   1.4877,  34.6864,2,  34.6865,2, 146.9000,2,   147.0,2,  158.00,2,   36.82,2,    0.00,2,    2.52,2,   0.010,2,   0.008,2,   0.000,2,  -999.0,9,  -999.0,9,-999.000,9,-999.0000,9, -999.00,9, -999.00,9,  -999.0,9,  -999.0,-999.000,9,-999.000, -999.00,9, 4221.00,-999.0000,9,-999.0000,9,-999.0000,9,-999.0000,9,-999.0000,9,-999.0000,-999.000,-999.0000,9, -999.00
318M20040615,        P02,     144,          1,          3,          3,2,20040815,       1332,    30.0002,  -141.3905,       4938,  4446.2,   1.5031,  34.6875,2,  34.6873,2, 149.1000,2,   149.3,2,  156.38,2,   36.54,2,    0.00,2,    2.51,2,   0.007,2,   0.007,2,   0.000,2,  -999.0,9,  -999.0,9,-999.000,9,-999.0000,9, -999.00,9, -999.00,9,  -999.0,9,  -999.0,-999.000,9,-999.000, -999.00,9, 4446.20,-999.0000,9,-999.0000,9,-999.0000,9,-999.0000,9,-999.0000,9,-999.0000,-999.000,-999.0000,9, -999.00
318M20040615,        P02,     144,          1,          2,          2,2,20040815,       1332,    30.0002,  -141.3905,       4938,  4652.3,   1.5191,  34.6883,2,  34.6883,2, 150.8000,2,   151.1,2,  154.75,2,   36.27,2,    0.00,2,    2.49,2,   0.012,2,   0.010,2,   0.000,2,  -999.0,9,  -999.0,9,-999.000,9,-999.0000,9, -999.00,9, -999.00,9,  -999.0,9,  -999.0,-999.000,9,-999.000, -999.00,9, 4652.30,-999.0000,9,-999.0000,9,-999.0000,9,-999.0000,9,-999.0000,9,-999.0000,-999.000,-999.0000,9, -999.00
318M20040615,        P02,     144,          1,          1,          1,2,20040815,       1332,    30.0002,  -141.3905,       4938,  4854.9,   1.5400,  34.6886,2,  34.6889,2, 151.4000,2,   152.2,2,  154.17,2,   36.15,2,    0.00,2,    2.49,2,   0.008,2,   0.010,2,   0.000,2,  -999.0,9,  -999.0,9,-999.000,9,-999.0000,9, -999.00,9, -999.00,9,  -999.0,9,  -999.0,-999.000,9,-999.000, -999.00,9, 4854.90,-999.0000,9,-999.0000,9,-999.0000,9,-999.0000,9,-999.0000,9,-999.0000,-999.000,-999.0000,9, -999.00