BOTTLE,20131027SIOCCHRJL
EXPOCODE,SECT_ID,STNNBR,CASTNO,SAMPNO,BTLNBR,BTLNBR_FLAG_W,DATE,TIME,LATITUDE,LONGITUDE,DEPTH,CTDPRS,CTDTMP,CTDSAL,CTDSAL_FLAG_W,SALNTY,SALNTY_FLAG_W,CTDOXY,CTDOXY_FLAG_W,OXYGEN,OXYGEN_FLAG_W,SILCAT,SILCAT_FLAG_W,NITRAT,NITRAT_FLAG_W,NITRIT,NITRIT_FLAG_W,PHSPHT,PHSPHT_FLAG_W,CFC-11,CFC-11_FLAG_W,CFC-12,CFC-12_FLAG_W,CFC113,CFC113_FLAG_W,TCARBN,TCARBN_FLAG_W,ALKALI,ALKALI_FLAG_W,TRITUM,TRITUM_FLAG_W,HELIUM,HELIUM_FLAG_W,DELHE3,DELHE3_FLAG_W,DELC13,DELC13_FLAG_W,DELC14,DELC14_FLAG_W,C14ERR,NEON,NEON_FLAG_W,NEONER,DOC,DOC_FLAG_W,CTDRAW,CDOM380,CDOM380_FLAG_W,CDOM325,CDOM325_FLAG_W,CDOMSL,CDOMSL_FLAG_W,CDOM340,CDOM340_FLAG_W,CDOMSN,CDOMSN_FLAG_W,HELIER,TRITER,CDOM412,CDOM412_FLAG_W,DELHER
,,,,,,,,,,,METERS,DBAR,ITS-90,PSS-78,,PSS-78,,UMOL/KG,,UMOL/KG,,UMOL/KG,,UMOL/KG,,UMOL/KG,,UMOL/KG,,PMOL/KG,,PMOL/KG,,PMOL/KG,,UMOL/KG,,UMOL/KG,,TU,,NMOL/KG,,PERCNT,,/MILLE,,/MILLE,,/MILLE,NMOL/KG,,NMOL/KG,UMOL/KG,,DBAR,1/M,,1/M,,1/NM,,1/M,,1/NM,,NMOL/KG,TU,1/M,,PERCNT
318M20040615,        P02,      52,          1,         36,         36,2,20040704,       2246,    29.9972,   158.3517,       5611,     9.7,  26.8369,  35.1016,2,  35.0988,2, 203.2000,2,   203.2,2,    1.19,2,    0.14,2,    0.00,2,    0.02,2,   1.719,2,   1.069,2,   0.126,2,  1985.0,6,  2305.2,6,-999.000,9,-999.0000,9, -999.00,9, -999.00,9,  -999.0,9,  -999.0,-999.000,9,-999.000,   68.90,2,    9.70,   0.0100,2,   0.0580,2,   0.0320,2,   0.0360,2,   0.0320,2,-999.0000,-999.000,   0.0060,2, -999.00
318M20040615,        P02,      52,          1,         35,         35,2,20040704,       2246,    29.9972,   158.3517,       5611,    51.5,  19.6580,  34.7918,2,  34.7917,2, 243.9000,2,   248.9,2,    1.91,2,    0.09,2,    0.00,2,    0.03,2,   2.409,2,   1.428,2,   0.151,2,  1983.2,2,  2286.7,2,-999.000,9,-999.0000,9, -999.00,9, -999.00,9,  -999.0,9,  -999.0,-999.000,9,-999.000,   63.40,2,   51.50,   0.0460,2,   0.1530,2,   0.0200,2,   0.1060,2,   0.0220,2,-999.0000,-999.000,   0.0280,2, -999.00
318M20040615,        P02,      52,          1,         34,         34,2,20040704,       2246,    29.9972,   158.3517,       5611,   101.2,  17.7882,  34.8039,2,  34.8041,2, 228.6000,2,   230.3,2,    2.45,2,    0.81,2,    0.12,2,    0.12,2,   2.425,2,   1.450,2,   0.141,2,  2007.8,2,  2287.9,6,-999.000,9,-999.0000,9, -999.00,9, -999.00,9,  -999.0,9,  -999.0,-999.000,9,-999.000,   59.30,2,  101.20,   0.0390,2,   0.1120,2,   0.0180,2,   0.0810,2,   0.0190,2,-999.0000,-999.000,   0.0270,2, -999.00
318M20040615,        P02,      52,          1,         33,         33,2,20040704,       2246,    29.9972,   158.3517,       5611,   151.2,  16.9780,  34.7700,2,  34.7699,2, 214.6000,2,   217.5,2,    3.71,2,    4.20,2,    0.02,2,    0.28,2,   2.506,2,   1.492,2,   0.109,2,  2023.8,2,  2281.6,6,-999.000,9,-999.0000,9, -999.00,9, -999.00,9,  -999.0,9,  -999.0,-999.000,9,-999.000,   54.30,2,  151.20,   0.0370,2,   0.1020,2,   0.0170,2,   0.0740,2,   0.0180,2,-999.0000,-999.000,   0.0270,2, -999.00
318M20040615,        P02,      52,          1,         32,         32,2,20040704,       2246,    29.9972,   158.3517,       5611,   200.8,  16.6551,  34.7545,2,  34.7545,2, 217.3000,2,   218.0,2,    4.44,2,    4.63,2,    0.01,2,    0.32,2,   2.481,2,   1.470,2,   0.098,2,  2027.6,2,  2282.3,2,-999.000,9,-999.0000,9, -999.00,9, -999.00,9,  -999.0,9,  -999.0,-999.000,9,-999.000,   53.10,2,  200.80,   0.0330,2,   0.0950,2,   0.0190,2,   0.0660,2,   0.0200,2,-999.0000,-999.000,   0.0240,2, -999.00
318M20040615,        P02,      52,          1,         31,         31,2,20040704,       2246,    29.9972,   158.3517,       5611,   250.5,  16.2658,  34.7168,2,  34.7166,2, 215.4000,2,   209.6,2,    6.07,2,    6.18,2,    0.01,2,    0.41,2,   2.512,2,   1.470,2,   0.076,2,  2037.6,2,  2280.8,2,-999.000,9,-999.0000,9, -999.00,9, -999.00,9,  -999.0,9,  -999.0,-999.000,9,-999.000,   51.70,2,  250.50,   0.0650,2,   0.1530,2,   0.0120,2,   0.1140,2,   0.0130,2,-999.0000,-999.000,   0.0500,2, -999.00
318M20040615,        P02,      52,          1,         30,         30,2,20040704,       2246,    29.9972,   158.3517,       5611,   300.1,  15.6197,  34.6644,2,  34.6635,2, 200.3000,2,   201.3,2,    8.61,2,    8.04,2,    0.00,2,    0.55,2,   2.492,2,   1.429,2,   0.071,2,  2051.7,2,  2280.0,2,-999.000,9,-999.0000,9, -999.00,9, -999.00,9,  -999.0,9,  -999.0,-999.000,9,-999.000,   49.90,2,  300.10,   0.0410,2,   0.1120,2,   0.0170,2,   0.0810,2,   0.0180,2,-999.0000,-999.000,   0.0280,2, -999.00
318M20040615,        P02,      52,          1,         29,         29,2,20040704,       2246,    29.9972,   158.3517,       5611,   350.5,  14.7067,  34.5855,2,  34.5873,2, 198.0000,2,   197.4,2,   10.98,2,    9.73,2,    0.00,2,    0.66,2,   2.571,6,   1.442,6,   0.060,6,  2066.1,2,  2278.1,2,-999.000,9,-999.0000,9, -999.00,9, -999.00,9,  -999.0,9,  -999.0,-999.000,9,-999.000,   49.10,2,  350.50,   0.0420,2,   0.1160,2,   0.0150,2,   0.0810,2,   0.0180,2,-999.0000,-999.000,   0.0310,2, -999.00
318M20040615,        P02,      52,          1,         28,         28,2,20040704,       2246,    29.9972,   158.3517,       5611,   400.0,  13.3056,  34.4728,2,  34.4724,2, 193.9000,2,   192.4,2,   15.16,2,   12.28,2,    0.00,2,    0.85,2,   2.644,2,   1.461,2,   0.061,2,  2084.0,2,  2276.0,2,-999.000,9,-999.0000,9, -999.00,9, -999.00,9,  -999.0,9,  -999.0,-999.000,9,-999.000,   47.90,2,  400.00,   0.0560,2,   0.1410,2,   0.0130,2,   0.1030,2,   0.0150,2,-999.0000,-999.000,   0.0410,2, -999.00
318M20040615,        P02,      52,          1,         27,         27,2,20040704,       2246,    29.9972,   158.3517,       5611,   449.8,  11.9243,  34.3764,2,  34.3749,2, 195.8000,2,   191.3,2,   19.55,2,   14.57,2,    0.00,2,    1.03,2,   2.707,2,   1.467,2,   0.072,2,  2103.5,2,  2275.6,2,-999.000,9,-999.0000,9, -999.00,9, -999.00,9,  -999.0,9,  -999.0,-999.000,9,-999.000,   47.30,2,  449.80,-999.0000,9,-999.0000,9,-999.0000,9,-999.0000,9,-999.0000,9,-999.0000,-999.000,-999.0000,9, -999.00
318M20040615,        P02,      52,          1,         26,         26,2,20040704,       2246,    29.9972,   158.3517,       5611,   499.6,  10.5243,  34.2788,2,  34.2785,2, 183.8000,2,   181.6,2,   26.67,2,   17.89,2,    0.00,2,    1.28,2,   2.579,2,   1.362,2,   0.086,2,  2128.3,2,  2276.3,2,-999.000,9,-999.0000,9, -999.00,9, -999.00,9,  -999.0,9,  -999.0,-999.000,9,-999.000,   46.40,2,  499.60,   0.0680,2,   0.1700,2,   0.0130,2,   0.1240,2,   0.0150,2,-999.0000,-999.000,   0.0490,2, -999.00
318M20040615,        P02,      52,          1,         25,         25,2,20040704,       2246,    29.9972,   158.3517,       5611,   600.0,   7.9963,  34.0793,2,  34.0807,2, 172.6000,2,   171.8,2,   38.21,2,   23.00,2,    0.00,2,    1.66,2,   2.605,2,   1.361,2,   0.108,2,  2164.8,2,  2276.0,2,-999.000,9,-999.0000,9, -999.00,9, -999.00,9,  -999.0,9,  -999.0,-999.000,9,-999.000,   45.50,2,  600.00,-999.0000,9,-999.0000,9,-999.0000,9,-999.0000,9,-999.0000,9,-999.0000,-999.000,-999.0000,9, -999.00
318M20040615,        P02,      52,          1,         24,         24,2,20040704,       2246,    29.9972,   158.3517,       5611,   699.9,   6.3294,  34.0559,2,  34.0560,2, 123.9000,2,   121.1,2,   60.06,2,   30.98,2,    0.00,2,    2.24,2,   1.707,2,   0.843,2,   0.062,2,  2226.2,2,  2292.8,2,-999.000,9,-999.0000,9, -999.00,9, -999.00,9,  -999.0,9,  -999.0,-999.000,9,-999.000,   44.40,2,  699.90,   0.1010,2,   0.2350,2,   0.0130,2,   0.1750,2,   0.0130,2,-999.0000,-999.000,   0.0750,2, -999.00
318M20040615,        P02,      52,          1,         23,         23,2,20040704,       2246,    29.9972,   158.3517,       5611,   800.2,   5.1929,  34.0975,2,  34.0974,2,  84.9000,2,    85.9,2,   79.59,2,   36.14,2,    0.00,2,    2.60,2,   1.081,2,   0.537,2,   0.039,2,  2272.7,2,  2309.7,2,-999.000,9,-999.0000,9, -999.00,9, -999.00,9,  -999.0,9,  -999.0,-999.000,9,-999.000,   43.50,2,  800.20,-999.0000,9,-999.0000,9,-999.0000,9,-999.0000,9,-999.0000,9,-999.0000,-999.000,-999.0000,9, -999.00
318M20040615,        P02,      52,          1,         22,         22,2,20040704,       2246,    29.9972,   158.3517,       5611,   899.9,   4.4226,  34.1775,2,  34.1793,2,  59.1000,2,    57.9,2,   99.01,2,   39.86,2,    0.00,2,    2.86,2,   0.592,2,   0.287,2,   0.018,2,  2309.3,2,  2329.2,2,-999.000,9,-999.0000,9, -999.00,9, -999.00,9,  -999.0,9,  -999.0,-999.000,9,-999.000,   42.40,2,  899.90,-999.0000,9,-999.0000,9,-999.0000,9,-999.0000,9,-999.0000,9,-999.0000,-999.000,-999.0000,9, -999.00
318M20040615,        P02,      52,          1,         21,         21,2,20040704,       2246,    29.9972,   158.3517,       5611,  1000.4,   3.9161,  34.2563,2,  34.2574,2,  43.7000,2,    43.7,2,  113.47,2,   41.72,2,    0.00,2,    2.97,2,   0.333,2,   0.167,2,   0.007,2,  2335.0,2,  2346.4,2,-999.000,9,-999.0000,9, -999.00,9, -999.00,9,  -999.0,9,  -999.0,-999.000,9,-999.000,   41.10,2, 1000.40,-999.0000,9,-999.0000,9,-999.0000,9,-999.0000,9,-999.0000,9,-999.0000,-999.000,-999.0000,9, -999.00
318M20040615,        P02,      52,          1,         20,         20,2,20040704,       2246,    29.9972,   158.3517,       5611,  1115.8,   3.4925,  34.3363,2,  34.3376,2,  35.3000,2,    35.5,2,  126.29,2,   42.80,2,    0.00,2,    3.05,2,   0.134,2,   0.071,2,   0.005,2,  2354.0,2,  2362.1,2,-999.000,9,-999.0000,9, -999.00,9, -999.00,9,  -999.0,9,  -999.0,-999.000,9,-999.000,   40.60,2, 1115.80,-999.0000,9,-999.0000,9,-999.0000,9,-999.0000,9,-999.0000,9,-999.0000,-999.000,-999.0000,9, -999.00
318M20040615,        P02,      52,          1,         19,         19,2,20040704,       2246,    29.9972,   158.3517,       5611,  1216.3,   3.1938,  34.3936,2,  34.3982,2,  33.4000,2,    33.8,2,  134.85,2,   43.25,2,    0.00,2,    3.07,2,   0.068,2,   0.033,2,   0.003,2,  2365.0,2,  2372.9,2,-999.000,9,-999.0000,9, -999.00,9, -999.00,9,  -999.0,9,  -999.0,-999.000,9,-999.000,   40.60,2, 1216.30,-999.0000,9,-999.0000,9,-999.0000,9,-999.0000,9,-999.0000,9,-999.0000,-999.000,-999.0000,9, -999.00
318M20040615,        P02,      52,          1,         18,         18,2,20040704,       2246,    29.9972,   158.3517,       5611,  1316.9,   2.9584,  34.4356,2,  34.4375,2,  34.2000,2,    34.9,2,  141.93,2,   43.34,2,    0.00,2,    3.08,2,   0.040,2,   0.021,2,   0.004,2,  2369.8,6,  2382.7,6,-999.000,9,-999.0000,9, -999.00,9, -999.00,9,  -999.0,9,  -999.0,-999.000,9,-999.000,   39.30,2, 1316.90,-999.0000,9,-999.0000,9,-999.0000,9,-999.0000,9,-999.0000,9,-999.0000,-999.000,-999.0000,9, -999.00
318M20040615,        P02,      52,          1,         17,         17,2,20040704,       2246,    29.9972,   158.3517,       5611,  1417.6,   2.7450,  34.4675,2,  34.4663,2,  37.3000,2,    37.4,2,  147.72,2,   43.33,2,    0.00,2,    3.08,2,   0.027,2,   0.016,2,   0.005,2,  2374.8,2,  2390.4,2,-999.000,9,-999.0000,9, -999.00,9, -999.00,9,  -999.0,9,  -999.0,-999.000,9,-999.000,   39.70,2, 1417.60,-999.0000,9,-999.0000,9,-999.0000,9,-999.0000,9,-999.0000,9,-999.0000,-999.000,-999.0000,9, -999.00
318M20040615,        P02,      52,          1,         16,         16,2,20040704,       2246,    29.9972,   158.3517,       5611,  1517.6,   2.5528,  34.4918,2,  34.4907,2,  40.1000,2,    40.1,2,  154.25,2,   43.20,2,    0.00,2,    3.06,2,   0.021,2,   0.013,2,   0.000,2,  2379.3,2,  2395.4,2,-999.000,9,-999.0000,9, -999.00,9, -999.00,9,  -999.0,9,  -999.0,-999.000,9,-999.000,   38.80,2, 1517.60,-999.0000,9,-999.0000,9,-999.0000,9,-999.0000,9,-999.0000,9,-999.0000,-999.000,-999.0000,9, -999.00
318M20040615,        P02,      52,          1,         15,         15,2,20040704,       2246,    29.9972,   158.3517,       5611,  1617.7,   2.3642,  34.5197,2,  34.5178,2,  44.6000,2,    44.7,2,  158.58,2,   42.91,2,    0.00,2,    3.04,2,   0.020,2,   0.014,2,   0.000,2,  2380.3,2,  2399.3,2,-999.000,9,-999.0000,9, -999.00,9, -999.00,9,  -999.0,9,  -999.0,-999.000,9,-999.000,   38.40,2, 1617.70,-999.0000,9,-999.0000,9,-999.0000,9,-999.0000,9,-999.0000,9,-999.0000,-999.000,-999.0000,9, -999.00
318M20040615,        P02,      52,          1,         14,         14,2,20040704,       2246,    29.9972,   158.3517,       5611,  1718.1,   2.2484,  34.5426,2,  34.5433,2,  53.3000,2,    51.0,2,  160.64,2,   42.61,2,    0.00,2,    3.01,2,   0.013,2,   0.007,2,   0.000,2,  2380.5,2,  2404.8,2,-999.000,9,-999.0000,9, -999.00,9, -999.00,9,  -999.0,9,  -999.0,-999.000,9,-999.000,   38.00,2, 1718.10,-999.0000,9,-999.0000,9,-999.0000,9,-999.0000,9,-999.0000,9,-999.0000,-999.000,-999.0000,9, -999.00
318M20040615,        P02,      52,          1,         13,         13,2,20040704,       2246,    29.9972,   158.3517,       5611,  1819.5,   2.1560,  34.5613,2,  34.5602,2,  58.2000,2,    58.2,2,  161.95,2,   42.14,2,    0.00,2,    2.97,2,   0.010,2,   0.006,2,   0.000,2,  2377.9,2,  2407.9,6,-999.000,9,-999.0000,9, -999.00,9, -999.00,9,  -999.0,9,  -999.0,-999.000,9,-999.000,   37.70,2, 1819.50,-999.0000,9,-999.0000,9,-999.0000,9,-999.0000,9,-999.0000,9,-999.0000,-999.000,-999.0000,9, -999.00
318M20040615,        P02,      52,          1,         12,         12,2,20040704,       2246,    29.9972,   158.3517,       5611,  2020.2,   1.9725,  34.5907,2,  34.5902,2,  72.6000,2,    70.8,2,  164.57,2,   41.39,2,    0.00,2,    2.92,2,   0.004,2,   0.002,2,   0.000,2,  2373.2,2,  2411.3,2,-999.000,9,-999.0000,9, -999.00,9, -999.00,9,  -999.0,9,  -999.0,-999.000,9,-999.000,   37.90,2, 2020.20,   0.1760,2,   0.3520,2,   0.0100,2,   0.2710,2,   0.0100,2,-999.0000,-999.000,   0.1370,2, -999.00
318M20040615,        P02,      52,          1,         11,         11,2,20040704,       2246,    29.9972,   158.3517,       5611,  2282.6,   1.7965,  34.6216,2,  34.6223,2,  92.7000,2,    90.5,2,  163.43,2,   40.23,2,    0.00,2,    2.83,2,   0.002,2,   0.002,2,   0.003,2,  2364.1,2,  2415.0,2,-999.000,9,-999.0000,9, -999.00,9, -999.00,9,  -999.0,9,  -999.0,-999.000,9,-999.000,   38.20,2, 2282.60,-999.0000,9,-999.0000,9,-999.0000,9,-999.0000,9,-999.0000,9,-999.0000,-999.000,-999.0000,9, -999.00
318M20040615,        P02,      52,          1,         10,         10,2,20040704,       2246,    29.9972,   158.3517,       5611,  2545.4,   1.6668,  34.6429,2,  34.6494,2, 108.2000,3,   108.3,2,  160.80,2,   39.20,2,    0.00,2,    2.74,2,   0.002,2,   0.004,2,   0.000,2,  2354.6,2,  2416.2,2,-999.000,9,-999.0000,9, -999.00,9, -999.00,9,  -999.0,9,  -999.0,-999.000,9,-999.000,   38.00,2, 2545.40,-999.0000,9,-999.0000,9,-999.0000,9,-999.0000,9,-999.0000,9,-999.0000,-999.000,-999.0000,9, -999.00
318M20040615,        P02,      52,          1,          9,          9,2,20040704,       2246,    29.9972,   158.3517,       5611,  2787.1,   1.5895,  34.6558,2,  34.6553,2, 120.0000,2,   120.3,2,  158.54,2,   38.45,2,    0.00,2,    2.68,2,   0.004,2,   0.003,2,   0.000,2,  2348.2,2,  2417.5,2,-999.000,9,-999.0000,9, -999.00,9, -999.00,9,  -999.0,9,  -999.0,-999.000,9,-999.000,   38.10,2, 2787.10,-999.0000,9,-999.0000,9,-999.0000,9,-999.0000,9,-999.0000,9,-999.0000,-999.000,-999.0000,9, -999.00
318M20040615,        P02,      52,          1,          8,          8,2,20040704,       2246,    29.9972,   158.3517,       5611,  3040.0,   1.5351,  34.6655,2,  34.6653,2, 129.6000,2,   130.6,2,  156.11,2,   37.70,2,    0.00,2,    2.62,2,   0.002,2,   0.002,2,   0.000,2,  2340.4,2,  2416.6,2,-999.000,9,-999.0000,9, -999.00,9, -999.00,9,  -999.0,9,  -999.0,-999.000,9,-999.000,   38.30,2, 3040.00,-999.0000,9,-999.0000,9,-999.0000,9,-999.0000,9,-999.0000,9,-999.0000,-999.000,-999.0000,9, -999.00
318M20040615,        P02,      52,          1,          7,          7,2,20040704,       2246,    29.9972,   158.3517,       5611,  3455.5,   1.4785,  34.6764,2,  34.6755,2, 141.5000,2,   143.2,2,  152.54,2,   36.85,2,    0.00,2,    2.56,2,   0.001,2,   0.002,2,   0.000,2,  2331.1,2,  2415.6,2,-999.000,9,-999.0000,9, -999.00,9, -999.00,9,  -999.0,9,  -999.0,-999.000,9,-999.000,   38.10,2, 3455.50,-999.0000,9,-999.0000,9,-999.0000,9,-999.0000,9,-999.0000,9,-999.0000,-999.000,-999.0000,9, -999.00
318M20040615,        P02,      52,          1,          6,          6,2,20040704,       2246,    29.9972,   158.3517,       5611,  3861.8,   1.4547,  34.6829,2,  34.6832,2, 150.2000,2,   151.2,2,  149.37,2,   36.28,2,    0.00,2,    2.51,2,   0.001,2,   0.003,2,   0.000,2,  2325.2,2,  2415.7,2,-999.000,9,-999.0000,9, -999.00,9, -999.00,9,  -999.0,9,  -999.0,-999.000,9,-999.000,   38.30,2, 3861.80,-999.0000,9,-999.0000,9,-999.0000,9,-999.0000,9,-999.0000,9,-999.0000,-999.000,-999.0000,9, -999.00
318M20040615,        P02,      52,          1,          5,          5,2,20040704,       2246,    29.9972,   158.3517,       5611,  4278.8,   1.4518,  34.6874,2,  34.6960,2, 156.0000,3,   156.5,2,  148.43,2,   35.82,2,    0.00,2,    2.48,2,   0.006,2,   0.004,2,   0.000,2,  2320.9,2,  2415.4,2,-999.000,9,-999.0000,9, -999.00,9, -999.00,9,  -999.0,9,  -999.0,-999.000,9,-999.000,   37.80,2, 4278.80,-999.0000,9,-999.0000,9,-999.0000,9,-999.0000,9,-999.0000,9,-999.0000,-999.000,-999.0000,9, -999.00
318M20040615,        P02,      52,          1,          4,          4,2,20040704,       2246,    29.9972,   158.3517,       5611,  4685.9,   1.4588,  34.6911,2,  34.6912,2, 161.5000,2,   162.3,2,  145.44,2,   35.36,2,    0.00,2,    2.45,2,   0.006,2,   0.007,2,   0.000,2,  2315.8,2,  2411.6,2,-999.000,9,-999.0000,9, -999.00,9, -999.00,9,  -999.0,9,  -999.0,-999.000,9,-999.000,   37.60,2, 4685.90,-999.0000,9,-999.0000,9,-999.0000,9,-999.0000,9,-999.0000,9,-999.0000,-999.000,-999.0000,9, -999.00
318M20040615,        P02,      52,          1,          3,          3,2,20040704,       2246,    29.9972,   158.3517,       5611,  5098.6,   1.4773,  34.6938,2,  34.6940,2, 168.0000,2,   168.5,2,  140.42,2,   34.91,2,    0.00,2,    2.42,2,   0.006,2,   0.006,2,   0.000,2,  2309.0,2,  2407.9,2,-999.000,9,-999.0000,9, -999.00,9, -999.00,9,  -999.0,9,  -999.0,-999.000,9,-999.000,   37.90,2, 5098.60,-999.0000,9,-999.0000,9,-999.0000,9,-999.0000,9,-999.0000,9,-999.0000,-999.000,-999.0000,9, -999.00
318M20040615,        P02,      52,          1,          2,          2,2,20040704,       2246,    29.9972,   158.3517,       5611,  5506.3,   1.5081,  34.6955,2,  34.6952,2, 172.2000,2,   171.7,2,  137.09,2,   34.68,2,    0.00,2,    2.40,2,   0.005,2,   0.007,2,   0.003,2,  2305.8,2,  2404.1,2,-999.000,9,-999.0000,9, -999.00,9, -999.00,9,  -999.0,9,  -999.0,-999.000,9,-999.000,   37.70,2, 5506.30,-999.0000,9,-999.0000,9,-999.0000,9,-999.0000,9,-999.0000,9,-999.0000,-999.000,-999.0000,9, -999.00
318M20040615,        P02,      52,          1,          1,          1,2,20040704,       2246,    29.9972,   158.3517,       5611,  5742.4,   1.5295,  34.6961,2,  34.6973,2, 173.6000,3,   174.2,2,  136.49,2,   34.50,2,    0.00,2,    2.40,2,   0.009,2,   0.009,2,   0.000,2,  2304.1,6,  2402.9,6,-999.000,9,-999.0000,9, -999.00,9, -999.00,9,  -999.0,9,  -999.0,-999.000,9,-999.000,   38.10,2, 5742.40,-999.0000,9,-999.0000,9,-999.0000,9,-999.0000,9,-999.0000,9,-999.0000,-999.000,-999.0000,9, -999.00