BOTTLE,20131027SIOCCHRJL
EXPOCODE,SECT_ID,STNNBR,CASTNO,SAMPNO,BTLNBR,BTLNBR_FLAG_W,DATE,TIME,LATITUDE,LONGITUDE,DEPTH,CTDPRS,CTDTMP,CTDSAL,CTDSAL_FLAG_W,SALNTY,SALNTY_FLAG_W,CTDOXY,CTDOXY_FLAG_W,OXYGEN,OXYGEN_FLAG_W,SILCAT,SILCAT_FLAG_W,NITRAT,NITRAT_FLAG_W,NITRIT,NITRIT_FLAG_W,PHSPHT,PHSPHT_FLAG_W,CFC-11,CFC-11_FLAG_W,CFC-12,CFC-12_FLAG_W,CFC113,CFC113_FLAG_W,TCARBN,TCARBN_FLAG_W,ALKALI,ALKALI_FLAG_W,TRITUM,TRITUM_FLAG_W,HELIUM,HELIUM_FLAG_W,DELHE3,DELHE3_FLAG_W,DELC13,DELC13_FLAG_W,DELC14,DELC14_FLAG_W,C14ERR,NEON,NEON_FLAG_W,NEONER,DOC,DOC_FLAG_W,CTDRAW,CDOM380,CDOM380_FLAG_W,CDOM325,CDOM325_FLAG_W,CDOMSL,CDOMSL_FLAG_W,CDOM340,CDOM340_FLAG_W,CDOMSN,CDOMSN_FLAG_W,HELIER,TRITER,CDOM412,CDOM412_FLAG_W,DELHER
,,,,,,,,,,,METERS,DBAR,ITS-90,PSS-78,,PSS-78,,UMOL/KG,,UMOL/KG,,UMOL/KG,,UMOL/KG,,UMOL/KG,,UMOL/KG,,PMOL/KG,,PMOL/KG,,PMOL/KG,,UMOL/KG,,UMOL/KG,,TU,,NMOL/KG,,PERCNT,,/MILLE,,/MILLE,,/MILLE,NMOL/KG,,NMOL/KG,UMOL/KG,,DBAR,1/M,,1/M,,1/NM,,1/M,,1/NM,,NMOL/KG,TU,1/M,,PERCNT
318M20040615,        P02,     134,          1,         36,         36,2,20040812,       0947,    29.9975,  -148.8975,       5293,     6.0,  24.9883,  35.0326,2,  35.0332,2, 212.3000,2,   211.6,2,    1.76,2,    0.21,2,    0.00,2,    0.02,2,   1.804,2,   1.092,2,   0.135,2,  2005.6,2,  2307.4,6,   0.826,2,   1.7350,2,   -0.90,2, -999.00,9,  -999.0,9,  -999.0,-999.000,9,-999.000, -999.00,9,    6.00,-999.0000,9,-999.0000,9,-999.0000,9,-999.0000,9,-999.0000,9,   0.0087,   0.008,-999.0000,9,    0.20
318M20040615,        P02,     134,          1,         35,         35,2,20040812,       0947,    29.9975,  -148.8975,       5293,    36.1,  21.4770,  34.8055,2,  34.8139,2, 240.2000,2,   241.8,2,    1.95,2,    0.21,2,    0.00,2,    0.02,2,   2.281,2,   1.327,2,   0.165,2,  2002.4,2,  2293.4,2,-999.000,9,-999.0000,9, -999.00,9, -999.00,9,  -999.0,9,  -999.0,-999.000,9,-999.000, -999.00,9,   36.10,-999.0000,9,-999.0000,9,-999.0000,9,-999.0000,9,-999.0000,9,-999.0000,-999.000,-999.0000,9, -999.00
318M20040615,        P02,     134,          1,         34,         34,2,20040812,       0947,    29.9975,  -148.8975,       5293,    70.8,  18.8007,  34.7012,2,  34.7037,2, 244.3000,2,   243.8,2,    2.51,2,    0.15,2,    0.00,2,    0.04,2,   2.431,2,   1.462,2,   0.157,2,  2005.2,2,  2287.2,2,   0.811,2,   1.7540,2,   -1.00,2, -999.00,9,  -999.0,9,  -999.0,-999.000,9,-999.000, -999.00,9,   70.80,-999.0000,9,-999.0000,9,-999.0000,9,-999.0000,9,-999.0000,9,   0.0088,   0.009,-999.0000,9,    0.20
318M20040615,        P02,     134,          1,         33,         33,2,20040812,       0947,    29.9975,  -148.8975,       5293,   119.9,  16.1103,  34.4453,2,  34.4745,2, 233.3000,2,   232.5,2,    3.27,2,    0.48,2,    0.08,2,    0.17,2,   2.687,2,   1.572,2,   0.167,2,  2022.6,2,  2270.7,2,   0.842,2,   1.7670,2,   -0.84,2, -999.00,9,  -999.0,9,  -999.0,-999.000,9,-999.000, -999.00,9,  119.90,-999.0000,9,-999.0000,9,-999.0000,9,-999.0000,9,-999.0000,9,   0.0088,   0.007,-999.0000,9,    0.20
318M20040615,        P02,     134,          1,         32,         32,2,20040812,       0947,    29.9975,  -148.8975,       5293,   169.6,  13.0194,  34.1705,2,  34.1790,2, 223.5000,2,   224.5,2,    6.75,2,    6.93,2,    0.01,2,    0.56,2,   3.104,2,   1.743,2,   0.125,2,  -999.0,9,  -999.0,9,   0.866,2,   1.7859,2,   -0.14,2, -999.00,9,  -999.0,9,  -999.0,-999.000,9,-999.000, -999.00,9,  169.60,-999.0000,9,-999.0000,9,-999.0000,9,-999.0000,9,-999.0000,9,   0.0089,   0.008,-999.0000,9,    0.20
318M20040615,        P02,     134,          1,         31,         31,2,20040812,       0947,    29.9975,  -148.8975,       5293,   224.1,  11.7492,  34.1480,2,  34.1502,2, 221.3000,2,   225.9,2,    9.83,2,    9.99,2,    0.01,2,    0.74,2,-999.000,9,-999.000,9,-999.000,9,  2067.1,2,  2249.1,3,-999.000,9,-999.0000,9, -999.00,9, -999.00,9,  -999.0,9,  -999.0,-999.000,9,-999.000, -999.00,9,  224.10,-999.0000,9,-999.0000,9,-999.0000,9,-999.0000,9,-999.0000,9,-999.0000,-999.000,-999.0000,9, -999.00
318M20040615,        P02,     134,          1,         30,         30,2,20040812,       0947,    29.9975,  -148.8975,       5293,   273.9,  10.9681,  34.1706,2,  34.1715,2, 214.9000,2,   218.1,2,   14.10,2,   13.05,2,    0.00,2,    0.93,2,   3.275,2,   1.760,2,   0.082,2,  -999.0,9,  -999.0,9,   0.837,2,   1.8210,2,    0.45,2, -999.00,9,  -999.0,9,  -999.0,-999.000,9,-999.000, -999.00,9,  273.90,-999.0000,9,-999.0000,9,-999.0000,9,-999.0000,9,-999.0000,9,   0.0091,   0.006,-999.0000,9,    0.20
318M20040615,        P02,     134,          1,         29,         29,2,20040812,       0947,    29.9975,  -148.8975,       5293,   323.7,  10.2618,  34.1600,2,  34.1605,2, 209.6000,2,   210.9,2,   17.39,2,   15.13,2,    0.00,2,    1.07,2,   3.272,6,   1.729,6,   0.083,6,  2100.5,2,  2263.6,2,   0.870,2,   1.7983,2,    2.86,2, -999.00,9,  -999.0,9,  -999.0,-999.000,9,-999.000, -999.00,9,  323.70,-999.0000,9,-999.0000,9,-999.0000,9,-999.0000,9,-999.0000,9,   0.0090,   0.007,-999.0000,9,    0.20
318M20040615,        P02,     134,          1,         28,         28,2,20040812,       0947,    29.9975,  -148.8975,       5293,   373.2,   9.3582,  34.1284,2,  34.1297,2, 194.8000,2,   195.2,2,   23.42,2,   18.43,2,    0.00,2,    1.29,2,   3.109,2,   1.622,2,   0.088,2,  -999.0,9,  -999.0,9,-999.000,9,-999.0000,9, -999.00,9, -999.00,9,  -999.0,9,  -999.0,-999.000,9,-999.000, -999.00,9,  373.20,-999.0000,9,-999.0000,9,-999.0000,9,-999.0000,9,-999.0000,9,-999.0000,-999.000,-999.0000,9, -999.00
318M20040615,        P02,     134,          1,         27,         27,2,20040812,       0947,    29.9975,  -148.8975,       5293,   422.9,   8.3655,  34.0752,2,  34.0770,2, 171.6000,2,   173.5,2,   32.18,2,   22.58,2,    0.00,2,    1.59,2,   2.893,2,   1.412,2,   0.102,2,  2152.9,2,  2273.7,2,   0.806,2,   1.8103,2,    8.04,2, -999.00,9,  -999.0,9,  -999.0,-999.000,9,-999.000, -999.00,9,  422.90,-999.0000,9,-999.0000,9,-999.0000,9,-999.0000,9,-999.0000,9,   0.0091,   0.006,-999.0000,9,    0.20
318M20040615,        P02,     134,          1,         26,         26,2,20040812,       0947,    29.9975,  -148.8975,       5293,   472.4,   7.3277,  34.0283,2,  34.0298,2, 149.9000,2,   148.0,2,   42.34,2,   27.14,2,    0.00,2,    1.91,2,   2.488,2,   1.237,2,   0.096,2,  -999.0,9,  -999.0,9,-999.000,9,-999.0000,9, -999.00,9, -999.00,9,  -999.0,9,  -999.0,-999.000,9,-999.000, -999.00,9,  472.40,-999.0000,9,-999.0000,9,-999.0000,9,-999.0000,9,-999.0000,9,-999.0000,-999.000,-999.0000,9, -999.00
318M20040615,        P02,     134,          1,         25,         25,2,20040812,       0947,    29.9975,  -148.8975,       5293,   542.2,   6.0154,  33.9995,2,  34.0002,2, 116.0000,2,   114.4,2,   59.21,2,   32.90,2,    0.00,2,    2.32,2,   1.723,2,   0.857,2,   0.045,2,  2228.2,2,  2289.8,2,-999.000,9,   1.8373,2,   15.61,2, -999.00,9,  -999.0,9,  -999.0,-999.000,9,-999.000, -999.00,9,  542.20,-999.0000,9,-999.0000,9,-999.0000,9,-999.0000,9,-999.0000,9,   0.0092,-999.000,-999.0000,9,    0.20
318M20040615,        P02,     134,          1,         24,         24,2,20040812,       0947,    29.9975,  -148.8975,       5293,   647.6,   4.8171,  34.0739,2,  34.0760,2,  61.9000,2,    57.8,2,   84.67,2,   39.77,2,    0.00,2,    2.83,2,-999.000,9,-999.000,9,-999.000,9,  -999.0,9,  -999.0,9,   0.440,2,   1.8592,2,   18.20,2, -999.00,9,  -999.0,9,  -999.0,-999.000,9,-999.000, -999.00,9,  647.60,-999.0000,9,-999.0000,9,-999.0000,9,-999.0000,9,-999.0000,9,   0.0093,   0.005,-999.0000,9,    0.20
318M20040615,        P02,     134,          1,         23,         23,2,20040812,       0947,    29.9975,  -148.8975,       5293,   748.1,   4.2456,  34.1684,2,  34.1704,2,  30.7000,2,    29.1,2,  102.31,2,   42.71,2,    0.00,2,    3.05,2,   0.172,2,   0.083,2,   0.008,2,  2327.7,2,  2333.6,2,   0.194,2,   1.8727,2,   15.80,2, -999.00,9,  -999.0,9,  -999.0,-999.000,9,-999.000, -999.00,9,  748.10,-999.0000,9,-999.0000,9,-999.0000,9,-999.0000,9,-999.0000,9,   0.0094,   0.004,-999.0000,9,    0.20
318M20040615,        P02,     134,          1,         22,         22,2,20040812,       0947,    29.9975,  -148.8975,       5293,   852.6,   3.8971,  34.2743,2,  34.2743,2,  15.9000,2,    14.7,2,  115.86,2,   43.96,2,    0.00,2,    3.17,2,   0.033,2,   0.019,2,   0.000,2,  2351.5,2,  2352.9,2,   0.043,2,   1.8790,2,   14.62,2, -999.00,9,  -999.0,9,  -999.0,-999.000,9,-999.000, -999.00,9,  852.60,-999.0000,9,-999.0000,9,-999.0000,9,-999.0000,9,-999.0000,9,   0.0094,   0.001,-999.0000,9,    0.20
318M20040615,        P02,     134,          1,         21,         21,2,20040812,       0947,    29.9975,  -148.8975,       5293,   954.1,   3.6311,  34.3656,2,  34.3663,2,  14.0000,2,    14.1,2,  125.23,2,   44.22,2,    0.00,2,    3.21,2,   0.018,2,   0.005,2,   0.000,2,  2364.5,6,  2365.3,2,   0.030,2,   1.8974,2,   16.24,2, -999.00,9,  -999.0,9,  -999.0,-999.000,9,-999.000, -999.00,9,  954.10,-999.0000,9,-999.0000,9,-999.0000,9,-999.0000,9,-999.0000,9,   0.0095,   0.001,-999.0000,9,    0.20
318M20040615,        P02,     134,          1,         20,         20,2,20040812,       0947,    29.9975,  -148.8975,       5293,  1053.7,   3.4259,  34.4295,2,  34.4295,2,  18.1000,2,    18.8,2,  131.25,2,   44.06,2,    0.00,2,    3.19,2,   0.009,2,   0.003,2,   0.000,2,  -999.0,9,  -999.0,9,-999.000,9,-999.0000,9, -999.00,9, -999.00,9,  -999.0,9,  -999.0,-999.000,9,-999.000, -999.00,9, 1053.70,-999.0000,9,-999.0000,9,-999.0000,9,-999.0000,9,-999.0000,9,-999.0000,-999.000,-999.0000,9, -999.00
318M20040615,        P02,     134,          1,         19,         19,2,20040812,       0947,    29.9975,  -148.8975,       5293,  1152.2,   3.2382,  34.4755,2,  34.4818,2,  26.5000,3,    27.8,2,  135.06,2,   43.56,2,    0.00,2,    3.16,2,   0.006,2,   0.003,2,   0.000,2,  -999.0,9,  -999.0,9,   0.023,2,   1.9044,2,   19.58,2, -999.00,9,  -999.0,9,  -999.0,-999.000,9,-999.000, -999.00,9, 1152.20,-999.0000,9,-999.0000,9,-999.0000,9,-999.0000,9,-999.0000,9,   0.0095,   0.001,-999.0000,9,    0.20
318M20040615,        P02,     134,          1,         18,         18,2,20040812,       0947,    29.9975,  -148.8975,       5293,  1247.1,   3.0724,  34.5049,2,  34.5053,2,  35.2000,2,    35.6,2,  138.26,2,   43.11,2,    0.00,2,    3.12,2,-999.000,9,-999.000,9,-999.000,9,  -999.0,9,  -999.0,9,-999.000,9,-999.0000,9, -999.00,9, -999.00,9,  -999.0,9,  -999.0,-999.000,9,-999.000, -999.00,9, 1247.10,-999.0000,9,-999.0000,9,-999.0000,9,-999.0000,9,-999.0000,9,-999.0000,-999.000,-999.0000,9, -999.00
318M20040615,        P02,     134,          1,         17,         17,2,20040812,       0947,    29.9975,  -148.8975,       5293,  1349.7,   2.8654,  34.5317,2,  34.5316,2,  44.2000,2,    44.8,2,  142.47,2,   42.82,2,    0.00,2,    3.08,2,   0.005,2,   0.003,2,   0.000,2,  -999.0,9,  -999.0,9,   0.022,2,-999.0000,9, -999.00,9, -999.00,9,  -999.0,9,  -999.0,-999.000,9,-999.000, -999.00,9, 1349.70,-999.0000,9,-999.0000,9,-999.0000,9,-999.0000,9,-999.0000,9,-999.0000,   0.001,-999.0000,9, -999.00
318M20040615,        P02,     134,          1,         16,         16,2,20040812,       0947,    29.9975,  -148.8975,       5293,  1452.7,   2.6813,  34.5523,2,  34.5528,2,  52.2000,2,    52.4,2,  146.68,2,   42.82,2,    0.00,2,    3.04,2,-999.000,9,-999.000,9,-999.000,9,  -999.0,9,  -999.0,9,-999.000,9,-999.0000,9, -999.00,9, -999.00,9,  -999.0,9,  -999.0,-999.000,9,-999.000, -999.00,9, 1452.70,-999.0000,9,-999.0000,9,-999.0000,9,-999.0000,9,-999.0000,9,-999.0000,-999.000,-999.0000,9, -999.00
318M20040615,        P02,     134,          1,         15,         15,2,20040812,       0947,    29.9975,  -148.8975,       5293,  1556.4,   2.5421,  34.5667,2,  34.5669,2,  58.9000,2,    58.3,2,  149.68,2,   42.64,2,    0.00,2,    3.01,2,   0.005,2,   0.001,2,   0.000,2,  -999.0,9,  -999.0,9,   0.009,2,   1.9145,2,   21.37,2, -999.00,9,  -999.0,9,  -999.0,-999.000,9,-999.000, -999.00,9, 1556.40,-999.0000,9,-999.0000,9,-999.0000,9,-999.0000,9,-999.0000,9,   0.0096,   0.000,-999.0000,9,    0.20
318M20040615,        P02,     134,          1,         14,         14,2,20040812,       0947,    29.9975,  -148.8975,       5293,  1658.7,   2.3894,  34.5812,2,  34.5818,2,  64.7000,2,    64.3,2,  153.29,2,   42.19,2,    0.00,2,    2.97,2,-999.000,9,-999.000,9,-999.000,9,  -999.0,9,  -999.0,9,-999.000,9,-999.0000,9, -999.00,9, -999.00,9,  -999.0,9,  -999.0,-999.000,9,-999.000, -999.00,9, 1658.70,-999.0000,9,-999.0000,9,-999.0000,9,-999.0000,9,-999.0000,9,-999.0000,-999.000,-999.0000,9, -999.00
318M20040615,        P02,     134,          1,         13,         13,2,20040812,       0947,    29.9975,  -148.8975,       5293,  1762.7,   2.2542,  34.5933,2,  34.5938,2,  69.7000,2,    69.4,2,  157.72,2,   41.75,2,    0.00,2,    2.94,2,   0.009,2,   0.002,2,   0.000,2,  -999.0,9,  -999.0,9,   0.026,2,   1.9251,2,   22.35,2, -999.00,9,  -999.0,9,  -999.0,-999.000,9,-999.000, -999.00,9, 1762.70,-999.0000,9,-999.0000,9,-999.0000,9,-999.0000,9,-999.0000,9,   0.0096,   0.001,-999.0000,9,    0.20
318M20040615,        P02,     134,          1,          6,          6,2,20040812,       0947,    29.9975,  -148.8975,       5293,  1859.4,   2.1315,  34.6045,2,  34.6047,2,  74.2000,2,    74.2,2,  160.53,2,   41.34,2,    0.00,2,    2.92,2,   0.005,2,   0.000,2,   0.000,2,  -999.0,9,  -999.0,9,-999.000,9,-999.0000,9, -999.00,9, -999.00,9,  -999.0,9,  -999.0,-999.000,9,-999.000, -999.00,9, 1859.40,-999.0000,9,-999.0000,9,-999.0000,9,-999.0000,9,-999.0000,9,-999.0000,-999.000,-999.0000,9, -999.00
318M20040615,        P02,     134,          1,          5,          5,2,20040812,       0947,    29.9975,  -148.8975,       5293,  1959.7,   2.0549,  34.6120,2,  34.6120,2,  77.9000,2,    77.7,2,  162.95,2,   41.01,2,    0.00,2,    2.90,2,   0.006,2,   0.001,2,   0.000,2,  -999.0,9,  -999.0,9,-999.000,9,-999.0000,9, -999.00,9, -999.00,9,  -999.0,9,  -999.0,-999.000,9,-999.000, -999.00,9, 1959.70,-999.0000,9,-999.0000,9,-999.0000,9,-999.0000,9,-999.0000,9,-999.0000,-999.000,-999.0000,9, -999.00
318M20040615,        P02,     134,          1,          4,          4,2,20040812,       0947,    29.9975,  -148.8975,       5293,  2126.9,   1.9169,  34.6252,2,  34.6255,2,  84.3000,2,    84.5,2,  166.40,2,   40.46,2,    0.00,2,    2.87,2,-999.000,9,-999.000,9,-999.000,9,  -999.0,9,  -999.0,9,-999.000,9,-999.0000,9, -999.00,9, -999.00,9,  -999.0,9,  -999.0,-999.000,9,-999.000, -999.00,9, 2126.90,-999.0000,9,-999.0000,9,-999.0000,9,-999.0000,9,-999.0000,9,-999.0000,-999.000,-999.0000,9, -999.00
318M20040615,        P02,     134,          1,          3,          3,2,20040812,       0947,    29.9975,  -148.8975,       5293,  2380.3,   1.7655,  34.6405,2,  34.6404,2,  93.5000,2,    93.7,2,  170.24,2,   39.85,2,    0.00,2,    2.82,2,   0.005,2,   0.000,2,   0.000,2,  -999.0,9,  -999.0,9,-999.000,9,-999.0000,9, -999.00,9, -999.00,9,  -999.0,9,  -999.0,-999.000,9,-999.000, -999.00,9, 2380.30,-999.0000,9,-999.0000,9,-999.0000,9,-999.0000,9,-999.0000,9,-999.0000,-999.000,-999.0000,9, -999.00
318M20040615,        P02,     134,          1,          2,          2,2,20040812,       0947,    29.9975,  -148.8975,       5293,  2633.1,   1.6622,  34.6520,2,  34.6518,2, 103.5000,2,   103.7,2,  170.65,2,   39.25,2,    0.00,2,    2.77,2,-999.000,9,-999.000,9,-999.000,9,  -999.0,9,  -999.0,9,   0.011,2,-999.0000,9, -999.00,9, -999.00,9,  -999.0,9,  -999.0,-999.000,9,-999.000, -999.00,9, 2633.10,-999.0000,9,-999.0000,9,-999.0000,9,-999.0000,9,-999.0000,9,-999.0000,   0.000,-999.0000,9, -999.00
318M20040615,        P02,     134,          1,          1,          1,2,20040812,       0947,    29.9975,  -148.8975,       5293,  2886.2,   1.5814,  34.6617,2,  34.6618,2, 114.3000,2,   114.6,2,  169.62,2,   38.65,2,    0.00,2,    2.71,2,   0.008,2,   0.002,2,   0.000,2,  -999.0,9,  -999.0,9,-999.000,9,-999.0000,9, -999.00,9, -999.00,9,  -999.0,9,  -999.0,-999.000,9,-999.000, -999.00,9, 2886.20,-999.0000,9,-999.0000,9,-999.0000,9,-999.0000,9,-999.0000,9,-999.0000,-999.000,-999.0000,9, -999.00
318M20040615,        P02,     134,          1,         12,         12,2,20040812,       0947,    29.9975,  -148.8975,       5293,  3141.2,   1.5237,  34.6705,2,  34.6747,2, 124.5000,3,   124.8,2,  166.34,2,   38.15,2,    0.00,2,    2.65,2,   0.007,2,   0.001,2,   0.000,2,  -999.0,9,  -999.0,9,-999.000,9,-999.0000,9, -999.00,9, -999.00,9,  -999.0,9,  -999.0,-999.000,9,-999.000, -999.00,9, 3141.20,-999.0000,9,-999.0000,9,-999.0000,9,-999.0000,9,-999.0000,9,-999.0000,-999.000,-999.0000,9, -999.00
318M20040615,        P02,     134,          1,         11,         11,2,20040812,       0947,    29.9975,  -148.8975,       5293,  3553.7,   1.4765,  34.6801,2,  34.6800,2, 136.3000,2,   138.1,2,  161.06,2,   37.49,2,    0.00,2,    2.58,2,   0.008,2,   0.003,2,   0.000,2,  -999.0,9,  -999.0,9,-999.000,9,-999.0000,9, -999.00,9, -999.00,9,  -999.0,9,  -999.0,-999.000,9,-999.000, -999.00,9, 3553.70,-999.0000,9,-999.0000,9,-999.0000,9,-999.0000,9,-999.0000,9,-999.0000,-999.000,-999.0000,9, -999.00
318M20040615,        P02,     134,          1,         10,         10,2,20040812,       0947,    29.9975,  -148.8975,       5293,  3961.9,   1.4664,  34.6851,2,  34.6849,2, 145.3000,2,   146.7,2,  156.19,2,   36.93,2,    0.00,2,    2.53,2,   0.007,2,   0.003,2,   0.000,2,  -999.0,9,  -999.0,9,-999.000,9,-999.0000,9, -999.00,9, -999.00,9,  -999.0,9,  -999.0,-999.000,9,-999.000, -999.00,9, 3961.90,-999.0000,9,-999.0000,9,-999.0000,9,-999.0000,9,-999.0000,9,-999.0000,-999.000,-999.0000,9, -999.00
318M20040615,        P02,     134,          1,          9,          9,2,20040812,       0947,    29.9975,  -148.8975,       5293,  4374.6,   1.4791,  34.6880,2,  34.6888,2, 151.6000,2,   152.3,2,  152.73,2,   36.38,2,    0.00,2,    2.50,2,   0.007,2,   0.008,2,   0.000,2,  -999.0,9,  -999.0,9,-999.000,9,-999.0000,9, -999.00,9, -999.00,9,  -999.0,9,  -999.0,-999.000,9,-999.000, -999.00,9, 4374.60,-999.0000,9,-999.0000,9,-999.0000,9,-999.0000,9,-999.0000,9,-999.0000,-999.000,-999.0000,9, -999.00
318M20040615,        P02,     134,          1,          8,          8,2,20040812,       0947,    29.9975,  -148.8975,       5293,  4738.7,   1.4806,  34.6912,2,  34.6912,2, 158.8000,2,   159.6,2,  147.47,2,   35.78,2,    0.00,2,    2.46,2,   0.008,2,   0.010,2,   0.000,2,  -999.0,9,  -999.0,9,-999.000,9,-999.0000,9, -999.00,9, -999.00,9,  -999.0,9,  -999.0,-999.000,9,-999.000, -999.00,9, 4738.70,-999.0000,9,-999.0000,9,-999.0000,9,-999.0000,9,-999.0000,9,-999.0000,-999.000,-999.0000,9, -999.00
318M20040615,        P02,     134,          1,          7,          7,2,20040812,       0947,    29.9975,  -148.8975,       5293,  4937.1,   1.4876,  34.6926,2,  34.6925,2, 161.8000,2,   162.1,2,  145.46,2,   35.46,2,    0.00,2,    2.45,2,   0.008,2,   0.005,2,   0.000,2,  -999.0,9,  -999.0,9,-999.000,9,-999.0000,9, -999.00,9, -999.00,9,  -999.0,9,  -999.0,-999.000,9,-999.000, -999.00,9, 4937.10,-999.0000,9,-999.0000,9,-999.0000,9,-999.0000,9,-999.0000,9,-999.0000,-999.000,-999.0000,9, -999.00