BOTTLE,20131027SIOCCHRJL
EXPOCODE,SECT_ID,STNNBR,CASTNO,SAMPNO,BTLNBR,BTLNBR_FLAG_W,DATE,TIME,LATITUDE,LONGITUDE,DEPTH,CTDPRS,CTDTMP,CTDSAL,CTDSAL_FLAG_W,SALNTY,SALNTY_FLAG_W,CTDOXY,CTDOXY_FLAG_W,OXYGEN,OXYGEN_FLAG_W,SILCAT,SILCAT_FLAG_W,NITRAT,NITRAT_FLAG_W,NITRIT,NITRIT_FLAG_W,PHSPHT,PHSPHT_FLAG_W,CFC-11,CFC-11_FLAG_W,CFC-12,CFC-12_FLAG_W,CFC113,CFC113_FLAG_W,TCARBN,TCARBN_FLAG_W,ALKALI,ALKALI_FLAG_W,TRITUM,TRITUM_FLAG_W,HELIUM,HELIUM_FLAG_W,DELHE3,DELHE3_FLAG_W,DELC13,DELC13_FLAG_W,DELC14,DELC14_FLAG_W,C14ERR,NEON,NEON_FLAG_W,NEONER,DOC,DOC_FLAG_W,CTDRAW,CDOM380,CDOM380_FLAG_W,CDOM325,CDOM325_FLAG_W,CDOMSL,CDOMSL_FLAG_W,CDOM340,CDOM340_FLAG_W,CDOMSN,CDOMSN_FLAG_W,HELIER,TRITER,CDOM412,CDOM412_FLAG_W,DELHER
,,,,,,,,,,,METERS,DBAR,ITS-90,PSS-78,,PSS-78,,UMOL/KG,,UMOL/KG,,UMOL/KG,,UMOL/KG,,UMOL/KG,,UMOL/KG,,PMOL/KG,,PMOL/KG,,PMOL/KG,,UMOL/KG,,UMOL/KG,,TU,,NMOL/KG,,PERCNT,,/MILLE,,/MILLE,,/MILLE,NMOL/KG,,NMOL/KG,UMOL/KG,,DBAR,1/M,,1/M,,1/NM,,1/M,,1/NM,,NMOL/KG,TU,1/M,,PERCNT
318M20040615,        P02,     154,          1,         36,         36,2,20040818,       1259,    29.9982,  -134.1603,       4604,     5.4,  24.5241,  34.7242,2,  34.7292,2, 214.8000,2,   214.4,2,    0.88,2,    0.21,2,    0.00,2,    0.13,2,   1.917,2,   1.212,2,   0.136,2,  2016.8,2,  2307.8,6,-999.000,9,-999.0000,9, -999.00,9, -999.00,9,  -999.0,9,  -999.0,-999.000,9,-999.000, -999.00,9,    5.40,-999.0000,9,-999.0000,9,-999.0000,9,-999.0000,9,-999.0000,9,-999.0000,-999.000,-999.0000,9, -999.00
318M20040615,        P02,     154,          1,         35,         35,2,20040818,       1259,    29.9982,  -134.1603,       4604,    50.1,  21.8675,  34.8626,2,  34.8678,2, 232.3000,2,   232.5,2,    1.26,2,    0.16,2,    0.00,2,    0.09,2,-999.000,9,-999.000,9,-999.000,9,  -999.0,9,  -999.0,9,-999.000,9,-999.0000,9, -999.00,9, -999.00,9,  -999.0,9,  -999.0,-999.000,9,-999.000, -999.00,9,   50.10,-999.0000,9,-999.0000,9,-999.0000,9,-999.0000,9,-999.0000,9,-999.0000,-999.000,-999.0000,9, -999.00
318M20040615,        P02,     154,          1,         34,         34,2,20040818,       1259,    29.9982,  -134.1603,       4604,    75.0,  20.5172,  34.7644,2,  34.7630,2, 238.1000,2,   236.4,2,    1.25,2,    0.16,2,    0.00,2,    0.10,2,-999.000,9,-999.000,9,-999.000,9,  2015.0,2,  2298.9,6,-999.000,9,-999.0000,9, -999.00,9, -999.00,9,  -999.0,9,  -999.0,-999.000,9,-999.000, -999.00,9,   75.00,-999.0000,9,-999.0000,9,-999.0000,9,-999.0000,9,-999.0000,9,-999.0000,-999.000,-999.0000,9, -999.00
318M20040615,        P02,     154,          1,         33,         33,2,20040818,       1259,    29.9982,  -134.1603,       4604,   110.4,  19.4116,  34.8125,2,  34.7951,2, 230.8000,2,   227.3,2,    1.44,2,    0.00,2,    0.00,2,    0.11,2,   2.422,2,   1.468,2,   0.158,2,  -999.0,9,  -999.0,9,-999.000,9,-999.0000,9, -999.00,9, -999.00,9,  -999.0,9,  -999.0,-999.000,9,-999.000, -999.00,9,  110.40,-999.0000,9,-999.0000,9,-999.0000,9,-999.0000,9,-999.0000,9,-999.0000,-999.000,-999.0000,9, -999.00
318M20040615,        P02,     154,          1,         32,         32,2,20040818,       1259,    29.9982,  -134.1603,       4604,   165.3,  15.0656,  34.0107,2,  34.0235,2, 227.6000,2,   226.6,2,    3.00,2,    2.16,2,    0.05,2,    0.33,2,-999.000,9,-999.000,9,-999.000,9,  2028.3,2,  2253.0,2,-999.000,9,-999.0000,9, -999.00,9, -999.00,9,  -999.0,9,  -999.0,-999.000,9,-999.000, -999.00,9,  165.30,-999.0000,9,-999.0000,9,-999.0000,9,-999.0000,9,-999.0000,9,-999.0000,-999.000,-999.0000,9, -999.00
318M20040615,        P02,     154,          1,         31,         31,2,20040818,       1259,    29.9982,  -134.1603,       4604,   224.4,  11.6297,  33.7576,2,  33.7571,2, 222.5000,2,   224.5,2,    7.69,2,    8.44,2,    0.01,2,    0.71,2,   3.465,2,   1.966,2,   0.138,2,  -999.0,9,  -999.0,9,-999.000,9,-999.0000,9, -999.00,9, -999.00,9,  -999.0,9,  -999.0,-999.000,9,-999.000, -999.00,9,  224.40,-999.0000,9,-999.0000,9,-999.0000,9,-999.0000,9,-999.0000,9,-999.0000,-999.000,-999.0000,9, -999.00
318M20040615,        P02,     154,          1,         30,         30,2,20040818,       1259,    29.9982,  -134.1603,       4604,   264.1,   9.8608,  33.8004,2,  33.8019,2, 209.2000,2,   212.0,2,   14.53,2,   14.62,2,    0.00,2,    1.10,2,   3.574,2,   1.972,2,   0.112,2,  2094.0,2,  2242.1,2,-999.000,9,-999.0000,9, -999.00,9, -999.00,9,  -999.0,9,  -999.0,-999.000,9,-999.000, -999.00,9,  264.10,-999.0000,9,-999.0000,9,-999.0000,9,-999.0000,9,-999.0000,9,-999.0000,-999.000,-999.0000,9, -999.00
318M20040615,        P02,     154,          1,         29,         29,2,20040818,       1259,    29.9982,  -134.1603,       4604,   309.6,   9.3407,  33.9693,2,  33.9721,2, 195.7000,2,   197.3,2,   20.00,2,   17.93,2,    0.00,2,    1.28,2,-999.000,9,-999.000,9,-999.000,9,  -999.0,9,  -999.0,9,-999.000,9,-999.0000,9, -999.00,9, -999.00,9,  -999.0,9,  -999.0,-999.000,9,-999.000, -999.00,9,  309.60,-999.0000,9,-999.0000,9,-999.0000,9,-999.0000,9,-999.0000,9,-999.0000,-999.000,-999.0000,9, -999.00
318M20040615,        P02,     154,          1,         28,         28,2,20040818,       1259,    29.9982,  -134.1603,       4604,   354.1,   8.5241,  34.0322,2,  34.0328,2, 163.1000,2,   165.6,2,   29.60,2,   23.13,2,    0.00,2,    1.62,2,   3.146,2,   1.668,2,   0.114,2,  2155.0,2,  2265.4,2,-999.000,9,-999.0000,9, -999.00,9, -999.00,9,  -999.0,9,  -999.0,-999.000,9,-999.000, -999.00,9,  354.10,-999.0000,9,-999.0000,9,-999.0000,9,-999.0000,9,-999.0000,9,-999.0000,-999.000,-999.0000,9, -999.00
318M20040615,        P02,     154,          1,         27,         27,2,20040818,       1259,    29.9982,  -134.1603,       4604,   404.0,   7.4876,  34.0229,2,  34.0228,2, 136.5000,2,   135.1,2,   40.96,2,   28.09,2,    0.00,2,    1.98,2,   2.570,2,   1.304,2,   0.093,2,  -999.0,9,  -999.0,9,-999.000,9,-999.0000,9, -999.00,9, -999.00,9,  -999.0,9,  -999.0,-999.000,9,-999.000, -999.00,9,  404.00,-999.0000,9,-999.0000,9,-999.0000,9,-999.0000,9,-999.0000,9,-999.0000,-999.000,-999.0000,9, -999.00
318M20040615,        P02,     154,          1,         26,         26,2,20040818,       1259,    29.9982,  -134.1603,       4604,   453.7,   6.5244,  34.0106,2,  34.0109,2, 113.2000,2,   108.4,2,   52.74,2,   32.23,2,    0.00,2,    2.29,2,-999.000,9,-999.000,9,-999.000,9,  2225.2,2,  2279.0,2,-999.000,9,-999.0000,9, -999.00,9, -999.00,9,  -999.0,9,  -999.0,-999.000,9,-999.000, -999.00,9,  453.70,-999.0000,9,-999.0000,9,-999.0000,9,-999.0000,9,-999.0000,9,-999.0000,-999.000,-999.0000,9, -999.00
318M20040615,        P02,     154,          1,         25,         25,2,20040818,       1259,    29.9982,  -134.1603,       4604,   503.5,   5.8530,  34.0283,2,  34.0279,2,  84.5000,2,    80.7,2,   63.76,2,   35.62,2,    0.00,2,    2.56,2,   1.298,6,   0.638,6,   0.027,6,  -999.0,9,  -999.0,9,-999.000,9,-999.0000,9, -999.00,9, -999.00,9,  -999.0,9,  -999.0,-999.000,9,-999.000, -999.00,9,  503.50,-999.0000,9,-999.0000,9,-999.0000,9,-999.0000,9,-999.0000,9,-999.0000,-999.000,-999.0000,9, -999.00
318M20040615,        P02,     154,          1,         24,         24,2,20040818,       1259,    29.9982,  -134.1603,       4604,   608.5,   5.0317,  34.1034,2,  34.1043,2,  47.4000,2,    44.2,2,   83.11,2,   39.86,2,    0.00,2,    2.90,2,   0.490,2,   0.245,2,   0.010,2,  2298.5,2,  2312.1,2,-999.000,9,-999.0000,9, -999.00,9, -999.00,9,  -999.0,9,  -999.0,-999.000,9,-999.000, -999.00,9,  608.50,-999.0000,9,-999.0000,9,-999.0000,9,-999.0000,9,-999.0000,9,-999.0000,-999.000,-999.0000,9, -999.00
318M20040615,        P02,     154,          1,         23,         23,2,20040818,       1259,    29.9982,  -134.1603,       4604,   707.7,   4.4961,  34.2141,2,  34.2134,2,  22.5000,2,    20.6,2,   99.37,2,   42.31,2,    0.00,2,    3.11,2,   0.143,2,   0.066,2,   0.000,2,  -999.0,9,  -999.0,9,-999.000,9,-999.0000,9, -999.00,9, -999.00,9,  -999.0,9,  -999.0,-999.000,9,-999.000, -999.00,9,  707.70,-999.0000,9,-999.0000,9,-999.0000,9,-999.0000,9,-999.0000,9,-999.0000,-999.000,-999.0000,9, -999.00
318M20040615,        P02,     154,          1,         22,         22,2,20040818,       1259,    29.9982,  -134.1603,       4604,   807.4,   4.2145,  34.3032,2,  34.3028,2,  14.9000,2,    14.9,2,  108.72,2,   43.18,2,    0.00,2,    3.18,2,   0.039,2,   0.019,2,   0.000,2,  2346.4,6,  2345.1,2,-999.000,9,-999.0000,9, -999.00,9, -999.00,9,  -999.0,9,  -999.0,-999.000,9,-999.000, -999.00,9,  807.40,-999.0000,9,-999.0000,9,-999.0000,9,-999.0000,9,-999.0000,9,-999.0000,-999.000,-999.0000,9, -999.00
318M20040615,        P02,     154,          1,         21,         21,2,20040818,       1259,    29.9982,  -134.1603,       4604,   908.0,   3.9341,  34.3924,2,  34.3929,2,  16.8000,2,    17.4,2,  116.69,2,   43.66,2,    0.00,2,    3.20,2,   0.024,2,   0.016,2,   0.000,2,  -999.0,9,  -999.0,9,-999.000,9,-999.0000,9, -999.00,9, -999.00,9,  -999.0,9,  -999.0,-999.000,9,-999.000, -999.00,9,  908.00,-999.0000,9,-999.0000,9,-999.0000,9,-999.0000,9,-999.0000,9,-999.0000,-999.000,-999.0000,9, -999.00
318M20040615,        P02,     154,          1,         20,         20,2,20040818,       1259,    29.9982,  -134.1603,       4604,  1008.6,   3.6972,  34.4460,2,  34.4457,2,  23.1000,2,    24.3,2,  122.29,2,   43.77,2,    0.00,2,    3.17,2,   0.015,2,   0.009,2,   0.000,2,  -999.0,9,  -999.0,9,-999.000,9,-999.0000,9, -999.00,9, -999.00,9,  -999.0,9,  -999.0,-999.000,9,-999.000, -999.00,9, 1008.60,-999.0000,9,-999.0000,9,-999.0000,9,-999.0000,9,-999.0000,9,-999.0000,-999.000,-999.0000,9, -999.00
318M20040615,        P02,     154,          1,         19,         19,2,20040818,       1259,    29.9982,  -134.1603,       4604,  1109.0,   3.4766,  34.4830,2,  34.4844,2,  32.3000,2,    32.8,2,  127.08,2,   43.54,2,    0.00,2,    3.14,2,-999.000,9,-999.000,9,-999.000,9,  -999.0,9,  -999.0,9,-999.000,9,-999.0000,9, -999.00,9, -999.00,9,  -999.0,9,  -999.0,-999.000,9,-999.000, -999.00,9, 1109.00,-999.0000,9,-999.0000,9,-999.0000,9,-999.0000,9,-999.0000,9,-999.0000,-999.000,-999.0000,9, -999.00
318M20040615,        P02,     154,          1,         18,         18,2,20040818,       1259,    29.9982,  -134.1603,       4604,  1214.6,   3.2630,  34.5156,2,  34.5168,2,  40.0000,2,    41.1,2,  130.88,2,   43.05,2,    0.00,2,    3.10,2,   0.005,2,   0.005,2,   0.000,2,  -999.0,9,  -999.0,9,-999.000,9,-999.0000,9, -999.00,9, -999.00,9,  -999.0,9,  -999.0,-999.000,9,-999.000, -999.00,9, 1214.60,-999.0000,9,-999.0000,9,-999.0000,9,-999.0000,9,-999.0000,9,-999.0000,-999.000,-999.0000,9, -999.00
318M20040615,        P02,     154,          1,         17,         17,2,20040818,       1259,    29.9982,  -134.1603,       4604,  1314.6,   3.1011,  34.5316,2,  34.5317,2,  44.9000,2,    45.1,2,  134.86,2,   42.76,2,    0.00,2,    3.08,2,-999.000,9,-999.000,9,-999.000,9,  -999.0,9,  -999.0,9,-999.000,9,-999.0000,9, -999.00,9, -999.00,9,  -999.0,9,  -999.0,-999.000,9,-999.000, -999.00,9, 1314.60,-999.0000,9,-999.0000,9,-999.0000,9,-999.0000,9,-999.0000,9,-999.0000,-999.000,-999.0000,9, -999.00
318M20040615,        P02,     154,          1,         16,         16,2,20040818,       1259,    29.9982,  -134.1603,       4604,  1414.6,   2.9132,  34.5503,2,  34.5508,2,  51.1000,2,    50.6,2,  139.31,2,   42.34,2,    0.00,2,    3.05,2,   0.008,2,   0.008,2,   0.000,2,  -999.0,9,  -999.0,9,-999.000,9,-999.0000,9, -999.00,9, -999.00,9,  -999.0,9,  -999.0,-999.000,9,-999.000, -999.00,9, 1414.60,-999.0000,9,-999.0000,9,-999.0000,9,-999.0000,9,-999.0000,9,-999.0000,-999.000,-999.0000,9, -999.00
318M20040615,        P02,     154,          1,         15,         15,2,20040818,       1259,    29.9982,  -134.1603,       4604,  1514.9,   2.7681,  34.5623,2,  34.5620,2,  55.2000,2,    54.4,2,  143.12,2,   42.05,2,    0.00,2,    3.03,2,-999.000,9,-999.000,9,-999.000,9,  -999.0,9,  -999.0,9,-999.000,9,-999.0000,9, -999.00,9, -999.00,9,  -999.0,9,  -999.0,-999.000,9,-999.000, -999.00,9, 1514.90,-999.0000,9,-999.0000,9,-999.0000,9,-999.0000,9,-999.0000,9,-999.0000,-999.000,-999.0000,9, -999.00
318M20040615,        P02,     154,          1,         14,         14,2,20040818,       1259,    29.9982,  -134.1603,       4604,  1614.9,   2.6088,  34.5755,2,  34.5763,2,  59.2000,2,    59.2,2,  147.17,2,   41.67,2,    0.00,2,    3.01,2,   0.014,2,   0.006,2,   0.000,2,  -999.0,9,  -999.0,9,-999.000,9,-999.0000,9, -999.00,9, -999.00,9,  -999.0,9,  -999.0,-999.000,9,-999.000, -999.00,9, 1614.90,-999.0000,9,-999.0000,9,-999.0000,9,-999.0000,9,-999.0000,9,-999.0000,-999.000,-999.0000,9, -999.00
318M20040615,        P02,     154,          1,         13,         13,2,20040818,       1259,    29.9982,  -134.1603,       4604,  1720.5,   2.4347,  34.5889,2,  34.5887,2,  64.0000,2,    64.2,2,  152.23,2,   41.51,2,    0.00,2,    2.98,2,-999.000,9,-999.000,9,-999.000,9,  -999.0,9,  -999.0,9,-999.000,9,-999.0000,9, -999.00,9, -999.00,9,  -999.0,9,  -999.0,-999.000,9,-999.000, -999.00,9, 1720.50,-999.0000,9,-999.0000,9,-999.0000,9,-999.0000,9,-999.0000,9,-999.0000,-999.000,-999.0000,9, -999.00
318M20040615,        P02,     154,          1,         12,         12,2,20040818,       1259,    29.9982,  -134.1603,       4604,  1818.7,   2.3149,  34.5987,2,  34.5986,2,  67.8000,2,    68.3,2,  155.45,2,   41.61,2,    0.00,2,    2.97,2,   0.007,2,   0.002,2,   0.000,2,  -999.0,9,  -999.0,9,-999.000,9,-999.0000,9, -999.00,9, -999.00,9,  -999.0,9,  -999.0,-999.000,9,-999.000, -999.00,9, 1818.70,-999.0000,9,-999.0000,9,-999.0000,9,-999.0000,9,-999.0000,9,-999.0000,-999.000,-999.0000,9, -999.00
318M20040615,        P02,     154,          1,         11,         11,2,20040818,       1259,    29.9982,  -134.1603,       4604,  2022.3,   2.0936,  34.6162,2,  34.6166,2,  77.2000,2,    77.3,2,  162.15,2,   41.17,2,    0.00,2,    2.91,2,-999.000,9,-999.000,9,-999.000,9,  -999.0,9,  -999.0,9,-999.000,9,-999.0000,9, -999.00,9, -999.00,9,  -999.0,9,  -999.0,-999.000,9,-999.000, -999.00,9, 2022.30,-999.0000,9,-999.0000,9,-999.0000,9,-999.0000,9,-999.0000,9,-999.0000,-999.000,-999.0000,9, -999.00
318M20040615,        P02,     154,          1,         10,         10,2,20040818,       1259,    29.9982,  -134.1603,       4604,  2279.7,   1.8956,  34.6348,2,  34.6341,2,  88.6000,2,    89.1,2,  165.79,2,   40.35,2,    0.00,2,    2.85,2,   0.009,2,   0.003,2,   0.000,2,  -999.0,9,  -999.0,9,-999.000,9,-999.0000,9, -999.00,9, -999.00,9,  -999.0,9,  -999.0,-999.000,9,-999.000, -999.00,9, 2279.70,-999.0000,9,-999.0000,9,-999.0000,9,-999.0000,9,-999.0000,9,-999.0000,-999.000,-999.0000,9, -999.00
318M20040615,        P02,     154,          1,          9,          9,2,20040818,       1259,    29.9982,  -134.1603,       4604,  2535.6,   1.7566,  34.6488,2,  34.6489,2, 100.6000,2,   100.1,2,  168.02,2,   39.53,2,    0.00,2,    2.79,2,-999.000,9,-999.000,9,-999.000,9,  -999.0,9,  -999.0,9,-999.000,9,-999.0000,9, -999.00,9, -999.00,9,  -999.0,9,  -999.0,-999.000,9,-999.000, -999.00,9, 2535.60,-999.0000,9,-999.0000,9,-999.0000,9,-999.0000,9,-999.0000,9,-999.0000,-999.000,-999.0000,9, -999.00
318M20040615,        P02,     154,          1,          8,          8,2,20040818,       1259,    29.9982,  -134.1603,       4604,  2792.0,   1.6511,  34.6587,2,  34.6601,2, 109.2000,2,   109.3,2,  169.63,2,   38.88,2,    0.00,2,    2.73,2,   0.005,2,   0.003,2,   0.000,2,  -999.0,9,  -999.0,9,-999.000,9,-999.0000,9, -999.00,9, -999.00,9,  -999.0,9,  -999.0,-999.000,9,-999.000, -999.00,9, 2792.00,-999.0000,9,-999.0000,9,-999.0000,9,-999.0000,9,-999.0000,9,-999.0000,-999.000,-999.0000,9, -999.00
318M20040615,        P02,     154,          1,          7,          7,2,20040818,       1259,    29.9982,  -134.1603,       4604,  3042.7,   1.5687,  34.6672,2,  34.6674,2, 117.3000,2,   117.9,2,  171.04,2,   38.28,2,    0.00,2,    2.69,2,-999.000,9,-999.000,9,-999.000,9,  -999.0,9,  -999.0,9,-999.000,9,-999.0000,9, -999.00,9, -999.00,9,  -999.0,9,  -999.0,-999.000,9,-999.000, -999.00,9, 3042.70,-999.0000,9,-999.0000,9,-999.0000,9,-999.0000,9,-999.0000,9,-999.0000,-999.000,-999.0000,9, -999.00
318M20040615,        P02,     154,          1,          6,          6,2,20040818,       1259,    29.9982,  -134.1603,       4604,  3296.5,   1.5076,  34.6748,2,  34.6750,2, 126.7000,2,   127.5,2,  169.42,2,   37.63,2,    0.00,2,    2.64,2,   0.011,2,   0.008,2,   0.000,2,  -999.0,9,  -999.0,9,-999.000,9,-999.0000,9, -999.00,9, -999.00,9,  -999.0,9,  -999.0,-999.000,9,-999.000, -999.00,9, 3296.50,-999.0000,9,-999.0000,9,-999.0000,9,-999.0000,9,-999.0000,9,-999.0000,-999.000,-999.0000,9, -999.00
318M20040615,        P02,     154,          1,          5,          5,2,20040818,       1259,    29.9982,  -134.1603,       4604,  3550.4,   1.4822,  34.6800,2,  34.6805,2, 134.1000,2,   134.9,2,  166.35,2,   37.14,2,    0.00,2,    2.60,2,   0.012,2,   0.010,2,   0.000,2,  -999.0,9,  -999.0,9,-999.000,9,-999.0000,9, -999.00,9, -999.00,9,  -999.0,9,  -999.0,-999.000,9,-999.000, -999.00,9, 3550.40,-999.0000,9,-999.0000,9,-999.0000,9,-999.0000,9,-999.0000,9,-999.0000,-999.000,-999.0000,9, -999.00
318M20040615,        P02,     154,          1,          4,          4,2,20040818,       1259,    29.9982,  -134.1603,       4604,  3810.5,   1.4793,  34.6833,2,  34.6829,2, 139.4000,2,   140.1,2,  163.49,2,   36.81,2,    0.00,2,    2.57,2,   0.010,2,   0.011,2,   0.000,2,  -999.0,9,  -999.0,9,-999.000,9,-999.0000,9, -999.00,9, -999.00,9,  -999.0,9,  -999.0,-999.000,9,-999.000, -999.00,9, 3810.50,-999.0000,9,-999.0000,9,-999.0000,9,-999.0000,9,-999.0000,9,-999.0000,-999.000,-999.0000,9, -999.00
318M20040615,        P02,     154,          1,          3,          3,2,20040818,       1259,    29.9982,  -134.1603,       4604,  4065.3,   1.4927,  34.6851,2,  34.6853,2, 142.3000,2,   142.4,2,  161.45,2,   36.87,2,    0.00,2,    2.55,2,   0.011,2,   0.013,2,   0.000,2,  -999.0,9,  -999.0,9,-999.000,9,-999.0000,9, -999.00,9, -999.00,9,  -999.0,9,  -999.0,-999.000,9,-999.000, -999.00,9, 4065.30,-999.0000,9,-999.0000,9,-999.0000,9,-999.0000,9,-999.0000,9,-999.0000,-999.000,-999.0000,9, -999.00
318M20040615,        P02,     154,          1,          2,          2,2,20040818,       1259,    29.9982,  -134.1603,       4604,  4370.5,   1.5224,  34.6858,2,  34.6859,2, 143.4000,2,   144.0,2,  161.44,2,   37.02,2,    0.00,2,    2.55,2,   0.011,2,   0.010,2,   0.000,2,  -999.0,9,  -999.0,9,-999.000,9,-999.0000,9, -999.00,9, -999.00,9,  -999.0,9,  -999.0,-999.000,9,-999.000, -999.00,9, 4370.50,-999.0000,9,-999.0000,9,-999.0000,9,-999.0000,9,-999.0000,9,-999.0000,-999.000,-999.0000,9, -999.00
318M20040615,        P02,     154,          1,          1,          1,2,20040818,       1259,    29.9982,  -134.1603,       4604,  4670.6,   1.5577,  34.6858,2,  34.6863,2, 143.6000,2,   144.1,2,  161.01,2,   37.02,2,    0.00,2,    2.55,2,   0.010,2,   0.011,2,   0.000,2,  -999.0,9,  -999.0,9,-999.000,9,-999.0000,9, -999.00,9, -999.00,9,  -999.0,9,  -999.0,-999.000,9,-999.000, -999.00,9, 4670.60,-999.0000,9,-999.0000,9,-999.0000,9,-999.0000,9,-999.0000,9,-999.0000,-999.000,-999.0000,9, -999.00