BOTTLE,20131027SIOCCHRJL
EXPOCODE,SECT_ID,STNNBR,CASTNO,SAMPNO,BTLNBR,BTLNBR_FLAG_W,DATE,TIME,LATITUDE,LONGITUDE,DEPTH,CTDPRS,CTDTMP,CTDSAL,CTDSAL_FLAG_W,SALNTY,SALNTY_FLAG_W,CTDOXY,CTDOXY_FLAG_W,OXYGEN,OXYGEN_FLAG_W,SILCAT,SILCAT_FLAG_W,NITRAT,NITRAT_FLAG_W,NITRIT,NITRIT_FLAG_W,PHSPHT,PHSPHT_FLAG_W,CFC-11,CFC-11_FLAG_W,CFC-12,CFC-12_FLAG_W,CFC113,CFC113_FLAG_W,TCARBN,TCARBN_FLAG_W,ALKALI,ALKALI_FLAG_W,TRITUM,TRITUM_FLAG_W,HELIUM,HELIUM_FLAG_W,DELHE3,DELHE3_FLAG_W,DELC13,DELC13_FLAG_W,DELC14,DELC14_FLAG_W,C14ERR,NEON,NEON_FLAG_W,NEONER,DOC,DOC_FLAG_W,CTDRAW,CDOM380,CDOM380_FLAG_W,CDOM325,CDOM325_FLAG_W,CDOMSL,CDOMSL_FLAG_W,CDOM340,CDOM340_FLAG_W,CDOMSN,CDOMSN_FLAG_W,HELIER,TRITER,CDOM412,CDOM412_FLAG_W,DELHER
,,,,,,,,,,,METERS,DBAR,ITS-90,PSS-78,,PSS-78,,UMOL/KG,,UMOL/KG,,UMOL/KG,,UMOL/KG,,UMOL/KG,,UMOL/KG,,PMOL/KG,,PMOL/KG,,PMOL/KG,,UMOL/KG,,UMOL/KG,,TU,,NMOL/KG,,PERCNT,,/MILLE,,/MILLE,,/MILLE,NMOL/KG,,NMOL/KG,UMOL/KG,,DBAR,1/M,,1/M,,1/NM,,1/M,,1/NM,,NMOL/KG,TU,1/M,,PERCNT
318M20040615,        P02,      59,          1,         36,         36,2,20040707,       1057,    29.9998,   163.5037,       5923,     7.4,  26.4134,  35.1968,2,  35.1957,2, 213.9000,2,   213.5,2,    1.31,2,    0.13,2,    0.00,2,    0.02,2,   1.743,2,   1.088,2,   0.125,2,  1991.9,6,  2312.9,6,-999.000,9,-999.0000,9, -999.00,9, -999.00,9,  -999.0,9,  -999.0,-999.000,9,-999.000, -999.00,9,    7.40,-999.0000,9,-999.0000,9,-999.0000,9,-999.0000,9,-999.0000,9,-999.0000,-999.000,-999.0000,9, -999.00
318M20040615,        P02,      59,          1,         35,         35,2,20040707,       1057,    29.9998,   163.5037,       5923,    36.5,  22.7099,  35.1045,2,  35.1130,2, 237.7000,2,   234.5,2,    1.65,2,    0.13,2,    0.00,2,    0.02,2,   2.131,2,   1.298,2,   0.145,2,  1994.8,2,  2308.3,2,-999.000,9,-999.0000,9, -999.00,9, -999.00,9,  -999.0,9,  -999.0,-999.000,9,-999.000, -999.00,9,   36.50,-999.0000,9,-999.0000,9,-999.0000,9,-999.0000,9,-999.0000,9,-999.0000,-999.000,-999.0000,9, -999.00
318M20040615,        P02,      59,          1,         34,         34,2,20040707,       1057,    29.9998,   163.5037,       5923,    71.2,  19.8227,  35.0038,2,  35.0025,2, 235.0000,2,   236.5,2,    1.83,2,    0.13,2,    0.00,2,    0.04,2,   2.315,2,   1.393,2,   0.157,2,  1999.7,2,  2297.9,2,-999.000,9,-999.0000,9, -999.00,9, -999.00,9,  -999.0,9,  -999.0,-999.000,9,-999.000, -999.00,9,   71.20,-999.0000,9,-999.0000,9,-999.0000,9,-999.0000,9,-999.0000,9,-999.0000,-999.000,-999.0000,9, -999.00
318M20040615,        P02,      59,          1,         33,         33,2,20040707,       1057,    29.9998,   163.5037,       5923,   126.0,  18.1905,  34.8986,2,  34.8972,2, 221.1000,2,   224.1,2,    2.35,2,    1.07,2,    0.20,2,    0.14,2,   2.406,2,   1.448,2,   0.149,2,  2015.4,2,  2291.7,2,-999.000,9,-999.0000,9, -999.00,9, -999.00,9,  -999.0,9,  -999.0,-999.000,9,-999.000, -999.00,9,  126.00,-999.0000,9,-999.0000,9,-999.0000,9,-999.0000,9,-999.0000,9,-999.0000,-999.000,-999.0000,9, -999.00
318M20040615,        P02,      59,          1,         32,         32,2,20040707,       1057,    29.9998,   163.5037,       5923,   175.7,  17.2578,  34.7888,2,  34.7871,2, 218.3000,2,   220.0,2,    3.43,2,    3.45,2,    0.01,2,    0.25,2,   2.481,2,   1.476,2,   0.124,2,  2022.2,2,  2284.1,2,-999.000,9,-999.0000,9, -999.00,9, -999.00,9,  -999.0,9,  -999.0,-999.000,9,-999.000, -999.00,9,  175.70,-999.0000,9,-999.0000,9,-999.0000,9,-999.0000,9,-999.0000,9,-999.0000,-999.000,-999.0000,9, -999.00
318M20040615,        P02,      59,          1,         31,         31,2,20040707,       1057,    29.9998,   163.5037,       5923,   225.6,  16.8186,  34.7459,2,  34.7513,2, 220.2000,2,   219.3,2,    3.96,2,    4.24,2,    0.01,2,    0.30,2,   2.531,2,   1.509,2,   0.105,2,  2026.1,2,  2282.0,2,-999.000,9,-999.0000,9, -999.00,9, -999.00,9,  -999.0,9,  -999.0,-999.000,9,-999.000, -999.00,9,  225.60,-999.0000,9,-999.0000,9,-999.0000,9,-999.0000,9,-999.0000,9,-999.0000,-999.000,-999.0000,9, -999.00
318M20040615,        P02,      59,          1,         30,         30,2,20040707,       1057,    29.9998,   163.5037,       5923,   275.7,  16.4408,  34.7188,2,  34.7176,2, 223.6000,2,   217.8,2,    4.49,2,    5.00,2,    0.01,2,    0.35,2,   2.546,2,   1.520,2,   0.083,2,  2030.3,2,  2280.2,2,-999.000,9,-999.0000,9, -999.00,9, -999.00,9,  -999.0,9,  -999.0,-999.000,9,-999.000, -999.00,9,  275.70,-999.0000,9,-999.0000,9,-999.0000,9,-999.0000,9,-999.0000,9,-999.0000,-999.000,-999.0000,9, -999.00
318M20040615,        P02,      59,          1,         29,         29,2,20040707,       1057,    29.9998,   163.5037,       5923,   325.4,  15.9621,  34.6747,2,  34.6745,2, 217.3000,2,   213.6,2,    5.56,2,    5.98,2,    0.01,2,    0.43,2,   2.578,2,   1.515,2,   0.068,2,  2038.7,2,  2279.3,2,-999.000,9,-999.0000,9, -999.00,9, -999.00,9,  -999.0,9,  -999.0,-999.000,9,-999.000, -999.00,9,  325.40,-999.0000,9,-999.0000,9,-999.0000,9,-999.0000,9,-999.0000,9,-999.0000,-999.000,-999.0000,9, -999.00
318M20040615,        P02,      59,          1,         28,         28,2,20040707,       1057,    29.9998,   163.5037,       5923,   375.2,  15.3185,  34.6196,2,  34.6209,2, 216.6000,2,   213.4,2,    6.64,2,    6.97,2,    0.01,2,    0.50,2,   2.636,2,   1.529,2,   0.068,2,  2046.4,2,  2279.7,2,-999.000,9,-999.0000,9, -999.00,9, -999.00,9,  -999.0,9,  -999.0,-999.000,9,-999.000, -999.00,9,  375.20,-999.0000,9,-999.0000,9,-999.0000,9,-999.0000,9,-999.0000,9,-999.0000,-999.000,-999.0000,9, -999.00
318M20040615,        P02,      59,          1,         27,         27,2,20040707,       1057,    29.9998,   163.5037,       5923,   424.8,  14.5123,  34.5560,2,  34.5553,2, 211.6000,2,   209.6,2,    8.81,2,    8.60,2,    0.01,2,    0.61,2,   2.708,2,   1.550,2,   0.061,2,  -999.0,9,  -999.0,9,-999.000,9,-999.0000,9, -999.00,9, -999.00,9,  -999.0,9,  -999.0,-999.000,9,-999.000, -999.00,9,  424.80,-999.0000,9,-999.0000,9,-999.0000,9,-999.0000,9,-999.0000,9,-999.0000,-999.000,-999.0000,9, -999.00
318M20040615,        P02,      59,          1,         26,         26,2,20040707,       1057,    29.9998,   163.5037,       5923,   474.3,  13.3022,  34.4550,2,  34.4564,2, 207.8000,2,   207.1,2,   11.52,2,   10.72,2,    0.00,2,    0.75,2,   2.832,2,   1.605,2,   0.060,2,  -999.0,9,  -999.0,9,-999.000,9,-999.0000,9, -999.00,9, -999.00,9,  -999.0,9,  -999.0,-999.000,9,-999.000, -999.00,9,  474.30,-999.0000,9,-999.0000,9,-999.0000,9,-999.0000,9,-999.0000,9,-999.0000,-999.000,-999.0000,9, -999.00
318M20040615,        P02,      59,          1,         25,         25,2,20040707,       1057,    29.9998,   163.5037,       5923,   543.0,  11.9649,  34.3480,2,  34.3487,2, 206.2000,2,   207.5,2,   14.96,2,   12.94,2,    0.00,2,    0.90,2,   2.941,2,   1.655,2,   0.078,2,  2088.1,2,  2269.5,6,-999.000,9,-999.0000,9, -999.00,9, -999.00,9,  -999.0,9,  -999.0,-999.000,9,-999.000, -999.00,9,  543.00,-999.0000,9,-999.0000,9,-999.0000,9,-999.0000,9,-999.0000,9,-999.0000,-999.000,-999.0000,9, -999.00
318M20040615,        P02,      59,          1,         24,         24,2,20040707,       1057,    29.9998,   163.5037,       5923,   641.7,   9.5413,  34.1787,2,  34.1802,2, 184.1000,2,   187.9,2,   27.87,2,   18.98,2,    0.00,2,    1.34,2,   2.747,2,   1.479,2,   0.102,2,  -999.0,9,  -999.0,9,-999.000,9,-999.0000,9, -999.00,9, -999.00,9,  -999.0,9,  -999.0,-999.000,9,-999.000, -999.00,9,  641.70,-999.0000,9,-999.0000,9,-999.0000,9,-999.0000,9,-999.0000,9,-999.0000,-999.000,-999.0000,9, -999.00
318M20040615,        P02,      59,          1,         23,         23,2,20040707,       1057,    29.9998,   163.5037,       5923,   741.7,   6.9407,  34.0294,2,  34.0356,2, 150.6000,2,   156.7,2,   48.50,2,   26.39,2,    0.00,2,    1.92,2,   2.419,6,   1.271,6,   0.105,6,  -999.0,9,  -999.0,9,-999.000,9,-999.0000,9, -999.00,9, -999.00,9,  -999.0,9,  -999.0,-999.000,9,-999.000, -999.00,9,  741.70,-999.0000,9,-999.0000,9,-999.0000,9,-999.0000,9,-999.0000,9,-999.0000,-999.000,-999.0000,9, -999.00
318M20040615,        P02,      59,          1,         22,         22,2,20040707,       1057,    29.9998,   163.5037,       5923,   842.5,   5.5514,  34.0321,2,  34.0341,2, 114.1000,2,   116.0,2,   69.03,2,   32.53,2,    0.00,2,    2.38,2,   1.805,2,   0.921,2,   0.087,2,  -999.0,9,  -999.0,9,-999.000,9,-999.0000,9, -999.00,9, -999.00,9,  -999.0,9,  -999.0,-999.000,9,-999.000, -999.00,9,  842.50,-999.0000,9,-999.0000,9,-999.0000,9,-999.0000,9,-999.0000,9,-999.0000,-999.000,-999.0000,9, -999.00
318M20040615,        P02,      59,          1,         21,         21,2,20040707,       1057,    29.9998,   163.5037,       5923,   937.0,   4.7705,  34.1184,2,  34.1189,2,  75.5000,2,    78.2,2,   88.91,2,   37.19,2,    0.00,2,    2.69,2,   1.100,2,   0.560,2,   0.046,2,  2283.6,2,  2316.9,2,-999.000,9,-999.0000,9, -999.00,9, -999.00,9,  -999.0,9,  -999.0,-999.000,9,-999.000, -999.00,9,  937.00,-999.0000,9,-999.0000,9,-999.0000,9,-999.0000,9,-999.0000,9,-999.0000,-999.000,-999.0000,9, -999.00
318M20040615,        P02,      59,          1,         20,         20,2,20040707,       1057,    29.9998,   163.5037,       5923,  1038.0,   4.1903,  34.2073,2,  34.2082,2,  55.2000,2,    54.9,2,  105.87,2,   39.85,2,    0.00,2,    2.89,2,   0.610,2,   0.306,2,   0.021,2,  -999.0,9,  -999.0,9,-999.000,9,-999.0000,9, -999.00,9, -999.00,9,  -999.0,9,  -999.0,-999.000,9,-999.000, -999.00,9, 1038.00,-999.0000,9,-999.0000,9,-999.0000,9,-999.0000,9,-999.0000,9,-999.0000,-999.000,-999.0000,9, -999.00
318M20040615,        P02,      59,          1,         19,         19,2,20040707,       1057,    29.9998,   163.5037,       5923,  1138.9,   3.8037,  34.3023,2,  34.3039,2,  38.5000,2,    37.8,2,  117.68,2,   41.88,2,    0.00,2,    3.03,2,   0.163,2,   0.080,2,   0.004,2,  -999.0,9,  -999.0,9,-999.000,9,-999.0000,9, -999.00,9, -999.00,9,  -999.0,9,  -999.0,-999.000,9,-999.000, -999.00,9, 1138.90,-999.0000,9,-999.0000,9,-999.0000,9,-999.0000,9,-999.0000,9,-999.0000,-999.000,-999.0000,9, -999.00
318M20040615,        P02,      59,          1,         18,         18,2,20040707,       1057,    29.9998,   163.5037,       5923,  1240.2,   3.4484,  34.3590,2,  34.3600,2,  34.6000,2,    34.5,2,  127.86,2,   42.63,2,    0.00,2,    3.07,2,   0.095,2,   0.051,2,   0.002,2,  2352.7,2,  2366.0,2,-999.000,9,-999.0000,9, -999.00,9, -999.00,9,  -999.0,9,  -999.0,-999.000,9,-999.000, -999.00,9, 1240.20,-999.0000,9,-999.0000,9,-999.0000,9,-999.0000,9,-999.0000,9,-999.0000,-999.000,-999.0000,9, -999.00
318M20040615,        P02,      59,          1,         17,         17,2,20040707,       1057,    29.9998,   163.5037,       5923,  1340.6,   3.1460,  34.4094,2,  34.4103,2,  34.0000,2,    33.8,2,  136.56,2,   43.38,2,    0.00,2,    3.09,2,   0.052,2,   0.023,2,   0.003,2,  2362.1,2,  2377.7,2,-999.000,9,-999.0000,9, -999.00,9, -999.00,9,  -999.0,9,  -999.0,-999.000,9,-999.000, -999.00,9, 1340.60,-999.0000,9,-999.0000,9,-999.0000,9,-999.0000,9,-999.0000,9,-999.0000,-999.000,-999.0000,9, -999.00
318M20040615,        P02,      59,          1,         16,         16,2,20040707,       1057,    29.9998,   163.5037,       5923,  1440.5,   2.8841,  34.4374,2,  34.4388,2,  34.2000,2,    33.8,2,  144.92,2,   43.63,2,    0.00,2,    3.09,2,   0.046,2,   0.023,2,  -0.001,2,  2370.1,2,  2383.6,2,-999.000,9,-999.0000,9, -999.00,9, -999.00,9,  -999.0,9,  -999.0,-999.000,9,-999.000, -999.00,9, 1440.50,-999.0000,9,-999.0000,9,-999.0000,9,-999.0000,9,-999.0000,9,-999.0000,-999.000,-999.0000,9, -999.00
318M20040615,        P02,      59,          1,         15,         15,2,20040707,       1057,    29.9998,   163.5037,       5923,  1541.2,   2.6870,  34.4730,2,  34.4728,2,  34.6000,2,    36.6,2,  149.91,2,   43.51,2,    0.00,2,    3.09,2,   0.031,2,   0.015,2,   0.001,2,  -999.0,9,  2390.3,2,-999.000,9,-999.0000,9, -999.00,9, -999.00,9,  -999.0,9,  -999.0,-999.000,9,-999.000, -999.00,9, 1541.20,-999.0000,9,-999.0000,9,-999.0000,9,-999.0000,9,-999.0000,9,-999.0000,-999.000,-999.0000,9, -999.00
318M20040615,        P02,      59,          1,         14,         14,2,20040707,       1057,    29.9998,   163.5037,       5923,  1742.0,   2.3655,  34.5273,2,  34.5284,2,  44.4000,2,    46.3,2,  158.28,2,   43.00,2,    0.00,2,    3.05,2,   0.014,2,   0.006,2,  -0.002,2,  -999.0,9,  -999.0,9,-999.000,9,-999.0000,9, -999.00,9, -999.00,9,  -999.0,9,  -999.0,-999.000,9,-999.000, -999.00,9, 1742.00,-999.0000,9,-999.0000,9,-999.0000,9,-999.0000,9,-999.0000,9,-999.0000,-999.000,-999.0000,9, -999.00
318M20040615,        P02,      59,          1,         13,         13,2,20040707,       1057,    29.9998,   163.5037,       5923,  1937.6,   2.1341,  34.5664,2,  34.5675,2,  56.6000,2,    59.1,2,  162.74,2,   42.06,2,    0.00,2,    2.98,2,   0.008,2,   0.006,2,   0.000,2,  -999.0,9,  2408.3,2,-999.000,9,-999.0000,9, -999.00,9, -999.00,9,  -999.0,9,  -999.0,-999.000,9,-999.000, -999.00,9, 1937.60,-999.0000,9,-999.0000,9,-999.0000,9,-999.0000,9,-999.0000,9,-999.0000,-999.000,-999.0000,9, -999.00
318M20040615,        P02,      59,          1,         12,         12,2,20040707,       1057,    29.9998,   163.5037,       5923,  2099.6,   2.0005,  34.5895,2,  34.5950,2,  68.8000,3,    70.2,2,  163.68,2,   41.35,2,    0.00,2,    2.93,2,   0.005,2,   0.004,2,   0.000,2,  -999.0,9,  -999.0,9,-999.000,9,-999.0000,9, -999.00,9, -999.00,9,  -999.0,9,  -999.0,-999.000,9,-999.000, -999.00,9, 2099.60,-999.0000,9,-999.0000,9,-999.0000,9,-999.0000,9,-999.0000,9,-999.0000,-999.000,-999.0000,9, -999.00
318M20040615,        P02,      59,          1,         11,         11,2,20040707,       1057,    29.9998,   163.5037,       5923,  2351.6,   1.8142,  34.6209,2,  34.6213,2,  88.5000,2,    90.4,2,  163.33,2,   40.00,2,    0.00,2,    2.84,2,   0.004,2,   0.000,2,  -0.001,2,  -999.0,9,  2414.7,2,-999.000,9,-999.0000,9, -999.00,9, -999.00,9,  -999.0,9,  -999.0,-999.000,9,-999.000, -999.00,9, 2351.60,-999.0000,9,-999.0000,9,-999.0000,9,-999.0000,9,-999.0000,9,-999.0000,-999.000,-999.0000,9, -999.00
318M20040615,        P02,      59,          1,         10,         10,2,20040707,       1057,    29.9998,   163.5037,       5923,  2597.9,   1.7009,  34.6400,2,  34.6406,2, 104.2000,2,   106.1,2,  160.53,2,   38.92,2,    0.00,2,    2.76,2,   0.002,2,   0.004,2,   0.001,2,  -999.0,9,  -999.0,9,-999.000,9,-999.0000,9, -999.00,9, -999.00,9,  -999.0,9,  -999.0,-999.000,9,-999.000, -999.00,9, 2597.90,-999.0000,9,-999.0000,9,-999.0000,9,-999.0000,9,-999.0000,9,-999.0000,-999.000,-999.0000,9, -999.00
318M20040615,        P02,      59,          1,          9,          9,2,20040707,       1057,    29.9998,   163.5037,       5923,  2850.4,   1.6245,  34.6533,2,  34.6534,2, 117.4000,2,   118.7,2,  158.25,2,   38.15,2,    0.00,2,    2.69,2,   0.002,2,   0.001,2,  -0.002,2,  -999.0,9,  2417.9,2,-999.000,9,-999.0000,9, -999.00,9, -999.00,9,  -999.0,9,  -999.0,-999.000,9,-999.000, -999.00,9, 2850.40,-999.0000,9,-999.0000,9,-999.0000,9,-999.0000,9,-999.0000,9,-999.0000,-999.000,-999.0000,9, -999.00
318M20040615,        P02,      59,          1,          8,          8,2,20040707,       1057,    29.9998,   163.5037,       5923,  3097.0,   1.5729,  34.6625,2,  34.6629,2, 127.1000,2,   128.0,2,  156.17,2,   37.65,2,    0.00,2,    2.64,2,   0.004,2,   0.002,2,  -0.002,2,  -999.0,9,  2419.0,2,-999.000,9,-999.0000,9, -999.00,9, -999.00,9,  -999.0,9,  -999.0,-999.000,9,-999.000, -999.00,9, 3097.00,-999.0000,9,-999.0000,9,-999.0000,9,-999.0000,9,-999.0000,9,-999.0000,-999.000,-999.0000,9, -999.00
318M20040615,        P02,      59,          1,          7,          7,2,20040707,       1057,    29.9998,   163.5037,       5923,  3496.5,   1.5189,  34.6727,2,  34.6720,2, 138.1000,2,   138.5,2,  153.55,2,   37.17,2,    0.00,2,    2.59,2,   0.003,2,   0.003,2,  -0.002,2,  -999.0,9,  2417.4,2,-999.000,9,-999.0000,9, -999.00,9, -999.00,9,  -999.0,9,  -999.0,-999.000,9,-999.000, -999.00,9, 3496.50,-999.0000,9,-999.0000,9,-999.0000,9,-999.0000,9,-999.0000,9,-999.0000,-999.000,-999.0000,9, -999.00
318M20040615,        P02,      59,          1,          6,          6,2,20040707,       1057,    29.9998,   163.5037,       5923,  3896.4,   1.4901,  34.6797,2,  34.6798,2, 146.2000,2,   146.6,2,  151.47,2,   36.62,2,    0.00,2,    2.54,2,   0.004,2,   0.001,2,  -0.002,2,  -999.0,9,  2414.9,2,-999.000,9,-999.0000,9, -999.00,9, -999.00,9,  -999.0,9,  -999.0,-999.000,9,-999.000, -999.00,9, 3896.40,-999.0000,9,-999.0000,9,-999.0000,9,-999.0000,9,-999.0000,9,-999.0000,-999.000,-999.0000,9, -999.00
318M20040615,        P02,      59,          1,          5,          5,2,20040707,       1057,    29.9998,   163.5037,       5923,  4294.2,   1.4850,  34.6845,2,  34.6921,2, 152.8000,3,   152.6,2,  149.40,2,   36.03,2,    0.00,2,    2.52,2,   0.003,2,   0.001,2,   0.000,2,  -999.0,9,  2414.2,2,-999.000,9,-999.0000,9, -999.00,9, -999.00,9,  -999.0,9,  -999.0,-999.000,9,-999.000, -999.00,9, 4294.20,-999.0000,9,-999.0000,9,-999.0000,9,-999.0000,9,-999.0000,9,-999.0000,-999.000,-999.0000,9, -999.00
318M20040615,        P02,      59,          1,          4,          4,2,20040707,       1057,    29.9998,   163.5037,       5923,  4693.0,   1.4896,  34.6883,2,  34.6880,2, 158.5000,2,   158.3,2,  146.98,2,   35.60,2,    0.00,2,    2.48,2,   0.003,2,   0.004,2,  -0.002,2,  -999.0,9,  2412.7,2,-999.000,9,-999.0000,9, -999.00,9, -999.00,9,  -999.0,9,  -999.0,-999.000,9,-999.000, -999.00,9, 4693.00,-999.0000,9,-999.0000,9,-999.0000,9,-999.0000,9,-999.0000,9,-999.0000,-999.000,-999.0000,9, -999.00
318M20040615,        P02,      59,          1,          3,          3,2,20040707,       1057,    29.9998,   163.5037,       5923,  5197.5,   1.5039,  34.6926,2,  34.6935,2, 166.0000,2,   166.3,2,  141.56,2,   34.86,2,    0.00,2,    2.43,2,   0.003,2,   0.004,2,   0.001,2,  2309.6,2,  2408.6,2,-999.000,9,-999.0000,9, -999.00,9, -999.00,9,  -999.0,9,  -999.0,-999.000,9,-999.000, -999.00,9, 5197.50,-999.0000,9,-999.0000,9,-999.0000,9,-999.0000,9,-999.0000,9,-999.0000,-999.000,-999.0000,9, -999.00
318M20040615,        P02,      59,          1,          2,          2,2,20040707,       1057,    29.9998,   163.5037,       5923,  5602.7,   1.5270,  34.6948,2,  34.6957,2, 170.4000,2,   171.0,2,  137.68,2,   34.55,2,    0.00,2,    2.40,2,   0.006,2,   0.003,2,   0.000,2,  2304.7,2,  2405.4,2,-999.000,9,-999.0000,9, -999.00,9, -999.00,9,  -999.0,9,  -999.0,-999.000,9,-999.000, -999.00,9, 5602.70,-999.0000,9,-999.0000,9,-999.0000,9,-999.0000,9,-999.0000,9,-999.0000,-999.000,-999.0000,9, -999.00
318M20040615,        P02,      59,          1,          1,          1,2,20040707,       1057,    29.9998,   163.5037,       5923,  6085.2,   1.5772,  34.6960,2,  34.7055,2, 172.7000,3,   173.3,2,  136.20,2,   34.33,2,    0.00,2,    2.40,2,   0.007,2,   0.007,2,   0.002,2,  2302.8,2,  2403.8,6,-999.000,9,-999.0000,9, -999.00,9, -999.00,9,  -999.0,9,  -999.0,-999.000,9,-999.000, -999.00,9, 6085.20,-999.0000,9,-999.0000,9,-999.0000,9,-999.0000,9,-999.0000,9,-999.0000,-999.000,-999.0000,9, -999.00