BOTTLE,20131027SIOCCHRJL
EXPOCODE,SECT_ID,STNNBR,CASTNO,SAMPNO,BTLNBR,BTLNBR_FLAG_W,DATE,TIME,LATITUDE,LONGITUDE,DEPTH,CTDPRS,CTDTMP,CTDSAL,CTDSAL_FLAG_W,SALNTY,SALNTY_FLAG_W,CTDOXY,CTDOXY_FLAG_W,OXYGEN,OXYGEN_FLAG_W,SILCAT,SILCAT_FLAG_W,NITRAT,NITRAT_FLAG_W,NITRIT,NITRIT_FLAG_W,PHSPHT,PHSPHT_FLAG_W,CFC-11,CFC-11_FLAG_W,CFC-12,CFC-12_FLAG_W,CFC113,CFC113_FLAG_W,TCARBN,TCARBN_FLAG_W,ALKALI,ALKALI_FLAG_W,TRITUM,TRITUM_FLAG_W,HELIUM,HELIUM_FLAG_W,DELHE3,DELHE3_FLAG_W,DELC13,DELC13_FLAG_W,DELC14,DELC14_FLAG_W,C14ERR,NEON,NEON_FLAG_W,NEONER,DOC,DOC_FLAG_W,CTDRAW,CDOM380,CDOM380_FLAG_W,CDOM325,CDOM325_FLAG_W,CDOMSL,CDOMSL_FLAG_W,CDOM340,CDOM340_FLAG_W,CDOMSN,CDOMSN_FLAG_W,HELIER,TRITER,CDOM412,CDOM412_FLAG_W,DELHER
,,,,,,,,,,,METERS,DBAR,ITS-90,PSS-78,,PSS-78,,UMOL/KG,,UMOL/KG,,UMOL/KG,,UMOL/KG,,UMOL/KG,,UMOL/KG,,PMOL/KG,,PMOL/KG,,PMOL/KG,,UMOL/KG,,UMOL/KG,,TU,,NMOL/KG,,PERCNT,,/MILLE,,/MILLE,,/MILLE,NMOL/KG,,NMOL/KG,UMOL/KG,,DBAR,1/M,,1/M,,1/NM,,1/M,,1/NM,,NMOL/KG,TU,1/M,,PERCNT
318M20040615,        P02,      64,          2,         36,         36,2,20040709,       0358,    29.9973,   166.7387,       6004,    10.5,  26.3503,  35.2271,2,  35.2320,2, 205.9000,2,   205.8,2,    1.60,2,    0.10,2,    0.00,2,    0.02,2,   1.771,2,   1.085,2,   0.111,2,  2003.0,2,  2312.6,6,-999.000,9,-999.0000,9, -999.00,9,    1.11,2,    53.4,2,     4.5,-999.000,9,-999.000,   68.90,2,   10.50,   0.0470,3,   0.1000,3,   0.0120,3,   0.0780,3,   0.0130,3,-999.0000,-999.000,   0.0350,3, -999.00
318M20040615,        P02,      64,          2,         35,         35,2,20040709,       0358,    29.9973,   166.7387,       6004,    52.6,  19.8532,  34.9199,2,  34.9199,2, 237.6000,2,   240.1,2,    1.97,2,    0.09,2,    0.00,2,    0.04,2,   2.321,2,   1.386,2,   0.140,2,  1999.6,2,  2293.0,2,-999.000,9,-999.0000,9, -999.00,9, -999.00,9,  -999.0,9,  -999.0,-999.000,9,-999.000,   65.60,2,   52.60,   0.2320,2,   0.4960,2,   0.0110,3,   0.4080,2,   0.0120,3,-999.0000,-999.000,   0.1650,2, -999.00
318M20040615,        P02,      64,          2,         34,         34,2,20040709,       0358,    29.9973,   166.7387,       6004,   102.1,  17.4123,  34.7836,2,  34.7827,2, 222.0000,2,   220.5,2,    3.06,2,    2.38,2,    0.18,2,    0.22,2,   2.526,2,   1.483,2,   0.112,2,  2026.5,2,  2283.7,2,-999.000,9,-999.0000,9, -999.00,9,    0.80,2,    61.1,2,     5.0,-999.000,9,-999.000,   60.70,2,  102.10,   0.0480,2,   0.1260,2,   0.0150,2,   0.0920,2,   0.0160,2,-999.0000,-999.000,   0.0350,2, -999.00
318M20040615,        P02,      64,          2,         33,         33,2,20040709,       0358,    29.9973,   166.7387,       6004,   152.1,  16.6111,  34.7287,2,  34.7292,2, 216.7000,2,   219.6,2,    4.15,2,    4.39,2,    0.02,2,    0.31,2,   2.560,2,   1.510,2,   0.105,2,  2032.1,2,  2281.8,2,-999.000,9,-999.0000,9, -999.00,9,    0.68,2,    57.2,2,     5.5,-999.000,9,-999.000,   55.80,2,  152.10,   0.0540,2,   0.1290,2,   0.0130,2,   0.0950,2,   0.0140,2,-999.0000,-999.000,   0.0400,2, -999.00
318M20040615,        P02,      64,          2,         32,         32,2,20040709,       0358,    29.9973,   166.7387,       6004,   201.9,  16.0429,  34.6827,2,  34.6801,2, 213.3000,2,   215.6,2,    5.42,2,    5.62,2,    0.01,2,    0.40,2,   2.632,2,   1.556,2,   0.084,2,  2039.4,2,  2278.9,2,-999.000,9,-999.0000,9, -999.00,9,    0.65,2,    58.2,2,     4.4,-999.000,9,-999.000,   54.60,2,  201.90,   0.0450,2,   0.1180,2,   0.0140,2,   0.0850,2,   0.0160,2,-999.0000,-999.000,   0.0330,2, -999.00
318M20040615,        P02,      64,          2,         31,         31,2,20040709,       0358,    29.9973,   166.7387,       6004,   251.5,  15.3926,  34.6366,2,  34.6357,2, 214.1000,2,   214.6,2,    7.06,2,    6.84,2,    0.01,2,    0.49,2,   2.653,2,   1.534,2,   0.079,2,  2045.5,2,  2278.2,2,-999.000,9,-999.0000,9, -999.00,9,    0.69,2,    49.2,2,     3.9,-999.000,9,-999.000, -999.00,9,  251.50,   0.0290,2,   0.0900,2,   0.0210,2,   0.0630,2,   0.0220,2,-999.0000,-999.000,   0.0200,2, -999.00
318M20040615,        P02,      64,          2,         30,         30,2,20040709,       0358,    29.9973,   166.7387,       6004,   301.1,  14.4910,  34.5533,2,  34.5547,2, 206.9000,2,   209.5,2,    9.24,2,    8.64,2,    0.01,2,    0.61,2,   2.740,2,   1.543,2,   0.072,2,  2061.9,2,  2275.6,2,-999.000,9,-999.0000,9, -999.00,9,    0.60,2,    44.4,2,     4.7,-999.000,9,-999.000,   51.00,2,  301.10,   0.0380,2,   0.1080,2,   0.0170,2,   0.0760,2,   0.0190,2,-999.0000,-999.000,   0.0270,2, -999.00
318M20040615,        P02,      64,          2,         29,         29,2,20040709,       0358,    29.9973,   166.7387,       6004,   350.9,  13.5934,  34.4928,2,  34.4917,2, 206.6000,2,   206.2,2,   12.14,2,   10.44,2,    0.01,2,    0.73,2,   2.755,2,   1.532,2,   0.081,2,  2074.1,2,  2276.5,2,-999.000,9,-999.0000,9, -999.00,9,    0.59,2,    31.6,2,     5.2,-999.000,9,-999.000, -999.00,9,  350.90,   0.0810,2,   0.1830,2,   0.0120,2,   0.1370,2,   0.0130,2,-999.0000,-999.000,   0.0600,2, -999.00
318M20040615,        P02,      64,          2,         28,         28,2,20040709,       0358,    29.9973,   166.7387,       6004,   401.5,  12.4580,  34.4089,2,  34.4057,2, 203.1000,2,   203.3,2,   15.59,2,   12.55,2,    0.01,2,    0.89,2,   2.845,6,   1.559,6,   0.084,6,  2089.3,2,  2274.4,2,-999.000,9,-999.0000,9, -999.00,9,    0.53,2,    15.7,2,     4.6,-999.000,9,-999.000,   49.40,2,  401.50,-999.0000,9,-999.0000,9,-999.0000,9,-999.0000,9,-999.0000,9,-999.0000,-999.000,-999.0000,9, -999.00
318M20040615,        P02,      64,          2,         27,         27,2,20040709,       0358,    29.9973,   166.7387,       6004,   450.7,  11.3802,  34.3285,2,  34.3284,2, 202.5000,2,   201.0,2,   19.42,2,   14.57,2,    0.00,2,    1.04,2,   2.835,2,   1.528,2,   0.088,2,  2104.3,2,  2273.4,2,-999.000,9,-999.0000,9, -999.00,9, -999.00,9,  -999.0,9,  -999.0,-999.000,9,-999.000, -999.00,9,  450.70,   0.0420,2,   0.1190,2,   0.0170,2,   0.0840,2,   0.0190,2,-999.0000,-999.000,   0.0290,2, -999.00
318M20040615,        P02,      64,          2,         26,         26,2,20040709,       0358,    29.9973,   166.7387,       6004,   500.9,  10.2284,  34.2327,2,  34.2355,2, 200.7000,2,   199.4,2,   23.62,2,   16.63,2,    0.00,2,    1.18,2,   2.973,2,   1.588,2,   0.105,2,  2117.9,2,  2272.1,2,-999.000,9,-999.0000,9, -999.00,9,    0.42,2,    10.2,2,     4.6,-999.000,9,-999.000,   48.10,2,  500.90,-999.0000,9,-999.0000,9,-999.0000,9,-999.0000,9,-999.0000,9,-999.0000,-999.000,-999.0000,9, -999.00
318M20040615,        P02,      64,          2,         25,         25,2,20040709,       0358,    29.9973,   166.7387,       6004,   600.7,   7.4985,  34.0376,2,  34.0398,2, 177.0000,2,   176.2,2,   40.98,2,   23.62,2,    0.00,2,    1.71,2,   2.772,2,   1.440,2,   0.121,2,  2170.3,2,  2278.8,2,-999.000,9,-999.0000,9, -999.00,9,    0.24,2,   -36.7,2,     3.9,-999.000,9,-999.000,   46.80,2,  600.70,   0.0920,2,   0.2160,2,   0.0130,2,   0.1610,2,   0.0140,2,-999.0000,-999.000,   0.0660,2, -999.00
318M20040615,        P02,      64,          2,         24,         24,2,20040709,       0358,    29.9973,   166.7387,       6004,   700.6,   5.7675,  34.0207,2,  34.0236,2, 128.8000,2,   124.5,2,   65.06,2,   31.58,2,    0.00,2,    2.30,2,   1.975,2,   0.967,2,   0.082,2,  2233.0,2,  2294.0,2,-999.000,9,-999.0000,9, -999.00,9,   -0.04,2,   -73.8,2,     4.4,-999.000,9,-999.000,   45.30,2,  700.60,-999.0000,9,-999.0000,9,-999.0000,9,-999.0000,9,-999.0000,9,-999.0000,-999.000,-999.0000,9, -999.00
318M20040615,        P02,      64,          2,         23,         23,2,20040709,       0358,    29.9973,   166.7387,       6004,   800.7,   4.8419,  34.1018,2,  34.1028,2,  82.1000,2,    82.3,2,   86.49,2,   36.83,2,    0.00,2,    2.67,2,   1.183,2,   0.570,2,   0.045,2,  2284.6,2,  2314.5,2,-999.000,9,-999.0000,9, -999.00,9,   -0.25,2,  -115.0,6,     7.2,-999.000,9,-999.000,   44.50,2,  800.70,   0.1480,2,   0.3240,2,   0.0110,2,   0.2450,2,   0.0120,2,-999.0000,-999.000,   0.1130,2, -999.00
318M20040615,        P02,      64,          2,         22,         22,2,20040709,       0358,    29.9973,   166.7387,       6004,   900.7,   4.2471,  34.1905,2,  34.1918,2,  57.1000,2,    56.3,2,  103.71,2,   39.97,2,    0.00,2,    2.87,2,   0.645,2,   0.312,2,   0.021,2,  2316.4,2,  2333.3,2,-999.000,9,-999.0000,9, -999.00,9, -999.00,9,  -999.0,9,  -999.0,-999.000,9,-999.000, -999.00,9,  900.70,-999.0000,9,-999.0000,9,-999.0000,9,-999.0000,9,-999.0000,9,-999.0000,-999.000,-999.0000,9, -999.00
318M20040615,        P02,      64,          2,         21,         21,2,20040709,       0358,    29.9973,   166.7387,       6004,  1000.9,   3.7216,  34.2790,2,  34.2806,2,  44.3000,2,    43.2,2,  119.85,2,   41.61,2,    0.00,2,    2.99,2,   0.351,2,   0.173,2,   0.008,2,  2342.9,2,  2352.9,2,-999.000,9,-999.0000,9, -999.00,9,   -0.44,2,  -180.6,2,     3.6,-999.000,9,-999.000,   40.60,2, 1000.90,   0.1680,2,   0.3450,2,   0.0110,2,   0.2650,2,   0.0110,2,-999.0000,-999.000,   0.1310,2, -999.00
318M20040615,        P02,      64,          2,         20,         20,2,20040709,       0358,    29.9973,   166.7387,       6004,  1101.2,   3.4049,  34.3426,2,  34.3432,2,  34.7000,2,    33.0,2,  129.13,2,   42.82,2,    0.00,2,    3.06,2,   0.129,2,   0.066,2,   0.005,2,  2358.4,2,  2365.7,2,-999.000,9,-999.0000,9, -999.00,9, -999.00,9,  -999.0,9,  -999.0,-999.000,9,-999.000, -999.00,9, 1101.20,-999.0000,9,-999.0000,9,-999.0000,9,-999.0000,9,-999.0000,9,-999.0000,-999.000,-999.0000,9, -999.00
318M20040615,        P02,      64,          2,         19,         19,2,20040709,       0358,    29.9973,   166.7387,       6004,  1201.3,   3.1568,  34.3960,2,  34.3956,2,  30.5000,2,    30.2,2,  136.00,2,   43.33,2,    0.00,2,    3.11,2,   0.058,2,   0.028,2,   0.004,2,  2369.2,6,  2375.5,2,-999.000,9,-999.0000,9, -999.00,9,   -0.40,2,  -204.3,2,     3.3,-999.000,9,-999.000,   39.40,2, 1201.30,-999.0000,9,-999.0000,9,-999.0000,9,-999.0000,9,-999.0000,9,-999.0000,-999.000,-999.0000,9, -999.00
318M20040615,        P02,      64,          2,         18,         18,2,20040709,       0358,    29.9973,   166.7387,       6004,  1296.9,   2.9259,  34.4438,2,  34.4445,2,  31.4000,2,    32.0,2,  143.41,2,   43.50,2,    0.00,2,    3.12,2,   0.022,2,   0.011,2,   0.000,2,  2375.1,2,  2385.5,6,-999.000,9,-999.0000,9, -999.00,9, -999.00,9,  -999.0,9,  -999.0,-999.000,9,-999.000, -999.00,9, 1296.90,-999.0000,9,-999.0000,9,-999.0000,9,-999.0000,9,-999.0000,9,-999.0000,-999.000,-999.0000,9, -999.00
318M20040615,        P02,      64,          2,         17,         17,2,20040709,       0358,    29.9973,   166.7387,       6004,  1397.3,   2.7360,  34.4783,2,  34.4773,2,  34.9000,2,    35.7,2,  147.86,2,   43.49,2,    0.00,2,    3.10,2,   0.013,2,   0.007,2,  -0.001,2,  2377.4,2,  2392.1,2,-999.000,9,-999.0000,9, -999.00,9,   -0.40,2,  -212.0,2,     3.3,-999.000,9,-999.000,   38.30,2, 1397.30,-999.0000,9,-999.0000,9,-999.0000,9,-999.0000,9,-999.0000,9,-999.0000,-999.000,-999.0000,9, -999.00
318M20040615,        P02,      64,          2,         16,         16,2,20040709,       0358,    29.9973,   166.7387,       6004,  1497.8,   2.5704,  34.5037,2,  34.5046,2,  40.0000,2,    40.6,2,  152.69,2,   43.37,2,    0.00,2,    3.08,2,   0.009,2,   0.004,2,   0.003,2,  2381.3,2,  2396.3,2,-999.000,9,-999.0000,9, -999.00,9, -999.00,9,  -999.0,9,  -999.0,-999.000,9,-999.000,   37.90,2, 1497.80,-999.0000,9,-999.0000,9,-999.0000,9,-999.0000,9,-999.0000,9,-999.0000,-999.000,-999.0000,9, -999.00
318M20040615,        P02,      64,          2,         15,         15,2,20040709,       0358,    29.9973,   166.7387,       6004,  1597.6,   2.4163,  34.5274,2,  34.5270,2,  45.7000,2,    45.8,2,  156.21,2,   43.14,2,    0.00,2,    3.05,2,   0.006,2,   0.004,2,   0.002,2,  2381.1,2,  2400.7,2,-999.000,9,-999.0000,9, -999.00,9,   -0.37,2,  -223.1,2,     3.5,-999.000,9,-999.000, -999.00,9, 1597.60,-999.0000,9,-999.0000,9,-999.0000,9,-999.0000,9,-999.0000,9,-999.0000,-999.000,-999.0000,9, -999.00
318M20040615,        P02,      64,          2,         14,         14,2,20040709,       0358,    29.9973,   166.7387,       6004,  1798.8,   2.1401,  34.5707,2,  34.5712,2,  61.0000,2,    62.3,2,  161.21,2,   42.11,2,    0.00,2,    2.97,2,   0.007,2,   0.005,2,  -0.001,2,  2379.0,2,  2408.4,6,-999.000,9,-999.0000,9, -999.00,9, -999.00,9,  -999.0,9,  -999.0,-999.000,9,-999.000,   37.60,2, 1798.80,-999.0000,9,-999.0000,9,-999.0000,9,-999.0000,9,-999.0000,9,-999.0000,-999.000,-999.0000,9, -999.00
318M20040615,        P02,      64,          2,         13,         13,2,20040709,       0358,    29.9973,   166.7387,       6004,  2000.5,   1.9742,  34.6000,2,  34.6013,2,  78.5000,2,    79.2,2,  160.85,2,   40.91,2,    0.00,2,    2.89,2,   0.001,2,   0.000,2,  -0.001,2,  2369.0,2,  2413.5,6,-999.000,9,-999.0000,9, -999.00,9, -999.00,9,  -999.0,9,  -999.0,-999.000,9,-999.000, -999.00,9, 2000.50,   0.0970,2,   0.2280,2,   0.0130,2,   0.1700,2,   0.0140,2,-999.0000,-999.000,   0.0700,2, -999.00
318M20040615,        P02,      64,          2,         12,         12,2,20040709,       0358,    29.9973,   166.7387,       6004,  2253.0,   1.8147,  34.6227,2,  34.6231,2,  93.3000,2,    93.8,2,  161.64,2,   39.96,2,    0.00,2,    2.82,2,   0.004,2,   0.002,2,   0.000,2,  2364.3,2,  2414.5,6,-999.000,9,-999.0000,9, -999.00,9, -999.00,9,  -999.0,9,  -999.0,-999.000,9,-999.000,   37.40,2, 2253.00,-999.0000,9,-999.0000,9,-999.0000,9,-999.0000,9,-999.0000,9,-999.0000,-999.000,-999.0000,9, -999.00
318M20040615,        P02,      64,          2,         11,         11,2,20040709,       0358,    29.9973,   166.7387,       6004,  2499.8,   1.6989,  34.6408,2,  34.6416,2, 109.8000,2,   108.5,2,  159.45,2,   38.94,2,    0.00,2,    2.75,2,   0.003,2,   0.001,2,  -0.002,2,  2356.3,2,  2417.3,2,-999.000,9,-999.0000,9, -999.00,9, -999.00,9,  -999.0,9,  -999.0,-999.000,9,-999.000, -999.00,9, 2499.80,-999.0000,9,-999.0000,9,-999.0000,9,-999.0000,9,-999.0000,9,-999.0000,-999.000,-999.0000,9, -999.00
318M20040615,        P02,      64,          2,         10,         10,2,20040709,       0358,    29.9973,   166.7387,       6004,  2752.4,   1.6063,  34.6551,2,  34.6551,2, 120.9000,2,   121.6,2,  157.05,2,   38.03,2,    0.00,2,    2.68,2,   0.001,2,   0.002,2,   0.000,2,  2348.6,2,  2417.6,6,-999.000,9,-999.0000,9, -999.00,9, -999.00,9,  -999.0,9,  -999.0,-999.000,9,-999.000,   37.60,2, 2752.40,-999.0000,9,-999.0000,9,-999.0000,9,-999.0000,9,-999.0000,9,-999.0000,-999.000,-999.0000,9, -999.00
318M20040615,        P02,      64,          2,          9,          9,2,20040709,       0358,    29.9973,   166.7387,       6004,  3000.0,   1.5597,  34.6636,2,  34.6636,2, 128.7000,2,   129.4,2,  155.38,2,   37.53,2,    0.00,2,    2.64,2,   0.003,2,   0.000,2,  -0.002,2,  2339.0,2,  2417.3,2,-999.000,9,-999.0000,9, -999.00,9, -999.00,9,  -999.0,9,  -999.0,-999.000,9,-999.000,   38.00,2, 3000.00,   0.1100,2,   0.2460,2,   0.0110,2,   0.1840,2,   0.0120,2,-999.0000,-999.000,   0.0830,2, -999.00
318M20040615,        P02,      64,          2,          8,          8,2,20040709,       0358,    29.9973,   166.7387,       6004,  3398.9,   1.5013,  34.6737,2,  34.6765,2, 139.2000,3,   139.8,2,  153.16,2,   36.91,2,    0.00,2,    2.58,2,   0.003,2,   0.000,2,  -0.002,2,  2336.0,2,  2417.2,2,-999.000,9,-999.0000,9, -999.00,9, -999.00,9,  -999.0,9,  -999.0,-999.000,9,-999.000, -999.00,9, 3398.90,-999.0000,9,-999.0000,9,-999.0000,9,-999.0000,9,-999.0000,9,-999.0000,-999.000,-999.0000,9, -999.00
318M20040615,        P02,      64,          2,          7,          7,2,20040709,       0358,    29.9973,   166.7387,       6004,  3800.4,   1.4789,  34.6797,2,  34.6807,2, 146.4000,2,   147.5,2,  151.51,2,   36.57,2,    0.00,2,    2.54,2,   0.002,2,   0.003,2,  -0.002,2,  2330.9,2,  2416.6,2,-999.000,9,-999.0000,9, -999.00,9, -999.00,9,  -999.0,9,  -999.0,-999.000,9,-999.000,   37.60,2, 3800.40,-999.0000,9,-999.0000,9,-999.0000,9,-999.0000,9,-999.0000,9,-999.0000,-999.000,-999.0000,9, -999.00
318M20040615,        P02,      64,          2,          6,          6,2,20040709,       0358,    29.9973,   166.7387,       6004,  4201.3,   1.4666,  34.6850,2,  34.6850,2, 153.4000,2,   153.9,2,  149.29,2,   36.17,2,    0.00,2,    2.50,2,   0.003,2,   0.000,2,   0.000,2,  2323.9,2,  2416.2,2,-999.000,9,-999.0000,9, -999.00,9, -999.00,9,  -999.0,9,  -999.0,-999.000,9,-999.000,   37.80,2, 4201.30,-999.0000,9,-999.0000,9,-999.0000,9,-999.0000,9,-999.0000,9,-999.0000,-999.000,-999.0000,9, -999.00
318M20040615,        P02,      64,          2,          5,          5,2,20040709,       0358,    29.9973,   166.7387,       6004,  4603.4,   1.4680,  34.6892,2,  34.6895,2, 159.9000,2,   160.4,2,  145.79,2,   35.62,2,    0.00,2,    2.47,2,   0.006,2,   0.001,2,  -0.002,2,  2319.8,2,  2412.9,2,-999.000,9,-999.0000,9, -999.00,9, -999.00,9,  -999.0,9,  -999.0,-999.000,9,-999.000,   38.00,2, 4603.40,-999.0000,9,-999.0000,9,-999.0000,9,-999.0000,9,-999.0000,9,-999.0000,-999.000,-999.0000,9, -999.00
318M20040615,        P02,      64,          2,          4,          4,2,20040709,       0358,    29.9973,   166.7387,       6004,  5002.0,   1.4767,  34.6927,2,  34.6915,2, 166.8000,2,   167.5,2,  141.18,2,   35.12,2,    0.00,2,    2.43,2,   0.002,2,   0.001,2,   0.002,2,  2311.3,2,  2408.1,2,-999.000,9,-999.0000,9, -999.00,9, -999.00,9,  -999.0,9,  -999.0,-999.000,9,-999.000, -999.00,9, 5002.00,-999.0000,9,-999.0000,9,-999.0000,9,-999.0000,9,-999.0000,9,-999.0000,-999.000,-999.0000,9, -999.00
318M20040615,        P02,      64,          2,          3,          3,2,20040709,       0358,    29.9973,   166.7387,       6004,  5395.4,   1.4985,  34.6949,2,  34.6958,2, 171.3000,3,   171.4,2,  137.48,2,   34.73,2,    0.00,2,    2.41,2,   0.008,2,   0.006,2,   0.001,2,  2306.3,2,  2404.2,2,-999.000,9,-999.0000,9, -999.00,9, -999.00,9,  -999.0,9,  -999.0,-999.000,9,-999.000,   37.70,2, 5395.40,-999.0000,9,-999.0000,9,-999.0000,9,-999.0000,9,-999.0000,9,-999.0000,-999.000,-999.0000,9, -999.00
318M20040615,        P02,      64,          2,          2,          2,2,20040709,       0358,    29.9973,   166.7387,       6004,  5870.0,   1.5347,  34.6967,2,  34.6974,2, 174.7000,3,   175.0,2,  135.28,2,   34.40,2,    0.00,2,    2.38,2,   0.006,2,  -0.001,2,   0.002,2,  2285.5,3,  2401.6,2,-999.000,9,-999.0000,9, -999.00,9, -999.00,9,  -999.0,9,  -999.0,-999.000,9,-999.000, -999.00,9, 5870.00,-999.0000,9,-999.0000,9,-999.0000,9,-999.0000,9,-999.0000,9,-999.0000,-999.000,-999.0000,9, -999.00
318M20040615,        P02,      64,          2,          1,          1,2,20040709,       0358,    29.9973,   166.7387,       6004,  6140.1,   1.5656,  34.6969,2,  34.6982,2, 176.0000,3,   176.7,2,  134.58,2,   34.30,2,    0.00,2,    2.39,2,   0.002,2,   0.000,2,  -0.002,2,  2300.9,6,  2400.8,6,-999.000,9,-999.0000,9, -999.00,9, -999.00,9,  -999.0,9,  -999.0,-999.000,9,-999.000,   37.60,2, 6140.10,-999.0000,9,-999.0000,9,-999.0000,9,-999.0000,9,-999.0000,9,-999.0000,-999.000,-999.0000,9, -999.00