BOTTLE,20131027SIOCCHRJL
EXPOCODE,SECT_ID,STNNBR,CASTNO,SAMPNO,BTLNBR,BTLNBR_FLAG_W,DATE,TIME,LATITUDE,LONGITUDE,DEPTH,CTDPRS,CTDTMP,CTDSAL,CTDSAL_FLAG_W,SALNTY,SALNTY_FLAG_W,CTDOXY,CTDOXY_FLAG_W,OXYGEN,OXYGEN_FLAG_W,SILCAT,SILCAT_FLAG_W,NITRAT,NITRAT_FLAG_W,NITRIT,NITRIT_FLAG_W,PHSPHT,PHSPHT_FLAG_W,CFC-11,CFC-11_FLAG_W,CFC-12,CFC-12_FLAG_W,CFC113,CFC113_FLAG_W,TCARBN,TCARBN_FLAG_W,ALKALI,ALKALI_FLAG_W,TRITUM,TRITUM_FLAG_W,HELIUM,HELIUM_FLAG_W,DELHE3,DELHE3_FLAG_W,DELC13,DELC13_FLAG_W,DELC14,DELC14_FLAG_W,C14ERR,NEON,NEON_FLAG_W,NEONER,DOC,DOC_FLAG_W,CTDRAW,CDOM380,CDOM380_FLAG_W,CDOM325,CDOM325_FLAG_W,CDOMSL,CDOMSL_FLAG_W,CDOM340,CDOM340_FLAG_W,CDOMSN,CDOMSN_FLAG_W,HELIER,TRITER,CDOM412,CDOM412_FLAG_W,DELHER
,,,,,,,,,,,METERS,DBAR,ITS-90,PSS-78,,PSS-78,,UMOL/KG,,UMOL/KG,,UMOL/KG,,UMOL/KG,,UMOL/KG,,UMOL/KG,,PMOL/KG,,PMOL/KG,,PMOL/KG,,UMOL/KG,,UMOL/KG,,TU,,NMOL/KG,,PERCNT,,/MILLE,,/MILLE,,/MILLE,NMOL/KG,,NMOL/KG,UMOL/KG,,DBAR,1/M,,1/M,,1/NM,,1/M,,1/NM,,NMOL/KG,TU,1/M,,PERCNT
318M20040615,        P02,      63,          1,         36,         36,2,20040708,       1901,    29.9997,   166.1233,       5902,     7.3,  26.4643,  35.4104,2,  35.4086,2, 205.4000,2,   204.3,2,    1.18,2,    0.09,2,    0.00,2,    0.02,2,   1.722,2,   1.103,2,   0.128,2,  1992.4,6,  2325.8,6,-999.000,9,-999.0000,9, -999.00,9, -999.00,9,  -999.0,9,  -999.0,-999.000,9,-999.000, -999.00,9,    7.30,-999.0000,9,-999.0000,9,-999.0000,9,-999.0000,9,-999.0000,9,-999.0000,-999.000,-999.0000,9, -999.00
318M20040615,        P02,      63,          1,         35,         35,2,20040708,       1901,    29.9997,   166.1233,       5902,    41.4,  22.0371,  35.0791,2,  35.0803,2, 229.3000,2,   229.4,2,    1.73,2,    0.14,2,    0.00,2,    0.02,2,   2.134,2,   1.335,2,   0.155,2,  1997.8,2,  2304.0,2,-999.000,9,-999.0000,9, -999.00,9, -999.00,9,  -999.0,9,  -999.0,-999.000,9,-999.000, -999.00,9,   41.40,-999.0000,9,-999.0000,9,-999.0000,9,-999.0000,9,-999.0000,9,-999.0000,-999.000,-999.0000,9, -999.00
318M20040615,        P02,      63,          1,         34,         34,2,20040708,       1901,    29.9997,   166.1233,       5902,    85.8,  19.3599,  34.9559,2,  34.9558,2, 230.0000,2,   230.9,2,    2.27,2,    0.08,2,    0.00,2,    0.06,2,   2.334,2,   1.450,2,   0.139,2,  2008.0,2,  2296.6,2,-999.000,9,-999.0000,9, -999.00,9, -999.00,9,  -999.0,9,  -999.0,-999.000,9,-999.000, -999.00,9,   85.80,-999.0000,9,-999.0000,9,-999.0000,9,-999.0000,9,-999.0000,9,-999.0000,-999.000,-999.0000,9, -999.00
318M20040615,        P02,      63,          1,         33,         33,2,20040708,       1901,    29.9997,   166.1233,       5902,   135.5,  17.5426,  34.8002,2,  34.7994,2, 220.9000,2,   224.4,2,    2.99,2,    1.64,2,    0.39,2,    0.22,2,   2.460,2,   1.513,2,   0.143,2,  2017.9,2,  2285.2,2,-999.000,9,-999.0000,9, -999.00,9, -999.00,9,  -999.0,9,  -999.0,-999.000,9,-999.000, -999.00,9,  135.50,-999.0000,9,-999.0000,9,-999.0000,9,-999.0000,9,-999.0000,9,-999.0000,-999.000,-999.0000,9, -999.00
318M20040615,        P02,      63,          1,         32,         32,2,20040708,       1901,    29.9997,   166.1233,       5902,   185.5,  16.6713,  34.7489,2,  34.7516,2, 217.3000,2,   217.7,2,    4.44,2,    4.43,2,    0.01,2,    0.33,2,   2.495,2,   1.529,2,   0.120,2,  2027.6,2,  2281.9,2,-999.000,9,-999.0000,9, -999.00,9, -999.00,9,  -999.0,9,  -999.0,-999.000,9,-999.000, -999.00,9,  185.50,-999.0000,9,-999.0000,9,-999.0000,9,-999.0000,9,-999.0000,9,-999.0000,-999.000,-999.0000,9, -999.00
318M20040615,        P02,      63,          1,         31,         31,2,20040708,       1901,    29.9997,   166.1233,       5902,   235.4,  16.2473,  34.7144,2,  34.7157,2, 215.2000,2,   217.5,2,    4.80,2,    5.13,2,    0.01,2,    0.37,2,   2.539,2,   1.548,2,   0.091,2,  2033.0,2,  2281.3,2,-999.000,9,-999.0000,9, -999.00,9, -999.00,9,  -999.0,9,  -999.0,-999.000,9,-999.000, -999.00,9,  235.40,-999.0000,9,-999.0000,9,-999.0000,9,-999.0000,9,-999.0000,9,-999.0000,-999.000,-999.0000,9, -999.00
318M20040615,        P02,      63,          1,         30,         30,2,20040708,       1901,    29.9997,   166.1233,       5902,   290.2,  15.6327,  34.6609,2,  34.6603,2, 221.1000,2,   218.3,2,    6.06,2,    6.15,2,    0.01,2,    0.44,2,   2.583,2,   1.560,2,   0.092,2,  2040.2,2,  2278.8,2,-999.000,9,-999.0000,9, -999.00,9, -999.00,9,  -999.0,9,  -999.0,-999.000,9,-999.000, -999.00,9,  290.20,-999.0000,9,-999.0000,9,-999.0000,9,-999.0000,9,-999.0000,9,-999.0000,-999.000,-999.0000,9, -999.00
318M20040615,        P02,      63,          1,         29,         29,2,20040708,       1901,    29.9997,   166.1233,       5902,   339.7,  14.8801,  34.5983,2,  34.5986,2, 210.0000,2,   210.8,2,    8.60,2,    7.97,2,    0.01,2,    0.58,2,   2.614,2,   1.570,2,   0.087,2,  2053.2,2,  2278.9,2,-999.000,9,-999.0000,9, -999.00,9, -999.00,9,  -999.0,9,  -999.0,-999.000,9,-999.000, -999.00,9,  339.70,-999.0000,9,-999.0000,9,-999.0000,9,-999.0000,9,-999.0000,9,-999.0000,-999.000,-999.0000,9, -999.00
318M20040615,        P02,      63,          1,         28,         28,2,20040708,       1901,    29.9997,   166.1233,       5902,   389.7,  14.0193,  34.5292,2,  34.5297,2, 208.5000,2,   213.1,2,   10.60,2,    9.20,2,    0.00,2,    0.66,2,-999.000,9,-999.000,9,-999.000,9,  -999.0,9,  -999.0,9,-999.000,9,-999.0000,9, -999.00,9, -999.00,9,  -999.0,9,  -999.0,-999.000,9,-999.000, -999.00,9,  389.70,-999.0000,9,-999.0000,9,-999.0000,9,-999.0000,9,-999.0000,9,-999.0000,-999.000,-999.0000,9, -999.00
318M20040615,        P02,      63,          1,         27,         27,2,20040708,       1901,    29.9997,   166.1233,       5902,   439.4,  12.6153,  34.4151,2,  34.4156,2, 202.2000,2,   201.0,2,   15.31,2,   12.47,2,    0.00,2,    0.87,2,   2.758,6,   1.586,6,   0.079,6,  2086.8,2,  2272.8,2,-999.000,9,-999.0000,9, -999.00,9, -999.00,9,  -999.0,9,  -999.0,-999.000,9,-999.000, -999.00,9,  439.40,-999.0000,9,-999.0000,9,-999.0000,9,-999.0000,9,-999.0000,9,-999.0000,-999.000,-999.0000,9, -999.00
318M20040615,        P02,      63,          1,         26,         26,2,20040708,       1901,    29.9997,   166.1233,       5902,   489.7,  11.2361,  34.3195,2,  34.3218,2, 205.0000,2,   204.9,2,   19.50,2,   14.38,2,    0.00,2,    1.03,2,-999.000,9,-999.000,9,-999.000,9,  -999.0,9,  -999.0,9,-999.000,9,-999.0000,9, -999.00,9, -999.00,9,  -999.0,9,  -999.0,-999.000,9,-999.000, -999.00,9,  489.70,-999.0000,9,-999.0000,9,-999.0000,9,-999.0000,9,-999.0000,9,-999.0000,-999.000,-999.0000,9, -999.00
318M20040615,        P02,      63,          1,         25,         25,2,20040708,       1901,    29.9997,   166.1233,       5902,   574.7,   8.9326,  34.1295,2,  34.1306,2, 191.3000,2,   191.1,2,   30.81,2,   19.59,2,    0.00,2,    1.41,2,   2.823,2,   1.581,2,   0.128,2,  2139.9,2,  2274.0,2,-999.000,9,-999.0000,9, -999.00,9, -999.00,9,  -999.0,9,  -999.0,-999.000,9,-999.000, -999.00,9,  574.70,-999.0000,9,-999.0000,9,-999.0000,9,-999.0000,9,-999.0000,9,-999.0000,-999.000,-999.0000,9, -999.00
318M20040615,        P02,      63,          1,         24,         24,2,20040708,       1901,    29.9997,   166.1233,       5902,   674.2,   6.4291,  33.9925,2,  33.9927,2, 159.6000,2,   158.9,2,   52.08,2,   27.05,2,    0.00,2,    1.98,2,-999.000,9,-999.000,9,-999.000,9,  -999.0,9,  -999.0,9,-999.000,9,-999.0000,9, -999.00,9, -999.00,9,  -999.0,9,  -999.0,-999.000,9,-999.000, -999.00,9,  674.20,-999.0000,9,-999.0000,9,-999.0000,9,-999.0000,9,-999.0000,9,-999.0000,-999.000,-999.0000,9, -999.00
318M20040615,        P02,      63,          1,         23,         23,2,20040708,       1901,    29.9997,   166.1233,       5902,   773.7,   5.2265,  34.0483,2,  34.0491,2, 101.7000,2,   104.2,2,   75.70,2,   34.32,2,    0.00,2,    2.48,2,   1.623,2,   0.834,2,   0.079,2,  2257.5,2,  2302.6,2,-999.000,9,-999.0000,9, -999.00,9, -999.00,9,  -999.0,9,  -999.0,-999.000,9,-999.000, -999.00,9,  773.70,-999.0000,9,-999.0000,9,-999.0000,9,-999.0000,9,-999.0000,9,-999.0000,-999.000,-999.0000,9, -999.00
318M20040615,        P02,      63,          1,         22,         22,2,20040708,       1901,    29.9997,   166.1233,       5902,   883.8,   4.3747,  34.1687,2,  34.1685,2,  63.7000,2,    62.7,2,  100.14,2,   39.27,2,    0.00,2,    2.83,2,-999.000,9,-999.000,9,-999.000,9,  -999.0,9,  -999.0,9,-999.000,9,-999.0000,9, -999.00,9, -999.00,9,  -999.0,9,  -999.0,-999.000,9,-999.000, -999.00,9,  883.80,-999.0000,9,-999.0000,9,-999.0000,9,-999.0000,9,-999.0000,9,-999.0000,-999.000,-999.0000,9, -999.00
318M20040615,        P02,      63,          1,         21,         21,2,20040708,       1901,    29.9997,   166.1233,       5902,   984.6,   3.8999,  34.2503,2,  34.2505,2,  46.7000,2,    45.3,2,  114.61,2,   41.43,2,    0.00,2,    2.96,2,-999.000,9,-999.000,9,-999.000,9,  -999.0,9,  -999.0,9,-999.000,9,-999.0000,9, -999.00,9, -999.00,9,  -999.0,9,  -999.0,-999.000,9,-999.000, -999.00,9,  984.60,-999.0000,9,-999.0000,9,-999.0000,9,-999.0000,9,-999.0000,9,-999.0000,-999.000,-999.0000,9, -999.00
318M20040615,        P02,      63,          1,         20,         20,2,20040708,       1901,    29.9997,   166.1233,       5902,  1084.0,   3.4671,  34.3253,2,  34.3252,2,  36.6000,2,    36.1,2,  128.38,2,   42.64,2,    0.00,2,    3.04,2,   0.192,2,   0.102,2,   0.004,2,  2350.8,2,  2361.5,2,-999.000,9,-999.0000,9, -999.00,9, -999.00,9,  -999.0,9,  -999.0,-999.000,9,-999.000, -999.00,9, 1084.00,-999.0000,9,-999.0000,9,-999.0000,9,-999.0000,9,-999.0000,9,-999.0000,-999.000,-999.0000,9, -999.00
318M20040615,        P02,      63,          1,         19,         19,2,20040708,       1901,    29.9997,   166.1233,       5902,  1184.1,   3.1657,  34.3815,2,  34.3829,2,  32.7000,2,    32.8,2,  136.55,2,   43.28,2,    0.00,2,    3.08,2,   0.097,2,   0.052,2,   0.003,2,  2363.1,2,  2372.7,2,-999.000,9,-999.0000,9, -999.00,9, -999.00,9,  -999.0,9,  -999.0,-999.000,9,-999.000, -999.00,9, 1184.10,-999.0000,9,-999.0000,9,-999.0000,9,-999.0000,9,-999.0000,9,-999.0000,-999.000,-999.0000,9, -999.00
318M20040615,        P02,      63,          1,         18,         18,2,20040708,       1901,    29.9997,   166.1233,       5902,  1284.1,   2.9119,  34.4244,2,  34.4250,2,  32.1000,2,    32.4,2,  143.56,2,   43.60,2,    0.00,2,    3.10,2,   0.057,2,   0.029,2,   0.004,2,  2370.8,2,  2381.0,2,-999.000,9,-999.0000,9, -999.00,9, -999.00,9,  -999.0,9,  -999.0,-999.000,9,-999.000, -999.00,9, 1284.10,-999.0000,9,-999.0000,9,-999.0000,9,-999.0000,9,-999.0000,9,-999.0000,-999.000,-999.0000,9, -999.00
318M20040615,        P02,      63,          1,         17,         17,2,20040708,       1901,    29.9997,   166.1233,       5902,  1385.0,   2.7524,  34.4633,2,  34.4633,2,  34.9000,2,    34.8,2,  148.01,2,   43.77,2,    0.00,2,    3.10,2,-999.000,9,-999.000,9,-999.000,9,  -999.0,9,  -999.0,9,-999.000,9,-999.0000,9, -999.00,9, -999.00,9,  -999.0,9,  -999.0,-999.000,9,-999.000, -999.00,9, 1385.00,-999.0000,9,-999.0000,9,-999.0000,9,-999.0000,9,-999.0000,9,-999.0000,-999.000,-999.0000,9, -999.00
318M20040615,        P02,      63,          1,         16,         16,2,20040708,       1901,    29.9997,   166.1233,       5902,  1485.5,   2.5426,  34.4990,2,  34.5147,2,  39.2000,3,    40.6,2,  153.39,2,   43.70,2,    0.00,2,    3.08,2,-999.000,9,-999.000,9,-999.000,9,  -999.0,9,  2394.5,2,-999.000,9,-999.0000,9, -999.00,9, -999.00,9,  -999.0,9,  -999.0,-999.000,9,-999.000, -999.00,9, 1485.50,-999.0000,9,-999.0000,9,-999.0000,9,-999.0000,9,-999.0000,9,-999.0000,-999.000,-999.0000,9, -999.00
318M20040615,        P02,      63,          1,         15,         15,2,20040708,       1901,    29.9997,   166.1233,       5902,  1586.8,   2.3990,  34.5292,2,  34.5297,2,  46.6000,2,    49.1,2,  155.98,2,   43.18,2,    0.00,2,    3.04,2,-999.000,9,-999.000,9,-999.000,9,  -999.0,9,  -999.0,9,-999.000,9,-999.0000,9, -999.00,9, -999.00,9,  -999.0,9,  -999.0,-999.000,9,-999.000, -999.00,9, 1586.80,-999.0000,9,-999.0000,9,-999.0000,9,-999.0000,9,-999.0000,9,-999.0000,-999.000,-999.0000,9, -999.00
318M20040615,        P02,      63,          1,         14,         14,2,20040708,       1901,    29.9997,   166.1233,       5902,  1788.1,   2.1517,  34.5681,2,  34.5684,2,  62.3000,2,    63.0,2,  160.25,2,   42.30,2,    0.00,2,    2.97,2,-999.000,9,-999.000,9,-999.000,9,  -999.0,9,  2408.3,2,-999.000,9,-999.0000,9, -999.00,9, -999.00,9,  -999.0,9,  -999.0,-999.000,9,-999.000, -999.00,9, 1788.10,-999.0000,9,-999.0000,9,-999.0000,9,-999.0000,9,-999.0000,9,-999.0000,-999.000,-999.0000,9, -999.00
318M20040615,        P02,      63,          1,         13,         13,2,20040708,       1901,    29.9997,   166.1233,       5902,  1989.6,   1.9650,  34.5970,2,  34.5979,2,  76.4000,2,    77.2,2,  162.09,2,   41.38,2,    0.00,2,    2.90,2,   0.007,2,   0.006,2,  -0.001,2,  -999.0,9,  -999.0,9,-999.000,9,-999.0000,9, -999.00,9, -999.00,9,  -999.0,9,  -999.0,-999.000,9,-999.000, -999.00,9, 1989.60,-999.0000,9,-999.0000,9,-999.0000,9,-999.0000,9,-999.0000,9,-999.0000,-999.000,-999.0000,9, -999.00
318M20040615,        P02,      63,          1,         12,         12,2,20040708,       1901,    29.9997,   166.1233,       5902,  2201.0,   1.8215,  34.6220,2,  34.6220,2,  94.1000,2,    94.7,2,  160.25,2,   40.11,2,    0.00,2,    2.81,2,   0.003,2,   0.001,2,   0.001,2,  -999.0,9,  2414.2,2,-999.000,9,-999.0000,9, -999.00,9, -999.00,9,  -999.0,9,  -999.0,-999.000,9,-999.000, -999.00,9, 2201.00,-999.0000,9,-999.0000,9,-999.0000,9,-999.0000,9,-999.0000,9,-999.0000,-999.000,-999.0000,9, -999.00
318M20040615,        P02,      63,          1,         11,         11,2,20040708,       1901,    29.9997,   166.1233,       5902,  2453.2,   1.7159,  34.6412,2,  34.6421,2, 110.2000,2,   110.6,2,  157.85,2,   39.08,2,    0.00,2,    2.74,2,   0.001,2,   0.004,2,  -0.001,2,  -999.0,9,  -999.0,9,-999.000,9,-999.0000,9, -999.00,9, -999.00,9,  -999.0,9,  -999.0,-999.000,9,-999.000, -999.00,9, 2453.20,-999.0000,9,-999.0000,9,-999.0000,9,-999.0000,9,-999.0000,9,-999.0000,-999.000,-999.0000,9, -999.00
318M20040615,        P02,      63,          1,         10,         10,2,20040708,       1901,    29.9997,   166.1233,       5902,  2703.6,   1.6337,  34.6530,2,  34.6537,2, 121.3000,2,   120.5,2,  156.23,2,   38.35,2,    0.00,2,    2.68,2,-999.000,9,-999.000,9,-999.000,9,  -999.0,9,  2416.6,2,-999.000,9,-999.0000,9, -999.00,9, -999.00,9,  -999.0,9,  -999.0,-999.000,9,-999.000, -999.00,9, 2703.60,-999.0000,9,-999.0000,9,-999.0000,9,-999.0000,9,-999.0000,9,-999.0000,-999.000,-999.0000,9, -999.00
318M20040615,        P02,      63,          1,          9,          9,2,20040708,       1901,    29.9997,   166.1233,       5902,  2961.2,   1.5804,  34.6614,2,  34.6626,2, 127.8000,2,   127.5,2,  155.49,2,   37.94,2,    0.00,2,    2.65,2,-999.000,9,-999.000,9,-999.000,9,  -999.0,9,  2416.6,2,-999.000,9,-999.0000,9, -999.00,9, -999.00,9,  -999.0,9,  -999.0,-999.000,9,-999.000, -999.00,9, 2961.20,-999.0000,9,-999.0000,9,-999.0000,9,-999.0000,9,-999.0000,9,-999.0000,-999.000,-999.0000,9, -999.00
318M20040615,        P02,      63,          1,          8,          8,2,20040708,       1901,    29.9997,   166.1233,       5902,  3303.2,   1.5246,  34.6709,2,  34.6710,2, 136.6000,2,   137.6,2,  152.88,2,   37.20,2,    0.00,2,    2.60,2,-999.000,9,-999.000,9,-999.000,9,  -999.0,9,  2416.1,2,-999.000,9,-999.0000,9, -999.00,9, -999.00,9,  -999.0,9,  -999.0,-999.000,9,-999.000, -999.00,9, 3303.20,-999.0000,9,-999.0000,9,-999.0000,9,-999.0000,9,-999.0000,9,-999.0000,-999.000,-999.0000,9, -999.00
318M20040615,        P02,      63,          1,          7,          7,2,20040708,       1901,    29.9997,   166.1233,       5902,  3708.4,   1.4929,  34.6783,2,  34.6791,2, 145.3000,2,   145.7,2,  150.67,2,   36.64,2,    0.00,2,    2.55,2,-999.000,9,-999.000,9,-999.000,9,  -999.0,9,  2414.9,2,-999.000,9,-999.0000,9, -999.00,9, -999.00,9,  -999.0,9,  -999.0,-999.000,9,-999.000, -999.00,9, 3708.40,-999.0000,9,-999.0000,9,-999.0000,9,-999.0000,9,-999.0000,9,-999.0000,-999.000,-999.0000,9, -999.00
318M20040615,        P02,      63,          1,          6,          6,2,20040708,       1901,    29.9997,   166.1233,       5902,  4123.4,   1.4751,  34.6838,2,  34.6828,2, 151.8000,2,   152.4,2,  148.84,2,   36.30,2,    0.00,2,    2.51,2,-999.000,9,-999.000,9,-999.000,9,  -999.0,9,  -999.0,9,-999.000,9,-999.0000,9, -999.00,9, -999.00,9,  -999.0,9,  -999.0,-999.000,9,-999.000, -999.00,9, 4123.40,-999.0000,9,-999.0000,9,-999.0000,9,-999.0000,9,-999.0000,9,-999.0000,-999.000,-999.0000,9, -999.00
318M20040615,        P02,      63,          1,          5,          5,2,20040708,       1901,    29.9997,   166.1233,       5902,  4529.1,   1.4739,  34.6882,2,  34.6876,2, 157.9000,2,   158.5,2,  146.42,2,   35.95,2,    0.00,2,    2.48,2,-999.000,9,-999.000,9,-999.000,9,  -999.0,9,  2412.5,2,-999.000,9,-999.0000,9, -999.00,9, -999.00,9,  -999.0,9,  -999.0,-999.000,9,-999.000, -999.00,9, 4529.10,-999.0000,9,-999.0000,9,-999.0000,9,-999.0000,9,-999.0000,9,-999.0000,-999.000,-999.0000,9, -999.00
318M20040615,        P02,      63,          1,          4,          4,2,20040708,       1901,    29.9997,   166.1233,       5902,  4944.3,   1.4845,  34.6917,2,  34.6911,2, 164.9000,2,   165.5,2,  141.42,2,   35.38,2,    0.00,2,    2.44,2,-999.000,9,-999.000,9,-999.000,9,  -999.0,9,  -999.0,9,-999.000,9,-999.0000,9, -999.00,9, -999.00,9,  -999.0,9,  -999.0,-999.000,9,-999.000, -999.00,9, 4944.30,-999.0000,9,-999.0000,9,-999.0000,9,-999.0000,9,-999.0000,9,-999.0000,-999.000,-999.0000,9, -999.00
318M20040615,        P02,      63,          1,          3,          3,2,20040708,       1901,    29.9997,   166.1233,       5902,  5358.6,   1.5077,  34.6943,2,  34.6943,2, 169.7000,2,   171.3,3,  138.27,2,   35.04,2,    0.00,2,    2.41,2,   0.004,2,   0.007,2,   0.000,2,  2306.2,2,  2404.8,2,-999.000,9,-999.0000,9, -999.00,9, -999.00,9,  -999.0,9,  -999.0,-999.000,9,-999.000, -999.00,9, 5358.60,-999.0000,9,-999.0000,9,-999.0000,9,-999.0000,9,-999.0000,9,-999.0000,-999.000,-999.0000,9, -999.00
318M20040615,        P02,      63,          1,          2,          2,2,20040708,       1901,    29.9997,   166.1233,       5902,  5715.4,   1.5340,  34.6956,2,  34.6958,2, 172.3000,2,   172.6,2,  136.78,2,   34.82,2,    0.00,2,    2.40,2,   0.003,2,   0.004,2,   0.000,2,  2303.9,2,  2403.4,2,-999.000,9,-999.0000,9, -999.00,9, -999.00,9,  -999.0,9,  -999.0,-999.000,9,-999.000, -999.00,9, 5715.40,-999.0000,9,-999.0000,9,-999.0000,9,-999.0000,9,-999.0000,9,-999.0000,-999.000,-999.0000,9, -999.00
318M20040615,        P02,      63,          1,          1,          1,2,20040708,       1901,    29.9997,   166.1233,       5902,  6058.6,   1.5562,  34.6972,2,  34.6982,2, 175.7000,3,   176.4,2,  134.57,2,   34.53,2,    0.00,2,    2.39,2,   0.005,2,   0.006,2,   0.000,2,  2300.7,2,  2400.3,6,-999.000,9,-999.0000,9, -999.00,9, -999.00,9,  -999.0,9,  -999.0,-999.000,9,-999.000, -999.00,9, 6058.60,-999.0000,9,-999.0000,9,-999.0000,9,-999.0000,9,-999.0000,9,-999.0000,-999.000,-999.0000,9, -999.00