BOTTLE,20131027SIOCCHRJL
EXPOCODE,SECT_ID,STNNBR,CASTNO,SAMPNO,BTLNBR,BTLNBR_FLAG_W,DATE,TIME,LATITUDE,LONGITUDE,DEPTH,CTDPRS,CTDTMP,CTDSAL,CTDSAL_FLAG_W,SALNTY,SALNTY_FLAG_W,CTDOXY,CTDOXY_FLAG_W,OXYGEN,OXYGEN_FLAG_W,SILCAT,SILCAT_FLAG_W,NITRAT,NITRAT_FLAG_W,NITRIT,NITRIT_FLAG_W,PHSPHT,PHSPHT_FLAG_W,CFC-11,CFC-11_FLAG_W,CFC-12,CFC-12_FLAG_W,CFC113,CFC113_FLAG_W,TCARBN,TCARBN_FLAG_W,ALKALI,ALKALI_FLAG_W,TRITUM,TRITUM_FLAG_W,HELIUM,HELIUM_FLAG_W,DELHE3,DELHE3_FLAG_W,DELC13,DELC13_FLAG_W,DELC14,DELC14_FLAG_W,C14ERR,NEON,NEON_FLAG_W,NEONER,DOC,DOC_FLAG_W,CTDRAW,CDOM380,CDOM380_FLAG_W,CDOM325,CDOM325_FLAG_W,CDOMSL,CDOMSL_FLAG_W,CDOM340,CDOM340_FLAG_W,CDOMSN,CDOMSN_FLAG_W,HELIER,TRITER,CDOM412,CDOM412_FLAG_W,DELHER
,,,,,,,,,,,METERS,DBAR,ITS-90,PSS-78,,PSS-78,,UMOL/KG,,UMOL/KG,,UMOL/KG,,UMOL/KG,,UMOL/KG,,UMOL/KG,,PMOL/KG,,PMOL/KG,,PMOL/KG,,UMOL/KG,,UMOL/KG,,TU,,NMOL/KG,,PERCNT,,/MILLE,,/MILLE,,/MILLE,NMOL/KG,,NMOL/KG,UMOL/KG,,DBAR,1/M,,1/M,,1/NM,,1/M,,1/NM,,NMOL/KG,TU,1/M,,PERCNT
318M20040615,        P02,      61,          1,         36,         36,2,20040708,       0308,    29.9973,    164.825,       5793,    10.1,  25.6830,  35.1785,2,  35.1827,2, 208.7000,2,   208.3,2,    1.29,2,    0.13,2,    0.00,2,    0.02,2,   1.812,2,   1.145,2,   0.131,2,  1999.3,6,  2309.8,6,   0.788,2,   1.7256,2,   -1.01,2, -999.00,9,  -999.0,9,  -999.0,-999.000,9,-999.000, -999.00,9,   10.10,-999.0000,9,-999.0000,9,-999.0000,9,-999.0000,9,-999.0000,9,   0.0086,   0.005,-999.0000,9,    0.20
318M20040615,        P02,      61,          1,         35,         35,2,20040708,       0308,    29.9973,    164.825,       5793,    51.8,  20.0029,  34.9525,2,  34.9534,2, 235.8000,2,   236.6,2,    1.47,2,    0.13,2,    0.00,2,    0.04,2,   2.270,2,   1.388,2,   0.147,2,  1996.3,2,  2295.9,2,   0.717,2,   1.7662,2,   -1.30,2, -999.00,9,  -999.0,9,  -999.0,-999.000,9,-999.000, -999.00,9,   51.80,-999.0000,9,-999.0000,9,-999.0000,9,-999.0000,9,-999.0000,9,   0.0088,   0.005,-999.0000,9,    0.20
318M20040615,        P02,      61,          1,         34,         34,2,20040708,       0308,    29.9973,    164.825,       5793,   101.6,  18.1865,  34.8370,2,  34.8434,2, 220.1000,2,   225.8,2,    2.53,2,    0.95,2,    0.22,2,    0.13,2,   2.383,2,   1.439,2,   0.142,2,  2012.4,2,  2290.4,2,   0.791,2,   1.7661,2,   -1.12,2, -999.00,9,  -999.0,9,  -999.0,-999.000,9,-999.000, -999.00,9,  101.60,-999.0000,9,-999.0000,9,-999.0000,9,-999.0000,9,-999.0000,9,   0.0088,   0.005,-999.0000,9,    0.20
318M20040615,        P02,      61,          1,         33,         33,2,20040708,       0308,    29.9973,    164.825,       5793,   151.4,  17.3013,  34.7894,2,  34.7891,2, 216.1000,2,   219.1,2,    3.42,2,    3.39,2,    0.02,2,    0.25,2,   2.450,2,   1.471,2,   0.129,2,  2022.6,2,  2283.9,2,   0.800,2,   1.8188,2,   -0.92,2, -999.00,9,  -999.0,9,  -999.0,-999.000,9,-999.000, -999.00,9,  151.40,-999.0000,9,-999.0000,9,-999.0000,9,-999.0000,9,-999.0000,9,   0.0091,   0.005,-999.0000,9,    0.20
318M20040615,        P02,      61,          1,         32,         32,2,20040708,       0308,    29.9973,    164.825,       5793,   201.1,  16.8093,  34.7547,2,  34.7531,2, 216.6000,2,   218.9,2,    3.77,2,    4.40,2,    0.01,2,    0.30,2,   2.530,2,   1.502,2,   0.095,2,  2026.7,2,  2281.8,2,   0.775,2,   1.7841,2,   -1.38,2, -999.00,9,  -999.0,9,  -999.0,-999.000,9,-999.000, -999.00,9,  201.10,-999.0000,9,-999.0000,9,-999.0000,9,-999.0000,9,-999.0000,9,   0.0089,   0.005,-999.0000,9,    0.20
318M20040615,        P02,      61,          1,         31,         31,2,20040708,       0308,    29.9973,    164.825,       5793,   251.0,  16.5710,  34.7436,2,  34.7425,2, 218.5000,2,   218.1,2,    4.49,2,    4.95,2,    0.01,2,    0.34,2,   2.517,2,   1.510,2,   0.101,2,  2031.1,2,  2280.6,2,   0.768,2,   1.7775,2,   -0.68,2, -999.00,9,  -999.0,9,  -999.0,-999.000,9,-999.000, -999.00,9,  251.00,-999.0000,9,-999.0000,9,-999.0000,9,-999.0000,9,-999.0000,9,   0.0089,   0.005,-999.0000,9,    0.20
318M20040615,        P02,      61,          1,         30,         30,2,20040708,       0308,    29.9973,    164.825,       5793,   300.5,  16.1652,  34.7139,2,  34.7133,2, 217.7000,2,   221.3,2,    5.01,2,    5.34,2,    0.01,2,    0.37,2,   2.561,2,   1.537,2,   0.112,2,  2033.3,2,  2280.1,2,   0.747,2,   1.7795,2,   -0.31,2, -999.00,9,  -999.0,9,  -999.0,-999.000,9,-999.000, -999.00,9,  300.50,-999.0000,9,-999.0000,9,-999.0000,9,-999.0000,9,-999.0000,9,   0.0089,   0.005,-999.0000,9,    0.20
318M20040615,        P02,      61,          1,         29,         29,2,20040708,       0308,    29.9973,    164.825,       5793,   350.7,  15.6570,  34.6573,2,  34.6570,2, 215.0000,2,   215.2,2,    5.91,2,    6.53,2,    0.01,2,    0.45,2,   2.603,2,   1.533,2,   0.089,2,  2042.8,2,  2279.3,2,   0.809,2,   1.7701,2,    0.30,2, -999.00,9,  -999.0,9,  -999.0,-999.000,9,-999.000, -999.00,9,  350.70,-999.0000,9,-999.0000,9,-999.0000,9,-999.0000,9,-999.0000,9,   0.0089,   0.006,-999.0000,9,    0.20
318M20040615,        P02,      61,          1,         28,         28,2,20040708,       0308,    29.9973,    164.825,       5793,   400.6,  14.7441,  34.5739,2,  34.5698,2, 207.4000,2,   204.5,2,    8.78,2,    8.91,2,    0.01,2,    0.62,2,   2.649,2,   1.528,2,   0.058,2,  -999.0,9,  -999.0,9,   0.821,2,   1.7994,2,    1.17,2, -999.00,9,  -999.0,9,  -999.0,-999.000,9,-999.000, -999.00,9,  400.60,-999.0000,9,-999.0000,9,-999.0000,9,-999.0000,9,-999.0000,9,   0.0090,   0.005,-999.0000,9,    0.20
318M20040615,        P02,      61,          1,         27,         27,2,20040708,       0308,    29.9973,    164.825,       5793,   450.4,  13.6956,  34.4963,2,  34.4919,2, 201.8000,2,   199.7,2,   12.01,2,   11.08,2,    0.00,2,    0.76,2,   2.693,2,   1.525,2,   0.058,2,  2077.0,2,  2276.4,2,   0.792,2,   1.7884,2,    2.68,2, -999.00,9,  -999.0,9,  -999.0,-999.000,9,-999.000, -999.00,9,  450.40,-999.0000,9,-999.0000,9,-999.0000,9,-999.0000,9,-999.0000,9,   0.0089,   0.006,-999.0000,9,    0.20
318M20040615,        P02,      61,          1,         26,         26,2,20040708,       0308,    29.9973,    164.825,       5793,   500.2,  12.5706,  34.4074,2,  34.4031,2, 198.4000,2,   200.7,2,   14.69,2,   12.81,2,    0.00,2,    0.89,2,   2.804,2,   1.585,2,   0.069,2,  -999.0,9,  -999.0,9,   0.811,2,   1.8022,2,    2.99,2, -999.00,9,  -999.0,9,  -999.0,-999.000,9,-999.000, -999.00,9,  500.20,-999.0000,9,-999.0000,9,-999.0000,9,-999.0000,9,-999.0000,9,   0.0090,   0.006,-999.0000,9,    0.20
318M20040615,        P02,      61,          1,         25,         25,2,20040708,       0308,    29.9973,    164.825,       5793,   600.4,   9.6973,  34.1914,2,  34.1921,2, 198.6000,2,   198.6,2,   26.43,2,   17.87,2,    0.00,2,    1.29,2,   2.860,2,   1.588,2,   0.130,2,  2127.4,2,  2273.5,2,   0.737,2,   1.8335,2,    4.79,2, -999.00,9,  -999.0,9,  -999.0,-999.000,9,-999.000, -999.00,9,  600.40,-999.0000,9,-999.0000,9,-999.0000,9,-999.0000,9,-999.0000,9,   0.0092,   0.006,-999.0000,9,    0.20
318M20040615,        P02,      61,          1,         24,         24,2,20040708,       0308,    29.9973,    164.825,       5793,   700.0,   6.9793,  34.0034,2,  33.9986,2, 176.1000,2,   172.7,2,   44.95,2,   25.08,2,    0.00,2,    1.82,2,   2.708,2,   1.446,2,   0.138,2,  -999.0,9,  -999.0,9,-999.000,9,   1.8431,2,    8.44,2, -999.00,9,  -999.0,9,  -999.0,-999.000,9,-999.000, -999.00,9,  700.00,-999.0000,9,-999.0000,9,-999.0000,9,-999.0000,9,-999.0000,9,   0.0092,-999.000,-999.0000,9,    0.20
318M20040615,        P02,      61,          1,         23,         23,2,20040708,       0308,    29.9973,    164.825,       5793,   799.8,   5.2568,  34.0065,2,  34.0031,2, 126.3000,2,   121.0,2,   71.06,2,   32.86,2,    0.00,2,    2.39,2,   2.028,2,   1.062,2,   0.107,2,  -999.0,9,  2298.4,2,   0.526,2,   1.8670,2,   12.52,2, -999.00,9,  -999.0,9,  -999.0,-999.000,9,-999.000, -999.00,9,  799.80,-999.0000,9,-999.0000,9,-999.0000,9,-999.0000,9,-999.0000,9,   0.0093,   0.005,-999.0000,9,    0.20
318M20040615,        P02,      61,          1,         22,         22,2,20040708,       0308,    29.9973,    164.825,       5793,   899.9,   4.6013,  34.1180,2,  34.1168,2,  79.4000,2,    77.0,2,   91.76,2,   37.80,2,    0.00,2,    2.73,2,   1.207,2,   0.610,2,   0.062,2,  -999.0,9,  -999.0,9,   0.378,2,   1.8766,2,   15.04,2, -999.00,9,  -999.0,9,  -999.0,-999.000,9,-999.000, -999.00,9,  899.90,-999.0000,9,-999.0000,9,-999.0000,9,-999.0000,9,-999.0000,9,   0.0094,   0.004,-999.0000,9,    0.20
318M20040615,        P02,      61,          1,         21,         21,2,20040708,       0308,    29.9973,    164.825,       5793,  1000.6,   4.1006,  34.2201,2,  34.2207,2,  53.2000,2,    51.3,2,  108.47,2,   40.74,2,    0.00,2,    2.91,2,   0.523,2,   0.269,2,   0.021,2,  2323.2,2,  2339.5,2,   0.220,2,   1.8714,2,   16.56,2, -999.00,9,  -999.0,9,  -999.0,-999.000,9,-999.000, -999.00,9, 1000.60,-999.0000,9,-999.0000,9,-999.0000,9,-999.0000,9,-999.0000,9,   0.0094,   0.003,-999.0000,9,    0.20
318M20040615,        P02,      61,          1,         20,         20,2,20040708,       0308,    29.9973,    164.825,       5793,  1100.7,   3.6690,  34.2948,2,  34.2946,2,  42.7000,2,    42.5,2,  121.31,2,   41.93,2,    0.00,2,    3.00,2,   0.311,2,   0.158,2,   0.009,2,  -999.0,9,  -999.0,9,   0.157,2,   1.9055,2,   16.89,2, -999.00,9,  -999.0,9,  -999.0,-999.000,9,-999.000, -999.00,9, 1100.70,-999.0000,9,-999.0000,9,-999.0000,9,-999.0000,9,-999.0000,9,   0.0095,   0.003,-999.0000,9,    0.20
318M20040615,        P02,      61,          1,         19,         19,2,20040708,       0308,    29.9973,    164.825,       5793,  1201.2,   3.3017,  34.3577,2,  34.3588,2,  35.9000,2,    35.3,2,  132.16,2,   42.92,2,    0.00,2,    3.06,2,   0.141,6,   0.073,6,   0.004,6,  2360.2,2,  2368.4,2,   0.086,2,   1.9058,2,   17.32,2, -999.00,9,  -999.0,9,  -999.0,-999.000,9,-999.000, -999.00,9, 1201.20,-999.0000,9,-999.0000,9,-999.0000,9,-999.0000,9,-999.0000,9,   0.0095,   0.002,-999.0000,9,    0.20
318M20040615,        P02,      61,          1,         18,         18,2,20040708,       0308,    29.9973,    164.825,       5793,  1296.9,   3.0511,  34.4014,2,  34.3969,2,  32.8000,2,    32.6,2,  139.50,2,   43.36,2,    0.00,2,    3.09,2,   0.082,2,   0.045,2,   0.002,2,  2369.0,2,  2376.2,2,   0.049,2,   1.9078,2,   17.52,2, -999.00,9,  -999.0,9,  -999.0,-999.000,9,-999.000, -999.00,9, 1296.90,-999.0000,9,-999.0000,9,-999.0000,9,-999.0000,9,-999.0000,9,   0.0095,   0.001,-999.0000,9,    0.20
318M20040615,        P02,      61,          1,         17,         17,2,20040708,       0308,    29.9973,    164.825,       5793,  1396.5,   2.8033,  34.4453,2,  34.4461,2,  34.5000,2,    34.7,2,  146.98,2,   43.35,2,    0.00,2,    3.10,2,   0.051,2,   0.024,2,  -0.001,2,  2376.2,2,  2385.9,2,   0.035,2,   1.9175,2,   17.84,2, -999.00,9,  -999.0,9,  -999.0,-999.000,9,-999.000, -999.00,9, 1396.50,-999.0000,9,-999.0000,9,-999.0000,9,-999.0000,9,-999.0000,9,   0.0096,   0.001,-999.0000,9,    0.20
318M20040615,        P02,      61,          1,         16,         16,2,20040708,       0308,    29.9973,    164.825,       5793,  1497.3,   2.6212,  34.4782,2,  34.4779,2,  36.6000,2,    37.0,2,  151.53,2,   43.51,2,    0.00,2,    3.09,2,   0.028,2,   0.016,2,  -0.001,2,  -999.0,9,  -999.0,9,   0.025,2,   1.9228,2,   18.27,2, -999.00,9,  -999.0,9,  -999.0,-999.000,9,-999.000, -999.00,9, 1497.30,-999.0000,9,-999.0000,9,-999.0000,9,-999.0000,9,-999.0000,9,   0.0096,   0.001,-999.0000,9,    0.20
318M20040615,        P02,      61,          1,         15,         15,2,20040708,       0308,    29.9973,    164.825,       5793,  1597.9,   2.4622,  34.5074,2,  34.5080,2,  40.6000,2,    41.4,2,  155.73,2,   43.67,2,    0.00,2,    3.08,2,   0.021,2,   0.013,2,   0.003,2,  -999.0,9,  2398.5,2,-999.000,9,   1.9203,2,   18.67,2, -999.00,9,  -999.0,9,  -999.0,-999.000,9,-999.000, -999.00,9, 1597.90,-999.0000,9,-999.0000,9,-999.0000,9,-999.0000,9,-999.0000,9,   0.0096,-999.000,-999.0000,9,    0.20
318M20040615,        P02,      61,          1,         14,         14,2,20040708,       0308,    29.9973,    164.825,       5793,  1798.5,   2.2065,  34.5546,2,  34.5547,2,  54.3000,2,    55.2,2,  160.31,2,   43.08,2,    0.00,2,    3.01,2,   0.010,2,   0.006,2,  -0.001,2,  -999.0,9,  -999.0,9,   0.008,2,   1.8783,2,   19.18,2, -999.00,9,  -999.0,9,  -999.0,-999.000,9,-999.000, -999.00,9, 1798.50,-999.0000,9,-999.0000,9,-999.0000,9,-999.0000,9,-999.0000,9,   0.0094,   0.000,-999.0000,9,    0.20
318M20040615,        P02,      61,          1,         13,         13,2,20040708,       0308,    29.9973,    164.825,       5793,  2004.6,   1.9970,  34.5902,2,  34.5904,2,  69.9000,2,    72.1,2,  162.83,2,   41.98,2,    0.00,2,    2.93,2,   0.007,2,   0.007,2,  -0.001,2,  -999.0,9,  2410.1,2,   0.004,2,   1.9344,2,   19.70,2, -999.00,9,  -999.0,9,  -999.0,-999.000,9,-999.000, -999.00,9, 2004.60,-999.0000,9,-999.0000,9,-999.0000,9,-999.0000,9,-999.0000,9,   0.0097,   0.000,-999.0000,9,    0.20
318M20040615,        P02,      61,          1,         12,         12,2,20040708,       0308,    29.9973,    164.825,       5793,  2253.3,   1.8216,  34.6182,2,  34.6183,2,  88.4000,2,    88.6,2,  162.99,2,   40.72,2,    0.00,2,    2.85,2,   0.004,2,   0.002,2,  -0.002,2,  -999.0,9,  -999.0,9,-999.000,9,-999.0000,9, -999.00,9, -999.00,9,  -999.0,9,  -999.0,-999.000,9,-999.000, -999.00,9, 2253.30,-999.0000,9,-999.0000,9,-999.0000,9,-999.0000,9,-999.0000,9,-999.0000,-999.000,-999.0000,9, -999.00
318M20040615,        P02,      61,          1,         11,         11,2,20040708,       0308,    29.9973,    164.825,       5793,  2495.1,   1.7039,  34.6383,2,  34.6386,2, 104.3000,2,   105.4,2,  160.93,2,   39.53,2,    0.00,2,    2.77,2,   0.002,2,   0.002,2,   0.000,2,  -999.0,9,  2417.2,2,-999.000,9,-999.0000,9, -999.00,9, -999.00,9,  -999.0,9,  -999.0,-999.000,9,-999.000, -999.00,9, 2495.10,-999.0000,9,-999.0000,9,-999.0000,9,-999.0000,9,-999.0000,9,-999.0000,-999.000,-999.0000,9, -999.00
318M20040615,        P02,      61,          1,         10,         10,2,20040708,       0308,    29.9973,    164.825,       5793,  2747.7,   1.6225,  34.6522,2,  34.6525,2, 117.4000,2,   117.7,2,  157.97,2,   38.57,2,    0.00,2,    2.71,2,   0.004,2,   0.001,2,   0.001,2,  -999.0,9,  -999.0,9,-999.000,9,-999.0000,9, -999.00,9, -999.00,9,  -999.0,9,  -999.0,-999.000,9,-999.000, -999.00,9, 2747.70,-999.0000,9,-999.0000,9,-999.0000,9,-999.0000,9,-999.0000,9,-999.0000,-999.000,-999.0000,9, -999.00
318M20040615,        P02,      61,          1,          9,          9,2,20040708,       0308,    29.9973,    164.825,       5793,  2996.2,   1.5685,  34.6617,2,  34.6618,2, 127.3000,2,   127.2,2,  155.04,2,   37.87,2,    0.00,2,    2.66,2,   0.003,2,   0.002,2,  -0.002,2,  -999.0,9,  2420.5,2,-999.000,9,-999.0000,9, -999.00,9, -999.00,9,  -999.0,9,  -999.0,-999.000,9,-999.000, -999.00,9, 2996.20,-999.0000,9,-999.0000,9,-999.0000,9,-999.0000,9,-999.0000,9,-999.0000,-999.000,-999.0000,9, -999.00
318M20040615,        P02,      61,          1,          8,          8,2,20040708,       0308,    29.9973,    164.825,       5793,  3393.1,   1.5101,  34.6725,2,  34.6739,2, 138.4000,2,   138.9,2,  153.01,2,   36.97,2,    0.00,2,    2.59,2,   0.000,2,   0.001,2,   0.001,2,  -999.0,9,  -999.0,9,-999.000,9,-999.0000,9, -999.00,9, -999.00,9,  -999.0,9,  -999.0,-999.000,9,-999.000, -999.00,9, 3393.10,-999.0000,9,-999.0000,9,-999.0000,9,-999.0000,9,-999.0000,9,-999.0000,-999.000,-999.0000,9, -999.00
318M20040615,        P02,      61,          1,          7,          7,2,20040708,       0308,    29.9973,    164.825,       5793,  3791.3,   1.4812,  34.6794,2,  34.6808,2, 146.0000,2,   146.3,2,  150.96,2,   36.49,2,    0.00,2,    2.55,2,   0.005,2,   0.006,2,   0.001,2,  -999.0,9,  2416.8,2,-999.000,9,-999.0000,9, -999.00,9, -999.00,9,  -999.0,9,  -999.0,-999.000,9,-999.000, -999.00,9, 3791.30,-999.0000,9,-999.0000,9,-999.0000,9,-999.0000,9,-999.0000,9,-999.0000,-999.000,-999.0000,9, -999.00
318M20040615,        P02,      61,          1,          6,          6,2,20040708,       0308,    29.9973,    164.825,       5793,  4200.1,   1.4662,  34.6851,2,  34.6855,2, 152.7000,2,   153.7,2,  148.71,2,   35.96,2,    0.00,2,    2.51,2,   0.005,2,   0.004,2,  -0.002,2,  -999.0,9,  -999.0,9,-999.000,9,-999.0000,9, -999.00,9, -999.00,9,  -999.0,9,  -999.0,-999.000,9,-999.000, -999.00,9, 4200.10,-999.0000,9,-999.0000,9,-999.0000,9,-999.0000,9,-999.0000,9,-999.0000,-999.000,-999.0000,9, -999.00
318M20040615,        P02,      61,          1,          5,          5,2,20040708,       0308,    29.9973,    164.825,       5793,  4611.6,   1.4707,  34.6891,2,  34.6903,2, 159.3000,2,   159.8,2,  145.78,2,   35.75,2,    0.00,2,    2.48,2,   0.006,2,   0.004,2,  -0.002,2,  -999.0,9,  2412.7,2,-999.000,9,-999.0000,9, -999.00,9, -999.00,9,  -999.0,9,  -999.0,-999.000,9,-999.000, -999.00,9, 4611.60,-999.0000,9,-999.0000,9,-999.0000,9,-999.0000,9,-999.0000,9,-999.0000,-999.000,-999.0000,9, -999.00
318M20040615,        P02,      61,          1,          4,          4,2,20040708,       0308,    29.9973,    164.825,       5793,  5008.3,   1.4818,  34.6924,2,  34.6922,2, 165.8000,2,   166.3,2,  140.79,2,   35.48,2,    0.00,2,    2.44,2,   0.006,2,   0.003,2,  -0.001,2,  -999.0,9,  -999.0,9,-999.000,9,-999.0000,9, -999.00,9, -999.00,9,  -999.0,9,  -999.0,-999.000,9,-999.000, -999.00,9, 5008.30,-999.0000,9,-999.0000,9,-999.0000,9,-999.0000,9,-999.0000,9,-999.0000,-999.000,-999.0000,9, -999.00
318M20040615,        P02,      61,          1,          3,          3,2,20040708,       0308,    29.9973,    164.825,       5793,  5396.1,   1.5007,  34.6948,2,  34.6952,2, 170.4000,2,   171.4,2,  137.29,2,   35.11,2,    0.00,2,    2.41,2,   0.005,2,   0.011,2,   0.002,2,  2307.8,2,  2405.3,2,-999.000,9,-999.0000,9, -999.00,9, -999.00,9,  -999.0,9,  -999.0,-999.000,9,-999.000, -999.00,9, 5396.10,-999.0000,9,-999.0000,9,-999.0000,9,-999.0000,9,-999.0000,9,-999.0000,-999.000,-999.0000,9, -999.00
318M20040615,        P02,      61,          1,          2,          2,2,20040708,       0308,    29.9973,    164.825,       5793,  5643.6,   1.5222,  34.6956,2,  34.6964,2, 172.0000,2,   172.7,2,  136.34,2,   34.95,2,    0.00,2,    2.40,2,   0.008,2,   0.005,2,  -0.002,2,  2306.5,2,  2405.8,2,-999.000,9,-999.0000,9, -999.00,9, -999.00,9,  -999.0,9,  -999.0,-999.000,9,-999.000, -999.00,9, 5643.60,-999.0000,9,-999.0000,9,-999.0000,9,-999.0000,9,-999.0000,9,-999.0000,-999.000,-999.0000,9, -999.00
318M20040615,        P02,      61,          1,          1,          1,2,20040708,       0308,    29.9973,    164.825,       5793,  5925.1,   1.5552,  34.6960,2,  34.6975,2, 172.7000,3,   173.3,2,  136.50,2,   34.84,2,    0.00,2,    2.40,2,   0.007,2,   0.009,2,  -0.002,2,  2304.3,2,  2405.5,6,-999.000,9,-999.0000,9, -999.00,9, -999.00,9,  -999.0,9,  -999.0,-999.000,9,-999.000, -999.00,9, 5925.10,-999.0000,9,-999.0000,9,-999.0000,9,-999.0000,9,-999.0000,9,-999.0000,-999.000,-999.0000,9, -999.00