BOTTLE,20131027SIOCCHRJL
EXPOCODE,SECT_ID,STNNBR,CASTNO,SAMPNO,BTLNBR,BTLNBR_FLAG_W,DATE,TIME,LATITUDE,LONGITUDE,DEPTH,CTDPRS,CTDTMP,CTDSAL,CTDSAL_FLAG_W,SALNTY,SALNTY_FLAG_W,CTDOXY,CTDOXY_FLAG_W,OXYGEN,OXYGEN_FLAG_W,SILCAT,SILCAT_FLAG_W,NITRAT,NITRAT_FLAG_W,NITRIT,NITRIT_FLAG_W,PHSPHT,PHSPHT_FLAG_W,CFC-11,CFC-11_FLAG_W,CFC-12,CFC-12_FLAG_W,CFC113,CFC113_FLAG_W,TCARBN,TCARBN_FLAG_W,ALKALI,ALKALI_FLAG_W,TRITUM,TRITUM_FLAG_W,HELIUM,HELIUM_FLAG_W,DELHE3,DELHE3_FLAG_W,DELC13,DELC13_FLAG_W,DELC14,DELC14_FLAG_W,C14ERR,NEON,NEON_FLAG_W,NEONER,DOC,DOC_FLAG_W,CTDRAW,CDOM380,CDOM380_FLAG_W,CDOM325,CDOM325_FLAG_W,CDOMSL,CDOMSL_FLAG_W,CDOM340,CDOM340_FLAG_W,CDOMSN,CDOMSN_FLAG_W,HELIER,TRITER,CDOM412,CDOM412_FLAG_W,DELHER
,,,,,,,,,,,METERS,DBAR,ITS-90,PSS-78,,PSS-78,,UMOL/KG,,UMOL/KG,,UMOL/KG,,UMOL/KG,,UMOL/KG,,UMOL/KG,,PMOL/KG,,PMOL/KG,,PMOL/KG,,UMOL/KG,,UMOL/KG,,TU,,NMOL/KG,,PERCNT,,/MILLE,,/MILLE,,/MILLE,NMOL/KG,,NMOL/KG,UMOL/KG,,DBAR,1/M,,1/M,,1/NM,,1/M,,1/NM,,NMOL/KG,TU,1/M,,PERCNT
318M20040615,        P02,     111,          2,         36,         36,2,20040801,       0859,    29.9947,  -165.1168,       5363,     7.1,  25.6537,  35.3687,2,  35.3681,2, 210.8000,2,   209.6,2,    0.98,2,    0.08,2,    0.00,2,    0.03,2,   1.828,2,   1.124,2,   0.241,2,  2009.5,6,  2325.6,6,-999.000,9,-999.0000,9, -999.00,9, -999.00,9,  -999.0,9,  -999.0,-999.000,9,-999.000, -999.00,9,    7.10,-999.0000,9,-999.0000,9,-999.0000,9,-999.0000,9,-999.0000,9,-999.0000,-999.000,-999.0000,9, -999.00
318M20040615,        P02,     111,          2,         35,         35,2,20040801,       0859,    29.9947,  -165.1168,       5363,    41.6,  22.5412,  35.3158,2,  35.3147,2, 231.9000,2,   230.5,2,    1.14,2,    0.03,2,    0.00,2,    0.03,2,   2.129,2,   1.285,2,   0.225,2,  2012.5,2,  2322.9,2,-999.000,9,-999.0000,9, -999.00,9, -999.00,9,  -999.0,9,  -999.0,-999.000,9,-999.000, -999.00,9,   41.60,-999.0000,9,-999.0000,9,-999.0000,9,-999.0000,9,-999.0000,9,-999.0000,-999.000,-999.0000,9, -999.00
318M20040615,        P02,     111,          2,         34,         34,2,20040801,       0859,    29.9947,  -165.1168,       5363,    86.3,  19.8282,  35.1842,2,  35.1799,2, 234.3000,2,   235.5,2,    1.49,2,    0.00,2,    0.00,2,    0.05,2,   2.317,2,   1.385,2,   0.160,2,  2016.9,2,  2313.4,2,-999.000,9,-999.0000,9, -999.00,9, -999.00,9,  -999.0,9,  -999.0,-999.000,9,-999.000, -999.00,9,   86.30,-999.0000,9,-999.0000,9,-999.0000,9,-999.0000,9,-999.0000,9,-999.0000,-999.000,-999.0000,9, -999.00
318M20040615,        P02,     111,          2,         33,         33,2,20040801,       0859,    29.9947,  -165.1168,       5363,   135.8,  16.9660,  34.8062,2,  34.8056,2, 239.6000,2,   236.4,2,    2.59,2,    0.31,2,    0.11,2,    0.14,2,   0.004,4,   0.299,4,   0.000,4,  2024.7,2,  2290.7,2,-999.000,9,-999.0000,9, -999.00,9, -999.00,9,  -999.0,9,  -999.0,-999.000,9,-999.000, -999.00,9,  135.80,-999.0000,9,-999.0000,9,-999.0000,9,-999.0000,9,-999.0000,9,-999.0000,-999.000,-999.0000,9, -999.00
318M20040615,        P02,     111,          2,         32,         32,2,20040801,       0859,    29.9947,  -165.1168,       5363,   185.0,  15.5964,  34.6554,2,  34.6562,2, 228.9000,2,   231.0,2,    3.89,2,    3.18,2,    0.01,2,    0.28,2,   2.759,2,   1.626,2,   0.216,2,  2034.6,2,  2279.3,2,-999.000,9,-999.0000,9, -999.00,9, -999.00,9,  -999.0,9,  -999.0,-999.000,9,-999.000, -999.00,9,  185.00,-999.0000,9,-999.0000,9,-999.0000,9,-999.0000,9,-999.0000,9,-999.0000,-999.000,-999.0000,9, -999.00
318M20040615,        P02,     111,          2,         31,         31,2,20040801,       0859,    29.9947,  -165.1168,       5363,   234.2,  14.4903,  34.5092,2,  34.5111,2, 219.8000,2,   219.1,2,    6.33,2,    6.60,2,    0.00,2,    0.50,2,   2.876,2,   1.669,2,   0.108,2,  2052.3,2,  2272.2,2,-999.000,9,-999.0000,9, -999.00,9, -999.00,9,  -999.0,9,  -999.0,-999.000,9,-999.000, -999.00,9,  234.20,-999.0000,9,-999.0000,9,-999.0000,9,-999.0000,9,-999.0000,9,-999.0000,-999.000,-999.0000,9, -999.00
318M20040615,        P02,     111,          2,         30,         30,2,20040801,       0859,    29.9947,  -165.1168,       5363,   283.2,  13.4648,  34.4300,2,  34.4316,2, 219.8000,2,   220.2,2,    8.39,2,    8.53,2,    0.00,2,    0.63,2,   3.001,2,   1.714,2,   0.101,2,  2062.5,2,  2270.8,2,-999.000,9,-999.0000,9, -999.00,9, -999.00,9,  -999.0,9,  -999.0,-999.000,9,-999.000, -999.00,9,  283.20,-999.0000,9,-999.0000,9,-999.0000,9,-999.0000,9,-999.0000,9,-999.0000,-999.000,-999.0000,9, -999.00
318M20040615,        P02,     111,          2,         29,         29,2,20040801,       0859,    29.9947,  -165.1168,       5363,   340.6,  12.0377,  34.3199,2,  34.3185,2, 214.5000,2,   218.2,2,   12.36,2,   11.39,2,    0.00,2,    0.82,2,   3.152,2,   1.763,2,   0.096,2,  2080.9,2,  2267.3,2,-999.000,9,-999.0000,9, -999.00,9, -999.00,9,  -999.0,9,  -999.0,-999.000,9,-999.000, -999.00,9,  340.60,-999.0000,9,-999.0000,9,-999.0000,9,-999.0000,9,-999.0000,9,-999.0000,-999.000,-999.0000,9, -999.00
318M20040615,        P02,     111,          2,         28,         28,2,20040801,       0859,    29.9947,  -165.1168,       5363,   389.8,  11.0719,  34.2457,2,  34.2467,2, 211.7000,2,   213.2,2,   15.38,2,   13.57,2,    0.00,2,    0.97,2,   3.209,2,   1.728,2,   0.102,2,  2095.2,2,  2267.7,2,-999.000,9,-999.0000,9, -999.00,9, -999.00,9,  -999.0,9,  -999.0,-999.000,9,-999.000, -999.00,9,  389.80,-999.0000,9,-999.0000,9,-999.0000,9,-999.0000,9,-999.0000,9,-999.0000,-999.000,-999.0000,9, -999.00
318M20040615,        P02,     111,          2,         27,         27,2,20040801,       0859,    29.9947,  -165.1168,       5363,   440.4,  10.0485,  34.1762,2,  34.1771,2, 199.3000,2,   200.2,2,   20.50,2,   16.69,2,    0.00,2,    1.19,2,   3.158,2,   1.658,2,   0.110,2,  2115.3,2,  2269.4,2,-999.000,9,-999.0000,9, -999.00,9, -999.00,9,  -999.0,9,  -999.0,-999.000,9,-999.000, -999.00,9,  440.40,-999.0000,9,-999.0000,9,-999.0000,9,-999.0000,9,-999.0000,9,-999.0000,-999.000,-999.0000,9, -999.00
318M20040615,        P02,     111,          2,         26,         26,2,20040801,       0859,    29.9947,  -165.1168,       5363,   490.4,   9.0621,  34.1237,2,  34.1247,2, 188.1000,2,   187.2,2,   27.16,2,   19.78,2,    0.00,2,    1.41,2,   3.104,2,   1.516,2,   0.106,2,  2137.1,2,  2273.0,2,-999.000,9,-999.0000,9, -999.00,9, -999.00,9,  -999.0,9,  -999.0,-999.000,9,-999.000, -999.00,9,  490.40,-999.0000,9,-999.0000,9,-999.0000,9,-999.0000,9,-999.0000,9,-999.0000,-999.000,-999.0000,9, -999.00
318M20040615,        P02,     111,          2,         25,         25,2,20040801,       0859,    29.9947,  -165.1168,       5363,   574.7,   7.7828,  34.0604,2,  34.0614,2, 159.6000,2,   159.7,2,   38.63,2,   24.77,2,    0.00,2,    1.77,2,   2.558,2,   1.287,2,   0.105,2,  2173.7,2,  2278.7,2,-999.000,9,-999.0000,9, -999.00,9, -999.00,9,  -999.0,9,  -999.0,-999.000,9,-999.000, -999.00,9,  574.70,-999.0000,9,-999.0000,9,-999.0000,9,-999.0000,9,-999.0000,9,-999.0000,-999.000,-999.0000,9, -999.00
318M20040615,        P02,     111,          2,         24,         24,4,20040801,       0859,    29.9947,  -165.1168,       5363,   678.7,   5.7910,  34.0426,2,  34.0450,2, 100.1000,2,  -999.0,9,   65.58,2,   33.79,2,    0.00,2,    2.44,2,-999.000,9,-999.000,9,-999.000,9,  -999.0,9,  2317.0,2,-999.000,9,-999.0000,9, -999.00,9, -999.00,9,  -999.0,9,  -999.0,-999.000,9,-999.000, -999.00,9,  678.70,-999.0000,9,-999.0000,9,-999.0000,9,-999.0000,9,-999.0000,9,-999.0000,-999.000,-999.0000,9, -999.00
318M20040615,        P02,     111,          2,         23,         23,2,20040801,       0859,    29.9947,  -165.1168,       5363,   778.1,   4.7581,  34.0909,2,  34.0926,2,  65.9000,2,    63.8,2,   86.30,2,   38.80,2,    0.00,2,    2.78,2,   0.681,2,   0.346,2,   0.024,2,  2293.7,2,  2330.6,2,-999.000,9,-999.0000,9, -999.00,9, -999.00,9,  -999.0,9,  -999.0,-999.000,9,-999.000, -999.00,9,  778.10,-999.0000,9,-999.0000,9,-999.0000,9,-999.0000,9,-999.0000,9,-999.0000,-999.000,-999.0000,9, -999.00
318M20040615,        P02,     111,          2,         22,         22,2,20040801,       0859,    29.9947,  -165.1168,       5363,   878.6,   4.1600,  34.1787,2,  34.1796,2,  36.4000,2,    35.4,2,  103.63,2,   42.10,2,    0.00,2,    3.00,2,   0.251,2,   0.125,2,   0.000,2,  2329.0,2,  -999.0,9,-999.000,9,-999.0000,9, -999.00,9, -999.00,9,  -999.0,9,  -999.0,-999.000,9,-999.000, -999.00,9,  878.60,-999.0000,9,-999.0000,9,-999.0000,9,-999.0000,9,-999.0000,9,-999.0000,-999.000,-999.0000,9, -999.00
318M20040615,        P02,     111,          2,         21,         21,2,20040801,       0859,    29.9947,  -165.1168,       5363,   978.9,   3.6878,  34.2653,2,  34.2673,2,  18.9000,2,    17.6,2,  119.66,2,   43.94,2,    0.00,2,    3.13,2,   0.087,2,   0.044,2,   0.000,2,  2356.9,6,  2355.3,2,-999.000,9,-999.0000,9, -999.00,9, -999.00,9,  -999.0,9,  -999.0,-999.000,9,-999.000, -999.00,9,  978.90,-999.0000,9,-999.0000,9,-999.0000,9,-999.0000,9,-999.0000,9,-999.0000,-999.000,-999.0000,9, -999.00
318M20040615,        P02,     111,          2,         20,         20,2,20040801,       0859,    29.9947,  -165.1168,       5363,  1083.3,   3.4113,  34.3472,2,  34.3481,2,  13.5000,2,    13.7,2,  130.05,2,   44.47,2,    0.00,2,    3.19,2,   0.019,2,   0.008,2,   0.000,2,  2370.9,2,  2370.0,2,-999.000,9,-999.0000,9, -999.00,9, -999.00,9,  -999.0,9,  -999.0,-999.000,9,-999.000, -999.00,9, 1083.30,-999.0000,9,-999.0000,9,-999.0000,9,-999.0000,9,-999.0000,9,-999.0000,-999.000,-999.0000,9, -999.00
318M20040615,        P02,     111,          2,         19,         19,2,20040801,       0859,    29.9947,  -165.1168,       5363,  1183.6,   3.2158,  34.4147,2,  34.4164,2,  16.6000,2,    16.2,2,  136.32,2,   44.30,2,    0.00,2,    3.19,2,-999.000,9,-999.000,9,-999.000,9,  2378.3,2,  2381.2,2,-999.000,9,-999.0000,9, -999.00,9, -999.00,9,  -999.0,9,  -999.0,-999.000,9,-999.000, -999.00,9, 1183.60,-999.0000,9,-999.0000,9,-999.0000,9,-999.0000,9,-999.0000,9,-999.0000,-999.000,-999.0000,9, -999.00
318M20040615,        P02,     111,          2,         18,         18,2,20040801,       0859,    29.9947,  -165.1168,       5363,  1283.6,   3.0246,  34.4621,2,  34.4629,2,  23.1000,2,    21.5,2,  141.22,2,   43.98,2,    0.00,2,    3.16,2,   0.008,6,   0.006,6,   0.000,6,  2381.2,2,  2389.1,6,-999.000,9,-999.0000,9, -999.00,9, -999.00,9,  -999.0,9,  -999.0,-999.000,9,-999.000, -999.00,9, 1283.60,-999.0000,9,-999.0000,9,-999.0000,9,-999.0000,9,-999.0000,9,-999.0000,-999.000,-999.0000,9, -999.00
318M20040615,        P02,     111,          2,         17,         17,2,20040801,       0859,    29.9947,  -165.1168,       5363,  1383.1,   2.8257,  34.5030,2,  34.5043,2,  32.0000,2,    31.4,2,  145.95,2,   43.46,2,    0.00,2,    3.12,2,   0.007,2,   0.001,2,   0.000,2,  2382.6,3,  2395.9,2,-999.000,9,-999.0000,9, -999.00,9, -999.00,9,  -999.0,9,  -999.0,-999.000,9,-999.000, -999.00,9, 1383.10,-999.0000,9,-999.0000,9,-999.0000,9,-999.0000,9,-999.0000,9,-999.0000,-999.000,-999.0000,9, -999.00
318M20040615,        P02,     111,          2,         16,         16,2,20040801,       0859,    29.9947,  -165.1168,       5363,  1488.1,   2.6557,  34.5367,2,  34.5397,2,  41.6000,2,    46.6,2,  147.71,2,   42.50,2,    0.00,2,    3.05,2,   0.010,2,   0.004,2,   0.000,2,  2376.6,2,  2402.2,2,-999.000,9,-999.0000,9, -999.00,9, -999.00,9,  -999.0,9,  -999.0,-999.000,9,-999.000, -999.00,9, 1488.10,-999.0000,9,-999.0000,9,-999.0000,9,-999.0000,9,-999.0000,9,-999.0000,-999.000,-999.0000,9, -999.00
318M20040615,        P02,     111,          2,         15,         15,2,20040801,       0859,    29.9947,  -165.1168,       5363,  1588.9,   2.4999,  34.5563,2,  34.5575,2,  54.5000,2,    55.1,2,  150.85,2,   41.98,2,    0.00,2,    3.01,2,   0.008,2,   0.003,2,   0.000,2,  2375.5,2,  2407.2,2,-999.000,9,-999.0000,9, -999.00,9, -999.00,9,  -999.0,9,  -999.0,-999.000,9,-999.000, -999.00,9, 1588.90,-999.0000,9,-999.0000,9,-999.0000,9,-999.0000,9,-999.0000,9,-999.0000,-999.000,-999.0000,9, -999.00
318M20040615,        P02,     111,          2,         14,         14,2,20040801,       0859,    29.9947,  -165.1168,       5363,  1689.3,   2.3280,  34.5751,2,  34.5770,2,  61.7000,2,    62.2,2,  154.39,2,   41.56,2,    0.00,2,    2.97,2,   0.003,2,   0.000,2,   0.000,2,  2374.8,2,  2410.5,2,-999.000,9,-999.0000,9, -999.00,9, -999.00,9,  -999.0,9,  -999.0,-999.000,9,-999.000, -999.00,9, 1689.30,-999.0000,9,-999.0000,9,-999.0000,9,-999.0000,9,-999.0000,9,-999.0000,-999.000,-999.0000,9, -999.00
318M20040615,        P02,     111,          2,         13,         13,2,20040801,       0859,    29.9947,  -165.1168,       5363,  1791.0,   2.1951,  34.5883,2,  34.5899,2,  67.2000,2,    68.2,2,  157.54,2,   41.39,2,    0.00,2,    2.94,2,   0.006,2,   0.002,2,   0.000,2,  2374.0,2,  2415.4,2,-999.000,9,-999.0000,9, -999.00,9, -999.00,9,  -999.0,9,  -999.0,-999.000,9,-999.000, -999.00,9, 1791.00,-999.0000,9,-999.0000,9,-999.0000,9,-999.0000,9,-999.0000,9,-999.0000,-999.000,-999.0000,9, -999.00
318M20040615,        P02,     111,          2,         12,         12,2,20040801,       0859,    29.9947,  -165.1168,       5363,  1992.8,   1.9902,  34.6101,2,  34.6119,2,  78.2000,2,    79.9,2,  161.28,2,   40.87,2,    0.00,2,    2.89,2,   0.011,2,   0.002,2,   0.000,2,  2370.9,2,  2418.8,2,-999.000,9,-999.0000,9, -999.00,9, -999.00,9,  -999.0,9,  -999.0,-999.000,9,-999.000, -999.00,9, 1992.80,-999.0000,9,-999.0000,9,-999.0000,9,-999.0000,9,-999.0000,9,-999.0000,-999.000,-999.0000,9, -999.00
318M20040615,        P02,     111,          2,         11,         11,2,20040801,       0859,    29.9947,  -165.1168,       5363,  2196.3,   1.8394,  34.6272,2,  34.6286,2,  89.6000,2,    90.5,2,  163.43,2,   40.23,2,    0.00,2,    2.83,2,   0.007,2,   0.000,2,   0.000,2,  2366.4,2,  2421.7,2,-999.000,9,-999.0000,9, -999.00,9, -999.00,9,  -999.0,9,  -999.0,-999.000,9,-999.000, -999.00,9, 2196.30,-999.0000,9,-999.0000,9,-999.0000,9,-999.0000,9,-999.0000,9,-999.0000,-999.000,-999.0000,9, -999.00
318M20040615,        P02,     111,          2,         10,         10,2,20040801,       0859,    29.9947,  -165.1168,       5363,  2453.7,   1.7166,  34.6418,2,  34.6439,2, 100.4000,2,   101.5,2,  164.38,2,   39.45,2,    0.00,2,    2.77,2,   0.011,2,   0.000,2,   0.000,2,  2362.5,2,  2424.6,2,-999.000,9,-999.0000,9, -999.00,9, -999.00,9,  -999.0,9,  -999.0,-999.000,9,-999.000, -999.00,9, 2453.70,-999.0000,9,-999.0000,9,-999.0000,9,-999.0000,9,-999.0000,9,-999.0000,-999.000,-999.0000,9, -999.00
318M20040615,        P02,     111,          2,          9,          9,2,20040801,       0859,    29.9947,  -165.1168,       5363,  2707.5,   1.6193,  34.6539,2,  34.6557,2, 111.4000,2,   112.0,2,  163.76,2,   38.66,2,    0.00,2,    2.72,2,   0.008,2,   0.001,2,   0.000,2,  2356.8,2,  2425.9,2,-999.000,9,-999.0000,9, -999.00,9, -999.00,9,  -999.0,9,  -999.0,-999.000,9,-999.000, -999.00,9, 2707.50,-999.0000,9,-999.0000,9,-999.0000,9,-999.0000,9,-999.0000,9,-999.0000,-999.000,-999.0000,9, -999.00
318M20040615,        P02,     111,          2,          8,          8,2,20040801,       0859,    29.9947,  -165.1168,       5363,  2956.3,   1.5551,  34.6630,2,  34.6642,2, 120.5000,2,   121.9,2,  162.13,2,   37.99,2,    0.00,2,    2.66,2,   0.010,2,   0.006,2,   0.000,2,  2350.0,2,  2425.3,2,-999.000,9,-999.0000,9, -999.00,9, -999.00,9,  -999.0,9,  -999.0,-999.000,9,-999.000, -999.00,9, 2956.30,-999.0000,9,-999.0000,9,-999.0000,9,-999.0000,9,-999.0000,9,-999.0000,-999.000,-999.0000,9, -999.00
318M20040615,        P02,     111,          2,          7,          7,2,20040801,       0859,    29.9947,  -165.1168,       5363,  3299.7,   1.4987,  34.6724,2,  34.6736,2, 132.0000,2,   132.4,2,  159.32,2,   37.11,2,    0.00,2,    2.61,2,   0.012,2,   0.005,2,   0.000,2,  2343.0,2,  2424.7,2,-999.000,9,-999.0000,9, -999.00,9, -999.00,9,  -999.0,9,  -999.0,-999.000,9,-999.000, -999.00,9, 3299.70,-999.0000,9,-999.0000,9,-999.0000,9,-999.0000,9,-999.0000,9,-999.0000,-999.000,-999.0000,9, -999.00
318M20040615,        P02,     111,          2,          6,          6,2,20040801,       0859,    29.9947,  -165.1168,       5363,  3705.1,   1.4695,  34.6799,2,  34.6810,2, 141.6000,2,   141.7,2,  156.92,2,   36.55,2,    0.00,2,    2.56,2,   0.009,2,   0.003,2,   0.000,2,  2336.9,2,  2425.3,2,-999.000,9,-999.0000,9, -999.00,9, -999.00,9,  -999.0,9,  -999.0,-999.000,9,-999.000, -999.00,9, 3705.10,-999.0000,9,-999.0000,9,-999.0000,9,-999.0000,9,-999.0000,9,-999.0000,-999.000,-999.0000,9, -999.00
318M20040615,        P02,     111,          2,          5,          5,2,20040801,       0859,    29.9947,  -165.1168,       5363,  4123.7,   1.4675,  34.6848,2,  34.6862,2, 148.3000,2,   148.3,2,  154.92,2,   36.09,2,    0.00,2,    2.52,2,   0.010,2,   0.003,2,   0.000,2,  2330.5,2,  2425.5,2,-999.000,9,-999.0000,9, -999.00,9, -999.00,9,  -999.0,9,  -999.0,-999.000,9,-999.000, -999.00,9, 4123.70,-999.0000,9,-999.0000,9,-999.0000,9,-999.0000,9,-999.0000,9,-999.0000,-999.000,-999.0000,9, -999.00
318M20040615,        P02,     111,          2,          4,          4,2,20040801,       0859,    29.9947,  -165.1168,       5363,  4529.9,   1.4912,  34.6872,2,  34.6883,2, 151.6000,2,   151.8,2,  154.09,2,   35.82,2,    0.00,2,    2.51,2,   0.018,2,   0.002,2,   0.000,2,  2329.6,2,  2425.1,2,-999.000,9,-999.0000,9, -999.00,9, -999.00,9,  -999.0,9,  -999.0,-999.000,9,-999.000, -999.00,9, 4529.90,-999.0000,9,-999.0000,9,-999.0000,9,-999.0000,9,-999.0000,9,-999.0000,-999.000,-999.0000,9, -999.00
318M20040615,        P02,     111,          2,          3,          3,2,20040801,       0859,    29.9947,  -165.1168,       5363,  4937.5,   1.5197,  34.6893,2,  34.6905,2, 155.1000,2,   155.6,2,  150.30,2,   35.67,2,    0.00,2,    2.48,2,   6.396,4,   0.002,2,   0.000,2,  2326.3,2,  2423.0,2,-999.000,9,-999.0000,9, -999.00,9, -999.00,9,  -999.0,9,  -999.0,-999.000,9,-999.000, -999.00,9, 4937.50,-999.0000,9,-999.0000,9,-999.0000,9,-999.0000,9,-999.0000,9,-999.0000,-999.000,-999.0000,9, -999.00
318M20040615,        P02,     111,          2,          2,          2,2,20040801,       0859,    29.9947,  -165.1168,       5363,  5255.5,   1.5422,  34.6907,2,  34.6920,2, 158.7000,2,   159.3,2,  146.70,2,   35.51,2,    0.00,2,    2.47,2,   0.015,2,   0.006,2,   0.000,2,  2322.0,2,  2420.0,2,-999.000,9,-999.0000,9, -999.00,9, -999.00,9,  -999.0,9,  -999.0,-999.000,9,-999.000, -999.00,9, 5255.50,-999.0000,9,-999.0000,9,-999.0000,9,-999.0000,9,-999.0000,9,-999.0000,-999.000,-999.0000,9, -999.00
318M20040615,        P02,     111,          2,          1,          1,2,20040801,       0859,    29.9947,  -165.1168,       5363,  5444.6,   1.5581,  34.6913,2,  34.6930,2, 160.3000,2,   161.5,2,  144.89,2,   35.51,2,    0.00,2,    2.46,2,   0.012,2,   0.004,2,   0.000,2,  2319.8,6,  2418.5,6,-999.000,9,-999.0000,9, -999.00,9, -999.00,9,  -999.0,9,  -999.0,-999.000,9,-999.000, -999.00,9, 5444.60,-999.0000,9,-999.0000,9,-999.0000,9,-999.0000,9,-999.0000,9,-999.0000,-999.000,-999.0000,9, -999.00