BOTTLE,20131027SIOCCHRJL
EXPOCODE,SECT_ID,STNNBR,CASTNO,SAMPNO,BTLNBR,BTLNBR_FLAG_W,DATE,TIME,LATITUDE,LONGITUDE,DEPTH,CTDPRS,CTDTMP,CTDSAL,CTDSAL_FLAG_W,SALNTY,SALNTY_FLAG_W,CTDOXY,CTDOXY_FLAG_W,OXYGEN,OXYGEN_FLAG_W,SILCAT,SILCAT_FLAG_W,NITRAT,NITRAT_FLAG_W,NITRIT,NITRIT_FLAG_W,PHSPHT,PHSPHT_FLAG_W,CFC-11,CFC-11_FLAG_W,CFC-12,CFC-12_FLAG_W,CFC113,CFC113_FLAG_W,TCARBN,TCARBN_FLAG_W,ALKALI,ALKALI_FLAG_W,TRITUM,TRITUM_FLAG_W,HELIUM,HELIUM_FLAG_W,DELHE3,DELHE3_FLAG_W,DELC13,DELC13_FLAG_W,DELC14,DELC14_FLAG_W,C14ERR,NEON,NEON_FLAG_W,NEONER,DOC,DOC_FLAG_W,CTDRAW,CDOM380,CDOM380_FLAG_W,CDOM325,CDOM325_FLAG_W,CDOMSL,CDOMSL_FLAG_W,CDOM340,CDOM340_FLAG_W,CDOMSN,CDOMSN_FLAG_W,HELIER,TRITER,CDOM412,CDOM412_FLAG_W,DELHER
,,,,,,,,,,,METERS,DBAR,ITS-90,PSS-78,,PSS-78,,UMOL/KG,,UMOL/KG,,UMOL/KG,,UMOL/KG,,UMOL/KG,,UMOL/KG,,PMOL/KG,,PMOL/KG,,PMOL/KG,,UMOL/KG,,UMOL/KG,,TU,,NMOL/KG,,PERCNT,,/MILLE,,/MILLE,,/MILLE,NMOL/KG,,NMOL/KG,UMOL/KG,,DBAR,1/M,,1/M,,1/NM,,1/M,,1/NM,,NMOL/KG,TU,1/M,,PERCNT
318M20040615,        P02,      99,          1,         36,         36,2,20040720,       0604,     29.999,  -171.0213,       5340,     9.5,  25.8025,  35.3657,2,  35.3648,2, 209.2000,2,   208.5,2,    0.82,2,    0.03,2,    0.00,2,    0.03,2,   1.742,2,   1.086,2,   0.127,2,  1997.7,6,  2323.5,6,-999.000,9,-999.0000,9, -999.00,9, -999.00,9,  -999.0,9,  -999.0,-999.000,9,-999.000, -999.00,9,    9.50,-999.0000,9,-999.0000,9,-999.0000,9,-999.0000,9,-999.0000,9,-999.0000,-999.000,-999.0000,9, -999.00
318M20040615,        P02,      99,          1,         35,         35,2,20040720,       0604,     29.999,  -171.0213,       5340,    41.3,  23.4852,  35.3186,2,  35.3181,2, 224.6000,2,   224.1,2,    1.04,2,    0.00,2,    0.00,2,    0.02,2,   1.953,2,   1.186,2,   0.135,2,  -999.0,9,  2320.4,2,-999.000,9,-999.0000,9, -999.00,9, -999.00,9,  -999.0,9,  -999.0,-999.000,9,-999.000, -999.00,9,   41.30,-999.0000,9,-999.0000,9,-999.0000,9,-999.0000,9,-999.0000,9,-999.0000,-999.000,-999.0000,9, -999.00
318M20040615,        P02,      99,          1,         34,         34,2,20040720,       0604,     29.999,  -171.0213,       5340,    86.1,  19.9974,  35.1956,2,  35.2062,2, 234.7000,2,   234.7,2,    1.45,2,    0.00,2,    0.00,2,    0.04,2,   2.221,2,   1.344,2,   0.156,2,  -999.0,9,  2313.7,2,-999.000,9,-999.0000,9, -999.00,9, -999.00,9,  -999.0,9,  -999.0,-999.000,9,-999.000, -999.00,9,   86.10,-999.0000,9,-999.0000,9,-999.0000,9,-999.0000,9,-999.0000,9,-999.0000,-999.000,-999.0000,9, -999.00
318M20040615,        P02,      99,          1,         33,         33,2,20040720,       0604,     29.999,  -171.0213,       5340,   135.7,  18.1470,  34.9211,2,  34.9188,2, 212.9000,2,   215.6,2,    2.47,2,    1.94,2,    0.05,2,    0.20,2,   2.381,2,   1.406,2,   0.127,2,  -999.0,9,  -999.0,9,-999.000,9,-999.0000,9, -999.00,9, -999.00,9,  -999.0,9,  -999.0,-999.000,9,-999.000, -999.00,9,  135.70,-999.0000,9,-999.0000,9,-999.0000,9,-999.0000,9,-999.0000,9,-999.0000,-999.000,-999.0000,9, -999.00
318M20040615,        P02,      99,          1,         32,         32,2,20040720,       0604,     29.999,  -171.0213,       5340,   185.5,  16.3051,  34.6968,2,  34.6990,2, 209.7000,2,   210.5,2,    4.51,2,    4.86,2,    0.01,2,    0.37,2,   2.546,2,   1.469,2,   0.080,2,  -999.0,9,  2281.1,2,-999.000,9,-999.0000,9, -999.00,9, -999.00,9,  -999.0,9,  -999.0,-999.000,9,-999.000, -999.00,9,  185.50,-999.0000,9,-999.0000,9,-999.0000,9,-999.0000,9,-999.0000,9,-999.0000,-999.000,-999.0000,9, -999.00
318M20040615,        P02,      99,          1,         31,         31,2,20040720,       0604,     29.999,  -171.0213,       5340,   234.3,  15.0252,  34.5681,2,  34.5673,2, 210.9000,2,   211.1,2,    6.55,2,    6.92,2,    0.01,2,    0.51,2,   2.710,2,   1.539,2,   0.053,2,  -999.0,9,  -999.0,9,-999.000,9,-999.0000,9, -999.00,9, -999.00,9,  -999.0,9,  -999.0,-999.000,9,-999.000, -999.00,9,  234.30,-999.0000,9,-999.0000,9,-999.0000,9,-999.0000,9,-999.0000,9,-999.0000,-999.000,-999.0000,9, -999.00
318M20040615,        P02,      99,          1,         30,         30,2,20040720,       0604,     29.999,  -171.0213,       5340,   284.1,  13.9919,  34.4973,2,  34.4974,2, 214.9000,2,   215.4,2,    8.80,2,    8.48,2,    0.00,2,    0.62,2,   2.783,2,   1.570,2,   0.066,2,  -999.0,9,  2271.9,2,-999.000,9,-999.0000,9, -999.00,9, -999.00,9,  -999.0,9,  -999.0,-999.000,9,-999.000, -999.00,9,  284.10,-999.0000,9,-999.0000,9,-999.0000,9,-999.0000,9,-999.0000,9,-999.0000,-999.000,-999.0000,9, -999.00
318M20040615,        P02,      99,          1,         29,         29,2,20040720,       0604,     29.999,  -171.0213,       5340,   334.4,  13.1422,  34.4286,2,  34.4285,2, 215.9000,2,   215.1,2,   10.44,2,    9.84,2,    0.00,2,    0.71,2,   2.853,2,   1.584,2,   0.071,2,  -999.0,9,  -999.0,9,-999.000,9,-999.0000,9, -999.00,9, -999.00,9,  -999.0,9,  -999.0,-999.000,9,-999.000, -999.00,9,  334.40,-999.0000,9,-999.0000,9,-999.0000,9,-999.0000,9,-999.0000,9,-999.0000,-999.000,-999.0000,9, -999.00
318M20040615,        P02,      99,          1,         28,         28,2,20040720,       0604,     29.999,  -171.0213,       5340,   383.9,  12.0368,  34.3525,2,  34.3553,2, 215.0000,2,   213.5,2,   13.94,2,   12.00,2,    0.00,2,    0.86,2,   2.919,2,   1.603,2,   0.089,2,  -999.0,9,  2270.7,2,-999.000,9,-999.0000,9, -999.00,9, -999.00,9,  -999.0,9,  -999.0,-999.000,9,-999.000, -999.00,9,  383.90,-999.0000,9,-999.0000,9,-999.0000,9,-999.0000,9,-999.0000,9,-999.0000,-999.000,-999.0000,9, -999.00
318M20040615,        P02,      99,          1,         27,         27,2,20040720,       0604,     29.999,  -171.0213,       5340,   434.3,  10.7971,  34.2539,2,  34.2533,2, 209.9000,2,   209.6,2,   18.06,2,   14.51,2,    0.00,2,    1.04,2,   2.986,6,   1.619,6,   0.101,6,  -999.0,9,  -999.0,9,-999.000,9,-999.0000,9, -999.00,9, -999.00,9,  -999.0,9,  -999.0,-999.000,9,-999.000, -999.00,9,  434.30,-999.0000,9,-999.0000,9,-999.0000,9,-999.0000,9,-999.0000,9,-999.0000,-999.000,-999.0000,9, -999.00
318M20040615,        P02,      99,          1,         26,         26,2,20040720,       0604,     29.999,  -171.0213,       5340,   484.9,   9.8409,  34.1819,2,  34.1800,2, 204.2000,2,   203.9,2,   22.82,2,   16.83,2,    0.00,2,    1.20,2,   2.973,2,   1.586,2,   0.116,2,  -999.0,9,  -999.0,9,-999.000,9,-999.0000,9, -999.00,9, -999.00,9,  -999.0,9,  -999.0,-999.000,9,-999.000, -999.00,9,  484.90,-999.0000,9,-999.0000,9,-999.0000,9,-999.0000,9,-999.0000,9,-999.0000,-999.000,-999.0000,9, -999.00
318M20040615,        P02,      99,          1,         25,         25,2,20040720,       0604,     29.999,  -171.0213,       5340,   570.0,   7.8073,  34.0593,2,  34.0583,2, 170.9000,2,   172.8,2,   38.44,2,   23.53,2,    0.00,2,    1.69,2,   2.627,2,   1.373,2,   0.111,2,  -999.0,9,  2276.6,2,-999.000,9,-999.0000,9, -999.00,9, -999.00,9,  -999.0,9,  -999.0,-999.000,9,-999.000, -999.00,9,  570.00,-999.0000,9,-999.0000,9,-999.0000,9,-999.0000,9,-999.0000,9,-999.0000,-999.000,-999.0000,9, -999.00
318M20040615,        P02,      99,          1,         24,         24,2,20040720,       0604,     29.999,  -171.0213,       5340,   669.0,   6.1761,  34.0304,2,  34.0316,2, 119.9000,2,   123.1,2,   59.09,2,   31.04,2,    0.00,2,    2.24,2,   1.797,2,   0.910,2,   0.067,2,  -999.0,9,  -999.0,9,-999.000,9,-999.0000,9, -999.00,9, -999.00,9,  -999.0,9,  -999.0,-999.000,9,-999.000, -999.00,9,  669.00,-999.0000,9,-999.0000,9,-999.0000,9,-999.0000,9,-999.0000,9,-999.0000,-999.000,-999.0000,9, -999.00
318M20040615,        P02,      99,          1,         23,         23,2,20040720,       0604,     29.999,  -171.0213,       5340,   774.1,   4.8771,  34.0949,2,  34.0938,2,  68.0000,2,    70.8,2,   85.06,2,   37.90,2,    0.00,2,    2.73,2,   0.844,2,   0.412,2,   0.027,2,  -999.0,9,  -999.0,9,-999.000,9,-999.0000,9, -999.00,9, -999.00,9,  -999.0,9,  -999.0,-999.000,9,-999.000, -999.00,9,  774.10,-999.0000,9,-999.0000,9,-999.0000,9,-999.0000,9,-999.0000,9,-999.0000,-999.000,-999.0000,9, -999.00
318M20040615,        P02,      99,          1,         22,         22,2,20040720,       0604,     29.999,  -171.0213,       5340,   872.5,   4.3086,  34.1751,2,  34.1738,2,  36.9000,2,    42.8,2,  100.92,2,   41.16,2,    0.00,2,    2.96,2,   0.361,2,   0.181,2,   0.013,2,  -999.0,9,  2331.7,2,-999.000,9,-999.0000,9, -999.00,9, -999.00,9,  -999.0,9,  -999.0,-999.000,9,-999.000, -999.00,9,  872.50,-999.0000,9,-999.0000,9,-999.0000,9,-999.0000,9,-999.0000,9,-999.0000,-999.000,-999.0000,9, -999.00
318M20040615,        P02,      99,          1,         21,         21,2,20040720,       0604,     29.999,  -171.0213,       5340,   965.6,   3.8955,  34.2588,2,  34.2583,2,  25.3000,2,    26.7,2,  114.04,2,   42.93,2,    0.00,2,    3.09,2,   0.133,2,   0.066,2,   0.001,2,  -999.0,9,  -999.0,9,-999.000,9,-999.0000,9, -999.00,9, -999.00,9,  -999.0,9,  -999.0,-999.000,9,-999.000, -999.00,9,  965.60,-999.0000,9,-999.0000,9,-999.0000,9,-999.0000,9,-999.0000,9,-999.0000,-999.000,-999.0000,9, -999.00
318M20040615,        P02,      99,          1,         20,         20,2,20040720,       0604,     29.999,  -171.0213,       5340,  1067.4,   3.5183,  34.3436,2,  34.3431,2,  20.7000,2,    20.8,2,  126.30,2,   43.86,2,    0.00,2,    3.15,2,   0.040,2,   0.023,2,   0.001,2,  -999.0,9,  -999.0,9,-999.000,9,-999.0000,9, -999.00,9, -999.00,9,  -999.0,9,  -999.0,-999.000,9,-999.000, -999.00,9, 1067.40,-999.0000,9,-999.0000,9,-999.0000,9,-999.0000,9,-999.0000,9,-999.0000,-999.000,-999.0000,9, -999.00
318M20040615,        P02,      99,          1,         19,         19,2,20040720,       0604,     29.999,  -171.0213,       5340,  1169.9,   3.2454,  34.3997,2,  34.3994,2,  21.5000,2,    21.2,2,  134.91,2,   44.20,2,    0.00,2,    3.16,2,   0.023,2,   0.016,2,   0.001,2,  -999.0,9,  2376.6,2,-999.000,9,-999.0000,9, -999.00,9, -999.00,9,  -999.0,9,  -999.0,-999.000,9,-999.000, -999.00,9, 1169.90,-999.0000,9,-999.0000,9,-999.0000,9,-999.0000,9,-999.0000,9,-999.0000,-999.000,-999.0000,9, -999.00
318M20040615,        P02,      99,          1,         18,         18,2,20040720,       0604,     29.999,  -171.0213,       5340,  1271.0,   3.0309,  34.4472,2,  34.4471,2,  24.4000,2,    24.5,2,  141.12,2,   44.31,2,    0.00,2,    3.15,2,   0.010,2,   0.007,2,   0.001,2,  -999.0,9,  -999.0,9,-999.000,9,-999.0000,9, -999.00,9, -999.00,9,  -999.0,9,  -999.0,-999.000,9,-999.000, -999.00,9, 1271.00,-999.0000,9,-999.0000,9,-999.0000,9,-999.0000,9,-999.0000,9,-999.0000,-999.000,-999.0000,9, -999.00
318M20040615,        P02,      99,          1,         17,         17,2,20040720,       0604,     29.999,  -171.0213,       5340,  1370.2,   2.8296,  34.4882,2,  34.4872,2,  31.2000,2,    31.2,2,  146.04,2,   44.08,2,    0.00,2,    3.13,2,   0.009,2,   0.006,2,   0.001,2,  -999.0,9,  2394.2,2,-999.000,9,-999.0000,9, -999.00,9, -999.00,9,  -999.0,9,  -999.0,-999.000,9,-999.000, -999.00,9, 1370.20,-999.0000,9,-999.0000,9,-999.0000,9,-999.0000,9,-999.0000,9,-999.0000,-999.000,-999.0000,9, -999.00
318M20040615,        P02,      99,          1,         16,         16,2,20040720,       0604,     29.999,  -171.0213,       5340,  1471.2,   2.6487,  34.5186,2,  34.5176,2,  36.7000,2,    37.3,2,  150.31,2,   43.62,2,    0.00,2,    3.10,2,   0.005,2,   0.004,2,   0.001,2,  -999.0,9,  -999.0,9,-999.000,9,-999.0000,9, -999.00,9, -999.00,9,  -999.0,9,  -999.0,-999.000,9,-999.000, -999.00,9, 1471.20,-999.0000,9,-999.0000,9,-999.0000,9,-999.0000,9,-999.0000,9,-999.0000,-999.000,-999.0000,9, -999.00
318M20040615,        P02,      99,          1,         15,         15,2,20040720,       0604,     29.999,  -171.0213,       5340,  1571.5,   2.4980,  34.5412,2,  34.5412,2,  44.8000,2,    44.9,2,  153.82,2,   43.14,2,    0.00,2,    3.06,2,   0.004,2,   0.003,2,   0.001,2,  -999.0,9,  2404.4,2,-999.000,9,-999.0000,9, -999.00,9, -999.00,9,  -999.0,9,  -999.0,-999.000,9,-999.000, -999.00,9, 1571.50,-999.0000,9,-999.0000,9,-999.0000,9,-999.0000,9,-999.0000,9,-999.0000,-999.000,-999.0000,9, -999.00
318M20040615,        P02,      99,          1,         14,         14,2,20040720,       0604,     29.999,  -171.0213,       5340,  1772.0,   2.1988,  34.5789,2,  34.5789,2,  62.8000,2,    62.8,2,  158.93,2,   41.91,2,    0.00,2,    2.97,2,   0.003,2,   0.003,2,   0.001,2,  -999.0,9,  -999.0,9,-999.000,9,-999.0000,9, -999.00,9, -999.00,9,  -999.0,9,  -999.0,-999.000,9,-999.000, -999.00,9, 1772.00,-999.0000,9,-999.0000,9,-999.0000,9,-999.0000,9,-999.0000,9,-999.0000,-999.000,-999.0000,9, -999.00
318M20040615,        P02,      99,          1,         13,         13,2,20040720,       0604,     29.999,  -171.0213,       5340,  1972.2,   2.0129,  34.6022,2,  34.6017,2,  75.4000,2,    75.0,2,  161.72,2,   41.03,2,    0.00,2,    2.91,2,   0.003,2,   0.004,2,   0.001,2,  -999.0,9,  2415.5,2,-999.000,9,-999.0000,9, -999.00,9, -999.00,9,  -999.0,9,  -999.0,-999.000,9,-999.000, -999.00,9, 1972.20,-999.0000,9,-999.0000,9,-999.0000,9,-999.0000,9,-999.0000,9,-999.0000,-999.000,-999.0000,9, -999.00
318M20040615,        P02,      99,          1,         12,         12,2,20040720,       0604,     29.999,  -171.0213,       5340,  2168.7,   1.8665,  34.6203,2,  34.6194,2,  87.9000,2,    87.4,2,  162.58,2,   40.43,2,    0.00,2,    2.85,2,-999.000,9,-999.000,9,-999.000,9,  -999.0,9,  -999.0,9,-999.000,9,-999.0000,9, -999.00,9, -999.00,9,  -999.0,9,  -999.0,-999.000,9,-999.000, -999.00,9, 2168.70,-999.0000,9,-999.0000,9,-999.0000,9,-999.0000,9,-999.0000,9,-999.0000,-999.000,-999.0000,9, -999.00
318M20040615,        P02,      99,          1,         11,         11,2,20040720,       0604,     29.999,  -171.0213,       5340,  2421.9,   1.7225,  34.6390,2,  34.6385,2, 102.8000,2,   103.2,2,  161.51,2,   39.61,2,    0.00,2,    2.78,2,   0.004,2,   0.002,2,   0.001,2,  -999.0,9,  2420.6,2,-999.000,9,-999.0000,9, -999.00,9, -999.00,9,  -999.0,9,  -999.0,-999.000,9,-999.000, -999.00,9, 2421.90,-999.0000,9,-999.0000,9,-999.0000,9,-999.0000,9,-999.0000,9,-999.0000,-999.000,-999.0000,9, -999.00
318M20040615,        P02,      99,          1,         10,         10,2,20040720,       0604,     29.999,  -171.0213,       5340,  2669.1,   1.6306,  34.6515,2,  34.6499,2, 115.2000,2,   113.8,2,  160.87,2,   38.95,2,    0.00,2,    2.72,2,-999.000,9,-999.000,9,-999.000,9,  -999.0,9,  -999.0,9,-999.000,9,-999.0000,9, -999.00,9, -999.00,9,  -999.0,9,  -999.0,-999.000,9,-999.000, -999.00,9, 2669.10,-999.0000,9,-999.0000,9,-999.0000,9,-999.0000,9,-999.0000,9,-999.0000,-999.000,-999.0000,9, -999.00
318M20040615,        P02,      99,          1,          9,          9,2,20040720,       0604,     29.999,  -171.0213,       5340,  2922.8,   1.5650,  34.6611,2,  34.6603,2, 124.7000,2,   123.0,2,  159.83,2,   38.19,2,    0.00,2,    2.67,2,   0.002,2,   0.000,2,   0.001,2,  -999.0,9,  2421.5,2,-999.000,9,-999.0000,9, -999.00,9, -999.00,9,  -999.0,9,  -999.0,-999.000,9,-999.000, -999.00,9, 2922.80,-999.0000,9,-999.0000,9,-999.0000,9,-999.0000,9,-999.0000,9,-999.0000,-999.000,-999.0000,9, -999.00
318M20040615,        P02,      99,          1,          8,          8,2,20040720,       0604,     29.999,  -171.0213,       5340,  3251.9,   1.5062,  34.6711,2,  34.6697,2, 130.9000,2,   131.7,2,  160.67,2,   37.70,2,    0.00,2,    2.63,2,-999.000,9,-999.000,9,-999.000,9,  -999.0,9,  2423.4,6,-999.000,9,-999.0000,9, -999.00,9, -999.00,9,  -999.0,9,  -999.0,-999.000,9,-999.000, -999.00,9, 3251.90,-999.0000,9,-999.0000,9,-999.0000,9,-999.0000,9,-999.0000,9,-999.0000,-999.000,-999.0000,9, -999.00
318M20040615,        P02,      99,          1,          7,          7,2,20040720,       0604,     29.999,  -171.0213,       5340,  3601.8,   1.4751,  34.6779,2,  34.6770,2, 139.6000,2,   140.2,2,  157.48,2,   37.00,2,    0.00,2,    2.58,2,  -0.001,2,   0.002,2,   0.001,2,  -999.0,9,  2423.6,2,-999.000,9,-999.0000,9, -999.00,9, -999.00,9,  -999.0,9,  -999.0,-999.000,9,-999.000, -999.00,9, 3601.80,-999.0000,9,-999.0000,9,-999.0000,9,-999.0000,9,-999.0000,9,-999.0000,-999.000,-999.0000,9, -999.00
318M20040615,        P02,      99,          1,          6,          6,2,20040720,       0604,     29.999,  -171.0213,       5340,  3950.3,   1.4633,  34.6831,2,  34.6819,2, 146.0000,2,   146.5,2,  156.48,2,   36.42,2,    0.00,2,    2.54,2,-999.000,9,-999.000,9,-999.000,9,  -999.0,9,  2422.2,6,-999.000,9,-999.0000,9, -999.00,9, -999.00,9,  -999.0,9,  -999.0,-999.000,9,-999.000, -999.00,9, 3950.30,-999.0000,9,-999.0000,9,-999.0000,9,-999.0000,9,-999.0000,9,-999.0000,-999.000,-999.0000,9, -999.00
318M20040615,        P02,      99,          1,          5,          5,2,20040720,       0604,     29.999,  -171.0213,       5340,  4293.6,   1.4702,  34.6864,2,  34.6859,2, 149.6000,2,   150.7,2,  156.27,2,   36.26,2,    0.00,2,    2.52,2,   0.005,2,   0.004,2,   0.001,2,  -999.0,9,  2423.2,2,-999.000,9,-999.0000,9, -999.00,9, -999.00,9,  -999.0,9,  -999.0,-999.000,9,-999.000, -999.00,9, 4293.60,-999.0000,9,-999.0000,9,-999.0000,9,-999.0000,9,-999.0000,9,-999.0000,-999.000,-999.0000,9, -999.00
318M20040615,        P02,      99,          1,          4,          4,2,20040720,       0604,     29.999,  -171.0213,       5340,  4652.7,   1.4966,  34.6881,2,  34.6881,2, 152.4000,2,   153.1,2,  154.11,2,   35.98,2,    0.00,2,    2.51,2,-999.000,9,-999.000,9,-999.000,9,  -999.0,9,  2422.7,2,-999.000,9,-999.0000,9, -999.00,9, -999.00,9,  -999.0,9,  -999.0,-999.000,9,-999.000, -999.00,9, 4652.70,-999.0000,9,-999.0000,9,-999.0000,9,-999.0000,9,-999.0000,9,-999.0000,-999.000,-999.0000,9, -999.00
318M20040615,        P02,      99,          1,          3,          3,2,20040720,       0604,     29.999,  -171.0213,       5340,  5002.6,   1.5304,  34.6890,2,  34.6887,2, 154.6000,2,   155.2,2,  151.77,2,   35.93,2,    0.00,2,    2.49,2,   0.005,2,   0.007,2,   0.001,2,  -999.0,9,  2420.9,2,-999.000,9,-999.0000,9, -999.00,9, -999.00,9,  -999.0,9,  -999.0,-999.000,9,-999.000, -999.00,9, 5002.60,-999.0000,9,-999.0000,9,-999.0000,9,-999.0000,9,-999.0000,9,-999.0000,-999.000,-999.0000,9, -999.00
318M20040615,        P02,      99,          1,          2,          2,2,20040720,       0604,     29.999,  -171.0213,       5340,  5202.3,   1.5526,  34.6893,2,  34.6889,2, 156.0000,2,   156.1,2,  150.92,2,   36.09,2,    0.00,2,    2.49,2,-999.000,9,-999.000,9,-999.000,9,  -999.0,9,  2420.1,2,-999.000,9,-999.0000,9, -999.00,9, -999.00,9,  -999.0,9,  -999.0,-999.000,9,-999.000, -999.00,9, 5202.30,-999.0000,9,-999.0000,9,-999.0000,9,-999.0000,9,-999.0000,9,-999.0000,-999.000,-999.0000,9, -999.00
318M20040615,        P02,      99,          1,          1,          1,2,20040720,       0604,     29.999,  -171.0213,       5340,  5403.5,   1.5644,  34.6904,2,  34.6902,3, 157.6000,2,   159.0,2,  147.92,2,   35.82,2,    0.00,2,    2.47,2,   0.005,2,   0.003,2,   0.001,2,  -999.0,9,  2418.9,6,-999.000,9,-999.0000,9, -999.00,9, -999.00,9,  -999.0,9,  -999.0,-999.000,9,-999.000, -999.00,9, 5403.50,-999.0000,9,-999.0000,9,-999.0000,9,-999.0000,9,-999.0000,9,-999.0000,-999.000,-999.0000,9, -999.00