BOTTLE,20131027SIOCCHRJL
EXPOCODE,SECT_ID,STNNBR,CASTNO,SAMPNO,BTLNBR,BTLNBR_FLAG_W,DATE,TIME,LATITUDE,LONGITUDE,DEPTH,CTDPRS,CTDTMP,CTDSAL,CTDSAL_FLAG_W,SALNTY,SALNTY_FLAG_W,CTDOXY,CTDOXY_FLAG_W,OXYGEN,OXYGEN_FLAG_W,SILCAT,SILCAT_FLAG_W,NITRAT,NITRAT_FLAG_W,NITRIT,NITRIT_FLAG_W,PHSPHT,PHSPHT_FLAG_W,CFC-11,CFC-11_FLAG_W,CFC-12,CFC-12_FLAG_W,CFC113,CFC113_FLAG_W,TCARBN,TCARBN_FLAG_W,ALKALI,ALKALI_FLAG_W,TRITUM,TRITUM_FLAG_W,HELIUM,HELIUM_FLAG_W,DELHE3,DELHE3_FLAG_W,DELC13,DELC13_FLAG_W,DELC14,DELC14_FLAG_W,C14ERR,NEON,NEON_FLAG_W,NEONER,DOC,DOC_FLAG_W,CTDRAW,CDOM380,CDOM380_FLAG_W,CDOM325,CDOM325_FLAG_W,CDOMSL,CDOMSL_FLAG_W,CDOM340,CDOM340_FLAG_W,CDOMSN,CDOMSN_FLAG_W,HELIER,TRITER,CDOM412,CDOM412_FLAG_W,DELHER
,,,,,,,,,,,METERS,DBAR,ITS-90,PSS-78,,PSS-78,,UMOL/KG,,UMOL/KG,,UMOL/KG,,UMOL/KG,,UMOL/KG,,UMOL/KG,,PMOL/KG,,PMOL/KG,,PMOL/KG,,UMOL/KG,,UMOL/KG,,TU,,NMOL/KG,,PERCNT,,/MILLE,,/MILLE,,/MILLE,NMOL/KG,,NMOL/KG,UMOL/KG,,DBAR,1/M,,1/M,,1/NM,,1/M,,1/NM,,NMOL/KG,TU,1/M,,PERCNT
318M20040615,        P02,     113,          2,         36,         36,2,20040802,       0109,    29.9972,   -163.846,       5616,    11.7,  25.8949,  35.3852,2,  35.3877,2, 208.5000,2,   208.4,2,    1.18,2,    0.07,2,    0.00,2,    0.03,2,   1.801,2,   1.103,2,   0.133,2,  2003.6,6,  2326.5,6,-999.000,9,-999.0000,9, -999.00,9,    1.17,2,    75.0,6,     1.9,-999.000,9,-999.000, -999.00,9,   11.70,   0.0190,2,   0.0680,2,   0.0240,2,   0.0480,2,   0.0240,2,-999.0000,-999.000,   0.0120,2, -999.00
318M20040615,        P02,     113,          2,         35,         35,2,20040802,       0109,    29.9972,   -163.846,       5616,    36.3,  22.4056,  35.2720,2,  35.2757,2, 230.7000,2,   231.5,2,    1.70,2,    0.07,2,    0.00,2,    0.03,2,   2.160,2,   1.281,2,   0.156,2,  2012.4,2,  2319.5,2,-999.000,9,-999.0000,9, -999.00,9, -999.00,9,  -999.0,9,  -999.0,-999.000,9,-999.000, -999.00,9,   36.30,   0.0180,2,   0.0730,2,   0.0260,2,   0.0490,2,   0.0270,2,-999.0000,-999.000,   0.0110,2, -999.00
318M20040615,        P02,     113,          2,         34,         34,2,20040802,       0109,    29.9972,   -163.846,       5616,    71.4,  18.7410,  34.9766,2,  34.9787,2, 237.4000,2,   237.3,2,    2.23,2,    0.07,2,    0.00,2,    0.08,2,   2.559,2,   1.392,2,   0.142,2,  2017.3,2,  2300.5,2,-999.000,9,-999.0000,9, -999.00,9,    1.06,2,    78.7,2,     5.1,-999.000,9,-999.000, -999.00,9,   71.40,   0.0460,2,   0.1420,2,   0.0190,2,   0.1000,2,   0.0200,2,-999.0000,-999.000,   0.0300,2, -999.00
318M20040615,        P02,     113,          2,         33,         33,2,20040802,       0109,    29.9972,   -163.846,       5616,   121.2,  16.9088,  34.7996,2,  34.7929,2, 220.3000,3,   226.0,2,    3.33,2,    1.76,2,    0.09,2,    0.22,2,   2.619,2,   1.524,2,   0.158,2,  2031.4,2,  2287.6,2,-999.000,9,-999.0000,9, -999.00,9, -999.00,9,  -999.0,9,  -999.0,-999.000,9,-999.000, -999.00,9,  121.20,   0.0650,2,   0.1540,2,   0.0120,2,   0.1180,2,   0.0140,2,-999.0000,-999.000,   0.0490,2, -999.00
318M20040615,        P02,     113,          2,         32,         32,2,20040802,       0109,    29.9972,   -163.846,       5616,   170.1,  15.3939,  34.5974,2,  34.5948,2, 214.7000,3,   214.0,2,    5.38,2,    5.43,2,    0.01,2,    0.44,2,   2.771,2,   1.598,2,   0.087,2,  2048.0,2,  2277.2,2,-999.000,9,-999.0000,9, -999.00,9,    0.71,2,    75.4,6,     3.1,-999.000,9,-999.000, -999.00,9,  170.10,   0.0830,2,   0.1820,2,   0.0110,2,   0.1390,2,   0.0120,2,-999.0000,-999.000,   0.0640,2, -999.00
318M20040615,        P02,     113,          2,         31,         31,2,20040802,       0109,    29.9972,   -163.846,       5616,   220.7,  13.9506,  34.4536,2,  34.4516,2, 212.4000,3,   213.9,2,    8.02,2,    8.11,2,    0.01,2,    0.61,2,   2.932,2,   1.642,2,   0.054,2,  2060.2,2,  2270.0,2,-999.000,9,-999.0000,9, -999.00,9, -999.00,9,  -999.0,9,  -999.0,-999.000,9,-999.000, -999.00,9,  220.70,   0.0730,2,   0.1660,2,   0.0110,2,   0.1260,2,   0.0130,2,-999.0000,-999.000,   0.0570,2, -999.00
318M20040615,        P02,     113,          2,         30,         30,2,20040802,       0109,    29.9972,   -163.846,       5616,   275.7,  12.8286,  34.3828,2,  34.3780,2, 217.5000,3,   218.1,2,   10.48,2,    9.94,2,    0.01,2,    0.73,2,   3.035,2,   1.715,2,   0.077,2,  2070.7,2,  2268.5,2,-999.000,9,-999.0000,9, -999.00,9,    0.59,2,    62.3,2,     4.3,-999.000,9,-999.000, -999.00,9,  275.70,   0.0710,2,   0.1620,2,   0.0120,2,   0.1230,2,   0.0130,2,-999.0000,-999.000,   0.0550,2, -999.00
318M20040615,        P02,     113,          2,         29,         29,2,20040802,       0109,    29.9972,   -163.846,       5616,   325.5,  11.9863,  34.3307,2,  34.3289,2, 218.6000,3,   219.6,2,   12.93,2,   11.46,2,    0.00,2,    0.83,2,   3.120,2,   1.748,2,   0.097,2,  2079.3,2,  2269.4,2,-999.000,9,-999.0000,9, -999.00,9, -999.00,9,  -999.0,9,  -999.0,-999.000,9,-999.000, -999.00,9,  325.50,   0.1360,2,   0.2650,2,   0.0090,2,   0.2110,2,   0.0100,2,-999.0000,-999.000,   0.1070,2, -999.00
318M20040615,        P02,     113,          2,         28,         28,2,20040802,       0109,    29.9972,   -163.846,       5616,   375.1,  11.2845,  34.2730,2,  34.2701,2, 217.0000,3,   220.4,2,   15.00,2,   12.67,2,    0.00,2,    0.92,2,-999.000,9,-999.000,9,-999.000,9,  2088.6,2,  2266.8,2,-999.000,9,-999.0000,9, -999.00,9,    0.51,2,    46.2,2,     4.3,-999.000,9,-999.000, -999.00,9,  375.10,   0.1110,2,   0.2290,2,   0.0100,2,   0.1790,2,   0.0110,2,-999.0000,-999.000,   0.0860,2, -999.00
318M20040615,        P02,     113,          2,         27,         27,2,20040802,       0109,    29.9972,   -163.846,       5616,   425.4,  10.2523,  34.1962,2,  34.1932,2, 212.3000,3,   212.5,2,   19.58,2,   15.31,2,    0.00,2,    1.11,2,   3.196,6,   1.738,6,   0.113,6,  2105.3,2,  2268.9,2,-999.000,9,-999.0000,9, -999.00,9,    0.44,2,    36.4,2,     4.1,-999.000,9,-999.000, -999.00,9,  425.40,-999.0000,9,-999.0000,9,-999.0000,9,-999.0000,9,-999.0000,9,-999.0000,-999.000,-999.0000,9, -999.00
318M20040615,        P02,     113,          2,         26,         26,2,20040802,       0109,    29.9972,   -163.846,       5616,   474.8,   9.2736,  34.1295,2,  34.1268,2, 198.7000,3,   198.6,2,   25.52,2,   18.55,2,    0.00,2,    1.32,2,   3.132,2,   1.661,2,   0.119,2,  2129.5,2,  2270.1,2,-999.000,9,-999.0000,9, -999.00,9,    0.35,2,    18.7,2,     4.3,-999.000,9,-999.000, -999.00,9,  474.80,   0.1380,2,   0.2830,2,   0.0100,2,   0.2220,2,   0.0100,2,-999.0000,-999.000,   0.1060,2, -999.00
318M20040615,        P02,     113,          2,         25,         25,2,20040802,       0109,    29.9972,   -163.846,       5616,   544.9,   7.9155,  34.0566,2,  34.0560,2, 171.8000,3,   171.6,2,   37.11,2,   23.70,2,    0.00,2,    1.68,2,   2.805,2,   1.419,2,   0.119,2,  2164.1,2,  2276.4,2,-999.000,9,-999.0000,9, -999.00,9,    0.22,2,   -11.2,2,     4.3,-999.000,9,-999.000, -999.00,9,  544.90,-999.0000,9,-999.0000,9,-999.0000,9,-999.0000,9,-999.0000,9,-999.0000,-999.000,-999.0000,9, -999.00
318M20040615,        P02,     113,          2,         24,         24,2,20040802,       0109,    29.9972,   -163.846,       5616,   645.3,   5.9364,  34.0115,2,  34.0104,2, 122.0000,3,   122.7,2,   61.80,2,   31.81,2,    0.00,2,    2.28,2,   1.955,2,   0.983,2,   0.070,2,  2227.5,2,  2294.7,2,-999.000,9,-999.0000,9, -999.00,9,   -0.04,2,   -66.8,2,     3.7,-999.000,9,-999.000, -999.00,9,  645.30,   0.1130,2,   0.2500,2,   0.0120,2,   0.1890,2,   0.0120,2,-999.0000,-999.000,   0.0860,2, -999.00
318M20040615,        P02,     113,          2,         23,         23,2,20040802,       0109,    29.9972,   -163.846,       5616,   745.1,   4.7694,  34.0747,2,  34.0717,2,  71.4000,3,    68.9,2,   86.09,2,   38.62,2,    0.00,2,    2.75,2,   0.794,2,   0.397,2,   0.020,2,  2285.8,2,  2313.8,2,-999.000,9,-999.0000,9, -999.00,9,   -0.30,2,  -115.9,2,     4.3,-999.000,9,-999.000, -999.00,9,  745.10,-999.0000,9,-999.0000,9,-999.0000,9,-999.0000,9,-999.0000,9,-999.0000,-999.000,-999.0000,9, -999.00
318M20040615,        P02,     113,          2,         22,         22,2,20040802,       0109,    29.9972,   -163.846,       5616,   845.3,   4.2013,  34.1856,2,  34.1817,2,  40.2000,3,    34.5,2,  104.77,2,   42.13,2,    0.00,2,    3.01,2,   0.237,2,   0.120,2,   0.000,2,  2326.6,2,  2336.4,2,-999.000,9,-999.0000,9, -999.00,9,   -0.42,2,  -166.7,2,     3.6,-999.000,9,-999.000, -999.00,9,  845.30,   0.2060,2,   0.3990,2,   0.0100,2,   0.3160,2,   0.0100,2,-999.0000,-999.000,   0.1630,2, -999.00
318M20040615,        P02,     113,          2,         21,         21,2,20040802,       0109,    29.9972,   -163.846,       5616,   950.5,   3.9287,  34.2946,2,  34.2934,2,  23.6000,3,    22.9,2,  115.63,2,   43.24,2,    0.00,2,    3.12,2,   0.058,2,   0.029,2,   0.000,2,  2347.3,2,  2355.2,2,-999.000,9,-999.0000,9, -999.00,9,   -0.40,2,  -190.1,2,     3.7,-999.000,9,-999.000, -999.00,9,  950.50,-999.0000,9,-999.0000,9,-999.0000,9,-999.0000,9,-999.0000,9,-999.0000,-999.000,-999.0000,9, -999.00
318M20040615,        P02,     113,          2,         20,         20,2,20040802,       0109,    29.9972,   -163.846,       5616,  1050.2,   3.6576,  34.3716,2,  34.3690,2,  23.7000,3,    24.3,2,  123.92,2,   43.46,2,    0.00,2,    3.14,2,   0.025,2,   0.013,2,   0.000,2,  2356.7,6,  2368.1,2,-999.000,9,-999.0000,9, -999.00,9,   -0.41,2,  -198.7,2,     3.3,-999.000,9,-999.000, -999.00,9, 1050.20,   0.1640,2,   0.3290,2,   0.0110,2,   0.2550,2,   0.0110,2,-999.0000,-999.000,   0.1290,2, -999.00
318M20040615,        P02,     113,          2,         19,         19,2,20040802,       0109,    29.9972,   -163.846,       5616,  1150.9,   3.4026,  34.4327,2,  34.4308,2,  31.1000,3,    31.2,2,  130.24,2,   43.23,2,    0.00,2,    3.12,2,   0.014,2,   0.007,2,   0.000,2,  2361.4,2,  2378.5,2,-999.000,9,-999.0000,9, -999.00,9,   -0.37,2,  -208.6,2,     3.5,-999.000,9,-999.000, -999.00,9, 1150.90,-999.0000,9,-999.0000,9,-999.0000,9,-999.0000,9,-999.0000,9,-999.0000,-999.000,-999.0000,9, -999.00
318M20040615,        P02,     113,          2,         18,         18,2,20040802,       0109,    29.9972,   -163.846,       5616,  1256.1,   3.2560,  34.4741,2,  34.4754,2,  41.5000,3,    40.7,2,  132.80,2,   42.62,2,    0.00,2,    3.07,2,   0.008,2,   0.006,2,   0.000,2,  2361.1,2,  2384.8,6,-999.000,9,-999.0000,9, -999.00,9,   -0.39,2,  -218.5,2,     4.0,-999.000,9,-999.000, -999.00,9, 1256.10,-999.0000,9,-999.0000,9,-999.0000,9,-999.0000,9,-999.0000,9,-999.0000,-999.000,-999.0000,9, -999.00
318M20040615,        P02,     113,          2,         17,         17,2,20040802,       0109,    29.9972,   -163.846,       5616,  1355.5,   3.0488,  34.4974,2,  34.4956,2,  46.9000,3,    44.8,2,  137.96,2,   42.52,2,    0.00,2,    3.06,2,   0.004,2,   0.004,2,   0.000,2,  2363.1,2,  2391.4,2,-999.000,9,-999.0000,9, -999.00,9,   -0.31,2,  -223.5,2,     4.0,-999.000,9,-999.000, -999.00,9, 1355.50,-999.0000,9,-999.0000,9,-999.0000,9,-999.0000,9,-999.0000,9,-999.0000,-999.000,-999.0000,9, -999.00
318M20040615,        P02,     113,          2,         16,         16,2,20040802,       0109,    29.9972,   -163.846,       5616,  1455.3,   2.7922,  34.5237,2,  34.5217,2,  51.0000,3,    50.1,2,  144.11,2,   42.34,2,    0.00,2,    3.03,2,   0.005,2,   0.003,2,   0.000,2,  2368.4,2,  2397.5,2,-999.000,9,-999.0000,9, -999.00,9,   -0.30,2,  -222.4,2,     3.6,-999.000,9,-999.000, -999.00,9, 1455.30,-999.0000,9,-999.0000,9,-999.0000,9,-999.0000,9,-999.0000,9,-999.0000,-999.000,-999.0000,9, -999.00
318M20040615,        P02,     113,          2,         15,         15,2,20040802,       0109,    29.9972,   -163.846,       5616,  1560.2,   2.5649,  34.5526,2,  34.5504,2,  59.2000,3,    59.2,2,  148.87,2,   42.06,2,    0.00,2,    3.00,2,   0.017,2,   0.006,2,   0.000,2,  2368.9,2,  2403.5,2,-999.000,9,-999.0000,9, -999.00,9,   -0.24,2,  -222.7,2,     3.5,-999.000,9,-999.000, -999.00,9, 1560.20,-999.0000,9,-999.0000,9,-999.0000,9,-999.0000,9,-999.0000,9,-999.0000,-999.000,-999.0000,9, -999.00
318M20040615,        P02,     113,          2,         14,         14,2,20040802,       0109,    29.9972,   -163.846,       5616,  1659.9,   2.3961,  34.5667,2,  34.5635,2,  61.7000,3,    62.3,2,  153.65,2,   42.00,2,    0.00,2,    2.97,2,   0.005,2,   0.002,2,   0.000,2,  2371.7,2,  2408.0,2,-999.000,9,-999.0000,9, -999.00,9,   -0.24,2,  -234.1,2,     3.2,-999.000,9,-999.000, -999.00,9, 1659.90,-999.0000,9,-999.0000,9,-999.0000,9,-999.0000,9,-999.0000,9,-999.0000,-999.000,-999.0000,9, -999.00
318M20040615,        P02,     113,          2,         13,         13,2,20040802,       0109,    29.9972,   -163.846,       5616,  1761.1,   2.2506,  34.5814,2,  34.5795,2,  65.2000,3,    66.7,2,  157.62,2,   41.73,2,    0.00,2,    2.94,2,   0.004,2,   0.003,2,   0.000,2,  2371.9,2,  2413.4,2,-999.000,9,-999.0000,9, -999.00,9,   -0.24,2,  -237.5,2,     3.3,-999.000,9,-999.000, -999.00,9, 1761.10,-999.0000,9,-999.0000,9,-999.0000,9,-999.0000,9,-999.0000,9,-999.0000,-999.000,-999.0000,9, -999.00
318M20040615,        P02,     113,          2,         12,         12,2,20040802,       0109,    29.9972,   -163.846,       5616,  1967.0,   2.0380,  34.6037,2,  34.6016,2,  76.0000,3,    76.5,2,  162.59,2,   41.02,2,    0.00,2,    2.91,2,   0.002,2,   0.002,2,   0.000,2,  2371.0,2,  2417.8,2,-999.000,9,-999.0000,9, -999.00,9,   -0.21,2,  -242.9,2,     3.5,-999.000,9,-999.000, -999.00,9, 1967.00,-999.0000,9,-999.0000,9,-999.0000,9,-999.0000,9,-999.0000,9,-999.0000,-999.000,-999.0000,9, -999.00
318M20040615,        P02,     113,          2,         11,         11,2,20040802,       0109,    29.9972,   -163.846,       5616,  2127.2,   1.9059,  34.6197,2,  34.6168,2,  84.6000,3,    85.4,2,  165.20,2,   40.49,2,    0.00,2,    2.87,2,   0.001,2,  -0.001,2,   0.000,2,  2368.5,2,  2419.8,2,-999.000,9,-999.0000,9, -999.00,9,   -0.13,2,  -236.9,2,     3.5,-999.000,9,-999.000, -999.00,9, 2127.20,   0.1030,2,   0.2270,2,   0.0120,2,   0.1700,2,   0.0120,2,-999.0000,-999.000,   0.0780,2, -999.00
318M20040615,        P02,     113,          2,         10,         10,2,20040802,       0109,    29.9972,   -163.846,       5616,  2383.2,   1.7490,  34.6373,2,  34.6339,2,  96.6000,3,    97.8,2,  166.56,2,   39.63,2,    0.00,2,    2.80,2,   0.001,2,   0.002,2,   0.000,2,  2362.7,2,  2423.3,2,-999.000,9,-999.0000,9, -999.00,9,   -0.08,2,  -236.6,2,     3.4,-999.000,9,-999.000, -999.00,9, 2383.20,-999.0000,9,-999.0000,9,-999.0000,9,-999.0000,9,-999.0000,9,-999.0000,-999.000,-999.0000,9, -999.00
318M20040615,        P02,     113,          2,          9,          9,2,20040802,       0109,    29.9972,   -163.846,       5616,  2638.7,   1.6505,  34.6501,2,  34.6460,2, 107.0000,3,   108.4,2,  166.54,2,   38.94,2,    0.00,2,    2.75,2,   0.000,2,   0.000,2,   0.000,2,  2358.5,2,  2427.0,2,-999.000,9,-999.0000,9, -999.00,9, -999.00,5,  -999.0,5,  -999.0,-999.000,9,-999.000, -999.00,9, 2638.70,-999.0000,9,-999.0000,9,-999.0000,9,-999.0000,9,-999.0000,9,-999.0000,-999.000,-999.0000,9, -999.00
318M20040615,        P02,     113,          2,          8,          8,2,20040802,       0109,    29.9972,   -163.846,       5616,  2885.8,   1.5840,  34.6595,2,  34.6565,2, 117.1000,3,   117.9,2,  165.29,2,   38.35,2,    0.00,2,    2.69,2,   0.000,2,   0.000,2,   0.000,2,  2352.6,2,  2426.3,2,-999.000,9,-999.0000,9, -999.00,9, -999.00,5,  -999.0,5,  -999.0,-999.000,9,-999.000, -999.00,9, 2885.80,-999.0000,9,-999.0000,9,-999.0000,9,-999.0000,9,-999.0000,9,-999.0000,-999.000,-999.0000,9, -999.00
318M20040615,        P02,     113,          2,          7,          7,2,20040802,       0109,    29.9972,   -163.846,       5616,  3136.7,   1.5313,  34.6676,2,  34.6651,2, 125.9000,3,   126.5,2,  163.22,2,   37.96,2,    0.00,2,    2.65,2,   0.002,2,   0.002,2,   0.000,2,  2346.7,2,  2426.6,2,-999.000,9,-999.0000,9, -999.00,9,    0.04,2,  -227.8,2,     4.0,-999.000,9,-999.000, -999.00,9, 3136.70,   0.1380,2,   0.2780,2,   0.0100,2,   0.2160,2,   0.0110,2,-999.0000,-999.000,   0.1060,2, -999.00
318M20040615,        P02,     113,          2,          6,          6,2,20040802,       0109,    29.9972,   -163.846,       5616,  3560.8,   1.4860,  34.6768,2,  34.6749,2, 137.6000,3,   137.5,2,  160.36,2,   37.33,2,    0.00,2,    2.59,2,   0.002,2,   0.003,2,   0.000,2,  2339.4,2,  2424.3,2,-999.000,9,-999.0000,9, -999.00,9,    0.13,2,  -229.5,2,     3.4,-999.000,9,-999.000, -999.00,9, 3560.80,-999.0000,9,-999.0000,9,-999.0000,9,-999.0000,9,-999.0000,9,-999.0000,-999.000,-999.0000,9, -999.00
318M20040615,        P02,     113,          2,          5,          5,2,20040802,       0109,    29.9972,   -163.846,       5616,  3976.3,   1.4701,  34.6832,2,  34.6808,2, 145.7000,3,   145.7,2,  157.92,2,   36.74,2,    0.00,2,    2.55,2,   0.005,2,   0.002,2,   0.000,2,  2332.2,2,  2425.0,2,-999.000,9,-999.0000,9, -999.00,9,    0.19,2,  -221.3,2,     3.5,-999.000,9,-999.000, -999.00,9, 3976.30,-999.0000,9,-999.0000,9,-999.0000,9,-999.0000,9,-999.0000,9,-999.0000,-999.000,-999.0000,9, -999.00
318M20040615,        P02,     113,          2,          4,          4,2,20040802,       0109,    29.9972,   -163.846,       5616,  4372.6,   1.4811,  34.6867,2,  34.6848,2, 150.4000,3,   151.1,2,  155.86,2,   36.31,2,    0.00,2,    2.51,2,   0.001,2,   0.000,2,   0.000,2,  2328.5,2,  2424.6,2,-999.000,9,-999.0000,9, -999.00,9, -999.00,5,  -999.0,5,  -999.0,-999.000,9,-999.000, -999.00,9, 4372.60,-999.0000,9,-999.0000,9,-999.0000,9,-999.0000,9,-999.0000,9,-999.0000,-999.000,-999.0000,9, -999.00
318M20040615,        P02,     113,          2,          3,          3,2,20040802,       0109,    29.9972,   -163.846,       5616,  4780.1,   1.5086,  34.6887,2,  34.6857,2, 154.2000,3,   154.5,2,  153.80,2,   35.98,2,    0.00,2,    2.50,2,   0.003,2,   0.004,2,   0.000,2,  2325.6,2,  2424.0,2,-999.000,9,-999.0000,9, -999.00,9, -999.00,5,  -999.0,5,  -999.0,-999.000,9,-999.000, -999.00,9, 4780.10,-999.0000,9,-999.0000,9,-999.0000,9,-999.0000,9,-999.0000,9,-999.0000,-999.000,-999.0000,9, -999.00
318M20040615,        P02,     113,          2,          2,          2,2,20040802,       0109,    29.9972,   -163.846,       5616,  5239.4,   1.5474,  34.6904,2,  34.6879,2, 157.9000,3,   158.4,2,  149.94,2,   35.66,2,    0.00,2,    2.47,2,   0.002,2,   0.001,2,   0.000,2,  2322.3,2,  2420.6,2,-999.000,9,-999.0000,9, -999.00,9, -999.00,5,  -999.0,5,  -999.0,-999.000,9,-999.000, -999.00,9, 5239.40,-999.0000,9,-999.0000,9,-999.0000,9,-999.0000,9,-999.0000,9,-999.0000,-999.000,-999.0000,9, -999.00
318M20040615,        P02,     113,          2,          1,          1,2,20040802,       0109,    29.9972,   -163.846,       5616,  5683.8,   1.5925,  34.6912,2,  34.6904,2, 160.5000,2,   161.4,3,  147.70,2,   35.29,2,    0.00,2,    2.46,2,   0.013,4,   0.016,4,   0.000,4,  2319.3,6,  2419.6,6,-999.000,9,-999.0000,9, -999.00,9,    0.27,2,  -210.7,2,     3.6,-999.000,9,-999.000, -999.00,9, 5683.80,-999.0000,9,-999.0000,9,-999.0000,9,-999.0000,9,-999.0000,9,-999.0000,-999.000,-999.0000,9, -999.00