BOTTLE,20131027SIOCCHRJL
EXPOCODE,SECT_ID,STNNBR,CASTNO,SAMPNO,BTLNBR,BTLNBR_FLAG_W,DATE,TIME,LATITUDE,LONGITUDE,DEPTH,CTDPRS,CTDTMP,CTDSAL,CTDSAL_FLAG_W,SALNTY,SALNTY_FLAG_W,CTDOXY,CTDOXY_FLAG_W,OXYGEN,OXYGEN_FLAG_W,SILCAT,SILCAT_FLAG_W,NITRAT,NITRAT_FLAG_W,NITRIT,NITRIT_FLAG_W,PHSPHT,PHSPHT_FLAG_W,CFC-11,CFC-11_FLAG_W,CFC-12,CFC-12_FLAG_W,CFC113,CFC113_FLAG_W,TCARBN,TCARBN_FLAG_W,ALKALI,ALKALI_FLAG_W,TRITUM,TRITUM_FLAG_W,HELIUM,HELIUM_FLAG_W,DELHE3,DELHE3_FLAG_W,DELC13,DELC13_FLAG_W,DELC14,DELC14_FLAG_W,C14ERR,NEON,NEON_FLAG_W,NEONER,DOC,DOC_FLAG_W,CTDRAW,CDOM380,CDOM380_FLAG_W,CDOM325,CDOM325_FLAG_W,CDOMSL,CDOMSL_FLAG_W,CDOM340,CDOM340_FLAG_W,CDOMSN,CDOMSN_FLAG_W,HELIER,TRITER,CDOM412,CDOM412_FLAG_W,DELHER
,,,,,,,,,,,METERS,DBAR,ITS-90,PSS-78,,PSS-78,,UMOL/KG,,UMOL/KG,,UMOL/KG,,UMOL/KG,,UMOL/KG,,UMOL/KG,,PMOL/KG,,PMOL/KG,,PMOL/KG,,UMOL/KG,,UMOL/KG,,TU,,NMOL/KG,,PERCNT,,/MILLE,,/MILLE,,/MILLE,NMOL/KG,,NMOL/KG,UMOL/KG,,DBAR,1/M,,1/M,,1/NM,,1/M,,1/NM,,NMOL/KG,TU,1/M,,PERCNT
318M20040615,        P02,     147,          1,         36,         36,2,20040816,       1114,    30.0007,  -139.1422,       4649,     5.6,  24.9060,  35.0208,2,  35.0226,2, 212.0000,2,   211.9,2,    1.18,2,    0.21,2,    0.00,2,    0.02,2,   1.914,2,   1.177,2,   0.142,2,  2012.5,6,  2312.4,6,-999.000,9,-999.0000,9, -999.00,9, -999.00,9,  -999.0,9,  -999.0,-999.000,9,-999.000,  117.50,4,    5.60,-999.0000,9,-999.0000,9,-999.0000,9,-999.0000,9,-999.0000,9,-999.0000,-999.000,-999.0000,9, -999.00
318M20040615,        P02,     147,          1,         35,         35,2,20040816,       1114,    30.0007,  -139.1422,       4649,    40.5,  22.1086,  34.7531,2,  34.7492,2, 235.2000,2,   236.7,2,    1.37,2,    0.15,2,    0.00,2,    0.03,2,   2.239,2,   1.334,2,   0.160,2,  2006.1,2,  2295.3,2,-999.000,9,-999.0000,9, -999.00,9, -999.00,9,  -999.0,9,  -999.0,-999.000,9,-999.000,   82.20,4,   40.50,-999.0000,9,-999.0000,9,-999.0000,9,-999.0000,9,-999.0000,9,-999.0000,-999.000,-999.0000,9, -999.00
318M20040615,        P02,     147,          1,         34,         34,2,20040816,       1114,    30.0007,  -139.1422,       4649,    85.1,  17.9648,  34.4508,2,  34.4551,2, 247.7000,2,   246.9,2,    2.13,2,    0.20,2,    0.00,2,    0.07,2,   2.590,2,   1.526,2,   0.167,2,  2006.0,2,  2273.0,2,-999.000,9,-999.0000,9, -999.00,9, -999.00,9,  -999.0,9,  -999.0,-999.000,9,-999.000,   64.30,2,   85.10,-999.0000,9,-999.0000,9,-999.0000,9,-999.0000,9,-999.0000,9,-999.0000,-999.000,-999.0000,9, -999.00
318M20040615,        P02,     147,          1,         33,         33,2,20040816,       1114,    30.0007,  -139.1422,       4649,   134.4,  14.7882,  34.0910,2,  34.0983,2, 230.1000,2,   230.3,2,    3.47,2,    2.40,2,    0.06,2,    0.31,2,   2.948,2,   1.710,2,   0.180,2,  2028.3,2,  2252.4,2,-999.000,9,-999.0000,9, -999.00,9, -999.00,9,  -999.0,9,  -999.0,-999.000,9,-999.000,   56.50,2,  134.40,-999.0000,9,-999.0000,9,-999.0000,9,-999.0000,9,-999.0000,9,-999.0000,-999.000,-999.0000,9, -999.00
318M20040615,        P02,     147,          1,         32,         32,2,20040816,       1114,    30.0007,  -139.1422,       4649,   184.1,  13.1118,  34.1748,2,  34.1736,2, 222.3000,2,   223.0,2,    6.38,2,    6.74,2,    0.01,2,    0.55,2,-999.000,9,-999.000,9,-999.000,9,  2051.6,2,  2255.2,2,-999.000,9,-999.0000,9, -999.00,9, -999.00,9,  -999.0,9,  -999.0,-999.000,9,-999.000,   47.80,2,  184.10,-999.0000,9,-999.0000,9,-999.0000,9,-999.0000,9,-999.0000,9,-999.0000,-999.000,-999.0000,9, -999.00
318M20040615,        P02,     147,          1,         31,         31,2,20040816,       1114,    30.0007,  -139.1422,       4649,   234.5,  11.9559,  34.1572,2,  34.1561,2, 222.3000,2,   222.4,2,    9.48,2,    9.84,2,    0.00,2,    0.73,2,   3.336,2,   1.881,2,   0.093,2,  2068.5,2,  2255.4,2,-999.000,9,-999.0000,9, -999.00,9, -999.00,9,  -999.0,9,  -999.0,-999.000,9,-999.000,   47.20,2,  234.50,-999.0000,9,-999.0000,9,-999.0000,9,-999.0000,9,-999.0000,9,-999.0000,-999.000,-999.0000,9, -999.00
318M20040615,        P02,     147,          1,         30,         30,2,20040816,       1114,    30.0007,  -139.1422,       4649,   289.5,  10.1854,  34.0484,2,  34.0489,2, 213.9000,2,   216.1,2,   15.52,2,   14.54,2,    0.00,2,    1.05,2,-999.000,9,-999.000,9,-999.000,9,  2096.2,2,  2256.1,2,-999.000,9,-999.0000,9, -999.00,9, -999.00,9,  -999.0,9,  -999.0,-999.000,9,-999.000,   44.60,2,  289.50,-999.0000,9,-999.0000,9,-999.0000,9,-999.0000,9,-999.0000,9,-999.0000,-999.000,-999.0000,9, -999.00
318M20040615,        P02,     147,          1,         29,         29,2,20040816,       1114,    30.0007,  -139.1422,       4649,   338.6,   9.3467,  34.0868,2,  34.0881,2, 195.0000,2,   197.4,2,   22.14,2,   18.13,2,    0.00,2,    1.28,2,   3.420,2,   1.822,2,   0.099,2,  2122.4,2,  2262.8,2,-999.000,9,-999.0000,9, -999.00,9, -999.00,9,  -999.0,9,  -999.0,-999.000,9,-999.000,   45.00,2,  338.60,-999.0000,9,-999.0000,9,-999.0000,9,-999.0000,9,-999.0000,9,-999.0000,-999.000,-999.0000,9, -999.00
318M20040615,        P02,     147,          1,         28,         28,2,20040816,       1114,    30.0007,  -139.1422,       4649,   388.6,   8.4851,  34.0620,2,  34.0609,2, 172.6000,2,   173.6,2,   30.16,2,   22.27,2,    0.00,2,    1.57,2,-999.000,9,-999.000,9,-999.000,9,  2152.7,2,  2269.0,2,-999.000,9,-999.0000,9, -999.00,9, -999.00,9,  -999.0,9,  -999.0,-999.000,9,-999.000,   48.30,3,  388.60,-999.0000,9,-999.0000,9,-999.0000,9,-999.0000,9,-999.0000,9,-999.0000,-999.000,-999.0000,9, -999.00
318M20040615,        P02,     147,          1,         27,         27,2,20040816,       1114,    30.0007,  -139.1422,       4649,   438.9,   7.4780,  34.0265,2,  34.0250,2, 145.9000,2,   143.4,2,   41.34,2,   27.18,2,    0.00,2,    1.92,2,   2.678,2,   1.301,2,   0.098,2,  2186.6,2,  2276.8,2,-999.000,9,-999.0000,9, -999.00,9, -999.00,9,  -999.0,9,  -999.0,-999.000,9,-999.000,   42.40,2,  438.90,-999.0000,9,-999.0000,9,-999.0000,9,-999.0000,9,-999.0000,9,-999.0000,-999.000,-999.0000,9, -999.00
318M20040615,        P02,     147,          1,         26,         26,2,20040816,       1114,    30.0007,  -139.1422,       4649,   489.1,   6.4746,  34.0010,2,  34.0013,2, 118.8000,2,   117.4,2,   52.36,2,   31.33,2,    0.00,2,    2.23,2,-999.000,9,-999.000,9,-999.000,9,  2219.3,2,  2283.4,2,-999.000,9,-999.0000,9, -999.00,9, -999.00,9,  -999.0,9,  -999.0,-999.000,9,-999.000, -999.00,9,  489.10,-999.0000,9,-999.0000,9,-999.0000,9,-999.0000,9,-999.0000,9,-999.0000,-999.000,-999.0000,9, -999.00
318M20040615,        P02,     147,          1,         25,         25,2,20040816,       1114,    30.0007,  -139.1422,       4649,   578.3,   5.4155,  34.0406,2,  34.0403,2,  75.1000,2,    72.0,2,   71.12,2,   36.91,2,    0.00,2,    2.67,2,   0.989,2,   0.475,2,   0.022,2,  2268.7,2,  2299.7,2,-999.000,9,-999.0000,9, -999.00,9, -999.00,9,  -999.0,9,  -999.0,-999.000,9,-999.000,   40.00,2,  578.30,-999.0000,9,-999.0000,9,-999.0000,9,-999.0000,9,-999.0000,9,-999.0000,-999.000,-999.0000,9, -999.00
318M20040615,        P02,     147,          1,         24,         24,2,20040816,       1114,    30.0007,  -139.1422,       4649,   678.0,   4.6432,  34.1424,2,  34.1422,2,  33.2000,2,    33.4,2,   91.98,2,   41.09,2,    0.00,2,    3.00,2,-999.000,9,-999.000,9,-999.000,9,  2314.3,2,  2322.9,2,-999.000,9,-999.0000,9, -999.00,9, -999.00,9,  -999.0,9,  -999.0,-999.000,9,-999.000,   43.70,2,  678.00,-999.0000,9,-999.0000,9,-999.0000,9,-999.0000,9,-999.0000,9,-999.0000,-999.000,-999.0000,9, -999.00
318M20040615,        P02,     147,          1,         23,         23,2,20040816,       1114,    30.0007,  -139.1422,       4649,   778.0,   4.2553,  34.2537,2,  34.2526,2,  16.7000,2,    15.5,2,  105.72,2,   43.09,2,    0.00,2,    3.15,2,   0.069,2,   0.036,2,   0.000,2,  2342.7,2,  2342.7,6,-999.000,9,-999.0000,9, -999.00,9, -999.00,9,  -999.0,9,  -999.0,-999.000,9,-999.000,   39.40,2,  778.00,-999.0000,9,-999.0000,9,-999.0000,9,-999.0000,9,-999.0000,9,-999.0000,-999.000,-999.0000,9, -999.00
318M20040615,        P02,     147,          1,         22,         22,2,20040816,       1114,    30.0007,  -139.1422,       4649,   877.8,   3.9951,  34.3506,2,  34.3516,2,  14.0000,2,    14.6,2,  114.51,2,   43.85,2,    0.00,2,    3.20,2,   0.024,6,   0.014,6,   0.000,6,  2353.2,6,  2358.9,2,-999.000,9,-999.0000,9, -999.00,9, -999.00,9,  -999.0,9,  -999.0,-999.000,9,-999.000,   36.70,2,  877.80,-999.0000,9,-999.0000,9,-999.0000,9,-999.0000,9,-999.0000,9,-999.0000,-999.000,-999.0000,9, -999.00
318M20040615,        P02,     147,          1,         21,         21,2,20040816,       1114,    30.0007,  -139.1422,       4649,   977.5,   3.7563,  34.4227,2,  34.4235,2,  19.6000,2,    19.6,2,  121.31,2,   43.90,2,    0.00,2,    3.18,2,   0.020,2,   0.010,2,   0.000,2,  2360.1,2,  2371.9,2,-999.000,9,-999.0000,9, -999.00,9, -999.00,9,  -999.0,9,  -999.0,-999.000,9,-999.000, -999.00,9,  977.50,-999.0000,9,-999.0000,9,-999.0000,9,-999.0000,9,-999.0000,9,-999.0000,-999.000,-999.0000,9, -999.00
318M20040615,        P02,     147,          1,         20,         20,2,20040816,       1114,    30.0007,  -139.1422,       4649,  1082.0,   3.4792,  34.4691,2,  34.4688,2,  27.9000,2,    27.6,2,  127.12,2,   43.63,2,    0.00,2,    3.15,2,   0.016,2,   0.009,2,   0.000,2,  2363.9,2,  2380.4,2,-999.000,9,-999.0000,9, -999.00,9, -999.00,9,  -999.0,9,  -999.0,-999.000,9,-999.000,   38.40,2, 1082.00,-999.0000,9,-999.0000,9,-999.0000,9,-999.0000,9,-999.0000,9,-999.0000,-999.000,-999.0000,9, -999.00
318M20040615,        P02,     147,          1,         19,         19,2,20040816,       1114,    30.0007,  -139.1422,       4649,  1183.0,   3.2660,  34.4990,2,  34.4986,2,  36.0000,2,    35.2,2,  131.73,2,   43.25,2,    0.00,2,    3.12,2,   0.012,2,   0.006,2,   0.000,2,  2365.4,2,  2386.1,2,-999.000,9,-999.0000,9, -999.00,9, -999.00,9,  -999.0,9,  -999.0,-999.000,9,-999.000, -999.00,9, 1183.00,-999.0000,9,-999.0000,9,-999.0000,9,-999.0000,9,-999.0000,9,-999.0000,-999.000,-999.0000,9, -999.00
318M20040615,        P02,     147,          1,         18,         18,2,20040816,       1114,    30.0007,  -139.1422,       4649,  1283.1,   3.0807,  34.5234,2,  34.5230,2,  42.2000,2,    41.8,2,  135.94,2,   42.76,2,    0.00,2,    3.08,2,-999.000,9,-999.000,9,-999.000,9,  2365.4,2,  2393.7,6,-999.000,9,-999.0000,9, -999.00,9, -999.00,9,  -999.0,9,  -999.0,-999.000,9,-999.000,   36.60,2, 1283.10,-999.0000,9,-999.0000,9,-999.0000,9,-999.0000,9,-999.0000,9,-999.0000,-999.000,-999.0000,9, -999.00
318M20040615,        P02,     147,          1,         17,         17,2,20040816,       1114,    30.0007,  -139.1422,       4649,  1383.6,   2.8572,  34.5464,2,  34.5464,2,  48.4000,2,    48.9,2,  141.17,2,   42.33,2,    0.00,2,    3.05,2,   0.004,2,   0.004,2,   0.000,2,  2368.2,2,  2400.2,2,-999.000,9,-999.0000,9, -999.00,9, -999.00,9,  -999.0,9,  -999.0,-999.000,9,-999.000, -999.00,9, 1383.60,-999.0000,9,-999.0000,9,-999.0000,9,-999.0000,9,-999.0000,9,-999.0000,-999.000,-999.0000,9, -999.00
318M20040615,        P02,     147,          1,         16,         16,2,20040816,       1114,    30.0007,  -139.1422,       4649,  1484.3,   2.6977,  34.5620,2,  34.5621,2,  54.5000,2,    54.2,2,  145.02,2,   42.01,2,    0.00,2,    3.02,2,-999.000,9,-999.000,9,-999.000,9,  2368.9,2,  2404.3,2,-999.000,9,-999.0000,9, -999.00,9, -999.00,9,  -999.0,9,  -999.0,-999.000,9,-999.000, -999.00,9, 1484.30,-999.0000,9,-999.0000,9,-999.0000,9,-999.0000,9,-999.0000,9,-999.0000,-999.000,-999.0000,9, -999.00
318M20040615,        P02,     147,          1,         15,         15,2,20040816,       1114,    30.0007,  -139.1422,       4649,  1589.2,   2.5302,  34.5765,2,  34.5762,2,  59.3000,2,    59.2,2,  149.44,2,   41.68,2,    0.00,2,    3.00,2,   0.008,2,   0.005,2,   0.000,2,  2370.8,2,  2410.1,2,-999.000,9,-999.0000,9, -999.00,9, -999.00,9,  -999.0,9,  -999.0,-999.000,9,-999.000,   36.60,2, 1589.20,-999.0000,9,-999.0000,9,-999.0000,9,-999.0000,9,-999.0000,9,-999.0000,-999.000,-999.0000,9, -999.00
318M20040615,        P02,     147,          1,         14,         14,2,20040816,       1114,    30.0007,  -139.1422,       4649,  1689.2,   2.3940,  34.5886,2,  34.5884,2,  64.0000,2,    64.9,2,  152.28,2,   41.42,2,    0.00,2,    2.96,2,-999.000,9,-999.000,9,-999.000,9,  2368.7,2,  2411.7,2,-999.000,9,-999.0000,9, -999.00,9, -999.00,9,  -999.0,9,  -999.0,-999.000,9,-999.000, -999.00,9, 1689.20,-999.0000,9,-999.0000,9,-999.0000,9,-999.0000,9,-999.0000,9,-999.0000,-999.000,-999.0000,9, -999.00
318M20040615,        P02,     147,          1,         13,         13,2,20040816,       1114,    30.0007,  -139.1422,       4649,  1789.2,   2.2764,  34.5986,2,  34.5984,2,  68.1000,2,    69.1,2,  156.51,2,   41.42,2,    0.00,2,    2.94,2,   0.006,2,   0.004,2,   0.000,2,  2370.0,2,  2416.9,2,-999.000,9,-999.0000,9, -999.00,9, -999.00,9,  -999.0,9,  -999.0,-999.000,9,-999.000, -999.00,9, 1789.20,-999.0000,9,-999.0000,9,-999.0000,9,-999.0000,9,-999.0000,9,-999.0000,-999.000,-999.0000,9, -999.00
318M20040615,        P02,     147,          1,         12,         12,2,20040816,       1114,    30.0007,  -139.1422,       4649,  1891.6,   2.1694,  34.6078,2,  34.6078,2,  73.2000,2,    73.6,2,  158.92,2,   41.37,2,    0.00,2,    2.92,2,-999.000,9,-999.000,9,-999.000,9,  2369.6,2,  2418.4,2,-999.000,9,-999.0000,9, -999.00,9, -999.00,9,  -999.0,9,  -999.0,-999.000,9,-999.000,   37.50,2, 1891.60,-999.0000,9,-999.0000,9,-999.0000,9,-999.0000,9,-999.0000,9,-999.0000,-999.000,-999.0000,9, -999.00
318M20040615,        P02,     147,          1,         11,         11,2,20040816,       1114,    30.0007,  -139.1422,       4649,  1993.3,   2.0529,  34.6179,2,  34.6259,2,  78.0000,3,    79.3,2,  162.57,2,   40.94,2,    0.00,2,    2.89,2,   0.006,2,   0.006,2,   0.000,2,  2370.4,2,  2422.9,2,-999.000,9,-999.0000,9, -999.00,9, -999.00,9,  -999.0,9,  -999.0,-999.000,9,-999.000, -999.00,9, 1993.30,-999.0000,9,-999.0000,9,-999.0000,9,-999.0000,9,-999.0000,9,-999.0000,-999.000,-999.0000,9, -999.00
318M20040615,        P02,     147,          1,         10,         10,2,20040816,       1114,    30.0007,  -139.1422,       4649,  2195.7,   1.9019,  34.6317,2,  34.6312,2,  87.3000,2,    88.0,2,  165.20,2,   40.35,2,    0.00,2,    2.84,2,-999.000,9,-999.000,9,-999.000,9,  2367.6,2,  2425.2,2,-999.000,9,-999.0000,9, -999.00,9, -999.00,9,  -999.0,9,  -999.0,-999.000,9,-999.000,   36.90,2, 2195.70,-999.0000,9,-999.0000,9,-999.0000,9,-999.0000,9,-999.0000,9,-999.0000,-999.000,-999.0000,9, -999.00
318M20040615,        P02,     147,          1,          9,          9,2,20040816,       1114,    30.0007,  -139.1422,       4649,  2454.0,   1.7443,  34.6467,2,  34.6465,2,  99.3000,2,   100.0,2,  167.61,2,   39.55,2,    0.00,2,    2.78,2,   0.006,2,   0.005,2,   0.000,2,  2362.8,2,  2429.5,2,-999.000,9,-999.0000,9, -999.00,9, -999.00,9,  -999.0,9,  -999.0,-999.000,9,-999.000, -999.00,9, 2454.00,-999.0000,9,-999.0000,9,-999.0000,9,-999.0000,9,-999.0000,9,-999.0000,-999.000,-999.0000,9, -999.00
318M20040615,        P02,     147,          1,          8,          8,2,20040816,       1114,    30.0007,  -139.1422,       4649,  2707.6,   1.6489,  34.6568,2,  34.6553,2, 109.2000,2,   109.7,2,  168.20,2,   38.90,2,    0.00,2,    2.72,2,-999.000,9,-999.000,9,-999.000,9,  2357.3,2,  2429.6,2,-999.000,9,-999.0000,9, -999.00,9, -999.00,9,  -999.0,9,  -999.0,-999.000,9,-999.000,   36.20,2, 2707.60,-999.0000,9,-999.0000,9,-999.0000,9,-999.0000,9,-999.0000,9,-999.0000,-999.000,-999.0000,9, -999.00
318M20040615,        P02,     147,          1,          7,          7,2,20040816,       1114,    30.0007,  -139.1422,       4649,  2953.4,   1.5823,  34.6642,2,  34.6638,2, 117.2000,2,   117.2,2,  167.62,2,   38.37,2,    0.00,2,    2.68,2,   0.009,2,   0.008,2,   0.000,2,  2351.6,2,  2431.5,2,-999.000,9,-999.0000,9, -999.00,9, -999.00,9,  -999.0,9,  -999.0,-999.000,9,-999.000, -999.00,9, 2953.40,-999.0000,9,-999.0000,9,-999.0000,9,-999.0000,9,-999.0000,9,-999.0000,-999.000,-999.0000,9, -999.00
318M20040615,        P02,     147,          1,          6,          6,2,20040816,       1114,    30.0007,  -139.1422,       4649,  3294.9,   1.5152,  34.6736,2,  34.6732,2, 128.0000,2,   128.9,2,  164.75,2,   37.57,2,    0.00,2,    2.62,2,-999.000,9,-999.000,9,-999.000,9,  2344.2,2,  2430.5,2,-999.000,9,-999.0000,9, -999.00,9, -999.00,9,  -999.0,9,  -999.0,-999.000,9,-999.000,   63.80,4, 3294.90,-999.0000,9,-999.0000,9,-999.0000,9,-999.0000,9,-999.0000,9,-999.0000,-999.000,-999.0000,9, -999.00
318M20040615,        P02,     147,          1,          5,          5,2,20040816,       1114,    30.0007,  -139.1422,       4649,  3604.9,   1.5019,  34.6781,2,  34.6775,2, 134.1000,2,   134.7,2,  163.11,2,   37.20,2,    0.00,2,    2.59,2,   0.009,2,   0.008,2,   0.000,2,  2340.2,2,  2431.1,2,-999.000,9,-999.0000,9, -999.00,9, -999.00,9,  -999.0,9,  -999.0,-999.000,9,-999.000, -999.00,9, 3604.90,-999.0000,9,-999.0000,9,-999.0000,9,-999.0000,9,-999.0000,9,-999.0000,-999.000,-999.0000,9, -999.00
318M20040615,        P02,     147,          1,          4,          4,2,20040816,       1114,    30.0007,  -139.1422,       4649,  4014.5,   1.4953,  34.6835,2,  34.6830,2, 141.8000,2,   142.4,2,  160.46,2,   36.88,2,    0.00,2,    2.54,2,   0.009,2,   0.009,2,   0.000,2,  2334.2,2,  2426.1,2,-999.000,9,-999.0000,9, -999.00,9, -999.00,9,  -999.0,9,  -999.0,-999.000,9,-999.000,   37.20,2, 4014.50,-999.0000,9,-999.0000,9,-999.0000,9,-999.0000,9,-999.0000,9,-999.0000,-999.000,-999.0000,9, -999.00
318M20040615,        P02,     147,          1,          3,          3,2,20040816,       1114,    30.0007,  -139.1422,       4649,  4426.8,   1.5174,  34.6862,2,  34.6854,2, 146.0000,2,   146.0,2,  158.61,2,   36.88,2,    0.00,2,    2.53,2,   0.009,2,   0.009,2,   0.000,2,  2333.0,2,  2428.5,2,-999.000,9,-999.0000,9, -999.00,9, -999.00,9,  -999.0,9,  -999.0,-999.000,9,-999.000,   37.00,2, 4426.80,-999.0000,9,-999.0000,9,-999.0000,9,-999.0000,9,-999.0000,9,-999.0000,-999.000,-999.0000,9, -999.00
318M20040615,        P02,     147,          1,          2,          2,2,20040816,       1114,    30.0007,  -139.1422,       4649,  4704.8,   1.5411,  34.6872,2,  34.6863,2, 147.3000,2,   147.7,2,  157.39,2,   36.72,2,    0.00,2,    2.52,2,   0.007,2,   0.010,2,   0.000,2,  2331.1,2,  2427.0,2,-999.000,9,-999.0000,9, -999.00,9, -999.00,9,  -999.0,9,  -999.0,-999.000,9,-999.000, -999.00,9, 4704.80,-999.0000,9,-999.0000,9,-999.0000,9,-999.0000,9,-999.0000,9,-999.0000,-999.000,-999.0000,9, -999.00
318M20040615,        P02,     147,          1,          1,          1,2,20040816,       1114,    30.0007,  -139.1422,       4649,  4902.6,   1.5626,  34.6874,2,  34.6889,2, 147.8000,2,   148.4,2,  157.16,2,   36.66,2,    0.00,2,    2.51,2,   0.008,2,   0.009,2,   0.000,2,  2331.1,6,  2428.9,6,-999.000,9,-999.0000,9, -999.00,9, -999.00,9,  -999.0,9,  -999.0,-999.000,9,-999.000,   38.00,2, 4902.60,-999.0000,9,-999.0000,9,-999.0000,9,-999.0000,9,-999.0000,9,-999.0000,-999.000,-999.0000,9, -999.00