BOTTLE,20131027SIOCCHRJL
EXPOCODE,SECT_ID,STNNBR,CASTNO,SAMPNO,BTLNBR,BTLNBR_FLAG_W,DATE,TIME,LATITUDE,LONGITUDE,DEPTH,CTDPRS,CTDTMP,CTDSAL,CTDSAL_FLAG_W,SALNTY,SALNTY_FLAG_W,CTDOXY,CTDOXY_FLAG_W,OXYGEN,OXYGEN_FLAG_W,SILCAT,SILCAT_FLAG_W,NITRAT,NITRAT_FLAG_W,NITRIT,NITRIT_FLAG_W,PHSPHT,PHSPHT_FLAG_W,CFC-11,CFC-11_FLAG_W,CFC-12,CFC-12_FLAG_W,CFC113,CFC113_FLAG_W,TCARBN,TCARBN_FLAG_W,ALKALI,ALKALI_FLAG_W,TRITUM,TRITUM_FLAG_W,HELIUM,HELIUM_FLAG_W,DELHE3,DELHE3_FLAG_W,DELC13,DELC13_FLAG_W,DELC14,DELC14_FLAG_W,C14ERR,NEON,NEON_FLAG_W,NEONER,DOC,DOC_FLAG_W,CTDRAW,CDOM380,CDOM380_FLAG_W,CDOM325,CDOM325_FLAG_W,CDOMSL,CDOMSL_FLAG_W,CDOM340,CDOM340_FLAG_W,CDOMSN,CDOMSN_FLAG_W,HELIER,TRITER,CDOM412,CDOM412_FLAG_W,DELHER
,,,,,,,,,,,METERS,DBAR,ITS-90,PSS-78,,PSS-78,,UMOL/KG,,UMOL/KG,,UMOL/KG,,UMOL/KG,,UMOL/KG,,UMOL/KG,,PMOL/KG,,PMOL/KG,,PMOL/KG,,UMOL/KG,,UMOL/KG,,TU,,NMOL/KG,,PERCNT,,/MILLE,,/MILLE,,/MILLE,NMOL/KG,,NMOL/KG,UMOL/KG,,DBAR,1/M,,1/M,,1/NM,,1/M,,1/NM,,NMOL/KG,TU,1/M,,PERCNT
318M20040615,        P02,      70,          2,         36,         36,2,20040711,       0407,    30.0072,   170.6937,       5507,    10.1,  25.9955,  35.2030,2,  35.2130,2, 209.5000,2,   209.3,2,    0.78,2,    0.10,2,    0.00,2,    0.03,2,   1.823,2,   1.113,2,   0.130,2,  1998.0,2,  2311.5,6,-999.000,9,-999.0000,9, -999.00,9,    0.85,2,    76.7,2,     4.1,-999.000,9,-999.000,   69.00,2,   10.10,-999.0000,9,-999.0000,9,-999.0000,9,-999.0000,9,-999.0000,9,-999.0000,-999.000,-999.0000,9, -999.00
318M20040615,        P02,      70,          2,         35,         35,2,20040711,       0407,    30.0072,   170.6937,       5507,    51.9,  20.9097,  35.0402,2,  35.0478,2, 236.3000,2,   236.2,2,    1.13,2,    0.05,2,    0.00,2,    0.03,2,   2.268,2,   1.345,2,   0.145,2,  1999.5,2,  2299.8,2,-999.000,9,-999.0000,9, -999.00,9,    1.10,2,    88.6,2,     4.5,-999.000,9,-999.000,   66.00,2,   51.90,-999.0000,9,-999.0000,9,-999.0000,9,-999.0000,9,-999.0000,9,-999.0000,-999.000,-999.0000,9, -999.00
318M20040615,        P02,      70,          2,         34,         34,2,20040711,       0407,    30.0072,   170.6937,       5507,   101.6,  17.9243,  34.8375,2,  34.8300,2, 225.3000,2,   224.9,2,    1.99,2,    1.11,2,    0.23,2,    0.16,2,   2.437,2,   1.430,2,   0.130,2,  2016.9,2,  2287.3,2,-999.000,9,-999.0000,9, -999.00,9,    0.86,2,    89.6,2,     5.0,-999.000,9,-999.000,   57.80,2,  101.60,-999.0000,9,-999.0000,9,-999.0000,9,-999.0000,9,-999.0000,9,-999.0000,-999.000,-999.0000,9, -999.00
318M20040615,        P02,      70,          2,         33,         33,2,20040711,       0407,    30.0072,   170.6937,       5507,   151.4,  16.9460,  34.7593,2,  34.7569,2, 216.4000,2,   220.3,2,    3.03,2,    3.95,2,    0.02,2,    0.28,2,   2.490,2,   1.461,2,   0.122,2,  2023.8,2,  2277.4,2,-999.000,9,-999.0000,9, -999.00,9,    0.76,2,    86.4,2,     5.0,-999.000,9,-999.000,   55.80,2,  151.40,-999.0000,9,-999.0000,9,-999.0000,9,-999.0000,9,-999.0000,9,-999.0000,-999.000,-999.0000,9, -999.00
318M20040615,        P02,      70,          2,         32,         32,2,20040711,       0407,    30.0072,   170.6937,       5507,   201.3,  16.4860,  34.7258,2,  34.7249,2, 220.0000,2,   221.9,2,    3.71,2,    4.44,2,    0.01,2,    0.31,2,   2.524,2,   1.473,2,   0.108,2,  2027.9,2,  2279.7,2,-999.000,9,-999.0000,9, -999.00,9,    0.77,2,    80.3,2,     4.4,-999.000,9,-999.000,   53.00,2,  201.30,-999.0000,9,-999.0000,9,-999.0000,9,-999.0000,9,-999.0000,9,-999.0000,-999.000,-999.0000,9, -999.00
318M20040615,        P02,      70,          2,         31,         31,2,20040711,       0407,    30.0072,   170.6937,       5507,   251.2,  16.0386,  34.7060,2,  34.7050,2, 218.8000,2,   218.9,2,    4.93,2,    5.51,2,    0.01,2,    0.39,2,   2.567,2,   1.484,2,   0.103,2,  2035.2,2,  2279.9,2,-999.000,9,-999.0000,9, -999.00,9,    0.73,2,    83.4,2,     4.4,-999.000,9,-999.000,   51.90,2,  251.20,-999.0000,9,-999.0000,9,-999.0000,9,-999.0000,9,-999.0000,9,-999.0000,-999.000,-999.0000,9, -999.00
318M20040615,        P02,      70,          2,         30,         30,2,20040711,       0407,    30.0072,   170.6937,       5507,   300.9,  15.5114,  34.6605,2,  34.6612,2, 219.9000,2,   217.4,2,    6.14,2,    6.58,2,    0.01,2,    0.46,2,   2.609,2,   1.496,2,   0.101,2,  2042.0,2,  2278.8,2,-999.000,9,-999.0000,9, -999.00,9,    0.70,2,    80.4,2,     4.9,-999.000,9,-999.000,   50.20,2,  300.90,-999.0000,9,-999.0000,9,-999.0000,9,-999.0000,9,-999.0000,9,-999.0000,-999.000,-999.0000,9, -999.00
318M20040615,        P02,      70,          2,         29,         29,2,20040711,       0407,    30.0072,   170.6937,       5507,   350.8,  14.4648,  34.5576,2,  34.5584,2, 206.7000,2,   206.9,2,    9.08,2,    8.94,2,    0.01,2,    0.63,2,   2.684,2,   1.518,2,   0.072,2,  2062.0,6,  2275.3,2,-999.000,9,-999.0000,9, -999.00,9,    0.62,2,    76.3,2,     4.4,-999.000,9,-999.000,   49.50,2,  350.80,-999.0000,9,-999.0000,9,-999.0000,9,-999.0000,9,-999.0000,9,-999.0000,-999.000,-999.0000,9, -999.00
318M20040615,        P02,      70,          2,         28,         28,2,20040711,       0407,    30.0072,   170.6937,       5507,   400.8,  13.5905,  34.4980,2,  34.4948,2, 208.3000,2,   207.6,2,   12.20,2,   10.53,2,    0.01,2,    0.74,2,   2.696,2,   1.539,2,   0.097,2,  2073.0,2,  2275.1,2,-999.000,9,-999.0000,9, -999.00,9,    0.51,2,    65.4,2,     4.9,-999.000,9,-999.000,   48.70,2,  400.80,-999.0000,9,-999.0000,9,-999.0000,9,-999.0000,9,-999.0000,9,-999.0000,-999.000,-999.0000,9, -999.00
318M20040615,        P02,      70,          2,         27,         27,2,20040711,       0407,    30.0072,   170.6937,       5507,   450.6,  12.2617,  34.3850,2,  34.3782,2, 200.6000,2,   203.9,2,   16.37,2,   12.93,2,    0.01,2,    0.93,2,   2.771,2,   1.546,2,   0.096,2,  2091.6,2,  2273.6,2,-999.000,9,-999.0000,9, -999.00,9,    0.53,2,    52.4,2,     4.0,-999.000,9,-999.000,   47.60,2,  450.60,-999.0000,9,-999.0000,9,-999.0000,9,-999.0000,9,-999.0000,9,-999.0000,-999.000,-999.0000,9, -999.00
318M20040615,        P02,      70,          2,         26,         26,2,20040711,       0407,    30.0072,   170.6937,       5507,   500.6,  10.9309,  34.2788,2,  34.2740,2, 215.8000,2,   220.3,2,   18.45,2,   13.41,2,    0.01,2,    0.98,2,   2.972,2,   1.679,2,   0.150,2,  2096.2,2,  2273.5,2,-999.000,9,-999.0000,9, -999.00,9,    0.49,2,    30.5,2,     4.2,-999.000,9,-999.000,   47.10,2,  500.60,-999.0000,9,-999.0000,9,-999.0000,9,-999.0000,9,-999.0000,9,-999.0000,-999.000,-999.0000,9, -999.00
318M20040615,        P02,      70,          2,         25,         25,2,20040711,       0407,    30.0072,   170.6937,       5507,   600.6,   8.0819,  34.0736,2,  34.0757,2, 183.0000,2,   180.6,2,   35.39,2,   22.03,2,    0.00,2,    1.58,2,   2.765,2,   1.473,2,   0.116,2,  2157.1,2,  2275.6,2,-999.000,9,-999.0000,9, -999.00,9,    0.30,2,    -8.4,2,     4.4,-999.000,9,-999.000,   46.10,2,  600.60,-999.0000,9,-999.0000,9,-999.0000,9,-999.0000,9,-999.0000,9,-999.0000,-999.000,-999.0000,9, -999.00
318M20040615,        P02,      70,          2,         24,         24,2,20040711,       0407,    30.0072,   170.6937,       5507,   700.5,   5.9214,  34.0220,2,  34.0215,2, 134.2000,2,   128.6,2,   61.41,2,   30.98,2,    0.00,2,    2.24,2,   1.999,2,   1.032,2,   0.081,2,  2226.2,2,  2292.0,2,-999.000,9,-999.0000,9, -999.00,9,    0.03,2,   -64.1,2,     4.9,-999.000,9,-999.000,   44.10,2,  700.50,-999.0000,9,-999.0000,9,-999.0000,9,-999.0000,9,-999.0000,9,-999.0000,-999.000,-999.0000,9, -999.00
318M20040615,        P02,      70,          2,         23,         23,2,20040711,       0407,    30.0072,   170.6937,       5507,   800.5,   4.8542,  34.0884,2,  34.0927,2,  91.2000,2,    87.5,2,   84.74,2,   36.53,2,    0.00,2,    2.63,2,   1.378,2,   0.695,2,   0.063,2,  2277.1,2,  2312.3,2,-999.000,9,-999.0000,9, -999.00,9,   -0.23,2,  -109.4,2,     4.3,-999.000,9,-999.000,   42.60,2,  800.50,-999.0000,9,-999.0000,9,-999.0000,9,-999.0000,9,-999.0000,9,-999.0000,-999.000,-999.0000,9, -999.00
318M20040615,        P02,      70,          2,         22,         22,2,20040711,       0407,    30.0072,   170.6937,       5507,   900.5,   4.3080,  34.1797,2,  34.1801,2,  61.1000,2,    59.7,2,  100.86,2,   39.69,2,    0.00,2,    2.85,2,   0.742,2,   0.370,2,   0.024,2,  2309.4,2,  2329.9,2,-999.000,9,-999.0000,9, -999.00,9, -999.00,9,  -999.0,9,  -999.0,-999.000,9,-999.000,   41.10,2,  900.50,-999.0000,9,-999.0000,9,-999.0000,9,-999.0000,9,-999.0000,9,-999.0000,-999.000,-999.0000,9, -999.00
318M20040615,        P02,      70,          2,         21,         21,2,20040711,       0407,    30.0072,   170.6937,       5507,  1000.8,   3.8215,  34.2634,2,  34.2650,2,  45.5000,2,    44.1,2,  115.77,2,   41.46,2,    0.00,2,    2.97,2,   0.380,2,   0.185,2,   0.011,2,  2337.1,2,  2348.0,2,-999.000,9,-999.0000,9, -999.00,9,   -0.39,2,  -168.0,2,     3.3,-999.000,9,-999.000,   40.80,2, 1000.80,-999.0000,9,-999.0000,9,-999.0000,9,-999.0000,9,-999.0000,9,-999.0000,-999.000,-999.0000,9, -999.00
318M20040615,        P02,      70,          2,         20,         20,2,20040711,       0407,    30.0072,   170.6937,       5507,  1101.1,   3.4402,  34.3297,2,  34.3313,2,  39.4000,2,    38.6,2,  127.13,2,   42.19,2,    0.00,2,    3.03,2,   0.225,2,   0.111,2,   0.004,2,  2352.6,2,  2362.4,2,-999.000,9,-999.0000,9, -999.00,9, -999.00,9,  -999.0,9,  -999.0,-999.000,9,-999.000,   40.70,2, 1101.10,-999.0000,9,-999.0000,9,-999.0000,9,-999.0000,9,-999.0000,9,-999.0000,-999.000,-999.0000,9, -999.00
318M20040615,        P02,      70,          2,         19,         19,2,20040711,       0407,    30.0072,   170.6937,       5507,  1201.4,   3.1084,  34.3859,2,  34.3868,2,  34.1000,2,    34.1,2,  136.89,2,   42.77,2,    0.00,2,    3.08,2,   0.115,2,   0.057,2,   0.004,2,  2364.8,2,  2373.4,2,-999.000,9,-999.0000,9, -999.00,9,   -0.42,2,  -204.4,2,     3.5,-999.000,9,-999.000,   40.20,2, 1201.40,-999.0000,9,-999.0000,9,-999.0000,9,-999.0000,9,-999.0000,9,-999.0000,-999.000,-999.0000,9, -999.00
318M20040615,        P02,      70,          2,         18,         18,2,20040711,       0407,    30.0072,   170.6937,       5507,  1301.3,   2.8682,  34.4248,2,  34.4282,2,  32.2000,2,    32.6,2,  144.54,2,   43.18,2,    0.00,2,    3.10,2,   0.068,2,   0.035,2,   0.002,2,  2374.3,6,  2382.7,6,-999.000,9,-999.0000,9, -999.00,9, -999.00,9,  -999.0,9,  -999.0,-999.000,9,-999.000,   39.60,2, 1301.30,-999.0000,9,-999.0000,9,-999.0000,9,-999.0000,9,-999.0000,9,-999.0000,-999.000,-999.0000,9, -999.00
318M20040615,        P02,      70,          2,         17,         17,2,20040711,       0407,    30.0072,   170.6937,       5507,  1401.8,   2.6599,  34.4616,2,  34.4626,2,  34.9000,2,    34.2,2,  150.19,2,   43.11,2,    0.00,2,    3.09,2,   0.044,2,   0.018,2,   0.003,2,  2378.8,2,  2381.7,3,-999.000,9,-999.0000,9, -999.00,9,   -0.43,2,  -222.0,2,     3.5,-999.000,9,-999.000,   39.10,2, 1401.80,-999.0000,9,-999.0000,9,-999.0000,9,-999.0000,9,-999.0000,9,-999.0000,-999.000,-999.0000,9, -999.00
318M20040615,        P02,      70,          2,         16,         16,2,20040711,       0407,    30.0072,   170.6937,       5507,  1502.3,   2.4973,  34.4904,2,  34.4911,2,  38.8000,2,    38.6,2,  154.25,2,   42.93,2,    0.00,2,    3.08,2,   0.031,2,   0.013,2,   0.002,2,  2380.4,2,  2390.2,2,-999.000,9,-999.0000,9, -999.00,9, -999.00,9,  -999.0,9,  -999.0,-999.000,9,-999.000,   38.20,2, 1502.30,-999.0000,9,-999.0000,9,-999.0000,9,-999.0000,9,-999.0000,9,-999.0000,-999.000,-999.0000,9, -999.00
318M20040615,        P02,      70,          2,         15,         15,2,20040711,       0407,    30.0072,   170.6937,       5507,  1602.9,   2.3317,  34.5218,2,  34.5231,2,  44.2000,2,    44.4,2,  157.25,2,   42.98,2,    0.00,2,    3.05,2,   0.021,2,   0.010,2,   0.002,2,  2382.6,2,  2402.0,3,-999.000,9,-999.0000,9, -999.00,9,   -0.36,2,  -240.3,2,     5.1,-999.000,9,-999.000,   38.10,2, 1602.90,-999.0000,9,-999.0000,9,-999.0000,9,-999.0000,9,-999.0000,9,-999.0000,-999.000,-999.0000,9, -999.00
318M20040615,        P02,      70,          2,         14,         14,2,20040711,       0407,    30.0072,   170.6937,       5507,  1803.6,   2.1061,  34.5723,2,  34.5735,2,  57.5000,2,    60.6,2,  161.14,2,   42.28,2,    0.00,2,    2.97,2,   0.006,2,   0.002,2,   0.000,2,  2378.8,2,  2409.6,2,-999.000,9,-999.0000,9, -999.00,9,   -0.27,2,  -236.1,2,     3.2,-999.000,9,-999.000,   38.00,2, 1803.60,-999.0000,9,-999.0000,9,-999.0000,9,-999.0000,9,-999.0000,9,-999.0000,-999.000,-999.0000,9, -999.00
318M20040615,        P02,      70,          2,         13,         13,2,20040711,       0407,    30.0072,   170.6937,       5507,  1998.8,   1.9086,  34.6000,2,  34.6024,2,  74.2000,2,    75.7,2,  163.27,2,   41.42,2,    0.00,2,    2.90,2,   0.007,2,   0.001,2,   0.000,2,  2372.6,2,  2414.0,2,-999.000,9,-999.0000,9, -999.00,9,   -0.19,2,  -233.6,2,     3.8,-999.000,9,-999.000,   37.90,2, 1998.80,-999.0000,9,-999.0000,9,-999.0000,9,-999.0000,9,-999.0000,9,-999.0000,-999.000,-999.0000,9, -999.00
318M20040615,        P02,      70,          2,         12,         12,2,20040711,       0407,    30.0072,   170.6937,       5507,  2249.9,   1.7549,  34.6264,2,  34.6274,2,  91.9000,2,    93.6,2,  162.56,2,   40.11,2,    0.00,2,    2.83,2,   0.005,2,   0.001,2,   0.004,2,  2364.2,2,  2415.1,2,-999.000,9,-999.0000,9, -999.00,9,   -0.15,2,  -240.7,2,     4.2,-999.000,9,-999.000,   37.70,2, 2249.90,-999.0000,9,-999.0000,9,-999.0000,9,-999.0000,9,-999.0000,9,-999.0000,-999.000,-999.0000,9, -999.00
318M20040615,        P02,      70,          2,         11,         11,2,20040711,       0407,    30.0072,   170.6937,       5507,  2500.4,   1.6376,  34.6441,2,  34.6457,2, 106.7000,2,   107.9,2,  161.15,2,   39.08,2,    0.00,2,    2.74,2,   0.005,2,   0.000,2,   0.003,2,  2354.9,2,  2418.4,2,-999.000,9,-999.0000,9, -999.00,9,   -0.03,2,  -240.7,2,     3.2,-999.000,9,-999.000,   37.00,2, 2500.40,-999.0000,9,-999.0000,9,-999.0000,9,-999.0000,9,-999.0000,9,-999.0000,-999.000,-999.0000,9, -999.00
318M20040615,        P02,      70,          2,         10,         10,2,20040711,       0407,    30.0072,   170.6937,       5507,  2749.2,   1.5651,  34.6561,2,  34.6596,2, 118.9000,3,   119.2,2,  159.56,2,   38.17,2,    0.00,2,    2.69,2,   0.004,2,   0.000,2,   0.000,2,  2348.9,2,  2417.4,2,-999.000,9,-999.0000,9, -999.00,9, -999.00,5,  -999.0,5,  -999.0,-999.000,9,-999.000,   37.60,2, 2749.20,-999.0000,9,-999.0000,9,-999.0000,9,-999.0000,9,-999.0000,9,-999.0000,-999.000,-999.0000,9, -999.00
318M20040615,        P02,      70,          2,          9,          9,2,20040711,       0407,    30.0072,   170.6937,       5507,  2999.2,   1.5098,  34.6657,2,  34.6669,2, 128.9000,2,   129.2,2,  156.93,2,   37.39,2,    0.00,2,    2.63,2,   0.004,2,   0.000,2,   0.002,2,  2342.8,2,  2418.1,2,-999.000,9,-999.0000,9, -999.00,9,    0.11,2,  -233.3,2,     3.5,-999.000,9,-999.000,   37.40,2, 2999.20,-999.0000,9,-999.0000,9,-999.0000,9,-999.0000,9,-999.0000,9,-999.0000,-999.000,-999.0000,9, -999.00
318M20040615,        P02,      70,          2,          8,          8,2,20040711,       0407,    30.0072,   170.6937,       5507,  3400.7,   1.4648,  34.6757,2,  34.6785,2, 140.1000,3,   141.2,2,  154.64,2,   36.65,2,    0.00,2,    2.57,2,   0.005,2,   0.002,2,   0.000,2,  2335.6,2,  2416.5,2,-999.000,9,-999.0000,9, -999.00,9,    0.14,2,  -226.4,2,     3.4,-999.000,9,-999.000,   37.70,2, 3400.70,-999.0000,9,-999.0000,9,-999.0000,9,-999.0000,9,-999.0000,9,-999.0000,-999.000,-999.0000,9, -999.00
318M20040615,        P02,      70,          2,          7,          7,2,20040711,       0407,    30.0072,   170.6937,       5507,  3800.8,   1.4462,  34.6822,2,  34.6832,2, 148.5000,2,   148.8,2,  151.80,2,   36.09,2,    0.00,2,    2.53,2,   0.003,2,   0.000,2,   0.000,2,  2329.8,2,  2416.6,2,-999.000,9,-999.0000,9, -999.00,9,    0.21,2,  -220.4,2,     4.5,-999.000,9,-999.000,   37.50,2, 3800.80,-999.0000,9,-999.0000,9,-999.0000,9,-999.0000,9,-999.0000,9,-999.0000,-999.000,-999.0000,9, -999.00
318M20040615,        P02,      70,          2,          6,          6,2,20040711,       0407,    30.0072,   170.6937,       5507,  4199.8,   1.4442,  34.6869,2,  34.6883,2, 154.9000,2,   155.4,2,  149.68,2,   35.75,2,    0.00,2,    2.50,2,   0.004,2,   0.001,2,   0.002,2,  2324.2,2,  2416.0,2,-999.000,9,-999.0000,9, -999.00,9,    0.26,2,  -214.6,2,     3.4,-999.000,9,-999.000,   37.30,2, 4199.80,-999.0000,9,-999.0000,9,-999.0000,9,-999.0000,9,-999.0000,9,-999.0000,-999.000,-999.0000,9, -999.00
318M20040615,        P02,      70,          2,          5,          5,2,20040711,       0407,    30.0072,   170.6937,       5507,  4600.4,   1.4470,  34.6909,2,  34.6944,2, 162.2000,3,   162.6,2,  143.66,2,   35.41,2,    0.00,2,    2.45,2,   0.007,2,   0.004,2,   0.001,2,  2317.0,2,  2411.8,2,-999.000,9,-999.0000,9, -999.00,9,    0.31,2,  -204.7,2,     3.4,-999.000,9,-999.000,   37.70,2, 4600.40,-999.0000,9,-999.0000,9,-999.0000,9,-999.0000,9,-999.0000,9,-999.0000,-999.000,-999.0000,9, -999.00
318M20040615,        P02,      70,          2,          4,          4,2,20040711,       0407,    30.0072,   170.6937,       5507,  5002.2,   1.4562,  34.6941,2,  34.6964,2, 169.1000,3,   169.5,2,  138.17,2,   35.08,2,    0.00,2,    2.41,2,   0.007,2,   0.003,2,   0.000,2,  2309.9,2,  2405.1,6,-999.000,9,-999.0000,9, -999.00,9,    0.36,2,  -202.1,2,     3.8,-999.000,9,-999.000,   37.80,2, 5002.20,-999.0000,9,-999.0000,9,-999.0000,9,-999.0000,9,-999.0000,9,-999.0000,-999.000,-999.0000,9, -999.00
318M20040615,        P02,      70,          2,          3,          3,2,20040711,       0407,    30.0072,   170.6937,       5507,  5200.0,   1.4688,  34.6952,2,  34.6964,2, 171.1000,2,   171.3,2,  136.73,2,   34.84,2,    0.00,2,    2.40,2,   0.008,2,   0.004,2,  -0.001,2,  2307.2,2,  2405.1,2,-999.000,9,-999.0000,9, -999.00,9,    0.39,2,  -204.4,2,     3.7,-999.000,9,-999.000,   37.60,2, 5200.00,-999.0000,9,-999.0000,9,-999.0000,9,-999.0000,9,-999.0000,9,-999.0000,-999.000,-999.0000,9, -999.00
318M20040615,        P02,      70,          2,          2,          2,2,20040711,       0407,    30.0072,   170.6937,       5507,  5437.5,   1.4873,  34.6961,2,  34.6964,2, 173.3000,2,   173.4,2,  135.33,2,   34.56,2,    0.00,2,    2.39,2,   0.005,2,   0.003,2,  -0.001,2,  2304.6,2,  2403.8,2,-999.000,9,-999.0000,9, -999.00,9,    0.39,6,  -192.4,6,     2.7,-999.000,9,-999.000,   37.60,2, 5437.50,-999.0000,9,-999.0000,9,-999.0000,9,-999.0000,9,-999.0000,9,-999.0000,-999.000,-999.0000,9, -999.00
318M20040615,        P02,      70,          2,          1,          1,2,20040711,       0407,    30.0072,   170.6937,       5507,  5624.9,   1.5002,  34.6970,2,  34.6989,2, 175.0000,3,   175.6,2,  134.08,2,   34.40,2,    0.00,2,    2.38,2,   0.007,2,   0.002,2,  -0.001,2,  2303.0,6,  2402.2,6,-999.000,9,-999.0000,9, -999.00,9,    0.41,2,  -187.4,2,     3.5,-999.000,9,-999.000,   37.50,2, 5624.90,-999.0000,9,-999.0000,9,-999.0000,9,-999.0000,9,-999.0000,9,-999.0000,-999.000,-999.0000,9, -999.00