BOTTLE,20131027SIOCCHRJL
EXPOCODE,SECT_ID,STNNBR,CASTNO,SAMPNO,BTLNBR,BTLNBR_FLAG_W,DATE,TIME,LATITUDE,LONGITUDE,DEPTH,CTDPRS,CTDTMP,CTDSAL,CTDSAL_FLAG_W,SALNTY,SALNTY_FLAG_W,CTDOXY,CTDOXY_FLAG_W,OXYGEN,OXYGEN_FLAG_W,SILCAT,SILCAT_FLAG_W,NITRAT,NITRAT_FLAG_W,NITRIT,NITRIT_FLAG_W,PHSPHT,PHSPHT_FLAG_W,CFC-11,CFC-11_FLAG_W,CFC-12,CFC-12_FLAG_W,CFC113,CFC113_FLAG_W,TCARBN,TCARBN_FLAG_W,ALKALI,ALKALI_FLAG_W,TRITUM,TRITUM_FLAG_W,HELIUM,HELIUM_FLAG_W,DELHE3,DELHE3_FLAG_W,DELC13,DELC13_FLAG_W,DELC14,DELC14_FLAG_W,C14ERR,NEON,NEON_FLAG_W,NEONER,DOC,DOC_FLAG_W,CTDRAW,CDOM380,CDOM380_FLAG_W,CDOM325,CDOM325_FLAG_W,CDOMSL,CDOMSL_FLAG_W,CDOM340,CDOM340_FLAG_W,CDOMSN,CDOMSN_FLAG_W,HELIER,TRITER,CDOM412,CDOM412_FLAG_W,DELHER
,,,,,,,,,,,METERS,DBAR,ITS-90,PSS-78,,PSS-78,,UMOL/KG,,UMOL/KG,,UMOL/KG,,UMOL/KG,,UMOL/KG,,UMOL/KG,,PMOL/KG,,PMOL/KG,,PMOL/KG,,UMOL/KG,,UMOL/KG,,TU,,NMOL/KG,,PERCNT,,/MILLE,,/MILLE,,/MILLE,NMOL/KG,,NMOL/KG,UMOL/KG,,DBAR,1/M,,1/M,,1/NM,,1/M,,1/NM,,NMOL/KG,TU,1/M,,PERCNT
318M20040615,        P02,       8,          1,         31,         31,2,20040618,       0235,    31.8042,   133.6573,       4223,    16.2,  23.8158,  34.4615,2,  34.4660,2, 216.5000,2,   216.3,2,    1.07,2,    0.13,2,    0.00,2,    0.06,2,   1.964,2,   1.208,2,   0.123,2,  1951.9,6,  2264.2,2,-999.000,9,-999.0000,9, -999.00,9, -999.00,9,  -999.0,9,  -999.0,-999.000,9,-999.000,   67.30,2,   16.20,   0.0400,2,   0.1160,2,   0.0180,2,   0.0840,2,   0.0190,2,-999.0000,-999.000,   0.0270,2, -999.00
318M20040615,        P02,       8,          1,         30,         30,2,20040618,       0235,    31.8042,   133.6573,       4223,    41.5,  23.0917,  34.5327,2,-999.0000,9, 219.6000,5,   218.5,2,    1.07,2,    0.13,2,    0.00,2,    0.06,2,   2.001,2,   1.213,2,   0.121,2,  1957.9,2,  2269.0,2,-999.000,9,-999.0000,9, -999.00,9, -999.00,9,  -999.0,9,  -999.0,-999.000,9,-999.000,   63.70,2,   41.50,   0.0190,2,   0.0930,2,   0.0290,2,   0.0590,2,   0.0290,2,-999.0000,-999.000,   0.0090,2, -999.00
318M20040615,        P02,       8,          1,         29,         29,2,20040618,       0235,    31.8042,   133.6573,       4223,    86.4,  18.9073,  34.6973,2,  34.6960,2, 195.5000,2,   195.6,2,    5.59,2,    4.50,2,    0.08,2,    0.38,2,   2.366,2,   1.391,2,   0.093,2,  2024.0,2,  2281.4,2,-999.000,9,-999.0000,9, -999.00,9, -999.00,9,  -999.0,9,  -999.0,-999.000,9,-999.000,   57.20,2,   86.40,  -0.0330,4,   0.0290,4,   0.0800,4,  -0.0040,4,   0.0220,4,-999.0000,-999.000,  -0.0250,4, -999.00
318M20040615,        P02,       8,          1,         28,         28,2,20040618,       0235,    31.8042,   133.6573,       4223,   135.6,  16.7980,  34.6623,2,  34.6608,2, 184.4000,2,   189.0,2,    9.05,2,    7.67,2,    0.02,2,    0.58,2,   2.376,2,   1.336,2,   0.068,2,  2050.0,2,  2282.0,2,-999.000,9,-999.0000,9, -999.00,9, -999.00,9,  -999.0,9,  -999.0,-999.000,9,-999.000,   54.60,2,  135.60,   0.0310,2,   0.1030,2,   0.0220,2,   0.0700,2,   0.0230,2,-999.0000,-999.000,   0.0210,2, -999.00
318M20040615,        P02,       8,          1,         27,         27,2,20040618,       0235,    31.8042,   133.6573,       4223,   186.0,  15.2426,  34.6028,2,  34.6042,2, 177.8000,2,   177.8,2,   12.49,2,   10.59,2,    0.01,2,    0.76,2,   2.380,2,   1.319,2,   0.028,2,  2075.9,2,  2279.0,3,-999.000,9,-999.0000,9, -999.00,9, -999.00,9,  -999.0,9,  -999.0,-999.000,9,-999.000,   52.70,2,  186.00,-999.0000,9,-999.0000,9,-999.0000,9,-999.0000,9,-999.0000,9,-999.0000,-999.000,-999.0000,9, -999.00
318M20040615,        P02,       8,          1,         26,         26,2,20040618,       0235,    31.8042,   133.6573,       4223,   234.3,  13.6866,  34.5185,2,  34.5190,2, 166.1000,2,   166.7,2,   20.12,2,   14.02,2,    0.01,2,    1.02,2,   2.277,2,   1.252,2,   0.036,2,  2102.7,2,  2283.2,2,-999.000,9,-999.0000,9, -999.00,9, -999.00,9,  -999.0,9,  -999.0,-999.000,9,-999.000,   51.70,2,  234.30,   0.0350,2,   0.1120,2,   0.0200,2,   0.0770,2,   0.0220,2,-999.0000,-999.000,   0.0240,2, -999.00
318M20040615,        P02,       8,          1,         25,         25,2,20040618,       0235,    31.8042,   133.6573,       4223,   284.2,  11.9612,  34.4193,2,  34.4200,2, 158.1000,2,   159.9,2,   25.76,2,   17.27,2,    0.01,2,    1.24,2,   2.212,2,   1.186,2,   0.060,2,  2126.3,2,  2273.6,2,-999.000,9,-999.0000,9, -999.00,9, -999.00,9,  -999.0,9,  -999.0,-999.000,9,-999.000,   49.90,2,  284.20,   0.0410,2,   0.1220,2,   0.0170,2,   0.0840,2,   0.0190,2,-999.0000,-999.000,   0.0290,2, -999.00
318M20040615,        P02,       8,          1,         24,         24,2,20040618,       0235,    31.8042,   133.6573,       4223,   369.7,   9.4115,  34.3333,2,  34.3327,2, 133.1000,2,   133.0,2,   45.28,2,   24.06,2,    0.00,2,    1.73,2,   1.680,2,   0.898,2,   0.046,2,  2181.1,2,  2294.5,2,-999.000,9,-999.0000,9, -999.00,9, -999.00,9,  -999.0,9,  -999.0,-999.000,9,-999.000,   48.30,2,  369.70,   0.0740,2,   0.1760,2,   0.0130,2,   0.1300,2,   0.0140,2,-999.0000,-999.000,   0.0550,2, -999.00
318M20040615,        P02,       8,          1,         23,         23,2,20040618,       0235,    31.8042,   133.6573,       4223,   470.3,   7.1379,  34.2685,2,  34.2674,2, 105.7000,2,   107.1,2,   65.80,2,   30.27,2,    0.01,2,    2.19,2,   1.199,2,   0.634,2,   0.024,2,  2232.9,2,  2309.6,2,-999.000,9,-999.0000,9, -999.00,9, -999.00,9,  -999.0,9,  -999.0,-999.000,9,-999.000,   46.30,2,  470.30,   0.0900,3,   0.2070,3,   0.0130,3,   0.1550,3,   0.0130,3,-999.0000,-999.000,   0.0670,3, -999.00
318M20040615,        P02,       8,          1,         22,         22,2,20040618,       0235,    31.8042,   133.6573,       4223,   572.1,   5.9708,  34.2695,2,  34.2681,2,  90.4000,2,    89.8,2,   80.34,2,   33.83,2,    0.00,2,    2.45,2,   0.854,2,   0.436,2,   0.033,2,  2264.5,2,  2323.7,2,-999.000,9,-999.0000,9, -999.00,9, -999.00,9,  -999.0,9,  -999.0,-999.000,9,-999.000,   44.70,2,  572.10,   0.0820,3,   0.1990,3,   0.0130,3,   0.1450,3,   0.0140,3,-999.0000,-999.000,   0.0600,2, -999.00
318M20040615,        P02,       8,          1,         21,         21,2,20040618,       0235,    31.8042,   133.6573,       4223,   672.3,   4.6684,  34.3104,2,  34.3093,2,  72.1000,2,    71.8,2,  101.19,2,   37.62,2,    0.00,2,    2.71,2,   0.482,2,   0.235,2,   0.017,2,  2300.5,2,  2342.6,2,-999.000,9,-999.0000,9, -999.00,9, -999.00,9,  -999.0,9,  -999.0,-999.000,9,-999.000,   43.80,2,  672.30,   0.0890,3,   0.2110,3,   0.0130,3,   0.1540,3,   0.0140,3,-999.0000,-999.000,   0.0660,3, -999.00
318M20040615,        P02,       8,          1,         20,         20,2,20040618,       0235,    31.8042,   133.6573,       4223,   767.4,   4.1066,  34.3602,2,  34.3578,2,  66.2000,2,    67.5,2,  112.49,2,   38.79,2,    0.00,2,    2.80,2,   0.326,2,   0.150,2,   0.017,2,  2319.1,6,  2356.5,2,-999.000,9,-999.0000,9, -999.00,9, -999.00,9,  -999.0,9,  -999.0,-999.000,9,-999.000,   42.10,2,  767.40,   0.1000,3,   0.2230,3,   0.0120,3,   0.1660,3,   0.0130,3,-999.0000,-999.000,   0.0760,3, -999.00
318M20040615,        P02,       8,          1,         19,         19,2,20040618,       0235,    31.8042,   133.6573,       4223,   868.1,   3.6796,  34.4012,2,  34.4004,2,  65.3000,2,    64.9,2,  120.84,2,   39.54,2,    0.00,2,    2.85,2,   0.223,2,   0.095,2,   0.009,2,  2327.9,2,  2365.3,2,-999.000,9,-999.0000,9, -999.00,9, -999.00,9,  -999.0,9,  -999.0,-999.000,9,-999.000,   41.30,2,  868.10,   0.0670,2,   0.1800,2,   0.0140,2,   0.1260,2,   0.0160,2,-999.0000,-999.000,   0.0490,2, -999.00
318M20040615,        P02,       8,          1,         18,         18,4,20040618,       0235,    31.8042,   133.6573,       4223,   969.0,   3.3666,  34.4335,2,  34.5282,2,  65.6000,4,    90.1,4,  136.64,4,   39.04,4,    0.00,4,    2.79,4,   0.145,2,   0.067,2,   0.006,2,  2338.3,2,  2392.2,2,-999.000,9,-999.0000,9, -999.00,9, -999.00,9,  -999.0,9,  -999.0,-999.000,9,-999.000,   40.80,2,  969.00,   0.0780,2,   0.1920,2,   0.0130,2,   0.1390,2,   0.0150,2,-999.0000,-999.000,   0.0570,2, -999.00
318M20040615,        P02,       8,          1,         17,         17,2,20040618,       0235,    31.8042,   133.6573,       4223,  1069.9,   3.0799,  34.4613,2,  34.4603,2,  67.7000,2,    66.9,2,  132.91,2,   40.22,2,    0.00,2,    2.89,2,   0.108,2,   0.032,2,   0.013,2,  2343.0,2,  2379.5,3,-999.000,9,-999.0000,9, -999.00,9, -999.00,9,  -999.0,9,  -999.0,-999.000,9,-999.000,   40.20,2, 1069.90,-999.0000,9,-999.0000,9,-999.0000,9,-999.0000,9,-999.0000,9,-999.0000,-999.000,-999.0000,9, -999.00
318M20040615,        P02,       8,          1,         16,         16,2,20040618,       0235,    31.8042,   133.6573,       4223,  1171.1,   2.8692,  34.4914,2,  34.4897,2,  73.1000,2,    73.8,2,  136.06,2,   39.90,2,    0.00,2,    2.87,2,   0.515,4,   0.084,2,   0.020,2,  2344.5,2,  2392.6,3,-999.000,9,-999.0000,9, -999.00,9, -999.00,9,  -999.0,9,  -999.0,-999.000,9,-999.000,   39.80,2, 1171.10,-999.0000,9,-999.0000,9,-999.0000,9,-999.0000,9,-999.0000,9,-999.0000,-999.000,-999.0000,9, -999.00
318M20040615,        P02,       8,          1,         15,         15,2,20040618,       0235,    31.8042,   133.6573,       4223,  1271.8,   2.6460,  34.5148,2,  34.5146,2,  77.1000,2,    78.0,2,  139.77,2,   39.94,2,    0.00,2,    2.86,2,   0.089,2,   0.040,2,   0.006,2,  2347.5,2,  2387.5,3,-999.000,9,-999.0000,9, -999.00,9, -999.00,9,  -999.0,9,  -999.0,-999.000,9,-999.000,   39.00,2, 1271.80,-999.0000,9,-999.0000,9,-999.0000,9,-999.0000,9,-999.0000,9,-999.0000,-999.000,-999.0000,9, -999.00
318M20040615,        P02,       8,          1,         14,         14,2,20040618,       0235,    31.8042,   133.6573,       4223,  1372.4,   2.4941,  34.5339,2,  34.5329,2,  82.0000,2,    82.8,2,  141.81,2,   39.78,2,    0.00,2,    2.85,2,   0.066,2,   0.024,2,   0.012,3,  2347.8,2,  2396.6,3,-999.000,9,-999.0000,9, -999.00,9, -999.00,9,  -999.0,9,  -999.0,-999.000,9,-999.000,   38.50,2, 1372.40,-999.0000,9,-999.0000,9,-999.0000,9,-999.0000,9,-999.0000,9,-999.0000,-999.000,-999.0000,9, -999.00
318M20040615,        P02,       8,          1,         13,         13,2,20040618,       0235,    31.8042,   133.6573,       4223,  1468.8,   2.3758,  34.5495,2,  34.5535,2,  86.6000,2,    87.5,2,  143.10,2,   39.51,2,    0.00,2,    2.83,2,   0.080,2,   0.039,2,   0.006,2,  2347.9,2,  2400.3,2,-999.000,9,-999.0000,9, -999.00,9, -999.00,9,  -999.0,9,  -999.0,-999.000,9,-999.000,   37.90,2, 1468.80,-999.0000,9,-999.0000,9,-999.0000,9,-999.0000,9,-999.0000,9,-999.0000,-999.000,-999.0000,9, -999.00
318M20040615,        P02,       8,          1,         12,         12,2,20040618,       0235,    31.8042,   133.6573,       4223,  1569.2,   2.2726,  34.5660,2,  34.5651,2,  90.6000,2,    93.9,2,  143.27,2,   39.19,2,    0.00,2,    2.81,2,   0.044,2,   0.019,2,   0.003,2,  2346.1,2,  2401.3,2,-999.000,9,-999.0000,9, -999.00,9, -999.00,9,  -999.0,9,  -999.0,-999.000,9,-999.000,   38.00,2, 1569.20,-999.0000,9,-999.0000,9,-999.0000,9,-999.0000,9,-999.0000,9,-999.0000,-999.000,-999.0000,9, -999.00
318M20040615,        P02,       8,          1,         11,         11,2,20040618,       0235,    31.8042,   133.6573,       4223,  1725.2,   2.1528,  34.5811,2,  34.5802,2,  99.3000,2,    99.2,2,  144.76,2,   38.91,2,    0.00,2,    2.78,2,   0.125,3,   0.076,4,   0.014,3,  2345.4,2,  2403.6,2,-999.000,9,-999.0000,9, -999.00,9, -999.00,9,  -999.0,9,  -999.0,-999.000,9,-999.000,   38.10,2, 1725.20,-999.0000,9,-999.0000,9,-999.0000,9,-999.0000,9,-999.0000,9,-999.0000,-999.000,-999.0000,9, -999.00
318M20040615,        P02,       8,          1,         10,         10,2,20040618,       0235,    31.8042,   133.6573,       4223,  1928.0,   2.0265,  34.6014,2,  34.6005,2, 109.9000,2,   108.3,2,  144.75,2,   38.43,2,    0.00,2,    2.74,2,   0.074,3,   0.052,4,   0.012,3,  2342.0,2,  2406.2,2,-999.000,9,-999.0000,9, -999.00,9, -999.00,9,  -999.0,9,  -999.0,-999.000,9,-999.000,   37.80,2, 1928.00,-999.0000,9,-999.0000,9,-999.0000,9,-999.0000,9,-999.0000,9,-999.0000,-999.000,-999.0000,9, -999.00
318M20040615,        P02,       8,          1,          9,          9,2,20040618,       0235,    31.8042,   133.6573,       4223,  2170.3,   1.8646,  34.6239,2,  34.6264,2, 118.6000,2,   118.4,2,  145.12,2,   37.85,2,    0.00,2,    2.69,2,   0.040,2,   0.016,2,   0.018,3,  2338.5,2,  2410.3,2,-999.000,9,-999.0000,9, -999.00,9, -999.00,9,  -999.0,9,  -999.0,-999.000,9,-999.000,   37.40,2, 2170.30,   0.0680,2,   0.1780,2,   0.0140,2,   0.1260,2,   0.0150,2,-999.0000,-999.000,   0.0500,2, -999.00
318M20040615,        P02,       8,          1,          8,          8,2,20040618,       0235,    31.8042,   133.6573,       4223,  2416.8,   1.7612,  34.6387,2,  34.6358,2, 126.5000,2,   126.9,2,  144.71,2,   37.37,2,    0.00,2,    2.65,2,   0.031,2,   0.013,2,   0.008,2,  2334.2,2,  2413.8,2,-999.000,9,-999.0000,9, -999.00,9, -999.00,9,  -999.0,9,  -999.0,-999.000,9,-999.000,   37.60,2, 2416.80,-999.0000,9,-999.0000,9,-999.0000,9,-999.0000,9,-999.0000,9,-999.0000,-999.000,-999.0000,9, -999.00
318M20040615,        P02,       8,          1,          7,          7,2,20040618,       0235,    31.8042,   133.6573,       4223,  2669.5,   1.6564,  34.6540,2,  34.6523,2, 134.2000,2,   135.5,2,  144.15,2,   36.89,2,    0.00,2,    2.61,2,   0.174,4,   0.102,4,   0.016,3,  2329.9,2,  2413.0,2,-999.000,9,-999.0000,9, -999.00,9, -999.00,9,  -999.0,9,  -999.0,-999.000,9,-999.000,   37.90,2, 2669.50,-999.0000,9,-999.0000,9,-999.0000,9,-999.0000,9,-999.0000,9,-999.0000,-999.000,-999.0000,9, -999.00
318M20040615,        P02,       8,          1,          6,          6,2,20040618,       0235,    31.8042,   133.6573,       4223,  2925.8,   1.5737,  34.6656,2,  34.6647,2, 142.0000,2,   142.8,2,  143.57,2,   36.46,2,    0.00,2,    2.57,2,   0.036,2,   0.018,2,   0.005,2,  2326.8,2,  2413.9,2,-999.000,9,-999.0000,9, -999.00,9, -999.00,9,  -999.0,9,  -999.0,-999.000,9,-999.000,   37.80,2, 2925.80,-999.0000,9,-999.0000,9,-999.0000,9,-999.0000,9,-999.0000,9,-999.0000,-999.000,-999.0000,9, -999.00
318M20040615,        P02,       8,          1,          5,          5,2,20040618,       0235,    31.8042,   133.6573,       4223,  3271.4,   1.5267,  34.6747,2,  34.6736,2, 148.5000,2,   148.7,2,  142.99,2,   36.09,2,    0.00,2,    2.55,2,   0.063,2,   0.034,4,   0.005,2,  2323.4,2,  2414.9,2,-999.000,9,-999.0000,9, -999.00,9, -999.00,9,  -999.0,9,  -999.0,-999.000,9,-999.000,   37.80,2, 3271.40,   0.0680,2,   0.1670,2,   0.0130,2,   0.1200,2,   0.0150,2,-999.0000,-999.000,   0.0480,2, -999.00
318M20040615,        P02,       8,          1,          4,          4,2,20040618,       0235,    31.8042,   133.6573,       4223,  3656.1,   1.5248,  34.6791,2,  34.6779,2, 151.4000,2,   151.9,2,  142.61,2,   35.82,2,    0.00,2,    2.52,2,   0.034,2,   0.012,2,   0.004,2,  2322.4,2,  2414.7,2,-999.000,9,-999.0000,9, -999.00,9, -999.00,9,  -999.0,9,  -999.0,-999.000,9,-999.000,   37.30,2, 3656.10,-999.0000,9,-999.0000,9,-999.0000,9,-999.0000,9,-999.0000,9,-999.0000,-999.000,-999.0000,9, -999.00
318M20040615,        P02,       8,          1,          3,          3,2,20040618,       0235,    31.8042,   133.6573,       4223,  3990.3,   1.5458,  34.6806,2,  34.6798,2, 152.7000,2,   153.2,2,  142.43,2,   35.82,2,    0.00,2,    2.52,2,   0.012,2,   0.001,2,   0.004,2,  2322.3,2,  2416.3,2,-999.000,9,-999.0000,9, -999.00,9, -999.00,9,  -999.0,9,  -999.0,-999.000,9,-999.000,   38.10,2, 3990.30,-999.0000,9,-999.0000,9,-999.0000,9,-999.0000,9,-999.0000,9,-999.0000,-999.000,-999.0000,9, -999.00
318M20040615,        P02,       8,          1,          2,          2,2,20040618,       0235,    31.8042,   133.6573,       4223,  4139.1,   1.5576,  34.6813,2,  34.6853,2, 153.1000,3,   153.5,2,  142.42,2,   35.82,2,    0.00,2,    2.53,2,   0.039,2,   0.021,2,   0.008,2,  2321.7,2,  2416.4,2,-999.000,9,-999.0000,9, -999.00,9, -999.00,9,  -999.0,9,  -999.0,-999.000,9,-999.000,   37.60,2, 4139.10,   0.1010,2,   0.2210,2,   0.0120,2,   0.1660,2,   0.0120,2,-999.0000,-999.000,   0.0750,2, -999.00
318M20040615,        P02,       8,          1,          1,          1,2,20040618,       0235,    31.8042,   133.6573,       4223,  4268.1,   1.5716,  34.6813,2,  34.6885,2, 153.0000,3,   153.6,2,  141.84,2,   35.82,2,    0.00,2,    2.52,2,   0.069,2,   0.028,2,   0.008,2,  2322.6,6,  2415.6,2,-999.000,9,-999.0000,9, -999.00,9, -999.00,9,  -999.0,9,  -999.0,-999.000,9,-999.000,   37.90,2, 4268.10,-999.0000,9,-999.0000,9,-999.0000,9,-999.0000,9,-999.0000,9,-999.0000,-999.000,-999.0000,9, -999.00