BOTTLE,20131027SIOCCHRJL
EXPOCODE,SECT_ID,STNNBR,CASTNO,SAMPNO,BTLNBR,BTLNBR_FLAG_W,DATE,TIME,LATITUDE,LONGITUDE,DEPTH,CTDPRS,CTDTMP,CTDSAL,CTDSAL_FLAG_W,SALNTY,SALNTY_FLAG_W,CTDOXY,CTDOXY_FLAG_W,OXYGEN,OXYGEN_FLAG_W,SILCAT,SILCAT_FLAG_W,NITRAT,NITRAT_FLAG_W,NITRIT,NITRIT_FLAG_W,PHSPHT,PHSPHT_FLAG_W,CFC-11,CFC-11_FLAG_W,CFC-12,CFC-12_FLAG_W,CFC113,CFC113_FLAG_W,TCARBN,TCARBN_FLAG_W,ALKALI,ALKALI_FLAG_W,TRITUM,TRITUM_FLAG_W,HELIUM,HELIUM_FLAG_W,DELHE3,DELHE3_FLAG_W,DELC13,DELC13_FLAG_W,DELC14,DELC14_FLAG_W,C14ERR,NEON,NEON_FLAG_W,NEONER,DOC,DOC_FLAG_W,CTDRAW,CDOM380,CDOM380_FLAG_W,CDOM325,CDOM325_FLAG_W,CDOMSL,CDOMSL_FLAG_W,CDOM340,CDOM340_FLAG_W,CDOMSN,CDOMSN_FLAG_W,HELIER,TRITER,CDOM412,CDOM412_FLAG_W,DELHER
,,,,,,,,,,,METERS,DBAR,ITS-90,PSS-78,,PSS-78,,UMOL/KG,,UMOL/KG,,UMOL/KG,,UMOL/KG,,UMOL/KG,,UMOL/KG,,PMOL/KG,,PMOL/KG,,PMOL/KG,,UMOL/KG,,UMOL/KG,,TU,,NMOL/KG,,PERCNT,,/MILLE,,/MILLE,,/MILLE,NMOL/KG,,NMOL/KG,UMOL/KG,,DBAR,1/M,,1/M,,1/NM,,1/M,,1/NM,,NMOL/KG,TU,1/M,,PERCNT
318M20040615,        P02,      39,          1,         36,         36,2,20040629,       2303,    29.9965,   148.6095,       6126,    11.9,  27.9022,  35.0402,2,  35.0445,2, 201.5000,2,   201.1,2,    1.24,2,    0.11,2,    0.00,2,    0.02,2,   1.641,2,   1.054,2,   0.124,2,  1978.2,6,  2299.3,6,-999.000,9,-999.0000,9, -999.00,9, -999.00,9,  -999.0,9,  -999.0,-999.000,9,-999.000, -999.00,9,   11.90,-999.0000,9,-999.0000,9,-999.0000,9,-999.0000,9,-999.0000,9,-999.0000,-999.000,-999.0000,9, -999.00
318M20040615,        P02,      39,          1,         35,         35,2,20040629,       2303,    29.9965,   148.6095,       6126,    41.1,  22.6132,  34.8864,2,  34.8874,2, 231.2000,2,   231.2,2,    1.60,2,    0.10,2,    0.00,2,    0.02,2,   2.083,2,   1.286,2,   0.142,2,  1978.3,2,  2289.7,2,-999.000,9,-999.0000,9, -999.00,9, -999.00,9,  -999.0,9,  -999.0,-999.000,9,-999.000, -999.00,9,   41.10,-999.0000,9,-999.0000,9,-999.0000,9,-999.0000,9,-999.0000,9,-999.0000,-999.000,-999.0000,9, -999.00
318M20040615,        P02,      39,          1,         34,         34,2,20040629,       2303,    29.9965,   148.6095,       6126,    87.2,  19.9643,  34.9022,2,  34.9036,2, 228.2000,2,   228.2,2,    1.78,2,    0.10,2,    0.00,2,    0.05,2,   2.213,2,   1.359,2,   0.139,2,  1992.4,2,  2290.1,2,-999.000,9,-999.0000,9, -999.00,9, -999.00,9,  -999.0,9,  -999.0,-999.000,9,-999.000, -999.00,9,   87.20,-999.0000,9,-999.0000,9,-999.0000,9,-999.0000,9,-999.0000,9,-999.0000,-999.000,-999.0000,9, -999.00
318M20040615,        P02,      39,          1,         33,         33,2,20040629,       2303,    29.9965,   148.6095,       6126,   136.3,  18.6762,  34.8474,2,  34.8465,2, 218.4000,2,   219.4,2,    2.14,2,    0.82,2,    0.27,2,    0.13,2,   2.328,2,   1.413,2,   0.127,2,  2007.7,2,  2286.4,2,-999.000,9,-999.0000,9, -999.00,9, -999.00,9,  -999.0,9,  -999.0,-999.000,9,-999.000, -999.00,9,  136.30,-999.0000,9,-999.0000,9,-999.0000,9,-999.0000,9,-999.0000,9,-999.0000,-999.000,-999.0000,9, -999.00
318M20040615,        P02,      39,          1,         32,         32,2,20040629,       2303,    29.9965,   148.6095,       6126,   187.2,  17.6940,  34.8025,2,  34.8027,2, 215.9000,2,   215.8,2,    2.85,2,    2.84,2,    0.02,2,    0.22,2,   2.417,2,   1.454,2,   0.112,2,  -999.0,9,  -999.0,9,-999.000,9,-999.0000,9, -999.00,9, -999.00,9,  -999.0,9,  -999.0,-999.000,9,-999.000, -999.00,9,  187.20,-999.0000,9,-999.0000,9,-999.0000,9,-999.0000,9,-999.0000,9,-999.0000,-999.000,-999.0000,9, -999.00
318M20040615,        P02,      39,          1,         31,         31,2,20040629,       2303,    29.9965,   148.6095,       6126,   236.4,  17.2568,  34.8006,2,  34.7997,2, 220.5000,2,   221.5,2,    3.22,2,    3.26,2,    0.01,2,    0.24,2,   2.449,2,   1.479,2,   0.120,2,  -999.0,9,  -999.0,9,-999.000,9,-999.0000,9, -999.00,9, -999.00,9,  -999.0,9,  -999.0,-999.000,9,-999.000, -999.00,9,  236.40,-999.0000,9,-999.0000,9,-999.0000,9,-999.0000,9,-999.0000,9,-999.0000,-999.000,-999.0000,9, -999.00
318M20040615,        P02,      39,          1,         30,         30,2,20040629,       2303,    29.9965,   148.6095,       6126,   286.4,  17.0867,  34.7954,2,  34.7952,2, 221.2000,2,   220.4,2,    3.58,2,    3.58,2,    0.01,2,    0.27,2,   2.447,2,   1.483,2,   0.113,2,  -999.0,9,  -999.0,9,-999.000,9,-999.0000,9, -999.00,9, -999.00,9,  -999.0,9,  -999.0,-999.000,9,-999.000, -999.00,9,  286.40,-999.0000,9,-999.0000,9,-999.0000,9,-999.0000,9,-999.0000,9,-999.0000,-999.000,-999.0000,9, -999.00
318M20040615,        P02,      39,          1,         29,         29,2,20040629,       2303,    29.9965,   148.6095,       6126,   336.8,  16.8319,  34.7723,2,  34.7712,2, 216.4000,2,   218.1,2,    4.12,2,    4.25,2,    0.01,2,    0.31,2,   2.480,2,   1.496,2,   0.102,2,  2025.3,2,  2280.9,2,-999.000,9,-999.0000,9, -999.00,9, -999.00,9,  -999.0,9,  -999.0,-999.000,9,-999.000, -999.00,9,  336.80,-999.0000,9,-999.0000,9,-999.0000,9,-999.0000,9,-999.0000,9,-999.0000,-999.000,-999.0000,9, -999.00
318M20040615,        P02,      39,          1,         28,         28,2,20040629,       2303,    29.9965,   148.6095,       6126,   386.1,  16.1675,  34.6901,2,  34.6898,2, 204.7000,2,   205.9,2,    5.92,2,    6.29,2,    0.01,2,    0.45,2,   2.552,2,   1.489,2,   0.043,2,  -999.0,9,  -999.0,9,-999.000,9,-999.0000,9, -999.00,9, -999.00,9,  -999.0,9,  -999.0,-999.000,9,-999.000, -999.00,9,  386.10,-999.0000,9,-999.0000,9,-999.0000,9,-999.0000,9,-999.0000,9,-999.0000,-999.000,-999.0000,9, -999.00
318M20040615,        P02,      39,          1,         27,         27,2,20040629,       2303,    29.9965,   148.6095,       6126,   437.0,  15.1847,  34.6074,2,  34.6079,2, 195.8000,2,   194.8,2,    8.99,2,    8.79,2,    0.00,2,    0.63,2,   2.589,2,   1.494,2,   0.019,2,  -999.0,9,  -999.0,9,-999.000,9,-999.0000,9, -999.00,9, -999.00,9,  -999.0,9,  -999.0,-999.000,9,-999.000, -999.00,9,  437.00,-999.0000,9,-999.0000,9,-999.0000,9,-999.0000,9,-999.0000,9,-999.0000,-999.000,-999.0000,9, -999.00
318M20040615,        P02,      39,          1,         26,         26,2,20040629,       2303,    29.9965,   148.6095,       6126,   491.6,  13.9627,  34.5155,2,  34.5156,2, 194.3000,2,   194.0,2,   12.06,2,   10.82,2,    0.00,2,    0.77,2,   2.676,2,   1.513,2,   0.032,2,  2076.0,2,  2271.2,2,-999.000,9,-999.0000,9, -999.00,9, -999.00,9,  -999.0,9,  -999.0,-999.000,9,-999.000, -999.00,9,  491.60,-999.0000,9,-999.0000,9,-999.0000,9,-999.0000,9,-999.0000,9,-999.0000,-999.000,-999.0000,9, -999.00
318M20040615,        P02,      39,          1,         25,         25,2,20040629,       2303,    29.9965,   148.6095,       6126,   577.8,  11.6848,  34.3542,2,  34.3550,2, 190.1000,2,   187.9,2,   20.02,2,   15.07,2,    0.00,2,    1.09,2,   2.683,2,   1.462,2,   0.062,2,  -999.0,9,  -999.0,9,-999.000,9,-999.0000,9, -999.00,9, -999.00,9,  -999.0,9,  -999.0,-999.000,9,-999.000, -999.00,9,  577.80,-999.0000,9,-999.0000,9,-999.0000,9,-999.0000,9,-999.0000,9,-999.0000,-999.000,-999.0000,9, -999.00
318M20040615,        P02,      39,          1,         24,         24,2,20040629,       2303,    29.9965,   148.6095,       6126,   677.8,   9.2517,  34.1871,2,  34.1871,2, 166.2000,2,   167.4,2,   33.19,2,   21.09,2,    0.00,2,    1.54,2,   2.407,2,   1.284,2,   0.065,2,  -999.0,9,  -999.0,9,-999.000,9,-999.0000,9, -999.00,9, -999.00,9,  -999.0,9,  -999.0,-999.000,9,-999.000, -999.00,9,  677.80,-999.0000,9,-999.0000,9,-999.0000,9,-999.0000,9,-999.0000,9,-999.0000,-999.000,-999.0000,9, -999.00
318M20040615,        P02,      39,          1,         23,         23,2,20040629,       2303,    29.9965,   148.6095,       6126,   777.9,   6.9149,  34.0586,2,  34.0593,2, 136.8000,2,   143.7,2,   51.76,2,   27.39,2,    0.00,2,    2.01,2,   2.139,2,   1.116,2,   0.080,2,  2200.4,2,  2284.3,2,-999.000,9,-999.0000,9, -999.00,9, -999.00,9,  -999.0,9,  -999.0,-999.000,9,-999.000, -999.00,9,  777.90,-999.0000,9,-999.0000,9,-999.0000,9,-999.0000,9,-999.0000,9,-999.0000,-999.000,-999.0000,9, -999.00
318M20040615,        P02,      39,          1,         22,         22,2,20040629,       2303,    29.9965,   148.6095,       6126,   878.6,   5.3693,  34.0876,2,  34.0863,2,  95.4000,2,    95.8,2,   76.09,2,   34.46,2,    0.00,2,    2.53,2,   1.309,2,   0.663,2,   0.051,2,  -999.0,9,  -999.0,9,-999.000,9,-999.0000,9, -999.00,9, -999.00,9,  -999.0,9,  -999.0,-999.000,9,-999.000, -999.00,9,  878.60,-999.0000,9,-999.0000,9,-999.0000,9,-999.0000,9,-999.0000,9,-999.0000,-999.000,-999.0000,9, -999.00
318M20040615,        P02,      39,          1,         21,         21,2,20040629,       2303,    29.9965,   148.6095,       6126,   978.9,   4.5955,  34.1718,2,  34.1681,2,  65.1000,2,    66.8,2,   94.52,2,   38.44,2,    0.00,2,    2.79,2,   0.743,6,   0.374,6,   0.021,6,  2299.5,2,  2324.4,2,-999.000,9,-999.0000,9, -999.00,9, -999.00,9,  -999.0,9,  -999.0,-999.000,9,-999.000, -999.00,9,  978.90,-999.0000,9,-999.0000,9,-999.0000,9,-999.0000,9,-999.0000,9,-999.0000,-999.000,-999.0000,9, -999.00
318M20040615,        P02,      39,          1,         20,         20,2,20040629,       2303,    29.9965,   148.6095,       6126,  1078.8,   4.0426,  34.2491,2,  34.2480,2,  48.0000,2,    49.3,2,  109.74,2,   40.84,2,    0.00,2,    2.94,2,   0.405,2,   0.202,2,   0.012,2,  -999.0,9,  -999.0,9,-999.000,9,-999.0000,9, -999.00,9, -999.00,9,  -999.0,9,  -999.0,-999.000,9,-999.000, -999.00,9, 1078.80,-999.0000,9,-999.0000,9,-999.0000,9,-999.0000,9,-999.0000,9,-999.0000,-999.000,-999.0000,9, -999.00
318M20040615,        P02,      39,          1,         19,         19,2,20040629,       2303,    29.9965,   148.6095,       6126,  1184.9,   3.6126,  34.3236,2,  34.3236,2,  39.3000,2,    39.0,2,  122.45,2,   42.30,2,    0.00,2,    3.04,2,   0.181,2,   0.087,2,   0.000,2,  2347.2,2,  2357.7,2,-999.000,9,-999.0000,9, -999.00,9, -999.00,9,  -999.0,9,  -999.0,-999.000,9,-999.000, -999.00,9, 1184.90,-999.0000,9,-999.0000,9,-999.0000,9,-999.0000,9,-999.0000,9,-999.0000,-999.000,-999.0000,9, -999.00
318M20040615,        P02,      39,          1,         18,         18,2,20040629,       2303,    29.9965,   148.6095,       6126,  1285.7,   3.2507,  34.3925,2,  34.3913,2,  37.4000,2,    37.3,2,  132.31,2,   42.80,2,    0.00,2,    3.06,2,   0.078,2,   0.037,2,   0.003,2,  2360.1,2,  2370.8,2,-999.000,9,-999.0000,9, -999.00,9, -999.00,9,  -999.0,9,  -999.0,-999.000,9,-999.000, -999.00,9, 1285.70,-999.0000,9,-999.0000,9,-999.0000,9,-999.0000,9,-999.0000,9,-999.0000,-999.000,-999.0000,9, -999.00
318M20040615,        P02,      39,          1,         17,         17,2,20040629,       2303,    29.9965,   148.6095,       6126,  1386.7,   2.9581,  34.4328,2,  34.4319,2,  38.0000,2,    38.1,2,  140.73,2,   42.91,2,    0.00,2,    3.08,2,   0.052,2,   0.027,2,   0.002,2,  2368.5,2,  2380.1,2,-999.000,9,-999.0000,9, -999.00,9, -999.00,9,  -999.0,9,  -999.0,-999.000,9,-999.000, -999.00,9, 1386.70,-999.0000,9,-999.0000,9,-999.0000,9,-999.0000,9,-999.0000,9,-999.0000,-999.000,-999.0000,9, -999.00
318M20040615,        P02,      39,          1,         16,         16,2,20040629,       2303,    29.9965,   148.6095,       6126,  1488.5,   2.7670,  34.4781,2,  34.4784,2,  43.1000,2,    44.2,2,  144.94,2,   42.74,2,    0.00,2,    3.05,2,   0.021,2,   0.013,2,   0.002,2,  -999.0,9,  -999.0,9,-999.000,9,-999.0000,9, -999.00,9, -999.00,9,  -999.0,9,  -999.0,-999.000,9,-999.000, -999.00,9, 1488.50,-999.0000,9,-999.0000,9,-999.0000,9,-999.0000,9,-999.0000,9,-999.0000,-999.000,-999.0000,9, -999.00
318M20040615,        P02,      39,          1,         15,         15,2,20040629,       2303,    29.9965,   148.6095,       6126,  1588.4,   2.5867,  34.5000,2,  34.4990,2,  46.4000,2,    45.8,2,  149.89,2,   42.67,2,    0.00,2,    3.05,2,   0.015,2,   0.009,2,   0.001,2,  -999.0,9,  2393.6,2,-999.000,9,-999.0000,9, -999.00,9, -999.00,9,  -999.0,9,  -999.0,-999.000,9,-999.000, -999.00,9, 1588.40,-999.0000,9,-999.0000,9,-999.0000,9,-999.0000,9,-999.0000,9,-999.0000,-999.000,-999.0000,9, -999.00
318M20040615,        P02,      39,          1,         14,         14,2,20040629,       2303,    29.9965,   148.6095,       6126,  1790.4,   2.2719,  34.5455,2,  34.5442,2,  53.3000,2,    54.6,2,  157.65,2,   42.33,2,    0.00,2,    3.01,2,   0.007,2,   0.004,2,   0.003,2,  -999.0,9,  -999.0,9,-999.000,9,-999.0000,9, -999.00,9, -999.00,9,  -999.0,9,  -999.0,-999.000,9,-999.000, -999.00,9, 1790.40,-999.0000,9,-999.0000,9,-999.0000,9,-999.0000,9,-999.0000,9,-999.0000,-999.000,-999.0000,9, -999.00
318M20040615,        P02,      39,          1,         13,         13,2,20040629,       2303,    29.9965,   148.6095,       6126,  1998.0,   2.0297,  34.5854,2,  34.5844,2,  67.4000,2,    70.6,2,  161.16,2,   41.32,2,    0.00,2,    2.92,2,   0.002,2,   0.002,2,   0.002,2,  -999.0,9,  2409.0,2,-999.000,9,-999.0000,9, -999.00,9, -999.00,9,  -999.0,9,  -999.0,-999.000,9,-999.000, -999.00,9, 1998.00,-999.0000,9,-999.0000,9,-999.0000,9,-999.0000,9,-999.0000,9,-999.0000,-999.000,-999.0000,9, -999.00
318M20040615,        P02,      39,          1,         12,         12,2,20040629,       2303,    29.9965,   148.6095,       6126,  2199.4,   1.8896,  34.6100,2,  34.6078,2,  85.0000,2,    85.9,2,  160.61,2,   40.36,2,    0.00,2,    2.86,2,   0.004,2,   0.003,2,   0.002,2,  -999.0,9,  -999.0,9,-999.000,9,-999.0000,9, -999.00,9, -999.00,9,  -999.0,9,  -999.0,-999.000,9,-999.000, -999.00,9, 2199.40,-999.0000,9,-999.0000,9,-999.0000,9,-999.0000,9,-999.0000,9,-999.0000,-999.000,-999.0000,9, -999.00
318M20040615,        P02,      39,          1,         11,         11,2,20040629,       2303,    29.9965,   148.6095,       6126,  2452.9,   1.7652,  34.6331,2,  34.6320,2, 105.8000,2,   106.3,2,  156.16,2,   38.96,2,    0.00,2,    2.76,2,   0.002,2,   0.001,2,   0.002,2,  -999.0,9,  2421.6,3,-999.000,9,-999.0000,9, -999.00,9, -999.00,9,  -999.0,9,  -999.0,-999.000,9,-999.000, -999.00,9, 2452.90,-999.0000,9,-999.0000,9,-999.0000,9,-999.0000,9,-999.0000,9,-999.0000,-999.000,-999.0000,9, -999.00
318M20040615,        P02,      39,          1,         10,         10,2,20040629,       2303,    29.9965,   148.6095,       6126,  2706.6,   1.6777,  34.6469,2,  34.6457,2, 111.6000,2,   116.7,2,  155.04,2,   38.34,2,    0.00,2,    2.71,2,   0.004,2,   0.002,2,   0.002,2,  -999.0,9,  -999.0,9,-999.000,9,-999.0000,9, -999.00,9, -999.00,9,  -999.0,9,  -999.0,-999.000,9,-999.000, -999.00,9, 2706.60,-999.0000,9,-999.0000,9,-999.0000,9,-999.0000,9,-999.0000,9,-999.0000,-999.000,-999.0000,9, -999.00
318M20040615,        P02,      39,          1,          9,          9,2,20040629,       2303,    29.9965,   148.6095,       6126,  2966.0,   1.6274,  34.6571,2,  34.6559,2, 125.5000,2,   126.2,2,  152.65,2,   37.68,2,    0.00,2,    2.66,2,   0.002,2,   0.002,2,   0.004,2,  -999.0,9,  2415.1,2,-999.000,9,-999.0000,9, -999.00,9, -999.00,9,  -999.0,9,  -999.0,-999.000,9,-999.000, -999.00,9, 2966.00,-999.0000,9,-999.0000,9,-999.0000,9,-999.0000,9,-999.0000,9,-999.0000,-999.000,-999.0000,9, -999.00
318M20040615,        P02,      39,          1,          8,          8,2,20040629,       2303,    29.9965,   148.6095,       6126,  3300.2,   1.5696,  34.6665,2,  34.6657,2, 133.7000,2,   133.5,2,  152.27,2,   37.17,2,    0.00,2,    2.62,2,   0.003,2,   0.001,2,   0.001,2,  -999.0,9,  2415.3,2,-999.000,9,-999.0000,9, -999.00,9, -999.00,9,  -999.0,9,  -999.0,-999.000,9,-999.000, -999.00,9, 3300.20,-999.0000,9,-999.0000,9,-999.0000,9,-999.0000,9,-999.0000,9,-999.0000,-999.000,-999.0000,9, -999.00
318M20040615,        P02,      39,          1,          7,          7,2,20040629,       2303,    29.9965,   148.6095,       6126,  3713.6,   1.5241,  34.6756,2,  34.6756,2, 142.8000,2,   143.4,2,  150.24,2,   36.56,2,    0.00,2,    2.57,2,   0.003,2,   0.001,2,   0.005,2,  -999.0,9,  2415.8,2,-999.000,9,-999.0000,9, -999.00,9, -999.00,9,  -999.0,9,  -999.0,-999.000,9,-999.000, -999.00,9, 3713.60,-999.0000,9,-999.0000,9,-999.0000,9,-999.0000,9,-999.0000,9,-999.0000,-999.000,-999.0000,9, -999.00
318M20040615,        P02,      39,          1,          6,          6,2,20040629,       2303,    29.9965,   148.6095,       6126,  4121.4,   1.4992,  34.6819,2,  34.6814,2, 149.2000,2,   149.6,2,  148.76,2,   36.11,2,    0.00,2,    2.54,2,   0.002,2,   0.001,2,   0.004,2,  -999.0,9,  2414.2,2,-999.000,9,-999.0000,9, -999.00,9, -999.00,9,  -999.0,9,  -999.0,-999.000,9,-999.000, -999.00,9, 4121.40,-999.0000,9,-999.0000,9,-999.0000,9,-999.0000,9,-999.0000,9,-999.0000,-999.000,-999.0000,9, -999.00
318M20040615,        P02,      39,          1,          5,          5,2,20040629,       2303,    29.9965,   148.6095,       6126,  4530.0,   1.4945,  34.6865,2,  34.6856,2, 155.3000,2,   155.8,2,  146.73,2,   35.73,2,    0.00,2,    2.51,2,   0.002,2,   0.001,2,   0.003,2,  -999.0,9,  2412.9,2,-999.000,9,-999.0000,9, -999.00,9, -999.00,9,  -999.0,9,  -999.0,-999.000,9,-999.000, -999.00,9, 4530.00,-999.0000,9,-999.0000,9,-999.0000,9,-999.0000,9,-999.0000,9,-999.0000,-999.000,-999.0000,9, -999.00
318M20040615,        P02,      39,          1,          4,          4,2,20040629,       2303,    29.9965,   148.6095,       6126,  4938.6,   1.5128,  34.6894,2,  34.6954,2, 159.6000,3,   159.9,2,  144.53,2,   35.40,2,    0.00,2,    2.48,2,   0.002,2,   0.001,2,   0.003,2,  -999.0,9,  2409.8,2,-999.000,9,-999.0000,9, -999.00,9, -999.00,9,  -999.0,9,  -999.0,-999.000,9,-999.000, -999.00,9, 4938.60,-999.0000,9,-999.0000,9,-999.0000,9,-999.0000,9,-999.0000,9,-999.0000,-999.000,-999.0000,9, -999.00
318M20040615,        P02,      39,          1,          3,          3,2,20040629,       2303,    29.9965,   148.6095,       6126,  5358.6,   1.5382,  34.6920,2,  34.6911,2, 164.4000,2,   164.7,2,  141.06,2,   35.01,2,    0.00,2,    2.45,2,   0.002,2,   0.001,2,   0.002,2,  -999.0,9,  2405.5,2,-999.000,9,-999.0000,9, -999.00,9, -999.00,9,  -999.0,9,  -999.0,-999.000,9,-999.000, -999.00,9, 5358.60,-999.0000,9,-999.0000,9,-999.0000,9,-999.0000,9,-999.0000,9,-999.0000,-999.000,-999.0000,9, -999.00
318M20040615,        P02,      39,          1,          2,          2,2,20040629,       2303,    29.9965,   148.6095,       6126,  5923.6,   1.5902,  34.6941,2,  34.6942,2, 168.6000,2,   169.0,2,  137.94,2,   34.68,2,    0.00,2,    2.43,2,   0.014,4,   0.022,4,   0.003,4,  -999.0,9,  2404.7,2,-999.000,9,-999.0000,9, -999.00,9, -999.00,9,  -999.0,9,  -999.0,-999.000,9,-999.000, -999.00,9, 5923.60,-999.0000,9,-999.0000,9,-999.0000,9,-999.0000,9,-999.0000,9,-999.0000,-999.000,-999.0000,9, -999.00
318M20040615,        P02,      39,          1,          1,          1,2,20040629,       2303,    29.9965,   148.6095,       6126,  6108.8,   1.6106,  34.6944,2,  34.6940,2, 169.5000,2,   169.8,2,  137.38,2,   34.62,2,    0.00,2,    2.42,2,-999.000,5,-999.000,5,-999.000,5,  -999.0,9,  2405.8,6,-999.000,9,-999.0000,9, -999.00,9, -999.00,9,  -999.0,9,  -999.0,-999.000,9,-999.000, -999.00,9, 6108.80,-999.0000,9,-999.0000,9,-999.0000,9,-999.0000,9,-999.0000,9,-999.0000,-999.000,-999.0000,9, -999.00