BOTTLE,20131027SIOCCHRJL
EXPOCODE,SECT_ID,STNNBR,CASTNO,SAMPNO,BTLNBR,BTLNBR_FLAG_W,DATE,TIME,LATITUDE,LONGITUDE,DEPTH,CTDPRS,CTDTMP,CTDSAL,CTDSAL_FLAG_W,SALNTY,SALNTY_FLAG_W,CTDOXY,CTDOXY_FLAG_W,OXYGEN,OXYGEN_FLAG_W,SILCAT,SILCAT_FLAG_W,NITRAT,NITRAT_FLAG_W,NITRIT,NITRIT_FLAG_W,PHSPHT,PHSPHT_FLAG_W,CFC-11,CFC-11_FLAG_W,CFC-12,CFC-12_FLAG_W,CFC113,CFC113_FLAG_W,TCARBN,TCARBN_FLAG_W,ALKALI,ALKALI_FLAG_W,TRITUM,TRITUM_FLAG_W,HELIUM,HELIUM_FLAG_W,DELHE3,DELHE3_FLAG_W,DELC13,DELC13_FLAG_W,DELC14,DELC14_FLAG_W,C14ERR,NEON,NEON_FLAG_W,NEONER,DOC,DOC_FLAG_W,CTDRAW,CDOM380,CDOM380_FLAG_W,CDOM325,CDOM325_FLAG_W,CDOMSL,CDOMSL_FLAG_W,CDOM340,CDOM340_FLAG_W,CDOMSN,CDOMSN_FLAG_W,HELIER,TRITER,CDOM412,CDOM412_FLAG_W,DELHER
,,,,,,,,,,,METERS,DBAR,ITS-90,PSS-78,,PSS-78,,UMOL/KG,,UMOL/KG,,UMOL/KG,,UMOL/KG,,UMOL/KG,,UMOL/KG,,PMOL/KG,,PMOL/KG,,PMOL/KG,,UMOL/KG,,UMOL/KG,,TU,,NMOL/KG,,PERCNT,,/MILLE,,/MILLE,,/MILLE,NMOL/KG,,NMOL/KG,UMOL/KG,,DBAR,1/M,,1/M,,1/NM,,1/M,,1/NM,,NMOL/KG,TU,1/M,,PERCNT
318M20040615,        P02,     181,          1,         32,         32,2,20040825,       1851,    32.0232,   -119.721,       2250,     7.6,  18.0521,  33.2212,2,  33.2250,2, 250.0000,2,   248.9,2,    1.16,2,    0.14,2,    0.00,2,    0.27,2,   2.610,2,   1.585,2,   0.351,2,  -999.0,9,  -999.0,9,-999.000,9,-999.0000,9, -999.00,9, -999.00,9,  -999.0,9,  -999.0,-999.000,9,-999.000, -999.00,9,    7.60,-999.0000,9,-999.0000,9,-999.0000,9,-999.0000,9,-999.0000,9,-999.0000,-999.000,-999.0000,9, -999.00
318M20040615,        P02,     181,          1,         31,         31,2,20040825,       1851,    32.0232,   -119.721,       2250,    34.4,  13.0161,  33.0878,2,  33.0847,2, 253.2000,2,   251.9,2,    3.76,2,    4.99,2,    0.22,2,    0.69,2,-999.000,9,-999.000,9,-999.000,9,  -999.0,9,  -999.0,9,-999.000,9,-999.0000,9, -999.00,9, -999.00,9,  -999.0,9,  -999.0,-999.000,9,-999.000, -999.00,9,   34.40,-999.0000,9,-999.0000,9,-999.0000,9,-999.0000,9,-999.0000,9,-999.0000,-999.000,-999.0000,9, -999.00
318M20040615,        P02,     181,          1,         30,         30,2,20040825,       1851,    32.0232,   -119.721,       2250,    69.1,  10.0593,  33.4019,2,  33.4124,2, 184.6000,2,   187.1,2,   15.58,2,   18.35,2,    0.02,2,    1.48,2,-999.000,9,-999.000,9,-999.000,9,  -999.0,9,  -999.0,9,-999.000,9,-999.0000,9, -999.00,9, -999.00,9,  -999.0,9,  -999.0,-999.000,9,-999.000, -999.00,9,   69.10,-999.0000,9,-999.0000,9,-999.0000,9,-999.0000,9,-999.0000,9,-999.0000,-999.000,-999.0000,9, -999.00
318M20040615,        P02,     181,          1,         29,         29,2,20040825,       1851,    32.0232,   -119.721,       2250,    94.2,   9.4514,  33.6863,2,  33.7063,2, 132.6000,2,   136.4,2,   23.62,2,   23.77,2,    0.01,2,    1.82,2,   3.266,6,   1.810,6,   0.350,6,  -999.0,9,  -999.0,9,-999.000,9,-999.0000,9, -999.00,9, -999.00,9,  -999.0,9,  -999.0,-999.000,9,-999.000, -999.00,9,   94.20,-999.0000,9,-999.0000,9,-999.0000,9,-999.0000,9,-999.0000,9,-999.0000,-999.000,-999.0000,9, -999.00
318M20040615,        P02,     181,          1,         28,         28,2,20040825,       1851,    32.0232,   -119.721,       2250,   118.6,   9.1441,  33.8831,2,  33.8841,2, 119.5000,2,   119.0,2,   27.83,2,   25.59,2,    0.01,2,    1.94,2,-999.000,9,-999.000,9,-999.000,9,  -999.0,9,  -999.0,9,-999.000,9,-999.0000,9, -999.00,9, -999.00,9,  -999.0,9,  -999.0,-999.000,9,-999.000, -999.00,9,  118.60,-999.0000,9,-999.0000,9,-999.0000,9,-999.0000,9,-999.0000,9,-999.0000,-999.000,-999.0000,9, -999.00
318M20040615,        P02,     181,          1,         27,         27,2,20040825,       1851,    32.0232,   -119.721,       2250,   144.0,   9.0202,  34.0089,2,  34.0077,2, 107.5000,2,   104.8,2,   30.84,2,   26.78,2,    0.01,2,    2.05,2,   2.675,2,   1.443,2,   0.282,2,  -999.0,9,  -999.0,9,-999.000,9,-999.0000,9, -999.00,9, -999.00,9,  -999.0,9,  -999.0,-999.000,9,-999.000, -999.00,9,  144.00,-999.0000,9,-999.0000,9,-999.0000,9,-999.0000,9,-999.0000,9,-999.0000,-999.000,-999.0000,9, -999.00
318M20040615,        P02,     181,          1,         26,         26,2,20040825,       1851,    32.0232,   -119.721,       2250,   168.2,   8.7040,  34.0460,2,  34.0432,2,  97.0000,2,    99.8,2,   33.65,2,   28.04,2,    0.01,2,    2.10,2,-999.000,9,-999.000,9,-999.000,9,  -999.0,9,  -999.0,9,-999.000,9,-999.0000,9, -999.00,9, -999.00,9,  -999.0,9,  -999.0,-999.000,9,-999.000, -999.00,9,  168.20,-999.0000,9,-999.0000,9,-999.0000,9,-999.0000,9,-999.0000,9,-999.0000,-999.000,-999.0000,9, -999.00
318M20040615,        P02,     181,          1,         25,         25,2,20040825,       1851,    32.0232,   -119.721,       2250,   198.1,   8.2972,  34.1276,2,  34.1243,2,  84.4000,2,    81.7,2,   39.69,2,   30.15,2,    0.01,2,    2.29,2,   2.007,2,   1.063,2,   0.203,2,  -999.0,9,  -999.0,9,-999.000,9,-999.0000,9, -999.00,9, -999.00,9,  -999.0,9,  -999.0,-999.000,9,-999.000, -999.00,9,  198.10,-999.0000,9,-999.0000,9,-999.0000,9,-999.0000,9,-999.0000,9,-999.0000,-999.000,-999.0000,9, -999.00
318M20040615,        P02,     181,          1,         24,         24,2,20040825,       1851,    32.0232,   -119.721,       2250,   223.6,   8.0864,  34.1480,2,  34.1476,2,  69.7000,2,    71.7,2,   42.72,2,   31.30,2,    0.01,2,    2.39,2,-999.000,9,-999.000,9,-999.000,9,  -999.0,9,  -999.0,9,-999.000,9,-999.0000,9, -999.00,9, -999.00,9,  -999.0,9,  -999.0,-999.000,9,-999.000, -999.00,9,  223.60,-999.0000,9,-999.0000,9,-999.0000,9,-999.0000,9,-999.0000,9,-999.0000,-999.000,-999.0000,9, -999.00
318M20040615,        P02,     181,          1,         23,         23,2,20040825,       1851,    32.0232,   -119.721,       2250,   273.5,   7.5549,  34.2084,2,  34.2113,2,  51.2000,2,    45.7,2,   52.41,2,   33.95,2,    0.00,2,    2.66,2,   1.057,2,   0.544,2,   0.091,2,  -999.0,9,  -999.0,9,-999.000,9,-999.0000,9, -999.00,9, -999.00,9,  -999.0,9,  -999.0,-999.000,9,-999.000, -999.00,9,  273.50,-999.0000,9,-999.0000,9,-999.0000,9,-999.0000,9,-999.0000,9,-999.0000,-999.000,-999.0000,9, -999.00
318M20040615,        P02,     181,          1,         22,         22,2,20040825,       1851,    32.0232,   -119.721,       2250,   323.1,   7.1638,  34.2287,2,  34.2277,2,  38.6000,2,    38.5,2,   57.46,2,   35.07,2,    0.00,2,    2.76,2,-999.000,9,-999.000,9,-999.000,9,  -999.0,9,  -999.0,9,-999.000,9,-999.0000,9, -999.00,9, -999.00,9,  -999.0,9,  -999.0,-999.000,9,-999.000, -999.00,9,  323.10,-999.0000,9,-999.0000,9,-999.0000,9,-999.0000,9,-999.0000,9,-999.0000,-999.000,-999.0000,9, -999.00
318M20040615,        P02,     181,          1,         21,         21,2,20040825,       1851,    32.0232,   -119.721,       2250,   373.6,   6.8586,  34.2766,2,  34.2767,2,  26.2000,2,    23.6,2,   64.36,2,   36.68,2,    0.00,2,    2.91,2,   0.486,2,   0.254,2,   0.082,2,  -999.0,9,  -999.0,9,-999.000,9,-999.0000,9, -999.00,9, -999.00,9,  -999.0,9,  -999.0,-999.000,9,-999.000, -999.00,9,  373.60,-999.0000,9,-999.0000,9,-999.0000,9,-999.0000,9,-999.0000,9,-999.0000,-999.000,-999.0000,9, -999.00
318M20040615,        P02,     181,          1,         20,         20,2,20040825,       1851,    32.0232,   -119.721,       2250,   423.3,   6.5793,  34.2957,2,  34.2966,2,  20.6000,2,    18.6,2,   69.03,2,   37.53,2,    0.00,2,    2.98,2,-999.000,9,-999.000,9,-999.000,9,  -999.0,9,  -999.0,9,-999.000,9,-999.0000,9, -999.00,9, -999.00,9,  -999.0,9,  -999.0,-999.000,9,-999.000, -999.00,9,  423.30,-999.0000,9,-999.0000,9,-999.0000,9,-999.0000,9,-999.0000,9,-999.0000,-999.000,-999.0000,9, -999.00
318M20040615,        P02,     181,          1,         19,         19,2,20040825,       1851,    32.0232,   -119.721,       2250,   473.2,   6.3251,  34.3060,2,  34.3063,2,  16.3000,2,    15.9,2,   72.89,2,   38.39,2,    0.00,2,    3.02,2,   0.271,2,   0.137,2,   0.000,2,  -999.0,9,  -999.0,9,-999.000,9,-999.0000,9, -999.00,9, -999.00,9,  -999.0,9,  -999.0,-999.000,9,-999.000, -999.00,9,  473.20,-999.0000,9,-999.0000,9,-999.0000,9,-999.0000,9,-999.0000,9,-999.0000,-999.000,-999.0000,9, -999.00
318M20040615,        P02,     181,          1,         18,         18,2,20040825,       1851,    32.0232,   -119.721,       2250,   543.0,   5.9764,  34.3448,2,  34.3450,2,  12.2000,2,    11.1,2,   79.80,2,   39.74,2,    0.00,2,    3.11,2,-999.000,9,-999.000,9,-999.000,9,  -999.0,9,  -999.0,9,-999.000,9,-999.0000,9, -999.00,9, -999.00,9,  -999.0,9,  -999.0,-999.000,9,-999.000, -999.00,9,  543.00,-999.0000,9,-999.0000,9,-999.0000,9,-999.0000,9,-999.0000,9,-999.0000,-999.000,-999.0000,9, -999.00
318M20040615,        P02,     181,          1,         17,         17,2,20040825,       1851,    32.0232,   -119.721,       2250,   647.9,   5.4700,  34.3778,2,  34.3773,2,  10.4000,2,     9.9,2,   88.78,2,   41.04,2,    0.00,2,    3.17,2,   0.129,2,   0.077,2,   0.000,2,  -999.0,9,  -999.0,9,-999.000,9,-999.0000,9, -999.00,9, -999.00,9,  -999.0,9,  -999.0,-999.000,9,-999.000, -999.00,9,  647.90,-999.0000,9,-999.0000,9,-999.0000,9,-999.0000,9,-999.0000,9,-999.0000,-999.000,-999.0000,9, -999.00
318M20040615,        P02,     181,          1,         16,         16,2,20040825,       1851,    32.0232,   -119.721,       2250,   748.0,   4.9834,  34.4141,2,  34.4126,2,  11.4000,2,    11.8,2,   97.16,2,   42.45,2,    0.00,2,    3.19,2,-999.000,9,-999.000,9,-999.000,9,  -999.0,9,  -999.0,9,-999.000,9,-999.0000,9, -999.00,9, -999.00,9,  -999.0,9,  -999.0,-999.000,9,-999.000, -999.00,9,  748.00,-999.0000,9,-999.0000,9,-999.0000,9,-999.0000,9,-999.0000,9,-999.0000,-999.000,-999.0000,9, -999.00
318M20040615,        P02,     181,          1,         15,         15,2,20040825,       1851,    32.0232,   -119.721,       2250,   847.9,   4.5853,  34.4405,2,  34.4413,2,  14.8000,2,    14.9,2,  105.36,2,   43.00,2,    0.00,2,    3.21,2,   0.050,2,   0.035,2,   0.000,2,  -999.0,9,  -999.0,9,-999.000,9,-999.0000,9, -999.00,9, -999.00,9,  -999.0,9,  -999.0,-999.000,9,-999.000, -999.00,9,  847.90,-999.0000,9,-999.0000,9,-999.0000,9,-999.0000,9,-999.0000,9,-999.0000,-999.000,-999.0000,9, -999.00
318M20040615,        P02,     181,          1,         14,         14,2,20040825,       1851,    32.0232,   -119.721,       2250,   947.9,   4.3166,  34.4584,2,  34.4581,2,  17.5000,2,    17.4,2,  111.32,2,   42.99,2,    0.00,2,    3.21,2,-999.000,9,-999.000,9,-999.000,9,  -999.0,9,  -999.0,9,-999.000,9,-999.0000,9, -999.00,9, -999.00,9,  -999.0,9,  -999.0,-999.000,9,-999.000, -999.00,9,  947.90,-999.0000,9,-999.0000,9,-999.0000,9,-999.0000,9,-999.0000,9,-999.0000,-999.000,-999.0000,9, -999.00
318M20040615,        P02,     181,          1,         13,         13,2,20040825,       1851,    32.0232,   -119.721,       2250,  1053.6,   4.0473,  34.4809,2,  34.4817,2,  21.7000,2,    21.7,2,  116.05,2,   43.32,2,    0.00,2,    3.19,2,   0.034,2,   0.025,2,   0.000,2,  -999.0,9,  -999.0,9,-999.000,9,-999.0000,9, -999.00,9, -999.00,9,  -999.0,9,  -999.0,-999.000,9,-999.000, -999.00,9, 1053.60,-999.0000,9,-999.0000,9,-999.0000,9,-999.0000,9,-999.0000,9,-999.0000,-999.000,-999.0000,9, -999.00
318M20040615,        P02,     181,          1,         12,         12,2,20040825,       1851,    32.0232,   -119.721,       2250,  1153.6,   3.8062,  34.5017,2,  34.5011,2,  25.8000,2,    26.3,2,  121.00,2,   43.32,2,    0.00,2,    3.18,2,-999.000,9,-999.000,9,-999.000,9,  -999.0,9,  -999.0,9,-999.000,9,-999.0000,9, -999.00,9, -999.00,9,  -999.0,9,  -999.0,-999.000,9,-999.000, -999.00,9, 1153.60,-999.0000,9,-999.0000,9,-999.0000,9,-999.0000,9,-999.0000,9,-999.0000,-999.000,-999.0000,9, -999.00
318M20040615,        P02,     181,          1,         11,         11,2,20040825,       1851,    32.0232,   -119.721,       2250,  1254.2,   3.4299,  34.5203,2,  34.5207,2,  31.9000,2,    32.6,2,  130.50,2,   43.21,2,    0.00,2,    3.15,2,   0.034,2,   0.029,2,   0.000,2,  -999.0,9,  -999.0,9,-999.000,9,-999.0000,9, -999.00,9, -999.00,9,  -999.0,9,  -999.0,-999.000,9,-999.000, -999.00,9, 1254.20,-999.0000,9,-999.0000,9,-999.0000,9,-999.0000,9,-999.0000,9,-999.0000,-999.000,-999.0000,9, -999.00
318M20040615,        P02,     181,          1,         10,         10,2,20040825,       1851,    32.0232,   -119.721,       2250,  1354.2,   3.1227,  34.5437,2,  34.5439,2,  38.6000,2,    40.6,2,  138.37,2,   43.04,2,    0.00,2,    3.11,2,-999.000,9,-999.000,9,-999.000,9,  -999.0,9,  -999.0,9,-999.000,9,-999.0000,9, -999.00,9, -999.00,9,  -999.0,9,  -999.0,-999.000,9,-999.000, -999.00,9, 1354.20,-999.0000,9,-999.0000,9,-999.0000,9,-999.0000,9,-999.0000,9,-999.0000,-999.000,-999.0000,9, -999.00
318M20040615,        P02,     181,          1,          9,          9,2,20040825,       1851,    32.0232,   -119.721,       2250,  1454.6,   2.8650,  34.5598,2,  34.5600,2,  45.5000,2,    46.3,2,  144.18,2,   42.81,2,    0.00,2,    3.07,2,   0.020,2,   0.018,2,   0.000,2,  -999.0,9,  -999.0,9,-999.000,9,-999.0000,9, -999.00,9, -999.00,9,  -999.0,9,  -999.0,-999.000,9,-999.000, -999.00,9, 1454.60,-999.0000,9,-999.0000,9,-999.0000,9,-999.0000,9,-999.0000,9,-999.0000,-999.000,-999.0000,9, -999.00
318M20040615,        P02,     181,          1,         37,         37,2,20040825,       1851,    32.0232,   -119.721,       2250,  1454.8,   2.8619,  34.5603,2,-999.0000,9,  45.5000,9,  -999.0,9,  144.36,2,   42.81,2,    0.00,2,    3.07,2,-999.000,9,-999.000,9,-999.000,9,  -999.0,9,  -999.0,9,-999.000,9,-999.0000,9, -999.00,9, -999.00,9,  -999.0,9,  -999.0,-999.000,9,-999.000, -999.00,9, 1454.80,-999.0000,9,-999.0000,9,-999.0000,9,-999.0000,9,-999.0000,9,-999.0000,-999.000,-999.0000,9, -999.00
318M20040615,        P02,     181,          1,          7,          7,2,20040825,       1851,    32.0232,   -119.721,       2250,  1559.6,   2.7527,  34.5772,2,  34.5774,2,  52.0000,2,    52.7,2,  147.46,2,   42.20,2,    0.00,2,    3.05,2,   0.035,2,   0.042,2,   0.004,2,  -999.0,9,  -999.0,9,-999.000,9,-999.0000,9, -999.00,9, -999.00,9,  -999.0,9,  -999.0,-999.000,9,-999.000, -999.00,9, 1559.60,-999.0000,9,-999.0000,9,-999.0000,9,-999.0000,9,-999.0000,9,-999.0000,-999.000,-999.0000,9, -999.00
318M20040615,        P02,     181,          1,          6,          6,2,20040825,       1851,    32.0232,   -119.721,       2250,  1659.1,   2.6310,  34.5854,2,  34.5872,2,  55.9000,2,    57.3,2,  149.96,2,   41.99,2,    0.00,2,    3.02,2,   0.025,2,   0.028,2,   0.000,2,  2372.5,2,  -999.0,9,-999.000,9,-999.0000,9, -999.00,9, -999.00,9,  -999.0,9,  -999.0,-999.000,9,-999.000, -999.00,9, 1659.10,-999.0000,9,-999.0000,9,-999.0000,9,-999.0000,9,-999.0000,9,-999.0000,-999.000,-999.0000,9, -999.00
318M20040615,        P02,     181,          1,          5,          5,2,20040825,       1851,    32.0232,   -119.721,       2250,  1760.5,   2.3974,  34.6002,2,  34.6010,2,  64.5000,2,    65.3,2,  154.54,2,   41.50,2,    0.00,2,    2.97,2,   0.012,2,   0.014,2,   0.000,2,  2372.7,2,  -999.0,9,-999.000,9,-999.0000,9, -999.00,9, -999.00,9,  -999.0,9,  -999.0,-999.000,9,-999.000, -999.00,9, 1760.50,-999.0000,9,-999.0000,9,-999.0000,9,-999.0000,9,-999.0000,9,-999.0000,-999.000,-999.0000,9, -999.00
318M20040615,        P02,     181,          1,          4,          4,2,20040825,       1851,    32.0232,   -119.721,       2250,  1865.5,   2.2280,  34.6138,2,  34.6133,2,  73.5000,2,    74.2,2,  157.88,2,   40.96,2,    0.00,2,    2.92,2,   0.009,2,   0.011,2,   0.003,2,  2370.5,2,  -999.0,9,-999.000,9,-999.0000,9, -999.00,9, -999.00,9,  -999.0,9,  -999.0,-999.000,9,-999.000, -999.00,9, 1865.50,-999.0000,9,-999.0000,9,-999.0000,9,-999.0000,9,-999.0000,9,-999.0000,-999.000,-999.0000,9, -999.00
318M20040615,        P02,     181,          1,          3,          3,2,20040825,       1851,    32.0232,   -119.721,       2250,  1966.0,   2.0709,  34.6269,2,  34.6269,2,  81.5000,2,    82.8,2,  160.58,2,   40.73,2,    0.00,2,    2.89,2,   0.005,2,   0.004,2,   0.000,2,  2369.6,2,  -999.0,9,-999.000,9,-999.0000,9, -999.00,9, -999.00,9,  -999.0,9,  -999.0,-999.000,9,-999.000, -999.00,9, 1966.00,-999.0000,9,-999.0000,9,-999.0000,9,-999.0000,9,-999.0000,9,-999.0000,-999.000,-999.0000,9, -999.00
318M20040615,        P02,     181,          1,          2,          2,2,20040825,       1851,    32.0232,   -119.721,       2250,  2060.5,   1.9893,  34.6343,2,  34.6345,2,  87.1000,2,    87.9,2,  161.80,2,   40.62,2,    0.00,2,    2.85,2,   0.005,2,   0.004,2,   0.000,2,  2368.0,2,  -999.0,9,-999.000,9,-999.0000,9, -999.00,9, -999.00,9,  -999.0,9,  -999.0,-999.000,9,-999.000, -999.00,9, 2060.50,-999.0000,9,-999.0000,9,-999.0000,9,-999.0000,9,-999.0000,9,-999.0000,-999.000,-999.0000,9, -999.00
318M20040615,        P02,     181,          1,          1,          1,2,20040825,       1851,    32.0232,   -119.721,       2250,  2204.8,   1.9030,  34.6424,2,  34.6427,2,  94.6000,2,    94.0,2,  163.05,2,   40.24,2,    0.00,2,    2.82,2,   0.004,2,   0.005,2,   0.000,2,  2365.5,2,  -999.0,9,-999.000,9,-999.0000,9, -999.00,9, -999.00,9,  -999.0,9,  -999.0,-999.000,9,-999.000, -999.00,9, 2204.80,-999.0000,9,-999.0000,9,-999.0000,9,-999.0000,9,-999.0000,9,-999.0000,-999.000,-999.0000,9, -999.00