BOTTLE,20131027SIOCCHRJL
EXPOCODE,SECT_ID,STNNBR,CASTNO,SAMPNO,BTLNBR,BTLNBR_FLAG_W,DATE,TIME,LATITUDE,LONGITUDE,DEPTH,CTDPRS,CTDTMP,CTDSAL,CTDSAL_FLAG_W,SALNTY,SALNTY_FLAG_W,CTDOXY,CTDOXY_FLAG_W,OXYGEN,OXYGEN_FLAG_W,SILCAT,SILCAT_FLAG_W,NITRAT,NITRAT_FLAG_W,NITRIT,NITRIT_FLAG_W,PHSPHT,PHSPHT_FLAG_W,CFC-11,CFC-11_FLAG_W,CFC-12,CFC-12_FLAG_W,CFC113,CFC113_FLAG_W,TCARBN,TCARBN_FLAG_W,ALKALI,ALKALI_FLAG_W,TRITUM,TRITUM_FLAG_W,HELIUM,HELIUM_FLAG_W,DELHE3,DELHE3_FLAG_W,DELC13,DELC13_FLAG_W,DELC14,DELC14_FLAG_W,C14ERR,NEON,NEON_FLAG_W,NEONER,DOC,DOC_FLAG_W,CTDRAW,CDOM380,CDOM380_FLAG_W,CDOM325,CDOM325_FLAG_W,CDOMSL,CDOMSL_FLAG_W,CDOM340,CDOM340_FLAG_W,CDOMSN,CDOMSN_FLAG_W,HELIER,TRITER,CDOM412,CDOM412_FLAG_W,DELHER
,,,,,,,,,,,METERS,DBAR,ITS-90,PSS-78,,PSS-78,,UMOL/KG,,UMOL/KG,,UMOL/KG,,UMOL/KG,,UMOL/KG,,UMOL/KG,,PMOL/KG,,PMOL/KG,,PMOL/KG,,UMOL/KG,,UMOL/KG,,TU,,NMOL/KG,,PERCNT,,/MILLE,,/MILLE,,/MILLE,NMOL/KG,,NMOL/KG,UMOL/KG,,DBAR,1/M,,1/M,,1/NM,,1/M,,1/NM,,NMOL/KG,TU,1/M,,PERCNT
318M20040615,        P02,     130,          1,         36,         36,2,20040811,       0126,    30.0013,  -151.8983,       5421,    11.5,  24.7825,  35.1296,2,  35.1654,2, 214.2000,3,   214.1,2,    1.53,2,    0.12,2,    0.00,2,    0.02,2,   1.836,2,   1.107,2,   0.138,2,  2010.5,6,  2316.0,6,   0.830,2,   1.7432,2,   -1.37,2, -999.00,9,  -999.0,9,  -999.0,-999.000,9,-999.000, -999.00,9,   11.50,-999.0000,9,-999.0000,9,-999.0000,9,-999.0000,9,-999.0000,9,   0.0087,   0.009,-999.0000,9,    0.20
318M20040615,        P02,     130,          1,         35,         35,2,20040811,       0126,    30.0013,  -151.8983,       5421,    51.5,  19.3803,  34.4483,2,  34.4492,2, 248.8000,2,   249.4,2,    1.92,2,    0.12,2,    0.00,2,    0.04,2,   2.454,2,   1.427,2,   0.181,2,  -999.0,9,  -999.0,9,   0.901,2,   1.7530,2,   -1.24,2, -999.00,9,  -999.0,9,  -999.0,-999.000,9,-999.000, -999.00,9,   51.50,-999.0000,9,-999.0000,9,-999.0000,9,-999.0000,9,-999.0000,9,   0.0088,   0.010,-999.0000,9,    0.20
318M20040615,        P02,     130,          1,         34,         34,2,20040811,       0126,    30.0013,  -151.8983,       5421,   100.9,  18.0018,  34.5240,2,  34.5246,2, 235.7000,2,   237.3,2,    2.11,2,    0.12,2,    0.00,2,    0.08,2,   2.481,2,   1.442,2,   0.193,2,  -999.0,9,  2277.4,2,   0.927,2,   1.7537,2,   -1.12,2, -999.00,9,  -999.0,9,  -999.0,-999.000,9,-999.000, -999.00,9,  100.90,-999.0000,9,-999.0000,9,-999.0000,9,-999.0000,9,-999.0000,9,   0.0088,   0.010,-999.0000,9,    0.20
318M20040615,        P02,     130,          1,         33,         33,2,20040811,       0126,    30.0013,  -151.8983,       5421,   150.7,  17.2099,  34.5174,2,  34.5207,2, 227.8000,2,   226.6,2,    2.50,2,    0.58,2,    0.05,2,    0.15,2,   2.567,2,   1.502,2,   0.177,2,  -999.0,9,  -999.0,9,   0.858,2,   1.7559,2,   -1.04,2, -999.00,9,  -999.0,9,  -999.0,-999.000,9,-999.000, -999.00,9,  150.70,-999.0000,9,-999.0000,9,-999.0000,9,-999.0000,9,-999.0000,9,   0.0088,   0.010,-999.0000,9,    0.20
318M20040615,        P02,     130,          1,         32,         32,2,20040811,       0126,    30.0013,  -151.8983,       5421,   200.3,  15.0451,  34.2550,2,  34.2604,2, 227.9000,2,   225.8,2,    4.07,2,    3.03,2,    0.01,2,    0.32,2,   2.909,2,   1.561,2,   0.152,2,  -999.0,9,  2258.7,2,   0.879,2,   1.7722,2,   -0.88,2, -999.00,9,  -999.0,9,  -999.0,-999.000,9,-999.000, -999.00,9,  200.30,-999.0000,9,-999.0000,9,-999.0000,9,-999.0000,9,-999.0000,9,   0.0089,   0.009,-999.0000,9,    0.20
318M20040615,        P02,     130,          1,         31,         31,2,20040811,       0126,    30.0013,  -151.8983,       5421,   250.0,  13.0001,  34.1423,2,  34.1435,2, 226.1000,2,   225.9,2,    6.81,2,    6.73,2,    0.00,2,    0.55,2,   3.144,2,   1.739,2,   0.117,2,  -999.0,9,  -999.0,9,   0.890,2,   1.7804,2,   -0.45,2, -999.00,9,  -999.0,9,  -999.0,-999.000,9,-999.000, -999.00,9,  250.00,-999.0000,9,-999.0000,9,-999.0000,9,-999.0000,9,-999.0000,9,   0.0089,   0.009,-999.0000,9,    0.20
318M20040615,        P02,     130,          1,         30,         30,2,20040811,       0126,    30.0013,  -151.8983,       5421,   304.8,  11.6686,  34.1543,2,  34.1582,2, 222.2000,2,   223.5,2,   10.72,2,   10.69,2,    0.00,2,    0.78,2,   3.283,2,   1.787,2,   0.087,2,  -999.0,9,  2257.4,2,   0.878,2,   1.7879,2,    0.45,2, -999.00,9,  -999.0,9,  -999.0,-999.000,9,-999.000, -999.00,9,  304.80,-999.0000,9,-999.0000,9,-999.0000,9,-999.0000,9,-999.0000,9,   0.0089,   0.009,-999.0000,9,    0.20
318M20040615,        P02,     130,          1,         29,         29,2,20040811,       0126,    30.0013,  -151.8983,       5421,   354.6,  10.8251,  34.1725,2,  34.1733,2, 210.3000,2,   210.2,2,   14.84,2,   13.91,2,    0.00,2,    0.99,2,   3.283,2,   1.695,2,   0.079,2,  -999.0,9,  -999.0,9,   0.825,2,   1.7938,2,    2.31,2, -999.00,9,  -999.0,9,  -999.0,-999.000,9,-999.000, -999.00,9,  354.60,-999.0000,9,-999.0000,9,-999.0000,9,-999.0000,9,-999.0000,9,   0.0090,   0.009,-999.0000,9,    0.20
318M20040615,        P02,     130,          1,         28,         28,2,20040811,       0126,    30.0013,  -151.8983,       5421,   404.7,   9.9430,  34.1467,2,  34.1482,2, 202.8000,2,   203.9,2,   19.37,2,   16.32,2,    0.00,2,    1.15,2,   3.269,2,   1.677,2,   0.080,2,  -999.0,9,  2265.6,6,   0.824,2,   1.8002,2,    3.88,2, -999.00,9,  -999.0,9,  -999.0,-999.000,9,-999.000, -999.00,9,  404.70,-999.0000,9,-999.0000,9,-999.0000,9,-999.0000,9,-999.0000,9,   0.0090,   0.010,-999.0000,9,    0.20
318M20040615,        P02,     130,          1,         27,         27,2,20040811,       0126,    30.0013,  -151.8983,       5421,   454.6,   8.8709,  34.0937,2,  34.0958,2, 180.9000,2,   185.5,2,   27.24,2,   20.36,2,    0.00,2,    1.43,2,   3.138,2,   1.580,2,   0.105,2,  -999.0,9,  -999.0,9,   0.812,2,   1.8083,2,    5.89,2, -999.00,9,  -999.0,9,  -999.0,-999.000,9,-999.000, -999.00,9,  454.60,-999.0000,9,-999.0000,9,-999.0000,9,-999.0000,9,-999.0000,9,   0.0090,   0.010,-999.0000,9,    0.20
318M20040615,        P02,     130,          1,         26,         26,2,20040811,       0126,    30.0013,  -151.8983,       5421,   504.7,   7.7602,  34.0367,2,  34.0380,2, 151.2000,2,   154.7,2,   37.69,2,   25.50,2,    0.00,2,    1.80,2,   2.790,2,   1.367,2,   0.108,2,  -999.0,9,  2272.5,2,   0.817,2,   1.5192,2,    7.98,2, -999.00,9,  -999.0,9,  -999.0,-999.000,9,-999.000, -999.00,9,  504.70,-999.0000,9,-999.0000,9,-999.0000,9,-999.0000,9,-999.0000,9,   0.0076,   0.008,-999.0000,9,    0.20
318M20040615,        P02,     130,          1,         25,         25,2,20040811,       0126,    30.0013,  -151.8983,       5421,   604.0,   5.9682,  33.9992,2,  33.9998,2,  98.0000,2,   105.1,2,   59.87,2,   33.50,2,    0.00,2,    2.40,2,   1.717,2,   0.816,2,   0.055,2,  -999.0,9,  -999.0,9,   0.684,2,   1.8449,2,   15.12,2, -999.00,9,  -999.0,9,  -999.0,-999.000,9,-999.000, -999.00,9,  604.00,-999.0000,9,-999.0000,9,-999.0000,9,-999.0000,9,-999.0000,9,   0.0092,   0.009,-999.0000,9,    0.20
318M20040615,        P02,     130,          1,         24,         24,2,20040811,       0126,    30.0013,  -151.8983,       5421,   708.8,   4.8786,  34.0536,2,  34.0558,2,  62.5000,2,    65.1,2,   82.39,2,   38.94,2,    0.00,2,    2.78,2,   0.701,2,   0.339,2,   0.019,2,  -999.0,9,  2308.8,2,   0.437,2,   1.8622,2,   17.96,2, -999.00,9,  -999.0,9,  -999.0,-999.000,9,-999.000, -999.00,9,  708.80,-999.0000,9,-999.0000,9,-999.0000,9,-999.0000,9,-999.0000,9,   0.0093,   0.006,-999.0000,9,    0.20
318M20040615,        P02,     130,          1,         23,         23,2,20040811,       0126,    30.0013,  -151.8983,       5421,   809.2,   4.2304,  34.1589,2,  34.1575,2,  27.9000,2,    29.4,2,  101.82,2,   43.10,2,    0.00,2,    3.04,2,   0.179,2,   0.087,2,   0.000,2,  -999.0,9,  -999.0,9,   0.210,2,   1.8964,2,   14.36,2, -999.00,9,  -999.0,9,  -999.0,-999.000,9,-999.000, -999.00,9,  809.20,-999.0000,9,-999.0000,9,-999.0000,9,-999.0000,9,-999.0000,9,   0.0095,   0.004,-999.0000,9,    0.20
318M20040615,        P02,     130,          1,         22,         22,2,20040811,       0126,    30.0013,  -151.8983,       5421,   909.4,   3.8274,  34.2704,2,  34.2699,2,  14.0000,2,    12.4,2,  117.50,2,   44.78,2,    0.00,2,    3.18,2,   0.024,2,   0.017,2,   0.000,2,  -999.0,9,  2352.0,2,   0.032,2,   1.8947,2,   14.34,2, -999.00,9,  -999.0,9,  -999.0,-999.000,9,-999.000, -999.00,9,  909.40,-999.0000,9,-999.0000,9,-999.0000,9,-999.0000,9,-999.0000,9,   0.0095,   0.002,-999.0000,9,    0.20
318M20040615,        P02,     130,          1,         21,         21,2,20040811,       0126,    30.0013,  -151.8983,       5421,  1009.5,   3.5599,  34.3620,2,  34.3638,2,  12.5000,2,    11.7,2,  127.60,2,   44.94,2,    0.00,2,    3.22,2,   0.008,2,   0.003,2,   0.000,2,  -999.0,9,  -999.0,9,   0.009,2,   1.8915,2,   16.33,2, -999.00,9,  -999.0,9,  -999.0,-999.000,9,-999.000, -999.00,9, 1009.50,-999.0000,9,-999.0000,9,-999.0000,9,-999.0000,9,-999.0000,9,   0.0095,   0.001,-999.0000,9,    0.20
318M20040615,        P02,     130,          1,         20,         20,2,20040811,       0126,    30.0013,  -151.8983,       5421,  1110.0,   3.3866,  34.4186,2,  34.4207,2,  16.6000,2,    16.0,2,  132.85,2,   44.72,2,    0.00,2,    3.21,2,   0.006,2,   0.008,2,   0.000,2,  -999.0,9,  -999.0,9,   0.001,2,   1.9044,2,   17.33,2, -999.00,9,  -999.0,9,  -999.0,-999.000,9,-999.000, -999.00,9, 1110.00,-999.0000,9,-999.0000,9,-999.0000,9,-999.0000,9,-999.0000,9,   0.0095,   0.000,-999.0000,9,    0.20
318M20040615,        P02,     130,          1,         19,         19,2,20040811,       0126,    30.0013,  -151.8983,       5421,  1215.4,   3.1684,  34.4702,2,  34.4719,2,  23.9000,2,    24.6,2,  137.91,2,   44.23,2,    0.00,2,    3.17,2,   0.009,2,   0.008,2,   0.000,2,  -999.0,9,  -999.0,9,   0.010,2,   1.8984,2,   19.24,2, -999.00,9,  -999.0,9,  -999.0,-999.000,9,-999.000, -999.00,9, 1215.40,-999.0000,9,-999.0000,9,-999.0000,9,-999.0000,9,-999.0000,9,   0.0095,   0.001,-999.0000,9,    0.20
318M20040615,        P02,     130,          1,         18,         18,2,20040811,       0126,    30.0013,  -151.8983,       5421,  1319.2,   2.9781,  34.5054,2,  34.5059,2,  31.2000,2,    33.4,2,  141.97,2,   43.69,2,    0.00,2,    3.13,2,   0.001,2,   0.001,2,   0.000,2,  -999.0,9,  -999.0,9,   0.030,2,   1.9087,2,   20.57,2, -999.00,9,  -999.0,9,  -999.0,-999.000,9,-999.000, -999.00,9, 1319.20,-999.0000,9,-999.0000,9,-999.0000,9,-999.0000,9,-999.0000,9,   0.0095,   0.001,-999.0000,9,    0.20
318M20040615,        P02,     130,          1,         17,         17,2,20040811,       0126,    30.0013,  -151.8983,       5421,  1424.1,   2.7911,  34.5343,2,  34.5350,2,  43.1000,2,    44.8,2,  145.04,2,   42.94,2,    0.00,2,    3.08,2,   0.006,2,   0.005,2,   0.000,2,  -999.0,9,  -999.0,9,   0.036,2,   1.9144,2,   21.34,2, -999.00,9,  -999.0,9,  -999.0,-999.000,9,-999.000, -999.00,9, 1424.10,-999.0000,9,-999.0000,9,-999.0000,9,-999.0000,9,-999.0000,9,   0.0096,   0.001,-999.0000,9,    0.20
318M20040615,        P02,     130,          1,         16,         16,2,20040811,       0126,    30.0013,  -151.8983,       5421,  1517.4,   2.6190,  34.5516,2,  34.5528,2,  48.7000,2,    50.2,2,  149.51,2,   42.56,2,    0.00,2,    3.05,2,   0.007,2,   0.007,2,   0.000,2,  -999.0,9,  -999.0,9,   0.010,2,   1.9192,2,   21.86,2, -999.00,9,  -999.0,9,  -999.0,-999.000,9,-999.000, -999.00,9, 1517.40,-999.0000,9,-999.0000,9,-999.0000,9,-999.0000,9,-999.0000,9,   0.0096,   0.000,-999.0000,9,    0.20
318M20040615,        P02,     130,          1,         15,         15,2,20040811,       0126,    30.0013,  -151.8983,       5421,  1604.1,   2.4686,  34.5679,2,  34.5691,2,  55.8000,2,    57.3,2,  152.76,2,   42.19,2,    0.00,2,    3.01,2,   0.002,2,   0.003,2,   0.000,2,  -999.0,9,  -999.0,9,   0.036,2,   1.9277,2,   21.84,2, -999.00,9,  -999.0,9,  -999.0,-999.000,9,-999.000, -999.00,9, 1604.10,-999.0000,9,-999.0000,9,-999.0000,9,-999.0000,9,-999.0000,9,   0.0096,   0.001,-999.0000,9,    0.20
318M20040615,        P02,     130,          1,         14,         14,2,20040811,       0126,    30.0013,  -151.8983,       5421,  1713.3,   2.3273,  34.5824,2,  34.5836,2,  62.3000,2,    63.8,2,  155.82,2,   42.03,2,    0.00,2,    2.98,2,   0.001,2,   0.003,2,   0.000,2,  -999.0,9,  -999.0,9,   0.037,2,   1.9251,2,   22.20,2, -999.00,9,  -999.0,9,  -999.0,-999.000,9,-999.000, -999.00,9, 1713.30,-999.0000,9,-999.0000,9,-999.0000,9,-999.0000,9,-999.0000,9,   0.0096,   0.001,-999.0000,9,    0.20
318M20040615,        P02,     130,          1,         13,         13,2,20040811,       0126,    30.0013,  -151.8983,       5421,  1820.3,   2.2034,  34.5955,2,  34.5962,2,  69.8000,2,    70.2,2,  158.06,2,   41.92,2,    0.00,2,    2.94,2,   0.004,2,   0.007,2,   0.000,2,  -999.0,9,  -999.0,9,   0.035,2,   1.9284,2,   22.47,2, -999.00,9,  -999.0,9,  -999.0,-999.000,9,-999.000, -999.00,9, 1820.30,-999.0000,9,-999.0000,9,-999.0000,9,-999.0000,9,-999.0000,9,   0.0096,   0.001,-999.0000,9,    0.20
318M20040615,        P02,     130,          1,          6,          6,2,20040811,       0126,    30.0013,  -151.8983,       5421,  2028.0,   1.9975,  34.6161,2,  34.6189,2,  80.0000,2,    79.7,2,  164.18,2,   41.44,2,    0.00,2,    2.90,2,   0.001,2,   0.000,2,   0.000,2,  -999.0,9,  -999.0,9,-999.000,9,-999.0000,9, -999.00,9, -999.00,9,  -999.0,9,  -999.0,-999.000,9,-999.000, -999.00,9, 2028.00,-999.0000,9,-999.0000,9,-999.0000,9,-999.0000,9,-999.0000,9,-999.0000,-999.000,-999.0000,9, -999.00
318M20040615,        P02,     130,          1,          5,          5,2,20040811,       0126,    30.0013,  -151.8983,       5421,  2279.7,   1.8213,  34.6343,2,  34.6347,2,  90.9000,2,    90.0,2,  168.67,2,   40.68,2,    0.00,2,    2.84,2,   0.000,2,  -0.001,2,   0.000,2,  -999.0,9,  -999.0,9,-999.000,9,-999.0000,9, -999.00,9, -999.00,9,  -999.0,9,  -999.0,-999.000,9,-999.000, -999.00,9, 2279.70,-999.0000,9,-999.0000,9,-999.0000,9,-999.0000,9,-999.0000,9,-999.0000,-999.000,-999.0000,9, -999.00
318M20040615,        P02,     130,          1,          4,          4,2,20040811,       0126,    30.0013,  -151.8983,       5421,  2536.6,   1.6966,  34.6482,2,  34.6487,2, 102.1000,2,   101.2,2,  169.90,2,   39.88,2,    0.00,2,    2.78,2,   0.000,2,   0.000,2,   0.000,2,  -999.0,9,  -999.0,9,-999.000,9,-999.0000,9, -999.00,9, -999.00,9,  -999.0,9,  -999.0,-999.000,9,-999.000, -999.00,9, 2536.60,-999.0000,9,-999.0000,9,-999.0000,9,-999.0000,9,-999.0000,9,-999.0000,-999.000,-999.0000,9, -999.00
318M20040615,        P02,     130,          1,          3,          3,2,20040811,       0126,    30.0013,  -151.8983,       5421,  2793.1,   1.5987,  34.6599,2,  34.6605,2, 112.7000,2,   113.2,2,  168.46,2,   39.08,2,    0.00,2,    2.72,2,  -0.001,2,  -0.001,2,   0.000,2,  -999.0,9,  -999.0,9,-999.000,9,-999.0000,9, -999.00,9, -999.00,9,  -999.0,9,  -999.0,-999.000,9,-999.000, -999.00,9, 2793.10,-999.0000,9,-999.0000,9,-999.0000,9,-999.0000,9,-999.0000,9,-999.0000,-999.000,-999.0000,9, -999.00
318M20040615,        P02,     130,          1,          2,          2,2,20040811,       0126,    30.0013,  -151.8983,       5421,  3045.5,   1.5357,  34.6680,2,  34.6683,2, 120.7000,2,   121.5,2,  167.45,2,   38.43,2,    0.00,2,    2.68,2,   0.000,2,   0.001,2,   0.000,2,  -999.0,9,  -999.0,9,-999.000,9,-999.0000,9, -999.00,9, -999.00,9,  -999.0,9,  -999.0,-999.000,9,-999.000, -999.00,9, 3045.50,-999.0000,9,-999.0000,9,-999.0000,9,-999.0000,9,-999.0000,9,-999.0000,-999.000,-999.0000,9, -999.00
318M20040615,        P02,     130,          1,          1,          1,2,20040811,       0126,    30.0013,  -151.8983,       5421,  3453.8,   1.4839,  34.6778,2,  34.6781,2, 134.6000,2,   135.0,2,  163.18,2,   37.58,2,    0.00,2,    2.61,2,   0.009,4,   0.011,4,   0.000,4,  -999.0,9,  -999.0,9,-999.000,9,-999.0000,9, -999.00,9, -999.00,9,  -999.0,9,  -999.0,-999.000,9,-999.000, -999.00,9, 3453.80,-999.0000,9,-999.0000,9,-999.0000,9,-999.0000,9,-999.0000,9,-999.0000,-999.000,-999.0000,9, -999.00
318M20040615,        P02,     130,          1,         12,         12,2,20040811,       0126,    30.0013,  -151.8983,       5421,  3864.1,   1.4671,  34.6838,2,  34.6840,2, 142.7000,2,   142.9,2,  160.73,2,   36.94,2,    0.00,2,    2.55,2,   0.001,2,   0.001,2,   0.000,2,  -999.0,9,  -999.0,9,-999.000,9,-999.0000,9, -999.00,9, -999.00,9,  -999.0,9,  -999.0,-999.000,9,-999.000, -999.00,9, 3864.10,-999.0000,9,-999.0000,9,-999.0000,9,-999.0000,9,-999.0000,9,-999.0000,-999.000,-999.0000,9, -999.00
318M20040615,        P02,     130,          1,         11,         11,2,20040811,       0126,    30.0013,  -151.8983,       5421,  4274.5,   1.4759,  34.6877,2,  34.6881,2, 148.9000,2,   149.5,2,  156.24,2,   36.46,2,    0.00,2,    2.52,2,   0.000,2,   0.003,2,   0.000,2,  -999.0,9,  -999.0,9,-999.000,9,-999.0000,9, -999.00,9, -999.00,9,  -999.0,9,  -999.0,-999.000,9,-999.000, -999.00,9, 4274.50,-999.0000,9,-999.0000,9,-999.0000,9,-999.0000,9,-999.0000,9,-999.0000,-999.000,-999.0000,9, -999.00
318M20040615,        P02,     130,          1,         10,         10,2,20040811,       0126,    30.0013,  -151.8983,       5421,  4686.1,   1.5038,  34.6898,2,  34.6896,2, 153.3000,2,   153.9,2,  152.37,2,   36.36,2,    0.00,2,    2.49,2,   0.002,2,   0.003,2,   0.000,2,  -999.0,9,  -999.0,9,-999.000,9,-999.0000,9, -999.00,9, -999.00,9,  -999.0,9,  -999.0,-999.000,9,-999.000, -999.00,9, 4686.10,-999.0000,9,-999.0000,9,-999.0000,9,-999.0000,9,-999.0000,9,-999.0000,-999.000,-999.0000,9, -999.00
318M20040615,        P02,     130,          1,          9,          9,2,20040811,       0126,    30.0013,  -151.8983,       5421,  5091.8,   1.5461,  34.6906,2,  34.6908,2, 155.5000,2,   155.7,2,  150.54,2,   36.47,2,    0.00,2,    2.48,2,   0.002,2,   0.001,2,   0.000,2,  -999.0,9,  -999.0,9,-999.000,9,-999.0000,9, -999.00,9, -999.00,9,  -999.0,9,  -999.0,-999.000,9,-999.000, -999.00,9, 5091.80,-999.0000,9,-999.0000,9,-999.0000,9,-999.0000,9,-999.0000,9,-999.0000,-999.000,-999.0000,9, -999.00
318M20040615,        P02,     130,          1,          8,          8,2,20040811,       0126,    30.0013,  -151.8983,       5421,  5324.1,   1.5714,  34.6907,2,  34.6912,2, 156.2000,2,   156.7,2,  149.72,2,   36.36,2,    0.00,2,    2.48,2,   0.006,2,   0.002,2,   0.000,2,  -999.0,9,  -999.0,9,-999.000,9,-999.0000,9, -999.00,9, -999.00,9,  -999.0,9,  -999.0,-999.000,9,-999.000, -999.00,9, 5324.10,-999.0000,9,-999.0000,9,-999.0000,9,-999.0000,9,-999.0000,9,-999.0000,-999.000,-999.0000,9, -999.00
318M20040615,        P02,     130,          1,          7,          7,2,20040811,       0126,    30.0013,  -151.8983,       5421,  5531.2,   1.5914,  34.6910,2,  34.6918,2, 157.3000,2,   157.9,2,  148.50,2,   36.20,2,    0.00,2,    2.47,2,   0.003,6,   0.004,6,   0.000,6,  -999.0,9,  -999.0,9,-999.000,9,-999.0000,9, -999.00,9, -999.00,9,  -999.0,9,  -999.0,-999.000,9,-999.000, -999.00,9, 5531.20,-999.0000,9,-999.0000,9,-999.0000,9,-999.0000,9,-999.0000,9,-999.0000,-999.000,-999.0000,9, -999.00