BOTTLE,20131027SIOCCHRJL
EXPOCODE,SECT_ID,STNNBR,CASTNO,SAMPNO,BTLNBR,BTLNBR_FLAG_W,DATE,TIME,LATITUDE,LONGITUDE,DEPTH,CTDPRS,CTDTMP,CTDSAL,CTDSAL_FLAG_W,SALNTY,SALNTY_FLAG_W,CTDOXY,CTDOXY_FLAG_W,OXYGEN,OXYGEN_FLAG_W,SILCAT,SILCAT_FLAG_W,NITRAT,NITRAT_FLAG_W,NITRIT,NITRIT_FLAG_W,PHSPHT,PHSPHT_FLAG_W,CFC-11,CFC-11_FLAG_W,CFC-12,CFC-12_FLAG_W,CFC113,CFC113_FLAG_W,TCARBN,TCARBN_FLAG_W,ALKALI,ALKALI_FLAG_W,TRITUM,TRITUM_FLAG_W,HELIUM,HELIUM_FLAG_W,DELHE3,DELHE3_FLAG_W,DELC13,DELC13_FLAG_W,DELC14,DELC14_FLAG_W,C14ERR,NEON,NEON_FLAG_W,NEONER,DOC,DOC_FLAG_W,CTDRAW,CDOM380,CDOM380_FLAG_W,CDOM325,CDOM325_FLAG_W,CDOMSL,CDOMSL_FLAG_W,CDOM340,CDOM340_FLAG_W,CDOMSN,CDOMSN_FLAG_W,HELIER,TRITER,CDOM412,CDOM412_FLAG_W,DELHER
,,,,,,,,,,,METERS,DBAR,ITS-90,PSS-78,,PSS-78,,UMOL/KG,,UMOL/KG,,UMOL/KG,,UMOL/KG,,UMOL/KG,,UMOL/KG,,PMOL/KG,,PMOL/KG,,PMOL/KG,,UMOL/KG,,UMOL/KG,,TU,,NMOL/KG,,PERCNT,,/MILLE,,/MILLE,,/MILLE,NMOL/KG,,NMOL/KG,UMOL/KG,,DBAR,1/M,,1/M,,1/NM,,1/M,,1/NM,,NMOL/KG,TU,1/M,,PERCNT
318M20040615,        P02,      84,          2,         36,         36,2,20040715,       1028,    30.0035,    179.547,       5142,     7.0,  27.0366,  35.1600,2,  35.1656,2, 207.1000,2,   205.0,2,    1.26,2,    0.16,2,    0.00,2,    0.03,2,   1.718,2,   1.083,2,   0.127,2,  1984.3,6,  2308.3,6,-999.000,9,-999.0000,9, -999.00,9,    1.17,2,    75.7,2,     4.5,-999.000,9,-999.000,   68.20,2,    7.00,-999.0000,9,-999.0000,9,-999.0000,9,-999.0000,9,-999.0000,9,-999.0000,-999.000,-999.0000,9, -999.00
318M20040615,        P02,      84,          2,         35,         35,2,20040715,       1028,    30.0035,    179.547,       5142,    40.7,  23.6377,  35.3006,2,  35.3031,2, 222.9000,2,   222.8,2,    1.46,2,    0.16,2,    0.00,2,    0.02,2,   1.956,2,   1.208,2,   0.142,2,  1993.6,2,  2317.6,2,-999.000,9,-999.0000,9, -999.00,9,    1.20,2,    78.1,2,     4.5,-999.000,9,-999.000,   64.80,2,   40.70,   0.0240,2,   0.0780,2,   0.0230,2,   0.0540,2,   0.0230,2,-999.0000,-999.000,   0.0160,2, -999.00
318M20040615,        P02,      84,          2,         34,         34,2,20040715,       1028,    30.0035,    179.547,       5142,    85.9,  19.9303,  35.0633,2,  35.0598,2, 223.7000,2,   225.4,2,    2.25,2,    0.16,2,    0.00,2,    0.06,2,   2.282,2,   1.357,2,   0.142,2,  2011.1,2,  2302.6,2,-999.000,9,-999.0000,9, -999.00,9,    1.02,2,    82.0,2,     4.5,-999.000,9,-999.000,   61.40,2,   85.90,-999.0000,9,-999.0000,9,-999.0000,9,-999.0000,9,-999.0000,9,-999.0000,-999.000,-999.0000,9, -999.00
318M20040615,        P02,      84,          2,         33,         33,2,20040715,       1028,    30.0035,    179.547,       5142,   135.4,  17.5538,  34.8144,2,  34.8171,2, 207.6000,2,   208.5,2,    3.64,2,    3.36,2,    0.06,2,    0.27,2,   2.469,2,   1.456,2,   0.102,2,  2034.1,2,  2285.8,2,-999.000,9,-999.0000,9, -999.00,9,    0.77,2,    80.6,2,     4.4,-999.000,9,-999.000,   55.60,2,  135.40,   0.0440,2,   0.1240,2,   0.0150,2,   0.0890,2,   0.0170,2,-999.0000,-999.000,   0.0330,2, -999.00
318M20040615,        P02,      84,          2,         32,         32,2,20040715,       1028,    30.0035,    179.547,       5142,   185.3,  16.3601,  34.6943,2,  34.6944,2, 208.0000,2,   214.1,2,    5.02,2,    5.04,2,    0.01,2,    0.37,2,   2.553,2,   1.495,2,   0.078,2,  2034.7,2,  2278.1,2,-999.000,9,-999.0000,9, -999.00,9,    0.71,2,    81.5,2,     4.6,-999.000,9,-999.000,   53.30,2,  185.30,-999.0000,9,-999.0000,9,-999.0000,9,-999.0000,9,-999.0000,9,-999.0000,-999.000,-999.0000,9, -999.00
318M20040615,        P02,      84,          2,         31,         31,2,20040715,       1028,    30.0035,    179.547,       5142,   235.0,  15.5226,  34.6238,2,  34.6240,2, 213.7000,2,   214.5,2,    6.41,2,    6.21,2,    0.01,2,    0.45,2,   2.629,2,   1.530,2,   0.075,2,  2042.5,2,  2275.8,2,-999.000,9,-999.0000,9, -999.00,9,    0.71,2,    68.8,2,     4.5,-999.000,9,-999.000,   52.50,2,  235.00,   0.0720,2,   0.1590,2,   0.0110,2,   0.1230,2,   0.0120,2,-999.0000,-999.000,   0.0550,2, -999.00
318M20040615,        P02,      84,          2,         30,         30,2,20040715,       1028,    30.0035,    179.547,       5142,   284.9,  14.7077,  34.5617,2,  34.5633,2, 214.3000,2,   215.7,2,    7.80,2,    7.42,2,    0.01,2,    0.54,2,   2.708,2,   1.564,2,   0.075,2,  2051.8,2,  2273.8,2,-999.000,9,-999.0000,9, -999.00,9,    0.69,2,    68.5,2,     6.1,-999.000,9,-999.000,   51.00,2,  284.90,   0.0400,2,   0.1100,2,   0.0160,2,   0.0790,2,   0.0180,2,-999.0000,-999.000,   0.0290,2, -999.00
318M20040615,        P02,      84,          2,         29,         29,2,20040715,       1028,    30.0035,    179.547,       5142,   339.5,  13.4286,  34.4663,2,  34.4675,2, 210.9000,2,   212.8,2,   10.99,2,    9.83,2,    0.01,2,    0.70,2,   2.805,6,   1.577,6,   0.082,6,  2068.4,2,  2272.3,2,-999.000,9,-999.0000,9, -999.00,9, -999.00,9,  -999.0,9,  -999.0,-999.000,9,-999.000,   49.50,2,  339.50,   0.0580,2,   0.1430,2,   0.0130,2,   0.1060,2,   0.0150,2,-999.0000,-999.000,   0.0430,2, -999.00
318M20040615,        P02,      84,          2,         28,         28,2,20040715,       1028,    30.0035,    179.547,       5142,   389.1,  12.4691,  34.3828,2,  34.3835,2, 211.2000,2,   211.5,2,   13.19,2,   11.44,2,    0.01,2,    0.82,2,   2.911,2,   1.609,2,   0.089,2,  2079.4,2,  2269.3,2,-999.000,9,-999.0000,9, -999.00,9,    0.51,2,    53.6,2,     4.6,-999.000,9,-999.000,   48.60,2,  389.10,   0.0390,2,   0.1180,2,   0.0180,2,   0.0820,2,   0.0200,2,-999.0000,-999.000,   0.0270,2, -999.00
318M20040615,        P02,      84,          2,         27,         27,2,20040715,       1028,    30.0035,    179.547,       5142,   439.1,  11.2211,  34.2680,2,  34.2679,2, 201.8000,2,   200.6,2,   16.59,2,   14.45,2,    0.01,2,    1.03,2,   2.997,2,   1.594,2,   0.070,2,  2099.9,2,  2265.0,2,-999.000,9,-999.0000,9, -999.00,9, -999.00,9,  -999.0,9,  -999.0,-999.000,9,-999.000,   46.80,2,  439.10,-999.0000,9,-999.0000,9,-999.0000,9,-999.0000,9,-999.0000,9,-999.0000,-999.000,-999.0000,9, -999.00
318M20040615,        P02,      84,          2,         26,         26,2,20040715,       1028,    30.0035,    179.547,       5142,   489.4,  10.3004,  34.2117,2,  34.2115,2, 194.1000,2,   200.0,2,   20.99,2,   16.43,2,    0.01,2,    1.16,2,   2.959,2,   1.571,2,   0.097,2,  2113.1,2,  2267.5,2,-999.000,9,-999.0000,9, -999.00,9,    0.46,2,    39.1,2,     4.4,-999.000,9,-999.000,   45.90,2,  489.40,   0.1050,2,   0.2280,2,   0.0110,2,   0.1760,2,   0.0120,2,-999.0000,-999.000,   0.0790,2, -999.00
318M20040615,        P02,      84,          2,         25,         25,2,20040715,       1028,    30.0035,    179.547,       5142,   574.1,   8.3852,  34.0878,2,  34.0885,2, 182.9000,2,   184.1,2,   33.50,2,   21.45,2,    0.01,2,    1.54,2,   2.819,2,   1.488,2,   0.118,2,  2150.3,2,  2273.2,2,-999.000,9,-999.0000,9, -999.00,9,    0.38,2,     0.5,2,     5.4,-999.000,9,-999.000,   45.00,2,  574.10,-999.0000,9,-999.0000,9,-999.0000,9,-999.0000,9,-999.0000,9,-999.0000,-999.000,-999.0000,9, -999.00
318M20040615,        P02,      84,          2,         24,         24,2,20040715,       1028,    30.0035,    179.547,       5142,   673.6,   6.3830,  34.0216,2,  34.0227,2, 140.4000,2,   139.4,2,   55.70,2,   29.19,2,    0.01,2,    2.10,2,   2.153,2,   1.100,2,   0.097,2,  2208.9,2,  2286.6,2,-999.000,9,-999.0000,9, -999.00,9,    0.13,2,   -59.0,2,     4.4,-999.000,9,-999.000,   44.20,2,  673.60,-999.0000,9,-999.0000,9,-999.0000,9,-999.0000,9,-999.0000,9,-999.0000,-999.000,-999.0000,9, -999.00
318M20040615,        P02,      84,          2,         23,         23,2,20040715,       1028,    30.0035,    179.547,       5142,   774.0,   5.1324,  34.0660,2,  34.0672,2,  98.4000,2,    94.0,2,   78.93,2,   35.42,2,    0.01,2,    2.55,2,   1.410,2,   0.705,2,   0.064,2,  2264.6,2,  2307.1,2,-999.000,9,-999.0000,9, -999.00,9,   -0.15,2,  -103.6,2,     4.6,-999.000,9,-999.000,   43.60,2,  774.00,-999.0000,9,-999.0000,9,-999.0000,9,-999.0000,9,-999.0000,9,-999.0000,-999.000,-999.0000,9, -999.00
318M20040615,        P02,      84,          2,         22,         22,2,20040715,       1028,    30.0035,    179.547,       5142,   873.9,   4.3779,  34.1599,2,  34.1607,2,  63.5000,2,    59.3,2,   99.41,2,   39.50,2,    0.01,2,    2.85,2,   0.723,2,   0.358,2,   0.028,2,  2305.6,2,  2326.4,2,-999.000,9,-999.0000,9, -999.00,9, -999.00,9,  -999.0,9,  -999.0,-999.000,9,-999.000,   41.90,2,  873.90,   0.1040,2,   0.2510,2,   0.0130,2,   0.1830,2,   0.0140,2,-999.0000,-999.000,   0.0790,2, -999.00
318M20040615,        P02,      84,          2,         21,         21,2,20040715,       1028,    30.0035,    179.547,       5142,   974.3,   3.8675,  34.2403,2,  34.2409,2,  44.3000,2,    43.2,2,  114.81,2,   41.43,2,    0.01,2,    2.97,2,   0.412,2,   0.202,2,   0.015,2,  2332.5,2,  2343.6,2,-999.000,9,-999.0000,9, -999.00,9,   -0.39,2,  -170.8,2,     3.5,-999.000,9,-999.000,   40.40,2,  974.30,-999.0000,9,-999.0000,9,-999.0000,9,-999.0000,9,-999.0000,9,-999.0000,-999.000,-999.0000,9, -999.00
318M20040615,        P02,      84,          2,         20,         20,2,20040715,       1028,    30.0035,    179.547,       5142,  1074.6,   3.4428,  34.3241,2,  34.3235,2,  33.5000,2,    32.0,2,  128.36,2,   42.76,2,    0.01,2,    3.07,2,   0.171,2,   0.084,2,   0.004,2,  2353.7,2,  2360.3,2,-999.000,9,-999.0000,9, -999.00,9, -999.00,9,  -999.0,9,  -999.0,-999.000,9,-999.000,   39.70,2, 1074.60,-999.0000,9,-999.0000,9,-999.0000,9,-999.0000,9,-999.0000,9,-999.0000,-999.000,-999.0000,9, -999.00
318M20040615,        P02,      84,          2,         19,         19,2,20040715,       1028,    30.0035,    179.547,       5142,  1175.2,   3.1519,  34.3743,2,  34.3747,2,  29.5000,2,    29.5,2,  137.34,2,   43.21,2,    0.01,2,    3.10,2,   0.102,2,   0.049,2,  -0.001,2,  2364.4,6,  2373.3,2,-999.000,9,-999.0000,9, -999.00,9,   -0.42,2,  -201.5,2,     4.2,-999.000,9,-999.000,   38.70,2, 1175.20,-999.0000,9,-999.0000,9,-999.0000,9,-999.0000,9,-999.0000,9,-999.0000,-999.000,-999.0000,9, -999.00
318M20040615,        P02,      84,          2,         18,         18,2,20040715,       1028,    30.0035,    179.547,       5142,  1275.6,   2.8881,  34.4211,2,  34.4218,2,  29.0000,2,    29.0,2,  145.05,2,   43.48,2,    0.01,2,    3.12,2,   0.061,2,   0.031,2,   0.002,2,  2373.4,2,  2382.1,6,-999.000,9,-999.0000,9, -999.00,9, -999.00,9,  -999.0,9,  -999.0,-999.000,9,-999.000,   38.90,2, 1275.60,-999.0000,9,-999.0000,9,-999.0000,9,-999.0000,9,-999.0000,9,-999.0000,-999.000,-999.0000,9, -999.00
318M20040615,        P02,      84,          2,         17,         17,2,20040715,       1028,    30.0035,    179.547,       5142,  1376.4,   2.6934,  34.4614,2,  34.4622,2,  31.0000,2,    30.5,2,  150.91,2,   43.59,2,    0.01,2,    3.12,2,   0.032,2,   0.017,2,   0.001,2,  2379.0,2,  2389.5,2,-999.000,9,-999.0000,9, -999.00,9,   -0.42,2,  -220.2,2,     3.3,-999.000,9,-999.000,   38.90,2, 1376.40,-999.0000,9,-999.0000,9,-999.0000,9,-999.0000,9,-999.0000,9,-999.0000,-999.000,-999.0000,9, -999.00
318M20040615,        P02,      84,          2,         16,         16,2,20040715,       1028,    30.0035,    179.547,       5142,  1476.7,   2.5583,  34.5072,2,  34.5085,2,  35.4000,2,    37.6,2,  153.39,2,   43.47,2,    0.01,2,    3.09,2,   0.010,2,   0.005,2,   0.000,2,  2378.6,2,  2396.9,2,-999.000,9,-999.0000,9, -999.00,9, -999.00,9,  -999.0,9,  -999.0,-999.000,9,-999.000,   38.70,2, 1476.70,-999.0000,9,-999.0000,9,-999.0000,9,-999.0000,9,-999.0000,9,-999.0000,-999.000,-999.0000,9, -999.00
318M20040615,        P02,      84,          2,         15,         15,2,20040715,       1028,    30.0035,    179.547,       5142,  1576.7,   2.4192,  34.5311,2,  34.5313,2,  44.1000,2,    43.8,2,  156.72,2,   43.35,2,    0.01,2,    3.06,2,   0.007,2,   0.003,2,   0.000,2,  2379.7,2,  2401.5,2,-999.000,9,-999.0000,9, -999.00,9,   -0.32,2,  -233.0,2,     3.3,-999.000,9,-999.000,   38.40,2, 1576.70,-999.0000,9,-999.0000,9,-999.0000,9,-999.0000,9,-999.0000,9,-999.0000,-999.000,-999.0000,9, -999.00
318M20040615,        P02,      84,          2,         14,         14,2,20040715,       1028,    30.0035,    179.547,       5142,  1777.4,   2.1671,  34.5727,2,  34.5737,2,  59.1000,2,    59.7,2,  161.50,2,   42.29,2,    0.00,2,    2.98,2,   0.006,2,   0.003,2,  -0.002,2,  2375.6,2,  2409.2,2,-999.000,9,-999.0000,9, -999.00,9, -999.00,9,  -999.0,9,  -999.0,-999.000,9,-999.000,   38.10,2, 1777.40,-999.0000,9,-999.0000,9,-999.0000,9,-999.0000,9,-999.0000,9,-999.0000,-999.000,-999.0000,9, -999.00
318M20040615,        P02,      84,          2,         13,         13,2,20040715,       1028,    30.0035,    179.547,       5142,  1978.6,   1.9450,  34.6033,2,  34.6054,2,  74.0000,2,    75.3,2,  164.21,2,   41.22,2,    0.00,2,    2.90,2,   0.003,2,   0.001,2,  -0.002,2,  2369.4,2,  2413.8,2,-999.000,9,-999.0000,9, -999.00,9, -999.00,9,  -999.0,9,  -999.0,-999.000,9,-999.000,   38.30,2, 1978.60,   0.2620,3,   0.4650,3,   0.0090,3,   0.3830,3,   0.0090,3,-999.0000,-999.000,   0.2070,3, -999.00
318M20040615,        P02,      84,          2,         12,         12,2,20040715,       1028,    30.0035,    179.547,       5142,  2174.2,   1.8120,  34.6213,2,  34.6215,2,  87.1000,2,    87.4,2,  165.07,2,   40.46,2,    0.00,2,    2.84,2,   0.002,2,   0.001,2,  -0.002,2,  2365.8,2,  2415.9,2,-999.000,9,-999.0000,9, -999.00,9, -999.00,9,  -999.0,9,  -999.0,-999.000,9,-999.000,   37.90,2, 2174.20,-999.0000,9,-999.0000,9,-999.0000,9,-999.0000,9,-999.0000,9,-999.0000,-999.000,-999.0000,9, -999.00
318M20040615,        P02,      84,          2,         11,         11,2,20040715,       1028,    30.0035,    179.547,       5142,  2421.6,   1.6871,  34.6388,2,  34.6396,2, 102.1000,2,   101.8,2,  164.07,2,   39.42,2,    0.00,2,    2.77,2,-999.000,9,-999.000,9,-999.000,9,  2357.9,2,  2417.5,2,-999.000,9,-999.0000,9, -999.00,9, -999.00,9,  -999.0,9,  -999.0,-999.000,9,-999.000,   37.70,2, 2421.60,-999.0000,9,-999.0000,9,-999.0000,9,-999.0000,9,-999.0000,9,-999.0000,-999.000,-999.0000,9, -999.00
318M20040615,        P02,      84,          2,         10,         10,2,20040715,       1028,    30.0035,    179.547,       5142,  2668.7,   1.6031,  34.6514,2,  34.6515,2, 113.7000,2,   113.9,2,  162.39,2,   38.60,2,    0.00,2,    2.72,2,   0.001,2,   0.001,2,  -0.002,2,  2350.8,2,  2419.2,2,-999.000,9,-999.0000,9, -999.00,9, -999.00,9,  -999.0,9,  -999.0,-999.000,9,-999.000,   37.40,2, 2668.70,-999.0000,9,-999.0000,9,-999.0000,9,-999.0000,9,-999.0000,9,-999.0000,-999.000,-999.0000,9, -999.00
318M20040615,        P02,      84,          2,          9,          9,2,20040715,       1028,    30.0035,    179.547,       5142,  2921.8,   1.5402,  34.6614,2,  34.6618,2, 123.9000,2,   123.8,2,  160.27,2,   37.82,2,    0.00,2,    2.66,2,-999.000,9,-999.000,9,-999.000,9,  2344.9,2,  2418.7,2,-999.000,9,-999.0000,9, -999.00,9, -999.00,9,  -999.0,9,  -999.0,-999.000,9,-999.000,   38.60,2, 2921.80,   0.1450,2,   0.2940,3,   0.0100,3,   0.2300,2,   0.0110,3,-999.0000,-999.000,   0.1120,2, -999.00
318M20040615,        P02,      84,          2,          8,          8,2,20040715,       1028,    30.0035,    179.547,       5142,  3250.6,   1.4839,  34.6718,2,  34.6724,2, 134.4000,2,   135.6,2,  157.80,2,   37.18,2,    0.00,2,    2.60,2,   0.002,2,  -0.001,2,  -0.002,2,  2337.4,2,  2419.2,2,-999.000,9,-999.0000,9, -999.00,9, -999.00,9,  -999.0,9,  -999.0,-999.000,9,-999.000,   38.60,2, 3250.60,-999.0000,9,-999.0000,9,-999.0000,9,-999.0000,9,-999.0000,9,-999.0000,-999.000,-999.0000,9, -999.00
318M20040615,        P02,      84,          2,          7,          7,2,20040715,       1028,    30.0035,    179.547,       5142,  3503.6,   1.4626,  34.6770,2,  34.6773,2, 141.0000,2,   141.3,2,  156.93,2,   36.95,2,    0.00,2,    2.56,2,-999.000,9,-999.000,9,-999.000,9,  2335.0,2,  2418.1,2,-999.000,9,-999.0000,9, -999.00,9, -999.00,9,  -999.0,9,  -999.0,-999.000,9,-999.000,   38.00,2, 3503.60,-999.0000,9,-999.0000,9,-999.0000,9,-999.0000,9,-999.0000,9,-999.0000,-999.000,-999.0000,9, -999.00
318M20040615,        P02,      84,          2,          6,          6,2,20040715,       1028,    30.0035,    179.547,       5142,  3752.1,   1.4537,  34.6808,2,  34.6814,2, 145.3000,2,   145.7,2,  155.24,2,   36.79,2,    0.00,2,    2.54,2,  -0.001,2,  -0.001,2,  -0.002,2,  2329.9,2,  2418.0,2,-999.000,9,-999.0000,9, -999.00,9, -999.00,9,  -999.0,9,  -999.0,-999.000,9,-999.000,   37.90,2, 3752.10,-999.0000,9,-999.0000,9,-999.0000,9,-999.0000,9,-999.0000,9,-999.0000,-999.000,-999.0000,9, -999.00
318M20040615,        P02,      84,          2,          5,          5,2,20040715,       1028,    30.0035,    179.547,       5142,  4001.0,   1.4548,  34.6836,2,  34.6840,2, 148.9000,2,   149.2,2,  155.05,2,   36.56,2,    0.00,2,    2.52,2,-999.000,9,-999.000,9,-999.000,9,  2327.3,2,  2418.4,2,-999.000,9,-999.0000,9, -999.00,9, -999.00,9,  -999.0,9,  -999.0,-999.000,9,-999.000,   38.20,2, 4001.00,-999.0000,9,-999.0000,9,-999.0000,9,-999.0000,9,-999.0000,9,-999.0000,-999.000,-999.0000,9, -999.00
318M20040615,        P02,      84,          2,          4,          4,2,20040715,       1028,    30.0035,    179.547,       5142,  4299.3,   1.4576,  34.6865,2,  34.6873,2, 153.6000,2,   154.2,2,  151.69,2,   36.13,2,    0.00,2,    2.49,2,   0.000,2,   0.003,2,   0.001,2,  2323.5,2,  2417.1,2,-999.000,9,-999.0000,9, -999.00,9, -999.00,9,  -999.0,9,  -999.0,-999.000,9,-999.000,   38.20,2, 4299.30,-999.0000,9,-999.0000,9,-999.0000,9,-999.0000,9,-999.0000,9,-999.0000,-999.000,-999.0000,9, -999.00
318M20040615,        P02,      84,          2,          3,          3,2,20040715,       1028,    30.0035,    179.547,       5142,  4599.8,   1.4556,  34.6899,2,  34.6904,2, 159.7000,2,   160.5,2,  146.91,2,   35.54,2,    0.00,2,    2.45,2,-999.000,9,-999.000,9,-999.000,9,  2318.5,2,  2412.4,2,-999.000,9,-999.0000,9, -999.00,9, -999.00,9,  -999.0,9,  -999.0,-999.000,9,-999.000,   38.00,2, 4599.80,-999.0000,9,-999.0000,9,-999.0000,9,-999.0000,9,-999.0000,9,-999.0000,-999.000,-999.0000,9, -999.00
318M20040615,        P02,      84,          2,          2,          2,2,20040715,       1028,    30.0035,    179.547,       5142,  4906.2,   1.4695,  34.6919,2,  34.6924,2, 163.8000,2,   164.7,2,  143.97,2,   35.21,2,    0.00,2,    2.44,2,   0.002,2,   0.001,2,  -0.002,2,  2314.3,2,  2409.5,2,-999.000,9,-999.0000,9, -999.00,9, -999.00,9,  -999.0,9,  -999.0,-999.000,9,-999.000,   37.40,2, 4906.20,-999.0000,9,-999.0000,9,-999.0000,9,-999.0000,9,-999.0000,9,-999.0000,-999.000,-999.0000,9, -999.00
318M20040615,        P02,      84,          2,          1,          1,2,20040715,       1028,    30.0035,    179.547,       5142,  5247.6,   1.4948,  34.6933,2,  34.6967,2, 167.5000,3,   167.8,2,  141.29,2,   34.78,2,    0.00,2,    2.42,2,   0.001,2,   0.003,2,   0.000,2,  2310.4,6,  2408.9,6,-999.000,9,-999.0000,9, -999.00,9, -999.00,9,  -999.0,9,  -999.0,-999.000,9,-999.000,   38.20,2, 5247.60,-999.0000,9,-999.0000,9,-999.0000,9,-999.0000,9,-999.0000,9,-999.0000,-999.000,-999.0000,9, -999.00