BOTTLE,20131027SIOCCHRJL
EXPOCODE,SECT_ID,STNNBR,CASTNO,SAMPNO,BTLNBR,BTLNBR_FLAG_W,DATE,TIME,LATITUDE,LONGITUDE,DEPTH,CTDPRS,CTDTMP,CTDSAL,CTDSAL_FLAG_W,SALNTY,SALNTY_FLAG_W,CTDOXY,CTDOXY_FLAG_W,OXYGEN,OXYGEN_FLAG_W,SILCAT,SILCAT_FLAG_W,NITRAT,NITRAT_FLAG_W,NITRIT,NITRIT_FLAG_W,PHSPHT,PHSPHT_FLAG_W,CFC-11,CFC-11_FLAG_W,CFC-12,CFC-12_FLAG_W,CFC113,CFC113_FLAG_W,TCARBN,TCARBN_FLAG_W,ALKALI,ALKALI_FLAG_W,TRITUM,TRITUM_FLAG_W,HELIUM,HELIUM_FLAG_W,DELHE3,DELHE3_FLAG_W,DELC13,DELC13_FLAG_W,DELC14,DELC14_FLAG_W,C14ERR,NEON,NEON_FLAG_W,NEONER,DOC,DOC_FLAG_W,CTDRAW,CDOM380,CDOM380_FLAG_W,CDOM325,CDOM325_FLAG_W,CDOMSL,CDOMSL_FLAG_W,CDOM340,CDOM340_FLAG_W,CDOMSN,CDOMSN_FLAG_W,HELIER,TRITER,CDOM412,CDOM412_FLAG_W,DELHER
,,,,,,,,,,,METERS,DBAR,ITS-90,PSS-78,,PSS-78,,UMOL/KG,,UMOL/KG,,UMOL/KG,,UMOL/KG,,UMOL/KG,,UMOL/KG,,PMOL/KG,,PMOL/KG,,PMOL/KG,,UMOL/KG,,UMOL/KG,,TU,,NMOL/KG,,PERCNT,,/MILLE,,/MILLE,,/MILLE,NMOL/KG,,NMOL/KG,UMOL/KG,,DBAR,1/M,,1/M,,1/NM,,1/M,,1/NM,,NMOL/KG,TU,1/M,,PERCNT
318M20040615,        P02,      69,          1,         36,         36,2,20040710,       1946,    29.9967,    170.056,       5523,     7.2,  25.9700,  35.0792,2,  35.0846,2, 207.4000,2,   208.4,2,    1.26,2,    0.09,2,    0.00,2,    0.02,2,   1.829,2,   1.155,2,   0.129,2,  1995.1,6,  2302.5,6,-999.000,9,-999.0000,9, -999.00,9, -999.00,9,  -999.0,9,  -999.0,-999.000,9,-999.000, -999.00,9,    7.20,-999.0000,9,-999.0000,9,-999.0000,9,-999.0000,9,-999.0000,9,-999.0000,-999.000,-999.0000,9, -999.00
318M20040615,        P02,      69,          1,         35,         35,2,20040710,       1946,    29.9967,    170.056,       5523,    41.6,  21.1765,  34.9335,2,  34.9402,2, 234.2000,2,   235.7,2,    1.56,2,    0.08,2,    0.00,2,    0.02,2,   2.246,2,   1.383,2,   0.153,2,  1995.8,2,  2294.0,2,-999.000,9,-999.0000,9, -999.00,9, -999.00,9,  -999.0,9,  -999.0,-999.000,9,-999.000, -999.00,9,   41.60,-999.0000,9,-999.0000,9,-999.0000,9,-999.0000,9,-999.0000,9,-999.0000,-999.000,-999.0000,9, -999.00
318M20040615,        P02,      69,          1,         34,         34,2,20040710,       1946,    29.9967,    170.056,       5523,    86.2,  17.7032,  34.8058,2,  34.8072,2, 231.4000,2,   230.5,2,    2.38,2,    0.53,2,    0.04,2,    0.12,2,   2.427,2,   1.463,2,   0.130,2,  2014.5,2,  2286.2,2,-999.000,9,-999.0000,9, -999.00,9, -999.00,9,  -999.0,9,  -999.0,-999.000,9,-999.000, -999.00,9,   86.20,-999.0000,9,-999.0000,9,-999.0000,9,-999.0000,9,-999.0000,9,-999.0000,-999.000,-999.0000,9, -999.00
318M20040615,        P02,      69,          1,         33,         33,2,20040710,       1946,    29.9967,    170.056,       5523,   135.8,  16.8800,  34.7631,2,  34.7691,2, 217.1000,2,   220.0,2,    3.55,2,    4.09,2,    0.02,2,    0.28,2,   2.522,2,   1.512,2,   0.124,2,  2025.0,2,  2281.1,2,-999.000,9,-999.0000,9, -999.00,9, -999.00,9,  -999.0,9,  -999.0,-999.000,9,-999.000, -999.00,9,  135.80,-999.0000,9,-999.0000,9,-999.0000,9,-999.0000,9,-999.0000,9,-999.0000,-999.000,-999.0000,9, -999.00
318M20040615,        P02,      69,          1,         32,         32,2,20040710,       1946,    29.9967,    170.056,       5523,   185.7,  16.4542,  34.7285,2,  34.7280,2, 221.2000,2,   220.3,2,    4.20,2,    4.73,2,    0.01,2,    0.33,2,   2.544,2,   1.503,2,   0.111,2,  -999.0,9,  -999.0,9,-999.000,9,-999.0000,9, -999.00,9, -999.00,9,  -999.0,9,  -999.0,-999.000,9,-999.000, -999.00,9,  185.70,-999.0000,9,-999.0000,9,-999.0000,9,-999.0000,9,-999.0000,9,-999.0000,-999.000,-999.0000,9, -999.00
318M20040615,        P02,      69,          1,         31,         31,2,20040710,       1946,    29.9967,    170.056,       5523,   240.0,  15.9580,  34.6944,2,  34.6954,2, 219.2000,2,   221.7,2,    5.20,2,    5.47,2,    0.01,2,    0.38,2,   2.586,2,   1.520,2,   0.109,2,  2034.1,2,  2281.7,2,-999.000,9,-999.0000,9, -999.00,9, -999.00,9,  -999.0,9,  -999.0,-999.000,9,-999.000, -999.00,9,  240.00,-999.0000,9,-999.0000,9,-999.0000,9,-999.0000,9,-999.0000,9,-999.0000,-999.000,-999.0000,9, -999.00
318M20040615,        P02,      69,          1,         30,         30,2,20040710,       1946,    29.9967,    170.056,       5523,   290.1,  15.3117,  34.6296,2,  34.6290,2, 219.9000,2,   217.1,2,    6.72,2,    6.81,2,    0.01,2,    0.48,2,   2.633,2,   1.553,2,   0.095,2,  -999.0,9,  -999.0,9,-999.000,9,-999.0000,9, -999.00,9, -999.00,9,  -999.0,9,  -999.0,-999.000,9,-999.000, -999.00,9,  290.10,-999.0000,9,-999.0000,9,-999.0000,9,-999.0000,9,-999.0000,9,-999.0000,-999.000,-999.0000,9, -999.00
318M20040615,        P02,      69,          1,         29,         29,2,20040710,       1946,    29.9967,    170.056,       5523,   339.7,  14.3831,  34.5576,2,  34.5584,2, 209.1000,2,   208.5,2,    9.80,2,    9.09,2,    0.01,2,    0.64,2,   2.658,2,   1.531,2,   0.085,2,  2063.8,2,  2276.5,2,-999.000,9,-999.0000,9, -999.00,9, -999.00,9,  -999.0,9,  -999.0,-999.000,9,-999.000, -999.00,9,  339.70,-999.0000,9,-999.0000,9,-999.0000,9,-999.0000,9,-999.0000,9,-999.0000,-999.000,-999.0000,9, -999.00
318M20040615,        P02,      69,          1,         28,         28,2,20040710,       1946,    29.9967,    170.056,       5523,   388.9,  13.4395,  34.4789,2,  34.4811,2, 214.4000,2,   207.5,2,   11.83,2,   10.48,2,    0.01,2,    0.73,2,   2.747,2,   1.568,2,   0.085,2,  -999.0,9,  -999.0,9,-999.000,9,-999.0000,9, -999.00,9, -999.00,9,  -999.0,9,  -999.0,-999.000,9,-999.000, -999.00,9,  388.90,-999.0000,9,-999.0000,9,-999.0000,9,-999.0000,9,-999.0000,9,-999.0000,-999.000,-999.0000,9, -999.00
318M20040615,        P02,      69,          1,         27,         27,2,20040710,       1946,    29.9967,    170.056,       5523,   437.9,  12.1702,  34.3812,2,  34.3815,2, 203.6000,2,   203.6,2,   15.79,2,   12.98,2,    0.00,2,    0.91,2,   2.827,2,   1.586,2,   0.081,2,  2091.3,2,  2271.5,2,-999.000,9,-999.0000,9, -999.00,9, -999.00,9,  -999.0,9,  -999.0,-999.000,9,-999.000, -999.00,9,  437.90,-999.0000,9,-999.0000,9,-999.0000,9,-999.0000,9,-999.0000,9,-999.0000,-999.000,-999.0000,9, -999.00
318M20040615,        P02,      69,          1,         26,         26,2,20040710,       1946,    29.9967,    170.056,       5523,   488.1,  10.8799,  34.2879,2,  34.2883,2, 201.5000,2,   207.6,2,   20.10,2,   14.89,2,    0.00,2,    1.05,2,   2.886,2,   1.616,2,   0.123,2,  -999.0,9,  -999.0,9,-999.000,9,-999.0000,9, -999.00,9, -999.00,9,  -999.0,9,  -999.0,-999.000,9,-999.000, -999.00,9,  488.10,-999.0000,9,-999.0000,9,-999.0000,9,-999.0000,9,-999.0000,9,-999.0000,-999.000,-999.0000,9, -999.00
318M20040615,        P02,      69,          1,         25,         25,2,20040710,       1946,    29.9967,    170.056,       5523,   578.8,   8.1049,  34.0770,2,  34.0765,2, 182.3000,2,   176.5,2,   36.34,2,   22.65,2,    0.00,2,    1.61,2,   2.666,2,   1.428,2,   0.111,2,  2159.8,2,  2275.1,2,-999.000,9,-999.0000,9, -999.00,9, -999.00,9,  -999.0,9,  -999.0,-999.000,9,-999.000, -999.00,9,  578.80,-999.0000,9,-999.0000,9,-999.0000,9,-999.0000,9,-999.0000,9,-999.0000,-999.000,-999.0000,9, -999.00
318M20040615,        P02,      69,          1,         24,         24,2,20040710,       1946,    29.9967,    170.056,       5523,   679.3,   5.8300,  33.9902,2,  33.9923,2, 140.8000,2,   139.7,2,   60.60,2,   30.12,2,    0.00,2,    2.19,2,   2.289,2,   1.213,2,   0.112,2,  -999.0,9,  -999.0,9,-999.000,9,-999.0000,9, -999.00,9, -999.00,9,  -999.0,9,  -999.0,-999.000,9,-999.000, -999.00,9,  679.30,-999.0000,9,-999.0000,9,-999.0000,9,-999.0000,9,-999.0000,9,-999.0000,-999.000,-999.0000,9, -999.00
318M20040615,        P02,      69,          1,         23,         23,2,20040710,       1946,    29.9967,    170.056,       5523,   779.8,   4.8889,  34.0917,2,  34.0970,2,  87.5000,2,    85.0,2,   84.48,2,   36.65,2,    0.00,2,    2.63,2,   1.272,2,   0.637,2,   0.053,2,  2279.4,2,  2312.4,2,-999.000,9,-999.0000,9, -999.00,9, -999.00,9,  -999.0,9,  -999.0,-999.000,9,-999.000, -999.00,9,  779.80,-999.0000,9,-999.0000,9,-999.0000,9,-999.0000,9,-999.0000,9,-999.0000,-999.000,-999.0000,9, -999.00
318M20040615,        P02,      69,          1,         22,         22,2,20040710,       1946,    29.9967,    170.056,       5523,   879.9,   4.3199,  34.1803,3,  34.1803,2,  59.0000,2,    57.6,2,  101.14,2,   39.81,2,    0.00,2,    2.86,2,   0.665,2,   0.331,2,   0.022,2,  -999.0,9,  -999.0,9,-999.000,9,-999.0000,9, -999.00,9, -999.00,9,  -999.0,9,  -999.0,-999.000,9,-999.000, -999.00,9,  879.90,-999.0000,9,-999.0000,9,-999.0000,9,-999.0000,9,-999.0000,9,-999.0000,-999.000,-999.0000,9, -999.00
318M20040615,        P02,      69,          1,         21,         21,2,20040710,       1946,    29.9967,    170.056,       5523,   975.1,   3.8511,  34.2594,2,  34.2629,2,  44.5000,2,    45.1,2,  115.49,2,   41.28,2,    0.00,2,    2.97,2,   0.405,2,   0.199,2,   0.016,2,  -999.0,9,  -999.0,9,-999.000,9,-999.0000,9, -999.00,9, -999.00,9,  -999.0,9,  -999.0,-999.000,9,-999.000, -999.00,9,  975.10,-999.0000,9,-999.0000,9,-999.0000,9,-999.0000,9,-999.0000,9,-999.0000,-999.000,-999.0000,9, -999.00
318M20040615,        P02,      69,          1,         20,         20,2,20040710,       1946,    29.9967,    170.056,       5523,  1085.3,   3.4229,  34.3351,2,  34.3354,2,  33.7000,2,    33.6,2,  127.74,2,   42.66,2,    0.00,2,    3.07,2,   0.159,2,   0.077,2,   0.007,2,  2357.9,2,  2363.1,2,-999.000,9,-999.0000,9, -999.00,9, -999.00,9,  -999.0,9,  -999.0,-999.000,9,-999.000, -999.00,9, 1085.30,-999.0000,9,-999.0000,9,-999.0000,9,-999.0000,9,-999.0000,9,-999.0000,-999.000,-999.0000,9, -999.00
318M20040615,        P02,      69,          1,         19,         19,2,20040710,       1946,    29.9967,    170.056,       5523,  1185.3,   3.1152,  34.3818,2,  34.3841,2,  31.4000,2,    31.8,2,  137.12,2,   43.05,2,    0.00,2,    3.09,2,   0.106,2,   0.053,2,   0.005,2,  2366.7,2,  2372.6,2,-999.000,9,-999.0000,9, -999.00,9, -999.00,9,  -999.0,9,  -999.0,-999.000,9,-999.000, -999.00,9, 1185.30,-999.0000,9,-999.0000,9,-999.0000,9,-999.0000,9,-999.0000,9,-999.0000,-999.000,-999.0000,9, -999.00
318M20040615,        P02,      69,          1,         18,         18,2,20040710,       1946,    29.9967,    170.056,       5523,  1285.9,   2.8782,  34.4252,2,  34.4269,2,  31.4000,2,    31.8,2,  145.25,2,   43.16,2,    0.00,2,    3.10,2,   0.064,2,   0.031,2,   0.003,2,  2373.8,2,  2382.4,2,-999.000,9,-999.0000,9, -999.00,9, -999.00,9,  -999.0,9,  -999.0,-999.000,9,-999.000, -999.00,9, 1285.90,-999.0000,9,-999.0000,9,-999.0000,9,-999.0000,9,-999.0000,9,-999.0000,-999.000,-999.0000,9, -999.00
318M20040615,        P02,      69,          1,         17,         17,2,20040710,       1946,    29.9967,    170.056,       5523,  1385.3,   2.6851,  34.4594,2,  34.4605,2,  33.7000,2,    34.1,2,  149.47,2,   43.44,2,    0.00,2,    3.09,2,   0.043,2,   0.020,2,   0.004,2,  -999.0,9,  -999.0,9,-999.000,9,-999.0000,9, -999.00,9, -999.00,9,  -999.0,9,  -999.0,-999.000,9,-999.000, -999.00,9, 1385.30,-999.0000,9,-999.0000,9,-999.0000,9,-999.0000,9,-999.0000,9,-999.0000,-999.000,-999.0000,9, -999.00
318M20040615,        P02,      69,          1,         16,         16,2,20040710,       1946,    29.9967,    170.056,       5523,  1489.7,   2.4904,  34.4979,2,  34.4997,2,  38.8000,2,    38.5,2,  154.56,2,   43.49,2,    0.00,2,    3.07,2,   0.022,2,   0.008,2,   0.001,2,  -999.0,9,  -999.0,9,-999.000,9,-999.0000,9, -999.00,9, -999.00,9,  -999.0,9,  -999.0,-999.000,9,-999.000, -999.00,9, 1489.70,-999.0000,9,-999.0000,9,-999.0000,9,-999.0000,9,-999.0000,9,-999.0000,-999.000,-999.0000,9, -999.00
318M20040615,        P02,      69,          1,         15,         15,2,20040710,       1946,    29.9967,    170.056,       5523,  1592.7,   2.3538,  34.5244,2,  34.5264,2,  44.7000,2,    44.0,2,  157.71,2,   43.30,2,    0.00,2,    3.05,2,   0.015,2,   0.007,2,   0.001,2,  -999.0,9,  2401.1,2,-999.000,9,-999.0000,9, -999.00,9, -999.00,9,  -999.0,9,  -999.0,-999.000,9,-999.000, -999.00,9, 1592.70,-999.0000,9,-999.0000,9,-999.0000,9,-999.0000,9,-999.0000,9,-999.0000,-999.000,-999.0000,9, -999.00
318M20040615,        P02,      69,          1,         14,         14,2,20040710,       1946,    29.9967,    170.056,       5523,  1689.6,   2.2233,  34.5512,2,  34.5523,2,  52.7000,2,    51.8,2,  160.15,2,   42.85,2,    0.00,2,    3.02,2,   0.010,2,   0.004,2,   0.001,2,  -999.0,9,  -999.0,9,-999.000,9,-999.0000,9, -999.00,9, -999.00,9,  -999.0,9,  -999.0,-999.000,9,-999.000, -999.00,9, 1689.60,-999.0000,9,-999.0000,9,-999.0000,9,-999.0000,9,-999.0000,9,-999.0000,-999.000,-999.0000,9, -999.00
318M20040615,        P02,      69,          1,         13,         13,2,20040710,       1946,    29.9967,    170.056,       5523,  1791.1,   2.1208,  34.5700,2,  34.5763,2,  60.4000,3,    59.4,2,  161.35,2,   42.27,2,    0.00,2,    2.98,2,   0.005,2,   0.003,2,   0.001,2,  -999.0,9,  2407.5,2,-999.000,9,-999.0000,9, -999.00,9, -999.00,9,  -999.0,9,  -999.0,-999.000,9,-999.000, -999.00,9, 1791.10,-999.0000,9,-999.0000,9,-999.0000,9,-999.0000,9,-999.0000,9,-999.0000,-999.000,-999.0000,9, -999.00
318M20040615,        P02,      69,          1,         12,         12,2,20040710,       1946,    29.9967,    170.056,       5523,  1994.8,   1.9197,  34.6004,2,  34.5992,2,  75.5000,2,    75.2,2,  163.43,2,   41.17,2,    0.00,2,    2.90,2,   0.006,2,   0.004,2,   0.001,2,  -999.0,9,  -999.0,9,-999.000,9,-999.0000,9, -999.00,9, -999.00,9,  -999.0,9,  -999.0,-999.000,9,-999.000, -999.00,9, 1994.80,-999.0000,9,-999.0000,9,-999.0000,9,-999.0000,9,-999.0000,9,-999.0000,-999.000,-999.0000,9, -999.00
318M20040615,        P02,      69,          1,         11,         11,2,20040710,       1946,    29.9967,    170.056,       5523,  2197.0,   1.7929,  34.6211,2,  34.6209,2,  90.3000,2,    89.5,2,  164.45,2,   40.14,2,    0.00,2,    2.83,2,   0.004,2,   0.000,2,   0.001,2,  -999.0,9,  2415.1,2,-999.000,9,-999.0000,9, -999.00,9, -999.00,9,  -999.0,9,  -999.0,-999.000,9,-999.000, -999.00,9, 2197.00,-999.0000,9,-999.0000,9,-999.0000,9,-999.0000,9,-999.0000,9,-999.0000,-999.000,-999.0000,9, -999.00
318M20040615,        P02,      69,          1,         10,         10,2,20040710,       1946,    29.9967,    170.056,       5523,  2458.8,   1.6618,  34.6410,2,  34.6415,2, 105.5000,2,   107.6,2,  161.99,2,   39.13,2,    0.00,2,    2.77,2,   0.005,2,   0.002,2,   0.001,2,  -999.0,9,  2417.6,2,-999.000,9,-999.0000,9, -999.00,9, -999.00,9,  -999.0,9,  -999.0,-999.000,9,-999.000, -999.00,9, 2458.80,-999.0000,9,-999.0000,9,-999.0000,9,-999.0000,9,-999.0000,9,-999.0000,-999.000,-999.0000,9, -999.00
318M20040615,        P02,      69,          1,          9,          9,2,20040710,       1946,    29.9967,    170.056,       5523,  2708.8,   1.5822,  34.6547,2,  34.6536,2, 119.4000,2,   118.4,2,  158.94,2,   38.22,2,    0.00,2,    2.70,2,   0.004,2,   0.001,2,   0.001,2,  -999.0,9,  2418.1,2,-999.000,9,-999.0000,9, -999.00,9, -999.00,9,  -999.0,9,  -999.0,-999.000,9,-999.000, -999.00,9, 2708.80,-999.0000,9,-999.0000,9,-999.0000,9,-999.0000,9,-999.0000,9,-999.0000,-999.000,-999.0000,9, -999.00
318M20040615,        P02,      69,          1,          8,          8,2,20040710,       1946,    29.9967,    170.056,       5523,  2958.9,   1.5236,  34.6651,2,  34.6667,2, 129.4000,2,   129.3,2,  156.04,2,   37.48,2,    0.00,2,    2.63,2,   0.005,2,   0.001,2,   0.001,2,  -999.0,9,  2418.3,2,-999.000,9,-999.0000,9, -999.00,9, -999.00,9,  -999.0,9,  -999.0,-999.000,9,-999.000, -999.00,9, 2958.90,-999.0000,9,-999.0000,9,-999.0000,9,-999.0000,9,-999.0000,9,-999.0000,-999.000,-999.0000,9, -999.00
318M20040615,        P02,      69,          1,          7,          7,2,20040710,       1946,    29.9967,    170.056,       5523,  3303.0,   1.4740,  34.6747,2,  34.6749,2, 139.6000,2,   140.5,2,  152.98,2,   36.85,2,    0.00,2,    2.58,2,   0.003,2,   0.001,2,   0.001,2,  -999.0,9,  2417.3,2,-999.000,9,-999.0000,9, -999.00,9, -999.00,9,  -999.0,9,  -999.0,-999.000,9,-999.000, -999.00,9, 3303.00,-999.0000,9,-999.0000,9,-999.0000,9,-999.0000,9,-999.0000,9,-999.0000,-999.000,-999.0000,9, -999.00
318M20040615,        P02,      69,          1,          6,          6,2,20040710,       1946,    29.9967,    170.056,       5523,  3710.1,   1.4457,  34.6816,2,  34.6806,2, 147.7000,2,   148.3,2,  150.81,2,   36.52,2,    0.00,2,    2.53,2,   0.002,2,   0.002,2,   0.001,2,  -999.0,9,  -999.0,9,-999.000,9,-999.0000,9, -999.00,9, -999.00,9,  -999.0,9,  -999.0,-999.000,9,-999.000, -999.00,9, 3710.10,-999.0000,9,-999.0000,9,-999.0000,9,-999.0000,9,-999.0000,9,-999.0000,-999.000,-999.0000,9, -999.00
318M20040615,        P02,      69,          1,          5,          5,2,20040710,       1946,    29.9967,    170.056,       5523,  4117.7,   1.4384,  34.6866,2,  34.6853,2, 154.4000,2,   155.0,2,  148.29,2,   36.18,2,    0.00,2,    2.49,2,   0.003,2,   0.003,2,   0.001,2,  -999.0,9,  2415.3,6,-999.000,9,-999.0000,9, -999.00,9, -999.00,9,  -999.0,9,  -999.0,-999.000,9,-999.000, -999.00,9, 4117.70,-999.0000,9,-999.0000,9,-999.0000,9,-999.0000,9,-999.0000,9,-999.0000,-999.000,-999.0000,9, -999.00
318M20040615,        P02,      69,          1,          4,          4,2,20040710,       1946,    29.9967,    170.056,       5523,  4526.3,   1.4388,  34.6909,2,  34.6946,2, 162.0000,3,   162.6,2,  143.63,2,   35.61,2,    0.00,2,    2.45,2,   0.005,2,   0.002,2,   0.003,2,  -999.0,9,  -999.0,9,-999.000,9,-999.0000,9, -999.00,9, -999.00,9,  -999.0,9,  -999.0,-999.000,9,-999.000, -999.00,9, 4526.30,-999.0000,9,-999.0000,9,-999.0000,9,-999.0000,9,-999.0000,9,-999.0000,-999.000,-999.0000,9, -999.00
318M20040615,        P02,      69,          1,          3,          3,2,20040710,       1946,    29.9967,    170.056,       5523,  4946.4,   1.4469,  34.6945,2,  34.6936,2, 169.2000,2,   169.9,2,  137.72,2,   34.99,2,    0.00,2,    2.41,2,   0.003,2,   0.004,2,   0.001,2,  2307.0,2,  2404.3,2,-999.000,9,-999.0000,9, -999.00,9, -999.00,9,  -999.0,9,  -999.0,-999.000,9,-999.000, -999.00,9, 4946.40,-999.0000,9,-999.0000,9,-999.0000,9,-999.0000,9,-999.0000,9,-999.0000,-999.000,-999.0000,9, -999.00
318M20040615,        P02,      69,          1,          2,          2,2,20040710,       1946,    29.9967,    170.056,       5523,  5354.8,   1.4675,  34.6968,2,  34.6977,2, 174.1000,3,   174.4,2,  134.12,2,   34.55,2,    0.00,2,    2.38,2,   0.004,2,   0.003,2,   0.004,2,  2302.5,2,  2401.8,2,-999.000,9,-999.0000,9, -999.00,9, -999.00,9,  -999.0,9,  -999.0,-999.000,9,-999.000, -999.00,9, 5354.80,-999.0000,9,-999.0000,9,-999.0000,9,-999.0000,9,-999.0000,9,-999.0000,-999.000,-999.0000,9, -999.00
318M20040615,        P02,      69,          1,          1,          1,2,20040710,       1946,    29.9967,    170.056,       5523,  5643.1,   1.4939,  34.6974,2,  34.6993,2, 176.1000,3,   176.6,2,  133.01,2,   34.32,2,    0.00,2,    2.38,2,   0.006,2,   0.002,2,   0.003,2,  2300.7,2,  2400.7,6,-999.000,9,-999.0000,9, -999.00,9, -999.00,9,  -999.0,9,  -999.0,-999.000,9,-999.000, -999.00,9, 5643.10,-999.0000,9,-999.0000,9,-999.0000,9,-999.0000,9,-999.0000,9,-999.0000,-999.000,-999.0000,9, -999.00