BOTTLE,20131027SIOCCHRJL
EXPOCODE,SECT_ID,STNNBR,CASTNO,SAMPNO,BTLNBR,BTLNBR_FLAG_W,DATE,TIME,LATITUDE,LONGITUDE,DEPTH,CTDPRS,CTDTMP,CTDSAL,CTDSAL_FLAG_W,SALNTY,SALNTY_FLAG_W,CTDOXY,CTDOXY_FLAG_W,OXYGEN,OXYGEN_FLAG_W,SILCAT,SILCAT_FLAG_W,NITRAT,NITRAT_FLAG_W,NITRIT,NITRIT_FLAG_W,PHSPHT,PHSPHT_FLAG_W,CFC-11,CFC-11_FLAG_W,CFC-12,CFC-12_FLAG_W,CFC113,CFC113_FLAG_W,TCARBN,TCARBN_FLAG_W,ALKALI,ALKALI_FLAG_W,TRITUM,TRITUM_FLAG_W,HELIUM,HELIUM_FLAG_W,DELHE3,DELHE3_FLAG_W,DELC13,DELC13_FLAG_W,DELC14,DELC14_FLAG_W,C14ERR,NEON,NEON_FLAG_W,NEONER,DOC,DOC_FLAG_W,CTDRAW,CDOM380,CDOM380_FLAG_W,CDOM325,CDOM325_FLAG_W,CDOMSL,CDOMSL_FLAG_W,CDOM340,CDOM340_FLAG_W,CDOMSN,CDOMSN_FLAG_W,HELIER,TRITER,CDOM412,CDOM412_FLAG_W,DELHER
,,,,,,,,,,,METERS,DBAR,ITS-90,PSS-78,,PSS-78,,UMOL/KG,,UMOL/KG,,UMOL/KG,,UMOL/KG,,UMOL/KG,,UMOL/KG,,PMOL/KG,,PMOL/KG,,PMOL/KG,,UMOL/KG,,UMOL/KG,,TU,,NMOL/KG,,PERCNT,,/MILLE,,/MILLE,,/MILLE,NMOL/KG,,NMOL/KG,UMOL/KG,,DBAR,1/M,,1/M,,1/NM,,1/M,,1/NM,,NMOL/KG,TU,1/M,,PERCNT
318M20040615,        P02,      20,          1,         31,         31,2,20040620,       2204,    29.9978,   137.7588,       4006,    25.6,  24.8453,  34.7046,2,  34.7095,2, 211.5000,2,   211.7,2,    1.20,2,    0.02,2,    0.00,2,    0.04,2,   1.906,2,   1.151,2,   0.130,2,  1967.0,6,  2278.8,6,-999.000,9,-999.0000,9, -999.00,9, -999.00,9,  -999.0,9,  -999.0,-999.000,9,-999.000,   67.80,2,   25.60,   0.0180,2,   0.0720,2,   0.0270,2,   0.0490,2,   0.0270,2,-999.0000,-999.000,   0.0110,2, -999.00
318M20040615,        P02,      20,          1,         30,         30,2,20040620,       2204,    29.9978,   137.7588,       4006,    40.4,  22.9101,  34.7721,2,  34.7703,2, 223.2000,2,   222.4,2,    1.02,2,    0.01,2,    0.00,2,    0.03,2,   2.070,2,   1.223,2,   0.136,2,  1970.7,2,  2284.5,2,-999.000,9,-999.0000,9, -999.00,9, -999.00,9,  -999.0,9,  -999.0,-999.000,9,-999.000,   65.00,2,   40.40,   0.0190,2,   0.0840,2,   0.0260,2,   0.0570,2,   0.0260,2,-999.0000,-999.000,   0.0100,2, -999.00
318M20040615,        P02,      20,          1,         29,         29,2,20040620,       2204,    29.9978,   137.7588,       4006,    75.3,  20.3010,  34.8631,2,  34.8655,2, 225.1000,2,   225.8,2,    1.55,2,    0.06,2,    0.00,2,    0.06,2,   2.222,2,   1.254,2,   0.123,2,  1987.8,2,  2290.3,2,-999.000,9,-999.0000,9, -999.00,9, -999.00,9,  -999.0,9,  -999.0,-999.000,9,-999.000,   63.10,2,   75.30,   0.0880,2,   0.1910,2,   0.0110,2,   0.1470,2,   0.0120,2,-999.0000,-999.000,   0.0660,2, -999.00
318M20040615,        P02,      20,          1,         28,         28,2,20040620,       2204,    29.9978,   137.7588,       4006,   123.7,  18.6261,  34.8521,2,  34.8527,2, 211.8000,2,   217.3,2,    2.08,2,    1.52,2,    0.18,2,    0.17,2,   2.322,2,   1.299,2,   0.111,2,  2008.5,2,  2288.7,2,-999.000,9,-999.0000,9, -999.00,9, -999.00,9,  -999.0,9,  -999.0,-999.000,9,-999.000,   59.10,2,  123.70,   0.0360,2,   0.1050,2,   0.0190,2,   0.0750,2,   0.0200,2,-999.0000,-999.000,   0.0250,2, -999.00
318M20040615,        P02,      20,          1,         27,         27,2,20040620,       2204,    29.9978,   137.7588,       4006,   173.1,  17.8111,  34.8067,2,  34.8103,2, 211.0000,2,   212.0,2,    2.98,2,    3.21,2,    0.02,2,    0.26,2,   2.430,2,   1.359,2,   0.093,2,  2017.7,2,  2283.7,2,-999.000,9,-999.0000,9, -999.00,9, -999.00,9,  -999.0,9,  -999.0,-999.000,9,-999.000,   57.40,2,  173.10,   0.0370,2,   0.1000,2,   0.0170,2,   0.0720,2,   0.0180,2,-999.0000,-999.000,   0.0270,2, -999.00
318M20040615,        P02,      20,          1,         26,         26,2,20040620,       2204,    29.9978,   137.7588,       4006,   226.5,  17.2081,  34.7694,2,  34.7721,2, 208.2000,2,   211.5,2,    3.51,2,    4.12,2,    0.01,2,    0.32,2,   2.490,2,   1.379,2,   0.076,2,  2024.2,2,  2282.0,2,-999.000,9,-999.0000,9, -999.00,9, -999.00,9,  -999.0,9,  -999.0,-999.000,9,-999.000,   55.80,2,  226.50,   0.0410,2,   0.1150,2,   0.0190,2,   0.0890,2,   0.0180,2,-999.0000,-999.000,   0.0250,2, -999.00
318M20040615,        P02,      20,          1,         25,         25,2,20040620,       2204,    29.9978,   137.7588,       4006,   276.1,  16.7381,  34.7272,2,  34.7368,2, 209.1000,2,   206.4,2,    4.40,2,    5.26,2,    0.01,2,    0.39,2,   2.527,2,   1.388,2,   0.046,2,  2033.1,2,  2280.5,2,-999.000,9,-999.0000,9, -999.00,9, -999.00,9,  -999.0,9,  -999.0,-999.000,9,-999.000,   53.50,2,  276.10,   0.0410,2,   0.1070,2,   0.0150,2,   0.0780,2,   0.0170,2,-999.0000,-999.000,   0.0300,2, -999.00
318M20040615,        P02,      20,          1,         24,         24,2,20040620,       2204,    29.9978,   137.7588,       4006,   344.7,  15.8177,  34.6630,2,  34.6649,2, 197.8000,2,   197.5,2,    7.27,2,    7.55,2,    0.01,2,    0.55,2,   2.544,2,   1.380,2,   0.034,2,  2048.7,2,  2278.8,2,-999.000,9,-999.0000,9, -999.00,9, -999.00,9,  -999.0,9,  -999.0,-999.000,9,-999.000,   51.10,2,  344.70,   0.0240,2,   0.0880,2,   0.0240,2,   0.0620,2,   0.0240,2,-999.0000,-999.000,   0.0140,2, -999.00
318M20040615,        P02,      20,          1,         23,         23,2,20040620,       2204,    29.9978,   137.7588,       4006,   445.9,  13.8093,  34.5161,2,  34.5176,2, 182.0000,2,   183.7,2,   14.27,2,   12.02,2,    0.01,2,    0.88,2,   2.573,2,   1.342,2,   0.030,2,  2084.4,2,  2276.2,2,-999.000,9,-999.0000,9, -999.00,9, -999.00,9,  -999.0,9,  -999.0,-999.000,9,-999.000,   49.00,2,  445.90,   0.0270,2,   0.0910,2,   0.0230,2,   0.0620,2,   0.0240,2,-999.0000,-999.000,   0.0180,2, -999.00
318M20040615,        P02,      20,          1,         22,         22,2,20040620,       2204,    29.9978,   137.7588,       4006,   543.3,  11.3334,  34.3609,2,  34.3648,2, 163.6000,2,   167.2,2,   25.61,2,   17.60,2,    0.00,2,    1.28,2,   2.359,2,   1.218,2,   0.041,2,  2126.1,2,  2278.6,2,-999.000,9,-999.0000,9, -999.00,9, -999.00,9,  -999.0,9,  -999.0,-999.000,9,-999.000,   48.00,2,  543.30,-999.0000,9,-999.0000,9,-999.0000,9,-999.0000,9,-999.0000,9,-999.0000,-999.000,-999.0000,9, -999.00
318M20040615,        P02,      20,          1,         21,         21,2,20040620,       2204,    29.9978,   137.7588,       4006,   644.9,   8.2768,  34.1994,2,  34.2017,2, 142.2000,2,   139.9,2,   46.58,2,   25.22,2,    0.00,2,    1.85,2,   1.918,2,   1.004,2,   0.052,2,  2185.7,2,  2289.3,2,-999.000,9,-999.0000,9, -999.00,9, -999.00,9,  -999.0,9,  -999.0,-999.000,9,-999.000,   47.00,2,  644.90,   0.1540,3,   0.3290,3,   0.0110,3,   0.2640,3,   0.0120,3,-999.0000,-999.000,   0.1140,3, -999.00
318M20040615,        P02,      20,          1,         20,         20,2,20040620,       2204,    29.9978,   137.7588,       4006,   746.6,   6.3665,  34.1613,2,  34.1627,2, 113.1000,2,   111.3,2,   68.18,2,   31.02,2,    0.00,2,    2.31,2,   1.475,2,   0.770,2,   0.050,2,  2236.4,2,  2305.1,2,-999.000,9,-999.0000,9, -999.00,9, -999.00,9,  -999.0,9,  -999.0,-999.000,9,-999.000,   45.60,2,  746.60,   0.0610,2,   0.1620,2,   0.0140,2,   0.1150,2,   0.0160,2,-999.0000,-999.000,   0.0440,2, -999.00
318M20040615,        P02,      20,          1,         19,         19,2,20040620,       2204,    29.9978,   137.7588,       4006,   846.9,   5.1680,  34.1974,2,  34.1984,2,  84.6000,2,    83.7,2,   87.32,2,   35.60,2,    0.00,2,    2.63,2,   0.962,2,   0.501,2,   0.028,2,  2278.3,2,  2323.0,2,-999.000,9,-999.0000,9, -999.00,9, -999.00,9,  -999.0,9,  -999.0,-999.000,9,-999.000,   43.30,2,  846.90,   0.0720,2,   0.1830,2,   0.0140,2,   0.1320,2,   0.0150,2,-999.0000,-999.000,   0.0520,2, -999.00
318M20040615,        P02,      20,          1,         18,         18,2,20040620,       2204,    29.9978,   137.7588,       4006,   946.6,   4.6090,  34.2599,2,  34.2605,2,  68.8000,2,    69.5,2,   99.77,2,   37.90,2,    0.00,2,    2.78,2,   0.619,2,   0.327,2,   0.021,2,  2301.3,2,  2335.4,2,-999.000,9,-999.0000,9, -999.00,9, -999.00,9,  -999.0,9,  -999.0,-999.000,9,-999.000,   41.80,2,  946.60,   0.0850,2,   0.2030,2,   0.0130,2,   0.1480,2,   0.0140,2,-999.0000,-999.000,   0.0640,2, -999.00
318M20040615,        P02,      20,          1,         17,         17,2,20040620,       2204,    29.9978,   137.7588,       4006,  1047.5,   3.8827,  34.3363,2,  34.3383,2,  58.9000,2,    58.6,2,  115.55,2,   40.00,2,    0.00,2,    2.91,2,   0.320,2,   0.162,2,   0.008,2,  2326.2,2,  2355.3,2,-999.000,9,-999.0000,9, -999.00,9, -999.00,9,  -999.0,9,  -999.0,-999.000,9,-999.000,   40.30,2, 1047.50,   0.0980,2,   0.2240,2,   0.0130,2,   0.1660,2,   0.0130,2,-999.0000,-999.000,   0.0740,2, -999.00
318M20040615,        P02,      20,          1,         16,         16,2,20040620,       2204,    29.9978,   137.7588,       4006,  1144.6,   3.4861,  34.3834,2,  34.3840,2,  54.9000,2,    54.8,2,  125.13,2,   40.85,2,    0.00,2,    2.96,2,   0.199,2,   0.097,2,   0.006,2,  2339.4,6,  2365.9,2,-999.000,9,-999.0000,9, -999.00,9, -999.00,9,  -999.0,9,  -999.0,-999.000,9,-999.000,   39.50,2, 1144.60,   0.1070,2,   0.2430,2,   0.0120,2,   0.1800,2,   0.0130,2,-999.0000,-999.000,   0.0820,2, -999.00
318M20040615,        P02,      20,          1,         15,         15,2,20040620,       2204,    29.9978,   137.7588,       4006,  1246.4,   3.1282,  34.4395,2,  34.4409,2,  60.0000,2,    60.5,2,  132.68,2,   40.78,2,    0.00,2,    2.94,2,   0.116,2,   0.056,2,   0.003,2,  2347.3,2,  2377.6,2,-999.000,9,-999.0000,9, -999.00,9, -999.00,9,  -999.0,9,  -999.0,-999.000,9,-999.000,   38.20,2, 1246.40,-999.0000,9,-999.0000,9,-999.0000,9,-999.0000,9,-999.0000,9,-999.0000,-999.000,-999.0000,9, -999.00
318M20040615,        P02,      20,          1,         14,         14,2,20040620,       2204,    29.9978,   137.7588,       4006,  1347.2,   2.9154,  34.4709,2,  34.4724,2,  65.0000,2,    65.3,2,  136.55,2,   40.57,2,    0.00,2,    2.92,2,   0.086,2,   0.041,2,   0.002,2,  2348.0,2,  2382.6,2,-999.000,9,-999.0000,9, -999.00,9, -999.00,9,  -999.0,9,  -999.0,-999.000,9,-999.000,   38.60,2, 1347.20,-999.0000,9,-999.0000,9,-999.0000,9,-999.0000,9,-999.0000,9,-999.0000,-999.000,-999.0000,9, -999.00
318M20040615,        P02,      20,          1,         13,         13,2,20040620,       2204,    29.9978,   137.7588,       4006,  1448.7,   2.7171,  34.4985,2,  34.5005,2,  70.7000,2,    70.5,2,  139.68,2,   40.35,2,    0.00,2,    2.89,2,   0.061,2,   0.028,2,   0.003,2,  2350.1,2,  2389.5,2,-999.000,9,-999.0000,9, -999.00,9, -999.00,9,  -999.0,9,  -999.0,-999.000,9,-999.000,   38.40,2, 1448.70,-999.0000,9,-999.0000,9,-999.0000,9,-999.0000,9,-999.0000,9,-999.0000,-999.000,-999.0000,9, -999.00
318M20040615,        P02,      20,          1,         12,         12,2,20040620,       2204,    29.9978,   137.7588,       4006,  1552.6,   2.6025,  34.5144,2,  34.5168,2,  73.9000,2,    74.1,2,  141.72,2,   40.18,2,    0.00,2,    2.88,2,   0.048,2,   0.027,2,   0.001,2,  2351.6,2,  2392.8,2,-999.000,9,-999.0000,9, -999.00,9, -999.00,9,  -999.0,9,  -999.0,-999.000,9,-999.000,   37.80,2, 1552.60,-999.0000,9,-999.0000,9,-999.0000,9,-999.0000,9,-999.0000,9,-999.0000,-999.000,-999.0000,9, -999.00
318M20040615,        P02,      20,          1,         11,         11,2,20040620,       2204,    29.9978,   137.7588,       4006,  1665.2,   2.4741,  34.5321,2,  34.5335,2,  75.4000,2,    77.4,2,  143.93,2,   40.06,2,    0.00,2,    2.87,2,-999.000,5,-999.000,5,-999.000,5,  -999.0,9,  -999.0,9,-999.000,9,-999.0000,9, -999.00,9, -999.00,9,  -999.0,9,  -999.0,-999.000,9,-999.000,   37.30,9, 1665.20,-999.0000,9,-999.0000,9,-999.0000,9,-999.0000,9,-999.0000,9,-999.0000,-999.000,-999.0000,9, -999.00
318M20040615,        P02,      20,          1,         10,         10,2,20040620,       2204,    29.9978,   137.7588,       4006,  1691.2,   2.4357,  34.5382,2,  34.5400,2,  79.5000,2,    80.1,2,  144.11,2,   39.80,2,    0.00,2,    2.86,2,   0.033,2,   0.016,2,  -0.002,2,  2352.5,2,  2398.9,2,-999.000,9,-999.0000,9, -999.00,9, -999.00,9,  -999.0,9,  -999.0,-999.000,9,-999.000,   37.80,2, 1691.20,-999.0000,9,-999.0000,9,-999.0000,9,-999.0000,9,-999.0000,9,-999.0000,-999.000,-999.0000,9, -999.00
318M20040615,        P02,      20,          1,          9,          9,2,20040620,       2204,    29.9978,   137.7588,       4006,  1896.7,   2.1700,  34.5750,2,  34.5763,2,  94.0000,2,    91.3,2,  147.25,2,   39.31,2,    0.00,2,    2.82,2,   0.016,2,   0.010,2,   0.002,2,  2350.4,2,  2403.1,2,-999.000,9,-999.0000,9, -999.00,9, -999.00,9,  -999.0,9,  -999.0,-999.000,9,-999.000,   37.60,2, 1896.70,-999.0000,9,-999.0000,9,-999.0000,9,-999.0000,9,-999.0000,9,-999.0000,-999.000,-999.0000,9, -999.00
318M20040615,        P02,      20,          1,          8,          8,2,20040620,       2204,    29.9978,   137.7588,       4006,  2117.7,   1.9703,  34.6064,2,  34.6080,2, 108.3000,2,   107.3,2,  146.89,2,   38.41,2,    0.00,2,    2.74,2,   0.011,2,   0.010,2,  -0.002,2,  2343.4,2,  2408.6,2,-999.000,9,-999.0000,9, -999.00,9, -999.00,9,  -999.0,9,  -999.0,-999.000,9,-999.000,   37.30,2, 2117.70,   0.0980,2,   0.2180,2,   0.0110,2,   0.1620,2,   0.0120,2,-999.0000,-999.000,   0.0750,2, -999.00
318M20040615,        P02,      20,          1,          7,          7,2,20040620,       2204,    29.9978,   137.7588,       4006,  2378.9,   1.8060,  34.6316,2,  34.6345,2, 120.6000,3,   120.7,2,  146.14,2,   37.56,2,    0.00,2,    2.68,2,   0.005,2,   0.004,2,   0.002,2,  2337.4,2,  2409.5,2,-999.000,9,-999.0000,9, -999.00,9, -999.00,9,  -999.0,9,  -999.0,-999.000,9,-999.000,   37.20,2, 2378.90,-999.0000,9,-999.0000,9,-999.0000,9,-999.0000,9,-999.0000,9,-999.0000,-999.000,-999.0000,9, -999.00
318M20040615,        P02,      20,          1,          6,          6,2,20040620,       2204,    29.9978,   137.7588,       4006,  2631.4,   1.7022,  34.6480,2,  34.6495,2, 130.4000,2,   130.9,2,  145.03,2,   36.92,2,    0.00,2,    2.63,2,   0.005,2,   0.005,2,   0.002,2,  2331.4,2,  2415.3,2,-999.000,9,-999.0000,9, -999.00,9, -999.00,9,  -999.0,9,  -999.0,-999.000,9,-999.000,   37.00,2, 2631.40,-999.0000,9,-999.0000,9,-999.0000,9,-999.0000,9,-999.0000,9,-999.0000,-999.000,-999.0000,9, -999.00
318M20040615,        P02,      20,          1,          5,          5,2,20040620,       2204,    29.9978,   137.7588,       4006,  2887.5,   1.6365,  34.6590,2,  34.6601,2, 137.7000,2,   138.0,2,  144.09,2,   36.39,2,    0.00,2,    2.59,2,   0.006,2,   0.004,2,   0.002,2,  2324.0,3,  2413.0,2,-999.000,9,-999.0000,9, -999.00,9, -999.00,9,  -999.0,9,  -999.0,-999.000,9,-999.000,   37.60,2, 2887.50,-999.0000,9,-999.0000,9,-999.0000,9,-999.0000,9,-999.0000,9,-999.0000,-999.000,-999.0000,9, -999.00
318M20040615,        P02,      20,          1,          4,          4,2,20040620,       2204,    29.9978,   137.7588,       4006,  3143.3,   1.5840,  34.6675,2,  34.6701,2, 143.2000,3,   143.8,2,  143.36,2,   36.12,2,    0.00,2,    2.57,2,   0.007,2,   0.005,2,  -0.003,2,  2320.0,2,  2415.0,2,-999.000,9,-999.0000,9, -999.00,9, -999.00,9,  -999.0,9,  -999.0,-999.000,9,-999.000,   37.80,2, 3143.30,   0.0770,2,   0.1840,2,   0.0130,2,   0.1330,2,   0.0140,2,-999.0000,-999.000,   0.0560,2, -999.00
318M20040615,        P02,      20,          1,          3,          3,2,20040620,       2204,    29.9978,   137.7588,       4006,  3559.0,   1.5174,  34.6791,2,  34.6812,2, 151.5000,3,   152.1,2,  142.46,2,   35.60,2,    0.00,2,    2.52,2,   0.007,2,   0.004,2,   0.002,2,  2319.9,2,  2414.9,2,-999.000,9,-999.0000,9, -999.00,9, -999.00,9,  -999.0,9,  -999.0,-999.000,9,-999.000,   37.80,2, 3559.00,-999.0000,9,-999.0000,9,-999.0000,9,-999.0000,9,-999.0000,9,-999.0000,-999.000,-999.0000,9, -999.00
318M20040615,        P02,      20,          1,          2,          2,2,20040620,       2204,    29.9978,   137.7588,       4006,  3926.3,   1.5278,  34.6821,2,  34.6843,2, 154.1000,3,   154.4,2,  141.92,2,   35.45,2,    0.00,2,    2.50,2,   0.008,2,   0.008,2,   0.001,2,  2320.5,6,  2415.4,2,-999.000,9,-999.0000,9, -999.00,9, -999.00,9,  -999.0,9,  -999.0,-999.000,9,-999.000,   37.50,2, 3926.30,-999.0000,9,-999.0000,9,-999.0000,9,-999.0000,9,-999.0000,9,-999.0000,-999.000,-999.0000,9, -999.00
318M20040615,        P02,      20,          1,          1,          1,2,20040620,       2204,    29.9978,   137.7588,       4006,  4069.3,   1.5413,  34.6825,2,  34.6843,2, 154.3000,3,   154.7,2,  141.55,2,   35.38,2,    0.00,2,    2.50,2,   0.007,2,   0.008,2,   0.002,2,  2320.5,6,  2415.0,6,-999.000,9,-999.0000,9, -999.00,9, -999.00,9,  -999.0,9,  -999.0,-999.000,9,-999.000, -999.00,2, 4069.30,   0.1690,2,   0.3310,2,   0.0090,2,   0.2580,2,   0.0100,2,-999.0000,-999.000,   0.1300,2, -999.00