BOTTLE,20131027SIOCCHRJL
EXPOCODE,SECT_ID,STNNBR,CASTNO,SAMPNO,BTLNBR,BTLNBR_FLAG_W,DATE,TIME,LATITUDE,LONGITUDE,DEPTH,CTDPRS,CTDTMP,CTDSAL,CTDSAL_FLAG_W,SALNTY,SALNTY_FLAG_W,CTDOXY,CTDOXY_FLAG_W,OXYGEN,OXYGEN_FLAG_W,SILCAT,SILCAT_FLAG_W,NITRAT,NITRAT_FLAG_W,NITRIT,NITRIT_FLAG_W,PHSPHT,PHSPHT_FLAG_W,CFC-11,CFC-11_FLAG_W,CFC-12,CFC-12_FLAG_W,CFC113,CFC113_FLAG_W,TCARBN,TCARBN_FLAG_W,ALKALI,ALKALI_FLAG_W,TRITUM,TRITUM_FLAG_W,HELIUM,HELIUM_FLAG_W,DELHE3,DELHE3_FLAG_W,DELC13,DELC13_FLAG_W,DELC14,DELC14_FLAG_W,C14ERR,NEON,NEON_FLAG_W,NEONER,DOC,DOC_FLAG_W,CTDRAW,CDOM380,CDOM380_FLAG_W,CDOM325,CDOM325_FLAG_W,CDOMSL,CDOMSL_FLAG_W,CDOM340,CDOM340_FLAG_W,CDOMSN,CDOMSN_FLAG_W,HELIER,TRITER,CDOM412,CDOM412_FLAG_W,DELHER
,,,,,,,,,,,METERS,DBAR,ITS-90,PSS-78,,PSS-78,,UMOL/KG,,UMOL/KG,,UMOL/KG,,UMOL/KG,,UMOL/KG,,UMOL/KG,,PMOL/KG,,PMOL/KG,,PMOL/KG,,UMOL/KG,,UMOL/KG,,TU,,NMOL/KG,,PERCNT,,/MILLE,,/MILLE,,/MILLE,NMOL/KG,,NMOL/KG,UMOL/KG,,DBAR,1/M,,1/M,,1/NM,,1/M,,1/NM,,NMOL/KG,TU,1/M,,PERCNT
318M20040615,        P02,      28,          1,         36,         36,2,20040625,       1751,    30.0028,   142.2548,       5855,     8.3,  26.8075,  34.9687,2,-999.0000,9, 204.6000,9,   203.4,2, -999.00,9, -999.00,9, -999.00,9, -999.00,9,   1.763,2,   1.061,2,   0.131,2,  1971.9,6,  2296.0,6,-999.000,9,   1.7246,2,   -1.05,2, -999.00,9,  -999.0,9,  -999.0,-999.000,9,-999.000,   68.40,2,    8.30,   0.0310,2,   0.0980,2,   0.0210,2,   0.0780,2,   0.0190,2,   0.0086,-999.000,   0.0200,2,    0.20
318M20040615,        P02,      28,          1,         35,         35,2,20040625,       1751,    30.0028,   142.2548,       5855,    47.1,  21.8356,  34.9196,2,-999.0000,9, 227.3000,9,   227.5,2,    1.41,2,    0.24,2,    0.00,2,    0.05,2,   2.152,2,   1.290,2,   0.127,2,  1982.6,2,  2293.2,2,   0.784,2,   1.7302,2,   -1.14,2, -999.00,9,  -999.0,9,  -999.0,-999.000,9,-999.000,   64.60,2,   47.10,   0.0410,2,   0.1240,2,   0.0180,2,   0.0870,2,   0.0200,2,   0.0087,   0.007,   0.0270,2,    0.20
318M20040615,        P02,      28,          1,         34,         34,2,20040625,       1751,    30.0028,   142.2548,       5855,    97.2,  18.9130,  34.8529,2,  34.8510,2, 214.5000,2,   224.1,2,    1.76,2,    0.28,2,    0.13,2,    0.08,2,   2.356,2,   1.413,2,   0.123,2,  2003.6,2,  2288.8,2,   0.789,2,   1.7932,2,   -1.36,2, -999.00,9,  -999.0,9,  -999.0,-999.000,9,-999.000,   62.20,2,   97.20,   0.0520,2,   0.1320,2,   0.0140,2,   0.0980,2,   0.0160,2,   0.0090,   0.006,   0.0360,2,    0.20
318M20040615,        P02,      28,          1,         33,         33,2,20040625,       1751,    30.0028,   142.2548,       5855,   157.2,  17.8167,  34.8016,2,  34.8073,2, 207.0000,2,   208.9,2,    2.98,2,    3.48,2,    0.03,2,    0.25,2,   2.431,2,   1.445,2,   0.091,2,  2022.0,2,  2283.5,2,   0.767,2,   1.7913,2,   -0.69,2, -999.00,9,  -999.0,9,  -999.0,-999.000,9,-999.000,   56.50,2,  157.20,   0.0300,2,   0.0860,2,   0.0190,2,   0.0610,2,   0.0200,2,   0.0090,   0.007,   0.0210,2,    0.20
318M20040615,        P02,      28,          1,         32,         32,2,20040625,       1751,    30.0028,   142.2548,       5855,   206.4,  17.1457,  34.7717,2,  34.7712,2, 210.4000,2,   212.3,2,    3.69,2,    4.21,2,    0.01,2,    0.30,2,   2.481,2,   1.478,2,   0.085,2,  2026.5,2,  2282.7,2,   0.774,2,   1.8126,2,   -0.43,2, -999.00,9,  -999.0,9,  -999.0,-999.000,9,-999.000,   56.40,2,  206.40,   0.0370,2,   0.0950,2,   0.0160,2,   0.0700,2,   0.0170,2,   0.0091,   0.006,   0.0260,2,    0.20
318M20040615,        P02,      28,          1,         31,         31,2,20040625,       1751,    30.0028,   142.2548,       5855,   256.7,  16.7312,  34.7444,2,  34.7444,2, 207.4000,2,   212.9,2,    4.39,2,    4.89,2,    0.01,2,    0.34,2,   2.517,2,   1.503,2,   0.071,2,  2030.0,2,  2279.6,2,-999.000,9,   1.7895,2,   -0.53,2, -999.00,9,  -999.0,9,  -999.0,-999.000,9,-999.000,   53.10,2,  256.70,   0.0380,2,   0.0970,2,   0.0160,2,   0.0710,2,   0.0170,2,   0.0089,-999.000,   0.0260,2,    0.20
318M20040615,        P02,      28,          1,         30,         30,2,20040625,       1751,    30.0028,   142.2548,       5855,   307.2,  16.0762,  34.6837,2,  34.6828,2, 202.8000,2,   201.5,2,    6.68,2,    6.90,2,    0.00,2,    0.49,2,   2.547,2,   1.465,2,   0.044,2,  2047.2,2,  2279.0,2,   0.807,2,   1.8202,2,    0.98,2, -999.00,9,  -999.0,9,  -999.0,-999.000,9,-999.000,   51.60,2,  307.20,   0.0450,2,   0.1120,2,   0.0140,2,   0.0830,2,   0.0160,2,   0.0091,   0.006,   0.0320,2,    0.20
318M20040615,        P02,      28,          1,         29,         29,2,20040625,       1751,    30.0028,   142.2548,       5855,   357.5,  15.2968,  34.6204,2,  34.6195,2, 191.4000,2,   193.0,2,    8.97,2,    8.77,2,    0.00,2,    0.63,2,   2.598,2,   1.467,2,   0.034,2,  2061.4,2,  2278.2,2,   0.830,2,-999.0000,9, -999.00,9, -999.00,9,  -999.0,9,  -999.0,-999.000,9,-999.000,   51.50,2,  357.50,   0.0330,2,   0.0940,2,   0.0190,2,   0.0670,2,   0.0200,2,-999.0000,   0.006,   0.0220,2, -999.00
318M20040615,        P02,      28,          1,         28,         28,2,20040625,       1751,    30.0028,   142.2548,       5855,   406.9,  14.2480,  34.5445,2,  34.5431,2, 183.3000,2,   187.9,2,   12.31,2,   10.91,2,    0.00,2,    0.78,2,   2.594,2,   1.445,2,   0.031,2,  2076.8,2,  2277.2,2,-999.000,9,   1.7924,2,    3.30,2, -999.00,9,  -999.0,9,  -999.0,-999.000,9,-999.000,   51.40,2,  406.90,   0.0460,2,   0.1170,2,   0.0160,2,   0.0870,2,   0.0170,2,   0.0090,-999.000,   0.0310,2,    0.20
318M20040615,        P02,      28,          1,         27,         27,2,20040625,       1751,    30.0028,   142.2548,       5855,   457.1,  12.9992,  34.4592,2,  34.4585,2, 180.6000,2,   183.0,2,   16.89,2,   13.43,2,    0.00,2,    0.92,2,   2.594,2,   1.415,2,   0.043,2,  2095.3,2,  2276.0,2,   0.819,2,   1.7997,2,    4.47,2, -999.00,9,  -999.0,9,  -999.0,-999.000,9,-999.000,   50.70,2,  457.10,   0.0540,2,   0.1350,2,   0.0140,2,   0.0990,2,   0.0150,2,   0.0090,   0.008,   0.0390,2,    0.20
318M20040615,        P02,      28,          1,         26,         26,2,20040625,       1751,    30.0028,   142.2548,       5855,   507.6,  11.6933,  34.3733,2,  34.3720,2, 174.1000,2,   174.8,2,   22.89,2,   16.35,2,    0.00,2,    1.13,2,   2.489,2,   1.324,2,   0.056,2,  2116.1,2,  2276.9,2,-999.000,9,   1.8141,2,    6.22,2, -999.00,9,  -999.0,9,  -999.0,-999.000,9,-999.000,   49.40,2,  507.60,   0.0490,2,   0.1260,2,   0.0150,2,   0.0920,2,   0.0160,2,   0.0091,-999.000,   0.0330,2,    0.20
318M20040615,        P02,      28,          1,         25,         25,2,20040625,       1751,    30.0028,   142.2548,       5855,   607.8,   8.6634,  34.1846,2,  34.1811,2, 157.7000,2,   155.0,2,   41.30,2,   23.46,2,    0.00,2,    1.66,2,   2.257,2,   1.163,2,   0.076,2,  2169.8,2,  2283.5,2,-999.000,9,   1.8286,2,   10.05,2, -999.00,9,  -999.0,9,  -999.0,-999.000,9,-999.000,   47.10,2,  607.80,   0.0680,2,   0.1640,2,   0.0140,2,   0.1230,2,   0.0150,2,   0.0091,-999.000,   0.0460,2,    0.20
318M20040615,        P02,      28,          1,         24,         24,2,20040625,       1751,    30.0028,   142.2548,       5855,   708.4,   6.4861,  34.0838,2,  34.0898,2, 137.3000,2,   127.7,2,   60.86,2,   29.88,2,    0.00,2,    2.14,2,   1.916,2,   0.937,2,   0.077,2,  2220.8,2,  2295.6,2,   0.581,2,   1.8552,2,   12.45,2, -999.00,9,  -999.0,9,  -999.0,-999.000,9,-999.000,   45.40,2,  708.40,   0.0880,2,   0.1960,2,   0.0130,2,   0.1490,2,   0.0140,2,   0.0093,   0.005,   0.0610,2,    0.20
318M20040615,        P02,      28,          1,         23,         23,2,20040625,       1751,    30.0028,   142.2548,       5855,   809.0,   5.1842,  34.1066,2,  34.1065,2,  98.3000,2,    93.4,2,   80.87,2,   35.17,2,    0.00,2,    2.52,2,   1.370,2,   0.641,2,   0.056,2,  2267.9,2,  2310.7,2,   0.403,2,   1.8837,2,   14.41,2, -999.00,9,  -999.0,9,  -999.0,-999.000,9,-999.000,   43.40,2,  809.00,   0.0820,2,   0.1990,2,   0.0130,2,   0.1450,2,   0.0140,2,   0.0094,   0.004,   0.0590,2,    0.20
318M20040615,        P02,      28,          1,         22,         22,2,20040625,       1751,    30.0028,   142.2548,       5855,   909.4,   4.4714,  34.2009,2,  34.2000,2,  68.0000,2,    64.8,2,   99.56,2,   38.74,2,    0.00,2,    2.78,2,   0.741,2,   0.344,2,   0.029,2,  2305.7,2,  2331.5,2,-999.000,9,-999.0000,9, -999.00,9, -999.00,9,  -999.0,9,  -999.0,-999.000,9,-999.000,   42.00,2,  909.40,   0.0830,2,   0.1980,2,   0.0130,2,   0.1450,2,   0.0140,2,-999.0000,-999.000,   0.0600,2, -999.00
318M20040615,        P02,      28,          1,         21,         21,2,20040625,       1751,    30.0028,   142.2548,       5855,  1009.8,   3.9965,  34.2736,2,  34.2712,2,  53.4000,2,    52.2,2,  112.01,2,   40.30,2,    0.00,2,    2.88,2,   0.420,2,   0.194,2,   0.009,2,  2325.0,2,  2346.2,2,   0.194,2,-999.0000,9, -999.00,9, -999.00,9,  -999.0,9,  -999.0,-999.000,9,-999.000,   40.30,2, 1009.80,   0.0900,2,   0.2090,2,   0.0130,2,   0.1530,2,   0.0140,2,-999.0000,   0.003,   0.0670,2, -999.00
318M20040615,        P02,      28,          1,         20,         20,2,20040625,       1751,    30.0028,   142.2548,       5855,  1110.7,   3.5257,  34.3294,2,  34.3279,2,  42.1000,2,    41.1,2,  125.58,2,   41.81,2,    0.00,2,    2.98,2,   0.217,2,   0.100,2,   0.005,2,  2346.8,2,  2360.4,2,   0.121,2,   1.9078,2,   16.75,2, -999.00,9,  -999.0,9,  -999.0,-999.000,9,-999.000,   39.40,2, 1110.70,-999.0000,9,-999.0000,9,-999.0000,9,-999.0000,9,-999.0000,9,   0.0095,   0.002,-999.0000,9,    0.20
318M20040615,        P02,      28,          1,         19,         19,2,20040625,       1751,    30.0028,   142.2548,       5855,  1211.0,   3.2413,  34.3790,2,  34.3778,2,  41.2000,2,    40.4,2,  133.75,2,   42.13,2,    0.00,2,    2.99,2,   0.149,6,   0.067,6,   0.004,6,  2356.7,6,  2369.8,2,-999.000,9,   1.7851,2,   16.28,2, -999.00,9,  -999.0,9,  -999.0,-999.000,9,-999.000,   38.50,2, 1211.00,-999.0000,9,-999.0000,9,-999.0000,9,-999.0000,9,-999.0000,9,   0.0089,-999.000,-999.0000,9,    0.20
318M20040615,        P02,      28,          1,         18,         18,2,20040625,       1751,    30.0028,   142.2548,       5855,  1311.7,   2.9873,  34.4206,2,  34.4210,2,  37.9000,2,    37.9,2,  141.03,2,   42.67,2,    0.00,2,    3.07,2,   0.075,2,   0.034,2,   0.002,2,  2366.4,2,  2378.9,6,-999.000,9,   1.9134,2,   17.76,2, -999.00,9,  -999.0,9,  -999.0,-999.000,9,-999.000,   37.90,2, 1311.70,-999.0000,9,-999.0000,9,-999.0000,9,-999.0000,9,-999.0000,9,   0.0096,-999.000,-999.0000,9,    0.20
318M20040615,        P02,      28,          1,         17,         17,2,20040625,       1751,    30.0028,   142.2548,       5855,  1412.6,   2.7302,  34.4593,2,  34.4587,2,  41.4000,2,    41.2,2,  148.16,2,   42.56,2,    0.00,2,    3.07,2,   0.058,2,   0.028,2,   0.001,2,  2371.3,2,  2384.9,2,   0.035,2,   1.9272,2,   17.77,2, -999.00,9,  -999.0,9,  -999.0,-999.000,9,-999.000,   37.90,2, 1412.60,-999.0000,9,-999.0000,9,-999.0000,9,-999.0000,9,-999.0000,9,   0.0096,   0.001,-999.0000,9,    0.20
318M20040615,        P02,      28,          1,         16,         16,2,20040625,       1751,    30.0028,   142.2548,       5855,  1513.0,   2.5630,  34.4918,2,  34.4917,2,  42.4000,2,    44.3,2,  151.66,2,   42.39,2,    0.00,2,    3.06,2,   0.029,2,   0.016,2,   0.002,2,  2374.9,2,  2393.4,2,   0.026,2,   1.9382,2,   17.94,2, -999.00,9,  -999.0,9,  -999.0,-999.000,9,-999.000,   37.90,2, 1513.00,-999.0000,9,-999.0000,9,-999.0000,9,-999.0000,9,-999.0000,9,   0.0097,   0.001,-999.0000,9,    0.20
318M20040615,        P02,      28,          1,         15,         15,2,20040625,       1751,    30.0028,   142.2548,       5855,  1613.8,   2.4027,  34.5168,2,  34.5175,2,  46.4000,2,    47.3,2,  156.40,2,   42.49,2,    0.00,2,    3.04,2,   0.019,2,   0.007,2,   0.003,2,  2377.0,2,  2399.0,2,   0.013,2,   1.9248,2,   18.68,2, -999.00,9,  -999.0,9,  -999.0,-999.000,9,-999.000,   38.30,2, 1613.80,-999.0000,9,-999.0000,9,-999.0000,9,-999.0000,9,-999.0000,9,   0.0096,   0.000,-999.0000,9,    0.20
318M20040615,        P02,      28,          1,         14,         14,2,20040625,       1751,    30.0028,   142.2548,       5855,  1815.9,   2.1759,  34.5635,2,  34.5640,2,  63.9000,2,    65.7,2,  158.47,2,   41.43,2,    0.00,2,    2.96,2,   0.006,2,   0.003,2,   0.001,2,  2370.4,2,  2405.6,2,   0.010,2,   1.9513,2,   18.70,2, -999.00,9,  -999.0,9,  -999.0,-999.000,9,-999.000,   37.60,2, 1815.90,-999.0000,9,-999.0000,9,-999.0000,9,-999.0000,9,-999.0000,9,   0.0098,   0.000,-999.0000,9,    0.20
318M20040615,        P02,      28,          1,         13,         13,2,20040625,       1751,    30.0028,   142.2548,       5855,  2028.4,   1.9950,  34.5952,2,  34.5947,2,  84.4000,2,    85.2,2,  156.12,2,   40.18,2,    0.00,2,    2.87,2,   0.005,2,   0.002,2,   0.001,2,  2360.4,2,  2412.3,2,   0.010,2,   1.9358,2,   19.79,2, -999.00,9,  -999.0,9,  -999.0,-999.000,9,-999.000,   37.40,2, 2028.40,   0.0840,3,   0.1990,3,   0.0130,3,   0.1460,3,   0.0140,3,   0.0097,   0.000,   0.0620,3,    0.20
318M20040615,        P02,      28,          1,         12,         12,2,20040625,       1751,    30.0028,   142.2548,       5855,  2281.3,   1.8295,  34.6221,2,  34.6218,2,  99.3000,2,   100.4,2,  156.52,2,   39.32,2,    0.00,2,    2.79,2,   0.002,2,   0.003,2,   0.004,2,  2356.2,2,  2411.2,2,-999.000,9,-999.0000,9, -999.00,9, -999.00,9,  -999.0,9,  -999.0,-999.000,9,-999.000,   38.10,2, 2281.30,-999.0000,9,-999.0000,9,-999.0000,9,-999.0000,9,-999.0000,9,-999.0000,-999.000,-999.0000,9, -999.00
318M20040615,        P02,      28,          1,         11,         11,2,20040625,       1751,    30.0028,   142.2548,       5855,  2534.6,   1.7146,  34.6406,2,  34.6391,2, 112.2000,2,   112.8,2,  155.62,2,   38.61,2,    0.00,2,    2.74,2,   0.001,2,   0.000,2,   0.000,2,  2348.5,2,  2413.4,2,   0.000,2,-999.0000,9, -999.00,9, -999.00,9,  -999.0,9,  -999.0,-999.000,9,-999.000,   37.70,2, 2534.60,-999.0000,9,-999.0000,9,-999.0000,9,-999.0000,9,-999.0000,9,-999.0000,   0.000,-999.0000,9, -999.00
318M20040615,        P02,      28,          1,         10,         10,2,20040625,       1751,    30.0028,   142.2548,       5855,  2787.7,   1.6355,  34.6532,2,  34.6519,2, 120.8000,2,   122.5,2,  154.37,2,   38.18,2,    0.00,2,    2.70,2,   0.001,2,   0.001,2,   0.009,2,  2343.6,2,  2414.5,2,-999.000,9,-999.0000,9, -999.00,9, -999.00,9,  -999.0,9,  -999.0,-999.000,9,-999.000,   37.90,2, 2787.70,-999.0000,9,-999.0000,9,-999.0000,9,-999.0000,9,-999.0000,9,-999.0000,-999.000,-999.0000,9, -999.00
318M20040615,        P02,      28,          1,          9,          9,2,20040625,       1751,    30.0028,   142.2548,       5855,  3041.1,   1.5810,  34.6619,2,  34.6606,2, 129.5000,2,   129.5,2,  153.67,2,   37.80,2,    0.00,2,    2.66,2,   0.001,2,   0.001,2,   0.005,2,  2339.6,2,  2415.0,2,-999.000,9,-999.0000,9, -999.00,9, -999.00,9,  -999.0,9,  -999.0,-999.000,9,-999.000,   37.70,2, 3041.10,   0.0840,2,   0.1940,2,   0.0110,2,   0.1420,2,   0.0130,2,-999.0000,-999.000,   0.0640,2, -999.00
318M20040615,        P02,      28,          1,          8,          8,2,20040625,       1751,    30.0028,   142.2548,       5855,  3447.6,   1.5243,  34.6722,2,  34.6706,2, 138.3000,2,   139.3,2,  153.33,2,   37.21,2,    0.00,2,    2.61,2,  -0.001,2,  -0.001,2,   0.001,2,  2333.4,2,  2415.4,2,-999.000,9,-999.0000,9, -999.00,9, -999.00,9,  -999.0,9,  -999.0,-999.000,9,-999.000,   37.10,2, 3447.60,-999.0000,9,-999.0000,9,-999.0000,9,-999.0000,9,-999.0000,9,-999.0000,-999.000,-999.0000,9, -999.00
318M20040615,        P02,      28,          1,          7,          7,2,20040625,       1751,    30.0028,   142.2548,       5855,  3865.6,   1.4876,  34.6797,2,  34.6791,2, 145.6000,2,   146.5,2,  151.55,2,   36.73,2,    0.00,2,    2.58,2,   0.000,2,   0.003,2,   0.001,2,  2328.0,2,  2414.0,2,-999.000,9,-999.0000,9, -999.00,9, -999.00,9,  -999.0,9,  -999.0,-999.000,9,-999.000,   37.40,2, 3865.60,-999.0000,9,-999.0000,9,-999.0000,9,-999.0000,9,-999.0000,9,-999.0000,-999.000,-999.0000,9, -999.00
318M20040615,        P02,      28,          1,          6,          6,2,20040625,       1751,    30.0028,   142.2548,       5855,  4273.2,   1.4709,  34.6858,2,  34.6858,2, 153.3000,2,   153.6,2,  149.92,2,   36.19,2,    0.00,2,    2.54,2,  -0.001,2,   0.000,2,   0.000,2,  2323.7,2,  2414.5,2,-999.000,9,-999.0000,9, -999.00,9, -999.00,9,  -999.0,9,  -999.0,-999.000,9,-999.000,   37.80,2, 4273.20,   0.0690,2,   0.1710,2,   0.0120,2,   0.1230,2,   0.0140,2,-999.0000,-999.000,   0.0530,2, -999.00
318M20040615,        P02,      28,          1,          5,          5,2,20040625,       1751,    30.0028,   142.2548,       5855,  4690.3,   1.4803,  34.6896,2,  34.6894,2, 158.7000,2,   158.8,2,  147.78,2,   35.81,2,    0.00,2,    2.51,2,   0.000,2,   0.001,2,   0.000,2,  2318.2,2,  2415.4,2,-999.000,9,-999.0000,9, -999.00,9, -999.00,9,  -999.0,9,  -999.0,-999.000,9,-999.000,   37.40,2, 4690.30,-999.0000,9,-999.0000,9,-999.0000,9,-999.0000,9,-999.0000,9,-999.0000,-999.000,-999.0000,9, -999.00
318M20040615,        P02,      28,          1,          4,          4,2,20040625,       1751,    30.0028,   142.2548,       5855,  5098.4,   1.5156,  34.6910,2,  34.6902,2, 160.8000,2,   161.3,2,  146.16,2,   35.59,2,    0.00,2,    2.51,2,  -0.001,2,   0.003,2,   0.001,2,  2316.7,2,  2412.3,2,-999.000,9,-999.0000,9, -999.00,9, -999.00,9,  -999.0,9,  -999.0,-999.000,9,-999.000,   37.70,2, 5098.40,   0.0410,2,   0.1270,2,   0.0190,2,   0.0850,2,   0.0210,2,-999.0000,-999.000,   0.0280,2, -999.00
318M20040615,        P02,      28,          1,          3,          3,2,20040625,       1751,    30.0028,   142.2548,       5855,  5508.8,   1.5646,  34.6915,2,  34.6908,2, 161.6000,2,   162.0,2,  146.01,2,   35.54,2,    0.00,2,    2.52,2,   0.001,2,   0.004,2,   0.000,2,  2315.9,2,  2410.8,2,-999.000,9,-999.0000,9, -999.00,9, -999.00,9,  -999.0,9,  -999.0,-999.000,9,-999.000,   37.90,2, 5508.80,-999.0000,9,-999.0000,9,-999.0000,9,-999.0000,9,-999.0000,9,-999.0000,-999.000,-999.0000,9, -999.00
318M20040615,        P02,      28,          1,          2,          2,2,20040625,       1751,    30.0028,   142.2548,       5855,  5715.3,   1.5921,  34.6914,2,  34.6906,2, 161.7000,2,   162.1,2,  145.68,2,   35.54,2,    0.00,2,    2.50,2,  -0.001,2,   0.002,2,   0.001,2,  2316.6,2,  2409.5,2,-999.000,9,-999.0000,9, -999.00,9, -999.00,9,  -999.0,9,  -999.0,-999.000,9,-999.000,   37.70,2, 5715.30,-999.0000,9,-999.0000,9,-999.0000,9,-999.0000,9,-999.0000,9,-999.0000,-999.000,-999.0000,9, -999.00
318M20040615,        P02,      28,          1,          1,          1,2,20040625,       1751,    30.0028,   142.2548,       5855,  6010.1,   1.6325,  34.6912,2,  34.6912,2, 161.5000,2,   162.1,2,  145.71,2,   35.48,2,    0.00,2,    2.50,2,-999.000,5,-999.000,5,-999.000,5,  2316.2,6,  2410.8,6,-999.000,9,-999.0000,9, -999.00,9, -999.00,9,  -999.0,9,  -999.0,-999.000,9,-999.000,   38.10,2, 6010.10,   0.0450,2,   0.1320,2,   0.0160,2,   0.0900,2,   0.0190,2,-999.0000,-999.000,   0.0320,2, -999.00