BOTTLE,20131027SIOCCHRJL
EXPOCODE,SECT_ID,STNNBR,CASTNO,SAMPNO,BTLNBR,BTLNBR_FLAG_W,DATE,TIME,LATITUDE,LONGITUDE,DEPTH,CTDPRS,CTDTMP,CTDSAL,CTDSAL_FLAG_W,SALNTY,SALNTY_FLAG_W,CTDOXY,CTDOXY_FLAG_W,OXYGEN,OXYGEN_FLAG_W,SILCAT,SILCAT_FLAG_W,NITRAT,NITRAT_FLAG_W,NITRIT,NITRIT_FLAG_W,PHSPHT,PHSPHT_FLAG_W,CFC-11,CFC-11_FLAG_W,CFC-12,CFC-12_FLAG_W,CFC113,CFC113_FLAG_W,TCARBN,TCARBN_FLAG_W,ALKALI,ALKALI_FLAG_W,TRITUM,TRITUM_FLAG_W,HELIUM,HELIUM_FLAG_W,DELHE3,DELHE3_FLAG_W,DELC13,DELC13_FLAG_W,DELC14,DELC14_FLAG_W,C14ERR,NEON,NEON_FLAG_W,NEONER,DOC,DOC_FLAG_W,CTDRAW,CDOM380,CDOM380_FLAG_W,CDOM325,CDOM325_FLAG_W,CDOMSL,CDOMSL_FLAG_W,CDOM340,CDOM340_FLAG_W,CDOMSN,CDOMSN_FLAG_W,HELIER,TRITER,CDOM412,CDOM412_FLAG_W,DELHER
,,,,,,,,,,,METERS,DBAR,ITS-90,PSS-78,,PSS-78,,UMOL/KG,,UMOL/KG,,UMOL/KG,,UMOL/KG,,UMOL/KG,,UMOL/KG,,PMOL/KG,,PMOL/KG,,PMOL/KG,,UMOL/KG,,UMOL/KG,,TU,,NMOL/KG,,PERCNT,,/MILLE,,/MILLE,,/MILLE,NMOL/KG,,NMOL/KG,UMOL/KG,,DBAR,1/M,,1/M,,1/NM,,1/M,,1/NM,,NMOL/KG,TU,1/M,,PERCNT
318M20040615,        P02,     112,          1,         36,         36,2,20040801,       1629,    30.0008,  -164.5522,       5564,     6.3,  25.7864,  35.3873,2,  35.3841,2, 209.0000,2,   208.7,2,    0.86,2,   -0.02,2,    0.00,2,    0.02,2,   1.808,2,   1.112,2,   0.154,2,  2009.5,6,  2327.7,6,-999.000,9,-999.0000,9, -999.00,9, -999.00,9,  -999.0,9,  -999.0,-999.000,9,-999.000, -999.00,9,    6.30,-999.0000,9,-999.0000,9,-999.0000,9,-999.0000,9,-999.0000,9,-999.0000,-999.000,-999.0000,9, -999.00
318M20040615,        P02,     112,          1,         35,         35,2,20040801,       1629,    30.0008,  -164.5522,       5564,    51.4,  21.1130,  35.1860,2,  35.1650,2, 237.2000,2,   237.6,2,    1.22,2,    0.04,2,    0.00,2,    0.04,2,   2.278,2,   1.367,2,   0.157,2,  -999.0,9,  2311.6,2,-999.000,9,-999.0000,9, -999.00,9, -999.00,9,  -999.0,9,  -999.0,-999.000,9,-999.000, -999.00,9,   51.40,-999.0000,9,-999.0000,9,-999.0000,9,-999.0000,9,-999.0000,9,-999.0000,-999.000,-999.0000,9, -999.00
318M20040615,        P02,     112,          1,         34,         34,2,20040801,       1629,    30.0008,  -164.5522,       5564,   111.1,  17.9128,  34.9100,2,  34.9068,2, 231.8000,2,   236.1,2,    2.15,2,    0.09,2,    0.00,2,    0.09,2,-999.000,9,-999.000,9,-999.000,9,  -999.0,9,  2296.4,2,-999.000,9,-999.0000,9, -999.00,9, -999.00,9,  -999.0,9,  -999.0,-999.000,9,-999.000, -999.00,9,  111.10,-999.0000,9,-999.0000,9,-999.0000,9,-999.0000,9,-999.0000,9,-999.0000,-999.000,-999.0000,9, -999.00
318M20040615,        P02,     112,          1,         33,         33,2,20040801,       1629,    30.0008,  -164.5522,       5564,   150.4,  16.4634,  34.7454,2,  34.7369,2, 241.1000,2,   235.7,2,    3.08,2,    1.19,2,    0.15,2,    0.19,2,   2.638,2,   1.561,2,   0.198,2,  -999.0,9,  2284.5,2,-999.000,9,-999.0000,9, -999.00,9, -999.00,9,  -999.0,9,  -999.0,-999.000,9,-999.000, -999.00,9,  150.40,-999.0000,9,-999.0000,9,-999.0000,9,-999.0000,9,-999.0000,9,-999.0000,-999.000,-999.0000,9, -999.00
318M20040615,        P02,     112,          1,         32,         32,2,20040801,       1629,    30.0008,  -164.5522,       5564,   199.9,  15.1929,  34.5867,2,  34.5889,2, 223.2000,2,   220.3,2,    4.77,2,    5.09,2,    0.01,2,    0.40,2,-999.000,9,-999.000,9,-999.000,9,  -999.0,9,  2276.3,2,-999.000,9,-999.0000,9, -999.00,9, -999.00,9,  -999.0,9,  -999.0,-999.000,9,-999.000, -999.00,9,  199.90,-999.0000,9,-999.0000,9,-999.0000,9,-999.0000,9,-999.0000,9,-999.0000,-999.000,-999.0000,9, -999.00
318M20040615,        P02,     112,          1,         31,         31,2,20040801,       1629,    30.0008,  -164.5522,       5564,   250.2,  13.8071,  34.4366,2,  34.4373,2, 214.0000,2,   214.9,2,    7.62,2,    8.24,2,    0.01,2,    0.61,2,   2.947,2,   1.673,2,   0.089,2,  -999.0,9,  2269.3,2,-999.000,9,-999.0000,9, -999.00,9, -999.00,9,  -999.0,9,  -999.0,-999.000,9,-999.000, -999.00,9,  250.20,-999.0000,9,-999.0000,9,-999.0000,9,-999.0000,9,-999.0000,9,-999.0000,-999.000,-999.0000,9, -999.00
318M20040615,        P02,     112,          1,         30,         30,2,20040801,       1629,    30.0008,  -164.5522,       5564,   300.0,  12.8714,  34.3681,2,  34.3661,2, 214.5000,2,   216.3,2,    9.70,2,    9.89,2,    0.01,2,    0.72,2,-999.000,9,-999.000,9,-999.000,9,  -999.0,9,  2267.8,6,-999.000,9,-999.0000,9, -999.00,9, -999.00,9,  -999.0,9,  -999.0,-999.000,9,-999.000, -999.00,9,  300.00,-999.0000,9,-999.0000,9,-999.0000,9,-999.0000,9,-999.0000,9,-999.0000,-999.000,-999.0000,9, -999.00
318M20040615,        P02,     112,          1,         29,         29,2,20040801,       1629,    30.0008,  -164.5522,       5564,   354.9,  11.7365,  34.2845,2,  34.2772,2, 213.4000,2,   213.7,2,   13.12,2,   12.35,2,    0.00,2,    0.89,2,   3.123,2,   1.724,2,   0.105,2,  -999.0,9,  2266.9,2,-999.000,9,-999.0000,9, -999.00,9, -999.00,9,  -999.0,9,  -999.0,-999.000,9,-999.000, -999.00,9,  354.90,-999.0000,9,-999.0000,9,-999.0000,9,-999.0000,9,-999.0000,9,-999.0000,-999.000,-999.0000,9, -999.00
318M20040615,        P02,     112,          1,         28,         28,2,20040801,       1629,    30.0008,  -164.5522,       5564,   405.2,  10.9160,  34.2410,2,  34.2390,2, 213.1000,2,   214.8,2,   15.97,2,   13.85,2,    0.00,2,    1.05,2,-999.000,9,-999.000,9,-999.000,9,  -999.0,9,  2267.6,2,-999.000,9,-999.0000,9, -999.00,9, -999.00,9,  -999.0,9,  -999.0,-999.000,9,-999.000, -999.00,9,  405.20,-999.0000,9,-999.0000,9,-999.0000,9,-999.0000,9,-999.0000,9,-999.0000,-999.000,-999.0000,9, -999.00
318M20040615,        P02,     112,          1,         27,         27,2,20040801,       1629,    30.0008,  -164.5522,       5564,   454.8,  10.0481,  34.1818,2,  34.1763,2, 204.0000,2,   202.4,2,   20.75,2,   16.65,2,    0.00,2,    1.18,2,   3.100,6,   1.673,6,   0.115,6,  -999.0,9,  2268.7,2,-999.000,9,-999.0000,9, -999.00,9, -999.00,9,  -999.0,9,  -999.0,-999.000,9,-999.000, -999.00,9,  454.80,-999.0000,9,-999.0000,9,-999.0000,9,-999.0000,9,-999.0000,9,-999.0000,-999.000,-999.0000,9, -999.00
318M20040615,        P02,     112,          1,         26,         26,2,20040801,       1629,    30.0008,  -164.5522,       5564,   504.3,   9.1412,  34.1279,2,  34.1257,2, 186.9000,2,   189.3,2,   26.68,2,   19.58,2,    0.00,2,    1.39,2,-999.000,9,-999.000,9,-999.000,9,  -999.0,9,  2270.8,2,-999.000,9,-999.0000,9, -999.00,9, -999.00,9,  -999.0,9,  -999.0,-999.000,9,-999.000, -999.00,9,  504.30,-999.0000,9,-999.0000,9,-999.0000,9,-999.0000,9,-999.0000,9,-999.0000,-999.000,-999.0000,9, -999.00
318M20040615,        P02,     112,          1,         25,         25,2,20040801,       1629,    30.0008,  -164.5522,       5564,   604.0,   7.0131,  34.0279,2,  34.0281,2, 147.3000,2,   147.5,2,   46.90,2,   27.38,2,    0.00,2,    1.97,2,   2.341,2,   1.184,2,   0.104,2,  -999.0,9,  2283.3,2,-999.000,9,-999.0000,9, -999.00,9, -999.00,9,  -999.0,9,  -999.0,-999.000,9,-999.000, -999.00,9,  604.00,-999.0000,9,-999.0000,9,-999.0000,9,-999.0000,9,-999.0000,9,-999.0000,-999.000,-999.0000,9, -999.00
318M20040615,        P02,     112,          1,         24,         24,2,20040801,       1629,    30.0008,  -164.5522,       5564,   704.8,   5.3446,  34.0297,2,  34.0266,2,  94.8000,2,    99.6,2,   71.73,2,   34.54,2,    0.00,2,    2.51,2,-999.000,9,-999.000,9,-999.000,9,  -999.0,9,  2301.6,2,-999.000,9,-999.0000,9, -999.00,9, -999.00,9,  -999.0,9,  -999.0,-999.000,9,-999.000, -999.00,9,  704.80,-999.0000,9,-999.0000,9,-999.0000,9,-999.0000,9,-999.0000,9,-999.0000,-999.000,-999.0000,9, -999.00
318M20040615,        P02,     112,          1,         23,         23,2,20040801,       1629,    30.0008,  -164.5522,       5564,   804.7,   4.4346,  34.1112,2,  34.1110,2,  52.9000,2,    53.7,2,   94.37,2,   39.92,2,    0.00,2,    2.88,2,   0.521,2,   0.275,2,   0.018,2,  -999.0,9,  2324.4,2,-999.000,9,-999.0000,9, -999.00,9, -999.00,9,  -999.0,9,  -999.0,-999.000,9,-999.000, -999.00,9,  804.70,-999.0000,9,-999.0000,9,-999.0000,9,-999.0000,9,-999.0000,9,-999.0000,-999.000,-999.0000,9, -999.00
318M20040615,        P02,     112,          1,         22,         22,2,20040801,       1629,    30.0008,  -164.5522,       5564,   910.3,   3.8757,  34.2135,2,  34.2114,2,  27.2000,2,    25.8,2,  112.61,2,   42.68,2,    0.00,2,    3.07,2,-999.000,9,-999.000,9,-999.000,9,  -999.0,9,  2346.1,2,-999.000,9,-999.0000,9, -999.00,9, -999.00,9,  -999.0,9,  -999.0,-999.000,9,-999.000, -999.00,9,  910.30,-999.0000,9,-999.0000,9,-999.0000,9,-999.0000,9,-999.0000,9,-999.0000,-999.000,-999.0000,9, -999.00
318M20040615,        P02,     112,          1,         21,         21,2,20040801,       1629,    30.0008,  -164.5522,       5564,  1010.1,   3.5412,  34.2999,2,  34.2999,2,  12.4000,2,    12.5,2,  125.60,2,   43.96,2,    0.00,2,    3.18,2,   0.032,2,   0.015,2,   0.000,2,  -999.0,9,  -999.0,9,-999.000,9,-999.0000,9, -999.00,9, -999.00,9,  -999.0,9,  -999.0,-999.000,9,-999.000, -999.00,9, 1010.10,-999.0000,9,-999.0000,9,-999.0000,9,-999.0000,9,-999.0000,9,-999.0000,-999.000,-999.0000,9, -999.00
318M20040615,        P02,     112,          1,         20,         20,2,20040801,       1629,    30.0008,  -164.5522,       5564,  1114.7,   3.3066,  34.3687,2,  34.3684,2,  10.4000,2,    10.6,2,  134.27,2,   44.49,2,    0.00,2,    3.23,2,-999.000,9,-999.000,9,-999.000,9,  -999.0,9,  -999.0,9,-999.000,9,-999.0000,9, -999.00,9, -999.00,9,  -999.0,9,  -999.0,-999.000,9,-999.000, -999.00,9, 1114.70,-999.0000,9,-999.0000,9,-999.0000,9,-999.0000,9,-999.0000,9,-999.0000,-999.000,-999.0000,9, -999.00
318M20040615,        P02,     112,          1,         19,         19,2,20040801,       1629,    30.0008,  -164.5522,       5564,  1214.0,   3.1241,  34.4292,2,  34.4298,2,  14.9000,2,    15.3,2,  140.19,2,   44.65,2,    0.00,2,    3.23,2,   0.008,2,   0.002,2,   0.000,2,  -999.0,9,  -999.0,9,-999.000,9,-999.0000,9, -999.00,9, -999.00,9,  -999.0,9,  -999.0,-999.000,9,-999.000, -999.00,9, 1214.00,-999.0000,9,-999.0000,9,-999.0000,9,-999.0000,9,-999.0000,9,-999.0000,-999.000,-999.0000,9, -999.00
318M20040615,        P02,     112,          1,         18,         18,2,20040801,       1629,    30.0008,  -164.5522,       5564,  1313.3,   2.9845,  34.4721,2,  34.4720,2,  23.0000,2,    22.9,2,  143.33,2,   44.33,2,    0.00,2,    3.18,2,-999.000,9,-999.000,9,-999.000,9,  -999.0,9,  -999.0,9,-999.000,9,-999.0000,9, -999.00,9, -999.00,9,  -999.0,9,  -999.0,-999.000,9,-999.000, -999.00,9, 1313.30,-999.0000,9,-999.0000,9,-999.0000,9,-999.0000,9,-999.0000,9,-999.0000,-999.000,-999.0000,9, -999.00
318M20040615,        P02,     112,          1,         17,         17,2,20040801,       1629,    30.0008,  -164.5522,       5564,  1414.7,   2.8126,  34.5070,2,  34.5068,2,  33.2000,2,    31.5,2,  147.07,2,   43.74,2,    0.00,2,    3.13,2,   0.008,2,   0.002,2,   0.000,2,  -999.0,9,  -999.0,9,-999.000,9,-999.0000,9, -999.00,9, -999.00,9,  -999.0,9,  -999.0,-999.000,9,-999.000, -999.00,9, 1414.70,-999.0000,9,-999.0000,9,-999.0000,9,-999.0000,9,-999.0000,9,-999.0000,-999.000,-999.0000,9, -999.00
318M20040615,        P02,     112,          1,         16,         16,2,20040801,       1629,    30.0008,  -164.5522,       5564,  1516.7,   2.6286,  34.5399,2,  34.5408,2,  47.0000,2,    46.7,2,  149.21,2,   42.72,2,    0.00,2,    3.05,2,-999.000,9,-999.000,9,-999.000,9,  -999.0,9,  -999.0,9,-999.000,9,-999.0000,9, -999.00,9, -999.00,9,  -999.0,9,  -999.0,-999.000,9,-999.000, -999.00,9, 1516.70,-999.0000,9,-999.0000,9,-999.0000,9,-999.0000,9,-999.0000,9,-999.0000,-999.000,-999.0000,9, -999.00
318M20040615,        P02,     112,          1,         15,         15,2,20040801,       1629,    30.0008,  -164.5522,       5564,  1619.9,   2.4298,  34.5613,2,  34.5616,2,  52.7000,2,    54.5,2,  154.56,2,   42.30,2,    0.00,2,    3.02,2,   0.003,2,   0.000,2,   0.000,2,  -999.0,9,  -999.0,9,-999.000,9,-999.0000,9, -999.00,9, -999.00,9,  -999.0,9,  -999.0,-999.000,9,-999.000, -999.00,9, 1619.90,-999.0000,9,-999.0000,9,-999.0000,9,-999.0000,9,-999.0000,9,-999.0000,-999.000,-999.0000,9, -999.00
318M20040615,        P02,     112,          1,         14,         14,2,20040801,       1629,    30.0008,  -164.5522,       5564,  1718.9,   2.2879,  34.5790,2,  34.5795,2,  64.0000,2,    64.1,2,  156.11,2,   41.56,2,    0.00,2,    2.98,2,-999.000,9,-999.000,9,-999.000,9,  -999.0,9,  -999.0,9,-999.000,9,-999.0000,9, -999.00,9, -999.00,9,  -999.0,9,  -999.0,-999.000,9,-999.000, -999.00,9, 1718.90,-999.0000,9,-999.0000,9,-999.0000,9,-999.0000,9,-999.0000,9,-999.0000,-999.000,-999.0000,9, -999.00
318M20040615,        P02,     112,          1,         13,         13,2,20040801,       1629,    30.0008,  -164.5522,       5564,  1821.5,   2.1617,  34.5925,2,  34.5936,2,  69.3000,2,    70.3,2,  159.09,2,   41.19,2,    0.00,2,    2.95,2,   0.005,2,   0.002,2,   0.000,2,  -999.0,9,  -999.0,9,-999.000,9,-999.0000,9, -999.00,9, -999.00,9,  -999.0,9,  -999.0,-999.000,9,-999.000, -999.00,9, 1821.50,-999.0000,9,-999.0000,9,-999.0000,9,-999.0000,9,-999.0000,9,-999.0000,-999.000,-999.0000,9, -999.00
318M20040615,        P02,     112,          1,         12,         12,2,20040801,       1629,    30.0008,  -164.5522,       5564,  2024.7,   1.9676,  34.6144,2,  34.6145,2,  80.7000,2,    81.2,2,  163.05,2,   40.50,2,    0.00,2,    2.91,2,-999.000,9,-999.000,9,-999.000,9,  -999.0,9,  -999.0,9,-999.000,9,-999.0000,9, -999.00,9, -999.00,9,  -999.0,9,  -999.0,-999.000,9,-999.000, -999.00,9, 2024.70,-999.0000,9,-999.0000,9,-999.0000,9,-999.0000,9,-999.0000,9,-999.0000,-999.000,-999.0000,9, -999.00
318M20040615,        P02,     112,          1,         11,         11,2,20040801,       1629,    30.0008,  -164.5522,       5564,  2282.1,   1.8049,  34.6327,2,  34.6324,2,  93.7000,2,    92.9,2,  165.21,2,   39.82,2,    0.00,2,    2.83,2,   0.006,2,   0.000,2,   0.000,2,  -999.0,9,  -999.0,9,-999.000,9,-999.0000,9, -999.00,9, -999.00,9,  -999.0,9,  -999.0,-999.000,9,-999.000, -999.00,9, 2282.10,-999.0000,9,-999.0000,9,-999.0000,9,-999.0000,9,-999.0000,9,-999.0000,-999.000,-999.0000,9, -999.00
318M20040615,        P02,     112,          1,         10,         10,2,20040801,       1629,    30.0008,  -164.5522,       5564,  2533.7,   1.6851,  34.6466,2,  34.6467,2, 104.2000,2,   104.1,2,  165.76,2,   39.24,2,    0.00,2,    2.78,2,-999.000,9,-999.000,9,-999.000,9,  -999.0,9,  -999.0,9,-999.000,9,-999.0000,9, -999.00,9, -999.00,9,  -999.0,9,  -999.0,-999.000,9,-999.000, -999.00,9, 2533.70,-999.0000,9,-999.0000,9,-999.0000,9,-999.0000,9,-999.0000,9,-999.0000,-999.000,-999.0000,9, -999.00
318M20040615,        P02,     112,          1,          9,          9,2,20040801,       1629,    30.0008,  -164.5522,       5564,  2791.1,   1.6089,  34.6564,2,  34.6556,2, 113.8000,2,   114.0,2,  164.33,2,   38.71,2,    0.00,2,    2.71,2,   0.005,2,   0.001,2,   0.000,2,  -999.0,9,  -999.0,9,-999.000,9,-999.0000,9, -999.00,9, -999.00,9,  -999.0,9,  -999.0,-999.000,9,-999.000, -999.00,9, 2791.10,-999.0000,9,-999.0000,9,-999.0000,9,-999.0000,9,-999.0000,9,-999.0000,-999.000,-999.0000,9, -999.00
318M20040615,        P02,     112,          1,          8,          8,2,20040801,       1629,    30.0008,  -164.5522,       5564,  3041.2,   1.5441,  34.6650,2,  34.6650,2, 123.7000,2,   124.5,2,  161.70,2,   37.97,2,    0.00,2,    2.66,2,-999.000,9,-999.000,9,-999.000,9,  -999.0,9,  -999.0,9,-999.000,9,-999.0000,9, -999.00,9, -999.00,9,  -999.0,9,  -999.0,-999.000,9,-999.000, -999.00,9, 3041.20,-999.0000,9,-999.0000,9,-999.0000,9,-999.0000,9,-999.0000,9,-999.0000,-999.000,-999.0000,9, -999.00
318M20040615,        P02,     112,          1,          7,          7,2,20040801,       1629,    30.0008,  -164.5522,       5564,  3452.4,   1.4884,  34.6759,2,  34.6754,2, 135.2000,2,   136.2,2,  159.87,2,   37.13,2,    0.00,2,    2.60,2,   0.006,2,   0.003,2,   0.000,2,  -999.0,9,  -999.0,9,-999.000,9,-999.0000,9, -999.00,9, -999.00,9,  -999.0,9,  -999.0,-999.000,9,-999.000, -999.00,9, 3452.40,-999.0000,9,-999.0000,9,-999.0000,9,-999.0000,9,-999.0000,9,-999.0000,-999.000,-999.0000,9, -999.00
318M20040615,        P02,     112,          1,          6,          6,2,20040801,       1629,    30.0008,  -164.5522,       5564,  3860.6,   1.4685,  34.6822,2,  34.6825,2, 143.8000,2,   144.5,2,  156.64,2,   36.56,2,    0.00,2,    2.55,2,-999.000,9,-999.000,9,-999.000,9,  -999.0,9,  -999.0,9,-999.000,9,-999.0000,9, -999.00,9, -999.00,9,  -999.0,9,  -999.0,-999.000,9,-999.000, -999.00,9, 3860.60,-999.0000,9,-999.0000,9,-999.0000,9,-999.0000,9,-999.0000,9,-999.0000,-999.000,-999.0000,9, -999.00
318M20040615,        P02,     112,          1,          5,          5,2,20040801,       1629,    30.0008,  -164.5522,       5564,  4271.0,   1.4774,  34.6859,2,  34.6859,2, 149.4000,2,   149.4,2,  154.65,2,   36.15,2,    0.00,2,    2.52,2,   0.007,2,   0.003,2,   0.000,2,  -999.0,9,  -999.0,9,-999.000,9,-999.0000,9, -999.00,9, -999.00,9,  -999.0,9,  -999.0,-999.000,9,-999.000, -999.00,9, 4271.00,-999.0000,9,-999.0000,9,-999.0000,9,-999.0000,9,-999.0000,9,-999.0000,-999.000,-999.0000,9, -999.00
318M20040615,        P02,     112,          1,          4,          4,2,20040801,       1629,    30.0008,  -164.5522,       5564,  4680.9,   1.5021,  34.6882,2,  34.6878,2, 152.9000,2,   153.3,2,  153.41,2,   35.83,2,    0.00,2,    2.50,2,-999.000,9,-999.000,9,-999.000,9,  -999.0,9,  -999.0,9,-999.000,9,-999.0000,9, -999.00,9, -999.00,9,  -999.0,9,  -999.0,-999.000,9,-999.000, -999.00,9, 4680.90,-999.0000,9,-999.0000,9,-999.0000,9,-999.0000,9,-999.0000,9,-999.0000,-999.000,-999.0000,9, -999.00
318M20040615,        P02,     112,          1,          3,          3,2,20040801,       1629,    30.0008,  -164.5522,       5564,  5094.1,   1.5342,  34.6901,2,  34.6902,2, 156.4000,2,   156.7,2,  149.41,2,   35.58,2,    0.00,2,    2.49,2,   0.007,2,   0.003,2,   0.002,2,  -999.0,9,  -999.0,9,-999.000,9,-999.0000,9, -999.00,9, -999.00,9,  -999.0,9,  -999.0,-999.000,9,-999.000, -999.00,9, 5094.10,-999.0000,9,-999.0000,9,-999.0000,9,-999.0000,9,-999.0000,9,-999.0000,-999.000,-999.0000,9, -999.00
318M20040615,        P02,     112,          1,          2,          2,2,20040801,       1629,    30.0008,  -164.5522,       5564,  5464.8,   1.5673,  34.6910,2,  34.6916,2, 159.2000,2,   159.7,2,  146.60,2,   35.47,2,    0.00,2,    2.48,2,-999.000,9,-999.000,9,-999.000,9,  -999.0,9,  -999.0,9,-999.000,9,-999.0000,9, -999.00,9, -999.00,9,  -999.0,9,  -999.0,-999.000,9,-999.000, -999.00,9, 5464.80,-999.0000,9,-999.0000,9,-999.0000,9,-999.0000,9,-999.0000,9,-999.0000,-999.000,-999.0000,9, -999.00
318M20040615,        P02,     112,          1,          1,          1,2,20040801,       1629,    30.0008,  -164.5522,       5564,  5693.9,   1.5867,  34.6918,2,  34.6924,2, 161.4000,2,   162.3,2,  144.57,2,   35.53,2,    0.00,2,    2.46,2,   0.008,2,   0.006,2,   0.003,2,  -999.0,9,  -999.0,9,-999.000,9,-999.0000,9, -999.00,9, -999.00,9,  -999.0,9,  -999.0,-999.000,9,-999.000, -999.00,9, 5693.90,-999.0000,9,-999.0000,9,-999.0000,9,-999.0000,9,-999.0000,9,-999.0000,-999.000,-999.0000,9, -999.00