BOTTLE,20131027SIOCCHRJL
EXPOCODE,SECT_ID,STNNBR,CASTNO,SAMPNO,BTLNBR,BTLNBR_FLAG_W,DATE,TIME,LATITUDE,LONGITUDE,DEPTH,CTDPRS,CTDTMP,CTDSAL,CTDSAL_FLAG_W,SALNTY,SALNTY_FLAG_W,CTDOXY,CTDOXY_FLAG_W,OXYGEN,OXYGEN_FLAG_W,SILCAT,SILCAT_FLAG_W,NITRAT,NITRAT_FLAG_W,NITRIT,NITRIT_FLAG_W,PHSPHT,PHSPHT_FLAG_W,CFC-11,CFC-11_FLAG_W,CFC-12,CFC-12_FLAG_W,CFC113,CFC113_FLAG_W,TCARBN,TCARBN_FLAG_W,ALKALI,ALKALI_FLAG_W,TRITUM,TRITUM_FLAG_W,HELIUM,HELIUM_FLAG_W,DELHE3,DELHE3_FLAG_W,DELC13,DELC13_FLAG_W,DELC14,DELC14_FLAG_W,C14ERR,NEON,NEON_FLAG_W,NEONER,DOC,DOC_FLAG_W,CTDRAW,CDOM380,CDOM380_FLAG_W,CDOM325,CDOM325_FLAG_W,CDOMSL,CDOMSL_FLAG_W,CDOM340,CDOM340_FLAG_W,CDOMSN,CDOMSN_FLAG_W,HELIER,TRITER,CDOM412,CDOM412_FLAG_W,DELHER
,,,,,,,,,,,METERS,DBAR,ITS-90,PSS-78,,PSS-78,,UMOL/KG,,UMOL/KG,,UMOL/KG,,UMOL/KG,,UMOL/KG,,UMOL/KG,,PMOL/KG,,PMOL/KG,,PMOL/KG,,UMOL/KG,,UMOL/KG,,TU,,NMOL/KG,,PERCNT,,/MILLE,,/MILLE,,/MILLE,NMOL/KG,,NMOL/KG,UMOL/KG,,DBAR,1/M,,1/M,,1/NM,,1/M,,1/NM,,NMOL/KG,TU,1/M,,PERCNT
318M20040615,        P02,     106,          2,         36,         36,2,20040722,       1229,    30.0018,  -166.4472,       5557,     7.7,  25.3867,  35.4281,2,-999.0000,9, 212.1000,5,   210.9,2,    1.17,2,    0.08,2,    0.00,2,    0.03,2,   1.773,2,   1.096,2,   0.129,2,  2007.9,6,  2327.1,6,-999.000,9,-999.0000,9, -999.00,9, -999.00,9,  -999.0,9,  -999.0,-999.000,9,-999.000,   68.70,2,    7.70,-999.0000,9,-999.0000,9,-999.0000,9,-999.0000,9,-999.0000,9,-999.0000,-999.000,-999.0000,9, -999.00
318M20040615,        P02,     106,          2,         35,         35,2,20040722,       1229,    30.0018,  -166.4472,       5557,    51.1,  21.2452,  35.1404,2,  35.1153,2, 237.3000,2,   237.2,2,    1.76,2,    0.08,2,    0.00,2,    0.04,2,   2.180,2,   1.306,2,   0.154,2,  2008.7,2,  2306.7,2,-999.000,9,-999.0000,9, -999.00,9, -999.00,9,  -999.0,9,  -999.0,-999.000,9,-999.000,   63.10,2,   51.10,-999.0000,9,-999.0000,9,-999.0000,9,-999.0000,9,-999.0000,9,-999.0000,-999.000,-999.0000,9, -999.00
318M20040615,        P02,     106,          2,         34,         34,2,20040722,       1229,    30.0018,  -166.4472,       5557,   100.9,  17.7592,  34.8815,2,  34.8835,2, 233.7000,2,   239.8,2,    2.54,2,    0.08,2,    0.00,2,    0.08,2,   2.456,2,   1.456,2,   0.161,2,  2017.5,2,  2291.8,2,-999.000,9,-999.0000,9, -999.00,9, -999.00,9,  -999.0,9,  -999.0,-999.000,9,-999.000,   60.30,2,  100.90,-999.0000,9,-999.0000,9,-999.0000,9,-999.0000,9,-999.0000,9,-999.0000,-999.000,-999.0000,9, -999.00
318M20040615,        P02,     106,          2,         33,         33,2,20040722,       1229,    30.0018,  -166.4472,       5557,   155.6,  16.3555,  34.7311,2,  34.7325,2, 223.3000,2,   224.5,2,    3.73,2,    2.68,2,    0.07,2,    0.25,2,   2.597,2,   1.526,2,   0.144,2,  2033.0,2,  2280.7,2,-999.000,9,-999.0000,9, -999.00,9, -999.00,9,  -999.0,9,  -999.0,-999.000,9,-999.000,   56.60,2,  155.60,-999.0000,9,-999.0000,9,-999.0000,9,-999.0000,9,-999.0000,9,-999.0000,-999.000,-999.0000,9, -999.00
318M20040615,        P02,     106,          2,         32,         32,2,20040722,       1229,    30.0018,  -166.4472,       5557,   205.6,  14.8623,  34.5385,2,  34.5389,2, 215.4000,2,   216.2,2,    5.92,2,    6.25,2,    0.01,2,    0.47,2,   2.735,2,   1.588,2,   0.090,2,  2048.4,2,  2271.0,2,-999.000,9,-999.0000,9, -999.00,9, -999.00,9,  -999.0,9,  -999.0,-999.000,9,-999.000,   54.60,2,  205.60,-999.0000,9,-999.0000,9,-999.0000,9,-999.0000,9,-999.0000,9,-999.0000,-999.000,-999.0000,9, -999.00
318M20040615,        P02,     106,          2,         31,         31,2,20040722,       1229,    30.0018,  -166.4472,       5557,   255.3,  13.6480,  34.4278,2,  34.4305,2, 214.2000,2,   215.3,2,    8.33,2,    8.45,2,    0.01,2,    0.62,2,   2.867,2,   1.628,2,   0.070,2,  2059.9,2,  2266.4,2,-999.000,9,-999.0000,9, -999.00,9, -999.00,9,  -999.0,9,  -999.0,-999.000,9,-999.000,   53.70,2,  255.30,-999.0000,9,-999.0000,9,-999.0000,9,-999.0000,9,-999.0000,9,-999.0000,-999.000,-999.0000,9, -999.00
318M20040615,        P02,     106,          2,         30,         30,2,20040722,       1229,    30.0018,  -166.4472,       5557,   305.2,  12.7393,  34.3681,2,  34.3685,2, 218.3000,2,   219.7,2,   10.33,2,    9.90,2,    0.00,2,    0.71,2,   2.998,2,   1.693,2,   0.082,2,  2069.9,2,  2265.3,2,-999.000,9,-999.0000,9, -999.00,9, -999.00,9,  -999.0,9,  -999.0,-999.000,9,-999.000,   52.00,2,  305.20,-999.0000,9,-999.0000,9,-999.0000,9,-999.0000,9,-999.0000,9,-999.0000,-999.000,-999.0000,9, -999.00
318M20040615,        P02,     106,          2,         29,         29,2,20040722,       1229,    30.0018,  -166.4472,       5557,   354.9,  11.6553,  34.2839,2,  34.2837,2, 216.6000,2,   217.7,2,   13.15,2,   12.01,2,    0.00,2,    0.86,2,   3.088,2,   1.724,2,   0.088,2,  2082.0,2,  2263.0,2,-999.000,9,-999.0000,9, -999.00,9, -999.00,9,  -999.0,9,  -999.0,-999.000,9,-999.000,   50.40,2,  354.90,-999.0000,9,-999.0000,9,-999.0000,9,-999.0000,9,-999.0000,9,-999.0000,-999.000,-999.0000,9, -999.00
318M20040615,        P02,     106,          2,         28,         28,2,20040722,       1229,    30.0018,  -166.4472,       5557,   405.1,  10.7178,  34.2195,2,  34.2190,2, 209.0000,2,   208.3,2,   16.99,2,   14.56,2,    0.00,2,    1.05,2,   3.084,2,   1.678,2,   0.089,2,  2098.5,2,  2263.9,2,-999.000,9,-999.0000,9, -999.00,9, -999.00,9,  -999.0,9,  -999.0,-999.000,9,-999.000,   49.20,2,  405.10,-999.0000,9,-999.0000,9,-999.0000,9,-999.0000,9,-999.0000,9,-999.0000,-999.000,-999.0000,9, -999.00
318M20040615,        P02,     106,          2,         27,         27,2,20040722,       1229,    30.0018,  -166.4472,       5557,   455.0,   9.7329,  34.1607,2,  34.1584,2, 197.6000,2,   196.6,2,   22.70,2,   17.68,2,    0.00,2,    1.26,2,   2.982,2,   1.583,2,   0.097,2,  2121.0,2,  2267.1,2,-999.000,9,-999.0000,9, -999.00,9, -999.00,9,  -999.0,9,  -999.0,-999.000,9,-999.000,   47.20,2,  455.00,-999.0000,9,-999.0000,9,-999.0000,9,-999.0000,9,-999.0000,9,-999.0000,-999.000,-999.0000,9, -999.00
318M20040615,        P02,     106,          2,         26,         26,2,20040722,       1229,    30.0018,  -166.4472,       5557,   504.8,   8.5287,  34.0935,2,  34.0937,2, 180.6000,2,   176.6,2,   31.51,2,   21.82,2,    0.00,2,    1.56,2,   2.737,2,   1.416,2,   0.091,2,  2149.2,2,  2270.9,2,-999.000,9,-999.0000,9, -999.00,9, -999.00,9,  -999.0,9,  -999.0,-999.000,9,-999.000,   46.50,2,  504.80,-999.0000,9,-999.0000,9,-999.0000,9,-999.0000,9,-999.0000,9,-999.0000,-999.000,-999.0000,9, -999.00
318M20040615,        P02,     106,          2,         25,         25,2,20040722,       1229,    30.0018,  -166.4472,       5557,   609.5,   6.6471,  34.0359,2,  34.0347,2, 128.2000,2,   122.6,2,   53.93,2,   30.53,2,    0.00,2,    2.19,2,   1.769,6,   0.894,6,   0.056,6,  2216.3,2,  2284.2,2,-999.000,9,-999.0000,9, -999.00,9, -999.00,9,  -999.0,9,  -999.0,-999.000,9,-999.000,   45.20,2,  609.50,-999.0000,9,-999.0000,9,-999.0000,9,-999.0000,9,-999.0000,9,-999.0000,-999.000,-999.0000,9, -999.00
318M20040615,        P02,     106,          2,         24,         24,2,20040722,       1229,    30.0018,  -166.4472,       5557,   709.0,   5.5647,  34.0535,2,  34.0529,2,  86.2000,2,    88.1,2,   70.29,2,   35.31,2,    0.00,2,    2.55,2,   1.082,2,   0.535,2,   0.032,2,  2257.0,2,  2298.2,2,-999.000,9,-999.0000,9, -999.00,9, -999.00,9,  -999.0,9,  -999.0,-999.000,9,-999.000,   43.50,2,  709.00,-999.0000,9,-999.0000,9,-999.0000,9,-999.0000,9,-999.0000,9,-999.0000,-999.000,-999.0000,9, -999.00
318M20040615,        P02,     106,          2,         23,         23,2,20040722,       1229,    30.0018,  -166.4472,       5557,   808.8,   4.7490,  34.1361,2,  34.1354,2,  50.0000,2,    48.8,2,   89.93,2,   39.99,2,    0.00,2,    2.89,2,   0.433,2,   0.217,2,   0.009,2,  2303.7,2,  2319.2,2,-999.000,9,-999.0000,9, -999.00,9, -999.00,9,  -999.0,9,  -999.0,-999.000,9,-999.000,   41.50,2,  808.80,-999.0000,9,-999.0000,9,-999.0000,9,-999.0000,9,-999.0000,9,-999.0000,-999.000,-999.0000,9, -999.00
318M20040615,        P02,     106,          2,         22,         22,2,20040722,       1229,    30.0018,  -166.4472,       5557,   913.0,   4.1806,  34.2356,2,  34.2356,2,  28.3000,2,    27.6,2,  106.71,2,   42.45,2,    0.00,2,    3.08,2,   0.131,2,   0.066,2,   0.001,2,  2334.9,2,  2339.2,2,-999.000,9,-999.0000,9, -999.00,9, -999.00,9,  -999.0,9,  -999.0,-999.000,9,-999.000,   40.40,2,  913.00,-999.0000,9,-999.0000,9,-999.0000,9,-999.0000,9,-999.0000,9,-999.0000,-999.000,-999.0000,9, -999.00
318M20040615,        P02,     106,          2,         21,         21,2,20040722,       1229,    30.0018,  -166.4472,       5557,  1012.5,   3.8984,  34.3274,2,  34.3277,2,  22.8000,2,    22.9,2,  116.06,2,   43.17,2,    0.00,2,    3.14,2,   0.040,2,   0.022,2,   0.001,2,  2350.1,2,  2354.7,2,-999.000,9,-999.0000,9, -999.00,9, -999.00,9,  -999.0,9,  -999.0,-999.000,9,-999.000,   39.40,2, 1012.50,-999.0000,9,-999.0000,9,-999.0000,9,-999.0000,9,-999.0000,9,-999.0000,-999.000,-999.0000,9, -999.00
318M20040615,        P02,     106,          2,         20,         20,2,20040722,       1229,    30.0018,  -166.4472,       5557,  1112.7,   3.5405,  34.3822,2,  34.3817,2,  23.9000,2,    22.9,2,  126.26,2,   43.55,2,    0.00,2,    3.15,2,   0.020,2,   0.011,2,   0.001,2,  2362.2,6,  2367.0,2,-999.000,9,-999.0000,9, -999.00,9, -999.00,9,  -999.0,9,  -999.0,-999.000,9,-999.000,   38.60,2, 1112.70,-999.0000,9,-999.0000,9,-999.0000,9,-999.0000,9,-999.0000,9,-999.0000,-999.000,-999.0000,9, -999.00
318M20040615,        P02,     106,          2,         19,         19,2,20040722,       1229,    30.0018,  -166.4472,       5557,  1218.3,   3.2746,  34.4265,2,  34.4264,2,  23.5000,2,    23.1,2,  134.31,2,   43.88,2,    0.00,2,    3.16,2,   0.008,2,   0.006,2,   0.001,2,  2370.2,2,  2377.4,2,-999.000,9,-999.0000,9, -999.00,9, -999.00,9,  -999.0,9,  -999.0,-999.000,9,-999.000,   38.40,2, 1218.30,-999.0000,9,-999.0000,9,-999.0000,9,-999.0000,9,-999.0000,9,-999.0000,-999.000,-999.0000,9, -999.00
318M20040615,        P02,     106,          2,         18,         18,2,20040722,       1229,    30.0018,  -166.4472,       5557,  1317.5,   3.0408,  34.4720,2,  34.4721,2,  28.8000,2,    28.9,2,  140.04,2,   43.93,2,    0.00,2,    3.13,2,   0.005,2,   0.005,2,   0.001,2,  2373.5,2,  2386.1,6,-999.000,9,-999.0000,9, -999.00,9, -999.00,9,  -999.0,9,  -999.0,-999.000,9,-999.000,   37.60,2, 1317.50,-999.0000,9,-999.0000,9,-999.0000,9,-999.0000,9,-999.0000,9,-999.0000,-999.000,-999.0000,9, -999.00
318M20040615,        P02,     106,          2,         17,         17,2,20040722,       1229,    30.0018,  -166.4472,       5557,  1418.0,   2.8537,  34.5125,2,  34.5129,2,  37.6000,2,    41.9,2,  142.78,2,   43.15,2,    0.00,2,    3.08,2,   0.008,2,   0.009,2,   0.001,2,  2371.2,2,  2393.6,2,-999.000,9,-999.0000,9, -999.00,9, -999.00,9,  -999.0,9,  -999.0,-999.000,9,-999.000,   37.10,2, 1418.00,-999.0000,9,-999.0000,9,-999.0000,9,-999.0000,9,-999.0000,9,-999.0000,-999.000,-999.0000,9, -999.00
318M20040615,        P02,     106,          2,         16,         16,2,20040722,       1229,    30.0018,  -166.4472,       5557,  1519.0,   2.6577,  34.5300,2,  34.5294,2,  41.2000,2,    42.1,2,  149.56,2,   43.20,2,    0.00,2,    3.08,2,   0.004,2,   0.002,2,   0.001,2,  2376.0,2,  2398.4,2,-999.000,9,-999.0000,9, -999.00,9, -999.00,9,  -999.0,9,  -999.0,-999.000,9,-999.000,   37.20,2, 1519.00,-999.0000,9,-999.0000,9,-999.0000,9,-999.0000,9,-999.0000,9,-999.0000,-999.000,-999.0000,9, -999.00
318M20040615,        P02,     106,          2,         15,         15,2,20040722,       1229,    30.0018,  -166.4472,       5557,  1619.9,   2.4939,  34.5502,2,  34.5502,2,  48.2000,2,    47.1,2,  154.21,2,   42.92,2,    0.00,2,    3.05,2,   0.007,2,   0.007,2,   0.001,2,  2377.1,2,  2403.0,2,-999.000,9,-999.0000,9, -999.00,9, -999.00,9,  -999.0,9,  -999.0,-999.000,9,-999.000,   37.70,2, 1619.90,-999.0000,9,-999.0000,9,-999.0000,9,-999.0000,9,-999.0000,9,-999.0000,-999.000,-999.0000,9, -999.00
318M20040615,        P02,     106,          2,         14,         14,2,20040722,       1229,    30.0018,  -166.4472,       5557,  1720.7,   2.3283,  34.5705,2,  34.5706,2,  53.4000,2,    55.5,2,  157.58,2,   42.26,2,    0.00,2,    3.01,2,   0.005,2,   0.003,2,   0.001,2,  2375.5,2,  2408.2,2,-999.000,9,-999.0000,9, -999.00,9, -999.00,9,  -999.0,9,  -999.0,-999.000,9,-999.000,   37.20,2, 1720.70,-999.0000,9,-999.0000,9,-999.0000,9,-999.0000,9,-999.0000,9,-999.0000,-999.000,-999.0000,9, -999.00
318M20040615,        P02,     106,          2,         13,         13,2,20040722,       1229,    30.0018,  -166.4472,       5557,  1821.1,   2.1931,  34.5857,2,  34.5865,2,  62.1000,2,    62.7,2,  160.76,2,   41.81,2,    0.00,2,    2.97,2,   0.002,2,   0.002,2,   0.001,2,  2375.6,2,  2411.9,2,-999.000,9,-999.0000,9, -999.00,9, -999.00,9,  -999.0,9,  -999.0,-999.000,9,-999.000,   37.40,2, 1821.10,-999.0000,9,-999.0000,9,-999.0000,9,-999.0000,9,-999.0000,9,-999.0000,-999.000,-999.0000,9, -999.00
318M20040615,        P02,     106,          2,         12,         12,2,20040722,       1229,    30.0018,  -166.4472,       5557,  2027.4,   1.9691,  34.6099,2,  34.6097,2,  76.6000,2,    77.6,2,  163.72,2,   40.82,2,    0.00,2,    2.91,2,   0.000,2,   0.001,2,   0.001,2,  2369.4,2,  2416.2,2,-999.000,9,-999.0000,9, -999.00,9, -999.00,9,  -999.0,9,  -999.0,-999.000,9,-999.000,   37.70,2, 2027.40,-999.0000,9,-999.0000,9,-999.0000,9,-999.0000,9,-999.0000,9,-999.0000,-999.000,-999.0000,9, -999.00
318M20040615,        P02,     106,          2,         11,         11,2,20040722,       1229,    30.0018,  -166.4472,       5557,  2280.5,   1.7961,  34.6312,2,  34.6309,2,  90.2000,2,    90.8,2,  166.24,2,   39.95,2,    0.00,2,    2.84,2,   0.002,2,   0.004,2,   0.001,2,  2366.1,2,  2420.5,6,-999.000,9,-999.0000,9, -999.00,9, -999.00,9,  -999.0,9,  -999.0,-999.000,9,-999.000,   37.50,2, 2280.50,-999.0000,9,-999.0000,9,-999.0000,9,-999.0000,9,-999.0000,9,-999.0000,-999.000,-999.0000,9, -999.00
318M20040615,        P02,     106,          2,         10,         10,2,20040722,       1229,    30.0018,  -166.4472,       5557,  2538.5,   1.6861,  34.6451,2,  34.6468,2, 102.2000,2,   103.1,2,  165.38,2,   39.34,2,    0.00,2,    2.78,2,-999.000,9,-999.000,9,-999.000,9,  2360.3,2,  2420.7,2,-999.000,9,-999.0000,9, -999.00,9, -999.00,9,  -999.0,9,  -999.0,-999.000,9,-999.000,   37.60,2, 2538.50,-999.0000,9,-999.0000,9,-999.0000,9,-999.0000,9,-999.0000,9,-999.0000,-999.000,-999.0000,9, -999.00
318M20040615,        P02,     106,          2,          9,          9,2,20040722,       1229,    30.0018,  -166.4472,       5557,  2790.9,   1.5990,  34.6566,2,  34.6562,2, 113.7000,2,   114.7,2,  163.69,2,   38.74,2,    0.00,2,    2.71,2,   0.001,2,   0.003,2,   0.001,2,  2353.0,2,  2422.3,2,-999.000,9,-999.0000,9, -999.00,9, -999.00,9,  -999.0,9,  -999.0,-999.000,9,-999.000,   37.50,2, 2790.90,-999.0000,9,-999.0000,9,-999.0000,9,-999.0000,9,-999.0000,9,-999.0000,-999.000,-999.0000,9, -999.00
318M20040615,        P02,     106,          2,          8,          8,2,20040722,       1229,    30.0018,  -166.4472,       5557,  3048.6,   1.5402,  34.6655,2,  34.6650,2, 122.6000,2,   124.2,2,  161.55,2,   38.04,2,    0.00,2,    2.66,2,-999.000,9,-999.000,9,-999.000,9,  2347.7,2,  2423.0,2,-999.000,9,-999.0000,9, -999.00,9, -999.00,9,  -999.0,9,  -999.0,-999.000,9,-999.000,   37.30,2, 3048.60,-999.0000,9,-999.0000,9,-999.0000,9,-999.0000,9,-999.0000,9,-999.0000,-999.000,-999.0000,9, -999.00
318M20040615,        P02,     106,          2,          7,          7,2,20040722,       1229,    30.0018,  -166.4472,       5557,  3458.6,   1.4841,  34.6758,2,  34.6756,2, 135.1000,2,   136.0,2,  159.01,2,   37.18,2,    0.00,2,    2.60,2,   0.000,2,   0.001,2,   0.001,2,  2338.4,2,  2423.4,2,-999.000,9,-999.0000,9, -999.00,9, -999.00,9,  -999.0,9,  -999.0,-999.000,9,-999.000,   37.40,2, 3458.60,-999.0000,9,-999.0000,9,-999.0000,9,-999.0000,9,-999.0000,9,-999.0000,-999.000,-999.0000,9, -999.00
318M20040615,        P02,     106,          2,          6,          6,2,20040722,       1229,    30.0018,  -166.4472,       5557,  3870.4,   1.4644,  34.6822,2,  34.6821,2, 144.8000,2,   145.3,2,  156.03,2,   36.47,2,    0.00,2,    2.55,2,-999.000,9,-999.000,9,-999.000,9,  2332.1,2,  2421.3,6,-999.000,9,-999.0000,9, -999.00,9, -999.00,9,  -999.0,9,  -999.0,-999.000,9,-999.000,   37.40,2, 3870.40,-999.0000,9,-999.0000,9,-999.0000,9,-999.0000,9,-999.0000,9,-999.0000,-999.000,-999.0000,9, -999.00
318M20040615,        P02,     106,          2,          5,          5,2,20040722,       1229,    30.0018,  -166.4472,       5557,  4274.6,   1.4756,  34.6857,2,  34.6852,2, 149.7000,2,   149.8,2,  154.96,2,   36.04,2,    0.00,2,    2.53,2,   0.003,2,   0.002,2,   0.001,2,  2328.7,2,  2421.6,2,-999.000,9,-999.0000,9, -999.00,9, -999.00,9,  -999.0,9,  -999.0,-999.000,9,-999.000,   37.50,2, 4274.60,-999.0000,9,-999.0000,9,-999.0000,9,-999.0000,9,-999.0000,9,-999.0000,-999.000,-999.0000,9, -999.00
318M20040615,        P02,     106,          2,          4,          4,2,20040722,       1229,    30.0018,  -166.4472,       5557,  4677.3,   1.5010,  34.6880,2,  34.6874,2, 152.5000,2,   153.4,2,  154.33,2,   35.78,2,    0.00,2,    2.51,2,-999.000,9,-999.000,9,-999.000,9,  2326.1,2,  2419.7,2,-999.000,9,-999.0000,9, -999.00,9, -999.00,9,  -999.0,9,  -999.0,-999.000,9,-999.000,   37.60,2, 4677.30,-999.0000,9,-999.0000,9,-999.0000,9,-999.0000,9,-999.0000,9,-999.0000,-999.000,-999.0000,9, -999.00
318M20040615,        P02,     106,          2,          3,          3,2,20040722,       1229,    30.0018,  -166.4472,       5557,  5081.7,   1.5328,  34.6898,2,  34.6903,2, 156.5000,2,   156.7,2,  150.09,2,   35.35,2,    0.00,2,    2.50,2,   0.001,2,   0.002,2,   0.001,2,  2323.4,2,  2418.9,2,-999.000,9,-999.0000,9, -999.00,9, -999.00,9,  -999.0,9,  -999.0,-999.000,9,-999.000,   37.40,2, 5081.70,-999.0000,9,-999.0000,9,-999.0000,9,-999.0000,9,-999.0000,9,-999.0000,-999.000,-999.0000,9, -999.00
318M20040615,        P02,     106,          2,          2,          2,2,20040722,       1229,    30.0018,  -166.4472,       5557,  5299.4,   1.5500,  34.6906,2,  34.6901,2, 158.4000,2,   159.1,2,  147.76,2,   35.29,2,    0.00,2,    2.48,2,-999.000,9,-999.000,9,-999.000,9,  2321.1,2,  2417.0,2,-999.000,9,-999.0000,9, -999.00,9, -999.00,9,  -999.0,9,  -999.0,-999.000,9,-999.000,   37.20,2, 5299.40,-999.0000,9,-999.0000,9,-999.0000,9,-999.0000,9,-999.0000,9,-999.0000,-999.000,-999.0000,9, -999.00
318M20040615,        P02,     106,          2,          1,          1,2,20040722,       1229,    30.0018,  -166.4472,       5557,  5685.0,   1.5713,  34.6925,2,  34.6930,2, 164.1000,2,   164.9,2,  142.86,2,   34.81,2,    0.00,2,    2.45,2,   0.003,2,   0.004,2,   0.001,2,  2313.3,6,  2411.4,6,-999.000,9,-999.0000,9, -999.00,9, -999.00,9,  -999.0,9,  -999.0,-999.000,9,-999.000,   37.00,2, 5685.00,-999.0000,9,-999.0000,9,-999.0000,9,-999.0000,9,-999.0000,9,-999.0000,-999.000,-999.0000,9, -999.00