BOTTLE,20131027SIOCCHRJL
EXPOCODE,SECT_ID,STNNBR,CASTNO,SAMPNO,BTLNBR,BTLNBR_FLAG_W,DATE,TIME,LATITUDE,LONGITUDE,DEPTH,CTDPRS,CTDTMP,CTDSAL,CTDSAL_FLAG_W,SALNTY,SALNTY_FLAG_W,CTDOXY,CTDOXY_FLAG_W,OXYGEN,OXYGEN_FLAG_W,SILCAT,SILCAT_FLAG_W,NITRAT,NITRAT_FLAG_W,NITRIT,NITRIT_FLAG_W,PHSPHT,PHSPHT_FLAG_W,CFC-11,CFC-11_FLAG_W,CFC-12,CFC-12_FLAG_W,CFC113,CFC113_FLAG_W,TCARBN,TCARBN_FLAG_W,ALKALI,ALKALI_FLAG_W,TRITUM,TRITUM_FLAG_W,HELIUM,HELIUM_FLAG_W,DELHE3,DELHE3_FLAG_W,DELC13,DELC13_FLAG_W,DELC14,DELC14_FLAG_W,C14ERR,NEON,NEON_FLAG_W,NEONER,DOC,DOC_FLAG_W,CTDRAW,CDOM380,CDOM380_FLAG_W,CDOM325,CDOM325_FLAG_W,CDOMSL,CDOMSL_FLAG_W,CDOM340,CDOM340_FLAG_W,CDOMSN,CDOMSN_FLAG_W,HELIER,TRITER,CDOM412,CDOM412_FLAG_W,DELHER
,,,,,,,,,,,METERS,DBAR,ITS-90,PSS-78,,PSS-78,,UMOL/KG,,UMOL/KG,,UMOL/KG,,UMOL/KG,,UMOL/KG,,UMOL/KG,,PMOL/KG,,PMOL/KG,,PMOL/KG,,UMOL/KG,,UMOL/KG,,TU,,NMOL/KG,,PERCNT,,/MILLE,,/MILLE,,/MILLE,NMOL/KG,,NMOL/KG,UMOL/KG,,DBAR,1/M,,1/M,,1/NM,,1/M,,1/NM,,NMOL/KG,TU,1/M,,PERCNT
318M20040615,        P02,     176,          1,         36,         36,2,20040824,       1133,    31.0267,  -121.7718,       3992,     4.9,  19.0684,  33.0964,2,  33.1005,2, 244.5000,2,   241.2,2,    1.20,2,    0.14,2,    0.00,2,    0.30,2,   2.511,2,   1.520,2,   0.177,2,  1985.9,6,  2219.8,6,-999.000,9,-999.0000,9, -999.00,9, -999.00,9,  -999.0,9,  -999.0,-999.000,9,-999.000, -999.00,9,    4.90,-999.0000,9,-999.0000,9,-999.0000,9,-999.0000,9,-999.0000,9,-999.0000,-999.000,-999.0000,9, -999.00
318M20040615,        P02,     176,          1,         35,         35,2,20040824,       1133,    31.0267,  -121.7718,       3992,    34.8,  17.8860,  33.1768,2,  33.1682,2, 248.4000,2,   252.5,2,    1.00,2,    0.18,2,    0.01,2,    0.27,2,-999.000,9,-999.000,9,-999.000,9,  -999.0,9,  -999.0,9,-999.000,9,-999.0000,9, -999.00,9, -999.00,9,  -999.0,9,  -999.0,-999.000,9,-999.000, -999.00,9,   34.80,-999.0000,9,-999.0000,9,-999.0000,9,-999.0000,9,-999.0000,9,-999.0000,-999.000,-999.0000,9, -999.00
318M20040615,        P02,     176,          1,         34,         34,2,20040824,       1133,    31.0267,  -121.7718,       3992,    54.4,  15.4248,  33.0310,2,  33.0320,2, 262.2000,2,   263.3,2,    1.40,2,    0.18,2,    0.00,2,    0.35,2,   2.998,2,   1.798,2,   0.202,2,  -999.0,9,  -999.0,9,-999.000,9,-999.0000,9, -999.00,9, -999.00,9,  -999.0,9,  -999.0,-999.000,9,-999.000, -999.00,9,   54.40,-999.0000,9,-999.0000,9,-999.0000,9,-999.0000,9,-999.0000,9,-999.0000,-999.000,-999.0000,9, -999.00
318M20040615,        P02,     176,          1,         33,         33,2,20040824,       1133,    31.0267,  -121.7718,       3992,    94.6,  11.3445,  33.1366,2,  33.1403,2, 212.7000,2,   211.1,2,    8.06,2,   11.48,2,    0.03,2,    1.06,2,-999.000,9,-999.000,9,-999.000,9,  -999.0,9,  -999.0,9,-999.000,9,-999.0000,9, -999.00,9, -999.00,9,  -999.0,9,  -999.0,-999.000,9,-999.000, -999.00,9,   94.60,-999.0000,9,-999.0000,9,-999.0000,9,-999.0000,9,-999.0000,9,-999.0000,-999.000,-999.0000,9, -999.00
318M20040615,        P02,     176,          1,         32,         32,2,20040824,       1133,    31.0267,  -121.7718,       3992,   119.3,   9.9243,  33.3500,2,  33.3493,2, 185.7000,2,   186.4,2,   14.92,2,   17.46,2,    0.02,2,    1.42,2,   3.614,2,   2.016,2,   0.184,2,  -999.0,9,  -999.0,9,-999.000,9,-999.0000,9, -999.00,9, -999.00,9,  -999.0,9,  -999.0,-999.000,9,-999.000, -999.00,9,  119.30,-999.0000,9,-999.0000,9,-999.0000,9,-999.0000,9,-999.0000,9,-999.0000,-999.000,-999.0000,9, -999.00
318M20040615,        P02,     176,          1,         31,         31,2,20040824,       1133,    31.0267,  -121.7718,       3992,   143.5,   9.5485,  33.6064,2,  33.6045,2, 146.8000,2,   150.2,2,   21.40,2,   22.70,2,    0.01,2,    1.76,2,   3.414,2,   1.877,2,   0.173,2,  -999.0,9,  -999.0,9,-999.000,9,-999.0000,9, -999.00,9, -999.00,9,  -999.0,9,  -999.0,-999.000,9,-999.000, -999.00,9,  143.50,-999.0000,9,-999.0000,9,-999.0000,9,-999.0000,9,-999.0000,9,-999.0000,-999.000,-999.0000,9, -999.00
318M20040615,        P02,     176,          1,         30,         30,2,20040824,       1133,    31.0267,  -121.7718,       3992,   169.1,   9.2835,  33.7909,2,  33.7908,2, 134.0000,2,   131.9,2,   25.03,2,   24.46,2,    0.01,2,    1.86,2,   3.138,2,   1.690,2,   0.144,2,  -999.0,9,  -999.0,9,-999.000,9,-999.0000,9, -999.00,9, -999.00,9,  -999.0,9,  -999.0,-999.000,9,-999.000, -999.00,9,  169.10,-999.0000,9,-999.0000,9,-999.0000,9,-999.0000,9,-999.0000,9,-999.0000,-999.000,-999.0000,9, -999.00
318M20040615,        P02,     176,          1,         29,         29,2,20040824,       1133,    31.0267,  -121.7718,       3992,   196.5,   9.0030,  33.9392,2,  33.9392,2, 124.4000,2,   120.7,2,   28.67,2,   25.79,2,    0.01,2,    1.94,2,   3.048,2,   1.530,2,   0.111,2,  -999.0,9,  -999.0,9,-999.000,9,-999.0000,9, -999.00,9, -999.00,9,  -999.0,9,  -999.0,-999.000,9,-999.000, -999.00,9,  196.50,-999.0000,9,-999.0000,9,-999.0000,9,-999.0000,9,-999.0000,9,-999.0000,-999.000,-999.0000,9, -999.00
318M20040615,        P02,     176,          1,         28,         28,2,20040824,       1133,    31.0267,  -121.7718,       3992,   223.9,   8.5856,  34.0282,2,  34.0275,2, 101.4000,2,   101.6,2,   34.56,2,   28.61,2,    0.00,2,    2.11,2,-999.000,9,-999.000,9,-999.000,9,  -999.0,9,  -999.0,9,-999.000,9,-999.0000,9, -999.00,9, -999.00,9,  -999.0,9,  -999.0,-999.000,9,-999.000, -999.00,9,  223.90,-999.0000,9,-999.0000,9,-999.0000,9,-999.0000,9,-999.0000,9,-999.0000,-999.000,-999.0000,9, -999.00
318M20040615,        P02,     176,          1,         27,         27,2,20040824,       1133,    31.0267,  -121.7718,       3992,   273.8,   7.6706,  34.0458,2,  34.0459,2,  89.7000,2,    97.6,2,   42.68,2,   30.92,2,    0.00,2,    2.24,2,   2.347,2,   1.212,2,   0.102,2,  -999.0,9,  -999.0,9,-999.000,9,-999.0000,9, -999.00,9, -999.00,9,  -999.0,9,  -999.0,-999.000,9,-999.000, -999.00,9,  273.80,-999.0000,9,-999.0000,9,-999.0000,9,-999.0000,9,-999.0000,9,-999.0000,-999.000,-999.0000,9, -999.00
318M20040615,        P02,     176,          1,         26,         26,2,20040824,       1133,    31.0267,  -121.7718,       3992,   323.1,   6.8738,  34.0553,2,  34.0553,2,  75.2000,2,    76.0,2,   52.45,2,   34.20,2,    0.00,2,    2.49,2,-999.000,9,-999.000,9,-999.000,9,  -999.0,9,  -999.0,9,-999.000,9,-999.0000,9, -999.00,9, -999.00,9,  -999.0,9,  -999.0,-999.000,9,-999.000, -999.00,9,  323.10,-999.0000,9,-999.0000,9,-999.0000,9,-999.0000,9,-999.0000,9,-999.0000,-999.000,-999.0000,9, -999.00
318M20040615,        P02,     176,          1,         25,         25,2,20040824,       1133,    31.0267,  -121.7718,       3992,   373.0,   6.4563,  34.0865,2,  34.0878,2,  56.1000,2,    56.6,2,   60.01,2,   36.33,2,    0.00,2,    2.68,2,   1.287,2,   0.652,2,   0.041,2,  -999.0,9,  -999.0,9,-999.000,9,-999.0000,9, -999.00,9, -999.00,9,  -999.0,9,  -999.0,-999.000,9,-999.000, -999.00,9,  373.00,-999.0000,9,-999.0000,9,-999.0000,9,-999.0000,9,-999.0000,9,-999.0000,-999.000,-999.0000,9, -999.00
318M20040615,        P02,     176,          1,         24,         24,2,20040824,       1133,    31.0267,  -121.7718,       3992,   423.0,   6.1881,  34.1411,2,  34.1427,2,  39.3000,2,    38.0,2,   66.96,2,   38.04,2,    0.00,2,    2.85,2,-999.000,9,-999.000,9,-999.000,9,  -999.0,9,  -999.0,9,-999.000,9,-999.0000,9, -999.00,9, -999.00,9,  -999.0,9,  -999.0,-999.000,9,-999.000, -999.00,9,  423.00,-999.0000,9,-999.0000,9,-999.0000,9,-999.0000,9,-999.0000,9,-999.0000,-999.000,-999.0000,9, -999.00
318M20040615,        P02,     176,          1,         23,         23,2,20040824,       1133,    31.0267,  -121.7718,       3992,   473.2,   5.7041,  34.1737,2,  34.1738,2,  28.3000,2,    27.1,2,   76.59,2,   39.87,2,    0.00,2,    2.98,2,   0.458,6,   0.232,6,   0.008,6,  -999.0,9,  -999.0,9,-999.000,9,-999.0000,9, -999.00,9, -999.00,9,  -999.0,9,  -999.0,-999.000,9,-999.000, -999.00,9,  473.20,-999.0000,9,-999.0000,9,-999.0000,9,-999.0000,9,-999.0000,9,-999.0000,-999.000,-999.0000,9, -999.00
318M20040615,        P02,     176,          1,         22,         22,2,20040824,       1133,    31.0267,  -121.7718,       3992,   548.0,   5.4617,  34.2479,2,  34.2474,2,  18.6000,2,    17.1,2,   83.99,2,   41.01,2,    0.00,2,    3.09,2,-999.000,9,-999.000,9,-999.000,9,  -999.0,9,  -999.0,9,-999.000,9,-999.0000,9, -999.00,9, -999.00,9,  -999.0,9,  -999.0,-999.000,9,-999.000, -999.00,9,  548.00,-999.0000,9,-999.0000,9,-999.0000,9,-999.0000,9,-999.0000,9,-999.0000,-999.000,-999.0000,9, -999.00
318M20040615,        P02,     176,          1,         21,         21,2,20040824,       1133,    31.0267,  -121.7718,       3992,   647.4,   5.2006,  34.3668,2,  34.3713,2,  10.1000,2,    10.3,2,   92.21,2,   42.08,2,    0.00,2,    3.19,2,   0.054,2,   0.028,2,   0.000,2,  -999.0,9,  -999.0,9,-999.000,9,-999.0000,9, -999.00,9, -999.00,9,  -999.0,9,  -999.0,-999.000,9,-999.000, -999.00,9,  647.40,-999.0000,9,-999.0000,9,-999.0000,9,-999.0000,9,-999.0000,9,-999.0000,-999.000,-999.0000,9, -999.00
318M20040615,        P02,     176,          1,         20,         20,2,20040824,       1133,    31.0267,  -121.7718,       3992,   748.5,   4.7940,  34.4124,2,  34.4116,2,  11.6000,2,    12.4,2,  100.05,2,   42.84,2,    0.00,2,    3.22,2,-999.000,9,-999.000,9,-999.000,9,  -999.0,9,  -999.0,9,-999.000,9,-999.0000,9, -999.00,9, -999.00,9,  -999.0,9,  -999.0,-999.000,9,-999.000, -999.00,9,  748.50,-999.0000,9,-999.0000,9,-999.0000,9,-999.0000,9,-999.0000,9,-999.0000,-999.000,-999.0000,9, -999.00
318M20040615,        P02,     176,          1,         19,         19,2,20040824,       1133,    31.0267,  -121.7718,       3992,   847.5,   4.4158,  34.4466,2,  34.4467,2,  15.5000,2,    16.3,2,  107.72,2,   43.29,2,    0.00,2,    3.22,2,   0.035,2,   0.022,2,   0.000,2,  -999.0,9,  -999.0,9,-999.000,9,-999.0000,9, -999.00,9, -999.00,9,  -999.0,9,  -999.0,-999.000,9,-999.000, -999.00,9,  847.50,-999.0000,9,-999.0000,9,-999.0000,9,-999.0000,9,-999.0000,9,-999.0000,-999.000,-999.0000,9, -999.00
318M20040615,        P02,     176,          1,         18,         18,2,20040824,       1133,    31.0267,  -121.7718,       3992,   948.3,   4.1286,  34.4716,2,  34.4736,2,  20.4000,2,    20.9,2,  113.95,2,   43.44,2,    0.00,2,    3.21,2,-999.000,9,-999.000,9,-999.000,9,  -999.0,9,  -999.0,9,-999.000,9,-999.0000,9, -999.00,9, -999.00,9,  -999.0,9,  -999.0,-999.000,9,-999.000, -999.00,9,  948.30,-999.0000,9,-999.0000,9,-999.0000,9,-999.0000,9,-999.0000,9,-999.0000,-999.000,-999.0000,9, -999.00
318M20040615,        P02,     176,          1,         17,         17,2,20040824,       1133,    31.0267,  -121.7718,       3992,  1048.5,   3.8569,  34.4945,2,  34.4954,2,  25.7000,2,    25.7,2,  119.77,2,   43.61,2,    0.00,2,    3.20,2,   0.034,2,   0.021,2,   0.000,2,  -999.0,9,  -999.0,9,-999.000,9,-999.0000,9, -999.00,9, -999.00,9,  -999.0,9,  -999.0,-999.000,9,-999.000, -999.00,9, 1048.50,-999.0000,9,-999.0000,9,-999.0000,9,-999.0000,9,-999.0000,9,-999.0000,-999.000,-999.0000,9, -999.00
318M20040615,        P02,     176,          1,         16,         16,2,20040824,       1133,    31.0267,  -121.7718,       3992,  1153.6,   3.5596,  34.5163,2,  34.5148,2,  30.8000,2,    30.4,2,  126.85,2,   43.72,2,    0.00,2,    3.18,2,-999.000,9,-999.000,9,-999.000,9,  -999.0,9,  -999.0,9,-999.000,9,-999.0000,9, -999.00,9, -999.00,9,  -999.0,9,  -999.0,-999.000,9,-999.000, -999.00,9, 1153.60,-999.0000,9,-999.0000,9,-999.0000,9,-999.0000,9,-999.0000,9,-999.0000,-999.000,-999.0000,9, -999.00
318M20040615,        P02,     176,          1,         15,         15,2,20040824,       1133,    31.0267,  -121.7718,       3992,  1254.1,   3.3225,  34.5344,2,  34.5344,2,  36.4000,2,    37.3,2,  132.90,2,   43.61,2,    0.00,2,    3.15,2,   0.038,2,   0.028,2,   0.000,2,  -999.0,9,  -999.0,9,-999.000,9,-999.0000,9, -999.00,9, -999.00,9,  -999.0,9,  -999.0,-999.000,9,-999.000, -999.00,9, 1254.10,-999.0000,9,-999.0000,9,-999.0000,9,-999.0000,9,-999.0000,9,-999.0000,-999.000,-999.0000,9, -999.00
318M20040615,        P02,     176,          1,         14,         14,2,20040824,       1133,    31.0267,  -121.7718,       3992,  1354.2,   3.1176,  34.5499,2,  34.5499,2,  41.5000,2,    41.6,2,  137.70,2,   43.32,2,    0.00,2,    3.13,2,-999.000,9,-999.000,9,-999.000,9,  -999.0,9,  -999.0,9,-999.000,9,-999.0000,9, -999.00,9, -999.00,9,  -999.0,9,  -999.0,-999.000,9,-999.000, -999.00,9, 1354.20,-999.0000,9,-999.0000,9,-999.0000,9,-999.0000,9,-999.0000,9,-999.0000,-999.000,-999.0000,9, -999.00
318M20040615,        P02,     176,          1,         13,         13,2,20040824,       1133,    31.0267,  -121.7718,       3992,  1454.1,   2.9100,  34.5640,2,  34.5644,2,  47.1000,2,    46.8,2,  142.72,2,   42.94,2,    0.00,2,    3.09,2,   0.026,2,   0.025,2,   0.000,2,  -999.0,9,  -999.0,9,-999.000,9,-999.0000,9, -999.00,9, -999.00,9,  -999.0,9,  -999.0,-999.000,9,-999.000, -999.00,9, 1454.10,-999.0000,9,-999.0000,9,-999.0000,9,-999.0000,9,-999.0000,9,-999.0000,-999.000,-999.0000,9, -999.00
318M20040615,        P02,     176,          1,         12,         12,2,20040824,       1133,    31.0267,  -121.7718,       3992,  1555.0,   2.7053,  34.5760,2,  34.5768,2,  53.1000,2,    53.6,2,  147.97,2,   42.56,2,    0.00,2,    3.06,2,-999.000,9,-999.000,9,-999.000,9,  -999.0,9,  -999.0,9,-999.000,9,-999.0000,9, -999.00,9, -999.00,9,  -999.0,9,  -999.0,-999.000,9,-999.000, -999.00,9, 1555.00,-999.0000,9,-999.0000,9,-999.0000,9,-999.0000,9,-999.0000,9,-999.0000,-999.000,-999.0000,9, -999.00
318M20040615,        P02,     176,          1,         11,         11,2,20040824,       1133,    31.0267,  -121.7718,       3992,  1660.5,   2.5344,  34.5900,2,  34.5911,2,  59.6000,2,    59.6,2,  152.15,2,   42.12,2,    0.00,2,    3.01,2,   0.019,2,   0.018,2,   0.000,2,  -999.0,9,  -999.0,9,-999.000,9,-999.0000,9, -999.00,9, -999.00,9,  -999.0,9,  -999.0,-999.000,9,-999.000, -999.00,9, 1660.50,-999.0000,9,-999.0000,9,-999.0000,9,-999.0000,9,-999.0000,9,-999.0000,-999.000,-999.0000,9, -999.00
318M20040615,        P02,     176,          1,          5,          5,2,20040824,       1133,    31.0267,  -121.7718,       3992,  1760.9,   2.3821,  34.6011,2,  34.6023,2,  66.0000,2,    65.8,2,  155.31,2,   42.12,2,    0.00,2,    2.98,2,   0.009,2,   0.009,2,   0.000,2,  -999.0,9,  -999.0,9,-999.000,9,-999.0000,9, -999.00,9, -999.00,9,  -999.0,9,  -999.0,-999.000,9,-999.000, -999.00,9, 1760.90,-999.0000,9,-999.0000,9,-999.0000,9,-999.0000,9,-999.0000,9,-999.0000,-999.000,-999.0000,9, -999.00
318M20040615,        P02,     176,          1,          4,          4,2,20040824,       1133,    31.0267,  -121.7718,       3992,  1967.5,   2.1244,  34.6231,2,  34.6235,2,  80.1000,2,    79.8,2,  159.94,2,   41.19,2,    0.00,2,    2.91,2,-999.000,9,-999.000,9,-999.000,9,  -999.0,9,  -999.0,9,-999.000,9,-999.0000,9, -999.00,9, -999.00,9,  -999.0,9,  -999.0,-999.000,9,-999.000, -999.00,9, 1967.50,-999.0000,9,-999.0000,9,-999.0000,9,-999.0000,9,-999.0000,9,-999.0000,-999.000,-999.0000,9, -999.00
318M20040615,        P02,     176,          1,          3,          3,2,20040824,       1133,    31.0267,  -121.7718,       3992,  2128.3,   1.9863,  34.6357,2,  34.6368,2,  89.1000,2,    88.5,2,  162.04,2,   40.49,2,    0.00,2,    2.85,2,   0.007,2,   0.005,2,   0.000,2,  -999.0,9,  -999.0,9,-999.000,9,-999.0000,9, -999.00,9, -999.00,9,  -999.0,9,  -999.0,-999.000,9,-999.000, -999.00,9, 2128.30,-999.0000,9,-999.0000,9,-999.0000,9,-999.0000,9,-999.0000,9,-999.0000,-999.000,-999.0000,9, -999.00
318M20040615,        P02,     176,          1,          2,          2,2,20040824,       1133,    31.0267,  -121.7718,       3992,  2380.2,   1.8460,  34.6489,2,  34.6502,2,  99.2000,2,    99.1,2,  164.14,2,   39.78,2,    0.00,2,    2.79,2,-999.000,9,-999.000,9,-999.000,9,  -999.0,9,  -999.0,9,-999.000,9,-999.0000,9, -999.00,9, -999.00,9,  -999.0,9,  -999.0,-999.000,9,-999.000, -999.00,9, 2380.20,-999.0000,9,-999.0000,9,-999.0000,9,-999.0000,9,-999.0000,9,-999.0000,-999.000,-999.0000,9, -999.00
318M20040615,        P02,     176,          1,          1,          1,2,20040824,       1133,    31.0267,  -121.7718,       3992,  2637.0,   1.7447,  34.6580,2,  34.6590,2, 107.7000,2,   108.1,2,  164.96,2,   39.18,2,    0.00,2,    2.74,2,   0.010,2,   0.007,2,   0.000,2,  -999.0,9,  -999.0,9,-999.000,9,-999.0000,9, -999.00,9, -999.00,9,  -999.0,9,  -999.0,-999.000,9,-999.000, -999.00,9, 2637.00,-999.0000,9,-999.0000,9,-999.0000,9,-999.0000,9,-999.0000,9,-999.0000,-999.000,-999.0000,9, -999.00
318M20040615,        P02,     176,          1,         10,         10,2,20040824,       1133,    31.0267,  -121.7718,       3992,  2889.6,   1.6692,  34.6643,2,  34.6644,2, 114.0000,2,   115.7,2,  166.93,2,   38.39,2,    0.00,2,    2.71,2,   0.010,2,   0.007,2,   0.000,2,  -999.0,9,  -999.0,9,-999.000,9,-999.0000,9, -999.00,9, -999.00,9,  -999.0,9,  -999.0,-999.000,9,-999.000, -999.00,9, 2889.60,-999.0000,9,-999.0000,9,-999.0000,9,-999.0000,9,-999.0000,9,-999.0000,-999.000,-999.0000,9, -999.00
318M20040615,        P02,     176,          1,          9,          9,2,20040824,       1133,    31.0267,  -121.7718,       3992,  3147.1,   1.5972,  34.6696,2,  34.6699,2, 119.7000,2,   120.4,2,  168.63,2,   38.33,2,    0.00,2,    2.67,2,   0.009,2,   0.007,2,   0.000,2,  -999.0,9,  -999.0,9,-999.000,9,-999.0000,9, -999.00,9, -999.00,9,  -999.0,9,  -999.0,-999.000,9,-999.000, -999.00,9, 3147.10,-999.0000,9,-999.0000,9,-999.0000,9,-999.0000,9,-999.0000,9,-999.0000,-999.000,-999.0000,9, -999.00
318M20040615,        P02,     176,          1,          8,          8,2,20040824,       1133,    31.0267,  -121.7718,       3992,  3454.9,   1.5560,  34.6747,2,  34.6738,2, 126.0000,2,   126.3,2,  168.84,2,   37.90,2,    0.00,2,    2.64,2,   0.014,2,   0.011,2,   0.000,2,  -999.0,9,  -999.0,9,-999.000,9,-999.0000,9, -999.00,9, -999.00,9,  -999.0,9,  -999.0,-999.000,9,-999.000, -999.00,9, 3454.90,-999.0000,9,-999.0000,9,-999.0000,9,-999.0000,9,-999.0000,9,-999.0000,-999.000,-999.0000,9, -999.00
318M20040615,        P02,     176,          1,          7,          7,2,20040824,       1133,    31.0267,  -121.7718,       3992,  3803.7,   1.5320,  34.6800,2,  34.6805,2, 131.7000,2,   132.3,2,  168.42,2,   37.58,2,    0.00,2,    2.61,2,   0.022,2,   0.019,2,   0.000,2,  -999.0,9,  -999.0,9,-999.000,9,-999.0000,9, -999.00,9, -999.00,9,  -999.0,9,  -999.0,-999.000,9,-999.000, -999.00,9, 3803.70,-999.0000,9,-999.0000,9,-999.0000,9,-999.0000,9,-999.0000,9,-999.0000,-999.000,-999.0000,9, -999.00
318M20040615,        P02,     176,          1,          6,          6,2,20040824,       1133,    31.0267,  -121.7718,       3992,  4007.4,   1.5412,  34.6812,2,  34.6825,2, 133.3000,2,   133.7,2,  167.98,2,   37.69,2,    0.00,2,    2.60,2,   0.020,2,   0.020,2,   0.000,2,  -999.0,9,  -999.0,9,-999.000,9,-999.0000,9, -999.00,9, -999.00,9,  -999.0,9,  -999.0,-999.000,9,-999.000, -999.00,9, 4007.40,-999.0000,9,-999.0000,9,-999.0000,9,-999.0000,9,-999.0000,9,-999.0000,-999.000,-999.0000,9, -999.00