BOTTLE,20131027SIOCCHRJL
EXPOCODE,SECT_ID,STNNBR,CASTNO,SAMPNO,BTLNBR,BTLNBR_FLAG_W,DATE,TIME,LATITUDE,LONGITUDE,DEPTH,CTDPRS,CTDTMP,CTDSAL,CTDSAL_FLAG_W,SALNTY,SALNTY_FLAG_W,CTDOXY,CTDOXY_FLAG_W,OXYGEN,OXYGEN_FLAG_W,SILCAT,SILCAT_FLAG_W,NITRAT,NITRAT_FLAG_W,NITRIT,NITRIT_FLAG_W,PHSPHT,PHSPHT_FLAG_W,CFC-11,CFC-11_FLAG_W,CFC-12,CFC-12_FLAG_W,CFC113,CFC113_FLAG_W,TCARBN,TCARBN_FLAG_W,ALKALI,ALKALI_FLAG_W,TRITUM,TRITUM_FLAG_W,HELIUM,HELIUM_FLAG_W,DELHE3,DELHE3_FLAG_W,DELC13,DELC13_FLAG_W,DELC14,DELC14_FLAG_W,C14ERR,NEON,NEON_FLAG_W,NEONER,DOC,DOC_FLAG_W,CTDRAW,CDOM380,CDOM380_FLAG_W,CDOM325,CDOM325_FLAG_W,CDOMSL,CDOMSL_FLAG_W,CDOM340,CDOM340_FLAG_W,CDOMSN,CDOMSN_FLAG_W,HELIER,TRITER,CDOM412,CDOM412_FLAG_W,DELHER
,,,,,,,,,,,METERS,DBAR,ITS-90,PSS-78,,PSS-78,,UMOL/KG,,UMOL/KG,,UMOL/KG,,UMOL/KG,,UMOL/KG,,UMOL/KG,,PMOL/KG,,PMOL/KG,,PMOL/KG,,UMOL/KG,,UMOL/KG,,TU,,NMOL/KG,,PERCNT,,/MILLE,,/MILLE,,/MILLE,NMOL/KG,,NMOL/KG,UMOL/KG,,DBAR,1/M,,1/M,,1/NM,,1/M,,1/NM,,NMOL/KG,TU,1/M,,PERCNT
318M20040615,        P02,      40,          2,         36,         36,2,20040630,       0826,    29.9953,    149.269,       6129,    17.5,  26.9501,  35.0303,2,  35.0338,2, 208.9000,2,   205.2,2,    1.28,2,    0.08,2,    0.00,2,    0.03,2,   1.457,4,   0.927,4,   0.112,2,  1975.5,6,  2301.2,6,-999.000,9,-999.0000,9, -999.00,9,    1.17,2,    91.4,2,     5.0,-999.000,9,-999.000,   69.00,2,   17.50,   0.0050,2,   0.0390,2,   0.0380,2,   0.0230,2,   0.0360,2,-999.0000,-999.000,   0.0020,2, -999.00
318M20040615,        P02,      40,          2,         35,         35,2,20040630,       0826,    29.9953,    149.269,       6129,    51.4,  22.4934,  34.9643,2,  34.9634,2, 229.2000,2,   231.8,2,    1.46,2,    0.08,2,    0.00,2,    0.03,2,-999.000,5,-999.000,5,-999.000,5,  1978.7,2,  2296.3,2,-999.000,9,-999.0000,9, -999.00,9, -999.00,9,  -999.0,9,  -999.0,-999.000,9,-999.000,   67.00,2,   51.40,   0.0140,2,   0.0700,2,   0.0310,2,   0.0430,2,   0.0320,2,-999.0000,-999.000,   0.0070,2, -999.00
318M20040615,        P02,      40,          2,         34,         34,2,20040630,       0826,    29.9953,    149.269,       6129,   102.2,  19.0381,  34.8476,2,  34.8524,2, 222.0000,2,   219.6,2,    2.37,2,    0.67,2,    0.25,2,    0.12,2,   2.316,2,   1.392,2,   0.131,2,  2005.1,2,  2288.1,2,-999.000,9,-999.0000,9, -999.00,9,    0.95,2,    86.3,2,     5.3,-999.000,9,-999.000,   59.20,2,  102.20,   0.0470,2,   0.1260,2,   0.0150,2,   0.0920,2,   0.0170,2,-999.0000,-999.000,   0.0340,2, -999.00
318M20040615,        P02,      40,          2,         33,         33,2,20040630,       0826,    29.9953,    149.269,       6129,   152.3,  17.5626,  34.7929,2,  34.7921,2, 214.5000,2,   214.3,2,    3.09,2,    3.33,2,    0.02,2,    0.25,2,   2.432,2,   1.454,2,   0.106,2,  2020.3,2,  2286.0,2,-999.000,9,-999.0000,9, -999.00,9,    0.82,2,   101.8,2,     5.1,-999.000,9,-999.000,   54.50,2,  152.30,   0.0430,2,   0.1090,2,   0.0140,2,   0.0790,2,   0.0160,2,-999.0000,-999.000,   0.0320,2, -999.00
318M20040615,        P02,      40,          2,         32,         32,2,20040630,       0826,    29.9953,    149.269,       6129,   201.5,  17.2473,  34.7889,2,  34.7885,2, 214.3000,2,   217.5,2,    3.45,2,    3.66,2,    0.01,2,    0.26,2,   2.441,2,   1.473,2,   0.109,2,  2020.3,2,  2284.6,2,-999.000,9,-999.0000,9, -999.00,9,    0.74,2,    94.5,2,     5.4,-999.000,9,-999.000,   53.00,2,  201.50,   0.0330,2,   0.0900,2,   0.0180,2,   0.0650,2,   0.0190,2,-999.0000,-999.000,   0.0240,2, -999.00
318M20040615,        P02,      40,          2,         31,         31,2,20040630,       0826,    29.9953,    149.269,       6129,   251.0,  17.1079,  34.8003,2,  34.7997,2, 218.9000,2,   221.6,2,    3.45,2,    3.55,2,    0.01,2,    0.26,2,   2.471,2,   1.473,2,   0.124,2,  2019.8,2,  2284.5,2,-999.000,9,-999.0000,9, -999.00,9, -999.00,9,  -999.0,9,  -999.0,-999.000,9,-999.000,   51.90,2,  251.00,   0.0200,2,   0.0690,2,   0.0240,2,   0.0480,2,   0.0240,2,-999.0000,-999.000,   0.0140,2, -999.00
318M20040615,        P02,      40,          2,         30,         30,2,20040630,       0826,    29.9953,    149.269,       6129,   300.9,  16.7337,  34.7503,2,  34.7492,2, 211.8000,2,   212.9,2,    4.36,2,    4.93,2,    0.01,2,    0.35,2,   2.489,2,   1.487,2,   0.075,2,  2029.7,2,  2285.0,2,-999.000,9,-999.0000,9, -999.00,9,    0.74,2,    96.1,2,     4.4,-999.000,9,-999.000,   51.30,2,  300.90,-999.0000,9,-999.0000,9,-999.0000,9,-999.0000,9,-999.0000,9,-999.0000,-999.000,-999.0000,9, -999.00
318M20040615,        P02,      40,          2,         29,         29,2,20040630,       0826,    29.9953,    149.269,       6129,   352.7,  16.2384,  34.7015,2,  34.7003,2, 207.0000,2,   203.2,2,    6.18,2,    6.67,2,    0.01,2,    0.46,2,   2.514,2,   1.468,2,   0.043,2,  2041.6,2,  2280.1,2,-999.000,9,-999.0000,9, -999.00,9,    0.69,2,    82.6,2,     5.5,-999.000,9,-999.000,   50.20,2,  352.70,   0.0330,2,   0.0940,2,   0.0190,2,   0.0660,2,   0.0200,2,-999.0000,-999.000,   0.0240,2, -999.00
318M20040615,        P02,      40,          2,         28,         28,2,20040630,       0826,    29.9953,    149.269,       6129,   397.8,  15.2963,  34.6163,2,  34.6159,2, 195.8000,2,   193.7,2,    8.90,2,    8.94,2,    0.00,2,    0.62,2,   2.578,2,   1.474,2,   0.027,2,  2059.1,2,  2280.3,2,-999.000,9,-999.0000,9, -999.00,9,    0.64,2,    94.5,2,     4.8,-999.000,9,-999.000,   49.40,2,  397.80,   0.0260,2,   0.0850,2,   0.0220,2,   0.0580,2,   0.0230,2,-999.0000,-999.000,   0.0180,2, -999.00
318M20040615,        P02,      40,          2,         27,         27,2,20040630,       0826,    29.9953,    149.269,       6129,   448.6,  14.2513,  34.5353,2,  34.5340,2, 194.0000,2,   192.1,2,   11.26,2,   10.68,2,    0.00,2,    0.73,2,   2.630,2,   1.491,2,   0.030,2,  2072.7,2,  2275.3,2,-999.000,9,-999.0000,9, -999.00,9, -999.00,9,  -999.0,9,  -999.0,-999.000,9,-999.000,   48.30,2,  448.60,   0.0310,2,   0.0970,2,   0.0210,2,   0.0680,2,   0.0220,2,-999.0000,-999.000,   0.0210,2, -999.00
318M20040615,        P02,      40,          2,         26,         26,2,20040630,       0826,    29.9953,    149.269,       6129,   497.7,  12.8294,  34.4320,2,  34.4312,2, 185.2000,2,   188.6,2,   15.42,2,   13.38,2,    0.00,2,    0.93,2,   2.665,2,   1.470,2,   0.042,2,  2091.3,2,  2272.3,2,-999.000,9,-999.0000,9, -999.00,9,    0.55,2,    71.1,2,     4.9,-999.000,9,-999.000,   47.40,2,  497.70,-999.0000,9,-999.0000,9,-999.0000,9,-999.0000,9,-999.0000,9,-999.0000,-999.000,-999.0000,9, -999.00
318M20040615,        P02,      40,          2,         25,         25,2,20040630,       0826,    29.9953,    149.269,       6129,   598.6,  10.2625,  34.2433,2,  34.2436,2, 184.6000,2,   185.3,2,   26.10,2,   18.01,2,    0.00,2,    1.27,2,   2.655,2,   1.451,2,   0.088,2,  2125.5,2,  2276.5,2,-999.000,9,-999.0000,9, -999.00,9,    0.44,2,    51.9,2,     6.1,-999.000,9,-999.000,   46.60,2,  598.60,   0.0510,2,   0.1450,2,   0.0160,2,   0.1020,2,   0.0180,2,-999.0000,-999.000,   0.0360,2, -999.00
318M20040615,        P02,      40,          2,         24,         24,2,20040630,       0826,    29.9953,    149.269,       6129,   699.1,   7.6795,  34.0755,2,  34.0750,2, 164.5000,2,   162.7,2,   42.91,2,   24.82,2,    0.00,2,    1.78,2,   2.433,2,   1.290,2,   0.099,2,  2176.0,2,  2278.3,2,-999.000,9,-999.0000,9, -999.00,9,    0.25,2,     0.1,2,     4.7,-999.000,9,-999.000,   45.40,2,  699.10,   0.0760,2,   0.2100,2,   0.0170,2,   0.1570,2,   0.0180,2,-999.0000,-999.000,   0.0480,2, -999.00
318M20040615,        P02,      40,          2,         23,         23,2,20040630,       0826,    29.9953,    149.269,       6129,   800.3,   6.0287,  34.0405,2,  34.0395,2, 125.1000,2,   125.6,2,   62.60,2,   31.08,2,    0.00,2,    2.25,2,-999.000,5,-999.000,5,-999.000,5,  2226.8,2,  2301.2,2,-999.000,9,-999.0000,9, -999.00,9,    0.04,2,   -54.9,2,     4.3,-999.000,9,-999.000,   44.30,2,  800.30,   0.0510,2,   0.1410,2,   0.0160,2,   0.1020,2,   0.0180,2,-999.0000,-999.000,   0.0340,2, -999.00
318M20040615,        P02,      40,          2,         22,         22,2,20040630,       0826,    29.9953,    149.269,       6129,   900.4,   4.9892,  34.1080,2,  34.1053,2,  83.8000,2,    81.3,2,   84.29,2,   36.77,2,    0.00,2,    2.64,2,   1.135,2,   0.572,2,   0.043,2,  2276.8,2,  2311.7,2,-999.000,9,-999.0000,9, -999.00,9,   -0.19,2,  -101.1,2,     5.2,-999.000,9,-999.000,   42.90,2,  900.40,   0.0860,2,   0.2150,2,   0.0140,2,   0.1590,2,   0.0150,2,-999.0000,-999.000,   0.0600,2, -999.00
318M20040615,        P02,      40,          2,         21,         21,2,20040630,       0826,    29.9953,    149.269,       6129,  1000.9,   4.3122,  34.1963,2,  34.1938,2,  59.1000,2,    57.5,2,  102.24,2,   40.15,2,    0.00,2,    2.87,2,   0.608,2,   0.310,2,   0.021,2,  2312.8,2,  2333.2,2,-999.000,9,-999.0000,9, -999.00,9,   -0.39,2,  -152.2,2,     3.5,-999.000,9,-999.000,   41.40,2, 1000.90,-999.0000,9,-999.0000,9,-999.0000,9,-999.0000,9,-999.0000,9,-999.0000,-999.000,-999.0000,9, -999.00
318M20040615,        P02,      40,          2,         20,         20,2,20040630,       0826,    29.9953,    149.269,       6129,  1099.7,   3.8798,  34.2654,2,  34.2626,2,  45.1000,2,    46.0,2,  114.97,2,   41.61,2,    0.00,2,    2.96,2,-999.000,5,-999.000,5,-999.000,5,  2332.8,2,  2345.9,2,-999.000,9,-999.0000,9, -999.00,9,   -0.33,2,  -168.5,2,     3.9,-999.000,9,-999.000,   40.80,2, 1099.70,-999.0000,9,-999.0000,9,-999.0000,9,-999.0000,9,-999.0000,9,-999.0000,-999.000,-999.0000,9, -999.00
318M20040615,        P02,      40,          2,         19,         19,2,20040630,       0826,    29.9953,    149.269,       6129,  1201.4,   3.5199,  34.3345,2,  34.3322,2,  39.7000,2,    39.2,2,  125.18,2,   42.59,2,    0.00,2,    3.04,2,   0.178,6,   0.092,6,   0.004,6,  2349.2,2,  2359.7,2,-999.000,9,-999.0000,9, -999.00,9,   -0.35,2,  -186.4,2,     3.3,-999.000,9,-999.000,   40.30,2, 1201.40,-999.0000,9,-999.0000,9,-999.0000,9,-999.0000,9,-999.0000,9,-999.0000,-999.000,-999.0000,9, -999.00
318M20040615,        P02,      40,          2,         18,         18,2,20040630,       0826,    29.9953,    149.269,       6129,  1301.9,   3.1958,  34.3920,2,  34.3903,2,  37.4000,2,    37.1,2,  134.31,2,   43.09,2,    0.00,2,    3.06,2,   0.087,2,   0.046,2,   0.002,2,  2361.6,2,  2372.7,6,-999.000,9,-999.0000,9, -999.00,9,   -0.52,2,  -201.7,2,     3.9,-999.000,9,-999.000,   40.20,2, 1301.90,-999.0000,9,-999.0000,9,-999.0000,9,-999.0000,9,-999.0000,9,-999.0000,-999.000,-999.0000,9, -999.00
318M20040615,        P02,      40,          2,         17,         17,2,20040630,       0826,    29.9953,    149.269,       6129,  1400.9,   2.8787,  34.4399,2,  34.4390,2,  37.3000,2,    37.1,2,  143.87,2,   43.44,2,    0.00,2,    3.09,2,   0.050,2,   0.025,2,   0.001,2,  2370.6,6,  2383.3,2,-999.000,9,-999.0000,9, -999.00,9,   -0.42,2,  -215.1,2,     3.7,-999.000,9,-999.000,   39.80,2, 1400.90,-999.0000,9,-999.0000,9,-999.0000,9,-999.0000,9,-999.0000,9,-999.0000,-999.000,-999.0000,9, -999.00
318M20040615,        P02,      40,          2,         16,         16,2,20040630,       0826,    29.9953,    149.269,       6129,  1506.6,   2.7295,  34.4671,2,  34.4661,2,  39.1000,2,    39.3,2,  147.93,2,   43.38,2,    0.00,2,    3.08,2,   0.033,2,   0.015,2,   0.001,2,  2373.2,2,  2389.5,2,-999.000,9,-999.0000,9, -999.00,9, -999.00,9,  -999.0,9,  -999.0,-999.000,9,-999.000,   39.30,2, 1506.60,-999.0000,9,-999.0000,9,-999.0000,9,-999.0000,9,-999.0000,9,-999.0000,-999.000,-999.0000,9, -999.00
318M20040615,        P02,      40,          2,         15,         15,2,20040630,       0826,    29.9953,    149.269,       6129,  1605.9,   2.5287,  34.4997,2,  34.4984,2,  43.8000,2,    44.1,2,  153.08,2,   43.21,2,    0.00,2,    3.06,2,   0.021,2,   0.010,2,   0.002,2,  2377.2,2,  2395.5,2,-999.000,9,-999.0000,9, -999.00,9,   -0.33,2,  -216.1,2,     3.8,-999.000,9,-999.000,   38.90,2, 1605.90,-999.0000,9,-999.0000,9,-999.0000,9,-999.0000,9,-999.0000,9,-999.0000,-999.000,-999.0000,9, -999.00
318M20040615,        P02,      40,          2,         14,         14,2,20040630,       0826,    29.9953,    149.269,       6129,  1802.9,   2.2732,  34.5448,2,  34.5420,2,  50.7000,2,    54.1,2,  158.62,2,   42.75,2,    0.00,2,    3.02,2,   0.009,2,   0.006,2,   0.001,2,  2378.1,2,  2403.7,2,-999.000,9,-999.0000,9, -999.00,9,   -0.30,2,  -219.1,2,     4.4,-999.000,9,-999.000,   38.70,2, 1802.90,-999.0000,9,-999.0000,9,-999.0000,9,-999.0000,9,-999.0000,9,-999.0000,-999.000,-999.0000,9, -999.00
318M20040615,        P02,      40,          2,         13,         13,2,20040630,       0826,    29.9953,    149.269,       6129,  1999.6,   2.0744,  34.5807,2,  34.5792,2,  70.7000,2,    71.5,2,  159.34,2,   41.55,2,    0.00,2,    2.93,2,   0.006,2,   0.005,2,  -0.002,2,  2372.0,2,  2410.2,6,-999.000,9,-999.0000,9, -999.00,9,   -0.21,2,  -216.8,2,     3.8,-999.000,9,-999.000,   38.40,2, 1999.60,   0.0950,2,   0.2220,2,   0.0130,2,   0.1640,2,   0.0140,2,-999.0000,-999.000,   0.0700,2, -999.00
318M20040615,        P02,      40,          2,         12,         12,2,20040630,       0826,    29.9953,    149.269,       6129,  2245.6,   1.8925,  34.6081,2,  34.6068,2,  82.5000,2,    83.2,2,  161.96,2,   40.89,2,    0.00,2,    2.88,2,   0.001,2,   0.004,2,  -0.002,2,  2365.9,2,  2412.0,2,-999.000,9,-999.0000,9, -999.00,9,   -0.11,2,  -216.7,2,     5.7,-999.000,9,-999.000,   38.00,2, 2245.60,-999.0000,9,-999.0000,9,-999.0000,9,-999.0000,9,-999.0000,9,-999.0000,-999.000,-999.0000,9, -999.00
318M20040615,        P02,      40,          2,         11,         11,2,20040630,       0826,    29.9953,    149.269,       6129,  2496.6,   1.7526,  34.6318,2,  34.6314,2,  98.6000,2,   100.1,2,  160.10,2,   39.69,2,    0.00,2,    2.80,2,   0.000,2,  -0.001,2,   0.002,2,  2358.5,2,  2413.5,6,-999.000,9,-999.0000,9, -999.00,9,   -0.13,2,  -213.8,2,     3.5,-999.000,9,-999.000,   37.90,2, 2496.60,-999.0000,9,-999.0000,9,-999.0000,9,-999.0000,9,-999.0000,9,-999.0000,-999.000,-999.0000,9, -999.00
318M20040615,        P02,      40,          2,         10,         10,2,20040630,       0826,    29.9953,    149.269,       6129,  2749.3,   1.6596,  34.6479,2,  34.6457,2, 112.3000,2,   114.4,2,  157.84,2,   38.79,2,    0.00,2,    2.73,2,   0.002,2,   0.002,2,   0.002,2,  2349.7,2,  2415.7,2,-999.000,9,-999.0000,9, -999.00,9,    0.04,2,  -219.1,2,     4.4,-999.000,9,-999.000,   37.70,2, 2749.30,-999.0000,9,-999.0000,9,-999.0000,9,-999.0000,9,-999.0000,9,-999.0000,-999.000,-999.0000,9, -999.00
318M20040615,        P02,      40,          2,          9,          9,2,20040630,       0826,    29.9953,    149.269,       6129,  3009.9,   1.5867,  34.6599,2,  34.6575,2, 123.7000,2,   125.3,2,  156.01,2,   38.23,2,    0.00,2,    2.67,2,   0.001,2,   0.001,2,   0.001,2,  2342.9,2,  2415.8,2,-999.000,9,-999.0000,9, -999.00,9,   -0.01,2,  -224.0,2,     3.2,-999.000,9,-999.000,   38.10,2, 3009.90,   0.0850,2,   0.2060,2,   0.0130,2,   0.1510,2,   0.0140,2,-999.0000,-999.000,   0.0620,2, -999.00
318M20040615,        P02,      40,          2,          8,          8,2,20040630,       0826,    29.9953,    149.269,       6129,  3404.8,   1.5269,  34.6711,2,  34.6691,2, 136.1000,2,   136.1,2,  153.23,2,   37.66,2,    0.00,2,    2.61,2,   0.002,2,   0.003,2,   0.000,2,  2335.9,2,  2416.6,2,-999.000,9,-999.0000,9, -999.00,9,    0.19,2,  -211.8,2,     5.2,-999.000,9,-999.000,   37.60,2, 3404.80,-999.0000,9,-999.0000,9,-999.0000,9,-999.0000,9,-999.0000,9,-999.0000,-999.000,-999.0000,9, -999.00
318M20040615,        P02,      40,          2,          7,          7,2,20040630,       0826,    29.9953,    149.269,       6129,  3792.9,   1.4943,  34.6785,2,  34.6764,2, 144.8000,2,   145.2,2,  151.91,2,   37.10,2,    0.00,2,    2.57,2,   0.001,2,   0.002,2,  -0.002,2,  2329.6,2,  2416.3,2,-999.000,9,-999.0000,9, -999.00,9,    0.22,2,  -211.3,2,     4.7,-999.000,9,-999.000,   37.50,2, 3792.90,-999.0000,9,-999.0000,9,-999.0000,9,-999.0000,9,-999.0000,9,-999.0000,-999.000,-999.0000,9, -999.00
318M20040615,        P02,      40,          2,          6,          6,2,20040630,       0826,    29.9953,    149.269,       6129,  4188.7,   1.4821,  34.6840,2,  34.6827,2, 151.6000,2,   151.8,2,  149.88,2,   36.66,2,    0.00,2,    2.53,2,   0.001,2,   0.000,2,   0.000,2,  2324.6,2,  2415.0,2,-999.000,9,-999.0000,9, -999.00,9,    0.22,2,  -211.3,2,     4.0,-999.000,9,-999.000,   37.40,2, 4188.70,-999.0000,9,-999.0000,9,-999.0000,9,-999.0000,9,-999.0000,9,-999.0000,-999.000,-999.0000,9, -999.00
318M20040615,        P02,      40,          2,          5,          5,2,20040630,       0826,    29.9953,    149.269,       6129,  4586.7,   1.4885,  34.6877,2,  34.6858,2, 156.5000,2,   156.8,2,  147.83,2,   36.15,2,    0.00,2,    2.50,2,   0.001,2,   0.001,2,   0.001,2,  2320.6,2,  2412.8,2,-999.000,9,-999.0000,9, -999.00,9,    0.28,2,  -202.7,2,     3.9,-999.000,9,-999.000,   37.40,2, 4586.70,-999.0000,9,-999.0000,9,-999.0000,9,-999.0000,9,-999.0000,9,-999.0000,-999.000,-999.0000,9, -999.00
318M20040615,        P02,      40,          2,          4,          4,2,20040630,       0826,    29.9953,    149.269,       6129,  4997.1,   1.5112,  34.6903,2,  34.6880,2, 160.8000,2,   161.1,2,  144.71,2,   35.82,2,    0.00,2,    2.48,2,   0.003,2,   0.000,2,   0.002,2,  2316.4,2,  2410.6,2,-999.000,9,-999.0000,9, -999.00,9,    0.12,2,  -208.2,2,     4.3,-999.000,9,-999.000,   37.60,2, 4997.10,   0.0540,2,   0.1460,2,   0.0140,2,   0.1020,2,   0.0170,2,-999.0000,-999.000,   0.0380,2, -999.00
318M20040615,        P02,      40,          2,          3,          3,2,20040630,       0826,    29.9953,    149.269,       6129,  5402.0,   1.5415,  34.6922,2,  34.6897,2, 164.2000,2,   164.6,2,  142.13,2,   35.65,2,    0.00,2,    2.46,2,   0.003,2,   0.001,2,  -0.002,2,  2313.0,2,  2408.0,2,-999.000,9,-999.0000,9, -999.00,9,    0.25,2,  -197.8,2,     4.6,-999.000,9,-999.000,   37.60,2, 5402.00,-999.0000,9,-999.0000,9,-999.0000,9,-999.0000,9,-999.0000,9,-999.0000,-999.000,-999.0000,9, -999.00
318M20040615,        P02,      40,          2,          2,          2,2,20040630,       0826,    29.9953,    149.269,       6129,  5793.1,   1.5758,  34.6938,2,  34.6905,2, 167.2000,2,   167.4,2,  139.56,2,   35.32,2,    0.00,2,    2.44,2,   0.002,2,   0.002,2,  -0.002,2,  2309.8,2,  2406.6,2,-999.000,9,-999.0000,9, -999.00,9,    0.19,2,  -199.1,2,     5.4,-999.000,9,-999.000,   38.40,2, 5793.10,-999.0000,9,-999.0000,9,-999.0000,9,-999.0000,9,-999.0000,9,-999.0000,-999.000,-999.0000,9, -999.00
318M20040615,        P02,      40,          2,          1,          1,2,20040630,       0826,    29.9953,    149.269,       6129,  6123.8,   1.6125,  34.6947,2,  34.6933,2, 169.2000,2,   169.8,2,  137.90,2,   35.16,2,    0.00,2,    2.43,2,   0.003,2,   0.004,2,   0.001,2,  2308.8,6,  2405.0,6,-999.000,9,-999.0000,9, -999.00,9,    0.30,2,  -205.9,2,     3.5,-999.000,9,-999.000,   38.10,2, 6123.80,   0.0840,2,   0.1910,2,   0.0120,2,   0.1410,2,   0.0130,2,-999.0000,-999.000,   0.0610,2, -999.00