BOTTLE,20131027SIOCCHRJL
EXPOCODE,SECT_ID,STNNBR,CASTNO,SAMPNO,BTLNBR,BTLNBR_FLAG_W,DATE,TIME,LATITUDE,LONGITUDE,DEPTH,CTDPRS,CTDTMP,CTDSAL,CTDSAL_FLAG_W,SALNTY,SALNTY_FLAG_W,CTDOXY,CTDOXY_FLAG_W,OXYGEN,OXYGEN_FLAG_W,SILCAT,SILCAT_FLAG_W,NITRAT,NITRAT_FLAG_W,NITRIT,NITRIT_FLAG_W,PHSPHT,PHSPHT_FLAG_W,CFC-11,CFC-11_FLAG_W,CFC-12,CFC-12_FLAG_W,CFC113,CFC113_FLAG_W,TCARBN,TCARBN_FLAG_W,ALKALI,ALKALI_FLAG_W,TRITUM,TRITUM_FLAG_W,HELIUM,HELIUM_FLAG_W,DELHE3,DELHE3_FLAG_W,DELC13,DELC13_FLAG_W,DELC14,DELC14_FLAG_W,C14ERR,NEON,NEON_FLAG_W,NEONER,DOC,DOC_FLAG_W,CTDRAW,CDOM380,CDOM380_FLAG_W,CDOM325,CDOM325_FLAG_W,CDOMSL,CDOMSL_FLAG_W,CDOM340,CDOM340_FLAG_W,CDOMSN,CDOMSN_FLAG_W,HELIER,TRITER,CDOM412,CDOM412_FLAG_W,DELHER
,,,,,,,,,,,METERS,DBAR,ITS-90,PSS-78,,PSS-78,,UMOL/KG,,UMOL/KG,,UMOL/KG,,UMOL/KG,,UMOL/KG,,UMOL/KG,,PMOL/KG,,PMOL/KG,,PMOL/KG,,UMOL/KG,,UMOL/KG,,TU,,NMOL/KG,,PERCNT,,/MILLE,,/MILLE,,/MILLE,NMOL/KG,,NMOL/KG,UMOL/KG,,DBAR,1/M,,1/M,,1/NM,,1/M,,1/NM,,NMOL/KG,TU,1/M,,PERCNT
318M20040615,        P02,      32,          2,         36,         36,2,20040627,       1306,    30.0062,   144.3233,       5677,     8.3,  28.3363,  34.9820,2,  34.9827,2, 201.0000,2,   199.9,2,    1.58,2,    0.13,2,    0.00,2,    0.03,2,   1.661,2,   1.040,2,   0.117,2,  1972.3,6,  2295.3,6,-999.000,9,-999.0000,9, -999.00,9, -999.00,9,  -999.0,9,  -999.0,-999.000,9,-999.000,   68.90,2,    8.30,   0.0000,4,   0.0320,2,   0.0480,2,   0.0150,3,   0.0230,2,-999.0000,-999.000,  -0.0020,4, -999.00
318M20040615,        P02,      32,          2,         35,         35,2,20040627,       1306,    30.0062,   144.3233,       5677,    37.2,  21.9751,  34.9060,2,  34.9010,2, 236.2000,2,   236.5,2,    1.76,2,    0.07,2,    0.00,2,    0.03,2,   2.242,2,   1.369,2,   0.142,2,  1980.6,2,  2291.1,2,-999.000,9,-999.0000,9, -999.00,9, -999.00,9,  -999.0,9,  -999.0,-999.000,9,-999.000,   64.90,2,   37.20,-999.0000,9,-999.0000,9,-999.0000,9,-999.0000,9,-999.0000,9,-999.0000,-999.000,-999.0000,9, -999.00
318M20040615,        P02,      32,          2,         34,         34,2,20040627,       1306,    30.0062,   144.3233,       5677,    72.2,  19.1502,  34.8674,2,  34.8704,2, 213.1000,2,   221.1,2,    2.29,2,    0.19,2,    0.04,2,    0.08,2,   2.360,2,   1.417,2,   0.108,2,  2004.2,2,  2292.2,2,-999.000,9,-999.0000,9, -999.00,9, -999.00,9,  -999.0,9,  -999.0,-999.000,9,-999.000,   62.40,2,   72.20,-999.0000,9,-999.0000,9,-999.0000,9,-999.0000,9,-999.0000,9,-999.0000,-999.000,-999.0000,9, -999.00
318M20040615,        P02,      32,          2,         33,         33,2,20040627,       1306,    30.0062,   144.3233,       5677,   122.0,  18.0780,  34.8128,2,  34.8125,2, 202.2000,2,   208.0,2,    3.19,2,    3.19,2,    0.02,2,    0.25,2,   2.431,2,   1.457,2,   0.079,2,  2020.5,2,  2284.3,2,-999.000,9,-999.0000,9, -999.00,9, -999.00,9,  -999.0,9,  -999.0,-999.000,9,-999.000,   58.60,2,  122.00,   0.0410,2,   0.1090,2,   0.0160,2,   0.0800,2,   0.0170,2,-999.0000,-999.000,   0.0290,2, -999.00
318M20040615,        P02,      32,          2,         32,         32,2,20040627,       1306,    30.0062,   144.3233,       5677,   171.9,  17.3965,  34.7950,2,  34.7917,2, 211.0000,2,   216.8,2,    3.54,2,    3.40,2,    0.01,2,    0.26,2,   2.475,2,   1.488,2,   0.106,2,  2020.2,2,  2284.4,2,-999.000,9,-999.0000,9, -999.00,9, -999.00,9,  -999.0,9,  -999.0,-999.000,9,-999.000,   56.70,2,  171.90,   0.0290,2,   0.0860,2,   0.0200,2,   0.0610,2,   0.0210,2,-999.0000,-999.000,   0.0200,2, -999.00
318M20040615,        P02,      32,          2,         31,         31,2,20040627,       1306,    30.0062,   144.3233,       5677,   221.9,  17.0745,  34.7875,2,  34.7870,2, 219.8000,2,   219.2,2,    3.89,2,    3.77,2,    0.01,2,    0.27,2,   2.490,2,   1.465,2,   0.107,2,  2021.1,2,  2283.8,2,-999.000,9,-999.0000,9, -999.00,9, -999.00,9,  -999.0,9,  -999.0,-999.000,9,-999.000,   54.30,2,  221.90,   0.0270,2,   0.0860,2,   0.0210,2,   0.0620,2,   0.0220,2,-999.0000,-999.000,   0.0170,2, -999.00
318M20040615,        P02,      32,          2,         30,         30,2,20040627,       1306,    30.0062,   144.3233,       5677,   276.9,  16.6958,  34.7439,2,  34.7432,2, 209.3000,2,   212.1,2,    4.96,2,    5.14,2,    0.01,2,    0.37,2,   2.509,2,   1.479,2,   0.063,2,  2031.9,2,  2284.6,2,-999.000,9,-999.0000,9, -999.00,9, -999.00,9,  -999.0,9,  -999.0,-999.000,9,-999.000,   52.10,2,  276.90,   0.0180,2,   0.0670,2,   0.0260,2,   0.0450,2,   0.0260,2,-999.0000,-999.000,   0.0110,2, -999.00
318M20040615,        P02,      32,          2,         29,         29,2,20040627,       1306,    30.0062,   144.3233,       5677,   327.1,  15.9722,  34.6681,2,  34.6677,2, 201.0000,2,   199.0,2,    7.10,2,    7.23,2,    0.00,2,    0.51,2,   2.563,2,   1.470,2,   0.028,2,  2047.8,2,  2279.6,2,-999.000,9,-999.0000,9, -999.00,9, -999.00,9,  -999.0,9,  -999.0,-999.000,9,-999.000,   51.20,2,  327.10,   0.0290,2,   0.0900,2,   0.0210,2,   0.0630,2,   0.0220,2,-999.0000,-999.000,   0.0200,2, -999.00
318M20040615,        P02,      32,          2,         28,         28,2,20040627,       1306,    30.0062,   144.3233,       5677,   377.2,  14.9317,  34.5915,2,  34.5907,2, 191.4000,2,   190.8,2,   10.49,2,    9.65,2,    0.00,2,    0.67,2,   2.598,2,   1.458,2,   0.026,2,  2065.8,2,  2277.3,2,-999.000,9,-999.0000,9, -999.00,9, -999.00,9,  -999.0,9,  -999.0,-999.000,9,-999.000,   50.20,2,  377.20,   0.0230,2,   0.0820,2,   0.0240,2,   0.0550,2,   0.0250,2,-999.0000,-999.000,   0.0150,2, -999.00
318M20040615,        P02,      32,          2,         27,         27,2,20040627,       1306,    30.0062,   144.3233,       5677,   427.5,  13.8411,  34.5128,2,  34.5109,2, 187.4000,2,   187.0,2,   13.87,2,   11.74,2,    0.00,2,    0.83,2,   2.601,2,   1.441,2,   0.034,2,  2080.9,2,  2275.9,2,-999.000,9,-999.0000,9, -999.00,9, -999.00,9,  -999.0,9,  -999.0,-999.000,9,-999.000,   49.60,2,  427.50,   0.0410,2,   0.1170,2,   0.0190,2,   0.0900,2,   0.0180,2,-999.0000,-999.000,   0.0240,2, -999.00
318M20040615,        P02,      32,          2,         26,         26,2,20040627,       1306,    30.0062,   144.3233,       5677,   477.3,  12.4924,  34.4146,2,  34.4146,2, 183.3000,2,   184.1,2,   17.98,2,   14.10,2,    0.00,2,    1.01,2,   2.634,2,   1.419,2,   0.043,2,  2097.0,2,  2274.2,2,-999.000,9,-999.0000,9, -999.00,9, -999.00,9,  -999.0,9,  -999.0,-999.000,9,-999.000,   48.90,2,  477.30,   0.0320,2,   0.1000,2,   0.0210,2,   0.0690,2,   0.0220,2,-999.0000,-999.000,   0.0200,2, -999.00
318M20040615,        P02,      32,          2,         25,         25,2,20040627,       1306,    30.0062,   144.3233,       5677,   547.4,  10.7691,  34.2940,2,  34.2960,2, 176.3000,2,   177.8,2,   25.82,2,   17.60,2,    0.00,2,    1.26,2,   2.570,2,   1.376,2,   0.062,2,  2124.3,2,  2274.3,2,-999.000,9,-999.0000,9, -999.00,9, -999.00,9,  -999.0,9,  -999.0,-999.000,9,-999.000,   48.10,2,  547.40,   0.0420,2,   0.1240,2,   0.0180,2,   0.0870,2,   0.0190,2,-999.0000,-999.000,   0.0290,2, -999.00
318M20040615,        P02,      32,          2,         24,         24,2,20040627,       1306,    30.0062,   144.3233,       5677,   648.0,   8.0553,  34.1183,2,  34.2943,2, 163.6000,3,   156.7,2,   41.48,2,   23.99,2,    0.00,2,    1.75,2,   2.300,2,   1.199,2,   0.072,2,  2172.9,2,  2278.8,2,-999.000,9,-999.0000,9, -999.00,9, -999.00,9,  -999.0,9,  -999.0,-999.000,9,-999.000,   46.80,2,  648.00,   0.0660,2,   0.1700,2,   0.0140,2,   0.1230,2,   0.0160,2,-999.0000,-999.000,   0.0470,2, -999.00
318M20040615,        P02,      32,          2,         23,         23,2,20040627,       1306,    30.0062,   144.3233,       5677,   748.4,   6.0835,  34.0724,2,  34.0716,2, 122.0000,2,   117.0,2,   65.14,2,   31.23,2,    0.00,2,    2.29,2,   1.707,2,   0.850,2,   0.065,2,  2233.1,2,  2295.5,2,-999.000,9,-999.0000,9, -999.00,9, -999.00,9,  -999.0,9,  -999.0,-999.000,9,-999.000,   45.40,2,  748.40,   0.0680,2,   0.1760,2,   0.0140,2,   0.1270,2,   0.0160,2,-999.0000,-999.000,   0.0490,2, -999.00
318M20040615,        P02,      32,          2,         22,         22,2,20040627,       1306,    30.0062,   144.3233,       5677,   848.7,   4.8757,  34.1238,2,  34.1231,2,  88.5000,2,    79.2,2,   86.72,2,   36.57,2,    0.00,2,    2.67,2,   1.063,2,   0.516,2,   0.035,2,  2282.8,2,  2316.1,2,-999.000,9,-999.0000,9, -999.00,9, -999.00,9,  -999.0,9,  -999.0,-999.000,9,-999.000,   43.70,2,  848.70,   0.0710,2,   0.1840,2,   0.0140,2,   0.1320,2,   0.0160,2,-999.0000,-999.000,   0.0510,2, -999.00
318M20040615,        P02,      32,          2,         21,         21,2,20040627,       1306,    30.0062,   144.3233,       5677,   949.5,   4.2639,  34.2120,2,  34.2143,2,  58.8000,2,    55.5,2,  103.71,2,   39.54,2,    0.00,2,    2.87,2,   0.546,2,   0.272,2,   0.012,2,  2315.0,2,  2334.7,2,-999.000,9,-999.0000,9, -999.00,9, -999.00,9,  -999.0,9,  -999.0,-999.000,9,-999.000,   42.00,2,  949.50,   0.0820,2,   0.2000,2,   0.0130,2,   0.1460,2,   0.0140,2,-999.0000,-999.000,   0.0610,2, -999.00
318M20040615,        P02,      32,          2,         20,         20,2,20040627,       1306,    30.0062,   144.3233,       5677,  1056.9,   3.7990,  34.2896,2,  34.2906,2,  44.5000,2,    43.3,2,  116.44,2,   41.05,2,    0.00,2,    2.97,2,   0.282,2,   0.139,2,   0.004,2,  2334.5,2,  2351.4,2,-999.000,9,-999.0000,9, -999.00,9, -999.00,9,  -999.0,9,  -999.0,-999.000,9,-999.000,   40.70,2, 1056.90,-999.0000,9,-999.0000,9,-999.0000,9,-999.0000,9,-999.0000,9,-999.0000,-999.000,-999.0000,9, -999.00
318M20040615,        P02,      32,          2,         19,         19,2,20040627,       1306,    30.0062,   144.3233,       5677,  1151.5,   3.4130,  34.3556,2,  34.3549,2,  40.2000,2,    38.9,2,  127.60,2,   41.95,2,    0.00,2,    3.02,2,   0.144,2,   0.072,2,   0.004,2,  2350.9,6,  2364.7,2,-999.000,9,-999.0000,9, -999.00,9, -999.00,9,  -999.0,9,  -999.0,-999.000,9,-999.000,   39.60,2, 1151.50,-999.0000,9,-999.0000,9,-999.0000,9,-999.0000,9,-999.0000,9,-999.0000,-999.000,-999.0000,9, -999.00
318M20040615,        P02,      32,          2,         18,         18,2,20040627,       1306,    30.0062,   144.3233,       5677,  1251.5,   3.1699,  34.4073,2,  34.4073,2,  38.5000,2,    39.5,2,  133.75,2,   42.41,2,    0.00,2,    3.03,2,   0.073,2,   0.035,2,   0.002,2,  2355.4,2,  2374.6,6,-999.000,9,-999.0000,9, -999.00,9, -999.00,9,  -999.0,9,  -999.0,-999.000,9,-999.000,   39.30,2, 1251.50,-999.0000,9,-999.0000,9,-999.0000,9,-999.0000,9,-999.0000,9,-999.0000,-999.000,-999.0000,9, -999.00
318M20040615,        P02,      32,          2,         17,         17,2,20040627,       1306,    30.0062,   144.3233,       5677,  1350.6,   2.9492,  34.4435,2,  34.4425,2,  40.8000,2,    41.2,2,  139.36,2,   42.64,2,    0.00,2,    3.03,2,   0.045,2,   0.021,2,   0.002,2,  2361.2,2,  2381.2,2,-999.000,9,-999.0000,9, -999.00,9, -999.00,9,  -999.0,9,  -999.0,-999.000,9,-999.000,   38.90,2, 1350.60,-999.0000,9,-999.0000,9,-999.0000,9,-999.0000,9,-999.0000,9,-999.0000,-999.000,-999.0000,9, -999.00
318M20040615,        P02,      32,          2,         16,         16,2,20040627,       1306,    30.0062,   144.3233,       5677,  1451.8,   2.7741,  34.4739,2,  34.4743,2,  45.6000,2,    45.3,2,  143.71,2,   42.53,2,    0.00,2,    3.03,2,   0.028,2,   0.014,2,   0.004,2,  2366.8,2,  2387.0,2,-999.000,9,-999.0000,9, -999.00,9, -999.00,9,  -999.0,9,  -999.0,-999.000,9,-999.000,   38.50,2, 1451.80,-999.0000,9,-999.0000,9,-999.0000,9,-999.0000,9,-999.0000,9,-999.0000,-999.000,-999.0000,9, -999.00
318M20040615,        P02,      32,          2,         15,         15,2,20040627,       1306,    30.0062,   144.3233,       5677,  1552.6,   2.5755,  34.5050,2,  34.5100,2,  51.9000,3,    52.1,2,  147.72,2,   42.13,2,    0.00,2,    3.00,2,   0.018,6,   0.010,6,   0.002,6,  2367.2,2,  2393.9,2,-999.000,9,-999.0000,9, -999.00,9, -999.00,9,  -999.0,9,  -999.0,-999.000,9,-999.000,   38.10,2, 1552.60,-999.0000,9,-999.0000,9,-999.0000,9,-999.0000,9,-999.0000,9,-999.0000,-999.000,-999.0000,9, -999.00
318M20040615,        P02,      32,          2,         14,         14,2,20040627,       1306,    30.0062,   144.3233,       5677,  1754.5,   2.2831,  34.5518,2,  34.5520,2,  65.8000,2,    67.1,2,  152.08,2,   41.28,2,    0.00,2,    2.92,2,   0.009,2,   0.005,2,   0.000,2,  2363.8,2,  2401.7,2,-999.000,9,-999.0000,9, -999.00,9, -999.00,9,  -999.0,9,  -999.0,-999.000,9,-999.000,   38.40,2, 1754.50,-999.0000,9,-999.0000,9,-999.0000,9,-999.0000,9,-999.0000,9,-999.0000,-999.000,-999.0000,9, -999.00
318M20040615,        P02,      32,          2,         13,         13,2,20040627,       1306,    30.0062,   144.3233,       5677,  1959.2,   2.0652,  34.5840,2,  34.5856,2,  76.1000,2,    77.2,2,  155.91,2,   40.72,2,    0.00,2,    2.88,2,   0.004,2,   0.003,2,   0.001,2,  2364.9,2,  2411.0,2,-999.000,9,-999.0000,9, -999.00,9, -999.00,9,  -999.0,9,  -999.0,-999.000,9,-999.000,   37.90,2, 1959.20,   0.0980,2,   0.2220,2,   0.0120,2,   0.1650,2,   0.0130,2,-999.0000,-999.000,   0.0730,2, -999.00
318M20040615,        P02,      32,          2,         12,         12,2,20040627,       1306,    30.0062,   144.3233,       5677,  2124.9,   1.9266,  34.6060,2,  34.6065,2,  88.8000,2,    89.7,2,  155.72,2,   39.93,2,    0.00,2,    2.81,2,   0.001,2,   0.001,2,   0.001,2,  2360.1,2,  2409.9,2,-999.000,9,-999.0000,9, -999.00,9, -999.00,9,  -999.0,9,  -999.0,-999.000,9,-999.000,   38.30,2, 2124.90,-999.0000,9,-999.0000,9,-999.0000,9,-999.0000,9,-999.0000,9,-999.0000,-999.000,-999.0000,9, -999.00
318M20040615,        P02,      32,          2,         11,         11,2,20040627,       1306,    30.0062,   144.3233,       5677,  2382.0,   1.7728,  34.6307,2,  34.6294,2, 105.1000,2,   106.7,2,  154.28,2,   38.75,2,    0.00,2,    2.75,2,   0.006,2,   0.007,2,   0.000,2,  2350.8,2,  2412.9,2,-999.000,9,-999.0000,9, -999.00,9, -999.00,9,  -999.0,9,  -999.0,-999.000,9,-999.000,   37.60,2, 2382.00,-999.0000,9,-999.0000,9,-999.0000,9,-999.0000,9,-999.0000,9,-999.0000,-999.000,-999.0000,9, -999.00
318M20040615,        P02,      32,          2,         10,         10,2,20040627,       1306,    30.0062,   144.3233,       5677,  2633.3,   1.6795,  34.6456,2,  34.6458,2, 116.5000,2,   116.6,2,  153.72,2,   38.13,2,    0.00,2,    2.70,2,   0.001,2,   0.002,2,   0.000,2,  2345.3,2,  2414.4,2,-999.000,9,-999.0000,9, -999.00,9, -999.00,9,  -999.0,9,  -999.0,-999.000,9,-999.000,   37.50,2, 2633.30,-999.0000,9,-999.0000,9,-999.0000,9,-999.0000,9,-999.0000,9,-999.0000,-999.000,-999.0000,9, -999.00
318M20040615,        P02,      32,          2,          9,          9,2,20040627,       1306,    30.0062,   144.3233,       5677,  2897.3,   1.6179,  34.6560,2,  34.6558,2, 125.6000,2,   124.7,2,  153.00,2,   37.64,2,    0.00,2,    2.67,2,   0.002,2,   0.002,2,   0.003,2,  2341.1,2,  2415.9,2,-999.000,9,-999.0000,9, -999.00,9, -999.00,9,  -999.0,9,  -999.0,-999.000,9,-999.000,   37.80,2, 2897.30,   0.1190,2,   0.2540,2,   0.0110,2,   0.1920,2,   0.0120,2,-999.0000,-999.000,   0.0900,2, -999.00
318M20040615,        P02,      32,          2,          8,          8,2,20040627,       1306,    30.0062,   144.3233,       5677,  3177.7,   1.5513,  34.6666,2,  34.6674,2, 133.3000,2,   134.4,2,  151.22,2,   36.98,2,    0.00,2,    2.60,2,   0.001,2,   0.001,2,   0.000,2,  2336.0,2,  2415.9,2,-999.000,9,-999.0000,9, -999.00,9, -999.00,9,  -999.0,9,  -999.0,-999.000,9,-999.000,   37.50,2, 3177.70,-999.0000,9,-999.0000,9,-999.0000,9,-999.0000,9,-999.0000,9,-999.0000,-999.000,-999.0000,9, -999.00
318M20040615,        P02,      32,          2,          7,          7,2,20040627,       1306,    30.0062,   144.3233,       5677,  3555.4,   1.5064,  34.6751,2,  34.6754,2, 142.3000,2,   142.5,2,  149.40,2,   36.48,2,    0.00,2,    2.56,2,   0.001,2,   0.001,2,   0.001,2,  2330.3,2,  2414.9,2,-999.000,9,-999.0000,9, -999.00,9, -999.00,9,  -999.0,9,  -999.0,-999.000,9,-999.000,   37.70,2, 3555.40,-999.0000,9,-999.0000,9,-999.0000,9,-999.0000,9,-999.0000,9,-999.0000,-999.000,-999.0000,9, -999.00
318M20040615,        P02,      32,          2,          6,          6,2,20040627,       1306,    30.0062,   144.3233,       5677,  3942.6,   1.4762,  34.6818,2,  34.6817,2, 149.3000,2,   149.7,2,  147.96,2,   35.94,2,    0.00,2,    2.53,2,   0.002,2,   0.001,2,   0.003,2,  2325.6,2,  2414.8,2,-999.000,9,-999.0000,9, -999.00,9, -999.00,9,  -999.0,9,  -999.0,-999.000,9,-999.000,   37.50,2, 3942.60,   0.0970,2,   0.2150,2,   0.0120,2,   0.1600,2,   0.0130,2,-999.0000,-999.000,   0.0710,2, -999.00
318M20040615,        P02,      32,          2,          5,          5,2,20040627,       1306,    30.0062,   144.3233,       5677,  4354.8,   1.4755,  34.6862,2,  34.6855,2, 155.1000,2,   155.2,2,  146.31,2,   35.60,2,    0.00,2,    2.49,2,   0.002,2,   0.001,2,   0.001,2,  2321.0,2,  2413.7,2,-999.000,9,-999.0000,9, -999.00,9, -999.00,9,  -999.0,9,  -999.0,-999.000,9,-999.000,   38.40,2, 4354.80,-999.0000,9,-999.0000,9,-999.0000,9,-999.0000,9,-999.0000,9,-999.0000,-999.000,-999.0000,9, -999.00
318M20040615,        P02,      32,          2,          4,          4,2,20040627,       1306,    30.0062,   144.3233,       5677,  4789.0,   1.4866,  34.6899,2,  34.6898,2, 160.1000,2,   160.7,2,  144.66,2,   35.49,2,    0.00,2,    2.46,2,   0.004,2,   0.002,2,   0.000,2,  2316.3,2,  2411.8,2,-999.000,9,-999.0000,9, -999.00,9, -999.00,9,  -999.0,9,  -999.0,-999.000,9,-999.000,   37.80,2, 4789.00,-999.0000,9,-999.0000,9,-999.0000,9,-999.0000,9,-999.0000,9,-999.0000,-999.000,-999.0000,9, -999.00
318M20040615,        P02,      32,          2,          3,          3,2,20040627,       1306,    30.0062,   144.3233,       5677,  5192.3,   1.5188,  34.6916,2,  34.6918,2, 163.1000,2,   163.9,2,  142.31,2,   35.22,2,    0.00,2,    2.45,2,   0.002,2,   0.002,2,   0.003,2,  2313.6,2,  2409.5,2,-999.000,9,-999.0000,9, -999.00,9, -999.00,9,  -999.0,9,  -999.0,-999.000,9,-999.000,   38.40,2, 5192.30,   0.1130,2,   0.2420,2,   0.0110,2,   0.1830,2,   0.0120,2,-999.0000,-999.000,   0.0840,2, -999.00
318M20040615,        P02,      32,          2,          2,          2,2,20040627,       1306,    30.0062,   144.3233,       5677,  5602.0,   1.5573,  34.6931,2,  34.6931,2, 166.4000,2,   166.7,2,  140.32,2,   35.15,2,    0.00,2,    2.43,2,   0.003,2,   0.002,2,   0.000,2,  2309.1,2,  2412.9,6,-999.000,9,-999.0000,9, -999.00,9, -999.00,9,  -999.0,9,  -999.0,-999.000,9,-999.000,   37.90,2, 5602.00,-999.0000,9,-999.0000,9,-999.0000,9,-999.0000,9,-999.0000,9,-999.0000,-999.000,-999.0000,9, -999.00
318M20040615,        P02,      32,          2,          1,          1,2,20040627,       1306,    30.0062,   144.3233,       5677,  5815.0,   1.5818,  34.6934,2,  34.6947,2, 167.3000,3,   167.9,2,  138.87,2,   34.99,2,    0.00,2,    2.43,2,   0.003,2,   0.004,2,   0.000,2,  2308.7,6,  2407.5,6,-999.000,9,-999.0000,9, -999.00,9, -999.00,9,  -999.0,9,  -999.0,-999.000,9,-999.000,   38.20,2, 5815.00,-999.0000,9,-999.0000,9,-999.0000,9,-999.0000,9,-999.0000,9,-999.0000,-999.000,-999.0000,9, -999.00