BOTTLE,20131027SIOCCHRJL
EXPOCODE,SECT_ID,STNNBR,CASTNO,SAMPNO,BTLNBR,BTLNBR_FLAG_W,DATE,TIME,LATITUDE,LONGITUDE,DEPTH,CTDPRS,CTDTMP,CTDSAL,CTDSAL_FLAG_W,SALNTY,SALNTY_FLAG_W,CTDOXY,CTDOXY_FLAG_W,OXYGEN,OXYGEN_FLAG_W,SILCAT,SILCAT_FLAG_W,NITRAT,NITRAT_FLAG_W,NITRIT,NITRIT_FLAG_W,PHSPHT,PHSPHT_FLAG_W,CFC-11,CFC-11_FLAG_W,CFC-12,CFC-12_FLAG_W,CFC113,CFC113_FLAG_W,TCARBN,TCARBN_FLAG_W,ALKALI,ALKALI_FLAG_W,TRITUM,TRITUM_FLAG_W,HELIUM,HELIUM_FLAG_W,DELHE3,DELHE3_FLAG_W,DELC13,DELC13_FLAG_W,DELC14,DELC14_FLAG_W,C14ERR,NEON,NEON_FLAG_W,NEONER,DOC,DOC_FLAG_W,CTDRAW,CDOM380,CDOM380_FLAG_W,CDOM325,CDOM325_FLAG_W,CDOMSL,CDOMSL_FLAG_W,CDOM340,CDOM340_FLAG_W,CDOMSN,CDOMSN_FLAG_W,HELIER,TRITER,CDOM412,CDOM412_FLAG_W,DELHER
,,,,,,,,,,,METERS,DBAR,ITS-90,PSS-78,,PSS-78,,UMOL/KG,,UMOL/KG,,UMOL/KG,,UMOL/KG,,UMOL/KG,,UMOL/KG,,PMOL/KG,,PMOL/KG,,PMOL/KG,,UMOL/KG,,UMOL/KG,,TU,,NMOL/KG,,PERCNT,,/MILLE,,/MILLE,,/MILLE,NMOL/KG,,NMOL/KG,UMOL/KG,,DBAR,1/M,,1/M,,1/NM,,1/M,,1/NM,,NMOL/KG,TU,1/M,,PERCNT
318M20040615,        P02,      27,          1,         36,         36,2,20040625,       1049,    30.0023,   141.6803,       4282,    10.5,  25.9976,  34.7329,2,  34.7487,2, 209.1000,2,   208.7,2,    1.51,2,    0.26,2,    0.00,2,    0.07,2,   1.857,2,   1.112,2,   0.135,2,  1966.7,6,  2282.1,6,-999.000,9,-999.0000,9, -999.00,9, -999.00,9,  -999.0,9,  -999.0,-999.000,9,-999.000, -999.00,9,   10.50,-999.0000,9,-999.0000,9,-999.0000,9,-999.0000,9,-999.0000,9,-999.0000,-999.000,-999.0000,9, -999.00
318M20040615,        P02,      27,          1,         35,         35,2,20040625,       1049,    30.0023,   141.6803,       4282,    39.9,  21.8287,  34.8148,2,  34.8044,2, 234.0000,2,   230.5,2,    1.69,2,    0.26,2,    0.00,2,    0.06,2,   2.176,2,   1.306,2,   0.151,2,  1978.0,2,  2290.3,2,-999.000,9,-999.0000,9, -999.00,9, -999.00,9,  -999.0,9,  -999.0,-999.000,9,-999.000, -999.00,9,   39.90,-999.0000,9,-999.0000,9,-999.0000,9,-999.0000,9,-999.0000,9,-999.0000,-999.000,-999.0000,9, -999.00
318M20040615,        P02,      27,          1,         34,         34,2,20040625,       1049,    30.0023,   141.6803,       4282,    85.0,  19.4240,  34.8513,2,  34.8495,2, 235.5000,2,   219.7,2,    2.38,2,    1.12,2,    0.09,2,    0.16,2,   2.315,2,   1.369,2,   0.131,2,  2000.4,2,  2288.8,2,-999.000,9,-999.0000,9, -999.00,9, -999.00,9,  -999.0,9,  -999.0,-999.000,9,-999.000, -999.00,9,   85.00,-999.0000,9,-999.0000,9,-999.0000,9,-999.0000,9,-999.0000,9,-999.0000,-999.000,-999.0000,9, -999.00
318M20040615,        P02,      27,          1,         33,         33,2,20040625,       1049,    30.0023,   141.6803,       4282,   135.2,  18.0232,  34.8144,2,  34.8112,2, 212.0000,2,   213.2,2,    3.43,2,    3.01,2,    0.12,2,    0.26,2,   2.430,2,   1.434,2,   0.104,2,  2017.9,2,  2285.2,2,-999.000,9,-999.0000,9, -999.00,9, -999.00,9,  -999.0,9,  -999.0,-999.000,9,-999.000, -999.00,9,  135.20,-999.0000,9,-999.0000,9,-999.0000,9,-999.0000,9,-999.0000,9,-999.0000,-999.000,-999.0000,9, -999.00
318M20040615,        P02,      27,          1,         32,         32,2,20040625,       1049,    30.0023,   141.6803,       4282,   185.0,  17.2912,  34.7934,2,  34.7932,2, 212.8000,2,   220.1,2,    3.60,2,    3.56,2,    0.02,2,    0.29,2,-999.000,9,-999.000,9,-999.000,9,  -999.0,9,  -999.0,9,-999.000,9,-999.0000,9, -999.00,9, -999.00,9,  -999.0,9,  -999.0,-999.000,9,-999.000, -999.00,9,  185.00,-999.0000,9,-999.0000,9,-999.0000,9,-999.0000,9,-999.0000,9,-999.0000,-999.000,-999.0000,9, -999.00
318M20040615,        P02,      27,          1,         31,         31,2,20040625,       1049,    30.0023,   141.6803,       4282,   235.2,  17.1101,  34.8032,2,  34.8023,2, 218.1000,2,   223.3,2,    3.60,2,    3.41,2,    0.01,2,    0.28,2,   2.504,2,   1.484,2,   0.131,2,  2019.2,2,  2284.4,2,-999.000,9,-999.0000,9, -999.00,9, -999.00,9,  -999.0,9,  -999.0,-999.000,9,-999.000, -999.00,9,  235.20,-999.0000,9,-999.0000,9,-999.0000,9,-999.0000,9,-999.0000,9,-999.0000,-999.000,-999.0000,9, -999.00
318M20040615,        P02,      27,          1,         30,         30,2,20040625,       1049,    30.0023,   141.6803,       4282,   284.9,  16.6480,  34.7459,2,  34.7447,2, 211.5000,2,   212.4,2,    5.00,2,    5.15,2,    0.01,2,    0.41,2,-999.000,9,-999.000,9,-999.000,9,  -999.0,9,  -999.0,9,-999.000,9,-999.0000,9, -999.00,9, -999.00,9,  -999.0,9,  -999.0,-999.000,9,-999.000, -999.00,9,  284.90,-999.0000,9,-999.0000,9,-999.0000,9,-999.0000,9,-999.0000,9,-999.0000,-999.000,-999.0000,9, -999.00
318M20040615,        P02,      27,          1,         29,         29,2,20040625,       1049,    30.0023,   141.6803,       4282,   335.3,  15.9192,  34.6734,2,  34.6709,2, 197.3000,2,   196.8,2,    7.63,2,    7.66,2,    0.01,2,    0.59,2,   2.534,2,   1.457,2,   0.041,2,  -999.0,9,  -999.0,9,-999.000,9,-999.0000,9, -999.00,9, -999.00,9,  -999.0,9,  -999.0,-999.000,9,-999.000, -999.00,9,  335.30,-999.0000,9,-999.0000,9,-999.0000,9,-999.0000,9,-999.0000,9,-999.0000,-999.000,-999.0000,9, -999.00
318M20040615,        P02,      27,          1,         28,         28,2,20040625,       1049,    30.0023,   141.6803,       4282,   385.3,  14.6810,  34.5786,2,  34.5786,2, 186.3000,2,   186.4,2,   11.49,2,   10.45,2,    0.00,2,    0.77,2,-999.000,9,-999.000,9,-999.000,9,  -999.0,9,  -999.0,9,-999.000,9,-999.0000,9, -999.00,9, -999.00,9,  -999.0,9,  -999.0,-999.000,9,-999.000, -999.00,9,  385.30,-999.0000,9,-999.0000,9,-999.0000,9,-999.0000,9,-999.0000,9,-999.0000,-999.000,-999.0000,9, -999.00
318M20040615,        P02,      27,          1,         27,         27,2,20040625,       1049,    30.0023,   141.6803,       4282,   435.8,  13.2585,  34.4798,2,  34.4797,2, 182.5000,2,   182.8,2,   16.24,2,   13.11,2,    0.00,2,    0.97,2,   2.566,2,   1.421,2,   0.043,2,  2092.0,2,  2276.9,2,-999.000,9,-999.0000,9, -999.00,9, -999.00,9,  -999.0,9,  -999.0,-999.000,9,-999.000, -999.00,9,  435.80,-999.0000,9,-999.0000,9,-999.0000,9,-999.0000,9,-999.0000,9,-999.0000,-999.000,-999.0000,9, -999.00
318M20040615,        P02,      27,          1,         26,         26,2,20040625,       1049,    30.0023,   141.6803,       4282,   485.5,  12.1345,  34.4022,2,  34.4000,2, 178.1000,2,   179.7,2,   20.65,2,   15.32,2,    0.00,2,    1.13,2,-999.000,9,-999.000,9,-999.000,9,  -999.0,9,  -999.0,9,-999.000,9,-999.0000,9, -999.00,9, -999.00,9,  -999.0,9,  -999.0,-999.000,9,-999.000, -999.00,9,  485.50,-999.0000,9,-999.0000,9,-999.0000,9,-999.0000,9,-999.0000,9,-999.0000,-999.000,-999.0000,9, -999.00
318M20040615,        P02,      27,          1,         25,         25,2,20040625,       1049,    30.0023,   141.6803,       4282,   570.0,   9.8688,  34.2522,2,  34.2512,2, 164.8000,2,   165.1,2,   32.84,2,   20.50,2,    0.00,2,    1.52,2,-999.000,9,-999.000,9,-999.000,9,  -999.0,9,  -999.0,9,-999.000,9,-999.0000,9, -999.00,9, -999.00,9,  -999.0,9,  -999.0,-999.000,9,-999.000, -999.00,9,  570.00,-999.0000,9,-999.0000,9,-999.0000,9,-999.0000,9,-999.0000,9,-999.0000,-999.000,-999.0000,9, -999.00
318M20040615,        P02,      27,          1,         24,         24,2,20040625,       1049,    30.0023,   141.6803,       4282,   670.1,   7.4421,  34.1330,2,  34.1332,2, 137.1000,2,   139.9,2,   52.01,2,   27.13,2,    0.00,2,    2.00,2,-999.000,5,-999.000,5,-999.000,5,  2199.4,2,  2289.5,2,-999.000,9,-999.0000,9, -999.00,9, -999.00,9,  -999.0,9,  -999.0,-999.000,9,-999.000, -999.00,9,  670.10,-999.0000,9,-999.0000,9,-999.0000,9,-999.0000,9,-999.0000,9,-999.0000,-999.000,-999.0000,9, -999.00
318M20040615,        P02,      27,          1,         23,         23,2,20040625,       1049,    30.0023,   141.6803,       4282,   765.5,   5.7542,  34.1146,2,  34.1158,2, 104.4000,2,   106.8,2,   73.07,2,   33.09,2,    0.00,2,    2.45,2,-999.000,9,-999.000,9,-999.000,9,  -999.0,9,  -999.0,9,-999.000,9,-999.0000,9, -999.00,9, -999.00,9,  -999.0,9,  -999.0,-999.000,9,-999.000, -999.00,9,  765.50,-999.0000,9,-999.0000,9,-999.0000,9,-999.0000,9,-999.0000,9,-999.0000,-999.000,-999.0000,9, -999.00
318M20040615,        P02,      27,          1,         22,         22,2,20040625,       1049,    30.0023,   141.6803,       4282,   866.8,   5.0301,  34.1994,2,  34.1992,2,  79.0000,2,    80.6,2,   90.80,2,   36.41,2,    0.00,2,    2.68,2,   0.936,2,   0.440,2,   0.032,2,  2286.1,2,  2324.4,2,-999.000,9,-999.0000,9, -999.00,9, -999.00,9,  -999.0,9,  -999.0,-999.000,9,-999.000, -999.00,9,  866.80,-999.0000,9,-999.0000,9,-999.0000,9,-999.0000,9,-999.0000,9,-999.0000,-999.000,-999.0000,9, -999.00
318M20040615,        P02,      27,          1,         21,         21,2,20040625,       1049,    30.0023,   141.6803,       4282,   967.4,   4.1715,  34.2566,2,  34.2567,2,  57.9000,2,    57.2,2,  108.62,2,   39.68,2,    0.00,2,    2.90,2,-999.000,9,-999.000,9,-999.000,9,  -999.0,9,  -999.0,9,-999.000,9,-999.0000,9, -999.00,9, -999.00,9,  -999.0,9,  -999.0,-999.000,9,-999.000, -999.00,9,  967.40,-999.0000,9,-999.0000,9,-999.0000,9,-999.0000,9,-999.0000,9,-999.0000,-999.000,-999.0000,9, -999.00
318M20040615,        P02,      27,          1,         20,         20,2,20040625,       1049,    30.0023,   141.6803,       4282,  1068.6,   3.6987,  34.3249,2,  34.3274,2,  48.0000,2,    47.6,2,  121.08,2,   41.12,2,    0.00,2,    3.01,2,-999.000,9,-999.000,9,-999.000,9,  -999.0,9,  -999.0,9,-999.000,9,-999.0000,9, -999.00,9, -999.00,9,  -999.0,9,  -999.0,-999.000,9,-999.000, -999.00,9, 1068.60,-999.0000,9,-999.0000,9,-999.0000,9,-999.0000,9,-999.0000,9,-999.0000,-999.000,-999.0000,9, -999.00
318M20040615,        P02,      27,          1,         19,         19,2,20040625,       1049,    30.0023,   141.6803,       4282,  1169.2,   3.3908,  34.3768,2,  34.3785,2,  45.5000,2,    45.7,2,  128.87,2,   41.61,2,    0.00,2,    3.04,2,   0.140,6,   0.069,6,   0.005,6,  2351.0,2,  2367.4,2,-999.000,9,-999.0000,9, -999.00,9, -999.00,9,  -999.0,9,  -999.0,-999.000,9,-999.000, -999.00,9, 1169.20,-999.0000,9,-999.0000,9,-999.0000,9,-999.0000,9,-999.0000,9,-999.0000,-999.000,-999.0000,9, -999.00
318M20040615,        P02,      27,          1,         18,         18,2,20040625,       1049,    30.0023,   141.6803,       4282,  1269.1,   3.1131,  34.4142,2,  34.4154,2,  43.5000,2,    43.4,2,  136.14,2,   42.04,2,    0.00,2,    3.06,2,   0.084,2,   0.043,2,   0.006,2,  2359.6,2,  2376.4,2,-999.000,9,-999.0000,9, -999.00,9, -999.00,9,  -999.0,9,  -999.0,-999.000,9,-999.000, -999.00,9, 1269.10,-999.0000,9,-999.0000,9,-999.0000,9,-999.0000,9,-999.0000,9,-999.0000,-999.000,-999.0000,9, -999.00
318M20040615,        P02,      27,          1,         17,         17,2,20040625,       1049,    30.0023,   141.6803,       4282,  1369.9,   2.8774,  34.4540,2,  34.4551,2,  45.8000,2,    46.2,2,  142.16,2,   42.04,2,    0.00,2,    3.06,2,   0.051,2,   0.025,2,   0.001,2,  2366.1,2,  2383.4,2,-999.000,9,-999.0000,9, -999.00,9, -999.00,9,  -999.0,9,  -999.0,-999.000,9,-999.000, -999.00,9, 1369.90,-999.0000,9,-999.0000,9,-999.0000,9,-999.0000,9,-999.0000,9,-999.0000,-999.000,-999.0000,9, -999.00
318M20040615,        P02,      27,          1,         16,         16,2,20040625,       1049,    30.0023,   141.6803,       4282,  1470.7,   2.6825,  34.4832,2,  34.4839,2,  50.0000,2,    49.1,2,  147.15,2,   42.05,2,    0.00,2,    3.05,2,   0.032,2,   0.016,2,   0.004,2,  -999.0,9,  -999.0,9,-999.000,9,-999.0000,9, -999.00,9, -999.00,9,  -999.0,9,  -999.0,-999.000,9,-999.000, -999.00,9, 1470.70,-999.0000,9,-999.0000,9,-999.0000,9,-999.0000,9,-999.0000,9,-999.0000,-999.000,-999.0000,9, -999.00
318M20040615,        P02,      27,          1,         15,         15,2,20040625,       1049,    30.0023,   141.6803,       4282,  1571.7,   2.5157,  34.5108,2,  34.5112,2,  54.3000,2,    55.0,2,  150.27,2,   41.73,2,    0.00,2,    3.03,2,   0.024,2,   0.012,2,   0.002,2,  -999.0,9,  -999.0,9,-999.000,9,-999.0000,9, -999.00,9, -999.00,9,  -999.0,9,  -999.0,-999.000,9,-999.000, -999.00,9, 1571.70,-999.0000,9,-999.0000,9,-999.0000,9,-999.0000,9,-999.0000,9,-999.0000,-999.000,-999.0000,9, -999.00
318M20040615,        P02,      27,          1,         14,         14,2,20040625,       1049,    30.0023,   141.6803,       4282,  1671.2,   2.3939,  34.5308,2,  34.5305,2,  60.3000,2,    60.8,2,  152.64,2,   41.46,2,    0.00,2,    3.01,2,-999.000,9,-999.000,9,-999.000,9,  -999.0,9,  -999.0,9,-999.000,9,-999.0000,9, -999.00,9, -999.00,9,  -999.0,9,  -999.0,-999.000,9,-999.000, -999.00,9, 1671.20,-999.0000,9,-999.0000,9,-999.0000,9,-999.0000,9,-999.0000,9,-999.0000,-999.000,-999.0000,9, -999.00
318M20040615,        P02,      27,          1,         13,         13,2,20040625,       1049,    30.0023,   141.6803,       4282,  1771.5,   2.2551,  34.5523,2,  34.5535,2,  65.8000,2,    66.6,2,  154.83,2,   41.13,2,    0.00,2,    2.98,2,-999.000,9,-999.000,9,-999.000,9,  -999.0,9,  -999.0,9,-999.000,9,-999.0000,9, -999.00,9, -999.00,9,  -999.0,9,  -999.0,-999.000,9,-999.000, -999.00,9, 1771.50,-999.0000,9,-999.0000,9,-999.0000,9,-999.0000,9,-999.0000,9,-999.0000,-999.000,-999.0000,9, -999.00
318M20040615,        P02,      27,          1,         12,         12,2,20040625,       1049,    30.0023,   141.6803,       4282,  1871.7,   2.1500,  34.5690,2,  34.5711,2,  70.9000,2,    71.6,2,  156.30,2,   41.23,2,    0.00,2,    2.96,2,   0.006,2,   0.003,2,   0.002,2,  -999.0,9,  -999.0,9,-999.000,9,-999.0000,9, -999.00,9, -999.00,9,  -999.0,9,  -999.0,-999.000,9,-999.000, -999.00,9, 1871.70,-999.0000,9,-999.0000,9,-999.0000,9,-999.0000,9,-999.0000,9,-999.0000,-999.000,-999.0000,9, -999.00
318M20040615,        P02,      27,          1,         11,         11,2,20040625,       1049,    30.0023,   141.6803,       4282,  1967.9,   2.0686,  34.5824,2,  34.5829,2,  76.7000,2,    77.4,2,  157.22,2,   40.96,2,    0.00,2,    2.93,2,-999.000,9,-999.000,9,-999.000,9,  -999.0,9,  -999.0,9,-999.000,9,-999.0000,9, -999.00,9, -999.00,9,  -999.0,9,  -999.0,-999.000,9,-999.000, -999.00,9, 1967.90,-999.0000,9,-999.0000,9,-999.0000,9,-999.0000,9,-999.0000,9,-999.0000,-999.000,-999.0000,9, -999.00
318M20040615,        P02,      27,          1,         10,         10,2,20040625,       1049,    30.0023,   141.6803,       4282,  2169.1,   1.9092,  34.6077,2,  34.6081,2,  90.6000,2,    90.1,2,  158.91,2,   40.16,2,    0.00,2,    2.87,2,-999.000,9,-999.000,9,-999.000,9,  -999.0,9,  -999.0,9,-999.000,9,-999.0000,9, -999.00,9, -999.00,9,  -999.0,9,  -999.0,-999.000,9,-999.000, -999.00,9, 2169.10,-999.0000,9,-999.0000,9,-999.0000,9,-999.0000,9,-999.0000,9,-999.0000,-999.000,-999.0000,9, -999.00
318M20040615,        P02,      27,          1,          9,          9,2,20040625,       1049,    30.0023,   141.6803,       4282,  2417.5,   1.7570,  34.6325,2,  34.6331,2, 106.3000,2,   105.5,2,  157.27,2,   39.03,2,    0.00,2,    2.78,2,   0.003,2,   0.003,2,   0.002,2,  -999.0,9,  -999.0,9,-999.000,9,-999.0000,9, -999.00,9, -999.00,9,  -999.0,9,  -999.0,-999.000,9,-999.000, -999.00,9, 2417.50,-999.0000,9,-999.0000,9,-999.0000,9,-999.0000,9,-999.0000,9,-999.0000,-999.000,-999.0000,9, -999.00
318M20040615,        P02,      27,          1,          8,          8,2,20040625,       1049,    30.0023,   141.6803,       4282,  2667.8,   1.6588,  34.6481,2,  34.6489,2, 118.3000,2,   119.7,3,  155.47,2,   38.28,2,    0.00,2,    2.72,2,-999.000,9,-999.000,9,-999.000,9,  -999.0,9,  -999.0,9,-999.000,9,-999.0000,9, -999.00,9, -999.00,9,  -999.0,9,  -999.0,-999.000,9,-999.000, -999.00,9, 2667.80,-999.0000,9,-999.0000,9,-999.0000,9,-999.0000,9,-999.0000,9,-999.0000,-999.000,-999.0000,9, -999.00
318M20040615,        P02,      27,          1,          7,          7,2,20040625,       1049,    30.0023,   141.6803,       4282,  2916.1,   1.5984,  34.6579,2,  34.6578,2, 126.1000,2,   126.7,2,  154.59,2,   37.69,2,    0.00,2,    2.68,2,-999.000,9,-999.000,9,-999.000,9,  -999.0,9,  -999.0,9,-999.000,9,-999.0000,9, -999.00,9, -999.00,9,  -999.0,9,  -999.0,-999.000,9,-999.000, -999.00,9, 2916.10,-999.0000,9,-999.0000,9,-999.0000,9,-999.0000,9,-999.0000,9,-999.0000,-999.000,-999.0000,9, -999.00
318M20040615,        P02,      27,          1,          6,          6,2,20040625,       1049,    30.0023,   141.6803,       4282,  3164.7,   1.5445,  34.6666,2,  34.6683,2, 133.4000,2,   134.1,2,  154.25,2,   37.26,2,    0.00,2,    2.65,2,   0.001,2,   0.001,2,   0.003,2,  -999.0,9,  -999.0,9,-999.000,9,-999.0000,9, -999.00,9, -999.00,9,  -999.0,9,  -999.0,-999.000,9,-999.000, -999.00,9, 3164.70,-999.0000,9,-999.0000,9,-999.0000,9,-999.0000,9,-999.0000,9,-999.0000,-999.000,-999.0000,9, -999.00
318M20040615,        P02,      27,          1,          5,          5,2,20040625,       1049,    30.0023,   141.6803,       4282,  3412.9,   1.5076,  34.6729,2,  34.6735,2, 139.6000,2,   139.8,2,  152.78,2,   36.82,2,    0.00,2,    2.62,2,-999.000,9,-999.000,9,-999.000,9,  -999.0,9,  -999.0,9,-999.000,9,-999.0000,9, -999.00,9, -999.00,9,  -999.0,9,  -999.0,-999.000,9,-999.000, -999.00,9, 3412.90,-999.0000,9,-999.0000,9,-999.0000,9,-999.0000,9,-999.0000,9,-999.0000,-999.000,-999.0000,9, -999.00
318M20040615,        P02,      27,          1,          4,          4,2,20040625,       1049,    30.0023,   141.6803,       4282,  3663.8,   1.4844,  34.6776,2,  34.6788,2, 144.4000,2,   144.7,2,  151.92,2,   36.51,3,    0.00,2,    2.59,2,-999.000,9,-999.000,9,-999.000,9,  -999.0,9,  -999.0,9,-999.000,9,-999.0000,9, -999.00,9, -999.00,9,  -999.0,9,  -999.0,-999.000,9,-999.000, -999.00,9, 3663.80,-999.0000,9,-999.0000,9,-999.0000,9,-999.0000,9,-999.0000,9,-999.0000,-999.000,-999.0000,9, -999.00
318M20040615,        P02,      27,          1,          3,          3,2,20040625,       1049,    30.0023,   141.6803,       4282,  3909.8,   1.4684,  34.6817,2,  34.6826,2, 148.7000,2,   149.3,2,  150.86,2,   36.18,2,    0.00,2,    2.56,2,   0.003,2,   0.002,2,   0.004,2,  -999.0,9,  2414.9,2,-999.000,9,-999.0000,9, -999.00,9, -999.00,9,  -999.0,9,  -999.0,-999.000,9,-999.000, -999.00,9, 3909.80,-999.0000,9,-999.0000,9,-999.0000,9,-999.0000,9,-999.0000,9,-999.0000,-999.000,-999.0000,9, -999.00
318M20040615,        P02,      27,          1,          2,          2,2,20040625,       1049,    30.0023,   141.6803,       4282,  4177.3,   1.4531,  34.6861,2,  34.6868,2, 154.2000,2,   154.8,2,  148.87,2,   35.80,2,    0.00,2,    2.54,2,-999.000,9,-999.000,9,-999.000,9,  -999.0,9,  2413.2,2,-999.000,9,-999.0000,9, -999.00,9, -999.00,9,  -999.0,9,  -999.0,-999.000,9,-999.000, -999.00,9, 4177.30,-999.0000,9,-999.0000,9,-999.0000,9,-999.0000,9,-999.0000,9,-999.0000,-999.000,-999.0000,9, -999.00
318M20040615,        P02,      27,          1,          1,          1,2,20040625,       1049,    30.0023,   141.6803,       4282,  4342.2,   1.4620,  34.6869,2,  34.6878,2, 155.5000,2,   156.0,2,  148.70,2,   35.80,2,    0.00,2,    2.54,2,   0.005,2,   0.000,2,   0.001,2,  -999.0,9,  2416.0,6,-999.000,9,-999.0000,9, -999.00,9, -999.00,9,  -999.0,9,  -999.0,-999.000,9,-999.000, -999.00,9, 4342.20,-999.0000,9,-999.0000,9,-999.0000,9,-999.0000,9,-999.0000,9,-999.0000,-999.000,-999.0000,9, -999.00