BOTTLE,20131027SIOCCHRJL
EXPOCODE,SECT_ID,STNNBR,CASTNO,SAMPNO,BTLNBR,BTLNBR_FLAG_W,DATE,TIME,LATITUDE,LONGITUDE,DEPTH,CTDPRS,CTDTMP,CTDSAL,CTDSAL_FLAG_W,SALNTY,SALNTY_FLAG_W,CTDOXY,CTDOXY_FLAG_W,OXYGEN,OXYGEN_FLAG_W,SILCAT,SILCAT_FLAG_W,NITRAT,NITRAT_FLAG_W,NITRIT,NITRIT_FLAG_W,PHSPHT,PHSPHT_FLAG_W,CFC-11,CFC-11_FLAG_W,CFC-12,CFC-12_FLAG_W,CFC113,CFC113_FLAG_W,TCARBN,TCARBN_FLAG_W,ALKALI,ALKALI_FLAG_W,TRITUM,TRITUM_FLAG_W,HELIUM,HELIUM_FLAG_W,DELHE3,DELHE3_FLAG_W,DELC13,DELC13_FLAG_W,DELC14,DELC14_FLAG_W,C14ERR,NEON,NEON_FLAG_W,NEONER,DOC,DOC_FLAG_W,CTDRAW,CDOM380,CDOM380_FLAG_W,CDOM325,CDOM325_FLAG_W,CDOMSL,CDOMSL_FLAG_W,CDOM340,CDOM340_FLAG_W,CDOMSN,CDOMSN_FLAG_W,HELIER,TRITER,CDOM412,CDOM412_FLAG_W,DELHER
,,,,,,,,,,,METERS,DBAR,ITS-90,PSS-78,,PSS-78,,UMOL/KG,,UMOL/KG,,UMOL/KG,,UMOL/KG,,UMOL/KG,,UMOL/KG,,PMOL/KG,,PMOL/KG,,PMOL/KG,,UMOL/KG,,UMOL/KG,,TU,,NMOL/KG,,PERCNT,,/MILLE,,/MILLE,,/MILLE,NMOL/KG,,NMOL/KG,UMOL/KG,,DBAR,1/M,,1/M,,1/NM,,1/M,,1/NM,,NMOL/KG,TU,1/M,,PERCNT
318M20040615,        P02,     123,          1,         36,         36,2,20040808,       1123,    29.9985,  -156.9245,       5777,     6.3,  24.8403,  35.3208,2,  35.3210,2, 210.9000,2,   211.2,2,    1.36,2,    0.03,2,    0.00,2,    0.03,2,   1.881,2,   1.128,2,   0.171,2,  2014.9,6,  2323.7,6,   0.816,2,   1.7346,2,   -1.18,2, -999.00,9,  -999.0,9,  -999.0,-999.000,9,-999.000, -999.00,9,    6.30,-999.0000,9,-999.0000,9,-999.0000,9,-999.0000,9,-999.0000,9,   0.0087,   0.007,-999.0000,9,    0.20
318M20040615,        P02,     123,          1,         35,         35,2,20040808,       1123,    29.9985,  -156.9245,       5777,    40.9,  21.3573,  35.0181,2,  35.0201,2, 241.0000,2,   237.1,2,    1.92,2,    0.03,2,    0.00,2,    0.05,2,   2.311,2,   1.368,2,   0.211,2,  2014.9,2,  2303.0,2,-999.000,9,   1.7545,2,   -1.32,2, -999.00,9,  -999.0,9,  -999.0,-999.000,9,-999.000, -999.00,9,   40.90,-999.0000,9,-999.0000,9,-999.0000,9,-999.0000,9,-999.0000,9,   0.0088,-999.000,-999.0000,9,    0.20
318M20040615,        P02,     123,          1,         34,         34,2,20040808,       1123,    29.9985,  -156.9245,       5777,    86.2,  16.2914,  34.5777,2,  34.5718,2, 246.6000,2,   255.9,2,    2.48,2,    0.03,2,    0.00,2,    0.10,2,   2.807,2,   1.639,2,   0.190,2,  2013.2,2,  2275.0,2,   0.862,2,   1.7628,2,   -1.70,2, -999.00,9,  -999.0,9,  -999.0,-999.000,9,-999.000, -999.00,9,   86.20,-999.0000,9,-999.0000,9,-999.0000,9,-999.0000,9,-999.0000,9,   0.0088,   0.007,-999.0000,9,    0.20
318M20040615,        P02,     123,          1,         33,         33,2,20040808,       1123,    29.9985,  -156.9245,       5777,   135.8,  14.2974,  34.4227,2,  34.4233,2, 222.6000,2,   221.3,2,    5.31,2,    5.72,2,    0.02,2,    0.48,2,   2.964,2,   1.694,2,   0.121,2,  2049.4,2,  2267.0,2,   0.867,2,   1.7730,2,   -0.57,2, -999.00,9,  -999.0,9,  -999.0,-999.000,9,-999.000, -999.00,9,  135.80,-999.0000,9,-999.0000,9,-999.0000,9,-999.0000,9,-999.0000,9,   0.0089,   0.006,-999.0000,9,    0.20
318M20040615,        P02,     123,          1,         32,         32,2,20040808,       1123,    29.9985,  -156.9245,       5777,   185.8,  13.3122,  34.3527,2,  34.3540,2, 228.2000,2,   230.1,2,    6.44,2,    6.59,2,    0.01,2,    0.53,2,   3.085,2,   1.767,2,   0.135,2,  2053.5,2,  2264.5,2,   0.852,2,   1.7824,2,   -0.47,2, -999.00,9,  -999.0,9,  -999.0,-999.000,9,-999.000, -999.00,9,  185.80,-999.0000,9,-999.0000,9,-999.0000,9,-999.0000,9,-999.0000,9,   0.0089,   0.007,-999.0000,9,    0.20
318M20040615,        P02,     123,          1,         31,         31,2,20040808,       1123,    29.9985,  -156.9245,       5777,   235.5,  12.4025,  34.3131,2,  34.3185,2, 221.0000,2,   225.0,2,    9.46,2,    9.58,2,    0.01,2,    0.70,2,   3.163,2,   1.792,2,   0.106,2,  2069.4,2,  2264.9,2,   0.915,2,   1.7846,2,    0.01,2, -999.00,9,  -999.0,9,  -999.0,-999.000,9,-999.000, -999.00,9,  235.50,-999.0000,9,-999.0000,9,-999.0000,9,-999.0000,9,-999.0000,9,   0.0089,   0.010,-999.0000,9,    0.20
318M20040615,        P02,     123,          1,         30,         30,2,20040808,       1123,    29.9985,  -156.9245,       5777,   285.2,  11.6139,  34.2601,2,  34.2603,2, 221.8000,2,   224.9,2,   11.92,2,   11.45,2,    0.00,2,    0.82,2,   3.252,2,   1.822,2,   0.136,2,  2079.8,2,  2266.2,2,   0.828,2,   1.7951,2,    0.23,2, -999.00,9,  -999.0,9,  -999.0,-999.000,9,-999.000, -999.00,9,  285.20,-999.0000,9,-999.0000,9,-999.0000,9,-999.0000,9,-999.0000,9,   0.0090,   0.007,-999.0000,9,    0.20
318M20040615,        P02,     123,          1,         29,         29,2,20040808,       1123,    29.9985,  -156.9245,       5777,   340.1,  10.7407,  34.2024,2,  34.2014,2, 223.6000,2,   225.1,2,   15.14,2,   13.12,2,    0.00,2,    0.94,2,   3.329,2,   1.834,2,   0.115,2,  2091.2,2,  2266.8,2,   0.870,2,-999.0000,9, -999.00,9, -999.00,9,  -999.0,9,  -999.0,-999.000,9,-999.000, -999.00,9,  340.10,-999.0000,9,-999.0000,9,-999.0000,9,-999.0000,9,-999.0000,9,-999.0000,   0.007,-999.0000,9, -999.00
318M20040615,        P02,     123,          1,         28,         28,4,20040808,       1123,    29.9985,  -156.9245,       5777,   390.1,   9.9324,  34.1553,2,  34.1571,2, 208.8000,2,   207.3,2,   19.31,2,   16.20,2,    0.00,2,    1.14,2,-999.000,9,-999.000,9,-999.000,9,  2111.7,2,  2266.4,2,   0.855,2,   1.8066,2,    3.48,2, -999.00,9,  -999.0,9,  -999.0,-999.000,9,-999.000, -999.00,9,  390.10,-999.0000,9,-999.0000,9,-999.0000,9,-999.0000,9,-999.0000,9,   0.0090,   0.007,-999.0000,9,    0.20
318M20040615,        P02,     123,          1,         27,         27,2,20040808,       1123,    29.9985,  -156.9245,       5777,   440.1,   9.0373,  34.1161,2,  34.1179,2, 191.9000,2,   188.9,2,   26.16,2,   19.76,2,    0.00,2,    1.39,2,   3.136,6,   1.627,6,   0.141,6,  2135.6,2,  2269.9,2,   0.848,2,   1.8157,2,    6.29,2, -999.00,9,  -999.0,9,  -999.0,-999.000,9,-999.000, -999.00,9,  440.10,-999.0000,9,-999.0000,9,-999.0000,9,-999.0000,9,-999.0000,9,   0.0091,   0.007,-999.0000,9,    0.20
318M20040615,        P02,     123,          1,         26,         26,4,20040808,       1123,    29.9985,  -156.9245,       5777,   489.8,   8.1645,  34.0696,2,  34.0705,2, 173.1000,2,   168.6,2,   33.96,2,   23.44,2,    0.00,2,    1.64,2,-999.000,9,-999.000,9,-999.000,9,  2162.5,2,  2270.6,2,-999.000,9,   1.8178,2,    8.46,2, -999.00,9,  -999.0,9,  -999.0,-999.000,9,-999.000, -999.00,9,  489.80,-999.0000,9,-999.0000,9,-999.0000,9,-999.0000,9,-999.0000,9,   0.0091,-999.000,-999.0000,9,    0.20
318M20040615,        P02,     123,          1,         25,         25,4,20040808,       1123,    29.9985,  -156.9245,       5777,   574.9,   6.3338,  34.0056,2,  34.0076,2, 131.6000,2,   123.1,2,   54.85,2,   31.11,2,    0.00,2,    2.22,2,-999.000,9,-999.000,9,-999.000,9,  2221.4,2,  2287.7,2,   0.691,2,   1.8497,2,   15.32,2, -999.00,9,  -999.0,9,  -999.0,-999.000,9,-999.000, -999.00,9,  574.90,-999.0000,9,-999.0000,9,-999.0000,9,-999.0000,9,-999.0000,9,   0.0092,   0.006,-999.0000,9,    0.20
318M20040615,        P02,     123,          1,         24,         24,4,20040808,       1123,    29.9985,  -156.9245,       5777,   675.0,   4.9864,  34.0457,2,  34.0479,2,  85.1000,2,    72.8,2,   79.33,2,   37.72,2,    0.00,2,    2.71,2,-999.000,9,-999.000,9,-999.000,9,  2280.5,2,  2308.2,2,   0.505,2,   1.8654,2,   18.14,2, -999.00,9,  -999.0,9,  -999.0,-999.000,9,-999.000, -999.00,9,  675.00,-999.0000,9,-999.0000,9,-999.0000,9,-999.0000,9,-999.0000,9,   0.0093,   0.005,-999.0000,9,    0.20
318M20040615,        P02,     123,          1,         23,         23,4,20040808,       1123,    29.9985,  -156.9245,       5777,   779.8,   4.2197,  34.1426,2,  34.1428,2,  42.2000,2,    32.8,2,  100.08,2,   41.96,2,    0.00,2,    3.01,2,-999.000,9,-999.000,9,-999.000,9,  2326.2,2,  2331.1,2,   0.229,2,   1.8823,2,   17.39,2, -999.00,9,  -999.0,9,  -999.0,-999.000,9,-999.000, -999.00,9,  779.80,-999.0000,9,-999.0000,9,-999.0000,9,-999.0000,9,-999.0000,9,   0.0094,   0.003,-999.0000,9,    0.20
318M20040615,        P02,     123,          1,         22,         22,4,20040808,       1123,    29.9985,  -156.9245,       5777,   879.5,   3.8949,  34.2453,2,  34.2459,2,  18.1000,2,    19.1,2,  113.14,2,   43.25,2,    0.00,2,    3.13,2,-999.000,9,-999.000,9,-999.000,9,  2349.3,2,  2349.8,2,-999.000,9,   1.8980,2,   14.66,2, -999.00,9,  -999.0,9,  -999.0,-999.000,9,-999.000, -999.00,9,  879.50,-999.0000,9,-999.0000,9,-999.0000,9,-999.0000,9,-999.0000,9,   0.0095,-999.000,-999.0000,9,    0.20
318M20040615,        P02,     123,          1,         21,         21,2,20040808,       1123,    29.9985,  -156.9245,       5777,   979.5,   3.6109,  34.3251,2,  34.3261,2,  10.0000,2,     9.3,2,  124.46,2,   44.28,2,    0.00,2,    3.21,2,   0.013,6,   0.008,6,   0.000,6,  2366.0,2,  2362.7,6,   0.042,2,   1.9039,2,   14.05,2, -999.00,9,  -999.0,9,  -999.0,-999.000,9,-999.000, -999.00,9,  979.50,-999.0000,9,-999.0000,9,-999.0000,9,-999.0000,9,-999.0000,9,   0.0095,   0.001,-999.0000,9,    0.20
318M20040615,        P02,     123,          1,         20,         20,2,20040808,       1123,    29.9985,  -156.9245,       5777,  1079.3,   3.4045,  34.4035,2,  34.4031,2,  11.1000,2,    12.0,2,  131.30,2,   44.60,2,    0.00,2,    3.22,2,   0.009,2,   0.005,2,   0.000,2,  2374.6,6,  2375.5,2,   0.030,2,   1.9080,2,   16.67,2, -999.00,9,  -999.0,9,  -999.0,-999.000,9,-999.000, -999.00,9, 1079.30,-999.0000,9,-999.0000,9,-999.0000,9,-999.0000,9,-999.0000,9,   0.0095,   0.001,-999.0000,9,    0.20
318M20040615,        P02,     123,          1,         19,         19,2,20040808,       1123,    29.9985,  -156.9245,       5777,  1179.8,   3.1917,  34.4536,2,  34.4545,2,  17.1000,2,    18.4,2,  136.97,2,   44.64,2,    0.00,2,    3.20,2,   0.007,2,   0.004,2,   0.000,2,  2378.4,2,  2385.1,2,   0.014,2,   1.9124,2,   19.17,2, -999.00,9,  -999.0,9,  -999.0,-999.000,9,-999.000, -999.00,9, 1179.80,-999.0000,9,-999.0000,9,-999.0000,9,-999.0000,9,-999.0000,9,   0.0096,   0.000,-999.0000,9,    0.20
318M20040615,        P02,     123,          1,         18,         18,2,20040808,       1123,    29.9985,  -156.9245,       5777,  1280.9,   3.0154,  34.4908,2,  34.4920,2,  25.0000,2,    26.4,2,  141.08,2,   44.21,2,    0.00,2,    3.15,2,   0.009,6,   0.003,6,   0.000,6,  2380.0,2,  2392.7,6,   0.034,2,   1.9167,2,   19.58,2, -999.00,9,  -999.0,9,  -999.0,-999.000,9,-999.000, -999.00,9, 1280.90,-999.0000,9,-999.0000,9,-999.0000,9,-999.0000,9,-999.0000,9,   0.0096,   0.001,-999.0000,9,    0.20
318M20040615,        P02,     123,          1,         17,         17,2,20040808,       1123,    29.9985,  -156.9245,       5777,  1386.6,   2.8403,  34.5193,2,  34.5196,2,  35.8000,2,    35.4,2,  144.79,2,   43.67,2,    0.00,2,    3.12,2,   0.007,2,   0.004,2,   0.002,2,  2378.9,2,  2398.0,2,   0.032,2,   1.9183,2,   20.14,2, -999.00,9,  -999.0,9,  -999.0,-999.000,9,-999.000, -999.00,9, 1386.60,-999.0000,9,-999.0000,9,-999.0000,9,-999.0000,9,-999.0000,9,   0.0096,   0.001,-999.0000,9,    0.20
318M20040615,        P02,     123,          1,         16,         16,2,20040808,       1123,    29.9985,  -156.9245,       5777,  1486.8,   2.6537,  34.5437,2,  34.5432,2,  44.4000,2,    46.5,2,  147.93,2,   42.76,2,    0.00,2,    3.05,2,   0.014,2,   0.008,2,   0.002,2,  2376.8,2,  2403.6,2,   0.028,2,   1.5961,2,   20.73,2, -999.00,9,  -999.0,9,  -999.0,-999.000,9,-999.000, -999.00,9, 1486.80,-999.0000,9,-999.0000,9,-999.0000,9,-999.0000,9,-999.0000,9,   0.0080,   0.001,-999.0000,9,    0.20
318M20040615,        P02,     123,          1,         15,         15,4,20040808,       1123,    29.9985,  -156.9245,       5777,  1587.0,   2.4943,  34.5616,2,  34.5624,2,  55.1000,2,    54.0,2,  151.45,2,   42.17,2,    0.00,2,    3.01,2,-999.000,9,-999.000,9,-999.000,9,  2376.8,2,  2406.4,2,   0.007,2,   1.9267,2,   21.72,2, -999.00,9,  -999.0,9,  -999.0,-999.000,9,-999.000, -999.00,9, 1587.00,-999.0000,9,-999.0000,9,-999.0000,9,-999.0000,9,-999.0000,9,   0.0096,   0.000,-999.0000,9,    0.20
318M20040615,        P02,     123,          1,         14,         14,4,20040808,       1123,    29.9985,  -156.9245,       5777,  1793.1,   2.2139,  34.5919,2,  34.5925,2,  71.9000,2,    71.0,2,  155.78,2,   41.05,2,    0.00,2,    2.92,2,-999.000,9,-999.000,9,-999.000,9,  2370.3,2,  2414.0,2,   0.033,2,   1.9380,2,   20.95,2, -999.00,9,  -999.0,9,  -999.0,-999.000,9,-999.000, -999.00,9, 1793.10,-999.0000,9,-999.0000,9,-999.0000,9,-999.0000,9,-999.0000,9,   0.0097,   0.001,-999.0000,9,    0.20
318M20040615,        P02,     123,          1,         13,         13,4,20040808,       1123,    29.9985,  -156.9245,       5777,  1994.9,   2.0070,  34.6136,2,  34.6141,2,  83.0000,2,    82.7,2,  159.34,2,   40.36,2,    0.00,2,    2.87,2,-999.000,9,-999.000,9,-999.000,9,  2367.2,2,  2418.8,2,-999.000,9,-999.0000,9, -999.00,9, -999.00,9,  -999.0,9,  -999.0,-999.000,9,-999.000, -999.00,9, 1994.90,-999.0000,9,-999.0000,9,-999.0000,9,-999.0000,9,-999.0000,9,-999.0000,-999.000,-999.0000,9, -999.00
318M20040615,        P02,     123,          1,         12,         12,4,20040808,       1123,    29.9985,  -156.9245,       5777,  2196.6,   1.8646,  34.6276,2,  34.6284,2,  92.0000,2,    91.7,2,  161.89,2,   39.77,2,    0.00,2,    2.82,2,-999.000,9,-999.000,9,-999.000,9,  2364.2,2,  2421.9,2,-999.000,9,-999.0000,9, -999.00,9, -999.00,9,  -999.0,9,  -999.0,-999.000,9,-999.000, -999.00,9, 2196.60,-999.0000,9,-999.0000,9,-999.0000,9,-999.0000,9,-999.0000,9,-999.0000,-999.000,-999.0000,9, -999.00
318M20040615,        P02,     123,          1,         11,         11,4,20040808,       1123,    29.9985,  -156.9245,       5777,  2452.8,   1.7315,  34.6427,2,  34.6428,2, 102.1000,2,   102.1,2,  163.46,2,   39.13,2,    0.00,2,    2.77,2,   0.007,2,  -0.002,2,   0.001,2,  2360.4,2,  2425.2,2,-999.000,9,-999.0000,9, -999.00,9, -999.00,9,  -999.0,9,  -999.0,-999.000,9,-999.000, -999.00,9, 2452.80,-999.0000,9,-999.0000,9,-999.0000,9,-999.0000,9,-999.0000,9,-999.0000,-999.000,-999.0000,9, -999.00
318M20040615,        P02,     123,          1,         10,         10,4,20040808,       1123,    29.9985,  -156.9245,       5777,  2705.4,   1.6310,  34.6545,2,  34.6551,2, 111.4000,2,   112.4,2,  163.43,2,   38.70,2,    0.00,2,    2.72,2,-999.000,9,-999.000,9,-999.000,9,  2356.6,2,  2425.7,2,-999.000,9,-999.0000,9, -999.00,9, -999.00,9,  -999.0,9,  -999.0,-999.000,9,-999.000, -999.00,9, 2705.40,-999.0000,9,-999.0000,9,-999.0000,9,-999.0000,9,-999.0000,9,-999.0000,-999.000,-999.0000,9, -999.00
318M20040615,        P02,     123,          1,          9,          9,2,20040808,       1123,    29.9985,  -156.9245,       5777,  2963.4,   1.5589,  34.6638,2,  34.6644,2, 120.7000,2,   122.0,2,  161.62,2,   38.28,2,    0.00,2,    2.66,2,   0.008,2,   0.003,2,   0.001,2,  2349.5,2,  2426.2,2,-999.000,9,-999.0000,9, -999.00,9, -999.00,9,  -999.0,9,  -999.0,-999.000,9,-999.000, -999.00,9, 2963.40,-999.0000,9,-999.0000,9,-999.0000,9,-999.0000,9,-999.0000,9,-999.0000,-999.000,-999.0000,9, -999.00
318M20040615,        P02,     123,          1,          8,          8,4,20040808,       1123,    29.9985,  -156.9245,       5777,  3301.5,   1.5065,  34.6730,2,  34.6734,2, 130.8000,2,   132.2,2,  160.01,2,   37.70,2,    0.00,2,    2.61,2,-999.000,9,-999.000,9,-999.000,9,  2344.9,2,  2426.2,2,-999.000,9,-999.0000,9, -999.00,9, -999.00,9,  -999.0,9,  -999.0,-999.000,9,-999.000, -999.00,9, 3301.50,-999.0000,9,-999.0000,9,-999.0000,9,-999.0000,9,-999.0000,9,-999.0000,-999.000,-999.0000,9, -999.00
318M20040615,        P02,     123,          1,          7,          7,4,20040808,       1123,    29.9985,  -156.9245,       5777,  3707.3,   1.4814,  34.6799,2,  34.6807,2, 139.8000,2,   140.2,2,  158.22,2,   36.96,2,    0.00,2,    2.56,2,-999.000,9,-999.000,9,-999.000,9,  2339.5,2,  2427.1,2,-999.000,9,-999.0000,9, -999.00,9, -999.00,9,  -999.0,9,  -999.0,-999.000,9,-999.000, -999.00,9, 3707.30,-999.0000,9,-999.0000,9,-999.0000,9,-999.0000,9,-999.0000,9,-999.0000,-999.000,-999.0000,9, -999.00
318M20040615,        P02,     123,          1,          6,          6,2,20040808,       1123,    29.9985,  -156.9245,       5777,  4117.8,   1.4792,  34.6844,2,  34.6860,2, 146.6000,2,   147.1,2,  155.23,2,   36.38,2,    0.00,2,    2.53,2,   0.009,2,   0.002,2,   0.000,2,  2333.8,2,  2425.7,2,-999.000,9,-999.0000,9, -999.00,9, -999.00,9,  -999.0,9,  -999.0,-999.000,9,-999.000, -999.00,9, 4117.80,-999.0000,9,-999.0000,9,-999.0000,9,-999.0000,9,-999.0000,9,-999.0000,-999.000,-999.0000,9, -999.00
318M20040615,        P02,     123,          1,          5,          5,2,20040808,       1123,    29.9985,  -156.9245,       5777,  4529.8,   1.4935,  34.6874,2,  34.6879,2, 151.8000,2,   152.0,2,  152.44,2,   36.00,2,    0.00,2,    2.50,2,   0.009,2,   0.004,2,   0.000,2,  2329.7,2,  2425.2,2,-999.000,9,-999.0000,9, -999.00,9, -999.00,9,  -999.0,9,  -999.0,-999.000,9,-999.000, -999.00,9, 4529.80,-999.0000,9,-999.0000,9,-999.0000,9,-999.0000,9,-999.0000,9,-999.0000,-999.000,-999.0000,9, -999.00
318M20040615,        P02,     123,          1,          4,          4,2,20040808,       1123,    29.9985,  -156.9245,       5777,  4941.2,   1.5194,  34.6896,2,  34.6905,2, 156.2000,2,   156.6,2,  148.88,2,   35.59,2,    0.00,2,    2.47,2,   0.006,2,   0.003,2,   0.001,2,  2325.2,2,  2422.7,2,-999.000,9,-999.0000,9, -999.00,9, -999.00,9,  -999.0,9,  -999.0,-999.000,9,-999.000, -999.00,9, 4941.20,-999.0000,9,-999.0000,9,-999.0000,9,-999.0000,9,-999.0000,9,-999.0000,-999.000,-999.0000,9, -999.00
318M20040615,        P02,     123,          1,          3,          3,2,20040808,       1123,    29.9985,  -156.9245,       5777,  5354.2,   1.5597,  34.6907,2,  34.6919,2, 158.6000,2,   159.0,2,  146.70,2,   35.43,2,    0.01,2,    2.48,2,   0.006,2,   0.002,2,   0.001,2,  2323.8,2,  2421.6,2,-999.000,9,-999.0000,9, -999.00,9, -999.00,9,  -999.0,9,  -999.0,-999.000,9,-999.000, -999.00,9, 5354.20,-999.0000,9,-999.0000,9,-999.0000,9,-999.0000,9,-999.0000,9,-999.0000,-999.000,-999.0000,9, -999.00
318M20040615,        P02,     123,          1,          2,          2,2,20040808,       1123,    29.9985,  -156.9245,       5777,  5732.7,   1.5990,  34.6915,2,  34.6926,2, 161.0000,2,   161.2,2,  144.91,2,   35.28,2,    0.00,2,    2.46,2,   0.010,2,   0.006,2,   0.001,2,  2320.4,2,  2419.2,2,-999.000,9,-999.0000,9, -999.00,9, -999.00,9,  -999.0,9,  -999.0,-999.000,9,-999.000, -999.00,9, 5732.70,-999.0000,9,-999.0000,9,-999.0000,9,-999.0000,9,-999.0000,9,-999.0000,-999.000,-999.0000,9, -999.00
318M20040615,        P02,     123,          1,          1,          1,2,20040808,       1123,    29.9985,  -156.9245,       5777,  5937.2,   1.6253,  34.6916,2,  34.6938,2, 161.1000,2,   161.8,2,  144.11,2,   35.32,2,    0.01,2,    2.46,2,   0.004,2,   0.006,2,   0.001,2,  2318.9,6,  2419.3,6,-999.000,9,-999.0000,9, -999.00,9, -999.00,9,  -999.0,9,  -999.0,-999.000,9,-999.000, -999.00,9, 5937.20,-999.0000,9,-999.0000,9,-999.0000,9,-999.0000,9,-999.0000,9,-999.0000,-999.000,-999.0000,9, -999.00