BOTTLE,20131027SIOCCHRJL
EXPOCODE,SECT_ID,STNNBR,CASTNO,SAMPNO,BTLNBR,BTLNBR_FLAG_W,DATE,TIME,LATITUDE,LONGITUDE,DEPTH,CTDPRS,CTDTMP,CTDSAL,CTDSAL_FLAG_W,SALNTY,SALNTY_FLAG_W,CTDOXY,CTDOXY_FLAG_W,OXYGEN,OXYGEN_FLAG_W,SILCAT,SILCAT_FLAG_W,NITRAT,NITRAT_FLAG_W,NITRIT,NITRIT_FLAG_W,PHSPHT,PHSPHT_FLAG_W,CFC-11,CFC-11_FLAG_W,CFC-12,CFC-12_FLAG_W,CFC113,CFC113_FLAG_W,TCARBN,TCARBN_FLAG_W,ALKALI,ALKALI_FLAG_W,TRITUM,TRITUM_FLAG_W,HELIUM,HELIUM_FLAG_W,DELHE3,DELHE3_FLAG_W,DELC13,DELC13_FLAG_W,DELC14,DELC14_FLAG_W,C14ERR,NEON,NEON_FLAG_W,NEONER,DOC,DOC_FLAG_W,CTDRAW,CDOM380,CDOM380_FLAG_W,CDOM325,CDOM325_FLAG_W,CDOMSL,CDOMSL_FLAG_W,CDOM340,CDOM340_FLAG_W,CDOMSN,CDOMSN_FLAG_W,HELIER,TRITER,CDOM412,CDOM412_FLAG_W,DELHER
,,,,,,,,,,,METERS,DBAR,ITS-90,PSS-78,,PSS-78,,UMOL/KG,,UMOL/KG,,UMOL/KG,,UMOL/KG,,UMOL/KG,,UMOL/KG,,PMOL/KG,,PMOL/KG,,PMOL/KG,,UMOL/KG,,UMOL/KG,,TU,,NMOL/KG,,PERCNT,,/MILLE,,/MILLE,,/MILLE,NMOL/KG,,NMOL/KG,UMOL/KG,,DBAR,1/M,,1/M,,1/NM,,1/M,,1/NM,,NMOL/KG,TU,1/M,,PERCNT
318M20040615,        P02,      65,          1,         36,         36,2,20040709,       1137,    29.9997,   167.4243,       5952,     8.0,  26.1502,  35.3417,2,  35.3415,2, 207.2000,2,   206.3,2,    1.18,2,    0.05,2,    0.00,2,    0.02,2,   1.743,2,   1.095,2,   0.119,2,  1996.7,6,  2319.9,6,-999.000,9,-999.0000,9, -999.00,9, -999.00,9,  -999.0,9,  -999.0,-999.000,9,-999.000, -999.00,9,    8.00,-999.0000,9,-999.0000,9,-999.0000,9,-999.0000,9,-999.0000,9,-999.0000,-999.000,-999.0000,9, -999.00
318M20040615,        P02,      65,          1,         35,         35,2,20040709,       1137,    29.9997,   167.4243,       5952,    36.6,  23.2183,  35.2331,2,  35.2306,2, 232.5000,2,   226.4,2,    1.36,2,    0.11,2,    0.00,2,    0.02,2,   1.988,2,   1.222,2,   0.128,2,  1999.5,2,  2311.9,2,-999.000,9,-999.0000,9, -999.00,9, -999.00,9,  -999.0,9,  -999.0,-999.000,9,-999.000, -999.00,9,   36.60,-999.0000,9,-999.0000,9,-999.0000,9,-999.0000,9,-999.0000,9,-999.0000,-999.000,-999.0000,9, -999.00
318M20040615,        P02,      65,          1,         34,         34,2,20040709,       1137,    29.9997,   167.4243,       5952,    76.2,  18.5922,  34.8867,2,  34.8939,2, 227.3000,2,   228.9,2,    2.26,2,    0.11,2,    0.00,2,    0.08,2,   2.347,2,   1.407,2,   0.120,2,  2012.7,2,  2291.3,2,-999.000,9,-999.0000,9, -999.00,9, -999.00,9,  -999.0,9,  -999.0,-999.000,9,-999.000, -999.00,9,   76.20,-999.0000,9,-999.0000,9,-999.0000,9,-999.0000,9,-999.0000,9,-999.0000,-999.000,-999.0000,9, -999.00
318M20040615,        P02,      65,          1,         33,         33,2,20040709,       1137,    29.9997,   167.4243,       5952,   125.7,  17.0136,  34.7506,2,  34.7531,2, 210.2000,2,   207.4,2,    3.88,2,    4.40,2,    0.04,2,    0.32,2,   2.507,2,   1.484,2,   0.069,2,  2037.6,2,  2281.4,2,-999.000,9,-999.0000,9, -999.00,9, -999.00,9,  -999.0,9,  -999.0,-999.000,9,-999.000, -999.00,9,  125.70,-999.0000,9,-999.0000,9,-999.0000,9,-999.0000,9,-999.0000,9,-999.0000,-999.000,-999.0000,9, -999.00
318M20040615,        P02,      65,          1,         32,         32,2,20040709,       1137,    29.9997,   167.4243,       5952,   175.6,  16.4701,  34.7178,2,  34.7172,2, 212.5000,2,   216.9,2,    4.42,2,    4.80,2,    0.01,2,    0.34,2,   2.528,2,   1.498,2,   0.086,2,  2032.2,2,  2279.1,2,-999.000,9,-999.0000,9, -999.00,9, -999.00,9,  -999.0,9,  -999.0,-999.000,9,-999.000, -999.00,9,  175.60,-999.0000,9,-999.0000,9,-999.0000,9,-999.0000,9,-999.0000,9,-999.0000,-999.000,-999.0000,9, -999.00
318M20040615,        P02,      65,          1,         31,         31,2,20040709,       1137,    29.9997,   167.4243,       5952,   225.5,  16.0127,  34.6710,2,  34.6712,2, 212.4000,2,   211.7,2,    5.49,2,    5.89,2,    0.01,2,    0.42,2,   2.570,2,   1.518,2,   0.061,2,  2040.3,2,  2276.4,2,-999.000,9,-999.0000,9, -999.00,9, -999.00,9,  -999.0,9,  -999.0,-999.000,9,-999.000, -999.00,9,  225.50,-999.0000,9,-999.0000,9,-999.0000,9,-999.0000,9,-999.0000,9,-999.0000,-999.000,-999.0000,9, -999.00
318M20040615,        P02,      65,          1,         30,         30,2,20040709,       1137,    29.9997,   167.4243,       5952,   274.8,  15.3811,  34.6270,2,  34.6268,2, 215.4000,2,   214.4,2,    6.40,2,    6.70,2,    0.01,2,    0.48,2,   2.639,2,   1.530,2,   0.074,2,  2045.5,2,  2275.7,2,-999.000,9,-999.0000,9, -999.00,9, -999.00,9,  -999.0,9,  -999.0,-999.000,9,-999.000, -999.00,9,  274.80,-999.0000,9,-999.0000,9,-999.0000,9,-999.0000,9,-999.0000,9,-999.0000,-999.000,-999.0000,9, -999.00
318M20040615,        P02,      65,          1,         29,         29,2,20040709,       1137,    29.9997,   167.4243,       5952,   323.6,  14.7328,  34.5827,2,  34.5851,2, 209.4000,2,   210.0,2,    8.74,2,    8.31,2,    0.01,2,    0.59,2,   2.635,2,   1.515,2,   0.070,2,  2055.7,2,  2276.7,2,-999.000,9,-999.0000,9, -999.00,9, -999.00,9,  -999.0,9,  -999.0,-999.000,9,-999.000, -999.00,9,  323.60,-999.0000,9,-999.0000,9,-999.0000,9,-999.0000,9,-999.0000,9,-999.0000,-999.000,-999.0000,9, -999.00
318M20040615,        P02,      65,          1,         28,         28,2,20040709,       1137,    29.9997,   167.4243,       5952,   373.2,  13.7614,  34.5045,2,  34.5054,2, 207.7000,2,   209.3,2,   11.08,2,    9.92,2,    0.01,2,    0.69,2,   2.717,2,   1.564,2,   0.077,2,  -999.0,9,  -999.0,9,-999.000,9,-999.0000,9, -999.00,9, -999.00,9,  -999.0,9,  -999.0,-999.000,9,-999.000, -999.00,9,  373.20,-999.0000,9,-999.0000,9,-999.0000,9,-999.0000,9,-999.0000,9,-999.0000,-999.000,-999.0000,9, -999.00
318M20040615,        P02,      65,          1,         27,         27,2,20040709,       1137,    29.9997,   167.4243,       5952,   428.9,  12.4559,  34.4047,2,  34.4047,2, 200.6000,2,   203.1,2,   15.07,2,   12.45,2,    0.00,2,    0.88,2,   2.796,2,   1.560,2,   0.076,2,  -999.0,9,  -999.0,9,-999.000,9,-999.0000,9, -999.00,9, -999.00,9,  -999.0,9,  -999.0,-999.000,9,-999.000, -999.00,9,  428.90,-999.0000,9,-999.0000,9,-999.0000,9,-999.0000,9,-999.0000,9,-999.0000,-999.000,-999.0000,9, -999.00
318M20040615,        P02,      65,          1,         26,         26,2,20040709,       1137,    29.9997,   167.4243,       5952,   478.4,  11.1522,  34.3105,2,  34.3123,2, 198.2000,2,   199.5,2,   20.32,2,   15.13,2,    0.00,2,    1.07,2,   2.796,2,   1.556,2,   0.092,2,  -999.0,9,  -999.0,9,-999.000,9,-999.0000,9, -999.00,9, -999.00,9,  -999.0,9,  -999.0,-999.000,9,-999.000, -999.00,9,  478.40,-999.0000,9,-999.0000,9,-999.0000,9,-999.0000,9,-999.0000,9,-999.0000,-999.000,-999.0000,9, -999.00
318M20040615,        P02,      65,          1,         25,         25,2,20040709,       1137,    29.9997,   167.4243,       5952,   548.4,   9.3150,  34.1637,2,  34.1632,2, 191.7000,2,   193.2,2,   29.03,2,   18.80,2,    0.00,2,    1.35,2,   3.127,3,   1.547,2,   0.187,3,  -999.0,9,  -999.0,9,-999.000,9,-999.0000,9, -999.00,9, -999.00,9,  -999.0,9,  -999.0,-999.000,9,-999.000, -999.00,9,  548.40,-999.0000,9,-999.0000,9,-999.0000,9,-999.0000,9,-999.0000,9,-999.0000,-999.000,-999.0000,9, -999.00
318M20040615,        P02,      65,          1,         24,         24,2,20040709,       1137,    29.9997,   167.4243,       5952,   647.6,   6.5467,  33.9893,2,  33.9896,2, 164.6000,2,   164.1,2,   49.64,2,   26.23,2,    0.00,2,    1.93,2,   2.624,2,   1.352,2,   0.098,3,  2191.2,2,  2281.2,2,-999.000,9,-999.0000,9, -999.00,9, -999.00,9,  -999.0,9,  -999.0,-999.000,9,-999.000, -999.00,9,  647.60,-999.0000,9,-999.0000,9,-999.0000,9,-999.0000,9,-999.0000,9,-999.0000,-999.000,-999.0000,9, -999.00
318M20040615,        P02,      65,          1,         23,         23,2,20040709,       1137,    29.9997,   167.4243,       5952,   752.7,   5.1887,  34.0481,2,  34.0478,2, 105.2000,2,   104.9,2,   75.71,2,   34.03,2,    0.00,2,    2.48,2,   1.673,6,   0.820,6,   0.059,3,  -999.0,9,  -999.0,9,-999.000,9,-999.0000,9, -999.00,9, -999.00,9,  -999.0,9,  -999.0,-999.000,9,-999.000, -999.00,9,  752.70,-999.0000,9,-999.0000,9,-999.0000,9,-999.0000,9,-999.0000,9,-999.0000,-999.000,-999.0000,9, -999.00
318M20040615,        P02,      65,          1,         22,         22,2,20040709,       1137,    29.9997,   167.4243,       5952,   851.5,   4.4712,  34.1505,2,  34.1513,2,  65.0000,2,    66.1,2,   96.34,2,   38.54,2,    0.00,2,    2.79,2,   0.888,2,   0.440,2,   0.020,3,  -999.0,9,  -999.0,9,-999.000,9,-999.0000,9, -999.00,9, -999.00,9,  -999.0,9,  -999.0,-999.000,9,-999.000, -999.00,9,  851.50,-999.0000,9,-999.0000,9,-999.0000,9,-999.0000,9,-999.0000,9,-999.0000,-999.000,-999.0000,9, -999.00
318M20040615,        P02,      65,          1,         21,         21,2,20040709,       1137,    29.9997,   167.4243,       5952,   966.8,   3.8815,  34.2500,2,  34.2521,2,  45.7000,2,    44.5,2,  114.08,2,   41.18,2,    0.00,2,    2.96,2,   0.398,2,   0.194,2,   0.011,3,  -999.0,9,  -999.0,9,-999.000,9,-999.0000,9, -999.00,9, -999.00,9,  -999.0,9,  -999.0,-999.000,9,-999.000, -999.00,9,  966.80,-999.0000,9,-999.0000,9,-999.0000,9,-999.0000,9,-999.0000,9,-999.0000,-999.000,-999.0000,9, -999.00
318M20040615,        P02,      65,          1,         20,         20,2,20040709,       1137,    29.9997,   167.4243,       5952,  1085.3,   3.4976,  34.3274,2,  34.3274,2,  34.1000,2,    33.8,2,  125.73,2,   42.46,2,    0.00,2,    3.05,2,   0.160,2,   0.066,2,  -0.008,3,  -999.0,9,  -999.0,9,-999.000,9,-999.0000,9, -999.00,9, -999.00,9,  -999.0,9,  -999.0,-999.000,9,-999.000, -999.00,9, 1085.30,-999.0000,9,-999.0000,9,-999.0000,9,-999.0000,9,-999.0000,9,-999.0000,-999.000,-999.0000,9, -999.00
318M20040615,        P02,      65,          1,         19,         19,2,20040709,       1137,    29.9997,   167.4243,       5952,  1166.2,   3.2918,  34.3740,2,  34.3735,2,  29.1000,2,    29.7,2,  132.17,2,   43.08,2,    0.00,2,    3.10,2,   0.074,2,   0.035,2,  -0.007,3,  2363.4,2,  2370.7,2,-999.000,9,-999.0000,9, -999.00,9, -999.00,9,  -999.0,9,  -999.0,-999.000,9,-999.000, -999.00,9, 1166.20,-999.0000,9,-999.0000,9,-999.0000,9,-999.0000,9,-999.0000,9,-999.0000,-999.000,-999.0000,9, -999.00
318M20040615,        P02,      65,          1,         18,         18,2,20040709,       1137,    29.9997,   167.4243,       5952,  1255.3,   3.0627,  34.4172,2,  34.4175,2,  29.5000,2,    30.1,2,  138.80,2,   43.30,2,    0.00,2,    3.11,2,   0.041,2,   0.022,2,  -0.008,3,  2370.0,2,  2379.8,2,-999.000,9,-999.0000,9, -999.00,9, -999.00,9,  -999.0,9,  -999.0,-999.000,9,-999.000, -999.00,9, 1255.30,-999.0000,9,-999.0000,9,-999.0000,9,-999.0000,9,-999.0000,9,-999.0000,-999.000,-999.0000,9, -999.00
318M20040615,        P02,      65,          1,         17,         17,2,20040709,       1137,    29.9997,   167.4243,       5952,  1350.4,   2.8538,  34.4545,2,  34.4553,2,  32.5000,2,    32.4,2,  144.69,2,   43.53,2,    0.00,2,    3.11,2,   0.025,2,   0.012,2,  -0.005,3,  -999.0,9,  -999.0,9,-999.000,9,-999.0000,9, -999.00,9, -999.00,9,  -999.0,9,  -999.0,-999.000,9,-999.000, -999.00,9, 1350.40,-999.0000,9,-999.0000,9,-999.0000,9,-999.0000,9,-999.0000,9,-999.0000,-999.000,-999.0000,9, -999.00
318M20040615,        P02,      65,          1,         16,         16,2,20040709,       1137,    29.9997,   167.4243,       5952,  1459.3,   2.6279,  34.4916,2,  34.4922,2,  38.1000,2,    38.7,2,  150.39,2,   43.47,2,    0.00,2,    3.08,2,   0.019,2,   0.013,2,   0.000,3,  -999.0,9,  -999.0,9,-999.000,9,-999.0000,9, -999.00,9, -999.00,9,  -999.0,9,  -999.0,-999.000,9,-999.000, -999.00,9, 1459.30,-999.0000,9,-999.0000,9,-999.0000,9,-999.0000,9,-999.0000,9,-999.0000,-999.000,-999.0000,9, -999.00
318M20040615,        P02,      65,          1,         15,         15,2,20040709,       1137,    29.9997,   167.4243,       5952,  1559.5,   2.4748,  34.5219,2,  34.5217,2,  47.3000,2,    46.5,2,  153.51,2,   42.99,2,    0.00,2,    3.04,2,   0.011,2,   0.005,2,   0.008,3,  -999.0,9,  2398.6,2,-999.000,9,-999.0000,9, -999.00,9, -999.00,9,  -999.0,9,  -999.0,-999.000,9,-999.000, -999.00,9, 1559.50,-999.0000,9,-999.0000,9,-999.0000,9,-999.0000,9,-999.0000,9,-999.0000,-999.000,-999.0000,9, -999.00
318M20040615,        P02,      65,          1,         14,         14,2,20040709,       1137,    29.9997,   167.4243,       5952,  1742.8,   2.2741,  34.5550,2,  34.5563,2,  59.8000,2,    57.6,2,  156.84,2,   42.25,2,    0.00,2,    2.98,2,   0.007,2,   0.003,2,   0.002,3,  -999.0,9,  -999.0,9,-999.000,9,-999.0000,9, -999.00,9, -999.00,9,  -999.0,9,  -999.0,-999.000,9,-999.000, -999.00,9, 1742.80,-999.0000,9,-999.0000,9,-999.0000,9,-999.0000,9,-999.0000,9,-999.0000,-999.000,-999.0000,9, -999.00
318M20040615,        P02,      65,          1,         13,         13,2,20040709,       1137,    29.9997,   167.4243,       5952,  1933.9,   2.0554,  34.5842,2,  34.5853,2,  74.7000,2,    68.4,2,  161.44,2,   41.43,2,    0.00,2,    2.93,2,   0.006,2,   0.001,2,   0.008,3,  -999.0,9,  2409.9,2,-999.000,9,-999.0000,9, -999.00,9, -999.00,9,  -999.0,9,  -999.0,-999.000,9,-999.000, -999.00,9, 1933.90,-999.0000,9,-999.0000,9,-999.0000,9,-999.0000,9,-999.0000,9,-999.0000,-999.000,-999.0000,9, -999.00
318M20040615,        P02,      65,          1,         12,         12,2,20040709,       1137,    29.9997,   167.4243,       5952,  2098.2,   1.9222,  34.6052,2,  34.6069,2,  83.1000,2,    81.7,2,  161.23,2,   40.68,2,    0.00,2,    2.87,2,   0.001,2,   0.001,2,  -0.001,2,  -999.0,9,  -999.0,9,-999.000,9,-999.0000,9, -999.00,9, -999.00,9,  -999.0,9,  -999.0,-999.000,9,-999.000, -999.00,9, 2098.20,-999.0000,9,-999.0000,9,-999.0000,9,-999.0000,9,-999.0000,9,-999.0000,-999.000,-999.0000,9, -999.00
318M20040615,        P02,      65,          1,         11,         11,2,20040709,       1137,    29.9997,   167.4243,       5952,  2360.9,   1.7641,  34.6306,2,  34.6319,2,  99.4000,2,    99.8,2,  159.81,2,   39.44,2,    0.00,2,    2.78,2,   0.000,2,   0.001,2,  -0.001,2,  -999.0,9,  2415.0,2,-999.000,9,-999.0000,9, -999.00,9, -999.00,9,  -999.0,9,  -999.0,-999.000,9,-999.000, -999.00,9, 2360.90,-999.0000,9,-999.0000,9,-999.0000,9,-999.0000,9,-999.0000,9,-999.0000,-999.000,-999.0000,9, -999.00
318M20040615,        P02,      65,          1,         10,         10,2,20040709,       1137,    29.9997,   167.4243,       5952,  2625.5,   1.6442,  34.6498,2,  34.6508,2, 112.9000,2,   116.5,3,  156.90,2,   38.30,2,    0.00,2,    2.70,2,   0.005,2,   0.002,2,  -0.001,2,  -999.0,9,  -999.0,9,-999.000,9,-999.0000,9, -999.00,9, -999.00,9,  -999.0,9,  -999.0,-999.000,9,-999.000, -999.00,9, 2625.50,-999.0000,9,-999.0000,9,-999.0000,9,-999.0000,9,-999.0000,9,-999.0000,-999.000,-999.0000,9, -999.00
318M20040615,        P02,      65,          1,          9,          9,2,20040709,       1137,    29.9997,   167.4243,       5952,  2880.7,   1.5783,  34.6598,2,  34.6604,2, 124.3000,2,   125.2,2,  155.75,2,   37.72,2,    0.00,2,    2.65,2,   0.003,2,   0.000,2,   0.003,2,  -999.0,9,  2416.0,2,-999.000,9,-999.0000,9, -999.00,9, -999.00,9,  -999.0,9,  -999.0,-999.000,9,-999.000, -999.00,9, 2880.70,-999.0000,9,-999.0000,9,-999.0000,9,-999.0000,9,-999.0000,9,-999.0000,-999.000,-999.0000,9, -999.00
318M20040615,        P02,      65,          1,          8,          8,2,20040709,       1137,    29.9997,   167.4243,       5952,  3136.8,   1.5365,  34.6674,2,  34.6688,2, 132.1000,3,   133.5,2,  153.88,2,   37.21,2,    0.00,2,    2.61,2,   0.003,2,   0.001,2,   0.000,2,  -999.0,9,  2415.2,2,-999.000,9,-999.0000,9, -999.00,9, -999.00,9,  -999.0,9,  -999.0,-999.000,9,-999.000, -999.00,9, 3136.80,-999.0000,9,-999.0000,9,-999.0000,9,-999.0000,9,-999.0000,9,-999.0000,-999.000,-999.0000,9, -999.00
318M20040615,        P02,      65,          1,          7,          7,2,20040709,       1137,    29.9997,   167.4243,       5952,  3549.7,   1.4972,  34.6756,2,  34.6773,2, 141.4000,3,   142.0,2,  151.65,2,   36.70,2,    0.00,2,    2.56,2,   0.004,2,  -0.002,2,   0.001,2,  -999.0,9,  2414.5,2,-999.000,9,-999.0000,9, -999.00,9, -999.00,9,  -999.0,9,  -999.0,-999.000,9,-999.000, -999.00,9, 3549.70,-999.0000,9,-999.0000,9,-999.0000,9,-999.0000,9,-999.0000,9,-999.0000,-999.000,-999.0000,9, -999.00
318M20040615,        P02,      65,          1,          6,          6,2,20040709,       1137,    29.9997,   167.4243,       5952,  3966.8,   1.4744,  34.6821,2,  34.6838,2, 149.3000,3,   149.9,2,  149.46,2,   36.30,2,    0.00,2,    2.52,2,   0.003,2,   0.000,2,   0.001,2,  -999.0,9,  2414.0,2,-999.000,9,-999.0000,9, -999.00,9, -999.00,9,  -999.0,9,  -999.0,-999.000,9,-999.000, -999.00,9, 3966.80,-999.0000,9,-999.0000,9,-999.0000,9,-999.0000,9,-999.0000,9,-999.0000,-999.000,-999.0000,9, -999.00
318M20040615,        P02,      65,          1,          5,          5,2,20040709,       1137,    29.9997,   167.4243,       5952,  4374.9,   1.4697,  34.6867,2,  34.6899,2, 155.4000,3,   155.7,2,  147.79,2,   35.91,2,    0.00,2,    2.49,2,   0.004,2,   0.000,2,  -0.001,2,  -999.0,9,  2411.8,2,-999.000,9,-999.0000,9, -999.00,9, -999.00,9,  -999.0,9,  -999.0,-999.000,9,-999.000, -999.00,9, 4374.90,-999.0000,9,-999.0000,9,-999.0000,9,-999.0000,9,-999.0000,9,-999.0000,-999.000,-999.0000,9, -999.00
318M20040615,        P02,      65,          1,          4,          4,2,20040709,       1137,    29.9997,   167.4243,       5952,  4784.6,   1.4778,  34.6905,2,  34.6920,2, 162.8000,3,   162.9,2,  142.79,2,   35.28,2,    0.00,2,    2.45,2,   0.005,2,   0.001,2,  -0.001,2,  -999.0,9,  2408.5,2,-999.000,9,-999.0000,9, -999.00,9, -999.00,9,  -999.0,9,  -999.0,-999.000,9,-999.000, -999.00,9, 4784.60,-999.0000,9,-999.0000,9,-999.0000,9,-999.0000,9,-999.0000,9,-999.0000,-999.000,-999.0000,9, -999.00
318M20040615,        P02,      65,          1,          3,          3,2,20040709,       1137,    29.9997,   167.4243,       5952,  5193.3,   1.4944,  34.6935,2,  34.6948,2, 168.5000,3,   169.1,2,  138.92,2,   34.83,2,    0.00,2,    2.42,2,   0.004,2,   0.003,2,  -0.001,2,  -999.0,9,  2404.8,2,-999.000,9,-999.0000,9, -999.00,9, -999.00,9,  -999.0,9,  -999.0,-999.000,9,-999.000, -999.00,9, 5193.30,-999.0000,9,-999.0000,9,-999.0000,9,-999.0000,9,-999.0000,9,-999.0000,-999.000,-999.0000,9, -999.00
318M20040615,        P02,      65,          1,          2,          2,2,20040709,       1137,    29.9997,   167.4243,       5952,  5592.3,   1.5181,  34.6955,2,  34.6969,2, 172.2000,3,   172.7,2,  136.52,2,   34.56,2,    0.00,2,    2.39,2,   0.005,2,   0.003,2,  -0.001,2,  -999.0,9,  2402.0,2,-999.000,9,-999.0000,9, -999.00,9, -999.00,9,  -999.0,9,  -999.0,-999.000,9,-999.000, -999.00,9, 5592.30,-999.0000,9,-999.0000,9,-999.0000,9,-999.0000,9,-999.0000,9,-999.0000,-999.000,-999.0000,9, -999.00
318M20040615,        P02,      65,          1,          1,          1,2,20040709,       1137,    29.9997,   167.4243,       5952,  6104.0,   1.5550,  34.6976,2,  34.6993,2, 176.7000,3,   177.4,2,  133.43,2,   34.17,2,    0.00,2,    2.38,2,   0.008,2,   0.001,2,   0.002,2,  -999.0,9,  2398.8,6,-999.000,9,-999.0000,9, -999.00,9, -999.00,9,  -999.0,9,  -999.0,-999.000,9,-999.000, -999.00,9, 6104.00,-999.0000,9,-999.0000,9,-999.0000,9,-999.0000,9,-999.0000,9,-999.0000,-999.000,-999.0000,9, -999.00