BOTTLE,20131027SIOCCHRJL
EXPOCODE,SECT_ID,STNNBR,CASTNO,SAMPNO,BTLNBR,BTLNBR_FLAG_W,DATE,TIME,LATITUDE,LONGITUDE,DEPTH,CTDPRS,CTDTMP,CTDSAL,CTDSAL_FLAG_W,SALNTY,SALNTY_FLAG_W,CTDOXY,CTDOXY_FLAG_W,OXYGEN,OXYGEN_FLAG_W,SILCAT,SILCAT_FLAG_W,NITRAT,NITRAT_FLAG_W,NITRIT,NITRIT_FLAG_W,PHSPHT,PHSPHT_FLAG_W,CFC-11,CFC-11_FLAG_W,CFC-12,CFC-12_FLAG_W,CFC113,CFC113_FLAG_W,TCARBN,TCARBN_FLAG_W,ALKALI,ALKALI_FLAG_W,TRITUM,TRITUM_FLAG_W,HELIUM,HELIUM_FLAG_W,DELHE3,DELHE3_FLAG_W,DELC13,DELC13_FLAG_W,DELC14,DELC14_FLAG_W,C14ERR,NEON,NEON_FLAG_W,NEONER,DOC,DOC_FLAG_W,CTDRAW,CDOM380,CDOM380_FLAG_W,CDOM325,CDOM325_FLAG_W,CDOMSL,CDOMSL_FLAG_W,CDOM340,CDOM340_FLAG_W,CDOMSN,CDOMSN_FLAG_W,HELIER,TRITER,CDOM412,CDOM412_FLAG_W,DELHER
,,,,,,,,,,,METERS,DBAR,ITS-90,PSS-78,,PSS-78,,UMOL/KG,,UMOL/KG,,UMOL/KG,,UMOL/KG,,UMOL/KG,,UMOL/KG,,PMOL/KG,,PMOL/KG,,PMOL/KG,,UMOL/KG,,UMOL/KG,,TU,,NMOL/KG,,PERCNT,,/MILLE,,/MILLE,,/MILLE,NMOL/KG,,NMOL/KG,UMOL/KG,,DBAR,1/M,,1/M,,1/NM,,1/M,,1/NM,,NMOL/KG,TU,1/M,,PERCNT
318M20040615,        P02,     108,          2,         36,         36,2,20040723,       0351,    29.9905,  -165.1227,       5326,     8.7,  25.1335,  35.4143,2,  35.4141,2, 213.0000,2,   211.8,2,    1.52,2,    0.13,2,    0.00,2,    0.03,2,   1.832,6,   1.135,6,   0.137,6,  2011.2,6,  2325.7,6,-999.000,9,-999.0000,9, -999.00,9, -999.00,9,  -999.0,9,  -999.0,-999.000,9,-999.000,   67.80,2,    8.70,   0.0290,2,   0.0890,2,   0.0220,2,   0.0620,2,   0.0230,2,-999.0000,-999.000,   0.0210,2, -999.00
318M20040615,        P02,     108,          2,         35,         35,2,20040723,       0351,    29.9905,  -165.1227,       5326,    41.2,  22.1306,  35.3106,2,  35.3204,2, 230.0000,2,   230.1,2,    1.52,2,    0.13,2,    0.00,2,    0.03,2,   2.092,2,   1.278,2,   0.143,2,  2012.3,2,  2319.9,2,-999.000,9,-999.0000,9, -999.00,9, -999.00,9,  -999.0,9,  -999.0,-999.000,9,-999.000,   63.60,2,   41.20,-999.0000,9,-999.0000,9,-999.0000,9,-999.0000,9,-999.0000,9,-999.0000,-999.000,-999.0000,9, -999.00
318M20040615,        P02,     108,          2,         34,         34,2,20040723,       0351,    29.9905,  -165.1227,       5326,    85.7,  18.4525,  34.9741,2,  34.9787,2, 233.0000,2,   237.2,2,    2.11,2,    0.12,2,    0.00,2,    0.08,2,   2.445,2,   1.447,2,   0.157,2,  2017.2,2,  2298.0,2,-999.000,9,-999.0000,9, -999.00,9, -999.00,9,  -999.0,9,  -999.0,-999.000,9,-999.000,   58.90,2,   85.70,   0.0420,2,   0.1290,2,   0.0190,2,   0.0930,2,   0.0200,2,-999.0000,-999.000,   0.0260,2, -999.00
318M20040615,        P02,     108,          2,         33,         33,2,20040723,       0351,    29.9905,  -165.1227,       5326,   135.7,  16.8015,  34.8021,2,  34.8018,2, 225.5000,2,   231.6,2,    2.92,2,    1.09,2,    0.20,2,    0.17,2,   2.564,2,   1.516,2,   0.165,2,  2028.1,2,  2286.2,2,-999.000,9,-999.0000,9, -999.00,9, -999.00,9,  -999.0,9,  -999.0,-999.000,9,-999.000,   55.80,2,  135.70,-999.0000,9,-999.0000,9,-999.0000,9,-999.0000,9,-999.0000,9,-999.0000,-999.000,-999.0000,9, -999.00
318M20040615,        P02,     108,          2,         32,         32,2,20040723,       0351,    29.9905,  -165.1227,       5326,   184.9,  16.0075,  34.7105,2,  34.7120,2, 223.0000,2,   230.0,2,    3.51,2,    2.64,2,    0.01,2,    0.24,2,   2.654,2,   1.569,2,   0.170,2,  2031.8,2,  2280.1,2,-999.000,9,-999.0000,9, -999.00,9, -999.00,9,  -999.0,9,  -999.0,-999.000,9,-999.000,   53.70,2,  184.90,   0.0490,2,   0.1210,2,   0.0140,2,   0.0910,2,   0.0150,2,-999.0000,-999.000,   0.0360,2, -999.00
318M20040615,        P02,     108,          2,         31,         31,2,20040723,       0351,    29.9905,  -165.1227,       5326,   234.7,  14.9937,  34.5768,2,  34.5756,2, 226.5000,2,   228.9,2,    5.12,2,    4.63,2,    0.01,2,    0.37,2,   2.761,2,   1.597,2,   0.148,2,  2048.5,3,  2272.8,2,-999.000,9,-999.0000,9, -999.00,9, -999.00,9,  -999.0,9,  -999.0,-999.000,9,-999.000,   52.50,2,  234.70,   0.0500,3,   0.1200,3,   0.0130,3,   0.0900,3,   0.0140,3,-999.0000,-999.000,   0.0380,3, -999.00
318M20040615,        P02,     108,          2,         30,         30,2,20040723,       0351,    29.9905,  -165.1227,       5326,   284.0,  13.6978,  34.4305,2,  34.4311,2, 216.2000,2,   216.6,2,    8.15,2,    8.37,2,    0.01,2,    0.61,2,   2.905,2,   1.636,2,   0.073,2,  2061.4,2,  2265.9,2,-999.000,9,-999.0000,9, -999.00,9, -999.00,9,  -999.0,9,  -999.0,-999.000,9,-999.000,   50.90,2,  284.00,   0.0310,2,   0.0920,2,   0.0200,2,   0.0650,2,   0.0210,2,-999.0000,-999.000,   0.0210,2, -999.00
318M20040615,        P02,     108,          2,         29,         29,2,20040723,       0351,    29.9905,  -165.1227,       5326,   334.3,  12.2619,  34.3072,2,  34.3084,2, 216.4000,2,   215.0,2,   11.19,2,   10.89,2,    0.01,2,    0.78,2,   3.105,2,   1.708,2,   0.075,2,  2076.6,2,  2262.5,2,-999.000,9,-999.0000,9, -999.00,9, -999.00,9,  -999.0,9,  -999.0,-999.000,9,-999.000,   50.00,2,  334.30,   0.0540,2,   0.1330,2,   0.0130,2,   0.0980,2,   0.0150,2,-999.0000,-999.000,   0.0390,2, -999.00
318M20040615,        P02,     108,          2,         28,         28,2,20040723,       0351,    29.9905,  -165.1227,       5326,   384.4,  11.2967,  34.2506,2,  34.2503,2, 211.7000,2,   211.0,2,   14.64,2,   13.22,2,    0.01,2,    0.95,2,   3.136,2,   1.694,2,   0.076,2,  2090.5,2,  2262.7,2,-999.000,9,-999.0000,9, -999.00,9, -999.00,9,  -999.0,9,  -999.0,-999.000,9,-999.000,   48.80,2,  384.40,   0.0340,2,   0.1050,2,   0.0200,2,   0.0730,2,   0.0210,2,-999.0000,-999.000,   0.0240,2, -999.00
318M20040615,        P02,     108,          2,         27,         27,2,20040723,       0351,    29.9905,  -165.1227,       5326,   434.3,  10.2631,  34.1924,2,  34.1915,2, 204.9000,2,   203.7,2,   19.74,2,   16.00,2,    0.01,2,    1.15,2,   3.074,2,   1.640,2,   0.085,2,  2109.5,2,  2265.0,2,-999.000,9,-999.0000,9, -999.00,9, -999.00,9,  -999.0,9,  -999.0,-999.000,9,-999.000,   47.50,2,  434.30,-999.0000,9,-999.0000,9,-999.0000,9,-999.0000,9,-999.0000,9,-999.0000,-999.000,-999.0000,9, -999.00
318M20040615,        P02,     108,          2,         26,         26,2,20040723,       0351,    29.9905,  -165.1227,       5326,   484.5,   9.3874,  34.1415,2,  34.1403,2, 191.9000,2,   191.8,2,   25.28,2,   18.85,2,    0.01,2,    1.34,2,   2.897,2,   1.520,2,   0.092,2,  2129.5,2,  2267.2,2,-999.000,9,-999.0000,9, -999.00,9, -999.00,9,  -999.0,9,  -999.0,-999.000,9,-999.000,   46.90,2,  484.50,   0.0500,2,   0.1380,2,   0.0150,2,   0.0980,2,   0.0170,2,-999.0000,-999.000,   0.0360,2, -999.00
318M20040615,        P02,     108,          2,         25,         25,2,20040723,       0351,    29.9905,  -165.1227,       5326,   567.6,   7.7770,  34.0621,2,  34.0625,2, 158.8000,2,   158.5,2,   38.71,2,   24.85,2,    0.01,2,    1.78,2,   2.455,2,   1.256,2,   0.088,2,  2172.2,2,  2273.9,2,-999.000,9,-999.0000,9, -999.00,9, -999.00,9,  -999.0,9,  -999.0,-999.000,9,-999.000,   46.00,2,  567.60,-999.0000,9,-999.0000,9,-999.0000,9,-999.0000,9,-999.0000,9,-999.0000,-999.000,-999.0000,9, -999.00
318M20040615,        P02,     108,          2,         24,         24,2,20040723,       0351,    29.9905,  -165.1227,       5326,   669.7,   5.9735,  34.0379,2,  34.0378,2, 111.8000,2,   103.4,2,   63.40,2,   33.24,2,    0.01,2,    2.41,2,   1.400,2,   0.689,2,   0.043,2,  2239.6,2,  2292.0,2,-999.000,9,-999.0000,9, -999.00,9, -999.00,9,  -999.0,9,  -999.0,-999.000,9,-999.000,   44.40,2,  669.70,   0.0830,2,   0.2060,2,   0.0130,2,   0.1510,2,   0.0150,2,-999.0000,-999.000,   0.0600,2, -999.00
318M20040615,        P02,     108,          2,         23,         23,2,20040723,       0351,    29.9905,  -165.1227,       5326,   769.2,   4.8816,  34.0932,2,  34.0922,2,  67.6000,2,    64.1,2,   84.55,2,   38.52,2,    0.01,2,    2.78,2,   0.688,2,   0.339,2,   0.017,2,  2289.4,2,  2311.1,2,-999.000,9,-999.0000,9, -999.00,9, -999.00,9,  -999.0,9,  -999.0,-999.000,9,-999.000,   42.90,2,  769.20,-999.0000,9,-999.0000,9,-999.0000,9,-999.0000,9,-999.0000,9,-999.0000,-999.000,-999.0000,9, -999.00
318M20040615,        P02,     108,          2,         22,         22,2,20040723,       0351,    29.9905,  -165.1227,       5326,   869.5,   4.1667,  34.1723,2,  34.1744,2,  37.0000,2,    34.5,2,  104.75,2,   42.36,2,    0.01,2,    3.02,2,   0.251,2,   0.124,2,   0.005,2,  2316.8,3,  2331.9,2,-999.000,9,-999.0000,9, -999.00,9, -999.00,9,  -999.0,9,  -999.0,-999.000,9,-999.000,   41.40,2,  869.50,   0.1230,2,   0.2670,2,   0.0120,2,   0.2030,2,   0.0120,2,-999.0000,-999.000,   0.0930,2, -999.00
318M20040615,        P02,     108,          2,         21,         21,2,20040723,       0351,    29.9905,  -165.1227,       5326,   969.7,   3.7196,  34.2652,2,  34.2667,2,  20.0000,2,    17.8,2,  120.09,2,   44.30,2,    0.00,2,    3.15,2,   0.069,2,   0.036,2,   0.001,2,  2354.3,2,  2351.7,2,-999.000,9,-999.0000,9, -999.00,9, -999.00,9,  -999.0,9,  -999.0,-999.000,9,-999.000,   40.50,2,  969.70,-999.0000,9,-999.0000,9,-999.0000,9,-999.0000,9,-999.0000,9,-999.0000,-999.000,-999.0000,9, -999.00
318M20040615,        P02,     108,          2,         20,         20,2,20040723,       0351,    29.9905,  -165.1227,       5326,  1069.7,   3.4946,  34.3294,2,  34.3322,2,  13.7000,2,    13.5,2,  128.63,2,   44.86,2,    0.00,2,    3.20,2,   0.020,2,   0.009,2,   0.001,2,  2365.7,6,  2363.6,2,-999.000,9,-999.0000,9, -999.00,9, -999.00,9,  -999.0,9,  -999.0,-999.000,9,-999.000,   39.70,2, 1069.70,   0.1910,2,   0.3720,2,   0.0100,2,   0.2940,2,   0.0100,2,-999.0000,-999.000,   0.1500,2, -999.00
318M20040615,        P02,     108,          2,         19,         19,2,20040723,       0351,    29.9905,  -165.1227,       5326,  1170.4,   3.2380,  34.4045,2,  34.4031,2,  14.5000,2,    14.0,2,  136.94,2,   44.97,2,    0.00,2,    3.21,2,   0.013,2,   0.006,2,   0.001,2,  2376.6,2,  2375.8,2,-999.000,9,-999.0000,9, -999.00,9, -999.00,9,  -999.0,9,  -999.0,-999.000,9,-999.000,   38.90,2, 1170.40,-999.0000,9,-999.0000,9,-999.0000,9,-999.0000,9,-999.0000,9,-999.0000,-999.000,-999.0000,9, -999.00
318M20040615,        P02,     108,          2,         18,         18,2,20040723,       0351,    29.9905,  -165.1227,       5326,  1270.6,   3.0344,  34.4600,2,  34.4578,2,  21.1000,2,    20.5,2,  142.46,2,   44.52,2,    0.00,2,    3.19,2,   0.005,2,   0.003,2,   0.001,2,  2380.1,2,  2384.6,6,-999.000,9,-999.0000,9, -999.00,9, -999.00,9,  -999.0,9,  -999.0,-999.000,9,-999.000,   38.40,2, 1270.60,-999.0000,9,-999.0000,9,-999.0000,9,-999.0000,9,-999.0000,9,-999.0000,-999.000,-999.0000,9, -999.00
318M20040615,        P02,     108,          2,         17,         17,2,20040723,       0351,    29.9905,  -165.1227,       5326,  1370.9,   2.8559,  34.5011,2,  34.5014,2,  30.4000,2,    32.1,2,  146.29,2,   43.78,2,    0.00,2,    3.13,2,   0.003,2,   0.002,2,   0.001,2,  2379.0,2,  2392.3,2,-999.000,9,-999.0000,9, -999.00,9, -999.00,9,  -999.0,9,  -999.0,-999.000,9,-999.000,   38.20,2, 1370.90,-999.0000,9,-999.0000,9,-999.0000,9,-999.0000,9,-999.0000,9,-999.0000,-999.000,-999.0000,9, -999.00
318M20040615,        P02,     108,          2,         16,         16,2,20040723,       0351,    29.9905,  -165.1227,       5326,  1471.4,   2.6544,  34.5281,2,  34.5277,2,  39.2000,2,    36.6,2,  151.64,2,   43.57,2,    0.00,2,    3.12,2,   0.004,2,   0.002,2,   0.001,2,  2381.7,2,  2398.9,2,-999.000,9,-999.0000,9, -999.00,9, -999.00,9,  -999.0,9,  -999.0,-999.000,9,-999.000,   37.50,2, 1471.40,-999.0000,9,-999.0000,9,-999.0000,9,-999.0000,9,-999.0000,9,-999.0000,-999.000,-999.0000,9, -999.00
318M20040615,        P02,     108,          2,         15,         15,2,20040723,       0351,    29.9905,  -165.1227,       5326,  1571.7,   2.5164,  34.5541,2,  34.5534,2,  53.7000,2,    54.1,2,  151.64,2,   42.39,2,    0.01,2,    3.03,2,   0.005,2,   0.001,2,   0.001,2,  2372.5,2,  2402.9,2,-999.000,9,-999.0000,9, -999.00,9, -999.00,9,  -999.0,9,  -999.0,-999.000,9,-999.000,   37.40,2, 1571.70,-999.0000,9,-999.0000,9,-999.0000,9,-999.0000,9,-999.0000,9,-999.0000,-999.000,-999.0000,9, -999.00
318M20040615,        P02,     108,          2,         14,         14,2,20040723,       0351,    29.9905,  -165.1227,       5326,  1772.7,   2.2011,  34.5874,2,  34.5866,2,  66.7000,2,    67.6,2,  158.24,2,   41.51,2,    0.01,2,    2.96,2,   0.003,2,   0.000,2,   0.001,2,  2371.8,2,  2410.9,2,-999.000,9,-999.0000,9, -999.00,9, -999.00,9,  -999.0,9,  -999.0,-999.000,9,-999.000,   37.10,2, 1772.70,-999.0000,9,-999.0000,9,-999.0000,9,-999.0000,9,-999.0000,9,-999.0000,-999.000,-999.0000,9, -999.00
318M20040615,        P02,     108,          2,         13,         13,2,20040723,       0351,    29.9905,  -165.1227,       5326,  1974.0,   1.9857,  34.6103,2,  34.6101,2,  78.3000,2,    79.9,2,  162.05,2,   40.79,2,    0.01,2,    2.90,2,   0.005,2,   0.003,2,   0.001,2,  2368.5,2,  2416.1,2,-999.000,9,-999.0000,9, -999.00,9, -999.00,9,  -999.0,9,  -999.0,-999.000,9,-999.000,   37.80,2, 1974.00,   0.1130,2,   0.2560,2,   0.0120,2,   0.1960,2,   0.0130,2,-999.0000,-999.000,   0.0810,2, -999.00
318M20040615,        P02,     108,          2,         12,         12,2,20040723,       0351,    29.9905,  -165.1227,       5326,  2170.3,   1.8554,  34.6267,2,  34.6258,2,  88.2000,2,    89.0,2,  164.39,2,   40.51,2,    0.00,2,    2.86,2,   0.001,2,   0.001,2,   0.001,2,  2365.7,2,  2418.8,2,-999.000,9,-999.0000,9, -999.00,9, -999.00,9,  -999.0,9,  -999.0,-999.000,9,-999.000,   37.20,2, 2170.30,-999.0000,9,-999.0000,9,-999.0000,9,-999.0000,9,-999.0000,9,-999.0000,-999.000,-999.0000,9, -999.00
318M20040615,        P02,     108,          2,         11,         11,2,20040723,       0351,    29.9905,  -165.1227,       5326,  2422.6,   1.7350,  34.6407,2,  34.6395,2,  98.5000,2,    99.2,2,  165.46,2,   40.02,2,    0.00,2,    2.80,2,   0.006,2,   0.003,2,   0.001,2,  2361.1,2,  2420.8,2,-999.000,9,-999.0000,9, -999.00,9, -999.00,9,  -999.0,9,  -999.0,-999.000,9,-999.000,   37.20,2, 2422.60,-999.0000,9,-999.0000,9,-999.0000,9,-999.0000,9,-999.0000,9,-999.0000,-999.000,-999.0000,9, -999.00
318M20040615,        P02,     108,          2,         10,         10,2,20040723,       0351,    29.9905,  -165.1227,       5326,  2674.1,   1.6356,  34.6522,2,  34.6511,2, 109.2000,2,   109.9,2,  165.46,2,   39.25,2,    0.00,2,    2.74,2,   0.004,2,   0.000,2,   0.001,2,  2354.8,2,  2422.0,2,-999.000,9,-999.0000,9, -999.00,9, -999.00,9,  -999.0,9,  -999.0,-999.000,9,-999.000,   37.30,2, 2674.10,-999.0000,9,-999.0000,9,-999.0000,9,-999.0000,9,-999.0000,9,-999.0000,-999.000,-999.0000,9, -999.00
318M20040615,        P02,     108,          2,          9,          9,2,20040723,       0351,    29.9905,  -165.1227,       5326,  2920.9,   1.5712,  34.6612,2,  34.6601,2, 118.5000,2,   119.3,2,  164.20,2,   38.54,2,    0.00,2,    2.69,2,   0.003,2,  -0.001,2,   0.001,2,  2349.0,2,  2422.4,2,-999.000,9,-999.0000,9, -999.00,9, -999.00,9,  -999.0,9,  -999.0,-999.000,9,-999.000,   37.60,2, 2920.90,   0.0740,2,   0.1840,2,   0.0130,2,   0.1330,2,   0.0150,2,-999.0000,-999.000,   0.0540,2, -999.00
318M20040615,        P02,     108,          2,          8,          8,2,20040723,       0351,    29.9905,  -165.1227,       5326,  3249.9,   1.5130,  34.6704,2,  34.6688,2, 129.4000,2,   130.7,2,  161.45,2,   37.77,2,    0.00,2,    2.63,2,   0.005,2,   0.001,2,   0.001,2,  2341.8,2,  2422.4,2,-999.000,9,-999.0000,9, -999.00,9, -999.00,9,  -999.0,9,  -999.0,-999.000,9,-999.000,   37.40,2, 3249.90,-999.0000,9,-999.0000,9,-999.0000,9,-999.0000,9,-999.0000,9,-999.0000,-999.000,-999.0000,9, -999.00
318M20040615,        P02,     108,          2,          7,          7,2,20040723,       0351,    29.9905,  -165.1227,       5326,  3548.8,   1.4789,  34.6772,2,  34.6762,2, 137.5000,2,   138.7,2,  159.13,2,   37.17,2,    0.00,2,    2.59,2,   0.004,2,   0.002,2,   0.001,2,  2336.9,2,  2422.7,2,-999.000,9,-999.0000,9, -999.00,9, -999.00,9,  -999.0,9,  -999.0,-999.000,9,-999.000,   37.50,2, 3548.80,-999.0000,9,-999.0000,9,-999.0000,9,-999.0000,9,-999.0000,9,-999.0000,-999.000,-999.0000,9, -999.00
318M20040615,        P02,     108,          2,          6,          6,2,20040723,       0351,    29.9905,  -165.1227,       5326,  3848.7,   1.4653,  34.6819,2,  34.6811,2, 144.1000,2,   144.8,2,  156.82,2,   36.69,2,    0.00,2,    2.55,2,   0.004,2,   0.001,2,   0.001,2,  2332.3,2,  2422.0,2,-999.000,9,-999.0000,9, -999.00,9, -999.00,9,  -999.0,9,  -999.0,-999.000,9,-999.000,   37.60,2, 3848.70,-999.0000,9,-999.0000,9,-999.0000,9,-999.0000,9,-999.0000,9,-999.0000,-999.000,-999.0000,9, -999.00
318M20040615,        P02,     108,          2,          5,          5,2,20040723,       0351,    29.9905,  -165.1227,       5326,  4148.0,   1.4717,  34.6847,2,  34.6831,2, 148.2000,2,   148.4,2,  156.60,2,   36.25,2,    0.00,2,    2.54,2,   0.004,2,   0.003,2,   0.001,2,  2330.0,2,  2420.9,6,-999.000,9,-999.0000,9, -999.00,9, -999.00,9,  -999.0,9,  -999.0,-999.000,9,-999.000,   37.60,2, 4148.00,-999.0000,9,-999.0000,9,-999.0000,9,-999.0000,9,-999.0000,9,-999.0000,-999.000,-999.0000,9, -999.00
318M20040615,        P02,     108,          2,          4,          4,2,20040723,       0351,    29.9905,  -165.1227,       5326,  4448.2,   1.4859,  34.6868,2,  34.6860,2, 151.1000,2,   151.2,2,  155.78,2,   36.10,2,    0.00,2,    2.52,2,   0.004,2,   0.005,2,   0.001,2,  2328.1,2,  2421.0,2,-999.000,9,-999.0000,9, -999.00,9, -999.00,9,  -999.0,9,  -999.0,-999.000,9,-999.000,   37.90,2, 4448.20,-999.0000,9,-999.0000,9,-999.0000,9,-999.0000,9,-999.0000,9,-999.0000,-999.000,-999.0000,9, -999.00
318M20040615,        P02,     108,          2,          3,          3,2,20040723,       0351,    29.9905,  -165.1227,       5326,  4800.1,   1.5108,  34.6885,2,  34.6872,2, 153.6000,2,   154.0,2,  153.88,2,   36.04,2,    0.00,2,    2.50,2,   0.007,2,   0.003,2,   0.001,2,  2326.1,2,  2420.3,2,-999.000,9,-999.0000,9, -999.00,9, -999.00,9,  -999.0,9,  -999.0,-999.000,9,-999.000,   37.80,2, 4800.10,-999.0000,9,-999.0000,9,-999.0000,9,-999.0000,9,-999.0000,9,-999.0000,-999.000,-999.0000,9, -999.00
318M20040615,        P02,     108,          2,          2,          2,2,20040723,       0351,    29.9905,  -165.1227,       5326,  5100.9,   1.5333,  34.6898,2,  34.6877,2, 156.7000,2,   157.3,2,  150.06,2,   35.98,2,    0.00,2,    2.49,2,   0.004,2,   0.004,2,   0.001,2,  2322.3,2,  2418.6,2,-999.000,9,-999.0000,9, -999.00,9, -999.00,9,  -999.0,9,  -999.0,-999.000,9,-999.000,   37.50,2, 5100.90,-999.0000,9,-999.0000,9,-999.0000,9,-999.0000,9,-999.0000,9,-999.0000,-999.000,-999.0000,9, -999.00
318M20040615,        P02,     108,          2,          1,          1,2,20040723,       0351,    29.9905,  -165.1227,       5326,  5443.5,   1.5590,  34.6913,2,  34.6909,2, 160.5000,2,   161.1,2,  146.23,2,   35.71,2,    0.00,2,    2.47,2,   0.005,2,   0.005,2,   0.001,2,  2320.0,6,  2415.4,6,-999.000,9,-999.0000,9, -999.00,9, -999.00,9,  -999.0,9,  -999.0,-999.000,9,-999.000,   37.60,2, 5443.50,-999.0000,9,-999.0000,9,-999.0000,9,-999.0000,9,-999.0000,9,-999.0000,-999.000,-999.0000,9, -999.00