BOTTLE,20131027SIOCCHRJL
EXPOCODE,SECT_ID,STNNBR,CASTNO,SAMPNO,BTLNBR,BTLNBR_FLAG_W,DATE,TIME,LATITUDE,LONGITUDE,DEPTH,CTDPRS,CTDTMP,CTDSAL,CTDSAL_FLAG_W,SALNTY,SALNTY_FLAG_W,CTDOXY,CTDOXY_FLAG_W,OXYGEN,OXYGEN_FLAG_W,SILCAT,SILCAT_FLAG_W,NITRAT,NITRAT_FLAG_W,NITRIT,NITRIT_FLAG_W,PHSPHT,PHSPHT_FLAG_W,CFC-11,CFC-11_FLAG_W,CFC-12,CFC-12_FLAG_W,CFC113,CFC113_FLAG_W,TCARBN,TCARBN_FLAG_W,ALKALI,ALKALI_FLAG_W,TRITUM,TRITUM_FLAG_W,HELIUM,HELIUM_FLAG_W,DELHE3,DELHE3_FLAG_W,DELC13,DELC13_FLAG_W,DELC14,DELC14_FLAG_W,C14ERR,NEON,NEON_FLAG_W,NEONER,DOC,DOC_FLAG_W,CTDRAW,CDOM380,CDOM380_FLAG_W,CDOM325,CDOM325_FLAG_W,CDOMSL,CDOMSL_FLAG_W,CDOM340,CDOM340_FLAG_W,CDOMSN,CDOMSN_FLAG_W,HELIER,TRITER,CDOM412,CDOM412_FLAG_W,DELHER
,,,,,,,,,,,METERS,DBAR,ITS-90,PSS-78,,PSS-78,,UMOL/KG,,UMOL/KG,,UMOL/KG,,UMOL/KG,,UMOL/KG,,UMOL/KG,,PMOL/KG,,PMOL/KG,,PMOL/KG,,UMOL/KG,,UMOL/KG,,TU,,NMOL/KG,,PERCNT,,/MILLE,,/MILLE,,/MILLE,NMOL/KG,,NMOL/KG,UMOL/KG,,DBAR,1/M,,1/M,,1/NM,,1/M,,1/NM,,NMOL/KG,TU,1/M,,PERCNT
318M20040615,        P02,     109,          1,         36,         36,2,20040731,       1606,    30.0015,  -166.4433,       5553,     6.6,  26.1452,  35.3544,2,  35.3528,2, 206.6000,2,   206.7,2,    1.10,2,   -0.01,2,    0.00,2,    0.04,2,   1.788,2,   1.092,2,   0.171,2,  2006.7,6,  2323.4,2,-999.000,9,-999.0000,9, -999.00,9, -999.00,9,  -999.0,9,  -999.0,-999.000,9,-999.000, -999.00,9,    6.60,-999.0000,9,-999.0000,9,-999.0000,9,-999.0000,9,-999.0000,9,-999.0000,-999.000,-999.0000,9, -999.00
318M20040615,        P02,     109,          1,         35,         35,2,20040731,       1606,    30.0015,  -166.4433,       5553,    51.8,  20.6148,  35.1557,2,  35.1465,2, 234.5000,2,   234.6,2,    1.50,2,    0.00,2,    0.00,2,    0.06,2,   2.300,2,   1.381,2,   0.148,2,  2010.6,2,  2310.3,2,-999.000,9,-999.0000,9, -999.00,9, -999.00,9,  -999.0,9,  -999.0,-999.000,9,-999.000, -999.00,9,   51.80,-999.0000,9,-999.0000,9,-999.0000,9,-999.0000,9,-999.0000,9,-999.0000,-999.000,-999.0000,9, -999.00
318M20040615,        P02,     109,          1,         34,         34,2,20040731,       1606,    30.0015,  -166.4433,       5553,   101.4,  17.7545,  34.8681,2,  34.8680,2, 220.0000,2,   219.7,2,    2.86,2,    1.30,2,    0.14,2,    0.20,2,   2.533,2,   1.464,2,   0.124,2,  2029.6,2,  2292.1,2,-999.000,9,-999.0000,9, -999.00,9, -999.00,9,  -999.0,9,  -999.0,-999.000,9,-999.000, -999.00,9,  101.40,-999.0000,9,-999.0000,9,-999.0000,9,-999.0000,9,-999.0000,9,-999.0000,-999.000,-999.0000,9, -999.00
318M20040615,        P02,     109,          1,         33,         33,2,20040731,       1606,    30.0015,  -166.4433,       5553,   151.4,  16.2283,  34.6868,2,  34.6861,2, 207.4000,2,   210.3,2,    4.61,2,    4.81,2,    0.02,2,    0.39,2,   2.679,2,   1.544,2,   0.097,2,  2044.7,2,  2281.9,2,-999.000,9,-999.0000,9, -999.00,9, -999.00,9,  -999.0,9,  -999.0,-999.000,9,-999.000, -999.00,9,  151.40,-999.0000,9,-999.0000,9,-999.0000,9,-999.0000,9,-999.0000,9,-999.0000,-999.000,-999.0000,9, -999.00
318M20040615,        P02,     109,          1,         32,         32,2,20040731,       1606,    30.0015,  -166.4433,       5553,   201.0,  14.7510,  34.5265,2,  34.5230,2, 209.3000,2,   209.4,2,    6.75,2,    7.16,2,    0.01,2,    0.55,2,   2.873,2,   1.609,2,   0.064,2,  2056.6,2,  2272.9,2,-999.000,9,-999.0000,9, -999.00,9, -999.00,9,  -999.0,9,  -999.0,-999.000,9,-999.000, -999.00,9,  201.00,-999.0000,9,-999.0000,9,-999.0000,9,-999.0000,9,-999.0000,9,-999.0000,-999.000,-999.0000,9, -999.00
318M20040615,        P02,     109,          1,         31,         31,2,20040731,       1606,    30.0015,  -166.4433,       5553,   256.4,  13.3937,  34.4064,2,  34.4076,2, 212.2000,2,   212.3,2,    8.88,2,    9.11,2,    0.01,2,    0.68,2,   3.030,2,   1.684,2,   0.074,2,  2067.3,2,  2268.1,2,-999.000,9,-999.0000,9, -999.00,9, -999.00,9,  -999.0,9,  -999.0,-999.000,9,-999.000, -999.00,9,  256.40,-999.0000,9,-999.0000,9,-999.0000,9,-999.0000,9,-999.0000,9,-999.0000,-999.000,-999.0000,9, -999.00
318M20040615,        P02,     109,          1,         30,         30,2,20040731,       1606,    30.0015,  -166.4433,       5553,   306.2,  12.5118,  34.3397,2,  34.3436,2, 212.1000,2,   213.8,2,   11.03,2,   10.70,2,    0.01,2,    0.79,2,   3.149,2,   1.730,2,   0.072,2,  2077.2,2,  2265.7,2,-999.000,9,-999.0000,9, -999.00,9, -999.00,9,  -999.0,9,  -999.0,-999.000,9,-999.000, -999.00,9,  306.20,-999.0000,9,-999.0000,9,-999.0000,9,-999.0000,9,-999.0000,9,-999.0000,-999.000,-999.0000,9, -999.00
318M20040615,        P02,     109,          1,         29,         29,2,20040731,       1606,    30.0015,  -166.4433,       5553,   355.8,  11.3217,  34.2608,2,  34.2585,2, 211.6000,2,   212.3,2,   14.53,2,   13.15,2,    0.01,2,    0.96,2,   3.218,2,   1.714,2,   0.092,2,  2091.8,2,  2266.5,2,-999.000,9,-999.0000,9, -999.00,9, -999.00,9,  -999.0,9,  -999.0,-999.000,9,-999.000, -999.00,9,  355.80,-999.0000,9,-999.0000,9,-999.0000,9,-999.0000,9,-999.0000,9,-999.0000,-999.000,-999.0000,9, -999.00
318M20040615,        P02,     109,          1,         28,         28,2,20040731,       1606,    30.0015,  -166.4433,       5553,   405.4,  10.4659,  34.2043,2,  34.2065,2, 203.3000,2,   206.1,2,   18.05,2,   15.31,2,    0.01,2,    1.11,2,   3.228,2,   1.689,2,   0.092,2,  2106.1,2,  2265.8,2,-999.000,9,-999.0000,9, -999.00,9, -999.00,9,  -999.0,9,  -999.0,-999.000,9,-999.000, -999.00,9,  405.40,-999.0000,9,-999.0000,9,-999.0000,9,-999.0000,9,-999.0000,9,-999.0000,-999.000,-999.0000,9, -999.00
318M20040615,        P02,     109,          1,         27,         27,2,20040731,       1606,    30.0015,  -166.4433,       5553,   455.8,   9.6727,  34.1547,2,  34.1494,2, 193.7000,2,   191.0,2,   23.51,2,   18.51,2,    0.01,2,    1.32,2,   3.177,2,   1.539,2,   0.084,2,  2126.2,2,  2267.8,2,-999.000,9,-999.0000,9, -999.00,9, -999.00,9,  -999.0,9,  -999.0,-999.000,9,-999.000, -999.00,9,  455.80,-999.0000,9,-999.0000,9,-999.0000,9,-999.0000,9,-999.0000,9,-999.0000,-999.000,-999.0000,9, -999.00
318M20040615,        P02,     109,          1,         26,         26,2,20040731,       1606,    30.0015,  -166.4433,       5553,   505.5,   8.5773,  34.0962,2,  34.0983,2, 177.9000,2,   172.2,2,   31.32,2,   22.27,2,    0.01,2,    1.60,2,   2.767,2,   1.410,2,   0.088,2,  2151.9,2,  2272.5,2,-999.000,9,-999.0000,9, -999.00,9, -999.00,9,  -999.0,9,  -999.0,-999.000,9,-999.000, -999.00,9,  505.50,-999.0000,9,-999.0000,9,-999.0000,9,-999.0000,9,-999.0000,9,-999.0000,-999.000,-999.0000,9, -999.00
318M20040615,        P02,     109,          1,         25,         25,2,20040731,       1606,    30.0015,  -166.4433,       5553,   605.6,   6.5861,  34.0231,2,  34.0222,2, 135.6000,2,   133.4,2,   52.71,2,   29.78,2,    0.00,2,    2.12,2,   2.056,2,   1.020,2,   0.090,2,  2210.1,2,  2286.7,2,-999.000,9,-999.0000,9, -999.00,9, -999.00,9,  -999.0,9,  -999.0,-999.000,9,-999.000, -999.00,9,  605.60,-999.0000,9,-999.0000,9,-999.0000,9,-999.0000,9,-999.0000,9,-999.0000,-999.000,-999.0000,9, -999.00
318M20040615,        P02,     109,          1,         24,         24,2,20040731,       1606,    30.0015,  -166.4433,       5553,   705.5,   5.3238,  34.0554,2,  34.0565,2,  86.3000,2,    83.2,2,   75.00,2,   36.42,2,    0.00,2,    2.62,2,   1.022,2,   0.523,2,   0.022,2,  2267.6,2,  2304.5,2,-999.000,9,-999.0000,9, -999.00,9, -999.00,9,  -999.0,9,  -999.0,-999.000,9,-999.000, -999.00,9,  705.50,-999.0000,9,-999.0000,9,-999.0000,9,-999.0000,9,-999.0000,9,-999.0000,-999.000,-999.0000,9, -999.00
318M20040615,        P02,     109,          1,         23,         23,2,20040731,       1606,    30.0015,  -166.4433,       5553,   805.5,   4.5751,  34.1340,2,  34.1353,2,  43.8000,2,    48.7,2,   93.23,2,   40.39,2,    0.00,2,    2.92,2,   0.421,2,   0.217,2,   0.015,2,  2308.2,2,  2323.0,2,-999.000,9,-999.0000,9, -999.00,9, -999.00,9,  -999.0,9,  -999.0,-999.000,9,-999.000, -999.00,9,  805.50,-999.0000,9,-999.0000,9,-999.0000,9,-999.0000,9,-999.0000,9,-999.0000,-999.000,-999.0000,9, -999.00
318M20040615,        P02,     109,          1,         22,         22,2,20040731,       1606,    30.0015,  -166.4433,       5553,   910.5,   4.1126,  34.2434,2,  34.2467,2,  28.3000,2,    30.4,2,  108.75,2,   42.65,2,    0.00,2,    3.09,2,   0.122,2,   0.060,2,   0.000,2,  2338.2,2,  2344.8,2,-999.000,9,-999.0000,9, -999.00,9, -999.00,9,  -999.0,9,  -999.0,-999.000,9,-999.000, -999.00,9,  910.50,-999.0000,9,-999.0000,9,-999.0000,9,-999.0000,9,-999.0000,9,-999.0000,-999.000,-999.0000,9, -999.00
318M20040615,        P02,     109,          1,         21,         21,2,20040731,       1606,    30.0015,  -166.4433,       5553,  1010.9,   3.8059,  34.3419,2,  34.3391,2,  24.5000,2,    23.5,2,  118.12,2,   43.39,2,    0.00,2,    3.15,2,   0.039,2,   0.020,2,   0.000,2,  2353.7,6,  2359.4,2,-999.000,9,-999.0000,9, -999.00,9, -999.00,9,  -999.0,9,  -999.0,-999.000,9,-999.000, -999.00,9, 1010.90,-999.0000,9,-999.0000,9,-999.0000,9,-999.0000,9,-999.0000,9,-999.0000,-999.000,-999.0000,9, -999.00
318M20040615,        P02,     109,          1,         20,         20,2,20040731,       1606,    30.0015,  -166.4433,       5553,  1111.0,   3.5602,  34.3983,2,  34.3993,2,  27.2000,2,    27.2,2,  125.32,2,   43.38,2,    0.00,2,    3.15,2,   0.015,2,   0.011,2,   0.000,2,  2359.4,2,  2371.9,2,-999.000,9,-999.0000,9, -999.00,9, -999.00,9,  -999.0,9,  -999.0,-999.000,9,-999.000, -999.00,9, 1111.00,-999.0000,9,-999.0000,9,-999.0000,9,-999.0000,9,-999.0000,9,-999.0000,-999.000,-999.0000,9, -999.00
318M20040615,        P02,     109,          1,         19,         19,4,20040731,       1606,    30.0015,  -166.4433,       5553,  1211.3,   3.2875,  34.4472,2,-999.0000,9,  32.2000,9,  -999.0,9, -999.00,9, -999.00,9, -999.00,9, -999.00,9,-999.000,9,-999.000,9,-999.000,9,  -999.0,9,  -999.0,9,-999.000,9,-999.0000,9, -999.00,9, -999.00,9,  -999.0,9,  -999.0,-999.000,9,-999.000, -999.00,9, 1211.30,-999.0000,9,-999.0000,9,-999.0000,9,-999.0000,9,-999.0000,9,-999.0000,-999.000,-999.0000,9, -999.00
318M20040615,        P02,     109,          1,         18,         18,2,20040731,       1606,    30.0015,  -166.4433,       5553,  1316.7,   3.0508,  34.4810,2,  34.4825,2,  34.9000,2,    34.5,2,  138.95,2,   43.27,2,    0.00,2,    3.13,2,   0.010,2,   0.004,2,   0.000,2,  2371.8,2,  2388.8,2,-999.000,9,-999.0000,9, -999.00,9, -999.00,9,  -999.0,9,  -999.0,-999.000,9,-999.000, -999.00,9, 1316.70,-999.0000,9,-999.0000,9,-999.0000,9,-999.0000,9,-999.0000,9,-999.0000,-999.000,-999.0000,9, -999.00
318M20040615,        P02,     109,          1,         17,         17,2,20040731,       1606,    30.0015,  -166.4433,       5553,  1416.8,   2.8586,  34.5156,2,  34.5161,2,  43.0000,2,    46.2,2,  141.95,2,   42.74,2,    0.00,2,    3.07,2,   0.007,2,   0.005,2,   0.000,2,  2370.0,2,  2396.9,2,-999.000,9,-999.0000,9, -999.00,9, -999.00,9,  -999.0,9,  -999.0,-999.000,9,-999.000, -999.00,9, 1416.80,-999.0000,9,-999.0000,9,-999.0000,9,-999.0000,9,-999.0000,9,-999.0000,-999.000,-999.0000,9, -999.00
318M20040615,        P02,     109,          1,         16,         16,2,20040731,       1606,    30.0015,  -166.4433,       5553,  1516.9,   2.6586,  34.5363,2,  34.5373,2,  49.6000,2,    50.7,2,  147.35,2,   42.72,2,    0.00,2,    3.05,2,   0.005,2,   0.004,2,   0.000,2,  2373.7,2,  2401.3,2,-999.000,9,-999.0000,9, -999.00,9, -999.00,9,  -999.0,9,  -999.0,-999.000,9,-999.000, -999.00,9, 1516.90,-999.0000,9,-999.0000,9,-999.0000,9,-999.0000,9,-999.0000,9,-999.0000,-999.000,-999.0000,9, -999.00
318M20040615,        P02,     109,          1,         15,         15,2,20040731,       1606,    30.0015,  -166.4433,       5553,  1621.8,   2.4578,  34.5575,2,  34.5577,2,  54.2000,2,    55.1,2,  152.77,2,   42.61,2,    0.00,2,    3.02,2,   0.007,2,   0.007,2,   0.000,2,  2375.7,2,  2405.5,2,-999.000,9,-999.0000,9, -999.00,9, -999.00,9,  -999.0,9,  -999.0,-999.000,9,-999.000, -999.00,9, 1621.80,-999.0000,9,-999.0000,9,-999.0000,9,-999.0000,9,-999.0000,9,-999.0000,-999.000,-999.0000,9, -999.00
318M20040615,        P02,     109,          1,         14,         14,2,20040731,       1606,    30.0015,  -166.4433,       5553,  1721.4,   2.3171,  34.5721,2,  34.5719,2,  57.8000,2,    57.3,2,  156.98,2,   42.55,2,    0.00,2,    3.01,2,   0.007,2,   0.003,2,   0.000,2,  2377.9,2,  2411.5,2,-999.000,9,-999.0000,9, -999.00,9, -999.00,9,  -999.0,9,  -999.0,-999.000,9,-999.000, -999.00,9, 1721.40,-999.0000,9,-999.0000,9,-999.0000,9,-999.0000,9,-999.0000,9,-999.0000,-999.000,-999.0000,9, -999.00
318M20040615,        P02,     109,          1,         13,         13,2,20040731,       1606,    30.0015,  -166.4433,       5553,  1823.0,   2.1829,  34.5871,2,  34.5838,2,  64.3000,3,    64.3,2,  160.38,2,   42.02,2,    0.00,2,    2.97,2,   0.005,2,   0.005,2,   0.000,2,  2377.1,2,  2414.9,2,-999.000,9,-999.0000,9, -999.00,9, -999.00,9,  -999.0,9,  -999.0,-999.000,9,-999.000, -999.00,9, 1823.00,-999.0000,9,-999.0000,9,-999.0000,9,-999.0000,9,-999.0000,9,-999.0000,-999.000,-999.0000,9, -999.00
318M20040615,        P02,     109,          1,         12,         12,2,20040731,       1606,    30.0015,  -166.4433,       5553,  2025.6,   1.9635,  34.6112,2,  34.6121,2,  77.3000,2,    78.0,2,  163.99,2,   41.05,2,    0.00,2,    2.91,2,   0.004,2,   0.001,2,   0.000,2,  2373.1,2,  2420.0,2,-999.000,9,-999.0000,9, -999.00,9, -999.00,9,  -999.0,9,  -999.0,-999.000,9,-999.000, -999.00,9, 2025.60,-999.0000,9,-999.0000,9,-999.0000,9,-999.0000,9,-999.0000,9,-999.0000,-999.000,-999.0000,9, -999.00
318M20040615,        P02,     109,          1,         11,         11,2,20040731,       1606,    30.0015,  -166.4433,       5553,  2280.9,   1.7845,  34.6325,2,  34.6327,2,  90.7000,2,    92.1,2,  166.39,2,   40.11,2,    0.00,2,    2.84,2,   0.006,6,   0.004,6,   0.000,6,  2367.6,2,  2422.2,2,-999.000,9,-999.0000,9, -999.00,9, -999.00,9,  -999.0,9,  -999.0,-999.000,9,-999.000, -999.00,9, 2280.90,-999.0000,9,-999.0000,9,-999.0000,9,-999.0000,9,-999.0000,9,-999.0000,-999.000,-999.0000,9, -999.00
318M20040615,        P02,     109,          1,         10,         10,2,20040731,       1606,    30.0015,  -166.4433,       5553,  2533.9,   1.6791,  34.6459,2,  34.6457,2, 103.4000,2,   104.3,2,  165.56,2,   39.27,2,    0.00,2,    2.78,2,   0.005,2,   0.003,2,   0.000,2,  2361.4,2,  2425.7,2,-999.000,9,-999.0000,9, -999.00,9, -999.00,9,  -999.0,9,  -999.0,-999.000,9,-999.000, -999.00,9, 2533.90,-999.0000,9,-999.0000,9,-999.0000,9,-999.0000,9,-999.0000,9,-999.0000,-999.000,-999.0000,9, -999.00
318M20040615,        P02,     109,          1,          9,          9,2,20040731,       1606,    30.0015,  -166.4433,       5553,  2786.2,   1.6029,  34.6564,2,  34.6498,2, 113.5000,3,   113.6,2,  164.72,2,   38.63,2,    0.00,2,    2.73,2,   0.003,2,   0.003,2,   0.000,2,  2355.7,2,  2427.0,2,-999.000,9,-999.0000,9, -999.00,9, -999.00,9,  -999.0,9,  -999.0,-999.000,9,-999.000, -999.00,9, 2786.20,-999.0000,9,-999.0000,9,-999.0000,9,-999.0000,9,-999.0000,9,-999.0000,-999.000,-999.0000,9, -999.00
318M20040615,        P02,     109,          1,          8,          8,2,20040731,       1606,    30.0015,  -166.4433,       5553,  3044.3,   1.5354,  34.6657,2,  34.6602,2, 125.2000,3,   125.3,2,  161.64,2,   37.78,2,    0.00,2,    2.67,2,   0.006,2,   0.001,2,   0.000,2,  2347.8,2,  2425.2,2,-999.000,9,-999.0000,9, -999.00,9, -999.00,9,  -999.0,9,  -999.0,-999.000,9,-999.000, -999.00,9, 3044.30,-999.0000,9,-999.0000,9,-999.0000,9,-999.0000,9,-999.0000,9,-999.0000,-999.000,-999.0000,9, -999.00
318M20040615,        P02,     109,          1,          7,          7,2,20040731,       1606,    30.0015,  -166.4433,       5553,  3450.2,   1.4925,  34.6750,2,  34.6730,2, 135.1000,2,   135.1,2,  159.59,2,   37.21,2,    0.00,2,    2.61,2,   0.003,2,   0.001,2,   0.000,2,  2341.0,2,  2425.4,2,-999.000,9,-999.0000,9, -999.00,9, -999.00,9,  -999.0,9,  -999.0,-999.000,9,-999.000, -999.00,9, 3450.20,-999.0000,9,-999.0000,9,-999.0000,9,-999.0000,9,-999.0000,9,-999.0000,-999.000,-999.0000,9, -999.00
318M20040615,        P02,     109,          1,          6,          6,2,20040731,       1606,    30.0015,  -166.4433,       5553,  3860.3,   1.4671,  34.6820,2,  34.6824,2, 144.0000,2,   144.5,2,  156.76,2,   36.63,2,    0.01,2,    2.56,2,   0.008,2,   0.002,2,   0.000,2,  2335.1,2,  2426.0,2,-999.000,9,-999.0000,9, -999.00,9, -999.00,9,  -999.0,9,  -999.0,-999.000,9,-999.000, -999.00,9, 3860.30,-999.0000,9,-999.0000,9,-999.0000,9,-999.0000,9,-999.0000,9,-999.0000,-999.000,-999.0000,9, -999.00
318M20040615,        P02,     109,          1,          5,          5,2,20040731,       1606,    30.0015,  -166.4433,       5553,  4272.4,   1.4759,  34.6858,2,  34.6858,2, 149.4000,2,   149.6,2,  155.12,2,   36.27,2,    0.00,2,    2.54,2,   0.007,2,   0.004,2,   0.000,2,  2331.2,2,  2423.8,2,-999.000,9,-999.0000,9, -999.00,9, -999.00,9,  -999.0,9,  -999.0,-999.000,9,-999.000, -999.00,9, 4272.40,-999.0000,9,-999.0000,9,-999.0000,9,-999.0000,9,-999.0000,9,-999.0000,-999.000,-999.0000,9, -999.00
318M20040615,        P02,     109,          1,          4,          4,2,20040731,       1606,    30.0015,  -166.4433,       5553,  4684.8,   1.5010,  34.6882,2,  34.6875,2, 152.8000,2,   154.0,2,  153.48,2,   35.95,2,    0.00,2,    2.52,2,   0.009,2,   0.004,2,   0.000,2,  2327.9,2,  2423.8,2,-999.000,9,-999.0000,9, -999.00,9, -999.00,9,  -999.0,9,  -999.0,-999.000,9,-999.000, -999.00,9, 4684.80,-999.0000,9,-999.0000,9,-999.0000,9,-999.0000,9,-999.0000,9,-999.0000,-999.000,-999.0000,9, -999.00
318M20040615,        P02,     109,          1,          3,          3,2,20040731,       1606,    30.0015,  -166.4433,       5553,  5092.7,   1.5330,  34.6899,2,  34.6905,2, 156.4000,2,   156.7,2,  149.44,2,   35.69,2,    0.00,2,    2.50,2,   0.007,2,   0.004,2,   0.000,2,  2324.0,2,  2423.7,2,-999.000,9,-999.0000,9, -999.00,9, -999.00,9,  -999.0,9,  -999.0,-999.000,9,-999.000, -999.00,9, 5092.70,-999.0000,9,-999.0000,9,-999.0000,9,-999.0000,9,-999.0000,9,-999.0000,-999.000,-999.0000,9, -999.00
318M20040615,        P02,     109,          1,          2,          2,2,20040731,       1606,    30.0015,  -166.4433,       5553,  5506.5,   1.5611,  34.6918,2,  34.6920,2, 161.4000,2,   162.0,2,  144.58,2,   35.48,2,    0.00,2,    2.48,2,   0.005,2,   0.003,2,   0.000,2,  2318.3,2,  2417.7,2,-999.000,9,-999.0000,9, -999.00,9, -999.00,9,  -999.0,9,  -999.0,-999.000,9,-999.000, -999.00,9, 5506.50,-999.0000,9,-999.0000,9,-999.0000,9,-999.0000,9,-999.0000,9,-999.0000,-999.000,-999.0000,9, -999.00
318M20040615,        P02,     109,          1,          1,          1,2,20040731,       1606,    30.0015,  -166.4433,       5553,  5685.6,   1.5736,  34.6923,2,  34.6934,2, 163.7000,2,   164.2,2,  142.33,2,   35.42,2,    0.00,2,    2.46,2,   0.009,2,   0.006,2,   0.000,2,  2315.2,6,  2412.6,6,-999.000,9,-999.0000,9, -999.00,9, -999.00,9,  -999.0,9,  -999.0,-999.000,9,-999.000, -999.00,9, 5685.60,-999.0000,9,-999.0000,9,-999.0000,9,-999.0000,9,-999.0000,9,-999.0000,-999.000,-999.0000,9, -999.00