BOTTLE,20131027SIOCCHRJL
EXPOCODE,SECT_ID,STNNBR,CASTNO,SAMPNO,BTLNBR,BTLNBR_FLAG_W,DATE,TIME,LATITUDE,LONGITUDE,DEPTH,CTDPRS,CTDTMP,CTDSAL,CTDSAL_FLAG_W,SALNTY,SALNTY_FLAG_W,CTDOXY,CTDOXY_FLAG_W,OXYGEN,OXYGEN_FLAG_W,SILCAT,SILCAT_FLAG_W,NITRAT,NITRAT_FLAG_W,NITRIT,NITRIT_FLAG_W,PHSPHT,PHSPHT_FLAG_W,CFC-11,CFC-11_FLAG_W,CFC-12,CFC-12_FLAG_W,CFC113,CFC113_FLAG_W,TCARBN,TCARBN_FLAG_W,ALKALI,ALKALI_FLAG_W,TRITUM,TRITUM_FLAG_W,HELIUM,HELIUM_FLAG_W,DELHE3,DELHE3_FLAG_W,DELC13,DELC13_FLAG_W,DELC14,DELC14_FLAG_W,C14ERR,NEON,NEON_FLAG_W,NEONER,DOC,DOC_FLAG_W,CTDRAW,CDOM380,CDOM380_FLAG_W,CDOM325,CDOM325_FLAG_W,CDOMSL,CDOMSL_FLAG_W,CDOM340,CDOM340_FLAG_W,CDOMSN,CDOMSN_FLAG_W,HELIER,TRITER,CDOM412,CDOM412_FLAG_W,DELHER
,,,,,,,,,,,METERS,DBAR,ITS-90,PSS-78,,PSS-78,,UMOL/KG,,UMOL/KG,,UMOL/KG,,UMOL/KG,,UMOL/KG,,UMOL/KG,,PMOL/KG,,PMOL/KG,,PMOL/KG,,UMOL/KG,,UMOL/KG,,TU,,NMOL/KG,,PERCNT,,/MILLE,,/MILLE,,/MILLE,NMOL/KG,,NMOL/KG,UMOL/KG,,DBAR,1/M,,1/M,,1/NM,,1/M,,1/NM,,NMOL/KG,TU,1/M,,PERCNT
318M20040615,        P02,      97,          1,         36,         36,2,20040719,       1429,    30.0003,  -172.3263,       5388,     8.4,  25.4973,  35.2785,2,  35.2794,2, 210.2000,2,   209.5,2,    1.37,2,    0.14,2,    0.00,2,    0.03,2,   1.779,2,   1.103,2,   0.125,2,  2003.3,6,  2315.7,6,-999.000,9,-999.0000,9, -999.00,9, -999.00,9,  -999.0,9,  -999.0,-999.000,9,-999.000, -999.00,9,    8.40,-999.0000,9,-999.0000,9,-999.0000,9,-999.0000,9,-999.0000,9,-999.0000,-999.000,-999.0000,9, -999.00
318M20040615,        P02,      97,          1,         35,         35,2,20040719,       1429,    30.0003,  -172.3263,       5388,    51.9,  21.3160,  35.0280,2,  35.0386,2, 237.3000,2,   236.7,2,    1.76,2,    0.14,2,    0.00,2,    0.04,2,   2.157,2,   1.290,2,   0.157,2,  2002.9,2,  2300.1,2,-999.000,9,-999.0000,9, -999.00,9, -999.00,9,  -999.0,9,  -999.0,-999.000,9,-999.000, -999.00,9,   51.90,-999.0000,9,-999.0000,9,-999.0000,9,-999.0000,9,-999.0000,9,-999.0000,-999.000,-999.0000,9, -999.00
318M20040615,        P02,      97,          1,         34,         34,2,20040719,       1429,    30.0003,  -172.3263,       5388,   101.8,  17.2073,  34.7711,2,  34.7721,2, 234.8000,2,   242.8,2,    2.96,2,    0.03,2,    0.00,2,    0.10,2,   2.487,2,   1.454,2,   0.164,2,  2013.8,2,  2283.7,2,-999.000,9,-999.0000,9, -999.00,9, -999.00,9,  -999.0,9,  -999.0,-999.000,9,-999.000, -999.00,9,  101.80,-999.0000,9,-999.0000,9,-999.0000,9,-999.0000,9,-999.0000,9,-999.0000,-999.000,-999.0000,9, -999.00
318M20040615,        P02,      97,          1,         33,         33,2,20040719,       1429,    30.0003,  -172.3263,       5388,   156.4,  16.0269,  34.6781,2,  34.6779,2, 220.8000,2,   223.5,2,    4.57,2,    4.41,2,    0.04,2,    0.34,2,   2.576,2,   1.514,2,   0.100,2,  2034.3,2,  2278.0,2,-999.000,9,-999.0000,9, -999.00,9, -999.00,9,  -999.0,9,  -999.0,-999.000,9,-999.000, -999.00,9,  156.40,-999.0000,9,-999.0000,9,-999.0000,9,-999.0000,9,-999.0000,9,-999.0000,-999.000,-999.0000,9, -999.00
318M20040615,        P02,      97,          1,         32,         32,2,20040719,       1429,    30.0003,  -172.3263,       5388,   206.1,  14.9335,  34.5805,2,  34.5810,2, 215.5000,2,   214.5,2,    7.01,2,    7.14,2,    0.01,2,    0.53,2,   2.642,2,   1.540,2,   0.087,2,  2050.2,2,  2274.2,2,-999.000,9,-999.0000,9, -999.00,9, -999.00,9,  -999.0,9,  -999.0,-999.000,9,-999.000, -999.00,9,  206.10,-999.0000,9,-999.0000,9,-999.0000,9,-999.0000,9,-999.0000,9,-999.0000,-999.000,-999.0000,9, -999.00
318M20040615,        P02,      97,          1,         31,         31,2,20040719,       1429,    30.0003,  -172.3263,       5388,   255.6,  14.0405,  34.5150,2,  34.5155,2, 213.7000,2,   213.6,2,    8.84,2,    8.83,2,    0.01,2,    0.64,2,   2.762,2,   1.575,2,   0.072,2,  -999.0,9,  -999.0,9,-999.000,9,-999.0000,9, -999.00,9, -999.00,9,  -999.0,9,  -999.0,-999.000,9,-999.000, -999.00,9,  255.60,-999.0000,9,-999.0000,9,-999.0000,9,-999.0000,9,-999.0000,9,-999.0000,-999.000,-999.0000,9, -999.00
318M20040615,        P02,      97,          1,         30,         30,2,20040719,       1429,    30.0003,  -172.3263,       5388,   305.8,  13.1050,  34.4430,2,  34.4426,2, 215.4000,2,   215.8,2,   10.88,2,   10.21,2,    0.01,2,    0.74,2,   2.821,2,   1.591,2,   0.079,2,  2071.4,2,  2269.3,2,-999.000,9,-999.0000,9, -999.00,9, -999.00,9,  -999.0,9,  -999.0,-999.000,9,-999.000, -999.00,9,  305.80,-999.0000,9,-999.0000,9,-999.0000,9,-999.0000,9,-999.0000,9,-999.0000,-999.000,-999.0000,9, -999.00
318M20040615,        P02,      97,          1,         29,         29,2,20040719,       1429,    30.0003,  -172.3263,       5388,   355.6,  12.1577,  34.3660,2,  34.3659,2, 214.7000,2,   215.5,2,   13.34,2,   11.83,2,    0.01,2,    0.84,2,   2.903,2,   1.605,2,   0.085,2,  -999.0,9,  -999.0,9,-999.000,9,-999.0000,9, -999.00,9, -999.00,9,  -999.0,9,  -999.0,-999.000,9,-999.000, -999.00,9,  355.60,-999.0000,9,-999.0000,9,-999.0000,9,-999.0000,9,-999.0000,9,-999.0000,-999.000,-999.0000,9, -999.00
318M20040615,        P02,      97,          1,         28,         28,2,20040719,       1429,    30.0003,  -172.3263,       5388,   405.2,  11.1333,  34.2796,2,  34.2807,2, 214.7000,2,   215.3,2,   16.42,2,   13.62,2,    0.00,2,    1.00,2,   3.000,2,   1.630,2,   0.102,2,  2095.2,2,  2267.0,2,-999.000,9,-999.0000,9, -999.00,9, -999.00,9,  -999.0,9,  -999.0,-999.000,9,-999.000, -999.00,9,  405.20,-999.0000,9,-999.0000,9,-999.0000,9,-999.0000,9,-999.0000,9,-999.0000,-999.000,-999.0000,9, -999.00
318M20040615,        P02,      97,          1,         27,         27,2,20040719,       1429,    30.0003,  -172.3263,       5388,   455.1,  10.1579,  34.2031,2,  34.2037,2, 209.3000,2,   210.3,2,   20.75,2,   15.87,2,    0.00,2,    1.12,2,   2.983,2,   1.623,2,   0.106,2,  -999.0,9,  -999.0,9,-999.000,9,-999.0000,9, -999.00,9, -999.00,9,  -999.0,9,  -999.0,-999.000,9,-999.000, -999.00,9,  455.10,-999.0000,9,-999.0000,9,-999.0000,9,-999.0000,9,-999.0000,9,-999.0000,-999.000,-999.0000,9, -999.00
318M20040615,        P02,      97,          1,         26,         26,2,20040719,       1429,    30.0003,  -172.3263,       5388,   509.6,   9.1825,  34.1327,2,  34.1335,2, 194.5000,2,   197.9,2,   26.77,2,   18.79,2,    0.00,2,    1.34,2,   2.945,2,   1.555,2,   0.118,2,  2130.3,2,  2269.5,2,-999.000,9,-999.0000,9, -999.00,9, -999.00,9,  -999.0,9,  -999.0,-999.000,9,-999.000, -999.00,9,  509.60,-999.0000,9,-999.0000,9,-999.0000,9,-999.0000,9,-999.0000,9,-999.0000,-999.000,-999.0000,9, -999.00
318M20040615,        P02,      97,          1,         25,         25,2,20040719,       1429,    30.0003,  -172.3263,       5388,   610.1,   6.7884,  34.0245,2,  34.0257,2, 141.7000,2,   148.4,2,   49.71,2,   27.72,2,    0.00,2,    2.00,2,   2.274,2,   1.171,2,   0.095,2,  -999.0,9,  -999.0,9,-999.000,9,-999.0000,9, -999.00,9, -999.00,9,  -999.0,9,  -999.0,-999.000,9,-999.000, -999.00,9,  610.10,-999.0000,9,-999.0000,9,-999.0000,9,-999.0000,9,-999.0000,9,-999.0000,-999.000,-999.0000,9, -999.00
318M20040615,        P02,      97,          1,         24,         24,2,20040719,       1429,    30.0003,  -172.3263,       5388,   710.2,   5.3956,  34.0475,2,  34.0477,2,  93.4000,2,    99.7,2,   72.94,2,   34.52,2,    0.00,2,    2.50,2,   1.431,2,   0.704,2,   0.051,2,  -999.0,9,  2300.0,2,-999.000,9,-999.0000,9, -999.00,9, -999.00,9,  -999.0,9,  -999.0,-999.000,9,-999.000, -999.00,9,  710.20,-999.0000,9,-999.0000,9,-999.0000,9,-999.0000,9,-999.0000,9,-999.0000,-999.000,-999.0000,9, -999.00
318M20040615,        P02,      97,          1,         23,         23,2,20040719,       1429,    30.0003,  -172.3263,       5388,   810.3,   4.5542,  34.1331,2,  34.1331,2,  54.0000,2,    56.4,2,   93.83,2,   39.71,2,    0.00,2,    2.87,2,   0.593,2,   0.293,2,   0.023,2,  -999.0,9,  -999.0,9,-999.000,9,-999.0000,9, -999.00,9, -999.00,9,  -999.0,9,  -999.0,-999.000,9,-999.000, -999.00,9,  810.30,-999.0000,9,-999.0000,9,-999.0000,9,-999.0000,9,-999.0000,9,-999.0000,-999.000,-999.0000,9, -999.00
318M20040615,        P02,      97,          1,         22,         22,2,20040719,       1429,    30.0003,  -172.3263,       5388,   909.9,   4.0533,  34.2253,2,  34.2237,2,  29.9000,2,    30.5,2,  109.15,2,   42.53,2,    0.00,2,    3.09,2,   0.169,2,   0.087,2,   0.001,2,  -999.0,9,  2339.7,2,-999.000,9,-999.0000,9, -999.00,9, -999.00,9,  -999.0,9,  -999.0,-999.000,9,-999.000, -999.00,9,  909.90,-999.0000,9,-999.0000,9,-999.0000,9,-999.0000,9,-999.0000,9,-999.0000,-999.000,-999.0000,9, -999.00
318M20040615,        P02,      97,          1,         21,         21,2,20040719,       1429,    30.0003,  -172.3263,       5388,  1010.1,   3.7301,  34.3105,2,  34.3104,2,  22.0000,2,    22.2,2,  119.93,2,   43.58,2,    0.00,2,    3.15,2,   0.052,2,   0.030,2,   0.001,2,  -999.0,9,  -999.0,9,-999.000,9,-999.0000,9, -999.00,9, -999.00,9,  -999.0,9,  -999.0,-999.000,9,-999.000, -999.00,9, 1010.10,-999.0000,9,-999.0000,9,-999.0000,9,-999.0000,9,-999.0000,9,-999.0000,-999.000,-999.0000,9, -999.00
318M20040615,        P02,      97,          1,         20,         20,2,20040719,       1429,    30.0003,  -172.3263,       5388,  1116.0,   3.4311,  34.3798,2,  34.3807,2,  21.9000,2,    22.3,2,  129.20,2,   43.91,2,    0.00,2,    3.17,2,   0.021,2,   0.011,2,   0.001,2,  -999.0,9,  2369.4,2,-999.000,9,-999.0000,9, -999.00,9, -999.00,9,  -999.0,9,  -999.0,-999.000,9,-999.000, -999.00,9, 1116.00,-999.0000,9,-999.0000,9,-999.0000,9,-999.0000,9,-999.0000,9,-999.0000,-999.000,-999.0000,9, -999.00
318M20040615,        P02,      97,          1,         19,         19,2,20040719,       1429,    30.0003,  -172.3263,       5388,  1215.8,   3.2124,  34.4283,2,  34.4284,2,  26.8000,2,    25.4,2,  135.44,2,   44.12,2,    0.00,2,    3.17,2,   0.010,6,   0.008,6,   0.001,6,  -999.0,9,  -999.0,9,-999.000,9,-999.0000,9, -999.00,9, -999.00,9,  -999.0,9,  -999.0,-999.000,9,-999.000, -999.00,9, 1215.80,-999.0000,9,-999.0000,9,-999.0000,9,-999.0000,9,-999.0000,9,-999.0000,-999.000,-999.0000,9, -999.00
318M20040615,        P02,      97,          1,         18,         18,2,20040719,       1429,    30.0003,  -172.3263,       5388,  1316.7,   3.0251,  34.4667,2,  34.4678,2,  31.2000,2,    29.5,2,  140.38,2,   44.18,2,    0.00,2,    3.15,2,   0.005,2,   0.005,2,   0.001,2,  -999.0,9,  2385.7,2,-999.000,9,-999.0000,9, -999.00,9, -999.00,9,  -999.0,9,  -999.0,-999.000,9,-999.000, -999.00,9, 1316.70,-999.0000,9,-999.0000,9,-999.0000,9,-999.0000,9,-999.0000,9,-999.0000,-999.000,-999.0000,9, -999.00
318M20040615,        P02,      97,          1,         17,         17,2,20040719,       1429,    30.0003,  -172.3263,       5388,  1417.5,   2.7707,  34.4996,2,  34.5002,2,  33.4000,2,    32.7,2,  147.91,2,   44.11,2,    0.00,2,    3.14,2,   0.005,2,   0.006,2,   0.001,2,  -999.0,9,  -999.0,9,-999.000,9,-999.0000,9, -999.00,9, -999.00,9,  -999.0,9,  -999.0,-999.000,9,-999.000, -999.00,9, 1417.50,-999.0000,9,-999.0000,9,-999.0000,9,-999.0000,9,-999.0000,9,-999.0000,-999.000,-999.0000,9, -999.00
318M20040615,        P02,      97,          1,         16,         16,2,20040719,       1429,    30.0003,  -172.3263,       5388,  1517.5,   2.5876,  34.5282,2,  34.5517,2,  40.1000,2,    41.2,2,  151.98,2,   43.54,2,    0.00,2,    3.10,2,   0.002,2,   0.002,2,   0.001,2,  -999.0,9,  2399.2,2,-999.000,9,-999.0000,9, -999.00,9, -999.00,9,  -999.0,9,  -999.0,-999.000,9,-999.000, -999.00,9, 1517.50,-999.0000,9,-999.0000,9,-999.0000,9,-999.0000,9,-999.0000,9,-999.0000,-999.000,-999.0000,9, -999.00
318M20040615,        P02,      97,          1,         15,         15,2,20040719,       1429,    30.0003,  -172.3263,       5388,  1622.7,   2.4161,  34.5519,2,  34.5285,2,  48.9000,2,    50.1,2,  155.58,2,   42.97,2,    0.00,2,    3.05,2,   0.001,2,   0.003,2,   0.001,2,  -999.0,9,  -999.0,9,-999.000,9,-999.0000,9, -999.00,9, -999.00,9,  -999.0,9,  -999.0,-999.000,9,-999.000, -999.00,9, 1622.70,-999.0000,9,-999.0000,9,-999.0000,9,-999.0000,9,-999.0000,9,-999.0000,-999.000,-999.0000,9, -999.00
318M20040615,        P02,      97,          1,         14,         14,2,20040719,       1429,    30.0003,  -172.3263,       5388,  1723.2,   2.2388,  34.5738,2,  34.5735,2,  58.5000,2,    59.6,2,  158.77,2,   42.29,2,    0.00,2,    3.00,2,   0.002,2,   0.002,2,   0.001,2,  -999.0,9,  2407.9,2,-999.000,9,-999.0000,9, -999.00,9, -999.00,9,  -999.0,9,  -999.0,-999.000,9,-999.000, -999.00,9, 1723.20,-999.0000,9,-999.0000,9,-999.0000,9,-999.0000,9,-999.0000,9,-999.0000,-999.000,-999.0000,9, -999.00
318M20040615,        P02,      97,          1,         13,         13,2,20040719,       1429,    30.0003,  -172.3263,       5388,  1823.0,   2.1298,  34.5869,2,  34.5890,2,  65.5000,2,    67.0,2,  160.10,2,   41.80,2,    0.00,2,    2.97,2,   0.002,2,  -0.001,2,   0.001,2,  -999.0,9,  -999.0,9,-999.000,9,-999.0000,9, -999.00,9, -999.00,9,  -999.0,9,  -999.0,-999.000,9,-999.000, -999.00,9, 1823.00,-999.0000,9,-999.0000,9,-999.0000,9,-999.0000,9,-999.0000,9,-999.0000,-999.000,-999.0000,9, -999.00
318M20040615,        P02,      97,          1,         12,         12,2,20040719,       1429,    30.0003,  -172.3263,       5388,  1923.0,   2.0576,  34.5961,2,  34.5965,2,  72.3000,2,    72.2,2,  161.14,2,   41.45,2,    0.00,2,    2.94,2,   0.000,2,   0.000,2,   0.001,2,  -999.0,9,  2412.1,2,-999.000,9,-999.0000,9, -999.00,9, -999.00,9,  -999.0,9,  -999.0,-999.000,9,-999.000, -999.00,9, 1923.00,-999.0000,9,-999.0000,9,-999.0000,9,-999.0000,9,-999.0000,9,-999.0000,-999.000,-999.0000,9, -999.00
318M20040615,        P02,      97,          1,         11,         11,2,20040719,       1429,    30.0003,  -172.3263,       5388,  2028.1,   1.9672,  34.6065,2,  34.6065,2,  77.3000,2,    77.0,2,  163.46,2,   41.10,2,    0.00,2,    2.91,2,   0.002,2,   0.002,2,   0.001,2,  -999.0,9,  -999.0,9,-999.000,9,-999.0000,9, -999.00,9, -999.00,9,  -999.0,9,  -999.0,-999.000,9,-999.000, -999.00,9, 2028.10,-999.0000,9,-999.0000,9,-999.0000,9,-999.0000,9,-999.0000,9,-999.0000,-999.000,-999.0000,9, -999.00
318M20040615,        P02,      97,          1,         10,         10,2,20040719,       1429,    30.0003,  -172.3263,       5388,  2281.3,   1.8414,  34.6233,2,  34.6257,2,  90.4000,2,    88.8,2,  164.09,2,   40.44,2,    0.00,2,    2.87,2,-999.000,9,-999.000,9,-999.000,9,  -999.0,9,  2417.2,2,-999.000,9,-999.0000,9, -999.00,9, -999.00,9,  -999.0,9,  -999.0,-999.000,9,-999.000, -999.00,9, 2281.30,-999.0000,9,-999.0000,9,-999.0000,9,-999.0000,9,-999.0000,9,-999.0000,-999.000,-999.0000,9, -999.00
318M20040615,        P02,      97,          1,          9,          9,2,20040719,       1429,    30.0003,  -172.3263,       5388,  2539.0,   1.7167,  34.6407,2,  34.6413,2, 105.3000,2,   104.8,2,  162.10,2,   39.60,2,    0.00,2,    2.77,2,   0.000,2,   0.004,2,   0.001,2,  -999.0,9,  2418.9,2,-999.000,9,-999.0000,9, -999.00,9, -999.00,9,  -999.0,9,  -999.0,-999.000,9,-999.000, -999.00,9, 2539.00,-999.0000,9,-999.0000,9,-999.0000,9,-999.0000,9,-999.0000,9,-999.0000,-999.000,-999.0000,9, -999.00
318M20040615,        P02,      97,          1,          8,          8,2,20040719,       1429,    30.0003,  -172.3263,       5388,  2846.0,   1.6063,  34.6560,2,  34.6564,2, 118.4000,2,   118.3,2,  160.99,2,   38.66,2,    0.00,2,    2.72,2,-999.000,9,-999.000,9,-999.000,9,  -999.0,9,  2420.3,2,-999.000,9,-999.0000,9, -999.00,9, -999.00,9,  -999.0,9,  -999.0,-999.000,9,-999.000, -999.00,9, 2846.00,-999.0000,9,-999.0000,9,-999.0000,9,-999.0000,9,-999.0000,9,-999.0000,-999.000,-999.0000,9, -999.00
318M20040615,        P02,      97,          1,          7,          7,2,20040719,       1429,    30.0003,  -172.3263,       5388,  3141.7,   1.5455,  34.6656,2,  34.6657,2, 128.7000,2,   128.4,2,  158.40,2,   38.06,2,    0.00,2,    2.67,2,   0.001,2,   0.000,2,   0.001,2,  -999.0,9,  2418.7,2,-999.000,9,-999.0000,9, -999.00,9, -999.00,9,  -999.0,9,  -999.0,-999.000,9,-999.000, -999.00,9, 3141.70,-999.0000,9,-999.0000,9,-999.0000,9,-999.0000,9,-999.0000,9,-999.0000,-999.000,-999.0000,9, -999.00
318M20040615,        P02,      97,          1,          6,          6,2,20040719,       1429,    30.0003,  -172.3263,       5388,  3553.5,   1.4989,  34.6748,2,  34.6747,2, 137.5000,2,   138.3,2,  156.63,2,   37.28,2,    0.00,2,    2.61,2,-999.000,9,-999.000,9,-999.000,9,  -999.0,9,  2418.4,2,-999.000,9,-999.0000,9, -999.00,9, -999.00,9,  -999.0,9,  -999.0,-999.000,9,-999.000, -999.00,9, 3553.50,-999.0000,9,-999.0000,9,-999.0000,9,-999.0000,9,-999.0000,9,-999.0000,-999.000,-999.0000,9, -999.00
318M20040615,        P02,      97,          1,          5,          5,2,20040719,       1429,    30.0003,  -172.3263,       5388,  3971.0,   1.4753,  34.6818,2,  34.6824,2, 145.8000,2,   147.1,2,  154.23,2,   36.63,2,    0.00,2,    2.57,2,   0.003,2,   0.003,2,   0.001,2,  -999.0,9,  2419.4,2,-999.000,9,-999.0000,9, -999.00,9, -999.00,9,  -999.0,9,  -999.0,-999.000,9,-999.000, -999.00,9, 3971.00,-999.0000,9,-999.0000,9,-999.0000,9,-999.0000,9,-999.0000,9,-999.0000,-999.000,-999.0000,9, -999.00
318M20040615,        P02,      97,          1,          4,          4,2,20040719,       1429,    30.0003,  -172.3263,       5388,  4377.6,   1.4820,  34.6858,2,  34.6853,2, 151.1000,2,   152.0,2,  153.15,2,   36.25,2,    0.00,2,    2.54,2,-999.000,9,-999.000,9,-999.000,9,  -999.0,9,  2417.7,2,-999.000,9,-999.0000,9, -999.00,9, -999.00,9,  -999.0,9,  -999.0,-999.000,9,-999.000, -999.00,9, 4377.60,-999.0000,9,-999.0000,9,-999.0000,9,-999.0000,9,-999.0000,9,-999.0000,-999.000,-999.0000,9, -999.00
318M20040615,        P02,      97,          1,          3,          3,2,20040719,       1429,    30.0003,  -172.3263,       5388,  4786.0,   1.4990,  34.6888,2,  34.6891,2, 156.1000,2,   157.0,2,  149.74,2,   35.87,2,    0.00,2,    2.51,2,   0.001,2,   0.008,2,   0.001,2,  -999.0,9,  2416.6,2,-999.000,9,-999.0000,9, -999.00,9, -999.00,9,  -999.0,9,  -999.0,-999.000,9,-999.000, -999.00,9, 4786.00,-999.0000,9,-999.0000,9,-999.0000,9,-999.0000,9,-999.0000,9,-999.0000,-999.000,-999.0000,9, -999.00
318M20040615,        P02,      97,          1,          2,          2,2,20040719,       1429,    30.0003,  -172.3263,       5388,  5203.4,   1.5127,  34.6918,2,  34.6918,2, 163.1000,2,   163.9,2,  144.06,2,   35.33,2,    0.00,2,    2.47,2,-999.000,9,-999.000,9,-999.000,9,  -999.0,9,  2410.7,2,-999.000,9,-999.0000,9, -999.00,9, -999.00,9,  -999.0,9,  -999.0,-999.000,9,-999.000, -999.00,9, 5203.40,-999.0000,9,-999.0000,9,-999.0000,9,-999.0000,9,-999.0000,9,-999.0000,-999.000,-999.0000,9, -999.00
318M20040615,        P02,      97,          1,          1,          1,2,20040719,       1429,    30.0003,  -172.3263,       5388,  5498.8,   1.5219,  34.6941,2,  34.6952,2, 168.7000,2,   169.3,2,  139.28,2,   34.88,2,    0.00,2,    2.44,2,   0.005,2,   0.007,2,   0.001,2,  -999.0,9,  2407.1,6,-999.000,9,-999.0000,9, -999.00,9, -999.00,9,  -999.0,9,  -999.0,-999.000,9,-999.000, -999.00,9, 5498.80,-999.0000,9,-999.0000,9,-999.0000,9,-999.0000,9,-999.0000,9,-999.0000,-999.000,-999.0000,9, -999.00