BOTTLE,20131027SIOCCHRJL
EXPOCODE,SECT_ID,STNNBR,CASTNO,SAMPNO,BTLNBR,BTLNBR_FLAG_W,DATE,TIME,LATITUDE,LONGITUDE,DEPTH,CTDPRS,CTDTMP,CTDSAL,CTDSAL_FLAG_W,SALNTY,SALNTY_FLAG_W,CTDOXY,CTDOXY_FLAG_W,OXYGEN,OXYGEN_FLAG_W,SILCAT,SILCAT_FLAG_W,NITRAT,NITRAT_FLAG_W,NITRIT,NITRIT_FLAG_W,PHSPHT,PHSPHT_FLAG_W,CFC-11,CFC-11_FLAG_W,CFC-12,CFC-12_FLAG_W,CFC113,CFC113_FLAG_W,TCARBN,TCARBN_FLAG_W,ALKALI,ALKALI_FLAG_W,TRITUM,TRITUM_FLAG_W,HELIUM,HELIUM_FLAG_W,DELHE3,DELHE3_FLAG_W,DELC13,DELC13_FLAG_W,DELC14,DELC14_FLAG_W,C14ERR,NEON,NEON_FLAG_W,NEONER,DOC,DOC_FLAG_W,CTDRAW,CDOM380,CDOM380_FLAG_W,CDOM325,CDOM325_FLAG_W,CDOMSL,CDOMSL_FLAG_W,CDOM340,CDOM340_FLAG_W,CDOMSN,CDOMSN_FLAG_W,HELIER,TRITER,CDOM412,CDOM412_FLAG_W,DELHER
,,,,,,,,,,,METERS,DBAR,ITS-90,PSS-78,,PSS-78,,UMOL/KG,,UMOL/KG,,UMOL/KG,,UMOL/KG,,UMOL/KG,,UMOL/KG,,PMOL/KG,,PMOL/KG,,PMOL/KG,,UMOL/KG,,UMOL/KG,,TU,,NMOL/KG,,PERCNT,,/MILLE,,/MILLE,,/MILLE,NMOL/KG,,NMOL/KG,UMOL/KG,,DBAR,1/M,,1/M,,1/NM,,1/M,,1/NM,,NMOL/KG,TU,1/M,,PERCNT
318M20040615,        P02,      17,          1,         31,         31,2,20040622,       0526,       30.0,   136.0337,       4532,    11.2,  24.5337,  34.6563,2,  34.6563,2, 212.2000,2,   212.3,2,    1.27,2,    0.00,2,    0.00,2,    0.03,2,   1.916,2,   1.151,2,   0.128,2,  1965.5,6,  2274.4,2,-999.000,9,-999.0000,9, -999.00,9, -999.00,9,  -999.0,9,  -999.0,-999.000,9,-999.000, -999.00,9,   11.20,-999.0000,9,-999.0000,9,-999.0000,9,-999.0000,9,-999.0000,9,-999.0000,-999.000,-999.0000,9, -999.00
318M20040615,        P02,      17,          1,         30,         30,2,20040622,       0526,       30.0,   136.0337,       4532,    36.1,  24.2441,  34.6665,2,  34.6644,2, 215.1000,2,   213.1,2,    1.09,2,    0.00,2,    0.00,2,    0.02,2,   1.917,2,   1.139,2,   0.120,2,  1965.0,2,  2276.3,2,-999.000,9,-999.0000,9, -999.00,9, -999.00,9,  -999.0,9,  -999.0,-999.000,9,-999.000, -999.00,9,   36.10,-999.0000,9,-999.0000,9,-999.0000,9,-999.0000,9,-999.0000,9,-999.0000,-999.000,-999.0000,9, -999.00
318M20040615,        P02,      17,          1,         29,         29,2,20040622,       0526,       30.0,   136.0337,       4532,    70.4,  21.6619,  34.7979,2,  34.7981,2, 215.8000,2,   220.7,2,    1.46,2,   -0.01,2,    0.01,2,    0.04,2,   2.128,2,   1.235,2,   0.120,2,  1980.4,2,  2285.2,2,-999.000,9,-999.0000,9, -999.00,9, -999.00,9,  -999.0,9,  -999.0,-999.000,9,-999.000, -999.00,9,   70.40,-999.0000,9,-999.0000,9,-999.0000,9,-999.0000,9,-999.0000,9,-999.0000,-999.000,-999.0000,9, -999.00
318M20040615,        P02,      17,          1,         28,         28,2,20040622,       0526,       30.0,   136.0337,       4532,   121.0,  19.0712,  34.8752,2,  34.8746,2, 214.7000,2,   215.3,2,    2.00,2,    1.59,2,    0.04,2,    0.16,2,   2.316,2,   1.313,2,   0.120,2,  2003.6,2,  2288.9,2,-999.000,9,-999.0000,9, -999.00,9, -999.00,9,  -999.0,9,  -999.0,-999.000,9,-999.000, -999.00,9,  121.00,-999.0000,9,-999.0000,9,-999.0000,9,-999.0000,9,-999.0000,9,-999.0000,-999.000,-999.0000,9, -999.00
318M20040615,        P02,      17,          1,         27,         27,2,20040622,       0526,       30.0,   136.0337,       4532,   170.9,  18.7011,  34.8779,2,  34.8772,2, 214.0000,2,   216.0,2,    2.19,2,    1.96,2,    0.02,2,    0.18,2,   2.312,2,   1.320,2,   0.119,2,  -999.0,9,  2288.9,2,-999.000,9,-999.0000,9, -999.00,9, -999.00,9,  -999.0,9,  -999.0,-999.000,9,-999.000, -999.00,9,  170.90,-999.0000,9,-999.0000,9,-999.0000,9,-999.0000,9,-999.0000,9,-999.0000,-999.000,-999.0000,9, -999.00
318M20040615,        P02,      17,          1,         26,         26,2,20040622,       0526,       30.0,   136.0337,       4532,   220.8,  18.3307,  34.8539,2,  34.8533,2, 215.6000,2,   215.3,2,    2.37,2,    2.37,2,    0.01,2,    0.21,2,   2.352,2,   1.337,2,   0.109,2,  -999.0,9,  2287.9,2,-999.000,9,-999.0000,9, -999.00,9, -999.00,9,  -999.0,9,  -999.0,-999.000,9,-999.000, -999.00,9,  220.80,-999.0000,9,-999.0000,9,-999.0000,9,-999.0000,9,-999.0000,9,-999.0000,-999.000,-999.0000,9, -999.00
318M20040615,        P02,      17,          1,         25,         25,2,20040622,       0526,       30.0,   136.0337,       4532,   270.9,  17.9913,  34.8310,2,  34.8305,2, 215.2000,2,   214.8,2,    2.55,2,    2.77,2,    0.01,2,    0.23,2,   2.363,2,   1.340,2,   0.101,2,  2014.7,2,  2286.3,2,-999.000,9,-999.0000,9, -999.00,9, -999.00,9,  -999.0,9,  -999.0,-999.000,9,-999.000, -999.00,9,  270.90,-999.0000,9,-999.0000,9,-999.0000,9,-999.0000,9,-999.0000,9,-999.0000,-999.000,-999.0000,9, -999.00
318M20040615,        P02,      17,          1,         24,         24,2,20040622,       0526,       30.0,   136.0337,       4532,   340.6,  17.4320,  34.8009,2,  34.8002,2, 217.2000,2,   218.0,2,    2.91,2,    3.22,2,    0.01,2,    0.25,2,   2.450,2,   1.367,2,   0.104,2,  -999.0,9,  2285.9,2,-999.000,9,-999.0000,9, -999.00,9, -999.00,9,  -999.0,9,  -999.0,-999.000,9,-999.000, -999.00,9,  340.60,-999.0000,9,-999.0000,9,-999.0000,9,-999.0000,9,-999.0000,9,-999.0000,-999.000,-999.0000,9, -999.00
318M20040615,        P02,      17,          1,         23,         23,2,20040622,       0526,       30.0,   136.0337,       4532,   438.9,  16.0627,  34.6856,2,  34.6865,2, 204.2000,2,   198.5,2,    7.06,2,    7.07,2,    0.00,2,    0.52,2,   2.521,2,   1.384,2,   0.048,2,  2046.2,2,  2280.8,2,-999.000,9,-999.0000,9, -999.00,9, -999.00,9,  -999.0,9,  -999.0,-999.000,9,-999.000, -999.00,9,  438.90,-999.0000,9,-999.0000,9,-999.0000,9,-999.0000,9,-999.0000,9,-999.0000,-999.000,-999.0000,9, -999.00
318M20040615,        P02,      17,          1,         22,         22,2,20040622,       0526,       30.0,   136.0337,       4532,   539.6,  12.7979,  34.4488,2,  34.4486,2, 175.5000,2,   175.5,2,   18.06,2,   14.26,2,    0.00,2,    1.04,2,   2.500,2,   1.313,2,   0.031,2,  -999.0,9,  2275.6,2,-999.000,9,-999.0000,9, -999.00,9, -999.00,9,  -999.0,9,  -999.0,-999.000,9,-999.000, -999.00,9,  539.60,-999.0000,9,-999.0000,9,-999.0000,9,-999.0000,9,-999.0000,9,-999.0000,-999.000,-999.0000,9, -999.00
318M20040615,        P02,      17,          1,         21,         21,2,20040622,       0526,       30.0,   136.0337,       4532,   640.1,  10.6436,  34.3167,2,  34.3180,2, 160.5000,2,   161.1,2,   29.63,2,   19.32,2,    0.00,2,    1.41,2,   2.239,2,   1.175,2,   0.039,2,  2138.1,2,  2289.0,3,-999.000,9,-999.0000,9, -999.00,9, -999.00,9,  -999.0,9,  -999.0,-999.000,9,-999.000, -999.00,9,  640.10,-999.0000,9,-999.0000,9,-999.0000,9,-999.0000,9,-999.0000,9,-999.0000,-999.000,-999.0000,9, -999.00
318M20040615,        P02,      17,          1,         20,         20,2,20040622,       0526,       30.0,   136.0337,       4532,   741.5,   8.1136,  34.1959,2,  34.1972,2, 135.4000,2,   136.1,2,   48.86,2,   25.92,2,    0.00,2,    1.90,2,   1.851,2,   0.962,2,   0.001,2,  -999.0,9,  2290.9,2,-999.000,9,-999.0000,9, -999.00,9, -999.00,9,  -999.0,9,  -999.0,-999.000,9,-999.000, -999.00,9,  741.50,-999.0000,9,-999.0000,9,-999.0000,9,-999.0000,9,-999.0000,9,-999.0000,-999.000,-999.0000,9, -999.00
318M20040615,        P02,      17,          1,         19,         19,2,20040622,       0526,       30.0,   136.0337,       4532,   836.9,   6.2426,  34.1826,2,  34.1837,2, 103.4000,2,   103.7,2,   71.84,2,   31.99,2,    0.00,2,    2.36,2,   1.255,2,   0.672,2,  -0.010,2,  2243.8,2,  2307.7,2,-999.000,9,-999.0000,9, -999.00,9, -999.00,9,  -999.0,9,  -999.0,-999.000,9,-999.000, -999.00,9,  836.90,-999.0000,9,-999.0000,9,-999.0000,9,-999.0000,9,-999.0000,9,-999.0000,-999.000,-999.0000,9, -999.00
318M20040615,        P02,      17,          1,         18,         18,2,20040622,       0526,       30.0,   136.0337,       4532,   937.7,   5.2042,  34.2548,2,  34.2686,2,  80.2000,3,    79.3,2,   90.91,2,   35.87,2,    0.00,2,    2.63,2,   0.696,2,   0.394,2,  -0.019,2,  -999.0,9,  2330.7,2,-999.000,9,-999.0000,9, -999.00,9, -999.00,9,  -999.0,9,  -999.0,-999.000,9,-999.000, -999.00,9,  937.70,-999.0000,9,-999.0000,9,-999.0000,9,-999.0000,9,-999.0000,9,-999.0000,-999.000,-999.0000,9, -999.00
318M20040615,        P02,      17,          1,         17,         17,2,20040622,       0526,       30.0,   136.0337,       4532,  1039.1,   4.4261,  34.3128,2,  34.3124,2,  66.6000,2,    67.0,2,  105.60,2,   38.02,2,    0.00,2,    2.79,2,   0.421,2,   0.218,2,  -0.020,2,  2308.0,2,  2346.8,2,-999.000,9,-999.0000,9, -999.00,9, -999.00,9,  -999.0,9,  -999.0,-999.000,9,-999.000, -999.00,9, 1039.10,-999.0000,9,-999.0000,9,-999.0000,9,-999.0000,9,-999.0000,9,-999.0000,-999.000,-999.0000,9, -999.00
318M20040615,        P02,      17,          1,         16,         16,2,20040622,       0526,       30.0,   136.0337,       4532,  1140.1,   3.8475,  34.3804,2,  34.3813,2,  63.8000,2,    63.8,2,  117.58,2,   39.08,2,    0.00,2,    2.84,2,   0.241,2,   0.118,2,  -0.019,2,  2324.9,2,  2361.9,2,-999.000,9,-999.0000,9, -999.00,9, -999.00,9,  -999.0,9,  -999.0,-999.000,9,-999.000, -999.00,9, 1140.10,-999.0000,9,-999.0000,9,-999.0000,9,-999.0000,9,-999.0000,9,-999.0000,-999.000,-999.0000,9, -999.00
318M20040615,        P02,      17,          1,         15,         15,2,20040622,       0526,       30.0,   136.0337,       4532,  1240.5,   3.4198,  34.4228,2,  34.4228,2,  62.8000,2,    63.1,2,  126.69,2,   39.67,2,    0.00,2,    2.90,2,   0.149,2,   0.071,2,  -0.001,2,  2337.1,2,  2374.8,2,-999.000,9,-999.0000,9, -999.00,9, -999.00,9,  -999.0,9,  -999.0,-999.000,9,-999.000, -999.00,9, 1240.50,-999.0000,9,-999.0000,9,-999.0000,9,-999.0000,9,-999.0000,9,-999.0000,-999.000,-999.0000,9, -999.00
318M20040615,        P02,      17,          1,         14,         14,2,20040622,       0526,       30.0,   136.0337,       4532,  1340.8,   3.1395,  34.4595,2,  34.4599,2,  67.0000,2,    67.1,2,  131.89,2,   39.73,2,    0.00,2,    2.89,2,   0.095,2,   0.047,2,  -0.007,2,  -999.0,9,  2380.8,2,-999.000,9,-999.0000,9, -999.00,9, -999.00,9,  -999.0,9,  -999.0,-999.000,9,-999.000, -999.00,9, 1340.80,-999.0000,9,-999.0000,9,-999.0000,9,-999.0000,9,-999.0000,9,-999.0000,-999.000,-999.0000,9, -999.00
318M20040615,        P02,      17,          1,         13,         13,2,20040622,       0526,       30.0,   136.0337,       4532,  1436.3,   2.8956,  34.4857,2,  34.4888,2,  70.2000,2,    70.3,2,  136.54,2,   39.78,2,    0.00,2,    2.89,2,   0.068,2,   0.030,2,  -0.011,2,  -999.0,9,  2386.7,2,-999.000,9,-999.0000,9, -999.00,9, -999.00,9,  -999.0,9,  -999.0,-999.000,9,-999.000, -999.00,9, 1436.30,-999.0000,9,-999.0000,9,-999.0000,9,-999.0000,9,-999.0000,9,-999.0000,-999.000,-999.0000,9, -999.00
318M20040615,        P02,      17,          1,         12,         12,2,20040622,       0526,       30.0,   136.0337,       4532,  1516.5,   2.7712,  34.5016,2,  34.5026,2,  74.0000,2,    73.8,2,  138.22,2,   39.89,2,    0.00,2,    2.88,2,   0.054,2,   0.028,2,  -0.011,2,  -999.0,9,  2390.0,3,-999.000,9,-999.0000,9, -999.00,9, -999.00,9,  -999.0,9,  -999.0,-999.000,9,-999.000, -999.00,9, 1516.50,-999.0000,9,-999.0000,9,-999.0000,9,-999.0000,9,-999.0000,9,-999.0000,-999.000,-999.0000,9, -999.00
318M20040615,        P02,      17,          1,         11,         11,2,20040622,       0526,       30.0,   136.0337,       4532,  1678.8,   2.4630,  34.5371,2,  34.5380,2,  82.0000,2,    81.0,2,  143.42,2,   39.99,2,    0.00,2,    2.86,2,   0.032,2,   0.019,2,   0.001,2,  -999.0,9,  2396.0,2,-999.000,9,-999.0000,9, -999.00,9, -999.00,9,  -999.0,9,  -999.0,-999.000,9,-999.000, -999.00,9, 1678.80,-999.0000,9,-999.0000,9,-999.0000,9,-999.0000,9,-999.0000,9,-999.0000,-999.000,-999.0000,9, -999.00
318M20040615,        P02,      17,          1,         10,         10,2,20040622,       0526,       30.0,   136.0337,       4532,  1880.7,   2.2098,  34.5751,2,  34.5755,2,  95.9000,2,    96.0,2,  144.73,2,   39.35,2,    0.00,2,    2.78,2,   0.017,2,   0.011,2,   0.005,2,  -999.0,9,  2401.0,2,-999.000,9,-999.0000,9, -999.00,9, -999.00,9,  -999.0,9,  -999.0,-999.000,9,-999.000, -999.00,9, 1880.70,-999.0000,9,-999.0000,9,-999.0000,9,-999.0000,9,-999.0000,9,-999.0000,-999.000,-999.0000,9, -999.00
318M20040615,        P02,      17,          1,          9,          9,2,20040622,       0526,       30.0,   136.0337,       4532,  2097.6,   1.9973,  34.6052,2,  34.6054,2, 107.1000,2,   108.7,2,  145.87,2,   38.56,2,    0.00,2,    2.74,2,   0.012,2,   0.004,2,   0.004,2,  -999.0,9,  2407.6,2,-999.000,9,-999.0000,9, -999.00,9, -999.00,9,  -999.0,9,  -999.0,-999.000,9,-999.000, -999.00,9, 2097.60,-999.0000,9,-999.0000,9,-999.0000,9,-999.0000,9,-999.0000,9,-999.0000,-999.000,-999.0000,9, -999.00
318M20040615,        P02,      17,          1,          8,          8,2,20040622,       0526,       30.0,   136.0337,       4532,  2351.1,   1.8471,  34.6278,2,  34.6280,2, 118.7000,2,   119.9,2,  145.69,2,   37.75,2,    0.00,2,    2.68,2,   0.007,2,   0.010,2,   0.005,2,  -999.0,9,  2410.6,2,-999.000,9,-999.0000,9, -999.00,9, -999.00,9,  -999.0,9,  -999.0,-999.000,9,-999.000, -999.00,9, 2351.10,-999.0000,9,-999.0000,9,-999.0000,9,-999.0000,9,-999.0000,9,-999.0000,-999.000,-999.0000,9, -999.00
318M20040615,        P02,      17,          1,          7,          7,2,20040622,       0526,       30.0,   136.0337,       4532,  2598.7,   1.7352,  34.6444,2,  34.6452,2, 128.4000,2,   129.7,2,  145.16,2,   37.13,2,    0.00,2,    2.64,2,   0.006,2,   0.005,2,   0.004,2,  -999.0,9,  2415.0,2,-999.000,9,-999.0000,9, -999.00,9, -999.00,9,  -999.0,9,  -999.0,-999.000,9,-999.000, -999.00,9, 2598.70,-999.0000,9,-999.0000,9,-999.0000,9,-999.0000,9,-999.0000,9,-999.0000,-999.000,-999.0000,9, -999.00
318M20040615,        P02,      17,          1,          6,          6,2,20040622,       0526,       30.0,   136.0337,       4532,  2854.5,   1.6473,  34.6573,2,  34.6582,2, 136.7000,2,   137.2,2,  144.61,2,   36.60,2,    0.00,2,    2.60,2,   0.010,2,   0.005,2,   0.002,2,  -999.0,9,  2414.0,2,-999.000,9,-999.0000,9, -999.00,9, -999.00,9,  -999.0,9,  -999.0,-999.000,9,-999.000, -999.00,9, 2854.50,-999.0000,9,-999.0000,9,-999.0000,9,-999.0000,9,-999.0000,9,-999.0000,-999.000,-999.0000,9, -999.00
318M20040615,        P02,      17,          1,          5,          5,2,20040622,       0526,       30.0,   136.0337,       4532,  3110.2,   1.5757,  34.6680,2,  34.6686,2, 143.9000,2,   144.3,2,  144.05,2,   36.12,2,    0.00,2,    2.57,2,   0.009,2,   0.004,2,   0.005,2,  -999.0,9,  2414.3,2,-999.000,9,-999.0000,9, -999.00,9, -999.00,9,  -999.0,9,  -999.0,-999.000,9,-999.000, -999.00,9, 3110.20,-999.0000,9,-999.0000,9,-999.0000,9,-999.0000,9,-999.0000,9,-999.0000,-999.000,-999.0000,9, -999.00
318M20040615,        P02,      17,          1,          4,          4,2,20040622,       0526,       30.0,   136.0337,       4532,  3498.2,   1.5320,  34.6769,2,  34.6763,2, 150.3000,2,   150.4,2,  143.33,2,   35.70,2,    0.00,2,    2.53,2,   0.012,2,   0.006,2,   0.005,2,  -999.0,9,  2414.8,2,-999.000,9,-999.0000,9, -999.00,9, -999.00,9,  -999.0,9,  -999.0,-999.000,9,-999.000, -999.00,9, 3498.20,-999.0000,9,-999.0000,9,-999.0000,9,-999.0000,9,-999.0000,9,-999.0000,-999.000,-999.0000,9, -999.00
318M20040615,        P02,      17,          1,          3,          3,2,20040622,       0526,       30.0,   136.0337,       4532,  3894.9,   1.5392,  34.6808,2,  34.6805,2, 152.8000,2,   153.2,2,  142.82,2,   35.44,2,    0.00,2,    2.52,2,   0.013,6,   0.009,6,   0.003,6,  -999.0,9,  2413.7,2,-999.000,9,-999.0000,9, -999.00,9, -999.00,9,  -999.0,9,  -999.0,-999.000,9,-999.000, -999.00,9, 3894.90,-999.0000,9,-999.0000,9,-999.0000,9,-999.0000,9,-999.0000,9,-999.0000,-999.000,-999.0000,9, -999.00
318M20040615,        P02,      17,          1,          2,          2,2,20040622,       0526,       30.0,   136.0337,       4532,  4243.8,   1.5671,  34.6820,2,  34.6835,2, 153.9000,3,   154.5,2,  142.46,2,   35.44,2,    0.00,2,    2.51,2,   0.012,2,   0.008,2,   0.003,2,  -999.0,9,  2413.9,2,-999.000,9,-999.0000,9, -999.00,9, -999.00,9,  -999.0,9,  -999.0,-999.000,9,-999.000, -999.00,9, 4243.80,-999.0000,9,-999.0000,9,-999.0000,9,-999.0000,9,-999.0000,9,-999.0000,-999.000,-999.0000,9, -999.00
318M20040615,        P02,      17,          1,          1,          1,2,20040622,       0526,       30.0,   136.0337,       4532,  4611.2,   1.6032,  34.6827,2,  34.6851,2, 154.5000,3,   155.1,2,  142.28,2,   35.39,2,    0.00,2,    2.51,2,   0.012,2,   0.004,2,  -0.003,2,  -999.0,9,  2414.8,6,-999.000,9,-999.0000,9, -999.00,9, -999.00,9,  -999.0,9,  -999.0,-999.000,9,-999.000, -999.00,9, 4611.20,-999.0000,9,-999.0000,9,-999.0000,9,-999.0000,9,-999.0000,9,-999.0000,-999.000,-999.0000,9, -999.00