BOTTLE,20131027SIOCCHRJL
EXPOCODE,SECT_ID,STNNBR,CASTNO,SAMPNO,BTLNBR,BTLNBR_FLAG_W,DATE,TIME,LATITUDE,LONGITUDE,DEPTH,CTDPRS,CTDTMP,CTDSAL,CTDSAL_FLAG_W,SALNTY,SALNTY_FLAG_W,CTDOXY,CTDOXY_FLAG_W,OXYGEN,OXYGEN_FLAG_W,SILCAT,SILCAT_FLAG_W,NITRAT,NITRAT_FLAG_W,NITRIT,NITRIT_FLAG_W,PHSPHT,PHSPHT_FLAG_W,CFC-11,CFC-11_FLAG_W,CFC-12,CFC-12_FLAG_W,CFC113,CFC113_FLAG_W,TCARBN,TCARBN_FLAG_W,ALKALI,ALKALI_FLAG_W,TRITUM,TRITUM_FLAG_W,HELIUM,HELIUM_FLAG_W,DELHE3,DELHE3_FLAG_W,DELC13,DELC13_FLAG_W,DELC14,DELC14_FLAG_W,C14ERR,NEON,NEON_FLAG_W,NEONER,DOC,DOC_FLAG_W,CTDRAW,CDOM380,CDOM380_FLAG_W,CDOM325,CDOM325_FLAG_W,CDOMSL,CDOMSL_FLAG_W,CDOM340,CDOM340_FLAG_W,CDOMSN,CDOMSN_FLAG_W,HELIER,TRITER,CDOM412,CDOM412_FLAG_W,DELHER
,,,,,,,,,,,METERS,DBAR,ITS-90,PSS-78,,PSS-78,,UMOL/KG,,UMOL/KG,,UMOL/KG,,UMOL/KG,,UMOL/KG,,UMOL/KG,,PMOL/KG,,PMOL/KG,,PMOL/KG,,UMOL/KG,,UMOL/KG,,TU,,NMOL/KG,,PERCNT,,/MILLE,,/MILLE,,/MILLE,NMOL/KG,,NMOL/KG,UMOL/KG,,DBAR,1/M,,1/M,,1/NM,,1/M,,1/NM,,NMOL/KG,TU,1/M,,PERCNT
318M20040615,        P02,      26,          2,         34,         34,2,20040625,       0457,     30.013,   141.1258,       3559,     8.8,  24.8402,  34.7420,2,  34.7426,2, 214.1000,2,   213.4,2,    1.73,2,    0.23,2,    0.00,2,    0.07,2,   1.913,2,   1.138,2,   0.145,2,  1970.0,6,  2284.4,6,-999.000,9,-999.0000,9, -999.00,9, -999.00,9,  -999.0,9,  -999.0,-999.000,9,-999.000,   67.90,2,    8.80,-999.0000,9,-999.0000,9,-999.0000,9,-999.0000,9,-999.0000,9,-999.0000,-999.000,-999.0000,9, -999.00
318M20040615,        P02,      26,          2,         33,         33,2,20040625,       0457,     30.013,   141.1258,       3559,    35.2,  21.7756,  34.7831,2,  34.7856,2, 227.5000,2,   227.1,2,    1.72,2,    0.22,2,    0.00,2,    0.07,2,   2.134,2,   1.285,2,   0.153,2,  1975.1,2,  2284.0,2,-999.000,9,-999.0000,9, -999.00,9, -999.00,9,  -999.0,9,  -999.0,-999.000,9,-999.000,   64.10,2,   35.20,-999.0000,9,-999.0000,9,-999.0000,9,-999.0000,9,-999.0000,9,-999.0000,-999.000,-999.0000,9, -999.00
318M20040615,        P02,      26,          2,         32,         32,2,20040625,       0457,     30.013,   141.1258,       3559,    69.5,  19.4104,  34.8352,2,  34.8350,2, 229.7000,2,   231.2,2,    2.25,2,    0.22,2,    0.01,2,    0.09,2,   2.329,2,   1.398,2,   0.148,2,  1992.9,2,  2290.5,2,-999.000,9,-999.0000,9, -999.00,9, -999.00,9,  -999.0,9,  -999.0,-999.000,9,-999.000,   60.90,2,   69.50,-999.0000,9,-999.0000,9,-999.0000,9,-999.0000,9,-999.0000,9,-999.0000,-999.000,-999.0000,9, -999.00
318M20040615,        P02,      26,          2,         31,         31,2,20040625,       0457,     30.013,   141.1258,       3559,   119.9,  17.8381,  34.8153,2,  34.8199,2, 211.7000,2,   215.9,2,    3.47,2,    3.07,2,    0.03,2,    0.26,2,   2.412,2,   1.447,2,   0.123,2,  2017.1,2,  2288.6,2,-999.000,9,-999.0000,9, -999.00,9, -999.00,9,  -999.0,9,  -999.0,-999.000,9,-999.000,   58.90,2,  119.90,-999.0000,9,-999.0000,9,-999.0000,9,-999.0000,9,-999.0000,9,-999.0000,-999.000,-999.0000,9, -999.00
318M20040615,        P02,      26,          2,         30,         30,2,20040625,       0457,     30.013,   141.1258,       3559,   170.1,  17.2595,  34.7933,2,  34.7953,2, 216.4000,2,   218.6,2,    3.82,2,    3.59,2,    0.01,2,    0.29,2,   2.488,2,   1.488,2,   0.122,2,  2020.0,2,  2284.3,3,-999.000,9,-999.0000,9, -999.00,9, -999.00,9,  -999.0,9,  -999.0,-999.000,9,-999.000,   57.10,2,  170.10,-999.0000,9,-999.0000,9,-999.0000,9,-999.0000,9,-999.0000,9,-999.0000,-999.000,-999.0000,9, -999.00
318M20040615,        P02,      26,          2,         29,         29,2,20040625,       0457,     30.013,   141.1258,       3559,   220.1,  17.0794,  34.7981,2,  34.7987,2, 220.6000,2,   221.2,2,    3.81,2,    3.59,2,    0.01,2,    0.29,2,   2.490,2,   1.486,2,   0.125,2,  2018.7,2,  2290.0,2,-999.000,9,-999.0000,9, -999.00,9, -999.00,9,  -999.0,9,  -999.0,-999.000,9,-999.000,   56.30,2,  220.10,-999.0000,9,-999.0000,9,-999.0000,9,-999.0000,9,-999.0000,9,-999.0000,-999.000,-999.0000,9, -999.00
318M20040615,        P02,      26,          2,         28,         28,2,20040625,       0457,     30.013,   141.1258,       3559,   269.0,  16.6870,  34.7436,2,  34.7430,2, 209.0000,2,   209.1,2,    5.40,2,    5.38,2,    0.01,2,    0.41,2,   2.492,2,   1.472,2,   0.071,2,  2032.2,2,  2283.6,2,-999.000,9,-999.0000,9, -999.00,9, -999.00,9,  -999.0,9,  -999.0,-999.000,9,-999.000,   55.00,2,  269.00,-999.0000,9,-999.0000,9,-999.0000,9,-999.0000,9,-999.0000,9,-999.0000,-999.000,-999.0000,9, -999.00
318M20040615,        P02,      26,          2,         27,         27,2,20040625,       0457,     30.013,   141.1258,       3559,   320.5,  15.7121,  34.6548,2,  34.6584,2, 196.4000,2,   193.0,2,    8.56,2,    8.25,2,    0.01,2,    0.62,2,   2.520,6,   1.429,6,   0.036,6,  2055.0,2,  2280.6,2,-999.000,9,-999.0000,9, -999.00,9, -999.00,9,  -999.0,9,  -999.0,-999.000,9,-999.000,   53.50,2,  320.50,-999.0000,9,-999.0000,9,-999.0000,9,-999.0000,9,-999.0000,9,-999.0000,-999.000,-999.0000,9, -999.00
318M20040615,        P02,      26,          2,         26,         26,2,20040625,       0457,     30.013,   141.1258,       3559,   369.4,  14.5773,  34.5736,2,  34.5772,2, 186.7000,2,   185.2,2,   12.42,2,   10.80,2,    0.01,2,    0.79,2,   2.514,2,   1.402,2,   0.030,2,  2074.6,2,  2279.3,2,-999.000,9,-999.0000,9, -999.00,9, -999.00,9,  -999.0,9,  -999.0,-999.000,9,-999.000,   51.90,2,  369.40,-999.0000,9,-999.0000,9,-999.0000,9,-999.0000,9,-999.0000,9,-999.0000,-999.000,-999.0000,9, -999.00
318M20040615,        P02,      26,          2,         25,         25,2,20040625,       0457,     30.013,   141.1258,       3559,   418.7,  13.0492,  34.4649,2,  34.4663,2, 182.3000,2,   184.3,2,   16.64,2,   13.31,2,    0.00,2,    0.98,2,   2.564,2,   1.390,2,   0.043,2,  2093.2,2,  2278.3,2,-999.000,9,-999.0000,9, -999.00,9, -999.00,9,  -999.0,9,  -999.0,-999.000,9,-999.000,   50.50,2,  418.70,-999.0000,9,-999.0000,9,-999.0000,9,-999.0000,9,-999.0000,9,-999.0000,-999.000,-999.0000,9, -999.00
318M20040615,        P02,      26,          2,         24,         24,2,20040625,       0457,     30.013,   141.1258,       3559,   468.8,  11.9101,  34.3835,2,  34.3870,2, 181.8000,2,   181.3,2,   21.04,2,   15.52,2,    0.00,2,    1.14,2,   2.539,2,   1.369,2,   0.058,2,  2108.4,2,  2277.6,2,-999.000,9,-999.0000,9, -999.00,9, -999.00,9,  -999.0,9,  -999.0,-999.000,9,-999.000,   49.00,2,  468.80,-999.0000,9,-999.0000,9,-999.0000,9,-999.0000,9,-999.0000,9,-999.0000,-999.000,-999.0000,9, -999.00
318M20040615,        P02,      26,          2,         23,         23,2,20040625,       0457,     30.013,   141.1258,       3559,   539.9,   9.8095,  34.2565,2,  34.2593,2, 162.7000,2,   162.4,2,   34.11,2,   20.81,2,    0.00,2,    1.53,2,   2.293,2,   1.171,2,   0.062,2,  2148.5,2,  2280.1,2,-999.000,9,-999.0000,9, -999.00,9, -999.00,9,  -999.0,9,  -999.0,-999.000,9,-999.000,   47.30,2,  539.90,-999.0000,9,-999.0000,9,-999.0000,9,-999.0000,9,-999.0000,9,-999.0000,-999.000,-999.0000,9, -999.00
318M20040615,        P02,      26,          2,         22,         22,2,20040625,       0457,     30.013,   141.1258,       3559,   639.5,   7.5302,  34.1577,2,  34.1601,2, 136.1000,2,   136.3,2,   53.07,2,   27.22,2,    0.00,2,    2.00,2,   1.896,2,   0.933,2,   0.062,2,  2199.8,2,  2293.2,2,-999.000,9,-999.0000,9, -999.00,9, -999.00,9,  -999.0,9,  -999.0,-999.000,9,-999.000,   45.20,2,  639.50,-999.0000,9,-999.0000,9,-999.0000,9,-999.0000,9,-999.0000,9,-999.0000,-999.000,-999.0000,9, -999.00
318M20040615,        P02,      26,          2,         21,         21,2,20040625,       0457,     30.013,   141.1258,       3559,   739.6,   5.8480,  34.1323,2,  34.1352,2, 105.2000,2,   106.9,2,   73.55,2,   32.87,2,    0.00,2,    2.42,2,   1.501,2,   0.708,2,   0.058,2,  2286.5,4,  2309.0,2,-999.000,9,-999.0000,9, -999.00,9, -999.00,9,  -999.0,9,  -999.0,-999.000,9,-999.000,   43.40,2,  739.60,-999.0000,9,-999.0000,9,-999.0000,9,-999.0000,9,-999.0000,9,-999.0000,-999.000,-999.0000,9, -999.00
318M20040615,        P02,      26,          2,         20,         20,2,20040625,       0457,     30.013,   141.1258,       3559,   840.0,   4.9405,  34.2087,2,  34.2113,2,  78.4000,2,    78.0,2,   92.68,2,   36.80,2,    0.00,2,    2.70,2,   0.875,2,   0.402,2,   0.015,2,  2313.4,4,  2326.7,2,-999.000,9,-999.0000,9, -999.00,9, -999.00,9,  -999.0,9,  -999.0,-999.000,9,-999.000,   41.50,2,  840.00,-999.0000,9,-999.0000,9,-999.0000,9,-999.0000,9,-999.0000,9,-999.0000,-999.000,-999.0000,9, -999.00
318M20040615,        P02,      26,          2,         19,         19,2,20040625,       0457,     30.013,   141.1258,       3559,   939.3,   4.2592,  34.2638,2,  34.2706,2,  61.6000,2,    61.2,2,  106.86,2,   39.27,2,    0.00,2,    2.87,2,   0.536,2,   0.252,2,   0.021,2,  2303.6,4,  2342.8,2,-999.000,9,-999.0000,9, -999.00,9, -999.00,9,  -999.0,9,  -999.0,-999.000,9,-999.000,   40.30,2,  939.30,-999.0000,9,-999.0000,9,-999.0000,9,-999.0000,9,-999.0000,9,-999.0000,-999.000,-999.0000,9, -999.00
318M20040615,        P02,      26,          2,         18,         18,2,20040625,       0457,     30.013,   141.1258,       3559,  1038.6,   3.7059,  34.3278,2,  34.3290,2,  51.2000,2,    49.3,2,  120.00,2,   40.93,2,    0.00,2,    2.99,2,   0.287,2,   0.133,2,   0.008,2,  2327.1,3,  2358.6,2,-999.000,9,-999.0000,9, -999.00,9, -999.00,9,  -999.0,9,  -999.0,-999.000,9,-999.000,   39.80,2, 1038.60,-999.0000,9,-999.0000,9,-999.0000,9,-999.0000,9,-999.0000,9,-999.0000,-999.000,-999.0000,9, -999.00
318M20040615,        P02,      26,          2,         17,         17,2,20040625,       0457,     30.013,   141.1258,       3559,  1138.4,   3.4080,  34.3763,2,  34.3771,2,  51.2000,2,    49.6,2,  127.74,2,   41.26,2,    0.00,2,    3.01,2,   0.205,2,   0.095,2,   0.007,2,  2346.3,2,  2368.6,2,-999.000,9,-999.0000,9, -999.00,9, -999.00,9,  -999.0,9,  -999.0,-999.000,9,-999.000,   39.00,2, 1138.40,-999.0000,9,-999.0000,9,-999.0000,9,-999.0000,9,-999.0000,9,-999.0000,-999.000,-999.0000,9, -999.00
318M20040615,        P02,      26,          2,         16,         16,2,20040625,       0457,     30.013,   141.1258,       3559,  1239.4,   3.1433,  34.4113,2,  34.4144,2,  47.8000,2,    47.2,2,  134.61,2,   41.69,2,    0.00,2,    3.04,2,   0.125,2,   0.062,2,   0.000,2,  2344.5,4,  2374.9,2,-999.000,9,-999.0000,9, -999.00,9, -999.00,9,  -999.0,9,  -999.0,-999.000,9,-999.000,   38.70,2, 1239.40,-999.0000,9,-999.0000,9,-999.0000,9,-999.0000,9,-999.0000,9,-999.0000,-999.000,-999.0000,9, -999.00
318M20040615,        P02,      26,          2,         15,         15,2,20040625,       0457,     30.013,   141.1258,       3559,  1340.2,   2.8775,  34.4515,2,  34.4543,2,  50.9000,2,    48.6,2,  141.65,2,   41.86,2,    0.00,2,    3.05,2,   0.084,2,   0.040,2,   0.002,2,  2360.3,3,  2383.4,2,-999.000,9,-999.0000,9, -999.00,9, -999.00,9,  -999.0,9,  -999.0,-999.000,9,-999.000,   37.60,2, 1340.20,-999.0000,9,-999.0000,9,-999.0000,9,-999.0000,9,-999.0000,9,-999.0000,-999.000,-999.0000,9, -999.00
318M20040615,        P02,      26,          2,         14,         14,2,20040625,       0457,     30.013,   141.1258,       3559,  1441.0,   2.6703,  34.4882,2,  34.4877,2,  58.4000,2,    58.6,2,  144.37,2,   41.38,2,    0.00,2,    3.00,2,   0.056,2,   0.027,2,  -0.001,2,  2360.9,3,  2393.3,2,-999.000,9,-999.0000,9, -999.00,9, -999.00,9,  -999.0,9,  -999.0,-999.000,9,-999.000,   37.80,2, 1441.00,-999.0000,9,-999.0000,9,-999.0000,9,-999.0000,9,-999.0000,9,-999.0000,-999.000,-999.0000,9, -999.00
318M20040615,        P02,      26,          2,         13,         13,2,20040625,       0457,     30.013,   141.1258,       3559,  1546.6,   2.4564,  34.5140,2,  34.5166,2,  57.1000,2,    53.4,2,  152.34,2,   41.98,2,    0.00,2,    3.04,2,   0.024,2,   0.014,2,   0.001,2,  2372.5,2,  2397.2,2,-999.000,9,-999.0000,9, -999.00,9, -999.00,9,  -999.0,9,  -999.0,-999.000,9,-999.000,   37.60,2, 1546.60,-999.0000,9,-999.0000,9,-999.0000,9,-999.0000,9,-999.0000,9,-999.0000,-999.000,-999.0000,9, -999.00
318M20040615,        P02,      26,          2,         12,         12,2,20040625,       0457,     30.013,   141.1258,       3559,  1642.3,   2.3218,  34.5369,2,  34.5382,2,  60.2000,2,    60.1,2,  154.34,2,   41.61,2,    0.00,2,    3.01,2,   0.021,2,   0.011,2,   0.002,2,  2371.1,2,  2401.2,2,-999.000,9,-999.0000,9, -999.00,9, -999.00,9,  -999.0,9,  -999.0,-999.000,9,-999.000,   37.40,2, 1642.30,-999.0000,9,-999.0000,9,-999.0000,9,-999.0000,9,-999.0000,9,-999.0000,-999.000,-999.0000,9, -999.00
318M20040615,        P02,      26,          2,         11,         11,2,20040625,       0457,     30.013,   141.1258,       3559,  1741.5,   2.1912,  34.5595,2,  34.5612,2,  67.6000,2,    67.3,2,  155.99,2,   41.19,2,    0.00,2,    2.97,2,   0.012,2,   0.006,2,  -0.001,2,  2370.1,2,  2406.2,2,-999.000,9,-999.0000,9, -999.00,9, -999.00,9,  -999.0,9,  -999.0,-999.000,9,-999.000,   37.90,2, 1741.50,-999.0000,9,-999.0000,9,-999.0000,9,-999.0000,9,-999.0000,9,-999.0000,-999.000,-999.0000,9, -999.00
318M20040615,        P02,      26,          2,         10,         10,2,20040625,       0457,     30.013,   141.1258,       3559,  1840.5,   2.0819,  34.5783,2,  34.5852,2,  74.2000,3,    75.1,2,  156.89,2,   40.76,2,    0.00,2,    2.94,2,   0.010,2,   0.005,2,  -0.001,2,  2047.8,4,  2409.4,2,-999.000,9,-999.0000,9, -999.00,9, -999.00,9,  -999.0,9,  -999.0,-999.000,9,-999.000,   37.80,2, 1840.50,-999.0000,9,-999.0000,9,-999.0000,9,-999.0000,9,-999.0000,9,-999.0000,-999.000,-999.0000,9, -999.00
318M20040615,        P02,      26,          2,          9,          9,2,20040625,       0457,     30.013,   141.1258,       3559,  1936.4,   1.9962,  34.5907,2,  34.5932,2,  80.6000,2,    82.6,2,  157.23,2,   40.28,2,    0.00,2,    2.91,2,   0.008,2,   0.004,2,   0.000,2,  2364.2,2,  2410.5,2,-999.000,9,-999.0000,9, -999.00,9, -999.00,9,  -999.0,9,  -999.0,-999.000,9,-999.000,   37.50,2, 1936.40,-999.0000,9,-999.0000,9,-999.0000,9,-999.0000,9,-999.0000,9,-999.0000,-999.000,-999.0000,9, -999.00
318M20040615,        P02,      26,          2,          8,          8,2,20040625,       0457,     30.013,   141.1258,       3559,  2097.9,   1.8919,  34.6081,2,  34.6125,2,  91.7000,3,    92.6,2,  157.03,2,   39.86,2,    0.00,2,    2.86,2,   0.006,2,   0.004,2,   0.000,2,  2357.1,2,  2411.0,2,-999.000,9,-999.0000,9, -999.00,9, -999.00,9,  -999.0,9,  -999.0,-999.000,9,-999.000,   37.10,2, 2097.90,-999.0000,9,-999.0000,9,-999.0000,9,-999.0000,9,-999.0000,9,-999.0000,-999.000,-999.0000,9, -999.00
318M20040615,        P02,      26,          2,          7,          7,2,20040625,       0457,     30.013,   141.1258,       3559,  2350.9,   1.7632,  34.6296,2,  34.6334,2, 104.8000,3,   105.7,2,  156.48,2,   39.16,2,    0.00,2,    2.81,2,   0.004,2,   0.004,2,   0.001,2,  2351.0,2,  2416.0,2,-999.000,9,-999.0000,9, -999.00,9, -999.00,9,  -999.0,9,  -999.0,-999.000,9,-999.000,   37.80,2, 2350.90,-999.0000,9,-999.0000,9,-999.0000,9,-999.0000,9,-999.0000,9,-999.0000,-999.000,-999.0000,9, -999.00
318M20040615,        P02,      26,          2,          6,          6,2,20040625,       0457,     30.013,   141.1258,       3559,  2598.1,   1.6871,  34.6437,2,  34.6471,2, 115.4000,3,   114.8,2,  155.72,2,   38.68,2,    0.00,2,    2.75,2,   0.004,2,   0.003,2,   0.000,2,  2345.9,2,  2415.9,2,-999.000,9,-999.0000,9, -999.00,9, -999.00,9,  -999.0,9,  -999.0,-999.000,9,-999.000,   37.40,2, 2598.10,-999.0000,9,-999.0000,9,-999.0000,9,-999.0000,9,-999.0000,9,-999.0000,-999.000,-999.0000,9, -999.00
318M20040615,        P02,      26,          2,          5,          5,2,20040625,       0457,     30.013,   141.1258,       3559,  2851.4,   1.6204,  34.6546,2,  34.6699,2, 126.3000,3,   125.9,2,  152.97,2,   37.88,2,    0.00,2,    2.69,2,   0.005,2,   0.004,2,   0.000,2,  2339.2,2,  2414.8,2,-999.000,9,-999.0000,9, -999.00,9, -999.00,9,  -999.0,9,  -999.0,-999.000,9,-999.000,   37.30,2, 2851.40,-999.0000,9,-999.0000,9,-999.0000,9,-999.0000,9,-999.0000,9,-999.0000,-999.000,-999.0000,9, -999.00
318M20040615,        P02,      26,          2,          3,          3,9,20040625,       0457,     30.013,   141.1258,       3559,  3111.6,   1.5668,  34.6635,2,-999.0000,9, 133.1000,9,  -999.0,9, -999.00,9, -999.00,9, -999.00,9, -999.00,9,-999.000,9,-999.000,9,-999.000,9,  2335.4,2,  -999.0,9,-999.000,9,-999.0000,9, -999.00,9, -999.00,9,  -999.0,9,  -999.0,-999.000,9,-999.000,   37.60,9, 3111.60,-999.0000,9,-999.0000,9,-999.0000,9,-999.0000,9,-999.0000,9,-999.0000,-999.000,-999.0000,9, -999.00
318M20040615,        P02,      26,          2,          4,          4,2,20040625,       0457,     30.013,   141.1258,       3559,  3116.3,   1.5655,  34.6638,2,  34.6676,2, 133.1000,3,   133.7,2,  151.88,2,   37.40,2,    0.00,2,    2.66,2,   0.006,2,   0.006,2,   0.000,2,  -999.0,9,  2414.8,2,-999.000,9,-999.0000,9, -999.00,9, -999.00,9,  -999.0,9,  -999.0,-999.000,9,-999.000,   37.50,2, 3116.30,-999.0000,9,-999.0000,9,-999.0000,9,-999.0000,9,-999.0000,9,-999.0000,-999.000,-999.0000,9, -999.00
318M20040615,        P02,      26,          2,          2,          2,2,20040625,       0457,     30.013,   141.1258,       3559,  3314.6,   1.5284,  34.6691,2,  34.6723,2, 135.4000,3,   135.5,2,  153.68,2,   37.24,2,    0.00,2,    2.65,2,   0.006,2,   0.004,2,   0.005,2,  2335.0,2,  2416.2,2,-999.000,9,-999.0000,9, -999.00,9, -999.00,9,  -999.0,9,  -999.0,-999.000,9,-999.000,   37.00,2, 3314.60,-999.0000,9,-999.0000,9,-999.0000,9,-999.0000,9,-999.0000,9,-999.0000,-999.000,-999.0000,9, -999.00
318M20040615,        P02,      26,          2,          1,          1,2,20040625,       0457,     30.013,   141.1258,       3559,  3571.9,   1.4733,  34.6774,2,  34.6784,2, 143.7000,2,   144.2,2,  151.68,2,   36.65,2,    0.00,2,    2.61,2,   0.009,2,   0.008,2,   0.002,2,  2327.0,6,  2416.2,6,-999.000,9,-999.0000,9, -999.00,9, -999.00,9,  -999.0,9,  -999.0,-999.000,9,-999.000, -999.00,2, 3571.90,-999.0000,9,-999.0000,9,-999.0000,9,-999.0000,9,-999.0000,9,-999.0000,-999.000,-999.0000,9, -999.00