BOTTLE,20131027SIOCCHRJL
EXPOCODE,SECT_ID,STNNBR,CASTNO,SAMPNO,BTLNBR,BTLNBR_FLAG_W,DATE,TIME,LATITUDE,LONGITUDE,DEPTH,CTDPRS,CTDTMP,CTDSAL,CTDSAL_FLAG_W,SALNTY,SALNTY_FLAG_W,CTDOXY,CTDOXY_FLAG_W,OXYGEN,OXYGEN_FLAG_W,SILCAT,SILCAT_FLAG_W,NITRAT,NITRAT_FLAG_W,NITRIT,NITRIT_FLAG_W,PHSPHT,PHSPHT_FLAG_W,CFC-11,CFC-11_FLAG_W,CFC-12,CFC-12_FLAG_W,CFC113,CFC113_FLAG_W,TCARBN,TCARBN_FLAG_W,ALKALI,ALKALI_FLAG_W,TRITUM,TRITUM_FLAG_W,HELIUM,HELIUM_FLAG_W,DELHE3,DELHE3_FLAG_W,DELC13,DELC13_FLAG_W,DELC14,DELC14_FLAG_W,C14ERR,NEON,NEON_FLAG_W,NEONER,DOC,DOC_FLAG_W,CTDRAW,CDOM380,CDOM380_FLAG_W,CDOM325,CDOM325_FLAG_W,CDOMSL,CDOMSL_FLAG_W,CDOM340,CDOM340_FLAG_W,CDOMSN,CDOMSN_FLAG_W,HELIER,TRITER,CDOM412,CDOM412_FLAG_W,DELHER
,,,,,,,,,,,METERS,DBAR,ITS-90,PSS-78,,PSS-78,,UMOL/KG,,UMOL/KG,,UMOL/KG,,UMOL/KG,,UMOL/KG,,UMOL/KG,,PMOL/KG,,PMOL/KG,,PMOL/KG,,UMOL/KG,,UMOL/KG,,TU,,NMOL/KG,,PERCNT,,/MILLE,,/MILLE,,/MILLE,NMOL/KG,,NMOL/KG,UMOL/KG,,DBAR,1/M,,1/M,,1/NM,,1/M,,1/NM,,NMOL/KG,TU,1/M,,PERCNT
318M20040615,        P02,      43,          1,         36,         36,2,20040701,       0955,    30.0005,   151.6532,       5933,    18.7,  27.2510,  35.0701,2,  35.0691,2, 205.3000,2,   203.7,2,    1.42,2,    0.18,2,    0.00,2,    0.04,2,   1.754,2,   1.104,2,   0.122,2,  1983.9,6,  2303.5,6,-999.000,9,-999.0000,9, -999.00,9, -999.00,9,  -999.0,9,  -999.0,-999.000,9,-999.000, -999.00,9,   18.70,-999.0000,9,-999.0000,9,-999.0000,9,-999.0000,9,-999.0000,9,-999.0000,-999.000,-999.0000,9, -999.00
318M20040615,        P02,      43,          1,         35,         35,2,20040701,       0955,    30.0005,   151.6532,       5933,    49.5,  20.9478,  34.8984,2,  34.9016,2, 235.3000,2,   238.1,2,    1.57,2,    0.18,2,    0.00,2,    0.04,2,   2.283,2,   1.392,2,   0.142,2,  1981.4,2,  2293.3,2,-999.000,9,-999.0000,9, -999.00,9, -999.00,9,  -999.0,9,  -999.0,-999.000,9,-999.000, -999.00,9,   49.50,-999.0000,9,-999.0000,9,-999.0000,9,-999.0000,9,-999.0000,9,-999.0000,-999.000,-999.0000,9, -999.00
318M20040615,        P02,      43,          1,         34,         34,2,20040701,       0955,    30.0005,   151.6532,       5933,    98.4,  18.8691,  34.8922,2,  34.8902,2, 229.1000,2,   229.0,2,    1.91,2,    0.18,2,    0.00,2,    0.07,2,   2.401,2,   1.447,2,   0.145,2,  2000.9,2,  2292.6,2,-999.000,9,-999.0000,9, -999.00,9, -999.00,9,  -999.0,9,  -999.0,-999.000,9,-999.000, -999.00,9,   98.40,-999.0000,9,-999.0000,9,-999.0000,9,-999.0000,9,-999.0000,9,-999.0000,-999.000,-999.0000,9, -999.00
318M20040615,        P02,      43,          1,         33,         33,2,20040701,       0955,    30.0005,   151.6532,       5933,   149.2,  17.6824,  34.8081,2,  34.8212,2, 216.0000,2,   218.0,2,    2.79,2,    2.62,2,    0.19,2,    0.22,2,   2.488,2,   1.497,2,   0.120,2,  2017.8,2,  2285.3,2,-999.000,9,-999.0000,9, -999.00,9, -999.00,9,  -999.0,9,  -999.0,-999.000,9,-999.000, -999.00,9,  149.20,-999.0000,9,-999.0000,9,-999.0000,9,-999.0000,9,-999.0000,9,-999.0000,-999.000,-999.0000,9, -999.00
318M20040615,        P02,      43,          1,         32,         32,2,20040701,       0955,    30.0005,   151.6532,       5933,   199.8,  17.0777,  34.7746,2,  34.7740,2, 215.7000,2,   217.0,2,    3.84,2,    4.06,2,    0.01,2,    0.30,2,   2.520,2,   1.524,2,   0.096,2,  2023.9,2,  2284.6,2,-999.000,9,-999.0000,9, -999.00,9, -999.00,9,  -999.0,9,  -999.0,-999.000,9,-999.000, -999.00,9,  199.80,-999.0000,9,-999.0000,9,-999.0000,9,-999.0000,9,-999.0000,9,-999.0000,-999.000,-999.0000,9, -999.00
318M20040615,        P02,      43,          1,         31,         31,2,20040701,       0955,    30.0005,   151.6532,       5933,   249.6,  16.8234,  34.7690,2,  34.7681,2, 219.1000,2,   219.0,2,    4.18,2,    4.43,2,    0.01,2,    0.31,2,   2.542,2,   1.523,2,   0.094,2,  2024.7,2,  2283.4,2,-999.000,9,-999.0000,9, -999.00,9, -999.00,9,  -999.0,9,  -999.0,-999.000,9,-999.000, -999.00,9,  249.60,-999.0000,9,-999.0000,9,-999.0000,9,-999.0000,9,-999.0000,9,-999.0000,-999.000,-999.0000,9, -999.00
318M20040615,        P02,      43,          1,         30,         30,2,20040701,       0955,    30.0005,   151.6532,       5933,   299.5,  16.6217,  34.7563,2,  34.7575,2, 221.5000,2,   217.7,2,    4.88,2,    4.85,2,    0.01,2,    0.35,2,   2.551,2,   1.530,2,   0.091,2,  2028.6,2,  2283.1,2,-999.000,9,-999.0000,9, -999.00,9, -999.00,9,  -999.0,9,  -999.0,-999.000,9,-999.000, -999.00,9,  299.50,-999.0000,9,-999.0000,9,-999.0000,9,-999.0000,9,-999.0000,9,-999.0000,-999.000,-999.0000,9, -999.00
318M20040615,        P02,      43,          1,         29,         29,2,20040701,       0955,    30.0005,   151.6532,       5933,   349.6,  16.1147,  34.6976,2,  34.6955,2, 206.4000,2,   205.8,2,    6.83,2,    6.75,2,    0.00,2,    0.47,2,   2.551,2,   1.511,2,   0.062,2,  2042.3,2,  2281.0,2,-999.000,9,-999.0000,9, -999.00,9, -999.00,9,  -999.0,9,  -999.0,-999.000,9,-999.000, -999.00,9,  349.60,-999.0000,9,-999.0000,9,-999.0000,9,-999.0000,9,-999.0000,9,-999.0000,-999.000,-999.0000,9, -999.00
318M20040615,        P02,      43,          1,         28,         28,2,20040701,       0955,    30.0005,   151.6532,       5933,   399.0,  15.0487,  34.6023,2,-999.0000,9, 197.7000,5,   195.9,2,    9.87,2,    9.33,2,    0.00,2,    0.65,2,   2.620,2,   1.527,2,   0.040,2,  2061.7,2,  2277.3,2,-999.000,9,-999.0000,9, -999.00,9, -999.00,9,  -999.0,9,  -999.0,-999.000,9,-999.000, -999.00,9,  399.00,-999.0000,9,-999.0000,9,-999.0000,9,-999.0000,9,-999.0000,9,-999.0000,-999.000,-999.0000,9, -999.00
318M20040615,        P02,      43,          1,         27,         27,2,20040701,       0955,    30.0005,   151.6532,       5933,   449.9,  13.7943,  34.5076,2,  34.5089,2, 195.3000,2,   192.3,2,   13.28,2,   11.49,2,    0.00,2,    0.80,2,   2.684,2,   1.524,2,   0.032,2,  -999.0,9,  -999.0,9,-999.000,9,-999.0000,9, -999.00,9, -999.00,9,  -999.0,9,  -999.0,-999.000,9,-999.000, -999.00,9,  449.90,-999.0000,9,-999.0000,9,-999.0000,9,-999.0000,9,-999.0000,9,-999.0000,-999.000,-999.0000,9, -999.00
318M20040615,        P02,      43,          1,         26,         26,2,20040701,       0955,    30.0005,   151.6532,       5933,   500.1,  12.4075,  34.4082,2,  34.4080,2, 190.5000,2,   188.8,2,   17.93,2,   14.08,2,    0.00,2,    0.99,2,   2.681,2,   1.505,2,   0.054,2,  2096.8,2,  2276.9,2,-999.000,9,-999.0000,9, -999.00,9, -999.00,9,  -999.0,9,  -999.0,-999.000,9,-999.000, -999.00,9,  500.10,-999.0000,9,-999.0000,9,-999.0000,9,-999.0000,9,-999.0000,9,-999.0000,-999.000,-999.0000,9, -999.00
318M20040615,        P02,      43,          1,         25,         25,2,20040701,       0955,    30.0005,   151.6532,       5933,   599.9,   9.7286,  34.2041,2,  34.2050,2, 186.9000,2,   185.7,2,   29.05,2,   18.80,2,    0.00,2,    1.35,2,   2.705,2,   1.474,2,   0.092,2,  -999.0,9,  -999.0,9,-999.000,9,-999.0000,9, -999.00,9, -999.00,9,  -999.0,9,  -999.0,-999.000,9,-999.000, -999.00,9,  599.90,-999.0000,9,-999.0000,9,-999.0000,9,-999.0000,9,-999.0000,9,-999.0000,-999.000,-999.0000,9, -999.00
318M20040615,        P02,      43,          1,         24,         24,2,20040701,       0955,    30.0005,   151.6532,       5933,   700.7,   7.5283,  34.0623,2,  34.0621,2, 157.9000,2,   162.7,2,   44.29,2,   24.80,2,    0.00,2,    1.81,2,   2.474,2,   1.312,2,   0.103,2,  -999.0,9,  -999.0,9,-999.000,9,-999.0000,9, -999.00,9, -999.00,9,  -999.0,9,  -999.0,-999.000,9,-999.000, -999.00,9,  700.70,-999.0000,9,-999.0000,9,-999.0000,9,-999.0000,9,-999.0000,9,-999.0000,-999.000,-999.0000,9, -999.00
318M20040615,        P02,      43,          1,         23,         23,2,20040701,       0955,    30.0005,   151.6532,       5933,   800.5,   5.7708,  34.0450,2,  34.0444,2, 110.4000,2,   117.8,2,   67.42,2,   32.09,2,    0.00,2,    2.35,2,   1.789,2,   0.916,2,   0.073,2,  2237.0,2,  2300.8,2,-999.000,9,-999.0000,9, -999.00,9, -999.00,9,  -999.0,9,  -999.0,-999.000,9,-999.000, -999.00,9,  800.50,-999.0000,9,-999.0000,9,-999.0000,9,-999.0000,9,-999.0000,9,-999.0000,-999.000,-999.0000,9, -999.00
318M20040615,        P02,      43,          1,         22,         22,2,20040701,       0955,    30.0005,   151.6532,       5933,   900.8,   4.6754,  34.1392,2,  34.1389,2,  76.8000,2,    72.0,2,   92.41,2,   37.98,2,    0.00,2,    2.75,2,   0.901,2,   0.457,2,   0.037,2,  -999.0,9,  -999.0,9,-999.000,9,-999.0000,9, -999.00,9, -999.00,9,  -999.0,9,  -999.0,-999.000,9,-999.000, -999.00,9,  900.80,-999.0000,9,-999.0000,9,-999.0000,9,-999.0000,9,-999.0000,9,-999.0000,-999.000,-999.0000,9, -999.00
318M20040615,        P02,      43,          1,         21,         21,2,20040701,       0955,    30.0005,   151.6532,       5933,  1002.5,   4.1791,  34.2141,2,  34.2130,2,  53.3000,2,    53.0,2,  106.28,2,   40.23,2,    0.00,2,    2.92,2,   0.499,2,   0.256,2,   0.018,2,  2318.9,2,  2338.7,2,-999.000,9,-999.0000,9, -999.00,9, -999.00,9,  -999.0,9,  -999.0,-999.000,9,-999.000, -999.00,9, 1002.50,-999.0000,9,-999.0000,9,-999.0000,9,-999.0000,9,-999.0000,9,-999.0000,-999.000,-999.0000,9, -999.00
318M20040615,        P02,      43,          1,         20,         20,2,20040701,       0955,    30.0005,   151.6532,       5933,  1101.9,   3.6761,  34.3042,2,  34.3028,2,  40.7000,2,    39.3,2,  121.44,2,   41.92,2,    0.00,2,    3.03,2,   0.206,2,   0.105,2,   0.005,2,  -999.0,9,  -999.0,9,-999.000,9,-999.0000,9, -999.00,9, -999.00,9,  -999.0,9,  -999.0,-999.000,9,-999.000, -999.00,9, 1101.90,-999.0000,9,-999.0000,9,-999.0000,9,-999.0000,9,-999.0000,9,-999.0000,-999.000,-999.0000,9, -999.00
318M20040615,        P02,      43,          1,         19,         19,2,20040701,       0955,    30.0005,   151.6532,       5933,  1197.8,   3.3544,  34.3705,2,  34.3691,2,  36.2000,2,    36.3,2,  130.50,2,   42.72,2,    0.00,2,    3.07,2,   0.094,2,   0.052,2,   0.005,2,  2357.6,2,  2369.4,2,-999.000,9,-999.0000,9, -999.00,9, -999.00,9,  -999.0,9,  -999.0,-999.000,9,-999.000, -999.00,9, 1197.80,-999.0000,9,-999.0000,9,-999.0000,9,-999.0000,9,-999.0000,9,-999.0000,-999.000,-999.0000,9, -999.00
318M20040615,        P02,      43,          1,         18,         18,2,20040701,       0955,    30.0005,   151.6532,       5933,  1299.3,   3.0791,  34.4180,2,  34.4174,2,  36.4000,2,    36.8,2,  138.12,2,   43.23,2,    0.00,2,    3.09,2,   0.051,2,   0.028,2,   0.001,2,  2365.3,2,  2381.8,2,-999.000,9,-999.0000,9, -999.00,9, -999.00,9,  -999.0,9,  -999.0,-999.000,9,-999.000, -999.00,9, 1299.30,-999.0000,9,-999.0000,9,-999.0000,9,-999.0000,9,-999.0000,9,-999.0000,-999.000,-999.0000,9, -999.00
318M20040615,        P02,      43,          1,         17,         17,2,20040701,       0955,    30.0005,   151.6532,       5933,  1400.0,   2.8416,  34.4579,2,  34.4563,2,  39.1000,2,    39.3,2,  144.49,2,   43.34,2,    0.00,2,    3.07,2,   0.029,2,   0.017,2,   0.000,2,  2371.0,2,  2386.4,2,-999.000,9,-999.0000,9, -999.00,9, -999.00,9,  -999.0,9,  -999.0,-999.000,9,-999.000, -999.00,9, 1400.00,-999.0000,9,-999.0000,9,-999.0000,9,-999.0000,9,-999.0000,9,-999.0000,-999.000,-999.0000,9, -999.00
318M20040615,        P02,      43,          1,         16,         16,2,20040701,       0955,    30.0005,   151.6532,       5933,  1500.1,   2.6294,  34.4856,2,  34.4810,2,  41.8000,3,    41.6,2,  150.49,2,   43.33,2,    0.00,2,    3.07,2,   0.023,2,   0.013,2,   0.000,2,  2375.4,2,  2393.3,2,-999.000,9,-999.0000,9, -999.00,9, -999.00,9,  -999.0,9,  -999.0,-999.000,9,-999.000, -999.00,9, 1500.10,-999.0000,9,-999.0000,9,-999.0000,9,-999.0000,9,-999.0000,9,-999.0000,-999.000,-999.0000,9, -999.00
318M20040615,        P02,      43,          1,         15,         15,2,20040701,       0955,    30.0005,   151.6532,       5933,  1600.5,   2.4800,  34.5107,2,  34.5105,2,  45.5000,2,    46.2,2,  154.33,2,   42.99,2,    0.00,2,    3.05,2,   0.014,2,   0.008,2,   0.001,2,  2378.5,2,  2398.7,2,-999.000,9,-999.0000,9, -999.00,9, -999.00,9,  -999.0,9,  -999.0,-999.000,9,-999.000, -999.00,9, 1600.50,-999.0000,9,-999.0000,9,-999.0000,9,-999.0000,9,-999.0000,9,-999.0000,-999.000,-999.0000,9, -999.00
318M20040615,        P02,      43,          1,         14,         14,2,20040701,       0955,    30.0005,   151.6532,       5933,  1801.6,   2.2045,  34.5558,2,  34.5548,2,  57.9000,2,    58.4,2,  159.84,2,   42.31,2,    0.00,2,    2.99,2,   0.009,2,   0.005,2,   0.001,2,  -999.0,9,  -999.0,9,-999.000,9,-999.0000,9, -999.00,9, -999.00,9,  -999.0,9,  -999.0,-999.000,9,-999.000, -999.00,9, 1801.60,-999.0000,9,-999.0000,9,-999.0000,9,-999.0000,9,-999.0000,9,-999.0000,-999.000,-999.0000,9, -999.00
318M20040615,        P02,      43,          1,         13,         13,2,20040701,       0955,    30.0005,   151.6532,       5933,  1999.5,   2.0151,  34.5891,2,  34.5882,2,  73.2000,2,    74.0,2,  161.46,2,   41.29,2,    0.00,2,    2.92,2,   0.005,2,   0.006,2,   0.001,2,  -999.0,9,  2408.8,2,-999.000,9,-999.0000,9, -999.00,9, -999.00,9,  -999.0,9,  -999.0,-999.000,9,-999.000, -999.00,9, 1999.50,-999.0000,9,-999.0000,9,-999.0000,9,-999.0000,9,-999.0000,9,-999.0000,-999.000,-999.0000,9, -999.00
318M20040615,        P02,      43,          1,         12,         12,2,20040701,       0955,    30.0005,   151.6532,       5933,  2248.6,   1.8347,  34.6183,2,  34.6173,2,  90.1000,2,    91.3,2,  161.06,2,   40.09,2,    0.00,2,    2.84,2,   0.002,2,   0.001,2,   0.000,2,  -999.0,9,  -999.0,9,-999.000,9,-999.0000,9, -999.00,9, -999.00,9,  -999.0,9,  -999.0,-999.000,9,-999.000, -999.00,9, 2248.60,-999.0000,9,-999.0000,9,-999.0000,9,-999.0000,9,-999.0000,9,-999.0000,-999.000,-999.0000,9, -999.00
318M20040615,        P02,      43,          1,         11,         11,2,20040701,       0955,    30.0005,   151.6532,       5933,  2501.1,   1.7138,  34.6393,2,  34.6379,2, 108.4000,2,   109.3,2,  158.07,2,   38.97,2,    0.00,2,    2.75,2,   0.004,2,   0.004,2,  -0.001,2,  -999.0,9,  2415.8,6,-999.000,9,-999.0000,9, -999.00,9, -999.00,9,  -999.0,9,  -999.0,-999.000,9,-999.000, -999.00,9, 2501.10,-999.0000,9,-999.0000,9,-999.0000,9,-999.0000,9,-999.0000,9,-999.0000,-999.000,-999.0000,9, -999.00
318M20040615,        P02,      43,          1,         10,         10,2,20040701,       0955,    30.0005,   151.6532,       5933,  2753.7,   1.6319,  34.6527,2,  34.6517,2, 120.5000,2,   120.2,2,  156.21,2,   38.23,2,    0.00,2,    2.69,2,   0.005,2,   0.004,2,   0.000,2,  -999.0,9,  -999.0,9,-999.000,9,-999.0000,9, -999.00,9, -999.00,9,  -999.0,9,  -999.0,-999.000,9,-999.000, -999.00,9, 2753.70,-999.0000,9,-999.0000,9,-999.0000,9,-999.0000,9,-999.0000,9,-999.0000,-999.000,-999.0000,9, -999.00
318M20040615,        P02,      43,          1,          9,          9,2,20040701,       0955,    30.0005,   151.6532,       5933,  3002.5,   1.5652,  34.6636,2,  34.6619,2, 129.3000,2,   130.0,2,  153.96,2,   37.51,2,    0.00,2,    2.64,2,   0.002,2,   0.003,2,   0.001,2,  -999.0,9,  2415.8,2,-999.000,9,-999.0000,9, -999.00,9, -999.00,9,  -999.0,9,  -999.0,-999.000,9,-999.000, -999.00,9, 3002.50,-999.0000,9,-999.0000,9,-999.0000,9,-999.0000,9,-999.0000,9,-999.0000,-999.000,-999.0000,9, -999.00
318M20040615,        P02,      43,          1,          8,          8,2,20040701,       0955,    30.0005,   151.6532,       5933,  3399.8,   1.5140,  34.6732,2,  34.6723,2, 138.8000,2,   140.6,2,  151.95,2,   36.90,2,    0.00,2,    2.58,2,   0.002,2,   0.003,2,  -0.001,2,  -999.0,9,  2416.7,2,-999.000,9,-999.0000,9, -999.00,9, -999.00,9,  -999.0,9,  -999.0,-999.000,9,-999.000, -999.00,9, 3399.80,-999.0000,9,-999.0000,9,-999.0000,9,-999.0000,9,-999.0000,9,-999.0000,-999.000,-999.0000,9, -999.00
318M20040615,        P02,      43,          1,          7,          7,2,20040701,       0955,    30.0005,   151.6532,       5933,  3790.7,   1.4884,  34.6796,2,  34.6790,2, 146.4000,2,   146.9,2,  150.29,2,   36.40,2,    0.00,2,    2.55,2,   0.003,2,   0.001,2,   0.003,2,  -999.0,9,  2417.0,2,-999.000,9,-999.0000,9, -999.00,9, -999.00,9,  -999.0,9,  -999.0,-999.000,9,-999.000, -999.00,9, 3790.70,-999.0000,9,-999.0000,9,-999.0000,9,-999.0000,9,-999.0000,9,-999.0000,-999.000,-999.0000,9, -999.00
318M20040615,        P02,      43,          1,          6,          6,2,20040701,       0955,    30.0005,   151.6532,       5933,  4195.5,   1.4766,  34.6847,2,  34.6835,2, 151.9000,2,   153.0,2,  148.95,2,   35.95,2,    0.00,2,    2.51,2,   0.001,2,   0.003,2,   0.000,2,  -999.0,9,  2415.7,2,-999.000,9,-999.0000,9, -999.00,9, -999.00,9,  -999.0,9,  -999.0,-999.000,9,-999.000, -999.00,9, 4195.50,-999.0000,9,-999.0000,9,-999.0000,9,-999.0000,9,-999.0000,9,-999.0000,-999.000,-999.0000,9, -999.00
318M20040615,        P02,      43,          1,          5,          5,2,20040701,       0955,    30.0005,   151.6532,       5933,  4594.1,   1.4858,  34.6882,2,  34.6874,2, 156.9000,2,   157.2,2,  147.63,2,   35.73,2,    0.00,2,    2.50,2,   0.004,2,   0.004,2,   0.001,2,  -999.0,9,  2414.7,2,-999.000,9,-999.0000,9, -999.00,9, -999.00,9,  -999.0,9,  -999.0,-999.000,9,-999.000, -999.00,9, 4594.10,-999.0000,9,-999.0000,9,-999.0000,9,-999.0000,9,-999.0000,9,-999.0000,-999.000,-999.0000,9, -999.00
318M20040615,        P02,      43,          1,          4,          4,2,20040701,       0955,    30.0005,   151.6532,       5933,  4993.9,   1.5026,  34.6912,2,  34.6898,2, 162.2000,2,   162.8,2,  143.60,2,   35.51,2,    0.00,2,    2.45,2,   0.003,2,   0.005,2,  -0.001,2,  -999.0,9,  2410.8,2,-999.000,9,-999.0000,9, -999.00,9, -999.00,9,  -999.0,9,  -999.0,-999.000,9,-999.000, -999.00,9, 4993.90,-999.0000,9,-999.0000,9,-999.0000,9,-999.0000,9,-999.0000,9,-999.0000,-999.000,-999.0000,9, -999.00
318M20040615,        P02,      43,          1,          3,          3,2,20040701,       0955,    30.0005,   151.6532,       5933,  5388.2,   1.5295,  34.6934,2,  34.6917,2, 166.2000,2,   166.9,2,  140.29,2,   35.40,2,    0.00,2,    2.44,2,   0.003,2,   0.005,2,   0.000,2,  -999.0,9,  2408.3,2,-999.000,9,-999.0000,9, -999.00,9, -999.00,9,  -999.0,9,  -999.0,-999.000,9,-999.000, -999.00,9, 5388.20,-999.0000,9,-999.0000,9,-999.0000,9,-999.0000,9,-999.0000,9,-999.0000,-999.000,-999.0000,9, -999.00
318M20040615,        P02,      43,          1,          2,          2,2,20040701,       0955,    30.0005,   151.6532,       5933,  5817.0,   1.5692,  34.6949,2,  34.6937,2, 169.4000,2,   170.0,2,  138.06,2,   35.12,2,    0.00,2,    2.41,2,   0.004,2,   0.004,2,   0.002,2,  -999.0,9,  2405.9,2,-999.000,9,-999.0000,9, -999.00,9, -999.00,9,  -999.0,9,  -999.0,-999.000,9,-999.000, -999.00,9, 5817.00,-999.0000,9,-999.0000,9,-999.0000,9,-999.0000,9,-999.0000,9,-999.0000,-999.000,-999.0000,9, -999.00
318M20040615,        P02,      43,          1,          1,          1,2,20040701,       0955,    30.0005,   151.6532,       5933,  6086.9,   1.5978,  34.6953,2,  34.6939,2, 170.1000,2,   168.1,3,  138.21,2,   35.01,2,    0.00,2,    2.41,2,   0.005,2,   0.007,2,   0.004,2,  -999.0,9,  2406.0,6,-999.000,9,-999.0000,9, -999.00,9, -999.00,9,  -999.0,9,  -999.0,-999.000,9,-999.000, -999.00,9, 6086.90,-999.0000,9,-999.0000,9,-999.0000,9,-999.0000,9,-999.0000,9,-999.0000,-999.000,-999.0000,9, -999.00