BOTTLE,20131027SIOCCHRJL
EXPOCODE,SECT_ID,STNNBR,CASTNO,SAMPNO,BTLNBR,BTLNBR_FLAG_W,DATE,TIME,LATITUDE,LONGITUDE,DEPTH,CTDPRS,CTDTMP,CTDSAL,CTDSAL_FLAG_W,SALNTY,SALNTY_FLAG_W,CTDOXY,CTDOXY_FLAG_W,OXYGEN,OXYGEN_FLAG_W,SILCAT,SILCAT_FLAG_W,NITRAT,NITRAT_FLAG_W,NITRIT,NITRIT_FLAG_W,PHSPHT,PHSPHT_FLAG_W,CFC-11,CFC-11_FLAG_W,CFC-12,CFC-12_FLAG_W,CFC113,CFC113_FLAG_W,TCARBN,TCARBN_FLAG_W,ALKALI,ALKALI_FLAG_W,TRITUM,TRITUM_FLAG_W,HELIUM,HELIUM_FLAG_W,DELHE3,DELHE3_FLAG_W,DELC13,DELC13_FLAG_W,DELC14,DELC14_FLAG_W,C14ERR,NEON,NEON_FLAG_W,NEONER,DOC,DOC_FLAG_W,CTDRAW,CDOM380,CDOM380_FLAG_W,CDOM325,CDOM325_FLAG_W,CDOMSL,CDOMSL_FLAG_W,CDOM340,CDOM340_FLAG_W,CDOMSN,CDOMSN_FLAG_W,HELIER,TRITER,CDOM412,CDOM412_FLAG_W,DELHER
,,,,,,,,,,,METERS,DBAR,ITS-90,PSS-78,,PSS-78,,UMOL/KG,,UMOL/KG,,UMOL/KG,,UMOL/KG,,UMOL/KG,,UMOL/KG,,PMOL/KG,,PMOL/KG,,PMOL/KG,,UMOL/KG,,UMOL/KG,,TU,,NMOL/KG,,PERCNT,,/MILLE,,/MILLE,,/MILLE,NMOL/KG,,NMOL/KG,UMOL/KG,,DBAR,1/M,,1/M,,1/NM,,1/M,,1/NM,,NMOL/KG,TU,1/M,,PERCNT
318M20040615,        P02,      47,          1,         36,         36,2,20040702,       2314,     30.003,   154.5955,       5787,    16.9,  24.4447,  34.6957,2,  34.7423,2, 225.8000,3,   217.2,2,    1.45,2,    0.18,2,    0.00,2,    0.04,2,   1.910,2,   1.184,2,   0.126,2,  1964.2,6,  2283.8,6,-999.000,9,-999.0000,9, -999.00,9, -999.00,9,  -999.0,9,  -999.0,-999.000,9,-999.000, -999.00,9,   16.90,-999.0000,9,-999.0000,9,-999.0000,9,-999.0000,9,-999.0000,9,-999.0000,-999.000,-999.0000,9, -999.00
318M20040615,        P02,      47,          1,         35,         35,2,20040702,       2314,     30.003,   154.5955,       5787,    44.7,  21.4523,  34.7976,2,  34.7944,2, 234.3000,2,   233.0,2,    1.62,2,    0.07,2,    0.00,2,    0.05,2,   2.198,2,   1.357,2,   0.143,2,  1980.2,2,  2287.5,2,-999.000,9,-999.0000,9, -999.00,9, -999.00,9,  -999.0,9,  -999.0,-999.000,9,-999.000, -999.00,9,   44.70,-999.0000,9,-999.0000,9,-999.0000,9,-999.0000,9,-999.0000,9,-999.0000,-999.000,-999.0000,9, -999.00
318M20040615,        P02,      47,          1,         34,         34,2,20040702,       2314,     30.003,   154.5955,       5787,    73.2,  19.7103,  34.8010,2,  34.8027,2, 233.2000,2,   242.7,2,    0.52,2,    0.07,2,    0.01,2,    0.07,2,   2.279,2,   1.368,2,   0.110,2,  1981.1,2,  2289.6,2,-999.000,9,-999.0000,9, -999.00,9, -999.00,9,  -999.0,9,  -999.0,-999.000,9,-999.000, -999.00,9,   73.20,-999.0000,9,-999.0000,9,-999.0000,9,-999.0000,9,-999.0000,9,-999.0000,-999.000,-999.0000,9, -999.00
318M20040615,        P02,      47,          1,         33,         33,2,20040702,       2314,     30.003,   154.5955,       5787,   127.9,  17.8752,  34.8055,2,  34.8051,2, 214.3000,2,   215.1,2,    3.08,2,    2.87,2,    0.05,2,    0.24,2,   2.434,2,   1.455,2,   0.127,2,  2017.7,2,  2286.9,2,-999.000,9,-999.0000,9, -999.00,9, -999.00,9,  -999.0,9,  -999.0,-999.000,9,-999.000, -999.00,9,  127.90,-999.0000,9,-999.0000,9,-999.0000,9,-999.0000,9,-999.0000,9,-999.0000,-999.000,-999.0000,9, -999.00
318M20040615,        P02,      47,          1,         32,         32,2,20040702,       2314,     30.003,   154.5955,       5787,   174.7,  17.2798,  34.8019,2,  34.8000,2, 217.8000,2,   219.1,2,    3.27,2,    3.44,2,    0.02,2,    0.25,2,   2.474,2,   1.491,2,   0.134,2,  2021.1,2,  2285.2,2,-999.000,9,-999.0000,9, -999.00,9, -999.00,9,  -999.0,9,  -999.0,-999.000,9,-999.000, -999.00,9,  174.70,-999.0000,9,-999.0000,9,-999.0000,9,-999.0000,9,-999.0000,9,-999.0000,-999.000,-999.0000,9, -999.00
318M20040615,        P02,      47,          1,         31,         31,2,20040702,       2314,     30.003,   154.5955,       5787,   211.0,  17.0782,  34.7929,2,  34.7929,2, 221.3000,2,   221.2,2,    3.44,2,    3.50,2,    0.02,2,    0.26,2,   2.511,6,   1.504,6,   0.139,6,  2020.8,2,  2285.1,2,-999.000,9,-999.0000,9, -999.00,9, -999.00,9,  -999.0,9,  -999.0,-999.000,9,-999.000, -999.00,9,  211.00,-999.0000,9,-999.0000,9,-999.0000,9,-999.0000,9,-999.0000,9,-999.0000,-999.000,-999.0000,9, -999.00
318M20040615,        P02,      47,          1,         30,         30,2,20040702,       2314,     30.003,   154.5955,       5787,   275.3,  16.7650,  34.7700,2,  34.7695,2, 224.7000,2,   218.0,2,    4.54,2,    4.47,2,    0.01,2,    0.33,2,   2.528,2,   1.505,2,   0.116,2,  2024.7,2,  2284.4,2,-999.000,9,-999.0000,9, -999.00,9, -999.00,9,  -999.0,9,  -999.0,-999.000,9,-999.000, -999.00,9,  275.30,-999.0000,9,-999.0000,9,-999.0000,9,-999.0000,9,-999.0000,9,-999.0000,-999.000,-999.0000,9, -999.00
318M20040615,        P02,      47,          1,         29,         29,2,20040702,       2314,     30.003,   154.5955,       5787,   327.2,  16.3332,  34.7226,2,  34.7231,2, 212.4000,2,   207.9,2,    6.36,2,    6.09,2,    0.01,2,    0.44,2,   2.523,2,   1.505,2,   0.081,2,  2037.6,2,  2281.5,2,-999.000,9,-999.0000,9, -999.00,9, -999.00,9,  -999.0,9,  -999.0,-999.000,9,-999.000, -999.00,9,  327.20,-999.0000,9,-999.0000,9,-999.0000,9,-999.0000,9,-999.0000,9,-999.0000,-999.000,-999.0000,9, -999.00
318M20040615,        P02,      47,          1,         28,         28,2,20040702,       2314,     30.003,   154.5955,       5787,   377.4,  15.4394,  34.6404,2,  34.6392,2, 208.1000,2,   193.6,2,    9.66,2,    8.84,2,    0.01,2,    0.63,2,   2.524,2,   1.470,2,   0.048,2,  -999.0,9,  2280.6,2,-999.000,9,-999.0000,9, -999.00,9, -999.00,9,  -999.0,9,  -999.0,-999.000,9,-999.000, -999.00,9,  377.40,-999.0000,9,-999.0000,9,-999.0000,9,-999.0000,9,-999.0000,9,-999.0000,-999.000,-999.0000,9, -999.00
318M20040615,        P02,      47,          1,         27,         27,2,20040702,       2314,     30.003,   154.5955,       5787,   427.4,  14.3870,  34.5605,2,  34.5593,2, 193.5000,2,   193.0,2,   12.41,2,   10.51,2,    0.01,2,    0.74,2,   2.575,2,   1.480,2,   0.056,2,  -999.0,9,  -999.0,9,-999.000,9,-999.0000,9, -999.00,9, -999.00,9,  -999.0,9,  -999.0,-999.000,9,-999.000, -999.00,9,  427.40,-999.0000,9,-999.0000,9,-999.0000,9,-999.0000,9,-999.0000,9,-999.0000,-999.000,-999.0000,9, -999.00
318M20040615,        P02,      47,          1,         26,         26,2,20040702,       2314,     30.003,   154.5955,       5787,   477.5,  13.1614,  34.4640,2,  34.4644,2, 193.4000,2,   189.7,2,   16.24,2,   12.67,2,    0.01,2,    0.91,2,   2.597,2,   1.493,2,   0.060,2,  2088.0,2,  2277.2,2,-999.000,9,-999.0000,9, -999.00,9, -999.00,9,  -999.0,9,  -999.0,-999.000,9,-999.000, -999.00,9,  477.50,-999.0000,9,-999.0000,9,-999.0000,9,-999.0000,9,-999.0000,9,-999.0000,-999.000,-999.0000,9, -999.00
318M20040615,        P02,      47,          1,         25,         25,2,20040702,       2314,     30.003,   154.5955,       5787,   547.8,  11.0004,  34.2958,2,  34.2961,2, 190.1000,2,   189.3,2,   23.73,2,   16.03,2,    0.01,2,    1.16,2,   2.653,2,   1.494,2,   0.089,2,  -999.0,9,  -999.0,9,-999.000,9,-999.0000,9, -999.00,9, -999.00,9,  -999.0,9,  -999.0,-999.000,9,-999.000, -999.00,9,  547.80,-999.0000,9,-999.0000,9,-999.0000,9,-999.0000,9,-999.0000,9,-999.0000,-999.000,-999.0000,9, -999.00
318M20040615,        P02,      47,          1,         24,         24,2,20040702,       2314,     30.003,   154.5955,       5787,   647.6,   7.6782,  34.0437,2,  34.0443,2, 173.8000,2,   176.1,2,   41.09,2,   23.02,2,    0.01,2,    1.70,2,   2.702,2,   1.471,2,   0.126,2,  -999.0,9,  2279.6,2,-999.000,9,-999.0000,9, -999.00,9, -999.00,9,  -999.0,9,  -999.0,-999.000,9,-999.000, -999.00,9,  647.60,-999.0000,9,-999.0000,9,-999.0000,9,-999.0000,9,-999.0000,9,-999.0000,-999.000,-999.0000,9, -999.00
318M20040615,        P02,      47,          1,         23,         23,2,20040702,       2314,     30.003,   154.5955,       5787,   748.6,   5.7038,  34.0220,2,  34.0226,2, 129.5000,2,   127.0,2,   65.53,2,   31.11,2,    0.01,2,    2.29,2,   2.030,2,   1.058,2,   0.090,2,  -999.0,9,  -999.0,9,-999.000,9,-999.0000,9, -999.00,9, -999.00,9,  -999.0,9,  -999.0,-999.000,9,-999.000, -999.00,9,  748.60,-999.0000,9,-999.0000,9,-999.0000,9,-999.0000,9,-999.0000,9,-999.0000,-999.000,-999.0000,9, -999.00
318M20040615,        P02,      47,          1,         22,         22,2,20040702,       2314,     30.003,   154.5955,       5787,   848.4,   4.7915,  34.1108,2,  34.1102,2,  83.5000,2,    82.4,2,   87.99,2,   36.63,2,    0.01,2,    2.67,2,   1.233,2,   0.631,2,   0.056,2,  2282.2,2,  2317.3,2,-999.000,9,-999.0000,9, -999.00,9, -999.00,9,  -999.0,9,  -999.0,-999.000,9,-999.000, -999.00,9,  848.40,-999.0000,9,-999.0000,9,-999.0000,9,-999.0000,9,-999.0000,9,-999.0000,-999.000,-999.0000,9, -999.00
318M20040615,        P02,      47,          1,         21,         21,2,20040702,       2314,     30.003,   154.5955,       5787,   950.3,   4.2245,  34.2046,2,  34.2037,2,  56.5000,2,    56.2,2,  104.66,2,   39.78,2,    0.01,2,    2.89,2,   0.632,2,   0.329,2,   0.027,2,  -999.0,9,  -999.0,9,-999.000,9,-999.0000,9, -999.00,9, -999.00,9,  -999.0,9,  -999.0,-999.000,9,-999.000, -999.00,9,  950.30,-999.0000,9,-999.0000,9,-999.0000,9,-999.0000,9,-999.0000,9,-999.0000,-999.000,-999.0000,9, -999.00
318M20040615,        P02,      47,          1,         20,         20,2,20040702,       2314,     30.003,   154.5955,       5787,  1055.2,   3.8075,  34.2732,2,  34.2735,2,  41.5000,2,    43.2,2,  116.77,2,   41.40,2,    0.01,2,    2.99,2,   0.330,2,   0.168,2,   0.010,2,  2337.4,2,  2351.1,2,-999.000,9,-999.0000,9, -999.00,9, -999.00,9,  -999.0,9,  -999.0,-999.000,9,-999.000, -999.00,9, 1055.20,-999.0000,9,-999.0000,9,-999.0000,9,-999.0000,9,-999.0000,9,-999.0000,-999.000,-999.0000,9, -999.00
318M20040615,        P02,      47,          1,         19,         19,2,20040702,       2314,     30.003,   154.5955,       5787,  1154.9,   3.4731,  34.3293,2,  34.3420,2,  35.9000,3,    36.8,2,  126.35,2,   41.92,2,    0.01,2,    3.05,2,   0.176,2,   0.096,2,   0.002,2,  -999.0,9,  -999.0,9,-999.000,9,-999.0000,9, -999.00,9, -999.00,9,  -999.0,9,  -999.0,-999.000,9,-999.000, -999.00,9, 1154.90,-999.0000,9,-999.0000,9,-999.0000,9,-999.0000,9,-999.0000,9,-999.0000,-999.000,-999.0000,9, -999.00
318M20040615,        P02,      47,          1,         18,         18,2,20040702,       2314,     30.003,   154.5955,       5787,  1257.2,   3.1612,  34.3872,2,  34.3873,2,  33.7000,2,    33.7,2,  135.56,2,   42.96,2,    0.00,2,    3.09,2,   0.086,2,   0.047,2,   0.001,2,  -999.0,9,  2374.6,2,-999.000,9,-999.0000,9, -999.00,9, -999.00,9,  -999.0,9,  -999.0,-999.000,9,-999.000, -999.00,9, 1257.20,-999.0000,9,-999.0000,9,-999.0000,9,-999.0000,9,-999.0000,9,-999.0000,-999.000,-999.0000,9, -999.00
318M20040615,        P02,      47,          1,         17,         17,2,20040702,       2314,     30.003,   154.5955,       5787,  1356.9,   2.8886,  34.4375,2,  34.4382,2,  34.7000,2,    34.5,2,  143.53,2,   43.43,2,    0.00,2,    3.10,2,   0.043,2,   0.020,2,  -0.001,2,  -999.0,9,  -999.0,9,-999.000,9,-999.0000,9, -999.00,9, -999.00,9,  -999.0,9,  -999.0,-999.000,9,-999.000, -999.00,9, 1356.90,-999.0000,9,-999.0000,9,-999.0000,9,-999.0000,9,-999.0000,9,-999.0000,-999.000,-999.0000,9, -999.00
318M20040615,        P02,      47,          1,         16,         16,2,20040702,       2314,     30.003,   154.5955,       5787,  1457.3,   2.6791,  34.4747,2,  34.4733,2,  37.9000,2,    37.8,2,  149.10,2,   43.49,2,    0.00,2,    3.09,2,   0.024,2,   0.014,2,   0.001,2,  -999.0,9,  -999.0,9,-999.000,9,-999.0000,9, -999.00,9, -999.00,9,  -999.0,9,  -999.0,-999.000,9,-999.000, -999.00,9, 1457.30,-999.0000,9,-999.0000,9,-999.0000,9,-999.0000,9,-999.0000,9,-999.0000,-999.000,-999.0000,9, -999.00
318M20040615,        P02,      47,          1,         15,         15,2,20040702,       2314,     30.003,   154.5955,       5787,  1559.2,   2.5172,  34.5015,2,  34.4992,2,  42.9000,2,    42.0,2,  153.35,2,   43.26,2,    0.00,2,    3.07,2,   0.017,2,   0.009,2,  -0.002,2,  -999.0,9,  2396.7,2,-999.000,9,-999.0000,9, -999.00,9, -999.00,9,  -999.0,9,  -999.0,-999.000,9,-999.000, -999.00,9, 1559.20,-999.0000,9,-999.0000,9,-999.0000,9,-999.0000,9,-999.0000,9,-999.0000,-999.000,-999.0000,9, -999.00
318M20040615,        P02,      47,          1,         14,         14,2,20040702,       2314,     30.003,   154.5955,       5787,  1760.6,   2.2059,  34.5499,2,  34.5493,2,  54.2000,2,    53.5,2,  160.43,2,   42.50,2,    0.00,2,    3.02,2,   0.008,2,   0.005,2,   0.002,2,  -999.0,9,  -999.0,9,-999.000,9,-999.0000,9, -999.00,9, -999.00,9,  -999.0,9,  -999.0,-999.000,9,-999.000, -999.00,9, 1760.60,-999.0000,9,-999.0000,9,-999.0000,9,-999.0000,9,-999.0000,9,-999.0000,-999.000,-999.0000,9, -999.00
318M20040615,        P02,      47,          1,         13,         13,2,20040702,       2314,     30.003,   154.5955,       5787,  1962.5,   2.0056,  34.5853,2,  34.5849,2,  68.9000,2,    68.1,2,  163.03,2,   41.63,2,    0.00,2,    2.94,2,   0.008,2,   0.006,2,   0.000,2,  -999.0,9,  2410.9,2,-999.000,9,-999.0000,9, -999.00,9, -999.00,9,  -999.0,9,  -999.0,-999.000,9,-999.000, -999.00,9, 1962.50,-999.0000,9,-999.0000,9,-999.0000,9,-999.0000,9,-999.0000,9,-999.0000,-999.000,-999.0000,9, -999.00
318M20040615,        P02,      47,          1,         12,         12,2,20040702,       2314,     30.003,   154.5955,       5787,  2119.3,   1.8871,  34.6067,2,  34.6092,2,  79.2000,3,    80.8,2,  162.83,2,   40.83,2,    0.00,2,    2.88,2,   0.004,2,   0.003,2,  -0.002,2,  -999.0,9,  -999.0,9,-999.000,9,-999.0000,9, -999.00,9, -999.00,9,  -999.0,9,  -999.0,-999.000,9,-999.000, -999.00,9, 2119.30,-999.0000,9,-999.0000,9,-999.0000,9,-999.0000,9,-999.0000,9,-999.0000,-999.000,-999.0000,9, -999.00
318M20040615,        P02,      47,          1,         11,         11,2,20040702,       2314,     30.003,   154.5955,       5787,  2382.2,   1.7441,  34.6328,2,  34.6324,2, 102.0000,2,   100.8,2,  159.81,2,   39.56,2,    0.00,2,    2.79,2,   0.004,2,   0.004,2,   0.001,2,  -999.0,9,  2415.3,2,-999.000,9,-999.0000,9, -999.00,9, -999.00,9,  -999.0,9,  -999.0,-999.000,9,-999.000, -999.00,9, 2382.20,-999.0000,9,-999.0000,9,-999.0000,9,-999.0000,9,-999.0000,9,-999.0000,-999.000,-999.0000,9, -999.00
318M20040615,        P02,      47,          1,         10,         10,2,20040702,       2314,     30.003,   154.5955,       5787,  2636.2,   1.6412,  34.6488,2,  34.6491,2, 113.2000,2,   114.1,2,  158.29,2,   38.64,2,    0.00,2,    2.73,2,   0.005,2,   0.002,2,  -0.002,2,  -999.0,9,  -999.0,9,-999.000,9,-999.0000,9, -999.00,9, -999.00,9,  -999.0,9,  -999.0,-999.000,9,-999.000, -999.00,9, 2636.20,-999.0000,9,-999.0000,9,-999.0000,9,-999.0000,9,-999.0000,9,-999.0000,-999.000,-999.0000,9, -999.00
318M20040615,        P02,      47,          1,          9,          9,2,20040702,       2314,     30.003,   154.5955,       5787,  2889.1,   1.5692,  34.6604,2,  34.6588,2, 123.5000,2,   124.9,2,  155.86,2,   37.90,2,    0.00,2,    2.67,2,   0.002,2,   0.001,2,   0.000,2,  -999.0,9,  2418.5,2,-999.000,9,-999.0000,9, -999.00,9, -999.00,9,  -999.0,9,  -999.0,-999.000,9,-999.000, -999.00,9, 2889.10,-999.0000,9,-999.0000,9,-999.0000,9,-999.0000,9,-999.0000,9,-999.0000,-999.000,-999.0000,9, -999.00
318M20040615,        P02,      47,          1,          8,          8,2,20040702,       2314,     30.003,   154.5955,       5787,  3149.1,   1.5165,  34.6691,2,  34.6676,2, 132.8000,2,   134.1,2,  154.18,2,   37.28,2,    0.00,2,    2.62,2,   0.003,2,   0.000,2,   0.001,2,  -999.0,9,  2418.6,2,-999.000,9,-999.0000,9, -999.00,9, -999.00,9,  -999.0,9,  -999.0,-999.000,9,-999.000, -999.00,9, 3149.10,-999.0000,9,-999.0000,9,-999.0000,9,-999.0000,9,-999.0000,9,-999.0000,-999.000,-999.0000,9, -999.00
318M20040615,        P02,      47,          1,          7,          7,2,20040702,       2314,     30.003,   154.5955,       5787,  3556.7,   1.4770,  34.6775,2,  34.6767,2, 142.2000,2,   143.1,2,  151.91,2,   36.59,2,    0.00,2,    2.57,2,   0.003,2,   0.002,2,  -0.001,2,  -999.0,9,  2415.5,2,-999.000,9,-999.0000,9, -999.00,9, -999.00,9,  -999.0,9,  -999.0,-999.000,9,-999.000, -999.00,9, 3556.70,-999.0000,9,-999.0000,9,-999.0000,9,-999.0000,9,-999.0000,9,-999.0000,-999.000,-999.0000,9, -999.00
318M20040615,        P02,      47,          1,          6,          6,2,20040702,       2314,     30.003,   154.5955,       5787,  3963.8,   1.4580,  34.6836,2,  34.6824,2, 150.1000,2,   150.6,2,  149.68,2,   36.14,2,    0.00,2,    2.54,2,   0.003,2,   0.002,2,  -0.001,2,  -999.0,9,  2415.9,2,-999.000,9,-999.0000,9, -999.00,9, -999.00,9,  -999.0,9,  -999.0,-999.000,9,-999.000, -999.00,9, 3963.80,-999.0000,9,-999.0000,9,-999.0000,9,-999.0000,9,-999.0000,9,-999.0000,-999.000,-999.0000,9, -999.00
318M20040615,        P02,      47,          1,          5,          5,2,20040702,       2314,     30.003,   154.5955,       5787,  4371.9,   1.4634,  34.6875,2,  34.6869,2, 154.8000,2,   155.2,2,  149.11,2,   35.86,2,    0.00,2,    2.52,2,   0.005,2,   0.003,2,   0.000,2,  -999.0,9,  2416.0,2,-999.000,9,-999.0000,9, -999.00,9, -999.00,9,  -999.0,9,  -999.0,-999.000,9,-999.000, -999.00,9, 4371.90,-999.0000,9,-999.0000,9,-999.0000,9,-999.0000,9,-999.0000,9,-999.0000,-999.000,-999.0000,9, -999.00
318M20040615,        P02,      47,          1,          4,          4,2,20040702,       2314,     30.003,   154.5955,       5787,  4790.9,   1.4783,  34.6908,2,  34.6902,2, 160.9000,2,   161.5,2,  145.37,2,   35.63,2,    0.00,2,    2.47,2,   0.004,2,   0.004,2,  -0.001,2,  -999.0,9,  2412.3,2,-999.000,9,-999.0000,9, -999.00,9, -999.00,9,  -999.0,9,  -999.0,-999.000,9,-999.000, -999.00,9, 4790.90,-999.0000,9,-999.0000,9,-999.0000,9,-999.0000,9,-999.0000,9,-999.0000,-999.000,-999.0000,9, -999.00
318M20040615,        P02,      47,          1,          3,          3,2,20040702,       2314,     30.003,   154.5955,       5787,  5303.7,   1.5052,  34.6941,2,  34.6965,2, 167.8000,3,   167.9,2,  139.06,2,   35.19,2,    0.00,2,    2.44,2,   0.003,2,   0.002,2,  -0.001,2,  -999.0,9,  2407.5,2,-999.000,9,-999.0000,9, -999.00,9, -999.00,9,  -999.0,9,  -999.0,-999.000,9,-999.000, -999.00,9, 5303.70,-999.0000,9,-999.0000,9,-999.0000,9,-999.0000,9,-999.0000,9,-999.0000,-999.000,-999.0000,9, -999.00
318M20040615,        P02,      47,          1,          2,          2,2,20040702,       2314,     30.003,   154.5955,       5787,  5714.5,   1.5454,  34.6951,2,  34.6942,2, 169.9000,2,   170.2,2,  137.19,2,   35.02,2,    0.00,2,    2.42,2,   0.004,2,   0.003,2,   0.000,2,  -999.0,9,  2406.2,2,-999.000,9,-999.0000,9, -999.00,9, -999.00,9,  -999.0,9,  -999.0,-999.000,9,-999.000, -999.00,9, 5714.50,-999.0000,9,-999.0000,9,-999.0000,9,-999.0000,9,-999.0000,9,-999.0000,-999.000,-999.0000,9, -999.00
318M20040615,        P02,      47,          1,          1,          1,2,20040702,       2314,     30.003,   154.5955,       5787,  5925.1,   1.5686,  34.6955,2,  34.6940,2, 170.1000,2,   170.9,2,  136.80,2,   34.90,2,    0.00,2,    2.41,2,   0.005,2,   0.004,2,   0.000,2,  -999.0,9,  2406.0,6,-999.000,9,-999.0000,9, -999.00,9, -999.00,9,  -999.0,9,  -999.0,-999.000,9,-999.000, -999.00,9, 5925.10,-999.0000,9,-999.0000,9,-999.0000,9,-999.0000,9,-999.0000,9,-999.0000,-999.000,-999.0000,9, -999.00