BOTTLE,20131027SIOCCHRJL
EXPOCODE,SECT_ID,STNNBR,CASTNO,SAMPNO,BTLNBR,BTLNBR_FLAG_W,DATE,TIME,LATITUDE,LONGITUDE,DEPTH,CTDPRS,CTDTMP,CTDSAL,CTDSAL_FLAG_W,SALNTY,SALNTY_FLAG_W,CTDOXY,CTDOXY_FLAG_W,OXYGEN,OXYGEN_FLAG_W,SILCAT,SILCAT_FLAG_W,NITRAT,NITRAT_FLAG_W,NITRIT,NITRIT_FLAG_W,PHSPHT,PHSPHT_FLAG_W,CFC-11,CFC-11_FLAG_W,CFC-12,CFC-12_FLAG_W,CFC113,CFC113_FLAG_W,TCARBN,TCARBN_FLAG_W,ALKALI,ALKALI_FLAG_W,TRITUM,TRITUM_FLAG_W,HELIUM,HELIUM_FLAG_W,DELHE3,DELHE3_FLAG_W,DELC13,DELC13_FLAG_W,DELC14,DELC14_FLAG_W,C14ERR,NEON,NEON_FLAG_W,NEONER,DOC,DOC_FLAG_W,CTDRAW,CDOM380,CDOM380_FLAG_W,CDOM325,CDOM325_FLAG_W,CDOMSL,CDOMSL_FLAG_W,CDOM340,CDOM340_FLAG_W,CDOMSN,CDOMSN_FLAG_W,HELIER,TRITER,CDOM412,CDOM412_FLAG_W,DELHER
,,,,,,,,,,,METERS,DBAR,ITS-90,PSS-78,,PSS-78,,UMOL/KG,,UMOL/KG,,UMOL/KG,,UMOL/KG,,UMOL/KG,,UMOL/KG,,PMOL/KG,,PMOL/KG,,PMOL/KG,,UMOL/KG,,UMOL/KG,,TU,,NMOL/KG,,PERCNT,,/MILLE,,/MILLE,,/MILLE,NMOL/KG,,NMOL/KG,UMOL/KG,,DBAR,1/M,,1/M,,1/NM,,1/M,,1/NM,,NMOL/KG,TU,1/M,,PERCNT
318M20040615,        P02,      86,          2,         36,         36,2,20040716,       0216,    29.9773,  -179.1808,       5420,    10.6,  27.2099,  34.9493,2,  34.9485,2, 205.3000,2,   205.1,2,    1.21,2,    0.20,2,    0.00,2,    0.01,2,   1.703,2,   1.066,2,   0.127,2,  1983.1,6,  2295.2,6,-999.000,9,-999.0000,9, -999.00,9, -999.00,9,  -999.0,9,  -999.0,-999.000,9,-999.000,   67.80,2,   10.60,-999.0000,9,-999.0000,9,-999.0000,9,-999.0000,9,-999.0000,9,-999.0000,-999.000,-999.0000,9, -999.00
318M20040615,        P02,      86,          2,         35,         35,2,20040716,       0216,    29.9773,  -179.1808,       5420,    37.5,  21.6113,  35.0413,2,  35.0116,2, 227.1000,2,   235.2,2,    1.58,2,    0.20,2,    0.00,2,    0.03,2,   2.191,2,   1.333,2,   0.149,2,  2000.4,2,  2299.1,2,-999.000,9,-999.0000,9, -999.00,9, -999.00,9,  -999.0,9,  -999.0,-999.000,9,-999.000,   64.80,2,   37.50,-999.0000,9,-999.0000,9,-999.0000,9,-999.0000,9,-999.0000,9,-999.0000,-999.000,-999.0000,9, -999.00
318M20040615,        P02,      86,          2,         34,         34,2,20040716,       0216,    29.9773,  -179.1808,       5420,    72.0,  19.3974,  34.9966,2,  34.9916,2, 230.8000,2,   229.0,2,    1.75,2,    0.14,2,    0.00,2,    0.06,2,   2.297,2,   1.367,2,   0.131,2,  2009.1,2,  2299.8,2,-999.000,9,-999.0000,9, -999.00,9, -999.00,9,  -999.0,9,  -999.0,-999.000,9,-999.000,   63.20,2,   72.00,-999.0000,9,-999.0000,9,-999.0000,9,-999.0000,9,-999.0000,9,-999.0000,-999.000,-999.0000,9, -999.00
318M20040615,        P02,      86,          2,         33,         33,2,20040716,       0216,    29.9773,  -179.1808,       5420,   122.1,  17.1641,  34.7698,2,  34.7701,2, 222.4000,2,   226.6,2,    2.70,2,    2.13,2,    0.26,2,    0.22,2,   2.453,2,   1.453,2,   0.133,2,  2020.0,2,  2283.8,2,-999.000,9,-999.0000,9, -999.00,9, -999.00,9,  -999.0,9,  -999.0,-999.000,9,-999.000,   60.20,2,  122.10,-999.0000,9,-999.0000,9,-999.0000,9,-999.0000,9,-999.0000,9,-999.0000,-999.000,-999.0000,9, -999.00
318M20040615,        P02,      86,          2,         32,         32,2,20040716,       0216,    29.9773,  -179.1808,       5420,   176.4,  16.4040,  34.7268,2,  34.7288,2, 223.8000,2,   219.0,2,    4.25,2,    4.66,2,    0.02,2,    0.34,2,   2.485,2,   1.473,2,   0.108,2,  2032.0,2,  2282.1,2,-999.000,9,-999.0000,9, -999.00,9, -999.00,9,  -999.0,9,  -999.0,-999.000,9,-999.000,   56.40,2,  176.40,-999.0000,9,-999.0000,9,-999.0000,9,-999.0000,9,-999.0000,9,-999.0000,-999.000,-999.0000,9, -999.00
318M20040615,        P02,      86,          2,         31,         31,2,20040716,       0216,    29.9773,  -179.1808,       5420,   225.8,  15.7404,  34.6652,2,  34.6667,2, 225.6000,2,   226.8,2,    4.61,2,    4.83,2,    0.01,2,    0.35,2,   2.616,2,   1.529,2,   0.139,2,  2033.9,2,  2279.0,2,-999.000,9,-999.0000,9, -999.00,9, -999.00,9,  -999.0,9,  -999.0,-999.000,9,-999.000,   54.60,2,  225.80,-999.0000,9,-999.0000,9,-999.0000,9,-999.0000,9,-999.0000,9,-999.0000,-999.000,-999.0000,9, -999.00
318M20040615,        P02,      86,          2,         30,         30,2,20040716,       0216,    29.9773,  -179.1808,       5420,   271.1,  15.2572,  34.6291,2,  34.6300,2, 226.8000,2,   227.0,2,    5.57,2,    5.51,2,    0.01,2,    0.41,2,   2.623,2,   1.519,2,   0.141,2,  2038.4,2,  2277.5,2,-999.000,9,-999.0000,9, -999.00,9, -999.00,9,  -999.0,9,  -999.0,-999.000,9,-999.000,   53.30,2,  271.10,-999.0000,9,-999.0000,9,-999.0000,9,-999.0000,9,-999.0000,9,-999.0000,-999.000,-999.0000,9, -999.00
318M20040615,        P02,      86,          2,         29,         29,2,20040716,       0216,    29.9773,  -179.1808,       5420,   323.1,  14.5127,  34.5631,2,  34.5624,2, 217.0000,2,   217.3,2,    8.31,2,    7.73,2,    0.01,2,    0.56,2,   2.653,2,   1.530,2,   0.107,2,  2053.9,2,  2275.9,2,-999.000,9,-999.0000,9, -999.00,9, -999.00,9,  -999.0,9,  -999.0,-999.000,9,-999.000,   51.50,2,  323.10,-999.0000,9,-999.0000,9,-999.0000,9,-999.0000,9,-999.0000,9,-999.0000,-999.000,-999.0000,9, -999.00
318M20040615,        P02,      86,          2,         28,         28,2,20040716,       0216,    29.9773,  -179.1808,       5420,   365.9,  13.3796,  34.4716,2,  34.4719,2, 213.5000,2,   216.9,2,   11.06,2,    9.57,2,    0.01,2,    0.69,2,   2.754,2,   1.568,2,   0.119,2,  2067.3,2,  2273.1,2,-999.000,9,-999.0000,9, -999.00,9, -999.00,9,  -999.0,9,  -999.0,-999.000,9,-999.000,   50.30,2,  365.90,-999.0000,9,-999.0000,9,-999.0000,9,-999.0000,9,-999.0000,9,-999.0000,-999.000,-999.0000,9, -999.00
318M20040615,        P02,      86,          2,         27,         27,2,20040716,       0216,    29.9773,  -179.1808,       5420,   418.2,  12.0298,  34.3731,2,  34.3728,2, 205.8000,2,   208.4,2,   16.00,2,   12.66,2,    0.01,2,    0.90,2,   2.810,2,   1.577,2,   0.097,2,  2089.0,2,  2271.6,2,-999.000,9,-999.0000,9, -999.00,9, -999.00,9,  -999.0,9,  -999.0,-999.000,9,-999.000,   48.80,2,  418.20,-999.0000,9,-999.0000,9,-999.0000,9,-999.0000,9,-999.0000,9,-999.0000,-999.000,-999.0000,9, -999.00
318M20040615,        P02,      86,          2,         26,         26,2,20040716,       0216,    29.9773,  -179.1808,       5420,   474.1,  10.6564,  34.2461,2,  34.2506,2, 205.6000,2,   208.6,2,   18.97,2,   14.85,2,    0.01,2,    1.06,2,   2.986,2,   1.640,2,   0.107,2,  2103.8,2,  2270.1,2,-999.000,9,-999.0000,9, -999.00,9, -999.00,9,  -999.0,9,  -999.0,-999.000,9,-999.000,   47.60,2,  474.10,-999.0000,9,-999.0000,9,-999.0000,9,-999.0000,9,-999.0000,9,-999.0000,-999.000,-999.0000,9, -999.00
318M20040615,        P02,      86,          2,         25,         25,2,20040716,       0216,    29.9773,  -179.1808,       5420,   549.9,   8.9590,  34.1278,2,  34.1284,2, 191.6000,2,   189.6,2,   29.36,2,   19.75,2,    0.01,2,    1.42,2,   2.811,2,   1.494,2,   0.109,2,  2139.2,2,  2273.2,2,-999.000,9,-999.0000,9, -999.00,9, -999.00,9,  -999.0,9,  -999.0,-999.000,9,-999.000,   45.90,2,  549.90,-999.0000,9,-999.0000,9,-999.0000,9,-999.0000,9,-999.0000,9,-999.0000,-999.000,-999.0000,9, -999.00
318M20040615,        P02,      86,          2,         24,         24,2,20040716,       0216,    29.9773,  -179.1808,       5420,   655.1,   6.3146,  34.0013,2,  33.9999,2, 149.1000,2,   152.2,2,   54.01,2,   27.78,2,    0.01,2,    2.03,2,   2.420,2,   1.251,2,   0.116,2,  2203.1,2,  2286.5,2,-999.000,9,-999.0000,9, -999.00,9, -999.00,9,  -999.0,9,  -999.0,-999.000,9,-999.000,   44.40,2,  655.10,-999.0000,9,-999.0000,9,-999.0000,9,-999.0000,9,-999.0000,9,-999.0000,-999.000,-999.0000,9, -999.00
318M20040615,        P02,      86,          2,         23,         23,2,20040716,       0216,    29.9773,  -179.1808,       5420,   756.9,   5.2106,  34.0705,2,  34.0679,2, 101.4000,2,    92.5,2,   76.88,2,   35.27,2,    0.01,2,    2.55,2,   1.289,6,   0.644,6,   0.051,6,  2264.4,2,  2307.5,2,-999.000,9,-999.0000,9, -999.00,9, -999.00,9,  -999.0,9,  -999.0,-999.000,9,-999.000,   43.10,2,  756.90,-999.0000,9,-999.0000,9,-999.0000,9,-999.0000,9,-999.0000,9,-999.0000,-999.000,-999.0000,9, -999.00
318M20040615,        P02,      86,          2,         22,         22,2,20040716,       0216,    29.9773,  -179.1808,       5420,   850.8,   4.4684,  34.1484,2,  34.1453,2,  72.0000,2,    65.0,2,   96.01,2,   38.92,2,    0.01,2,    2.80,2,   0.845,2,   0.422,2,   0.033,2,  2303.4,2,  2325.3,2,-999.000,9,-999.0000,9, -999.00,9, -999.00,9,  -999.0,9,  -999.0,-999.000,9,-999.000,   42.30,2,  850.80,-999.0000,9,-999.0000,9,-999.0000,9,-999.0000,9,-999.0000,9,-999.0000,-999.000,-999.0000,9, -999.00
318M20040615,        P02,      86,          2,         21,         21,2,20040716,       0216,    29.9773,  -179.1808,       5420,   939.3,   3.9902,  34.2188,2,  34.2163,2,  48.0000,2,    45.7,2,  110.06,2,   41.30,2,    0.01,2,    2.96,2,   0.463,2,   0.233,2,   0.020,2,  2328.2,2,  2341.6,2,-999.000,9,-999.0000,9, -999.00,9, -999.00,9,  -999.0,9,  -999.0,-999.000,9,-999.000,   41.00,2,  939.30,-999.0000,9,-999.0000,9,-999.0000,9,-999.0000,9,-999.0000,9,-999.0000,-999.000,-999.0000,9, -999.00
318M20040615,        P02,      86,          2,         20,         20,2,20040716,       0216,    29.9773,  -179.1808,       5420,  1041.8,   3.5437,  34.2974,2,  34.2944,2,  37.7000,2,    35.6,2,  124.13,2,   42.53,2,    0.01,2,    3.04,2,   0.254,2,   0.120,2,   0.005,2,  2349.6,2,  2357.7,2,-999.000,9,-999.0000,9, -999.00,9, -999.00,9,  -999.0,9,  -999.0,-999.000,9,-999.000,   40.30,2, 1041.80,-999.0000,9,-999.0000,9,-999.0000,9,-999.0000,9,-999.0000,9,-999.0000,-999.000,-999.0000,9, -999.00
318M20040615,        P02,      86,          2,         19,         19,2,20040716,       0216,    29.9773,  -179.1808,       5420,  1115.6,   3.3141,  34.3429,2,  34.3450,2,  32.7000,2,    32.4,2,  131.64,2,   42.94,2,    0.01,2,    3.08,2,   0.160,2,   0.078,2,   0.006,2,  2360.1,2,  2366.6,2,-999.000,9,-999.0000,9, -999.00,9, -999.00,9,  -999.0,9,  -999.0,-999.000,9,-999.000,   40.00,2, 1115.60,-999.0000,9,-999.0000,9,-999.0000,9,-999.0000,9,-999.0000,9,-999.0000,-999.000,-999.0000,9, -999.00
318M20040615,        P02,      86,          2,         18,         18,2,20040716,       0216,    29.9773,  -179.1808,       5420,  1214.8,   3.0639,  34.3960,2,  34.3956,2,  28.0000,2,    27.6,2,  139.77,2,   43.57,2,    0.01,2,    3.12,2,   0.070,2,   0.035,2,   0.001,2,  2372.8,6,  2376.9,6,-999.000,9,-999.0000,9, -999.00,9, -999.00,9,  -999.0,9,  -999.0,-999.000,9,-999.000,   39.40,2, 1214.80,-999.0000,9,-999.0000,9,-999.0000,9,-999.0000,9,-999.0000,9,-999.0000,-999.000,-999.0000,9, -999.00
318M20040615,        P02,      86,          2,         17,         17,2,20040716,       0216,    29.9773,  -179.1808,       5420,  1307.6,   2.9277,  34.4411,2,  34.4400,2,  27.8000,2,    28.8,2,  143.29,2,   43.62,2,    0.01,2,    3.12,2,   0.032,2,   0.014,2,   0.001,2,  2375.9,2,  2383.4,2,-999.000,9,-999.0000,9, -999.00,9, -999.00,9,  -999.0,9,  -999.0,-999.000,9,-999.000,   38.40,2, 1307.60,-999.0000,9,-999.0000,9,-999.0000,9,-999.0000,9,-999.0000,9,-999.0000,-999.000,-999.0000,9, -999.00
318M20040615,        P02,      86,          2,         16,         16,2,20040716,       0216,    29.9773,  -179.1808,       5420,  1422.0,   2.7052,  34.4868,2,  34.4857,2,  34.0000,2,    35.9,2,  148.91,2,   43.34,2,    0.01,2,    3.10,2,   0.015,2,   0.007,2,   0.003,2,  2379.8,2,  2393.6,2,-999.000,9,-999.0000,9, -999.00,9, -999.00,9,  -999.0,9,  -999.0,-999.000,9,-999.000,   37.70,2, 1422.00,-999.0000,9,-999.0000,9,-999.0000,9,-999.0000,9,-999.0000,9,-999.0000,-999.000,-999.0000,9, -999.00
318M20040615,        P02,      86,          2,         15,         15,2,20040716,       0216,    29.9773,  -179.1808,       5420,  1545.5,   2.4775,  34.5212,2,  34.5189,2,  43.0000,2,    41.6,2,  154.93,2,   43.52,2,    0.01,2,    3.08,2,   0.009,2,   0.005,2,   0.001,2,  2382.3,2,  2402.1,2,-999.000,9,-999.0000,9, -999.00,9, -999.00,9,  -999.0,9,  -999.0,-999.000,9,-999.000,   37.60,2, 1545.50,-999.0000,9,-999.0000,9,-999.0000,9,-999.0000,9,-999.0000,9,-999.0000,-999.000,-999.0000,9, -999.00
318M20040615,        P02,      86,          2,         14,         14,2,20040716,       0216,    29.9773,  -179.1808,       5420,  1732.7,   2.2483,  34.5664,2,  34.5649,2,  58.9000,2,    60.5,2,  157.42,2,   42.56,2,    0.01,2,    2.98,2,   0.005,2,   0.003,2,   0.001,2,  2375.8,2,  2407.9,2,-999.000,9,-999.0000,9, -999.00,9, -999.00,9,  -999.0,9,  -999.0,-999.000,9,-999.000,   37.60,2, 1732.70,-999.0000,9,-999.0000,9,-999.0000,9,-999.0000,9,-999.0000,9,-999.0000,-999.000,-999.0000,9, -999.00
318M20040615,        P02,      86,          2,         13,         13,2,20040716,       0216,    29.9773,  -179.1808,       5420,  1924.7,   2.0310,  34.5951,2,  34.5936,2,  72.5000,2,    73.7,2,  160.98,2,   41.68,2,    0.01,2,    2.91,2,   0.003,2,   0.002,2,   0.001,2,  2372.3,2,  2412.1,2,-999.000,9,-999.0000,9, -999.00,9, -999.00,9,  -999.0,9,  -999.0,-999.000,9,-999.000,   37.40,2, 1924.70,-999.0000,9,-999.0000,9,-999.0000,9,-999.0000,9,-999.0000,9,-999.0000,-999.000,-999.0000,9, -999.00
318M20040615,        P02,      86,          2,         12,         12,2,20040716,       0216,    29.9773,  -179.1808,       5420,  2077.0,   1.8998,  34.6122,2,  34.6103,2,  81.1000,2,    83.8,2,  162.85,2,   41.01,2,    0.01,2,    2.86,2,-999.000,9,-999.000,9,-999.000,9,  2369.3,2,  2415.7,6,-999.000,9,-999.0000,9, -999.00,9, -999.00,9,  -999.0,9,  -999.0,-999.000,9,-999.000,   37.10,2, 2077.00,-999.0000,9,-999.0000,9,-999.0000,9,-999.0000,9,-999.0000,9,-999.0000,-999.000,-999.0000,9, -999.00
318M20040615,        P02,      86,          2,         11,         11,2,20040716,       0216,    29.9773,  -179.1808,       5420,  2346.3,   1.7512,  34.6321,2,  34.6313,2,  97.5000,2,    97.8,2,  163.06,2,   39.96,2,    0.00,2,    2.79,2,   0.002,2,   0.001,2,   0.001,2,  2361.8,2,  2417.1,2,-999.000,9,-999.0000,9, -999.00,9, -999.00,9,  -999.0,9,  -999.0,-999.000,9,-999.000,   37.10,2, 2346.30,-999.0000,9,-999.0000,9,-999.0000,9,-999.0000,9,-999.0000,9,-999.0000,-999.000,-999.0000,9, -999.00
318M20040615,        P02,      86,          2,         10,         10,2,20040716,       0216,    29.9773,  -179.1808,       5420,  2601.7,   1.6509,  34.6464,2,  34.6296,2, 109.4000,3,   110.1,2,  161.82,2,   39.02,2,    0.00,2,    2.73,2,-999.000,9,-999.000,9,-999.000,9,  2355.7,2,  2418.4,2,-999.000,9,-999.0000,9, -999.00,9, -999.00,9,  -999.0,9,  -999.0,-999.000,9,-999.000,   37.40,2, 2601.70,-999.0000,9,-999.0000,9,-999.0000,9,-999.0000,9,-999.0000,9,-999.0000,-999.000,-999.0000,9, -999.00
318M20040615,        P02,      86,          2,          9,          9,2,20040716,       0216,    29.9773,  -179.1808,       5420,  2854.4,   1.5847,  34.6567,2,  34.6545,2, 119.0000,3,   119.7,2,  160.59,2,   38.31,2,    0.01,2,    2.68,2,   0.004,2,   0.002,2,   0.001,2,  2349.7,2,  2420.6,2,-999.000,9,-999.0000,9, -999.00,9, -999.00,9,  -999.0,9,  -999.0,-999.000,9,-999.000,   37.60,2, 2854.40,-999.0000,9,-999.0000,9,-999.0000,9,-999.0000,9,-999.0000,9,-999.0000,-999.000,-999.0000,9, -999.00
318M20040615,        P02,      86,          2,          8,          8,2,20040716,       0216,    29.9773,  -179.1808,       5420,  3109.9,   1.5260,  34.6660,2,  34.6628,2, 128.3000,3,   129.6,2,  158.96,2,   37.67,2,    0.01,2,    2.63,2,-999.000,9,-999.000,9,-999.000,9,  2343.4,2,  2420.7,2,-999.000,9,-999.0000,9, -999.00,9, -999.00,9,  -999.0,9,  -999.0,-999.000,9,-999.000,   37.20,2, 3109.90,-999.0000,9,-999.0000,9,-999.0000,9,-999.0000,9,-999.0000,9,-999.0000,-999.000,-999.0000,9, -999.00
318M20040615,        P02,      86,          2,          7,          7,2,20040716,       0216,    29.9773,  -179.1808,       5420,  3449.8,   1.4872,  34.6740,2,  34.6705,2, 138.2000,3,   142.3,3,  156.89,2,   37.08,2,    0.01,2,    2.59,2,   0.005,2,   0.004,2,   0.001,2,  2338.6,2,  2420.3,2,-999.000,9,-999.0000,9, -999.00,9, -999.00,9,  -999.0,9,  -999.0,-999.000,9,-999.000,   37.60,2, 3449.80,-999.0000,9,-999.0000,9,-999.0000,9,-999.0000,9,-999.0000,9,-999.0000,-999.000,-999.0000,9, -999.00
318M20040615,        P02,      86,          2,          6,          6,2,20040716,       0216,    29.9773,  -179.1808,       5420,  3804.3,   1.4665,  34.6802,2,  34.6787,2, 144.7000,2,   145.1,2,  154.79,2,   36.58,2,    0.01,2,    2.55,2,-999.000,9,-999.000,9,-999.000,9,  2333.3,2,  2419.0,2,-999.000,9,-999.0000,9, -999.00,9, -999.00,9,  -999.0,9,  -999.0,-999.000,9,-999.000,   37.60,2, 3804.30,-999.0000,9,-999.0000,9,-999.0000,9,-999.0000,9,-999.0000,9,-999.0000,-999.000,-999.0000,9, -999.00
318M20040615,        P02,      86,          2,          5,          5,2,20040716,       0216,    29.9773,  -179.1808,       5420,  4170.4,   1.4673,  34.6845,2,  34.6911,2, 149.7000,3,   150.2,2,  153.75,2,   36.37,2,    0.00,2,    2.52,2,   0.003,2,   0.001,2,   0.001,2,  2330.0,2,  2419.3,2,-999.000,9,-999.0000,9, -999.00,9, -999.00,9,  -999.0,9,  -999.0,-999.000,9,-999.000,   37.40,2, 4170.40,-999.0000,9,-999.0000,9,-999.0000,9,-999.0000,9,-999.0000,9,-999.0000,-999.000,-999.0000,9, -999.00
318M20040615,        P02,      86,          2,          4,          4,2,20040716,       0216,    29.9773,  -179.1808,       5420,  4528.0,   1.4797,  34.6874,2,  34.6848,2, 154.2000,3,   154.5,2,  152.50,2,   36.32,2,    0.00,2,    2.49,2,-999.000,9,-999.000,9,-999.000,9,  2325.9,2,  2418.6,2,-999.000,9,-999.0000,9, -999.00,9, -999.00,9,  -999.0,9,  -999.0,-999.000,9,-999.000,   37.60,2, 4528.00,-999.0000,9,-999.0000,9,-999.0000,9,-999.0000,9,-999.0000,9,-999.0000,-999.000,-999.0000,9, -999.00
318M20040615,        P02,      86,          2,          3,          3,2,20040716,       0216,    29.9773,  -179.1808,       5420,  4866.6,   1.4924,  34.6898,2,  34.6876,2, 159.2000,3,   159.6,2,  147.92,2,   36.05,2,    0.00,2,    2.47,2,   0.004,2,   0.004,2,   0.001,2,  2321.3,2,  2416.1,2,-999.000,9,-999.0000,9, -999.00,9, -999.00,9,  -999.0,9,  -999.0,-999.000,9,-999.000,   37.70,2, 4866.60,-999.0000,9,-999.0000,9,-999.0000,9,-999.0000,9,-999.0000,9,-999.0000,-999.000,-999.0000,9, -999.00
318M20040615,        P02,      86,          2,          2,          2,2,20040716,       0216,    29.9773,  -179.1808,       5420,  5235.6,   1.5149,  34.6917,2,  34.6897,2, 163.6000,3,   163.9,2,  144.58,2,   35.67,2,    0.00,2,    2.44,2,-999.000,9,-999.000,9,-999.000,9,  2314.9,2,  2412.5,2,-999.000,9,-999.0000,9, -999.00,9, -999.00,9,  -999.0,9,  -999.0,-999.000,9,-999.000,   37.40,2, 5235.60,-999.0000,9,-999.0000,9,-999.0000,9,-999.0000,9,-999.0000,9,-999.0000,-999.000,-999.0000,9, -999.00
318M20040615,        P02,      86,          2,          1,          1,2,20040716,       0216,    29.9773,  -179.1808,       5420,  5488.6,   1.5248,  34.6935,2,  34.6914,2, 167.5000,3,   168.2,2,  141.03,2,   35.19,2,    0.00,2,    2.42,2,   0.006,2,   0.007,2,   0.001,2,  2310.6,6,  2409.8,6,-999.000,9,-999.0000,9, -999.00,9, -999.00,9,  -999.0,9,  -999.0,-999.000,9,-999.000,   37.30,2, 5488.60,-999.0000,9,-999.0000,9,-999.0000,9,-999.0000,9,-999.0000,9,-999.0000,-999.000,-999.0000,9, -999.00