BOTTLE,20131027SIOCCHRJL
EXPOCODE,SECT_ID,STNNBR,CASTNO,SAMPNO,BTLNBR,BTLNBR_FLAG_W,DATE,TIME,LATITUDE,LONGITUDE,DEPTH,CTDPRS,CTDTMP,CTDSAL,CTDSAL_FLAG_W,SALNTY,SALNTY_FLAG_W,CTDOXY,CTDOXY_FLAG_W,OXYGEN,OXYGEN_FLAG_W,SILCAT,SILCAT_FLAG_W,NITRAT,NITRAT_FLAG_W,NITRIT,NITRIT_FLAG_W,PHSPHT,PHSPHT_FLAG_W,CFC-11,CFC-11_FLAG_W,CFC-12,CFC-12_FLAG_W,CFC113,CFC113_FLAG_W,TCARBN,TCARBN_FLAG_W,ALKALI,ALKALI_FLAG_W,TRITUM,TRITUM_FLAG_W,HELIUM,HELIUM_FLAG_W,DELHE3,DELHE3_FLAG_W,DELC13,DELC13_FLAG_W,DELC14,DELC14_FLAG_W,C14ERR,NEON,NEON_FLAG_W,NEONER,DOC,DOC_FLAG_W,CTDRAW,CDOM380,CDOM380_FLAG_W,CDOM325,CDOM325_FLAG_W,CDOMSL,CDOMSL_FLAG_W,CDOM340,CDOM340_FLAG_W,CDOMSN,CDOMSN_FLAG_W,HELIER,TRITER,CDOM412,CDOM412_FLAG_W,DELHER
,,,,,,,,,,,METERS,DBAR,ITS-90,PSS-78,,PSS-78,,UMOL/KG,,UMOL/KG,,UMOL/KG,,UMOL/KG,,UMOL/KG,,UMOL/KG,,PMOL/KG,,PMOL/KG,,PMOL/KG,,UMOL/KG,,UMOL/KG,,TU,,NMOL/KG,,PERCNT,,/MILLE,,/MILLE,,/MILLE,NMOL/KG,,NMOL/KG,UMOL/KG,,DBAR,1/M,,1/M,,1/NM,,1/M,,1/NM,,NMOL/KG,TU,1/M,,PERCNT
318M20040615,        P02,     100,          1,         36,         36,2,20040720,       1307,    29.9947,  -170.3683,       5322,     8.2,  25.1483,  35.1902,2,  35.1916,2, 212.5000,2,   211.6,2,    1.97,2,    0.13,2,    0.00,2,    0.03,2,   1.813,2,   1.107,2,   0.131,2,  2006.3,6,  2311.3,6,-999.000,9,-999.0000,9, -999.00,9,    1.04,2,    76.1,2,     4.2,-999.000,9,-999.000,   68.30,2,    8.20,   0.0130,2,   0.0530,2,   0.0260,2,   0.0360,2,   0.0260,2,-999.0000,-999.000,   0.0070,2, -999.00
318M20040615,        P02,     100,          1,         35,         35,2,20040720,       1307,    29.9947,  -170.3683,       5322,    52.0,  20.4613,  35.1371,2,  35.1360,2, 240.6000,2,   237.6,2,    2.18,2,    0.12,2,    0.00,2,    0.04,2,   2.200,2,   1.338,2,   0.158,2,  2010.0,2,  2307.8,2,-999.000,9,-999.0000,9, -999.00,9,    1.13,2,    71.2,2,     4.4,-999.000,9,-999.000,   62.40,2,   52.00,   0.0270,2,   0.0960,2,   0.0230,2,   0.0660,2,   0.0240,2,-999.0000,-999.000,   0.0160,2, -999.00
318M20040615,        P02,     100,          1,         34,         34,2,20040720,       1307,    29.9947,  -170.3683,       5322,   101.3,  17.1580,  34.7904,2,  34.7915,2, 227.8000,2,   230.7,2,    3.39,2,    1.00,2,    0.19,2,    0.17,2,   2.488,2,   1.460,2,   0.154,2,  2023.0,2,  2286.6,2,-999.000,9,-999.0000,9, -999.00,9,    0.73,2,    69.9,2,     4.4,-999.000,9,-999.000,   57.70,2,  101.30,   0.0360,2,   0.1060,2,   0.0190,2,   0.0770,2,   0.0200,2,-999.0000,-999.000,   0.0260,2, -999.00
318M20040615,        P02,     100,          1,         33,         33,2,20040720,       1307,    29.9947,  -170.3683,       5322,   156.4,  15.6531,  34.6356,2,  34.6356,2, 221.1000,2,   230.3,2,    5.23,2,    4.17,2,    0.04,2,    0.33,2,   2.665,2,   1.565,2,   0.166,2,  2033.9,2,  2276.7,2,-999.000,9,-999.0000,9, -999.00,9,    0.81,2,    69.5,2,     4.6,-999.000,9,-999.000,   55.00,2,  156.40,   0.0440,2,   0.1160,2,   0.0140,2,   0.0850,2,   0.0160,2,-999.0000,-999.000,   0.0330,2, -999.00
318M20040615,        P02,     100,          1,         32,         32,2,20040720,       1307,    29.9947,  -170.3683,       5322,   206.4,  14.7771,  34.5698,2,  34.5686,2, 237.8000,2,   234.9,2,    5.84,2,    4.80,2,    0.01,2,    0.38,2,   2.774,2,   1.594,2,   0.154,2,  2040.4,2,  2273.3,2,-999.000,9,-999.0000,9, -999.00,9,    0.78,2,    80.4,2,     4.6,-999.000,9,-999.000,   54.60,2,  206.40,   0.0490,2,   0.1200,2,   0.0130,2,   0.0890,2,   0.0150,2,-999.0000,-999.000,   0.0370,2, -999.00
318M20040615,        P02,     100,          1,         31,         31,2,20040720,       1307,    29.9947,  -170.3683,       5322,   256.2,  13.6652,  34.4733,2,  34.4726,2, 217.3000,2,   218.5,2,    9.10,2,    8.77,2,    0.01,2,    0.63,2,   2.826,2,   1.601,2,   0.081,2,  2062.4,2,  2270.2,2,-999.000,9,-999.0000,9, -999.00,9,    0.60,2,    65.6,2,     4.1,-999.000,9,-999.000,   53.40,2,  256.20,   0.0460,2,   0.1200,2,   0.0140,2,   0.0870,2,   0.0160,2,-999.0000,-999.000,   0.0350,2, -999.00
318M20040615,        P02,     100,          1,         30,         30,2,20040720,       1307,    29.9947,  -170.3683,       5322,   305.7,  12.8183,  34.4050,2,  34.4057,2, 219.1000,2,   221.7,2,   10.74,2,    9.92,2,    0.01,2,    0.70,2,   2.951,2,   1.650,2,   0.092,2,  2069.8,2,  2268.2,2,-999.000,9,-999.0000,9, -999.00,9,    0.59,2,    71.3,2,     4.6,-999.000,9,-999.000,   52.30,2,  305.70,   0.0330,2,   0.0980,2,   0.0190,2,   0.0690,2,   0.0210,2,-999.0000,-999.000,   0.0240,2, -999.00
318M20040615,        P02,     100,          1,         29,         29,2,20040720,       1307,    29.9947,  -170.3683,       5322,   355.4,  11.7944,  34.3232,2,  34.3221,2, 217.9000,2,   218.9,2,   14.02,2,   12.03,2,    0.00,2,    0.85,2,   3.043,2,   1.691,2,   0.097,2,  2083.2,2,  2267.4,2,-999.000,9,-999.0000,9, -999.00,9,    0.57,2,    61.9,2,     4.5,-999.000,9,-999.000,   51.10,2,  355.40,   0.0660,2,   0.1550,2,   0.0120,2,   0.1150,2,   0.0130,2,-999.0000,-999.000,   0.0490,2, -999.00
318M20040615,        P02,     100,          1,         28,         28,2,20040720,       1307,    29.9947,  -170.3683,       5322,   404.8,  10.9240,  34.2553,2,  34.2528,2, 216.4000,2,   216.1,2,   17.11,2,   13.88,2,    0.00,2,    0.98,2,   3.106,2,   1.695,2,   0.107,2,  2096.5,2,  2266.8,2,-999.000,9,-999.0000,9, -999.00,9,    0.43,2,    48.0,2,     4.6,-999.000,9,-999.000,   49.90,2,  404.80,   0.0840,2,   0.1950,2,   0.0130,2,   0.1520,2,   0.0140,2,-999.0000,-999.000,   0.0590,2, -999.00
318M20040615,        P02,     100,          1,         27,         27,2,20040720,       1307,    29.9947,  -170.3683,       5322,   458.1,   9.9192,  34.1847,2,  34.1852,2, 207.0000,2,   206.2,2,   22.48,2,   16.65,2,    0.00,2,    1.18,2,   3.043,2,   1.659,2,   0.116,2,  2115.3,2,  2269.1,2,-999.000,9,-999.0000,9, -999.00,9, -999.00,9,  -999.0,9,  -999.0,-999.000,9,-999.000,   48.80,2,  458.10,-999.0000,9,-999.0000,9,-999.0000,9,-999.0000,9,-999.0000,9,-999.0000,-999.000,-999.0000,9, -999.00
318M20040615,        P02,     100,          1,         26,         26,2,20040720,       1307,    29.9947,  -170.3683,       5322,   505.6,   9.0444,  34.1269,2,  34.1264,2, 188.8000,2,   188.1,2,   28.50,2,   19.89,2,    0.00,2,    1.42,2,   2.858,2,   1.488,2,   0.097,2,  2136.6,2,  2269.8,2,-999.000,9,-999.0000,9, -999.00,9,    0.26,2,    25.7,2,     4.4,-999.000,9,-999.000,   47.60,2,  505.60,   0.0850,2,   0.1950,2,   0.0120,2,   0.1470,2,   0.0130,2,-999.0000,-999.000,   0.0630,2, -999.00
318M20040615,        P02,     100,          1,         25,         25,2,20040720,       1307,    29.9947,  -170.3683,       5322,   605.2,   6.9607,  34.0199,2,  34.0204,2, 160.1000,2,   157.8,2,   46.92,2,   26.39,2,    0.00,2,    1.91,2,   2.490,6,   1.271,6,   0.110,6,  2189.3,2,  2279.7,2,-999.000,9,-999.0000,9, -999.00,9,    0.20,2,   -14.9,2,     4.5,-999.000,9,-999.000,   45.40,2,  605.20,-999.0000,9,-999.0000,9,-999.0000,9,-999.0000,9,-999.0000,9,-999.0000,-999.000,-999.0000,9, -999.00
318M20040615,        P02,     100,          1,         24,         24,2,20040720,       1307,    29.9947,  -170.3683,       5322,   705.3,   5.4466,  34.0309,2,  34.0296,2, 106.7000,2,   102.7,2,   70.90,2,   34.13,2,    0.00,2,    2.48,2,   1.467,2,   0.718,2,   0.051,2,  2252.9,2,  2298.2,2,-999.000,9,-999.0000,9, -999.00,9,   -0.10,2,   -73.0,2,     4.6,-999.000,9,-999.000,   43.40,2,  705.30,   0.0860,2,   0.2100,2,   0.0130,2,   0.1540,2,   0.0140,2,-999.0000,-999.000,   0.0620,2, -999.00
318M20040615,        P02,     100,          1,         23,         23,2,20040720,       1307,    29.9947,  -170.3683,       5322,   811.0,   4.5287,  34.1205,2,  34.1189,2,  58.6000,2,    54.5,2,   93.77,2,   39.76,2,    0.00,2,    2.87,2,   0.548,2,   0.273,2,   0.015,2,  2307.2,2,  2320.8,2,-999.000,9,-999.0000,9, -999.00,9,   -0.28,2,  -128.7,2,     2.9,-999.000,9,-999.000,   42.40,2,  811.00,   0.1210,2,   0.2660,2,   0.0120,2,   0.1990,2,   0.0120,2,-999.0000,-999.000,   0.0930,2, -999.00
318M20040615,        P02,     100,          1,         22,         22,2,20040720,       1307,    29.9947,  -170.3683,       5322,   912.0,   4.0371,  34.2165,2,  34.2152,2,  35.9000,2,    27.0,2,  109.43,2,   42.06,2,    0.00,2,    3.02,2,   0.245,2,   0.119,2,   0.009,2,  2336.3,2,  2340.2,2,-999.000,9,-999.0000,9, -999.00,9,   -0.35,2,  -166.3,2,     3.4,-999.000,9,-999.000,   41.40,2,  912.00,-999.0000,9,-999.0000,9,-999.0000,9,-999.0000,9,-999.0000,9,-999.0000,-999.000,-999.0000,9, -999.00
318M20040615,        P02,     100,          1,         21,         21,2,20040720,       1307,    29.9947,  -170.3683,       5322,  1012.8,   3.7361,  34.2928,2,  34.2925,2,  23.0000,2,    22.4,2,  119.98,2,   43.44,2,    0.00,2,    3.12,2,   0.082,2,   0.042,2,   0.001,2,  2357.1,6,  2354.6,2,-999.000,9,-999.0000,9, -999.00,9, -999.00,9,  -999.0,9,  -999.0,-999.000,9,-999.000,   40.30,2, 1012.80,   0.1370,2,   0.2880,2,   0.0110,2,   0.2210,2,   0.0110,2,-999.0000,-999.000,   0.1070,2, -999.00
318M20040615,        P02,     100,          1,         20,         20,2,20040720,       1307,    29.9947,  -170.3683,       5322,  1113.3,   3.4312,  34.3735,2,  34.3725,2,  20.3000,2,    19.9,2,  129.86,2,   44.20,2,    0.00,2,    3.16,2,   0.020,2,   0.010,2,   0.001,2,  2367.2,2,  2369.7,2,-999.000,9,-999.0000,9, -999.00,9,   -0.41,2,  -198.0,2,     3.4,-999.000,9,-999.000,   38.80,2, 1113.30,-999.0000,9,-999.0000,9,-999.0000,9,-999.0000,9,-999.0000,9,-999.0000,-999.000,-999.0000,9, -999.00
318M20040615,        P02,     100,          1,         19,         19,2,20040720,       1307,    29.9947,  -170.3683,       5322,  1214.1,   3.1967,  34.4317,2,  34.4304,2,  24.6000,2,    24.8,2,  136.51,2,   44.20,2,    0.00,2,    3.14,2,   0.008,2,   0.005,2,   0.001,2,  2373.9,2,  2380.4,2,-999.000,9,-999.0000,9, -999.00,9, -999.00,9,  -999.0,9,  -999.0,-999.000,9,-999.000,   38.40,2, 1214.10,-999.0000,9,-999.0000,9,-999.0000,9,-999.0000,9,-999.0000,9,-999.0000,-999.000,-999.0000,9, -999.00
318M20040615,        P02,     100,          1,         18,         18,2,20040720,       1307,    29.9947,  -170.3683,       5322,  1314.8,   2.9493,  34.4733,2,  34.4730,2,  28.5000,2,    29.3,2,  143.56,2,   43.95,2,    0.00,2,    3.13,2,   0.007,2,   0.004,2,   0.001,2,  2379.8,2,  2388.5,6,-999.000,9,-999.0000,9, -999.00,9,   -0.37,2,  -221.0,2,     3.5,-999.000,9,-999.000,   38.00,2, 1314.80,-999.0000,9,-999.0000,9,-999.0000,9,-999.0000,9,-999.0000,9,-999.0000,-999.000,-999.0000,9, -999.00
318M20040615,        P02,     100,          1,         17,         17,2,20040720,       1307,    29.9947,  -170.3683,       5322,  1420.9,   2.7875,  34.5027,2,  34.5021,2,  35.0000,2,    34.8,2,  147.42,2,   43.62,2,    0.00,2,    3.10,2,   0.005,2,   0.002,2,   0.001,2,  2380.3,2,  2393.7,2,-999.000,9,-999.0000,9, -999.00,9, -999.00,9,  -999.0,9,  -999.0,-999.000,9,-999.000,   38.10,2, 1420.90,-999.0000,9,-999.0000,9,-999.0000,9,-999.0000,9,-999.0000,9,-999.0000,-999.000,-999.0000,9, -999.00
318M20040615,        P02,     100,          1,         16,         16,2,20040720,       1307,    29.9947,  -170.3683,       5322,  1518.0,   2.6046,  34.5316,2,  34.5303,2,  43.9000,2,    44.3,2,  151.10,2,   42.96,2,    0.00,2,    3.06,2,   0.004,2,   0.004,2,   0.001,2,  2379.3,2,  2399.9,2,-999.000,9,-999.0000,9, -999.00,9,   -0.38,2,  -234.0,2,     3.4,-999.000,9,-999.000,   37.70,2, 1518.00,-999.0000,9,-999.0000,9,-999.0000,9,-999.0000,9,-999.0000,9,-999.0000,-999.000,-999.0000,9, -999.00
318M20040615,        P02,     100,          1,         15,         15,2,20040720,       1307,    29.9947,  -170.3683,       5322,  1613.9,   2.4562,  34.5501,2,  34.5494,2,  47.2000,2,    47.9,2,  155.38,2,   42.78,2,    0.00,2,    3.04,2,   0.004,2,   0.001,2,   0.001,2,  2381.6,2,  2404.4,2,-999.000,9,-999.0000,9, -999.00,9,   -0.35,2,  -238.5,2,     5.1,-999.000,9,-999.000,   37.30,2, 1613.90,-999.0000,9,-999.0000,9,-999.0000,9,-999.0000,9,-999.0000,9,-999.0000,-999.000,-999.0000,9, -999.00
318M20040615,        P02,     100,          1,         14,         14,2,20040720,       1307,    29.9947,  -170.3683,       5322,  1717.5,   2.2976,  34.5693,2,  34.5708,2,  55.3000,2,    55.8,2,  158.79,2,   42.28,2,    0.00,2,    3.00,2,   0.005,2,   0.002,2,   0.001,2,  2380.4,2,  2408.1,2,-999.000,9,-999.0000,9, -999.00,9,   -0.34,2,  -237.8,2,     3.1,-999.000,9,-999.000,   37.90,2, 1717.50,-999.0000,9,-999.0000,9,-999.0000,9,-999.0000,9,-999.0000,9,-999.0000,-999.000,-999.0000,9, -999.00
318M20040615,        P02,     100,          1,         13,         13,2,20040720,       1307,    29.9947,  -170.3683,       5322,  1826.4,   2.1609,  34.5862,2,  34.5863,2,  63.4000,2,    63.3,2,  161.56,2,   41.88,2,    0.00,2,    2.96,2,   0.001,2,   0.000,2,   0.001,2,  2380.1,2,  2412.7,2,-999.000,9,-999.0000,9, -999.00,9,   -0.30,2,  -246.5,2,     4.0,-999.000,9,-999.000,   37.70,2, 1826.40,-999.0000,9,-999.0000,9,-999.0000,9,-999.0000,9,-999.0000,9,-999.0000,-999.000,-999.0000,9, -999.00
318M20040615,        P02,     100,          1,         12,         12,2,20040720,       1307,    29.9947,  -170.3683,       5322,  1926.9,   2.0524,  34.5988,2,  34.5999,2,  71.1000,2,    71.6,2,  162.41,2,   41.55,2,    0.00,2,    2.92,2,   0.001,2,   0.002,2,   0.001,2,  2377.1,2,  2415.7,2,-999.000,9,-999.0000,9, -999.00,9,   -0.26,2,  -240.4,2,     4.3,-999.000,9,-999.000,   37.50,2, 1926.90,-999.0000,9,-999.0000,9,-999.0000,9,-999.0000,9,-999.0000,9,-999.0000,-999.000,-999.0000,9, -999.00
318M20040615,        P02,     100,          1,         11,         11,2,20040720,       1307,    29.9947,  -170.3683,       5322,  2032.3,   1.9556,  34.6101,2,  34.6101,2,  79.0000,2,    79.1,2,  163.47,2,   41.10,2,    0.00,2,    2.89,2,-999.000,9,-999.000,9,-999.000,9,  2374.8,2,  2416.6,2,-999.000,9,-999.0000,9, -999.00,9,   -0.23,2,  -246.0,2,     3.9,-999.000,9,-999.000,   37.30,2, 2032.30,   0.1250,2,   0.2650,2,   0.0110,2,   0.2030,2,   0.0110,2,-999.0000,-999.000,   0.0950,2, -999.00
318M20040615,        P02,     100,          1,         10,         10,2,20040720,       1307,    29.9947,  -170.3683,       5322,  2281.6,   1.7811,  34.6316,2,  34.6327,2,  92.4000,2,    93.8,2,  165.19,2,   40.06,2,    0.00,2,    2.82,2,  -0.001,2,   0.001,2,   0.001,2,  2367.9,2,  2419.2,2,-999.000,9,-999.0000,9, -999.00,9,   -0.09,2,  -237.4,2,     3.5,-999.000,9,-999.000,   37.70,2, 2281.60,-999.0000,9,-999.0000,9,-999.0000,9,-999.0000,9,-999.0000,9,-999.0000,-999.000,-999.0000,9, -999.00
318M20040615,        P02,     100,          1,          9,          9,2,20040720,       1307,    29.9947,  -170.3683,       5322,  2529.7,   1.6758,  34.6454,2,  34.6451,2, 106.3000,2,   107.0,2,  163.48,2,   39.07,2,    0.00,2,    2.76,2,-999.000,9,-999.000,9,-999.000,9,  2360.9,2,  2420.4,2,-999.000,9,-999.0000,9, -999.00,9,   -0.02,2,  -238.6,2,     3.3,-999.000,9,-999.000,   37.00,2, 2529.70,-999.0000,9,-999.0000,9,-999.0000,9,-999.0000,9,-999.0000,9,-999.0000,-999.000,-999.0000,9, -999.00
318M20040615,        P02,     100,          1,          8,          8,2,20040720,       1307,    29.9947,  -170.3683,       5322,  2844.0,   1.5754,  34.6590,2,  34.6594,2, 120.2000,2,   120.7,2,  161.21,2,   38.11,2,    0.00,2,    2.69,2,   0.003,2,   0.002,2,   0.001,2,  2352.2,2,  2421.0,2,-999.000,9,-999.0000,9, -999.00,9,    0.04,2,  -235.0,2,     4.5,-999.000,9,-999.000,   37.70,2, 2844.00,-999.0000,9,-999.0000,9,-999.0000,9,-999.0000,9,-999.0000,9,-999.0000,-999.000,-999.0000,9, -999.00
318M20040615,        P02,     100,          1,          7,          7,2,20040720,       1307,    29.9947,  -170.3683,       5322,  3149.9,   1.5177,  34.6686,2,  34.6694,2, 130.3000,2,   130.9,2,  158.83,2,   37.34,2,    0.00,2,    2.63,2,-999.000,9,-999.000,9,-999.000,9,  2344.8,2,  2420.1,2,-999.000,9,-999.0000,9, -999.00,9,    0.11,2,  -236.6,2,     3.5,-999.000,9,-999.000,   37.70,2, 3149.90,   0.1190,2,   0.2590,2,   0.0100,2,   0.1940,2,   0.0110,2,-999.0000,-999.000,   0.0910,2, -999.00
318M20040615,        P02,     100,          1,          6,          6,2,20040720,       1307,    29.9947,  -170.3683,       5322,  3531.6,   1.4785,  34.6768,2,  34.6777,2, 140.3000,2,   140.3,2,  156.68,2,   36.69,2,    0.00,2,    2.58,2,   0.002,2,   0.003,2,   0.001,2,  2338.5,2,  2420.5,2,-999.000,9,-999.0000,9, -999.00,9,    0.14,2,  -224.3,2,     4.0,-999.000,9,-999.000,   37.30,2, 3531.60,-999.0000,9,-999.0000,9,-999.0000,9,-999.0000,9,-999.0000,9,-999.0000,-999.000,-999.0000,9, -999.00
318M20040615,        P02,     100,          1,          5,          5,2,20040720,       1307,    29.9947,  -170.3683,       5322,  3948.2,   1.4619,  34.6831,2,  34.6832,2, 147.1000,2,   147.5,2,  154.98,2,   36.32,2,    0.00,2,    2.54,2,-999.000,5,-999.000,5,-999.000,5,  2334.0,2,  2419.7,2,-999.000,9,-999.0000,9, -999.00,9,    0.21,2,  -222.2,2,     3.7,-999.000,9,-999.000,   37.30,2, 3948.20,-999.0000,9,-999.0000,9,-999.0000,9,-999.0000,9,-999.0000,9,-999.0000,-999.000,-999.0000,9, -999.00
318M20040615,        P02,     100,          1,          4,          4,2,20040720,       1307,    29.9947,  -170.3683,       5322,  4363.0,   1.4739,  34.6870,2,  34.6865,2, 150.6000,2,   151.4,2,  155.81,2,   36.25,2,    0.00,2,    2.52,2,   0.001,2,   0.003,2,   0.001,2,  2331.0,2,  2421.2,2,-999.000,9,-999.0000,9, -999.00,9,    0.24,2,  -220.7,2,     3.2,-999.000,9,-999.000,   38.00,2, 4363.00,-999.0000,9,-999.0000,9,-999.0000,9,-999.0000,9,-999.0000,9,-999.0000,-999.000,-999.0000,9, -999.00
318M20040615,        P02,     100,          1,          3,          3,2,20040720,       1307,    29.9947,  -170.3683,       5322,  4782.9,   1.5064,  34.6888,2,  34.6887,2, 153.9000,2,   154.5,2,  153.46,2,   36.08,2,    0.00,2,    2.50,2,-999.000,9,-999.000,9,-999.000,9,  2327.7,2,  2420.5,2,-999.000,9,-999.0000,9, -999.00,9,    0.26,2,  -219.8,2,     4.1,-999.000,9,-999.000,   37.70,2, 4782.90,-999.0000,9,-999.0000,9,-999.0000,9,-999.0000,9,-999.0000,9,-999.0000,-999.000,-999.0000,9, -999.00
318M20040615,        P02,     100,          1,          2,          2,2,20040720,       1307,    29.9947,  -170.3683,       5322,  5203.3,   1.5231,  34.6913,2,  34.6910,4, 162.1000,2,   161.9,2,  146.16,2,   35.48,2,    0.00,2,    2.47,2,   0.003,2,   0.003,2,   0.001,2,  2319.9,2,  2414.5,2,-999.000,9,-999.0000,9, -999.00,9,    0.26,6,  -206.8,6,     3.7,-999.000,9,-999.000,   37.10,2, 5203.30,-999.0000,9,-999.0000,9,-999.0000,9,-999.0000,9,-999.0000,9,-999.0000,-999.000,-999.0000,9, -999.00
318M20040615,        P02,     100,          1,          1,          1,2,20040720,       1307,    29.9947,  -170.3683,       5322,  5432.3,   1.5278,  34.6931,2,  34.6942,4, 170.6000,2,   166.4,2,  142.32,2,   35.06,2,    0.00,2,    2.44,2,   0.007,2,   0.007,2,   0.001,2,  2313.7,6,  2409.8,6,-999.000,9,-999.0000,9, -999.00,9,    0.26,2,  -205.9,2,     3.3,-999.000,9,-999.000,   37.40,2, 5432.30,-999.0000,9,-999.0000,9,-999.0000,9,-999.0000,9,-999.0000,9,-999.0000,-999.000,-999.0000,9, -999.00