BOTTLE,20131027SIOCCHRJL
EXPOCODE,SECT_ID,STNNBR,CASTNO,SAMPNO,BTLNBR,BTLNBR_FLAG_W,DATE,TIME,LATITUDE,LONGITUDE,DEPTH,CTDPRS,CTDTMP,CTDSAL,CTDSAL_FLAG_W,SALNTY,SALNTY_FLAG_W,CTDOXY,CTDOXY_FLAG_W,OXYGEN,OXYGEN_FLAG_W,SILCAT,SILCAT_FLAG_W,NITRAT,NITRAT_FLAG_W,NITRIT,NITRIT_FLAG_W,PHSPHT,PHSPHT_FLAG_W,CFC-11,CFC-11_FLAG_W,CFC-12,CFC-12_FLAG_W,CFC113,CFC113_FLAG_W,TCARBN,TCARBN_FLAG_W,ALKALI,ALKALI_FLAG_W,TRITUM,TRITUM_FLAG_W,HELIUM,HELIUM_FLAG_W,DELHE3,DELHE3_FLAG_W,DELC13,DELC13_FLAG_W,DELC14,DELC14_FLAG_W,C14ERR,NEON,NEON_FLAG_W,NEONER,DOC,DOC_FLAG_W,CTDRAW,CDOM380,CDOM380_FLAG_W,CDOM325,CDOM325_FLAG_W,CDOMSL,CDOMSL_FLAG_W,CDOM340,CDOM340_FLAG_W,CDOMSN,CDOMSN_FLAG_W,HELIER,TRITER,CDOM412,CDOM412_FLAG_W,DELHER
,,,,,,,,,,,METERS,DBAR,ITS-90,PSS-78,,PSS-78,,UMOL/KG,,UMOL/KG,,UMOL/KG,,UMOL/KG,,UMOL/KG,,UMOL/KG,,PMOL/KG,,PMOL/KG,,PMOL/KG,,UMOL/KG,,UMOL/KG,,TU,,NMOL/KG,,PERCNT,,/MILLE,,/MILLE,,/MILLE,NMOL/KG,,NMOL/KG,UMOL/KG,,DBAR,1/M,,1/M,,1/NM,,1/M,,1/NM,,NMOL/KG,TU,1/M,,PERCNT
318M20040615,        P02,     103,          1,         36,         36,2,20040721,       1246,     30.003,  -168.4098,       5525,     7.9,  24.9386,  34.9480,2,  34.9463,3, 213.2000,2,   213.1,2,    1.99,2,    0.35,2,    0.00,2,    0.03,2,   1.828,2,   1.111,2,   0.136,2,  2002.7,6,  2294.9,6,-999.000,9,-999.0000,9, -999.00,9, -999.00,9,  -999.0,9,  -999.0,-999.000,9,-999.000, -999.00,9,    7.90,-999.0000,9,-999.0000,9,-999.0000,9,-999.0000,9,-999.0000,9,-999.0000,-999.000,-999.0000,9, -999.00
318M20040615,        P02,     103,          1,         35,         35,2,20040721,       1246,     30.003,  -168.4098,       5525,    56.4,  17.6481,  34.6809,2,  34.6814,3, 259.3000,2,   259.0,2,    3.19,2,    0.15,2,    0.00,2,    0.07,2,   2.554,2,   1.543,2,   0.189,2,  2000.2,2,  2279.2,2,-999.000,9,-999.0000,9, -999.00,9, -999.00,9,  -999.0,9,  -999.0,-999.000,9,-999.000, -999.00,9,   56.40,-999.0000,9,-999.0000,9,-999.0000,9,-999.0000,9,-999.0000,9,-999.0000,-999.000,-999.0000,9, -999.00
318M20040615,        P02,     103,          1,         34,         34,2,20040721,       1246,     30.003,  -168.4098,       5525,   106.4,  15.5908,  34.6036,2,  34.6046,3, 232.9000,2,   238.8,2,    4.60,2,    2.87,2,    0.30,2,    0.28,2,   2.669,2,   1.564,2,   0.183,2,  2026.7,2,  2275.5,2,-999.000,9,-999.0000,9, -999.00,9, -999.00,9,  -999.0,9,  -999.0,-999.000,9,-999.000, -999.00,9,  106.40,-999.0000,9,-999.0000,9,-999.0000,9,-999.0000,9,-999.0000,9,-999.0000,-999.000,-999.0000,9, -999.00
318M20040615,        P02,     103,          1,         33,         33,2,20040721,       1246,     30.003,  -168.4098,       5525,   155.8,  14.7033,  34.5509,2,  34.5506,3, 224.4000,2,   228.7,2,    6.61,2,    5.86,2,    0.01,2,    0.45,2,   2.726,2,   1.581,2,   0.150,2,  -999.0,9,  2272.8,2,-999.000,9,-999.0000,9, -999.00,9, -999.00,9,  -999.0,9,  -999.0,-999.000,9,-999.000, -999.00,9,  155.80,-999.0000,9,-999.0000,9,-999.0000,9,-999.0000,9,-999.0000,9,-999.0000,-999.000,-999.0000,9, -999.00
318M20040615,        P02,     103,          1,         32,         32,2,20040721,       1246,     30.003,  -168.4098,       5525,   205.5,  13.9373,  34.4908,2,  34.4920,3, 229.1000,2,   218.7,2,    8.24,2,    8.12,2,    0.01,2,    0.60,2,   2.811,2,   1.608,2,   0.075,2,  2058.0,2,  2269.6,2,-999.000,9,-999.0000,9, -999.00,9, -999.00,9,  -999.0,9,  -999.0,-999.000,9,-999.000, -999.00,9,  205.50,-999.0000,9,-999.0000,9,-999.0000,9,-999.0000,9,-999.0000,9,-999.0000,-999.000,-999.0000,9, -999.00
318M20040615,        P02,     103,          1,         31,         31,2,20040721,       1246,     30.003,  -168.4098,       5525,   255.3,  12.9501,  34.4053,2,  34.4035,3, 218.1000,2,   235.0,2,    9.05,2,    7.87,2,    0.01,2,    0.59,2,   2.961,2,   1.691,2,   0.160,3,  -999.0,9,  -999.0,9,-999.000,9,-999.0000,9, -999.00,9, -999.00,9,  -999.0,9,  -999.0,-999.000,9,-999.000, -999.00,9,  255.30,-999.0000,9,-999.0000,9,-999.0000,9,-999.0000,9,-999.0000,9,-999.0000,-999.000,-999.0000,9, -999.00
318M20040615,        P02,     103,          1,         30,         30,2,20040721,       1246,     30.003,  -168.4098,       5525,   305.3,  12.2263,  34.3592,2,  34.3588,3, 222.8000,2,   222.8,2,   12.09,2,   10.83,2,    0.00,2,    0.78,2,   2.970,2,   1.666,2,   0.108,2,  2076.4,2,  2266.6,2,-999.000,9,-999.0000,9, -999.00,9, -999.00,9,  -999.0,9,  -999.0,-999.000,9,-999.000, -999.00,9,  305.30,-999.0000,9,-999.0000,9,-999.0000,9,-999.0000,9,-999.0000,9,-999.0000,-999.000,-999.0000,9, -999.00
318M20040615,        P02,     103,          1,         29,         29,2,20040721,       1246,     30.003,  -168.4098,       5525,   355.3,  11.4016,  34.2914,2,  34.2921,3, 216.6000,2,   218.7,2,   14.73,2,   12.59,2,    0.00,2,    0.91,2,   3.043,2,   1.681,2,   0.106,2,  -999.0,9,  -999.0,9,-999.000,9,-999.0000,9, -999.00,9, -999.00,9,  -999.0,9,  -999.0,-999.000,9,-999.000, -999.00,9,  355.30,-999.0000,9,-999.0000,9,-999.0000,9,-999.0000,9,-999.0000,9,-999.0000,-999.000,-999.0000,9, -999.00
318M20040615,        P02,     103,          1,         28,         28,2,20040721,       1246,     30.003,  -168.4098,       5525,   404.7,  10.5577,  34.2235,2,  34.2228,3, 213.7000,2,   215.5,2,   17.79,2,   14.39,2,    0.00,2,    1.04,2,   3.047,2,   1.670,2,   0.115,2,  -999.0,9,  2267.3,2,-999.000,9,-999.0000,9, -999.00,9, -999.00,9,  -999.0,9,  -999.0,-999.000,9,-999.000, -999.00,9,  404.70,-999.0000,9,-999.0000,9,-999.0000,9,-999.0000,9,-999.0000,9,-999.0000,-999.000,-999.0000,9, -999.00
318M20040615,        P02,     103,          1,         27,         27,2,20040721,       1246,     30.003,  -168.4098,       5525,   454.5,   9.4438,  34.1417,2,  34.1419,3, 205.1000,2,   203.9,2,   23.93,2,   17.61,2,    0.00,2,    1.26,2,   3.032,2,   1.639,2,   0.124,2,  -999.0,9,  -999.0,9,-999.000,9,-999.0000,9, -999.00,9, -999.00,9,  -999.0,9,  -999.0,-999.000,9,-999.000, -999.00,9,  454.50,-999.0000,9,-999.0000,9,-999.0000,9,-999.0000,9,-999.0000,9,-999.0000,-999.000,-999.0000,9, -999.00
318M20040615,        P02,     103,          1,         26,         26,2,20040721,       1246,     30.003,  -168.4098,       5525,   504.1,   8.5831,  34.0842,2,  34.0846,3, 190.2000,2,   194.1,2,   29.89,2,   20.23,2,    0.00,2,    1.45,2,   2.951,2,   1.589,2,   0.137,2,  -999.0,9,  2270.7,2,-999.000,9,-999.0000,9, -999.00,9, -999.00,9,  -999.0,9,  -999.0,-999.000,9,-999.000, -999.00,9,  504.10,-999.0000,9,-999.0000,9,-999.0000,9,-999.0000,9,-999.0000,9,-999.0000,-999.000,-999.0000,9, -999.00
318M20040615,        P02,     103,          1,         25,         25,2,20040721,       1246,     30.003,  -168.4098,       5525,   609.0,   6.4537,  34.0197,2,  34.0190,3, 134.8000,2,   132.5,2,   53.99,2,   29.85,2,    0.00,2,    2.14,2,   1.997,2,   1.011,2,   0.079,2,  -999.0,9,  -999.0,9,-999.000,9,-999.0000,9, -999.00,9, -999.00,9,  -999.0,9,  -999.0,-999.000,9,-999.000, -999.00,9,  609.00,-999.0000,9,-999.0000,9,-999.0000,9,-999.0000,9,-999.0000,9,-999.0000,-999.000,-999.0000,9, -999.00
318M20040615,        P02,     103,          1,         24,         24,2,20040721,       1246,     30.003,  -168.4098,       5525,   709.2,   5.2385,  34.0505,2,  34.0503,3,  86.8000,2,    87.6,2,   75.64,2,   36.07,2,    0.00,2,    2.59,2,   1.135,2,   0.554,2,   0.038,2,  -999.0,9,  2303.2,2,-999.000,9,-999.0000,9, -999.00,9, -999.00,9,  -999.0,9,  -999.0,-999.000,9,-999.000, -999.00,9,  709.20,-999.0000,9,-999.0000,9,-999.0000,9,-999.0000,9,-999.0000,9,-999.0000,-999.000,-999.0000,9, -999.00
318M20040615,        P02,     103,          1,         23,         23,2,20040721,       1246,     30.003,  -168.4098,       5525,   809.4,   4.4078,  34.1354,2,  34.1350,3,  50.8000,2,    50.4,2,   96.62,2,   40.49,2,    0.00,2,    2.91,2,   0.486,6,   0.245,6,   0.013,6,  -999.0,9,  -999.0,9,-999.000,9,-999.0000,9, -999.00,9, -999.00,9,  -999.0,9,  -999.0,-999.000,9,-999.000, -999.00,9,  809.40,-999.0000,9,-999.0000,9,-999.0000,9,-999.0000,9,-999.0000,9,-999.0000,-999.000,-999.0000,9, -999.00
318M20040615,        P02,     103,          1,         22,         22,2,20040721,       1246,     30.003,  -168.4098,       5525,   908.4,   3.9786,  34.2341,2,  34.2304,3,  25.7000,2,    25.9,2,  111.72,2,   43.01,2,    0.00,2,    3.09,2,   0.123,2,   0.063,2,   0.001,2,  -999.0,9,  2341.8,2,-999.000,9,-999.0000,9, -999.00,9, -999.00,9,  -999.0,9,  -999.0,-999.000,9,-999.000, -999.00,9,  908.40,-999.0000,9,-999.0000,9,-999.0000,9,-999.0000,9,-999.0000,9,-999.0000,-999.000,-999.0000,9, -999.00
318M20040615,        P02,     103,          1,         21,         21,2,20040721,       1246,     30.003,  -168.4098,       5525,  1013.2,   3.6594,  34.3233,2,  34.3225,3,  18.7000,2,    18.3,2,  122.80,2,   43.96,2,    0.00,2,    3.17,2,   0.033,2,   0.018,2,   0.001,2,  -999.0,9,  -999.0,9,-999.000,9,-999.0000,9, -999.00,9, -999.00,9,  -999.0,9,  -999.0,-999.000,9,-999.000, -999.00,9, 1013.20,-999.0000,9,-999.0000,9,-999.0000,9,-999.0000,9,-999.0000,9,-999.0000,-999.000,-999.0000,9, -999.00
318M20040615,        P02,     103,          1,         20,         20,2,20040721,       1246,     30.003,  -168.4098,       5525,  1112.8,   3.4241,  34.3945,2,  34.3937,3,  20.1000,2,    20.6,2,  130.26,2,   44.01,2,    0.00,2,    3.17,2,   0.012,2,   0.005,2,   0.001,2,  -999.0,9,  2371.5,2,-999.000,9,-999.0000,9, -999.00,9, -999.00,9,  -999.0,9,  -999.0,-999.000,9,-999.000, -999.00,9, 1112.80,-999.0000,9,-999.0000,9,-999.0000,9,-999.0000,9,-999.0000,9,-999.0000,-999.000,-999.0000,9, -999.00
318M20040615,        P02,     103,          1,         19,         19,2,20040721,       1246,     30.003,  -168.4098,       5525,  1213.1,   3.2218,  34.4435,2,  34.4438,3,  27.2000,2,    27.3,2,  135.79,2,   43.60,2,    0.00,2,    3.14,2,   0.007,2,   0.004,2,   0.001,2,  -999.0,9,  -999.0,9,-999.000,9,-999.0000,9, -999.00,9, -999.00,9,  -999.0,9,  -999.0,-999.000,9,-999.000, -999.00,9, 1213.10,-999.0000,9,-999.0000,9,-999.0000,9,-999.0000,9,-999.0000,9,-999.0000,-999.000,-999.0000,9, -999.00
318M20040615,        P02,     103,          1,         18,         18,2,20040721,       1246,     30.003,  -168.4098,       5525,  1318.2,   2.9782,  34.4831,2,  34.4832,3,  33.0000,2,    32.4,2,  142.18,2,   43.48,2,    0.00,2,    3.13,2,   0.007,2,   0.006,2,   0.001,2,  -999.0,9,  2388.5,2,-999.000,9,-999.0000,9, -999.00,9, -999.00,9,  -999.0,9,  -999.0,-999.000,9,-999.000, -999.00,9, 1318.20,-999.0000,9,-999.0000,9,-999.0000,9,-999.0000,9,-999.0000,9,-999.0000,-999.000,-999.0000,9, -999.00
318M20040615,        P02,     103,          1,         17,         17,2,20040721,       1246,     30.003,  -168.4098,       5525,  1418.2,   2.8015,  34.5106,2,  34.5105,3,  38.4000,2,    39.3,2,  146.00,2,   43.41,2,    0.00,2,    3.09,2,   0.004,2,   0.003,2,   0.001,2,  -999.0,9,  -999.0,9,-999.000,9,-999.0000,9, -999.00,9, -999.00,9,  -999.0,9,  -999.0,-999.000,9,-999.000, -999.00,9, 1418.20,-999.0000,9,-999.0000,9,-999.0000,9,-999.0000,9,-999.0000,9,-999.0000,-999.000,-999.0000,9, -999.00
318M20040615,        P02,     103,          1,         16,         16,2,20040721,       1246,     30.003,  -168.4098,       5525,  1521.2,   2.6173,  34.5341,2,  34.5347,3,  44.5000,2,    45.2,2,  150.68,2,   43.35,2,    0.00,2,    3.06,2,   0.005,2,   0.007,2,   0.001,2,  -999.0,9,  2399.6,2,-999.000,9,-999.0000,9, -999.00,9, -999.00,9,  -999.0,9,  -999.0,-999.000,9,-999.000, -999.00,9, 1521.20,-999.0000,9,-999.0000,9,-999.0000,9,-999.0000,9,-999.0000,9,-999.0000,-999.000,-999.0000,9, -999.00
318M20040615,        P02,     103,          1,         15,         15,2,20040721,       1246,     30.003,  -168.4098,       5525,  1622.4,   2.4522,  34.5533,2,  34.5523,3,  50.5000,2,    50.7,2,  154.29,2,   43.06,2,    0.00,2,    3.03,2,   0.006,2,   0.006,2,   0.001,2,  -999.0,9,  -999.0,9,-999.000,9,-999.0000,9, -999.00,9, -999.00,9,  -999.0,9,  -999.0,-999.000,9,-999.000, -999.00,9, 1622.40,-999.0000,9,-999.0000,9,-999.0000,9,-999.0000,9,-999.0000,9,-999.0000,-999.000,-999.0000,9, -999.00
318M20040615,        P02,     103,          1,         14,         14,2,20040721,       1246,     30.003,  -168.4098,       5525,  1720.2,   2.3180,  34.5703,2,  34.5698,3,  57.0000,2,    57.3,2,  157.28,2,   42.61,2,    0.00,2,    3.00,2,   0.007,2,   0.005,2,   0.001,2,  -999.0,9,  2407.8,2,-999.000,9,-999.0000,9, -999.00,9, -999.00,9,  -999.0,9,  -999.0,-999.000,9,-999.000, -999.00,9, 1720.20,-999.0000,9,-999.0000,9,-999.0000,9,-999.0000,9,-999.0000,9,-999.0000,-999.000,-999.0000,9, -999.00
318M20040615,        P02,     103,          1,         13,         13,2,20040721,       1246,     30.003,  -168.4098,       5525,  1821.4,   2.1737,  34.5875,2,  34.5867,3,  64.5000,2,    64.9,2,  160.46,2,   42.04,2,    0.00,2,    2.96,2,   0.004,2,   0.003,2,   0.001,2,  -999.0,9,  -999.0,9,-999.000,9,-999.0000,9, -999.00,9, -999.00,9,  -999.0,9,  -999.0,-999.000,9,-999.000, -999.00,9, 1821.40,-999.0000,9,-999.0000,9,-999.0000,9,-999.0000,9,-999.0000,9,-999.0000,-999.000,-999.0000,9, -999.00
318M20040615,        P02,     103,          1,         12,         12,2,20040721,       1246,     30.003,  -168.4098,       5525,  2022.5,   1.9764,  34.6102,2,  34.6103,3,  75.9000,2,    77.0,2,  164.26,2,   41.21,2,    0.00,2,    2.92,2,   0.003,2,   0.004,2,   0.001,2,  -999.0,9,  2416.6,2,-999.000,9,-999.0000,9, -999.00,9, -999.00,9,  -999.0,9,  -999.0,-999.000,9,-999.000, -999.00,9, 2022.50,-999.0000,9,-999.0000,9,-999.0000,9,-999.0000,9,-999.0000,9,-999.0000,-999.000,-999.0000,9, -999.00
318M20040615,        P02,     103,          1,         11,         11,2,20040721,       1246,     30.003,  -168.4098,       5525,  2275.8,   1.8084,  34.6303,2,  34.6303,3,  89.7000,2,    90.4,2,  166.42,2,   40.28,2,    0.00,2,    2.85,2,-999.000,9,-999.000,9,-999.000,9,  -999.0,9,  -999.0,9,-999.000,9,-999.0000,9, -999.00,9, -999.00,9,  -999.0,9,  -999.0,-999.000,9,-999.000, -999.00,9, 2275.80,-999.0000,9,-999.0000,9,-999.0000,9,-999.0000,9,-999.0000,9,-999.0000,-999.000,-999.0000,9, -999.00
318M20040615,        P02,     103,          1,         10,         10,2,20040721,       1246,     30.003,  -168.4098,       5525,  2531.7,   1.6879,  34.6451,2,  34.6443,3, 102.0000,2,   102.5,2,  165.37,2,   38.75,2,    0.00,2,    2.73,2,   0.005,2,   0.004,2,   0.001,2,  -999.0,9,  2422.3,2,-999.000,9,-999.0000,9, -999.00,9, -999.00,9,  -999.0,9,  -999.0,-999.000,9,-999.000, -999.00,9, 2531.70,-999.0000,9,-999.0000,9,-999.0000,9,-999.0000,9,-999.0000,9,-999.0000,-999.000,-999.0000,9, -999.00
318M20040615,        P02,     103,          1,          9,          9,2,20040721,       1246,     30.003,  -168.4098,       5525,  2790.2,   1.6032,  34.6564,2,  34.6563,3, 112.5000,2,   113.1,2,  165.39,2,   38.68,2,    0.00,2,    2.73,2,-999.000,9,-999.000,9,-999.000,9,  -999.0,9,  -999.0,9,-999.000,9,-999.0000,9, -999.00,9, -999.00,9,  -999.0,9,  -999.0,-999.000,9,-999.000, -999.00,9, 2790.20,-999.0000,9,-999.0000,9,-999.0000,9,-999.0000,9,-999.0000,9,-999.0000,-999.000,-999.0000,9, -999.00
318M20040615,        P02,     103,          1,          8,          8,2,20040721,       1246,     30.003,  -168.4098,       5525,  3044.7,   1.5450,  34.6650,2,  34.6651,3, 123.0000,2,   123.6,2,  163.51,2,   38.08,2,    0.00,2,    2.67,2,   0.007,2,   0.006,2,   0.001,2,  -999.0,9,  2423.7,2,-999.000,9,-999.0000,9, -999.00,9, -999.00,9,  -999.0,9,  -999.0,-999.000,9,-999.000, -999.00,9, 3044.70,-999.0000,9,-999.0000,9,-999.0000,9,-999.0000,9,-999.0000,9,-999.0000,-999.000,-999.0000,9, -999.00
318M20040615,        P02,     103,          1,          7,          7,2,20040721,       1246,     30.003,  -168.4098,       5525,  3458.3,   1.4888,  34.6753,2,  34.6753,4, 138.8000,2,   135.7,2,  159.93,2,   37.43,2,    0.00,2,    2.61,2,-999.000,9,-999.000,9,-999.000,9,  -999.0,9,  -999.0,9,-999.000,9,-999.0000,9, -999.00,9, -999.00,9,  -999.0,9,  -999.0,-999.000,9,-999.000, -999.00,9, 3458.30,-999.0000,9,-999.0000,9,-999.0000,9,-999.0000,9,-999.0000,9,-999.0000,-999.000,-999.0000,9, -999.00
318M20040615,        P02,     103,          1,          6,          6,2,20040721,       1246,     30.003,  -168.4098,       5525,  3860.8,   1.4713,  34.6813,2,  34.6810,4, 152.3000,2,   144.3,2,  156.98,2,   36.99,2,    0.00,2,    2.56,2,   0.006,2,   0.005,2,   0.001,2,  -999.0,9,  2420.9,6,-999.000,9,-999.0000,9, -999.00,9, -999.00,9,  -999.0,9,  -999.0,-999.000,9,-999.000, -999.00,9, 3860.80,-999.0000,9,-999.0000,9,-999.0000,9,-999.0000,9,-999.0000,9,-999.0000,-999.000,-999.0000,9, -999.00
318M20040615,        P02,     103,          1,          5,          5,2,20040721,       1246,     30.003,  -168.4098,       5525,  4267.2,   1.4790,  34.6855,2,  34.6855,4, 162.0000,2,   149.2,2,  155.93,2,   36.60,2,    0.00,2,    2.53,2,-999.000,9,-999.000,9,-999.000,9,  -999.0,9,  2422.4,2,-999.000,9,-999.0000,9, -999.00,9, -999.00,9,  -999.0,9,  -999.0,-999.000,9,-999.000, -999.00,9, 4267.20,-999.0000,9,-999.0000,9,-999.0000,9,-999.0000,9,-999.0000,9,-999.0000,-999.000,-999.0000,9, -999.00
318M20040615,        P02,     103,          1,          4,          4,2,20040721,       1246,     30.003,  -168.4098,       5525,  4688.0,   1.5031,  34.6881,2,  34.6885,4, 175.6000,2,   153.1,2,  154.46,2,   36.28,2,    0.00,2,    2.51,2,   0.007,2,   0.008,2,   0.001,2,  -999.0,9,  2421.9,2,-999.000,9,-999.0000,9, -999.00,9, -999.00,9,  -999.0,9,  -999.0,-999.000,9,-999.000, -999.00,9, 4688.00,-999.0000,9,-999.0000,9,-999.0000,9,-999.0000,9,-999.0000,9,-999.0000,-999.000,-999.0000,9, -999.00
318M20040615,        P02,     103,          1,          3,          3,2,20040721,       1246,     30.003,  -168.4098,       5525,  5098.1,   1.5378,  34.6896,2,  34.6906,4, 189.7000,2,   156.1,2,  151.51,2,   35.95,2,    0.00,2,    2.50,2,-999.000,9,-999.000,9,-999.000,9,  -999.0,9,  2420.3,2,-999.000,9,-999.0000,9, -999.00,9, -999.00,9,  -999.0,9,  -999.0,-999.000,9,-999.000, -999.00,9, 5098.10,-999.0000,9,-999.0000,9,-999.0000,9,-999.0000,9,-999.0000,9,-999.0000,-999.000,-999.0000,9, -999.00
318M20040615,        P02,     103,          1,          2,          2,2,20040721,       1246,     30.003,  -168.4098,       5525,  5410.4,   1.5677,  34.6906,2,  34.6908,4, 201.2000,2,   158.3,2,  149.19,2,   35.62,2,    0.00,2,    2.48,2,   0.007,2,   0.007,2,   0.001,2,  -999.0,9,  2419.2,2,-999.000,9,-999.0000,9, -999.00,9, -999.00,9,  -999.0,9,  -999.0,-999.000,9,-999.000, -999.00,9, 5410.40,-999.0000,9,-999.0000,9,-999.0000,9,-999.0000,9,-999.0000,9,-999.0000,-999.000,-999.0000,9, -999.00
318M20040615,        P02,     103,          1,          1,          1,2,20040721,       1246,     30.003,  -168.4098,       5525,  5636.0,   1.5773,  34.6917,2,  34.6926,4, 215.1000,2,   162.0,2,  145.81,2,   35.34,2,    0.00,2,    2.47,2,   0.009,2,   0.010,2,   0.001,2,  -999.0,9,  2415.0,6,-999.000,9,-999.0000,9, -999.00,9, -999.00,9,  -999.0,9,  -999.0,-999.000,9,-999.000, -999.00,9, 5636.00,-999.0000,9,-999.0000,9,-999.0000,9,-999.0000,9,-999.0000,9,-999.0000,-999.000,-999.0000,9, -999.00