BOTTLE,20131027SIOCCHRJL
EXPOCODE,SECT_ID,STNNBR,CASTNO,SAMPNO,BTLNBR,BTLNBR_FLAG_W,DATE,TIME,LATITUDE,LONGITUDE,DEPTH,CTDPRS,CTDTMP,CTDSAL,CTDSAL_FLAG_W,SALNTY,SALNTY_FLAG_W,CTDOXY,CTDOXY_FLAG_W,OXYGEN,OXYGEN_FLAG_W,SILCAT,SILCAT_FLAG_W,NITRAT,NITRAT_FLAG_W,NITRIT,NITRIT_FLAG_W,PHSPHT,PHSPHT_FLAG_W,CFC-11,CFC-11_FLAG_W,CFC-12,CFC-12_FLAG_W,CFC113,CFC113_FLAG_W,TCARBN,TCARBN_FLAG_W,ALKALI,ALKALI_FLAG_W,TRITUM,TRITUM_FLAG_W,HELIUM,HELIUM_FLAG_W,DELHE3,DELHE3_FLAG_W,DELC13,DELC13_FLAG_W,DELC14,DELC14_FLAG_W,C14ERR,NEON,NEON_FLAG_W,NEONER,DOC,DOC_FLAG_W,CTDRAW,CDOM380,CDOM380_FLAG_W,CDOM325,CDOM325_FLAG_W,CDOMSL,CDOMSL_FLAG_W,CDOM340,CDOM340_FLAG_W,CDOMSN,CDOMSN_FLAG_W,HELIER,TRITER,CDOM412,CDOM412_FLAG_W,DELHER
,,,,,,,,,,,METERS,DBAR,ITS-90,PSS-78,,PSS-78,,UMOL/KG,,UMOL/KG,,UMOL/KG,,UMOL/KG,,UMOL/KG,,UMOL/KG,,PMOL/KG,,PMOL/KG,,PMOL/KG,,UMOL/KG,,UMOL/KG,,TU,,NMOL/KG,,PERCNT,,/MILLE,,/MILLE,,/MILLE,NMOL/KG,,NMOL/KG,UMOL/KG,,DBAR,1/M,,1/M,,1/NM,,1/M,,1/NM,,NMOL/KG,TU,1/M,,PERCNT
318M20040615,        P02,     157,          2,         36,         36,2,20040819,       0907,    30.0025,  -132.4265,       4574,     5.3,  24.2445,  34.0467,2,  34.0388,2, 217.1000,2,   216.9,2,    1.29,2,    0.00,2,    0.00,2,    0.20,2,   2.008,2,   1.204,2,   0.149,2,  2004.6,6,  2269.2,6,   0.986,2,   1.7471,2,   -1.09,2, -999.00,9,  -999.0,9,  -999.0,-999.000,9,-999.000,   67.50,2,    5.30,   0.0100,2,   0.0520,2,   0.0310,2,   0.0330,2,   0.0310,2,   0.0087,   0.007,   0.0050,2,    0.20
318M20040615,        P02,     157,          2,         35,         35,2,20040819,       0907,    30.0025,  -132.4265,       4574,    50.3,  21.1698,  34.5833,2,  34.5859,2, 237.5000,2,   235.3,2,    1.49,2,    0.00,2,    0.00,2,    0.12,2,   2.297,2,   1.415,2,   0.168,2,  2016.5,2,  2296.1,2,   0.867,2,-999.0000,9, -999.00,9, -999.00,9,  -999.0,9,  -999.0,-999.000,9,-999.000,   88.60,4,   50.30,   0.0260,2,   0.1020,2,   0.0250,2,   0.0680,2,   0.0260,2,-999.0000,   0.006,   0.0140,2, -999.00
318M20040615,        P02,     157,          2,         34,         34,2,20040819,       0907,    30.0025,  -132.4265,       4574,   100.2,  18.3060,  34.3175,2,  34.3182,2, 237.6000,2,   237.7,2,    2.08,2,    0.05,2,    0.00,2,    0.14,2,   2.545,2,   1.524,2,   0.178,2,  2013.4,2,  2272.5,2,   0.888,2,   1.7822,2,   -1.23,2, -999.00,9,  -999.0,9,  -999.0,-999.000,9,-999.000,   61.90,2,  100.20,   0.0240,2,   0.1020,2,   0.0270,2,   0.0670,2,   0.0270,2,   0.0089,   0.006,   0.0130,2,    0.20
318M20040615,        P02,     157,          2,         33,         33,2,20040819,       0907,    30.0025,  -132.4265,       4574,   149.6,  15.6631,  34.0733,2,  34.0789,2, 231.8000,2,   233.0,2,    2.90,2,    1.02,2,    0.09,2,    0.24,2,   2.932,2,   1.616,2,   0.185,2,  2022.0,2,  2255.2,2,   0.874,2,   1.7760,2,   -0.89,2, -999.00,9,  -999.0,9,  -999.0,-999.000,9,-999.000,   55.60,2,  149.60,   0.0370,2,   0.1160,2,   0.0200,2,   0.0840,2,   0.0210,2,   0.0089,   0.006,   0.0250,2,    0.20
318M20040615,        P02,     157,          2,         32,         32,2,20040819,       0907,    30.0025,  -132.4265,       4574,   184.5,  11.4199,  33.4532,2,  33.4590,2, 226.8000,2,   228.7,2,    7.01,2,    7.80,2,    0.01,2,    0.74,2,   3.505,2,   1.985,2,   0.193,2,  2048.4,2,  2220.2,2,-999.000,9,   1.8063,2,   -1.06,2, -999.00,9,  -999.0,9,  -999.0,-999.000,9,-999.000,   49.60,2,  184.50,   0.0360,2,   0.1180,2,   0.0210,2,   0.0830,2,   0.0220,2,   0.0090,-999.000,   0.0250,2,    0.20
318M20040615,        P02,     157,          2,         31,         31,2,20040819,       0907,    30.0025,  -132.4265,       4574,   253.9,   9.1433,  33.8968,2,  33.8961,2, 191.0000,2,   189.9,2,   21.06,2,   18.64,2,    0.00,2,    1.37,2,-999.000,9,-999.000,9,-999.000,9,  2126.0,2,  2251.2,2,-999.000,9,-999.0000,9, -999.00,9, -999.00,9,  -999.0,9,  -999.0,-999.000,9,-999.000,   48.10,2,  253.90,   0.0430,2,   0.1300,2,   0.0180,2,   0.0920,2,   0.0190,2,-999.0000,-999.000,   0.0300,2, -999.00
318M20040615,        P02,     157,          2,         30,         30,2,20040819,       0907,    30.0025,  -132.4265,       4574,   303.9,   8.7470,  34.0405,2,  34.0421,2, 169.4000,2,   180.8,2,   26.64,2,   20.88,2,    0.00,2,    1.48,2,   3.324,2,   1.769,2,   0.116,2,  2144.0,2,  2263.5,2,   0.828,2,   1.8324,2,    4.66,2, -999.00,9,  -999.0,9,  -999.0,-999.000,9,-999.000,   46.40,2,  303.90,   0.0590,2,   0.1600,2,   0.0150,2,   0.1150,2,   0.0170,2,   0.0092,   0.007,   0.0420,2,    0.20
318M20040615,        P02,     157,          2,         29,         29,2,20040819,       0907,    30.0025,  -132.4265,       4574,   353.9,   7.6565,  34.0196,2,  34.0182,2, 135.1000,2,   138.6,2,   39.71,2,   27.42,2,    0.00,2,    1.93,2,-999.000,9,-999.000,9,-999.000,9,  2188.1,2,  2277.4,2,-999.000,9,-999.0000,9, -999.00,9, -999.00,9,  -999.0,9,  -999.0,-999.000,9,-999.000, -999.00,9,  353.90,   0.0590,2,   0.1610,2,   0.0150,2,   0.1150,2,   0.0170,2,-999.0000,-999.000,   0.0420,2, -999.00
318M20040615,        P02,     157,          2,         28,         28,2,20040819,       0907,    30.0025,  -132.4265,       4574,   403.9,   6.7109,  34.0109,2,  34.0095,2, 110.0000,2,   111.9,2,   50.74,2,   31.70,2,    0.00,2,    2.25,2,   2.098,2,   1.041,2,   0.076,2,  2221.9,2,  2279.9,2,   0.729,2,   1.8363,2,   12.47,2, -999.00,9,  -999.0,9,  -999.0,-999.000,9,-999.000,   46.20,2,  403.90,   0.0620,2,   0.1670,2,   0.0150,2,   0.1190,2,   0.0170,2,   0.0092,   0.006,   0.0440,2,    0.20
318M20040615,        P02,     157,          2,         27,         27,2,20040819,       0907,    30.0025,  -132.4265,       4574,   453.5,   6.0059,  34.0168,2,  34.0162,2,  89.0000,2,    86.1,2,   61.37,2,   35.09,2,    0.00,2,    2.51,2,   1.565,2,   0.770,2,   0.047,2,  2249.7,2,  2288.8,2,-999.000,9,-999.0000,9, -999.00,9, -999.00,9,  -999.0,9,  -999.0,-999.000,9,-999.000, -999.00,9,  453.50,-999.0000,9,-999.0000,9,-999.0000,9,-999.0000,9,-999.0000,9,-999.0000,-999.000,-999.0000,9, -999.00
318M20040615,        P02,     157,          2,         26,         26,2,20040819,       0907,    30.0025,  -132.4265,       4574,   503.8,   5.5706,  34.0567,2,  34.0589,2,  68.3000,2,    60.3,2,   71.60,2,   37.91,2,    0.00,2,    2.75,2,   0.947,6,   0.457,6,   0.014,6,  2277.1,2,  2298.5,2,   0.536,2,   1.8560,2,   16.87,2, -999.00,9,  -999.0,9,  -999.0,-999.000,9,-999.000,   45.10,2,  503.80,   0.0700,2,   0.1830,2,   0.0140,2,   0.1320,2,   0.0160,2,   0.0093,   0.006,   0.0510,2,    0.20
318M20040615,        P02,     157,          2,         25,         25,2,20040819,       0907,    30.0025,  -132.4265,       4574,   603.6,   4.9238,  34.1471,2,  34.1469,2,  35.1000,2,    30.5,2,   87.98,2,   41.10,2,    0.00,2,    3.00,2,   0.324,2,   0.167,2,   0.012,2,  2313.5,2,  2318.7,2,   0.296,2,   1.8547,2,   15.85,2, -999.00,9,  -999.0,9,  -999.0,-999.000,9,-999.000,   43.30,2,  603.60,-999.0000,9,-999.0000,9,-999.0000,9,-999.0000,9,-999.0000,9,   0.0093,   0.004,-999.0000,9,    0.20
318M20040615,        P02,     157,          2,         24,         24,2,20040819,       0907,    30.0025,  -132.4265,       4574,   708.3,   4.4774,  34.2658,2,  34.2651,2,  15.2000,2,    15.1,2,  103.17,2,   42.82,2,    0.00,2,    3.17,2,   0.076,2,   0.043,2,   0.000,2,  2340.7,2,  2338.3,2,   0.083,2,   1.8793,2,   14.11,2, -999.00,9,  -999.0,9,  -999.0,-999.000,9,-999.000,   42.50,2,  708.30,   0.0810,2,   0.2020,2,   0.0130,2,   0.1460,2,   0.0150,2,   0.0094,   0.002,   0.0620,2,    0.20
318M20040615,        P02,     157,          2,         23,         23,2,20040819,       0907,    30.0025,  -132.4265,       4574,   808.3,   4.2708,  34.3572,2,  34.3575,2,  12.6000,2,    13.3,2,  110.15,2,   43.27,2,    0.00,2,    3.20,2,   0.032,2,   0.021,2,   0.000,2,  2352.7,2,  2355.2,2,   0.020,2,   1.8674,2,   15.13,2, -999.00,9,  -999.0,9,  -999.0,-999.000,9,-999.000,   40.00,2,  808.30,-999.0000,9,-999.0000,9,-999.0000,9,-999.0000,9,-999.0000,9,   0.0093,   0.000,-999.0000,9,    0.20
318M20040615,        P02,     157,          2,         22,         22,2,20040819,       0907,    30.0025,  -132.4265,       4574,   908.5,   4.0203,  34.4173,2,  34.4174,2,  17.8000,2,    19.3,2,  116.07,2,   43.71,2,    0.00,2,    3.20,2,   0.022,2,   0.015,2,   0.000,2,  2356.9,6,  2366.8,2,   0.008,2,   1.8977,2,   17.53,2, -999.00,9,  -999.0,9,  -999.0,-999.000,9,-999.000, -999.00,9,  908.50,   0.0760,2,   0.1850,2,   0.0130,2,   0.1340,2,   0.0140,2,   0.0095,   0.000,   0.0590,2,    0.20
318M20040615,        P02,     157,          2,         21,         21,2,20040819,       0907,    30.0025,  -132.4265,       4574,  1008.5,   3.8051,  34.4568,2,  34.4564,2,  25.2000,2,    25.3,2,  120.30,2,   43.83,2,    0.00,2,    3.17,2,   0.016,2,   0.012,2,   0.000,2,  2359.2,2,  2374.3,2,-999.000,9,   1.9042,2,   19.28,2, -999.00,9,  -999.0,9,  -999.0,-999.000,9,-999.000,   39.20,2, 1008.50,   0.0770,2,   0.1820,2,   0.0130,2,   0.1330,2,   0.0140,2,   0.0095,-999.000,   0.0580,2,    0.20
318M20040615,        P02,     157,          2,         20,         20,2,20040819,       0907,    30.0025,  -132.4265,       4574,  1113.3,   3.5751,  34.4931,2,  34.4935,2,  33.1000,2,    33.5,2,  125.16,2,   43.71,2,    0.00,2,    3.15,2,-999.000,9,-999.000,9,-999.000,9,  2361.7,2,  2379.1,2,-999.000,9,-999.0000,9, -999.00,9, -999.00,9,  -999.0,9,  -999.0,-999.000,9,-999.000, -999.00,9, 1113.30,-999.0000,9,-999.0000,9,-999.0000,9,-999.0000,9,-999.0000,9,-999.0000,-999.000,-999.0000,9, -999.00
318M20040615,        P02,     157,          2,         19,         19,2,20040819,       0907,    30.0025,  -132.4265,       4574,  1216.4,   3.3280,  34.5145,2,  34.5144,2,  40.7000,2,    39.8,2,  130.69,2,   43.26,2,    0.00,2,    3.11,2,   0.011,2,   0.009,2,   0.000,2,  2364.5,2,  2387.6,2,   0.009,2,   1.9154,2,   21.63,2, -999.00,9,  -999.0,9,  -999.0,-999.000,9,-999.000,   39.20,2, 1216.40,-999.0000,9,-999.0000,9,-999.0000,9,-999.0000,9,-999.0000,9,   0.0096,   0.000,-999.0000,9,    0.20
318M20040615,        P02,     157,          2,         18,         18,2,20040819,       0907,    30.0025,  -132.4265,       4574,  1314.8,   3.1132,  34.5342,2,  34.5340,2,  47.4000,2,    47.0,2,  135.15,2,   42.77,2,    0.00,2,    3.07,2,-999.000,9,-999.000,9,-999.000,9,  2365.2,2,  2394.4,6,-999.000,9,-999.0000,9, -999.00,9, -999.00,9,  -999.0,9,  -999.0,-999.000,9,-999.000,   37.90,2, 1314.80,-999.0000,9,-999.0000,9,-999.0000,9,-999.0000,9,-999.0000,9,-999.0000,-999.000,-999.0000,9, -999.00
318M20040615,        P02,     157,          2,         17,         17,2,20040819,       0907,    30.0025,  -132.4265,       4574,  1414.9,   2.9636,  34.5473,2,  34.5479,2,  51.2000,2,    50.5,2,  138.96,2,   42.48,2,    0.00,2,    3.05,2,   0.010,2,   0.010,2,   0.000,2,  2367.3,2,  2398.0,2,   0.024,2,   1.8492,2,   21.65,2, -999.00,9,  -999.0,9,  -999.0,-999.000,9,-999.000, -999.00,9, 1414.90,-999.0000,9,-999.0000,9,-999.0000,9,-999.0000,9,-999.0000,9,   0.0092,   0.001,-999.0000,9,    0.20
318M20040615,        P02,     157,          2,         16,         16,2,20040819,       0907,    30.0025,  -132.4265,       4574,  1515.0,   2.7887,  34.5612,2,  34.5609,2,  54.9000,2,    54.3,2,  143.44,2,   42.21,2,    0.00,2,    3.03,2,-999.000,9,-999.000,9,-999.000,9,  2370.2,2,  2403.9,2,-999.000,9,-999.0000,9, -999.00,9, -999.00,9,  -999.0,9,  -999.0,-999.000,9,-999.000,   37.10,2, 1515.00,-999.0000,9,-999.0000,9,-999.0000,9,-999.0000,9,-999.0000,9,-999.0000,-999.000,-999.0000,9, -999.00
318M20040615,        P02,     157,          2,         15,         15,2,20040819,       0907,    30.0025,  -132.4265,       4574,  1615.3,   2.6230,  34.5751,2,  34.5758,2,  58.7000,2,    58.9,2,  148.80,2,   42.00,2,    0.00,2,    3.01,2,   0.009,2,   0.007,2,   0.006,2,  2372.1,2,  2407.7,2,   0.022,2,   1.9280,2,   22.84,2, -999.00,9,  -999.0,9,  -999.0,-999.000,9,-999.000, -999.00,9, 1615.30,-999.0000,9,-999.0000,9,-999.0000,9,-999.0000,9,-999.0000,9,   0.0096,   0.001,-999.0000,9,    0.20
318M20040615,        P02,     157,          2,         14,         14,2,20040819,       0907,    30.0025,  -132.4265,       4574,  1721.0,   2.4684,  34.5861,2,  34.5864,2,  63.5000,2,    62.9,2,  152.87,2,   41.67,2,    0.00,2,    2.99,2,-999.000,9,-999.000,9,-999.000,9,  2372.2,2,  2411.3,2,-999.000,9,-999.0000,9, -999.00,9, -999.00,9,  -999.0,9,  -999.0,-999.000,9,-999.000,   36.60,2, 1721.00,-999.0000,9,-999.0000,9,-999.0000,9,-999.0000,9,-999.0000,9,-999.0000,-999.000,-999.0000,9, -999.00
318M20040615,        P02,     157,          2,         13,         13,2,20040819,       0907,    30.0025,  -132.4265,       4574,  1821.5,   2.3403,  34.5969,2,  34.5974,2,  66.9000,2,    67.3,2,  156.49,2,   41.78,2,    0.00,2,    2.97,2,   0.011,2,   0.005,2,   0.000,2,  2373.6,2,  2414.7,2,-999.000,9,-999.0000,9, -999.00,9, -999.00,9,  -999.0,9,  -999.0,-999.000,9,-999.000,   35.80,2, 1821.50,-999.0000,9,-999.0000,9,-999.0000,9,-999.0000,9,-999.0000,9,-999.0000,-999.000,-999.0000,9, -999.00
318M20040615,        P02,     157,          2,         12,         12,2,20040819,       0907,    30.0025,  -132.4265,       4574,  1922.3,   2.2194,  34.6094,2,  34.6100,2,  73.2000,2,    73.4,2,  159.05,2,   41.56,2,    0.00,2,    2.93,2,-999.000,9,-999.000,9,-999.000,9,  2373.4,2,  2419.1,2,-999.000,9,-999.0000,9, -999.00,9, -999.00,9,  -999.0,9,  -999.0,-999.000,9,-999.000, -999.00,9, 1922.30,-999.0000,9,-999.0000,9,-999.0000,9,-999.0000,9,-999.0000,9,-999.0000,-999.000,-999.0000,9, -999.00
318M20040615,        P02,     157,          2,         11,         11,2,20040819,       0907,    30.0025,  -132.4265,       4574,  2022.7,   2.1214,  34.6183,2,  34.6182,2,  78.0000,2,    78.9,2,  161.17,2,   41.28,2,    0.00,2,    2.91,2,   0.007,2,   0.002,2,   0.000,2,  2371.2,2,  2421.2,2,-999.000,9,-999.0000,9, -999.00,9, -999.00,9,  -999.0,9,  -999.0,-999.000,9,-999.000,   37.60,2, 2022.70,   0.0630,2,   0.1610,2,   0.0140,2,   0.1140,2,   0.0160,2,-999.0000,-999.000,   0.0450,2, -999.00
318M20040615,        P02,     157,          2,         10,         10,2,20040819,       0907,    30.0025,  -132.4265,       4574,  2274.8,   1.8921,  34.6354,2,  34.6349,2,  89.6000,2,    90.3,2,  167.20,2,   40.40,2,    0.00,2,    2.84,2,-999.000,9,-999.000,9,-999.000,9,  2369.6,2,  2426.8,2,-999.000,9,-999.0000,9, -999.00,9, -999.00,9,  -999.0,9,  -999.0,-999.000,9,-999.000, -999.00,9, 2274.80,-999.0000,9,-999.0000,9,-999.0000,9,-999.0000,9,-999.0000,9,-999.0000,-999.000,-999.0000,9, -999.00
318M20040615,        P02,     157,          2,          9,          9,2,20040819,       0907,    30.0025,  -132.4265,       4574,  2532.8,   1.7539,  34.6486,2,  34.6483,2, 100.6000,2,   100.7,2,  169.51,2,   39.63,2,    0.00,2,    2.79,2,   0.008,2,   0.003,2,   0.000,2,  2365.2,2,  2429.2,2,-999.000,9,-999.0000,9, -999.00,9, -999.00,9,  -999.0,9,  -999.0,-999.000,9,-999.000, -999.00,9, 2532.80,-999.0000,9,-999.0000,9,-999.0000,9,-999.0000,9,-999.0000,9,-999.0000,-999.000,-999.0000,9, -999.00
318M20040615,        P02,     157,          2,          8,          8,2,20040819,       0907,    30.0025,  -132.4265,       4574,  2786.7,   1.6437,  34.6587,2,  34.6585,2, 109.2000,2,   110.0,2,  170.35,2,   38.91,2,    0.00,2,    2.74,2,-999.000,9,-999.000,9,-999.000,9,  2360.7,2,  2432.9,6,-999.000,9,-999.0000,9, -999.00,9, -999.00,9,  -999.0,9,  -999.0,-999.000,9,-999.000,   38.00,2, 2786.70,-999.0000,9,-999.0000,9,-999.0000,9,-999.0000,9,-999.0000,9,-999.0000,-999.000,-999.0000,9, -999.00
318M20040615,        P02,     157,          2,          7,          7,2,20040819,       0907,    30.0025,  -132.4265,       4574,  3040.8,   1.5673,  34.6674,2,  34.6673,2, 117.5000,2,   118.2,2,  171.43,2,   38.26,2,    0.00,2,    2.68,2,   0.009,2,   0.008,2,   0.000,2,  2356.8,2,  2433.8,2,-999.000,9,-999.0000,9, -999.00,9, -999.00,9,  -999.0,9,  -999.0,-999.000,9,-999.000, -999.00,9, 3040.80,   0.0590,2,   0.1560,2,   0.0140,2,   0.1100,2,   0.0160,2,-999.0000,-999.000,   0.0410,2, -999.00
318M20040615,        P02,     157,          2,          6,          6,2,20040819,       0907,    30.0025,  -132.4265,       4574,  3294.9,   1.5097,  34.6747,2,  34.6746,2, 126.3000,2,   127.7,2,  170.34,2,   37.78,2,    0.00,2,    2.64,2,-999.000,9,-999.000,9,-999.000,9,  2350.8,2,  2433.3,2,-999.000,9,-999.0000,9, -999.00,9, -999.00,9,  -999.0,9,  -999.0,-999.000,9,-999.000,   37.60,2, 3294.90,-999.0000,9,-999.0000,9,-999.0000,9,-999.0000,9,-999.0000,9,-999.0000,-999.000,-999.0000,9, -999.00
318M20040615,        P02,     157,          2,          5,          5,2,20040819,       0907,    30.0025,  -132.4265,       4574,  3558.7,   1.4842,  34.6800,2,  34.6799,2, 134.0000,2,   134.3,2,  168.15,2,   37.45,2,    0.00,2,    2.60,2,   0.012,2,   0.009,2,   0.000,2,  2346.5,2,  2433.1,2,-999.000,9,-999.0000,9, -999.00,9, -999.00,9,  -999.0,9,  -999.0,-999.000,9,-999.000, -999.00,9, 3558.70,-999.0000,9,-999.0000,9,-999.0000,9,-999.0000,9,-999.0000,9,-999.0000,-999.000,-999.0000,9, -999.00
318M20040615,        P02,     157,          2,          4,          4,2,20040819,       0907,    30.0025,  -132.4265,       4574,  3814.3,   1.4832,  34.6831,2,  34.6832,2, 138.6000,2,   141.3,3,  165.96,2,   37.29,2,    0.00,2,    2.57,2,   0.013,2,   0.010,2,   0.000,2,  2343.0,2,  2432.8,2,-999.000,9,-999.0000,9, -999.00,9, -999.00,9,  -999.0,9,  -999.0,-999.000,9,-999.000,   37.40,2, 3814.30,-999.0000,9,-999.0000,9,-999.0000,9,-999.0000,9,-999.0000,9,-999.0000,-999.000,-999.0000,9, -999.00
318M20040615,        P02,     157,          2,          3,          3,2,20040819,       0907,    30.0025,  -132.4265,       4574,  4116.0,   1.4970,  34.6854,2,  34.6852,2, 143.1000,2,   143.0,2,  163.77,2,   37.07,2,    0.00,2,    2.55,2,   0.011,2,   0.012,2,   0.000,2,  2340.1,2,  2431.6,2,-999.000,9,-999.0000,9, -999.00,9, -999.00,9,  -999.0,9,  -999.0,-999.000,9,-999.000,   37.10,2, 4116.00,-999.0000,9,-999.0000,9,-999.0000,9,-999.0000,9,-999.0000,9,-999.0000,-999.000,-999.0000,9, -999.00
318M20040615,        P02,     157,          2,          2,          2,2,20040819,       0907,    30.0025,  -132.4265,       4574,  4426.2,   1.5275,  34.6860,2,  34.6860,2, 144.3000,2,   144.4,2,  162.87,2,   36.91,2,    0.00,2,    2.54,2,   0.011,2,   0.010,2,   0.000,2,  2338.4,2,  2431.5,2,-999.000,9,-999.0000,9, -999.00,9, -999.00,9,  -999.0,9,  -999.0,-999.000,9,-999.000, -999.00,9, 4426.20,-999.0000,9,-999.0000,9,-999.0000,9,-999.0000,9,-999.0000,9,-999.0000,-999.000,-999.0000,9, -999.00
318M20040615,        P02,     157,          2,          1,          1,2,20040819,       0907,    30.0025,  -132.4265,       4574,  4645.9,   1.5505,  34.6862,2,  34.6869,2, 144.7000,2,   145.2,2,  162.39,2,   36.73,2,    0.00,2,    2.54,2,   0.009,2,   0.007,2,   0.000,2,  2338.6,6,  2432.3,6,-999.000,9,-999.0000,9, -999.00,9, -999.00,9,  -999.0,9,  -999.0,-999.000,9,-999.000, -999.00,9, 4645.90,-999.0000,9,-999.0000,9,-999.0000,9,-999.0000,9,-999.0000,9,-999.0000,-999.000,-999.0000,9, -999.00