BOTTLE,20131027SIOCCHRJL
EXPOCODE,SECT_ID,STNNBR,CASTNO,SAMPNO,BTLNBR,BTLNBR_FLAG_W,DATE,TIME,LATITUDE,LONGITUDE,DEPTH,CTDPRS,CTDTMP,CTDSAL,CTDSAL_FLAG_W,SALNTY,SALNTY_FLAG_W,CTDOXY,CTDOXY_FLAG_W,OXYGEN,OXYGEN_FLAG_W,SILCAT,SILCAT_FLAG_W,NITRAT,NITRAT_FLAG_W,NITRIT,NITRIT_FLAG_W,PHSPHT,PHSPHT_FLAG_W,CFC-11,CFC-11_FLAG_W,CFC-12,CFC-12_FLAG_W,CFC113,CFC113_FLAG_W,TCARBN,TCARBN_FLAG_W,ALKALI,ALKALI_FLAG_W,TRITUM,TRITUM_FLAG_W,HELIUM,HELIUM_FLAG_W,DELHE3,DELHE3_FLAG_W,DELC13,DELC13_FLAG_W,DELC14,DELC14_FLAG_W,C14ERR,NEON,NEON_FLAG_W,NEONER,DOC,DOC_FLAG_W,CTDRAW,CDOM380,CDOM380_FLAG_W,CDOM325,CDOM325_FLAG_W,CDOMSL,CDOMSL_FLAG_W,CDOM340,CDOM340_FLAG_W,CDOMSN,CDOMSN_FLAG_W,HELIER,TRITER,CDOM412,CDOM412_FLAG_W,DELHER
,,,,,,,,,,,METERS,DBAR,ITS-90,PSS-78,,PSS-78,,UMOL/KG,,UMOL/KG,,UMOL/KG,,UMOL/KG,,UMOL/KG,,UMOL/KG,,PMOL/KG,,PMOL/KG,,PMOL/KG,,UMOL/KG,,UMOL/KG,,TU,,NMOL/KG,,PERCNT,,/MILLE,,/MILLE,,/MILLE,NMOL/KG,,NMOL/KG,UMOL/KG,,DBAR,1/M,,1/M,,1/NM,,1/M,,1/NM,,NMOL/KG,TU,1/M,,PERCNT
318M20040615,        P02,     149,          2,         36,         36,2,20040817,       0239,    29.9958,  -137.6392,       4340,     8.2,  25.1076,  34.9901,2,  34.9455,2, 214.1000,2,   214.0,2,    1.03,2,    0.21,2,    0.00,2,    0.05,2,   1.931,2,   1.174,2,   0.135,2,  2015.2,6,  2310.5,6,-999.000,9,-999.0000,9, -999.00,9,    1.43,2,    65.2,2,     5.1,-999.000,9,-999.000,   78.10,3,    8.20,   0.0100,2,   0.0500,2,   0.0320,2,   0.0310,2,   0.0320,2,-999.0000,-999.000,   0.0050,2, -999.00
318M20040615,        P02,     149,          2,         35,         35,2,20040817,       0239,    29.9958,  -137.6392,       4340,    34.7,  20.8242,  34.2313,2,  34.1970,2, 243.6000,2,   245.5,2,    1.60,2,    0.15,2,    0.00,2,    0.13,2,-999.000,9,-999.000,9,-999.000,9,  2002.4,2,  2269.4,2,-999.000,9,-999.0000,9, -999.00,9,    1.61,2,    58.0,2,     4.4,-999.000,9,-999.000,   71.50,2,   34.70,   0.0260,2,   0.1010,2,   0.0250,2,   0.0670,2,   0.0260,2,-999.0000,-999.000,   0.0150,2, -999.00
318M20040615,        P02,     149,          2,         34,         34,2,20040817,       0239,    29.9958,  -137.6392,       4340,    74.6,  17.8711,  34.1719,2,  34.1872,2, 243.6000,2,   242.9,2,    1.98,2,    0.15,2,    0.00,2,    0.14,2,   2.634,2,   1.541,2,   0.185,2,  2008.9,2,  2265.4,2,-999.000,9,-999.0000,9, -999.00,9,    1.38,2,    66.9,2,     4.4,-999.000,9,-999.000,   65.90,2,   74.60,   0.0310,2,   0.1180,2,   0.0240,2,   0.0800,2,   0.0250,2,-999.0000,-999.000,   0.0180,2, -999.00
318M20040615,        P02,     149,          2,         33,         33,2,20040817,       0239,    29.9958,  -137.6392,       4340,   124.2,  16.5918,  34.2042,2,  34.1970,2, 236.3000,2,   237.7,2,    2.36,2,    0.23,2,    0.07,2,    0.16,2,-999.000,9,-999.000,9,-999.000,9,  2016.7,2,  2263.4,2,-999.000,9,-999.0000,9, -999.00,9,    1.22,2,    65.8,2,     4.8,-999.000,9,-999.000,   55.60,2,  124.20,   0.0510,2,   0.1370,2,   0.0160,2,   0.1010,2,   0.0170,2,-999.0000,-999.000,   0.0340,2, -999.00
318M20040615,        P02,     149,          2,         32,         32,2,20040817,       0239,    29.9958,  -137.6392,       4340,   173.8,  14.4333,  34.0211,2,  34.0476,2, 229.4000,2,   228.0,2,    3.90,2,    3.07,2,    0.02,2,    0.35,2,   3.005,2,   1.688,2,   0.182,2,  2032.0,2,  2250.8,2,-999.000,9,-999.0000,9, -999.00,9,    0.99,2,    62.6,6,     7.6,-999.000,9,-999.000,   57.30,2,  173.80,   0.0430,2,   0.1250,2,   0.0180,2,   0.0920,2,   0.0190,2,-999.0000,-999.000,   0.0280,2, -999.00
318M20040615,        P02,     149,          2,         31,         31,2,20040817,       0239,    29.9958,  -137.6392,       4340,   223.5,  11.4941,  33.8788,2,  33.8780,2, 227.4000,2,   227.3,2,    8.57,2,    9.00,2,    0.00,2,    0.72,2,-999.000,9,-999.000,9,-999.000,9,  2061.7,2,  2243.0,2,-999.000,9,-999.0000,9, -999.00,9,    0.71,2,    53.3,2,     4.5,-999.000,9,-999.000,   50.80,2,  223.50,   0.0510,2,   0.1400,2,   0.0150,2,   0.1000,2,   0.0170,2,-999.0000,-999.000,   0.0360,2, -999.00
318M20040615,        P02,     149,          2,         30,         30,2,20040817,       0239,    29.9958,  -137.6392,       4340,   273.2,  10.1008,  33.9890,2,  33.9920,2, 215.7000,2,   217.6,2,   15.20,2,   14.23,2,    0.00,2,    1.03,2,   3.034,2,   1.882,2,   0.109,2,  2093.5,2,  2252.9,2,-999.000,9,-999.0000,9, -999.00,9,    0.52,2,    58.5,2,     5.7,-999.000,9,-999.000,   48.90,2,  273.20,   0.0660,2,   0.1710,2,   0.0140,2,   0.1230,2,   0.0150,2,-999.0000,-999.000,   0.0480,2, -999.00
318M20040615,        P02,     149,          2,         29,         29,2,20040817,       0239,    29.9958,  -137.6392,       4340,   323.2,   9.1149,  34.0250,2,  34.0394,2, 191.3000,2,   194.7,2,   22.81,2,   18.73,2,    0.00,2,    1.33,2,   3.462,2,   1.814,2,   0.112,2,  2127.4,2,  2261.1,2,-999.000,9,-999.0000,9, -999.00,9,    0.19,2,    22.6,2,     4.8,-999.000,9,-999.000,   49.00,2,  323.20,   0.0460,2,   0.1280,2,   0.0160,2,   0.0910,2,   0.0180,2,-999.0000,-999.000,   0.0310,2, -999.00
318M20040615,        P02,     149,          2,         28,         28,2,20040817,       0239,    29.9958,  -137.6392,       4340,   373.0,   8.4443,  34.0361,2,  34.0365,2, 169.8000,2,   170.0,2,   30.25,2,   22.79,2,    0.00,2,    1.60,2,   3.181,3,   1.617,2,   0.117,2,  2155.9,2,  2266.1,2,-999.000,9,-999.0000,9, -999.00,9,   -0.11,2,    24.2,2,     4.6,-999.000,9,-999.000, -999.00,9,  373.00,   0.0550,2,   0.1480,2,   0.0150,2,   0.1070,2,   0.0170,2,-999.0000,-999.000,   0.0390,2, -999.00
318M20040615,        P02,     149,          2,         27,         27,2,20040817,       0239,    29.9958,  -137.6392,       4340,   423.2,   7.2057,  34.0156,2,  34.0156,2, 137.2000,2,   132.9,2,   43.99,2,   28.88,2,    0.00,2,    2.02,2,   2.463,2,   1.219,2,   0.092,2,  2198.9,2,  2276.7,2,-999.000,9,-999.0000,9, -999.00,9, -999.00,9,  -999.0,9,  -999.0,-999.000,9,-999.000,   47.30,2,  423.20,-999.0000,9,-999.0000,9,-999.0000,9,-999.0000,9,-999.0000,9,-999.0000,-999.000,-999.0000,9, -999.00
318M20040615,        P02,     149,          2,         26,         26,2,20040817,       0239,    29.9958,  -137.6392,       4340,   473.2,   6.3243,  34.0096,2,  34.0099,2, 107.6000,2,   104.6,2,   56.01,2,   33.17,2,    0.00,2,    2.34,2,-999.000,9,-999.000,9,-999.000,9,  2234.1,2,  2285.4,2,-999.000,9,-999.0000,9, -999.00,9,   -0.10,2,   -42.4,2,     4.3,-999.000,9,-999.000, -999.00,9,  473.20,   0.0730,2,   0.1840,2,   0.0140,2,   0.1340,2,   0.0150,2,-999.0000,-999.000,   0.0540,2, -999.00
318M20040615,        P02,     149,          2,         25,         25,2,20040817,       0239,    29.9958,  -137.6392,       4340,   547.6,   5.4968,  34.0410,2,  34.0419,2,  71.8000,2,    72.4,2,   70.43,2,   37.23,2,    0.00,2,    2.65,2,   0.991,2,   0.491,2,   0.019,2,  2268.2,2,  2299.6,2,-999.000,9,-999.0000,9, -999.00,9,   -0.24,2,   -86.8,2,     4.4,-999.000,9,-999.000,   43.40,2,  547.60,-999.0000,9,-999.0000,9,-999.0000,9,-999.0000,9,-999.0000,9,-999.0000,-999.000,-999.0000,9, -999.00
318M20040615,        P02,     149,          2,         24,         24,2,20040817,       0239,    29.9958,  -137.6392,       4340,   646.6,   4.8159,  34.1489,2,  34.1502,2,  37.4000,2,    31.7,2,   89.48,2,   41.42,2,    0.00,2,    2.99,2,-999.000,9,-999.000,9,-999.000,9,  2315.0,2,  2319.3,2,-999.000,9,-999.0000,9, -999.00,9,   -0.42,2,  -135.1,2,     3.6,-999.000,9,-999.000, -999.00,9,  646.60,   0.0910,2,   0.2160,2,   0.0130,2,   0.1590,2,   0.0140,2,-999.0000,-999.000,   0.0700,2, -999.00
318M20040615,        P02,     149,          2,         23,         23,2,20040817,       0239,    29.9958,  -137.6392,       4340,   749.7,   4.3504,  34.2567,2,  34.2563,2,  17.4000,2,    15.5,2,  104.23,2,   43.21,2,    0.00,2,    3.15,2,   0.066,2,   0.035,2,   0.000,2,  2341.9,2,  2342.2,2,-999.000,9,-999.0000,9, -999.00,9,   -0.50,2,  -174.9,2,     3.8,-999.000,9,-999.000,   41.10,2,  749.70,-999.0000,9,-999.0000,9,-999.0000,9,-999.0000,9,-999.0000,9,-999.0000,-999.000,-999.0000,9, -999.00
318M20040615,        P02,     149,          2,         22,         22,2,20040817,       0239,    29.9958,  -137.6392,       4340,   849.5,   4.0227,  34.3388,2,  34.3380,2,  13.8000,2,    14.5,2,  114.22,2,   43.75,2,    0.00,2,    3.19,2,-999.000,9,-999.000,9,-999.000,9,  2354.9,2,  2357.0,2,-999.000,9,-999.0000,9, -999.00,9, -999.00,9,  -999.0,9,  -999.0,-999.000,9,-999.000,   39.40,2,  849.50,   0.0860,2,   0.2010,2,   0.0130,2,   0.1490,2,   0.0130,2,-999.0000,-999.000,   0.0660,2, -999.00
318M20040615,        P02,     149,          2,         21,         21,2,20040817,       0239,    29.9958,  -137.6392,       4340,   950.8,   3.7958,  34.4014,2,  34.4025,2,  17.1000,2,    17.4,2,  120.62,2,   43.80,2,    0.00,2,    3.19,2,   0.015,2,   0.009,2,   0.000,2,  2360.5,2,  2368.5,2,-999.000,9,-999.0000,9, -999.00,9,   -0.42,2,  -207.3,2,     3.5,-999.000,9,-999.000, -999.00,9,  950.80,-999.0000,9,-999.0000,9,-999.0000,9,-999.0000,9,-999.0000,9,-999.0000,-999.000,-999.0000,9, -999.00
318M20040615,        P02,     149,          2,         20,         20,2,20040817,       0239,    29.9958,  -137.6392,       4340,  1050.5,   3.5578,  34.4545,2,  34.4548,2,  26.2000,2,    26.7,2,  125.21,2,   43.40,2,    0.00,2,    3.15,2,   0.016,2,   0.020,2,   0.000,2,  2362.8,6,  2376.9,2,-999.000,9,-999.0000,9, -999.00,9, -999.00,9,  -999.0,9,  -999.0,-999.000,9,-999.000,   40.20,2, 1050.50,   0.0940,2,   0.2140,2,   0.0120,2,   0.1600,2,   0.0130,2,-999.0000,-999.000,   0.0720,2, -999.00
318M20040615,        P02,     149,          2,         19,         19,2,20040817,       0239,    29.9958,  -137.6392,       4340,  1152.7,   3.3778,  34.4889,2,  34.4892,2,  33.9000,2,    34.3,2,  129.02,2,   43.07,2,    0.00,2,    3.12,2,   0.004,2,   0.003,2,   0.000,2,  2363.3,2,  2385.7,2,-999.000,9,-999.0000,9, -999.00,9,   -0.34,2,  -217.8,2,     3.2,-999.000,9,-999.000, -999.00,9, 1152.70,-999.0000,9,-999.0000,9,-999.0000,9,-999.0000,9,-999.0000,9,-999.0000,-999.000,-999.0000,9, -999.00
318M20040615,        P02,     149,          2,         18,         18,2,20040817,       0239,    29.9958,  -137.6392,       4340,  1253.9,   3.1838,  34.5130,2,  34.5139,2,  39.8000,2,    40.5,2,  133.62,2,   43.06,2,    0.00,2,    3.09,2,   0.006,2,   0.004,2,   0.000,2,  2366.3,2,  2390.4,6,-999.000,9,-999.0000,9, -999.00,9, -999.00,9,  -999.0,9,  -999.0,-999.000,9,-999.000,   38.60,2, 1253.90,-999.0000,9,-999.0000,9,-999.0000,9,-999.0000,9,-999.0000,9,-999.0000,-999.000,-999.0000,9, -999.00
318M20040615,        P02,     149,          2,         17,         17,2,20040817,       0239,    29.9958,  -137.6392,       4340,  1353.9,   3.0053,  34.5332,2,  34.5333,2,  45.7000,2,    45.2,2,  137.63,2,   43.11,2,    0.00,2,    3.07,2,   0.006,2,   0.007,2,   0.000,2,  2367.6,2,  2395.3,2,-999.000,9,-999.0000,9, -999.00,9,   -0.26,2,  -233.5,2,     3.7,-999.000,9,-999.000, -999.00,9, 1353.90,-999.0000,9,-999.0000,9,-999.0000,9,-999.0000,9,-999.0000,9,-999.0000,-999.000,-999.0000,9, -999.00
318M20040615,        P02,     149,          2,         16,         16,2,20040817,       0239,    29.9958,  -137.6392,       4340,  1454.2,   2.8383,  34.5498,2,  34.5497,2,  51.1000,2,    50.4,2,  141.24,2,   42.83,2,    0.00,2,    3.03,2,   0.003,2,   0.001,2,   0.000,2,  2368.4,2,  2400.6,2,-999.000,9,-999.0000,9, -999.00,9, -999.00,9,  -999.0,9,  -999.0,-999.000,9,-999.000, -999.00,9, 1454.20,-999.0000,9,-999.0000,9,-999.0000,9,-999.0000,9,-999.0000,9,-999.0000,-999.000,-999.0000,9, -999.00
318M20040615,        P02,     149,          2,         15,         15,2,20040817,       0239,    29.9958,  -137.6392,       4340,  1554.7,   2.6584,  34.5662,2,  34.5660,2,  55.6000,2,    55.6,2,  147.47,2,   42.55,2,    0.00,2,    3.02,2,   0.004,2,   0.001,2,   0.000,2,  2369.7,2,  2406.3,2,-999.000,9,-999.0000,9, -999.00,9, -999.00,9,  -999.0,9,  -999.0,-999.000,9,-999.000,   36.50,2, 1554.70,-999.0000,9,-999.0000,9,-999.0000,9,-999.0000,9,-999.0000,9,-999.0000,-999.000,-999.0000,9, -999.00
318M20040615,        P02,     149,          2,         14,         14,2,20040817,       0239,    29.9958,  -137.6392,       4340,  1660.2,   2.4832,  34.5814,2,  34.5811,2,  61.4000,2,    61.2,2,  151.89,2,   42.06,2,    0.00,2,    2.99,2,   0.004,2,   0.002,2,   0.000,2,  2370.9,2,  2410.3,2,-999.000,9,-999.0000,9, -999.00,9, -999.00,9,  -999.0,9,  -999.0,-999.000,9,-999.000, -999.00,9, 1660.20,-999.0000,9,-999.0000,9,-999.0000,9,-999.0000,9,-999.0000,9,-999.0000,-999.000,-999.0000,9, -999.00
318M20040615,        P02,     149,          2,         13,         13,2,20040817,       0239,    29.9958,  -137.6392,       4340,  1760.4,   2.3493,  34.5927,2,  34.5929,2,  65.5000,2,    65.6,2,  155.50,2,   41.66,2,    0.00,2,    2.96,2,   0.002,2,   0.000,2,   0.000,2,  2370.6,2,  2413.0,2,-999.000,9,-999.0000,9, -999.00,9, -999.00,9,  -999.0,9,  -999.0,-999.000,9,-999.000,   39.50,3, 1760.40,-999.0000,9,-999.0000,9,-999.0000,9,-999.0000,9,-999.0000,9,-999.0000,-999.000,-999.0000,9, -999.00
318M20040615,        P02,     149,          2,         12,         12,2,20040817,       0239,    29.9958,  -137.6392,       4340,  1860.7,   2.2305,  34.6026,2,  34.6029,2,  70.0000,2,    70.3,2,  158.75,2,   41.29,2,    0.00,2,    2.94,2,-999.000,9,-999.000,9,-999.000,9,  2371.5,2,  2417.9,2,-999.000,9,-999.0000,9, -999.00,9, -999.00,9,  -999.0,9,  -999.0,-999.000,9,-999.000,   38.30,2, 1860.70,-999.0000,9,-999.0000,9,-999.0000,9,-999.0000,9,-999.0000,9,-999.0000,-999.000,-999.0000,9, -999.00
318M20040615,        P02,     149,          2,         11,         11,2,20040817,       0239,    29.9958,  -137.6392,       4340,  1966.0,   2.1117,  34.6125,2,  34.6124,2,  74.8000,2,    75.1,2,  161.98,2,   40.95,2,    0.00,2,    2.92,2,   0.002,2,   0.001,2,   0.000,2,  2373.1,2,  2418.7,2,-999.000,9,-999.0000,9, -999.00,9, -999.00,9,  -999.0,9,  -999.0,-999.000,9,-999.000, -999.00,9, 1966.00,-999.0000,9,-999.0000,9,-999.0000,9,-999.0000,9,-999.0000,9,-999.0000,-999.000,-999.0000,9, -999.00
318M20040615,        P02,     149,          2,         10,         10,2,20040817,       0239,    29.9958,  -137.6392,       4340,  2131.0,   1.9725,  34.6250,2,  34.6250,2,  81.7000,2,    82.6,2,  165.20,2,   40.47,2,    0.00,2,    2.88,2,-999.000,9,-999.000,9,-999.000,9,  2369.4,2,  2424.2,2,-999.000,9,-999.0000,9, -999.00,9, -999.00,9,  -999.0,9,  -999.0,-999.000,9,-999.000,   42.90,3, 2131.00,   0.0760,2,   0.1880,2,   0.0130,2,   0.1360,2,   0.0150,2,-999.0000,-999.000,   0.0560,2, -999.00
318M20040615,        P02,     149,          2,          9,          9,2,20040817,       0239,    29.9958,  -137.6392,       4340,  2385.8,   1.8038,  34.6406,2,  34.6401,2,  93.2000,2,    93.6,2,  168.63,2,   39.97,2,    0.00,2,    2.82,2,   0.001,2,   0.001,2,   0.000,2,  2365.8,2,  2429.4,2,-999.000,9,-999.0000,9, -999.00,9, -999.00,9,  -999.0,9,  -999.0,-999.000,9,-999.000, -999.00,9, 2385.80,-999.0000,9,-999.0000,9,-999.0000,9,-999.0000,9,-999.0000,9,-999.0000,-999.000,-999.0000,9, -999.00
318M20040615,        P02,     149,          2,          8,          8,2,20040817,       0239,    29.9958,  -137.6392,       4340,  2634.3,   1.7032,  34.6505,2,  34.6499,2, 102.2000,2,   102.3,2,  169.82,2,   39.58,2,    0.00,2,    2.77,2,   0.003,2,   0.002,2,   0.000,2,  2363.2,2,  2429.6,2,-999.000,9,-999.0000,9, -999.00,9, -999.00,9,  -999.0,9,  -999.0,-999.000,9,-999.000, -999.00,9, 2634.30,-999.0000,9,-999.0000,9,-999.0000,9,-999.0000,9,-999.0000,9,-999.0000,-999.000,-999.0000,9, -999.00
318M20040615,        P02,     149,          2,          7,          7,2,20040817,       0239,    29.9958,  -137.6392,       4340,  2887.2,   1.5990,  34.6619,2,  34.6615,2, 113.7000,2,   114.1,2,  168.78,2,   38.94,2,    0.00,2,    2.70,2,   0.003,2,   0.002,2,   0.000,2,  2355.8,2,  2429.3,2,-999.000,9,-999.0000,9, -999.00,9, -999.00,9,  -999.0,9,  -999.0,-999.000,9,-999.000,   36.10,2, 2887.20,-999.0000,9,-999.0000,9,-999.0000,9,-999.0000,9,-999.0000,9,-999.0000,-999.000,-999.0000,9, -999.00
318M20040615,        P02,     149,          2,          6,          6,2,20040817,       0239,    29.9958,  -137.6392,       4340,  3141.6,   1.5355,  34.6699,2,  34.6702,2, 122.7000,2,   123.5,2,  166.91,2,   38.17,2,    0.00,2,    2.65,2,   0.004,2,   0.004,2,   0.000,2,  2350.8,2,  2430.8,2,-999.000,9,-999.0000,9, -999.00,9, -999.00,9,  -999.0,9,  -999.0,-999.000,9,-999.000,   36.60,2, 3141.60,-999.0000,9,-999.0000,9,-999.0000,9,-999.0000,9,-999.0000,9,-999.0000,-999.000,-999.0000,9, -999.00
318M20040615,        P02,     149,          2,          5,          5,2,20040817,       0239,    29.9958,  -137.6392,       4340,  3402.9,   1.5082,  34.6752,2,  34.6749,2, 130.1000,2,   130.5,2,  165.05,2,   37.68,2,    0.00,2,    2.61,2,   0.003,2,   0.003,2,   0.000,2,  2346.9,2,  2430.0,2,-999.000,9,-999.0000,9, -999.00,9, -999.00,9,  -999.0,9,  -999.0,-999.000,9,-999.000, -999.00,9, 3402.90,-999.0000,9,-999.0000,9,-999.0000,9,-999.0000,9,-999.0000,9,-999.0000,-999.000,-999.0000,9, -999.00
318M20040615,        P02,     149,          2,          4,          4,2,20040817,       0239,    29.9958,  -137.6392,       4340,  3657.3,   1.4967,  34.6792,2,  34.6783,2, 135.7000,2,   135.8,2,  164.00,2,   37.30,2,    0.00,2,    2.58,2,   0.006,2,   0.006,2,   0.000,2,  2342.9,2,  2430.4,2,-999.000,9,-999.0000,9, -999.00,9, -999.00,9,  -999.0,9,  -999.0,-999.000,9,-999.000, -999.00,9, 3657.30,-999.0000,9,-999.0000,9,-999.0000,9,-999.0000,9,-999.0000,9,-999.0000,-999.000,-999.0000,9, -999.00
318M20040615,        P02,     149,          2,          3,          3,2,20040817,       0239,    29.9958,  -137.6392,       4340,  3901.4,   1.4914,  34.6827,2,  34.6820,2, 139.6000,2,   140.3,2,  161.74,2,   36.81,2,    0.00,2,    2.56,2,   0.004,6,   0.007,6,   0.000,6,  2339.4,2,  2431.3,2,-999.000,9,-999.0000,9, -999.00,9, -999.00,9,  -999.0,9,  -999.0,-999.000,9,-999.000,   37.60,2, 3901.40,-999.0000,9,-999.0000,9,-999.0000,9,-999.0000,9,-999.0000,9,-999.0000,-999.000,-999.0000,9, -999.00
318M20040615,        P02,     149,          2,          2,          2,2,20040817,       0239,    29.9958,  -137.6392,       4340,  4104.9,   1.5034,  34.6840,2,  34.6838,2, 142.0000,2,   142.2,2,  161.33,2,   36.75,2,    0.00,2,    2.56,2,   0.005,2,   0.008,2,   0.000,2,  2338.7,2,  2431.3,2,-999.000,9,-999.0000,9, -999.00,9, -999.00,9,  -999.0,9,  -999.0,-999.000,9,-999.000,   37.90,2, 4104.90,-999.0000,9,-999.0000,9,-999.0000,9,-999.0000,9,-999.0000,9,-999.0000,-999.000,-999.0000,9, -999.00
318M20040615,        P02,     149,          2,          1,          1,2,20040817,       0239,    29.9958,  -137.6392,       4340,  4308.6,   1.5234,  34.6844,2,  34.6836,2, 142.3000,2,   142.9,2,  161.12,2,   36.64,2,    0.00,2,    2.54,2,   0.006,2,   0.005,2,   0.000,2,  2337.5,6,  2430.6,6,-999.000,9,-999.0000,9, -999.00,9, -999.00,9,  -999.0,9,  -999.0,-999.000,9,-999.000,   36.50,2, 4308.60,-999.0000,9,-999.0000,9,-999.0000,9,-999.0000,9,-999.0000,9,-999.0000,-999.000,-999.0000,9, -999.00