BOTTLE,20131027SIOCCHRJL
EXPOCODE,SECT_ID,STNNBR,CASTNO,SAMPNO,BTLNBR,BTLNBR_FLAG_W,DATE,TIME,LATITUDE,LONGITUDE,DEPTH,CTDPRS,CTDTMP,CTDSAL,CTDSAL_FLAG_W,SALNTY,SALNTY_FLAG_W,CTDOXY,CTDOXY_FLAG_W,OXYGEN,OXYGEN_FLAG_W,SILCAT,SILCAT_FLAG_W,NITRAT,NITRAT_FLAG_W,NITRIT,NITRIT_FLAG_W,PHSPHT,PHSPHT_FLAG_W,CFC-11,CFC-11_FLAG_W,CFC-12,CFC-12_FLAG_W,CFC113,CFC113_FLAG_W,TCARBN,TCARBN_FLAG_W,ALKALI,ALKALI_FLAG_W,TRITUM,TRITUM_FLAG_W,HELIUM,HELIUM_FLAG_W,DELHE3,DELHE3_FLAG_W,DELC13,DELC13_FLAG_W,DELC14,DELC14_FLAG_W,C14ERR,NEON,NEON_FLAG_W,NEONER,DOC,DOC_FLAG_W,CTDRAW,CDOM380,CDOM380_FLAG_W,CDOM325,CDOM325_FLAG_W,CDOMSL,CDOMSL_FLAG_W,CDOM340,CDOM340_FLAG_W,CDOMSN,CDOMSN_FLAG_W,HELIER,TRITER,CDOM412,CDOM412_FLAG_W,DELHER
,,,,,,,,,,,METERS,DBAR,ITS-90,PSS-78,,PSS-78,,UMOL/KG,,UMOL/KG,,UMOL/KG,,UMOL/KG,,UMOL/KG,,UMOL/KG,,PMOL/KG,,PMOL/KG,,PMOL/KG,,UMOL/KG,,UMOL/KG,,TU,,NMOL/KG,,PERCNT,,/MILLE,,/MILLE,,/MILLE,NMOL/KG,,NMOL/KG,UMOL/KG,,DBAR,1/M,,1/M,,1/NM,,1/M,,1/NM,,NMOL/KG,TU,1/M,,PERCNT
318M20040615,        P02,      80,          2,         36,         36,2,20040714,       0548,    29.9948,   177.1025,       5169,     9.2,  25.5791,  34.6322,2,  34.6378,2, 213.6000,2,   212.7,2,    1.76,2,    0.09,2,    0.00,2,    0.03,2,   1.853,2,   1.143,2,   0.138,2,  1978.8,6,  2274.9,6,-999.000,9,-999.0000,9, -999.00,9,    1.09,2,    58.3,2,     4.8,-999.000,9,-999.000,   68.00,2,    9.20,   0.0120,2,   0.0590,2,   0.0300,2,   0.0380,2,   0.0290,2,-999.0000,-999.000,   0.0060,2, -999.00
318M20040615,        P02,      80,          2,         35,         35,2,20040714,       0548,    29.9948,   177.1025,       5169,    35.8,  21.1424,  34.8194,2,  34.8206,2, 235.4000,2,   238.8,2,    2.10,2,    0.09,2,    0.00,2,    0.04,2,   2.245,2,   1.376,2,   0.159,2,  1998.8,2,  2286.9,2,-999.000,9,-999.0000,9, -999.00,9,    1.08,2,    67.2,2,     4.5,-999.000,9,-999.000,   65.50,2,   35.80,   0.0450,2,   0.1280,2,   0.0190,2,   0.0970,2,   0.0190,2,-999.0000,-999.000,   0.0280,2, -999.00
318M20040615,        P02,      80,          2,         34,         34,2,20040714,       0548,    29.9948,   177.1025,       5169,    70.5,  17.1774,  34.7141,2,  34.7117,2, 258.3000,2,   258.8,2,    2.79,2,    0.04,2,    0.00,2,    0.07,2,   2.564,2,   1.534,2,   0.160,2,  2001.0,2,  2282.6,2,-999.000,9,-999.0000,9, -999.00,9,    1.03,2,    74.5,2,     5.3,-999.000,9,-999.000,   61.50,2,   70.50,-999.0000,9,-999.0000,9,-999.0000,9,-999.0000,9,-999.0000,9,-999.0000,-999.000,-999.0000,9, -999.00
318M20040615,        P02,      80,          2,         33,         33,2,20040714,       0548,    29.9948,   177.1025,       5169,   120.3,  15.4283,  34.6337,2,  34.6321,2, 222.9000,2,   225.2,2,    5.20,2,    5.44,2,    0.02,2,    0.40,2,   2.639,2,   1.568,2,   0.144,2,  2038.2,2,  2278.0,2,-999.000,9,-999.0000,9, -999.00,9,    1.00,2,    61.7,2,     4.1,-999.000,9,-999.000,   57.00,2,  120.30,-999.0000,9,-999.0000,9,-999.0000,9,-999.0000,9,-999.0000,9,-999.0000,-999.000,-999.0000,9, -999.00
318M20040615,        P02,      80,          2,         32,         32,2,20040714,       0548,    29.9948,   177.1025,       5169,   170.2,  14.8646,  34.5876,2,  34.5861,2, 222.6000,2,   222.4,2,    6.58,2,    6.53,2,    0.01,2,    0.48,2,   2.646,2,   1.561,2,   0.133,2,  2047.0,2,  2276.2,2,-999.000,9,-999.0000,9, -999.00,9,    0.67,2,    66.0,2,     5.0,-999.000,9,-999.000,   53.70,2,  170.20,   0.0540,2,   0.1280,2,   0.0130,3,   0.0960,2,   0.0140,3,-999.0000,-999.000,   0.0400,2, -999.00
318M20040615,        P02,      80,          2,         31,         31,2,20040714,       0548,    29.9948,   177.1025,       5169,   220.2,  13.6879,  34.4922,2,  34.4915,2, 215.4000,2,   214.4,2,    9.86,2,    9.10,2,    0.01,2,    0.66,2,   2.721,2,   1.562,2,   0.100,2,  2065.7,2,  2273.6,2,-999.000,9,-999.0000,9, -999.00,9,    0.57,2,    50.4,2,     4.3,-999.000,9,-999.000,   52.90,2,  220.20,   0.0360,2,   0.1040,2,   0.0180,2,   0.0750,2,   0.0200,2,-999.0000,-999.000,   0.0260,2, -999.00
318M20040615,        P02,      80,          2,         30,         30,2,20040714,       0548,    29.9948,   177.1025,       5169,   269.8,  12.9296,  34.4363,2,  34.4359,2, 213.2000,2,   214.2,2,   11.95,2,   10.48,2,    0.01,2,    0.75,2,   2.812,2,   1.602,2,   0.101,2,  2076.2,2,  2271.9,2,-999.000,9,-999.0000,9, -999.00,9,    0.53,2,    44.2,2,     4.7,-999.000,9,-999.000,   50.70,2,  269.80,-999.0000,9,-999.0000,9,-999.0000,9,-999.0000,9,-999.0000,9,-999.0000,-999.000,-999.0000,9, -999.00
318M20040615,        P02,      80,          2,         29,         29,2,20040714,       0548,    29.9948,   177.1025,       5169,   319.6,  11.7181,  34.3517,2,  34.3533,2, 209.8000,2,   213.7,2,   15.94,2,   12.59,2,    0.00,2,    0.90,2,   2.851,2,   1.612,2,   0.123,2,  2091.5,2,  2272.3,2,-999.000,9,-999.0000,9, -999.00,9, -999.00,9,  -999.0,9,  -999.0,-999.000,9,-999.000,   50.50,2,  319.60,-999.0000,9,-999.0000,9,-999.0000,9,-999.0000,9,-999.0000,9,-999.0000,-999.000,-999.0000,9, -999.00
318M20040615,        P02,      80,          2,         28,         28,2,20040714,       0548,    29.9948,   177.1025,       5169,   369.5,  10.6291,  34.2593,2,  34.2601,2, 212.5000,2,   211.0,2,   19.77,2,   14.85,2,    0.00,2,    1.06,2,   2.951,2,   1.640,2,   0.126,2,  2105.5,2,  2270.7,2,-999.000,9,-999.0000,9, -999.00,9,    0.54,2,    33.7,2,     4.0,-999.000,9,-999.000,   49.20,2,  369.50,-999.0000,9,-999.0000,9,-999.0000,9,-999.0000,9,-999.0000,9,-999.0000,-999.000,-999.0000,9, -999.00
318M20040615,        P02,      80,          2,         27,         27,2,20040714,       0548,    29.9948,   177.1025,       5169,   419.3,   9.5261,  34.1668,2,  34.1656,2, 199.9000,2,   200.3,2,   25.34,2,   17.68,2,    0.00,2,    1.27,2,   2.953,2,   1.619,2,   0.128,2,  2126.1,2,  2271.8,2,-999.000,9,-999.0000,9, -999.00,9,    0.42,2,     4.3,2,     4.6,-999.000,9,-999.000,   48.60,2,  419.30,-999.0000,9,-999.0000,9,-999.0000,9,-999.0000,9,-999.0000,9,-999.0000,-999.000,-999.0000,9, -999.00
318M20040615,        P02,      80,          2,         26,         26,2,20040714,       0548,    29.9948,   177.1025,       5169,   469.1,   8.3883,  34.0850,2,  34.0852,2, 189.3000,2,   189.0,2,   32.70,2,   20.67,2,    0.00,2,    1.50,2,   2.856,2,   1.535,2,   0.130,2,  2148.3,2,  2274.5,2,-999.000,9,-999.0000,9, -999.00,9, -999.00,9,  -999.0,9,  -999.0,-999.000,9,-999.000,   47.60,2,  469.10,   0.0790,2,   0.1890,2,   0.0130,2,   0.1400,2,   0.0140,2,-999.0000,-999.000,   0.0580,2, -999.00
318M20040615,        P02,      80,          2,         25,         25,2,20040714,       0548,    29.9948,   177.1025,       5169,   543.7,   6.8115,  34.0150,2,  34.0139,2, 158.3000,2,   154.8,2,   48.32,2,   26.77,2,    0.00,2,    1.95,2,   2.453,2,   1.279,2,   0.115,2,  2188.9,2,  2281.6,2,-999.000,9,-999.0000,9, -999.00,9,    0.17,2,   -56.0,2,     4.7,-999.000,9,-999.000,   46.40,2,  543.70,-999.0000,9,-999.0000,9,-999.0000,9,-999.0000,9,-999.0000,9,-999.0000,-999.000,-999.0000,9, -999.00
318M20040615,        P02,      80,          2,         24,         24,2,20040714,       0548,    29.9948,   177.1025,       5169,   637.6,   5.5535,  34.0231,2,  34.0229,2, 116.4000,2,   118.5,2,   67.57,2,   32.07,2,    0.00,2,    2.36,2,   1.889,6,   0.958,6,   0.091,6,  2193.3,3,  2296.1,2,-999.000,9,-999.0000,9, -999.00,9,   -0.03,2,   -94.6,2,     3.9,-999.000,9,-999.000,   45.00,2,  637.60,   0.0760,2,   0.1930,2,   0.0140,2,   0.1400,2,   0.0150,2,-999.0000,-999.000,   0.0560,2, -999.00
318M20040615,        P02,      80,          2,         23,         23,2,20040714,       0548,    29.9948,   177.1025,       5169,   737.7,   4.6622,  34.1074,2,  34.1080,2,  74.1000,2,    75.7,2,   89.56,2,   37.15,2,    0.00,2,    2.73,2,   1.108,2,   0.548,2,   0.042,2,  2288.5,2,  2317.0,2,-999.000,9,-999.0000,9, -999.00,9,   -0.25,2,  -138.9,2,     4.1,-999.000,9,-999.000,   43.60,2,  737.70,-999.0000,9,-999.0000,9,-999.0000,9,-999.0000,9,-999.0000,9,-999.0000,-999.000,-999.0000,9, -999.00
318M20040615,        P02,      80,          2,         22,         22,2,20040714,       0548,    29.9948,   177.1025,       5169,   838.2,   4.0648,  34.2080,2,  34.2066,2,  49.3000,2,    49.0,2,  107.19,2,   40.30,2,    0.00,2,    2.93,2,   0.525,2,   0.262,2,   0.015,2,  2322.2,2,  2338.6,2,-999.000,9,-999.0000,9, -999.00,9,   -0.31,2,  -175.6,2,     3.4,-999.000,9,-999.000,   42.00,2,  838.20,   0.0920,2,   0.2170,2,   0.0130,2,   0.1610,2,   0.0140,2,-999.0000,-999.000,   0.0680,2, -999.00
318M20040615,        P02,      80,          2,         21,         21,2,20040714,       0548,    29.9948,   177.1025,       5169,   938.4,   3.6581,  34.2886,2,  34.2895,2,  29.3000,2,    29.4,2,  119.82,2,   42.53,2,    0.00,2,    3.08,2,   0.159,2,   0.078,2,   0.006,2,  2346.2,6,  2355.3,2,-999.000,9,-999.0000,9, -999.00,9,   -0.45,2,  -210.2,2,     3.6,-999.000,9,-999.000,   41.10,2,  938.40,-999.0000,9,-999.0000,9,-999.0000,9,-999.0000,9,-999.0000,9,-999.0000,-999.000,-999.0000,9, -999.00
318M20040615,        P02,      80,          2,         20,         20,2,20040714,       0548,    29.9948,   177.1025,       5169,  1038.3,   3.3154,  34.3473,2,  34.3484,2,  31.2000,2,    28.3,2,  130.29,2,   42.81,2,    0.00,2,    3.11,2,   0.117,2,   0.055,2,   0.006,2,  2363.7,2,  2366.9,2,-999.000,9,-999.0000,9, -999.00,9,   -0.43,2,  -209.2,2,     3.9,-999.000,9,-999.000,   40.20,2, 1038.30,-999.0000,9,-999.0000,9,-999.0000,9,-999.0000,9,-999.0000,9,-999.0000,-999.000,-999.0000,9, -999.00
318M20040615,        P02,      80,          2,         19,         19,2,20040714,       0548,    29.9948,   177.1025,       5169,  1139.3,   3.0539,  34.4122,2,  34.4136,2,  27.3000,2,    26.4,2,  138.46,2,   43.36,2,    0.00,2,    3.14,2,   0.045,2,   0.021,2,   0.003,2,  2374.8,2,  2379.7,2,-999.000,9,-999.0000,9, -999.00,9,   -0.41,6,  -209.9,6,     5.7,-999.000,9,-999.000,   38.90,2, 1139.30,-999.0000,9,-999.0000,9,-999.0000,9,-999.0000,9,-999.0000,9,-999.0000,-999.000,-999.0000,9, -999.00
318M20040615,        P02,      80,          2,         18,         18,2,20040714,       0548,    29.9948,   177.1025,       5169,  1244.9,   2.8469,  34.4476,2,  34.4477,2,  29.4000,2,    29.2,2,  144.32,2,   43.64,2,    0.00,2,    3.13,2,   0.032,2,   0.017,2,   0.006,2,  2379.7,2,  2387.9,6,-999.000,9,-999.0000,9, -999.00,9, -999.00,9,  -999.0,9,  -999.0,-999.000,9,-999.000,   38.30,2, 1244.90,-999.0000,9,-999.0000,9,-999.0000,9,-999.0000,9,-999.0000,9,-999.0000,-999.000,-999.0000,9, -999.00
318M20040615,        P02,      80,          2,         17,         17,2,20040714,       0548,    29.9948,   177.1025,       5169,  1344.4,   2.6253,  34.4794,2,  34.4791,2,  31.4000,2,    32.3,2,  150.88,2,   43.71,2,    0.00,2,    3.11,2,   0.022,2,   0.013,2,   0.008,2,  2382.6,2,  2394.6,2,-999.000,9,-999.0000,9, -999.00,9,   -0.42,2,  -244.2,2,     4.6,-999.000,9,-999.000,   38.10,2, 1344.40,-999.0000,9,-999.0000,9,-999.0000,9,-999.0000,9,-999.0000,9,-999.0000,-999.000,-999.0000,9, -999.00
318M20040615,        P02,      80,          2,         16,         16,2,20040714,       0548,    29.9948,   177.1025,       5169,  1444.0,   2.4502,  34.5117,2,  34.5110,2,  37.3000,2,    38.1,2,  155.14,2,   43.31,2,    0.00,2,    3.08,2,   0.014,2,   0.009,2,   0.001,2,  2384.8,2,  2400.8,2,-999.000,9,-999.0000,9, -999.00,9, -999.00,9,  -999.0,9,  -999.0,-999.000,9,-999.000,   38.60,2, 1444.00,-999.0000,9,-999.0000,9,-999.0000,9,-999.0000,9,-999.0000,9,-999.0000,-999.000,-999.0000,9, -999.00
318M20040615,        P02,      80,          2,         15,         15,2,20040714,       0548,    29.9948,   177.1025,       5169,  1543.0,   2.3245,  34.5349,2,  34.5341,2,  44.4000,2,    44.1,2,  158.02,2,   43.04,2,    0.00,2,    3.06,2,   0.008,2,   0.004,2,   0.004,2,  2366.8,3,  2404.5,2,-999.000,9,-999.0000,9, -999.00,9,   -0.38,2,  -247.5,2,     5.7,-999.000,9,-999.000,   38.20,2, 1543.00,-999.0000,9,-999.0000,9,-999.0000,9,-999.0000,9,-999.0000,9,-999.0000,-999.000,-999.0000,9, -999.00
318M20040615,        P02,      80,          2,         14,         14,2,20040714,       0548,    29.9948,   177.1025,       5169,  1740.5,   2.0939,  34.5739,2,  34.5742,2,  57.2000,2,    58.1,2,  162.60,2,   42.08,2,    0.00,2,    2.99,2,-999.000,9,-999.000,9,-999.000,9,  2362.1,3,  2410.5,2,-999.000,9,-999.0000,9, -999.00,9,   -0.32,2,  -242.2,2,     3.7,-999.000,9,-999.000,   38.40,2, 1740.50,-999.0000,9,-999.0000,9,-999.0000,9,-999.0000,9,-999.0000,9,-999.0000,-999.000,-999.0000,9, -999.00
318M20040615,        P02,      80,          2,         13,         13,2,20040714,       0548,    29.9948,   177.1025,       5169,  1935.8,   1.9114,  34.6039,2,  34.6034,2,  73.6000,2,    75.4,2,  163.49,2,   40.91,2,    0.00,2,    2.90,2,   0.005,2,   0.001,2,   0.001,2,  2356.5,3,  2416.4,6,-999.000,9,-999.0000,9, -999.00,9,   -0.23,2,  -266.0,2,     4.1,-999.000,9,-999.000,   38.00,2, 1935.80,-999.0000,9,-999.0000,9,-999.0000,9,-999.0000,9,-999.0000,9,-999.0000,-999.000,-999.0000,9, -999.00
318M20040615,        P02,      80,          2,         12,         12,2,20040714,       0548,    29.9948,   177.1025,       5169,  2097.7,   1.8167,  34.6202,2,  34.6200,2,  88.1000,2,    87.9,2,  162.46,2,   40.03,2,    0.00,2,    2.84,2,-999.000,9,-999.000,9,-999.000,9,  2351.3,3,  2418.0,2,-999.000,9,-999.0000,9, -999.00,9,   -0.14,2,  -256.8,2,     3.9,-999.000,9,-999.000,   38.20,2, 2097.70,   0.1580,2,   0.3180,2,   0.0100,2,   0.2500,2,   0.0110,2,-999.0000,-999.000,   0.1220,2, -999.00
318M20040615,        P02,      80,          2,         11,         11,2,20040714,       0548,    29.9948,   177.1025,       5169,  2346.4,   1.6892,  34.6377,2,  34.6369,2, 101.1000,2,   101.7,2,  161.80,2,   39.05,2,    0.00,2,    2.78,2,   0.001,2,   0.000,2,   0.001,2,  2345.8,3,  2419.4,2,-999.000,9,-999.0000,9, -999.00,9,   -0.07,2,  -263.7,2,     3.6,-999.000,9,-999.000,   37.40,2, 2346.40,-999.0000,9,-999.0000,9,-999.0000,9,-999.0000,9,-999.0000,9,-999.0000,-999.000,-999.0000,9, -999.00
318M20040615,        P02,      80,          2,         10,         10,2,20040714,       0548,    29.9948,   177.1025,       5169,  2599.5,   1.5878,  34.6517,2,  34.6512,2, 113.5000,2,   114.5,2,  160.38,2,   38.17,2,    0.00,2,    2.71,2,-999.000,9,-999.000,9,-999.000,9,  2335.7,3,  2419.8,6,-999.000,9,-999.0000,9, -999.00,9,   -0.02,2,  -250.3,2,     4.5,-999.000,9,-999.000,   37.30,2, 2599.50,-999.0000,9,-999.0000,9,-999.0000,9,-999.0000,9,-999.0000,9,-999.0000,-999.000,-999.0000,9, -999.00
318M20040615,        P02,      80,          2,          9,          9,2,20040714,       0548,    29.9948,   177.1025,       5169,  2851.4,   1.5285,  34.6617,2,  34.6606,2, 124.4000,2,   124.3,2,  158.39,2,   37.45,2,    0.00,2,    2.67,2,   0.005,2,   0.001,2,   0.001,2,  2331.9,3,  2421.2,2,-999.000,9,-999.0000,9, -999.00,9,    0.06,2,  -248.7,2,     3.1,-999.000,9,-999.000,   37.70,2, 2851.40,-999.0000,9,-999.0000,9,-999.0000,9,-999.0000,9,-999.0000,9,-999.0000,-999.000,-999.0000,9, -999.00
318M20040615,        P02,      80,          2,          8,          8,2,20040714,       0548,    29.9948,   177.1025,       5169,  3104.1,   1.4837,  34.6698,2,  34.6681,2, 132.9000,2,   133.6,2,  156.63,2,   36.96,2,    0.00,2,    2.61,2,-999.000,9,-999.000,9,-999.000,9,  2324.8,3,  2420.9,2,-999.000,9,-999.0000,9, -999.00,9,    0.10,2,  -238.6,2,     5.1,-999.000,9,-999.000,   37.70,2, 3104.10,   0.0680,2,   0.1690,2,   0.0130,2,   0.1210,2,   0.0150,2,-999.0000,-999.000,   0.0490,2, -999.00
318M20040615,        P02,      80,          2,          7,          7,2,20040714,       0548,    29.9948,   177.1025,       5169,  3401.7,   1.4549,  34.6765,2,  34.6742,2, 140.4000,2,   141.0,2,  154.68,2,   36.96,2,    0.00,2,    2.57,2,   0.002,2,  -0.001,2,   0.001,2,  2320.0,3,  2420.2,2,-999.000,9,-999.0000,9, -999.00,9,    0.15,2,  -242.3,2,     3.0,-999.000,9,-999.000,   36.90,2, 3401.70,-999.0000,9,-999.0000,9,-999.0000,9,-999.0000,9,-999.0000,9,-999.0000,-999.000,-999.0000,9, -999.00
318M20040615,        P02,      80,          2,          6,          6,2,20040714,       0548,    29.9948,   177.1025,       5169,  3699.8,   1.4437,  34.6811,2,  34.6801,2, 146.0000,2,   146.6,2,  152.91,2,   36.63,2,    0.00,2,    2.54,2,-999.000,9,-999.000,9,-999.000,9,  2316.5,3,  2418.8,2,-999.000,9,-999.0000,9, -999.00,9,    0.17,2,  -228.6,2,     4.5,-999.000,9,-999.000,   37.80,2, 3699.80,-999.0000,9,-999.0000,9,-999.0000,9,-999.0000,9,-999.0000,9,-999.0000,-999.000,-999.0000,9, -999.00
318M20040615,        P02,      80,          2,          5,          5,2,20040714,       0548,    29.9948,   177.1025,       5169,  4000.0,   1.4446,  34.6844,2,  34.6858,2, 150.7000,2,   151.2,2,  151.33,2,   36.21,2,    0.00,2,    2.51,2,   0.002,2,   0.002,2,   0.001,2,  2317.0,3,  2419.3,6,-999.000,9,-999.0000,9, -999.00,9,    0.23,2,  -225.5,2,     3.7,-999.000,9,-999.000,   37.80,2, 4000.00,-999.0000,9,-999.0000,9,-999.0000,9,-999.0000,9,-999.0000,9,-999.0000,-999.000,-999.0000,9, -999.00
318M20040615,        P02,      80,          2,          4,          4,2,20040714,       0548,    29.9948,   177.1025,       5169,  4299.4,   1.4418,  34.6879,2,  34.6876,2, 156.0000,2,   157.1,2,  148.14,2,   35.72,2,    0.00,2,    2.48,2,-999.000,9,-999.000,9,-999.000,9,  2311.3,3,  2416.7,2,-999.000,9,-999.0000,9, -999.00,9,    0.26,2,  -222.9,2,     3.7,-999.000,9,-999.000,   37.70,2, 4299.40,-999.0000,9,-999.0000,9,-999.0000,9,-999.0000,9,-999.0000,9,-999.0000,-999.000,-999.0000,9, -999.00
318M20040615,        P02,      80,          2,          3,          3,2,20040714,       0548,    29.9948,   177.1025,       5169,  4599.2,   1.4440,  34.6908,2,  34.6895,2, 161.6000,2,   162.7,2,  143.86,2,   35.22,2,    0.00,2,    2.45,2,   0.007,2,   0.002,2,   0.001,2,  2304.4,3,  2412.6,2,-999.000,9,-999.0000,9, -999.00,9,    0.28,2,  -205.3,2,     4.7,-999.000,9,-999.000,   37.60,2, 4599.20,-999.0000,9,-999.0000,9,-999.0000,9,-999.0000,9,-999.0000,9,-999.0000,-999.000,-999.0000,9, -999.00
318M20040615,        P02,      80,          2,          2,          2,2,20040714,       0548,    29.9948,   177.1025,       5169,  4912.0,   1.4547,  34.6931,2,  34.6919,2, 166.5000,2,   167.3,2,  140.32,2,   34.75,2,    0.00,2,    2.42,2,-999.000,9,-999.000,9,-999.000,9,  2299.0,3,  2411.8,6,-999.000,9,-999.0000,9, -999.00,9,    0.32,2,  -209.9,2,     3.0,-999.000,9,-999.000,   37.40,2, 4912.00,-999.0000,9,-999.0000,9,-999.0000,9,-999.0000,9,-999.0000,9,-999.0000,-999.000,-999.0000,9, -999.00
318M20040615,        P02,      80,          2,          1,          1,2,20040714,       0548,    29.9948,   177.1025,       5169,  5117.5,   1.4670,  34.6941,2,  34.6923,2, 169.1000,2,   169.6,2,  138.59,2,   34.54,2,    0.00,2,    2.40,2,   0.011,2,   0.005,2,   0.001,2,  2309.3,3,  2407.8,6,-999.000,9,-999.0000,9, -999.00,9,    0.36,2,  -200.4,2,     3.7,-999.000,9,-999.000,   37.60,2, 5117.50,-999.0000,9,-999.0000,9,-999.0000,9,-999.0000,9,-999.0000,9,-999.0000,-999.000,-999.0000,9, -999.00