BOTTLE,20131027SIOCCHRJL
EXPOCODE,SECT_ID,STNNBR,CASTNO,SAMPNO,BTLNBR,BTLNBR_FLAG_W,DATE,TIME,LATITUDE,LONGITUDE,DEPTH,CTDPRS,CTDTMP,CTDSAL,CTDSAL_FLAG_W,SALNTY,SALNTY_FLAG_W,CTDOXY,CTDOXY_FLAG_W,OXYGEN,OXYGEN_FLAG_W,SILCAT,SILCAT_FLAG_W,NITRAT,NITRAT_FLAG_W,NITRIT,NITRIT_FLAG_W,PHSPHT,PHSPHT_FLAG_W,CFC-11,CFC-11_FLAG_W,CFC-12,CFC-12_FLAG_W,CFC113,CFC113_FLAG_W,TCARBN,TCARBN_FLAG_W,ALKALI,ALKALI_FLAG_W,TRITUM,TRITUM_FLAG_W,HELIUM,HELIUM_FLAG_W,DELHE3,DELHE3_FLAG_W,DELC13,DELC13_FLAG_W,DELC14,DELC14_FLAG_W,C14ERR,NEON,NEON_FLAG_W,NEONER,DOC,DOC_FLAG_W,CTDRAW,CDOM380,CDOM380_FLAG_W,CDOM325,CDOM325_FLAG_W,CDOMSL,CDOMSL_FLAG_W,CDOM340,CDOM340_FLAG_W,CDOMSN,CDOMSN_FLAG_W,HELIER,TRITER,CDOM412,CDOM412_FLAG_W,DELHER
,,,,,,,,,,,METERS,DBAR,ITS-90,PSS-78,,PSS-78,,UMOL/KG,,UMOL/KG,,UMOL/KG,,UMOL/KG,,UMOL/KG,,UMOL/KG,,PMOL/KG,,PMOL/KG,,PMOL/KG,,UMOL/KG,,UMOL/KG,,TU,,NMOL/KG,,PERCNT,,/MILLE,,/MILLE,,/MILLE,NMOL/KG,,NMOL/KG,UMOL/KG,,DBAR,1/M,,1/M,,1/NM,,1/M,,1/NM,,NMOL/KG,TU,1/M,,PERCNT
318M20040615,        P02,      16,          2,         30,         30,2,20040622,       1311,    29.9898,   135.3988,       4332,    11.0,  25.5184,  34.5900,2,-999.0000,9, 210.3000,5,   211.3,2,    1.16,2,    0.04,2,    0.00,2,    0.03,2,   1.880,2,   1.166,2,   0.131,2,  1954.8,6,  2276.6,6,-999.000,9,-999.0000,9, -999.00,9, -999.00,9,  -999.0,9,  -999.0,-999.000,9,-999.000,   67.70,2,   11.00,   0.0170,2,   0.0660,2,   0.0270,2,   0.0440,2,   0.0270,2,-999.0000,-999.000,   0.0090,2, -999.00
318M20040615,        P02,      16,          2,         29,         29,2,20040622,       1311,    29.9898,   135.3988,       4332,    49.9,  24.7683,  34.6294,2,  34.6289,2, 215.9000,2,   211.4,2,    1.17,2,    0.04,2,    0.00,2,    0.04,2,   1.882,2,   1.176,2,   0.132,2,  1954.1,2,  2275.3,2,-999.000,9,-999.0000,9, -999.00,9, -999.00,9,  -999.0,9,  -999.0,-999.000,9,-999.000,   64.30,2,   49.90,   0.0290,3,   0.0840,3,   0.0200,3,   0.0600,3,   0.0210,3,-999.0000,-999.000,   0.0190,3, -999.00
318M20040615,        P02,      16,          2,         28,         28,2,20040622,       1311,    29.9898,   135.3988,       4332,   106.0,  21.0598,  34.8647,2,  34.8593,2, 228.3000,2,   225.8,2,    1.54,2,    0.04,2,    0.00,2,    0.04,2,   2.195,2,   1.291,2,   0.136,2,  1983.2,2,  2291.5,2,-999.000,9,-999.0000,9, -999.00,9, -999.00,9,  -999.0,9,  -999.0,-999.000,9,-999.000,   62.10,2,  106.00,   0.0370,2,   0.1120,2,   0.0190,2,   0.0800,2,   0.0210,2,-999.0000,-999.000,   0.0240,2, -999.00
318M20040615,        P02,      16,          2,         27,         27,2,20040622,       1311,    29.9898,   135.3988,       4332,   155.1,  19.2657,  34.8783,2,  34.8769,2, 206.8000,2,   211.3,2, -999.00,5, -999.00,5, -999.00,5, -999.00,5,   2.286,2,   1.338,2,   0.109,2,  2006.1,2,  2292.3,2,-999.000,9,-999.0000,9, -999.00,9, -999.00,9,  -999.0,9,  -999.0,-999.000,9,-999.000,   58.50,2,  155.10,   0.0300,2,   0.0900,2,   0.0200,2,   0.0640,2,   0.0210,2,-999.0000,-999.000,   0.0210,2, -999.00
318M20040615,        P02,      16,          2,         26,         26,2,20040622,       1311,    29.9898,   135.3988,       4332,   205.1,  18.7131,  34.8731,2,  34.8722,2, 216.0000,2,   215.1,2,    2.45,2,    2.30,2,    0.02,2,    0.20,2,   2.317,2,   1.369,2,   0.127,2,  2008.4,2,  2298.1,3,-999.000,9,-999.0000,9, -999.00,9, -999.00,9,  -999.0,9,  -999.0,-999.000,9,-999.000,   54.80,2,  205.10,   0.0490,2,   0.1220,2,   0.0150,2,   0.0970,2,   0.0160,2,-999.0000,-999.000,   0.0340,2, -999.00
318M20040615,        P02,      16,          2,         25,         25,2,20040622,       1311,    29.9898,   135.3988,       4332,   253.9,  18.3701,  34.8490,2,  34.8479,2, 213.2000,2,   213.7,2,    2.82,2,    2.76,2,    0.02,2,    0.22,2,   2.368,2,   1.374,2,   0.106,2,  2012.3,2,  2287.9,2,-999.000,9,-999.0000,9, -999.00,9, -999.00,9,  -999.0,9,  -999.0,-999.000,9,-999.000,   54.20,2,  253.90,   0.0360,2,   0.0960,2,   0.0170,2,   0.0710,2,   0.0180,2,-999.0000,-999.000,   0.0240,2, -999.00
318M20040615,        P02,      16,          2,         24,         24,2,20040622,       1311,    29.9898,   135.3988,       4332,   304.2,  17.6016,  34.7973,2,  34.7978,2, 214.8000,2,   213.5,2,    3.37,2,    3.46,2,    0.01,2,    0.27,2,   2.456,2,   1.410,2,   0.101,2,  2021.1,2,  2286.4,2,-999.000,9,-999.0000,9, -999.00,9, -999.00,9,  -999.0,9,  -999.0,-999.000,9,-999.000,   51.90,2,  304.20,   0.0390,2,   0.1020,2,   0.0160,2,   0.0760,2,   0.0170,2,-999.0000,-999.000,   0.0270,2, -999.00
318M20040615,        P02,      16,          2,         23,         23,2,20040622,       1311,    29.9898,   135.3988,       4332,   403.9,  16.7779,  34.7583,2,  34.7600,2, 208.8000,2,   214.5,2,    4.46,2,    4.63,2,    0.01,2,    0.35,2,   2.509,2,   1.416,2,   0.080,2,  2028.1,2,  2285.3,2,-999.000,9,-999.0000,9, -999.00,9, -999.00,9,  -999.0,9,  -999.0,-999.000,9,-999.000,   50.40,2,  403.90,   0.0280,2,   0.0810,2,   0.0200,2,   0.0580,2,   0.0210,2,-999.0000,-999.000,   0.0190,2, -999.00
318M20040615,        P02,      16,          2,         22,         22,2,20040622,       1311,    29.9898,   135.3988,       4332,   512.0,  14.2500,  34.5447,2,  34.5457,2, 183.3000,2,   182.5,2,   12.71,2,   11.39,2,    0.01,2,    0.81,2,   2.549,2,   1.373,2,   0.023,2,  2079.6,2,  2282.4,2,-999.000,9,-999.0000,9, -999.00,9, -999.00,9,  -999.0,9,  -999.0,-999.000,9,-999.000,   47.90,2,  512.00,   0.0450,2,   0.1190,2,   0.0160,2,   0.0870,2,   0.0170,2,-999.0000,-999.000,   0.0300,2, -999.00
318M20040615,        P02,      16,          2,         21,         21,2,20040622,       1311,    29.9898,   135.3988,       4332,   610.2,  10.9191,  34.3336,2,  34.3341,2, 164.3000,2,   165.7,2,   28.52,2,   18.39,2,    0.01,2,    1.32,2,   2.323,2,   1.220,2,   0.049,2,  2133.6,2,  2281.4,2,-999.000,9,-999.0000,9, -999.00,9, -999.00,9,  -999.0,9,  -999.0,-999.000,9,-999.000,   46.60,2,  610.20,   0.0550,2,   0.1460,2,   0.0160,2,   0.1070,2,   0.0170,2,-999.0000,-999.000,   0.0360,2, -999.00
318M20040615,        P02,      16,          2,         20,         20,2,20040622,       1311,    29.9898,   135.3988,       4332,   707.8,   8.5180,  34.2118,2,  34.2109,2, 141.5000,2,   144.0,2,   46.21,2,   24.75,2,    0.00,2,    1.80,2,   2.015,2,   1.036,2,   0.063,2,  2182.1,2,  2292.1,2,-999.000,9,-999.0000,9, -999.00,9, -999.00,9,  -999.0,9,  -999.0,-999.000,9,-999.000,   44.70,2,  707.80,   0.0710,2,   0.1700,2,   0.0140,2,   0.1270,2,   0.0150,2,-999.0000,-999.000,   0.0490,2, -999.00
318M20040615,        P02,      16,          2,         19,         19,2,20040622,       1311,    29.9898,   135.3988,       4332,   806.8,   6.4713,  34.1789,2,  34.1785,2, 108.5000,2,   107.8,2,   68.51,2,   31.70,2,    0.00,2,    2.29,2,   1.326,2,   0.685,2,   0.042,2,  2239.4,2,  2308.4,2,-999.000,9,-999.0000,9, -999.00,9, -999.00,9,  -999.0,9,  -999.0,-999.000,9,-999.000,   42.80,2,  806.80,   0.0760,2,   0.1850,2,   0.0140,2,   0.1360,2,   0.0150,2,-999.0000,-999.000,   0.0550,2, -999.00
318M20040615,        P02,      16,          2,         18,         18,2,20040622,       1311,    29.9898,   135.3988,       4332,   915.3,   4.9505,  34.2441,2,  34.2570,2,  78.0000,3,    75.5,2,   94.21,2,   37.12,2,    0.00,2,    2.69,2,   0.686,2,   0.348,2,   0.024,2,  2292.8,2,  2332.7,2,-999.000,9,-999.0000,9, -999.00,9, -999.00,9,  -999.0,9,  -999.0,-999.000,9,-999.000,   41.60,2,  915.30,   0.0920,2,   0.2100,2,   0.0130,2,   0.1570,2,   0.0140,2,-999.0000,-999.000,   0.0670,2, -999.00
318M20040615,        P02,      16,          2,         17,         17,2,20040622,       1311,    29.9898,   135.3988,       4332,  1020.2,   4.3530,  34.3020,2,  34.3017,2,  64.8000,2,    65.0,2,  107.02,2,   38.86,2,    0.00,2,    2.85,2,   0.433,6,   0.211,6,   0.013,6,  2313.2,2,  2347.6,2,-999.000,9,-999.0000,9, -999.00,9, -999.00,9,  -999.0,9,  -999.0,-999.000,9,-999.000,   40.20,2, 1020.20,   0.0890,2,   0.2140,2,   0.0130,2,   0.1580,2,   0.0140,2,-999.0000,-999.000,   0.0650,2, -999.00
318M20040615,        P02,      16,          2,         16,         16,2,20040622,       1311,    29.9898,   135.3988,       4332,  1118.0,   3.8018,  34.3653,2,  34.3658,2,  60.7000,2,    60.3,2,  119.12,2,   39.87,2,    0.00,2,    2.89,2,   0.255,2,   0.124,2,   0.007,2,  2330.1,6,  2363.5,2,-999.000,9,-999.0000,9, -999.00,9, -999.00,9,  -999.0,9,  -999.0,-999.000,9,-999.000,   39.30,2, 1118.00,-999.0000,9,-999.0000,9,-999.0000,9,-999.0000,9,-999.0000,9,-999.0000,-999.000,-999.0000,9, -999.00
318M20040615,        P02,      16,          2,         15,         15,2,20040622,       1311,    29.9898,   135.3988,       4332,  1200.8,   3.4606,  34.4118,2,  34.4226,2,  60.4000,3,    61.4,2,  126.84,2,   40.23,2,    0.01,2,    2.91,2,   0.157,2,   0.077,2,   0.003,2,  2336.9,2,  2372.8,2,-999.000,9,-999.0000,9, -999.00,9, -999.00,9,  -999.0,9,  -999.0,-999.000,9,-999.000,   38.60,2, 1200.80,-999.0000,9,-999.0000,9,-999.0000,9,-999.0000,9,-999.0000,9,-999.0000,-999.000,-999.0000,9, -999.00
318M20040615,        P02,      16,          2,         14,         14,2,20040622,       1311,    29.9898,   135.3988,       4332,  1299.6,   3.2088,  34.4435,2,  34.4436,2,  64.1000,2,    63.7,2,  131.49,2,   40.34,2,    0.00,2,    2.92,2,   0.109,2,   0.051,2,   0.005,2,  2343.7,2,  2378.8,2,-999.000,9,-999.0000,9, -999.00,9, -999.00,9,  -999.0,9,  -999.0,-999.000,9,-999.000,   38.00,2, 1299.60,-999.0000,9,-999.0000,9,-999.0000,9,-999.0000,9,-999.0000,9,-999.0000,-999.000,-999.0000,9, -999.00
318M20040615,        P02,      16,          2,         13,         13,2,20040622,       1311,    29.9898,   135.3988,       4332,  1399.5,   2.9428,  34.4771,2,  34.4777,2,  67.5000,2,    68.1,2,  136.68,2,   40.27,2,    0.00,2,    2.92,2,   0.072,2,   0.035,2,   0.007,2,  2349.8,2,  2385.3,2,-999.000,9,-999.0000,9, -999.00,9, -999.00,9,  -999.0,9,  -999.0,-999.000,9,-999.000,   37.60,2, 1399.50,-999.0000,9,-999.0000,9,-999.0000,9,-999.0000,9,-999.0000,9,-999.0000,-999.000,-999.0000,9, -999.00
318M20040615,        P02,      16,          2,         12,         12,2,20040622,       1311,    29.9898,   135.3988,       4332,  1498.2,   2.7395,  34.5021,2,  34.5023,2,  73.0000,2,    72.8,2,  140.17,2,   40.09,2,    0.00,2,    2.93,2,   0.053,2,   0.027,2,   0.005,2,  2351.8,2,  2391.2,2,-999.000,9,-999.0000,9, -999.00,9, -999.00,9,  -999.0,9,  -999.0,-999.000,9,-999.000,   38.20,2, 1498.20,-999.0000,9,-999.0000,9,-999.0000,9,-999.0000,9,-999.0000,9,-999.0000,-999.000,-999.0000,9, -999.00
318M20040615,        P02,      16,          2,         11,         11,2,20040622,       1311,    29.9898,   135.3988,       4332,  1807.7,   2.2162,  34.5720,2,  34.5712,2,  92.0000,2,    93.8,2,  146.07,2,   39.06,2,    0.00,2,    2.85,2,   0.017,2,   0.008,2,   0.004,2,  2349.4,2,  2404.8,2,-999.000,9,-999.0000,9, -999.00,9, -999.00,9,  -999.0,9,  -999.0,-999.000,9,-999.000,   37.70,2, 1807.70,-999.0000,9,-999.0000,9,-999.0000,9,-999.0000,9,-999.0000,9,-999.0000,-999.000,-999.0000,9, -999.00
318M20040615,        P02,      16,          2,         10,         10,2,20040622,       1311,    29.9898,   135.3988,       4332,  2029.1,   2.0263,  34.6004,2,  34.6001,2, 106.3000,2,   106.4,2,  146.29,2,   38.73,2,    0.00,2,    2.81,2,   0.012,2,   0.008,2,   0.006,2,  2344.3,2,  2408.5,2,-999.000,9,-999.0000,9, -999.00,9, -999.00,9,  -999.0,9,  -999.0,-999.000,9,-999.000,   38.30,2, 2029.10,   0.0810,2,   0.1980,2,   0.0130,2,   0.1450,2,   0.0150,2,-999.0000,-999.000,   0.0580,2, -999.00
318M20040615,        P02,      16,          2,          9,          9,2,20040622,       1311,    29.9898,   135.3988,       4332,  2257.5,   1.8646,  34.6243,2,  34.6234,2, 118.2000,2,   118.0,2,  145.92,2,   38.24,2,    0.00,2,    2.70,2,   0.007,2,   0.005,2,   0.004,2,  2340.4,2,  2411.7,2,-999.000,9,-999.0000,9, -999.00,9, -999.00,9,  -999.0,9,  -999.0,-999.000,9,-999.000,   38.20,2, 2257.50,-999.0000,9,-999.0000,9,-999.0000,9,-999.0000,9,-999.0000,9,-999.0000,-999.000,-999.0000,9, -999.00
318M20040615,        P02,      16,          2,          8,          8,2,20040622,       1311,    29.9898,   135.3988,       4332,  2501.0,   1.7398,  34.6427,2,  34.6415,2, 127.5000,2,   128.9,2,  145.57,2,   37.54,2,    0.00,2,    2.68,2,   0.007,2,   0.008,2,   0.002,2,  2335.6,2,  2413.6,2,-999.000,9,-999.0000,9, -999.00,9, -999.00,9,  -999.0,9,  -999.0,-999.000,9,-999.000,   37.90,2, 2501.00,-999.0000,9,-999.0000,9,-999.0000,9,-999.0000,9,-999.0000,9,-999.0000,-999.000,-999.0000,9, -999.00
318M20040615,        P02,      16,          2,          6,          6,9,20040622,       1311,    29.9898,   135.3988,       4332,  2755.2,   1.6303,  34.6581,2,-999.0000,9, 136.5000,9,  -999.0,9, -999.00,9, -999.00,9, -999.00,9, -999.00,9,-999.000,9,-999.000,9,-999.000,9,  2331.7,2,  -999.0,9,-999.000,9,-999.0000,9, -999.00,9, -999.00,9,  -999.0,9,  -999.0,-999.000,9,-999.000,   37.10,9, 2755.20,-999.0000,9,-999.0000,9,-999.0000,9,-999.0000,9,-999.0000,9,-999.0000,-999.000,-999.0000,9, -999.00
318M20040615,        P02,      16,          2,          7,          7,2,20040622,       1311,    29.9898,   135.3988,       4332,  2758.4,   1.6293,  34.6583,2,  34.6582,2, 136.7000,2,   138.0,2,  145.01,2,   36.88,2,    0.00,2,    2.62,2,   0.006,2,   0.004,2,   0.006,2,  -999.0,9,  2414.6,2,-999.000,9,-999.0000,9, -999.00,9, -999.00,9,  -999.0,9,  -999.0,-999.000,9,-999.000,   37.60,2, 2758.40,-999.0000,9,-999.0000,9,-999.0000,9,-999.0000,9,-999.0000,9,-999.0000,-999.000,-999.0000,9, -999.00
318M20040615,        P02,      16,          2,          5,          5,2,20040622,       1311,    29.9898,   135.3988,       4332,  3000.5,   1.5716,  34.6672,2,  34.6669,2, 142.8000,2,   143.6,2,  144.47,2,   36.45,2,    0.00,2,    2.59,2,   0.008,2,   0.004,2,   0.005,2,  2328.1,2,  2416.2,2,-999.000,9,-999.0000,9, -999.00,9, -999.00,9,  -999.0,9,  -999.0,-999.000,9,-999.000,   38.00,2, 3000.50,   0.0740,2,   0.1800,2,   0.0130,2,   0.1320,2,   0.0150,2,-999.0000,-999.000,   0.0520,2, -999.00
318M20040615,        P02,      16,          2,          4,          4,2,20040622,       1311,    29.9898,   135.3988,       4332,  3400.7,   1.5153,  34.6777,2,  34.6765,2, 150.7000,2,   150.8,2,  143.74,2,   35.90,2,    0.00,2,    2.59,2,   0.012,2,   0.006,2,   0.002,2,  2316.4,2,  2417.2,2,-999.000,9,-999.0000,9, -999.00,9, -999.00,9,  -999.0,9,  -999.0,-999.000,9,-999.000,   37.30,2, 3400.70,-999.0000,9,-999.0000,9,-999.0000,9,-999.0000,9,-999.0000,9,-999.0000,-999.000,-999.0000,9, -999.00
318M20040615,        P02,      16,          2,          3,          3,2,20040622,       1311,    29.9898,   135.3988,       4332,  3803.1,   1.5260,  34.6811,2,  34.6806,2, 153.2000,2,   153.5,2,  143.35,2,   35.67,2,    0.00,2,    2.53,2,   0.009,2,   0.008,2,   0.004,2,  2322.6,2,  2416.0,2,-999.000,9,-999.0000,9, -999.00,9, -999.00,9,  -999.0,9,  -999.0,-999.000,9,-999.000,   37.60,2, 3803.10,-999.0000,9,-999.0000,9,-999.0000,9,-999.0000,9,-999.0000,9,-999.0000,-999.000,-999.0000,9, -999.00
318M20040615,        P02,      16,          2,          2,          2,2,20040622,       1311,    29.9898,   135.3988,       4332,  4103.2,   1.5451,  34.6824,2,  34.6814,2, 154.4000,2,   154.7,2,  143.02,2,   35.46,2,    0.00,2,    2.55,2,   0.010,2,   0.006,2,   0.003,2,  2322.6,2,  2417.6,2,-999.000,9,-999.0000,9, -999.00,9, -999.00,9,  -999.0,9,  -999.0,-999.000,9,-999.000,   37.30,2, 4103.20,   0.0660,2,   0.1710,2,   0.0130,2,   0.1210,2,   0.0150,2,-999.0000,-999.000,   0.0470,2, -999.00
318M20040615,        P02,      16,          2,          1,          1,2,20040622,       1311,    29.9898,   135.3988,       4332,  4402.6,   1.5720,  34.6830,2,  34.6828,2, 154.9000,2,   155.5,2,  142.71,2,   35.51,2,    0.00,2,    2.64,3,   0.008,2,   0.004,2,   0.000,2,  2322.1,6,  2414.6,6,-999.000,9,-999.0000,9, -999.00,9, -999.00,9,  -999.0,9,  -999.0,-999.000,9,-999.000, -999.00,2, 4402.60,-999.0000,9,-999.0000,9,-999.0000,9,-999.0000,9,-999.0000,9,-999.0000,-999.000,-999.0000,9, -999.00