BOTTLE,20131027SIOCCHRJL
EXPOCODE,SECT_ID,STNNBR,CASTNO,SAMPNO,BTLNBR,BTLNBR_FLAG_W,DATE,TIME,LATITUDE,LONGITUDE,DEPTH,CTDPRS,CTDTMP,CTDSAL,CTDSAL_FLAG_W,SALNTY,SALNTY_FLAG_W,CTDOXY,CTDOXY_FLAG_W,OXYGEN,OXYGEN_FLAG_W,SILCAT,SILCAT_FLAG_W,NITRAT,NITRAT_FLAG_W,NITRIT,NITRIT_FLAG_W,PHSPHT,PHSPHT_FLAG_W,CFC-11,CFC-11_FLAG_W,CFC-12,CFC-12_FLAG_W,CFC113,CFC113_FLAG_W,TCARBN,TCARBN_FLAG_W,ALKALI,ALKALI_FLAG_W,TRITUM,TRITUM_FLAG_W,HELIUM,HELIUM_FLAG_W,DELHE3,DELHE3_FLAG_W,DELC13,DELC13_FLAG_W,DELC14,DELC14_FLAG_W,C14ERR,NEON,NEON_FLAG_W,NEONER,DOC,DOC_FLAG_W,CTDRAW,CDOM380,CDOM380_FLAG_W,CDOM325,CDOM325_FLAG_W,CDOMSL,CDOMSL_FLAG_W,CDOM340,CDOM340_FLAG_W,CDOMSN,CDOMSN_FLAG_W,HELIER,TRITER,CDOM412,CDOM412_FLAG_W,DELHER
,,,,,,,,,,,METERS,DBAR,ITS-90,PSS-78,,PSS-78,,UMOL/KG,,UMOL/KG,,UMOL/KG,,UMOL/KG,,UMOL/KG,,UMOL/KG,,PMOL/KG,,PMOL/KG,,PMOL/KG,,UMOL/KG,,UMOL/KG,,TU,,NMOL/KG,,PERCNT,,/MILLE,,/MILLE,,/MILLE,NMOL/KG,,NMOL/KG,UMOL/KG,,DBAR,1/M,,1/M,,1/NM,,1/M,,1/NM,,NMOL/KG,TU,1/M,,PERCNT
318M20040615,        P02,     187,          1,         31,         31,2,20040826,       2125,    32.6312,  -118.1547,       2049,     6.1,  20.5847,  33.4282,2,  33.4284,2, 237.5000,2,   237.2,2,    0.61,2,    0.04,2,    0.00,2,    0.24,2,   2.558,6,   1.547,6,   0.116,6,  1986.1,6,  -999.0,9,   1.095,2,   1.7520,2,   -2.04,2, -999.00,9,  -999.0,9,  -999.0,-999.000,9,-999.000, -999.00,9,    6.10,-999.0000,9,-999.0000,9,-999.0000,9,-999.0000,9,-999.0000,9,   0.0088,   0.006,-999.0000,9,    0.20
318M20040615,        P02,     187,          1,         30,         30,2,20040826,       2125,    32.6312,  -118.1547,       2049,    19.4,  19.8020,  33.3890,2,  33.3691,2, 246.8000,2,   252.4,2,    0.58,2,    0.10,2,    0.00,2,    0.26,2,-999.000,9,-999.000,9,-999.000,9,  -999.0,9,  -999.0,9,-999.000,9,-999.0000,9, -999.00,9, -999.00,9,  -999.0,9,  -999.0,-999.000,9,-999.000, -999.00,9,   19.40,-999.0000,9,-999.0000,9,-999.0000,9,-999.0000,9,-999.0000,9,-999.0000,-999.000,-999.0000,9, -999.00
318M20040615,        P02,     187,          1,         29,         29,2,20040826,       2125,    32.6312,  -118.1547,       2049,    43.8,  14.6837,  33.2336,2,  33.2391,2, 261.9000,2,   259.2,2,    1.96,2,    3.10,2,    0.15,2,    0.53,2,   3.163,2,   1.854,2,   0.215,2,  -999.0,9,  -999.0,9,   0.888,2,   1.7856,2,   -1.36,2, -999.00,9,  -999.0,9,  -999.0,-999.000,9,-999.000, -999.00,9,   43.80,-999.0000,9,-999.0000,9,-999.0000,9,-999.0000,9,-999.0000,9,   0.0089,   0.008,-999.0000,9,    0.20
318M20040615,        P02,     187,          1,         28,         28,2,20040826,       2125,    32.6312,  -118.1547,       2049,    83.7,  10.2453,  33.3775,2,  33.3843,2, 172.5000,2,   177.1,2,   14.94,2,   17.81,2,    0.02,2,    1.45,2,-999.000,9,-999.000,9,-999.000,9,  -999.0,9,  -999.0,9,-999.000,9,-999.0000,9, -999.00,9, -999.00,9,  -999.0,9,  -999.0,-999.000,9,-999.000, -999.00,9,   83.70,-999.0000,9,-999.0000,9,-999.0000,9,-999.0000,9,-999.0000,9,-999.0000,-999.000,-999.0000,9, -999.00
318M20040615,        P02,     187,          1,         27,         27,2,20040826,       2125,    32.6312,  -118.1547,       2049,   108.9,   9.4580,  33.6194,2,  33.6157,2, 154.3000,2,   160.5,2,   20.32,2,   20.97,2,    0.01,2,    1.63,2,   3.442,2,   1.919,2,   0.140,2,  -999.0,9,  -999.0,9,   0.831,2,   1.8116,2,    3.04,2, -999.00,9,  -999.0,9,  -999.0,-999.000,9,-999.000, -999.00,9,  108.90,-999.0000,9,-999.0000,9,-999.0000,9,-999.0000,9,-999.0000,9,   0.0091,   0.008,-999.0000,9,    0.20
318M20040615,        P02,     187,          1,         26,         26,2,20040826,       2125,    32.6312,  -118.1547,       2049,   132.9,   9.3231,  33.8179,2,  33.8192,2, 136.3000,2,   136.7,2,   24.71,2,   23.52,2,    0.01,2,    1.81,2,-999.000,9,-999.000,9,-999.000,9,  -999.0,9,  -999.0,9,-999.000,9,-999.0000,9, -999.00,9, -999.00,9,  -999.0,9,  -999.0,-999.000,9,-999.000, -999.00,9,  132.90,-999.0000,9,-999.0000,9,-999.0000,9,-999.0000,9,-999.0000,9,-999.0000,-999.000,-999.0000,9, -999.00
318M20040615,        P02,     187,          1,         25,         25,2,20040826,       2125,    32.6312,  -118.1547,       2049,   163.5,   9.5008,  34.0642,2,  34.0624,2,  97.6000,2,   100.3,2,   29.91,2,   25.77,2,    0.01,2,    2.06,2,   2.512,2,   1.375,2,   0.078,2,  -999.0,9,  -999.0,9,   0.684,2,   1.7448,2,    5.76,2, -999.00,9,  -999.0,9,  -999.0,-999.000,9,-999.000, -999.00,9,  163.50,-999.0000,9,-999.0000,9,-999.0000,9,-999.0000,9,-999.0000,9,   0.0087,   0.007,-999.0000,9,    0.20
318M20040615,        P02,     187,          1,         24,         24,2,20040826,       2125,    32.6312,  -118.1547,       2049,   188.1,   9.0330,  34.0518,2,  34.0517,2, 116.3000,2,   110.3,2,   31.10,2,   26.18,2,    0.01,2,    2.03,2,-999.000,9,-999.000,9,-999.000,9,  -999.0,9,  -999.0,9,-999.000,9,-999.0000,9, -999.00,9, -999.00,9,  -999.0,9,  -999.0,-999.000,9,-999.000, -999.00,9,  188.10,-999.0000,9,-999.0000,9,-999.0000,9,-999.0000,9,-999.0000,9,-999.0000,-999.000,-999.0000,9, -999.00
318M20040615,        P02,     187,          1,         23,         23,2,20040826,       2125,    32.6312,  -118.1547,       2049,   213.8,   9.3905,  34.2289,2,  34.2287,2,  70.1000,2,    68.1,2,   35.69,2,   28.07,2,    0.01,2,    2.33,2,   1.816,2,   0.951,2,   0.055,2,  -999.0,9,  -999.0,9,   0.596,2,   1.8146,2,    9.23,2, -999.00,9,  -999.0,9,  -999.0,-999.000,9,-999.000, -999.00,9,  213.80,-999.0000,9,-999.0000,9,-999.0000,9,-999.0000,9,-999.0000,9,   0.0091,   0.007,-999.0000,9,    0.20
318M20040615,        P02,     187,          1,         22,         22,2,20040826,       2125,    32.6312,  -118.1547,       2049,   238.7,   8.9631,  34.2582,2,  34.2454,2,  60.0000,2,    62.3,2,   40.09,2,   29.65,2,    0.01,2,    2.44,2,   1.548,2,   0.810,2,   0.041,2,  -999.0,9,  -999.0,9,-999.000,9,-999.0000,9, -999.00,9, -999.00,9,  -999.0,9,  -999.0,-999.000,9,-999.000, -999.00,9,  238.70,-999.0000,9,-999.0000,9,-999.0000,9,-999.0000,9,-999.0000,9,-999.0000,-999.000,-999.0000,9, -999.00
318M20040615,        P02,     187,          1,         21,         21,2,20040826,       2125,    32.6312,  -118.1547,       2049,   288.5,   8.5863,  34.2902,2,  34.2891,2,  47.6000,2,    45.8,2,   45.31,2,   31.40,2,    0.01,2,    2.60,2,   1.125,2,   0.585,2,   0.021,2,  -999.0,9,  -999.0,9,   0.468,2,   1.8135,2,   12.41,2, -999.00,9,  -999.0,9,  -999.0,-999.000,9,-999.000, -999.00,9,  288.50,-999.0000,9,-999.0000,9,-999.0000,9,-999.0000,9,-999.0000,9,   0.0091,   0.006,-999.0000,9,    0.20
318M20040615,        P02,     187,          1,         20,         20,2,20040826,       2125,    32.6312,  -118.1547,       2049,   338.7,   7.7998,  34.2781,2,  34.2777,2,  39.4000,2,    37.8,2,   52.76,2,   33.64,2,    0.00,2,    2.74,2,   0.819,2,   0.419,2,   0.016,2,  -999.0,9,  -999.0,9,-999.000,9,-999.0000,9, -999.00,9, -999.00,9,  -999.0,9,  -999.0,-999.000,9,-999.000, -999.00,9,  338.70,-999.0000,9,-999.0000,9,-999.0000,9,-999.0000,9,-999.0000,9,-999.0000,-999.000,-999.0000,9, -999.00
318M20040615,        P02,     187,          1,         19,         19,2,20040826,       2125,    32.6312,  -118.1547,       2049,   388.1,   7.3436,  34.2708,2,  34.2733,2,  32.7000,2,    31.5,2,   57.79,2,   35.09,2,    0.00,2,    2.83,2,-999.000,1,-999.000,1,-999.000,1,  -999.0,9,  -999.0,9,   0.360,2,   1.8431,2,   13.84,2, -999.00,9,  -999.0,9,  -999.0,-999.000,9,-999.000, -999.00,9,  388.10,-999.0000,9,-999.0000,9,-999.0000,9,-999.0000,9,-999.0000,9,   0.0092,   0.006,-999.0000,9,    0.20
318M20040615,        P02,     187,          1,         18,         18,2,20040826,       2125,    32.6312,  -118.1547,       2049,   438.0,   7.0809,  34.2855,2,  34.2862,2,  26.4000,2,    25.9,2,   61.61,2,   36.05,2,    0.00,2,    2.90,2,   0.634,2,   0.325,2,   0.010,2,  -999.0,9,  -999.0,9,-999.000,9,-999.0000,9, -999.00,9, -999.00,9,  -999.0,9,  -999.0,-999.000,9,-999.000, -999.00,9,  438.00,-999.0000,9,-999.0000,9,-999.0000,9,-999.0000,9,-999.0000,9,-999.0000,-999.000,-999.0000,9, -999.00
318M20040615,        P02,     187,          1,         17,         17,2,20040826,       2125,    32.6312,  -118.1547,       2049,   488.2,   6.6017,  34.3044,2,  34.3052,2,  19.4000,2,    18.4,2,   68.88,2,   37.66,2,    0.00,2,    3.01,2,   0.000,4,   0.000,4,   0.000,4,  -999.0,9,  -999.0,9,   0.231,2,   1.8458,2,   13.64,2, -999.00,9,  -999.0,9,  -999.0,-999.000,9,-999.000, -999.00,9,  488.20,-999.0000,9,-999.0000,9,-999.0000,9,-999.0000,9,-999.0000,9,   0.0092,   0.004,-999.0000,9,    0.20
318M20040615,        P02,     187,          1,         16,         16,2,20040826,       2125,    32.6312,  -118.1547,       2049,   573.0,   5.9962,  34.3356,2,  34.3354,2,  12.7000,2,    11.9,2,   78.43,2,   39.66,2,    0.00,2,    3.12,2,   0.128,2,   0.066,2,   0.006,2,  -999.0,9,  -999.0,9,-999.000,9,-999.0000,9, -999.00,9, -999.00,9,  -999.0,9,  -999.0,-999.000,9,-999.000, -999.00,9,  573.00,-999.0000,9,-999.0000,9,-999.0000,9,-999.0000,9,-999.0000,9,-999.0000,-999.000,-999.0000,9, -999.00
318M20040615,        P02,     187,          1,         15,         15,2,20040826,       2125,    32.6312,  -118.1547,       2049,   678.0,   5.4086,  34.3822,2,  34.3821,2,  10.1000,2,    10.4,2,   89.41,2,   41.29,2,    0.00,2,    3.20,2,   0.077,2,   0.040,2,   0.000,2,  -999.0,9,  -999.0,9,   0.051,2,   1.8375,2,   13.89,2, -999.00,9,  -999.0,9,  -999.0,-999.000,9,-999.000, -999.00,9,  678.00,-999.0000,9,-999.0000,9,-999.0000,9,-999.0000,9,-999.0000,9,   0.0092,   0.002,-999.0000,9,    0.20
318M20040615,        P02,     187,          1,         14,         14,2,20040826,       2125,    32.6312,  -118.1547,       2049,   777.7,   5.0303,  34.4115,2,  34.4129,2,  11.1000,2,    11.7,2,   96.96,2,   41.89,2,    0.00,2,    3.23,2,   0.066,2,   0.047,2,   0.004,2,  -999.0,9,  -999.0,9,   0.034,2,   1.8776,2,   14.73,2, -999.00,9,  -999.0,9,  -999.0,-999.000,9,-999.000, -999.00,9,  777.70,-999.0000,9,-999.0000,9,-999.0000,9,-999.0000,9,-999.0000,9,   0.0094,   0.001,-999.0000,9,    0.20
318M20040615,        P02,     187,          1,         13,         13,2,20040826,       2125,    32.6312,  -118.1547,       2049,   877.7,   4.6448,  34.4384,2,  34.4393,2,  14.2000,2,    14.3,2,  104.94,2,   42.59,2,    0.00,2,    3.24,2,   0.000,4,   0.000,4,   0.000,4,  -999.0,9,  -999.0,9,-999.000,9,-999.0000,9, -999.00,9, -999.00,9,  -999.0,9,  -999.0,-999.000,9,-999.000, -999.00,9,  877.70,-999.0000,9,-999.0000,9,-999.0000,9,-999.0000,9,-999.0000,9,-999.0000,-999.000,-999.0000,9, -999.00
318M20040615,        P02,     187,          1,         12,         12,2,20040826,       2125,    32.6312,  -118.1547,       2049,   982.2,   4.3210,  34.4627,2,  34.4637,2,  17.1000,2,    17.4,2,  111.90,2,   43.08,2,    0.00,2,    3.25,2,   0.000,4,   0.000,4,   0.000,4,  -999.0,9,  -999.0,9,   0.012,2,   1.8971,2,   18.16,2, -999.00,9,  -999.0,9,  -999.0,-999.000,9,-999.000, -999.00,9,  982.20,-999.0000,9,-999.0000,9,-999.0000,9,-999.0000,9,-999.0000,9,   0.0095,   0.001,-999.0000,9,    0.20
318M20040615,        P02,     187,          1,         11,         11,2,20040826,       2125,    32.6312,  -118.1547,       2049,  1082.8,   3.7956,  34.5027,2,  34.5031,2,  24.9000,2,    25.9,2,  124.03,2,   43.40,2,    0.00,2,    3.22,2,   0.000,4,   0.000,4,   0.000,4,  -999.0,9,  -999.0,9,-999.000,9,-999.0000,9, -999.00,9, -999.00,9,  -999.0,9,  -999.0,-999.000,9,-999.000, -999.00,9, 1082.80,-999.0000,9,-999.0000,9,-999.0000,9,-999.0000,9,-999.0000,9,-999.0000,-999.000,-999.0000,9, -999.00
318M20040615,        P02,     187,          1,         10,         10,2,20040826,       2125,    32.6312,  -118.1547,       2049,  1183.2,   3.4732,  34.5279,2,  34.5274,2,  32.2000,2,    33.8,2,  131.45,2,   43.27,2,    0.00,2,    3.19,2,   0.000,4,   0.000,4,   0.000,4,  -999.0,9,  -999.0,9,   0.008,2,-999.0000,9, -999.00,9, -999.00,9,  -999.0,9,  -999.0,-999.000,9,-999.000, -999.00,9, 1183.20,-999.0000,9,-999.0000,9,-999.0000,9,-999.0000,9,-999.0000,9,-999.0000,   0.000,-999.0000,9, -999.00
318M20040615,        P02,     187,          1,          9,          9,2,20040826,       2125,    32.6312,  -118.1547,       2049,  1283.2,   3.2277,  34.5464,2,  34.5466,2,  38.5000,2,    39.1,2,  137.23,2,   42.94,2,    0.00,2,    3.16,2,-999.000,9,-999.000,9,-999.000,9,  -999.0,9,  -999.0,9,-999.000,9,-999.0000,9, -999.00,9, -999.00,9,  -999.0,9,  -999.0,-999.000,9,-999.000, -999.00,9, 1283.20,-999.0000,9,-999.0000,9,-999.0000,9,-999.0000,9,-999.0000,9,-999.0000,-999.000,-999.0000,9, -999.00
318M20040615,        P02,     187,          1,         37,         37,2,20040826,       2125,    32.6312,  -118.1547,       2049,  1383.7,   3.0737,  34.5582,2,  34.5583,2,  42.9000,2,    42.4,2,  140.94,2,   42.65,2,    0.00,2,    3.14,2,   0.000,4,   0.000,4,   0.000,4,  -999.0,9,  -999.0,9,   0.007,2,   1.9243,2,   23.04,2, -999.00,9,  -999.0,9,  -999.0,-999.000,9,-999.000, -999.00,9, 1383.70,-999.0000,9,-999.0000,9,-999.0000,9,-999.0000,9,-999.0000,9,   0.0096,   0.000,-999.0000,9,    0.20
318M20040615,        P02,     187,          1,          7,          7,2,20040826,       2125,    32.6312,  -118.1547,       2049,  1483.5,   2.8764,  34.5732,2,  34.5742,2,  48.4000,2,    48.9,2,  146.11,2,   42.20,2,    0.00,2,    3.11,2,-999.000,9,-999.000,9,-999.000,9,  -999.0,9,  -999.0,9,-999.000,9,-999.0000,9, -999.00,9, -999.00,9,  -999.0,9,  -999.0,-999.000,9,-999.000, -999.00,9, 1483.50,-999.0000,9,-999.0000,9,-999.0000,9,-999.0000,9,-999.0000,9,-999.0000,-999.000,-999.0000,9, -999.00
318M20040615,        P02,     187,          1,          6,          6,2,20040826,       2125,    32.6312,  -118.1547,       2049,  1589.8,   2.7371,  34.5840,2,  34.5848,2,  52.5000,2,    52.9,2,  149.21,2,   41.92,2,    0.00,2,    3.09,2,   0.000,4,   0.000,4,   0.000,4,  -999.0,9,  -999.0,9,   0.006,2,   1.9338,2,   23.98,2, -999.00,9,  -999.0,9,  -999.0,-999.000,9,-999.000, -999.00,9, 1589.80,-999.0000,9,-999.0000,9,-999.0000,9,-999.0000,9,-999.0000,9,   0.0097,   0.000,-999.0000,9,    0.20
318M20040615,        P02,     187,          1,          5,          5,2,20040826,       2125,    32.6312,  -118.1547,       2049,  1689.4,   2.6667,  34.5897,2,  34.5907,2,  54.7000,2,    54.9,2,  151.07,2,   41.76,2,    0.00,2,    3.08,2,   0.077,2,   0.126,2,   0.052,2,  -999.0,9,  -999.0,9,-999.000,9,-999.0000,9, -999.00,9, -999.00,9,  -999.0,9,  -999.0,-999.000,9,-999.000, -999.00,9, 1689.40,-999.0000,9,-999.0000,9,-999.0000,9,-999.0000,9,-999.0000,9,-999.0000,-999.000,-999.0000,9, -999.00
318M20040615,        P02,     187,          1,          4,          4,2,20040826,       2125,    32.6312,  -118.1547,       2049,  1794.5,   2.6377,  34.5923,2,  34.5928,2,  56.1000,2,    56.7,2,  151.68,2,   41.64,2,    0.00,2,    3.07,2,   0.067,2,   0.116,2,   0.044,2,  -999.0,9,  -999.0,9,   0.006,2,   1.9219,2,   24.36,2, -999.00,9,  -999.0,9,  -999.0,-999.000,9,-999.000, -999.00,9, 1794.50,-999.0000,9,-999.0000,9,-999.0000,9,-999.0000,9,-999.0000,9,   0.0096,   0.000,-999.0000,9,    0.20
318M20040615,        P02,     187,          1,          3,          3,2,20040826,       2125,    32.6312,  -118.1547,       2049,  1893.0,   2.6265,  34.5938,2,  34.5939,2,  56.5000,2,    56.7,2,  152.49,2,   41.74,2,    0.00,2,    3.07,2,   0.067,2,   0.132,2,   0.050,2,  -999.0,9,  -999.0,9,-999.000,9,-999.0000,9, -999.00,9, -999.00,9,  -999.0,9,  -999.0,-999.000,9,-999.000, -999.00,9, 1893.00,-999.0000,9,-999.0000,9,-999.0000,9,-999.0000,9,-999.0000,9,-999.0000,-999.000,-999.0000,9, -999.00
318M20040615,        P02,     187,          1,          2,          2,2,20040826,       2125,    32.6312,  -118.1547,       2049,  1972.1,   2.6275,  34.5944,2,  34.5959,2,  56.3000,2,    56.0,2,  153.30,2,   41.89,2,    0.00,2,    3.07,2,   0.069,2,   0.157,2,   0.060,2,  -999.0,9,  -999.0,9,-999.000,9,   1.9267,2,   24.25,2, -999.00,9,  -999.0,9,  -999.0,-999.000,9,-999.000, -999.00,9, 1972.10,-999.0000,9,-999.0000,9,-999.0000,9,-999.0000,9,-999.0000,9,   0.0096,-999.000,-999.0000,9,    0.20
318M20040615,        P02,     187,          1,          1,          1,2,20040826,       2125,    32.6312,  -118.1547,       2049,  2047.9,   2.6345,  34.5944,2,  34.5958,2,  56.1000,2,    56.2,2,  153.26,2,   41.99,2,    0.00,2,    3.07,2,   0.075,6,   0.159,6,   0.050,6,  -999.0,9,  -999.0,9,-999.000,9,-999.0000,9, -999.00,9, -999.00,9,  -999.0,9,  -999.0,-999.000,9,-999.000, -999.00,9, 2047.90,-999.0000,9,-999.0000,9,-999.0000,9,-999.0000,9,-999.0000,9,-999.0000,-999.000,-999.0000,9, -999.00