BOTTLE,20131027SIOCCHRJL
EXPOCODE,SECT_ID,STNNBR,CASTNO,SAMPNO,BTLNBR,BTLNBR_FLAG_W,DATE,TIME,LATITUDE,LONGITUDE,DEPTH,CTDPRS,CTDTMP,CTDSAL,CTDSAL_FLAG_W,SALNTY,SALNTY_FLAG_W,CTDOXY,CTDOXY_FLAG_W,OXYGEN,OXYGEN_FLAG_W,SILCAT,SILCAT_FLAG_W,NITRAT,NITRAT_FLAG_W,NITRIT,NITRIT_FLAG_W,PHSPHT,PHSPHT_FLAG_W,CFC-11,CFC-11_FLAG_W,CFC-12,CFC-12_FLAG_W,CFC113,CFC113_FLAG_W,TCARBN,TCARBN_FLAG_W,ALKALI,ALKALI_FLAG_W,TRITUM,TRITUM_FLAG_W,HELIUM,HELIUM_FLAG_W,DELHE3,DELHE3_FLAG_W,DELC13,DELC13_FLAG_W,DELC14,DELC14_FLAG_W,C14ERR,NEON,NEON_FLAG_W,NEONER,DOC,DOC_FLAG_W,CTDRAW,CDOM380,CDOM380_FLAG_W,CDOM325,CDOM325_FLAG_W,CDOMSL,CDOMSL_FLAG_W,CDOM340,CDOM340_FLAG_W,CDOMSN,CDOMSN_FLAG_W,HELIER,TRITER,CDOM412,CDOM412_FLAG_W,DELHER
,,,,,,,,,,,METERS,DBAR,ITS-90,PSS-78,,PSS-78,,UMOL/KG,,UMOL/KG,,UMOL/KG,,UMOL/KG,,UMOL/KG,,UMOL/KG,,PMOL/KG,,PMOL/KG,,PMOL/KG,,UMOL/KG,,UMOL/KG,,TU,,NMOL/KG,,PERCNT,,/MILLE,,/MILLE,,/MILLE,NMOL/KG,,NMOL/KG,UMOL/KG,,DBAR,1/M,,1/M,,1/NM,,1/M,,1/NM,,NMOL/KG,TU,1/M,,PERCNT
318M20040615,        P02,     129,          1,         36,         36,2,20040810,       1705,    30.0015,   -152.653,       5307,     7.0,  25.3421,  35.4235,2,  35.4184,2, 211.5000,2,   211.6,2,    1.30,2,    0.11,2,    0.00,2,    0.02,2,   1.803,6,   1.127,6,   0.142,6,  2008.8,6,  2329.7,6,-999.000,9,-999.0000,9, -999.00,9,    1.25,2,    86.8,2,     4.8,-999.000,9,-999.000,   71.30,2,    7.00,   0.0060,2,   0.0530,2,   0.0330,2,   0.0320,2,   0.0330,2,-999.0000,-999.000,   0.0010,3, -999.00
318M20040615,        P02,     129,          1,         35,         35,2,20040810,       1705,    30.0015,   -152.653,       5307,    41.5,  22.1103,  35.1655,2,  35.1601,2, 236.2000,2,   236.5,2,    2.08,2,    0.11,2,    0.00,2,    0.02,2,   2.216,2,   1.340,2,   0.156,2,  2012.6,2,  2313.4,2,-999.000,9,-999.0000,9, -999.00,9,    1.23,2,    85.9,2,     4.5,-999.000,9,-999.000,   67.90,2,   41.50,   0.0360,2,   0.1090,2,   0.0190,2,   0.0750,2,   0.0210,2,-999.0000,-999.000,   0.0250,2, -999.00
318M20040615,        P02,     129,          1,         34,         34,2,20040810,       1705,    30.0015,   -152.653,       5307,    85.8,  17.8804,  34.7368,2,  34.7418,2, 242.8000,2,   243.3,2,    2.87,2,    0.16,2,    0.00,2,    0.07,2,-999.000,9,-999.000,9,-999.000,9,  2012.7,2,  2287.0,2,-999.000,9,-999.0000,9, -999.00,9,    1.16,2,    81.6,2,     5.6,-999.000,9,-999.000,   62.10,2,   85.80,   0.0310,2,   0.1150,2,   0.0240,2,   0.0780,2,   0.0250,2,-999.0000,-999.000,   0.0170,2, -999.00
318M20040615,        P02,     129,          1,         33,         33,2,20040810,       1705,    30.0015,   -152.653,       5307,   135.9,  15.5952,  34.5424,2,  34.5410,2, 225.5000,2,   224.0,2,    4.43,2,    3.16,2,    0.13,2,    0.30,2,   2.787,2,   1.613,2,   0.132,2,  2037.0,2,  2272.3,2,-999.000,9,-999.0000,9, -999.00,9, -999.00,9,  -999.0,9,  -999.0,-999.000,9,-999.000,   53.70,2,  135.90,   0.0490,2,   0.1290,2,   0.0150,2,   0.0940,2,   0.0160,2,-999.0000,-999.000,   0.0350,2, -999.00
318M20040615,        P02,     129,          1,         32,         32,2,20040810,       1705,    30.0015,   -152.653,       5307,   185.9,  13.7002,  34.3661,2,  34.3658,2, 229.5000,2,   231.4,2,    6.40,2,    5.75,2,    0.01,2,    0.46,2,-999.000,9,-999.000,9,-999.000,9,  2048.5,2,  2262.2,2,-999.000,9,-999.0000,9, -999.00,9,    0.80,2,    69.1,2,     4.4,-999.000,9,-999.000,   51.10,2,  185.90,   0.0320,2,   0.1010,2,   0.0210,2,   0.0730,2,   0.0220,2,-999.0000,-999.000,   0.0210,2, -999.00
318M20040615,        P02,     129,          1,         31,         31,2,20040810,       1705,    30.0015,   -152.653,       5307,   235.8,  12.7221,  34.3115,2,  34.3121,2, 226.3000,2,   228.7,2,    8.55,2,    8.24,2,    0.01,2,    0.62,2,   3.143,2,   1.768,2,   0.119,2,  2060.4,2,  2262.3,2,-999.000,9,-999.0000,9, -999.00,9, -999.00,9,  -999.0,9,  -999.0,-999.000,9,-999.000,   48.40,2,  235.80,   0.0650,2,   0.1550,2,   0.0120,2,   0.1160,2,   0.0140,2,-999.0000,-999.000,   0.0490,2, -999.00
318M20040615,        P02,     129,          1,         30,         30,2,20040810,       1705,    30.0015,   -152.653,       5307,   285.5,  11.9456,  34.2650,2,  34.2650,2, 220.3000,2,   221.7,2,   11.30,2,   10.83,2,    0.00,2,    0.78,2,-999.000,9,-999.000,9,-999.000,9,  2075.2,2,  2264.1,2,-999.000,9,-999.0000,9, -999.00,9,    0.58,2,    73.0,2,     4.5,-999.000,9,-999.000,   45.20,2,  285.50,   0.0340,2,   0.1030,2,   0.0190,2,   0.0720,2,   0.0210,2,-999.0000,-999.000,   0.0240,2, -999.00
318M20040615,        P02,     129,          1,         29,         29,2,20040810,       1705,    30.0015,   -152.653,       5307,   335.4,  11.0672,  34.2167,2,  34.2187,2, 221.6000,2,   221.8,2,   14.26,2,   12.66,2,    0.01,2,    0.90,2,   3.286,2,   1.796,2,   0.090,2,  2087.9,2,  2264.8,2,-999.000,9,-999.0000,9, -999.00,9, -999.00,9,  -999.0,9,  -999.0,-999.000,9,-999.000,   44.90,2,  335.40,   0.0700,2,   0.1610,2,   0.0120,2,   0.1210,2,   0.0130,2,-999.0000,-999.000,   0.0520,2, -999.00
318M20040615,        P02,     129,          1,         28,         28,2,20040810,       1705,    30.0015,   -152.653,       5307,   390.2,   9.9916,  34.1618,2,  34.1617,2, 212.6000,2,   207.8,2,   19.97,2,   16.21,2,    0.00,2,    1.14,2,   3.245,2,   1.741,2,   0.092,2,  2111.5,2,  2266.8,2,-999.000,9,-999.0000,9, -999.00,9,    0.40,2,    35.2,2,     4.0,-999.000,9,-999.000, -999.00,9,  390.20,   0.0420,2,   0.1200,2,   0.0170,2,   0.0840,2,   0.0190,2,-999.0000,-999.000,   0.0290,2, -999.00
318M20040615,        P02,     129,          1,         27,         27,2,20040810,       1705,    30.0015,   -152.653,       5307,   440.1,   9.1416,  34.1168,2,  34.1172,2, 196.3000,2,   192.7,2,   25.89,2,   19.40,2,    0.00,2,    1.34,2,   3.136,2,   1.656,2,   0.107,2,  2131.5,2,  2270.6,2,-999.000,9,-999.0000,9, -999.00,9, -999.00,9,  -999.0,9,  -999.0,-999.000,9,-999.000, -999.00,9,  440.10,-999.0000,9,-999.0000,9,-999.0000,9,-999.0000,9,-999.0000,9,-999.0000,-999.000,-999.0000,9, -999.00
318M20040615,        P02,     129,          1,         26,         26,2,20040810,       1705,    30.0015,   -152.653,       5307,   489.9,   7.9990,  34.0560,2,  34.0570,2, 174.7000,2,   168.3,2,   35.79,2,   24.10,2,    0.00,2,    1.66,2,   2.874,6,   1.478,6,   0.119,6,  2164.5,2,  2274.0,2,-999.000,9,-999.0000,9, -999.00,9,    0.23,2,     9.2,2,     3.8,-999.000,9,-999.000,   44.30,2,  489.90,   0.1080,2,   0.2370,2,   0.0110,2,   0.1800,2,   0.0120,2,-999.0000,-999.000,   0.0830,2, -999.00
318M20040615,        P02,     129,          1,         25,         25,2,20040810,       1705,    30.0015,   -152.653,       5307,   574.6,   6.4476,  33.9995,2,  33.9996,2, 135.9000,2,   131.4,2,   53.45,2,   30.65,2,    0.00,2,    2.15,2,   2.234,2,   1.106,2,   0.092,2,  2213.1,2,  2286.0,2,-999.000,9,-999.0000,9, -999.00,9,    0.04,2,   -43.5,2,     4.3,-999.000,9,-999.000, -999.00,9,  574.60,-999.0000,9,-999.0000,9,-999.0000,9,-999.0000,9,-999.0000,9,-999.0000,-999.000,-999.0000,9, -999.00
318M20040615,        P02,     129,          1,         24,         24,2,20040810,       1705,    30.0015,   -152.653,       5307,   674.7,   5.0303,  34.0262,2,  34.0290,2,  90.5000,2,    82.2,2,   77.80,2,   37.38,2,    0.00,2,    2.65,2,   1.073,2,   0.536,2,   0.028,2,  2272.0,2,  2304.9,2,-999.000,9,-999.0000,9, -999.00,9,   -0.21,2,   -93.5,2,     3.6,-999.000,9,-999.000,   40.80,2,  674.70,   0.0950,2,   0.2230,2,   0.0130,2,   0.1660,2,   0.0130,2,-999.0000,-999.000,   0.0720,2, -999.00
318M20040615,        P02,     129,          1,         23,         23,2,20040810,       1705,    30.0015,   -152.653,       5307,   779.1,   4.3308,  34.1251,2,  34.1272,2,  36.8000,2,    36.3,2,   98.48,2,   42.15,2,    0.00,2,    2.98,2,   0.244,2,   0.126,2,   0.003,2,  2321.6,2,  2326.9,2,-999.000,9,-999.0000,9, -999.00,9,   -0.41,2,  -138.0,2,     4.5,-999.000,9,-999.000,   40.70,2,  779.10,-999.0000,9,-999.0000,9,-999.0000,9,-999.0000,9,-999.0000,9,-999.0000,-999.000,-999.0000,9, -999.00
318M20040615,        P02,     129,          1,         22,         22,2,20040810,       1705,    30.0015,   -152.653,       5307,   877.8,   3.9299,  34.2387,2,  34.2387,2,  15.5000,2,    15.0,2,  114.01,2,   44.04,2,    0.00,2,    3.16,2,   0.041,2,   0.021,2,   0.000,2,  2350.7,2,  2346.6,2,-999.000,9,-999.0000,9, -999.00,9,   -0.51,2,  -171.8,2,     3.6,-999.000,9,-999.000,   38.00,2,  877.80,   0.0880,2,   0.2100,2,   0.0130,2,   0.1540,2,   0.0140,2,-999.0000,-999.000,   0.0670,2, -999.00
318M20040615,        P02,     129,          1,         21,         21,2,20040810,       1705,    30.0015,   -152.653,       5307,   976.7,   3.7429,  34.3241,2,  34.3248,2,   9.7000,2,    10.1,2,  122.71,2,   44.41,2,    0.00,2,    3.22,2,   0.014,2,   0.010,2,   0.000,2,  2363.8,2,  2359.4,2,-999.000,9,-999.0000,9, -999.00,9,   -0.51,2,  -185.8,2,     3.9,-999.000,9,-999.000, -999.00,9,  976.70,-999.0000,9,-999.0000,9,-999.0000,9,-999.0000,9,-999.0000,9,-999.0000,-999.000,-999.0000,9, -999.00
318M20040615,        P02,     129,          1,         20,         20,2,20040810,       1705,    30.0015,   -152.653,       5307,  1077.0,   3.4553,  34.4007,2,  34.4018,2,  12.2000,2,    12.8,2,  131.42,2,   44.46,2,    0.00,2,    3.22,2,   0.005,2,   0.004,2,   0.000,2,  2374.3,6,  2373.6,2,-999.000,9,-999.0000,9, -999.00,9,   -0.48,2,  -202.9,2,     3.8,-999.000,9,-999.000,   38.30,2, 1077.00,   0.1010,2,   0.2250,2,   0.0120,2,   0.1680,2,   0.0120,2,-999.0000,-999.000,   0.0790,2, -999.00
318M20040615,        P02,     129,          1,         19,         19,2,20040810,       1705,    30.0015,   -152.653,       5307,  1176.9,   3.2421,  34.4574,2,  34.4583,2,  19.1000,2,    20.0,2,  136.89,2,   44.29,2,    0.00,2,    3.19,2,   0.004,2,   0.003,2,   0.000,2,  2376.1,2,  2384.8,2,-999.000,9,-999.0000,9, -999.00,9,   -0.44,2,  -218.6,2,     3.3,-999.000,9,-999.000, -999.00,9, 1176.90,-999.0000,9,-999.0000,9,-999.0000,9,-999.0000,9,-999.0000,9,-999.0000,-999.000,-999.0000,9, -999.00
318M20040615,        P02,     129,          1,         18,         18,2,20040810,       1705,    30.0015,   -152.653,       5307,  1278.6,   3.0265,  34.4969,2,  34.4981,2,  30.3000,2,    31.0,2,  141.15,2,   43.90,2,    0.00,2,    3.14,2,-999.000,9,-999.000,9,-999.000,9,  2376.4,2,  2397.1,6,-999.000,9,-999.0000,9, -999.00,9, -999.00,5,  -999.0,5,  -999.0,-999.000,9,-999.000,   37.90,2, 1278.60,-999.0000,9,-999.0000,9,-999.0000,9,-999.0000,9,-999.0000,9,-999.0000,-999.000,-999.0000,9, -999.00
318M20040615,        P02,     129,          1,         17,         17,2,20040810,       1705,    30.0015,   -152.653,       5307,  1385.8,   2.8529,  34.5254,2,  34.5260,2,  39.4000,2,    39.1,2,  145.01,2,   43.52,2,    0.00,2,    3.11,2,   0.004,2,   0.000,2,   0.000,2,  2376.6,2,  2398.5,6,-999.000,9,-999.0000,9, -999.00,9, -999.00,5,  -999.0,5,  -999.0,-999.000,9,-999.000, -999.00,9, 1385.80,-999.0000,9,-999.0000,9,-999.0000,9,-999.0000,9,-999.0000,9,-999.0000,-999.000,-999.0000,9, -999.00
318M20040615,        P02,     129,          1,         16,         16,2,20040810,       1705,    30.0015,   -152.653,       5307,  1486.3,   2.6861,  34.5471,2,  34.5488,2,  49.1000,2,    48.8,2,  148.07,2,   42.87,2,    0.00,2,    3.05,2,-999.000,9,-999.000,9,-999.000,9,  2373.8,2,  2405.4,2,-999.000,9,-999.0000,9, -999.00,9,   -0.33,2,  -234.9,2,     3.5,-999.000,9,-999.000,   36.60,2, 1486.30,-999.0000,9,-999.0000,9,-999.0000,9,-999.0000,9,-999.0000,9,-999.0000,-999.000,-999.0000,9, -999.00
318M20040615,        P02,     129,          1,         15,         15,2,20040810,       1705,    30.0015,   -152.653,       5307,  1585.4,   2.5274,  34.5635,2,  34.5661,2,  56.1000,2,    55.8,2,  151.75,2,   42.38,2,    0.00,2,    3.02,2,   0.006,2,   0.000,2,   0.000,2,  2373.9,2,  2406.6,2,-999.000,9,-999.0000,9, -999.00,9,   -0.26,2,  -235.9,2,     3.2,-999.000,9,-999.000, -999.00,9, 1585.40,-999.0000,9,-999.0000,9,-999.0000,9,-999.0000,9,-999.0000,9,-999.0000,-999.000,-999.0000,9, -999.00
318M20040615,        P02,     129,          1,         14,         14,2,20040810,       1705,    30.0015,   -152.653,       5307,  1686.7,   2.3793,  34.5789,2,  34.5800,2,  63.4000,2,    62.3,2,  155.02,2,   41.94,2,    0.00,2,    2.98,2,-999.000,9,-999.000,9,-999.000,9,  2368.8,3,  2411.2,2,-999.000,9,-999.0000,9, -999.00,9,   -0.38,3,  -244.5,2,     4.0,-999.000,9,-999.000, -999.00,9, 1686.70,-999.0000,9,-999.0000,9,-999.0000,9,-999.0000,9,-999.0000,9,-999.0000,-999.000,-999.0000,9, -999.00
318M20040615,        P02,     129,          1,         13,         13,2,20040810,       1705,    30.0015,   -152.653,       5307,  1792.5,   2.2265,  34.5935,2,  34.5944,2,  69.3000,2,    68.7,2,  158.89,2,   41.51,2,    0.00,2,    2.95,2,   0.005,2,   0.001,2,   0.000,2,  2372.5,2,  2415.7,2,-999.000,9,-999.0000,9, -999.00,9,   -0.15,2,  -250.9,2,     3.3,-999.000,9,-999.000, -999.00,9, 1792.50,-999.0000,9,-999.0000,9,-999.0000,9,-999.0000,9,-999.0000,9,-999.0000,-999.000,-999.0000,9, -999.00
318M20040615,        P02,     129,          1,         12,         12,2,20040810,       1705,    30.0015,   -152.653,       5307,  1993.9,   2.0063,  34.6149,2,  34.6160,2,  78.2000,2,    78.6,2,  164.42,2,   41.07,2,    0.00,2,    2.91,2,-999.000,9,-999.000,9,-999.000,9,  2371.7,2,  2420.3,2,-999.000,9,-999.0000,9, -999.00,9,   -0.11,2,  -250.4,2,     3.8,-999.000,9,-999.000,   36.40,2, 1993.90,-999.0000,9,-999.0000,9,-999.0000,9,-999.0000,9,-999.0000,9,-999.0000,-999.000,-999.0000,9, -999.00
318M20040615,        P02,     129,          1,         11,         11,2,20040810,       1705,    30.0015,   -152.653,       5307,  2195.7,   1.8680,  34.6294,2,  34.6303,2,  87.6000,2,    87.2,2,  167.88,2,   40.85,2,    0.00,2,    2.86,2,   0.004,2,   0.001,2,   0.000,2,  2370.6,2,  2424.4,2,-999.000,9,-999.0000,9, -999.00,9,   -0.09,2,  -232.2,2,     3.8,-999.000,9,-999.000,   38.00,2, 2195.70,   0.1520,2,   0.3060,2,   0.0100,2,   0.2380,2,   0.0100,2,-999.0000,-999.000,   0.1200,2, -999.00
318M20040615,        P02,     129,          1,         10,         10,2,20040810,       1705,    30.0015,   -152.653,       5307,  2451.8,   1.7177,  34.6453,2,  34.6462,2,  98.0000,2,    98.5,2,  170.12,2,   40.25,2,    0.00,2,    2.79,2,-999.000,9,-999.000,9,-999.000,9,  2366.3,2,  2427.0,2,-999.000,9,-999.0000,9, -999.00,9,   -0.02,2,  -236.7,2,     4.4,-999.000,9,-999.000, -999.00,9, 2451.80,-999.0000,9,-999.0000,9,-999.0000,9,-999.0000,9,-999.0000,9,-999.0000,-999.000,-999.0000,9, -999.00
318M20040615,        P02,     129,          1,          9,          9,2,20040810,       1705,    30.0015,   -152.653,       5307,  2703.2,   1.6273,  34.6561,2,  34.6568,2, 108.3000,2,   109.4,2,  169.70,2,   39.50,2,    0.00,2,    2.74,2,   0.009,2,   0.003,2,   0.000,2,  2361.2,2,  2428.3,6,-999.000,9,-999.0000,9, -999.00,9,    0.05,2,  -248.0,2,     3.7,-999.000,9,-999.000, -999.00,9, 2703.20,-999.0000,9,-999.0000,9,-999.0000,9,-999.0000,9,-999.0000,9,-999.0000,-999.000,-999.0000,9, -999.00
318M20040615,        P02,     129,          1,          8,          8,2,20040810,       1705,    30.0015,   -152.653,       5307,  2961.9,   1.5562,  34.6658,2,  34.6671,2, 119.0000,2,   120.2,2,  166.60,2,   38.68,2,    0.00,2,    2.68,2,-999.000,9,-999.000,9,-999.000,9,  2353.6,2,  2429.1,2,-999.000,9,-999.0000,9, -999.00,9,    0.04,6,  -232.3,6,     2.3,-999.000,9,-999.000,   38.10,2, 2961.90,   0.0880,2,   0.1990,2,   0.0120,2,   0.1480,2,   0.0130,2,-999.0000,-999.000,   0.0660,2, -999.00
318M20040615,        P02,     129,          1,          7,          7,2,20040810,       1705,    30.0015,   -152.653,       5307,  3297.2,   1.5085,  34.6741,2,  34.6755,2, 129.5000,2,   129.6,2,  164.75,2,   37.99,2,    0.00,2,    2.62,2,   0.007,2,   0.004,2,   0.000,2,  2346.6,2,  2428.8,2,-999.000,9,-999.0000,9, -999.00,9,    0.13,2,  -236.6,2,     3.3,-999.000,9,-999.000,   36.90,2, 3297.20,-999.0000,9,-999.0000,9,-999.0000,9,-999.0000,9,-999.0000,9,-999.0000,-999.000,-999.0000,9, -999.00
318M20040615,        P02,     129,          1,          6,          6,2,20040810,       1705,    30.0015,   -152.653,       5307,  3707.4,   1.4739,  34.6817,2,  34.6832,2, 139.3000,2,   140.3,2,  161.07,2,   37.19,2,    0.00,2,    2.56,2,   0.005,2,   0.003,2,   0.000,2,  2338.7,2,  2429.2,2,-999.000,9,-999.0000,9, -999.00,9,    0.22,2,  -226.9,2,     3.9,-999.000,9,-999.000,   36.40,2, 3707.40,-999.0000,9,-999.0000,9,-999.0000,9,-999.0000,9,-999.0000,9,-999.0000,-999.000,-999.0000,9, -999.00
318M20040615,        P02,     129,          1,          5,          5,2,20040810,       1705,    30.0015,   -152.653,       5307,  4118.6,   1.4755,  34.6859,2,  34.6873,2, 147.1000,2,   147.1,2,  157.59,2,   36.65,2,    0.00,2,    2.53,2,   0.006,2,   0.007,2,   0.000,2,  2334.3,2,  2429.4,6,-999.000,9,-999.0000,9, -999.00,9,    0.24,2,  -211.1,2,     4.3,-999.000,9,-999.000,   36.50,2, 4118.60,-999.0000,9,-999.0000,9,-999.0000,9,-999.0000,9,-999.0000,9,-999.0000,-999.000,-999.0000,9, -999.00
318M20040615,        P02,     129,          1,          4,          4,2,20040810,       1705,    30.0015,   -152.653,       5307,  4529.4,   1.4912,  34.6889,2,  34.6901,2, 152.5000,2,   152.9,2,  153.70,2,   36.12,2,    0.00,2,    2.49,2,   0.009,2,   0.007,2,   0.000,2,  2329.0,2,  2425.8,2,-999.000,9,-999.0000,9, -999.00,9,    0.27,2,  -209.2,2,     4.2,-999.000,9,-999.000, -999.00,9, 4529.40,-999.0000,9,-999.0000,9,-999.0000,9,-999.0000,9,-999.0000,9,-999.0000,-999.000,-999.0000,9, -999.00
318M20040615,        P02,     129,          1,          3,          3,2,20040810,       1705,    30.0015,   -152.653,       5307,  4939.8,   1.5194,  34.6907,2,  34.6918,2, 156.3000,2,   157.0,2,  149.82,2,   35.84,2,    0.00,2,    2.48,2,   0.008,2,   0.008,2,   0.000,2,  2325.3,2,  2422.3,2,-999.000,9,-999.0000,9, -999.00,9,    0.32,2,  -200.9,2,     3.5,-999.000,9,-999.000,   36.50,2, 4939.80,-999.0000,9,-999.0000,9,-999.0000,9,-999.0000,9,-999.0000,9,-999.0000,-999.000,-999.0000,9, -999.00
318M20040615,        P02,     129,          1,          2,          2,2,20040810,       1705,    30.0015,   -152.653,       5307,  5216.1,   1.5391,  34.6916,2,  34.6930,2, 158.9000,2,   159.0,2,  147.57,2,   35.74,2,    0.00,2,    2.47,2,   0.008,2,   0.007,2,   0.000,2,  2322.1,2,  2421.4,2,-999.000,9,-999.0000,9, -999.00,9,    0.34,2,  -189.8,2,     3.7,-999.000,9,-999.000,   37.40,2, 5216.10,-999.0000,9,-999.0000,9,-999.0000,9,-999.0000,9,-999.0000,9,-999.0000,-999.000,-999.0000,9, -999.00
318M20040615,        P02,     129,          1,          1,          1,2,20040810,       1705,    30.0015,   -152.653,       5307,  5421.3,   1.5581,  34.6919,2,  34.6936,2, 160.3000,2,   161.0,2,  146.54,2,   35.83,2,    0.00,2,    2.47,2,   0.009,2,   0.007,2,   0.000,2,  2319.9,6,  2419.3,6,-999.000,9,-999.0000,9, -999.00,9,    0.36,2,  -191.0,2,     4.5,-999.000,9,-999.000,   41.40,3, 5421.30,-999.0000,9,-999.0000,9,-999.0000,9,-999.0000,9,-999.0000,9,-999.0000,-999.000,-999.0000,9, -999.00