BOTTLE,20131027SIOCCHRJL
EXPOCODE,SECT_ID,STNNBR,CASTNO,SAMPNO,BTLNBR,BTLNBR_FLAG_W,DATE,TIME,LATITUDE,LONGITUDE,DEPTH,CTDPRS,CTDTMP,CTDSAL,CTDSAL_FLAG_W,SALNTY,SALNTY_FLAG_W,CTDOXY,CTDOXY_FLAG_W,OXYGEN,OXYGEN_FLAG_W,SILCAT,SILCAT_FLAG_W,NITRAT,NITRAT_FLAG_W,NITRIT,NITRIT_FLAG_W,PHSPHT,PHSPHT_FLAG_W,CFC-11,CFC-11_FLAG_W,CFC-12,CFC-12_FLAG_W,CFC113,CFC113_FLAG_W,TCARBN,TCARBN_FLAG_W,ALKALI,ALKALI_FLAG_W,TRITUM,TRITUM_FLAG_W,HELIUM,HELIUM_FLAG_W,DELHE3,DELHE3_FLAG_W,DELC13,DELC13_FLAG_W,DELC14,DELC14_FLAG_W,C14ERR,NEON,NEON_FLAG_W,NEONER,DOC,DOC_FLAG_W,CTDRAW,CDOM380,CDOM380_FLAG_W,CDOM325,CDOM325_FLAG_W,CDOMSL,CDOMSL_FLAG_W,CDOM340,CDOM340_FLAG_W,CDOMSN,CDOMSN_FLAG_W,HELIER,TRITER,CDOM412,CDOM412_FLAG_W,DELHER
,,,,,,,,,,,METERS,DBAR,ITS-90,PSS-78,,PSS-78,,UMOL/KG,,UMOL/KG,,UMOL/KG,,UMOL/KG,,UMOL/KG,,UMOL/KG,,PMOL/KG,,PMOL/KG,,PMOL/KG,,UMOL/KG,,UMOL/KG,,TU,,NMOL/KG,,PERCNT,,/MILLE,,/MILLE,,/MILLE,NMOL/KG,,NMOL/KG,UMOL/KG,,DBAR,1/M,,1/M,,1/NM,,1/M,,1/NM,,NMOL/KG,TU,1/M,,PERCNT
318M20040615,        P02,      92,          1,         36,         36,2,20040717,       2257,    30.0043,  -175.5242,       5206,     9.9,  25.5077,  34.7456,2,  34.7471,2, 210.8000,2,   211.4,2,    2.23,2,    0.17,2,    0.00,2,    0.04,2,   1.843,2,   1.166,2,   0.138,2,  1993.1,6,  2281.2,6,-999.000,9,-999.0000,9, -999.00,9, -999.00,9,  -999.0,9,  -999.0,-999.000,9,-999.000,   67.10,2,    9.90,   0.0080,2,   0.0540,2,   0.0310,2,   0.0340,2,   0.0310,2,-999.0000,-999.000,   0.0040,2, -999.00
318M20040615,        P02,      92,          1,         35,         35,2,20040717,       2257,    30.0043,  -175.5242,       5206,    36.5,  21.4058,  34.8586,2,  34.8587,2, 234.7000,2,   236.2,2,    2.24,2,    0.11,2,    0.00,2,    0.04,2,   2.230,2,   1.367,2,   0.155,2,  2000.9,2,  2289.0,2,-999.000,9,-999.0000,9, -999.00,9, -999.00,9,  -999.0,9,  -999.0,-999.000,9,-999.000,   64.20,2,   36.50,   0.0130,2,   0.0650,2,   0.0310,2,   0.0410,2,   0.0310,2,-999.0000,-999.000,   0.0050,2, -999.00
318M20040615,        P02,      92,          1,         34,         34,2,20040717,       2257,    30.0043,  -175.5242,       5206,    71.4,  17.9351,  34.7500,2,  34.7508,2, 251.4000,2,   252.9,2,    2.44,2,    0.11,2,    0.00,2,    0.06,2,   2.526,2,   1.506,2,   0.172,2,  1999.5,2,  2281.6,2,-999.000,9,-999.0000,9, -999.00,9, -999.00,9,  -999.0,9,  -999.0,-999.000,9,-999.000,   61.20,2,   71.40,-999.0000,9,-999.0000,9,-999.0000,9,-999.0000,9,-999.0000,9,-999.0000,-999.000,-999.0000,9, -999.00
318M20040615,        P02,      92,          1,         33,         33,2,20040717,       2257,    30.0043,  -175.5242,       5206,   120.8,  16.0988,  34.6710,2,  34.6741,2, 226.0000,2,   229.9,2,    4.09,2,    3.53,2,    0.03,2,    0.27,2,   2.621,2,   1.575,2,   0.169,2,  2027.1,2,  2278.1,2,-999.000,9,-999.0000,9, -999.00,9, -999.00,9,  -999.0,9,  -999.0,-999.000,9,-999.000,   60.30,2,  120.80,   0.0190,2,   0.0790,2,   0.0260,2,   0.0530,2,   0.0270,2,-999.0000,-999.000,   0.0100,2, -999.00
318M20040615,        P02,      92,          1,         32,         32,2,20040717,       2257,    30.0043,  -175.5242,       5206,   169.7,  15.5651,  34.6285,2,  34.6288,2, 227.9000,2,   231.0,2,    5.12,2,    4.44,2,    0.01,2,    0.33,2,   2.683,2,   1.604,2,   0.173,2,  2030.4,2,  2276.4,2,-999.000,9,-999.0000,9, -999.00,9, -999.00,9,  -999.0,9,  -999.0,-999.000,9,-999.000,   58.50,2,  169.70,   0.0300,2,   0.0920,2,   0.0210,2,   0.0650,2,   0.0220,2,-999.0000,-999.000,   0.0210,2, -999.00
318M20040615,        P02,      92,          1,         31,         31,2,20040717,       2257,    30.0043,  -175.5242,       5206,   219.3,  14.5232,  34.5500,2,  34.5509,2, 215.0000,2,   215.7,2,    8.01,2,    7.68,2,    0.01,2,    0.54,2,   2.754,2,   1.598,2,   0.092,2,  2053.7,2,  2272.6,2,-999.000,9,-999.0000,9, -999.00,9, -999.00,9,  -999.0,9,  -999.0,-999.000,9,-999.000,   55.20,2,  219.30,-999.0000,9,-999.0000,9,-999.0000,9,-999.0000,9,-999.0000,9,-999.0000,-999.000,-999.0000,9, -999.00
318M20040615,        P02,      92,          1,         30,         30,2,20040717,       2257,    30.0043,  -175.5242,       5206,   269.9,  13.5272,  34.4760,2,  34.4759,2, 217.2000,2,   219.7,2,   10.07,2,    8.98,2,    0.00,2,    0.64,2,   2.842,2,   1.628,2,   0.094,2,  2063.2,2,  2270.9,2,-999.000,9,-999.0000,9, -999.00,9, -999.00,9,  -999.0,9,  -999.0,-999.000,9,-999.000,   54.10,2,  269.90,-999.0000,9,-999.0000,9,-999.0000,9,-999.0000,9,-999.0000,9,-999.0000,-999.000,-999.0000,9, -999.00
318M20040615,        P02,      92,          1,         29,         29,2,20040717,       2257,    30.0043,  -175.5242,       5206,   320.4,  12.6712,  34.4068,2,  34.4093,2, 218.0000,2,   218.8,2,   11.94,2,   10.37,2,    0.00,2,    0.73,2,   2.924,2,   1.682,2,   0.097,2,  2072.4,2,  2268.7,2,-999.000,9,-999.0000,9, -999.00,9, -999.00,9,  -999.0,9,  -999.0,-999.000,9,-999.000,   53.40,2,  320.40,   0.0470,2,   0.1280,2,   0.0150,2,   0.0920,2,   0.0170,2,-999.0000,-999.000,   0.0340,2, -999.00
318M20040615,        P02,      92,          1,         28,         28,2,20040717,       2257,    30.0043,  -175.5242,       5206,   370.2,  11.5997,  34.3170,2,  34.3171,2, 217.0000,2,   217.0,2,   15.05,2,   12.42,2,    0.00,2,    0.88,2,   3.004,2,   1.694,2,   0.100,2,  2086.4,2,  2267.9,2,-999.000,9,-999.0000,9, -999.00,9, -999.00,9,  -999.0,9,  -999.0,-999.000,9,-999.000,   52.30,2,  370.20,   0.0420,2,   0.1230,2,   0.0170,2,   0.0860,2,   0.0190,2,-999.0000,-999.000,   0.0290,2, -999.00
318M20040615,        P02,      92,          1,         27,         27,2,20040717,       2257,    30.0043,  -175.5242,       5206,   419.9,  10.6786,  34.2452,2,  34.2462,2, 215.6000,2,   215.8,2,   18.17,2,   14.17,2,    0.00,2,    1.02,2,   3.086,2,   1.722,2,   0.119,2,  2100.8,2,  2268.6,2,-999.000,9,-999.0000,9, -999.00,9, -999.00,9,  -999.0,9,  -999.0,-999.000,9,-999.000,   50.80,2,  419.90,-999.0000,9,-999.0000,9,-999.0000,9,-999.0000,9,-999.0000,9,-999.0000,-999.000,-999.0000,9, -999.00
318M20040615,        P02,      92,          1,         26,         26,2,20040717,       2257,    30.0043,  -175.5242,       5206,   470.1,   9.4851,  34.1517,2,  34.1527,2, 204.6000,2,   203.6,2,   24.44,2,   17.48,2,    0.00,2,    1.24,2,   3.037,2,   1.660,2,   0.127,2,  2122.4,2,  2269.1,2,-999.000,9,-999.0000,9, -999.00,9, -999.00,9,  -999.0,9,  -999.0,-999.000,9,-999.000,   49.50,2,  470.10,   0.0670,2,   0.1710,2,   0.0140,2,   0.1250,2,   0.0150,2,-999.0000,-999.000,   0.0480,2, -999.00
318M20040615,        P02,      92,          1,         25,         25,2,20040717,       2257,    30.0043,  -175.5242,       5206,   539.4,   7.8265,  34.0512,2,  34.0530,2, 183.0000,2,   180.0,2,   37.27,2,   22.67,2,    0.00,2,    1.62,2,   2.804,2,   1.476,2,   0.124,2,  2161.1,2,  2274.0,2,-999.000,9,-999.0000,9, -999.00,9, -999.00,9,  -999.0,9,  -999.0,-999.000,9,-999.000,   47.30,2,  539.40,-999.0000,9,-999.0000,9,-999.0000,9,-999.0000,9,-999.0000,9,-999.0000,-999.000,-999.0000,9, -999.00
318M20040615,        P02,      92,          1,         24,         24,2,20040717,       2257,    30.0043,  -175.5242,       5206,   638.5,   6.0314,  34.0151,2,  34.0160,2, 133.7000,2,   131.5,2,   60.02,2,   30.36,2,    0.00,2,    2.19,2,   2.086,2,   1.065,2,   0.093,2,  2222.5,2,  2289.5,2,-999.000,9,-999.0000,9, -999.00,9, -999.00,9,  -999.0,9,  -999.0,-999.000,9,-999.000,   46.50,2,  638.50,   0.0600,2,   0.1700,2,   0.0160,2,   0.1200,2,   0.0180,2,-999.0000,-999.000,   0.0410,2, -999.00
318M20040615,        P02,      92,          1,         23,         23,2,20040717,       2257,    30.0043,  -175.5242,       5206,   738.4,   4.8866,  34.0695,2,  34.0710,2,  89.3000,2,    82.8,2,   83.02,2,   36.69,2,    0.00,2,    2.63,2,   1.203,6,   0.593,6,   0.049,6,  2277.3,2,  2310.0,2,-999.000,9,-999.0000,9, -999.00,9, -999.00,9,  -999.0,9,  -999.0,-999.000,9,-999.000,   45.40,2,  738.40,-999.0000,9,-999.0000,9,-999.0000,9,-999.0000,9,-999.0000,9,-999.0000,-999.000,-999.0000,9, -999.00
318M20040615,        P02,      92,          1,         22,         22,2,20040717,       2257,    30.0043,  -175.5242,       5206,   838.3,   4.2418,  34.1615,2,  34.1638,2,  53.2000,2,    50.3,2,  101.65,2,   40.41,2,    0.00,2,    2.88,2,   0.544,2,   0.269,2,   0.016,2,  2317.3,2,  2329.4,2,-999.000,9,-999.0000,9, -999.00,9, -999.00,9,  -999.0,9,  -999.0,-999.000,9,-999.000,   42.40,2,  838.30,   0.0910,2,   0.2370,2,   0.0140,2,   0.1680,2,   0.0150,2,-999.0000,-999.000,   0.0670,2, -999.00
318M20040615,        P02,      92,          1,         21,         21,2,20040717,       2257,    30.0043,  -175.5242,       5206,   937.9,   3.8632,  34.2546,2,  34.2555,2,  33.7000,2,    33.2,2,  114.64,2,   42.21,2,    0.00,2,    3.01,2,   0.230,2,   0.111,2,   0.010,2,  2340.0,2,  2346.1,2,-999.000,9,-999.0000,9, -999.00,9, -999.00,9,  -999.0,9,  -999.0,-999.000,9,-999.000,   41.10,2,  937.90,-999.0000,9,-999.0000,9,-999.0000,9,-999.0000,9,-999.0000,9,-999.0000,-999.000,-999.0000,9, -999.00
318M20040615,        P02,      92,          1,         20,         20,2,20040717,       2257,    30.0043,  -175.5242,       5206,  1038.0,   3.5158,  34.3258,2,  34.3303,2,  25.8000,2,    25.9,2,  125.77,2,   43.16,2,    0.00,2,    3.08,2,   0.099,2,   0.050,2,   0.004,2,  2357.7,6,  2361.4,2,-999.000,9,-999.0000,9, -999.00,9, -999.00,9,  -999.0,9,  -999.0,-999.000,9,-999.000,   40.60,2, 1038.00,   0.1200,2,   0.3040,2,   0.0140,2,   0.2170,2,   0.0150,2,-999.0000,-999.000,   0.0880,2, -999.00
318M20040615,        P02,      92,          1,         19,         19,2,20040717,       2257,    30.0043,  -175.5242,       5206,  1138.7,   3.2171,  34.3926,2,  34.3938,2,  24.1000,2,    24.1,2,  135.13,2,   43.55,2,    0.00,2,    3.11,2,   0.043,2,   0.019,2,   0.001,2,  2367.9,2,  2375.0,2,-999.000,9,-999.0000,9, -999.00,9, -999.00,9,  -999.0,9,  -999.0,-999.000,9,-999.000,   39.80,2, 1138.70,-999.0000,9,-999.0000,9,-999.0000,9,-999.0000,9,-999.0000,9,-999.0000,-999.000,-999.0000,9, -999.00
318M20040615,        P02,      92,          1,         18,         18,2,20040717,       2257,    30.0043,  -175.5242,       5206,  1238.8,   2.9987,  34.4364,2,  34.4418,2,  26.5000,3,    26.4,2,  141.43,2,   43.61,2,    0.00,2,    3.11,2,   0.026,2,   0.017,2,   0.001,2,  2373.1,2,  2384.3,2,-999.000,9,-999.0000,9, -999.00,9, -999.00,9,  -999.0,9,  -999.0,-999.000,9,-999.000,   39.00,2, 1238.80,-999.0000,9,-999.0000,9,-999.0000,9,-999.0000,9,-999.0000,9,-999.0000,-999.000,-999.0000,9, -999.00
318M20040615,        P02,      92,          1,         17,         17,2,20040717,       2257,    30.0043,  -175.5242,       5206,  1339.4,   2.8005,  34.4764,2,  34.4770,2,  31.5000,2,    31.3,2,  146.63,2,   43.39,2,    0.00,2,    3.12,2,   0.012,2,   0.007,2,   0.001,2,  2375.8,2,  2391.6,2,-999.000,9,-999.0000,9, -999.00,9, -999.00,9,  -999.0,9,  -999.0,-999.000,9,-999.000,   38.50,2, 1339.40,-999.0000,9,-999.0000,9,-999.0000,9,-999.0000,9,-999.0000,9,-999.0000,-999.000,-999.0000,9, -999.00
318M20040615,        P02,      92,          1,         16,         16,2,20040717,       2257,    30.0043,  -175.5242,       5206,  1439.5,   2.6601,  34.5050,2,  34.5054,2,  37.9000,2,    37.6,2,  149.87,2,   43.38,2,    0.00,2,    3.05,2,   0.008,2,   0.005,2,   0.001,2,  2377.3,2,  2396.9,2,-999.000,9,-999.0000,9, -999.00,9, -999.00,9,  -999.0,9,  -999.0,-999.000,9,-999.000,   38.40,2, 1439.50,-999.0000,9,-999.0000,9,-999.0000,9,-999.0000,9,-999.0000,9,-999.0000,-999.000,-999.0000,9, -999.00
318M20040615,        P02,      92,          1,         15,         15,2,20040717,       2257,    30.0043,  -175.5242,       5206,  1539.5,   2.4926,  34.5317,2,  34.5329,2,  45.0000,2,    44.5,2,  153.61,2,   43.23,2,    0.00,2,    3.05,2,   0.006,2,   0.002,2,   0.001,2,  2377.1,2,  2400.7,6,-999.000,9,-999.0000,9, -999.00,9, -999.00,9,  -999.0,9,  -999.0,-999.000,9,-999.000,   38.90,2, 1539.50,-999.0000,9,-999.0000,9,-999.0000,9,-999.0000,9,-999.0000,9,-999.0000,-999.000,-999.0000,9, -999.00
318M20040615,        P02,      92,          1,         14,         14,2,20040717,       2257,    30.0043,  -175.5242,       5206,  1640.1,   2.3374,  34.5544,2,  34.5562,2,  52.6000,2,    52.0,2,  156.85,2,   42.79,2,    0.00,2,    2.99,2,   0.005,2,   0.006,2,   0.001,2,  2376.5,2,  2406.9,2,-999.000,9,-999.0000,9, -999.00,9, -999.00,9,  -999.0,9,  -999.0,-999.000,9,-999.000,   38.40,2, 1640.10,-999.0000,9,-999.0000,9,-999.0000,9,-999.0000,9,-999.0000,9,-999.0000,-999.000,-999.0000,9, -999.00
318M20040615,        P02,      92,          1,         13,         13,2,20040717,       2257,    30.0043,  -175.5242,       5206,  1741.3,   2.1923,  34.5748,2,  34.5763,2,  61.5000,2,    61.3,2,  159.24,2,   42.01,2,    0.00,2,    2.94,2,   0.004,2,   0.001,2,   0.001,2,  2374.4,2,  2410.2,2,-999.000,9,-999.0000,9, -999.00,9, -999.00,9,  -999.0,9,  -999.0,-999.000,9,-999.000,   38.30,2, 1741.30,-999.0000,9,-999.0000,9,-999.0000,9,-999.0000,9,-999.0000,9,-999.0000,-999.000,-999.0000,9, -999.00
318M20040615,        P02,      92,          1,         12,         12,2,20040717,       2257,    30.0043,  -175.5242,       5206,  1943.4,   2.0025,  34.5987,2,  34.6003,2,  73.1000,2,    73.0,2,  162.47,2,   41.24,2,    0.00,2,    2.89,2,   0.004,2,   0.003,2,   0.001,2,  2371.8,2,  2415.1,2,-999.000,9,-999.0000,9, -999.00,9, -999.00,9,  -999.0,9,  -999.0,-999.000,9,-999.000,   38.10,2, 1943.40,-999.0000,9,-999.0000,9,-999.0000,9,-999.0000,9,-999.0000,9,-999.0000,-999.000,-999.0000,9, -999.00
318M20040615,        P02,      92,          1,         11,         11,2,20040717,       2257,    30.0043,  -175.5242,       5206,  2104.2,   1.8776,  34.6153,2,  34.6175,2,  83.0000,2,    83.2,2,  163.59,2,   40.54,2,    0.00,2,    2.84,2,   0.004,2,   0.000,2,   0.001,2,  2368.0,2,  2417.3,2,-999.000,9,-999.0000,9, -999.00,9, -999.00,9,  -999.0,9,  -999.0,-999.000,9,-999.000,   37.90,2, 2104.20,   0.0900,2,   0.2370,2,   0.0140,2,   0.1660,2,   0.0160,2,-999.0000,-999.000,   0.0630,2, -999.00
318M20040615,        P02,      92,          1,         10,         10,2,20040717,       2257,    30.0043,  -175.5242,       5206,  2354.9,   1.7394,  34.6340,2,  34.6349,2,  97.5000,2,    97.3,2,  163.66,2,   39.57,2,    0.00,2,    2.78,2,-999.000,9,-999.000,9,-999.000,9,  2361.6,2,  2418.5,2,-999.000,9,-999.0000,9, -999.00,9, -999.00,9,  -999.0,9,  -999.0,-999.000,9,-999.000,   37.60,2, 2354.90,-999.0000,9,-999.0000,9,-999.0000,9,-999.0000,9,-999.0000,9,-999.0000,-999.000,-999.0000,9, -999.00
318M20040615,        P02,      92,          1,          9,          9,2,20040717,       2257,    30.0043,  -175.5242,       5206,  2587.1,   1.6393,  34.6480,2,  34.6491,2, 110.3000,2,   111.2,2,  161.08,2,   38.60,2,    0.00,2,    2.70,2,   0.003,2,   0.002,2,   0.001,2,  2352.4,2,  2420.3,2,-999.000,9,-999.0000,9, -999.00,9, -999.00,9,  -999.0,9,  -999.0,-999.000,9,-999.000,   37.20,2, 2587.10,-999.0000,9,-999.0000,9,-999.0000,9,-999.0000,9,-999.0000,9,-999.0000,-999.000,-999.0000,9, -999.00
318M20040615,        P02,      92,          1,          8,          8,2,20040717,       2257,    30.0043,  -175.5242,       5206,  2845.7,   1.5641,  34.6589,2,  34.6608,2, 120.3000,2,   121.8,2,  160.23,2,   37.95,2,    0.00,2,    2.65,2,-999.000,9,-999.000,9,-999.000,9,  2348.2,2,  2420.1,2,-999.000,9,-999.0000,9, -999.00,9, -999.00,9,  -999.0,9,  -999.0,-999.000,9,-999.000,   37.50,2, 2845.70,-999.0000,9,-999.0000,9,-999.0000,9,-999.0000,9,-999.0000,9,-999.0000,-999.000,-999.0000,9, -999.00
318M20040615,        P02,      92,          1,          7,          7,2,20040717,       2257,    30.0043,  -175.5242,       5206,  3100.3,   1.5146,  34.6673,2,  34.6697,2, 129.9000,2,   129.8,2,  158.29,2,   37.52,2,    0.00,2,    2.61,2,   0.004,2,   0.001,2,   0.001,2,  2341.5,2,  2420.8,2,-999.000,9,-999.0000,9, -999.00,9, -999.00,9,  -999.0,9,  -999.0,-999.000,9,-999.000,   37.10,2, 3100.30,   0.0840,2,   0.2240,2,   0.0140,2,   0.1560,2,   0.0160,2,-999.0000,-999.000,   0.0580,2, -999.00
318M20040615,        P02,      92,          1,          6,          6,2,20040717,       2257,    30.0043,  -175.5242,       5206,  3495.7,   1.4771,  34.6758,2,  34.6789,2, 139.2000,3,   139.4,2,  156.58,2,   37.04,2,    0.00,2,    2.56,2,-999.000,9,-999.000,9,-999.000,9,  2336.0,2,  2420.6,2,-999.000,9,-999.0000,9, -999.00,9, -999.00,9,  -999.0,9,  -999.0,-999.000,9,-999.000,   37.60,2, 3495.70,-999.0000,9,-999.0000,9,-999.0000,9,-999.0000,9,-999.0000,9,-999.0000,-999.000,-999.0000,9, -999.00
318M20040615,        P02,      92,          1,          5,          5,2,20040717,       2257,    30.0043,  -175.5242,       5206,  3896.8,   1.4586,  34.6823,2,  34.6846,2, 146.3000,2,   146.9,2,  155.54,2,   36.51,2,    0.00,2,    2.53,2,   0.006,2,   0.003,2,   0.001,2,  2332.0,2,  2421.0,2,-999.000,9,-999.0000,9, -999.00,9, -999.00,9,  -999.0,9,  -999.0,-999.000,9,-999.000,   38.10,2, 3896.80,-999.0000,9,-999.0000,9,-999.0000,9,-999.0000,9,-999.0000,9,-999.0000,-999.000,-999.0000,9, -999.00
318M20040615,        P02,      92,          1,          4,          4,2,20040717,       2257,    30.0043,  -175.5242,       5206,  4302.2,   1.4741,  34.6856,2,  34.6869,2, 149.8000,2,   150.6,2,  155.55,2,   36.19,2,    0.00,2,    2.50,2,-999.000,9,-999.000,9,-999.000,9,  2329.2,2,  2421.0,2,-999.000,9,-999.0000,9, -999.00,9, -999.00,9,  -999.0,9,  -999.0,-999.000,9,-999.000,   38.10,2, 4302.20,-999.0000,9,-999.0000,9,-999.0000,9,-999.0000,9,-999.0000,9,-999.0000,-999.000,-999.0000,9, -999.00
318M20040615,        P02,      92,          1,          3,          3,2,20040717,       2257,    30.0043,  -175.5242,       5206,  4710.9,   1.4982,  34.6879,2,  34.6905,2, 153.8000,3,   154.4,2,  152.53,2,   35.86,2,    0.00,2,    2.47,2,   0.008,2,   0.005,2,   0.001,2,  2326.3,2,  2420.7,2,-999.000,9,-999.0000,9, -999.00,9, -999.00,9,  -999.0,9,  -999.0,-999.000,9,-999.000,   38.00,2, 4710.90,-999.0000,9,-999.0000,9,-999.0000,9,-999.0000,9,-999.0000,9,-999.0000,-999.000,-999.0000,9, -999.00
318M20040615,        P02,      92,          1,          2,          2,2,20040717,       2257,    30.0043,  -175.5242,       5206,  5004.8,   1.5095,  34.6899,2,  34.6918,2, 158.3000,2,   159.3,2,  148.24,2,   35.45,2,    0.00,2,    2.45,2,-999.000,9,-999.000,9,-999.000,9,  2320.7,2,  2416.2,2,-999.000,9,-999.0000,9, -999.00,9, -999.00,9,  -999.0,9,  -999.0,-999.000,9,-999.000,   37.80,2, 5004.80,-999.0000,9,-999.0000,9,-999.0000,9,-999.0000,9,-999.0000,9,-999.0000,-999.000,-999.0000,9, -999.00
318M20040615,        P02,      92,          1,          1,          1,2,20040717,       2257,    30.0043,  -175.5242,       5206,  5292.8,   1.5197,  34.6921,2,  34.6964,2, 163.5000,3,   164.2,2,  143.32,2,   35.04,2,    0.00,2,    2.42,2,   0.007,2,   0.004,2,   0.001,2,  2313.1,6,  2411.7,6,-999.000,9,-999.0000,9, -999.00,9, -999.00,9,  -999.0,9,  -999.0,-999.000,9,-999.000,   37.60,2, 5292.80,-999.0000,9,-999.0000,9,-999.0000,9,-999.0000,9,-999.0000,9,-999.0000,-999.000,-999.0000,9, -999.00