BOTTLE,20131027SIOCCHRJL
EXPOCODE,SECT_ID,STNNBR,CASTNO,SAMPNO,BTLNBR,BTLNBR_FLAG_W,DATE,TIME,LATITUDE,LONGITUDE,DEPTH,CTDPRS,CTDTMP,CTDSAL,CTDSAL_FLAG_W,SALNTY,SALNTY_FLAG_W,CTDOXY,CTDOXY_FLAG_W,OXYGEN,OXYGEN_FLAG_W,SILCAT,SILCAT_FLAG_W,NITRAT,NITRAT_FLAG_W,NITRIT,NITRIT_FLAG_W,PHSPHT,PHSPHT_FLAG_W,CFC-11,CFC-11_FLAG_W,CFC-12,CFC-12_FLAG_W,CFC113,CFC113_FLAG_W,TCARBN,TCARBN_FLAG_W,ALKALI,ALKALI_FLAG_W,TRITUM,TRITUM_FLAG_W,HELIUM,HELIUM_FLAG_W,DELHE3,DELHE3_FLAG_W,DELC13,DELC13_FLAG_W,DELC14,DELC14_FLAG_W,C14ERR,NEON,NEON_FLAG_W,NEONER,DOC,DOC_FLAG_W,CTDRAW,CDOM380,CDOM380_FLAG_W,CDOM325,CDOM325_FLAG_W,CDOMSL,CDOMSL_FLAG_W,CDOM340,CDOM340_FLAG_W,CDOMSN,CDOMSN_FLAG_W,HELIER,TRITER,CDOM412,CDOM412_FLAG_W,DELHER
,,,,,,,,,,,METERS,DBAR,ITS-90,PSS-78,,PSS-78,,UMOL/KG,,UMOL/KG,,UMOL/KG,,UMOL/KG,,UMOL/KG,,UMOL/KG,,PMOL/KG,,PMOL/KG,,PMOL/KG,,UMOL/KG,,UMOL/KG,,TU,,NMOL/KG,,PERCNT,,/MILLE,,/MILLE,,/MILLE,NMOL/KG,,NMOL/KG,UMOL/KG,,DBAR,1/M,,1/M,,1/NM,,1/M,,1/NM,,NMOL/KG,TU,1/M,,PERCNT
318M20040615,        P02,     155,          1,         36,         36,2,20040818,       1917,       30.0,  -133.5835,       4722,     8.6,  23.7169,  33.9902,2,  33.9906,2, 219.5000,2,   218.3,2,    1.30,2,    0.10,2,    0.00,2,    0.21,2,   2.004,2,   1.241,2,   0.144,2,  2001.3,2,  2265.0,6,-999.000,9,-999.0000,9, -999.00,9,    1.66,2,    44.3,2,     4.4,-999.000,9,-999.000,   67.10,2,    8.60,-999.0000,9,-999.0000,9,-999.0000,9,-999.0000,9,-999.0000,9,-999.0000,-999.000,-999.0000,9, -999.00
318M20040615,        P02,     155,          1,         35,         35,2,20040818,       1917,       30.0,  -133.5835,       4722,    35.6,  20.3813,  33.9413,2,  33.9592,2, 246.6000,2,   245.3,2,    1.29,2,    0.05,2,    0.00,2,    0.18,2,   2.489,2,   1.473,2,   0.170,2,  1998.8,2,  2261.4,2,-999.000,9,-999.0000,9, -999.00,9,    1.67,2,    40.5,2,     4.2,-999.000,9,-999.000,   68.80,2,   35.60,-999.0000,9,-999.0000,9,-999.0000,9,-999.0000,9,-999.0000,9,-999.0000,-999.000,-999.0000,9, -999.00
318M20040615,        P02,     155,          1,         34,         34,2,20040818,       1917,       30.0,  -133.5835,       4722,    70.3,  17.3474,  33.6042,2,  33.6116,2, 250.0000,2,   253.8,2,    1.90,2,    0.10,2,    0.00,2,    0.22,2,-999.000,9,-999.000,9,-999.000,9,  1992.5,2,  2236.4,2,-999.000,9,-999.0000,9, -999.00,9,    1.63,2,    59.1,2,     4.8,-999.000,9,-999.000,   61.10,2,   70.30,-999.0000,9,-999.0000,9,-999.0000,9,-999.0000,9,-999.0000,9,-999.0000,-999.000,-999.0000,9, -999.00
318M20040615,        P02,     155,          1,         33,         33,2,20040818,       1917,       30.0,  -133.5835,       4722,   119.9,  15.6416,  33.6883,2,  33.6948,2, 244.5000,2,   243.1,2,    2.51,2,    0.12,2,    0.03,2,    0.24,2,   2.877,2,   1.682,2,   0.200,2,  2007.4,2,  2238.8,2,-999.000,9,-999.0000,9, -999.00,9,    1.33,2,    79.1,2,     3.9,-999.000,9,-999.000,   56.80,2,  119.90,-999.0000,9,-999.0000,9,-999.0000,9,-999.0000,9,-999.0000,9,-999.0000,-999.000,-999.0000,9, -999.00
318M20040615,        P02,     155,          1,         32,         32,2,20040818,       1917,       30.0,  -133.5835,       4722,   170.1,  12.9100,  33.6364,2,  33.6365,2, 228.7000,2,   229.6,2,    5.20,2,    5.02,2,    0.01,2,    0.54,2,-999.000,9,-999.000,9,-999.000,9,  2034.7,2,  2230.2,2,-999.000,9,-999.0000,9, -999.00,9, -999.00,9,  -999.0,9,  -999.0,-999.000,9,-999.000,   49.20,2,  170.10,-999.0000,9,-999.0000,9,-999.0000,9,-999.0000,9,-999.0000,9,-999.0000,-999.000,-999.0000,9, -999.00
318M20040615,        P02,     155,          1,         31,         31,2,20040818,       1917,       30.0,  -133.5835,       4722,   223.9,  10.6927,  33.7258,2,  33.7260,2, 219.1000,2,   221.9,2,   10.59,2,   10.87,2,    0.00,2,    0.87,2,   3.593,2,   1.973,2,   0.126,2,  2069.9,2,  2236.4,2,-999.000,9,-999.0000,9, -999.00,9, -999.00,5,  -999.0,5,  -999.0,-999.000,9,-999.000,   47.20,2,  223.90,-999.0000,9,-999.0000,9,-999.0000,9,-999.0000,9,-999.0000,9,-999.0000,-999.000,-999.0000,9, -999.00
318M20040615,        P02,     155,          1,         30,         30,2,20040818,       1917,       30.0,  -133.5835,       4722,   273.9,   9.8758,  33.9298,2,  33.9312,2, 213.0000,2,   215.0,2,   15.79,2,   14.66,2,    0.00,2,    1.09,2,-999.000,9,-999.000,9,-999.000,9,  2095.3,2,  2248.6,2,-999.000,9,-999.0000,9, -999.00,9, -999.00,9,  -999.0,9,  -999.0,-999.000,9,-999.000,   49.00,2,  273.90,-999.0000,9,-999.0000,9,-999.0000,9,-999.0000,9,-999.0000,9,-999.0000,-999.000,-999.0000,9, -999.00
318M20040615,        P02,     155,          1,         29,         29,2,20040818,       1917,       30.0,  -133.5835,       4722,   324.1,   8.9819,  34.0042,2,  34.0066,2, 184.1000,2,   184.3,2,   24.13,2,   19.77,2,    0.00,2,    1.43,2,   3.401,2,   1.799,2,   0.115,2,  2135.6,2,  2259.1,2,-999.000,9,-999.0000,9, -999.00,9,    0.26,2,    35.7,2,     3.8,-999.000,9,-999.000,   44.30,2,  324.10,-999.0000,9,-999.0000,9,-999.0000,9,-999.0000,9,-999.0000,9,-999.0000,-999.000,-999.0000,9, -999.00
318M20040615,        P02,     155,          1,         28,         28,2,20040818,       1917,       30.0,  -133.5835,       4722,   373.5,   7.8749,  34.0174,2,  34.0173,2, 131.9000,2,   132.2,2,   37.72,2,   27.30,2,    0.00,2,    1.96,2,-999.000,9,-999.000,9,-999.000,9,  2187.8,6,  2267.7,2,-999.000,9,-999.0000,9, -999.00,9, -999.00,9,  -999.0,9,  -999.0,-999.000,9,-999.000, -999.00,9,  373.50,-999.0000,9,-999.0000,9,-999.0000,9,-999.0000,9,-999.0000,9,-999.0000,-999.000,-999.0000,9, -999.00
318M20040615,        P02,     155,          1,         27,         27,2,20040818,       1917,       30.0,  -133.5835,       4722,   423.5,   7.1162,  34.0353,2,  34.0340,2,  93.9000,2,    92.5,2,   48.63,2,   32.51,2,    0.00,2,    2.34,2,   2.151,2,   1.053,2,   0.083,2,  2228.5,2,  2277.5,2,-999.000,9,-999.0000,9, -999.00,9,   -0.20,2,   -15.2,2,     7.8,-999.000,9,-999.000,   44.40,2,  423.50,-999.0000,9,-999.0000,9,-999.0000,9,-999.0000,9,-999.0000,9,-999.0000,-999.000,-999.0000,9, -999.00
318M20040615,        P02,     155,          1,         26,         26,2,20040818,       1917,       30.0,  -133.5835,       4722,   473.6,   6.0319,  34.0160,2,  34.0169,2,  86.0000,2,    86.1,2,   60.84,2,   35.23,2,    0.00,2,    2.52,2,   1.538,2,   0.771,2,   0.045,2,  2248.8,6,  2288.2,2,-999.000,9,-999.0000,9, -999.00,9, -999.00,9,  -999.0,9,  -999.0,-999.000,9,-999.000, -999.00,9,  473.60,-999.0000,9,-999.0000,9,-999.0000,9,-999.0000,9,-999.0000,9,-999.0000,-999.000,-999.0000,9, -999.00
318M20040615,        P02,     155,          1,         25,         25,2,20040818,       1917,       30.0,  -133.5835,       4722,   543.3,   5.4703,  34.0595,2,  34.0610,2,  62.4000,2,    56.7,2,   73.29,2,   38.60,2,    0.00,2,    2.79,2,   0.924,2,   0.470,2,   0.028,2,  2278.3,2,  2299.1,2,-999.000,9,-999.0000,9, -999.00,9,   -0.33,2,  -117.2,2,     3.6,-999.000,9,-999.000,   41.60,2,  543.30,-999.0000,9,-999.0000,9,-999.0000,9,-999.0000,9,-999.0000,9,-999.0000,-999.000,-999.0000,9, -999.00
318M20040615,        P02,     155,          1,         24,         24,2,20040818,       1917,       30.0,  -133.5835,       4722,   648.0,   4.7739,  34.1723,2,  34.1707,2,  26.9000,2,    25.7,2,   92.39,2,   41.89,2,    0.00,2,    3.05,2,   0.239,2,   0.120,2,   0.000,2,  2316.8,2,  2322.5,2,-999.000,9,-999.0000,9, -999.00,9,   -0.42,2,  -155.5,2,     3.1,-999.000,9,-999.000,   41.30,2,  648.00,-999.0000,9,-999.0000,9,-999.0000,9,-999.0000,9,-999.0000,9,-999.0000,-999.000,-999.0000,9, -999.00
318M20040615,        P02,     155,          1,         23,         23,2,20040818,       1917,       30.0,  -133.5835,       4722,   752.0,   4.4380,  34.2790,2,  34.2786,2,  12.9000,2,    13.0,2,  104.51,2,   43.13,2,    0.00,2,    3.18,2,   0.060,6,   0.035,6,   0.000,6,  2337.4,2,  2342.0,2,-999.000,9,-999.0000,9, -999.00,9,   -0.43,2,  -186.3,2,     4.4,-999.000,9,-999.000,   39.10,2,  752.00,-999.0000,9,-999.0000,9,-999.0000,9,-999.0000,9,-999.0000,9,-999.0000,-999.000,-999.0000,9, -999.00
318M20040615,        P02,     155,          1,         22,         22,2,20040818,       1917,       30.0,  -133.5835,       4722,   852.1,   4.0906,  34.3665,2,  34.3627,2,  13.2000,2,    14.0,2,  114.37,2,   43.57,2,    0.00,2,    3.20,2,   0.019,2,   0.013,2,   0.000,2,  2350.2,2,  2357.7,2,-999.000,9,-999.0000,9, -999.00,9,   -0.51,2,  -194.7,2,     3.6,-999.000,9,-999.000,   40.10,2,  852.10,-999.0000,9,-999.0000,9,-999.0000,9,-999.0000,9,-999.0000,9,-999.0000,-999.000,-999.0000,9, -999.00
318M20040615,        P02,     155,          1,         21,         21,2,20040818,       1917,       30.0,  -133.5835,       4722,   948.8,   3.8359,  34.4148,2,  34.4142,2,  18.7000,2,    20.2,2,  119.93,2,   43.45,2,    0.00,2,    3.19,2,   0.013,2,   0.008,2,   0.000,2,  2353.3,2,  2368.8,2,-999.000,9,-999.0000,9, -999.00,9,   -0.38,2,  -205.6,2,     2.8,-999.000,9,-999.000, -999.00,9,  948.80,-999.0000,9,-999.0000,9,-999.0000,9,-999.0000,9,-999.0000,9,-999.0000,-999.000,-999.0000,9, -999.00
318M20040615,        P02,     155,          1,         20,         20,2,20040818,       1917,       30.0,  -133.5835,       4722,  1048.0,   3.6625,  34.4588,2,  34.4579,2,  27.4000,2,    27.8,2,  123.37,2,   43.23,2,    0.00,2,    3.16,2,   0.008,2,   0.010,2,   0.000,2,  2357.5,2,  2375.1,2,-999.000,9,-999.0000,9, -999.00,9,   -0.33,2,  -215.6,2,     2.7,-999.000,9,-999.000,   40.10,2, 1048.00,-999.0000,9,-999.0000,9,-999.0000,9,-999.0000,9,-999.0000,9,-999.0000,-999.000,-999.0000,9, -999.00
318M20040615,        P02,     155,          1,         19,         19,2,20040818,       1917,       30.0,  -133.5835,       4722,  1150.7,   3.4452,  34.4936,2,  34.4938,2,  35.5000,2,    34.4,2,  128.11,2,   43.11,2,    0.00,2,    3.13,2,   0.007,2,   0.010,2,   0.000,2,  2358.6,2,  2384.4,2,-999.000,9,-999.0000,9, -999.00,9,   -0.25,2,  -230.4,2,     3.2,-999.000,9,-999.000, -999.00,9, 1150.70,-999.0000,9,-999.0000,9,-999.0000,9,-999.0000,9,-999.0000,9,-999.0000,-999.000,-999.0000,9, -999.00
318M20040615,        P02,     155,          1,         18,         18,2,20040818,       1917,       30.0,  -133.5835,       4722,  1248.8,   3.2430,  34.5207,2,  34.5207,2,  43.3000,2,    42.4,2,  132.41,2,   43.16,2,    0.00,2,    3.10,2,-999.000,9,-999.000,9,-999.000,9,  2360.0,2,  2390.4,6,-999.000,9,-999.0000,9, -999.00,9,   -0.22,2,  -229.6,2,     6.5,-999.000,9,-999.000,   37.80,2, 1248.80,-999.0000,9,-999.0000,9,-999.0000,9,-999.0000,9,-999.0000,9,-999.0000,-999.000,-999.0000,9, -999.00
318M20040615,        P02,     155,          1,         17,         17,2,20040818,       1917,       30.0,  -133.5835,       4722,  1351.2,   3.0399,  34.5384,2,  34.5392,2,  46.6000,2,    45.9,2,  138.01,2,   43.14,2,    0.00,2,    3.08,2,   0.005,2,   0.006,2,   0.000,2,  2364.3,2,  2394.5,2,-999.000,9,-999.0000,9, -999.00,9,   -0.26,2,  -236.8,2,     8.4,-999.000,9,-999.000, -999.00,9, 1351.20,-999.0000,9,-999.0000,9,-999.0000,9,-999.0000,9,-999.0000,9,-999.0000,-999.000,-999.0000,9, -999.00
318M20040615,        P02,     155,          1,         16,         16,2,20040818,       1917,       30.0,  -133.5835,       4722,  1454.1,   2.8420,  34.5541,2,  34.5541,2,  51.3000,2,    50.4,2,  143.20,2,   42.81,2,    0.00,2,    3.06,2,-999.000,9,-999.000,9,-999.000,9,  2366.1,2,  2400.8,2,-999.000,9,-999.0000,9, -999.00,9,   -0.22,2,  -229.8,2,     3.4,-999.000,9,-999.000, -999.00,9, 1454.10,-999.0000,9,-999.0000,9,-999.0000,9,-999.0000,9,-999.0000,9,-999.0000,-999.000,-999.0000,9, -999.00
318M20040615,        P02,     155,          1,         15,         15,2,20040818,       1917,       30.0,  -133.5835,       4722,  1561.0,   2.6646,  34.5687,2,  34.5688,2,  56.8000,2,    55.5,2,  148.17,2,   42.37,2,    0.00,2,    3.03,2,   0.004,2,   0.002,2,   0.000,2,  2370.7,2,  2406.0,2,-999.000,9,-999.0000,9, -999.00,9,   -0.25,2,  -231.8,2,     3.3,-999.000,9,-999.000,   38.20,2, 1561.00,-999.0000,9,-999.0000,9,-999.0000,9,-999.0000,9,-999.0000,9,-999.0000,-999.000,-999.0000,9, -999.00
318M20040615,        P02,     155,          1,         14,         14,2,20040818,       1917,       30.0,  -133.5835,       4722,  1662.6,   2.5421,  34.5806,2,  34.5794,2,  61.7000,2,    61.0,2,  150.76,2,   41.92,2,    0.00,2,    3.00,2,-999.000,9,-999.000,9,-999.000,9,  2369.6,2,  2409.7,2,-999.000,9,-999.0000,9, -999.00,9,   -0.20,2,  -243.6,2,     3.8,-999.000,9,-999.000, -999.00,9, 1662.60,-999.0000,9,-999.0000,9,-999.0000,9,-999.0000,9,-999.0000,9,-999.0000,-999.000,-999.0000,9, -999.00
318M20040615,        P02,     155,          1,         13,         13,2,20040818,       1917,       30.0,  -133.5835,       4722,  1760.7,   2.3890,  34.5929,2,  34.5934,2,  66.2000,2,    66.2,2,  154.90,2,   41.54,2,    0.00,2,    2.97,2,   0.007,2,   0.012,2,   0.000,2,  2369.3,2,  2412.1,2,-999.000,9,-999.0000,9, -999.00,9,   -0.17,2,  -245.4,2,     3.4,-999.000,9,-999.000, -999.00,9, 1760.70,-999.0000,9,-999.0000,9,-999.0000,9,-999.0000,9,-999.0000,9,-999.0000,-999.000,-999.0000,9, -999.00
318M20040615,        P02,     155,          1,         12,         12,2,20040818,       1917,       30.0,  -133.5835,       4722,  1860.0,   2.2375,  34.6039,2,  34.6041,2,  70.2000,2,    70.8,2,  159.48,2,   41.15,2,    0.00,2,    2.94,2,-999.000,9,-999.000,9,-999.000,9,  2371.7,2,  2417.1,2,-999.000,9,-999.0000,9, -999.00,9,   -0.19,2,  -244.4,2,     3.6,-999.000,9,-999.000,   36.70,2, 1860.00,-999.0000,9,-999.0000,9,-999.0000,9,-999.0000,9,-999.0000,9,-999.0000,-999.000,-999.0000,9, -999.00
318M20040615,        P02,     155,          1,         11,         11,2,20040818,       1917,       30.0,  -133.5835,       4722,  1961.4,   2.1382,  34.6140,2,  34.6153,2,  74.4000,2,    74.6,2,  162.31,2,   40.87,2,    0.00,2,    2.93,2,   0.003,2,   0.000,2,   0.000,2,  2372.5,2,  2419.3,2,-999.000,9,-999.0000,9, -999.00,9,   -0.18,2,  -240.5,2,     4.0,-999.000,9,-999.000, -999.00,9, 1961.40,-999.0000,9,-999.0000,9,-999.0000,9,-999.0000,9,-999.0000,9,-999.0000,-999.000,-999.0000,9, -999.00
318M20040615,        P02,     155,          1,         10,         10,2,20040818,       1917,       30.0,  -133.5835,       4722,  2128.4,   1.9671,  34.6270,2,  34.6267,2,  83.5000,2,    84.4,2,  166.03,2,   40.33,2,    0.00,2,    2.88,2,-999.000,9,-999.000,9,-999.000,9,  2368.7,2,  2425.2,2,-999.000,9,-999.0000,9, -999.00,9,   -0.05,2,  -241.3,2,     3.3,-999.000,9,-999.000,   36.70,2, 2128.40,-999.0000,9,-999.0000,9,-999.0000,9,-999.0000,9,-999.0000,9,-999.0000,-999.000,-999.0000,9, -999.00
318M20040615,        P02,     155,          1,          9,          9,2,20040818,       1917,       30.0,  -133.5835,       4722,  2379.7,   1.8128,  34.6413,2,  34.6410,2,  94.3000,2,    94.9,2,  169.31,2,   39.72,2,    0.00,2,    2.82,2,   0.000,2,   0.003,2,   0.000,2,  2365.2,2,  2427.5,2,-999.000,9,-999.0000,9, -999.00,9,   -0.11,2,  -237.7,2,     3.6,-999.000,9,-999.000, -999.00,9, 2379.70,-999.0000,9,-999.0000,9,-999.0000,9,-999.0000,9,-999.0000,9,-999.0000,-999.000,-999.0000,9, -999.00
318M20040615,        P02,     155,          1,          8,          8,2,20040818,       1917,       30.0,  -133.5835,       4722,  2634.7,   1.6869,  34.6545,2,  34.6538,2, 104.4000,2,   105.3,2,  170.61,2,   39.51,2,    0.00,2,    2.76,2,-999.000,9,-999.000,9,-999.000,9,  2360.4,2,  2431.0,2,-999.000,9,-999.0000,9, -999.00,9,   -0.14,2,  -242.3,2,     2.9,-999.000,9,-999.000, -999.00,9, 2634.70,-999.0000,9,-999.0000,9,-999.0000,9,-999.0000,9,-999.0000,9,-999.0000,-999.000,-999.0000,9, -999.00
318M20040615,        P02,     155,          1,          7,          7,2,20040818,       1917,       30.0,  -133.5835,       4722,  2890.3,   1.5940,  34.6641,2,  34.6638,2, 113.2000,2,   114.0,2,  171.93,2,   38.90,2,    0.00,2,    2.72,2,   0.004,2,   0.005,2,   0.000,2,  2355.6,2,  2432.2,2,-999.000,9,-999.0000,9, -999.00,9,   -0.06,6,  -238.5,6,     9.0,-999.000,9,-999.000,   39.10,3, 2890.30,-999.0000,9,-999.0000,9,-999.0000,9,-999.0000,9,-999.0000,9,-999.0000,-999.000,-999.0000,9, -999.00
318M20040615,        P02,     155,          1,          6,          6,2,20040818,       1917,       30.0,  -133.5835,       4722,  3143.7,   1.5335,  34.6712,2,  34.6711,2, 120.2000,2,   121.9,2,  171.92,2,   38.14,2,    0.00,2,    2.67,2,-999.000,9,-999.000,9,-999.000,9,  2352.1,2,  2434.2,2,-999.000,9,-999.0000,9, -999.00,9,   -0.01,2,  -234.4,2,     3.3,-999.000,9,-999.000,   36.50,2, 3143.70,-999.0000,9,-999.0000,9,-999.0000,9,-999.0000,9,-999.0000,9,-999.0000,-999.000,-999.0000,9, -999.00
318M20040615,        P02,     155,          1,          5,          5,2,20040818,       1917,       30.0,  -133.5835,       4722,  3452.3,   1.4849,  34.6786,2,  34.6783,2, 131.8000,2,   132.3,2,  168.64,2,   37.49,2,    0.00,2,    2.62,2,   0.007,2,   0.011,2,   0.000,2,  2345.7,2,  2432.6,2,-999.000,9,-999.0000,9, -999.00,9,    0.02,2,  -229.6,2,     3.1,-999.000,9,-999.000, -999.00,9, 3452.30,-999.0000,9,-999.0000,9,-999.0000,9,-999.0000,9,-999.0000,9,-999.0000,-999.000,-999.0000,9, -999.00
318M20040615,        P02,     155,          1,          4,          4,2,20040818,       1917,       30.0,  -133.5835,       4722,  3755.3,   1.4708,  34.6835,2,  34.6831,2, 139.3000,2,   140.4,2,  164.89,2,   36.78,2,    0.00,2,    2.57,2,   0.007,2,   0.010,2,   0.000,2,  2338.8,2,  2431.9,2,-999.000,9,-999.0000,9, -999.00,9,    0.20,2,  -228.3,2,     3.1,-999.000,9,-999.000,   37.40,2, 3755.30,-999.0000,9,-999.0000,9,-999.0000,9,-999.0000,9,-999.0000,9,-999.0000,-999.000,-999.0000,9, -999.00
318M20040615,        P02,     155,          1,          3,          3,2,20040818,       1917,       30.0,  -133.5835,       4722,  4066.4,   1.4918,  34.6853,2,  34.6850,2, 142.6000,2,   142.6,2,  163.62,2,   36.62,2,    0.00,2,    2.55,2,   0.005,2,   0.009,2,   0.000,2,  2336.4,2,  2430.1,2,-999.000,9,-999.0000,9, -999.00,9,    0.10,2,  -218.9,2,     3.4,-999.000,9,-999.000,   37.50,2, 4066.40,-999.0000,9,-999.0000,9,-999.0000,9,-999.0000,9,-999.0000,9,-999.0000,-999.000,-999.0000,9, -999.00
318M20040615,        P02,     155,          1,          2,          2,2,20040818,       1917,       30.0,  -133.5835,       4722,  4478.5,   1.5352,  34.6859,2,  34.6858,2, 143.7000,2,   143.9,2,  162.95,2,   36.51,2,    0.00,2,    2.54,2,   0.005,2,   0.012,2,   0.000,2,  2335.7,2,  2431.1,2,-999.000,9,-999.0000,9, -999.00,9,    0.11,2,  -222.4,2,     3.5,-999.000,9,-999.000, -999.00,9, 4478.50,-999.0000,9,-999.0000,9,-999.0000,9,-999.0000,9,-999.0000,9,-999.0000,-999.000,-999.0000,9, -999.00
318M20040615,        P02,     155,          1,          1,          1,2,20040818,       1917,       30.0,  -133.5835,       4722,  4753.8,   1.5687,  34.6858,2,  34.6858,2, 143.4000,2,   144.1,2,  162.96,2,   36.45,2,    0.00,2,    2.54,2,   0.006,2,   0.008,2,   0.000,2,  2336.3,2,  2434.1,6,-999.000,9,-999.0000,9, -999.00,9,    0.12,2,  -221.3,2,     3.7,-999.000,9,-999.000,  122.20,4, 4753.80,-999.0000,9,-999.0000,9,-999.0000,9,-999.0000,9,-999.0000,9,-999.0000,-999.000,-999.0000,9, -999.00