BOTTLE,20131027SIOCCHRJL
EXPOCODE,SECT_ID,STNNBR,CASTNO,SAMPNO,BTLNBR,BTLNBR_FLAG_W,DATE,TIME,LATITUDE,LONGITUDE,DEPTH,CTDPRS,CTDTMP,CTDSAL,CTDSAL_FLAG_W,SALNTY,SALNTY_FLAG_W,CTDOXY,CTDOXY_FLAG_W,OXYGEN,OXYGEN_FLAG_W,SILCAT,SILCAT_FLAG_W,NITRAT,NITRAT_FLAG_W,NITRIT,NITRIT_FLAG_W,PHSPHT,PHSPHT_FLAG_W,CFC-11,CFC-11_FLAG_W,CFC-12,CFC-12_FLAG_W,CFC113,CFC113_FLAG_W,TCARBN,TCARBN_FLAG_W,ALKALI,ALKALI_FLAG_W,TRITUM,TRITUM_FLAG_W,HELIUM,HELIUM_FLAG_W,DELHE3,DELHE3_FLAG_W,DELC13,DELC13_FLAG_W,DELC14,DELC14_FLAG_W,C14ERR,NEON,NEON_FLAG_W,NEONER,DOC,DOC_FLAG_W,CTDRAW,CDOM380,CDOM380_FLAG_W,CDOM325,CDOM325_FLAG_W,CDOMSL,CDOMSL_FLAG_W,CDOM340,CDOM340_FLAG_W,CDOMSN,CDOMSN_FLAG_W,HELIER,TRITER,CDOM412,CDOM412_FLAG_W,DELHER
,,,,,,,,,,,METERS,DBAR,ITS-90,PSS-78,,PSS-78,,UMOL/KG,,UMOL/KG,,UMOL/KG,,UMOL/KG,,UMOL/KG,,UMOL/KG,,PMOL/KG,,PMOL/KG,,PMOL/KG,,UMOL/KG,,UMOL/KG,,TU,,NMOL/KG,,PERCNT,,/MILLE,,/MILLE,,/MILLE,NMOL/KG,,NMOL/KG,UMOL/KG,,DBAR,1/M,,1/M,,1/NM,,1/M,,1/NM,,NMOL/KG,TU,1/M,,PERCNT
318M20040615,        P02,     127,          3,         17,         17,2,20040809,       0401,       30.0,   -154.143,       5453,     8.2,  25.3478,  35.4370,2,  35.4310,2, 210.6000,2,   210.3,2,    0.98,2,    0.21,2,    0.00,2,    0.02,2,   1.799,2,   1.115,2,   0.121,2,  2013.8,6,  2332.3,6,-999.000,9,-999.0000,9, -999.00,9, -999.00,9,  -999.0,9,  -999.0,-999.000,9,-999.000,   70.60,2,    8.20,-999.0000,9,-999.0000,9,-999.0000,9,-999.0000,9,-999.0000,9,-999.0000,-999.000,-999.0000,9, -999.00
318M20040615,        P02,     127,          3,         16,         16,2,20040809,       0401,       30.0,   -154.143,       5453,    52.8,  21.6349,  35.2007,2,  35.2014,2, 234.5000,2,   234.9,2,    1.17,2,    0.15,2,    0.00,2,    0.02,2,   1.202,4,   0.751,4,   0.087,4,  2010.8,2,  2316.6,2,-999.000,9,-999.0000,9, -999.00,9, -999.00,9,  -999.0,9,  -999.0,-999.000,9,-999.000,   68.20,2,   52.80,-999.0000,9,-999.0000,9,-999.0000,9,-999.0000,9,-999.0000,9,-999.0000,-999.000,-999.0000,9, -999.00
318M20040615,        P02,     127,          3,         15,         15,2,20040809,       0401,       30.0,   -154.143,       5453,   102.6,  18.4676,  34.8880,2,  34.8901,2, 233.0000,2,   231.8,2,    1.97,2,    0.20,2,    0.00,2,    0.07,2,   2.449,2,   1.464,2,   0.186,2,  2019.4,2,  2294.9,2,-999.000,9,-999.0000,9, -999.00,9, -999.00,9,  -999.0,9,  -999.0,-999.000,9,-999.000,   62.10,2,  102.60,-999.0000,9,-999.0000,9,-999.0000,9,-999.0000,9,-999.0000,9,-999.0000,-999.000,-999.0000,9, -999.00
318M20040615,        P02,     127,          3,         14,         14,2,20040809,       0401,       30.0,   -154.143,       5453,   151.8,  15.9115,  34.5496,2,  34.5481,2, 231.8000,2,   227.1,2,    3.36,2,    2.16,2,    0.08,2,    0.23,2,   2.754,2,   1.636,2,   0.144,2,  2032.3,2,  2273.9,2,-999.000,9,-999.0000,9, -999.00,9, -999.00,9,  -999.0,9,  -999.0,-999.000,9,-999.000,   54.20,2,  151.80,-999.0000,9,-999.0000,9,-999.0000,9,-999.0000,9,-999.0000,9,-999.0000,-999.000,-999.0000,9, -999.00
318M20040615,        P02,     127,          3,         13,         13,2,20040809,       0401,       30.0,   -154.143,       5453,   202.1,  14.0931,  34.4187,2,  34.4103,2, 213.3000,2,   214.2,2,    6.52,2,    7.47,2,    0.01,2,    0.55,2,-999.000,9,-999.000,9,-999.000,9,  2056.1,2,  2269.3,2,-999.000,9,-999.0000,9, -999.00,9, -999.00,9,  -999.0,9,  -999.0,-999.000,9,-999.000,   49.70,2,  202.10,-999.0000,9,-999.0000,9,-999.0000,9,-999.0000,9,-999.0000,9,-999.0000,-999.000,-999.0000,9, -999.00
318M20040615,        P02,     127,          3,         12,         12,2,20040809,       0401,       30.0,   -154.143,       5453,   252.0,  12.8675,  34.3276,2,  34.3265,2, 215.9000,2,   215.9,2,    9.09,2,    9.54,2,    0.00,2,    0.68,2,   3.044,2,   1.733,2,   0.071,2,  2067.0,2,  2264.4,2,-999.000,9,-999.0000,9, -999.00,9, -999.00,9,  -999.0,9,  -999.0,-999.000,9,-999.000, -999.00,9,  252.00,-999.0000,9,-999.0000,9,-999.0000,9,-999.0000,9,-999.0000,9,-999.0000,-999.000,-999.0000,9, -999.00
318M20040615,        P02,     127,          3,         11,         11,2,20040809,       0401,       30.0,   -154.143,       5453,   301.8,  11.5907,  34.2257,2,  34.2292,2, 212.6000,2,   213.2,2,   12.26,2,   12.16,2,    0.00,2,    0.87,2,-999.000,9,-999.000,9,-999.000,9,  2082.1,2,  2260.8,2,-999.000,9,-999.0000,9, -999.00,9, -999.00,9,  -999.0,9,  -999.0,-999.000,9,-999.000, -999.00,9,  301.80,-999.0000,9,-999.0000,9,-999.0000,9,-999.0000,9,-999.0000,9,-999.0000,-999.000,-999.0000,9, -999.00
318M20040615,        P02,     127,          3,         10,         10,2,20040809,       0401,       30.0,   -154.143,       5453,   351.5,  10.5555,  34.1810,2,  34.1825,2, 210.4000,2,   211.7,2,   16.03,2,   14.44,2,    0.00,2,    1.03,2,   3.281,2,   1.813,2,   0.077,2,  2098.1,2,  2263.3,2,-999.000,9,-999.0000,9, -999.00,9, -999.00,9,  -999.0,9,  -999.0,-999.000,9,-999.000,   45.00,2,  351.50,-999.0000,9,-999.0000,9,-999.0000,9,-999.0000,9,-999.0000,9,-999.0000,-999.000,-999.0000,9, -999.00
318M20040615,        P02,     127,          3,          9,          9,2,20040809,       0401,       30.0,   -154.143,       5453,   401.4,   9.5678,  34.1414,2,  34.1417,2, 199.7000,2,   197.8,2,   22.38,2,   17.85,2,    0.00,2,    1.25,2,   3.186,2,   1.717,2,   0.090,2,  2120.5,2,  2267.2,2,-999.000,9,-999.0000,9, -999.00,9, -999.00,9,  -999.0,9,  -999.0,-999.000,9,-999.000, -999.00,9,  401.40,-999.0000,9,-999.0000,9,-999.0000,9,-999.0000,9,-999.0000,9,-999.0000,-999.000,-999.0000,9, -999.00
318M20040615,        P02,     127,          3,          8,          8,2,20040809,       0401,       30.0,   -154.143,       5453,   450.7,   8.7957,  34.1026,2,  34.1038,2, 184.1000,2,   183.6,2,   28.34,2,   20.76,2,    0.00,2,    1.46,2,   2.996,2,   1.599,2,   0.100,2,  2141.8,2,  2272.6,6,-999.000,9,-999.0000,9, -999.00,9, -999.00,9,  -999.0,9,  -999.0,-999.000,9,-999.000,   47.20,2,  450.70,-999.0000,9,-999.0000,9,-999.0000,9,-999.0000,9,-999.0000,9,-999.0000,-999.000,-999.0000,9, -999.00
318M20040615,        P02,     127,          3,          7,          7,2,20040809,       0401,       30.0,   -154.143,       5453,   506.0,   7.5689,  34.0429,2,  34.0436,2, 155.1000,2,   155.3,2,   40.10,2,   25.76,2,    0.00,2,    1.83,2,   2.540,6,   1.294,6,   0.095,6,  2177.7,2,  2280.1,2,-999.000,9,-999.0000,9, -999.00,9, -999.00,9,  -999.0,9,  -999.0,-999.000,9,-999.000,   46.50,2,  506.00,-999.0000,9,-999.0000,9,-999.0000,9,-999.0000,9,-999.0000,9,-999.0000,-999.000,-999.0000,9, -999.00
318M20040615,        P02,     127,          3,          6,          6,2,20040809,       0401,       30.0,   -154.143,       5453,   605.9,   5.7532,  34.0053,2,  34.0056,2, 106.3000,2,   107.8,2,   63.30,2,   33.32,2,    0.00,2,    2.40,2,-999.000,9,-999.000,9,-999.000,9,  2238.0,2,  2298.3,2,-999.000,9,-999.0000,9, -999.00,9, -999.00,9,  -999.0,9,  -999.0,-999.000,9,-999.000, -999.00,9,  605.90,-999.0000,9,-999.0000,9,-999.0000,9,-999.0000,9,-999.0000,9,-999.0000,-999.000,-999.0000,9, -999.00
318M20040615,        P02,     127,          3,          5,          5,2,20040809,       0401,       30.0,   -154.143,       5453,   705.8,   4.7009,  34.0755,2,  34.0759,2,  60.2000,2,    58.8,2,   87.04,2,   39.50,2,    0.00,2,    2.83,2,   0.565,2,   0.286,2,   0.015,2,  2291.6,2,  2318.3,2,-999.000,9,-999.0000,9, -999.00,9, -999.00,9,  -999.0,9,  -999.0,-999.000,9,-999.000, -999.00,9,  705.80,-999.0000,9,-999.0000,9,-999.0000,9,-999.0000,9,-999.0000,9,-999.0000,-999.000,-999.0000,9, -999.00
318M20040615,        P02,     127,          3,          4,          4,2,20040809,       0401,       30.0,   -154.143,       5453,   805.7,   4.0639,  34.1819,2,  34.1820,2,  24.2000,2,    23.2,2,  107.06,2,   43.41,2,    0.00,2,    3.09,2,-999.000,9,-999.000,9,-999.000,9,  2335.2,2,  2338.0,2,-999.000,9,-999.0000,9, -999.00,9, -999.00,9,  -999.0,9,  -999.0,-999.000,9,-999.000,   40.90,2,  805.70,-999.0000,9,-999.0000,9,-999.0000,9,-999.0000,9,-999.0000,9,-999.0000,-999.000,-999.0000,9, -999.00
318M20040615,        P02,     127,          3,          3,          3,2,20040809,       0401,       30.0,   -154.143,       5453,   910.5,   3.7870,  34.2722,2,  34.2721,2,  12.0000,2,    11.7,2,  118.03,2,   44.54,2,    0.00,2,    3.20,2,   0.017,2,   0.011,2,   0.000,2,  2355.0,2,  2354.8,2,-999.000,9,-999.0000,9, -999.00,9, -999.00,9,  -999.0,9,  -999.0,-999.000,9,-999.000, -999.00,9,  910.50,-999.0000,9,-999.0000,9,-999.0000,9,-999.0000,9,-999.0000,9,-999.0000,-999.000,-999.0000,9, -999.00
318M20040615,        P02,     127,          3,          2,          2,2,20040809,       0401,       30.0,   -154.143,       5453,  1010.4,   3.5528,  34.3543,2,  34.3539,2,   9.9000,2,     9.6,2,  127.60,2,   44.70,2,    0.00,2,    3.23,2,-999.000,9,-999.000,9,-999.000,9,  2367.7,2,  2368.2,2,-999.000,9,-999.0000,9, -999.00,9, -999.00,9,  -999.0,9,  -999.0,-999.000,9,-999.000, -999.00,9, 1010.40,-999.0000,9,-999.0000,9,-999.0000,9,-999.0000,9,-999.0000,9,-999.0000,-999.000,-999.0000,9, -999.00
318M20040615,        P02,     127,          3,          1,          1,2,20040809,       0401,       30.0,   -154.143,       5453,  1100.9,   3.3478,  34.4148,2,  34.4151,2,  14.6000,2,    14.9,2,  133.53,2,   44.54,2,    0.00,2,    3.22,2,   0.011,2,   0.013,2,   0.000,2,  2372.1,6,  2378.4,6,-999.000,9,-999.0000,9, -999.00,9, -999.00,9,  -999.0,9,  -999.0,-999.000,9,-999.000,   39.30,2, 1100.90,-999.0000,9,-999.0000,9,-999.0000,9,-999.0000,9,-999.0000,9,-999.0000,-999.000,-999.0000,9, -999.00