BOTTLE,20131027SIOCCHRJL
EXPOCODE,SECT_ID,STNNBR,CASTNO,SAMPNO,BTLNBR,BTLNBR_FLAG_W,DATE,TIME,LATITUDE,LONGITUDE,DEPTH,CTDPRS,CTDTMP,CTDSAL,CTDSAL_FLAG_W,SALNTY,SALNTY_FLAG_W,CTDOXY,CTDOXY_FLAG_W,OXYGEN,OXYGEN_FLAG_W,SILCAT,SILCAT_FLAG_W,NITRAT,NITRAT_FLAG_W,NITRIT,NITRIT_FLAG_W,PHSPHT,PHSPHT_FLAG_W,CFC-11,CFC-11_FLAG_W,CFC-12,CFC-12_FLAG_W,CFC113,CFC113_FLAG_W,TCARBN,TCARBN_FLAG_W,ALKALI,ALKALI_FLAG_W,TRITUM,TRITUM_FLAG_W,HELIUM,HELIUM_FLAG_W,DELHE3,DELHE3_FLAG_W,DELC13,DELC13_FLAG_W,DELC14,DELC14_FLAG_W,C14ERR,NEON,NEON_FLAG_W,NEONER,DOC,DOC_FLAG_W,CTDRAW,CDOM380,CDOM380_FLAG_W,CDOM325,CDOM325_FLAG_W,CDOMSL,CDOMSL_FLAG_W,CDOM340,CDOM340_FLAG_W,CDOMSN,CDOMSN_FLAG_W,HELIER,TRITER,CDOM412,CDOM412_FLAG_W,DELHER
,,,,,,,,,,,METERS,DBAR,ITS-90,PSS-78,,PSS-78,,UMOL/KG,,UMOL/KG,,UMOL/KG,,UMOL/KG,,UMOL/KG,,UMOL/KG,,PMOL/KG,,PMOL/KG,,PMOL/KG,,UMOL/KG,,UMOL/KG,,TU,,NMOL/KG,,PERCNT,,/MILLE,,/MILLE,,/MILLE,NMOL/KG,,NMOL/KG,UMOL/KG,,DBAR,1/M,,1/M,,1/NM,,1/M,,1/NM,,NMOL/KG,TU,1/M,,PERCNT
318M20040615,        P02,     122,          1,         36,         36,2,20040808,       0400,    29.9988,  -157.6177,       5751,    12.0,  24.6344,  35.3733,2,  35.3782,2, 212.8000,2,   212.4,2,    1.24,2,    0.05,2,    0.00,2,    0.02,2,   1.890,2,   1.125,2,   0.137,2,  2016.2,2,  2327.2,6,-999.000,9,-999.0000,9, -999.00,9, -999.00,9,  -999.0,9,  -999.0,-999.000,9,-999.000, -999.00,9,   12.00,-999.0000,9,-999.0000,9,-999.0000,9,-999.0000,9,-999.0000,9,-999.0000,-999.000,-999.0000,9, -999.00
318M20040615,        P02,     122,          1,         35,         35,2,20040808,       0400,    29.9988,  -157.6177,       5751,    36.7,  21.4002,  35.2300,2,  35.2321,2, 237.6000,2,   237.5,2,    1.43,2,    0.05,2,    0.00,2,    0.03,2,   2.352,2,   1.288,2,   0.156,2,  -999.0,9,  -999.0,9,-999.000,9,-999.0000,9, -999.00,9, -999.00,9,  -999.0,9,  -999.0,-999.000,9,-999.000, -999.00,9,   36.70,-999.0000,9,-999.0000,9,-999.0000,9,-999.0000,9,-999.0000,9,-999.0000,-999.000,-999.0000,9, -999.00
318M20040615,        P02,     122,          1,         34,         34,2,20040808,       0400,    29.9988,  -157.6177,       5751,    71.3,  19.1808,  35.0449,2,  35.0560,2, 232.1000,2,   233.5,2,    1.81,2,    0.05,2,    0.00,2,    0.06,2,   2.408,2,   1.404,2,   0.150,2,  2019.6,2,  2305.1,2,-999.000,9,-999.0000,9, -999.00,9, -999.00,9,  -999.0,9,  -999.0,-999.000,9,-999.000, -999.00,9,   71.30,-999.0000,9,-999.0000,9,-999.0000,9,-999.0000,9,-999.0000,9,-999.0000,-999.000,-999.0000,9, -999.00
318M20040615,        P02,     122,          1,         33,         33,2,20040808,       0400,    29.9988,  -157.6177,       5751,   121.1,  16.7775,  34.7239,2,  34.7183,2, 223.7000,2,   220.9,2,    3.13,2,    1.90,2,    0.13,2,    0.23,2,   2.653,2,   1.526,2,   0.134,2,  2036.7,2,  2284.4,2,-999.000,9,-999.0000,9, -999.00,9, -999.00,9,  -999.0,9,  -999.0,-999.000,9,-999.000, -999.00,9,  121.10,-999.0000,9,-999.0000,9,-999.0000,9,-999.0000,9,-999.0000,9,-999.0000,-999.000,-999.0000,9, -999.00
318M20040615,        P02,     122,          1,         32,         32,2,20040808,       0400,    29.9988,  -157.6177,       5751,   171.2,  14.3668,  34.4479,2,  34.4460,2, 237.5000,2,   240.0,2,    4.46,2,    2.86,2,    0.34,2,    0.31,2,   2.994,2,   1.703,2,   0.194,2,  -999.0,9,  -999.0,9,-999.000,9,-999.0000,9, -999.00,9, -999.00,9,  -999.0,9,  -999.0,-999.000,9,-999.000, -999.00,9,  171.20,-999.0000,9,-999.0000,9,-999.0000,9,-999.0000,9,-999.0000,9,-999.0000,-999.000,-999.0000,9, -999.00
318M20040615,        P02,     122,          1,         31,         31,2,20040808,       0400,    29.9988,  -157.6177,       5751,   221.0,  13.2783,  34.3707,2,  34.3710,2, 241.5000,2,   237.6,2,    6.55,2,    5.97,2,    0.01,2,    0.48,2,   3.047,2,   1.724,2,   0.169,2,  2051.4,2,  2265.8,2,-999.000,9,-999.0000,9, -999.00,9, -999.00,9,  -999.0,9,  -999.0,-999.000,9,-999.000, -999.00,9,  221.00,-999.0000,9,-999.0000,9,-999.0000,9,-999.0000,9,-999.0000,9,-999.0000,-999.000,-999.0000,9, -999.00
318M20040615,        P02,     122,          1,         30,         30,2,20040808,       0400,    29.9988,  -157.6177,       5751,   270.6,  12.3106,  34.2956,2,  34.2945,2, 223.4000,2,   225.3,2,    9.98,2,    9.71,2,    0.00,2,    0.71,2,   3.205,2,   1.795,2,   0.103,2,  -999.0,9,  -999.0,9,-999.000,9,-999.0000,9, -999.00,9, -999.00,9,  -999.0,9,  -999.0,-999.000,9,-999.000, -999.00,9,  270.60,-999.0000,9,-999.0000,9,-999.0000,9,-999.0000,9,-999.0000,9,-999.0000,-999.000,-999.0000,9, -999.00
318M20040615,        P02,     122,          1,         29,         29,2,20040808,       0400,    29.9988,  -157.6177,       5751,   320.7,  11.6434,  34.2690,2,  34.2659,2, 223.6000,2,   224.5,2,   12.26,2,   11.34,2,    0.00,2,    0.82,2,   3.254,2,   1.816,2,   0.101,2,  2080.9,2,  2264.2,2,-999.000,9,-999.0000,9, -999.00,9, -999.00,9,  -999.0,9,  -999.0,-999.000,9,-999.000, -999.00,9,  320.70,-999.0000,9,-999.0000,9,-999.0000,9,-999.0000,9,-999.0000,9,-999.0000,-999.000,-999.0000,9, -999.00
318M20040615,        P02,     122,          1,         28,         28,2,20040808,       0400,    29.9988,  -157.6177,       5751,   370.8,  10.6656,  34.1943,2,  34.1927,2, 217.0000,2,   217.7,2,   15.89,2,   13.82,2,    0.00,2,    1.00,2,   3.335,2,   1.811,2,   0.097,2,  -999.0,9,  -999.0,9,-999.000,9,-999.0000,9, -999.00,9, -999.00,9,  -999.0,9,  -999.0,-999.000,9,-999.000, -999.00,9,  370.80,-999.0000,9,-999.0000,9,-999.0000,9,-999.0000,9,-999.0000,9,-999.0000,-999.000,-999.0000,9, -999.00
318M20040615,        P02,     122,          1,         27,         27,2,20040808,       0400,    29.9988,  -157.6177,       5751,   425.6,   9.7633,  34.1495,2,  34.1519,2, 206.0000,2,   206.6,2,   20.65,2,   16.41,2,    0.00,2,    1.17,2,   3.270,2,   1.740,2,   0.099,2,  2114.9,2,  2267.9,2,-999.000,9,-999.0000,9, -999.00,9, -999.00,9,  -999.0,9,  -999.0,-999.000,9,-999.000, -999.00,9,  425.60,-999.0000,9,-999.0000,9,-999.0000,9,-999.0000,9,-999.0000,9,-999.0000,-999.000,-999.0000,9, -999.00
318M20040615,        P02,     122,          1,         26,         26,2,20040808,       0400,    29.9988,  -157.6177,       5751,   475.3,   8.6693,  34.0971,2,  34.0968,2, 183.4000,2,   181.1,2,   29.65,2,   20.99,2,    0.00,2,    1.50,2,   3.021,2,   1.569,2,   0.108,2,  -999.0,9,  -999.0,9,-999.000,9,-999.0000,9, -999.00,9, -999.00,9,  -999.0,9,  -999.0,-999.000,9,-999.000, -999.00,9,  475.30,-999.0000,9,-999.0000,9,-999.0000,9,-999.0000,9,-999.0000,9,-999.0000,-999.000,-999.0000,9, -999.00
318M20040615,        P02,     122,          1,         25,         25,2,20040808,       0400,    29.9988,  -157.6177,       5751,   545.3,   7.2457,  34.0311,2,  34.0286,2, 147.8000,2,   146.8,2,   44.82,2,   27.24,2,    0.00,2,    1.94,2,   2.431,2,   1.205,2,   0.094,2,  2192.4,2,  2280.3,2,-999.000,9,-999.0000,9, -999.00,9, -999.00,9,  -999.0,9,  -999.0,-999.000,9,-999.000, -999.00,9,  545.30,-999.0000,9,-999.0000,9,-999.0000,9,-999.0000,9,-999.0000,9,-999.0000,-999.000,-999.0000,9, -999.00
318M20040615,        P02,     122,          1,         24,         24,2,20040808,       0400,    29.9988,  -157.6177,       5751,   645.5,   5.5981,  34.0032,2,  34.0029,2, 102.4000,2,   103.6,2,   65.28,2,   33.99,2,    0.00,2,    2.44,2,   1.497,2,   0.717,2,   0.051,2,  2244.5,2,  2295.4,2,-999.000,9,-999.0000,9, -999.00,9, -999.00,9,  -999.0,9,  -999.0,-999.000,9,-999.000, -999.00,9,  645.50,-999.0000,9,-999.0000,9,-999.0000,9,-999.0000,9,-999.0000,9,-999.0000,-999.000,-999.0000,9, -999.00
318M20040615,        P02,     122,          1,         23,         23,2,20040808,       0400,    29.9988,  -157.6177,       5751,   745.3,   4.5397,  34.0925,2,  34.0976,2,  53.0000,2,    46.8,2,   91.70,2,   40.55,2,    0.00,2,    2.92,2,   0.379,2,   0.197,2,   0.000,2,  2308.5,2,  2320.6,2,-999.000,9,-999.0000,9, -999.00,9, -999.00,9,  -999.0,9,  -999.0,-999.000,9,-999.000, -999.00,9,  745.30,-999.0000,9,-999.0000,9,-999.0000,9,-999.0000,9,-999.0000,9,-999.0000,-999.000,-999.0000,9, -999.00
318M20040615,        P02,     122,          1,         22,         22,2,20040808,       0400,    29.9988,  -157.6177,       5751,   850.6,   3.9837,  34.2063,2,  34.2079,2,  21.1000,2,    19.0,2,  109.88,2,   43.23,2,    0.00,2,    3.12,2,   0.062,2,   0.035,2,   0.000,2,  2344.3,2,  2341.3,2,-999.000,9,-999.0000,9, -999.00,9, -999.00,9,  -999.0,9,  -999.0,-999.000,9,-999.000, -999.00,9,  850.60,-999.0000,9,-999.0000,9,-999.0000,9,-999.0000,9,-999.0000,9,-999.0000,-999.000,-999.0000,9, -999.00
318M20040615,        P02,     122,          1,         21,         21,2,20040808,       0400,    29.9988,  -157.6177,       5751,   950.8,   3.7119,  34.2943,2,  34.2958,2,  11.6000,2,    11.0,2,  121.06,2,   43.98,2,    0.00,2,    3.19,2,   0.014,2,   0.006,2,   0.000,2,  2360.5,2,  2356.7,2,-999.000,9,-999.0000,9, -999.00,9, -999.00,9,  -999.0,9,  -999.0,-999.000,9,-999.000, -999.00,9,  950.80,-999.0000,9,-999.0000,9,-999.0000,9,-999.0000,9,-999.0000,9,-999.0000,-999.000,-999.0000,9, -999.00
318M20040615,        P02,     122,          1,         20,         20,2,20040808,       0400,    29.9988,  -157.6177,       5751,  1050.5,   3.4942,  34.3697,2,  34.3695,2,  10.3000,2,    10.6,2,  128.71,2,   44.36,2,    0.00,2,    3.23,2,-999.000,9,-999.000,9,-999.000,9,  2371.8,6,  2369.4,2,-999.000,9,-999.0000,9, -999.00,9, -999.00,9,  -999.0,9,  -999.0,-999.000,9,-999.000, -999.00,9, 1050.50,-999.0000,9,-999.0000,9,-999.0000,9,-999.0000,9,-999.0000,9,-999.0000,-999.000,-999.0000,9, -999.00
318M20040615,        P02,     122,          1,         19,         19,2,20040808,       0400,    29.9988,  -157.6177,       5751,  1151.0,   3.2831,  34.4319,2,  34.4327,2,  14.6000,2,    15.6,2,  135.40,2,   44.52,2,    0.00,2,    3.21,2,   0.001,2,   0.001,2,   0.000,2,  -999.0,9,  -999.0,9,-999.000,9,-999.0000,9, -999.00,9, -999.00,9,  -999.0,9,  -999.0,-999.000,9,-999.000, -999.00,9, 1151.00,-999.0000,9,-999.0000,9,-999.0000,9,-999.0000,9,-999.0000,9,-999.0000,-999.000,-999.0000,9, -999.00
318M20040615,        P02,     122,          1,         18,         18,2,20040808,       0400,    29.9988,  -157.6177,       5751,  1251.3,   3.1079,  34.4786,2,  34.4794,2,  22.3000,2,    24.0,2,  139.53,2,   44.26,2,    0.00,2,    3.17,2,-999.000,9,-999.000,9,-999.000,9,  -999.0,9,  -999.0,9,-999.000,9,-999.0000,9, -999.00,9, -999.00,9,  -999.0,9,  -999.0,-999.000,9,-999.000, -999.00,9, 1251.30,-999.0000,9,-999.0000,9,-999.0000,9,-999.0000,9,-999.0000,9,-999.0000,-999.000,-999.0000,9, -999.00
318M20040615,        P02,     122,          1,         17,         17,2,20040808,       0400,    29.9988,  -157.6177,       5751,  1356.3,   2.9267,  34.5130,2,  34.5130,2,  33.1000,2,    33.0,2,  143.27,2,   43.66,2,    0.00,2,    3.13,2,   0.001,2,   0.001,2,   0.000,2,  -999.0,9,  -999.0,9,-999.000,9,-999.0000,9, -999.00,9, -999.00,9,  -999.0,9,  -999.0,-999.000,9,-999.000, -999.00,9, 1356.30,-999.0000,9,-999.0000,9,-999.0000,9,-999.0000,9,-999.0000,9,-999.0000,-999.000,-999.0000,9, -999.00
318M20040615,        P02,     122,          1,         16,         16,2,20040808,       0400,    29.9988,  -157.6177,       5751,  1456.6,   2.7460,  34.5331,2,  34.5389,2,  40.9000,3,    40.9,2,  147.21,2,   43.13,2,    0.00,2,    3.09,2,-999.000,9,-999.000,9,-999.000,9,  -999.0,9,  -999.0,9,-999.000,9,-999.0000,9, -999.00,9, -999.00,9,  -999.0,9,  -999.0,-999.000,9,-999.000, -999.00,9, 1456.60,-999.0000,9,-999.0000,9,-999.0000,9,-999.0000,9,-999.0000,9,-999.0000,-999.000,-999.0000,9, -999.00
318M20040615,        P02,     122,          1,         15,         15,2,20040808,       0400,    29.9988,  -157.6177,       5751,  1557.2,   2.5859,  34.5514,2,  34.5513,2,  46.4000,2,    46.1,2,  151.56,2,   42.81,2,    0.00,2,    3.06,2,   0.000,2,  -0.002,2,   0.000,2,  -999.0,9,  -999.0,9,-999.000,9,-999.0000,9, -999.00,9, -999.00,9,  -999.0,9,  -999.0,-999.000,9,-999.000, -999.00,9, 1557.20,-999.0000,9,-999.0000,9,-999.0000,9,-999.0000,9,-999.0000,9,-999.0000,-999.000,-999.0000,9, -999.00
318M20040615,        P02,     122,          1,         14,         14,2,20040808,       0400,    29.9988,  -157.6177,       5751,  1763.7,   2.2665,  34.5851,2,  34.5850,2,  64.3000,2,    62.2,2,  158.51,2,   41.69,2,    0.00,2,    2.97,2,-999.000,9,-999.000,9,-999.000,9,  -999.0,9,  -999.0,9,-999.000,9,-999.0000,9, -999.00,9, -999.00,9,  -999.0,9,  -999.0,-999.000,9,-999.000, -999.00,9, 1763.70,-999.0000,9,-999.0000,9,-999.0000,9,-999.0000,9,-999.0000,9,-999.0000,-999.000,-999.0000,9, -999.00
318M20040615,        P02,     122,          1,         13,         13,2,20040808,       0400,    29.9988,  -157.6177,       5751,  1969.7,   2.0431,  34.6080,2,  34.6078,2,  78.0000,2,    77.5,2,  160.88,2,   40.73,2,    0.00,2,    2.90,2,   0.002,2,   0.001,2,   0.000,2,  -999.0,9,  -999.0,9,-999.000,9,-999.0000,9, -999.00,9, -999.00,9,  -999.0,9,  -999.0,-999.000,9,-999.000, -999.00,9, 1969.70,-999.0000,9,-999.0000,9,-999.0000,9,-999.0000,9,-999.0000,9,-999.0000,-999.000,-999.0000,9, -999.00
318M20040615,        P02,     122,          1,         12,         12,2,20040808,       0400,    29.9988,  -157.6177,       5751,  2128.0,   1.9047,  34.6231,2,  34.6235,2,  86.3000,2,    86.2,2,  163.46,2,   40.19,2,    0.00,2,    2.85,2,-999.000,9,-999.000,9,-999.000,9,  -999.0,9,  -999.0,9,-999.000,9,-999.0000,9, -999.00,9, -999.00,9,  -999.0,9,  -999.0,-999.000,9,-999.000, -999.00,9, 2128.00,-999.0000,9,-999.0000,9,-999.0000,9,-999.0000,9,-999.0000,9,-999.0000,-999.000,-999.0000,9, -999.00
318M20040615,        P02,     122,          1,         11,         11,2,20040808,       0400,    29.9988,  -157.6177,       5751,  2382.7,   1.7613,  34.6395,2,  34.6394,2,  98.6000,2,  -999.0,5,  164.83,2,   39.55,2,    0.00,2,    2.79,2,   0.000,2,  -0.002,2,   0.000,2,  -999.0,9,  -999.0,9,-999.000,9,-999.0000,9, -999.00,9, -999.00,9,  -999.0,9,  -999.0,-999.000,9,-999.000, -999.00,9, 2382.70,-999.0000,9,-999.0000,9,-999.0000,9,-999.0000,9,-999.0000,9,-999.0000,-999.000,-999.0000,9, -999.00
318M20040615,        P02,     122,          1,         10,         10,2,20040808,       0400,    29.9988,  -157.6177,       5751,  2637.0,   1.6525,  34.6518,2,  34.6526,2, 108.9000,2,   109.1,2,  164.41,2,   39.08,2,    0.00,2,    2.74,2,-999.000,9,-999.000,9,-999.000,9,  -999.0,9,  -999.0,9,-999.000,9,-999.0000,9, -999.00,9, -999.00,9,  -999.0,9,  -999.0,-999.000,9,-999.000, -999.00,9, 2637.00,-999.0000,9,-999.0000,9,-999.0000,9,-999.0000,9,-999.0000,9,-999.0000,-999.000,-999.0000,9, -999.00
318M20040615,        P02,     122,          1,          9,          9,2,20040808,       0400,    29.9988,  -157.6177,       5751,  2890.4,   1.5867,  34.6615,2,  34.6606,2, 117.0000,2,   117.7,2,  164.20,2,   38.60,2,    0.00,2,    2.69,2,  -0.001,2,   0.000,2,   0.000,2,  -999.0,9,  -999.0,9,-999.000,9,-999.0000,9, -999.00,9, -999.00,9,  -999.0,9,  -999.0,-999.000,9,-999.000, -999.00,9, 2890.40,-999.0000,9,-999.0000,9,-999.0000,9,-999.0000,9,-999.0000,9,-999.0000,-999.000,-999.0000,9, -999.00
318M20040615,        P02,     122,          1,          8,          8,2,20040808,       0400,    29.9988,  -157.6177,       5751,  3149.1,   1.5359,  34.6687,2,  34.6686,2, 125.9000,2,   126.5,2,  162.59,2,   37.97,2,    0.00,2,    2.64,2,-999.000,9,-999.000,9,-999.000,9,  -999.0,9,  -999.0,9,-999.000,9,-999.0000,9, -999.00,9, -999.00,9,  -999.0,9,  -999.0,-999.000,9,-999.000, -999.00,9, 3149.10,-999.0000,9,-999.0000,9,-999.0000,9,-999.0000,9,-999.0000,9,-999.0000,-999.000,-999.0000,9, -999.00
318M20040615,        P02,     122,          1,          7,          7,2,20040808,       0400,    29.9988,  -157.6177,       5751,  3555.6,   1.4919,  34.6772,2,  34.6773,2, 136.2000,2,   136.6,2,  160.00,2,   37.28,2,    0.00,2,    2.59,2,   0.001,2,  -0.001,2,   0.000,2,  -999.0,9,  -999.0,9,-999.000,9,-999.0000,9, -999.00,9, -999.00,9,  -999.0,9,  -999.0,-999.000,9,-999.000, -999.00,9, 3555.60,-999.0000,9,-999.0000,9,-999.0000,9,-999.0000,9,-999.0000,9,-999.0000,-999.000,-999.0000,9, -999.00
318M20040615,        P02,     122,          1,          6,          6,2,20040808,       0400,    29.9988,  -157.6177,       5751,  3972.3,   1.4768,  34.6833,2,  34.6819,2, 144.7000,2,   144.7,2,  156.79,2,   36.65,2,    0.00,2,    2.54,2,   0.000,2,  -0.003,2,   0.000,2,  -999.0,9,  -999.0,9,-999.000,9,-999.0000,9, -999.00,9, -999.00,9,  -999.0,9,  -999.0,-999.000,9,-999.000, -999.00,9, 3972.30,-999.0000,9,-999.0000,9,-999.0000,9,-999.0000,9,-999.0000,9,-999.0000,-999.000,-999.0000,9, -999.00
318M20040615,        P02,     122,          1,          5,          5,2,20040808,       0400,    29.9988,  -157.6177,       5751,  4378.4,   1.4852,  34.6866,2,  34.6865,2, 150.3000,2,   150.6,2,  153.64,2,   36.18,2,    0.00,2,    2.51,2,   0.001,2,  -0.002,2,   0.000,2,  -999.0,9,  -999.0,9,-999.000,9,-999.0000,9, -999.00,9, -999.00,9,  -999.0,9,  -999.0,-999.000,9,-999.000, -999.00,9, 4378.40,-999.0000,9,-999.0000,9,-999.0000,9,-999.0000,9,-999.0000,9,-999.0000,-999.000,-999.0000,9, -999.00
318M20040615,        P02,     122,          1,          4,          4,2,20040808,       0400,    29.9988,  -157.6177,       5751,  4788.5,   1.5051,  34.6893,2,  34.6896,2, 154.9000,2,   155.4,2,  150.06,2,   35.81,2,    0.00,2,    2.48,2,   0.001,2,  -0.001,2,   0.000,2,  -999.0,9,  -999.0,9,-999.000,9,-999.0000,9, -999.00,9, -999.00,9,  -999.0,9,  -999.0,-999.000,9,-999.000, -999.00,9, 4788.50,-999.0000,9,-999.0000,9,-999.0000,9,-999.0000,9,-999.0000,9,-999.0000,-999.000,-999.0000,9, -999.00
318M20040615,        P02,     122,          1,          3,          3,2,20040808,       0400,    29.9988,  -157.6177,       5751,  5253.5,   1.5477,  34.6905,2,  34.6906,2, 157.8000,2,   158.4,2,  147.48,2,   35.50,2,    0.00,2,    2.48,2,   0.002,2,   0.001,2,   0.000,2,  -999.0,9,  -999.0,9,-999.000,9,-999.0000,9, -999.00,9, -999.00,9,  -999.0,9,  -999.0,-999.000,9,-999.000, -999.00,9, 5253.50,-999.0000,9,-999.0000,9,-999.0000,9,-999.0000,9,-999.0000,9,-999.0000,-999.000,-999.0000,9, -999.00
318M20040615,        P02,     122,          1,          2,          2,2,20040808,       0400,    29.9988,  -157.6177,       5751,  5689.2,   1.5951,  34.6914,2,  34.6920,2, 159.9000,2,   160.0,2,  145.69,2,   35.51,2,    0.00,2,    2.47,2,   0.002,2,   0.000,2,   0.000,2,  -999.0,9,  -999.0,9,-999.000,9,-999.0000,9, -999.00,9, -999.00,9,  -999.0,9,  -999.0,-999.000,9,-999.000, -999.00,9, 5689.20,-999.0000,9,-999.0000,9,-999.0000,9,-999.0000,9,-999.0000,9,-999.0000,-999.000,-999.0000,9, -999.00
318M20040615,        P02,     122,          1,          1,          1,2,20040808,       0400,    29.9988,  -157.6177,       5751,  5893.3,   1.6199,  34.6916,2,  34.6947,2, 160.4000,3,   161.2,2,  145.07,2,   35.62,2,    0.00,2,    2.47,2,   0.007,2,   0.008,2,   0.000,2,  -999.0,9,  -999.0,9,-999.000,9,-999.0000,9, -999.00,9, -999.00,9,  -999.0,9,  -999.0,-999.000,9,-999.000, -999.00,9, 5893.30,-999.0000,9,-999.0000,9,-999.0000,9,-999.0000,9,-999.0000,9,-999.0000,-999.000,-999.0000,9, -999.00