BOTTLE,20131027SIOCCHRJL
EXPOCODE,SECT_ID,STNNBR,CASTNO,SAMPNO,BTLNBR,BTLNBR_FLAG_W,DATE,TIME,LATITUDE,LONGITUDE,DEPTH,CTDPRS,CTDTMP,CTDSAL,CTDSAL_FLAG_W,SALNTY,SALNTY_FLAG_W,CTDOXY,CTDOXY_FLAG_W,OXYGEN,OXYGEN_FLAG_W,SILCAT,SILCAT_FLAG_W,NITRAT,NITRAT_FLAG_W,NITRIT,NITRIT_FLAG_W,PHSPHT,PHSPHT_FLAG_W,CFC-11,CFC-11_FLAG_W,CFC-12,CFC-12_FLAG_W,CFC113,CFC113_FLAG_W,TCARBN,TCARBN_FLAG_W,ALKALI,ALKALI_FLAG_W,TRITUM,TRITUM_FLAG_W,HELIUM,HELIUM_FLAG_W,DELHE3,DELHE3_FLAG_W,DELC13,DELC13_FLAG_W,DELC14,DELC14_FLAG_W,C14ERR,NEON,NEON_FLAG_W,NEONER,DOC,DOC_FLAG_W,CTDRAW,CDOM380,CDOM380_FLAG_W,CDOM325,CDOM325_FLAG_W,CDOMSL,CDOMSL_FLAG_W,CDOM340,CDOM340_FLAG_W,CDOMSN,CDOMSN_FLAG_W,HELIER,TRITER,CDOM412,CDOM412_FLAG_W,DELHER
,,,,,,,,,,,METERS,DBAR,ITS-90,PSS-78,,PSS-78,,UMOL/KG,,UMOL/KG,,UMOL/KG,,UMOL/KG,,UMOL/KG,,UMOL/KG,,PMOL/KG,,PMOL/KG,,PMOL/KG,,UMOL/KG,,UMOL/KG,,TU,,NMOL/KG,,PERCNT,,/MILLE,,/MILLE,,/MILLE,NMOL/KG,,NMOL/KG,UMOL/KG,,DBAR,1/M,,1/M,,1/NM,,1/M,,1/NM,,NMOL/KG,TU,1/M,,PERCNT
318M20040615,        P02,      85,          1,         36,         36,2,20040715,       1726,     30.001,  -179.8293,       5199,     7.2,  27.2931,  35.0816,2,  35.0826,2, 205.7000,2,   204.7,2,    0.63,2,    0.17,2,    0.00,2,    0.02,2,   1.689,2,   1.063,2,   0.121,2,  1981.3,6,  2305.0,6,-999.000,9,-999.0000,9, -999.00,9, -999.00,9,  -999.0,9,  -999.0,-999.000,9,-999.000, -999.00,9,    7.20,-999.0000,9,-999.0000,9,-999.0000,9,-999.0000,9,-999.0000,9,-999.0000,-999.000,-999.0000,9, -999.00
318M20040615,        P02,      85,          1,         35,         35,2,20040715,       1726,     30.001,  -179.8293,       5199,    50.8,  22.8505,  35.2146,2,  35.2131,2, 225.4000,2,   227.0,2,    1.21,2,    0.12,2,    0.00,2,    0.02,2,   2.045,2,   1.227,2,   0.135,2,  1995.3,2,  2311.7,2,-999.000,9,-999.0000,9, -999.00,9, -999.00,9,  -999.0,9,  -999.0,-999.000,9,-999.000, -999.00,9,   50.80,-999.0000,9,-999.0000,9,-999.0000,9,-999.0000,9,-999.0000,9,-999.0000,-999.000,-999.0000,9, -999.00
318M20040615,        P02,      85,          1,         34,         34,2,20040715,       1726,     30.001,  -179.8293,       5199,   100.9,  18.9625,  34.9585,2,  34.9575,2, 233.2000,2,   233.8,2,    1.79,2,    0.12,2,    0.00,2,    0.06,2,   2.356,2,   1.403,2,   0.151,2,  2015.4,2,  2295.7,2,-999.000,9,-999.0000,9, -999.00,9, -999.00,9,  -999.0,9,  -999.0,-999.000,9,-999.000, -999.00,9,  100.90,-999.0000,9,-999.0000,9,-999.0000,9,-999.0000,9,-999.0000,9,-999.0000,-999.000,-999.0000,9, -999.00
318M20040615,        P02,      85,          1,         33,         33,2,20040715,       1726,     30.001,  -179.8293,       5199,   155.6,  17.4004,  34.7976,2,  34.8000,2, 226.8000,2,   222.9,2,    2.77,2,    2.26,2,    0.20,2,    0.22,2,   2.497,2,   1.469,2,   0.145,2,  2013.4,2,  2285.8,2,-999.000,9,-999.0000,9, -999.00,9, -999.00,9,  -999.0,9,  -999.0,-999.000,9,-999.000, -999.00,9,  155.60,-999.0000,9,-999.0000,9,-999.0000,9,-999.0000,9,-999.0000,9,-999.0000,-999.000,-999.0000,9, -999.00
318M20040615,        P02,      85,          1,         32,         32,2,20040715,       1726,     30.001,  -179.8293,       5199,   205.6,  16.7529,  34.7436,2,  34.7423,2, 219.7000,2,   221.5,2,    3.55,2,    3.93,2,    0.02,2,    0.29,2,   2.534,2,   1.482,2,   0.121,2,  2026.3,2,  2281.0,2,-999.000,9,-999.0000,9, -999.00,9, -999.00,9,  -999.0,9,  -999.0,-999.000,9,-999.000, -999.00,9,  205.60,-999.0000,9,-999.0000,9,-999.0000,9,-999.0000,9,-999.0000,9,-999.0000,-999.000,-999.0000,9, -999.00
318M20040615,        P02,      85,          1,         31,         31,2,20040715,       1726,     30.001,  -179.8293,       5199,   259.9,  15.7990,  34.6502,2,  34.6505,2, 208.7000,2,   215.9,2,    5.50,2,    5.67,2,    0.01,2,    0.41,2,   2.639,2,   1.509,2,   0.076,2,  -999.0,9,  -999.0,9,-999.000,9,-999.0000,9, -999.00,9, -999.00,9,  -999.0,9,  -999.0,-999.000,9,-999.000, -999.00,9,  259.90,-999.0000,9,-999.0000,9,-999.0000,9,-999.0000,9,-999.0000,9,-999.0000,-999.000,-999.0000,9, -999.00
318M20040615,        P02,      85,          1,         30,         30,2,20040715,       1726,     30.001,  -179.8293,       5199,   308.7,  14.9686,  34.5922,2,  34.5939,2, 221.0000,2,   224.2,2,    6.68,2,    6.30,2,    0.01,2,    0.46,2,   2.700,2,   1.554,2,   0.119,2,  2042.7,2,  2276.1,2,-999.000,9,-999.0000,9, -999.00,9, -999.00,9,  -999.0,9,  -999.0,-999.000,9,-999.000, -999.00,9,  308.70,-999.0000,9,-999.0000,9,-999.0000,9,-999.0000,9,-999.0000,9,-999.0000,-999.000,-999.0000,9, -999.00
318M20040615,        P02,      85,          1,         29,         29,2,20040715,       1726,     30.001,  -179.8293,       5199,   356.2,  13.8968,  34.5010,2,  34.5018,2, 211.5000,2,   212.1,2,    9.83,2,    9.07,2,    0.01,2,    0.65,2,   2.796,2,   1.559,2,   0.074,2,  -999.0,9,  -999.0,9,-999.000,9,-999.0000,9, -999.00,9, -999.00,9,  -999.0,9,  -999.0,-999.000,9,-999.000, -999.00,9,  356.20,-999.0000,9,-999.0000,9,-999.0000,9,-999.0000,9,-999.0000,9,-999.0000,-999.000,-999.0000,9, -999.00
318M20040615,        P02,      85,          1,         28,         28,2,20040715,       1726,     30.001,  -179.8293,       5199,   406.2,  12.5532,  34.3965,2,  34.3969,2, 211.0000,2,   212.0,2,   12.79,2,   11.26,2,    0.01,2,    0.80,2,   2.897,2,   1.580,2,   0.079,2,  2079.1,2,  2270.3,2,-999.000,9,-999.0000,9, -999.00,9, -999.00,9,  -999.0,9,  -999.0,-999.000,9,-999.000, -999.00,9,  406.20,-999.0000,9,-999.0000,9,-999.0000,9,-999.0000,9,-999.0000,9,-999.0000,-999.000,-999.0000,9, -999.00
318M20040615,        P02,      85,          1,         27,         27,2,20040715,       1726,     30.001,  -179.8293,       5199,   455.9,  11.4518,  34.3137,2,  34.3145,2, 208.2000,2,   209.4,2,   16.35,2,   13.49,2,    0.01,2,    0.96,2,   2.935,2,   1.581,2,   0.091,2,  -999.0,9,  -999.0,9,-999.000,9,-999.0000,9, -999.00,9, -999.00,9,  -999.0,9,  -999.0,-999.000,9,-999.000, -999.00,9,  455.90,-999.0000,9,-999.0000,9,-999.0000,9,-999.0000,9,-999.0000,9,-999.0000,-999.000,-999.0000,9, -999.00
318M20040615,        P02,      85,          1,         26,         26,2,20040715,       1726,     30.001,  -179.8293,       5199,   506.4,  10.5354,  34.2440,2,  34.2442,2, 202.5000,2,   202.5,2,   20.31,2,   15.76,2,    0.01,2,    1.12,2,   2.936,2,   1.575,2,   0.101,2,  2110.2,2,  2269.6,2,-999.000,9,-999.0000,9, -999.00,9, -999.00,9,  -999.0,9,  -999.0,-999.000,9,-999.000, -999.00,9,  506.40,-999.0000,9,-999.0000,9,-999.0000,9,-999.0000,9,-999.0000,9,-999.0000,-999.000,-999.0000,9, -999.00
318M20040615,        P02,      85,          1,         25,         25,2,20040715,       1726,     30.001,  -179.8293,       5199,   607.7,   7.8900,  34.0667,2,  34.0670,2, 171.9000,2,   172.1,2,   37.91,2,   23.42,2,    0.01,2,    1.68,2,   2.622,6,   1.337,6,   0.103,6,  -999.0,9,  -999.0,9,-999.000,9,-999.0000,9, -999.00,9, -999.00,9,  -999.0,9,  -999.0,-999.000,9,-999.000, -999.00,9,  607.70,-999.0000,9,-999.0000,9,-999.0000,9,-999.0000,9,-999.0000,9,-999.0000,-999.000,-999.0000,9, -999.00
318M20040615,        P02,      85,          1,         24,         24,2,20040715,       1726,     30.001,  -179.8293,       5199,   709.5,   6.0241,  34.0237,2,  34.0242,2, 132.7000,2,   127.6,2,   61.14,2,   30.97,2,    0.01,2,    2.23,2,   1.981,2,   0.990,2,   0.088,2,  -999.0,9,  -999.0,9,-999.000,9,-999.0000,9, -999.00,9, -999.00,9,  -999.0,9,  -999.0,-999.000,9,-999.000, -999.00,9,  709.50,-999.0000,9,-999.0000,9,-999.0000,9,-999.0000,9,-999.0000,9,-999.0000,-999.000,-999.0000,9, -999.00
318M20040615,        P02,      85,          1,         23,         23,2,20040715,       1726,     30.001,  -179.8293,       5199,   810.2,   4.8442,  34.0878,2,  34.0906,2,  90.4000,2,    82.5,2,   85.41,2,   36.90,2,    0.01,2,    2.65,2,   1.234,2,   0.606,2,   0.052,2,  2281.8,2,  2313.4,2,-999.000,9,-999.0000,9, -999.00,9, -999.00,9,  -999.0,9,  -999.0,-999.000,9,-999.000, -999.00,9,  810.20,-999.0000,9,-999.0000,9,-999.0000,9,-999.0000,9,-999.0000,9,-999.0000,-999.000,-999.0000,9, -999.00
318M20040615,        P02,      85,          1,         22,         22,2,20040715,       1726,     30.001,  -179.8293,       5199,   909.9,   4.1659,  34.1886,2,  34.1896,2,  55.2000,2,    53.5,2,  104.91,2,   40.23,2,    0.00,2,    2.88,2,   0.640,2,   0.312,2,   0.024,2,  -999.0,9,  -999.0,9,-999.000,9,-999.0000,9, -999.00,9, -999.00,9,  -999.0,9,  -999.0,-999.000,9,-999.000, -999.00,9,  909.90,-999.0000,9,-999.0000,9,-999.0000,9,-999.0000,9,-999.0000,9,-999.0000,-999.000,-999.0000,9, -999.00
318M20040615,        P02,      85,          1,         21,         21,2,20040715,       1726,     30.001,  -179.8293,       5199,  1015.1,   3.7207,  34.2663,2,  34.2668,2,  38.4000,2,    38.7,2,  118.49,2,   41.77,2,    0.01,2,    3.01,2,   0.326,2,   0.158,2,   0.010,2,  -999.0,9,  -999.0,9,-999.000,9,-999.0000,9, -999.00,9, -999.00,9,  -999.0,9,  -999.0,-999.000,9,-999.000, -999.00,9, 1015.10,-999.0000,9,-999.0000,9,-999.0000,9,-999.0000,9,-999.0000,9,-999.0000,-999.000,-999.0000,9, -999.00
318M20040615,        P02,      85,          1,         20,         20,2,20040715,       1726,     30.001,  -179.8293,       5199,  1115.0,   3.4099,  34.3231,2,  34.3235,2,  32.9000,2,    32.7,2,  128.17,2,   42.61,2,    0.00,2,    3.06,2,   0.189,2,   0.096,2,   0.002,2,  2358.3,2,  2362.8,2,-999.000,9,-999.0000,9, -999.00,9, -999.00,9,  -999.0,9,  -999.0,-999.000,9,-999.000, -999.00,9, 1115.00,-999.0000,9,-999.0000,9,-999.0000,9,-999.0000,9,-999.0000,9,-999.0000,-999.000,-999.0000,9, -999.00
318M20040615,        P02,      85,          1,         19,         19,2,20040715,       1726,     30.001,  -179.8293,       5199,  1215.2,   3.0852,  34.3832,2,  34.3835,2,  28.9000,2,    29.2,2,  138.49,2,   43.18,2,    0.00,2,    3.10,2,   0.097,2,   0.049,2,   0.001,2,  2371.2,2,  2374.9,2,-999.000,9,-999.0000,9, -999.00,9, -999.00,9,  -999.0,9,  -999.0,-999.000,9,-999.000, -999.00,9, 1215.20,-999.0000,9,-999.0000,9,-999.0000,9,-999.0000,9,-999.0000,9,-999.0000,-999.000,-999.0000,9, -999.00
318M20040615,        P02,      85,          1,         18,         18,2,20040715,       1726,     30.001,  -179.8293,       5199,  1315.9,   2.8906,  34.4434,2,  34.4430,2,  27.7000,2,    28.4,2,  144.06,2,   43.52,2,    0.00,2,    3.12,2,   0.028,2,   0.014,2,   0.001,2,  -999.0,9,  -999.0,9,-999.000,9,-999.0000,9, -999.00,9, -999.00,9,  -999.0,9,  -999.0,-999.000,9,-999.000, -999.00,9, 1315.90,-999.0000,9,-999.0000,9,-999.0000,9,-999.0000,9,-999.0000,9,-999.0000,-999.000,-999.0000,9, -999.00
318M20040615,        P02,      85,          1,         17,         17,2,20040715,       1726,     30.001,  -179.8293,       5199,  1415.8,   2.7125,  34.4825,2,  34.4818,2,  32.8000,2,    33.1,2,  148.61,2,   43.25,2,    0.00,2,    3.10,2,   0.016,2,   0.011,2,   0.001,2,  -999.0,9,  2392.6,2,-999.000,9,-999.0000,9, -999.00,9, -999.00,9,  -999.0,9,  -999.0,-999.000,9,-999.000, -999.00,9, 1415.80,-999.0000,9,-999.0000,9,-999.0000,9,-999.0000,9,-999.0000,9,-999.0000,-999.000,-999.0000,9, -999.00
318M20040615,        P02,      85,          1,         16,         16,2,20040715,       1726,     30.001,  -179.8293,       5199,  1516.2,   2.5841,  34.5072,2,  34.5065,2,  38.6000,2,    38.5,2,  151.69,2,   42.97,2,    0.00,2,    3.08,2,   0.009,2,   0.005,2,   0.001,2,  -999.0,9,  -999.0,9,-999.000,9,-999.0000,9, -999.00,9, -999.00,9,  -999.0,9,  -999.0,-999.000,9,-999.000, -999.00,9, 1516.20,-999.0000,9,-999.0000,9,-999.0000,9,-999.0000,9,-999.0000,9,-999.0000,-999.000,-999.0000,9, -999.00
318M20040615,        P02,      85,          1,         15,         15,2,20040715,       1726,     30.001,  -179.8293,       5199,  1615.8,   2.4264,  34.5341,2,  34.5411,2,  46.1000,3,    45.6,2,  154.97,2,   42.58,2,    0.00,2,    3.05,2,   0.002,2,   0.002,2,   0.001,2,  -999.0,9,  2402.7,2,-999.000,9,-999.0000,9, -999.00,9, -999.00,9,  -999.0,9,  -999.0,-999.000,9,-999.000, -999.00,9, 1615.80,-999.0000,9,-999.0000,9,-999.0000,9,-999.0000,9,-999.0000,9,-999.0000,-999.000,-999.0000,9, -999.00
318M20040615,        P02,      85,          1,         14,         14,2,20040715,       1726,     30.001,  -179.8293,       5199,  1716.0,   2.2737,  34.5578,2,  34.5569,2,  53.5000,2,    53.8,2,  158.46,2,   42.53,2,    0.00,2,    3.01,2,   0.003,2,   0.001,2,   0.001,2,  -999.0,9,  -999.0,9,-999.000,9,-999.0000,9, -999.00,9, -999.00,9,  -999.0,9,  -999.0,-999.000,9,-999.000, -999.00,9, 1716.00,-999.0000,9,-999.0000,9,-999.0000,9,-999.0000,9,-999.0000,9,-999.0000,-999.000,-999.0000,9, -999.00
318M20040615,        P02,      85,          1,         13,         13,2,20040715,       1726,     30.001,  -179.8293,       5199,  1825.0,   2.1608,  34.5751,2,  34.5733,2,  60.5000,2,    60.8,2,  160.51,2,   42.31,2,    0.00,2,    2.97,2,   0.002,2,   0.001,2,   0.001,2,  -999.0,9,  2409.9,2,-999.000,9,-999.0000,9, -999.00,9, -999.00,9,  -999.0,9,  -999.0,-999.000,9,-999.000, -999.00,9, 1825.00,-999.0000,9,-999.0000,9,-999.0000,9,-999.0000,9,-999.0000,9,-999.0000,-999.000,-999.0000,9, -999.00
318M20040615,        P02,      85,          1,         12,         12,2,20040715,       1726,     30.001,  -179.8293,       5199,  2025.1,   1.9508,  34.6038,2,  34.6024,2,  75.4000,2,    77.1,2,  162.36,2,   41.21,2,    0.00,2,    2.89,2,   0.001,2,   0.002,2,   0.001,2,  -999.0,9,  -999.0,9,-999.000,9,-999.0000,9, -999.00,9, -999.00,9,  -999.0,9,  -999.0,-999.000,9,-999.000, -999.00,9, 2025.10,-999.0000,9,-999.0000,9,-999.0000,9,-999.0000,9,-999.0000,9,-999.0000,-999.000,-999.0000,9, -999.00
318M20040615,        P02,      85,          1,         11,         11,2,20040715,       1726,     30.001,  -179.8293,       5199,  2280.4,   1.7817,  34.6264,2,  34.6261,2,  92.5000,2,    92.1,2,  163.36,2,   40.17,2,    0.00,2,    2.82,2,   0.001,2,  -0.002,2,   0.001,2,  -999.0,9,  2417.5,2,-999.000,9,-999.0000,9, -999.00,9, -999.00,9,  -999.0,9,  -999.0,-999.000,9,-999.000, -999.00,9, 2280.40,-999.0000,9,-999.0000,9,-999.0000,9,-999.0000,9,-999.0000,9,-999.0000,-999.000,-999.0000,9, -999.00
318M20040615,        P02,      85,          1,         10,         10,2,20040715,       1726,     30.001,  -179.8293,       5199,  2538.0,   1.6726,  34.6430,2,  34.6416,2, 106.3000,2,   106.9,2,  161.50,2,   39.12,2,    0.00,2,    2.75,2,-999.000,9,-999.000,9,-999.000,9,  -999.0,9,  -999.0,9,-999.000,9,-999.0000,9, -999.00,9, -999.00,9,  -999.0,9,  -999.0,-999.000,9,-999.000, -999.00,9, 2538.00,-999.0000,9,-999.0000,9,-999.0000,9,-999.0000,9,-999.0000,9,-999.0000,-999.000,-999.0000,9, -999.00
318M20040615,        P02,      85,          1,          9,          9,2,20040715,       1726,     30.001,  -179.8293,       5199,  2795.7,   1.5789,  34.6561,2,  34.6543,2, 118.5000,2,   118.7,2,  160.02,2,   38.26,2,    0.00,2,    2.68,2,   0.001,2,  -0.001,2,   0.001,2,  -999.0,9,  2419.6,6,-999.000,9,-999.0000,9, -999.00,9, -999.00,9,  -999.0,9,  -999.0,-999.000,9,-999.000, -999.00,9, 2795.70,-999.0000,9,-999.0000,9,-999.0000,9,-999.0000,9,-999.0000,9,-999.0000,-999.000,-999.0000,9, -999.00
318M20040615,        P02,      85,          1,          8,          8,2,20040715,       1726,     30.001,  -179.8293,       5199,  3036.5,   1.5227,  34.6649,2,  34.6635,2, 126.9000,2,   127.4,2,  158.58,2,   37.61,2,    0.00,2,    2.64,2,-999.000,9,-999.000,9,-999.000,9,  -999.0,9,  -999.0,9,-999.000,9,-999.0000,9, -999.00,9, -999.00,9,  -999.0,9,  -999.0,-999.000,9,-999.000, -999.00,9, 3036.50,-999.0000,9,-999.0000,9,-999.0000,9,-999.0000,9,-999.0000,9,-999.0000,-999.000,-999.0000,9, -999.00
318M20040615,        P02,      85,          1,          7,          7,2,20040715,       1726,     30.001,  -179.8293,       5199,  3343.4,   1.4855,  34.6728,2,  34.6706,2, 136.0000,2,   136.4,2,  156.33,2,   37.02,2,    0.00,2,    2.59,2,   0.002,2,   0.000,2,   0.001,2,  -999.0,9,  2419.3,2,-999.000,9,-999.0000,9, -999.00,9, -999.00,9,  -999.0,9,  -999.0,-999.000,9,-999.000, -999.00,9, 3343.40,-999.0000,9,-999.0000,9,-999.0000,9,-999.0000,9,-999.0000,9,-999.0000,-999.000,-999.0000,9, -999.00
318M20040615,        P02,      85,          1,          6,          6,2,20040715,       1726,     30.001,  -179.8293,       5199,  3661.7,   1.4620,  34.6789,2,  34.6783,2, 143.4000,2,   143.4,2,  154.66,2,   36.54,2,    0.00,2,    2.55,2,-999.000,9,-999.000,9,-999.000,9,  -999.0,9,  -999.0,9,-999.000,9,-999.0000,9, -999.00,9, -999.00,9,  -999.0,9,  -999.0,-999.000,9,-999.000, -999.00,9, 3661.70,-999.0000,9,-999.0000,9,-999.0000,9,-999.0000,9,-999.0000,9,-999.0000,-999.000,-999.0000,9, -999.00
318M20040615,        P02,      85,          1,          5,          5,2,20040715,       1726,     30.001,  -179.8293,       5199,  3969.1,   1.4530,  34.6834,2,  34.6826,2, 148.7000,2,   149.0,2,  152.80,2,   36.17,2,    0.00,2,    2.52,2,   0.003,2,   0.001,2,   0.001,2,  -999.0,9,  2419.5,2,-999.000,9,-999.0000,9, -999.00,9, -999.00,9,  -999.0,9,  -999.0,-999.000,9,-999.000, -999.00,9, 3969.10,-999.0000,9,-999.0000,9,-999.0000,9,-999.0000,9,-999.0000,9,-999.0000,-999.000,-999.0000,9, -999.00
318M20040615,        P02,      85,          1,          4,          4,2,20040715,       1726,     30.001,  -179.8293,       5199,  4274.1,   1.4570,  34.6865,2,  34.6863,2, 152.9000,2,   153.7,2,  150.50,2,   35.95,2,    0.00,2,    2.50,2,-999.000,9,-999.000,9,-999.000,9,  -999.0,9,  2416.8,2,-999.000,9,-999.0000,9, -999.00,9, -999.00,9,  -999.0,9,  -999.0,-999.000,9,-999.000, -999.00,9, 4274.10,-999.0000,9,-999.0000,9,-999.0000,9,-999.0000,9,-999.0000,9,-999.0000,-999.000,-999.0000,9, -999.00
318M20040615,        P02,      85,          1,          3,          3,2,20040715,       1726,     30.001,  -179.8293,       5199,  4693.3,   1.4699,  34.6899,2,  34.6892,2, 159.1000,2,   159.8,2,  146.13,2,   35.74,2,    0.00,2,    2.46,2,   0.001,2,   0.000,2,   0.001,2,  -999.0,9,  2414.5,2,-999.000,9,-999.0000,9, -999.00,9, -999.00,9,  -999.0,9,  -999.0,-999.000,9,-999.000, -999.00,9, 4693.30,-999.0000,9,-999.0000,9,-999.0000,9,-999.0000,9,-999.0000,9,-999.0000,-999.000,-999.0000,9, -999.00
318M20040615,        P02,      85,          1,          2,          2,2,20040715,       1726,     30.001,  -179.8293,       5199,  5000.1,   1.4838,  34.6918,2,  34.6905,2, 163.6000,2,   163.8,2,  143.01,2,   35.48,2,    0.00,2,    2.44,2,-999.000,9,-999.000,9,-999.000,9,  -999.0,9,  2411.6,2,-999.000,9,-999.0000,9, -999.00,9, -999.00,9,  -999.0,9,  -999.0,-999.000,9,-999.000, -999.00,9, 5000.10,-999.0000,9,-999.0000,9,-999.0000,9,-999.0000,9,-999.0000,9,-999.0000,-999.000,-999.0000,9, -999.00
318M20040615,        P02,      85,          1,          1,          1,2,20040715,       1726,     30.001,  -179.8293,       5199,  5311.1,   1.5040,  34.6932,2,  34.6932,2, 167.1000,2,   167.8,2,  140.10,2,   35.05,2,    0.00,2,    2.42,2,   0.003,2,   0.000,2,   0.001,2,  -999.0,9,  2408.7,6,-999.000,9,-999.0000,9, -999.00,9, -999.00,9,  -999.0,9,  -999.0,-999.000,9,-999.000, -999.00,9, 5311.10,-999.0000,9,-999.0000,9,-999.0000,9,-999.0000,9,-999.0000,9,-999.0000,-999.000,-999.0000,9, -999.00