BOTTLE,20131027SIOCCHRJL
EXPOCODE,SECT_ID,STNNBR,CASTNO,SAMPNO,BTLNBR,BTLNBR_FLAG_W,DATE,TIME,LATITUDE,LONGITUDE,DEPTH,CTDPRS,CTDTMP,CTDSAL,CTDSAL_FLAG_W,SALNTY,SALNTY_FLAG_W,CTDOXY,CTDOXY_FLAG_W,OXYGEN,OXYGEN_FLAG_W,SILCAT,SILCAT_FLAG_W,NITRAT,NITRAT_FLAG_W,NITRIT,NITRIT_FLAG_W,PHSPHT,PHSPHT_FLAG_W,CFC-11,CFC-11_FLAG_W,CFC-12,CFC-12_FLAG_W,CFC113,CFC113_FLAG_W,TCARBN,TCARBN_FLAG_W,ALKALI,ALKALI_FLAG_W,TRITUM,TRITUM_FLAG_W,HELIUM,HELIUM_FLAG_W,DELHE3,DELHE3_FLAG_W,DELC13,DELC13_FLAG_W,DELC14,DELC14_FLAG_W,C14ERR,NEON,NEON_FLAG_W,NEONER,DOC,DOC_FLAG_W,CTDRAW,CDOM380,CDOM380_FLAG_W,CDOM325,CDOM325_FLAG_W,CDOMSL,CDOMSL_FLAG_W,CDOM340,CDOM340_FLAG_W,CDOMSN,CDOMSN_FLAG_W,HELIER,TRITER,CDOM412,CDOM412_FLAG_W,DELHER
,,,,,,,,,,,METERS,DBAR,ITS-90,PSS-78,,PSS-78,,UMOL/KG,,UMOL/KG,,UMOL/KG,,UMOL/KG,,UMOL/KG,,UMOL/KG,,PMOL/KG,,PMOL/KG,,PMOL/KG,,UMOL/KG,,UMOL/KG,,TU,,NMOL/KG,,PERCNT,,/MILLE,,/MILLE,,/MILLE,NMOL/KG,,NMOL/KG,UMOL/KG,,DBAR,1/M,,1/M,,1/NM,,1/M,,1/NM,,NMOL/KG,TU,1/M,,PERCNT
318M20040615,        P02,       6,          2,         24,         24,2,20040617,       1723,    32.0027,   133.5157,       2269,    19.2,  23.4017,  34.4400,2,  34.4373,2, 218.0000,2,   218.3,2,    1.10,2,    0.16,2,    0.01,2,    0.06,2,   2.004,2,   1.255,2,   0.130,2,  1953.2,6,  2265.7,2,   0.732,2,   1.7503,2,   -1.39,2, -999.00,9,  -999.0,9,  -999.0,-999.000,9,-999.000,   68.40,2,   19.20,-999.0000,9,-999.0000,9,-999.0000,9,-999.0000,9,-999.0000,9,   0.0088,   0.008,-999.0000,9,    0.20
318M20040615,        P02,       6,          2,         23,         23,2,20040617,       1723,    32.0027,   133.5157,       2269,    44.2,  22.2910,  34.4849,2,  34.4781,2, 221.8000,2,   221.7,2,    1.28,2,    0.10,2,    0.02,2,    0.06,2,   2.080,2,   1.287,2,   0.118,2,  1961.7,2,  2268.9,2,   0.719,2,   1.7629,2,   -1.07,2, -999.00,9,  -999.0,9,  -999.0,-999.000,9,-999.000,   63.90,2,   44.20,-999.0000,9,-999.0000,9,-999.0000,9,-999.0000,9,-999.0000,9,   0.0088,   0.007,-999.0000,9,    0.20
318M20040615,        P02,       6,          2,         22,         22,2,20040617,       1723,    32.0027,   133.5157,       2269,    89.1,  18.5978,  34.7052,2,  34.7040,2, 200.0000,2,   201.2,2,    5.26,2,    4.24,2,    0.08,2,    0.36,2,   2.300,2,   1.393,2,   0.102,2,  2022.1,2,  2282.8,2,   0.743,2,   1.7776,2,   -0.22,2, -999.00,9,  -999.0,9,  -999.0,-999.000,9,-999.000,   57.90,2,   89.10,-999.0000,9,-999.0000,9,-999.0000,9,-999.0000,9,-999.0000,9,   0.0089,   0.008,-999.0000,9,    0.20
318M20040615,        P02,       6,          2,         21,         21,2,20040617,       1723,    32.0027,   133.5157,       2269,   138.7,  16.8425,  34.6709,2,  34.6681,2, 185.8000,2,   186.0,2,    9.24,2,    7.90,2,    0.02,2,    0.60,2,   2.350,2,   1.339,2,   0.053,2,  2052.3,2,  2282.5,2,   0.787,2,   1.7972,2,    1.79,2, -999.00,9,  -999.0,9,  -999.0,-999.000,9,-999.000,   52.60,2,  138.70,-999.0000,9,-999.0000,9,-999.0000,9,-999.0000,9,-999.0000,9,   0.0090,   0.008,-999.0000,9,    0.20
318M20040615,        P02,       6,          2,         20,         20,2,20040617,       1723,    32.0027,   133.5157,       2269,   189.0,  14.4749,  34.5590,2,  34.5543,2, 175.9000,2,   175.4,2,   14.85,2,   11.94,2,    0.01,2,    0.88,2,   2.401,2,   1.387,2,   0.027,2,  2085.9,2,  2279.8,6,   0.796,2,   1.7908,2,    4.29,2, -999.00,9,  -999.0,9,  -999.0,-999.000,9,-999.000,   50.80,2,  189.00,-999.0000,9,-999.0000,9,-999.0000,9,-999.0000,9,-999.0000,9,   0.0090,   0.009,-999.0000,9,    0.20
318M20040615,        P02,       6,          2,         19,         19,2,20040617,       1723,    32.0027,   133.5157,       2269,   239.0,  12.6931,  34.4702,2,  34.4614,2, 160.5000,2,   159.9,2,   25.18,2,   16.34,2,    0.01,2,    1.19,2,   2.178,6,   1.227,6,   0.035,6,  2118.6,2,  2284.9,2,   0.756,2,   1.8037,2,    6.84,2, -999.00,9,  -999.0,9,  -999.0,-999.000,9,-999.000,   48.10,2,  239.00,-999.0000,9,-999.0000,9,-999.0000,9,-999.0000,9,-999.0000,9,   0.0090,   0.007,-999.0000,9,    0.20
318M20040615,        P02,       6,          2,         18,         18,2,20040617,       1723,    32.0027,   133.5157,       2269,   289.3,  11.0787,  34.3695,2,  34.3596,2, 155.0000,2,   155.7,2,   30.27,2,   19.22,2,    0.00,2,    1.40,2,   2.150,2,   1.184,2,   0.034,2,  2141.0,2,  2283.4,2,   0.646,2,   1.8257,2,    8.50,2, -999.00,9,  -999.0,9,  -999.0,-999.000,9,-999.000,   46.40,2,  289.30,-999.0000,9,-999.0000,9,-999.0000,9,-999.0000,9,-999.0000,9,   0.0091,   0.006,-999.0000,9,    0.20
318M20040615,        P02,       6,          2,         17,         17,2,20040617,       1723,    32.0027,   133.5157,       2269,   372.8,   8.9435,  34.3204,2,  34.3109,2, 129.2000,2,   127.3,2,   49.37,2,   25.44,2,    0.01,2,    1.86,2,   1.578,2,   0.863,2,   0.027,2,  2192.8,2,  2298.6,2,   0.580,2,   1.8339,2,   12.57,2, -999.00,9,  -999.0,9,  -999.0,-999.000,9,-999.000,   44.80,2,  372.80,-999.0000,9,-999.0000,9,-999.0000,9,-999.0000,9,-999.0000,9,   0.0092,   0.006,-999.0000,9,    0.20
318M20040615,        P02,       6,          2,         16,         16,2,20040617,       1723,    32.0027,   133.5157,       2269,   473.4,   6.7020,  34.2767,2,  34.2681,2,  99.1000,2,   100.5,2,   72.03,2,   31.68,2,    0.00,2,    2.32,2,   1.035,2,   0.558,2,   0.019,2,  2246.6,2,  2315.0,2,   0.428,2,   1.8810,2,   15.48,2, -999.00,9,  -999.0,9,  -999.0,-999.000,9,-999.000,   43.70,2,  473.40,-999.0000,9,-999.0000,9,-999.0000,9,-999.0000,9,-999.0000,9,   0.0094,   0.005,-999.0000,9,    0.20
318M20040615,        P02,       6,          2,         15,         15,2,20040617,       1723,    32.0027,   133.5157,       2269,   573.2,   5.3348,  34.2762,2,  34.2728,2,  81.0000,2,    81.8,2,   89.28,2,   35.76,2,    0.00,2,    2.60,2,   0.680,2,   0.364,2,   0.015,2,  2282.8,2,  2330.9,2,   0.286,2,   1.8777,2,   16.23,2, -999.00,9,  -999.0,9,  -999.0,-999.000,9,-999.000,   41.80,2,  573.20,-999.0000,9,-999.0000,9,-999.0000,9,-999.0000,9,-999.0000,9,   0.0094,   0.005,-999.0000,9,    0.20
318M20040615,        P02,       6,          2,         14,         14,2,20040617,       1723,    32.0027,   133.5157,       2269,   673.5,   4.6386,  34.3196,2,  34.3156,2,  70.6000,2,    71.2,2,  100.89,2,   37.80,2,    0.00,2,    2.72,2,   0.438,2,   0.234,2,   0.012,2,  2304.8,2,  2344.5,2,   0.215,2,   1.8985,2,   16.81,2, -999.00,9,  -999.0,9,  -999.0,-999.000,9,-999.000,   40.40,2,  673.50,-999.0000,9,-999.0000,9,-999.0000,9,-999.0000,9,-999.0000,9,   0.0095,   0.004,-999.0000,9,    0.20
318M20040615,        P02,       6,          2,         13,         13,2,20040617,       1723,    32.0027,   133.5157,       2269,   773.0,   3.9637,  34.3647,2,  34.3623,2,  65.8000,2,    65.3,2,  114.36,2,   39.35,2,    0.00,2,    2.83,2,   0.275,2,   0.150,2,   0.006,2,  2324.0,2,  2358.2,2,-999.000,9,   1.8984,2,   17.24,2, -999.00,9,  -999.0,9,  -999.0,-999.000,9,-999.000,   39.90,2,  773.00,-999.0000,9,-999.0000,9,-999.0000,9,-999.0000,9,-999.0000,9,   0.0095,-999.000,-999.0000,9,    0.20
318M20040615,        P02,       6,          2,         12,         12,2,20040617,       1723,    32.0027,   133.5157,       2269,   871.7,   3.3518,  34.4263,2,  34.4231,2,  65.0000,2,    64.3,2,  127.13,2,   40.20,2,    0.00,2,    2.88,2,   0.145,2,   0.082,2,   0.005,2,  2340.1,6,  2372.7,2,-999.000,9,   1.9112,2,   17.60,2, -999.00,9,  -999.0,9,  -999.0,-999.000,9,-999.000,   39.40,2,  871.70,-999.0000,9,-999.0000,9,-999.0000,9,-999.0000,9,-999.0000,9,   0.0096,-999.000,-999.0000,9,    0.20
318M20040615,        P02,       6,          2,         11,         11,2,20040617,       1723,    32.0027,   133.5157,       2269,   971.1,   3.0529,  34.4671,2,  34.4638,2,  66.0000,2,    69.8,2,  132.15,2,   40.15,2,    0.00,2,    2.87,2,   0.088,2,   0.058,2,   0.003,2,  2343.7,2,  2381.2,2,   0.076,2,   1.9229,2,   18.51,2, -999.00,9,  -999.0,9,  -999.0,-999.000,9,-999.000,   39.10,2,  971.10,-999.0000,9,-999.0000,9,-999.0000,9,-999.0000,9,-999.0000,9,   0.0096,   0.001,-999.0000,9,    0.20
318M20040615,        P02,       6,          2,         10,         10,2,20040617,       1723,    32.0027,   133.5157,       2269,  1069.3,   2.9606,  34.4800,2,  34.4710,2,  71.9000,2,    72.2,2,  133.63,2,   40.04,2,    0.00,2,    2.86,2,   0.078,2,   0.056,2,   0.006,2,  2346.1,2,  2384.5,2,   0.064,2,   1.9185,2,   18.65,2, -999.00,9,  -999.0,9,  -999.0,-999.000,9,-999.000,   38.80,2, 1069.30,-999.0000,9,-999.0000,9,-999.0000,9,-999.0000,9,-999.0000,9,   0.0096,   0.001,-999.0000,9,    0.20
318M20040615,        P02,       6,          2,          9,          9,2,20040617,       1723,    32.0027,   133.5157,       2269,  1166.7,   2.8602,  34.4925,2,  34.4932,2,  74.4000,2,    74.5,2,  135.67,2,   40.03,2,    0.00,2,    2.87,2,   0.075,2,   0.063,2,   0.006,2,  2346.3,2,  2385.1,2,   0.068,2,   1.9198,2,   18.92,2, -999.00,9,  -999.0,9,  -999.0,-999.000,9,-999.000,   39.00,2, 1166.70,-999.0000,9,-999.0000,9,-999.0000,9,-999.0000,9,-999.0000,9,   0.0096,   0.001,-999.0000,9,    0.20
318M20040615,        P02,       6,          2,          8,          8,2,20040617,       1723,    32.0027,   133.5157,       2269,  1265.6,   2.7146,  34.5094,2,  34.5095,2,  77.0000,2,    78.4,2,  137.90,2,   39.92,2,    0.00,2,    2.87,2,   0.055,2,   0.048,2,   0.005,2,  2347.5,2,  2390.6,2,   0.049,2,   1.8819,2,   18.03,2, -999.00,9,  -999.0,9,  -999.0,-999.000,9,-999.000,   38.40,2, 1265.60,-999.0000,9,-999.0000,9,-999.0000,9,-999.0000,9,-999.0000,9,   0.0094,   0.001,-999.0000,9,    0.20
318M20040615,        P02,       6,          2,          7,          7,2,20040617,       1723,    32.0027,   133.5157,       2269,  1366.2,   2.6429,  34.5177,2,  34.5186,2,  79.6000,2,    79.3,2,  139.23,2,   39.87,2,    0.00,2,    2.85,2,   0.046,2,   0.044,2,   0.006,2,  2348.1,2,  2391.8,2,   0.039,2,   1.9270,2,   18.43,2, -999.00,9,  -999.0,9,  -999.0,-999.000,9,-999.000,   38.90,2, 1366.20,-999.0000,9,-999.0000,9,-999.0000,9,-999.0000,9,-999.0000,9,   0.0096,   0.001,-999.0000,9,    0.20
318M20040615,        P02,       6,          2,          6,          6,2,20040617,       1723,    32.0027,   133.5157,       2269,  1471.2,   2.5515,  34.5291,2,  34.5299,2,  82.1000,2,    82.2,2,  140.33,2,   39.86,2,    0.00,2,    2.85,2,   0.039,2,   0.035,2,   0.005,2,  2349.5,2,  2394.2,2,   0.040,2,   1.9649,2,   18.39,2, -999.00,9,  -999.0,9,  -999.0,-999.000,9,-999.000,   38.70,2, 1471.20,-999.0000,9,-999.0000,9,-999.0000,9,-999.0000,9,-999.0000,9,   0.0098,   0.001,-999.0000,9,    0.20
318M20040615,        P02,       6,          2,          5,          5,2,20040617,       1723,    32.0027,   133.5157,       2269,  1577.6,   2.4015,  34.5486,2,  34.5500,2,  87.3000,2,    88.2,2,  142.20,2,   39.59,2,    0.00,2,    2.83,2,   0.031,2,   0.045,2,   0.006,2,  2348.8,2,  2397.2,2,   0.029,2,   1.9171,2,   18.88,2, -999.00,9,  -999.0,9,  -999.0,-999.000,9,-999.000,   38.40,2, 1577.60,-999.0000,9,-999.0000,9,-999.0000,9,-999.0000,9,-999.0000,9,   0.0096,   0.001,-999.0000,9,    0.20
318M20040615,        P02,       6,          2,          4,          4,2,20040617,       1723,    32.0027,   133.5157,       2269,  1741.9,   2.2365,  34.5705,2,  34.5708,2,  95.1000,2,    95.6,2,  143.32,2,   39.21,2,    0.00,2,    2.79,2,   0.018,2,   0.027,2,   0.005,2,  2346.2,2,  2401.8,2,   0.021,2,   1.9243,2,   18.78,2, -999.00,9,  -999.0,9,  -999.0,-999.000,9,-999.000,   37.90,2, 1741.90,-999.0000,9,-999.0000,9,-999.0000,9,-999.0000,9,-999.0000,9,   0.0096,   0.000,-999.0000,9,    0.20
318M20040615,        P02,       6,          2,          3,          3,2,20040617,       1723,    32.0027,   133.5157,       2269,  1938.5,   2.1724,  34.5804,2,  34.5802,2,  99.1000,2,    99.4,2,  144.62,2,   38.88,2,    0.00,2,    2.78,2,   0.022,2,   0.044,2,   0.006,2,  2347.9,2,  2402.8,2,-999.000,9,   1.9208,2,   19.10,2, -999.00,9,  -999.0,9,  -999.0,-999.000,9,-999.000,   38.50,2, 1938.50,-999.0000,9,-999.0000,9,-999.0000,9,-999.0000,9,-999.0000,9,   0.0096,-999.000,-999.0000,9,    0.20
318M20040615,        P02,       6,          2,          2,          2,2,20040617,       1723,    32.0027,   133.5157,       2269,  2111.1,   1.9768,  34.6073,2,  34.6075,2, 109.1000,2,   111.3,2,  144.81,2,   38.39,2,    0.00,2,    2.73,2,   0.010,2,   0.026,2,   0.002,2,  2344.1,2,  2407.0,2,   0.011,2,   1.9406,2,   18.88,2, -999.00,9,  -999.0,9,  -999.0,-999.000,9,-999.000,   38.60,2, 2111.10,-999.0000,9,-999.0000,9,-999.0000,9,-999.0000,9,-999.0000,9,   0.0097,   0.000,-999.0000,9,    0.20
318M20040615,        P02,       6,          2,          1,          1,2,20040617,       1723,    32.0027,   133.5157,       2269,  2314.4,   1.8812,  34.6221,2,  34.6223,2, 117.8000,2,   118.0,2,  145.73,2,   38.01,2,    0.00,2,    2.69,2,   0.009,2,   0.020,2,   0.004,2,  2340.1,6,  2408.9,6,   0.022,2,   1.9168,2,   18.38,2, -999.00,9,  -999.0,9,  -999.0,-999.000,9,-999.000,   38.60,2, 2314.40,-999.0000,9,-999.0000,9,-999.0000,9,-999.0000,9,-999.0000,9,   0.0096,   0.000,-999.0000,9,    0.20