BOTTLE,20131027SIOCCHRJL
EXPOCODE,SECT_ID,STNNBR,CASTNO,SAMPNO,BTLNBR,BTLNBR_FLAG_W,DATE,TIME,LATITUDE,LONGITUDE,DEPTH,CTDPRS,CTDTMP,CTDSAL,CTDSAL_FLAG_W,SALNTY,SALNTY_FLAG_W,CTDOXY,CTDOXY_FLAG_W,OXYGEN,OXYGEN_FLAG_W,SILCAT,SILCAT_FLAG_W,NITRAT,NITRAT_FLAG_W,NITRIT,NITRIT_FLAG_W,PHSPHT,PHSPHT_FLAG_W,CFC-11,CFC-11_FLAG_W,CFC-12,CFC-12_FLAG_W,CFC113,CFC113_FLAG_W,TCARBN,TCARBN_FLAG_W,ALKALI,ALKALI_FLAG_W,TRITUM,TRITUM_FLAG_W,HELIUM,HELIUM_FLAG_W,DELHE3,DELHE3_FLAG_W,DELC13,DELC13_FLAG_W,DELC14,DELC14_FLAG_W,C14ERR,NEON,NEON_FLAG_W,NEONER,DOC,DOC_FLAG_W,CTDRAW,CDOM380,CDOM380_FLAG_W,CDOM325,CDOM325_FLAG_W,CDOMSL,CDOMSL_FLAG_W,CDOM340,CDOM340_FLAG_W,CDOMSN,CDOMSN_FLAG_W,HELIER,TRITER,CDOM412,CDOM412_FLAG_W,DELHER
,,,,,,,,,,,METERS,DBAR,ITS-90,PSS-78,,PSS-78,,UMOL/KG,,UMOL/KG,,UMOL/KG,,UMOL/KG,,UMOL/KG,,UMOL/KG,,PMOL/KG,,PMOL/KG,,PMOL/KG,,UMOL/KG,,UMOL/KG,,TU,,NMOL/KG,,PERCNT,,/MILLE,,/MILLE,,/MILLE,NMOL/KG,,NMOL/KG,UMOL/KG,,DBAR,1/M,,1/M,,1/NM,,1/M,,1/NM,,NMOL/KG,TU,1/M,,PERCNT
318M20040615,        P02,     185,          1,         23,         23,2,20040826,       1400,    32.4663,   -118.831,       1336,     7.3,  20.6397,  33.4685,2,  33.4674,2, 230.7000,2,   230.5,2,    0.35,2,    0.03,2,    0.00,2,    0.23,2,   2.278,2,   1.433,2,   0.173,2,  1988.1,6,  -999.0,9,   0.976,2,-999.0000,9, -999.00,9, -999.00,9,  -999.0,9,  -999.0,-999.000,9,-999.000, -999.00,9,    7.30,-999.0000,9,-999.0000,9,-999.0000,9,-999.0000,9,-999.0000,9,-999.0000,   0.011,-999.0000,9, -999.00
318M20040615,        P02,     185,          1,         22,         22,2,20040826,       1400,    32.4663,   -118.831,       1336,    31.4,  14.3872,  33.2546,2,  33.2479,2, 255.9000,2,   260.6,2,    1.70,2,    3.14,2,    0.14,2,    0.52,2,-999.000,9,-999.000,9,-999.000,9,  -999.0,9,  -999.0,9,-999.000,9,-999.0000,9, -999.00,9, -999.00,9,  -999.0,9,  -999.0,-999.000,9,-999.000, -999.00,9,   31.40,-999.0000,9,-999.0000,9,-999.0000,9,-999.0000,9,-999.0000,9,-999.0000,-999.000,-999.0000,9, -999.00
318M20040615,        P02,     185,          1,         21,         21,2,20040826,       1400,    32.4663,   -118.831,       1336,    56.4,  11.4794,  33.2402,2,  33.2393,2, 201.4000,2,   202.7,2,    8.83,2,   13.13,2,    0.04,2,    1.15,2,   3.428,2,   1.995,2,   0.217,2,  -999.0,9,  -999.0,9,   0.855,2,-999.0000,9, -999.00,9, -999.00,9,  -999.0,9,  -999.0,-999.000,9,-999.000, -999.00,9,   56.40,-999.0000,9,-999.0000,9,-999.0000,9,-999.0000,9,-999.0000,9,-999.0000,   0.009,-999.0000,9, -999.00
318M20040615,        P02,     185,          1,         20,         20,2,20040826,       1400,    32.4663,   -118.831,       1336,    82.2,  10.1609,  33.4584,2,  33.4572,2, 162.9000,2,   164.7,2,   16.17,2,   18.82,2,    0.02,2,    1.53,2,   3.434,2,   1.974,2,   0.168,2,  -999.0,9,  -999.0,9,   1.029,2,   1.8065,2,    1.60,2, -999.00,9,  -999.0,9,  -999.0,-999.000,9,-999.000, -999.00,9,   82.20,-999.0000,9,-999.0000,9,-999.0000,9,-999.0000,9,-999.0000,9,   0.0090,   0.007,-999.0000,9,    0.20
318M20040615,        P02,     185,          1,         19,         19,2,20040826,       1400,    32.4663,   -118.831,       1336,   108.1,   9.4450,  33.6380,2,  33.6437,2, 155.4000,2,   154.9,2,   20.72,2,   21.46,2,    0.01,2,    1.67,2,   3.390,6,   1.907,6,   0.144,6,  -999.0,9,  -999.0,9,   0.875,2,   1.8006,2,    3.03,2, -999.00,9,  -999.0,9,  -999.0,-999.000,9,-999.000, -999.00,9,  108.10,-999.0000,9,-999.0000,9,-999.0000,9,-999.0000,9,-999.0000,9,   0.0090,   0.008,-999.0000,9,    0.20
318M20040615,        P02,     185,          1,         18,         18,2,20040826,       1400,    32.4663,   -118.831,       1336,   132.9,   9.1767,  33.7984,2,  33.8038,2, 142.4000,2,   141.2,2,   24.27,2,   23.43,2,    0.01,2,    1.78,2,   3.217,2,   1.783,2,   0.124,2,  -999.0,9,  -999.0,9,   0.815,2,   1.8073,2,    4.16,2, -999.00,9,  -999.0,9,  -999.0,-999.000,9,-999.000, -999.00,9,  132.90,-999.0000,9,-999.0000,9,-999.0000,9,-999.0000,9,-999.0000,9,   0.0090,   0.008,-999.0000,9,    0.20
318M20040615,        P02,     185,          1,         17,         17,2,20040826,       1400,    32.4663,   -118.831,       1336,   157.9,   9.0320,  33.9205,2,  33.9346,2, 132.5000,2,   130.5,2,   27.23,2,   24.73,2,    0.01,2,    1.86,2,-999.000,9,-999.000,9,-999.000,9,  -999.0,9,  -999.0,9,-999.000,9,-999.0000,9, -999.00,9, -999.00,9,  -999.0,9,  -999.0,-999.000,9,-999.000, -999.00,9,  157.90,-999.0000,9,-999.0000,9,-999.0000,9,-999.0000,9,-999.0000,9,-999.0000,-999.000,-999.0000,9, -999.00
318M20040615,        P02,     185,          1,         16,         16,2,20040826,       1400,    32.4663,   -118.831,       1336,   181.1,   8.8378,  34.0442,2,  34.0405,2, 110.5000,2,   110.9,2,   31.79,2,   26.92,2,    0.00,2,    2.03,2,   2.548,2,   1.365,2,   0.097,2,  -999.0,9,  -999.0,9,   0.743,2,   1.8073,2,    7.73,2, -999.00,9,  -999.0,9,  -999.0,-999.000,9,-999.000, -999.00,9,  181.10,-999.0000,9,-999.0000,9,-999.0000,9,-999.0000,9,-999.0000,9,   0.0090,   0.008,-999.0000,9,    0.20
318M20040615,        P02,     185,          1,         15,         15,2,20040826,       1400,    32.4663,   -118.831,       1336,   216.1,   8.7530,  34.1385,2,  34.1338,2,  94.6000,2,    92.5,2,   35.96,2,   28.28,2,    0.01,2,    2.19,2,-999.000,9,-999.000,9,-999.000,9,  -999.0,9,  -999.0,9,-999.000,9,-999.0000,9, -999.00,9, -999.00,9,  -999.0,9,  -999.0,-999.000,9,-999.000, -999.00,9,  216.10,-999.0000,9,-999.0000,9,-999.0000,9,-999.0000,9,-999.0000,9,-999.0000,-999.000,-999.0000,9, -999.00
318M20040615,        P02,     185,          1,         14,         14,2,20040826,       1400,    32.4663,   -118.831,       1336,   252.0,   8.0746,  34.1332,2,  34.1317,2,  84.1000,2,    84.5,2,   41.75,2,   30.28,2,    0.00,2,    2.32,2,   1.872,2,   0.977,2,   0.059,2,  -999.0,9,  -999.0,9,   0.721,2,   1.8202,2,   11.61,2, -999.00,9,  -999.0,9,  -999.0,-999.000,9,-999.000, -999.00,9,  252.00,-999.0000,9,-999.0000,9,-999.0000,9,-999.0000,9,-999.0000,9,   0.0091,   0.008,-999.0000,9,    0.20
318M20040615,        P02,     185,          1,         13,         13,2,20040826,       1400,    32.4663,   -118.831,       1336,   302.5,   7.7861,  34.2028,2,  34.2042,2,  60.2000,2,    56.5,2,   48.54,2,   32.40,2,    0.00,2,    2.57,2,   1.227,2,   0.639,2,   0.029,2,  -999.0,9,  -999.0,9,   0.532,2,   1.8195,2,   13.07,2, -999.00,9,  -999.0,9,  -999.0,-999.000,9,-999.000, -999.00,9,  302.50,-999.0000,9,-999.0000,9,-999.0000,9,-999.0000,9,-999.0000,9,   0.0091,   0.007,-999.0000,9,    0.20
318M20040615,        P02,     185,          1,         12,         12,2,20040826,       1400,    32.4663,   -118.831,       1336,   352.6,   7.3982,  34.2344,2,  34.2340,2,  41.9000,2,    42.7,2,   54.35,2,   33.95,2,    0.00,2,    2.72,2,   0.853,2,   0.439,2,   0.021,2,  -999.0,9,  -999.0,9,-999.000,9,-999.0000,9, -999.00,9, -999.00,9,  -999.0,9,  -999.0,-999.000,9,-999.000, -999.00,9,  352.60,-999.0000,9,-999.0000,9,-999.0000,9,-999.0000,9,-999.0000,9,-999.0000,-999.000,-999.0000,9, -999.00
318M20040615,        P02,     185,          1,         11,         11,2,20040826,       1400,    32.4663,   -118.831,       1336,   401.9,   7.0254,  34.2802,2,  34.2805,2,  29.8000,2,    27.1,2,   61.57,2,   35.75,2,    0.00,2,    2.89,2,   0.513,2,   0.273,2,   0.010,2,  -999.0,9,  -999.0,9,   0.011,3,   1.7915,2,   13.80,2, -999.00,9,  -999.0,9,  -999.0,-999.000,9,-999.000, -999.00,9,  401.90,-999.0000,9,-999.0000,9,-999.0000,9,-999.0000,9,-999.0000,9,   0.0090,   0.000,-999.0000,9,    0.20
318M20040615,        P02,     185,          1,         10,         10,2,20040826,       1400,    32.4663,   -118.831,       1336,   451.5,   6.6272,  34.2968,2,  34.2966,2,  20.5000,2,    20.4,2,   67.60,2,   37.37,2,    0.00,2,    2.98,2,-999.000,9,-999.000,9,-999.000,9,  -999.0,9,  -999.0,9,-999.000,9,-999.0000,9, -999.00,9, -999.00,9,  -999.0,9,  -999.0,-999.000,9,-999.000, -999.00,9,  451.50,-999.0000,9,-999.0000,9,-999.0000,9,-999.0000,9,-999.0000,9,-999.0000,-999.000,-999.0000,9, -999.00
318M20040615,        P02,     185,          1,          9,          9,2,20040826,       1400,    32.4663,   -118.831,       1336,   506.2,   6.3308,  34.3148,2,  34.3142,2,  16.4000,2,    15.5,2,   72.63,2,   38.56,2,    0.00,2,    3.05,2,   0.239,2,   0.123,2,   0.000,2,  -999.0,9,  -999.0,9,   0.177,2,   1.8427,2,   13.42,2, -999.00,9,  -999.0,9,  -999.0,-999.000,9,-999.000, -999.00,9,  506.20,-999.0000,9,-999.0000,9,-999.0000,9,-999.0000,9,-999.0000,9,   0.0092,   0.002,-999.0000,9,    0.20
318M20040615,        P02,     185,          1,         37,         37,2,20040826,       1400,    32.4663,   -118.831,       1336,   606.2,   5.8324,  34.3443,2,  34.3450,2,  12.3000,2,    12.1,2,   80.91,2,   40.18,2,    0.00,2,    3.13,2,   0.127,2,   0.068,2,   0.000,2,  -999.0,9,  -999.0,9,-999.000,9,-999.0000,9, -999.00,9, -999.00,9,  -999.0,9,  -999.0,-999.000,9,-999.000, -999.00,9,  606.20,-999.0000,9,-999.0000,9,-999.0000,9,-999.0000,9,-999.0000,9,-999.0000,-999.000,-999.0000,9, -999.00
318M20040615,        P02,     185,          1,          7,          7,2,20040826,       1400,    32.4663,   -118.831,       1336,   705.1,   5.4135,  34.3841,2,  34.3837,2,  10.9000,2,    10.1,2,   89.42,2,   41.11,2,    0.00,2,    3.20,2,   0.100,2,   0.054,2,   0.000,2,  -999.0,9,  -999.0,9,   0.057,2,   1.8577,2,   13.97,2, -999.00,9,  -999.0,9,  -999.0,-999.000,9,-999.000, -999.00,9,  705.10,-999.0000,9,-999.0000,9,-999.0000,9,-999.0000,9,-999.0000,9,   0.0093,   0.001,-999.0000,9,    0.20
318M20040615,        P02,     185,          1,          6,          6,2,20040826,       1400,    32.4663,   -118.831,       1336,   804.0,   4.9606,  34.4151,2,  34.4159,2,  12.2000,2,    12.6,2,   97.75,2,   42.19,2,    0.00,2,    3.22,2,   0.074,2,   0.049,2,   0.010,2,  -999.0,9,  -999.0,9,   0.029,2,   1.8516,2,   15.67,2, -999.00,9,  -999.0,9,  -999.0,-999.000,9,-999.000, -999.00,9,  804.00,-999.0000,9,-999.0000,9,-999.0000,9,-999.0000,9,-999.0000,9,   0.0093,   0.001,-999.0000,9,    0.20
318M20040615,        P02,     185,          1,          5,          5,2,20040826,       1400,    32.4663,   -118.831,       1336,   906.3,   4.4166,  34.4547,2,  34.4557,2,  16.1000,2,    16.5,2,  110.40,2,   42.61,2,    0.00,2,    3.24,2,   0.104,2,   0.086,2,   0.016,2,  -999.0,9,  -999.0,9,   0.028,2,   1.8816,2,   18.10,2, -999.00,9,  -999.0,9,  -999.0,-999.000,9,-999.000, -999.00,9,  906.30,-999.0000,9,-999.0000,9,-999.0000,9,-999.0000,9,-999.0000,9,   0.0094,   0.001,-999.0000,9,    0.20
318M20040615,        P02,     185,          1,          4,          4,2,20040826,       1400,    32.4663,   -118.831,       1336,  1007.3,   4.0294,  34.4836,2,  34.4840,2,  21.4000,2,    22.5,2,  118.19,2,   42.83,2,    0.00,2,    3.21,2,   0.097,2,   0.092,2,   0.030,2,  -999.0,9,  -999.0,9,-999.000,9,-999.0000,9, -999.00,9, -999.00,9,  -999.0,9,  -999.0,-999.000,9,-999.000, -999.00,9, 1007.30,-999.0000,9,-999.0000,9,-999.0000,9,-999.0000,9,-999.0000,9,-999.0000,-999.000,-999.0000,9, -999.00
318M20040615,        P02,     185,          1,          3,          3,2,20040826,       1400,    32.4663,   -118.831,       1336,  1112.8,   3.7585,  34.5035,2,  34.5046,2,  27.0000,2,    27.2,2,  124.55,2,   42.89,2,    0.00,2,    3.20,2,   0.082,2,   0.100,2,   0.043,2,  -999.0,9,  -999.0,9,   0.015,2,   1.8927,2,   20.81,2, -999.00,9,  -999.0,9,  -999.0,-999.000,9,-999.000, -999.00,9, 1112.80,-999.0000,9,-999.0000,9,-999.0000,9,-999.0000,9,-999.0000,9,   0.0095,   0.000,-999.0000,9,    0.20
318M20040615,        P02,     185,          1,          2,          2,2,20040826,       1400,    32.4663,   -118.831,       1336,  1213.0,   3.4527,  34.5268,2,  34.5274,2,  32.6000,2,    32.9,2,  131.95,2,   42.71,2,    0.00,2,    3.18,2,   0.094,2,   0.162,2,   0.071,2,  -999.0,9,  -999.0,9,-999.000,9,-999.0000,9, -999.00,9, -999.00,9,  -999.0,9,  -999.0,-999.000,9,-999.000, -999.00,9, 1213.00,-999.0000,9,-999.0000,9,-999.0000,9,-999.0000,9,-999.0000,9,-999.0000,-999.000,-999.0000,9, -999.00
318M20040615,        P02,     185,          1,          1,          1,2,20040826,       1400,    32.4663,   -118.831,       1336,  1322.9,   3.2986,  34.5391,2,  34.5398,2,  35.8000,2,    35.9,2,  137.51,2,   42.65,2,    0.01,2,    3.18,2,   0.110,2,   0.240,2,   0.077,2,  -999.0,9,  -999.0,9,   0.003,2,   1.9038,2,   22.34,2, -999.00,9,  -999.0,9,  -999.0,-999.000,9,-999.000, -999.00,9, 1322.90,-999.0000,9,-999.0000,9,-999.0000,9,-999.0000,9,-999.0000,9,   0.0095,   0.000,-999.0000,9,    0.20