BOTTLE,20131027SIOCCHRJL
EXPOCODE,SECT_ID,STNNBR,CASTNO,SAMPNO,BTLNBR,BTLNBR_FLAG_W,DATE,TIME,LATITUDE,LONGITUDE,DEPTH,CTDPRS,CTDTMP,CTDSAL,CTDSAL_FLAG_W,SALNTY,SALNTY_FLAG_W,CTDOXY,CTDOXY_FLAG_W,OXYGEN,OXYGEN_FLAG_W,SILCAT,SILCAT_FLAG_W,NITRAT,NITRAT_FLAG_W,NITRIT,NITRIT_FLAG_W,PHSPHT,PHSPHT_FLAG_W,CFC-11,CFC-11_FLAG_W,CFC-12,CFC-12_FLAG_W,CFC113,CFC113_FLAG_W,TCARBN,TCARBN_FLAG_W,ALKALI,ALKALI_FLAG_W,TRITUM,TRITUM_FLAG_W,HELIUM,HELIUM_FLAG_W,DELHE3,DELHE3_FLAG_W,DELC13,DELC13_FLAG_W,DELC14,DELC14_FLAG_W,C14ERR,NEON,NEON_FLAG_W,NEONER,DOC,DOC_FLAG_W,CTDRAW,CDOM380,CDOM380_FLAG_W,CDOM325,CDOM325_FLAG_W,CDOMSL,CDOMSL_FLAG_W,CDOM340,CDOM340_FLAG_W,CDOMSN,CDOMSN_FLAG_W,HELIER,TRITER,CDOM412,CDOM412_FLAG_W,DELHER
,,,,,,,,,,,METERS,DBAR,ITS-90,PSS-78,,PSS-78,,UMOL/KG,,UMOL/KG,,UMOL/KG,,UMOL/KG,,UMOL/KG,,UMOL/KG,,PMOL/KG,,PMOL/KG,,PMOL/KG,,UMOL/KG,,UMOL/KG,,TU,,NMOL/KG,,PERCNT,,/MILLE,,/MILLE,,/MILLE,NMOL/KG,,NMOL/KG,UMOL/KG,,DBAR,1/M,,1/M,,1/NM,,1/M,,1/NM,,NMOL/KG,TU,1/M,,PERCNT
318M20040615,        P02,      46,          2,         36,         36,2,20040702,       1444,    29.9948,   153.9117,       5813,    12.0,  26.2456,  34.6978,2,-999.0000,9, 207.4000,9,   206.9,2,    1.44,2,    0.09,2,    0.00,2,    0.04,2,   1.808,2,   1.113,2,   0.123,2,  1962.0,6,  2279.8,6,-999.000,9,   1.7239,2,   -1.08,2, -999.00,9,  -999.0,9,  -999.0,-999.000,9,-999.000,   69.40,2,   12.00,-999.0000,9,-999.0000,9,-999.0000,9,-999.0000,9,-999.0000,9,   0.0086,-999.000,-999.0000,9,    0.20
318M20040615,        P02,      46,          2,         35,         35,2,20040702,       1444,    29.9948,   153.9117,       5813,    52.4,  20.7689,  34.8221,2,-999.0000,9, 213.4000,9,   212.7,2,   24.92,4,    7.16,4,    0.04,4,    0.55,4,   2.102,2,   1.292,2,   0.132,2,  2051.5,4,  2305.9,2,-999.000,9,   1.7740,2,    0.72,2, -999.00,9,  -999.0,9,  -999.0,-999.000,9,-999.000,   64.20,2,   52.40,-999.0000,9,-999.0000,9,-999.0000,9,-999.0000,9,-999.0000,9,   0.0089,-999.000,-999.0000,9,    0.20
318M20040615,        P02,      46,          2,         34,         34,2,20040702,       1444,    29.9948,   153.9117,       5813,   107.3,  18.1569,  34.8171,2,-999.0000,9, 213.2000,9,   221.6,2,    3.03,2,    1.65,2,    0.20,2,    0.18,2,   2.438,2,   1.474,2,   0.144,2,  2010.3,2,  2286.4,2,-999.000,9,   1.8016,2,   -0.95,2, -999.00,9,  -999.0,9,  -999.0,-999.000,9,-999.000,   60.40,2,  107.30,-999.0000,9,-999.0000,9,-999.0000,9,-999.0000,9,-999.0000,9,   0.0090,-999.000,-999.0000,9,    0.20
318M20040615,        P02,      46,          2,         33,         33,2,20040702,       1444,    29.9948,   153.9117,       5813,   156.8,  17.2498,  34.7762,2,-999.0000,9, 213.8000,9,   211.2,2,    4.47,2,    4.23,2,    0.02,2,    0.32,2,   2.484,2,   1.508,2,   0.105,2,  2026.4,2,  2283.5,2,-999.000,9,   1.7765,2,   -0.45,2, -999.00,9,  -999.0,9,  -999.0,-999.000,9,-999.000,   59.00,2,  156.80,-999.0000,9,-999.0000,9,-999.0000,9,-999.0000,9,-999.0000,9,   0.0089,-999.000,-999.0000,9,    0.20
318M20040615,        P02,      46,          2,         32,         32,2,20040702,       1444,    29.9948,   153.9117,       5813,   207.5,  17.0063,  34.7832,2,-999.0000,9, 223.6000,9,   220.0,2,    3.89,2,    3.70,2,    0.02,2,    0.28,2,   2.524,2,   1.531,2,   0.126,2,  2023.1,2,  2283.4,2,-999.000,9,   1.7932,2,   -1.05,2, -999.00,9,  -999.0,9,  -999.0,-999.000,9,-999.000,   57.80,2,  207.50,-999.0000,9,-999.0000,9,-999.0000,9,-999.0000,9,-999.0000,9,   0.0090,-999.000,-999.0000,9,    0.20
318M20040615,        P02,      46,          2,         31,         31,2,20040702,       1444,    29.9948,   153.9117,       5813,   258.0,  16.7163,  34.7561,2,  34.7600,2, 211.3000,2,   213.8,2,    5.15,2,    4.88,2,    0.01,2,    0.36,2,   2.492,2,   1.499,2,   0.109,2,  2030.8,2,  2283.1,2,-999.000,9,   1.7770,2,    0.03,2, -999.00,9,  -999.0,9,  -999.0,-999.000,9,-999.000,   55.80,2,  258.00,-999.0000,9,-999.0000,9,-999.0000,9,-999.0000,9,-999.0000,9,   0.0089,-999.000,-999.0000,9,    0.20
318M20040615,        P02,      46,          2,         30,         30,2,20040702,       1444,    29.9948,   153.9117,       5813,   308.3,  16.0694,  34.6971,2,  34.6969,2, 201.0000,2,   206.1,2,    7.14,2,    6.69,2,    0.01,2,    0.48,2,   2.550,2,   1.508,2,   0.074,2,  2044.1,2,  2282.1,2,-999.000,9,-999.0000,9, -999.00,9, -999.00,9,  -999.0,9,  -999.0,-999.000,9,-999.000,   55.00,2,  308.30,-999.0000,9,-999.0000,9,-999.0000,9,-999.0000,9,-999.0000,9,-999.0000,-999.000,-999.0000,9, -999.00
318M20040615,        P02,      46,          2,         29,         29,2,20040702,       1444,    29.9948,   153.9117,       5813,   357.4,  15.4670,  34.6445,2,  34.6441,2, 191.2000,2,   196.0,2,    9.48,2,    8.56,2,    0.01,2,    0.61,2,   2.555,6,   1.497,6,   0.052,6,  2057.5,2,  2280.1,2,-999.000,9,   1.7635,2,    1.99,2, -999.00,9,  -999.0,9,  -999.0,-999.000,9,-999.000,   52.80,2,  357.40,-999.0000,9,-999.0000,9,-999.0000,9,-999.0000,9,-999.0000,9,   0.0088,-999.000,-999.0000,9,    0.20
318M20040615,        P02,      46,          2,         28,         28,2,20040702,       1444,    29.9948,   153.9117,       5813,   407.5,  14.3484,  34.5571,2,  34.5576,2, 180.3000,2,   182.4,2,   14.02,2,   11.56,2,    0.01,2,    0.81,2,   2.525,2,   1.423,2,   0.034,2,  2080.5,2,  2277.1,2,-999.000,9,   1.7808,2,    3.70,2, -999.00,9,  -999.0,9,  -999.0,-999.000,9,-999.000,   51.30,2,  407.50,-999.0000,9,-999.0000,9,-999.0000,9,-999.0000,9,-999.0000,9,   0.0089,-999.000,-999.0000,9,    0.20
318M20040615,        P02,      46,          2,         27,         27,2,20040702,       1444,    29.9948,   153.9117,       5813,   457.1,  13.0685,  34.4727,2,  34.4744,2, 173.6000,2,   177.0,2,   18.73,2,   14.02,2,    0.01,2,    1.00,2,   2.525,2,   1.412,2,   0.044,2,  2100.0,2,  2277.5,2,-999.000,9,   1.7970,2,    5.23,2, -999.00,9,  -999.0,9,  -999.0,-999.000,9,-999.000,   49.70,2,  457.10,-999.0000,9,-999.0000,9,-999.0000,9,-999.0000,9,-999.0000,9,   0.0090,-999.000,-999.0000,9,    0.20
318M20040615,        P02,      46,          2,         26,         26,2,20040702,       1444,    29.9948,   153.9117,       5813,   507.9,  11.6346,  34.3550,2,  34.3560,2, 188.6000,2,   186.0,2,   21.46,2,   15.47,2,    0.01,2,    1.11,2,   2.699,2,   1.491,2,   0.072,2,  2110.1,2,  2276.0,2,-999.000,9,   1.8090,2,    5.46,2, -999.00,9,  -999.0,9,  -999.0,-999.000,9,-999.000,   48.20,2,  507.90,-999.0000,9,-999.0000,9,-999.0000,9,-999.0000,9,-999.0000,9,   0.0090,-999.000,-999.0000,9,    0.20
318M20040615,        P02,      46,          2,         25,         25,2,20040702,       1444,    29.9948,   153.9117,       5813,   607.5,   8.2383,  34.0617,2,  34.0641,2, 177.7000,2,   193.8,2,   35.45,2,   20.18,2,    0.01,2,    1.51,2,   2.950,3,   1.620,3,   0.150,3,  2147.1,2,  2277.1,2,-999.000,9,   1.8325,2,    6.58,2, -999.00,9,  -999.0,9,  -999.0,-999.000,9,-999.000,   46.70,2,  607.50,-999.0000,9,-999.0000,9,-999.0000,9,-999.0000,9,-999.0000,9,   0.0092,-999.000,-999.0000,9,    0.20
318M20040615,        P02,      46,          2,         24,         24,2,20040702,       1444,    29.9948,   153.9117,       5813,   708.8,   5.9571,  33.9761,2,  33.9700,2, 157.8000,2,   153.7,2,   57.45,2,   28.32,2,    0.00,2,    2.10,2,   2.318,2,   1.233,2,   0.124,2,  2208.9,2,  2286.3,2,-999.000,9,   1.8535,2,   10.20,2, -999.00,9,  -999.0,9,  -999.0,-999.000,9,-999.000,   45.40,2,  708.80,-999.0000,9,-999.0000,9,-999.0000,9,-999.0000,9,-999.0000,9,   0.0093,-999.000,-999.0000,9,    0.20
318M20040615,        P02,      46,          2,         23,         23,2,20040702,       1444,    29.9948,   153.9117,       5813,   809.4,   4.9204,  34.0560,2,  34.0556,2, 107.0000,2,   100.4,2,   80.37,2,   34.77,2,    0.01,2,    2.55,2,   1.477,2,   0.757,2,   0.078,2,  2264.5,2,  2307.7,2,-999.000,9,   1.8740,2,   13.70,2, -999.00,9,  -999.0,9,  -999.0,-999.000,9,-999.000,   43.70,2,  809.40,-999.0000,9,-999.0000,9,-999.0000,9,-999.0000,9,-999.0000,9,   0.0094,-999.000,-999.0000,9,    0.20
318M20040615,        P02,      46,          2,         22,         22,2,20040702,       1444,    29.9948,   153.9117,       5813,   909.2,   4.4499,  34.1672,2,  34.1662,2,  72.3000,2,    63.1,2,   97.68,2,   38.72,2,    0.01,2,    2.83,2,   0.664,2,   0.337,2,   0.025,2,  2301.6,2,  2326.6,2,-999.000,9,-999.0000,9, -999.00,9, -999.00,9,  -999.0,9,  -999.0,-999.000,9,-999.000,   42.10,2,  909.20,-999.0000,9,-999.0000,9,-999.0000,9,-999.0000,9,-999.0000,9,-999.0000,-999.000,-999.0000,9, -999.00
318M20040615,        P02,      46,          2,         21,         21,2,20040702,       1444,    29.9948,   153.9117,       5813,  1010.3,   3.9557,  34.2513,2,  34.2501,2,  50.4000,2,    48.6,2,  112.51,2,   40.44,2,    0.01,2,    2.95,2,   0.386,2,   0.187,2,   0.013,2,  2325.8,2,  2343.8,2,-999.000,9,   1.9053,2,   16.29,2, -999.00,9,  -999.0,9,  -999.0,-999.000,9,-999.000,   40.60,2, 1010.30,-999.0000,9,-999.0000,9,-999.0000,9,-999.0000,9,-999.0000,9,   0.0095,-999.000,-999.0000,9,    0.20
318M20040615,        P02,      46,          2,         20,         20,2,20040702,       1444,    29.9948,   153.9117,       5813,  1111.0,   3.5338,  34.3224,2,  34.3223,2,  42.3000,2,    40.7,2,  125.92,2,   41.64,2,    0.01,2,    3.03,2,   0.240,2,   0.120,2,   0.008,2,  2344.7,2,  2358.9,2,-999.000,9,   1.9051,2,   16.86,2, -999.00,9,  -999.0,9,  -999.0,-999.000,9,-999.000,   39.90,2, 1111.00,-999.0000,9,-999.0000,9,-999.0000,9,-999.0000,9,-999.0000,9,   0.0095,-999.000,-999.0000,9,    0.20
318M20040615,        P02,      46,          2,         19,         19,2,20040702,       1444,    29.9948,   153.9117,       5813,  1212.1,   3.2537,  34.3711,2,  34.3709,2,  37.5000,2,    36.8,2,  132.90,2,   42.28,2,    0.01,2,    3.06,2,   0.128,2,   0.065,2,   0.001,2,  2357.4,6,  2369.8,2,-999.000,9,   1.9295,2,   16.69,2, -999.00,9,  -999.0,9,  -999.0,-999.000,9,-999.000,   39.50,2, 1212.10,-999.0000,9,-999.0000,9,-999.0000,9,-999.0000,9,-999.0000,9,   0.0096,-999.000,-999.0000,9,    0.20
318M20040615,        P02,      46,          2,         18,         18,2,20040702,       1444,    29.9948,   153.9117,       5813,  1311.5,   3.0199,  34.4163,2,  34.4167,2,  35.2000,2,    35.6,2,  139.35,2,   42.62,2,    0.01,2,    3.08,2,   0.061,2,   0.032,2,  -0.001,2,  2365.0,2,  2379.1,6,-999.000,9,-999.0000,9, -999.00,9, -999.00,9,  -999.0,9,  -999.0,-999.000,9,-999.000,   39.10,2, 1311.50,-999.0000,9,-999.0000,9,-999.0000,9,-999.0000,9,-999.0000,9,-999.0000,-999.000,-999.0000,9, -999.00
318M20040615,        P02,      46,          2,         17,         17,2,20040702,       1444,    29.9948,   153.9117,       5813,  1413.0,   2.7819,  34.4599,2,  34.4603,2,  37.1000,2,    38.1,2,  146.00,2,   42.80,2,    0.01,2,    3.08,2,   0.032,2,   0.018,2,  -0.001,2,  2375.0,2,  2388.1,2,-999.000,9,   1.9401,2,   17.36,2, -999.00,9,  -999.0,9,  -999.0,-999.000,9,-999.000,   38.30,2, 1413.00,-999.0000,9,-999.0000,9,-999.0000,9,-999.0000,9,-999.0000,9,   0.0097,-999.000,-999.0000,9,    0.20
318M20040615,        P02,      46,          2,         16,         16,2,20040702,       1444,    29.9948,   153.9117,       5813,  1515.1,   2.6224,  34.4869,2,  34.4871,2,  39.9000,2,    41.2,2,  150.28,2,   42.74,2,    0.01,2,    3.07,2,   0.021,2,   0.011,2,  -0.001,2,  2375.2,2,  2392.6,2,-999.000,9,   1.9246,2,   18.23,2, -999.00,9,  -999.0,9,  -999.0,-999.000,9,-999.000,   37.70,2, 1515.10,-999.0000,9,-999.0000,9,-999.0000,9,-999.0000,9,-999.0000,9,   0.0096,-999.000,-999.0000,9,    0.20
318M20040615,        P02,      46,          2,         15,         15,2,20040702,       1444,    29.9948,   153.9117,       5813,  1614.6,   2.4487,  34.5176,2,  34.5170,2,  45.4000,2,    47.4,2,  154.14,2,   42.62,2,    0.01,2,    3.04,2,   0.010,2,   0.005,2,   0.002,2,  2377.7,2,  2396.5,2,-999.000,9,   1.9278,2,   18.96,2, -999.00,9,  -999.0,9,  -999.0,-999.000,9,-999.000,   37.60,2, 1614.60,-999.0000,9,-999.0000,9,-999.0000,9,-999.0000,9,-999.0000,9,   0.0096,-999.000,-999.0000,9,    0.20
318M20040615,        P02,      46,          2,         14,         14,2,20040702,       1444,    29.9948,   153.9117,       5813,  1827.4,   2.1706,  34.5642,2,  34.5641,2,  60.5000,2,    62.3,2,  158.60,2,   41.93,2,    0.00,2,    2.97,2,   0.005,2,   0.001,2,   0.000,2,  2376.1,2,  2405.8,2,-999.000,9,-999.0000,9, -999.00,9, -999.00,9,  -999.0,9,  -999.0,-999.000,9,-999.000,   37.60,2, 1827.40,-999.0000,9,-999.0000,9,-999.0000,9,-999.0000,9,-999.0000,9,-999.0000,-999.000,-999.0000,9, -999.00
318M20040615,        P02,      46,          2,         13,         13,2,20040702,       1444,    29.9948,   153.9117,       5813,  2029.8,   1.9796,  34.5927,2,  34.5926,2,  72.7000,2,    73.1,2,  162.51,2,   41.29,2,    0.00,2,    2.92,2,   0.004,2,   0.004,2,   0.007,2,  2372.5,2,  2411.5,2,-999.000,9,-999.0000,9, -999.00,9, -999.00,9,  -999.0,9,  -999.0,-999.000,9,-999.000,   37.60,2, 2029.80,-999.0000,9,-999.0000,9,-999.0000,9,-999.0000,9,-999.0000,9,-999.0000,-999.000,-999.0000,9, -999.00
318M20040615,        P02,      46,          2,         12,         12,2,20040702,       1444,    29.9948,   153.9117,       5813,  2282.0,   1.7988,  34.6232,2,  34.6233,2,  93.1000,2,    93.3,2,  161.21,2,   39.98,2,    0.00,2,    2.83,2,   0.002,2,   0.000,2,   0.000,2,  2363.5,2,  2415.2,2,-999.000,9,-999.0000,9, -999.00,9, -999.00,9,  -999.0,9,  -999.0,-999.000,9,-999.000,   37.00,2, 2282.00,-999.0000,9,-999.0000,9,-999.0000,9,-999.0000,9,-999.0000,9,-999.0000,-999.000,-999.0000,9, -999.00
318M20040615,        P02,      46,          2,         11,         11,2,20040702,       1444,    29.9948,   153.9117,       5813,  2535.5,   1.6823,  34.6425,2,  34.6388,2, 108.4000,3,   108.7,2,  158.96,2,   39.01,2,    0.00,2,    2.75,2,   0.002,2,   0.003,2,   0.000,2,  2355.1,2,  2415.2,2,-999.000,9,-999.0000,9, -999.00,9, -999.00,9,  -999.0,9,  -999.0,-999.000,9,-999.000,   36.80,2, 2535.50,-999.0000,9,-999.0000,9,-999.0000,9,-999.0000,9,-999.0000,9,-999.0000,-999.000,-999.0000,9, -999.00
318M20040615,        P02,      46,          2,         10,         10,2,20040702,       1444,    29.9948,   153.9117,       5813,  2788.9,   1.6049,  34.6550,2,  34.6547,2, 119.4000,2,   120.0,2,  157.45,2,   38.27,2,    0.00,2,    2.69,2,   0.002,2,   0.001,2,   0.010,2,  2348.3,2,  2417.3,2,-999.000,9,-999.0000,9, -999.00,9, -999.00,9,  -999.0,9,  -999.0,-999.000,9,-999.000,   37.20,2, 2788.90,-999.0000,9,-999.0000,9,-999.0000,9,-999.0000,9,-999.0000,9,-999.0000,-999.000,-999.0000,9, -999.00
318M20040615,        P02,      46,          2,          9,          9,2,20040702,       1444,    29.9948,   153.9117,       5813,  3042.2,   1.5572,  34.6637,2,  34.6659,2, 128.1000,3,   128.2,2,  155.75,2,   37.65,2,    0.00,2,    2.66,2,  -0.001,2,  -0.001,2,   0.000,2,  2342.3,2,  2417.0,2,-999.000,9,-999.0000,9, -999.00,9, -999.00,9,  -999.0,9,  -999.0,-999.000,9,-999.000,   36.80,2, 3042.20,-999.0000,9,-999.0000,9,-999.0000,9,-999.0000,9,-999.0000,9,-999.0000,-999.000,-999.0000,9, -999.00
318M20040615,        P02,      46,          2,          8,          8,2,20040702,       1444,    29.9948,   153.9117,       5813,  3449.4,   1.5009,  34.6742,2,  34.6732,2, 139.1000,2,   139.4,2,  152.75,2,   36.85,2,    0.00,2,    2.58,2,   0.002,2,  -0.001,2,   0.000,2,  2333.1,2,  2417.8,2,-999.000,9,-999.0000,9, -999.00,9, -999.00,9,  -999.0,9,  -999.0,-999.000,9,-999.000,   37.50,2, 3449.40,-999.0000,9,-999.0000,9,-999.0000,9,-999.0000,9,-999.0000,9,-999.0000,-999.000,-999.0000,9, -999.00
318M20040615,        P02,      46,          2,          7,          7,2,20040702,       1444,    29.9948,   153.9117,       5813,  3865.7,   1.4710,  34.6816,2,  34.6820,2, 148.2000,2,   149.0,2,  149.97,2,   36.23,2,    0.00,2,    2.54,2,   0.003,2,   0.001,2,   0.000,2,  2328.1,2,  2415.8,2,-999.000,9,-999.0000,9, -999.00,9, -999.00,9,  -999.0,9,  -999.0,-999.000,9,-999.000,   37.30,2, 3865.70,-999.0000,9,-999.0000,9,-999.0000,9,-999.0000,9,-999.0000,9,-999.0000,-999.000,-999.0000,9, -999.00
318M20040615,        P02,      46,          2,          6,          6,2,20040702,       1444,    29.9948,   153.9117,       5813,  4275.7,   1.4683,  34.6863,2,  34.6871,2, 154.1000,2,   154.7,2,  147.90,2,   35.84,2,    0.00,2,    2.50,2,   0.002,2,   0.002,2,   0.000,2,  2323.1,2,  2415.3,6,-999.000,9,-999.0000,9, -999.00,9, -999.00,9,  -999.0,9,  -999.0,-999.000,9,-999.000,   37.60,2, 4275.70,-999.0000,9,-999.0000,9,-999.0000,9,-999.0000,9,-999.0000,9,-999.0000,-999.000,-999.0000,9, -999.00
318M20040615,        P02,      46,          2,          5,          5,2,20040702,       1444,    29.9948,   153.9117,       5813,  4684.1,   1.4820,  34.6894,2,  34.6897,2, 158.8000,2,   158.8,2,  146.58,2,   35.49,2,    0.00,2,    2.48,2,   0.002,2,   0.000,2,   0.000,2,  2319.1,2,  2412.7,6,-999.000,9,-999.0000,9, -999.00,9, -999.00,9,  -999.0,9,  -999.0,-999.000,9,-999.000,   37.80,2, 4684.10,-999.0000,9,-999.0000,9,-999.0000,9,-999.0000,9,-999.0000,9,-999.0000,-999.000,-999.0000,9, -999.00
318M20040615,        P02,      46,          2,          4,          4,2,20040702,       1444,    29.9948,   153.9117,       5813,  5113.3,   1.5007,  34.6925,2,  34.6926,2, 164.8000,2,   165.2,2,  141.18,2,   35.04,2,    0.00,2,    2.45,2,   0.001,2,   0.001,2,   0.002,2,  2312.9,2,  2408.9,2,-999.000,9,-999.0000,9, -999.00,9, -999.00,9,  -999.0,9,  -999.0,-999.000,9,-999.000,   37.40,2, 5113.30,-999.0000,9,-999.0000,9,-999.0000,9,-999.0000,9,-999.0000,9,-999.0000,-999.000,-999.0000,9, -999.00
318M20040615,        P02,      46,          2,          3,          3,2,20040702,       1444,    29.9948,   153.9117,       5813,  5514.9,   1.5296,  34.6945,2,  34.6952,2, 168.4000,2,   169.0,2,  138.76,2,   34.76,2,    0.01,2,    2.43,2,   0.001,2,   0.001,2,   0.003,2,  2308.9,2,  2406.0,2,-999.000,9,-999.0000,9, -999.00,9, -999.00,9,  -999.0,9,  -999.0,-999.000,9,-999.000,   37.60,2, 5514.90,-999.0000,9,-999.0000,9,-999.0000,9,-999.0000,9,-999.0000,9,-999.0000,-999.000,-999.0000,9, -999.00
318M20040615,        P02,      46,          2,          2,          2,2,20040702,       1444,    29.9948,   153.9117,       5813,  5719.3,   1.5497,  34.6951,2,  34.6954,2, 169.8000,2,   169.7,2,  137.64,2,   34.65,2,    0.00,2,    2.42,2,   0.003,2,  -0.001,2,   0.002,2,  2307.6,2,  2405.8,2,-999.000,9,-999.0000,9, -999.00,9, -999.00,9,  -999.0,9,  -999.0,-999.000,9,-999.000,   37.40,2, 5719.30,-999.0000,9,-999.0000,9,-999.0000,9,-999.0000,9,-999.0000,9,-999.0000,-999.000,-999.0000,9, -999.00
318M20040615,        P02,      46,          2,          1,          1,2,20040702,       1444,    29.9948,   153.9117,       5813,  5966.5,   1.5795,  34.6951,2,  34.6960,2, 169.8000,3,   170.5,2,  137.28,2,   34.66,2,    0.00,2,    2.42,2,   0.004,2,   0.001,2,   0.000,2,  2307.9,6,  2406.9,6,-999.000,9,-999.0000,9, -999.00,9, -999.00,9,  -999.0,9,  -999.0,-999.000,9,-999.000,   37.70,2, 5966.50,-999.0000,9,-999.0000,9,-999.0000,9,-999.0000,9,-999.0000,9,-999.0000,-999.000,-999.0000,9, -999.00