BOTTLE,20131027SIOCCHRJL
EXPOCODE,SECT_ID,STNNBR,CASTNO,SAMPNO,BTLNBR,BTLNBR_FLAG_W,DATE,TIME,LATITUDE,LONGITUDE,DEPTH,CTDPRS,CTDTMP,CTDSAL,CTDSAL_FLAG_W,SALNTY,SALNTY_FLAG_W,CTDOXY,CTDOXY_FLAG_W,OXYGEN,OXYGEN_FLAG_W,SILCAT,SILCAT_FLAG_W,NITRAT,NITRAT_FLAG_W,NITRIT,NITRIT_FLAG_W,PHSPHT,PHSPHT_FLAG_W,CFC-11,CFC-11_FLAG_W,CFC-12,CFC-12_FLAG_W,CFC113,CFC113_FLAG_W,TCARBN,TCARBN_FLAG_W,ALKALI,ALKALI_FLAG_W,TRITUM,TRITUM_FLAG_W,HELIUM,HELIUM_FLAG_W,DELHE3,DELHE3_FLAG_W,DELC13,DELC13_FLAG_W,DELC14,DELC14_FLAG_W,C14ERR,NEON,NEON_FLAG_W,NEONER,DOC,DOC_FLAG_W,CTDRAW,CDOM380,CDOM380_FLAG_W,CDOM325,CDOM325_FLAG_W,CDOMSL,CDOMSL_FLAG_W,CDOM340,CDOM340_FLAG_W,CDOMSN,CDOMSN_FLAG_W,HELIER,TRITER,CDOM412,CDOM412_FLAG_W,DELHER
,,,,,,,,,,,METERS,DBAR,ITS-90,PSS-78,,PSS-78,,UMOL/KG,,UMOL/KG,,UMOL/KG,,UMOL/KG,,UMOL/KG,,UMOL/KG,,PMOL/KG,,PMOL/KG,,PMOL/KG,,UMOL/KG,,UMOL/KG,,TU,,NMOL/KG,,PERCNT,,/MILLE,,/MILLE,,/MILLE,NMOL/KG,,NMOL/KG,UMOL/KG,,DBAR,1/M,,1/M,,1/NM,,1/M,,1/NM,,NMOL/KG,TU,1/M,,PERCNT
318M20040615,        P02,     169,          1,         36,         36,2,20040822,       1532,    30.0008,  -125.4938,       4523,     6.0,  21.0683,  33.4252,2,  33.4252,2, 227.3000,2,   227.1,2,    1.50,2,    0.10,2,    0.00,2,    0.30,2,   2.270,2,   1.394,2,   0.162,2,  1996.0,2,  2240.1,6,-999.000,9,-999.0000,9, -999.00,9,    1.80,2,    47.1,2,     4.5,-999.000,9,-999.000,   68.30,2,    6.00,   0.0370,2,   0.1020,2,   0.0170,2,   0.0740,2,   0.0190,2,-999.0000,-999.000,   0.0260,2, -999.00
318M20040615,        P02,     169,          1,         35,         35,2,20040822,       1532,    30.0008,  -125.4938,       4523,    21.2,  20.9687,  33.4334,2,  33.4338,2, 228.7000,2,   228.0,2,    1.49,2,    0.10,2,    0.00,2,    0.29,2,-999.000,9,-999.000,9,-999.000,9,  1996.4,2,  2240.0,2,-999.000,9,-999.0000,9, -999.00,9, -999.00,9,  -999.0,9,  -999.0,-999.000,9,-999.000,   68.10,2,   21.20,   0.0140,2,   0.0640,2,   0.0300,2,   0.0410,2,   0.0300,2,-999.0000,-999.000,   0.0070,2, -999.00
318M20040615,        P02,     169,          1,         34,         34,2,20040822,       1532,    30.0008,  -125.4938,       4523,    60.9,  18.8502,  33.6034,2,  33.5923,2, 247.4000,2,   248.4,2,    1.48,2,    0.15,2,    0.00,2,    0.25,2,   2.640,2,   1.606,2,   0.179,2,  1995.3,2,  2243.7,2,-999.000,9,-999.0000,9, -999.00,9,    1.76,2,    44.2,2,     4.5,-999.000,9,-999.000,   68.50,2,   60.90,   0.0310,2,   0.1170,2,   0.0250,2,   0.0780,2,   0.0250,2,-999.0000,-999.000,   0.0170,2, -999.00
318M20040615,        P02,     169,          1,         33,         33,2,20040822,       1532,    30.0008,  -125.4938,       4523,   100.8,  16.1203,  33.3977,2,  33.3971,2, 250.2000,2,   250.3,2,    1.87,2,    0.15,2,    0.00,2,    0.27,2,   2.872,2,   1.727,2,   0.191,2,  1996.4,2,  2229.4,2,-999.000,9,-999.0000,9, -999.00,9,    1.64,2,    51.8,2,     4.5,-999.000,9,-999.000,   63.80,2,  100.80,   0.0430,2,   0.1440,2,   0.0210,2,   0.1000,2,   0.0220,2,-999.0000,-999.000,   0.0260,2, -999.00
318M20040615,        P02,     169,          1,         32,         32,2,20040822,       1532,    30.0008,  -125.4938,       4523,   160.2,  11.1441,  33.2262,2,  33.2203,2, 216.7000,2,   218.0,2,    8.31,2,   10.08,2,    0.01,2,    0.95,2,   3.537,2,   2.028,2,   0.203,2,  2058.2,2,  2213.2,2,-999.000,9,-999.0000,9, -999.00,9,    0.95,2,    43.3,2,     4.4,-999.000,9,-999.000,   52.30,2,  160.20,   0.0570,2,   0.1610,2,   0.0160,2,   0.1170,2,   0.0180,2,-999.0000,-999.000,   0.0400,2, -999.00
318M20040615,        P02,     169,          1,         31,         31,2,20040822,       1532,    30.0008,  -125.4938,       4523,   199.3,   9.5544,  33.5117,2,  33.5294,2, 182.0000,2,   181.9,2,   17.80,2,   18.51,2,    0.00,2,    1.46,2,   3.636,2,   2.012,2,   0.147,2,  2119.8,2,  2232.5,2,-999.000,9,-999.0000,9, -999.00,9,    0.40,2,    35.9,2,     5.2,-999.000,9,-999.000,   47.70,2,  199.30,   0.0610,2,   0.1640,2,   0.0150,2,   0.1180,2,   0.0160,2,-999.0000,-999.000,   0.0440,2, -999.00
318M20040615,        P02,     169,          1,         30,         30,2,20040822,       1532,    30.0008,  -125.4938,       4523,   249.4,   8.8558,  33.9280,2,  33.9275,2, 136.4000,2,   136.1,2,   28.31,2,   24.88,2,    0.00,2,    1.84,2,-999.000,9,-999.000,9,-999.000,9,  2172.8,2,  2255.4,2,-999.000,9,-999.0000,9, -999.00,9,    0.04,2,    23.3,2,     3.8,-999.000,9,-999.000,   48.80,2,  249.40,   0.0610,2,   0.1630,2,   0.0150,2,   0.1180,2,   0.0160,2,-999.0000,-999.000,   0.0440,2, -999.00
318M20040615,        P02,     169,          1,         29,         29,2,20040822,       1532,    30.0008,  -125.4938,       4523,   294.8,   8.4026,  34.0411,2,  34.0403,2, 114.4000,2,   115.9,2,   34.98,2,   27.76,2,    0.00,2,    2.03,2,   2.693,6,   1.409,6,   0.101,6,  2195.5,2,  2266.5,2,-999.000,9,-999.0000,9, -999.00,9,   -0.05,2,     5.0,2,     3.7,-999.000,9,-999.000,   47.60,2,  294.80,   0.0570,2,   0.1570,2,   0.0150,2,   0.1120,2,   0.0170,2,-999.0000,-999.000,   0.0420,2, -999.00
318M20040615,        P02,     169,          1,         28,         28,2,20040822,       1532,    30.0008,  -125.4938,       4523,   349.0,   7.6070,  34.0917,2,  34.0919,2,  81.5000,2,    82.1,2,   45.94,2,   32.19,2,    0.00,2,    2.39,2,-999.000,9,-999.000,9,-999.000,9,  2234.3,2,  2278.4,2,-999.000,9,-999.0000,9, -999.00,9,   -0.21,2,   -34.5,2,     5.0,-999.000,9,-999.000,   54.90,4,  349.00,   0.0710,2,   0.1810,2,   0.0140,2,   0.1310,2,   0.0150,2,-999.0000,-999.000,   0.0530,2, -999.00
318M20040615,        P02,     169,          1,         27,         27,2,20040822,       1532,    30.0008,  -125.4938,       4523,   404.3,   7.1130,  34.1280,2,  34.1283,2,  58.5000,2,    60.1,2,   53.88,2,   34.64,2,    0.00,2,    2.60,2,   1.337,2,   0.672,2,   0.038,2,  2257.7,2,  2287.5,2,-999.000,9,-999.0000,9, -999.00,9,   -0.26,2,   -57.5,2,     4.7,-999.000,9,-999.000,   43.50,2,  404.30,-999.0000,9,-999.0000,9,-999.0000,9,-999.0000,9,-999.0000,9,-999.0000,-999.000,-999.0000,9, -999.00
318M20040615,        P02,     169,          1,         26,         26,2,20040822,       1532,    30.0008,  -125.4938,       4523,   504.3,   6.1973,  34.1948,2,  34.1940,2,  30.2000,2,    31.0,2,   70.02,2,   38.47,2,    0.00,2,    2.93,2,-999.000,9,-999.000,9,-999.000,9,  2295.1,2,  2306.9,2,-999.000,9,-999.0000,9, -999.00,9,   -0.33,2,  -100.4,2,     4.0,-999.000,9,-999.000, -999.00,9,  504.30,   0.0800,2,   0.1990,2,   0.0130,2,   0.1460,2,   0.0150,2,-999.0000,-999.000,   0.0610,2, -999.00
318M20040615,        P02,     169,          1,         25,         25,2,20040822,       1532,    30.0008,  -125.4938,       4523,   603.0,   5.5638,  34.2739,2,  34.2746,2,  15.6000,2,    15.0,2,   83.75,2,   40.85,2,    0.00,2,    3.11,2,   0.172,2,   0.086,2,   0.000,2,  2321.7,2,  2324.9,2,-999.000,9,-999.0000,9, -999.00,9,   -0.36,2,  -146.3,2,     3.8,-999.000,9,-999.000,   43.70,2,  603.00,-999.0000,9,-999.0000,9,-999.0000,9,-999.0000,9,-999.0000,9,-999.0000,-999.000,-999.0000,9, -999.00
318M20040615,        P02,     169,          1,         24,         24,2,20040822,       1532,    30.0008,  -125.4938,       4523,   709.6,   5.1291,  34.3414,2,  34.3437,2,  11.5000,2,    11.6,2,   93.22,2,   42.10,2,    0.00,2,    3.19,2,-999.000,9,-999.000,9,-999.000,9,  2336.4,2,  2339.7,2,-999.000,9,-999.0000,9, -999.00,9,   -0.38,2,  -164.1,2,     3.8,-999.000,9,-999.000,   41.10,2,  709.60,   0.0810,2,   0.1950,2,   0.0130,2,   0.1420,2,   0.0140,2,-999.0000,-999.000,   0.0630,2, -999.00
318M20040615,        P02,     169,          1,         23,         23,2,20040822,       1532,    30.0008,  -125.4938,       4523,   809.2,   4.7039,  34.3866,2,  34.3866,2,  12.4000,2,    12.7,2,  101.69,2,   42.88,2,    0.00,2,    3.22,2,   0.030,2,   0.018,2,   0.000,2,  2347.1,2,  2351.9,2,-999.000,9,-999.0000,9, -999.00,9,   -0.37,2,  -180.2,2,     4.1,-999.000,9,-999.000,   41.20,2,  809.20,-999.0000,9,-999.0000,9,-999.0000,9,-999.0000,9,-999.0000,9,-999.0000,-999.000,-999.0000,9, -999.00
318M20040615,        P02,     169,          1,         22,         22,2,20040822,       1532,    30.0008,  -125.4938,       4523,   909.3,   4.3953,  34.4363,2,  34.4369,2,  16.3000,2,    16.3,2,  108.70,2,   43.37,2,    0.00,2,    3.22,2,-999.000,9,-999.000,9,-999.000,9,  2353.2,6,  2360.3,2,-999.000,9,-999.0000,9, -999.00,9, -999.00,9,  -999.0,9,  -999.0,-999.000,9,-999.000,   40.60,2,  909.30,   0.0830,2,   0.1930,2,   0.0130,2,   0.1410,2,   0.0130,2,-999.0000,-999.000,   0.0630,2, -999.00
318M20040615,        P02,     169,          1,         21,         21,2,20040822,       1532,    30.0008,  -125.4938,       4523,  1009.3,   4.0836,  34.4662,2,  34.4657,2,  22.0000,2,    21.3,2,  114.91,2,   43.75,2,    0.00,2,    3.22,2,   0.023,2,   0.018,2,   0.000,2,  2357.4,2,  2370.8,2,-999.000,9,-999.0000,9, -999.00,9,   -0.26,2,  -197.0,2,     3.7,-999.000,9,-999.000, -999.00,9, 1009.30,   0.0780,2,   0.1870,2,   0.0130,2,   0.1360,2,   0.0140,2,-999.0000,-999.000,   0.0590,2, -999.00
318M20040615,        P02,     169,          1,         20,         20,2,20040822,       1532,    30.0008,  -125.4938,       4523,  1114.8,   3.7752,  34.4962,2,  34.4968,2,  27.6000,2,    27.8,2,  121.76,2,   43.97,2,    0.00,2,    3.20,2,-999.000,9,-999.000,9,-999.000,9,  2361.3,2,  2378.8,2,-999.000,9,-999.0000,9, -999.00,9, -999.00,9,  -999.0,9,  -999.0,-999.000,9,-999.000,   37.40,2, 1114.80,-999.0000,9,-999.0000,9,-999.0000,9,-999.0000,9,-999.0000,9,-999.0000,-999.000,-999.0000,9, -999.00
318M20040615,        P02,     169,          1,         19,         19,2,20040822,       1532,    30.0008,  -125.4938,       4523,  1213.1,   3.5457,  34.5149,2,  34.5156,2,  32.4000,2,    31.8,2,  127.58,2,   43.91,2,    0.00,2,    3.18,2,   0.023,2,   0.016,2,   0.000,2,  2365.1,2,  2386.1,2,-999.000,9,-999.0000,9, -999.00,9,   -0.38,2,  -213.7,2,     3.8,-999.000,9,-999.000, -999.00,9, 1213.10,-999.0000,9,-999.0000,9,-999.0000,9,-999.0000,9,-999.0000,9,-999.0000,-999.000,-999.0000,9, -999.00
318M20040615,        P02,     169,          1,         18,         18,2,20040822,       1532,    30.0008,  -125.4938,       4523,  1314.6,   3.2988,  34.5341,2,  34.5343,2,  37.0000,2,    36.9,2,  133.82,2,   43.63,2,    0.00,2,    3.15,2,-999.000,9,-999.000,9,-999.000,9,  2367.1,2,  2392.8,6,-999.000,9,-999.0000,9, -999.00,9, -999.00,9,  -999.0,9,  -999.0,-999.000,9,-999.000,   38.60,2, 1314.60,-999.0000,9,-999.0000,9,-999.0000,9,-999.0000,9,-999.0000,9,-999.0000,-999.000,-999.0000,9, -999.00
318M20040615,        P02,     169,          1,         17,         17,2,20040822,       1532,    30.0008,  -125.4938,       4523,  1414.5,   3.0686,  34.5505,2,  34.5512,2,  41.9000,2,    42.5,2,  139.66,2,   43.24,2,    0.00,2,    3.12,2,   0.020,2,   0.015,2,   0.000,2,  2372.1,2,  2398.4,2,-999.000,9,-999.0000,9, -999.00,9,   -0.35,2,  -232.9,2,     3.2,-999.000,9,-999.000, -999.00,9, 1414.50,-999.0000,9,-999.0000,9,-999.0000,9,-999.0000,9,-999.0000,9,-999.0000,-999.000,-999.0000,9, -999.00
318M20040615,        P02,     169,          1,         16,         16,2,20040822,       1532,    30.0008,  -125.4938,       4523,  1515.8,   2.8422,  34.5665,2,  34.5661,2,  48.0000,2,    49.2,2,  144.69,2,   42.75,2,    0.00,2,    3.09,2,-999.000,9,-999.000,9,-999.000,9,  2374.0,2,  2406.5,2,-999.000,9,-999.0000,9, -999.00,9, -999.00,9,  -999.0,9,  -999.0,-999.000,9,-999.000,   36.90,2, 1515.80,-999.0000,9,-999.0000,9,-999.0000,9,-999.0000,9,-999.0000,9,-999.0000,-999.000,-999.0000,9, -999.00
318M20040615,        P02,     169,          1,         15,         15,2,20040822,       1532,    30.0008,  -125.4938,       4523,  1615.9,   2.6765,  34.5789,2,  34.5798,2,  53.8000,2,    55.0,2,  149.31,2,   42.38,2,    0.00,2,    3.06,2,   0.016,2,   0.012,2,   0.000,2,  2375.2,2,  2408.4,2,-999.000,9,-999.0000,9, -999.00,9, -999.00,9,  -999.0,9,  -999.0,-999.000,9,-999.000, -999.00,9, 1615.90,-999.0000,9,-999.0000,9,-999.0000,9,-999.0000,9,-999.0000,9,-999.0000,-999.000,-999.0000,9, -999.00
318M20040615,        P02,     169,          1,         14,         14,2,20040822,       1532,    30.0008,  -125.4938,       4523,  1721.7,   2.5259,  34.5896,2,  34.5895,2,  60.4000,2,    60.1,2,  152.65,2,   42.04,2,    0.00,2,    3.02,2,-999.000,9,-999.000,9,-999.000,9,  2373.9,2,  2412.6,2,-999.000,9,-999.0000,9, -999.00,9, -999.00,9,  -999.0,9,  -999.0,-999.000,9,-999.000, -999.00,9, 1721.70,-999.0000,9,-999.0000,9,-999.0000,9,-999.0000,9,-999.0000,9,-999.0000,-999.000,-999.0000,9, -999.00
318M20040615,        P02,     169,          1,         13,         13,2,20040822,       1532,    30.0008,  -125.4938,       4523,  1822.0,   2.3544,  34.6035,2,  34.6036,2,  67.1000,2,    67.2,2,  156.20,2,   41.77,2,    0.00,2,    2.98,2,   0.008,2,   0.004,2,   0.000,2,  2373.3,2,  2417.3,2,-999.000,9,-999.0000,9, -999.00,9, -999.00,9,  -999.0,9,  -999.0,-999.000,9,-999.000,   36.60,2, 1822.00,-999.0000,9,-999.0000,9,-999.0000,9,-999.0000,9,-999.0000,9,-999.0000,-999.000,-999.0000,9, -999.00
318M20040615,        P02,     169,          1,         12,         12,2,20040822,       1532,    30.0008,  -125.4938,       4523,  1923.2,   2.2244,  34.6140,2,  34.6142,2,  74.2000,2,    73.7,2,  159.55,2,   41.60,2,    0.00,2,    2.94,2,-999.000,9,-999.000,9,-999.000,9,  2373.0,2,  2420.5,2,-999.000,9,-999.0000,9, -999.00,9, -999.00,9,  -999.0,9,  -999.0,-999.000,9,-999.000, -999.00,9, 1923.20,-999.0000,9,-999.0000,9,-999.0000,9,-999.0000,9,-999.0000,9,-999.0000,-999.000,-999.0000,9, -999.00
318M20040615,        P02,     169,          1,         11,         11,2,20040822,       1532,    30.0008,  -125.4938,       4523,  2023.2,   2.1231,  34.6231,2,  34.6232,2,  80.0000,2,    79.8,2,  161.00,2,   41.26,2,    0.00,2,    2.91,2,   0.008,2,   0.004,2,   0.000,2,  2371.3,2,  2421.2,2,-999.000,9,-999.0000,9, -999.00,9, -999.00,9,  -999.0,9,  -999.0,-999.000,9,-999.000,   36.40,2, 2023.20,   0.0670,2,   0.1680,2,   0.0130,2,   0.1200,2,   0.0150,2,-999.0000,-999.000,   0.0490,2, -999.00
318M20040615,        P02,     169,          1,         10,         10,2,20040822,       1532,    30.0008,  -125.4938,       4523,  2281.2,   1.9514,  34.6394,2,  34.6394,2,  91.7000,2,    91.8,2,  163.51,2,   40.39,2,    0.00,2,    2.85,2,-999.000,9,-999.000,9,-999.000,9,  2367.6,2,  2426.4,2,-999.000,9,-999.0000,9, -999.00,9, -999.00,9,  -999.0,9,  -999.0,-999.000,9,-999.000, -999.00,9, 2281.20,-999.0000,9,-999.0000,9,-999.0000,9,-999.0000,9,-999.0000,9,-999.0000,-999.000,-999.0000,9, -999.00
318M20040615,        P02,     169,          1,          9,          9,2,20040822,       1532,    30.0008,  -125.4938,       4523,  2532.4,   1.8223,  34.6500,2,  34.6502,2, 100.6000,2,   100.7,2,  166.25,2,   39.74,2,    0.00,2,    2.80,2,   0.009,2,   0.003,2,   0.000,2,  2365.5,2,  2428.9,2,-999.000,9,-999.0000,9, -999.00,9, -999.00,9,  -999.0,9,  -999.0,-999.000,9,-999.000, -999.00,9, 2532.40,-999.0000,9,-999.0000,9,-999.0000,9,-999.0000,9,-999.0000,9,-999.0000,-999.000,-999.0000,9, -999.00
318M20040615,        P02,     169,          1,          8,          8,2,20040822,       1532,    30.0008,  -125.4938,       4523,  2790.0,   1.7035,  34.6587,2,  34.6584,2, 108.6000,2,   109.0,2,  168.56,2,   39.10,2,    0.00,2,    2.75,2,-999.000,9,-999.000,9,-999.000,9,  2361.2,2,  2431.9,2,-999.000,9,-999.0000,9, -999.00,9, -999.00,9,  -999.0,9,  -999.0,-999.000,9,-999.000,   35.90,2, 2790.00,-999.0000,9,-999.0000,9,-999.0000,9,-999.0000,9,-999.0000,9,-999.0000,-999.000,-999.0000,9, -999.00
318M20040615,        P02,     169,          1,          7,          7,2,20040822,       1532,    30.0008,  -125.4938,       4523,  3042.1,   1.6213,  34.6654,2,  34.6651,2, 115.3000,2,   115.9,2,  170.68,2,   38.61,2,    0.00,2,    2.71,2,   0.012,2,   0.009,2,   0.000,2,  2357.3,2,  2432.2,2,-999.000,9,-999.0000,9, -999.00,9, -999.00,9,  -999.0,9,  -999.0,-999.000,9,-999.000,   37.50,2, 3042.10,   0.0620,2,   0.1600,2,   0.0140,2,   0.1130,2,   0.0160,2,-999.0000,-999.000,   0.0440,2, -999.00
318M20040615,        P02,     169,          1,          6,          6,2,20040822,       1532,    30.0008,  -125.4938,       4523,  3299.2,   1.5609,  34.6717,2,  34.6718,2, 122.4000,2,   123.1,2,  170.66,2,   38.18,2,    0.00,2,    2.67,2,   0.013,2,   0.012,2,   0.000,2,  2353.8,2,  2433.8,2,-999.000,9,-999.0000,9, -999.00,9, -999.00,9,  -999.0,9,  -999.0,-999.000,9,-999.000, -999.00,9, 3299.20,-999.0000,9,-999.0000,9,-999.0000,9,-999.0000,9,-999.0000,9,-999.0000,-999.000,-999.0000,9, -999.00
318M20040615,        P02,     169,          1,          5,          5,2,20040822,       1532,    30.0008,  -125.4938,       4523,  3553.4,   1.5259,  34.6767,2,  34.6761,2, 128.1000,2,   128.7,2,  170.63,2,   37.95,2,    0.00,2,    2.64,2,   0.014,2,   0.010,2,   0.000,2,  2348.4,2,  2434.4,2,-999.000,9,-999.0000,9, -999.00,9, -999.00,9,  -999.0,9,  -999.0,-999.000,9,-999.000, -999.00,9, 3553.40,-999.0000,9,-999.0000,9,-999.0000,9,-999.0000,9,-999.0000,9,-999.0000,-999.000,-999.0000,9, -999.00
318M20040615,        P02,     169,          1,          4,          4,2,20040822,       1532,    30.0008,  -125.4938,       4523,  3812.2,   1.5104,  34.6807,2,  34.6802,2, 133.2000,2,   134.1,2,  169.54,2,   37.79,2,    0.00,2,    2.61,2,   0.015,2,   0.013,2,   0.000,2,  2345.3,2,  2434.9,2,-999.000,9,-999.0000,9, -999.00,9, -999.00,9,  -999.0,9,  -999.0,-999.000,9,-999.000,   38.90,2, 3812.20,-999.0000,9,-999.0000,9,-999.0000,9,-999.0000,9,-999.0000,9,-999.0000,-999.000,-999.0000,9, -999.00
318M20040615,        P02,     169,          1,          3,          3,2,20040822,       1532,    30.0008,  -125.4938,       4523,  4066.1,   1.5141,  34.6834,2,  34.6830,2, 137.4000,2,   138.9,3,  167.40,2,   37.58,2,    0.00,2,    2.58,2,   0.012,2,   0.012,2,   0.000,2,  2342.9,2,  2434.1,2,-999.000,9,-999.0000,9, -999.00,9, -999.00,9,  -999.0,9,  -999.0,-999.000,9,-999.000,   36.80,2, 4066.10,-999.0000,9,-999.0000,9,-999.0000,9,-999.0000,9,-999.0000,9,-999.0000,-999.000,-999.0000,9, -999.00
318M20040615,        P02,     169,          1,          2,          2,2,20040822,       1532,    30.0008,  -125.4938,       4523,  4364.3,   1.5372,  34.6846,2,  34.6848,2, 139.7000,2,   139.9,2,  167.15,2,   37.41,2,    0.00,2,    2.58,2,   0.017,2,   0.015,2,   0.000,2,  2342.0,6,  2433.7,2,-999.000,9,-999.0000,9, -999.00,9, -999.00,9,  -999.0,9,  -999.0,-999.000,9,-999.000, -999.00,9, 4364.30,-999.0000,9,-999.0000,9,-999.0000,9,-999.0000,9,-999.0000,9,-999.0000,-999.000,-999.0000,9, -999.00
318M20040615,        P02,     169,          1,          1,          1,2,20040822,       1532,    30.0008,  -125.4938,       4523,  4568.2,   1.5599,  34.6848,2,  34.6853,2, 139.8000,2,   140.4,2,  167.14,2,   37.30,2,    0.00,2,    2.57,2,   0.014,2,   0.015,2,   0.000,2,  2341.4,2,  2434.8,6,-999.000,9,-999.0000,9, -999.00,9, -999.00,9,  -999.0,9,  -999.0,-999.000,9,-999.000,   36.80,2, 4568.20,-999.0000,9,-999.0000,9,-999.0000,9,-999.0000,9,-999.0000,9,-999.0000,-999.000,-999.0000,9, -999.00