BOTTLE,20131027SIOCCHRJL
EXPOCODE,SECT_ID,STNNBR,CASTNO,SAMPNO,BTLNBR,BTLNBR_FLAG_W,DATE,TIME,LATITUDE,LONGITUDE,DEPTH,CTDPRS,CTDTMP,CTDSAL,CTDSAL_FLAG_W,SALNTY,SALNTY_FLAG_W,CTDOXY,CTDOXY_FLAG_W,OXYGEN,OXYGEN_FLAG_W,SILCAT,SILCAT_FLAG_W,NITRAT,NITRAT_FLAG_W,NITRIT,NITRIT_FLAG_W,PHSPHT,PHSPHT_FLAG_W,CFC-11,CFC-11_FLAG_W,CFC-12,CFC-12_FLAG_W,CFC113,CFC113_FLAG_W,TCARBN,TCARBN_FLAG_W,ALKALI,ALKALI_FLAG_W,TRITUM,TRITUM_FLAG_W,HELIUM,HELIUM_FLAG_W,DELHE3,DELHE3_FLAG_W,DELC13,DELC13_FLAG_W,DELC14,DELC14_FLAG_W,C14ERR,NEON,NEON_FLAG_W,NEONER,DOC,DOC_FLAG_W,CTDRAW,CDOM380,CDOM380_FLAG_W,CDOM325,CDOM325_FLAG_W,CDOMSL,CDOMSL_FLAG_W,CDOM340,CDOM340_FLAG_W,CDOMSN,CDOMSN_FLAG_W,HELIER,TRITER,CDOM412,CDOM412_FLAG_W,DELHER
,,,,,,,,,,,METERS,DBAR,ITS-90,PSS-78,,PSS-78,,UMOL/KG,,UMOL/KG,,UMOL/KG,,UMOL/KG,,UMOL/KG,,UMOL/KG,,PMOL/KG,,PMOL/KG,,PMOL/KG,,UMOL/KG,,UMOL/KG,,TU,,NMOL/KG,,PERCNT,,/MILLE,,/MILLE,,/MILLE,NMOL/KG,,NMOL/KG,UMOL/KG,,DBAR,1/M,,1/M,,1/NM,,1/M,,1/NM,,NMOL/KG,TU,1/M,,PERCNT
318M20040615,        P02,      29,          1,         36,         36,2,20040626,       0928,       30.0,   142.7153,       8405,    10.4,  26.2751,  34.9650,2,  34.9618,2, 207.6000,2,   206.3,2,    1.41,2,    0.18,2,    0.00,2,    0.06,2,   1.785,2,   1.140,2,   0.129,2,  1977.3,6,  2292.9,2,-999.000,9,-999.0000,9, -999.00,9, -999.00,9,  -999.0,9,  -999.0,-999.000,9,-999.000, -999.00,9,   10.40,-999.0000,9,-999.0000,9,-999.0000,9,-999.0000,9,-999.0000,9,-999.0000,-999.000,-999.0000,9, -999.00
318M20040615,        P02,      29,          1,         35,         35,2,20040626,       0928,       30.0,   142.7153,       8405,    36.6,  22.5771,  34.8011,2,  34.7999,2, 230.1000,2,   228.6,2,    1.56,2,    0.18,2,    0.00,2,    0.06,2,   2.151,2,   1.312,2,   0.142,2,  1976.7,2,  2285.8,2,-999.000,9,-999.0000,9, -999.00,9, -999.00,9,  -999.0,9,  -999.0,-999.000,9,-999.000, -999.00,9,   36.60,-999.0000,9,-999.0000,9,-999.0000,9,-999.0000,9,-999.0000,9,-999.0000,-999.000,-999.0000,9, -999.00
318M20040615,        P02,      29,          1,         34,         34,2,20040626,       0928,       30.0,   142.7153,       8405,    72.0,  20.1232,  34.8745,2,  34.8737,2, 226.3000,2,   227.7,2,    1.90,2,    0.17,2,    0.00,2,    0.09,2,   2.287,2,   1.401,2,   0.129,2,  1994.4,2,  2290.8,2,-999.000,9,-999.0000,9, -999.00,9, -999.00,9,  -999.0,9,  -999.0,-999.000,9,-999.000, -999.00,9,   72.00,-999.0000,9,-999.0000,9,-999.0000,9,-999.0000,9,-999.0000,9,-999.0000,-999.000,-999.0000,9, -999.00
318M20040615,        P02,      29,          1,         33,         33,2,20040626,       0928,       30.0,   142.7153,       8405,   122.1,  18.5495,  34.8376,2,  34.8339,2, 209.4000,2,   215.0,2,    2.90,2,    2.22,2,    0.07,2,    0.22,2,   2.402,2,   1.452,2,   0.111,2,  2014.4,2,  2288.4,2,-999.000,9,-999.0000,9, -999.00,9, -999.00,9,  -999.0,9,  -999.0,-999.000,9,-999.000, -999.00,9,  122.10,-999.0000,9,-999.0000,9,-999.0000,9,-999.0000,9,-999.0000,9,-999.0000,-999.000,-999.0000,9, -999.00
318M20040615,        P02,      29,          1,         32,         32,2,20040626,       0928,       30.0,   142.7153,       8405,   171.9,  17.6132,  34.7874,2,  34.7871,2, 206.6000,2,   209.1,2,    3.74,2,    3.96,2,    0.02,2,    0.33,2,-999.000,9,-999.000,9,-999.000,9,  -999.0,9,  2282.8,2,-999.000,9,-999.0000,9, -999.00,9, -999.00,9,  -999.0,9,  -999.0,-999.000,9,-999.000, -999.00,9,  171.90,-999.0000,9,-999.0000,9,-999.0000,9,-999.0000,9,-999.0000,9,-999.0000,-999.000,-999.0000,9, -999.00
318M20040615,        P02,      29,          1,         31,         31,2,20040626,       0928,       30.0,   142.7153,       8405,   221.9,  17.1839,  34.7930,2,  34.7924,2, 212.5000,2,   218.9,2,    3.73,2,    3.66,2,    0.01,2,    0.31,2,-999.000,9,-999.000,9,-999.000,9,  -999.0,9,  2283.8,2,-999.000,9,-999.0000,9, -999.00,9, -999.00,9,  -999.0,9,  -999.0,-999.000,9,-999.000, -999.00,9,  221.90,-999.0000,9,-999.0000,9,-999.0000,9,-999.0000,9,-999.0000,9,-999.0000,-999.000,-999.0000,9, -999.00
318M20040615,        P02,      29,          1,         30,         30,2,20040626,       0928,       30.0,   142.7153,       8405,   271.3,  16.6520,  34.7369,2,  34.7350,2, 206.9000,2,   209.9,2,    5.08,2,    5.41,2,    0.01,2,    0.40,2,   2.541,2,   1.504,2,   0.060,2,  2034.5,2,  2282.5,2,-999.000,9,-999.0000,9, -999.00,9, -999.00,9,  -999.0,9,  -999.0,-999.000,9,-999.000, -999.00,9,  271.30,-999.0000,9,-999.0000,9,-999.0000,9,-999.0000,9,-999.0000,9,-999.0000,-999.000,-999.0000,9, -999.00
318M20040615,        P02,      29,          1,         29,         29,2,20040626,       0928,       30.0,   142.7153,       8405,   321.5,  15.7839,  34.6602,2,  34.6576,2, 198.7000,2,   196.6,2,    7.97,2,    7.88,2,    0.01,2,    0.57,2,-999.000,9,-999.000,9,-999.000,9,  -999.0,9,  2280.0,2,-999.000,9,-999.0000,9, -999.00,9, -999.00,9,  -999.0,9,  -999.0,-999.000,9,-999.000, -999.00,9,  321.50,-999.0000,9,-999.0000,9,-999.0000,9,-999.0000,9,-999.0000,9,-999.0000,-999.000,-999.0000,9, -999.00
318M20040615,        P02,      29,          1,         28,         28,2,20040626,       0928,       30.0,   142.7153,       8405,   371.5,  14.6458,  34.5743,2,  34.5715,2, 190.5000,2,   189.7,2,   11.37,2,   10.33,2,    0.01,2,    0.74,2,-999.000,9,-999.000,9,-999.000,9,  -999.0,9,  2277.7,2,-999.000,9,-999.0000,9, -999.00,9, -999.00,9,  -999.0,9,  -999.0,-999.000,9,-999.000, -999.00,9,  371.50,-999.0000,9,-999.0000,9,-999.0000,9,-999.0000,9,-999.0000,9,-999.0000,-999.000,-999.0000,9, -999.00
318M20040615,        P02,      29,          1,         27,         27,2,20040626,       0928,       30.0,   142.7153,       8405,   421.7,  13.4840,  34.4922,2,  34.4874,2, 185.2000,2,   185.2,2,   14.95,2,   12.57,2,    0.01,2,    0.90,2,   2.596,2,   1.471,2,   0.038,2,  2088.4,2,  2276.2,2,-999.000,9,-999.0000,9, -999.00,9, -999.00,9,  -999.0,9,  -999.0,-999.000,9,-999.000, -999.00,9,  421.70,-999.0000,9,-999.0000,9,-999.0000,9,-999.0000,9,-999.0000,9,-999.0000,-999.000,-999.0000,9, -999.00
318M20040615,        P02,      29,          1,         26,         26,2,20040626,       0928,       30.0,   142.7153,       8405,   471.6,  12.0410,  34.3878,2,  34.3895,2, 180.8000,2,   180.8,2,   20.08,2,   15.16,2,    0.01,2,    1.11,2,-999.000,9,-999.000,9,-999.000,9,  -999.0,9,  2274.0,2,-999.000,9,-999.0000,9, -999.00,9, -999.00,9,  -999.0,9,  -999.0,-999.000,9,-999.000, -999.00,9,  471.60,-999.0000,9,-999.0000,9,-999.0000,9,-999.0000,9,-999.0000,9,-999.0000,-999.000,-999.0000,9, -999.00
318M20040615,        P02,      29,          1,         25,         25,2,20040626,       0928,       30.0,   142.7153,       8405,   536.9,  10.1761,  34.2636,2,  34.2596,2, 169.8000,2,   169.8,2,   30.36,2,   19.62,2,    0.00,2,    1.43,2,-999.000,9,-999.000,9,-999.000,9,  -999.0,9,  2279.4,2,-999.000,9,-999.0000,9, -999.00,9, -999.00,9,  -999.0,9,  -999.0,-999.000,9,-999.000, -999.00,9,  536.90,-999.0000,9,-999.0000,9,-999.0000,9,-999.0000,9,-999.0000,9,-999.0000,-999.000,-999.0000,9, -999.00
318M20040615,        P02,      29,          1,         24,         24,2,20040626,       0928,       30.0,   142.7153,       8405,   637.6,   7.5172,  34.0985,2,  34.0949,2, 151.3000,2,   149.4,2,   47.39,2,   26.21,2,    0.00,2,    1.91,2,   2.219,6,   1.157,6,   0.075,6,  2190.6,2,  2285.0,2,-999.000,9,-999.0000,9, -999.00,9, -999.00,9,  -999.0,9,  -999.0,-999.000,9,-999.000, -999.00,9,  637.60,-999.0000,9,-999.0000,9,-999.0000,9,-999.0000,9,-999.0000,9,-999.0000,-999.000,-999.0000,9, -999.00
318M20040615,        P02,      29,          1,         23,         23,2,20040626,       0928,       30.0,   142.7153,       8405,   737.8,   6.0744,  34.0749,2,  34.0721,2, 118.0000,2,   118.6,2,   64.84,2,   31.71,2,    0.00,2,    2.30,2,-999.000,9,-999.000,9,-999.000,9,  -999.0,9,  2299.1,2,-999.000,9,-999.0000,9, -999.00,9, -999.00,9,  -999.0,9,  -999.0,-999.000,9,-999.000, -999.00,9,  737.80,-999.0000,9,-999.0000,9,-999.0000,9,-999.0000,9,-999.0000,9,-999.0000,-999.000,-999.0000,9, -999.00
318M20040615,        P02,      29,          1,         22,         22,2,20040626,       0928,       30.0,   142.7153,       8405,   838.5,   5.1702,  34.1613,2,  34.1609,2,  82.9000,2,    83.3,2,   85.16,2,   36.28,2,    0.00,2,    2.63,2,   1.009,2,   0.519,2,   0.032,2,  2278.6,2,  2318.2,2,-999.000,9,-999.0000,9, -999.00,9, -999.00,9,  -999.0,9,  -999.0,-999.000,9,-999.000, -999.00,9,  838.50,-999.0000,9,-999.0000,9,-999.0000,9,-999.0000,9,-999.0000,9,-999.0000,-999.000,-999.0000,9, -999.00
318M20040615,        P02,      29,          1,         21,         21,2,20040626,       0928,       30.0,   142.7153,       8405,   938.8,   4.3193,  34.2036,2,  34.2023,2,  57.7000,2,    58.6,2,  103.14,2,   39.68,2,    0.00,2,    2.87,2,-999.000,9,-999.000,9,-999.000,9,  -999.0,9,  2334.5,2,-999.000,9,-999.0000,9, -999.00,9, -999.00,9,  -999.0,9,  -999.0,-999.000,9,-999.000, -999.00,9,  938.80,-999.0000,9,-999.0000,9,-999.0000,9,-999.0000,9,-999.0000,9,-999.0000,-999.000,-999.0000,9, -999.00
318M20040615,        P02,      29,          1,         20,         20,2,20040626,       0928,       30.0,   142.7153,       8405,  1039.9,   3.8913,  34.2709,2,  34.2705,2,  44.8000,2,    47.8,2,  115.05,2,   41.06,2,    0.00,2,    2.97,2,-999.000,9,-999.000,9,-999.000,9,  -999.0,9,  2348.2,2,-999.000,9,-999.0000,9, -999.00,9, -999.00,9,  -999.0,9,  -999.0,-999.000,9,-999.000, -999.00,9, 1039.90,-999.0000,9,-999.0000,9,-999.0000,9,-999.0000,9,-999.0000,9,-999.0000,-999.000,-999.0000,9, -999.00
318M20040615,        P02,      29,          1,         19,         19,2,20040626,       0928,       30.0,   142.7153,       8405,  1140.0,   3.4975,  34.3337,2,  34.3354,2,  39.4000,2,    40.6,2,  126.64,2,   41.96,2,    0.00,2,    3.03,2,   0.198,2,   0.102,2,   0.004,2,  2350.7,2,  2362.6,2,-999.000,9,-999.0000,9, -999.00,9, -999.00,9,  -999.0,9,  -999.0,-999.000,9,-999.000, -999.00,9, 1140.00,-999.0000,9,-999.0000,9,-999.0000,9,-999.0000,9,-999.0000,9,-999.0000,-999.000,-999.0000,9, -999.00
318M20040615,        P02,      29,          1,         18,         18,2,20040626,       0928,       30.0,   142.7153,       8405,  1240.7,   3.1727,  34.3873,2,  34.3839,2,  36.8000,3,    37.3,2,  135.61,2,   42.54,2,    0.00,2,    3.07,2,   0.103,2,   0.055,2,  -0.003,2,  2361.5,2,  2373.7,6,-999.000,9,-999.0000,9, -999.00,9, -999.00,9,  -999.0,9,  -999.0,-999.000,9,-999.000, -999.00,9, 1240.70,-999.0000,9,-999.0000,9,-999.0000,9,-999.0000,9,-999.0000,9,-999.0000,-999.000,-999.0000,9, -999.00
318M20040615,        P02,      29,          1,         17,         17,2,20040626,       0928,       30.0,   142.7153,       8405,  1341.9,   2.9224,  34.4312,2,  34.4286,2,  37.7000,3,    37.3,2,  142.72,2,   42.81,2,    0.00,2,    3.08,2,   0.055,2,   0.026,2,   0.001,2,  2370.0,2,  2383.3,2,-999.000,9,-999.0000,9, -999.00,9, -999.00,9,  -999.0,9,  -999.0,-999.000,9,-999.000, -999.00,9, 1341.90,-999.0000,9,-999.0000,9,-999.0000,9,-999.0000,9,-999.0000,9,-999.0000,-999.000,-999.0000,9, -999.00
318M20040615,        P02,      29,          1,         16,         16,2,20040626,       0928,       30.0,   142.7153,       8405,  1442.4,   2.7170,  34.4655,2,  34.4649,2,  39.0000,3,    38.7,2,  148.41,2,   42.86,2,    0.00,2,    3.09,2,-999.000,9,-999.000,9,-999.000,9,  -999.0,9,  2389.7,2,-999.000,9,-999.0000,9, -999.00,9, -999.00,9,  -999.0,9,  -999.0,-999.000,9,-999.000, -999.00,9, 1442.40,-999.0000,9,-999.0000,9,-999.0000,9,-999.0000,9,-999.0000,9,-999.0000,-999.000,-999.0000,9, -999.00
318M20040615,        P02,      29,          1,         15,         15,2,20040626,       0928,       30.0,   142.7153,       8405,  1538.0,   2.5287,  34.4961,2,  34.4932,2,  42.3000,3,    42.1,2,  153.55,2,   42.79,2,    0.00,2,    3.07,2,   0.021,2,   0.009,2,   0.001,2,  -999.0,9,  2397.0,2,-999.000,9,-999.0000,9, -999.00,9, -999.00,9,  -999.0,9,  -999.0,-999.000,9,-999.000, -999.00,9, 1538.00,-999.0000,9,-999.0000,9,-999.0000,9,-999.0000,9,-999.0000,9,-999.0000,-999.000,-999.0000,9, -999.00
318M20040615,        P02,      29,          1,         14,         14,2,20040626,       0928,       30.0,   142.7153,       8405,  1739.9,   2.2426,  34.5467,2,  34.5427,2,  55.5000,3,    55.8,2,  158.90,2,   42.03,2,    0.00,2,    3.01,2,-999.000,9,-999.000,9,-999.000,9,  -999.0,9,  2403.4,2,-999.000,9,-999.0000,9, -999.00,9, -999.00,9,  -999.0,9,  -999.0,-999.000,9,-999.000, -999.00,9, 1739.90,-999.0000,9,-999.0000,9,-999.0000,9,-999.0000,9,-999.0000,9,-999.0000,-999.000,-999.0000,9, -999.00
318M20040615,        P02,      29,          1,         13,         13,2,20040626,       0928,       30.0,   142.7153,       8405,  1942.2,   2.0463,  34.5820,2,  34.5796,2,  70.4000,3,    71.8,2,  160.49,2,   41.06,2,    0.00,2,    2.93,2,   0.004,2,   0.003,2,   0.001,2,  2370.7,2,  2408.4,2,-999.000,9,-999.0000,9, -999.00,9, -999.00,9,  -999.0,9,  -999.0,-999.000,9,-999.000, -999.00,9, 1942.20,-999.0000,9,-999.0000,9,-999.0000,9,-999.0000,9,-999.0000,9,-999.0000,-999.000,-999.0000,9, -999.00
318M20040615,        P02,      29,          1,         12,         12,2,20040626,       0928,       30.0,   142.7153,       8405,  2099.1,   1.9248,  34.6026,2,  34.6008,2,  81.3000,3,    83.6,2,  160.48,2,   40.34,2,    0.00,2,    2.88,2,-999.000,9,-999.000,9,-999.000,9,  -999.0,9,  2411.6,2,-999.000,9,-999.0000,9, -999.00,9, -999.00,9,  -999.0,9,  -999.0,-999.000,9,-999.000, -999.00,9, 2099.10,-999.0000,9,-999.0000,9,-999.0000,9,-999.0000,9,-999.0000,9,-999.0000,-999.000,-999.0000,9, -999.00
318M20040615,        P02,      29,          1,         11,         11,2,20040626,       0928,       30.0,   142.7153,       8405,  2346.8,   1.7766,  34.6282,2,  34.6244,2,  99.9000,3,   100.7,2,  158.69,2,   39.46,2,    0.00,2,    2.80,2,-999.000,9,-999.000,9,-999.000,9,  -999.0,9,  2414.2,2,-999.000,9,-999.0000,9, -999.00,9, -999.00,9,  -999.0,9,  -999.0,-999.000,9,-999.000, -999.00,9, 2346.80,-999.0000,9,-999.0000,9,-999.0000,9,-999.0000,9,-999.0000,9,-999.0000,-999.000,-999.0000,9, -999.00
318M20040615,        P02,      29,          1,         10,         10,2,20040626,       0928,       30.0,   142.7153,       8405,  2595.1,   1.6808,  34.6448,2,  34.6414,2, 114.5000,3,   114.8,2,  155.90,2,   38.72,2,    0.00,2,    2.76,2,   0.002,2,   0.001,2,   0.000,2,  2349.9,2,  2415.6,2,-999.000,9,-999.0000,9, -999.00,9, -999.00,9,  -999.0,9,  -999.0,-999.000,9,-999.000, -999.00,9, 2595.10,-999.0000,9,-999.0000,9,-999.0000,9,-999.0000,9,-999.0000,9,-999.0000,-999.000,-999.0000,9, -999.00
318M20040615,        P02,      29,          1,          9,          9,2,20040626,       0928,       30.0,   142.7153,       8405,  2848.4,   1.6170,  34.6562,2,  34.6530,2, 124.9000,3,   124.8,2,  153.74,2,   38.05,2,    0.00,2,    2.68,2,-999.000,9,-999.000,9,-999.000,9,  -999.0,9,  2415.6,2,-999.000,9,-999.0000,9, -999.00,9, -999.00,9,  -999.0,9,  -999.0,-999.000,9,-999.000, -999.00,9, 2848.40,-999.0000,9,-999.0000,9,-999.0000,9,-999.0000,9,-999.0000,9,-999.0000,-999.000,-999.0000,9, -999.00
318M20040615,        P02,      29,          1,          8,          8,2,20040626,       0928,       30.0,   142.7153,       8405,  3097.3,   1.5679,  34.6640,2,  34.6607,2, 131.2000,3,   132.2,2,  153.07,2,   37.62,2,    0.00,2,    2.65,2,   0.003,2,   0.002,2,  -0.003,2,  2338.3,2,  2415.5,2,-999.000,9,-999.0000,9, -999.00,9, -999.00,9,  -999.0,9,  -999.0,-999.000,9,-999.000, -999.00,9, 3097.30,-999.0000,9,-999.0000,9,-999.0000,9,-999.0000,9,-999.0000,9,-999.0000,-999.000,-999.0000,9, -999.00
318M20040615,        P02,      29,          1,          7,          7,2,20040626,       0928,       30.0,   142.7153,       8405,  3498.9,   1.5096,  34.6745,2,  34.6721,2, 140.7000,3,   141.4,2,  151.29,2,   36.96,2,    0.00,2,    2.59,2,   0.005,2,   0.005,2,  -0.003,2,  2332.9,2,  2416.1,2,-999.000,9,-999.0000,9, -999.00,9, -999.00,9,  -999.0,9,  -999.0,-999.000,9,-999.000, -999.00,9, 3498.90,-999.0000,9,-999.0000,9,-999.0000,9,-999.0000,9,-999.0000,9,-999.0000,-999.000,-999.0000,9, -999.00
318M20040615,        P02,      29,          1,          6,          6,2,20040626,       0928,       30.0,   142.7153,       8405,  3901.4,   1.4809,  34.6807,2,  34.6791,2, 147.5000,3,   148.1,2,  150.58,2,   36.47,2,    0.00,2,    2.55,2,   0.005,2,   0.002,2,   0.003,2,  2327.0,2,  2416.0,2,-999.000,9,-999.0000,9, -999.00,9, -999.00,9,  -999.0,9,  -999.0,-999.000,9,-999.000, -999.00,9, 3901.40,-999.0000,9,-999.0000,9,-999.0000,9,-999.0000,9,-999.0000,9,-999.0000,-999.000,-999.0000,9, -999.00
318M20040615,        P02,      29,          1,          5,          5,2,20040626,       0928,       30.0,   142.7153,       8405,  4294.5,   1.4749,  34.6856,2,  34.6824,2, 153.4000,3,   153.7,2,  148.82,2,   36.03,2,    0.00,2,    2.52,2,-999.000,9,-999.000,9,-999.000,9,  -999.0,9,  2413.4,2,-999.000,9,-999.0000,9, -999.00,9, -999.00,9,  -999.0,9,  -999.0,-999.000,9,-999.000, -999.00,9, 4294.50,-999.0000,9,-999.0000,9,-999.0000,9,-999.0000,9,-999.0000,9,-999.0000,-999.000,-999.0000,9, -999.00
318M20040615,        P02,      29,          1,          4,          4,2,20040626,       0928,       30.0,   142.7153,       8405,  4696.9,   1.4904,  34.6887,2,  34.6875,2, 157.6000,2,   157.9,2,  147.24,2,   35.69,2,    0.00,2,    2.50,2,   0.005,2,   0.004,2,   0.001,2,  -999.0,9,  2413.8,2,-999.000,9,-999.0000,9, -999.00,9, -999.00,9,  -999.0,9,  -999.0,-999.000,9,-999.000, -999.00,9, 4696.90,-999.0000,9,-999.0000,9,-999.0000,9,-999.0000,9,-999.0000,9,-999.0000,-999.000,-999.0000,9, -999.00
318M20040615,        P02,      29,          1,          3,          3,2,20040626,       0928,       30.0,   142.7153,       8405,  5189.7,   1.5308,  34.6907,2,  34.6899,2, 160.7000,2,   161.0,2,  145.64,2,   35.47,2,    0.00,2,    2.48,2,-999.000,9,-999.000,9,-999.000,9,  -999.0,9,  2411.9,2,-999.000,9,-999.0000,9, -999.00,9, -999.00,9,  -999.0,9,  -999.0,-999.000,9,-999.000, -999.00,9, 5189.70,-999.0000,9,-999.0000,9,-999.0000,9,-999.0000,9,-999.0000,9,-999.0000,-999.000,-999.0000,9, -999.00
318M20040615,        P02,      29,          1,          2,          2,2,20040626,       0928,       30.0,   142.7153,       8405,  5594.2,   1.5747,  34.6915,2,  34.6911,2, 162.1000,2,   162.6,2,  144.43,2,   35.30,2,    0.00,2,    2.48,2,   0.006,2,   0.002,2,   0.002,2,  2315.5,2,  2410.6,2,-999.000,9,-999.0000,9, -999.00,9, -999.00,9,  -999.0,9,  -999.0,-999.000,9,-999.000, -999.00,9, 5594.20,-999.0000,9,-999.0000,9,-999.0000,9,-999.0000,9,-999.0000,9,-999.0000,-999.000,-999.0000,9, -999.00
318M20040615,        P02,      29,          1,          1,          1,2,20040626,       0928,       30.0,   142.7153,       8405,  6001.0,   1.6253,  34.6918,2,  34.6901,2, 162.8000,2,   163.5,2,  143.56,2,   35.19,2,    0.00,2,    2.48,2,   0.008,2,   0.005,2,   0.002,2,  2314.7,6,  2410.5,6,-999.000,9,-999.0000,9, -999.00,9, -999.00,9,  -999.0,9,  -999.0,-999.000,9,-999.000, -999.00,9, 6001.00,-999.0000,9,-999.0000,9,-999.0000,9,-999.0000,9,-999.0000,9,-999.0000,-999.000,-999.0000,9, -999.00