BOTTLE,20131027SIOCCHRJL
EXPOCODE,SECT_ID,STNNBR,CASTNO,SAMPNO,BTLNBR,BTLNBR_FLAG_W,DATE,TIME,LATITUDE,LONGITUDE,DEPTH,CTDPRS,CTDTMP,CTDSAL,CTDSAL_FLAG_W,SALNTY,SALNTY_FLAG_W,CTDOXY,CTDOXY_FLAG_W,OXYGEN,OXYGEN_FLAG_W,SILCAT,SILCAT_FLAG_W,NITRAT,NITRAT_FLAG_W,NITRIT,NITRIT_FLAG_W,PHSPHT,PHSPHT_FLAG_W,CFC-11,CFC-11_FLAG_W,CFC-12,CFC-12_FLAG_W,CFC113,CFC113_FLAG_W,TCARBN,TCARBN_FLAG_W,ALKALI,ALKALI_FLAG_W,TRITUM,TRITUM_FLAG_W,HELIUM,HELIUM_FLAG_W,DELHE3,DELHE3_FLAG_W,DELC13,DELC13_FLAG_W,DELC14,DELC14_FLAG_W,C14ERR,NEON,NEON_FLAG_W,NEONER,DOC,DOC_FLAG_W,CTDRAW,CDOM380,CDOM380_FLAG_W,CDOM325,CDOM325_FLAG_W,CDOMSL,CDOMSL_FLAG_W,CDOM340,CDOM340_FLAG_W,CDOMSN,CDOMSN_FLAG_W,HELIER,TRITER,CDOM412,CDOM412_FLAG_W,DELHER
,,,,,,,,,,,METERS,DBAR,ITS-90,PSS-78,,PSS-78,,UMOL/KG,,UMOL/KG,,UMOL/KG,,UMOL/KG,,UMOL/KG,,UMOL/KG,,PMOL/KG,,PMOL/KG,,PMOL/KG,,UMOL/KG,,UMOL/KG,,TU,,NMOL/KG,,PERCNT,,/MILLE,,/MILLE,,/MILLE,NMOL/KG,,NMOL/KG,UMOL/KG,,DBAR,1/M,,1/M,,1/NM,,1/M,,1/NM,,NMOL/KG,TU,1/M,,PERCNT
318M20040615,        P02,     145,          2,         36,         36,2,20040815,       2136,    29.9987,  -140.6408,       4752,     8.1,  25.2258,  34.8488,2,  34.8556,2, 212.5000,2,   212.6,2,    0.96,2,    0.13,2,    0.00,2,    0.03,2,   1.895,2,   1.154,2,   0.133,2,  2010.2,6,  2302.0,6,-999.000,9,-999.0000,9, -999.00,9,    1.39,2,    73.6,2,     4.6,-999.000,9,-999.000,   72.70,2,    8.10,   0.0220,2,   0.0760,2,   0.0260,2,   0.0490,2,   0.0270,2,-999.0000,-999.000,   0.0140,2, -999.00
318M20040615,        P02,     145,          2,         35,         35,2,20040815,       2136,    29.9987,  -140.6408,       4752,    50.4,  19.8037,  34.5122,2,  34.4834,2, 244.7000,2,   244.0,2,    1.92,2,    0.08,2,    0.00,2,    0.09,2,-999.000,9,-999.000,9,-999.000,9,  2007.6,2,  2282.4,2,-999.000,9,-999.0000,9, -999.00,9,    1.32,2,    72.1,2,     4.7,-999.000,9,-999.000,   65.90,2,   50.40,   0.0460,2,   0.1390,2,   0.0180,2,   0.0960,2,   0.0200,2,-999.0000,-999.000,   0.0300,2, -999.00
318M20040615,        P02,     145,          2,         34,         34,2,20040815,       2136,    29.9987,  -140.6408,       4752,   100.4,  17.7046,  34.4553,2,  34.4532,2, 237.9000,2,   237.3,2,    2.29,2,    0.08,2,    0.00,2,    0.11,2,   2.598,2,   1.522,2,   0.181,2,  2015.6,2,  2275.4,2,-999.000,9,-999.0000,9, -999.00,9,    1.21,2,    65.2,2,     5.6,-999.000,9,-999.000,   60.30,2,  100.40,   0.0440,2,   0.1300,2,   0.0170,3,   0.0920,2,   0.0190,3,-999.0000,-999.000,   0.0310,2, -999.00
318M20040615,        P02,     145,          2,         33,         33,2,20040815,       2136,    29.9987,  -140.6408,       4752,   150.0,  14.9027,  34.0644,2,  34.0682,2, 232.6000,2,   233.8,2,    3.44,2,    1.77,2,    0.02,2,    0.28,2,-999.000,9,-999.000,9,-999.000,9,  2025.1,2,  2249.5,2,-999.000,9,-999.0000,9, -999.00,9, -999.00,9,  -999.0,9,  -999.0,-999.000,9,-999.000,   66.00,2,  150.00,   0.0270,2,   0.0960,2,   0.0240,2,   0.0660,2,   0.0250,2,-999.0000,-999.000,   0.0170,2, -999.00
318M20040615,        P02,     145,          2,         32,         32,2,20040815,       2136,    29.9987,  -140.6408,       4752,   199.8,  12.1619,  33.8706,2,  33.8705,2, 224.9000,2,   226.8,2,    7.33,2,    7.15,2,    0.01,2,    0.64,2,   3.393,2,   1.891,2,   0.177,2,  2052.9,2,  2238.7,2,-999.000,9,-999.0000,9, -999.00,9,    0.82,2,    62.1,2,     4.6,-999.000,9,-999.000,   53.60,2,  199.80,   0.0300,2,   0.1020,2,   0.0220,2,   0.0700,2,   0.0230,2,-999.0000,-999.000,   0.0200,2, -999.00
318M20040615,        P02,     145,          2,         31,         31,2,20040815,       2136,    29.9987,  -140.6408,       4752,   249.3,  10.7869,  33.9210,2,  33.9205,2, 219.1000,2,   223.1,2,   11.62,2,   11.54,2,    0.00,2,    0.88,2,-999.000,9,-999.000,9,-999.000,9,  2077.5,2,  2246.7,2,-999.000,9,-999.0000,9, -999.00,9, -999.00,9,  -999.0,9,  -999.0,-999.000,9,-999.000,   47.00,2,  249.30,   0.0280,2,   0.0990,2,   0.0240,2,   0.0670,2,   0.0240,2,-999.0000,-999.000,   0.0170,2, -999.00
318M20040615,        P02,     145,          2,         30,         30,2,20040815,       2136,    29.9987,  -140.6408,       4752,   304.5,   9.5624,  34.0386,2,  34.0364,2, 205.8000,2,   208.1,2,   19.24,2,   16.52,2,    0.00,2,    1.18,2,   3.572,2,   1.895,2,   0.102,2,  2111.7,2,  2257.2,2,-999.000,9,-999.0000,9, -999.00,9,    0.43,2,    41.5,2,     5.9,-999.000,9,-999.000,   48.40,2,  304.50,   0.0290,2,   0.1030,2,   0.0240,2,   0.0690,2,   0.0250,2,-999.0000,-999.000,   0.0200,2, -999.00
318M20040615,        P02,     145,          2,         29,         29,2,20040815,       2136,    29.9987,  -140.6408,       4752,   354.0,   8.5650,  34.0566,2,  34.0550,2, 178.9000,2,   177.9,2,   29.44,2,   21.79,2,    0.00,2,    1.53,2,   3.197,2,   1.649,2,   0.119,2,  2148.7,2,  2267.4,2,-999.000,9,-999.0000,9, -999.00,9, -999.00,9,  -999.0,9,  -999.0,-999.000,9,-999.000,   48.90,2,  354.00,   0.0470,2,   0.1350,2,   0.0160,2,   0.0950,2,   0.0180,2,-999.0000,-999.000,   0.0330,2, -999.00
318M20040615,        P02,     145,          2,         28,         28,2,20040815,       2136,    29.9987,  -140.6408,       4752,   404.1,   7.6085,  34.0191,2,  34.0190,2, 145.2000,2,   144.7,2,   39.47,2,   26.95,2,    0.00,2,    1.89,2,   2.813,2,   1.416,2,   0.105,2,  2184.9,2,  2270.8,2,-999.000,9,-999.0000,9, -999.00,9,    0.11,2,    -4.4,2,     4.5,-999.000,9,-999.000,   45.20,2,  404.10,   0.0510,2,   0.1520,2,   0.0160,2,   0.1070,2,   0.0190,2,-999.0000,-999.000,   0.0360,2, -999.00
318M20040615,        P02,     145,          2,         27,         27,2,20040815,       2136,    29.9987,  -140.6408,       4752,   454.0,   6.8056,  34.0013,2,  34.0010,2, 117.9000,2,   118.1,2,   49.13,2,   31.11,2,    0.00,2,    2.18,2,   2.326,2,   1.146,2,   0.082,2,  2216.4,2,  2278.0,2,-999.000,9,-999.0000,9, -999.00,9, -999.00,9,  -999.0,9,  -999.0,-999.000,9,-999.000, -999.00,9,  454.00,-999.0000,9,-999.0000,9,-999.0000,9,-999.0000,9,-999.0000,9,-999.0000,-999.000,-999.0000,9, -999.00
318M20040615,        P02,     145,          2,         26,         26,2,20040815,       2136,    29.9987,  -140.6408,       4752,   503.8,   6.0615,  34.0043,2,  34.0049,2,  94.2000,2,    96.2,2,   59.42,2,   34.50,2,    0.00,2,    2.44,2,   1.698,2,   0.810,2,   0.050,2,  2242.7,2,  2286.5,2,-999.000,9,-999.0000,9, -999.00,9,   -0.15,2,   -50.0,2,     4.1,-999.000,9,-999.000,   45.90,2,  503.80,   0.0620,2,   0.1830,2,   0.0170,2,   0.1310,2,   0.0180,2,-999.0000,-999.000,   0.0420,2, -999.00
318M20040615,        P02,     145,          2,         25,         25,2,20040815,       2136,    29.9987,  -140.6408,       4752,   604.0,   5.0561,  34.0748,2,  34.0780,2,  51.0000,2,    47.3,2,   81.08,2,   40.17,2,    0.00,2,    2.88,2,   0.684,2,   0.320,2,   0.021,2,  2295.7,2,  2307.0,2,-999.000,9,-999.0000,9, -999.00,9,   -0.33,2,  -102.7,2,     3.6,-999.000,9,-999.000, -999.00,9,  604.00,-999.0000,9,-999.0000,9,-999.0000,9,-999.0000,9,-999.0000,9,-999.0000,-999.000,-999.0000,9, -999.00
318M20040615,        P02,     145,          2,         24,         24,2,20040815,       2136,    29.9987,  -140.6408,       4752,   708.9,   4.6342,  34.2159,2,  34.2160,2,  18.3000,2,    17.1,2,   97.44,2,   42.81,2,    0.00,2,    3.12,2,   0.140,2,   0.072,2,   0.000,2,  2332.2,2,  2329.5,2,-999.000,9,-999.0000,9, -999.00,9,   -0.48,2,  -156.8,2,     3.5,-999.000,9,-999.000,   42.70,2,  708.90,   0.0830,2,   0.2020,2,   0.0130,2,   0.1460,2,   0.0140,2,-999.0000,-999.000,   0.0620,2, -999.00
318M20040615,        P02,     145,          2,         23,         23,2,20040815,       2136,    29.9987,  -140.6408,       4752,   808.7,   4.2090,  34.2923,2,  34.2915,2,  13.2000,2,    12.6,2,  109.45,2,   43.67,2,    0.00,2,    3.18,2,   0.040,6,   0.019,6,   0.000,6,  2348.1,2,  2347.8,2,-999.000,9,-999.0000,9, -999.00,9,   -0.69,2,  -170.1,2,     3.9,-999.000,9,-999.000, -999.00,9,  808.70,-999.0000,9,-999.0000,9,-999.0000,9,-999.0000,9,-999.0000,9,-999.0000,-999.000,-999.0000,9, -999.00
318M20040615,        P02,     145,          2,         22,         22,2,20040815,       2136,    29.9987,  -140.6408,       4752,   908.7,   3.9008,  34.3744,2,  34.3741,2,  13.3000,2,    13.6,2,  118.71,2,   44.00,2,    0.00,2,    3.21,2,   0.015,2,   0.007,2,   0.000,2,  2360.4,2,  2361.9,2,-999.000,9,-999.0000,9, -999.00,9,   -0.43,2,  -192.2,2,     3.9,-999.000,9,-999.000,   40.50,2,  908.70,   0.0890,2,   0.2070,2,   0.0130,2,   0.1530,2,   0.0130,2,-999.0000,-999.000,   0.0680,2, -999.00
318M20040615,        P02,     145,          2,         21,         21,2,20040815,       2136,    29.9987,  -140.6408,       4752,  1008.5,   3.6548,  34.4315,2,  34.4328,2,  18.0000,2,    20.3,2,  124.95,2,   43.84,2,    0.00,2,    3.19,2,   0.017,2,   0.011,2,   0.000,2,  2364.5,6,  2372.2,2,-999.000,9,-999.0000,9, -999.00,9,   -0.44,2,  -204.4,2,     3.5,-999.000,9,-999.000,   37.90,2, 1008.50,   0.0850,2,   0.2100,2,   0.0140,2,   0.1560,2,   0.0150,2,-999.0000,-999.000,   0.0610,2, -999.00
318M20040615,        P02,     145,          2,         20,         20,2,20040815,       2136,    29.9987,  -140.6408,       4752,  1114.4,   3.4156,  34.4798,2,  34.4797,2,  27.1000,2,    28.1,2,  130.21,2,   43.68,2,    0.00,2,    3.15,2,   0.008,2,   0.005,2,   0.000,2,  2366.4,2,  2382.4,2,-999.000,9,-999.0000,9, -999.00,9,   -0.42,2,  -221.9,2,     3.6,-999.000,9,-999.000, -999.00,9, 1114.40,-999.0000,9,-999.0000,9,-999.0000,9,-999.0000,9,-999.0000,9,-999.0000,-999.000,-999.0000,9, -999.00
318M20040615,        P02,     145,          2,         19,         19,2,20040815,       2136,    29.9987,  -140.6408,       4752,  1215.1,   3.1924,  34.5104,2,  34.5101,2,  35.2000,2,    35.3,2,  135.87,2,   43.52,2,    0.00,2,    3.12,2,   0.005,2,   0.006,2,   0.000,2,  2366.9,2,  2386.6,2,-999.000,9,-999.0000,9, -999.00,9,   -0.28,2,  -227.5,2,     3.6,-999.000,9,-999.000,   37.60,2, 1215.10,-999.0000,9,-999.0000,9,-999.0000,9,-999.0000,9,-999.0000,9,-999.0000,-999.000,-999.0000,9, -999.00
318M20040615,        P02,     145,          2,         18,         18,2,20040815,       2136,    29.9987,  -140.6408,       4752,  1315.4,   2.9851,  34.5329,2,  34.5331,2,  43.0000,2,    44.2,2,  139.51,2,   43.19,2,    0.00,2,    3.08,2,   0.006,2,   0.005,2,   0.000,2,  2368.6,2,  2395.4,6,-999.000,9,-999.0000,9, -999.00,9,   -0.28,2,  -231.2,2,     3.9,-999.000,9,-999.000, -999.00,9, 1315.40,-999.0000,9,-999.0000,9,-999.0000,9,-999.0000,9,-999.0000,9,-999.0000,-999.000,-999.0000,9, -999.00
318M20040615,        P02,     145,          2,         17,         17,2,20040815,       2136,    29.9987,  -140.6408,       4752,  1415.4,   2.8151,  34.5506,2,  34.5506,2,  50.1000,2,    49.7,2,  143.76,2,   42.92,2,    0.00,2,    3.05,2,   0.002,2,   0.002,2,   0.000,2,  2369.5,2,  2400.6,2,-999.000,9,-999.0000,9, -999.00,9,   -0.24,2,  -236.0,2,     3.4,-999.000,9,-999.000,   36.70,2, 1415.40,-999.0000,9,-999.0000,9,-999.0000,9,-999.0000,9,-999.0000,9,-999.0000,-999.000,-999.0000,9, -999.00
318M20040615,        P02,     145,          2,         16,         16,2,20040815,       2136,    29.9987,  -140.6408,       4752,  1515.9,   2.6505,  34.5658,2,  34.5655,2,  55.2000,2,    54.8,2,  148.01,2,   42.53,2,    0.00,2,    3.02,2,-999.000,9,-999.000,9,-999.000,9,  2370.5,2,  2405.7,2,-999.000,9,-999.0000,9, -999.00,9,   -0.23,2,  -247.6,2,     3.6,-999.000,9,-999.000, -999.00,9, 1515.90,-999.0000,9,-999.0000,9,-999.0000,9,-999.0000,9,-999.0000,9,-999.0000,-999.000,-999.0000,9, -999.00
318M20040615,        P02,     145,          2,         15,         15,2,20040815,       2136,    29.9987,  -140.6408,       4752,  1672.0,   2.4052,  34.5866,2,  34.5865,2,  63.0000,2,    62.8,2,  154.71,2,   42.05,2,    0.00,2,    2.98,2,   0.007,2,   0.005,2,   0.000,2,  2373.1,2,  2410.7,2,-999.000,9,-999.0000,9, -999.00,9,   -0.22,2,  -252.7,2,     4.0,-999.000,9,-999.000,   36.50,2, 1672.00,-999.0000,9,-999.0000,9,-999.0000,9,-999.0000,9,-999.0000,9,-999.0000,-999.000,-999.0000,9, -999.00
318M20040615,        P02,     145,          2,         14,         14,2,20040815,       2136,    29.9987,  -140.6408,       4752,  1822.5,   2.2170,  34.6024,2,  34.6018,2,  70.4000,2,    70.2,2,  159.84,2,   41.52,2,    0.00,2,    2.94,2,-999.000,9,-999.000,9,-999.000,9,  2372.1,2,  2416.5,2,-999.000,9,-999.0000,9, -999.00,9,   -1.13,3,  -267.1,2,     3.2,-999.000,9,-999.000,   37.40,2, 1822.50,-999.0000,9,-999.0000,9,-999.0000,9,-999.0000,9,-999.0000,9,-999.0000,-999.000,-999.0000,9, -999.00
318M20040615,        P02,     145,          2,         13,         13,2,20040815,       2136,    29.9987,  -140.6408,       4752,  1976.8,   2.0710,  34.6155,2,  34.6156,2,  77.6000,2,    77.0,2,  163.50,2,   40.87,2,    0.00,2,    2.91,2,   0.001,2,   0.000,2,   0.000,2,  2370.2,2,  2419.1,2,-999.000,9,-999.0000,9, -999.00,9,   -0.55,3,  -267.5,2,     3.4,-999.000,9,-999.000,   37.70,2, 1976.80,-999.0000,9,-999.0000,9,-999.0000,9,-999.0000,9,-999.0000,9,-999.0000,-999.000,-999.0000,9, -999.00
318M20040615,        P02,     145,          2,         12,         12,2,20040815,       2136,    29.9987,  -140.6408,       4752,  2177.6,   1.8916,  34.6321,2,  34.6325,2,  88.3000,2,    88.4,2,  167.38,2,   40.34,2,    0.00,2,    2.85,2,-999.000,9,-999.000,9,-999.000,9,  2369.0,2,  2424.5,2,-999.000,9,-999.0000,9, -999.00,9,   -0.13,2,  -246.2,2,     3.9,-999.000,9,-999.000,   39.10,3, 2177.60,   0.0660,2,   0.1700,2,   0.0140,2,   0.1210,2,   0.0160,2,-999.0000,-999.000,   0.0480,2, -999.00
318M20040615,        P02,     145,          2,         11,         11,2,20040815,       2136,    29.9987,  -140.6408,       4752,  2431.0,   1.7552,  34.6454,2,  34.6454,2,  97.7000,2,    98.6,2,  169.02,2,   39.85,2,    0.00,2,    2.79,2,   0.002,2,   0.001,2,   0.000,2,  2364.0,2,  2424.9,2,-999.000,9,-999.0000,9, -999.00,9,   -0.08,2,  -246.1,2,     3.7,-999.000,9,-999.000, -999.00,9, 2431.00,-999.0000,9,-999.0000,9,-999.0000,9,-999.0000,9,-999.0000,9,-999.0000,-999.000,-999.0000,9, -999.00
318M20040615,        P02,     145,          2,         10,         10,2,20040815,       2136,    29.9987,  -140.6408,       4752,  2739.7,   1.6341,  34.6583,2,  34.6582,2, 109.4000,2,   111.0,2,  169.82,2,   39.04,2,    0.00,2,    2.72,2,-999.000,9,-999.000,9,-999.000,9,  2358.4,2,  2429.3,2,-999.000,9,-999.0000,9, -999.00,9,   -0.01,2,  -253.7,2,     3.8,-999.000,9,-999.000,   37.30,2, 2739.70,-999.0000,9,-999.0000,9,-999.0000,9,-999.0000,9,-999.0000,9,-999.0000,-999.000,-999.0000,9, -999.00
318M20040615,        P02,     145,          2,          9,          9,2,20040815,       2136,    29.9987,  -140.6408,       4752,  3043.4,   1.5560,  34.6678,2,  34.6679,2, 120.4000,2,   121.8,2,  167.57,2,   38.67,2,    0.00,2,    2.66,2,   0.142,4,   0.278,4,   0.039,4,  2351.7,2,  2428.0,2,-999.000,9,-999.0000,9, -999.00,9,    0.07,2,  -254.0,2,     3.2,-999.000,9,-999.000,   38.20,2, 3043.40,   0.0630,2,   0.1680,2,   0.0140,2,   0.1170,2,   0.0160,2,-999.0000,-999.000,   0.0460,2, -999.00
318M20040615,        P02,     145,          2,          8,          8,2,20040815,       2136,    29.9987,  -140.6408,       4752,  3352.0,   1.5126,  34.6746,2,  34.6743,2, 129.2000,2,   130.4,2,  165.32,2,   37.81,2,    0.00,2,    2.62,2,   0.003,2,   0.004,2,   0.000,2,  2346.2,2,  2431.5,2,-999.000,9,-999.0000,9, -999.00,9,    0.05,2,  -268.3,3,     3.6,-999.000,9,-999.000, -999.00,9, 3352.00,-999.0000,9,-999.0000,9,-999.0000,9,-999.0000,9,-999.0000,9,-999.0000,-999.000,-999.0000,9, -999.00
318M20040615,        P02,     145,          2,          7,          7,2,20040815,       2136,    29.9987,  -140.6408,       4752,  3656.2,   1.4870,  34.6800,2,  34.6800,2, 137.0000,2,   137.7,2,  163.06,2,   37.44,2,    0.00,2,    2.57,2,   0.003,2,   0.001,2,   0.000,2,  2341.0,2,  2428.3,2,-999.000,9,-999.0000,9, -999.00,9,    0.11,2,  -243.1,2,     3.8,-999.000,9,-999.000, -999.00,9, 3656.20,-999.0000,9,-999.0000,9,-999.0000,9,-999.0000,9,-999.0000,9,-999.0000,-999.000,-999.0000,9, -999.00
318M20040615,        P02,     145,          2,          6,          6,2,20040815,       2136,    29.9987,  -140.6408,       4752,  3964.9,   1.4845,  34.6838,2,  34.6836,2, 142.8000,2,   142.9,2,  160.81,2,   37.00,2,    0.00,2,    2.54,2,   0.003,2,   0.000,2,   0.000,2,  2337.5,2,  2429.2,2,-999.000,9,-999.0000,9, -999.00,9,    0.14,2,  -244.4,2,     3.4,-999.000,9,-999.000,   37.40,2, 3964.90,-999.0000,9,-999.0000,9,-999.0000,9,-999.0000,9,-999.0000,9,-999.0000,-999.000,-999.0000,9, -999.00
318M20040615,        P02,     145,          2,          5,          5,2,20040815,       2136,    29.9987,  -140.6408,       4752,  4121.6,   1.4865,  34.6854,2,  34.6852,2, 144.9000,2,   145.0,2,  159.59,2,   36.80,2,    0.00,2,    2.53,2,   0.004,2,   0.001,2,   0.000,2,  2335.4,2,  2428.2,2,-999.000,9,-999.0000,9, -999.00,9,    0.17,2,  -238.7,2,     4.6,-999.000,9,-999.000,   36.40,2, 4121.60,-999.0000,9,-999.0000,9,-999.0000,9,-999.0000,9,-999.0000,9,-999.0000,-999.000,-999.0000,9, -999.00
318M20040615,        P02,     145,          2,          4,          4,2,20040815,       2136,    29.9987,  -140.6408,       4752,  4323.3,   1.4968,  34.6867,2,  34.6871,2, 147.4000,2,   147.8,2,  158.36,2,   36.59,2,    0.00,2,    2.52,2,   0.005,2,   0.007,2,   0.000,2,  2332.5,2,  2429.1,2,-999.000,9,-999.0000,9, -999.00,9,    0.19,2,  -233.3,2,     5.3,-999.000,9,-999.000, -999.00,9, 4323.30,-999.0000,9,-999.0000,9,-999.0000,9,-999.0000,9,-999.0000,9,-999.0000,-999.000,-999.0000,9, -999.00
318M20040615,        P02,     145,          2,          3,          3,2,20040815,       2136,    29.9987,  -140.6408,       4752,  4475.4,   1.5083,  34.6876,2,  34.6879,2, 148.2000,2,   148.6,2,  157.54,2,   36.48,2,    0.00,2,    2.51,2,   0.006,2,   0.005,2,   0.000,2,  2331.8,2,  2427.9,6,-999.000,9,-999.0000,9, -999.00,9,    0.17,6,  -221.6,6,     2.4,-999.000,9,-999.000, -999.00,9, 4475.40,-999.0000,9,-999.0000,9,-999.0000,9,-999.0000,9,-999.0000,9,-999.0000,-999.000,-999.0000,9, -999.00
318M20040615,        P02,     145,          2,          2,          2,2,20040815,       2136,    29.9987,  -140.6408,       4752,  4628.5,   1.5209,  34.6881,2,  34.6881,3, 149.0000,2,   150.5,2,  156.12,2,   36.54,2,    0.00,2,    2.49,2,   0.006,2,   0.009,2,   0.000,2,  2330.3,2,  2428.2,2,-999.000,9,-999.0000,9, -999.00,9,    0.19,2,  -235.3,2,     4.7,-999.000,9,-999.000, -999.00,9, 4628.50,-999.0000,9,-999.0000,9,-999.0000,9,-999.0000,9,-999.0000,9,-999.0000,-999.000,-999.0000,9, -999.00
318M20040615,        P02,     145,          2,          1,          1,2,20040815,       2136,    29.9987,  -140.6408,       4752,  4837.9,   1.5412,  34.6886,2,  34.6887,3, 148.7000,2,   151.7,2,  155.92,2,   36.59,2,    0.00,2,    2.50,2,   0.009,2,   0.008,2,   0.000,2,  2329.8,6,  2427.2,6,-999.000,9,-999.0000,9, -999.00,9,    0.16,2,  -220.7,2,     4.6,-999.000,9,-999.000,   37.40,2, 4837.90,-999.0000,9,-999.0000,9,-999.0000,9,-999.0000,9,-999.0000,9,-999.0000,-999.000,-999.0000,9, -999.00