BOTTLE,20131027SIOCCHRJL
EXPOCODE,SECT_ID,STNNBR,CASTNO,SAMPNO,BTLNBR,BTLNBR_FLAG_W,DATE,TIME,LATITUDE,LONGITUDE,DEPTH,CTDPRS,CTDTMP,CTDSAL,CTDSAL_FLAG_W,SALNTY,SALNTY_FLAG_W,CTDOXY,CTDOXY_FLAG_W,OXYGEN,OXYGEN_FLAG_W,SILCAT,SILCAT_FLAG_W,NITRAT,NITRAT_FLAG_W,NITRIT,NITRIT_FLAG_W,PHSPHT,PHSPHT_FLAG_W,CFC-11,CFC-11_FLAG_W,CFC-12,CFC-12_FLAG_W,CFC113,CFC113_FLAG_W,TCARBN,TCARBN_FLAG_W,ALKALI,ALKALI_FLAG_W,TRITUM,TRITUM_FLAG_W,HELIUM,HELIUM_FLAG_W,DELHE3,DELHE3_FLAG_W,DELC13,DELC13_FLAG_W,DELC14,DELC14_FLAG_W,C14ERR,NEON,NEON_FLAG_W,NEONER,DOC,DOC_FLAG_W,CTDRAW,CDOM380,CDOM380_FLAG_W,CDOM325,CDOM325_FLAG_W,CDOMSL,CDOMSL_FLAG_W,CDOM340,CDOM340_FLAG_W,CDOMSN,CDOMSN_FLAG_W,HELIER,TRITER,CDOM412,CDOM412_FLAG_W,DELHER
,,,,,,,,,,,METERS,DBAR,ITS-90,PSS-78,,PSS-78,,UMOL/KG,,UMOL/KG,,UMOL/KG,,UMOL/KG,,UMOL/KG,,UMOL/KG,,PMOL/KG,,PMOL/KG,,PMOL/KG,,UMOL/KG,,UMOL/KG,,TU,,NMOL/KG,,PERCNT,,/MILLE,,/MILLE,,/MILLE,NMOL/KG,,NMOL/KG,UMOL/KG,,DBAR,1/M,,1/M,,1/NM,,1/M,,1/NM,,NMOL/KG,TU,1/M,,PERCNT
318M20040615,        P02,      95,          1,         36,         36,2,20040718,       2259,    29.9998,  -173.6387,       5183,     9.8,  25.3089,  35.0565,2,  35.0575,2, 211.8000,2,   211.5,2,    1.86,2,    0.08,2,    0.00,2,    0.03,2,   1.780,2,   1.091,2,   0.137,2,  2005.2,6,  2302.5,6,-999.000,9,-999.0000,9, -999.00,9, -999.00,9,  -999.0,9,  -999.0,-999.000,9,-999.000, -999.00,9,    9.80,-999.0000,9,-999.0000,9,-999.0000,9,-999.0000,9,-999.0000,9,-999.0000,-999.000,-999.0000,9, -999.00
318M20040615,        P02,      95,          1,         35,         35,2,20040718,       2259,    29.9998,  -173.6387,       5183,    36.8,  20.7126,  34.9195,2,  34.9223,2, 241.3000,2,   241.6,2,    2.04,2,    0.13,2,    0.00,2,    0.04,2,   2.232,2,   1.327,2,   0.159,2,  2001.9,2,  2294.5,2,-999.000,9,-999.0000,9, -999.00,9, -999.00,9,  -999.0,9,  -999.0,-999.000,9,-999.000, -999.00,9,   36.80,-999.0000,9,-999.0000,9,-999.0000,9,-999.0000,9,-999.0000,9,-999.0000,-999.000,-999.0000,9, -999.00
318M20040615,        P02,      95,          1,         34,         34,2,20040718,       2259,    29.9998,  -173.6387,       5183,    71.3,  17.4121,  34.7641,2,  34.7638,2, 249.4000,2,   250.1,2,    2.64,2,    0.13,2,    0.00,2,    0.08,2,   2.513,2,   1.453,2,   0.174,2,  2007.1,2,  2284.0,2,-999.000,9,-999.0000,9, -999.00,9, -999.00,9,  -999.0,9,  -999.0,-999.000,9,-999.000, -999.00,9,   71.30,-999.0000,9,-999.0000,9,-999.0000,9,-999.0000,9,-999.0000,9,-999.0000,-999.000,-999.0000,9, -999.00
318M20040615,        P02,      95,          1,         33,         33,2,20040718,       2259,    29.9998,  -173.6387,       5183,   130.8,  16.0304,  34.6782,2,  34.6779,2, 226.1000,2,   225.5,2,    4.26,2,    4.12,2,    0.05,2,    0.32,2,   2.619,2,   1.520,2,   0.154,2,  2032.4,2,  2278.2,2,-999.000,9,-999.0000,9, -999.00,9, -999.00,9,  -999.0,9,  -999.0,-999.000,9,-999.000, -999.00,9,  130.80,-999.0000,9,-999.0000,9,-999.0000,9,-999.0000,9,-999.0000,9,-999.0000,-999.000,-999.0000,9, -999.00
318M20040615,        P02,      95,          1,         32,         32,2,20040718,       2259,    29.9998,  -173.6387,       5183,   173.5,  15.2026,  34.6043,2,  34.6064,2, 219.0000,2,   219.7,2,    6.10,2,    6.08,2,    0.02,2,    0.45,2,   2.651,2,   1.538,2,   0.109,2,  2043.0,2,  2274.9,2,-999.000,9,-999.0000,9, -999.00,9, -999.00,9,  -999.0,9,  -999.0,-999.000,9,-999.000, -999.00,9,  173.50,-999.0000,9,-999.0000,9,-999.0000,9,-999.0000,9,-999.0000,9,-999.0000,-999.000,-999.0000,9, -999.00
318M20040615,        P02,      95,          1,         31,         31,2,20040718,       2259,    29.9998,  -173.6387,       5183,   208.3,  14.5398,  34.5519,2,  34.5524,2, 214.4000,2,   215.4,2,    7.73,2,    7.76,2,    0.01,2,    0.56,2,   2.712,2,   1.563,2,   0.086,2,  2054.7,2,  2273.5,2,-999.000,9,-999.0000,9, -999.00,9, -999.00,9,  -999.0,9,  -999.0,-999.000,9,-999.000, -999.00,9,  208.30,-999.0000,9,-999.0000,9,-999.0000,9,-999.0000,9,-999.0000,9,-999.0000,-999.000,-999.0000,9, -999.00
318M20040615,        P02,      95,          1,         30,         30,2,20040718,       2259,    29.9998,  -173.6387,       5183,   256.6,  13.4206,  34.4668,2,  34.4686,2, 214.1000,2,   216.4,2,   10.19,2,    9.60,2,    0.00,2,    0.68,2,   2.846,2,   1.605,2,   0.086,2,  2067.6,2,  2270.5,2,-999.000,9,-999.0000,9, -999.00,9, -999.00,9,  -999.0,9,  -999.0,-999.000,9,-999.000, -999.00,9,  256.60,-999.0000,9,-999.0000,9,-999.0000,9,-999.0000,9,-999.0000,9,-999.0000,-999.000,-999.0000,9, -999.00
318M20040615,        P02,      95,          1,         29,         29,2,20040718,       2259,    29.9998,  -173.6387,       5183,   316.3,  12.4540,  34.3927,2,  34.3922,2, 216.1000,2,   217.5,2,   12.86,2,   11.03,2,    0.00,2,    0.79,2,   2.917,2,   1.620,2,   0.093,2,  -999.0,9,  -999.0,9,-999.000,9,-999.0000,9, -999.00,9, -999.00,9,  -999.0,9,  -999.0,-999.000,9,-999.000, -999.00,9,  316.30,-999.0000,9,-999.0000,9,-999.0000,9,-999.0000,9,-999.0000,9,-999.0000,-999.000,-999.0000,9, -999.00
318M20040615,        P02,      95,          1,         28,         28,2,20040718,       2259,    29.9998,  -173.6387,       5183,   365.9,  11.7135,  34.3321,2,  34.3322,2, 214.1000,2,   214.6,2,   15.34,2,   12.55,2,    0.00,2,    0.91,2,   2.947,2,   1.638,2,   0.092,2,  2089.8,2,  2269.1,2,-999.000,9,-999.0000,9, -999.00,9, -999.00,9,  -999.0,9,  -999.0,-999.000,9,-999.000, -999.00,9,  365.90,-999.0000,9,-999.0000,9,-999.0000,9,-999.0000,9,-999.0000,9,-999.0000,-999.000,-999.0000,9, -999.00
318M20040615,        P02,      95,          1,         27,         27,2,20040718,       2259,    29.9998,  -173.6387,       5183,   417.8,  10.3537,  34.2196,2,  34.2184,2, 210.6000,2,   210.9,2,   20.31,2,   15.25,2,    0.00,2,    1.10,2,   3.125,2,   1.690,2,   0.116,2,  -999.0,9,  -999.0,9,-999.000,9,-999.0000,9, -999.00,9, -999.00,9,  -999.0,9,  -999.0,-999.000,9,-999.000, -999.00,9,  417.80,-999.0000,9,-999.0000,9,-999.0000,9,-999.0000,9,-999.0000,9,-999.0000,-999.000,-999.0000,9, -999.00
318M20040615,        P02,      95,          1,         26,         26,2,20040718,       2259,    29.9998,  -173.6387,       5183,   469.1,   9.2033,  34.1372,2,  34.1379,2, 197.6000,2,   195.5,2,   26.99,2,   18.68,2,    0.00,2,    1.35,2,   3.005,2,   1.605,2,   0.119,2,  2132.0,2,  2269.7,2,-999.000,9,-999.0000,9, -999.00,9, -999.00,9,  -999.0,9,  -999.0,-999.000,9,-999.000, -999.00,9,  469.10,-999.0000,9,-999.0000,9,-999.0000,9,-999.0000,9,-999.0000,9,-999.0000,-999.000,-999.0000,9, -999.00
318M20040615,        P02,      95,          1,         25,         25,2,20040718,       2259,    29.9998,  -173.6387,       5183,   539.1,   7.6353,  34.0573,2,  34.0567,2, 160.7000,2,   159.7,2,   40.67,2,   24.97,2,    0.00,2,    1.81,2,   2.484,2,   1.288,2,   0.094,2,  -999.0,9,  -999.0,9,-999.000,9,-999.0000,9, -999.00,9, -999.00,9,  -999.0,9,  -999.0,-999.000,9,-999.000, -999.00,9,  539.10,-999.0000,9,-999.0000,9,-999.0000,9,-999.0000,9,-999.0000,9,-999.0000,-999.000,-999.0000,9, -999.00
318M20040615,        P02,      95,          1,         24,         24,2,20040718,       2259,    29.9998,  -173.6387,       5183,   638.7,   5.8606,  34.0375,2,  34.0371,2, 113.7000,2,   105.2,2,   64.94,2,   33.03,2,    0.00,2,    2.42,2,   1.474,2,   0.732,2,   0.052,2,  2241.7,2,  2293.7,2,-999.000,9,-999.0000,9, -999.00,9, -999.00,9,  -999.0,9,  -999.0,-999.000,9,-999.000, -999.00,9,  638.70,-999.0000,9,-999.0000,9,-999.0000,9,-999.0000,9,-999.0000,9,-999.0000,-999.000,-999.0000,9, -999.00
318M20040615,        P02,      95,          1,         23,         23,2,20040718,       2259,    29.9998,  -173.6387,       5183,   739.3,   4.9110,  34.0903,2,  34.0885,2,  69.8000,2,    68.1,2,   84.28,2,   38.04,2,    0.00,2,    2.77,2,   0.761,2,   0.392,2,   0.025,2,  -999.0,9,  -999.0,9,-999.000,9,-999.0000,9, -999.00,9, -999.00,9,  -999.0,9,  -999.0,-999.000,9,-999.000, -999.00,9,  739.30,-999.0000,9,-999.0000,9,-999.0000,9,-999.0000,9,-999.0000,9,-999.0000,-999.000,-999.0000,9, -999.00
318M20040615,        P02,      95,          1,         22,         22,2,20040718,       2259,    29.9998,  -173.6387,       5183,   840.3,   4.2738,  34.1793,2,  34.1802,2,  44.7000,2,    40.2,2,  102.64,2,   41.45,2,    0.00,2,    2.99,2,   0.313,2,   0.150,2,   0.010,2,  2323.1,2,  2332.1,2,-999.000,9,-999.0000,9, -999.00,9, -999.00,9,  -999.0,9,  -999.0,-999.000,9,-999.000, -999.00,9,  840.30,-999.0000,9,-999.0000,9,-999.0000,9,-999.0000,9,-999.0000,9,-999.0000,-999.000,-999.0000,9, -999.00
318M20040615,        P02,      95,          1,         21,         21,2,20040718,       2259,    29.9998,  -173.6387,       5183,   940.5,   3.8657,  34.2672,2,  34.2644,2,  27.4000,2,    27.0,2,  115.64,2,   43.12,2,    0.00,2,    3.11,2,   0.123,2,   0.064,2,   0.007,2,  -999.0,9,  -999.0,9,-999.000,9,-999.0000,9, -999.00,9, -999.00,9,  -999.0,9,  -999.0,-999.000,9,-999.000, -999.00,9,  940.50,-999.0000,9,-999.0000,9,-999.0000,9,-999.0000,9,-999.0000,9,-999.0000,-999.000,-999.0000,9, -999.00
318M20040615,        P02,      95,          1,         20,         20,2,20040718,       2259,    29.9998,  -173.6387,       5183,  1040.5,   3.5233,  34.3452,2,  34.3448,2,  22.2000,2,    21.5,2,  127.77,2,   43.80,2,    0.00,2,    3.17,2,   0.044,2,   0.024,2,   0.003,2,  2363.1,2,  2364.0,6,-999.000,9,-999.0000,9, -999.00,9, -999.00,9,  -999.0,9,  -999.0,-999.000,9,-999.000, -999.00,9, 1040.50,-999.0000,9,-999.0000,9,-999.0000,9,-999.0000,9,-999.0000,9,-999.0000,-999.000,-999.0000,9, -999.00
318M20040615,        P02,      95,          1,         19,         19,2,20040718,       2259,    29.9998,  -173.6387,       5183,  1141.0,   3.3373,  34.3962,2,  34.3970,2,  22.2000,2,    22.9,2,  132.95,2,   43.79,2,    0.00,2,    3.18,2,   0.019,6,   0.013,6,   0.005,6,  2368.3,2,  2372.2,2,-999.000,9,-999.0000,9, -999.00,9, -999.00,9,  -999.0,9,  -999.0,-999.000,9,-999.000, -999.00,9, 1141.00,-999.0000,9,-999.0000,9,-999.0000,9,-999.0000,9,-999.0000,9,-999.0000,-999.000,-999.0000,9, -999.00
318M20040615,        P02,      95,          1,         18,         18,2,20040718,       2259,    29.9998,  -173.6387,       5183,  1240.7,   3.0961,  34.4529,2,  34.4528,2,  26.8000,2,    28.6,2,  139.46,2,   43.58,2,    0.00,2,    3.16,2,   0.008,2,   0.008,2,   0.001,2,  2374.2,2,  2385.2,2,-999.000,9,-999.0000,9, -999.00,9, -999.00,9,  -999.0,9,  -999.0,-999.000,9,-999.000, -999.00,9, 1240.70,-999.0000,9,-999.0000,9,-999.0000,9,-999.0000,9,-999.0000,9,-999.0000,-999.000,-999.0000,9, -999.00
318M20040615,        P02,      95,          1,         17,         17,2,20040718,       2259,    29.9998,  -173.6387,       5183,  1341.1,   2.8463,  34.4874,2,  34.4852,2,  31.4000,2,    32.1,2,  146.35,2,   43.45,2,    0.00,2,    3.16,2,   0.006,2,   0.004,2,   0.001,2,  -999.0,9,  -999.0,9,-999.000,9,-999.0000,9, -999.00,9, -999.00,9,  -999.0,9,  -999.0,-999.000,9,-999.000, -999.00,9, 1341.10,-999.0000,9,-999.0000,9,-999.0000,9,-999.0000,9,-999.0000,9,-999.0000,-999.000,-999.0000,9, -999.00
318M20040615,        P02,      95,          1,         16,         16,2,20040718,       2259,    29.9998,  -173.6387,       5183,  1441.5,   2.6967,  34.5100,2,  34.5080,2,  36.8000,2,    37.6,2,  150.00,2,   43.16,2,    0.00,2,    3.12,2,   0.007,2,   0.006,2,   0.004,2,  -999.0,9,  2397.2,2,-999.000,9,-999.0000,9, -999.00,9, -999.00,9,  -999.0,9,  -999.0,-999.000,9,-999.000, -999.00,9, 1441.50,-999.0000,9,-999.0000,9,-999.0000,9,-999.0000,9,-999.0000,9,-999.0000,-999.000,-999.0000,9, -999.00
318M20040615,        P02,      95,          1,         15,         15,2,20040718,       2259,    29.9998,  -173.6387,       5183,  1541.8,   2.5548,  34.5319,2,  34.5306,2,  44.1000,2,    44.0,2,  153.23,2,   43.05,2,    0.00,2,    3.10,2,   0.003,2,   0.004,2,   0.003,2,  -999.0,9,  -999.0,9,-999.000,9,-999.0000,9, -999.00,9, -999.00,9,  -999.0,9,  -999.0,-999.000,9,-999.000, -999.00,9, 1541.80,-999.0000,9,-999.0000,9,-999.0000,9,-999.0000,9,-999.0000,9,-999.0000,-999.000,-999.0000,9, -999.00
318M20040615,        P02,      95,          1,         14,         14,2,20040718,       2259,    29.9998,  -173.6387,       5183,  1642.2,   2.3841,  34.5554,2,  34.5543,2,  52.5000,2,    52.1,2,  156.66,2,   42.89,2,    0.00,2,    3.05,2,   0.003,2,   0.002,2,   0.001,2,  -999.0,9,  2407.1,2,-999.000,9,-999.0000,9, -999.00,9, -999.00,9,  -999.0,9,  -999.0,-999.000,9,-999.000, -999.00,9, 1642.20,-999.0000,9,-999.0000,9,-999.0000,9,-999.0000,9,-999.0000,9,-999.0000,-999.000,-999.0000,9, -999.00
318M20040615,        P02,      95,          1,         13,         13,2,20040718,       2259,    29.9998,  -173.6387,       5183,  1742.6,   2.2517,  34.5728,2,  34.5726,2,  60.7000,2,    60.7,2,  159.02,2,   42.33,2,    0.00,2,    3.00,2,   0.003,2,   0.001,2,   0.001,2,  -999.0,9,  -999.0,9,-999.000,9,-999.0000,9, -999.00,9, -999.00,9,  -999.0,9,  -999.0,-999.000,9,-999.000, -999.00,9, 1742.60,-999.0000,9,-999.0000,9,-999.0000,9,-999.0000,9,-999.0000,9,-999.0000,-999.000,-999.0000,9, -999.00
318M20040615,        P02,      95,          1,         12,         12,2,20040718,       2259,    29.9998,  -173.6387,       5183,  1942.6,   2.0128,  34.6025,2,  34.6019,2,  76.4000,2,    76.2,2,  162.66,2,   41.27,2,    0.00,2,    2.93,2,-999.000,9,-999.000,9,-999.000,9,  -999.0,9,  2416.3,6,-999.000,9,-999.0000,9, -999.00,9, -999.00,9,  -999.0,9,  -999.0,-999.000,9,-999.000, -999.00,9, 1942.60,-999.0000,9,-999.0000,9,-999.0000,9,-999.0000,9,-999.0000,9,-999.0000,-999.000,-999.0000,9, -999.00
318M20040615,        P02,      95,          1,         11,         11,2,20040718,       2259,    29.9998,  -173.6387,       5183,  2103.0,   1.8830,  34.6168,2,  34.6153,2,  85.2000,2,    84.9,2,  164.36,2,   40.54,2,    0.00,2,    2.88,2,   0.003,2,   0.003,2,   0.001,2,  -999.0,9,  -999.0,9,-999.000,9,-999.0000,9, -999.00,9, -999.00,9,  -999.0,9,  -999.0,-999.000,9,-999.000, -999.00,9, 2103.00,-999.0000,9,-999.0000,9,-999.0000,9,-999.0000,9,-999.0000,9,-999.0000,-999.000,-999.0000,9, -999.00
318M20040615,        P02,      95,          1,         10,         10,2,20040718,       2259,    29.9998,  -173.6387,       5183,  2351.9,   1.7554,  34.6342,2,  34.6337,2,  98.3000,2,    98.9,2,  163.54,2,   39.57,2,    0.00,2,    2.82,2,-999.000,9,-999.000,9,-999.000,9,  -999.0,9,  2420.0,2,-999.000,9,-999.0000,9, -999.00,9, -999.00,9,  -999.0,9,  -999.0,-999.000,9,-999.000, -999.00,9, 2351.90,-999.0000,9,-999.0000,9,-999.0000,9,-999.0000,9,-999.0000,9,-999.0000,-999.000,-999.0000,9, -999.00
318M20040615,        P02,      95,          1,          9,          9,2,20040718,       2259,    29.9998,  -173.6387,       5183,  2599.9,   1.6488,  34.6484,2,  34.6477,2, 110.1000,2,   110.7,2,  162.66,2,   38.74,2,    0.00,2,    2.76,2,   0.002,2,   0.003,2,   0.001,2,  -999.0,9,  -999.0,9,-999.000,9,-999.0000,9, -999.00,9, -999.00,9,  -999.0,9,  -999.0,-999.000,9,-999.000, -999.00,9, 2599.90,-999.0000,9,-999.0000,9,-999.0000,9,-999.0000,9,-999.0000,9,-999.0000,-999.000,-999.0000,9, -999.00
318M20040615,        P02,      95,          1,          8,          8,2,20040718,       2259,    29.9998,  -173.6387,       5183,  2853.0,   1.5780,  34.6584,2,  34.6579,2, 119.9000,2,   120.1,2,  161.98,2,   38.09,2,    0.00,2,    2.71,2,-999.000,9,-999.000,9,-999.000,9,  -999.0,9,  2421.3,2,-999.000,9,-999.0000,9, -999.00,9, -999.00,9,  -999.0,9,  -999.0,-999.000,9,-999.000, -999.00,9, 2853.00,-999.0000,9,-999.0000,9,-999.0000,9,-999.0000,9,-999.0000,9,-999.0000,-999.000,-999.0000,9, -999.00
318M20040615,        P02,      95,          1,          7,          7,2,20040718,       2259,    29.9998,  -173.6387,       5183,  3101.8,   1.5333,  34.6660,2,  34.6656,2, 128.0000,2,   128.6,2,  160.03,2,   37.59,2,    0.00,2,    2.67,2,   0.002,2,   0.002,2,   0.004,2,  -999.0,9,  2422.4,2,-999.000,9,-999.0000,9, -999.00,9, -999.00,9,  -999.0,9,  -999.0,-999.000,9,-999.000, -999.00,9, 3101.80,-999.0000,9,-999.0000,9,-999.0000,9,-999.0000,9,-999.0000,9,-999.0000,-999.000,-999.0000,9, -999.00
318M20040615,        P02,      95,          1,          6,          6,2,20040718,       2259,    29.9998,  -173.6387,       5183,  3505.2,   1.4845,  34.6754,2,  34.6741,2, 137.3000,2,   139.1,2,  158.07,2,   37.10,2,    0.00,2,    2.61,2,-999.000,9,-999.000,9,-999.000,9,  -999.0,9,  2422.1,2,-999.000,9,-999.0000,9, -999.00,9, -999.00,9,  -999.0,9,  -999.0,-999.000,9,-999.000, -999.00,9, 3505.20,-999.0000,9,-999.0000,9,-999.0000,9,-999.0000,9,-999.0000,9,-999.0000,-999.000,-999.0000,9, -999.00
318M20040615,        P02,      95,          1,          5,          5,2,20040718,       2259,    29.9998,  -173.6387,       5183,  3896.5,   1.4698,  34.6813,2,  34.6808,2, 145.7000,2,   146.5,2,  155.46,2,   36.66,2,    0.00,2,    2.57,2,   0.005,2,   0.002,2,   0.001,2,  -999.0,9,  2421.4,2,-999.000,9,-999.0000,9, -999.00,9, -999.00,9,  -999.0,9,  -999.0,-999.000,9,-999.000, -999.00,9, 3896.50,-999.0000,9,-999.0000,9,-999.0000,9,-999.0000,9,-999.0000,9,-999.0000,-999.000,-999.0000,9, -999.00
318M20040615,        P02,      95,          1,          4,          4,2,20040718,       2259,    29.9998,  -173.6387,       5183,  4295.9,   1.4772,  34.6852,2,  34.6822,2, 150.5000,3,   150.9,2,  154.78,2,   36.22,2,    0.00,2,    2.54,2,-999.000,9,-999.000,9,-999.000,9,  -999.0,9,  2421.0,2,-999.000,9,-999.0000,9, -999.00,9, -999.00,9,  -999.0,9,  -999.0,-999.000,9,-999.000, -999.00,9, 4295.90,-999.0000,9,-999.0000,9,-999.0000,9,-999.0000,9,-999.0000,9,-999.0000,-999.000,-999.0000,9, -999.00
318M20040615,        P02,      95,          1,          3,          3,2,20040718,       2259,    29.9998,  -173.6387,       5183,  4701.0,   1.4920,  34.6883,2,  34.6875,2, 156.2000,2,   156.2,2,  151.10,2,   35.79,2,    0.00,2,    2.52,2,   0.003,2,   0.006,2,   0.001,2,  -999.0,9,  2419.9,2,-999.000,9,-999.0000,9, -999.00,9, -999.00,9,  -999.0,9,  -999.0,-999.000,9,-999.000, -999.00,9, 4701.00,-999.0000,9,-999.0000,9,-999.0000,9,-999.0000,9,-999.0000,9,-999.0000,-999.000,-999.0000,9, -999.00
318M20040615,        P02,      95,          1,          2,          2,2,20040718,       2259,    29.9998,  -173.6387,       5183,  4997.7,   1.5036,  34.6903,2,  34.6898,2, 160.0000,2,   160.0,2,  147.68,2,   35.48,2,    0.00,2,    2.49,2,-999.000,9,-999.000,9,-999.000,9,  -999.0,9,  2416.4,2,-999.000,9,-999.0000,9, -999.00,9, -999.00,9,  -999.0,9,  -999.0,-999.000,9,-999.000, -999.00,9, 4997.70,-999.0000,9,-999.0000,9,-999.0000,9,-999.0000,9,-999.0000,9,-999.0000,-999.000,-999.0000,9, -999.00
318M20040615,        P02,      95,          1,          1,          1,2,20040718,       2259,    29.9998,  -173.6387,       5183,  5274.7,   1.5183,  34.6919,2,  34.6926,2, 163.7000,2,   164.7,2,  144.64,2,   35.10,2,    0.00,2,    2.47,2,   0.002,2,   0.004,2,   0.001,2,  -999.0,9,  2412.5,6,-999.000,9,-999.0000,9, -999.00,9, -999.00,9,  -999.0,9,  -999.0,-999.000,9,-999.000, -999.00,9, 5274.70,-999.0000,9,-999.0000,9,-999.0000,9,-999.0000,9,-999.0000,9,-999.0000,-999.000,-999.0000,9, -999.00