BOTTLE,20131027SIOCCHRJL
EXPOCODE,SECT_ID,STNNBR,CASTNO,SAMPNO,BTLNBR,BTLNBR_FLAG_W,DATE,TIME,LATITUDE,LONGITUDE,DEPTH,CTDPRS,CTDTMP,CTDSAL,CTDSAL_FLAG_W,SALNTY,SALNTY_FLAG_W,CTDOXY,CTDOXY_FLAG_W,OXYGEN,OXYGEN_FLAG_W,SILCAT,SILCAT_FLAG_W,NITRAT,NITRAT_FLAG_W,NITRIT,NITRIT_FLAG_W,PHSPHT,PHSPHT_FLAG_W,CFC-11,CFC-11_FLAG_W,CFC-12,CFC-12_FLAG_W,CFC113,CFC113_FLAG_W,TCARBN,TCARBN_FLAG_W,ALKALI,ALKALI_FLAG_W,TRITUM,TRITUM_FLAG_W,HELIUM,HELIUM_FLAG_W,DELHE3,DELHE3_FLAG_W,DELC13,DELC13_FLAG_W,DELC14,DELC14_FLAG_W,C14ERR,NEON,NEON_FLAG_W,NEONER,DOC,DOC_FLAG_W,CTDRAW,CDOM380,CDOM380_FLAG_W,CDOM325,CDOM325_FLAG_W,CDOMSL,CDOMSL_FLAG_W,CDOM340,CDOM340_FLAG_W,CDOMSN,CDOMSN_FLAG_W,HELIER,TRITER,CDOM412,CDOM412_FLAG_W,DELHER
,,,,,,,,,,,METERS,DBAR,ITS-90,PSS-78,,PSS-78,,UMOL/KG,,UMOL/KG,,UMOL/KG,,UMOL/KG,,UMOL/KG,,UMOL/KG,,PMOL/KG,,PMOL/KG,,PMOL/KG,,UMOL/KG,,UMOL/KG,,TU,,NMOL/KG,,PERCNT,,/MILLE,,/MILLE,,/MILLE,NMOL/KG,,NMOL/KG,UMOL/KG,,DBAR,1/M,,1/M,,1/NM,,1/M,,1/NM,,NMOL/KG,TU,1/M,,PERCNT
318M20040615,        P02,      73,          1,         36,         36,2,20040712,       0227,    30.0018,   172.6563,       5549,     9.6,  25.9469,  35.0705,2,  35.0703,2, 210.7000,2,   209.8,2,    1.86,2,    0.04,2,    0.00,2,    0.02,2,   1.815,2,   1.121,2,   0.133,2,  1995.8,6,  2302.8,6,-999.000,9,-999.0000,9, -999.00,9, -999.00,9,  -999.0,9,  -999.0,-999.000,9,-999.000, -999.00,9,    9.60,-999.0000,9,-999.0000,9,-999.0000,9,-999.0000,9,-999.0000,9,-999.0000,-999.000,-999.0000,9, -999.00
318M20040615,        P02,      73,          1,         35,         35,2,20040712,       0227,    30.0018,   172.6563,       5549,    51.7,  19.8242,  34.9399,2,  34.9442,2, 238.7000,2,   242.9,2,    2.22,2,    0.04,2,    0.00,2,    0.04,2,   2.308,2,   1.371,2,   0.147,2,  1996.9,2,  2294.4,2,-999.000,9,-999.0000,9, -999.00,9, -999.00,9,  -999.0,9,  -999.0,-999.000,9,-999.000, -999.00,9,   51.70,-999.0000,9,-999.0000,9,-999.0000,9,-999.0000,9,-999.0000,9,-999.0000,-999.000,-999.0000,9, -999.00
318M20040615,        P02,      73,          1,         34,         34,2,20040712,       0227,    30.0018,   172.6563,       5549,   101.2,  17.5010,  34.7949,2,  34.7931,2, 226.4000,2,   229.1,2,    3.11,2,    1.26,2,    0.32,2,    0.17,2,   2.446,2,   1.440,2,   0.158,2,  2015.4,2,  2284.0,2,-999.000,9,-999.0000,9, -999.00,9, -999.00,9,  -999.0,9,  -999.0,-999.000,9,-999.000, -999.00,9,  101.20,-999.0000,9,-999.0000,9,-999.0000,9,-999.0000,9,-999.0000,9,-999.0000,-999.000,-999.0000,9, -999.00
318M20040615,        P02,      73,          1,         33,         33,2,20040712,       0227,    30.0018,   172.6563,       5549,   151.2,  16.9065,  34.7474,2,  34.7458,2, 222.0000,2,   222.8,2,    4.17,2,    3.56,2,    0.02,2,    0.26,2,   2.477,2,   1.453,2,   0.136,2,  2021.9,2,  2282.1,2,-999.000,9,-999.0000,9, -999.00,9, -999.00,9,  -999.0,9,  -999.0,-999.000,9,-999.000, -999.00,9,  151.20,-999.0000,9,-999.0000,9,-999.0000,9,-999.0000,9,-999.0000,9,-999.0000,-999.000,-999.0000,9, -999.00
318M20040615,        P02,      73,          1,         32,         32,2,20040712,       0227,    30.0018,   172.6563,       5549,   200.8,  16.5896,  34.7346,2,  34.7330,2, 223.6000,2,   224.9,2,    4.37,2,    3.77,2,    0.02,2,    0.28,2,   2.499,2,   1.460,2,   0.126,2,  2024.0,2,  2281.4,2,-999.000,9,-999.0000,9, -999.00,9, -999.00,9,  -999.0,9,  -999.0,-999.000,9,-999.000, -999.00,9,  200.80,-999.0000,9,-999.0000,9,-999.0000,9,-999.0000,9,-999.0000,9,-999.0000,-999.000,-999.0000,9, -999.00
318M20040615,        P02,      73,          1,         31,         31,2,20040712,       0227,    30.0018,   172.6563,       5549,   250.9,  16.0827,  34.6939,2,  34.6921,2, 223.4000,2,   222.7,2,    5.43,2,    4.90,2,    0.01,2,    0.36,2,   2.545,2,   1.450,2,   0.109,2,  2032.7,2,  2279.6,2,-999.000,9,-999.0000,9, -999.00,9, -999.00,9,  -999.0,9,  -999.0,-999.000,9,-999.000, -999.00,9,  250.90,-999.0000,9,-999.0000,9,-999.0000,9,-999.0000,9,-999.0000,9,-999.0000,-999.000,-999.0000,9, -999.00
318M20040615,        P02,      73,          1,         30,         30,2,20040712,       0227,    30.0018,   172.6563,       5549,   300.8,  15.5634,  34.6537,2,  34.6528,2, 227.3000,2,   225.7,2,    6.15,2,    5.36,2,    0.01,2,    0.39,2,   2.615,2,   1.506,2,   0.122,2,  2036.3,2,  2278.8,2,-999.000,9,-999.0000,9, -999.00,9, -999.00,9,  -999.0,9,  -999.0,-999.000,9,-999.000, -999.00,9,  300.80,-999.0000,9,-999.0000,9,-999.0000,9,-999.0000,9,-999.0000,9,-999.0000,-999.000,-999.0000,9, -999.00
318M20040615,        P02,      73,          1,         29,         29,2,20040712,       0227,    30.0018,   172.6563,       5549,   350.1,  14.9525,  34.5906,2,  34.5894,2, 216.0000,2,   216.1,2,    7.90,2,    7.04,2,    0.01,2,    0.50,2,   2.665,6,   1.513,6,   0.088,6,  2048.8,2,  2275.7,2,-999.000,9,-999.0000,9, -999.00,9, -999.00,9,  -999.0,9,  -999.0,-999.000,9,-999.000, -999.00,9,  350.10,-999.0000,9,-999.0000,9,-999.0000,9,-999.0000,9,-999.0000,9,-999.0000,-999.000,-999.0000,9, -999.00
318M20040615,        P02,      73,          1,         28,         28,2,20040712,       0227,    30.0018,   172.6563,       5549,   400.3,  13.3201,  34.4602,2,  34.4588,2, 209.7000,2,   208.8,2,   12.44,2,   10.35,2,    0.01,2,    0.73,2,   2.792,2,   1.531,2,   0.069,2,  2073.3,2,  2272.1,2,-999.000,9,-999.0000,9, -999.00,9, -999.00,9,  -999.0,9,  -999.0,-999.000,9,-999.000, -999.00,9,  400.30,-999.0000,9,-999.0000,9,-999.0000,9,-999.0000,9,-999.0000,9,-999.0000,-999.000,-999.0000,9, -999.00
318M20040615,        P02,      73,          1,         27,         27,2,20040712,       0227,    30.0018,   172.6563,       5549,   450.6,  12.1744,  34.3722,2,  34.3714,2, 208.8000,2,   208.2,2,   16.11,2,   12.50,2,    0.01,2,    0.88,2,   2.862,2,   1.569,2,   0.083,2,  -999.0,9,  -999.0,9,-999.000,9,-999.0000,9, -999.00,9, -999.00,9,  -999.0,9,  -999.0,-999.000,9,-999.000, -999.00,9,  450.60,-999.0000,9,-999.0000,9,-999.0000,9,-999.0000,9,-999.0000,9,-999.0000,-999.000,-999.0000,9, -999.00
318M20040615,        P02,      73,          1,         26,         26,2,20040712,       0227,    30.0018,   172.6563,       5549,   500.3,  11.0764,  34.2861,2,  34.2784,2, 205.2000,2,   205.5,2,   19.63,2,   14.69,2,    0.01,2,    1.04,2,   2.875,2,   1.542,2,   0.087,2,  2103.2,2,  2269.3,2,-999.000,9,-999.0000,9, -999.00,9, -999.00,9,  -999.0,9,  -999.0,-999.000,9,-999.000, -999.00,9,  500.30,-999.0000,9,-999.0000,9,-999.0000,9,-999.0000,9,-999.0000,9,-999.0000,-999.000,-999.0000,9, -999.00
318M20040615,        P02,      73,          1,         25,         25,2,20040712,       0227,    30.0018,   172.6563,       5549,   600.3,   8.5413,  34.1013,2,  34.1018,2, 185.4000,2,   183.7,2,   33.64,2,   21.02,2,    0.01,2,    1.51,2,   2.768,2,   1.419,2,   0.109,2,  -999.0,9,  -999.0,9,-999.000,9,-999.0000,9, -999.00,9, -999.00,9,  -999.0,9,  -999.0,-999.000,9,-999.000, -999.00,9,  600.30,-999.0000,9,-999.0000,9,-999.0000,9,-999.0000,9,-999.0000,9,-999.0000,-999.000,-999.0000,9, -999.00
318M20040615,        P02,      73,          1,         24,         24,2,20040712,       0227,    30.0018,   172.6563,       5549,   700.1,   6.3532,  34.0082,2,  34.0077,2, 152.1000,2,   145.9,2,   56.02,2,   28.55,2,    0.00,2,    2.07,2,   2.313,2,   1.185,2,   0.102,2,  -999.0,9,  -999.0,9,-999.000,9,-999.0000,9, -999.00,9, -999.00,9,  -999.0,9,  -999.0,-999.000,9,-999.000, -999.00,9,  700.10,-999.0000,9,-999.0000,9,-999.0000,9,-999.0000,9,-999.0000,9,-999.0000,-999.000,-999.0000,9, -999.00
318M20040615,        P02,      73,          1,         23,         23,2,20040712,       0227,    30.0018,   172.6563,       5549,   800.2,   5.1782,  34.0673,2,  34.0636,2,  98.1000,2,    96.0,2,   78.18,2,   35.02,2,    0.00,2,    2.53,2,   1.444,2,   0.718,2,   0.063,2,  2265.3,2,  2279.8,2,-999.000,9,-999.0000,9, -999.00,9, -999.00,9,  -999.0,9,  -999.0,-999.000,9,-999.000, -999.00,9,  800.20,-999.0000,9,-999.0000,9,-999.0000,9,-999.0000,9,-999.0000,9,-999.0000,-999.000,-999.0000,9, -999.00
318M20040615,        P02,      73,          1,         22,         22,2,20040712,       0227,    30.0018,   172.6563,       5549,   900.4,   4.3432,  34.1695,2,  34.1702,2,  61.3000,2,    56.2,2,  100.93,2,   39.96,2,    0.00,2,    2.87,2,   0.638,2,   0.322,2,   0.025,2,  -999.0,9,  -999.0,9,-999.000,9,-999.0000,9, -999.00,9, -999.00,9,  -999.0,9,  -999.0,-999.000,9,-999.000, -999.00,9,  900.40,-999.0000,9,-999.0000,9,-999.0000,9,-999.0000,9,-999.0000,9,-999.0000,-999.000,-999.0000,9, -999.00
318M20040615,        P02,      73,          1,         21,         21,2,20040712,       0227,    30.0018,   172.6563,       5549,  1000.5,   3.8056,  34.2572,2,  34.2569,2,  43.4000,2,    39.2,2,  116.62,2,   42.05,2,    0.00,2,    3.01,2,   0.311,2,   0.153,2,   0.007,2,  -999.0,9,  -999.0,9,-999.000,9,-999.0000,9, -999.00,9, -999.00,9,  -999.0,9,  -999.0,-999.000,9,-999.000, -999.00,9, 1000.50,-999.0000,9,-999.0000,9,-999.0000,9,-999.0000,9,-999.0000,9,-999.0000,-999.000,-999.0000,9, -999.00
318M20040615,        P02,      73,          1,         20,         20,2,20040712,       0227,    30.0018,   172.6563,       5549,  1100.5,   3.4911,  34.3178,2,  34.3173,2,  33.3000,2,    32.0,2,  126.59,2,   43.10,2,    0.00,2,    3.08,2,   0.172,2,   0.083,2,   0.004,2,  -999.0,9,  -999.0,9,-999.000,9,-999.0000,9, -999.00,9, -999.00,9,  -999.0,9,  -999.0,-999.000,9,-999.000, -999.00,9, 1100.50,-999.0000,9,-999.0000,9,-999.0000,9,-999.0000,9,-999.0000,9,-999.0000,-999.000,-999.0000,9, -999.00
318M20040615,        P02,      73,          1,         19,         19,2,20040712,       0227,    30.0018,   172.6563,       5549,  1200.8,   3.2209,  34.3703,2,  34.3734,2,  29.4000,2,    29.0,2,  134.98,2,   43.77,2,    0.00,2,    3.11,2,   0.091,2,   0.046,2,   0.001,2,  2367.6,2,  2371.1,2,-999.000,9,-999.0000,9, -999.00,9, -999.00,9,  -999.0,9,  -999.0,-999.000,9,-999.000, -999.00,9, 1200.80,-999.0000,9,-999.0000,9,-999.0000,9,-999.0000,9,-999.0000,9,-999.0000,-999.000,-999.0000,9, -999.00
318M20040615,        P02,      73,          1,         18,         18,2,20040712,       0227,    30.0018,   172.6563,       5549,  1301.2,   2.9768,  34.4196,2,  34.4196,2,  28.4000,2,    28.3,2,  142.46,2,   44.15,2,    0.00,2,    3.12,2,   0.046,2,   0.019,2,   0.003,2,  2375.4,2,  2380.5,2,-999.000,9,-999.0000,9, -999.00,9, -999.00,9,  -999.0,9,  -999.0,-999.000,9,-999.000, -999.00,9, 1301.20,-999.0000,9,-999.0000,9,-999.0000,9,-999.0000,9,-999.0000,9,-999.0000,-999.000,-999.0000,9, -999.00
318M20040615,        P02,      73,          1,         17,         17,2,20040712,       0227,    30.0018,   172.6563,       5549,  1400.9,   2.7615,  34.4630,2,  34.4614,2,  30.5000,2,    31.1,2,  148.52,2,   44.20,2,    0.00,2,    3.11,2,   0.026,2,   0.012,2,   0.001,2,  2381.3,2,  2389.6,2,-999.000,9,-999.0000,9, -999.00,9, -999.00,9,  -999.0,9,  -999.0,-999.000,9,-999.000, -999.00,9, 1400.90,-999.0000,9,-999.0000,9,-999.0000,9,-999.0000,9,-999.0000,9,-999.0000,-999.000,-999.0000,9, -999.00
318M20040615,        P02,      73,          1,         16,         16,2,20040712,       0227,    30.0018,   172.6563,       5549,  1502.5,   2.5970,  34.4925,2,  34.4914,2,  35.4000,2,    35.4,2,  152.81,2,   43.92,2,    0.00,2,    3.11,2,   0.013,2,   0.007,2,   0.002,2,  -999.0,9,  -999.0,9,-999.000,9,-999.0000,9, -999.00,9, -999.00,9,  -999.0,9,  -999.0,-999.000,9,-999.000, -999.00,9, 1502.50,-999.0000,9,-999.0000,9,-999.0000,9,-999.0000,9,-999.0000,9,-999.0000,-999.000,-999.0000,9, -999.00
318M20040615,        P02,      73,          1,         15,         15,2,20040712,       0227,    30.0018,   172.6563,       5549,  1602.3,   2.4207,  34.5240,2,  34.5240,2,  42.0000,2,    42.6,2,  155.14,2,   43.51,2,    0.00,2,    3.08,2,   0.011,2,   0.005,2,   0.001,2,  -999.0,9,  2401.9,2,-999.000,9,-999.0000,9, -999.00,9, -999.00,9,  -999.0,9,  -999.0,-999.000,9,-999.000, -999.00,9, 1602.30,-999.0000,9,-999.0000,9,-999.0000,9,-999.0000,9,-999.0000,9,-999.0000,-999.000,-999.0000,9, -999.00
318M20040615,        P02,      73,          1,         14,         14,2,20040712,       0227,    30.0018,   172.6563,       5549,  1802.1,   2.1628,  34.5682,2,  34.5698,2,  58.7000,2,    58.7,2,  159.25,2,   42.45,2,    0.00,2,    3.00,2,-999.000,9,-999.000,9,-999.000,9,  -999.0,9,  -999.0,9,-999.000,9,-999.0000,9, -999.00,9, -999.00,9,  -999.0,9,  -999.0,-999.000,9,-999.000, -999.00,9, 1802.10,-999.0000,9,-999.0000,9,-999.0000,9,-999.0000,9,-999.0000,9,-999.0000,-999.000,-999.0000,9, -999.00
318M20040615,        P02,      73,          1,         13,         13,2,20040712,       0227,    30.0018,   172.6563,       5549,  2005.4,   1.9689,  34.5976,2,  34.5979,2,  74.3000,2,    73.6,2,  161.26,2,   41.45,2,    0.00,2,    2.92,2,   0.003,2,   0.003,2,   0.001,2,  -999.0,9,  2413.2,2,-999.000,9,-999.0000,9, -999.00,9, -999.00,9,  -999.0,9,  -999.0,-999.000,9,-999.000, -999.00,9, 2005.40,-999.0000,9,-999.0000,9,-999.0000,9,-999.0000,9,-999.0000,9,-999.0000,-999.000,-999.0000,9, -999.00
318M20040615,        P02,      73,          1,         12,         12,2,20040712,       0227,    30.0018,   172.6563,       5549,  2246.1,   1.8027,  34.6218,2,  34.6214,2,  90.8000,2,    90.3,2,  162.34,2,   40.45,2,    0.00,2,    2.84,2,-999.000,9,-999.000,9,-999.000,9,  -999.0,9,  -999.0,9,-999.000,9,-999.0000,9, -999.00,9, -999.00,9,  -999.0,9,  -999.0,-999.000,9,-999.000, -999.00,9, 2246.10,-999.0000,9,-999.0000,9,-999.0000,9,-999.0000,9,-999.0000,9,-999.0000,-999.000,-999.0000,9, -999.00
318M20040615,        P02,      73,          1,         11,         11,2,20040712,       0227,    30.0018,   172.6563,       5549,  2495.5,   1.6846,  34.6389,2,  34.6385,2, 105.2000,2,   103.8,2,  160.60,2,   39.40,2,    0.00,2,    2.77,2,   0.004,2,   0.005,2,  -0.001,2,  -999.0,9,  2418.0,2,-999.000,9,-999.0000,9, -999.00,9, -999.00,9,  -999.0,9,  -999.0,-999.000,9,-999.000, -999.00,9, 2495.50,-999.0000,9,-999.0000,9,-999.0000,9,-999.0000,9,-999.0000,9,-999.0000,-999.000,-999.0000,9, -999.00
318M20040615,        P02,      73,          1,         10,         10,2,20040712,       0227,    30.0018,   172.6563,       5549,  2747.1,   1.5973,  34.6531,2,  34.6523,2, 116.9000,2,   117.0,2,  158.84,2,   38.62,2,    0.00,2,    2.70,2,-999.000,9,-999.000,9,-999.000,9,  -999.0,9,  2419.6,2,-999.000,9,-999.0000,9, -999.00,9, -999.00,9,  -999.0,9,  -999.0,-999.000,9,-999.000, -999.00,9, 2747.10,-999.0000,9,-999.0000,9,-999.0000,9,-999.0000,9,-999.0000,9,-999.0000,-999.000,-999.0000,9, -999.00
318M20040615,        P02,      73,          1,          9,          9,2,20040712,       0227,    30.0018,   172.6563,       5549,  2998.8,   1.5433,  34.6630,2,  34.6625,2, 126.9000,2,   127.0,2,  156.39,2,   38.13,2,    0.00,2,    2.65,2,   0.002,2,   0.001,2,   0.002,2,  -999.0,9,  2419.4,6,-999.000,9,-999.0000,9, -999.00,9, -999.00,9,  -999.0,9,  -999.0,-999.000,9,-999.000, -999.00,9, 2998.80,-999.0000,9,-999.0000,9,-999.0000,9,-999.0000,9,-999.0000,9,-999.0000,-999.000,-999.0000,9, -999.00
318M20040615,        P02,      73,          1,          8,          8,2,20040712,       0227,    30.0018,   172.6563,       5549,  3402.9,   1.4858,  34.6736,2,  34.6731,2, 137.1000,2,   137.8,2,  154.11,2,   37.42,2,    0.00,2,    2.59,2,-999.000,9,-999.000,9,-999.000,9,  -999.0,9,  2419.8,2,-999.000,9,-999.0000,9, -999.00,9, -999.00,9,  -999.0,9,  -999.0,-999.000,9,-999.000, -999.00,9, 3402.90,-999.0000,9,-999.0000,9,-999.0000,9,-999.0000,9,-999.0000,9,-999.0000,-999.000,-999.0000,9, -999.00
318M20040615,        P02,      73,          1,          7,          7,2,20040712,       0227,    30.0018,   172.6563,       5549,  3807.9,   1.4613,  34.6807,2,  34.6802,2, 146.0000,2,   147.4,2,  151.88,2,   36.56,2,    0.00,2,    2.54,2,   0.003,2,   0.002,2,   0.000,2,  -999.0,9,  -999.0,9,-999.000,9,-999.0000,9, -999.00,9, -999.00,9,  -999.0,9,  -999.0,-999.000,9,-999.000, -999.00,9, 3807.90,-999.0000,9,-999.0000,9,-999.0000,9,-999.0000,9,-999.0000,9,-999.0000,-999.000,-999.0000,9, -999.00
318M20040615,        P02,      73,          1,          6,          6,2,20040712,       0227,    30.0018,   172.6563,       5549,  4110.0,   1.4544,  34.6849,2,  34.6833,2, 152.1000,2,   152.3,2,  149.40,2,   36.12,2,    0.00,2,    2.51,2,-999.000,9,-999.000,9,-999.000,9,  -999.0,9,  2416.1,2,-999.000,9,-999.0000,9, -999.00,9, -999.00,9,  -999.0,9,  -999.0,-999.000,9,-999.000, -999.00,9, 4110.00,-999.0000,9,-999.0000,9,-999.0000,9,-999.0000,9,-999.0000,9,-999.0000,-999.000,-999.0000,9, -999.00
318M20040615,        P02,      73,          1,          5,          5,2,20040712,       0227,    30.0018,   172.6563,       5549,  4381.6,   1.4545,  34.6879,2,  34.6977,2, 156.3000,3,   157.0,2,  147.66,2,   35.84,2,    0.00,2,    2.49,2,   0.007,2,   0.002,2,   0.002,2,  -999.0,9,  -999.0,9,-999.000,9,-999.0000,9, -999.00,9, -999.00,9,  -999.0,9,  -999.0,-999.000,9,-999.000, -999.00,9, 4381.60,-999.0000,9,-999.0000,9,-999.0000,9,-999.0000,9,-999.0000,9,-999.0000,-999.000,-999.0000,9, -999.00
318M20040615,        P02,      73,          1,          4,          4,2,20040712,       0227,    30.0018,   172.6563,       5549,  4690.2,   1.4548,  34.6912,2,  34.6898,2, 162.3000,2,   163.3,2,  144.13,2,   35.57,2,    0.00,2,    2.45,2,-999.000,9,-999.000,9,-999.000,9,  -999.0,9,  2411.1,2,-999.000,9,-999.0000,9, -999.00,9, -999.00,9,  -999.0,9,  -999.0,-999.000,9,-999.000, -999.00,9, 4690.20,-999.0000,9,-999.0000,9,-999.0000,9,-999.0000,9,-999.0000,9,-999.0000,-999.000,-999.0000,9, -999.00
318M20040615,        P02,      73,          1,          3,          3,2,20040712,       0227,    30.0018,   172.6563,       5549,  4999.8,   1.4619,  34.6937,2,  34.6922,2, 167.8000,2,   168.5,2,  139.53,2,   35.18,2,    0.00,2,    2.41,2,   0.005,2,   0.003,2,   0.000,2,  2310.0,2,  2407.9,2,-999.000,9,-999.0000,9, -999.00,9, -999.00,9,  -999.0,9,  -999.0,-999.000,9,-999.000, -999.00,9, 4999.80,-999.0000,9,-999.0000,9,-999.0000,9,-999.0000,9,-999.0000,9,-999.0000,-999.000,-999.0000,9, -999.00
318M20040615,        P02,      73,          1,          2,          2,2,20040712,       0227,    30.0018,   172.6563,       5549,  5348.1,   1.4742,  34.6961,2,  34.6950,2, 172.8000,2,   173.4,2,  135.82,2,   34.81,2,    0.00,2,    2.39,2,-999.000,9,-999.000,9,-999.000,9,  2303.5,2,  2403.5,2,-999.000,9,-999.0000,9, -999.00,9, -999.00,9,  -999.0,9,  -999.0,-999.000,9,-999.000, -999.00,9, 5348.10,-999.0000,9,-999.0000,9,-999.0000,9,-999.0000,9,-999.0000,9,-999.0000,-999.000,-999.0000,9, -999.00
318M20040615,        P02,      73,          1,          1,          1,2,20040712,       0227,    30.0018,   172.6563,       5549,  5680.7,   1.4903,  34.6981,2,  34.6973,2, 177.4000,2,   177.9,2,  132.47,2,   34.43,2,    0.00,2,    2.37,2,   0.008,2,   0.004,2,   0.004,2,  2299.3,2,  2400.2,6,-999.000,9,-999.0000,9, -999.00,9, -999.00,9,  -999.0,9,  -999.0,-999.000,9,-999.000, -999.00,9, 5680.70,-999.0000,9,-999.0000,9,-999.0000,9,-999.0000,9,-999.0000,9,-999.0000,-999.000,-999.0000,9, -999.00