BOTTLE,20131027SIOCCHRJL
EXPOCODE,SECT_ID,STNNBR,CASTNO,SAMPNO,BTLNBR,BTLNBR_FLAG_W,DATE,TIME,LATITUDE,LONGITUDE,DEPTH,CTDPRS,CTDTMP,CTDSAL,CTDSAL_FLAG_W,SALNTY,SALNTY_FLAG_W,CTDOXY,CTDOXY_FLAG_W,OXYGEN,OXYGEN_FLAG_W,SILCAT,SILCAT_FLAG_W,NITRAT,NITRAT_FLAG_W,NITRIT,NITRIT_FLAG_W,PHSPHT,PHSPHT_FLAG_W,CFC-11,CFC-11_FLAG_W,CFC-12,CFC-12_FLAG_W,CFC113,CFC113_FLAG_W,TCARBN,TCARBN_FLAG_W,ALKALI,ALKALI_FLAG_W,TRITUM,TRITUM_FLAG_W,HELIUM,HELIUM_FLAG_W,DELHE3,DELHE3_FLAG_W,DELC13,DELC13_FLAG_W,DELC14,DELC14_FLAG_W,C14ERR,NEON,NEON_FLAG_W,NEONER,DOC,DOC_FLAG_W,CTDRAW,CDOM380,CDOM380_FLAG_W,CDOM325,CDOM325_FLAG_W,CDOMSL,CDOMSL_FLAG_W,CDOM340,CDOM340_FLAG_W,CDOMSN,CDOMSN_FLAG_W,HELIER,TRITER,CDOM412,CDOM412_FLAG_W,DELHER
,,,,,,,,,,,METERS,DBAR,ITS-90,PSS-78,,PSS-78,,UMOL/KG,,UMOL/KG,,UMOL/KG,,UMOL/KG,,UMOL/KG,,UMOL/KG,,PMOL/KG,,PMOL/KG,,PMOL/KG,,UMOL/KG,,UMOL/KG,,TU,,NMOL/KG,,PERCNT,,/MILLE,,/MILLE,,/MILLE,NMOL/KG,,NMOL/KG,UMOL/KG,,DBAR,1/M,,1/M,,1/NM,,1/M,,1/NM,,NMOL/KG,TU,1/M,,PERCNT
318M20040615,        P02,     139,          2,         36,         36,2,20040814,       0029,     29.998,  -145.1392,       5216,     9.5,  25.0737,  35.1289,2,  35.1414,2, 213.5000,2,   213.0,2,    1.24,2,    0.17,2,    0.00,2,    0.02,2,   1.842,2,   1.122,2,   0.129,2,  2011.0,6,  2315.0,6,-999.000,9,-999.0000,9, -999.00,9, -999.00,9,  -999.0,9,  -999.0,-999.000,9,-999.000,   71.30,2,    9.50,-999.0000,9,-999.0000,9,-999.0000,9,-999.0000,9,-999.0000,9,-999.0000,-999.000,-999.0000,9, -999.00
318M20040615,        P02,     139,          2,         35,         35,2,20040814,       0029,     29.998,  -145.1392,       5216,    50.7,  20.7482,  34.7638,2,  34.7355,2, 243.7000,2,   242.6,2,    1.62,2,    0.06,2,    0.00,2,    0.04,2,   2.393,2,   1.350,2,   0.153,2,  2005.1,2,  2292.5,2,-999.000,9,-999.0000,9, -999.00,9, -999.00,9,  -999.0,9,  -999.0,-999.000,9,-999.000,   68.90,2,   50.70,-999.0000,9,-999.0000,9,-999.0000,9,-999.0000,9,-999.0000,9,-999.0000,-999.000,-999.0000,9, -999.00
318M20040615,        P02,     139,          2,         34,         34,2,20040814,       0029,     29.998,  -145.1392,       5216,   100.7,  17.9591,  34.6245,2,  34.6052,2, 236.8000,2,   235.6,2,    2.39,2,    0.00,2,    0.00,2,    0.13,2,   2.474,2,   1.458,2,   0.173,2,  2014.2,2,  2281.7,2,-999.000,9,-999.0000,9, -999.00,9, -999.00,9,  -999.0,9,  -999.0,-999.000,9,-999.000,   60.30,2,  100.70,-999.0000,9,-999.0000,9,-999.0000,9,-999.0000,9,-999.0000,9,-999.0000,-999.000,-999.0000,9, -999.00
318M20040615,        P02,     139,          2,         33,         33,2,20040814,       0029,     29.998,  -145.1392,       5216,   150.7,  14.6964,  34.2009,2,  34.2029,2, 224.0000,2,   224.6,2,    4.12,2,    3.22,2,    0.02,2,    0.34,2,   2.875,2,   1.635,2,   0.151,2,  2034.9,2,  2257.8,2,-999.000,9,-999.0000,9, -999.00,9, -999.00,9,  -999.0,9,  -999.0,-999.000,9,-999.000,   40.60,2,  150.70,-999.0000,9,-999.0000,9,-999.0000,9,-999.0000,9,-999.0000,9,-999.0000,-999.000,-999.0000,9, -999.00
318M20040615,        P02,     139,          2,         32,         32,2,20040814,       0029,     29.998,  -145.1392,       5216,   200.2,  11.8356,  33.9321,2,  33.9289,2, 221.0000,2,   223.0,2,    8.38,2,    8.73,2,    0.00,2,    0.70,2,-999.000,9,-999.000,9,-999.000,9,  2060.7,2,  2244.7,2,-999.000,9,-999.0000,9, -999.00,9, -999.00,9,  -999.0,9,  -999.0,-999.000,9,-999.000,   49.30,2,  200.20,-999.0000,9,-999.0000,9,-999.0000,9,-999.0000,9,-999.0000,9,-999.0000,-999.000,-999.0000,9, -999.00
318M20040615,        P02,     139,          2,         31,         31,2,20040814,       0029,     29.998,  -145.1392,       5216,   254.8,  10.6472,  34.0552,2,  34.0431,2, 215.5000,2,   218.0,2,   13.99,2,   13.29,2,    0.00,2,    0.98,2,   3.403,2,   1.849,2,   0.092,2,  2088.6,2,  2254.1,2,-999.000,9,-999.0000,9, -999.00,9, -999.00,9,  -999.0,9,  -999.0,-999.000,9,-999.000,   47.00,2,  254.80,-999.0000,9,-999.0000,9,-999.0000,9,-999.0000,9,-999.0000,9,-999.0000,-999.000,-999.0000,9, -999.00
318M20040615,        P02,     139,          2,         30,         30,2,20040814,       0029,     29.998,  -145.1392,       5216,   305.0,   9.6524,  34.0687,2,  34.0676,2, 203.3000,2,   206.2,2,   19.23,2,   16.51,2,    0.00,2,    1.18,2,   3.400,2,   1.783,2,   0.103,2,  2110.5,2,  2261.1,2,-999.000,9,-999.0000,9, -999.00,9, -999.00,9,  -999.0,9,  -999.0,-999.000,9,-999.000,   45.60,2,  305.00,-999.0000,9,-999.0000,9,-999.0000,9,-999.0000,9,-999.0000,9,-999.0000,-999.000,-999.0000,9, -999.00
318M20040615,        P02,     139,          2,         29,         29,2,20040814,       0029,     29.998,  -145.1392,       5216,   354.4,   9.0015,  34.1000,2,  34.0957,2, 186.2000,2,   185.3,2,   26.41,2,   20.12,2,    0.00,2,    1.42,2,   3.071,2,   1.608,2,   0.099,2,  2134.7,2,  2268.1,2,-999.000,9,-999.0000,9, -999.00,9, -999.00,9,  -999.0,9,  -999.0,-999.000,9,-999.000, -999.00,9,  354.40,-999.0000,9,-999.0000,9,-999.0000,9,-999.0000,9,-999.0000,9,-999.0000,-999.000,-999.0000,9, -999.00
318M20040615,        P02,     139,          2,         28,         28,2,20040814,       0029,     29.998,  -145.1392,       5216,   404.6,   7.9496,  34.0428,2,  34.0426,2, 160.0000,2,   158.1,2,   35.56,2,   24.75,2,    0.00,2,    1.74,2,-999.000,9,-999.000,9,-999.000,9,  2167.6,2,  2272.7,2,-999.000,9,-999.0000,9, -999.00,9, -999.00,9,  -999.0,9,  -999.0,-999.000,9,-999.000,   44.80,2,  404.60,-999.0000,9,-999.0000,9,-999.0000,9,-999.0000,9,-999.0000,9,-999.0000,-999.000,-999.0000,9, -999.00
318M20040615,        P02,     139,          2,         27,         27,2,20040814,       0029,     29.998,  -145.1392,       5216,   454.6,   6.8514,  34.0086,2,  34.0083,2, 134.2000,2,   128.8,2,   47.67,2,   29.79,2,    0.00,2,    2.09,2,   4.127,4,   1.904,4,   0.150,4,  2205.2,2,  2280.3,2,-999.000,9,-999.0000,9, -999.00,9, -999.00,9,  -999.0,9,  -999.0,-999.000,9,-999.000, -999.00,9,  454.60,-999.0000,9,-999.0000,9,-999.0000,9,-999.0000,9,-999.0000,9,-999.0000,-999.000,-999.0000,9, -999.00
318M20040615,        P02,     139,          2,         26,         26,2,20040814,       0029,     29.998,  -145.1392,       5216,   503.5,   5.9916,  34.0053,2,  34.0052,2, 109.3000,2,    99.4,2,   59.62,2,   34.17,2,    0.00,2,    2.42,2,-999.000,9,-999.000,9,-999.000,9,  2238.4,2,  2289.7,2,-999.000,9,-999.0000,9, -999.00,9, -999.00,9,  -999.0,9,  -999.0,-999.000,9,-999.000,   43.80,2,  503.50,-999.0000,9,-999.0000,9,-999.0000,9,-999.0000,9,-999.0000,9,-999.0000,-999.000,-999.0000,9, -999.00
318M20040615,        P02,     139,          2,         25,         25,2,20040814,       0029,     29.998,  -145.1392,       5216,   602.8,   5.0316,  34.0493,2,  34.0493,2,  65.8000,2,    65.7,2,   78.90,2,   38.76,2,    0.00,2,    2.75,2,   1.375,2,   0.683,2,   0.018,2,  2279.1,2,  2305.8,2,-999.000,9,-999.0000,9, -999.00,9, -999.00,9,  -999.0,9,  -999.0,-999.000,9,-999.000,   43.60,2,  602.80,-999.0000,9,-999.0000,9,-999.0000,9,-999.0000,9,-999.0000,9,-999.0000,-999.000,-999.0000,9, -999.00
318M20040615,        P02,     139,          2,         24,         24,2,20040814,       0029,     29.998,  -145.1392,       5216,   701.4,   4.4749,  34.1509,2,  34.1522,2,  31.2000,2,    29.9,2,   96.70,2,   42.35,2,    0.00,2,    3.02,2,-999.000,9,-999.000,9,-999.000,9,  2318.3,2,  2325.4,2,-999.000,9,-999.0000,9, -999.00,9, -999.00,9,  -999.0,9,  -999.0,-999.000,9,-999.000,   39.70,2,  701.40,-999.0000,9,-999.0000,9,-999.0000,9,-999.0000,9,-999.0000,9,-999.0000,-999.000,-999.0000,9, -999.00
318M20040615,        P02,     139,          2,         23,         23,2,20040814,       0029,     29.998,  -145.1392,       5216,   809.0,   4.1359,  34.2830,2,  34.2836,2,  13.1000,2,    12.1,2,  110.99,2,   43.81,2,    0.00,2,    3.18,2,   0.033,2,   0.016,2,   0.000,2,  2346.0,2,  2347.7,2,-999.000,9,-999.0000,9, -999.00,9, -999.00,9,  -999.0,9,  -999.0,-999.000,9,-999.000,   41.70,2,  809.00,-999.0000,9,-999.0000,9,-999.0000,9,-999.0000,9,-999.0000,9,-999.0000,-999.000,-999.0000,9, -999.00
318M20040615,        P02,     139,          2,         22,         22,2,20040814,       0029,     29.998,  -145.1392,       5216,   904.3,   3.8238,  34.3638,2,  34.3615,2,  13.5000,2,    13.4,2,  119.55,2,   44.07,2,    0.00,2,    3.20,2,   0.012,2,   0.006,2,   0.000,2,  2357.2,2,  2363.4,2,-999.000,9,-999.0000,9, -999.00,9, -999.00,9,  -999.0,9,  -999.0,-999.000,9,-999.000, -999.00,9,  904.30,-999.0000,9,-999.0000,9,-999.0000,9,-999.0000,9,-999.0000,9,-999.0000,-999.000,-999.0000,9, -999.00
318M20040615,        P02,     139,          2,         21,         21,2,20040814,       0029,     29.998,  -145.1392,       5216,  1009.9,   3.6291,  34.4203,2,  34.4215,2,  18.6000,2,    19.7,2,  125.31,2,   43.95,2,    0.00,2,    3.18,2,   0.010,6,   0.008,6,   0.000,6,  2362.1,6,  2372.8,2,-999.000,9,-999.0000,9, -999.00,9, -999.00,9,  -999.0,9,  -999.0,-999.000,9,-999.000,   36.40,2, 1009.90,-999.0000,9,-999.0000,9,-999.0000,9,-999.0000,9,-999.0000,9,-999.0000,-999.000,-999.0000,9, -999.00
318M20040615,        P02,     139,          2,         20,         20,2,20040814,       0029,     29.998,  -145.1392,       5216,  1110.3,   3.3693,  34.4687,2,  34.4673,2,  26.8000,2,    27.6,2,  130.73,2,   43.57,2,    0.00,2,    3.15,2,   0.004,2,   0.000,2,   0.000,2,  2365.5,2,  2383.2,2,-999.000,9,-999.0000,9, -999.00,9, -999.00,9,  -999.0,9,  -999.0,-999.000,9,-999.000, -999.00,9, 1110.30,-999.0000,9,-999.0000,9,-999.0000,9,-999.0000,9,-999.0000,9,-999.0000,-999.000,-999.0000,9, -999.00
318M20040615,        P02,     139,          2,         19,         19,2,20040814,       0029,     29.998,  -145.1392,       5216,  1215.7,   3.1662,  34.5026,2,  34.5028,2,  35.4000,2,    36.1,2,  134.93,2,   43.07,2,    0.00,2,    3.10,2,   0.003,2,   0.005,2,   0.000,2,  2365.4,2,  2389.4,2,-999.000,9,-999.0000,9, -999.00,9, -999.00,9,  -999.0,9,  -999.0,-999.000,9,-999.000,   36.60,2, 1215.70,-999.0000,9,-999.0000,9,-999.0000,9,-999.0000,9,-999.0000,9,-999.0000,-999.000,-999.0000,9, -999.00
318M20040615,        P02,     139,          2,         18,         18,2,20040814,       0029,     29.998,  -145.1392,       5216,  1315.5,   2.9942,  34.5281,2,  34.5280,2,  41.7000,2,    42.1,2,  139.34,2,   42.73,2,    0.00,2,    3.08,2,-999.000,9,-999.000,9,-999.000,9,  2367.2,2,  2397.0,6,-999.000,9,-999.0000,9, -999.00,9, -999.00,9,  -999.0,9,  -999.0,-999.000,9,-999.000, -999.00,9, 1315.50,-999.0000,9,-999.0000,9,-999.0000,9,-999.0000,9,-999.0000,9,-999.0000,-999.000,-999.0000,9, -999.00
318M20040615,        P02,     139,          2,         17,         17,2,20040814,       0029,     29.998,  -145.1392,       5216,  1416.2,   2.7781,  34.5499,2,  34.5500,2,  50.9000,2,    51.0,2,  143.74,2,   42.45,2,    0.00,2,    3.04,2,   0.000,2,  -0.001,2,   0.000,2,  2366.9,2,  2401.2,2,-999.000,9,-999.0000,9, -999.00,9, -999.00,9,  -999.0,9,  -999.0,-999.000,9,-999.000, -999.00,9, 1416.20,-999.0000,9,-999.0000,9,-999.0000,9,-999.0000,9,-999.0000,9,-999.0000,-999.000,-999.0000,9, -999.00
318M20040615,        P02,     139,          2,         16,         16,2,20040814,       0029,     29.998,  -145.1392,       5216,  1516.2,   2.6252,  34.5650,2,  34.5653,2,  55.9000,2,    56.8,2,  146.94,2,   42.33,2,    0.00,2,    3.00,2,-999.000,9,-999.000,9,-999.000,9,  2368.0,2,  2405.4,2,-999.000,9,-999.0000,9, -999.00,9, -999.00,9,  -999.0,9,  -999.0,-999.000,9,-999.000,   37.10,2, 1516.20,-999.0000,9,-999.0000,9,-999.0000,9,-999.0000,9,-999.0000,9,-999.0000,-999.000,-999.0000,9, -999.00
318M20040615,        P02,     139,          2,         15,         15,2,20040814,       0029,     29.998,  -145.1392,       5216,  1621.5,   2.4496,  34.5801,2,  34.5794,2,  60.9000,2,    62.0,2,  152.17,2,   42.27,2,    0.00,2,    2.97,2,   0.003,2,   0.004,2,   0.000,2,  2369.6,2,  2410.9,2,-999.000,9,-999.0000,9, -999.00,9, -999.00,9,  -999.0,9,  -999.0,-999.000,9,-999.000, -999.00,9, 1621.50,-999.0000,9,-999.0000,9,-999.0000,9,-999.0000,9,-999.0000,9,-999.0000,-999.000,-999.0000,9, -999.00
318M20040615,        P02,     139,          2,         14,         14,2,20040814,       0029,     29.998,  -145.1392,       5216,  1721.9,   2.3453,  34.5896,2,  34.5891,2,  66.3000,2,    66.2,2,  154.77,2,   41.88,2,    0.00,2,    2.95,2,-999.000,9,-999.000,9,-999.000,9,  2368.1,2,  2412.3,2,-999.000,9,-999.0000,9, -999.00,9, -999.00,9,  -999.0,9,  -999.0,-999.000,9,-999.000,   37.50,2, 1721.90,-999.0000,9,-999.0000,9,-999.0000,9,-999.0000,9,-999.0000,9,-999.0000,-999.000,-999.0000,9, -999.00
318M20040615,        P02,     139,          2,         13,         13,2,20040814,       0029,     29.998,  -145.1392,       5216,  1923.3,   2.1031,  34.6106,2,  34.6111,2,  75.2000,2,    75.8,2,  161.41,2,   41.11,2,    0.00,2,    2.90,2,   0.001,2,   0.000,2,   0.000,2,  2369.0,2,  2417.8,2,-999.000,9,-999.0000,9, -999.00,9, -999.00,9,  -999.0,9,  -999.0,-999.000,9,-999.000,   37.00,2, 1923.30,-999.0000,9,-999.0000,9,-999.0000,9,-999.0000,9,-999.0000,9,-999.0000,-999.000,-999.0000,9, -999.00
318M20040615,        P02,     139,          2,         12,         12,2,20040814,       0029,     29.998,  -145.1392,       5216,  2230.2,   1.8578,  34.6338,2,  34.6339,2,  87.7000,2,    88.9,2,  167.46,2,   40.23,2,    0.00,2,    2.83,2,  -0.001,2,   0.001,2,   0.000,2,  2366.7,2,  2426.6,2,-999.000,9,-999.0000,9, -999.00,9, -999.00,9,  -999.0,9,  -999.0,-999.000,9,-999.000,   38.10,2, 2230.20,-999.0000,9,-999.0000,9,-999.0000,9,-999.0000,9,-999.0000,9,-999.0000,-999.000,-999.0000,9, -999.00
318M20040615,        P02,     139,          2,         11,         11,2,20040814,       0029,     29.998,  -145.1392,       5216,  2537.4,   1.6980,  34.6494,2,  34.6492,2, 101.5000,2,   101.4,2,  169.27,2,   39.35,2,    0.00,2,    2.76,2,   0.001,2,   0.000,2,   0.000,2,  2361.3,2,  2429.1,2,-999.000,9,-999.0000,9, -999.00,9, -999.00,9,  -999.0,9,  -999.0,-999.000,9,-999.000, -999.00,9, 2537.40,-999.0000,9,-999.0000,9,-999.0000,9,-999.0000,9,-999.0000,9,-999.0000,-999.000,-999.0000,9, -999.00
318M20040615,        P02,     139,          2,         10,         10,2,20040814,       0029,     29.998,  -145.1392,       5216,  2840.2,   1.5918,  34.6613,2,  34.6598,2, 112.8000,2,   113.5,2,  169.28,2,   38.54,2,    0.00,2,    2.70,2,-999.000,9,-999.000,9,-999.000,9,  2355.8,2,  2430.9,2,-999.000,9,-999.0000,9, -999.00,9, -999.00,9,  -999.0,9,  -999.0,-999.000,9,-999.000,   36.20,2, 2840.20,-999.0000,9,-999.0000,9,-999.0000,9,-999.0000,9,-999.0000,9,-999.0000,-999.000,-999.0000,9, -999.00
318M20040615,        P02,     139,          2,          9,          9,2,20040814,       0029,     29.998,  -145.1392,       5216,  3148.3,   1.5202,  34.6709,2,  34.6699,2, 124.8000,2,   124.7,2,  166.64,2,   37.83,2,    0.00,2,    2.64,2,   0.001,2,  -0.001,2,   0.000,2,  2348.8,2,  2431.0,2,-999.000,9,-999.0000,9, -999.00,9, -999.00,9,  -999.0,9,  -999.0,-999.000,9,-999.000,   38.20,2, 3148.30,-999.0000,9,-999.0000,9,-999.0000,9,-999.0000,9,-999.0000,9,-999.0000,-999.000,-999.0000,9, -999.00
318M20040615,        P02,     139,          2,          8,          8,2,20040814,       0029,     29.998,  -145.1392,       5216,  3452.4,   1.4729,  34.6788,2,  34.6782,2, 133.9000,2,   135.4,2,  163.41,2,   37.06,2,    0.00,2,    2.58,2,-999.000,9,-999.000,9,-999.000,9,  2339.5,2,  2428.6,2,-999.000,9,-999.0000,9, -999.00,9, -999.00,9,  -999.0,9,  -999.0,-999.000,9,-999.000, -999.00,9, 3452.40,-999.0000,9,-999.0000,9,-999.0000,9,-999.0000,9,-999.0000,9,-999.0000,-999.000,-999.0000,9, -999.00
318M20040615,        P02,     139,          2,          7,          7,2,20040814,       0029,     29.998,  -145.1392,       5216,  3756.8,   1.4662,  34.6830,2,  34.6829,2, 141.1000,2,   140.8,2,  160.98,2,   36.84,2,    0.00,2,    2.55,2,   0.004,2,   0.004,2,   0.000,2,  2336.8,2,  2429.4,2,-999.000,9,-999.0000,9, -999.00,9, -999.00,9,  -999.0,9,  -999.0,-999.000,9,-999.000,   37.00,2, 3756.80,-999.0000,9,-999.0000,9,-999.0000,9,-999.0000,9,-999.0000,9,-999.0000,-999.000,-999.0000,9, -999.00
318M20040615,        P02,     139,          2,          6,          6,2,20040814,       0029,     29.998,  -145.1392,       5216,  4067.2,   1.4739,  34.6858,2,  34.6856,2, 145.3000,2,   145.8,2,  158.55,2,   36.78,2,    0.00,2,    2.52,2,   0.003,2,   0.002,2,   0.000,2,  2333.3,2,  2428.8,2,-999.000,9,-999.0000,9, -999.00,9, -999.00,9,  -999.0,9,  -999.0,-999.000,9,-999.000,   36.90,2, 4067.20,-999.0000,9,-999.0000,9,-999.0000,9,-999.0000,9,-999.0000,9,-999.0000,-999.000,-999.0000,9, -999.00
318M20040615,        P02,     139,          2,          5,          5,2,20040814,       0029,     29.998,  -145.1392,       5216,  4376.9,   1.4881,  34.6879,2,  34.6876,2, 149.5000,2,   150.0,2,  155.72,2,   36.66,2,    0.00,2,    2.50,2,   0.006,2,   0.004,2,   0.000,2,  2329.6,2,  2427.2,2,-999.000,9,-999.0000,9, -999.00,9, -999.00,9,  -999.0,9,  -999.0,-999.000,9,-999.000, -999.00,9, 4376.90,-999.0000,9,-999.0000,9,-999.0000,9,-999.0000,9,-999.0000,9,-999.0000,-999.000,-999.0000,9, -999.00
318M20040615,        P02,     139,          2,          4,          4,2,20040814,       0029,     29.998,  -145.1392,       5216,  4682.4,   1.5102,  34.6893,2,  34.6892,2, 152.6000,2,   152.8,2,  153.09,2,   36.34,2,    0.00,2,    2.49,2,   0.012,2,   0.011,2,   0.000,2,  2327.2,2,  2424.9,2,-999.000,9,-999.0000,9, -999.00,9, -999.00,9,  -999.0,9,  -999.0,-999.000,9,-999.000, -999.00,9, 4682.40,-999.0000,9,-999.0000,9,-999.0000,9,-999.0000,9,-999.0000,9,-999.0000,-999.000,-999.0000,9, -999.00
318M20040615,        P02,     139,          2,          3,          3,2,20040814,       0029,     29.998,  -145.1392,       5216,  4890.3,   1.5282,  34.6900,2,  34.6900,2, 154.0000,2,   154.2,2,  151.66,2,   36.11,2,    0.00,2,    2.48,2,   0.006,2,   0.006,2,   0.000,2,  2326.6,2,  2425.0,2,-999.000,9,-999.0000,9, -999.00,9, -999.00,9,  -999.0,9,  -999.0,-999.000,9,-999.000,   36.40,2, 4890.30,-999.0000,9,-999.0000,9,-999.0000,9,-999.0000,9,-999.0000,9,-999.0000,-999.000,-999.0000,9, -999.00
318M20040615,        P02,     139,          2,          2,          2,2,20040814,       0029,     29.998,  -145.1392,       5216,  5099.5,   1.5486,  34.6903,2,  34.6906,2, 154.8000,2,   155.3,2,  150.65,2,   35.94,2,    0.00,2,    2.47,2,   0.010,2,   0.008,2,   0.000,2,  2325.9,2,  2424.4,2,-999.000,9,-999.0000,9, -999.00,9, -999.00,9,  -999.0,9,  -999.0,-999.000,9,-999.000,   38.10,2, 5099.50,-999.0000,9,-999.0000,9,-999.0000,9,-999.0000,9,-999.0000,9,-999.0000,-999.000,-999.0000,9, -999.00
318M20040615,        P02,     139,          2,          1,          1,2,20040814,       0029,     29.998,  -145.1392,       5216,  5319.9,   1.5767,  34.6902,2,  34.6908,2, 155.0000,2,   155.7,2,  150.44,2,   35.88,2,    0.00,2,    2.48,2,   0.012,2,   0.008,2,   0.000,2,  2324.6,6,  2423.4,6,-999.000,9,-999.0000,9, -999.00,9, -999.00,9,  -999.0,9,  -999.0,-999.000,9,-999.000, -999.00,9, 5319.90,-999.0000,9,-999.0000,9,-999.0000,9,-999.0000,9,-999.0000,9,-999.0000,-999.000,-999.0000,9, -999.00