BOTTLE,20131027SIOCCHRJL
EXPOCODE,SECT_ID,STNNBR,CASTNO,SAMPNO,BTLNBR,BTLNBR_FLAG_W,DATE,TIME,LATITUDE,LONGITUDE,DEPTH,CTDPRS,CTDTMP,CTDSAL,CTDSAL_FLAG_W,SALNTY,SALNTY_FLAG_W,CTDOXY,CTDOXY_FLAG_W,OXYGEN,OXYGEN_FLAG_W,SILCAT,SILCAT_FLAG_W,NITRAT,NITRAT_FLAG_W,NITRIT,NITRIT_FLAG_W,PHSPHT,PHSPHT_FLAG_W,CFC-11,CFC-11_FLAG_W,CFC-12,CFC-12_FLAG_W,CFC113,CFC113_FLAG_W,TCARBN,TCARBN_FLAG_W,ALKALI,ALKALI_FLAG_W,TRITUM,TRITUM_FLAG_W,HELIUM,HELIUM_FLAG_W,DELHE3,DELHE3_FLAG_W,DELC13,DELC13_FLAG_W,DELC14,DELC14_FLAG_W,C14ERR,NEON,NEON_FLAG_W,NEONER,DOC,DOC_FLAG_W,CTDRAW,CDOM380,CDOM380_FLAG_W,CDOM325,CDOM325_FLAG_W,CDOMSL,CDOMSL_FLAG_W,CDOM340,CDOM340_FLAG_W,CDOMSN,CDOMSN_FLAG_W,HELIER,TRITER,CDOM412,CDOM412_FLAG_W,DELHER
,,,,,,,,,,,METERS,DBAR,ITS-90,PSS-78,,PSS-78,,UMOL/KG,,UMOL/KG,,UMOL/KG,,UMOL/KG,,UMOL/KG,,UMOL/KG,,PMOL/KG,,PMOL/KG,,PMOL/KG,,UMOL/KG,,UMOL/KG,,TU,,NMOL/KG,,PERCNT,,/MILLE,,/MILLE,,/MILLE,NMOL/KG,,NMOL/KG,UMOL/KG,,DBAR,1/M,,1/M,,1/NM,,1/M,,1/NM,,NMOL/KG,TU,1/M,,PERCNT
318M20040615,        P02,     133,          2,         36,         36,2,20040812,       0230,    29.9993,  -149.6555,       5692,    11.7,  25.0776,  34.9242,2,  34.9264,2, 213.4000,2,   213.7,2,    1.83,2,    0.17,2,    0.00,2,    0.02,2,   1.848,2,   1.150,2,   0.155,2,  2006.9,6,  2301.5,6,-999.000,9,-999.0000,9, -999.00,9,    1.20,2,    80.1,2,     3.9,-999.000,9,-999.000,   71.70,2,   11.70,   0.0380,2,   0.1130,2,   0.0190,2,   0.0760,2,   0.0210,2,-999.0000,-999.000,   0.0250,2, -999.00
318M20040615,        P02,     133,          2,         35,         35,2,20040812,       0230,    29.9993,  -149.6555,       5692,    51.5,  19.3207,  34.5312,2,  34.5285,2, 254.8000,2,   254.2,2,    2.41,2,    0.17,2,    0.00,2,    0.03,2,   2.529,2,   1.503,2,   0.166,2,  1997.4,2,  2273.9,2,-999.000,9,-999.0000,9, -999.00,9,    1.27,2,    79.5,2,     4.1,-999.000,9,-999.000,   66.40,2,   51.50,   0.0350,2,   0.1260,2,   0.0230,2,   0.0840,2,   0.0240,2,-999.0000,-999.000,   0.0210,2, -999.00
318M20040615,        P02,     133,          2,         34,         34,2,20040812,       0230,    29.9993,  -149.6555,       5692,   100.9,  15.8847,  34.3068,2,  34.3048,2, 243.6000,2,   245.0,2,    2.98,2,    0.17,2,    0.00,2,    0.13,2,   2.775,2,   1.610,2,   0.193,2,  2012.9,2,  2261.4,2,-999.000,9,-999.0000,9, -999.00,9,    1.11,2,    71.7,2,     4.0,-999.000,9,-999.000,   59.60,2,  100.90,   0.0500,2,   0.1490,2,   0.0170,2,   0.1060,2,   0.0190,2,-999.0000,-999.000,   0.0340,2, -999.00
318M20040615,        P02,     133,          2,         33,         33,2,20040812,       0230,    29.9993,  -149.6555,       5692,   151.0,  12.9717,  34.0719,2,  34.0838,2, 223.3000,2,   225.2,2,    6.28,2,    6.43,2,    0.01,2,    0.55,2,   3.177,2,   1.792,2,   0.139,2,  2048.6,2,  2250.8,2,-999.000,9,-999.0000,9, -999.00,9, -999.00,5,  -999.0,5,  -999.0,-999.000,9,-999.000,   50.70,2,  151.00,   0.0490,2,   0.1340,2,   0.0150,2,   0.0980,2,   0.0170,2,-999.0000,-999.000,   0.0350,2, -999.00
318M20040615,        P02,     133,          2,         32,         32,2,20040812,       0230,    29.9993,  -149.6555,       5692,   200.4,  11.2693,  33.9654,2,  33.9654,2, 223.1000,2,   223.3,2,    9.78,2,   10.38,2,    0.01,2,    0.79,2,   3.405,2,   1.910,2,   0.110,2,  2069.1,2,  2247.8,2,-999.000,9,-999.0000,9, -999.00,9,    0.66,2,    62.3,2,     3.7,-999.000,9,-999.000,   50.50,2,  200.40,-999.0000,9,-999.0000,9,-999.0000,9,-999.0000,9,-999.0000,9,-999.0000,-999.000,-999.0000,9, -999.00
318M20040615,        P02,     133,          2,         31,         31,2,20040812,       0230,    29.9993,  -149.6555,       5692,   250.6,  10.4526,  34.0407,2,  34.0432,2, 216.7000,2,   217.9,2,   14.05,2,   13.63,2,    0.01,2,    0.99,2,   3.462,2,   1.900,2,   0.099,2,  2090.8,2,  2255.7,2,-999.000,9,-999.0000,9, -999.00,9,    0.57,2,    60.2,2,     3.8,-999.000,9,-999.000,   48.70,2,  250.60,   0.0420,2,   0.1200,2,   0.0170,2,   0.0840,2,   0.0190,2,-999.0000,-999.000,   0.0290,2, -999.00
318M20040615,        P02,     133,          2,         30,         30,2,20040812,       0230,    29.9993,  -149.6555,       5692,   300.2,   9.9919,  34.1268,2,  34.1274,2, 212.1000,2,   213.3,2,   18.13,2,   15.60,2,    0.00,2,    1.11,2,   3.356,2,   1.797,2,   0.103,2,  2104.0,2,  2263.0,2,-999.000,9,-999.0000,9, -999.00,9,    0.41,2,    45.9,2,     3.9,-999.000,9,-999.000,   46.10,2,  300.20,   0.0360,2,   0.1120,2,   0.0200,2,   0.0770,2,   0.0210,2,-999.0000,-999.000,   0.0240,2, -999.00
318M20040615,        P02,     133,          2,         29,         29,2,20040812,       0230,    29.9993,  -149.6555,       5692,   350.1,   9.3367,  34.1087,2,  34.1053,2, 199.9000,2,   196.8,2,   23.58,2,   18.71,2,    0.00,2,    1.31,2,   3.250,2,   1.723,2,   0.097,2,  2127.3,2,  2268.0,2,-999.000,9,-999.0000,9, -999.00,9,    0.29,2,    42.4,2,     3.9,-999.000,9,-999.000, -999.00,9,  350.10,   0.0540,2,   0.1450,2,   0.0150,2,   0.1040,2,   0.0170,2,-999.0000,-999.000,   0.0380,2, -999.00
318M20040615,        P02,     133,          2,         28,         28,2,20040812,       0230,    29.9993,  -149.6555,       5692,   404.4,   8.4555,  34.0749,2,  34.0753,2, 176.7000,2,   177.3,2,   31.20,2,   22.47,2,    0.00,2,    1.55,2,-999.000,9,-999.000,9,-999.000,9,  2151.8,2,  2268.4,6,-999.000,9,-999.0000,9, -999.00,9,    0.21,2,    26.2,2,     4.6,-999.000,9,-999.000,   44.90,2,  404.40,   0.0600,2,   0.1580,2,   0.0140,2,   0.1130,2,   0.0160,2,-999.0000,-999.000,   0.0430,2, -999.00
318M20040615,        P02,     133,          2,         27,         27,2,20040812,       0230,    29.9993,  -149.6555,       5692,   454.4,   7.5417,  34.0330,2,  34.0316,2, 152.8000,2,   153.2,2,   41.18,2,   26.72,2,    0.00,2,    1.85,2,   2.648,2,   1.345,2,   0.109,2,  2182.0,2,  2276.0,2,-999.000,9,-999.0000,9, -999.00,9, -999.00,9,  -999.0,9,  -999.0,-999.000,9,-999.000, -999.00,9,  454.40,-999.0000,9,-999.0000,9,-999.0000,9,-999.0000,9,-999.0000,9,-999.0000,-999.000,-999.0000,9, -999.00
318M20040615,        P02,     133,          2,         26,         26,2,20040812,       0230,    29.9993,  -149.6555,       5692,   504.6,   6.5285,  34.0003,2,  34.0008,2, 122.9000,2,   129.0,2,   52.17,2,   30.85,2,    0.00,2,    2.16,2,-999.000,9,-999.000,9,-999.000,9,  2212.6,2,  2282.8,2,-999.000,9,-999.0000,9, -999.00,9,   -0.06,2,   -24.3,2,     3.5,-999.000,9,-999.000,   44.30,2,  504.60,   0.0720,2,   0.1860,2,   0.0140,2,   0.1350,2,   0.0160,2,-999.0000,-999.000,   0.0500,2, -999.00
318M20040615,        P02,     133,          2,         25,         25,2,20040812,       0230,    29.9993,  -149.6555,       5692,   604.4,   5.2134,  34.0237,2,  34.0235,2,  75.4000,2,    79.8,2,   74.03,2,   37.32,2,    0.00,2,    2.65,2,   1.033,2,   0.519,2,   0.030,2,  2268.2,2,  2302.1,2,-999.000,9,-999.0000,9, -999.00,9,   -0.35,2,   -74.1,2,     5.5,-999.000,9,-999.000,   40.60,2,  604.40,-999.0000,9,-999.0000,9,-999.0000,9,-999.0000,9,-999.0000,9,-999.0000,-999.000,-999.0000,9, -999.00
318M20040615,        P02,     133,          2,         24,         24,2,20040812,       0230,    29.9993,  -149.6555,       5692,   704.2,   4.4216,  34.1330,2,  34.1342,2,  32.3000,2,    34.1,2,   96.24,2,   42.13,2,    0.00,2,    3.00,2,-999.000,9,-999.000,9,-999.000,9,  2320.0,2,  2325.8,2,-999.000,9,-999.0000,9, -999.00,9,   -0.44,2,  -140.5,2,     3.6,-999.000,9,-999.000,   39.20,2,  704.20,   0.0780,2,   0.1960,2,   0.0130,2,   0.1410,2,   0.0150,2,-999.0000,-999.000,   0.0580,2, -999.00
318M20040615,        P02,     133,          2,         23,         23,2,20040812,       0230,    29.9993,  -149.6555,       5692,   804.5,   4.0229,  34.2371,2,  34.2408,2,  16.7000,2,    15.5,2,  111.97,2,   43.93,2,    0.00,2,    3.16,2,   0.042,2,   0.024,2,   0.000,2,  2348.9,2,  2345.2,2,-999.000,9,-999.0000,9, -999.00,9,   -0.52,2,  -166.3,2,     3.7,-999.000,9,-999.000, -999.00,9,  804.50,-999.0000,9,-999.0000,9,-999.0000,9,-999.0000,9,-999.0000,9,-999.0000,-999.000,-999.0000,9, -999.00
318M20040615,        P02,     133,          2,         22,         22,2,20040812,       0230,    29.9993,  -149.6555,       5692,   909.8,   3.7509,  34.3261,2,  34.3263,2,  12.3000,2,    11.9,2,  121.55,2,   44.30,2,    0.00,2,    3.21,2,   0.012,2,   0.005,2,   0.000,2,  2361.0,2,  2360.6,2,-999.000,9,-999.0000,9, -999.00,9, -999.00,9,  -999.0,9,  -999.0,-999.000,9,-999.000,   38.40,2,  909.80,   0.1060,2,   0.2490,2,   0.0120,2,   0.1790,2,   0.0130,2,-999.0000,-999.000,   0.0830,2, -999.00
318M20040615,        P02,     133,          2,         21,         21,2,20040812,       0230,    29.9993,  -149.6555,       5692,  1009.9,   3.5354,  34.3999,2,  34.3989,2,  15.7000,2,    16.5,2,  127.74,2,   44.24,2,    0.00,2,    3.21,2,   0.012,2,   0.007,2,   0.000,2,  2368.1,2,  2372.3,2,-999.000,9,-999.0000,9, -999.00,9,   -0.43,2,  -203.0,2,     2.7,-999.000,9,-999.000,   45.60,4, 1009.90,-999.0000,9,-999.0000,9,-999.0000,9,-999.0000,9,-999.0000,9,-999.0000,-999.000,-999.0000,9, -999.00
318M20040615,        P02,     133,          2,         20,         20,2,20040812,       0230,    29.9993,  -149.6555,       5692,  1110.2,   3.3794,  34.4559,2,  34.4562,2,  23.0000,2,    22.9,2,  132.14,2,   44.13,2,    0.00,2,    3.19,2,-999.000,9,-999.000,9,-999.000,9,  2369.1,2,  2380.6,2,-999.000,9,-999.0000,9, -999.00,9, -999.00,9,  -999.0,9,  -999.0,-999.000,9,-999.000, -999.00,9, 1110.20,   0.0900,2,   0.2150,2,   0.0130,2,   0.1550,2,   0.0140,2,-999.0000,-999.000,   0.0680,2, -999.00
318M20040615,        P02,     133,          2,         19,         19,2,20040812,       0230,    29.9993,  -149.6555,       5692,  1210.7,   3.1425,  34.4962,2,  34.4971,2,  32.2000,2,    33.1,2,  136.93,2,   44.07,2,    0.00,2,    3.14,2,   0.004,2,   0.003,2,   0.000,2,  2371.2,2,  2391.6,2,-999.000,9,-999.0000,9, -999.00,9,   -0.37,2,  -222.9,2,     3.4,-999.000,9,-999.000,   37.30,2, 1210.70,-999.0000,9,-999.0000,9,-999.0000,9,-999.0000,9,-999.0000,9,-999.0000,-999.000,-999.0000,9, -999.00
318M20040615,        P02,     133,          2,         18,         18,2,20040812,       0230,    29.9993,  -149.6555,       5692,  1315.4,   2.9289,  34.5240,2,  34.5241,2,  40.8000,2,    41.9,2,  141.53,2,   43.79,2,    0.00,2,    3.09,2,-999.000,9,-999.000,9,-999.000,9,  2369.4,2,  2396.9,6,-999.000,9,-999.0000,9, -999.00,9, -999.00,9,  -999.0,9,  -999.0,-999.000,9,-999.000, -999.00,9, 1315.40,-999.0000,9,-999.0000,9,-999.0000,9,-999.0000,9,-999.0000,9,-999.0000,-999.000,-999.0000,9, -999.00
318M20040615,        P02,     133,          2,         17,         17,2,20040812,       0230,    29.9993,  -149.6555,       5692,  1416.2,   2.7790,  34.5423,2,  34.5424,2,  48.3000,2,    48.5,2,  144.93,2,   43.34,2,    0.00,2,    3.06,2,   0.006,2,   0.003,2,   0.000,2,  2371.3,2,  2400.7,2,-999.000,9,-999.0000,9, -999.00,9,   -0.29,2,  -232.8,2,     3.7,-999.000,9,-999.000, -999.00,9, 1416.20,-999.0000,9,-999.0000,9,-999.0000,9,-999.0000,9,-999.0000,9,-999.0000,-999.000,-999.0000,9, -999.00
318M20040615,        P02,     133,          2,         16,         16,2,20040812,       0230,    29.9993,  -149.6555,       5692,  1516.4,   2.5972,  34.5628,2,  34.5628,2,  54.4000,2,    55.2,2,  148.93,2,   42.79,2,    0.00,2,    3.03,2,-999.000,9,-999.000,9,-999.000,9,  2371.1,2,  2407.0,2,-999.000,9,-999.0000,9, -999.00,9, -999.00,9,  -999.0,9,  -999.0,-999.000,9,-999.000,   37.10,2, 1516.40,-999.0000,9,-999.0000,9,-999.0000,9,-999.0000,9,-999.0000,9,-999.0000,-999.000,-999.0000,9, -999.00
318M20040615,        P02,     133,          2,         15,         15,2,20040812,       0230,    29.9993,  -149.6555,       5692,  1616.6,   2.4192,  34.5796,2,  34.5805,2,  59.5000,2,    61.4,2,  154.55,2,   42.30,2,    0.00,2,    2.99,2,   0.000,2,   0.000,2,   0.000,2,  2372.4,2,  2411.6,2,-999.000,9,-999.0000,9, -999.00,9, -999.00,9,  -999.0,9,  -999.0,-999.000,9,-999.000, -999.00,9, 1616.60,-999.0000,9,-999.0000,9,-999.0000,9,-999.0000,9,-999.0000,9,-999.0000,-999.000,-999.0000,9, -999.00
318M20040615,        P02,     133,          2,         14,         14,2,20040812,       0230,    29.9993,  -149.6555,       5692,  1822.6,   2.1869,  34.6000,2,  34.5999,2,  70.5000,2,    71.4,2,  158.58,2,   41.64,2,    0.00,2,    2.93,2,-999.000,9,-999.000,9,-999.000,9,  2370.0,2,  2417.7,2,-999.000,9,-999.0000,9, -999.00,9, -999.00,9,  -999.0,9,  -999.0,-999.000,9,-999.000,   39.00,2, 1822.60,-999.0000,9,-999.0000,9,-999.0000,9,-999.0000,9,-999.0000,9,-999.0000,-999.000,-999.0000,9, -999.00
318M20040615,        P02,     133,          2,         13,         13,2,20040812,       0230,    29.9993,  -149.6555,       5692,  2024.0,   1.9929,  34.6178,2,  34.6181,2,  79.9000,2,    79.6,2,  165.05,2,   40.99,2,    0.00,2,    2.90,2,   0.000,2,   0.001,2,   0.000,2,  2371.8,2,  2422.8,2,-999.000,9,-999.0000,9, -999.00,9, -999.00,9,  -999.0,9,  -999.0,-999.000,9,-999.000, -999.00,9, 2024.00,   0.0800,2,   0.1980,2,   0.0130,2,   0.1400,2,   0.0140,2,-999.0000,-999.000,   0.0600,2, -999.00
318M20040615,        P02,     133,          2,          6,          6,2,20040812,       0230,    29.9993,  -149.6555,       5692,  2281.4,   1.8174,  34.6350,2,  34.6347,2,  90.7000,2,    90.9,2,  168.06,2,   40.28,2,    0.00,2,    2.84,2,   0.002,2,   0.005,2,   0.000,2,  2369.1,2,  2426.8,2,-999.000,9,-999.0000,9, -999.00,9, -999.00,9,  -999.0,9,  -999.0,-999.000,9,-999.000,   38.20,2, 2281.40,-999.0000,9,-999.0000,9,-999.0000,9,-999.0000,9,-999.0000,9,-999.0000,-999.000,-999.0000,9, -999.00
318M20040615,        P02,     133,          2,          5,          5,2,20040812,       0230,    29.9993,  -149.6555,       5692,  2533.9,   1.6871,  34.6492,2,  34.6475,2, 101.6000,2,   102.0,2,  169.05,2,   39.58,2,    0.00,2,    2.78,2,   0.005,2,   0.001,2,   0.000,2,  2363.7,2,  2428.8,2,-999.000,9,-999.0000,9, -999.00,9, -999.00,9,  -999.0,9,  -999.0,-999.000,9,-999.000, -999.00,9, 2533.90,-999.0000,9,-999.0000,9,-999.0000,9,-999.0000,9,-999.0000,9,-999.0000,-999.000,-999.0000,9, -999.00
318M20040615,        P02,     133,          2,          4,          4,2,20040812,       0230,    29.9993,  -149.6555,       5692,  2791.4,   1.5922,  34.6616,2,  34.6612,2, 114.9000,2,   115.7,2,  166.38,2,   38.92,2,    0.00,2,    2.70,2,   0.003,2,   0.001,2,   0.000,2,  2356.3,2,  2429.8,2,-999.000,9,-999.0000,9, -999.00,9, -999.00,9,  -999.0,9,  -999.0,-999.000,9,-999.000,   37.20,2, 2791.40,-999.0000,9,-999.0000,9,-999.0000,9,-999.0000,9,-999.0000,9,-999.0000,-999.000,-999.0000,9, -999.00
318M20040615,        P02,     133,          2,          3,          3,2,20040812,       0230,    29.9993,  -149.6555,       5692,  3048.3,   1.5329,  34.6693,2,  34.6685,2, 123.1000,2,   123.8,2,  165.95,2,   38.60,2,    0.00,2,    2.66,2,   0.000,2,   0.001,2,   0.000,2,  2351.7,2,  2430.6,2,-999.000,9,-999.0000,9, -999.00,9, -999.00,9,  -999.0,9,  -999.0,-999.000,9,-999.000,   38.00,2, 3048.30,   0.0640,2,   0.1700,2,   0.0140,2,   0.1170,2,   0.0160,2,-999.0000,-999.000,   0.0460,2, -999.00
318M20040615,        P02,     133,          2,          2,          2,2,20040812,       0230,    29.9993,  -149.6555,       5692,  3455.9,   1.4946,  34.6781,2,  34.6775,2, 135.3000,2,   135.1,2,  161.46,2,   37.83,2,    0.00,2,    2.59,2,   0.001,2,  -0.001,2,   0.000,2,  2342.9,2,  2427.8,2,-999.000,9,-999.0000,9, -999.00,9, -999.00,9,  -999.0,9,  -999.0,-999.000,9,-999.000, -999.00,9, 3455.90,-999.0000,9,-999.0000,9,-999.0000,9,-999.0000,9,-999.0000,9,-999.0000,-999.000,-999.0000,9, -999.00
318M20040615,        P02,     133,          2,          1,          1,2,20040812,       0230,    29.9993,  -149.6555,       5692,  3865.3,   1.4741,  34.6837,2,  34.6828,2, 143.5000,2,   144.2,2,  158.20,2,   37.13,2,    0.00,2,    2.55,2,   0.002,2,   0.002,2,   0.000,2,  2335.4,2,  2428.9,2,-999.000,9,-999.0000,9, -999.00,9, -999.00,9,  -999.0,9,  -999.0,-999.000,9,-999.000,   36.90,2, 3865.30,-999.0000,9,-999.0000,9,-999.0000,9,-999.0000,9,-999.0000,9,-999.0000,-999.000,-999.0000,9, -999.00
318M20040615,        P02,     133,          2,         12,         12,2,20040812,       0230,    29.9993,  -149.6555,       5692,  4272.2,   1.4822,  34.6870,2,  34.6867,2, 149.6000,2,   150.0,2,  154.13,2,   36.65,2,    0.00,2,    2.51,2,   0.002,2,   0.002,2,   0.000,2,  2328.8,2,  2426.3,2,-999.000,9,-999.0000,9, -999.00,9, -999.00,9,  -999.0,9,  -999.0,-999.000,9,-999.000,   36.80,2, 4272.20,-999.0000,9,-999.0000,9,-999.0000,9,-999.0000,9,-999.0000,9,-999.0000,-999.000,-999.0000,9, -999.00
318M20040615,        P02,     133,          2,         11,         11,2,20040812,       0230,    29.9993,  -149.6555,       5692,  4668.5,   1.4971,  34.6896,2,  34.6891,2, 154.7000,2,   155.1,2,  150.69,2,   36.21,2,    0.00,2,    2.48,2,   0.003,2,   0.004,2,   0.000,2,  2325.0,2,  2423.7,2,-999.000,9,-999.0000,9, -999.00,9, -999.00,9,  -999.0,9,  -999.0,-999.000,9,-999.000, -999.00,9, 4668.50,-999.0000,9,-999.0000,9,-999.0000,9,-999.0000,9,-999.0000,9,-999.0000,-999.000,-999.0000,9, -999.00
318M20040615,        P02,     133,          2,         10,         10,2,20040812,       0230,    29.9993,  -149.6555,       5692,  5046.7,   1.5126,  34.6919,2,  34.6910,2, 160.0000,2,   160.2,2,  146.43,2,   35.73,2,    0.00,2,    2.45,2,   0.003,2,   0.004,2,   0.000,2,  2319.4,2,  2418.7,2,-999.000,9,-999.0000,9, -999.00,9, -999.00,9,  -999.0,9,  -999.0,-999.000,9,-999.000,   36.50,2, 5046.70,-999.0000,9,-999.0000,9,-999.0000,9,-999.0000,9,-999.0000,9,-999.0000,-999.000,-999.0000,9, -999.00
318M20040615,        P02,     133,          2,          9,          9,2,20040812,       0230,    29.9993,  -149.6555,       5692,  5352.8,   1.5412,  34.6927,2,  34.6894,2, 161.8000,3,   161.7,2,  144.83,2,   35.51,2,    0.00,2,    2.45,2,   0.003,2,   0.003,2,   0.000,2,  2317.2,2,  2418.4,2,-999.000,9,-999.0000,9, -999.00,9, -999.00,9,  -999.0,9,  -999.0,-999.000,9,-999.000,   37.00,2, 5352.80,-999.0000,9,-999.0000,9,-999.0000,9,-999.0000,9,-999.0000,9,-999.0000,-999.000,-999.0000,9, -999.00
318M20040615,        P02,     133,          2,          8,          8,2,20040812,       0230,    29.9993,  -149.6555,       5692,  5603.0,   1.5723,  34.6928,2,  34.6922,2, 162.0000,2,   162.6,2,  144.39,2,   35.45,2,    0.00,2,    2.45,2,   0.005,2,   0.003,2,   0.000,2,  2318.3,2,  2419.3,2,-999.000,9,-999.0000,9, -999.00,9, -999.00,9,  -999.0,9,  -999.0,-999.000,9,-999.000, -999.00,9, 5603.00,-999.0000,9,-999.0000,9,-999.0000,9,-999.0000,9,-999.0000,9,-999.0000,-999.000,-999.0000,9, -999.00
318M20040615,        P02,     133,          2,          7,          7,2,20040812,       0230,    29.9993,  -149.6555,       5692,  5809.6,   1.6008,  34.6926,2,  34.6927,2, 161.9000,2,   162.4,2,  144.37,2,   35.60,2,    0.00,2,    2.45,2,   0.002,6,   0.003,6,   0.000,6,  2317.9,6,  2417.7,2,-999.000,9,-999.0000,9, -999.00,9, -999.00,9,  -999.0,9,  -999.0,-999.000,9,-999.000,   36.60,2, 5809.60,-999.0000,9,-999.0000,9,-999.0000,9,-999.0000,9,-999.0000,9,-999.0000,-999.000,-999.0000,9, -999.00