BOTTLE,20131027SIOCCHRJL
EXPOCODE,SECT_ID,STNNBR,CASTNO,SAMPNO,BTLNBR,BTLNBR_FLAG_W,DATE,TIME,LATITUDE,LONGITUDE,DEPTH,CTDPRS,CTDTMP,CTDSAL,CTDSAL_FLAG_W,SALNTY,SALNTY_FLAG_W,CTDOXY,CTDOXY_FLAG_W,OXYGEN,OXYGEN_FLAG_W,SILCAT,SILCAT_FLAG_W,NITRAT,NITRAT_FLAG_W,NITRIT,NITRIT_FLAG_W,PHSPHT,PHSPHT_FLAG_W,CFC-11,CFC-11_FLAG_W,CFC-12,CFC-12_FLAG_W,CFC113,CFC113_FLAG_W,TCARBN,TCARBN_FLAG_W,ALKALI,ALKALI_FLAG_W,TRITUM,TRITUM_FLAG_W,HELIUM,HELIUM_FLAG_W,DELHE3,DELHE3_FLAG_W,DELC13,DELC13_FLAG_W,DELC14,DELC14_FLAG_W,C14ERR,NEON,NEON_FLAG_W,NEONER,DOC,DOC_FLAG_W,CTDRAW,CDOM380,CDOM380_FLAG_W,CDOM325,CDOM325_FLAG_W,CDOMSL,CDOMSL_FLAG_W,CDOM340,CDOM340_FLAG_W,CDOMSN,CDOMSN_FLAG_W,HELIER,TRITER,CDOM412,CDOM412_FLAG_W,DELHER
,,,,,,,,,,,METERS,DBAR,ITS-90,PSS-78,,PSS-78,,UMOL/KG,,UMOL/KG,,UMOL/KG,,UMOL/KG,,UMOL/KG,,UMOL/KG,,PMOL/KG,,PMOL/KG,,PMOL/KG,,UMOL/KG,,UMOL/KG,,TU,,NMOL/KG,,PERCNT,,/MILLE,,/MILLE,,/MILLE,NMOL/KG,,NMOL/KG,UMOL/KG,,DBAR,1/M,,1/M,,1/NM,,1/M,,1/NM,,NMOL/KG,TU,1/M,,PERCNT
318M20040615,        P02,     171,          2,         36,         36,2,20040823,       0513,    30.0002,  -124.3398,       4528,     4.8,  21.1900,  33.3108,2,  33.3111,2, 227.6000,2,   227.6,2,    1.35,2,    0.07,2,    0.00,2,    0.31,2,-999.000,1,-999.000,1,-999.000,1,  1990.9,2,  2233.1,6,-999.000,9,-999.0000,9, -999.00,9, -999.00,9,  -999.0,9,  -999.0,-999.000,9,-999.000, -999.00,9,    4.80,-999.0000,9,-999.0000,9,-999.0000,9,-999.0000,9,-999.0000,9,-999.0000,-999.000,-999.0000,9, -999.00
318M20040615,        P02,     171,          2,         35,         35,2,20040823,       0513,    30.0002,  -124.3398,       4528,    39.7,  19.8356,  33.3322,2,  33.3381,2, 239.3000,2,   238.2,2,    1.32,2,    0.12,2,    0.00,2,    0.30,2,   2.334,6,   1.449,6,   0.172,6,  1993.2,6,  2234.2,2,-999.000,9,-999.0000,9, -999.00,9, -999.00,9,  -999.0,9,  -999.0,-999.000,9,-999.000, -999.00,9,   39.70,-999.0000,9,-999.0000,9,-999.0000,9,-999.0000,9,-999.0000,9,-999.0000,-999.000,-999.0000,9, -999.00
318M20040615,        P02,     171,          2,         34,         34,2,20040823,       0513,    30.0002,  -124.3398,       4528,    84.5,  16.9171,  33.2967,2,  33.2912,2, 253.6000,2,   252.5,2,    1.29,2,    0.13,2,    0.00,2,    0.29,2,-999.000,9,-999.000,9,-999.000,9,  1991.6,2,  2227.8,2,-999.000,9,-999.0000,9, -999.00,9, -999.00,9,  -999.0,9,  -999.0,-999.000,9,-999.000, -999.00,9,   84.50,-999.0000,9,-999.0000,9,-999.0000,9,-999.0000,9,-999.0000,9,-999.0000,-999.000,-999.0000,9, -999.00
318M20040615,        P02,     171,          2,         33,         33,2,20040823,       0513,    30.0002,  -124.3398,       4528,   138.7,  13.4609,  33.2037,2,  33.2189,2, 234.8000,2,   237.2,2,    3.26,2,    2.43,2,    0.23,2,    0.53,2,   3.220,2,   1.909,2,   0.219,2,  2019.9,2,  2217.1,2,-999.000,9,-999.0000,9, -999.00,9, -999.00,9,  -999.0,9,  -999.0,-999.000,9,-999.000, -999.00,9,  138.70,-999.0000,9,-999.0000,9,-999.0000,9,-999.0000,9,-999.0000,9,-999.0000,-999.000,-999.0000,9, -999.00
318M20040615,        P02,     171,          2,         32,         32,2,20040823,       0513,    30.0002,  -124.3398,       4528,   188.8,   9.6711,  33.4231,2,  33.4062,2, 192.3000,2,   193.1,2,   15.01,2,   16.66,2,    0.00,2,    1.34,2,-999.000,9,-999.000,9,-999.000,9,  2104.3,2,  2221.7,2,-999.000,9,-999.0000,9, -999.00,9, -999.00,9,  -999.0,9,  -999.0,-999.000,9,-999.000, -999.00,9,  188.80,-999.0000,9,-999.0000,9,-999.0000,9,-999.0000,9,-999.0000,9,-999.0000,-999.000,-999.0000,9, -999.00
318M20040615,        P02,     171,          2,         31,         31,2,20040823,       0513,    30.0002,  -124.3398,       4528,   237.3,   8.8453,  33.9271,2,  33.9273,2, 137.7000,2,   137.7,2,   27.78,2,   24.63,2,    0.00,2,    1.82,2,   3.100,2,   1.673,2,   0.110,2,  2169.7,2,  2255.1,2,-999.000,9,-999.0000,9, -999.00,9, -999.00,9,  -999.0,9,  -999.0,-999.000,9,-999.000, -999.00,9,  237.30,-999.0000,9,-999.0000,9,-999.0000,9,-999.0000,9,-999.0000,9,-999.0000,-999.000,-999.0000,9, -999.00
318M20040615,        P02,     171,          2,         30,         30,2,20040823,       0513,    30.0002,  -124.3398,       4528,   287.3,   8.1325,  34.0418,2,  34.0405,2, 121.5000,2,   120.1,2,   36.57,2,   27.86,2,    0.00,2,    2.03,2,-999.000,9,-999.000,9,-999.000,9,  2195.5,2,  2268.2,2,-999.000,9,-999.0000,9, -999.00,9, -999.00,9,  -999.0,9,  -999.0,-999.000,9,-999.000, -999.00,9,  287.30,-999.0000,9,-999.0000,9,-999.0000,9,-999.0000,9,-999.0000,9,-999.0000,-999.000,-999.0000,9, -999.00
318M20040615,        P02,     171,          2,         29,         29,2,20040823,       0513,    30.0002,  -124.3398,       4528,   337.5,   7.4935,  34.0516,2,  34.0520,2,  99.5000,2,   102.6,2,   43.78,2,   30.54,2,    0.00,2,    2.23,2,   2.149,2,   1.096,2,   0.085,2,  2217.8,2,  2275.9,2,-999.000,9,-999.0000,9, -999.00,9, -999.00,9,  -999.0,9,  -999.0,-999.000,9,-999.000, -999.00,9,  337.50,-999.0000,9,-999.0000,9,-999.0000,9,-999.0000,9,-999.0000,9,-999.0000,-999.000,-999.0000,9, -999.00
318M20040615,        P02,     171,          2,         28,         28,2,20040823,       0513,    30.0002,  -124.3398,       4528,   387.2,   6.9599,  34.1085,2,  34.1090,2,  77.0000,2,    63.8,2,   53.82,2,   34.46,2,    0.00,2,    2.58,2,-999.000,9,-999.000,9,-999.000,9,  2256.8,2,  2283.7,2,-999.000,9,-999.0000,9, -999.00,9, -999.00,9,  -999.0,9,  -999.0,-999.000,9,-999.000, -999.00,9,  387.20,-999.0000,9,-999.0000,9,-999.0000,9,-999.0000,9,-999.0000,9,-999.0000,-999.000,-999.0000,9, -999.00
318M20040615,        P02,     171,          2,         27,         27,2,20040823,       0513,    30.0002,  -124.3398,       4528,   437.5,   6.4850,  34.1460,2,  34.1455,2,  49.3000,2,    44.2,2,   62.06,2,   36.71,2,    0.00,2,    2.78,2,   0.876,2,   0.441,2,   0.026,2,  2276.0,2,  2298.1,2,-999.000,9,-999.0000,9, -999.00,9, -999.00,9,  -999.0,9,  -999.0,-999.000,9,-999.000, -999.00,9,  437.50,-999.0000,9,-999.0000,9,-999.0000,9,-999.0000,9,-999.0000,9,-999.0000,-999.000,-999.0000,9, -999.00
318M20040615,        P02,     171,          2,         26,         26,2,20040823,       0513,    30.0002,  -124.3398,       4528,   488.1,   6.1279,  34.2056,2,  34.2045,2,  31.3000,2,    27.6,2,   70.53,2,   38.48,2,    0.00,2,    2.95,2,-999.000,9,-999.000,9,-999.000,9,  2295.7,2,  2306.9,2,-999.000,9,-999.0000,9, -999.00,9, -999.00,9,  -999.0,9,  -999.0,-999.000,9,-999.000, -999.00,9,  488.10,-999.0000,9,-999.0000,9,-999.0000,9,-999.0000,9,-999.0000,9,-999.0000,-999.000,-999.0000,9, -999.00
318M20040615,        P02,     171,          2,         25,         25,2,20040823,       0513,    30.0002,  -124.3398,       4528,   572.8,   5.6333,  34.2678,2,  34.2684,2,  18.3000,2,    16.0,2,   81.05,2,   40.32,2,    0.00,2,    3.10,2,   0.179,2,   0.093,2,   0.000,2,  2315.5,2,  2323.0,2,-999.000,9,-999.0000,9, -999.00,9, -999.00,9,  -999.0,9,  -999.0,-999.000,9,-999.000, -999.00,9,  572.80,-999.0000,9,-999.0000,9,-999.0000,9,-999.0000,9,-999.0000,9,-999.0000,-999.000,-999.0000,9, -999.00
318M20040615,        P02,     171,          2,         24,         24,2,20040823,       0513,    30.0002,  -124.3398,       4528,   678.1,   5.1632,  34.3360,2,  34.3357,2,  12.0000,2,    11.3,2,   91.40,2,   41.89,2,    0.00,2,    3.19,2,   0.064,2,   0.038,2,   0.008,2,  2331.8,2,  2338.0,6,-999.000,9,-999.0000,9, -999.00,9, -999.00,9,  -999.0,9,  -999.0,-999.000,9,-999.000, -999.00,9,  678.10,-999.0000,9,-999.0000,9,-999.0000,9,-999.0000,9,-999.0000,9,-999.0000,-999.000,-999.0000,9, -999.00
318M20040615,        P02,     171,          2,         23,         23,2,20040823,       0513,    30.0002,  -124.3398,       4528,   777.5,   4.7506,  34.3930,2,  34.3928,2,  12.9000,2,    12.7,2,   99.71,2,   42.86,2,    0.00,2,    3.22,2,   0.038,2,   0.021,2,   0.000,2,  2342.6,2,  2351.9,2,-999.000,9,-999.0000,9, -999.00,9, -999.00,9,  -999.0,9,  -999.0,-999.000,9,-999.000, -999.00,9,  777.50,-999.0000,9,-999.0000,9,-999.0000,9,-999.0000,9,-999.0000,9,-999.0000,-999.000,-999.0000,9, -999.00
318M20040615,        P02,     171,          2,         22,         22,2,20040823,       0513,    30.0002,  -124.3398,       4528,   877.6,   4.3989,  34.4413,2,  34.4417,2,  16.6000,2,    16.7,2,  107.46,2,   43.36,2,    0.00,2,    3.22,2,   0.029,2,   0.015,2,   0.000,2,  2350.4,2,  2359.3,2,-999.000,9,-999.0000,9, -999.00,9, -999.00,9,  -999.0,9,  -999.0,-999.000,9,-999.000, -999.00,9,  877.60,-999.0000,9,-999.0000,9,-999.0000,9,-999.0000,9,-999.0000,9,-999.0000,-999.000,-999.0000,9, -999.00
318M20040615,        P02,     171,          2,         21,         21,2,20040823,       0513,    30.0002,  -124.3398,       4528,   983.2,   4.0306,  34.4714,2,  34.4709,2,  21.4000,2,    22.6,2,  115.21,2,   43.41,2,    0.00,2,    3.21,2,   0.023,2,   0.015,2,   0.000,2,  2355.7,6,  2371.0,2,-999.000,9,-999.0000,9, -999.00,9, -999.00,9,  -999.0,9,  -999.0,-999.000,9,-999.000, -999.00,9,  983.20,-999.0000,9,-999.0000,9,-999.0000,9,-999.0000,9,-999.0000,9,-999.0000,-999.000,-999.0000,9, -999.00
318M20040615,        P02,     171,          2,         20,         20,2,20040823,       0513,    30.0002,  -124.3398,       4528,  1083.1,   3.7127,  34.4942,2,  34.4933,2,  27.4000,2,    28.2,2,  121.78,2,   43.30,2,    0.00,2,    3.19,2,   0.024,2,   0.015,2,   0.000,2,  2359.4,2,  2378.9,2,-999.000,9,-999.0000,9, -999.00,9, -999.00,9,  -999.0,9,  -999.0,-999.000,9,-999.000, -999.00,9, 1083.10,-999.0000,9,-999.0000,9,-999.0000,9,-999.0000,9,-999.0000,9,-999.0000,-999.000,-999.0000,9, -999.00
318M20040615,        P02,     171,          2,         19,         19,2,20040823,       0513,    30.0002,  -124.3398,       4528,  1183.4,   3.4707,  34.5199,2,  34.5229,2,  32.4000,2,    33.2,2,  127.72,2,   43.25,2,    0.00,2,    3.17,2,   0.026,2,   0.017,2,   0.008,2,  2363.1,2,  2387.9,2,-999.000,9,-999.0000,9, -999.00,9, -999.00,9,  -999.0,9,  -999.0,-999.000,9,-999.000, -999.00,9, 1183.40,-999.0000,9,-999.0000,9,-999.0000,9,-999.0000,9,-999.0000,9,-999.0000,-999.000,-999.0000,9, -999.00
318M20040615,        P02,     171,          2,         18,         18,2,20040823,       0513,    30.0002,  -124.3398,       4528,  1283.7,   3.2885,  34.5348,2,  34.5343,2,  36.6000,2,    37.7,2,  132.64,2,   43.25,2,    0.00,2,    3.15,2,-999.000,9,-999.000,9,-999.000,9,  2368.8,2,  2393.2,6,-999.000,9,-999.0000,9, -999.00,9, -999.00,9,  -999.0,9,  -999.0,-999.000,9,-999.000, -999.00,9, 1283.70,-999.0000,9,-999.0000,9,-999.0000,9,-999.0000,9,-999.0000,9,-999.0000,-999.000,-999.0000,9, -999.00
318M20040615,        P02,     171,          2,         17,         17,2,20040823,       0513,    30.0002,  -124.3398,       4528,  1383.4,   3.0838,  34.5495,2,  34.5496,2,  42.4000,2,    42.4,2,  137.36,2,   43.25,2,    0.00,2,    3.13,2,   0.023,2,   0.015,2,   0.000,2,  2369.9,2,  2398.3,2,-999.000,9,-999.0000,9, -999.00,9, -999.00,9,  -999.0,9,  -999.0,-999.000,9,-999.000, -999.00,9, 1383.40,-999.0000,9,-999.0000,9,-999.0000,9,-999.0000,9,-999.0000,9,-999.0000,-999.000,-999.0000,9, -999.00
318M20040615,        P02,     171,          2,         16,         16,2,20040823,       0513,    30.0002,  -124.3398,       4528,  1483.3,   2.8626,  34.5633,2,  34.5624,2,  47.4000,2,    48.3,2,  142.70,2,   42.93,2,    0.00,2,    3.09,2,-999.000,9,-999.000,9,-999.000,9,  2371.1,2,  2403.2,2,-999.000,9,-999.0000,9, -999.00,9, -999.00,9,  -999.0,9,  -999.0,-999.000,9,-999.000, -999.00,9, 1483.30,-999.0000,9,-999.0000,9,-999.0000,9,-999.0000,9,-999.0000,9,-999.0000,-999.000,-999.0000,9, -999.00
318M20040615,        P02,     171,          2,         15,         15,2,20040823,       0513,    30.0002,  -124.3398,       4528,  1589.4,   2.6749,  34.5809,2,  34.5810,2,  54.4000,2,    55.8,2,  147.01,2,   42.44,2,    0.00,2,    3.06,2,   0.019,2,   0.013,2,   0.000,2,  2370.1,2,  2407.8,2,-999.000,9,-999.0000,9, -999.00,9, -999.00,9,  -999.0,9,  -999.0,-999.000,9,-999.000, -999.00,9, 1589.40,-999.0000,9,-999.0000,9,-999.0000,9,-999.0000,9,-999.0000,9,-999.0000,-999.000,-999.0000,9, -999.00
318M20040615,        P02,     171,          2,         14,         14,2,20040823,       0513,    30.0002,  -124.3398,       4528,  1690.0,   2.5257,  34.5917,2,  34.5916,2,  60.9000,2,    61.4,2,  150.90,2,   42.05,2,    0.00,2,    3.02,2,-999.000,9,-999.000,9,-999.000,9,  2371.3,2,  2413.1,2,-999.000,9,-999.0000,9, -999.00,9, -999.00,9,  -999.0,9,  -999.0,-999.000,9,-999.000, -999.00,9, 1690.00,-999.0000,9,-999.0000,9,-999.0000,9,-999.0000,9,-999.0000,9,-999.0000,-999.000,-999.0000,9, -999.00
318M20040615,        P02,     171,          2,         13,         13,2,20040823,       0513,    30.0002,  -124.3398,       4528,  1790.8,   2.3672,  34.6025,2,  34.6026,2,  67.1000,2,    67.0,2,  153.98,2,   41.56,2,    0.00,2,    2.98,2,   0.010,6,   0.007,6,   0.000,6,  2371.2,2,  2416.3,6,-999.000,9,-999.0000,9, -999.00,9, -999.00,9,  -999.0,9,  -999.0,-999.000,9,-999.000, -999.00,9, 1790.80,-999.0000,9,-999.0000,9,-999.0000,9,-999.0000,9,-999.0000,9,-999.0000,-999.000,-999.0000,9, -999.00
318M20040615,        P02,     171,          2,         12,         12,2,20040823,       0513,    30.0002,  -124.3398,       4528,  1891.6,   2.2406,  34.6139,2,  34.6138,2,  73.5000,2,    74.3,2,  157.52,2,   41.08,2,    0.00,2,    2.94,2,-999.000,9,-999.000,9,-999.000,9,  2369.4,2,  2420.0,2,-999.000,9,-999.0000,9, -999.00,9, -999.00,9,  -999.0,9,  -999.0,-999.000,9,-999.000, -999.00,9, 1891.60,-999.0000,9,-999.0000,9,-999.0000,9,-999.0000,9,-999.0000,9,-999.0000,-999.000,-999.0000,9, -999.00
318M20040615,        P02,     171,          2,         11,         11,2,20040823,       0513,    30.0002,  -124.3398,       4528,  1996.6,   2.1383,  34.6223,2,  34.6222,2,  79.4000,2,    80.4,2,  158.32,2,   40.81,2,    0.00,2,    2.91,2,   0.006,2,   0.004,2,   0.000,2,  2367.4,2,  2422.0,2,-999.000,9,-999.0000,9, -999.00,9, -999.00,9,  -999.0,9,  -999.0,-999.000,9,-999.000, -999.00,9, 1996.60,-999.0000,9,-999.0000,9,-999.0000,9,-999.0000,9,-999.0000,9,-999.0000,-999.000,-999.0000,9, -999.00
318M20040615,        P02,     171,          2,         10,         10,2,20040823,       0513,    30.0002,  -124.3398,       4528,  2197.9,   1.9877,  34.6361,2,  34.6352,2,  88.9000,2,    89.5,2,  160.36,2,   40.33,2,    0.00,2,    2.86,2,-999.000,9,-999.000,9,-999.000,9,  2365.4,2,  2426.2,2,-999.000,9,-999.0000,9, -999.00,9, -999.00,9,  -999.0,9,  -999.0,-999.000,9,-999.000, -999.00,9, 2197.90,-999.0000,9,-999.0000,9,-999.0000,9,-999.0000,9,-999.0000,9,-999.0000,-999.000,-999.0000,9, -999.00
318M20040615,        P02,     171,          2,          9,          9,2,20040823,       0513,    30.0002,  -124.3398,       4528,  2455.1,   1.8524,  34.6474,2,  34.6464,2,  98.6000,2,    98.8,2,  162.61,2,   39.90,2,    0.00,2,    2.80,2,   0.001,2,   0.000,2,   0.000,2,  2361.1,2,  2426.8,2,-999.000,9,-999.0000,9, -999.00,9, -999.00,9,  -999.0,9,  -999.0,-999.000,9,-999.000, -999.00,9, 2455.10,-999.0000,9,-999.0000,9,-999.0000,9,-999.0000,9,-999.0000,9,-999.0000,-999.000,-999.0000,9, -999.00
318M20040615,        P02,     171,          2,          8,          8,2,20040823,       0513,    30.0002,  -124.3398,       4528,  2707.0,   1.7291,  34.6563,2,  34.6556,2, 107.3000,2,   106.6,2,  165.91,2,   39.35,2,    0.00,2,    2.75,2,   0.003,2,   0.001,2,   0.000,2,  2358.5,2,  2430.7,2,-999.000,9,-999.0000,9, -999.00,9, -999.00,9,  -999.0,9,  -999.0,-999.000,9,-999.000, -999.00,9, 2707.00,-999.0000,9,-999.0000,9,-999.0000,9,-999.0000,9,-999.0000,9,-999.0000,-999.000,-999.0000,9, -999.00
318M20040615,        P02,     171,          2,          7,          7,2,20040823,       0513,    30.0002,  -124.3398,       4528,  2964.0,   1.6380,  34.6642,2,  34.6628,2, 114.9000,2,   114.9,2,  167.33,2,   38.87,2,    0.00,2,    2.71,2,-999.000,9,-999.000,9,-999.000,9,  2355.2,2,  2430.2,2,-999.000,9,-999.0000,9, -999.00,9, -999.00,9,  -999.0,9,  -999.0,-999.000,9,-999.000, -999.00,9, 2964.00,-999.0000,9,-999.0000,9,-999.0000,9,-999.0000,9,-999.0000,9,-999.0000,-999.000,-999.0000,9, -999.00
318M20040615,        P02,     171,          2,          6,          6,2,20040823,       0513,    30.0002,  -124.3398,       4528,  3299.6,   1.5533,  34.6726,2,  34.6725,2, 124.1000,2,   124.2,2,  167.70,2,   38.17,2,    0.00,2,    2.66,2,   0.009,2,   0.009,2,   0.000,2,  2349.6,2,  2433.4,2,-999.000,9,-999.0000,9, -999.00,9, -999.00,9,  -999.0,9,  -999.0,-999.000,9,-999.000, -999.00,9, 3299.60,-999.0000,9,-999.0000,9,-999.0000,9,-999.0000,9,-999.0000,9,-999.0000,-999.000,-999.0000,9, -999.00
318M20040615,        P02,     171,          2,          5,          5,2,20040823,       0513,    30.0002,  -124.3398,       4528,  3552.0,   1.5240,  34.6771,2,  34.6768,2, 129.7000,2,   129.7,2,  167.24,2,   37.74,2,    0.00,2,    2.62,2,   0.004,2,   0.006,2,   0.000,2,  2346.1,2,  2434.5,2,-999.000,9,-999.0000,9, -999.00,9, -999.00,9,  -999.0,9,  -999.0,-999.000,9,-999.000, -999.00,9, 3552.00,-999.0000,9,-999.0000,9,-999.0000,9,-999.0000,9,-999.0000,9,-999.0000,-999.000,-999.0000,9, -999.00
318M20040615,        P02,     171,          2,          4,          4,2,20040823,       0513,    30.0002,  -124.3398,       4528,  3862.3,   1.5124,  34.6816,2,  34.6809,2, 134.9000,2,   135.5,2,  165.94,2,   37.31,7,    0.00,2,    2.59,2,   0.007,2,   0.010,2,   0.000,2,  2342.5,2,  2433.8,2,-999.000,9,-999.0000,9, -999.00,9, -999.00,9,  -999.0,9,  -999.0,-999.000,9,-999.000, -999.00,9, 3862.30,-999.0000,9,-999.0000,9,-999.0000,9,-999.0000,9,-999.0000,9,-999.0000,-999.000,-999.0000,9, -999.00
318M20040615,        P02,     171,          2,          3,          3,2,20040823,       0513,    30.0002,  -124.3398,       4528,  4171.4,   1.5243,  34.6838,2,  34.6834,2, 138.4000,2,   140.2,3,  165.07,2,   37.10,7,    0.00,2,    2.57,2,   0.005,2,   0.011,2,   0.000,2,  2341.5,2,  2433.6,2,-999.000,9,-999.0000,9, -999.00,9, -999.00,9,  -999.0,9,  -999.0,-999.000,9,-999.000, -999.00,9, 4171.40,-999.0000,9,-999.0000,9,-999.0000,9,-999.0000,9,-999.0000,9,-999.0000,-999.000,-999.0000,9, -999.00
318M20040615,        P02,     171,          2,          2,          2,2,20040823,       0513,    30.0002,  -124.3398,       4528,  4385.2,   1.5443,  34.6845,2,  34.6840,2, 139.4000,2,   139.8,2,  165.03,2,   37.10,7,    0.00,2,    2.57,2,   0.007,2,   0.012,2,   0.000,2,  2341.2,6,  2434.5,2,-999.000,9,-999.0000,9, -999.00,9, -999.00,9,  -999.0,9,  -999.0,-999.000,9,-999.000, -999.00,9, 4385.20,-999.0000,9,-999.0000,9,-999.0000,9,-999.0000,9,-999.0000,9,-999.0000,-999.000,-999.0000,9, -999.00
318M20040615,        P02,     171,          2,          1,          1,2,20040823,       0513,    30.0002,  -124.3398,       4528,  4588.8,   1.5677,  34.6845,2,  34.6846,2, 139.4000,2,   140.0,2,  164.99,2,   37.26,7,    0.00,2,    2.57,2,   0.010,2,   0.014,2,   0.000,2,  2341.0,2,  2434.3,6,-999.000,9,-999.0000,9, -999.00,9, -999.00,9,  -999.0,9,  -999.0,-999.000,9,-999.000, -999.00,9, 4588.80,-999.0000,9,-999.0000,9,-999.0000,9,-999.0000,9,-999.0000,9,-999.0000,-999.000,-999.0000,9, -999.00