BOTTLE,20131027SIOCCHRJL
EXPOCODE,SECT_ID,STNNBR,CASTNO,SAMPNO,BTLNBR,BTLNBR_FLAG_W,DATE,TIME,LATITUDE,LONGITUDE,DEPTH,CTDPRS,CTDTMP,CTDSAL,CTDSAL_FLAG_W,SALNTY,SALNTY_FLAG_W,CTDOXY,CTDOXY_FLAG_W,OXYGEN,OXYGEN_FLAG_W,SILCAT,SILCAT_FLAG_W,NITRAT,NITRAT_FLAG_W,NITRIT,NITRIT_FLAG_W,PHSPHT,PHSPHT_FLAG_W,CFC-11,CFC-11_FLAG_W,CFC-12,CFC-12_FLAG_W,CFC113,CFC113_FLAG_W,TCARBN,TCARBN_FLAG_W,ALKALI,ALKALI_FLAG_W,TRITUM,TRITUM_FLAG_W,HELIUM,HELIUM_FLAG_W,DELHE3,DELHE3_FLAG_W,DELC13,DELC13_FLAG_W,DELC14,DELC14_FLAG_W,C14ERR,NEON,NEON_FLAG_W,NEONER,DOC,DOC_FLAG_W,CTDRAW,CDOM380,CDOM380_FLAG_W,CDOM325,CDOM325_FLAG_W,CDOMSL,CDOMSL_FLAG_W,CDOM340,CDOM340_FLAG_W,CDOMSN,CDOMSN_FLAG_W,HELIER,TRITER,CDOM412,CDOM412_FLAG_W,DELHER
,,,,,,,,,,,METERS,DBAR,ITS-90,PSS-78,,PSS-78,,UMOL/KG,,UMOL/KG,,UMOL/KG,,UMOL/KG,,UMOL/KG,,UMOL/KG,,PMOL/KG,,PMOL/KG,,PMOL/KG,,UMOL/KG,,UMOL/KG,,TU,,NMOL/KG,,PERCNT,,/MILLE,,/MILLE,,/MILLE,NMOL/KG,,NMOL/KG,UMOL/KG,,DBAR,1/M,,1/M,,1/NM,,1/M,,1/NM,,NMOL/KG,TU,1/M,,PERCNT
318M20040615,        P02,     137,          2,         36,         36,2,20040813,       0859,    29.9985,  -146.6477,       4987,     6.4,  24.8713,  35.0424,2,  35.0394,2, 214.5000,2,   213.7,2,    1.12,2,    0.18,2,    0.00,2,    0.03,2,   1.902,2,   1.122,2,   0.137,2,  2012.6,6,  2310.7,6,-999.000,9,-999.0000,9, -999.00,9,    1.24,2,    72.4,2,     4.3,-999.000,9,-999.000,   69.70,2,    6.40,   0.0160,2,   0.0660,2,   0.0280,2,   0.0440,2,   0.0280,2,-999.0000,-999.000,   0.0090,2, -999.00
318M20040615,        P02,     137,          2,         35,         35,2,20040813,       0859,    29.9985,  -146.6477,       4987,    36.6,  22.0174,  34.8714,2,  34.8700,2, 237.2000,2,   237.0,2,    1.31,2,    0.18,2,    0.00,2,    0.02,2,   2.165,2,   1.311,2,   0.140,2,  2005.6,2,  2304.2,2,-999.000,9,-999.0000,9, -999.00,9,    1.28,2,    77.8,2,     4.2,-999.000,9,-999.000,   68.90,2,   36.60,   0.0160,2,   0.0730,2,   0.0290,2,   0.0470,2,   0.0300,2,-999.0000,-999.000,   0.0080,2, -999.00
318M20040615,        P02,     137,          2,         34,         34,2,20040813,       0859,    29.9985,  -146.6477,       4987,    71.1,  19.7158,  34.8510,2,  34.8466,2, 241.4000,2,   239.9,2,    1.90,2,    0.13,2,    0.00,2,    0.03,2,   2.326,2,   1.409,2,   0.158,2,  2008.2,2,  2291.4,3,-999.000,9,-999.0000,9, -999.00,9, -999.00,9,  -999.0,9,  -999.0,-999.000,9,-999.000,   66.20,2,   71.10,   0.0250,2,   0.1010,2,   0.0260,2,   0.0670,2,   0.0270,2,-999.0000,-999.000,   0.0140,2, -999.00
318M20040615,        P02,     137,          2,         33,         33,2,20040813,       0859,    29.9985,  -146.6477,       4987,   120.8,  17.2098,  34.5396,2,  34.5506,2, 233.5000,2,   232.8,2,    2.47,2,    0.09,2,    0.05,2,    0.11,2,   2.546,2,   1.512,2,   0.166,2,  2019.1,2,  2277.4,2,-999.000,9,-999.0000,9, -999.00,9,    1.05,2,    81.8,2,     4.6,-999.000,9,-999.000,   59.50,2,  120.80,   0.0420,2,   0.1250,2,   0.0170,2,   0.0890,2,   0.0190,2,-999.0000,-999.000,   0.0290,2, -999.00
318M20040615,        P02,     137,          2,         32,         32,2,20040813,       0859,    29.9985,  -146.6477,       4987,   170.8,  13.8799,  34.0825,2,  34.0838,2, 223.8000,2,   224.5,2,    4.80,2,    4.36,2,    0.01,2,    0.43,2,-999.000,9,-999.000,9,-999.000,9,  2040.7,2,  2251.2,2,-999.000,9,-999.0000,9, -999.00,9, -999.00,9,  -999.0,9,  -999.0,-999.000,9,-999.000,   52.10,2,  170.80,   0.0840,2,   0.1940,2,   0.0120,2,   0.1480,2,   0.0130,2,-999.0000,-999.000,   0.0640,2, -999.00
318M20040615,        P02,     137,          2,         31,         31,2,20040813,       0859,    29.9985,  -146.6477,       4987,   220.4,  11.6942,  34.0057,2,  34.0063,2, 224.6000,2,   226.2,2,    8.88,2,    9.10,2,    0.01,2,    0.71,2,   3.297,2,   1.847,2,   0.152,2,  2064.6,2,  2247.9,6,-999.000,9,-999.0000,9, -999.00,9,    0.68,2,    63.5,2,     4.9,-999.000,9,-999.000,   49.10,2,  220.40,   0.0660,2,   0.1630,2,   0.0130,2,   0.1190,2,   0.0140,2,-999.0000,-999.000,   0.0500,2, -999.00
318M20040615,        P02,     137,          2,         30,         30,2,20040813,       0859,    29.9985,  -146.6477,       4987,   270.1,  10.8391,  34.0721,2,  34.0787,2, 219.2000,2,   221.5,2,   12.58,2,   12.25,2,    0.01,2,    0.91,2,   3.336,2,   1.852,2,   0.097,2,  2084.7,2,  2254.4,2,-999.000,9,-999.0000,9, -999.00,9, -999.00,9,  -999.0,9,  -999.0,-999.000,9,-999.000, -999.00,9,  270.10,   0.0450,2,   0.1290,2,   0.0160,2,   0.0930,2,   0.0180,2,-999.0000,-999.000,   0.0320,2, -999.00
318M20040615,        P02,     137,          2,         29,         29,2,20040813,       0859,    29.9985,  -146.6477,       4987,   324.6,   9.7467,  34.0783,2,  34.0795,2, 208.7000,2,   207.7,2,   18.61,2,   16.04,2,    0.01,2,    1.15,2,   3.360,2,   1.798,2,   0.096,2,  2109.4,2,  2260.8,2,-999.000,9,-999.0000,9, -999.00,9,    0.42,2,    47.1,2,     4.5,-999.000,9,-999.000,   45.40,2,  324.60,   0.0420,2,   0.1220,2,   0.0170,2,   0.0860,2,   0.0190,2,-999.0000,-999.000,   0.0300,2, -999.00
318M20040615,        P02,     137,          2,         28,         28,2,20040813,       0859,    29.9985,  -146.6477,       4987,   374.9,   8.9714,  34.0787,2,  34.0793,2, 188.9000,2,   190.2,2,   25.44,2,   19.58,2,    0.01,2,    1.39,2,   3.199,2,   1.689,2,   0.115,2,  2134.1,2,  2268.9,2,-999.000,9,-999.0000,9, -999.00,9, -999.00,9,  -999.0,9,  -999.0,-999.000,9,-999.000, -999.00,9,  374.90,   0.0530,2,   0.1470,2,   0.0150,2,   0.1050,2,   0.0170,2,-999.0000,-999.000,   0.0380,2, -999.00
318M20040615,        P02,     137,          2,         27,         27,2,20040813,       0859,    29.9985,  -146.6477,       4987,   424.3,   7.9107,  34.0403,2,  34.0403,2, 160.7000,2,   156.5,2,   36.18,2,   25.04,2,    0.01,2,    1.76,2,   2.810,2,   1.446,2,   0.111,2,  2173.1,2,  2272.2,2,-999.000,9,-999.0000,9, -999.00,9,    0.05,2,    18.7,2,     4.5,-999.000,9,-999.000,   45.30,2,  424.30,-999.0000,9,-999.0000,9,-999.0000,9,-999.0000,9,-999.0000,9,-999.0000,-999.000,-999.0000,9, -999.00
318M20040615,        P02,     137,          2,         26,         26,2,20040813,       0859,    29.9985,  -146.6477,       4987,   474.6,   7.0765,  34.0122,2,  34.0131,2, 138.3000,2,   133.2,2,   45.40,2,   29.06,2,    0.01,2,    2.05,2,-999.000,9,-999.000,9,-999.000,9,  2202.0,2,  2277.6,2,-999.000,9,-999.0000,9, -999.00,9,    0.02,2,   -19.4,2,     4.1,-999.000,9,-999.000, -999.00,9,  474.60,   0.0650,2,   0.1720,2,   0.0140,2,   0.1240,2,   0.0160,2,-999.0000,-999.000,   0.0460,2, -999.00
318M20040615,        P02,     137,          2,         25,         25,2,20040813,       0859,    29.9985,  -146.6477,       4987,   544.3,   6.0631,  34.0014,2,  34.0025,2, 103.0000,2,   100.7,2,   58.77,2,   34.02,2,    0.01,2,    2.42,2,   1.685,2,   0.838,2,   0.058,2,  2238.7,2,  2286.8,2,-999.000,9,-999.0000,9, -999.00,9,   -0.13,2,   -50.9,2,     4.0,-999.000,9,-999.000,   43.80,2,  544.30,-999.0000,9,-999.0000,9,-999.0000,9,-999.0000,9,-999.0000,9,-999.0000,-999.000,-999.0000,9, -999.00
318M20040615,        P02,     137,          2,         24,         24,2,20040813,       0859,    29.9985,  -146.6477,       4987,   643.6,   5.0170,  34.0628,2,  34.0639,2,  59.2000,2,    57.0,2,   80.08,2,   39.41,2,    0.01,2,    2.81,2,-999.000,9,-999.000,9,-999.000,9,  2288.1,2,  2306.5,2,-999.000,9,-999.0000,9, -999.00,9,   -0.36,2,  -107.4,2,     3.8,-999.000,9,-999.000,   42.90,2,  643.60,   0.0880,2,   0.2140,2,   0.0130,2,   0.1560,2,   0.0140,2,-999.0000,-999.000,   0.0650,2, -999.00
318M20040615,        P02,     137,          2,         23,         23,2,20040813,       0859,    29.9985,  -146.6477,       4987,   748.6,   4.3762,  34.1681,2,  34.1705,2,  24.2000,2,    26.7,2,   99.93,2,   42.66,2,    0.01,2,    3.06,2,   0.171,2,   0.091,2,   0.000,2,  2327.9,2,  2329.7,2,-999.000,9,-999.0000,9, -999.00,9,   -0.45,2,  -156.1,2,     3.6,-999.000,9,-999.000,   40.50,2,  748.60,-999.0000,9,-999.0000,9,-999.0000,9,-999.0000,9,-999.0000,9,-999.0000,-999.000,-999.0000,9, -999.00
318M20040615,        P02,     137,          2,         22,         22,2,20040813,       0859,    29.9985,  -146.6477,       4987,   849.1,   4.1011,  34.2752,2,  34.2760,2,  13.2000,2,    13.1,2,  111.28,2,   43.80,2,    0.01,2,    3.18,2,-999.000,9,-999.000,9,-999.000,9,  2349.1,2,  2347.1,2,-999.000,9,-999.0000,9, -999.00,9,   -0.45,2,  -179.3,2,     3.5,-999.000,9,-999.000,   39.90,2,  849.10,   0.0900,3,   0.2130,3,   0.0130,3,   0.1570,3,   0.0140,3,-999.0000,-999.000,   0.0670,3, -999.00
318M20040615,        P02,     137,          2,         21,         21,2,20040813,       0859,    29.9985,  -146.6477,       4987,   949.8,   3.8688,  34.3757,2,  34.3768,2,  13.6000,2,    13.1,2,  119.68,2,   44.01,2,    0.01,2,    3.22,2,   0.025,2,   0.014,2,   0.000,2,  2362.9,6,  2363.6,2,-999.000,9,-999.0000,9, -999.00,9,   -0.42,2,  -190.0,2,     3.7,-999.000,9,-999.000, -999.00,9,  949.80,-999.0000,9,-999.0000,9,-999.0000,9,-999.0000,9,-999.0000,9,-999.0000,-999.000,-999.0000,9, -999.00
318M20040615,        P02,     137,          2,         20,         20,2,20040813,       0859,    29.9985,  -146.6477,       4987,  1054.7,   3.5917,  34.4332,2,  34.4339,2,  19.4000,2,    19.9,2,  126.51,2,   43.89,2,    0.01,2,    3.20,2,   0.013,2,   0.008,2,   0.000,2,  2365.0,2,  2375.8,2,-999.000,9,-999.0000,9, -999.00,9,   -0.42,2,  -204.2,2,     3.3,-999.000,9,-999.000,   40.60,2, 1054.70,   0.0950,3,   0.2160,3,   0.0130,3,   0.1610,3,   0.0130,3,-999.0000,-999.000,   0.0720,3, -999.00
318M20040615,        P02,     137,          2,         19,         19,2,20040813,       0859,    29.9985,  -146.6477,       4987,  1152.8,   3.3630,  34.4780,2,  34.4787,2,  28.1000,2,    27.7,2,  131.33,2,   43.56,2,    0.01,2,    3.16,2,   0.010,2,   0.007,2,   0.000,2,  2368.7,2,  2382.8,2,-999.000,9,-999.0000,9, -999.00,9,   -0.36,2,  -216.4,2,     3.7,-999.000,9,-999.000, -999.00,9, 1152.80,-999.0000,9,-999.0000,9,-999.0000,9,-999.0000,9,-999.0000,9,-999.0000,-999.000,-999.0000,9, -999.00
318M20040615,        P02,     137,          2,         18,         18,2,20040813,       0859,    29.9985,  -146.6477,       4987,  1249.1,   3.1591,  34.5078,2,  34.5089,2,  35.5000,2,    35.2,2,  135.94,2,   43.22,2,    0.01,2,    3.13,2,-999.000,9,-999.000,9,-999.000,9,  2371.6,2,  2390.6,6,-999.000,9,-999.0000,9, -999.00,9,   -0.29,2,  -226.4,2,     3.6,-999.000,9,-999.000,   37.80,2, 1249.10,-999.0000,9,-999.0000,9,-999.0000,9,-999.0000,9,-999.0000,9,-999.0000,-999.000,-999.0000,9, -999.00
318M20040615,        P02,     137,          2,         17,         17,2,20040813,       0859,    29.9985,  -146.6477,       4987,  1350.7,   2.9486,  34.5319,2,  34.5333,2,  43.4000,2,    43.5,2,  140.57,2,   43.10,2,    0.01,2,    3.09,2,   0.008,2,   0.005,2,   0.000,2,  2371.9,2,  2397.2,2,-999.000,9,-999.0000,9, -999.00,9,   -0.25,2,  -228.2,2,     3.5,-999.000,9,-999.000, -999.00,9, 1350.70,-999.0000,9,-999.0000,9,-999.0000,9,-999.0000,9,-999.0000,9,-999.0000,-999.000,-999.0000,9, -999.00
318M20040615,        P02,     137,          2,         16,         16,2,20040813,       0859,    29.9985,  -146.6477,       4987,  1460.5,   2.7697,  34.5492,2,  34.5508,2,  51.6000,2,    51.3,2,  143.58,2,   42.87,2,    0.01,2,    3.05,2,-999.000,9,-999.000,9,-999.000,9,  2370.9,2,  2401.0,2,-999.000,9,-999.0000,9, -999.00,9,   -0.20,2,  -225.3,2,     3.3,-999.000,9,-999.000, -999.00,9, 1460.50,-999.0000,9,-999.0000,9,-999.0000,9,-999.0000,9,-999.0000,9,-999.0000,-999.000,-999.0000,9, -999.00
318M20040615,        P02,     137,          2,         15,         15,2,20040813,       0859,    29.9985,  -146.6477,       4987,  1563.0,   2.6058,  34.5647,2,  34.5655,2,  57.9000,2,    57.1,2,  147.41,2,   42.58,2,    0.01,2,    3.01,2,   0.006,2,   0.001,2,   0.000,2,  2370.6,2,  2406.5,2,-999.000,9,-999.0000,9, -999.00,9,   -0.21,2,  -237.3,2,     3.2,-999.000,9,-999.000,   38.00,2, 1563.00,-999.0000,9,-999.0000,9,-999.0000,9,-999.0000,9,-999.0000,9,-999.0000,-999.000,-999.0000,9, -999.00
318M20040615,        P02,     137,          2,         14,         14,2,20040813,       0859,    29.9985,  -146.6477,       4987,  1653.1,   2.4777,  34.5764,2,  34.5775,2,  63.0000,2,    62.1,2,  151.04,2,   42.03,2,    0.01,2,    2.98,2,   0.010,2,   0.003,2,   0.000,2,  2372.5,2,  2407.5,2,-999.000,9,-999.0000,9, -999.00,9,   -0.19,2,  -245.5,2,     3.2,-999.000,9,-999.000, -999.00,9, 1653.10,-999.0000,9,-999.0000,9,-999.0000,9,-999.0000,9,-999.0000,9,-999.0000,-999.000,-999.0000,9, -999.00
318M20040615,        P02,     137,          2,         13,         13,2,20040813,       0859,    29.9985,  -146.6477,       4987,  1755.8,   2.3498,  34.5876,2,  34.5887,2,  67.0000,2,    66.0,2,  154.47,2,   41.69,2,    0.00,2,    2.95,2,   0.004,2,   0.001,2,   0.000,2,  2372.2,2,  2411.6,2,-999.000,9,-999.0000,9, -999.00,9,   -0.21,2,  -247.0,2,     3.7,-999.000,9,-999.000,   37.10,2, 1755.80,-999.0000,9,-999.0000,9,-999.0000,9,-999.0000,9,-999.0000,9,-999.0000,-999.000,-999.0000,9, -999.00
318M20040615,        P02,     137,          2,         12,         12,2,20040813,       0859,    29.9985,  -146.6477,       4987,  1959.7,   2.1096,  34.6095,2,  34.6111,2,  76.0000,2,    75.2,2,  161.37,2,   41.15,2,    0.00,2,    2.91,2,   0.006,2,   0.001,2,   0.000,2,  2372.7,2,  2417.6,2,-999.000,9,-999.0000,9, -999.00,9,   -0.14,2,  -242.1,2,     3.1,-999.000,9,-999.000,   43.20,4, 1959.70,-999.0000,9,-999.0000,9,-999.0000,9,-999.0000,9,-999.0000,9,-999.0000,-999.000,-999.0000,9, -999.00
318M20040615,        P02,     137,          2,         11,         11,2,20040813,       0859,    29.9985,  -146.6477,       4987,  2123.6,   1.9561,  34.6234,2,  34.6246,2,  82.8000,2,    82.8,2,  165.43,2,   40.59,2,    0.00,2,    2.88,2,   0.007,2,   0.000,2,   0.000,2,  2371.2,2,  2424.1,2,-999.000,9,-999.0000,9, -999.00,9,   -0.17,2,  -242.7,2,     3.8,-999.000,9,-999.000,   91.90,4, 2123.60,   0.0370,3,   0.1350,3,   0.0220,3,   0.0850,3,   0.0250,3,-999.0000,-999.000,   0.0300,3, -999.00
318M20040615,        P02,     137,          2,         10,         10,2,20040813,       0859,    29.9985,  -146.6477,       4987,  2386.5,   1.7756,  34.6405,2,  34.6413,2,  93.5000,2,    95.0,2,  168.68,2,   39.83,2,    0.00,2,    2.81,2,   0.006,2,   0.002,2,   0.000,2,  2367.4,2,  2427.3,2,-999.000,9,-999.0000,9, -999.00,9,   -0.12,2,  -245.2,2,     3.4,-999.000,9,-999.000, -999.00,9, 2386.50,-999.0000,9,-999.0000,9,-999.0000,9,-999.0000,9,-999.0000,9,-999.0000,-999.000,-999.0000,9, -999.00
318M20040615,        P02,     137,          2,          9,          9,2,20040813,       0859,    29.9985,  -146.6477,       4987,  2639.8,   1.6653,  34.6525,2,  34.6533,2, 103.8000,2,   104.7,2,  169.28,2,   39.39,2,    0.00,2,    2.75,2,   0.004,6,   0.001,6,   0.000,6,  2362.8,2,  2427.3,2,-999.000,9,-999.0000,9, -999.00,9,   -0.06,2,  -241.0,2,     3.2,-999.000,9,-999.000, -999.00,9, 2639.80,-999.0000,9,-999.0000,9,-999.0000,9,-999.0000,9,-999.0000,9,-999.0000,-999.000,-999.0000,9, -999.00
318M20040615,        P02,     137,          2,          8,          8,2,20040813,       0859,    29.9985,  -146.6477,       4987,  2884.1,   1.5820,  34.6623,2,  34.6653,2, 114.0000,2,   115.5,2,  167.86,2,   38.89,2,    0.00,2,    2.70,2,-999.000,9,-999.000,9,-999.000,9,  2355.4,2,  2428.2,2,-999.000,9,-999.0000,9, -999.00,9,    0.00,2,  -243.6,2,     3.3,-999.000,9,-999.000,   44.20,4, 2884.10,-999.0000,9,-999.0000,9,-999.0000,9,-999.0000,9,-999.0000,9,-999.0000,-999.000,-999.0000,9, -999.00
318M20040615,        P02,     137,          2,          7,          7,2,20040813,       0859,    29.9985,  -146.6477,       4987,  3136.6,   1.5339,  34.6696,2,  34.6702,2, 122.9000,2,   124.0,2,  165.62,2,   38.45,2,    0.00,2,    2.65,2,   0.005,2,   0.000,2,   0.000,2,  2350.0,2,  2429.6,2,-999.000,9,-999.0000,9, -999.00,9,    0.07,2,  -234.9,2,     3.2,-999.000,9,-999.000,   82.40,4, 3136.60,   0.0690,3,   0.1690,3,   0.0120,3,   0.1210,3,   0.0140,3,-999.0000,-999.000,   0.0510,3, -999.00
318M20040615,        P02,     137,          2,          6,          6,2,20040813,       0859,    29.9985,  -146.6477,       4987,  3502.3,   1.4885,  34.6779,2,  34.6786,2, 134.5000,2,   135.1,2,  162.18,2,   37.68,2,    0.00,2,    2.59,2,-999.000,9,-999.000,9,-999.000,9,  2342.9,2,  2427.2,2,-999.000,9,-999.0000,9, -999.00,9,    0.14,2,  -230.2,2,     4.6,-999.000,9,-999.000, -999.00,9, 3502.30,-999.0000,9,-999.0000,9,-999.0000,9,-999.0000,9,-999.0000,9,-999.0000,-999.000,-999.0000,9, -999.00
318M20040615,        P02,     137,          2,          5,          5,2,20040813,       0859,    29.9985,  -146.6477,       4987,  3859.9,   1.4760,  34.6830,2,  34.6835,2, 142.3000,2,   142.6,2,  158.76,2,   37.04,2,    0.00,2,    2.55,2,   0.007,2,   0.003,2,   0.000,2,  2337.7,2,  2427.7,2,-999.000,9,-999.0000,9, -999.00,9,    0.22,2,  -232.6,2,     3.3,-999.000,9,-999.000,   46.60,4, 3859.90,-999.0000,9,-999.0000,9,-999.0000,9,-999.0000,9,-999.0000,9,-999.0000,-999.000,-999.0000,9, -999.00
318M20040615,        P02,     137,          2,          4,          4,2,20040813,       0859,    29.9985,  -146.6477,       4987,  4169.9,   1.4771,  34.6862,2,  34.6871,2, 147.9000,2,   148.1,2,  155.32,2,   36.54,2,    0.00,2,    2.52,2,   0.007,2,   0.005,2,   0.000,2,  2332.1,2,  2426.0,2,-999.000,9,-999.0000,9, -999.00,9,    0.25,2,  -227.0,2,     4.2,-999.000,9,-999.000,   62.50,4, 4169.90,-999.0000,9,-999.0000,9,-999.0000,9,-999.0000,9,-999.0000,9,-999.0000,-999.000,-999.0000,9, -999.00
318M20040615,        P02,     137,          2,          3,          3,2,20040813,       0859,    29.9985,  -146.6477,       4987,  4475.1,   1.4882,  34.6884,2,  34.6893,2, 152.1000,2,   152.3,2,  152.51,2,   36.22,2,    0.00,2,    2.49,2,   0.009,2,   0.007,2,   0.000,2,  2329.1,2,  2424.3,2,-999.000,9,-999.0000,9, -999.00,9,    0.27,2,  -228.9,2,     3.5,-999.000,9,-999.000, -999.00,9, 4475.10,-999.0000,9,-999.0000,9,-999.0000,9,-999.0000,9,-999.0000,9,-999.0000,-999.000,-999.0000,9, -999.00
318M20040615,        P02,     137,          2,          2,          2,2,20040813,       0859,    29.9985,  -146.6477,       4987,  4826.9,   1.5110,  34.6902,2,  34.6906,2, 155.6000,2,   155.7,2,  150.32,2,   35.90,2,    0.00,2,    2.48,2,   0.012,2,   0.011,2,   0.000,2,  2324.4,2,  2422.7,2,-999.000,9,-999.0000,9, -999.00,9,    0.26,2,  -224.5,2,     3.8,-999.000,9,-999.000,   36.90,2, 4826.90,-999.0000,9,-999.0000,9,-999.0000,9,-999.0000,9,-999.0000,9,-999.0000,-999.000,-999.0000,9, -999.00
318M20040615,        P02,     137,          2,          1,          1,2,20040813,       0859,    29.9985,  -146.6477,       4987,  5078.4,   1.5293,  34.6909,2,  34.6910,2, 157.8000,2,   158.7,2,  147.54,2,   35.74,2,    0.00,2,    2.48,2,   0.012,2,   0.008,2,   0.000,2,  2322.7,6,  2420.8,6,-999.000,9,-999.0000,9, -999.00,9,    0.35,2,  -219.5,2,     3.4,-999.000,9,-999.000,   37.30,2, 5078.40,-999.0000,9,-999.0000,9,-999.0000,9,-999.0000,9,-999.0000,9,-999.0000,-999.000,-999.0000,9, -999.00