BOTTLE,20131027SIOCCHRJL
EXPOCODE,SECT_ID,STNNBR,CASTNO,SAMPNO,BTLNBR,BTLNBR_FLAG_W,DATE,TIME,LATITUDE,LONGITUDE,DEPTH,CTDPRS,CTDTMP,CTDSAL,CTDSAL_FLAG_W,SALNTY,SALNTY_FLAG_W,CTDOXY,CTDOXY_FLAG_W,OXYGEN,OXYGEN_FLAG_W,SILCAT,SILCAT_FLAG_W,NITRAT,NITRAT_FLAG_W,NITRIT,NITRIT_FLAG_W,PHSPHT,PHSPHT_FLAG_W,CFC-11,CFC-11_FLAG_W,CFC-12,CFC-12_FLAG_W,CFC113,CFC113_FLAG_W,TCARBN,TCARBN_FLAG_W,ALKALI,ALKALI_FLAG_W,TRITUM,TRITUM_FLAG_W,HELIUM,HELIUM_FLAG_W,DELHE3,DELHE3_FLAG_W,DELC13,DELC13_FLAG_W,DELC14,DELC14_FLAG_W,C14ERR,NEON,NEON_FLAG_W,NEONER,DOC,DOC_FLAG_W,CTDRAW,CDOM380,CDOM380_FLAG_W,CDOM325,CDOM325_FLAG_W,CDOMSL,CDOMSL_FLAG_W,CDOM340,CDOM340_FLAG_W,CDOMSN,CDOMSN_FLAG_W,HELIER,TRITER,CDOM412,CDOM412_FLAG_W,DELHER
,,,,,,,,,,,METERS,DBAR,ITS-90,PSS-78,,PSS-78,,UMOL/KG,,UMOL/KG,,UMOL/KG,,UMOL/KG,,UMOL/KG,,UMOL/KG,,PMOL/KG,,PMOL/KG,,PMOL/KG,,UMOL/KG,,UMOL/KG,,TU,,NMOL/KG,,PERCNT,,/MILLE,,/MILLE,,/MILLE,NMOL/KG,,NMOL/KG,UMOL/KG,,DBAR,1/M,,1/M,,1/NM,,1/M,,1/NM,,NMOL/KG,TU,1/M,,PERCNT
318M20040615,        P02,      38,          2,         35,         35,2,20040629,       1436,    30.0093,    147.969,       6120,    10.2,  28.2082,  35.0963,2,  35.1040,2, 199.7000,2,   199.1,2,    1.63,2,    0.31,2,    0.32,2,    0.04,2,   1.641,2,   1.041,2,   0.118,2,  1981.4,6,  2304.2,6,-999.000,9,   1.7345,2,   -0.99,2, -999.00,9,  -999.0,9,  -999.0,-999.000,9,-999.000,   68.70,2,   10.20,-999.0000,9,-999.0000,9,-999.0000,9,-999.0000,9,-999.0000,9,   0.0087,-999.000,-999.0000,9,    0.20
318M20040615,        P02,      38,          2,         34,         34,2,20040629,       1436,    30.0093,    147.969,       6120,    38.7,  23.4618,  34.9708,2,  34.9784,2, 225.1000,2,   225.7,2,    1.46,2,    0.21,2,    0.00,2,    0.03,2,   2.029,2,   1.246,2,   0.144,2,  1982.2,2,  2296.7,2,   0.744,2,   1.7417,2,   -1.64,2, -999.00,9,  -999.0,9,  -999.0,-999.000,9,-999.000,   65.20,2,   38.70,-999.0000,9,-999.0000,9,-999.0000,9,-999.0000,9,-999.0000,9,   0.0087,   0.004,-999.0000,9,    0.20
318M20040615,        P02,      38,          2,         33,         33,2,20040629,       1436,    30.0093,    147.969,       6120,    74.1,  20.6094,  34.8991,2,  34.8990,2, 236.7000,2,   237.4,2,    1.63,2,    0.21,2,    0.00,2,    0.04,2,   2.254,2,   1.369,2,   0.153,2,  1985.6,2,  2291.8,2,   0.772,2,-999.0000,9, -999.00,9, -999.00,9,  -999.0,9,  -999.0,-999.000,9,-999.000,   62.00,2,   74.10,-999.0000,9,-999.0000,9,-999.0000,9,-999.0000,9,-999.0000,9,-999.0000,   0.005,-999.0000,9, -999.00
318M20040615,        P02,      38,          2,         32,         32,2,20040629,       1436,    30.0093,    147.969,       6120,   123.1,  18.9802,  34.9069,2,  34.9051,2, 210.7000,2,   214.7,2,    1.99,2,    1.19,2,    0.06,2,    0.13,2,   2.302,2,   1.393,2,   0.125,2,  2010.4,2,  2290.8,2,   0.791,2,   1.8073,2,   -2.41,2, -999.00,9,  -999.0,9,  -999.0,-999.000,9,-999.000,   56.60,2,  123.10,-999.0000,9,-999.0000,9,-999.0000,9,-999.0000,9,-999.0000,9,   0.0090,   0.005,-999.0000,9,    0.20
318M20040615,        P02,      38,          2,         31,         31,2,20040629,       1436,    30.0093,    147.969,       6120,   178.7,  17.7782,  34.8116,2,-999.0000,9, 210.0000,9,   216.1,2, -999.00,1, -999.00,5, -999.00,5, -999.00,5,   2.409,6,   1.449,6,   0.109,6,  2018.4,2,  2284.8,2,   0.810,2,   1.8121,2,   -2.12,2, -999.00,9,  -999.0,9,  -999.0,-999.000,9,-999.000,   53.60,2,  178.70,-999.0000,9,-999.0000,9,-999.0000,9,-999.0000,9,-999.0000,9,   0.0091,   0.006,-999.0000,9,    0.20
318M20040615,        P02,      38,          2,         30,         30,2,20040629,       1436,    30.0093,    147.969,       6120,   227.3,  17.1664,  34.7761,2,  34.7754,2, 215.5000,2,   217.1,2,    3.44,2,    3.94,2,    0.01,2,    0.29,2,   2.443,2,   1.468,2,   0.096,2,  2023.8,2,  2281.2,2,   0.801,2,   1.8291,2,   -1.76,2, -999.00,9,  -999.0,9,  -999.0,-999.000,9,-999.000,   53.30,2,  227.30,-999.0000,9,-999.0000,9,-999.0000,9,-999.0000,9,-999.0000,9,   0.0091,   0.005,-999.0000,9,    0.20
318M20040615,        P02,      38,          2,         29,         29,2,20040629,       1436,    30.0093,    147.969,       6120,   276.9,  16.8450,  34.7619,2,  34.7615,2, 218.6000,2,   217.3,2,    3.99,2,    4.41,2,    0.01,2,    0.32,2,   2.465,2,   1.483,2,   0.081,2,  2025.5,2,  2280.9,2,-999.000,9,-999.0000,9, -999.00,9, -999.00,9,  -999.0,9,  -999.0,-999.000,9,-999.000,   51.50,2,  276.90,-999.0000,9,-999.0000,9,-999.0000,9,-999.0000,9,-999.0000,9,-999.0000,-999.000,-999.0000,9, -999.00
318M20040615,        P02,      38,          2,         28,         28,2,20040629,       1436,    30.0093,    147.969,       6120,   326.6,  16.3632,  34.7069,2,  34.7067,2, 212.6000,2,   207.9,2,    5.25,2,    5.91,2,    0.01,2,    0.42,2,   2.503,2,   1.488,2,   0.048,2,  2038.0,2,  2278.6,2,-999.000,9,   1.7942,2,    0.06,2, -999.00,9,  -999.0,9,  -999.0,-999.000,9,-999.000,   49.40,2,  326.60,-999.0000,9,-999.0000,9,-999.0000,9,-999.0000,9,-999.0000,9,   0.0090,-999.000,-999.0000,9,    0.20
318M20040615,        P02,      38,          2,         27,         27,2,20040629,       1436,    30.0093,    147.969,       6120,   377.4,  15.4100,  34.6180,2,  34.6183,2, 202.2000,2,   197.0,2,    7.97,2,    8.31,2,    0.00,2,    0.58,2,   2.574,2,   1.483,2,   0.025,2,  2055.7,2,  2275.2,2,   0.859,2,   1.7877,2,    0.54,2, -999.00,9,  -999.0,9,  -999.0,   7.152,2,   0.036,   47.80,2,  377.40,-999.0000,9,-999.0000,9,-999.0000,9,-999.0000,9,-999.0000,9,   0.0089,   0.006,-999.0000,9,    0.20
318M20040615,        P02,      38,          2,         26,         26,2,20040629,       1436,    30.0093,    147.969,       6120,   448.4,  13.7389,  34.4915,2,  34.4928,2, 193.5000,2,   192.6,2,   12.13,2,   11.23,2,    0.00,2,    0.79,2,   2.666,2,   1.506,2,   0.032,2,  2078.6,2,  2273.2,2,   0.869,2,   1.7951,2,    1.84,2, -999.00,9,  -999.0,9,  -999.0,   7.222,2,   0.036,   46.90,2,  448.40,-999.0000,9,-999.0000,9,-999.0000,9,-999.0000,9,-999.0000,9,   0.0090,   0.007,-999.0000,9,    0.20
318M20040615,        P02,      38,          2,         25,         25,2,20040629,       1436,    30.0093,    147.969,       6120,   487.6,  12.9373,  34.4322,2,  34.4318,2, 191.7000,2,   191.2,2,   14.29,2,   12.63,2,    0.00,2,    0.90,2,   2.700,2,   1.496,2,   0.038,2,  2088.1,2,  2269.7,2,   0.861,2,   1.8068,2,    3.66,2, -999.00,9,  -999.0,9,  -999.0,   7.291,2,   0.036,   46.00,2,  487.60,-999.0000,9,-999.0000,9,-999.0000,9,-999.0000,9,-999.0000,9,   0.0090,   0.006,-999.0000,9,    0.20
318M20040615,        P02,      38,          2,         24,         24,2,20040629,       1436,    30.0093,    147.969,       6120,   539.3,  11.7295,  34.3515,2,  34.3532,2, 186.9000,2,   187.6,2,   19.34,2,   15.13,2,    0.00,2,    1.07,2,   2.645,2,   1.452,2,   0.053,2,  2105.7,2,  2270.6,2,   0.845,2,   1.8189,2,    4.61,2, -999.00,9,  -999.0,9,  -999.0,   7.397,2,   0.037,   45.70,2,  539.30,-999.0000,9,-999.0000,9,-999.0000,9,-999.0000,9,-999.0000,9,   0.0091,   0.006,-999.0000,9,    0.20
318M20040615,        P02,      38,          2,         23,         23,2,20040629,       1436,    30.0093,    147.969,       6120,   757.5,   6.4356,  34.0265,2,  34.0383,2, 144.7000,2,   141.3,2,   54.66,2,   28.43,2,    0.00,2,    2.06,2,   2.079,2,   1.078,2,   0.092,2,  2205.1,2,  2285.6,2,   0.660,2,   1.8781,2,   12.10,2, -999.00,9,  -999.0,9,  -999.0,   7.723,2,   0.039,   43.70,2,  757.50,-999.0000,9,-999.0000,9,-999.0000,9,-999.0000,9,-999.0000,9,   0.0094,   0.008,-999.0000,9,    0.20
318M20040615,        P02,      38,          2,         22,         22,2,20040629,       1436,    30.0093,    147.969,       6120,   830.4,   5.4885,  34.0782,2,  34.0760,2, 105.7000,2,   102.0,2,   73.74,2,   33.64,2,    0.00,2,    2.45,2,   1.441,2,   0.724,2,   0.056,2,  2252.9,2,  2303.2,2,   0.547,2,   1.8903,2,   14.72,2, -999.00,9,  -999.0,9,  -999.0,   7.779,2,   0.039,   42.40,2,  830.40,-999.0000,9,-999.0000,9,-999.0000,9,-999.0000,9,-999.0000,9,   0.0095,   0.007,-999.0000,9,    0.20
318M20040615,        P02,      38,          2,         21,         21,2,20040629,       1436,    30.0093,    147.969,       6120,   935.5,   4.5920,  34.1634,2,  34.1631,2,  72.1000,2,    67.1,2,   94.50,2,   38.38,2,    0.00,2,    2.77,2,   0.777,2,   0.396,2,   0.031,2,  2297.2,2,  2323.5,2,   0.331,2,   1.9035,2,   16.60,2, -999.00,9,  -999.0,9,  -999.0,   7.734,2,   0.039,   41.40,2,  935.50,-999.0000,9,-999.0000,9,-999.0000,9,-999.0000,9,-999.0000,9,   0.0095,   0.006,-999.0000,9,    0.20
318M20040615,        P02,      38,          2,         20,         20,2,20040629,       1436,    30.0093,    147.969,       6120,  1047.7,   3.9560,  34.2557,2,  34.2547,2,  47.4000,2,    46.6,2,  112.42,2,   41.00,2,    0.00,2,    2.94,2,   0.378,2,   0.189,2,   0.012,2,  2329.1,2,  2344.2,2,   0.189,2,   1.8987,2,   16.53,2, -999.00,9,  -999.0,9,  -999.0,   7.835,2,   0.039,   40.60,2, 1047.70,-999.0000,9,-999.0000,9,-999.0000,9,-999.0000,9,-999.0000,9,   0.0095,   0.004,-999.0000,9,    0.20
318M20040615,        P02,      38,          2,         19,         19,2,20040629,       1436,    30.0093,    147.969,       6120,  1155.3,   3.5655,  34.3269,2,  34.3263,2,  39.4000,2,    39.0,2,  123.87,2,   42.06,2,    0.00,2,    3.01,2,   0.184,2,   0.092,2,   0.009,2,  2346.0,2,  2356.8,2,   0.130,2,   1.9351,2,   17.08,2, -999.00,9,  -999.0,9,  -999.0,   7.892,2,   0.039,   39.90,2, 1155.30,-999.0000,9,-999.0000,9,-999.0000,9,-999.0000,9,-999.0000,9,   0.0097,   0.003,-999.0000,9,    0.20
318M20040615,        P02,      38,          2,         18,         18,2,20040629,       1436,    30.0093,    147.969,       6120,  1275.2,   3.2050,  34.4006,2,  34.4007,2,  37.3000,2,    37.5,2,  133.75,2,   42.64,2,    0.00,2,    3.05,2,   0.070,2,   0.037,2,   0.003,2,  2358.5,6,  2372.4,6,   0.057,2,   1.9310,2,   16.75,2, -999.00,9,  -999.0,9,  -999.0,   7.916,2,   0.040,   39.80,2, 1275.20,-999.0000,9,-999.0000,9,-999.0000,9,-999.0000,9,-999.0000,9,   0.0097,   0.002,-999.0000,9,    0.20
318M20040615,        P02,      38,          2,         17,         17,2,20040629,       1436,    30.0093,    147.969,       6120,  1351.5,   3.0140,  34.4321,2,  34.4320,2,  38.1000,2,    37.9,2,  138.88,2,   42.81,2,    0.00,2,    3.05,2,   0.043,2,   0.020,2,   0.006,2,  2364.7,2,  2378.5,2,   0.045,2,   1.6247,2,   16.65,2, -999.00,9,  -999.0,9,  -999.0,   6.593,2,   0.033,   39.00,2, 1351.50,-999.0000,9,-999.0000,9,-999.0000,9,-999.0000,9,-999.0000,9,   0.0081,   0.002,-999.0000,9,    0.20
318M20040615,        P02,      38,          2,         16,         16,2,20040629,       1436,    30.0093,    147.969,       6120,  1445.6,   2.8387,  34.4613,2,  34.4623,2,  40.4000,2,    40.5,2,  143.81,2,   42.75,2,    0.00,2,    3.05,2,   0.028,2,   0.013,2,   0.004,2,  2369.0,2,  2384.7,2,-999.000,9,   1.9590,2,   18.75,2, -999.00,9,  -999.0,9,  -999.0,   7.946,2,   0.040,   37.70,2, 1445.60,-999.0000,9,-999.0000,9,-999.0000,9,-999.0000,9,-999.0000,9,   0.0098,-999.000,-999.0000,9,    0.20
318M20040615,        P02,      38,          2,         15,         15,2,20040629,       1436,    30.0093,    147.969,       6120,  1556.5,   2.5920,  34.5032,2,  34.5030,2,  46.4000,2,    47.2,2,  149.12,2,   42.47,2,    0.00,2,    3.03,2,   0.012,2,   0.005,2,   0.001,2,  2371.1,2,  2393.5,2,   0.018,2,   1.9782,2,   19.91,2, -999.00,9,  -999.0,9,  -999.0,   7.985,2,   0.040,   37.90,2, 1556.50,-999.0000,9,-999.0000,9,-999.0000,9,-999.0000,9,-999.0000,9,   0.0099,   0.001,-999.0000,9,    0.20
318M20040615,        P02,      38,          2,         14,         14,2,20040629,       1436,    30.0093,    147.969,       6120,  1737.4,   2.3203,  34.5461,2,  34.5460,2,  58.5000,2,    59.0,2,  154.29,2,   42.02,2,    0.00,2,    2.97,2,   0.006,2,   0.003,2,   0.006,2,  2370.3,2,  2401.5,2,   0.031,2,   1.9641,2,   19.94,2, -999.00,9,  -999.0,9,  -999.0,   7.910,2,   0.040,   37.30,2, 1737.40,-999.0000,9,-999.0000,9,-999.0000,9,-999.0000,9,-999.0000,9,   0.0098,   0.001,-999.0000,9,    0.20
318M20040615,        P02,      38,          2,         13,         13,2,20040629,       1436,    30.0093,    147.969,       6120,  1920.1,   2.1239,  34.5773,2,  34.5781,2,  74.0000,2,    74.1,2,  156.12,2,   41.28,2,    0.00,2,    2.90,2,   0.005,2,   0.003,2,   0.003,2,  2365.6,2,  2406.1,2,   0.012,2,   1.9836,2,   20.33,2, -999.00,9,  -999.0,9,  -999.0,   8.029,2,   0.040,   38.10,2, 1920.10,-999.0000,9,-999.0000,9,-999.0000,9,-999.0000,9,-999.0000,9,   0.0099,   0.001,-999.0000,9,    0.20
318M20040615,        P02,      38,          2,         12,         12,2,20040629,       1436,    30.0093,    147.969,       6120,  2089.0,   1.9777,  34.6011,2,  34.6019,2,  88.7000,2,    87.9,2,  155.76,2,   40.28,2,    0.00,2,    2.84,2,   0.002,2,   0.002,2,   0.000,2,  2359.3,2,  2408.9,2,   0.007,2,   1.9543,2,   19.81,2, -999.00,9,  -999.0,9,  -999.0,   7.961,2,   0.040,   38.00,2, 2089.00,-999.0000,9,-999.0000,9,-999.0000,9,-999.0000,9,-999.0000,9,   0.0098,   0.000,-999.0000,9,    0.20
318M20040615,        P02,      38,          2,         11,         11,2,20040629,       1436,    30.0093,    147.969,       6120,  2369.3,   1.8177,  34.6266,2,  34.6277,2, 103.7000,2,   103.7,2,  155.22,2,   39.39,2,    0.00,2,    2.76,2,   0.003,2,   0.001,2,  -0.002,2,  2351.7,2,  2413.2,2,-999.000,9,-999.0000,9, -999.00,9, -999.00,9,  -999.0,9,  -999.0,-999.000,9,-999.000,   38.10,2, 2369.30,-999.0000,9,-999.0000,9,-999.0000,9,-999.0000,9,-999.0000,9,-999.0000,-999.000,-999.0000,9, -999.00
318M20040615,        P02,      38,          2,         10,         10,2,20040629,       1436,    30.0093,    147.969,       6120,  2636.3,   1.7090,  34.6436,2,  34.6444,2, 115.9000,2,   115.4,2,  153.91,2,   38.60,2,    0.00,2,    2.70,2,   0.000,2,   0.001,2,   0.002,2,  2345.7,2,  2413.5,2,-999.000,9,-999.0000,9, -999.00,9, -999.00,9,  -999.0,9,  -999.0,-999.000,9,-999.000,   37.60,2, 2636.30,-999.0000,9,-999.0000,9,-999.0000,9,-999.0000,9,-999.0000,9,-999.0000,-999.000,-999.0000,9, -999.00
318M20040615,        P02,      38,          2,          9,          9,2,20040629,       1436,    30.0093,    147.969,       6120,  2921.8,   1.6283,  34.6563,2,  34.6570,2, 125.2000,2,   125.1,2,  152.98,2,   38.00,2,    0.00,2,    2.65,2,   0.000,2,   0.001,2,  -0.001,2,  2340.1,2,  2415.7,2,-999.000,9,-999.0000,9, -999.00,9, -999.00,9,  -999.0,9,  -999.0,-999.000,9,-999.000,   37.70,2, 2921.80,-999.0000,9,-999.0000,9,-999.0000,9,-999.0000,9,-999.0000,9,-999.0000,-999.000,-999.0000,9, -999.00
318M20040615,        P02,      38,          2,          8,          8,2,20040629,       1436,    30.0093,    147.969,       6120,  3154.6,   1.5803,  34.6642,2,  34.6644,2, 131.5000,2,   132.5,2,  151.69,2,   37.44,2,    0.00,2,    2.62,2,   0.000,2,   0.000,2,  -0.003,2,  2337.3,2,  2416.0,2,-999.000,9,-999.0000,9, -999.00,9, -999.00,9,  -999.0,9,  -999.0,-999.000,9,-999.000,   37.30,2, 3154.60,-999.0000,9,-999.0000,9,-999.0000,9,-999.0000,9,-999.0000,9,-999.0000,-999.000,-999.0000,9, -999.00
318M20040615,        P02,      38,          2,          7,          7,2,20040629,       1436,    30.0093,    147.969,       6120,  3566.5,   1.5254,  34.6739,2,  34.6744,2, 140.5000,2,   140.9,2,  150.42,2,   36.89,2,    0.00,2,    2.57,2,  -0.002,2,  -0.001,2,  -0.003,2,  2330.5,2,  2414.5,2,-999.000,9,-999.0000,9, -999.00,9, -999.00,9,  -999.0,9,  -999.0,-999.000,9,-999.000,   37.10,2, 3566.50,-999.0000,9,-999.0000,9,-999.0000,9,-999.0000,9,-999.0000,9,-999.0000,-999.000,-999.0000,9, -999.00
318M20040615,        P02,      38,          2,          6,          6,2,20040629,       1436,    30.0093,    147.969,       6120,  3981.6,   1.4991,  34.6806,2,  34.6823,2, 147.9000,3,   148.2,2,  148.76,2,   36.40,2,    0.00,2,    2.53,2,   0.001,2,  -0.001,2,  -0.001,2,  2325.3,2,  2414.4,2,-999.000,9,-999.0000,9, -999.00,9, -999.00,9,  -999.0,9,  -999.0,-999.000,9,-999.000,   37.50,2, 3981.60,-999.0000,9,-999.0000,9,-999.0000,9,-999.0000,9,-999.0000,9,-999.0000,-999.000,-999.0000,9, -999.00
318M20040615,        P02,      38,          2,          5,          5,2,20040629,       1436,    30.0093,    147.969,       6120,  4383.6,   1.4888,  34.6856,2,  34.6869,2, 153.8000,3,   154.6,2,  146.54,2,   35.89,2,    0.00,2,    2.50,2,   0.002,2,  -0.002,2,   0.000,2,  2321.4,2,  2413.9,2,-999.000,9,-999.0000,9, -999.00,9, -999.00,9,  -999.0,9,  -999.0,-999.000,9,-999.000,   37.70,2, 4383.60,-999.0000,9,-999.0000,9,-999.0000,9,-999.0000,9,-999.0000,9,-999.0000,-999.000,-999.0000,9, -999.00
318M20040615,        P02,      38,          2,          4,          4,2,20040629,       1436,    30.0093,    147.969,       6120,  4761.4,   1.4986,  34.6888,2,  34.6895,2, 158.7000,3,   159.2,2,  143.97,2,   35.56,2,    0.00,2,    2.46,2,   0.001,2,   0.001,2,   0.000,2,  2317.2,2,  2410.2,2,-999.000,9,-999.0000,9, -999.00,9, -999.00,9,  -999.0,9,  -999.0,-999.000,9,-999.000,   37.50,2, 4761.40,-999.0000,9,-999.0000,9,-999.0000,9,-999.0000,9,-999.0000,9,-999.0000,-999.000,-999.0000,9, -999.00
318M20040615,        P02,      38,          2,          3,          3,2,20040629,       1436,    30.0093,    147.969,       6120,  5289.5,   1.5306,  34.6919,2,  34.6933,2, 164.1000,3,   164.4,2,  141.22,2,   35.18,2,    0.00,2,    2.44,2,   0.001,2,   0.000,2,  -0.001,2,  2311.5,2,  2409.1,2,-999.000,9,-999.0000,9, -999.00,9, -999.00,9,  -999.0,9,  -999.0,-999.000,9,-999.000,   37.60,2, 5289.50,-999.0000,9,-999.0000,9,-999.0000,9,-999.0000,9,-999.0000,9,-999.0000,-999.000,-999.0000,9, -999.00
318M20040615,        P02,      38,          2,          2,          2,2,20040629,       1436,    30.0093,    147.969,       6120,  5720.3,   1.5687,  34.6936,2,  34.6947,2, 167.3000,3,   167.8,2,  138.65,2,   34.91,2,    0.00,2,    2.42,2,   0.004,2,   0.002,2,  -0.003,2,  2308.2,2,  2407.4,2,-999.000,9,-999.0000,9, -999.00,9, -999.00,9,  -999.0,9,  -999.0,-999.000,9,-999.000,   38.20,2, 5720.30,-999.0000,9,-999.0000,9,-999.0000,9,-999.0000,9,-999.0000,9,-999.0000,-999.000,-999.0000,9, -999.00
318M20040615,        P02,      38,          2,          1,          1,2,20040629,       1436,    30.0093,    147.969,       6120,  6105.4,   1.6080,  34.6947,2,  34.6965,2, 169.6000,3,   170.1,2,  136.81,2,   34.80,2,    0.00,2,    2.40,2,   0.003,2,   0.001,2,   0.002,2,  2305.7,6,  2405.4,2,-999.000,9,-999.0000,9, -999.00,9, -999.00,9,  -999.0,9,  -999.0,-999.000,9,-999.000,   38.10,2, 6105.40,-999.0000,9,-999.0000,9,-999.0000,9,-999.0000,9,-999.0000,9,-999.0000,-999.000,-999.0000,9, -999.00