BOTTLE,20131027SIOCCHRJL
EXPOCODE,SECT_ID,STNNBR,CASTNO,SAMPNO,BTLNBR,BTLNBR_FLAG_W,DATE,TIME,LATITUDE,LONGITUDE,DEPTH,CTDPRS,CTDTMP,CTDSAL,CTDSAL_FLAG_W,SALNTY,SALNTY_FLAG_W,CTDOXY,CTDOXY_FLAG_W,OXYGEN,OXYGEN_FLAG_W,SILCAT,SILCAT_FLAG_W,NITRAT,NITRAT_FLAG_W,NITRIT,NITRIT_FLAG_W,PHSPHT,PHSPHT_FLAG_W,CFC-11,CFC-11_FLAG_W,CFC-12,CFC-12_FLAG_W,CFC113,CFC113_FLAG_W,TCARBN,TCARBN_FLAG_W,ALKALI,ALKALI_FLAG_W,TRITUM,TRITUM_FLAG_W,HELIUM,HELIUM_FLAG_W,DELHE3,DELHE3_FLAG_W,DELC13,DELC13_FLAG_W,DELC14,DELC14_FLAG_W,C14ERR,NEON,NEON_FLAG_W,NEONER,DOC,DOC_FLAG_W,CTDRAW,CDOM380,CDOM380_FLAG_W,CDOM325,CDOM325_FLAG_W,CDOMSL,CDOMSL_FLAG_W,CDOM340,CDOM340_FLAG_W,CDOMSN,CDOMSN_FLAG_W,HELIER,TRITER,CDOM412,CDOM412_FLAG_W,DELHER
,,,,,,,,,,,METERS,DBAR,ITS-90,PSS-78,,PSS-78,,UMOL/KG,,UMOL/KG,,UMOL/KG,,UMOL/KG,,UMOL/KG,,UMOL/KG,,PMOL/KG,,PMOL/KG,,PMOL/KG,,UMOL/KG,,UMOL/KG,,TU,,NMOL/KG,,PERCNT,,/MILLE,,/MILLE,,/MILLE,NMOL/KG,,NMOL/KG,UMOL/KG,,DBAR,1/M,,1/M,,1/NM,,1/M,,1/NM,,NMOL/KG,TU,1/M,,PERCNT
318M20040615,        P02,      90,          2,         36,         36,2,20040717,       0819,    29.9992,  -176.7557,       5391,     9.2,  26.0476,  35.1142,2,  35.1159,2, 209.6000,2,   208.4,2,    1.45,2,    0.16,2,    0.00,2,    0.03,2,   1.759,2,   1.090,2,   0.134,2,  1998.1,6,  2305.7,6,-999.000,9,-999.0000,9, -999.00,9,    1.11,2,    73.5,2,     4.2,-999.000,9,-999.000,   68.10,2,    9.20,-999.0000,9,-999.0000,9,-999.0000,9,-999.0000,9,-999.0000,9,-999.0000,-999.000,-999.0000,9, -999.00
318M20040615,        P02,      90,          2,         35,         35,2,20040717,       0819,    29.9992,  -176.7557,       5391,    40.7,  21.5174,  35.1388,2,  35.1356,2, 236.1000,2,   235.9,2,    1.64,2,    0.16,2,    0.00,2,    0.03,2,   2.161,2,   1.301,2,   0.156,2,  2003.5,2,  2307.1,2,-999.000,9,-999.0000,9, -999.00,9,    1.16,2,    80.8,2,     4.2,-999.000,9,-999.000,   64.70,2,   40.70,-999.0000,9,-999.0000,9,-999.0000,9,-999.0000,9,-999.0000,9,-999.0000,-999.000,-999.0000,9, -999.00
318M20040615,        P02,      90,          2,         34,         34,2,20040717,       0819,    29.9992,  -176.7557,       5391,    85.8,  17.8709,  34.8088,2,  34.8076,2, 239.5000,2,   240.4,2,    2.42,2,    0.10,2,    0.00,2,    0.08,2,   2.461,2,   1.439,2,   0.158,2,  2009.7,2,  2285.7,2,-999.000,9,-999.0000,9, -999.00,9,    0.88,2,    69.8,2,     4.5,-999.000,9,-999.000,   61.20,2,   85.80,-999.0000,9,-999.0000,9,-999.0000,9,-999.0000,9,-999.0000,9,-999.0000,-999.000,-999.0000,9, -999.00
318M20040615,        P02,      90,          2,         33,         33,2,20040717,       0819,    29.9992,  -176.7557,       5391,   135.4,  16.5851,  34.7299,2,  34.7309,2, 223.0000,2,   223.5,2,    4.18,2,    3.44,2,    0.04,2,    0.27,2,   2.562,2,   1.488,2,   0.141,2,  2030.0,2,  2281.8,2,-999.000,9,-999.0000,9, -999.00,9,    0.75,2,    79.1,2,     4.6,-999.000,9,-999.000,   56.90,2,  135.40,-999.0000,9,-999.0000,9,-999.0000,9,-999.0000,9,-999.0000,9,-999.0000,-999.000,-999.0000,9, -999.00
318M20040615,        P02,      90,          2,         32,         32,2,20040717,       0819,    29.9992,  -176.7557,       5391,   185.6,  15.7463,  34.6417,2,  34.6415,2, 214.1000,2,   214.8,2,    5.75,2,    5.84,2,    0.01,2,    0.42,2,   2.633,2,   1.527,2,   0.088,2,  2042.5,2,  2277.1,2,-999.000,9,-999.0000,9, -999.00,9,    0.69,2,    72.5,2,     6.0,-999.000,9,-999.000,   54.20,2,  185.60,-999.0000,9,-999.0000,9,-999.0000,9,-999.0000,9,-999.0000,9,-999.0000,-999.000,-999.0000,9, -999.00
318M20040615,        P02,      90,          2,         31,         31,2,20040717,       0819,    29.9992,  -176.7557,       5391,   235.0,  14.9048,  34.5814,2,  34.5814,2, 216.3000,2,   218.6,2,    7.32,2,    6.95,2,    0.01,2,    0.49,2,   2.711,2,   1.560,2,   0.104,2,  2047.3,2,  2273.9,2,-999.000,9,-999.0000,9, -999.00,9,    0.65,2,    70.0,2,     4.4,-999.000,9,-999.000,   52.20,2,  235.00,-999.0000,9,-999.0000,9,-999.0000,9,-999.0000,9,-999.0000,9,-999.0000,-999.000,-999.0000,9, -999.00
318M20040615,        P02,      90,          2,         30,         30,2,20040717,       0819,    29.9992,  -176.7557,       5391,   285.0,  13.8669,  34.5010,2,  34.5013,2, 215.9000,2,   216.1,2,    9.69,2,    8.96,2,    0.00,2,    0.64,2,   2.811,2,   1.593,2,   0.081,2,  2062.2,2,  2273.1,2,-999.000,9,-999.0000,9, -999.00,9,    0.61,2,    77.7,2,     4.1,-999.000,9,-999.000,   51.00,2,  285.00,-999.0000,9,-999.0000,9,-999.0000,9,-999.0000,9,-999.0000,9,-999.0000,-999.000,-999.0000,9, -999.00
318M20040615,        P02,      90,          2,         29,         29,2,20040717,       0819,    29.9992,  -176.7557,       5391,   333.6,  12.9585,  34.4292,2,  34.4257,2, 217.1000,2,   216.3,2,   11.86,2,   10.41,2,    0.00,2,    0.73,2,   2.897,6,   1.620,6,   0.090,6,  2073.1,2,  2270.2,2,-999.000,9,-999.0000,9, -999.00,9,    0.59,2,    72.0,2,     4.6,-999.000,9,-999.000,   50.10,2,  333.60,-999.0000,9,-999.0000,9,-999.0000,9,-999.0000,9,-999.0000,9,-999.0000,-999.000,-999.0000,9, -999.00
318M20040615,        P02,      90,          2,         28,         28,2,20040717,       0819,    29.9992,  -176.7557,       5391,   384.5,  12.0310,  34.3551,2,  34.3560,2, 215.3000,2,   216.3,2,   13.04,2,   11.85,2,    0.00,2,    0.87,2,   2.989,2,   1.650,2,   0.096,2,  2082.8,2,  2267.8,2,-999.000,9,-999.0000,9, -999.00,9,    0.55,2,    66.8,2,     5.8,-999.000,9,-999.000,   49.60,2,  384.50,-999.0000,9,-999.0000,9,-999.0000,9,-999.0000,9,-999.0000,9,-999.0000,-999.000,-999.0000,9, -999.00
318M20040615,        P02,      90,          2,         27,         27,2,20040717,       0819,    29.9992,  -176.7557,       5391,   434.7,  11.0382,  34.2735,2,  34.2711,2, 213.8000,2,   213.6,2,   16.41,2,   13.85,2,    0.00,2,    0.99,2,   3.056,2,   1.645,2,   0.098,2,  2096.8,2,  2268.6,2,-999.000,9,-999.0000,9, -999.00,9, -999.00,9,  -999.0,9,  -999.0,-999.000,9,-999.000,   48.10,2,  434.70,-999.0000,9,-999.0000,9,-999.0000,9,-999.0000,9,-999.0000,9,-999.0000,-999.000,-999.0000,9, -999.00
318M20040615,        P02,      90,          2,         26,         26,2,20040717,       0819,    29.9992,  -176.7557,       5391,   484.1,   9.9286,  34.1879,2,  34.1883,2, 207.2000,2,   209.8,2,   21.37,2,   16.17,2,    0.00,2,    1.16,2,   3.046,2,   1.619,2,   0.129,2,  2113.6,2,  2269.5,2,-999.000,9,-999.0000,9, -999.00,9,    0.46,2,    39.9,2,     4.2,-999.000,9,-999.000,   47.00,2,  484.10,-999.0000,9,-999.0000,9,-999.0000,9,-999.0000,9,-999.0000,9,-999.0000,-999.000,-999.0000,9, -999.00
318M20040615,        P02,      90,          2,         25,         25,2,20040717,       0819,    29.9992,  -176.7557,       5391,   569.4,   7.6795,  34.0449,2,  34.0439,2, 176.0000,2,   173.6,2,   38.16,2,   23.64,2,    0.00,2,    1.70,2,   2.746,2,   1.424,2,   0.124,2,  2167.8,2,  2279.7,2,-999.000,9,-999.0000,9, -999.00,9,    0.25,2,    -4.0,2,     5.0,-999.000,9,-999.000,   46.10,2,  569.40,-999.0000,9,-999.0000,9,-999.0000,9,-999.0000,9,-999.0000,9,-999.0000,-999.000,-999.0000,9, -999.00
318M20040615,        P02,      90,          2,         24,         24,2,20040717,       0819,    29.9992,  -176.7557,       5391,   669.0,   5.8958,  34.0057,2,  34.0059,2, 136.4000,2,   130.6,2,   60.79,2,   30.49,2,    0.00,2,    2.23,2,   2.132,2,   1.085,2,   0.099,2,  2225.2,2,  2286.8,2,-999.000,9,-999.0000,9, -999.00,9,    0.09,2,   -54.5,2,     4.1,-999.000,9,-999.000,   45.00,2,  669.00,-999.0000,9,-999.0000,9,-999.0000,9,-999.0000,9,-999.0000,9,-999.0000,-999.000,-999.0000,9, -999.00
318M20040615,        P02,      90,          2,         23,         23,2,20040717,       0819,    29.9992,  -176.7557,       5391,   769.0,   4.8770,  34.0753,2,  34.0756,2,  87.9000,2,    83.0,2,   83.21,2,   36.37,2,    0.00,2,    2.64,2,   1.229,2,   0.610,2,   0.052,2,  2278.0,2,  2310.9,2,-999.000,9,-999.0000,9, -999.00,9,   -0.17,2,  -103.7,2,     3.7,-999.000,9,-999.000,   43.90,2,  769.00,-999.0000,9,-999.0000,9,-999.0000,9,-999.0000,9,-999.0000,9,-999.0000,-999.000,-999.0000,9, -999.00
318M20040615,        P02,      90,          2,         22,         22,2,20040717,       0819,    29.9992,  -176.7557,       5391,   869.1,   4.1286,  34.1840,2,  34.1866,2,  51.7000,2,    47.8,2,  104.96,2,   40.38,2,    0.00,2,    2.94,2,   0.522,2,   0.256,2,   0.020,2,  2325.1,2,  2333.7,2,-999.000,9,-999.0000,9, -999.00,9,   -0.38,2,  -154.9,2,     3.7,-999.000,9,-999.000,   42.70,2,  869.10,-999.0000,9,-999.0000,9,-999.0000,9,-999.0000,9,-999.0000,9,-999.0000,-999.000,-999.0000,9, -999.00
318M20040615,        P02,      90,          2,         21,         21,2,20040717,       0819,    29.9992,  -176.7557,       5391,   969.7,   3.7149,  34.2773,2,  34.2777,2,  31.7000,2,    28.3,2,  118.34,2,   42.42,2,    0.00,2,    3.07,2,   0.157,2,   0.076,2,   0.004,2,  2348.4,2,  2352.1,2,-999.000,9,-999.0000,9, -999.00,9, -999.00,9,  -999.0,9,  -999.0,-999.000,9,-999.000,   41.80,2,  969.70,-999.0000,9,-999.0000,9,-999.0000,9,-999.0000,9,-999.0000,9,-999.0000,-999.000,-999.0000,9, -999.00
318M20040615,        P02,      90,          2,         20,         20,2,20040717,       0819,    29.9992,  -176.7557,       5391,  1069.2,   3.4372,  34.3477,2,  34.3496,2,  24.3000,2,    23.5,2,  127.84,2,   43.13,2,    0.00,2,    3.12,2,   0.063,2,   0.032,2,   0.001,2,  2363.6,6,  2366.4,2,-999.000,9,-999.0000,9, -999.00,9,   -0.47,2,  -199.1,2,     4.5,-999.000,9,-999.000,   40.60,2, 1069.20,-999.0000,9,-999.0000,9,-999.0000,9,-999.0000,9,-999.0000,9,-999.0000,-999.000,-999.0000,9, -999.00
318M20040615,        P02,      90,          2,         19,         19,2,20040717,       0819,    29.9992,  -176.7557,       5391,  1170.1,   3.1887,  34.4088,2,  34.4098,2,  24.2000,2,    24.6,2,  135.06,2,   43.30,2,    0.00,2,    3.13,2,   0.026,2,   0.019,2,   0.001,2,  2373.6,2,  2377.5,2,-999.000,9,-999.0000,9, -999.00,9, -999.00,9,  -999.0,9,  -999.0,-999.000,9,-999.000,   39.60,2, 1170.10,-999.0000,9,-999.0000,9,-999.0000,9,-999.0000,9,-999.0000,9,-999.0000,-999.000,-999.0000,9, -999.00
318M20040615,        P02,      90,          2,         18,         18,2,20040717,       0819,    29.9992,  -176.7557,       5391,  1274.7,   3.0052,  34.4517,2,  34.4536,2,  29.2000,2,    29.5,2,  139.87,2,   43.10,2,    0.00,2,    3.11,2,   0.013,2,   0.007,2,   0.005,2,  2375.9,2,  2384.6,6,-999.000,9,-999.0000,9, -999.00,9,   -0.37,2,  -214.7,2,     3.8,-999.000,9,-999.000,   38.70,2, 1274.70,-999.0000,9,-999.0000,9,-999.0000,9,-999.0000,9,-999.0000,9,-999.0000,-999.000,-999.0000,9, -999.00
318M20040615,        P02,      90,          2,         17,         17,2,20040717,       0819,    29.9992,  -176.7557,       5391,  1373.8,   2.8149,  34.4890,2,  34.4891,2,  34.5000,2,    36.0,2,  144.41,2,   42.77,2,    0.00,2,    3.09,2,   0.009,2,   0.008,2,   0.001,2,  2376.9,2,  2392.0,2,-999.000,9,-999.0000,9, -999.00,9, -999.00,9,  -999.0,9,  -999.0,-999.000,9,-999.000,   38.20,2, 1373.80,-999.0000,9,-999.0000,9,-999.0000,9,-999.0000,9,-999.0000,9,-999.0000,-999.000,-999.0000,9, -999.00
318M20040615,        P02,      90,          2,         16,         16,2,20040717,       0819,    29.9992,  -176.7557,       5391,  1472.6,   2.6599,  34.5144,2,  34.5152,2,  40.5000,2,    41.4,2,  148.11,2,   42.65,2,    0.00,2,    3.06,2,   0.006,2,   0.004,2,   0.001,2,  2378.7,2,  2397.0,2,-999.000,9,-999.0000,9, -999.00,9,   -0.30,2,  -234.9,6,     2.3,-999.000,9,-999.000,   38.40,2, 1472.60,-999.0000,9,-999.0000,9,-999.0000,9,-999.0000,9,-999.0000,9,-999.0000,-999.000,-999.0000,9, -999.00
318M20040615,        P02,      90,          2,         15,         15,2,20040717,       0819,    29.9992,  -176.7557,       5391,  1567.7,   2.4806,  34.5406,2,  34.5410,2,  47.1000,2,    49.5,2,  151.61,2,   42.27,2,    0.00,2,    3.03,2,   0.001,2,   0.004,2,   0.001,2,  2379.0,2,  2401.5,2,-999.000,9,-999.0000,9, -999.00,9,   -0.27,2,  -246.3,2,     4.6,-999.000,9,-999.000,   38.10,2, 1567.70,-999.0000,9,-999.0000,9,-999.0000,9,-999.0000,9,-999.0000,9,-999.0000,-999.000,-999.0000,9, -999.00
318M20040615,        P02,      90,          2,         14,         14,2,20040717,       0819,    29.9992,  -176.7557,       5391,  1768.5,   2.2092,  34.5751,2,  34.5757,2,  61.2000,2,    63.4,2,  156.99,2,   41.68,2,    0.00,2,    2.95,2,   0.003,2,   0.003,2,   0.001,2,  2374.2,2,  2407.8,2,-999.000,9,-999.0000,9, -999.00,9,   -0.23,2,  -246.0,2,     3.7,-999.000,9,-999.000,   37.70,2, 1768.50,-999.0000,9,-999.0000,9,-999.0000,9,-999.0000,9,-999.0000,9,-999.0000,-999.000,-999.0000,9, -999.00
318M20040615,        P02,      90,          2,         13,         13,2,20040717,       0819,    29.9992,  -176.7557,       5391,  1969.6,   2.0085,  34.6004,2,  34.6016,2,  74.3000,2,    73.4,2,  162.16,2,   41.09,2,    0.00,2,    2.90,2,   0.004,2,   0.005,2,   0.001,2,  2373.0,2,  2413.4,2,-999.000,9,-999.0000,9, -999.00,9,   -0.17,2,  -243.4,2,     3.6,-999.000,9,-999.000,   37.50,2, 1969.60,-999.0000,9,-999.0000,9,-999.0000,9,-999.0000,9,-999.0000,9,-999.0000,-999.000,-999.0000,9, -999.00
318M20040615,        P02,      90,          2,         12,         12,2,20040717,       0819,    29.9992,  -176.7557,       5391,  2165.6,   1.8466,  34.6201,2,  34.6215,2,  84.2000,2,    86.1,2,  163.61,2,   40.23,2,    0.00,2,    2.84,2,-999.000,9,-999.000,9,-999.000,9,  2368.0,2,  2417.3,2,-999.000,9,-999.0000,9, -999.00,9,   -0.11,2,  -239.9,2,     3.8,-999.000,9,-999.000,   37.60,2, 2165.60,-999.0000,9,-999.0000,9,-999.0000,9,-999.0000,9,-999.0000,9,-999.0000,-999.000,-999.0000,9, -999.00
318M20040615,        P02,      90,          2,         11,         11,2,20040717,       0819,    29.9992,  -176.7557,       5391,  2418.5,   1.7024,  34.6395,2,  34.6405,2, 100.0000,2,   101.2,2,  163.41,2,   39.18,2,    0.00,2,    2.77,2,   0.003,2,   0.003,2,   0.001,2,  2360.5,2,  2418.4,2,-999.000,9,-999.0000,9, -999.00,9,   -0.03,2,  -244.8,2,     3.5,-999.000,9,-999.000,   37.60,2, 2418.50,-999.0000,9,-999.0000,9,-999.0000,9,-999.0000,9,-999.0000,9,-999.0000,-999.000,-999.0000,9, -999.00
318M20040615,        P02,      90,          2,         10,         10,2,20040717,       0819,    29.9992,  -176.7557,       5391,  2671.8,   1.5990,  34.6534,2,  34.6545,2, 114.4000,2,   115.5,2,  161.13,2,   38.22,2,    0.00,2,    2.70,2,-999.000,9,-999.000,9,-999.000,9,  2351.9,2,  2419.4,2,-999.000,9,-999.0000,9, -999.00,9,    0.02,6,  -232.9,6,     2.2,-999.000,9,-999.000,   37.20,2, 2671.80,-999.0000,9,-999.0000,9,-999.0000,9,-999.0000,9,-999.0000,9,-999.0000,-999.000,-999.0000,9, -999.00
318M20040615,        P02,      90,          2,          9,          9,2,20040717,       0819,    29.9992,  -176.7557,       5391,  2921.0,   1.5384,  34.6626,2,  34.6629,2, 125.0000,2,   124.8,2,  159.11,2,   37.49,2,    0.00,2,    2.64,2,   0.002,2,   0.003,2,   0.001,2,  2346.8,2,  2420.0,2,-999.000,9,-999.0000,9, -999.00,9,    0.35,3,  -233.2,2,     3.8,-999.000,9,-999.000,   37.80,2, 2921.00,-999.0000,9,-999.0000,9,-999.0000,9,-999.0000,9,-999.0000,9,-999.0000,-999.000,-999.0000,9, -999.00
318M20040615,        P02,      90,          2,          8,          8,2,20040717,       0819,    29.9992,  -176.7557,       5391,  3254.9,   1.4814,  34.6725,2,  34.6728,2, 134.7000,2,   135.1,2,  158.31,2,   36.82,2,    0.00,2,    2.61,2,-999.000,9,-999.000,9,-999.000,9,  2340.4,2,  2420.4,2,-999.000,9,-999.0000,9, -999.00,9,    0.15,2,  -226.6,2,     3.4,-999.000,9,-999.000,   38.30,2, 3254.90,-999.0000,9,-999.0000,9,-999.0000,9,-999.0000,9,-999.0000,9,-999.0000,-999.000,-999.0000,9, -999.00
318M20040615,        P02,      90,          2,          7,          7,2,20040717,       0819,    29.9992,  -176.7557,       5391,  3548.7,   1.4540,  34.6787,2,  34.6795,2, 140.9000,2,   141.9,2,  156.42,2,   36.35,2,    0.00,2,    2.57,2,   0.003,2,   0.003,2,   0.001,2,  2336.4,2,  2419.6,2,-999.000,9,-999.0000,9, -999.00,9,    0.11,2,  -229.6,2,     3.5,-999.000,9,-999.000,   37.90,2, 3548.70,-999.0000,9,-999.0000,9,-999.0000,9,-999.0000,9,-999.0000,9,-999.0000,-999.000,-999.0000,9, -999.00
318M20040615,        P02,      90,          2,          6,          6,2,20040717,       0819,    29.9992,  -176.7557,       5391,  3893.0,   1.4539,  34.6827,2,  34.6826,2, 146.5000,2,   146.8,2,  156.23,2,   36.08,2,    0.00,2,    2.55,2,-999.000,9,-999.000,9,-999.000,9,  2332.2,2,  2419.9,2,-999.000,9,-999.0000,9, -999.00,9,    0.26,2,  -222.1,2,     4.8,-999.000,9,-999.000,   37.60,2, 3893.00,-999.0000,9,-999.0000,9,-999.0000,9,-999.0000,9,-999.0000,9,-999.0000,-999.000,-999.0000,9, -999.00
318M20040615,        P02,      90,          2,          5,          5,2,20040717,       0819,    29.9992,  -176.7557,       5391,  4208.5,   1.4647,  34.6854,2,  34.6859,2, 149.8000,2,   150.1,2,  155.43,2,   36.04,2,    0.00,2,    2.53,2,   0.006,2,   0.006,2,   0.001,2,  2330.3,2,  2419.9,2,-999.000,9,-999.0000,9, -999.00,9,    0.23,2,  -220.2,2,     3.5,-999.000,9,-999.000,   37.80,2, 4208.50,-999.0000,9,-999.0000,9,-999.0000,9,-999.0000,9,-999.0000,9,-999.0000,-999.000,-999.0000,9, -999.00
318M20040615,        P02,      90,          2,          4,          4,2,20040717,       0819,    29.9992,  -176.7557,       5391,  4505.0,   1.4835,  34.6870,2,  34.6863,2, 152.6000,2,   152.7,2,  153.35,2,   35.93,2,    0.00,2,    2.50,2,-999.000,9,-999.000,9,-999.000,9,  2328.6,2,  2417.8,2,-999.000,9,-999.0000,9, -999.00,9,    0.20,2,  -216.1,2,     3.5,-999.000,9,-999.000,   37.60,2, 4505.00,-999.0000,9,-999.0000,9,-999.0000,9,-999.0000,9,-999.0000,9,-999.0000,-999.000,-999.0000,9, -999.00
318M20040615,        P02,      90,          2,          3,          3,2,20040717,       0819,    29.9992,  -176.7557,       5391,  4804.3,   1.4955,  34.6889,2,  34.6895,2, 156.7000,2,   157.2,2,  149.39,2,   35.56,2,    0.00,2,    2.47,2,   0.003,2,   0.006,2,   0.001,2,  2322.8,2,  2415.4,2,-999.000,9,-999.0000,9, -999.00,9,    0.27,2,  -214.8,2,     3.5,-999.000,9,-999.000,   37.80,2, 4804.30,-999.0000,9,-999.0000,9,-999.0000,9,-999.0000,9,-999.0000,9,-999.0000,-999.000,-999.0000,9, -999.00
318M20040615,        P02,      90,          2,          2,          2,2,20040717,       0819,    29.9992,  -176.7557,       5391,  5097.2,   1.5087,  34.6908,2,  34.6914,2, 161.2000,2,   161.7,2,  145.28,2,   35.15,2,    0.00,2,    2.45,2,-999.000,9,-999.000,9,-999.000,9,  2318.2,2,  2412.0,2,-999.000,9,-999.0000,9, -999.00,9,    0.30,2,  -214.5,2,     3.6,-999.000,9,-999.000,   37.40,2, 5097.20,-999.0000,9,-999.0000,9,-999.0000,9,-999.0000,9,-999.0000,9,-999.0000,-999.000,-999.0000,9, -999.00
318M20040615,        P02,      90,          2,          1,          1,2,20040717,       0819,    29.9992,  -176.7557,       5391,  5490.9,   1.5315,  34.6930,2,  34.6952,2, 166.4000,3,   167.0,2,  140.71,2,   34.79,2,    0.00,2,    2.44,2,   0.006,2,   0.007,2,   0.001,2,  2313.8,6,  2409.9,6,-999.000,9,-999.0000,9, -999.00,9,    0.34,2,  -204.4,2,     3.5,-999.000,9,-999.000,   37.20,2, 5490.90,-999.0000,9,-999.0000,9,-999.0000,9,-999.0000,9,-999.0000,9,-999.0000,-999.000,-999.0000,9, -999.00