BOTTLE,20131027SIOCCHRJL
EXPOCODE,SECT_ID,STNNBR,CASTNO,SAMPNO,BTLNBR,BTLNBR_FLAG_W,DATE,TIME,LATITUDE,LONGITUDE,DEPTH,CTDPRS,CTDTMP,CTDSAL,CTDSAL_FLAG_W,SALNTY,SALNTY_FLAG_W,CTDOXY,CTDOXY_FLAG_W,OXYGEN,OXYGEN_FLAG_W,SILCAT,SILCAT_FLAG_W,NITRAT,NITRAT_FLAG_W,NITRIT,NITRIT_FLAG_W,PHSPHT,PHSPHT_FLAG_W,CFC-11,CFC-11_FLAG_W,CFC-12,CFC-12_FLAG_W,CFC113,CFC113_FLAG_W,TCARBN,TCARBN_FLAG_W,ALKALI,ALKALI_FLAG_W,TRITUM,TRITUM_FLAG_W,HELIUM,HELIUM_FLAG_W,DELHE3,DELHE3_FLAG_W,DELC13,DELC13_FLAG_W,DELC14,DELC14_FLAG_W,C14ERR,NEON,NEON_FLAG_W,NEONER,DOC,DOC_FLAG_W,CTDRAW,CDOM380,CDOM380_FLAG_W,CDOM325,CDOM325_FLAG_W,CDOMSL,CDOMSL_FLAG_W,CDOM340,CDOM340_FLAG_W,CDOMSN,CDOMSN_FLAG_W,HELIER,TRITER,CDOM412,CDOM412_FLAG_W,DELHER
,,,,,,,,,,,METERS,DBAR,ITS-90,PSS-78,,PSS-78,,UMOL/KG,,UMOL/KG,,UMOL/KG,,UMOL/KG,,UMOL/KG,,UMOL/KG,,PMOL/KG,,PMOL/KG,,PMOL/KG,,UMOL/KG,,UMOL/KG,,TU,,NMOL/KG,,PERCNT,,/MILLE,,/MILLE,,/MILLE,NMOL/KG,,NMOL/KG,UMOL/KG,,DBAR,1/M,,1/M,,1/NM,,1/M,,1/NM,,NMOL/KG,TU,1/M,,PERCNT
318M20040615,        P02,     146,          1,         36,         36,2,20040816,       0431,    30.0007,  -139.8905,       4535,     8.3,  25.1522,  34.7617,2,  34.7622,2, 213.8000,2,   213.3,2,    0.48,2,    0.23,2,    0.00,2,    0.02,2,   1.911,2,   1.166,2,   0.141,2,  -999.0,9,  2298.6,2,   0.933,2,   1.7438,2,   -1.32,2, -999.00,9,  -999.0,9,  -999.0,   6.659,2,   0.033, -999.00,9,    8.30,-999.0000,9,-999.0000,9,-999.0000,9,-999.0000,9,-999.0000,9,   0.0087,   0.008,-999.0000,9,    0.20
318M20040615,        P02,     146,          1,         35,         35,2,20040816,       0431,    30.0007,  -139.8905,       4535,    35.3,  22.8863,  34.6755,2,  34.6482,2, 231.1000,2,   232.3,2,    1.23,2,    0.23,2,    0.00,2,    0.02,2,-999.000,9,-999.000,9,-999.000,9,  2002.2,6,  2287.8,6,-999.000,9,-999.0000,9, -999.00,9, -999.00,9,  -999.0,9,  -999.0,-999.000,9,-999.000, -999.00,9,   35.30,-999.0000,9,-999.0000,9,-999.0000,9,-999.0000,9,-999.0000,9,-999.0000,-999.000,-999.0000,9, -999.00
318M20040615,        P02,     146,          1,         34,         34,2,20040816,       0431,    30.0007,  -139.8905,       4535,    70.2,  17.9318,  34.3480,2,  34.3449,2, 248.8000,2,   248.6,2,    2.17,2,    0.23,2,    0.00,2,    0.06,2,   2.631,2,   1.570,2,   0.174,2,  -999.0,9,  -999.0,9,   0.910,2,   1.7637,2,   -1.17,2, -999.00,9,  -999.0,9,  -999.0,   6.837,2,   0.034, -999.00,9,   70.20,-999.0000,9,-999.0000,9,-999.0000,9,-999.0000,9,-999.0000,9,   0.0088,   0.009,-999.0000,9,    0.20
318M20040615,        P02,     146,          1,         33,         33,2,20040816,       0431,    30.0007,  -139.8905,       4535,   119.6,  15.1769,  34.1235,2,  34.1121,2, 236.2000,2,   235.2,2,    3.12,2,    1.56,2,    0.03,2,    0.24,2,   2.872,2,   1.649,2,   0.189,2,  -999.0,9,  2253.1,2,-999.000,9,   1.7750,2,   -1.08,2, -999.00,9,  -999.0,9,  -999.0,   6.899,2,   0.034, -999.00,9,  119.60,-999.0000,9,-999.0000,9,-999.0000,9,-999.0000,9,-999.0000,9,   0.0089,-999.000,-999.0000,9,    0.20
318M20040615,        P02,     146,          1,         32,         32,2,20040816,       0431,    30.0007,  -139.8905,       4535,   169.4,  12.5792,  33.9296,2,  33.9287,2, 225.6000,2,   227.6,2,    6.23,2,    6.60,2,    0.01,2,    0.57,2,   3.298,2,   1.898,2,   0.152,2,  -999.0,9,  -999.0,9,   0.901,2,   1.7881,2,   -0.66,2, -999.00,9,  -999.0,9,  -999.0,   7.026,2,   0.035, -999.00,9,  169.40,-999.0000,9,-999.0000,9,-999.0000,9,-999.0000,9,-999.0000,9,   0.0089,   0.007,-999.0000,9,    0.20
318M20040615,        P02,     146,          1,         31,         31,2,20040816,       0431,    30.0007,  -139.8905,       4535,   219.2,  10.6766,  33.9452,2,  33.9410,2, 220.1000,2,   221.5,2,   12.09,2,   12.21,2,    0.00,2,    0.91,2,   3.553,2,   1.964,2,   0.099,2,  -999.0,9,  2247.8,2,   0.889,2,   1.8054,2,    0.08,2, -999.00,9,  -999.0,9,  -999.0,   7.155,2,   0.036, -999.00,9,  219.20,-999.0000,9,-999.0000,9,-999.0000,9,-999.0000,9,-999.0000,9,   0.0090,   0.008,-999.0000,9,    0.20
318M20040615,        P02,     146,          1,         30,         30,2,20040816,       0431,    30.0007,  -139.8905,       4535,   274.1,   9.8502,  34.0332,2,  34.0337,2, 212.3000,2,   216.0,2,   16.77,2,   15.23,2,    0.00,2,    1.09,2,   3.562,2,   1.942,2,   0.101,2,  -999.0,9,  -999.0,9,   0.860,2,   1.7980,2,    1.39,2, -999.00,9,  -999.0,9,  -999.0,   7.110,2,   0.036, -999.00,9,  274.10,-999.0000,9,-999.0000,9,-999.0000,9,-999.0000,9,-999.0000,9,   0.0090,   0.007,-999.0000,9,    0.20
318M20040615,        P02,     146,          1,         29,         29,2,20040816,       0431,    30.0007,  -139.8905,       4535,   324.1,   9.0543,  34.0483,2,  34.0507,2, 193.0000,2,   193.4,2,   23.03,2,   19.05,2,    0.00,2,    1.34,2,   3.431,2,   1.816,2,   0.108,2,  -999.0,9,  2262.9,2,   0.853,2,   1.8087,2,    3.89,2, -999.00,9,  -999.0,9,  -999.0,   7.257,2,   0.036, -999.00,9,  324.10,-999.0000,9,-999.0000,9,-999.0000,9,-999.0000,9,-999.0000,9,   0.0090,   0.006,-999.0000,9,    0.20
318M20040615,        P02,     146,          1,         28,         28,2,20040816,       0431,    30.0007,  -139.8905,       4535,   373.6,   8.3186,  34.0414,2,  34.0409,2, 167.5000,2,   169.0,2,   31.08,2,   23.15,2,    0.00,2,    1.62,2,   3.187,2,   1.634,2,   0.120,2,  -999.0,9,  -999.0,9,   0.832,2,   1.8168,2,    6.72,2, -999.00,9,  -999.0,9,  -999.0,   7.224,2,   0.036, -999.00,9,  373.60,-999.0000,9,-999.0000,9,-999.0000,9,-999.0000,9,-999.0000,9,   0.0091,   0.007,-999.0000,9,    0.20
318M20040615,        P02,     146,          1,         27,         27,2,20040816,       0431,    30.0007,  -139.8905,       4535,   423.6,   7.4448,  34.0175,2,  34.0153,2, 145.3000,2,   141.3,2,   41.32,2,   27.69,2,    0.00,2,    1.94,2,   2.740,2,   1.367,2,   0.113,2,  -999.0,9,  2276.2,2,   0.741,2,   1.8318,2,   10.30,2, -999.00,9,  -999.0,9,  -999.0,   7.485,2,   0.037, -999.00,9,  423.60,-999.0000,9,-999.0000,9,-999.0000,9,-999.0000,9,-999.0000,9,   0.0092,   0.006,-999.0000,9,    0.20
318M20040615,        P02,     146,          1,         26,         26,2,20040816,       0431,    30.0007,  -139.8905,       4535,   473.6,   6.4452,  34.0029,2,  34.0031,2, 116.0000,2,   116.8,2,   53.17,2,   31.91,2,    0.00,2,    2.24,2,   2.059,2,   0.952,2,   0.070,2,  -999.0,9,  -999.0,9,   0.699,2,   1.8444,2,   14.10,2, -999.00,9,  -999.0,9,  -999.0,   7.429,2,   0.037, -999.00,9,  473.60,-999.0000,9,-999.0000,9,-999.0000,9,-999.0000,9,-999.0000,9,   0.0092,   0.005,-999.0000,9,    0.20
318M20040615,        P02,     146,          1,         25,         25,2,20040816,       0431,    30.0007,  -139.8905,       4535,   543.6,   5.5131,  34.0290,2,  34.0286,2,  78.0000,2,    78.2,2,   69.42,2,   37.01,2,    0.00,2,    2.62,2,   1.134,2,   0.543,2,   0.033,2,  -999.0,9,  2297.4,2,   0.564,2,   1.8575,2,   16.75,2, -999.00,9,  -999.0,9,  -999.0,   7.607,2,   0.038, -999.00,9,  543.60,-999.0000,9,-999.0000,9,-999.0000,9,-999.0000,9,-999.0000,9,   0.0093,   0.005,-999.0000,9,    0.20
318M20040615,        P02,     146,          1,         24,         24,2,20040816,       0431,    30.0007,  -139.8905,       4535,   648.5,   4.6999,  34.1219,2,  34.1207,2,  41.6000,2,    39.4,2,   90.35,2,   41.40,2,    0.00,2,    2.95,2,   0.335,6,   0.171,6,   0.006,6,  -999.0,9,  -999.0,9,   0.304,2,   1.8720,2,   17.02,2, -999.00,9,  -999.0,9,  -999.0,   7.504,2,   0.038, -999.00,9,  648.50,-999.0000,9,-999.0000,9,-999.0000,9,-999.0000,9,-999.0000,9,   0.0094,   0.004,-999.0000,9,    0.20
318M20040615,        P02,     146,          1,         23,         23,2,20040816,       0431,    30.0007,  -139.8905,       4535,   748.3,   4.2563,  34.2325,2,  34.2338,2,  19.8000,2,    17.9,2,  105.96,2,   43.56,2,    0.00,2,    3.13,2,   0.075,2,   0.042,2,   0.000,2,  -999.0,9,  2340.6,2,   0.086,2,   1.8889,2,   15.05,2, -999.00,9,  -999.0,9,  -999.0,   7.562,2,   0.038, -999.00,9,  748.30,-999.0000,9,-999.0000,9,-999.0000,9,-999.0000,9,-999.0000,9,   0.0094,   0.002,-999.0000,9,    0.20
318M20040615,        P02,     146,          1,         22,         22,2,20040816,       0431,    30.0007,  -139.8905,       4535,   848.3,   4.0149,  34.3411,2,  34.3407,2,  13.0000,2,    12.3,2,  115.38,2,   43.99,2,    0.00,2,    3.20,2,   0.025,2,   0.014,2,   0.000,2,  -999.0,9,  -999.0,9,   0.025,2,   1.8963,2,   15.84,2, -999.00,9,  -999.0,9,  -999.0,   7.765,2,   0.039, -999.00,9,  848.30,-999.0000,9,-999.0000,9,-999.0000,9,-999.0000,9,-999.0000,9,   0.0095,   0.001,-999.0000,9,    0.20
318M20040615,        P02,     146,          1,         21,         21,2,20040816,       0431,    30.0007,  -139.8905,       4535,   948.5,   3.7256,  34.4162,2,  34.4157,2,  15.5000,2,    17.6,2,  123.19,2,   44.02,2,    0.00,2,    3.19,2,   0.015,2,   0.012,2,   0.000,2,  -999.0,9,  2369.5,2,-999.000,9,   1.8948,2,   17.36,2, -999.00,9,  -999.0,9,  -999.0,   7.614,2,   0.038, -999.00,9,  948.50,-999.0000,9,-999.0000,9,-999.0000,9,-999.0000,9,-999.0000,9,   0.0095,-999.000,-999.0000,9,    0.20
318M20040615,        P02,     146,          1,         20,         20,2,20040816,       0431,    30.0007,  -139.8905,       4535,  1048.5,   3.5059,  34.4621,2,  34.4622,2,  23.6000,2,    25.3,2,  128.05,2,   43.76,2,    0.00,2,    3.16,2,   0.005,2,   0.006,2,   0.000,2,  -999.0,9,  -999.0,9,   0.002,2,   1.9052,2,   17.56,2, -999.00,9,  -999.0,9,  -999.0,-999.000,9,-999.000, -999.00,9, 1048.50,-999.0000,9,-999.0000,9,-999.0000,9,-999.0000,9,-999.0000,9,   0.0095,   0.000,-999.0000,9,    0.20
318M20040615,        P02,     146,          1,         19,         19,2,20040816,       0431,    30.0007,  -139.8905,       4535,  1154.0,   3.2845,  34.4987,2,  34.4993,2,  32.2000,2,    33.1,2,  133.06,2,   43.36,2,    0.00,2,    3.13,2,   0.005,2,   0.005,2,   0.000,2,  -999.0,9,  -999.0,9,   0.005,2,   1.9132,2,   20.97,2, -999.00,9,  -999.0,9,  -999.0,-999.000,9,-999.000, -999.00,9, 1154.00,-999.0000,9,-999.0000,9,-999.0000,9,-999.0000,9,-999.0000,9,   0.0096,   0.000,-999.0000,9,    0.20
318M20040615,        P02,     146,          1,         18,         18,2,20040816,       0431,    30.0007,  -139.8905,       4535,  1254.2,   3.0833,  34.5237,2,  34.5233,2,  38.7000,2,    40.2,2,  137.49,2,   42.99,2,    0.00,2,    3.09,2,   0.009,2,   0.008,2,   0.000,2,  -999.0,9,  -999.0,9,   0.003,2,   1.8956,2,   19.95,2, -999.00,9,  -999.0,9,  -999.0,-999.000,9,-999.000, -999.00,9, 1254.20,-999.0000,9,-999.0000,9,-999.0000,9,-999.0000,9,-999.0000,9,   0.0095,   0.000,-999.0000,9,    0.20
318M20040615,        P02,     146,          1,         17,         17,2,20040816,       0431,    30.0007,  -139.8905,       4535,  1354.7,   2.9083,  34.5413,2,  34.5417,2,  44.9000,2,    45.7,2,  141.71,2,   42.92,2,    0.00,2,    3.07,2,   0.004,2,   0.003,2,   0.000,2,  -999.0,9,  -999.0,9,  -0.001,2,   1.9246,2,   22.06,2, -999.00,9,  -999.0,9,  -999.0,-999.000,9,-999.000, -999.00,9, 1354.70,-999.0000,9,-999.0000,9,-999.0000,9,-999.0000,9,-999.0000,9,   0.0096,   0.000,-999.0000,9,    0.20
318M20040615,        P02,     146,          1,         16,         16,2,20040816,       0431,    30.0007,  -139.8905,       4535,  1455.1,   2.7133,  34.5592,2,  34.5590,2,  50.9000,2,    52.1,2,  146.95,2,   42.80,2,    0.00,2,    3.03,2,   0.003,2,   0.000,2,   0.000,2,  -999.0,9,  -999.0,9,   0.004,2,   1.9232,2,   22.57,2, -999.00,9,  -999.0,9,  -999.0,-999.000,9,-999.000, -999.00,9, 1455.10,-999.0000,9,-999.0000,9,-999.0000,9,-999.0000,9,-999.0000,9,   0.0096,   0.000,-999.0000,9,    0.20
318M20040615,        P02,     146,          1,         15,         15,2,20040816,       0431,    30.0007,  -139.8905,       4535,  1555.0,   2.5286,  34.5746,2,  34.5745,2,  56.3000,2,    57.9,2,  151.38,2,   42.58,2,    0.00,2,    3.00,2,   0.002,2,   0.003,2,   0.000,2,  -999.0,9,  -999.0,9,   0.011,2,   1.9343,2,   22.95,2, -999.00,9,  -999.0,9,  -999.0,-999.000,9,-999.000, -999.00,9, 1555.00,-999.0000,9,-999.0000,9,-999.0000,9,-999.0000,9,-999.0000,9,   0.0097,   0.000,-999.0000,9,    0.20
318M20040615,        P02,     146,          1,         14,         14,2,20040816,       0431,    30.0007,  -139.8905,       4535,  1655.6,   2.3948,  34.5857,2,  34.5857,2,  62.5000,2,    63.0,2,  154.60,2,   42.14,2,    0.00,2,    2.98,2,   0.001,2,   0.003,2,   0.000,2,  -999.0,9,  -999.0,9,   0.005,2,   1.9229,2,   23.59,2, -999.00,9,  -999.0,9,  -999.0,-999.000,9,-999.000, -999.00,9, 1655.60,-999.0000,9,-999.0000,9,-999.0000,9,-999.0000,9,-999.0000,9,   0.0096,   0.000,-999.0000,9,    0.20
318M20040615,        P02,     146,          1,         13,         13,2,20040816,       0431,    30.0007,  -139.8905,       4535,  1761.2,   2.3092,  34.5934,2,  34.5944,2,  66.9000,2,    66.1,2,  157.21,2,   41.80,2,    0.00,2,    2.95,2,   0.001,2,   0.000,2,   0.000,2,  -999.0,9,  -999.0,9,   0.018,2,   1.9357,2,   24.58,2, -999.00,9,  -999.0,9,  -999.0,-999.000,9,-999.000, -999.00,9, 1761.20,-999.0000,9,-999.0000,9,-999.0000,9,-999.0000,9,-999.0000,9,   0.0097,   0.001,-999.0000,9,    0.20
318M20040615,        P02,     146,          1,         12,         12,2,20040816,       0431,    30.0007,  -139.8905,       4535,  1962.7,   2.1359,  34.6087,2,  34.6083,2,  74.0000,2,    73.3,2,  162.06,2,   41.36,2,    0.00,2,    2.92,2,   0.001,2,   0.000,2,   0.000,2,  -999.0,9,  -999.0,9,-999.000,9,-999.0000,9, -999.00,9, -999.00,9,  -999.0,9,  -999.0,-999.000,9,-999.000, -999.00,9, 1962.70,-999.0000,9,-999.0000,9,-999.0000,9,-999.0000,9,-999.0000,9,-999.0000,-999.000,-999.0000,9, -999.00
318M20040615,        P02,     146,          1,         11,         11,2,20040816,       0431,    30.0007,  -139.8905,       4535,  2129.1,   1.9828,  34.6231,2,  34.6229,2,  82.3000,2,    81.3,2,  165.89,2,   40.76,2,    0.00,2,    2.88,2,   0.002,2,   0.001,2,   0.000,2,  -999.0,9,  -999.0,9,-999.000,9,-999.0000,9, -999.00,9, -999.00,9,  -999.0,9,  -999.0,-999.000,9,-999.000, -999.00,9, 2129.10,-999.0000,9,-999.0000,9,-999.0000,9,-999.0000,9,-999.0000,9,-999.0000,-999.000,-999.0000,9, -999.00
318M20040615,        P02,     146,          1,         10,         10,2,20040816,       0431,    30.0007,  -139.8905,       4535,  2381.2,   1.7731,  34.6425,2,  34.6415,2,  94.4000,2,    95.6,2,  169.78,2,   39.79,2,    0.00,2,    2.80,2,-999.000,9,-999.000,9,-999.000,9,  -999.0,9,  -999.0,9,-999.000,9,-999.0000,9, -999.00,9, -999.00,9,  -999.0,9,  -999.0,-999.000,9,-999.000, -999.00,9, 2381.20,-999.0000,9,-999.0000,9,-999.0000,9,-999.0000,9,-999.0000,9,-999.0000,-999.000,-999.0000,9, -999.00
318M20040615,        P02,     146,          1,          9,          9,2,20040816,       0431,    30.0007,  -139.8905,       4535,  2698.2,   1.6443,  34.6563,2,  34.6561,2, 109.0000,2,   108.0,2,  170.14,2,   38.98,2,    0.00,2,    2.73,2,   0.000,2,   0.001,2,   0.000,2,  -999.0,9,  -999.0,9,-999.000,9,-999.0000,9, -999.00,9, -999.00,9,  -999.0,9,  -999.0,-999.000,9,-999.000, -999.00,9, 2698.20,-999.0000,9,-999.0000,9,-999.0000,9,-999.0000,9,-999.0000,9,-999.0000,-999.000,-999.0000,9, -999.00
318M20040615,        P02,     146,          1,          8,          8,2,20040816,       0431,    30.0007,  -139.8905,       4535,  2890.4,   1.5854,  34.6633,2,  34.6628,2, 116.1000,2,   116.2,2,  168.87,2,   38.43,2,    0.00,2,    2.69,2,-999.000,9,-999.000,9,-999.000,9,  -999.0,9,  -999.0,9,-999.000,9,-999.0000,9, -999.00,9, -999.00,9,  -999.0,9,  -999.0,-999.000,9,-999.000, -999.00,9, 2890.40,-999.0000,9,-999.0000,9,-999.0000,9,-999.0000,9,-999.0000,9,-999.0000,-999.000,-999.0000,9, -999.00
318M20040615,        P02,     146,          1,          7,          7,2,20040816,       0431,    30.0007,  -139.8905,       4535,  3148.7,   1.5344,  34.6704,2,  34.6702,2, 124.4000,2,   124.8,2,  166.81,2,   37.89,2,    0.00,2,    2.64,2,   0.002,2,   0.000,2,   0.000,2,  -999.0,9,  -999.0,9,-999.000,9,-999.0000,9, -999.00,9, -999.00,9,  -999.0,9,  -999.0,-999.000,9,-999.000, -999.00,9, 3148.70,-999.0000,9,-999.0000,9,-999.0000,9,-999.0000,9,-999.0000,9,-999.0000,-999.000,-999.0000,9, -999.00
318M20040615,        P02,     146,          1,          6,          6,2,20040816,       0431,    30.0007,  -139.8905,       4535,  3457.0,   1.4924,  34.6776,2,  34.6771,2, 133.6000,2,   134.1,2,  164.72,2,   37.72,2,    0.00,2,    2.58,2,-999.000,9,-999.000,9,-999.000,9,  -999.0,9,  -999.0,9,-999.000,9,-999.0000,9, -999.00,9, -999.00,9,  -999.0,9,  -999.0,-999.000,9,-999.000, -999.00,9, 3457.00,-999.0000,9,-999.0000,9,-999.0000,9,-999.0000,9,-999.0000,9,-999.0000,-999.000,-999.0000,9, -999.00
318M20040615,        P02,     146,          1,          5,          5,2,20040816,       0431,    30.0007,  -139.8905,       4535,  3763.1,   1.4814,  34.6820,2,  34.6812,2, 139.3000,2,   140.1,2,  162.03,2,   37.39,2,    0.00,2,    2.56,2,   0.003,2,   0.004,2,   0.000,2,  -999.0,9,  -999.0,9,-999.000,9,-999.0000,9, -999.00,9, -999.00,9,  -999.0,9,  -999.0,-999.000,9,-999.000, -999.00,9, 3763.10,-999.0000,9,-999.0000,9,-999.0000,9,-999.0000,9,-999.0000,9,-999.0000,-999.000,-999.0000,9, -999.00
318M20040615,        P02,     146,          1,          4,          4,2,20040816,       0431,    30.0007,  -139.8905,       4535,  3964.4,   1.4878,  34.6836,2,  34.6832,2, 141.9000,2,   142.8,2,  160.56,2,   37.12,2,    0.00,2,    2.54,2,   0.005,2,   0.007,2,   0.000,2,  -999.0,9,  -999.0,9,-999.000,9,-999.0000,9, -999.00,9, -999.00,9,  -999.0,9,  -999.0,-999.000,9,-999.000, -999.00,9, 3964.40,-999.0000,9,-999.0000,9,-999.0000,9,-999.0000,9,-999.0000,9,-999.0000,-999.000,-999.0000,9, -999.00
318M20040615,        P02,     146,          1,          3,          3,2,20040816,       0431,    30.0007,  -139.8905,       4535,  4168.1,   1.5015,  34.6846,2,  34.6842,2, 143.1000,2,   144.0,2,  159.91,2,   36.95,2,    0.00,2,    2.53,2,   0.004,2,   0.005,2,   0.000,2,  -999.0,9,  -999.0,9,-999.000,9,-999.0000,9, -999.00,9, -999.00,9,  -999.0,9,  -999.0,-999.000,9,-999.000, -999.00,9, 4168.10,-999.0000,9,-999.0000,9,-999.0000,9,-999.0000,9,-999.0000,9,-999.0000,-999.000,-999.0000,9, -999.00
318M20040615,        P02,     146,          1,          2,          2,2,20040816,       0431,    30.0007,  -139.8905,       4535,  4373.5,   1.5159,  34.6856,2,  34.6852,2, 144.8000,2,   145.3,2,  159.26,2,   36.72,2,    0.00,2,    2.53,2,   0.004,2,   0.006,2,   0.000,2,  -999.0,9,  -999.0,9,-999.000,9,-999.0000,9, -999.00,9, -999.00,9,  -999.0,9,  -999.0,-999.000,9,-999.000, -999.00,9, 4373.50,-999.0000,9,-999.0000,9,-999.0000,9,-999.0000,9,-999.0000,9,-999.0000,-999.000,-999.0000,9, -999.00
318M20040615,        P02,     146,          1,          1,          1,2,20040816,       0431,    30.0007,  -139.8905,       4535,  4578.4,   1.5324,  34.6863,2,  34.6863,2, 146.0000,2,   146.7,2,  158.81,2,   36.61,2,    0.00,2,    2.52,2,   0.006,2,   0.005,2,   0.000,2,  -999.0,9,  -999.0,9,-999.000,9,-999.0000,9, -999.00,9, -999.00,9,  -999.0,9,  -999.0,-999.000,9,-999.000, -999.00,9, 4578.40,-999.0000,9,-999.0000,9,-999.0000,9,-999.0000,9,-999.0000,9,-999.0000,-999.000,-999.0000,9, -999.00