BOTTLE,20131027SIOCCHRJL
EXPOCODE,SECT_ID,STNNBR,CASTNO,SAMPNO,BTLNBR,BTLNBR_FLAG_W,DATE,TIME,LATITUDE,LONGITUDE,DEPTH,CTDPRS,CTDTMP,CTDSAL,CTDSAL_FLAG_W,SALNTY,SALNTY_FLAG_W,CTDOXY,CTDOXY_FLAG_W,OXYGEN,OXYGEN_FLAG_W,SILCAT,SILCAT_FLAG_W,NITRAT,NITRAT_FLAG_W,NITRIT,NITRIT_FLAG_W,PHSPHT,PHSPHT_FLAG_W,CFC-11,CFC-11_FLAG_W,CFC-12,CFC-12_FLAG_W,CFC113,CFC113_FLAG_W,TCARBN,TCARBN_FLAG_W,ALKALI,ALKALI_FLAG_W,TRITUM,TRITUM_FLAG_W,HELIUM,HELIUM_FLAG_W,DELHE3,DELHE3_FLAG_W,DELC13,DELC13_FLAG_W,DELC14,DELC14_FLAG_W,C14ERR,NEON,NEON_FLAG_W,NEONER,DOC,DOC_FLAG_W,CTDRAW,CDOM380,CDOM380_FLAG_W,CDOM325,CDOM325_FLAG_W,CDOMSL,CDOMSL_FLAG_W,CDOM340,CDOM340_FLAG_W,CDOMSN,CDOMSN_FLAG_W,HELIER,TRITER,CDOM412,CDOM412_FLAG_W,DELHER
,,,,,,,,,,,METERS,DBAR,ITS-90,PSS-78,,PSS-78,,UMOL/KG,,UMOL/KG,,UMOL/KG,,UMOL/KG,,UMOL/KG,,UMOL/KG,,PMOL/KG,,PMOL/KG,,PMOL/KG,,UMOL/KG,,UMOL/KG,,TU,,NMOL/KG,,PERCNT,,/MILLE,,/MILLE,,/MILLE,NMOL/KG,,NMOL/KG,UMOL/KG,,DBAR,1/M,,1/M,,1/NM,,1/M,,1/NM,,NMOL/KG,TU,1/M,,PERCNT
318M20040615,        P02,     126,          1,         36,         36,2,20040809,       1325,    29.9983,  -154.8447,       5481,     6.4,  25.2760,  35.4637,2,  35.4710,2, 211.4000,2,   210.6,2,    1.01,2,    0.15,2,    0.00,2,    0.03,2,   1.834,6,   1.153,6,   0.131,6,  2017.3,2,  2333.8,6,   0.779,2,   1.7441,2,   -1.32,2, -999.00,9,  -999.0,9,  -999.0,   6.630,2,   0.033, -999.00,9,    6.40,-999.0000,9,-999.0000,9,-999.0000,9,-999.0000,9,-999.0000,9,   0.0087,   0.009,-999.0000,9,    0.20
318M20040615,        P02,     126,          1,         35,         35,2,20040809,       1325,    29.9983,  -154.8447,       5481,    40.6,  20.0250,  34.6076,2,  34.6201,2, 247.0000,2,   248.8,2,    2.13,2,    0.10,2,    0.00,2,    0.04,2,   2.436,2,   1.479,2,   0.171,2,  -999.0,9,  -999.0,9,-999.000,9,   1.7539,2,   -1.23,2, -999.00,9,  -999.0,9,  -999.0,   6.913,2,   0.035, -999.00,9,   40.60,-999.0000,9,-999.0000,9,-999.0000,9,-999.0000,9,-999.0000,9,   0.0088,-999.000,-999.0000,9,    0.20
318M20040615,        P02,     126,          1,         34,         34,2,20040809,       1325,    29.9983,  -154.8447,       5481,    85.9,  17.8386,  34.6828,2,  34.6822,2, 249.2000,2,   244.5,2,    2.32,2,    0.10,2,    0.00,2,    0.07,2,   2.559,2,   1.537,2,   0.172,2,  2010.9,2,  2282.5,2,-999.000,9,   1.7642,2,   -1.32,2, -999.00,9,  -999.0,9,  -999.0,   6.988,2,   0.035, -999.00,9,   85.90,-999.0000,9,-999.0000,9,-999.0000,9,-999.0000,9,-999.0000,9,   0.0088,-999.000,-999.0000,9,    0.20
318M20040615,        P02,     126,          1,         33,         33,2,20040809,       1325,    29.9983,  -154.8447,       5481,   135.9,  15.7464,  34.4066,2,  34.4111,2, 239.2000,2,   241.0,2,    3.06,2,    0.36,2,    0.08,2,    0.15,2,   2.773,2,   1.643,2,   0.194,2,  -999.0,9,  -999.0,9,   0.879,2,   1.7722,2,   -1.33,2, -999.00,9,  -999.0,9,  -999.0,   6.767,2,   0.034, -999.00,9,  135.90,-999.0000,9,-999.0000,9,-999.0000,9,-999.0000,9,-999.0000,9,   0.0089,   0.008,-999.0000,9,    0.20
318M20040615,        P02,     126,          1,         32,         32,2,20040809,       1325,    29.9983,  -154.8447,       5481,   185.6,  13.5614,  34.2710,2,  34.2689,2, 227.7000,2,   227.6,2,    5.88,2,    5.98,2,    0.02,2,    0.50,2,   3.074,2,   1.790,2,   0.152,2,  2049.1,2,  2259.8,2,   0.861,2,   1.7857,2,   -1.20,2, -999.00,9,  -999.0,9,  -999.0,   7.329,2,   0.037, -999.00,9,  185.60,-999.0000,9,-999.0000,9,-999.0000,9,-999.0000,9,-999.0000,9,   0.0089,   0.008,-999.0000,9,    0.20
318M20040615,        P02,     126,          1,         31,         31,2,20040809,       1325,    29.9983,  -154.8447,       5481,   235.1,  12.2977,  34.1897,2,  34.1904,2, 227.8000,2,   227.8,2,    8.14,2,    8.63,2,    0.01,2,    0.66,2,-999.000,9,-999.000,9,-999.000,9,  -999.0,9,  -999.0,9,-999.000,9,-999.0000,9, -999.00,9, -999.00,9,  -999.0,9,  -999.0,-999.000,9,-999.000, -999.00,9,  235.10,-999.0000,9,-999.0000,9,-999.0000,9,-999.0000,9,-999.0000,9,-999.0000,-999.000,-999.0000,9, -999.00
318M20040615,        P02,     126,          1,         30,         30,2,20040809,       1325,    29.9983,  -154.8447,       5481,   285.4,  11.5692,  34.2030,2,  34.2030,2, 222.2000,2,   223.1,2,   11.15,2,   11.22,2,    0.01,2,    0.82,2,   3.286,2,   1.857,2,   0.091,2,  2078.2,2,  2262.2,2,   0.835,2,   1.7950,2,    0.12,2, -999.00,9,  -999.0,9,  -999.0,   7.227,2,   0.036, -999.00,9,  285.40,-999.0000,9,-999.0000,9,-999.0000,9,-999.0000,9,-999.0000,9,   0.0090,   0.008,-999.0000,9,    0.20
318M20040615,        P02,     126,          1,         29,         29,2,20040809,       1325,    29.9983,  -154.8447,       5481,   334.9,  10.7620,  34.1726,2,  34.1712,2, 219.6000,2,   219.9,2,   14.56,2,   13.27,2,    0.01,2,    0.96,2,-999.000,9,-999.000,9,-999.000,9,  -999.0,9,  -999.0,9,-999.000,9,-999.0000,9, -999.00,9, -999.00,9,  -999.0,9,  -999.0,-999.000,9,-999.000, -999.00,9,  334.90,-999.0000,9,-999.0000,9,-999.0000,9,-999.0000,9,-999.0000,9,-999.0000,-999.000,-999.0000,9, -999.00
318M20040615,        P02,     126,          1,         28,         28,2,20040809,       1325,    29.9983,  -154.8447,       5481,   390.3,   9.9314,  34.1339,2,  34.1341,2, 207.4000,2,   211.4,2,   18.52,2,   15.68,2,    0.00,2,    1.12,2,   3.348,2,   1.842,2,   0.101,2,  2108.3,2,  2264.2,2,   0.867,2,   1.8063,2,    2.23,2, -999.00,9,  -999.0,9,  -999.0,   7.513,2,   0.038, -999.00,9,  390.30,-999.0000,9,-999.0000,9,-999.0000,9,-999.0000,9,-999.0000,9,   0.0090,   0.007,-999.0000,9,    0.20
318M20040615,        P02,     126,          1,         27,         27,2,20040809,       1325,    29.9983,  -154.8447,       5481,   439.1,   9.0875,  34.1131,2,  34.1133,2, 190.3000,2,   192.9,2,   25.35,2,   19.18,2,    0.00,2,    1.35,2,-999.000,9,-999.000,9,-999.000,9,  -999.0,9,  -999.0,9,-999.000,9,-999.0000,9, -999.00,9, -999.00,9,  -999.0,9,  -999.0,-999.000,9,-999.000, -999.00,9,  439.10,-999.0000,9,-999.0000,9,-999.0000,9,-999.0000,9,-999.0000,9,-999.0000,-999.000,-999.0000,9, -999.00
318M20040615,        P02,     126,          1,         26,         26,2,20040809,       1325,    29.9983,  -154.8447,       5481,   489.4,   8.0754,  34.0643,2,  34.0620,2, 168.4000,2,   166.9,2,   35.22,2,   23.83,2,    0.00,2,    1.67,2,   2.808,2,   1.461,2,   0.116,2,  2165.8,2,  2275.0,2,   0.827,2,   1.8066,2,    8.50,2, -999.00,9,  -999.0,9,  -999.0,   7.539,2,   0.038, -999.00,9,  489.40,-999.0000,9,-999.0000,9,-999.0000,9,-999.0000,9,-999.0000,9,   0.0090,   0.007,-999.0000,9,    0.20
318M20040615,        P02,     126,          1,         25,         25,2,20040809,       1325,    29.9983,  -154.8447,       5481,   574.4,   6.2870,  34.0021,2,  34.0014,2, 127.3000,2,   125.8,2,   54.49,2,   30.91,2,    0.00,2,    2.19,2,   1.971,2,   1.000,2,   0.070,2,  -999.0,9,  -999.0,9,   0.687,2,   1.8665,2,   14.26,2, -999.00,9,  -999.0,9,  -999.0,   7.830,2,   0.039, -999.00,9,  574.40,-999.0000,9,-999.0000,9,-999.0000,9,-999.0000,9,-999.0000,9,   0.0093,   0.007,-999.0000,9,    0.20
318M20040615,        P02,     126,          1,         24,         24,2,20040809,       1325,    29.9983,  -154.8447,       5481,   678.5,   4.9002,  34.0406,2,  34.0384,2,  75.2000,2,    74.9,2,   79.63,2,   37.70,2,    0.00,2,    2.69,2,   0.895,2,   0.455,2,   0.030,2,  2280.4,2,  2308.9,2,   0.530,2,   1.8703,2,   17.34,2, -999.00,9,  -999.0,9,  -999.0,   7.733,2,   0.039, -999.00,9,  678.50,-999.0000,9,-999.0000,9,-999.0000,9,-999.0000,9,-999.0000,9,   0.0094,   0.003,-999.0000,9,    0.20
318M20040615,        P02,     126,          1,         23,         23,2,20040809,       1325,    29.9983,  -154.8447,       5481,   776.9,   4.2016,  34.1533,2,  34.1523,2,  31.9000,2,    29.9,3,  101.26,2,   42.23,2,    0.00,2,    3.02,2,   0.171,2,   0.090,2,   0.000,2,  2331.1,2,  2331.6,2,   0.223,2,-999.0000,9, -999.00,9, -999.00,9,  -999.0,9,  -999.0,-999.000,9,-999.000, -999.00,9,  776.90,-999.0000,9,-999.0000,9,-999.0000,9,-999.0000,9,-999.0000,9,-999.0000,   0.004,-999.0000,9, -999.00
318M20040615,        P02,     126,          1,         22,         22,2,20040809,       1325,    29.9983,  -154.8447,       5481,   876.9,   3.8205,  34.2600,2,  34.2599,2,  14.1000,2,    13.1,2,  116.02,2,   43.72,2,    0.00,2,    3.15,2,-999.000,9,-999.000,9,-999.000,9,  2356.2,2,  2351.0,2,-999.000,9,-999.0000,9, -999.00,9, -999.00,9,  -999.0,9,  -999.0,-999.000,9,-999.000, -999.00,9,  876.90,-999.0000,9,-999.0000,9,-999.0000,9,-999.0000,9,-999.0000,9,-999.0000,-999.000,-999.0000,9, -999.00
318M20040615,        P02,     126,          1,         21,         21,2,20040809,       1325,    29.9983,  -154.8447,       5481,   981.9,   3.5726,  34.3452,2,  34.3458,2,  11.9000,2,    11.9,2,  125.17,2,   43.93,2,    0.00,2,    3.18,2,   0.018,2,   0.007,2,   0.000,2,  2369.4,2,  2365.5,2,   0.030,2,-999.0000,9, -999.00,9, -999.00,9,  -999.0,9,  -999.0,-999.000,9,-999.000, -999.00,9,  981.90,-999.0000,9,-999.0000,9,-999.0000,9,-999.0000,9,-999.0000,9,-999.0000,   0.001,-999.0000,9, -999.00
318M20040615,        P02,     126,          1,         20,         20,2,20040809,       1325,    29.9983,  -154.8447,       5481,  1080.9,   3.3601,  34.4145,2,  34.4155,2,  18.4000,2,    16.8,2,  131.80,2,   43.76,2,    0.00,2,    3.18,2,   0.011,2,   0.006,2,   0.002,2,  2374.8,6,  2377.7,2,-999.000,9,-999.0000,9, -999.00,9, -999.00,9,  -999.0,9,  -999.0,-999.000,9,-999.000, -999.00,9, 1080.90,-999.0000,9,-999.0000,9,-999.0000,9,-999.0000,9,-999.0000,9,-999.0000,-999.000,-999.0000,9, -999.00
318M20040615,        P02,     126,          1,         19,         19,2,20040809,       1325,    29.9983,  -154.8447,       5481,  1181.7,   3.1876,  34.4697,2,  34.4703,2,  33.1000,2,    31.3,2,  134.13,2,   42.91,2,    0.00,2,    3.10,2,   0.011,2,   0.005,2,   0.000,2,  -999.0,9,  -999.0,9,   0.041,2,-999.0000,9, -999.00,9, -999.00,9,  -999.0,9,  -999.0,-999.000,9,-999.000, -999.00,9, 1181.70,-999.0000,9,-999.0000,9,-999.0000,9,-999.0000,9,-999.0000,9,-999.0000,   0.002,-999.0000,9, -999.00
318M20040615,        P02,     126,          1,         18,         18,2,20040809,       1325,    29.9983,  -154.8447,       5481,  1285.9,   2.9907,  34.5059,2,  34.5062,2,  41.7000,2,    41.0,2,  137.44,2,   42.59,2,    0.00,2,    3.06,2,-999.000,9,-999.000,9,-999.000,9,  -999.0,9,  -999.0,9,-999.000,9,-999.0000,9, -999.00,9, -999.00,9,  -999.0,9,  -999.0,-999.000,9,-999.000, -999.00,9, 1285.90,-999.0000,9,-999.0000,9,-999.0000,9,-999.0000,9,-999.0000,9,-999.0000,-999.000,-999.0000,9, -999.00
318M20040615,        P02,     126,          1,         17,         17,2,20040809,       1325,    29.9983,  -154.8447,       5481,  1385.0,   2.8120,  34.5302,2,  34.5305,2,  49.3000,2,    48.1,3,  140.95,2,   42.48,2,    0.00,2,    3.02,2,   0.009,2,   0.003,2,   0.000,2,  -999.0,9,  -999.0,9,   0.026,2,   1.9333,2,   20.63,2, -999.00,9,  -999.0,9,  -999.0,   8.008,2,   0.040, -999.00,9, 1385.00,-999.0000,9,-999.0000,9,-999.0000,9,-999.0000,9,-999.0000,9,   0.0097,   0.001,-999.0000,9,    0.20
318M20040615,        P02,     126,          1,         16,         16,2,20040809,       1325,    29.9983,  -154.8447,       5481,  1485.5,   2.6254,  34.5526,2,  34.5527,2,  56.3000,2,    56.8,2, -999.00,1, -999.00,1, -999.00,1, -999.00,1,   0.007,2,   0.002,2,   0.000,2,  -999.0,9,  -999.0,9,-999.000,9,-999.0000,9, -999.00,9, -999.00,9,  -999.0,9,  -999.0,-999.000,9,-999.000, -999.00,9, 1485.50,-999.0000,9,-999.0000,9,-999.0000,9,-999.0000,9,-999.0000,9,-999.0000,-999.000,-999.0000,9, -999.00
318M20040615,        P02,     126,          1,         15,         15,2,20040809,       1325,    29.9983,  -154.8447,       5481,  1586.3,   2.4549,  34.5683,2,  34.5686,2,  61.1000,2,    61.4,2,  149.95,2,   41.89,2,    0.00,2,    2.96,2,   0.007,2,   0.000,2,   0.000,2,  -999.0,9,  -999.0,9,   0.030,2,   1.9380,2,   21.28,2, -999.00,9,  -999.0,9,  -999.0,   7.711,2,   0.039, -999.00,9, 1586.30,-999.0000,9,-999.0000,9,-999.0000,9,-999.0000,9,-999.0000,9,   0.0097,   0.001,-999.0000,9,    0.20
318M20040615,        P02,     126,          1,         14,         14,2,20040809,       1325,    29.9983,  -154.8447,       5481,  1687.2,   2.3271,  34.5868,2,  34.5869,2,  68.2000,2,    70.9,2,  151.31,2,   41.19,2,    0.00,2,    2.91,2,-999.000,9,-999.000,9,-999.000,9,  -999.0,9,  -999.0,9,-999.000,9,-999.0000,9, -999.00,9, -999.00,9,  -999.0,9,  -999.0,-999.000,9,-999.000, -999.00,9, 1687.20,-999.0000,9,-999.0000,9,-999.0000,9,-999.0000,9,-999.0000,9,-999.0000,-999.000,-999.0000,9, -999.00
318M20040615,        P02,     126,          1,         13,         13,2,20040809,       1325,    29.9983,  -154.8447,       5481,  1788.5,   2.1808,  34.5958,2,  34.5957,2,  73.1000,2,    73.1,2,  156.21,2,   40.97,2,    0.00,2,    2.90,2,   0.006,2,   0.002,2,   0.000,2,  -999.0,9,  -999.0,9,   0.028,2,   1.9404,2,   20.85,2, -999.00,9,  -999.0,9,  -999.0,   7.922,2,   0.040, -999.00,9, 1788.50,-999.0000,9,-999.0000,9,-999.0000,9,-999.0000,9,-999.0000,9,   0.0097,   0.001,-999.0000,9,    0.20
318M20040615,        P02,     126,          1,         12,         12,2,20040809,       1325,    29.9983,  -154.8447,       5481,  1991.0,   2.0107,  34.6190,2,  34.6187,2,  84.6000,2,    84.9,2,  159.54,2,   40.23,2,    0.00,2,    2.85,2,   0.005,2,   0.002,2,   0.000,2,  -999.0,9,  -999.0,9,-999.000,9,-999.0000,9, -999.00,9, -999.00,9,  -999.0,9,  -999.0,-999.000,9,-999.000, -999.00,9, 1991.00,-999.0000,9,-999.0000,9,-999.0000,9,-999.0000,9,-999.0000,9,-999.0000,-999.000,-999.0000,9, -999.00
318M20040615,        P02,     126,          1,         11,         11,2,20040809,       1325,    29.9983,  -154.8447,       5481,  2193.9,   1.8662,  34.6323,2,  34.6324,2,  92.2000,2,    92.5,2,  162.67,2,   39.65,2,    0.00,2,    2.80,2,-999.000,9,-999.000,9,-999.000,9,  -999.0,9,  -999.0,9,-999.000,9,-999.0000,9, -999.00,9, -999.00,9,  -999.0,9,  -999.0,-999.000,9,-999.000, -999.00,9, 2193.90,-999.0000,9,-999.0000,9,-999.0000,9,-999.0000,9,-999.0000,9,-999.0000,-999.000,-999.0000,9, -999.00
318M20040615,        P02,     126,          1,         10,         10,2,20040809,       1325,    29.9983,  -154.8447,       5481,  2452.7,   1.7293,  34.6469,2,  34.6465,2, 101.7000,2,   103.7,2,  163.67,2,   38.81,2,    0.00,2,    2.75,2,   0.004,2,   0.001,2,   0.000,2,  -999.0,9,  -999.0,9,-999.000,9,-999.0000,9, -999.00,9, -999.00,9,  -999.0,9,  -999.0,-999.000,9,-999.000, -999.00,9, 2452.70,-999.0000,9,-999.0000,9,-999.0000,9,-999.0000,9,-999.0000,9,-999.0000,-999.000,-999.0000,9, -999.00
318M20040615,        P02,     126,          1,          9,          9,2,20040809,       1325,    29.9983,  -154.8447,       5481,  2705.2,   1.6400,  34.6569,2,  34.6568,2, 111.8000,2,   111.8,2,  164.66,2,   38.28,2,    0.00,2,    2.70,2,-999.000,9,-999.000,9,-999.000,9,  -999.0,9,  -999.0,9,-999.000,9,-999.0000,9, -999.00,9, -999.00,9,  -999.0,9,  -999.0,-999.000,9,-999.000, -999.00,9, 2705.20,-999.0000,9,-999.0000,9,-999.0000,9,-999.0000,9,-999.0000,9,-999.0000,-999.000,-999.0000,9, -999.00
318M20040615,        P02,     126,          1,          8,          8,2,20040809,       1325,    29.9983,  -154.8447,       5481,  2961.0,   1.5796,  34.6651,2,  34.6648,2, 120.2000,2,   121.0,2,  162.87,2,   37.70,2,    0.00,2,    2.65,2,   0.007,2,   0.002,2,   0.000,2,  -999.0,9,  -999.0,9,-999.000,9,-999.0000,9, -999.00,9, -999.00,9,  -999.0,9,  -999.0,-999.000,9,-999.000, -999.00,9, 2961.00,-999.0000,9,-999.0000,9,-999.0000,9,-999.0000,9,-999.0000,9,-999.0000,-999.000,-999.0000,9, -999.00
318M20040615,        P02,     126,          1,          7,          7,2,20040809,       1325,    29.9983,  -154.8447,       5481,  3295.1,   1.5278,  34.6730,2,  34.6728,2, 129.4000,2,   129.9,2,  161.46,2,   37.23,2,    0.00,2,    2.60,2,-999.000,9,-999.000,9,-999.000,9,  -999.0,9,  -999.0,9,-999.000,9,-999.0000,9, -999.00,9, -999.00,9,  -999.0,9,  -999.0,-999.000,9,-999.000, -999.00,9, 3295.10,-999.0000,9,-999.0000,9,-999.0000,9,-999.0000,9,-999.0000,9,-999.0000,-999.000,-999.0000,9, -999.00
318M20040615,        P02,     126,          1,          6,          6,2,20040809,       1325,    29.9983,  -154.8447,       5481,  3707.2,   1.5009,  34.6795,2,  34.6795,2, 137.9000,2,   138.4,2,  158.48,2,   36.92,2,    0.00,2,    2.56,2,   0.008,2,   0.001,2,   0.000,2,  -999.0,9,  -999.0,9,-999.000,9,-999.0000,9, -999.00,9, -999.00,9,  -999.0,9,  -999.0,-999.000,9,-999.000, -999.00,9, 3707.20,-999.0000,9,-999.0000,9,-999.0000,9,-999.0000,9,-999.0000,9,-999.0000,-999.000,-999.0000,9, -999.00
318M20040615,        P02,     126,          1,          5,          5,2,20040809,       1325,    29.9983,  -154.8447,       5481,  4119.1,   1.4898,  34.6841,2,  34.6840,2, 145.0000,2,   145.9,2,  155.51,2,   36.55,2,    0.00,2,    2.52,2,   0.007,2,   0.003,2,   0.000,2,  -999.0,9,  -999.0,9,-999.000,9,-999.0000,9, -999.00,9, -999.00,9,  -999.0,9,  -999.0,-999.000,9,-999.000, -999.00,9, 4119.10,-999.0000,9,-999.0000,9,-999.0000,9,-999.0000,9,-999.0000,9,-999.0000,-999.000,-999.0000,9, -999.00
318M20040615,        P02,     126,          1,          4,          4,2,20040809,       1325,    29.9983,  -154.8447,       5481,  4528.4,   1.4960,  34.6878,2,  34.6876,2, 152.2000,2,   152.6,2,  150.77,2,   36.03,2,    0.00,2,    2.47,2,   0.008,2,   0.005,2,   0.000,2,  -999.0,9,  -999.0,9,-999.000,9,-999.0000,9, -999.00,9, -999.00,9,  -999.0,9,  -999.0,-999.000,9,-999.000, -999.00,9, 4528.40,-999.0000,9,-999.0000,9,-999.0000,9,-999.0000,9,-999.0000,9,-999.0000,-999.000,-999.0000,9, -999.00
318M20040615,        P02,     126,          1,          3,          3,2,20040809,       1325,    29.9983,  -154.8447,       5481,  4940.2,   1.5164,  34.6901,2,  34.6899,2, 157.0000,2,   157.2,2,  148.00,2,   35.55,2,    0.00,2,    2.46,2,   0.010,6,   0.005,6,   0.000,6,  -999.0,9,  -999.0,9,-999.000,9,-999.0000,9, -999.00,9, -999.00,9,  -999.0,9,  -999.0,-999.000,9,-999.000, -999.00,9, 4940.20,-999.0000,9,-999.0000,9,-999.0000,9,-999.0000,9,-999.0000,9,-999.0000,-999.000,-999.0000,9, -999.00
318M20040615,        P02,     126,          1,          2,          2,2,20040809,       1325,    29.9983,  -154.8447,       5481,  5355.5,   1.5499,  34.6915,2,  34.6917,2, 160.3000,2,   160.5,2,  144.46,2,   35.23,2,    0.00,2,    2.44,2,   0.010,2,   0.006,2,   0.000,2,  -999.0,9,  -999.0,9,-999.000,9,-999.0000,9, -999.00,9, -999.00,9,  -999.0,9,  -999.0,-999.000,9,-999.000, -999.00,9, 5355.50,-999.0000,9,-999.0000,9,-999.0000,9,-999.0000,9,-999.0000,9,-999.0000,-999.000,-999.0000,9, -999.00
318M20040615,        P02,     126,          1,          1,          1,2,20040809,       1325,    29.9983,  -154.8447,       5481,  5593.7,   1.5794,  34.6915,2,  34.6911,2, 160.7000,2,   161.5,2,  144.66,2,   35.13,2,    0.00,2,    2.44,2,   0.008,2,   0.006,2,   0.000,2,  -999.0,9,  -999.0,9,-999.000,9,-999.0000,9, -999.00,9, -999.00,9,  -999.0,9,  -999.0,-999.000,9,-999.000, -999.00,9, 5593.70,-999.0000,9,-999.0000,9,-999.0000,9,-999.0000,9,-999.0000,9,-999.0000,-999.000,-999.0000,9, -999.00