BOTTLE,20131027SIOCCHRJL
EXPOCODE,SECT_ID,STNNBR,CASTNO,SAMPNO,BTLNBR,BTLNBR_FLAG_W,DATE,TIME,LATITUDE,LONGITUDE,DEPTH,CTDPRS,CTDTMP,CTDSAL,CTDSAL_FLAG_W,SALNTY,SALNTY_FLAG_W,CTDOXY,CTDOXY_FLAG_W,OXYGEN,OXYGEN_FLAG_W,SILCAT,SILCAT_FLAG_W,NITRAT,NITRAT_FLAG_W,NITRIT,NITRIT_FLAG_W,PHSPHT,PHSPHT_FLAG_W,CFC-11,CFC-11_FLAG_W,CFC-12,CFC-12_FLAG_W,CFC113,CFC113_FLAG_W,TCARBN,TCARBN_FLAG_W,ALKALI,ALKALI_FLAG_W,TRITUM,TRITUM_FLAG_W,HELIUM,HELIUM_FLAG_W,DELHE3,DELHE3_FLAG_W,DELC13,DELC13_FLAG_W,DELC14,DELC14_FLAG_W,C14ERR,NEON,NEON_FLAG_W,NEONER,DOC,DOC_FLAG_W,CTDRAW,CDOM380,CDOM380_FLAG_W,CDOM325,CDOM325_FLAG_W,CDOMSL,CDOMSL_FLAG_W,CDOM340,CDOM340_FLAG_W,CDOMSN,CDOMSN_FLAG_W,HELIER,TRITER,CDOM412,CDOM412_FLAG_W,DELHER
,,,,,,,,,,,METERS,DBAR,ITS-90,PSS-78,,PSS-78,,UMOL/KG,,UMOL/KG,,UMOL/KG,,UMOL/KG,,UMOL/KG,,UMOL/KG,,PMOL/KG,,PMOL/KG,,PMOL/KG,,UMOL/KG,,UMOL/KG,,TU,,NMOL/KG,,PERCNT,,/MILLE,,/MILLE,,/MILLE,NMOL/KG,,NMOL/KG,UMOL/KG,,DBAR,1/M,,1/M,,1/NM,,1/M,,1/NM,,NMOL/KG,TU,1/M,,PERCNT
318M20040615,        P02,     166,          1,         36,         36,2,20040821,       2041,    30.0002,   -127.226,       4395,     8.4,  21.2832,  33.4213,2,  33.4226,2, 227.5000,2,   227.4,2,    1.44,2,    0.10,2,    0.00,2,    0.30,2,   2.207,2,   1.371,2,   0.154,2,  1995.8,6,  2239.7,6,   0.910,2,   1.7537,2,   -0.91,2, -999.00,9,  -999.0,9,  -999.0,-999.000,9,-999.000, -999.00,9,    8.40,-999.0000,9,-999.0000,9,-999.0000,9,-999.0000,9,-999.0000,9,   0.0088,   0.005,-999.0000,9,    0.20
318M20040615,        P02,     166,          1,         35,         35,2,20040821,       2041,    30.0002,   -127.226,       4395,    50.5,  18.6913,  33.2835,2,  33.2820,2, 245.4000,2,   246.5,2,    1.42,2,    0.10,2,    0.00,2,    0.30,2,   2.550,2,   1.561,2,   0.179,2,  -999.0,9,  -999.0,9,-999.000,9,   1.7729,2,   -1.07,2, -999.00,9,  -999.0,9,  -999.0,-999.000,9,-999.000, -999.00,9,   50.50,-999.0000,9,-999.0000,9,-999.0000,9,-999.0000,9,-999.0000,9,   0.0089,-999.000,-999.0000,9,    0.20
318M20040615,        P02,     166,          1,         34,         34,2,20040821,       2041,    30.0002,   -127.226,       4395,   100.6,  16.3982,  33.3250,2,  33.3276,2, 251.5000,2,   250.1,2,    1.61,2,    0.05,2,    0.00,2,    0.30,2,   2.818,2,   1.666,2,   0.191,2,  -999.0,9,  -999.0,9,   0.958,2,   1.7782,2,   -1.16,2, -999.00,9,  -999.0,9,  -999.0,-999.000,9,-999.000, -999.00,9,  100.60,-999.0000,9,-999.0000,9,-999.0000,9,-999.0000,9,-999.0000,9,   0.0089,   0.006,-999.0000,9,    0.20
318M20040615,        P02,     166,          1,         33,         33,2,20040821,       2041,    30.0002,   -127.226,       4395,   154.8,  12.1524,  33.1803,2,  33.1839,2, 224.4000,2,   227.4,2,    5.84,2,    6.63,2,    0.02,2,    0.75,2,   3.331,2,   1.899,2,   0.198,2,  -999.0,9,  -999.0,9,   0.917,2,   1.7951,2,   -0.70,2, -999.00,9,  -999.0,9,  -999.0,-999.000,9,-999.000, -999.00,9,  154.80,-999.0000,9,-999.0000,9,-999.0000,9,-999.0000,9,-999.0000,9,   0.0090,   0.005,-999.0000,9,    0.20
318M20040615,        P02,     166,          1,         32,         32,2,20040821,       2041,    30.0002,   -127.226,       4395,   204.3,   9.5644,  33.4866,2,  33.4875,2, 191.3000,2,   190.9,2,   16.15,2,   17.18,2,    0.00,2,    1.37,2,   3.582,2,   1.973,2,   0.149,2,  -999.0,9,  -999.0,9,   0.914,2,   1.8080,2,    1.46,2, -999.00,9,  -999.0,9,  -999.0,-999.000,9,-999.000, -999.00,9,  204.30,-999.0000,9,-999.0000,9,-999.0000,9,-999.0000,9,-999.0000,9,   0.0090,   0.006,-999.0000,9,    0.20
318M20040615,        P02,     166,          1,         31,         31,2,20040821,       2041,    30.0002,   -127.226,       4395,   254.2,   8.8248,  33.9409,2,  33.9449,2, 136.2000,2,   136.0,2,   28.52,2,   24.78,2,    0.00,2,    1.84,2,-999.000,9,-999.000,9,-999.000,9,  -999.0,9,  -999.0,9,-999.000,9,-999.0000,9, -999.00,9, -999.00,9,  -999.0,9,  -999.0,-999.000,9,-999.000, -999.00,9,  254.20,-999.0000,9,-999.0000,9,-999.0000,9,-999.0000,9,-999.0000,9,-999.0000,-999.000,-999.0000,9, -999.00
318M20040615,        P02,     166,          1,         30,         30,2,20040821,       2041,    30.0002,   -127.226,       4395,   304.1,   8.0997,  34.0487,2,  34.0501,2, 103.8000,2,   104.8,2,   38.27,2,   29.31,2,    0.00,2,    2.15,2,   2.439,2,   1.270,2,   0.093,2,  -999.0,9,  -999.0,9,   0.761,2,   1.8156,2,    9.87,2, -999.00,9,  -999.0,9,  -999.0,-999.000,9,-999.000, -999.00,9,  304.10,-999.0000,9,-999.0000,9,-999.0000,9,-999.0000,9,-999.0000,9,   0.0091,   0.005,-999.0000,9,    0.20
318M20040615,        P02,     166,          1,         29,         29,2,20040821,       2041,    30.0002,   -127.226,       4395,   354.3,   7.4681,  34.0878,2,  34.0869,2,  77.2000,2,    79.1,2,   46.82,2,   32.61,2,    0.00,2,    2.42,2,-999.000,9,-999.000,9,-999.000,9,  -999.0,9,  -999.0,9,-999.000,9,-999.0000,9, -999.00,9, -999.00,9,  -999.0,9,  -999.0,-999.000,9,-999.000, -999.00,9,  354.30,-999.0000,9,-999.0000,9,-999.0000,9,-999.0000,9,-999.0000,9,-999.0000,-999.000,-999.0000,9, -999.00
318M20040615,        P02,     166,          1,         28,         28,2,20040821,       2041,    30.0002,   -127.226,       4395,   404.2,   7.0561,  34.1295,2,  34.1307,2,  58.1000,2,    58.2,2,   54.17,2,   34.98,2,    0.00,2,    2.62,2,   1.262,2,   0.652,2,   0.044,2,  -999.0,9,  -999.0,9,   0.576,2,   1.7724,2,   13.09,2, -999.00,9,  -999.0,9,  -999.0,-999.000,9,-999.000, -999.00,9,  404.20,-999.0000,9,-999.0000,9,-999.0000,9,-999.0000,9,-999.0000,9,   0.0089,   0.004,-999.0000,9,    0.20
318M20040615,        P02,     166,          1,         27,         27,2,20040821,       2041,    30.0002,   -127.226,       4395,   453.7,   6.5475,  34.1406,2,  34.1429,2,  41.0000,2,    45.5,2,   61.11,2,   36.87,2,    0.00,2,    2.77,2,-999.000,9,-999.000,9,-999.000,9,  -999.0,9,  -999.0,9,-999.000,9,-999.0000,9, -999.00,9, -999.00,9,  -999.0,9,  -999.0,-999.000,9,-999.000, -999.00,9,  453.70,-999.0000,9,-999.0000,9,-999.0000,9,-999.0000,9,-999.0000,9,-999.0000,-999.000,-999.0000,9, -999.00
318M20040615,        P02,     166,          1,         26,         26,2,20040821,       2041,    30.0002,   -127.226,       4395,   503.8,   6.3189,  34.2306,2,  34.2307,2,  25.0000,2,    24.8,2,   69.71,2,   38.55,2,    0.00,2,    2.95,2,   0.446,2,   0.222,2,   0.006,2,  -999.0,9,  -999.0,9,   0.308,2,   1.8201,2,   14.88,2, -999.00,9,  -999.0,9,  -999.0,-999.000,9,-999.000, -999.00,9,  503.80,-999.0000,9,-999.0000,9,-999.0000,9,-999.0000,9,-999.0000,9,   0.0091,   0.003,-999.0000,9,    0.20
318M20040615,        P02,     166,          1,         25,         25,2,20040821,       2041,    30.0002,   -127.226,       4395,   603.5,   5.5824,  34.2747,2,  34.2744,2,  14.3000,2,    14.6,2,   83.08,2,   40.89,2,    0.00,2,    3.11,2,   0.167,2,   0.083,2,   0.000,2,  -999.0,9,  -999.0,9,   0.192,2,   1.8390,2,   14.00,2, -999.00,9,  -999.0,9,  -999.0,-999.000,9,-999.000, -999.00,9,  603.50,-999.0000,9,-999.0000,9,-999.0000,9,-999.0000,9,-999.0000,9,   0.0092,   0.002,-999.0000,9,    0.20
318M20040615,        P02,     166,          1,         24,         24,2,20040821,       2041,    30.0002,   -127.226,       4395,   708.6,   5.0646,  34.3338,2,  34.3342,2,  10.9000,2,    10.8,2,   93.60,2,   42.26,2,    0.00,2,    3.19,2,   0.059,2,   0.032,2,   0.000,2,  -999.0,9,  -999.0,9,   0.063,2,   1.8650,2,   13.96,2, -999.00,9,  -999.0,9,  -999.0,-999.000,9,-999.000, -999.00,9,  708.60,-999.0000,9,-999.0000,9,-999.0000,9,-999.0000,9,-999.0000,9,   0.0093,   0.001,-999.0000,9,    0.20
318M20040615,        P02,     166,          1,         23,         23,2,20040821,       2041,    30.0002,   -127.226,       4395,   808.5,   4.6785,  34.4057,2,  34.4065,2,  12.7000,2,    12.6,2,  102.29,2,   43.08,2,    0.00,2,    3.23,2,   0.027,2,   0.018,2,   0.000,2,  -999.0,9,  -999.0,9,   0.016,2,   1.8727,2,   15.92,2, -999.00,9,  -999.0,9,  -999.0,-999.000,9,-999.000, -999.00,9,  808.50,-999.0000,9,-999.0000,9,-999.0000,9,-999.0000,9,-999.0000,9,   0.0094,   0.000,-999.0000,9,    0.20
318M20040615,        P02,     166,          1,         22,         22,2,20040821,       2041,    30.0002,   -127.226,       4395,   908.8,   4.2553,  34.4289,2,  34.4334,2,  16.3000,2,    17.3,2,  109.96,2,   43.48,2,    0.00,2,    3.22,2,   0.022,2,   0.011,2,   0.000,2,  -999.0,9,  -999.0,9,   0.008,2,-999.0000,9, -999.00,9, -999.00,9,  -999.0,9,  -999.0,-999.000,9,-999.000, -999.00,9,  908.80,-999.0000,9,-999.0000,9,-999.0000,9,-999.0000,9,-999.0000,9,-999.0000,   0.000,-999.0000,9, -999.00
318M20040615,        P02,     166,          1,         21,         21,2,20040821,       2041,    30.0002,   -127.226,       4395,  1014.2,   3.9531,  34.4696,2,  34.4701,2,  25.5000,2,    25.5,2,  116.18,2,   43.64,2,    0.00,2,    3.18,2,   0.012,2,   0.007,2,   0.000,2,  -999.0,9,  -999.0,9,-999.000,9,-999.0000,9, -999.00,9, -999.00,9,  -999.0,9,  -999.0,-999.000,9,-999.000, -999.00,9, 1014.20,-999.0000,9,-999.0000,9,-999.0000,9,-999.0000,9,-999.0000,9,-999.0000,-999.000,-999.0000,9, -999.00
318M20040615,        P02,     166,          1,         20,         20,2,20040821,       2041,    30.0002,   -127.226,       4395,  1114.3,   3.7119,  34.4973,2,  34.4977,2,  29.6000,2,    29.8,2,  121.99,2,   43.75,2,    0.00,2,    3.18,2,-999.000,9,-999.000,9,-999.000,9,  -999.0,9,  -999.0,9,-999.000,9,-999.0000,9, -999.00,9, -999.00,9,  -999.0,9,  -999.0,-999.000,9,-999.000, -999.00,9, 1114.30,-999.0000,9,-999.0000,9,-999.0000,9,-999.0000,9,-999.0000,9,-999.0000,-999.000,-999.0000,9, -999.00
318M20040615,        P02,     166,          1,         19,         19,2,20040821,       2041,    30.0002,   -127.226,       4395,  1214.8,   3.4717,  34.5193,2,  34.5195,2,  33.6000,2,    34.3,2,  128.04,2,   43.79,2,    0.00,2,    3.17,2,   0.014,2,   0.008,2,   0.000,2,  -999.0,9,  -999.0,9,   0.008,2,   1.9046,2,   22.06,2, -999.00,9,  -999.0,9,  -999.0,-999.000,9,-999.000, -999.00,9, 1214.80,-999.0000,9,-999.0000,9,-999.0000,9,-999.0000,9,-999.0000,9,   0.0095,   0.000,-999.0000,9,    0.20
318M20040615,        P02,     166,          1,         18,         18,2,20040821,       2041,    30.0002,   -127.226,       4395,  1315.2,   3.2957,  34.5341,2,  34.5340,2,  37.2000,2,    37.6,2,  132.40,2,   43.63,2,    0.00,2,    3.15,2,-999.000,9,-999.000,9,-999.000,9,  -999.0,9,  -999.0,9,-999.000,9,-999.0000,9, -999.00,9, -999.00,9,  -999.0,9,  -999.0,-999.000,9,-999.000, -999.00,9, 1315.20,-999.0000,9,-999.0000,9,-999.0000,9,-999.0000,9,-999.0000,9,-999.0000,-999.000,-999.0000,9, -999.00
318M20040615,        P02,     166,          1,         17,         17,2,20040821,       2041,    30.0002,   -127.226,       4395,  1415.7,   3.0652,  34.5500,2,  34.5495,2,  42.0000,2,    42.8,2,  138.46,2,   43.29,2,    0.00,2,    3.12,2,   0.018,2,   0.018,2,   0.000,2,  -999.0,9,  -999.0,9,   0.001,2,   1.9130,2,   22.94,2, -999.00,9,  -999.0,9,  -999.0,-999.000,9,-999.000, -999.00,9, 1415.70,-999.0000,9,-999.0000,9,-999.0000,9,-999.0000,9,-999.0000,9,   0.0096,   0.000,-999.0000,9,    0.20
318M20040615,        P02,     166,          1,         16,         16,2,20040821,       2041,    30.0002,   -127.226,       4395,  1515.3,   2.8591,  34.5657,2,  34.5661,2,  47.9000,2,    48.9,2,  143.90,2,   42.91,2,    0.00,2,    3.09,2,-999.000,9,-999.000,9,-999.000,9,  -999.0,9,  -999.0,9,-999.000,9,-999.0000,9, -999.00,9, -999.00,9,  -999.0,9,  -999.0,-999.000,9,-999.000, -999.00,9, 1515.30,-999.0000,9,-999.0000,9,-999.0000,9,-999.0000,9,-999.0000,9,-999.0000,-999.000,-999.0000,9, -999.00
318M20040615,        P02,     166,          1,         15,         15,2,20040821,       2041,    30.0002,   -127.226,       4395,  1616.3,   2.7042,  34.5770,2,  34.5777,2,  53.7000,2,    53.8,2,  147.68,2,   42.58,2,    0.00,2,    3.06,2,   0.006,2,   0.005,2,   0.000,2,  -999.0,9,  -999.0,9,   0.008,2,   1.9194,2,   24.05,2, -999.00,9,  -999.0,9,  -999.0,-999.000,9,-999.000, -999.00,9, 1616.30,-999.0000,9,-999.0000,9,-999.0000,9,-999.0000,9,-999.0000,9,   0.0096,   0.000,-999.0000,9,    0.20
318M20040615,        P02,     166,          1,         14,         14,2,20040821,       2041,    30.0002,   -127.226,       4395,  1716.4,   2.5544,  34.5886,2,  34.5884,2,  59.8000,2,    59.4,2,  151.03,2,   42.14,2,    0.00,2,    3.03,2,-999.000,9,-999.000,9,-999.000,9,  -999.0,9,  -999.0,9,-999.000,9,-999.0000,9, -999.00,9, -999.00,9,  -999.0,9,  -999.0,-999.000,9,-999.000, -999.00,9, 1716.40,-999.0000,9,-999.0000,9,-999.0000,9,-999.0000,9,-999.0000,9,-999.0000,-999.000,-999.0000,9, -999.00
318M20040615,        P02,     166,          1,         13,         13,2,20040821,       2041,    30.0002,   -127.226,       4395,  1822.1,   2.3981,  34.6004,2,  34.6010,2,  67.0000,2,    65.8,2,  154.61,2,   41.75,2,    0.00,2,    2.99,2,-999.000,9,-999.000,9,-999.000,9,  -999.0,9,  -999.0,9,-999.000,9,-999.0000,9, -999.00,9, -999.00,9,  -999.0,9,  -999.0,-999.000,9,-999.000, -999.00,9, 1822.10,-999.0000,9,-999.0000,9,-999.0000,9,-999.0000,9,-999.0000,9,-999.0000,-999.000,-999.0000,9, -999.00
318M20040615,        P02,     166,          1,         12,         12,2,20040821,       2041,    30.0002,   -127.226,       4395,  1922.8,   2.2749,  34.6101,2,  34.6106,2,  72.1000,2,    71.5,2,  156.91,2,   41.58,2,    0.00,2,    2.95,2,-999.000,9,-999.000,9,-999.000,9,  -999.0,9,  -999.0,9,-999.000,9,-999.0000,9, -999.00,9, -999.00,9,  -999.0,9,  -999.0,-999.000,9,-999.000, -999.00,9, 1922.80,-999.0000,9,-999.0000,9,-999.0000,9,-999.0000,9,-999.0000,9,-999.0000,-999.000,-999.0000,9, -999.00
318M20040615,        P02,     166,          1,         11,         11,2,20040821,       2041,    30.0002,   -127.226,       4395,  2023.0,   2.1539,  34.6204,2,  34.6209,2,  77.6000,2,    78.6,2,  159.20,2,   41.43,2,    0.00,2,    2.92,2,  -0.002,2,  -0.003,2,   0.000,2,  -999.0,9,  -999.0,9,-999.000,9,-999.0000,9, -999.00,9, -999.00,9,  -999.0,9,  -999.0,-999.000,9,-999.000, -999.00,9, 2023.00,-999.0000,9,-999.0000,9,-999.0000,9,-999.0000,9,-999.0000,9,-999.0000,-999.000,-999.0000,9, -999.00
318M20040615,        P02,     166,          1,         10,         10,2,20040821,       2041,    30.0002,   -127.226,       4395,  2280.3,   1.9513,  34.6375,2,  34.6374,2,  89.7000,2,    90.7,2,  162.98,2,   40.70,2,    0.00,2,    2.85,2,-999.000,9,-999.000,9,-999.000,9,  -999.0,9,  -999.0,9,-999.000,9,-999.0000,9, -999.00,9, -999.00,9,  -999.0,9,  -999.0,-999.000,9,-999.000, -999.00,9, 2280.30,-999.0000,9,-999.0000,9,-999.0000,9,-999.0000,9,-999.0000,9,-999.0000,-999.000,-999.0000,9, -999.00
318M20040615,        P02,     166,          1,          9,          9,2,20040821,       2041,    30.0002,   -127.226,       4395,  2537.4,   1.8060,  34.6489,2,  34.6490,2,  99.4000,2,    99.6,2,  166.33,2,   39.99,2,    0.00,2,    2.80,2,  -0.002,2,   0.000,2,   0.000,2,  -999.0,9,  -999.0,9,   0.002,2,-999.0000,9, -999.00,9, -999.00,9,  -999.0,9,  -999.0,-999.000,9,-999.000, -999.00,9, 2537.40,-999.0000,9,-999.0000,9,-999.0000,9,-999.0000,9,-999.0000,9,-999.0000,   0.000,-999.0000,9, -999.00
318M20040615,        P02,     166,          1,          8,          8,2,20040821,       2041,    30.0002,   -127.226,       4395,  2786.6,   1.6804,  34.6586,2,  34.6582,2, 108.1000,2,   108.9,2,  169.06,2,   39.34,2,    0.00,2,    2.75,2,-999.000,9,-999.000,9,-999.000,9,  -999.0,9,  -999.0,9,-999.000,9,-999.0000,9, -999.00,9, -999.00,9,  -999.0,9,  -999.0,-999.000,9,-999.000, -999.00,9, 2786.60,-999.0000,9,-999.0000,9,-999.0000,9,-999.0000,9,-999.0000,9,-999.0000,-999.000,-999.0000,9, -999.00
318M20040615,        P02,     166,          1,          7,          7,2,20040821,       2041,    30.0002,   -127.226,       4395,  3041.7,   1.5978,  34.6666,2,  34.6672,2, 116.4000,2,   116.9,2,  170.08,2,   38.73,2,    0.00,2,    2.71,2,   0.001,2,   0.003,2,   0.000,2,  -999.0,9,  -999.0,9,-999.000,9,-999.0000,9, -999.00,9, -999.00,9,  -999.0,9,  -999.0,-999.000,9,-999.000, -999.00,9, 3041.70,-999.0000,9,-999.0000,9,-999.0000,9,-999.0000,9,-999.0000,9,-999.0000,-999.000,-999.0000,9, -999.00
318M20040615,        P02,     166,          1,          6,          6,2,20040821,       2041,    30.0002,   -127.226,       4395,  3299.7,   1.5484,  34.6724,2,  34.6756,2, 122.9000,2,   123.6,2,  170.28,2,   38.18,2,    0.00,2,    2.67,2,-999.000,9,-999.000,9,-999.000,9,  -999.0,9,  -999.0,9,-999.000,9,-999.0000,9, -999.00,9, -999.00,9,  -999.0,9,  -999.0,-999.000,9,-999.000, -999.00,9, 3299.70,-999.0000,9,-999.0000,9,-999.0000,9,-999.0000,9,-999.0000,9,-999.0000,-999.000,-999.0000,9, -999.00
318M20040615,        P02,     166,          1,          5,          5,2,20040821,       2041,    30.0002,   -127.226,       4395,  3553.9,   1.5132,  34.6778,2,  34.6773,2, 129.5000,2,   130.4,2,  169.63,2,   37.70,2,    0.00,2,    2.63,2,   0.005,2,   0.012,2,   0.000,2,  -999.0,9,  -999.0,9,-999.000,9,-999.0000,9, -999.00,9, -999.00,9,  -999.0,9,  -999.0,-999.000,9,-999.000, -999.00,9, 3553.90,-999.0000,9,-999.0000,9,-999.0000,9,-999.0000,9,-999.0000,9,-999.0000,-999.000,-999.0000,9, -999.00
318M20040615,        P02,     166,          1,          4,          4,2,20040821,       2041,    30.0002,   -127.226,       4395,  3812.8,   1.5009,  34.6818,2,  34.6804,2, 134.9000,2,   135.7,2,  167.70,2,   37.32,2,    0.00,2,    2.60,2,   0.007,2,   0.013,2,   0.000,2,  -999.0,9,  -999.0,9,-999.000,9,-999.0000,9, -999.00,9, -999.00,9,  -999.0,9,  -999.0,-999.000,9,-999.000, -999.00,9, 3812.80,-999.0000,9,-999.0000,9,-999.0000,9,-999.0000,9,-999.0000,9,-999.0000,-999.000,-999.0000,9, -999.00
318M20040615,        P02,     166,          1,          3,          3,2,20040821,       2041,    30.0002,   -127.226,       4395,  4045.8,   1.5077,  34.6838,2,  34.6831,2, 138.4000,2,   138.9,2,  166.19,2,   37.27,2,    0.00,2,    2.58,2,   0.005,2,   0.010,2,   0.000,2,  -999.0,9,  -999.0,9,-999.000,9,-999.0000,9, -999.00,9, -999.00,9,  -999.0,9,  -999.0,-999.000,9,-999.000, -999.00,9, 4045.80,-999.0000,9,-999.0000,9,-999.0000,9,-999.0000,9,-999.0000,9,-999.0000,-999.000,-999.0000,9, -999.00
318M20040615,        P02,     166,          1,          2,          2,2,20040821,       2041,    30.0002,   -127.226,       4395,  4248.6,   1.5248,  34.6846,2,  34.6833,2, 140.0000,2,   140.3,2,  165.09,2,   37.32,2,    0.00,2,    2.57,2,   0.007,2,   0.012,2,   0.000,2,  -999.0,9,  -999.0,9,-999.000,9,-999.0000,9, -999.00,9, -999.00,9,  -999.0,9,  -999.0,-999.000,9,-999.000, -999.00,9, 4248.60,-999.0000,9,-999.0000,9,-999.0000,9,-999.0000,9,-999.0000,9,-999.0000,-999.000,-999.0000,9, -999.00
318M20040615,        P02,     166,          1,          1,          1,2,20040821,       2041,    30.0002,   -127.226,       4395,  4450.4,   1.5470,  34.6848,2,  34.6838,2, 140.0000,2,   140.5,2,  165.48,2,   37.48,2,    0.00,2,    2.57,2,   0.007,2,   0.013,2,   0.000,2,  -999.0,9,  -999.0,9,-999.000,9,-999.0000,9, -999.00,9, -999.00,9,  -999.0,9,  -999.0,-999.000,9,-999.000, -999.00,9, 4450.40,-999.0000,9,-999.0000,9,-999.0000,9,-999.0000,9,-999.0000,9,-999.0000,-999.000,-999.0000,9, -999.00