BOTTLE,20131027SIOCCHRJL
EXPOCODE,SECT_ID,STNNBR,CASTNO,SAMPNO,BTLNBR,BTLNBR_FLAG_W,DATE,TIME,LATITUDE,LONGITUDE,DEPTH,CTDPRS,CTDTMP,CTDSAL,CTDSAL_FLAG_W,SALNTY,SALNTY_FLAG_W,CTDOXY,CTDOXY_FLAG_W,OXYGEN,OXYGEN_FLAG_W,SILCAT,SILCAT_FLAG_W,NITRAT,NITRAT_FLAG_W,NITRIT,NITRIT_FLAG_W,PHSPHT,PHSPHT_FLAG_W,CFC-11,CFC-11_FLAG_W,CFC-12,CFC-12_FLAG_W,CFC113,CFC113_FLAG_W,TCARBN,TCARBN_FLAG_W,ALKALI,ALKALI_FLAG_W,TRITUM,TRITUM_FLAG_W,HELIUM,HELIUM_FLAG_W,DELHE3,DELHE3_FLAG_W,DELC13,DELC13_FLAG_W,DELC14,DELC14_FLAG_W,C14ERR,NEON,NEON_FLAG_W,NEONER,DOC,DOC_FLAG_W,CTDRAW,CDOM380,CDOM380_FLAG_W,CDOM325,CDOM325_FLAG_W,CDOMSL,CDOMSL_FLAG_W,CDOM340,CDOM340_FLAG_W,CDOMSN,CDOMSN_FLAG_W,HELIER,TRITER,CDOM412,CDOM412_FLAG_W,DELHER
,,,,,,,,,,,METERS,DBAR,ITS-90,PSS-78,,PSS-78,,UMOL/KG,,UMOL/KG,,UMOL/KG,,UMOL/KG,,UMOL/KG,,UMOL/KG,,PMOL/KG,,PMOL/KG,,PMOL/KG,,UMOL/KG,,UMOL/KG,,TU,,NMOL/KG,,PERCNT,,/MILLE,,/MILLE,,/MILLE,NMOL/KG,,NMOL/KG,UMOL/KG,,DBAR,1/M,,1/M,,1/NM,,1/M,,1/NM,,NMOL/KG,TU,1/M,,PERCNT
318M20040615,        P02,      79,          1,         36,         36,2,20040713,       2209,     29.997,    176.467,       5196,     9.3,  25.0857,  34.7260,2,  34.7368,2, 217.5000,2,   215.7,2,    1.63,2,    0.05,2,    0.00,2,    0.03,2,   1.896,2,   1.173,2,   0.146,2,  1984.7,6,  2280.7,2,-999.000,9,-999.0000,9, -999.00,9, -999.00,9,  -999.0,9,  -999.0,-999.000,9,-999.000, -999.00,9,    9.30,-999.0000,9,-999.0000,9,-999.0000,9,-999.0000,9,-999.0000,9,-999.0000,-999.000,-999.0000,9, -999.00
318M20040615,        P02,      79,          1,         35,         35,2,20040713,       2209,     29.997,    176.467,       5196,    51.2,  18.2457,  34.7968,2,  34.7942,2, 250.2000,2,   252.5,2,    1.80,2,    0.05,2,    0.00,2,    0.05,2,   2.439,2,   1.481,2,   0.165,2,  1989.8,2,  -999.0,9,-999.000,9,-999.0000,9, -999.00,9, -999.00,9,  -999.0,9,  -999.0,-999.000,9,-999.000, -999.00,9,   51.20,-999.0000,9,-999.0000,9,-999.0000,9,-999.0000,9,-999.0000,9,-999.0000,-999.000,-999.0000,9, -999.00
318M20040615,        P02,      79,          1,         34,         34,2,20040713,       2209,     29.997,    176.467,       5196,   105.8,  16.3345,  34.7042,2,  34.7016,2, 223.0000,2,   224.2,2,    3.70,2,    4.35,2,    0.04,2,    0.30,2,   2.557,2,   1.513,2,   0.140,2,  2021.5,2,  -999.0,9,-999.000,9,-999.0000,9, -999.00,9, -999.00,9,  -999.0,9,  -999.0,-999.000,9,-999.000, -999.00,9,  105.80,-999.0000,9,-999.0000,9,-999.0000,9,-999.0000,9,-999.0000,9,-999.0000,-999.000,-999.0000,9, -999.00
318M20040615,        P02,      79,          1,         33,         33,2,20040713,       2209,     29.997,    176.467,       5196,   159.6,  15.7702,  34.6771,2,  34.6780,2, 226.8000,2,   225.5,2,    4.74,2,    5.31,2,    0.02,2,    0.37,2,   2.593,2,   1.519,2,   0.141,2,  -999.0,9,  -999.0,9,-999.000,9,-999.0000,9, -999.00,9, -999.00,9,  -999.0,9,  -999.0,-999.000,9,-999.000, -999.00,9,  159.60,-999.0000,9,-999.0000,9,-999.0000,9,-999.0000,9,-999.0000,9,-999.0000,-999.000,-999.0000,9, -999.00
318M20040615,        P02,      79,          1,         32,         32,2,20040713,       2209,     29.997,    176.467,       5196,   207.2,  15.2305,  34.6216,2,  34.6216,2, 223.6000,2,   226.9,2,    5.61,2,    5.73,2,    0.01,2,    0.40,2,   2.657,2,   1.585,2,   0.146,2,  2030.5,2,  2276.4,2,-999.000,9,-999.0000,9, -999.00,9, -999.00,9,  -999.0,9,  -999.0,-999.000,9,-999.000, -999.00,9,  207.20,-999.0000,9,-999.0000,9,-999.0000,9,-999.0000,9,-999.0000,9,-999.0000,-999.000,-999.0000,9, -999.00
318M20040615,        P02,      79,          1,         31,         31,2,20040713,       2209,     29.997,    176.467,       5196,   252.9,  14.3659,  34.5438,2,  34.5498,2, 216.0000,2,   217.7,2,    7.87,2,    7.86,2,    0.01,2,    0.55,2,   2.705,2,   1.588,2,   0.115,2,  -999.0,9,  -999.0,9,-999.000,9,-999.0000,9, -999.00,9, -999.00,9,  -999.0,9,  -999.0,-999.000,9,-999.000, -999.00,9,  252.90,-999.0000,9,-999.0000,9,-999.0000,9,-999.0000,9,-999.0000,9,-999.0000,-999.000,-999.0000,9, -999.00
318M20040615,        P02,      79,          1,         30,         30,2,20040713,       2209,     29.997,    176.467,       5196,   300.6,  13.4259,  34.4694,2,  34.4724,2, 222.5000,2,   217.4,2,   10.30,2,    9.52,2,    0.01,2,    0.66,2,   2.871,2,   1.655,2,   0.106,2,  2060.7,2,  2272.2,2,-999.000,9,-999.0000,9, -999.00,9, -999.00,9,  -999.0,9,  -999.0,-999.000,9,-999.000, -999.00,9,  300.60,-999.0000,9,-999.0000,9,-999.0000,9,-999.0000,9,-999.0000,9,-999.0000,-999.000,-999.0000,9, -999.00
318M20040615,        P02,      79,          1,         29,         29,2,20040713,       2209,     29.997,    176.467,       5196,   350.8,  12.2201,  34.3807,2,  34.3807,2, 215.5000,2,   215.4,2,   13.79,2,   11.75,2,    0.01,2,    0.83,2,   2.992,2,   1.686,2,   0.113,2,  -999.0,9,  -999.0,9,-999.000,9,-999.0000,9, -999.00,9, -999.00,9,  -999.0,9,  -999.0,-999.000,9,-999.000, -999.00,9,  350.80,-999.0000,9,-999.0000,9,-999.0000,9,-999.0000,9,-999.0000,9,-999.0000,-999.000,-999.0000,9, -999.00
318M20040615,        P02,      79,          1,         28,         28,2,20040713,       2209,     29.997,    176.467,       5196,   403.0,  11.1063,  34.2878,2,  34.2857,2, 218.2000,2,   218.3,2,   16.93,2,   13.42,2,    0.01,2,    0.96,2,   3.120,2,   1.759,2,   0.125,2,  2080.0,2,  2268.7,2,-999.000,9,-999.0000,9, -999.00,9, -999.00,9,  -999.0,9,  -999.0,-999.000,9,-999.000, -999.00,9,  403.00,-999.0000,9,-999.0000,9,-999.0000,9,-999.0000,9,-999.0000,9,-999.0000,-999.000,-999.0000,9, -999.00
318M20040615,        P02,      79,          1,         27,         27,2,20040713,       2209,     29.997,    176.467,       5196,   454.5,   9.9982,  34.1944,2,  34.1912,2, 215.3000,2,   216.2,2,   21.12,2,   15.54,2,    0.01,2,    1.12,2,   3.151,2,   1.735,2,   0.149,2,  -999.0,9,  -999.0,9,-999.000,9,-999.0000,9, -999.00,9, -999.00,9,  -999.0,9,  -999.0,-999.000,9,-999.000, -999.00,9,  454.50,-999.0000,9,-999.0000,9,-999.0000,9,-999.0000,9,-999.0000,9,-999.0000,-999.000,-999.0000,9, -999.00
318M20040615,        P02,      79,          1,         26,         26,2,20040713,       2209,     29.997,    176.467,       5196,   506.1,   8.5590,  34.0857,2,  34.0842,2, 198.5000,2,   197.5,2,   30.06,2,   19.76,2,    0.01,2,    1.43,2,   3.085,2,   1.675,2,   0.148,2,  -999.0,9,  -999.0,9,-999.000,9,-999.0000,9, -999.00,9, -999.00,9,  -999.0,9,  -999.0,-999.000,9,-999.000, -999.00,9,  506.10,-999.0000,9,-999.0000,9,-999.0000,9,-999.0000,9,-999.0000,9,-999.0000,-999.000,-999.0000,9, -999.00
318M20040615,        P02,      79,          1,         25,         25,2,20040713,       2209,     29.997,    176.467,       5196,   606.3,   6.5154,  34.0029,2,  34.0040,2, 156.4000,2,   152.7,2,   50.83,2,   27.64,2,    0.00,2,    2.01,2,   2.515,2,   1.319,2,   0.119,2,  2184.2,2,  2283.1,2,-999.000,9,-999.0000,9, -999.00,9, -999.00,9,  -999.0,9,  -999.0,-999.000,9,-999.000, -999.00,9,  606.30,-999.0000,9,-999.0000,9,-999.0000,9,-999.0000,9,-999.0000,9,-999.0000,-999.000,-999.0000,9, -999.00
318M20040615,        P02,      79,          1,         24,         24,2,20040713,       2209,     29.997,    176.467,       5196,   709.9,   5.2084,  34.0415,2,  34.0381,2, 105.1000,2,   102.9,2,   74.75,2,   34.68,2,    0.00,2,    2.51,2,   1.706,2,   0.866,2,   0.079,2,  -999.0,9,  -999.0,9,-999.000,9,-999.0000,9, -999.00,9, -999.00,9,  -999.0,9,  -999.0,-999.000,9,-999.000, -999.00,9,  709.90,-999.0000,9,-999.0000,9,-999.0000,9,-999.0000,9,-999.0000,9,-999.0000,-999.000,-999.0000,9, -999.00
318M20040615,        P02,      79,          1,         23,         23,2,20040713,       2209,     29.997,    176.467,       5196,   809.4,   4.4754,  34.1289,2,  34.1187,2,  60.6000,3,    59.8,2,   94.31,2,   39.96,2,    0.00,2,    2.85,2,   0.724,2,   0.369,2,   0.028,2,  2289.7,2,  2324.4,2,-999.000,9,-999.0000,9, -999.00,9, -999.00,9,  -999.0,9,  -999.0,-999.000,9,-999.000, -999.00,9,  809.40,-999.0000,9,-999.0000,9,-999.0000,9,-999.0000,9,-999.0000,9,-999.0000,-999.000,-999.0000,9, -999.00
318M20040615,        P02,      79,          1,         22,         22,2,20040713,       2209,     29.997,    176.467,       5196,   908.3,   3.9310,  34.2233,2,  34.2077,2,  36.3000,3,    35.9,2,  111.03,2,   42.64,2,    0.00,2,    3.03,2,   0.304,2,   0.152,2,   0.005,2,  -999.0,9,  -999.0,9,-999.000,9,-999.0000,9, -999.00,9, -999.00,9,  -999.0,9,  -999.0,-999.000,9,-999.000, -999.00,9,  908.30,-999.0000,9,-999.0000,9,-999.0000,9,-999.0000,9,-999.0000,9,-999.0000,-999.000,-999.0000,9, -999.00
318M20040615,        P02,      79,          1,         21,         21,2,20040713,       2209,     29.997,    176.467,       5196,  1008.2,   3.6104,  34.2908,2,  34.2737,2,  35.3000,3,    34.1,2,  121.55,2,   42.98,2,    0.00,2,    3.06,2,   0.235,6,   0.114,6,   0.011,6,  -999.0,9,  -999.0,9,-999.000,9,-999.0000,9, -999.00,9, -999.00,9,  -999.0,9,  -999.0,-999.000,9,-999.000, -999.00,9, 1008.20,-999.0000,9,-999.0000,9,-999.0000,9,-999.0000,9,-999.0000,9,-999.0000,-999.000,-999.0000,9, -999.00
318M20040615,        P02,      79,          1,         20,         20,2,20040713,       2209,     29.997,    176.467,       5196,  1108.9,   3.2770,  34.3488,2,  34.3338,2,  28.8000,3,    29.9,2,  132.01,2,   43.48,2,    0.00,2,    3.10,2,   0.136,2,   0.066,2,   0.007,2,  2354.6,2,  2367.0,2,-999.000,9,-999.0000,9, -999.00,9, -999.00,9,  -999.0,9,  -999.0,-999.000,9,-999.000, -999.00,9, 1108.90,-999.0000,9,-999.0000,9,-999.0000,9,-999.0000,9,-999.0000,9,-999.0000,-999.000,-999.0000,9, -999.00
318M20040615,        P02,      79,          1,         19,         19,2,20040713,       2209,     29.997,    176.467,       5196,  1211.3,   3.0074,  34.3961,2,  34.3848,2,  29.2000,3,    29.4,2,  140.35,2,   43.70,2,    0.00,2,    3.12,2,   0.085,2,   0.044,2,   0.001,2,  2363.0,2,  2377.5,2,-999.000,9,-999.0000,9, -999.00,9, -999.00,9,  -999.0,9,  -999.0,-999.000,9,-999.000, -999.00,9, 1211.30,-999.0000,9,-999.0000,9,-999.0000,9,-999.0000,9,-999.0000,9,-999.0000,-999.000,-999.0000,9, -999.00
318M20040615,        P02,      79,          1,         18,         18,2,20040713,       2209,     29.997,    176.467,       5196,  1313.4,   2.7942,  34.4350,2,  34.4346,2,  28.4000,2,    27.8,2,  146.92,2,   43.97,2,    0.00,2,    3.14,2,   0.048,2,   0.023,2,   0.004,2,  2372.9,2,  2385.7,6,-999.000,9,-999.0000,9, -999.00,9, -999.00,9,  -999.0,9,  -999.0,-999.000,9,-999.000, -999.00,9, 1313.40,-999.0000,9,-999.0000,9,-999.0000,9,-999.0000,9,-999.0000,9,-999.0000,-999.000,-999.0000,9, -999.00
318M20040615,        P02,      79,          1,         17,         17,2,20040713,       2209,     29.997,    176.467,       5196,  1414.9,   2.6152,  34.4700,2,  34.4674,2,  32.6000,2,    32.0,2,  151.87,2,   43.75,2,    0.00,2,    3.12,2,   0.032,2,   0.017,2,   0.001,2,  -999.0,9,  -999.0,9,-999.000,9,-999.0000,9, -999.00,9, -999.00,9,  -999.0,9,  -999.0,-999.000,9,-999.000, -999.00,9, 1414.90,-999.0000,9,-999.0000,9,-999.0000,9,-999.0000,9,-999.0000,9,-999.0000,-999.000,-999.0000,9, -999.00
318M20040615,        P02,      79,          1,         16,         16,2,20040713,       2209,     29.997,    176.467,       5196,  1521.9,   2.4209,  34.5050,2,  34.5037,2,  39.2000,2,    38.7,2,  156.70,2,   43.36,2,    0.00,2,    3.08,2,   0.021,2,   0.011,2,   0.002,2,  -999.0,9,  -999.0,9,-999.000,9,-999.0000,9, -999.00,9, -999.00,9,  -999.0,9,  -999.0,-999.000,9,-999.000, -999.00,9, 1521.90,-999.0000,9,-999.0000,9,-999.0000,9,-999.0000,9,-999.0000,9,-999.0000,-999.000,-999.0000,9, -999.00
318M20040615,        P02,      79,          1,         15,         15,2,20040713,       2209,     29.997,    176.467,       5196,  1622.3,   2.2792,  34.5352,2,  34.5338,2,  45.2000,2,    45.1,2,  159.71,2,   43.07,2,    0.00,2,    3.06,2,   0.011,2,   0.004,2,   0.001,2,  -999.0,9,  2404.3,2,-999.000,9,-999.0000,9, -999.00,9, -999.00,9,  -999.0,9,  -999.0,-999.000,9,-999.000, -999.00,9, 1622.30,-999.0000,9,-999.0000,9,-999.0000,9,-999.0000,9,-999.0000,9,-999.0000,-999.000,-999.0000,9, -999.00
318M20040615,        P02,      79,          1,         14,         14,2,20040713,       2209,     29.997,    176.467,       5196,  1722.4,   2.1840,  34.5574,2,  34.5550,2,  52.0000,2,    52.0,2,  160.91,2,   42.55,2,    0.00,2,    3.03,2,-999.000,9,-999.000,9,-999.000,9,  -999.0,9,  -999.0,9,-999.000,9,-999.0000,9, -999.00,9, -999.00,9,  -999.0,9,  -999.0,-999.000,9,-999.000, -999.00,9, 1722.40,-999.0000,9,-999.0000,9,-999.0000,9,-999.0000,9,-999.0000,9,-999.0000,-999.000,-999.0000,9, -999.00
318M20040615,        P02,      79,          1,         13,         13,2,20040713,       2209,     29.997,    176.467,       5196,  1823.0,   2.0884,  34.5767,2,  34.5750,2,  59.3000,2,    58.9,2,  162.81,2,   42.20,2,    0.00,2,    3.00,2,   0.002,2,   0.003,2,   0.001,2,  -999.0,9,  2410.5,2,-999.000,9,-999.0000,9, -999.00,9, -999.00,9,  -999.0,9,  -999.0,-999.000,9,-999.000, -999.00,9, 1823.00,-999.0000,9,-999.0000,9,-999.0000,9,-999.0000,9,-999.0000,9,-999.0000,-999.000,-999.0000,9, -999.00
318M20040615,        P02,      79,          1,         12,         12,2,20040713,       2209,     29.997,    176.467,       5196,  1923.1,   1.9742,  34.5930,2,  34.5923,2,  66.7000,2,    68.1,2,  163.84,2,   42.08,2,    0.00,2,    2.95,2,-999.000,9,-999.000,9,-999.000,9,  -999.0,9,  -999.0,9,-999.000,9,-999.0000,9, -999.00,9, -999.00,9,  -999.0,9,  -999.0,-999.000,9,-999.000, -999.00,9, 1923.10,-999.0000,9,-999.0000,9,-999.0000,9,-999.0000,9,-999.0000,9,-999.0000,-999.000,-999.0000,9, -999.00
318M20040615,        P02,      79,          1,         11,         11,2,20040713,       2209,     29.997,    176.467,       5196,  2023.6,   1.8943,  34.6053,2,  34.6066,2,  75.7000,2,    75.5,2,  163.82,2,   41.80,2,    0.00,2,    2.91,2,   0.005,2,   0.003,2,   0.001,2,  -999.0,9,  2414.3,2,-999.000,9,-999.0000,9, -999.00,9, -999.00,9,  -999.0,9,  -999.0,-999.000,9,-999.000, -999.00,9, 2023.60,-999.0000,9,-999.0000,9,-999.0000,9,-999.0000,9,-999.0000,9,-999.0000,-999.000,-999.0000,9, -999.00
318M20040615,        P02,      79,          1,         10,         10,2,20040713,       2209,     29.997,    176.467,       5196,  2281.4,   1.7375,  34.6291,2,  34.6280,2,  93.6000,2,    93.9,2,  163.10,2,   40.51,2,    0.00,2,    2.83,2,-999.000,9,-999.000,9,-999.000,9,  -999.0,9,  -999.0,9,-999.000,9,-999.0000,9, -999.00,9, -999.00,9,  -999.0,9,  -999.0,-999.000,9,-999.000, -999.00,9, 2281.40,-999.0000,9,-999.0000,9,-999.0000,9,-999.0000,9,-999.0000,9,-999.0000,-999.000,-999.0000,9, -999.00
318M20040615,        P02,      79,          1,          9,          9,2,20040713,       2209,     29.997,    176.467,       5196,  2533.6,   1.6352,  34.6450,2,  34.6437,2, 108.0000,2,   107.6,2,  161.29,2,   39.44,2,    0.00,2,    2.76,2,   0.003,2,   0.003,2,   0.001,2,  -999.0,9,  2418.2,2,-999.000,9,-999.0000,9, -999.00,9, -999.00,9,  -999.0,9,  -999.0,-999.000,9,-999.000, -999.00,9, 2533.60,-999.0000,9,-999.0000,9,-999.0000,9,-999.0000,9,-999.0000,9,-999.0000,-999.000,-999.0000,9, -999.00
318M20040615,        P02,      79,          1,          8,          8,2,20040713,       2209,     29.997,    176.467,       5196,  2740.9,   1.5677,  34.6556,2,  34.6535,2, 118.4000,3,   118.4,2,  159.68,2,   38.66,2,    0.00,2,    2.70,2,-999.000,9,-999.000,9,-999.000,9,  -999.0,9,  -999.0,9,-999.000,9,-999.0000,9, -999.00,9, -999.00,9,  -999.0,9,  -999.0,-999.000,9,-999.000, -999.00,9, 2740.90,-999.0000,9,-999.0000,9,-999.0000,9,-999.0000,9,-999.0000,9,-999.0000,-999.000,-999.0000,9, -999.00
318M20040615,        P02,      79,          1,          7,          7,2,20040713,       2209,     29.997,    176.467,       5196,  3044.4,   1.5127,  34.6661,2,  34.6643,2, 129.3000,3,   129.3,2,  157.17,2,   37.83,2,    0.00,2,    2.64,2,   0.003,2,   0.003,2,   0.004,2,  -999.0,9,  2419.2,2,-999.000,9,-999.0000,9, -999.00,9, -999.00,9,  -999.0,9,  -999.0,-999.000,9,-999.000, -999.00,9, 3044.40,-999.0000,9,-999.0000,9,-999.0000,9,-999.0000,9,-999.0000,9,-999.0000,-999.000,-999.0000,9, -999.00
318M20040615,        P02,      79,          1,          6,          6,2,20040713,       2209,     29.997,    176.467,       5196,  3454.5,   1.4631,  34.6765,2,  34.6746,2, 140.5000,3,   141.3,2,  153.97,2,   36.95,2,    0.00,2,    2.58,2,-999.000,9,-999.000,9,-999.000,9,  -999.0,9,  -999.0,9,-999.000,9,-999.0000,9, -999.00,9, -999.00,9,  -999.0,9,  -999.0,-999.000,9,-999.000, -999.00,9, 3454.50,-999.0000,9,-999.0000,9,-999.0000,9,-999.0000,9,-999.0000,9,-999.0000,-999.000,-999.0000,9, -999.00
318M20040615,        P02,      79,          1,          5,          5,2,20040713,       2209,     29.997,    176.467,       5196,  3865.4,   1.4520,  34.6824,2,  34.6791,2, 147.6000,3,   148.4,2,  152.22,2,   36.41,2,    0.00,2,    2.54,2,   0.005,2,   0.002,2,   0.001,2,  -999.0,9,  2418.7,2,-999.000,9,-999.0000,9, -999.00,9, -999.00,9,  -999.0,9,  -999.0,-999.000,9,-999.000, -999.00,9, 3865.40,-999.0000,9,-999.0000,9,-999.0000,9,-999.0000,9,-999.0000,9,-999.0000,-999.000,-999.0000,9, -999.00
318M20040615,        P02,      79,          1,          4,          4,2,20040713,       2209,     29.997,    176.467,       5196,  4277.3,   1.4509,  34.6871,2,  34.6857,2, 154.5000,3,   155.3,2,  148.83,2,   35.86,2,    0.00,2,    2.50,2,-999.000,9,-999.000,9,-999.000,9,  -999.0,9,  2415.3,2,-999.000,9,-999.0000,9, -999.00,9, -999.00,9,  -999.0,9,  -999.0,-999.000,9,-999.000, -999.00,9, 4277.30,-999.0000,9,-999.0000,9,-999.0000,9,-999.0000,9,-999.0000,9,-999.0000,-999.000,-999.0000,9, -999.00
318M20040615,        P02,      79,          1,          3,          3,2,20040713,       2209,     29.997,    176.467,       5196,  4684.8,   1.4485,  34.6915,2,  34.6901,2, 162.9000,3,   163.7,2,  142.75,2,   35.24,2,    0.00,2,    2.46,2,   0.005,2,   0.004,2,   0.003,2,  -999.0,9,  2410.7,2,-999.000,9,-999.0000,9, -999.00,9, -999.00,9,  -999.0,9,  -999.0,-999.000,9,-999.000, -999.00,9, 4684.80,-999.0000,9,-999.0000,9,-999.0000,9,-999.0000,9,-999.0000,9,-999.0000,-999.000,-999.0000,9, -999.00
318M20040615,        P02,      79,          1,          2,          2,2,20040713,       2209,     29.997,    176.467,       5196,  5092.7,   1.4581,  34.6948,2,  34.6926,2, 170.2000,3,   170.2,2,  137.21,2,   34.81,2,    0.00,2,    2.41,2,-999.000,9,-999.000,9,-999.000,9,  -999.0,9,  2404.8,2,-999.000,9,-999.0000,9, -999.00,9, -999.00,9,  -999.0,9,  -999.0,-999.000,9,-999.000, -999.00,9, 5092.70,-999.0000,9,-999.0000,9,-999.0000,9,-999.0000,9,-999.0000,9,-999.0000,-999.000,-999.0000,9, -999.00
318M20040615,        P02,      79,          1,          1,          1,2,20040713,       2209,     29.997,    176.467,       5196,  5291.2,   1.4715,  34.6957,2,  34.6936,2, 172.2000,3,   172.6,2,  135.58,2,   34.90,2,    0.00,2,    2.41,2,   0.006,2,   0.003,2,   0.004,2,  -999.0,9,  2404.4,6,-999.000,9,-999.0000,9, -999.00,9, -999.00,9,  -999.0,9,  -999.0,-999.000,9,-999.000, -999.00,9, 5291.20,-999.0000,9,-999.0000,9,-999.0000,9,-999.0000,9,-999.0000,9,-999.0000,-999.000,-999.0000,9, -999.00