BOTTLE,20131027SIOCCHRJL
# Added instructions citation use
# BOTTLE,20130426CCHSIOCBG
# changed fill value for DELC13 from -9.00 to -999.00
# BOTTLE,20130326PRINUNIVRMK
# Original header:
#  Added H3 data from Jenkins 
#  BOTTLE,20130111MIRCJHATS 
#  SALNTY_FLAG_W: Replace 2 with 9 if SALNTY == -999 
#  CTDOXY_FLAG_W: Replace 2 with 9 if CTDOXY == -999  
#  BOTTLE,20090522CCHDOSIODBK 
#  code : Justin Fields merge_exchange.rb  
#  original files copied from HTML directory: 2009-05-22 
#  original HYD file: /Users/danie/CLIVAR/p02_2004/REMERGE_2009.05.01/p02_2004a_alks_c1314_hy1.csv  2009-05-20 
#|  These data were provided by: 
#|  
#|  PARAMETER/PROGRAM     NAME                    EMAIL ADDRESS 
#|  -----------------     ----                    -------------- 
#|  Chief Scientists      
#|        Leg 1           Paul Robbins-SIO        probbins@ucsd.edu 
#|                        Andreas Thurnherr-LDEO  ant@ldeo.columbia.edu 
#|  
#|        Leg 2           Jim Swift-SIO           jswift@ucsd.edu 
#|                        Dong-Ha Min             dmin@geosc.psu.edu 
#|  
#|  CTDO/S/O2/nutrients   Jim Swift-SIO           jswift@ucsd.edu 
#|  
#|  Transmissometer       Wilf Gardner-TAMU       wgardner@ocean.tamu.edu 
#|                        Jia-Zhong Zhang-AOML    zhang@aoml.noaa.gov 
#|  
#|  CO2 (alkalinity)      Andrew Dickson-SIO      adickson@ucsd.edu 
#|  
#|  CO2(DIC)              Dick Feely- PMEL        Richard.A.Feely@pmel.noaa.gov 
#|   
#|  DOC/DON               Dennis Hansell-RSMAS    dhansell@rsmas.miami.edu 
#|                        Craig Carlson-UCSB      carlson@lifesci.ucsb.edu 
#|  
#|  CDOM                  Dave Siegel-UCSB        davey@icess.ucsb.edu 
#|                        Norm Nelson-UCSB        norm@icess.ucsb.edu 
#|                        Craig Carlson-UCSB      carlson@lifesci.ucsb.edu 
#|  
#|  13C/14C               Ann McNichol-WHOI       amcnichol@whoi.edu 
#|                        Robert Key-PRINCETON    key@princeton.edu 
#|  
#|  CFCs                  Rana Fine-RSMAS         rfine@rsmas.miami.edu 
#|                        Bill Smethie-LDEO       bsmeth@ldeo.columbia.edu 
#|  
#|  He/Tr                 Bill Jenkins-WHOI       wjenkins@whoi.edu 
#|  
#|  Trace elements        Chris Measures-SOEST    chrism@soest.hawaii.edu 
#|                        Bill Landing-FSU        landing@ocean.fsu.edu 
#|
#|
#|  Following American Geophysical Union recommendations, the data should be
#|  cited as: "data provider(s), cruise name or cruise ID, data file name(s),
#|  CLIVAR and Carbon Hydrographic Data Office, La Jolla, CA, USA, and data
#|  file date." For further information, please contact one of the parties
#|  listed above or cchdo@ucsd.edu. Users are also requested to acknowledge
#|  the NSF/NOAA-funded U.S. Repeat Hydrography Program in publications resulting
#|  from their use.  
#| 
EXPOCODE,SECT_ID,STNNBR,CASTNO,SAMPNO,BTLNBR,BTLNBR_FLAG_W,DATE,TIME,LATITUDE,LONGITUDE,DEPTH,CTDPRS,CTDTMP,CTDSAL,CTDSAL_FLAG_W,SALNTY,SALNTY_FLAG_W,CTDOXY,CTDOXY_FLAG_W,OXYGEN,OXYGEN_FLAG_W,SILCAT,SILCAT_FLAG_W,NITRAT,NITRAT_FLAG_W,NITRIT,NITRIT_FLAG_W,PHSPHT,PHSPHT_FLAG_W,CFC-11,CFC-11_FLAG_W,CFC-12,CFC-12_FLAG_W,CFC113,CFC113_FLAG_W,TCARBN,TCARBN_FLAG_W,ALKALI,ALKALI_FLAG_W,TRITUM,TRITUM_FLAG_W,HELIUM,HELIUM_FLAG_W,DELHE3,DELHE3_FLAG_W,DELC13,DELC13_FLAG_W,DELC14,DELC14_FLAG_W,C14ERR,NEON,NEON_FLAG_W,NEONER,DOC,DOC_FLAG_W,CTDRAW,CDOM380,CDOM380_FLAG_W,CDOM325,CDOM325_FLAG_W,CDOMSL,CDOMSL_FLAG_W,CDOM340,CDOM340_FLAG_W,CDOMSN,CDOMSN_FLAG_W,HELIER,TRITER,CDOM412,CDOM412_FLAG_W,DELHER
,,,,,,,,,,,METERS,DBAR,ITS-90,PSS-78,,PSS-78,,UMOL/KG,,UMOL/KG,,UMOL/KG,,UMOL/KG,,UMOL/KG,,UMOL/KG,,PMOL/KG,,PMOL/KG,,PMOL/KG,,UMOL/KG,,UMOL/KG,,TU,,NMOL/KG,,PERCNT,,/MILLE,,/MILLE,,/MILLE,NMOL/KG,,NMOL/KG,UMOL/KG,,DBAR,1/M,,1/M,,1/NM,,1/M,,1/NM,,NMOL/KG,TU,1/M,,PERCNT
318M20040615,        P02,       1,          1,         36,         36,2,20040616,       2329,     32.749,   133.1122,        144,     7.6,  23.3518,  34.3432,2,-999.0000,9, 221.1000,9,   220.6,2,    0.53,2,    0.17,2,    0.04,2,    0.05,2,-999.000,9,-999.000,9,-999.000,9,  -999.0,9,  -999.0,9,-999.000,9,-999.0000,9, -999.00,9, -999.00,9,  -999.0,9,  -999.0,-999.000,9,-999.000, -999.00,9,    7.60,-999.0000,9,-999.0000,9,-999.0000,9,-999.0000,9,-999.0000,9,-999.0000,-999.000,-999.0000,9, -999.00
318M20040615,        P02,       1,          1,         35,         35,2,20040616,       2329,     32.749,   133.1122,        144,     7.6,  23.3454,  34.3428,2,-999.0000,9, 221.1000,9,   221.6,2,    0.53,2,    0.19,2,    0.01,2,    0.06,2,-999.000,9,-999.000,9,-999.000,9,  -999.0,9,  -999.0,9,-999.000,9,-999.0000,9, -999.00,9, -999.00,9,  -999.0,9,  -999.0,-999.000,9,-999.000, -999.00,9,    7.60,-999.0000,9,-999.0000,9,-999.0000,9,-999.0000,9,-999.0000,9,-999.0000,-999.000,-999.0000,9, -999.00
318M20040615,        P02,       1,          1,         34,         34,2,20040616,       2329,     32.749,   133.1122,        144,     7.6,  23.3296,  34.3445,2,-999.0000,9, 221.2000,9,   221.0,2,    0.53,2,    0.19,2,    0.01,2,    0.04,2,-999.000,9,-999.000,9,-999.000,9,  -999.0,9,  -999.0,9,-999.000,9,-999.0000,9, -999.00,9, -999.00,9,  -999.0,9,  -999.0,-999.000,9,-999.000, -999.00,9,    7.60,-999.0000,9,-999.0000,9,-999.0000,9,-999.0000,9,-999.0000,9,-999.0000,-999.000,-999.0000,9, -999.00
318M20040615,        P02,       1,          1,          6,          6,2,20040616,       2329,     32.749,   133.1122,        144,     7.7,  23.2330,  34.3470,2,  34.3450,2, 221.2000,2,   221.3,2,    0.53,2,    0.18,2,    0.00,2,    0.05,2,   2.043,2,   1.287,2,   0.137,2,  1950.8,6,  2258.8,2,-999.000,9,-999.0000,9, -999.00,9, -999.00,9,  -999.0,9,  -999.0,-999.000,9,-999.000, -999.00,9,    7.70,-999.0000,9,-999.0000,9,-999.0000,9,-999.0000,9,-999.0000,9,-999.0000,-999.000,-999.0000,9, -999.00
318M20040615,        P02,       1,          1,          5,          5,2,20040616,       2329,     32.749,   133.1122,        144,    22.8,  22.5343,  34.3923,2,  34.3974,2, 223.3000,2,   224.0,2,    0.70,2,    0.18,2,    0.00,2,    0.05,2,   2.077,6,   1.310,6,   0.133,6,  1956.7,2,  2262.8,2,-999.000,9,-999.0000,9, -999.00,9, -999.00,9,  -999.0,9,  -999.0,-999.000,9,-999.000, -999.00,9,   22.80,-999.0000,9,-999.0000,9,-999.0000,9,-999.0000,9,-999.0000,9,-999.0000,-999.000,-999.0000,9, -999.00
318M20040615,        P02,       1,          1,          4,          4,2,20040616,       2329,     32.749,   133.1122,        144,    52.7,  20.8637,  34.4704,2,  34.4716,2, 220.3000,2,   219.8,2,    1.60,2,    0.32,2,    0.15,2,    0.12,2,   2.221,2,   1.392,2,   0.131,2,  1978.8,2,  2269.2,2,-999.000,9,-999.0000,9, -999.00,9, -999.00,9,  -999.0,9,  -999.0,-999.000,9,-999.000, -999.00,9,   52.70,-999.0000,9,-999.0000,9,-999.0000,9,-999.0000,9,-999.0000,9,-999.0000,-999.000,-999.0000,9, -999.00
318M20040615,        P02,       1,          1,          3,          3,2,20040616,       2329,     32.749,   133.1122,        144,    77.7,  19.7651,  34.6156,2,  34.6207,2, 208.4000,2,   208.6,2,    3.60,2,    2.32,2,    0.23,2,    0.24,2,   2.292,2,   1.410,2,   0.127,2,  2003.0,2,  2277.0,2,-999.000,9,-999.0000,9, -999.00,9, -999.00,9,  -999.0,9,  -999.0,-999.000,9,-999.000, -999.00,9,   77.70,-999.0000,9,-999.0000,9,-999.0000,9,-999.0000,9,-999.0000,9,-999.0000,-999.000,-999.0000,9, -999.00
318M20040615,        P02,       1,          1,          2,          2,2,20040616,       2329,     32.749,   133.1122,        144,   102.6,  17.8081,  34.6727,2,  34.6678,2, 192.3000,2,   189.9,2,    8.48,2,    6.70,2,    0.05,2,    0.53,2,   2.334,2,   1.416,2,   0.085,2,  2042.3,2,  2282.7,2,-999.000,9,-999.0000,9, -999.00,9, -999.00,9,  -999.0,9,  -999.0,-999.000,9,-999.000, -999.00,9,  102.60,-999.0000,9,-999.0000,9,-999.0000,9,-999.0000,9,-999.0000,9,-999.0000,-999.000,-999.0000,9, -999.00
318M20040615,        P02,       1,          1,          1,          1,2,20040616,       2329,     32.749,   133.1122,        144,   132.9,  15.4172,  34.5957,2,  34.6111,2, 179.1000,2,   179.1,2,   13.74,2,   10.02,2,    0.08,4,    0.75,2,   2.305,2,   1.385,2,   0.065,2,  2073.1,2,  2282.7,6,-999.000,9,-999.0000,9, -999.00,9, -999.00,9,  -999.0,9,  -999.0,-999.000,9,-999.000, -999.00,9,  132.90,-999.0000,9,-999.0000,9,-999.0000,9,-999.0000,9,-999.0000,9,-999.0000,-999.000,-999.0000,9, -999.00
318M20040615,        P02,       2,          1,         13,         13,2,20040617,       0141,    32.5875,   133.2068,        817,     8.7,  24.3977,  34.3868,2,  34.3878,2, 212.8000,2,   213.9,2,    0.70,2,    0.10,2,    0.01,2,    0.04,2,   1.898,2,   1.210,2,   0.130,2,  1944.3,6,  2259.4,2,-999.000,9,-999.0000,9, -999.00,9, -999.00,9,  -999.0,9,  -999.0,-999.000,9,-999.000,   67.90,2,    8.70,   0.0240,2,   0.0930,2,   0.0250,2,   0.0630,2,   0.0250,2,-999.0000,-999.000,   0.0140,2, -999.00
318M20040615,        P02,       2,          1,         12,         12,2,20040617,       0141,    32.5875,   133.2068,        817,    24.0,  23.8903,  34.5236,2,  34.5407,2, 215.2000,2,   215.3,2,    0.70,2,    0.10,2,    0.01,2,    0.04,2,   1.944,2,   1.237,2,   0.127,2,  1954.1,2,  2269.4,2,-999.000,9,-999.0000,9, -999.00,9, -999.00,9,  -999.0,9,  -999.0,-999.000,9,-999.000,   67.20,2,   24.00,   0.0310,2,   0.1050,2,   0.0230,2,   0.0720,2,   0.0230,2,-999.0000,-999.000,   0.0190,2, -999.00
318M20040615,        P02,       2,          1,         11,         11,2,20040617,       0141,    32.5875,   133.2068,        817,    38.6,  23.4125,  34.5576,2,  34.5590,2, 216.7000,2,   216.1,2,    0.70,2,    0.10,2,    0.01,2,    0.05,2,   1.977,2,   1.242,2,   0.124,2,  1957.6,2,  2271.6,2,-999.000,9,-999.0000,9, -999.00,9, -999.00,9,  -999.0,9,  -999.0,-999.000,9,-999.000,   63.90,2,   38.60,   0.0420,2,   0.1200,2,   0.0170,2,   0.0860,2,   0.0180,2,-999.0000,-999.000,   0.0290,2, -999.00
318M20040615,        P02,       2,          1,         10,         10,2,20040617,       0141,    32.5875,   133.2068,        817,    73.7,  20.3707,  34.6971,2,  34.6997,2, 195.9000,2,   197.0,2,    3.96,2,    3.14,2,    0.15,2,    0.28,2,   2.152,2,   1.326,2,   0.101,2,  2010.7,2,  2282.3,2,-999.000,9,-999.0000,9, -999.00,9, -999.00,9,  -999.0,9,  -999.0,-999.000,9,-999.000,   60.80,2,   73.70,   0.0730,2,   0.1700,2,   0.0120,2,   0.1280,2,   0.0130,2,-999.0000,-999.000,   0.0550,2, -999.00
318M20040615,        P02,       2,          1,          9,          9,2,20040617,       0141,    32.5875,   133.2068,        817,   123.2,  18.3839,  34.7139,2,  34.7231,2, 191.4000,2,   190.6,2,    5.77,2,    5.57,2,    0.04,2,    0.44,2,   2.282,2,   1.373,2,   0.066,2,  2034.2,2,  2283.7,2,-999.000,9,-999.0000,9, -999.00,9, -999.00,9,  -999.0,9,  -999.0,-999.000,9,-999.000,   55.80,2,  123.20,   0.0440,2,   0.1200,2,   0.0160,2,   0.0890,2,   0.0180,2,-999.0000,-999.000,   0.0310,2, -999.00
318M20040615,        P02,       2,          1,          8,          8,2,20040617,       0141,    32.5875,   133.2068,        817,   172.8,  16.1850,  34.6402,2,  34.6435,2, 185.1000,2,   186.3,2,   10.29,2,    8.79,2,    0.02,2,    0.65,2,   2.378,2,   1.392,2,   0.059,2,  2061.1,2,  2281.1,2,-999.000,9,-999.0000,9, -999.00,9, -999.00,9,  -999.0,9,  -999.0,-999.000,9,-999.000,   54.70,2,  172.80,   0.0450,2,   0.1210,2,   0.0150,2,   0.0870,2,   0.0170,2,-999.0000,-999.000,   0.0320,2, -999.00
318M20040615,        P02,       2,          1,          7,          7,2,20040617,       0141,    32.5875,   133.2068,        817,   223.6,  13.6430,  34.5131,2,  34.3518,2, 168.6000,3,   168.1,2,   19.36,2,   14.20,2,    0.01,2,    1.03,2,   2.300,2,   1.309,2,   0.035,2,  2104.3,2,  2281.5,2,-999.000,9,-999.0000,9, -999.00,9, -999.00,9,  -999.0,9,  -999.0,-999.000,9,-999.000,   52.00,2,  223.60,   0.0490,2,   0.1280,2,   0.0140,2,   0.0920,2,   0.0160,2,-999.0000,-999.000,   0.0370,2, -999.00
318M20040615,        P02,       2,          1,          6,          6,2,20040617,       0141,    32.5875,   133.2068,        817,   273.9,  11.0435,  34.3860,2,  34.3916,2, 151.2000,2,   150.1,2,   32.44,2,   19.89,2,    0.00,2,    1.45,2,   2.040,2,   1.130,2,   0.032,2,  2146.6,2,  2285.3,2,-999.000,9,-999.0000,9, -999.00,9, -999.00,9,  -999.0,9,  -999.0,-999.000,9,-999.000,   51.40,2,  273.90,   0.0630,2,   0.1530,2,   0.0130,2,   0.1140,2,   0.0140,2,-999.0000,-999.000,   0.0470,2, -999.00
318M20040615,        P02,       2,          1,          5,          5,2,20040617,       0141,    32.5875,   133.2068,        817,   344.1,   9.0459,  34.2944,2,  34.2933,2, 133.6000,2,   133.4,2,   46.12,2,   24.91,2,    0.00,2,    1.80,2,   1.715,6,   0.934,6,   0.035,6,  2186.1,2,  2293.9,2,-999.000,9,-999.0000,9, -999.00,9, -999.00,9,  -999.0,9,  -999.0,-999.000,9,-999.000,   48.10,2,  344.10,   0.0680,2,   0.1720,2,   0.0130,2,   0.1250,2,   0.0150,2,-999.0000,-999.000,   0.0500,2, -999.00
318M20040615,        P02,       2,          1,          4,          4,2,20040617,       0141,    32.5875,   133.2068,        817,   444.5,   7.1977,  34.2364,2,  34.2410,2, 111.3000,2,   111.5,2,   62.76,2,   30.02,2,    0.02,4,    2.18,2,   1.301,2,   0.708,2,   0.034,2,  2228.5,2,  2304.7,2,-999.000,9,-999.0000,9, -999.00,9, -999.00,9,  -999.0,9,  -999.0,-999.000,9,-999.000,   44.60,2,  444.50,   0.0650,2,   0.1710,2,   0.0140,3,   0.1230,2,   0.0160,3,-999.0000,-999.000,   0.0460,2, -999.00
318M20040615,        P02,       2,          1,          3,          3,2,20040617,       0141,    32.5875,   133.2068,        817,   544.5,   6.3718,  34.2527,2,  34.2557,2,  96.7000,2,    96.4,2,   74.51,2,   32.71,2,    0.01,4,    2.39,2,   0.993,2,   0.552,2,   0.027,2,  2253.3,2,  2316.0,2,-999.000,9,-999.0000,9, -999.00,9, -999.00,9,  -999.0,9,  -999.0,-999.000,9,-999.000,   42.90,2,  544.50,   0.0770,3,   0.1900,2,   0.0130,3,   0.1400,3,   0.0140,3,-999.0000,-999.000,   0.0570,3, -999.00
318M20040615,        P02,       2,          1,          2,          2,2,20040617,       0141,    32.5875,   133.2068,        817,   645.4,   5.5346,  34.2839,2,  34.2851,2,  84.0000,2,    84.1,2,   87.03,2,   35.09,2,    0.01,4,    2.56,2,   0.727,2,   0.403,2,   0.019,2,  2280.1,2,  2329.8,6,-999.000,9,-999.0000,9, -999.00,9, -999.00,9,  -999.0,9,  -999.0,-999.000,9,-999.000,   42.10,2,  645.40,   0.0780,2,   0.1930,2,   0.0120,3,   0.1400,2,   0.0140,3,-999.0000,-999.000,   0.0610,2, -999.00
318M20040615,        P02,       2,          1,          1,          1,2,20040617,       0141,    32.5875,   133.2068,        817,   795.4,   4.3158,  34.3496,2,-999.0000,9,  68.9000,5,    68.7,2,  108.44,2,   38.39,2,    0.02,4,    2.80,2,   0.349,2,   0.201,2,   0.015,2,  2317.0,2,  2361.7,6,-999.000,9,-999.0000,9, -999.00,9, -999.00,9,  -999.0,9,  -999.0,-999.000,9,-999.000,   41.20,2,  795.40,   0.0730,2,   0.1870,2,   0.0120,2,   0.1330,2,   0.0140,2,-999.0000,-999.000,   0.0570,2, -999.00