BOTTLE,20131027SIOCCHRJL
EXPOCODE,SECT_ID,STNNBR,CASTNO,SAMPNO,BTLNBR,BTLNBR_FLAG_W,DATE,TIME,LATITUDE,LONGITUDE,DEPTH,CTDPRS,CTDTMP,CTDSAL,CTDSAL_FLAG_W,SALNTY,SALNTY_FLAG_W,CTDOXY,CTDOXY_FLAG_W,OXYGEN,OXYGEN_FLAG_W,SILCAT,SILCAT_FLAG_W,NITRAT,NITRAT_FLAG_W,NITRIT,NITRIT_FLAG_W,PHSPHT,PHSPHT_FLAG_W,CFC-11,CFC-11_FLAG_W,CFC-12,CFC-12_FLAG_W,CFC113,CFC113_FLAG_W,TCARBN,TCARBN_FLAG_W,ALKALI,ALKALI_FLAG_W,TRITUM,TRITUM_FLAG_W,HELIUM,HELIUM_FLAG_W,DELHE3,DELHE3_FLAG_W,DELC13,DELC13_FLAG_W,DELC14,DELC14_FLAG_W,C14ERR,NEON,NEON_FLAG_W,NEONER,DOC,DOC_FLAG_W,CTDRAW,CDOM380,CDOM380_FLAG_W,CDOM325,CDOM325_FLAG_W,CDOMSL,CDOMSL_FLAG_W,CDOM340,CDOM340_FLAG_W,CDOMSN,CDOMSN_FLAG_W,HELIER,TRITER,CDOM412,CDOM412_FLAG_W,DELHER
,,,,,,,,,,,METERS,DBAR,ITS-90,PSS-78,,PSS-78,,UMOL/KG,,UMOL/KG,,UMOL/KG,,UMOL/KG,,UMOL/KG,,UMOL/KG,,PMOL/KG,,PMOL/KG,,PMOL/KG,,UMOL/KG,,UMOL/KG,,TU,,NMOL/KG,,PERCNT,,/MILLE,,/MILLE,,/MILLE,NMOL/KG,,NMOL/KG,UMOL/KG,,DBAR,1/M,,1/M,,1/NM,,1/M,,1/NM,,NMOL/KG,TU,1/M,,PERCNT
318M20040615,        P02,     114,          1,         36,         36,2,20040802,       0827,     29.996,  -163.1662,       5600,     5.6,  25.3545,  35.1719,2,  35.1758,2, 212.8000,2,   211.7,2,    1.83,2,    0.08,2,    0.00,2,    0.03,2,   1.847,2,   1.132,2,   0.139,2,  2009.9,2,  2313.8,6,   0.825,2,   1.7805,2,   -1.37,2, -999.00,9,  -999.0,9,  -999.0,   6.871,2,   0.034, -999.00,9,    5.60,-999.0000,9,-999.0000,9,-999.0000,9,-999.0000,9,-999.0000,9,   0.0089,   0.009,-999.0000,9,    0.20
318M20040615,        P02,     114,          1,         35,         35,2,20040802,       0827,     29.996,  -163.1662,       5600,    30.8,  22.4477,  35.1818,2,  35.1912,2, 232.7000,2,   232.7,2,    1.61,2,    0.08,2,    0.00,2,    0.03,2,   2.169,2,   1.277,2,   0.160,2,  2013.0,2,  2315.6,2,   0.793,2,   1.7463,2,   -1.43,2, -999.00,9,  -999.0,9,  -999.0,   6.975,2,   0.035, -999.00,9,   30.80,-999.0000,9,-999.0000,9,-999.0000,9,-999.0000,9,-999.0000,9,   0.0087,   0.008,-999.0000,9,    0.20
318M20040615,        P02,     114,          1,         34,         34,2,20040802,       0827,     29.996,  -163.1662,       5600,    65.2,  18.6374,  34.9360,2,  34.9373,2, 247.4000,2,   247.1,2,    2.35,2,    0.03,2,    0.00,2,    0.06,2,   2.481,2,   1.445,2,   0.176,2,  -999.0,9,  -999.0,9,   0.844,2,   1.7699,2,   -1.86,2, -999.00,9,  -999.0,9,  -999.0,   7.121,2,   0.036, -999.00,9,   65.20,-999.0000,9,-999.0000,9,-999.0000,9,-999.0000,9,-999.0000,9,   0.0088,   0.010,-999.0000,9,    0.20
318M20040615,        P02,     114,          1,         33,         33,2,20040802,       0827,     29.996,  -163.1662,       5600,   115.2,  15.7858,  34.6262,2,  34.6290,2, 230.7000,2,   227.1,2,    3.84,2,    2.56,2,    0.22,2,    0.28,2,   2.750,2,   1.564,2,   0.157,2,  2036.9,2,  2277.7,2,   0.839,2,   1.7905,2,   -1.08,2, -999.00,9,  -999.0,9,  -999.0,   7.185,2,   0.036, -999.00,9,  115.20,-999.0000,9,-999.0000,9,-999.0000,9,-999.0000,9,-999.0000,9,   0.0090,   0.010,-999.0000,9,    0.20
318M20040615,        P02,     114,          1,         32,         32,2,20040802,       0827,     29.996,  -163.1662,       5600,   169.1,  14.2041,  34.4598,2,  34.4603,2, 220.1000,2,   221.1,2,    6.09,2,    6.57,2,    0.02,2,    0.50,2,   2.923,2,   1.674,2,   0.122,2,  -999.0,9,  -999.0,9,   0.833,2,   1.8387,2,   -0.59,2, -999.00,9,  -999.0,9,  -999.0,   7.437,2,   0.037, -999.00,9,  169.10,-999.0000,9,-999.0000,9,-999.0000,9,-999.0000,9,-999.0000,9,   0.0092,   0.008,-999.0000,9,    0.20
318M20040615,        P02,     114,          1,         31,         31,2,20040802,       0827,     29.996,  -163.1662,       5600,   223.0,  13.0239,  34.3740,2,  34.3734,2, 219.4000,2,   222.6,2,    8.90,2,    8.99,2,    0.01,2,    0.66,2,   3.075,2,   1.740,2,   0.100,2,  2063.8,2,  2265.2,2,   0.850,2,   1.8174,2,   -0.19,2, -999.00,9,  -999.0,9,  -999.0,   7.389,2,   0.037, -999.00,9,  223.00,-999.0000,9,-999.0000,9,-999.0000,9,-999.0000,9,-999.0000,9,   0.0091,   0.008,-999.0000,9,    0.20
318M20040615,        P02,     114,          1,         30,         30,2,20040802,       0827,     29.996,  -163.1662,       5600,   288.0,  12.1882,  34.3312,2,  34.3318,2, 220.1000,2,   221.5,2,   11.34,2,   10.74,2,    0.01,2,    0.77,2,   3.145,2,   1.755,2,   0.098,2,  -999.0,9,  -999.0,9,   0.821,2,   1.8165,2,    0.45,2, -999.00,9,  -999.0,9,  -999.0,   7.458,2,   0.037, -999.00,9,  288.00,-999.0000,9,-999.0000,9,-999.0000,9,-999.0000,9,-999.0000,9,   0.0091,   0.009,-999.0000,9,    0.20
318M20040615,        P02,     114,          1,         29,         29,2,20040802,       0827,     29.996,  -163.1662,       5600,   338.4,  11.2849,  34.2634,2,  34.2640,2, 221.1000,2,   222.0,2,   14.17,2,   12.30,2,    0.00,2,    0.89,2,   3.221,2,   1.760,2,   0.110,2,  -999.0,9,  -999.0,9,   0.801,2,   1.8142,2,    1.61,2, -999.00,9,  -999.0,9,  -999.0,   7.557,2,   0.038, -999.00,9,  338.40,-999.0000,9,-999.0000,9,-999.0000,9,-999.0000,9,-999.0000,9,   0.0091,   0.009,-999.0000,9,    0.20
318M20040615,        P02,     114,          1,         28,         28,2,20040802,       0827,     29.996,  -163.1662,       5600,   399.0,  10.2319,  34.1845,2,  34.1871,2, 210.5000,2,   210.9,2,   18.89,2,   15.36,2,    0.00,2,    1.10,2,   3.229,2,   1.735,2,   0.107,2,  2105.4,2,  2267.0,2,   0.825,2,   1.8085,2,    3.14,2, -999.00,9,  -999.0,9,  -999.0,   7.520,2,   0.038, -999.00,9,  399.00,-999.0000,9,-999.0000,9,-999.0000,9,-999.0000,9,-999.0000,9,   0.0090,   0.009,-999.0000,9,    0.20
318M20040615,        P02,     114,          1,         27,         27,2,20040802,       0827,     29.996,  -163.1662,       5600,   434.5,   9.5527,  34.1459,2,  34.1514,2, 201.2000,2,   201.0,2,   23.04,2,   17.53,2,    0.00,2,    1.24,2,   3.156,2,   1.673,2,   0.112,2,  -999.0,9,  -999.0,9,   0.854,2,   1.8178,2,    4.37,2, -999.00,9,  -999.0,9,  -999.0,   7.575,2,   0.038, -999.00,9,  434.50,-999.0000,9,-999.0000,9,-999.0000,9,-999.0000,9,-999.0000,9,   0.0091,   0.009,-999.0000,9,    0.20
318M20040615,        P02,     114,          1,         26,         26,2,20040802,       0827,     29.996,  -163.1662,       5600,   479.2,   8.7338,  34.1015,2,  34.1011,2, 186.0000,2,   183.9,2,   29.68,2,   20.75,2,    0.00,2,    1.48,2,   2.948,2,   1.536,2,   0.112,2,  -999.0,9,  -999.0,9,   0.837,2,   1.8250,2,    6.91,2, -999.00,9,  -999.0,9,  -999.0,   7.598,2,   0.038, -999.00,9,  479.20,-999.0000,9,-999.0000,9,-999.0000,9,-999.0000,9,-999.0000,9,   0.0091,   0.009,-999.0000,9,    0.20
318M20040615,        P02,     114,          1,         25,         25,2,20040802,       0827,     29.996,  -163.1662,       5600,   577.6,   6.6185,  34.0218,2,  34.0221,2, 141.2000,2,   134.0,2,   52.19,2,   29.26,2,    0.00,2,    2.10,2,   2.089,2,   1.037,2,   0.082,2,  2209.7,2,  2286.8,2,   0.784,2,   1.8482,2,   12.71,2, -999.00,9,  -999.0,9,  -999.0,   7.695,2,   0.038, -999.00,9,  577.60,-999.0000,9,-999.0000,9,-999.0000,9,-999.0000,9,-999.0000,9,   0.0092,   0.002,-999.0000,9,    0.20
318M20040615,        P02,     114,          1,         24,         24,3,20040802,       0827,     29.996,  -163.1662,       5600,   675.6,   5.2646,  34.0445,2,  34.0466,2,  95.4000,2,  -999.0,9,   73.89,2,   35.52,2,    0.00,2,    2.56,2,   1.193,2,   0.589,2,   0.071,2,  -999.0,9,  -999.0,9,   0.519,2,   1.8716,2,   15.96,2, -999.00,9,  -999.0,9,  -999.0,   7.784,2,   0.039, -999.00,9,  675.60,-999.0000,9,-999.0000,9,-999.0000,9,-999.0000,9,-999.0000,9,   0.0094,   0.007,-999.0000,9,    0.20
318M20040615,        P02,     114,          1,         23,         23,2,20040802,       0827,     29.996,  -163.1662,       5600,   774.8,   4.4274,  34.1157,2,  34.1158,2,  56.6000,2,    51.7,2,   94.38,2,   39.88,2,    0.00,2,    2.88,2,   0.506,2,   0.256,2,   0.018,2,  2308.4,2,  2324.4,2,   0.355,2,   1.8966,2,   16.44,2, -999.00,9,  -999.0,9,  -999.0,   7.814,2,   0.039, -999.00,9,  774.80,-999.0000,9,-999.0000,9,-999.0000,9,-999.0000,9,-999.0000,9,   0.0095,   0.006,-999.0000,9,    0.20
318M20040615,        P02,     114,          1,         22,         22,2,20040802,       0827,     29.996,  -163.1662,       5600,   875.5,   3.8794,  34.2138,2,  34.2131,2,  26.2000,2,    23.8,2,  112.44,2,   42.74,2,    0.00,2,    3.07,2,   0.124,2,   0.059,2,   0.006,2,  2345.6,2,  2343.8,2,   0.148,2,   1.9001,2,   15.15,2, -999.00,9,  -999.0,9,  -999.0,   7.848,2,   0.039, -999.00,9,  875.50,-999.0000,9,-999.0000,9,-999.0000,9,-999.0000,9,-999.0000,9,   0.0095,   0.004,-999.0000,9,    0.20
318M20040615,        P02,     114,          1,         21,         21,2,20040802,       0827,     29.996,  -163.1662,       5600,   977.4,   3.6323,  34.3065,2,  34.3063,2,  14.4000,2,    16.3,2,  122.57,2,   43.71,2,    0.00,2,    3.15,2,   0.042,2,   0.023,2,   0.000,2,  2361.9,6,  2360.6,2,   0.073,2,   1.9100,2,   15.39,2, -999.00,9,  -999.0,9,  -999.0,-999.000,9,-999.000, -999.00,9,  977.40,-999.0000,9,-999.0000,9,-999.0000,9,-999.0000,9,-999.0000,9,   0.0095,   0.001,-999.0000,9,    0.20
318M20040615,        P02,     114,          1,         20,         20,2,20040802,       0827,     29.996,  -163.1662,       5600,  1084.7,   3.3034,  34.3728,2,  34.3734,2,  11.8000,2,    11.5,2,  134.08,2,   44.52,2,    0.00,2,    3.20,2,   0.010,2,   0.007,2,   0.000,2,  2376.4,2,  2375.8,2,   0.014,2,   1.9089,2,   16.40,2, -999.00,9,  -999.0,9,  -999.0,-999.000,9,-999.000, -999.00,9, 1084.70,-999.0000,9,-999.0000,9,-999.0000,9,-999.0000,9,-999.0000,9,   0.0095,   0.000,-999.0000,9,    0.20
318M20040615,        P02,     114,          1,         19,         19,2,20040802,       0827,     29.996,  -163.1662,       5600,  1184.7,   3.1522,  34.4297,2,  34.4301,2,  17.2000,2,    17.5,2,  138.18,2,   44.41,2,    0.00,2,    3.18,2,   0.011,2,   0.007,2,   0.000,2,  -999.0,9,  -999.0,9,-999.000,9,   1.9253,2,   18.16,2, -999.00,9,  -999.0,9,  -999.0,-999.000,9,-999.000, -999.00,9, 1184.70,-999.0000,9,-999.0000,9,-999.0000,9,-999.0000,9,-999.0000,9,   0.0096,-999.000,-999.0000,9,    0.20
318M20040615,        P02,     114,          1,         18,         18,2,20040802,       0827,     29.996,  -163.1662,       5600,  1299.6,   2.9428,  34.4852,2,  34.4855,2,  26.0000,2,    26.9,2,  143.26,2,   43.93,2,    0.00,2,    3.13,2,   0.008,2,  -0.004,2,   0.011,2,  -999.0,9,  -999.0,9,   0.035,2,   1.9242,2,   19.49,2, -999.00,9,  -999.0,9,  -999.0,-999.000,9,-999.000, -999.00,9, 1299.60,-999.0000,9,-999.0000,9,-999.0000,9,-999.0000,9,-999.0000,9,   0.0096,   0.001,-999.0000,9,    0.20
318M20040615,        P02,     114,          1,         17,         17,2,20040802,       0827,     29.996,  -163.1662,       5600,  1374.5,   2.8151,  34.5135,2,  34.5130,2,  36.7000,2,    37.2,3,  145.01,2,   43.19,2,    0.00,2,    3.08,2,   0.006,2,  -0.004,2,   0.000,2,  -999.0,9,  -999.0,9,   0.028,2,   1.9449,2,   20.22,2, -999.00,9,  -999.0,9,  -999.0,-999.000,9,-999.000, -999.00,9, 1374.50,-999.0000,9,-999.0000,9,-999.0000,9,-999.0000,9,-999.0000,9,   0.0097,   0.001,-999.0000,9,    0.20
318M20040615,        P02,     114,          1,         16,         16,2,20040802,       0827,     29.996,  -163.1662,       5600,  1465.5,   2.6964,  34.5353,2,  34.5352,2,  50.5000,2,    48.6,2,  145.97,2,   42.39,2,    0.00,2,    3.02,2,   0.007,2,  -0.003,2,   0.000,2,  -999.0,9,  -999.0,9,   0.037,2,   1.9548,2,   20.39,2, -999.00,9,  -999.0,9,  -999.0,-999.000,9,-999.000, -999.00,9, 1465.50,-999.0000,9,-999.0000,9,-999.0000,9,-999.0000,9,-999.0000,9,   0.0098,   0.001,-999.0000,9,    0.20
318M20040615,        P02,     114,          1,         15,         15,2,20040802,       0827,     29.996,  -163.1662,       5600,  1580.6,   2.5102,  34.5592,2,  34.5602,2,  58.5000,2,    60.4,2,  149.12,2,   41.65,2,    0.00,2,    2.97,2,   0.006,2,  -0.004,2,   0.000,2,  -999.0,9,  -999.0,9,   0.037,2,   1.9954,2,   20.42,2, -999.00,9,  -999.0,9,  -999.0,-999.000,9,-999.000, -999.00,9, 1580.60,-999.0000,9,-999.0000,9,-999.0000,9,-999.0000,9,-999.0000,9,   0.0100,   0.001,-999.0000,9,    0.20
318M20040615,        P02,     114,          1,         14,         14,2,20040802,       0827,     29.996,  -163.1662,       5600,  1786.8,   2.2382,  34.5863,2,  34.5867,2,  70.3000,2,    70.8,2,  155.40,2,   41.02,2,    0.00,2,    2.92,2,   0.006,2,  -0.003,2,   0.000,2,  -999.0,9,  -999.0,9,   0.028,2,-999.0000,9, -999.00,9, -999.00,9,  -999.0,9,  -999.0,-999.000,9,-999.000, -999.00,9, 1786.80,-999.0000,9,-999.0000,9,-999.0000,9,-999.0000,9,-999.0000,9,-999.0000,   0.001,-999.0000,9, -999.00
318M20040615,        P02,     114,          1,         13,         13,2,20040802,       0827,     29.996,  -163.1662,       5600,  1998.1,   2.0105,  34.6083,2,  34.6085,2,  80.0000,2,    79.8,2,  160.52,2,   40.54,2,    0.00,2,    2.88,2,-999.000,9,-999.000,9,-999.000,9,  -999.0,9,  -999.0,9,-999.000,9,-999.0000,9, -999.00,9, -999.00,9,  -999.0,9,  -999.0,-999.000,9,-999.000, -999.00,9, 1998.10,-999.0000,9,-999.0000,9,-999.0000,9,-999.0000,9,-999.0000,9,-999.0000,-999.000,-999.0000,9, -999.00
318M20040615,        P02,     114,          1,         12,         12,2,20040802,       0827,     29.996,  -163.1662,       5600,  2200.5,   1.8619,  34.6244,2,  34.6248,2,  89.7000,2,    89.0,2,  163.26,2,   40.18,2,    0.00,2,    2.83,2,-999.000,9,-999.000,9,-999.000,9,  -999.0,9,  -999.0,9,-999.000,9,-999.0000,9, -999.00,9, -999.00,9,  -999.0,9,  -999.0,-999.000,9,-999.000, -999.00,9, 2200.50,-999.0000,9,-999.0000,9,-999.0000,9,-999.0000,9,-999.0000,9,-999.0000,-999.000,-999.0000,9, -999.00
318M20040615,        P02,     114,          1,         11,         11,2,20040802,       0827,     29.996,  -163.1662,       5600,  2453.2,   1.7234,  34.6408,2,  34.6409,2, 100.6000,2,   100.9,2,  164.42,2,   39.60,2,    0.00,2,    2.77,2,-999.000,9,-999.000,9,-999.000,9,  -999.0,9,  -999.0,9,-999.000,9,-999.0000,9, -999.00,9, -999.00,9,  -999.0,9,  -999.0,-999.000,9,-999.000, -999.00,9, 2453.20,-999.0000,9,-999.0000,9,-999.0000,9,-999.0000,9,-999.0000,9,-999.0000,-999.000,-999.0000,9, -999.00
318M20040615,        P02,     114,          1,         10,         10,2,20040802,       0827,     29.996,  -163.1662,       5600,  2712.4,   1.6327,  34.6526,2,  34.6535,2, 110.9000,2,   111.4,2,  164.00,2,   38.96,2,    0.00,2,    2.71,2,-999.000,9,-999.000,9,-999.000,9,  -999.0,9,  -999.0,9,-999.000,9,-999.0000,9, -999.00,9, -999.00,9,  -999.0,9,  -999.0,-999.000,9,-999.000, -999.00,9, 2712.40,-999.0000,9,-999.0000,9,-999.0000,9,-999.0000,9,-999.0000,9,-999.0000,-999.000,-999.0000,9, -999.00
318M20040615,        P02,     114,          1,          9,          9,2,20040802,       0827,     29.996,  -163.1662,       5600,  2960.8,   1.5646,  34.6620,2,  34.6620,2, 120.4000,2,   121.3,2,  162.20,2,   38.18,2,    0.00,2,    2.66,2,   0.004,6,  -0.004,6,   0.000,6,  -999.0,9,  -999.0,9,-999.000,9,-999.0000,9, -999.00,9, -999.00,9,  -999.0,9,  -999.0,-999.000,9,-999.000, -999.00,9, 2960.80,-999.0000,9,-999.0000,9,-999.0000,9,-999.0000,9,-999.0000,9,-999.0000,-999.000,-999.0000,9, -999.00
318M20040615,        P02,     114,          1,          8,          8,2,20040802,       0827,     29.996,  -163.1662,       5600,  3295.6,   1.5142,  34.6709,2,  34.6728,2, 129.9000,2,   131.1,2,  160.18,2,   37.44,2,    0.00,2,    2.61,2,-999.000,9,-999.000,9,-999.000,9,  -999.0,9,  -999.0,9,-999.000,9,-999.0000,9, -999.00,9, -999.00,9,  -999.0,9,  -999.0,-999.000,9,-999.000, -999.00,9, 3295.60,-999.0000,9,-999.0000,9,-999.0000,9,-999.0000,9,-999.0000,9,-999.0000,-999.000,-999.0000,9, -999.00
318M20040615,        P02,     114,          1,          7,          7,2,20040802,       0827,     29.996,  -163.1662,       5600,  3713.4,   1.4748,  34.6796,2,  34.6791,2, 140.5000,2,   141.3,2,  157.41,2,   36.72,2,    0.00,2,    2.55,2,-999.000,9,-999.000,9,-999.000,9,  -999.0,9,  -999.0,9,-999.000,9,-999.0000,9, -999.00,9, -999.00,9,  -999.0,9,  -999.0,-999.000,9,-999.000, -999.00,9, 3713.40,-999.0000,9,-999.0000,9,-999.0000,9,-999.0000,9,-999.0000,9,-999.0000,-999.000,-999.0000,9, -999.00
318M20040615,        P02,     114,          1,          6,          6,2,20040802,       0827,     29.996,  -163.1662,       5600,  4121.0,   1.4708,  34.6844,2,  34.6838,2, 147.9000,2,   148.0,2,  155.42,2,   36.25,2,    0.00,2,    2.52,2,-999.000,9,-999.000,9,-999.000,9,  -999.0,9,  -999.0,9,-999.000,9,-999.0000,9, -999.00,9, -999.00,9,  -999.0,9,  -999.0,-999.000,9,-999.000, -999.00,9, 4121.00,-999.0000,9,-999.0000,9,-999.0000,9,-999.0000,9,-999.0000,9,-999.0000,-999.000,-999.0000,9, -999.00
318M20040615,        P02,     114,          1,          5,          5,2,20040802,       0827,     29.996,  -163.1662,       5600,  4529.1,   1.4917,  34.6874,2,  34.6860,2, 151.6000,2,   151.6,2,  154.03,2,   35.99,2,    0.00,2,    2.50,2,   0.006,2,  -0.001,2,   0.000,2,  -999.0,9,  -999.0,9,-999.000,9,-999.0000,9, -999.00,9, -999.00,9,  -999.0,9,  -999.0,-999.000,9,-999.000, -999.00,9, 4529.10,-999.0000,9,-999.0000,9,-999.0000,9,-999.0000,9,-999.0000,9,-999.0000,-999.000,-999.0000,9, -999.00
318M20040615,        P02,     114,          1,          4,          4,2,20040802,       0827,     29.996,  -163.1662,       5600,  4947.4,   1.5236,  34.6892,2,  34.6886,2, 155.0000,2,   155.4,2,  151.05,2,   35.84,2,    0.00,2,    2.48,2,-999.000,9,-999.000,9,-999.000,9,  -999.0,9,  -999.0,9,-999.000,9,-999.0000,9, -999.00,9, -999.00,9,  -999.0,9,  -999.0,-999.000,9,-999.000, -999.00,9, 4947.40,-999.0000,9,-999.0000,9,-999.0000,9,-999.0000,9,-999.0000,9,-999.0000,-999.000,-999.0000,9, -999.00
318M20040615,        P02,     114,          1,          3,          3,2,20040802,       0827,     29.996,  -163.1662,       5600,  5253.1,   1.5498,  34.6903,2,  34.6902,2, 157.5000,2,   158.0,2,  148.26,2,   35.73,2,    0.00,2,    2.47,2,-999.000,9,-999.000,9,-999.000,9,  -999.0,9,  -999.0,9,-999.000,9,-999.0000,9, -999.00,9, -999.00,9,  -999.0,9,  -999.0,-999.000,9,-999.000, -999.00,9, 5253.10,-999.0000,9,-999.0000,9,-999.0000,9,-999.0000,9,-999.0000,9,-999.0000,-999.000,-999.0000,9, -999.00
318M20040615,        P02,     114,          1,          2,          2,2,20040802,       0827,     29.996,  -163.1662,       5600,  5530.4,   1.5748,  34.6910,2,  34.6920,2, 159.8000,2,   160.6,2,  146.08,2,   35.64,2,    0.00,2,    2.46,2,-999.000,9,-999.000,9,-999.000,9,  -999.0,9,  -999.0,9,-999.000,9,-999.0000,9, -999.00,9, -999.00,9,  -999.0,9,  -999.0,-999.000,9,-999.000, -999.00,9, 5530.40,-999.0000,9,-999.0000,9,-999.0000,9,-999.0000,9,-999.0000,9,-999.0000,-999.000,-999.0000,9, -999.00
318M20040615,        P02,     114,          1,          1,          1,2,20040802,       0827,     29.996,  -163.1662,       5600,  5734.4,   1.5960,  34.6913,2,  34.6928,2, 161.2000,2,   161.8,2,  144.87,2,   35.48,2,    0.00,2,    2.45,2,   0.006,2,   0.003,2,   0.003,2,  -999.0,9,  -999.0,9,-999.000,9,-999.0000,9, -999.00,9, -999.00,9,  -999.0,9,  -999.0,-999.000,9,-999.000, -999.00,9, 5734.40,-999.0000,9,-999.0000,9,-999.0000,9,-999.0000,9,-999.0000,9,-999.0000,-999.000,-999.0000,9, -999.00