BOTTLE,20131027SIOCCHRJL
EXPOCODE,SECT_ID,STNNBR,CASTNO,SAMPNO,BTLNBR,BTLNBR_FLAG_W,DATE,TIME,LATITUDE,LONGITUDE,DEPTH,CTDPRS,CTDTMP,CTDSAL,CTDSAL_FLAG_W,SALNTY,SALNTY_FLAG_W,CTDOXY,CTDOXY_FLAG_W,OXYGEN,OXYGEN_FLAG_W,SILCAT,SILCAT_FLAG_W,NITRAT,NITRAT_FLAG_W,NITRIT,NITRIT_FLAG_W,PHSPHT,PHSPHT_FLAG_W,CFC-11,CFC-11_FLAG_W,CFC-12,CFC-12_FLAG_W,CFC113,CFC113_FLAG_W,TCARBN,TCARBN_FLAG_W,ALKALI,ALKALI_FLAG_W,TRITUM,TRITUM_FLAG_W,HELIUM,HELIUM_FLAG_W,DELHE3,DELHE3_FLAG_W,DELC13,DELC13_FLAG_W,DELC14,DELC14_FLAG_W,C14ERR,NEON,NEON_FLAG_W,NEONER,DOC,DOC_FLAG_W,CTDRAW,CDOM380,CDOM380_FLAG_W,CDOM325,CDOM325_FLAG_W,CDOMSL,CDOMSL_FLAG_W,CDOM340,CDOM340_FLAG_W,CDOMSN,CDOMSN_FLAG_W,HELIER,TRITER,CDOM412,CDOM412_FLAG_W,DELHER
,,,,,,,,,,,METERS,DBAR,ITS-90,PSS-78,,PSS-78,,UMOL/KG,,UMOL/KG,,UMOL/KG,,UMOL/KG,,UMOL/KG,,UMOL/KG,,PMOL/KG,,PMOL/KG,,PMOL/KG,,UMOL/KG,,UMOL/KG,,TU,,NMOL/KG,,PERCNT,,/MILLE,,/MILLE,,/MILLE,NMOL/KG,,NMOL/KG,UMOL/KG,,DBAR,1/M,,1/M,,1/NM,,1/M,,1/NM,,NMOL/KG,TU,1/M,,PERCNT
318M20040615,        P02,     124,          1,         36,         36,2,20040808,       2036,    30.0007,  -156.2328,       5864,    12.1,  25.3225,  35.4152,2,  35.4056,2, 210.0000,2,   209.4,2,    0.66,2,    0.02,2,    0.00,2,    0.02,2,   1.795,2,   1.132,2,   0.130,2,  2003.1,2,  2329.7,6,-999.000,9,-999.0000,9, -999.00,9, -999.00,9,  -999.0,9,  -999.0,-999.000,9,-999.000, -999.00,9,   12.10,-999.0000,9,-999.0000,9,-999.0000,9,-999.0000,9,-999.0000,9,-999.0000,-999.000,-999.0000,9, -999.00
318M20040615,        P02,     124,          1,         35,         35,2,20040808,       2036,    30.0007,  -156.2328,       5864,    51.4,  21.3710,  35.2081,2,  35.1965,2, 235.8000,2,   234.4,2,    1.23,2,    0.02,2,    0.00,2,    0.03,2,-999.000,9,-999.000,9,-999.000,9,  -999.0,9,  -999.0,9,-999.000,9,-999.0000,9, -999.00,9, -999.00,9,  -999.0,9,  -999.0,-999.000,9,-999.000, -999.00,9,   51.40,-999.0000,9,-999.0000,9,-999.0000,9,-999.0000,9,-999.0000,9,-999.0000,-999.000,-999.0000,9, -999.00
318M20040615,        P02,     124,          1,         34,         34,2,20040808,       2036,    30.0007,  -156.2328,       5864,   101.6,  18.3339,  34.9145,2,  34.9044,2, 236.1000,2,   237.2,2,    1.98,2,    0.00,2,    0.00,2,    0.07,2,   2.659,2,   1.465,2,   0.158,2,  2019.3,2,  2298.4,2,-999.000,9,-999.0000,9, -999.00,9, -999.00,9,  -999.0,9,  -999.0,-999.000,9,-999.000, -999.00,9,  101.60,-999.0000,9,-999.0000,9,-999.0000,9,-999.0000,9,-999.0000,9,-999.0000,-999.000,-999.0000,9, -999.00
318M20040615,        P02,     124,          1,         33,         33,2,20040808,       2036,    30.0007,  -156.2328,       5864,   151.6,  15.9672,  34.6431,2,  34.6311,2, 214.9000,2,   215.9,2,    4.06,2,    4.09,2,    0.07,2,    0.34,2,   2.695,2,   1.582,2,   0.120,2,  -999.0,9,  -999.0,9,-999.000,9,-999.0000,9, -999.00,9, -999.00,9,  -999.0,9,  -999.0,-999.000,9,-999.000, -999.00,9,  151.60,-999.0000,9,-999.0000,9,-999.0000,9,-999.0000,9,-999.0000,9,-999.0000,-999.000,-999.0000,9, -999.00
318M20040615,        P02,     124,          1,         32,         32,2,20040808,       2036,    30.0007,  -156.2328,       5864,   201.3,  14.1379,  34.4215,2,  34.4127,2, 212.7000,2,   213.9,2,    6.33,2,    7.19,2,    0.01,2,    0.55,2,   2.935,2,   1.701,2,   0.069,2,  2057.9,2,  2267.7,2,-999.000,9,-999.0000,9, -999.00,9, -999.00,9,  -999.0,9,  -999.0,-999.000,9,-999.000, -999.00,9,  201.30,-999.0000,9,-999.0000,9,-999.0000,9,-999.0000,9,-999.0000,9,-999.0000,-999.000,-999.0000,9, -999.00
318M20040615,        P02,     124,          1,         31,         31,2,20040808,       2036,    30.0007,  -156.2328,       5864,   250.9,  12.8805,  34.3122,2,  34.3126,2, 215.0000,2,   216.0,2,    8.41,2,    9.28,2,    0.01,2,    0.68,2,-999.000,9,-999.000,9,-999.000,9,  -999.0,9,  -999.0,9,-999.000,9,-999.0000,9, -999.00,9, -999.00,9,  -999.0,9,  -999.0,-999.000,9,-999.000, -999.00,9,  250.90,-999.0000,9,-999.0000,9,-999.0000,9,-999.0000,9,-999.0000,9,-999.0000,-999.000,-999.0000,9, -999.00
318M20040615,        P02,     124,          1,         30,         30,2,20040808,       2036,    30.0007,  -156.2328,       5864,   301.1,  11.7962,  34.2536,2,  34.2555,2, 214.4000,2,   216.4,2,   11.25,2,   11.53,2,    0.00,2,    0.83,2,   3.207,2,   1.781,2,   0.076,2,  2079.7,2,  2264.4,2,-999.000,9,-999.0000,9, -999.00,9, -999.00,9,  -999.0,9,  -999.0,-999.000,9,-999.000, -999.00,9,  301.10,-999.0000,9,-999.0000,9,-999.0000,9,-999.0000,9,-999.0000,9,-999.0000,-999.000,-999.0000,9, -999.00
318M20040615,        P02,     124,          1,         29,         29,2,20040808,       2036,    30.0007,  -156.2328,       5864,   350.7,  10.9217,  34.2022,2,  34.2024,2, 213.4000,2,   214.6,2,   14.29,2,   13.46,2,    0.00,2,    0.97,2,   3.274,2,   1.819,2,   0.083,2,  -999.0,9,  -999.0,9,-999.000,9,-999.0000,9, -999.00,9, -999.00,9,  -999.0,9,  -999.0,-999.000,9,-999.000, -999.00,9,  350.70,-999.0000,9,-999.0000,9,-999.0000,9,-999.0000,9,-999.0000,9,-999.0000,-999.000,-999.0000,9, -999.00
318M20040615,        P02,     124,          1,         28,         28,2,20040808,       2036,    30.0007,  -156.2328,       5864,   400.7,  10.0722,  34.1645,2,  34.1653,2, 205.5000,2,   204.8,2,   18.65,2,   16.16,2,    0.00,2,    1.14,2,   3.237,2,   1.766,2,   0.086,2,  2109.4,2,  2266.7,2,-999.000,9,-999.0000,9, -999.00,9, -999.00,9,  -999.0,9,  -999.0,-999.000,9,-999.000, -999.00,9,  400.70,-999.0000,9,-999.0000,9,-999.0000,9,-999.0000,9,-999.0000,9,-999.0000,-999.000,-999.0000,9, -999.00
318M20040615,        P02,     124,          1,         27,         27,2,20040808,       2036,    30.0007,  -156.2328,       5864,   455.7,   8.9888,  34.1091,2,  34.1079,2, 186.3000,2,   182.8,2,   26.82,2,   20.47,2,    0.00,2,    1.44,2,-999.000,9,-999.000,9,-999.000,9,  -999.0,9,  -999.0,9,-999.000,9,-999.0000,9, -999.00,9, -999.00,9,  -999.0,9,  -999.0,-999.000,9,-999.000, -999.00,9,  455.70,-999.0000,9,-999.0000,9,-999.0000,9,-999.0000,9,-999.0000,9,-999.0000,-999.000,-999.0000,9, -999.00
318M20040615,        P02,     124,          1,         26,         26,2,20040808,       2036,    30.0007,  -156.2328,       5864,   505.6,   7.9665,  34.0603,2,  34.0605,2, 162.6000,2,   162.3,2,   35.98,2,   24.34,2,    0.00,2,    1.71,2,   2.627,2,   1.368,2,   0.097,2,  2167.0,2,  2274.8,2,-999.000,9,-999.0000,9, -999.00,9, -999.00,9,  -999.0,9,  -999.0,-999.000,9,-999.000, -999.00,9,  505.60,-999.0000,9,-999.0000,9,-999.0000,9,-999.0000,9,-999.0000,9,-999.0000,-999.000,-999.0000,9, -999.00
318M20040615,        P02,     124,          1,         25,         25,2,20040808,       2036,    30.0007,  -156.2328,       5864,   605.6,   5.9875,  33.9980,2,  33.9988,2, 119.5000,2,   118.9,2,   59.15,2,   31.99,2,    0.00,2,    2.30,2,   1.883,2,   0.883,2,   0.061,2,  2227.7,2,  2289.2,2,-999.000,9,-999.0000,9, -999.00,9, -999.00,9,  -999.0,9,  -999.0,-999.000,9,-999.000, -999.00,9,  605.60,-999.0000,9,-999.0000,9,-999.0000,9,-999.0000,9,-999.0000,9,-999.0000,-999.000,-999.0000,9, -999.00
318M20040615,        P02,     124,          1,         24,         24,2,20040808,       2036,    30.0007,  -156.2328,       5864,   710.8,   4.7408,  34.0633,2,  34.0638,2,  65.5000,2,    62.0,2,   84.63,2,   38.73,2,    0.00,2,    2.78,2,   0.633,2,   0.323,2,   0.014,2,  2289.2,2,  2314.8,2,-999.000,9,-999.0000,9, -999.00,9, -999.00,9,  -999.0,9,  -999.0,-999.000,9,-999.000, -999.00,9,  710.80,-999.0000,9,-999.0000,9,-999.0000,9,-999.0000,9,-999.0000,9,-999.0000,-999.000,-999.0000,9, -999.00
318M20040615,        P02,     124,          1,         23,         23,2,20040808,       2036,    30.0007,  -156.2328,       5864,   814.0,   4.1437,  34.1739,2,  34.1712,2,  26.3000,2,    24.8,2,  103.65,2,   42.36,2,    0.00,2,    3.06,2,-999.000,9,-999.000,9,-999.000,9,  2332.6,2,  2333.9,2,-999.000,9,-999.0000,9, -999.00,9, -999.00,9,  -999.0,9,  -999.0,-999.000,9,-999.000, -999.00,9,  814.00,-999.0000,9,-999.0000,9,-999.0000,9,-999.0000,9,-999.0000,9,-999.0000,-999.000,-999.0000,9, -999.00
318M20040615,        P02,     124,          1,         22,         22,2,20040808,       2036,    30.0007,  -156.2328,       5864,   904.4,   3.8091,  34.2681,2,  34.2681,2,  13.2000,2,    11.7,2,  117.10,2,   43.58,2,    0.00,2,    3.17,2,   0.023,2,   0.011,2,   0.000,2,  2353.3,2,  2352.6,2,-999.000,9,-999.0000,9, -999.00,9, -999.00,9,  -999.0,9,  -999.0,-999.000,9,-999.000, -999.00,9,  904.40,-999.0000,9,-999.0000,9,-999.0000,9,-999.0000,9,-999.0000,9,-999.0000,-999.000,-999.0000,9, -999.00
318M20040615,        P02,     124,          1,         21,         21,2,20040808,       2036,    30.0007,  -156.2328,       5864,  1004.5,   3.5702,  34.3559,2,  34.3575,2,  10.5000,2,    10.5,2,  126.08,2,   43.83,2,    0.00,2,    3.20,2,   0.009,2,   0.005,2,   0.000,2,  2368.0,6,  2366.9,2,-999.000,9,-999.0000,9, -999.00,9, -999.00,9,  -999.0,9,  -999.0,-999.000,9,-999.000, -999.00,9, 1004.50,-999.0000,9,-999.0000,9,-999.0000,9,-999.0000,9,-999.0000,9,-999.0000,-999.000,-999.0000,9, -999.00
318M20040615,        P02,     124,          1,         20,         20,2,20040808,       2036,    30.0007,  -156.2328,       5864,  1109.1,   3.3366,  34.4260,2,  34.4254,2,  14.3000,2,    15.9,2,  132.73,2,   44.10,2,    0.00,2,    3.19,2,   0.004,2,   0.000,2,   0.000,2,  -999.0,9,  -999.0,9,-999.000,9,-999.0000,9, -999.00,9, -999.00,9,  -999.0,9,  -999.0,-999.000,9,-999.000, -999.00,9, 1109.10,-999.0000,9,-999.0000,9,-999.0000,9,-999.0000,9,-999.0000,9,-999.0000,-999.000,-999.0000,9, -999.00
318M20040615,        P02,     124,          1,         19,         19,2,20040808,       2036,    30.0007,  -156.2328,       5864,  1211.5,   3.1665,  34.4695,2,  34.4700,2,  22.4000,2,    22.8,2,  136.84,2,   43.99,2,    0.00,2,    3.16,2,-999.000,9,-999.000,9,-999.000,9,  -999.0,9,  -999.0,9,-999.000,9,-999.0000,9, -999.00,9, -999.00,9,  -999.0,9,  -999.0,-999.000,9,-999.000, -999.00,9, 1211.50,-999.0000,9,-999.0000,9,-999.0000,9,-999.0000,9,-999.0000,9,-999.0000,-999.000,-999.0000,9, -999.00
318M20040615,        P02,     124,          1,         18,         18,2,20040808,       2036,    30.0007,  -156.2328,       5864,  1311.6,   2.9484,  34.5068,2,  34.5065,2,  30.4000,2,    31.7,2,  142.13,2,   43.50,2,    0.00,2,    3.12,2,   0.005,2,   0.005,2,   0.000,2,  -999.0,9,  -999.0,9,-999.000,9,-999.0000,9, -999.00,9, -999.00,9,  -999.0,9,  -999.0,-999.000,9,-999.000, -999.00,9, 1311.60,-999.0000,9,-999.0000,9,-999.0000,9,-999.0000,9,-999.0000,9,-999.0000,-999.000,-999.0000,9, -999.00
318M20040615,        P02,     124,          1,         17,         17,2,20040808,       2036,    30.0007,  -156.2328,       5864,  1417.6,   2.7773,  34.5323,2,  34.5324,2,  39.8000,2,    40.7,2,  145.86,2,   42.91,2,    0.00,2,    3.07,2,   0.002,2,  -0.001,2,   0.000,2,  -999.0,9,  -999.0,9,-999.000,9,-999.0000,9, -999.00,9, -999.00,9,  -999.0,9,  -999.0,-999.000,9,-999.000, -999.00,9, 1417.60,-999.0000,9,-999.0000,9,-999.0000,9,-999.0000,9,-999.0000,9,-999.0000,-999.000,-999.0000,9, -999.00
318M20040615,        P02,     124,          1,         16,         16,2,20040808,       2036,    30.0007,  -156.2328,       5864,  1517.7,   2.6118,  34.5521,2,  34.5520,2,  47.9000,2,    48.3,2,  149.40,2,   42.32,2,    0.00,2,    3.03,2,   0.002,2,  -0.002,2,   0.000,2,  -999.0,9,  -999.0,9,-999.000,9,-999.0000,9, -999.00,9, -999.00,9,  -999.0,9,  -999.0,-999.000,9,-999.000, -999.00,9, 1517.70,-999.0000,9,-999.0000,9,-999.0000,9,-999.0000,9,-999.0000,9,-999.0000,-999.000,-999.0000,9, -999.00
318M20040615,        P02,     124,          1,         15,         15,2,20040808,       2036,    30.0007,  -156.2328,       5864,  1622.5,   2.4508,  34.5686,2,  34.5687,2,  55.0000,2,    55.2,2,  153.35,2,   41.91,2,    0.00,2,    3.00,2,-999.000,9,-999.000,9,-999.000,9,  -999.0,9,  -999.0,9,-999.000,9,-999.0000,9, -999.00,9, -999.00,9,  -999.0,9,  -999.0,-999.000,9,-999.000, -999.00,9, 1622.50,-999.0000,9,-999.0000,9,-999.0000,9,-999.0000,9,-999.0000,9,-999.0000,-999.000,-999.0000,9, -999.00
318M20040615,        P02,     124,          1,         14,         14,2,20040808,       2036,    30.0007,  -156.2328,       5864,  1826.2,   2.1620,  34.5975,2,  34.5980,2,  73.0000,2,    71.1,2,  158.69,2,   40.85,2,    0.00,2,    2.92,2,   0.003,2,   0.002,2,   0.000,2,  -999.0,9,  -999.0,9,-999.000,9,-999.0000,9, -999.00,9, -999.00,9,  -999.0,9,  -999.0,-999.000,9,-999.000, -999.00,9, 1826.20,-999.0000,9,-999.0000,9,-999.0000,9,-999.0000,9,-999.0000,9,-999.0000,-999.000,-999.0000,9, -999.00
318M20040615,        P02,     124,          1,         13,         13,2,20040808,       2036,    30.0007,  -156.2328,       5864,  2030.3,   1.9899,  34.6159,2,  34.6168,2,  83.3000,2,    82.3,2,  161.25,2,   40.06,2,    0.00,2,    2.86,2,   0.001,2,   0.000,2,   0.000,2,  -999.0,9,  -999.0,9,-999.000,9,-999.0000,9, -999.00,9, -999.00,9,  -999.0,9,  -999.0,-999.000,9,-999.000, -999.00,9, 2030.30,-999.0000,9,-999.0000,9,-999.0000,9,-999.0000,9,-999.0000,9,-999.0000,-999.000,-999.0000,9, -999.00
318M20040615,        P02,     124,          1,         12,         12,2,20040808,       2036,    30.0007,  -156.2328,       5864,  2274.4,   1.8152,  34.6348,2,  34.6355,2,  93.9000,2,    93.3,2,  164.81,2,   39.42,2,    0.00,2,    2.80,2,   0.003,2,   0.000,2,   0.000,2,  -999.0,9,  -999.0,9,-999.000,9,-999.0000,9, -999.00,9, -999.00,9,  -999.0,9,  -999.0,-999.000,9,-999.000, -999.00,9, 2274.40,-999.0000,9,-999.0000,9,-999.0000,9,-999.0000,9,-999.0000,9,-999.0000,-999.000,-999.0000,9, -999.00
318M20040615,        P02,     124,          1,         11,         11,2,20040808,       2036,    30.0007,  -156.2328,       5864,  2530.6,   1.6893,  34.6478,2,  34.6477,2, 105.8000,2,   105.0,2,  164.39,2,   39.00,2,    0.00,2,    2.74,2,-999.000,9,-999.000,9,-999.000,9,  -999.0,9,  -999.0,9,-999.000,9,-999.0000,9, -999.00,9, -999.00,9,  -999.0,9,  -999.0,-999.000,9,-999.000, -999.00,9, 2530.60,-999.0000,9,-999.0000,9,-999.0000,9,-999.0000,9,-999.0000,9,-999.0000,-999.000,-999.0000,9, -999.00
318M20040615,        P02,     124,          1,         10,         10,2,20040808,       2036,    30.0007,  -156.2328,       5864,  2786.0,   1.5974,  34.6587,2,  34.6583,2, 115.7000,2,   116.1,2,  163.19,2,   38.47,2,    0.00,2,    2.67,2,   0.003,2,   0.001,2,   0.000,2,  -999.0,9,  -999.0,9,-999.000,9,-999.0000,9, -999.00,9, -999.00,9,  -999.0,9,  -999.0,-999.000,9,-999.000, -999.00,9, 2786.00,-999.0000,9,-999.0000,9,-999.0000,9,-999.0000,9,-999.0000,9,-999.0000,-999.000,-999.0000,9, -999.00
318M20040615,        P02,     124,          1,          9,          9,2,20040808,       2036,    30.0007,  -156.2328,       5864,  3044.5,   1.5492,  34.6660,2,  34.6659,2, 123.3000,2,   123.6,2,  162.39,2,   38.00,2,    0.00,2,    2.64,2,   0.002,2,   0.000,2,   0.000,2,  -999.0,9,  -999.0,9,-999.000,9,-999.0000,9, -999.00,9, -999.00,9,  -999.0,9,  -999.0,-999.000,9,-999.000, -999.00,9, 3044.50,-999.0000,9,-999.0000,9,-999.0000,9,-999.0000,9,-999.0000,9,-999.0000,-999.000,-999.0000,9, -999.00
318M20040615,        P02,     124,          1,          8,          8,2,20040808,       2036,    30.0007,  -156.2328,       5864,  3455.0,   1.4938,  34.6759,2,  34.6760,2, 134.4000,2,   135.0,2,  159.60,2,   37.11,2,    0.00,2,    2.58,2,   0.004,2,   0.001,2,   0.000,2,  -999.0,9,  -999.0,9,-999.000,9,-999.0000,9, -999.00,9, -999.00,9,  -999.0,9,  -999.0,-999.000,9,-999.000, -999.00,9, 3455.00,-999.0000,9,-999.0000,9,-999.0000,9,-999.0000,9,-999.0000,9,-999.0000,-999.000,-999.0000,9, -999.00
318M20040615,        P02,     124,          1,          7,          7,2,20040808,       2036,    30.0007,  -156.2328,       5864,  3860.7,   1.4748,  34.6819,2,  34.6818,2, 142.6000,2,   143.8,2,  156.64,2,   36.48,2,    0.00,2,    2.53,2,-999.000,9,-999.000,9,-999.000,9,  -999.0,9,  -999.0,9,-999.000,9,-999.0000,9, -999.00,9, -999.00,9,  -999.0,9,  -999.0,-999.000,9,-999.000, -999.00,9, 3860.70,-999.0000,9,-999.0000,9,-999.0000,9,-999.0000,9,-999.0000,9,-999.0000,-999.000,-999.0000,9, -999.00
318M20040615,        P02,     124,          1,          6,          6,2,20040808,       2036,    30.0007,  -156.2328,       5864,  4272.0,   1.4818,  34.6858,2,  34.6862,2, 148.3000,2,   149.2,2,  154.27,2,   36.02,2,    0.00,2,    2.50,2,   0.004,2,   0.001,2,   0.000,2,  -999.0,9,  -999.0,9,-999.000,9,-999.0000,9, -999.00,9, -999.00,9,  -999.0,9,  -999.0,-999.000,9,-999.000, -999.00,9, 4272.00,-999.0000,9,-999.0000,9,-999.0000,9,-999.0000,9,-999.0000,9,-999.0000,-999.000,-999.0000,9, -999.00
318M20040615,        P02,     124,          1,          5,          5,2,20040808,       2036,    30.0007,  -156.2328,       5864,  4683.5,   1.5017,  34.6886,2,  34.6887,2, 153.5000,2,   154.2,2,  151.11,2,   35.60,2,    0.00,2,    2.47,2,   0.007,2,   0.002,2,   0.000,2,  -999.0,9,  -999.0,9,-999.000,9,-999.0000,9, -999.00,9, -999.00,9,  -999.0,9,  -999.0,-999.000,9,-999.000, -999.00,9, 4683.50,-999.0000,9,-999.0000,9,-999.0000,9,-999.0000,9,-999.0000,9,-999.0000,-999.000,-999.0000,9, -999.00
318M20040615,        P02,     124,          1,          4,          4,2,20040808,       2036,    30.0007,  -156.2328,       5864,  5097.0,   1.5321,  34.6903,2,  34.6901,2, 157.3000,2,   157.7,2,  147.54,2,   35.33,2,    0.00,2,    2.46,2,   0.006,2,   0.005,2,   0.000,2,  -999.0,9,  -999.0,9,-999.000,9,-999.0000,9, -999.00,9, -999.00,9,  -999.0,9,  -999.0,-999.000,9,-999.000, -999.00,9, 5097.00,-999.0000,9,-999.0000,9,-999.0000,9,-999.0000,9,-999.0000,9,-999.0000,-999.000,-999.0000,9, -999.00
318M20040615,        P02,     124,          1,          3,          3,2,20040808,       2036,    30.0007,  -156.2328,       5864,  5505.4,   1.5746,  34.6913,2,  34.6921,2, 159.5000,2,   159.6,2,  145.96,2,   35.18,2,    0.00,2,    2.45,2,   0.004,2,   0.002,2,   0.000,2,  -999.0,9,  -999.0,9,-999.000,9,-999.0000,9, -999.00,9, -999.00,9,  -999.0,9,  -999.0,-999.000,9,-999.000, -999.00,9, 5505.40,-999.0000,9,-999.0000,9,-999.0000,9,-999.0000,9,-999.0000,9,-999.0000,-999.000,-999.0000,9, -999.00
318M20040615,        P02,     124,          1,          2,          2,2,20040808,       2036,    30.0007,  -156.2328,       5864,  5812.8,   1.6087,  34.6916,2,  34.6924,2, 160.9000,2,   160.6,2,  145.15,2,   35.22,2,    0.00,2,    2.45,2,   0.006,2,   0.004,2,   0.000,2,  -999.0,9,  -999.0,9,-999.000,9,-999.0000,9, -999.00,9, -999.00,9,  -999.0,9,  -999.0,-999.000,9,-999.000, -999.00,9, 5812.80,-999.0000,9,-999.0000,9,-999.0000,9,-999.0000,9,-999.0000,9,-999.0000,-999.000,-999.0000,9, -999.00
318M20040615,        P02,     124,          1,          1,          1,2,20040808,       2036,    30.0007,  -156.2328,       5864,  6016.8,   1.6347,  34.6917,2,  34.6924,2, 161.3000,2,   161.7,2,  144.78,2,   35.13,2,    0.00,2,    2.45,2,   0.005,2,   0.003,2,   0.000,2,  -999.0,9,  -999.0,9,-999.000,9,-999.0000,9, -999.00,9, -999.00,9,  -999.0,9,  -999.0,-999.000,9,-999.000, -999.00,9, 6016.80,-999.0000,9,-999.0000,9,-999.0000,9,-999.0000,9,-999.0000,9,-999.0000,-999.000,-999.0000,9, -999.00