BOTTLE,20131027SIOCCHRJL
EXPOCODE,SECT_ID,STNNBR,CASTNO,SAMPNO,BTLNBR,BTLNBR_FLAG_W,DATE,TIME,LATITUDE,LONGITUDE,DEPTH,CTDPRS,CTDTMP,CTDSAL,CTDSAL_FLAG_W,SALNTY,SALNTY_FLAG_W,CTDOXY,CTDOXY_FLAG_W,OXYGEN,OXYGEN_FLAG_W,SILCAT,SILCAT_FLAG_W,NITRAT,NITRAT_FLAG_W,NITRIT,NITRIT_FLAG_W,PHSPHT,PHSPHT_FLAG_W,CFC-11,CFC-11_FLAG_W,CFC-12,CFC-12_FLAG_W,CFC113,CFC113_FLAG_W,TCARBN,TCARBN_FLAG_W,ALKALI,ALKALI_FLAG_W,TRITUM,TRITUM_FLAG_W,HELIUM,HELIUM_FLAG_W,DELHE3,DELHE3_FLAG_W,DELC13,DELC13_FLAG_W,DELC14,DELC14_FLAG_W,C14ERR,NEON,NEON_FLAG_W,NEONER,DOC,DOC_FLAG_W,CTDRAW,CDOM380,CDOM380_FLAG_W,CDOM325,CDOM325_FLAG_W,CDOMSL,CDOMSL_FLAG_W,CDOM340,CDOM340_FLAG_W,CDOMSN,CDOMSN_FLAG_W,HELIER,TRITER,CDOM412,CDOM412_FLAG_W,DELHER
,,,,,,,,,,,METERS,DBAR,ITS-90,PSS-78,,PSS-78,,UMOL/KG,,UMOL/KG,,UMOL/KG,,UMOL/KG,,UMOL/KG,,UMOL/KG,,PMOL/KG,,PMOL/KG,,PMOL/KG,,UMOL/KG,,UMOL/KG,,TU,,NMOL/KG,,PERCNT,,/MILLE,,/MILLE,,/MILLE,NMOL/KG,,NMOL/KG,UMOL/KG,,DBAR,1/M,,1/M,,1/NM,,1/M,,1/NM,,NMOL/KG,TU,1/M,,PERCNT
318M20040615,        P02,      96,          2,         36,         36,2,20040719,       0709,    30.0002,  -172.9833,       5368,    10.5,  25.4331,  35.2201,2,  35.2192,2, 212.1000,2,   210.7,2,    1.56,2,    0.14,2,    0.00,2,    0.03,2,   1.794,2,   1.089,2,   0.124,2,  2006.3,2,  2312.7,6,-999.000,9,-999.0000,9, -999.00,9,    1.08,2,    81.3,2,     4.6,-999.000,9,-999.000,   67.20,2,   10.50,   0.0560,2,   0.1400,2,   0.0120,2,   0.1000,2,   0.0150,2,-999.0000,-999.000,   0.0400,2, -999.00
318M20040615,        P02,      96,          2,         35,         35,2,20040719,       0709,    30.0002,  -172.9833,       5368,    42.1,  20.0895,  34.8789,2,  34.8772,2, 243.5000,2,   245.7,2,    1.94,2,    0.15,2,    0.00,2,    0.05,2,   2.316,6,   1.367,6,   0.159,6,  2000.3,2,  2291.5,2,-999.000,9,-999.0000,9, -999.00,9, -999.00,9,  -999.0,9,  -999.0,-999.000,9,-999.000,   63.60,2,   42.10,   0.0550,2,   0.1460,2,   0.0150,2,   0.1070,2,   0.0160,2,-999.0000,-999.000,   0.0380,2, -999.00
318M20040615,        P02,      96,          2,         34,         34,2,20040719,       0709,    30.0002,  -172.9833,       5368,    86.8,  17.1817,  34.7572,2,  34.7593,2, 244.9000,2,   245.3,2,    2.53,2,    0.15,2,    0.00,2,    0.10,2,   2.507,2,   1.464,2,   0.167,2,  2010.2,2,  2285.3,2,-999.000,9,-999.0000,9, -999.00,9,    0.95,2,    79.9,2,     5.2,-999.000,9,-999.000,   59.80,2,   86.80,   0.0650,2,   0.1680,2,   0.0140,2,   0.1250,2,   0.0160,2,-999.0000,-999.000,   0.0460,2, -999.00
318M20040615,        P02,      96,          2,         33,         33,2,20040719,       0709,    30.0002,  -172.9833,       5368,   137.0,  15.8486,  34.6596,2,  34.6598,2, 216.6000,2,   219.1,2,    4.74,2,    5.16,2,    0.04,2,    0.38,2,   2.556,2,   1.480,2,   0.122,2,  2036.6,2,  2277.9,2,-999.000,9,-999.0000,9, -999.00,9,    0.71,2,    73.2,2,     4.2,-999.000,9,-999.000,   55.40,2,  137.00,   0.0430,2,   0.1150,2,   0.0150,2,   0.0840,2,   0.0170,2,-999.0000,-999.000,   0.0310,2, -999.00
318M20040615,        P02,      96,          2,         32,         32,2,20040719,       0709,    30.0002,  -172.9833,       5368,   185.9,  14.6455,  34.5630,2,  34.5628,2, 212.4000,2,   214.5,2,    7.58,2,    7.73,2,    0.01,2,    0.55,2,   2.654,2,   1.521,2,   0.086,2,  2053.1,2,  2274.9,2,-999.000,9,-999.0000,9, -999.00,9,    0.65,2,    68.6,2,     4.5,-999.000,9,-999.000,   54.40,2,  185.90,   0.0550,2,   0.1370,2,   0.0140,2,   0.1000,2,   0.0150,2,-999.0000,-999.000,   0.0400,2, -999.00
318M20040615,        P02,      96,          2,         31,         31,2,20040719,       0709,    30.0002,  -172.9833,       5368,   236.4,  13.8733,  34.5037,2,  34.5025,2, 212.5000,2,   213.3,2,    9.39,2,    9.16,2,    0.00,2,    0.65,2,   2.763,2,   1.540,2,   0.070,2,  2063.0,2,  2274.0,2,-999.000,9,-999.0000,9, -999.00,9,    0.60,2,    74.5,2,     5.4,-999.000,9,-999.000,   53.00,2,  236.40,   0.0630,2,   0.1490,2,   0.0130,2,   0.1120,2,   0.0140,2,-999.0000,-999.000,   0.0470,2, -999.00
318M20040615,        P02,      96,          2,         30,         30,2,20040719,       0709,    30.0002,  -172.9833,       5368,   285.1,  12.7896,  34.4183,2,  34.4187,2, 215.8000,2,   216.9,2,   11.83,2,   10.59,2,    0.00,2,    0.75,2,   2.874,2,   1.598,2,   0.086,2,  2073.0,2,  2271.2,2,-999.000,9,-999.0000,9, -999.00,9,    0.60,2,    72.7,2,     5.1,-999.000,9,-999.000,   52.00,2,  285.10,   0.0600,2,   0.1420,2,   0.0130,2,   0.1060,2,   0.0140,2,-999.0000,-999.000,   0.0430,2, -999.00
318M20040615,        P02,      96,          2,         29,         29,2,20040719,       0709,    30.0002,  -172.9833,       5368,   336.0,  11.6060,  34.3200,2,  34.3170,2, 215.0000,2,   213.2,2,   15.71,2,   12.88,2,    0.00,2,    0.92,2,   2.941,2,   1.600,2,   0.095,2,  2089.7,2,  2269.3,2,-999.000,9,-999.0000,9, -999.00,9,    0.53,2,    63.6,2,     4.3,-999.000,9,-999.000,   51.10,2,  336.00,   0.1180,2,   0.2440,2,   0.0100,2,   0.1920,2,   0.0110,2,-999.0000,-999.000,   0.0900,2, -999.00
318M20040615,        P02,      96,          2,         28,         28,2,20040719,       0709,    30.0002,  -172.9833,       5368,   386.1,  10.6909,  34.2432,2,  34.2411,2, 213.8000,2,   213.9,2,   18.38,2,   14.42,2,    0.00,2,    1.04,2,   3.028,2,   1.636,2,   0.111,2,  2100.0,2,  2269.1,2,-999.000,9,-999.0000,9, -999.00,9,    0.51,2,    47.6,2,     6.0,-999.000,9,-999.000,   49.70,2,  386.10,   0.1020,2,   0.2170,2,   0.0110,2,   0.1680,2,   0.0120,2,-999.0000,-999.000,   0.0760,2, -999.00
318M20040615,        P02,      96,          2,         27,         27,2,20040719,       0709,    30.0002,  -172.9833,       5368,   434.4,   9.9488,  34.1850,2,  34.1862,2, 210.0000,2,   208.8,2,   21.45,2,   16.05,2,    0.00,2,    1.16,2,   2.996,2,   1.585,2,   0.113,2,  2110.7,2,  2267.9,2,-999.000,9,-999.0000,9, -999.00,9, -999.00,9,  -999.0,9,  -999.0,-999.000,9,-999.000,   47.90,2,  434.40,-999.0000,9,-999.0000,9,-999.0000,9,-999.0000,9,-999.0000,9,-999.0000,-999.000,-999.0000,9, -999.00
318M20040615,        P02,      96,          2,         26,         26,2,20040719,       0709,    30.0002,  -172.9833,       5368,   467.5,   9.1208,  34.1285,2,  34.1284,2, 200.1000,2,   197.0,2,   26.82,2,   18.71,2,    0.00,2,    1.35,2,  -0.004,4,  -0.003,4,   0.001,4,  2129.5,2,  2270.6,2,-999.000,9,-999.0000,9, -999.00,9,    0.41,2,    24.3,2,     4.3,-999.000,9,-999.000,   47.10,2,  467.50,   0.1850,3,   0.3550,3,   0.0090,3,   0.2850,3,   0.0100,3,-999.0000,-999.000,   0.1450,3, -999.00
318M20040615,        P02,      96,          2,         25,         25,2,20040719,       0709,    30.0002,  -172.9833,       5368,   570.2,   7.0917,  34.0372,2,  34.0371,2, 161.9000,2,   155.5,2,   45.84,2,   26.20,2,    0.00,2,    1.91,2,   2.355,2,   1.190,2,   0.091,2,  2187.2,2,  2281.6,2,-999.000,9,-999.0000,9, -999.00,9,    0.18,2,   -10.9,2,     4.7,-999.000,9,-999.000,   45.60,2,  570.20,-999.0000,9,-999.0000,9,-999.0000,9,-999.0000,9,-999.0000,9,-999.0000,-999.000,-999.0000,9, -999.00
318M20040615,        P02,      96,          2,         24,         24,2,20040719,       0709,    30.0002,  -172.9833,       5368,   670.6,   5.6803,  34.0406,2,  34.0414,2, 111.2000,2,   105.3,2,   68.28,2,   33.59,2,    0.00,2,    2.43,2,   1.473,2,   0.715,2,   0.059,2,  2245.5,2,  2287.7,2,-999.000,9,-999.0000,9, -999.00,9,   -0.05,2,   -73.7,2,     4.8,-999.000,9,-999.000,   43.80,2,  670.60,   0.1160,2,   0.2600,2,   0.0120,2,   0.1970,2,   0.0130,2,-999.0000,-999.000,   0.0870,2, -999.00
318M20040615,        P02,      96,          2,         23,         23,2,20040719,       0709,    30.0002,  -172.9833,       5368,   770.8,   4.7341,  34.1103,2,  34.1104,2,  61.7000,2,    59.5,2,   88.57,2,   39.24,2,    0.00,2,    2.82,2,   0.595,2,   0.291,2,   0.023,2,  2296.7,2,  2315.4,2,-999.000,9,-999.0000,9, -999.00,9,   -0.27,2,  -118.3,2,     4.1,-999.000,9,-999.000,   43.00,2,  770.80,-999.0000,9,-999.0000,9,-999.0000,9,-999.0000,9,-999.0000,9,-999.0000,-999.000,-999.0000,9, -999.00
318M20040615,        P02,      96,          2,         22,         22,2,20040719,       0709,    30.0002,  -172.9833,       5368,   870.8,   4.1063,  34.2090,2,  34.2090,2,  34.1000,2,    33.8,2,  107.46,2,   42.16,2,    0.00,2,    3.03,2,   0.214,2,   0.110,2,   0.005,2,  2331.9,2,  2336.4,2,-999.000,9,-999.0000,9, -999.00,9, -999.00,9,  -999.0,9,  -999.0,-999.000,9,-999.000,   42.40,2,  870.80,   0.3950,3,   0.7230,3,   0.0090,3,   0.5840,3,   0.0090,3,-999.0000,-999.000,   0.3160,3, -999.00
318M20040615,        P02,      96,          2,         21,         21,2,20040719,       0709,    30.0002,  -172.9833,       5368,   970.6,   3.7534,  34.2954,2,  34.2959,2,  24.7000,2,    24.4,2,  119.27,2,   43.04,2,    0.00,2,    3.11,2,   0.083,2,   0.043,2,   0.001,2,  2351.7,2,  2354.9,2,-999.000,9,-999.0000,9, -999.00,9,   -0.47,2,  -183.5,2,     3.9,-999.000,9,-999.000,   41.40,2,  970.60,-999.0000,9,-999.0000,9,-999.0000,9,-999.0000,9,-999.0000,9,-999.0000,-999.000,-999.0000,9, -999.00
318M20040615,        P02,      96,          2,         20,         20,2,20040719,       0709,    30.0002,  -172.9833,       5368,  1070.6,   3.4562,  34.3593,2,  34.3595,2,  21.3000,2,    21.2,2,  128.95,2,   43.49,2,    0.00,2,    3.15,2,   0.034,2,   0.019,2,   0.001,2,  2362.9,6,  2366.3,2,-999.000,9,-999.0000,9, -999.00,9, -999.00,9,  -999.0,9,  -999.0,-999.000,9,-999.000,   40.30,2, 1070.60,-999.0000,9,-999.0000,9,-999.0000,9,-999.0000,9,-999.0000,9,-999.0000,-999.000,-999.0000,9, -999.00
318M20040615,        P02,      96,          2,         19,         19,2,20040719,       0709,    30.0002,  -172.9833,       5368,  1170.2,   3.2458,  34.4167,2,  34.4160,2,  23.3000,2,    23.2,2,  135.43,2,   43.50,2,    0.00,2,    3.15,2,   0.011,2,   0.008,2,   0.001,2,  2370.8,2,  2375.7,2,-999.000,9,-999.0000,9, -999.00,9,   -0.39,2,  -234.5,2,     4.3,-999.000,9,-999.000,   39.10,2, 1170.20,-999.0000,9,-999.0000,9,-999.0000,9,-999.0000,9,-999.0000,9,-999.0000,-999.000,-999.0000,9, -999.00
318M20040615,        P02,      96,          2,         18,         18,2,20040719,       0709,    30.0002,  -172.9833,       5368,  1269.9,   3.0251,  34.4599,2,  34.4603,2,  28.4000,2,    28.3,2,  141.19,2,   43.39,2,    0.00,2,    3.14,2,   0.004,2,   0.001,2,   0.001,2,  2375.3,2,  2385.6,6,-999.000,9,-999.0000,9, -999.00,9, -999.00,9,  -999.0,9,  -999.0,-999.000,9,-999.000,   38.00,2, 1269.90,-999.0000,9,-999.0000,9,-999.0000,9,-999.0000,9,-999.0000,9,-999.0000,-999.000,-999.0000,9, -999.00
318M20040615,        P02,      96,          2,         17,         17,2,20040719,       0709,    30.0002,  -172.9833,       5368,  1370.2,   2.8631,  34.4923,2,  34.4935,2,  35.8000,2,    33.9,2,  144.83,2,   43.10,2,    0.00,2,    3.11,2,   0.005,2,   0.005,2,   0.001,2,  2376.7,2,  2391.7,2,-999.000,9,-999.0000,9, -999.00,9,   -0.37,2,  -222.4,2,     5.2,-999.000,9,-999.000,   37.60,2, 1370.20,-999.0000,9,-999.0000,9,-999.0000,9,-999.0000,9,-999.0000,9,-999.0000,-999.000,-999.0000,9, -999.00
318M20040615,        P02,      96,          2,         16,         16,2,20040719,       0709,    30.0002,  -172.9833,       5368,  1470.3,   2.6998,  34.5188,2,  34.5191,2,  41.4000,2,    41.0,2,  148.50,2,   42.94,2,    0.00,2,    3.08,2,   0.004,2,   0.001,2,   0.001,2,  2376.9,2,  2397.4,2,-999.000,9,-999.0000,9, -999.00,9, -999.00,9,  -999.0,9,  -999.0,-999.000,9,-999.000,   38.00,2, 1470.30,-999.0000,9,-999.0000,9,-999.0000,9,-999.0000,9,-999.0000,9,-999.0000,-999.000,-999.0000,9, -999.00
318M20040615,        P02,      96,          2,         15,         15,2,20040719,       0709,    30.0002,  -172.9833,       5368,  1571.3,   2.4862,  34.5457,2,  34.5456,2,  48.2000,2,    48.4,2,  153.80,2,   42.92,2,    0.00,2,    3.05,2,   0.004,2,   0.004,2,   0.001,2,  2377.2,2,  2403.1,2,-999.000,9,-999.0000,9, -999.00,9,   -0.30,2,  -230.1,2,     4.5,-999.000,9,-999.000,   37.90,2, 1571.30,-999.0000,9,-999.0000,9,-999.0000,9,-999.0000,9,-999.0000,9,-999.0000,-999.000,-999.0000,9, -999.00
318M20040615,        P02,      96,          2,         14,         14,2,20040719,       0709,    30.0002,  -172.9833,       5368,  1773.8,   2.2147,  34.5782,2,  34.5778,2,  61.8000,2,    62.2,2,  159.57,2,   42.14,2,    0.00,2,    2.97,2,   0.001,2,   0.002,2,   0.001,2,  2376.2,2,  2410.0,2,-999.000,9,-999.0000,9, -999.00,9, -999.00,9,  -999.0,9,  -999.0,-999.000,9,-999.000,   37.70,2, 1773.80,-999.0000,9,-999.0000,9,-999.0000,9,-999.0000,9,-999.0000,9,-999.0000,-999.000,-999.0000,9, -999.00
318M20040615,        P02,      96,          2,         13,         13,2,20040719,       0709,    30.0002,  -172.9833,       5368,  1969.6,   1.9989,  34.6043,2,  34.6045,2,  75.9000,2,    76.6,2,  161.93,2,   41.09,2,    0.00,2,    2.90,2,   0.003,2,   0.001,2,   0.001,2,  2371.1,2,  2414.7,2,-999.000,9,-999.0000,9, -999.00,9, -999.00,9,  -999.0,9,  -999.0,-999.000,9,-999.000,   37.60,2, 1969.60,   0.3280,2,   0.5940,3,   0.0090,3,   0.4810,3,   0.0090,3,-999.0000,-999.000,   0.2630,2, -999.00
318M20040615,        P02,      96,          2,         12,         12,2,20040719,       0709,    30.0002,  -172.9833,       5368,  2170.5,   1.8569,  34.6221,2,  34.6224,2,  88.8000,2,    90.0,2,  162.56,2,   40.15,2,    0.00,2,    2.83,2,   0.002,2,   0.001,2,   0.001,2,  2364.6,2,  2416.7,2,-999.000,9,-999.0000,9, -999.00,9, -999.00,9,  -999.0,9,  -999.0,-999.000,9,-999.000,   37.30,2, 2170.50,-999.0000,9,-999.0000,9,-999.0000,9,-999.0000,9,-999.0000,9,-999.0000,-999.000,-999.0000,9, -999.00
318M20040615,        P02,      96,          2,         11,         11,2,20040719,       0709,    30.0002,  -172.9833,       5368,  2423.2,   1.7304,  34.6385,2,  34.6395,2, 101.8000,2,   102.3,2,  163.19,2,   39.27,2,    0.00,2,    2.78,2,-999.000,9,-999.000,9,-999.000,9,  2359.6,2,  2419.7,2,-999.000,9,-999.0000,9, -999.00,9, -999.00,9,  -999.0,9,  -999.0,-999.000,9,-999.000,   37.50,2, 2423.20,-999.0000,9,-999.0000,9,-999.0000,9,-999.0000,9,-999.0000,9,-999.0000,-999.000,-999.0000,9, -999.00
318M20040615,        P02,      96,          2,         10,         10,2,20040719,       0709,    30.0002,  -172.9833,       5368,  2670.4,   1.6351,  34.6512,2,  34.6517,2, 112.6000,2,   113.7,2,  162.13,2,   38.44,2,    0.00,2,    2.72,2,   0.004,2,   0.002,2,   0.001,2,  2352.3,2,  2419.7,2,-999.000,9,-999.0000,9, -999.00,9, -999.00,9,  -999.0,9,  -999.0,-999.000,9,-999.000,   38.30,2, 2670.40,-999.0000,9,-999.0000,9,-999.0000,9,-999.0000,9,-999.0000,9,-999.0000,-999.000,-999.0000,9, -999.00
318M20040615,        P02,      96,          2,          9,          9,2,20040719,       0709,    30.0002,  -172.9833,       5368,  2923.6,   1.5644,  34.6613,2,  34.6613,2, 122.9000,2,   123.8,2,  160.40,2,   37.78,2,    0.00,2,    2.67,2,-999.000,9,-999.000,9,-999.000,9,  2348.2,2,  2421.4,2,-999.000,9,-999.0000,9, -999.00,9, -999.00,9,  -999.0,9,  -999.0,-999.000,9,-999.000,   37.90,2, 2923.60,   0.1160,2,   0.2670,2,   0.0120,2,   0.2010,2,   0.0130,2,-999.0000,-999.000,   0.0840,2, -999.00
318M20040615,        P02,      96,          2,          8,          8,2,20040719,       0709,    30.0002,  -172.9833,       5368,  3253.3,   1.5127,  34.6702,2,  34.6704,2, 133.5000,2,   134.3,2,  157.82,2,   37.02,2,    0.00,2,    2.61,2,   0.003,2,   0.001,2,   0.001,2,  2338.7,2,  2419.7,2,-999.000,9,-999.0000,9, -999.00,9, -999.00,9,  -999.0,9,  -999.0,-999.000,9,-999.000,   37.50,2, 3253.30,-999.0000,9,-999.0000,9,-999.0000,9,-999.0000,9,-999.0000,9,-999.0000,-999.000,-999.0000,9, -999.00
318M20040615,        P02,      96,          2,          7,          7,2,20040719,       0709,    30.0002,  -172.9833,       5368,  3597.2,   1.4779,  34.6774,2,  34.6773,2, 142.1000,2,   142.1,2,  155.47,2,   36.65,2,    0.00,2,    2.57,2,-999.000,9,-999.000,9,-999.000,9,  2332.8,2,  2418.5,2,-999.000,9,-999.0000,9, -999.00,9, -999.00,9,  -999.0,9,  -999.0,-999.000,9,-999.000,   37.30,2, 3597.20,-999.0000,9,-999.0000,9,-999.0000,9,-999.0000,9,-999.0000,9,-999.0000,-999.000,-999.0000,9, -999.00
318M20040615,        P02,      96,          2,          6,          6,2,20040719,       0709,    30.0002,  -172.9833,       5368,  3948.2,   1.4695,  34.6821,2,  34.6831,2, 147.0000,2,   147.3,2,  154.79,2,   36.42,2,    0.00,2,    2.54,2,   0.003,2,   0.001,2,   0.001,2,  2329.7,2,  2419.2,2,-999.000,9,-999.0000,9, -999.00,9, -999.00,9,  -999.0,9,  -999.0,-999.000,9,-999.000,   37.50,2, 3948.20,-999.0000,9,-999.0000,9,-999.0000,9,-999.0000,9,-999.0000,9,-999.0000,-999.000,-999.0000,9, -999.00
318M20040615,        P02,      96,          2,          5,          5,2,20040719,       0709,    30.0002,  -172.9833,       5368,  4303.4,   1.4763,  34.6855,2,  34.6861,2, 151.5000,2,   152.2,2,  153.50,2,   36.16,2,    0.00,2,    2.52,2,-999.000,9,-999.000,9,-999.000,9,  2326.7,2,  2419.0,2,-999.000,9,-999.0000,9, -999.00,9, -999.00,9,  -999.0,9,  -999.0,-999.000,9,-999.000,   38.10,2, 4303.40,-999.0000,9,-999.0000,9,-999.0000,9,-999.0000,9,-999.0000,9,-999.0000,-999.000,-999.0000,9, -999.00
318M20040615,        P02,      96,          2,          4,          4,2,20040719,       0709,    30.0002,  -172.9833,       5368,  4653.8,   1.4934,  34.6879,2,  34.6883,2, 155.1000,2,   155.7,2,  151.34,2,   35.77,2,    0.00,2,    2.50,2,   0.006,2,   0.005,2,   0.001,2,  2323.0,2,  2417.6,2,-999.000,9,-999.0000,9, -999.00,9, -999.00,9,  -999.0,9,  -999.0,-999.000,9,-999.000,   38.40,2, 4653.80,-999.0000,9,-999.0000,9,-999.0000,9,-999.0000,9,-999.0000,9,-999.0000,-999.000,-999.0000,9, -999.00
318M20040615,        P02,      96,          2,          3,          3,2,20040719,       0709,    30.0002,  -172.9833,       5368,  4948.8,   1.5068,  34.6898,2,  34.6912,2, 158.5000,2,   159.7,2,  148.54,2,   35.39,2,    0.00,2,    2.48,2,-999.000,9,-999.000,9,-999.000,9,  2319.7,2,  2414.4,2,-999.000,9,-999.0000,9, -999.00,9, -999.00,9,  -999.0,9,  -999.0,-999.000,9,-999.000,   37.40,2, 4948.80,-999.0000,9,-999.0000,9,-999.0000,9,-999.0000,9,-999.0000,9,-999.0000,-999.000,-999.0000,9, -999.00
318M20040615,        P02,      96,          2,          2,          2,2,20040719,       0709,    30.0002,  -172.9833,       5368,  5204.8,   1.5189,  34.6914,2,  34.6916,2, 162.4000,2,   163.0,2,  145.36,2,   35.08,2,    0.00,2,    2.45,2,   0.004,2,   0.003,2,   0.001,2,  2316.6,2,  2412.2,2,-999.000,9,-999.0000,9, -999.00,9, -999.00,9,  -999.0,9,  -999.0,-999.000,9,-999.000,   37.60,2, 5204.80,-999.0000,9,-999.0000,9,-999.0000,9,-999.0000,9,-999.0000,9,-999.0000,-999.000,-999.0000,9, -999.00
318M20040615,        P02,      96,          2,          1,          1,2,20040719,       0709,    30.0002,  -172.9833,       5368,  5476.3,   1.5213,  34.6939,2,  34.6938,2, 168.3000,2,   168.7,2,  140.38,2,   34.54,2,    0.00,2,    2.42,2,   0.003,2,   0.002,2,   0.001,2,  2308.7,2,  2407.5,6,-999.000,9,-999.0000,9, -999.00,9, -999.00,9,  -999.0,9,  -999.0,-999.000,9,-999.000,   37.30,2, 5476.30,-999.0000,9,-999.0000,9,-999.0000,9,-999.0000,9,-999.0000,9,-999.0000,-999.000,-999.0000,9, -999.00