BOTTLE,20131027SIOCCHRJL
EXPOCODE,SECT_ID,STNNBR,CASTNO,SAMPNO,BTLNBR,BTLNBR_FLAG_W,DATE,TIME,LATITUDE,LONGITUDE,DEPTH,CTDPRS,CTDTMP,CTDSAL,CTDSAL_FLAG_W,SALNTY,SALNTY_FLAG_W,CTDOXY,CTDOXY_FLAG_W,OXYGEN,OXYGEN_FLAG_W,SILCAT,SILCAT_FLAG_W,NITRAT,NITRAT_FLAG_W,NITRIT,NITRIT_FLAG_W,PHSPHT,PHSPHT_FLAG_W,CFC-11,CFC-11_FLAG_W,CFC-12,CFC-12_FLAG_W,CFC113,CFC113_FLAG_W,TCARBN,TCARBN_FLAG_W,ALKALI,ALKALI_FLAG_W,TRITUM,TRITUM_FLAG_W,HELIUM,HELIUM_FLAG_W,DELHE3,DELHE3_FLAG_W,DELC13,DELC13_FLAG_W,DELC14,DELC14_FLAG_W,C14ERR,NEON,NEON_FLAG_W,NEONER,DOC,DOC_FLAG_W,CTDRAW,CDOM380,CDOM380_FLAG_W,CDOM325,CDOM325_FLAG_W,CDOMSL,CDOMSL_FLAG_W,CDOM340,CDOM340_FLAG_W,CDOMSN,CDOMSN_FLAG_W,HELIER,TRITER,CDOM412,CDOM412_FLAG_W,DELHER
,,,,,,,,,,,METERS,DBAR,ITS-90,PSS-78,,PSS-78,,UMOL/KG,,UMOL/KG,,UMOL/KG,,UMOL/KG,,UMOL/KG,,UMOL/KG,,PMOL/KG,,PMOL/KG,,PMOL/KG,,UMOL/KG,,UMOL/KG,,TU,,NMOL/KG,,PERCNT,,/MILLE,,/MILLE,,/MILLE,NMOL/KG,,NMOL/KG,UMOL/KG,,DBAR,1/M,,1/M,,1/NM,,1/M,,1/NM,,NMOL/KG,TU,1/M,,PERCNT
318M20040615,        P02,      22,          1,         28,         28,2,20040624,       0338,     30.002,   138.7935,       2359,     9.7,  25.5994,  34.7756,2,  34.7744,2, 209.3000,2,   209.2,2,    1.07,2,    0.13,2,    0.00,2,    0.03,2,   1.883,2,   1.139,2,   0.140,2,  1972.5,6,  2284.1,6,-999.000,9,-999.0000,9, -999.00,9, -999.00,9,  -999.0,9,  -999.0,-999.000,9,-999.000,   67.60,2,    9.70,-999.0000,9,-999.0000,9,-999.0000,9,-999.0000,9,-999.0000,9,-999.0000,-999.000,-999.0000,9, -999.00
318M20040615,        P02,      22,          1,         27,         27,2,20040624,       0338,     30.002,   138.7935,       2359,    49.3,  20.3097,  34.8668,2,  34.8645,2, 230.2000,2,   231.0,2,    1.24,2,    0.14,2,    0.00,2,    0.04,2,   2.282,2,   1.364,2,   0.136,2,  1987.6,2,  2290.0,2,-999.000,9,-999.0000,9, -999.00,9, -999.00,9,  -999.0,9,  -999.0,-999.000,9,-999.000,   65.00,2,   49.30,-999.0000,9,-999.0000,9,-999.0000,9,-999.0000,9,-999.0000,9,-999.0000,-999.000,-999.0000,9, -999.00
318M20040615,        P02,      22,          1,         26,         26,2,20040624,       0338,     30.002,   138.7935,       2359,    99.2,  18.6995,  34.8664,2,  34.8639,2, 216.6000,2,   216.1,2,    1.96,2,    2.08,2,    0.14,2,    0.19,2,   2.332,2,   1.414,2,   0.127,2,  2005.8,2,  2288.1,2,-999.000,9,-999.0000,9, -999.00,9, -999.00,9,  -999.0,9,  -999.0,-999.000,9,-999.000,   62.70,2,   99.20,-999.0000,9,-999.0000,9,-999.0000,9,-999.0000,9,-999.0000,9,-999.0000,-999.000,-999.0000,9, -999.00
318M20040615,        P02,      22,          1,         25,         25,2,20040624,       0338,     30.002,   138.7935,       2359,   149.4,  17.9290,  34.8198,2,  34.8173,2, 211.4000,2,   213.1,2,    2.69,2,    3.28,2,    0.03,2,    0.25,2,   2.435,2,   1.457,2,   0.111,2,  2015.9,2,  2286.2,2,-999.000,9,-999.0000,9, -999.00,9, -999.00,9,  -999.0,9,  -999.0,-999.000,9,-999.000,   60.00,2,  149.40,-999.0000,9,-999.0000,9,-999.0000,9,-999.0000,9,-999.0000,9,-999.0000,-999.000,-999.0000,9, -999.00
318M20040615,        P02,      22,          1,         24,         24,2,20040624,       0338,     30.002,   138.7935,       2359,   199.5,  17.4753,  34.8094,2,  34.8073,2, 215.3000,2,   220.4,2,    2.51,2,    3.09,2,    0.02,2,    0.24,2,   2.499,2,   1.505,2,   0.139,2,  2015.7,2,  2284.5,2,-999.000,9,-999.0000,9, -999.00,9, -999.00,9,  -999.0,9,  -999.0,-999.000,9,-999.000,   57.40,2,  199.50,-999.0000,9,-999.0000,9,-999.0000,9,-999.0000,9,-999.0000,9,-999.0000,-999.000,-999.0000,9, -999.00
318M20040615,        P02,      22,          1,         23,         23,2,20040624,       0338,     30.002,   138.7935,       2359,   249.5,  17.2469,  34.7998,2,  34.7969,2, 220.1000,2,   220.9,2,    3.05,2,    3.46,2,    0.01,2,    0.26,2,   2.500,2,   1.518,2,   0.127,2,  2017.9,2,  2284.4,2,-999.000,9,-999.0000,9, -999.00,9, -999.00,9,  -999.0,9,  -999.0,-999.000,9,-999.000,   56.00,2,  249.50,-999.0000,9,-999.0000,9,-999.0000,9,-999.0000,9,-999.0000,9,-999.0000,-999.000,-999.0000,9, -999.00
318M20040615,        P02,      22,          1,         22,         22,2,20040624,       0338,     30.002,   138.7935,       2359,   299.5,  17.1193,  34.7983,2,  34.7959,2, 216.7000,2,   222.9,2,    3.05,2,    3.63,2,    0.01,2,    0.27,2,   2.507,2,   1.512,2,   0.129,2,  2019.1,2,  2283.3,2,-999.000,9,-999.0000,9, -999.00,9, -999.00,9,  -999.0,9,  -999.0,-999.000,9,-999.000,   55.00,2,  299.50,-999.0000,9,-999.0000,9,-999.0000,9,-999.0000,9,-999.0000,9,-999.0000,-999.000,-999.0000,9, -999.00
318M20040615,        P02,      22,          1,         21,         21,2,20040624,       0338,     30.002,   138.7935,       2359,   349.9,  16.8310,  34.7649,2,  34.7619,2, 215.1000,2,   215.2,2,    4.14,2,    4.77,2,    0.01,2,    0.34,2,   2.521,2,   1.509,2,   0.086,2,  2026.9,2,  2282.1,2,-999.000,9,-999.0000,9, -999.00,9, -999.00,9,  -999.0,9,  -999.0,-999.000,9,-999.000,   54.00,2,  349.90,-999.0000,9,-999.0000,9,-999.0000,9,-999.0000,9,-999.0000,9,-999.0000,-999.000,-999.0000,9, -999.00
318M20040615,        P02,      22,          1,         20,         20,2,20040624,       0338,     30.002,   138.7935,       2359,   399.7,  16.2423,  34.7024,2,  34.6974,2, 201.7000,2,   201.9,2,    6.49,2,    6.96,2,    0.00,2,    0.49,2,   2.520,2,   1.494,2,   0.049,2,  2043.1,2,  2278.3,2,-999.000,9,-999.0000,9, -999.00,9, -999.00,9,  -999.0,9,  -999.0,-999.000,9,-999.000,   52.70,2,  399.70,-999.0000,9,-999.0000,9,-999.0000,9,-999.0000,9,-999.0000,9,-999.0000,-999.000,-999.0000,9, -999.00
318M20040615,        P02,      22,          1,         19,         19,2,20040624,       0338,     30.002,   138.7935,       2359,   449.8,  15.3017,  34.6240,2,  34.6208,2, 190.6000,2,   190.7,2,    9.58,2,    9.46,2,    0.00,2,    0.66,2,   2.562,2,   1.483,2,   0.031,2,  2062.8,2,  2277.1,2,-999.000,9,-999.0000,9, -999.00,9, -999.00,9,  -999.0,9,  -999.0,-999.000,9,-999.000,   51.60,2,  449.80,-999.0000,9,-999.0000,9,-999.0000,9,-999.0000,9,-999.0000,9,-999.0000,-999.000,-999.0000,9, -999.00
318M20040615,        P02,      22,          1,         18,         18,2,20040624,       0338,     30.002,   138.7935,       2359,   499.5,  13.7812,  34.5169,2,  34.5098,2, 182.9000,2,   183.1,2,   14.84,2,   12.59,2,    0.00,2,    0.89,2,   2.557,2,   1.446,2,   0.037,2,  2085.9,2,  2276.8,2,-999.000,9,-999.0000,9, -999.00,9, -999.00,9,  -999.0,9,  -999.0,-999.000,9,-999.000,   49.60,2,  499.50,-999.0000,9,-999.0000,9,-999.0000,9,-999.0000,9,-999.0000,9,-999.0000,-999.000,-999.0000,9, -999.00
318M20040615,        P02,      22,          1,         17,         17,2,20040624,       0338,     30.002,   138.7935,       2359,   600.1,  10.6015,  34.2932,2,  34.2914,2, 173.1000,2,   173.2,2,   27.75,2,   18.57,2,    0.00,2,    1.34,2,   2.492,2,   1.335,2,   0.066,2,  2131.5,2,  2273.2,2,-999.000,9,-999.0000,9, -999.00,9, -999.00,9,  -999.0,9,  -999.0,-999.000,9,-999.000,   48.00,2,  600.10,-999.0000,9,-999.0000,9,-999.0000,9,-999.0000,9,-999.0000,9,-999.0000,-999.000,-999.0000,9, -999.00
318M20040615,        P02,      22,          1,         16,         16,2,20040624,       0338,     30.002,   138.7935,       2359,   700.6,   8.2129,  34.1932,2,  34.1914,2, 141.4000,2,   141.8,2,   47.66,2,   25.49,2,    0.00,2,    1.87,2,   2.021,2,   1.036,2,   0.061,2,  2186.9,2,  2295.8,2,-999.000,9,-999.0000,9, -999.00,9, -999.00,9,  -999.0,9,  -999.0,-999.000,9,-999.000,   46.70,2,  700.60,-999.0000,9,-999.0000,9,-999.0000,9,-999.0000,9,-999.0000,9,-999.0000,-999.000,-999.0000,9, -999.00
318M20040615,        P02,      22,          1,         15,         15,2,20040624,       0338,     30.002,   138.7935,       2359,   800.9,   6.4091,  34.1628,2,  34.1614,2, 113.0000,2,   112.0,2,   68.94,2,   31.33,2,    0.00,2,    2.30,2,   1.509,2,   0.736,2,   0.049,2,  2237.8,2,  2313.3,2,-999.000,9,-999.0000,9, -999.00,9, -999.00,9,  -999.0,9,  -999.0,-999.000,9,-999.000,   44.70,2,  800.90,-999.0000,9,-999.0000,9,-999.0000,9,-999.0000,9,-999.0000,9,-999.0000,-999.000,-999.0000,9, -999.00
318M20040615,        P02,      22,          1,         14,         14,2,20040624,       0338,     30.002,   138.7935,       2359,   901.6,   4.9351,  34.2111,2,  34.2088,2,  82.7000,2,    78.3,2,   92.91,2,   36.63,2,    0.00,2,    2.68,2,   0.871,2,   0.409,2,   0.030,2,  2287.4,2,  2326.6,2,-999.000,9,-999.0000,9, -999.00,9, -999.00,9,  -999.0,9,  -999.0,-999.000,9,-999.000,   42.70,2,  901.60,-999.0000,9,-999.0000,9,-999.0000,9,-999.0000,9,-999.0000,9,-999.0000,-999.000,-999.0000,9, -999.00
318M20040615,        P02,      22,          1,         13,         13,2,20040624,       0338,     30.002,   138.7935,       2359,  1002.3,   4.3593,  34.2936,2,  34.2928,2,  66.1000,2,    65.2,2,  106.99,2,   38.58,2,    0.00,2,    2.83,2,   0.483,2,   0.232,2,   0.013,2,  2311.9,2,  2345.1,2,-999.000,9,-999.0000,9, -999.00,9, -999.00,9,  -999.0,9,  -999.0,-999.000,9,-999.000,   40.70,2, 1002.30,-999.0000,9,-999.0000,9,-999.0000,9,-999.0000,9,-999.0000,9,-999.0000,-999.000,-999.0000,9, -999.00
318M20040615,        P02,      22,          1,         12,         12,2,20040624,       0338,     30.002,   138.7935,       2359,  1097.5,   3.8374,  34.3477,2,  34.3465,2,  58.8000,2,    58.9,2,  118.33,2,   39.73,2,    0.00,2,    2.91,2,   0.301,2,   0.138,2,   0.008,2,  2329.0,6,  2357.2,2,-999.000,9,-999.0000,9, -999.00,9, -999.00,9,  -999.0,9,  -999.0,-999.000,9,-999.000,   39.40,2, 1097.50,-999.0000,9,-999.0000,9,-999.0000,9,-999.0000,9,-999.0000,9,-999.0000,-999.000,-999.0000,9, -999.00
318M20040615,        P02,      22,          1,         11,         11,2,20040624,       0338,     30.002,   138.7935,       2359,  1198.7,   3.5623,  34.3955,2,  34.3960,2,  60.5000,2,    60.4,2,  124.88,2,   40.00,2,    0.00,2,    2.93,2,   0.200,2,   0.093,2,   0.005,2,  2336.4,2,  2366.1,2,-999.000,9,-999.0000,9, -999.00,9, -999.00,9,  -999.0,9,  -999.0,-999.000,9,-999.000,   38.80,2, 1198.70,-999.0000,9,-999.0000,9,-999.0000,9,-999.0000,9,-999.0000,9,-999.0000,-999.000,-999.0000,9, -999.00
318M20040615,        P02,      22,          1,         10,         10,2,20040624,       0338,     30.002,   138.7935,       2359,  1299.7,   3.1808,  34.4426,2,  34.4411,2,  62.1000,2,    62.4,2,  132.52,2,   40.26,2,    0.00,2,    2.95,2,   0.117,2,   0.060,2,   0.006,2,  2345.4,2,  2378.4,2,-999.000,9,-999.0000,9, -999.00,9, -999.00,9,  -999.0,9,  -999.0,-999.000,9,-999.000,   38.50,2, 1299.70,-999.0000,9,-999.0000,9,-999.0000,9,-999.0000,9,-999.0000,9,-999.0000,-999.000,-999.0000,9, -999.00
318M20040615,        P02,      22,          1,          9,          9,2,20040624,       0338,     30.002,   138.7935,       2359,  1400.1,   2.9714,  34.4732,2,  34.4721,2,  67.6000,2,    67.7,2,  136.28,2,   40.10,2,    0.00,2,    2.93,2,   0.089,6,   0.044,6,   0.004,6,  2347.0,2,  2385.2,2,-999.000,9,-999.0000,9, -999.00,9, -999.00,9,  -999.0,9,  -999.0,-999.000,9,-999.000,   38.20,2, 1400.10,-999.0000,9,-999.0000,9,-999.0000,9,-999.0000,9,-999.0000,9,-999.0000,-999.000,-999.0000,9, -999.00
318M20040615,        P02,      22,          1,          8,          8,2,20040624,       0338,     30.002,   138.7935,       2359,  1500.7,   2.7589,  34.4980,2,  34.4969,2,  71.5000,2,    71.6,2,  140.03,2,   40.03,2,    0.00,2,    2.92,2,   0.061,2,   0.030,2,   0.001,2,  2349.8,2,  2389.4,2,-999.000,9,-999.0000,9, -999.00,9, -999.00,9,  -999.0,9,  -999.0,-999.000,9,-999.000,   37.70,2, 1500.70,-999.0000,9,-999.0000,9,-999.0000,9,-999.0000,9,-999.0000,9,-999.0000,-999.000,-999.0000,9, -999.00
318M20040615,        P02,      22,          1,          7,          7,2,20040624,       0338,     30.002,   138.7935,       2359,  1602.3,   2.5114,  34.5263,2,  34.5242,2,  75.8000,2,    75.3,2,  144.51,2,   40.02,2,    0.00,2,    2.91,2,   0.042,2,   0.023,2,   0.004,2,  2351.5,2,  2393.7,2,-999.000,9,-999.0000,9, -999.00,9, -999.00,9,  -999.0,9,  -999.0,-999.000,9,-999.000,   38.00,2, 1602.30,-999.0000,9,-999.0000,9,-999.0000,9,-999.0000,9,-999.0000,9,-999.0000,-999.000,-999.0000,9, -999.00
318M20040615,        P02,      22,          1,          6,          6,2,20040624,       0338,     30.002,   138.7935,       2359,  1702.3,   2.3793,  34.5465,2,  34.5452,2,  83.7000,2,    83.5,2,  145.32,2,   39.59,2,    0.00,2,    2.88,2,   0.030,2,   0.020,2,   0.001,2,  2349.6,2,  2397.7,2,-999.000,9,-999.0000,9, -999.00,9, -999.00,9,  -999.0,9,  -999.0,-999.000,9,-999.000,   38.00,2, 1702.30,-999.0000,9,-999.0000,9,-999.0000,9,-999.0000,9,-999.0000,9,-999.0000,-999.000,-999.0000,9, -999.00
318M20040615,        P02,      22,          1,          5,          5,2,20040624,       0338,     30.002,   138.7935,       2359,  1806.9,   2.2397,  34.5660,2,  34.5646,2,  90.1000,2,    91.1,2,  146.65,2,   39.24,2,    0.00,2,    2.85,2,   0.020,2,   0.017,2,   0.004,2,  2348.8,2,  2400.5,2,-999.000,9,-999.0000,9, -999.00,9, -999.00,9,  -999.0,9,  -999.0,-999.000,9,-999.000,   37.80,2, 1806.90,-999.0000,9,-999.0000,9,-999.0000,9,-999.0000,9,-999.0000,9,-999.0000,-999.000,-999.0000,9, -999.00
318M20040615,        P02,      22,          1,          4,          4,2,20040624,       0338,     30.002,   138.7935,       2359,  1903.3,   2.1515,  34.5784,2,  34.5772,2,  94.4000,2,    94.8,2,  147.43,2,   38.97,2,    0.00,2,    2.84,2,   0.017,2,   0.015,2,   0.000,2,  2347.8,2,  2403.3,2,-999.000,9,-999.0000,9, -999.00,9, -999.00,9,  -999.0,9,  -999.0,-999.000,9,-999.000,   38.20,2, 1903.30,-999.0000,9,-999.0000,9,-999.0000,9,-999.0000,9,-999.0000,9,-999.0000,-999.000,-999.0000,9, -999.00
318M20040615,        P02,      22,          1,          3,          3,2,20040624,       0338,     30.002,   138.7935,       2359,  1996.2,   2.0376,  34.5940,2,  34.5927,2,  99.8000,2,   101.1,2,  148.02,2,   38.70,2,    0.00,2,    2.81,2,   0.013,2,   0.009,2,   0.004,2,  2346.2,2,  2405.7,2,-999.000,9,-999.0000,9, -999.00,9, -999.00,9,  -999.0,9,  -999.0,-999.000,9,-999.000,   38.00,2, 1996.20,-999.0000,9,-999.0000,9,-999.0000,9,-999.0000,9,-999.0000,9,-999.0000,-999.000,-999.0000,9, -999.00
318M20040615,        P02,      22,          1,          2,          2,2,20040624,       0338,     30.002,   138.7935,       2359,  2204.6,   1.8089,  34.6273,2,  34.6265,2, 116.3000,2,   117.7,2,  147.83,2,   37.75,2,    0.00,2,    2.73,2,   0.007,2,   0.007,2,   0.003,2,  2339.9,2,  2410.5,2,-999.000,9,-999.0000,9, -999.00,9, -999.00,9,  -999.0,9,  -999.0,-999.000,9,-999.000,   37.80,2, 2204.60,-999.0000,9,-999.0000,9,-999.0000,9,-999.0000,9,-999.0000,9,-999.0000,-999.000,-999.0000,9, -999.00
318M20040615,        P02,      22,          1,          1,          1,2,20040624,       0338,     30.002,   138.7935,       2359,  2387.9,   1.7487,  34.6375,2,  34.6372,2, 123.4000,2,   123.7,2,  146.92,2,   37.42,2,    0.00,2,    2.70,2,   0.006,2,   0.007,2,   0.004,2,  2336.9,6,  2410.2,2,-999.000,9,-999.0000,9, -999.00,9, -999.00,9,  -999.0,9,  -999.0,-999.000,9,-999.000,   37.60,2, 2387.90,-999.0000,9,-999.0000,9,-999.0000,9,-999.0000,9,-999.0000,9,-999.0000,-999.000,-999.0000,9, -999.00