BOTTLE,20131027SIOCCHRJL
EXPOCODE,SECT_ID,STNNBR,CASTNO,SAMPNO,BTLNBR,BTLNBR_FLAG_W,DATE,TIME,LATITUDE,LONGITUDE,DEPTH,CTDPRS,CTDTMP,CTDSAL,CTDSAL_FLAG_W,SALNTY,SALNTY_FLAG_W,CTDOXY,CTDOXY_FLAG_W,OXYGEN,OXYGEN_FLAG_W,SILCAT,SILCAT_FLAG_W,NITRAT,NITRAT_FLAG_W,NITRIT,NITRIT_FLAG_W,PHSPHT,PHSPHT_FLAG_W,CFC-11,CFC-11_FLAG_W,CFC-12,CFC-12_FLAG_W,CFC113,CFC113_FLAG_W,TCARBN,TCARBN_FLAG_W,ALKALI,ALKALI_FLAG_W,TRITUM,TRITUM_FLAG_W,HELIUM,HELIUM_FLAG_W,DELHE3,DELHE3_FLAG_W,DELC13,DELC13_FLAG_W,DELC14,DELC14_FLAG_W,C14ERR,NEON,NEON_FLAG_W,NEONER,DOC,DOC_FLAG_W,CTDRAW,CDOM380,CDOM380_FLAG_W,CDOM325,CDOM325_FLAG_W,CDOMSL,CDOMSL_FLAG_W,CDOM340,CDOM340_FLAG_W,CDOMSN,CDOMSN_FLAG_W,HELIER,TRITER,CDOM412,CDOM412_FLAG_W,DELHER
,,,,,,,,,,,METERS,DBAR,ITS-90,PSS-78,,PSS-78,,UMOL/KG,,UMOL/KG,,UMOL/KG,,UMOL/KG,,UMOL/KG,,UMOL/KG,,PMOL/KG,,PMOL/KG,,PMOL/KG,,UMOL/KG,,UMOL/KG,,TU,,NMOL/KG,,PERCNT,,/MILLE,,/MILLE,,/MILLE,NMOL/KG,,NMOL/KG,UMOL/KG,,DBAR,1/M,,1/M,,1/NM,,1/M,,1/NM,,NMOL/KG,TU,1/M,,PERCNT
318M20040615,        P02,      48,          1,         36,         36,2,20040703,       0946,    30.0005,   155.3478,       5765,    13.0,  26.5110,  34.6667,2,  34.6663,2, 207.6000,2,   206.5,2,    1.26,2,    0.00,2,    0.00,2,    0.04,2,   1.765,2,   1.114,2,   0.122,2,  1955.7,6,  2278.5,6,-999.000,9,-999.0000,9, -999.00,9, -999.00,9,  -999.0,9,  -999.0,-999.000,9,-999.000,   69.50,2,   13.00,   0.0090,2,   0.0520,2,   0.0300,2,   0.0330,2,   0.0310,2,-999.0000,-999.000,   0.0030,3, -999.00
318M20040615,        P02,      48,          1,         35,         35,2,20040703,       0946,    30.0005,   155.3478,       5765,    43.3,  22.3544,  34.7365,2,  34.7353,2, 219.1000,2,   215.7,2,    1.42,2,    0.00,2,    0.00,2,    0.07,2,   2.030,2,   1.253,2,   0.109,2,  1974.5,2,  2284.0,2,-999.000,9,-999.0000,9, -999.00,9, -999.00,9,  -999.0,9,  -999.0,-999.000,9,-999.000,   66.70,2,   43.30,-999.0000,9,-999.0000,9,-999.0000,9,-999.0000,9,-999.0000,9,-999.0000,-999.000,-999.0000,9, -999.00
318M20040615,        P02,      48,          1,         34,         34,2,20040703,       0946,    30.0005,   155.3478,       5765,    87.3,  20.3685,  34.8078,2,  34.8029,2, 196.2000,2,   201.1,2,    3.06,2,    2.62,2,    0.04,2,    0.22,2,   2.170,2,   1.328,2,   0.097,2,  2005.1,2,  2287.3,2,-999.000,9,-999.0000,9, -999.00,9, -999.00,9,  -999.0,9,  -999.0,-999.000,9,-999.000,   60.80,2,   87.30,-999.0000,9,-999.0000,9,-999.0000,9,-999.0000,9,-999.0000,9,-999.0000,-999.000,-999.0000,9, -999.00
318M20040615,        P02,      48,          1,         33,         33,2,20040703,       0946,    30.0005,   155.3478,       5765,   138.0,  18.5495,  34.8268,2,  34.8231,2, 208.2000,2,   220.3,2,    2.67,2,    1.45,2,    0.34,2,    0.17,2,   2.372,2,   1.427,2,   0.134,2,  2006.6,2,  2288.3,2,-999.000,9,-999.0000,9, -999.00,9, -999.00,9,  -999.0,9,  -999.0,-999.000,9,-999.000,   57.10,2,  138.00,   0.0610,2,   0.1460,2,   0.0130,2,   0.1110,2,   0.0140,2,-999.0000,-999.000,   0.0440,2, -999.00
318M20040615,        P02,      48,          1,         32,         32,2,20040703,       0946,    30.0005,   155.3478,       5765,   187.3,  17.3453,  34.7863,2,  34.7848,2, 216.3000,2,   220.8,2,    3.20,2,    3.02,2,    0.02,2,    0.24,2,   2.460,2,   1.487,2,   0.139,2,  2016.5,2,  2287.9,2,-999.000,9,-999.0000,9, -999.00,9, -999.00,9,  -999.0,9,  -999.0,-999.000,9,-999.000,   54.80,2,  187.30,-999.0000,9,-999.0000,9,-999.0000,9,-999.0000,9,-999.0000,9,-999.0000,-999.000,-999.0000,9, -999.00
318M20040615,        P02,      48,          1,         31,         31,2,20040703,       0946,    30.0005,   155.3478,       5765,   238.1,  17.1849,  34.8061,2,  34.8062,2, 222.6000,2,   221.4,2,    3.54,2,    3.51,2,    0.01,2,    0.26,2,   2.467,6,   1.473,6,   0.133,6,  2018.5,2,  2287.2,2,-999.000,9,-999.0000,9, -999.00,9, -999.00,9,  -999.0,9,  -999.0,-999.000,9,-999.000,   53.10,2,  238.10,-999.0000,9,-999.0000,9,-999.0000,9,-999.0000,9,-999.0000,9,-999.0000,-999.000,-999.0000,9, -999.00
318M20040615,        P02,      48,          1,         30,         30,2,20040703,       0946,    30.0005,   155.3478,       5765,   286.9,  16.9361,  34.7895,2,  34.7878,2, 223.0000,2,   222.0,2,    3.88,2,    3.89,2,    0.01,2,    0.28,2,   2.483,2,   1.480,2,   0.134,2,  2021.8,2,  2284.8,2,-999.000,9,-999.0000,9, -999.00,9, -999.00,9,  -999.0,9,  -999.0,-999.000,9,-999.000,   51.90,2,  286.90,-999.0000,9,-999.0000,9,-999.0000,9,-999.0000,9,-999.0000,9,-999.0000,-999.000,-999.0000,9, -999.00
318M20040615,        P02,      48,          1,         29,         29,2,20040703,       0946,    30.0005,   155.3478,       5765,   336.1,  16.6634,  34.7713,2,  34.7705,2, 212.0000,2,   221.1,2,    4.41,2,    4.49,2,    0.01,2,    0.32,2,   2.524,2,   1.497,2,   0.123,2,  2026.3,2,  2284.8,2,-999.000,9,-999.0000,9, -999.00,9, -999.00,9,  -999.0,9,  -999.0,-999.000,9,-999.000,   50.80,2,  336.10,   0.0700,2,   0.1490,2,   0.0110,2,   0.1150,2,   0.0120,2,-999.0000,-999.000,   0.0540,2, -999.00
318M20040615,        P02,      48,          1,         28,         28,2,20040703,       0946,    30.0005,   155.3478,       5765,   387.6,  16.1349,  34.7026,2,  34.7030,2, 203.9000,2,   206.4,2,    6.79,2,    6.59,2,    0.01,2,    0.47,2,   2.544,2,   1.485,2,   0.077,2,  2040.5,2,  2281.6,2,-999.000,9,-999.0000,9, -999.00,9, -999.00,9,  -999.0,9,  -999.0,-999.000,9,-999.000,   49.80,2,  387.60,-999.0000,9,-999.0000,9,-999.0000,9,-999.0000,9,-999.0000,9,-999.0000,-999.000,-999.0000,9, -999.00
318M20040615,        P02,      48,          1,         27,         27,2,20040703,       0946,    30.0005,   155.3478,       5765,   437.3,  15.1518,  34.6172,2,  34.6168,2, 189.2000,2,   188.5,2,   10.81,2,    9.74,2,    0.01,2,    0.68,2,   2.539,2,   1.441,2,   0.037,2,  2065.1,2,  2279.4,2,-999.000,9,-999.0000,9, -999.00,9, -999.00,9,  -999.0,9,  -999.0,-999.000,9,-999.000,   48.80,2,  437.30,-999.0000,9,-999.0000,9,-999.0000,9,-999.0000,9,-999.0000,9,-999.0000,-999.000,-999.0000,9, -999.00
318M20040615,        P02,      48,          1,         26,         26,2,20040703,       0946,    30.0005,   155.3478,       5765,   486.3,  13.8770,  34.5257,2,  34.5248,2, 177.6000,2,   178.7,2,   15.94,2,   12.55,2,    0.01,2,    0.90,2,   2.473,2,   1.376,2,   0.029,2,  2088.1,2,  2279.0,2,-999.000,9,-999.0000,9, -999.00,9, -999.00,9,  -999.0,9,  -999.0,-999.000,9,-999.000,   46.50,2,  486.30,-999.0000,9,-999.0000,9,-999.0000,9,-999.0000,9,-999.0000,9,-999.0000,-999.000,-999.0000,9, -999.00
318M20040615,        P02,      48,          1,         25,         25,2,20040703,       0946,    30.0005,   155.3478,       5765,   567.5,  10.9621,  34.3032,2,  34.3031,2, 186.7000,2,   187.1,2,   23.26,2,   16.42,2,    0.01,2,    1.18,2,   2.707,2,   1.472,2,   0.076,2,  2115.9,2,  2274.7,2,-999.000,9,-999.0000,9, -999.00,9, -999.00,9,  -999.0,9,  -999.0,-999.000,9,-999.000,   45.50,2,  567.50,-999.0000,9,-999.0000,9,-999.0000,9,-999.0000,9,-999.0000,9,-999.0000,-999.000,-999.0000,9, -999.00
318M20040615,        P02,      48,          1,         24,         24,2,20040703,       0946,    30.0005,   155.3478,       5765,   668.7,   7.5994,  34.0563,2,  34.0539,2, 174.7000,2,   169.4,2,   41.98,2,   24.16,2,    0.00,2,    1.76,2,   2.623,2,   1.382,2,   0.118,2,  2171.8,2,  2278.6,2,-999.000,9,-999.0000,9, -999.00,9, -999.00,9,  -999.0,9,  -999.0,-999.000,9,-999.000,   44.80,2,  668.70,-999.0000,9,-999.0000,9,-999.0000,9,-999.0000,9,-999.0000,9,-999.0000,-999.000,-999.0000,9, -999.00
318M20040615,        P02,      48,          1,         23,         23,2,20040703,       0946,    30.0005,   155.3478,       5765,   768.5,   5.2552,  34.0113,2,  34.0002,2, 135.3000,2,   124.9,2,   70.58,2,   32.47,2,    0.00,2,    2.38,2,   2.126,2,   1.102,2,   0.109,2,  2239.1,2,  2298.4,2,-999.000,9,-999.0000,9, -999.00,9, -999.00,9,  -999.0,9,  -999.0,-999.000,9,-999.000,   43.80,2,  768.50,-999.0000,9,-999.0000,9,-999.0000,9,-999.0000,9,-999.0000,9,-999.0000,-999.000,-999.0000,9, -999.00
318M20040615,        P02,      48,          1,         22,         22,2,20040703,       0946,    30.0005,   155.3478,       5765,   870.0,   4.5837,  34.1345,2,  34.1323,2,  81.9000,2,    75.2,2,   93.15,2,   37.91,2,    0.00,2,    2.73,2,   1.107,2,   0.558,2,   0.044,2,  2291.1,2,  2321.0,2,-999.000,9,-999.0000,9, -999.00,9, -999.00,9,  -999.0,9,  -999.0,-999.000,9,-999.000,   42.70,2,  870.00,-999.0000,9,-999.0000,9,-999.0000,9,-999.0000,9,-999.0000,9,-999.0000,-999.000,-999.0000,9, -999.00
318M20040615,        P02,      48,          1,         21,         21,2,20040703,       0946,    30.0005,   155.3478,       5765,   969.4,   4.0817,  34.2291,2,  34.2270,2,  56.7000,2,    53.8,2,  108.97,2,   40.38,2,    0.00,2,    2.89,2,   0.599,2,   0.302,2,   0.023,2,  2320.7,2,  2338.3,2,-999.000,9,-999.0000,9, -999.00,9, -999.00,9,  -999.0,9,  -999.0,-999.000,9,-999.000,   41.80,2,  969.40,-999.0000,9,-999.0000,9,-999.0000,9,-999.0000,9,-999.0000,9,-999.0000,-999.000,-999.0000,9, -999.00
318M20040615,        P02,      48,          1,         20,         20,2,20040703,       0946,    30.0005,   155.3478,       5765,  1070.0,   3.6115,  34.3055,2,  34.3035,2,  43.9000,2,    43.5,2,  122.81,2,   41.59,2,    0.00,2,    2.99,2,   0.314,2,   0.163,2,   0.007,2,  2342.5,2,  2356.0,2,-999.000,9,-999.0000,9, -999.00,9, -999.00,9,  -999.0,9,  -999.0,-999.000,9,-999.000,   40.50,2, 1070.00,-999.0000,9,-999.0000,9,-999.0000,9,-999.0000,9,-999.0000,9,-999.0000,-999.000,-999.0000,9, -999.00
318M20040615,        P02,      48,          1,         19,         19,2,20040703,       0946,    30.0005,   155.3478,       5765,  1170.5,   3.2783,  34.3635,2,  34.3627,2,  40.8000,2,    40.3,2,  132.25,2,   42.05,2,    0.00,2,    3.03,2,   0.185,2,   0.101,2,   0.006,2,  2354.2,2,  2369.3,2,-999.000,9,-999.0000,9, -999.00,9, -999.00,9,  -999.0,9,  -999.0,-999.000,9,-999.000,   39.90,2, 1170.50,-999.0000,9,-999.0000,9,-999.0000,9,-999.0000,9,-999.0000,9,-999.0000,-999.000,-999.0000,9, -999.00
318M20040615,        P02,      48,          1,         18,         18,2,20040703,       0946,    30.0005,   155.3478,       5765,  1271.3,   2.9739,  34.4142,2,  34.4135,2,  40.0000,2,    39.4,2,  141.15,2,   42.38,2,    0.00,2,    3.06,2,   0.106,2,   0.056,2,   0.001,2,  2363.6,6,  2379.3,6,-999.000,9,-999.0000,9, -999.00,9, -999.00,9,  -999.0,9,  -999.0,-999.000,9,-999.000,   39.20,2, 1271.30,-999.0000,9,-999.0000,9,-999.0000,9,-999.0000,9,-999.0000,9,-999.0000,-999.000,-999.0000,9, -999.00
318M20040615,        P02,      48,          1,         17,         17,2,20040703,       0946,    30.0005,   155.3478,       5765,  1372.0,   2.7804,  34.4457,2,  34.4432,2,  38.2000,2,    37.9,2,  146.72,2,   42.79,2,    0.00,2,    3.07,2,   0.063,2,   0.036,2,   0.001,2,  2371.1,2,  2385.6,2,-999.000,9,-999.0000,9, -999.00,9, -999.00,9,  -999.0,9,  -999.0,-999.000,9,-999.000,   38.90,2, 1372.00,-999.0000,9,-999.0000,9,-999.0000,9,-999.0000,9,-999.0000,9,-999.0000,-999.000,-999.0000,9, -999.00
318M20040615,        P02,      48,          1,         16,         16,2,20040703,       0946,    30.0005,   155.3478,       5765,  1472.5,   2.6075,  34.4741,2,  34.4710,2,  38.5000,2,    39.0,2,  151.94,2,   42.84,2,    0.00,2,    3.07,2,   0.040,2,   0.024,2,   0.002,2,  2374.9,2,  2392.2,2,-999.000,9,-999.0000,9, -999.00,9, -999.00,9,  -999.0,9,  -999.0,-999.000,9,-999.000,   37.80,2, 1472.50,-999.0000,9,-999.0000,9,-999.0000,9,-999.0000,9,-999.0000,9,-999.0000,-999.000,-999.0000,9, -999.00
318M20040615,        P02,      48,          1,         15,         15,2,20040703,       0946,    30.0005,   155.3478,       5765,  1574.2,   2.4663,  34.5078,2,  34.5056,2,  40.3000,2,    42.0,2,  155.70,2,   42.85,2,    0.00,2,    3.07,2,   0.013,2,   0.012,2,   0.001,2,  2379.0,2,  2398.3,2,-999.000,9,-999.0000,9, -999.00,9, -999.00,9,  -999.0,9,  -999.0,-999.000,9,-999.000,   37.60,2, 1574.20,-999.0000,9,-999.0000,9,-999.0000,9,-999.0000,9,-999.0000,9,-999.0000,-999.000,-999.0000,9, -999.00
318M20040615,        P02,      48,          1,         14,         14,2,20040703,       0946,    30.0005,   155.3478,       5765,  1770.8,   2.2308,  34.5539,2,  34.5531,2,  56.1000,2,    57.4,2,  158.83,2,   41.90,2,    0.00,2,    3.00,2,   0.005,2,   0.007,2,   0.002,2,  2374.3,2,  2405.5,2,-999.000,9,-999.0000,9, -999.00,9, -999.00,9,  -999.0,9,  -999.0,-999.000,9,-999.000,   37.30,2, 1770.80,-999.0000,9,-999.0000,9,-999.0000,9,-999.0000,9,-999.0000,9,-999.0000,-999.000,-999.0000,9, -999.00
318M20040615,        P02,      48,          1,         13,         13,2,20040703,       0946,    30.0005,   155.3478,       5765,  1967.6,   2.0115,  34.5914,2,  34.5902,2,  72.9000,2,    75.9,2,  159.90,2,   40.91,2,    0.00,2,    2.91,2,   0.002,2,   0.006,2,  -0.001,2,  2367.9,2,  2410.8,2,-999.000,9,-999.0000,9, -999.00,9, -999.00,9,  -999.0,9,  -999.0,-999.000,9,-999.000,   37.40,2, 1967.60,-999.0000,9,-999.0000,9,-999.0000,9,-999.0000,9,-999.0000,9,-999.0000,-999.000,-999.0000,9, -999.00
318M20040615,        P02,      48,          1,         12,         12,2,20040703,       0946,    30.0005,   155.3478,       5765,  2171.1,   1.8653,  34.6144,2,  34.6128,2,  88.8000,2,    89.5,2,  159.86,2,   40.26,2,    0.00,2,    2.85,2,   0.001,2,  -0.002,2,   0.000,2,  2361.2,2,  2414.3,2,-999.000,9,-999.0000,9, -999.00,9, -999.00,9,  -999.0,9,  -999.0,-999.000,9,-999.000,   37.60,2, 2171.10,-999.0000,9,-999.0000,9,-999.0000,9,-999.0000,9,-999.0000,9,-999.0000,-999.000,-999.0000,9, -999.00
318M20040615,        P02,      48,          1,         11,         11,2,20040703,       0946,    30.0005,   155.3478,       5765,  2414.4,   1.7250,  34.6361,2,  34.6346,2, 103.4000,2,   104.3,2,  159.08,2,   39.51,2,    0.00,2,    2.77,2,   0.002,2,   0.000,2,   0.001,2,  2355.2,2,  2415.8,2,-999.000,9,-999.0000,9, -999.00,9, -999.00,9,  -999.0,9,  -999.0,-999.000,9,-999.000,   38.10,2, 2414.40,-999.0000,9,-999.0000,9,-999.0000,9,-999.0000,9,-999.0000,9,-999.0000,-999.000,-999.0000,9, -999.00
318M20040615,        P02,      48,          1,         10,         10,2,20040703,       0946,    30.0005,   155.3478,       5765,  2668.1,   1.6326,  34.6504,2,  34.6488,2, 115.1000,2,   115.8,2,  157.91,2,   38.69,2,    0.00,2,    2.72,2,   0.001,2,  -0.001,2,   0.001,2,  2347.9,2,  2417.6,2,-999.000,9,-999.0000,9, -999.00,9, -999.00,9,  -999.0,9,  -999.0,-999.000,9,-999.000,   37.80,2, 2668.10,-999.0000,9,-999.0000,9,-999.0000,9,-999.0000,9,-999.0000,9,-999.0000,-999.000,-999.0000,9, -999.00
318M20040615,        P02,      48,          1,          9,          9,2,20040703,       0946,    30.0005,   155.3478,       5765,  2916.2,   1.5686,  34.6609,2,  34.6586,2, 125.3000,2,   125.7,2,  156.00,2,   37.95,2,    0.00,2,    2.66,2,   0.001,2,   0.001,2,   0.000,2,  2343.7,2,  2416.4,6,-999.000,9,-999.0000,9, -999.00,9, -999.00,9,  -999.0,9,  -999.0,-999.000,9,-999.000,   37.40,2, 2916.20,-999.0000,9,-999.0000,9,-999.0000,9,-999.0000,9,-999.0000,9,-999.0000,-999.000,-999.0000,9, -999.00
318M20040615,        P02,      48,          1,          8,          8,2,20040703,       0946,    30.0005,   155.3478,       5765,  3246.5,   1.5131,  34.6699,2,  34.6694,2, 135.1000,2,   134.3,2,  155.23,2,   37.31,2,    0.00,2,    2.62,2,   0.001,2,   0.001,2,  -0.002,2,  2337.5,2,  2417.5,2,-999.000,9,-999.0000,9, -999.00,9, -999.00,9,  -999.0,9,  -999.0,-999.000,9,-999.000,   37.80,2, 3246.50,-999.0000,9,-999.0000,9,-999.0000,9,-999.0000,9,-999.0000,9,-999.0000,-999.000,-999.0000,9, -999.00
318M20040615,        P02,      48,          1,          7,          7,2,20040703,       0946,    30.0005,   155.3478,       5765,  3643.3,   1.4637,  34.6794,2,  34.6796,2, 145.5000,2,   146.4,2,  152.02,2,   36.46,2,    0.00,2,    2.56,2,   0.001,2,   0.002,2,  -0.002,2,  2329.4,2,  2416.6,2,-999.000,9,-999.0000,9, -999.00,9, -999.00,9,  -999.0,9,  -999.0,-999.000,9,-999.000,   38.30,2, 3643.30,-999.0000,9,-999.0000,9,-999.0000,9,-999.0000,9,-999.0000,9,-999.0000,-999.000,-999.0000,9, -999.00
318M20040615,        P02,      48,          1,          6,          6,2,20040703,       0946,    30.0005,   155.3478,       5765,  4040.4,   1.4537,  34.6847,2,  34.6844,2, 153.3000,2,   152.6,2,  150.12,2,   35.99,2,    0.00,2,    2.52,2,   0.004,2,   0.004,2,  -0.002,2,  2324.7,2,  2414.9,2,-999.000,9,-999.0000,9, -999.00,9, -999.00,9,  -999.0,9,  -999.0,-999.000,9,-999.000,   37.80,2, 4040.40,-999.0000,9,-999.0000,9,-999.0000,9,-999.0000,9,-999.0000,9,-999.0000,-999.000,-999.0000,9, -999.00
318M20040615,        P02,      48,          1,          5,          5,2,20040703,       0946,    30.0005,   155.3478,       5765,  4444.9,   1.4623,  34.6885,2,  34.6881,2, 158.2000,2,   158.8,2,  146.16,2,   35.54,2,    0.00,2,    2.49,2,   0.002,2,   0.001,2,  -0.001,2,  2319.1,2,  2412.6,2,-999.000,9,-999.0000,9, -999.00,9, -999.00,9,  -999.0,9,  -999.0,-999.000,9,-999.000,   37.40,2, 4444.90,-999.0000,9,-999.0000,9,-999.0000,9,-999.0000,9,-999.0000,9,-999.0000,-999.000,-999.0000,9, -999.00
318M20040615,        P02,      48,          1,          4,          4,2,20040703,       0946,    30.0005,   155.3478,       5765,  4842.3,   1.4789,  34.6914,2,  34.6899,2, 162.8000,2,   163.3,2,  143.35,2,   35.14,2,    0.00,2,    2.46,2,   0.003,2,   0.002,2,   0.000,2,  2315.1,2,  2410.7,2,-999.000,9,-999.0000,9, -999.00,9, -999.00,9,  -999.0,9,  -999.0,-999.000,9,-999.000,   37.70,2, 4842.30,-999.0000,9,-999.0000,9,-999.0000,9,-999.0000,9,-999.0000,9,-999.0000,-999.000,-999.0000,9, -999.00
318M20040615,        P02,      48,          1,          3,          3,2,20040703,       0946,    30.0005,   155.3478,       5765,  5191.9,   1.4983,  34.6934,2,  34.6924,2, 167.1000,2,   167.7,2,  140.14,2,   34.84,2,    0.00,2,    2.44,2,   0.002,2,   0.001,2,  -0.002,2,  2309.3,2,  2407.2,2,-999.000,9,-999.0000,9, -999.00,9, -999.00,9,  -999.0,9,  -999.0,-999.000,9,-999.000,   37.80,2, 5191.90,-999.0000,9,-999.0000,9,-999.0000,9,-999.0000,9,-999.0000,9,-999.0000,-999.000,-999.0000,9, -999.00
318M20040615,        P02,      48,          1,          2,          2,2,20040703,       0946,    30.0005,   155.3478,       5765,  5560.5,   1.5294,  34.6949,2,  34.6942,2, 170.1000,2,   170.1,2,  137.68,2,   34.67,2,    0.00,2,    2.42,2,   0.004,2,   0.006,2,   0.000,2,  2308.1,2,  2404.7,2,-999.000,9,-999.0000,9, -999.00,9, -999.00,9,  -999.0,9,  -999.0,-999.000,9,-999.000,   38.00,2, 5560.50,-999.0000,9,-999.0000,9,-999.0000,9,-999.0000,9,-999.0000,9,-999.0000,-999.000,-999.0000,9, -999.00
318M20040615,        P02,      48,          1,          1,          1,2,20040703,       0946,    30.0005,   155.3478,       5765,  5898.9,   1.5668,  34.6952,2,  34.6958,2, 170.6000,2,   171.1,2,  137.47,2,   34.72,2,    0.00,2,    2.41,2,   0.004,2,   0.008,2,  -0.001,2,  2307.0,6,  2405.4,6,-999.000,9,-999.0000,9, -999.00,9, -999.00,9,  -999.0,9,  -999.0,-999.000,9,-999.000,   37.60,2, 5898.90,-999.0000,9,-999.0000,9,-999.0000,9,-999.0000,9,-999.0000,9,-999.0000,-999.000,-999.0000,9, -999.00