BOTTLE,20131027SIOCCHRJL
EXPOCODE,SECT_ID,STNNBR,CASTNO,SAMPNO,BTLNBR,BTLNBR_FLAG_W,DATE,TIME,LATITUDE,LONGITUDE,DEPTH,CTDPRS,CTDTMP,CTDSAL,CTDSAL_FLAG_W,SALNTY,SALNTY_FLAG_W,CTDOXY,CTDOXY_FLAG_W,OXYGEN,OXYGEN_FLAG_W,SILCAT,SILCAT_FLAG_W,NITRAT,NITRAT_FLAG_W,NITRIT,NITRIT_FLAG_W,PHSPHT,PHSPHT_FLAG_W,CFC-11,CFC-11_FLAG_W,CFC-12,CFC-12_FLAG_W,CFC113,CFC113_FLAG_W,TCARBN,TCARBN_FLAG_W,ALKALI,ALKALI_FLAG_W,TRITUM,TRITUM_FLAG_W,HELIUM,HELIUM_FLAG_W,DELHE3,DELHE3_FLAG_W,DELC13,DELC13_FLAG_W,DELC14,DELC14_FLAG_W,C14ERR,NEON,NEON_FLAG_W,NEONER,DOC,DOC_FLAG_W,CTDRAW,CDOM380,CDOM380_FLAG_W,CDOM325,CDOM325_FLAG_W,CDOMSL,CDOMSL_FLAG_W,CDOM340,CDOM340_FLAG_W,CDOMSN,CDOMSN_FLAG_W,HELIER,TRITER,CDOM412,CDOM412_FLAG_W,DELHER
,,,,,,,,,,,METERS,DBAR,ITS-90,PSS-78,,PSS-78,,UMOL/KG,,UMOL/KG,,UMOL/KG,,UMOL/KG,,UMOL/KG,,UMOL/KG,,PMOL/KG,,PMOL/KG,,PMOL/KG,,UMOL/KG,,UMOL/KG,,TU,,NMOL/KG,,PERCNT,,/MILLE,,/MILLE,,/MILLE,NMOL/KG,,NMOL/KG,UMOL/KG,,DBAR,1/M,,1/M,,1/NM,,1/M,,1/NM,,NMOL/KG,TU,1/M,,PERCNT
318M20040615,        P02,      77,          1,         36,         36,2,20040713,       0714,    29.9993,   175.2452,       5170,     9.1,  25.7781,  35.0032,2,  35.0114,2, 211.8000,2,   210.1,2,    1.42,2,    0.05,2,    0.00,2,    0.02,2,   1.859,2,   1.134,2,   0.139,2,  1993.1,6,  2299.4,6,-999.000,9,-999.0000,9, -999.00,9, -999.00,9,  -999.0,9,  -999.0,-999.000,9,-999.000, -999.00,9,    9.10,-999.0000,9,-999.0000,9,-999.0000,9,-999.0000,9,-999.0000,9,-999.0000,-999.000,-999.0000,9, -999.00
318M20040615,        P02,      77,          1,         35,         35,2,20040713,       0714,    29.9993,   175.2452,       5170,    35.7,  21.3841,  34.9437,2,  34.9450,2, 232.7000,2,   233.2,2,    1.41,2,    0.05,2,    0.00,2,    0.02,2,   2.201,2,   1.331,2,   0.157,2,  1993.8,2,  2296.1,2,-999.000,9,-999.0000,9, -999.00,9, -999.00,9,  -999.0,9,  -999.0,-999.000,9,-999.000, -999.00,9,   35.70,-999.0000,9,-999.0000,9,-999.0000,9,-999.0000,9,-999.0000,9,-999.0000,-999.000,-999.0000,9, -999.00
318M20040615,        P02,      77,          1,         34,         34,2,20040713,       0714,    29.9993,   175.2452,       5170,    70.7,  18.6868,  34.8591,2,  34.8553,2, 231.4000,2,   236.6,2,    1.75,2,    0.04,2,    0.01,2,    0.06,2,   2.389,2,   1.421,2,   0.157,2,  2000.5,2,  2291.4,2,-999.000,9,-999.0000,9, -999.00,9, -999.00,9,  -999.0,9,  -999.0,-999.000,9,-999.000, -999.00,9,   70.70,-999.0000,9,-999.0000,9,-999.0000,9,-999.0000,9,-999.0000,9,-999.0000,-999.000,-999.0000,9, -999.00
318M20040615,        P02,      77,          1,         33,         33,2,20040713,       0714,    29.9993,   175.2452,       5170,   120.8,  17.2603,  34.7852,2,  34.7975,2, 213.8000,2,   218.9,2,    3.29,2,    3.45,2,    0.04,2,    0.26,2,   2.488,2,   1.496,2,   0.134,2,  2024.7,2,  2286.1,2,-999.000,9,-999.0000,9, -999.00,9, -999.00,9,  -999.0,9,  -999.0,-999.000,9,-999.000, -999.00,9,  120.80,-999.0000,9,-999.0000,9,-999.0000,9,-999.0000,9,-999.0000,9,-999.0000,-999.000,-999.0000,9, -999.00
318M20040615,        P02,      77,          1,         32,         32,2,20040713,       0714,    29.9993,   175.2452,       5170,   170.4,  16.5655,  34.7322,2,  34.7296,2, 218.8000,2,   219.0,2,    4.33,2,    4.70,2,    0.01,2,    0.33,2,   2.559,6,   1.524,6,   0.131,6,  2030.9,2,  2282.1,2,-999.000,9,-999.0000,9, -999.00,9, -999.00,9,  -999.0,9,  -999.0,-999.000,9,-999.000, -999.00,9,  170.40,-999.0000,9,-999.0000,9,-999.0000,9,-999.0000,9,-999.0000,9,-999.0000,-999.000,-999.0000,9, -999.00
318M20040615,        P02,      77,          1,         31,         31,2,20040713,       0714,    29.9993,   175.2452,       5170,   220.3,  15.9586,  34.6965,2,  34.6967,2, 209.2000,2,   220.1,2,    5.19,2,    5.57,2,    0.01,2,    0.38,2,   2.584,2,   1.533,2,   0.116,2,  2036.2,2,  2281.2,2,-999.000,9,-999.0000,9, -999.00,9, -999.00,9,  -999.0,9,  -999.0,-999.000,9,-999.000, -999.00,9,  220.30,-999.0000,9,-999.0000,9,-999.0000,9,-999.0000,9,-999.0000,9,-999.0000,-999.000,-999.0000,9, -999.00
318M20040615,        P02,      77,          1,         30,         30,2,20040713,       0714,    29.9993,   175.2452,       5170,   269.7,  15.1437,  34.5931,2,  34.5932,2, 220.0000,2,   211.0,2,    6.73,2,    7.26,2,    0.00,2,    0.51,2,   2.684,2,   1.549,2,   0.057,2,  -999.0,9,  -999.0,9,-999.000,9,-999.0000,9, -999.00,9, -999.00,9,  -999.0,9,  -999.0,-999.000,9,-999.000, -999.00,9,  269.70,-999.0000,9,-999.0000,9,-999.0000,9,-999.0000,9,-999.0000,9,-999.0000,-999.000,-999.0000,9, -999.00
318M20040615,        P02,      77,          1,         29,         29,2,20040713,       0714,    29.9993,   175.2452,       5170,   320.4,  14.3839,  34.5420,2,  34.5407,2, 213.9000,2,   211.3,2,    8.82,2,    8.48,2,    0.00,2,    0.60,2,   2.733,2,   1.564,2,   0.074,2,  -999.0,9,  -999.0,9,-999.000,9,-999.0000,9, -999.00,9, -999.00,9,  -999.0,9,  -999.0,-999.000,9,-999.000, -999.00,9,  320.40,-999.0000,9,-999.0000,9,-999.0000,9,-999.0000,9,-999.0000,9,-999.0000,-999.000,-999.0000,9, -999.00
318M20040615,        P02,      77,          1,         28,         28,2,20040713,       0714,    29.9993,   175.2452,       5170,   369.9,  13.4922,  34.4725,2,  34.4719,2, 210.4000,2,   209.1,2,   11.07,2,   10.17,2,    0.00,2,    0.70,2,   2.748,2,   1.554,2,   0.077,2,  -999.0,9,  -999.0,9,-999.000,9,-999.0000,9, -999.00,9, -999.00,9,  -999.0,9,  -999.0,-999.000,9,-999.000, -999.00,9,  369.90,-999.0000,9,-999.0000,9,-999.0000,9,-999.0000,9,-999.0000,9,-999.0000,-999.000,-999.0000,9, -999.00
318M20040615,        P02,      77,          1,         27,         27,2,20040713,       0714,    29.9993,   175.2452,       5170,   419.8,  12.2692,  34.3784,2,  34.3796,2, 208.2000,2,   207.7,2,   14.36,2,   12.30,2,    0.00,2,    0.86,2,   2.894,2,   1.619,2,   0.081,2,  -999.0,9,  -999.0,9,-999.000,9,-999.0000,9, -999.00,9, -999.00,9,  -999.0,9,  -999.0,-999.000,9,-999.000, -999.00,9,  419.80,-999.0000,9,-999.0000,9,-999.0000,9,-999.0000,9,-999.0000,9,-999.0000,-999.000,-999.0000,9, -999.00
318M20040615,        P02,      77,          1,         26,         26,2,20040713,       0714,    29.9993,   175.2452,       5170,   469.1,  11.1686,  34.3109,2,  34.3086,2, 203.1000,2,   201.9,2,   20.09,2,   14.90,2,    0.00,2,    1.06,2,   2.837,2,   1.569,2,   0.107,2,  -999.0,9,  -999.0,9,-999.000,9,-999.0000,9, -999.00,9, -999.00,9,  -999.0,9,  -999.0,-999.000,9,-999.000, -999.00,9,  469.10,-999.0000,9,-999.0000,9,-999.0000,9,-999.0000,9,-999.0000,9,-999.0000,-999.000,-999.0000,9, -999.00
318M20040615,        P02,      77,          1,         25,         25,2,20040713,       0714,    29.9993,   175.2452,       5170,   538.9,   9.3175,  34.1527,2,  34.1534,2, 191.1000,2,   190.2,2,   27.25,2,   19.09,2,    0.00,2,    1.36,2,   2.856,2,   1.527,2,   0.108,2,  -999.0,9,  -999.0,9,-999.000,9,-999.0000,9, -999.00,9, -999.00,9,  -999.0,9,  -999.0,-999.000,9,-999.000, -999.00,9,  538.90,-999.0000,9,-999.0000,9,-999.0000,9,-999.0000,9,-999.0000,9,-999.0000,-999.000,-999.0000,9, -999.00
318M20040615,        P02,      77,          1,         24,         24,2,20040713,       0714,    29.9993,   175.2452,       5170,   639.0,   7.2300,  34.0420,2,  34.0411,2, 157.6000,2,   157.9,2,   44.97,2,   25.80,2,    0.00,2,    1.86,2,   2.419,2,   1.267,2,   0.105,2,  -999.0,9,  -999.0,9,-999.000,9,-999.0000,9, -999.00,9, -999.00,9,  -999.0,9,  -999.0,-999.000,9,-999.000, -999.00,9,  639.00,-999.0000,9,-999.0000,9,-999.0000,9,-999.0000,9,-999.0000,9,-999.0000,-999.000,-999.0000,9, -999.00
318M20040615,        P02,      77,          1,         23,         23,2,20040713,       0714,    29.9993,   175.2452,       5170,   739.2,   5.4832,  34.0172,2,  34.0164,2, 123.2000,2,   122.0,2,   67.90,2,   31.94,2,    0.00,2,    2.35,2,   1.972,2,   1.011,2,   0.098,2,  -999.0,9,  -999.0,9,-999.000,9,-999.0000,9, -999.00,9, -999.00,9,  -999.0,9,  -999.0,-999.000,9,-999.000, -999.00,9,  739.20,-999.0000,9,-999.0000,9,-999.0000,9,-999.0000,9,-999.0000,9,-999.0000,-999.000,-999.0000,9, -999.00
318M20040615,        P02,      77,          1,         22,         22,2,20040713,       0714,    29.9993,   175.2452,       5170,   839.2,   4.6516,  34.1205,2,  34.1220,2,  80.7000,2,    76.3,2,   90.76,2,   37.36,2,    0.00,2,    2.72,2,   1.127,2,   0.562,2,   0.058,2,  -999.0,9,  -999.0,9,-999.000,9,-999.0000,9, -999.00,9, -999.00,9,  -999.0,9,  -999.0,-999.000,9,-999.000, -999.00,9,  839.20,-999.0000,9,-999.0000,9,-999.0000,9,-999.0000,9,-999.0000,9,-999.0000,-999.000,-999.0000,9, -999.00
318M20040615,        P02,      77,          1,         21,         21,2,20040713,       0714,    29.9993,   175.2452,       5170,   939.0,   4.0828,  34.2086,2,  34.2131,2,  54.8000,2,    52.3,2,  107.27,2,   40.41,2,    0.00,2,    2.90,2,   0.601,2,   0.300,2,   0.022,2,  -999.0,9,  -999.0,9,-999.000,9,-999.0000,9, -999.00,9, -999.00,9,  -999.0,9,  -999.0,-999.000,9,-999.000, -999.00,9,  939.00,-999.0000,9,-999.0000,9,-999.0000,9,-999.0000,9,-999.0000,9,-999.0000,-999.000,-999.0000,9, -999.00
318M20040615,        P02,      77,          1,         20,         20,2,20040713,       0714,    29.9993,   175.2452,       5170,  1039.2,   3.6397,  34.2910,2,  34.2912,2,  40.7000,2,    36.2,2,  121.10,2,   42.56,2,    0.00,2,    3.04,2,   0.241,2,   0.126,2,   0.007,2,  -999.0,9,  -999.0,9,-999.000,9,-999.0000,9, -999.00,9, -999.00,9,  -999.0,9,  -999.0,-999.000,9,-999.000, -999.00,9, 1039.20,-999.0000,9,-999.0000,9,-999.0000,9,-999.0000,9,-999.0000,9,-999.0000,-999.000,-999.0000,9, -999.00
318M20040615,        P02,      77,          1,         19,         19,2,20040713,       0714,    29.9993,   175.2452,       5170,  1139.6,   3.3311,  34.3555,2,  34.3559,2,  29.7000,2,    29.1,2,  130.52,2,   43.51,2,    0.00,2,    3.11,2,   0.103,2,   0.046,2,   0.004,2,  -999.0,9,  -999.0,9,-999.000,9,-999.0000,9, -999.00,9, -999.00,9,  -999.0,9,  -999.0,-999.000,9,-999.000, -999.00,9, 1139.60,-999.0000,9,-999.0000,9,-999.0000,9,-999.0000,9,-999.0000,9,-999.0000,-999.000,-999.0000,9, -999.00
318M20040615,        P02,      77,          1,         18,         18,2,20040713,       0714,    29.9993,   175.2452,       5170,  1239.5,   3.0781,  34.4099,2,  34.4093,2,  28.3000,2,    28.4,2,  138.51,2,   43.79,2,    0.00,2,    3.13,2,   0.049,2,   0.023,2,   0.001,2,  -999.0,9,  -999.0,9,-999.000,9,-999.0000,9, -999.00,9, -999.00,9,  -999.0,9,  -999.0,-999.000,9,-999.000, -999.00,9, 1239.50,-999.0000,9,-999.0000,9,-999.0000,9,-999.0000,9,-999.0000,9,-999.0000,-999.000,-999.0000,9, -999.00
318M20040615,        P02,      77,          1,         17,         17,2,20040713,       0714,    29.9993,   175.2452,       5170,  1340.3,   2.8406,  34.4456,2,  34.4458,2,  29.6000,2,    29.6,2,  145.80,2,   43.80,2,    0.00,2,    3.12,2,   0.032,2,   0.014,2,   0.003,2,  -999.0,9,  -999.0,9,-999.000,9,-999.0000,9, -999.00,9, -999.00,9,  -999.0,9,  -999.0,-999.000,9,-999.000, -999.00,9, 1340.30,-999.0000,9,-999.0000,9,-999.0000,9,-999.0000,9,-999.0000,9,-999.0000,-999.000,-999.0000,9, -999.00
318M20040615,        P02,      77,          1,         16,         16,2,20040713,       0714,    29.9993,   175.2452,       5170,  1441.0,   2.6116,  34.4814,2,  34.4799,2,  34.1000,2,    32.8,2,  152.02,2,   43.63,2,    0.00,2,    3.11,2,   0.016,2,   0.016,2,   0.003,2,  -999.0,9,  -999.0,9,-999.000,9,-999.0000,9, -999.00,9, -999.00,9,  -999.0,9,  -999.0,-999.000,9,-999.000, -999.00,9, 1441.00,-999.0000,9,-999.0000,9,-999.0000,9,-999.0000,9,-999.0000,9,-999.0000,-999.000,-999.0000,9, -999.00
318M20040615,        P02,      77,          1,         15,         15,2,20040713,       0714,    29.9993,   175.2452,       5170,  1541.4,   2.4622,  34.5106,2,  34.5107,2,  37.4000,2,    38.2,2,  155.91,2,   43.29,2,    0.00,2,    3.09,2,   0.015,2,   0.006,2,   0.005,2,  -999.0,9,  -999.0,9,-999.000,9,-999.0000,9, -999.00,9, -999.00,9,  -999.0,9,  -999.0,-999.000,9,-999.000, -999.00,9, 1541.40,-999.0000,9,-999.0000,9,-999.0000,9,-999.0000,9,-999.0000,9,-999.0000,-999.000,-999.0000,9, -999.00
318M20040615,        P02,      77,          1,         14,         14,2,20040713,       0714,    29.9993,   175.2452,       5170,  1742.5,   2.2059,  34.5562,2,  34.5564,2,  51.5000,2,    51.8,2,  161.39,2,   42.51,2,    0.00,2,    3.02,2,-999.000,9,-999.000,9,-999.000,9,  -999.0,9,  -999.0,9,-999.000,9,-999.0000,9, -999.00,9, -999.00,9,  -999.0,9,  -999.0,-999.000,9,-999.000, -999.00,9, 1742.50,-999.0000,9,-999.0000,9,-999.0000,9,-999.0000,9,-999.0000,9,-999.0000,-999.000,-999.0000,9, -999.00
318M20040615,        P02,      77,          1,         13,         13,2,20040713,       0714,    29.9993,   175.2452,       5170,  1944.0,   1.9842,  34.5919,2,  34.5913,2,  67.4000,2,    68.1,2,  164.05,2,   41.46,2,    0.00,2,    2.94,2,   0.005,2,   0.003,2,   0.001,2,  -999.0,9,  -999.0,9,-999.000,9,-999.0000,9, -999.00,9, -999.00,9,  -999.0,9,  -999.0,-999.000,9,-999.000, -999.00,9, 1944.00,-999.0000,9,-999.0000,9,-999.0000,9,-999.0000,9,-999.0000,9,-999.0000,-999.000,-999.0000,9, -999.00
318M20040615,        P02,      77,          1,         12,         12,2,20040713,       0714,    29.9993,   175.2452,       5170,  2100.0,   1.8718,  34.6089,2,  34.6123,2,  78.0000,3,    78.6,2,  164.79,2,   40.74,2,    0.00,2,    2.89,2,-999.000,9,-999.000,9,-999.000,9,  -999.0,9,  -999.0,9,-999.000,9,-999.0000,9, -999.00,9, -999.00,9,  -999.0,9,  -999.0,-999.000,9,-999.000, -999.00,9, 2100.00,-999.0000,9,-999.0000,9,-999.0000,9,-999.0000,9,-999.0000,9,-999.0000,-999.000,-999.0000,9, -999.00
318M20040615,        P02,      77,          1,         11,         11,2,20040713,       0714,    29.9993,   175.2452,       5170,  2352.3,   1.7077,  34.6337,2,  34.6323,2,  96.1000,2,    97.7,2,  163.36,2,   39.52,2,    0.00,2,    2.80,2,   0.004,2,   0.002,2,   0.001,2,  -999.0,9,  -999.0,9,-999.000,9,-999.0000,9, -999.00,9, -999.00,9,  -999.0,9,  -999.0,-999.000,9,-999.000, -999.00,9, 2352.30,-999.0000,9,-999.0000,9,-999.0000,9,-999.0000,9,-999.0000,9,-999.0000,-999.000,-999.0000,9, -999.00
318M20040615,        P02,      77,          1,         10,         10,2,20040713,       0714,    29.9993,   175.2452,       5170,  2599.5,   1.6263,  34.6472,2,  34.6458,2, 109.1000,2,   110.5,2,  161.03,2,   38.75,2,    0.00,2,    2.74,2,-999.000,9,-999.000,9,-999.000,9,  -999.0,9,  -999.0,9,-999.000,9,-999.0000,9, -999.00,9, -999.00,9,  -999.0,9,  -999.0,-999.000,9,-999.000, -999.00,9, 2599.50,-999.0000,9,-999.0000,9,-999.0000,9,-999.0000,9,-999.0000,9,-999.0000,-999.000,-999.0000,9, -999.00
318M20040615,        P02,      77,          1,          9,          9,2,20040713,       0714,    29.9993,   175.2452,       5170,  2851.7,   1.5555,  34.6584,2,  34.6566,2, 119.2000,2,   121.2,2,  159.42,2,   38.26,2,    0.00,2,    2.68,2,   0.003,2,   0.001,2,   0.004,2,  -999.0,9,  -999.0,9,-999.000,9,-999.0000,9, -999.00,9, -999.00,9,  -999.0,9,  -999.0,-999.000,9,-999.000, -999.00,9, 2851.70,-999.0000,9,-999.0000,9,-999.0000,9,-999.0000,9,-999.0000,9,-999.0000,-999.000,-999.0000,9, -999.00
318M20040615,        P02,      77,          1,          8,          8,2,20040713,       0714,    29.9993,   175.2452,       5170,  3104.4,   1.5098,  34.6670,2,  34.6656,2, 129.1000,2,   130.5,2,  157.32,2,   37.78,2,    0.00,2,    2.63,2,-999.000,9,-999.000,9,-999.000,9,  -999.0,9,  -999.0,9,-999.000,9,-999.0000,9, -999.00,9, -999.00,9,  -999.0,9,  -999.0,-999.000,9,-999.000, -999.00,9, 3104.40,-999.0000,9,-999.0000,9,-999.0000,9,-999.0000,9,-999.0000,9,-999.0000,-999.000,-999.0000,9, -999.00
318M20040615,        P02,      77,          1,          7,          7,2,20040713,       0714,    29.9993,   175.2452,       5170,  3403.4,   1.4734,  34.6746,2,  34.6795,2, 138.0000,3,   138.7,2,  155.53,2,   37.22,2,    0.00,2,    2.59,2,   0.003,2,   0.001,2,   0.002,2,  -999.0,9,  -999.0,9,-999.000,9,-999.0000,9, -999.00,9, -999.00,9,  -999.0,9,  -999.0,-999.000,9,-999.000, -999.00,9, 3403.40,-999.0000,9,-999.0000,9,-999.0000,9,-999.0000,9,-999.0000,9,-999.0000,-999.000,-999.0000,9, -999.00
318M20040615,        P02,      77,          1,          6,          6,2,20040713,       0714,    29.9993,   175.2452,       5170,  3652.1,   1.4578,  34.6792,2,  34.6769,2, 143.9000,3,   144.7,2,  153.60,2,   36.80,2,    0.00,2,    2.55,2,-999.000,9,-999.000,9,-999.000,9,  -999.0,9,  -999.0,9,-999.000,9,-999.0000,9, -999.00,9, -999.00,9,  -999.0,9,  -999.0,-999.000,9,-999.000, -999.00,9, 3652.10,-999.0000,9,-999.0000,9,-999.0000,9,-999.0000,9,-999.0000,9,-999.0000,-999.000,-999.0000,9, -999.00
318M20040615,        P02,      77,          1,          5,          5,2,20040713,       0714,    29.9993,   175.2452,       5170,  4001.5,   1.4485,  34.6842,2,  34.6839,2, 150.7000,2,   150.9,2,  151.48,2,   36.25,2,    0.00,2,    2.52,2,   0.002,2,   0.002,2,   0.001,2,  -999.0,9,  -999.0,9,-999.000,9,-999.0000,9, -999.00,9, -999.00,9,  -999.0,9,  -999.0,-999.000,9,-999.000, -999.00,9, 4001.50,-999.0000,9,-999.0000,9,-999.0000,9,-999.0000,9,-999.0000,9,-999.0000,-999.000,-999.0000,9, -999.00
318M20040615,        P02,      77,          1,          4,          4,2,20040713,       0714,    29.9993,   175.2452,       5170,  4300.7,   1.4464,  34.6877,2,  34.6863,2, 155.8000,2,   156.4,2,  148.82,2,   35.82,2,    0.00,2,    2.49,2,-999.000,9,-999.000,9,-999.000,9,  -999.0,9,  -999.0,9,-999.000,9,-999.0000,9, -999.00,9, -999.00,9,  -999.0,9,  -999.0,-999.000,9,-999.000, -999.00,9, 4300.70,-999.0000,9,-999.0000,9,-999.0000,9,-999.0000,9,-999.0000,9,-999.0000,-999.000,-999.0000,9, -999.00
318M20040615,        P02,      77,          1,          3,          3,2,20040713,       0714,    29.9993,   175.2452,       5170,  4600.2,   1.4461,  34.6908,2,  34.6906,2, 161.8000,2,   162.3,2,  144.41,2,   35.35,2,    0.00,2,    2.45,2,   0.002,2,   0.002,2,   0.003,2,  -999.0,9,  -999.0,9,-999.000,9,-999.0000,9, -999.00,9, -999.00,9,  -999.0,9,  -999.0,-999.000,9,-999.000, -999.00,9, 4600.20,-999.0000,9,-999.0000,9,-999.0000,9,-999.0000,9,-999.0000,9,-999.0000,-999.000,-999.0000,9, -999.00
318M20040615,        P02,      77,          1,          2,          2,2,20040713,       0714,    29.9993,   175.2452,       5170,  4896.1,   1.4493,  34.6935,2,  34.6929,2, 167.4000,2,   167.7,2,  139.63,2,   34.86,2,    0.00,2,    2.43,2,-999.000,9,-999.000,9,-999.000,9,  -999.0,9,  -999.0,9,-999.000,9,-999.0000,9, -999.00,9, -999.00,9,  -999.0,9,  -999.0,-999.000,9,-999.000, -999.00,9, 4896.10,-999.0000,9,-999.0000,9,-999.0000,9,-999.0000,9,-999.0000,9,-999.0000,-999.000,-999.0000,9, -999.00
318M20040615,        P02,      77,          1,          1,          1,2,20040713,       0714,    29.9993,   175.2452,       5170,  5274.9,   1.4652,  34.6958,2,  34.6956,2, 172.7000,2,   173.4,2,  135.70,2,   34.38,2,    0.00,2,    2.40,2,   0.001,2,   0.000,2,   0.002,2,  -999.0,9,  -999.0,9,-999.000,9,-999.0000,9, -999.00,9, -999.00,9,  -999.0,9,  -999.0,-999.000,9,-999.000, -999.00,9, 5274.90,-999.0000,9,-999.0000,9,-999.0000,9,-999.0000,9,-999.0000,9,-999.0000,-999.000,-999.0000,9, -999.00