BOTTLE,20131027SIOCCHRJL
EXPOCODE,SECT_ID,STNNBR,CASTNO,SAMPNO,BTLNBR,BTLNBR_FLAG_W,DATE,TIME,LATITUDE,LONGITUDE,DEPTH,CTDPRS,CTDTMP,CTDSAL,CTDSAL_FLAG_W,SALNTY,SALNTY_FLAG_W,CTDOXY,CTDOXY_FLAG_W,OXYGEN,OXYGEN_FLAG_W,SILCAT,SILCAT_FLAG_W,NITRAT,NITRAT_FLAG_W,NITRIT,NITRIT_FLAG_W,PHSPHT,PHSPHT_FLAG_W,CFC-11,CFC-11_FLAG_W,CFC-12,CFC-12_FLAG_W,CFC113,CFC113_FLAG_W,TCARBN,TCARBN_FLAG_W,ALKALI,ALKALI_FLAG_W,TRITUM,TRITUM_FLAG_W,HELIUM,HELIUM_FLAG_W,DELHE3,DELHE3_FLAG_W,DELC13,DELC13_FLAG_W,DELC14,DELC14_FLAG_W,C14ERR,NEON,NEON_FLAG_W,NEONER,DOC,DOC_FLAG_W,CTDRAW,CDOM380,CDOM380_FLAG_W,CDOM325,CDOM325_FLAG_W,CDOMSL,CDOMSL_FLAG_W,CDOM340,CDOM340_FLAG_W,CDOMSN,CDOMSN_FLAG_W,HELIER,TRITER,CDOM412,CDOM412_FLAG_W,DELHER
,,,,,,,,,,,METERS,DBAR,ITS-90,PSS-78,,PSS-78,,UMOL/KG,,UMOL/KG,,UMOL/KG,,UMOL/KG,,UMOL/KG,,UMOL/KG,,PMOL/KG,,PMOL/KG,,PMOL/KG,,UMOL/KG,,UMOL/KG,,TU,,NMOL/KG,,PERCNT,,/MILLE,,/MILLE,,/MILLE,NMOL/KG,,NMOL/KG,UMOL/KG,,DBAR,1/M,,1/M,,1/NM,,1/M,,1/NM,,NMOL/KG,TU,1/M,,PERCNT
318M20040615,        P02,     188,          1,         17,         17,2,20040827,       0221,     32.643,  -117.8245,        730,     6.1,  21.3389,  33.4825,2,  33.4851,2, 230.6000,2,   230.4,2,    0.49,2,    0.13,2,    0.00,2,    0.23,2,-999.000,1,-999.000,1,-999.000,1,  1985.1,2,  -999.0,9,-999.000,9,-999.0000,9, -999.00,9, -999.00,9,  -999.0,9,  -999.0,-999.000,9,-999.000,   34.20,2,    6.10,-999.0000,9,-999.0000,9,-999.0000,9,-999.0000,9,-999.0000,9,-999.0000,-999.000,-999.0000,9, -999.00
318M20040615,        P02,     188,          1,         16,         16,2,20040827,       0221,     32.643,  -117.8245,        730,    23.4,  18.2122,  33.3626,2,  33.3431,2, 251.0000,2,   258.3,2,    0.47,2,    0.26,2,    0.01,2,    0.29,2,-999.000,1,-999.000,1,-999.000,1,  -999.0,9,  -999.0,9,-999.000,9,-999.0000,9, -999.00,9, -999.00,9,  -999.0,9,  -999.0,-999.000,9,-999.000,   50.90,2,   23.40,-999.0000,9,-999.0000,9,-999.0000,9,-999.0000,9,-999.0000,9,-999.0000,-999.000,-999.0000,9, -999.00
318M20040615,        P02,     188,          1,         15,         15,2,20040827,       0221,     32.643,  -117.8245,        730,    52.9,  13.6078,  33.2660,2,  33.2655,2, 241.3000,2,   240.2,2,    3.26,2,    6.31,2,    0.44,2,    0.74,2,   3.288,2,   1.911,2,   0.199,2,  2038.2,2,  -999.0,9,-999.000,9,-999.0000,9, -999.00,9, -999.00,9,  -999.0,9,  -999.0,-999.000,9,-999.000,   43.70,2,   52.90,-999.0000,9,-999.0000,9,-999.0000,9,-999.0000,9,-999.0000,9,-999.0000,-999.000,-999.0000,9, -999.00
318M20040615,        P02,     188,          1,         14,         14,2,20040827,       0221,     32.643,  -117.8245,        730,    78.1,  11.3750,  33.2871,2,  33.2951,2, 192.3000,2,   192.0,2,   10.45,2,   14.85,2,    0.06,2,    1.25,2,   3.513,2,   1.994,2,   0.187,2,  2091.0,2,  -999.0,9,-999.000,9,-999.0000,9, -999.00,9, -999.00,9,  -999.0,9,  -999.0,-999.000,9,-999.000,   36.70,2,   78.10,-999.0000,9,-999.0000,9,-999.0000,9,-999.0000,9,-999.0000,9,-999.0000,-999.000,-999.0000,9, -999.00
318M20040615,        P02,     188,          1,         13,         13,2,20040827,       0221,     32.643,  -117.8245,        730,   107.6,   9.7573,  33.5148,2,  33.5203,2, 163.0000,2,   163.4,2,   18.44,2,   19.98,2,    0.01,2,    1.59,2,   3.510,2,   1.968,2,   0.140,2,  2129.8,2,  -999.0,9,-999.000,9,-999.0000,9, -999.00,9, -999.00,9,  -999.0,9,  -999.0,-999.000,9,-999.000,   33.60,2,  107.60,-999.0000,9,-999.0000,9,-999.0000,9,-999.0000,9,-999.0000,9,-999.0000,-999.000,-999.0000,9, -999.00
318M20040615,        P02,     188,          1,         12,         12,2,20040827,       0221,     32.643,  -117.8245,        730,   132.2,   9.2629,  33.7145,2,  33.7328,2, 146.9000,2,   152.4,2,   22.84,2,   22.20,2,    0.01,2,    1.70,2,   3.379,2,   1.857,2,   0.123,2,  -999.0,9,  -999.0,9,-999.000,9,-999.0000,9, -999.00,9, -999.00,9,  -999.0,9,  -999.0,-999.000,9,-999.000,   32.80,2,  132.20,-999.0000,9,-999.0000,9,-999.0000,9,-999.0000,9,-999.0000,9,-999.0000,-999.000,-999.0000,9, -999.00
318M20040615,        P02,     188,          1,         11,         11,2,20040827,       0221,     32.643,  -117.8245,        730,   157.0,   9.5241,  34.0001,2,  34.0034,2, 124.3000,2,   119.2,2,   27.04,2,   24.22,2,    0.01,2,    1.92,2,   2.849,6,   1.539,6,   0.097,6,  2177.8,2,  -999.0,9,-999.000,9,-999.0000,9, -999.00,9, -999.00,9,  -999.0,9,  -999.0,-999.000,9,-999.000,   45.90,2,  157.00,-999.0000,9,-999.0000,9,-999.0000,9,-999.0000,9,-999.0000,9,-999.0000,-999.000,-999.0000,9, -999.00
318M20040615,        P02,     188,          1,         10,         10,2,20040827,       0221,     32.643,  -117.8245,        730,   182.2,   8.9421,  34.0311,2,  34.0384,2, 107.0000,2,   116.1,2,   30.66,2,   25.89,2,    0.01,2,    1.99,2,   2.744,2,   1.456,2,   0.324,3,  2186.7,2,  -999.0,9,-999.000,9,-999.0000,9, -999.00,9, -999.00,9,  -999.0,9,  -999.0,-999.000,9,-999.000,   46.10,2,  182.20,-999.0000,9,-999.0000,9,-999.0000,9,-999.0000,9,-999.0000,9,-999.0000,-999.000,-999.0000,9, -999.00
318M20040615,        P02,     188,          1,          9,          9,2,20040827,       0221,     32.643,  -117.8245,        730,   217.6,   8.6746,  34.1139,2,  34.1197,2,  94.0000,2,    97.9,2,   35.88,2,   27.77,2,    0.01,2,    2.15,2,   2.338,2,   1.189,2,   0.284,3,  2206.2,2,  -999.0,9,-999.000,9,-999.0000,9, -999.00,9, -999.00,9,  -999.0,9,  -999.0,-999.000,9,-999.000,   26.60,2,  217.60,-999.0000,9,-999.0000,9,-999.0000,9,-999.0000,9,-999.0000,9,-999.0000,-999.000,-999.0000,9, -999.00
318M20040615,        P02,     188,          1,         37,         37,2,20040827,       0221,     32.643,  -117.8245,        730,   251.7,   8.7322,  34.2283,2,  34.2300,2,  68.7000,2,    66.9,2,   40.10,2,   29.45,2,    0.00,2,    2.41,2,-999.000,9,-999.000,9,-999.000,9,  2233.8,2,  -999.0,9,-999.000,9,-999.0000,9, -999.00,9, -999.00,9,  -999.0,9,  -999.0,-999.000,9,-999.000,   31.40,2,  251.70,-999.0000,9,-999.0000,9,-999.0000,9,-999.0000,9,-999.0000,9,-999.0000,-999.000,-999.0000,9, -999.00
318M20040615,        P02,     188,          1,          7,          7,2,20040827,       0221,     32.643,  -117.8245,        730,   302.2,   8.5670,  34.3180,2,  34.3163,2,  37.5000,2,    40.0,2,   45.94,2,   31.25,2,    0.00,2,    2.64,2,   0.965,2,   0.505,2,   0.177,3,  2260.1,2,  -999.0,9,-999.000,9,-999.0000,9, -999.00,9, -999.00,9,  -999.0,9,  -999.0,-999.000,9,-999.000,   40.50,2,  302.20,-999.0000,9,-999.0000,9,-999.0000,9,-999.0000,9,-999.0000,9,-999.0000,-999.000,-999.0000,9, -999.00
318M20040615,        P02,     188,          1,          6,          6,2,20040827,       0221,     32.643,  -117.8245,        730,   351.9,   7.2088,  34.1546,2,-999.0000,9,  54.6000,9,  -999.0,5,   53.22,2,   34.01,2,    0.00,2,    2.62,2,-999.000,9,-999.000,9,-999.000,9,  2256.3,3,  -999.0,9,-999.000,9,-999.0000,9, -999.00,9, -999.00,9,  -999.0,9,  -999.0,-999.000,9,-999.000,   40.00,2,  351.90,-999.0000,9,-999.0000,9,-999.0000,9,-999.0000,9,-999.0000,9,-999.0000,-999.000,-999.0000,9, -999.00
318M20040615,        P02,     188,          1,          5,          5,2,20040827,       0221,     32.643,  -117.8245,        730,   401.2,   7.0733,  34.2316,2,  34.2324,2,  40.5000,2,    37.6,2,   58.67,2,   35.34,2,    0.00,2,    2.80,2,   0.712,2,   0.357,2,   0.175,3,  2275.6,2,  -999.0,9,-999.000,9,-999.0000,9, -999.00,9, -999.00,9,  -999.0,9,  -999.0,-999.000,9,-999.000,   29.00,2,  401.20,-999.0000,9,-999.0000,9,-999.0000,9,-999.0000,9,-999.0000,9,-999.0000,-999.000,-999.0000,9, -999.00
318M20040615,        P02,     188,          1,          4,          4,2,20040827,       0221,     32.643,  -117.8245,        730,   456.0,   6.7551,  34.2696,2,  34.2714,2,  24.8000,2,    25.8,2,   65.36,2,   36.83,2,    0.00,2,    2.93,2,-999.000,9,-999.000,9,-999.000,9,  2291.0,2,  -999.0,9,-999.000,9,-999.0000,9, -999.00,9, -999.00,9,  -999.0,9,  -999.0,-999.000,9,-999.000,   29.80,2,  456.00,-999.0000,9,-999.0000,9,-999.0000,9,-999.0000,9,-999.0000,9,-999.0000,-999.000,-999.0000,9, -999.00
318M20040615,        P02,     188,          1,          3,          3,2,20040827,       0221,     32.643,  -117.8245,        730,   505.2,   6.5163,  34.2965,2,  34.2980,2,  18.4000,2,    18.7,2,   69.61,2,   37.74,2,    0.00,2,    3.01,2,   0.318,2,   0.142,2,   0.161,3,  2300.5,2,  -999.0,9,-999.000,9,-999.0000,9, -999.00,9, -999.00,9,  -999.0,9,  -999.0,-999.000,9,-999.000,   34.60,2,  505.20,-999.0000,9,-999.0000,9,-999.0000,9,-999.0000,9,-999.0000,9,-999.0000,-999.000,-999.0000,9, -999.00
318M20040615,        P02,     188,          1,          2,          2,2,20040827,       0221,     32.643,  -117.8245,        730,   606.4,   5.8999,  34.3448,2,  34.3496,2,  12.1000,2,    11.4,2,   80.41,2,   39.84,2,    0.00,2,    3.16,2,   0.136,2,   0.062,2,   0.012,3,  2318.7,2,  -999.0,9,-999.000,9,-999.0000,9, -999.00,9, -999.00,9,  -999.0,9,  -999.0,-999.000,9,-999.000,   39.70,2,  606.40,-999.0000,9,-999.0000,9,-999.0000,9,-999.0000,9,-999.0000,9,-999.0000,-999.000,-999.0000,9, -999.00
318M20040615,        P02,     188,          1,          1,          1,2,20040827,       0221,     32.643,  -117.8245,        730,   726.7,   5.2534,  34.3942,2,  34.3929,2,  10.8000,2,    11.2,2,   92.68,2,   41.30,2,    0.00,2,    3.22,2,   0.088,2,   0.073,2,   0.057,3,  2335.3,2,  -999.0,9,-999.000,9,-999.0000,9, -999.00,9, -999.00,9,  -999.0,9,  -999.0,-999.000,9,-999.000,   33.70,2,  726.70,-999.0000,9,-999.0000,9,-999.0000,9,-999.0000,9,-999.0000,9,-999.0000,-999.000,-999.0000,9, -999.00
318M20040615,        P02,     189,          1,         21,         21,9,20040827,       0458,    32.6378,  -117.5233,       1183,     6.4,  20.4514,  33.4268,2,-999.0000,9, 240.2000,9,  -999.0,9, -999.00,9, -999.00,9, -999.00,9, -999.00,9,   2.361,2,   1.409,2,   0.164,2,  -999.0,9,  -999.0,9,-999.000,9,-999.0000,9, -999.00,9, -999.00,9,  -999.0,9,  -999.0,-999.000,9,-999.000, -999.00,9,    6.40,-999.0000,9,-999.0000,9,-999.0000,9,-999.0000,9,-999.0000,9,-999.0000,-999.000,-999.0000,9, -999.00
318M20040615,        P02,     189,          1,         20,         20,9,20040827,       0458,    32.6378,  -117.5233,       1183,    33.4,  14.2362,  33.2227,2,-999.0000,9, 252.4000,9,  -999.0,9, -999.00,9, -999.00,9, -999.00,9, -999.00,9,-999.000,9,-999.000,9,-999.000,9,  -999.0,9,  -999.0,9,-999.000,9,-999.0000,9, -999.00,9, -999.00,9,  -999.0,9,  -999.0,-999.000,9,-999.000, -999.00,9,   33.40,-999.0000,9,-999.0000,9,-999.0000,9,-999.0000,9,-999.0000,9,-999.0000,-999.000,-999.0000,9, -999.00
318M20040615,        P02,     189,          1,         19,         19,9,20040827,       0458,    32.6378,  -117.5233,       1183,    68.2,  10.9242,  33.2214,2,-999.0000,9, 200.4000,9,  -999.0,9, -999.00,9, -999.00,9, -999.00,9, -999.00,9,   3.556,2,   1.991,2,   0.169,2,  -999.0,9,  -999.0,9,-999.000,9,-999.0000,9, -999.00,9, -999.00,9,  -999.0,9,  -999.0,-999.000,9,-999.000, -999.00,9,   68.20,-999.0000,9,-999.0000,9,-999.0000,9,-999.0000,9,-999.0000,9,-999.0000,-999.000,-999.0000,9, -999.00
318M20040615,        P02,     189,          1,         18,         18,9,20040827,       0458,    32.6378,  -117.5233,       1183,    98.0,  10.1328,  33.6468,2,-999.0000,9, 142.8000,9,  -999.0,9, -999.00,9, -999.00,9, -999.00,9, -999.00,9,-999.000,9,-999.000,9,-999.000,9,  -999.0,9,  -999.0,9,-999.000,9,-999.0000,9, -999.00,9, -999.00,9,  -999.0,9,  -999.0,-999.000,9,-999.000, -999.00,9,   98.00,-999.0000,9,-999.0000,9,-999.0000,9,-999.0000,9,-999.0000,9,-999.0000,-999.000,-999.0000,9, -999.00
318M20040615,        P02,     189,          1,         17,         17,9,20040827,       0458,    32.6378,  -117.5233,       1183,   122.5,  10.1949,  33.8754,2,-999.0000,9, 119.9000,9,  -999.0,9, -999.00,9, -999.00,9, -999.00,9, -999.00,9,   2.879,2,   1.522,2,   0.095,2,  -999.0,9,  -999.0,9,-999.000,9,-999.0000,9, -999.00,9, -999.00,9,  -999.0,9,  -999.0,-999.000,9,-999.000, -999.00,9,  122.50,-999.0000,9,-999.0000,9,-999.0000,9,-999.0000,9,-999.0000,9,-999.0000,-999.000,-999.0000,9, -999.00
318M20040615,        P02,     189,          1,         16,         16,9,20040827,       0458,    32.6378,  -117.5233,       1183,   147.3,  10.1106,  33.9762,2,-999.0000,9, 103.9000,9,  -999.0,9, -999.00,9, -999.00,9, -999.00,9, -999.00,9,   2.694,2,   1.442,2,   0.084,2,  -999.0,9,  -999.0,9,-999.000,9,-999.0000,9, -999.00,9, -999.00,9,  -999.0,9,  -999.0,-999.000,9,-999.000, -999.00,9,  147.30,-999.0000,9,-999.0000,9,-999.0000,9,-999.0000,9,-999.0000,9,-999.0000,-999.000,-999.0000,9, -999.00
318M20040615,        P02,     189,          1,         15,         15,9,20040827,       0458,    32.6378,  -117.5233,       1183,   171.8,   9.4782,  34.0163,2,-999.0000,9,  90.2000,9,  -999.0,9, -999.00,9, -999.00,9, -999.00,9, -999.00,9,   3.173,4,   1.821,4,   0.219,4,  -999.0,9,  -999.0,9,-999.000,9,-999.0000,9, -999.00,9, -999.00,9,  -999.0,9,  -999.0,-999.000,9,-999.000, -999.00,9,  171.80,-999.0000,9,-999.0000,9,-999.0000,9,-999.0000,9,-999.0000,9,-999.0000,-999.000,-999.0000,9, -999.00
318M20040615,        P02,     189,          1,         14,         14,9,20040827,       0458,    32.6378,  -117.5233,       1183,   197.0,   9.5078,  34.1208,2,-999.0000,9,  83.9000,9,  -999.0,9, -999.00,9, -999.00,9, -999.00,9, -999.00,9,-999.000,9,-999.000,9,-999.000,9,  -999.0,9,  -999.0,9,-999.000,9,-999.0000,9, -999.00,9, -999.00,9,  -999.0,9,  -999.0,-999.000,9,-999.000, -999.00,9,  197.00,-999.0000,9,-999.0000,9,-999.0000,9,-999.0000,9,-999.0000,9,-999.0000,-999.000,-999.0000,9, -999.00
318M20040615,        P02,     189,          1,         13,         13,9,20040827,       0458,    32.6378,  -117.5233,       1183,   221.9,   8.9672,  34.1090,2,-999.0000,9,  86.0000,9,  -999.0,9, -999.00,9, -999.00,9, -999.00,9, -999.00,9,   2.436,2,   1.238,2,   0.074,2,  -999.0,9,  -999.0,9,-999.000,9,-999.0000,9, -999.00,9, -999.00,9,  -999.0,9,  -999.0,-999.000,9,-999.000, -999.00,9,  221.90,-999.0000,9,-999.0000,9,-999.0000,9,-999.0000,9,-999.0000,9,-999.0000,-999.000,-999.0000,9, -999.00
318M20040615,        P02,     189,          1,         12,         12,9,20040827,       0458,    32.6378,  -117.5233,       1183,   271.1,   9.1289,  34.2771,2,-999.0000,9,  61.5000,9,  -999.0,9, -999.00,9, -999.00,9, -999.00,9, -999.00,9,   1.460,2,   0.743,2,   0.047,2,  -999.0,9,  -999.0,9,-999.000,9,-999.0000,9, -999.00,9, -999.00,9,  -999.0,9,  -999.0,-999.000,9,-999.000, -999.00,9,  271.10,-999.0000,9,-999.0000,9,-999.0000,9,-999.0000,9,-999.0000,9,-999.0000,-999.000,-999.0000,9, -999.00
318M20040615,        P02,     189,          1,         11,         11,9,20040827,       0458,    32.6378,  -117.5233,       1183,   321.0,   8.8803,  34.2932,2,-999.0000,9,  50.8000,9,  -999.0,9, -999.00,9, -999.00,9, -999.00,9, -999.00,9,   1.362,2,   0.672,2,   0.048,2,  -999.0,9,  -999.0,9,-999.000,9,-999.0000,9, -999.00,9, -999.00,9,  -999.0,9,  -999.0,-999.000,9,-999.000, -999.00,9,  321.00,-999.0000,9,-999.0000,9,-999.0000,9,-999.0000,9,-999.0000,9,-999.0000,-999.000,-999.0000,9, -999.00
318M20040615,        P02,     189,          1,         10,         10,9,20040827,       0458,    32.6378,  -117.5233,       1183,   375.8,   8.4341,  34.3251,2,-999.0000,9,  36.4000,9,  -999.0,9, -999.00,9, -999.00,9, -999.00,9, -999.00,9,-999.000,9,-999.000,9,-999.000,9,  -999.0,9,  -999.0,9,-999.000,9,-999.0000,9, -999.00,9, -999.00,9,  -999.0,9,  -999.0,-999.000,9,-999.000, -999.00,9,  375.80,-999.0000,9,-999.0000,9,-999.0000,9,-999.0000,9,-999.0000,9,-999.0000,-999.000,-999.0000,9, -999.00
318M20040615,        P02,     189,          1,          9,          9,9,20040827,       0458,    32.6378,  -117.5233,       1183,   425.6,   7.6984,  34.2865,2,-999.0000,9,  35.0000,9,  -999.0,9, -999.00,9, -999.00,9, -999.00,9, -999.00,9,   0.841,2,   0.375,2,   0.039,2,  -999.0,9,  -999.0,9,-999.000,9,-999.0000,9, -999.00,9, -999.00,9,  -999.0,9,  -999.0,-999.000,9,-999.000, -999.00,9,  425.60,-999.0000,9,-999.0000,9,-999.0000,9,-999.0000,9,-999.0000,9,-999.0000,-999.000,-999.0000,9, -999.00
318M20040615,        P02,     189,          1,         37,         37,9,20040827,       0458,    32.6378,  -117.5233,       1183,   475.1,   7.2142,  34.2743,2,-999.0000,9,  30.5000,9,  -999.0,9, -999.00,9, -999.00,9, -999.00,9, -999.00,9,   0.591,2,   0.293,2,   0.035,2,  -999.0,9,  -999.0,9,-999.000,9,-999.0000,9, -999.00,9, -999.00,9,  -999.0,9,  -999.0,-999.000,9,-999.000, -999.00,9,  475.10,-999.0000,9,-999.0000,9,-999.0000,9,-999.0000,9,-999.0000,9,-999.0000,-999.000,-999.0000,9, -999.00
318M20040615,        P02,     189,          1,          7,          7,9,20040827,       0458,    32.6378,  -117.5233,       1183,   545.1,   6.5182,  34.3055,2,-999.0000,9,  18.6000,9,  -999.0,9, -999.00,9, -999.00,9, -999.00,9, -999.00,9,   0.313,2,   0.141,2,   0.023,2,  -999.0,9,  -999.0,9,-999.000,9,-999.0000,9, -999.00,9, -999.00,9,  -999.0,9,  -999.0,-999.000,9,-999.000, -999.00,9,  545.10,-999.0000,9,-999.0000,9,-999.0000,9,-999.0000,9,-999.0000,9,-999.0000,-999.000,-999.0000,9, -999.00
318M20040615,        P02,     189,          1,          6,          6,9,20040827,       0458,    32.6378,  -117.5233,       1183,   644.8,   5.8850,  34.3529,2,-999.0000,9,  11.9000,9,  -999.0,9, -999.00,9, -999.00,9, -999.00,9, -999.00,9,   0.152,2,   0.080,2,   0.038,2,  -999.0,9,  -999.0,9,-999.000,9,-999.0000,9, -999.00,9, -999.00,9,  -999.0,9,  -999.0,-999.000,9,-999.000, -999.00,9,  644.80,-999.0000,9,-999.0000,9,-999.0000,9,-999.0000,9,-999.0000,9,-999.0000,-999.000,-999.0000,9, -999.00
318M20040615,        P02,     189,          1,          5,          5,9,20040827,       0458,    32.6378,  -117.5233,       1183,   750.1,   5.2892,  34.3943,2,-999.0000,9,  10.6000,9,  -999.0,9, -999.00,9, -999.00,9, -999.00,9, -999.00,9,   0.099,2,   0.064,2,   0.043,2,  -999.0,9,  -999.0,9,-999.000,9,-999.0000,9, -999.00,9, -999.00,9,  -999.0,9,  -999.0,-999.000,9,-999.000, -999.00,9,  750.10,-999.0000,9,-999.0000,9,-999.0000,9,-999.0000,9,-999.0000,9,-999.0000,-999.000,-999.0000,9, -999.00
318M20040615,        P02,     189,          1,          4,          4,9,20040827,       0458,    32.6378,  -117.5233,       1183,   840.0,   4.8284,  34.4255,2,-999.0000,9,  12.6000,9,  -999.0,9, -999.00,9, -999.00,9, -999.00,9, -999.00,9,   0.127,2,   0.089,2,   0.037,2,  -999.0,9,  -999.0,9,-999.000,9,-999.0000,9, -999.00,9, -999.00,9,  -999.0,9,  -999.0,-999.000,9,-999.000, -999.00,9,  840.00,-999.0000,9,-999.0000,9,-999.0000,9,-999.0000,9,-999.0000,9,-999.0000,-999.000,-999.0000,9, -999.00
318M20040615,        P02,     189,          1,          3,          3,9,20040827,       0458,    32.6378,  -117.5233,       1183,   950.4,   4.4197,  34.4561,2,-999.0000,9,  15.7000,9,  -999.0,9, -999.00,9, -999.00,9, -999.00,9, -999.00,9,   0.143,2,   0.109,2,   0.054,2,  -999.0,9,  -999.0,9,-999.000,9,-999.0000,9, -999.00,9, -999.00,9,  -999.0,9,  -999.0,-999.000,9,-999.000, -999.00,9,  950.40,-999.0000,9,-999.0000,9,-999.0000,9,-999.0000,9,-999.0000,9,-999.0000,-999.000,-999.0000,9, -999.00
318M20040615,        P02,     189,          1,          2,          2,9,20040827,       0458,    32.6378,  -117.5233,       1183,  1070.5,   3.8326,  34.5011,2,-999.0000,9,  26.1000,9,  -999.0,9, -999.00,9, -999.00,9, -999.00,9, -999.00,9,   0.114,2,   0.098,2,   0.052,2,  -999.0,9,  -999.0,9,-999.000,9,-999.0000,9, -999.00,9, -999.00,9,  -999.0,9,  -999.0,-999.000,9,-999.000, -999.00,9, 1070.50,-999.0000,9,-999.0000,9,-999.0000,9,-999.0000,9,-999.0000,9,-999.0000,-999.000,-999.0000,9, -999.00
318M20040615,        P02,     189,          1,          1,          1,9,20040827,       0458,    32.6378,  -117.5233,       1183,  1170.9,   3.5116,  34.5259,2,-999.0000,9,  31.2000,9,  -999.0,9, -999.00,9, -999.00,9, -999.00,9, -999.00,9,   0.139,6,   0.154,6,   0.057,6,  -999.0,9,  -999.0,9,-999.000,9,-999.0000,9, -999.00,9, -999.00,9,  -999.0,9,  -999.0,-999.000,9,-999.000, -999.00,9, 1170.90,-999.0000,9,-999.0000,9,-999.0000,9,-999.0000,9,-999.0000,9,-999.0000,-999.000,-999.0000,9, -999.00