BOTTLE,20131027SIOCCHRJL
EXPOCODE,SECT_ID,STNNBR,CASTNO,SAMPNO,BTLNBR,BTLNBR_FLAG_W,DATE,TIME,LATITUDE,LONGITUDE,DEPTH,CTDPRS,CTDTMP,CTDSAL,CTDSAL_FLAG_W,SALNTY,SALNTY_FLAG_W,CTDOXY,CTDOXY_FLAG_W,OXYGEN,OXYGEN_FLAG_W,SILCAT,SILCAT_FLAG_W,NITRAT,NITRAT_FLAG_W,NITRIT,NITRIT_FLAG_W,PHSPHT,PHSPHT_FLAG_W,CFC-11,CFC-11_FLAG_W,CFC-12,CFC-12_FLAG_W,CFC113,CFC113_FLAG_W,TCARBN,TCARBN_FLAG_W,ALKALI,ALKALI_FLAG_W,TRITUM,TRITUM_FLAG_W,HELIUM,HELIUM_FLAG_W,DELHE3,DELHE3_FLAG_W,DELC13,DELC13_FLAG_W,DELC14,DELC14_FLAG_W,C14ERR,NEON,NEON_FLAG_W,NEONER,DOC,DOC_FLAG_W,CTDRAW,CDOM380,CDOM380_FLAG_W,CDOM325,CDOM325_FLAG_W,CDOMSL,CDOMSL_FLAG_W,CDOM340,CDOM340_FLAG_W,CDOMSN,CDOMSN_FLAG_W,HELIER,TRITER,CDOM412,CDOM412_FLAG_W,DELHER
,,,,,,,,,,,METERS,DBAR,ITS-90,PSS-78,,PSS-78,,UMOL/KG,,UMOL/KG,,UMOL/KG,,UMOL/KG,,UMOL/KG,,UMOL/KG,,PMOL/KG,,PMOL/KG,,PMOL/KG,,UMOL/KG,,UMOL/KG,,TU,,NMOL/KG,,PERCNT,,/MILLE,,/MILLE,,/MILLE,NMOL/KG,,NMOL/KG,UMOL/KG,,DBAR,1/M,,1/M,,1/NM,,1/M,,1/NM,,NMOL/KG,TU,1/M,,PERCNT
318M20040615,        P02,     101,          1,         36,         36,2,20040720,       2133,    30.0008,  -169.7117,       5436,     9.8,  24.8804,  35.1133,2,  35.0970,2, 215.3000,2,   214.8,2,    1.89,2,    0.07,2,    0.00,2,    0.03,2,   1.859,2,   1.131,2,   0.136,2,  2006.8,6,  2304.7,6,-999.000,9,-999.0000,9, -999.00,9, -999.00,9,  -999.0,9,  -999.0,-999.000,9,-999.000, -999.00,9,    9.80,-999.0000,9,-999.0000,9,-999.0000,9,-999.0000,9,-999.0000,9,-999.0000,-999.000,-999.0000,9, -999.00
318M20040615,        P02,     101,          1,         35,         35,2,20040720,       2133,    30.0008,  -169.7117,       5436,    36.9,  21.0787,  34.9602,2,  34.9649,2, 240.2000,2,   239.5,2,    2.29,2,    0.07,2,    0.00,2,    0.03,2,   2.231,2,   1.341,2,   0.158,2,  -999.0,9,  2296.1,2,-999.000,9,-999.0000,9, -999.00,9, -999.00,9,  -999.0,9,  -999.0,-999.000,9,-999.000, -999.00,9,   36.90,-999.0000,9,-999.0000,9,-999.0000,9,-999.0000,9,-999.0000,9,-999.0000,-999.000,-999.0000,9, -999.00
318M20040615,        P02,     101,          1,         34,         34,2,20040720,       2133,    30.0008,  -169.7117,       5436,    71.7,  17.9256,  34.8177,2,  34.8133,2, 248.0000,2,   249.6,2,    2.68,2,    0.07,2,    0.00,2,    0.07,2,   2.494,2,   1.479,2,   0.170,2,  -999.0,9,  2286.2,2,-999.000,9,-999.0000,9, -999.00,9, -999.00,9,  -999.0,9,  -999.0,-999.000,9,-999.000, -999.00,9,   71.70,-999.0000,9,-999.0000,9,-999.0000,9,-999.0000,9,-999.0000,9,-999.0000,-999.000,-999.0000,9, -999.00
318M20040615,        P02,     101,          1,         33,         33,2,20040720,       2133,    30.0008,  -169.7117,       5436,   121.4,  16.4572,  34.7363,2,  34.7340,2, 226.2000,2,   226.7,2,    3.68,2,    2.85,2,    0.13,2,    0.25,2,   2.551,2,   1.509,2,   0.161,2,  -999.0,9,  2282.5,2,-999.000,9,-999.0000,9, -999.00,9, -999.00,9,  -999.0,9,  -999.0,-999.000,9,-999.000, -999.00,9,  121.40,-999.0000,9,-999.0000,9,-999.0000,9,-999.0000,9,-999.0000,9,-999.0000,-999.000,-999.0000,9, -999.00
318M20040615,        P02,     101,          1,         32,         32,2,20040720,       2133,    30.0008,  -169.7117,       5436,   171.4,  15.5531,  34.6373,2,  34.6360,2, 225.8000,2,   222.9,2,    4.88,2,    5.01,2,    0.02,2,    0.38,2,   2.646,2,   1.541,2,   0.132,2,  -999.0,9,  -999.0,9,-999.000,9,-999.0000,9, -999.00,9, -999.00,9,  -999.0,9,  -999.0,-999.000,9,-999.000, -999.00,9,  171.40,-999.0000,9,-999.0000,9,-999.0000,9,-999.0000,9,-999.0000,9,-999.0000,-999.000,-999.0000,9, -999.00
318M20040615,        P02,     101,          1,         31,         31,2,20040720,       2133,    30.0008,  -169.7117,       5436,   221.2,  14.1444,  34.5071,2,  34.5020,2, 215.5000,2,   217.4,2,    7.70,2,    8.17,2,    0.01,2,    0.59,2,   2.783,2,   1.596,2,   0.080,2,  -999.0,9,  2271.4,2,-999.000,9,-999.0000,9, -999.00,9, -999.00,9,  -999.0,9,  -999.0,-999.000,9,-999.000, -999.00,9,  221.20,-999.0000,9,-999.0000,9,-999.0000,9,-999.0000,9,-999.0000,9,-999.0000,-999.000,-999.0000,9, -999.00
318M20040615,        P02,     101,          1,         30,         30,2,20040720,       2133,    30.0008,  -169.7117,       5436,   270.9,  13.1591,  34.4413,2,  34.4439,2, 221.0000,2,   222.5,2,    9.91,2,    9.23,2,    0.00,2,    0.66,2,   2.841,2,   1.614,2,   0.101,2,  -999.0,9,  -999.0,9,-999.000,9,-999.0000,9, -999.00,9, -999.00,9,  -999.0,9,  -999.0,-999.000,9,-999.000, -999.00,9,  270.90,-999.0000,9,-999.0000,9,-999.0000,9,-999.0000,9,-999.0000,9,-999.0000,-999.000,-999.0000,9, -999.00
318M20040615,        P02,     101,          1,         29,         29,2,20040720,       2133,    30.0008,  -169.7117,       5436,   320.9,  12.1551,  34.3360,2,  34.3355,2, 212.8000,2,   214.0,2,   12.54,2,   11.62,2,    0.00,2,    0.83,2,   2.971,6,   1.668,6,   0.078,6,  -999.0,9,  2266.9,2,-999.000,9,-999.0000,9, -999.00,9, -999.00,9,  -999.0,9,  -999.0,-999.000,9,-999.000, -999.00,9,  320.90,-999.0000,9,-999.0000,9,-999.0000,9,-999.0000,9,-999.0000,9,-999.0000,-999.000,-999.0000,9, -999.00
318M20040615,        P02,     101,          1,         28,         28,2,20040720,       2133,    30.0008,  -169.7117,       5436,   375.9,  11.3636,  34.2880,2,  34.2829,2, 216.9000,2,   217.2,2,   15.39,2,   12.97,2,    0.00,2,    0.93,2,   3.058,2,   1.698,2,   0.099,2,  -999.0,9,  -999.0,9,-999.000,9,-999.0000,9, -999.00,9, -999.00,9,  -999.0,9,  -999.0,-999.000,9,-999.000, -999.00,9,  375.90,-999.0000,9,-999.0000,9,-999.0000,9,-999.0000,9,-999.0000,9,-999.0000,-999.000,-999.0000,9, -999.00
318M20040615,        P02,     101,          1,         27,         27,2,20040720,       2133,    30.0008,  -169.7117,       5436,   425.5,  10.3409,  34.2059,2,  34.2092,2, 209.7000,2,   210.1,2,   19.05,2,   15.27,2,    0.00,2,    1.09,2,   3.083,2,   1.670,2,   0.104,2,  -999.0,9,  2266.7,2,-999.000,9,-999.0000,9, -999.00,9, -999.00,9,  -999.0,9,  -999.0,-999.000,9,-999.000, -999.00,9,  425.50,-999.0000,9,-999.0000,9,-999.0000,9,-999.0000,9,-999.0000,9,-999.0000,-999.000,-999.0000,9, -999.00
318M20040615,        P02,     101,          1,         26,         26,2,20040720,       2133,    30.0008,  -169.7117,       5436,   475.4,   9.3109,  34.1374,2,  34.1349,2, 195.7000,2,   195.0,2,   25.61,2,   18.69,2,    0.00,2,    1.34,2,   2.962,2,   1.553,2,   0.112,2,  -999.0,9,  -999.0,9,-999.000,9,-999.0000,9, -999.00,9, -999.00,9,  -999.0,9,  -999.0,-999.000,9,-999.000, -999.00,9,  475.40,-999.0000,9,-999.0000,9,-999.0000,9,-999.0000,9,-999.0000,9,-999.0000,-999.000,-999.0000,9, -999.00
318M20040615,        P02,     101,          1,         25,         25,2,20040720,       2133,    30.0008,  -169.7117,       5436,   545.4,   7.7231,  34.0506,2,  34.0557,2, 170.9000,2,   171.0,2,   37.36,2,   23.65,2,    0.00,2,    1.71,2,   2.672,2,   1.377,2,   0.111,2,  -999.0,9,  2275.0,2,-999.000,9,-999.0000,9, -999.00,9, -999.00,9,  -999.0,9,  -999.0,-999.000,9,-999.000, -999.00,9,  545.40,-999.0000,9,-999.0000,9,-999.0000,9,-999.0000,9,-999.0000,9,-999.0000,-999.000,-999.0000,9, -999.00
318M20040615,        P02,     101,          1,         24,         24,2,20040720,       2133,    30.0008,  -169.7117,       5436,   645.3,   6.0829,  34.0274,2,  34.0271,2, 118.5000,2,   117.0,2,   60.10,2,   31.54,2,    0.00,2,    2.30,2,   1.661,2,   0.841,2,   0.063,2,  -999.0,9,  -999.0,9,-999.000,9,-999.0000,9, -999.00,9, -999.00,9,  -999.0,9,  -999.0,-999.000,9,-999.000, -999.00,9,  645.30,-999.0000,9,-999.0000,9,-999.0000,9,-999.0000,9,-999.0000,9,-999.0000,-999.000,-999.0000,9, -999.00
318M20040615,        P02,     101,          1,         23,         23,2,20040720,       2133,    30.0008,  -169.7117,       5436,   745.6,   4.9053,  34.0817,2,  34.0788,2,  78.7000,2,    73.8,2,   82.44,2,   37.46,2,    0.00,2,    2.71,2,   0.875,2,   0.432,2,   0.022,2,  -999.0,9,  2311.0,2,-999.000,9,-999.0000,9, -999.00,9, -999.00,9,  -999.0,9,  -999.0,-999.000,9,-999.000, -999.00,9,  745.60,-999.0000,9,-999.0000,9,-999.0000,9,-999.0000,9,-999.0000,9,-999.0000,-999.000,-999.0000,9, -999.00
318M20040615,        P02,     101,          1,         22,         22,2,20040720,       2133,    30.0008,  -169.7117,       5436,   850.6,   4.2473,  34.1695,2,  34.1684,2,  46.5000,2,    42.9,2,  101.51,2,   41.35,2,    0.00,2,    2.95,2,   0.370,2,   0.183,2,   0.013,2,  -999.0,9,  -999.0,9,-999.000,9,-999.0000,9, -999.00,9, -999.00,9,  -999.0,9,  -999.0,-999.000,9,-999.000, -999.00,9,  850.60,-999.0000,9,-999.0000,9,-999.0000,9,-999.0000,9,-999.0000,9,-999.0000,-999.000,-999.0000,9, -999.00
318M20040615,        P02,     101,          1,         21,         21,2,20040720,       2133,    30.0008,  -169.7117,       5436,   951.0,   3.8407,  34.2614,2,  34.2611,2,  26.1000,2,    24.5,2,  115.30,2,   43.38,2,    0.00,2,    3.10,2,   0.108,2,   0.057,2,   0.001,2,  -999.0,9,  2349.9,2,-999.000,9,-999.0000,9, -999.00,9, -999.00,9,  -999.0,9,  -999.0,-999.000,9,-999.000, -999.00,9,  951.00,-999.0000,9,-999.0000,9,-999.0000,9,-999.0000,9,-999.0000,9,-999.0000,-999.000,-999.0000,9, -999.00
318M20040615,        P02,     101,          1,         20,         20,2,20040720,       2133,    30.0008,  -169.7117,       5436,  1051.1,   3.5072,  34.3425,2,  34.3403,2,  19.3000,2,    18.2,2,  126.76,2,   44.14,2,    0.00,2,    3.17,2,   0.042,2,   0.024,2,   0.001,2,  -999.0,9,  -999.0,9,-999.000,9,-999.0000,9, -999.00,9, -999.00,9,  -999.0,9,  -999.0,-999.000,9,-999.000, -999.00,9, 1051.10,-999.0000,9,-999.0000,9,-999.0000,9,-999.0000,9,-999.0000,9,-999.0000,-999.000,-999.0000,9, -999.00
318M20040615,        P02,     101,          1,         19,         19,2,20040720,       2133,    30.0008,  -169.7117,       5436,  1150.9,   3.2856,  34.4125,2,  34.4137,2,  20.3000,2,    21.2,2,  133.53,2,   44.13,2,    0.00,2,    3.17,2,   0.010,2,   0.007,2,   0.001,2,  -999.0,9,  2377.1,2,-999.000,9,-999.0000,9, -999.00,9, -999.00,9,  -999.0,9,  -999.0,-999.000,9,-999.000, -999.00,9, 1150.90,-999.0000,9,-999.0000,9,-999.0000,9,-999.0000,9,-999.0000,9,-999.0000,-999.000,-999.0000,9, -999.00
318M20040615,        P02,     101,          1,         18,         18,2,20040720,       2133,    30.0008,  -169.7117,       5436,  1251.3,   3.0997,  34.4673,2,  34.4652,2,  29.6000,2,    30.4,2,  137.53,2,   43.51,2,    0.00,2,    3.13,2,   0.007,2,   0.007,2,   0.001,2,  -999.0,9,  -999.0,9,-999.000,9,-999.0000,9, -999.00,9, -999.00,9,  -999.0,9,  -999.0,-999.000,9,-999.000, -999.00,9, 1251.30,-999.0000,9,-999.0000,9,-999.0000,9,-999.0000,9,-999.0000,9,-999.0000,-999.000,-999.0000,9, -999.00
318M20040615,        P02,     101,          1,         17,         17,2,20040720,       2133,    30.0008,  -169.7117,       5436,  1357.2,   2.9128,  34.5009,2,  34.5009,2,  39.4000,2,    38.7,2,  141.73,2,   43.01,2,    0.00,2,    3.09,2,   0.007,2,   0.005,2,   0.001,2,  -999.0,9,  2392.1,2,-999.000,9,-999.0000,9, -999.00,9, -999.00,9,  -999.0,9,  -999.0,-999.000,9,-999.000, -999.00,9, 1357.20,-999.0000,9,-999.0000,9,-999.0000,9,-999.0000,9,-999.0000,9,-999.0000,-999.000,-999.0000,9, -999.00
318M20040615,        P02,     101,          1,         16,         16,2,20040720,       2133,    30.0008,  -169.7117,       5436,  1457.1,   2.7000,  34.5281,2,  34.5272,2,  45.3000,2,    45.0,2,  147.03,2,   42.67,2,    0.00,2,    3.06,2,   0.004,2,   0.003,2,   0.001,2,  -999.0,9,  -999.0,9,-999.000,9,-999.0000,9, -999.00,9, -999.00,9,  -999.0,9,  -999.0,-999.000,9,-999.000, -999.00,9, 1457.10,-999.0000,9,-999.0000,9,-999.0000,9,-999.0000,9,-999.0000,9,-999.0000,-999.000,-999.0000,9, -999.00
318M20040615,        P02,     101,          1,         15,         15,2,20040720,       2133,    30.0008,  -169.7117,       5436,  1557.9,   2.5437,  34.5476,2,  34.5486,2,  50.5000,2,    51.8,2,  150.64,2,   42.29,2,    0.00,2,    3.03,2,   0.006,2,   0.004,2,   0.001,2,  -999.0,9,  2403.1,2,-999.000,9,-999.0000,9, -999.00,9, -999.00,9,  -999.0,9,  -999.0,-999.000,9,-999.000, -999.00,9, 1557.90,-999.0000,9,-999.0000,9,-999.0000,9,-999.0000,9,-999.0000,9,-999.0000,-999.000,-999.0000,9, -999.00
318M20040615,        P02,     101,          1,         14,         14,2,20040720,       2133,    30.0008,  -169.7117,       5436,  1658.3,   2.3819,  34.5635,2,  34.5635,2,  54.4000,2,    55.7,2,  154.40,2,   42.00,2,    0.00,2,    3.01,2,   0.004,2,   0.004,2,   0.001,2,  -999.0,9,  -999.0,9,-999.000,9,-999.0000,9, -999.00,9, -999.00,9,  -999.0,9,  -999.0,-999.000,9,-999.000, -999.00,9, 1658.30,-999.0000,9,-999.0000,9,-999.0000,9,-999.0000,9,-999.0000,9,-999.0000,-999.000,-999.0000,9, -999.00
318M20040615,        P02,     101,          1,         13,         13,2,20040720,       2133,    30.0008,  -169.7117,       5436,  1764.0,   2.2465,  34.5747,2,  34.5741,2,  60.9000,2,    59.2,2,  158.16,2,   41.94,2,    0.00,2,    2.99,2,   0.002,2,   0.002,2,   0.001,2,  -999.0,9,  2410.7,2,-999.000,9,-999.0000,9, -999.00,9, -999.00,9,  -999.0,9,  -999.0,-999.000,9,-999.000, -999.00,9, 1764.00,-999.0000,9,-999.0000,9,-999.0000,9,-999.0000,9,-999.0000,9,-999.0000,-999.000,-999.0000,9, -999.00
318M20040615,        P02,     101,          1,         12,         12,2,20040720,       2133,    30.0008,  -169.7117,       5436,  1965.3,   2.0184,  34.6021,2,  34.6022,2,  75.1000,2,    74.5,2,  161.70,2,   41.16,2,    0.00,2,    2.92,2,-999.000,9,-999.000,9,-999.000,9,  -999.0,9,  -999.0,9,-999.000,9,-999.0000,9, -999.00,9, -999.00,9,  -999.0,9,  -999.0,-999.000,9,-999.000, -999.00,9, 1965.30,-999.0000,9,-999.0000,9,-999.0000,9,-999.0000,9,-999.0000,9,-999.0000,-999.000,-999.0000,9, -999.00
318M20040615,        P02,     101,          1,         11,         11,2,20040720,       2133,    30.0008,  -169.7117,       5436,  2131.6,   1.8775,  34.6192,2,  34.6181,2,  86.5000,2,    85.9,2,  162.71,2,   40.61,2,    0.00,2,    2.85,2,   0.002,2,   0.003,2,   0.001,2,  -999.0,9,  2418.6,6,-999.000,9,-999.0000,9, -999.00,9, -999.00,9,  -999.0,9,  -999.0,-999.000,9,-999.000, -999.00,9, 2131.60,-999.0000,9,-999.0000,9,-999.0000,9,-999.0000,9,-999.0000,9,-999.0000,-999.000,-999.0000,9, -999.00
318M20040615,        P02,     101,          1,         10,         10,2,20040720,       2133,    30.0008,  -169.7117,       5436,  2383.2,   1.7454,  34.6363,2,  34.6328,2,  99.8000,3,   100.1,2,  162.03,2,   39.62,2,    0.00,2,    2.79,2,-999.000,9,-999.000,9,-999.000,9,  -999.0,9,  -999.0,9,-999.000,9,-999.0000,9, -999.00,9, -999.00,9,  -999.0,9,  -999.0,-999.000,9,-999.000, -999.00,9, 2383.20,-999.0000,9,-999.0000,9,-999.0000,9,-999.0000,9,-999.0000,9,-999.0000,-999.000,-999.0000,9, -999.00
318M20040615,        P02,     101,          1,          9,          9,2,20040720,       2133,    30.0008,  -169.7117,       5436,  2635.8,   1.6487,  34.6494,2,  34.6485,2, 111.0000,2,   110.7,2,  161.79,2,   38.90,2,    0.00,2,    2.74,2,   0.005,2,   0.005,2,   0.001,2,  -999.0,9,  2420.9,2,-999.000,9,-999.0000,9, -999.00,9, -999.00,9,  -999.0,9,  -999.0,-999.000,9,-999.000, -999.00,9, 2635.80,-999.0000,9,-999.0000,9,-999.0000,9,-999.0000,9,-999.0000,9,-999.0000,-999.000,-999.0000,9, -999.00
318M20040615,        P02,     101,          1,          8,          8,2,20040720,       2133,    30.0008,  -169.7117,       5436,  2888.6,   1.5818,  34.6592,2,  34.6619,2, 119.8000,2,   120.4,2,  160.05,2,   38.15,2,    0.00,2,    2.69,2,-999.000,9,-999.000,9,-999.000,9,  -999.0,9,  -999.0,9,-999.000,9,-999.0000,9, -999.00,9, -999.00,9,  -999.0,9,  -999.0,-999.000,9,-999.000, -999.00,9, 2888.60,-999.0000,9,-999.0000,9,-999.0000,9,-999.0000,9,-999.0000,9,-999.0000,-999.000,-999.0000,9, -999.00
318M20040615,        P02,     101,          1,          7,          7,2,20040720,       2133,    30.0008,  -169.7117,       5436,  3151.8,   1.5345,  34.6668,2,  34.6660,2, 128.0000,2,   128.7,2,  158.75,2,   37.49,2,    0.00,2,    2.64,2,   0.006,2,   0.003,2,   0.001,2,  -999.0,9,  2421.6,2,-999.000,9,-999.0000,9, -999.00,9, -999.00,9,  -999.0,9,  -999.0,-999.000,9,-999.000, -999.00,9, 3151.80,-999.0000,9,-999.0000,9,-999.0000,9,-999.0000,9,-999.0000,9,-999.0000,-999.000,-999.0000,9, -999.00
318M20040615,        P02,     101,          1,          6,          6,2,20040720,       2133,    30.0008,  -169.7117,       5436,  3556.6,   1.4883,  34.6761,2,  34.6746,2, 138.1000,2,   138.9,2,  156.26,2,   36.80,2,    0.00,2,    2.59,2,-999.000,9,-999.000,9,-999.000,9,  -999.0,9,  -999.0,9,-999.000,9,-999.0000,9, -999.00,9, -999.00,9,  -999.0,9,  -999.0,-999.000,9,-999.000, -999.00,9, 3556.60,-999.0000,9,-999.0000,9,-999.0000,9,-999.0000,9,-999.0000,9,-999.0000,-999.000,-999.0000,9, -999.00
318M20040615,        P02,     101,          1,          5,          5,2,20040720,       2133,    30.0008,  -169.7117,       5436,  3962.7,   1.4714,  34.6823,2,  34.6813,2, 145.3000,2,   146.5,2,  154.95,2,   36.26,2,    0.00,2,    2.55,2,   0.002,2,   0.003,2,   0.001,2,  -999.0,9,  2420.7,2,-999.000,9,-999.0000,9, -999.00,9, -999.00,9,  -999.0,9,  -999.0,-999.000,9,-999.000, -999.00,9, 3962.70,-999.0000,9,-999.0000,9,-999.0000,9,-999.0000,9,-999.0000,9,-999.0000,-999.000,-999.0000,9, -999.00
318M20040615,        P02,     101,          1,          4,          4,2,20040720,       2133,    30.0008,  -169.7117,       5436,  4379.0,   1.4827,  34.6861,2,  34.6848,2, 150.8000,2,   151.1,2,  154.07,2,   35.93,2,    0.00,2,    2.52,2,-999.000,9,-999.000,9,-999.000,9,  -999.0,9,  2422.2,2,-999.000,9,-999.0000,9, -999.00,9, -999.00,9,  -999.0,9,  -999.0,-999.000,9,-999.000, -999.00,9, 4379.00,-999.0000,9,-999.0000,9,-999.0000,9,-999.0000,9,-999.0000,9,-999.0000,-999.000,-999.0000,9, -999.00
318M20040615,        P02,     101,          1,          3,          3,2,20040720,       2133,    30.0008,  -169.7117,       5436,  4786.6,   1.5068,  34.6886,2,  34.6877,4, 155.6000,2,   155.0,2,  151.70,2,   35.76,2,    0.00,2,    2.50,2,   0.004,2,   0.004,2,   0.001,2,  -999.0,9,  2421.1,2,-999.000,9,-999.0000,9, -999.00,9, -999.00,9,  -999.0,9,  -999.0,-999.000,9,-999.000, -999.00,9, 4786.60,-999.0000,9,-999.0000,9,-999.0000,9,-999.0000,9,-999.0000,9,-999.0000,-999.000,-999.0000,9, -999.00
318M20040615,        P02,     101,          1,          2,          2,2,20040720,       2133,    30.0008,  -169.7117,       5436,  5307.1,   1.5324,  34.6915,2,  34.6903,4, 169.2000,2,   162.3,2,  144.04,2,   35.33,2,    0.00,2,    2.46,2,-999.000,9,-999.000,9,-999.000,9,  -999.0,9,  2414.1,2,-999.000,9,-999.0000,9, -999.00,9, -999.00,9,  -999.0,9,  -999.0,-999.000,9,-999.000, -999.00,9, 5307.10,-999.0000,9,-999.0000,9,-999.0000,9,-999.0000,9,-999.0000,9,-999.0000,-999.000,-999.0000,9, -999.00
318M20040615,        P02,     101,          1,          1,          1,2,20040720,       2133,    30.0008,  -169.7117,       5436,  5562.3,   1.5518,  34.6926,2,  34.6920,4, 175.9000,2,   165.8,2,  141.89,2,   35.16,2,    0.00,2,    2.44,2,   0.002,2,   0.005,2,   0.001,2,  -999.0,9,  2411.2,6,-999.000,9,-999.0000,9, -999.00,9, -999.00,9,  -999.0,9,  -999.0,-999.000,9,-999.000, -999.00,9, 5562.30,-999.0000,9,-999.0000,9,-999.0000,9,-999.0000,9,-999.0000,9,-999.0000,-999.000,-999.0000,9, -999.00