BOTTLE,20131027SIOCCHRJL
EXPOCODE,SECT_ID,STNNBR,CASTNO,SAMPNO,BTLNBR,BTLNBR_FLAG_W,DATE,TIME,LATITUDE,LONGITUDE,DEPTH,CTDPRS,CTDTMP,CTDSAL,CTDSAL_FLAG_W,SALNTY,SALNTY_FLAG_W,CTDOXY,CTDOXY_FLAG_W,OXYGEN,OXYGEN_FLAG_W,SILCAT,SILCAT_FLAG_W,NITRAT,NITRAT_FLAG_W,NITRIT,NITRIT_FLAG_W,PHSPHT,PHSPHT_FLAG_W,CFC-11,CFC-11_FLAG_W,CFC-12,CFC-12_FLAG_W,CFC113,CFC113_FLAG_W,TCARBN,TCARBN_FLAG_W,ALKALI,ALKALI_FLAG_W,TRITUM,TRITUM_FLAG_W,HELIUM,HELIUM_FLAG_W,DELHE3,DELHE3_FLAG_W,DELC13,DELC13_FLAG_W,DELC14,DELC14_FLAG_W,C14ERR,NEON,NEON_FLAG_W,NEONER,DOC,DOC_FLAG_W,CTDRAW,CDOM380,CDOM380_FLAG_W,CDOM325,CDOM325_FLAG_W,CDOMSL,CDOMSL_FLAG_W,CDOM340,CDOM340_FLAG_W,CDOMSN,CDOMSN_FLAG_W,HELIER,TRITER,CDOM412,CDOM412_FLAG_W,DELHER
,,,,,,,,,,,METERS,DBAR,ITS-90,PSS-78,,PSS-78,,UMOL/KG,,UMOL/KG,,UMOL/KG,,UMOL/KG,,UMOL/KG,,UMOL/KG,,PMOL/KG,,PMOL/KG,,PMOL/KG,,UMOL/KG,,UMOL/KG,,TU,,NMOL/KG,,PERCNT,,/MILLE,,/MILLE,,/MILLE,NMOL/KG,,NMOL/KG,UMOL/KG,,DBAR,1/M,,1/M,,1/NM,,1/M,,1/NM,,NMOL/KG,TU,1/M,,PERCNT
318M20040615,        P02,      55,          1,         36,         36,2,20040706,       0116,     29.999,    160.595,       5636,     9.8,  26.7267,  35.0782,2,  35.0790,2, 204.6000,2,   204.0,2,    1.18,2,    0.15,2,    0.00,2,    0.02,2,   1.716,2,   1.082,2,   0.123,2,  1988.4,6,  2303.8,6,-999.000,9,-999.0000,9, -999.00,9, -999.00,9,  -999.0,9,  -999.0,-999.000,9,-999.000, -999.00,9,    9.80,-999.0000,9,-999.0000,9,-999.0000,9,-999.0000,9,-999.0000,9,-999.0000,-999.000,-999.0000,9, -999.00
318M20040615,        P02,      55,          1,         35,         35,2,20040706,       0116,     29.999,    160.595,       5636,    51.0,  20.0518,  34.9123,2,  34.9153,2, 236.5000,2,   237.1,2,    1.54,2,    0.09,2,    0.00,2,    0.03,2,   2.295,2,   1.388,2,   0.153,2,  1994.9,2,  2292.8,2,-999.000,9,-999.0000,9, -999.00,9, -999.00,9,  -999.0,9,  -999.0,-999.000,9,-999.000, -999.00,9,   51.00,-999.0000,9,-999.0000,9,-999.0000,9,-999.0000,9,-999.0000,9,-999.0000,-999.000,-999.0000,9, -999.00
318M20040615,        P02,      55,          1,         34,         34,2,20040706,       0116,     29.999,    160.595,       5636,   101.1,  18.1087,  34.8533,2,  34.8517,2, 215.4000,2,   216.4,2,    2.44,2,    1.87,2,    0.08,2,    0.18,2,   2.403,2,   1.439,2,   0.118,2,  2021.5,2,  2288.6,2,-999.000,9,-999.0000,9, -999.00,9, -999.00,9,  -999.0,9,  -999.0,-999.000,9,-999.000, -999.00,9,  101.10,-999.0000,9,-999.0000,9,-999.0000,9,-999.0000,9,-999.0000,9,-999.0000,-999.000,-999.0000,9, -999.00
318M20040615,        P02,      55,          1,         33,         33,2,20040706,       0116,     29.999,    160.595,       5636,   150.9,  17.4417,  34.8196,2,  34.8152,2, 219.9000,2,   221.2,2,    2.79,2,    3.05,2,    0.02,2,    0.21,2,   2.444,6,   1.465,6,   0.142,6,  2021.8,2,  2286.1,2,-999.000,9,-999.0000,9, -999.00,9, -999.00,9,  -999.0,9,  -999.0,-999.000,9,-999.000, -999.00,9,  150.90,-999.0000,9,-999.0000,9,-999.0000,9,-999.0000,9,-999.0000,9,-999.0000,-999.000,-999.0000,9, -999.00
318M20040615,        P02,      55,          1,         32,         32,2,20040706,       0116,     29.999,    160.595,       5636,   200.4,  16.8602,  34.7683,2,  34.7678,2, 223.6000,2,   224.1,2,    3.52,2,    3.74,2,    0.01,2,    0.26,2,   2.509,2,   1.493,2,   0.135,2,  2023.5,2,  2283.4,2,-999.000,9,-999.0000,9, -999.00,9, -999.00,9,  -999.0,9,  -999.0,-999.000,9,-999.000, -999.00,9,  200.40,-999.0000,9,-999.0000,9,-999.0000,9,-999.0000,9,-999.0000,9,-999.0000,-999.000,-999.0000,9, -999.00
318M20040615,        P02,      55,          1,         31,         31,2,20040706,       0116,     29.999,    160.595,       5636,   250.8,  16.5349,  34.7417,2,  34.7420,2, 222.5000,2,   224.4,2,    4.06,2,    4.17,2,    0.01,2,    0.29,2,   2.505,2,   1.497,2,   0.126,2,  2025.8,2,  -999.0,9,-999.000,9,-999.0000,9, -999.00,9, -999.00,9,  -999.0,9,  -999.0,-999.000,9,-999.000, -999.00,9,  250.80,-999.0000,9,-999.0000,9,-999.0000,9,-999.0000,9,-999.0000,9,-999.0000,-999.000,-999.0000,9, -999.00
318M20040615,        P02,      55,          1,         30,         30,2,20040706,       0116,     29.999,    160.595,       5636,   300.3,  16.1140,  34.7062,2,  34.7061,2, 216.5000,2,   221.5,2,    5.13,2,    5.23,2,    0.01,2,    0.36,2,   2.546,2,   1.509,2,   0.111,2,  2033.4,2,  2281.3,2,-999.000,9,-999.0000,9, -999.00,9, -999.00,9,  -999.0,9,  -999.0,-999.000,9,-999.000, -999.00,9,  300.30,-999.0000,9,-999.0000,9,-999.0000,9,-999.0000,9,-999.0000,9,-999.0000,-999.000,-999.0000,9, -999.00
318M20040615,        P02,      55,          1,         29,         29,2,20040706,       0116,     29.999,    160.595,       5636,   350.6,  15.5437,  34.6623,2,  34.6629,2, 224.1000,2,   219.3,2,    6.22,2,    6.19,2,    0.01,2,    0.43,2,   2.596,2,   1.512,2,   0.103,2,  -999.0,9,  -999.0,9,-999.000,9,-999.0000,9, -999.00,9, -999.00,9,  -999.0,9,  -999.0,-999.000,9,-999.000, -999.00,9,  350.60,-999.0000,9,-999.0000,9,-999.0000,9,-999.0000,9,-999.0000,9,-999.0000,-999.000,-999.0000,9, -999.00
318M20040615,        P02,      55,          1,         28,         28,2,20040706,       0116,     29.999,    160.595,       5636,   400.2,  14.2462,  34.5363,2,  34.5381,2, 201.2000,2,   202.2,2,   10.38,2,    9.61,2,    0.00,2,    0.66,2,   2.645,2,   1.483,2,   0.059,2,  2066.9,2,  2276.3,2,-999.000,9,-999.0000,9, -999.00,9, -999.00,9,  -999.0,9,  -999.0,-999.000,9,-999.000, -999.00,9,  400.20,-999.0000,9,-999.0000,9,-999.0000,9,-999.0000,9,-999.0000,9,-999.0000,-999.000,-999.0000,9, -999.00
318M20040615,        P02,      55,          1,         27,         27,2,20040706,       0116,     29.999,    160.595,       5636,   450.2,  13.1273,  34.4469,2,  34.4468,2, 202.2000,2,   200.9,2,   12.74,2,   11.38,2,    0.00,2,    0.80,2,   2.733,2,   1.524,2,   0.056,2,  -999.0,9,  -999.0,9,-999.000,9,-999.0000,9, -999.00,9, -999.00,9,  -999.0,9,  -999.0,-999.000,9,-999.000, -999.00,9,  450.20,-999.0000,9,-999.0000,9,-999.0000,9,-999.0000,9,-999.0000,9,-999.0000,-999.000,-999.0000,9, -999.00
318M20040615,        P02,      55,          1,         26,         26,2,20040706,       0116,     29.999,    160.595,       5636,   500.3,  11.8279,  34.3498,2,  34.3477,2, 201.6000,2,   200.1,2,   16.55,2,   13.68,2,    0.00,2,    0.97,2,   2.825,2,   1.535,2,   0.074,2,  -999.0,9,  2272.0,2,-999.000,9,-999.0000,9, -999.00,9, -999.00,9,  -999.0,9,  -999.0,-999.000,9,-999.000, -999.00,9,  500.30,-999.0000,9,-999.0000,9,-999.0000,9,-999.0000,9,-999.0000,9,-999.0000,-999.000,-999.0000,9, -999.00
318M20040615,        P02,      55,          1,         25,         25,2,20040706,       0116,     29.999,    160.595,       5636,   599.9,   9.5032,  34.1777,2,  34.1793,2, 184.8000,2,   185.2,2,   27.28,2,   19.04,2,    0.00,2,    1.36,2,   2.704,2,   1.444,2,   0.097,2,  2134.1,2,  2272.6,2,-999.000,9,-999.0000,9, -999.00,9, -999.00,9,  -999.0,9,  -999.0,-999.000,9,-999.000, -999.00,9,  599.90,-999.0000,9,-999.0000,9,-999.0000,9,-999.0000,9,-999.0000,9,-999.0000,-999.000,-999.0000,9, -999.00
318M20040615,        P02,      55,          1,         24,         24,2,20040706,       0116,     29.999,    160.595,       5636,   700.1,   7.1371,  34.0455,2,  34.0464,2, 149.3000,2,   154.8,2,   46.62,2,   26.14,2,    0.00,2,    1.90,2,   2.327,2,   1.208,2,   0.099,2,  -999.0,9,  -999.0,9,-999.000,9,-999.0000,9, -999.00,9, -999.00,9,  -999.0,9,  -999.0,-999.000,9,-999.000, -999.00,9,  700.10,-999.0000,9,-999.0000,9,-999.0000,9,-999.0000,9,-999.0000,9,-999.0000,-999.000,-999.0000,9, -999.00
318M20040615,        P02,      55,          1,         23,         23,2,20040706,       0116,     29.999,    160.595,       5636,   800.4,   5.7206,  34.0684,2,  34.0691,2, 103.7000,2,   102.2,2,   69.33,2,   33.70,2,    0.00,2,    2.43,2,   1.366,2,   0.693,2,   0.047,2,  -999.0,9,  -999.0,9,-999.000,9,-999.0000,9, -999.00,9, -999.00,9,  -999.0,9,  -999.0,-999.000,9,-999.000, -999.00,9,  800.40,-999.0000,9,-999.0000,9,-999.0000,9,-999.0000,9,-999.0000,9,-999.0000,-999.000,-999.0000,9, -999.00
318M20040615,        P02,      55,          1,         22,         22,2,20040706,       0116,     29.999,    160.595,       5636,   900.2,   4.8364,  34.1423,2,  34.1411,2,  66.9000,2,    66.8,2,   88.44,2,   38.33,2,    0.00,2,    2.78,2,   0.688,2,   0.344,2,   0.024,2,  2292.1,2,  2327.9,2,-999.000,9,-999.0000,9, -999.00,9, -999.00,9,  -999.0,9,  -999.0,-999.000,9,-999.000, -999.00,9,  900.20,-999.0000,9,-999.0000,9,-999.0000,9,-999.0000,9,-999.0000,9,-999.0000,-999.000,-999.0000,9, -999.00
318M20040615,        P02,      55,          1,         21,         21,2,20040706,       0116,     29.999,    160.595,       5636,   999.7,   4.2317,  34.2262,2,  34.2281,2,  48.0000,2,    46.2,2,  104.64,2,   40.89,2,    0.00,2,    2.96,2,   0.334,2,   0.169,2,   0.012,2,  -999.0,9,  -999.0,9,-999.000,9,-999.0000,9, -999.00,9, -999.00,9,  -999.0,9,  -999.0,-999.000,9,-999.000, -999.00,9,  999.70,-999.0000,9,-999.0000,9,-999.0000,9,-999.0000,9,-999.0000,9,-999.0000,-999.000,-999.0000,9, -999.00
318M20040615,        P02,      55,          1,         20,         20,2,20040706,       0116,     29.999,    160.595,       5636,  1100.6,   3.6804,  34.2937,2,  34.2934,2,  39.8000,2,    39.9,2,  120.16,2,   41.86,2,    0.00,2,    3.03,2,   0.253,2,   0.126,2,   0.009,2,  -999.0,9,  -999.0,9,-999.000,9,-999.0000,9, -999.00,9, -999.00,9,  -999.0,9,  -999.0,-999.000,9,-999.000, -999.00,9, 1100.60,-999.0000,9,-999.0000,9,-999.0000,9,-999.0000,9,-999.0000,9,-999.0000,-999.000,-999.0000,9, -999.00
318M20040615,        P02,      55,          1,         19,         19,2,20040706,       0116,     29.999,    160.595,       5636,  1201.2,   3.3422,  34.3580,2,  34.3588,2,  34.0000,2,    33.6,2,  130.55,2,   42.66,2,    0.00,2,    3.09,2,   0.110,2,   0.057,2,   0.005,2,  2358.4,2,  2368.4,2,-999.000,9,-999.0000,9, -999.00,9, -999.00,9,  -999.0,9,  -999.0,-999.000,9,-999.000, -999.00,9, 1201.20,-999.0000,9,-999.0000,9,-999.0000,9,-999.0000,9,-999.0000,9,-999.0000,-999.000,-999.0000,9, -999.00
318M20040615,        P02,      55,          1,         18,         18,2,20040706,       0116,     29.999,    160.595,       5636,  1301.7,   3.0760,  34.4101,2,  34.4112,2,  33.0000,2,    33.5,2,  138.54,2,   42.89,2,    0.00,2,    3.10,2,   0.055,2,   0.035,2,   0.001,2,  2366.7,6,  2378.5,2,-999.000,9,-999.0000,9, -999.00,9, -999.00,9,  -999.0,9,  -999.0,-999.000,9,-999.000, -999.00,9, 1301.70,-999.0000,9,-999.0000,9,-999.0000,9,-999.0000,9,-999.0000,9,-999.0000,-999.000,-999.0000,9, -999.00
318M20040615,        P02,      55,          1,         17,         17,2,20040706,       0116,     29.999,    160.595,       5636,  1396.6,   2.8778,  34.4488,2,  34.4477,2,  35.3000,2,    35.2,2,  143.56,2,   42.83,2,    0.00,2,    3.10,2,   0.033,2,   0.014,2,   0.003,2,  2372.4,2,  2385.5,2,-999.000,9,-999.0000,9, -999.00,9, -999.00,9,  -999.0,9,  -999.0,-999.000,9,-999.000, -999.00,9, 1396.60,-999.0000,9,-999.0000,9,-999.0000,9,-999.0000,9,-999.0000,9,-999.0000,-999.000,-999.0000,9, -999.00
318M20040615,        P02,      55,          1,         16,         16,2,20040706,       0116,     29.999,    160.595,       5636,  1497.5,   2.7011,  34.4865,2,  34.4870,2,  40.8000,2,    42.0,2,  147.44,2,   42.59,2,    0.00,2,    3.08,2,   0.014,2,   0.008,2,   0.000,2,  -999.0,9,  -999.0,9,-999.000,9,-999.0000,9, -999.00,9, -999.00,9,  -999.0,9,  -999.0,-999.000,9,-999.000, -999.00,9, 1497.50,-999.0000,9,-999.0000,9,-999.0000,9,-999.0000,9,-999.0000,9,-999.0000,-999.000,-999.0000,9, -999.00
318M20040615,        P02,      55,          1,         15,         15,2,20040706,       0116,     29.999,    160.595,       5636,  1597.6,   2.5233,  34.5126,2,  34.5131,2,  45.8000,2,    46.2,2,  151.89,2,   42.57,2,    0.00,2,    3.06,2,   0.009,2,   0.005,2,   0.000,2,  2375.9,2,  2398.2,2,-999.000,9,-999.0000,9, -999.00,9, -999.00,9,  -999.0,9,  -999.0,-999.000,9,-999.000, -999.00,9, 1597.60,-999.0000,9,-999.0000,9,-999.0000,9,-999.0000,9,-999.0000,9,-999.0000,-999.000,-999.0000,9, -999.00
318M20040615,        P02,      55,          1,         14,         14,2,20040706,       0116,     29.999,    160.595,       5636,  1698.6,   2.3727,  34.5375,2,  34.5380,2,  51.6000,2,    53.6,2,  154.68,2,   42.40,2,    0.00,2,    3.03,2,   0.009,2,   0.003,2,   0.000,2,  -999.0,9,  -999.0,9,-999.000,9,-999.0000,9, -999.00,9, -999.00,9,  -999.0,9,  -999.0,-999.000,9,-999.000, -999.00,9, 1698.60,-999.0000,9,-999.0000,9,-999.0000,9,-999.0000,9,-999.0000,9,-999.0000,-999.000,-999.0000,9, -999.00
318M20040615,        P02,      55,          1,         13,         13,2,20040706,       0116,     29.999,    160.595,       5636,  1798.0,   2.2315,  34.5567,2,  34.5577,2,  57.8000,2,    58.9,2,  157.84,2,   42.21,2,    0.00,2,    3.00,2,   0.007,2,   0.005,2,   0.000,2,  2375.5,2,  2405.8,2,-999.000,9,-999.0000,9, -999.00,9, -999.00,9,  -999.0,9,  -999.0,-999.000,9,-999.000, -999.00,9, 1798.00,-999.0000,9,-999.0000,9,-999.0000,9,-999.0000,9,-999.0000,9,-999.0000,-999.000,-999.0000,9, -999.00
318M20040615,        P02,      55,          1,         12,         12,2,20040706,       0116,     29.999,    160.595,       5636,  1999.0,   2.0149,  34.5918,2,  34.5921,2,  73.1000,2,    76.5,2,  159.68,2,   41.17,2,    0.00,2,    2.92,2,   0.004,2,   0.001,2,   0.002,2,  -999.0,9,  -999.0,9,-999.000,9,-999.0000,9, -999.00,9, -999.00,9,  -999.0,9,  -999.0,-999.000,9,-999.000, -999.00,9, 1999.00,-999.0000,9,-999.0000,9,-999.0000,9,-999.0000,9,-999.0000,9,-999.0000,-999.000,-999.0000,9, -999.00
318M20040615,        P02,      55,          1,         11,         11,2,20040706,       0116,     29.999,    160.595,       5636,  2246.8,   1.8517,  34.6184,2,  34.6194,2,  92.6000,2,    92.7,2,  159.11,2,   40.01,2,    0.00,2,    2.82,2,   0.001,2,   0.003,2,   0.000,2,  2361.3,2,  2412.9,2,-999.000,9,-999.0000,9, -999.00,9, -999.00,9,  -999.0,9,  -999.0,-999.000,9,-999.000, -999.00,9, 2246.80,-999.0000,9,-999.0000,9,-999.0000,9,-999.0000,9,-999.0000,9,-999.0000,-999.000,-999.0000,9, -999.00
318M20040615,        P02,      55,          1,         10,         10,2,20040706,       0116,     29.999,    160.595,       5636,  2499.7,   1.7305,  34.6382,2,  34.6387,2, 107.5000,2,   108.2,2,  157.24,2,   38.92,2,    0.00,2,    2.76,2,   0.002,2,   0.002,2,   0.000,2,  -999.0,9,  -999.0,9,-999.000,9,-999.0000,9, -999.00,9, -999.00,9,  -999.0,9,  -999.0,-999.000,9,-999.000, -999.00,9, 2499.70,-999.0000,9,-999.0000,9,-999.0000,9,-999.0000,9,-999.0000,9,-999.0000,-999.000,-999.0000,9, -999.00
318M20040615,        P02,      55,          1,          9,          9,2,20040706,       0116,     29.999,    160.595,       5636,  2751.6,   1.6481,  34.6520,2,  34.6520,2, 118.7000,2,   119.8,2,  155.02,2,   38.06,2,    0.00,2,    2.69,2,   0.002,2,   0.001,2,   0.000,2,  2346.4,2,  2417.1,2,-999.000,9,-999.0000,9, -999.00,9, -999.00,9,  -999.0,9,  -999.0,-999.000,9,-999.000, -999.00,9, 2751.60,-999.0000,9,-999.0000,9,-999.0000,9,-999.0000,9,-999.0000,9,-999.0000,-999.000,-999.0000,9, -999.00
318M20040615,        P02,      55,          1,          8,          8,2,20040706,       0116,     29.999,    160.595,       5636,  2999.8,   1.5906,  34.6613,2,  34.6619,2, 127.8000,2,   128.8,2,  153.53,2,   37.44,2,    0.00,2,    2.64,2,   0.003,2,  -0.001,2,   0.003,2,  -999.0,9,  2417.3,2,-999.000,9,-999.0000,9, -999.00,9, -999.00,9,  -999.0,9,  -999.0,-999.000,9,-999.000, -999.00,9, 2999.80,-999.0000,9,-999.0000,9,-999.0000,9,-999.0000,9,-999.0000,9,-999.0000,-999.000,-999.0000,9, -999.00
318M20040615,        P02,      55,          1,          7,          7,2,20040706,       0116,     29.999,    160.595,       5636,  3399.8,   1.5228,  34.6708,2,  34.6784,2, 136.0000,3,   135.8,2,  154.12,2,   36.93,2,    0.00,2,    2.61,2,   0.002,2,   0.001,2,   0.005,2,  2336.6,2,  2418.0,2,-999.000,9,-999.0000,9, -999.00,9, -999.00,9,  -999.0,9,  -999.0,-999.000,9,-999.000, -999.00,9, 3399.80,-999.0000,9,-999.0000,9,-999.0000,9,-999.0000,9,-999.0000,9,-999.0000,-999.000,-999.0000,9, -999.00
318M20040615,        P02,      55,          1,          6,          6,2,20040706,       0116,     29.999,    160.595,       5636,  3790.9,   1.4916,  34.6780,2,  34.6782,2, 143.7000,2,   144.4,2,  152.05,2,   36.29,2,    0.00,2,    2.56,2,   0.003,2,   0.002,2,   0.000,2,  -999.0,9,  -999.0,9,-999.000,9,-999.0000,9, -999.00,9, -999.00,9,  -999.0,9,  -999.0,-999.000,9,-999.000, -999.00,9, 3790.90,-999.0000,9,-999.0000,9,-999.0000,9,-999.0000,9,-999.0000,9,-999.0000,-999.000,-999.0000,9, -999.00
318M20040615,        P02,      55,          1,          5,          5,2,20040706,       0116,     29.999,    160.595,       5636,  4197.1,   1.4689,  34.6846,2,  34.6849,2, 151.0000,2,   151.9,2,  150.55,2,   35.95,2,    0.00,2,    2.53,2,   0.003,2,   0.001,2,   0.001,2,  2325.8,2,  2415.9,2,-999.000,9,-999.0000,9, -999.00,9, -999.00,9,  -999.0,9,  -999.0,-999.000,9,-999.000, -999.00,9, 4197.10,-999.0000,9,-999.0000,9,-999.0000,9,-999.0000,9,-999.0000,9,-999.0000,-999.000,-999.0000,9, -999.00
318M20040615,        P02,      55,          1,          4,          4,2,20040706,       0116,     29.999,    160.595,       5636,  4592.7,   1.4802,  34.6881,2,  34.6882,2, 158.4000,2,   158.0,2,  146.62,2,   35.60,2,    0.00,2,    2.48,2,   0.004,2,   0.003,2,   0.000,2,  -999.0,9,  -999.0,9,-999.000,9,-999.0000,9, -999.00,9, -999.00,9,  -999.0,9,  -999.0,-999.000,9,-999.000, -999.00,9, 4592.70,-999.0000,9,-999.0000,9,-999.0000,9,-999.0000,9,-999.0000,9,-999.0000,-999.000,-999.0000,9, -999.00
318M20040615,        P02,      55,          1,          3,          3,2,20040706,       0116,     29.999,    160.595,       5636,  4999.1,   1.4799,  34.6923,2,  34.6932,2, 164.9000,2,   165.6,2,  141.59,2,   35.20,2,    0.00,2,    2.44,2,   0.003,2,   0.003,2,   0.003,2,  2311.6,2,  2410.0,2,-999.000,9,-999.0000,9, -999.00,9, -999.00,9,  -999.0,9,  -999.0,-999.000,9,-999.000, -999.00,9, 4999.10,-999.0000,9,-999.0000,9,-999.0000,9,-999.0000,9,-999.0000,9,-999.0000,-999.000,-999.0000,9, -999.00
318M20040615,        P02,      55,          1,          2,          2,2,20040706,       0116,     29.999,    160.595,       5636,  5394.3,   1.5147,  34.6936,2,  34.6944,2, 167.6000,2,   168.2,2,  139.72,2,   34.90,2,    0.00,2,    2.42,2,   0.004,2,   0.005,2,   0.004,2,  2308.0,2,  2408.9,6,-999.000,9,-999.0000,9, -999.00,9, -999.00,9,  -999.0,9,  -999.0,-999.000,9,-999.000, -999.00,9, 5394.30,-999.0000,9,-999.0000,9,-999.0000,9,-999.0000,9,-999.0000,9,-999.0000,-999.000,-999.0000,9, -999.00
318M20040615,        P02,      55,          1,          1,          1,2,20040706,       0116,     29.999,    160.595,       5636,  5881.6,   1.5529,  34.6955,2,  34.6967,2, 171.7000,2,   172.2,2,  136.37,2,   34.62,2,    0.00,2,    2.40,2,   0.007,2,   0.004,2,   0.000,2,  2304.6,2,  2404.8,6,-999.000,9,-999.0000,9, -999.00,9, -999.00,9,  -999.0,9,  -999.0,-999.000,9,-999.000, -999.00,9, 5881.60,-999.0000,9,-999.0000,9,-999.0000,9,-999.0000,9,-999.0000,9,-999.0000,-999.000,-999.0000,9, -999.00