BOTTLE,20131027SIOCCHRJL
EXPOCODE,SECT_ID,STNNBR,CASTNO,SAMPNO,BTLNBR,BTLNBR_FLAG_W,DATE,TIME,LATITUDE,LONGITUDE,DEPTH,CTDPRS,CTDTMP,CTDSAL,CTDSAL_FLAG_W,SALNTY,SALNTY_FLAG_W,CTDOXY,CTDOXY_FLAG_W,OXYGEN,OXYGEN_FLAG_W,SILCAT,SILCAT_FLAG_W,NITRAT,NITRAT_FLAG_W,NITRIT,NITRIT_FLAG_W,PHSPHT,PHSPHT_FLAG_W,CFC-11,CFC-11_FLAG_W,CFC-12,CFC-12_FLAG_W,CFC113,CFC113_FLAG_W,TCARBN,TCARBN_FLAG_W,ALKALI,ALKALI_FLAG_W,TRITUM,TRITUM_FLAG_W,HELIUM,HELIUM_FLAG_W,DELHE3,DELHE3_FLAG_W,DELC13,DELC13_FLAG_W,DELC14,DELC14_FLAG_W,C14ERR,NEON,NEON_FLAG_W,NEONER,DOC,DOC_FLAG_W,CTDRAW,CDOM380,CDOM380_FLAG_W,CDOM325,CDOM325_FLAG_W,CDOMSL,CDOMSL_FLAG_W,CDOM340,CDOM340_FLAG_W,CDOMSN,CDOMSN_FLAG_W,HELIER,TRITER,CDOM412,CDOM412_FLAG_W,DELHER
,,,,,,,,,,,METERS,DBAR,ITS-90,PSS-78,,PSS-78,,UMOL/KG,,UMOL/KG,,UMOL/KG,,UMOL/KG,,UMOL/KG,,UMOL/KG,,PMOL/KG,,PMOL/KG,,PMOL/KG,,UMOL/KG,,UMOL/KG,,TU,,NMOL/KG,,PERCNT,,/MILLE,,/MILLE,,/MILLE,NMOL/KG,,NMOL/KG,UMOL/KG,,DBAR,1/M,,1/M,,1/NM,,1/M,,1/NM,,NMOL/KG,TU,1/M,,PERCNT
318M20040615,        P02,      45,          1,         36,         36,2,20040702,       0452,     29.998,   153.1537,       5847,    12.5,  27.4275,  35.0957,2,  35.0953,2, 202.1000,2,   201.5,2,    1.18,2,    0.08,2,    0.00,2,    0.04,2,   1.694,2,   1.071,2,   0.117,2,  1984.3,6,  2306.0,6,-999.000,9,-999.0000,9, -999.00,9, -999.00,9,  -999.0,9,  -999.0,-999.000,9,-999.000, -999.00,9,   12.50,-999.0000,9,-999.0000,9,-999.0000,9,-999.0000,9,-999.0000,9,-999.0000,-999.000,-999.0000,9, -999.00
318M20040615,        P02,      45,          1,         35,         35,2,20040702,       0452,     29.998,   153.1537,       5847,    42.8,  22.9601,  35.0542,2,  35.0529,2, 229.8000,2,   230.5,2,    1.17,2,    0.08,2,    0.00,2,    0.03,2,   2.100,6,   1.302,6,   0.139,6,  1985.9,2,  2303.2,2,-999.000,9,-999.0000,9, -999.00,9, -999.00,9,  -999.0,9,  -999.0,-999.000,9,-999.000, -999.00,9,   42.80,-999.0000,9,-999.0000,9,-999.0000,9,-999.0000,9,-999.0000,9,-999.0000,-999.000,-999.0000,9, -999.00
318M20040615,        P02,      45,          1,         34,         34,2,20040702,       0452,     29.998,   153.1537,       5847,    87.0,  20.0855,  35.0415,2,  35.0419,2, 222.7000,2,   223.9,2,    1.34,2,    0.08,2,    0.00,2,    0.05,2,   2.255,2,   1.379,2,   0.134,2,  2002.9,2,  2299.8,2,-999.000,9,-999.0000,9, -999.00,9, -999.00,9,  -999.0,9,  -999.0,-999.000,9,-999.000, -999.00,9,   87.00,-999.0000,9,-999.0000,9,-999.0000,9,-999.0000,9,-999.0000,9,-999.0000,-999.000,-999.0000,9, -999.00
318M20040615,        P02,      45,          1,         33,         33,2,20040702,       0452,     29.998,   153.1537,       5847,   136.6,  18.3921,  34.8582,2,  34.8593,2, 207.1000,2,   208.5,2,    2.24,2,    2.34,2,    0.04,2,    0.21,2,   2.392,2,   1.389,2,   0.089,2,  2021.6,2,  2289.6,2,-999.000,9,-999.0000,9, -999.00,9, -999.00,9,  -999.0,9,  -999.0,-999.000,9,-999.000, -999.00,9,  136.60,-999.0000,9,-999.0000,9,-999.0000,9,-999.0000,9,-999.0000,9,-999.0000,-999.000,-999.0000,9, -999.00
318M20040615,        P02,      45,          1,         32,         32,2,20040702,       0452,     29.998,   153.1537,       5847,   186.4,  17.3946,  34.7695,2,  34.7706,2, 205.2000,2,   208.8,2,    3.13,2,    4.01,2,    0.02,2,    0.31,2,   2.501,2,   1.498,2,   0.067,2,  2031.2,2,  2283.3,2,-999.000,9,-999.0000,9, -999.00,9, -999.00,9,  -999.0,9,  -999.0,-999.000,9,-999.000, -999.00,9,  186.40,-999.0000,9,-999.0000,9,-999.0000,9,-999.0000,9,-999.0000,9,-999.0000,-999.000,-999.0000,9, -999.00
318M20040615,        P02,      45,          1,         31,         31,2,20040702,       0452,     29.998,   153.1537,       5847,   237.0,  16.9745,  34.7373,2,  34.7364,2, 208.1000,2,   209.4,2,    3.67,2,    4.66,2,    0.01,2,    0.35,2,   2.529,2,   1.520,2,   0.050,2,  2031.8,2,  2280.7,2,-999.000,9,-999.0000,9, -999.00,9, -999.00,9,  -999.0,9,  -999.0,-999.000,9,-999.000, -999.00,9,  237.00,-999.0000,9,-999.0000,9,-999.0000,9,-999.0000,9,-999.0000,9,-999.0000,-999.000,-999.0000,9, -999.00
318M20040615,        P02,      45,          1,         30,         30,2,20040702,       0452,     29.998,   153.1537,       5847,   287.8,  16.5547,  34.7153,2,  34.7142,2, 210.9000,2,   211.4,2,    4.38,2,    5.37,2,    0.00,2,    0.39,2,   2.530,2,   1.505,2,   0.045,2,  2036.9,2,  2278.9,2,-999.000,9,-999.0000,9, -999.00,9, -999.00,9,  -999.0,9,  -999.0,-999.000,9,-999.000, -999.00,9,  287.80,-999.0000,9,-999.0000,9,-999.0000,9,-999.0000,9,-999.0000,9,-999.0000,-999.000,-999.0000,9, -999.00
318M20040615,        P02,      45,          1,         29,         29,2,20040702,       0452,     29.998,   153.1537,       5847,   336.9,  16.0595,  34.6811,2,  34.6804,2, 209.2000,2,   208.9,2,    5.82,2,    6.28,2,    0.00,2,    0.46,2,   2.590,2,   1.508,2,   0.050,2,  2043.5,2,  2280.2,3,-999.000,9,-999.0000,9, -999.00,9, -999.00,9,  -999.0,9,  -999.0,-999.000,9,-999.000, -999.00,9,  336.90,-999.0000,9,-999.0000,9,-999.0000,9,-999.0000,9,-999.0000,9,-999.0000,-999.000,-999.0000,9, -999.00
318M20040615,        P02,      45,          1,         28,         28,2,20040702,       0452,     29.998,   153.1537,       5847,   386.2,  15.2703,  34.6025,2,  34.6032,2, 202.8000,2,   201.4,2,    7.44,2,    7.99,2,    0.00,2,    0.58,2,   2.670,2,   1.547,2,   0.029,2,  -999.0,9,  -999.0,9,-999.000,9,-999.0000,9, -999.00,9, -999.00,9,  -999.0,9,  -999.0,-999.000,9,-999.000, -999.00,9,  386.20,-999.0000,9,-999.0000,9,-999.0000,9,-999.0000,9,-999.0000,9,-999.0000,-999.000,-999.0000,9, -999.00
318M20040615,        P02,      45,          1,         27,         27,2,20040702,       0452,     29.998,   153.1537,       5847,   437.1,  14.3312,  34.5337,2,  34.5343,2, 201.7000,2,   201.2,2,    9.60,2,    9.54,2,    0.00,2,    0.68,2,   2.744,2,   1.568,2,   0.034,2,  2064.2,2,  2273.3,2,-999.000,9,-999.0000,9, -999.00,9, -999.00,9,  -999.0,9,  -999.0,-999.000,9,-999.000, -999.00,9,  437.10,-999.0000,9,-999.0000,9,-999.0000,9,-999.0000,9,-999.0000,9,-999.0000,-999.000,-999.0000,9, -999.00
318M20040615,        P02,      45,          1,         26,         26,2,20040702,       0452,     29.998,   153.1537,       5847,   482.9,  13.3231,  34.4699,2,  34.4701,2, 198.0000,2,   196.1,2,   13.75,2,   11.84,2,    0.00,2,    0.84,2,   2.677,2,   1.513,2,   0.048,2,  -999.0,9,  -999.0,9,-999.000,9,-999.0000,9, -999.00,9, -999.00,9,  -999.0,9,  -999.0,-999.000,9,-999.000, -999.00,9,  482.90,-999.0000,9,-999.0000,9,-999.0000,9,-999.0000,9,-999.0000,9,-999.0000,-999.000,-999.0000,9, -999.00
318M20040615,        P02,      45,          1,         25,         25,2,20040702,       0452,     29.998,   153.1537,       5847,   567.8,  11.2271,  34.3265,2,  34.3270,2, 188.9000,2,   187.9,2,   22.59,2,   16.13,2,    0.00,2,    1.16,2,   2.687,2,   1.494,2,   0.074,2,  2110.9,2,  2276.9,2,-999.000,9,-999.0000,9, -999.00,9, -999.00,9,  -999.0,9,  -999.0,-999.000,9,-999.000, -999.00,9,  567.80,-999.0000,9,-999.0000,9,-999.0000,9,-999.0000,9,-999.0000,9,-999.0000,-999.000,-999.0000,9, -999.00
318M20040615,        P02,      45,          1,         24,         24,2,20040702,       0452,     29.998,   153.1537,       5847,   670.0,   8.2043,  34.0972,2,  34.0985,2, 173.8000,2,   173.4,2,   37.91,2,   22.58,2,    0.00,2,    1.65,2,   2.643,2,   1.409,2,   0.102,2,  -999.0,9,  -999.0,9,-999.000,9,-999.0000,9, -999.00,9, -999.00,9,  -999.0,9,  -999.0,-999.000,9,-999.000, -999.00,9,  670.00,-999.0000,9,-999.0000,9,-999.0000,9,-999.0000,9,-999.0000,9,-999.0000,-999.000,-999.0000,9, -999.00
318M20040615,        P02,      45,          1,         23,         23,2,20040702,       0452,     29.998,   153.1537,       5847,   769.2,   6.0567,  34.0308,2,  34.0280,2, 133.0000,2,   129.9,2,   60.80,2,   30.54,2,    0.00,2,    2.24,2,   2.014,2,   1.045,2,   0.079,2,  2222.5,2,  2293.2,2,-999.000,9,-999.0000,9, -999.00,9, -999.00,9,  -999.0,9,  -999.0,-999.000,9,-999.000, -999.00,9,  769.20,-999.0000,9,-999.0000,9,-999.0000,9,-999.0000,9,-999.0000,9,-999.0000,-999.000,-999.0000,9, -999.00
318M20040615,        P02,      45,          1,         22,         22,2,20040702,       0452,     29.998,   153.1537,       5847,   871.0,   5.0702,  34.0899,2,  34.0858,2,  86.2000,2,    89.8,2,   81.17,2,   35.90,2,    0.00,2,    2.61,2,   1.285,2,   0.654,2,   0.046,2,  -999.0,9,  -999.0,9,-999.000,9,-999.0000,9, -999.00,9, -999.00,9,  -999.0,9,  -999.0,-999.000,9,-999.000, -999.00,9,  871.00,-999.0000,9,-999.0000,9,-999.0000,9,-999.0000,9,-999.0000,9,-999.0000,-999.000,-999.0000,9, -999.00
318M20040615,        P02,      45,          1,         21,         21,2,20040702,       0452,     29.998,   153.1537,       5847,   970.5,   4.2788,  34.1928,2,  34.1913,2,  58.9000,2,    56.5,2,  102.71,2,   40.06,2,    0.00,2,    2.90,2,   0.615,2,   0.311,2,   0.019,2,  2312.4,2,  2334.6,2,-999.000,9,-999.0000,9, -999.00,9, -999.00,9,  -999.0,9,  -999.0,-999.000,9,-999.000, -999.00,9,  970.50,-999.0000,9,-999.0000,9,-999.0000,9,-999.0000,9,-999.0000,9,-999.0000,-999.000,-999.0000,9, -999.00
318M20040615,        P02,      45,          1,         20,         20,2,20040702,       0452,     29.998,   153.1537,       5847,  1070.0,   3.8098,  34.2826,2,  34.2815,2,  43.8000,2,    41.5,2,  116.69,2,   41.94,2,    0.00,2,    3.03,2,   0.258,2,   0.134,2,   0.005,2,  -999.0,9,  -999.0,9,-999.000,9,-999.0000,9, -999.00,9, -999.00,9,  -999.0,9,  -999.0,-999.000,9,-999.000, -999.00,9, 1070.00,-999.0000,9,-999.0000,9,-999.0000,9,-999.0000,9,-999.0000,9,-999.0000,-999.000,-999.0000,9, -999.00
318M20040615,        P02,      45,          1,         19,         19,2,20040702,       0452,     29.998,   153.1537,       5847,  1171.1,   3.4764,  34.3449,2,  34.3425,2,  38.0000,2,    36.8,2,  126.33,2,   42.69,2,    0.00,2,    3.07,2,   0.133,2,   0.068,2,   0.003,2,  -999.0,9,  -999.0,9,-999.000,9,-999.0000,9, -999.00,9, -999.00,9,  -999.0,9,  -999.0,-999.000,9,-999.000, -999.00,9, 1171.10,-999.0000,9,-999.0000,9,-999.0000,9,-999.0000,9,-999.0000,9,-999.0000,-999.000,-999.0000,9, -999.00
318M20040615,        P02,      45,          1,         18,         18,2,20040702,       0452,     29.998,   153.1537,       5847,  1271.6,   3.1721,  34.3877,2,  34.3835,2,  36.3000,2,    36.1,2,  135.24,2,   43.02,2,    0.00,2,    3.10,2,   0.101,2,   0.052,2,   0.002,2,  2360.1,2,  2373.2,2,-999.000,9,-999.0000,9, -999.00,9, -999.00,9,  -999.0,9,  -999.0,-999.000,9,-999.000, -999.00,9, 1271.60,-999.0000,9,-999.0000,9,-999.0000,9,-999.0000,9,-999.0000,9,-999.0000,-999.000,-999.0000,9, -999.00
318M20040615,        P02,      45,          1,         17,         17,2,20040702,       0452,     29.998,   153.1537,       5847,  1372.2,   2.8869,  34.4424,2,  34.4402,2,  36.9000,2,    36.9,2,  143.13,2,   43.49,2,    0.00,2,    3.11,2,   0.045,2,   0.022,2,  -0.001,2,  -999.0,9,  -999.0,9,-999.000,9,-999.0000,9, -999.00,9, -999.00,9,  -999.0,9,  -999.0,-999.000,9,-999.000, -999.00,9, 1372.20,-999.0000,9,-999.0000,9,-999.0000,9,-999.0000,9,-999.0000,9,-999.0000,-999.000,-999.0000,9, -999.00
318M20040615,        P02,      45,          1,         16,         16,2,20040702,       0452,     29.998,   153.1537,       5847,  1473.4,   2.7261,  34.4692,2,  34.4693,2,  38.8000,2,    39.0,2,  147.70,2,   43.61,2,    0.00,2,    3.10,2,   0.030,2,   0.014,2,   0.002,2,  2371.8,2,  2389.0,2,-999.000,9,-999.0000,9, -999.00,9, -999.00,9,  -999.0,9,  -999.0,-999.000,9,-999.000, -999.00,9, 1473.40,-999.0000,9,-999.0000,9,-999.0000,9,-999.0000,9,-999.0000,9,-999.0000,-999.000,-999.0000,9, -999.00
318M20040615,        P02,      45,          1,         15,         15,2,20040702,       0452,     29.998,   153.1537,       5847,  1574.1,   2.5573,  34.4988,2,  34.4970,2,  43.3000,3,    43.1,2,  152.10,2,   43.49,2,    0.00,2,    3.09,2,   0.021,2,   0.011,2,  -0.001,2,  -999.0,9,  2395.4,2,-999.000,9,-999.0000,9, -999.00,9, -999.00,9,  -999.0,9,  -999.0,-999.000,9,-999.000, -999.00,9, 1574.10,-999.0000,9,-999.0000,9,-999.0000,9,-999.0000,9,-999.0000,9,-999.0000,-999.000,-999.0000,9, -999.00
318M20040615,        P02,      45,          1,         14,         14,2,20040702,       0452,     29.998,   153.1537,       5847,  1767.0,   2.2893,  34.5473,2,  34.5445,2,  53.5000,3,    57.2,2,  156.70,2,   42.68,2,    0.00,2,    3.02,2,   0.013,2,   0.009,2,   0.001,2,  -999.0,9,  -999.0,9,-999.000,9,-999.0000,9, -999.00,9, -999.00,9,  -999.0,9,  -999.0,-999.000,9,-999.000, -999.00,9, 1767.00,-999.0000,9,-999.0000,9,-999.0000,9,-999.0000,9,-999.0000,9,-999.0000,-999.000,-999.0000,9, -999.00
318M20040615,        P02,      45,          1,         13,         13,2,20040702,       0452,     29.998,   153.1537,       5847,  1969.9,   2.0677,  34.5835,2,  34.5816,2,  70.9000,3,    72.6,2,  159.27,2,   41.65,2,    0.00,2,    2.94,2,   0.009,2,   0.006,2,   0.002,2,  -999.0,9,  2410.1,2,-999.000,9,-999.0000,9, -999.00,9, -999.00,9,  -999.0,9,  -999.0,-999.000,9,-999.000, -999.00,9, 1969.90,-999.0000,9,-999.0000,9,-999.0000,9,-999.0000,9,-999.0000,9,-999.0000,-999.000,-999.0000,9, -999.00
318M20040615,        P02,      45,          1,         12,         12,2,20040702,       0452,     29.998,   153.1537,       5847,  2170.6,   1.9064,  34.6071,2,  34.6062,2,  83.0000,2,    83.5,2,  161.29,2,   40.96,2,    0.00,2,    2.89,2,   0.004,2,   0.004,2,   0.002,2,  -999.0,9,  -999.0,9,-999.000,9,-999.0000,9, -999.00,9, -999.00,9,  -999.0,9,  -999.0,-999.000,9,-999.000, -999.00,9, 2170.60,-999.0000,9,-999.0000,9,-999.0000,9,-999.0000,9,-999.0000,9,-999.0000,-999.000,-999.0000,9, -999.00
318M20040615,        P02,      45,          1,         11,         11,2,20040702,       0452,     29.998,   153.1537,       5847,  2423.1,   1.7632,  34.6317,2,  34.6309,2,  99.3000,2,   102.0,2,  159.06,2,   39.64,2,    0.00,2,    2.81,2,   0.002,2,   0.003,2,   0.000,2,  -999.0,9,  2415.1,2,-999.000,9,-999.0000,9, -999.00,9, -999.00,9,  -999.0,9,  -999.0,-999.000,9,-999.000, -999.00,9, 2423.10,-999.0000,9,-999.0000,9,-999.0000,9,-999.0000,9,-999.0000,9,-999.0000,-999.000,-999.0000,9, -999.00
318M20040615,        P02,      45,          1,         10,         10,2,20040702,       0452,     29.998,   153.1537,       5847,  2671.1,   1.6703,  34.6466,2,  34.6453,2, 113.4000,2,   113.8,2,  157.56,2,   38.91,2,    0.00,2,    2.74,2,  -0.002,2,   0.002,2,   0.000,2,  -999.0,9,  -999.0,9,-999.000,9,-999.0000,9, -999.00,9, -999.00,9,  -999.0,9,  -999.0,-999.000,9,-999.000, -999.00,9, 2671.10,-999.0000,9,-999.0000,9,-999.0000,9,-999.0000,9,-999.0000,9,-999.0000,-999.000,-999.0000,9, -999.00
318M20040615,        P02,      45,          1,          9,          9,2,20040702,       0452,     29.998,   153.1537,       5847,  2920.2,   1.6009,  34.6582,2,  34.6563,2, 124.3000,2,   124.5,2,  155.35,2,   38.16,2,    0.00,2,    2.68,2,   0.001,2,   0.001,2,   0.000,2,  -999.0,9,  2417.0,2,-999.000,9,-999.0000,9, -999.00,9, -999.00,9,  -999.0,9,  -999.0,-999.000,9,-999.000, -999.00,9, 2920.20,-999.0000,9,-999.0000,9,-999.0000,9,-999.0000,9,-999.0000,9,-999.0000,-999.000,-999.0000,9, -999.00
318M20040615,        P02,      45,          1,          8,          8,2,20040702,       0452,     29.998,   153.1537,       5847,  3245.9,   1.5403,  34.6679,2,  34.6629,2, 132.4000,3,   133.3,2,  154.61,2,   37.60,2,    0.00,2,    2.64,2,   0.003,2,   0.001,2,   0.000,2,  -999.0,9,  2414.2,6,-999.000,9,-999.0000,9, -999.00,9, -999.00,9,  -999.0,9,  -999.0,-999.000,9,-999.000, -999.00,9, 3245.90,-999.0000,9,-999.0000,9,-999.0000,9,-999.0000,9,-999.0000,9,-999.0000,-999.000,-999.0000,9, -999.00
318M20040615,        P02,      45,          1,          7,          7,2,20040702,       0452,     29.998,   153.1537,       5847,  3648.8,   1.4905,  34.6770,2,  34.6771,2, 141.8000,2,   142.8,2,  152.60,2,   36.93,2,    0.00,2,    2.59,2,   0.002,2,   0.004,2,   0.003,2,  -999.0,9,  2417.1,6,-999.000,9,-999.0000,9, -999.00,9, -999.00,9,  -999.0,9,  -999.0,-999.000,9,-999.000, -999.00,9, 3648.80,-999.0000,9,-999.0000,9,-999.0000,9,-999.0000,9,-999.0000,9,-999.0000,-999.000,-999.0000,9, -999.00
318M20040615,        P02,      45,          1,          6,          6,2,20040702,       0452,     29.998,   153.1537,       5847,  4049.8,   1.4705,  34.6833,2,  34.6816,2, 149.6000,2,   150.7,2,  150.21,2,   36.38,2,    0.00,2,    2.55,2,   0.003,2,   0.003,2,   0.003,2,  -999.0,9,  2415.6,2,-999.000,9,-999.0000,9, -999.00,9, -999.00,9,  -999.0,9,  -999.0,-999.000,9,-999.000, -999.00,9, 4049.80,-999.0000,9,-999.0000,9,-999.0000,9,-999.0000,9,-999.0000,9,-999.0000,-999.000,-999.0000,9, -999.00
318M20040615,        P02,      45,          1,          5,          5,2,20040702,       0452,     29.998,   153.1537,       5847,  4444.5,   1.4758,  34.6872,2,  34.6855,2, 155.4000,2,   155.6,2,  148.33,2,   36.03,2,    0.00,2,    2.52,2,   0.004,2,   0.003,2,   0.001,2,  -999.0,9,  2413.1,2,-999.000,9,-999.0000,9, -999.00,9, -999.00,9,  -999.0,9,  -999.0,-999.000,9,-999.000, -999.00,9, 4444.50,-999.0000,9,-999.0000,9,-999.0000,9,-999.0000,9,-999.0000,9,-999.0000,-999.000,-999.0000,9, -999.00
318M20040615,        P02,      45,          1,          4,          4,2,20040702,       0452,     29.998,   153.1537,       5847,  4848.2,   1.4923,  34.6901,2,  34.6893,2, 159.9000,2,   160.2,2,  146.11,2,   35.75,2,    0.00,2,    2.51,2,   0.003,2,   0.004,2,   0.003,2,  -999.0,9,  2413.1,2,-999.000,9,-999.0000,9, -999.00,9, -999.00,9,  -999.0,9,  -999.0,-999.000,9,-999.000, -999.00,9, 4848.20,-999.0000,9,-999.0000,9,-999.0000,9,-999.0000,9,-999.0000,9,-999.0000,-999.000,-999.0000,9, -999.00
318M20040615,        P02,      45,          1,          3,          3,2,20040702,       0452,     29.998,   153.1537,       5847,  5256.3,   1.5136,  34.6928,2,  34.6912,2, 165.3000,2,   166.0,2,  140.93,2,   35.47,2,    0.00,2,    2.47,2,   0.004,2,   0.003,2,   0.001,2,  -999.0,9,  2408.6,2,-999.000,9,-999.0000,9, -999.00,9, -999.00,9,  -999.0,9,  -999.0,-999.000,9,-999.000, -999.00,9, 5256.30,-999.0000,9,-999.0000,9,-999.0000,9,-999.0000,9,-999.0000,9,-999.0000,-999.000,-999.0000,9, -999.00
318M20040615,        P02,      45,          1,          2,          2,2,20040702,       0452,     29.998,   153.1537,       5847,  5789.8,   1.5592,  34.6948,2,  34.6932,2, 169.7000,2,   170.1,2,  137.61,2,   35.24,2,    0.00,2,    2.45,2,   0.004,2,   0.003,2,  -0.001,2,  -999.0,9,  2404.8,2,-999.000,9,-999.0000,9, -999.00,9, -999.00,9,  -999.0,9,  -999.0,-999.000,9,-999.000, -999.00,9, 5789.80,-999.0000,9,-999.0000,9,-999.0000,9,-999.0000,9,-999.0000,9,-999.0000,-999.000,-999.0000,9, -999.00
318M20040615,        P02,      45,          1,          1,          1,2,20040702,       0452,     29.998,   153.1537,       5847,  5995.2,   1.5823,  34.6952,2,  34.6948,2, 170.2000,2,   169.4,3,  137.42,2,   35.18,2,    0.00,2,    2.44,2,  -0.003,2,  -0.002,2,  -0.001,2,  -999.0,9,  2404.4,6,-999.000,9,-999.0000,9, -999.00,9, -999.00,9,  -999.0,9,  -999.0,-999.000,9,-999.000, -999.00,9, 5995.20,-999.0000,9,-999.0000,9,-999.0000,9,-999.0000,9,-999.0000,9,-999.0000,-999.000,-999.0000,9, -999.00