BOTTLE,20131027SIOCCHRJL
EXPOCODE,SECT_ID,STNNBR,CASTNO,SAMPNO,BTLNBR,BTLNBR_FLAG_W,DATE,TIME,LATITUDE,LONGITUDE,DEPTH,CTDPRS,CTDTMP,CTDSAL,CTDSAL_FLAG_W,SALNTY,SALNTY_FLAG_W,CTDOXY,CTDOXY_FLAG_W,OXYGEN,OXYGEN_FLAG_W,SILCAT,SILCAT_FLAG_W,NITRAT,NITRAT_FLAG_W,NITRIT,NITRIT_FLAG_W,PHSPHT,PHSPHT_FLAG_W,CFC-11,CFC-11_FLAG_W,CFC-12,CFC-12_FLAG_W,CFC113,CFC113_FLAG_W,TCARBN,TCARBN_FLAG_W,ALKALI,ALKALI_FLAG_W,TRITUM,TRITUM_FLAG_W,HELIUM,HELIUM_FLAG_W,DELHE3,DELHE3_FLAG_W,DELC13,DELC13_FLAG_W,DELC14,DELC14_FLAG_W,C14ERR,NEON,NEON_FLAG_W,NEONER,DOC,DOC_FLAG_W,CTDRAW,CDOM380,CDOM380_FLAG_W,CDOM325,CDOM325_FLAG_W,CDOMSL,CDOMSL_FLAG_W,CDOM340,CDOM340_FLAG_W,CDOMSN,CDOMSN_FLAG_W,HELIER,TRITER,CDOM412,CDOM412_FLAG_W,DELHER
,,,,,,,,,,,METERS,DBAR,ITS-90,PSS-78,,PSS-78,,UMOL/KG,,UMOL/KG,,UMOL/KG,,UMOL/KG,,UMOL/KG,,UMOL/KG,,PMOL/KG,,PMOL/KG,,PMOL/KG,,UMOL/KG,,UMOL/KG,,TU,,NMOL/KG,,PERCNT,,/MILLE,,/MILLE,,/MILLE,NMOL/KG,,NMOL/KG,UMOL/KG,,DBAR,1/M,,1/M,,1/NM,,1/M,,1/NM,,NMOL/KG,TU,1/M,,PERCNT
318M20040615,        P02,     118,          1,         36,         36,2,20040803,       1827,    30.0003,  -160.3942,       5707,     7.2,  25.2445,  35.3190,2,  35.3179,2, 210.1000,2,   209.9,2,    1.49,2,    0.07,2,    0.00,2,    0.03,2,   1.824,2,   1.141,2,   0.135,2,  2015.0,2,  2322.7,6,-999.000,9,-999.0000,9, -999.00,9, -999.00,9,  -999.0,9,  -999.0,-999.000,9,-999.000, -999.00,9,    7.20,-999.0000,9,-999.0000,9,-999.0000,9,-999.0000,9,-999.0000,9,-999.0000,-999.000,-999.0000,9, -999.00
318M20040615,        P02,     118,          1,         35,         35,2,20040803,       1827,    30.0003,  -160.3942,       5707,    51.7,  18.8158,  34.9183,2,  34.9225,2, 243.4000,2,   243.6,2,    2.25,2,    0.02,2,    0.00,2,    0.06,2,   2.545,2,   1.482,2,   0.164,2,  -999.0,9,  -999.0,9,-999.000,9,-999.0000,9, -999.00,9, -999.00,9,  -999.0,9,  -999.0,-999.000,9,-999.000, -999.00,9,   51.70,-999.0000,9,-999.0000,9,-999.0000,9,-999.0000,9,-999.0000,9,-999.0000,-999.000,-999.0000,9, -999.00
318M20040615,        P02,     118,          1,         34,         34,2,20040803,       1827,    30.0003,  -160.3942,       5707,   101.3,  16.4418,  34.6738,2,  34.6748,2, 238.5000,2,   237.4,2,    2.82,2,    0.25,2,    0.07,2,    0.14,2,-999.000,9,-999.000,9,-999.000,9,  2024.2,2,  2283.1,2,-999.000,9,-999.0000,9, -999.00,9, -999.00,9,  -999.0,9,  -999.0,-999.000,9,-999.000, -999.00,9,  101.30,-999.0000,9,-999.0000,9,-999.0000,9,-999.0000,9,-999.0000,9,-999.0000,-999.000,-999.0000,9, -999.00
318M20040615,        P02,     118,          1,         33,         33,2,20040803,       1827,    30.0003,  -160.3942,       5707,   150.9,  15.0064,  34.5478,2,  34.5514,2, 226.8000,2,   227.7,2,    4.33,2,    4.14,2,    0.02,2,    0.36,2,   2.825,2,   1.638,2,   0.156,2,  -999.0,9,  -999.0,9,-999.000,9,-999.0000,9, -999.00,9, -999.00,9,  -999.0,9,  -999.0,-999.000,9,-999.000, -999.00,9,  150.90,-999.0000,9,-999.0000,9,-999.0000,9,-999.0000,9,-999.0000,9,-999.0000,-999.000,-999.0000,9, -999.00
318M20040615,        P02,     118,          1,         32,         32,2,20040803,       1827,    30.0003,  -160.3942,       5707,   201.1,  13.6921,  34.4132,2,  34.4064,2, 219.9000,2,   220.5,2,    7.17,2,    7.69,2,    0.01,2,    0.59,2,   2.994,2,   1.719,2,   0.092,2,  -999.0,9,  -999.0,9,-999.000,9,-999.0000,9, -999.00,9, -999.00,9,  -999.0,9,  -999.0,-999.000,9,-999.000, -999.00,9,  201.10,-999.0000,9,-999.0000,9,-999.0000,9,-999.0000,9,-999.0000,9,-999.0000,-999.000,-999.0000,9, -999.00
318M20040615,        P02,     118,          1,         31,         31,2,20040803,       1827,    30.0003,  -160.3942,       5707,   250.2,  12.6409,  34.3505,2,  34.3511,2, 220.1000,2,   220.7,2,    9.64,2,    9.74,2,    0.01,2,    0.71,2,   3.103,2,   1.755,2,   0.089,2,  2069.1,2,  2267.4,2,-999.000,9,-999.0000,9, -999.00,9, -999.00,9,  -999.0,9,  -999.0,-999.000,9,-999.000, -999.00,9,  250.20,-999.0000,9,-999.0000,9,-999.0000,9,-999.0000,9,-999.0000,9,-999.0000,-999.000,-999.0000,9, -999.00
318M20040615,        P02,     118,          1,         30,         30,2,20040803,       1827,    30.0003,  -160.3942,       5707,   300.8,  11.8014,  34.2858,2,  34.2855,2, 220.3000,2,   221.7,2,   11.91,2,   11.44,2,    0.00,2,    0.82,2,   3.183,2,   1.781,2,   0.094,2,  -999.0,9,  -999.0,9,-999.000,9,-999.0000,9, -999.00,9, -999.00,9,  -999.0,9,  -999.0,-999.000,9,-999.000, -999.00,9,  300.80,-999.0000,9,-999.0000,9,-999.0000,9,-999.0000,9,-999.0000,9,-999.0000,-999.000,-999.0000,9, -999.00
318M20040615,        P02,     118,          1,         29,         29,2,20040803,       1827,    30.0003,  -160.3942,       5707,   350.7,  10.8988,  34.2275,2,  34.2259,2, 215.3000,2,   216.3,2,   15.51,2,   13.73,2,    0.00,2,    0.98,2,   3.211,2,   1.753,2,   0.098,2,  -999.0,9,  -999.0,9,-999.000,9,-999.0000,9, -999.00,9, -999.00,9,  -999.0,9,  -999.0,-999.000,9,-999.000, -999.00,9,  350.70,-999.0000,9,-999.0000,9,-999.0000,9,-999.0000,9,-999.0000,9,-999.0000,-999.000,-999.0000,9, -999.00
318M20040615,        P02,     118,          1,         28,         28,2,20040803,       1827,    30.0003,  -160.3942,       5707,   401.2,   9.9909,  34.1733,2,  34.1730,2, 206.5000,2,   205.3,2,   20.45,2,   16.48,2,    0.00,2,    1.17,2,   3.199,2,   1.717,2,   0.092,2,  2112.9,2,  2268.2,6,-999.000,9,-999.0000,9, -999.00,9, -999.00,9,  -999.0,9,  -999.0,-999.000,9,-999.000, -999.00,9,  401.20,-999.0000,9,-999.0000,9,-999.0000,9,-999.0000,9,-999.0000,9,-999.0000,-999.000,-999.0000,9, -999.00
318M20040615,        P02,     118,          1,         27,         27,2,20040803,       1827,    30.0003,  -160.3942,       5707,   455.5,   8.7977,  34.1060,2,  34.1074,2, 187.2000,2,   185.3,2,   28.82,2,   20.59,2,    0.00,2,    1.46,2,   2.980,6,   1.561,6,   0.103,6,  -999.0,9,  -999.0,9,-999.000,9,-999.0000,9, -999.00,9, -999.00,9,  -999.0,9,  -999.0,-999.000,9,-999.000, -999.00,9,  455.50,-999.0000,9,-999.0000,9,-999.0000,9,-999.0000,9,-999.0000,9,-999.0000,-999.000,-999.0000,9, -999.00
318M20040615,        P02,     118,          1,         26,         26,2,20040803,       1827,    30.0003,  -160.3942,       5707,   505.6,   7.8182,  34.0584,2,  34.0603,2, 165.2000,2,   165.1,2,   37.39,2,   24.22,2,    0.00,2,    1.72,2,   2.692,2,   1.379,2,   0.107,2,  -999.0,9,  -999.0,9,-999.000,9,-999.0000,9, -999.00,9, -999.00,9,  -999.0,9,  -999.0,-999.000,9,-999.000, -999.00,9,  505.60,-999.0000,9,-999.0000,9,-999.0000,9,-999.0000,9,-999.0000,9,-999.0000,-999.000,-999.0000,9, -999.00
318M20040615,        P02,     118,          1,         25,         25,2,20040803,       1827,    30.0003,  -160.3942,       5707,   604.9,   6.1282,  34.0093,2,  34.0086,2, 123.9000,2,   121.0,2,   58.64,2,   31.46,2,    0.00,2,    2.27,2,   1.864,2,   0.930,2,   0.064,2,  2225.8,2,  2290.8,2,-999.000,9,-999.0000,9, -999.00,9, -999.00,9,  -999.0,9,  -999.0,-999.000,9,-999.000, -999.00,9,  604.90,-999.0000,9,-999.0000,9,-999.0000,9,-999.0000,9,-999.0000,9,-999.0000,-999.000,-999.0000,9, -999.00
318M20040615,        P02,     118,          1,         24,         24,2,20040803,       1827,    30.0003,  -160.3942,       5707,   705.5,   4.8268,  34.0518,2,  34.0533,2,  71.2000,2,    72.6,2,   82.13,2,   37.72,2,    0.00,2,    2.73,2,   0.856,2,   0.425,2,   0.028,2,  2283.0,2,  2311.5,2,-999.000,9,-999.0000,9, -999.00,9, -999.00,9,  -999.0,9,  -999.0,-999.000,9,-999.000, -999.00,9,  705.50,-999.0000,9,-999.0000,9,-999.0000,9,-999.0000,9,-999.0000,9,-999.0000,-999.000,-999.0000,9, -999.00
318M20040615,        P02,     118,          1,         23,         23,2,20040803,       1827,    30.0003,  -160.3942,       5707,   805.7,   4.1987,  34.1409,2,  34.1384,2,  32.3000,2,    34.6,2,  100.53,2,   41.71,2,    0.00,2,    3.00,2,   0.225,2,   0.121,2,   0.000,2,  2324.3,2,  2329.4,2,-999.000,9,-999.0000,9, -999.00,9, -999.00,9,  -999.0,9,  -999.0,-999.000,9,-999.000, -999.00,9,  805.70,-999.0000,9,-999.0000,9,-999.0000,9,-999.0000,9,-999.0000,9,-999.0000,-999.000,-999.0000,9, -999.00
318M20040615,        P02,     118,          1,         22,         22,2,20040803,       1827,    30.0003,  -160.3942,       5707,   910.7,   3.7779,  34.2382,2,  34.2384,2,  15.6000,2,    15.7,2,  116.88,2,   43.66,2,    0.00,2,    3.15,2,   0.045,2,   0.027,2,   0.000,2,  2353.3,2,  2349.2,2,-999.000,9,-999.0000,9, -999.00,9, -999.00,9,  -999.0,9,  -999.0,-999.000,9,-999.000, -999.00,9,  910.70,-999.0000,9,-999.0000,9,-999.0000,9,-999.0000,9,-999.0000,9,-999.0000,-999.000,-999.0000,9, -999.00
318M20040615,        P02,     118,          1,         21,         21,2,20040803,       1827,    30.0003,  -160.3942,       5707,  1010.6,   3.5195,  34.3248,2,  34.3245,2,   9.6000,2,     9.5,2,  127.42,2,   44.51,2,    0.00,2,    3.21,2,   0.015,2,   0.012,2,   0.000,2,  2368.8,6,  2364.0,2,-999.000,9,-999.0000,9, -999.00,9, -999.00,9,  -999.0,9,  -999.0,-999.000,9,-999.000, -999.00,9, 1010.60,-999.0000,9,-999.0000,9,-999.0000,9,-999.0000,9,-999.0000,9,-999.0000,-999.000,-999.0000,9, -999.00
318M20040615,        P02,     118,          1,         20,         20,2,20040803,       1827,    30.0003,  -160.3942,       5707,  1111.0,   3.2872,  34.4033,2,  34.4030,2,  14.7000,2,    15.0,2,  134.65,2,   44.51,2,    0.00,2,    3.20,2,   0.006,2,   0.006,2,   0.000,2,  2375.0,2,  2378.2,2,-999.000,9,-999.0000,9, -999.00,9, -999.00,9,  -999.0,9,  -999.0,-999.000,9,-999.000, -999.00,9, 1111.00,-999.0000,9,-999.0000,9,-999.0000,9,-999.0000,9,-999.0000,9,-999.0000,-999.000,-999.0000,9, -999.00
318M20040615,        P02,     118,          1,         19,         19,2,20040803,       1827,    30.0003,  -160.3942,       5707,  1211.0,   3.1172,  34.4667,2,  34.4698,2,  25.6000,2,    27.8,2,  137.78,2,   43.86,2,    0.00,2,    3.15,2,-999.000,9,-999.000,9,-999.000,9,  -999.0,9,  -999.0,9,-999.000,9,-999.0000,9, -999.00,9, -999.00,9,  -999.0,9,  -999.0,-999.000,9,-999.000, -999.00,9, 1211.00,-999.0000,9,-999.0000,9,-999.0000,9,-999.0000,9,-999.0000,9,-999.0000,-999.000,-999.0000,9, -999.00
318M20040615,        P02,     118,          1,         18,         18,2,20040803,       1827,    30.0003,  -160.3942,       5707,  1311.8,   2.9441,  34.5044,2,  34.5051,2,  37.1000,2,    37.9,2,  140.72,2,   43.16,2,    0.00,2,    3.09,2,   0.005,2,   0.006,2,   0.000,2,  -999.0,9,  -999.0,9,-999.000,9,-999.0000,9, -999.00,9, -999.00,9,  -999.0,9,  -999.0,-999.000,9,-999.000, -999.00,9, 1311.80,-999.0000,9,-999.0000,9,-999.0000,9,-999.0000,9,-999.0000,9,-999.0000,-999.000,-999.0000,9, -999.00
318M20040615,        P02,     118,          1,         17,         17,2,20040803,       1827,    30.0003,  -160.3942,       5707,  1411.6,   2.7872,  34.5295,2,  34.5303,2,  47.0000,2,    43.2,3,  144.05,2,   42.62,2,    0.00,2,    3.05,2,   0.004,2,   0.010,2,   0.000,2,  -999.0,9,  -999.0,9,-999.000,9,-999.0000,9, -999.00,9, -999.00,9,  -999.0,9,  -999.0,-999.000,9,-999.000, -999.00,9, 1411.60,-999.0000,9,-999.0000,9,-999.0000,9,-999.0000,9,-999.0000,9,-999.0000,-999.000,-999.0000,9, -999.00
318M20040615,        P02,     118,          1,         16,         16,2,20040803,       1827,    30.0003,  -160.3942,       5707,  1517.4,   2.6146,  34.5513,2,  34.5515,2,  55.7000,2,    54.3,2,  147.41,2,   41.99,2,    0.00,2,    3.01,2,-999.000,9,-999.000,9,-999.000,9,  -999.0,9,  -999.0,9,-999.000,9,-999.0000,9, -999.00,9, -999.00,9,  -999.0,9,  -999.0,-999.000,9,-999.000, -999.00,9, 1517.40,-999.0000,9,-999.0000,9,-999.0000,9,-999.0000,9,-999.0000,9,-999.0000,-999.000,-999.0000,9, -999.00
318M20040615,        P02,     118,          1,         15,         15,2,20040803,       1827,    30.0003,  -160.3942,       5707,  1618.0,   2.4692,  34.5669,2,  34.5674,2,  62.4000,2,    61.6,2,  150.35,2,   41.60,2,    0.00,2,    2.98,2,   0.005,2,   0.010,2,   0.000,2,  -999.0,9,  -999.0,9,-999.000,9,-999.0000,9, -999.00,9, -999.00,9,  -999.0,9,  -999.0,-999.000,9,-999.000, -999.00,9, 1618.00,-999.0000,9,-999.0000,9,-999.0000,9,-999.0000,9,-999.0000,9,-999.0000,-999.000,-999.0000,9, -999.00
318M20040615,        P02,     118,          1,         14,         14,2,20040803,       1827,    30.0003,  -160.3942,       5707,  1819.3,   2.2102,  34.5929,2,  34.5938,2,  73.6000,2,    72.6,2,  156.07,2,   40.92,2,    0.00,2,    2.92,2,   0.009,2,   0.002,2,   0.000,2,  -999.0,9,  -999.0,9,-999.000,9,-999.0000,9, -999.00,9, -999.00,9,  -999.0,9,  -999.0,-999.000,9,-999.000, -999.00,9, 1819.30,-999.0000,9,-999.0000,9,-999.0000,9,-999.0000,9,-999.0000,9,-999.0000,-999.000,-999.0000,9, -999.00
318M20040615,        P02,     118,          1,         13,         13,2,20040803,       1827,    30.0003,  -160.3942,       5707,  2025.6,   2.0020,  34.6140,2,  34.6146,2,  83.0000,2,    83.0,2,  160.22,2,   40.38,2,    0.00,2,    2.87,2,-999.000,9,-999.000,9,-999.000,9,  -999.0,9,  -999.0,9,-999.000,9,-999.0000,9, -999.00,9, -999.00,9,  -999.0,9,  -999.0,-999.000,9,-999.000, -999.00,9, 2025.60,-999.0000,9,-999.0000,9,-999.0000,9,-999.0000,9,-999.0000,9,-999.0000,-999.000,-999.0000,9, -999.00
318M20040615,        P02,     118,          1,         12,         12,2,20040803,       1827,    30.0003,  -160.3942,       5707,  2277.5,   1.8290,  34.6320,2,  34.6323,2,  93.1000,2,    93.3,2,  163.56,2,   39.80,2,    0.00,2,    2.82,2,   0.007,2,   0.004,2,   0.000,2,  -999.0,9,  -999.0,9,-999.000,9,-999.0000,9, -999.00,9, -999.00,9,  -999.0,9,  -999.0,-999.000,9,-999.000, -999.00,9, 2277.50,-999.0000,9,-999.0000,9,-999.0000,9,-999.0000,9,-999.0000,9,-999.0000,-999.000,-999.0000,9, -999.00
318M20040615,        P02,     118,          1,         11,         11,2,20040803,       1827,    30.0003,  -160.3942,       5707,  2534.8,   1.7057,  34.6456,2,  34.6457,2, 104.8000,2,   104.7,2,  163.95,2,   39.32,2,    0.00,2,    2.76,2,   0.001,2,   0.001,2,   0.000,2,  -999.0,9,  -999.0,9,-999.000,9,-999.0000,9, -999.00,9, -999.00,9,  -999.0,9,  -999.0,-999.000,9,-999.000, -999.00,9, 2534.80,-999.0000,9,-999.0000,9,-999.0000,9,-999.0000,9,-999.0000,9,-999.0000,-999.000,-999.0000,9, -999.00
318M20040615,        P02,     118,          1,         10,         10,2,20040803,       1827,    30.0003,  -160.3942,       5707,  2787.2,   1.6218,  34.6565,2,  34.6569,2, 112.7000,2,   113.2,2,  164.53,2,   38.74,2,    0.00,2,    2.71,2,-999.000,9,-999.000,9,-999.000,9,  -999.0,9,  -999.0,9,-999.000,9,-999.0000,9, -999.00,9, -999.00,9,  -999.0,9,  -999.0,-999.000,9,-999.000, -999.00,9, 2787.20,-999.0000,9,-999.0000,9,-999.0000,9,-999.0000,9,-999.0000,9,-999.0000,-999.000,-999.0000,9, -999.00
318M20040615,        P02,     118,          1,          9,          9,2,20040803,       1827,    30.0003,  -160.3942,       5707,  3045.4,   1.5563,  34.6653,2,  34.6649,2, 121.5000,2,   122.1,2,  163.94,2,   38.01,2,    0.00,2,    2.66,2,   0.003,2,   0.001,2,   0.000,2,  -999.0,9,  -999.0,9,-999.000,9,-999.0000,9, -999.00,9, -999.00,9,  -999.0,9,  -999.0,-999.000,9,-999.000, -999.00,9, 3045.40,-999.0000,9,-999.0000,9,-999.0000,9,-999.0000,9,-999.0000,9,-999.0000,-999.000,-999.0000,9, -999.00
318M20040615,        P02,     118,          1,          8,          8,2,20040803,       1827,    30.0003,  -160.3942,       5707,  3455.1,   1.5028,  34.6755,2,  34.6748,2, 132.6000,2,   133.9,2,  161.36,2,   37.17,2,    0.00,2,    2.60,2,   0.005,2,   0.002,2,   0.000,2,  -999.0,9,  -999.0,9,-999.000,9,-999.0000,9, -999.00,9, -999.00,9,  -999.0,9,  -999.0,-999.000,9,-999.000, -999.00,9, 3455.10,-999.0000,9,-999.0000,9,-999.0000,9,-999.0000,9,-999.0000,9,-999.0000,-999.000,-999.0000,9, -999.00
318M20040615,        P02,     118,          1,          7,          7,2,20040803,       1827,    30.0003,  -160.3942,       5707,  3861.0,   1.4787,  34.6818,2,  34.6821,2, 142.0000,2,   142.6,2,  157.82,2,   36.55,2,    0.00,2,    2.55,2,-999.000,9,-999.000,9,-999.000,9,  -999.0,9,  -999.0,9,-999.000,9,-999.0000,9, -999.00,9, -999.00,9,  -999.0,9,  -999.0,-999.000,9,-999.000, -999.00,9, 3861.00,-999.0000,9,-999.0000,9,-999.0000,9,-999.0000,9,-999.0000,9,-999.0000,-999.000,-999.0000,9, -999.00
318M20040615,        P02,     118,          1,          6,          6,2,20040803,       1827,    30.0003,  -160.3942,       5707,  4272.6,   1.4851,  34.6856,2,  34.6864,2, 148.0000,2,   148.3,2,  155.25,2,   36.07,2,    0.00,2,    2.52,2,   0.003,2,   0.002,2,   0.000,2,  -999.0,9,  -999.0,9,-999.000,9,-999.0000,9, -999.00,9, -999.00,9,  -999.0,9,  -999.0,-999.000,9,-999.000, -999.00,9, 4272.60,-999.0000,9,-999.0000,9,-999.0000,9,-999.0000,9,-999.0000,9,-999.0000,-999.000,-999.0000,9, -999.00
318M20040615,        P02,     118,          1,          5,          5,2,20040803,       1827,    30.0003,  -160.3942,       5707,  4685.0,   1.5027,  34.6886,2,  34.6884,2, 153.0000,2,   153.6,2,  151.89,2,   35.75,2,    0.00,2,    2.49,2,   0.007,2,   0.005,2,   0.000,2,  -999.0,9,  -999.0,9,-999.000,9,-999.0000,9, -999.00,9, -999.00,9,  -999.0,9,  -999.0,-999.000,9,-999.000, -999.00,9, 4685.00,-999.0000,9,-999.0000,9,-999.0000,9,-999.0000,9,-999.0000,9,-999.0000,-999.000,-999.0000,9, -999.00
318M20040615,        P02,     118,          1,          4,          4,2,20040803,       1827,    30.0003,  -160.3942,       5707,  5092.9,   1.5346,  34.6903,2,  34.6908,2, 156.6000,2,   157.1,2,  148.73,2,   35.49,2,    0.00,2,    2.47,2,-999.000,9,-999.000,9,-999.000,9,  -999.0,9,  -999.0,9,-999.000,9,-999.0000,9, -999.00,9, -999.00,9,  -999.0,9,  -999.0,-999.000,9,-999.000, -999.00,9, 5092.90,-999.0000,9,-999.0000,9,-999.0000,9,-999.0000,9,-999.0000,9,-999.0000,-999.000,-999.0000,9, -999.00
318M20040615,        P02,     118,          1,          3,          3,2,20040803,       1827,    30.0003,  -160.3942,       5707,  5404.0,   1.5668,  34.6910,2,  34.6918,2, 158.3000,2,   158.6,2,  147.17,2,   35.44,2,    0.00,2,    2.46,2,   0.007,2,   0.005,2,   0.000,2,  -999.0,9,  -999.0,9,-999.000,9,-999.0000,9, -999.00,9, -999.00,9,  -999.0,9,  -999.0,-999.000,9,-999.000, -999.00,9, 5404.00,-999.0000,9,-999.0000,9,-999.0000,9,-999.0000,9,-999.0000,9,-999.0000,-999.000,-999.0000,9, -999.00
318M20040615,        P02,     118,          1,          2,          2,2,20040803,       1827,    30.0003,  -160.3942,       5707,  5608.8,   1.5914,  34.6912,2,  34.6918,2, 159.1000,2,   159.5,2,  146.55,2,   35.37,2,    0.00,2,    2.46,2,   0.006,2,   0.003,2,   0.000,2,  -999.0,9,  -999.0,9,-999.000,9,-999.0000,9, -999.00,9, -999.00,9,  -999.0,9,  -999.0,-999.000,9,-999.000, -999.00,9, 5608.80,-999.0000,9,-999.0000,9,-999.0000,9,-999.0000,9,-999.0000,9,-999.0000,-999.000,-999.0000,9, -999.00
318M20040615,        P02,     118,          1,          1,          1,2,20040803,       1827,    30.0003,  -160.3942,       5707,  5848.4,   1.6237,  34.6911,2,  34.6922,2, 159.2000,2,   159.7,2,  146.59,2,   35.33,2,    0.00,2,    2.47,2,   0.013,2,   0.007,2,   0.000,2,  -999.0,9,  -999.0,9,-999.000,9,-999.0000,9, -999.00,9, -999.00,9,  -999.0,9,  -999.0,-999.000,9,-999.000, -999.00,9, 5848.40,-999.0000,9,-999.0000,9,-999.0000,9,-999.0000,9,-999.0000,9,-999.0000,-999.000,-999.0000,9, -999.00