BOTTLE,20131027SIOCCHRJL
EXPOCODE,SECT_ID,STNNBR,CASTNO,SAMPNO,BTLNBR,BTLNBR_FLAG_W,DATE,TIME,LATITUDE,LONGITUDE,DEPTH,CTDPRS,CTDTMP,CTDSAL,CTDSAL_FLAG_W,SALNTY,SALNTY_FLAG_W,CTDOXY,CTDOXY_FLAG_W,OXYGEN,OXYGEN_FLAG_W,SILCAT,SILCAT_FLAG_W,NITRAT,NITRAT_FLAG_W,NITRIT,NITRIT_FLAG_W,PHSPHT,PHSPHT_FLAG_W,CFC-11,CFC-11_FLAG_W,CFC-12,CFC-12_FLAG_W,CFC113,CFC113_FLAG_W,TCARBN,TCARBN_FLAG_W,ALKALI,ALKALI_FLAG_W,TRITUM,TRITUM_FLAG_W,HELIUM,HELIUM_FLAG_W,DELHE3,DELHE3_FLAG_W,DELC13,DELC13_FLAG_W,DELC14,DELC14_FLAG_W,C14ERR,NEON,NEON_FLAG_W,NEONER,DOC,DOC_FLAG_W,CTDRAW,CDOM380,CDOM380_FLAG_W,CDOM325,CDOM325_FLAG_W,CDOMSL,CDOMSL_FLAG_W,CDOM340,CDOM340_FLAG_W,CDOMSN,CDOMSN_FLAG_W,HELIER,TRITER,CDOM412,CDOM412_FLAG_W,DELHER
,,,,,,,,,,,METERS,DBAR,ITS-90,PSS-78,,PSS-78,,UMOL/KG,,UMOL/KG,,UMOL/KG,,UMOL/KG,,UMOL/KG,,UMOL/KG,,PMOL/KG,,PMOL/KG,,PMOL/KG,,UMOL/KG,,UMOL/KG,,TU,,NMOL/KG,,PERCNT,,/MILLE,,/MILLE,,/MILLE,NMOL/KG,,NMOL/KG,UMOL/KG,,DBAR,1/M,,1/M,,1/NM,,1/M,,1/NM,,NMOL/KG,TU,1/M,,PERCNT
318M20040615,        P02,      34,          1,         36,         36,2,20040628,       0501,    29.9998,   145.4867,       5888,    10.1,  28.1804,  34.9462,2,-999.0000,9, 202.6000,9,   200.9,2,    1.18,2,    0.00,2,    0.00,2,    0.02,2,   1.662,2,   1.050,2,   0.121,2,  1967.9,6,  2293.7,6,   0.726,2,   1.7239,2,   -1.23,2,    1.09,2,    74.5,2,     4.7,-999.000,9,-999.000,   69.00,2,   10.10,-999.0000,9,-999.0000,9,-999.0000,9,-999.0000,9,-999.0000,9,   0.0086,   0.006,-999.0000,9,    0.20
318M20040615,        P02,      34,          1,         35,         35,2,20040628,       0501,    29.9998,   145.4867,       5888,    51.9,  20.8975,  34.8504,2,  34.8519,2, 236.0000,2,   236.1,2,    1.71,2,    0.00,2,    0.00,2,    0.04,2,   2.219,2,   1.357,2,   0.144,2,  1980.5,2,  2288.8,2,   0.768,2,   1.7608,2,   -1.41,2, -999.00,9,  -999.0,9,  -999.0,-999.000,9,-999.000,   64.00,2,   51.90,-999.0000,9,-999.0000,9,-999.0000,9,-999.0000,9,-999.0000,9,   0.0088,   0.006,-999.0000,9,    0.20
318M20040615,        P02,      34,          1,         34,         34,2,20040628,       0501,    29.9998,   145.4867,       5888,   101.5,  19.1479,  34.9096,2,  34.9074,2, 212.5000,2,   220.2,2,    1.89,2,    0.22,2,    0.10,2,    0.09,2,   2.326,2,   1.412,2,   0.137,2,  2005.6,2,  2291.7,2,   0.758,2,   1.7601,2,   -1.46,2,    0.87,2,    85.7,2,     5.1,-999.000,9,-999.000,   61.70,2,  101.50,-999.0000,9,-999.0000,9,-999.0000,9,-999.0000,9,-999.0000,9,   0.0088,   0.005,-999.0000,9,    0.20
318M20040615,        P02,      34,          1,         33,         33,2,20040628,       0501,    29.9998,   145.4867,       5888,   151.8,  17.9240,  34.8122,2,  34.8086,2, 207.6000,2,   211.2,2,    2.78,2,    2.99,2,    0.02,2,    0.24,2,   2.354,2,   1.420,2,   0.088,2,  2019.3,2,  2285.7,2,   0.800,6,   1.7602,2,   -0.96,2,    0.73,2,    83.2,2,     4.6,-999.000,9,-999.000,   54.80,2,  151.80,-999.0000,9,-999.0000,9,-999.0000,9,-999.0000,9,-999.0000,9,   0.0088,   0.005,-999.0000,9,    0.20
318M20040615,        P02,      34,          1,         32,         32,2,20040628,       0501,    29.9998,   145.4867,       5888,   201.7,  17.4113,  34.8083,2,  34.8045,2, 217.6000,2,   220.6,2,    2.95,2,    3.11,2,    0.01,2,    0.26,2,   2.450,2,   1.482,2,   0.130,2,  2018.4,2,  2284.3,3,   0.784,2,   1.7850,2,   -1.74,2,    0.74,2,    76.1,2,     4.5,-999.000,9,-999.000,   53.60,2,  201.70,-999.0000,9,-999.0000,9,-999.0000,9,-999.0000,9,-999.0000,9,   0.0089,   0.005,-999.0000,9,    0.20
318M20040615,        P02,      34,          1,         31,         31,2,20040628,       0501,    29.9998,   145.4867,       5888,   252.0,  17.1166,  34.7889,2,  34.7874,2, 219.7000,2,   219.6,2,    3.48,2,    3.69,2,    0.01,2,    0.28,2,   2.445,2,   1.475,2,   0.107,2,  2021.1,2,  2284.8,2,-999.000,9,-999.0000,9, -999.00,9,    0.68,2,    81.1,2,     4.2,-999.000,9,-999.000,   52.50,2,  252.00,-999.0000,9,-999.0000,9,-999.0000,9,-999.0000,9,-999.0000,9,-999.0000,-999.000,-999.0000,9, -999.00
318M20040615,        P02,      34,          1,         30,         30,2,20040628,       0501,    29.9998,   145.4867,       5888,   302.1,  16.7818,  34.7607,2,  34.7570,2, 216.6000,2,   216.8,2,    4.19,2,    4.54,2,    0.00,2,    0.33,2,   2.504,2,   1.511,2,   0.086,2,  2027.2,2,  2283.0,2,   0.762,2,   1.7751,2,   -0.45,2,    0.68,2,    81.9,2,     5.4,-999.000,9,-999.000,   51.60,2,  302.10,-999.0000,9,-999.0000,9,-999.0000,9,-999.0000,9,-999.0000,9,   0.0089,   0.004,-999.0000,9,    0.20
318M20040615,        P02,      34,          1,         29,         29,2,20040628,       0501,    29.9998,   145.4867,       5888,   352.0,  16.2738,  34.7029,2,  34.7018,2, 209.4000,2,   206.4,2,    5.82,2,    6.17,2,    0.00,2,    0.45,2,   2.526,2,   1.501,2,   0.037,2,  2039.1,2,  2279.8,2,-999.000,9,-999.0000,9, -999.00,9,    0.63,2,    86.1,2,     4.7,-999.000,9,-999.000,   49.90,2,  352.00,-999.0000,9,-999.0000,9,-999.0000,9,-999.0000,9,-999.0000,9,-999.0000,-999.000,-999.0000,9, -999.00
318M20040615,        P02,      34,          1,         28,         28,2,20040628,       0501,    29.9998,   145.4867,       5888,   402.3,  15.2504,  34.6179,2,  34.6138,2, 192.7000,2,   193.0,2,    9.42,2,    9.12,2,    0.00,2,    0.65,2,   2.539,2,   1.458,2,   0.035,2,  2062.5,2,  2277.0,2,   0.791,2,   1.7856,2,    2.19,2,    0.56,2,    74.9,2,     4.3,-999.000,9,-999.000,   48.90,2,  402.30,-999.0000,9,-999.0000,9,-999.0000,9,-999.0000,9,-999.0000,9,   0.0089,   0.005,-999.0000,9,    0.20
318M20040615,        P02,      34,          1,         27,         27,2,20040628,       0501,    29.9998,   145.4867,       5888,   451.9,  14.0246,  34.5206,2,  34.5185,2, 194.0000,2,   193.7,2,   11.76,2,   10.80,2,    0.00,2,    0.77,2,   2.597,2,   1.463,2,   0.039,2,  2075.3,2,  2274.7,2,-999.000,9,-999.0000,9, -999.00,9, -999.00,9,  -999.0,9,  -999.0,-999.000,9,-999.000,   47.80,2,  451.90,-999.0000,9,-999.0000,9,-999.0000,9,-999.0000,9,-999.0000,9,-999.0000,-999.000,-999.0000,9, -999.00
318M20040615,        P02,      34,          1,         26,         26,2,20040628,       0501,    29.9998,   145.4867,       5888,   502.3,  13.0945,  34.4520,2,  34.4484,2, 193.8000,2,   193.6,2,   14.46,2,   12.28,2,    0.00,2,    0.89,2,   2.689,2,   1.514,2,   0.048,2,  2086.3,2,  2273.1,2,   0.788,2,   1.8076,2,    3.44,2,    0.48,2,    62.0,2,     4.5,-999.000,9,-999.000,   46.90,2,  502.30,-999.0000,9,-999.0000,9,-999.0000,9,-999.0000,9,-999.0000,9,   0.0090,   0.005,-999.0000,9,    0.20
318M20040615,        P02,      34,          1,         25,         25,2,20040628,       0501,    29.9998,   145.4867,       5888,   602.5,   9.9058,  34.2187,2,  34.2165,2, 179.5000,2,   181.5,2,   27.81,2,   18.71,2,    0.00,2,    1.36,2,   2.653,2,   1.431,2,   0.085,2,  2132.6,2,  2275.7,2,   0.892,3,   1.8255,2,    6.92,2, -999.00,5,  -999.0,5,  -999.0,-999.000,9,-999.000,   45.40,2,  602.50,-999.0000,9,-999.0000,9,-999.0000,9,-999.0000,9,-999.0000,9,   0.0091,   0.003,-999.0000,9,    0.20
318M20040615,        P02,      34,          1,         24,         24,2,20040628,       0501,    29.9998,   145.4867,       5888,   697.5,   7.5005,  34.0758,2,  34.0731,2, 153.1000,2,   153.6,2,   45.30,2,   25.53,2,    0.00,2,    1.88,2,   2.273,2,   1.186,2,   0.084,2,  2185.4,2,  2281.5,2,   0.661,2,   1.8507,2,   10.83,2, -999.00,5,  -999.0,5,  -999.0,-999.000,9,-999.000,   44.10,2,  697.50,-999.0000,9,-999.0000,9,-999.0000,9,-999.0000,9,-999.0000,9,   0.0093,   0.005,-999.0000,9,    0.20
318M20040615,        P02,      34,          1,         23,         23,2,20040628,       0501,    29.9998,   145.4867,       5888,   798.0,   5.8360,  34.0918,2,  34.0886,2, 109.1000,2,   107.5,2,   69.43,2,   32.62,2,    0.00,2,    2.40,2,   1.457,2,   0.741,2,   0.045,2,  2244.6,2,  2299.0,2,-999.000,9,-999.0000,9, -999.00,9,   -0.05,2,   -59.8,2,     5.1,-999.000,9,-999.000,   42.40,2,  798.00,-999.0000,9,-999.0000,9,-999.0000,9,-999.0000,9,-999.0000,9,-999.0000,-999.000,-999.0000,9, -999.00
318M20040615,        P02,      34,          1,         22,         22,2,20040628,       0501,    29.9998,   145.4867,       5888,   898.6,   4.9069,  34.1409,2,  34.1409,2,  78.3000,2,    77.0,2,   88.55,2,   36.94,2,    0.00,2,    2.71,2,   0.916,2,   0.461,2,   0.026,2,  2286.7,2,  2319.2,2,-999.000,9,-999.0000,9, -999.00,9, -999.00,9,  -999.0,9,  -999.0,-999.000,9,-999.000,   41.40,2,  898.60,-999.0000,9,-999.0000,9,-999.0000,9,-999.0000,9,-999.0000,9,-999.0000,-999.000,-999.0000,9, -999.00
318M20040615,        P02,      34,          1,         21,         21,2,20040628,       0501,    29.9998,   145.4867,       5888,   998.9,   4.1511,  34.2265,2,  34.2239,2,  56.3000,2,    52.6,2,  106.84,2,   40.31,2,    0.00,2,    2.92,2,   0.479,2,   0.239,2,   0.015,2,  2321.2,2,  2337.6,2,   0.209,2,   1.9269,2,   16.05,2,   -0.28,2,  -154.3,2,     3.8,-999.000,9,-999.000,   40.40,2,  998.90,-999.0000,9,-999.0000,9,-999.0000,9,-999.0000,9,-999.0000,9,   0.0096,   0.003,-999.0000,9,    0.20
318M20040615,        P02,      34,          1,         20,         20,2,20040628,       0501,    29.9998,   145.4867,       5888,  1098.3,   3.7097,  34.3055,2,  34.3049,2,  43.0000,2,    42.5,2,  119.91,2,   41.94,2,    0.00,2,    3.01,2,   0.230,2,   0.115,2,   0.001,2,  2341.7,6,  2355.6,2,-999.000,9,-999.0000,9, -999.00,9, -999.00,9,  -999.0,9,  -999.0,-999.000,9,-999.000,   40.30,2, 1098.30,-999.0000,9,-999.0000,9,-999.0000,9,-999.0000,9,-999.0000,9,-999.0000,-999.000,-999.0000,9, -999.00
318M20040615,        P02,      34,          1,         19,         19,2,20040628,       0501,    29.9998,   145.4867,       5888,  1197.7,   3.3610,  34.3662,2,  34.3661,2,  39.7000,2,    39.3,2,  130.47,2,   42.63,2,    0.00,2,    3.05,2,   0.123,2,   0.063,2,   0.003,2,  2354.7,2,  2367.1,2,   0.079,2,   1.9109,2,   16.82,2,   -0.42,2,  -188.5,2,     4.6,-999.000,9,-999.000,   39.80,2, 1197.70,-999.0000,9,-999.0000,9,-999.0000,9,-999.0000,9,-999.0000,9,   0.0096,   0.003,-999.0000,9,    0.20
318M20040615,        P02,      34,          1,         18,         18,2,20040628,       0501,    29.9998,   145.4867,       5888,  1297.1,   3.1247,  34.4166,2,  34.4152,2,  38.9000,2,    39.0,2,  136.49,2,   42.90,2,    0.00,2,    3.07,2,   0.055,2,   0.029,2,   0.001,2,  2362.5,2,  2376.2,6,-999.000,9,-999.0000,9, -999.00,9, -999.00,9,  -999.0,9,  -999.0,-999.000,9,-999.000,   39.80,2, 1297.10,-999.0000,9,-999.0000,9,-999.0000,9,-999.0000,9,-999.0000,9,-999.0000,-999.000,-999.0000,9, -999.00
318M20040615,        P02,      34,          1,         17,         17,2,20040628,       0501,    29.9998,   145.4867,       5888,  1399.1,   2.8561,  34.4551,2,  34.4535,2,  41.5000,2,    42.5,2,  143.99,2,   42.89,2,    0.00,2,    3.06,2,   0.041,2,   0.017,2,   0.000,2,  2368.4,2,  2384.2,2,-999.000,9,-999.0000,9, -999.00,9,   -0.36,2,  -222.7,2,     3.9,-999.000,9,-999.000,   38.90,2, 1399.10,-999.0000,9,-999.0000,9,-999.0000,9,-999.0000,9,-999.0000,9,-999.0000,-999.000,-999.0000,9, -999.00
318M20040615,        P02,      34,          1,         16,         16,2,20040628,       0501,    29.9998,   145.4867,       5888,  1501.0,   2.6621,  34.4866,2,  34.5083,2,  45.7000,3,    45.6,2,  148.75,2,   42.65,2,    0.00,2,    3.05,2,   0.027,2,   0.010,2,   0.003,2,  2371.4,2,  2391.1,2,   0.021,2,   1.9329,2,   17.51,2, -999.00,9,  -999.0,9,  -999.0,-999.000,9,-999.000,   39.00,2, 1501.00,-999.0000,9,-999.0000,9,-999.0000,9,-999.0000,9,-999.0000,9,   0.0097,   0.001,-999.0000,9,    0.20
318M20040615,        P02,      34,          1,         15,         15,2,20040628,       0501,    29.9998,   145.4867,       5888,  1602.1,   2.4853,  34.5161,2,  34.5150,2,  50.2000,2,    51.3,2,  152.42,2,   42.41,2,    0.00,2,    3.03,2,   0.013,2,   0.007,2,  -0.002,2,  2374.4,2,  2397.2,2,-999.000,9,-999.0000,9, -999.00,9,   -0.06,2,  -999.0,5,  -999.0,-999.000,9,-999.000,   38.90,2, 1602.10,-999.0000,9,-999.0000,9,-999.0000,9,-999.0000,9,-999.0000,9,-999.0000,-999.000,-999.0000,9, -999.00
318M20040615,        P02,      34,          1,         14,         14,2,20040628,       0501,    29.9998,   145.4867,       5888,  1799.2,   2.2141,  34.5580,2,  34.5582,2,  61.5000,2,    64.1,2,  157.39,2,   41.67,2,    0.00,2,    2.97,2,   0.007,2,   0.005,2,   0.000,2,  2371.6,2,  2404.5,2,   0.009,2,   1.9390,2,   19.18,2, -999.00,9,  -999.0,9,  -999.0,-999.000,9,-999.000,   38.10,2, 1799.20,-999.0000,9,-999.0000,9,-999.0000,9,-999.0000,9,-999.0000,9,   0.0097,   0.001,-999.0000,9,    0.20
318M20040615,        P02,      34,          1,         13,         13,2,20040628,       0501,    29.9998,   145.4867,       5888,  1996.5,   2.0349,  34.5877,2,  34.5863,2,  77.2000,2,    77.7,2,  158.67,2,   40.82,2,    0.00,2,    2.90,2,   0.002,2,   0.001,2,  -0.002,2,  2368.2,2,  2411.4,2,   0.011,2,   1.9309,2,   19.49,2, -999.00,9,  -999.0,9,  -999.0,-999.000,9,-999.000,   37.60,2, 1996.50,-999.0000,9,-999.0000,9,-999.0000,9,-999.0000,9,-999.0000,9,   0.0097,   0.001,-999.0000,9,    0.20
318M20040615,        P02,      34,          1,         12,         12,2,20040628,       0501,    29.9998,   145.4867,       5888,  2250.8,   1.8473,  34.6185,2,  34.6177,2,  93.5000,2,    96.1,2,  157.90,2,   39.62,2,    0.00,2,    2.82,2,   0.008,2,   0.001,2,   0.001,2,  2357.4,2,  2412.1,2,-999.000,9,-999.0000,9, -999.00,9, -999.00,9,  -999.0,9,  -999.0,-999.000,9,-999.000,   37.20,2, 2250.80,-999.0000,9,-999.0000,9,-999.0000,9,-999.0000,9,-999.0000,9,-999.0000,-999.000,-999.0000,9, -999.00
318M20040615,        P02,      34,          1,         11,         11,2,20040628,       0501,    29.9998,   145.4867,       5888,  2498.3,   1.7304,  34.6368,2,  34.6349,2, 108.5000,2,   108.3,2,  157.34,2,   38.77,2,    0.00,2,    2.75,2,   0.001,2,   0.000,2,   0.001,2,  2352.6,2,  2417.0,6,-999.000,9,-999.0000,9, -999.00,9, -999.00,9,  -999.0,9,  -999.0,-999.000,9,-999.000,   37.90,2, 2498.30,-999.0000,9,-999.0000,9,-999.0000,9,-999.0000,9,-999.0000,9,-999.0000,-999.000,-999.0000,9, -999.00
318M20040615,        P02,      34,          1,         10,         10,2,20040628,       0501,    29.9998,   145.4867,       5888,  2751.3,   1.6502,  34.6500,2,  34.6478,2, 118.4000,2,   118.1,2,  156.22,2,   38.15,2,    0.00,2,    2.70,2,   0.001,2,   0.002,2,  -0.001,2,  2346.8,2,  2415.5,2,-999.000,9,-999.0000,9, -999.00,9, -999.00,9,  -999.0,9,  -999.0,-999.000,9,-999.000,   37.50,2, 2751.30,-999.0000,9,-999.0000,9,-999.0000,9,-999.0000,9,-999.0000,9,-999.0000,-999.000,-999.0000,9, -999.00
318M20040615,        P02,      34,          1,          9,          9,2,20040628,       0501,    29.9998,   145.4867,       5888,  2995.0,   1.5927,  34.6598,2,  34.6593,2, 127.4000,2,   126.9,2,  154.55,2,   37.52,2,    0.00,2,    2.65,2,   0.000,2,  -0.001,2,   0.000,2,  2342.1,2,  2416.7,2,-999.000,9,-999.0000,9, -999.00,9, -999.00,9,  -999.0,9,  -999.0,-999.000,9,-999.000,   37.30,2, 2995.00,-999.0000,9,-999.0000,9,-999.0000,9,-999.0000,9,-999.0000,9,-999.0000,-999.000,-999.0000,9, -999.00
318M20040615,        P02,      34,          1,          8,          8,2,20040628,       0501,    29.9998,   145.4867,       5888,  3396.8,   1.5335,  34.6709,2,  34.6693,2, 137.5000,2,   138.3,2,  152.31,2,   36.84,2,    0.00,2,    2.60,2,   0.000,2,  -0.001,2,   0.001,2,  2335.1,2,  2416.3,2,-999.000,9,-999.0000,9, -999.00,9, -999.00,9,  -999.0,9,  -999.0,-999.000,9,-999.000,   37.70,2, 3396.80,-999.0000,9,-999.0000,9,-999.0000,9,-999.0000,9,-999.0000,9,-999.0000,-999.000,-999.0000,9, -999.00
318M20040615,        P02,      34,          1,          7,          7,2,20040628,       0501,    29.9998,   145.4867,       5888,  3794.8,   1.5012,  34.6779,2,  34.6764,2, 144.7000,2,   144.9,2,  151.01,2,   36.39,2,    0.00,2,    2.56,2,   0.002,2,   0.002,2,  -0.001,2,  2329.8,2,  2415.2,2,-999.000,9,-999.0000,9, -999.00,9, -999.00,9,  -999.0,9,  -999.0,-999.000,9,-999.000,   37.10,2, 3794.80,-999.0000,9,-999.0000,9,-999.0000,9,-999.0000,9,-999.0000,9,-999.0000,-999.000,-999.0000,9, -999.00
318M20040615,        P02,      34,          1,          6,          6,2,20040628,       0501,    29.9998,   145.4867,       5888,  4202.9,   1.4837,  34.6838,2,  34.6823,2, 151.7000,2,   152.1,2,  149.35,2,   35.84,2,    0.00,2,    2.53,2,   0.003,2,   0.001,2,   0.001,2,  2325.6,2,  2414.1,2,-999.000,9,-999.0000,9, -999.00,9, -999.00,9,  -999.0,9,  -999.0,-999.000,9,-999.000,   37.80,2, 4202.90,-999.0000,9,-999.0000,9,-999.0000,9,-999.0000,9,-999.0000,9,-999.0000,-999.000,-999.0000,9, -999.00
318M20040615,        P02,      34,          1,          5,          5,2,20040628,       0501,    29.9998,   145.4867,       5888,  4599.1,   1.4878,  34.6878,2,  34.6864,2, 156.9000,2,   157.4,2,  146.94,2,   35.43,2,    0.00,2,    2.50,2,   0.007,2,   0.000,2,   0.002,2,  2320.4,2,  2412.4,2,-999.000,9,-999.0000,9, -999.00,9, -999.00,9,  -999.0,9,  -999.0,-999.000,9,-999.000,   37.50,2, 4599.10,-999.0000,9,-999.0000,9,-999.0000,9,-999.0000,9,-999.0000,9,-999.0000,-999.000,-999.0000,9, -999.00
318M20040615,        P02,      34,          1,          4,          4,2,20040628,       0501,    29.9998,   145.4867,       5888,  5000.4,   1.5103,  34.6903,2,  34.6882,2, 160.8000,2,   161.5,2,  144.72,2,   35.21,2,    0.00,2,    2.48,2,   0.007,2,   0.002,2,   0.001,2,  2315.2,2,  2414.7,6,-999.000,9,-999.0000,9, -999.00,9, -999.00,9,  -999.0,9,  -999.0,-999.000,9,-999.000,   37.70,2, 5000.40,-999.0000,9,-999.0000,9,-999.0000,9,-999.0000,9,-999.0000,9,-999.0000,-999.000,-999.0000,9, -999.00
318M20040615,        P02,      34,          1,          3,          3,2,20040628,       0501,    29.9998,   145.4867,       5888,  5379.5,   1.5424,  34.6917,2,  34.6904,2, 163.3000,2,   163.8,2,  143.28,2,   34.99,2,    0.00,2,    2.47,2,   0.003,2,   0.001,2,   0.002,2,  2313.6,2,  2410.5,6,-999.000,9,-999.0000,9, -999.00,9, -999.00,9,  -999.0,9,  -999.0,-999.000,9,-999.000,   38.10,2, 5379.50,-999.0000,9,-999.0000,9,-999.0000,9,-999.0000,9,-999.0000,9,-999.0000,-999.000,-999.0000,9, -999.00
318M20040615,        P02,      34,          1,          2,          2,2,20040628,       0501,    29.9998,   145.4867,       5888,  5743.9,   1.5776,  34.6931,2,  34.6918,2, 165.8000,2,   166.6,2,  140.71,2,   34.77,2,    0.00,2,    2.45,2,   0.005,2,   0.003,2,   0.000,2,  2310.3,2,  2409.8,2,-999.000,9,-999.0000,9, -999.00,9, -999.00,9,  -999.0,9,  -999.0,-999.000,9,-999.000,   37.80,2, 5743.90,-999.0000,9,-999.0000,9,-999.0000,9,-999.0000,9,-999.0000,9,-999.0000,-999.000,-999.0000,9, -999.00
318M20040615,        P02,      34,          1,          1,          1,2,20040628,       0501,    29.9998,   145.4867,       5888,  6050.4,   1.6100,  34.6938,2,  34.6959,2, 167.5000,3,   168.2,2,  139.02,2,   34.59,2,    0.00,2,    2.44,2,   0.006,2,   0.005,2,   0.000,2,  2309.1,6,  2407.7,6,-999.000,9,-999.0000,9, -999.00,9, -999.00,9,  -999.0,9,  -999.0,-999.000,9,-999.000,   37.60,2, 6050.40,-999.0000,9,-999.0000,9,-999.0000,9,-999.0000,9,-999.0000,9,-999.0000,-999.000,-999.0000,9, -999.00