BOTTLE,20131027SIOCCHRJL
EXPOCODE,SECT_ID,STNNBR,CASTNO,SAMPNO,BTLNBR,BTLNBR_FLAG_W,DATE,TIME,LATITUDE,LONGITUDE,DEPTH,CTDPRS,CTDTMP,CTDSAL,CTDSAL_FLAG_W,SALNTY,SALNTY_FLAG_W,CTDOXY,CTDOXY_FLAG_W,OXYGEN,OXYGEN_FLAG_W,SILCAT,SILCAT_FLAG_W,NITRAT,NITRAT_FLAG_W,NITRIT,NITRIT_FLAG_W,PHSPHT,PHSPHT_FLAG_W,CFC-11,CFC-11_FLAG_W,CFC-12,CFC-12_FLAG_W,CFC113,CFC113_FLAG_W,TCARBN,TCARBN_FLAG_W,ALKALI,ALKALI_FLAG_W,TRITUM,TRITUM_FLAG_W,HELIUM,HELIUM_FLAG_W,DELHE3,DELHE3_FLAG_W,DELC13,DELC13_FLAG_W,DELC14,DELC14_FLAG_W,C14ERR,NEON,NEON_FLAG_W,NEONER,DOC,DOC_FLAG_W,CTDRAW,CDOM380,CDOM380_FLAG_W,CDOM325,CDOM325_FLAG_W,CDOMSL,CDOMSL_FLAG_W,CDOM340,CDOM340_FLAG_W,CDOMSN,CDOMSN_FLAG_W,HELIER,TRITER,CDOM412,CDOM412_FLAG_W,DELHER
,,,,,,,,,,,METERS,DBAR,ITS-90,PSS-78,,PSS-78,,UMOL/KG,,UMOL/KG,,UMOL/KG,,UMOL/KG,,UMOL/KG,,UMOL/KG,,PMOL/KG,,PMOL/KG,,PMOL/KG,,UMOL/KG,,UMOL/KG,,TU,,NMOL/KG,,PERCNT,,/MILLE,,/MILLE,,/MILLE,NMOL/KG,,NMOL/KG,UMOL/KG,,DBAR,1/M,,1/M,,1/NM,,1/M,,1/NM,,NMOL/KG,TU,1/M,,PERCNT
318M20040615,        P02,     151,          1,         36,         36,2,20040817,       1601,       30.0,  -136.1385,       4500,     4.9,  24.4653,  35.1229,2,  35.1211,2, 215.0000,2,   214.3,2,    1.07,2,    0.12,2,    0.00,2,    0.06,2,   1.950,2,   1.178,2,   0.139,2,  2020.4,6,  2324.0,6,-999.000,9,-999.0000,9, -999.00,9, -999.00,9,  -999.0,9,  -999.0,-999.000,9,-999.000,   68.80,2,    4.90,-999.0000,9,-999.0000,9,-999.0000,9,-999.0000,9,-999.0000,9,-999.0000,-999.000,-999.0000,9, -999.00
318M20040615,        P02,     151,          1,         35,         35,2,20040817,       1601,       30.0,  -136.1385,       4500,    49.5,  21.2504,  34.8391,2,  34.8399,2, 236.7000,2,   234.4,2,    1.45,2,    0.12,2,    0.00,2,    0.08,2,   2.241,2,   1.359,2,   0.152,2,  2015.2,2,  2306.5,2,-999.000,9,-999.0000,9, -999.00,9, -999.00,9,  -999.0,9,  -999.0,-999.000,9,-999.000,   67.70,2,   49.50,-999.0000,9,-999.0000,9,-999.0000,9,-999.0000,9,-999.0000,9,-999.0000,-999.000,-999.0000,9, -999.00
318M20040615,        P02,     151,          1,         34,         34,2,20040817,       1601,       30.0,  -136.1385,       4500,    99.8,  19.2653,  34.7423,2,  34.7482,2, 235.6000,2,   231.7,2,    1.84,2,    0.12,2,    0.00,2,    0.09,2,-999.000,9,-999.000,9,-999.000,9,  2018.7,2,  2295.1,2,-999.000,9,-999.0000,9, -999.00,9, -999.00,9,  -999.0,9,  -999.0,-999.000,9,-999.000,   61.50,2,   99.80,-999.0000,9,-999.0000,9,-999.0000,9,-999.0000,9,-999.0000,9,-999.0000,-999.000,-999.0000,9, -999.00
318M20040615,        P02,     151,          1,         33,         33,2,20040817,       1601,       30.0,  -136.1385,       4500,   149.4,  16.2703,  34.2162,2,  34.2091,2, 231.0000,2,   231.4,2,    2.61,2,    0.78,2,    0.15,2,    0.22,2,   2.755,2,   1.639,2,   0.193,2,  2021.6,2,  2261.9,2,-999.000,9,-999.0000,9, -999.00,9, -999.00,9,  -999.0,9,  -999.0,-999.000,9,-999.000,   57.70,2,  149.40,-999.0000,9,-999.0000,9,-999.0000,9,-999.0000,9,-999.0000,9,-999.0000,-999.000,-999.0000,9, -999.00
318M20040615,        P02,     151,          1,         32,         32,2,20040817,       1601,       30.0,  -136.1385,       4500,   199.6,  13.0998,  33.8701,2,  33.8645,2, 224.6000,2,   224.6,2,    5.55,2,    5.75,2,    0.01,2,    0.56,2,-999.000,9,-999.000,9,-999.000,9,  2042.6,2,  2242.0,2,-999.000,9,-999.0000,9, -999.00,9, -999.00,9,  -999.0,9,  -999.0,-999.000,9,-999.000,   49.60,2,  199.60,-999.0000,9,-999.0000,9,-999.0000,9,-999.0000,9,-999.0000,9,-999.0000,-999.000,-999.0000,9, -999.00
318M20040615,        P02,     151,          1,         31,         31,2,20040817,       1601,       30.0,  -136.1385,       4500,   254.2,  10.6470,  33.8428,2,  33.8449,2, 216.0000,2,   218.2,2,   11.63,2,   11.94,2,    0.00,2,    0.93,2,   3.612,2,   1.981,2,   0.113,2,  2076.2,2,  2242.9,2,-999.000,9,-999.0000,9, -999.00,9, -999.00,9,  -999.0,9,  -999.0,-999.000,9,-999.000,   44.10,2,  254.20,-999.0000,9,-999.0000,9,-999.0000,9,-999.0000,9,-999.0000,9,-999.0000,-999.000,-999.0000,9, -999.00
318M20040615,        P02,     151,          1,         30,         30,2,20040817,       1601,       30.0,  -136.1385,       4500,   304.1,   9.4510,  34.0570,2,  34.0580,2, 198.0000,2,   200.5,2,   20.47,2,   17.51,2,    0.00,2,    1.24,2,-999.000,9,-999.000,9,-999.000,9,  2116.8,2,  2262.0,2,-999.000,9,-999.0000,9, -999.00,9, -999.00,9,  -999.0,9,  -999.0,-999.000,9,-999.000,   42.90,2,  304.10,-999.0000,9,-999.0000,9,-999.0000,9,-999.0000,9,-999.0000,9,-999.0000,-999.000,-999.0000,9, -999.00
318M20040615,        P02,     151,          1,         29,         29,2,20040817,       1601,       30.0,  -136.1385,       4500,   353.9,   8.6799,  34.0638,2,  34.0652,2, 176.5000,2,   177.2,2,   28.35,2,   21.60,2,    0.00,2,    1.52,2,   3.167,2,   1.632,2,   0.103,2,  2145.5,2,  2267.4,2,-999.000,9,-999.0000,9, -999.00,9, -999.00,9,  -999.0,9,  -999.0,-999.000,9,-999.000,   45.60,2,  353.90,-999.0000,9,-999.0000,9,-999.0000,9,-999.0000,9,-999.0000,9,-999.0000,-999.000,-999.0000,9, -999.00
318M20040615,        P02,     151,          1,         28,         28,2,20040817,       1601,       30.0,  -136.1385,       4500,   403.1,   7.8883,  34.0408,2,  34.0433,2, 156.1000,2,   155.7,2,   36.43,2,   25.35,2,    0.00,2,    1.77,2,   2.793,2,   1.390,2,   0.094,2,  2171.1,2,  2272.4,2,-999.000,9,-999.0000,9, -999.00,9, -999.00,9,  -999.0,9,  -999.0,-999.000,9,-999.000,   44.00,2,  403.10,-999.0000,9,-999.0000,9,-999.0000,9,-999.0000,9,-999.0000,9,-999.0000,-999.000,-999.0000,9, -999.00
318M20040615,        P02,     151,          1,         27,         27,2,20040817,       1601,       30.0,  -136.1385,       4500,   451.8,   7.0372,  34.0178,2,  34.0186,2, 131.6000,2,   130.7,2,   46.32,2,   29.39,2,    0.00,2,    2.08,2,   2.299,2,   1.118,2,   0.066,2,  2201.7,2,  2279.1,2,-999.000,9,-999.0000,9, -999.00,9, -999.00,9,  -999.0,9,  -999.0,-999.000,9,-999.000, -999.00,9,  451.80,-999.0000,9,-999.0000,9,-999.0000,9,-999.0000,9,-999.0000,9,-999.0000,-999.000,-999.0000,9, -999.00
318M20040615,        P02,     151,          1,         26,         26,2,20040817,       1601,       30.0,  -136.1385,       4500,   501.8,   5.9919,  34.0189,2,  34.0202,2, 102.3000,2,    93.4,2,   61.41,2,   34.44,2,    0.00,2,    2.48,2,   1.466,2,   0.729,2,   0.038,2,  2243.2,2,  2290.8,2,-999.000,9,-999.0000,9, -999.00,9, -999.00,9,  -999.0,9,  -999.0,-999.000,9,-999.000,   41.10,2,  501.80,-999.0000,9,-999.0000,9,-999.0000,9,-999.0000,9,-999.0000,9,-999.0000,-999.000,-999.0000,9, -999.00
318M20040615,        P02,     151,          1,         25,         25,2,20040817,       1601,       30.0,  -136.1385,       4500,   603.4,   5.1541,  34.0972,2,  34.0997,2,  48.9000,2,    43.7,2,   80.94,2,   39.91,2,    0.00,2,    2.90,2,   0.557,2,   0.277,2,   0.007,2,  2295.8,2,  2308.1,2,-999.000,9,-999.0000,9, -999.00,9, -999.00,9,  -999.0,9,  -999.0,-999.000,9,-999.000,   40.60,2,  603.40,-999.0000,9,-999.0000,9,-999.0000,9,-999.0000,9,-999.0000,9,-999.0000,-999.000,-999.0000,9, -999.00
318M20040615,        P02,     151,          1,         24,         24,2,20040817,       1601,       30.0,  -136.1385,       4500,   708.2,   4.6093,  34.2034,2,  34.2071,2,  23.1000,2,    20.3,2,   97.56,2,   42.44,2,    0.00,2,    3.11,2,   0.139,6,   0.071,6,   0.000,6,  2330.1,2,  2330.6,2,-999.000,9,-999.0000,9, -999.00,9, -999.00,9,  -999.0,9,  -999.0,-999.000,9,-999.000,   39.30,2,  708.20,-999.0000,9,-999.0000,9,-999.0000,9,-999.0000,9,-999.0000,9,-999.0000,-999.000,-999.0000,9, -999.00
318M20040615,        P02,     151,          1,         23,         23,2,20040817,       1601,       30.0,  -136.1385,       4500,   808.0,   4.2747,  34.3072,2,  34.3083,2,  13.5000,2,    13.2,2,  108.60,2,   43.32,2,    0.00,2,    3.20,2,   0.039,2,   0.020,2,   0.000,2,  2346.8,2,  2348.2,2,-999.000,9,-999.0000,9, -999.00,9, -999.00,9,  -999.0,9,  -999.0,-999.000,9,-999.000,   36.70,2,  808.00,-999.0000,9,-999.0000,9,-999.0000,9,-999.0000,9,-999.0000,9,-999.0000,-999.000,-999.0000,9, -999.00
318M20040615,        P02,     151,          1,         22,         22,2,20040817,       1601,       30.0,  -136.1385,       4500,   908.1,   4.0084,  34.3773,2,  34.3772,2,  14.4000,2,    15.0,2,  115.85,2,   43.60,2,    0.00,2,    3.21,2,   0.018,2,   0.010,2,   0.000,2,  2358.4,2,  2363.9,2,-999.000,9,-999.0000,9, -999.00,9, -999.00,9,  -999.0,9,  -999.0,-999.000,9,-999.000, -999.00,9,  908.10,-999.0000,9,-999.0000,9,-999.0000,9,-999.0000,9,-999.0000,9,-999.0000,-999.000,-999.0000,9, -999.00
318M20040615,        P02,     151,          1,         21,         21,2,20040817,       1601,       30.0,  -136.1385,       4500,  1009.0,   3.7388,  34.4332,2,  34.4343,2,  21.2000,2,    22.3,2,  122.11,2,   43.61,2,    0.00,2,    3.19,2,   0.010,2,   0.008,2,   0.000,2,  2360.5,2,  2371.4,2,-999.000,9,-999.0000,9, -999.00,9, -999.00,9,  -999.0,9,  -999.0,-999.000,9,-999.000, -999.00,9, 1009.00,-999.0000,9,-999.0000,9,-999.0000,9,-999.0000,9,-999.0000,9,-999.0000,-999.000,-999.0000,9, -999.00
318M20040615,        P02,     151,          1,         20,         20,2,20040817,       1601,       30.0,  -136.1385,       4500,  1109.0,   3.5456,  34.4757,2,  34.4765,2,  29.2000,2,    29.9,2,  126.14,2,   43.67,2,    0.00,2,    3.16,2,   0.017,2,   0.010,2,   0.000,2,  2361.4,2,  2380.3,2,-999.000,9,-999.0000,9, -999.00,9, -999.00,9,  -999.0,9,  -999.0,-999.000,9,-999.000,   36.30,2, 1109.00,-999.0000,9,-999.0000,9,-999.0000,9,-999.0000,9,-999.0000,9,-999.0000,-999.000,-999.0000,9, -999.00
318M20040615,        P02,     151,          1,         19,         19,2,20040817,       1601,       30.0,  -136.1385,       4500,  1214.3,   3.3205,  34.5010,2,  34.5066,2,  36.2000,3,    35.4,2,  130.98,2,   43.62,2,    0.00,2,    3.14,2,   0.009,2,   0.006,2,   0.000,2,  2365.0,2,  2386.6,2,-999.000,9,-999.0000,9, -999.00,9, -999.00,9,  -999.0,9,  -999.0,-999.000,9,-999.000,   37.10,2, 1214.30,-999.0000,9,-999.0000,9,-999.0000,9,-999.0000,9,-999.0000,9,-999.0000,-999.000,-999.0000,9, -999.00
318M20040615,        P02,     151,          1,         18,         18,2,20040817,       1601,       30.0,  -136.1385,       4500,  1314.6,   3.1243,  34.5236,2,  34.5241,2,  42.7000,2,    41.7,2,  135.63,2,   43.30,2,    0.00,2,    3.11,2,-999.000,9,-999.000,9,-999.000,9,  2366.6,2,  2393.3,6,-999.000,9,-999.0000,9, -999.00,9, -999.00,9,  -999.0,9,  -999.0,-999.000,9,-999.000, -999.00,9, 1314.60,-999.0000,9,-999.0000,9,-999.0000,9,-999.0000,9,-999.0000,9,-999.0000,-999.000,-999.0000,9, -999.00
318M20040615,        P02,     151,          1,         17,         17,2,20040817,       1601,       30.0,  -136.1385,       4500,  1414.5,   2.9412,  34.5405,2,  34.5413,2,  47.8000,2,    46.9,2,  140.90,2,   42.92,2,    0.00,2,    3.08,2,   0.011,2,   0.008,2,   0.000,2,  2367.5,2,  2397.9,2,-999.000,9,-999.0000,9, -999.00,9, -999.00,9,  -999.0,9,  -999.0,-999.000,9,-999.000, -999.00,9, 1414.50,-999.0000,9,-999.0000,9,-999.0000,9,-999.0000,9,-999.0000,9,-999.0000,-999.000,-999.0000,9, -999.00
318M20040615,        P02,     151,          1,         16,         16,2,20040817,       1601,       30.0,  -136.1385,       4500,  1514.7,   2.7583,  34.5587,2,  34.5598,2,  54.2000,2,    53.5,2,  144.75,2,   42.44,2,    0.00,2,    3.04,2,-999.000,9,-999.000,9,-999.000,9,  2368.5,2,  2404.0,2,-999.000,9,-999.0000,9, -999.00,9, -999.00,9,  -999.0,9,  -999.0,-999.000,9,-999.000,   35.90,2, 1514.70,-999.0000,9,-999.0000,9,-999.0000,9,-999.0000,9,-999.0000,9,-999.0000,-999.000,-999.0000,9, -999.00
318M20040615,        P02,     151,          1,         15,         15,2,20040817,       1601,       30.0,  -136.1385,       4500,  1615.9,   2.5605,  34.5759,2,  34.5765,2,  59.6000,2,    59.4,2,  149.63,2,   42.06,2,    0.00,2,    3.01,2,   0.006,2,   0.005,2,   0.000,2,  2368.9,2,  2409.6,2,-999.000,9,-999.0000,9, -999.00,9, -999.00,9,  -999.0,9,  -999.0,-999.000,9,-999.000, -999.00,9, 1615.90,-999.0000,9,-999.0000,9,-999.0000,9,-999.0000,9,-999.0000,9,-999.0000,-999.000,-999.0000,9, -999.00
318M20040615,        P02,     151,          1,         14,         14,2,20040817,       1601,       30.0,  -136.1385,       4500,  1721.2,   2.4119,  34.5886,2,  34.5900,2,  65.0000,2,    65.1,2,  153.50,2,   41.69,2,    0.00,2,    2.98,2,-999.000,9,-999.000,9,-999.000,9,  2370.5,2,  2411.4,2,-999.000,9,-999.0000,9, -999.00,9, -999.00,9,  -999.0,9,  -999.0,-999.000,9,-999.000,   36.30,2, 1721.20,-999.0000,9,-999.0000,9,-999.0000,9,-999.0000,9,-999.0000,9,-999.0000,-999.000,-999.0000,9, -999.00
318M20040615,        P02,     151,          1,         13,         13,2,20040817,       1601,       30.0,  -136.1385,       4500,  1821.4,   2.3008,  34.5974,2,  34.5985,2,  68.6000,2,    68.8,2,  156.95,2,   41.47,2,    0.00,2,    2.95,2,   0.002,2,   0.002,2,   0.000,2,  2371.6,2,  2417.1,2,-999.000,9,-999.0000,9, -999.00,9, -999.00,9,  -999.0,9,  -999.0,-999.000,9,-999.000,   36.40,2, 1821.40,-999.0000,9,-999.0000,9,-999.0000,9,-999.0000,9,-999.0000,9,-999.0000,-999.000,-999.0000,9, -999.00
318M20040615,        P02,     151,          1,         12,         12,2,20040817,       1601,       30.0,  -136.1385,       4500,  1920.8,   2.1777,  34.6073,2,  34.6085,2,  72.9000,2,    73.3,2,  160.21,2,   41.21,2,    0.00,2,    2.94,2,-999.000,9,-999.000,9,-999.000,9,  2371.4,2,  2418.8,2,-999.000,9,-999.0000,9, -999.00,9, -999.00,9,  -999.0,9,  -999.0,-999.000,9,-999.000, -999.00,9, 1920.80,-999.0000,9,-999.0000,9,-999.0000,9,-999.0000,9,-999.0000,9,-999.0000,-999.000,-999.0000,9, -999.00
318M20040615,        P02,     151,          1,         11,         11,2,20040817,       1601,       30.0,  -136.1385,       4500,  2022.0,   2.0463,  34.6182,2,  34.6191,2,  78.1000,2,    79.1,2,  164.28,2,   41.17,2,    0.00,2,    2.91,2,   0.005,2,   0.002,2,   0.000,2,  2370.0,2,  2423.1,2,-999.000,9,-999.0000,9, -999.00,9, -999.00,9,  -999.0,9,  -999.0,-999.000,9,-999.000,   36.80,2, 2022.00,-999.0000,9,-999.0000,9,-999.0000,9,-999.0000,9,-999.0000,9,-999.0000,-999.000,-999.0000,9, -999.00
318M20040615,        P02,     151,          1,         10,         10,2,20040817,       1601,       30.0,  -136.1385,       4500,  2280.2,   1.8455,  34.6368,2,  34.6378,2,  89.7000,2,    91.3,2,  168.56,2,   40.51,2,    0.00,2,    2.84,2,-999.000,9,-999.000,9,-999.000,9,  2367.6,2,  2428.0,2,-999.000,9,-999.0000,9, -999.00,9, -999.00,9,  -999.0,9,  -999.0,-999.000,9,-999.000, -999.00,9, 2280.20,-999.0000,9,-999.0000,9,-999.0000,9,-999.0000,9,-999.0000,9,-999.0000,-999.000,-999.0000,9, -999.00
318M20040615,        P02,     151,          1,          9,          9,2,20040817,       1601,       30.0,  -136.1385,       4500,  2532.2,   1.7165,  34.6499,2,  34.6506,2, 100.7000,2,   101.4,2,  170.59,2,   39.82,2,    0.00,2,    2.78,2,   0.007,2,   0.003,2,   0.000,2,  2363.1,2,  2430.7,2,-999.000,9,-999.0000,9, -999.00,9, -999.00,9,  -999.0,9,  -999.0,-999.000,9,-999.000, -999.00,9, 2532.20,-999.0000,9,-999.0000,9,-999.0000,9,-999.0000,9,-999.0000,9,-999.0000,-999.000,-999.0000,9, -999.00
318M20040615,        P02,     151,          1,          8,          8,2,20040817,       1601,       30.0,  -136.1385,       4500,  2789.6,   1.6214,  34.6593,2,  34.6600,2, 110.5000,2,   114.5,3,  170.36,2,   39.05,2,    0.00,2,    2.73,2,-999.000,9,-999.000,9,-999.000,9,  2359.3,2,  2431.1,2,-999.000,9,-999.0000,9, -999.00,9, -999.00,9,  -999.0,9,  -999.0,-999.000,9,-999.000,   37.00,2, 2789.60,-999.0000,9,-999.0000,9,-999.0000,9,-999.0000,9,-999.0000,9,-999.0000,-999.000,-999.0000,9, -999.00
318M20040615,        P02,     151,          1,          7,          7,2,20040817,       1601,       30.0,  -136.1385,       4500,  3042.0,   1.5496,  34.6678,2,  34.6686,2, 119.3000,2,   120.7,2,  169.76,2,   38.41,2,    0.00,2,    2.68,2,   0.006,2,   0.006,2,   0.000,2,  2353.3,2,  2432.8,2,-999.000,9,-999.0000,9, -999.00,9, -999.00,9,  -999.0,9,  -999.0,-999.000,9,-999.000, -999.00,9, 3042.00,-999.0000,9,-999.0000,9,-999.0000,9,-999.0000,9,-999.0000,9,-999.0000,-999.000,-999.0000,9, -999.00
318M20040615,        P02,     151,          1,          6,          6,2,20040817,       1601,       30.0,  -136.1385,       4500,  3300.2,   1.5077,  34.6744,2,  34.6751,2, 129.4000,2,   129.6,2,  166.49,2,   37.76,2,    0.00,2,    2.63,2,   0.006,2,   0.007,2,   0.000,2,  2346.8,2,  2431.9,2,-999.000,9,-999.0000,9, -999.00,9, -999.00,9,  -999.0,9,  -999.0,-999.000,9,-999.000,   36.80,2, 3300.20,-999.0000,9,-999.0000,9,-999.0000,9,-999.0000,9,-999.0000,9,-999.0000,-999.000,-999.0000,9, -999.00
318M20040615,        P02,     151,          1,          5,          5,2,20040817,       1601,       30.0,  -136.1385,       4500,  3554.0,   1.4849,  34.6793,2,  34.6796,2, 135.9000,2,   135.6,2,  165.05,2,   37.39,2,    0.00,2,    2.59,2,   0.008,2,   0.006,2,   0.000,2,  2342.0,2,  2433.6,2,-999.000,9,-999.0000,9, -999.00,9, -999.00,9,  -999.0,9,  -999.0,-999.000,9,-999.000, -999.00,9, 3554.00,-999.0000,9,-999.0000,9,-999.0000,9,-999.0000,9,-999.0000,9,-999.0000,-999.000,-999.0000,9, -999.00
318M20040615,        P02,     151,          1,          4,          4,2,20040817,       1601,       30.0,  -136.1385,       4500,  3811.4,   1.4819,  34.6828,2,  34.6834,2, 140.4000,2,   140.7,2,  162.17,2,   37.13,2,    0.00,2,    2.57,2,   0.010,2,   0.009,2,   0.000,2,  2340.0,2,  2432.2,2,-999.000,9,-999.0000,9, -999.00,9, -999.00,9,  -999.0,9,  -999.0,-999.000,9,-999.000,   37.90,2, 3811.40,-999.0000,9,-999.0000,9,-999.0000,9,-999.0000,9,-999.0000,9,-999.0000,-999.000,-999.0000,9, -999.00
318M20040615,        P02,     151,          1,          3,          3,2,20040817,       1601,       30.0,  -136.1385,       4500,  4065.4,   1.4993,  34.6840,2,  34.6836,2, 141.8000,2,   142.2,2,  161.74,2,   37.24,2,    0.00,2,    2.56,2,   0.009,2,   0.011,2,   0.000,2,  2339.0,2,  2431.7,2,-999.000,9,-999.0000,9, -999.00,9, -999.00,9,  -999.0,9,  -999.0,-999.000,9,-999.000,   37.80,2, 4065.40,-999.0000,9,-999.0000,9,-999.0000,9,-999.0000,9,-999.0000,9,-999.0000,-999.000,-999.0000,9, -999.00
318M20040615,        P02,     151,          1,          2,          2,2,20040817,       1601,       30.0,  -136.1385,       4500,  4359.2,   1.5262,  34.6851,2,  34.6857,2, 143.0000,2,   143.6,2,  161.52,2,   37.15,2,    0.00,2,    2.55,2,   0.010,2,   0.009,2,   0.000,2,  2337.9,2,  2432.2,2,-999.000,9,-999.0000,9, -999.00,9, -999.00,9,  -999.0,9,  -999.0,-999.000,9,-999.000, -999.00,9, 4359.20,-999.0000,9,-999.0000,9,-999.0000,9,-999.0000,9,-999.0000,9,-999.0000,-999.000,-999.0000,9, -999.00
318M20040615,        P02,     151,          1,          1,          1,2,20040817,       1601,       30.0,  -136.1385,       4500,  4562.5,   1.5455,  34.6855,2,  34.6865,2, 143.3000,2,   143.9,2,  161.32,2,   37.10,2,    0.00,2,    2.55,2,   0.010,2,   0.010,2,   0.000,2,  2338.0,6,  2432.6,6,-999.000,9,-999.0000,9, -999.00,9, -999.00,9,  -999.0,9,  -999.0,-999.000,9,-999.000,   36.50,2, 4562.50,-999.0000,9,-999.0000,9,-999.0000,9,-999.0000,9,-999.0000,9,-999.0000,-999.000,-999.0000,9, -999.00