BOTTLE,20131027SIOCCHRJL
EXPOCODE,SECT_ID,STNNBR,CASTNO,SAMPNO,BTLNBR,BTLNBR_FLAG_W,DATE,TIME,LATITUDE,LONGITUDE,DEPTH,CTDPRS,CTDTMP,CTDSAL,CTDSAL_FLAG_W,SALNTY,SALNTY_FLAG_W,CTDOXY,CTDOXY_FLAG_W,OXYGEN,OXYGEN_FLAG_W,SILCAT,SILCAT_FLAG_W,NITRAT,NITRAT_FLAG_W,NITRIT,NITRIT_FLAG_W,PHSPHT,PHSPHT_FLAG_W,CFC-11,CFC-11_FLAG_W,CFC-12,CFC-12_FLAG_W,CFC113,CFC113_FLAG_W,TCARBN,TCARBN_FLAG_W,ALKALI,ALKALI_FLAG_W,TRITUM,TRITUM_FLAG_W,HELIUM,HELIUM_FLAG_W,DELHE3,DELHE3_FLAG_W,DELC13,DELC13_FLAG_W,DELC14,DELC14_FLAG_W,C14ERR,NEON,NEON_FLAG_W,NEONER,DOC,DOC_FLAG_W,CTDRAW,CDOM380,CDOM380_FLAG_W,CDOM325,CDOM325_FLAG_W,CDOMSL,CDOMSL_FLAG_W,CDOM340,CDOM340_FLAG_W,CDOMSN,CDOMSN_FLAG_W,HELIER,TRITER,CDOM412,CDOM412_FLAG_W,DELHER
,,,,,,,,,,,METERS,DBAR,ITS-90,PSS-78,,PSS-78,,UMOL/KG,,UMOL/KG,,UMOL/KG,,UMOL/KG,,UMOL/KG,,UMOL/KG,,PMOL/KG,,PMOL/KG,,PMOL/KG,,UMOL/KG,,UMOL/KG,,TU,,NMOL/KG,,PERCNT,,/MILLE,,/MILLE,,/MILLE,NMOL/KG,,NMOL/KG,UMOL/KG,,DBAR,1/M,,1/M,,1/NM,,1/M,,1/NM,,NMOL/KG,TU,1/M,,PERCNT
318M20040615,        P02,      82,          1,         36,         36,2,20040714,       1929,    30.0007,   178.3205,       5226,     7.1,  27.3306,  34.6195,2,  34.6213,2, 205.6000,2,   205.0,2,    2.16,2,    0.10,2,    0.00,2,    0.03,2,   1.725,2,   1.057,2,   0.131,2,  1979.7,2,  2274.5,6,-999.000,9,-999.0000,9, -999.00,9, -999.00,9,  -999.0,9,  -999.0,-999.000,9,-999.000,   67.50,2,    7.10,-999.0000,9,-999.0000,9,-999.0000,9,-999.0000,9,-999.0000,9,-999.0000,-999.000,-999.0000,9, -999.00
318M20040615,        P02,      82,          1,         35,         35,2,20040714,       1929,    30.0007,   178.3205,       5226,    50.6,  17.7363,  34.7164,2,  34.7186,2, 255.0000,2,   255.6,2,    2.77,2,    0.15,2,    0.00,2,    0.06,2,   2.502,2,   1.478,2,   0.174,2,  1996.2,2,  2280.3,2,-999.000,9,-999.0000,9, -999.00,9, -999.00,9,  -999.0,9,  -999.0,-999.000,9,-999.000,   63.20,2,   50.60,-999.0000,9,-999.0000,9,-999.0000,9,-999.0000,9,-999.0000,9,-999.0000,-999.000,-999.0000,9, -999.00
318M20040615,        P02,      82,          1,         34,         34,2,20040714,       1929,    30.0007,   178.3205,       5226,   105.5,  16.1856,  34.6894,2,  34.6876,2, 215.8000,2,   258.8,4,    4.98,2,    5.14,2,    0.02,2,    0.37,2,   2.534,2,   1.491,2,   0.103,2,  2032.3,2,  2279.1,2,-999.000,9,-999.0000,9, -999.00,9, -999.00,9,  -999.0,9,  -999.0,-999.000,9,-999.000,   60.50,2,  105.50,-999.0000,9,-999.0000,9,-999.0000,9,-999.0000,9,-999.0000,9,-999.0000,-999.000,-999.0000,9, -999.00
318M20040615,        P02,      82,          1,         33,         33,2,20040714,       1929,    30.0007,   178.3205,       5226,   155.4,  15.5799,  34.6366,2,  34.6443,2, 212.0000,2,   227.4,2,    5.39,2,    4.89,2,    0.01,2,    0.38,2,   2.639,2,   1.542,2,   0.150,2,  2034.0,2,  2277.5,2,-999.000,9,-999.0000,9, -999.00,9, -999.00,9,  -999.0,9,  -999.0,-999.000,9,-999.000,   55.20,2,  155.40,-999.0000,9,-999.0000,9,-999.0000,9,-999.0000,9,-999.0000,9,-999.0000,-999.000,-999.0000,9, -999.00
318M20040615,        P02,      82,          1,         32,         32,2,20040714,       1929,    30.0007,   178.3205,       5226,   204.4,  14.9727,  34.5977,2,  34.5994,2, 222.0000,2,   220.4,2,    7.21,2,    6.67,2,    0.01,2,    0.53,2,   2.646,2,   1.532,2,   0.129,2,  2044.4,2,  2277.0,2,-999.000,9,-999.0000,9, -999.00,9, -999.00,9,  -999.0,9,  -999.0,-999.000,9,-999.000,   54.10,2,  204.40,-999.0000,9,-999.0000,9,-999.0000,9,-999.0000,9,-999.0000,9,-999.0000,-999.000,-999.0000,9, -999.00
318M20040615,        P02,      82,          1,         31,         31,2,20040714,       1929,    30.0007,   178.3205,       5226,   254.7,  14.1037,  34.5305,2,  34.5306,2, 212.1000,2,   214.1,2,    9.85,2,    8.90,2,    0.01,2,    0.68,2,   2.690,2,   1.528,2,   0.103,2,  2059.4,2,  2274.7,2,-999.000,9,-999.0000,9, -999.00,9, -999.00,9,  -999.0,9,  -999.0,-999.000,9,-999.000,   53.20,2,  254.70,-999.0000,9,-999.0000,9,-999.0000,9,-999.0000,9,-999.0000,9,-999.0000,-999.000,-999.0000,9, -999.00
318M20040615,        P02,      82,          1,         30,         30,2,20040714,       1929,    30.0007,   178.3205,       5226,   304.5,  13.1810,  34.4550,2,  34.4550,2, 213.0000,2,   213.9,2,   11.66,2,   10.29,2,    0.00,2,    0.78,2,   2.781,2,   1.553,2,   0.102,2,  2069.8,2,  2273.1,2,-999.000,9,-999.0000,9, -999.00,9, -999.00,9,  -999.0,9,  -999.0,-999.000,9,-999.000,   52.40,2,  304.50,-999.0000,9,-999.0000,9,-999.0000,9,-999.0000,9,-999.0000,9,-999.0000,-999.000,-999.0000,9, -999.00
318M20040615,        P02,      82,          1,         29,         29,2,20040714,       1929,    30.0007,   178.3205,       5226,   353.6,  11.9947,  34.3621,2,  34.3628,2, 213.5000,2,   213.2,2,   14.72,2,   12.31,2,    0.00,2,    0.93,2,   2.934,2,   1.628,2,   0.104,2,  2085.5,2,  2270.8,2,-999.000,9,-999.0000,9, -999.00,9, -999.00,9,  -999.0,9,  -999.0,-999.000,9,-999.000,   50.90,2,  353.60,-999.0000,9,-999.0000,9,-999.0000,9,-999.0000,9,-999.0000,9,-999.0000,-999.000,-999.0000,9, -999.00
318M20040615,        P02,      82,          1,         28,         28,2,20040714,       1929,    30.0007,   178.3205,       5226,   403.6,  10.8426,  34.2581,2,  34.2629,2, 214.7000,2,   215.9,2,   17.16,2,   14.00,2,    0.00,2,    1.05,2,   3.095,2,   1.681,2,   0.119,2,  2096.4,2,  2268.7,2,-999.000,9,-999.0000,9, -999.00,9, -999.00,9,  -999.0,9,  -999.0,-999.000,9,-999.000,   50.10,2,  403.60,-999.0000,9,-999.0000,9,-999.0000,9,-999.0000,9,-999.0000,9,-999.0000,-999.000,-999.0000,9, -999.00
318M20040615,        P02,      82,          1,         27,         27,2,20040714,       1929,    30.0007,   178.3205,       5226,   458.0,   9.6879,  34.1671,2,  34.1678,2, 205.8000,2,   206.2,2,   23.07,2,   17.08,2,    0.00,2,    1.26,2,   3.075,2,   1.642,2,   0.123,2,  2118.8,2,  2269.0,2,-999.000,9,-999.0000,9, -999.00,9, -999.00,9,  -999.0,9,  -999.0,-999.000,9,-999.000,   48.60,2,  458.00,-999.0000,9,-999.0000,9,-999.0000,9,-999.0000,9,-999.0000,9,-999.0000,-999.000,-999.0000,9, -999.00
318M20040615,        P02,      82,          1,         26,         26,2,20040714,       1929,    30.0007,   178.3205,       5226,   507.4,   8.6600,  34.0969,2,  34.0973,2, 190.0000,2,   191.2,2,   30.03,2,   20.42,2,    0.00,2,    1.52,2,   2.968,2,   1.551,2,   0.125,2,  2141.8,2,  2272.8,2,-999.000,9,-999.0000,9, -999.00,9, -999.00,9,  -999.0,9,  -999.0,-999.000,9,-999.000,   46.60,2,  507.40,-999.0000,9,-999.0000,9,-999.0000,9,-999.0000,9,-999.0000,9,-999.0000,-999.000,-999.0000,9, -999.00
318M20040615,        P02,      82,          1,         25,         25,2,20040714,       1929,    30.0007,   178.3205,       5226,   607.3,   6.5813,  34.0116,2,  34.0116,2, 153.5000,2,   150.9,2,   51.26,2,   27.75,2,    0.00,2,    2.05,2,   2.416,2,   1.245,2,   0.107,2,  2200.3,2,  2284.5,2,-999.000,9,-999.0000,9, -999.00,9, -999.00,9,  -999.0,9,  -999.0,-999.000,9,-999.000,   45.30,2,  607.30,-999.0000,9,-999.0000,9,-999.0000,9,-999.0000,9,-999.0000,9,-999.0000,-999.000,-999.0000,9, -999.00
318M20040615,        P02,      82,          1,         24,         24,2,20040714,       1929,    30.0007,   178.3205,       5226,   707.2,   5.2079,  34.0616,2,  34.0604,2,  97.2000,2,    96.5,2,   76.24,2,   34.85,2,    0.00,2,    2.58,2,   1.463,2,   0.735,2,   0.063,2,  2262.2,2,  2306.3,2,-999.000,9,-999.0000,9, -999.00,9, -999.00,9,  -999.0,9,  -999.0,-999.000,9,-999.000,   44.70,2,  707.20,-999.0000,9,-999.0000,9,-999.0000,9,-999.0000,9,-999.0000,9,-999.0000,-999.000,-999.0000,9, -999.00
318M20040615,        P02,      82,          1,         23,         23,2,20040714,       1929,    30.0007,   178.3205,       5226,   807.6,   4.3791,  34.1561,2,  34.1561,2,  63.9000,2,    62.2,2,   98.49,2,   38.99,2,    0.00,2,    2.81,2,   0.835,6,   0.412,6,   0.035,6,  2306.6,2,  2327.4,2,-999.000,9,-999.0000,9, -999.00,9, -999.00,9,  -999.0,9,  -999.0,-999.000,9,-999.000,   43.20,2,  807.60,-999.0000,9,-999.0000,9,-999.0000,9,-999.0000,9,-999.0000,9,-999.0000,-999.000,-999.0000,9, -999.00
318M20040615,        P02,      82,          1,         22,         22,2,20040714,       1929,    30.0007,   178.3205,       5226,   908.1,   3.8756,  34.2447,2,  34.2449,2,  41.5000,2,    40.1,2,  113.66,2,   41.44,2,    0.00,2,    2.97,2,   0.338,2,   0.161,2,   0.009,2,  2335.9,2,  2346.4,2,-999.000,9,-999.0000,9, -999.00,9, -999.00,9,  -999.0,9,  -999.0,-999.000,9,-999.000,   41.60,2,  908.10,-999.0000,9,-999.0000,9,-999.0000,9,-999.0000,9,-999.0000,9,-999.0000,-999.000,-999.0000,9, -999.00
318M20040615,        P02,      82,          1,         21,         21,2,20040714,       1929,    30.0007,   178.3205,       5226,  1009.2,   3.4749,  34.3232,2,  34.3210,2,  31.4000,2,    31.2,2,  126.13,2,   42.47,2,    0.00,2,    3.05,2,   0.158,2,   0.079,2,   0.006,2,  2353.5,2,  2360.9,2,-999.000,9,-999.0000,9, -999.00,9, -999.00,9,  -999.0,9,  -999.0,-999.000,9,-999.000,   40.00,2, 1009.20,-999.0000,9,-999.0000,9,-999.0000,9,-999.0000,9,-999.0000,9,-999.0000,-999.000,-999.0000,9, -999.00
318M20040615,        P02,      82,          1,         20,         20,2,20040714,       1929,    30.0007,   178.3205,       5226,  1115.0,   3.2094,  34.3827,2,  34.3818,2,  28.9000,2,    28.3,2,  134.80,2,   42.95,2,    0.00,2,    3.08,2,   0.066,2,   0.036,2,   0.001,2,  2367.1,6,  2373.2,2,-999.000,9,-999.0000,9, -999.00,9, -999.00,9,  -999.0,9,  -999.0,-999.000,9,-999.000,   39.20,2, 1115.00,-999.0000,9,-999.0000,9,-999.0000,9,-999.0000,9,-999.0000,9,-999.0000,-999.000,-999.0000,9, -999.00
318M20040615,        P02,      82,          1,         19,         19,2,20040714,       1929,    30.0007,   178.3205,       5226,  1214.1,   2.9873,  34.4334,2,  34.4327,2,  29.6000,2,    29.7,2,  141.39,2,   43.06,2,    0.00,2,    3.11,2,   0.033,2,   0.018,2,   0.001,2,  2372.6,2,  2382.7,2,-999.000,9,-999.0000,9, -999.00,9, -999.00,9,  -999.0,9,  -999.0,-999.000,9,-999.000,   38.90,2, 1214.10,-999.0000,9,-999.0000,9,-999.0000,9,-999.0000,9,-999.0000,9,-999.0000,-999.000,-999.0000,9, -999.00
318M20040615,        P02,      82,          1,         18,         18,2,20040714,       1929,    30.0007,   178.3205,       5226,  1314.9,   2.7801,  34.4704,2,  34.4694,2,  32.4000,2,    33.1,2,  147.12,2,   42.99,2,    0.00,2,    3.08,2,   0.018,2,   0.012,2,   0.001,2,  2377.0,2,  2390.2,6,-999.000,9,-999.0000,9, -999.00,9, -999.00,9,  -999.0,9,  -999.0,-999.000,9,-999.000,   38.60,2, 1314.90,-999.0000,9,-999.0000,9,-999.0000,9,-999.0000,9,-999.0000,9,-999.0000,-999.000,-999.0000,9, -999.00
318M20040615,        P02,      82,          1,         17,         17,2,20040714,       1929,    30.0007,   178.3205,       5226,  1416.3,   2.6037,  34.5016,2,  34.5012,2,  37.7000,2,    38.0,2,  151.58,2,   42.81,2,    0.00,2,    3.09,2,   0.009,2,   0.004,2,   0.001,2,  2379.5,2,  2394.8,2,-999.000,9,-999.0000,9, -999.00,9, -999.00,9,  -999.0,9,  -999.0,-999.000,9,-999.000,   37.80,2, 1416.30,-999.0000,9,-999.0000,9,-999.0000,9,-999.0000,9,-999.0000,9,-999.0000,-999.000,-999.0000,9, -999.00
318M20040615,        P02,      82,          1,         16,         16,2,20040714,       1929,    30.0007,   178.3205,       5226,  1521.3,   2.4543,  34.5257,2,  34.5254,2,  42.0000,2,    43.7,2,  159.65,2,   42.42,2,    0.00,2,    3.05,2,   0.010,2,   0.008,2,   0.001,2,  2379.0,2,  2401.1,2,-999.000,9,-999.0000,9, -999.00,9, -999.00,9,  -999.0,9,  -999.0,-999.000,9,-999.000,   37.40,2, 1521.30,-999.0000,9,-999.0000,9,-999.0000,9,-999.0000,9,-999.0000,9,-999.0000,-999.000,-999.0000,9, -999.00
318M20040615,        P02,      82,          1,         15,         15,2,20040714,       1929,    30.0007,   178.3205,       5226,  1625.0,   2.3111,  34.5457,2,  34.5491,2,  46.7000,3,    47.6,2,  159.65,2,   42.52,2,    0.00,2,    3.05,2,   0.005,2,   0.002,2,   0.006,2,  2379.7,2,  2406.2,2,-999.000,9,-999.0000,9, -999.00,9, -999.00,9,  -999.0,9,  -999.0,-999.000,9,-999.000,   37.70,2, 1625.00,-999.0000,9,-999.0000,9,-999.0000,9,-999.0000,9,-999.0000,9,-999.0000,-999.000,-999.0000,9, -999.00
318M20040615,        P02,      82,          1,         14,         14,2,20040714,       1929,    30.0007,   178.3205,       5226,  1721.6,   2.1623,  34.5681,2,  34.5682,2,  52.2000,2,    55.6,2,  162.90,2,   41.97,2,    0.00,2,    3.01,2,   0.005,2,   0.003,2,   0.001,2,  2378.6,2,  2409.3,2,-999.000,9,-999.0000,9, -999.00,9, -999.00,9,  -999.0,9,  -999.0,-999.000,9,-999.000,   37.30,2, 1721.60,-999.0000,9,-999.0000,9,-999.0000,9,-999.0000,9,-999.0000,9,-999.0000,-999.000,-999.0000,9, -999.00
318M20040615,        P02,      82,          1,         13,         13,2,20040714,       1929,    30.0007,   178.3205,       5226,  1822.6,   1.9919,  34.5947,2,  34.5941,2,  71.3000,2,    70.9,2,  163.80,2,   40.87,2,    0.00,2,    2.93,2,-999.000,9,-999.000,9,-999.000,9,  2372.7,2,  2413.0,2,-999.000,9,-999.0000,9, -999.00,9, -999.00,9,  -999.0,9,  -999.0,-999.000,9,-999.000,   37.30,2, 1822.60,-999.0000,9,-999.0000,9,-999.0000,9,-999.0000,9,-999.0000,9,-999.0000,-999.000,-999.0000,9, -999.00
318M20040615,        P02,      82,          1,         12,         12,2,20040714,       1929,    30.0007,   178.3205,       5226,  1924.1,   1.9129,  34.6058,2,  34.6055,2,  78.5000,2,    78.0,2,  163.80,2,   40.36,2,    0.00,2,    2.90,2,   0.002,2,   0.004,2,   0.001,2,  2368.7,2,  2414.5,2,-999.000,9,-999.0000,9, -999.00,9, -999.00,9,  -999.0,9,  -999.0,-999.000,9,-999.000,   37.10,2, 1924.10,-999.0000,9,-999.0000,9,-999.0000,9,-999.0000,9,-999.0000,9,-999.0000,-999.000,-999.0000,9, -999.00
318M20040615,        P02,      82,          1,         11,         11,2,20040714,       1929,    30.0007,   178.3205,       5226,  2026.0,   1.8595,  34.6133,2,  34.6128,2,  83.3000,2,    83.0,2,  163.99,2,   40.01,2,    0.00,2,    2.88,2,-999.000,9,-999.000,9,-999.000,9,  2366.9,2,  2415.9,2,-999.000,9,-999.0000,9, -999.00,9, -999.00,9,  -999.0,9,  -999.0,-999.000,9,-999.000,   37.10,2, 2026.00,-999.0000,9,-999.0000,9,-999.0000,9,-999.0000,9,-999.0000,9,-999.0000,-999.000,-999.0000,9, -999.00
318M20040615,        P02,      82,          1,         10,         10,2,20040714,       1929,    30.0007,   178.3205,       5226,  2280.8,   1.7125,  34.6336,2,  34.6342,2,  96.6000,2,    98.1,2,  163.80,2,   39.25,2,    0.00,2,    2.81,2,   0.003,2,   0.003,2,   0.004,2,  2358.9,2,  2417.9,2,-999.000,9,-999.0000,9, -999.00,9, -999.00,9,  -999.0,9,  -999.0,-999.000,9,-999.000,   37.60,2, 2280.80,-999.0000,9,-999.0000,9,-999.0000,9,-999.0000,9,-999.0000,9,-999.0000,-999.000,-999.0000,9, -999.00
318M20040615,        P02,      82,          1,          9,          9,2,20040714,       1929,    30.0007,   178.3205,       5226,  2533.0,   1.6145,  34.6481,2,  34.6476,2, 109.4000,2,   110.7,2,  162.75,2,   38.80,2,    0.00,2,    2.74,2,-999.000,9,-999.000,9,-999.000,9,  2352.0,2,  2419.5,2,-999.000,9,-999.0000,9, -999.00,9, -999.00,9,  -999.0,9,  -999.0,-999.000,9,-999.000,   37.70,2, 2533.00,-999.0000,9,-999.0000,9,-999.0000,9,-999.0000,9,-999.0000,9,-999.0000,-999.000,-999.0000,9, -999.00
318M20040615,        P02,      82,          1,          8,          8,2,20040714,       1929,    30.0007,   178.3205,       5226,  2794.9,   1.5549,  34.6582,2,  34.6574,2, 120.3000,2,   121.0,2,  161.08,2,   38.31,2,    0.00,2,    2.68,2,  -0.001,2,   0.002,2,   0.003,2,  2349.2,2,  2419.3,6,-999.000,9,-999.0000,9, -999.00,9, -999.00,9,  -999.0,9,  -999.0,-999.000,9,-999.000,   38.00,2, 2794.90,-999.0000,9,-999.0000,9,-999.0000,9,-999.0000,9,-999.0000,9,-999.0000,-999.000,-999.0000,9, -999.00
318M20040615,        P02,      82,          1,          7,          7,2,20040714,       1929,    30.0007,   178.3205,       5226,  3050.7,   1.4951,  34.6681,2,  34.6674,2, 129.9000,2,   131.4,2,  158.76,2,   37.55,2,    0.00,2,    2.63,2,-999.000,9,-999.000,9,-999.000,9,  2342.6,2,  2419.7,2,-999.000,9,-999.0000,9, -999.00,9, -999.00,9,  -999.0,9,  -999.0,-999.000,9,-999.000,   37.80,2, 3050.70,-999.0000,9,-999.0000,9,-999.0000,9,-999.0000,9,-999.0000,9,-999.0000,-999.000,-999.0000,9, -999.00
318M20040615,        P02,      82,          1,          6,          6,2,20040714,       1929,    30.0007,   178.3205,       5226,  3459.9,   1.4557,  34.6773,2,  34.6773,2, 141.2000,2,   141.8,2,  156.02,2,   36.73,2,    0.00,2,    2.57,2,   0.001,2,   0.000,2,   0.001,2,  2335.3,2,  2419.9,6,-999.000,9,-999.0000,9, -999.00,9, -999.00,9,  -999.0,9,  -999.0,-999.000,9,-999.000,   37.10,2, 3459.90,-999.0000,9,-999.0000,9,-999.0000,9,-999.0000,9,-999.0000,9,-999.0000,-999.000,-999.0000,9, -999.00
318M20040615,        P02,      82,          1,          5,          5,2,20040714,       1929,    30.0007,   178.3205,       5226,  3864.3,   1.4448,  34.6829,2,  34.6826,2, 149.0000,2,   149.1,2,  153.49,2,   36.08,2,    0.00,2,    2.53,2,-999.000,9,-999.000,9,-999.000,9,  2330.5,2,  2418.3,2,-999.000,9,-999.0000,9, -999.00,9, -999.00,9,  -999.0,9,  -999.0,-999.000,9,-999.000,   37.40,2, 3864.30,-999.0000,9,-999.0000,9,-999.0000,9,-999.0000,9,-999.0000,9,-999.0000,-999.000,-999.0000,9, -999.00
318M20040615,        P02,      82,          1,          4,          4,2,20040714,       1929,    30.0007,   178.3205,       5226,  4279.8,   1.4422,  34.6878,2,  34.6873,2, 156.0000,2,   156.6,2,  149.91,2,   35.48,2,    0.00,2,    2.49,2,   0.003,2,   0.005,2,   0.004,2,  2324.4,2,  2416.4,2,-999.000,9,-999.0000,9, -999.00,9, -999.00,9,  -999.0,9,  -999.0,-999.000,9,-999.000,   37.10,2, 4279.80,-999.0000,9,-999.0000,9,-999.0000,9,-999.0000,9,-999.0000,9,-999.0000,-999.000,-999.0000,9, -999.00
318M20040615,        P02,      82,          1,          3,          3,2,20040714,       1929,    30.0007,   178.3205,       5226,  4671.1,   1.4464,  34.6915,2,  34.6912,2, 163.3000,2,   163.5,2,  144.81,2,   34.88,2,    0.00,2,    2.45,2,-999.000,9,-999.000,9,-999.000,9,  2317.3,2,  2412.1,6,-999.000,9,-999.0000,9, -999.00,9, -999.00,9,  -999.0,9,  -999.0,-999.000,9,-999.000,   37.60,2, 4671.10,-999.0000,9,-999.0000,9,-999.0000,9,-999.0000,9,-999.0000,9,-999.0000,-999.000,-999.0000,9, -999.00
318M20040615,        P02,      82,          1,          2,          2,2,20040714,       1929,    30.0007,   178.3205,       5226,  5085.8,   1.4681,  34.6939,2,  34.6940,2, 168.2000,2,   168.7,2,  140.42,2,   34.57,2,    0.00,2,    2.42,2,   0.003,2,   0.003,2,   0.001,2,  2311.7,2,  2408.2,2,-999.000,9,-999.0000,9, -999.00,9, -999.00,9,  -999.0,9,  -999.0,-999.000,9,-999.000,   37.80,2, 5085.80,-999.0000,9,-999.0000,9,-999.0000,9,-999.0000,9,-999.0000,9,-999.0000,-999.000,-999.0000,9, -999.00
318M20040615,        P02,      82,          1,          1,          1,2,20040714,       1929,    30.0007,   178.3205,       5226,  5313.2,   1.4659,  34.6961,2,  34.6971,2, 173.6000,2,   174.3,2,  135.78,2,   34.13,2,    0.00,2,    2.40,2,   0.004,2,   0.005,2,   0.001,2,  2303.1,6,  2403.1,2,-999.000,9,-999.0000,9, -999.00,9, -999.00,9,  -999.0,9,  -999.0,-999.000,9,-999.000,   37.50,2, 5313.20,-999.0000,9,-999.0000,9,-999.0000,9,-999.0000,9,-999.0000,9,-999.0000,-999.000,-999.0000,9, -999.00