BOTTLE,20131027SIOCCHRJL
EXPOCODE,SECT_ID,STNNBR,CASTNO,SAMPNO,BTLNBR,BTLNBR_FLAG_W,DATE,TIME,LATITUDE,LONGITUDE,DEPTH,CTDPRS,CTDTMP,CTDSAL,CTDSAL_FLAG_W,SALNTY,SALNTY_FLAG_W,CTDOXY,CTDOXY_FLAG_W,OXYGEN,OXYGEN_FLAG_W,SILCAT,SILCAT_FLAG_W,NITRAT,NITRAT_FLAG_W,NITRIT,NITRIT_FLAG_W,PHSPHT,PHSPHT_FLAG_W,CFC-11,CFC-11_FLAG_W,CFC-12,CFC-12_FLAG_W,CFC113,CFC113_FLAG_W,TCARBN,TCARBN_FLAG_W,ALKALI,ALKALI_FLAG_W,TRITUM,TRITUM_FLAG_W,HELIUM,HELIUM_FLAG_W,DELHE3,DELHE3_FLAG_W,DELC13,DELC13_FLAG_W,DELC14,DELC14_FLAG_W,C14ERR,NEON,NEON_FLAG_W,NEONER,DOC,DOC_FLAG_W,CTDRAW,CDOM380,CDOM380_FLAG_W,CDOM325,CDOM325_FLAG_W,CDOMSL,CDOMSL_FLAG_W,CDOM340,CDOM340_FLAG_W,CDOMSN,CDOMSN_FLAG_W,HELIER,TRITER,CDOM412,CDOM412_FLAG_W,DELHER
,,,,,,,,,,,METERS,DBAR,ITS-90,PSS-78,,PSS-78,,UMOL/KG,,UMOL/KG,,UMOL/KG,,UMOL/KG,,UMOL/KG,,UMOL/KG,,PMOL/KG,,PMOL/KG,,PMOL/KG,,UMOL/KG,,UMOL/KG,,TU,,NMOL/KG,,PERCNT,,/MILLE,,/MILLE,,/MILLE,NMOL/KG,,NMOL/KG,UMOL/KG,,DBAR,1/M,,1/M,,1/NM,,1/M,,1/NM,,NMOL/KG,TU,1/M,,PERCNT
318M20040615,        P02,     132,          1,         36,         36,2,20040811,       1747,    29.9992,  -150.4003,       5947,     6.8,  24.2746,  35.0270,2,  35.0251,2, 217.8000,2,   215.5,2,    2.09,2,    0.00,2,    0.00,2,    0.02,2,   1.934,6,   1.182,6,   0.138,6,  2011.6,2,  2305.3,6,-999.000,9,-999.0000,9, -999.00,9, -999.00,9,  -999.0,9,  -999.0,-999.000,9,-999.000, -999.00,9,    6.80,-999.0000,9,-999.0000,9,-999.0000,9,-999.0000,9,-999.0000,9,-999.0000,-999.000,-999.0000,9, -999.00
318M20040615,        P02,     132,          1,         35,         35,2,20040811,       1747,    29.9992,  -150.4003,       5947,    41.2,  19.6441,  34.6972,2,  34.6994,2, 249.8000,2,   248.2,2,    2.29,2,    0.00,2,    0.00,2,    0.03,2,   2.432,2,   1.470,2,   0.165,2,  -999.0,9,  -999.0,9,-999.000,9,-999.0000,9, -999.00,9, -999.00,9,  -999.0,9,  -999.0,-999.000,9,-999.000, -999.00,9,   41.20,-999.0000,9,-999.0000,9,-999.0000,9,-999.0000,9,-999.0000,9,-999.0000,-999.000,-999.0000,9, -999.00
318M20040615,        P02,     132,          1,         34,         34,2,20040811,       1747,    29.9992,  -150.4003,       5947,    85.9,  18.0180,  34.7782,2,  34.7861,2, 237.3000,2,   238.6,2,    2.48,2,    0.00,2,    0.00,2,    0.07,2,-999.000,9,-999.000,9,-999.000,9,  2015.4,2,  2287.7,2,-999.000,9,-999.0000,9, -999.00,9, -999.00,9,  -999.0,9,  -999.0,-999.000,9,-999.000, -999.00,9,   85.90,-999.0000,9,-999.0000,9,-999.0000,9,-999.0000,9,-999.0000,9,-999.0000,-999.000,-999.0000,9, -999.00
318M20040615,        P02,     132,          1,         33,         33,2,20040811,       1747,    29.9992,  -150.4003,       5947,   135.3,  14.7726,  34.3751,2,  34.7833,2, 226.6000,3,   226.2,2,    4.42,2,    3.35,2,    0.13,2,    0.35,2,   2.886,2,   1.670,2,   0.145,2,  -999.0,9,  -999.0,9,-999.000,9,-999.0000,9, -999.00,9, -999.00,9,  -999.0,9,  -999.0,-999.000,9,-999.000, -999.00,9,  135.30,-999.0000,9,-999.0000,9,-999.0000,9,-999.0000,9,-999.0000,9,-999.0000,-999.000,-999.0000,9, -999.00
318M20040615,        P02,     132,          1,         32,         32,2,20040811,       1747,    29.9992,  -150.4003,       5947,   185.5,  13.0050,  34.2439,2,  34.2448,2, 219.1000,2,   224.2,2,    7.14,2,    7.40,2,    0.01,2,    0.60,2,   3.139,2,   1.774,2,   0.109,2,  2056.2,2,  2256.6,6,-999.000,9,-999.0000,9, -999.00,9, -999.00,9,  -999.0,9,  -999.0,-999.000,9,-999.000, -999.00,9,  185.50,-999.0000,9,-999.0000,9,-999.0000,9,-999.0000,9,-999.0000,9,-999.0000,-999.000,-999.0000,9, -999.00
318M20040615,        P02,     132,          1,         31,         31,2,20040811,       1747,    29.9992,  -150.4003,       5947,   235.3,  12.0391,  34.2206,2,  34.2215,2, 219.0000,2,   223.7,2,    9.67,2,    9.78,2,    0.00,2,    0.74,2,-999.000,9,-999.000,9,-999.000,9,  -999.0,9,  -999.0,9,-999.000,9,-999.0000,9, -999.00,9, -999.00,9,  -999.0,9,  -999.0,-999.000,9,-999.000, -999.00,9,  235.30,-999.0000,9,-999.0000,9,-999.0000,9,-999.0000,9,-999.0000,9,-999.0000,-999.000,-999.0000,9, -999.00
318M20040615,        P02,     132,          1,         30,         30,2,20040811,       1747,    29.9992,  -150.4003,       5947,   285.3,  10.9041,  34.1872,2,  34.1879,2, 215.3000,2,   219.3,2,   14.34,2,   13.03,2,    0.00,2,    0.94,2,   3.327,2,   1.802,2,   0.084,2,  2090.3,2,  2262.0,2,-999.000,9,-999.0000,9, -999.00,9, -999.00,9,  -999.0,9,  -999.0,-999.000,9,-999.000, -999.00,9,  285.30,-999.0000,9,-999.0000,9,-999.0000,9,-999.0000,9,-999.0000,9,-999.0000,-999.000,-999.0000,9, -999.00
318M20040615,        P02,     132,          1,         29,         29,2,20040811,       1747,    29.9992,  -150.4003,       5947,   335.0,  10.0522,  34.1533,2,  34.1542,2, 210.9000,2,   209.6,2,   18.43,2,   15.65,2,    0.00,2,    1.11,2,-999.000,9,-999.000,9,-999.000,9,  -999.0,9,  -999.0,9,-999.000,9,-999.0000,9, -999.00,9, -999.00,9,  -999.0,9,  -999.0,-999.000,9,-999.000, -999.00,9,  335.00,-999.0000,9,-999.0000,9,-999.0000,9,-999.0000,9,-999.0000,9,-999.0000,-999.000,-999.0000,9, -999.00
318M20040615,        P02,     132,          1,         28,         28,2,20040811,       1747,    29.9992,  -150.4003,       5947,   390.1,   9.1643,  34.1202,2,  34.1206,2, 193.9000,2,   191.3,2,   25.26,2,   19.24,2,    0.00,2,    1.35,2,   3.156,2,   1.635,2,   0.097,2,  2131.6,2,  2269.4,2,-999.000,9,-999.0000,9, -999.00,9, -999.00,9,  -999.0,9,  -999.0,-999.000,9,-999.000, -999.00,9,  390.10,-999.0000,9,-999.0000,9,-999.0000,9,-999.0000,9,-999.0000,9,-999.0000,-999.000,-999.0000,9, -999.00
318M20040615,        P02,     132,          1,         27,         27,2,20040811,       1747,    29.9992,  -150.4003,       5947,   439.9,   8.1621,  34.0662,2,  34.0665,2, 171.6000,2,   168.8,2,   34.06,2,   23.37,2,    0.00,2,    1.64,2,-999.000,9,-999.000,9,-999.000,9,  -999.0,9,  -999.0,9,-999.000,9,-999.0000,9, -999.00,9, -999.00,9,  -999.0,9,  -999.0,-999.000,9,-999.000, -999.00,9,  439.90,-999.0000,9,-999.0000,9,-999.0000,9,-999.0000,9,-999.0000,9,-999.0000,-999.000,-999.0000,9, -999.00
318M20040615,        P02,     132,          1,         26,         26,2,20040811,       1747,    29.9992,  -150.4003,       5947,   490.1,   7.1087,  34.0202,2,  34.0216,2, 144.8000,2,   144.0,2,   45.03,2,   27.63,2,    0.00,2,    1.97,2,   2.468,2,   1.238,2,   0.093,2,  2193.0,2,  2279.5,2,-999.000,9,-999.0000,9, -999.00,9, -999.00,9,  -999.0,9,  -999.0,-999.000,9,-999.000, -999.00,9,  490.10,-999.0000,9,-999.0000,9,-999.0000,9,-999.0000,9,-999.0000,9,-999.0000,-999.000,-999.0000,9, -999.00
318M20040615,        P02,     132,          1,         25,         25,2,20040811,       1747,    29.9992,  -150.4003,       5947,   575.0,   5.6559,  34.0012,2,  34.0014,2, 106.5000,2,   104.8,2,   64.32,2,   33.73,2,    0.00,2,    2.43,2,   1.493,2,   0.739,2,   0.042,2,  -999.0,9,  -999.0,9,-999.000,9,-999.0000,9, -999.00,9, -999.00,9,  -999.0,9,  -999.0,-999.000,9,-999.000, -999.00,9,  575.00,-999.0000,9,-999.0000,9,-999.0000,9,-999.0000,9,-999.0000,9,-999.0000,-999.000,-999.0000,9, -999.00
318M20040615,        P02,     132,          1,         24,         24,2,20040811,       1747,    29.9992,  -150.4003,       5947,   674.5,   4.6525,  34.0790,2,  34.0796,2,  55.4000,2,    52.5,2,   87.67,2,   39.76,2,    0.00,2,    2.87,2,   0.492,2,   0.243,2,   0.007,2,  2300.3,2,  2316.3,2,-999.000,9,-999.0000,9, -999.00,9, -999.00,9,  -999.0,9,  -999.0,-999.000,9,-999.000, -999.00,9,  674.50,-999.0000,9,-999.0000,9,-999.0000,9,-999.0000,9,-999.0000,9,-999.0000,-999.000,-999.0000,9, -999.00
318M20040615,        P02,     132,          1,         23,         23,2,20040811,       1747,    29.9992,  -150.4003,       5947,   778.6,   4.1531,  34.1921,2,  34.1931,2,  23.3000,2,    20.9,2,  105.57,2,   42.66,2,    0.00,2,    3.10,2,   0.094,2,   0.048,2,   0.000,2,  -999.0,9,  -999.0,9,-999.000,9,-999.0000,9, -999.00,9, -999.00,9,  -999.0,9,  -999.0,-999.000,9,-999.000, -999.00,9,  778.60,-999.0000,9,-999.0000,9,-999.0000,9,-999.0000,9,-999.0000,9,-999.0000,-999.000,-999.0000,9, -999.00
318M20040615,        P02,     132,          1,         22,         22,2,20040811,       1747,    29.9992,  -150.4003,       5947,   879.2,   3.8700,  34.3034,2,  34.3052,2,  12.8000,2,    11.3,2,  117.55,2,   43.53,2,    0.00,2,    3.20,2,   0.019,2,   0.013,2,   0.000,2,  2359.1,2,  2355.7,2,-999.000,9,-999.0000,9, -999.00,9, -999.00,9,  -999.0,9,  -999.0,-999.000,9,-999.000, -999.00,9,  879.20,-999.0000,9,-999.0000,9,-999.0000,9,-999.0000,9,-999.0000,9,-999.0000,-999.000,-999.0000,9, -999.00
318M20040615,        P02,     132,          1,         21,         21,2,20040811,       1747,    29.9992,  -150.4003,       5947,   979.7,   3.6980,  34.3977,2,  34.3974,2,  12.9000,2,    14.1,2,  123.94,2,   43.59,2,    0.00,2,    3.22,2,   0.015,2,   0.010,2,   0.000,2,  -999.0,9,  -999.0,9,-999.000,9,-999.0000,9, -999.00,9, -999.00,9,  -999.0,9,  -999.0,-999.000,9,-999.000, -999.00,9,  979.70,-999.0000,9,-999.0000,9,-999.0000,9,-999.0000,9,-999.0000,9,-999.0000,-999.000,-999.0000,9, -999.00
318M20040615,        P02,     132,          1,         20,         20,2,20040811,       1747,    29.9992,  -150.4003,       5947,  1080.2,   3.4751,  34.4501,2,  34.4547,2,  19.6000,3,    21.3,2,  129.55,2,   43.76,2,    0.00,2,    3.19,2,   0.008,2,   0.003,2,   0.000,2,  2369.8,6,  2380.2,2,-999.000,9,-999.0000,9, -999.00,9, -999.00,9,  -999.0,9,  -999.0,-999.000,9,-999.000, -999.00,9, 1080.20,-999.0000,9,-999.0000,9,-999.0000,9,-999.0000,9,-999.0000,9,-999.0000,-999.000,-999.0000,9, -999.00
318M20040615,        P02,     132,          1,         19,         19,2,20040811,       1747,    29.9992,  -150.4003,       5947,  1181.0,   3.2570,  34.4855,2,  34.4859,2,  27.5000,2,    28.9,2,  134.16,2,   43.77,2,    0.00,2,    3.16,2,   0.003,2,   0.001,2,   0.000,2,  -999.0,9,  -999.0,9,-999.000,9,-999.0000,9, -999.00,9, -999.00,9,  -999.0,9,  -999.0,-999.000,9,-999.000, -999.00,9, 1181.00,-999.0000,9,-999.0000,9,-999.0000,9,-999.0000,9,-999.0000,9,-999.0000,-999.000,-999.0000,9, -999.00
318M20040615,        P02,     132,          1,         18,         18,2,20040811,       1747,    29.9992,  -150.4003,       5947,  1281.0,   3.0592,  34.5144,2,  34.5155,2,  35.9000,2,    37.3,2,  138.37,2,   43.39,2,    0.00,2,    3.12,2,-999.000,9,-999.000,9,-999.000,9,  -999.0,9,  -999.0,9,-999.000,9,-999.0000,9, -999.00,9, -999.00,9,  -999.0,9,  -999.0,-999.000,9,-999.000, -999.00,9, 1281.00,-999.0000,9,-999.0000,9,-999.0000,9,-999.0000,9,-999.0000,9,-999.0000,-999.000,-999.0000,9, -999.00
318M20040615,        P02,     132,          1,         17,         17,2,20040811,       1747,    29.9992,  -150.4003,       5947,  1386.4,   2.8379,  34.5391,2,  34.5393,2,  44.0000,2,    45.1,2,  143.38,2,   42.85,2,    0.00,2,    3.07,2,   0.019,4,  -0.001,2,   0.000,2,  -999.0,9,  -999.0,9,-999.000,9,-999.0000,9, -999.00,9, -999.00,9,  -999.0,9,  -999.0,-999.000,9,-999.000, -999.00,9, 1386.40,-999.0000,9,-999.0000,9,-999.0000,9,-999.0000,9,-999.0000,9,-999.0000,-999.000,-999.0000,9, -999.00
318M20040615,        P02,     132,          1,         16,         16,2,20040811,       1747,    29.9992,  -150.4003,       5947,  1486.4,   2.6635,  34.5565,2,  34.5575,2,  51.6000,2,    52.1,2,  147.20,2,   42.32,2,    0.00,2,    3.05,2,-999.000,9,-999.000,9,-999.000,9,  -999.0,9,  -999.0,9,-999.000,9,-999.0000,9, -999.00,9, -999.00,9,  -999.0,9,  -999.0,-999.000,9,-999.000, -999.00,9, 1486.40,-999.0000,9,-999.0000,9,-999.0000,9,-999.0000,9,-999.0000,9,-999.0000,-999.000,-999.0000,9, -999.00
318M20040615,        P02,     132,          1,         15,         15,2,20040811,       1747,    29.9992,  -150.4003,       5947,  1586.9,   2.5085,  34.5713,2,  34.5724,2,  58.1000,2,    58.2,2,  151.03,2,   41.91,2,    0.00,2,    3.00,2,   0.004,2,  -0.001,2,   0.000,2,  -999.0,9,  -999.0,9,-999.000,9,-999.0000,9, -999.00,9, -999.00,9,  -999.0,9,  -999.0,-999.000,9,-999.000, -999.00,9, 1586.90,-999.0000,9,-999.0000,9,-999.0000,9,-999.0000,9,-999.0000,9,-999.0000,-999.000,-999.0000,9, -999.00
318M20040615,        P02,     132,          1,         14,         14,2,20040811,       1747,    29.9992,  -150.4003,       5947,  1788.0,   2.2325,  34.5958,2,  34.5969,2,  69.7000,2,    69.4,2,  157.51,2,   41.11,2,    0.00,2,    2.94,2,   0.003,2,   0.000,2,   0.000,2,  -999.0,9,  -999.0,9,-999.000,9,-999.0000,9, -999.00,9, -999.00,9,  -999.0,9,  -999.0,-999.000,9,-999.000, -999.00,9, 1788.00,-999.0000,9,-999.0000,9,-999.0000,9,-999.0000,9,-999.0000,9,-999.0000,-999.000,-999.0000,9, -999.00
318M20040615,        P02,     132,          1,         13,         13,2,20040811,       1747,    29.9992,  -150.4003,       5947,  1994.5,   2.0119,  34.6157,2,  34.6166,2,  79.2000,2,    79.0,2,  163.57,2,   40.58,2,    0.00,2,    2.90,2,   0.003,2,  -0.004,2,   0.000,2,  -999.0,9,  -999.0,9,-999.000,9,-999.0000,9, -999.00,9, -999.00,9,  -999.0,9,  -999.0,-999.000,9,-999.000, -999.00,9, 1994.50,-999.0000,9,-999.0000,9,-999.0000,9,-999.0000,9,-999.0000,9,-999.0000,-999.000,-999.0000,9, -999.00
318M20040615,        P02,     132,          1,          6,          6,2,20040811,       1747,    29.9992,  -150.4003,       5947,  2196.1,   1.8521,  34.6318,2,  34.6321,2,  87.8000,2,    87.7,2,  168.02,2,   40.04,2,    0.00,2,    2.85,2,   0.005,2,   0.000,2,   0.000,2,  -999.0,9,  -999.0,9,-999.000,9,-999.0000,9, -999.00,9, -999.00,9,  -999.0,9,  -999.0,-999.000,9,-999.000, -999.00,9, 2196.10,-999.0000,9,-999.0000,9,-999.0000,9,-999.0000,9,-999.0000,9,-999.0000,-999.000,-999.0000,9, -999.00
318M20040615,        P02,     132,          1,          5,          5,2,20040811,       1747,    29.9992,  -150.4003,       5947,  2453.6,   1.7389,  34.6442,2,  34.6447,2,  97.4000,2,    96.5,2,  170.23,2,   39.68,2,    0.00,2,    2.81,2,   0.007,2,   0.002,2,   0.000,2,  -999.0,9,  -999.0,9,-999.000,9,-999.0000,9, -999.00,9, -999.00,9,  -999.0,9,  -999.0,-999.000,9,-999.000, -999.00,9, 2453.60,-999.0000,9,-999.0000,9,-999.0000,9,-999.0000,9,-999.0000,9,-999.0000,-999.000,-999.0000,9, -999.00
318M20040615,        P02,     132,          1,          4,          4,2,20040811,       1747,    29.9992,  -150.4003,       5947,  2705.5,   1.6299,  34.6559,2,  34.6560,2, 107.2000,2,   108.3,2,  169.61,2,   39.19,2,    0.00,2,    2.74,2,   0.006,2,   0.001,2,   0.000,2,  -999.0,9,  -999.0,9,-999.000,9,-999.0000,9, -999.00,9, -999.00,9,  -999.0,9,  -999.0,-999.000,9,-999.000, -999.00,9, 2705.50,-999.0000,9,-999.0000,9,-999.0000,9,-999.0000,9,-999.0000,9,-999.0000,-999.000,-999.0000,9, -999.00
318M20040615,        P02,     132,          1,          3,          3,2,20040811,       1747,    29.9992,  -150.4003,       5947,  2963.5,   1.5562,  34.6651,2,  34.6650,2, 117.0000,2,   117.7,2,  168.38,2,   38.61,2,    0.00,2,    2.69,2,-999.000,9,-999.000,9,-999.000,9,  -999.0,9,  -999.0,9,-999.000,9,-999.0000,9, -999.00,9, -999.00,9,  -999.0,9,  -999.0,-999.000,9,-999.000, -999.00,9, 2963.50,-999.0000,9,-999.0000,9,-999.0000,9,-999.0000,9,-999.0000,9,-999.0000,-999.000,-999.0000,9, -999.00
318M20040615,        P02,     132,          1,          2,          2,2,20040811,       1747,    29.9992,  -150.4003,       5947,  3297.5,   1.4948,  34.6746,2,  34.6750,2, 128.8000,2,   129.7,2,  164.91,2,   37.70,2,    0.00,2,    2.62,2,   0.006,2,   0.005,2,   0.000,2,  -999.0,9,  -999.0,9,-999.000,9,-999.0000,9, -999.00,9, -999.00,9,  -999.0,9,  -999.0,-999.000,9,-999.000, -999.00,9, 3297.50,-999.0000,9,-999.0000,9,-999.0000,9,-999.0000,9,-999.0000,9,-999.0000,-999.000,-999.0000,9, -999.00
318M20040615,        P02,     132,          1,          1,          1,2,20040811,       1747,    29.9992,  -150.4003,       5947,  3707.8,   1.4655,  34.6824,2,  34.6819,2, 139.9000,2,   141.3,2,  160.65,2,   36.86,2,    0.00,2,    2.57,2,-999.000,9,-999.000,9,-999.000,9,  -999.0,9,  -999.0,9,-999.000,9,-999.0000,9, -999.00,9, -999.00,9,  -999.0,9,  -999.0,-999.000,9,-999.000, -999.00,9, 3707.80,-999.0000,9,-999.0000,9,-999.0000,9,-999.0000,9,-999.0000,9,-999.0000,-999.000,-999.0000,9, -999.00
318M20040615,        P02,     132,          1,         12,         12,2,20040811,       1747,    29.9992,  -150.4003,       5947,  4118.7,   1.4721,  34.6863,2,  34.6869,2, 148.3000,2,   148.0,2,  156.02,2,   36.34,2,    0.00,2,    2.52,2,   0.006,2,   0.006,2,   0.000,2,  -999.0,9,  -999.0,9,-999.000,9,-999.0000,9, -999.00,9, -999.00,9,  -999.0,9,  -999.0,-999.000,9,-999.000, -999.00,9, 4118.70,-999.0000,9,-999.0000,9,-999.0000,9,-999.0000,9,-999.0000,9,-999.0000,-999.000,-999.0000,9, -999.00
318M20040615,        P02,     132,          1,         11,         11,2,20040811,       1747,    29.9992,  -150.4003,       5947,  4530.8,   1.4881,  34.6893,2,  34.6892,2, 153.2000,2,   153.6,2,  151.77,2,   35.86,2,    0.00,2,    2.49,2,   0.009,2,   0.005,2,   0.000,2,  -999.0,9,  -999.0,9,-999.000,9,-999.0000,9, -999.00,9, -999.00,9,  -999.0,9,  -999.0,-999.000,9,-999.000, -999.00,9, 4530.80,-999.0000,9,-999.0000,9,-999.0000,9,-999.0000,9,-999.0000,9,-999.0000,-999.000,-999.0000,9, -999.00
318M20040615,        P02,     132,          1,         10,         10,2,20040811,       1747,    29.9992,  -150.4003,       5947,  4938.7,   1.5180,  34.6910,2,  34.6914,2, 157.0000,2,   157.6,2,  148.95,2,   35.55,2,    0.00,2,    2.47,2,   0.010,2,   0.010,2,   0.000,2,  -999.0,9,  -999.0,9,-999.000,9,-999.0000,9, -999.00,9, -999.00,9,  -999.0,9,  -999.0,-999.000,9,-999.000, -999.00,9, 4938.70,-999.0000,9,-999.0000,9,-999.0000,9,-999.0000,9,-999.0000,9,-999.0000,-999.000,-999.0000,9, -999.00
318M20040615,        P02,     132,          1,          9,          9,2,20040811,       1747,    29.9992,  -150.4003,       5947,  5352.1,   1.5507,  34.6921,2,  34.6923,2, 160.5000,2,   160.7,2,  146.10,2,   35.40,2,    0.00,2,    2.46,2,   0.009,2,   0.009,2,   0.000,2,  -999.0,9,  -999.0,9,-999.000,9,-999.0000,9, -999.00,9, -999.00,9,  -999.0,9,  -999.0,-999.000,9,-999.000, -999.00,9, 5352.10,-999.0000,9,-999.0000,9,-999.0000,9,-999.0000,9,-999.0000,9,-999.0000,-999.000,-999.0000,9, -999.00
318M20040615,        P02,     132,          1,          8,          8,2,20040811,       1747,    29.9992,  -150.4003,       5947,  5766.2,   1.5960,  34.6927,2,  34.6933,2, 162.0000,2,   162.9,2,  144.69,2,   35.57,2,    0.00,2,    2.46,2,   0.010,2,   0.009,2,   0.000,2,  -999.0,9,  -999.0,9,-999.000,9,-999.0000,9, -999.00,9, -999.00,9,  -999.0,9,  -999.0,-999.000,9,-999.000, -999.00,9, 5766.20,-999.0000,9,-999.0000,9,-999.0000,9,-999.0000,9,-999.0000,9,-999.0000,-999.000,-999.0000,9, -999.00
318M20040615,        P02,     132,          1,          7,          7,2,20040811,       1747,    29.9992,  -150.4003,       5947,  6123.9,   1.6455,  34.6926,2,  34.6936,2, 161.8000,2,   162.2,2,  144.47,2,   35.67,2,    0.00,2,    2.45,2,   0.008,6,   0.006,6,   0.000,6,  -999.0,9,  -999.0,9,-999.000,9,-999.0000,9, -999.00,9, -999.00,9,  -999.0,9,  -999.0,-999.000,9,-999.000, -999.00,9, 6123.90,-999.0000,9,-999.0000,9,-999.0000,9,-999.0000,9,-999.0000,9,-999.0000,-999.000,-999.0000,9, -999.00