BOTTLE,20131027SIOCCHRJL
EXPOCODE,SECT_ID,STNNBR,CASTNO,SAMPNO,BTLNBR,BTLNBR_FLAG_W,DATE,TIME,LATITUDE,LONGITUDE,DEPTH,CTDPRS,CTDTMP,CTDSAL,CTDSAL_FLAG_W,SALNTY,SALNTY_FLAG_W,CTDOXY,CTDOXY_FLAG_W,OXYGEN,OXYGEN_FLAG_W,SILCAT,SILCAT_FLAG_W,NITRAT,NITRAT_FLAG_W,NITRIT,NITRIT_FLAG_W,PHSPHT,PHSPHT_FLAG_W,CFC-11,CFC-11_FLAG_W,CFC-12,CFC-12_FLAG_W,CFC113,CFC113_FLAG_W,TCARBN,TCARBN_FLAG_W,ALKALI,ALKALI_FLAG_W,TRITUM,TRITUM_FLAG_W,HELIUM,HELIUM_FLAG_W,DELHE3,DELHE3_FLAG_W,DELC13,DELC13_FLAG_W,DELC14,DELC14_FLAG_W,C14ERR,NEON,NEON_FLAG_W,NEONER,DOC,DOC_FLAG_W,CTDRAW,CDOM380,CDOM380_FLAG_W,CDOM325,CDOM325_FLAG_W,CDOMSL,CDOMSL_FLAG_W,CDOM340,CDOM340_FLAG_W,CDOMSN,CDOMSN_FLAG_W,HELIER,TRITER,CDOM412,CDOM412_FLAG_W,DELHER
,,,,,,,,,,,METERS,DBAR,ITS-90,PSS-78,,PSS-78,,UMOL/KG,,UMOL/KG,,UMOL/KG,,UMOL/KG,,UMOL/KG,,UMOL/KG,,PMOL/KG,,PMOL/KG,,PMOL/KG,,UMOL/KG,,UMOL/KG,,TU,,NMOL/KG,,PERCNT,,/MILLE,,/MILLE,,/MILLE,NMOL/KG,,NMOL/KG,UMOL/KG,,DBAR,1/M,,1/M,,1/NM,,1/M,,1/NM,,NMOL/KG,TU,1/M,,PERCNT
318M20040615,        P02,      68,          2,         36,         36,2,20040710,       1222,    30.0012,    169.397,       5654,     7.2,  25.5220,  35.0065,2,  34.9977,2, 211.1000,2,   210.9,2,    0.77,2,    0.06,2,    0.00,2,    0.02,2,   1.869,2,   1.153,2,   0.131,2,  1992.3,6,  2297.8,6,-999.000,9,-999.0000,9, -999.00,9, -999.00,9,  -999.0,9,  -999.0,-999.000,9,-999.000,   69.50,2,    7.20,   0.0210,2,   0.0740,2,   0.0250,2,   0.0510,2,   0.0250,2,-999.0000,-999.000,   0.0130,2, -999.00
318M20040615,        P02,      68,          2,         35,         35,2,20040710,       1222,    30.0012,    169.397,       5654,    36.0,  21.4026,  34.7672,2,  34.7675,2, 233.5000,2,   233.4,2,    0.59,2,    0.06,2,    0.00,2,    0.04,2,   2.146,2,   1.291,2,   0.117,2,  1978.5,2,  2284.8,6,-999.000,9,-999.0000,9, -999.00,9, -999.00,9,  -999.0,9,  -999.0,-999.000,9,-999.000,   66.10,2,   36.00,   0.0460,2,   0.1400,2,   0.0190,2,   0.0980,2,   0.0200,2,-999.0000,-999.000,   0.0280,2, -999.00
318M20040615,        P02,      68,          2,         34,         34,2,20040710,       1222,    30.0012,    169.397,       5654,    70.7,  19.2086,  34.8051,2,  34.8057,2, 203.9000,2,   203.7,2,    3.22,2,    3.09,2,    0.11,2,    0.23,2,   2.274,2,   1.358,2,   0.103,2,  2014.2,2,  2284.7,2,-999.000,9,-999.0000,9, -999.00,9, -999.00,9,  -999.0,9,  -999.0,-999.000,9,-999.000,   62.70,2,   70.70,   0.0360,2,   0.1040,2,   0.0180,2,   0.0760,2,   0.0190,2,-999.0000,-999.000,   0.0260,2, -999.00
318M20040615,        P02,      68,          2,         33,         33,2,20040710,       1222,    30.0012,    169.397,       5654,   125.2,  17.5020,  34.8004,2,  34.8032,2, 215.8000,2,   214.5,2,    2.86,2,    3.55,2,    0.03,2,    0.26,2,   2.429,2,   1.442,2,   0.115,2,  2024.5,2,  2284.7,2,-999.000,9,-999.0000,9, -999.00,9, -999.00,9,  -999.0,9,  -999.0,-999.000,9,-999.000,   57.60,2,  125.20,   0.0460,2,   0.1130,2,   0.0140,2,   0.0830,2,   0.0160,2,-999.0000,-999.000,   0.0320,2, -999.00
318M20040615,        P02,      68,          2,         32,         32,2,20040710,       1222,    30.0012,    169.397,       5654,   175.0,  16.8225,  34.7576,2,  34.7593,2, 216.6000,2,   217.1,2,    3.56,2,    4.46,2,    0.01,2,    0.31,2,   2.497,2,   1.470,2,   0.091,2,  2030.9,2,  2282.6,2,-999.000,9,-999.0000,9, -999.00,9, -999.00,9,  -999.0,9,  -999.0,-999.000,9,-999.000,   55.00,2,  175.00,   0.0400,2,   0.1020,2,   0.0150,2,   0.0740,2,   0.0160,2,-999.0000,-999.000,   0.0290,2, -999.00
318M20040615,        P02,      68,          2,         31,         31,2,20040710,       1222,    30.0012,    169.397,       5654,   225.0,  16.3506,  34.7192,2,  34.7198,2, 218.9000,2,   214.8,2,    4.61,2,    5.31,2,    0.01,2,    0.38,2,   2.526,2,   1.474,2,   0.093,2,  2037.3,2,  2281.2,2,-999.000,9,-999.0000,9, -999.00,9, -999.00,9,  -999.0,9,  -999.0,-999.000,9,-999.000,   53.30,2,  225.00,   0.0250,2,   0.0790,2,   0.0220,2,   0.0550,2,   0.0230,2,-999.0000,-999.000,   0.0170,2, -999.00
318M20040615,        P02,      68,          2,         30,         30,2,20040710,       1222,    30.0012,    169.397,       5654,   274.2,  15.6706,  34.6639,2,  34.6668,2, 211.8000,2,   215.6,2,    6.01,2,    6.37,2,    0.01,2,    0.45,2,   2.574,2,   1.489,2,   0.110,2,  2044.6,2,  2278.3,2,-999.000,9,-999.0000,9, -999.00,9, -999.00,9,  -999.0,9,  -999.0,-999.000,9,-999.000,   51.60,2,  274.20,-999.0000,9,-999.0000,9,-999.0000,9,-999.0000,9,-999.0000,9,-999.0000,-999.000,-999.0000,9, -999.00
318M20040615,        P02,      68,          2,         29,         29,2,20040710,       1222,    30.0012,    169.397,       5654,   324.3,  14.6849,  34.5681,2,  34.5686,2, 204.7000,2,   203.3,2,    8.64,2,    8.81,2,    0.01,2,    0.62,2,   2.644,2,   1.509,2,   0.051,2,  2062.8,2,  2274.0,2,-999.000,9,-999.0000,9, -999.00,9, -999.00,9,  -999.0,9,  -999.0,-999.000,9,-999.000,   51.00,2,  324.30,-999.0000,9,-999.0000,9,-999.0000,9,-999.0000,9,-999.0000,9,-999.0000,-999.000,-999.0000,9, -999.00
318M20040615,        P02,      68,          2,         28,         28,2,20040710,       1222,    30.0012,    169.397,       5654,   374.0,  13.6251,  34.4960,2,  34.4983,2, 202.9000,2,   202.1,2,   11.63,2,   10.71,2,    0.01,2,    0.76,2,   2.700,2,   1.516,2,   0.073,2,  2074.6,2,  2272.7,2,-999.000,9,-999.0000,9, -999.00,9, -999.00,9,  -999.0,9,  -999.0,-999.000,9,-999.000,   50.60,2,  374.00,   0.0660,2,   0.1540,2,   0.0120,2,   0.1140,2,   0.0140,2,-999.0000,-999.000,   0.0490,2, -999.00
318M20040615,        P02,      68,          2,         27,         27,2,20040710,       1222,    30.0012,    169.397,       5654,   423.2,  12.3824,  34.3971,2,  34.4013,2, 197.7000,2,   198.4,2,   14.97,2,   13.03,2,    0.01,2,    0.91,2,   2.779,6,   1.540,6,   0.061,6,  2092.8,2,  2271.5,2,-999.000,9,-999.0000,9, -999.00,9, -999.00,9,  -999.0,9,  -999.0,-999.000,9,-999.000,   49.80,2,  423.20,-999.0000,9,-999.0000,9,-999.0000,9,-999.0000,9,-999.0000,9,-999.0000,-999.000,-999.0000,9, -999.00
318M20040615,        P02,      68,          2,         26,         26,2,20040710,       1222,    30.0012,    169.397,       5654,   472.7,  11.1578,  34.3106,2,  34.3132,2, 210.8000,2,   215.2,2,   17.97,2,   13.67,2,    0.01,2,    0.97,2,   2.934,2,   1.637,2,   0.128,2,  2098.0,2,  2272.6,6,-999.000,9,-999.0000,9, -999.00,9, -999.00,9,  -999.0,9,  -999.0,-999.000,9,-999.000,   49.00,2,  472.70,   0.0810,2,   0.1850,2,   0.0120,2,   0.1390,2,   0.0130,2,-999.0000,-999.000,   0.0600,2, -999.00
318M20040615,        P02,      68,          2,         25,         25,2,20040710,       1222,    30.0012,    169.397,       5654,   541.6,   9.2779,  34.1576,2,  34.1564,2, 189.0000,2,   193.5,2,   28.40,2,   18.80,2,    0.00,2,    1.34,2,   2.860,2,   1.550,2,   0.118,2,  2134.7,2,  2272.8,2,-999.000,9,-999.0000,9, -999.00,9, -999.00,9,  -999.0,9,  -999.0,-999.000,9,-999.000,   47.80,2,  541.60,-999.0000,9,-999.0000,9,-999.0000,9,-999.0000,9,-999.0000,9,-999.0000,-999.000,-999.0000,9, -999.00
318M20040615,        P02,      68,          2,         24,         24,2,20040710,       1222,    30.0012,    169.397,       5654,   641.9,   6.7688,  34.0071,2,  34.0071,2, 159.4000,2,   162.2,2,   47.60,2,   26.17,2,    0.00,2,    1.90,2,   2.564,2,   1.350,2,   0.118,2,  2190.4,2,  2280.9,2,-999.000,9,-999.0000,9, -999.00,9, -999.00,9,  -999.0,9,  -999.0,-999.000,9,-999.000,   46.40,2,  641.90,   0.0760,2,   0.1930,2,   0.0140,2,   0.1410,2,   0.0160,2,-999.0000,-999.000,   0.0530,2, -999.00
318M20040615,        P02,      68,          2,         23,         23,2,20040710,       1222,    30.0012,    169.397,       5654,   751.3,   5.1102,  34.0547,2,  34.0560,2, 101.4000,2,   100.9,2,   77.09,2,   34.67,2,    0.00,2,    2.51,2,   1.596,2,   0.817,2,   0.064,2,  2265.0,2,  2303.0,2,-999.000,9,-999.0000,9, -999.00,9, -999.00,9,  -999.0,9,  -999.0,-999.000,9,-999.000,   43.70,2,  751.30,-999.0000,9,-999.0000,9,-999.0000,9,-999.0000,9,-999.0000,9,-999.0000,-999.000,-999.0000,9, -999.00
318M20040615,        P02,      68,          2,         22,         22,2,20040710,       1222,    30.0012,    169.397,       5654,   849.9,   4.5156,  34.1451,2,  34.1458,2,  67.4000,2,    68.2,2,   94.68,2,   38.46,2,    0.00,2,    2.78,2,   0.931,2,   0.463,2,   0.035,2,  2300.0,2,  2323.0,2,-999.000,9,-999.0000,9, -999.00,9, -999.00,9,  -999.0,9,  -999.0,-999.000,9,-999.000,   42.90,2,  849.90,-999.0000,9,-999.0000,9,-999.0000,9,-999.0000,9,-999.0000,9,-999.0000,-999.000,-999.0000,9, -999.00
318M20040615,        P02,      68,          2,         21,         21,2,20040710,       1222,    30.0012,    169.397,       5654,   953.9,   3.9345,  34.2417,2,  34.2403,2,  46.1000,2,    46.1,2,  112.11,2,   40.95,2,    0.00,2,    2.95,2,   0.435,2,   0.214,2,   0.010,2,  2331.1,2,  2341.3,2,-999.000,9,-999.0000,9, -999.00,9, -999.00,9,  -999.0,9,  -999.0,-999.000,9,-999.000,   41.70,2,  953.90,-999.0000,9,-999.0000,9,-999.0000,9,-999.0000,9,-999.0000,9,-999.0000,-999.000,-999.0000,9, -999.00
318M20040615,        P02,      68,          2,         20,         20,2,20040710,       1222,    30.0012,    169.397,       5654,  1053.2,   3.5168,  34.3207,2,  34.3214,2,  36.6000,2,    36.0,2,  124.53,2,   42.21,2,    0.00,2,    3.04,2,   0.192,2,   0.097,2,   0.004,2,  2349.7,2,  2357.7,2,-999.000,9,-999.0000,9, -999.00,9, -999.00,9,  -999.0,9,  -999.0,-999.000,9,-999.000,   40.80,2, 1053.20,   0.1020,2,   0.2310,2,   0.0130,2,   0.1720,2,   0.0130,2,-999.0000,-999.000,   0.0760,2, -999.00
318M20040615,        P02,      68,          2,         19,         19,2,20040710,       1222,    30.0012,    169.397,       5654,  1156.5,   3.1996,  34.3679,2,  34.3683,2,  32.3000,2,    34.3,3,  134.22,2,   42.79,2,    0.00,2,    3.08,2,   0.121,2,   0.062,2,   0.003,2,  2363.8,2,  2368.5,2,-999.000,9,-999.0000,9, -999.00,9, -999.00,9,  -999.0,9,  -999.0,-999.000,9,-999.000,   39.90,2, 1156.50,-999.0000,9,-999.0000,9,-999.0000,9,-999.0000,9,-999.0000,9,-999.0000,-999.000,-999.0000,9, -999.00
318M20040615,        P02,      68,          2,         18,         18,2,20040710,       1222,    30.0012,    169.397,       5654,  1255.1,   2.9369,  34.4178,2,  34.4193,2,  31.4000,2,    31.3,2,  141.90,2,   43.12,2,    0.00,2,    3.10,2,   0.063,2,   0.034,2,   0.002,2,  2371.0,6,  2379.5,6,-999.000,9,-999.0000,9, -999.00,9, -999.00,9,  -999.0,9,  -999.0,-999.000,9,-999.000,   39.10,2, 1255.10,-999.0000,9,-999.0000,9,-999.0000,9,-999.0000,9,-999.0000,9,-999.0000,-999.000,-999.0000,9, -999.00
318M20040615,        P02,      68,          2,         17,         17,2,20040710,       1222,    30.0012,    169.397,       5654,  1354.0,   2.7385,  34.4592,2,  34.4607,2,  33.4000,2,    34.2,2,  147.27,2,   43.19,2,    0.00,2,    3.10,2,   0.038,2,   0.021,2,   0.001,2,  2378.0,2,  2387.3,2,-999.000,9,-999.0000,9, -999.00,9, -999.00,9,  -999.0,9,  -999.0,-999.000,9,-999.000,   39.10,2, 1354.00,-999.0000,9,-999.0000,9,-999.0000,9,-999.0000,9,-999.0000,9,-999.0000,-999.000,-999.0000,9, -999.00
318M20040615,        P02,      68,          2,         16,         16,2,20040710,       1222,    30.0012,    169.397,       5654,  1455.5,   2.5804,  34.4950,2,  34.4961,2,  36.8000,2,    37.8,2,  151.17,2,   43.48,2,    0.00,2,    3.09,2,   0.016,2,   0.007,2,   0.001,2,  2380.4,2,  2394.5,2,-999.000,9,-999.0000,9, -999.00,9, -999.00,9,  -999.0,9,  -999.0,-999.000,9,-999.000,   38.40,2, 1455.50,-999.0000,9,-999.0000,9,-999.0000,9,-999.0000,9,-999.0000,9,-999.0000,-999.000,-999.0000,9, -999.00
318M20040615,        P02,      68,          2,         15,         15,2,20040710,       1222,    30.0012,    169.397,       5654,  1557.5,   2.4555,  34.5214,2,  34.5236,2,  42.9000,2,    43.6,2,  153.84,2,   43.42,2,    0.00,2,    3.06,2,   0.217,4,   0.031,4,   0.064,4,  2381.1,2,  2399.2,2,-999.000,9,-999.0000,9, -999.00,9, -999.00,9,  -999.0,9,  -999.0,-999.000,9,-999.000,   38.50,2, 1557.50,-999.0000,9,-999.0000,9,-999.0000,9,-999.0000,9,-999.0000,9,-999.0000,-999.000,-999.0000,9, -999.00
318M20040615,        P02,      68,          2,         14,         14,2,20040710,       1222,    30.0012,    169.397,       5654,  1761.2,   2.1568,  34.5694,2,  34.5708,2,  58.8000,2,    59.9,2,  159.19,2,   42.33,2,    0.00,2,    2.99,2,   0.006,2,   0.003,2,   0.002,2,  2378.9,2,  2406.8,2,-999.000,9,-999.0000,9, -999.00,9, -999.00,9,  -999.0,9,  -999.0,-999.000,9,-999.000,   38.40,2, 1761.20,-999.0000,9,-999.0000,9,-999.0000,9,-999.0000,9,-999.0000,9,-999.0000,-999.000,-999.0000,9, -999.00
318M20040615,        P02,      68,          2,         13,         13,2,20040710,       1222,    30.0012,    169.397,       5654,  1964.5,   1.9538,  34.5981,2,  34.6004,2,  74.3000,2,    74.1,2,  162.02,2,   41.37,2,    0.00,2,    2.91,2,   0.004,2,   0.003,2,   0.001,2,  2371.8,2,  2411.6,2,-999.000,9,-999.0000,9, -999.00,9, -999.00,9,  -999.0,9,  -999.0,-999.000,9,-999.000,   38.20,2, 1964.50,-999.0000,9,-999.0000,9,-999.0000,9,-999.0000,9,-999.0000,9,-999.0000,-999.000,-999.0000,9, -999.00
318M20040615,        P02,      68,          2,         12,         12,2,20040710,       1222,    30.0012,    169.397,       5654,  2141.4,   1.8263,  34.6162,2,  34.6167,2,  84.9000,2,    85.3,2,  162.88,2,   40.52,2,    0.00,2,    2.85,2,   0.002,2,   0.001,2,   0.001,2,  2367.7,2,  2413.6,2,-999.000,9,-999.0000,9, -999.00,9, -999.00,9,  -999.0,9,  -999.0,-999.000,9,-999.000,   38.10,2, 2141.40,   0.0730,2,   0.1760,2,   0.0130,2,   0.1280,2,   0.0150,2,-999.0000,-999.000,   0.0510,2, -999.00
318M20040615,        P02,      68,          2,         11,         11,2,20040710,       1222,    30.0012,    169.397,       5654,  2376.1,   1.7090,  34.6355,2,  34.6356,2, 102.7000,2,   101.2,2,  160.52,2,   39.39,2,    0.00,2,    2.78,2,   0.003,2,   0.000,2,   0.002,2,  2358.9,2,  2414.8,2,-999.000,9,-999.0000,9, -999.00,9, -999.00,9,  -999.0,9,  -999.0,-999.000,9,-999.000,   37.70,2, 2376.10,-999.0000,9,-999.0000,9,-999.0000,9,-999.0000,9,-999.0000,9,-999.0000,-999.000,-999.0000,9, -999.00
318M20040615,        P02,      68,          2,         10,         10,2,20040710,       1222,    30.0012,    169.397,       5654,  2636.5,   1.6117,  34.6498,2,  34.6515,2, 113.4000,2,   113.4,2,  159.41,2,   38.55,2,    0.00,2,    2.72,2,   0.003,2,  -0.001,2,   0.001,2,  2353.0,2,  2415.9,2,-999.000,9,-999.0000,9, -999.00,9, -999.00,9,  -999.0,9,  -999.0,-999.000,9,-999.000,   37.70,2, 2636.50,-999.0000,9,-999.0000,9,-999.0000,9,-999.0000,9,-999.0000,9,-999.0000,-999.000,-999.0000,9, -999.00
318M20040615,        P02,      68,          2,          9,          9,2,20040710,       1222,    30.0012,    169.397,       5654,  2890.0,   1.5503,  34.6603,2,  34.6610,2, 123.6000,2,   123.6,2,  157.80,2,   37.88,2,    0.00,2,    2.66,2,   0.002,2,  -0.001,2,   0.006,2,  2345.7,2,  2415.9,2,-999.000,9,-999.0000,9, -999.00,9, -999.00,9,  -999.0,9,  -999.0,-999.000,9,-999.000,   37.50,2, 2890.00,-999.0000,9,-999.0000,9,-999.0000,9,-999.0000,9,-999.0000,9,-999.0000,-999.000,-999.0000,9, -999.00
318M20040615,        P02,      68,          2,          8,          8,2,20040710,       1222,    30.0012,    169.397,       5654,  3143.5,   1.5020,  34.6691,2,  34.6688,2, 132.7000,2,   133.4,2,  155.26,2,   37.22,2,    0.00,2,    2.62,2,   0.002,2,  -0.001,2,   0.001,2,  2339.8,2,  2416.6,6,-999.000,9,-999.0000,9, -999.00,9, -999.00,9,  -999.0,9,  -999.0,-999.000,9,-999.000,   38.30,2, 3143.50,-999.0000,9,-999.0000,9,-999.0000,9,-999.0000,9,-999.0000,9,-999.0000,-999.000,-999.0000,9, -999.00
318M20040615,        P02,      68,          2,          7,          7,2,20040710,       1222,    30.0012,    169.397,       5654,  3550.8,   1.4626,  34.6784,2,  34.6791,2, 144.0000,2,   144.5,2,  151.48,2,   36.49,2,    0.00,2,    2.56,2,  -0.002,2,  -0.002,2,   0.001,2,  2333.2,2,  2416.3,2,-999.000,9,-999.0000,9, -999.00,9, -999.00,9,  -999.0,9,  -999.0,-999.000,9,-999.000,   37.70,2, 3550.80,-999.0000,9,-999.0000,9,-999.0000,9,-999.0000,9,-999.0000,9,-999.0000,-999.000,-999.0000,9, -999.00
318M20040615,        P02,      68,          2,          6,          6,2,20040710,       1222,    30.0012,    169.397,       5654,  3972.2,   1.4500,  34.6843,2,  34.6850,2, 151.7000,2,   152.2,2,  148.23,2,   36.06,2,    0.00,2,    2.52,2,   0.008,2,  -0.001,2,   0.001,2,  2327.2,2,  2415.1,2,-999.000,9,-999.0000,9, -999.00,9, -999.00,9,  -999.0,9,  -999.0,-999.000,9,-999.000,   37.60,2, 3972.20,-999.0000,9,-999.0000,9,-999.0000,9,-999.0000,9,-999.0000,9,-999.0000,-999.000,-999.0000,9, -999.00
318M20040615,        P02,      68,          2,          5,          5,2,20040710,       1222,    30.0012,    169.397,       5654,  4377.7,   1.4486,  34.6886,2,  34.6905,2, 157.5000,2,   157.9,2,  146.59,2,   35.84,2,    0.00,2,    2.48,2,   0.005,2,  -0.002,2,   0.001,2,  2321.4,2,  2411.7,2,-999.000,9,-999.0000,9, -999.00,9, -999.00,9,  -999.0,9,  -999.0,-999.000,9,-999.000,   38.20,2, 4377.70,-999.0000,9,-999.0000,9,-999.0000,9,-999.0000,9,-999.0000,9,-999.0000,-999.000,-999.0000,9, -999.00
318M20040615,        P02,      68,          2,          4,          4,2,20040710,       1222,    30.0012,    169.397,       5654,  4789.5,   1.4496,  34.6928,2,  34.6933,2, 166.2000,2,   166.8,2,  139.57,2,   35.29,2,    0.00,2,    2.43,2,   0.003,2,  -0.002,2,   0.004,2,  2312.7,2,  2406.3,2,-999.000,9,-999.0000,9, -999.00,9, -999.00,9,  -999.0,9,  -999.0,-999.000,9,-999.000,   37.50,2, 4789.50,-999.0000,9,-999.0000,9,-999.0000,9,-999.0000,9,-999.0000,9,-999.0000,-999.000,-999.0000,9, -999.00
318M20040615,        P02,      68,          2,          3,          3,2,20040710,       1222,    30.0012,    169.397,       5654,  5196.6,   1.4677,  34.6954,2,  34.6961,2, 171.3000,2,   171.8,2,  135.59,2,   34.85,2,    0.00,2,    2.40,2,   0.002,2,  -0.006,2,   0.004,2,  2307.7,2,  2402.5,2,-999.000,9,-999.0000,9, -999.00,9, -999.00,9,  -999.0,9,  -999.0,-999.000,9,-999.000,   38.20,2, 5196.60,-999.0000,9,-999.0000,9,-999.0000,9,-999.0000,9,-999.0000,9,-999.0000,-999.000,-999.0000,9, -999.00
318M20040615,        P02,      68,          2,          2,          2,2,20040710,       1222,    30.0012,    169.397,       5654,  5502.0,   1.4885,  34.6968,2,  34.6973,2, 174.3000,2,   174.6,2,  133.96,2,   34.63,2,    0.00,2,    2.39,2,   0.000,2,  -0.005,2,   0.001,2,  2303.8,2,  2400.7,2,-999.000,9,-999.0000,9, -999.00,9, -999.00,9,  -999.0,9,  -999.0,-999.000,9,-999.000,   37.90,2, 5502.00,-999.0000,9,-999.0000,9,-999.0000,9,-999.0000,9,-999.0000,9,-999.0000,-999.000,-999.0000,9, -999.00
318M20040615,        P02,      68,          2,          1,          1,2,20040710,       1222,    30.0012,    169.397,       5654,  5791.8,   1.5088,  34.6979,2,  34.6985,2, 177.0000,2,   177.5,2,  132.14,2,   34.36,2,    0.00,2,    2.38,2,   0.002,2,  -0.006,2,   0.001,2,  2300.3,6,  2398.8,6,-999.000,9,-999.0000,9, -999.00,9, -999.00,9,  -999.0,9,  -999.0,-999.000,9,-999.000,   38.40,2, 5791.80,-999.0000,9,-999.0000,9,-999.0000,9,-999.0000,9,-999.0000,9,-999.0000,-999.000,-999.0000,9, -999.00