BOTTLE,20131027SIOCCHRJL
EXPOCODE,SECT_ID,STNNBR,CASTNO,SAMPNO,BTLNBR,BTLNBR_FLAG_W,DATE,TIME,LATITUDE,LONGITUDE,DEPTH,CTDPRS,CTDTMP,CTDSAL,CTDSAL_FLAG_W,SALNTY,SALNTY_FLAG_W,CTDOXY,CTDOXY_FLAG_W,OXYGEN,OXYGEN_FLAG_W,SILCAT,SILCAT_FLAG_W,NITRAT,NITRAT_FLAG_W,NITRIT,NITRIT_FLAG_W,PHSPHT,PHSPHT_FLAG_W,CFC-11,CFC-11_FLAG_W,CFC-12,CFC-12_FLAG_W,CFC113,CFC113_FLAG_W,TCARBN,TCARBN_FLAG_W,ALKALI,ALKALI_FLAG_W,TRITUM,TRITUM_FLAG_W,HELIUM,HELIUM_FLAG_W,DELHE3,DELHE3_FLAG_W,DELC13,DELC13_FLAG_W,DELC14,DELC14_FLAG_W,C14ERR,NEON,NEON_FLAG_W,NEONER,DOC,DOC_FLAG_W,CTDRAW,CDOM380,CDOM380_FLAG_W,CDOM325,CDOM325_FLAG_W,CDOMSL,CDOMSL_FLAG_W,CDOM340,CDOM340_FLAG_W,CDOMSN,CDOMSN_FLAG_W,HELIER,TRITER,CDOM412,CDOM412_FLAG_W,DELHER
,,,,,,,,,,,METERS,DBAR,ITS-90,PSS-78,,PSS-78,,UMOL/KG,,UMOL/KG,,UMOL/KG,,UMOL/KG,,UMOL/KG,,UMOL/KG,,PMOL/KG,,PMOL/KG,,PMOL/KG,,UMOL/KG,,UMOL/KG,,TU,,NMOL/KG,,PERCNT,,/MILLE,,/MILLE,,/MILLE,NMOL/KG,,NMOL/KG,UMOL/KG,,DBAR,1/M,,1/M,,1/NM,,1/M,,1/NM,,NMOL/KG,TU,1/M,,PERCNT
318M20040615,        P02,     160,          1,         36,         36,2,20040820,       0436,       30.0,  -130.6898,       4644,     9.0,  23.3389,  33.7269,2,  33.7244,2, 221.9000,2,   221.2,2,    1.82,2,    0.13,2,    0.00,2,    0.24,2,   2.076,2,   1.262,2,   0.150,2,  1998.6,6,  2253.9,6,-999.000,9,-999.0000,9, -999.00,9, -999.00,9,  -999.0,9,  -999.0,-999.000,9,-999.000, -999.00,9,    9.00,-999.0000,9,-999.0000,9,-999.0000,9,-999.0000,9,-999.0000,9,-999.0000,-999.000,-999.0000,9, -999.00
318M20040615,        P02,     160,          1,         35,         35,2,20040820,       0436,       30.0,  -130.6898,       4644,    50.2,  19.1047,  33.6198,2,  33.6256,2, 255.7000,2,   255.6,2,    1.80,2,    0.13,2,    0.00,2,    0.22,2,   2.623,2,   1.557,2,   0.180,2,  -999.0,9,  -999.0,9,-999.000,9,-999.0000,9, -999.00,9, -999.00,9,  -999.0,9,  -999.0,-999.000,9,-999.000, -999.00,9,   50.20,-999.0000,9,-999.0000,9,-999.0000,9,-999.0000,9,-999.0000,9,-999.0000,-999.000,-999.0000,9, -999.00
318M20040615,        P02,     160,          1,         34,         34,2,20040820,       0436,       30.0,  -130.6898,       4644,    99.9,  16.4761,  33.6635,2,  33.6700,2, 246.7000,2,   247.5,2,    1.98,2,    0.13,2,    0.00,2,    0.23,2,   2.778,2,   1.618,2,   0.205,2,  -999.0,9,  -999.0,9,-999.000,9,-999.0000,9, -999.00,9, -999.00,9,  -999.0,9,  -999.0,-999.000,9,-999.000, -999.00,9,   99.90,-999.0000,9,-999.0000,9,-999.0000,9,-999.0000,9,-999.0000,9,-999.0000,-999.000,-999.0000,9, -999.00
318M20040615,        P02,     160,          1,         33,         33,2,20040820,       0436,       30.0,  -130.6898,       4644,   150.0,  13.0344,  33.4858,2,  33.4855,2, 226.9000,2,   229.6,2,    4.41,2,    4.67,2,    0.01,2,    0.57,2,   3.280,2,   1.881,2,   0.194,2,  -999.0,9,  -999.0,9,-999.000,9,-999.0000,9, -999.00,9, -999.00,9,  -999.0,9,  -999.0,-999.000,9,-999.000, -999.00,9,  150.00,-999.0000,9,-999.0000,9,-999.0000,9,-999.0000,9,-999.0000,9,-999.0000,-999.000,-999.0000,9, -999.00
318M20040615,        P02,     160,          1,         32,         32,2,20040820,       0436,       30.0,  -130.6898,       4644,   205.0,   9.7928,  33.5143,2,  33.5126,2, 198.9000,2,   204.7,2,   13.97,2,   14.73,2,    0.00,2,    1.18,2,-999.000,9,-999.000,9,-999.000,9,  -999.0,9,  -999.0,9,-999.000,9,-999.0000,9, -999.00,9, -999.00,9,  -999.0,9,  -999.0,-999.000,9,-999.000, -999.00,9,  205.00,-999.0000,9,-999.0000,9,-999.0000,9,-999.0000,9,-999.0000,9,-999.0000,-999.000,-999.0000,9, -999.00
318M20040615,        P02,     160,          1,         31,         31,2,20040820,       0436,       30.0,  -130.6898,       4644,   254.3,   9.0082,  33.8631,2,  33.8630,2, 182.9000,2,   176.9,2,   22.53,2,   20.34,2,    0.00,2,    1.50,2,   3.502,2,   1.863,2,   0.120,2,  -999.0,9,  -999.0,9,-999.000,9,-999.0000,9, -999.00,9, -999.00,9,  -999.0,9,  -999.0,-999.000,9,-999.000, -999.00,9,  254.30,-999.0000,9,-999.0000,9,-999.0000,9,-999.0000,9,-999.0000,9,-999.0000,-999.000,-999.0000,9, -999.00
318M20040615,        P02,     160,          1,         30,         30,2,20040820,       0436,       30.0,  -130.6898,       4644,   303.4,   8.2054,  34.0226,2,  34.0230,2, 126.8000,2,   125.0,2,   35.21,2,   27.51,2,    0.00,2,    1.98,2,-999.000,9,-999.000,9,-999.000,9,  -999.0,9,  -999.0,9,-999.000,9,-999.0000,9, -999.00,9, -999.00,9,  -999.0,9,  -999.0,-999.000,9,-999.000, -999.00,9,  303.40,-999.0000,9,-999.0000,9,-999.0000,9,-999.0000,9,-999.0000,9,-999.0000,-999.000,-999.0000,9, -999.00
318M20040615,        P02,     160,          1,         29,         29,2,20040820,       0436,       30.0,  -130.6898,       4644,   352.4,   7.4187,  34.0350,2,  34.0355,2, 103.9000,2,   106.1,2,   44.22,2,   30.84,2,    0.00,2,    2.21,2,   2.333,2,   1.140,2,   0.082,2,  -999.0,9,  -999.0,9,-999.000,9,-999.0000,9, -999.00,9, -999.00,9,  -999.0,9,  -999.0,-999.000,9,-999.000, -999.00,9,  352.40,-999.0000,9,-999.0000,9,-999.0000,9,-999.0000,9,-999.0000,9,-999.0000,-999.000,-999.0000,9, -999.00
318M20040615,        P02,     160,          1,         28,         28,2,20040820,       0436,       30.0,  -130.6898,       4644,   403.0,   6.7159,  34.0470,2,  34.0459,2,  88.4000,2,    83.6,2,   53.45,2,   33.81,2,    0.00,2,    2.46,2,   1.664,2,   0.822,2,   0.053,2,  -999.0,9,  -999.0,9,-999.000,9,-999.0000,9, -999.00,9, -999.00,9,  -999.0,9,  -999.0,-999.000,9,-999.000, -999.00,9,  403.00,-999.0000,9,-999.0000,9,-999.0000,9,-999.0000,9,-999.0000,9,-999.0000,-999.000,-999.0000,9, -999.00
318M20040615,        P02,     160,          1,         27,         27,2,20040820,       0436,       30.0,  -130.6898,       4644,   453.3,   6.2275,  34.0984,2,  34.0988,2,  55.0000,2,    52.9,2,   63.52,2,   36.86,2,    0.00,2,    2.74,2,   1.006,2,   0.496,2,   0.023,2,  -999.0,9,  -999.0,9,-999.000,9,-999.0000,9, -999.00,9, -999.00,9,  -999.0,9,  -999.0,-999.000,9,-999.000, -999.00,9,  453.30,-999.0000,9,-999.0000,9,-999.0000,9,-999.0000,9,-999.0000,9,-999.0000,-999.000,-999.0000,9, -999.00
318M20040615,        P02,     160,          1,         26,         26,2,20040820,       0436,       30.0,  -130.6898,       4644,   508.2,   5.8724,  34.1406,2,  34.1396,2,  38.6000,2,    37.6,2,   71.78,2,   38.60,2,    0.00,2,    2.89,2,-999.000,9,-999.000,9,-999.000,9,  -999.0,9,  -999.0,9,-999.000,9,-999.0000,9, -999.00,9, -999.00,9,  -999.0,9,  -999.0,-999.000,9,-999.000, -999.00,9,  508.20,-999.0000,9,-999.0000,9,-999.0000,9,-999.0000,9,-999.0000,9,-999.0000,-999.000,-999.0000,9, -999.00
318M20040615,        P02,     160,          1,         25,         25,2,20040820,       0436,       30.0,  -130.6898,       4644,   607.3,   5.2154,  34.2291,2,  34.2280,2,  18.4000,2,    18.1,2,   87.10,2,   41.08,2,    0.00,2,    3.09,2,   0.190,2,   0.096,2,   0.000,2,  -999.0,9,  -999.0,9,-999.000,9,-999.0000,9, -999.00,9, -999.00,9,  -999.0,9,  -999.0,-999.000,9,-999.000, -999.00,9,  607.30,-999.0000,9,-999.0000,9,-999.0000,9,-999.0000,9,-999.0000,9,-999.0000,-999.000,-999.0000,9, -999.00
318M20040615,        P02,     160,          1,         24,         24,2,20040820,       0436,       30.0,  -130.6898,       4644,   707.4,   4.7740,  34.3041,2,  34.3047,2,  11.3000,2,    12.0,2,   98.11,2,   42.40,2,    0.00,2,    3.18,2,-999.000,9,-999.000,9,-999.000,9,  -999.0,9,  -999.0,9,-999.000,9,-999.0000,9, -999.00,9, -999.00,9,  -999.0,9,  -999.0,-999.000,9,-999.000, -999.00,9,  707.40,-999.0000,9,-999.0000,9,-999.0000,9,-999.0000,9,-999.0000,9,-999.0000,-999.000,-999.0000,9, -999.00
318M20040615,        P02,     160,          1,         23,         23,2,20040820,       0436,       30.0,  -130.6898,       4644,   809.0,   4.4288,  34.3712,2,  34.3695,2,  11.7000,2,    12.3,2,  106.42,2,   43.34,2,    0.00,2,    3.22,2,   0.032,2,   0.020,2,   0.000,2,  -999.0,9,  -999.0,9,-999.000,9,-999.0000,9, -999.00,9, -999.00,9,  -999.0,9,  -999.0,-999.000,9,-999.000, -999.00,9,  809.00,-999.0000,9,-999.0000,9,-999.0000,9,-999.0000,9,-999.0000,9,-999.0000,-999.000,-999.0000,9, -999.00
318M20040615,        P02,     160,          1,         22,         22,2,20040820,       0436,       30.0,  -130.6898,       4644,   908.7,   4.1551,  34.4216,2,  34.4217,2,  16.8000,2,    16.8,2,  112.65,2,   43.87,2,    0.00,2,    3.22,2,   0.025,2,   0.018,2,   0.000,2,  -999.0,9,  -999.0,9,-999.000,9,-999.0000,9, -999.00,9, -999.00,9,  -999.0,9,  -999.0,-999.000,9,-999.000, -999.00,9,  908.70,-999.0000,9,-999.0000,9,-999.0000,9,-999.0000,9,-999.0000,9,-999.0000,-999.000,-999.0000,9, -999.00
318M20040615,        P02,     160,          1,         21,         21,2,20040820,       0436,       30.0,  -130.6898,       4644,  1007.5,   3.8640,  34.4657,2,  34.4647,2,  24.1000,2,    24.5,2,  118.70,2,   43.80,2,    0.00,2,    3.19,2,   0.021,2,   0.013,2,   0.000,2,  -999.0,9,  -999.0,9,-999.000,9,-999.0000,9, -999.00,9, -999.00,9,  -999.0,9,  -999.0,-999.000,9,-999.000, -999.00,9, 1007.50,-999.0000,9,-999.0000,9,-999.0000,9,-999.0000,9,-999.0000,9,-999.0000,-999.000,-999.0000,9, -999.00
318M20040615,        P02,     160,          1,         20,         20,2,20040820,       0436,       30.0,  -130.6898,       4644,  1108.5,   3.6075,  34.4960,2,  34.4973,2,  30.6000,2,    31.1,2,  124.53,2,   43.45,2,    0.00,2,    3.16,2,-999.000,9,-999.000,9,-999.000,9,  -999.0,9,  -999.0,9,-999.000,9,-999.0000,9, -999.00,9, -999.00,9,  -999.0,9,  -999.0,-999.000,9,-999.000, -999.00,9, 1108.50,-999.0000,9,-999.0000,9,-999.0000,9,-999.0000,9,-999.0000,9,-999.0000,-999.000,-999.0000,9, -999.00
318M20040615,        P02,     160,          1,         19,         19,2,20040820,       0436,       30.0,  -130.6898,       4644,  1214.7,   3.3893,  34.5174,2,  34.5179,2,  36.1000,2,    36.2,2,  129.52,2,   43.15,2,    0.00,2,    3.14,2,   0.015,2,   0.011,2,   0.000,2,  -999.0,9,  -999.0,9,-999.000,9,-999.0000,9, -999.00,9, -999.00,9,  -999.0,9,  -999.0,-999.000,9,-999.000, -999.00,9, 1214.70,-999.0000,9,-999.0000,9,-999.0000,9,-999.0000,9,-999.0000,9,-999.0000,-999.000,-999.0000,9, -999.00
318M20040615,        P02,     160,          1,         18,         18,2,20040820,       0436,       30.0,  -130.6898,       4644,  1313.6,   3.1984,  34.5336,2,  34.5334,2,  41.2000,2,    40.7,2,  133.90,2,   42.80,2,    0.00,2,    3.12,2,-999.000,9,-999.000,9,-999.000,9,  -999.0,9,  -999.0,9,-999.000,9,-999.0000,9, -999.00,9, -999.00,9,  -999.0,9,  -999.0,-999.000,9,-999.000, -999.00,9, 1313.60,-999.0000,9,-999.0000,9,-999.0000,9,-999.0000,9,-999.0000,9,-999.0000,-999.000,-999.0000,9, -999.00
318M20040615,        P02,     160,          1,         17,         17,2,20040820,       0436,       30.0,  -130.6898,       4644,  1414.0,   3.0032,  34.5491,2,  34.5489,2,  46.1000,2,    45.3,2,  138.73,2,   42.52,2,    0.00,2,    3.09,2,   0.015,2,   0.017,2,   0.000,2,  -999.0,9,  -999.0,9,-999.000,9,-999.0000,9, -999.00,9, -999.00,9,  -999.0,9,  -999.0,-999.000,9,-999.000, -999.00,9, 1414.00,-999.0000,9,-999.0000,9,-999.0000,9,-999.0000,9,-999.0000,9,-999.0000,-999.000,-999.0000,9, -999.00
318M20040615,        P02,     160,          1,         16,         16,2,20040820,       0436,       30.0,  -130.6898,       4644,  1515.2,   2.8274,  34.5629,2,  34.5623,2,  50.9000,2,    50.5,2,  143.55,2,   42.23,2,    0.00,2,    3.07,2,   0.010,2,   0.007,2,   0.000,2,  -999.0,9,  -999.0,9,-999.000,9,-999.0000,9, -999.00,9, -999.00,9,  -999.0,9,  -999.0,-999.000,9,-999.000, -999.00,9, 1515.20,-999.0000,9,-999.0000,9,-999.0000,9,-999.0000,9,-999.0000,9,-999.0000,-999.000,-999.0000,9, -999.00
318M20040615,        P02,     160,          1,         15,         15,2,20040820,       0436,       30.0,  -130.6898,       4644,  1616.4,   2.6601,  34.5757,2,  34.5757,2,  56.5000,2,    55.3,2,  147.53,2,   42.26,2,    0.00,2,    3.04,2,   0.006,2,   0.004,2,   0.000,2,  -999.0,9,  -999.0,9,-999.000,9,-999.0000,9, -999.00,9, -999.00,9,  -999.0,9,  -999.0,-999.000,9,-999.000, -999.00,9, 1616.40,-999.0000,9,-999.0000,9,-999.0000,9,-999.0000,9,-999.0000,9,-999.0000,-999.000,-999.0000,9, -999.00
318M20040615,        P02,     160,          1,         14,         14,2,20040820,       0436,       30.0,  -130.6898,       4644,  1722.0,   2.5045,  34.5880,2,  34.5880,2,  62.3000,2,    61.0,2,  151.30,2,   42.20,2,    0.00,2,    3.01,2,-999.000,9,-999.000,9,-999.000,9,  -999.0,9,  -999.0,9,-999.000,9,-999.0000,9, -999.00,9, -999.00,9,  -999.0,9,  -999.0,-999.000,9,-999.000, -999.00,9, 1722.00,-999.0000,9,-999.0000,9,-999.0000,9,-999.0000,9,-999.0000,9,-999.0000,-999.000,-999.0000,9, -999.00
318M20040615,        P02,     160,          1,         13,         13,2,20040820,       0436,       30.0,  -130.6898,       4644,  1821.0,   2.3555,  34.6003,2,  34.6002,2,  67.6000,2,    66.9,2,  155.07,2,   41.85,2,    0.00,2,    2.97,2,   0.003,2,   0.003,2,   0.000,2,  -999.0,9,  -999.0,9,-999.000,9,-999.0000,9, -999.00,9, -999.00,9,  -999.0,9,  -999.0,-999.000,9,-999.000, -999.00,9, 1821.00,-999.0000,9,-999.0000,9,-999.0000,9,-999.0000,9,-999.0000,9,-999.0000,-999.000,-999.0000,9, -999.00
318M20040615,        P02,     160,          1,         12,         12,2,20040820,       0436,       30.0,  -130.6898,       4644,  1920.3,   2.2172,  34.6121,2,  34.6122,2,  73.6000,2,    73.1,2,  158.18,2,   41.33,2,    0.00,2,    2.94,2,-999.000,9,-999.000,9,-999.000,9,  -999.0,9,  -999.0,9,-999.000,9,-999.0000,9, -999.00,9, -999.00,9,  -999.0,9,  -999.0,-999.000,9,-999.000, -999.00,9, 1920.30,-999.0000,9,-999.0000,9,-999.0000,9,-999.0000,9,-999.0000,9,-999.0000,-999.000,-999.0000,9, -999.00
318M20040615,        P02,     160,          1,         11,         11,2,20040820,       0436,       30.0,  -130.6898,       4644,  2021.3,   2.1087,  34.6218,2,  34.6220,2,  78.9000,2,    79.2,2,  160.45,2,   40.81,2,    0.00,2,    2.90,2,   0.001,2,   0.002,2,   0.000,2,  -999.0,9,  -999.0,9,-999.000,9,-999.0000,9, -999.00,9, -999.00,9,  -999.0,9,  -999.0,-999.000,9,-999.000, -999.00,9, 2021.30,-999.0000,9,-999.0000,9,-999.0000,9,-999.0000,9,-999.0000,9,-999.0000,-999.000,-999.0000,9, -999.00
318M20040615,        P02,     160,          1,         10,         10,2,20040820,       0436,       30.0,  -130.6898,       4644,  2280.9,   1.9090,  34.6380,2,  34.6377,2,  90.8000,2,    91.4,2,  164.45,2,   39.86,2,    0.00,2,    2.84,2,   0.003,2,   0.004,2,   0.000,2,  -999.0,9,  -999.0,9,-999.000,9,-999.0000,9, -999.00,9, -999.00,9,  -999.0,9,  -999.0,-999.000,9,-999.000, -999.00,9, 2280.90,-999.0000,9,-999.0000,9,-999.0000,9,-999.0000,9,-999.0000,9,-999.0000,-999.000,-999.0000,9, -999.00
318M20040615,        P02,     160,          1,          9,          9,2,20040820,       0436,       30.0,  -130.6898,       4644,  2536.3,   1.7612,  34.6492,2,  34.6491,2,  99.8000,2,   100.3,2,  168.04,2,   39.19,2,    0.00,2,    2.79,2,   0.002,2,   0.005,2,   0.000,2,  -999.0,9,  -999.0,9,-999.000,9,-999.0000,9, -999.00,9, -999.00,9,  -999.0,9,  -999.0,-999.000,9,-999.000, -999.00,9, 2536.30,-999.0000,9,-999.0000,9,-999.0000,9,-999.0000,9,-999.0000,9,-999.0000,-999.000,-999.0000,9, -999.00
318M20040615,        P02,     160,          1,          8,          8,2,20040820,       0436,       30.0,  -130.6898,       4644,  2788.5,   1.6481,  34.6592,2,  34.6588,2, 109.3000,2,   109.9,2,  169.72,2,   38.69,2,    0.00,2,    2.74,2,-999.000,9,-999.000,9,-999.000,9,  -999.0,9,  -999.0,9,-999.000,9,-999.0000,9, -999.00,9, -999.00,9,  -999.0,9,  -999.0,-999.000,9,-999.000, -999.00,9, 2788.50,-999.0000,9,-999.0000,9,-999.0000,9,-999.0000,9,-999.0000,9,-999.0000,-999.000,-999.0000,9, -999.00
318M20040615,        P02,     160,          1,          7,          7,2,20040820,       0436,       30.0,  -130.6898,       4644,  3042.1,   1.5674,  34.6671,2,  34.6666,2, 117.7000,2,   118.9,2,  169.43,2,   38.29,2,    0.00,2,    2.68,2,   0.002,2,   0.006,2,   0.000,2,  -999.0,9,  -999.0,9,-999.000,9,-999.0000,9, -999.00,9, -999.00,9,  -999.0,9,  -999.0,-999.000,9,-999.000, -999.00,9, 3042.10,-999.0000,9,-999.0000,9,-999.0000,9,-999.0000,9,-999.0000,9,-999.0000,-999.000,-999.0000,9, -999.00
318M20040615,        P02,     160,          1,          6,          6,2,20040820,       0436,       30.0,  -130.6898,       4644,  3351.4,   1.5108,  34.6753,2,  34.6757,2, 126.9000,2,   127.8,2,  168.33,2,   37.89,2,    0.00,2,    2.64,2,-999.000,9,-999.000,9,-999.000,9,  -999.0,9,  -999.0,9,-999.000,9,-999.0000,9, -999.00,9, -999.00,9,  -999.0,9,  -999.0,-999.000,9,-999.000, -999.00,9, 3351.40,-999.0000,9,-999.0000,9,-999.0000,9,-999.0000,9,-999.0000,9,-999.0000,-999.000,-999.0000,9, -999.00
318M20040615,        P02,     160,          1,          5,          5,2,20040820,       0436,       30.0,  -130.6898,       4644,  3660.2,   1.4919,  34.6804,2,  34.6802,2, 134.0000,2,   134.6,2,  166.35,2,   37.44,2,    0.00,2,    2.60,2,   0.004,2,   0.007,2,   0.000,2,  -999.0,9,  -999.0,9,-999.000,9,-999.0000,9, -999.00,9, -999.00,9,  -999.0,9,  -999.0,-999.000,9,-999.000, -999.00,9, 3660.20,-999.0000,9,-999.0000,9,-999.0000,9,-999.0000,9,-999.0000,9,-999.0000,-999.000,-999.0000,9, -999.00
318M20040615,        P02,     160,          1,          4,          4,2,20040820,       0436,       30.0,  -130.6898,       4644,  3964.5,   1.4978,  34.6835,2,  34.6820,2, 138.6000,2,   139.3,2,  164.59,2,   37.04,2,    0.00,2,    2.58,2,   0.005,2,   0.012,2,   0.002,2,  -999.0,9,  -999.0,9,-999.000,9,-999.0000,9, -999.00,9, -999.00,9,  -999.0,9,  -999.0,-999.000,9,-999.000, -999.00,9, 3964.50,-999.0000,9,-999.0000,9,-999.0000,9,-999.0000,9,-999.0000,9,-999.0000,-999.000,-999.0000,9, -999.00
318M20040615,        P02,     160,          1,          3,          3,2,20040820,       0436,       30.0,  -130.6898,       4644,  4274.0,   1.5201,  34.6852,2,  34.6853,2, 141.5000,2,   142.2,2,  163.03,2,   36.70,2,    0.00,2,    2.62,3,   0.006,6,   0.013,6,   0.000,6,  -999.0,9,  -999.0,9,-999.000,9,-999.0000,9, -999.00,9, -999.00,9,  -999.0,9,  -999.0,-999.000,9,-999.000, -999.00,9, 4274.00,-999.0000,9,-999.0000,9,-999.0000,9,-999.0000,9,-999.0000,9,-999.0000,-999.000,-999.0000,9, -999.00
318M20040615,        P02,     160,          1,          2,          2,2,20040820,       0436,       30.0,  -130.6898,       4644,  4511.6,   1.5431,  34.6856,2,  34.6859,2, 142.7000,2,   143.0,2,  162.97,2,   36.58,2,    0.00,2,    2.55,2,   0.006,2,   0.013,2,   0.000,2,  -999.0,9,  -999.0,9,-999.000,9,-999.0000,9, -999.00,9, -999.00,9,  -999.0,9,  -999.0,-999.000,9,-999.000, -999.00,9, 4511.60,-999.0000,9,-999.0000,9,-999.0000,9,-999.0000,9,-999.0000,9,-999.0000,-999.000,-999.0000,9, -999.00
318M20040615,        P02,     160,          1,          1,          1,2,20040820,       0436,       30.0,  -130.6898,       4644,  4716.1,   1.5665,  34.6857,2,  34.6857,2, 142.7000,2,   143.4,2,  162.53,2,   36.46,2,    0.00,2,    2.55,2,   0.010,2,   0.012,2,   0.000,2,  -999.0,9,  -999.0,9,-999.000,9,-999.0000,9, -999.00,9, -999.00,9,  -999.0,9,  -999.0,-999.000,9,-999.000, -999.00,9, 4716.10,-999.0000,9,-999.0000,9,-999.0000,9,-999.0000,9,-999.0000,9,-999.0000,-999.000,-999.0000,9, -999.00