BOTTLE,20131027SIOCCHRJL
EXPOCODE,SECT_ID,STNNBR,CASTNO,SAMPNO,BTLNBR,BTLNBR_FLAG_W,DATE,TIME,LATITUDE,LONGITUDE,DEPTH,CTDPRS,CTDTMP,CTDSAL,CTDSAL_FLAG_W,SALNTY,SALNTY_FLAG_W,CTDOXY,CTDOXY_FLAG_W,OXYGEN,OXYGEN_FLAG_W,SILCAT,SILCAT_FLAG_W,NITRAT,NITRAT_FLAG_W,NITRIT,NITRIT_FLAG_W,PHSPHT,PHSPHT_FLAG_W,CFC-11,CFC-11_FLAG_W,CFC-12,CFC-12_FLAG_W,CFC113,CFC113_FLAG_W,TCARBN,TCARBN_FLAG_W,ALKALI,ALKALI_FLAG_W,TRITUM,TRITUM_FLAG_W,HELIUM,HELIUM_FLAG_W,DELHE3,DELHE3_FLAG_W,DELC13,DELC13_FLAG_W,DELC14,DELC14_FLAG_W,C14ERR,NEON,NEON_FLAG_W,NEONER,DOC,DOC_FLAG_W,CTDRAW,CDOM380,CDOM380_FLAG_W,CDOM325,CDOM325_FLAG_W,CDOMSL,CDOMSL_FLAG_W,CDOM340,CDOM340_FLAG_W,CDOMSN,CDOMSN_FLAG_W,HELIER,TRITER,CDOM412,CDOM412_FLAG_W,DELHER
,,,,,,,,,,,METERS,DBAR,ITS-90,PSS-78,,PSS-78,,UMOL/KG,,UMOL/KG,,UMOL/KG,,UMOL/KG,,UMOL/KG,,UMOL/KG,,PMOL/KG,,PMOL/KG,,PMOL/KG,,UMOL/KG,,UMOL/KG,,TU,,NMOL/KG,,PERCNT,,/MILLE,,/MILLE,,/MILLE,NMOL/KG,,NMOL/KG,UMOL/KG,,DBAR,1/M,,1/M,,1/NM,,1/M,,1/NM,,NMOL/KG,TU,1/M,,PERCNT
318M20040615,        P02,      57,          1,         36,         36,2,20040706,       1826,    29.9958,    162.103,       5934,     7.6,  26.6548,  35.2879,4,  35.2889,2, 205.8000,2,   204.6,2,    0.82,2,    0.08,2,    0.00,2,    0.02,2,   1.732,2,   1.080,2,   0.130,2,  1984.7,6,  2316.5,6,-999.000,9,-999.0000,9, -999.00,9, -999.00,9,  -999.0,9,  -999.0,-999.000,9,-999.000, -999.00,9,    7.60,-999.0000,9,-999.0000,9,-999.0000,9,-999.0000,9,-999.0000,9,-999.0000,-999.000,-999.0000,9, -999.00
318M20040615,        P02,      57,          1,         35,         35,2,20040706,       1826,    29.9958,    162.103,       5934,    36.6,  23.2693,  35.1814,4,  35.1782,2, 229.1000,2,   228.2,2,    1.17,2,    0.03,2,    0.00,2,    0.01,2,   2.090,2,   1.263,2,   0.148,2,  1996.4,2,  2309.9,2,-999.000,9,-999.0000,9, -999.00,9, -999.00,9,  -999.0,9,  -999.0,-999.000,9,-999.000, -999.00,9,   36.60,-999.0000,9,-999.0000,9,-999.0000,9,-999.0000,9,-999.0000,9,-999.0000,-999.000,-999.0000,9, -999.00
318M20040615,        P02,      57,          1,         34,         34,2,20040706,       1826,    29.9958,    162.103,       5934,    86.3,  19.1999,  34.9941,4,  34.9945,2, 226.9000,2,   227.4,2,    1.52,2,    0.03,2,    0.00,2,    0.05,2,   2.326,2,   1.392,2,   0.156,2,  2007.2,2,  2299.2,2,-999.000,9,-999.0000,9, -999.00,9, -999.00,9,  -999.0,9,  -999.0,-999.000,9,-999.000, -999.00,9,   86.30,-999.0000,9,-999.0000,9,-999.0000,9,-999.0000,9,-999.0000,9,-999.0000,-999.000,-999.0000,9, -999.00
318M20040615,        P02,      57,          1,         33,         33,2,20040706,       1826,    29.9958,    162.103,       5934,   141.4,  17.7077,  34.8389,4,  34.8394,2, 220.1000,2,   221.3,2,    2.41,2,    2.41,2,    0.04,2,    0.19,2,   2.471,6,   1.466,6,   0.147,6,  2017.6,2,  2285.6,2,-999.000,9,-999.0000,9, -999.00,9, -999.00,9,  -999.0,9,  -999.0,-999.000,9,-999.000, -999.00,9,  141.40,-999.0000,9,-999.0000,9,-999.0000,9,-999.0000,9,-999.0000,9,-999.0000,-999.000,-999.0000,9, -999.00
318M20040615,        P02,      57,          1,         32,         32,2,20040706,       1826,    29.9958,    162.103,       5934,   190.5,  16.9465,  34.7730,4,  34.7733,2, 219.9000,2,   222.4,2,    3.31,2,    3.60,2,    0.01,2,    0.25,2,   2.526,2,   1.508,2,   0.126,2,  2022.1,2,  2282.7,2,-999.000,9,-999.0000,9, -999.00,9, -999.00,9,  -999.0,9,  -999.0,-999.000,9,-999.000, -999.00,9,  190.50,-999.0000,9,-999.0000,9,-999.0000,9,-999.0000,9,-999.0000,9,-999.0000,-999.000,-999.0000,9, -999.00
318M20040615,        P02,      57,          1,         31,         31,2,20040706,       1826,    29.9958,    162.103,       5934,   240.4,  16.6896,  34.7568,4,  34.7582,2, 221.3000,2,   223.3,2,    3.84,2,    3.92,2,    0.01,2,    0.27,2,   2.536,2,   1.512,2,   0.126,2,  2023.2,2,  2283.6,2,-999.000,9,-999.0000,9, -999.00,9, -999.00,9,  -999.0,9,  -999.0,-999.000,9,-999.000, -999.00,9,  240.40,-999.0000,9,-999.0000,9,-999.0000,9,-999.0000,9,-999.0000,9,-999.0000,-999.000,-999.0000,9, -999.00
318M20040615,        P02,      57,          1,         30,         30,2,20040706,       1826,    29.9958,    162.103,       5934,   290.2,  16.4655,  34.7439,4,  34.7450,2, 224.6000,2,   225.5,2,    4.19,2,    4.18,2,    0.01,2,    0.28,2,   2.524,2,   1.505,2,   0.131,2,  2025.2,2,  2282.7,2,-999.000,9,-999.0000,9, -999.00,9, -999.00,9,  -999.0,9,  -999.0,-999.000,9,-999.000, -999.00,9,  290.20,-999.0000,9,-999.0000,9,-999.0000,9,-999.0000,9,-999.0000,9,-999.0000,-999.000,-999.0000,9, -999.00
318M20040615,        P02,      57,          1,         29,         29,2,20040706,       1826,    29.9958,    162.103,       5934,   339.7,  16.1600,  34.7067,4,  34.7102,2, 223.1000,2,   220.8,2,    4.91,2,    4.98,2,    0.01,2,    0.35,2,   2.550,2,   1.513,2,   0.101,2,  -999.0,9,  2280.4,2,-999.000,9,-999.0000,9, -999.00,9, -999.00,9,  -999.0,9,  -999.0,-999.000,9,-999.000, -999.00,9,  339.70,-999.0000,9,-999.0000,9,-999.0000,9,-999.0000,9,-999.0000,9,-999.0000,-999.000,-999.0000,9, -999.00
318M20040615,        P02,      57,          1,         28,         28,2,20040706,       1826,    29.9958,    162.103,       5934,   390.5,  15.5428,  34.6553,4,  34.6571,2, 216.6000,2,   216.0,2,    6.53,2,    6.36,2,    0.01,2,    0.45,2,   2.583,2,   1.520,2,   0.097,2,  2041.3,2,  2278.5,2,-999.000,9,-999.0000,9, -999.00,9, -999.00,9,  -999.0,9,  -999.0,-999.000,9,-999.000, -999.00,9,  390.50,-999.0000,9,-999.0000,9,-999.0000,9,-999.0000,9,-999.0000,9,-999.0000,-999.000,-999.0000,9, -999.00
318M20040615,        P02,      57,          1,         27,         27,2,20040706,       1826,    29.9958,    162.103,       5934,   440.2,  14.6293,  34.5684,4,  34.5707,2, 205.6000,2,   204.6,2,    9.40,2,    8.64,2,    0.00,2,    0.62,2,   2.633,2,   1.518,2,   0.059,2,  -999.0,9,  -999.0,9,-999.000,9,-999.0000,9, -999.00,9, -999.00,9,  -999.0,9,  -999.0,-999.000,9,-999.000, -999.00,9,  440.20,-999.0000,9,-999.0000,9,-999.0000,9,-999.0000,9,-999.0000,9,-999.0000,-999.000,-999.0000,9, -999.00
318M20040615,        P02,      57,          1,         26,         26,2,20040706,       1826,    29.9958,    162.103,       5934,   490.2,  13.4542,  34.4794,4,  34.4750,2, 205.9000,2,   203.7,2,   12.29,2,   10.71,2,    0.00,2,    0.75,2,   2.738,2,   1.551,2,   0.073,2,  -999.0,9,  -999.0,9,-999.000,9,-999.0000,9, -999.00,9, -999.00,9,  -999.0,9,  -999.0,-999.000,9,-999.000, -999.00,9,  490.20,-999.0000,9,-999.0000,9,-999.0000,9,-999.0000,9,-999.0000,9,-999.0000,-999.000,-999.0000,9, -999.00
318M20040615,        P02,      57,          1,         25,         25,2,20040706,       1826,    29.9958,    162.103,       5934,   575.1,  11.2660,  34.3030,4,  34.3017,2, 205.7000,2,   205.7,2,   17.88,2,   14.14,2,    0.00,2,    1.00,2,   2.935,2,   1.622,2,   0.092,2,  2099.8,2,  2269.8,2,-999.000,9,-999.0000,9, -999.00,9, -999.00,9,  -999.0,9,  -999.0,-999.000,9,-999.000, -999.00,9,  575.10,-999.0000,9,-999.0000,9,-999.0000,9,-999.0000,9,-999.0000,9,-999.0000,-999.000,-999.0000,9, -999.00
318M20040615,        P02,      57,          1,         24,         24,2,20040706,       1826,    29.9958,    162.103,       5934,   674.8,   8.5494,  34.1021,4,  34.1021,2, 188.4000,2,   188.2,2,   33.26,2,   20.43,2,    0.00,2,    1.48,2,   2.803,2,   1.494,2,   0.128,2,  -999.0,9,  -999.0,9,-999.000,9,-999.0000,9, -999.00,9, -999.00,9,  -999.0,9,  -999.0,-999.000,9,-999.000, -999.00,9,  674.80,-999.0000,9,-999.0000,9,-999.0000,9,-999.0000,9,-999.0000,9,-999.0000,-999.000,-999.0000,9, -999.00
318M20040615,        P02,      57,          1,         23,         23,2,20040706,       1826,    29.9958,    162.103,       5934,   775.0,   6.7152,  34.0269,4,  34.0343,2, 146.1000,2,   148.8,2,   50.88,2,   27.41,2,    0.00,2,    1.99,2,   2.279,2,   1.189,2,   0.100,2,  -999.0,9,  -999.0,9,-999.000,9,-999.0000,9, -999.00,9, -999.00,9,  -999.0,9,  -999.0,-999.000,9,-999.000, -999.00,9,  775.00,-999.0000,9,-999.0000,9,-999.0000,9,-999.0000,9,-999.0000,9,-999.0000,-999.000,-999.0000,9, -999.00
318M20040615,        P02,      57,          1,         22,         22,2,20040706,       1826,    29.9958,    162.103,       5934,   875.0,   5.3161,  34.0791,4,  34.0831,2,  96.2000,2,    92.8,2,   76.58,2,   35.01,2,    0.00,2,    2.54,2,   1.260,2,   0.635,2,   0.053,2,  2263.2,2,  2306.3,2,-999.000,9,-999.0000,9, -999.00,9, -999.00,9,  -999.0,9,  -999.0,-999.000,9,-999.000, -999.00,9,  875.00,-999.0000,9,-999.0000,9,-999.0000,9,-999.0000,9,-999.0000,9,-999.0000,-999.000,-999.0000,9, -999.00
318M20040615,        P02,      57,          1,         21,         21,2,20040706,       1826,    29.9958,    162.103,       5934,   975.0,   4.5680,  34.1666,4,  34.1679,2,  60.9000,2,    61.0,2,   94.69,2,   38.84,2,    0.00,2,    2.81,2,   0.627,2,   0.314,2,   0.019,2,  -999.0,9,  -999.0,9,-999.000,9,-999.0000,9, -999.00,9, -999.00,9,  -999.0,9,  -999.0,-999.000,9,-999.000, -999.00,9,  975.00,-999.0000,9,-999.0000,9,-999.0000,9,-999.0000,9,-999.0000,9,-999.0000,-999.000,-999.0000,9, -999.00
318M20040615,        P02,      57,          1,         20,         20,2,20040706,       1826,    29.9958,    162.103,       5934,  1075.3,   3.9987,  34.2508,4,  34.2522,2,  45.3000,2,    43.9,2,  110.66,2,   40.90,2,    0.00,2,    2.97,2,   0.319,2,   0.158,2,   0.013,2,  -999.0,9,  -999.0,9,-999.000,9,-999.0000,9, -999.00,9, -999.00,9,  -999.0,9,  -999.0,-999.000,9,-999.000, -999.00,9, 1075.30,-999.0000,9,-999.0000,9,-999.0000,9,-999.0000,9,-999.0000,9,-999.0000,-999.000,-999.0000,9, -999.00
318M20040615,        P02,      57,          1,         19,         19,2,20040706,       1826,    29.9958,    162.103,       5934,  1185.5,   3.5989,  34.3250,4,  34.3319,2,  36.2000,2,    35.5,2,  122.66,2,   42.05,2,    0.00,2,    3.06,2,   0.147,2,   0.075,2,   0.006,2,  2347.6,2,  2359.6,2,-999.000,9,-999.0000,9, -999.00,9, -999.00,9,  -999.0,9,  -999.0,-999.000,9,-999.000, -999.00,9, 1185.50,-999.0000,9,-999.0000,9,-999.0000,9,-999.0000,9,-999.0000,9,-999.0000,-999.000,-999.0000,9, -999.00
318M20040615,        P02,      57,          1,         18,         18,2,20040706,       1826,    29.9958,    162.103,       5934,  1286.1,   3.2386,  34.3713,4,  34.3736,2,  36.5000,2,    35.7,2,  133.38,2,   42.23,2,    0.00,2,    3.07,2,   0.126,2,   0.064,2,   0.006,2,  2359.2,2,  2370.3,2,-999.000,9,-999.0000,9, -999.00,9, -999.00,9,  -999.0,9,  -999.0,-999.000,9,-999.000, -999.00,9, 1286.10,-999.0000,9,-999.0000,9,-999.0000,9,-999.0000,9,-999.0000,9,-999.0000,-999.000,-999.0000,9, -999.00
318M20040615,        P02,      57,          1,         17,         17,2,20040706,       1826,    29.9958,    162.103,       5934,  1386.3,   2.9865,  34.4137,4,  34.4150,2,  33.7000,2,    34.1,2,  140.57,2,   42.51,2,    0.00,2,    3.08,2,   0.076,2,   0.039,2,   0.003,2,  2368.3,2,  2378.3,2,-999.000,9,-999.0000,9, -999.00,9, -999.00,9,  -999.0,9,  -999.0,-999.000,9,-999.000, -999.00,9, 1386.30,-999.0000,9,-999.0000,9,-999.0000,9,-999.0000,9,-999.0000,9,-999.0000,-999.000,-999.0000,9, -999.00
318M20040615,        P02,      57,          1,         16,         16,2,20040706,       1826,    29.9958,    162.103,       5934,  1486.8,   2.8039,  34.4521,4,  34.4613,2,  34.7000,2,    35.0,2,  145.38,2,   42.81,2,    0.00,2,    3.10,2,   0.038,2,   0.014,2,   0.000,2,  -999.0,9,  -999.0,9,-999.000,9,-999.0000,9, -999.00,9, -999.00,9,  -999.0,9,  -999.0,-999.000,9,-999.000, -999.00,9, 1486.80,-999.0000,9,-999.0000,9,-999.0000,9,-999.0000,9,-999.0000,9,-999.0000,-999.000,-999.0000,9, -999.00
318M20040615,        P02,      57,          1,         15,         15,2,20040706,       1826,    29.9958,    162.103,       5934,  1586.6,   2.6160,  34.4825,4,  34.4839,2,  38.1000,2,    37.8,2,  150.95,2,   42.99,2,    0.00,2,    3.09,2,   0.026,2,   0.012,2,   0.000,2,  -999.0,9,  2392.1,2,-999.000,9,-999.0000,9, -999.00,9, -999.00,9,  -999.0,9,  -999.0,-999.000,9,-999.000, -999.00,9, 1586.60,-999.0000,9,-999.0000,9,-999.0000,9,-999.0000,9,-999.0000,9,-999.0000,-999.000,-999.0000,9, -999.00
318M20040615,        P02,      57,          1,         14,         14,2,20040706,       1826,    29.9958,    162.103,       5934,  1787.4,   2.3057,  34.5385,4,  34.5404,2,  48.6000,2,    49.6,2,  158.38,2,   42.65,2,    0.00,2,    3.04,2,   0.009,2,   0.002,2,   0.000,2,  -999.0,9,  -999.0,9,-999.000,9,-999.0000,9, -999.00,9, -999.00,9,  -999.0,9,  -999.0,-999.000,9,-999.000, -999.00,9, 1787.40,-999.0000,9,-999.0000,9,-999.0000,9,-999.0000,9,-999.0000,9,-999.0000,-999.000,-999.0000,9, -999.00
318M20040615,        P02,      57,          1,         13,         13,2,20040706,       1826,    29.9958,    162.103,       5934,  1998.7,   2.0995,  34.5777,4,  34.5800,2,  64.5000,2,    67.6,2,  159.70,2,   41.51,2,    0.00,2,    2.95,2,   0.001,2,   0.000,2,   0.000,2,  -999.0,9,  2410.9,2,-999.000,9,-999.0000,9, -999.00,9, -999.00,9,  -999.0,9,  -999.0,-999.000,9,-999.000, -999.00,9, 1998.70,-999.0000,9,-999.0000,9,-999.0000,9,-999.0000,9,-999.0000,9,-999.0000,-999.000,-999.0000,9, -999.00
318M20040615,        P02,      57,          1,         12,         12,2,20040706,       1826,    29.9958,    162.103,       5934,  2199.7,   1.9385,  34.6066,4,  34.6077,2,  84.2000,2,    85.4,2,  158.78,2,   40.20,2,    0.00,2,    2.86,2,   0.002,2,   0.000,2,  -0.001,2,  -999.0,9,  -999.0,9,-999.000,9,-999.0000,9, -999.00,9, -999.00,9,  -999.0,9,  -999.0,-999.000,9,-999.000, -999.00,9, 2199.70,-999.0000,9,-999.0000,9,-999.0000,9,-999.0000,9,-999.0000,9,-999.0000,-999.000,-999.0000,9, -999.00
318M20040615,        P02,      57,          1,         11,         11,2,20040706,       1826,    29.9958,    162.103,       5934,  2451.8,   1.8006,  34.6283,4,  34.6285,2, 100.0000,2,   100.6,2,  157.85,2,   39.18,2,    0.00,2,    2.79,2,   0.002,2,   0.000,2,  -0.001,2,  -999.0,9,  2414.4,2,-999.000,9,-999.0000,9, -999.00,9, -999.00,9,  -999.0,9,  -999.0,-999.000,9,-999.000, -999.00,9, 2451.80,-999.0000,9,-999.0000,9,-999.0000,9,-999.0000,9,-999.0000,9,-999.0000,-999.000,-999.0000,9, -999.00
318M20040615,        P02,      57,          1,         10,         10,2,20040706,       1826,    29.9958,    162.103,       5934,  2712.9,   1.6893,  34.6458,4,  34.6472,2, 115.1000,2,   114.7,2,  156.05,2,   38.11,2,    0.00,2,    2.71,2,-999.000,9,-999.000,9,-999.000,9,  -999.0,9,  2416.7,2,-999.000,9,-999.0000,9, -999.00,9, -999.00,9,  -999.0,9,  -999.0,-999.000,9,-999.000, -999.00,9, 2712.90,-999.0000,9,-999.0000,9,-999.0000,9,-999.0000,9,-999.0000,9,-999.0000,-999.000,-999.0000,9, -999.00
318M20040615,        P02,      57,          1,          9,          9,2,20040706,       1826,    29.9958,    162.103,       5934,  2965.9,   1.6241,  34.6564,4,  34.6580,2, 124.4000,2,   123.9,2,  154.41,2,   37.56,2,    0.00,2,    2.67,2,   0.002,2,  -0.002,2,  -0.001,2,  -999.0,9,  2417.1,2,-999.000,9,-999.0000,9, -999.00,9, -999.00,9,  -999.0,9,  -999.0,-999.000,9,-999.000, -999.00,9, 2965.90,-999.0000,9,-999.0000,9,-999.0000,9,-999.0000,9,-999.0000,9,-999.0000,-999.000,-999.0000,9, -999.00
318M20040615,        P02,      57,          1,          8,          8,2,20040706,       1826,    29.9958,    162.103,       5934,  3299.2,   1.5602,  34.6675,4,  34.6684,2, 134.4000,2,   134.7,2,  151.80,2,   36.82,2,    0.00,2,    2.61,2,-999.000,9,-999.000,9,-999.000,9,  -999.0,9,  -999.0,9,-999.000,9,-999.0000,9, -999.00,9, -999.00,9,  -999.0,9,  -999.0,-999.000,9,-999.000, -999.00,9, 3299.20,-999.0000,9,-999.0000,9,-999.0000,9,-999.0000,9,-999.0000,9,-999.0000,-999.000,-999.0000,9, -999.00
318M20040615,        P02,      57,          1,          7,          7,2,20040706,       1826,    29.9958,    162.103,       5934,  3705.4,   1.5180,  34.6756,4,  34.6763,2, 142.7000,2,   143.8,2,  149.96,2,   36.20,2,    0.00,2,    2.56,2,   0.001,2,   0.000,2,  -0.001,2,  -999.0,9,  2416.7,2,-999.000,9,-999.0000,9, -999.00,9, -999.00,9,  -999.0,9,  -999.0,-999.000,9,-999.000, -999.00,9, 3705.40,-999.0000,9,-999.0000,9,-999.0000,9,-999.0000,9,-999.0000,9,-999.0000,-999.000,-999.0000,9, -999.00
318M20040615,        P02,      57,          1,          6,          6,2,20040706,       1826,    29.9958,    162.103,       5934,  4121.9,   1.4968,  34.6815,4,  34.6827,2, 149.5000,2,   150.3,2,  147.93,2,   36.04,2,    0.00,2,    2.53,2,-999.000,9,-999.000,9,-999.000,9,  -999.0,9,  -999.0,9,-999.000,9,-999.0000,9, -999.00,9, -999.00,9,  -999.0,9,  -999.0,-999.000,9,-999.000, -999.00,9, 4121.90,-999.0000,9,-999.0000,9,-999.0000,9,-999.0000,9,-999.0000,9,-999.0000,-999.000,-999.0000,9, -999.00
318M20040615,        P02,      57,          1,          5,          5,2,20040706,       1826,    29.9958,    162.103,       5934,  4529.5,   1.4894,  34.6863,4,  34.6870,2, 154.8000,2,   155.4,2,  147.96,2,   35.88,2,    0.00,2,    2.50,2,   0.001,2,   0.000,2,  -0.001,2,  2321.5,2,  2414.6,2,-999.000,9,-999.0000,9, -999.00,9, -999.00,9,  -999.0,9,  -999.0,-999.000,9,-999.000, -999.00,9, 4529.50,-999.0000,9,-999.0000,9,-999.0000,9,-999.0000,9,-999.0000,9,-999.0000,-999.000,-999.0000,9, -999.00
318M20040615,        P02,      57,          1,          4,          4,2,20040706,       1826,    29.9958,    162.103,       5934,  4943.3,   1.4997,  34.6899,4,  34.6904,2, 160.8000,2,   161.4,2,  144.45,2,   35.43,2,    0.00,2,    2.46,2,-999.000,9,-999.000,9,-999.000,9,  -999.0,9,  -999.0,9,-999.000,9,-999.0000,9, -999.00,9, -999.00,9,  -999.0,9,  -999.0,-999.000,9,-999.000, -999.00,9, 4943.30,-999.0000,9,-999.0000,9,-999.0000,9,-999.0000,9,-999.0000,9,-999.0000,-999.000,-999.0000,9, -999.00
318M20040615,        P02,      57,          1,          3,          3,2,20040706,       1826,    29.9958,    162.103,       5934,  5356.8,   1.5174,  34.6930,4,  34.7025,2, 167.2000,3,   167.6,2,  139.45,2,   34.88,2,    0.00,2,    2.42,2,   0.002,2,   0.000,2,  -0.002,2,  2308.9,2,  2408.4,2,-999.000,9,-999.0000,9, -999.00,9, -999.00,9,  -999.0,9,  -999.0,-999.000,9,-999.000, -999.00,9, 5356.80,-999.0000,9,-999.0000,9,-999.0000,9,-999.0000,9,-999.0000,9,-999.0000,-999.000,-999.0000,9, -999.00
318M20040615,        P02,      57,          1,          2,          2,2,20040706,       1826,    29.9958,    162.103,       5934,  5817.7,   1.5522,  34.6949,4,  34.7011,2, 171.6000,3,   171.4,2,  136.31,2,   34.49,2,    0.00,2,    2.40,2,-999.000,9,-999.000,9,-999.000,9,  -999.0,9,  2403.5,2,-999.000,9,-999.0000,9, -999.00,9, -999.00,9,  -999.0,9,  -999.0,-999.000,9,-999.000, -999.00,9, 5817.70,-999.0000,9,-999.0000,9,-999.0000,9,-999.0000,9,-999.0000,9,-999.0000,-999.000,-999.0000,9, -999.00
318M20040615,        P02,      57,          1,          1,          1,2,20040706,       1826,    29.9958,    162.103,       5934,  6094.6,   1.5770,  34.6957,2,  34.6975,2, 173.3000,2,   173.9,2,  135.05,2,   34.28,2,    0.00,2,    2.40,2,   0.002,2,   0.002,2,  -0.002,2,  2302.9,2,  2406.2,6,-999.000,9,-999.0000,9, -999.00,9, -999.00,9,  -999.0,9,  -999.0,-999.000,9,-999.000, -999.00,9, 6094.60,-999.0000,9,-999.0000,9,-999.0000,9,-999.0000,9,-999.0000,9,-999.0000,-999.000,-999.0000,9, -999.00