BOTTLE,20131027SIOCCHRJL
EXPOCODE,SECT_ID,STNNBR,CASTNO,SAMPNO,BTLNBR,BTLNBR_FLAG_W,DATE,TIME,LATITUDE,LONGITUDE,DEPTH,CTDPRS,CTDTMP,CTDSAL,CTDSAL_FLAG_W,SALNTY,SALNTY_FLAG_W,CTDOXY,CTDOXY_FLAG_W,OXYGEN,OXYGEN_FLAG_W,SILCAT,SILCAT_FLAG_W,NITRAT,NITRAT_FLAG_W,NITRIT,NITRIT_FLAG_W,PHSPHT,PHSPHT_FLAG_W,CFC-11,CFC-11_FLAG_W,CFC-12,CFC-12_FLAG_W,CFC113,CFC113_FLAG_W,TCARBN,TCARBN_FLAG_W,ALKALI,ALKALI_FLAG_W,TRITUM,TRITUM_FLAG_W,HELIUM,HELIUM_FLAG_W,DELHE3,DELHE3_FLAG_W,DELC13,DELC13_FLAG_W,DELC14,DELC14_FLAG_W,C14ERR,NEON,NEON_FLAG_W,NEONER,DOC,DOC_FLAG_W,CTDRAW,CDOM380,CDOM380_FLAG_W,CDOM325,CDOM325_FLAG_W,CDOMSL,CDOMSL_FLAG_W,CDOM340,CDOM340_FLAG_W,CDOMSN,CDOMSN_FLAG_W,HELIER,TRITER,CDOM412,CDOM412_FLAG_W,DELHER
,,,,,,,,,,,METERS,DBAR,ITS-90,PSS-78,,PSS-78,,UMOL/KG,,UMOL/KG,,UMOL/KG,,UMOL/KG,,UMOL/KG,,UMOL/KG,,PMOL/KG,,PMOL/KG,,PMOL/KG,,UMOL/KG,,UMOL/KG,,TU,,NMOL/KG,,PERCNT,,/MILLE,,/MILLE,,/MILLE,NMOL/KG,,NMOL/KG,UMOL/KG,,DBAR,1/M,,1/M,,1/NM,,1/M,,1/NM,,NMOL/KG,TU,1/M,,PERCNT
318M20040615,        P02,     159,          1,         36,         36,2,20040819,       2131,    29.9997,  -131.2753,       5132,     9.2,  22.9811,  33.6533,2,  33.6545,2, 223.4000,2,   222.5,2,    1.50,2,    0.11,2,    0.00,2,    0.25,2,   2.102,2,   1.271,2,   0.148,2,  1995.9,6,  2250.9,6,-999.000,9,-999.0000,9, -999.00,9,    1.32,2,    22.7,2,     4.5,-999.000,9,-999.000,   68.20,2,    9.20,-999.0000,9,-999.0000,9,-999.0000,9,-999.0000,9,-999.0000,9,-999.0000,-999.000,-999.0000,9, -999.00
318M20040615,        P02,     159,          1,         35,         35,2,20040819,       2131,    29.9997,  -131.2753,       5132,    41.2,  19.0787,  33.4783,2,  33.4821,2, 252.1000,2,   253.3,2,    1.68,2,    0.16,2,    0.00,2,    0.23,2,   2.677,2,   1.579,2,   0.191,2,  1989.6,2,  2236.3,2,-999.000,9,-999.0000,9, -999.00,9,    1.56,2,    39.6,2,     5.2,-999.000,9,-999.000,   64.00,2,   41.20,-999.0000,9,-999.0000,9,-999.0000,9,-999.0000,9,-999.0000,9,-999.0000,-999.000,-999.0000,9, -999.00
318M20040615,        P02,     159,          1,         34,         34,2,20040819,       2131,    29.9997,  -131.2753,       5132,    86.1,  17.3521,  33.7037,2,  33.7044,2, 248.0000,2,   247.9,2,    1.66,2,    0.16,2,    0.00,2,    0.22,2,   2.700,2,   1.565,2,   0.193,2,  1997.8,2,  2245.0,2,-999.000,9,-999.0000,9, -999.00,9,    1.56,2,    50.1,2,     4.1,-999.000,9,-999.000,   58.90,2,   86.10,-999.0000,9,-999.0000,9,-999.0000,9,-999.0000,9,-999.0000,9,-999.0000,-999.000,-999.0000,9, -999.00
318M20040615,        P02,     159,          1,         33,         33,2,20040819,       2131,    29.9997,  -131.2753,       5132,   135.3,  15.5123,  33.7340,2,  33.7421,2, 240.6000,2,   236.9,2,    2.68,2,    0.74,2,    0.19,2,    0.30,2,-999.000,9,-999.000,9,-999.000,9,  2015.4,2,  2241.6,2,-999.000,9,-999.0000,9, -999.00,9, -999.00,9,  -999.0,9,  -999.0,-999.000,9,-999.000,   53.80,2,  135.30,-999.0000,9,-999.0000,9,-999.0000,9,-999.0000,9,-999.0000,9,-999.0000,-999.000,-999.0000,9, -999.00
318M20040615,        P02,     159,          1,         32,         32,2,20040819,       2131,    29.9997,  -131.2753,       5132,   189.5,  10.4760,  33.3766,2,  33.3859,2, 216.0000,2,   216.4,2,   10.68,2,   11.78,2,    0.01,2,    1.01,2,   3.668,6,   2.007,6,   0.161,6,  2070.2,2,  2220.9,2,-999.000,9,-999.0000,9, -999.00,9,    0.76,2,    33.6,2,     4.4,-999.000,9,-999.000,   47.50,2,  189.50,-999.0000,9,-999.0000,9,-999.0000,9,-999.0000,9,-999.0000,9,-999.0000,-999.000,-999.0000,9, -999.00
318M20040615,        P02,     159,          1,         31,         31,2,20040819,       2131,    29.9997,  -131.2753,       5132,   239.6,   9.1633,  33.7521,2,  33.7457,2, 184.1000,2,   185.2,2,   19.92,2,   18.96,2,    0.00,2,    1.42,2,   3.737,2,   1.865,2,   0.111,2,  2123.3,2,  2241.2,2,-999.000,9,-999.0000,9, -999.00,9, -999.00,9,  -999.0,9,  -999.0,-999.000,9,-999.000,   47.80,2,  239.60,-999.0000,9,-999.0000,9,-999.0000,9,-999.0000,9,-999.0000,9,-999.0000,-999.000,-999.0000,9, -999.00
318M20040615,        P02,     159,          1,         30,         30,2,20040819,       2131,    29.9997,  -131.2753,       5132,   286.7,   8.4971,  33.9922,2,  33.9922,2, 150.0000,2,   151.0,2,   30.00,2,   24.16,2,    0.00,2,    1.75,2,   3.167,2,   1.644,2,   0.117,2,  2165.6,2,  2261.9,2,-999.000,9,-999.0000,9, -999.00,9,    0.08,2,    13.4,2,     4.3,-999.000,9,-999.000,   42.20,2,  286.70,-999.0000,9,-999.0000,9,-999.0000,9,-999.0000,9,-999.0000,9,-999.0000,-999.000,-999.0000,9, -999.00
318M20040615,        P02,     159,          1,         29,         29,2,20040819,       2131,    29.9997,  -131.2753,       5132,   335.5,   7.6178,  34.0351,2,  34.0394,2, 109.5000,2,   106.9,2,   41.97,2,   29.96,2,    0.00,2,    2.18,2,-999.000,9,-999.000,9,-999.000,9,  2210.1,2,  2273.8,2,-999.000,9,-999.0000,9, -999.00,9, -999.00,9,  -999.0,9,  -999.0,-999.000,9,-999.000,   45.10,2,  335.50,-999.0000,9,-999.0000,9,-999.0000,9,-999.0000,9,-999.0000,9,-999.0000,-999.000,-999.0000,9, -999.00
318M20040615,        P02,     159,          1,         28,         28,2,20040819,       2131,    29.9997,  -131.2753,       5132,   385.3,   6.9811,  34.0411,2,  34.0419,2,  85.9000,2,    90.6,2,   49.61,2,   32.77,2,    0.00,2,    2.38,2,   1.927,2,   0.965,2,   0.065,2,  2231.2,2,  2279.6,2,-999.000,9,-999.0000,9, -999.00,9,   -0.19,2,   -33.2,2,     4.5,-999.000,9,-999.000,   42.50,2,  385.30,-999.0000,9,-999.0000,9,-999.0000,9,-999.0000,9,-999.0000,9,-999.0000,-999.000,-999.0000,9, -999.00
318M20040615,        P02,     159,          1,         27,         27,2,20040819,       2131,    29.9997,  -131.2753,       5132,   436.4,   6.2908,  34.0575,2,  34.0582,2,  67.3000,2,    68.5,2,   59.99,2,   36.05,2,    0.00,2,    2.61,2,-999.000,9,-999.000,9,-999.000,9,  2255.9,2,  2287.2,2,-999.000,9,-999.0000,9, -999.00,9, -999.00,9,  -999.0,9,  -999.0,-999.000,9,-999.000, -999.00,9,  436.40,-999.0000,9,-999.0000,9,-999.0000,9,-999.0000,9,-999.0000,9,-999.0000,-999.000,-999.0000,9, -999.00
318M20040615,        P02,     159,          1,         26,         26,2,20040819,       2131,    29.9997,  -131.2753,       5132,   486.4,   5.9063,  34.1083,2,  34.1074,2,  46.6000,2,    46.3,2,   69.12,2,   38.63,2,    0.00,2,    2.83,2,   0.793,2,   0.411,2,   0.017,2,  2280.7,2,  2299.1,2,-999.000,9,-999.0000,9, -999.00,9,   -0.37,2,   -94.0,2,     4.4,-999.000,9,-999.000, -999.00,9,  486.40,-999.0000,9,-999.0000,9,-999.0000,9,-999.0000,9,-999.0000,9,-999.0000,-999.000,-999.0000,9, -999.00
318M20040615,        P02,     159,          1,         25,         25,2,20040819,       2131,    29.9997,  -131.2753,       5132,   572.7,   5.4288,  34.2115,2,  34.2093,2,  20.5000,2,    20.8,2,   83.50,2,   41.17,2,    0.00,2,    3.06,2,-999.000,9,-999.000,9,-999.000,9,  2314.1,2,  2319.7,2,-999.000,9,-999.0000,9, -999.00,9,   -0.38,2,  -132.7,2,     4.1,-999.000,9,-999.000,   40.90,2,  572.70,-999.0000,9,-999.0000,9,-999.0000,9,-999.0000,9,-999.0000,9,-999.0000,-999.000,-999.0000,9, -999.00
318M20040615,        P02,     159,          1,         24,         24,2,20040819,       2131,    29.9997,  -131.2753,       5132,   679.5,   4.9154,  34.2814,2,  34.2854,2,  12.9000,2,    13.3,2,   94.99,2,   42.50,2,    0.00,2,    3.16,2,   0.075,2,   0.040,2,   0.000,2,  2330.1,2,  2335.7,2,-999.000,9,-999.0000,9, -999.00,9,   -0.42,2,  -160.0,2,     4.5,-999.000,9,-999.000,   42.00,2,  679.50,-999.0000,9,-999.0000,9,-999.0000,9,-999.0000,9,-999.0000,9,-999.0000,-999.000,-999.0000,9, -999.00
318M20040615,        P02,     159,          1,         23,         23,2,20040819,       2131,    29.9997,  -131.2753,       5132,   778.7,   4.5601,  34.3612,2,  34.3615,2,  12.7000,2,    12.7,2,  103.60,2,   43.16,2,    0.00,2,    3.20,2,-999.000,9,-999.000,9,-999.000,9,  2345.6,2,  2349.8,2,-999.000,9,-999.0000,9, -999.00,9,   -0.68,2,  -174.0,2,     4.0,-999.000,9,-999.000,   37.40,2,  778.70,-999.0000,9,-999.0000,9,-999.0000,9,-999.0000,9,-999.0000,9,-999.0000,-999.000,-999.0000,9, -999.00
318M20040615,        P02,     159,          1,         22,         22,2,20040819,       2131,    29.9997,  -131.2753,       5132,   876.7,   4.2564,  34.4035,2,  34.4043,2,  17.6000,2,    16.1,2,  110.10,2,   43.43,2,    0.00,2,    3.20,2,   0.014,2,   0.009,2,   0.000,2,  2348.6,2,  2359.5,2,-999.000,9,-999.0000,9, -999.00,9,   -0.35,2,  -192.8,2,     4.0,-999.000,9,-999.000,   38.40,2,  876.70,-999.0000,9,-999.0000,9,-999.0000,9,-999.0000,9,-999.0000,9,-999.0000,-999.000,-999.0000,9, -999.00
318M20040615,        P02,     159,          1,         21,         21,2,20040819,       2131,    29.9997,  -131.2753,       5132,   978.9,   3.9412,  34.4472,2,  34.4475,2,  24.4000,2,    23.4,2,  116.84,2,   43.36,2,    0.00,2,    3.18,2,   0.011,2,   0.007,2,   0.000,2,  2355.4,2,  2369.5,2,-999.000,9,-999.0000,9, -999.00,9,   -0.32,2,  -207.0,2,     4.1,-999.000,9,-999.000, -999.00,9,  978.90,-999.0000,9,-999.0000,9,-999.0000,9,-999.0000,9,-999.0000,9,-999.0000,-999.000,-999.0000,9, -999.00
318M20040615,        P02,     159,          1,         20,         20,2,20040819,       2131,    29.9997,  -131.2753,       5132,  1079.3,   3.6859,  34.4841,2,  34.4852,2,  30.9000,2,    30.7,2,  122.30,2,   43.35,2,    0.00,2,    3.16,2,   0.011,4,   0.020,4,   0.000,4,  2357.5,6,  2379.0,2,-999.000,9,-999.0000,9, -999.00,9, -999.00,9,  -999.0,9,  -999.0,-999.000,9,-999.000,   36.80,2, 1079.30,-999.0000,9,-999.0000,9,-999.0000,9,-999.0000,9,-999.0000,9,-999.0000,-999.000,-999.0000,9, -999.00
318M20040615,        P02,     159,          1,         19,         19,2,20040819,       2131,    29.9997,  -131.2753,       5132,  1178.0,   3.4744,  34.5093,2,  34.5107,2,  37.0000,2,    36.7,2,  126.72,2,   43.51,2,    0.00,2,    3.13,2,   0.005,2,   0.003,2,   0.000,2,  2360.5,2,  2385.2,2,-999.000,9,-999.0000,9, -999.00,9, -999.00,9,  -999.0,9,  -999.0,-999.000,9,-999.000, -999.00,9, 1178.00,-999.0000,9,-999.0000,9,-999.0000,9,-999.0000,9,-999.0000,9,-999.0000,-999.000,-999.0000,9, -999.00
318M20040615,        P02,     159,          1,         18,         18,2,20040819,       2131,    29.9997,  -131.2753,       5132,  1285.0,   3.2612,  34.5301,2,  34.5303,2,  41.9000,2,    41.8,2,  131.57,2,   43.55,2,    0.00,2,    3.11,2,-999.000,9,-999.000,9,-999.000,9,  2361.3,2,  2389.9,6,-999.000,9,-999.0000,9, -999.00,9,   -0.38,2,  -224.9,2,     3.8,-999.000,9,-999.000,   36.60,2, 1285.00,-999.0000,9,-999.0000,9,-999.0000,9,-999.0000,9,-999.0000,9,-999.0000,-999.000,-999.0000,9, -999.00
318M20040615,        P02,     159,          1,         17,         17,2,20040819,       2131,    29.9997,  -131.2753,       5132,  1385.9,   3.0664,  34.5460,2,  34.5461,2,  46.5000,2,    45.7,2,  136.43,2,   43.26,2,    0.00,2,    3.09,2,   0.004,2,   0.001,2,   0.000,2,  2363.6,2,  2397.0,2,-999.000,9,-999.0000,9, -999.00,9, -999.00,9,  -999.0,9,  -999.0,-999.000,9,-999.000, -999.00,9, 1385.90,-999.0000,9,-999.0000,9,-999.0000,9,-999.0000,9,-999.0000,9,-999.0000,-999.000,-999.0000,9, -999.00
318M20040615,        P02,     159,          1,         16,         16,2,20040819,       2131,    29.9997,  -131.2753,       5132,  1490.0,   2.8706,  34.5610,2,  34.5614,2,  50.2000,2,    50.1,2,  142.15,2,   42.97,2,    0.00,2,    3.07,2,-999.000,9,-999.000,9,-999.000,9,  2368.7,2,  2402.1,2,-999.000,9,-999.0000,9, -999.00,9,   -0.19,2,  -236.7,2,     3.6,-999.000,9,-999.000,   37.50,2, 1490.00,-999.0000,9,-999.0000,9,-999.0000,9,-999.0000,9,-999.0000,9,-999.0000,-999.000,-999.0000,9, -999.00
318M20040615,        P02,     159,          1,         15,         15,2,20040819,       2131,    29.9997,  -131.2753,       5132,  1588.6,   2.7079,  34.5718,2,  34.5732,2,  54.7000,2,    54.8,2,  146.37,2,   42.57,2,    0.00,2,    3.04,2,   0.005,2,   0.003,2,   0.000,2,  2369.8,2,  2406.1,2,-999.000,9,-999.0000,9, -999.00,9, -999.00,9,  -999.0,9,  -999.0,-999.000,9,-999.000, -999.00,9, 1588.60,-999.0000,9,-999.0000,9,-999.0000,9,-999.0000,9,-999.0000,9,-999.0000,-999.000,-999.0000,9, -999.00
318M20040615,        P02,     159,          1,         14,         14,2,20040819,       2131,    29.9997,  -131.2753,       5132,  1689.8,   2.5401,  34.5853,2,  34.5857,2,  60.7000,2,    60.2,2,  150.81,2,   42.16,2,    0.00,2,    3.02,2,   0.003,2,   0.001,2,   0.000,2,  2369.8,2,  2410.9,2,-999.000,9,-999.0000,9, -999.00,9, -999.00,9,  -999.0,9,  -999.0,-999.000,9,-999.000, -999.00,9, 1689.80,-999.0000,9,-999.0000,9,-999.0000,9,-999.0000,9,-999.0000,9,-999.0000,-999.000,-999.0000,9, -999.00
318M20040615,        P02,     159,          1,         13,         13,2,20040819,       2131,    29.9997,  -131.2753,       5132,  1791.1,   2.4094,  34.5968,2,  34.5977,2,  65.9000,2,    65.3,2,  153.99,2,   41.77,2,    0.00,2,    2.98,2,   0.002,2,   0.004,2,   0.000,2,  2369.3,2,  2411.6,2,-999.000,9,-999.0000,9, -999.00,9,   -0.17,2,  -248.9,2,     4.5,-999.000,9,-999.000,   37.80,2, 1791.10,-999.0000,9,-999.0000,9,-999.0000,9,-999.0000,9,-999.0000,9,-999.0000,-999.000,-999.0000,9, -999.00
318M20040615,        P02,     159,          1,         12,         12,2,20040819,       2131,    29.9997,  -131.2753,       5132,  1993.5,   2.1540,  34.6175,2,  34.6183,2,  76.1000,2,    77.5,2,  159.76,2,   40.99,2,    0.00,2,    2.93,2,  -0.001,2,  -0.001,2,   0.000,2,  2368.5,2,  2421.0,2,-999.000,9,-999.0000,9, -999.00,9,   -0.14,2,  -247.8,2,     3.7,-999.000,9,-999.000, -999.00,9, 1993.50,-999.0000,9,-999.0000,9,-999.0000,9,-999.0000,9,-999.0000,9,-999.0000,-999.000,-999.0000,9, -999.00
318M20040615,        P02,     159,          1,         11,         11,2,20040819,       2131,    29.9997,  -131.2753,       5132,  2200.4,   1.9625,  34.6333,2,  34.6335,2,  86.6000,2,    87.9,2,  163.80,2,   40.26,2,    0.00,2,    2.86,2,-999.000,9,-999.000,9,-999.000,9,  2367.6,2,  2425.9,2,-999.000,9,-999.0000,9, -999.00,9, -999.00,9,  -999.0,9,  -999.0,-999.000,9,-999.000,   38.00,2, 2200.40,-999.0000,9,-999.0000,9,-999.0000,9,-999.0000,9,-999.0000,9,-999.0000,-999.000,-999.0000,9, -999.00
318M20040615,        P02,     159,          1,         10,         10,2,20040819,       2131,    29.9997,  -131.2753,       5132,  2456.9,   1.8000,  34.6447,2,  34.6447,2,  96.1000,2,    97.3,2,  167.85,2,   39.97,2,    0.00,2,    2.81,2,   0.001,2,   0.000,2,   0.000,2,  2364.9,2,  2428.7,2,-999.000,9,-999.0000,9, -999.00,9, -999.00,9,  -999.0,9,  -999.0,-999.000,9,-999.000, -999.00,9, 2456.90,-999.0000,9,-999.0000,9,-999.0000,9,-999.0000,9,-999.0000,9,-999.0000,-999.000,-999.0000,9, -999.00
318M20040615,        P02,     159,          1,          9,          9,2,20040819,       2131,    29.9997,  -131.2753,       5132,  2703.4,   1.6920,  34.6546,2,  34.6553,2, 104.4000,2,   105.6,2,  169.76,2,   39.69,2,    0.00,2,    2.77,2,-999.000,9,-999.000,9,-999.000,9,  2360.0,2,  2430.2,2,-999.000,9,-999.0000,9, -999.00,9, -999.00,9,  -999.0,9,  -999.0,-999.000,9,-999.000, -999.00,9, 2703.40,-999.0000,9,-999.0000,9,-999.0000,9,-999.0000,9,-999.0000,9,-999.0000,-999.000,-999.0000,9, -999.00
318M20040615,        P02,     159,          1,          8,          8,2,20040819,       2131,    29.9997,  -131.2753,       5132,  2965.1,   1.6119,  34.6630,2,  34.6629,2, 112.0000,2,   114.2,2,  170.57,2,   39.18,2,    0.00,2,    2.72,2,   0.000,2,   0.001,2,   0.000,2,  2355.6,2,  2430.0,2,-999.000,9,-999.0000,9, -999.00,9, -999.00,9,  -999.0,9,  -999.0,-999.000,9,-999.000,   37.20,2, 2965.10,-999.0000,9,-999.0000,9,-999.0000,9,-999.0000,9,-999.0000,9,-999.0000,-999.000,-999.0000,9, -999.00
318M20040615,        P02,     159,          1,          7,          7,2,20040819,       2131,    29.9997,  -131.2753,       5132,  3299.4,   1.5362,  34.6726,2,  34.6730,2, 123.7000,2,   124.3,2,  170.75,2,   38.39,2,    0.00,2,    2.66,2,-999.000,9,-999.000,9,-999.000,9,  2350.0,2,  2432.8,2,-999.000,9,-999.0000,9, -999.00,9, -999.00,9,  -999.0,9,  -999.0,-999.000,9,-999.000,   38.00,2, 3299.40,-999.0000,9,-999.0000,9,-999.0000,9,-999.0000,9,-999.0000,9,-999.0000,-999.000,-999.0000,9, -999.00
318M20040615,        P02,     159,          1,          6,          6,2,20040819,       2131,    29.9997,  -131.2753,       5132,  3712.2,   1.4931,  34.6811,2,  34.6816,2, 135.3000,2,   135.4,2,  167.27,2,   37.40,2,    0.00,2,    2.60,2,   0.002,2,   0.008,2,   0.004,2,  2341.9,2,  2431.8,2,-999.000,9,-999.0000,9, -999.00,9, -999.00,9,  -999.0,9,  -999.0,-999.000,9,-999.000,   37.40,2, 3712.20,-999.0000,9,-999.0000,9,-999.0000,9,-999.0000,9,-999.0000,9,-999.0000,-999.000,-999.0000,9, -999.00
318M20040615,        P02,     159,          1,          5,          5,2,20040819,       2131,    29.9997,  -131.2753,       5132,  4116.4,   1.5085,  34.6844,2,  34.6846,2, 140.2000,2,   140.1,2,  164.87,2,   37.11,2,    0.00,2,    2.57,2,   0.004,2,   0.009,2,   0.008,2,  2338.7,2,  2432.8,2,-999.000,9,-999.0000,9, -999.00,9, -999.00,9,  -999.0,9,  -999.0,-999.000,9,-999.000,   37.20,2, 4116.40,-999.0000,9,-999.0000,9,-999.0000,9,-999.0000,9,-999.0000,9,-999.0000,-999.000,-999.0000,9, -999.00
318M20040615,        P02,     159,          1,          4,          4,2,20040819,       2131,    29.9997,  -131.2753,       5132,  4379.3,   1.5298,  34.6854,2,  34.6852,2, 142.1000,2,   142.4,2,  163.78,2,   36.89,2,    0.00,2,    2.56,2,   0.007,2,   0.011,2,   0.012,2,  2338.3,2,  2431.1,2,-999.000,9,-999.0000,9, -999.00,9, -999.00,9,  -999.0,9,  -999.0,-999.000,9,-999.000, -999.00,9, 4379.30,-999.0000,9,-999.0000,9,-999.0000,9,-999.0000,9,-999.0000,9,-999.0000,-999.000,-999.0000,9, -999.00
318M20040615,        P02,     159,          1,          3,          3,2,20040819,       2131,    29.9997,  -131.2753,       5132,  4679.4,   1.5615,  34.6859,2,  34.6859,2, 142.9000,2,   143.1,2,  163.11,2,   36.77,2,    0.00,2,    2.55,2,   0.004,2,   0.010,2,   0.017,2,  2337.4,2,  2432.7,2,-999.000,9,-999.0000,9, -999.00,9, -999.00,9,  -999.0,9,  -999.0,-999.000,9,-999.000, -999.00,9, 4679.40,-999.0000,9,-999.0000,9,-999.0000,9,-999.0000,9,-999.0000,9,-999.0000,-999.000,-999.0000,9, -999.00
318M20040615,        P02,     159,          1,          2,          2,2,20040819,       2131,    29.9997,  -131.2753,       5132,  4990.7,   1.5992,  34.6859,2,  34.6863,2, 143.2000,2,   143.8,2,  163.28,2,   36.70,2,    0.00,2,    2.55,2,   0.003,2,   0.008,2,   0.000,2,  2338.2,2,  2431.9,2,-999.000,9,-999.0000,9, -999.00,9, -999.00,9,  -999.0,9,  -999.0,-999.000,9,-999.000,   37.40,2, 4990.70,-999.0000,9,-999.0000,9,-999.0000,9,-999.0000,9,-999.0000,9,-999.0000,-999.000,-999.0000,9, -999.00
318M20040615,        P02,     159,          1,          1,          1,2,20040819,       2131,    29.9997,  -131.2753,       5132,  5197.5,   1.6254,  34.6859,2,  34.6859,2, 143.0000,2,   143.6,2,  163.04,2,   36.92,2,    0.00,2,    2.55,2,   0.004,2,   0.009,2,   0.000,2,  2336.3,6,  2432.2,6,-999.000,9,-999.0000,9, -999.00,9, -999.00,9,  -999.0,9,  -999.0,-999.000,9,-999.000,   36.20,2, 5197.50,-999.0000,9,-999.0000,9,-999.0000,9,-999.0000,9,-999.0000,9,-999.0000,-999.000,-999.0000,9, -999.00