BOTTLE,20131027SIOCCHRJL
EXPOCODE,SECT_ID,STNNBR,CASTNO,SAMPNO,BTLNBR,BTLNBR_FLAG_W,DATE,TIME,LATITUDE,LONGITUDE,DEPTH,CTDPRS,CTDTMP,CTDSAL,CTDSAL_FLAG_W,SALNTY,SALNTY_FLAG_W,CTDOXY,CTDOXY_FLAG_W,OXYGEN,OXYGEN_FLAG_W,SILCAT,SILCAT_FLAG_W,NITRAT,NITRAT_FLAG_W,NITRIT,NITRIT_FLAG_W,PHSPHT,PHSPHT_FLAG_W,CFC-11,CFC-11_FLAG_W,CFC-12,CFC-12_FLAG_W,CFC113,CFC113_FLAG_W,TCARBN,TCARBN_FLAG_W,ALKALI,ALKALI_FLAG_W,TRITUM,TRITUM_FLAG_W,HELIUM,HELIUM_FLAG_W,DELHE3,DELHE3_FLAG_W,DELC13,DELC13_FLAG_W,DELC14,DELC14_FLAG_W,C14ERR,NEON,NEON_FLAG_W,NEONER,DOC,DOC_FLAG_W,CTDRAW,CDOM380,CDOM380_FLAG_W,CDOM325,CDOM325_FLAG_W,CDOMSL,CDOMSL_FLAG_W,CDOM340,CDOM340_FLAG_W,CDOMSN,CDOMSN_FLAG_W,HELIER,TRITER,CDOM412,CDOM412_FLAG_W,DELHER
,,,,,,,,,,,METERS,DBAR,ITS-90,PSS-78,,PSS-78,,UMOL/KG,,UMOL/KG,,UMOL/KG,,UMOL/KG,,UMOL/KG,,UMOL/KG,,PMOL/KG,,PMOL/KG,,PMOL/KG,,UMOL/KG,,UMOL/KG,,TU,,NMOL/KG,,PERCNT,,/MILLE,,/MILLE,,/MILLE,NMOL/KG,,NMOL/KG,UMOL/KG,,DBAR,1/M,,1/M,,1/NM,,1/M,,1/NM,,NMOL/KG,TU,1/M,,PERCNT
318M20040615,        P02,     110,          1,         36,         36,2,20040801,       0033,     29.999,   -165.788,       5525,    11.2,  25.4947,  35.2663,2,  35.2804,2, 213.6000,2,   211.1,2,    1.32,2,    0.00,2,    0.00,2,    0.03,2,   1.833,2,   1.130,2,   0.141,2,  2008.7,6,  2319.3,6,-999.000,9,-999.0000,9, -999.00,9, -999.00,9,  -999.0,9,  -999.0,-999.000,9,-999.000, -999.00,9,   11.20,-999.0000,9,-999.0000,9,-999.0000,9,-999.0000,9,-999.0000,9,-999.0000,-999.000,-999.0000,9, -999.00
318M20040615,        P02,     110,          1,         35,         35,2,20040801,       0033,     29.999,   -165.788,       5525,    36.2,  22.5940,  35.2980,2,  35.2979,2, 231.3000,2,   230.7,2,    1.33,2,    0.00,2,    0.00,2,    0.03,2,   2.112,6,   1.300,6,   0.153,6,  2013.4,2,  2321.9,2,-999.000,9,-999.0000,9, -999.00,9, -999.00,9,  -999.0,9,  -999.0,-999.000,9,-999.000, -999.00,9,   36.20,-999.0000,9,-999.0000,9,-999.0000,9,-999.0000,9,-999.0000,9,-999.0000,-999.000,-999.0000,9, -999.00
318M20040615,        P02,     110,          1,         34,         34,2,20040801,       0033,     29.999,   -165.788,       5525,    71.0,  19.7177,  35.1581,2,  35.1553,2, 234.9000,2,   236.6,2,    1.71,2,    0.00,2,    0.00,2,    0.06,2,   2.338,2,   1.414,2,   0.148,2,  2017.2,2,  2312.0,2,-999.000,9,-999.0000,9, -999.00,9, -999.00,9,  -999.0,9,  -999.0,-999.000,9,-999.000, -999.00,9,   71.00,-999.0000,9,-999.0000,9,-999.0000,9,-999.0000,9,-999.0000,9,-999.0000,-999.000,-999.0000,9, -999.00
318M20040615,        P02,     110,          1,         33,         33,2,20040801,       0033,     29.999,   -165.788,       5525,   120.6,  17.0229,  34.8153,2,  34.8172,2, 233.0000,2,   233.0,2,    2.68,2,    0.33,2,    0.13,2,    0.15,2,   2.570,2,   1.542,2,   0.260,2,  2027.3,2,  2290.2,2,-999.000,9,-999.0000,9, -999.00,9, -999.00,9,  -999.0,9,  -999.0,-999.000,9,-999.000, -999.00,9,  120.60,-999.0000,9,-999.0000,9,-999.0000,9,-999.0000,9,-999.0000,9,-999.0000,-999.000,-999.0000,9, -999.00
318M20040615,        P02,     110,          1,         32,         32,2,20040801,       0033,     29.999,   -165.788,       5525,   170.5,  15.9493,  34.7006,2,  34.6990,2, 227.4000,2,   231.6,2,    3.45,2,    2.24,2,    0.13,2,    0.24,2,   2.715,2,   1.610,2,   0.170,2,  2033.1,2,  2280.8,2,-999.000,9,-999.0000,9, -999.00,9, -999.00,9,  -999.0,9,  -999.0,-999.000,9,-999.000, -999.00,9,  170.50,-999.0000,9,-999.0000,9,-999.0000,9,-999.0000,9,-999.0000,9,-999.0000,-999.000,-999.0000,9, -999.00
318M20040615,        P02,     110,          1,         31,         31,2,20040801,       0033,     29.999,   -165.788,       5525,   230.7,  14.3838,  34.5002,2,  34.5010,2, 221.1000,2,   220.4,2,    6.34,2,    6.46,2,    0.01,2,    0.51,2,   2.895,2,   1.678,2,   0.105,2,  2052.4,2,  2272.1,2,-999.000,9,-999.0000,9, -999.00,9, -999.00,9,  -999.0,9,  -999.0,-999.000,9,-999.000, -999.00,9,  230.70,-999.0000,9,-999.0000,9,-999.0000,9,-999.0000,9,-999.0000,9,-999.0000,-999.000,-999.0000,9, -999.00
318M20040615,        P02,     110,          1,         30,         30,2,20040801,       0033,     29.999,   -165.788,       5525,   270.8,  13.3593,  34.4336,2,  34.4234,2, 221.8000,2,   222.7,2,    8.85,2,    8.71,2,    0.00,2,    0.65,2,   2.932,2,   1.680,2,   0.097,2,  2063.9,2,  2268.6,2,-999.000,9,-999.0000,9, -999.00,9, -999.00,9,  -999.0,9,  -999.0,-999.000,9,-999.000, -999.00,9,  270.80,-999.0000,9,-999.0000,9,-999.0000,9,-999.0000,9,-999.0000,9,-999.0000,-999.000,-999.0000,9, -999.00
318M20040615,        P02,     110,          1,         29,         29,2,20040801,       0033,     29.999,   -165.788,       5525,   325.6,  12.1045,  34.3204,2,  34.3161,2, 212.5000,2,   215.6,2,   12.13,2,   11.50,2,    0.00,2,    0.83,2,   3.179,2,   1.771,2,   0.079,2,  2081.5,2,  2267.1,2,-999.000,9,-999.0000,9, -999.00,9, -999.00,9,  -999.0,9,  -999.0,-999.000,9,-999.000, -999.00,9,  325.60,-999.0000,9,-999.0000,9,-999.0000,9,-999.0000,9,-999.0000,9,-999.0000,-999.000,-999.0000,9, -999.00
318M20040615,        P02,     110,          1,         28,         28,2,20040801,       0033,     29.999,   -165.788,       5525,   375.4,  11.0640,  34.2457,2,  34.2452,2, 209.8000,2,   210.9,2,   15.80,2,   13.85,2,    0.00,2,    0.99,2,   3.189,2,   1.752,2,   0.104,2,  2096.1,2,  2267.0,2,-999.000,9,-999.0000,9, -999.00,9, -999.00,9,  -999.0,9,  -999.0,-999.000,9,-999.000, -999.00,9,  375.40,-999.0000,9,-999.0000,9,-999.0000,9,-999.0000,9,-999.0000,9,-999.0000,-999.000,-999.0000,9, -999.00
318M20040615,        P02,     110,          1,         27,         27,2,20040801,       0033,     29.999,   -165.788,       5525,   425.0,  10.2557,  34.1885,2,  34.1870,2, 200.7000,2,   201.7,2,   19.65,2,   16.25,2,    0.00,2,    1.15,2,   3.024,2,   1.628,2,   0.110,2,  2111.4,2,  2267.1,2,-999.000,9,-999.0000,9, -999.00,9, -999.00,9,  -999.0,9,  -999.0,-999.000,9,-999.000, -999.00,9,  425.00,-999.0000,9,-999.0000,9,-999.0000,9,-999.0000,9,-999.0000,9,-999.0000,-999.000,-999.0000,9, -999.00
318M20040615,        P02,     110,          1,         26,         26,2,20040801,       0033,     29.999,   -165.788,       5525,   475.1,   9.3166,  34.1342,2,  34.1350,2, 184.0000,2,   183.5,2,   25.85,2,   19.66,2,    0.00,2,    1.40,2,   2.971,2,   1.550,2,   0.089,2,  2134.5,2,  2268.8,2,-999.000,9,-999.0000,9, -999.00,9, -999.00,9,  -999.0,9,  -999.0,-999.000,9,-999.000, -999.00,9,  475.10,-999.0000,9,-999.0000,9,-999.0000,9,-999.0000,9,-999.0000,9,-999.0000,-999.000,-999.0000,9, -999.00
318M20040615,        P02,     110,          1,         25,         25,2,20040801,       0033,     29.999,   -165.788,       5525,   544.0,   7.8075,  34.0608,2,  34.0605,2, 162.5000,2,   162.2,2,   39.03,2,   24.75,2,    0.00,2,    1.79,2,   2.567,2,   1.313,2,   0.105,2,  2171.0,2,  2277.0,2,-999.000,9,-999.0000,9, -999.00,9, -999.00,9,  -999.0,9,  -999.0,-999.000,9,-999.000, -999.00,9,  544.00,-999.0000,9,-999.0000,9,-999.0000,9,-999.0000,9,-999.0000,9,-999.0000,-999.000,-999.0000,9, -999.00
318M20040615,        P02,     110,          1,         24,         24,2,20040801,       0033,     29.999,   -165.788,       5525,   649.0,   6.2108,  34.0362,2,  34.0372,2, 114.2000,2,   111.1,2,   59.68,2,   32.15,2,    0.00,2,    2.32,2,   1.571,2,   0.789,2,   0.050,2,  2231.2,2,  2291.5,2,-999.000,9,-999.0000,9, -999.00,9, -999.00,9,  -999.0,9,  -999.0,-999.000,9,-999.000, -999.00,9,  649.00,-999.0000,9,-999.0000,9,-999.0000,9,-999.0000,9,-999.0000,9,-999.0000,-999.000,-999.0000,9, -999.00
318M20040615,        P02,     110,          1,         23,         23,2,20040801,       0033,     29.999,   -165.788,       5525,   748.9,   5.1298,  34.0938,2,  34.0938,2,  66.5000,2,    64.7,2,   80.63,2,   37.96,2,    0.00,2,    2.75,2,   0.661,2,   0.346,2,   0.020,2,  2284.3,2,  2312.2,2,-999.000,9,-999.0000,9, -999.00,9, -999.00,9,  -999.0,9,  -999.0,-999.000,9,-999.000, -999.00,9,  748.90,-999.0000,9,-999.0000,9,-999.0000,9,-999.0000,9,-999.0000,9,-999.0000,-999.000,-999.0000,9, -999.00
318M20040615,        P02,     110,          1,         22,         22,2,20040801,       0033,     29.999,   -165.788,       5525,   849.3,   4.4711,  34.1943,2,  34.1940,2,  36.9000,2,    34.4,2,   98.73,2,   41.48,2,    0.00,2,    3.02,2,-999.000,9,-999.000,9,-999.000,9,  -999.0,9,  -999.0,9,-999.000,9,-999.0000,9, -999.00,9, -999.00,9,  -999.0,9,  -999.0,-999.000,9,-999.000, -999.00,9,  849.30,-999.0000,9,-999.0000,9,-999.0000,9,-999.0000,9,-999.0000,9,-999.0000,-999.000,-999.0000,9, -999.00
318M20040615,        P02,     110,          1,         21,         21,2,20040801,       0033,     29.999,   -165.788,       5525,   949.8,   4.1598,  34.2698,2,  34.2700,2,  24.7000,2,    25.2,2,  108.39,2,   42.83,2,    0.00,2,    3.11,2,   0.081,2,   0.042,2,   0.000,2,  2340.3,2,  2347.2,2,-999.000,9,-999.0000,9, -999.00,9, -999.00,9,  -999.0,9,  -999.0,-999.000,9,-999.000, -999.00,9,  949.80,-999.0000,9,-999.0000,9,-999.0000,9,-999.0000,9,-999.0000,9,-999.0000,-999.000,-999.0000,9, -999.00
318M20040615,        P02,     110,          1,         20,         20,2,20040801,       0033,     29.999,   -165.788,       5525,  1054.7,   3.8298,  34.3573,2,  34.3565,2,  25.0000,2,    24.1,2,  118.09,2,   43.51,2,    0.00,2,    3.15,2,-999.000,9,-999.000,9,-999.000,9,  2353.0,2,  2362.2,2,-999.000,9,-999.0000,9, -999.00,9, -999.00,9,  -999.0,9,  -999.0,-999.000,9,-999.000, -999.00,9, 1054.70,-999.0000,9,-999.0000,9,-999.0000,9,-999.0000,9,-999.0000,9,-999.0000,-999.000,-999.0000,9, -999.00
318M20040615,        P02,     110,          1,         19,         19,2,20040801,       0033,     29.999,   -165.788,       5525,  1153.0,   3.5298,  34.4280,2,  34.4270,2,  31.7000,2,    31.5,2,  125.61,2,   43.39,2,    0.00,2,    3.13,2,   0.011,2,   0.005,2,   0.000,2,  2359.9,2,  2374.1,2,-999.000,9,-999.0000,9, -999.00,9, -999.00,9,  -999.0,9,  -999.0,-999.000,9,-999.000, -999.00,9, 1153.00,-999.0000,9,-999.0000,9,-999.0000,9,-999.0000,9,-999.0000,9,-999.0000,-999.000,-999.0000,9, -999.00
318M20040615,        P02,     110,          1,         18,         18,2,20040801,       0033,     29.999,   -165.788,       5525,  1251.7,   3.3109,  34.4734,2,  34.4741,2,  40.3000,2,    40.9,2,  129.97,2,   42.85,2,    0.00,2,    3.08,2,-999.000,9,-999.000,9,-999.000,9,  -999.0,9,  -999.0,9,-999.000,9,-999.0000,9, -999.00,9, -999.00,9,  -999.0,9,  -999.0,-999.000,9,-999.000, -999.00,9, 1251.70,-999.0000,9,-999.0000,9,-999.0000,9,-999.0000,9,-999.0000,9,-999.0000,-999.000,-999.0000,9, -999.00
318M20040615,        P02,     110,          1,         17,         17,2,20040801,       0033,     29.999,   -165.788,       5525,  1353.1,   3.1033,  34.5038,2,  34.5045,2,  46.8000,2,    48.5,2,  134.53,2,   42.41,2,    0.00,2,    3.05,2,   0.010,2,   0.009,2,   0.000,2,  -999.0,9,  -999.0,9,-999.000,9,-999.0000,9, -999.00,9, -999.00,9,  -999.0,9,  -999.0,-999.000,9,-999.000, -999.00,9, 1353.10,-999.0000,9,-999.0000,9,-999.0000,9,-999.0000,9,-999.0000,9,-999.0000,-999.000,-999.0000,9, -999.00
318M20040615,        P02,     110,          1,         16,         16,2,20040801,       0033,     29.999,   -165.788,       5525,  1453.0,   2.8675,  34.5174,2,  34.5188,2,  49.6000,2,    48.8,2,  141.50,2,   42.35,2,    0.00,2,    3.05,2,-999.000,9,-999.000,9,-999.000,9,  -999.0,9,  -999.0,9,-999.000,9,-999.0000,9, -999.00,9, -999.00,9,  -999.0,9,  -999.0,-999.000,9,-999.000, -999.00,9, 1453.00,-999.0000,9,-999.0000,9,-999.0000,9,-999.0000,9,-999.0000,9,-999.0000,-999.000,-999.0000,9, -999.00
318M20040615,        P02,     110,          1,         15,         15,2,20040801,       0033,     29.999,   -165.788,       5525,  1543.7,   2.6968,  34.5340,2,  34.5343,2,  52.5000,2,    52.7,2,  145.88,2,   42.23,2,    0.00,2,    3.03,2,   0.002,2,   0.002,2,   0.000,2,  -999.0,9,  -999.0,9,-999.000,9,-999.0000,9, -999.00,9, -999.00,9,  -999.0,9,  -999.0,-999.000,9,-999.000, -999.00,9, 1543.70,-999.0000,9,-999.0000,9,-999.0000,9,-999.0000,9,-999.0000,9,-999.0000,-999.000,-999.0000,9, -999.00
318M20040615,        P02,     110,          1,         14,         14,2,20040801,       0033,     29.999,   -165.788,       5525,  1659.2,   2.4699,  34.5581,2,  34.5594,2,  59.1000,2,    60.3,2,  150.89,2,   41.75,2,    0.00,2,    2.99,2,-999.000,9,-999.000,9,-999.000,9,  -999.0,9,  -999.0,9,-999.000,9,-999.0000,9, -999.00,9, -999.00,9,  -999.0,9,  -999.0,-999.000,9,-999.000, -999.00,9, 1659.20,-999.0000,9,-999.0000,9,-999.0000,9,-999.0000,9,-999.0000,9,-999.0000,-999.000,-999.0000,9, -999.00
318M20040615,        P02,     110,          1,         13,         13,2,20040801,       0033,     29.999,   -165.788,       5525,  1764.6,   2.3243,  34.5736,2,  34.5744,2,  64.3000,2,    64.7,2,  154.68,2,   41.53,2,    0.00,2,    2.96,2,   0.000,2,   0.001,2,   0.000,2,  -999.0,9,  -999.0,9,-999.000,9,-999.0000,9, -999.00,9, -999.00,9,  -999.0,9,  -999.0,-999.000,9,-999.000, -999.00,9, 1764.60,-999.0000,9,-999.0000,9,-999.0000,9,-999.0000,9,-999.0000,9,-999.0000,-999.000,-999.0000,9, -999.00
318M20040615,        P02,     110,          1,         12,         12,2,20040801,       0033,     29.999,   -165.788,       5525,  1965.5,   2.0814,  34.5983,2,  34.5989,2,  72.9000,2,    73.0,2,  161.28,2,   41.10,2,    0.00,2,    2.93,2,-999.000,9,-999.000,9,-999.000,9,  -999.0,9,  -999.0,9,-999.000,9,-999.0000,9, -999.00,9, -999.00,9,  -999.0,9,  -999.0,-999.000,9,-999.000, -999.00,9, 1965.50,-999.0000,9,-999.0000,9,-999.0000,9,-999.0000,9,-999.0000,9,-999.0000,-999.000,-999.0000,9, -999.00
318M20040615,        P02,     110,          1,         11,         11,2,20040801,       0033,     29.999,   -165.788,       5525,  2106.1,   1.9208,  34.6167,2,  34.6173,2,  81.2000,2,    83.7,2,  163.27,2,   40.55,2,    0.00,2,    2.88,2,  -0.002,2,   0.000,2,   0.000,2,  -999.0,9,  -999.0,9,-999.000,9,-999.0000,9, -999.00,9, -999.00,9,  -999.0,9,  -999.0,-999.000,9,-999.000, -999.00,9, 2106.10,-999.0000,9,-999.0000,9,-999.0000,9,-999.0000,9,-999.0000,9,-999.0000,-999.000,-999.0000,9, -999.00
318M20040615,        P02,     110,          1,         10,         10,2,20040801,       0033,     29.999,   -165.788,       5525,  2366.6,   1.7793,  34.6334,2,  34.6338,2,  93.2000,2,    94.5,2,  165.45,2,   40.12,2,    0.00,2,    2.83,2,-999.000,9,-999.000,9,-999.000,9,  -999.0,9,  -999.0,9,-999.000,9,-999.0000,9, -999.00,9, -999.00,9,  -999.0,9,  -999.0,-999.000,9,-999.000, -999.00,9, 2366.60,-999.0000,9,-999.0000,9,-999.0000,9,-999.0000,9,-999.0000,9,-999.0000,-999.000,-999.0000,9, -999.00
318M20040615,        P02,     110,          1,          9,          9,2,20040801,       0033,     29.999,   -165.788,       5525,  2625.4,   1.6669,  34.6480,2,  34.6478,2, 106.0000,2,   106.1,2,  165.43,2,   39.43,2,    0.00,2,    2.76,2,  -0.004,2,  -0.001,2,   0.000,2,  -999.0,9,  -999.0,9,-999.000,9,-999.0000,9, -999.00,9, -999.00,9,  -999.0,9,  -999.0,-999.000,9,-999.000, -999.00,9, 2625.40,-999.0000,9,-999.0000,9,-999.0000,9,-999.0000,9,-999.0000,9,-999.0000,-999.000,-999.0000,9, -999.00
318M20040615,        P02,     110,          1,          8,          8,2,20040801,       0033,     29.999,   -165.788,       5525,  2894.5,   1.5981,  34.6578,2,  34.6584,2, 115.7000,2,   116.3,2,  164.01,2,   38.74,2,    0.00,2,    2.71,2,-999.000,9,-999.000,9,-999.000,9,  -999.0,9,  -999.0,9,-999.000,9,-999.0000,9, -999.00,9, -999.00,9,  -999.0,9,  -999.0,-999.000,9,-999.000, -999.00,9, 2894.50,-999.0000,9,-999.0000,9,-999.0000,9,-999.0000,9,-999.0000,9,-999.0000,-999.000,-999.0000,9, -999.00
318M20040615,        P02,     110,          1,          7,          7,2,20040801,       0033,     29.999,   -165.788,       5525,  3219.8,   1.5294,  34.6684,2,  34.6688,2, 128.4000,2,   128.0,2,  161.38,2,   37.84,2,    0.00,2,    2.65,2,   0.000,2,   0.001,2,   0.000,2,  -999.0,9,  -999.0,9,-999.000,9,-999.0000,9, -999.00,9, -999.00,9,  -999.0,9,  -999.0,-999.000,9,-999.000, -999.00,9, 3219.80,-999.0000,9,-999.0000,9,-999.0000,9,-999.0000,9,-999.0000,9,-999.0000,-999.000,-999.0000,9, -999.00
318M20040615,        P02,     110,          1,          6,          6,2,20040801,       0033,     29.999,   -165.788,       5525,  3624.8,   1.4843,  34.6776,2,  34.6776,2, 138.2000,2,   138.9,2,  158.56,2,   37.05,2,    0.00,2,    2.59,2,-999.000,9,-999.000,9,-999.000,9,  -999.0,9,  -999.0,9,-999.000,9,-999.0000,9, -999.00,9, -999.00,9,  -999.0,9,  -999.0,-999.000,9,-999.000, -999.00,9, 3624.80,-999.0000,9,-999.0000,9,-999.0000,9,-999.0000,9,-999.0000,9,-999.0000,-999.000,-999.0000,9, -999.00
318M20040615,        P02,     110,          1,          5,          5,2,20040801,       0033,     29.999,   -165.788,       5525,  4028.5,   1.4732,  34.6833,2,  34.6829,2, 146.0000,2,   146.7,2,  155.74,2,   36.41,2,    0.00,2,    2.55,2,  -0.003,2,   0.000,2,   0.000,2,  -999.0,9,  -999.0,9,-999.000,9,-999.0000,9, -999.00,9, -999.00,9,  -999.0,9,  -999.0,-999.000,9,-999.000, -999.00,9, 4028.50,-999.0000,9,-999.0000,9,-999.0000,9,-999.0000,9,-999.0000,9,-999.0000,-999.000,-999.0000,9, -999.00
318M20040615,        P02,     110,          1,          4,          4,2,20040801,       0033,     29.999,   -165.788,       5525,  4424.4,   1.4852,  34.6867,2,  34.6872,2, 150.4000,2,   150.9,2,  154.76,2,   36.10,2,    0.00,2,    2.52,2,-999.000,9,-999.000,9,-999.000,9,  -999.0,9,  -999.0,9,-999.000,9,-999.0000,9, -999.00,9, -999.00,9,  -999.0,9,  -999.0,-999.000,9,-999.000, -999.00,9, 4424.40,-999.0000,9,-999.0000,9,-999.0000,9,-999.0000,9,-999.0000,9,-999.0000,-999.000,-999.0000,9, -999.00
318M20040615,        P02,     110,          1,          3,          3,2,20040801,       0033,     29.999,   -165.788,       5525,  4845.5,   1.5128,  34.6890,2,  34.6893,2, 154.6000,2,   154.9,2,  152.35,2,   35.83,2,    0.00,2,    2.51,2,   0.000,2,   0.001,2,   0.000,2,  -999.0,9,  -999.0,9,-999.000,9,-999.0000,9, -999.00,9, -999.00,9,  -999.0,9,  -999.0,-999.000,9,-999.000, -999.00,9, 4845.50,-999.0000,9,-999.0000,9,-999.0000,9,-999.0000,9,-999.0000,9,-999.0000,-999.000,-999.0000,9, -999.00
318M20040615,        P02,     110,          1,          2,          2,2,20040801,       0033,     29.999,   -165.788,       5525,  5356.3,   1.5402,  34.6920,2,  34.6925,2, 161.7000,2,   161.8,2,  144.96,2,   35.20,2,    0.00,2,    2.47,2,-999.000,9,-999.000,9,-999.000,9,  2322.1,2,  -999.0,9,-999.000,9,-999.0000,9, -999.00,9, -999.00,9,  -999.0,9,  -999.0,-999.000,9,-999.000, -999.00,9, 5356.30,-999.0000,9,-999.0000,9,-999.0000,9,-999.0000,9,-999.0000,9,-999.0000,-999.000,-999.0000,9, -999.00
318M20040615,        P02,     110,          1,          1,          1,2,20040801,       0033,     29.999,   -165.788,       5525,  5659.7,   1.5672,  34.6927,2,  34.6932,2, 164.4000,2,   165.1,2,  142.74,2,   35.19,2,    0.00,2,    2.46,2,   0.004,2,   0.002,2,   0.000,2,  2319.7,2,  -999.0,9,-999.000,9,-999.0000,9, -999.00,9, -999.00,9,  -999.0,9,  -999.0,-999.000,9,-999.000, -999.00,9, 5659.70,-999.0000,9,-999.0000,9,-999.0000,9,-999.0000,9,-999.0000,9,-999.0000,-999.000,-999.0000,9, -999.00