BOTTLE,20131027SIOCCHRJL
EXPOCODE,SECT_ID,STNNBR,CASTNO,SAMPNO,BTLNBR,BTLNBR_FLAG_W,DATE,TIME,LATITUDE,LONGITUDE,DEPTH,CTDPRS,CTDTMP,CTDSAL,CTDSAL_FLAG_W,SALNTY,SALNTY_FLAG_W,CTDOXY,CTDOXY_FLAG_W,OXYGEN,OXYGEN_FLAG_W,SILCAT,SILCAT_FLAG_W,NITRAT,NITRAT_FLAG_W,NITRIT,NITRIT_FLAG_W,PHSPHT,PHSPHT_FLAG_W,CFC-11,CFC-11_FLAG_W,CFC-12,CFC-12_FLAG_W,CFC113,CFC113_FLAG_W,TCARBN,TCARBN_FLAG_W,ALKALI,ALKALI_FLAG_W,TRITUM,TRITUM_FLAG_W,HELIUM,HELIUM_FLAG_W,DELHE3,DELHE3_FLAG_W,DELC13,DELC13_FLAG_W,DELC14,DELC14_FLAG_W,C14ERR,NEON,NEON_FLAG_W,NEONER,DOC,DOC_FLAG_W,CTDRAW,CDOM380,CDOM380_FLAG_W,CDOM325,CDOM325_FLAG_W,CDOMSL,CDOMSL_FLAG_W,CDOM340,CDOM340_FLAG_W,CDOMSN,CDOMSN_FLAG_W,HELIER,TRITER,CDOM412,CDOM412_FLAG_W,DELHER
,,,,,,,,,,,METERS,DBAR,ITS-90,PSS-78,,PSS-78,,UMOL/KG,,UMOL/KG,,UMOL/KG,,UMOL/KG,,UMOL/KG,,UMOL/KG,,PMOL/KG,,PMOL/KG,,PMOL/KG,,UMOL/KG,,UMOL/KG,,TU,,NMOL/KG,,PERCNT,,/MILLE,,/MILLE,,/MILLE,NMOL/KG,,NMOL/KG,UMOL/KG,,DBAR,1/M,,1/M,,1/NM,,1/M,,1/NM,,NMOL/KG,TU,1/M,,PERCNT
318M20040615,        P02,     105,          1,         36,         36,2,20040722,       0422,    29.9998,  -167.0962,       5485,     9.5,  25.3611,  35.3236,2,  35.3263,2, 211.5000,2,   210.9,2,    1.49,2,    0.11,2,    0.00,2,    0.03,2,   1.752,2,   1.107,2,   0.129,2,  2007.1,6,  2320.2,6,-999.000,9,-999.0000,9, -999.00,9, -999.00,9,  -999.0,9,  -999.0,-999.000,9,-999.000, -999.00,9,    9.50,-999.0000,9,-999.0000,9,-999.0000,9,-999.0000,9,-999.0000,9,-999.0000,-999.000,-999.0000,9, -999.00
318M20040615,        P02,     105,          1,         35,         35,2,20040722,       0422,    29.9998,  -167.0962,       5485,    40.9,  21.1991,  35.2277,2,  35.2279,2, 236.9000,2,   234.2,2,    1.89,2,    0.11,2,    0.00,2,    0.04,2,   2.155,2,   1.313,2,   0.148,2,  2012.8,2,  2314.6,2,-999.000,9,-999.0000,9, -999.00,9, -999.00,9,  -999.0,9,  -999.0,-999.000,9,-999.000, -999.00,9,   40.90,-999.0000,9,-999.0000,9,-999.0000,9,-999.0000,9,-999.0000,9,-999.0000,-999.000,-999.0000,9, -999.00
318M20040615,        P02,     105,          1,         34,         34,2,20040722,       0422,    29.9998,  -167.0962,       5485,    86.1,  17.7336,  34.8815,2,  34.8813,2, 237.8000,2,   239.0,2,    2.89,2,    0.11,2,    0.00,2,    0.09,2,   2.457,2,   1.454,2,   0.151,2,  2017.9,2,  2292.6,2,-999.000,9,-999.0000,9, -999.00,9, -999.00,9,  -999.0,9,  -999.0,-999.000,9,-999.000, -999.00,9,   86.10,-999.0000,9,-999.0000,9,-999.0000,9,-999.0000,9,-999.0000,9,-999.0000,-999.000,-999.0000,9, -999.00
318M20040615,        P02,     105,          1,         33,         33,2,20040722,       0422,    29.9998,  -167.0962,       5485,   135.5,  15.9161,  34.6736,2,  34.6740,2, 221.7000,2,   223.1,2,    4.50,2,    3.72,2,    0.03,2,    0.31,2,   2.625,2,   1.556,2,   0.130,2,  2036.7,2,  2278.9,2,-999.000,9,-999.0000,9, -999.00,9, -999.00,9,  -999.0,9,  -999.0,-999.000,9,-999.000, -999.00,9,  135.50,-999.0000,9,-999.0000,9,-999.0000,9,-999.0000,9,-999.0000,9,-999.0000,-999.000,-999.0000,9, -999.00
318M20040615,        P02,     105,          1,         32,         32,2,20040722,       0422,    29.9998,  -167.0962,       5485,   185.7,  15.1542,  34.6077,2,  34.6076,2, 232.7000,2,   235.4,2,    4.70,2,    3.47,2,    0.01,2,    0.30,2,   2.701,2,   1.592,2,   0.176,2,  -999.0,9,  -999.0,9,-999.000,9,-999.0000,9, -999.00,9, -999.00,9,  -999.0,9,  -999.0,-999.000,9,-999.000, -999.00,9,  185.70,-999.0000,9,-999.0000,9,-999.0000,9,-999.0000,9,-999.0000,9,-999.0000,-999.000,-999.0000,9, -999.00
318M20040615,        P02,     105,          1,         31,         31,2,20040722,       0422,    29.9998,  -167.0962,       5485,   235.0,  14.0968,  34.4799,2,  34.4772,2, 223.5000,2,   225.3,2,    7.33,2,    6.80,2,    0.01,2,    0.51,2,   2.838,2,   1.636,2,   0.115,2,  2050.3,2,  2269.0,2,-999.000,9,-999.0000,9, -999.00,9, -999.00,9,  -999.0,9,  -999.0,-999.000,9,-999.000, -999.00,9,  235.00,-999.0000,9,-999.0000,9,-999.0000,9,-999.0000,9,-999.0000,9,-999.0000,-999.000,-999.0000,9, -999.00
318M20040615,        P02,     105,          1,         30,         30,2,20040722,       0422,    29.9998,  -167.0962,       5485,   285.6,  12.8835,  34.3793,2,  34.3786,2, 219.6000,2,   219.3,2,   10.58,2,    9.76,2,    0.00,2,    0.70,2,   2.900,2,   1.629,2,   0.081,2,  -999.0,9,  -999.0,9,-999.000,9,-999.0000,9, -999.00,9, -999.00,9,  -999.0,9,  -999.0,-999.000,9,-999.000, -999.00,9,  285.60,-999.0000,9,-999.0000,9,-999.0000,9,-999.0000,9,-999.0000,9,-999.0000,-999.000,-999.0000,9, -999.00
318M20040615,        P02,     105,          1,         29,         29,2,20040722,       0422,    29.9998,  -167.0962,       5485,   335.2,  11.8237,  34.3045,2,  34.3093,2, 216.6000,2,   214.7,2,   13.64,2,   12.03,2,    0.00,2,    0.86,2,   3.017,2,   1.665,2,   0.078,2,  2081.4,2,  2262.1,2,-999.000,9,-999.0000,9, -999.00,9, -999.00,9,  -999.0,9,  -999.0,-999.000,9,-999.000, -999.00,9,  335.20,-999.0000,9,-999.0000,9,-999.0000,9,-999.0000,9,-999.0000,9,-999.0000,-999.000,-999.0000,9, -999.00
318M20040615,        P02,     105,          1,         28,         28,2,20040722,       0422,    29.9998,  -167.0962,       5485,   385.0,  10.7545,  34.2216,2,  34.2191,2, 207.3000,2,   205.9,2,   17.73,2,   14.90,2,    0.00,2,    1.07,2,   3.013,2,   1.630,2,   0.078,2,  -999.0,9,  -999.0,9,-999.000,9,-999.0000,9, -999.00,9, -999.00,9,  -999.0,9,  -999.0,-999.000,9,-999.000, -999.00,9,  385.00,-999.0000,9,-999.0000,9,-999.0000,9,-999.0000,9,-999.0000,9,-999.0000,-999.000,-999.0000,9, -999.00
318M20040615,        P02,     105,          1,         27,         27,2,20040722,       0422,    29.9998,  -167.0962,       5485,   434.9,   9.7785,  34.1663,2,  34.1655,2, 201.2000,2,   197.3,2,   22.67,2,   17.57,2,    0.00,2,    1.25,2,   2.953,2,   1.587,2,   0.090,2,  -999.0,9,  -999.0,9,-999.000,9,-999.0000,9, -999.00,9, -999.00,9,  -999.0,9,  -999.0,-999.000,9,-999.000, -999.00,9,  434.90,-999.0000,9,-999.0000,9,-999.0000,9,-999.0000,9,-999.0000,9,-999.0000,-999.000,-999.0000,9, -999.00
318M20040615,        P02,     105,          1,         26,         26,2,20040722,       0422,    29.9998,  -167.0962,       5485,   484.9,   8.8942,  34.1146,2,  34.1137,2, 189.2000,2,   183.4,2,   29.28,2,   20.55,2,    0.00,2,    1.47,2,   2.788,6,   1.470,6,   0.093,6,  2140.4,2,  2269.3,2,-999.000,9,-999.0000,9, -999.00,9, -999.00,9,  -999.0,9,  -999.0,-999.000,9,-999.000, -999.00,9,  484.90,-999.0000,9,-999.0000,9,-999.0000,9,-999.0000,9,-999.0000,9,-999.0000,-999.000,-999.0000,9, -999.00
318M20040615,        P02,     105,          1,         25,         25,2,20040722,       0422,    29.9998,  -167.0962,       5485,   570.0,   7.0616,  34.0335,2,  34.0339,2, 150.6000,2,   147.8,2,   46.40,2,   27.33,2,    0.00,2,    1.96,2,   2.264,2,   1.162,2,   0.088,2,  -999.0,9,  -999.0,9,-999.000,9,-999.0000,9, -999.00,9, -999.00,9,  -999.0,9,  -999.0,-999.000,9,-999.000, -999.00,9,  570.00,-999.0000,9,-999.0000,9,-999.0000,9,-999.0000,9,-999.0000,9,-999.0000,-999.000,-999.0000,9, -999.00
318M20040615,        P02,     105,          1,         24,         24,2,20040722,       0422,    29.9998,  -167.0962,       5485,   669.5,   5.5752,  34.0477,2,  34.0490,2,  90.2000,2,    89.7,2,   70.48,2,   35.47,2,    0.00,2,    2.54,2,   1.129,2,   0.570,2,   0.026,2,  -999.0,9,  -999.0,9,-999.000,9,-999.0000,9, -999.00,9, -999.00,9,  -999.0,9,  -999.0,-999.000,9,-999.000, -999.00,9,  669.50,-999.0000,9,-999.0000,9,-999.0000,9,-999.0000,9,-999.0000,9,-999.0000,-999.000,-999.0000,9, -999.00
318M20040615,        P02,     105,          1,         23,         23,2,20040722,       0422,    29.9998,  -167.0962,       5485,   769.7,   4.6997,  34.1272,2,  34.1274,2,  56.4000,2,    52.2,2,   90.95,2,   40.11,2,    0.00,2,    2.89,2,   0.484,2,   0.239,2,   0.013,2,  2302.0,2,  2319.3,2,-999.000,9,-999.0000,9, -999.00,9, -999.00,9,  -999.0,9,  -999.0,-999.000,9,-999.000, -999.00,9,  769.70,-999.0000,9,-999.0000,9,-999.0000,9,-999.0000,9,-999.0000,9,-999.0000,-999.000,-999.0000,9, -999.00
318M20040615,        P02,     105,          1,         22,         22,2,20040722,       0422,    29.9998,  -167.0962,       5485,   870.1,   4.0527,  34.2094,2,  34.2071,2,  30.3000,2,    28.1,2,  109.58,2,   43.02,2,    0.00,2,    3.08,2,   0.158,2,   0.085,2,   0.001,2,  -999.0,9,  -999.0,9,-999.000,9,-999.0000,9, -999.00,9, -999.00,9,  -999.0,9,  -999.0,-999.000,9,-999.000, -999.00,9,  870.10,-999.0000,9,-999.0000,9,-999.0000,9,-999.0000,9,-999.0000,9,-999.0000,-999.000,-999.0000,9, -999.00
318M20040615,        P02,     105,          1,         21,         21,2,20040722,       0422,    29.9998,  -167.0962,       5485,   970.1,   3.7527,  34.3049,2,  34.3054,2,  20.2000,2,    19.5,2,  120.74,2,   43.94,2,    0.00,2,    3.16,2,   0.041,2,   0.021,2,   0.001,2,  2353.4,2,  2356.3,2,-999.000,9,-999.0000,9, -999.00,9, -999.00,9,  -999.0,9,  -999.0,-999.000,9,-999.000, -999.00,9,  970.10,-999.0000,9,-999.0000,9,-999.0000,9,-999.0000,9,-999.0000,9,-999.0000,-999.000,-999.0000,9, -999.00
318M20040615,        P02,     105,          1,         20,         20,2,20040722,       0422,    29.9998,  -167.0962,       5485,  1070.2,   3.4981,  34.3786,2,  34.3768,2,  21.2000,2,    20.9,2,  128.26,2,   44.05,2,    0.00,2,    3.18,2,   0.009,2,   0.009,2,   0.001,2,  2362.9,2,  2368.9,2,-999.000,9,-999.0000,9, -999.00,9, -999.00,9,  -999.0,9,  -999.0,-999.000,9,-999.000, -999.00,9, 1070.20,-999.0000,9,-999.0000,9,-999.0000,9,-999.0000,9,-999.0000,9,-999.0000,-999.000,-999.0000,9, -999.00
318M20040615,        P02,     105,          1,         19,         19,2,20040722,       0422,    29.9998,  -167.0962,       5485,  1170.2,   3.3223,  34.4328,2,  34.4343,2,  27.7000,2,    28.2,2,  132.79,2,   43.65,2,    0.00,2,    3.15,2,   0.010,2,   0.008,2,   0.006,2,  2366.5,2,  2376.9,2,-999.000,9,-999.0000,9, -999.00,9, -999.00,9,  -999.0,9,  -999.0,-999.000,9,-999.000, -999.00,9, 1170.20,-999.0000,9,-999.0000,9,-999.0000,9,-999.0000,9,-999.0000,9,-999.0000,-999.000,-999.0000,9, -999.00
318M20040615,        P02,     105,          1,         18,         18,2,20040722,       0422,    29.9998,  -167.0962,       5485,  1271.0,   3.1219,  34.4728,2,  34.4717,2,  35.3000,2,    35.6,2,  137.09,2,   43.26,2,    0.00,2,    3.12,2,   0.010,2,   0.005,2,   0.001,2,  -999.0,9,  -999.0,9,-999.000,9,-999.0000,9, -999.00,9, -999.00,9,  -999.0,9,  -999.0,-999.000,9,-999.000, -999.00,9, 1271.00,-999.0000,9,-999.0000,9,-999.0000,9,-999.0000,9,-999.0000,9,-999.0000,-999.000,-999.0000,9, -999.00
318M20040615,        P02,     105,          1,         17,         17,2,20040722,       0422,    29.9998,  -167.0962,       5485,  1371.2,   2.9309,  34.5033,2,  34.5016,2,  42.0000,2,    42.0,2,  141.59,2,   43.03,2,    0.00,2,    3.09,2,   0.004,2,   0.001,2,   0.001,2,  -999.0,9,  -999.0,9,-999.000,9,-999.0000,9, -999.00,9, -999.00,9,  -999.0,9,  -999.0,-999.000,9,-999.000, -999.00,9, 1371.20,-999.0000,9,-999.0000,9,-999.0000,9,-999.0000,9,-999.0000,9,-999.0000,-999.000,-999.0000,9, -999.00
318M20040615,        P02,     105,          1,         16,         16,2,20040722,       0422,    29.9998,  -167.0962,       5485,  1471.1,   2.7568,  34.5250,2,  34.5255,2,  46.9000,2,    46.3,2,  146.10,2,   43.02,2,    0.00,2,    3.07,2,   0.006,2,   0.003,2,   0.001,2,  -999.0,9,  2397.4,2,-999.000,9,-999.0000,9, -999.00,9, -999.00,9,  -999.0,9,  -999.0,-999.000,9,-999.000, -999.00,9, 1471.10,-999.0000,9,-999.0000,9,-999.0000,9,-999.0000,9,-999.0000,9,-999.0000,-999.000,-999.0000,9, -999.00
318M20040615,        P02,     105,          1,         15,         15,2,20040722,       0422,    29.9998,  -167.0962,       5485,  1571.7,   2.5535,  34.5464,2,  34.5453,2,  52.2000,2,    51.3,2,  151.25,2,   42.90,2,    0.00,2,    3.04,2,   0.003,2,   0.000,2,   0.001,2,  -999.0,9,  -999.0,9,-999.000,9,-999.0000,9, -999.00,9, -999.00,9,  -999.0,9,  -999.0,-999.000,9,-999.000, -999.00,9, 1571.70,-999.0000,9,-999.0000,9,-999.0000,9,-999.0000,9,-999.0000,9,-999.0000,-999.000,-999.0000,9, -999.00
318M20040615,        P02,     105,          1,         14,         14,2,20040722,       0422,    29.9998,  -167.0962,       5485,  1773.0,   2.2434,  34.5777,2,  34.5784,2,  62.0000,2,    60.7,2,  159.81,2,   42.34,2,    0.00,2,    2.99,2,   0.004,2,   0.001,2,   0.001,2,  -999.0,9,  2409.8,2,-999.000,9,-999.0000,9, -999.00,9, -999.00,9,  -999.0,9,  -999.0,-999.000,9,-999.000, -999.00,9, 1773.00,-999.0000,9,-999.0000,9,-999.0000,9,-999.0000,9,-999.0000,9,-999.0000,-999.000,-999.0000,9, -999.00
318M20040615,        P02,     105,          1,         13,         13,2,20040722,       0422,    29.9998,  -167.0962,       5485,  2070.1,   1.9292,  34.6154,2,  34.6144,2,  80.9000,2,    79.9,2,  164.73,2,   41.07,2,    0.00,2,    2.91,2,   0.004,2,   0.001,2,   0.001,2,  -999.0,9,  -999.0,9,-999.000,9,-999.0000,9, -999.00,9, -999.00,9,  -999.0,9,  -999.0,-999.000,9,-999.000, -999.00,9, 2070.10,-999.0000,9,-999.0000,9,-999.0000,9,-999.0000,9,-999.0000,9,-999.0000,-999.000,-999.0000,9, -999.00
318M20040615,        P02,     105,          1,         12,         12,2,20040722,       0422,    29.9998,  -167.0962,       5485,  2422.4,   1.7192,  34.6407,2,  34.6403,2,  99.0000,2,    98.5,2,  167.96,2,   39.75,2,    0.00,2,    2.81,2,-999.000,9,-999.000,9,-999.000,9,  -999.0,9,  2423.8,6,-999.000,9,-999.0000,9, -999.00,9, -999.00,9,  -999.0,9,  -999.0,-999.000,9,-999.000, -999.00,9, 2422.40,-999.0000,9,-999.0000,9,-999.0000,9,-999.0000,9,-999.0000,9,-999.0000,-999.000,-999.0000,9, -999.00
318M20040615,        P02,     105,          1,         11,         11,9,20040722,       0422,    29.9998,  -167.0962,       5485,  2507.2,   1.6781,  34.6457,2,-999.0000,9, 102.7000,9,  -999.0,9, -999.00,9, -999.00,9, -999.00,9, -999.00,9,-999.000,9,-999.000,9,-999.000,9,  -999.0,9,  -999.0,9,-999.000,9,-999.0000,9, -999.00,9, -999.00,9,  -999.0,9,  -999.0,-999.000,9,-999.000, -999.00,9, 2507.20,-999.0000,9,-999.0000,9,-999.0000,9,-999.0000,9,-999.0000,9,-999.0000,-999.000,-999.0000,9, -999.00
318M20040615,        P02,     105,          1,         10,         10,2,20040722,       0422,    29.9998,  -167.0962,       5485,  2675.3,   1.6152,  34.6539,2,  34.6530,2, 110.6000,2,   111.6,2,  166.29,2,   38.82,2,    0.00,2,    2.74,2,   0.004,2,   0.000,2,   0.001,2,  -999.0,9,  -999.0,9,-999.000,9,-999.0000,9, -999.00,9, -999.00,9,  -999.0,9,  -999.0,-999.000,9,-999.000, -999.00,9, 2675.30,-999.0000,9,-999.0000,9,-999.0000,9,-999.0000,9,-999.0000,9,-999.0000,-999.000,-999.0000,9, -999.00
318M20040615,        P02,     105,          1,          9,          9,2,20040722,       0422,    29.9998,  -167.0962,       5485,  2923.0,   1.5437,  34.6639,2,  34.6622,2, 121.1000,2,   121.8,2,  164.19,2,   38.11,2,    0.00,2,    2.69,2,   0.002,2,   0.000,2,   0.001,2,  -999.0,9,  2424.2,2,-999.000,9,-999.0000,9, -999.00,9, -999.00,9,  -999.0,9,  -999.0,-999.000,9,-999.000, -999.00,9, 2923.00,-999.0000,9,-999.0000,9,-999.0000,9,-999.0000,9,-999.0000,9,-999.0000,-999.000,-999.0000,9, -999.00
318M20040615,        P02,     105,          1,          8,          8,2,20040722,       0422,    29.9998,  -167.0962,       5485,  3251.8,   1.4959,  34.6724,2,  34.6712,2, 130.7000,2,   132.6,2,  161.85,2,   37.40,2,    0.00,2,    2.63,2,-999.000,9,-999.000,9,-999.000,9,  -999.0,9,  2423.6,2,-999.000,9,-999.0000,9, -999.00,9, -999.00,9,  -999.0,9,  -999.0,-999.000,9,-999.000, -999.00,9, 3251.80,-999.0000,9,-999.0000,9,-999.0000,9,-999.0000,9,-999.0000,9,-999.0000,-999.000,-999.0000,9, -999.00
318M20040615,        P02,     105,          1,          7,          7,2,20040722,       0422,    29.9998,  -167.0962,       5485,  3601.4,   1.4632,  34.6795,2,  34.6781,2, 140.6000,2,   141.2,2,  158.88,2,   36.97,2,    0.00,2,    2.59,2,   0.003,2,   0.001,2,   0.001,2,  -999.0,9,  -999.0,9,-999.000,9,-999.0000,9, -999.00,9, -999.00,9,  -999.0,9,  -999.0,-999.000,9,-999.000, -999.00,9, 3601.40,-999.0000,9,-999.0000,9,-999.0000,9,-999.0000,9,-999.0000,9,-999.0000,-999.000,-999.0000,9, -999.00
318M20040615,        P02,     105,          1,          6,          6,2,20040722,       0422,    29.9998,  -167.0962,       5485,  3951.5,   1.4606,  34.6837,2,  34.6828,2, 146.7000,2,   147.3,2,  156.97,2,   36.75,2,    0.00,2,    2.55,2,-999.000,9,-999.000,9,-999.000,9,  -999.0,9,  2422.0,2,-999.000,9,-999.0000,9, -999.00,9, -999.00,9,  -999.0,9,  -999.0,-999.000,9,-999.000, -999.00,9, 3951.50,-999.0000,9,-999.0000,9,-999.0000,9,-999.0000,9,-999.0000,9,-999.0000,-999.000,-999.0000,9, -999.00
318M20040615,        P02,     105,          1,          5,          5,2,20040722,       0422,    29.9998,  -167.0962,       5485,  4301.6,   1.4706,  34.6866,2,  34.6857,2, 150.7000,2,   151.0,2,  156.14,2,   36.53,2,    0.00,2,    2.53,2,   0.002,2,   0.001,2,   0.001,2,  -999.0,9,  -999.0,9,-999.000,9,-999.0000,9, -999.00,9, -999.00,9,  -999.0,9,  -999.0,-999.000,9,-999.000, -999.00,9, 4301.60,-999.0000,9,-999.0000,9,-999.0000,9,-999.0000,9,-999.0000,9,-999.0000,-999.000,-999.0000,9, -999.00
318M20040615,        P02,     105,          1,          4,          4,2,20040722,       0422,    29.9998,  -167.0962,       5485,  4601.4,   1.4926,  34.6880,2,  34.6880,2, 153.1000,2,   153.3,2,  155.09,2,   36.20,2,    0.00,2,    2.52,2,-999.000,9,-999.000,9,-999.000,9,  -999.0,9,  2421.9,2,-999.000,9,-999.0000,9, -999.00,9, -999.00,9,  -999.0,9,  -999.0,-999.000,9,-999.000, -999.00,9, 4601.40,-999.0000,9,-999.0000,9,-999.0000,9,-999.0000,9,-999.0000,9,-999.0000,-999.000,-999.0000,9, -999.00
318M20040615,        P02,     105,          1,          3,          3,2,20040722,       0422,    29.9998,  -167.0962,       5485,  4948.8,   1.5172,  34.6897,2,  34.6894,2, 156.3000,2,   156.5,2,  151.25,2,   35.92,2,    0.00,2,    2.49,2,   0.001,2,  -0.002,2,   0.001,2,  -999.0,9,  2421.7,2,-999.000,9,-999.0000,9, -999.00,9, -999.00,9,  -999.0,9,  -999.0,-999.000,9,-999.000, -999.00,9, 4948.80,-999.0000,9,-999.0000,9,-999.0000,9,-999.0000,9,-999.0000,9,-999.0000,-999.000,-999.0000,9, -999.00
318M20040615,        P02,     105,          1,          2,          2,2,20040722,       0422,    29.9998,  -167.0962,       5485,  5306.7,   1.5441,  34.6911,2,  34.6911,2, 160.0000,2,   160.5,2,  147.83,2,   35.54,2,    0.00,2,    2.48,2,-999.000,9,-999.000,9,-999.000,9,  -999.0,9,  2417.2,2,-999.000,9,-999.0000,9, -999.00,9, -999.00,9,  -999.0,9,  -999.0,-999.000,9,-999.000, -999.00,9, 5306.70,-999.0000,9,-999.0000,9,-999.0000,9,-999.0000,9,-999.0000,9,-999.0000,-999.000,-999.0000,9, -999.00
318M20040615,        P02,     105,          1,          1,          1,2,20040722,       0422,    29.9998,  -167.0962,       5485,  5597.7,   1.5640,  34.6921,2,  34.6919,2, 163.6000,2,   164.3,2,  145.29,2,   35.22,2,    0.00,2,    2.47,2,   0.001,2,   0.002,2,   0.001,2,  -999.0,9,  2412.9,6,-999.000,9,-999.0000,9, -999.00,9, -999.00,9,  -999.0,9,  -999.0,-999.000,9,-999.000, -999.00,9, 5597.70,-999.0000,9,-999.0000,9,-999.0000,9,-999.0000,9,-999.0000,9,-999.0000,-999.000,-999.0000,9, -999.00