BOTTLE,20131027SIOCCHRJL
EXPOCODE,SECT_ID,STNNBR,CASTNO,SAMPNO,BTLNBR,BTLNBR_FLAG_W,DATE,TIME,LATITUDE,LONGITUDE,DEPTH,CTDPRS,CTDTMP,CTDSAL,CTDSAL_FLAG_W,SALNTY,SALNTY_FLAG_W,CTDOXY,CTDOXY_FLAG_W,OXYGEN,OXYGEN_FLAG_W,SILCAT,SILCAT_FLAG_W,NITRAT,NITRAT_FLAG_W,NITRIT,NITRIT_FLAG_W,PHSPHT,PHSPHT_FLAG_W,CFC-11,CFC-11_FLAG_W,CFC-12,CFC-12_FLAG_W,CFC113,CFC113_FLAG_W,TCARBN,TCARBN_FLAG_W,ALKALI,ALKALI_FLAG_W,TRITUM,TRITUM_FLAG_W,HELIUM,HELIUM_FLAG_W,DELHE3,DELHE3_FLAG_W,DELC13,DELC13_FLAG_W,DELC14,DELC14_FLAG_W,C14ERR,NEON,NEON_FLAG_W,NEONER,DOC,DOC_FLAG_W,CTDRAW,CDOM380,CDOM380_FLAG_W,CDOM325,CDOM325_FLAG_W,CDOMSL,CDOMSL_FLAG_W,CDOM340,CDOM340_FLAG_W,CDOMSN,CDOMSN_FLAG_W,HELIER,TRITER,CDOM412,CDOM412_FLAG_W,DELHER
,,,,,,,,,,,METERS,DBAR,ITS-90,PSS-78,,PSS-78,,UMOL/KG,,UMOL/KG,,UMOL/KG,,UMOL/KG,,UMOL/KG,,UMOL/KG,,PMOL/KG,,PMOL/KG,,PMOL/KG,,UMOL/KG,,UMOL/KG,,TU,,NMOL/KG,,PERCNT,,/MILLE,,/MILLE,,/MILLE,NMOL/KG,,NMOL/KG,UMOL/KG,,DBAR,1/M,,1/M,,1/NM,,1/M,,1/NM,,NMOL/KG,TU,1/M,,PERCNT
318M20040615,        P02,     116,          1,         36,         36,2,20040803,       0114,    29.9985,  -161.7772,       5707,    12.2,  25.4112,  35.3098,2,  35.3084,2, 211.8000,2,   211.6,2,    1.48,2,    0.11,2,    0.00,2,    0.03,2,   1.829,2,   1.100,2,   0.134,2,  2017.1,2,  2323.4,6,-999.000,9,-999.0000,9, -999.00,9, -999.00,9,  -999.0,9,  -999.0,-999.000,9,-999.000, -999.00,9,   12.20,-999.0000,9,-999.0000,9,-999.0000,9,-999.0000,9,-999.0000,9,-999.0000,-999.000,-999.0000,9, -999.00
318M20040615,        P02,     116,          1,         35,         35,2,20040803,       0114,    29.9985,  -161.7772,       5707,    36.0,  20.1801,  34.9535,2,  34.9646,2, 241.8000,2,   241.8,2,    2.24,2,    0.06,2,    0.00,2,    0.05,2,   2.389,2,   1.396,2,   0.170,2,  -999.0,9,  -999.0,9,-999.000,9,-999.0000,9, -999.00,9, -999.00,9,  -999.0,9,  -999.0,-999.000,9,-999.000, -999.00,9,   36.00,-999.0000,9,-999.0000,9,-999.0000,9,-999.0000,9,-999.0000,9,-999.0000,-999.000,-999.0000,9, -999.00
318M20040615,        P02,     116,          1,         34,         34,2,20040803,       0114,    29.9985,  -161.7772,       5707,    71.9,  17.5905,  34.7692,2,  34.7642,2, 243.6000,2,   245.3,2,    2.62,2,    0.06,2,    0.00,2,    0.07,2,   2.577,2,   1.476,2,   0.181,2,  2015.5,2,  2288.2,2,-999.000,9,-999.0000,9, -999.00,9, -999.00,9,  -999.0,9,  -999.0,-999.000,9,-999.000, -999.00,9,   71.90,-999.0000,9,-999.0000,9,-999.0000,9,-999.0000,9,-999.0000,9,-999.0000,-999.000,-999.0000,9, -999.00
318M20040615,        P02,     116,          1,         33,         33,2,20040803,       0114,    29.9985,  -161.7772,       5707,   121.1,  15.7575,  34.5979,2,  34.5954,2, 234.8000,2,   232.5,2,    3.38,2,    1.86,2,    0.12,2,    0.23,2,   2.763,2,   1.550,2,   0.174,2,  -999.0,9,  -999.0,9,-999.000,9,-999.0000,9, -999.00,9, -999.00,9,  -999.0,9,  -999.0,-999.000,9,-999.000, -999.00,9,  121.10,-999.0000,9,-999.0000,9,-999.0000,9,-999.0000,9,-999.0000,9,-999.0000,-999.000,-999.0000,9, -999.00
318M20040615,        P02,     116,          1,         32,         32,2,20040803,       0114,    29.9985,  -161.7772,       5707,   170.5,  14.5105,  34.4531,2,  34.4520,2, 227.5000,2,   229.9,2,    4.92,2,    4.39,2,    0.01,2,    0.38,2,   2.915,2,   1.624,2,   0.157,2,  -999.0,9,  -999.0,9,-999.000,9,-999.0000,9, -999.00,9, -999.00,9,  -999.0,9,  -999.0,-999.000,9,-999.000, -999.00,9,  170.50,-999.0000,9,-999.0000,9,-999.0000,9,-999.0000,9,-999.0000,9,-999.0000,-999.000,-999.0000,9, -999.00
318M20040615,        P02,     116,          1,         31,         31,2,20040803,       0114,    29.9985,  -161.7772,       5707,   220.9,  13.2266,  34.3475,2,  34.3475,2, 220.8000,2,   222.2,2,    7.98,2,    8.14,2,    0.01,2,    0.61,2,   3.003,2,   1.665,2,   0.099,2,  2058.4,2,  2263.9,2,-999.000,9,-999.0000,9, -999.00,9, -999.00,9,  -999.0,9,  -999.0,-999.000,9,-999.000, -999.00,9,  220.90,-999.0000,9,-999.0000,9,-999.0000,9,-999.0000,9,-999.0000,9,-999.0000,-999.000,-999.0000,9, -999.00
318M20040615,        P02,     116,          1,         30,         30,2,20040803,       0114,    29.9985,  -161.7772,       5707,   271.0,  12.3510,  34.2899,2,  34.2859,2, 222.4000,2,   223.3,2,   10.09,2,    9.96,2,    0.01,2,    0.73,2,   3.172,2,   1.733,2,   0.097,2,  -999.0,9,  -999.0,9,-999.000,9,-999.0000,9, -999.00,9, -999.00,9,  -999.0,9,  -999.0,-999.000,9,-999.000, -999.00,9,  271.00,-999.0000,9,-999.0000,9,-999.0000,9,-999.0000,9,-999.0000,9,-999.0000,-999.000,-999.0000,9, -999.00
318M20040615,        P02,     116,          1,         29,         29,2,20040803,       0114,    29.9985,  -161.7772,       5707,   320.5,  11.4485,  34.2415,2,  34.2351,2, 220.5000,2,   219.9,2,   12.96,2,   12.18,2,    0.01,2,    0.88,2,-999.000,9,-999.000,9,-999.000,9,  -999.0,9,  -999.0,9,-999.000,9,-999.0000,9, -999.00,9, -999.00,9,  -999.0,9,  -999.0,-999.000,9,-999.000, -999.00,9,  320.50,-999.0000,9,-999.0000,9,-999.0000,9,-999.0000,9,-999.0000,9,-999.0000,-999.000,-999.0000,9, -999.00
318M20040615,        P02,     116,          1,         28,         28,2,20040803,       0114,    29.9985,  -161.7772,       5707,   370.7,  10.7483,  34.2131,2,  34.2094,2, 214.9000,2,   214.7,2,   16.23,2,   14.05,2,    0.01,2,    1.01,2,   3.249,2,   1.753,2,   0.099,2,  2096.1,2,  2267.0,2,-999.000,9,-999.0000,9, -999.00,9, -999.00,9,  -999.0,9,  -999.0,-999.000,9,-999.000, -999.00,9,  370.70,-999.0000,9,-999.0000,9,-999.0000,9,-999.0000,9,-999.0000,9,-999.0000,-999.000,-999.0000,9, -999.00
318M20040615,        P02,     116,          1,         27,         27,2,20040803,       0114,    29.9985,  -161.7772,       5707,   425.5,   9.7153,  34.1548,2,  34.1519,2, 201.3000,2,   202.1,2,   22.19,2,   17.34,2,    0.01,2,    1.23,2,-999.000,9,-999.000,9,-999.000,9,  -999.0,9,  -999.0,9,-999.000,9,-999.0000,9, -999.00,9, -999.00,9,  -999.0,9,  -999.0,-999.000,9,-999.000, -999.00,9,  425.50,-999.0000,9,-999.0000,9,-999.0000,9,-999.0000,9,-999.0000,9,-999.0000,-999.000,-999.0000,9, -999.00
318M20040615,        P02,     116,          1,         26,         26,2,20040803,       0114,    29.9985,  -161.7772,       5707,   474.9,   8.7388,  34.1015,2,  34.0996,2, 183.4000,2,   184.6,2,   29.50,2,   20.89,2,    0.00,2,    1.48,2,   2.985,2,   1.537,2,   0.114,2,  -999.0,9,  -999.0,9,-999.000,9,-999.0000,9, -999.00,9, -999.00,9,  -999.0,9,  -999.0,-999.000,9,-999.000, -999.00,9,  474.90,-999.0000,9,-999.0000,9,-999.0000,9,-999.0000,9,-999.0000,9,-999.0000,-999.000,-999.0000,9, -999.00
318M20040615,        P02,     116,          1,         25,         25,2,20040803,       0114,    29.9985,  -161.7772,       5707,   544.0,   7.2949,  34.0396,2,  34.0383,2, 152.1000,2,   152.2,2,   44.18,2,   26.77,2,    0.00,2,    1.90,2,-999.000,9,-999.000,9,-999.000,9,  2186.2,2,  2279.8,2,-999.000,9,-999.0000,9, -999.00,9, -999.00,9,  -999.0,9,  -999.0,-999.000,9,-999.000, -999.00,9,  544.00,-999.0000,9,-999.0000,9,-999.0000,9,-999.0000,9,-999.0000,9,-999.0000,-999.000,-999.0000,9, -999.00
318M20040615,        P02,     116,          1,         24,         24,2,20040803,       0114,    29.9985,  -161.7772,       5707,   648.8,   5.5558,  34.0353,2,  34.0332,2,  98.1000,2,    96.9,2,   69.22,2,   34.86,2,    0.00,2,    2.49,2,   1.316,2,   0.645,2,   0.049,2,  2251.5,2,  2300.0,2,-999.000,9,-999.0000,9, -999.00,9, -999.00,9,  -999.0,9,  -999.0,-999.000,9,-999.000, -999.00,9,  648.80,-999.0000,9,-999.0000,9,-999.0000,9,-999.0000,9,-999.0000,9,-999.0000,-999.000,-999.0000,9, -999.00
318M20040615,        P02,     116,          1,         23,         23,2,20040803,       0114,    29.9985,  -161.7772,       5707,   753.0,   4.6824,  34.1173,2,  34.1159,2,  57.1000,2,    54.4,2,   90.12,2,   39.87,2,    0.00,2,    2.86,2,-999.000,9,-999.000,9,-999.000,9,  2300.6,2,  2320.9,2,-999.000,9,-999.0000,9, -999.00,9, -999.00,9,  -999.0,9,  -999.0,-999.000,9,-999.000, -999.00,9,  753.00,-999.0000,9,-999.0000,9,-999.0000,9,-999.0000,9,-999.0000,9,-999.0000,-999.000,-999.0000,9, -999.00
318M20040615,        P02,     116,          1,         22,         22,2,20040803,       0114,    29.9985,  -161.7772,       5707,   851.0,   4.0566,  34.1895,2,  34.1875,2,  31.3000,2,    31.6,2,  107.59,2,   42.52,2,    0.00,2,    3.04,2,   0.209,2,   0.102,2,   0.000,2,  2333.3,2,  2339.1,2,-999.000,9,-999.0000,9, -999.00,9, -999.00,9,  -999.0,9,  -999.0,-999.000,9,-999.000, -999.00,9,  851.00,-999.0000,9,-999.0000,9,-999.0000,9,-999.0000,9,-999.0000,9,-999.0000,-999.000,-999.0000,9, -999.00
318M20040615,        P02,     116,          1,         21,         21,2,20040803,       0114,    29.9985,  -161.7772,       5707,   943.4,   3.6908,  34.2746,2,  34.2742,2,  16.1000,2,    17.3,2,  120.80,2,   43.91,2,    0.00,2,    3.15,2,-999.000,9,-999.000,9,-999.000,9,  2356.3,2,  2355.6,2,-999.000,9,-999.0000,9, -999.00,9, -999.00,9,  -999.0,9,  -999.0,-999.000,9,-999.000, -999.00,9,  943.40,-999.0000,9,-999.0000,9,-999.0000,9,-999.0000,9,-999.0000,9,-999.0000,-999.000,-999.0000,9, -999.00
318M20040615,        P02,     116,          1,         20,         20,2,20040803,       0114,    29.9985,  -161.7772,       5707,  1052.0,   3.4370,  34.3422,2,  34.3423,2,  11.3000,2,    11.7,2,  130.31,2,   44.51,2,    0.00,2,    3.21,2,-999.000,1,-999.000,1,-999.000,1,  2370.0,6,  2368.0,2,-999.000,9,-999.0000,9, -999.00,9, -999.00,9,  -999.0,9,  -999.0,-999.000,9,-999.000, -999.00,9, 1052.00,-999.0000,9,-999.0000,9,-999.0000,9,-999.0000,9,-999.0000,9,-999.0000,-999.000,-999.0000,9, -999.00
318M20040615,        P02,     116,          1,         19,         19,2,20040803,       0114,    29.9985,  -161.7772,       5707,  1157.7,   3.2156,  34.4226,2,  34.4214,2,  17.2000,2,    17.0,2,  137.24,2,   44.39,2,    0.00,2,    3.20,2,-999.000,9,-999.000,9,-999.000,9,  -999.0,9,  -999.0,9,-999.000,9,-999.0000,9, -999.00,9, -999.00,9,  -999.0,9,  -999.0,-999.000,9,-999.000, -999.00,9, 1157.70,-999.0000,9,-999.0000,9,-999.0000,9,-999.0000,9,-999.0000,9,-999.0000,-999.000,-999.0000,9, -999.00
318M20040615,        P02,     116,          1,         18,         18,2,20040803,       0114,    29.9985,  -161.7772,       5707,  1259.3,   3.0431,  34.4713,2,  34.4795,2,  25.3000,3,    25.2,2,  141.40,2,   43.94,2,    0.00,2,    3.16,2,   0.008,6,   0.005,6,   0.000,6,  -999.0,9,  -999.0,9,-999.000,9,-999.0000,9, -999.00,9, -999.00,9,  -999.0,9,  -999.0,-999.000,9,-999.000, -999.00,9, 1259.30,-999.0000,9,-999.0000,9,-999.0000,9,-999.0000,9,-999.0000,9,-999.0000,-999.000,-999.0000,9, -999.00
318M20040615,        P02,     116,          1,         17,         17,2,20040803,       0114,    29.9985,  -161.7772,       5707,  1355.2,   2.8855,  34.5071,2,  34.5063,2,  37.4000,2,    35.9,2,  143.97,2,   43.50,2,    0.00,2,    3.12,2,-999.000,9,-999.000,9,-999.000,9,  -999.0,9,  -999.0,9,-999.000,9,-999.0000,9, -999.00,9, -999.00,9,  -999.0,9,  -999.0,-999.000,9,-999.000, -999.00,9, 1355.20,-999.0000,9,-999.0000,9,-999.0000,9,-999.0000,9,-999.0000,9,-999.0000,-999.000,-999.0000,9, -999.00
318M20040615,        P02,     116,          1,         16,         16,2,20040803,       0114,    29.9985,  -161.7772,       5707,  1453.3,   2.7499,  34.5275,2,  34.5271,2,  45.7000,2,    41.8,2,  147.14,2,   43.39,2,    0.00,2,    3.09,2,   0.004,2,   0.002,2,   0.000,2,  -999.0,9,  -999.0,9,-999.000,9,-999.0000,9, -999.00,9, -999.00,9,  -999.0,9,  -999.0,-999.000,9,-999.000, -999.00,9, 1453.30,-999.0000,9,-999.0000,9,-999.0000,9,-999.0000,9,-999.0000,9,-999.0000,-999.000,-999.0000,9, -999.00
318M20040615,        P02,     116,          1,         15,         15,2,20040803,       0114,    29.9985,  -161.7772,       5707,  1558.8,   2.5435,  34.5528,2,  34.5524,2,  52.9000,2,    51.1,2,  151.70,2,   43.01,2,    0.00,2,    3.04,2,-999.000,9,-999.000,9,-999.000,9,  -999.0,9,  -999.0,9,-999.000,9,-999.0000,9, -999.00,9, -999.00,9,  -999.0,9,  -999.0,-999.000,9,-999.000, -999.00,9, 1558.80,-999.0000,9,-999.0000,9,-999.0000,9,-999.0000,9,-999.0000,9,-999.0000,-999.000,-999.0000,9, -999.00
318M20040615,        P02,     116,          1,         14,         14,3,20040803,       0114,    29.9985,  -161.7772,       5707,  1766.8,   2.2489,  34.5858,2,  34.6067,2,  68.0000,3,    79.5,3,  159.86,3,   41.13,3,    0.00,2,    2.90,3,   0.003,2,   0.001,2,   0.000,2,  -999.0,9,  -999.0,9,-999.000,9,-999.0000,9, -999.00,9, -999.00,9,  -999.0,9,  -999.0,-999.000,9,-999.000, -999.00,9, 1766.80,-999.0000,9,-999.0000,9,-999.0000,9,-999.0000,9,-999.0000,9,-999.0000,-999.000,-999.0000,9, -999.00
318M20040615,        P02,     116,          1,         13,         13,2,20040803,       0114,    29.9985,  -161.7772,       5707,  1964.1,   2.0188,  34.6095,2,  34.6092,2,  80.3000,2,    79.1,2,  162.05,2,   41.06,2,    0.00,2,    2.89,2,-999.000,9,-999.000,9,-999.000,9,  -999.0,9,  -999.0,9,-999.000,9,-999.0000,9, -999.00,9, -999.00,9,  -999.0,9,  -999.0,-999.000,9,-999.000, -999.00,9, 1964.10,-999.0000,9,-999.0000,9,-999.0000,9,-999.0000,9,-999.0000,9,-999.0000,-999.000,-999.0000,9, -999.00
318M20040615,        P02,     116,          1,         12,         12,2,20040803,       0114,    29.9985,  -161.7772,       5707,  2132.3,   1.8749,  34.6247,2,  34.6240,2,  88.6000,2,    88.6,2,  164.23,2,   40.41,2,    0.00,2,    2.85,2,   0.000,2,  -0.001,2,   0.000,2,  -999.0,9,  -999.0,9,-999.000,9,-999.0000,9, -999.00,9, -999.00,9,  -999.0,9,  -999.0,-999.000,9,-999.000, -999.00,9, 2132.30,-999.0000,9,-999.0000,9,-999.0000,9,-999.0000,9,-999.0000,9,-999.0000,-999.000,-999.0000,9, -999.00
318M20040615,        P02,     116,          1,         11,         11,2,20040803,       0114,    29.9985,  -161.7772,       5707,  2385.2,   1.7427,  34.6395,2,  34.6389,2,  98.8000,2,    99.1,2,  165.44,2,   39.66,2,    0.00,2,    2.79,2,-999.000,9,-999.000,9,-999.000,9,  -999.0,9,  -999.0,9,-999.000,9,-999.0000,9, -999.00,9, -999.00,9,  -999.0,9,  -999.0,-999.000,9,-999.000, -999.00,9, 2385.20,-999.0000,9,-999.0000,9,-999.0000,9,-999.0000,9,-999.0000,9,-999.0000,-999.000,-999.0000,9, -999.00
318M20040615,        P02,     116,          1,         10,         10,2,20040803,       0114,    29.9985,  -161.7772,       5707,  2630.0,   1.6520,  34.6505,2,  34.6488,2, 108.2000,2,   109.1,2,  164.84,2,   38.97,2,    0.00,2,    2.74,2,   0.000,2,  -0.002,2,   0.000,2,  -999.0,9,  -999.0,9,-999.000,9,-999.0000,9, -999.00,9, -999.00,9,  -999.0,9,  -999.0,-999.000,9,-999.000, -999.00,9, 2630.00,-999.0000,9,-999.0000,9,-999.0000,9,-999.0000,9,-999.0000,9,-999.0000,-999.000,-999.0000,9, -999.00
318M20040615,        P02,     116,          1,          9,          9,2,20040803,       0114,    29.9985,  -161.7772,       5707,  2884.9,   1.5758,  34.6610,2,  34.6596,2, 118.1000,2,   118.6,2,  164.23,2,   38.33,2,    0.00,2,    2.69,2,-999.000,9,-999.000,9,-999.000,9,  -999.0,9,  -999.0,9,-999.000,9,-999.0000,9, -999.00,9, -999.00,9,  -999.0,9,  -999.0,-999.000,9,-999.000, -999.00,9, 2884.90,-999.0000,9,-999.0000,9,-999.0000,9,-999.0000,9,-999.0000,9,-999.0000,-999.000,-999.0000,9, -999.00
318M20040615,        P02,     116,          1,          8,          8,2,20040803,       0114,    29.9985,  -161.7772,       5707,  3135.6,   1.5337,  34.6684,2,  34.6667,2, 125.4000,2,   125.5,2,  163.81,2,   37.95,2,    0.00,2,    2.66,2,   0.002,2,   0.002,2,   0.000,2,  -999.0,9,  -999.0,9,-999.000,9,-999.0000,9, -999.00,9, -999.00,9,  -999.0,9,  -999.0,-999.000,9,-999.000, -999.00,9, 3135.60,-999.0000,9,-999.0000,9,-999.0000,9,-999.0000,9,-999.0000,9,-999.0000,-999.000,-999.0000,9, -999.00
318M20040615,        P02,     116,          1,          7,          7,2,20040803,       0114,    29.9985,  -161.7772,       5707,  3546.5,   1.4908,  34.6771,2,  34.6759,2, 136.1000,2,   136.5,2,  160.61,2,   37.42,2,    0.00,2,    2.60,2,-999.000,9,-999.000,9,-999.000,9,  -999.0,9,  -999.0,9,-999.000,9,-999.0000,9, -999.00,9, -999.00,9,  -999.0,9,  -999.0,-999.000,9,-999.000, -999.00,9, 3546.50,-999.0000,9,-999.0000,9,-999.0000,9,-999.0000,9,-999.0000,9,-999.0000,-999.000,-999.0000,9, -999.00
318M20040615,        P02,     116,          1,          6,          6,2,20040803,       0114,    29.9985,  -161.7772,       5707,  3969.1,   1.4751,  34.6826,2,  34.6818,2, 144.4000,2,   145.1,2,  157.00,2,   36.88,2,    0.00,2,    2.55,2,   0.001,6,  -0.001,6,   0.000,6,  -999.0,9,  -999.0,9,-999.000,9,-999.0000,9, -999.00,9, -999.00,9,  -999.0,9,  -999.0,-999.000,9,-999.000, -999.00,9, 3969.10,-999.0000,9,-999.0000,9,-999.0000,9,-999.0000,9,-999.0000,9,-999.0000,-999.000,-999.0000,9, -999.00
318M20040615,        P02,     116,          1,          5,          5,2,20040803,       0114,    29.9985,  -161.7772,       5707,  4386.2,   1.4846,  34.6864,2,  34.6854,2, 149.5000,2,   150.0,2,  155.59,2,   36.46,2,    0.00,2,    2.53,2,   0.001,2,   0.001,2,   0.000,2,  -999.0,9,  -999.0,9,-999.000,9,-999.0000,9, -999.00,9, -999.00,9,  -999.0,9,  -999.0,-999.000,9,-999.000, -999.00,9, 4386.20,-999.0000,9,-999.0000,9,-999.0000,9,-999.0000,9,-999.0000,9,-999.0000,-999.000,-999.0000,9, -999.00
318M20040615,        P02,     116,          1,          4,          4,2,20040803,       0114,    29.9985,  -161.7772,       5707,  4786.3,   1.5125,  34.6884,2,  34.6884,2, 152.9000,2,   153.2,2,  153.99,2,   36.19,2,    0.00,2,    2.50,2,   0.002,2,   0.000,2,   0.000,2,  -999.0,9,  -999.0,9,-999.000,9,-999.0000,9, -999.00,9, -999.00,9,  -999.0,9,  -999.0,-999.000,9,-999.000, -999.00,9, 4786.30,-999.0000,9,-999.0000,9,-999.0000,9,-999.0000,9,-999.0000,9,-999.0000,-999.000,-999.0000,9, -999.00
318M20040615,        P02,     116,          1,          3,          3,2,20040803,       0114,    29.9985,  -161.7772,       5707,  5249.9,   1.5503,  34.6904,2,  34.6966,2, 157.2000,3,   163.2,3,  149.61,2,   35.82,2,    0.01,2,    2.48,2,   0.003,2,   0.000,2,   0.000,2,  -999.0,9,  -999.0,9,-999.000,9,-999.0000,9, -999.00,9, -999.00,9,  -999.0,9,  -999.0,-999.000,9,-999.000, -999.00,9, 5249.90,-999.0000,9,-999.0000,9,-999.0000,9,-999.0000,9,-999.0000,9,-999.0000,-999.000,-999.0000,9, -999.00
318M20040615,        P02,     116,          1,          2,          2,2,20040803,       0114,    29.9985,  -161.7772,       5707,  5646.4,   1.5906,  34.6912,2,  34.6931,2, 160.4000,2,   159.6,2,  147.01,2,   35.54,2,    0.01,2,    2.47,2,   0.003,2,   0.002,2,   0.000,2,  -999.0,9,  -999.0,9,-999.000,9,-999.0000,9, -999.00,9, -999.00,9,  -999.0,9,  -999.0,-999.000,9,-999.000, -999.00,9, 5646.40,-999.0000,9,-999.0000,9,-999.0000,9,-999.0000,9,-999.0000,9,-999.0000,-999.000,-999.0000,9, -999.00
318M20040615,        P02,     116,          1,          1,          1,2,20040803,       0114,    29.9985,  -161.7772,       5707,  5849.8,   1.6147,  34.6912,2,  34.6910,2, 160.9000,2,   161.6,2,  146.41,2,   35.48,2,    0.01,2,    2.46,2,   0.009,2,   0.014,3,   0.000,2,  -999.0,9,  -999.0,9,-999.000,9,-999.0000,9, -999.00,9, -999.00,9,  -999.0,9,  -999.0,-999.000,9,-999.000, -999.00,9, 5849.80,-999.0000,9,-999.0000,9,-999.0000,9,-999.0000,9,-999.0000,9,-999.0000,-999.000,-999.0000,9, -999.00