BOTTLE,20131027SIOCCHRJL
EXPOCODE,SECT_ID,STNNBR,CASTNO,SAMPNO,BTLNBR,BTLNBR_FLAG_W,DATE,TIME,LATITUDE,LONGITUDE,DEPTH,CTDPRS,CTDTMP,CTDSAL,CTDSAL_FLAG_W,SALNTY,SALNTY_FLAG_W,CTDOXY,CTDOXY_FLAG_W,OXYGEN,OXYGEN_FLAG_W,SILCAT,SILCAT_FLAG_W,NITRAT,NITRAT_FLAG_W,NITRIT,NITRIT_FLAG_W,PHSPHT,PHSPHT_FLAG_W,CFC-11,CFC-11_FLAG_W,CFC-12,CFC-12_FLAG_W,CFC113,CFC113_FLAG_W,TCARBN,TCARBN_FLAG_W,ALKALI,ALKALI_FLAG_W,TRITUM,TRITUM_FLAG_W,HELIUM,HELIUM_FLAG_W,DELHE3,DELHE3_FLAG_W,DELC13,DELC13_FLAG_W,DELC14,DELC14_FLAG_W,C14ERR,NEON,NEON_FLAG_W,NEONER,DOC,DOC_FLAG_W,CTDRAW,CDOM380,CDOM380_FLAG_W,CDOM325,CDOM325_FLAG_W,CDOMSL,CDOMSL_FLAG_W,CDOM340,CDOM340_FLAG_W,CDOMSN,CDOMSN_FLAG_W,HELIER,TRITER,CDOM412,CDOM412_FLAG_W,DELHER
,,,,,,,,,,,METERS,DBAR,ITS-90,PSS-78,,PSS-78,,UMOL/KG,,UMOL/KG,,UMOL/KG,,UMOL/KG,,UMOL/KG,,UMOL/KG,,PMOL/KG,,PMOL/KG,,PMOL/KG,,UMOL/KG,,UMOL/KG,,TU,,NMOL/KG,,PERCNT,,/MILLE,,/MILLE,,/MILLE,NMOL/KG,,NMOL/KG,UMOL/KG,,DBAR,1/M,,1/M,,1/NM,,1/M,,1/NM,,NMOL/KG,TU,1/M,,PERCNT
318M20040615,        P02,      94,          1,         36,         36,2,20040718,       1349,     30.002,  -174.2917,       5256,     6.9,  25.2779,  34.8249,2,  34.8257,2, 211.1000,2,   211.1,2,    2.05,2,    0.12,2,    0.00,2,    0.04,2,   1.843,2,   1.159,2,   0.136,2,  2000.5,6,  2286.5,6,-999.000,9,-999.0000,9, -999.00,9, -999.00,9,  -999.0,9,  -999.0,-999.000,9,-999.000,   66.90,2,    6.90,-999.0000,9,-999.0000,9,-999.0000,9,-999.0000,9,-999.0000,9,-999.0000,-999.000,-999.0000,9, -999.00
318M20040615,        P02,      94,          1,         35,         35,2,20040718,       1349,     30.002,  -174.2917,       5256,    50.6,  18.3798,  34.7798,2,  34.7816,2, 249.6000,2,   250.5,2,    2.27,2,    0.12,2,    0.00,2,    0.06,2,   2.501,2,   1.502,2,   0.175,2,  2002.3,2,  2283.4,2,-999.000,9,-999.0000,9, -999.00,9, -999.00,9,  -999.0,9,  -999.0,-999.000,9,-999.000,   64.90,2,   50.60,-999.0000,9,-999.0000,9,-999.0000,9,-999.0000,9,-999.0000,9,-999.0000,-999.000,-999.0000,9, -999.00
318M20040615,        P02,      94,          1,         34,         34,2,20040718,       1349,     30.002,  -174.2917,       5256,   100.5,  16.1733,  34.6893,2,  34.6910,2, 230.5000,2,   230.4,2,    3.71,2,    3.29,2,    0.05,2,    0.26,2,   2.632,2,   1.549,2,   0.175,2,  2029.8,2,  2278.1,6,-999.000,9,-999.0000,9, -999.00,9, -999.00,9,  -999.0,9,  -999.0,-999.000,9,-999.000,   61.20,2,  100.50,-999.0000,9,-999.0000,9,-999.0000,9,-999.0000,9,-999.0000,9,-999.0000,-999.000,-999.0000,9, -999.00
318M20040615,        P02,      94,          1,         33,         33,2,20040718,       1349,     30.002,  -174.2917,       5256,   155.1,  15.6058,  34.6345,2,  34.6342,2, 228.6000,2,   231.1,2,    4.96,2,    4.34,2,    0.01,2,    0.33,2,   2.674,2,   1.593,2,   0.163,2,  2032.6,2,  2276.3,2,-999.000,9,-999.0000,9, -999.00,9, -999.00,9,  -999.0,9,  -999.0,-999.000,9,-999.000,   57.30,2,  155.10,-999.0000,9,-999.0000,9,-999.0000,9,-999.0000,9,-999.0000,9,-999.0000,-999.000,-999.0000,9, -999.00
318M20040615,        P02,      94,          1,         32,         32,2,20040718,       1349,     30.002,  -174.2917,       5256,   205.1,  14.8131,  34.5712,2,  34.5737,2, 221.8000,2,   221.3,2,    6.79,2,    6.61,2,    0.01,2,    0.48,2,   2.707,2,   1.568,2,   0.110,2,  2048.0,2,  2273.4,2,-999.000,9,-999.0000,9, -999.00,9, -999.00,9,  -999.0,9,  -999.0,-999.000,9,-999.000,   56.30,2,  205.10,-999.0000,9,-999.0000,9,-999.0000,9,-999.0000,9,-999.0000,9,-999.0000,-999.000,-999.0000,9, -999.00
318M20040615,        P02,      94,          1,         31,         31,2,20040718,       1349,     30.002,  -174.2917,       5256,   254.7,  13.8437,  34.4987,2,  34.4998,2, 219.0000,2,   219.5,2,    9.08,2,    8.48,2,    0.01,2,    0.61,2,   2.808,2,   1.616,2,   0.102,2,  2059.4,2,  2270.9,2,-999.000,9,-999.0000,9, -999.00,9, -999.00,9,  -999.0,9,  -999.0,-999.000,9,-999.000,   54.80,2,  254.70,-999.0000,9,-999.0000,9,-999.0000,9,-999.0000,9,-999.0000,9,-999.0000,-999.000,-999.0000,9, -999.00
318M20040615,        P02,      94,          1,         30,         30,2,20040718,       1349,     30.002,  -174.2917,       5256,   304.8,  12.7297,  34.4142,2,  34.4167,2, 218.3000,2,   219.7,2,   11.75,2,   10.38,2,    0.00,2,    0.73,2,   2.925,2,   1.661,2,   0.094,2,  2073.7,2,  2269.9,2,-999.000,9,-999.0000,9, -999.00,9, -999.00,9,  -999.0,9,  -999.0,-999.000,9,-999.000,   52.40,2,  304.80,-999.0000,9,-999.0000,9,-999.0000,9,-999.0000,9,-999.0000,9,-999.0000,-999.000,-999.0000,9, -999.00
318M20040615,        P02,      94,          1,         29,         29,2,20040718,       1349,     30.002,  -174.2917,       5256,   354.7,  12.1028,  34.3611,2,  34.3614,2, 218.2000,2,   219.3,2,   13.43,2,   11.45,2,    0.00,2,    0.81,2,   2.984,2,   1.671,2,   0.100,2,  2081.3,2,  2268.0,2,-999.000,9,-999.0000,9, -999.00,9, -999.00,9,  -999.0,9,  -999.0,-999.000,9,-999.000,   50.80,2,  354.70,-999.0000,9,-999.0000,9,-999.0000,9,-999.0000,9,-999.0000,9,-999.0000,-999.000,-999.0000,9, -999.00
318M20040615,        P02,      94,          1,         28,         28,2,20040718,       1349,     30.002,  -174.2917,       5256,   404.6,  10.9913,  34.2734,2,  34.2747,2, 215.8000,2,   216.8,2,   17.17,2,   13.66,2,    0.00,2,    0.98,2,   3.016,2,   1.687,2,   0.109,2,  2096.3,2,  2267.7,2,-999.000,9,-999.0000,9, -999.00,9, -999.00,9,  -999.0,9,  -999.0,-999.000,9,-999.000,   49.80,2,  404.60,-999.0000,9,-999.0000,9,-999.0000,9,-999.0000,9,-999.0000,9,-999.0000,-999.000,-999.0000,9, -999.00
318M20040615,        P02,      94,          1,         27,         27,2,20040718,       1349,     30.002,  -174.2917,       5256,   454.5,  10.0223,  34.1949,2,  34.1932,2, 211.6000,2,   211.5,2,   21.35,2,   15.88,2,    0.00,2,    1.14,2,   3.051,2,   1.659,2,   0.124,2,  2112.5,2,  2268.4,2,-999.000,9,-999.0000,9, -999.00,9, -999.00,9,  -999.0,9,  -999.0,-999.000,9,-999.000,   49.00,2,  454.50,-999.0000,9,-999.0000,9,-999.0000,9,-999.0000,9,-999.0000,9,-999.0000,-999.000,-999.0000,9, -999.00
318M20040615,        P02,      94,          1,         26,         26,2,20040718,       1349,     30.002,  -174.2917,       5256,   504.6,   8.6315,  34.0945,2,  34.0944,2, 198.1000,2,   194.9,2,   30.14,2,   19.79,2,    0.00,2,    1.43,2,   2.941,2,   1.562,2,   0.130,2,  2139.4,2,  2272.6,2,-999.000,9,-999.0000,9, -999.00,9, -999.00,9,  -999.0,9,  -999.0,-999.000,9,-999.000,   48.20,2,  504.60,-999.0000,9,-999.0000,9,-999.0000,9,-999.0000,9,-999.0000,9,-999.0000,-999.000,-999.0000,9, -999.00
318M20040615,        P02,      94,          1,         25,         25,2,20040718,       1349,     30.002,  -174.2917,       5256,   609.0,   6.4363,  34.0041,2,  34.0064,2, 158.8000,2,   145.5,2,   53.86,2,   28.59,2,    0.00,2,    2.07,2,   2.318,6,   1.195,6,   0.111,6,  2207.2,2,  2285.9,2,-999.000,9,-999.0000,9, -999.00,9, -999.00,9,  -999.0,9,  -999.0,-999.000,9,-999.000,   47.40,2,  609.00,-999.0000,9,-999.0000,9,-999.0000,9,-999.0000,9,-999.0000,9,-999.0000,-999.000,-999.0000,9, -999.00
318M20040615,        P02,      94,          1,         24,         24,2,20040718,       1349,     30.002,  -174.2917,       5256,   709.4,   5.2389,  34.0457,2,  34.0460,2, 105.2000,2,    98.9,2,   74.87,2,   34.81,2,    0.00,2,    2.51,2,   1.509,2,   0.759,2,   0.060,2,  2261.0,2,  2303.1,2,-999.000,9,-999.0000,9, -999.00,9, -999.00,9,  -999.0,9,  -999.0,-999.000,9,-999.000,   46.60,2,  709.40,-999.0000,9,-999.0000,9,-999.0000,9,-999.0000,9,-999.0000,9,-999.0000,-999.000,-999.0000,9, -999.00
318M20040615,        P02,      94,          1,         23,         23,2,20040718,       1349,     30.002,  -174.2917,       5256,   809.3,   4.4128,  34.1361,2,  34.1361,2,  66.7000,2,    60.1,2,   96.25,2,   39.46,2,    0.00,2,    2.84,2,   0.749,2,   0.367,2,   0.025,2,  2306.7,2,  2323.5,2,-999.000,9,-999.0000,9, -999.00,9, -999.00,9,  -999.0,9,  -999.0,-999.000,9,-999.000,   45.30,2,  809.30,-999.0000,9,-999.0000,9,-999.0000,9,-999.0000,9,-999.0000,9,-999.0000,-999.000,-999.0000,9, -999.00
318M20040615,        P02,      94,          1,         22,         22,2,20040718,       1349,     30.002,  -174.2917,       5256,   909.2,   3.8914,  34.2317,2,  34.2320,2,  42.8000,2,    35.9,2,  112.96,2,   42.09,2,    0.00,2,    3.02,2,   0.301,2,   0.147,2,   0.008,2,  2338.8,2,  2343.6,2,-999.000,9,-999.0000,9, -999.00,9, -999.00,9,  -999.0,9,  -999.0,-999.000,9,-999.000,   43.20,2,  909.20,-999.0000,9,-999.0000,9,-999.0000,9,-999.0000,9,-999.0000,9,-999.0000,-999.000,-999.0000,9, -999.00
318M20040615,        P02,      94,          1,         21,         21,2,20040718,       1349,     30.002,  -174.2917,       5256,  1014.4,   3.5681,  34.3174,2,  34.3173,2,  25.4000,2,    25.9,2,  124.50,2,   43.26,2,    0.00,2,    3.10,2,   0.109,2,   0.056,2,   0.003,2,  2357.8,2,  2359.7,2,-999.000,9,-999.0000,9, -999.00,9, -999.00,9,  -999.0,9,  -999.0,-999.000,9,-999.000,   40.90,2, 1014.40,-999.0000,9,-999.0000,9,-999.0000,9,-999.0000,9,-999.0000,9,-999.0000,-999.000,-999.0000,9, -999.00
318M20040615,        P02,      94,          1,         20,         20,2,20040718,       1349,     30.002,  -174.2917,       5256,  1113.8,   3.2948,  34.3831,2,  34.3823,2,  24.5000,2,    25.0,2,  132.54,2,   43.53,2,    0.00,2,    3.13,2,   0.047,2,   0.025,2,   0.001,2,  2368.0,6,  2371.8,2,-999.000,9,-999.0000,9, -999.00,9, -999.00,9,  -999.0,9,  -999.0,-999.000,9,-999.000,   40.20,2, 1113.80,-999.0000,9,-999.0000,9,-999.0000,9,-999.0000,9,-999.0000,9,-999.0000,-999.000,-999.0000,9, -999.00
318M20040615,        P02,      94,          1,         19,         19,2,20040718,       1349,     30.002,  -174.2917,       5256,  1217.5,   3.1083,  34.4335,2,  34.4333,2,  29.1000,2,    29.6,2,  137.78,2,   43.38,2,    0.00,2,    3.11,2,   0.023,2,   0.009,2,   0.003,2,  2371.9,2,  2380.3,2,-999.000,9,-999.0000,9, -999.00,9, -999.00,9,  -999.0,9,  -999.0,-999.000,9,-999.000,   39.00,2, 1217.50,-999.0000,9,-999.0000,9,-999.0000,9,-999.0000,9,-999.0000,9,-999.0000,-999.000,-999.0000,9, -999.00
318M20040615,        P02,      94,          1,         18,         18,2,20040718,       1349,     30.002,  -174.2917,       5256,  1320.5,   2.8982,  34.4749,2,  34.4763,2,  35.0000,2,    35.2,2,  143.29,2,   43.18,2,    0.00,2,    3.09,2,   0.014,2,   0.007,2,   0.004,2,  2375.1,2,  2388.3,6,-999.000,9,-999.0000,9, -999.00,9, -999.00,9,  -999.0,9,  -999.0,-999.000,9,-999.000,   37.70,2, 1320.50,-999.0000,9,-999.0000,9,-999.0000,9,-999.0000,9,-999.0000,9,-999.0000,-999.000,-999.0000,9, -999.00
318M20040615,        P02,      94,          1,         17,         17,2,20040718,       1349,     30.002,  -174.2917,       5256,  1418.5,   2.6944,  34.5034,2,  34.5041,2,  39.2000,2,    38.6,2,  148.50,2,   42.96,2,    0.00,2,    3.08,2,   0.009,2,   0.006,2,   0.001,2,  2378.4,2,  2395.3,2,-999.000,9,-999.0000,9, -999.00,9, -999.00,9,  -999.0,9,  -999.0,-999.000,9,-999.000,   37.20,2, 1418.50,-999.0000,9,-999.0000,9,-999.0000,9,-999.0000,9,-999.0000,9,-999.0000,-999.000,-999.0000,9, -999.00
318M20040615,        P02,      94,          1,         16,         16,2,20040718,       1349,     30.002,  -174.2917,       5256,  1517.5,   2.5351,  34.5255,2,  34.5265,2,  43.8000,2,    43.0,2,  152.68,2,   42.85,2,    0.00,2,    3.06,2,   0.005,2,   0.002,2,   0.001,2,  2381.5,2,  2400.4,2,-999.000,9,-999.0000,9, -999.00,9, -999.00,9,  -999.0,9,  -999.0,-999.000,9,-999.000,   37.10,2, 1517.50,-999.0000,9,-999.0000,9,-999.0000,9,-999.0000,9,-999.0000,9,-999.0000,-999.000,-999.0000,9, -999.00
318M20040615,        P02,      94,          1,         15,         15,2,20040718,       1349,     30.002,  -174.2917,       5256,  1623.0,   2.3521,  34.5505,2,  34.5512,2,  50.9000,2,    50.4,2,  156.99,2,   42.73,2,    0.00,2,    3.03,2,   0.007,2,   0.004,2,   0.001,2,  2381.6,2,  2405.7,2,-999.000,9,-999.0000,9, -999.00,9, -999.00,9,  -999.0,9,  -999.0,-999.000,9,-999.000,   37.60,2, 1623.00,-999.0000,9,-999.0000,9,-999.0000,9,-999.0000,9,-999.0000,9,-999.0000,-999.000,-999.0000,9, -999.00
318M20040615,        P02,      94,          1,         14,         14,2,20040718,       1349,     30.002,  -174.2917,       5256,  1723.5,   2.2196,  34.5692,2,  34.5691,2,  58.0000,2,    57.8,2,  159.65,2,   42.58,2,    0.00,2,    2.99,2,   0.006,2,   0.001,2,   0.001,2,  2380.7,2,  2408.7,2,-999.000,9,-999.0000,9, -999.00,9, -999.00,9,  -999.0,9,  -999.0,-999.000,9,-999.000,   37.80,2, 1723.50,-999.0000,9,-999.0000,9,-999.0000,9,-999.0000,9,-999.0000,9,-999.0000,-999.000,-999.0000,9, -999.00
318M20040615,        P02,      94,          1,         13,         13,2,20040718,       1349,     30.002,  -174.2917,       5256,  1822.9,   2.1109,  34.5871,2,  34.5922,2,  67.9000,3,    68.8,2,  159.44,2,   41.86,2,    0.00,2,    2.94,2,   0.006,2,   0.002,2,   0.001,2,  2374.3,2,  2411.2,2,-999.000,9,-999.0000,9, -999.00,9, -999.00,9,  -999.0,9,  -999.0,-999.000,9,-999.000,   38.30,2, 1822.90,-999.0000,9,-999.0000,9,-999.0000,9,-999.0000,9,-999.0000,9,-999.0000,-999.000,-999.0000,9, -999.00
318M20040615,        P02,      94,          1,         12,         12,2,20040718,       1349,     30.002,  -174.2917,       5256,  1923.6,   2.0166,  34.5989,2,  34.5980,2,  76.1000,2,    75.0,2,  161.00,2,   41.42,2,    0.00,2,    2.90,2,   0.002,2,   0.002,2,   0.001,2,  2372.6,2,  2413.2,2,-999.000,9,-999.0000,9, -999.00,9, -999.00,9,  -999.0,9,  -999.0,-999.000,9,-999.000,   37.80,2, 1923.60,-999.0000,9,-999.0000,9,-999.0000,9,-999.0000,9,-999.0000,9,-999.0000,-999.000,-999.0000,9, -999.00
318M20040615,        P02,      94,          1,         11,         11,2,20040718,       1349,     30.002,  -174.2917,       5256,  2028.5,   1.9483,  34.6093,2,  34.6088,2,  82.6000,2,    82.8,2,  160.85,2,   40.83,2,    0.00,2,    2.86,2,   0.003,2,   0.001,2,   0.001,2,  2368.6,2,  2414.0,6,-999.000,9,-999.0000,9, -999.00,9, -999.00,9,  -999.0,9,  -999.0,-999.000,9,-999.000,   37.70,2, 2028.50,-999.0000,9,-999.0000,9,-999.0000,9,-999.0000,9,-999.0000,9,-999.0000,-999.000,-999.0000,9, -999.00
318M20040615,        P02,      94,          1,         10,         10,2,20040718,       1349,     30.002,  -174.2917,       5256,  2278.5,   1.7779,  34.6308,2,  34.6294,2,  96.4000,2,    98.1,2,  161.54,2,   39.79,2,    0.00,2,    2.80,2,-999.000,9,-999.000,9,-999.000,9,  2361.7,2,  2417.1,2,-999.000,9,-999.0000,9, -999.00,9, -999.00,9,  -999.0,9,  -999.0,-999.000,9,-999.000,   37.90,2, 2278.50,-999.0000,9,-999.0000,9,-999.0000,9,-999.0000,9,-999.0000,9,-999.0000,-999.000,-999.0000,9, -999.00
318M20040615,        P02,      94,          1,          9,          9,2,20040718,       1349,     30.002,  -174.2917,       5256,  2542.0,   1.6763,  34.6438,2,  34.6431,2, 107.9000,2,   108.5,2,  161.16,2,   39.03,2,    0.00,2,    2.74,2,   0.003,2,   0.002,2,   0.001,2,  2356.1,2,  2418.5,2,-999.000,9,-999.0000,9, -999.00,9, -999.00,9,  -999.0,9,  -999.0,-999.000,9,-999.000,   37.30,2, 2542.00,-999.0000,9,-999.0000,9,-999.0000,9,-999.0000,9,-999.0000,9,-999.0000,-999.000,-999.0000,9, -999.00
318M20040615,        P02,      94,          1,          8,          8,2,20040718,       1349,     30.002,  -174.2917,       5256,  2790.7,   1.6015,  34.6552,2,  34.6541,2, 117.7000,2,   118.9,2,  160.11,2,   38.27,2,    0.00,2,    2.69,2,-999.000,9,-999.000,9,-999.000,9,  2351.0,2,  2419.2,2,-999.000,9,-999.0000,9, -999.00,9, -999.00,9,  -999.0,9,  -999.0,-999.000,9,-999.000,   37.40,2, 2790.70,-999.0000,9,-999.0000,9,-999.0000,9,-999.0000,9,-999.0000,9,-999.0000,-999.000,-999.0000,9, -999.00
318M20040615,        P02,      94,          1,          7,          7,2,20040718,       1349,     30.002,  -174.2917,       5256,  3039.9,   1.5391,  34.6642,2,  34.6641,2, 126.1000,2,   127.1,2,  159.27,2,   37.67,2,    0.00,2,    2.64,2,   0.003,2,   0.000,2,   0.001,2,  2345.2,2,  2420.4,2,-999.000,9,-999.0000,9, -999.00,9, -999.00,9,  -999.0,9,  -999.0,-999.000,9,-999.000,   38.00,2, 3039.90,-999.0000,9,-999.0000,9,-999.0000,9,-999.0000,9,-999.0000,9,-999.0000,-999.000,-999.0000,9, -999.00
318M20040615,        P02,      94,          1,          6,          6,2,20040718,       1349,     30.002,  -174.2917,       5256,  3458.4,   1.4839,  34.6747,2,  34.6749,2, 137.8000,2,   138.0,2,  157.16,2,   36.93,2,    0.00,2,    2.59,2,-999.000,9,-999.000,9,-999.000,9,  2338.2,2,  2420.4,2,-999.000,9,-999.0000,9, -999.00,9, -999.00,9,  -999.0,9,  -999.0,-999.000,9,-999.000,   37.70,2, 3458.40,-999.0000,9,-999.0000,9,-999.0000,9,-999.0000,9,-999.0000,9,-999.0000,-999.000,-999.0000,9, -999.00
318M20040615,        P02,      94,          1,          5,          5,2,20040718,       1349,     30.002,  -174.2917,       5256,  3863.7,   1.4620,  34.6815,2,  34.6817,2, 145.6000,2,   146.1,2,  155.66,2,   36.60,2,    0.00,2,    2.55,2,   0.004,2,   0.002,2,   0.001,2,  2332.7,2,  2419.3,2,-999.000,9,-999.0000,9, -999.00,9, -999.00,9,  -999.0,9,  -999.0,-999.000,9,-999.000,   37.30,2, 3863.70,-999.0000,9,-999.0000,9,-999.0000,9,-999.0000,9,-999.0000,9,-999.0000,-999.000,-999.0000,9, -999.00
318M20040615,        P02,      94,          1,          4,          4,2,20040718,       1349,     30.002,  -174.2917,       5256,  4270.9,   1.4724,  34.6854,2,  34.6849,2, 150.2000,2,   150.6,2,  155.06,2,   36.50,2,    0.00,2,    2.52,2,-999.000,9,-999.000,9,-999.000,9,  2330.1,2,  2419.6,2,-999.000,9,-999.0000,9, -999.00,9, -999.00,9,  -999.0,9,  -999.0,-999.000,9,-999.000,   37.80,2, 4270.90,-999.0000,9,-999.0000,9,-999.0000,9,-999.0000,9,-999.0000,9,-999.0000,-999.000,-999.0000,9, -999.00
318M20040615,        P02,      94,          1,          3,          3,2,20040718,       1349,     30.002,  -174.2917,       5256,  4679.2,   1.4984,  34.6876,2,  34.6874,2, 153.7000,2,   153.7,2,  154.00,2,   36.23,2,    0.00,2,    2.50,2,   0.001,2,   0.003,2,   0.001,2,  2327.3,2,  2418.8,2,-999.000,9,-999.0000,9, -999.00,9, -999.00,9,  -999.0,9,  -999.0,-999.000,9,-999.000,   37.80,2, 4679.20,-999.0000,9,-999.0000,9,-999.0000,9,-999.0000,9,-999.0000,9,-999.0000,-999.000,-999.0000,9, -999.00
318M20040615,        P02,      94,          1,          2,          2,2,20040718,       1349,     30.002,  -174.2917,       5256,  5090.1,   1.5196,  34.6900,2,  34.6897,2, 159.4000,2,   159.8,2,  148.19,2,   35.70,2,    0.00,2,    2.47,2,-999.000,9,-999.000,9,-999.000,9,  2321.5,2,  2416.2,2,-999.000,9,-999.0000,9, -999.00,9, -999.00,9,  -999.0,9,  -999.0,-999.000,9,-999.000,   37.20,2, 5090.10,-999.0000,9,-999.0000,9,-999.0000,9,-999.0000,9,-999.0000,9,-999.0000,-999.000,-999.0000,9, -999.00
318M20040615,        P02,      94,          1,          1,          1,2,20040718,       1349,     30.002,  -174.2917,       5256,  5351.4,   1.5215,  34.6924,2,  34.6930,2, 165.2000,2,   165.7,2,  142.79,2,   35.17,2,    0.00,2,    2.44,2,   0.005,2,   0.007,2,   0.001,2,  2315.1,6,  2410.8,6,-999.000,9,-999.0000,9, -999.00,9, -999.00,9,  -999.0,9,  -999.0,-999.000,9,-999.000,   37.50,2, 5351.40,-999.0000,9,-999.0000,9,-999.0000,9,-999.0000,9,-999.0000,9,-999.0000,-999.000,-999.0000,9, -999.00