BOTTLE,20131027SIOCCHRJL
EXPOCODE,SECT_ID,STNNBR,CASTNO,SAMPNO,BTLNBR,BTLNBR_FLAG_W,DATE,TIME,LATITUDE,LONGITUDE,DEPTH,CTDPRS,CTDTMP,CTDSAL,CTDSAL_FLAG_W,SALNTY,SALNTY_FLAG_W,CTDOXY,CTDOXY_FLAG_W,OXYGEN,OXYGEN_FLAG_W,SILCAT,SILCAT_FLAG_W,NITRAT,NITRAT_FLAG_W,NITRIT,NITRIT_FLAG_W,PHSPHT,PHSPHT_FLAG_W,CFC-11,CFC-11_FLAG_W,CFC-12,CFC-12_FLAG_W,CFC113,CFC113_FLAG_W,TCARBN,TCARBN_FLAG_W,ALKALI,ALKALI_FLAG_W,TRITUM,TRITUM_FLAG_W,HELIUM,HELIUM_FLAG_W,DELHE3,DELHE3_FLAG_W,DELC13,DELC13_FLAG_W,DELC14,DELC14_FLAG_W,C14ERR,NEON,NEON_FLAG_W,NEONER,DOC,DOC_FLAG_W,CTDRAW,CDOM380,CDOM380_FLAG_W,CDOM325,CDOM325_FLAG_W,CDOMSL,CDOMSL_FLAG_W,CDOM340,CDOM340_FLAG_W,CDOMSN,CDOMSN_FLAG_W,HELIER,TRITER,CDOM412,CDOM412_FLAG_W,DELHER
,,,,,,,,,,,METERS,DBAR,ITS-90,PSS-78,,PSS-78,,UMOL/KG,,UMOL/KG,,UMOL/KG,,UMOL/KG,,UMOL/KG,,UMOL/KG,,PMOL/KG,,PMOL/KG,,PMOL/KG,,UMOL/KG,,UMOL/KG,,TU,,NMOL/KG,,PERCNT,,/MILLE,,/MILLE,,/MILLE,NMOL/KG,,NMOL/KG,UMOL/KG,,DBAR,1/M,,1/M,,1/NM,,1/M,,1/NM,,NMOL/KG,TU,1/M,,PERCNT
318M20040615,        P02,      12,          2,         30,         30,2,20040619,       0625,    30.9692,   134.0963,       4416,    14.3,  25.9959,  34.6985,2,  34.6975,2, 207.5000,2,   206.6,2,    1.00,2,    0.07,2,    0.00,2,    0.04,2,   1.765,6,   1.105,6,   0.119,6,  1951.2,6,  2278.9,6,-999.000,9,-999.0000,9, -999.00,9, -999.00,9,  -999.0,9,  -999.0,-999.000,9,-999.000,   67.50,2,   14.30,   0.0110,2,   0.0500,2,   0.0310,2,   0.0310,2,   0.0320,2,-999.0000,-999.000,   0.0060,2, -999.00
318M20040615,        P02,      12,          2,         29,         29,2,20040619,       0625,    30.9692,   134.0963,       4416,    39.5,  24.6533,  34.5718,2,  34.5743,2, 212.6000,2,   212.4,2,    1.17,2,    0.07,2,    0.00,2,    0.05,2,   1.877,2,   1.190,2,   0.113,2,  1951.2,2,  2268.7,2,-999.000,9,-999.0000,9, -999.00,9, -999.00,9,  -999.0,9,  -999.0,-999.000,9,-999.000,   67.30,2,   39.50,   0.0000,4,   0.0470,2,   0.0440,2,   0.0240,2,   0.0430,2,-999.0000,-999.000,  -0.0040,4, -999.00
318M20040615,        P02,      12,          2,         28,         28,2,20040619,       0625,    30.9692,   134.0963,       4416,    84.7,  22.1408,  34.9396,2,  34.9328,2, 214.3000,2,   213.8,2,    1.16,2,    0.11,2,    0.01,2,    0.05,2,   2.083,2,   1.247,2,   0.105,2,  1984.1,2,  2296.5,2,-999.000,9,-999.0000,9, -999.00,9, -999.00,9,  -999.0,9,  -999.0,-999.000,9,-999.000,   64.00,2,   84.70,   0.0160,2,   0.0860,2,   0.0310,2,   0.0530,2,   0.0320,2,-999.0000,-999.000,   0.0080,2, -999.00
318M20040615,        P02,      12,          2,         27,         27,2,20040619,       0625,    30.9692,   134.0963,       4416,   134.8,  20.4093,  34.8774,2,  34.8775,2, 202.9000,2,   203.9,2,    2.06,2,    1.87,2,    0.02,2,    0.18,2,   2.200,2,   1.303,2,   0.089,2,  2002.2,2,  2290.5,2,-999.000,9,-999.0000,9, -999.00,9, -999.00,9,  -999.0,9,  -999.0,-999.000,9,-999.000,   59.20,2,  134.80,   0.0200,2,   0.0870,2,   0.0270,2,   0.0570,2,   0.0270,2,-999.0000,-999.000,   0.0110,2, -999.00
318M20040615,        P02,      12,          2,         26,         26,2,20040619,       0625,    30.9692,   134.0963,       4416,   190.7,  19.3624,  34.8333,2,  34.8366,2, 197.1000,2,   196.1,2,    3.33,2,    3.54,2,    0.01,2,    0.29,2,   2.284,2,   1.322,2,   0.054,2,  2018.7,2,  2288.0,2,-999.000,9,-999.0000,9, -999.00,9, -999.00,9,  -999.0,9,  -999.0,-999.000,9,-999.000,   56.00,2,  190.70,-999.0000,9,-999.0000,9,-999.0000,9,-999.0000,9,-999.0000,9,-999.0000,-999.000,-999.0000,9, -999.00
318M20040615,        P02,      12,          2,         25,         25,2,20040619,       0625,    30.9692,   134.0963,       4416,   241.7,  18.2935,  34.8130,2,  34.8122,2, 201.6000,2,   201.7,2,    3.14,2,    3.75,2,    0.01,2,    0.29,2,   2.412,2,   1.365,2,   0.044,2,  2022.3,2,  2286.8,2,-999.000,9,-999.0000,9, -999.00,9, -999.00,9,  -999.0,9,  -999.0,-999.000,9,-999.000,   53.20,2,  241.70,-999.0000,9,-999.0000,9,-999.0000,9,-999.0000,9,-999.0000,9,-999.0000,-999.000,-999.0000,9, -999.00
318M20040615,        P02,      12,          2,         24,         24,2,20040619,       0625,    30.9692,   134.0963,       4416,   278.1,  17.5919,  34.7657,2,  34.7644,2, 197.4000,2,   199.6,2,    3.86,2,    4.92,2,    0.00,2,    0.38,2,   2.463,2,   1.380,2,   0.026,2,  2030.6,2,  2283.4,2,-999.000,9,-999.0000,9, -999.00,9, -999.00,9,  -999.0,9,  -999.0,-999.000,9,-999.000,   51.70,2,  278.10,   0.0160,2,   0.0730,2,   0.0290,2,   0.0470,2,   0.0300,2,-999.0000,-999.000,   0.0090,2, -999.00
318M20040615,        P02,      12,          2,         23,         23,2,20040619,       0625,    30.9692,   134.0963,       4416,   366.6,  15.5039,  34.6262,2,  34.6272,2, 182.1000,2,   183.5,2,   10.22,2,    9.46,2,    0.01,2,    0.71,2,   2.488,2,   1.326,2,   0.021,2,  2067.0,2,  2280.6,2,-999.000,9,-999.0000,9, -999.00,9, -999.00,9,  -999.0,9,  -999.0,-999.000,9,-999.000,   50.30,2,  366.60,   0.0240,2,   0.0900,2,   0.0250,2,   0.0600,2,   0.0250,2,-999.0000,-999.000,   0.0160,2, -999.00
318M20040615,        P02,      12,          2,         22,         22,2,20040619,       0625,    30.9692,   134.0963,       4416,   468.0,  12.3008,  34.4092,2,  34.4080,2, 176.4000,2,   177.4,2,   19.32,2,   15.11,2,    0.00,2,    1.11,2,   2.555,2,   1.310,2,   0.032,2,  2106.7,2,  2278.8,2,-999.000,9,-999.0000,9, -999.00,9, -999.00,9,  -999.0,9,  -999.0,-999.000,9,-999.000,   48.80,2,  468.00,   0.0430,2,   0.1240,2,   0.0170,2,   0.0880,2,   0.0190,2,-999.0000,-999.000,   0.0290,2, -999.00
318M20040615,        P02,      12,          2,         21,         21,2,20040619,       0625,    30.9692,   134.0963,       4416,   568.3,   9.0642,  34.2179,2,  34.2206,2, 151.5000,2,   150.5,2,   38.69,2,   23.07,2,    0.00,2,    1.68,2,   2.115,2,   1.092,2,   0.042,2,  2166.8,2,  2284.5,2,-999.000,9,-999.0000,9, -999.00,9, -999.00,9,  -999.0,9,  -999.0,-999.000,9,-999.000,   47.10,2,  568.30,   0.0260,2,   0.1090,2,   0.0270,2,   0.0680,2,   0.0290,2,-999.0000,-999.000,   0.0180,2, -999.00
318M20040615,        P02,      12,          2,         20,         20,2,20040619,       0625,    30.9692,   134.0963,       4416,   676.7,   7.0834,  34.1787,2,  34.1806,2, 114.1000,2,   116.9,2,   59.61,2,   29.67,2,    0.00,2,    2.17,2,   1.461,2,   0.733,2,   0.030,2,  2221.5,2,  2299.6,2,-999.000,9,-999.0000,9, -999.00,9, -999.00,9,  -999.0,9,  -999.0,-999.000,9,-999.000,   44.60,2,  676.70,   0.0440,2,   0.1420,2,   0.0170,2,   0.0950,2,   0.0200,2,-999.0000,-999.000,   0.0330,2, -999.00
318M20040615,        P02,      12,          2,         19,         19,2,20040619,       0625,    30.9692,   134.0963,       4416,   779.0,   5.3079,  34.2270,2,  34.2233,2,  81.2000,2,    79.8,2,   86.18,2,   35.95,2,    0.00,2,    2.64,2,   0.735,2,   0.366,2,   0.018,2,  2279.8,2,  2325.9,2,-999.000,9,-999.0000,9, -999.00,9, -999.00,9,  -999.0,9,  -999.0,-999.000,9,-999.000,   42.20,2,  779.00,   0.0730,2,   0.1910,2,   0.0130,2,   0.1360,2,   0.0150,2,-999.0000,-999.000,   0.0560,2, -999.00
318M20040615,        P02,      12,          2,         18,         18,2,20040619,       0625,    30.9692,   134.0963,       4416,   872.9,   4.6923,  34.3272,2,  34.3259,2,  72.1000,2,    72.0,2,  101.36,2,   37.49,2,    0.00,2,    2.74,2,   0.432,2,   0.217,2,   0.010,2,  2301.4,2,  2347.1,2,-999.000,9,-999.0000,9, -999.00,9, -999.00,9,  -999.0,9,  -999.0,-999.000,9,-999.000,   41.70,2,  872.90,-999.0000,9,-999.0000,9,-999.0000,9,-999.0000,9,-999.0000,9,-999.0000,-999.000,-999.0000,9, -999.00
318M20040615,        P02,      12,          2,         17,         17,2,20040619,       0625,    30.9692,   134.0963,       4416,   970.7,   4.1962,  34.3666,2,  34.3682,2,  67.6000,2,    67.8,2,  110.83,2,   38.57,2,    0.00,2,    2.81,2,   0.301,2,   0.145,2,   0.007,2,  2318.2,2,  2358.0,2,-999.000,9,-999.0000,9, -999.00,9, -999.00,9,  -999.0,9,  -999.0,-999.000,9,-999.000,   41.10,2,  970.70,   0.0580,2,   0.1810,2,   0.0150,2,   0.1190,2,   0.0190,2,-999.0000,-999.000,   0.0420,2, -999.00
318M20040615,        P02,      12,          2,         16,         16,2,20040619,       0625,    30.9692,   134.0963,       4416,  1070.0,   3.7989,  34.4008,2,  34.3998,2,  66.2000,2,    66.3,2,  118.63,2,   39.27,2,    0.00,2,    2.85,2,   0.205,2,   0.105,2,   0.009,2,  2329.5,2,  2357.6,3,-999.000,9,-999.0000,9, -999.00,9, -999.00,9,  -999.0,9,  -999.0,-999.000,9,-999.000,   40.00,2, 1070.00,-999.0000,9,-999.0000,9,-999.0000,9,-999.0000,9,-999.0000,9,-999.0000,-999.000,-999.0000,9, -999.00
318M20040615,        P02,      12,          2,         15,         15,2,20040619,       0625,    30.9692,   134.0963,       4416,  1168.7,   3.3694,  34.4416,2,  34.4389,2,  67.0000,2,    67.2,2,  126.82,2,   39.81,2,    0.00,2,    2.88,2,   0.130,2,   0.059,2,   0.004,2,  2337.9,2,  2383.9,2,-999.000,9,-999.0000,9, -999.00,9, -999.00,9,  -999.0,9,  -999.0,-999.000,9,-999.000,   39.20,2, 1168.70,-999.0000,9,-999.0000,9,-999.0000,9,-999.0000,9,-999.0000,9,-999.0000,-999.000,-999.0000,9, -999.00
318M20040615,        P02,      12,          2,         14,         14,2,20040619,       0625,    30.9692,   134.0963,       4416,  1274.0,   3.1460,  34.4654,2,  34.4644,2,  69.1000,2,    69.5,2,  131.29,2,   39.97,2,    0.00,2,    2.88,2,   0.100,2,   0.044,2,   0.000,2,  2341.1,2,  2382.6,2,-999.000,9,-999.0000,9, -999.00,9, -999.00,9,  -999.0,9,  -999.0,-999.000,9,-999.000,   38.70,2, 1274.00,-999.0000,9,-999.0000,9,-999.0000,9,-999.0000,9,-999.0000,9,-999.0000,-999.000,-999.0000,9, -999.00
318M20040615,        P02,      12,          2,         13,         13,2,20040619,       0625,    30.9692,   134.0963,       4416,  1369.7,   2.9658,  34.4829,2,  34.4818,2,  71.5000,2,    71.8,2,  134.64,2,   39.97,2,    0.00,2,    2.88,2,   0.076,2,   0.038,2,  -0.004,2,  2345.3,2,  2385.9,2,-999.000,9,-999.0000,9, -999.00,9, -999.00,9,  -999.0,9,  -999.0,-999.000,9,-999.000,   37.60,2, 1369.70,-999.0000,9,-999.0000,9,-999.0000,9,-999.0000,9,-999.0000,9,-999.0000,-999.000,-999.0000,9, -999.00
318M20040615,        P02,      12,          2,         12,         12,2,20040619,       0625,    30.9692,   134.0963,       4416,  1468.2,   2.7822,  34.5031,2,  34.5023,2,  74.8000,2,    75.3,2,  137.99,2,   39.92,2,    0.00,2,    2.87,2,   0.058,2,   0.027,2,   0.002,2,  2348.0,2,  2390.8,2,-999.000,9,-999.0000,9, -999.00,9, -999.00,9,  -999.0,9,  -999.0,-999.000,9,-999.000,   37.80,2, 1468.20,-999.0000,9,-999.0000,9,-999.0000,9,-999.0000,9,-999.0000,9,-999.0000,-999.000,-999.0000,9, -999.00
318M20040615,        P02,      12,          2,         11,         11,2,20040619,       0625,    30.9692,   134.0963,       4416,  1577.7,   2.6129,  34.5255,2,  34.5268,2,  80.9000,2,    81.4,2,  140.04,2,   39.76,2,    0.00,2,    2.85,2,   0.035,2,   0.018,2,  -0.001,2,  2348.6,2,  2394.1,2,-999.000,9,-999.0000,9, -999.00,9, -999.00,9,  -999.0,9,  -999.0,-999.000,9,-999.000,   38.00,2, 1577.70,-999.0000,9,-999.0000,9,-999.0000,9,-999.0000,9,-999.0000,9,-999.0000,-999.000,-999.0000,9, -999.00
318M20040615,        P02,      12,          2,         10,         10,2,20040619,       0625,    30.9692,   134.0963,       4416,  1736.5,   2.4457,  34.5478,2,  34.5459,2,  87.8000,2,    87.4,2,  141.89,2,   39.45,2,    0.00,2,    2.83,2,   0.025,2,   0.014,2,   0.002,2,  2345.8,2,  2398.9,2,-999.000,9,-999.0000,9, -999.00,9, -999.00,9,  -999.0,9,  -999.0,-999.000,9,-999.000,   37.70,2, 1736.50,-999.0000,9,-999.0000,9,-999.0000,9,-999.0000,9,-999.0000,9,-999.0000,-999.000,-999.0000,9, -999.00
318M20040615,        P02,      12,          2,          9,          9,2,20040619,       0625,    30.9692,   134.0963,       4416,  1939.4,   2.2192,  34.5769,2,  34.5749,2,  97.7000,2,    98.0,2,  144.12,2,   38.97,2,    0.00,2,    2.79,2,   0.023,2,   0.010,2,   0.002,2,  2345.0,2,  2402.8,2,-999.000,9,-999.0000,9, -999.00,9, -999.00,9,  -999.0,9,  -999.0,-999.000,9,-999.000,   38.10,2, 1939.40,-999.0000,9,-999.0000,9,-999.0000,9,-999.0000,9,-999.0000,9,-999.0000,-999.000,-999.0000,9, -999.00
318M20040615,        P02,      12,          2,          8,          8,2,20040619,       0625,    30.9692,   134.0963,       4416,  2202.4,   2.0064,  34.6071,2,  34.6044,2, 110.8000,2,   110.6,2,  145.04,2,   38.28,2,    0.00,2,    2.73,2,   0.013,2,   0.008,2,   0.003,2,  2342.9,2,  2407.5,2,-999.000,9,-999.0000,9, -999.00,9, -999.00,9,  -999.0,9,  -999.0,-999.000,9,-999.000,   37.90,2, 2202.40,   0.1410,2,   0.3060,2,   0.0100,2,   0.2270,2,   0.0110,2,-999.0000,-999.000,   0.1100,2, -999.00
318M20040615,        P02,      12,          2,          7,          7,2,20040619,       0625,    30.9692,   134.0963,       4416,  2419.0,   1.8752,  34.6272,2,  34.6274,2, 119.3000,2,   120.9,2,  144.84,2,   37.70,2,    0.00,2,    2.68,2,   0.009,2,   0.004,2,   0.000,2,  2338.6,2,  2410.6,2,-999.000,9,-999.0000,9, -999.00,9, -999.00,9,  -999.0,9,  -999.0,-999.000,9,-999.000,   37.60,2, 2419.00,-999.0000,9,-999.0000,9,-999.0000,9,-999.0000,9,-999.0000,9,-999.0000,-999.000,-999.0000,9, -999.00
318M20040615,        P02,      12,          2,          6,          6,2,20040619,       0625,    30.9692,   134.0963,       4416,  2669.9,   1.7440,  34.6454,2,  34.6427,2, 129.0000,2,   130.2,2,  144.45,2,   37.17,2,    0.00,2,    2.64,2,   0.009,2,   0.006,2,  -0.001,2,  2334.0,2,  2413.2,6,-999.000,9,-999.0000,9, -999.00,9, -999.00,9,  -999.0,9,  -999.0,-999.000,9,-999.000,   38.00,2, 2669.90,-999.0000,9,-999.0000,9,-999.0000,9,-999.0000,9,-999.0000,9,-999.0000,-999.000,-999.0000,9, -999.00
318M20040615,        P02,      12,          2,          5,          5,2,20040619,       0625,    30.9692,   134.0963,       4416,  2895.4,   1.6521,  34.6573,2,  34.6574,2, 136.9000,2,   137.3,2,  144.44,2,   36.75,2,    0.00,2,    2.60,2,   0.009,2,   0.004,2,   0.001,2,  2331.0,2,  2413.0,6,-999.000,9,-999.0000,9, -999.00,9, -999.00,9,  -999.0,9,  -999.0,-999.000,9,-999.000,   37.80,2, 2895.40,-999.0000,9,-999.0000,9,-999.0000,9,-999.0000,9,-999.0000,9,-999.0000,-999.000,-999.0000,9, -999.00
318M20040615,        P02,      12,          2,          4,          4,2,20040619,       0625,    30.9692,   134.0963,       4416,  3242.2,   1.5579,  34.6713,2,  34.6694,2, 145.9000,2,   146.2,2,  143.49,2,   36.27,2,    0.00,2,    2.55,2,   0.010,2,   0.004,2,   0.000,2,  2326.3,2,  2413.1,2,-999.000,9,-999.0000,9, -999.00,9, -999.00,9,  -999.0,9,  -999.0,-999.000,9,-999.000,   37.60,2, 3242.20,   0.0860,2,   0.2110,2,   0.0120,2,   0.1500,2,   0.0140,2,-999.0000,-999.000,   0.0640,2, -999.00
318M20040615,        P02,      12,          2,          3,          3,2,20040619,       0625,    30.9692,   134.0963,       4416,  3626.4,   1.5282,  34.6788,2,  34.6806,2, 150.6000,2,   151.4,2,  142.91,2,   35.91,2,    0.00,2,    2.54,2,   0.018,2,   0.005,2,   0.003,2,  2323.8,2,  2413.9,6,-999.000,9,-999.0000,9, -999.00,9, -999.00,9,  -999.0,9,  -999.0,-999.000,9,-999.000,   37.80,2, 3626.40,-999.0000,9,-999.0000,9,-999.0000,9,-999.0000,9,-999.0000,9,-999.0000,-999.000,-999.0000,9, -999.00
318M20040615,        P02,      12,          2,          2,          2,2,20040619,       0625,    30.9692,   134.0963,       4416,  4019.1,   1.5476,  34.6812,2,  34.6802,2, 152.7000,2,   153.5,2,  142.52,2,   35.80,2,    0.00,2,    2.52,2,   0.011,2,   0.004,2,   0.003,2,  2321.8,2,  2415.7,2,-999.000,9,-999.0000,9, -999.00,9, -999.00,9,  -999.0,9,  -999.0,-999.000,9,-999.000,   37.40,2, 4019.10,   0.1150,3,   0.2530,2,   0.0120,3,   0.1950,3,   0.0130,3,-999.0000,-999.000,   0.0830,3, -999.00
318M20040615,        P02,      12,          2,          1,          1,2,20040619,       0625,    30.9692,   134.0963,       4416,  4491.6,   1.5870,  34.6827,2,  34.6832,2, 153.9000,2,   154.6,2,  142.32,2,   35.75,2,    0.00,2,    2.52,2,   0.018,2,   0.006,2,  -0.001,2,  2321.4,6,  2414.9,6,-999.000,9,-999.0000,9, -999.00,9, -999.00,9,  -999.0,9,  -999.0,-999.000,9,-999.000,   38.00,2, 4491.60,-999.0000,9,-999.0000,9,-999.0000,9,-999.0000,9,-999.0000,9,-999.0000,-999.000,-999.0000,9, -999.00