BOTTLE,20131027SIOCCHRJL
EXPOCODE,SECT_ID,STNNBR,CASTNO,SAMPNO,BTLNBR,BTLNBR_FLAG_W,DATE,TIME,LATITUDE,LONGITUDE,DEPTH,CTDPRS,CTDTMP,CTDSAL,CTDSAL_FLAG_W,SALNTY,SALNTY_FLAG_W,CTDOXY,CTDOXY_FLAG_W,OXYGEN,OXYGEN_FLAG_W,SILCAT,SILCAT_FLAG_W,NITRAT,NITRAT_FLAG_W,NITRIT,NITRIT_FLAG_W,PHSPHT,PHSPHT_FLAG_W,CFC-11,CFC-11_FLAG_W,CFC-12,CFC-12_FLAG_W,CFC113,CFC113_FLAG_W,TCARBN,TCARBN_FLAG_W,ALKALI,ALKALI_FLAG_W,TRITUM,TRITUM_FLAG_W,HELIUM,HELIUM_FLAG_W,DELHE3,DELHE3_FLAG_W,DELC13,DELC13_FLAG_W,DELC14,DELC14_FLAG_W,C14ERR,NEON,NEON_FLAG_W,NEONER,DOC,DOC_FLAG_W,CTDRAW,CDOM380,CDOM380_FLAG_W,CDOM325,CDOM325_FLAG_W,CDOMSL,CDOMSL_FLAG_W,CDOM340,CDOM340_FLAG_W,CDOMSN,CDOMSN_FLAG_W,HELIER,TRITER,CDOM412,CDOM412_FLAG_W,DELHER
,,,,,,,,,,,METERS,DBAR,ITS-90,PSS-78,,PSS-78,,UMOL/KG,,UMOL/KG,,UMOL/KG,,UMOL/KG,,UMOL/KG,,UMOL/KG,,PMOL/KG,,PMOL/KG,,PMOL/KG,,UMOL/KG,,UMOL/KG,,TU,,NMOL/KG,,PERCNT,,/MILLE,,/MILLE,,/MILLE,NMOL/KG,,NMOL/KG,UMOL/KG,,DBAR,1/M,,1/M,,1/NM,,1/M,,1/NM,,NMOL/KG,TU,1/M,,PERCNT
318M20040615,        P02,     167,          1,         36,         36,2,20040822,       0225,    29.9937,  -126.6503,       4271,     8.2,  21.0591,  33.3798,2,  33.3836,2, 227.8000,2,   227.9,2,    1.44,2,    0.15,2,    0.00,2,    0.30,2,   2.251,2,   1.395,2,   0.160,2,  1995.6,6,  2236.2,6,-999.000,9,-999.0000,9, -999.00,9, -999.00,9,  -999.0,9,  -999.0,-999.000,9,-999.000,   66.10,2,    8.20,-999.0000,9,-999.0000,9,-999.0000,9,-999.0000,9,-999.0000,9,-999.0000,-999.000,-999.0000,9, -999.00
318M20040615,        P02,     167,          1,         35,         35,2,20040822,       0225,    29.9937,  -126.6503,       4271,    35.3,  20.1990,  33.4120,2,  33.4129,2, 235.0000,2,   234.8,2,    1.42,2,    0.15,2,    0.00,2,    0.29,2,-999.000,9,-999.000,9,-999.000,9,  1998.0,2,  2238.7,2,-999.000,9,-999.0000,9, -999.00,9, -999.00,9,  -999.0,9,  -999.0,-999.000,9,-999.000,   64.60,2,   35.30,-999.0000,9,-999.0000,9,-999.0000,9,-999.0000,9,-999.0000,9,-999.0000,-999.000,-999.0000,9, -999.00
318M20040615,        P02,     167,          1,         34,         34,2,20040822,       0225,    29.9937,  -126.6503,       4271,    70.3,  18.3501,  33.3780,2,  33.3695,2, 249.5000,2,   248.5,2,    1.40,2,    0.15,2,    0.00,2,    0.29,2,   2.619,2,   1.603,2,   0.180,2,  1995.6,2,  2234.1,2,-999.000,9,-999.0000,9, -999.00,9, -999.00,9,  -999.0,9,  -999.0,-999.000,9,-999.000,   64.90,2,   70.30,-999.0000,9,-999.0000,9,-999.0000,9,-999.0000,9,-999.0000,9,-999.0000,-999.000,-999.0000,9, -999.00
318M20040615,        P02,     167,          1,         33,         33,2,20040822,       0225,    29.9937,  -126.6503,       4271,   129.4,  12.3162,  33.1347,2,  33.1333,2, 223.1000,2,   224.4,2,    6.04,2,    6.97,2,    0.05,2,    0.80,2,   3.397,2,   1.955,2,   0.195,2,  2043.4,2,  2211.7,2,-999.000,9,-999.0000,9, -999.00,9, -999.00,9,  -999.0,9,  -999.0,-999.000,9,-999.000,   51.20,2,  129.40,-999.0000,9,-999.0000,9,-999.0000,9,-999.0000,9,-999.0000,9,-999.0000,-999.000,-999.0000,9, -999.00
318M20040615,        P02,     167,          1,         32,         32,2,20040822,       0225,    29.9937,  -126.6503,       4271,   174.5,  10.0596,  33.6019,2,  33.6251,2, 145.5000,2,   135.6,2,   20.84,2,   22.18,2,    0.01,2,    1.78,2,-999.000,9,-999.000,9,-999.000,9,  2156.9,2,  2235.8,2,-999.000,9,-999.0000,9, -999.00,9, -999.00,9,  -999.0,9,  -999.0,-999.000,9,-999.000,   46.50,2,  174.50,-999.0000,9,-999.0000,9,-999.0000,9,-999.0000,9,-999.0000,9,-999.0000,-999.000,-999.0000,9, -999.00
318M20040615,        P02,     167,          1,         31,         31,2,20040822,       0225,    29.9937,  -126.6503,       4271,   224.3,   9.6499,  33.9713,2,  33.9870,2,  85.5000,2,    85.8,2,   29.76,2,   27.17,2,    0.01,2,    2.15,2,-999.000,9,-999.000,9,-999.000,9,  2204.6,2,  2257.5,2,-999.000,9,-999.0000,9, -999.00,9, -999.00,9,  -999.0,9,  -999.0,-999.000,9,-999.000,   46.90,2,  224.30,-999.0000,9,-999.0000,9,-999.0000,9,-999.0000,9,-999.0000,9,-999.0000,-999.000,-999.0000,9, -999.00
318M20040615,        P02,     167,          1,         30,         30,2,20040822,       0225,    29.9937,  -126.6503,       4271,   274.1,   9.2774,  34.1105,2,  34.1126,2,  70.0000,2,    70.7,2,   34.63,2,   29.14,2,    0.01,2,    2.30,2,   2.203,2,   1.163,2,   0.075,2,  2223.2,2,  2268.6,2,-999.000,9,-999.0000,9, -999.00,9, -999.00,9,  -999.0,9,  -999.0,-999.000,9,-999.000,   46.40,2,  274.10,-999.0000,9,-999.0000,9,-999.0000,9,-999.0000,9,-999.0000,9,-999.0000,-999.000,-999.0000,9, -999.00
318M20040615,        P02,     167,          1,         29,         29,2,20040822,       0225,    29.9937,  -126.6503,       4271,   324.3,   8.8931,  34.1811,2,  34.1816,2,  60.2000,2,    59.8,2,   39.10,2,   30.47,2,    0.01,2,    2.43,2,   1.817,2,   0.953,2,   0.059,2,  2237.9,2,  2276.8,2,-999.000,9,-999.0000,9, -999.00,9, -999.00,9,  -999.0,9,  -999.0,-999.000,9,-999.000,   49.80,2,  324.30,-999.0000,9,-999.0000,9,-999.0000,9,-999.0000,9,-999.0000,9,-999.0000,-999.000,-999.0000,9, -999.00
318M20040615,        P02,     167,          1,         28,         28,2,20040822,       0225,    29.9937,  -126.6503,       4271,   373.9,   8.3710,  34.2172,2,  34.2163,2,  50.3000,2,    50.7,2,   44.60,2,   31.97,2,    0.01,2,    2.55,2,-999.000,9,-999.000,9,-999.000,9,  2251.4,2,  2283.9,2,-999.000,9,-999.0000,9, -999.00,9, -999.00,9,  -999.0,9,  -999.0,-999.000,9,-999.000,   44.00,2,  373.90,-999.0000,9,-999.0000,9,-999.0000,9,-999.0000,9,-999.0000,9,-999.0000,-999.000,-999.0000,9, -999.00
318M20040615,        P02,     167,          1,         27,         27,2,20040822,       0225,    29.9937,  -126.6503,       4271,   423.4,   7.8738,  34.2273,2,  34.2264,2,  43.7000,2,    43.2,2,   50.10,2,   33.47,2,    0.01,2,    2.67,2,   1.114,2,   0.580,2,   0.038,2,  2261.2,2,  2291.2,2,-999.000,9,-999.0000,9, -999.00,9, -999.00,9,  -999.0,9,  -999.0,-999.000,9,-999.000,   42.70,2,  423.40,-999.0000,9,-999.0000,9,-999.0000,9,-999.0000,9,-999.0000,9,-999.0000,-999.000,-999.0000,9, -999.00
318M20040615,        P02,     167,          1,         26,         26,2,20040822,       0225,    29.9937,  -126.6503,       4271,   472.3,   7.3691,  34.2233,2,  34.2229,2,  37.7000,2,    37.1,2,   55.81,2,   34.93,2,    0.01,2,    2.76,2,-999.000,9,-999.000,9,-999.000,9,  2273.9,2,  2294.8,2,-999.000,9,-999.0000,9, -999.00,9, -999.00,9,  -999.0,9,  -999.0,-999.000,9,-999.000, -999.00,9,  472.30,-999.0000,9,-999.0000,9,-999.0000,9,-999.0000,9,-999.0000,9,-999.0000,-999.000,-999.0000,9, -999.00
318M20040615,        P02,     167,          1,         25,         25,2,20040822,       0225,    29.9937,  -126.6503,       4271,   547.3,   6.4527,  34.2080,2,  34.2064,2,  30.5000,2,    30.1,2,   67.08,2,   37.80,2,    0.01,2,    2.92,2,   0.601,2,   0.301,2,   0.018,2,  2289.8,2,  2302.7,2,-999.000,9,-999.0000,9, -999.00,9, -999.00,9,  -999.0,9,  -999.0,-999.000,9,-999.000,   42.80,2,  547.30,-999.0000,9,-999.0000,9,-999.0000,9,-999.0000,9,-999.0000,9,-999.0000,-999.000,-999.0000,9, -999.00
318M20040615,        P02,     167,          1,         24,         24,2,20040822,       0225,    29.9937,  -126.6503,       4271,   646.9,   5.6431,  34.2585,2,  34.2580,2,  16.4000,2,    16.4,2,   81.28,2,   40.75,2,    0.00,2,    3.09,2,-999.000,9,-999.000,9,-999.000,9,  2315.2,2,  2321.4,2,-999.000,9,-999.0000,9, -999.00,9, -999.00,9,  -999.0,9,  -999.0,-999.000,9,-999.000,   40.60,2,  646.90,-999.0000,9,-999.0000,9,-999.0000,9,-999.0000,9,-999.0000,9,-999.0000,-999.000,-999.0000,9, -999.00
318M20040615,        P02,     167,          1,         23,         23,2,20040822,       0225,    29.9937,  -126.6503,       4271,   746.5,   5.0851,  34.3393,2,  34.3394,2,  11.0000,2,    10.9,2,   93.87,2,   42.52,2,    0.00,2,    3.20,2,   0.062,2,   0.032,2,   0.000,2,  2332.5,2,  2339.3,2,-999.000,9,-999.0000,9, -999.00,9, -999.00,9,  -999.0,9,  -999.0,-999.000,9,-999.000,   41.80,2,  746.50,-999.0000,9,-999.0000,9,-999.0000,9,-999.0000,9,-999.0000,9,-999.0000,-999.000,-999.0000,9, -999.00
318M20040615,        P02,     167,          1,         22,         22,2,20040822,       0225,    29.9937,  -126.6503,       4271,   850.5,   4.5930,  34.4059,2,  34.4055,2,  12.4000,2,    12.7,2,  104.44,2,   43.45,2,    0.00,2,    3.23,2,-999.000,9,-999.000,9,-999.000,9,  2345.4,2,  2355.7,2,-999.000,9,-999.0000,9, -999.00,9, -999.00,9,  -999.0,9,  -999.0,-999.000,9,-999.000,   37.40,2,  850.50,-999.0000,9,-999.0000,9,-999.0000,9,-999.0000,9,-999.0000,9,-999.0000,-999.000,-999.0000,9, -999.00
318M20040615,        P02,     167,          1,         21,         21,2,20040822,       0225,    29.9937,  -126.6503,       4271,   951.1,   4.2899,  34.4392,2,  34.4426,2,  16.6000,2,    17.0,2,  110.46,2,   43.68,2,    0.00,2,    3.22,2,   0.025,2,   0.016,2,   0.000,2,  2352.3,2,  2363.6,2,-999.000,9,-999.0000,9, -999.00,9, -999.00,9,  -999.0,9,  -999.0,-999.000,9,-999.000, -999.00,9,  951.10,-999.0000,9,-999.0000,9,-999.0000,9,-999.0000,9,-999.0000,9,-999.0000,-999.000,-999.0000,9, -999.00
318M20040615,        P02,     167,          1,         20,         20,2,20040822,       0225,    29.9937,  -126.6503,       4271,  1051.4,   4.0261,  34.4748,2,  34.4744,2,  22.2000,2,    22.6,2,  116.07,2,   43.68,2,    0.00,2,    3.21,2,   0.024,2,   0.015,2,   0.000,2,  2355.9,6,  2371.3,2,-999.000,9,-999.0000,9, -999.00,9, -999.00,9,  -999.0,9,  -999.0,-999.000,9,-999.000,   36.80,2, 1051.40,-999.0000,9,-999.0000,9,-999.0000,9,-999.0000,9,-999.0000,9,-999.0000,-999.000,-999.0000,9, -999.00
318M20040615,        P02,     167,          1,         19,         19,2,20040822,       0225,    29.9937,  -126.6503,       4271,  1151.5,   3.7533,  34.5006,2,  34.5015,2,  27.5000,2,    27.0,2,  122.32,2,   43.57,2,    0.00,2,    3.20,2,-999.000,9,-999.000,9,-999.000,9,  2359.3,2,  2380.0,2,-999.000,9,-999.0000,9, -999.00,9, -999.00,9,  -999.0,9,  -999.0,-999.000,9,-999.000, -999.00,9, 1151.50,-999.0000,9,-999.0000,9,-999.0000,9,-999.0000,9,-999.0000,9,-999.0000,-999.000,-999.0000,9, -999.00
318M20040615,        P02,     167,          1,         18,         18,2,20040822,       0225,    29.9937,  -126.6503,       4271,  1251.8,   3.5186,  34.5184,2,  34.5187,2,  32.7000,2,    32.4,2,  127.74,2,   43.41,2,    0.00,2,    3.18,2,   0.021,2,   0.015,2,   0.000,2,  2359.7,2,  2387.6,2,-999.000,9,-999.0000,9, -999.00,9, -999.00,9,  -999.0,9,  -999.0,-999.000,9,-999.000,   40.10,3, 1251.80,-999.0000,9,-999.0000,9,-999.0000,9,-999.0000,9,-999.0000,9,-999.0000,-999.000,-999.0000,9, -999.00
318M20040615,        P02,     167,          1,         17,         17,2,20040822,       0225,    29.9937,  -126.6503,       4271,  1352.3,   3.2760,  34.5360,2,  34.5368,2,  38.4000,2,    38.1,2,  134.01,2,   43.35,2,    0.00,2,    3.15,2,   0.017,2,   0.012,2,   0.000,2,  2364.8,2,  2393.0,2,-999.000,9,-999.0000,9, -999.00,9, -999.00,9,  -999.0,9,  -999.0,-999.000,9,-999.000, -999.00,9, 1352.30,-999.0000,9,-999.0000,9,-999.0000,9,-999.0000,9,-999.0000,9,-999.0000,-999.000,-999.0000,9, -999.00
318M20040615,        P02,     167,          1,         16,         16,2,20040822,       0225,    29.9937,  -126.6503,       4271,  1452.8,   3.0392,  34.5531,2,  34.5525,2,  43.7000,2,    43.9,2,  138.82,2,   43.30,2,    0.00,2,    3.11,2,-999.000,9,-999.000,9,-999.000,9,  2368.6,2,  2399.1,2,-999.000,9,-999.0000,9, -999.00,9, -999.00,9,  -999.0,9,  -999.0,-999.000,9,-999.000, -999.00,9, 1452.80,-999.0000,9,-999.0000,9,-999.0000,9,-999.0000,9,-999.0000,9,-999.0000,-999.000,-999.0000,9, -999.00
318M20040615,        P02,     167,          1,         15,         15,2,20040822,       0225,    29.9937,  -126.6503,       4271,  1558.8,   2.8568,  34.5674,2,  34.5670,2,  49.9000,2,    49.4,2,  144.26,2,   43.03,2,    0.00,2,    3.09,2,   0.013,2,   0.010,2,   0.000,2,  2369.0,2,  2402.7,2,-999.000,9,-999.0000,9, -999.00,9, -999.00,9,  -999.0,9,  -999.0,-999.000,9,-999.000,   36.50,2, 1558.80,-999.0000,9,-999.0000,9,-999.0000,9,-999.0000,9,-999.0000,9,-999.0000,-999.000,-999.0000,9, -999.00
318M20040615,        P02,     167,          1,         14,         14,2,20040822,       0225,    29.9937,  -126.6503,       4271,  1660.3,   2.6536,  34.5816,2,  34.5810,2,  56.2000,2,    55.8,2,  148.89,2,   42.64,2,    0.00,2,    3.05,2,   0.011,2,   0.012,2,   0.000,2,  2368.8,2,  2409.9,2,-999.000,9,-999.0000,9, -999.00,9, -999.00,9,  -999.0,9,  -999.0,-999.000,9,-999.000, -999.00,9, 1660.30,-999.0000,9,-999.0000,9,-999.0000,9,-999.0000,9,-999.0000,9,-999.0000,-999.000,-999.0000,9, -999.00
318M20040615,        P02,     167,          1,         13,         13,2,20040822,       0225,    29.9937,  -126.6503,       4271,  1760.6,   2.4809,  34.5940,2,  34.5945,2,  62.9000,2,    62.5,2,  152.87,2,   42.20,2,    0.00,2,    3.01,2,-999.000,9,-999.000,9,-999.000,9,  2370.4,2,  2412.8,2,-999.000,9,-999.0000,9, -999.00,9, -999.00,9,  -999.0,9,  -999.0,-999.000,9,-999.000, -999.00,9, 1760.60,-999.0000,9,-999.0000,9,-999.0000,9,-999.0000,9,-999.0000,9,-999.0000,-999.000,-999.0000,9, -999.00
318M20040615,        P02,     167,          1,         12,         12,2,20040822,       0225,    29.9937,  -126.6503,       4271,  1861.8,   2.3449,  34.6052,2,  34.6049,2,  68.5000,2,    68.3,2,  155.60,2,   41.70,2,    0.00,2,    2.97,2,   0.001,2,   0.003,2,   0.000,2,  2369.7,2,  2417.4,2,-999.000,9,-999.0000,9, -999.00,9, -999.00,9,  -999.0,9,  -999.0,-999.000,9,-999.000,   39.20,3, 1861.80,-999.0000,9,-999.0000,9,-999.0000,9,-999.0000,9,-999.0000,9,-999.0000,-999.000,-999.0000,9, -999.00
318M20040615,        P02,     167,          1,         11,         11,2,20040822,       0225,    29.9937,  -126.6503,       4271,  1961.8,   2.2172,  34.6155,2,  34.6153,2,  75.0000,2,    75.4,2,  158.34,2,   41.28,2,    0.00,2,    2.94,2,   0.000,2,   0.002,2,   0.000,2,  2370.1,2,  2419.0,2,-999.000,9,-999.0000,9, -999.00,9, -999.00,9,  -999.0,9,  -999.0,-999.000,9,-999.000, -999.00,9, 1961.80,-999.0000,9,-999.0000,9,-999.0000,9,-999.0000,9,-999.0000,9,-999.0000,-999.000,-999.0000,9, -999.00
318M20040615,        P02,     167,          1,         10,         10,2,20040822,       0225,    29.9937,  -126.6503,       4271,  2128.4,   2.0650,  34.6287,2,  34.6281,2,  82.8000,2,    84.4,2,  161.07,2,   40.73,2,    0.00,2,    2.89,2,-999.000,9,-999.000,9,-999.000,9,  2368.7,2,  2423.5,2,-999.000,9,-999.0000,9, -999.00,9, -999.00,9,  -999.0,9,  -999.0,-999.000,9,-999.000,   36.60,2, 2128.40,-999.0000,9,-999.0000,9,-999.0000,9,-999.0000,9,-999.0000,9,-999.0000,-999.000,-999.0000,9, -999.00
318M20040615,        P02,     167,          1,          9,          9,2,20040822,       0225,    29.9937,  -126.6503,       4271,  2379.2,   1.8911,  34.6441,2,  34.6428,2,  95.2000,2,    95.4,2,  164.00,2,   40.18,2,    0.00,2,    2.82,2,  -0.001,6,   0.000,6,   0.000,6,  2364.8,2,  2428.4,2,-999.000,9,-999.0000,9, -999.00,9, -999.00,9,  -999.0,9,  -999.0,-999.000,9,-999.000, -999.00,9, 2379.20,-999.0000,9,-999.0000,9,-999.0000,9,-999.0000,9,-999.0000,9,-999.0000,-999.000,-999.0000,9, -999.00
318M20040615,        P02,     167,          1,          8,          8,2,20040822,       0225,    29.9937,  -126.6503,       4271,  2637.3,   1.7630,  34.6551,2,  34.6548,2, 105.1000,2,   104.9,2,  165.47,2,   39.63,2,    0.00,2,    2.77,2,  -0.001,2,   0.000,2,   0.000,2,  2361.8,2,  2430.4,2,-999.000,9,-999.0000,9, -999.00,9, -999.00,9,  -999.0,9,  -999.0,-999.000,9,-999.000, -999.00,9, 2637.30,-999.0000,9,-999.0000,9,-999.0000,9,-999.0000,9,-999.0000,9,-999.0000,-999.000,-999.0000,9, -999.00
318M20040615,        P02,     167,          1,          7,          7,2,20040822,       0225,    29.9937,  -126.6503,       4271,  2890.1,   1.6663,  34.6619,2,  34.6601,2, 112.5000,2,   112.4,2,  168.20,2,   39.26,2,    0.00,2,    2.72,2,-999.000,9,-999.000,9,-999.000,9,  2358.9,2,  2431.3,2,-999.000,9,-999.0000,9, -999.00,9, -999.00,9,  -999.0,9,  -999.0,-999.000,9,-999.000,   36.40,2, 2890.10,-999.0000,9,-999.0000,9,-999.0000,9,-999.0000,9,-999.0000,9,-999.0000,-999.000,-999.0000,9, -999.00
318M20040615,        P02,     167,          1,          6,          6,2,20040822,       0225,    29.9937,  -126.6503,       4271,  3148.7,   1.5770,  34.6688,2,  34.6693,2, 118.8000,2,   119.3,2,  170.52,2,   38.71,2,    0.00,2,    2.69,2,   0.003,2,   0.006,2,   0.000,2,  2355.0,2,  2433.0,2,-999.000,9,-999.0000,9, -999.00,9, -999.00,9,  -999.0,9,  -999.0,-999.000,9,-999.000,   36.90,2, 3148.70,-999.0000,9,-999.0000,9,-999.0000,9,-999.0000,9,-999.0000,9,-999.0000,-999.000,-999.0000,9, -999.00
318M20040615,        P02,     167,          1,          5,          5,2,20040822,       0225,    29.9937,  -126.6503,       4271,  3401.6,   1.5361,  34.6743,2,  34.6750,2, 125.2000,2,   125.5,2,  170.28,2,   38.22,2,    0.00,2,    2.65,2,   0.006,2,   0.008,2,   0.000,2,  2349.9,2,  2432.5,2,-999.000,9,-999.0000,9, -999.00,9, -999.00,9,  -999.0,9,  -999.0,-999.000,9,-999.000, -999.00,9, 3401.60,-999.0000,9,-999.0000,9,-999.0000,9,-999.0000,9,-999.0000,9,-999.0000,-999.000,-999.0000,9, -999.00
318M20040615,        P02,     167,          1,          4,          4,2,20040822,       0225,    29.9937,  -126.6503,       4271,  3720.8,   1.5061,  34.6802,2,  34.6795,2, 132.3000,2,   134.0,2,  168.35,2,   37.63,2,    0.00,2,    2.60,2,   0.008,2,   0.012,2,   0.000,2,  2345.3,2,  2433.7,2,-999.000,9,-999.0000,9, -999.00,9, -999.00,9,  -999.0,9,  -999.0,-999.000,9,-999.000, -999.00,9, 3720.80,-999.0000,9,-999.0000,9,-999.0000,9,-999.0000,9,-999.0000,9,-999.0000,-999.000,-999.0000,9, -999.00
318M20040615,        P02,     167,          1,          3,          3,2,20040822,       0225,    29.9937,  -126.6503,       4271,  3913.0,   1.5019,  34.6829,2,  34.6820,2, 136.4000,2,   137.8,2,  166.42,2,   37.41,2,    0.00,2,    2.59,2,   0.002,2,   0.009,2,   0.000,2,  2341.1,2,  2430.1,2,-999.000,9,-999.0000,9, -999.00,9, -999.00,9,  -999.0,9,  -999.0,-999.000,9,-999.000,   36.70,2, 3913.00,-999.0000,9,-999.0000,9,-999.0000,9,-999.0000,9,-999.0000,9,-999.0000,-999.000,-999.0000,9, -999.00
318M20040615,        P02,     167,          1,          2,          2,2,20040822,       0225,    29.9937,  -126.6503,       4271,  4131.6,   1.5135,  34.6844,2,  34.6844,2, 139.2000,2,   139.8,2,  166.38,2,   37.41,2,    0.00,2,    2.57,2,   0.006,2,   0.011,2,   0.000,2,  2341.3,2,  2434.1,2,-999.000,9,-999.0000,9, -999.00,9, -999.00,9,  -999.0,9,  -999.0,-999.000,9,-999.000,   36.60,2, 4131.60,-999.0000,9,-999.0000,9,-999.0000,9,-999.0000,9,-999.0000,9,-999.0000,-999.000,-999.0000,9, -999.00
318M20040615,        P02,     167,          1,          1,          1,2,20040822,       0225,    29.9937,  -126.6503,       4271,  4335.0,   1.5340,  34.6847,2,  34.6844,2, 139.8000,2,   140.2,2,  165.93,2,   37.47,2,    0.00,2,    2.58,2,   0.006,2,   0.008,2,   0.000,2,  2341.6,2,  2434.7,6,-999.000,9,-999.0000,9, -999.00,9, -999.00,9,  -999.0,9,  -999.0,-999.000,9,-999.000,   37.50,2, 4335.00,-999.0000,9,-999.0000,9,-999.0000,9,-999.0000,9,-999.0000,9,-999.0000,-999.000,-999.0000,9, -999.00