BOTTLE,20131027SIOCCHRJL
EXPOCODE,SECT_ID,STNNBR,CASTNO,SAMPNO,BTLNBR,BTLNBR_FLAG_W,DATE,TIME,LATITUDE,LONGITUDE,DEPTH,CTDPRS,CTDTMP,CTDSAL,CTDSAL_FLAG_W,SALNTY,SALNTY_FLAG_W,CTDOXY,CTDOXY_FLAG_W,OXYGEN,OXYGEN_FLAG_W,SILCAT,SILCAT_FLAG_W,NITRAT,NITRAT_FLAG_W,NITRIT,NITRIT_FLAG_W,PHSPHT,PHSPHT_FLAG_W,CFC-11,CFC-11_FLAG_W,CFC-12,CFC-12_FLAG_W,CFC113,CFC113_FLAG_W,TCARBN,TCARBN_FLAG_W,ALKALI,ALKALI_FLAG_W,TRITUM,TRITUM_FLAG_W,HELIUM,HELIUM_FLAG_W,DELHE3,DELHE3_FLAG_W,DELC13,DELC13_FLAG_W,DELC14,DELC14_FLAG_W,C14ERR,NEON,NEON_FLAG_W,NEONER,DOC,DOC_FLAG_W,CTDRAW,CDOM380,CDOM380_FLAG_W,CDOM325,CDOM325_FLAG_W,CDOMSL,CDOMSL_FLAG_W,CDOM340,CDOM340_FLAG_W,CDOMSN,CDOMSN_FLAG_W,HELIER,TRITER,CDOM412,CDOM412_FLAG_W,DELHER
,,,,,,,,,,,METERS,DBAR,ITS-90,PSS-78,,PSS-78,,UMOL/KG,,UMOL/KG,,UMOL/KG,,UMOL/KG,,UMOL/KG,,UMOL/KG,,PMOL/KG,,PMOL/KG,,PMOL/KG,,UMOL/KG,,UMOL/KG,,TU,,NMOL/KG,,PERCNT,,/MILLE,,/MILLE,,/MILLE,NMOL/KG,,NMOL/KG,UMOL/KG,,DBAR,1/M,,1/M,,1/NM,,1/M,,1/NM,,NMOL/KG,TU,1/M,,PERCNT
318M20040615,        P02,      83,          1,         36,         36,2,20040715,       0311,    29.9982,   178.9393,       4584,     9.1,  27.6673,  34.9934,2,  34.9935,2, 204.9000,2,   203.7,2,    1.38,2,    0.04,2,    0.00,2,    0.02,2,   1.698,2,   1.067,2,   0.123,2,  1982.6,2,  2298.9,6,   0.763,2,   1.7468,2,   -1.45,2, -999.00,9,  -999.0,9,  -999.0,-999.000,9,-999.000, -999.00,9,    9.10,-999.0000,9,-999.0000,9,-999.0000,9,-999.0000,9,-999.0000,9,   0.0087,   0.007,-999.0000,9,    0.20
318M20040615,        P02,      83,          1,         35,         35,2,20040715,       0311,    29.9982,   178.9393,       4584,    35.8,  21.9367,  35.1008,2,  35.0976,2, 233.1000,2,   232.9,2,    1.58,2,    0.04,2,    0.00,2,    0.02,2,   2.122,2,   1.300,2,   0.145,2,  1999.5,6,  2305.5,2,   0.795,2,   1.7585,2,   -1.21,2, -999.00,9,  -999.0,9,  -999.0,-999.000,9,-999.000, -999.00,9,   35.80,-999.0000,9,-999.0000,9,-999.0000,9,-999.0000,9,-999.0000,9,   0.0088,   0.007,-999.0000,9,    0.20
318M20040615,        P02,      83,          1,         34,         34,2,20040715,       0311,    29.9982,   178.9393,       4584,    70.4,  19.1652,  34.9756,2,  34.9704,2, 223.7000,2,   227.5,2,    1.99,2,    0.04,2,    0.00,2,    0.07,2,   2.336,2,   1.381,2,   0.136,2,  2014.6,2,  2297.3,2,   0.824,2,   1.7788,2,   -0.87,2, -999.00,9,  -999.0,9,  -999.0,-999.000,9,-999.000, -999.00,9,   70.40,-999.0000,9,-999.0000,9,-999.0000,9,-999.0000,9,-999.0000,9,   0.0089,   0.007,-999.0000,9,    0.20
318M20040615,        P02,      83,          1,         33,         33,2,20040715,       0311,    29.9982,   178.9393,       4584,   120.5,  17.1580,  34.7657,2,  34.7592,2, 221.5000,2,   224.5,2,    3.02,2,    2.66,2,    0.26,2,    0.23,2,   2.479,2,   1.477,2,   0.147,2,  2022.5,2,  2281.5,2,   0.768,2,   1.8013,2,   -0.81,2, -999.00,9,  -999.0,9,  -999.0,-999.000,9,-999.000, -999.00,9,  120.50,-999.0000,9,-999.0000,9,-999.0000,9,-999.0000,9,-999.0000,9,   0.0090,   0.006,-999.0000,9,    0.20
318M20040615,        P02,      83,          1,         32,         32,2,20040715,       0311,    29.9982,   178.9393,       4584,   170.4,  16.3164,  34.7091,2,  34.7040,2, 217.3000,2,   221.7,2,    4.45,2,    4.54,2,    0.01,2,    0.33,2,   2.543,2,   1.504,2,   0.127,2,  -999.0,9,  2278.7,2,   0.782,2,   1.7828,2,   -0.80,2, -999.00,9,  -999.0,9,  -999.0,-999.000,9,-999.000, -999.00,9,  170.40,-999.0000,9,-999.0000,9,-999.0000,9,-999.0000,9,-999.0000,9,   0.0089,   0.007,-999.0000,9,    0.20
318M20040615,        P02,      83,          1,         31,         31,2,20040715,       0311,    29.9982,   178.9393,       4584,   220.0,  15.6645,  34.6616,2,  34.6598,2, 223.7000,2,   223.9,2,    5.88,2,    5.34,2,    0.01,2,    0.39,2,   2.604,2,   1.545,2,   0.121,2,  -999.0,9,  -999.0,9,   0.782,2,   1.8071,2,   -0.57,2, -999.00,9,  -999.0,9,  -999.0,-999.000,9,-999.000, -999.00,9,  220.00,-999.0000,9,-999.0000,9,-999.0000,9,-999.0000,9,-999.0000,9,   0.0090,   0.007,-999.0000,9,    0.20
318M20040615,        P02,      83,          1,         30,         30,2,20040715,       0311,    29.9982,   178.9393,       4584,   269.9,  15.0912,  34.6116,2,  34.6087,2, 222.4000,2,   221.2,2,    7.32,2,    6.50,2,    0.01,2,    0.47,2,   2.625,2,   1.536,2,   0.114,2,  2045.1,2,  2276.8,2,   0.804,2,   1.7766,2,    0.37,2, -999.00,9,  -999.0,9,  -999.0,-999.000,9,-999.000, -999.00,9,  269.90,-999.0000,9,-999.0000,9,-999.0000,9,-999.0000,9,-999.0000,9,   0.0089,   0.007,-999.0000,9,    0.20
318M20040615,        P02,      83,          1,         29,         29,2,20040715,       0311,    29.9982,   178.9393,       4584,   319.5,  14.1427,  34.5301,2,  34.5264,2, 213.0000,2,   212.8,2,    9.99,2,    8.80,2,    0.01,2,    0.63,2,   2.697,2,   1.550,2,   0.094,2,  -999.0,9,  -999.0,9,-999.000,9,   1.7960,2,    1.19,2, -999.00,9,  -999.0,9,  -999.0,-999.000,9,-999.000, -999.00,9,  319.50,-999.0000,9,-999.0000,9,-999.0000,9,-999.0000,9,-999.0000,9,   0.0090,-999.000,-999.0000,9,    0.20
318M20040615,        P02,      83,          1,         28,         28,2,20040715,       0311,    29.9982,   178.9393,       4584,   369.8,  13.1029,  34.4455,2,  34.4387,2, 213.4000,2,   246.6,3,   12.87,2,   10.68,2,    0.01,2,    0.76,2,   2.777,2,   1.568,2,   0.084,2,  2076.3,2,  2272.9,2,   0.847,2,   1.7997,2,    0.03,2, -999.00,9,  -999.0,9,  -999.0,-999.000,9,-999.000, -999.00,9,  369.80,-999.0000,9,-999.0000,9,-999.0000,9,-999.0000,9,-999.0000,9,   0.0090,   0.007,-999.0000,9,    0.20
318M20040615,        P02,      83,          1,         27,         27,2,20040715,       0311,    29.9982,   178.9393,       4584,   419.5,  11.8500,  34.3526,2,  34.3476,2, 208.5000,2,   204.3,2,   16.99,2,   13.39,2,    0.01,2,    0.95,2,   2.837,2,   1.582,2,   0.085,2,  -999.0,9,  -999.0,9,   0.827,2,   1.8077,2,    2.96,2, -999.00,9,  -999.0,9,  -999.0,-999.000,9,-999.000, -999.00,9,  419.50,-999.0000,9,-999.0000,9,-999.0000,9,-999.0000,9,-999.0000,9,   0.0090,   0.008,-999.0000,9,    0.20
318M20040615,        P02,      83,          1,         26,         26,2,20040715,       0311,    29.9982,   178.9393,       4584,   469.4,  10.6133,  34.2608,2,  34.2601,2, 212.4000,2,   210.0,2,   20.49,2,   14.84,2,    0.01,2,    1.07,2,   2.910,2,   1.610,2,   0.127,2,  2105.9,2,  2273.1,2,   0.818,2,   1.8182,2,    3.39,2, -999.00,9,  -999.0,9,  -999.0,-999.000,9,-999.000, -999.00,9,  469.40,-999.0000,9,-999.0000,9,-999.0000,9,-999.0000,9,-999.0000,9,   0.0091,   0.008,-999.0000,9,    0.20
318M20040615,        P02,      83,          1,         25,         25,2,20040715,       0311,    29.9982,   178.9393,       4584,   538.4,   8.8408,  34.1190,2,  34.1182,2, 186.9000,2,   190.8,2,   30.01,2,   19.76,2,    0.00,2,    1.43,2,   2.830,2,   1.538,2,   0.113,2,  -999.0,9,  -999.0,9,   0.790,2,-999.0000,9, -999.00,9, -999.00,9,  -999.0,9,  -999.0,-999.000,9,-999.000, -999.00,9,  538.40,-999.0000,9,-999.0000,9,-999.0000,9,-999.0000,9,-999.0000,9,-999.0000,   0.008,-999.0000,9, -999.00
318M20040615,        P02,      83,          1,         24,         24,2,20040715,       0311,    29.9982,   178.9393,       4584,   638.7,   6.4192,  34.0191,2,  34.0157,2, 144.5000,2,   141.3,2,   54.02,2,   28.58,2,    0.00,2,    2.08,2,   2.200,2,   1.138,2,   0.100,2,  2210.2,2,  2288.2,2,   0.654,2,   1.8721,2,   11.67,2, -999.00,9,  -999.0,9,  -999.0,-999.000,9,-999.000, -999.00,9,  638.70,-999.0000,9,-999.0000,9,-999.0000,9,-999.0000,9,-999.0000,9,   0.0094,   0.007,-999.0000,9,    0.20
318M20040615,        P02,      83,          1,         23,         23,2,20040715,       0311,    29.9982,   178.9393,       4584,   738.8,   5.3849,  34.0571,2,  34.0523,2, 100.7000,2,    99.5,2,   73.39,2,   34.32,2,    0.00,2,    2.48,2,   1.441,2,   0.721,2,   0.058,2,  -999.0,9,  -999.0,9,   0.481,2,   1.8755,2,   14.87,2, -999.00,9,  -999.0,9,  -999.0,-999.000,9,-999.000, -999.00,9,  738.80,-999.0000,9,-999.0000,9,-999.0000,9,-999.0000,9,-999.0000,9,   0.0094,   0.006,-999.0000,9,    0.20
318M20040615,        P02,      83,          1,         22,         22,2,20040715,       0311,    29.9982,   178.9393,       4584,   838.6,   4.5207,  34.1535,2,  34.1474,2,  61.6000,2,    55.7,2,   94.80,2,   39.81,2,    0.00,2,    2.86,2,   0.560,2,   0.279,2,   0.018,2,  -999.0,9,  2326.4,2,   0.296,2,   1.8890,2,   15.98,2, -999.00,9,  -999.0,9,  -999.0,-999.000,9,-999.000, -999.00,9,  838.60,-999.0000,9,-999.0000,9,-999.0000,9,-999.0000,9,-999.0000,9,   0.0094,   0.005,-999.0000,9,    0.20
318M20040615,        P02,      83,          1,         21,         21,2,20040715,       0311,    29.9982,   178.9393,       4584,   944.0,   4.0674,  34.2275,2,  34.2219,2,  40.1000,2,    40.3,2,  108.83,2,   41.69,2,    0.00,2,    2.98,2,   0.314,2,   0.163,2,   0.009,2,  -999.0,9,  -999.0,9,   0.183,2,   1.8984,2,   16.18,2, -999.00,9,  -999.0,9,  -999.0,-999.000,9,-999.000, -999.00,9,  944.00,-999.0000,9,-999.0000,9,-999.0000,9,-999.0000,9,-999.0000,9,   0.0095,   0.003,-999.0000,9,    0.20
318M20040615,        P02,      83,          1,         20,         20,2,20040715,       0311,    29.9982,   178.9393,       4584,  1043.3,   3.6537,  34.3075,2,  34.3045,2,  31.4000,2,    31.4,2,  119.90,2,   42.75,2,    0.00,2,    3.07,2,   0.147,2,   0.074,2,   0.004,2,  -999.0,9,  2356.5,2,   0.102,2,   1.9124,2,   15.98,2, -999.00,9,  -999.0,9,  -999.0,-999.000,9,-999.000, -999.00,9, 1043.30,-999.0000,9,-999.0000,9,-999.0000,9,-999.0000,9,-999.0000,9,   0.0096,   0.003,-999.0000,9,    0.20
318M20040615,        P02,      83,          1,         19,         19,2,20040715,       0311,    29.9982,   178.9393,       4584,  1142.1,   3.3406,  34.3697,2,  34.3681,2,  29.0000,2,    28.9,2,  130.34,2,   43.14,2,    0.00,2,    3.10,2,   0.075,6,   0.037,6,   0.003,6,  -999.0,9,  -999.0,9,   0.057,2,   1.9047,2,   16.23,2, -999.00,9,  -999.0,9,  -999.0,-999.000,9,-999.000, -999.00,9, 1142.10,-999.0000,9,-999.0000,9,-999.0000,9,-999.0000,9,-999.0000,9,   0.0095,   0.002,-999.0000,9,    0.20
318M20040615,        P02,      83,          1,         18,         18,2,20040715,       0311,    29.9982,   178.9393,       4584,  1244.2,   3.0747,  34.4187,2,  34.4189,2,  29.5000,2,    29.6,2,  137.80,2,   43.31,2,    0.00,2,    3.11,2,   0.038,2,   0.018,2,   0.001,2,  -999.0,9,  2379.7,2,-999.000,9,   1.9325,2,   16.99,2, -999.00,9,  -999.0,9,  -999.0,-999.000,9,-999.000, -999.00,9, 1244.20,-999.0000,9,-999.0000,9,-999.0000,9,-999.0000,9,-999.0000,9,   0.0097,-999.000,-999.0000,9,    0.20
318M20040615,        P02,      83,          1,         17,         17,2,20040715,       0311,    29.9982,   178.9393,       4584,  1341.1,   2.8354,  34.4656,2,  34.4629,2,  33.4000,2,    32.9,2,  145.09,2,   43.21,2,    0.00,2,    3.10,2,   0.020,2,   0.010,2,   0.001,2,  -999.0,9,  -999.0,9,-999.000,9,   1.9143,2,   18.66,2, -999.00,9,  -999.0,9,  -999.0,-999.000,9,-999.000, -999.00,9, 1341.10,-999.0000,9,-999.0000,9,-999.0000,9,-999.0000,9,-999.0000,9,   0.0096,-999.000,-999.0000,9,    0.20
318M20040615,        P02,      83,          1,         16,         16,2,20040715,       0311,    29.9982,   178.9393,       4584,  1438.9,   2.6184,  34.4880,2,  34.4876,2,  33.8000,2,    35.6,2,  149.97,2,   43.27,2,    0.00,2,    3.10,2,   0.015,2,   0.008,2,   0.001,2,  -999.0,9,  2394.2,2,   0.000,2,   1.9358,2,   18.81,2, -999.00,9,  -999.0,9,  -999.0,-999.000,9,-999.000, -999.00,9, 1438.90,-999.0000,9,-999.0000,9,-999.0000,9,-999.0000,9,-999.0000,9,   0.0097,   0.000,-999.0000,9,    0.20
318M20040615,        P02,      83,          1,         15,         15,2,20040715,       0311,    29.9982,   178.9393,       4584,  1538.0,   2.4697,  34.5180,2,  34.5173,2,  39.8000,2,    39.8,2,  155.33,2,   43.01,2,    0.00,2,    3.08,2,   0.008,2,   0.005,2,   0.001,2,  -999.0,9,  -999.0,9,   0.011,2,   1.9251,2,   19.67,2, -999.00,9,  -999.0,9,  -999.0,-999.000,9,-999.000, -999.00,9, 1538.00,-999.0000,9,-999.0000,9,-999.0000,9,-999.0000,9,-999.0000,9,   0.0096,   0.000,-999.0000,9,    0.20
318M20040615,        P02,      83,          1,         14,         14,2,20040715,       0311,    29.9982,   178.9393,       4584,  1634.5,   2.3279,  34.5432,2,  34.5430,2,  47.9000,2,    47.5,2,  156.78,2,   42.78,2,    0.00,2,    3.04,2,   0.006,2,   0.003,2,   0.001,2,  -999.0,9,  2405.4,2,-999.000,9,-999.0000,9, -999.00,9, -999.00,9,  -999.0,9,  -999.0,-999.000,9,-999.000, -999.00,9, 1634.50,-999.0000,9,-999.0000,9,-999.0000,9,-999.0000,9,-999.0000,9,-999.0000,-999.000,-999.0000,9, -999.00
318M20040615,        P02,      83,          1,         13,         13,2,20040715,       0311,    29.9982,   178.9393,       4584,  1735.5,   2.1881,  34.5664,2,  34.5662,2,  56.4000,2,    56.4,2,  160.40,2,   42.39,2,    0.00,2,    2.99,2,   0.004,2,   0.002,2,   0.002,2,  -999.0,9,  -999.0,9,   0.015,2,   1.9360,2,   20.23,2, -999.00,9,  -999.0,9,  -999.0,-999.000,9,-999.000, -999.00,9, 1735.50,-999.0000,9,-999.0000,9,-999.0000,9,-999.0000,9,-999.0000,9,   0.0097,   0.001,-999.0000,9,    0.20
318M20040615,        P02,      83,          1,         12,         12,2,20040715,       0311,    29.9982,   178.9393,       4584,  1837.4,   2.0888,  34.5808,2,  34.5792,2,  64.6000,2,    63.7,2,  161.02,2,   42.12,2,    0.00,2,    2.96,2,-999.000,9,-999.000,9,-999.000,9,  -999.0,9,  2412.5,2,-999.000,9,-999.0000,9, -999.00,9, -999.00,9,  -999.0,9,  -999.0,-999.000,9,-999.000, -999.00,9, 1837.40,-999.0000,9,-999.0000,9,-999.0000,9,-999.0000,9,-999.0000,9,-999.0000,-999.000,-999.0000,9, -999.00
318M20040615,        P02,      83,          1,         11,         11,2,20040715,       0311,    29.9982,   178.9393,       4584,  1934.9,   1.9940,  34.5956,2,  34.5931,2,  72.2000,2,    72.0,2,  163.54,2,   41.51,2,    0.00,2,    2.92,2,   0.005,2,   0.003,2,   0.001,2,  -999.0,9,  -999.0,9,-999.000,9,-999.0000,9, -999.00,9, -999.00,9,  -999.0,9,  -999.0,-999.000,9,-999.000, -999.00,9, 1934.90,-999.0000,9,-999.0000,9,-999.0000,9,-999.0000,9,-999.0000,9,-999.0000,-999.000,-999.0000,9, -999.00
318M20040615,        P02,      83,          1,         10,         10,2,20040715,       0311,    29.9982,   178.9393,       4584,  2094.6,   1.8500,  34.6161,2,  34.6251,2,  86.2000,3,    85.7,2,  162.67,2,   40.46,2,    0.00,2,    2.85,2,-999.000,9,-999.000,9,-999.000,9,  -999.0,9,  2417.3,2,-999.000,9,-999.0000,9, -999.00,9, -999.00,9,  -999.0,9,  -999.0,-999.000,9,-999.000, -999.00,9, 2094.60,-999.0000,9,-999.0000,9,-999.0000,9,-999.0000,9,-999.0000,9,-999.0000,-999.000,-999.0000,9, -999.00
318M20040615,        P02,      83,          1,          9,          9,2,20040715,       0311,    29.9982,   178.9393,       4584,  2364.7,   1.6970,  34.6372,2,  34.6348,2, 100.7000,2,   101.7,2,  163.50,2,   39.36,2,    0.00,2,    2.78,2,   0.000,2,   0.002,2,   0.003,2,  -999.0,9,  -999.0,9,-999.000,9,-999.0000,9, -999.00,9, -999.00,9,  -999.0,9,  -999.0,-999.000,9,-999.000, -999.00,9, 2364.70,-999.0000,9,-999.0000,9,-999.0000,9,-999.0000,9,-999.0000,9,-999.0000,-999.000,-999.0000,9, -999.00
318M20040615,        P02,      83,          1,          8,          8,2,20040715,       0311,    29.9982,   178.9393,       4584,  2597.3,   1.6208,  34.6484,2,  34.6466,2, 110.5000,2,   111.5,2,  161.12,2,   38.60,2,    0.00,2,    2.72,2,-999.000,9,-999.000,9,-999.000,9,  -999.0,9,  2419.8,6,-999.000,9,-999.0000,9, -999.00,9, -999.00,9,  -999.0,9,  -999.0,-999.000,9,-999.000, -999.00,9, 2597.30,-999.0000,9,-999.0000,9,-999.0000,9,-999.0000,9,-999.0000,9,-999.0000,-999.000,-999.0000,9, -999.00
318M20040615,        P02,      83,          1,          7,          7,2,20040715,       0311,    29.9982,   178.9393,       4584,  2839.8,   1.5445,  34.6600,2,  34.6588,2, 121.5000,2,   122.9,2,  160.93,2,   37.80,2,    0.00,2,    2.67,2,   0.003,2,   0.003,2,   0.001,2,  -999.0,9,  -999.0,9,-999.000,9,-999.0000,9, -999.00,9, -999.00,9,  -999.0,9,  -999.0,-999.000,9,-999.000, -999.00,9, 2839.80,-999.0000,9,-999.0000,9,-999.0000,9,-999.0000,9,-999.0000,9,-999.0000,-999.000,-999.0000,9, -999.00
318M20040615,        P02,      83,          1,          6,          6,2,20040715,       0311,    29.9982,   178.9393,       4584,  3095.2,   1.4942,  34.6686,2,  34.6649,2, 131.3000,3,   132.2,2,  157.28,2,   37.14,2,    0.00,2,    2.62,2,-999.000,9,-999.000,9,-999.000,9,  -999.0,9,  2419.8,2,-999.000,9,-999.0000,9, -999.00,9, -999.00,9,  -999.0,9,  -999.0,-999.000,9,-999.000, -999.00,9, 3095.20,-999.0000,9,-999.0000,9,-999.0000,9,-999.0000,9,-999.0000,9,-999.0000,-999.000,-999.0000,9, -999.00
318M20040615,        P02,      83,          1,          5,          5,2,20040715,       0311,    29.9982,   178.9393,       4584,  3393.4,   1.4689,  34.6750,2,-999.0000,9, 139.1000,5,   139.0,2,  155.73,2,   36.71,2,    0.00,2,    2.58,2,   0.004,2,   0.003,2,   0.002,2,  -999.0,9,  2419.2,2,-999.000,9,-999.0000,9, -999.00,9, -999.00,9,  -999.0,9,  -999.0,-999.000,9,-999.000, -999.00,9, 3393.40,-999.0000,9,-999.0000,9,-999.0000,9,-999.0000,9,-999.0000,9,-999.0000,-999.000,-999.0000,9, -999.00
318M20040615,        P02,      83,          1,          4,          4,2,20040715,       0311,    29.9982,   178.9393,       4584,  3696.9,   1.4486,  34.6805,2,  34.6789,2, 145.2000,2,   145.9,2,  153.15,2,   36.44,2,    0.00,2,    2.54,2,-999.000,9,-999.000,9,-999.000,9,  -999.0,9,  2420.4,6,-999.000,9,-999.0000,9, -999.00,9, -999.00,9,  -999.0,9,  -999.0,-999.000,9,-999.000, -999.00,9, 3696.90,-999.0000,9,-999.0000,9,-999.0000,9,-999.0000,9,-999.0000,9,-999.0000,-999.000,-999.0000,9, -999.00
318M20040615,        P02,      83,          1,          3,          3,2,20040715,       0311,    29.9982,   178.9393,       4584,  3999.8,   1.4488,  34.6840,2,  34.6828,2, 150.0000,2,   150.8,2,  152.70,2,   36.39,2,    0.00,2,    2.52,2,   0.005,2,   0.002,2,   0.002,2,  -999.0,9,  2418.7,2,-999.000,9,-999.0000,9, -999.00,9, -999.00,9,  -999.0,9,  -999.0,-999.000,9,-999.000, -999.00,9, 3999.80,-999.0000,9,-999.0000,9,-999.0000,9,-999.0000,9,-999.0000,9,-999.0000,-999.000,-999.0000,9, -999.00
318M20040615,        P02,      83,          1,          2,          2,2,20040715,       0311,    29.9982,   178.9393,       4584,  4301.0,   1.4563,  34.6866,2,  34.6863,2, 154.0000,2,   154.1,2,  150.75,2,   36.23,2,    0.00,2,    2.50,2,-999.000,9,-999.000,9,-999.000,9,  -999.0,9,  2418.0,2,-999.000,9,-999.0000,9, -999.00,9, -999.00,9,  -999.0,9,  -999.0,-999.000,9,-999.000, -999.00,9, 4301.00,-999.0000,9,-999.0000,9,-999.0000,9,-999.0000,9,-999.0000,9,-999.0000,-999.000,-999.0000,9, -999.00
318M20040615,        P02,      83,          1,          1,          1,2,20040715,       0311,    29.9982,   178.9393,       4584,  4659.1,   1.4463,  34.6911,2,  34.6925,2, 162.8000,2,   163.6,2,  144.76,2,   35.53,2,    0.00,2,    2.45,2,   0.006,2,   0.006,2,   0.001,2,  -999.0,9,  2412.3,6,-999.000,9,-999.0000,9, -999.00,9, -999.00,9,  -999.0,9,  -999.0,-999.000,9,-999.000, -999.00,9, 4659.10,-999.0000,9,-999.0000,9,-999.0000,9,-999.0000,9,-999.0000,9,-999.0000,-999.000,-999.0000,9, -999.00