BOTTLE,20131027SIOCCHRJL
EXPOCODE,SECT_ID,STNNBR,CASTNO,SAMPNO,BTLNBR,BTLNBR_FLAG_W,DATE,TIME,LATITUDE,LONGITUDE,DEPTH,CTDPRS,CTDTMP,CTDSAL,CTDSAL_FLAG_W,SALNTY,SALNTY_FLAG_W,CTDOXY,CTDOXY_FLAG_W,OXYGEN,OXYGEN_FLAG_W,SILCAT,SILCAT_FLAG_W,NITRAT,NITRAT_FLAG_W,NITRIT,NITRIT_FLAG_W,PHSPHT,PHSPHT_FLAG_W,CFC-11,CFC-11_FLAG_W,CFC-12,CFC-12_FLAG_W,CFC113,CFC113_FLAG_W,TCARBN,TCARBN_FLAG_W,ALKALI,ALKALI_FLAG_W,TRITUM,TRITUM_FLAG_W,HELIUM,HELIUM_FLAG_W,DELHE3,DELHE3_FLAG_W,DELC13,DELC13_FLAG_W,DELC14,DELC14_FLAG_W,C14ERR,NEON,NEON_FLAG_W,NEONER,DOC,DOC_FLAG_W,CTDRAW,CDOM380,CDOM380_FLAG_W,CDOM325,CDOM325_FLAG_W,CDOMSL,CDOMSL_FLAG_W,CDOM340,CDOM340_FLAG_W,CDOMSN,CDOMSN_FLAG_W,HELIER,TRITER,CDOM412,CDOM412_FLAG_W,DELHER
,,,,,,,,,,,METERS,DBAR,ITS-90,PSS-78,,PSS-78,,UMOL/KG,,UMOL/KG,,UMOL/KG,,UMOL/KG,,UMOL/KG,,UMOL/KG,,PMOL/KG,,PMOL/KG,,PMOL/KG,,UMOL/KG,,UMOL/KG,,TU,,NMOL/KG,,PERCNT,,/MILLE,,/MILLE,,/MILLE,NMOL/KG,,NMOL/KG,UMOL/KG,,DBAR,1/M,,1/M,,1/NM,,1/M,,1/NM,,NMOL/KG,TU,1/M,,PERCNT
318M20040615,        P02,     121,          1,         36,         36,2,20040807,       1930,    30.0007,  -158.3148,       5749,     8.6,  24.6564,  35.3572,2,  35.3561,2, 212.4000,2,   212.7,2,    1.31,2,    0.02,2,    0.00,2,    0.02,2,   1.881,2,   1.142,2,   0.140,2,  2013.4,6,  2326.9,6,-999.000,9,-999.0000,9, -999.00,9,    1.11,2,    81.7,2,     5.7,-999.000,9,-999.000, -999.00,9,    8.60,  -0.0510,4,  -0.0340,4,-999.0000,5,  -0.0480,4,-999.0000,5,-999.0000,-999.000,  -0.0430,4, -999.00
318M20040615,        P02,     121,          1,         35,         35,2,20040807,       1930,    30.0007,  -158.3148,       5749,    51.6,  20.6616,  35.2013,2,  35.2078,2, 237.6000,2,   236.8,2,    1.50,2,    0.07,2,    0.00,2,    0.03,2,   2.310,2,   1.360,2,   0.160,2,  2013.2,2,  2316.2,2,-999.000,9,-999.0000,9, -999.00,9,    1.09,2,    89.8,2,     4.4,-999.000,9,-999.000, -999.00,9,   51.60,   0.0210,2,   0.0900,2,   0.0270,2,   0.0580,2,   0.0280,2,-999.0000,-999.000,   0.0120,2, -999.00
318M20040615,        P02,     121,          1,         34,         34,2,20040807,       1930,    30.0007,  -158.3148,       5749,   101.3,  18.0838,  34.9111,2,  34.9100,2, 230.4000,2,   230.9,2,    2.07,2,    0.07,2,    0.00,2,    0.10,2,   2.536,2,   1.441,2,   0.158,2,  2023.2,2,  2297.6,2,-999.000,9,-999.0000,9, -999.00,9,    0.97,2,    94.1,2,     5.5,-999.000,9,-999.000, -999.00,9,  101.30,   0.0370,2,   0.1190,2,   0.0200,2,   0.0840,2,   0.0210,2,-999.0000,-999.000,   0.0250,2, -999.00
318M20040615,        P02,     121,          1,         33,         33,2,20040807,       1930,    30.0007,  -158.3148,       5749,   151.0,  15.7006,  34.5827,2,  34.5875,2, 210.7000,2,   218.3,2,    3.98,2,    3.71,2,    0.02,2,    0.33,2,   2.800,2,   1.592,2,   0.124,2,  2040.5,2,  2276.1,2,-999.000,9,-999.0000,9, -999.00,9,    0.79,2,    87.9,2,     5.2,-999.000,9,-999.000, -999.00,9,  151.00,   0.0450,2,   0.1230,2,   0.0150,2,   0.0890,2,   0.0170,2,-999.0000,-999.000,   0.0330,2, -999.00
318M20040615,        P02,     121,          1,         32,         32,2,20040807,       1930,    30.0007,  -158.3148,       5749,   200.8,  14.0237,  34.4357,2,  34.4343,2, 222.7000,2,   238.4,2,    4.94,2,    4.23,2,    0.01,2,    0.37,2,   3.038,2,   1.716,2,   0.189,2,  2041.6,2,  2268.2,2,-999.000,9,-999.0000,9, -999.00,9,    0.82,2,    78.6,2,     5.1,-999.000,9,-999.000, -999.00,9,  200.80,   0.0450,2,   0.1220,2,   0.0150,2,   0.0890,2,   0.0170,2,-999.0000,-999.000,   0.0330,2, -999.00
318M20040615,        P02,     121,          1,         31,         31,2,20040807,       1930,    30.0007,  -158.3148,       5749,   250.4,  13.1953,  34.3725,2,  34.3686,2, 234.8000,2,   238.2,2,    6.65,2,    6.13,2,    0.01,2,    0.49,2,   3.146,2,   1.765,2,   0.174,2,  2049.6,2,  2265.1,2,-999.000,9,-999.0000,9, -999.00,9,    0.71,2,    69.8,2,     5.4,-999.000,9,-999.000, -999.00,9,  250.40,   0.0360,2,   0.1030,2,   0.0180,2,   0.0730,2,   0.0200,2,-999.0000,-999.000,   0.0250,2, -999.00
318M20040615,        P02,     121,          1,         30,         30,2,20040807,       1930,    30.0007,  -158.3148,       5749,   300.2,  12.0733,  34.2765,2,  34.2749,2, 226.3000,2,   223.7,2,   10.65,2,   10.46,2,    0.00,2,    0.76,2,-999.000,9,-999.000,9,-999.000,9,  2073.6,2,  2264.6,2,-999.000,9,-999.0000,9, -999.00,9,    0.55,2,    69.8,2,     4.4,-999.000,9,-999.000, -999.00,9,  300.20,   0.0330,2,   0.1020,2,   0.0200,2,   0.0720,2,   0.0210,2,-999.0000,-999.000,   0.0220,2, -999.00
318M20040615,        P02,     121,          1,         29,         29,2,20040807,       1930,    30.0007,  -158.3148,       5749,   355.1,  11.0425,  34.2182,2,  34.2171,2, 217.3000,2,   220.2,2,   14.09,2,   12.87,2,    0.00,2,    0.92,2,   3.357,2,   1.817,2,   0.094,2,  2087.9,2,  2264.6,2,-999.000,9,-999.0000,9, -999.00,9,    0.53,2,    59.5,2,     5.0,-999.000,9,-999.000, -999.00,9,  355.10,   0.0340,2,   0.1050,2,   0.0200,2,   0.0740,2,   0.0210,2,-999.0000,-999.000,   0.0230,2, -999.00
318M20040615,        P02,     121,          1,         28,         28,2,20040807,       1930,    30.0007,  -158.3148,       5749,   404.8,  10.3266,  34.1781,2,  34.1747,2, 211.1000,3,   212.5,2,   17.53,2,   14.98,2,    0.00,2,    1.07,2,   3.317,2,   1.780,2,   0.094,2,  2103.1,2,  2266.1,2,-999.000,9,-999.0000,9, -999.00,9,    0.44,2,    45.6,2,     4.4,-999.000,9,-999.000, -999.00,9,  404.80,   0.0400,2,   0.1160,2,   0.0180,2,   0.0810,2,   0.0190,2,-999.0000,-999.000,   0.0270,2, -999.00
318M20040615,        P02,     121,          1,         27,         27,2,20040807,       1930,    30.0007,  -158.3148,       5749,   455.1,   9.2647,  34.1269,2,  34.1207,2, 194.5000,3,   193.2,2,   25.18,2,   18.90,2,    0.00,2,    1.34,2,-999.000,9,-999.000,9,-999.000,9,  2130.0,2,  2270.0,2,-999.000,9,-999.0000,9, -999.00,9, -999.00,9,  -999.0,9,  -999.0,-999.000,9,-999.000, -999.00,9,  455.10,-999.0000,9,-999.0000,9,-999.0000,9,-999.0000,9,-999.0000,9,-999.0000,-999.000,-999.0000,9, -999.00
318M20040615,        P02,     121,          1,         26,         26,2,20040807,       1930,    30.0007,  -158.3148,       5749,   504.9,   8.1553,  34.0705,2,  34.0682,2, 171.5000,3,   170.3,2,   34.38,2,   23.11,2,    0.00,2,    1.64,2,-999.000,1,-999.000,1,-999.000,1,  2160.0,2,  2273.8,2,-999.000,9,-999.0000,9, -999.00,9,    0.22,2,     4.2,2,     4.8,-999.000,9,-999.000, -999.00,9,  504.90,   0.0540,2,   0.1530,2,   0.0170,2,   0.1110,2,   0.0180,2,-999.0000,-999.000,   0.0360,2, -999.00
318M20040615,        P02,     121,          1,         25,         25,2,20040807,       1930,    30.0007,  -158.3148,       5749,   604.8,   6.2407,  34.0121,2,  34.0088,2, 126.1000,3,   122.5,2,   56.90,2,   31.00,2,    0.00,2,    2.24,2,   2.852,2,   1.435,2,   0.103,2,  2221.9,2,  2289.9,2,-999.000,9,-999.0000,9, -999.00,9,    0.01,2,   -43.0,2,     3.6,-999.000,9,-999.000, -999.00,9,  604.80,-999.0000,9,-999.0000,9,-999.0000,9,-999.0000,9,-999.0000,9,-999.0000,-999.000,-999.0000,9, -999.00
318M20040615,        P02,     121,          1,         24,         24,2,20040807,       1930,    30.0007,  -158.3148,       5749,   705.1,   5.0057,  34.0378,2,  34.0346,2,  83.3000,3,    82.5,2,   77.63,2,   36.40,2,    0.00,2,    2.64,2,   1.883,2,   0.920,2,   0.049,2,  2271.7,2,  2306.9,2,-999.000,9,-999.0000,9, -999.00,9,   -0.17,2,   -89.6,2,     4.1,-999.000,9,-999.000, -999.00,9,  705.10,   0.0800,2,   0.2020,2,   0.0140,2,   0.1470,2,   0.0150,2,-999.0000,-999.000,   0.0590,2, -999.00
318M20040615,        P02,     121,          1,         23,         23,2,20040807,       1930,    30.0007,  -158.3148,       5749,   809.7,   4.2599,  34.1423,2,  34.1408,2,  39.0000,3,    38.7,2,  100.03,2,   41.10,2,    0.00,2,    2.97,2,   0.284,6,   0.141,6,   0.000,6,  2321.6,2,  2329.3,2,-999.000,9,-999.0000,9, -999.00,9,   -0.41,2,  -148.7,2,     3.7,-999.000,9,-999.000, -999.00,9,  809.70,-999.0000,9,-999.0000,9,-999.0000,9,-999.0000,9,-999.0000,9,-999.0000,-999.000,-999.0000,9, -999.00
318M20040615,        P02,     121,          1,         22,         22,2,20040807,       1930,    30.0007,  -158.3148,       5749,   909.4,   3.7892,  34.2481,2,  34.2449,2,  17.4000,3,    16.6,2,  116.27,2,   43.28,2,    0.00,2,    3.15,2,   0.042,2,   0.021,2,   0.000,2,  2352.1,2,  2351.3,2,-999.000,9,-999.0000,9, -999.00,9, -999.00,9,  -999.0,9,  -999.0,-999.000,9,-999.000, -999.00,9,  909.40,   0.0990,2,   0.2290,2,   0.0130,2,   0.1700,2,   0.0130,2,-999.0000,-999.000,   0.0740,2, -999.00
318M20040615,        P02,     121,          1,         21,         21,2,20040807,       1930,    30.0007,  -158.3148,       5749,  1009.5,   3.5463,  34.3281,2,  34.3241,2,  11.1000,3,    10.4,2,  126.30,2,   43.98,2,    0.00,2,    3.21,2,-999.000,9,-999.000,9,-999.000,9,  2364.7,2,  2365.5,2,-999.000,9,-999.0000,9, -999.00,9,   -0.49,2,  -195.5,2,     2.9,-999.000,9,-999.000, -999.00,9, 1009.50,-999.0000,9,-999.0000,9,-999.0000,9,-999.0000,9,-999.0000,9,-999.0000,-999.000,-999.0000,9, -999.00
318M20040615,        P02,     121,          1,         20,         20,2,20040807,       1930,    30.0007,  -158.3148,       5749,  1109.8,   3.3715,  34.3932,2,  34.3912,2,  12.2000,3,    13.6,2,  132.19,2,   44.03,2,    0.00,2,    3.21,2,   0.005,2,   0.001,2,   0.001,2,  2372.0,6,  2374.5,2,-999.000,9,-999.0000,9, -999.00,9, -999.00,9,  -999.0,9,  -999.0,-999.000,9,-999.000, -999.00,9, 1109.80,   0.0960,2,   0.2220,2,   0.0130,2,   0.1650,2,   0.0130,2,-999.0000,-999.000,   0.0740,2, -999.00
318M20040615,        P02,     121,          1,         19,         19,2,20040807,       1930,    30.0007,  -158.3148,       5749,  1210.9,   3.1554,  34.4540,2,  34.4514,2,  19.9000,3,    21.3,2,  137.90,2,   43.98,2,    0.00,2,    3.18,2,   0.002,2,  -0.001,2,   0.000,2,  2375.8,2,  2386.8,2,-999.000,9,-999.0000,9, -999.00,9,   -0.41,2,  -218.0,2,     2.5,-999.000,9,-999.000, -999.00,9, 1210.90,-999.0000,9,-999.0000,9,-999.0000,9,-999.0000,9,-999.0000,9,-999.0000,-999.000,-999.0000,9, -999.00
318M20040615,        P02,     121,          1,         18,         18,2,20040807,       1930,    30.0007,  -158.3148,       5749,  1316.0,   2.9733,  34.4964,2,  34.4946,2,  31.9000,3,    33.0,2,  141.05,2,   43.44,2,    0.00,2,    3.13,2,-999.000,9,-999.000,9,-999.000,9,  2374.9,2,  2392.4,6,-999.000,9,-999.0000,9, -999.00,9, -999.00,9,  -999.0,9,  -999.0,-999.000,9,-999.000, -999.00,9, 1316.00,-999.0000,9,-999.0000,9,-999.0000,9,-999.0000,9,-999.0000,9,-999.0000,-999.000,-999.0000,9, -999.00
318M20040615,        P02,     121,          1,         17,         17,2,20040807,       1930,    30.0007,  -158.3148,       5749,  1416.6,   2.7753,  34.5284,2,  34.5250,2,  43.2000,3,    45.1,2,  144.80,2,   42.69,2,    0.00,2,    3.06,2,   0.001,2,  -0.002,2,   0.000,2,  2372.0,2,  2399.7,2,-999.000,9,-999.0000,9, -999.00,9,   -0.28,2,  -233.2,2,     2.5,-999.000,9,-999.000, -999.00,9, 1416.60,-999.0000,9,-999.0000,9,-999.0000,9,-999.0000,9,-999.0000,9,-999.0000,-999.000,-999.0000,9, -999.00
318M20040615,        P02,     121,          1,         16,         16,2,20040807,       1930,    30.0007,  -158.3148,       5749,  1517.0,   2.5972,  34.5547,2,  34.5507,2,  53.5000,3,    58.7,2,  146.56,2,   41.68,2,    0.00,2,    2.99,2,   0.001,2,  -0.003,2,   0.000,2,  2367.5,2,  2404.5,2,-999.000,9,-999.0000,9, -999.00,9,   -0.22,2,  -233.3,2,     3.4,-999.000,9,-999.000, -999.00,9, 1517.00,-999.0000,9,-999.0000,9,-999.0000,9,-999.0000,9,-999.0000,9,-999.0000,-999.000,-999.0000,9, -999.00
318M20040615,        P02,     121,          1,         15,         15,2,20040807,       1930,    30.0007,  -158.3148,       5749,  1617.4,   2.4489,  34.5702,2,  34.5626,2,  62.1000,3,    64.7,2,  149.91,2,   41.31,2,    0.00,2,    2.96,2,-999.000,9,-999.000,9,-999.000,9,  2368.1,2,  2407.8,2,-999.000,9,-999.0000,9, -999.00,9,   -0.19,2,  -233.0,2,     4.5,-999.000,9,-999.000, -999.00,9, 1617.40,-999.0000,9,-999.0000,9,-999.0000,9,-999.0000,9,-999.0000,9,-999.0000,-999.000,-999.0000,9, -999.00
318M20040615,        P02,     121,          1,         14,         14,2,20040807,       1930,    30.0007,  -158.3148,       5749,  1823.6,   2.1813,  34.5963,2,  34.5956,2,  73.6000,2,    75.2,2,  156.24,2,   40.67,2,    0.00,2,    2.90,2,   0.002,2,   0.000,2,   0.000,2,  2366.7,2,  2414.5,2,-999.000,9,-999.0000,9, -999.00,9,   -0.14,2,  -236.3,2,     3.4,-999.000,9,-999.000, -999.00,9, 1823.60,-999.0000,9,-999.0000,9,-999.0000,9,-999.0000,9,-999.0000,9,-999.0000,-999.000,-999.0000,9, -999.00
318M20040615,        P02,     121,          1,         13,         13,2,20040807,       1930,    30.0007,  -158.3148,       5749,  2025.0,   1.9918,  34.6144,2,  34.6128,2,  82.1000,2,    82.7,2,  161.00,2,   40.19,2,    0.00,2,    2.87,2,   0.000,2,  -0.002,2,   0.000,2,  2366.7,2,  2419.9,2,-999.000,9,-999.0000,9, -999.00,9,   -0.19,2,  -244.5,2,     3.8,-999.000,9,-999.000, -999.00,9, 2025.00,   0.0830,2,   0.1990,2,   0.0130,2,   0.1460,2,   0.0140,2,-999.0000,-999.000,   0.0610,2, -999.00
318M20040615,        P02,     121,          1,         12,         12,2,20040807,       1930,    30.0007,  -158.3148,       5749,  2277.5,   1.8413,  34.6311,2,  34.6236,2,  92.4000,3,    92.5,2,  163.59,2,   39.56,2,    0.00,2,    2.82,2,-999.000,9,-999.000,9,-999.000,9,  2364.3,2,  2422.9,2,-999.000,9,-999.0000,9, -999.00,9,   -0.07,2,  -244.6,2,     3.9,-999.000,9,-999.000, -999.00,9, 2277.50,-999.0000,9,-999.0000,9,-999.0000,9,-999.0000,9,-999.0000,9,-999.0000,-999.000,-999.0000,9, -999.00
318M20040615,        P02,     121,          1,         11,         11,2,20040807,       1930,    30.0007,  -158.3148,       5749,  2534.2,   1.7225,  34.6445,2,  34.6429,2, 102.5000,2,   102.1,2,  164.79,2,   39.04,2,    0.00,2,    2.78,2,   0.002,2,   0.001,2,   0.000,2,  2361.0,2,  2426.8,2,-999.000,9,-999.0000,9, -999.00,9,   -0.04,2,  -235.7,2,     3.6,-999.000,9,-999.000, -999.00,9, 2534.20,-999.0000,9,-999.0000,9,-999.0000,9,-999.0000,9,-999.0000,9,-999.0000,-999.000,-999.0000,9, -999.00
318M20040615,        P02,     121,          1,         10,         10,2,20040807,       1930,    30.0007,  -158.3148,       5749,  2786.6,   1.6274,  34.6558,2,  34.6555,2, 112.3000,2,   112.9,2,  164.18,2,   38.51,2,    0.00,2,    2.72,2,   0.002,2,  -0.003,2,   0.000,2,  2355.9,2,  2426.9,2,-999.000,9,-999.0000,9, -999.00,9,    0.01,2,  -231.6,2,     3.1,-999.000,9,-999.000, -999.00,9, 2786.60,-999.0000,9,-999.0000,9,-999.0000,9,-999.0000,9,-999.0000,9,-999.0000,-999.000,-999.0000,9, -999.00
318M20040615,        P02,     121,          1,          9,          9,2,20040807,       1930,    30.0007,  -158.3148,       5749,  3044.4,   1.5676,  34.6641,2,  34.6641,2, 121.2000,2,   121.2,2,  162.97,2,   38.09,2,    0.00,2,    2.67,2,-999.000,9,-999.000,9,-999.000,9,  2350.3,2,  2426.7,2,-999.000,9,-999.0000,9, -999.00,9,    0.07,2,  -242.4,2,     3.5,-999.000,9,-999.000, -999.00,9, 3044.40,-999.0000,9,-999.0000,9,-999.0000,9,-999.0000,9,-999.0000,9,-999.0000,-999.000,-999.0000,9, -999.00
318M20040615,        P02,     121,          1,          8,          8,2,20040807,       1930,    30.0007,  -158.3148,       5749,  3453.4,   1.5118,  34.6740,2,  34.6731,2, 132.8000,2,   133.3,2,  160.58,2,   37.30,2,    0.00,2,    2.61,2,   0.003,2,  -0.002,2,   0.000,2,  2342.6,2,  2427.2,2,-999.000,9,-999.0000,9, -999.00,9,    0.14,2,  -243.2,2,     3.9,-999.000,9,-999.000, -999.00,9, 3453.40,-999.0000,9,-999.0000,9,-999.0000,9,-999.0000,9,-999.0000,9,-999.0000,-999.000,-999.0000,9, -999.00
318M20040615,        P02,     121,          1,          7,          7,2,20040807,       1930,    30.0007,  -158.3148,       5749,  3864.3,   1.4844,  34.6808,2,  34.6804,2, 141.3000,2,   142.0,2,  157.79,2,   36.67,2,    0.00,2,    2.56,2,  -0.004,2,  -0.003,2,   0.000,2,  2334.8,2,  2426.3,2,-999.000,9,-999.0000,9, -999.00,9,    0.17,2,  -240.4,2,     4.3,-999.000,9,-999.000, -999.00,9, 3864.30,-999.0000,9,-999.0000,9,-999.0000,9,-999.0000,9,-999.0000,9,-999.0000,-999.000,-999.0000,9, -999.00
318M20040615,        P02,     121,          1,          6,          6,2,20040807,       1930,    30.0007,  -158.3148,       5749,  4270.9,   1.4870,  34.6851,2,  34.6858,2, 147.8000,2,   148.2,2,  155.01,2,   36.09,2,    0.00,2,    2.52,2,-999.000,9,-999.000,9,-999.000,9,  2330.4,2,  2426.7,2,-999.000,9,-999.0000,9, -999.00,9,    0.23,2,  -219.6,2,     3.4,-999.000,9,-999.000, -999.00,9, 4270.90,   0.0740,2,   0.1800,2,   0.0130,2,   0.1310,2,   0.0140,2,-999.0000,-999.000,   0.0530,2, -999.00
318M20040615,        P02,     121,          1,          5,          5,2,20040807,       1930,    30.0007,  -158.3148,       5749,  4683.5,   1.5034,  34.6883,2,  34.6876,2, 153.3000,2,   154.6,2,  151.63,2,   35.73,2,    0.00,2,    2.49,2,   0.006,2,   0.002,2,   0.000,2,  2326.4,2,  2424.6,2,-999.000,9,-999.0000,9, -999.00,9,    0.24,2,  -220.4,2,     4.4,-999.000,9,-999.000, -999.00,9, 4683.50,-999.0000,9,-999.0000,9,-999.0000,9,-999.0000,9,-999.0000,9,-999.0000,-999.000,-999.0000,9, -999.00
318M20040615,        P02,     121,          1,          4,          4,2,20040807,       1930,    30.0007,  -158.3148,       5749,  5096.8,   1.5322,  34.6901,2,  34.6903,2, 157.1000,2,   157.8,2,  148.28,2,   35.37,2,    0.00,2,    2.47,2,   0.006,2,   0.004,2,   0.000,2,  2321.9,2,  2421.9,2,-999.000,9,-999.0000,9, -999.00,9,    0.22,2,  -204.6,2,     4.0,-999.000,9,-999.000, -999.00,9, 5096.80,-999.0000,9,-999.0000,9,-999.0000,9,-999.0000,9,-999.0000,9,-999.0000,-999.000,-999.0000,9, -999.00
318M20040615,        P02,     121,          1,          3,          3,2,20040807,       1930,    30.0007,  -158.3148,       5749,  5509.2,   1.5771,  34.6909,2,  34.6906,2, 159.1000,2,   159.1,2,  146.70,2,   35.27,2,    0.00,2,    2.47,2,   0.008,2,   0.003,2,   0.000,2,  2320.6,2,  2421.4,2,-999.000,9,-999.0000,9, -999.00,9,    0.25,2,  -205.4,2,     4.1,-999.000,9,-999.000, -999.00,9, 5509.20,-999.0000,9,-999.0000,9,-999.0000,9,-999.0000,9,-999.0000,9,-999.0000,-999.000,-999.0000,9, -999.00
318M20040615,        P02,     121,          1,          2,          2,2,20040807,       1930,    30.0007,  -158.3148,       5749,  5698.8,   1.5992,  34.6912,2,  34.6918,2, 160.1000,2,   160.4,2,  145.90,2,   35.27,2,    0.00,2,    2.47,2,   0.006,2,   0.002,2,   0.000,2,  2319.4,2,  2421.3,2,-999.000,9,-999.0000,9, -999.00,9,    0.30,2,  -205.6,2,     3.6,-999.000,9,-999.000, -999.00,9, 5698.80,-999.0000,9,-999.0000,9,-999.0000,9,-999.0000,9,-999.0000,9,-999.0000,-999.000,-999.0000,9, -999.00
318M20040615,        P02,     121,          1,          1,          1,2,20040807,       1930,    30.0007,  -158.3148,       5749,  5892.6,   1.6233,  34.6912,2,  34.6921,2, 160.3000,2,   161.0,2,  145.50,2,   35.37,2,    0.00,2,    2.46,2,   0.010,2,   0.007,2,   0.000,2,  2319.6,6,  2419.5,6,-999.000,9,-999.0000,9, -999.00,9,    0.28,2,  -213.2,2,     3.9,-999.000,9,-999.000, -999.00,9, 5892.60,-999.0000,9,-999.0000,9,-999.0000,9,-999.0000,9,-999.0000,9,-999.0000,-999.000,-999.0000,9, -999.00