BOTTLE,20131027SIOCCHRJL
EXPOCODE,SECT_ID,STNNBR,CASTNO,SAMPNO,BTLNBR,BTLNBR_FLAG_W,DATE,TIME,LATITUDE,LONGITUDE,DEPTH,CTDPRS,CTDTMP,CTDSAL,CTDSAL_FLAG_W,SALNTY,SALNTY_FLAG_W,CTDOXY,CTDOXY_FLAG_W,OXYGEN,OXYGEN_FLAG_W,SILCAT,SILCAT_FLAG_W,NITRAT,NITRAT_FLAG_W,NITRIT,NITRIT_FLAG_W,PHSPHT,PHSPHT_FLAG_W,CFC-11,CFC-11_FLAG_W,CFC-12,CFC-12_FLAG_W,CFC113,CFC113_FLAG_W,TCARBN,TCARBN_FLAG_W,ALKALI,ALKALI_FLAG_W,TRITUM,TRITUM_FLAG_W,HELIUM,HELIUM_FLAG_W,DELHE3,DELHE3_FLAG_W,DELC13,DELC13_FLAG_W,DELC14,DELC14_FLAG_W,C14ERR,NEON,NEON_FLAG_W,NEONER,DOC,DOC_FLAG_W,CTDRAW,CDOM380,CDOM380_FLAG_W,CDOM325,CDOM325_FLAG_W,CDOMSL,CDOMSL_FLAG_W,CDOM340,CDOM340_FLAG_W,CDOMSN,CDOMSN_FLAG_W,HELIER,TRITER,CDOM412,CDOM412_FLAG_W,DELHER
,,,,,,,,,,,METERS,DBAR,ITS-90,PSS-78,,PSS-78,,UMOL/KG,,UMOL/KG,,UMOL/KG,,UMOL/KG,,UMOL/KG,,UMOL/KG,,PMOL/KG,,PMOL/KG,,PMOL/KG,,UMOL/KG,,UMOL/KG,,TU,,NMOL/KG,,PERCNT,,/MILLE,,/MILLE,,/MILLE,NMOL/KG,,NMOL/KG,UMOL/KG,,DBAR,1/M,,1/M,,1/NM,,1/M,,1/NM,,NMOL/KG,TU,1/M,,PERCNT
318M20040615,        P02,     177,          1,         36,         36,2,20040824,       1720,    31.2793,  -121.2663,       3866,     8.6,  18.5463,  33.2938,2,  33.2900,2, 251.5000,2,   249.8,2,    0.96,2,    0.06,2,    0.00,2,    0.24,2,   2.590,2,   1.544,2,   0.187,2,  1984.7,2,  2232.2,6,-999.000,9,-999.0000,9, -999.00,9, -999.00,9,  -999.0,9,  -999.0,-999.000,9,-999.000,   60.20,2,    8.60,   0.1050,2,   0.2620,2,   0.0120,2,   0.2000,2,   0.0140,2,-999.0000,-999.000,   0.0730,2, -999.00
318M20040615,        P02,     177,          1,         35,         35,2,20040824,       1720,    31.2793,  -121.2663,       3866,    20.3,  17.4918,  33.2551,2,  33.2614,2, 253.3000,2,   253.4,2,    0.96,2,    0.06,2,    0.00,2,    0.25,2,   2.727,2,   1.631,2,   0.184,2,  1987.1,6,  2230.4,2,-999.000,9,-999.0000,9, -999.00,9, -999.00,9,  -999.0,9,  -999.0,-999.000,9,-999.000,   59.90,2,   20.30,-999.0000,9,-999.0000,9,-999.0000,9,-999.0000,9,-999.0000,9,-999.0000,-999.000,-999.0000,9, -999.00
318M20040615,        P02,     177,          1,         34,         34,2,20040824,       1720,    31.2793,  -121.2663,       3866,    45.6,  12.5165,  32.8278,2,  32.8280,2, 259.6000,2,   260.5,2,    3.15,2,    2.64,2,    0.14,2,    0.58,2,-999.000,9,-999.000,9,-999.000,9,  2009.1,2,  2201.4,2,-999.000,9,-999.0000,9, -999.00,9, -999.00,9,  -999.0,9,  -999.0,-999.000,9,-999.000,   55.10,2,   45.60,   0.0930,2,   0.2490,2,   0.0160,2,   0.1860,2,   0.0170,2,-999.0000,-999.000,   0.0630,2, -999.00
318M20040615,        P02,     177,          1,         33,         33,2,20040824,       1720,    31.2793,  -121.2663,       3866,    85.1,  10.9550,  33.2942,2,  33.2953,2, 196.2000,2,   199.5,2,   11.57,2,   15.52,2,    0.03,2,    1.28,2,   3.555,2,   2.023,2,   0.207,2,  2094.4,2,  2220.8,2,-999.000,9,-999.0000,9, -999.00,9, -999.00,9,  -999.0,9,  -999.0,-999.000,9,-999.000,   49.60,2,   85.10,   0.0820,2,   0.2140,2,   0.0150,2,   0.1580,2,   0.0160,2,-999.0000,-999.000,   0.0590,2, -999.00
318M20040615,        P02,     177,          1,         32,         32,2,20040824,       1720,    31.2793,  -121.2663,       3866,   110.2,   9.5696,  33.5436,2,  33.5538,2, 155.0000,2,   157.3,2,   20.20,2,   21.66,2,    0.02,2,    1.67,2,-999.000,9,-999.000,9,-999.000,9,  2142.1,2,  2232.8,2,-999.000,9,-999.0000,9, -999.00,9, -999.00,9,  -999.0,9,  -999.0,-999.000,9,-999.000,   45.80,2,  110.20,-999.0000,9,-999.0000,9,-999.0000,9,-999.0000,9,-999.0000,9,-999.0000,-999.000,-999.0000,9, -999.00
318M20040615,        P02,     177,          1,         31,         31,2,20040824,       1720,    31.2793,  -121.2663,       3866,   134.3,   9.1983,  33.7673,2,  33.7653,2, 134.1000,2,   135.0,2,   25.22,2,   24.28,2,    0.02,2,    1.83,2,   3.240,2,   1.757,2,   0.139,2,  2166.8,2,  2244.7,2,-999.000,9,-999.0000,9, -999.00,9, -999.00,9,  -999.0,9,  -999.0,-999.000,9,-999.000,   44.70,2,  134.30,   0.0820,2,   0.2020,2,   0.0130,2,   0.1490,2,   0.0150,2,-999.0000,-999.000,   0.0620,2, -999.00
318M20040615,        P02,     177,          1,         30,         30,2,20040824,       1720,    31.2793,  -121.2663,       3866,   159.8,   8.9243,  33.8852,2,  33.8774,2, 126.1000,2,   125.5,2,   28.23,2,   25.80,2,    0.01,2,    1.92,2,-999.000,9,-999.000,9,-999.000,9,  2179.1,2,  2253.4,2,-999.000,9,-999.0000,9, -999.00,9, -999.00,9,  -999.0,9,  -999.0,-999.000,9,-999.000, -999.00,9,  159.80,-999.0000,9,-999.0000,9,-999.0000,9,-999.0000,9,-999.0000,9,-999.0000,-999.000,-999.0000,9, -999.00
318M20040615,        P02,     177,          1,         29,         29,2,20040824,       1720,    31.2793,  -121.2663,       3866,   184.1,   8.8734,  34.0084,2,  34.0059,2, 102.3000,2,    99.1,2,   32.65,2,   27.87,2,    0.01,2,    2.10,2,   2.659,2,   1.408,2,   0.096,2,  2202.0,2,  2261.4,2,-999.000,9,-999.0000,9, -999.00,9, -999.00,9,  -999.0,9,  -999.0,-999.000,9,-999.000,   45.50,2,  184.10,   0.1540,2,   0.3130,2,   0.0100,2,   0.2470,2,   0.0110,2,-999.0000,-999.000,   0.1210,2, -999.00
318M20040615,        P02,     177,          1,         28,         28,2,20040824,       1720,    31.2793,  -121.2663,       3866,   209.8,   8.4336,  34.0585,2,  34.0659,2,  89.1000,2,    99.0,2,   35.87,2,   28.74,2,    0.02,2,    2.13,2,-999.000,9,-999.000,9,-999.000,9,  2209.1,2,  2268.8,2,-999.000,9,-999.0000,9, -999.00,9, -999.00,9,  -999.0,9,  -999.0,-999.000,9,-999.000, -999.00,9,  209.80,-999.0000,9,-999.0000,9,-999.0000,9,-999.0000,9,-999.0000,9,-999.0000,-999.000,-999.0000,9, -999.00
318M20040615,        P02,     177,          1,         27,         27,2,20040824,       1720,    31.2793,  -121.2663,       3866,   234.6,   8.0612,  34.0515,2,  34.0535,2, 103.1000,2,   101.6,2,   39.09,2,   29.72,2,    0.02,2,    2.16,2,   2.483,6,   1.283,6,   0.096,6,  2211.4,2,  2271.0,2,-999.000,9,-999.0000,9, -999.00,9, -999.00,9,  -999.0,9,  -999.0,-999.000,9,-999.000,   43.50,2,  234.60,   0.1560,3,   0.3050,3,   0.0090,3,   0.2410,3,   0.0100,3,-999.0000,-999.000,   0.1250,3, -999.00
318M20040615,        P02,     177,          1,         26,         26,2,20040824,       1720,    31.2793,  -121.2663,       3866,   289.5,   7.4239,  34.1009,2,  34.0990,2,  72.3000,2,    69.2,2,   49.18,2,   33.53,2,    0.01,2,    2.48,2,-999.000,9,-999.000,9,-999.000,9,  2246.3,2,  2282.8,2,-999.000,9,-999.0000,9, -999.00,9, -999.00,9,  -999.0,9,  -999.0,-999.000,9,-999.000, -999.00,9,  289.50,   0.0920,2,   0.2170,2,   0.0130,2,   0.1610,2,   0.0140,2,-999.0000,-999.000,   0.0700,2, -999.00
318M20040615,        P02,     177,          1,         25,         25,2,20040824,       1720,    31.2793,  -121.2663,       3866,   339.4,   6.6634,  34.0877,2,  34.0802,2,  62.7000,2,    60.4,2,   57.68,2,   35.92,2,    0.00,2,    2.63,2,   1.376,2,   0.688,2,   0.047,2,  2262.2,2,  2286.4,2,-999.000,9,-999.0000,9, -999.00,9, -999.00,9,  -999.0,9,  -999.0,-999.000,9,-999.000,   40.20,2,  339.40,   0.0930,2,   0.2190,2,   0.0130,2,   0.1620,2,   0.0140,2,-999.0000,-999.000,   0.0720,2, -999.00
318M20040615,        P02,     177,          1,         24,         24,2,20040824,       1720,    31.2793,  -121.2663,       3866,   388.9,   6.1902,  34.1059,2,  34.1049,2,  50.4000,2,    46.3,2,   64.79,2,   37.74,2,    0.00,2,    2.78,2,-999.000,9,-999.000,9,-999.000,9,  2278.4,6,  2295.2,2,-999.000,9,-999.0000,9, -999.00,9, -999.00,9,  -999.0,9,  -999.0,-999.000,9,-999.000, -999.00,9,  388.90,   0.0970,2,   0.2260,2,   0.0130,2,   0.1690,2,   0.0130,2,-999.0000,-999.000,   0.0750,2, -999.00
318M20040615,        P02,     177,          1,         23,         23,2,20040824,       1720,    31.2793,  -121.2663,       3866,   438.5,   5.7998,  34.1324,2,  34.1349,2,  37.5000,2,    35.2,2,   72.10,2,   39.13,2,    0.00,2,    2.90,2,   0.667,2,   0.330,2,   0.013,2,  2294.5,2,  2306.5,2,-999.000,9,-999.0000,9, -999.00,9, -999.00,9,  -999.0,9,  -999.0,-999.000,9,-999.000, -999.00,9,  438.50,-999.0000,9,-999.0000,9,-999.0000,9,-999.0000,9,-999.0000,9,-999.0000,-999.000,-999.0000,9, -999.00
318M20040615,        P02,     177,          1,         22,         22,2,20040824,       1720,    31.2793,  -121.2663,       3866,   493.1,   5.6539,  34.1835,2,  34.1821,2,  24.4000,2,    24.8,2,   77.39,2,   39.98,2,    0.00,2,    2.99,2,-999.000,9,-999.000,9,-999.000,9,  2306.4,2,  2312.7,2,-999.000,9,-999.0000,9, -999.00,9, -999.00,9,  -999.0,9,  -999.0,-999.000,9,-999.000,   39.00,2,  493.10,   0.0920,2,   0.2180,2,   0.0130,2,   0.1610,2,   0.0140,2,-999.0000,-999.000,   0.0700,2, -999.00
318M20040615,        P02,     177,          1,         21,         21,2,20040824,       1720,    31.2793,  -121.2663,       3866,   571.7,   5.2653,  34.2462,2,  34.2449,2,  14.8000,2,    15.8,2,   86.77,2,   41.49,2,    0.00,2,    3.11,2,   0.181,2,   0.092,2,   0.000,2,  2332.1,2,  2324.4,2,-999.000,9,-999.0000,9, -999.00,9, -999.00,9,  -999.0,9,  -999.0,-999.000,9,-999.000,   39.80,2,  571.70,-999.0000,9,-999.0000,9,-999.0000,9,-999.0000,9,-999.0000,9,-999.0000,-999.000,-999.0000,9, -999.00
318M20040615,        P02,     177,          1,         20,         20,2,20040824,       1720,    31.2793,  -121.2663,       3866,   678.0,   4.8076,  34.3280,2,  34.3275,2,  11.1000,2,    10.5,2,   97.82,2,   42.95,2,    0.00,2,    3.19,2,-999.000,9,-999.000,9,-999.000,9,  2338.4,2,  2342.8,2,-999.000,9,-999.0000,9, -999.00,9, -999.00,9,  -999.0,9,  -999.0,-999.000,9,-999.000,   44.20,3,  678.00,   0.0780,2,   0.1980,2,   0.0140,2,   0.1440,2,   0.0150,2,-999.0000,-999.000,   0.0560,2, -999.00
318M20040615,        P02,     177,          1,         19,         19,2,20040824,       1720,    31.2793,  -121.2663,       3866,   779.2,   4.4795,  34.3945,2,  34.3977,2,  12.9000,2,    12.4,2,  105.81,2,   43.59,2,    0.00,2,    3.21,2,   0.032,2,   0.018,2,   0.009,2,  2350.5,2,  2352.1,2,-999.000,9,-999.0000,9, -999.00,9, -999.00,9,  -999.0,9,  -999.0,-999.000,9,-999.000,   36.40,2,  779.20,-999.0000,9,-999.0000,9,-999.0000,9,-999.0000,9,-999.0000,9,-999.0000,-999.000,-999.0000,9, -999.00
318M20040615,        P02,     177,          1,         18,         18,2,20040824,       1720,    31.2793,  -121.2663,       3866,   878.7,   4.3290,  34.4552,2,  34.4543,2,  17.6000,2,    17.4,2,  109.71,2,   43.58,2,    0.00,2,    3.21,2,-999.000,9,-999.000,9,-999.000,9,  2354.1,2,  2366.1,6,-999.000,9,-999.0000,9, -999.00,9, -999.00,9,  -999.0,9,  -999.0,-999.000,9,-999.000,   38.30,2,  878.70,   0.0780,2,   0.1870,2,   0.0130,2,   0.1360,2,   0.0140,2,-999.0000,-999.000,   0.0580,2, -999.00
318M20040615,        P02,     177,          1,         17,         17,2,20040824,       1720,    31.2793,  -121.2663,       3866,   979.6,   3.9509,  34.4761,2,  34.4757,2,  22.8000,2,    22.8,2,  117.11,2,   43.67,2,    0.00,2,    3.19,2,   0.022,2,   0.015,2,   0.000,2,  2359.5,2,  2374.1,2,-999.000,9,-999.0000,9, -999.00,9, -999.00,9,  -999.0,9,  -999.0,-999.000,9,-999.000, -999.00,9,  979.60,-999.0000,9,-999.0000,9,-999.0000,9,-999.0000,9,-999.0000,9,-999.0000,-999.000,-999.0000,9, -999.00
318M20040615,        P02,     177,          1,         16,         16,2,20040824,       1720,    31.2793,  -121.2663,       3866,  1078.6,   3.7086,  34.5013,2,  34.5000,2,  27.7000,2,    27.4,2,  123.09,2,   43.50,2,    0.00,2,    3.18,2,-999.000,9,-999.000,9,-999.000,9,  2363.2,2,  2380.4,2,-999.000,9,-999.0000,9, -999.00,9, -999.00,9,  -999.0,9,  -999.0,-999.000,9,-999.000,   36.50,2, 1078.60,   0.1020,2,   0.2240,2,   0.0120,2,   0.1680,2,   0.0130,2,-999.0000,-999.000,   0.0780,2, -999.00
318M20040615,        P02,     177,          1,         15,         15,2,20040824,       1720,    31.2793,  -121.2663,       3866,  1178.5,   3.4109,  34.5167,2,  34.5165,2,  32.3000,2,    32.9,2,  130.34,2,   43.39,2,    0.00,2,    3.15,2,   0.024,2,   0.018,2,   0.009,2,  2366.8,2,  2390.1,2,-999.000,9,-999.0000,9, -999.00,9, -999.00,9,  -999.0,9,  -999.0,-999.000,9,-999.000, -999.00,9, 1178.50,-999.0000,9,-999.0000,9,-999.0000,9,-999.0000,9,-999.0000,9,-999.0000,-999.000,-999.0000,9, -999.00
318M20040615,        P02,     177,          1,         14,         14,2,20040824,       1720,    31.2793,  -121.2663,       3866,  1285.5,   3.1928,  34.5358,2,  34.5346,2,  37.0000,2,    38.0,2,  135.53,2,   43.11,2,    0.00,2,    3.12,2,-999.000,9,-999.000,9,-999.000,9,  2370.2,2,  2395.0,2,-999.000,9,-999.0000,9, -999.00,9, -999.00,9,  -999.0,9,  -999.0,-999.000,9,-999.000,   35.50,2, 1285.50,-999.0000,9,-999.0000,9,-999.0000,9,-999.0000,9,-999.0000,9,-999.0000,-999.000,-999.0000,9, -999.00
318M20040615,        P02,     177,          1,         13,         13,2,20040824,       1720,    31.2793,  -121.2663,       3866,  1385.0,   2.9885,  34.5499,2,  34.5501,2,  42.4000,2,    42.7,2,  140.71,2,   42.93,2,    0.00,2,    3.10,2,   0.023,2,   0.015,2,   0.000,2,  2370.8,2,  2400.8,2,-999.000,9,-999.0000,9, -999.00,9, -999.00,9,  -999.0,9,  -999.0,-999.000,9,-999.000, -999.00,9, 1385.00,-999.0000,9,-999.0000,9,-999.0000,9,-999.0000,9,-999.0000,9,-999.0000,-999.000,-999.0000,9, -999.00
318M20040615,        P02,     177,          1,         12,         12,2,20040824,       1720,    31.2793,  -121.2663,       3866,  1484.9,   2.8042,  34.5625,2,  34.5617,2,  47.6000,2,    47.9,2,  145.28,2,   42.81,2,    0.00,2,    3.07,2,-999.000,9,-999.000,9,-999.000,9,  2373.0,2,  2403.4,2,-999.000,9,-999.0000,9, -999.00,9, -999.00,9,  -999.0,9,  -999.0,-999.000,9,-999.000, -999.00,9, 1484.90,-999.0000,9,-999.0000,9,-999.0000,9,-999.0000,9,-999.0000,9,-999.0000,-999.000,-999.0000,9, -999.00
318M20040615,        P02,     177,          1,         11,         11,2,20040824,       1720,    31.2793,  -121.2663,       3866,  1585.5,   2.6229,  34.5754,2,  34.5751,2,  52.5000,2,    53.0,2,  149.85,2,   42.59,2,    0.00,2,    3.04,2,   0.012,2,   0.016,2,   0.000,2,  2375.0,2,  2409.9,2,-999.000,9,-999.0000,9, -999.00,9, -999.00,9,  -999.0,9,  -999.0,-999.000,9,-999.000,   35.70,2, 1585.50,-999.0000,9,-999.0000,9,-999.0000,9,-999.0000,9,-999.0000,9,-999.0000,-999.000,-999.0000,9, -999.00
318M20040615,        P02,     177,          1,          5,          5,2,20040824,       1720,    31.2793,  -121.2663,       3866,  1690.5,   2.4311,  34.5911,2,  34.5920,2,  59.8000,2,    60.7,2,  155.18,2,   41.88,2,    0.00,2,    3.00,2,   0.014,2,   0.011,2,   0.000,2,  2374.7,2,  2414.0,2,-999.000,9,-999.0000,9, -999.00,9, -999.00,9,  -999.0,9,  -999.0,-999.000,9,-999.000, -999.00,9, 1690.50,-999.0000,9,-999.0000,9,-999.0000,9,-999.0000,9,-999.0000,9,-999.0000,-999.000,-999.0000,9, -999.00
318M20040615,        P02,     177,          1,          4,          4,2,20040824,       1720,    31.2793,  -121.2663,       3866,  1791.8,   2.2643,  34.6050,2,  34.6042,2,  67.3000,2,    68.5,2,  158.73,2,   41.39,2,    0.00,2,    2.95,2,-999.000,9,-999.000,9,-999.000,9,  2373.6,2,  2418.5,2,-999.000,9,-999.0000,9, -999.00,9, -999.00,9,  -999.0,9,  -999.0,-999.000,9,-999.000, -999.00,9, 1791.80,-999.0000,9,-999.0000,9,-999.0000,9,-999.0000,9,-999.0000,9,-999.0000,-999.000,-999.0000,9, -999.00
318M20040615,        P02,     177,          1,          3,          3,2,20040824,       1720,    31.2793,  -121.2663,       3866,  1993.1,   2.0660,  34.6253,2,  34.6250,2,  80.2000,2,    81.1,2,  161.21,2,   40.84,2,    0.00,2,    2.89,2,   0.008,2,   0.004,2,   0.000,2,  2370.3,2,  2423.8,2,-999.000,9,-999.0000,9, -999.00,9, -999.00,9,  -999.0,9,  -999.0,-999.000,9,-999.000,   36.20,2, 1993.10,-999.0000,9,-999.0000,9,-999.0000,9,-999.0000,9,-999.0000,9,-999.0000,-999.000,-999.0000,9, -999.00
318M20040615,        P02,     177,          1,          2,          2,2,20040824,       1720,    31.2793,  -121.2663,       3866,  2194.4,   1.9082,  34.6410,2,  34.6409,2,  91.8000,2,    92.4,2,  163.09,2,   40.29,2,    0.00,2,    2.82,2,-999.000,9,-999.000,9,-999.000,9,  2366.6,2,  2428.8,2,-999.000,9,-999.0000,9, -999.00,9, -999.00,9,  -999.0,9,  -999.0,-999.000,9,-999.000,   41.30,4, 2194.40,   0.0700,2,   0.1740,2,   0.0130,2,   0.1250,2,   0.0150,2,-999.0000,-999.000,   0.0510,2, -999.00
318M20040615,        P02,     177,          1,          1,          1,2,20040824,       1720,    31.2793,  -121.2663,       3866,  2452.2,   1.8056,  34.6517,2,  34.6521,2, 102.1000,2,   101.6,2,  164.32,2,   39.68,2,    0.00,2,    2.77,2,   0.009,2,   0.004,2,   0.000,2,  2362.5,2,  2431.0,6,-999.000,9,-999.0000,9, -999.00,9, -999.00,9,  -999.0,9,  -999.0,-999.000,9,-999.000,   36.20,2, 2452.20,-999.0000,9,-999.0000,9,-999.0000,9,-999.0000,9,-999.0000,9,-999.0000,-999.000,-999.0000,9, -999.00
318M20040615,        P02,     177,          1,         10,         10,2,20040824,       1720,    31.2793,  -121.2663,       3866,  2709.8,   1.7070,  34.6607,2,  34.6593,2, 109.8000,2,   110.1,2,  165.10,2,   39.11,2,    0.00,2,    2.73,2,   0.006,2,   0.014,2,   0.000,2,  2358.9,2,  2430.3,2,-999.000,9,-999.0000,9, -999.00,9, -999.00,9,  -999.0,9,  -999.0,-999.000,9,-999.000, -999.00,9, 2709.80,-999.0000,9,-999.0000,9,-999.0000,9,-999.0000,9,-999.0000,9,-999.0000,-999.000,-999.0000,9, -999.00
318M20040615,        P02,     177,          1,          9,          9,2,20040824,       1720,    31.2793,  -121.2663,       3866,  2960.9,   1.6444,  34.6659,2,  34.6656,2, 115.9000,2,   115.8,2,  167.18,2,   38.78,2,    0.00,2,    2.69,2,   0.005,2,   0.007,2,   0.000,2,  2356.6,2,  2432.6,2,-999.000,9,-999.0000,9, -999.00,9, -999.00,9,  -999.0,9,  -999.0,-999.000,9,-999.000,   36.50,2, 2960.90,-999.0000,9,-999.0000,9,-999.0000,9,-999.0000,9,-999.0000,9,-999.0000,-999.000,-999.0000,9, -999.00
318M20040615,        P02,     177,          1,          8,          8,2,20040824,       1720,    31.2793,  -121.2663,       3866,  3300.4,   1.5768,  34.6727,2,  34.6717,2, 122.8000,2,   123.4,2,  168.43,2,   38.18,2,    0.00,2,    2.65,2,   0.035,2,   0.025,2,   0.000,2,  2352.7,2,  2436.0,2,-999.000,9,-999.0000,9, -999.00,9, -999.00,9,  -999.0,9,  -999.0,-999.000,9,-999.000,   36.70,2, 3300.40,   0.0610,2,   0.1600,2,   0.0140,2,   0.1150,2,   0.0160,2,-999.0000,-999.000,   0.0430,2, -999.00
318M20040615,        P02,     177,          1,          7,          7,2,20040824,       1720,    31.2793,  -121.2663,       3866,  3696.6,   1.5407,  34.6786,2,  34.6784,2, 129.3000,2,   129.9,2,  168.83,2,   37.63,2,    0.00,2,    2.61,2,   0.037,2,   0.021,2,   0.000,2,  2349.7,6,  2435.3,2,-999.000,9,-999.0000,9, -999.00,9, -999.00,9,  -999.0,9,  -999.0,-999.000,9,-999.000, -999.00,9, 3696.60,-999.0000,9,-999.0000,9,-999.0000,9,-999.0000,9,-999.0000,9,-999.0000,-999.000,-999.0000,9, -999.00
318M20040615,        P02,     177,          1,          6,          6,2,20040824,       1720,    31.2793,  -121.2663,       3866,  3898.9,   1.5479,  34.6798,2,  34.6794,2, 131.0000,2,   131.5,2,  168.61,2,   37.52,2,    0.00,2,    2.61,2,   0.016,2,   0.016,2,   0.000,2,  2350.2,2,  2437.0,2,-999.000,9,-999.0000,9, -999.00,9, -999.00,9,  -999.0,9,  -999.0,-999.000,9,-999.000,   42.60,4, 3898.90,-999.0000,9,-999.0000,9,-999.0000,9,-999.0000,9,-999.0000,9,-999.0000,-999.000,-999.0000,9, -999.00