BOTTLE,20131027SIOCCHRJL
EXPOCODE,SECT_ID,STNNBR,CASTNO,SAMPNO,BTLNBR,BTLNBR_FLAG_W,DATE,TIME,LATITUDE,LONGITUDE,DEPTH,CTDPRS,CTDTMP,CTDSAL,CTDSAL_FLAG_W,SALNTY,SALNTY_FLAG_W,CTDOXY,CTDOXY_FLAG_W,OXYGEN,OXYGEN_FLAG_W,SILCAT,SILCAT_FLAG_W,NITRAT,NITRAT_FLAG_W,NITRIT,NITRIT_FLAG_W,PHSPHT,PHSPHT_FLAG_W,CFC-11,CFC-11_FLAG_W,CFC-12,CFC-12_FLAG_W,CFC113,CFC113_FLAG_W,TCARBN,TCARBN_FLAG_W,ALKALI,ALKALI_FLAG_W,TRITUM,TRITUM_FLAG_W,HELIUM,HELIUM_FLAG_W,DELHE3,DELHE3_FLAG_W,DELC13,DELC13_FLAG_W,DELC14,DELC14_FLAG_W,C14ERR,NEON,NEON_FLAG_W,NEONER,DOC,DOC_FLAG_W,CTDRAW,CDOM380,CDOM380_FLAG_W,CDOM325,CDOM325_FLAG_W,CDOMSL,CDOMSL_FLAG_W,CDOM340,CDOM340_FLAG_W,CDOMSN,CDOMSN_FLAG_W,HELIER,TRITER,CDOM412,CDOM412_FLAG_W,DELHER
,,,,,,,,,,,METERS,DBAR,ITS-90,PSS-78,,PSS-78,,UMOL/KG,,UMOL/KG,,UMOL/KG,,UMOL/KG,,UMOL/KG,,UMOL/KG,,PMOL/KG,,PMOL/KG,,PMOL/KG,,UMOL/KG,,UMOL/KG,,TU,,NMOL/KG,,PERCNT,,/MILLE,,/MILLE,,/MILLE,NMOL/KG,,NMOL/KG,UMOL/KG,,DBAR,1/M,,1/M,,1/NM,,1/M,,1/NM,,NMOL/KG,TU,1/M,,PERCNT
318M20040615,        P02,      72,          1,         36,         36,2,20040711,       1822,    29.9995,   172.0112,       5126,     6.9,  26.4510,  35.3092,2,  35.3090,2, 205.4000,2,   205.2,2,    1.30,2,    0.13,2,    0.00,2,    0.02,2,   1.760,2,   1.085,2,   0.125,2,  1998.2,6,  2317.5,6,-999.000,9,-999.0000,9, -999.00,9, -999.00,9,  -999.0,9,  -999.0,-999.000,9,-999.000,   68.80,2,    6.90,   0.0060,2,   0.0440,2,   0.0340,2,   0.0270,2,   0.0340,2,-999.0000,-999.000,   0.0020,3, -999.00
318M20040615,        P02,      72,          1,         35,         35,2,20040711,       1822,    29.9995,   172.0112,       5126,    41.4,  22.2454,  35.1525,2,  35.1621,2, 230.9000,2,   232.0,2,    1.30,2,    0.14,2,    0.00,2,    0.02,2,   2.127,2,   1.282,2,   0.144,2,  1995.1,2,  2307.4,2,-999.000,9,-999.0000,9, -999.00,9, -999.00,9,  -999.0,9,  -999.0,-999.000,9,-999.000,   65.70,2,   41.40,   0.0210,2,   0.0790,2,   0.0260,2,   0.0510,2,   0.0270,2,-999.0000,-999.000,   0.0110,2, -999.00
318M20040615,        P02,      72,          1,         34,         34,2,20040711,       1822,    29.9995,   172.0112,       5126,    85.6,  18.2936,  34.8559,2,  34.8572,2, 235.6000,2,   236.4,2,    1.99,2,    0.13,2,    0.00,2,    0.07,2,   2.440,2,   1.432,2,   0.145,2,  2005.0,2,  2288.8,2,-999.000,9,-999.0000,9, -999.00,9, -999.00,9,  -999.0,9,  -999.0,-999.000,9,-999.000,   62.20,2,   85.60,   0.0650,2,   0.1620,2,   0.0140,2,   0.1200,2,   0.0150,2,-999.0000,-999.000,   0.0460,2, -999.00
318M20040615,        P02,      72,          1,         33,         33,2,20040711,       1822,    29.9995,   172.0112,       5126,   135.7,  17.1396,  34.7663,2,  34.7758,2, 221.1000,2,   221.3,2,    3.03,2,    3.44,2,    0.05,2,    0.25,2,   2.509,2,   1.469,2,   0.130,2,  2021.4,2,  2281.8,2,-999.000,9,-999.0000,9, -999.00,9, -999.00,9,  -999.0,9,  -999.0,-999.000,9,-999.000,   58.40,2,  135.70,   0.0280,2,   0.0860,2,   0.0210,2,   0.0600,2,   0.0220,2,-999.0000,-999.000,   0.0200,2, -999.00
318M20040615,        P02,      72,          1,         32,         32,2,20040711,       1822,    29.9995,   172.0112,       5126,   184.9,  16.5442,  34.7333,2,  34.7336,2, 221.9000,2,   222.6,2,    3.72,2,    4.31,2,    0.02,2,    0.31,2,   2.550,2,   1.490,2,   0.120,2,  2024.2,2,  2280.5,2,-999.000,9,-999.0000,9, -999.00,9, -999.00,9,  -999.0,9,  -999.0,-999.000,9,-999.000,   54.80,2,  184.90,   0.0300,2,   0.0870,2,   0.0190,2,   0.0610,2,   0.0200,2,-999.0000,-999.000,   0.0220,2, -999.00
318M20040615,        P02,      72,          1,         31,         31,2,20040711,       1822,    29.9995,   172.0112,       5126,   235.1,  16.0565,  34.6877,2,  34.6868,2, 223.9000,2,   223.3,2,    4.76,2,    4.94,2,    0.01,2,    0.35,2,   2.588,2,   1.513,2,   0.114,2,  2029.8,2,  2278.4,2,-999.000,9,-999.0000,9, -999.00,9, -999.00,9,  -999.0,9,  -999.0,-999.000,9,-999.000,   53.50,2,  235.10,   0.0320,2,   0.0900,2,   0.0190,2,   0.0640,2,   0.0200,2,-999.0000,-999.000,   0.0230,2, -999.00
318M20040615,        P02,      72,          1,         30,         30,2,20040711,       1822,    29.9995,   172.0112,       5126,   289.9,  15.3240,  34.6256,2,  34.6269,2, 222.3000,2,   219.1,2,    6.33,2,    6.39,2,    0.01,2,    0.45,2,   2.653,2,   1.514,2,   0.101,2,  2042.4,2,  2276.3,2,-999.000,9,-999.0000,9, -999.00,9, -999.00,9,  -999.0,9,  -999.0,-999.000,9,-999.000,   52.70,2,  289.90,   0.0320,2,   0.0920,2,   0.0190,2,   0.0650,2,   0.0200,2,-999.0000,-999.000,   0.0230,2, -999.00
318M20040615,        P02,      72,          1,         29,         29,2,20040711,       1822,    29.9995,   172.0112,       5126,   340.3,  14.4738,  34.5536,2,  34.5534,2, 214.5000,2,   211.9,2,    8.57,2,    8.32,2,    0.01,2,    0.59,2,   2.698,2,   1.558,2,   0.104,2,  2055.6,2,  2274.5,2,-999.000,9,-999.0000,9, -999.00,9, -999.00,9,  -999.0,9,  -999.0,-999.000,9,-999.000,   51.90,2,  340.30,   0.0490,2,   0.1220,2,   0.0140,2,   0.0900,2,   0.0150,2,-999.0000,-999.000,   0.0360,2, -999.00
318M20040615,        P02,      72,          1,         28,         28,2,20040711,       1822,    29.9995,   172.0112,       5126,   394.2,  13.3767,  34.4731,2,  34.4733,2, 211.3000,2,   206.9,2,   12.22,2,   10.72,2,    0.00,2,    0.74,2,   2.766,2,   1.544,2,   0.075,2,  2072.5,2,  2273.2,2,-999.000,9,-999.0000,9, -999.00,9, -999.00,9,  -999.0,9,  -999.0,-999.000,9,-999.000,   50.90,2,  394.20,   0.0680,2,   0.1530,2,   0.0120,2,   0.1140,2,   0.0130,2,-999.0000,-999.000,   0.0500,2, -999.00
318M20040615,        P02,      72,          1,         27,         27,2,20040711,       1822,    29.9995,   172.0112,       5126,   436.0,  12.4027,  34.3977,2,  34.3922,2, 208.3000,2,   207.0,2,   14.48,2,   12.22,2,    0.00,2,    0.85,2,   2.887,6,   1.597,6,   0.075,6,  2083.8,2,  2270.7,2,-999.000,9,-999.0000,9, -999.00,9, -999.00,9,  -999.0,9,  -999.0,-999.000,9,-999.000,   49.20,2,  436.00,-999.0000,9,-999.0000,9,-999.0000,9,-999.0000,9,-999.0000,9,-999.0000,-999.000,-999.0000,9, -999.00
318M20040615,        P02,      72,          1,         26,         26,2,20040711,       1822,    29.9995,   172.0112,       5126,   491.2,  11.1532,  34.3061,2,  34.3065,2, 203.1000,2,   202.9,2,   19.54,2,   14.82,2,    0.00,2,    1.05,2,   2.881,2,   1.566,2,   0.092,2,  2102.5,2,  2272.0,2,-999.000,9,-999.0000,9, -999.00,9, -999.00,9,  -999.0,9,  -999.0,-999.000,9,-999.000,   47.60,2,  491.20,   0.0770,2,   0.1720,2,   0.0120,2,   0.1300,2,   0.0130,2,-999.0000,-999.000,   0.0560,2, -999.00
318M20040615,        P02,      72,          1,         25,         25,2,20040711,       1822,    29.9995,   172.0112,       5126,   579.2,   8.9763,  34.1309,2,  34.1329,2, 191.6000,2,   191.6,2,   29.49,2,   19.31,2,    0.00,2,    1.40,2,   2.868,2,   1.527,2,   0.119,2,  2136.1,2,  2272.7,2,-999.000,9,-999.0000,9, -999.00,9, -999.00,9,  -999.0,9,  -999.0,-999.000,9,-999.000,   46.80,2,  579.20,-999.0000,9,-999.0000,9,-999.0000,9,-999.0000,9,-999.0000,9,-999.0000,-999.000,-999.0000,9, -999.00
318M20040615,        P02,      72,          1,         24,         24,2,20040711,       1822,    29.9995,   172.0112,       5126,   679.4,   6.8221,  34.0278,2,  34.0287,2, 150.7000,2,   151.5,2,   49.51,2,   26.95,2,    0.00,2,    1.96,2,   2.363,2,   1.201,2,   0.102,2,  2193.1,2,  2282.7,2,-999.000,9,-999.0000,9, -999.00,9, -999.00,9,  -999.0,9,  -999.0,-999.000,9,-999.000,   45.80,2,  679.40,   0.0680,2,   0.1700,2,   0.0130,2,   0.1230,2,   0.0150,2,-999.0000,-999.000,   0.0500,2, -999.00
318M20040615,        P02,      72,          1,         23,         23,2,20040711,       1822,    29.9995,   172.0112,       5126,   779.5,   5.5206,  34.0425,2,  34.0450,2, 110.8000,2,   109.6,2,   70.87,2,   32.95,2,    0.00,2,    2.42,2,   1.666,2,   0.829,2,   0.067,2,  2245.7,2,  2299.1,2,-999.000,9,-999.0000,9, -999.00,9, -999.00,9,  -999.0,9,  -999.0,-999.000,9,-999.000,   43.90,2,  779.50,-999.0000,9,-999.0000,9,-999.0000,9,-999.0000,9,-999.0000,9,-999.0000,-999.000,-999.0000,9, -999.00
318M20040615,        P02,      72,          1,         22,         22,2,20040711,       1822,    29.9995,   172.0112,       5126,   879.7,   4.5946,  34.1324,2,  34.1347,2,  69.4000,2,    69.5,2,   93.22,2,   37.88,2,    0.00,2,    2.76,2,   0.932,2,   0.449,2,   0.035,2,  2294.2,2,  2321.2,2,-999.000,9,-999.0000,9, -999.00,9, -999.00,9,  -999.0,9,  -999.0,-999.000,9,-999.000,   42.30,2,  879.70,   0.1050,2,   0.2410,2,   0.0120,2,   0.1770,2,   0.0130,2,-999.0000,-999.000,   0.0800,2, -999.00
318M20040615,        P02,      72,          1,         21,         21,2,20040711,       1822,    29.9995,   172.0112,       5126,   984.7,   4.0200,  34.2219,2,  34.2235,2,  46.6000,2,    47.3,2,  109.59,2,   40.50,2,    0.00,2,    2.95,2,   0.474,2,   0.225,2,   0.013,2,  2324.8,2,  2341.0,2,-999.000,9,-999.0000,9, -999.00,9, -999.00,9,  -999.0,9,  -999.0,-999.000,9,-999.000,   41.30,2,  984.70,-999.0000,9,-999.0000,9,-999.0000,9,-999.0000,9,-999.0000,9,-999.0000,-999.000,-999.0000,9, -999.00
318M20040615,        P02,      72,          1,         20,         20,2,20040711,       1822,    29.9995,   172.0112,       5126,  1084.1,   3.6044,  34.2958,2,  34.2955,2,  35.7000,2,    35.1,2,  122.03,2,   41.90,2,    0.00,2,    3.05,2,   0.232,2,   0.116,2,   0.010,2,  2346.5,2,  2355.7,2,-999.000,9,-999.0000,9, -999.00,9, -999.00,9,  -999.0,9,  -999.0,-999.000,9,-999.000,   40.20,2, 1084.10,   0.1220,2,   0.2700,2,   0.0120,2,   0.2000,2,   0.0120,2,-999.0000,-999.000,   0.0940,2, -999.00
318M20040615,        P02,      72,          1,         19,         19,2,20040711,       1822,    29.9995,   172.0112,       5126,  1184.8,   3.2995,  34.3544,2,  34.3552,2,  30.7000,2,    30.0,2,  131.59,2,   42.57,2,    0.00,2,    3.09,2,   0.118,2,   0.057,2,   0.004,2,  2357.9,2,  2368.0,2,-999.000,9,-999.0000,9, -999.00,9, -999.00,9,  -999.0,9,  -999.0,-999.000,9,-999.000,   39.80,2, 1184.80,-999.0000,9,-999.0000,9,-999.0000,9,-999.0000,9,-999.0000,9,-999.0000,-999.000,-999.0000,9, -999.00
318M20040615,        P02,      72,          1,         18,         18,2,20040711,       1822,    29.9995,   172.0112,       5126,  1285.9,   3.0334,  34.4095,2,  34.4105,2,  28.6000,2,    28.7,2,  139.56,2,   43.18,2,    0.00,2,    3.13,2,   0.053,2,   0.026,2,   0.001,2,  2366.7,2,  2380.1,6,-999.000,9,-999.0000,9, -999.00,9, -999.00,9,  -999.0,9,  -999.0,-999.000,9,-999.000,   39.00,2, 1285.90,-999.0000,9,-999.0000,9,-999.0000,9,-999.0000,9,-999.0000,9,-999.0000,-999.000,-999.0000,9, -999.00
318M20040615,        P02,      72,          1,         17,         17,2,20040711,       1822,    29.9995,   172.0112,       5126,  1386.2,   2.8149,  34.4516,2,  34.4522,2,  30.6000,2,    30.2,2,  145.96,2,   43.69,2,    0.00,2,    3.13,2,   0.030,2,   0.014,2,   0.001,2,  2374.4,2,  2386.5,2,-999.000,9,-999.0000,9, -999.00,9, -999.00,9,  -999.0,9,  -999.0,-999.000,9,-999.000,   39.40,2, 1386.20,-999.0000,9,-999.0000,9,-999.0000,9,-999.0000,9,-999.0000,9,-999.0000,-999.000,-999.0000,9, -999.00
318M20040615,        P02,      72,          1,         16,         16,2,20040711,       1822,    29.9995,   172.0112,       5126,  1486.4,   2.6467,  34.4882,2,  34.4942,2,  34.3000,3,    34.7,2,  150.41,2,   43.70,2,    0.00,2,    3.11,2,   0.015,2,   0.007,2,   0.001,2,  2376.6,2,  2393.7,2,-999.000,9,-999.0000,9, -999.00,9, -999.00,9,  -999.0,9,  -999.0,-999.000,9,-999.000,   39.00,2, 1486.40,-999.0000,9,-999.0000,9,-999.0000,9,-999.0000,9,-999.0000,9,-999.0000,-999.000,-999.0000,9, -999.00
318M20040615,        P02,      72,          1,         15,         15,2,20040711,       1822,    29.9995,   172.0112,       5126,  1586.9,   2.5274,  34.5084,2,  34.5091,2,  39.3000,2,    38.6,2,  153.57,2,   43.46,2,    0.00,2,    3.09,2,   0.015,2,   0.009,2,   0.003,2,  2376.7,2,  2397.2,6,-999.000,9,-999.0000,9, -999.00,9, -999.00,9,  -999.0,9,  -999.0,-999.000,9,-999.000,   39.30,2, 1586.90,-999.0000,9,-999.0000,9,-999.0000,9,-999.0000,9,-999.0000,9,-999.0000,-999.000,-999.0000,9, -999.00
318M20040615,        P02,      72,          1,         14,         14,2,20040711,       1822,    29.9995,   172.0112,       5126,  1687.9,   2.3338,  34.5413,2,  34.5425,2,  48.3000,2,    47.9,2,  157.29,2,   42.88,2,    0.00,2,    3.05,2,   0.007,2,   0.006,2,   0.001,2,  2376.4,2,  2404.0,2,-999.000,9,-999.0000,9, -999.00,9, -999.00,9,  -999.0,9,  -999.0,-999.000,9,-999.000,   39.10,2, 1687.90,-999.0000,9,-999.0000,9,-999.0000,9,-999.0000,9,-999.0000,9,-999.0000,-999.000,-999.0000,9, -999.00
318M20040615,        P02,      72,          1,         13,         13,2,20040711,       1822,    29.9995,   172.0112,       5126,  1788.5,   2.1994,  34.5626,2,  34.5639,2,  55.6000,2,    55.7,2,  159.76,2,   42.26,2,    0.00,2,    3.01,2,   0.007,2,   0.004,2,   0.001,2,  2376.5,2,  2408.1,2,-999.000,9,-999.0000,9, -999.00,9, -999.00,9,  -999.0,9,  -999.0,-999.000,9,-999.000,   38.10,2, 1788.50,-999.0000,9,-999.0000,9,-999.0000,9,-999.0000,9,-999.0000,9,-999.0000,-999.000,-999.0000,9, -999.00
318M20040615,        P02,      72,          1,         12,         12,2,20040711,       1822,    29.9995,   172.0112,       5126,  1889.3,   2.0793,  34.5806,2,  34.5818,2,  64.2000,2,    64.3,2,  161.36,2,   41.59,2,    0.00,2,    2.96,2,   0.005,2,   0.003,2,   0.001,2,  2373.5,2,  2411.5,2,-999.000,9,-999.0000,9, -999.00,9, -999.00,9,  -999.0,9,  -999.0,-999.000,9,-999.000,   38.40,2, 1889.30,-999.0000,9,-999.0000,9,-999.0000,9,-999.0000,9,-999.0000,9,-999.0000,-999.000,-999.0000,9, -999.00
318M20040615,        P02,      72,          1,         11,         11,2,20040711,       1822,    29.9995,   172.0112,       5126,  1989.7,   1.9923,  34.5936,2,  34.5947,2,  71.4000,2,    71.4,2,  162.23,2,   41.02,2,    0.00,2,    2.93,2,   0.007,2,   0.001,2,   0.004,2,  2370.7,2,  2413.1,6,-999.000,9,-999.0000,9, -999.00,9, -999.00,9,  -999.0,9,  -999.0,-999.000,9,-999.000,   38.00,2, 1989.70,-999.0000,9,-999.0000,9,-999.0000,9,-999.0000,9,-999.0000,9,-999.0000,-999.000,-999.0000,9, -999.00
318M20040615,        P02,      72,          1,         10,         10,2,20040711,       1822,    29.9995,   172.0112,       5126,  2201.4,   1.8351,  34.6168,2,  34.6177,2,  86.5000,2,    86.5,2,  162.57,2,   40.07,2,    0.00,2,    2.85,2,   0.006,2,   0.002,2,   0.004,2,  2364.0,2,  2416.1,2,-999.000,9,-999.0000,9, -999.00,9, -999.00,9,  -999.0,9,  -999.0,-999.000,9,-999.000,   37.60,2, 2201.40,   0.0970,2,   0.2210,2,   0.0120,2,   0.1610,2,   0.0130,2,-999.0000,-999.000,   0.0720,2, -999.00
318M20040615,        P02,      72,          1,          9,          9,2,20040711,       1822,    29.9995,   172.0112,       5126,  2453.6,   1.6999,  34.6368,2,  34.6376,2, 101.5000,2,   101.6,2,  161.56,2,   39.01,2,    0.00,2,    2.78,2,   0.007,2,   0.002,2,   0.000,2,  2358.0,2,  2418.0,6,-999.000,9,-999.0000,9, -999.00,9, -999.00,9,  -999.0,9,  -999.0,-999.000,9,-999.000,   38.40,2, 2453.60,-999.0000,9,-999.0000,9,-999.0000,9,-999.0000,9,-999.0000,9,-999.0000,-999.000,-999.0000,9, -999.00
318M20040615,        P02,      72,          1,          8,          8,2,20040711,       1822,    29.9995,   172.0112,       5126,  2705.8,   1.6013,  34.6515,2,  34.6537,2, 113.8000,2,   115.1,2,  159.82,2,   38.18,2,    0.00,2,    2.72,2,   0.006,2,   0.003,2,   0.000,2,  2350.6,2,  2417.6,2,-999.000,9,-999.0000,9, -999.00,9, -999.00,9,  -999.0,9,  -999.0,-999.000,9,-999.000,   38.30,2, 2705.80,-999.0000,9,-999.0000,9,-999.0000,9,-999.0000,9,-999.0000,9,-999.0000,-999.000,-999.0000,9, -999.00
318M20040615,        P02,      72,          1,          7,          7,2,20040711,       1822,    29.9995,   172.0112,       5126,  2958.7,   1.5463,  34.6611,2,  34.6625,2, 123.9000,2,   124.3,2,  158.20,2,   37.51,2,    0.00,2,    2.66,2,   0.003,2,   0.003,2,   0.002,2,  2341.4,2,  2420.1,6,-999.000,9,-999.0000,9, -999.00,9, -999.00,9,  -999.0,9,  -999.0,-999.000,9,-999.000,   38.20,2, 2958.70,-999.0000,9,-999.0000,9,-999.0000,9,-999.0000,9,-999.0000,9,-999.0000,-999.000,-999.0000,9, -999.00
318M20040615,        P02,      72,          1,          6,          6,2,20040711,       1822,    29.9995,   172.0112,       5126,  3301.1,   1.4968,  34.6710,2,  34.6718,2, 134.5000,2,   134.9,2,  155.33,2,   36.79,2,    0.00,2,    2.63,2,   0.002,2,   0.001,2,   0.000,2,  2336.3,2,  2417.9,2,-999.000,9,-999.0000,9, -999.00,9, -999.00,9,  -999.0,9,  -999.0,-999.000,9,-999.000,   37.70,2, 3301.10,   0.0860,2,   0.2030,2,   0.0120,2,   0.1470,2,   0.0140,2,-999.0000,-999.000,   0.0630,2, -999.00
318M20040615,        P02,      72,          1,          5,          5,2,20040711,       1822,    29.9995,   172.0112,       5126,  3707.8,   1.4597,  34.6797,2,  34.6812,2, 144.7000,2,   145.2,2,  152.29,2,   36.28,2,    0.00,2,    2.56,2,   0.003,2,   0.003,2,   0.000,2,  2327.5,2,  2417.9,2,-999.000,9,-999.0000,9, -999.00,9, -999.00,9,  -999.0,9,  -999.0,-999.000,9,-999.000,   37.60,2, 3707.80,-999.0000,9,-999.0000,9,-999.0000,9,-999.0000,9,-999.0000,9,-999.0000,-999.000,-999.0000,9, -999.00
318M20040615,        P02,      72,          1,          4,          4,2,20040711,       1822,    29.9995,   172.0112,       5126,  4123.6,   1.4483,  34.6856,2,  34.6869,2, 152.5000,2,   153.2,2,  149.64,2,   36.01,2,    0.00,2,    2.51,2,   0.007,2,   0.004,2,   0.002,2,  2322.0,2,  2416.4,2,-999.000,9,-999.0000,9, -999.00,9, -999.00,9,  -999.0,9,  -999.0,-999.000,9,-999.000,   37.40,2, 4123.60,-999.0000,9,-999.0000,9,-999.0000,9,-999.0000,9,-999.0000,9,-999.0000,-999.000,-999.0000,9, -999.00
318M20040615,        P02,      72,          1,          3,          3,2,20040711,       1822,    29.9995,   172.0112,       5126,  4516.7,   1.4415,  34.6905,2,  34.6914,2, 160.4000,2,   161.5,2,  144.49,2,   35.56,2,    0.00,2,    2.47,2,   0.004,2,   0.004,2,   0.001,2,  2315.7,2,  2412.3,6,-999.000,9,-999.0000,9, -999.00,9, -999.00,9,  -999.0,9,  -999.0,-999.000,9,-999.000,   38.10,2, 4516.70,-999.0000,9,-999.0000,9,-999.0000,9,-999.0000,9,-999.0000,9,-999.0000,-999.000,-999.0000,9, -999.00
318M20040615,        P02,      72,          1,          2,          2,2,20040711,       1822,    29.9995,   172.0112,       5126,  4988.5,   1.4548,  34.6941,2,  34.6952,2, 168.2000,2,   169.1,2,  138.28,2,   34.90,2,    0.00,2,    2.43,2,   0.007,2,   0.005,2,   0.000,2,  2306.7,2,  2408.5,2,-999.000,9,-999.0000,9, -999.00,9, -999.00,9,  -999.0,9,  -999.0,-999.000,9,-999.000,   37.90,2, 4988.50,-999.0000,9,-999.0000,9,-999.0000,9,-999.0000,9,-999.0000,9,-999.0000,-999.000,-999.0000,9, -999.00
318M20040615,        P02,      72,          1,          1,          1,2,20040711,       1822,    29.9995,   172.0112,       5126,  5224.7,   1.4679,  34.6953,2,  34.7013,2, 171.4000,3,   171.8,2,  136.32,2,   34.63,2,    0.00,2,    2.44,2,   0.006,2,   0.004,2,   0.002,2,  2305.9,6,  2404.9,6,-999.000,9,-999.0000,9, -999.00,9, -999.00,9,  -999.0,9,  -999.0,-999.000,9,-999.000,   37.80,2, 5224.70,-999.0000,9,-999.0000,9,-999.0000,9,-999.0000,9,-999.0000,9,-999.0000,-999.000,-999.0000,9, -999.00