BOTTLE,20131027SIOCCHRJL
EXPOCODE,SECT_ID,STNNBR,CASTNO,SAMPNO,BTLNBR,BTLNBR_FLAG_W,DATE,TIME,LATITUDE,LONGITUDE,DEPTH,CTDPRS,CTDTMP,CTDSAL,CTDSAL_FLAG_W,SALNTY,SALNTY_FLAG_W,CTDOXY,CTDOXY_FLAG_W,OXYGEN,OXYGEN_FLAG_W,SILCAT,SILCAT_FLAG_W,NITRAT,NITRAT_FLAG_W,NITRIT,NITRIT_FLAG_W,PHSPHT,PHSPHT_FLAG_W,CFC-11,CFC-11_FLAG_W,CFC-12,CFC-12_FLAG_W,CFC113,CFC113_FLAG_W,TCARBN,TCARBN_FLAG_W,ALKALI,ALKALI_FLAG_W,TRITUM,TRITUM_FLAG_W,HELIUM,HELIUM_FLAG_W,DELHE3,DELHE3_FLAG_W,DELC13,DELC13_FLAG_W,DELC14,DELC14_FLAG_W,C14ERR,NEON,NEON_FLAG_W,NEONER,DOC,DOC_FLAG_W,CTDRAW,CDOM380,CDOM380_FLAG_W,CDOM325,CDOM325_FLAG_W,CDOMSL,CDOMSL_FLAG_W,CDOM340,CDOM340_FLAG_W,CDOMSN,CDOMSN_FLAG_W,HELIER,TRITER,CDOM412,CDOM412_FLAG_W,DELHER
,,,,,,,,,,,METERS,DBAR,ITS-90,PSS-78,,PSS-78,,UMOL/KG,,UMOL/KG,,UMOL/KG,,UMOL/KG,,UMOL/KG,,UMOL/KG,,PMOL/KG,,PMOL/KG,,PMOL/KG,,UMOL/KG,,UMOL/KG,,TU,,NMOL/KG,,PERCNT,,/MILLE,,/MILLE,,/MILLE,NMOL/KG,,NMOL/KG,UMOL/KG,,DBAR,1/M,,1/M,,1/NM,,1/M,,1/NM,,NMOL/KG,TU,1/M,,PERCNT
318M20040615,        P02,     143,          2,         36,         36,2,20040815,       0649,    29.9998,   -142.142,       4895,     7.9,  25.1632,  35.4326,2,  35.4301,2, 212.9000,2,   211.8,2,    1.35,2,    0.18,2,    0.00,2,    0.02,2,   1.896,2,   1.128,2,   0.133,2,  2014.9,6,  2332.6,6,-999.000,9,-999.0000,9, -999.00,9, -999.00,9,  -999.0,9,  -999.0,-999.000,9,-999.000,   72.30,2,    7.90,-999.0000,9,-999.0000,9,-999.0000,9,-999.0000,9,-999.0000,9,-999.0000,-999.000,-999.0000,9, -999.00
318M20040615,        P02,     143,          2,         35,         35,2,20040815,       0649,    29.9998,   -142.142,       4895,    35.2,  24.4594,  35.3151,2,  35.2925,2, 217.8000,2,   218.4,2,    1.35,2,    0.18,2,    0.00,2,    0.02,2,   1.942,2,   1.200,2,   0.126,2,  2011.4,2,  2323.6,2,-999.000,9,-999.0000,9, -999.00,9, -999.00,9,  -999.0,9,  -999.0,-999.000,9,-999.000,   71.10,2,   35.20,-999.0000,9,-999.0000,9,-999.0000,9,-999.0000,9,-999.0000,9,-999.0000,-999.000,-999.0000,9, -999.00
318M20040615,        P02,     143,          2,         34,         34,2,20040815,       0649,    29.9998,   -142.142,       4895,    70.0,  18.9256,  34.6118,2,  34.6056,2, 240.4000,2,   239.3,2,    1.94,2,    0.13,2,    0.00,2,    0.09,2,   2.479,2,   1.467,2,   0.163,2,  2012.6,2,  2282.5,2,-999.000,9,-999.0000,9, -999.00,9, -999.00,9,  -999.0,9,  -999.0,-999.000,9,-999.000,   71.90,2,   70.00,-999.0000,9,-999.0000,9,-999.0000,9,-999.0000,9,-999.0000,9,-999.0000,-999.000,-999.0000,9, -999.00
318M20040615,        P02,     143,          2,         33,         33,2,20040815,       0649,    29.9998,   -142.142,       4895,   129.7,  15.7568,  34.2407,2,  34.2288,2, 232.1000,2,   229.8,2,    3.11,2,    1.59,2,    0.06,2,    0.24,2,   2.848,2,   1.659,2,   0.170,2,  2025.8,2,  2259.1,2,-999.000,9,-999.0000,9, -999.00,9, -999.00,9,  -999.0,9,  -999.0,-999.000,9,-999.000,   64.20,2,  129.70,-999.0000,9,-999.0000,9,-999.0000,9,-999.0000,9,-999.0000,9,-999.0000,-999.000,-999.0000,9, -999.00
318M20040615,        P02,     143,          2,         32,         32,2,20040815,       0649,    29.9998,   -142.142,       4895,   169.4,  13.1503,  33.9979,2,  33.9971,2, 226.1000,2,   226.4,2,    5.65,2,    5.77,2,    0.01,2,    0.52,2,   3.215,2,   1.837,2,   0.149,2,  2044.9,2,  2246.8,6,-999.000,9,-999.0000,9, -999.00,9, -999.00,9,  -999.0,9,  -999.0,-999.000,9,-999.000,   51.10,2,  169.40,-999.0000,9,-999.0000,9,-999.0000,9,-999.0000,9,-999.0000,9,-999.0000,-999.000,-999.0000,9, -999.00
318M20040615,        P02,     143,          2,         31,         31,2,20040815,       0649,    29.9998,   -142.142,       4895,   219.5,  11.4440,  34.0107,2,  34.0114,2, 226.2000,2,   228.6,2,    9.35,2,    9.71,2,    0.00,2,    0.74,2,   3.448,2,   1.936,2,   0.120,2,  2066.6,2,  2246.3,2,-999.000,9,-999.0000,9, -999.00,9, -999.00,9,  -999.0,9,  -999.0,-999.000,9,-999.000,   48.30,2,  219.50,-999.0000,9,-999.0000,9,-999.0000,9,-999.0000,9,-999.0000,9,-999.0000,-999.000,-999.0000,9, -999.00
318M20040615,        P02,     143,          2,         30,         30,2,20040815,       0649,    29.9998,   -142.142,       4895,   269.2,  10.6075,  34.1000,2,  34.0963,2, 218.4000,2,   220.9,2,   14.41,2,   13.41,2,    0.00,2,    0.96,2,   3.476,2,   1.938,2,   0.093,2,  2088.7,2,  2256.2,2,-999.000,9,-999.0000,9, -999.00,9, -999.00,9,  -999.0,9,  -999.0,-999.000,9,-999.000, -999.00,9,  269.20,-999.0000,9,-999.0000,9,-999.0000,9,-999.0000,9,-999.0000,9,-999.0000,-999.000,-999.0000,9, -999.00
318M20040615,        P02,     143,          2,         29,         29,2,20040815,       0649,    29.9998,   -142.142,       4895,   323.9,   9.7562,  34.0975,2,  34.0977,2, 210.0000,2,   209.5,2,   19.09,2,   16.21,2,    0.00,2,    1.14,2,   3.464,2,   1.895,2,   0.098,2,  2107.9,2,  2261.5,2,-999.000,9,-999.0000,9, -999.00,9, -999.00,9,  -999.0,9,  -999.0,-999.000,9,-999.000,   46.10,2,  323.90,-999.0000,9,-999.0000,9,-999.0000,9,-999.0000,9,-999.0000,9,-999.0000,-999.000,-999.0000,9, -999.00
318M20040615,        P02,     143,          2,         28,         28,2,20040815,       0649,    29.9998,   -142.142,       4895,   373.8,   8.9092,  34.0892,2,  34.0881,2, 191.6000,2,   188.0,2,   27.11,2,   20.20,2,    0.00,2,    1.41,2,-999.000,9,-999.000,9,-999.000,9,  2137.1,2,  2268.5,2,-999.000,9,-999.0000,9, -999.00,9, -999.00,9,  -999.0,9,  -999.0,-999.000,9,-999.000, -999.00,9,  373.80,-999.0000,9,-999.0000,9,-999.0000,9,-999.0000,9,-999.0000,9,-999.0000,-999.000,-999.0000,9, -999.00
318M20040615,        P02,     143,          2,         27,         27,2,20040815,       0649,    29.9998,   -142.142,       4895,   423.5,   7.8681,  34.0441,2,  34.0442,2, 162.9000,2,   162.2,2,   36.70,2,   24.59,2,    0.00,2,    1.72,2,   2.857,2,   1.458,2,   0.112,2,  2168.8,2,  2274.7,2,-999.000,9,-999.0000,9, -999.00,9, -999.00,9,  -999.0,9,  -999.0,-999.000,9,-999.000,   45.70,2,  423.50,-999.0000,9,-999.0000,9,-999.0000,9,-999.0000,9,-999.0000,9,-999.0000,-999.000,-999.0000,9, -999.00
318M20040615,        P02,     143,          2,         26,         26,2,20040815,       0649,    29.9998,   -142.142,       4895,   472.8,   6.8040,  34.0067,2,  34.0068,2, 136.5000,2,   135.6,2,   48.29,2,   29.08,2,    0.00,2,    2.06,2,   2.356,2,   1.175,2,   0.093,2,  2201.3,2,  2280.8,2,-999.000,9,-999.0000,9, -999.00,9, -999.00,9,  -999.0,9,  -999.0,-999.000,9,-999.000, -999.00,9,  472.80,-999.0000,9,-999.0000,9,-999.0000,9,-999.0000,9,-999.0000,9,-999.0000,-999.000,-999.0000,9, -999.00
318M20040615,        P02,     143,          2,         25,         25,2,20040815,       0649,    29.9998,   -142.142,       4895,   543.3,   5.7256,  34.0058,2,  34.0070,2,  89.0000,2,    91.1,2,   64.26,2,   34.94,2,    0.00,2,    2.51,2,   1.429,2,   0.688,2,   0.042,2,  2249.5,2,  2291.2,2,-999.000,9,-999.0000,9, -999.00,9, -999.00,9,  -999.0,9,  -999.0,-999.000,9,-999.000,   42.80,2,  543.30,-999.0000,9,-999.0000,9,-999.0000,9,-999.0000,9,-999.0000,9,-999.0000,-999.000,-999.0000,9, -999.00
318M20040615,        P02,     143,          2,         24,         24,2,20040815,       0649,    29.9998,   -142.142,       4895,   647.9,   4.7814,  34.1003,2,  34.1011,2,  41.9000,2,    42.4,2,   86.83,2,   40.28,2,    0.00,2,    2.92,2,-999.000,9,-999.000,9,-999.000,9,  2300.3,2,  2314.1,2,-999.000,9,-999.0000,9, -999.00,9, -999.00,9,  -999.0,9,  -999.0,-999.000,9,-999.000,   40.60,2,  647.90,-999.0000,9,-999.0000,9,-999.0000,9,-999.0000,9,-999.0000,9,-999.0000,-999.000,-999.0000,9, -999.00
318M20040615,        P02,     143,          2,         23,         23,2,20040815,       0649,    29.9998,   -142.142,       4895,   747.7,   4.3567,  34.2118,2,  34.2113,2,  19.1000,2,    19.4,2,  101.55,2,   42.55,2,    0.00,2,    3.10,2,   0.102,2,   0.054,2,   0.000,2,  2334.3,2,  2334.8,2,-999.000,9,-999.0000,9, -999.00,9, -999.00,9,  -999.0,9,  -999.0,-999.000,9,-999.000,   40.10,2,  747.70,-999.0000,9,-999.0000,9,-999.0000,9,-999.0000,9,-999.0000,9,-999.0000,-999.000,-999.0000,9, -999.00
318M20040615,        P02,     143,          2,         22,         22,2,20040815,       0649,    29.9998,   -142.142,       4895,   847.5,   4.0422,  34.3064,2,  34.3060,2,  12.7000,2,    12.9,2,  112.32,2,   43.59,2,    0.00,2,    3.18,2,-999.000,9,-999.000,9,-999.000,9,  2351.9,2,  2351.5,2,-999.000,9,-999.0000,9, -999.00,9, -999.00,9,  -999.0,9,  -999.0,-999.000,9,-999.000,   37.60,2,  847.50,-999.0000,9,-999.0000,9,-999.0000,9,-999.0000,9,-999.0000,9,-999.0000,-999.000,-999.0000,9, -999.00
318M20040615,        P02,     143,          2,         21,         21,2,20040815,       0649,    29.9998,   -142.142,       4895,   948.0,   3.8022,  34.3761,2,  34.3786,2,  14.6000,2,    14.6,2,  119.92,2,   44.09,2,    0.00,2,    3.19,2,   0.018,2,   0.012,2,   0.000,2,  2358.2,2,  2365.0,2,-999.000,9,-999.0000,9, -999.00,9, -999.00,9,  -999.0,9,  -999.0,-999.000,9,-999.000, -999.00,9,  948.00,-999.0000,9,-999.0000,9,-999.0000,9,-999.0000,9,-999.0000,9,-999.0000,-999.000,-999.0000,9, -999.00
318M20040615,        P02,     143,          2,         20,         20,2,20040815,       0649,    29.9998,   -142.142,       4895,  1048.0,   3.5843,  34.4349,2,  34.4354,2,  21.9000,2,    21.4,2,  125.50,2,   43.87,2,    0.00,2,    3.17,2,-999.000,9,-999.000,9,-999.000,9,  2364.7,6,  2375.4,2,-999.000,9,-999.0000,9, -999.00,9, -999.00,9,  -999.0,9,  -999.0,-999.000,9,-999.000,   38.30,2, 1048.00,-999.0000,9,-999.0000,9,-999.0000,9,-999.0000,9,-999.0000,9,-999.0000,-999.000,-999.0000,9, -999.00
318M20040615,        P02,     143,          2,         19,         19,2,20040815,       0649,    29.9998,   -142.142,       4895,  1148.7,   3.3749,  34.4768,2,  34.4756,2,  29.9000,2,    28.7,2,  129.72,2,   43.50,2,    0.00,2,    3.14,2,   0.010,2,  -0.001,2,   0.000,2,  2366.5,2,  2382.1,2,-999.000,9,-999.0000,9, -999.00,9, -999.00,9,  -999.0,9,  -999.0,-999.000,9,-999.000, -999.00,9, 1148.70,-999.0000,9,-999.0000,9,-999.0000,9,-999.0000,9,-999.0000,9,-999.0000,-999.000,-999.0000,9, -999.00
318M20040615,        P02,     143,          2,         18,         18,2,20040815,       0649,    29.9998,   -142.142,       4895,  1254.2,   3.1757,  34.5111,2,  34.5112,2,  37.0000,2,    36.5,2,  134.34,2,   43.07,2,    0.00,2,    3.11,2,   0.010,2,   0.006,2,   0.000,2,  2367.1,2,  2390.6,6,-999.000,9,-999.0000,9, -999.00,9, -999.00,9,  -999.0,9,  -999.0,-999.000,9,-999.000,   37.20,2, 1254.20,-999.0000,9,-999.0000,9,-999.0000,9,-999.0000,9,-999.0000,9,-999.0000,-999.000,-999.0000,9, -999.00
318M20040615,        P02,     143,          2,         17,         17,2,20040815,       0649,    29.9998,   -142.142,       4895,  1354.7,   2.9963,  34.5308,2,  34.5308,2,  43.9000,2,    42.4,2,  138.13,2,   42.68,2,    0.00,2,    3.07,2,   0.007,2,   0.004,2,   0.000,2,  2368.3,2,  2395.9,2,-999.000,9,-999.0000,9, -999.00,9, -999.00,9,  -999.0,9,  -999.0,-999.000,9,-999.000, -999.00,9, 1354.70,-999.0000,9,-999.0000,9,-999.0000,9,-999.0000,9,-999.0000,9,-999.0000,-999.000,-999.0000,9, -999.00
318M20040615,        P02,     143,          2,         16,         16,2,20040815,       0649,    29.9998,   -142.142,       4895,  1454.3,   2.8241,  34.5477,2,  34.5481,2,  49.7000,2,    49.1,2,  142.19,2,   42.32,2,    0.00,2,    3.04,2,   0.006,6,   0.004,6,   0.000,6,  2369.3,2,  2400.7,2,-999.000,9,-999.0000,9, -999.00,9, -999.00,9,  -999.0,9,  -999.0,-999.000,9,-999.000,   37.10,2, 1454.30,-999.0000,9,-999.0000,9,-999.0000,9,-999.0000,9,-999.0000,9,-999.0000,-999.000,-999.0000,9, -999.00
318M20040615,        P02,     143,          2,         15,         15,2,20040815,       0649,    29.9998,   -142.142,       4895,  1559.0,   2.6232,  34.5662,2,  34.5668,2,  56.8000,2,    56.4,2,  146.82,2,   41.94,2,    0.00,2,    3.00,2,   0.000,2,   0.001,2,   0.000,2,  2370.5,2,  2409.1,2,-999.000,9,-999.0000,9, -999.00,9, -999.00,9,  -999.0,9,  -999.0,-999.000,9,-999.000, -999.00,9, 1559.00,-999.0000,9,-999.0000,9,-999.0000,9,-999.0000,9,-999.0000,9,-999.0000,-999.000,-999.0000,9, -999.00
318M20040615,        P02,     143,          2,         14,         14,2,20040815,       0649,    29.9998,   -142.142,       4895,  1754.3,   2.3333,  34.5921,2,  34.5920,2,  65.9000,2,    66.2,2,  154.48,2,   41.24,2,    0.00,2,    2.95,2,-999.000,9,-999.000,9,-999.000,9,  2370.9,2,  2416.5,2,-999.000,9,-999.0000,9, -999.00,9, -999.00,9,  -999.0,9,  -999.0,-999.000,9,-999.000,   36.90,2, 1754.30,-999.0000,9,-999.0000,9,-999.0000,9,-999.0000,9,-999.0000,9,-999.0000,-999.000,-999.0000,9, -999.00
318M20040615,        P02,     143,          2,         13,         13,2,20040815,       0649,    29.9998,   -142.142,       4895,  1966.7,   2.0861,  34.6123,2,  34.6126,2,  75.3000,2,    75.1,2,  161.77,2,   40.81,2,    0.00,2,    2.91,2,   0.001,2,  -0.001,2,   0.000,2,  2371.5,2,  2420.3,2,-999.000,9,-999.0000,9, -999.00,9, -999.00,9,  -999.0,9,  -999.0,-999.000,9,-999.000, -999.00,9, 1966.70,-999.0000,9,-999.0000,9,-999.0000,9,-999.0000,9,-999.0000,9,-999.0000,-999.000,-999.0000,9, -999.00
318M20040615,        P02,     143,          2,         12,         12,2,20040815,       0649,    29.9998,   -142.142,       4895,  2127.9,   1.9413,  34.6256,2,  34.6262,2,  82.9000,2,    83.1,2,  165.00,2,   40.60,2,    0.00,2,    2.86,2,-999.000,9,-999.000,9,-999.000,9,  2370.6,2,  2424.4,2,-999.000,9,-999.0000,9, -999.00,9, -999.00,9,  -999.0,9,  -999.0,-999.000,9,-999.000,   38.50,2, 2127.90,-999.0000,9,-999.0000,9,-999.0000,9,-999.0000,9,-999.0000,9,-999.0000,-999.000,-999.0000,9, -999.00
318M20040615,        P02,     143,          2,         11,         11,2,20040815,       0649,    29.9998,   -142.142,       4895,  2380.8,   1.7806,  34.6423,2,  34.6421,2,  95.2000,2,    96.0,2,  167.23,2,   39.96,2,    0.00,2,    2.80,2,   0.000,2,   0.002,2,   0.000,2,  2365.6,2,  2427.9,2,-999.000,9,-999.0000,9, -999.00,9, -999.00,9,  -999.0,9,  -999.0,-999.000,9,-999.000,   36.60,2, 2380.80,-999.0000,9,-999.0000,9,-999.0000,9,-999.0000,9,-999.0000,9,-999.0000,-999.000,-999.0000,9, -999.00
318M20040615,        P02,     143,          2,         10,         10,2,20040815,       0649,    29.9998,   -142.142,       4895,  2633.4,   1.6734,  34.6531,2,  34.6531,2, 104.3000,2,   105.7,2,  168.02,2,   39.31,2,    0.00,2,    2.74,2,   0.002,2,   0.000,2,   0.000,2,  2359.8,2,  2428.8,2,-999.000,9,-999.0000,9, -999.00,9, -999.00,9,  -999.0,9,  -999.0,-999.000,9,-999.000, -999.00,9, 2633.40,-999.0000,9,-999.0000,9,-999.0000,9,-999.0000,9,-999.0000,9,-999.0000,-999.000,-999.0000,9, -999.00
318M20040615,        P02,     143,          2,          9,          9,2,20040815,       0649,    29.9998,   -142.142,       4895,  2891.0,   1.5971,  34.6619,2,  34.6618,2, 113.9000,2,   114.5,2,  167.60,2,   38.66,2,    0.00,2,    2.69,2,   0.000,2,   0.001,2,   0.000,2,  2354.3,2,  2428.9,2,-999.000,9,-999.0000,9, -999.00,9, -999.00,9,  -999.0,9,  -999.0,-999.000,9,-999.000,   38.30,2, 2891.00,-999.0000,9,-999.0000,9,-999.0000,9,-999.0000,9,-999.0000,9,-999.0000,-999.000,-999.0000,9, -999.00
318M20040615,        P02,     143,          2,          8,          8,2,20040815,       0649,    29.9998,   -142.142,       4895,  3148.4,   1.5381,  34.6692,2,  34.6689,2, 122.6000,2,   122.9,2,  165.96,2,   38.02,2,    0.00,2,    2.65,2,   0.001,2,   0.001,2,   0.000,2,  2348.5,2,  2431.2,2,-999.000,9,-999.0000,9, -999.00,9, -999.00,9,  -999.0,9,  -999.0,-999.000,9,-999.000,   37.20,2, 3148.40,-999.0000,9,-999.0000,9,-999.0000,9,-999.0000,9,-999.0000,9,-999.0000,-999.000,-999.0000,9, -999.00
318M20040615,        P02,     143,          2,          7,          7,2,20040815,       0649,    29.9998,   -142.142,       4895,  3452.6,   1.4882,  34.6772,2,  34.6770,2, 132.3000,2,   133.3,2,  163.10,2,   37.32,2,    0.00,2,    2.59,2,   0.001,2,   0.004,2,   0.000,2,  2341.8,2,  2429.8,6,-999.000,9,-999.0000,9, -999.00,9, -999.00,9,  -999.0,9,  -999.0,-999.000,9,-999.000, -999.00,9, 3452.60,-999.0000,9,-999.0000,9,-999.0000,9,-999.0000,9,-999.0000,9,-999.0000,-999.000,-999.0000,9, -999.00
318M20040615,        P02,     143,          2,          6,          6,2,20040815,       0649,    29.9998,   -142.142,       4895,  3761.8,   1.4672,  34.6828,2,  34.6827,2, 140.9000,2,   141.5,2,  159.69,2,   36.79,2,    0.00,2,    2.55,2,-999.000,9,-999.000,9,-999.000,9,  2337.5,2,  2429.5,2,-999.000,9,-999.0000,9, -999.00,9, -999.00,9,  -999.0,9,  -999.0,-999.000,9,-999.000,   36.10,2, 3761.80,-999.0000,9,-999.0000,9,-999.0000,9,-999.0000,9,-999.0000,9,-999.0000,-999.000,-999.0000,9, -999.00
318M20040615,        P02,     143,          2,          5,          5,2,20040815,       0649,    29.9998,   -142.142,       4895,  4066.5,   1.4712,  34.6860,2,  34.6854,2, 146.0000,2,   146.6,2,  156.84,2,   36.37,2,    0.00,2,    2.52,2,   0.003,2,   0.002,2,   0.000,2,  2333.4,2,  2427.6,2,-999.000,9,-999.0000,9, -999.00,9, -999.00,9,  -999.0,9,  -999.0,-999.000,9,-999.000,   37.10,2, 4066.50,-999.0000,9,-999.0000,9,-999.0000,9,-999.0000,9,-999.0000,9,-999.0000,-999.000,-999.0000,9, -999.00
318M20040615,        P02,     143,          2,          4,          4,2,20040815,       0649,    29.9998,   -142.142,       4895,  4376.3,   1.4877,  34.6881,2,  34.6878,2, 150.1000,2,   150.5,2,  153.82,2,   36.05,2,    0.00,2,    2.49,2,-999.000,9,-999.000,9,-999.000,9,  2330.0,2,  2425.4,2,-999.000,9,-999.0000,9, -999.00,9, -999.00,9,  -999.0,9,  -999.0,-999.000,9,-999.000, -999.00,9, 4376.30,-999.0000,9,-999.0000,9,-999.0000,9,-999.0000,9,-999.0000,9,-999.0000,-999.000,-999.0000,9, -999.00
318M20040615,        P02,     143,          2,          3,          3,2,20040815,       0649,    29.9998,   -142.142,       4895,  4569.5,   1.5025,  34.6889,2,  34.6878,2, 151.8000,2,   152.4,2,  152.39,2,   36.06,2,    0.00,2,    2.48,2,   0.004,2,   0.004,2,   0.000,2,  2327.5,2,  2424.2,2,-999.000,9,-999.0000,9, -999.00,9, -999.00,9,  -999.0,9,  -999.0,-999.000,9,-999.000, -999.00,9, 4569.50,-999.0000,9,-999.0000,9,-999.0000,9,-999.0000,9,-999.0000,9,-999.0000,-999.000,-999.0000,9, -999.00
318M20040615,        P02,     143,          2,          2,          2,2,20040815,       0649,    29.9998,   -142.142,       4895,  4778.3,   1.5230,  34.6894,2,  34.6890,2, 153.1000,2,   153.3,2,  151.98,2,   36.17,2,    0.00,2,    2.48,2,   0.003,2,   0.007,2,   0.000,2,  2327.6,2,  2424.4,2,-999.000,9,-999.0000,9, -999.00,9, -999.00,9,  -999.0,9,  -999.0,-999.000,9,-999.000,   36.40,2, 4778.30,-999.0000,9,-999.0000,9,-999.0000,9,-999.0000,9,-999.0000,9,-999.0000,-999.000,-999.0000,9, -999.00
318M20040615,        P02,     143,          2,          1,          1,2,20040815,       0649,    29.9998,   -142.142,       4895,  4982.2,   1.5474,  34.6894,2,  34.6910,2, 153.5000,2,   154.0,2,  151.36,2,   36.28,2,    0.00,2,    2.49,2,   0.006,2,   0.010,2,   0.000,2,  2326.6,6,  2424.2,6,-999.000,9,-999.0000,9, -999.00,9, -999.00,9,  -999.0,9,  -999.0,-999.000,9,-999.000,   37.40,2, 4982.20,-999.0000,9,-999.0000,9,-999.0000,9,-999.0000,9,-999.0000,9,-999.0000,-999.000,-999.0000,9, -999.00