BOTTLE,20131027SIOCCHRJL
EXPOCODE,SECT_ID,STNNBR,CASTNO,SAMPNO,BTLNBR,BTLNBR_FLAG_W,DATE,TIME,LATITUDE,LONGITUDE,DEPTH,CTDPRS,CTDTMP,CTDSAL,CTDSAL_FLAG_W,SALNTY,SALNTY_FLAG_W,CTDOXY,CTDOXY_FLAG_W,OXYGEN,OXYGEN_FLAG_W,SILCAT,SILCAT_FLAG_W,NITRAT,NITRAT_FLAG_W,NITRIT,NITRIT_FLAG_W,PHSPHT,PHSPHT_FLAG_W,CFC-11,CFC-11_FLAG_W,CFC-12,CFC-12_FLAG_W,CFC113,CFC113_FLAG_W,TCARBN,TCARBN_FLAG_W,ALKALI,ALKALI_FLAG_W,TRITUM,TRITUM_FLAG_W,HELIUM,HELIUM_FLAG_W,DELHE3,DELHE3_FLAG_W,DELC13,DELC13_FLAG_W,DELC14,DELC14_FLAG_W,C14ERR,NEON,NEON_FLAG_W,NEONER,DOC,DOC_FLAG_W,CTDRAW,CDOM380,CDOM380_FLAG_W,CDOM325,CDOM325_FLAG_W,CDOMSL,CDOMSL_FLAG_W,CDOM340,CDOM340_FLAG_W,CDOMSN,CDOMSN_FLAG_W,HELIER,TRITER,CDOM412,CDOM412_FLAG_W,DELHER
,,,,,,,,,,,METERS,DBAR,ITS-90,PSS-78,,PSS-78,,UMOL/KG,,UMOL/KG,,UMOL/KG,,UMOL/KG,,UMOL/KG,,UMOL/KG,,PMOL/KG,,PMOL/KG,,PMOL/KG,,UMOL/KG,,UMOL/KG,,TU,,NMOL/KG,,PERCNT,,/MILLE,,/MILLE,,/MILLE,NMOL/KG,,NMOL/KG,UMOL/KG,,DBAR,1/M,,1/M,,1/NM,,1/M,,1/NM,,NMOL/KG,TU,1/M,,PERCNT
318M20040615,        P02,     150,          1,         36,         36,2,20040817,       0916,    29.9995,  -136.8917,       3572,     5.7,  24.6941,  35.0506,2,  35.0498,2, 216.9000,2,   215.4,2,    0.64,2,    0.13,2,    0.00,2,    0.05,2,   1.935,2,   1.189,2,   0.135,2,  2018.2,2,  2319.2,6,   0.900,2,   1.7458,2,   -1.99,2, -999.00,9,  -999.0,9,  -999.0,   6.815,2,   0.034, -999.00,9,    5.70,-999.0000,9,-999.0000,9,-999.0000,9,-999.0000,9,-999.0000,9,   0.0087,   0.007,-999.0000,9,    0.20
318M20040615,        P02,     150,          1,         35,         35,2,20040817,       0916,    29.9995,  -136.8917,       3572,    40.0,  23.0134,  35.0741,2,  35.0655,2, 230.4000,2,   230.2,2,    1.21,2,    0.13,2,    0.00,2,    0.03,2,   2.154,2,   1.290,2,   0.155,2,  -999.0,9,  -999.0,9,-999.000,9,   1.7568,2,   -2.38,2, -999.00,9,  -999.0,9,  -999.0,   6.954,2,   0.035, -999.00,9,   40.00,-999.0000,9,-999.0000,9,-999.0000,9,-999.0000,9,-999.0000,9,   0.0088,-999.000,-999.0000,9,    0.20
318M20040615,        P02,     150,          1,         34,         34,2,20040817,       0916,    29.9995,  -136.8917,       3572,    85.4,  19.8495,  34.9193,2,  34.9193,2, 235.4000,2,   232.2,2,    1.59,2,    0.13,2,    0.00,2,    0.05,2,   2.349,2,   1.411,2,   0.169,2,  2016.7,2,  2303.1,2,   0.865,2,   1.7665,2,   -2.24,2, -999.00,9,  -999.0,9,  -999.0,   7.032,2,   0.035, -999.00,9,   85.40,-999.0000,9,-999.0000,9,-999.0000,9,-999.0000,9,-999.0000,9,   0.0088,   0.007,-999.0000,9,    0.20
318M20040615,        P02,     150,          1,         33,         33,2,20040817,       0916,    29.9995,  -136.8917,       3572,   134.9,  17.1283,  34.4217,2,  34.4244,2, 235.2000,2,   232.4,2,    2.37,2,    0.25,2,    0.08,2,    0.14,2,   2.627,2,   1.558,2,   0.178,2,  -999.0,9,  -999.0,9,   0.882,2,   1.7792,2,   -1.62,2, -999.00,9,  -999.0,9,  -999.0,   7.116,2,   0.036, -999.00,9,  134.90,-999.0000,9,-999.0000,9,-999.0000,9,-999.0000,9,-999.0000,9,   0.0089,   0.006,-999.0000,9,    0.20
318M20040615,        P02,     150,          1,         32,         32,2,20040817,       0916,    29.9995,  -136.8917,       3572,   184.8,  13.7987,  34.0398,2,  34.0367,2, 222.8000,2,   223.9,2,    5.09,2,    4.79,2,    0.01,2,    0.46,2,   3.133,2,   1.804,2,   0.141,2,  2040.8,2,  2249.7,2,   0.876,2,   1.8032,2,   -0.66,2, -999.00,9,  -999.0,9,  -999.0,   7.276,2,   0.036, -999.00,9,  184.80,-999.0000,9,-999.0000,9,-999.0000,9,-999.0000,9,-999.0000,9,   0.0090,   0.008,-999.0000,9,    0.20
318M20040615,        P02,     150,          1,         31,         31,2,20040817,       0916,    29.9995,  -136.8917,       3572,   239.6,  10.8583,  33.8735,2,  33.8790,2, 221.7000,2,   222.3,2,   11.15,2,   11.22,2,    0.00,2,    0.87,2,-999.000,9,-999.000,9,-999.000,9,  -999.0,9,  -999.0,9,-999.000,9,-999.0000,9, -999.00,9, -999.00,9,  -999.0,9,  -999.0,-999.000,9,-999.000, -999.00,9,  239.60,-999.0000,9,-999.0000,9,-999.0000,9,-999.0000,9,-999.0000,9,-999.0000,-999.000,-999.0000,9, -999.00
318M20040615,        P02,     150,          1,         30,         30,2,20040817,       0916,    29.9995,  -136.8917,       3572,   289.4,   9.8350,  33.9703,2,  33.9700,2, 208.6000,2,   212.0,2,   16.82,2,   15.17,2,    0.00,2,    1.11,2,   3.565,2,   1.950,2,   0.096,2,  2099.7,2,  2253.9,2,   0.877,2,   1.8256,2,    1.59,2, -999.00,9,  -999.0,9,  -999.0,   7.484,2,   0.037, -999.00,9,  289.40,-999.0000,9,-999.0000,9,-999.0000,9,-999.0000,9,-999.0000,9,   0.0091,   0.007,-999.0000,9,    0.20
318M20040615,        P02,     150,          1,         29,         29,2,20040817,       0916,    29.9995,  -136.8917,       3572,   339.5,   9.1688,  34.0615,2,  34.0621,2, 189.7000,2,   191.6,2,   23.47,2,   18.88,2,    0.00,2,    1.34,2,-999.000,9,-999.000,9,-999.000,9,  -999.0,9,  -999.0,9,-999.000,9,-999.0000,9, -999.00,9, -999.00,9,  -999.0,9,  -999.0,-999.000,9,-999.000, -999.00,9,  339.50,-999.0000,9,-999.0000,9,-999.0000,9,-999.0000,9,-999.0000,9,-999.0000,-999.000,-999.0000,9, -999.00
318M20040615,        P02,     150,          1,         28,         28,2,20040817,       0916,    29.9995,  -136.8917,       3572,   389.3,   8.2388,  34.0509,2,  34.0501,2, 165.3000,2,   164.2,2,   32.91,2,   23.63,2,    0.00,2,    1.66,2,   2.963,2,   1.526,2,   0.099,2,  2161.1,2,  2271.0,2,   0.831,2,   1.8410,2,    8.08,2, -999.00,9,  -999.0,9,  -999.0,   7.569,2,   0.038, -999.00,9,  389.30,-999.0000,9,-999.0000,9,-999.0000,9,-999.0000,9,-999.0000,9,   0.0092,   0.007,-999.0000,9,    0.20
318M20040615,        P02,     150,          1,         27,         27,2,20040817,       0916,    29.9995,  -136.8917,       3572,   439.1,   6.9587,  34.0164,2,  34.0176,2, 132.3000,2,   130.8,2,   45.91,2,   29.03,2,    0.00,2,    2.06,2,-999.000,9,-999.000,9,-999.000,9,  -999.0,9,  -999.0,9,-999.000,9,-999.0000,9, -999.00,9, -999.00,9,  -999.0,9,  -999.0,-999.000,9,-999.000, -999.00,9,  439.10,-999.0000,9,-999.0000,9,-999.0000,9,-999.0000,9,-999.0000,9,-999.0000,-999.000,-999.0000,9, -999.00
318M20040615,        P02,     150,          1,         26,         26,2,20040817,       0916,    29.9995,  -136.8917,       3572,   488.7,   6.3200,  34.0109,2,  34.0111,2, 110.0000,2,   110.4,2,   55.20,2,   32.14,2,    0.00,2,    2.29,2,   1.792,2,   0.886,2,   0.054,2,  2227.2,2,  2285.5,2,   0.704,2,   1.8583,2,   14.10,2, -999.00,9,  -999.0,9,  -999.0,   7.695,2,   0.038, -999.00,9,  488.70,-999.0000,9,-999.0000,9,-999.0000,9,-999.0000,9,-999.0000,9,   0.0093,   0.006,-999.0000,9,    0.20
318M20040615,        P02,     150,          1,         25,         25,2,20040817,       0916,    29.9995,  -136.8917,       3572,   573.9,   5.3372,  34.0544,2,  34.0593,2,  67.5000,2,    64.3,2,   74.84,2,   37.91,2,    0.00,2,    2.73,2,   0.828,2,   0.410,2,   0.017,2,  -999.0,9,  -999.0,9,   0.487,2,   1.8730,2,   16.70,2, -999.00,9,  -999.0,9,  -999.0,   7.734,2,   0.039, -999.00,9,  573.90,-999.0000,9,-999.0000,9,-999.0000,9,-999.0000,9,-999.0000,9,   0.0094,   0.005,-999.0000,9,    0.20
318M20040615,        P02,     150,          1,         24,         24,2,20040817,       0916,    29.9995,  -136.8917,       3572,   674.0,   4.6363,  34.1593,2,  34.1586,2,  31.7000,2,    31.1,2,   93.17,2,   41.78,2,    0.00,2,    3.01,2,   0.248,2,   0.125,2,   0.005,2,  2318.2,2,  2324.7,2,   0.231,2,   1.8916,2,   15.47,2, -999.00,9,  -999.0,9,  -999.0,   7.818,2,   0.039, -999.00,9,  674.00,-999.0000,9,-999.0000,9,-999.0000,9,-999.0000,9,-999.0000,9,   0.0095,   0.004,-999.0000,9,    0.20
318M20040615,        P02,     150,          1,         23,         23,2,20040817,       0916,    29.9995,  -136.8917,       3572,   779.0,   4.3478,  34.2638,2,  34.2635,2,  16.2000,2,    15.9,2,  104.56,2,   43.29,2,    0.00,2,    3.14,2,   0.071,6,   0.037,6,   0.003,6,  -999.0,9,  -999.0,9,   0.081,2,   1.8875,2,   15.06,2, -999.00,9,  -999.0,9,  -999.0,   7.739,2,   0.039, -999.00,9,  779.00,-999.0000,9,-999.0000,9,-999.0000,9,-999.0000,9,-999.0000,9,   0.0094,   0.002,-999.0000,9,    0.20
318M20040615,        P02,     150,          1,         22,         22,2,20040817,       0916,    29.9995,  -136.8917,       3572,   878.9,   4.0355,  34.3422,2,  34.3414,2,  14.1000,2,    14.1,2,  113.76,2,   43.65,2,    0.00,2,    3.19,2,   0.032,2,   0.022,2,   0.000,2,  2354.0,6,  2356.7,2,   0.020,2,   1.9129,2,   15.17,2, -999.00,9,  -999.0,9,  -999.0,   7.853,2,   0.039, -999.00,9,  878.90,-999.0000,9,-999.0000,9,-999.0000,9,-999.0000,9,-999.0000,9,   0.0096,   0.001,-999.0000,9,    0.20
318M20040615,        P02,     150,          1,         21,         21,2,20040817,       0916,    29.9995,  -136.8917,       3572,   978.8,   3.7516,  34.4102,2,  34.4108,2,  18.9000,2,    19.9,2,  121.20,2,   43.60,2,    0.00,2,    3.18,2,   0.018,2,   0.009,2,   0.000,2,  -999.0,9,  -999.0,9,-999.000,9,-999.0000,9, -999.00,9, -999.00,9,  -999.0,9,  -999.0,-999.000,9,-999.000, -999.00,9,  978.80,-999.0000,9,-999.0000,9,-999.0000,9,-999.0000,9,-999.0000,9,-999.0000,-999.000,-999.0000,9, -999.00
318M20040615,        P02,     150,          1,         20,         20,2,20040817,       0916,    29.9995,  -136.8917,       3572,  1078.9,   3.5220,  34.4602,2,  34.4605,2,  27.2000,2,    28.7,2,  126.41,2,   43.32,2,    0.00,2,    3.14,2,   0.011,2,   0.007,2,   0.000,2,  -999.0,9,  -999.0,9,   0.023,2,   1.9235,2,   19.93,2, -999.00,9,  -999.0,9,  -999.0,   7.832,2,   0.039, -999.00,9, 1078.90,-999.0000,9,-999.0000,9,-999.0000,9,-999.0000,9,-999.0000,9,   0.0096,   0.000,-999.0000,9,    0.20
318M20040615,        P02,     150,          1,         19,         19,2,20040817,       0916,    29.9995,  -136.8917,       3572,  1184.3,   3.3023,  34.4964,2,  34.4964,2,  34.7000,2,    35.0,2,  130.84,2,   42.94,2,    0.00,2,    3.12,2,   0.011,2,   0.004,2,   0.000,2,  -999.0,9,  -999.0,9,-999.000,9,-999.0000,9, -999.00,9, -999.00,9,  -999.0,9,  -999.0,-999.000,9,-999.000, -999.00,9, 1184.30,-999.0000,9,-999.0000,9,-999.0000,9,-999.0000,9,-999.0000,9,-999.0000,-999.000,-999.0000,9, -999.00
318M20040615,        P02,     150,          1,         18,         18,2,20040817,       0916,    29.9995,  -136.8917,       3572,  1284.5,   3.1144,  34.5212,2,  34.5215,2,  42.3000,2,    42.2,2,  134.45,2,   42.72,2,    0.00,2,    3.07,2,   0.009,2,   0.006,2,   0.000,2,  -999.0,9,  -999.0,9,   0.004,2,   1.9462,2,   21.77,2, -999.00,9,  -999.0,9,  -999.0,   7.868,2,   0.039, -999.00,9, 1284.50,-999.0000,9,-999.0000,9,-999.0000,9,-999.0000,9,-999.0000,9,   0.0097,   0.000,-999.0000,9,    0.20
318M20040615,        P02,     150,          1,         17,         17,2,20040817,       0916,    29.9995,  -136.8917,       3572,  1384.9,   2.9302,  34.5421,2,  34.5427,2,  47.0000,2,    47.3,2,  139.88,2,   42.72,2,    0.00,2,    3.06,2,-999.000,9,-999.000,9,-999.000,9,  -999.0,9,  -999.0,9,-999.000,9,-999.0000,9, -999.00,9, -999.00,9,  -999.0,9,  -999.0,-999.000,9,-999.000, -999.00,9, 1384.90,-999.0000,9,-999.0000,9,-999.0000,9,-999.0000,9,-999.0000,9,-999.0000,-999.000,-999.0000,9, -999.00
318M20040615,        P02,     150,          1,         16,         16,2,20040817,       0916,    29.9995,  -136.8917,       3572,  1485.5,   2.7975,  34.5548,2,  34.5550,2,  51.9000,2,    51.5,2,  143.10,2,   42.61,2,    0.00,2,    3.04,2,   0.009,2,   0.004,2,   0.000,2,  -999.0,9,  -999.0,9,   0.000,2,   1.9491,2,   22.80,2, -999.00,9,  -999.0,9,  -999.0,   7.920,2,   0.040, -999.00,9, 1485.50,-999.0000,9,-999.0000,9,-999.0000,9,-999.0000,9,-999.0000,9,   0.0097,   0.000,-999.0000,9,    0.20
318M20040615,        P02,     150,          1,         15,         15,2,20040817,       0916,    29.9995,  -136.8917,       3572,  1585.7,   2.6035,  34.5719,2,  34.5719,2,  58.0000,2,    58.3,2,  147.33,2,   42.22,2,    0.00,2,    3.01,2,-999.000,9,-999.000,9,-999.000,9,  -999.0,9,  -999.0,9,-999.000,9,-999.0000,9, -999.00,9, -999.00,9,  -999.0,9,  -999.0,-999.000,9,-999.000, -999.00,9, 1585.70,-999.0000,9,-999.0000,9,-999.0000,9,-999.0000,9,-999.0000,9,-999.0000,-999.000,-999.0000,9, -999.00
318M20040615,        P02,     150,          1,         14,         14,2,20040817,       0916,    29.9995,  -136.8917,       3572,  1686.0,   2.4487,  34.5850,2,  34.5854,2,  62.4000,2,    64.2,2,  151.74,2,   41.78,2,    0.00,2,    2.97,2,   0.010,2,   0.004,2,   0.000,2,  -999.0,9,  -999.0,9,   0.006,2,   1.9495,2,   22.99,2, -999.00,9,  -999.0,9,  -999.0,   7.948,2,   0.040, -999.00,9, 1686.00,-999.0000,9,-999.0000,9,-999.0000,9,-999.0000,9,-999.0000,9,   0.0097,   0.000,-999.0000,9,    0.20
318M20040615,        P02,     150,          1,         13,         13,2,20040817,       0916,    29.9995,  -136.8917,       3572,  1792.0,   2.3445,  34.5954,2,  34.5950,2,  68.0000,2,    67.9,2,  153.94,2,   41.40,2,    0.00,2,    2.95,2,   0.007,2,   0.002,2,   0.000,2,  -999.0,9,  -999.0,9,-999.000,9,-999.0000,9, -999.00,9, -999.00,9,  -999.0,9,  -999.0,-999.000,9,-999.000, -999.00,9, 1792.00,-999.0000,9,-999.0000,9,-999.0000,9,-999.0000,9,-999.0000,9,-999.0000,-999.000,-999.0000,9, -999.00
318M20040615,        P02,     150,          1,         12,         12,2,20040817,       0916,    29.9995,  -136.8917,       3572,  1892.5,   2.2291,  34.6047,2,  34.6044,2,  72.6000,2,    72.4,2,  156.78,2,   41.02,2,    0.00,2,    2.93,2,-999.000,9,-999.000,9,-999.000,9,  -999.0,9,  -999.0,9,-999.000,9,-999.0000,9, -999.00,9, -999.00,9,  -999.0,9,  -999.0,-999.000,9,-999.000, -999.00,9, 1892.50,-999.0000,9,-999.0000,9,-999.0000,9,-999.0000,9,-999.0000,9,-999.0000,-999.000,-999.0000,9, -999.00
318M20040615,        P02,     150,          1,         11,         11,2,20040817,       0916,    29.9995,  -136.8917,       3572,  1993.3,   2.1073,  34.6148,2,  34.6146,2,  78.5000,2,    77.9,2,  160.43,2,   40.70,2,    0.00,2,    2.90,2,   0.004,2,   0.002,2,   0.000,2,  -999.0,9,  -999.0,9,-999.000,9,-999.0000,9, -999.00,9, -999.00,9,  -999.0,9,  -999.0,-999.000,9,-999.000, -999.00,9, 1993.30,-999.0000,9,-999.0000,9,-999.0000,9,-999.0000,9,-999.0000,9,-999.0000,-999.000,-999.0000,9, -999.00
318M20040615,        P02,     150,          1,         10,         10,2,20040817,       0916,    29.9995,  -136.8917,       3572,  2094.2,   2.0010,  34.6239,2,  34.6241,2,  82.5000,2,    82.9,2,  162.64,2,   40.37,2,    0.00,2,    2.87,2,-999.000,9,-999.000,9,-999.000,9,  -999.0,9,  -999.0,9,-999.000,9,-999.0000,9, -999.00,9, -999.00,9,  -999.0,9,  -999.0,-999.000,9,-999.000, -999.00,9, 2094.20,-999.0000,9,-999.0000,9,-999.0000,9,-999.0000,9,-999.0000,9,-999.0000,-999.000,-999.0000,9, -999.00
318M20040615,        P02,     150,          1,          9,          9,2,20040817,       0916,    29.9995,  -136.8917,       3572,  2194.8,   1.9431,  34.6292,2,  34.6292,2,  86.5000,2,    86.8,2,  163.85,2,   40.26,2,    0.00,2,    2.85,2,   0.007,2,   0.003,2,   0.000,2,  -999.0,9,  -999.0,9,-999.000,9,-999.0000,9, -999.00,9, -999.00,9,  -999.0,9,  -999.0,-999.000,9,-999.000, -999.00,9, 2194.80,-999.0000,9,-999.0000,9,-999.0000,9,-999.0000,9,-999.0000,9,-999.0000,-999.000,-999.0000,9, -999.00
318M20040615,        P02,     150,          1,          8,          8,2,20040817,       0916,    29.9995,  -136.8917,       3572,  2351.2,   1.8203,  34.6397,2,  34.6399,2,  93.5000,2,    94.4,2,  166.45,2,   40.03,2,    0.00,2,    2.81,2,-999.000,9,-999.000,9,-999.000,9,  -999.0,9,  -999.0,9,-999.000,9,-999.0000,9, -999.00,9, -999.00,9,  -999.0,9,  -999.0,-999.000,9,-999.000, -999.00,9, 2351.20,-999.0000,9,-999.0000,9,-999.0000,9,-999.0000,9,-999.0000,9,-999.0000,-999.000,-999.0000,9, -999.00
318M20040615,        P02,     150,          1,          7,          7,2,20040817,       0916,    29.9995,  -136.8917,       3572,  2502.8,   1.7332,  34.6478,2,  34.6478,2, 100.7000,2,   100.8,2,  167.65,2,   39.60,2,    0.00,2,    2.77,2,   0.006,2,   0.002,2,   0.000,2,  -999.0,9,  -999.0,9,   0.003,2,-999.0000,9, -999.00,9, -999.00,9,  -999.0,9,  -999.0,-999.000,9,-999.000, -999.00,9, 2502.80,-999.0000,9,-999.0000,9,-999.0000,9,-999.0000,9,-999.0000,9,-999.0000,   0.000,-999.0000,9, -999.00
318M20040615,        P02,     150,          1,          6,          6,2,20040817,       0916,    29.9995,  -136.8917,       3572,  2703.9,   1.6595,  34.6555,2,  34.6554,2, 107.5000,2,   107.9,2,  168.44,2,   39.06,2,    0.00,2,    2.74,2,   0.007,2,   0.003,2,   0.000,2,  -999.0,9,  -999.0,9,-999.000,9,-999.0000,9, -999.00,9, -999.00,9,  -999.0,9,  -999.0,-999.000,9,-999.000, -999.00,9, 2703.90,-999.0000,9,-999.0000,9,-999.0000,9,-999.0000,9,-999.0000,9,-999.0000,-999.000,-999.0000,9, -999.00
318M20040615,        P02,     150,          1,          5,          5,2,20040817,       0916,    29.9995,  -136.8917,       3572,  2911.2,   1.5980,  34.6622,2,  34.6625,2, 114.0000,2,   114.6,2,  168.40,2,   38.57,2,    0.00,2,    2.70,2,   0.011,2,   0.006,2,   0.000,2,  -999.0,9,  -999.0,9,-999.000,9,-999.0000,9, -999.00,9, -999.00,9,  -999.0,9,  -999.0,-999.000,9,-999.000, -999.00,9, 2911.20,-999.0000,9,-999.0000,9,-999.0000,9,-999.0000,9,-999.0000,9,-999.0000,-999.000,-999.0000,9, -999.00
318M20040615,        P02,     150,          1,          4,          4,2,20040817,       0916,    29.9995,  -136.8917,       3572,  3113.7,   1.5532,  34.6683,2,  34.6681,2, 120.8000,2,   122.1,2,  166.74,2,   38.09,2,    0.00,2,    2.66,2,   0.007,2,   0.004,2,   0.000,2,  -999.0,9,  -999.0,9,-999.000,9,-999.0000,9, -999.00,9, -999.00,9,  -999.0,9,  -999.0,-999.000,9,-999.000, -999.00,9, 3113.70,-999.0000,9,-999.0000,9,-999.0000,9,-999.0000,9,-999.0000,9,-999.0000,-999.000,-999.0000,9, -999.00
318M20040615,        P02,     150,          1,          3,          3,2,20040817,       0916,    29.9995,  -136.8917,       3572,  3321.2,   1.5047,  34.6749,2,  34.6746,2, 129.4000,2,   130.0,2,  164.90,2,   37.50,2,    0.00,2,    2.62,2,   0.005,2,   0.006,2,   0.000,2,  -999.0,9,  -999.0,9,-999.000,9,-999.0000,9, -999.00,9, -999.00,9,  -999.0,9,  -999.0,-999.000,9,-999.000, -999.00,9, 3321.20,-999.0000,9,-999.0000,9,-999.0000,9,-999.0000,9,-999.0000,9,-999.0000,-999.000,-999.0000,9, -999.00
318M20040615,        P02,     150,          1,          2,          2,2,20040817,       0916,    29.9995,  -136.8917,       3572,  3559.0,   1.4912,  34.6789,2,  34.6789,2, 135.0000,2,   135.5,2,  162.65,2,   37.07,2,    0.00,2,    2.58,2,   0.012,2,   0.008,2,   0.000,2,  -999.0,9,  -999.0,9,-999.000,9,-999.0000,9, -999.00,9, -999.00,9,  -999.0,9,  -999.0,-999.000,9,-999.000, -999.00,9, 3559.00,-999.0000,9,-999.0000,9,-999.0000,9,-999.0000,9,-999.0000,9,-999.0000,-999.000,-999.0000,9, -999.00
318M20040615,        P02,     150,          1,          1,          1,2,20040817,       0916,    29.9995,  -136.8917,       3572,  3741.1,   1.4960,  34.6804,2,  34.6805,2, 137.3000,2,   137.6,2,  161.81,2,   37.01,2,    0.00,2,    2.57,2,   0.007,2,   0.007,2,   0.000,2,  -999.0,9,  -999.0,9,-999.000,9,-999.0000,9, -999.00,9, -999.00,9,  -999.0,9,  -999.0,-999.000,9,-999.000, -999.00,9, 3741.10,-999.0000,9,-999.0000,9,-999.0000,9,-999.0000,9,-999.0000,9,-999.0000,-999.000,-999.0000,9, -999.00