BOTTLE,20131027SIOCCHRJL
EXPOCODE,SECT_ID,STNNBR,CASTNO,SAMPNO,BTLNBR,BTLNBR_FLAG_W,DATE,TIME,LATITUDE,LONGITUDE,DEPTH,CTDPRS,CTDTMP,CTDSAL,CTDSAL_FLAG_W,SALNTY,SALNTY_FLAG_W,CTDOXY,CTDOXY_FLAG_W,OXYGEN,OXYGEN_FLAG_W,SILCAT,SILCAT_FLAG_W,NITRAT,NITRAT_FLAG_W,NITRIT,NITRIT_FLAG_W,PHSPHT,PHSPHT_FLAG_W,CFC-11,CFC-11_FLAG_W,CFC-12,CFC-12_FLAG_W,CFC113,CFC113_FLAG_W,TCARBN,TCARBN_FLAG_W,ALKALI,ALKALI_FLAG_W,TRITUM,TRITUM_FLAG_W,HELIUM,HELIUM_FLAG_W,DELHE3,DELHE3_FLAG_W,DELC13,DELC13_FLAG_W,DELC14,DELC14_FLAG_W,C14ERR,NEON,NEON_FLAG_W,NEONER,DOC,DOC_FLAG_W,CTDRAW,CDOM380,CDOM380_FLAG_W,CDOM325,CDOM325_FLAG_W,CDOMSL,CDOMSL_FLAG_W,CDOM340,CDOM340_FLAG_W,CDOMSN,CDOMSN_FLAG_W,HELIER,TRITER,CDOM412,CDOM412_FLAG_W,DELHER
,,,,,,,,,,,METERS,DBAR,ITS-90,PSS-78,,PSS-78,,UMOL/KG,,UMOL/KG,,UMOL/KG,,UMOL/KG,,UMOL/KG,,UMOL/KG,,PMOL/KG,,PMOL/KG,,PMOL/KG,,UMOL/KG,,UMOL/KG,,TU,,NMOL/KG,,PERCNT,,/MILLE,,/MILLE,,/MILLE,NMOL/KG,,NMOL/KG,UMOL/KG,,DBAR,1/M,,1/M,,1/NM,,1/M,,1/NM,,NMOL/KG,TU,1/M,,PERCNT
318M20040615,        P02,     180,          1,         36,         36,2,20040825,       1209,    32.0002,  -119.7702,       3185,     4.4,  18.0915,  33.3112,2,  33.3119,2, 249.2000,2,   249.1,2,    0.14,2,    0.05,2,    0.00,2,    0.24,2,   2.587,2,   1.595,2,   0.192,2,  1987.3,6,  -999.0,9,-999.000,9,   1.7447,2,   -1.66,2, -999.00,9,  -999.0,9,  -999.0,-999.000,9,-999.000, -999.00,9,    4.40,-999.0000,9,-999.0000,9,-999.0000,9,-999.0000,9,-999.0000,9,   0.0087,-999.000,-999.0000,9,    0.20
318M20040615,        P02,     180,          1,         35,         35,2,20040825,       1209,    32.0002,  -119.7702,       3185,    18.4,  18.0083,  33.2973,2,  33.2898,2, 250.2000,2,   251.3,2,    0.18,2,    0.10,2,    0.00,2,    0.25,2,-999.000,9,-999.000,9,-999.000,9,  -999.0,9,  -999.0,9,-999.000,9,-999.0000,9, -999.00,9, -999.00,9,  -999.0,9,  -999.0,-999.000,9,-999.000, -999.00,9,   18.40,-999.0000,9,-999.0000,9,-999.0000,9,-999.0000,9,-999.0000,9,-999.0000,-999.000,-999.0000,9, -999.00
318M20040615,        P02,     180,          1,         34,         34,2,20040825,       1209,    32.0002,  -119.7702,       3185,    44.2,  12.7272,  33.0981,2,  33.0986,2, 248.8000,2,   247.7,2,    4.08,2,    6.48,2,    0.27,2,    0.76,2,   5.867,4,   3.501,4,   0.440,4,  -999.0,9,  -999.0,9,-999.000,9,   1.7917,2,   -1.17,2, -999.00,9,  -999.0,9,  -999.0,-999.000,9,-999.000, -999.00,9,   44.20,-999.0000,9,-999.0000,9,-999.0000,9,-999.0000,9,-999.0000,9,   0.0090,-999.000,-999.0000,9,    0.20
318M20040615,        P02,     180,          1,         33,         33,2,20040825,       1209,    32.0002,  -119.7702,       3185,    83.9,  10.2749,  33.3081,2,  33.3186,2, 193.5000,2,   194.5,2,   13.30,2,   16.67,2,    0.02,2,    1.36,2,   3.580,2,   2.036,2,   0.293,2,  -999.0,9,  -999.0,9,   0.934,2,   1.8021,2,    0.19,2, -999.00,9,  -999.0,9,  -999.0,-999.000,9,-999.000, -999.00,9,   83.90,-999.0000,9,-999.0000,9,-999.0000,9,-999.0000,9,-999.0000,9,   0.0090,   0.005,-999.0000,9,    0.20
318M20040615,        P02,     180,          1,         32,         32,2,20040825,       1209,    32.0002,  -119.7702,       3185,   108.9,   9.6639,  33.6127,2,  33.6125,2, 138.1000,2,   141.1,2,   21.70,2,   23.42,2,    0.01,2,    1.82,2,   3.314,2,   1.844,2,   0.257,2,  -999.0,9,  -999.0,9,   0.849,2,   1.8074,2,    2.52,2, -999.00,9,  -999.0,9,  -999.0,-999.000,9,-999.000, -999.00,9,  108.90,-999.0000,9,-999.0000,9,-999.0000,9,-999.0000,9,-999.0000,9,   0.0090,   0.005,-999.0000,9,    0.20
318M20040615,        P02,     180,          1,         31,         31,2,20040825,       1209,    32.0002,  -119.7702,       3185,   134.2,   9.1911,  33.8494,2,  33.8455,2, 120.0000,2,   123.1,2,   26.43,2,   25.19,2,    0.01,2,    1.92,2,   3.027,2,   1.676,2,   0.168,2,  -999.0,9,  -999.0,9,   0.836,2,   1.8072,2,    5.34,2, -999.00,9,  -999.0,9,  -999.0,-999.000,9,-999.000, -999.00,9,  134.20,-999.0000,9,-999.0000,9,-999.0000,9,-999.0000,9,-999.0000,9,   0.0090,   0.005,-999.0000,9,    0.20
318M20040615,        P02,     180,          1,         30,         30,2,20040825,       1209,    32.0002,  -119.7702,       3185,   159.0,   9.0139,  33.9668,2,  33.9814,2, 113.2000,2,   109.5,2,   29.74,2,   26.64,2,    0.01,2,    2.01,2,   2.759,2,   1.491,2,   0.132,2,  -999.0,9,  -999.0,9,   0.803,2,   1.8022,2,    7.00,2, -999.00,9,  -999.0,9,  -999.0,-999.000,9,-999.000, -999.00,9,  159.00,-999.0000,9,-999.0000,9,-999.0000,9,-999.0000,9,-999.0000,9,   0.0090,   0.005,-999.0000,9,    0.20
318M20040615,        P02,     180,          1,         29,         29,2,20040825,       1209,    32.0002,  -119.7702,       3185,   187.2,   8.7078,  34.0526,2,  34.0554,2,  95.7000,2,    97.3,2,   33.66,2,   28.27,2,    0.01,2,    2.12,2,   2.499,2,   1.325,2,   0.103,2,  -999.0,9,  -999.0,9,   0.708,2,   1.8130,2,    8.70,2, -999.00,9,  -999.0,9,  -999.0,-999.000,9,-999.000, -999.00,9,  187.20,-999.0000,9,-999.0000,9,-999.0000,9,-999.0000,9,-999.0000,9,   0.0091,   0.006,-999.0000,9,    0.20
318M20040615,        P02,     180,          1,         28,         28,2,20040825,       1209,    32.0002,  -119.7702,       3185,   213.1,   8.4737,  34.1073,2,  34.1089,2,  85.4000,2,    85.1,2,   37.58,2,   29.74,2,    0.01,2,    2.24,2,-999.000,9,-999.000,9,-999.000,9,  -999.0,9,  -999.0,9,-999.000,9,-999.0000,9, -999.00,9, -999.00,9,  -999.0,9,  -999.0,-999.000,9,-999.000, -999.00,9,  213.10,-999.0000,9,-999.0000,9,-999.0000,9,-999.0000,9,-999.0000,9,-999.0000,-999.000,-999.0000,9, -999.00
318M20040615,        P02,     180,          1,         27,         27,2,20040825,       1209,    32.0002,  -119.7702,       3185,   238.8,   8.1449,  34.1474,2,  34.1470,2,  72.8000,2,    72.0,2,   41.91,2,   31.27,2,    0.00,2,    2.38,2,-999.000,1,-999.000,1,-999.000,1,  -999.0,9,  -999.0,9,   0.639,2,   1.8206,2,   12.19,2, -999.00,9,  -999.0,9,  -999.0,-999.000,9,-999.000, -999.00,9,  238.80,-999.0000,9,-999.0000,9,-999.0000,9,-999.0000,9,-999.0000,9,   0.0091,   0.003,-999.0000,9,    0.20
318M20040615,        P02,     180,          1,         26,         26,2,20040825,       1209,    32.0002,  -119.7702,       3185,   288.8,   7.7182,  34.2055,2,  34.2068,2,  50.5000,2,    48.7,2,   49.53,2,   33.55,2,    0.00,2,    2.61,2,   1.167,2,   0.604,2,   0.036,2,  -999.0,9,  -999.0,9,-999.000,9,   1.8241,2,   12.32,2, -999.00,9,  -999.0,9,  -999.0,-999.000,9,-999.000, -999.00,9,  288.80,-999.0000,9,-999.0000,9,-999.0000,9,-999.0000,9,-999.0000,9,   0.0091,-999.000,-999.0000,9,    0.20
318M20040615,        P02,     180,          1,         25,         25,2,20040825,       1209,    32.0002,  -119.7702,       3185,   338.4,   7.2545,  34.2109,2,  34.2107,2,  42.0000,2,    43.0,2,   55.30,2,   34.87,2,    0.00,2,    2.71,2,   0.923,2,   0.465,2,   0.018,2,  -999.0,9,  -999.0,9,   0.479,2,   1.8290,2,   12.51,2, -999.00,9,  -999.0,9,  -999.0,-999.000,9,-999.000, -999.00,9,  338.40,-999.0000,9,-999.0000,9,-999.0000,9,-999.0000,9,-999.0000,9,   0.0091,   0.004,-999.0000,9,    0.20
318M20040615,        P02,     180,          1,         24,         24,2,20040825,       1209,    32.0002,  -119.7702,       3185,   388.4,   6.9841,  34.2759,2,  34.2762,2,  27.5000,2,    24.7,2,   62.54,2,   36.42,2,    0.00,2,    2.89,2,   0.529,2,   0.285,2,   0.003,2,  -999.0,9,  -999.0,9,   0.349,2,   1.8338,2,   12.41,2, -999.00,9,  -999.0,9,  -999.0,-999.000,9,-999.000, -999.00,9,  388.40,-999.0000,9,-999.0000,9,-999.0000,9,-999.0000,9,-999.0000,9,   0.0092,   0.002,-999.0000,9,    0.20
318M20040615,        P02,     180,          1,         23,         23,2,20040825,       1209,    32.0002,  -119.7702,       3185,   437.7,   6.6768,  34.2978,2,  34.3013,2,  20.4000,2,    18.4,2,   67.92,2,   37.38,2,    0.00,2,    2.98,2,-999.000,9,-999.000,9,-999.000,9,  -999.0,9,  -999.0,9,-999.000,9,-999.0000,9, -999.00,9, -999.00,9,  -999.0,9,  -999.0,-999.000,9,-999.000, -999.00,9,  437.70,-999.0000,9,-999.0000,9,-999.0000,9,-999.0000,9,-999.0000,9,-999.0000,-999.000,-999.0000,9, -999.00
318M20040615,        P02,     180,          1,         22,         22,2,20040825,       1209,    32.0002,  -119.7702,       3185,   487.9,   6.3293,  34.3174,2,  34.3186,2,  16.5000,2,    16.3,2,   73.51,2,   38.50,2,    0.00,2,    3.05,2,   0.345,6,   0.176,6,   0.000,6,  -999.0,9,  -999.0,9,   0.293,2,-999.0000,9, -999.00,9, -999.00,9,  -999.0,9,  -999.0,-999.000,9,-999.000, -999.00,9,  487.90,-999.0000,9,-999.0000,9,-999.0000,9,-999.0000,9,-999.0000,9,-999.0000,   0.002,-999.0000,9, -999.00
318M20040615,        P02,     180,          1,         21,         21,2,20040825,       1209,    32.0002,  -119.7702,       3185,   573.0,   5.8139,  34.3560,2,  34.3558,2,  12.3000,2,    12.6,2,   83.06,2,   40.01,2,    0.00,2,    3.13,2,   0.172,2,   0.090,2,   0.000,2,  -999.0,9,  -999.0,9,   0.131,2,   1.8591,2,   13.64,2, -999.00,9,  -999.0,9,  -999.0,-999.000,9,-999.000, -999.00,9,  573.00,-999.0000,9,-999.0000,9,-999.0000,9,-999.0000,9,-999.0000,9,   0.0093,   0.001,-999.0000,9,    0.20
318M20040615,        P02,     180,          1,         20,         20,2,20040825,       1209,    32.0002,  -119.7702,       3185,   677.7,   5.2005,  34.3950,2,  34.3953,2,  12.3000,2,    12.8,2,   93.86,2,   41.75,2,    0.00,2,    3.19,2,   0.169,2,   0.101,2,  -0.001,2,  -999.0,9,  -999.0,9,   0.051,2,   1.8719,2,   15.44,2, -999.00,9,  -999.0,9,  -999.0,-999.000,9,-999.000, -999.00,9,  677.70,-999.0000,9,-999.0000,9,-999.0000,9,-999.0000,9,-999.0000,9,   0.0094,   0.001,-999.0000,9,    0.20
318M20040615,        P02,     180,          1,         19,         19,2,20040825,       1209,    32.0002,  -119.7702,       3185,   777.9,   4.7540,  34.4331,2,  34.4345,2,  14.6000,2,    15.3,2,  101.56,2,   43.16,2,    0.00,2,    3.21,2,   0.067,2,   0.039,2,  -0.001,2,  -999.0,9,  -999.0,9,   0.024,2,   1.8830,2,   17.06,2, -999.00,9,  -999.0,9,  -999.0,-999.000,9,-999.000, -999.00,9,  777.90,-999.0000,9,-999.0000,9,-999.0000,9,-999.0000,9,-999.0000,9,   0.0094,   0.000,-999.0000,9,    0.20
318M20040615,        P02,     180,          1,         18,         18,2,20040825,       1209,    32.0002,  -119.7702,       3185,   877.8,   4.4233,  34.4545,2,  34.4549,2,  18.2000,2,    17.3,2,  108.03,2,   43.53,2,    0.00,2,    3.22,2,   0.081,2,   0.046,2,   0.000,2,  -999.0,9,  -999.0,9,   0.031,2,-999.0000,9, -999.00,9, -999.00,9,  -999.0,9,  -999.0,-999.000,9,-999.000, -999.00,9,  877.80,-999.0000,9,-999.0000,9,-999.0000,9,-999.0000,9,-999.0000,9,-999.0000,   0.000,-999.0000,9, -999.00
318M20040615,        P02,     180,          1,         17,         17,2,20040825,       1209,    32.0002,  -119.7702,       3185,   977.7,   4.1437,  34.4705,2,  34.4710,2,  21.3000,2,    22.8,2,  114.49,2,   43.45,2,    0.00,2,    3.21,2,   0.094,2,   0.069,2,   0.000,2,  -999.0,9,  -999.0,9,   0.009,2,-999.0000,9, -999.00,9, -999.00,9,  -999.0,9,  -999.0,-999.000,9,-999.000, -999.00,9,  977.70,-999.0000,9,-999.0000,9,-999.0000,9,-999.0000,9,-999.0000,9,-999.0000,   0.000,-999.0000,9, -999.00
318M20040615,        P02,     180,          1,         16,         16,2,20040825,       1209,    32.0002,  -119.7702,       3185,  1078.6,   3.9130,  34.4901,2,  34.4905,2,  25.4000,2,    25.5,2,  119.32,2,   43.44,2,    0.00,2,    3.19,2,   0.071,2,   0.057,2,   0.000,2,  -999.0,9,  -999.0,9,   0.007,2,   1.7903,2,   20.42,2, -999.00,9,  -999.0,9,  -999.0,-999.000,9,-999.000, -999.00,9, 1078.60,-999.0000,9,-999.0000,9,-999.0000,9,-999.0000,9,-999.0000,9,   0.0090,   0.000,-999.0000,9,    0.20
318M20040615,        P02,     180,          1,         15,         15,2,20040825,       1209,    32.0002,  -119.7702,       3185,  1183.7,   3.5677,  34.5142,2,  34.5152,2,  31.9000,2,    32.3,2,  127.91,2,   43.19,2,    0.00,2,    3.17,2,   0.085,2,   0.081,2,   0.000,2,  -999.0,9,  -999.0,9,   0.011,2,-999.0000,9, -999.00,9, -999.00,9,  -999.0,9,  -999.0,-999.000,9,-999.000, -999.00,9, 1183.70,-999.0000,9,-999.0000,9,-999.0000,9,-999.0000,9,-999.0000,9,-999.0000,   0.000,-999.0000,9, -999.00
318M20040615,        P02,     180,          1,         14,         14,2,20040825,       1209,    32.0002,  -119.7702,       3185,  1283.8,   3.2699,  34.5307,2,  34.5313,2,  38.2000,2,    39.0,2,  134.86,2,   43.02,2,    0.00,2,    3.14,2,   0.061,2,   0.047,2,   0.000,2,  -999.0,9,  -999.0,9,   0.006,2,-999.0000,9, -999.00,9, -999.00,9,  -999.0,9,  -999.0,-999.000,9,-999.000, -999.00,9, 1283.80,-999.0000,9,-999.0000,9,-999.0000,9,-999.0000,9,-999.0000,9,-999.0000,   0.000,-999.0000,9, -999.00
318M20040615,        P02,     180,          1,         13,         13,2,20040825,       1209,    32.0002,  -119.7702,       3185,  1384.3,   3.0273,  34.5467,2,  34.5476,2,  42.9000,2,    42.9,2,  140.75,2,   43.00,2,    0.00,2,    3.11,2,   0.047,2,   0.043,2,   0.000,2,  -999.0,9,  -999.0,9,-999.000,9,   1.8989,2,   22.90,2, -999.00,9,  -999.0,9,  -999.0,-999.000,9,-999.000, -999.00,9, 1384.30,-999.0000,9,-999.0000,9,-999.0000,9,-999.0000,9,-999.0000,9,   0.0095,-999.000,-999.0000,9,    0.20
318M20040615,        P02,     180,          1,         12,         12,2,20040825,       1209,    32.0002,  -119.7702,       3185,  1484.2,   2.8087,  34.5651,2,  34.5655,2,  49.0000,2,    50.2,2,  146.03,2,   42.82,2,    0.00,2,    3.07,2,   0.043,2,   0.042,2,   0.000,2,  -999.0,9,  -999.0,9,   0.008,2,   1.9235,2,   23.82,2, -999.00,9,  -999.0,9,  -999.0,-999.000,9,-999.000, -999.00,9, 1484.20,-999.0000,9,-999.0000,9,-999.0000,9,-999.0000,9,-999.0000,9,   0.0096,   0.000,-999.0000,9,    0.20
318M20040615,        P02,     180,          1,         11,         11,2,20040825,       1209,    32.0002,  -119.7702,       3185,  1585.2,   2.6327,  34.5777,2,  34.5787,2,  54.7000,2,    55.5,2,  150.88,2,   42.59,2,    0.00,2,    3.04,2,   0.029,2,   0.032,2,   0.000,2,  -999.0,9,  -999.0,9,   0.004,2,   1.9293,2,   25.10,2, -999.00,9,  -999.0,9,  -999.0,-999.000,9,-999.000, -999.00,9, 1585.20,-999.0000,9,-999.0000,9,-999.0000,9,-999.0000,9,-999.0000,9,   0.0096,   0.000,-999.0000,9,    0.20
318M20040615,        P02,     180,          1,         10,         10,2,20040825,       1209,    32.0002,  -119.7702,       3185,  1690.7,   2.4389,  34.5940,2,  34.5952,2,  63.2000,2,    64.2,2,  154.87,2,   42.01,2,    0.00,2,    2.99,2,-999.000,9,-999.000,9,-999.000,9,  -999.0,9,  -999.0,9,-999.000,9,-999.0000,9, -999.00,9, -999.00,9,  -999.0,9,  -999.0,-999.000,9,-999.000, -999.00,9, 1690.70,-999.0000,9,-999.0000,9,-999.0000,9,-999.0000,9,-999.0000,9,-999.0000,-999.000,-999.0000,9, -999.00
318M20040615,        P02,     180,          1,          9,          9,2,20040825,       1209,    32.0002,  -119.7702,       3185,  1781.1,   2.3184,  34.6060,2,  34.6069,2,  70.3000,2,    69.4,2,  156.79,2,   41.51,2,    0.00,2,    2.95,2,   0.019,2,   0.024,2,   0.000,2,  -999.0,9,  -999.0,9,-999.000,9,-999.0000,9, -999.00,9, -999.00,9,  -999.0,9,  -999.0,-999.000,9,-999.000, -999.00,9, 1781.10,-999.0000,9,-999.0000,9,-999.0000,9,-999.0000,9,-999.0000,9,-999.0000,-999.000,-999.0000,9, -999.00
318M20040615,        P02,     180,          1,         37,         37,2,20040825,       1209,    32.0002,  -119.7702,       3185,  1781.2,   2.3176,  34.6061,2,-999.0000,9,  70.3000,9,  -999.0,9,  156.78,2,   41.32,2,    0.01,4,    2.95,2,-999.000,9,-999.000,9,-999.000,9,  -999.0,9,  -999.0,9,-999.000,9,-999.0000,9, -999.00,9, -999.00,9,  -999.0,9,  -999.0,-999.000,9,-999.000, -999.00,9, 1781.20,-999.0000,9,-999.0000,9,-999.0000,9,-999.0000,9,-999.0000,9,-999.0000,-999.000,-999.0000,9, -999.00
318M20040615,        P02,     180,          1,          7,          7,2,20040825,       1209,    32.0002,  -119.7702,       3185,  1891.3,   2.1664,  34.6147,2,  34.6156,2,  75.3000,2,    75.8,2,  160.18,2,   41.00,2,    0.00,2,    2.92,2,   0.013,2,   0.017,2,   0.000,2,  -999.0,9,  -999.0,9,-999.000,9,-999.0000,9, -999.00,9, -999.00,9,  -999.0,9,  -999.0,-999.000,9,-999.000, -999.00,9, 1891.30,-999.0000,9,-999.0000,9,-999.0000,9,-999.0000,9,-999.0000,9,-999.0000,-999.000,-999.0000,9, -999.00
318M20040615,        P02,     180,          1,          6,          6,2,20040825,       1209,    32.0002,  -119.7702,       3185,  1992.9,   2.0544,  34.6271,2,  34.6284,2,  82.9000,2,    82.8,2,  161.45,2,   40.71,2,    0.00,2,    2.88,2,-999.000,9,-999.000,9,-999.000,9,  -999.0,9,  -999.0,9,-999.000,9,-999.0000,9, -999.00,9, -999.00,9,  -999.0,9,  -999.0,-999.000,9,-999.000, -999.00,9, 1992.90,-999.0000,9,-999.0000,9,-999.0000,9,-999.0000,9,-999.0000,9,-999.0000,-999.000,-999.0000,9, -999.00
318M20040615,        P02,     180,          1,          5,          5,2,20040825,       1209,    32.0002,  -119.7702,       3185,  2198.8,   1.9254,  34.6406,2,  34.6413,2,  92.4000,2,    92.8,2,  162.93,2,   40.25,2,    0.00,2,    2.83,2,   0.011,2,   0.016,2,   0.000,2,  -999.0,9,  -999.0,9,-999.000,9,-999.0000,9, -999.00,9, -999.00,9,  -999.0,9,  -999.0,-999.000,9,-999.000, -999.00,9, 2198.80,-999.0000,9,-999.0000,9,-999.0000,9,-999.0000,9,-999.0000,9,-999.0000,-999.000,-999.0000,9, -999.00
318M20040615,        P02,     180,          1,          4,          4,2,20040825,       1209,    32.0002,  -119.7702,       3185,  2451.3,   1.7992,  34.6523,2,  34.6533,2, 102.3000,2,   102.6,2,  164.40,2,   39.69,2,    0.00,2,    2.77,2,-999.000,9,-999.000,9,-999.000,9,  -999.0,9,  -999.0,9,-999.000,9,-999.0000,9, -999.00,9, -999.00,9,  -999.0,9,  -999.0,-999.000,9,-999.000, -999.00,9, 2451.30,-999.0000,9,-999.0000,9,-999.0000,9,-999.0000,9,-999.0000,9,-999.0000,-999.000,-999.0000,9, -999.00
318M20040615,        P02,     180,          1,          3,          3,2,20040825,       1209,    32.0002,  -119.7702,       3185,  2708.1,   1.6920,  34.6622,2,  34.6629,2, 111.2000,2,   111.6,2,  165.42,2,   39.02,2,    0.00,2,    2.73,2,   0.013,2,   0.020,2,   0.000,2,  -999.0,9,  -999.0,9,-999.000,9,-999.0000,9, -999.00,9, -999.00,9,  -999.0,9,  -999.0,-999.000,9,-999.000, -999.00,9, 2708.10,-999.0000,9,-999.0000,9,-999.0000,9,-999.0000,9,-999.0000,9,-999.0000,-999.000,-999.0000,9, -999.00
318M20040615,        P02,     180,          1,          2,          2,2,20040825,       1209,    32.0002,  -119.7702,       3185,  2960.8,   1.6373,  34.6676,2,  34.6686,2, 117.0000,2,   117.5,2,  166.29,2,   38.48,2,    0.00,2,    2.69,2,   0.024,2,   0.024,2,   0.000,2,  -999.0,9,  -999.0,9,-999.000,9,-999.0000,9, -999.00,9, -999.00,9,  -999.0,9,  -999.0,-999.000,9,-999.000, -999.00,9, 2960.80,-999.0000,9,-999.0000,9,-999.0000,9,-999.0000,9,-999.0000,9,-999.0000,-999.000,-999.0000,9, -999.00
318M20040615,        P02,     180,          1,          1,          1,2,20040825,       1209,    32.0002,  -119.7702,       3185,  3183.1,   1.6262,  34.6698,2,  34.6714,2, 119.6000,2,   119.9,2,  167.13,2,   38.29,2,    0.00,2,    2.68,2,   0.031,2,   0.033,2,   0.000,2,  -999.0,9,  -999.0,9,-999.000,9,-999.0000,9, -999.00,9, -999.00,9,  -999.0,9,  -999.0,-999.000,9,-999.000, -999.00,9, 3183.10,-999.0000,9,-999.0000,9,-999.0000,9,-999.0000,9,-999.0000,9,-999.0000,-999.000,-999.0000,9, -999.00