BOTTLE,20131027SIOCCHRJL
EXPOCODE,SECT_ID,STNNBR,CASTNO,SAMPNO,BTLNBR,BTLNBR_FLAG_W,DATE,TIME,LATITUDE,LONGITUDE,DEPTH,CTDPRS,CTDTMP,CTDSAL,CTDSAL_FLAG_W,SALNTY,SALNTY_FLAG_W,CTDOXY,CTDOXY_FLAG_W,OXYGEN,OXYGEN_FLAG_W,SILCAT,SILCAT_FLAG_W,NITRAT,NITRAT_FLAG_W,NITRIT,NITRIT_FLAG_W,PHSPHT,PHSPHT_FLAG_W,CFC-11,CFC-11_FLAG_W,CFC-12,CFC-12_FLAG_W,CFC113,CFC113_FLAG_W,TCARBN,TCARBN_FLAG_W,ALKALI,ALKALI_FLAG_W,TRITUM,TRITUM_FLAG_W,HELIUM,HELIUM_FLAG_W,DELHE3,DELHE3_FLAG_W,DELC13,DELC13_FLAG_W,DELC14,DELC14_FLAG_W,C14ERR,NEON,NEON_FLAG_W,NEONER,DOC,DOC_FLAG_W,CTDRAW,CDOM380,CDOM380_FLAG_W,CDOM325,CDOM325_FLAG_W,CDOMSL,CDOMSL_FLAG_W,CDOM340,CDOM340_FLAG_W,CDOMSN,CDOMSN_FLAG_W,HELIER,TRITER,CDOM412,CDOM412_FLAG_W,DELHER
,,,,,,,,,,,METERS,DBAR,ITS-90,PSS-78,,PSS-78,,UMOL/KG,,UMOL/KG,,UMOL/KG,,UMOL/KG,,UMOL/KG,,UMOL/KG,,PMOL/KG,,PMOL/KG,,PMOL/KG,,UMOL/KG,,UMOL/KG,,TU,,NMOL/KG,,PERCNT,,/MILLE,,/MILLE,,/MILLE,NMOL/KG,,NMOL/KG,UMOL/KG,,DBAR,1/M,,1/M,,1/NM,,1/M,,1/NM,,NMOL/KG,TU,1/M,,PERCNT
318M20040615,        P02,      50,          1,         36,         36,2,20040704,       0352,    29.9985,   156.8488,       5707,    10.4,  26.1821,  34.6375,2,  34.6381,2, 208.5000,2,   208.1,2,    1.47,2,    0.16,2,    0.00,2,    0.04,2,   1.811,2,   1.134,2,   0.127,2,  1954.0,6,  2277.3,6,-999.000,9,-999.0000,9, -999.00,9,    1.19,2,    75.8,2,     4.6,-999.000,9,-999.000,   67.40,2,   10.40,-999.0000,9,-999.0000,9,-999.0000,9,-999.0000,9,-999.0000,9,-999.0000,-999.000,-999.0000,9, -999.00
318M20040615,        P02,      50,          1,         35,         35,2,20040704,       0352,    29.9985,   156.8488,       5707,    37.4,  23.0564,  34.6914,2,  34.6867,2, 221.1000,2,   223.2,2,    1.48,2,    0.16,2,    0.00,2,    0.05,2,   1.981,2,   1.234,2,   0.119,2,  1963.3,2,  2278.8,2,-999.000,9,-999.0000,9, -999.00,9, -999.00,9,  -999.0,9,  -999.0,-999.000,9,-999.000,   64.00,2,   37.40,-999.0000,9,-999.0000,9,-999.0000,9,-999.0000,9,-999.0000,9,-999.0000,-999.000,-999.0000,9, -999.00
318M20040615,        P02,      50,          1,         34,         34,2,20040704,       0352,    29.9985,   156.8488,       5707,    72.6,  21.8923,  34.7675,2,  34.7669,2, 202.8000,2,   198.8,2,    2.75,2,    1.66,2,    0.44,2,    0.19,2,   2.059,2,   1.254,2,   0.106,2,  1993.5,2,  2284.8,2,-999.000,9,-999.0000,9, -999.00,9,    0.80,2,    76.6,2,     5.7,-999.000,9,-999.000,   59.50,2,   72.60,-999.0000,9,-999.0000,9,-999.0000,9,-999.0000,9,-999.0000,9,-999.0000,-999.000,-999.0000,9, -999.00
318M20040615,        P02,      50,          1,         33,         33,2,20040704,       0352,    29.9985,   156.8488,       5707,   122.5,  20.0047,  34.7860,2,  34.7671,2, 198.5000,2,   197.1,2,    4.03,2,    3.46,2,    0.03,2,    0.27,2,   2.190,2,   1.316,2,   0.093,2,  2010.9,2,  2286.2,2,-999.000,9,-999.0000,9, -999.00,9,    0.69,2,    75.2,2,     5.3,-999.000,9,-999.000,   55.50,2,  122.50,-999.0000,9,-999.0000,9,-999.0000,9,-999.0000,9,-999.0000,9,-999.0000,-999.000,-999.0000,9, -999.00
318M20040615,        P02,      50,          1,         32,         32,2,20040704,       0352,    29.9985,   156.8488,       5707,   172.4,  18.1148,  34.7429,2,  34.7461,2, 197.6000,2,   196.9,2,    6.40,2,    5.40,2,    0.02,2,    0.40,2,   2.288,2,   1.366,2,   0.078,2,  2030.1,2,  2286.6,2,-999.000,9,-999.0000,9, -999.00,9,    0.66,2,    75.5,2,     4.2,-999.000,9,-999.000,   53.70,2,  172.40,-999.0000,9,-999.0000,9,-999.0000,9,-999.0000,9,-999.0000,9,-999.0000,-999.000,-999.0000,9, -999.00
318M20040615,        P02,      50,          1,         31,         31,2,20040704,       0352,    29.9985,   156.8488,       5707,   221.9,  17.1281,  34.7724,2,  34.7725,2, 219.8000,2,   211.5,2,    4.77,2,    4.75,2,    0.01,2,    0.34,2,   2.464,2,   1.467,2,   0.101,2,  2027.5,2,  2285.1,2,-999.000,9,-999.0000,9, -999.00,9,    0.65,2,    80.6,2,     4.7,-999.000,9,-999.000,   52.50,2,  221.90,-999.0000,9,-999.0000,9,-999.0000,9,-999.0000,9,-999.0000,9,-999.0000,-999.000,-999.0000,9, -999.00
318M20040615,        P02,      50,          1,         30,         30,2,20040704,       0352,    29.9985,   156.8488,       5707,   272.4,  16.5377,  34.7229,2,  34.7176,2, 203.7000,2,   201.6,2,    6.60,2,    6.59,2,    0.01,2,    0.46,2,   2.459,2,   1.450,2,   0.064,2,  2041.1,2,  2282.2,2,-999.000,9,-999.0000,9, -999.00,9,    0.63,2,    77.3,2,     5.3,-999.000,9,-999.000,   52.00,2,  272.40,-999.0000,9,-999.0000,9,-999.0000,9,-999.0000,9,-999.0000,9,-999.0000,-999.000,-999.0000,9, -999.00
318M20040615,        P02,      50,          1,         29,         29,2,20040704,       0352,    29.9985,   156.8488,       5707,   322.4,  15.9182,  34.6899,2,  34.6870,2, 213.9000,2,   218.8,2,    5.87,2,    6.02,2,    0.01,2,    0.43,2,   2.533,2,   1.502,2,   0.120,2,  2037.2,2,  2280.7,2,-999.000,9,-999.0000,9, -999.00,9,    0.62,2,    76.8,2,     5.5,-999.000,9,-999.000,   50.30,2,  322.40,-999.0000,9,-999.0000,9,-999.0000,9,-999.0000,9,-999.0000,9,-999.0000,-999.000,-999.0000,9, -999.00
318M20040615,        P02,      50,          1,         28,         28,2,20040704,       0352,    29.9985,   156.8488,       5707,   372.6,  14.9867,  34.6039,2,  34.6010,2, 184.7000,2,   186.7,2,   11.35,2,   10.25,2,    0.00,2,    0.72,2,   2.527,2,   1.435,2,   0.033,2,  2068.9,2,  2277.8,2,-999.000,9,-999.0000,9, -999.00,9, -999.00,5,  -999.0,5,  -999.0,-999.000,9,-999.000,   48.70,2,  372.60,-999.0000,9,-999.0000,9,-999.0000,9,-999.0000,9,-999.0000,9,-999.0000,-999.000,-999.0000,9, -999.00
318M20040615,        P02,      50,          1,         27,         27,2,20040704,       0352,    29.9985,   156.8488,       5707,   422.0,  13.7579,  34.5146,2,  34.5114,2, 196.6000,2,   206.6,2,   12.63,2,   10.53,2,    0.01,2,    0.75,2,   2.675,2,   1.535,2,   0.097,2,  2070.9,2,  2276.8,2,-999.000,9,-999.0000,9, -999.00,9, -999.00,9,  -999.0,9,  -999.0,-999.000,9,-999.000,   47.90,2,  422.00,-999.0000,9,-999.0000,9,-999.0000,9,-999.0000,9,-999.0000,9,-999.0000,-999.000,-999.0000,9, -999.00
318M20040615,        P02,      50,          1,         26,         26,2,20040704,       0352,    29.9985,   156.8488,       5707,   472.8,  12.2930,  34.3914,2,  34.3894,2, 199.4000,2,   193.9,2,   18.66,2,   13.87,2,    0.00,2,    0.99,2,   2.658,2,   1.500,2,   0.083,2,  2097.5,2,  2277.0,2,-999.000,9,-999.0000,9, -999.00,9,    0.44,2,    46.8,2,     4.0,-999.000,9,-999.000,   47.10,2,  472.80,-999.0000,9,-999.0000,9,-999.0000,9,-999.0000,9,-999.0000,9,-999.0000,-999.000,-999.0000,9, -999.00
318M20040615,        P02,      50,          1,         25,         25,2,20040704,       0352,    29.9985,   156.8488,       5707,   542.5,   9.9373,  34.2212,2,  34.2199,2, 191.4000,2,   190.7,2,   28.00,2,   18.07,2,    0.00,2,    1.30,2,   2.737,2,   1.518,2,   0.119,2,  2126.8,2,  2276.5,2,-999.000,9,-999.0000,9, -999.00,9,    0.34,2,    20.5,2,     3.9,-999.000,9,-999.000,   46.10,2,  542.50,-999.0000,9,-999.0000,9,-999.0000,9,-999.0000,9,-999.0000,9,-999.0000,-999.000,-999.0000,9, -999.00
318M20040615,        P02,      50,          1,         24,         24,2,20040704,       0352,    29.9985,   156.8488,       5707,   638.2,   6.6498,  33.9960,2,  33.9965,2, 164.7000,2,   165.9,2,   49.85,2,   26.09,2,    0.00,2,    1.93,2,   2.643,2,   1.408,2,   0.132,2,  2187.1,2,  2288.9,2,-999.000,9,-999.0000,9, -999.00,9,    0.18,2,   -29.0,2,     4.7,-999.000,9,-999.000,   45.10,2,  638.20,-999.0000,9,-999.0000,9,-999.0000,9,-999.0000,9,-999.0000,9,-999.0000,-999.000,-999.0000,9, -999.00
318M20040615,        P02,      50,          1,         23,         23,2,20040704,       0352,    29.9985,   156.8488,       5707,   738.9,   4.9683,  33.9953,2,  33.9857,2, 119.5000,2,   121.4,2,   74.18,2,   33.19,2,    0.00,2,    2.44,2,   2.125,2,   1.112,2,   0.116,2,  2247.1,2,  2300.2,2,-999.000,9,-999.0000,9, -999.00,9,   -0.11,2,   -80.1,2,     4.2,-999.000,9,-999.000,   43.90,2,  738.90,-999.0000,9,-999.0000,9,-999.0000,9,-999.0000,9,-999.0000,9,-999.0000,-999.000,-999.0000,9, -999.00
318M20040615,        P02,      50,          1,         22,         22,2,20040704,       0352,    29.9985,   156.8488,       5707,   839.4,   4.6106,  34.1309,2,  34.1343,2,  71.1000,2,    75.9,2,   93.23,2,   37.56,2,    0.00,2,    2.74,2,   1.139,2,   0.585,2,   0.059,2,  2290.1,2,  2322.4,2,-999.000,9,-999.0000,9, -999.00,9, -999.00,9,  -999.0,9,  -999.0,-999.000,9,-999.000,   42.50,2,  839.40,-999.0000,9,-999.0000,9,-999.0000,9,-999.0000,9,-999.0000,9,-999.0000,-999.000,-999.0000,9, -999.00
318M20040615,        P02,      50,          1,         21,         21,2,20040704,       0352,    29.9985,   156.8488,       5707,   939.7,   4.0660,  34.2261,2,  34.2261,2,  51.5000,2,    52.8,2,  109.92,2,   40.24,2,    0.00,2,    2.92,2,   0.586,2,   0.297,2,   0.026,2,  2320.4,2,  2339.6,2,-999.000,9,-999.0000,9, -999.00,9,   -0.33,2,  -151.3,2,     3.6,-999.000,9,-999.000,   41.10,2,  939.70,-999.0000,9,-999.0000,9,-999.0000,9,-999.0000,9,-999.0000,9,-999.0000,-999.000,-999.0000,9, -999.00
318M20040615,        P02,      50,          1,         20,         20,2,20040704,       0352,    29.9985,   156.8488,       5707,  1040.0,   3.6065,  34.3101,2,  34.3077,2,  43.8000,2,    44.3,2,  123.29,2,   41.41,2,    0.00,2,    3.00,2,   0.316,2,   0.161,2,   0.012,2,  2340.8,2,  2357.2,2,-999.000,9,-999.0000,9, -999.00,9,   -0.35,2,  -171.7,2,     3.3,-999.000,9,-999.000,   40.30,2, 1040.00,-999.0000,9,-999.0000,9,-999.0000,9,-999.0000,9,-999.0000,9,-999.0000,-999.000,-999.0000,9, -999.00
318M20040615,        P02,      50,          1,         19,         19,2,20040704,       0352,    29.9985,   156.8488,       5707,  1140.9,   3.2466,  34.3655,2,  34.3660,2,  39.3000,2,    38.9,2,  133.55,2,   42.58,2,    0.00,2,    3.06,2,   0.167,2,   0.084,2,   0.004,2,  2355.8,6,  2369.7,2,-999.000,9,-999.0000,9, -999.00,9,   -0.42,2,  -192.8,2,     4.0,-999.000,9,-999.000,   39.50,2, 1140.90,-999.0000,9,-999.0000,9,-999.0000,9,-999.0000,9,-999.0000,9,-999.0000,-999.000,-999.0000,9, -999.00
318M20040615,        P02,      50,          1,         18,         18,2,20040704,       0352,    29.9985,   156.8488,       5707,  1241.2,   2.9696,  34.4108,2,  34.4141,2,  38.3000,2,    38.3,2,  141.55,2,   43.10,2,    0.00,2,    3.07,2,   0.103,2,   0.056,2,   0.004,2,  2363.9,2,  2378.2,6,-999.000,9,-999.0000,9, -999.00,9, -999.00,9,  -999.0,9,  -999.0,-999.000,9,-999.000,   38.80,2, 1241.20,-999.0000,9,-999.0000,9,-999.0000,9,-999.0000,9,-999.0000,9,-999.0000,-999.000,-999.0000,9, -999.00
318M20040615,        P02,      50,          1,         17,         17,2,20040704,       0352,    29.9985,   156.8488,       5707,  1342.0,   2.7657,  34.4466,2,  34.4447,2,  39.5000,2,    39.7,2,  147.53,2,   43.27,2,    0.00,2,    3.08,2,   0.068,2,   0.036,2,   0.003,2,  2369.5,2,  2391.5,2,-999.000,9,-999.0000,9, -999.00,9,   -0.45,2,  -216.4,2,     4.3,-999.000,9,-999.000,   38.50,2, 1342.00,-999.0000,9,-999.0000,9,-999.0000,9,-999.0000,9,-999.0000,9,-999.0000,-999.000,-999.0000,9, -999.00
318M20040615,        P02,      50,          1,         16,         16,2,20040704,       0352,    29.9985,   156.8488,       5707,  1443.1,   2.5625,  34.4806,2,  34.4801,2,  40.8000,2,    41.2,2,  153.52,2,   43.19,2,    0.00,2,    3.07,2,   0.041,2,   0.019,2,   0.000,2,  2376.2,2,  2396.3,6,-999.000,9,-999.0000,9, -999.00,9,   -0.35,2,  -228.3,2,     3.6,-999.000,9,-999.000,   38.30,2, 1443.10,-999.0000,9,-999.0000,9,-999.0000,9,-999.0000,9,-999.0000,9,-999.0000,-999.000,-999.0000,9, -999.00
318M20040615,        P02,      50,          1,         15,         15,2,20040704,       0352,    29.9985,   156.8488,       5707,  1538.9,   2.4034,  34.5096,2,  34.5107,2,  44.0000,2,    43.5,2,  157.80,2,   43.06,2,    0.00,2,    3.07,2,   0.023,2,   0.014,2,   0.000,2,  2378.9,2,  2398.7,6,-999.000,9,-999.0000,9, -999.00,9,   -0.33,2,  -226.6,2,     3.4,-999.000,9,-999.000,   38.50,2, 1538.90,-999.0000,9,-999.0000,9,-999.0000,9,-999.0000,9,-999.0000,9,-999.0000,-999.000,-999.0000,9, -999.00
318M20040615,        P02,      50,          1,         14,         14,2,20040704,       0352,    29.9985,   156.8488,       5707,  1740.7,   2.1624,  34.5547,2,  34.5546,2,  54.1000,2,    54.7,2,  163.04,2,   42.33,2,    0.00,2,    3.01,2,   0.008,2,   0.008,2,   0.000,2,  2379.2,2,  2406.1,2,-999.000,9,-999.0000,9, -999.00,9,   -0.35,2,  -240.2,2,     2.7,-999.000,9,-999.000,   38.40,2, 1740.70,-999.0000,9,-999.0000,9,-999.0000,9,-999.0000,9,-999.0000,9,-999.0000,-999.000,-999.0000,9, -999.00
318M20040615,        P02,      50,          1,         13,         13,2,20040704,       0352,    29.9985,   156.8488,       5707,  1942.5,   1.9809,  34.5887,2,  34.5897,2,  70.9000,2,    70.4,2,  164.18,2,   41.37,2,    0.00,2,    2.94,2,   0.006,2,   0.007,2,   0.000,2,  2373.8,2,  2410.9,2,-999.000,9,-999.0000,9, -999.00,9,   -0.18,2,  -250.9,2,     3.2,-999.000,9,-999.000,   37.40,2, 1942.50,-999.0000,9,-999.0000,9,-999.0000,9,-999.0000,9,-999.0000,9,-999.0000,-999.000,-999.0000,9, -999.00
318M20040615,        P02,      50,          1,         12,         12,2,20040704,       0352,    29.9985,   156.8488,       5707,  2099.4,   1.8627,  34.6107,2,  34.6100,2,  83.9000,2,    84.2,2,  163.63,2,   40.42,2,    0.00,2,    2.88,2,   0.005,2,   0.003,2,   0.000,2,  2365.5,2,  2414.1,2,-999.000,9,-999.0000,9, -999.00,9,   -0.06,2,  -221.4,3,     4.0,-999.000,9,-999.000,   38.00,2, 2099.40,-999.0000,9,-999.0000,9,-999.0000,9,-999.0000,9,-999.0000,9,-999.0000,-999.000,-999.0000,9, -999.00
318M20040615,        P02,      50,          1,         11,         11,2,20040704,       0352,    29.9985,   156.8488,       5707,  2351.8,   1.7229,  34.6326,2,  34.6308,2, 100.5000,2,    99.3,2,  162.89,2,   39.35,2,    0.00,2,    2.81,2,   0.003,2,   0.003,2,   0.000,2,  2358.4,2,  2416.9,2,-999.000,9,-999.0000,9, -999.00,9,   -0.32,3,  -246.8,2,     2.8,-999.000,9,-999.000,   37.70,2, 2351.80,-999.0000,9,-999.0000,9,-999.0000,9,-999.0000,9,-999.0000,9,-999.0000,-999.000,-999.0000,9, -999.00
318M20040615,        P02,      50,          1,         10,         10,2,20040704,       0352,    29.9985,   156.8488,       5707,  2600.8,   1.6301,  34.6495,2,  34.6478,2, 116.4000,2,   115.3,2,  159.12,2,   38.34,2,    0.00,2,    2.72,2,   0.002,2,   0.002,2,   0.000,2,  2349.2,2,  2417.0,2,-999.000,9,-999.0000,9, -999.00,9,    0.01,2,  -238.3,2,     3.2,-999.000,9,-999.000,   37.80,2, 2600.80,-999.0000,9,-999.0000,9,-999.0000,9,-999.0000,9,-999.0000,9,-999.0000,-999.000,-999.0000,9, -999.00
318M20040615,        P02,      50,          1,          9,          9,2,20040704,       0352,    29.9985,   156.8488,       5707,  2849.1,   1.5617,  34.6611,2,  34.6588,2, 127.0000,2,   126.8,2,  156.32,2,   37.69,2,    0.00,2,    2.67,2,   0.001,2,   0.001,2,   0.000,2,  2342.1,2,  2418.1,2,-999.000,9,-999.0000,9, -999.00,9,   -0.04,2,  -232.5,2,     3.0,-999.000,9,-999.000,   37.70,2, 2849.10,-999.0000,9,-999.0000,9,-999.0000,9,-999.0000,9,-999.0000,9,-999.0000,-999.000,-999.0000,9, -999.00
318M20040615,        P02,      50,          1,          8,          8,2,20040704,       0352,    29.9985,   156.8488,       5707,  3097.8,   1.5166,  34.6688,2,  34.6700,2, 134.4000,2,   134.6,2,  154.45,2,   37.38,2,    0.00,2,    2.62,2,   0.003,2,   0.002,2,   0.000,2,  2337.5,2,  2418.2,2,-999.000,9,-999.0000,9, -999.00,9,   -0.21,3,  -242.7,2,     3.5,-999.000,9,-999.000,   38.00,2, 3097.80,-999.0000,9,-999.0000,9,-999.0000,9,-999.0000,9,-999.0000,9,-999.0000,-999.000,-999.0000,9, -999.00
318M20040615,        P02,      50,          1,          7,          7,2,20040704,       0352,    29.9985,   156.8488,       5707,  3499.9,   1.4661,  34.6777,2,  34.6783,2, 143.2000,2,   144.2,2,  153.31,2,   37.02,2,    0.00,2,    2.57,2,   0.001,2,   0.002,2,   0.000,2,  2330.0,2,  2417.5,2,-999.000,9,-999.0000,9, -999.00,9,    0.23,2,  -228.3,2,     2.9,-999.000,9,-999.000,   37.30,2, 3499.90,-999.0000,9,-999.0000,9,-999.0000,9,-999.0000,9,-999.0000,9,-999.0000,-999.000,-999.0000,9, -999.00
318M20040615,        P02,      50,          1,          6,          6,2,20040704,       0352,    29.9985,   156.8488,       5707,  3896.8,   1.4475,  34.6841,2,  34.6828,2, 152.8000,2,   152.9,2,  148.64,2,   36.36,2,    0.00,2,    2.52,2,   0.004,2,   0.000,2,   0.000,2,  2322.8,2,  2415.8,2,-999.000,9,-999.0000,9, -999.00,9,    0.25,2,  -223.2,2,     3.0,-999.000,9,-999.000,   37.80,2, 3896.80,-999.0000,9,-999.0000,9,-999.0000,9,-999.0000,9,-999.0000,9,-999.0000,-999.000,-999.0000,9, -999.00
318M20040615,        P02,      50,          1,          5,          5,2,20040704,       0352,    29.9985,   156.8488,       5707,  4294.3,   1.4521,  34.6879,2,  34.6864,2, 157.7000,2,   158.3,2,  146.75,2,   35.88,2,    0.00,2,    2.49,2,   0.002,2,   0.003,2,   0.001,2,  2318.5,2,  2414.7,2,-999.000,9,-999.0000,9, -999.00,9,    0.15,2,  -215.3,2,     3.5,-999.000,9,-999.000,   38.00,2, 4294.30,-999.0000,9,-999.0000,9,-999.0000,9,-999.0000,9,-999.0000,9,-999.0000,-999.000,-999.0000,9, -999.00
318M20040615,        P02,      50,          1,          4,          4,2,20040704,       0352,    29.9985,   156.8488,       5707,  4692.9,   1.4663,  34.6908,2,  34.6892,2, 161.9000,2,   162.6,2,  144.32,2,   35.41,2,    0.00,2,    2.47,2,   0.003,2,   0.002,2,   0.000,2,  2314.3,2,  2413.1,2,-999.000,9,-999.0000,9, -999.00,9,    0.29,2,  -210.6,2,     3.5,-999.000,9,-999.000,   37.30,2, 4692.90,-999.0000,9,-999.0000,9,-999.0000,9,-999.0000,9,-999.0000,9,-999.0000,-999.000,-999.0000,9, -999.00
318M20040615,        P02,      50,          1,          3,          3,2,20040704,       0352,    29.9985,   156.8488,       5707,  5097.9,   1.4894,  34.6933,2,  34.6923,2, 167.4000,2,   168.0,2,  140.02,2,   34.99,2,    0.00,2,    2.44,2,   0.004,2,   0.003,2,   0.000,2,  2308.7,2,  2409.2,6,-999.000,9,-999.0000,9, -999.00,9,    0.27,2,  -203.6,2,     4.3,-999.000,9,-999.000,   37.80,2, 5097.90,-999.0000,9,-999.0000,9,-999.0000,9,-999.0000,9,-999.0000,9,-999.0000,-999.000,-999.0000,9, -999.00
318M20040615,        P02,      50,          1,          2,          2,2,20040704,       0352,    29.9985,   156.8488,       5707,  5517.4,   1.5233,  34.6948,2,  34.6937,2, 170.2000,2,   170.2,2,  138.17,2,   34.70,2,    0.00,2,    2.42,2,   0.001,2,   0.004,2,   0.000,2,  2306.6,2,  2406.2,2,-999.000,9,-999.0000,9, -999.00,9,    0.32,2,  -200.8,2,     3.1,-999.000,9,-999.000,   38.00,2, 5517.40,-999.0000,9,-999.0000,9,-999.0000,9,-999.0000,9,-999.0000,9,-999.0000,-999.000,-999.0000,9, -999.00
318M20040615,        P02,      50,          1,          1,          1,2,20040704,       0352,    29.9985,   156.8488,       5707,  5844.1,   1.5507,  34.6956,2,  34.6963,2, 171.7000,2,   172.4,2,  137.26,2,   34.52,2,    0.00,2,    2.42,2,   0.005,2,   0.005,2,   0.003,2,  2306.2,6,  2405.4,6,-999.000,9,-999.0000,9, -999.00,9,    0.34,2,  -193.2,2,     3.4,-999.000,9,-999.000,   38.00,2, 5844.10,-999.0000,9,-999.0000,9,-999.0000,9,-999.0000,9,-999.0000,9,-999.0000,-999.000,-999.0000,9, -999.00