BOTTLE,20131027SIOCCHRJL
EXPOCODE,SECT_ID,STNNBR,CASTNO,SAMPNO,BTLNBR,BTLNBR_FLAG_W,DATE,TIME,LATITUDE,LONGITUDE,DEPTH,CTDPRS,CTDTMP,CTDSAL,CTDSAL_FLAG_W,SALNTY,SALNTY_FLAG_W,CTDOXY,CTDOXY_FLAG_W,OXYGEN,OXYGEN_FLAG_W,SILCAT,SILCAT_FLAG_W,NITRAT,NITRAT_FLAG_W,NITRIT,NITRIT_FLAG_W,PHSPHT,PHSPHT_FLAG_W,CFC-11,CFC-11_FLAG_W,CFC-12,CFC-12_FLAG_W,CFC113,CFC113_FLAG_W,TCARBN,TCARBN_FLAG_W,ALKALI,ALKALI_FLAG_W,TRITUM,TRITUM_FLAG_W,HELIUM,HELIUM_FLAG_W,DELHE3,DELHE3_FLAG_W,DELC13,DELC13_FLAG_W,DELC14,DELC14_FLAG_W,C14ERR,NEON,NEON_FLAG_W,NEONER,DOC,DOC_FLAG_W,CTDRAW,CDOM380,CDOM380_FLAG_W,CDOM325,CDOM325_FLAG_W,CDOMSL,CDOMSL_FLAG_W,CDOM340,CDOM340_FLAG_W,CDOMSN,CDOMSN_FLAG_W,HELIER,TRITER,CDOM412,CDOM412_FLAG_W,DELHER
,,,,,,,,,,,METERS,DBAR,ITS-90,PSS-78,,PSS-78,,UMOL/KG,,UMOL/KG,,UMOL/KG,,UMOL/KG,,UMOL/KG,,UMOL/KG,,PMOL/KG,,PMOL/KG,,PMOL/KG,,UMOL/KG,,UMOL/KG,,TU,,NMOL/KG,,PERCNT,,/MILLE,,/MILLE,,/MILLE,NMOL/KG,,NMOL/KG,UMOL/KG,,DBAR,1/M,,1/M,,1/NM,,1/M,,1/NM,,NMOL/KG,TU,1/M,,PERCNT
318M20040615,        P02,     127,          2,         24,         24,2,20040809,       2212,       30.0,   -154.143,       5453,   513.9,   7.5388,-999.0000,5,  34.0435,2, 135.2000,2,   155.5,2,   40.53,2,   25.78,2,    0.00,2,    1.83,2,   2.547,2,   1.340,2,   0.092,2,  2177.4,2,  2276.6,2,-999.000,9,-999.0000,9, -999.00,9, -999.00,9,  -999.0,9,  -999.0,-999.000,9,-999.000, -999.00,9,  513.90,-999.0000,9,-999.0000,9,-999.0000,9,-999.0000,9,-999.0000,9,-999.0000,-999.000,-999.0000,9, -999.00
318M20040615,        P02,     127,          2,         23,         23,2,20040809,       2212,       30.0,   -154.143,       5453,   802.5,   4.2031,  39.1417,2,  34.1491,2,  17.8000,2,    31.6,2,  101.63,2,   41.99,2,    0.00,2,    3.03,2,   0.196,2,   0.101,2,   0.000,2,  2325.4,2,  2329.9,2,-999.000,9,-999.0000,9, -999.00,9, -999.00,9,  -999.0,9,  -999.0,-999.000,9,-999.000, -999.00,9,  802.50,-999.0000,9,-999.0000,9,-999.0000,9,-999.0000,9,-999.0000,9,-999.0000,-999.000,-999.0000,9, -999.00
318M20040615,        P02,     127,          2,         22,         22,2,20040809,       2212,       30.0,   -154.143,       5453,   902.6,   3.8124,-999.0000,5,  34.2636,2,  17.4000,2,    12.5,2,  117.46,2,   44.14,2,    0.00,2,    3.19,2,   0.028,2,   0.019,2,   0.000,2,  2354.6,2,  2352.0,2,-999.000,9,-999.0000,9, -999.00,9, -999.00,9,  -999.0,9,  -999.0,-999.000,9,-999.000,   46.90,4,  902.60,-999.0000,9,-999.0000,9,-999.0000,9,-999.0000,9,-999.0000,9,-999.0000,-999.000,-999.0000,9, -999.00
318M20040615,        P02,     127,          2,         21,         21,2,20040809,       2212,       30.0,   -154.143,       5453,  1010.8,   3.5640,-999.0000,5,  34.3524,2,  10.3000,2,    10.2,2,  127.43,2,   45.00,2,    0.00,2,    3.23,2,   0.016,2,   0.011,2,   0.000,2,  2365.3,6,  2365.8,2,-999.000,9,-999.0000,9, -999.00,9, -999.00,9,  -999.0,9,  -999.0,-999.000,9,-999.000,   41.00,2, 1010.80,-999.0000,9,-999.0000,9,-999.0000,9,-999.0000,9,-999.0000,9,-999.0000,-999.000,-999.0000,9, -999.00
318M20040615,        P02,     127,          2,         20,         20,2,20040809,       2212,       30.0,   -154.143,       5453,  1111.5,   3.3234,-999.0000,5,  34.4211,2,  12.1000,2,    15.4,2,  134.16,2,   44.90,2,    0.00,2,    3.21,2,   0.007,2,   0.005,2,   0.000,2,  2373.6,2,  2379.8,2,-999.000,9,-999.0000,9, -999.00,9, -999.00,9,  -999.0,9,  -999.0,-999.000,9,-999.000,   37.60,2, 1111.50,-999.0000,9,-999.0000,9,-999.0000,9,-999.0000,9,-999.0000,9,-999.0000,-999.000,-999.0000,9, -999.00
318M20040615,        P02,     127,          2,         19,         19,2,20040809,       2212,       30.0,   -154.143,       5453,  1211.7,   3.1229,  34.4698,2,  34.4690,2,  21.1000,2,    21.8,2,  139.68,2,   44.47,2,    0.00,2,    3.18,2,-999.000,9,-999.000,9,-999.000,9,  2375.9,2,  2386.0,6,-999.000,9,-999.0000,9, -999.00,9, -999.00,9,  -999.0,9,  -999.0,-999.000,9,-999.000, -999.00,9, 1211.70,-999.0000,9,-999.0000,9,-999.0000,9,-999.0000,9,-999.0000,9,-999.0000,-999.000,-999.0000,9, -999.00
318M20040615,        P02,     127,          2,         18,         18,2,20040809,       2212,       30.0,   -154.143,       5453,  1311.7,   2.9502,  34.5043,2,  34.5045,2,  31.5000,2,    32.5,2,  142.74,2,   43.77,2,    0.00,2,    3.13,2,   0.002,2,   0.004,2,   0.000,2,  2374.2,2,  2394.2,6,-999.000,9,-999.0000,9, -999.00,9, -999.00,9,  -999.0,9,  -999.0,-999.000,9,-999.000,   37.00,2, 1311.70,-999.0000,9,-999.0000,9,-999.0000,9,-999.0000,9,-999.0000,9,-999.0000,-999.000,-999.0000,9, -999.00
318M20040615,        P02,     127,          2,         17,         17,2,20040809,       2212,       30.0,   -154.143,       5453,  1417.0,   2.7655,  34.5311,2,  34.5312,2,  40.7000,2,    41.5,2,  146.66,2,   43.14,2,    0.00,2,    3.09,2,-999.000,9,-999.000,9,-999.000,9,  2372.8,2,  2398.9,2,-999.000,9,-999.0000,9, -999.00,9, -999.00,9,  -999.0,9,  -999.0,-999.000,9,-999.000,   37.70,2, 1417.00,-999.0000,9,-999.0000,9,-999.0000,9,-999.0000,9,-999.0000,9,-999.0000,-999.000,-999.0000,9, -999.00
318M20040615,        P02,     127,          2,         16,         16,2,20040809,       2212,       30.0,   -154.143,       5453,  1517.6,   2.6171,  34.5514,2,  34.5514,2,  51.6000,2,    51.9,2,  148.93,2,   42.45,2,    0.00,2,    3.04,2,   0.004,2,   0.004,2,   0.000,2,  2370.1,2,  2404.3,2,-999.000,9,-999.0000,9, -999.00,9, -999.00,9,  -999.0,9,  -999.0,-999.000,9,-999.000, -999.00,9, 1517.60,-999.0000,9,-999.0000,9,-999.0000,9,-999.0000,9,-999.0000,9,-999.0000,-999.000,-999.0000,9, -999.00
318M20040615,        P02,     127,          2,         15,         15,2,20040809,       2212,       30.0,   -154.143,       5453,  1617.8,   2.4569,  34.5689,2,  34.5691,2,  60.5000,2,    60.5,2,  152.01,2,   41.81,2,    0.00,2,    3.00,2,-999.000,9,-999.000,9,-999.000,9,  2368.1,2,  2408.0,2,-999.000,9,-999.0000,9, -999.00,9, -999.00,9,  -999.0,9,  -999.0,-999.000,9,-999.000,   37.20,2, 1617.80,-999.0000,9,-999.0000,9,-999.0000,9,-999.0000,9,-999.0000,9,-999.0000,-999.000,-999.0000,9, -999.00
318M20040615,        P02,     127,          2,         14,         14,2,20040809,       2212,       30.0,   -154.143,       5453,  1718.2,   2.2959,  34.5846,2,  34.5846,2,  66.4000,2,    67.6,2,  155.51,2,   41.38,2,    0.00,2,    2.97,2,   0.004,2,   0.007,2,   0.000,2,  2368.0,2,  2412.6,2,-999.000,9,-999.0000,9, -999.00,9, -999.00,9,  -999.0,9,  -999.0,-999.000,9,-999.000, -999.00,9, 1718.20,-999.0000,9,-999.0000,9,-999.0000,9,-999.0000,9,-999.0000,9,-999.0000,-999.000,-999.0000,9, -999.00
318M20040615,        P02,     127,          2,         13,         13,2,20040809,       2212,       30.0,   -154.143,       5453,  1824.0,   2.1687,  34.5977,2,  34.5981,2,  73.1000,2,    72.4,2,  158.59,2,   41.33,2,    0.00,2,    2.93,2,-999.000,9,-999.000,9,-999.000,9,  2368.3,2,  2416.3,2,-999.000,9,-999.0000,9, -999.00,9, -999.00,9,  -999.0,9,  -999.0,-999.000,9,-999.000,   35.40,2, 1824.00,-999.0000,9,-999.0000,9,-999.0000,9,-999.0000,9,-999.0000,9,-999.0000,-999.000,-999.0000,9, -999.00
318M20040615,        P02,     127,          2,         12,         12,2,20040809,       2212,       30.0,   -154.143,       5453,  2026.5,   1.9871,  34.6169,2,  34.6170,2,  81.7000,2,    82.9,2,  162.70,2,   41.07,2,    0.00,2,    2.89,2,   0.001,2,  -0.001,2,   0.000,2,  2365.5,2,  2419.9,2,-999.000,9,-999.0000,9, -999.00,9, -999.00,9,  -999.0,9,  -999.0,-999.000,9,-999.000,   36.20,2, 2026.50,-999.0000,9,-999.0000,9,-999.0000,9,-999.0000,9,-999.0000,9,-999.0000,-999.000,-999.0000,9, -999.00
318M20040615,        P02,     127,          2,         11,         11,2,20040809,       2212,       30.0,   -154.143,       5453,  2287.0,   1.7989,  34.6358,2,  34.6354,2,  90.4000,2,    90.8,2,  168.89,2,   40.65,2,    0.00,2,    2.84,2,-999.000,9,-999.000,9,-999.000,9,  2366.6,2,  2429.8,3,-999.000,9,-999.0000,9, -999.00,9, -999.00,9,  -999.0,9,  -999.0,-999.000,9,-999.000, -999.00,9, 2287.00,-999.0000,9,-999.0000,9,-999.0000,9,-999.0000,9,-999.0000,9,-999.0000,-999.000,-999.0000,9, -999.00
318M20040615,        P02,     127,          2,         10,         10,2,20040809,       2212,       30.0,   -154.143,       5453,  2535.4,   1.6878,  34.6485,2,  34.6490,2, 103.0000,2,   103.1,2,  168.67,2,   39.80,2,    0.00,2,    2.78,2,  -0.002,2,  -0.001,2,   0.000,2,  2360.7,2,  2429.1,2,-999.000,9,-999.0000,9, -999.00,9, -999.00,9,  -999.0,9,  -999.0,-999.000,9,-999.000, -999.00,9, 2535.40,-999.0000,9,-999.0000,9,-999.0000,9,-999.0000,9,-999.0000,9,-999.0000,-999.000,-999.0000,9, -999.00
318M20040615,        P02,     127,          2,          9,          9,2,20040809,       2212,       30.0,   -154.143,       5453,  2782.6,   1.6035,  34.6587,2,  34.6584,2, 112.9000,2,   112.7,2,  167.86,2,   39.01,2,    0.00,2,    2.72,2,-999.000,9,-999.000,9,-999.000,9,  2355.7,2,  2427.3,2,-999.000,9,-999.0000,9, -999.00,9, -999.00,9,  -999.0,9,  -999.0,-999.000,9,-999.000,   36.80,2, 2782.60,-999.0000,9,-999.0000,9,-999.0000,9,-999.0000,9,-999.0000,9,-999.0000,-999.000,-999.0000,9, -999.00
318M20040615,        P02,     127,          2,          8,          8,2,20040809,       2212,       30.0,   -154.143,       5453,  3036.7,   1.5509,  34.6669,2,  34.6668,2, 122.6000,2,   123.6,2,  164.99,2,   38.16,2,    0.00,2,    2.67,2,  -0.001,2,   0.002,2,   0.000,2,  2349.8,2,  2428.6,2,-999.000,9,-999.0000,9, -999.00,9, -999.00,9,  -999.0,9,  -999.0,-999.000,9,-999.000,   38.30,2, 3036.70,-999.0000,9,-999.0000,9,-999.0000,9,-999.0000,9,-999.0000,9,-999.0000,-999.000,-999.0000,9, -999.00
318M20040615,        P02,     127,          2,          7,          7,2,20040809,       2212,       30.0,   -154.143,       5453,  3454.9,   1.4996,  34.6767,2,  34.6762,2, 134.3000,2,   134.6,2,  161.92,2,   37.42,2,    0.00,2,    2.60,2,-999.000,9,-999.000,9,-999.000,9,  2341.9,2,  2428.3,2,-999.000,9,-999.0000,9, -999.00,9, -999.00,9,  -999.0,9,  -999.0,-999.000,9,-999.000,   37.10,2, 3454.90,-999.0000,9,-999.0000,9,-999.0000,9,-999.0000,9,-999.0000,9,-999.0000,-999.000,-999.0000,9, -999.00
318M20040615,        P02,     127,          2,          6,          6,2,20040809,       2212,       30.0,   -154.143,       5453,  3866.5,   1.4825,  34.6822,2,  34.6819,2, 142.1000,2,   142.7,2,  159.05,2,   36.79,2,    0.00,2,    2.56,2,   0.000,2,   0.000,2,   0.000,2,  2336.3,2,  2428.2,2,-999.000,9,-999.0000,9, -999.00,9, -999.00,9,  -999.0,9,  -999.0,-999.000,9,-999.000, -999.00,9, 3866.50,-999.0000,9,-999.0000,9,-999.0000,9,-999.0000,9,-999.0000,9,-999.0000,-999.000,-999.0000,9, -999.00
318M20040615,        P02,     127,          2,          5,          5,2,20040809,       2212,       30.0,   -154.143,       5453,  4277.2,   1.4820,  34.6864,2,  34.6862,2, 149.3000,2,   150.0,2,  154.73,2,   36.31,2,    0.00,2,    2.52,2,   0.001,2,   0.003,2,   0.000,2,  2330.5,2,  2425.6,2,-999.000,9,-999.0000,9, -999.00,9, -999.00,9,  -999.0,9,  -999.0,-999.000,9,-999.000, -999.00,9, 4277.20,-999.0000,9,-999.0000,9,-999.0000,9,-999.0000,9,-999.0000,9,-999.0000,-999.000,-999.0000,9, -999.00
318M20040615,        P02,     127,          2,          4,          4,2,20040809,       2212,       30.0,   -154.143,       5453,  4688.4,   1.4956,  34.6893,2,  34.6893,2, 154.9000,2,   155.7,2,  150.42,2,   36.06,2,    0.00,2,    2.49,2,   0.003,2,   0.007,2,   0.000,2,  2326.0,2,  2423.4,2,-999.000,9,-999.0000,9, -999.00,9, -999.00,9,  -999.0,9,  -999.0,-999.000,9,-999.000,   37.30,2, 4688.40,-999.0000,9,-999.0000,9,-999.0000,9,-999.0000,9,-999.0000,9,-999.0000,-999.000,-999.0000,9, -999.00
318M20040615,        P02,     127,          2,          3,          3,2,20040809,       2212,       30.0,   -154.143,       5453,  5098.0,   1.5219,  34.6912,2,  34.6915,2, 159.3000,2,   159.9,2,  147.14,2,   35.84,2,    0.00,2,    2.46,2,   0.001,2,   0.003,2,   0.000,2,  2320.1,2,  2419.7,2,-999.000,9,-999.0000,9, -999.00,9, -999.00,9,  -999.0,9,  -999.0,-999.000,9,-999.000,   37.70,2, 5098.00,-999.0000,9,-999.0000,9,-999.0000,9,-999.0000,9,-999.0000,9,-999.0000,-999.000,-999.0000,9, -999.00
318M20040615,        P02,     127,          2,          2,          2,2,20040809,       2212,       30.0,   -154.143,       5453,  5350.9,   1.5477,  34.6916,2,  34.6915,2, 160.8000,2,   161.1,2,  146.11,2,   36.00,2,    0.00,2,    2.46,2,   0.001,2,   0.001,2,   0.000,2,  2318.7,2,  2419.7,2,-999.000,9,-999.0000,9, -999.00,9, -999.00,9,  -999.0,9,  -999.0,-999.000,9,-999.000, -999.00,9, 5350.90,-999.0000,9,-999.0000,9,-999.0000,9,-999.0000,9,-999.0000,9,-999.0000,-999.000,-999.0000,9, -999.00
318M20040615,        P02,     127,          2,          1,          1,2,20040809,       2212,       30.0,   -154.143,       5453,  5571.0,   1.5765,  34.6915,2,  34.6917,2, 160.7000,2,   162.6,3,  145.90,2,   35.85,2,    0.00,2,    2.46,2,   0.002,2,   0.004,2,   0.000,2,  2317.6,6,  2418.8,6,-999.000,9,-999.0000,9, -999.00,9, -999.00,9,  -999.0,9,  -999.0,-999.000,9,-999.000,   37.30,2, 5571.00,-999.0000,9,-999.0000,9,-999.0000,9,-999.0000,9,-999.0000,9,-999.0000,-999.000,-999.0000,9, -999.00