BOTTLE,20150327CCHSIORJL
EXPOCODE,SECT_ID,STNNBR,CASTNO,BTLNBR,DATE,TIME,LATITUDE,LONGITUDE,DEPTH,CTDPRS,CTDTMP,CTDSAL,CTDSAL_FLAG_W,SALNTY,SALNTY_FLAG_W,OXYGEN,OXYGEN_FLAG_W,SILCAT,SILCAT_FLAG_W,NITRAT,NITRAT_FLAG_W,NITRIT,NITRIT_FLAG_W,PHSPHT,PHSPHT_FLAG_W,CFC-11,CFC-11_FLAG_W,CFC-12,CFC-12_FLAG_W,SF6,SF6_FLAG_W,TCARBN,TCARBN_FLAG_W,ALKALI,ALKALI_FLAG_W,CHLORA,CHLORA_FLAG_W,PPHYTN,PPHYTN_FLAG_W,THETA
,,,,,,,,,METERS,DBAR,ITS-90,PSS-78,,PSS-78,,UMOL/KG,,UMOL/KG,,UMOL/KG,,UMOL/KG,,UMOL/KG,,PMOL/KG,,PMOL/KG,,FMOL/KG,,UMOL/KG,,UMOL/KG,,MG/M^3,,MG/M^3,,DEG C
58GS20090528,        GIN,     246,          1,          1,20090609,       0546,    74.5010,     7.0010,       2432,  2422.0,  -0.7900,  34.9109,2,  34.9139,2,   297.4,2,   12.15,2,   14.19,2,    0.02,2,    1.00,2,-999.000,9,-999.000,9,-999.000000000,9,  2162.5,2,  -999.0,9,     -999.0,9,     -999.0,9,  -0.9128
58GS20090528,        GIN,     246,          1,          2,20090609,       0546,    74.5010,     7.0010,       2432,  2001.1,  -0.7990,  34.9099,2,  34.9123,2,   297.7,2,   12.04,2,   14.61,2,    0.01,2,    1.00,2,-999.000,9,-999.000,9,-999.000000000,9,  2164.5,2,  -999.0,9,     -999.0,9,     -999.0,9,  -0.8931
58GS20090528,        GIN,     246,          1,          3,20090609,       0546,    74.5010,     7.0010,       2432,  1500.5,  -0.7740,  34.9072,2,  34.9088,2,   299.3,2,   11.29,2,   14.41,2,    0.01,2,    0.99,2,-999.000,9,-999.000,9,-999.000000000,9,  2163.7,2,  -999.0,9,     -999.0,9,     -999.0,9,  -0.8382
58GS20090528,        GIN,     246,          1,          4,20090609,       0546,    74.5010,     7.0010,       2432,  1200.3,  -0.6610,  34.8996,2,  34.9041,2,  -999.0,9,    9.32,2,   13.88,2,    0.01,2,    0.96,2,-999.000,9,-999.000,9,-999.000000000,9,  -999.0,9,  -999.0,9,     -999.0,9,     -999.0,9,  -0.7102
58GS20090528,        GIN,     246,          1,          5,20090609,       0546,    74.5010,     7.0010,       2432,  1000.4,  -0.5930,  34.8969,2,  34.8991,2,   316.1,2,    7.86,2,   13.25,2,    0.01,2,    0.90,2,-999.000,9,-999.000,9,-999.000000000,9,  2164.3,2,  -999.0,9,     -999.0,9,     -999.0,9,  -0.6328
58GS20090528,        GIN,     246,          1,          6,20090609,       0546,    74.5010,     7.0010,       2432,   800.4,  -0.5150,  34.8964,2,  34.9013,2,   315.9,2,    7.59,2,   13.23,2,    0.01,2,    0.92,2,-999.000,9,-999.000,9,-999.000000000,9,  2166.8,2,  -999.0,9,     -999.0,9,     -999.0,9,  -0.5459
58GS20090528,        GIN,     246,          1,          7,20090609,       0546,    74.5010,     7.0010,       2432,   600.5,  -0.3920,  34.8906,2,  34.8954,2,   322.7,2,    6.81,2,   12.63,2,    0.02,2,    0.88,2,-999.000,9,-999.000,9,-999.000000000,9,  2165.9,2,  -999.0,9,     -999.0,9,     -999.0,9,  -0.4147
58GS20090528,        GIN,     246,          1,          8,20090609,       0546,    74.5010,     7.0010,       2432,   500.2,  -0.2170,  34.8948,2,  34.8943,2,   323.9,2,    6.48,2,   12.56,2,    0.02,2,    0.87,2,-999.000,9,-999.000,9,-999.000000000,9,  2165.7,2,  -999.0,9,     -999.0,9,     -999.0,9,  -0.2362
58GS20090528,        GIN,     246,          1,          9,20090609,       0546,    74.5010,     7.0010,       2432,   400.0,  -0.0830,  34.8977,2,  34.9029,2,   331.0,2,    5.93,2,   11.99,2,    0.02,2,    0.83,2,-999.000,9,-999.000,9,-999.000000000,9,  2161.9,2,  -999.0,9,     -999.0,9,     -999.0,9,  -0.0984
58GS20090528,        GIN,     246,          1,         10,20090609,       0546,    74.5010,     7.0010,       2432,   300.3,   0.2100,  34.9109,2,  34.9130,2,   320.8,2,    6.24,2,   12.45,2,    0.02,2,    0.85,2,-999.000,9,-999.000,9,-999.000000000,9,  2165.3,2,  -999.0,9,     -999.0,9,     -999.0,9,   0.1979
58GS20090528,        GIN,     246,          1,         11,20090609,       0546,    74.5010,     7.0010,       2432,   199.4,   0.9740,  34.9443,2,  34.9426,2,   316.8,2,    5.90,2,   12.41,2,    0.04,2,    0.86,2,-999.000,9,-999.000,9,-999.000000000,9,  2161.5,2,  -999.0,9,     -999.0,9,     -999.0,9,   0.9649
58GS20090528,        GIN,     246,          1,         12,20090609,       0546,    74.5010,     7.0010,       2432,   150.4,   1.6690,  34.9888,2,  34.9905,2,   312.9,2,    5.59,2,   12.27,2,    0.04,2,    0.84,2,-999.000,9,-999.000,9,-999.000000000,9,  2160.6,2,  -999.0,9,     -999.0,9,     -999.0,9,   1.6613
58GS20090528,        GIN,     246,          1,         13,20090609,       0546,    74.5010,     7.0010,       2432,    99.4,   2.0740,  34.9930,2,  34.9960,2,   320.5,2,    5.19,2,   11.20,2,    0.12,2,    0.79,2,-999.000,9,-999.000,9,-999.000000000,9,  2157.0,2,  -999.0,9,       0.07,2,       0.16,2,   2.0686
58GS20090528,        GIN,     246,          1,         14,20090609,       0546,    74.5010,     7.0010,       2432,    74.6,   2.9020,  35.0370,2,  35.0318,2,   315.3,2,    5.03,2,   11.15,2,    0.17,2,    0.79,2,-999.000,9,-999.000,9,-999.000000000,9,  -999.0,9,  -999.0,9,       0.06,2,       0.17,2,   2.8975
58GS20090528,        GIN,     246,          1,         15,20090609,       0546,    74.5010,     7.0010,       2432,    49.3,   3.3240,  35.0393,2,  35.0399,2,   319.6,2,    4.86,2,    9.93,2,    0.14,2,    0.75,2,-999.000,9,-999.000,9,-999.000000000,9,  2150.7,2,  -999.0,9,       0.16,2,       0.18,2,   3.3208
58GS20090528,        GIN,     246,          1,         16,20090609,       0546,    74.5010,     7.0010,       2432,    49.2,   3.3300,  35.0411,2,-999.0000,9,  -999.0,9, -999.00,9, -999.00,9, -999.00,9, -999.00,9,-999.000,9,-999.000,9,-999.000000000,9,  -999.0,9,  -999.0,9,     -999.0,9,     -999.0,9,   3.3269
58GS20090528,        GIN,     246,          1,         17,20090609,       0546,    74.5010,     7.0010,       2432,    29.6,   3.7500,  35.0387,2,  35.0414,2,   331.9,2,    4.60,2,    6.76,2,    0.07,2,    0.61,2,-999.000,9,-999.000,9,-999.000000000,9,  2136.2,2,  -999.0,9,       0.30,2,       0.17,2,   3.7480
58GS20090528,        GIN,     246,          1,         18,20090609,       0546,    74.5010,     7.0010,       2432,    20.6,   4.1210,  35.0456,2,  35.0487,2,  -999.0,9,    4.41,2,    5.44,2,    0.06,2,    0.54,2,-999.000,9,-999.000,9,-999.000000000,9,  -999.0,9,  -999.0,9,       0.60,2,       0.23,2,   4.1196
58GS20090528,        GIN,     246,          1,         19,20090609,       0546,    74.5010,     7.0010,       2432,    20.6,   4.1310,  35.0475,2,-999.0000,9,  -999.0,9, -999.00,9, -999.00,9, -999.00,9, -999.00,9,-999.000,9,-999.000,9,-999.000000000,9,  -999.0,9,  -999.0,9,     -999.0,9,     -999.0,9,   4.1296
58GS20090528,        GIN,     246,          1,         20,20090609,       0546,    74.5010,     7.0010,       2432,    10.1,   4.3290,  35.0516,2,  35.0538,2,  -999.0,9,    4.42,2,    4.96,2,    0.06,2,    0.47,2,-999.000,9,-999.000,9,-999.000000000,9,  -999.0,9,  -999.0,9,       1.62,2,       0.34,2,   4.3283
58GS20090528,        GIN,     246,          1,         21,20090609,       0546,    74.5010,     7.0010,       2432,    10.1,   4.3940,  35.0508,2,-999.0000,9,  -999.0,9, -999.00,9, -999.00,9, -999.00,9, -999.00,9,-999.000,9,-999.000,9,-999.000000000,9,  -999.0,9,  -999.0,9,     -999.0,9,     -999.0,9,   4.3933
58GS20090528,        GIN,     246,          1,         22,20090609,       0546,    74.5010,     7.0010,       2432,     5.5,   4.5580,  35.0662,2,  35.0670,2,   337.8,2,    4.31,2,    4.73,2,    0.07,2,    0.44,2,-999.000,9,-999.000,9,-999.000000000,9,  2115.9,2,  -999.0,9,       1.94,2,       0.27,2,   4.5576
58GS20090528,        GIN,     246,          1,         23,20090609,       0546,    74.5010,     7.0010,       2432,     5.6,   4.6840,  35.0757,2,-999.0000,9,  -999.0,9, -999.00,9, -999.00,9, -999.00,9, -999.00,9,-999.000,9,-999.000,9,-999.000000000,9,  -999.0,9,  -999.0,9,     -999.0,9,     -999.0,9,   4.6836
58GS20090528,        GIN,     247,          1,          1,20090609,       1151,    74.5000,     7.9960,       2519,  2450.4,  -0.8040,  34.9109,2,-999.0000,9,   297.5,2,   12.41,2,   14.63,2,    0.01,2,    1.01,2,-999.000,9,-999.000,9,-999.000000000,9,  2163.1,2,  2304.2,2,     -999.0,9,     -999.0,9,  -0.9286
58GS20090528,        GIN,     247,          1,          2,20090609,       1151,    74.5000,     7.9960,       2519,  2000.1,  -0.8160,  34.9085,2,-999.0000,9,   296.4,2,   12.46,2,   14.76,2,    0.01,2,    1.01,2,-999.000,9,-999.000,9,-999.000000000,9,  2164.5,2,  2307.0,2,     -999.0,9,     -999.0,9,  -0.9097
58GS20090528,        GIN,     247,          1,          3,20090609,       1151,    74.5000,     7.9960,       2519,  1500.3,  -0.7450,  34.9052,2,-999.0000,9,   300.0,2,   10.93,2,   14.37,2,    0.01,2,    0.99,2,-999.000,9,-999.000,9,-999.000000000,9,  2164.8,2,  2304.1,2,     -999.0,9,     -999.0,9,  -0.8095
58GS20090528,        GIN,     247,          1,          4,20090609,       1151,    74.5000,     7.9960,       2519,  1199.7,  -0.6500,  34.8988,2,-999.0000,9,  -999.0,9,    9.06,2,   13.69,2,    0.00,2,    0.94,2,-999.000,9,-999.000,9,-999.000000000,9,  -999.0,9,  -999.0,9,     -999.0,9,     -999.0,9,  -0.6993
58GS20090528,        GIN,     247,          1,          5,20090609,       1151,    74.5000,     7.9960,       2519,   999.8,  -0.5900,  34.8967,2,-999.0000,9,   312.8,2,    8.26,2,   13.49,2,    0.01,2,    0.95,2,-999.000,9,-999.000,9,-999.000000000,9,  2166.9,2,  2302.8,2,     -999.0,9,     -999.0,9,  -0.6298
58GS20090528,        GIN,     247,          1,          6,20090609,       1151,    74.5000,     7.9960,       2519,   799.6,  -0.5050,  34.8969,2,-999.0000,9,   318.7,2,    7.40,2,   13.12,2,    0.01,2,    0.92,2,-999.000,9,-999.000,9,-999.000000000,9,  2166.8,2,  2300.9,2,     -999.0,9,     -999.0,9,  -0.5359
58GS20090528,        GIN,     247,          1,          7,20090609,       1151,    74.5000,     7.9960,       2519,   599.8,  -0.3650,  34.8970,2,-999.0000,9,   315.0,2,    7.33,2,   12.85,2,    0.01,2,    0.91,2,-999.000,9,-999.000,9,-999.000000000,9,  2167.7,2,  2303.2,2,     -999.0,9,     -999.0,9,  -0.3878
58GS20090528,        GIN,     247,          1,          8,20090609,       1151,    74.5000,     7.9960,       2519,   499.9,  -0.2930,  34.8943,2,-999.0000,9,   317.3,2,    7.02,2,   12.97,2,    0.01,2,    0.90,2,-999.000,9,-999.000,9,-999.000000000,9,  2165.6,2,  2302.3,2,     -999.0,9,     -999.0,9,  -0.3119
58GS20090528,        GIN,     247,          1,          9,20090609,       1151,    74.5000,     7.9960,       2519,   399.4,  -0.1390,  34.9002,2,-999.0000,9,  -999.0,9, -999.00,9, -999.00,9, -999.00,9, -999.00,9,-999.000,9,-999.000,9,-999.000000000,9,  -999.0,9,  -999.0,9,     -999.0,9,     -999.0,9,  -0.1542
58GS20090528,        GIN,     247,          1,         10,20090609,       1151,    74.5000,     7.9960,       2519,   299.8,   0.1110,  34.9079,2,-999.0000,9,   323.9,2,    6.21,2,   12.38,2,    0.03,2,    0.86,2,-999.000,9,-999.000,9,-999.000000000,9,  2164.6,2,  2299.3,2,     -999.0,9,     -999.0,9,   0.0992
58GS20090528,        GIN,     247,          1,         11,20090609,       1151,    74.5000,     7.9960,       2519,   199.4,   0.5230,  34.9229,2,-999.0000,9,   324.6,2,    5.83,2,   12.10,2,    0.07,2,    0.85,2,-999.000,9,-999.000,9,-999.000000000,9,  2163.0,2,  2304.6,2,     -999.0,9,     -999.0,9,   0.5146
58GS20090528,        GIN,     247,          1,         12,20090609,       1151,    74.5000,     7.9960,       2519,   149.5,   1.2730,  34.9510,2,-999.0000,9,   325.7,2,    5.47,2,   11.43,2,    0.10,2,    0.80,2,-999.000,9,-999.000,9,-999.000000000,9,  2159.9,2,  2306.7,2,     -999.0,9,     -999.0,9,   1.2659
58GS20090528,        GIN,     247,          1,         13,20090609,       1151,    74.5000,     7.9960,       2519,    99.6,   2.3140,  35.0042,2,-999.0000,9,   320.1,2,    5.11,2,   11.19,2,    0.15,2,    0.79,2,-999.000,9,-999.000,9,-999.000000000,9,  2156.6,2,  2309.9,2,       0.07,2,       0.18,2,   2.3084
58GS20090528,        GIN,     247,          1,         14,20090609,       1151,    74.5000,     7.9960,       2519,    73.9,   2.7290,  35.0165,2,-999.0000,9,   319.4,2,    4.92,2,   10.46,2,    0.16,2,    0.76,2,-999.000,9,-999.000,9,-999.000000000,9,  2154.6,2,  2312.4,2,       0.12,2,       0.17,2,   2.7246
58GS20090528,        GIN,     247,          1,         15,20090609,       1151,    74.5000,     7.9960,       2519,    49.6,   3.8120,  35.0332,2,-999.0000,9,   323.5,2, -999.00,9, -999.00,9, -999.00,9, -999.00,9,-999.000,9,-999.000,9,-999.000000000,9,  2138.9,2,  2314.7,2,     -999.0,9,     -999.0,9,   3.8086
58GS20090528,        GIN,     247,          1,         16,20090609,       1151,    74.5000,     7.9960,       2519,    49.8,   3.8490,  35.0528,2,-999.0000,9,  -999.0,9,    4.53,2,    8.23,2,    0.12,2,    0.63,2,-999.000,9,-999.000,9,-999.000000000,9,  -999.0,9,  -999.0,9,       0.39,2,       0.28,2,   3.8456
58GS20090528,        GIN,     247,          1,         17,20090609,       1151,    74.5000,     7.9960,       2519,    29.7,   5.0630,  35.1061,2,-999.0000,9,   328.2,2,    4.17,2,    4.80,2,    0.07,2,    0.40,2,-999.000,9,-999.000,9,-999.000000000,9,  2117.6,2,  2319.6,2,       1.53,2,       0.37,2,   5.0607
58GS20090528,        GIN,     247,          1,         18,20090609,       1151,    74.5000,     7.9960,       2519,    19.9,   5.2370,  35.1127,2,-999.0000,9,  -999.0,9, -999.00,9, -999.00,9, -999.00,9, -999.00,9,-999.000,9,-999.000,9,-999.000000000,9,  -999.0,9,  -999.0,9,     -999.0,9,     -999.0,9,   5.2354
58GS20090528,        GIN,     247,          1,         19,20090609,       1151,    74.5000,     7.9960,       2519,    20.0,   5.2690,  35.1137,2,-999.0000,9,  -999.0,9,    4.14,2,    4.54,2,    0.07,2,    0.40,2,-999.000,9,-999.000,9,-999.000000000,9,  -999.0,9,  -999.0,9,       1.82,2,       0.32,2,   5.2674
58GS20090528,        GIN,     247,          1,         20,20090609,       1151,    74.5000,     7.9960,       2519,     9.3,   5.3080,  35.1146,2,-999.0000,9,  -999.0,9, -999.00,9, -999.00,9, -999.00,9, -999.00,9,-999.000,9,-999.000,9,-999.000000000,9,  -999.0,9,  -999.0,9,     -999.0,9,     -999.0,9,   5.3073
58GS20090528,        GIN,     247,          1,         21,20090609,       1151,    74.5000,     7.9960,       2519,     9.6,   5.3040,  35.1150,2,-999.0000,9,  -999.0,9,    4.11,2,    4.45,2,    0.07,2,    0.37,2,-999.000,9,-999.000,9,-999.000000000,9,  -999.0,9,  -999.0,9,       1.68,2,       0.49,2,   5.3032
58GS20090528,        GIN,     247,          1,         22,20090609,       1151,    74.5000,     7.9960,       2519,     3.9,   5.3050,  35.1152,2,-999.0000,9,   332.0,2, -999.00,9, -999.00,9, -999.00,9, -999.00,9,-999.000,9,-999.000,9,-999.000000000,9,  2112.6,2,  2320.1,2,     -999.0,9,     -999.0,9,   5.3047
58GS20090528,        GIN,     247,          1,         23,20090609,       1151,    74.5000,     7.9960,       2519,     4.4,   5.3290,  35.1154,2,-999.0000,9,  -999.0,9,    4.11,2,    4.46,2,    0.07,2,    0.37,2,-999.000,9,-999.000,9,-999.000000000,9,  -999.0,9,  -999.0,9,       1.85,2,       0.16,2,   5.3287