BOTTLE,20150327CCHSIORJL
EXPOCODE,SECT_ID,STNNBR,CASTNO,BTLNBR,DATE,TIME,LATITUDE,LONGITUDE,DEPTH,CTDPRS,CTDTMP,CTDSAL,CTDSAL_FLAG_W,SALNTY,SALNTY_FLAG_W,OXYGEN,OXYGEN_FLAG_W,SILCAT,SILCAT_FLAG_W,NITRAT,NITRAT_FLAG_W,NITRIT,NITRIT_FLAG_W,PHSPHT,PHSPHT_FLAG_W,CFC-11,CFC-11_FLAG_W,CFC-12,CFC-12_FLAG_W,SF6,SF6_FLAG_W,TCARBN,TCARBN_FLAG_W,ALKALI,ALKALI_FLAG_W,CHLORA,CHLORA_FLAG_W,PPHYTN,PPHYTN_FLAG_W,THETA
,,,,,,,,,METERS,DBAR,ITS-90,PSS-78,,PSS-78,,UMOL/KG,,UMOL/KG,,UMOL/KG,,UMOL/KG,,UMOL/KG,,PMOL/KG,,PMOL/KG,,FMOL/KG,,UMOL/KG,,UMOL/KG,,MG/M^3,,MG/M^3,,DEG C
58GS20090528,        GIN,     226,          1,          1,20090604,       0016,    72.3170,     2.0190,       2560,  2549.7,  -0.7970,  34.9097,2,  34.9113,2,  -999.0,9,   13.11,2,   14.87,2,    0.01,2,    1.04,2,-999.000,9,-999.000,9,-999.000000000,9,  -999.0,9,  -999.0,9,     -999.0,9,     -999.0,9,  -0.9289
58GS20090528,        GIN,     226,          1,          2,20090604,       0016,    72.3170,     2.0190,       2560,  2500.6,  -0.7990,  34.9097,2,  34.9125,2,  -999.0,9,   13.04,2,   14.83,2,    0.01,2,    1.03,2,-999.000,9,-999.000,9,-999.000000000,9,  -999.0,9,  -999.0,9,     -999.0,9,     -999.0,9,  -0.9273
58GS20090528,        GIN,     226,          1,          3,20090604,       0016,    72.3170,     2.0190,       2560,  1999.8,  -0.7890,  34.9090,2,  34.9113,2,  -999.0,9,   12.27,2,   14.66,2,    0.01,2,    1.03,2,-999.000,9,-999.000,9,-999.000000000,9,  -999.0,9,  -999.0,9,     -999.0,9,     -999.0,9,  -0.8832
58GS20090528,        GIN,     226,          1,          4,20090604,       0016,    72.3170,     2.0190,       2560,  1497.7,  -0.7010,  34.9044,2,  34.9073,2,  -999.0,9,   10.72,2,   14.24,2,    0.01,2,    1.01,2,-999.000,9,-999.000,9,-999.000000000,9,  -999.0,9,  -999.0,9,     -999.0,9,     -999.0,9,  -0.7659
58GS20090528,        GIN,     226,          1,          5,20090604,       0016,    72.3170,     2.0190,       2560,  1199.9,  -0.5910,  34.8998,2,  34.9039,2,  -999.0,9,    8.80,2,   13.55,2,    0.01,2,    0.96,2,-999.000,9,-999.000,9,-999.000000000,9,  -999.0,9,  -999.0,9,     -999.0,9,     -999.0,9,  -0.6409
58GS20090528,        GIN,     226,          1,          6,20090604,       0016,    72.3170,     2.0190,       2560,   999.9,  -0.4900,  34.8987,2,  34.9021,2,  -999.0,9,    7.68,2,   13.16,2,    0.02,2,    0.93,2,-999.000,9,-999.000,9,-999.000000000,9,  -999.0,9,  -999.0,9,     -999.0,9,     -999.0,9,  -0.5306
58GS20090528,        GIN,     226,          1,          7,20090604,       0016,    72.3170,     2.0190,       2560,   799.8,  -0.2930,  34.9016,2,  34.7808,3,  -999.0,9,    7.43,2,   13.05,2,    0.02,2,    0.93,2,-999.000,9,-999.000,9,-999.000000000,9,  -999.0,9,  -999.0,9,     -999.0,9,     -999.0,9,  -0.3252
58GS20090528,        GIN,     226,          1,          8,20090604,       0016,    72.3170,     2.0190,       2560,   599.4,  -0.0170,  34.8992,2,  34.8994,2,  -999.0,9,    6.62,2,   12.36,2,    0.04,2,    0.90,2,-999.000,9,-999.000,9,-999.000000000,9,  -999.0,9,  -999.0,9,     -999.0,9,     -999.0,9,  -0.0415
58GS20090528,        GIN,     226,          1,          9,20090604,       0016,    72.3170,     2.0190,       2560,   499.6,   0.1160,  34.8946,2,  34.8989,2,  -999.0,9,    5.70,2,   11.72,2,    0.02,2,    0.84,2,-999.000,9,-999.000,9,-999.000000000,9,  -999.0,9,  -999.0,9,     -999.0,9,     -999.0,9,   0.0954
58GS20090528,        GIN,     226,          1,         10,20090604,       0016,    72.3170,     2.0190,       2560,   400.1,   0.8980,  34.9386,2,  34.9413,2,  -999.0,9,    5.60,2,   11.94,2,    0.04,2,    0.85,2,-999.000,9,-999.000,9,-999.000000000,9,  -999.0,9,  -999.0,9,     -999.0,9,     -999.0,9,   0.8793
58GS20090528,        GIN,     226,          1,         11,20090604,       0016,    72.3170,     2.0190,       2560,   299.2,   2.0300,  35.0112,2,  35.0111,2,  -999.0,9,    5.20,2,   11.62,2,    0.13,2,    0.83,2,-999.000,9,-999.000,9,-999.000000000,9,  -999.0,9,  -999.0,9,     -999.0,9,     -999.0,9,   2.0134
58GS20090528,        GIN,     226,          1,         12,20090604,       0016,    72.3170,     2.0190,       2560,   199.4,   3.4100,  35.0426,2,  35.0485,2,  -999.0,9,    4.99,2,   11.45,2,    0.11,2,    0.81,2,-999.000,9,-999.000,9,-999.000000000,9,  -999.0,9,  -999.0,9,     -999.0,9,     -999.0,9,   3.3969
58GS20090528,        GIN,     226,          1,         13,20090604,       0016,    72.3170,     2.0190,       2560,   148.9,   4.1910,  35.0978,2,  35.0971,2,  -999.0,9,    4.82,2,   11.53,2,    0.03,2,    0.81,2,-999.000,9,-999.000,9,-999.000000000,9,  -999.0,9,  -999.0,9,     -999.0,9,     -999.0,9,   4.1803
58GS20090528,        GIN,     226,          1,         14,20090604,       0016,    72.3170,     2.0190,       2560,   124.0,   4.4540,  35.1210,2,  35.1181,2,  -999.0,9,    4.75,2,   11.49,2,    0.03,2,    0.80,2,-999.000,9,-999.000,9,-999.000000000,9,  -999.0,9,  -999.0,9,     -999.0,9,     -999.0,9,   4.4449
58GS20090528,        GIN,     226,          1,         15,20090604,       0016,    72.3170,     2.0190,       2560,   100.0,   4.6010,  35.1238,2,  35.1169,2,  -999.0,9,    4.77,2,   11.45,2,    0.03,2,    0.80,2,-999.000,9,-999.000,9,-999.000000000,9,  -999.0,9,  -999.0,9,       0.04,2,       0.07,2,   4.5935
58GS20090528,        GIN,     226,          1,         16,20090604,       0016,    72.3170,     2.0190,       2560,    74.1,   4.7520,  35.1271,2,  35.1246,2,  -999.0,9,    4.83,2,   11.37,2,    0.04,2,    0.80,2,-999.000,9,-999.000,9,-999.000000000,9,  -999.0,9,  -999.0,9,       0.02,2,       0.08,2,   4.7464
58GS20090528,        GIN,     226,          1,         17,20090604,       0016,    72.3170,     2.0190,       2560,    50.2,   5.4600,  35.1291,2,  35.1300,2,  -999.0,9,    4.36,2,    7.82,2,    0.13,2,    0.60,2,-999.000,9,-999.000,9,-999.000000000,9,  -999.0,9,  -999.0,9,       1.24,2,       0.36,2,   5.4559
58GS20090528,        GIN,     226,          1,         18,20090604,       0016,    72.3170,     2.0190,       2560,    29.2,   5.5820,  35.1364,2,  35.1327,2,  -999.0,9,    4.22,2,    6.94,2,    0.11,2,    0.54,2,-999.000,9,-999.000,9,-999.000000000,9,  -999.0,9,  -999.0,9,       1.42,2,       0.40,2,   5.5796
58GS20090528,        GIN,     226,          1,         19,20090604,       0016,    72.3170,     2.0190,       2560,    18.8,   5.5710,  35.1369,2,  35.1332,2,  -999.0,9, -999.00,9, -999.00,9, -999.00,9, -999.00,9,-999.000,9,-999.000,9,-999.000000000,9,  -999.0,9,  -999.0,9,     -999.0,9,     -999.0,9,   5.5695
58GS20090528,        GIN,     226,          1,         20,20090604,       0016,    72.3170,     2.0190,       2560,    19.4,   5.5820,  35.1366,2,-999.0000,9,  -999.0,9,    4.25,2,    6.97,2,    0.11,2,    0.55,2,-999.000,9,-999.000,9,-999.000000000,9,  -999.0,9,  -999.0,9,       1.64,2,       0.41,2,   5.5804
58GS20090528,        GIN,     226,          1,         21,20090604,       0016,    72.3170,     2.0190,       2560,     8.9,   5.5780,  35.1364,2,  35.1332,2,  -999.0,9,    4.26,2,    7.05,2,    0.12,2,    0.55,2,-999.000,9,-999.000,9,-999.000000000,9,  -999.0,9,  -999.0,9,       1.50,2,       0.47,2,   5.5773
58GS20090528,        GIN,     226,          1,         22,20090604,       0016,    72.3170,     2.0190,       2560,     3.2,   5.5710,  35.1366,2,  35.1332,2,  -999.0,9,    4.24,2,    6.99,2,    0.11,2,    0.54,2,-999.000,9,-999.000,9,-999.000000000,9,  -999.0,9,  -999.0,9,       1.50,2,       0.47,2,   5.5707
58GS20090528,        GIN,     226,          1,         23,20090604,       0016,    72.3170,     2.0190,       2560,     3.6,   5.5730,  35.1366,2,-999.0000,9,  -999.0,9, -999.00,9, -999.00,9, -999.00,9, -999.00,9,-999.000,9,-999.000,9,-999.000000000,9,  -999.0,9,  -999.0,9,     -999.0,9,     -999.0,9,   5.5727
58GS20090528,        GIN,     227,          1,          1,20090604,       0328,    72.4170,     1.6660,       3011,  3001.1,  -0.7460,  34.9123,2,  34.9155,2,   297.2,2,   12.55,2,   14.48,2,    0.02,2,    1.02,2,-999.000,9,-999.000,9,-999.000000000,9,  2162.4,2,  2313.5,2,     -999.0,9,     -999.0,9,  -0.9139
58GS20090528,        GIN,     227,          1,          2,20090604,       0328,    72.4170,     1.6660,       3011,  2500.8,  -0.7810,  34.9121,2,  34.9152,2,   297.6,2,   12.48,2,   14.44,2,    0.01,2,    1.04,2,-999.000,9,-999.000,9,-999.000000000,9,  2162.4,2,  2309.0,2,     -999.0,9,     -999.0,9,  -0.9097
58GS20090528,        GIN,     227,          1,          3,20090604,       0328,    72.4170,     1.6660,       3011,  2000.3,  -0.7970,  34.9105,2,  34.9125,2,   297.7,2,   12.01,2,   14.38,2,    0.02,2,    1.01,2,-999.000,9,-999.000,9,-999.000000000,9,  2158.7,2,  2309.1,2,     -999.0,9,     -999.0,9,  -0.8911
58GS20090528,        GIN,     227,          1,          4,20090604,       0328,    72.4170,     1.6660,       3011,  1500.2,  -0.7320,  34.9071,2,  34.9126,2,   300.1,2,   10.91,2,   13.80,2,    0.02,2,    0.99,2,-999.000,9,-999.000,9,-999.000000000,9,  2157.1,2,  2315.0,3,     -999.0,9,     -999.0,9,  -0.7967
58GS20090528,        GIN,     227,          1,          5,20090604,       0328,    72.4170,     1.6660,       3011,  1200.5,  -0.6600,  34.9017,2,  34.9035,2,   305.2,2,    9.66,2,   13.79,2,    0.02,2,    0.97,2,-999.000,9,-999.000,9,-999.000000000,9,  2160.5,2,  2302.3,2,     -999.0,9,     -999.0,9,  -0.7093
58GS20090528,        GIN,     227,          1,          6,20090604,       0328,    72.4170,     1.6660,       3011,   999.8,  -0.5840,  34.8982,2,  34.9037,2,   312.6,2,    8.39,2,   13.28,2,    0.02,2,    0.95,2,-999.000,9,-999.000,9,-999.000000000,9,  2160.9,2,  2301.9,2,     -999.0,9,     -999.0,9,  -0.6238
58GS20090528,        GIN,     227,          1,          7,20090604,       0328,    72.4170,     1.6660,       3011,   799.8,  -0.4580,  34.8989,2,  34.9036,2,   316.0,2,    7.54,2,   12.96,2,    0.02,2,    0.93,2,-999.000,9,-999.000,9,-999.000000000,9,  2161.0,2,  2300.9,2,     -999.0,9,     -999.0,9,  -0.4893
58GS20090528,        GIN,     227,          1,          8,20090604,       0328,    72.4170,     1.6660,       3011,   600.2,  -0.2370,  34.9005,2,  34.8995,2,   311.9,2,    7.38,2,   12.90,2,    0.02,2,    0.93,2,-999.000,9,-999.000,9,-999.000000000,9,  2161.7,2,  2303.7,2,     -999.0,9,     -999.0,9,  -0.2605
58GS20090528,        GIN,     227,          1,          9,20090604,       0328,    72.4170,     1.6660,       3011,   500.4,  -0.1500,  34.8995,2,  34.9020,2,   312.5,2,    7.17,2,   12.78,2,    0.02,2,    0.92,2,-999.000,9,-999.000,9,-999.000000000,9,  2162.7,2,  2302.9,2,     -999.0,9,     -999.0,9,  -0.1695
58GS20090528,        GIN,     227,          1,         10,20090604,       0328,    72.4170,     1.6660,       3011,   399.9,  -0.0820,  34.8906,2,  34.8937,2,   321.2,2,    6.49,2,   12.38,2,    0.02,2,    0.88,2,-999.000,9,-999.000,9,-999.000000000,9,  2159.3,2,  2305.6,2,     -999.0,9,     -999.0,9,  -0.0974
58GS20090528,        GIN,     227,          1,         11,20090604,       0328,    72.4170,     1.6660,       3011,   300.4,  -0.1360,  34.8783,2,-999.0000,9,   331.1,2,    5.88,2,   11.71,2,    0.02,2,    0.84,2,-999.000,9,-999.000,9,-999.000000000,9,  2158.8,2,  2305.1,2,     -999.0,9,     -999.0,9,  -0.1472
58GS20090528,        GIN,     227,          1,         12,20090604,       0328,    72.4170,     1.6660,       3011,   199.2,  -0.0060,  34.8785,2,  34.8766,2,   336.7,2,    5.57,2,   11.28,2,    0.11,2,    0.81,2,-999.000,9,-999.000,9,-999.000000000,9,  2157.9,2,  2302.7,2,     -999.0,9,     -999.0,9,  -0.0134
58GS20090528,        GIN,     227,          1,         13,20090604,       0328,    72.4170,     1.6660,       3011,   149.0,   0.5690,  34.9189,2,  34.9358,2,   326.2,2,    5.58,2,   11.70,2,    0.09,2,    0.83,2,-999.000,9,-999.000,9,-999.000000000,9,  2158.7,2,  2305.8,2,     -999.0,9,     -999.0,9,   0.5628
58GS20090528,        GIN,     227,          1,         14,20090604,       0328,    72.4170,     1.6660,       3011,   124.5,   1.1610,  34.9533,2,  34.9563,2,  -999.0,9,    5.55,2,   11.55,2,    0.12,2,    0.84,2,-999.000,9,-999.000,9,-999.000000000,9,  -999.0,9,  -999.0,9,     -999.0,9,     -999.0,9,   1.1552
58GS20090528,        GIN,     227,          1,         15,20090604,       0328,    72.4170,     1.6660,       3011,    99.3,   1.4310,  34.9692,2,  34.9712,2,   323.3,2,    5.34,2,   11.27,2,    0.14,2,    0.82,2,-999.000,9,-999.000,9,-999.000000000,9,  2154.5,2,  2311.9,2,       0.08,2,       0.14,2,   1.4262
58GS20090528,        GIN,     227,          1,         16,20090604,       0328,    72.4170,     1.6660,       3011,    74.5,   1.9020,  34.9786,2,  34.9814,2,   327.5,2,    5.19,2,   10.59,2,    0.13,2,    0.79,2,-999.000,9,-999.000,9,-999.000000000,9,  2152.0,2,  2312.4,2,       0.21,2,       0.18,2,   1.8981
58GS20090528,        GIN,     227,          1,         17,20090604,       0328,    72.4170,     1.6660,       3011,    49.3,   3.4740,  35.0047,2,  35.0083,2,   336.6,2,    4.64,2,    6.42,2,    0.07,2,    0.57,2,-999.000,9,-999.000,9,-999.000000000,9,  2122.1,2,  2314.3,2,       1.33,2,       0.19,2,   3.4708
58GS20090528,        GIN,     227,          1,         18,20090604,       0328,    72.4170,     1.6660,       3011,    30.6,   3.5730,  35.0148,2,  35.0139,2,   337.1,2,    4.61,2,    5.93,2,    0.07,2,    0.54,2,-999.000,9,-999.000,9,-999.000000000,9,  2120.6,2,  2316.1,2,       1.79,2,       0.18,2,   3.5710
58GS20090528,        GIN,     227,          1,         19,20090604,       0328,    72.4170,     1.6660,       3011,    19.6,   3.5980,  35.0165,2,  35.0162,2,  -999.0,9,    4.63,2,    5.92,2,    0.07,2,    0.54,2,-999.000,9,-999.000,9,-999.000000000,9,  -999.0,9,  -999.0,9,       1.75,2,       0.23,2,   3.5967
58GS20090528,        GIN,     227,          1,         20,20090604,       0328,    72.4170,     1.6660,       3011,    19.7,   3.6010,  35.0166,2,  35.0166,2,  -999.0,9, -999.00,9, -999.00,9, -999.00,9, -999.00,9,-999.000,9,-999.000,9,-999.000000000,9,  -999.0,9,  -999.0,9,     -999.0,9,     -999.0,9,   3.5997
58GS20090528,        GIN,     227,          1,         21,20090604,       0328,    72.4170,     1.6660,       3011,     9.6,   3.5980,  35.0160,2,  35.0161,2,  -999.0,9,    4.62,2,    5.96,2,    0.07,2,    0.54,2,-999.000,9,-999.000,9,-999.000000000,9,  -999.0,9,  -999.0,9,       1.81,2,       0.22,2,   3.5974
58GS20090528,        GIN,     227,          1,         22,20090604,       0328,    72.4170,     1.6660,       3011,     4.9,   3.6000,  35.0159,2,-999.0000,9,   336.9,2,    4.60,2,    5.87,2,    0.06,2,    0.54,2,-999.000,9,-999.000,9,-999.000000000,9,  2120.6,2,  2316.0,2,       1.86,2,       0.22,2,   3.5997
58GS20090528,        GIN,     227,          1,         23,20090604,       0328,    72.4170,     1.6660,       3011,     4.9,   3.6000,  35.0159,2,-999.0000,9,  -999.0,9, -999.00,9, -999.00,9, -999.00,9, -999.00,9,-999.000,9,-999.000,9,-999.000000000,9,  -999.0,9,  -999.0,9,     -999.0,9,     -999.0,9,   3.5997