BOTTLE,20150327CCHSIORJL
EXPOCODE,SECT_ID,STNNBR,CASTNO,BTLNBR,DATE,TIME,LATITUDE,LONGITUDE,DEPTH,CTDPRS,CTDTMP,CTDSAL,CTDSAL_FLAG_W,SALNTY,SALNTY_FLAG_W,OXYGEN,OXYGEN_FLAG_W,SILCAT,SILCAT_FLAG_W,NITRAT,NITRAT_FLAG_W,NITRIT,NITRIT_FLAG_W,PHSPHT,PHSPHT_FLAG_W,CFC-11,CFC-11_FLAG_W,CFC-12,CFC-12_FLAG_W,SF6,SF6_FLAG_W,TCARBN,TCARBN_FLAG_W,ALKALI,ALKALI_FLAG_W,CHLORA,CHLORA_FLAG_W,PPHYTN,PPHYTN_FLAG_W,THETA
,,,,,,,,,METERS,DBAR,ITS-90,PSS-78,,PSS-78,,UMOL/KG,,UMOL/KG,,UMOL/KG,,UMOL/KG,,UMOL/KG,,PMOL/KG,,PMOL/KG,,FMOL/KG,,UMOL/KG,,UMOL/KG,,MG/M^3,,MG/M^3,,DEG C
58GS20090528,        GIN,     330,          1,          1,20090702,       0851,    70.0060,    16.2590,       1960,  1949.6,  -0.8280,  34.9050,2,  34.9149,2,   295.4,2,   13.12,2,   14.99,2,    0.01,2,    1.01,2,-999.000,9,   0.456,2,   0.524376069,2,  2165.7,2,  2308.8,2,     -999.0,9,     -999.0,9,  -0.9183
58GS20090528,        GIN,     330,          1,          2,20090702,       0851,    70.0060,    16.2590,       1960,  1500.0,  -0.7570,  34.9033,2,  34.9092,2,   297.2,2,   11.78,2,   14.71,2,    0.01,2,    1.00,2,-999.000,9,   0.713,6,    1.37719205,6,  2165.8,2,  2308.8,2,     -999.0,9,     -999.0,9,  -0.8214
58GS20090528,        GIN,     330,          1,          3,20090702,       0851,    70.0060,    16.2590,       1960,  1200.3,  -0.6850,  34.9004,2,  34.9102,2,   298.3,2,   10.82,2,   14.53,2,    0.01,2,    0.97,2,-999.000,9,   0.978,2,    1.83108753,2,  2165.6,2,  -999.0,9,     -999.0,9,     -999.0,9,  -0.7340
58GS20090528,        GIN,     330,          1,          4,20090702,       0851,    70.0060,    16.2590,       1960,  1000.0,  -0.5250,  34.8992,2,  34.9092,2,   298.7,2,   10.27,2,   14.42,2,    0.01,2,    0.97,2,-999.000,9,   1.244,2,    1.38859241,2,  2167.9,2,  2307.6,2,     -999.0,9,     -999.0,9,  -0.5654
58GS20090528,        GIN,     330,          1,          5,20090702,       0851,    70.0060,    16.2590,       1960,   799.7,   0.4350,  34.9176,2,  34.9261,2,   300.1,2,    8.18,2,   13.92,2,    0.02,2,    0.94,2,-999.000,9,   1.947,2,    1.84154837,2,  2166.9,2,  -999.0,9,     -999.0,9,     -999.0,9,   0.3978
58GS20090528,        GIN,     330,          1,          6,20090702,       0851,    70.0060,    16.2590,       1960,   599.8,   4.1780,  35.1019,2,  35.0996,2,   300.3,2,    5.02,2,   11.91,2,    0.02,2,    0.80,2,-999.000,9,   2.551,2,    2.60899697,2,  2152.3,2,  2315.6,2,     -999.0,9,     -999.0,9,   4.1330
58GS20090528,        GIN,     330,          1,          7,20090702,       0851,    70.0060,    16.2590,       1960,   500.6,   5.0270,  35.1347,2,  35.1335,2,   296.8,2,    4.97,2,   11.72,2,    0.02,2,    0.78,2,-999.000,9,-999.000,9,-999.000000000,9,  2151.7,2,  -999.0,9,     -999.0,9,     -999.0,9,   4.9865
58GS20090528,        GIN,     330,          1,          8,20090702,       0851,    70.0060,    16.2590,       1960,   400.4,   5.8320,  35.1702,2,  35.1748,2,   291.8,2,    5.02,2,   11.76,2,    0.02,2,    0.78,2,-999.000,9,   2.368,2,     2.0089649,2,  2149.8,2,  2322.0,2,     -999.0,9,     -999.0,9,   5.7974
58GS20090528,        GIN,     330,          1,          9,20090702,       0851,    70.0060,    16.2590,       1960,   300.4,   6.9320,  35.2194,2,  35.2219,2,   282.6,2,    5.10,2,   11.95,2,    0.02,2,    0.79,2,-999.000,9,-999.000,9,-999.000000000,9,  2147.2,2,  -999.0,9,     -999.0,9,     -999.0,9,   6.9037
58GS20090528,        GIN,     330,          1,         10,20090702,       0851,    70.0060,    16.2590,       1960,   199.8,   7.6350,  35.2392,2,  35.2400,2,   271.9,2,    4.59,2,   11.85,2,    0.06,2,    0.78,2,-999.000,9,   2.234,2,    2.23146279,2,  2147.3,2,  2323.9,2,     -999.0,9,     -999.0,9,   7.6152
58GS20090528,        GIN,     330,          1,         11,20090702,       0851,    70.0060,    16.2590,       1960,   199.9,   7.6350,  35.2388,2,  35.2392,2,   272.1,2, -999.00,9, -999.00,9, -999.00,9, -999.00,9,-999.000,9,-999.000,9,-999.000000000,9,  2147.3,2,  2324.6,2,     -999.0,9,     -999.0,9,   7.6152
58GS20090528,        GIN,     330,          1,         12,20090702,       0851,    70.0060,    16.2590,       1960,   148.6,   7.7150,  35.0417,2,  35.0435,2,   277.8,2,    3.54,2,    9.43,2,    0.11,2,    0.65,2,-999.000,9,-999.000,9,-999.000000000,9,  2135.0,2,  2321.6,2,     -999.0,9,     -999.0,9,   7.7003
58GS20090528,        GIN,     330,          1,         13,20090702,       0851,    70.0060,    16.2590,       1960,   148.6,   7.7120,  35.0419,2,-999.0000,9,  -999.0,9, -999.00,9, -999.00,9, -999.00,9, -999.00,9,-999.000,9,-999.000,9,-999.000000000,9,  -999.0,9,  -999.0,9,     -999.0,9,     -999.0,9,   7.6973
58GS20090528,        GIN,     330,          1,         14,20090702,       0851,    70.0060,    16.2590,       1960,   124.2,   7.2670,  34.8086,2,  34.8117,2,   277.1,2,    3.81,2,    9.35,2,    0.05,2,    0.65,2,-999.000,9,-999.000,9,-999.000000000,9,  2136.5,2,  2311.4,2,     -999.0,9,     -999.0,9,   7.2552
58GS20090528,        GIN,     330,          1,         15,20090702,       0851,    70.0060,    16.2590,       1960,   123.9,   7.2580,  34.8051,2,-999.0000,9,  -999.0,9, -999.00,9, -999.00,9, -999.00,9, -999.00,9,-999.000,9,-999.000,9,-999.000000000,9,  -999.0,9,  -999.0,9,     -999.0,9,     -999.0,9,   7.2462
58GS20090528,        GIN,     330,          1,         16,20090702,       0851,    70.0060,    16.2590,       1960,   100.1,   6.9620,  34.6087,2,  34.6131,2,   278.0,2,    3.68,2,    8.79,2,    0.04,2,    0.62,2,-999.000,9,   2.354,2,    2.99406785,2,  2132.5,2,  2307.4,2,       0.04,2,       0.25,2,   6.9528
58GS20090528,        GIN,     330,          1,         17,20090702,       0851,    70.0060,    16.2590,       1960,    73.9,   6.5050,  34.3368,2,  34.3443,2,   283.1,2,    2.93,2,    7.15,2,    0.14,2,    0.55,2,-999.000,9,-999.000,9,-999.000000000,9,  2122.9,2,  2296.0,2,       0.08,2,       0.25,2,   6.4985
58GS20090528,        GIN,     330,          1,         18,20090702,       0851,    70.0060,    16.2590,       1960,    50.2,   6.9130,  34.2484,2,  34.2591,2,   282.4,2,    2.91,2,    6.90,2,    0.14,2,    0.54,2,-999.000,9,   2.365,2,    2.84957915,2,  2119.7,2,  2294.4,2,       0.11,2,       0.21,2,   6.9084
58GS20090528,        GIN,     330,          1,         19,20090702,       0851,    70.0060,    16.2590,       1960,    29.9,   8.2300,  34.1435,2,  34.1589,2,   293.5,2,    1.29,2,    2.85,2,    0.09,2,    0.26,2,-999.000,9,   2.346,2,    2.85234403,2,  2096.1,2,  2295.0,2,       1.61,2,       0.85,2,   8.2270
58GS20090528,        GIN,     330,          1,         20,20090702,       0851,    70.0060,    16.2590,       1960,     9.5,  10.1690,  33.9352,2,  33.9425,2,   298.3,2,    0.47,2,    0.00,2,    0.00,2,    0.06,2,-999.000,9,   2.238,2,    2.37141993,2,  2062.9,2,  2286.4,2,       0.50,2,       0.07,2,  10.1679
58GS20090528,        GIN,     330,          1,         21,20090702,       0851,    70.0060,    16.2590,       1960,     5.2,  10.1890,  33.9373,2,  33.9386,2,   297.3,2,    0.50,2,    0.00,2,    0.00,2,    0.06,2,-999.000,9,-999.000,9,-999.000000000,9,  2062.9,2,  2287.8,2,       0.52,2,       0.08,2,  10.1884
58GS20090528,        GIN,     331,          1,          1,20090702,       1306,    70.0200,    15.0070,       2429,  2419.1,  -0.8200,  34.9060,2,  34.9157,2,   295.2,2,   13.44,2,   15.12,2,    0.01,2,    1.02,2,-999.000,9,   0.389,2,   0.561751047,2,  2165.7,2,  2309.6,2,     -999.0,9,     -999.0,9,  -0.9421
58GS20090528,        GIN,     331,          1,          2,20090702,       1306,    70.0200,    15.0070,       2429,  1999.8,  -0.7680,  34.9054,2,  34.9147,2,   296.8,2,   12.17,2,   14.82,2,    0.01,2,    1.01,2,-999.000,9,   0.570,2,   0.645943246,2,  2163.8,2,  -999.0,9,     -999.0,9,     -999.0,9,  -0.8625
58GS20090528,        GIN,     331,          1,          3,20090702,       1306,    70.0200,    15.0070,       2429,  1499.8,  -0.6920,  34.9009,2,  34.9100,2,   298.9,2,   10.77,2,   14.52,2,    0.01,2,    1.00,2,-999.000,9,   0.971,2,    1.31090944,2,  2165.8,2,  2306.5,2,     -999.0,9,     -999.0,9,  -0.7572
58GS20090528,        GIN,     331,          1,          4,20090702,       1306,    70.0200,    15.0070,       2429,  1199.9,  -0.5720,  34.8956,2,  34.9055,2,   302.0,2,    9.49,2,   14.29,2,    0.01,2,    0.98,2,-999.000,9,-999.000,9,-999.000000000,9,  2169.8,2,  -999.0,9,     -999.0,9,     -999.0,9,  -0.6221
58GS20090528,        GIN,     331,          1,          5,20090702,       1306,    70.0200,    15.0070,       2429,   999.7,  -0.3900,  34.8932,2,  34.9026,2,   302.7,2,    8.56,2,   14.06,2,    0.01,2,    0.96,2,-999.000,9,   1.816,2,    2.02960926,2,  2167.9,2,  2304.8,2,     -999.0,9,     -999.0,9,  -0.4314
58GS20090528,        GIN,     331,          1,          6,20090702,       1306,    70.0200,    15.0070,       2429,   800.0,   0.0970,  34.8987,2,  34.9053,2,   304.1,2,    7.57,2,   13.83,2,    0.01,2,    0.94,2,-999.000,9,   2.158,2,    2.80305829,2,  2169.5,2,  -999.0,9,     -999.0,9,     -999.0,9,   0.0621
58GS20090528,        GIN,     331,          1,          7,20090702,       1306,    70.0200,    15.0070,       2429,   600.0,   3.5040,  35.0623,2,  35.0654,2,   301.2,2,    5.28,2,   12.25,2,    0.01,2,    0.83,2,-999.000,9,   2.570,2,    3.96477698,2,  2156.4,2,  2312.1,2,     -999.0,9,     -999.0,9,   3.4622
58GS20090528,        GIN,     331,          1,          8,20090702,       1306,    70.0200,    15.0070,       2429,   499.1,   4.3600,  35.1132,2,  35.1195,2,   300.5,2,    4.91,2,   11.80,2,    0.01,2,    0.79,2,-999.000,9,-999.000,9,-999.000000000,9,  2151.9,2,  -999.0,9,     -999.0,9,     -999.0,9,   4.3222
58GS20090528,        GIN,     331,          1,          9,20090702,       1306,    70.0200,    15.0070,       2429,   399.7,   4.9050,  35.1294,2,  35.1327,2,   296.7,2,    4.97,2,   11.73,2,    0.03,2,    0.79,2,-999.000,9,   2.486,2,     3.3668551,2,  2150.4,2,  2318.5,2,     -999.0,9,     -999.0,9,   4.8733
58GS20090528,        GIN,     331,          1,         10,20090702,       1306,    70.0200,    15.0070,       2429,   300.0,   5.5820,  35.1616,2,  35.1641,2,   293.7,2,    4.99,2,   11.68,2,    0.01,2,    0.78,2,-999.000,9,-999.000,9,-999.000000000,9,  2148.6,2,  2321.2,2,     -999.0,9,     -999.0,9,   5.5569
58GS20090528,        GIN,     331,          1,         11,20090702,       1306,    70.0200,    15.0070,       2429,   300.0,   5.5880,  35.1609,2,  35.1637,2,   293.6,2, -999.00,9, -999.00,9, -999.00,9, -999.00,9,-999.000,9,-999.000,9,-999.000000000,9,  -999.0,9,  -999.0,9,     -999.0,9,     -999.0,9,   5.5628
58GS20090528,        GIN,     331,          1,         12,20090702,       1306,    70.0200,    15.0070,       2429,   200.1,   6.3580,  35.1935,2,  35.1944,2,   287.5,2,    5.02,2,   11.96,2,    0.01,2,    0.79,2,-999.000,9,   2.358,2,    2.85799427,2,  2148.3,2,  2322.7,2,     -999.0,9,     -999.0,9,   6.3402
58GS20090528,        GIN,     331,          1,         13,20090702,       1306,    70.0200,    15.0070,       2429,   149.6,   6.9160,  35.2193,2,  35.2198,2,   282.0,2,    5.14,2,   11.96,2,    0.01,2,    0.79,2,-999.000,9,-999.000,9,-999.000000000,9,  2148.9,2,  2320.8,2,     -999.0,9,     -999.0,9,   6.9021
58GS20090528,        GIN,     331,          1,         14,20090702,       1306,    70.0200,    15.0070,       2429,   124.9,   7.2730,  35.2421,2,  35.2436,2,   280.2,2,    5.12,2,   12.00,2,    0.02,2,    0.79,2,-999.000,9,-999.000,9,-999.000000000,9,  2146.6,2,  2325.2,2,     -999.0,9,     -999.0,9,   7.2610
58GS20090528,        GIN,     331,          1,         15,20090702,       1306,    70.0200,    15.0070,       2429,    99.8,   7.4570,  35.2521,2,  35.2541,2,   279.0,2,    5.07,2,   11.98,2,    0.02,2,    0.80,2,-999.000,9,   2.215,2,    3.27187157,2,  2146.3,2,  2326.3,2,       0.01,2,       0.17,2,   7.4473
58GS20090528,        GIN,     331,          1,         16,20090702,       1306,    70.0200,    15.0070,       2429,    74.9,   7.4970,  35.2282,2,  35.2365,2,   278.1,2,    4.81,2,   11.66,2,    0.01,2,    0.78,2,-999.000,9,-999.000,9,-999.000000000,9,  2145.7,2,  2326.7,2,       0.01,2,       0.23,2,   7.4897
58GS20090528,        GIN,     331,          1,         17,20090702,       1306,    70.0200,    15.0070,       2429,    50.0,   7.4640,  35.1390,2,  35.1715,2,   278.3,2,    4.14,2,   10.54,2,    0.02,2,    0.72,2,-999.000,9,   2.382,2,    3.77432776,2,  2142.0,2,  2323.9,2,       0.02,2,       0.21,2,   7.4592
58GS20090528,        GIN,     331,          1,         18,20090702,       1306,    70.0200,    15.0070,       2429,    29.9,   7.8240,  35.0229,2,  35.0405,2,   279.6,2,    2.79,2,    7.86,2,    0.13,2,    0.59,2,-999.000,9,-999.000,9,-999.000000000,9,  2130.7,2,  2323.0,2,       0.14,2,       0.27,2,   7.8210
58GS20090528,        GIN,     331,          1,         19,20090702,       1306,    70.0200,    15.0070,       2429,     8.8,   9.5390,  34.7127,2,  34.7470,2,   314.9,2,    0.07,2,    0.40,2,    0.05,2,    0.02,2,-999.000,9,-999.000,9,-999.000000000,9,  2068.9,2,  2319.1,2,       1.30,2,       1.52,2,   9.5380
58GS20090528,        GIN,     331,          1,         20,20090702,       1306,    70.0200,    15.0070,       2429,     4.7,   9.9640,  34.5642,2,  34.5462,2,   315.1,2,    0.00,2,    0.00,2,    0.02,2,    0.01,2,-999.000,9,   2.221,2,     2.9399757,2,  2050.7,2,  2313.2,2,       0.65,2,       0.63,2,   9.9635
58GS20090528,        GIN,     332,          1,          1,20090702,       1701,    70.0150,    14.0060,       2610,  2599.9,  -0.8270,  34.9061,2,  34.9152,2,   294.8,2,   13.79,2,   15.19,2,    0.01,2,    1.02,2,-999.000,9,-999.000,9,-999.000000000,9,  2164.9,2,  2305.9,2,     -999.0,9,     -999.0,9,  -0.9621
58GS20090528,        GIN,     332,          1,          2,20090702,       1701,    70.0150,    14.0060,       2610,  2500.2,  -0.8140,  34.9063,2,  34.9146,2,   296.1,2,   13.00,2,   14.95,2,    0.00,2,    1.01,2,-999.000,9,-999.000,9,-999.000000000,9,  2165.0,2,  2303.5,2,     -999.0,9,     -999.0,9,  -0.9420
58GS20090528,        GIN,     332,          1,          3,20090702,       1701,    70.0150,    14.0060,       2610,  2000.3,  -0.7740,  34.9053,2,  34.9144,2,   296.7,2,   12.03,2,   14.76,2,    0.01,2,    1.01,2,-999.000,9,-999.000,9,-999.000000000,9,  2165.5,2,  -999.0,9,     -999.0,9,     -999.0,9,  -0.8684
58GS20090528,        GIN,     332,          1,          4,20090702,       1701,    70.0150,    14.0060,       2610,  1500.0,  -0.6390,  34.8993,2,  34.9096,2,   299.4,2,   10.31,2,   14.33,2,    0.00,2,    0.99,2,-999.000,9,-999.000,9,-999.000000000,9,  2165.3,2,  2299.7,2,     -999.0,9,     -999.0,9,  -0.7048
58GS20090528,        GIN,     332,          1,          5,20090702,       1701,    70.0150,    14.0060,       2610,  1199.0,  -0.4350,  34.8961,2,  34.9059,2,   301.0,2,    9.05,2,   14.04,2,    0.00,2,    0.97,2,-999.000,9,-999.000,9,-999.000000000,9,  2167.4,2,  -999.0,9,     -999.0,9,     -999.0,9,  -0.4864
58GS20090528,        GIN,     332,          1,          6,20090702,       1701,    70.0150,    14.0060,       2610,   999.4,   0.0620,  34.8983,2,  34.9076,2,   304.8,2,    7.60,2,   13.75,2,    0.01,2,    0.95,2,-999.000,9,-999.000,9,-999.000000000,9,  2169.0,2,  2293.7,3,     -999.0,9,     -999.0,9,   0.0169
58GS20090528,        GIN,     332,          1,          7,20090702,       1701,    70.0150,    14.0060,       2610,   799.4,   2.0980,  34.9754,2,  34.9840,2,   301.3,2,    6.04,2,   13.07,2,    0.01,2,    0.90,2,-999.000,9,-999.000,9,-999.000000000,9,  2162.8,2,  -999.0,9,     -999.0,9,     -999.0,9,   2.0500
58GS20090528,        GIN,     332,          1,          8,20090702,       1701,    70.0150,    14.0060,       2610,   600.1,   4.3790,  35.1177,2,  35.1202,2,   301.6,2,    4.77,2,   11.53,2,    0.00,2,    0.78,2,-999.000,9,-999.000,9,-999.000000000,9,  2152.0,2,  2301.7,3,     -999.0,9,     -999.0,9,   4.3330
58GS20090528,        GIN,     332,          1,          9,20090702,       1701,    70.0150,    14.0060,       2610,   500.4,   4.7840,  35.1273,2,  35.1301,2,   297.5,2,    4.91,2,   11.67,2,    0.01,2,    0.79,2,-999.000,9,-999.000,9,-999.000000000,9,  2151.1,2,  -999.0,9,     -999.0,9,     -999.0,9,   4.7444
58GS20090528,        GIN,     332,          1,         10,20090702,       1701,    70.0150,    14.0060,       2610,   400.8,   5.4060,  35.1520,2,  35.1507,2,   294.6,2,    4.99,2,   11.64,2,    0.01,2,    0.79,2,-999.000,9,-999.000,9,-999.000000000,9,  2149.0,2,  2303.8,3,     -999.0,9,     -999.0,9,   5.3727
58GS20090528,        GIN,     332,          1,         11,20090702,       1701,    70.0150,    14.0060,       2610,   299.8,   6.0750,  35.1831,2,  35.1801,2,   290.5,2,    4.94,2,   11.67,2,    0.01,2,    0.78,2,-999.000,9,-999.000,9,-999.000000000,9,  2149.3,2,  -999.0,9,     -999.0,9,     -999.0,9,   6.0487
58GS20090528,        GIN,     332,          1,         12,20090702,       1701,    70.0150,    14.0060,       2610,   199.1,   7.0440,  35.2262,2,  35.2231,2,   282.2,2,    5.10,2,   11.90,2,    0.01,2,    0.80,2,-999.000,9,-999.000,9,-999.000000000,9,  2148.2,2,  2308.6,3,     -999.0,9,     -999.0,9,   7.0252
58GS20090528,        GIN,     332,          1,         13,20090702,       1701,    70.0150,    14.0060,       2610,   149.2,   7.3350,  35.2496,2,  35.2452,2,   279.9,2,    5.15,2,   12.02,2,    0.02,2,    0.80,2,-999.000,9,-999.000,9,-999.000000000,9,  2148.2,2,  2306.9,3,     -999.0,9,     -999.0,9,   7.3206
58GS20090528,        GIN,     332,          1,         14,20090702,       1701,    70.0150,    14.0060,       2610,   124.4,   7.4490,  35.2567,2,  35.2539,2,   278.0,2,    5.12,2,   12.02,2,    0.02,2,    0.80,2,-999.000,9,-999.000,9,-999.000000000,9,  2149.2,2,  2324.3,2,     -999.0,9,     -999.0,9,   7.4369
58GS20090528,        GIN,     332,          1,         15,20090702,       1701,    70.0150,    14.0060,       2610,   100.6,   7.5240,  35.2583,2,  35.2562,2,   272.2,2,    5.19,2,   12.53,2,    0.14,2,    0.88,2,-999.000,9,-999.000,9,-999.000000000,9,  2149.8,2,  2323.9,2,       0.02,2,       0.20,2,   7.5142
58GS20090528,        GIN,     332,          1,         16,20090702,       1701,    70.0150,    14.0060,       2610,    75.0,   7.6120,  35.2594,2,  35.2552,2,   265.0,2,    4.84,2,   12.67,2,    0.14,2,    0.91,2,-999.000,9,-999.000,9,-999.000000000,9,  2156.2,2,  2322.6,2,       0.05,2,       0.19,2,   7.6047
58GS20090528,        GIN,     332,          1,         17,20090702,       1701,    70.0150,    14.0060,       2610,    49.8,   7.6940,  35.2023,2,  35.2108,2,   274.1,2,    4.21,2,   11.00,2,    0.09,2,    0.76,2,-999.000,9,-999.000,9,-999.000000000,9,  2144.4,2,  2324.8,2,       0.15,2,       0.18,2,   7.6891
58GS20090528,        GIN,     332,          1,         18,20090702,       1701,    70.0150,    14.0060,       2610,    30.3,   8.4960,  35.1201,2,  35.1260,2,   294.4,2,    0.22,2,    2.28,2,    0.11,2,    0.18,2,-999.000,9,-999.000,9,-999.000000000,9,  2100.9,2,  2331.4,2,       1.84,2,       1.16,2,   8.4928
58GS20090528,        GIN,     332,          1,         19,20090702,       1701,    70.0150,    14.0060,       2610,     9.4,   9.3940,  34.9946,2,  35.0017,2,   311.0,2,    0.01,2,    0.02,2,    0.02,2,    0.03,2,-999.000,9,-999.000,9,-999.000000000,9,  2068.4,2,  2327.8,2,       1.14,2,       0.46,2,   9.3930
58GS20090528,        GIN,     332,          1,         20,20090702,       1701,    70.0150,    14.0060,       2610,     5.0,   9.7970,  34.8962,2,  34.9004,2,   302.6,2,    0.01,2,    0.00,2,    0.01,2,    0.01,2,-999.000,9,-999.000,9,-999.000000000,9,  2065.8,2,  2324.3,2,       0.73,2,       0.24,2,   9.7964