BOTTLE,20150327CCHSIORJL
EXPOCODE,SECT_ID,STNNBR,CASTNO,BTLNBR,DATE,TIME,LATITUDE,LONGITUDE,DEPTH,CTDPRS,CTDTMP,CTDSAL,CTDSAL_FLAG_W,SALNTY,SALNTY_FLAG_W,OXYGEN,OXYGEN_FLAG_W,SILCAT,SILCAT_FLAG_W,NITRAT,NITRAT_FLAG_W,NITRIT,NITRIT_FLAG_W,PHSPHT,PHSPHT_FLAG_W,CFC-11,CFC-11_FLAG_W,CFC-12,CFC-12_FLAG_W,SF6,SF6_FLAG_W,TCARBN,TCARBN_FLAG_W,ALKALI,ALKALI_FLAG_W,CHLORA,CHLORA_FLAG_W,PPHYTN,PPHYTN_FLAG_W,THETA
,,,,,,,,,METERS,DBAR,ITS-90,PSS-78,,PSS-78,,UMOL/KG,,UMOL/KG,,UMOL/KG,,UMOL/KG,,UMOL/KG,,PMOL/KG,,PMOL/KG,,FMOL/KG,,UMOL/KG,,UMOL/KG,,MG/M^3,,MG/M^3,,DEG C
58GS20090528,        GIN,     250,          1,          1,20090610,       0245,    74.5010,    10.7540,       2411,  2400.8,  -0.8160,  34.9095,2,  34.9108,2,   295.7,2,   13.25,2,   15.00,2,    0.01,2,    1.01,2,-999.000,9,-999.000,9,-999.000000000,9,  2166.9,2,  2307.5,2,     -999.0,9,     -999.0,9,  -0.9368
58GS20090528,        GIN,     250,          1,          2,20090610,       0245,    74.5010,    10.7540,       2411,  1998.6,  -0.8120,  34.9087,2,  34.9106,2,   296.5,2,   12.59,2,   14.88,2,    0.01,2,    1.01,2,-999.000,9,-999.000,9,-999.000000000,9,  2166.1,2,  2307.1,2,     -999.0,9,     -999.0,9,  -0.9057
58GS20090528,        GIN,     250,          1,          3,20090610,       0245,    74.5010,    10.7540,       2411,  1500.5,  -0.7130,  34.9043,2,  34.9063,2,   299.3,2,   10.95,2,   14.60,2,    0.01,2,    1.01,2,-999.000,9,-999.000,9,-999.000000000,9,  2167.5,2,  2305.8,2,     -999.0,9,     -999.0,9,  -0.7780
58GS20090528,        GIN,     250,          1,          4,20090610,       0245,    74.5010,    10.7540,       2411,  1199.4,  -0.5890,  34.8987,2,  34.9010,2,  -999.0,9,    9.09,2,   14.00,2,    0.01,2,    0.98,2,-999.000,9,-999.000,9,-999.000000000,9,  -999.0,9,  -999.0,9,     -999.0,9,     -999.0,9,  -0.6389
58GS20090528,        GIN,     250,          1,          5,20090610,       0245,    74.5010,    10.7540,       2411,  1000.2,  -0.4170,  34.8971,2,  34.9006,2,   308.1,2,    8.27,2,   13.88,2,    0.01,2,    0.98,2,-999.000,9,-999.000,9,-999.000000000,9,  2166.9,2,  2304.7,2,     -999.0,9,     -999.0,9,  -0.4582
58GS20090528,        GIN,     250,          1,          6,20090610,       0245,    74.5010,    10.7540,       2411,   800.4,  -0.1140,  34.9011,2,  34.9040,2,   322.6,2,    6.62,2,   12.76,2,    0.02,2,    0.91,2,-999.000,9,-999.000,9,-999.000000000,9,  2165.4,2,  2303.7,2,     -999.0,9,     -999.0,9,  -0.1476
58GS20090528,        GIN,     250,          1,          7,20090610,       0245,    74.5010,    10.7540,       2411,   600.5,   0.7940,  34.9426,2,  34.9433,2,   317.4,2,    6.06,2,   12.63,2,    0.02,2,    0.87,2,-999.000,9,-999.000,9,-999.000000000,9,  2165.7,2,  2305.4,2,     -999.0,9,     -999.0,9,   0.7653
58GS20090528,        GIN,     250,          1,          8,20090610,       0245,    74.5010,    10.7540,       2411,   499.5,   2.1340,  35.0016,2,  35.0043,2,   309.5,2,    5.52,2,   12.39,2,    0.03,2,    0.86,2,-999.000,9,-999.000,9,-999.000000000,9,  2159.8,2,  2310.2,2,     -999.0,9,     -999.0,9,   2.1051
58GS20090528,        GIN,     250,          1,          9,20090610,       0245,    74.5010,    10.7540,       2411,   400.4,   3.4420,  35.0784,2,  35.0806,2,   307.1,2,    4.93,2,   11.85,2,    0.03,2,    0.80,2,-999.000,9,-999.000,9,-999.000000000,9,  2155.0,2,  2317.5,2,     -999.0,9,     -999.0,9,   3.4149
58GS20090528,        GIN,     250,          1,         10,20090610,       0245,    74.5010,    10.7540,       2411,   300.3,   3.8190,  35.1131,2,  35.1114,2,   307.6,2,    4.76,2,   11.55,2,    0.04,2,    0.77,2,-999.000,9,-999.000,9,-999.000000000,9,  2152.7,2,  2317.2,2,     -999.0,9,     -999.0,9,   3.7980
58GS20090528,        GIN,     250,          1,         11,20090610,       0245,    74.5010,    10.7540,       2411,   200.0,   4.0790,  35.1138,2,  35.1106,2,   306.0,2,    4.79,2,   11.48,2,    0.07,2,    0.77,2,-999.000,9,-999.000,9,-999.000000000,9,  2151.5,2,  2317.1,2,     -999.0,9,     -999.0,9,   4.0648
58GS20090528,        GIN,     250,          1,         12,20090610,       0245,    74.5010,    10.7540,       2411,   149.2,   4.3220,  35.1268,2,  35.1225,2,   303.9,2,    4.71,2,   11.23,2,    0.04,2,    0.77,2,-999.000,9,-999.000,9,-999.000000000,9,  2151.9,2,  2315.3,2,     -999.0,9,     -999.0,9,   4.3111
58GS20090528,        GIN,     250,          1,         13,20090610,       0245,    74.5010,    10.7540,       2411,   100.6,   4.5450,  35.1279,2,  35.1260,2,   301.7,2,    4.80,2,   11.69,2,    0.04,2,    0.77,2,-999.000,9,-999.000,9,-999.000000000,9,  2151.3,2,  2318.0,2,       0.02,2,       0.05,2,   4.5375
58GS20090528,        GIN,     250,          1,         14,20090610,       0245,    74.5010,    10.7540,       2411,    75.2,   4.7460,  35.1322,2,  35.1302,2,   299.7,2,    4.75,2,   11.61,2,    0.09,2,    0.79,2,-999.000,9,-999.000,9,-999.000000000,9,  2151.3,2,  2317.6,2,       0.03,2,       0.09,2,   4.7403
58GS20090528,        GIN,     250,          1,         15,20090610,       0245,    74.5010,    10.7540,       2411,    50.4,   4.9310,  35.1365,2,  35.1338,2,  -999.0,9,    4.70,2,   10.95,2,    0.25,2,    0.79,2,-999.000,9,-999.000,9,-999.000000000,9,  2148.5,2,  2318.2,2,       0.04,2,       0.21,2,   4.9271
58GS20090528,        GIN,     250,          1,         16,20090610,       0245,    74.5010,    10.7540,       2411,    29.1,   5.3460,  35.1422,2,  35.1418,2,   314.4,2,    4.44,2,    6.58,2,    0.14,2,    0.66,2,-999.000,9,-999.000,9,-999.000000000,9,  2128.1,2,  2324.3,2,       0.28,2,       0.34,2,   5.3437
58GS20090528,        GIN,     250,          1,         17,20090610,       0245,    74.5010,    10.7540,       2411,    20.1,   5.5540,  35.1469,2,  35.1434,2,  -999.0,9,    4.33,2,    5.83,2,    0.11,2,    0.60,2,-999.000,9,-999.000,9,-999.000000000,9,  -999.0,9,  -999.0,9,       1.77,2,       0.45,2,   5.5524
58GS20090528,        GIN,     250,          1,         18,20090610,       0245,    74.5010,    10.7540,       2411,    20.1,   5.5760,  35.1476,2,-999.0000,9,  -999.0,9, -999.00,9, -999.00,9, -999.00,9, -999.00,9,-999.000,9,-999.000,9,-999.000000000,9,  -999.0,9,  -999.0,9,     -999.0,9,     -999.0,9,   5.5744
58GS20090528,        GIN,     250,          1,         19,20090610,       0245,    74.5010,    10.7540,       2411,    10.3,   5.9950,  35.1546,2,  35.1520,2,  -999.0,9,    4.17,2,    4.73,2,    0.10,2,    0.38,2,-999.000,9,-999.000,9,-999.000000000,9,  -999.0,9,  -999.0,9,       1.99,2,       0.50,2,   5.9941
58GS20090528,        GIN,     250,          1,         20,20090610,       0245,    74.5010,    10.7540,       2411,     5.3,   5.9890,  35.1554,2,  35.1453,2,   325.6,2, -999.00,9, -999.00,9, -999.00,9, -999.00,9,-999.000,9,-999.000,9,-999.000000000,9,  2112.8,2,  2324.5,2,     -999.0,9,     -999.0,9,   5.9886
58GS20090528,        GIN,     250,          1,         21,20090610,       0245,    74.5010,    10.7540,       2411,     5.2,   5.9890,  35.1554,2,-999.0000,9,  -999.0,9,    4.13,2,    4.71,2,    0.09,2,    0.41,2,-999.000,9,-999.000,9,-999.000000000,9,  -999.0,9,  -999.0,9,       0.53,2,       0.40,2,   5.9886
58GS20090528,        GIN,     251,          1,          1,20090610,       1202,    74.5000,    11.6650,       2360,  2350.0,  -0.8140,  34.9094,2,-999.0000,9,   296.0,2,   13.16,2,   14.88,2,    0.01,2,    1.04,2,-999.000,9,-999.000,9,-999.000000000,9,  2165.7,2,  2309.8,2,     -999.0,9,     -999.0,9,  -0.9313
58GS20090528,        GIN,     251,          1,          2,20090610,       1202,    74.5000,    11.6650,       2360,  2000.4,  -0.8110,  34.9084,2,-999.0000,9,   296.6,2,   12.58,2,   14.84,2,    0.01,2,    1.03,2,-999.000,9,-999.000,9,-999.000000000,9,  2164.4,2,  2309.8,2,     -999.0,9,     -999.0,9,  -0.9048
58GS20090528,        GIN,     251,          1,          3,20090610,       1202,    74.5000,    11.6650,       2360,  1499.9,  -0.6920,  34.9020,2,-999.0000,9,   301.5,2,   10.55,2,   14.35,2,    0.01,2,    1.02,2,-999.000,9,-999.000,9,-999.000000000,9,  2165.4,2,  2309.7,2,     -999.0,9,     -999.0,9,  -0.7572
58GS20090528,        GIN,     251,          1,          4,20090610,       1202,    74.5000,    11.6650,       2360,  1199.4,  -0.5530,  34.8961,2,-999.0000,9,  -999.0,9,    8.41,2,   13.64,2,    0.01,2,    0.94,2,-999.000,9,-999.000,9,-999.000000000,9,  -999.0,9,  -999.0,9,     -999.0,9,     -999.0,9,  -0.6032
58GS20090528,        GIN,     251,          1,          5,20090610,       1202,    74.5000,    11.6650,       2360,  1000.1,  -0.2880,  34.8985,2,-999.0000,9,   309.9,2,    7.84,2,   13.61,2,    0.01,2,    0.94,2,-999.000,9,-999.000,9,-999.000000000,9,  2167.2,2,  2306.6,2,     -999.0,9,     -999.0,9,  -0.3303
58GS20090528,        GIN,     251,          1,          6,20090610,       1202,    74.5000,    11.6650,       2360,   799.8,   0.8030,  34.9355,2,-999.0000,9,   314.3,2,    6.32,2,   12.87,2,    0.01,2,    0.89,2,-999.000,9,-999.000,9,-999.000000000,9,  2164.4,2,  2308.5,2,     -999.0,9,     -999.0,9,   0.7634
58GS20090528,        GIN,     251,          1,          7,20090610,       1202,    74.5000,    11.6650,       2360,   600.2,   2.7690,  35.0740,2,-999.0000,9,   314.1,2,    4.74,2,   11.43,2,    0.01,2,    0.78,2,-999.000,9,-999.000,9,-999.000000000,9,  2154.8,2,  2317.4,2,     -999.0,9,     -999.0,9,   2.7306
58GS20090528,        GIN,     251,          1,          8,20090610,       1202,    74.5000,    11.6650,       2360,   499.7,   2.8020,  35.0732,2,-999.0000,9,   314.0,2,    4.75,2,   11.53,2,    0.01,2,    0.78,2,-999.000,9,-999.000,9,-999.000000000,9,  2153.9,2,  2319.2,2,     -999.0,9,     -999.0,9,   2.7703
58GS20090528,        GIN,     251,          1,          9,20090610,       1202,    74.5000,    11.6650,       2360,   400.4,   2.8920,  35.0711,2,-999.0000,9,   312.9,2,    4.83,2,   11.61,2,    0.01,2,    0.79,2,-999.000,9,-999.000,9,-999.000000000,9,  2154.9,2,  2318.9,2,     -999.0,9,     -999.0,9,   2.8667
58GS20090528,        GIN,     251,          1,         10,20090610,       1202,    74.5000,    11.6650,       2360,   299.8,   3.1310,  35.0822,2,-999.0000,9,   311.0,2,    4.83,2,   11.55,2,    0.01,2,    0.79,2,-999.000,9,-999.000,9,-999.000000000,9,  2155.3,2,  2321.9,2,     -999.0,9,     -999.0,9,   3.1117
58GS20090528,        GIN,     251,          1,         11,20090610,       1202,    74.5000,    11.6650,       2360,   200.2,   3.6160,  35.0954,2,-999.0000,9,   307.3,2,    4.86,2,   11.62,2,    0.03,2,    0.81,2,-999.000,9,-999.000,9,-999.000000000,9,  2153.5,2,  2318.6,2,     -999.0,9,     -999.0,9,   3.6025
58GS20090528,        GIN,     251,          1,         12,20090610,       1202,    74.5000,    11.6650,       2360,   150.1,   4.0590,  35.1100,2,-999.0000,9,   305.2,2,    4.82,2,   11.53,2,    0.05,2,    0.79,2,-999.000,9,-999.000,9,-999.000000000,9,  2151.9,2,  2319.9,2,     -999.0,9,     -999.0,9,   4.0484
58GS20090528,        GIN,     251,          1,         13,20090610,       1202,    74.5000,    11.6650,       2360,   100.1,   4.5910,  35.1225,2,-999.0000,9,   301.6,2,    4.76,2,   11.24,2,    0.08,2,    0.79,2,-999.000,9,-999.000,9,-999.000000000,9,  2148.5,2,  2320.7,2,       0.03,2,       0.14,2,   4.5835
58GS20090528,        GIN,     251,          1,         14,20090610,       1202,    74.5000,    11.6650,       2360,    74.2,   4.8430,  35.1303,2,-999.0000,9,   303.0,2,    4.75,2,   10.69,2,    0.18,2,    0.74,2,-999.000,9,-999.000,9,-999.000000000,9,  2146.6,2,  2321.7,2,       0.03,2,       0.22,2,   4.8373
58GS20090528,        GIN,     251,          1,         15,20090610,       1202,    74.5000,    11.6650,       2360,    49.8,   5.2790,  35.1417,2,-999.0000,9,   301.5,2,    4.67,2,   10.16,2,    0.24,2,    0.73,2,-999.000,9,-999.000,9,-999.000000000,9,  2145.1,2,  2325.1,2,       0.13,2,       0.27,2,   5.2750
58GS20090528,        GIN,     251,          1,         16,20090610,       1202,    74.5000,    11.6650,       2360,    30.2,   5.7130,  35.1420,2,-999.0000,9,   327.5,2,    3.81,2,    4.78,2,    0.11,2,    0.35,2,-999.000,9,-999.000,9,-999.000000000,9,  2112.4,2,  2325.5,2,       2.05,2,       0.44,2,   5.7105
58GS20090528,        GIN,     251,          1,         17,20090610,       1202,    74.5000,    11.6650,       2360,    19.7,   6.0320,  35.1351,2,-999.0000,9,  -999.0,9, -999.00,9, -999.00,9, -999.00,9, -999.00,9,-999.000,9,-999.000,9,-999.000000000,9,  -999.0,9,  -999.0,9,     -999.0,9,     -999.0,9,   6.0303
58GS20090528,        GIN,     251,          1,         18,20090610,       1202,    74.5000,    11.6650,       2360,    19.8,   6.0530,  35.1339,2,-999.0000,9,  -999.0,9,    3.69,2,    4.23,2,    0.10,2,    0.33,2,-999.000,9,-999.000,9,-999.000000000,9,  -999.0,9,  -999.0,9,       2.33,2,       0.50,2,   6.0513
58GS20090528,        GIN,     251,          1,         19,20090610,       1202,    74.5000,    11.6650,       2360,     9.7,   6.0710,  35.1356,2,-999.0000,9,  -999.0,9,    3.65,2,    4.11,2,    0.10,2,    0.31,2,-999.000,9,-999.000,9,-999.000000000,9,  -999.0,9,  -999.0,9,       2.46,2,       0.40,2,   6.0702
58GS20090528,        GIN,     251,          1,         20,20090610,       1202,    74.5000,    11.6650,       2360,     4.6,   6.0810,  35.1361,2,-999.0000,9,   331.6,2,    3.66,2,    4.10,2,    0.10,2,    0.31,2,-999.000,9,-999.000,9,-999.000000000,9,  2102.5,2,  2325.2,2,       2.39,2,       0.50,2,   6.0806
58GS20090528,        GIN,     251,          1,         21,20090610,       1202,    74.5000,    11.6650,       2360,     4.8,   6.0810,  35.1360,2,-999.0000,9,  -999.0,9, -999.00,9, -999.00,9, -999.00,9, -999.00,9,-999.000,9,-999.000,9,-999.000000000,9,  -999.0,9,  -999.0,9,     -999.0,9,     -999.0,9,   6.0806