BOTTLE,20150327CCHSIORJL
EXPOCODE,SECT_ID,STNNBR,CASTNO,BTLNBR,DATE,TIME,LATITUDE,LONGITUDE,DEPTH,CTDPRS,CTDTMP,CTDSAL,CTDSAL_FLAG_W,SALNTY,SALNTY_FLAG_W,OXYGEN,OXYGEN_FLAG_W,SILCAT,SILCAT_FLAG_W,NITRAT,NITRAT_FLAG_W,NITRIT,NITRIT_FLAG_W,PHSPHT,PHSPHT_FLAG_W,CFC-11,CFC-11_FLAG_W,CFC-12,CFC-12_FLAG_W,SF6,SF6_FLAG_W,TCARBN,TCARBN_FLAG_W,ALKALI,ALKALI_FLAG_W,CHLORA,CHLORA_FLAG_W,PPHYTN,PPHYTN_FLAG_W,THETA
,,,,,,,,,METERS,DBAR,ITS-90,PSS-78,,PSS-78,,UMOL/KG,,UMOL/KG,,UMOL/KG,,UMOL/KG,,UMOL/KG,,PMOL/KG,,PMOL/KG,,FMOL/KG,,UMOL/KG,,UMOL/KG,,MG/M^3,,MG/M^3,,DEG C
58GS20090528,        GIN,     222,          1,          1,20090602,       2332,    70.7500,     7.0820,       3012,  3002.1,  -0.8040,  34.9096,2,  34.9106,2,   294.8,2,   14.06,2,   15.22,2,    0.01,2,    1.04,2,-999.000,9,-999.000,9,-999.000000000,9,  2163.5,2,  2305.9,2,     -999.0,9,     -999.0,9,  -0.9706
58GS20090528,        GIN,     222,          1,          2,20090602,       2332,    70.7500,     7.0820,       3012,  2498.2,  -0.8140,  34.9097,2,  34.9097,2,   296.4,2,   13.00,2,   15.02,2,    0.01,2,    1.02,2,-999.000,9,-999.000,9,-999.000000000,9,  2161.6,2,  2306.1,2,     -999.0,9,     -999.0,9,  -0.9418
58GS20090528,        GIN,     222,          1,          3,20090602,       2332,    70.7500,     7.0820,       3012,  1999.6,  -0.7850,  34.9085,2,  34.9086,2,   297.1,2,   11.95,2,   14.84,2,    0.01,2,    1.01,2,-999.000,9,-999.000,9,-999.000000000,9,  2161.6,2,  2306.0,2,     -999.0,9,     -999.0,9,  -0.8792
58GS20090528,        GIN,     222,          1,          4,20090602,       2332,    70.7500,     7.0820,       3012,  1500.1,  -0.6500,  34.9021,2,  34.9072,2,   300.5,2,   10.15,2,   14.44,2,    0.01,2,    1.00,2,-999.000,9,-999.000,9,-999.000000000,9,  2163.4,2,  2296.7,2,     -999.0,9,     -999.0,9,  -0.7157
58GS20090528,        GIN,     222,          1,          5,20090602,       2332,    70.7500,     7.0820,       3012,  1200.5,  -0.4580,  34.8970,2,  34.8991,2,   303.1,2,    8.73,2,   14.16,2,    0.01,2,    0.98,2,-999.000,9,-999.000,9,-999.000000000,9,  2163.8,2,  2298.9,2,     -999.0,9,     -999.0,9,  -0.5092
58GS20090528,        GIN,     222,          1,          6,20090602,       2332,    70.7500,     7.0820,       3012,   998.9,  -0.1920,  34.8964,2,  34.8971,2,   306.8,2,    7.62,2,   13.62,2,    0.01,2,    0.94,2,-999.000,9,-999.000,9,-999.000000000,9,  2163.7,2,  2295.8,2,     -999.0,9,     -999.0,9,  -0.2350
58GS20090528,        GIN,     222,          1,          7,20090602,       2332,    70.7500,     7.0820,       3012,   801.0,   0.4020,  34.9039,2,  34.9045,2,   306.7,2,    6.81,2,   13.60,2,    0.01,2,    0.94,2,-999.000,9,-999.000,9,-999.000000000,9,  2165.4,2,  2295.7,2,     -999.0,9,     -999.0,9,   0.3650
58GS20090528,        GIN,     222,          1,          8,20090602,       2332,    70.7500,     7.0820,       3012,   600.3,   2.7610,  35.0042,2,  35.0028,2,   301.8,2,    5.48,2,   12.55,2,    0.02,2,    0.87,2,-999.000,9,-999.000,9,-999.000000000,9,  2158.5,2,  2301.1,3,     -999.0,9,     -999.0,9,   2.7228
58GS20090528,        GIN,     222,          1,          9,20090602,       2332,    70.7500,     7.0820,       3012,   500.6,   3.9480,  35.0790,2,  35.0746,2,   301.6,2,    4.96,2,   12.03,2,    0.02,2,    0.81,2,-999.000,9,-999.000,9,-999.000000000,9,  2151.4,2,  2317.0,2,     -999.0,9,     -999.0,9,   3.9117
58GS20090528,        GIN,     222,          1,         10,20090602,       2332,    70.7500,     7.0820,       3012,   399.7,   4.4260,  35.1207,2,  35.1139,2,   302.2,2,    4.77,2,   11.60,2,    0.02,2,    0.79,2,-999.000,9,-999.000,9,-999.000000000,9,  2147.2,2,  2321.2,2,     -999.0,9,     -999.0,9,   4.3958
58GS20090528,        GIN,     222,          1,         11,20090602,       2332,    70.7500,     7.0820,       3012,   299.4,   4.6850,  35.1335,2,  35.1278,2,   300.8,2,    4.74,2,   11.50,2,    0.02,2,    0.78,2,-999.000,9,-999.000,9,-999.000000000,9,  2146.9,2,  2321.1,2,     -999.0,9,     -999.0,9,   4.6620
58GS20090528,        GIN,     222,          1,         12,20090602,       2332,    70.7500,     7.0820,       3012,   200.7,   4.8510,  35.1307,2,  35.1250,2,   297.5,2,    4.88,2,   11.67,2,    0.03,2,    0.79,2,-999.000,9,-999.000,9,-999.000000000,9,  2145.0,2,  2315.5,2,     -999.0,9,     -999.0,9,   4.8355
58GS20090528,        GIN,     222,          1,         13,20090602,       2332,    70.7500,     7.0820,       3012,   148.8,   5.0720,  35.1430,2,  35.1394,2,   297.3,2,    4.87,2,   11.68,2,    0.03,2,    0.80,2,-999.000,9,-999.000,9,-999.000000000,9,  2147.5,2,  2319.8,2,     -999.0,9,     -999.0,9,   5.0603
58GS20090528,        GIN,     222,          1,         14,20090602,       2332,    70.7500,     7.0820,       3012,   123.6,   5.2810,  35.1582,2,  35.1535,2,   297.6,2,    4.84,2,   11.48,2,    0.05,2,    0.77,2,-999.000,9,-999.000,9,-999.000000000,9,  2144.1,2,  2320.0,2,     -999.0,9,     -999.0,9,   5.2711
58GS20090528,        GIN,     222,          1,         15,20090602,       2332,    70.7500,     7.0820,       3012,   100.0,   5.4340,  35.1691,2,  35.1628,2,   297.4,2,    4.83,2,   11.51,2,    0.08,2,    0.77,2,-999.000,9,-999.000,9,-999.000000000,9,  2145.0,2,  2323.7,2,       0.04,2,       0.13,2,   5.4259
58GS20090528,        GIN,     222,          1,         16,20090602,       2332,    70.7500,     7.0820,       3012,    74.2,   5.5490,  35.1643,2,  35.1570,2,   294.8,2,    4.89,2,   11.56,2,    0.08,2,    0.78,2,-999.000,9,-999.000,9,-999.000000000,9,  2144.1,2,  2320.8,2,       0.02,2,       0.17,2,   5.5429
58GS20090528,        GIN,     222,          1,         17,20090602,       2332,    70.7500,     7.0820,       3012,    49.1,   5.8320,  35.1772,2,  35.1667,2,   292.3,2,    4.93,2,   11.73,2,    0.08,2,    0.78,2,-999.000,9,-999.000,9,-999.000000000,9,  2142.7,2,  2320.6,2,       0.03,2,       0.12,2,   5.8279
58GS20090528,        GIN,     222,          1,         18,20090602,       2332,    70.7500,     7.0820,       3012,    28.8,   6.5480,  35.1616,2,  35.1630,2,   306.8,2,    3.97,2,    6.75,2,    0.14,2,    0.50,2,-999.000,9,-999.000,9,-999.000000000,9,  2121.0,2,  2319.2,2,       1.26,2,       0.38,2,   6.5454
58GS20090528,        GIN,     222,          1,         19,20090602,       2332,    70.7500,     7.0820,       3012,    20.5,   6.5530,  35.1646,2,  35.1564,2,   309.6,2,    3.85,2,    5.94,2,    0.13,2,    0.44,2,-999.000,9,-999.000,9,-999.000000000,9,  2115.4,2,  2329.1,2,       1.59,2,       0.47,2,   6.5512
58GS20090528,        GIN,     222,          1,         20,20090602,       2332,    70.7500,     7.0820,       3012,    12.6,   6.5930,  35.1679,2,  35.1596,2,   309.9,2,    3.78,2,    5.86,2,    0.13,2,    0.44,2,-999.000,9,-999.000,9,-999.000000000,9,  2114.3,2,  2322.4,2,     -999.0,9,     -999.0,9,   6.5919
58GS20090528,        GIN,     222,          1,         21,20090602,       2332,    70.7500,     7.0820,       3012,     9.1,   6.5910,  35.1679,2,  35.1610,2,  -999.0,9,    3.78,2,    5.82,2,    0.13,2,    0.44,2,-999.000,9,-999.000,9,-999.000000000,9,  -999.0,9,  -999.0,9,       2.31,2,       0.67,2,   6.5902
58GS20090528,        GIN,     222,          1,         22,20090602,       2332,    70.7500,     7.0820,       3012,     5.0,   6.5940,  35.1680,2,  35.1600,2,  -999.0,9,    3.78,2,    5.84,2,    0.13,2,    0.44,2,-999.000,9,-999.000,9,-999.000000000,9,  -999.0,9,  -999.0,9,       2.20,2,       0.61,2,   6.5936
58GS20090528,        GIN,     222,          1,         23,20090602,       2332,    70.7500,     7.0820,       3012,     5.6,   6.5970,  35.1679,2,-999.0000,9,  -999.0,9, -999.00,9, -999.00,9, -999.00,9, -999.00,9,-999.000,9,-999.000,9,-999.000000000,9,  -999.0,9,  -999.0,9,     -999.0,9,     -999.0,9,   6.5965
58GS20090528,        GIN,     223,          1,          1,20090603,       0834,    71.4170,     4.9180,       2993,  2770.0,  -0.8130,  34.9088,2,  34.9114,2,   295.4,2,   13.57,2,   14.95,2,    0.01,2,    1.02,2,   0.690,2,   0.339,2,    0.23871755,2,  -999.0,9,  2309.4,2,     -999.0,9,     -999.0,9,  -0.9612
58GS20090528,        GIN,     223,          1,          2,20090603,       0834,    71.4170,     4.9180,       2993,  2502.3,  -0.8190,  34.9090,2,  34.9095,2,   296.1,2,   13.14,2,   14.99,2,    0.01,2,    1.02,2,   0.773,2,   0.376,2,   0.221507732,2,  -999.0,9,  2307.8,2,     -999.0,9,     -999.0,9,  -0.9470
58GS20090528,        GIN,     223,          1,          3,20090603,       0834,    71.4170,     4.9180,       2993,  2001.1,  -0.7810,  34.9081,2,  34.9089,2,   297.2,2,   11.96,2,   14.73,2,    0.01,2,    1.02,2,   1.180,2,   0.573,2,   0.542531607,2,  -999.0,9,  2302.4,2,     -999.0,9,     -999.0,9,  -0.8754
58GS20090528,        GIN,     223,          1,          4,20090603,       0834,    71.4170,     4.9180,       2993,  1500.5,  -0.6360,  34.9015,2,  34.8987,2,   300.3,2,   10.07,2,   14.31,2,    0.01,2,    0.99,2,   2.475,2,   1.197,2,    1.51603436,2,  -999.0,9,  -999.0,9,     -999.0,9,     -999.0,9,  -0.7019
58GS20090528,        GIN,     223,          1,          5,20090603,       0834,    71.4170,     4.9180,       2993,  1201.2,  -0.4240,  34.8965,2,  34.8977,2,   303.5,2,    8.60,2,   13.99,2,    0.01,2,    0.97,2,   3.752,2,   1.825,2,    1.83080328,2,  -999.0,9,  2295.6,2,     -999.0,9,     -999.0,9,  -0.4756
58GS20090528,        GIN,     223,          1,          6,20090603,       0834,    71.4170,     4.9180,       2993,   999.9,  -0.1130,  34.8960,2,  34.8968,2,   305.8,2,    7.67,2,   13.73,2,    0.01,2,    0.95,2,   4.631,2,   2.315,2,    2.12858326,2,  -999.0,9,  2300.3,2,     -999.0,9,     -999.0,9,  -0.1567
58GS20090528,        GIN,     223,          1,          7,20090603,       0834,    71.4170,     4.9180,       2993,   799.1,   0.8750,  34.9207,2,  34.9268,2,   305.7,2,    6.51,2,   13.31,2,    0.01,2,    0.92,2,   5.372,2,   2.779,2,    1.86494274,2,  -999.0,9,  2301.7,2,     -999.0,9,     -999.0,9,   0.8350
58GS20090528,        GIN,     223,          1,          8,20090603,       0834,    71.4170,     4.9180,       2993,   599.2,   3.5570,  35.0610,2,  35.0646,2,   302.1,2,    5.03,2,   11.95,2,    0.01,2,    0.81,2,   5.206,2,   2.803,2,    2.39293844,2,  -999.0,9,  2304.6,3,     -999.0,9,     -999.0,9,   3.5150
58GS20090528,        GIN,     223,          1,          9,20090603,       0834,    71.4170,     4.9180,       2993,   499.8,   4.2360,  35.1162,2,  35.1097,2,   303.7,2,    4.77,2,   11.55,2,    0.02,2,    0.78,2,-999.000,9,-999.000,9,-999.000000000,9,  -999.0,9,  2312.1,2,     -999.0,9,     -999.0,9,   4.1986
58GS20090528,        GIN,     223,          1,         10,20090603,       0834,    71.4170,     4.9180,       2993,   400.1,   4.4170,  35.1256,2,  35.1210,2,   302.4,2,    4.75,2,   11.48,2,    0.02,2,    0.78,2,-999.000,9,-999.000,9,-999.000000000,9,  -999.0,9,  -999.0,9,     -999.0,9,     -999.0,9,   4.3868
58GS20090528,        GIN,     223,          1,         11,20090603,       0834,    71.4170,     4.9180,       2993,   299.6,   4.5690,  35.1347,2,  35.1294,2,   302.4,2,    4.71,2,   11.35,2,    0.03,2,    0.77,2,   5.046,2,   2.742,2,    2.49295171,2,  -999.0,9,  2308.3,3,     -999.0,9,     -999.0,9,   4.5463
58GS20090528,        GIN,     223,          1,         12,20090603,       0834,    71.4170,     4.9180,       2993,   200.2,   4.8070,  35.1430,2,  35.1392,2,   300.3,2,    4.75,2,   11.42,2,    0.10,2,    0.78,2,-999.000,9,-999.000,9,-999.000000000,9,  -999.0,9,  2314.5,2,     -999.0,9,     -999.0,9,   4.7916
58GS20090528,        GIN,     223,          1,         13,20090603,       0834,    71.4170,     4.9180,       2993,   149.7,   5.0210,  35.1518,2,-999.0000,9,   299.2,2,    4.77,2,   11.36,2,    0.06,2,    0.78,2,-999.000,9,-999.000,9,-999.000000000,9,  -999.0,9,  2317.1,2,     -999.0,9,     -999.0,9,   5.0093
58GS20090528,        GIN,     223,          1,         14,20090603,       0834,    71.4170,     4.9180,       2993,   124.6,   5.0770,  35.1514,2,  35.1429,2,  -999.0,9,    4.77,2,   11.40,2,    0.07,2,    0.78,2,-999.000,9,-999.000,9,-999.000000000,9,  -999.0,9,  -999.0,9,     -999.0,9,     -999.0,9,   5.0672
58GS20090528,        GIN,     223,          1,         15,20090603,       0834,    71.4170,     4.9180,       2993,   100.2,   5.1480,  35.1547,2,  35.1495,2,   298.9,2,    4.79,2,   11.20,2,    0.17,2,    0.77,2,-999.000,9,-999.000,9,-999.000000000,9,  -999.0,9,  2316.5,2,       0.02,2,       0.15,2,   5.1401
58GS20090528,        GIN,     223,          1,         16,20090603,       0834,    71.4170,     4.9180,       2993,    74.0,   5.3080,  35.1587,2,  35.1526,2,   299.5,2,    4.77,2,   10.97,2,    0.26,2,    0.77,2,-999.000,9,-999.000,9,-999.000000000,9,  -999.0,9,  2319.5,2,       0.04,2,       0.18,2,   5.3021
58GS20090528,        GIN,     223,          1,         17,20090603,       0834,    71.4170,     4.9180,       2993,    50.0,   5.6300,  35.1601,2,  35.1561,2,   304.5,2,    4.64,2,    8.72,2,    0.20,2,    0.67,2,-999.000,9,-999.000,9,-999.000000000,9,  -999.0,9,  2313.5,2,       0.18,2,       0.21,2,   5.6259
58GS20090528,        GIN,     223,          1,         18,20090603,       0834,    71.4170,     4.9180,       2993,    50.2,   5.7260,  35.1600,2,  35.1565,2,  -999.0,9, -999.00,9, -999.00,9, -999.00,9, -999.00,9,-999.000,9,-999.000,9,-999.000000000,9,  -999.0,9,  -999.0,9,     -999.0,9,     -999.0,9,   5.7218
58GS20090528,        GIN,     223,          1,         19,20090603,       0834,    71.4170,     4.9180,       2993,    30.5,   6.4230,  35.1704,2,  35.1669,2,   310.4,2,    4.15,2,    5.79,2,    0.09,2,    0.47,2,-999.000,9,-999.000,9,-999.000000000,9,  -999.0,9,  2321.2,2,       0.84,2,       0.38,2,   6.4203
58GS20090528,        GIN,     223,          1,         20,20090603,       0834,    71.4170,     4.9180,       2993,    19.9,   6.4630,  35.1763,2,  35.1719,2,   310.4,2,    4.12,2,    5.69,2,    0.09,2,    0.46,2,-999.000,9,-999.000,9,-999.000000000,9,  -999.0,9,  -999.0,9,       0.95,2,       0.36,2,   6.4612
58GS20090528,        GIN,     223,          1,         21,20090603,       0834,    71.4170,     4.9180,       2993,    20.1,   6.5070,  35.1774,2,  35.1695,2,  -999.0,9, -999.00,9, -999.00,9, -999.00,9, -999.00,9,-999.000,9,-999.000,9,-999.000000000,9,  -999.0,9,  -999.0,9,     -999.0,9,     -999.0,9,   6.5052
58GS20090528,        GIN,     223,          1,         22,20090603,       0834,    71.4170,     4.9180,       2993,     9.2,   6.5370,  35.1786,2,  35.1734,2,  -999.0,9,    4.11,2,    5.61,2,    0.09,2,    0.45,2,-999.000,9,-999.000,9,-999.000000000,9,  -999.0,9,  -999.0,9,       1.06,2,       0.38,2,   6.5362
58GS20090528,        GIN,     223,          1,         23,20090603,       0834,    71.4170,     4.9180,       2993,     5.4,   6.5420,  35.1788,2,-999.0000,9,   310.9,2,    4.12,2,    5.61,2,    0.09,2,    0.45,2,-999.000,9,-999.000,9,-999.000000000,9,  -999.0,9,  2318.1,2,       1.30,2,       0.41,2,   6.5415
58GS20090528,        GIN,     223,          1,         24,20090603,       0834,    71.4170,     4.9180,       2993,     5.9,   6.5400,  35.1787,2,-999.0000,9,  -999.0,9, -999.00,9, -999.00,9, -999.00,9, -999.00,9,-999.000,9,-999.000,9,-999.000000000,9,  -999.0,9,  -999.0,9,     -999.0,9,     -999.0,9,   6.5395