BOTTLE,20150327CCHSIORJL
EXPOCODE,SECT_ID,STNNBR,CASTNO,BTLNBR,DATE,TIME,LATITUDE,LONGITUDE,DEPTH,CTDPRS,CTDTMP,CTDSAL,CTDSAL_FLAG_W,SALNTY,SALNTY_FLAG_W,OXYGEN,OXYGEN_FLAG_W,SILCAT,SILCAT_FLAG_W,NITRAT,NITRAT_FLAG_W,NITRIT,NITRIT_FLAG_W,PHSPHT,PHSPHT_FLAG_W,CFC-11,CFC-11_FLAG_W,CFC-12,CFC-12_FLAG_W,SF6,SF6_FLAG_W,TCARBN,TCARBN_FLAG_W,ALKALI,ALKALI_FLAG_W,CHLORA,CHLORA_FLAG_W,PPHYTN,PPHYTN_FLAG_W,THETA
,,,,,,,,,METERS,DBAR,ITS-90,PSS-78,,PSS-78,,UMOL/KG,,UMOL/KG,,UMOL/KG,,UMOL/KG,,UMOL/KG,,PMOL/KG,,PMOL/KG,,FMOL/KG,,UMOL/KG,,UMOL/KG,,MG/M^3,,MG/M^3,,DEG C
58GS20090528,        GIN,     276,          1,          1,20090617,       0040,    78.7480,     2.5600,       3069,  2498.6,  -0.7980,  34.9122,2,  34.9181,2,   297.8,2,   12.38,2,   14.70,2,    0.01,2,    1.01,2,   0.622,2,   0.320,2,             0,2,  2161.6,2,  2310.6,2,     -999.0,9,     -999.0,9,  -0.9262
58GS20090528,        GIN,     276,          1,          2,20090617,       0040,    78.7480,     2.5600,       3069,  2000.8,  -0.7140,  34.9128,2,  34.9187,2,   297.4,2,   11.52,2,   14.51,2,    0.01,2,    1.00,2,   0.875,2,   0.394,2,             0,2,  2162.2,2,  2309.7,2,     -999.0,9,     -999.0,9,  -0.8094
58GS20090528,        GIN,     276,          1,          3,20090617,       0040,    78.7480,     2.5600,       3069,  1500.4,  -0.5940,  34.9046,2,  34.9090,2,   302.6,2,    9.87,2,   13.95,2,    0.01,2,    0.97,2,-999.000,9,-999.000,9,-999.000000000,9,  2162.7,2,  2308.8,2,     -999.0,9,     -999.0,9,  -0.6604
58GS20090528,        GIN,     276,          1,          4,20090617,       0040,    78.7480,     2.5600,       3069,  1200.1,  -0.4550,  34.9010,2,  34.9097,2,   318.8,2,    7.49,2,   13.18,2,    0.01,2,    0.91,2,   4.740,2,   2.158,2,    1.81827904,2,  2166.9,2,  2308.1,2,     -999.0,9,     -999.0,9,  -0.5063
58GS20090528,        GIN,     276,          1,          5,20090617,       0040,    78.7480,     2.5600,       3069,  1000.4,  -0.2290,  34.9108,2,  34.9162,2,   318.0,2,    7.17,2,   13.10,2,    0.01,2,    0.90,2,   4.959,2,   2.248,2,    1.42523808,2,  2166.1,2,  2309.2,2,     -999.0,9,     -999.0,9,  -0.2718
58GS20090528,        GIN,     276,          1,          6,20090617,       0040,    78.7480,     2.5600,       3069,   800.9,   0.2810,  34.9417,2,  34.9505,2,   321.4,2,    6.29,2,   12.51,2,    0.02,2,    0.86,2,   5.499,2,   2.486,2,    2.06124752,2,  2162.7,2,  2311.7,2,     -999.0,9,     -999.0,9,   0.2447
58GS20090528,        GIN,     276,          1,          7,20090617,       0040,    78.7480,     2.5600,       3069,   599.8,   0.7290,  34.9510,2,  34.9541,2,   315.4,2,    6.09,2,   12.34,2,    0.02,2,    0.85,2,   5.364,2,   2.427,2,    1.40533525,2,  2162.8,2,  2311.6,2,     -999.0,9,     -999.0,9,   0.7007
58GS20090528,        GIN,     276,          1,          8,20090617,       0040,    78.7480,     2.5600,       3069,   500.3,   0.6280,  34.9155,2,  34.9203,2,   307.3,2,    6.26,2,   12.22,2,    0.02,2,    0.84,2,-999.000,9,-999.000,9,-999.000000000,9,  2158.9,2,  2311.6,2,     -999.0,9,     -999.0,9,   0.6053
58GS20090528,        GIN,     276,          1,          9,20090617,       0040,    78.7480,     2.5600,       3069,   400.7,   1.2440,  34.9546,2,  34.9584,2,   310.2,2,    5.76,2,   12.01,2,    0.02,2,    0.82,2,   5.261,2,   2.334,2,    1.29661633,2,  2158.2,2,  2310.8,2,     -999.0,9,     -999.0,9,   1.2241
58GS20090528,        GIN,     276,          1,         10,20090617,       0040,    78.7480,     2.5600,       3069,   300.3,   1.5370,  34.9588,2,  34.9607,2,   306.9,2,    5.71,2,   11.86,2,    0.02,2,    0.83,2,-999.000,9,-999.000,9,-999.000000000,9,  2156.4,2,  2311.8,2,     -999.0,9,     -999.0,9,   1.5216
58GS20090528,        GIN,     276,          1,         11,20090617,       0040,    78.7480,     2.5600,       3069,   199.8,   2.6170,  35.0425,2,  35.0428,2,   314.0,2,    5.00,2,   11.51,2,    0.09,2,    0.79,2,   5.534,2,   2.679,2,    1.89355864,2,  2154.8,2,  2318.4,2,     -999.0,9,     -999.0,9,   2.6051
58GS20090528,        GIN,     276,          1,         12,20090617,       0040,    78.7480,     2.5600,       3069,   150.1,   2.3150,  34.9849,2,  34.9871,2,   308.1,2,    5.18,2,   11.60,2,    0.06,2,    0.80,2,-999.000,9,-999.000,9,-999.000000000,9,  2154.4,2,  2311.0,2,     -999.0,9,     -999.0,9,   2.3065
58GS20090528,        GIN,     276,          1,         13,20090617,       0040,    78.7480,     2.5600,       3069,   125.0,   2.7370,  35.0132,2,  35.0156,2,   318.6,2,    4.78,2,   10.39,2,    0.12,2,    0.74,2,-999.000,9,-999.000,9,-999.000000000,9,  2148.7,2,  2316.9,2,     -999.0,9,     -999.0,9,   2.7295
58GS20090528,        GIN,     276,          1,         14,20090617,       0040,    78.7480,     2.5600,       3069,    99.9,   3.3070,  35.0290,2,  35.0307,2,   321.4,2,    4.49,2,    9.09,2,    0.13,2,    0.70,2,   5.506,2,   2.741,2,    2.23523607,2,  2143.9,2,  2317.9,2,       0.14,2,       0.18,2,   3.3006
58GS20090528,        GIN,     276,          1,         15,20090617,       0040,    78.7480,     2.5600,       3069,    74.9,   3.7410,  35.0562,2,  35.0556,2,   323.6,2,    4.23,2,    8.22,2,    0.12,2,    0.64,2,-999.000,9,-999.000,9,-999.000000000,9,  2138.8,2,  2320.2,2,       0.17,2,       0.24,2,   3.7359
58GS20090528,        GIN,     276,          1,         16,20090617,       0040,    78.7480,     2.5600,       3069,    75.1,   3.7470,  35.0585,2,-999.0000,9,  -999.0,9, -999.00,9, -999.00,9, -999.00,9, -999.00,9,-999.000,9,-999.000,9,-999.000000000,9,  -999.0,9,  -999.0,9,     -999.0,9,     -999.0,9,   3.7419
58GS20090528,        GIN,     276,          1,         17,20090617,       0040,    78.7480,     2.5600,       3069,    50.5,   3.9680,  35.0675,2,  35.0719,2,   322.0,2,    4.08,2,    7.84,2,    0.12,2,    0.61,2,   5.911,2,   2.789,2,    2.13249496,2,  2138.5,2,  2321.1,2,       0.21,2,       0.29,2,   3.9645
58GS20090528,        GIN,     276,          1,         18,20090617,       0040,    78.7480,     2.5600,       3069,    50.6,   3.9640,  35.0673,2,-999.0000,9,  -999.0,9, -999.00,9, -999.00,9, -999.00,9, -999.00,9,-999.000,9,-999.000,9,-999.000000000,9,  -999.0,9,  -999.0,9,     -999.0,9,     -999.0,9,   3.9605
58GS20090528,        GIN,     276,          1,         19,20090617,       0040,    78.7480,     2.5600,       3069,    24.0,   3.5900,  34.9553,2,  35.9845,4,   332.9,2,    3.98,2,    6.53,2,    0.10,2,    0.59,2,-999.000,9,-999.000,9,-999.000000000,9,  2125.7,2,  2274.6,3,       1.20,2,       0.36,2,   3.5884
58GS20090528,        GIN,     276,          1,         20,20090617,       0040,    78.7480,     2.5600,       3069,    24.2,   3.4960,  34.9175,2,-999.0000,9,  -999.0,9, -999.00,9, -999.00,9, -999.00,9, -999.00,9,-999.000,9,-999.000,9,-999.000000000,9,  -999.0,9,  -999.0,9,     -999.0,9,     -999.0,9,   3.4944
58GS20090528,        GIN,     276,          1,         21,20090617,       0040,    78.7480,     2.5600,       3069,     9.3,   1.6010,  33.9844,2,  34.2963,2,   353.0,2,    3.55,2,    4.32,2,    0.10,2,    0.46,2,   6.289,2,   2.990,2,    2.38233297,2,  2074.6,2,  2318.2,3,       2.92,2,       0.32,2,   1.6006
58GS20090528,        GIN,     276,          1,         22,20090617,       0040,    78.7480,     2.5600,       3069,     9.5,   1.4680,  33.8587,2,-999.0000,9,  -999.0,9, -999.00,9, -999.00,9, -999.00,9, -999.00,9,-999.000,9,-999.000,9,-999.000000000,9,  -999.0,9,  -999.0,9,     -999.0,9,     -999.0,9,   1.4676
58GS20090528,        GIN,     276,          1,         23,20090617,       0040,    78.7480,     2.5600,       3069,     4.3,   1.0770,  33.6549,2,  33.5325,2,   355.5,2,    3.33,2,    3.65,2,    0.08,2,    0.41,2,-999.000,9,-999.000,9,-999.000000000,9,  -999.0,9,  -999.0,9,       2.61,2,       0.42,2,   1.0768
58GS20090528,        GIN,     276,          1,         24,20090617,       0040,    78.7480,     2.5600,       3069,     4.8,   0.6130,  33.3607,2,-999.0000,9,  -999.0,9, -999.00,9, -999.00,9, -999.00,9, -999.00,9,-999.000,9,-999.000,9,-999.000000000,9,  -999.0,9,  -999.0,9,     -999.0,9,     -999.0,9,   0.6128
58GS20090528,        GIN,     277,          1,          1,20090617,       1053,    78.8000,    -0.0030,       2589,    24.9,   3.3640,  34.7280,2,-999.0000,9,  -999.0,9, -999.00,9, -999.00,9, -999.00,9, -999.00,9,-999.000,9,-999.000,9,-999.000000000,9,  -999.0,9,  -999.0,9,     -999.0,9,     -999.0,9,   3.3624
58GS20090528,        GIN,     277,          1,          2,20090617,       1053,    78.8000,    -0.0030,       2589,    25.0,   3.3270,  34.7105,2,-999.0000,9,  -999.0,9, -999.00,9, -999.00,9, -999.00,9, -999.00,9,-999.000,9,-999.000,9,-999.000000000,9,  -999.0,9,  -999.0,9,     -999.0,9,     -999.0,9,   3.3254
58GS20090528,        GIN,     277,          1,          3,20090617,       1053,    78.8000,    -0.0030,       2589,    24.9,   3.3420,  34.7112,2,-999.0000,9,  -999.0,9, -999.00,9, -999.00,9, -999.00,9, -999.00,9,-999.000,9,-999.000,9,-999.000000000,9,  -999.0,9,  -999.0,9,     -999.0,9,     -999.0,9,   3.3404
58GS20090528,        GIN,     277,          1,          4,20090617,       1053,    78.8000,    -0.0030,       2589,    18.5,   3.1270,  34.6109,2,-999.0000,9,  -999.0,9, -999.00,9, -999.00,9, -999.00,9, -999.00,9,-999.000,9,-999.000,9,-999.000000000,9,  -999.0,9,  -999.0,9,     -999.0,9,     -999.0,9,   3.1259
58GS20090528,        GIN,     277,          1,          5,20090617,       1053,    78.8000,    -0.0030,       2589,    18.6,   3.1490,  34.6173,2,-999.0000,9,  -999.0,9, -999.00,9, -999.00,9, -999.00,9, -999.00,9,-999.000,9,-999.000,9,-999.000000000,9,  -999.0,9,  -999.0,9,     -999.0,9,     -999.0,9,   3.1479
58GS20090528,        GIN,     277,          1,          6,20090617,       1053,    78.8000,    -0.0030,       2589,    18.6,   3.1610,  34.6166,2,-999.0000,9,  -999.0,9, -999.00,9, -999.00,9, -999.00,9, -999.00,9,-999.000,9,-999.000,9,-999.000000000,9,  -999.0,9,  -999.0,9,     -999.0,9,     -999.0,9,   3.1599
58GS20090528,        GIN,     277,          1,          7,20090617,       1053,    78.8000,    -0.0030,       2589,     5.1,   2.9600,  34.5753,2,-999.0000,9,  -999.0,9, -999.00,9, -999.00,9, -999.00,9, -999.00,9,-999.000,9,-999.000,9,-999.000000000,9,  -999.0,9,  -999.0,9,     -999.0,9,     -999.0,9,   2.9597
58GS20090528,        GIN,     277,          1,          8,20090617,       1053,    78.8000,    -0.0030,       2589,     5.1,   2.9560,  34.5743,2,-999.0000,9,  -999.0,9, -999.00,9, -999.00,9, -999.00,9, -999.00,9,-999.000,9,-999.000,9,-999.000000000,9,  -999.0,9,  -999.0,9,     -999.0,9,     -999.0,9,   2.9557
58GS20090528,        GIN,     277,          1,          9,20090617,       1053,    78.8000,    -0.0030,       2589,     4.9,   2.9600,  34.5754,2,-999.0000,9,  -999.0,9, -999.00,9, -999.00,9, -999.00,9, -999.00,9,-999.000,9,-999.000,9,-999.000000000,9,  -999.0,9,  -999.0,9,     -999.0,9,     -999.0,9,   2.9597
58GS20090528,        GIN,     278,          1,          1,20090617,       1116,    78.8000,    -0.0030,       2589,  2499.4,  -0.7840,  34.9125,2,  34.9151,2,   302.0,2,   12.43,2,   14.82,2,    0.01,2,    1.01,2,   0.759,2,   0.338,2,             0,2,  2160.7,2,  2311.7,2,     -999.0,9,     -999.0,9,  -0.9125
58GS20090528,        GIN,     278,          1,          2,20090617,       1116,    78.8000,    -0.0030,       2589,  2000.3,  -0.7780,  34.9069,2,  34.9093,2,   297.3,2,   12.10,2,   14.78,2,    0.01,2,    1.01,2,   1.244,2,   0.489,2,   0.672612505,2,  2160.3,2,  2310.2,2,     -999.0,9,     -999.0,9,  -0.8723
58GS20090528,        GIN,     278,          1,          3,20090617,       1116,    78.8000,    -0.0030,       2589,  1500.2,  -0.6500,  34.9008,2,  34.9017,2,   303.6,2,   10.00,2,   14.16,2,    0.01,2,    0.97,2,   2.930,2,   1.069,2,    1.87703681,2,  2164.4,2,  2309.4,2,     -999.0,9,     -999.0,9,  -0.7157
58GS20090528,        GIN,     278,          1,          4,20090617,       1116,    78.8000,    -0.0030,       2589,  1200.0,  -0.4460,  34.8999,2,  34.9023,2,  -999.0,9,    7.72,2,   13.42,2,    0.01,2,    0.93,2,   5.351,2,   1.853,2,    2.47816971,2,  -999.0,9,  -999.0,9,     -999.0,9,     -999.0,9,  -0.4973
58GS20090528,        GIN,     278,          1,          5,20090617,       1116,    78.8000,    -0.0030,       2589,   999.8,  -0.1170,  34.9148,2,  34.9169,2,   316.7,2,    7.15,2,   13.13,2,    0.01,2,    0.91,2,   5.502,2,   2.028,2,    3.42300088,2,  2163.1,2,  2307.0,2,     -999.0,9,     -999.0,9,  -0.1607
58GS20090528,        GIN,     278,          1,          6,20090617,       1116,    78.8000,    -0.0030,       2589,   800.4,   0.4150,  34.9433,2,  34.9453,2,   319.4,2,    6.32,2,   12.68,2,    0.02,2,    0.87,2,   5.961,2,   2.233,2,    3.89636644,2,  2160.2,2,  2309.4,2,     -999.0,9,     -999.0,9,   0.3779
58GS20090528,        GIN,     278,          1,          7,20090617,       1116,    78.8000,    -0.0030,       2589,   599.7,   1.2700,  34.9758,2,  34.9766,2,   314.1,2,    5.71,2,   11.98,2,    0.03,2,    0.84,2,   6.004,2,   2.216,2,    5.30668435,2,  2157.2,2,  2311.8,2,     -999.0,9,     -999.0,9,   1.2390
58GS20090528,        GIN,     278,          1,          8,20090617,       1116,    78.8000,    -0.0030,       2589,   500.3,   1.8900,  35.0034,2,  35.0053,2,   311.8,2,    5.48,2,   12.14,2,    0.02,2,    0.84,2,-999.000,9,-999.000,9,-999.000000000,9,  2156.4,2,  2315.0,3,     -999.0,9,     -999.0,9,   1.8620
58GS20090528,        GIN,     278,          1,          9,20090617,       1116,    78.8000,    -0.0030,       2589,   400.1,   2.4320,  35.0392,2,  35.0426,2,   312.8,2,    5.04,2,   11.88,2,    0.01,2,    0.81,2,   6.173,2,   2.290,2,    3.89951961,2,  2154.5,2,  2316.1,2,     -999.0,9,     -999.0,9,   2.4082
58GS20090528,        GIN,     278,          1,         10,20090617,       1116,    78.8000,    -0.0030,       2589,   300.3,   2.6480,  35.0280,2,  35.0259,2,   310.5,2,    5.06,2,   11.82,2,    0.02,2,    0.81,2,-999.000,9,-999.000,9,-999.000000000,9,  2154.8,2,  2317.9,2,     -999.0,9,     -999.0,9,   2.6299
58GS20090528,        GIN,     278,          1,         11,20090617,       1116,    78.8000,    -0.0030,       2589,   200.5,   3.2550,  35.0428,2,  35.0488,2,   307.7,2,    4.90,2,   11.56,2,    0.04,2,    0.79,2,   6.094,2,   2.309,2,    4.48507821,2,  2150.3,2,  2316.4,2,     -999.0,9,     -999.0,9,   3.2421
58GS20090528,        GIN,     278,          1,         12,20090617,       1116,    78.8000,    -0.0030,       2589,   150.4,   3.5840,  35.0527,2,  35.0528,2,   307.0,2,    4.80,2,   11.30,2,    0.07,2,    0.78,2,-999.000,9,-999.000,9,-999.000000000,9,  2149.2,2,  2314.3,2,     -999.0,9,     -999.0,9,   3.5740
58GS20090528,        GIN,     278,          1,         13,20090617,       1116,    78.8000,    -0.0030,       2589,   124.8,   3.4350,  35.0143,2,  35.0234,2,  -999.0,9,    4.77,2,   11.33,2,    0.04,2,    0.78,2,-999.000,9,-999.000,9,-999.000000000,9,  -999.0,9,  -999.0,9,     -999.0,9,     -999.0,9,   3.4268
58GS20090528,        GIN,     278,          1,         14,20090617,       1116,    78.8000,    -0.0030,       2589,   100.4,   3.7490,  35.0268,2,  35.0217,2,   308.2,2,    4.64,2,   10.91,2,    0.14,2,    0.74,2,   6.005,2,   2.284,2,    4.48205889,2,  2145.8,2,  2314.9,2,       0.05,2,       0.15,2,   3.7422
58GS20090528,        GIN,     278,          1,         15,20090617,       1116,    78.8000,    -0.0030,       2589,    75.0,   3.8730,  35.0314,2,  35.0288,2,   308.9,2,    4.48,2,   10.34,2,    0.23,2,    0.73,2,-999.000,9,-999.000,9,-999.000000000,9,  2144.0,2,  2317.4,2,       0.08,2,       0.16,2,   3.8679
58GS20090528,        GIN,     278,          1,         16,20090617,       1116,    78.8000,    -0.0030,       2589,    75.2,   4.0460,  35.0485,2,  35.0301,2,  -999.0,9, -999.00,9, -999.00,9, -999.00,9, -999.00,9,-999.000,9,-999.000,9,-999.000000000,9,  -999.0,9,  -999.0,9,     -999.0,9,     -999.0,9,   4.0408
58GS20090528,        GIN,     278,          1,         17,20090617,       1116,    78.8000,    -0.0030,       2589,    50.3,   4.6780,  35.0799,2,  35.0801,2,   321.2,2,    3.88,2,    6.96,2,    0.12,2,    0.54,2,   5.912,2,   2.287,2,    4.37838471,2,  2128.3,2,  2326.7,3,       0.28,2,       0.29,2,   4.6742
58GS20090528,        GIN,     278,          1,         18,20090617,       1116,    78.8000,    -0.0030,       2589,    50.2,   4.6690,  35.0798,2,  35.0800,2,  -999.0,9, -999.00,9, -999.00,9, -999.00,9, -999.00,9,-999.000,9,-999.000,9,-999.000000000,9,  -999.0,9,  -999.0,9,     -999.0,9,     -999.0,9,   4.6652
58GS20090528,        GIN,     278,          1,         19,20090617,       1116,    78.8000,    -0.0030,       2589,    24.6,   3.9980,  34.8773,2,  34.8862,2,   334.6,2,    3.70,2,    5.61,2,    0.09,2,    0.49,2,   5.988,2,   2.324,2,    3.99209206,2,  2109.2,2,  -999.0,9,       1.92,2,       0.38,2,   3.9963
58GS20090528,        GIN,     278,          1,         20,20090617,       1116,    78.8000,    -0.0030,       2589,    24.8,   3.9680,  34.8631,2,  34.7238,2,  -999.0,9, -999.00,9, -999.00,9, -999.00,9, -999.00,9,-999.000,9,-999.000,9,-999.000000000,9,  -999.0,9,  -999.0,9,     -999.0,9,     -999.0,9,   3.9663
58GS20090528,        GIN,     278,          1,         21,20090617,       1116,    78.8000,    -0.0030,       2589,    10.9,   3.5700,  34.7157,2,  34.7255,2,  -999.0,9,    3.54,2,    4.98,2,    0.08,2,    0.42,2,-999.000,9,-999.000,9,-999.000000000,9,  -999.0,9,  -999.0,9,       1.91,2,       0.36,2,   3.5693
58GS20090528,        GIN,     278,          1,         22,20090617,       1116,    78.8000,    -0.0030,       2589,    10.9,   3.5730,  34.7170,2,  34.7121,2,  -999.0,9, -999.00,9, -999.00,9, -999.00,9, -999.00,9,-999.000,9,-999.000,9,-999.000000000,9,  -999.0,9,  -999.0,9,     -999.0,9,     -999.0,9,   3.5723
58GS20090528,        GIN,     278,          1,         23,20090617,       1116,    78.8000,    -0.0030,       2589,     5.0,   3.5600,  34.7122,2,-999.0000,9,   340.0,2,    3.54,2,    4.94,2,    0.08,2,    0.43,2,   6.091,2,   2.348,2,    3.94712904,2,  2097.2,2,  2620.3,4,       2.23,2,       0.46,2,   3.5597
58GS20090528,        GIN,     278,          1,         24,20090617,       1116,    78.8000,    -0.0030,       2589,     5.0,   3.5790,  34.7138,2,-999.0000,9,  -999.0,9, -999.00,9, -999.00,9, -999.00,9, -999.00,9,-999.000,9,-999.000,9,-999.000000000,9,  -999.0,9,  -999.0,9,     -999.0,9,     -999.0,9,   3.5787