BOTTLE,20150327CCHSIORJL
EXPOCODE,SECT_ID,STNNBR,CASTNO,BTLNBR,DATE,TIME,LATITUDE,LONGITUDE,DEPTH,CTDPRS,CTDTMP,CTDSAL,CTDSAL_FLAG_W,SALNTY,SALNTY_FLAG_W,OXYGEN,OXYGEN_FLAG_W,SILCAT,SILCAT_FLAG_W,NITRAT,NITRAT_FLAG_W,NITRIT,NITRIT_FLAG_W,PHSPHT,PHSPHT_FLAG_W,CFC-11,CFC-11_FLAG_W,CFC-12,CFC-12_FLAG_W,SF6,SF6_FLAG_W,TCARBN,TCARBN_FLAG_W,ALKALI,ALKALI_FLAG_W,CHLORA,CHLORA_FLAG_W,PPHYTN,PPHYTN_FLAG_W,THETA
,,,,,,,,,METERS,DBAR,ITS-90,PSS-78,,PSS-78,,UMOL/KG,,UMOL/KG,,UMOL/KG,,UMOL/KG,,UMOL/KG,,PMOL/KG,,PMOL/KG,,FMOL/KG,,UMOL/KG,,UMOL/KG,,MG/M^3,,MG/M^3,,DEG C
58GS20090528,        GIN,     339,          1,          1,20090704,       1049,    70.0060,     1.3330,       3220,  3209.7,  -0.7970,  34.9060,2,  34.9108,2,   295.4,2,   14.03,2,   15.23,2,    0.01,2,    1.04,2,-999.000,9,   0.300,2,   0.083991124,2,  2164.1,2,  2305.4,2,     -999.0,9,     -999.0,9,  -0.9808
58GS20090528,        GIN,     339,          1,          2,20090704,       1049,    70.0060,     1.3330,       3220,  2998.9,  -0.7980,  34.9061,2,  34.9096,2,   295.7,2,   13.61,2,   15.10,2,    0.01,2,    1.03,2,-999.000,9,   0.331,2,   0.215389585,2,  2164.0,2,  -999.0,9,     -999.0,9,     -999.0,9,  -0.9645
58GS20090528,        GIN,     339,          1,          3,20090704,       1049,    70.0060,     1.3330,       3220,  2500.4,  -0.7970,  34.9060,2,  34.9119,2,   296.6,2,   12.65,2,   14.93,2,    0.01,2,    1.02,2,-999.000,9,   0.420,2,   0.313417179,2,  2161.4,2,  2304.6,2,     -999.0,9,     -999.0,9,  -0.9254
58GS20090528,        GIN,     339,          1,          4,20090704,       1049,    70.0060,     1.3330,       3220,  1999.5,  -0.7590,  34.9044,2,  34.9091,2,   297.4,2,   11.74,2,   14.70,2,    0.01,2,    1.01,2,-999.000,9,   0.608,2,   0.561978708,2,  2162.9,2,  -999.0,9,     -999.0,9,     -999.0,9,  -0.8536
58GS20090528,        GIN,     339,          1,          5,20090704,       1049,    70.0060,     1.3330,       3220,  1498.5,  -0.6170,  34.8974,2,  34.9006,2,   300.9,2,    9.95,2,   14.34,2,    0.01,2,    0.99,2,-999.000,9,   1.250,2,    1.90933528,2,  2163.7,2,  2302.4,2,     -999.0,9,     -999.0,9,  -0.6830
58GS20090528,        GIN,     339,          1,          6,20090704,       1049,    70.0060,     1.3330,       3220,  1498.4,  -0.6160,  34.8975,2,  34.9021,2,   300.9,2, -999.00,9, -999.00,9, -999.00,9, -999.00,9,-999.000,9,-999.000,9,-999.000000000,9,  2164.4,2,  2302.1,2,     -999.0,9,     -999.0,9,  -0.6820
58GS20090528,        GIN,     339,          1,          7,20090704,       1049,    70.0060,     1.3330,       3220,  1198.4,  -0.3770,  34.8930,2,  34.8996,2,   302.6,2,    8.51,2,   14.01,2,    0.01,2,    0.97,2,-999.000,9,   1.788,2,    1.57143845,2,  2165.6,2,  -999.0,9,     -999.0,9,     -999.0,9,  -0.4289
58GS20090528,        GIN,     339,          1,          8,20090704,       1049,    70.0060,     1.3330,       3220,   999.3,  -0.0590,  34.8924,2,  34.8983,2,   306.8,2,    6.55,2,   13.52,2,    0.01,2,    0.93,2,-999.000,9,   2.208,2,    1.47464737,2,  2167.2,2,  2300.8,2,     -999.0,9,     -999.0,9,  -0.1031
58GS20090528,        GIN,     339,          1,          9,20090704,       1049,    70.0060,     1.3330,       3220,   799.1,   1.1320,  34.9276,2,  34.9300,2,   305.6,2,    6.34,2,   13.32,2,    0.01,2,    0.92,2,-999.000,9,   2.613,2,    1.99395949,2,  2165.1,2,  -999.0,9,     -999.0,9,     -999.0,9,   1.0903
58GS20090528,        GIN,     339,          1,         10,20090704,       1049,    70.0060,     1.3330,       3220,   599.4,   4.2590,  35.1075,2,  35.1061,2,   301.9,2,    4.83,2,   11.71,2,    0.02,2,    0.80,2,-999.000,9,   2.582,2,     2.6129422,2,  2150.3,2,  2312.6,2,     -999.0,9,     -999.0,9,   4.2136
58GS20090528,        GIN,     339,          1,         11,20090704,       1049,    70.0060,     1.3330,       3220,   499.8,   4.5720,  35.1265,2,  35.1261,2,   300.5,2,    4.78,2,   11.64,2,    0.03,2,    0.80,2,-999.000,9,   2.610,2,    2.27517897,2,  2147.9,2,  -999.0,9,     -999.0,9,     -999.0,9,   4.5333
58GS20090528,        GIN,     339,          1,         12,20090704,       1049,    70.0060,     1.3330,       3220,   401.0,   4.7610,  35.1335,2,  35.1335,2,   300.2,2,    4.79,2,   11.63,2,    0.02,2,    0.79,2,-999.000,9,-999.000,9,-999.000000000,9,  2148.7,2,  2314.5,2,     -999.0,9,     -999.0,9,   4.7297
58GS20090528,        GIN,     339,          1,         13,20090704,       1049,    70.0060,     1.3330,       3220,   300.2,   5.0920,  35.1455,2,  35.1454,2,   297.0,2,    4.86,2,   11.69,2,    0.02,2,    0.79,2,-999.000,9,   2.536,2,    2.27404085,2,  2148.2,2,  -999.0,9,     -999.0,9,     -999.0,9,   5.0680
58GS20090528,        GIN,     339,          1,         14,20090704,       1049,    70.0060,     1.3330,       3220,   201.4,   5.5470,  35.1409,2,  35.1367,2,   292.0,2,    5.21,2,   12.10,2,    0.01,2,    0.81,2,-999.000,9,-999.000,9,-999.000000000,9,  2148.1,2,  2314.7,2,     -999.0,9,     -999.0,9,   5.5303
58GS20090528,        GIN,     339,          1,         15,20090704,       1049,    70.0060,     1.3330,       3220,   150.5,   6.2130,  35.1777,2,  35.1730,2,   287.1,2,    5.30,2,   12.35,2,    0.03,2,    0.83,2,-999.000,9,   2.436,2,    2.02329974,2,  2149.2,2,  2317.3,2,     -999.0,9,     -999.0,9,   6.1998
58GS20090528,        GIN,     339,          1,         16,20090704,       1049,    70.0060,     1.3330,       3220,   125.8,   6.5790,  35.2020,2,  35.1938,2,   284.4,2,    5.38,2,   12.29,2,    0.02,2,    0.81,2,-999.000,9,-999.000,9,-999.000000000,9,  2146.4,2,  2318.6,2,     -999.0,9,     -999.0,9,   6.5676
58GS20090528,        GIN,     339,          1,         17,20090704,       1049,    70.0060,     1.3330,       3220,   100.2,   6.9310,  35.2197,2,  35.2165,2,   281.6,2,    5.08,2,   11.95,2,    0.08,2,    0.80,2,-999.000,9,   2.323,2,    3.13391656,2,  2144.7,2,  2319.5,2,       0.03,2,       0.09,2,   6.9217
58GS20090528,        GIN,     339,          1,         18,20090704,       1049,    70.0060,     1.3330,       3220,    75.0,   7.4040,  35.2455,2,  35.2419,2,   280.7,2,    4.15,2,   10.68,2,    0.15,2,    0.75,2,-999.000,9,-999.000,9,-999.000000000,9,  2141.3,2,  2322.3,2,       0.10,2,       0.08,2,   7.3968
58GS20090528,        GIN,     339,          1,         19,20090704,       1049,    70.0060,     1.3330,       3220,    50.2,   7.7390,  35.2283,2,  35.2250,2,   291.8,2,    1.70,2,    6.46,2,    0.19,2,    0.55,2,-999.000,9,   2.308,2,     1.5527777,2,  2123.8,2,  2324.8,2,       0.26,2,       0.11,2,   7.7340
58GS20090528,        GIN,     339,          1,         20,20090704,       1049,    70.0060,     1.3330,       3220,    30.2,   8.7140,  35.2231,2,  35.2217,2,   299.4,2,    0.96,2,    4.10,2,    0.09,2,    0.35,2,-999.000,9,-999.000,9,-999.000000000,9,  2100.3,2,  2322.4,2,       0.33,2,       0.08,2,   8.7108
58GS20090528,        GIN,     339,          1,         21,20090704,       1049,    70.0060,     1.3330,       3220,    10.0,  10.3150,  35.2446,2,  35.2413,2,   297.2,2,    1.26,2,    3.61,2,    0.07,2,    0.25,2,-999.000,9,   2.173,2,    2.14821814,2,  2085.5,2,  2321.9,2,       0.94,2,       0.19,2,  10.3138
58GS20090528,        GIN,     339,          1,         22,20090704,       1049,    70.0060,     1.3330,       3220,     5.2,  10.3590,  35.2474,2,  35.2425,2,   296.6,2,    1.25,2,    3.61,2,    0.07,2,    0.27,2,-999.000,9,-999.000,9,-999.000000000,9,  2081.8,2,  2321.3,2,       0.88,2,       0.19,2,  10.3584
58GS20090528,        GIN,     340,          1,          1,20090704,       1739,    69.9970,    -0.6010,       3240,  3230.0,  -0.7920,  34.9063,2,  34.9110,2,   295.1,2,   14.19,2,   15.24,2,    0.01,2,    1.04,2,-999.000,9,-999.000,9,-999.000000000,9,  2163.9,2,  2306.0,2,     -999.0,9,     -999.0,9,  -0.9777
58GS20090528,        GIN,     340,          1,          2,20090704,       1739,    69.9970,    -0.6010,       3240,  3000.0,  -0.7960,  34.9065,2,  34.9102,2,   295.5,2,   13.81,2,   15.19,2,    0.02,2,    1.06,2,-999.000,9,-999.000,9,-999.000000000,9,  2164.5,2,  -999.0,9,     -999.0,9,     -999.0,9,  -0.9626
58GS20090528,        GIN,     340,          1,          3,20090704,       1739,    69.9970,    -0.6010,       3240,  2499.6,  -0.7960,  34.9066,2,  34.9099,2,   296.4,2,   12.86,2,   14.94,2,    0.02,2,    1.04,2,-999.000,9,-999.000,9,-999.000000000,9,  2162.4,2,  2304.4,2,     -999.0,9,     -999.0,9,  -0.9243
58GS20090528,        GIN,     340,          1,          4,20090704,       1739,    69.9970,    -0.6010,       3240,  1999.3,  -0.7530,  34.9045,2,  34.9090,2,   297.3,2,   11.73,2,   14.72,2,    0.02,2,    1.01,2,-999.000,9,-999.000,9,-999.000000000,9,  2166.1,2,  -999.0,9,     -999.0,9,     -999.0,9,  -0.8477
58GS20090528,        GIN,     340,          1,          5,20090704,       1739,    69.9970,    -0.6010,       3240,  1999.5,  -0.7530,  34.9045,2,  34.9083,2,   297.2,2, -999.00,9, -999.00,9, -999.00,9, -999.00,9,-999.000,9,-999.000,9,-999.000000000,9,  2163.2,2,  -999.0,9,     -999.0,9,     -999.0,9,  -0.8477
58GS20090528,        GIN,     340,          1,          6,20090704,       1739,    69.9970,    -0.6010,       3240,  1498.8,  -0.6120,  34.8977,2,  34.9038,2,   300.8,2,    9.98,2,   14.35,2,    0.02,2,    0.99,2,-999.000,9,-999.000,9,-999.000000000,9,  2165.2,2,  2299.6,2,     -999.0,9,     -999.0,9,  -0.6781
58GS20090528,        GIN,     340,          1,          7,20090704,       1739,    69.9970,    -0.6010,       3240,  1199.9,  -0.3700,  34.8933,2,  34.9008,2,   302.8,2,    8.53,2,   14.10,2,    0.02,2,    0.98,2,-999.000,9,-999.000,9,-999.000000000,9,  2166.4,2,  -999.0,9,     -999.0,9,     -999.0,9,  -0.4221
58GS20090528,        GIN,     340,          1,          8,20090704,       1739,    69.9970,    -0.6010,       3240,  1000.0,  -0.0440,  34.8928,2,  34.8999,2,   306.7,2,    7.39,2,   13.62,2,    0.01,2,    0.94,2,-999.000,9,-999.000,9,-999.000000000,9,  2167.3,2,  2301.4,2,     -999.0,9,     -999.0,9,  -0.0883
58GS20090528,        GIN,     340,          1,          9,20090704,       1739,    69.9970,    -0.6010,       3240,   799.3,   1.0510,  34.9240,2,  34.9291,2,   307.4,2,    6.21,2,   13.20,2,    0.02,2,    0.92,2,-999.000,9,-999.000,9,-999.000000000,9,  2165.5,2,  -999.0,9,     -999.0,9,     -999.0,9,   1.0098
58GS20090528,        GIN,     340,          1,         10,20090704,       1739,    69.9970,    -0.6010,       3240,   599.6,   4.0050,  35.0827,2,  35.0822,2,   301.3,2,    4.98,2,   11.99,2,    0.02,2,    0.83,2,-999.000,9,-999.000,9,-999.000000000,9,  2154.2,2,  2311.1,2,     -999.0,9,     -999.0,9,   3.9608
58GS20090528,        GIN,     340,          1,         11,20090704,       1739,    69.9970,    -0.6010,       3240,   499.8,   4.5200,  35.1238,2,  35.1222,2,   300.9,2,    4.80,2,   11.59,2,    0.02,2,    0.79,2,-999.000,9,-999.000,9,-999.000000000,9,  2150.7,2,  -999.0,9,     -999.0,9,     -999.0,9,   4.4815
58GS20090528,        GIN,     340,          1,         12,20090704,       1739,    69.9970,    -0.6010,       3240,   399.5,   4.7370,  35.1325,2,  35.1307,2,   299.3,2,    4.84,2,   11.71,2,    0.03,2,    0.81,2,-999.000,9,-999.000,9,-999.000000000,9,  2151.9,2,  2315.0,2,     -999.0,9,     -999.0,9,   4.7059
58GS20090528,        GIN,     340,          1,         13,20090704,       1739,    69.9970,    -0.6010,       3240,   300.1,   4.9740,  35.1394,2,  35.1384,2,   297.8,2,    4.83,2,   11.68,2,    0.02,2,    0.79,2,-999.000,9,-999.000,9,-999.000000000,9,  2148.7,2,  -999.0,9,     -999.0,9,     -999.0,9,   4.9503
58GS20090528,        GIN,     340,          1,         14,20090704,       1739,    69.9970,    -0.6010,       3240,   199.9,   5.3310,  35.1530,2,  35.1523,2,   295.0,2,    4.97,2,   11.91,2,    0.02,2,    0.80,2,-999.000,9,-999.000,9,-999.000000000,9,  2161.0,2,  2316.9,2,     -999.0,9,     -999.0,9,   5.3148
58GS20090528,        GIN,     340,          1,         15,20090704,       1739,    69.9970,    -0.6010,       3240,   150.3,   5.7310,  35.1561,2,  35.1578,2,   290.2,2,    5.08,2,   12.10,2,    0.03,2,    0.80,2,-999.000,9,-999.000,9,-999.000000000,9,  2148.7,2,  2315.6,2,     -999.0,9,     -999.0,9,   5.7184
58GS20090528,        GIN,     340,          1,         16,20090704,       1739,    69.9970,    -0.6010,       3240,   124.9,   6.1970,  35.1775,2,  35.1745,2,   286.7,2,    5.26,2,   12.16,2,    0.03,2,    0.82,2,-999.000,9,-999.000,9,-999.000000000,9,  2146.0,2,  2318.2,2,     -999.0,9,     -999.0,9,   6.1861
58GS20090528,        GIN,     340,          1,         17,20090704,       1739,    69.9970,    -0.6010,       3240,    99.9,   6.6030,  35.2020,2,  35.1989,2,   283.8,2,    5.33,2,   12.30,2,    0.02,2,    0.83,2,-999.000,9,-999.000,9,-999.000000000,9,  2147.1,2,  2318.5,2,       0.02,2,       0.10,2,   6.5940
58GS20090528,        GIN,     340,          1,         18,20090704,       1739,    69.9970,    -0.6010,       3240,    74.9,   7.0310,  35.2278,2,  35.2238,2,   281.1,2,    5.18,2,   12.09,2,    0.08,2,    0.81,2,-999.000,9,-999.000,9,-999.000000000,9,  2155.3,2,  2320.4,2,       0.05,2,       0.11,2,   7.0240
58GS20090528,        GIN,     340,          1,         19,20090704,       1739,    69.9970,    -0.6010,       3240,    49.8,   7.4200,  35.2455,2,  35.2427,2,   281.2,2,    4.10,2,   10.47,2,    0.16,2,    0.78,2,-999.000,9,-999.000,9,-999.000000000,9,  2139.3,2,  2322.3,2,       0.18,2,       0.06,2,   7.4152
58GS20090528,        GIN,     340,          1,         20,20090704,       1739,    69.9970,    -0.6010,       3240,    29.8,   7.8530,  35.2197,2,  35.2188,2,   292.8,2,    1.58,2,    6.16,2,    0.14,2,    0.53,2,-999.000,9,-999.000,9,-999.000000000,9,  2119.7,2,  2324.4,2,       0.34,2,       0.09,2,   7.8500
58GS20090528,        GIN,     340,          1,         21,20090704,       1739,    69.9970,    -0.6010,       3240,    10.1,  10.0910,  35.2398,2,  35.2396,2,   296.9,2,    1.22,2,    4.10,2,    0.10,2,    0.31,2,-999.000,9,-999.000,9,-999.000000000,9,  2091.7,2,  2323.1,2,       0.66,2,       0.13,2,  10.0898
58GS20090528,        GIN,     340,          1,         22,20090704,       1739,    69.9970,    -0.6010,       3240,     5.0,  10.2150,  35.2416,2,  35.2350,2,   297.7,2,    1.13,2,    3.47,2,    0.08,2,    0.25,2,-999.000,9,-999.000,9,-999.000000000,9,  2084.6,2,  2322.4,2,       0.81,2,       0.10,2,  10.2144