BOTTLE,20150327CCHSIORJL
EXPOCODE,SECT_ID,STNNBR,CASTNO,BTLNBR,DATE,TIME,LATITUDE,LONGITUDE,DEPTH,CTDPRS,CTDTMP,CTDSAL,CTDSAL_FLAG_W,SALNTY,SALNTY_FLAG_W,OXYGEN,OXYGEN_FLAG_W,SILCAT,SILCAT_FLAG_W,NITRAT,NITRAT_FLAG_W,NITRIT,NITRIT_FLAG_W,PHSPHT,PHSPHT_FLAG_W,CFC-11,CFC-11_FLAG_W,CFC-12,CFC-12_FLAG_W,SF6,SF6_FLAG_W,TCARBN,TCARBN_FLAG_W,ALKALI,ALKALI_FLAG_W,CHLORA,CHLORA_FLAG_W,PPHYTN,PPHYTN_FLAG_W,THETA
,,,,,,,,,METERS,DBAR,ITS-90,PSS-78,,PSS-78,,UMOL/KG,,UMOL/KG,,UMOL/KG,,UMOL/KG,,UMOL/KG,,PMOL/KG,,PMOL/KG,,FMOL/KG,,UMOL/KG,,UMOL/KG,,MG/M^3,,MG/M^3,,DEG C
58GS20090528,        GIN,     320,          1,          1,20090629,       0147,    71.5020,    19.8110,        378,   226.4,   6.2920,  35.1660,2,  35.1632,2,   280.4,2,    5.36,2,   12.38,2,    0.06,2,    0.83,2,-999.000,9,   2.388,2,    1.70097008,2,  2150.6,2,  2319.1,2,     -999.0,9,     -999.0,9,   6.2719
58GS20090528,        GIN,     320,          1,          2,20090629,       0147,    71.5020,    19.8110,        378,   198.3,   6.3970,  35.1677,2,  35.1652,2,   281.1,2,    5.17,2,   12.18,2,    0.05,2,    0.80,2,-999.000,9,-999.000,9,-999.000000000,9,  2149.4,2,  2320.3,2,     -999.0,9,     -999.0,9,   6.3793
58GS20090528,        GIN,     320,          1,          3,20090629,       0147,    71.5020,    19.8110,        378,   149.6,   6.4300,  35.0908,2,  35.0886,2,   283.9,2,    4.47,2,   11.19,2,    0.02,2,    0.74,2,-999.000,9,   2.400,2,    2.34629623,2,  2145.0,2,  2317.8,2,     -999.0,9,     -999.0,9,   6.4167
58GS20090528,        GIN,     320,          1,          4,20090629,       0147,    71.5020,    19.8110,        378,   124.1,   6.6180,  35.0595,2,  35.0579,2,  -999.0,9,    4.18,2,   10.78,2,    0.01,2,    0.72,2,-999.000,9,-999.000,9,-999.000000000,9,  -999.0,9,  -999.0,9,     -999.0,9,     -999.0,9,   6.6068
58GS20090528,        GIN,     320,          1,          5,20090629,       0147,    71.5020,    19.8110,        378,   100.0,   6.6380,  35.0180,2,  35.0160,2,   283.5,2,    4.05,2,   10.50,2,    0.04,2,    0.64,2,-999.000,9,   2.384,2,    2.13493205,2,  2139.5,2,  2316.5,2,       0.01,2,       0.20,2,   6.6290
58GS20090528,        GIN,     320,          1,          6,20090629,       0147,    71.5020,    19.8110,        378,    74.5,   7.1910,  34.9618,2,  34.9662,2,   281.6,2,    3.27,2,    9.19,2,    0.05,2,    0.64,2,-999.000,9,   2.375,2,    1.74516918,2,  2133.4,2,  2315.4,2,       0.02,2,       0.11,2,   7.1840
58GS20090528,        GIN,     320,          1,          7,20090629,       0147,    71.5020,    19.8110,        378,    49.5,   7.1090,  34.8211,2,  34.8734,2,   285.1,2,    3.05,2,    7.81,2,    0.12,2,    0.57,2,-999.000,9,   2.365,2,    2.56429867,2,  2129.1,2,  2314.3,2,       0.11,2,       0.15,2,   7.1044
58GS20090528,        GIN,     320,          1,          8,20090629,       0147,    71.5020,    19.8110,        378,    29.8,   7.4020,  34.7398,2,  34.7649,2,   288.5,2,    2.60,2,    5.55,2,    0.15,2,    0.48,2,-999.000,9,   2.359,2,    2.33588738,2,  2120.6,2,  2312.7,2,       0.12,2,       0.11,2,   7.3992
58GS20090528,        GIN,     320,          1,          9,20090629,       0147,    71.5020,    19.8110,        378,    28.9,   7.4000,  34.7221,2,-999.0000,9,  -999.0,9, -999.00,9, -999.00,9, -999.00,9, -999.00,9,-999.000,9,-999.000,9,-999.000000000,9,  -999.0,9,  -999.0,9,     -999.0,9,     -999.0,9,   7.3973
58GS20090528,        GIN,     320,          1,         10,20090629,       0147,    71.5020,    19.8110,        378,    19.5,   7.8470,  34.5403,2,  34.6377,2,  -999.0,9,    2.02,2,    3.25,2,    0.12,2,    0.33,2,-999.000,9,-999.000,9,-999.000000000,9,  -999.0,9,  -999.0,9,       0.50,2,       0.18,2,   7.8451
58GS20090528,        GIN,     320,          1,         11,20090629,       0147,    71.5020,    19.8110,        378,    13.9,   8.1600,  34.3836,2,-999.0000,9,  -999.0,9,    1.86,2,    2.63,2,    0.12,2,    0.31,2,-999.000,9,-999.000,9,-999.000000000,9,  -999.0,9,  -999.0,9,       0.91,2,       0.21,2,   8.1586
58GS20090528,        GIN,     320,          1,         12,20090629,       0147,    71.5020,    19.8110,        378,     9.8,   8.2910,  34.3830,2,  34.5586,2,  -999.0,9,    1.70,2,    2.24,2,    0.10,2,    0.28,2,-999.000,9,-999.000,9,-999.000000000,9,  -999.0,9,  -999.0,9,       1.03,2,       0.24,2,   8.2900
58GS20090528,        GIN,     320,          1,         13,20090629,       0147,    71.5020,    19.8110,        378,     4.3,   8.4350,  34.3830,2,  34.3875,2,   316.2,2,    1.08,2,    0.11,2,    0.03,2,    0.15,2,-999.000,9,   2.381,6,    2.55480011,6,  2068.9,2,  2302.2,2,       1.97,2,       0.30,2,   8.4346
58GS20090528,        GIN,     320,          1,         14,20090629,       0147,    71.5020,    19.8110,        378,     3.5,   8.4370,  34.3826,2,-999.0000,9,  -999.0,9, -999.00,9, -999.00,9, -999.00,9, -999.00,9,-999.000,9,-999.000,9,-999.000000000,9,  -999.0,9,  -999.0,9,     -999.0,9,     -999.0,9,   8.4366
58GS20090528,        GIN,     321,          1,          1,20090629,       1455,    71.3330,    19.8320,        334,   199.6,   6.4060,  35.0722,2,  35.0695,2,   279.2,2,    4.83,2,   11.63,2,    0.02,2,    0.78,2,-999.000,9,   2.438,2,    2.74685242,2,  2149.4,2,  2316.9,2,     -999.0,9,     -999.0,9,   6.3882
58GS20090528,        GIN,     321,          1,          2,20090629,       1455,    71.3330,    19.8320,        334,   149.6,   6.4950,  35.0455,2,  35.0449,2,   281.7,2,    4.46,2,   11.09,2,    0.01,2,    0.76,2,-999.000,9,   2.515,2,    4.45650749,2,  2146.7,2,  2316.2,2,     -999.0,9,     -999.0,9,   6.4816
58GS20090528,        GIN,     321,          1,          3,20090629,       1455,    71.3330,    19.8320,        334,   124.3,   6.5750,  35.0059,2,  35.0050,2,  -999.0,9,    4.18,2,   10.59,2,    0.01,2,    0.73,2,-999.000,9,-999.000,9,-999.000000000,9,  -999.0,9,  -999.0,9,     -999.0,9,     -999.0,9,   6.5638
58GS20090528,        GIN,     321,          1,          4,20090629,       1455,    71.3330,    19.8320,        334,   104.0,   6.6360,  34.9706,2,  34.9699,2,   282.8,2,    3.99,2,   10.25,2,    0.03,2,    0.71,2,-999.000,9,   2.521,2,    4.55877531,2,  2140.3,2,  2315.2,2,       0.07,2,       0.12,2,   6.6266
58GS20090528,        GIN,     321,          1,          5,20090629,       1455,    71.3330,    19.8320,        334,    74.6,   6.8000,  34.9062,2,  34.9280,2,   285.0,2,    3.67,2,    9.31,2,    0.08,2,    0.66,2,-999.000,9,   2.518,2,    3.60095627,2,  2135.4,2,  2314.3,2,       0.02,2,       0.15,2,   6.7932
58GS20090528,        GIN,     321,          1,          6,20090629,       1455,    71.3330,    19.8320,        334,    50.2,   6.9040,  34.8039,2,  34.8297,2,   294.5,2,    3.05,2,    6.33,2,    0.17,2,    0.54,2,-999.000,9,   2.523,2,    3.76344808,2,  2123.4,2,  2313.8,2,       0.09,2,       0.11,2,   6.8994
58GS20090528,        GIN,     321,          1,          7,20090629,       1455,    71.3330,    19.8320,        334,    29.9,   7.9140,  34.4946,2,  34.6007,2,   298.0,2,    2.09,2,    3.35,2,    0.10,2,    0.38,2,-999.000,9,   2.506,2,     4.6815382,2,  2064.6,2,  2312.3,2,       0.27,2,       0.12,2,   7.9110
58GS20090528,        GIN,     321,          1,          8,20090629,       1455,    71.3330,    19.8320,        334,    21.5,   8.2950,  34.3811,2,  34.4223,2,  -999.0,9,    1.25,2,    0.81,2,    0.05,2,    0.20,2,-999.000,9,-999.000,9,-999.000000000,9,  -999.0,9,  -999.0,9,       1.47,2,       0.25,2,   8.2928
58GS20090528,        GIN,     321,          1,          9,20090629,       1455,    71.3330,    19.8320,        334,     9.6,   8.6640,  34.3696,2,  34.3673,2,  -999.0,9,    1.05,2,    0.00,2,    0.02,2,    0.13,2,-999.000,9,   2.450,2,    4.10541558,2,  -999.0,9,  -999.0,9,       2.34,2,       0.19,2,   8.6630
58GS20090528,        GIN,     321,          1,         10,20090629,       1455,    71.3330,    19.8320,        334,     3.9,   8.6640,  34.3693,2,  34.3646,2,   319.8,2,    1.03,2,    0.00,2,    0.01,2,    0.14,2,-999.000,9,-999.000,9,-999.000000000,9,  2105.9,2,  2302.5,2,       2.03,2,       0.18,2,   8.6636
58GS20090528,        GIN,     322,          1,          1,20090629,       1636,    71.1610,    19.8790,        334,   195.6,   6.3080,  35.0778,2,  35.0749,2,   279.2,2,    4.97,2,   11.78,2,    0.05,2,    0.80,2,-999.000,9,   2.512,2,    4.18853175,2,  2150.2,2,  3440.4,4,     -999.0,9,     -999.0,9,   6.2907
58GS20090528,        GIN,     322,          1,          2,20090629,       1636,    71.1610,    19.8790,        334,   149.7,   6.4760,  35.0439,2,  35.0428,2,   282.3,2,    4.36,2,   11.04,2,    0.01,2,    0.74,2,-999.000,9,-999.000,9,-999.000000000,9,  2145.4,2,  2317.1,2,     -999.0,9,     -999.0,9,   6.4626
58GS20090528,        GIN,     322,          1,          3,20090629,       1636,    71.1610,    19.8790,        334,   124.4,   6.4700,  35.0017,2,  34.9985,2,  -999.0,9,    4.07,2,   10.61,2,    0.01,2,    0.73,2,-999.000,9,   2.474,2,    3.97701386,2,  -999.0,9,  -999.0,9,     -999.0,9,     -999.0,9,   6.4589
58GS20090528,        GIN,     322,          1,          4,20090629,       1636,    71.1610,    19.8790,        334,    99.9,   6.8060,  34.9725,2,  34.9771,2,   286.5,2,    3.62,2,    9.16,2,    0.11,2,    0.65,2,-999.000,9,-999.000,9,-999.000000000,9,  2135.6,2,  2318.0,2,       0.02,2,       0.07,2,   6.7969
58GS20090528,        GIN,     322,          1,          5,20090629,       1636,    71.1610,    19.8790,        334,    75.3,   7.0890,  34.9369,2,  34.9434,2,   284.7,2,    3.21,2,    8.45,2,    0.18,2,    0.61,2,-999.000,9,   2.444,2,    5.11990706,2,  2130.3,2,  2318.8,2,       0.03,2,       0.06,2,   7.0820
58GS20090528,        GIN,     322,          1,          6,20090629,       1636,    71.1610,    19.8790,        334,    49.5,   6.9760,  34.7753,2,  34.7912,2,   292.5,2,    2.76,2,    6.12,2,    0.17,2,    0.53,2,-999.000,9,   2.440,6,     2.0849227,6,  2121.6,2,  2316.7,2,       0.06,2,       0.10,2,   6.9714
58GS20090528,        GIN,     322,          1,          7,20090629,       1636,    71.1610,    19.8790,        334,    29.6,   7.6290,  34.6798,2,  34.7267,2,   296.2,2,    2.41,2,    4.43,2,    0.14,2,    0.44,2,-999.000,9,   2.445,2,    2.69911352,2,  2110.9,2,  2314.6,2,       0.41,2,       0.14,2,   7.6261
58GS20090528,        GIN,     322,          1,          8,20090629,       1636,    71.1610,    19.8790,        334,    19.9,   8.0120,  34.5632,2,  34.6295,2,  -999.0,9,    1.84,2,    2.22,2,    0.10,2,    0.29,2,-999.000,9,-999.000,9,-999.000000000,9,  -999.0,9,  -999.0,9,       0.83,2,       0.19,2,   8.0100
58GS20090528,        GIN,     322,          1,          9,20090629,       1636,    71.1610,    19.8790,        334,    10.4,   8.6730,  34.4242,2,  34.5314,2,  -999.0,9,    1.43,2,    0.98,2,    0.05,2,    0.20,2,-999.000,9,-999.000,9,-999.000000000,9,  -999.0,9,  -999.0,9,       1.67,2,       0.25,2,   8.6719
58GS20090528,        GIN,     322,          1,         10,20090629,       1636,    71.1610,    19.8790,        334,     4.2,   8.7930,  34.4118,2,  34.4657,2,   317.2,2,    1.11,2,    0.35,2,    0.03,2,    0.14,2,-999.000,9,   2.399,2,    2.55490771,2,  2070.7,2,  2318.7,2,       1.86,2,       0.21,2,   8.7926
58GS20090528,        GIN,     323,          1,          1,20090629,       1802,    70.9990,    19.9010,        224,   174.5,   6.0980,  34.9970,2,  34.9956,2,   279.4,2,    4.80,2,   11.46,2,    0.04,2,    0.78,2,-999.000,9,-999.000,9,-999.000000000,9,  2150.7,2,  2317.0,2,     -999.0,9,     -999.0,9,   6.0829
58GS20090528,        GIN,     323,          1,          2,20090629,       1802,    70.9990,    19.9010,        224,   149.4,   6.2420,  34.9936,2,  34.9986,2,   280.8,2,    4.57,2,   11.27,2,    0.03,2,    0.77,2,-999.000,9,-999.000,9,-999.000000000,9,  2149.1,2,  2316.9,2,     -999.0,9,     -999.0,9,   6.2289
58GS20090528,        GIN,     323,          1,          3,20090629,       1802,    70.9990,    19.9010,        224,   124.1,   6.3420,  34.9555,2,  34.9553,2,  -999.0,9,    3.98,2,   10.55,2,    0.04,2,    0.72,2,-999.000,9,-999.000,9,-999.000000000,9,  -999.0,9,  -999.0,9,     -999.0,9,     -999.0,9,   6.3311
58GS20090528,        GIN,     323,          1,          4,20090629,       1802,    70.9990,    19.9010,        224,    99.9,   6.5180,  34.8983,2,  34.8994,2,   286.8,2,    3.63,2,    9.18,2,    0.11,2,    0.66,2,-999.000,9,-999.000,9,-999.000000000,9,  2138.2,2,  2315.9,2,       0.03,2,       0.16,2,   6.5091
58GS20090528,        GIN,     323,          1,          5,20090629,       1802,    70.9990,    19.9010,        224,    74.5,   6.7270,  34.8531,2,  34.8574,2,   294.3,2,    3.12,2,    6.69,2,    0.13,2,    0.54,2,-999.000,9,-999.000,9,-999.000000000,9,  2129.4,2,  2316.0,2,       0.14,2,       0.09,2,   6.7203
58GS20090528,        GIN,     323,          1,          6,20090629,       1802,    70.9990,    19.9010,        224,    49.3,   6.9900,  34.7340,2,  34.7415,2,   291.3,2,    2.81,2,    5.78,2,    0.14,2,    0.53,2,-999.000,9,-999.000,9,-999.000000000,9,  2125.0,2,  2314.0,2,       0.09,2,       0.12,2,   6.9855
58GS20090528,        GIN,     323,          1,          7,20090629,       1802,    70.9990,    19.9010,        224,    30.0,   7.8520,  34.5595,2,  34.6107,2,   296.8,2,    1.89,2,    2.93,2,    0.10,2,    0.35,2,-999.000,9,-999.000,9,-999.000000000,9,  2107.1,2,  2312.3,2,       0.26,2,       0.05,2,   7.8490
58GS20090528,        GIN,     323,          1,          8,20090629,       1802,    70.9990,    19.9010,        224,    19.0,   8.2910,  34.4816,2,  34.5514,2,  -999.0,9,    1.53,2,    1.76,2,    0.08,2,    0.27,2,-999.000,9,-999.000,9,-999.000000000,9,  -999.0,9,  -999.0,9,       0.58,2,       0.12,2,   8.2891
58GS20090528,        GIN,     323,          1,          9,20090629,       1802,    70.9990,    19.9010,        224,     9.3,   8.5270,  34.4800,2,  34.5216,2,  -999.0,9,    1.31,2,    0.98,2,    0.05,2,    0.20,2,-999.000,9,-999.000,9,-999.000000000,9,  -999.0,9,  -999.0,9,       1.32,2,       0.14,2,   8.5260
58GS20090528,        GIN,     323,          1,         10,20090629,       1802,    70.9990,    19.9010,        224,     3.6,   9.3230,  34.3637,2,  34.4792,2,   313.9,2,    1.12,2,    0.58,2,    0.03,2,    0.17,2,-999.000,9,-999.000,9,-999.000000000,9,  2079.2,2,  2307.9,2,       1.44,2,       0.13,2,   9.3226
58GS20090528,        GIN,     324,          1,          1,20090629,       2003,    70.8330,    19.9320,        224,   169.5,   6.2180,  34.9712,2,  34.9694,2,   279.6,2,    4.67,2,   11.04,2,    0.05,2,    0.78,2,-999.000,9,   2.456,2,    2.21855505,2,  2145.4,2,  2315.9,2,     -999.0,9,     -999.0,9,   6.2032
58GS20090528,        GIN,     324,          1,          2,20090629,       2003,    70.8330,    19.9320,        224,   147.1,   6.2150,  34.9622,2,  34.9609,2,   279.8,2,    4.59,2,   10.92,2,    0.04,2,    0.76,2,-999.000,9,-999.000,9,-999.000000000,9,  2146.0,2,  2315.6,2,     -999.0,9,     -999.0,9,   6.2022
58GS20090528,        GIN,     324,          1,          3,20090629,       2003,    70.8330,    19.9320,        224,   123.9,   6.3580,  34.8997,2,  34.8968,2,  -999.0,9,    3.96,2,   10.05,2,    0.04,2,    0.71,2,-999.000,9,   2.481,2,    1.46504709,2,  -999.0,9,  -999.0,9,     -999.0,9,     -999.0,9,   6.3471
58GS20090528,        GIN,     324,          1,          4,20090629,       2003,    70.8330,    19.9320,        224,    99.8,   6.5910,  34.8519,2,  34.8519,2,   284.7,2,    3.61,2,    9.01,2,    0.10,2,    0.65,2,-999.000,9,   2.441,2,    1.77869476,2,  2135.5,2,  2312.8,2,       0.04,2,       0.26,2,   6.5820
58GS20090528,        GIN,     324,          1,          5,20090629,       2003,    70.8330,    19.9320,        224,    74.2,   6.8930,  34.8031,2,  34.8112,2,   283.4,2,    3.30,2,    8.43,2,    0.10,2,    0.63,2,-999.000,9,-999.000,9,-999.000000000,9,  2130.7,2,  2310.9,2,       0.04,2,       0.18,2,   6.8862
58GS20090528,        GIN,     324,          1,          6,20090629,       2003,    70.8330,    19.9320,        224,    49.7,   6.9870,  34.6884,2,  34.7111,2,   286.9,2,    2.83,2,    6.84,2,    0.14,2,    0.57,2,-999.000,9,   2.468,2,    2.34719732,2,  2132.9,2,  2309.9,2,       0.10,2,       0.15,2,   6.9824
58GS20090528,        GIN,     324,          1,          7,20090629,       2003,    70.8330,    19.9320,        224,    30.2,   7.6840,  34.6506,2,  34.6921,2,   288.6,2,    2.38,2,    5.16,2,    0.12,2,    0.46,2,-999.000,9,-999.000,9,-999.000000000,9,  2117.3,2,  2310.7,2,       0.17,2,       0.11,2,   7.6811
58GS20090528,        GIN,     324,          1,          8,20090629,       2003,    70.8330,    19.9320,        224,    20.1,   8.1000,  34.4850,2,  34.5799,2,  -999.0,9,    1.52,2,    2.00,2,    0.08,2,    0.27,2,-999.000,9,   2.425,6,    2.23261842,2,  -999.0,9,  -999.0,9,       0.64,2,       0.18,2,   8.0980
58GS20090528,        GIN,     324,          1,          9,20090629,       2003,    70.8330,    19.9320,        224,     9.3,   8.3160,  34.4239,2,  34.4221,2,  -999.0,9,    0.96,2,    0.02,2,    0.01,2,    0.10,2,-999.000,9,-999.000,9,-999.000000000,9,  -999.0,9,  -999.0,9,       1.49,2,       0.32,2,   8.3151
58GS20090528,        GIN,     324,          1,         10,20090629,       2003,    70.8330,    19.9320,        224,     4.7,   8.4000,  34.4271,2,  34.4300,2,   319.9,2,    0.96,2,    0.00,2,    0.01,2,    0.10,2,-999.000,9,   2.401,2,    2.67184866,2,  2068.0,2,  2304.2,2,       1.14,2,       0.27,2,   8.3995