BOTTLE,20150327CCHSIORJL
EXPOCODE,SECT_ID,STNNBR,CASTNO,BTLNBR,DATE,TIME,LATITUDE,LONGITUDE,DEPTH,CTDPRS,CTDTMP,CTDSAL,CTDSAL_FLAG_W,SALNTY,SALNTY_FLAG_W,OXYGEN,OXYGEN_FLAG_W,SILCAT,SILCAT_FLAG_W,NITRAT,NITRAT_FLAG_W,NITRIT,NITRIT_FLAG_W,PHSPHT,PHSPHT_FLAG_W,CFC-11,CFC-11_FLAG_W,CFC-12,CFC-12_FLAG_W,SF6,SF6_FLAG_W,TCARBN,TCARBN_FLAG_W,ALKALI,ALKALI_FLAG_W,CHLORA,CHLORA_FLAG_W,PPHYTN,PPHYTN_FLAG_W,THETA
,,,,,,,,,METERS,DBAR,ITS-90,PSS-78,,PSS-78,,UMOL/KG,,UMOL/KG,,UMOL/KG,,UMOL/KG,,UMOL/KG,,PMOL/KG,,PMOL/KG,,FMOL/KG,,UMOL/KG,,UMOL/KG,,MG/M^3,,MG/M^3,,DEG C
58GS20090528,        GIN,     292,          1,          1,20090621,       0422,    77.0000,    10.9990,       1381,  1370.8,  -0.8730,  34.9074,2,  34.9087,2,   295.1,2,   13.32,2,   15.18,2,    0.03,2,    1.05,2,-999.000,9,   0.407,2,-999.000000000,9,  2163.1,2,  2309.1,2,     -999.0,9,     -999.0,9,  -0.9290
58GS20090528,        GIN,     292,          1,          2,20090621,       0422,    77.0000,    10.9990,       1381,  1200.6,  -0.8310,  34.9064,2,  34.9101,2,   296.7,2,   12.20,2,   14.78,2,    0.02,2,    1.03,2,-999.000,9,   0.573,2,-999.000000000,9,  2163.8,2,  2307.2,2,     -999.0,9,     -999.0,9,  -0.8786
58GS20090528,        GIN,     292,          1,          3,20090621,       0422,    77.0000,    10.9990,       1381,  1000.5,  -0.7260,  34.9027,2,  34.9074,2,   299.5,2,   10.80,2,   14.54,2,    0.02,2,    1.01,2,-999.000,9,   1.017,2,-999.000000000,9,  2164.8,2,  2304.0,2,     -999.0,9,     -999.0,9,  -0.7647
58GS20090528,        GIN,     292,          1,          4,20090621,       0422,    77.0000,    10.9990,       1381,   800.4,  -0.5840,  34.8975,2,  34.8986,2,   313.9,2,    8.11,2,   13.36,2,    0.02,2,    0.95,2,-999.000,9,   2.216,6,-999.000000000,9,  2166.2,2,  -999.0,9,     -999.0,9,     -999.0,9,  -0.6144
58GS20090528,        GIN,     292,          1,          5,20090621,       0422,    77.0000,    10.9990,       1381,   599.9,  -0.0200,  34.9149,2,  34.9183,2,   314.0,2,    7.25,2,   13.23,2,    0.02,2,    0.93,2,-999.000,9,   2.550,2,-999.000000000,9,  2164.9,2,  2303.4,2,     -999.0,9,     -999.0,9,  -0.0446
58GS20090528,        GIN,     292,          1,          6,20090621,       0422,    77.0000,    10.9990,       1381,   500.3,   0.6030,  34.9452,2,  34.9446,2,   318.1,2,    6.32,2,   12.65,2,    0.03,2,    0.89,2,-999.000,9,   2.834,2,-999.000000000,9,  2161.8,2,  -999.0,9,     -999.0,9,     -999.0,9,   0.5804
58GS20090528,        GIN,     292,          1,          7,20090621,       0422,    77.0000,    10.9990,       1381,   400.3,   1.5730,  34.9840,2,  34.9797,2,   308.4,2,    6.18,2,   12.69,2,    0.04,2,    0.89,2,-999.000,9,   2.716,2,-999.000000000,9,  2161.0,2,  2308.6,2,     -999.0,9,     -999.0,9,   1.5520
58GS20090528,        GIN,     292,          1,          8,20090621,       0422,    77.0000,    10.9990,       1381,   300.2,   2.6240,  35.0550,2,  35.0516,2,   311.8,2,    5.12,2,   11.71,2,    0.04,2,    0.81,2,-999.000,9,   2.882,2,-999.000000000,9,  2154.8,2,  -999.0,9,     -999.0,9,     -999.0,9,   2.6059
58GS20090528,        GIN,     292,          1,          9,20090621,       0422,    77.0000,    10.9990,       1381,   200.1,   3.2810,  35.0678,2,  35.0661,2,   307.5,2,    5.00,2,   11.55,2,    0.07,2,    0.80,2,-999.000,9,   2.855,2,-999.000000000,9,  2154.7,2,  2313.8,2,     -999.0,9,     -999.0,9,   3.2680
58GS20090528,        GIN,     292,          1,         10,20090621,       0422,    77.0000,    10.9990,       1381,   150.1,   3.5650,  35.0760,2,  35.0701,2,   307.2,2,    4.96,2,   11.22,2,    0.10,2,    0.81,2,-999.000,9,-999.000,9,-999.000000000,9,  2153.9,2,  2315.8,2,     -999.0,9,     -999.0,9,   3.5550
58GS20090528,        GIN,     292,          1,         11,20090621,       0422,    77.0000,    10.9990,       1381,   124.8,   3.8200,  35.0849,2,  35.0854,2,   309.6,2,    4.81,2,   10.46,2,    0.12,2,    0.77,2,-999.000,9,   2.856,2,-999.000000000,9,  2150.4,2,  2317.0,2,     -999.0,9,     -999.0,9,   3.8114
58GS20090528,        GIN,     292,          1,         12,20090621,       0422,    77.0000,    10.9990,       1381,   100.4,   4.1920,  35.0982,2,  35.0951,2,   302.0,2,    4.83,2,   11.42,2,    0.06,2,    0.79,2,-999.000,9,-999.000,9,-999.000000000,9,  2151.4,2,  2318.1,2,       0.02,2,       0.06,2,   4.1848
58GS20090528,        GIN,     292,          1,         13,20090621,       0422,    77.0000,    10.9990,       1381,    74.8,   4.4910,  35.1064,2,  35.1026,2,   299.3,2,    4.80,2,   11.43,2,    0.05,2,    0.79,2,-999.000,9,   2.763,2,-999.000000000,9,  2149.2,2,  2318.3,2,       0.01,2,       0.07,2,   4.4855
58GS20090528,        GIN,     292,          1,         14,20090621,       0422,    77.0000,    10.9990,       1381,    50.0,   5.0620,  35.1298,2,  35.1292,2,  -999.0,9,    4.67,2,   10.08,2,    0.13,2,    0.74,2,-999.000,9,-999.000,9,-999.000000000,9,  -999.0,9,  -999.0,9,       0.10,2,       0.14,2,   5.0581
58GS20090528,        GIN,     292,          1,         15,20090621,       0422,    77.0000,    10.9990,       1381,    30.6,   5.6440,  35.1375,2,  35.1339,2,  -999.0,9,    4.36,2,    7.69,2,    0.17,2,    0.61,2,-999.000,9,-999.000,9,-999.000000000,9,  -999.0,9,  -999.0,9,       0.32,2,       0.26,2,   5.6415
58GS20090528,        GIN,     292,          1,         16,20090621,       0422,    77.0000,    10.9990,       1381,    30.5,   5.6570,  35.1388,2,-999.0000,9,   307.8,2, -999.00,9, -999.00,9, -999.00,9, -999.00,9,-999.000,9,-999.000,9,-999.000000000,9,  2133.5,2,  2324.2,2,     -999.0,9,     -999.0,9,   5.6545
58GS20090528,        GIN,     292,          1,         17,20090621,       0422,    77.0000,    10.9990,       1381,    25.6,   5.8220,  35.1331,2,  35.1215,2,  -999.0,9,    3.91,2,    6.03,2,    0.14,2,    0.52,2,-999.000,9,-999.000,9,-999.000000000,9,  -999.0,9,  -999.0,9,       1.03,2,       0.36,2,   5.8199
58GS20090528,        GIN,     292,          1,         18,20090621,       0422,    77.0000,    10.9990,       1381,    25.5,   6.0900,  35.1140,2,-999.0000,9,  -999.0,9, -999.00,9, -999.00,9, -999.00,9, -999.00,9,-999.000,9,-999.000,9,-999.000000000,9,  -999.0,9,  -999.0,9,     -999.0,9,     -999.0,9,   6.0878
58GS20090528,        GIN,     292,          1,         19,20090621,       0422,    77.0000,    10.9990,       1381,    15.1,   6.0940,  35.1163,2,  35.1110,2,  -999.0,9,    3.66,2,    5.22,2,    0.10,2,    0.43,2,-999.000,9,-999.000,9,-999.000000000,9,  -999.0,9,  -999.0,9,       1.29,2,       0.36,2,   6.0927
58GS20090528,        GIN,     292,          1,         20,20090621,       0422,    77.0000,    10.9990,       1381,    15.0,   6.0960,  35.1162,2,-999.0000,9,  -999.0,9, -999.00,9, -999.00,9, -999.00,9, -999.00,9,-999.000,9,-999.000,9,-999.000000000,9,  -999.0,9,  -999.0,9,     -999.0,9,     -999.0,9,   6.0947
58GS20090528,        GIN,     292,          1,         21,20090621,       0422,    77.0000,    10.9990,       1381,    10.4,   6.0880,  35.1156,2,  35.1137,2,  -999.0,9,    3.68,2,    5.23,2,    0.11,2,    0.46,2,-999.000,9,-999.000,9,-999.000000000,9,  -999.0,9,  -999.0,9,       1.25,2,       0.32,2,   6.0871
58GS20090528,        GIN,     292,          1,         22,20090621,       0422,    77.0000,    10.9990,       1381,    10.3,   6.0880,  35.1154,2,-999.0000,9,   316.7,2, -999.00,9, -999.00,9, -999.00,9, -999.00,9,-999.000,9,   2.725,2,-999.000000000,9,  -999.0,9,  2324.7,2,     -999.0,9,     -999.0,9,   6.0871
58GS20090528,        GIN,     292,          1,         23,20090621,       0422,    77.0000,    10.9990,       1381,     5.8,   6.0860,  35.1153,2,  35.1089,2,  -999.0,9,    3.68,2,    5.25,2,    0.10,2,    0.44,2,-999.000,9,-999.000,9,-999.000000000,9,  -999.0,9,  -999.0,9,       1.32,2,       0.38,2,   6.0855
58GS20090528,        GIN,     292,          1,         24,20090621,       0422,    77.0000,    10.9990,       1381,     6.0,   6.0850,  35.1152,2,-999.0000,9,  -999.0,9, -999.00,9, -999.00,9, -999.00,9, -999.00,9,-999.000,9,-999.000,9,-999.000000000,9,  -999.0,9,  -999.0,9,     -999.0,9,     -999.0,9,   6.0845
58GS20090528,        GIN,     293,          1,          1,20090621,       0746,    77.0010,    11.9990,        762,   751.7,  -0.7350,  34.9018,2,  34.9132,2,   296.4,2,   11.99,2,   14.85,2,    0.03,2,    1.03,2,-999.000,9,   0.827,6,-999.000000000,9,  2166.2,2,  2306.6,2,     -999.0,9,     -999.0,9,  -0.7623
58GS20090528,        GIN,     293,          1,          2,20090621,       0746,    77.0010,    11.9990,        762,   601.4,   0.4310,  34.9226,2,  34.9302,2,   305.1,2,    7.68,2,   13.50,2,    0.02,2,    0.95,2,-999.000,9,   2.299,2,-999.000000000,9,  2167.1,2,  -999.0,9,     -999.0,9,     -999.0,9,   0.4041
58GS20090528,        GIN,     293,          1,          3,20090621,       0746,    77.0010,    11.9990,        762,   500.6,   1.5320,  34.9765,2,  34.9774,2,   306.8,2,    6.38,2,   12.88,2,    0.03,2,    0.90,2,-999.000,9,   2.652,2,-999.000000000,9,  2163.4,2,  2308.8,2,     -999.0,9,     -999.0,9,   1.5055
58GS20090528,        GIN,     293,          1,          4,20090621,       0746,    77.0010,    11.9990,        762,   400.4,   2.7160,  35.0461,2,  35.0491,2,   308.6,2,    5.22,2,   12.03,2,    0.02,2,    0.82,2,-999.000,9,   2.810,2,-999.000000000,9,  2157.3,2,  -999.0,9,     -999.0,9,     -999.0,9,   2.6912
58GS20090528,        GIN,     293,          1,          5,20090621,       0746,    77.0010,    11.9990,        762,   300.0,   3.3170,  35.0685,2,  35.0679,2,   308.7,2,    5.08,2,   11.51,2,    0.13,2,    0.85,2,-999.000,9,   2.828,2,-999.000000000,9,  2154.8,2,  2314.5,2,     -999.0,9,     -999.0,9,   3.2972
58GS20090528,        GIN,     293,          1,          6,20090621,       0746,    77.0010,    11.9990,        762,   200.7,   4.1380,  35.0953,2,  35.0956,2,   308.6,2,    4.70,2,   10.35,2,    0.11,2,    0.76,2,-999.000,9,   2.878,2,-999.000000000,9,  2148.6,2,  2317.7,2,     -999.0,9,     -999.0,9,   4.1236
58GS20090528,        GIN,     293,          1,          7,20090621,       0746,    77.0010,    11.9990,        762,   150.6,   4.6290,  35.1189,2,  35.1173,2,   299.5,2,    4.83,2,   11.56,2,    0.07,2,    0.79,2,-999.000,9,-999.000,9,-999.000000000,9,  2150.2,2,  2319.4,2,     -999.0,9,     -999.0,9,   4.6177
58GS20090528,        GIN,     293,          1,          8,20090621,       0746,    77.0010,    11.9990,        762,   125.2,   4.9200,  35.1301,2,  35.1260,2,  -999.0,9,    4.72,2,   11.39,2,    0.09,2,    0.78,2,-999.000,9,-999.000,9,-999.000000000,9,  -999.0,9,  -999.0,9,     -999.0,9,     -999.0,9,   4.9103
58GS20090528,        GIN,     293,          1,          9,20090621,       0746,    77.0010,    11.9990,        762,   101.1,   5.2430,  35.1348,2,  35.1355,2,   299.8,2,    4.66,2,   10.37,2,    0.14,2,    0.74,2,-999.000,9,   2.720,2,-999.000000000,9,  2145.0,2,  2320.4,2,       0.10,2,       0.14,2,   5.2349
58GS20090528,        GIN,     293,          1,         10,20090621,       0746,    77.0010,    11.9990,        762,    73.9,   5.7060,  35.1305,2,  35.1290,2,  -999.0,9,    4.22,2,    7.70,2,    0.15,2,    0.60,2,-999.000,9,-999.000,9,-999.000000000,9,  -999.0,9,  -999.0,9,       0.32,2,       0.28,2,   5.6999
58GS20090528,        GIN,     293,          1,         11,20090621,       0746,    77.0010,    11.9990,        762,    73.8,   5.7320,  35.1296,2,-999.0000,9,   307.2,2, -999.00,9, -999.00,9, -999.00,9, -999.00,9,-999.000,9,-999.000,9,-999.000000000,9,  2130.3,2,  2325.0,2,     -999.0,9,     -999.0,9,   5.7259
58GS20090528,        GIN,     293,          1,         12,20090621,       0746,    77.0010,    11.9990,        762,    50.4,   5.9920,  35.1133,2,  35.1144,2,  -999.0,9,    3.79,2,    5.80,2,    0.12,2,    0.48,2,-999.000,9,-999.000,9,-999.000000000,9,  -999.0,9,  -999.0,9,       0.89,2,       0.43,2,   5.9877
58GS20090528,        GIN,     293,          1,         13,20090621,       0746,    77.0010,    11.9990,        762,    50.7,   6.0060,  35.1133,2,-999.0000,9,   313.9,2, -999.00,9, -999.00,9, -999.00,9, -999.00,9,-999.000,9,   2.712,2,-999.000000000,9,  2118.5,2,  2325.9,2,     -999.0,9,     -999.0,9,   6.0017
58GS20090528,        GIN,     293,          1,         14,20090621,       0746,    77.0010,    11.9990,        762,    30.4,   6.0670,  35.0668,2,  35.0627,2,  -999.0,9,    3.12,2,    5.09,2,    0.11,2,    0.46,2,-999.000,9,-999.000,9,-999.000000000,9,  -999.0,9,  -999.0,9,       1.14,2,       0.51,2,   6.0644
58GS20090528,        GIN,     293,          1,         15,20090621,       0746,    77.0010,    11.9990,        762,    30.8,   6.0500,  35.0639,2,-999.0000,9,  -999.0,9, -999.00,9, -999.00,9, -999.00,9, -999.00,9,-999.000,9,-999.000,9,-999.000000000,9,  -999.0,9,  -999.0,9,     -999.0,9,     -999.0,9,   6.0474
58GS20090528,        GIN,     293,          1,         16,20090621,       0746,    77.0010,    11.9990,        762,    24.6,   5.8840,  34.9876,2,  34.9875,2,  -999.0,9,    2.34,2,    3.68,2,    0.09,2,    0.33,2,-999.000,9,-999.000,9,-999.000000000,9,  -999.0,9,  -999.0,9,       1.68,2,       0.39,2,   5.8819
58GS20090528,        GIN,     293,          1,         17,20090621,       0746,    77.0010,    11.9990,        762,    24.9,   5.8670,  34.9805,2,-999.0000,9,   326.4,2, -999.00,9, -999.00,9, -999.00,9, -999.00,9,-999.000,9,-999.000,9,-999.000000000,9,  2093.7,2,  2319.4,2,     -999.0,9,     -999.0,9,   5.8649
58GS20090528,        GIN,     293,          1,         18,20090621,       0746,    77.0010,    11.9990,        762,    15.1,   5.7660,  34.9404,2,  34.9346,2,  -999.0,9,    1.87,2,    2.66,2,    0.09,2,    0.24,2,-999.000,9,-999.000,9,-999.000000000,9,  -999.0,9,  -999.0,9,       2.39,2,       0.40,2,   5.7647
58GS20090528,        GIN,     293,          1,         19,20090621,       0746,    77.0010,    11.9990,        762,    15.4,   5.7660,  34.9411,2,-999.0000,9,  -999.0,9, -999.00,9, -999.00,9, -999.00,9, -999.00,9,-999.000,9,-999.000,9,-999.000000000,9,  -999.0,9,  -999.0,9,     -999.0,9,     -999.0,9,   5.7647
58GS20090528,        GIN,     293,          1,         20,20090621,       0746,    77.0010,    11.9990,        762,    10.2,   5.7570,  34.9373,2,  34.9349,2,  -999.0,9,    1.85,2,    2.63,2,    0.08,2,    0.24,2,-999.000,9,-999.000,9,-999.000000000,9,  -999.0,9,  -999.0,9,       2.23,2,       0.40,2,   5.7562
58GS20090528,        GIN,     293,          1,         21,20090621,       0746,    77.0010,    11.9990,        762,    10.4,   5.7560,  34.9361,2,-999.0000,9,  -999.0,9, -999.00,9, -999.00,9, -999.00,9, -999.00,9,-999.000,9,-999.000,9,-999.000000000,9,  -999.0,9,  -999.0,9,     -999.0,9,     -999.0,9,   5.7551
58GS20090528,        GIN,     293,          1,         22,20090621,       0746,    77.0010,    11.9990,        762,     5.1,   5.7540,  34.9358,2,  34.9331,2,  -999.0,9,    1.86,2,    2.63,2,    0.09,2,    0.24,2,-999.000,9,-999.000,9,-999.000000000,9,  -999.0,9,  -999.0,9,       2.29,2,       0.38,2,   5.7536
58GS20090528,        GIN,     293,          1,         23,20090621,       0746,    77.0010,    11.9990,        762,     5.2,   5.7540,  34.9360,2,-999.0000,9,   333.4,2, -999.00,9, -999.00,9, -999.00,9, -999.00,9,-999.000,9,   2.838,2,-999.000000000,9,  2086.2,2,  2316.3,2,     -999.0,9,     -999.0,9,   5.7536