BOTTLE,20150327CCHSIORJL
EXPOCODE,SECT_ID,STNNBR,CASTNO,BTLNBR,DATE,TIME,LATITUDE,LONGITUDE,DEPTH,CTDPRS,CTDTMP,CTDSAL,CTDSAL_FLAG_W,SALNTY,SALNTY_FLAG_W,OXYGEN,OXYGEN_FLAG_W,SILCAT,SILCAT_FLAG_W,NITRAT,NITRAT_FLAG_W,NITRIT,NITRIT_FLAG_W,PHSPHT,PHSPHT_FLAG_W,CFC-11,CFC-11_FLAG_W,CFC-12,CFC-12_FLAG_W,SF6,SF6_FLAG_W,TCARBN,TCARBN_FLAG_W,ALKALI,ALKALI_FLAG_W,CHLORA,CHLORA_FLAG_W,PPHYTN,PPHYTN_FLAG_W,THETA
,,,,,,,,,METERS,DBAR,ITS-90,PSS-78,,PSS-78,,UMOL/KG,,UMOL/KG,,UMOL/KG,,UMOL/KG,,UMOL/KG,,PMOL/KG,,PMOL/KG,,FMOL/KG,,UMOL/KG,,UMOL/KG,,MG/M^3,,MG/M^3,,DEG C
58GS20090528,        GIN,     290,          1,          1,20090620,       1857,    77.0000,     9.0000,       2444,  2200.3,  -0.8180,  34.9085,2,  34.9091,2,   295.6,2,   13.09,2,   15.10,2,    0.01,2,    1.03,2,-999.000,9,   0.425,2,-999.000000000,9,  2166.1,2,  2307.8,2,     -999.0,9,     -999.0,9,  -0.9249
58GS20090528,        GIN,     290,          1,          2,20090620,       1857,    77.0000,     9.0000,       2444,  2001.2,  -0.8140,  34.9080,2,  34.9089,2,   296.1,2,   12.68,2,   14.96,2,    0.01,2,    1.02,2,-999.000,9,   0.476,2,-999.000000000,9,  2163.8,2,  2306.4,2,     -999.0,9,     -999.0,9,  -0.9078
58GS20090528,        GIN,     290,          1,          3,20090620,       1857,    77.0000,     9.0000,       2444,  1500.0,  -0.7350,  34.9037,2,  34.9050,2,   299.4,2,   11.09,2,   14.27,2,    0.01,2,    1.01,2,-999.000,9,   0.903,2,-999.000000000,9,  2163.6,2,  2303.5,2,     -999.0,9,     -999.0,9,  -0.7997
58GS20090528,        GIN,     290,          1,          4,20090620,       1857,    77.0000,     9.0000,       2444,  1200.6,  -0.6180,  34.8984,2,  34.8997,2,   304.7,2,    9.46,2,   14.05,2,    0.01,2,    0.95,2,-999.000,9,   1.530,2,-999.000000000,9,  -999.0,9,  -999.0,9,     -999.0,9,     -999.0,9,  -0.6677
58GS20090528,        GIN,     290,          1,          5,20090620,       1857,    77.0000,     9.0000,       2444,  1000.1,  -0.4780,  34.8978,2,  34.8946,2,   315.2,2,    7.81,2,   13.43,2,    0.01,2,    0.94,2,-999.000,9,   2.285,2,-999.000000000,9,  2166.0,2,  2303.2,2,     -999.0,9,     -999.0,9,  -0.5187
58GS20090528,        GIN,     290,          1,          6,20090620,       1857,    77.0000,     9.0000,       2444,   800.2,  -0.1680,  34.9075,2,  34.9080,2,   316.0,2,    7.17,2,   13.18,2,    0.01,2,    0.92,2,-999.000,9,   2.491,2,-999.000000000,9,  2165.1,2,  2302.2,2,     -999.0,9,     -999.0,9,  -0.2012
58GS20090528,        GIN,     290,          1,          7,20090620,       1857,    77.0000,     9.0000,       2444,   600.5,   0.4500,  34.9290,2,  34.9298,2,   315.6,2,    6.51,2,   12.94,2,    0.02,2,    0.90,2,-999.000,9,   2.692,2,-999.000000000,9,  2163.1,2,  2304.1,2,     -999.0,9,     -999.0,9,   0.4231
58GS20090528,        GIN,     290,          1,          8,20090620,       1857,    77.0000,     9.0000,       2444,   499.9,   1.2140,  34.9674,2,  34.9662,2,   313.1,2,    6.03,2,   12.78,2,    0.02,2,    0.88,2,-999.000,9,-999.000,9,-999.000000000,9,  2159.7,2,  2306.4,2,     -999.0,9,     -999.0,9,   1.1888
58GS20090528,        GIN,     290,          1,          9,20090620,       1857,    77.0000,     9.0000,       2444,   400.7,   2.1710,  35.0320,2,  35.0344,2,   313.7,2,    5.17,2,   12.00,2,    0.02,2,    0.83,2,-999.000,9,   2.857,6,-999.000000000,9,  2156.2,2,  2312.9,2,     -999.0,9,     -999.0,9,   2.1480
58GS20090528,        GIN,     290,          1,         10,20090620,       1857,    77.0000,     9.0000,       2444,   300.1,   2.6860,  35.0596,2,  35.0558,2,   312.1,2,    5.06,2,   11.87,2,    0.04,2,    0.81,2,-999.000,9,-999.000,9,-999.000000000,9,  2154.5,2,  2314.7,2,     -999.0,9,     -999.0,9,   2.6678
58GS20090528,        GIN,     290,          1,         11,20090620,       1857,    77.0000,     9.0000,       2444,   199.8,   3.1200,  35.0793,2,  35.0777,2,   311.9,2,    4.94,2,   11.46,2,    0.10,2,    0.79,2,-999.000,9,   2.841,2,-999.000000000,9,  2152.4,2,  2316.7,2,     -999.0,9,     -999.0,9,   3.1073
58GS20090528,        GIN,     290,          1,         12,20090620,       1857,    77.0000,     9.0000,       2444,   149.7,   3.3110,  35.0806,2,  35.0774,2,   311.9,2,    4.98,2,   11.15,2,    0.15,2,    0.77,2,-999.000,9,-999.000,9,-999.000000000,9,  2152.1,2,  2316.5,2,     -999.0,9,     -999.0,9,   3.3013
58GS20090528,        GIN,     290,          1,         13,20090620,       1857,    77.0000,     9.0000,       2444,   124.4,   3.4760,  35.0765,2,  35.0784,2,  -999.0,9,    4.99,2,   11.24,2,    0.14,2,    0.78,2,-999.000,9,-999.000,9,-999.000000000,9,  -999.0,9,  -999.0,9,     -999.0,9,     -999.0,9,   3.4678
58GS20090528,        GIN,     290,          1,         14,20090620,       1857,    77.0000,     9.0000,       2444,   100.3,   3.6960,  35.0837,2,  35.0826,2,   307.6,2,    4.83,2,   11.18,2,    0.14,2,    0.78,2,-999.000,9,   2.777,2,-999.000000000,9,  2150.8,2,  2315.5,2,       0.03,2,       0.11,2,   3.6892
58GS20090528,        GIN,     290,          1,         15,20090620,       1857,    77.0000,     9.0000,       2444,    74.8,   3.7780,  35.0751,2,  35.0771,2,   306.7,2,    4.88,2,   11.05,2,    0.09,2,    0.78,2,-999.000,9,-999.000,9,-999.000000000,9,  2149.6,2,  2313.4,2,       0.03,2,       0.12,2,   3.7729
58GS20090528,        GIN,     290,          1,         16,20090620,       1857,    77.0000,     9.0000,       2444,    49.6,   4.2610,  35.0875,2,  35.0886,2,   308.5,2,    4.67,2,    9.95,2,    0.12,2,    0.73,2,-999.000,9,   2.748,2,-999.000000000,9,  2143.6,2,  2317.7,2,       0.15,2,       0.17,2,   4.2575
58GS20090528,        GIN,     290,          1,         17,20090620,       1857,    77.0000,     9.0000,       2444,    30.0,   4.8250,  35.1189,2,  35.1125,2,  -999.0,9,    4.27,2,    7.53,2,    0.12,2,    0.60,2,-999.000,9,-999.000,9,-999.000000000,9,  -999.0,9,  -999.0,9,       0.58,2,       0.32,2,   4.8227
58GS20090528,        GIN,     290,          1,         18,20090620,       1857,    77.0000,     9.0000,       2444,    24.9,   5.5150,  35.1037,2,  35.0914,2,   322.8,2,    3.71,2,    5.08,2,    0.09,2,    0.43,2,-999.000,9,-999.000,9,-999.000000000,9,  2110.2,2,  2323.0,2,       1.60,2,       0.40,2,   5.5130
58GS20090528,        GIN,     290,          1,         19,20090620,       1857,    77.0000,     9.0000,       2444,    25.1,   5.8240,  35.0872,2,  35.0904,2,  -999.0,9, -999.00,9, -999.00,9, -999.00,9, -999.00,9,-999.000,9,-999.000,9,-999.000000000,9,  -999.0,9,  2317.4,2,     -999.0,9,     -999.0,9,   5.8219
58GS20090528,        GIN,     290,          1,         20,20090620,       1857,    77.0000,     9.0000,       2444,    15.1,   5.9910,  35.0913,2,  35.0843,2,  -999.0,9,    3.35,2,    4.12,2,    0.10,2,    0.37,2,-999.000,9,-999.000,9,-999.000000000,9,  -999.0,9,  -999.0,9,       1.97,2,       0.28,2,   5.9897
58GS20090528,        GIN,     290,          1,         21,20090620,       1857,    77.0000,     9.0000,       2444,    10.2,   6.1350,  35.0876,2,  35.0833,2,  -999.0,9,    3.37,2,    4.07,2,    0.09,2,    0.36,2,-999.000,9,-999.000,9,-999.000000000,9,  -999.0,9,  -999.0,9,       1.75,2,       0.19,2,   6.1341
58GS20090528,        GIN,     290,          1,         22,20090620,       1857,    77.0000,     9.0000,       2444,    10.3,   6.1420,  35.0875,2,  35.0834,2,  -999.0,9, -999.00,9, -999.00,9, -999.00,9, -999.00,9,-999.000,9,-999.000,9,-999.000000000,9,  -999.0,9,  -999.0,9,     -999.0,9,     -999.0,9,   6.1411
58GS20090528,        GIN,     290,          1,         23,20090620,       1857,    77.0000,     9.0000,       2444,     4.9,   6.1420,  35.0878,2,-999.0000,9,   328.0,2,    3.36,2,    3.88,2,    0.09,2,    0.37,2,-999.000,9,   2.623,2,-999.000000000,9,  2103.0,2,  2322.3,2,     -999.0,9,     -999.0,9,   6.1416
58GS20090528,        GIN,     290,          1,         24,20090620,       1857,    77.0000,     9.0000,       2444,     4.9,   6.1430,  35.0877,2,-999.0000,9,  -999.0,9, -999.00,9, -999.00,9, -999.00,9, -999.00,9,-999.000,9,-999.000,9,-999.000000000,9,  -999.0,9,  -999.0,9,     -999.0,9,     -999.0,9,   6.1426
58GS20090528,        GIN,     291,          1,          1,20090620,       2342,    77.0000,    10.0000,       2040,  2029.6,  -0.8340,  34.9082,2,  34.9111,2,   295.2,2,   13.28,2,   15.13,2,    0.02,2,    1.02,2,-999.000,9,   0.402,2,-999.000000000,9,  2167.8,2,  2304.1,2,     -999.0,9,     -999.0,9,  -0.9294
58GS20090528,        GIN,     291,          1,          2,20090620,       2342,    77.0000,    10.0000,       2040,  1981.1,  -0.8380,  34.9084,2,  34.9124,2,   295.3,2,   13.27,2,   15.08,2,    0.02,2,    1.01,2,-999.000,9,   0.404,2,-999.000000000,9,  2167.7,2,  -999.0,9,     -999.0,9,     -999.0,9,  -0.9302
58GS20090528,        GIN,     291,          1,          3,20090620,       2342,    77.0000,    10.0000,       2040,  1800.2,  -0.8200,  34.9075,2,  34.9105,2,   296.6,2,   12.61,2,   15.03,2,    0.02,2,    1.01,2,-999.000,9,   0.484,2,-999.000000000,9,  2167.4,2,  -999.0,9,     -999.0,9,     -999.0,9,  -0.9012
58GS20090528,        GIN,     291,          1,          4,20090620,       2342,    77.0000,    10.0000,       2040,  1500.2,  -0.7630,  34.9052,2,  34.9077,2,   297.7,2,   11.68,2,   14.83,2,    0.02,2,    1.02,2,-999.000,9,   0.740,2,-999.000000000,9,  2165.2,2,  2299.3,2,     -999.0,9,     -999.0,9,  -0.8273
58GS20090528,        GIN,     291,          1,          5,20090620,       2342,    77.0000,    10.0000,       2040,  1199.7,  -0.6430,  34.9002,2,  34.9012,2,   301.1,2,   10.14,2,   14.61,2,    0.02,2,    1.00,2,-999.000,9,   1.256,2,-999.000000000,9,  2166.9,2,  -999.0,9,     -999.0,9,     -999.0,9,  -0.6924
58GS20090528,        GIN,     291,          1,          6,20090620,       2342,    77.0000,    10.0000,       2040,  1000.2,  -0.5160,  34.8969,2,  34.8959,2,   307.2,2,    8.75,2,   14.05,2,    0.02,2,    0.98,2,-999.000,9,   1.839,2,-999.000000000,9,  2166.8,2,  2297.7,2,     -999.0,9,     -999.0,9,  -0.5564
58GS20090528,        GIN,     291,          1,          7,20090620,       2342,    77.0000,    10.0000,       2040,   801.5,  -0.2290,  34.9008,2,  34.9052,2,   311.2,2,    7.70,2,   13.71,2,    0.03,2,    1.01,2,-999.000,9,   2.279,2,-999.000000000,9,  2167.1,2,  -999.0,9,     -999.0,9,     -999.0,9,  -0.2619
58GS20090528,        GIN,     291,          1,          8,20090620,       2342,    77.0000,    10.0000,       2040,   600.4,   0.6290,  34.9394,2,  34.9375,2,   317.1,2,    6.28,2,   12.62,2,    0.02,2,    0.89,2,-999.000,9,   2.756,2,-999.000000000,9,  2166.1,2,  2302.1,3,     -999.0,9,     -999.0,9,   0.6012
58GS20090528,        GIN,     291,          1,          9,20090620,       2342,    77.0000,    10.0000,       2040,   500.7,   1.5430,  34.9907,2,  34.9815,2,   314.4,2,    5.78,2,   12.56,2,    0.02,2,    0.87,2,-999.000,9,-999.000,9,-999.000000000,9,  2163.7,2,  -999.0,9,     -999.0,9,     -999.0,9,   1.5164
58GS20090528,        GIN,     291,          1,         10,20090620,       2342,    77.0000,    10.0000,       2040,   400.0,   2.3720,  35.0456,2,  35.0424,2,   314.0,2,    5.15,2,   12.01,2,    0.03,2,    0.82,2,-999.000,9,   2.889,2,-999.000000000,9,  2159.2,2,  2309.0,2,     -999.0,9,     -999.0,9,   2.3484
58GS20090528,        GIN,     291,          1,         11,20090620,       2342,    77.0000,    10.0000,       2040,   299.8,   2.8200,  35.0662,2,  35.0657,2,   311.7,2,    4.99,2,   11.82,2,    0.03,2,    0.81,2,-999.000,9,-999.000,9,-999.000000000,9,  2159.3,2,  -999.0,9,     -999.0,9,     -999.0,9,   2.8014
58GS20090528,        GIN,     291,          1,         12,20090620,       2342,    77.0000,    10.0000,       2040,   199.5,   3.3500,  35.0776,2,  35.0772,2,   310.4,2,    5.00,2,   11.10,2,    0.15,2,    0.79,2,-999.000,9,   2.810,2,-999.000000000,9,  2156.1,2,  2310.8,2,     -999.0,9,     -999.0,9,   3.3370
58GS20090528,        GIN,     291,          1,         13,20090620,       2342,    77.0000,    10.0000,       2040,   150.8,   3.7210,  35.0862,2,  35.0828,2,   307.2,2,    4.93,2,   11.43,2,    0.11,2,    0.79,2,-999.000,9,-999.000,9,-999.000000000,9,  2154.4,2,  2312.5,2,     -999.0,9,     -999.0,9,   3.7108
58GS20090528,        GIN,     291,          1,         14,20090620,       2342,    77.0000,    10.0000,       2040,   124.2,   3.9180,  35.0861,2,  35.0842,2,  -999.0,9,    4.89,2,   11.55,2,    0.04,2,    0.80,2,-999.000,9,-999.000,9,-999.000000000,9,  -999.0,9,  -999.0,9,     -999.0,9,     -999.0,9,   3.9094
58GS20090528,        GIN,     291,          1,         15,20090620,       2342,    77.0000,    10.0000,       2040,    98.2,   4.1470,  35.0938,2,  35.0872,2,   303.2,2,    4.87,2,   11.52,2,    0.06,2,    0.79,2,-999.000,9,   2.746,2,-999.000000000,9,  2151.3,2,  2311.8,2,     -999.0,9,     -999.0,9,   4.1400
58GS20090528,        GIN,     291,          1,         16,20090620,       2342,    77.0000,    10.0000,       2040,    75.1,   4.5160,  35.1118,2,  35.1079,2,   302.6,2,    4.79,2,   11.05,2,    0.15,2,    0.77,2,-999.000,9,-999.000,9,-999.000000000,9,  2151.4,2,  2323.5,2,       0.03,2,       0.10,2,   4.5105
58GS20090528,        GIN,     291,          1,         17,20090620,       2342,    77.0000,    10.0000,       2040,    50.0,   4.8870,  35.1235,2,  35.1218,2,   300.6,2,    4.72,2,   10.72,2,    0.14,2,    0.76,2,-999.000,9,   2.651,2,-999.000000000,9,  2149.9,2,  2315.1,2,       0.11,2,       0.12,2,   4.8832
58GS20090528,        GIN,     291,          1,         18,20090620,       2342,    77.0000,    10.0000,       2040,    30.1,   5.8110,  35.1196,2,  35.1223,2,  -999.0,9,    3.97,2,    6.40,2,    0.13,2,    0.53,2,-999.000,9,-999.000,9,-999.000000000,9,  -999.0,9,  -999.0,9,       0.70,2,       0.33,2,   5.8085
58GS20090528,        GIN,     291,          1,         19,20090620,       2342,    77.0000,    10.0000,       2040,    24.8,   5.9760,  35.1126,2,  35.1212,2,   314.5,2,    3.82,2,    6.05,2,    0.12,2,    0.48,2,-999.000,9,-999.000,9,-999.000000000,9,  2121.8,2,  2325.7,2,       0.96,2,       0.42,2,   5.9739
58GS20090528,        GIN,     291,          1,         20,20090620,       2342,    77.0000,    10.0000,       2040,    14.9,   6.2140,  35.1142,2,  35.1107,2,  -999.0,9,    3.61,2,    4.72,2,    0.10,2,    0.40,2,-999.000,9,-999.000,9,-999.000000000,9,  -999.0,9,  -999.0,9,       1.28,2,       0.30,2,   6.2127
58GS20090528,        GIN,     291,          1,         21,20090620,       2342,    77.0000,    10.0000,       2040,    10.3,   6.2070,  35.1159,2,  35.1118,2,  -999.0,9,    3.60,2,    4.61,2,    0.10,2,    0.39,2,-999.000,9,-999.000,9,-999.000000000,9,  -999.0,9,  -999.0,9,       1.44,2,       0.32,2,   6.2061
58GS20090528,        GIN,     291,          1,         22,20090620,       2342,    77.0000,    10.0000,       2040,    10.3,   6.2120,  35.1157,2,-999.0000,9,  -999.0,9, -999.00,9, -999.00,9, -999.00,9, -999.00,9,-999.000,9,-999.000,9,-999.000000000,9,  -999.0,9,  -999.0,9,     -999.0,9,     -999.0,9,   6.2111
58GS20090528,        GIN,     291,          1,         23,20090620,       2342,    77.0000,    10.0000,       2040,     4.1,   6.2130,  35.1152,2,  35.1097,2,   320.6,2,    3.58,2,    4.63,2,    0.10,2,    0.39,2,-999.000,9,   2.638,6,-999.000000000,9,  2111.1,2,  2323.8,2,       1.42,2,       0.32,2,   6.2126
58GS20090528,        GIN,     291,          1,         24,20090620,       2342,    77.0000,    10.0000,       2040,     3.8,   6.2130,  35.1152,2,-999.0000,9,  -999.0,9, -999.00,9, -999.00,9, -999.00,9, -999.00,9,-999.000,9,-999.000,9,-999.000000000,9,  -999.0,9,  -999.0,9,     -999.0,9,     -999.0,9,   6.2127