BOTTLE,20150327CCHSIORJL
EXPOCODE,SECT_ID,STNNBR,CASTNO,BTLNBR,DATE,TIME,LATITUDE,LONGITUDE,DEPTH,CTDPRS,CTDTMP,CTDSAL,CTDSAL_FLAG_W,SALNTY,SALNTY_FLAG_W,OXYGEN,OXYGEN_FLAG_W,SILCAT,SILCAT_FLAG_W,NITRAT,NITRAT_FLAG_W,NITRIT,NITRIT_FLAG_W,PHSPHT,PHSPHT_FLAG_W,CFC-11,CFC-11_FLAG_W,CFC-12,CFC-12_FLAG_W,SF6,SF6_FLAG_W,TCARBN,TCARBN_FLAG_W,ALKALI,ALKALI_FLAG_W,CHLORA,CHLORA_FLAG_W,PPHYTN,PPHYTN_FLAG_W,THETA
,,,,,,,,,METERS,DBAR,ITS-90,PSS-78,,PSS-78,,UMOL/KG,,UMOL/KG,,UMOL/KG,,UMOL/KG,,UMOL/KG,,PMOL/KG,,PMOL/KG,,FMOL/KG,,UMOL/KG,,UMOL/KG,,MG/M^3,,MG/M^3,,DEG C
58GS20090528,        GIN,     297,          1,          1,20090622,       0225,    78.0010,     9.5000,        447,   436.6,   3.2390,  35.0495,2,  35.0497,2,  -999.0,9,    5.32,2,   11.53,2,    0.08,2,    0.80,2,-999.000,9,-999.000,9,-999.000000000,9,  2156.1,2,  2315.7,2,     -999.0,9,     -999.0,9,   3.2101
58GS20090528,        GIN,     297,          1,          2,20090622,       0225,    78.0010,     9.5000,        447,   400.1,   3.3430,  35.0449,2,  35.0464,2,  -999.0,9,    5.40,2,   11.67,2,    0.06,2,    0.81,2,-999.000,9,-999.000,9,-999.000000000,9,  2154.6,2,  2319.0,2,     -999.0,9,     -999.0,9,   3.3163
58GS20090528,        GIN,     297,          1,          3,20090622,       0225,    78.0010,     9.5000,        447,   300.2,   3.5260,  35.0273,2,  35.0204,2,  -999.0,9,    5.62,2,   11.53,2,    0.10,2,    0.82,2,-999.000,9,-999.000,9,-999.000000000,9,  2156.3,2,  2314.7,2,     -999.0,9,     -999.0,9,   3.5057
58GS20090528,        GIN,     297,          1,          4,20090622,       0225,    78.0010,     9.5000,        447,   200.3,   4.2290,  35.0816,2,  35.0815,2,  -999.0,9,    4.88,2,   11.46,2,    0.05,2,    0.78,2,-999.000,9,-999.000,9,-999.000000000,9,  2151.3,2,  2316.5,2,     -999.0,9,     -999.0,9,   4.2145
58GS20090528,        GIN,     297,          1,          5,20090622,       0225,    78.0010,     9.5000,        447,   150.2,   3.3270,  34.9283,2,  34.9262,2,  -999.0,9,    4.05,2,   10.32,2,    0.20,2,    0.76,2,-999.000,9,-999.000,9,-999.000000000,9,  2151.4,2,  2310.1,2,     -999.0,9,     -999.0,9,   3.3173
58GS20090528,        GIN,     297,          1,          6,20090622,       0225,    78.0010,     9.5000,        447,   124.2,   4.1170,  34.9986,2,  35.0009,2,  -999.0,9,    3.78,2,    9.92,2,    0.17,2,    0.75,2,-999.000,9,-999.000,9,-999.000000000,9,  2147.4,2,  2316.0,2,     -999.0,9,     -999.0,9,   4.1082
58GS20090528,        GIN,     297,          1,          7,20090622,       0225,    78.0010,     9.5000,        447,   101.2,   4.1050,  34.9706,2,  34.9717,2,  -999.0,9,    2.31,2,    7.43,2,    0.13,2,    0.62,2,-999.000,9,-999.000,9,-999.000000000,9,  2131.6,2,  2317.1,2,       0.89,2,       0.48,2,   4.0979
58GS20090528,        GIN,     297,          1,          8,20090622,       0225,    78.0010,     9.5000,        447,   101.3,   4.1080,  34.9706,2,-999.0000,9,  -999.0,9, -999.00,9, -999.00,9, -999.00,9, -999.00,9,-999.000,9,-999.000,9,-999.000000000,9,  -999.0,9,  -999.0,9,     -999.0,9,     -999.0,9,   4.1009
58GS20090528,        GIN,     297,          1,          9,20090622,       0225,    78.0010,     9.5000,        447,    74.6,   4.3880,  34.9841,2,  34.9900,2,  -999.0,9,    2.45,2,    7.06,2,    0.12,2,    0.60,2,-999.000,9,-999.000,9,-999.000000000,9,  2126.4,2,  2316.5,2,     -999.0,9,     -999.0,9,   4.3826
58GS20090528,        GIN,     297,          1,         10,20090622,       0225,    78.0010,     9.5000,        447,    74.6,   4.3780,  34.9826,2,-999.0000,9,  -999.0,9, -999.00,9, -999.00,9, -999.00,9, -999.00,9,-999.000,9,-999.000,9,-999.000000000,9,  -999.0,9,  -999.0,9,     -999.0,9,     -999.0,9,   4.3726
58GS20090528,        GIN,     297,          1,         11,20090622,       0225,    78.0010,     9.5000,        447,    50.2,   5.5730,  35.1160,2,  35.0878,2,  -999.0,9,    3.81,2,    9.54,2,    0.09,2,    0.70,2,-999.000,9,-999.000,9,-999.000000000,9,  2138.4,2,  2319.8,2,       0.58,2,       0.33,2,   5.5689
58GS20090528,        GIN,     297,          1,         12,20090622,       0225,    78.0010,     9.5000,        447,    50.5,   5.5130,  35.1000,2,-999.0000,9,  -999.0,9, -999.00,9, -999.00,9, -999.00,9, -999.00,9,-999.000,9,-999.000,9,-999.000000000,9,  -999.0,9,  -999.0,9,     -999.0,9,     -999.0,9,   5.5089
58GS20090528,        GIN,     297,          1,         13,20090622,       0225,    78.0010,     9.5000,        447,    30.1,   5.7350,  35.1180,2,  35.1114,2,  -999.0,9,    4.01,2,    9.12,2,    0.12,2,    0.67,2,-999.000,9,-999.000,9,-999.000000000,9,  -999.0,9,  -999.0,9,       0.28,2,       0.30,2,   5.7325
58GS20090528,        GIN,     297,          1,         14,20090622,       0225,    78.0010,     9.5000,        447,    30.1,   5.8190,  35.1087,2,-999.0000,9,  -999.0,9, -999.00,9, -999.00,9, -999.00,9, -999.00,9,-999.000,9,-999.000,9,-999.000000000,9,  -999.0,9,  -999.0,9,     -999.0,9,     -999.0,9,   5.8165
58GS20090528,        GIN,     297,          1,         15,20090622,       0225,    78.0010,     9.5000,        447,    24.5,   5.8210,  35.1085,2,  35.1000,2,  -999.0,9,    3.73,2,    8.06,2,    0.12,2,    0.62,2,-999.000,9,-999.000,9,-999.000000000,9,  2131.6,2,  2322.7,2,       0.47,2,       0.42,2,   5.8190
58GS20090528,        GIN,     297,          1,         16,20090622,       0225,    78.0010,     9.5000,        447,    24.6,   5.8660,  35.0995,2,-999.0000,9,  -999.0,9, -999.00,9, -999.00,9, -999.00,9, -999.00,9,-999.000,9,-999.000,9,-999.000000000,9,  -999.0,9,  -999.0,9,     -999.0,9,     -999.0,9,   5.8639
58GS20090528,        GIN,     297,          1,         17,20090622,       0225,    78.0010,     9.5000,        447,    14.3,   5.6280,  35.0179,2,  34.9668,2,  -999.0,9,    2.25,2,    1.70,2,    0.06,2,    0.23,2,-999.000,9,-999.000,9,-999.000000000,9,  -999.0,9,  -999.0,9,       2.02,2,       0.79,2,   5.6268
58GS20090528,        GIN,     297,          1,         18,20090622,       0225,    78.0010,     9.5000,        447,    14.4,   5.1160,  34.8833,2,-999.0000,9,  -999.0,9, -999.00,9, -999.00,9, -999.00,9, -999.00,9,-999.000,9,-999.000,9,-999.000000000,9,  -999.0,9,  -999.0,9,     -999.0,9,     -999.0,9,   5.1149
58GS20090528,        GIN,     297,          1,         19,20090622,       0225,    78.0010,     9.5000,        447,    10.2,   5.0700,  34.8636,2,  34.8550,2,  -999.0,9,    1.58,2,    0.48,2,    0.04,2,    0.13,2,-999.000,9,-999.000,9,-999.000000000,9,  -999.0,9,  -999.0,9,       1.23,2,       0.51,2,   5.0692
58GS20090528,        GIN,     297,          1,         20,20090622,       0225,    78.0010,     9.5000,        447,    10.3,   4.9130,  34.8266,2,-999.0000,9,  -999.0,9, -999.00,9, -999.00,9, -999.00,9, -999.00,9,-999.000,9,-999.000,9,-999.000000000,9,  -999.0,9,  -999.0,9,     -999.0,9,     -999.0,9,   4.9122
58GS20090528,        GIN,     297,          1,         21,20090622,       0225,    78.0010,     9.5000,        447,     4.6,   4.8920,  34.8175,2,  34.8154,2,  -999.0,9,    1.40,2,    0.22,2,    0.03,2,    0.09,2,-999.000,9,-999.000,9,-999.000000000,9,  2059.1,2,  2310.9,2,       0.96,2,       0.43,2,   4.8916
58GS20090528,        GIN,     297,          1,         22,20090622,       0225,    78.0010,     9.5000,        447,     4.6,   4.8850,  34.8153,2,-999.0000,9,  -999.0,9, -999.00,9, -999.00,9, -999.00,9, -999.00,9,-999.000,9,-999.000,9,-999.000000000,9,  -999.0,9,  -999.0,9,     -999.0,9,     -999.0,9,   4.8846
58GS20090528,        GIN,     298,          1,          1,20090622,       0455,    78.0000,    11.0160,        191,   180.7,   4.3160,  35.0584,2,  35.0580,2,  -999.0,9,    4.73,2,   11.08,2,    0.14,2,    0.78,2,-999.000,9,-999.000,9,-999.000000000,9,  2148.6,2,  2314.1,2,     -999.0,9,     -999.0,9,   4.3028
58GS20090528,        GIN,     298,          1,          2,20090622,       0455,    78.0000,    11.0160,        191,   150.7,   4.5230,  35.0689,2,  35.0720,2,  -999.0,9,    4.43,2,   10.72,2,    0.13,2,    0.77,2,-999.000,9,-999.000,9,-999.000000000,9,  2147.4,2,  2316.2,2,     -999.0,9,     -999.0,9,   4.5118
58GS20090528,        GIN,     298,          1,          3,20090622,       0455,    78.0000,    11.0160,        191,   124.6,   4.9690,  35.0970,2,  35.0989,2,  -999.0,9,    4.41,2,   10.47,2,    0.11,2,    0.75,2,-999.000,9,-999.000,9,-999.000000000,9,  -999.0,9,  -999.0,9,     -999.0,9,     -999.0,9,   4.9593
58GS20090528,        GIN,     298,          1,          4,20090622,       0455,    78.0000,    11.0160,        191,    99.9,   5.2260,  35.1094,2,  35.1069,2,  -999.0,9, -999.00,9, -999.00,9, -999.00,9, -999.00,9,-999.000,9,-999.000,9,-999.000000000,9,  2143.6,2,  2320.3,2,     -999.0,9,     -999.0,9,   5.2181
58GS20090528,        GIN,     298,          1,          5,20090622,       0455,    78.0000,    11.0160,        191,    99.8,   5.1710,  35.1068,2,-999.0000,9,  -999.0,9,    3.92,2,    9.55,2,    0.10,2,    0.69,2,-999.000,9,-999.000,9,-999.000000000,9,  -999.0,9,  -999.0,9,       0.24,2,       0.24,2,   5.1631
58GS20090528,        GIN,     298,          1,          6,20090622,       0455,    78.0000,    11.0160,        191,    74.8,   5.4150,  35.0977,2,  35.1011,2,  -999.0,9,    3.98,2,    9.60,2,    0.12,2,    0.68,2,-999.000,9,-999.000,9,-999.000000000,9,  2139.7,2,  2320.0,2,       0.49,2,       0.27,2,   5.4090
58GS20090528,        GIN,     298,          1,          7,20090622,       0455,    78.0000,    11.0160,        191,    74.9,   5.4240,  35.1023,2,-999.0000,9,  -999.0,9, -999.00,9, -999.00,9, -999.00,9, -999.00,9,-999.000,9,-999.000,9,-999.000000000,9,  -999.0,9,  -999.0,9,     -999.0,9,     -999.0,9,   5.4179
58GS20090528,        GIN,     298,          1,          8,20090622,       0455,    78.0000,    11.0160,        191,    50.0,   5.7640,  35.0991,2,  35.0956,2,  -999.0,9, -999.00,9, -999.00,9, -999.00,9, -999.00,9,-999.000,9,-999.000,9,-999.000000000,9,  2124.5,2,  2324.7,2,     -999.0,9,     -999.0,9,   5.7598
58GS20090528,        GIN,     298,          1,          9,20090622,       0455,    78.0000,    11.0160,        191,    50.0,   5.8290,  35.0961,2,-999.0000,9,  -999.0,9,    3.42,2,    7.02,2,    0.10,2,    0.57,2,-999.000,9,-999.000,9,-999.000000000,9,  -999.0,9,  -999.0,9,       0.26,2,       0.25,2,   5.8248
58GS20090528,        GIN,     298,          1,         10,20090622,       0455,    78.0000,    11.0160,        191,    30.1,   5.9450,  35.0910,2,  35.0712,2,  -999.0,9,    3.01,2,    4.50,2,    0.11,2,    0.39,2,-999.000,9,-999.000,9,-999.000000000,9,  -999.0,9,  -999.0,9,       1.78,2,       0.53,2,   5.9425
58GS20090528,        GIN,     298,          1,         11,20090622,       0455,    78.0000,    11.0160,        191,    30.1,   5.9260,  35.0875,2,-999.0000,9,  -999.0,9, -999.00,9, -999.00,9, -999.00,9, -999.00,9,-999.000,9,-999.000,9,-999.000000000,9,  -999.0,9,  -999.0,9,     -999.0,9,     -999.0,9,   5.9235
58GS20090528,        GIN,     298,          1,         12,20090622,       0455,    78.0000,    11.0160,        191,    25.1,   5.9260,  35.0795,2,  35.0740,2,  -999.0,9, -999.00,9, -999.00,9, -999.00,9, -999.00,9,-999.000,9,-999.000,9,-999.000000000,9,  2102.4,2,  2324.0,2,     -999.0,9,     -999.0,9,   5.9239
58GS20090528,        GIN,     298,          1,         13,20090622,       0455,    78.0000,    11.0160,        191,    25.2,   5.9270,  35.0720,2,-999.0000,9,  -999.0,9,    3.02,2,    4.34,2,    0.11,2,    0.41,2,-999.000,9,-999.000,9,-999.000000000,9,  -999.0,9,  -999.0,9,       1.76,2,       0.43,2,   5.9249
58GS20090528,        GIN,     298,          1,         14,20090622,       0455,    78.0000,    11.0160,        191,    14.8,   5.9340,  35.0694,2,  35.0633,2,  -999.0,9, -999.00,9, -999.00,9, -999.00,9, -999.00,9,-999.000,9,-999.000,9,-999.000000000,9,  -999.0,9,  -999.0,9,     -999.0,9,     -999.0,9,   5.9328
58GS20090528,        GIN,     298,          1,         15,20090622,       0455,    78.0000,    11.0160,        191,    14.9,   5.9440,  35.0634,2,-999.0000,9,  -999.0,9,    2.87,2,    3.30,2,    0.12,2,    0.33,2,-999.000,9,-999.000,9,-999.000000000,9,  -999.0,9,  -999.0,9,       3.33,2,       0.63,2,   5.9427
58GS20090528,        GIN,     298,          1,         16,20090622,       0455,    78.0000,    11.0160,        191,    10.0,   5.9410,  35.0651,2,  35.0631,2,  -999.0,9,    2.83,2,    3.21,2,    0.12,2,    0.31,2,-999.000,9,-999.000,9,-999.000000000,9,  -999.0,9,  -999.0,9,       3.07,2,       0.55,2,   5.9402
58GS20090528,        GIN,     298,          1,         17,20090622,       0455,    78.0000,    11.0160,        191,    10.0,   5.9430,  35.0644,2,-999.0000,9,  -999.0,9, -999.00,9, -999.00,9, -999.00,9, -999.00,9,-999.000,9,-999.000,9,-999.000000000,9,  -999.0,9,  -999.0,9,     -999.0,9,     -999.0,9,   5.9422
58GS20090528,        GIN,     298,          1,         18,20090622,       0455,    78.0000,    11.0160,        191,     5.1,   5.9430,  35.0644,2,  35.0629,2,  -999.0,9,    2.82,2,    3.02,2,    0.11,2,    0.31,2,-999.000,9,-999.000,9,-999.000000000,9,  2091.2,2,  2325.1,2,       3.37,2,       0.60,2,   5.9426
58GS20090528,        GIN,     298,          1,         19,20090622,       0455,    78.0000,    11.0160,        191,     5.1,   5.9430,  35.0642,2,-999.0000,9,  -999.0,9, -999.00,9, -999.00,9, -999.00,9, -999.00,9,-999.000,9,-999.000,9,-999.000000000,9,  -999.0,9,  -999.0,9,     -999.0,9,     -999.0,9,   5.9426
58GS20090528,        GIN,     299,          1,          1,20090622,       0727,    78.0000,    12.5030,        241,   231.2,   3.6160,  35.0063,2,  35.0084,2,  -999.0,9,    6.66,2,   11.10,2,    0.20,2,    0.83,2,-999.000,9,-999.000,9,-999.000000000,9,  2156.3,2,  2313.2,2,     -999.0,9,     -999.0,9,   3.6004
58GS20090528,        GIN,     299,          1,          2,20090622,       0727,    78.0000,    12.5030,        241,   200.1,   3.6130,  35.0062,2,  35.0083,2,  -999.0,9,    6.46,2,   11.41,2,    0.17,2,    0.82,2,-999.000,9,-999.000,9,-999.000000000,9,  2156.6,2,  2316.4,2,     -999.0,9,     -999.0,9,   3.5995
58GS20090528,        GIN,     299,          1,          3,20090622,       0727,    78.0000,    12.5030,        241,   150.2,   4.0630,  35.0362,2,  35.0286,2,  -999.0,9,    4.35,2,   10.62,2,    0.18,2,    0.76,2,-999.000,9,-999.000,9,-999.000000000,9,  2150.0,2,  2317.5,2,     -999.0,9,     -999.0,9,   4.0524
58GS20090528,        GIN,     299,          1,          4,20090622,       0727,    78.0000,    12.5030,        241,   125.3,   4.1520,  35.0325,2,-999.0000,9,  -999.0,9, -999.00,9, -999.00,9, -999.00,9, -999.00,9,-999.000,9,-999.000,9,-999.000000000,9,  -999.0,9,  -999.0,9,     -999.0,9,     -999.0,9,   4.1431
58GS20090528,        GIN,     299,          1,          5,20090622,       0727,    78.0000,    12.5030,        241,   100.0,   4.1130,  35.0056,2,  34.9912,2,  -999.0,9,    3.01,2,    8.30,2,    0.14,2,    0.65,2,-999.000,9,-999.000,9,-999.000000000,9,  2137.5,2,  2317.4,2,       0.43,2,       0.53,2,   4.1059
58GS20090528,        GIN,     299,          1,          6,20090622,       0727,    78.0000,    12.5030,        241,   100.2,   3.6460,  34.9351,2,-999.0000,9,  -999.0,9, -999.00,9, -999.00,9, -999.00,9, -999.00,9,-999.000,9,-999.000,9,-999.000000000,9,  -999.0,9,  -999.0,9,     -999.0,9,     -999.0,9,   3.6393
58GS20090528,        GIN,     299,          1,          7,20090622,       0727,    78.0000,    12.5030,        241,    75.4,   4.3020,  34.9955,2,  34.9917,2,  -999.0,9,    2.62,2,    7.14,2,    0.13,2,    0.60,2,-999.000,9,-999.000,9,-999.000000000,9,  2130.7,2,  2319.3,2,       0.21,2,       0.41,2,   4.2966
58GS20090528,        GIN,     299,          1,          8,20090622,       0727,    78.0000,    12.5030,        241,    75.5,   4.4330,  35.0135,2,-999.0000,9,  -999.0,9, -999.00,9, -999.00,9, -999.00,9, -999.00,9,-999.000,9,-999.000,9,-999.000000000,9,  -999.0,9,  -999.0,9,     -999.0,9,     -999.0,9,   4.4275
58GS20090528,        GIN,     299,          1,          9,20090622,       0727,    78.0000,    12.5030,        241,    50.4,   4.3240,  34.9733,2,  34.9726,2,  -999.0,9,    2.52,2,    6.42,2,    0.10,2,    0.55,2,-999.000,9,-999.000,9,-999.000000000,9,  2125.2,2,  2318.2,2,       0.37,2,       0.63,2,   4.3204
58GS20090528,        GIN,     299,          1,         10,20090622,       0727,    78.0000,    12.5030,        241,    50.5,   4.3900,  34.9747,2,-999.0000,9,  -999.0,9, -999.00,9, -999.00,9, -999.00,9, -999.00,9,-999.000,9,-999.000,9,-999.000000000,9,  -999.0,9,  -999.0,9,     -999.0,9,     -999.0,9,   4.3863
58GS20090528,        GIN,     299,          1,         11,20090622,       0727,    78.0000,    12.5030,        241,    30.3,   4.3670,  34.9212,2,  34.9911,2,  -999.0,9,    2.70,2,    5.85,2,    0.09,2,    0.50,2,-999.000,9,-999.000,9,-999.000000000,9,  -999.0,9,  -999.0,9,       1.69,2,       0.99,2,   4.3648
58GS20090528,        GIN,     299,          1,         12,20090622,       0727,    78.0000,    12.5030,        241,    30.2,   4.3680,  34.9157,2,-999.0000,9,  -999.0,9, -999.00,9, -999.00,9, -999.00,9, -999.00,9,-999.000,9,-999.000,9,-999.000000000,9,  -999.0,9,  -999.0,9,     -999.0,9,     -999.0,9,   4.3658
58GS20090528,        GIN,     299,          1,         13,20090622,       0727,    78.0000,    12.5030,        241,    25.1,   4.1970,  34.8845,2,  34.8631,2,  -999.0,9,    1.44,2,    1.88,2,    0.07,2,    0.25,2,-999.000,9,-999.000,9,-999.000000000,9,  2088.2,2,  2316.0,2,       3.46,2,       1.07,2,   4.1952
58GS20090528,        GIN,     299,          1,         14,20090622,       0727,    78.0000,    12.5030,        241,    25.3,   3.8940,  34.8266,2,-999.0000,9,  -999.0,9, -999.00,9, -999.00,9, -999.00,9, -999.00,9,-999.000,9,-999.000,9,-999.000000000,9,  -999.0,9,  -999.0,9,     -999.0,9,     -999.0,9,   3.8923
58GS20090528,        GIN,     299,          1,         15,20090622,       0727,    78.0000,    12.5030,        241,    15.5,   3.8100,  34.7065,2,  34.6879,2,  -999.0,9,    0.65,2,    0.03,2,    0.02,2,    0.06,2,-999.000,9,-999.000,9,-999.000000000,9,  -999.0,9,  -999.0,9,       1.22,2,       0.34,2,   3.8090
58GS20090528,        GIN,     299,          1,         16,20090622,       0727,    78.0000,    12.5030,        241,    15.5,   3.7240,  34.6826,2,-999.0000,9,  -999.0,9, -999.00,9, -999.00,9, -999.00,9, -999.00,9,-999.000,9,-999.000,9,-999.000000000,9,  -999.0,9,  -999.0,9,     -999.0,9,     -999.0,9,   3.7230
58GS20090528,        GIN,     299,          1,         17,20090622,       0727,    78.0000,    12.5030,        241,    10.4,   3.7470,  34.6851,2,  34.6730,2,  -999.0,9,    0.61,2,    0.01,2,    0.02,2,    0.04,2,-999.000,9,-999.000,9,-999.000000000,9,  -999.0,9,  -999.0,9,       0.76,2,       0.24,2,   3.7463
58GS20090528,        GIN,     299,          1,         18,20090622,       0727,    78.0000,    12.5030,        241,    10.4,   3.7080,  34.6721,2,-999.0000,9,  -999.0,9, -999.00,9, -999.00,9, -999.00,9, -999.00,9,-999.000,9,-999.000,9,-999.000000000,9,  -999.0,9,  -999.0,9,     -999.0,9,     -999.0,9,   3.7073
58GS20090528,        GIN,     299,          1,         19,20090622,       0727,    78.0000,    12.5030,        241,     5.6,   3.7220,  34.6765,2,  34.6677,2,  -999.0,9,    0.61,2,    0.02,2,    0.03,2,    0.05,2,-999.000,9,-999.000,9,-999.000000000,9,  2052.1,2,  2303.5,2,       0.60,2,       0.20,2,   3.7216
58GS20090528,        GIN,     299,          1,         20,20090622,       0727,    78.0000,    12.5030,        241,     5.7,   3.6860,  34.6657,2,-999.0000,9,  -999.0,9, -999.00,9, -999.00,9, -999.00,9, -999.00,9,-999.000,9,-999.000,9,-999.000000000,9,  -999.0,9,  -999.0,9,     -999.0,9,     -999.0,9,   3.6856