BOTTLE,20150327CCHSIORJL
EXPOCODE,SECT_ID,STNNBR,CASTNO,BTLNBR,DATE,TIME,LATITUDE,LONGITUDE,DEPTH,CTDPRS,CTDTMP,CTDSAL,CTDSAL_FLAG_W,SALNTY,SALNTY_FLAG_W,OXYGEN,OXYGEN_FLAG_W,SILCAT,SILCAT_FLAG_W,NITRAT,NITRAT_FLAG_W,NITRIT,NITRIT_FLAG_W,PHSPHT,PHSPHT_FLAG_W,CFC-11,CFC-11_FLAG_W,CFC-12,CFC-12_FLAG_W,SF6,SF6_FLAG_W,TCARBN,TCARBN_FLAG_W,ALKALI,ALKALI_FLAG_W,CHLORA,CHLORA_FLAG_W,PPHYTN,PPHYTN_FLAG_W,THETA
,,,,,,,,,METERS,DBAR,ITS-90,PSS-78,,PSS-78,,UMOL/KG,,UMOL/KG,,UMOL/KG,,UMOL/KG,,UMOL/KG,,PMOL/KG,,PMOL/KG,,FMOL/KG,,UMOL/KG,,UMOL/KG,,MG/M^3,,MG/M^3,,DEG C
58GS20090528,        GIN,     218,          1,          1,20090601,       1016,    69.2340,    11.6180,       2910,  2900.2,  -0.8110,  34.9094,2,  34.9055,2,   294.9,2,   14.06,2,   15.31,2,    0.02,2,    1.03,2,-999.000,9,-999.000,9,-999.000000000,9,  2166.9,2,  2315.2,3,     -999.0,9,     -999.0,9,  -0.9693
58GS20090528,        GIN,     218,          1,          2,20090601,       1016,    69.2340,    11.6180,       2910,  2500.0,  -0.8160,  34.9095,2,  34.9084,2,   296.5,2,   13.04,2,   15.09,2,    0.01,2,    1.01,2,-999.000,9,-999.000,9,-999.000000000,9,  2164.2,2,  2307.0,2,     -999.0,9,     -999.0,9,  -0.9439
58GS20090528,        GIN,     218,          1,          3,20090601,       1016,    69.2340,    11.6180,       2910,  1997.6,  -0.7960,  34.9088,2,  34.9036,2,   297.0,2,   12.12,2,   14.98,2,    0.02,2,    1.01,2,-999.000,9,-999.000,9,-999.000000000,9,  2162.7,2,  2304.0,2,     -999.0,9,     -999.0,9,  -0.8899
58GS20090528,        GIN,     218,          1,          4,20090601,       1016,    69.2340,    11.6180,       2910,  1498.4,  -0.7200,  34.9048,2,  34.9025,2,   298.7,2,   10.93,2,   14.69,2,    0.02,2,    1.00,2,-999.000,9,-999.000,9,-999.000000000,9,  2163.3,2,  2303.7,2,     -999.0,9,     -999.0,9,  -0.7847
58GS20090528,        GIN,     218,          1,          5,20090601,       1016,    69.2340,    11.6180,       2910,  1197.4,  -0.6060,  34.8999,2,  34.8999,2,   301.7,2,    9.67,2,   14.42,2,    0.01,2,    0.98,2,-999.000,9,-999.000,9,-999.000000000,9,  2164.7,2,  2305.2,2,     -999.0,9,     -999.0,9,  -0.6556
58GS20090528,        GIN,     218,          1,          6,20090601,       1016,    69.2340,    11.6180,       2910,   998.8,  -0.4570,  34.8968,2,  34.9021,2,   302.9,2,    8.69,2,   14.14,2,    0.04,2,    0.97,2,-999.000,9,-999.000,9,-999.000000000,9,  2166.3,2,  2303.3,2,     -999.0,9,     -999.0,9,  -0.4978
58GS20090528,        GIN,     218,          1,          7,20090601,       1016,    69.2340,    11.6180,       2910,   797.5,  -0.1730,  34.8958,2,  34.8952,2,   304.4,2,    7.74,2,   13.99,2,    0.01,2,    0.94,2,-999.000,9,-999.000,9,-999.000000000,9,  2167.2,2,  2288.7,3,     -999.0,9,     -999.0,9,  -0.2060
58GS20090528,        GIN,     218,          1,          8,20090601,       1016,    69.2340,    11.6180,       2910,   597.7,   0.3320,  34.9039,2,  34.9052,2,   305.5,2,    6.94,2,   13.78,2,    0.02,2,    0.94,2,-999.000,9,-999.000,9,-999.000000000,9,  2165.9,2,  2310.9,2,     -999.0,9,     -999.0,9,   0.3058
58GS20090528,        GIN,     218,          1,          9,20090601,       1016,    69.2340,    11.6180,       2910,   500.4,   1.3580,  34.9410,2,  34.9666,2,   301.1,2,    6.43,2,   13.38,2,    0.11,2,    0.92,2,-999.000,9,-999.000,9,-999.000000000,9,  2165.0,2,  2315.3,3,     -999.0,9,     -999.0,9,   1.3322
58GS20090528,        GIN,     218,          1,         10,20090601,       1016,    69.2340,    11.6180,       2910,   399.2,   3.3230,  35.0349,2,  35.0338,2,   299.2,2,    5.33,2,   12.53,2,    0.01,2,    0.84,2,-999.000,9,-999.000,9,-999.000000000,9,  2157.7,2,  2292.0,3,     -999.0,9,     -999.0,9,   3.2964
58GS20090528,        GIN,     218,          1,         11,20090601,       1016,    69.2340,    11.6180,       2910,   299.5,   4.3480,  35.0801,2,  35.0766,2,   295.2,2,    5.21,2,   12.24,2,    0.04,2,    0.82,2,-999.000,9,-999.000,9,-999.000000000,9,  2153.3,2,  2297.3,3,     -999.0,9,     -999.0,9,   4.3258
58GS20090528,        GIN,     218,          1,         12,20090601,       1016,    69.2340,    11.6180,       2910,   199.6,   5.4940,  35.1416,2,  35.1247,2,   292.8,2,    5.06,2,   12.04,2,    0.02,2,    0.80,2,-999.000,9,-999.000,9,-999.000000000,9,  2146.4,2,  2298.1,3,     -999.0,9,     -999.0,9,   5.4776
58GS20090528,        GIN,     218,          1,         13,20090601,       1016,    69.2340,    11.6180,       2910,   149.9,   5.7630,  35.1702,2,  35.1628,2,   294.6,2,    4.87,2,   11.58,2,    0.16,2,    0.77,2,-999.000,9,-999.000,9,-999.000000000,9,  2147.9,2,  2308.6,3,     -999.0,9,     -999.0,9,   5.7504
58GS20090528,        GIN,     218,          1,         14,20090601,       1016,    69.2340,    11.6180,       2910,   123.6,   6.0420,  35.1827,2,  35.1759,2,   295.4,2,    4.82,2,   11.16,2,    0.21,2,    0.76,2,-999.000,9,-999.000,9,-999.000000000,9,  2145.9,2,  2316.9,2,     -999.0,9,     -999.0,9,   6.0314
58GS20090528,        GIN,     218,          1,         15,20090601,       1016,    69.2340,    11.6180,       2910,   100.4,   6.4030,  35.1905,2,  35.1833,2,   295.9,2,    4.66,2,    9.67,2,    0.16,2,    0.72,2,-999.000,9,-999.000,9,-999.000000000,9,  2141.4,2,  2325.7,2,       0.03,2,       0.14,2,   6.3941
58GS20090528,        GIN,     218,          1,         16,20090601,       1016,    69.2340,    11.6180,       2910,    74.3,   7.1550,  35.1957,2,  35.1908,2,   294.8,2,    4.25,2,    7.46,2,    0.08,2,    0.62,2,-999.000,9,-999.000,9,-999.000000000,9,  2129.3,2,  2327.0,2,       0.05,2,       0.14,2,   7.1480
58GS20090528,        GIN,     218,          1,         17,20090601,       1016,    69.2340,    11.6180,       2910,    50.0,   7.6720,  35.1993,2,  35.1899,2,   295.4,2,    2.69,2,    6.03,2,    0.08,2,    0.54,2,-999.000,9,-999.000,9,-999.000000000,9,  2119.1,2,  2326.6,2,       0.12,2,       0.12,2,   7.6671
58GS20090528,        GIN,     218,          1,         18,20090601,       1016,    69.2340,    11.6180,       2910,    29.2,   8.4140,  35.1065,2,  35.1014,2,   299.6,2,    0.92,2,    3.98,2,    0.10,2,    0.32,2,-999.000,9,-999.000,9,-999.000000000,9,  2101.5,2,  2324.8,2,       1.28,2,       0.42,2,   8.4110
58GS20090528,        GIN,     218,          1,         19,20090601,       1016,    69.2340,    11.6180,       2910,    19.2,   8.4440,  35.1085,2,  35.0988,2,   299.8,2,    0.92,2,    3.88,2,    0.11,2,    0.34,2,-999.000,9,-999.000,9,-999.000000000,9,  2099.8,2,  2321.8,2,       1.21,2,       0.34,2,   8.4420
58GS20090528,        GIN,     218,          1,         20,20090601,       1016,    69.2340,    11.6180,       2910,    19.2,   8.4440,  35.1087,2,  35.1013,2,  -999.0,9, -999.00,9, -999.00,9, -999.00,9, -999.00,9,-999.000,9,-999.000,9,-999.000000000,9,  -999.0,9,  -999.0,9,     -999.0,9,     -999.0,9,   8.4420
58GS20090528,        GIN,     218,          1,         21,20090601,       1016,    69.2340,    11.6180,       2910,     9.4,   8.4440,  35.1079,2,  35.0994,2,   299.9,2,    0.91,2,    3.88,2,    0.09,2,    0.32,2,-999.000,9,-999.000,9,-999.000000000,9,  2100.5,2,  2322.3,2,       1.42,2,       0.60,2,   8.4430
58GS20090528,        GIN,     218,          1,         22,20090601,       1016,    69.2340,    11.6180,       2910,     9.8,   8.4420,  35.1083,2,  35.1000,2,  -999.0,9, -999.00,9, -999.00,9, -999.00,9, -999.00,9,-999.000,9,-999.000,9,-999.000000000,9,  -999.0,9,  -999.0,9,     -999.0,9,     -999.0,9,   8.4410
58GS20090528,        GIN,     218,          1,         23,20090601,       1016,    69.2340,    11.6180,       2910,     4.8,   8.4430,  35.1083,2,  35.0988,2,   299.8,2,    0.93,2,    3.92,2,    0.10,2,    0.32,2,-999.000,9,-999.000,9,-999.000000000,9,  2101.2,2,  2322.2,2,       1.46,2,       0.52,2,   8.4425
58GS20090528,        GIN,     218,          1,         24,20090601,       1016,    69.2340,    11.6180,       2910,     4.3,   8.4440,  35.1083,2,  35.0995,2,  -999.0,9, -999.00,9, -999.00,9, -999.00,9, -999.00,9,-999.000,9,-999.000,9,-999.000000000,9,  -999.0,9,  -999.0,9,     -999.0,9,     -999.0,9,   8.4436
58GS20090528,        GIN,     219,          1,          1,20090601,       1533,    69.4820,    10.9490,       2940,  2929.9,  -0.8080,  34.9092,2,  34.9105,2,  -999.0,9,   14.06,2,   15.25,2,    0.01,2,    1.02,2,-999.000,9,-999.000,9,-999.000000000,9,  -999.0,9,  -999.0,9,     -999.0,9,     -999.0,9,  -0.9688
58GS20090528,        GIN,     219,          1,          2,20090601,       1533,    69.4820,    10.9490,       2940,  2501.8,  -0.8030,  34.9095,2,  34.9081,2,  -999.0,9,   12.81,2,   14.98,2,    0.01,2,    1.01,2,-999.000,9,-999.000,9,-999.000000000,9,  -999.0,9,  -999.0,9,     -999.0,9,     -999.0,9,  -0.9313
58GS20090528,        GIN,     219,          1,          3,20090601,       1533,    69.4820,    10.9490,       2940,  2000.8,  -0.7620,  34.9077,2,  34.9083,2,  -999.0,9,   11.76,2,   14.74,2,    0.01,2,    1.01,2,-999.000,9,-999.000,9,-999.000000000,9,  -999.0,9,  -999.0,9,     -999.0,9,     -999.0,9,  -0.8566
58GS20090528,        GIN,     219,          1,          4,20090601,       1533,    69.4820,    10.9490,       2940,  1501.4,  -0.6220,  34.9010,2,  34.9019,2,  -999.0,9,    9.93,2,   14.35,2,    0.01,2,    0.98,2,-999.000,9,-999.000,9,-999.000000000,9,  -999.0,9,  -999.0,9,     -999.0,9,     -999.0,9,  -0.6881
58GS20090528,        GIN,     219,          1,          5,20090601,       1533,    69.4820,    10.9490,       2940,  1201.4,  -0.3750,  34.8962,2,  34.8957,2,  -999.0,9,    8.49,2,   14.06,2,    0.01,2,    0.97,2,-999.000,9,-999.000,9,-999.000000000,9,  -999.0,9,  -999.0,9,     -999.0,9,     -999.0,9,  -0.4271
58GS20090528,        GIN,     219,          1,          6,20090601,       1533,    69.4820,    10.9490,       2940,  1000.8,   0.0060,  34.8960,2,  34.8971,2,  -999.0,9,    7.23,2,   13.57,2,    0.01,2,    0.94,2,-999.000,9,-999.000,9,-999.000000000,9,  -999.0,9,  -999.0,9,     -999.0,9,     -999.0,9,  -0.0387
58GS20090528,        GIN,     219,          1,          7,20090601,       1533,    69.4820,    10.9490,       2940,   800.9,   1.6580,  34.9541,2,  34.9572,2,  -999.0,9,    6.25,2,   13.33,2,    0.01,2,    0.91,2,-999.000,9,-999.000,9,-999.000000000,9,  -999.0,9,  -999.0,9,     -999.0,9,     -999.0,9,   1.6128
58GS20090528,        GIN,     219,          1,          8,20090601,       1533,    69.4820,    10.9490,       2940,   600.9,   4.3790,  35.1174,2,  35.1158,2,  -999.0,9,    4.80,2,   11.64,2,    0.02,2,    0.79,2,-999.000,9,-999.000,9,-999.000000000,9,  -999.0,9,  -999.0,9,     -999.0,9,     -999.0,9,   4.3329
58GS20090528,        GIN,     219,          1,          9,20090601,       1533,    69.4820,    10.9490,       2940,   500.5,   4.8380,  35.1343,2,  35.1370,2,  -999.0,9,    4.81,2,   11.60,2,    0.02,2,    0.78,2,-999.000,9,-999.000,9,-999.000000000,9,  -999.0,9,  -999.0,9,     -999.0,9,     -999.0,9,   4.7982
58GS20090528,        GIN,     219,          1,         10,20090601,       1533,    69.4820,    10.9490,       2940,   401.8,   5.2210,  35.1318,2,  35.1315,2,  -999.0,9,    5.03,2,   11.73,2,    0.01,2,    0.78,2,-999.000,9,-999.000,9,-999.000000000,9,  -999.0,9,  -999.0,9,     -999.0,9,     -999.0,9,   5.1882
58GS20090528,        GIN,     219,          1,         11,20090601,       1533,    69.4820,    10.9490,       2940,   300.5,   5.9510,  35.1808,2,  35.1704,2,  -999.0,9,    4.92,2,   11.63,2,    0.02,2,    0.78,2,-999.000,9,-999.000,9,-999.000000000,9,  -999.0,9,  -999.0,9,     -999.0,9,     -999.0,9,   5.9250
58GS20090528,        GIN,     219,          1,         12,20090601,       1533,    69.4820,    10.9490,       2940,   201.6,   6.5070,  35.2029,2,  35.1885,2,  -999.0,9,    5.18,2,   11.96,2,    0.03,2,    0.80,2,-999.000,9,-999.000,9,-999.000000000,9,  -999.0,9,  -999.0,9,     -999.0,9,     -999.0,9,   6.4888
58GS20090528,        GIN,     219,          1,         13,20090601,       1533,    69.4820,    10.9490,       2940,   150.3,   7.0130,  35.2323,2,  35.2235,2,  -999.0,9,    5.13,2,   11.97,2,    0.07,2,    0.80,2,-999.000,9,-999.000,9,-999.000000000,9,  -999.0,9,  -999.0,9,     -999.0,9,     -999.0,9,   6.9989
58GS20090528,        GIN,     219,          1,         14,20090601,       1533,    69.4820,    10.9490,       2940,   123.6,   7.2520,  35.2502,2,  35.2371,2,  -999.0,9,    5.13,2,   12.04,2,    0.06,2,    0.80,2,-999.000,9,-999.000,9,-999.000000000,9,  -999.0,9,  -999.0,9,     -999.0,9,     -999.0,9,   7.2402
58GS20090528,        GIN,     219,          1,         15,20090601,       1533,    69.4820,    10.9490,       2940,   101.5,   7.3930,  35.2564,2,  35.2530,2,  -999.0,9,    4.98,2,   11.71,2,    0.10,2,    0.78,2,-999.000,9,-999.000,9,-999.000000000,9,  -999.0,9,  -999.0,9,       0.03,2,       0.21,2,   7.3832
58GS20090528,        GIN,     219,          1,         16,20090601,       1533,    69.4820,    10.9490,       2940,    74.2,   7.4830,  35.2579,2,  35.2506,2,  -999.0,9,    4.87,2,   11.56,2,    0.04,2,    0.78,2,-999.000,9,-999.000,9,-999.000000000,9,  -999.0,9,  -999.0,9,       0.04,2,       0.21,2,   7.4758
58GS20090528,        GIN,     219,          1,         17,20090601,       1533,    69.4820,    10.9490,       2940,    51.0,   7.6680,  35.2627,2,  35.2643,2,  -999.0,9,    4.37,2,   10.22,2,    0.18,2,    0.72,2,-999.000,9,-999.000,9,-999.000000000,9,  -999.0,9,  -999.0,9,       0.10,2,       0.20,2,   7.6630
58GS20090528,        GIN,     219,          1,         18,20090601,       1533,    69.4820,    10.9490,       2940,    30.0,   7.8000,  35.2257,2,  35.2188,2,  -999.0,9,    2.01,2,    6.59,2,    0.11,2,    0.50,2,-999.000,9,-999.000,9,-999.000000000,9,  -999.0,9,  -999.0,9,       1.30,2,       0.22,2,   7.7970
58GS20090528,        GIN,     219,          1,         19,20090601,       1533,    69.4820,    10.9490,       2940,    19.2,   7.8180,  35.2246,2,  35.2179,2,  -999.0,9,    1.93,2,    6.51,2,    0.11,2,    0.50,2,-999.000,9,-999.000,9,-999.000000000,9,  -999.0,9,  -999.0,9,       1.45,2,       0.35,2,   7.8161
58GS20090528,        GIN,     219,          1,         20,20090601,       1533,    69.4820,    10.9490,       2940,     9.3,   7.8190,  35.2187,2,  35.2177,2,  -999.0,9,    1.93,2,    6.47,2,    0.11,2,    0.49,2,-999.000,9,-999.000,9,-999.000000000,9,  -999.0,9,  -999.0,9,       1.67,2,       0.27,2,   7.8181
58GS20090528,        GIN,     219,          1,         21,20090601,       1533,    69.4820,    10.9490,       2940,     9.1,   7.8170,  35.2244,2,-999.0000,9,  -999.0,9, -999.00,9, -999.00,9, -999.00,9, -999.00,9,-999.000,9,-999.000,9,-999.000000000,9,  -999.0,9,  -999.0,9,     -999.0,9,     -999.0,9,   7.8161
58GS20090528,        GIN,     219,          1,         22,20090601,       1533,    69.4820,    10.9490,       2940,     3.3,   7.8170,  35.2248,2,-999.0000,9,  -999.0,9,    1.98,2,    6.49,2,    0.12,2,    0.50,2,-999.000,9,-999.000,9,-999.000000000,9,  -999.0,9,  -999.0,9,       1.45,2,       0.26,2,   7.8167
58GS20090528,        GIN,     219,          1,         23,20090601,       1533,    69.4820,    10.9490,       2940,     3.7,   7.8170,  35.2246,2,-999.0000,9,  -999.0,9, -999.00,9, -999.00,9, -999.00,9, -999.00,9,-999.000,9,-999.000,9,-999.000000000,9,  -999.0,9,  -999.0,9,     -999.0,9,     -999.0,9,   7.8166