BOTTLE,20150327CCHSIORJL
EXPOCODE,SECT_ID,STNNBR,CASTNO,BTLNBR,DATE,TIME,LATITUDE,LONGITUDE,DEPTH,CTDPRS,CTDTMP,CTDSAL,CTDSAL_FLAG_W,SALNTY,SALNTY_FLAG_W,OXYGEN,OXYGEN_FLAG_W,SILCAT,SILCAT_FLAG_W,NITRAT,NITRAT_FLAG_W,NITRIT,NITRIT_FLAG_W,PHSPHT,PHSPHT_FLAG_W,CFC-11,CFC-11_FLAG_W,CFC-12,CFC-12_FLAG_W,SF6,SF6_FLAG_W,TCARBN,TCARBN_FLAG_W,ALKALI,ALKALI_FLAG_W,CHLORA,CHLORA_FLAG_W,PPHYTN,PPHYTN_FLAG_W,THETA
,,,,,,,,,METERS,DBAR,ITS-90,PSS-78,,PSS-78,,UMOL/KG,,UMOL/KG,,UMOL/KG,,UMOL/KG,,UMOL/KG,,PMOL/KG,,PMOL/KG,,FMOL/KG,,UMOL/KG,,UMOL/KG,,MG/M^3,,MG/M^3,,DEG C
58GS20090528,        GIN,     286,          1,          1,20090619,       2244,    77.0010,     3.0030,       3010,  3000.3,  -0.7980,  34.9101,2,  34.9119,2,   298.2,2,   12.76,2,   14.56,2,    0.02,2,    1.03,2,-999.000,9,   0.373,2,-999.000000000,9,  2160.6,2,  -999.0,9,     -999.0,9,     -999.0,9,  -0.9646
58GS20090528,        GIN,     286,          1,          2,20090619,       2244,    77.0010,     3.0030,       3010,  2500.2,  -0.8040,  34.9104,2,  34.9108,2,   298.2,2,   12.37,2,   14.59,2,    0.02,2,    1.02,2,-999.000,9,   0.404,2,-999.000000000,9,  2159.1,2,  -999.0,9,     -999.0,9,     -999.0,9,  -0.9322
58GS20090528,        GIN,     286,          1,          3,20090619,       2244,    77.0010,     3.0030,       3010,  2000.8,  -0.7510,  34.9077,2,  34.9090,2,   299.3,2,   11.42,2,   14.67,2,    0.01,2,    1.01,2,-999.000,9,   0.649,2,-999.000000000,9,  2159.8,2,  -999.0,9,     -999.0,9,     -999.0,9,  -0.8458
58GS20090528,        GIN,     286,          1,          4,20090619,       2244,    77.0010,     3.0030,       3010,  1499.9,  -0.6470,  34.8988,2,  34.9010,2,   311.1,2,    8.97,2,   13.57,2,    0.02,2,    0.96,2,-999.000,9,   1.712,6,-999.000000000,9,  2162.7,2,  -999.0,9,     -999.0,9,     -999.0,9,  -0.7127
58GS20090528,        GIN,     286,          1,          5,20090619,       2244,    77.0010,     3.0030,       3010,  1199.6,  -0.5560,  34.8986,2,  34.9018,2,   322.8,2,    7.47,2,   13.15,2,    0.01,2,    0.95,2,-999.000,9,   2.485,2,-999.000000000,9,  2166.7,2,  -999.0,9,     -999.0,9,     -999.0,9,  -0.6062
58GS20090528,        GIN,     286,          1,          6,20090619,       2244,    77.0010,     3.0030,       3010,  1000.2,  -0.3830,  34.9096,2,  34.9147,2,   328.3,2,    6.71,2,   12.76,2,    0.03,2,    0.89,2,-999.000,9,   2.790,2,-999.000000000,9,  2163.9,2,  -999.0,9,     -999.0,9,     -999.0,9,  -0.4245
58GS20090528,        GIN,     286,          1,          7,20090619,       2244,    77.0010,     3.0030,       3010,   799.6,  -0.2390,  34.9205,2,  34.9249,2,   329.4,2,    6.42,2,   12.50,2,    0.02,2,    0.87,2,-999.000,9,   2.837,2,-999.000000000,9,  2163.6,2,  -999.0,9,     -999.0,9,     -999.0,9,  -0.2717
58GS20090528,        GIN,     286,          1,          8,20090619,       2244,    77.0010,     3.0030,       3010,   600.2,  -0.2090,  34.9210,2,  34.9233,2,   329.0,2,    6.41,2,   12.60,2,    0.01,2,    0.88,2,-999.000,9,   2.788,2,-999.000000000,9,  2161.8,2,  -999.0,9,     -999.0,9,     -999.0,9,  -0.2326
58GS20090528,        GIN,     286,          1,          9,20090619,       2244,    77.0010,     3.0030,       3010,   500.5,  -0.1880,  34.9196,2,  34.9195,2,   327.6,2,    6.44,2,   12.67,2,    0.02,2,    0.87,2,-999.000,9,   2.829,2,-999.000000000,9,  2163.1,2,  -999.0,9,     -999.0,9,     -999.0,9,  -0.2073
58GS20090528,        GIN,     286,          1,         10,20090619,       2244,    77.0010,     3.0030,       3010,   400.4,  -0.1650,  34.9166,2,  34.9184,2,   326.0,2,    6.60,2,   12.45,2,    0.03,2,    0.89,2,-999.000,9,   2.782,2,-999.000000000,9,  2163.6,2,  -999.0,9,     -999.0,9,     -999.0,9,  -0.1802
58GS20090528,        GIN,     286,          1,         11,20090619,       2244,    77.0010,     3.0030,       3010,   299.9,   0.0840,  34.9286,2,  34.9316,2,   325.0,2,    6.44,2,   12.60,2,    0.04,2,    0.90,2,-999.000,9,   2.826,2,-999.000000000,9,  2162.2,2,  -999.0,9,     -999.0,9,     -999.0,9,   0.0723
58GS20090528,        GIN,     286,          1,         12,20090619,       2244,    77.0010,     3.0030,       3010,   200.2,   0.5050,  34.9497,2,  34.9505,2,   321.7,2,    6.27,2,   12.62,2,    0.03,2,    0.90,2,-999.000,9,   2.791,2,-999.000000000,9,  2161.0,2,  -999.0,9,     -999.0,9,     -999.0,9,   0.4966
58GS20090528,        GIN,     286,          1,         13,20090619,       2244,    77.0010,     3.0030,       3010,   150.0,   0.6610,  34.9554,2,  34.9584,2,   319.4,2,    6.18,2,   12.32,2,    0.03,2,    0.85,2,-999.000,9,-999.000,9,-999.000000000,9,  2161.6,2,  -999.0,9,     -999.0,9,     -999.0,9,   0.6546
58GS20090528,        GIN,     286,          1,         14,20090619,       2244,    77.0010,     3.0030,       3010,   126.0,   0.6620,  34.9466,2,  34.9530,2,  -999.0,9,    6.12,2,   12.29,2,    0.04,2,    0.87,2,-999.000,9,-999.000,9,-999.000000000,9,  -999.0,9,  -999.0,9,     -999.0,9,     -999.0,9,   0.6567
58GS20090528,        GIN,     286,          1,         15,20090619,       2244,    77.0010,     3.0030,       3010,    99.9,   0.9290,  34.9558,2,  34.9564,2,   325.6,2,    5.82,2,   11.91,2,    0.05,2,    0.84,2,-999.000,9,   2.923,2,-999.000000000,9,  2157.9,2,  -999.0,9,       0.03,2,       0.10,2,   0.9246
58GS20090528,        GIN,     286,          1,         16,20090619,       2244,    77.0010,     3.0030,       3010,    74.6,   1.1510,  34.9650,2,  23.9554,4,   326.8,2,    5.56,2,   11.47,2,    0.06,2,    0.81,2,-999.000,9,-999.000,9,-999.000000000,9,  2158.8,2,  -999.0,9,       0.04,2,       0.14,2,   1.1491
58GS20090528,        GIN,     286,          1,         17,20090619,       2244,    77.0010,     3.0030,       3010,    50.0,   1.7390,  34.9943,2,  34.9921,2,   325.2,2,    5.39,2,   11.24,2,    0.09,2,    0.81,2,-999.000,9,   2.956,2,-999.000000000,9,  2155.9,2,  -999.0,9,       0.12,2,       0.11,2,   1.7365
58GS20090528,        GIN,     286,          1,         18,20090619,       2244,    77.0010,     3.0030,       3010,    29.7,   2.2600,  35.0195,2,  35.0439,2,  -999.0,9,    4.89,2,    8.99,2,    0.09,2,    0.71,2,-999.000,9,-999.000,9,-999.000000000,9,  -999.0,9,  -999.0,9,       0.52,2,       0.27,2,   2.2584
58GS20090528,        GIN,     286,          1,         19,20090619,       2244,    77.0010,     3.0030,       3010,    24.3,   3.3640,  35.0509,2,  35.0542,2,   335.6,2,    4.42,2,    6.61,2,    0.07,2,    0.55,2,-999.000,9,-999.000,9,-999.000000000,9,  2128.6,2,  -999.0,9,       1.17,2,       0.31,2,   3.3624
58GS20090528,        GIN,     286,          1,         20,20090619,       2244,    77.0010,     3.0030,       3010,    24.2,   3.6650,  35.0514,2,-999.0000,9,  -999.0,9, -999.00,9, -999.00,9, -999.00,9, -999.00,9,-999.000,9,-999.000,9,-999.000000000,9,  -999.0,9,  -999.0,9,     -999.0,9,     -999.0,9,   3.6634
58GS20090528,        GIN,     286,          1,         21,20090619,       2244,    77.0010,     3.0030,       3010,    15.0,  35.0570,  35.0570,2,  35.0546,2,  -999.0,9,    4.45,2,    6.35,2,    0.08,2,    0.56,2,-999.000,9,-999.000,9,-999.000000000,9,  -999.0,9,  -999.0,9,       1.21,2,       0.27,2,  35.0528
58GS20090528,        GIN,     286,          1,         22,20090619,       2244,    77.0010,     3.0030,       3010,     9.9,   3.7700,  35.0557,2,  35.0546,2,   336.8,2,    4.41,2,    6.23,2,    0.07,2,    0.54,2,-999.000,9,   2.942,2,-999.000000000,9,  2126.9,2,  -999.0,9,       1.10,2,       0.26,2,   3.7693
58GS20090528,        GIN,     286,          1,         23,20090619,       2244,    77.0010,     3.0030,       3010,     4.9,   3.8480,  35.0389,2,  35.0439,2,  -999.0,9,    4.33,2,    6.15,2,    0.07,2,    0.53,2,-999.000,9,-999.000,9,-999.000000000,9,  -999.0,9,  -999.0,9,       0.99,2,       0.26,2,   3.8477
58GS20090528,        GIN,     286,          1,         24,20090619,       2244,    77.0010,     3.0030,       3010,     5.0,   3.8980,  35.0309,2,-999.0000,9,  -999.0,9, -999.00,9, -999.00,9, -999.00,9, -999.00,9,-999.000,9,-999.000,9,-999.000000000,9,  -999.0,9,  -999.0,9,     -999.0,9,     -999.0,9,   3.8977
58GS20090528,        GIN,     287,          1,          1,20090620,       0249,    77.0000,     4.4980,       2860,  2850.2,  -0.8110,  34.9102,2,  34.9135,2,   298.5,2,   12.75,2,   14.78,2,    0.02,2,    1.02,2,-999.000,9,   0.377,2,-999.000000000,9,  2163.0,2,  2308.3,2,     -999.0,9,     -999.0,9,  -0.9654
58GS20090528,        GIN,     287,          1,          2,20090620,       0249,    77.0000,     4.4980,       2860,  2500.5,  -0.8120,  34.9104,2,  34.9132,2,   298.2,2,   12.45,2,   14.89,2,    0.03,2,    1.04,2,-999.000,9,   0.386,2,-999.000000000,9,  2162.5,2,  2308.4,2,     -999.0,9,     -999.0,9,  -0.9401
58GS20090528,        GIN,     287,          1,          3,20090620,       0249,    77.0000,     4.4980,       2860,  1999.6,  -0.7830,  34.9090,2,  34.9130,2,   298.5,2,   11.76,2,   14.67,2,    0.01,2,    1.01,2,-999.000,9,   0.536,2,-999.000000000,9,  2162.9,2,  2307.2,2,     -999.0,9,     -999.0,9,  -0.8772
58GS20090528,        GIN,     287,          1,          4,20090620,       0249,    77.0000,     4.4980,       2860,  1502.0,  -0.6760,  34.9005,2,  34.9052,2,   306.4,2,    9.63,2,   13.97,2,    0.01,2,    0.98,2,-999.000,9,   1.379,2,-999.000000000,9,  2164.3,2,  2306.4,2,     -999.0,9,     -999.0,9,  -0.7415
58GS20090528,        GIN,     287,          1,          5,20090620,       0249,    77.0000,     4.4980,       2860,  1200.3,  -0.5590,  34.8993,2,  34.9023,2,  -999.0,9,    7.29,2,   12.97,2,    0.02,2,    0.92,2,-999.000,9,   2.601,2,-999.000000000,9,  -999.0,9,  -999.0,9,     -999.0,9,     -999.0,9,  -0.6092
58GS20090528,        GIN,     287,          1,          6,20090620,       0249,    77.0000,     4.4980,       2860,  1000.6,  -0.3590,  34.9122,2,  34.9153,2,   328.8,2,    6.63,2,   12.67,2,    0.01,2,    0.89,2,-999.000,9,   2.936,2,-999.000000000,9,  2165.2,2,  2305.0,2,     -999.0,9,     -999.0,9,  -0.4008
58GS20090528,        GIN,     287,          1,          7,20090620,       0249,    77.0000,     4.4980,       2860,   800.7,  -0.2220,  34.9210,2,  34.9256,2,   329.8,2,    6.33,2,   12.47,2,    0.03,2,    0.88,2,-999.000,9,   3.031,2,-999.000000000,9,  2164.7,2,  2308.5,2,     -999.0,9,     -999.0,9,  -0.2549
58GS20090528,        GIN,     287,          1,          8,20090620,       0249,    77.0000,     4.4980,       2860,   600.6,  -0.2070,  34.9200,2,  34.9207,2,   329.8,2,    6.33,2,   12.56,2,    0.03,2,    0.89,2,-999.000,9,   3.004,2,-999.000000000,9,  2164.7,2,  2305.7,2,     -999.0,9,     -999.0,9,  -0.2307
58GS20090528,        GIN,     287,          1,          9,20090620,       0249,    77.0000,     4.4980,       2860,   500.7,  -0.2500,  34.9120,2,  34.9139,2,   327.6,2,    6.51,2,   12.41,2,    0.02,2,    0.88,2,-999.000,9,   2.934,2,-999.000000000,9,  2165.6,2,  2304.4,2,     -999.0,9,     -999.0,9,  -0.2691
58GS20090528,        GIN,     287,          1,         10,20090620,       0249,    77.0000,     4.4980,       2860,   401.0,  -0.0450,  34.9216,2,  34.9284,2,   328.6,2,    6.23,2,   12.40,2,    0.03,2,    0.89,2,-999.000,9,   3.063,6,-999.000000000,9,  2163.3,2,  2305.6,2,     -999.0,9,     -999.0,9,  -0.0606
58GS20090528,        GIN,     287,          1,         11,20090620,       0249,    77.0000,     4.4980,       2860,   299.6,   0.2890,  34.9449,2,  34.9471,2,   328.8,2,    5.97,2,   12.40,2,    0.02,2,    0.86,2,-999.000,9,   3.111,2,-999.000000000,9,  2163.5,2,  2308.5,2,     -999.0,9,     -999.0,9,   0.2768
58GS20090528,        GIN,     287,          1,         12,20090620,       0249,    77.0000,     4.4980,       2860,   200.5,   0.2870,  34.9413,2,  34.9449,2,   330.1,2,    5.89,2,   12.33,2,    0.02,2,    0.85,2,-999.000,9,   3.161,2,-999.000000000,9,  2163.4,2,  2308.6,2,     -999.0,9,     -999.0,9,   0.2790
58GS20090528,        GIN,     287,          1,         13,20090620,       0249,    77.0000,     4.4980,       2860,   150.0,   0.3300,  34.9434,2,  34.9471,2,   329.5,2,    5.89,2,   12.11,2,    0.04,2,    0.84,2,-999.000,9,-999.000,9,-999.000000000,9,  2163.1,2,  2309.5,2,     -999.0,9,     -999.0,9,   0.3240
58GS20090528,        GIN,     287,          1,         14,20090620,       0249,    77.0000,     4.4980,       2860,   124.2,   0.3270,  34.9420,2,  34.9398,2,  -999.0,9,    5.92,2,   12.26,2,    0.03,2,    0.87,2,-999.000,9,-999.000,9,-999.000000000,9,  -999.0,9,  -999.0,9,     -999.0,9,     -999.0,9,   0.3221
58GS20090528,        GIN,     287,          1,         15,20090620,       0249,    77.0000,     4.4980,       2860,    99.7,   0.2790,  34.9341,2,  34.9291,2,   327.4,2,    6.07,2,   12.37,2,    0.05,2,    0.86,2,-999.000,9,   3.081,2,-999.000000000,9,  2162.8,2,  2305.8,2,       0.02,2,       0.04,2,   0.2751
58GS20090528,        GIN,     287,          1,         16,20090620,       0249,    77.0000,     4.4980,       2860,    74.8,   0.4040,  34.9340,2,  34.9319,2,   326.3,2,    6.13,2,   12.29,2,    0.06,2,    0.86,2,-999.000,9,-999.000,9,-999.000000000,9,  2163.2,2,  2309.2,2,       0.04,2,       0.08,2,   0.4010
58GS20090528,        GIN,     287,          1,         17,20090620,       0249,    77.0000,     4.4980,       2860,    50.7,   0.7800,  34.9477,2,  34.9529,2,   327.2,2,    5.79,2,   11.67,2,    0.08,2,    0.83,2,-999.000,9,   3.070,2,-999.000000000,9,  2160.0,2,  2309.7,2,       0.14,2,       0.12,2,   0.7778
58GS20090528,        GIN,     287,          1,         18,20090620,       0249,    77.0000,     4.4980,       2860,    25.0,   2.0620,  34.9807,2,  35.0003,2,   337.3,2,    4.61,2,    8.09,2,    0.08,2,    0.65,2,-999.000,9,-999.000,9,-999.000000000,9,  2140.0,2,  2315.3,2,       0.87,2,       0.32,2,   2.0607
58GS20090528,        GIN,     287,          1,         19,20090620,       0249,    77.0000,     4.4980,       2860,    25.4,   2.9420,  35.0004,2,-999.0000,9,  -999.0,9, -999.00,9, -999.00,9, -999.00,9, -999.00,9,-999.000,9,-999.000,9,-999.000000000,9,  -999.0,9,  -999.0,9,     -999.0,9,     -999.0,9,   2.9405
58GS20090528,        GIN,     287,          1,         20,20090620,       0249,    77.0000,     4.4980,       2860,    14.9,   3.5540,  35.0250,2,  35.0263,2,  -999.0,9,    4.18,2,    6.60,2,    0.07,2,    0.55,2,-999.000,9,-999.000,9,-999.000000000,9,  -999.0,9,  -999.0,9,       0.95,2,       0.25,2,   3.5530
58GS20090528,        GIN,     287,          1,         21,20090620,       0249,    77.0000,     4.4980,       2860,    10.5,   3.5890,  35.0267,2,  35.0245,2,   338.5,2,    4.17,2,    6.57,2,    0.07,2,    0.57,2,-999.000,9,   3.128,2,-999.000000000,9,  2129.0,2,  2317.4,2,       0.84,2,       0.21,2,   3.5883
58GS20090528,        GIN,     287,          1,         22,20090620,       0249,    77.0000,     4.4980,       2860,    10.5,   3.6340,  35.0268,2,-999.0000,9,  -999.0,9, -999.00,9, -999.00,9, -999.00,9, -999.00,9,-999.000,9,-999.000,9,-999.000000000,9,  -999.0,9,  -999.0,9,     -999.0,9,     -999.0,9,   3.6333
58GS20090528,        GIN,     287,          1,         23,20090620,       0249,    77.0000,     4.4980,       2860,     5.4,   3.7630,  35.0203,2,  35.0218,2,  -999.0,9,    4.19,2,    6.46,2,    0.07,2,    0.54,2,-999.000,9,-999.000,9,-999.000000000,9,  -999.0,9,  -999.0,9,       0.77,2,       0.20,2,   3.7626
58GS20090528,        GIN,     287,          1,         24,20090620,       0249,    77.0000,     4.4980,       2860,     5.4,   3.8520,  35.0265,2,-999.0000,9,  -999.0,9, -999.00,9, -999.00,9, -999.00,9, -999.00,9,-999.000,9,-999.000,9,-999.000000000,9,  -999.0,9,  -999.0,9,     -999.0,9,     -999.0,9,   3.8516