BOTTLE,20150327CCHSIORJL
EXPOCODE,SECT_ID,STNNBR,CASTNO,BTLNBR,DATE,TIME,LATITUDE,LONGITUDE,DEPTH,CTDPRS,CTDTMP,CTDSAL,CTDSAL_FLAG_W,SALNTY,SALNTY_FLAG_W,OXYGEN,OXYGEN_FLAG_W,SILCAT,SILCAT_FLAG_W,NITRAT,NITRAT_FLAG_W,NITRIT,NITRIT_FLAG_W,PHSPHT,PHSPHT_FLAG_W,CFC-11,CFC-11_FLAG_W,CFC-12,CFC-12_FLAG_W,SF6,SF6_FLAG_W,TCARBN,TCARBN_FLAG_W,ALKALI,ALKALI_FLAG_W,CHLORA,CHLORA_FLAG_W,PPHYTN,PPHYTN_FLAG_W,THETA
,,,,,,,,,METERS,DBAR,ITS-90,PSS-78,,PSS-78,,UMOL/KG,,UMOL/KG,,UMOL/KG,,UMOL/KG,,UMOL/KG,,PMOL/KG,,PMOL/KG,,FMOL/KG,,UMOL/KG,,UMOL/KG,,MG/M^3,,MG/M^3,,DEG C
58GS20090528,        GIN,     236,          1,          1,20090606,       1627,    75.0000,    -2.0000,       3571,  3561.2,  -0.7960,  34.9098,2,  34.9064,2,   300.5,2,   12.79,2,   14.73,2,    0.02,2,    1.01,2,-999.000,9,-999.000,9,-999.000000000,9,  2161.7,2,  2300.3,2,     -999.0,9,     -999.0,9,  -1.0102
58GS20090528,        GIN,     236,          1,          2,20090606,       1627,    75.0000,    -2.0000,       3571,  3000.6,  -0.8020,  34.9119,2,  34.9129,2,   299.3,2,   12.38,2,   14.70,2,    0.01,2,    1.00,2,-999.000,9,-999.000,9,-999.000000000,9,  2163.6,2,  2306.0,2,     -999.0,9,     -999.0,9,  -0.9686
58GS20090528,        GIN,     236,          1,          3,20090606,       1627,    75.0000,    -2.0000,       3571,  2500.4,  -0.7830,  34.9116,2,  34.9077,2,   298.9,2,   11.99,2,   14.67,2,    0.02,2,    1.01,2,-999.000,9,-999.000,9,-999.000000000,9,  2162.9,2,  2305.5,2,     -999.0,9,     -999.0,9,  -0.9116
58GS20090528,        GIN,     236,          1,          4,20090606,       1627,    75.0000,    -2.0000,       3571,  2000.3,  -0.7080,  34.9080,2,  34.9041,2,   301.2,2,   10.77,2,   14.38,2,    0.02,2,    0.99,2,-999.000,9,-999.000,9,-999.000000000,9,  2163.8,2,  2298.6,2,     -999.0,9,     -999.0,9,  -0.8034
58GS20090528,        GIN,     236,          1,          5,20090606,       1627,    75.0000,    -2.0000,       3571,  1500.3,  -0.6140,  34.9003,2,  34.9005,2,   331.1,2,    6.88,2,   12.77,2,    0.02,2,    0.89,2,-999.000,9,-999.000,9,-999.000000000,9,  2167.8,2,  2300.7,2,     -999.0,9,     -999.0,9,  -0.6801
58GS20090528,        GIN,     236,          1,          6,20090606,       1627,    75.0000,    -2.0000,       3571,  1200.4,  -0.6200,  34.9000,2,  34.8978,2,   331.1,2,    6.78,2,   12.50,2,    0.02,2,    0.87,2,-999.000,9,-999.000,9,-999.000000000,9,  -999.0,9,  -999.0,9,     -999.0,9,     -999.0,9,  -0.6696
58GS20090528,        GIN,     236,          1,          7,20090606,       1627,    75.0000,    -2.0000,       3571,  1000.3,  -0.6110,  34.9007,2,  34.9022,2,   331.0,2,    6.77,2,   12.74,2,    0.02,2,    0.88,2,-999.000,9,-999.000,9,-999.000000000,9,  2164.1,2,  2298.1,2,     -999.0,9,     -999.0,9,  -0.6506
58GS20090528,        GIN,     236,          1,          8,20090606,       1627,    75.0000,    -2.0000,       3571,   800.2,  -0.6050,  34.9005,2,  34.8969,2,   331.0,2,    6.75,2,   12.68,2,    0.03,2,    0.87,2,-999.000,9,-999.000,9,-999.000000000,9,  2166.1,2,  2299.3,2,     -999.0,9,     -999.0,9,  -0.6353
58GS20090528,        GIN,     236,          1,          9,20090606,       1627,    75.0000,    -2.0000,       3571,   600.5,  -0.5480,  34.9040,2,-999.0000,9,   328.6,2,    6.81,2,   12.75,2,    0.03,2,    0.87,2,-999.000,9,-999.000,9,-999.000000000,9,  2165.6,2,  2298.3,2,     -999.0,9,     -999.0,9,  -0.5699
58GS20090528,        GIN,     236,          1,         10,20090606,       1627,    75.0000,    -2.0000,       3571,   600.6,  -0.5490,  34.9041,2,-999.0000,9,   328.7,2, -999.00,9, -999.00,9, -999.00,9, -999.00,9,-999.000,9,-999.000,9,-999.000000000,9,  -999.0,9,  -999.0,9,     -999.0,9,     -999.0,9,  -0.5709
58GS20090528,        GIN,     236,          1,         11,20090606,       1627,    75.0000,    -2.0000,       3571,   500.5,  -0.5410,  34.9036,2,  34.8994,2,   328.1,2,    6.81,2,   12.70,2,    0.03,2,    0.88,2,-999.000,9,-999.000,9,-999.000000000,9,  2164.9,2,  2302.0,2,     -999.0,9,     -999.0,9,  -0.5588
58GS20090528,        GIN,     236,          1,         12,20090606,       1627,    75.0000,    -2.0000,       3571,   399.3,  -0.4500,  34.9095,2,  34.9039,2,   327.2,2,    6.76,2,   12.65,2,    0.03,2,    0.89,2,   5.716,3,   2.490,3,-999.000000000,9,  2166.0,2,  2303.3,2,     -999.0,9,     -999.0,9,  -0.4642
58GS20090528,        GIN,     236,          1,         13,20090606,       1627,    75.0000,    -2.0000,       3571,   299.9,  -0.4480,  34.9055,2,  34.9039,2,   326.3,2,    6.75,2,   12.70,2,    0.03,2,    0.89,2,-999.000,9,-999.000,9,-999.000000000,9,  2164.9,2,  2294.5,3,     -999.0,9,     -999.0,9,  -0.4584
58GS20090528,        GIN,     236,          1,         14,20090606,       1627,    75.0000,    -2.0000,       3571,   199.2,  -0.2290,  34.9177,2,  34.9164,2,   328.1,2,    6.51,2,   12.43,2,    0.04,2,    0.85,2,   5.905,3,   2.432,3,-999.000000000,9,  2163.8,2,  2300.6,2,     -999.0,9,     -999.0,9,  -0.2361
58GS20090528,        GIN,     236,          1,         15,20090606,       1627,    75.0000,    -2.0000,       3571,   149.2,  -0.1930,  34.9149,2,  34.9113,2,   333.3,2,    6.46,2,   12.30,2,    0.04,2,    0.86,2,-999.000,9,-999.000,9,-999.000000000,9,  2164.7,2,  2297.0,2,     -999.0,9,     -999.0,9,  -0.1983
58GS20090528,        GIN,     236,          1,         16,20090606,       1627,    75.0000,    -2.0000,       3571,   100.8,  -0.0640,  34.9120,2,  34.9139,2,   333.0,2,    6.21,2,   11.55,2,    0.05,2,    0.83,2,-999.000,9,-999.000,9,-999.000000000,9,  2160.5,2,  2302.5,2,       0.17,2,       0.50,2,  -0.0676
58GS20090528,        GIN,     236,          1,         17,20090606,       1627,    75.0000,    -2.0000,       3571,    74.9,   0.0380,  34.9115,2,  34.9093,2,   340.5,2,    5.87,2,   11.11,2,    0.04,2,    0.81,2,   6.302,3,   2.545,3,-999.000000000,9,  2160.1,2,  2299.7,2,       0.20,2,       0.47,2,   0.0353
58GS20090528,        GIN,     236,          1,         18,20090606,       1627,    75.0000,    -2.0000,       3571,    50.1,   0.1030,  34.9017,2,  34.8972,2,   325.4,2,    5.17,2,   10.96,2,    0.04,2,    0.80,2,-999.000,9,-999.000,9,-999.000000000,9,  2155.3,2,  2299.6,2,       0.34,2,       0.39,2,   0.1011
58GS20090528,        GIN,     236,          1,         19,20090606,       1627,    75.0000,    -2.0000,       3571,    30.2,   0.5270,  34.9162,2,-999.0000,9,   325.4,2,    4.68,2,   10.11,2,    0.04,2,    0.76,2,   5.942,3,   2.340,3,-999.000000000,9,  2154.2,2,  2299.8,2,       0.38,2,       0.25,2,   0.5258
58GS20090528,        GIN,     236,          1,         20,20090606,       1627,    75.0000,    -2.0000,       3571,    20.3,   0.5070,  34.8912,2,-999.0000,9,  -999.0,9,    2.59,2,    8.52,2,    0.05,2,    0.66,2,-999.000,9,-999.000,9,-999.000000000,9,  -999.0,9,  -999.0,9,       0.72,2,       0.56,2,   0.5062
58GS20090528,        GIN,     236,          1,         21,20090606,       1627,    75.0000,    -2.0000,       3571,    10.3,   1.0200,  34.8251,2,-999.0000,9,  -999.0,9,    0.46,2,    5.25,2,    0.05,2,    0.44,2,-999.000,9,-999.000,9,-999.000000000,9,  -999.0,9,  -999.0,9,       0.85,2,       0.44,2,   1.0195
58GS20090528,        GIN,     236,          1,         22,20090606,       1627,    75.0000,    -2.0000,       3571,     3.8,   1.4510,  34.7258,2,-999.0000,9,   367.3,2,    0.27,2,    3.55,2,    0.05,2,    0.32,2,-999.000,9,-999.000,9,-999.000000000,9,  2102.4,2,  2289.0,2,       0.65,2,       0.33,2,   1.4508
58GS20090528,        GIN,     237,          1,          1,20090606,       2145,    74.9980,    -0.9930,       3605,  3498.6,  -0.8010,  34.9097,2,  34.8437,3,   299.2,2,   13.11,2,   14.91,2,    0.02,2,    1.01,2,-999.000,9,-999.000,9,-999.000000000,9,  2160.4,2,  -999.0,9,     -999.0,9,     -999.0,9,  -1.0092
58GS20090528,        GIN,     237,          1,          2,20090606,       2145,    74.9980,    -0.9930,       3605,  2999.4,  -0.8050,  34.9119,2,  34.9109,2,   298.6,2,   12.59,2,   14.78,2,    0.01,2,    1.00,2,-999.000,9,-999.000,9,-999.000000000,9,  2161.1,2,  2305.6,2,     -999.0,9,     -999.0,9,  -0.9714
58GS20090528,        GIN,     237,          1,          3,20090606,       2145,    74.9980,    -0.9930,       3605,  2500.1,  -0.7850,  34.9118,2,  34.9129,2,   298.1,2,   12.08,2,   14.80,2,    0.01,2,    1.01,2,-999.000,9,-999.000,9,-999.000000000,9,  2159.9,2,  -999.0,9,     -999.0,9,     -999.0,9,  -0.9136
58GS20090528,        GIN,     237,          1,          4,20090606,       2145,    74.9980,    -0.9930,       3605,  2000.0,  -0.7090,  34.9071,2,  34.9073,2,   301.6,2,   10.68,2,   14.40,2,    0.01,2,    0.99,2,-999.000,9,-999.000,9,-999.000000000,9,  2161.8,2,  -999.0,9,     -999.0,9,     -999.0,9,  -0.8044
58GS20090528,        GIN,     237,          1,          5,20090606,       2145,    74.9980,    -0.9930,       3605,  1500.2,  -0.6270,  34.8996,2,  34.8993,2,   331.6,2,    6.83,2,   12.70,2,    0.01,2,    0.90,2,-999.000,9,-999.000,9,-999.000000000,9,  2164.3,2,  -999.0,9,     -999.0,9,     -999.0,9,  -0.6930
58GS20090528,        GIN,     237,          1,          6,20090606,       2145,    74.9980,    -0.9930,       3605,  1199.9,  -0.6270,  34.9001,2,  34.9017,2,  -999.0,9,    6.75,2,   12.69,2,    0.01,2,    0.88,2,-999.000,9,-999.000,9,-999.000000000,9,  -999.0,9,  -999.0,9,     -999.0,9,     -999.0,9,  -0.6765
58GS20090528,        GIN,     237,          1,          7,20090606,       2145,    74.9980,    -0.9930,       3605,  1000.0,  -0.6150,  34.9015,2,  34.9010,2,   332.0,2,    6.72,2,   12.75,2,    0.02,2,    0.88,2,-999.000,9,-999.000,9,-999.000000000,9,  2163.6,2,  -999.0,9,     -999.0,9,     -999.0,9,  -0.6546
58GS20090528,        GIN,     237,          1,          8,20090606,       2145,    74.9980,    -0.9930,       3605,   799.1,  -0.6110,  34.9016,2,  34.9002,2,   331.5,2,    6.78,2,   12.72,2,    0.02,2,    0.88,2,-999.000,9,-999.000,9,-999.000000000,9,  2162.3,2,  -999.0,9,     -999.0,9,     -999.0,9,  -0.6412
58GS20090528,        GIN,     237,          1,          9,20090606,       2145,    74.9980,    -0.9930,       3605,   599.4,  -0.6280,  34.8992,2,  34.9016,2,   331.4,2,    6.80,2,   12.70,2,    0.02,2,    0.88,2,-999.000,9,-999.000,9,-999.000000000,9,  2162.1,2,  -999.0,9,     -999.0,9,     -999.0,9,  -0.6495
58GS20090528,        GIN,     237,          1,         10,20090606,       2145,    74.9980,    -0.9930,       3605,   599.5,  -0.6300,  34.8993,2,-999.0000,9,  -999.0,9, -999.00,9, -999.00,9, -999.00,9, -999.00,9,-999.000,9,-999.000,9,-999.000000000,9,  -999.0,9,  -999.0,9,     -999.0,9,     -999.0,9,  -0.6515
58GS20090528,        GIN,     237,          1,         11,20090606,       2145,    74.9980,    -0.9930,       3605,   500.1,  -0.6580,  34.8963,2,  34.8962,2,   330.9,2,    6.84,2,   12.77,2,    0.02,2,    0.88,2,-999.000,9,-999.000,9,-999.000000000,9,  2162.9,2,  -999.0,9,     -999.0,9,     -999.0,9,  -0.6753
58GS20090528,        GIN,     237,          1,         12,20090606,       2145,    74.9980,    -0.9930,       3605,   399.9,  -0.6390,  34.8964,2,  34.8956,2,   332.0,2,    6.71,2,   12.65,2,    0.03,2,    0.87,2,-999.000,9,-999.000,9,-999.000000000,9,  2164.0,2,  2305.5,2,     -999.0,9,     -999.0,9,  -0.6525
58GS20090528,        GIN,     237,          1,         13,20090606,       2145,    74.9980,    -0.9930,       3605,   299.8,  -0.6400,  34.8947,2,  34.8969,2,   331.0,2,    6.74,2,   12.66,2,    0.03,2,    0.87,2,-999.000,9,-999.000,9,-999.000000000,9,  2165.1,2,  -999.0,9,     -999.0,9,     -999.0,9,  -0.6499
58GS20090528,        GIN,     237,          1,         14,20090606,       2145,    74.9980,    -0.9930,       3605,   199.3,  -0.6240,  34.8918,2,  34.8845,2,   331.3,2,    6.69,2,   12.56,2,    0.03,2,    0.87,2,-999.000,9,-999.000,9,-999.000000000,9,  2164.7,2,  -999.0,9,     -999.0,9,     -999.0,9,  -0.6304
58GS20090528,        GIN,     237,          1,         15,20090606,       2145,    74.9980,    -0.9930,       3605,   149.3,  -0.6290,  34.8875,2,  34.8856,2,   332.8,2,    6.55,2,   12.47,2,    0.04,2,    0.86,2,-999.000,9,-999.000,9,-999.000000000,9,  2161.0,2,  -999.0,9,     -999.0,9,     -999.0,9,  -0.6337
58GS20090528,        GIN,     237,          1,         16,20090606,       2145,    74.9980,    -0.9930,       3605,   100.1,  -0.5390,  34.8858,2,  34.8852,2,   337.4,2,    6.18,2,   11.76,2,    0.05,2,    0.83,2,-999.000,9,-999.000,9,-999.000000000,9,  2160.9,2,  2300.2,2,       0.20,2,       0.32,2,  -0.5422
58GS20090528,        GIN,     237,          1,         17,20090606,       2145,    74.9980,    -0.9930,       3605,    73.8,  -0.3760,  34.8882,2,  34.8880,2,   343.7,2,    4.99,2,   10.97,2,    0.05,2,    0.79,2,-999.000,9,-999.000,9,-999.000000000,9,  2158.8,2,  -999.0,9,       0.78,2,       0.49,2,  -0.3784
58GS20090528,        GIN,     237,          1,         18,20090606,       2145,    74.9980,    -0.9930,       3605,    49.7,  -0.3360,  34.8788,2,  34.8790,2,   353.1,2,    3.45,2,    9.96,2,    0.05,2,    0.74,2,-999.000,9,-999.000,9,-999.000000000,9,  2152.6,2,  2300.7,2,       0.83,2,       0.51,2,  -0.3376
58GS20090528,        GIN,     237,          1,         19,20090606,       2145,    74.9980,    -0.9930,       3605,    28.7,   0.3960,  34.8871,2,  34.8815,2,   372.0,2,    0.52,2,    6.85,2,    0.06,2,    0.59,2,-999.000,9,-999.000,9,-999.000000000,9,  2126.4,2,  -999.0,9,       1.43,2,       0.45,2,   0.3949
58GS20090528,        GIN,     237,          1,         20,20090606,       2145,    74.9980,    -0.9930,       3605,    20.7,   0.6730,  34.8823,2,-999.0000,9,  -999.0,9, -999.00,9, -999.00,9, -999.00,9, -999.00,9,-999.000,9,-999.000,9,-999.000000000,9,  -999.0,9,  -999.0,9,     -999.0,9,     -999.0,9,   0.6721
58GS20090528,        GIN,     237,          1,         21,20090606,       2145,    74.9980,    -0.9930,       3605,    20.9,   0.6850,  34.8827,2,  34.8863,2,  -999.0,9,    0.33,2,    6.59,2,    0.06,2,    0.54,2,-999.000,9,-999.000,9,-999.000000000,9,  -999.0,9,  -999.0,9,       1.40,2,       0.34,2,   0.6841
58GS20090528,        GIN,     237,          1,         22,20090606,       2145,    74.9980,    -0.9930,       3605,     9.5,   0.8280,  34.8820,2,  34.8799,2,  -999.0,9,    0.29,2,    6.37,2,    0.06,2,    0.52,2,-999.000,9,-999.000,9,-999.000000000,9,  -999.0,9,  -999.0,9,       1.04,2,       0.22,2,   0.8276
58GS20090528,        GIN,     237,          1,         23,20090606,       2145,    74.9980,    -0.9930,       3605,     4.9,   0.8560,  34.8817,2,  34.8783,2,   371.7,2,    0.29,2,    6.33,2,    0.06,2,    0.52,2,-999.000,9,-999.000,9,-999.000000000,9,  2120.5,2,  2308.7,2,       1.09,2,       0.23,2,   0.8558
58GS20090528,        GIN,     237,          1,         24,20090606,       2145,    74.9980,    -0.9930,       3605,     4.8,   0.8560,  34.8817,2,-999.0000,9,  -999.0,9, -999.00,9, -999.00,9, -999.00,9, -999.00,9,-999.000,9,-999.000,9,-999.000000000,9,  -999.0,9,  -999.0,9,     -999.0,9,     -999.0,9,   0.8558