BOTTLE,20150327CCHSIORJL
EXPOCODE,SECT_ID,STNNBR,CASTNO,BTLNBR,DATE,TIME,LATITUDE,LONGITUDE,DEPTH,CTDPRS,CTDTMP,CTDSAL,CTDSAL_FLAG_W,SALNTY,SALNTY_FLAG_W,OXYGEN,OXYGEN_FLAG_W,SILCAT,SILCAT_FLAG_W,NITRAT,NITRAT_FLAG_W,NITRIT,NITRIT_FLAG_W,PHSPHT,PHSPHT_FLAG_W,CFC-11,CFC-11_FLAG_W,CFC-12,CFC-12_FLAG_W,SF6,SF6_FLAG_W,TCARBN,TCARBN_FLAG_W,ALKALI,ALKALI_FLAG_W,CHLORA,CHLORA_FLAG_W,PPHYTN,PPHYTN_FLAG_W,THETA
,,,,,,,,,METERS,DBAR,ITS-90,PSS-78,,PSS-78,,UMOL/KG,,UMOL/KG,,UMOL/KG,,UMOL/KG,,UMOL/KG,,PMOL/KG,,PMOL/KG,,FMOL/KG,,UMOL/KG,,UMOL/KG,,MG/M^3,,MG/M^3,,DEG C
58GS20090528,        GIN,     255,          1,          1,20090611,       0739,    74.5000,    15.2500,       1550,  1540.0,  -0.8660,  34.9077,2,  34.9096,2,   294.4,2,   13.55,2,   14.97,2,    0.01,2,    1.03,2,-999.000,9,-999.000,9,-999.000000000,9,  2164.3,2,  2313.1,2,     -999.0,9,     -999.0,9,  -0.9313
58GS20090528,        GIN,     255,          1,          2,20090611,       0739,    74.5000,    15.2500,       1550,  1500.8,  -0.8680,  34.9076,2,  34.9138,2,   294.4,2,   13.55,2,   15.00,2,    0.01,2,    1.03,2,-999.000,9,-999.000,9,-999.000000000,9,  2163.2,2,  2311.1,2,     -999.0,9,     -999.0,9,  -0.9311
58GS20090528,        GIN,     255,          1,          3,20090611,       0739,    74.5000,    15.2500,       1550,  1200.6,  -0.7220,  34.9043,2,  34.9082,2,   297.2,2,   11.52,2,   14.29,2,    0.01,2,    1.01,2,-999.000,9,-999.000,9,-999.000000000,9,  2162.6,2,  2308.3,2,     -999.0,9,     -999.0,9,  -0.7707
58GS20090528,        GIN,     255,          1,          4,20090611,       0739,    74.5000,    15.2500,       1550,  1000.7,  -0.4550,  34.9006,2,  34.9021,2,   300.0,2,    9.52,2,   14.25,2,    0.01,2,    0.99,2,-999.000,9,-999.000,9,-999.000000000,9,  2166.7,2,  2302.4,2,     -999.0,9,     -999.0,9,  -0.4959
58GS20090528,        GIN,     255,          1,          5,20090611,       0739,    74.5000,    15.2500,       1550,   800.4,   0.2070,  34.9089,2,  34.9111,2,   304.8,2,    7.71,2,   13.67,2,    0.01,2,    0.95,2,-999.000,9,-999.000,9,-999.000000000,9,  2164.0,2,  2306.3,2,     -999.0,9,     -999.0,9,   0.1713
58GS20090528,        GIN,     255,          1,          6,20090611,       0739,    74.5000,    15.2500,       1550,   600.4,   2.5170,  35.0465,2,  35.0399,2,   311.0,2,    5.12,2,   11.91,2,    0.02,2,    0.82,2,-999.000,9,-999.000,9,-999.000000000,9,  2156.2,2,  2302.2,3,     -999.0,9,     -999.0,9,   2.4799
58GS20090528,        GIN,     255,          1,          7,20090611,       0739,    74.5000,    15.2500,       1550,   500.1,   3.0230,  35.0792,2,  35.0801,2,   311.4,2,    4.88,2,   11.60,2,    0.02,2,    0.80,2,-999.000,9,-999.000,9,-999.000000000,9,  2151.7,2,  2315.6,2,     -999.0,9,     -999.0,9,   2.9904
58GS20090528,        GIN,     255,          1,          8,20090611,       0739,    74.5000,    15.2500,       1550,   399.2,   3.4220,  35.0913,2,  35.0819,2,   308.9,2,    4.88,2,   11.48,2,    0.05,2,    0.79,2,-999.000,9,-999.000,9,-999.000000000,9,  2151.7,2,  2319.4,2,     -999.0,9,     -999.0,9,   3.3951
58GS20090528,        GIN,     255,          1,          9,20090611,       0739,    74.5000,    15.2500,       1550,   300.1,   3.9300,  35.1072,2,  35.1034,2,   304.3,2,    4.84,2,   11.48,2,    0.03,2,    0.78,2,-999.000,9,-999.000,9,-999.000000000,9,  2151.4,2,  2319.0,2,     -999.0,9,     -999.0,9,   3.9087
58GS20090528,        GIN,     255,          1,         10,20090611,       0739,    74.5000,    15.2500,       1550,   199.9,   4.6820,  35.1271,2,  35.1246,2,   297.9,2,    4.85,2,   11.58,2,    0.02,2,    0.79,2,-999.000,9,-999.000,9,-999.000000000,9,  2146.8,2,  2321.0,2,     -999.0,9,     -999.0,9,   4.6668
58GS20090528,        GIN,     255,          1,         11,20090611,       0739,    74.5000,    15.2500,       1550,   149.9,   5.0210,  35.1374,2,  35.1388,2,   297.7,2,    4.79,2,   11.26,2,    0.06,2,    0.77,2,-999.000,9,-999.000,9,-999.000000000,9,  2145.1,2,  2320.1,2,     -999.0,9,     -999.0,9,   5.0093
58GS20090528,        GIN,     255,          1,         12,20090611,       0739,    74.5000,    15.2500,       1550,   100.1,   5.5230,  35.1546,2,  35.1474,2,   295.3,2,    4.70,2,   11.03,2,    0.15,2,    0.76,2,-999.000,9,-999.000,9,-999.000000000,9,  2145.8,2,  2321.5,2,       0.03,2,       0.16,2,   5.5148
58GS20090528,        GIN,     255,          1,         13,20090611,       0739,    74.5000,    15.2500,       1550,    74.3,   5.7210,  35.1628,2,  35.1478,2,   296.4,2,    4.65,2,   10.55,2,    0.21,2,    0.74,2,-999.000,9,-999.000,9,-999.000000000,9,  2144.4,2,  2323.0,2,       0.10,2,       0.19,2,   5.7148
58GS20090528,        GIN,     255,          1,         14,20090611,       0739,    74.5000,    15.2500,       1550,    50.2,   5.8550,  35.1528,2,  35.1538,2,   301.2,2,    4.47,2,    9.00,2,    0.20,2,    0.67,2,-999.000,9,-999.000,9,-999.000000000,9,  2137.4,2,  2321.0,2,       0.33,2,       0.31,2,   5.8508
58GS20090528,        GIN,     255,          1,         15,20090611,       0739,    74.5000,    15.2500,       1550,    30.4,   6.1270,  35.1557,2,  35.1532,2,   312.8,2,    4.03,2,    6.20,2,    0.13,2,    0.50,2,-999.000,9,-999.000,9,-999.000000000,9,  2121.0,2,  2320.3,2,       0.85,2,       0.47,2,   6.1244
58GS20090528,        GIN,     255,          1,         16,20090611,       0739,    74.5000,    15.2500,       1550,    20.0,   6.3100,  35.1565,2,  35.1525,2,  -999.0,9,    3.95,2,    5.84,2,    0.12,2,    0.47,2,-999.000,9,-999.000,9,-999.000000000,9,  -999.0,9,  -999.0,9,       0.99,2,       0.49,2,   6.3082
58GS20090528,        GIN,     255,          1,         17,20090611,       0739,    74.5000,    15.2500,       1550,    20.1,   6.3150,  35.1574,2,-999.0000,9,  -999.0,9, -999.00,9, -999.00,9, -999.00,9, -999.00,9,-999.000,9,-999.000,9,-999.000000000,9,  -999.0,9,  -999.0,9,     -999.0,9,     -999.0,9,   6.3132
58GS20090528,        GIN,     255,          1,         18,20090611,       0739,    74.5000,    15.2500,       1550,    10.3,   6.3590,  35.1545,2,  35.1429,2,  -999.0,9,    3.88,2,    5.40,2,    0.11,2,    0.45,2,-999.000,9,-999.000,9,-999.000000000,9,  -999.0,9,  -999.0,9,       1.20,2,       0.40,2,   6.3581
58GS20090528,        GIN,     255,          1,         19,20090611,       0739,    74.5000,    15.2500,       1550,     5.1,   6.6540,  35.1619,2,  35.1185,2,   320.5,2,    3.68,2,    4.36,2,    0.09,2,    0.39,2,-999.000,9,-999.000,9,-999.000000000,9,  2105.3,2,  2321.2,2,       1.19,2,       0.16,2,   6.6535
58GS20090528,        GIN,     255,          1,         20,20090611,       0739,    74.5000,    15.2500,       1550,     5.2,   6.8380,  35.1330,2,-999.0000,9,  -999.0,9, -999.00,9, -999.00,9, -999.00,9, -999.00,9,-999.000,9,-999.000,9,-999.000000000,9,  -999.0,9,  -999.0,9,     -999.0,9,     -999.0,9,   6.8375
58GS20090528,        GIN,     256,          1,          1,20090611,       1131,    74.5000,    15.4990,       1352,  1341.6,  -0.8670,  34.9065,2,  34.9109,2,  -999.0,9,   13.38,2,   14.95,2,    0.01,2,    1.02,2,-999.000,9,-999.000,9,-999.000000000,9,  -999.0,9,  -999.0,9,     -999.0,9,     -999.0,9,  -0.9215
58GS20090528,        GIN,     256,          1,          2,20090611,       1131,    74.5000,    15.4990,       1352,  1199.8,  -0.8370,  34.9063,2,  34.9098,2,  -999.0,9,   12.75,2,   14.84,2,    0.01,2,    1.02,2,-999.000,9,-999.000,9,-999.000000000,9,  -999.0,9,  -999.0,9,     -999.0,9,     -999.0,9,  -0.8845
58GS20090528,        GIN,     256,          1,          3,20090611,       1131,    74.5000,    15.4990,       1352,  1000.1,  -0.7000,  34.9031,2,  34.9972,3,  -999.0,9,   11.24,2,   14.58,2,    0.01,2,    1.01,2,-999.000,9,-999.000,9,-999.000000000,9,  -999.0,9,  -999.0,9,     -999.0,9,     -999.0,9,  -0.7391
58GS20090528,        GIN,     256,          1,          4,20090611,       1131,    74.5000,    15.4990,       1352,   799.7,  -0.0040,  34.9183,2,  35.0183,3,  -999.0,9,    9.10,2,   14.11,2,    0.02,2,    0.98,2,-999.000,9,-999.000,9,-999.000000000,9,  -999.0,9,  -999.0,9,     -999.0,9,     -999.0,9,  -0.0384
58GS20090528,        GIN,     256,          1,          5,20090611,       1131,    74.5000,    15.4990,       1352,   599.6,   2.1750,  35.0001,2,  35.0258,2,  -999.0,9,    5.96,2,   11.90,2,    0.04,2,    0.83,2,-999.000,9,-999.000,9,-999.000000000,9,  -999.0,9,  -999.0,9,     -999.0,9,     -999.0,9,   2.1396
58GS20090528,        GIN,     256,          1,          6,20090611,       1131,    74.5000,    15.4990,       1352,   499.8,   2.8400,  35.0239,2,  35.0687,3,  -999.0,9,    5.45,2,   11.68,2,    0.06,2,    0.81,2,-999.000,9,-999.000,9,-999.000000000,9,  -999.0,9,  -999.0,9,     -999.0,9,     -999.0,9,   2.8082
58GS20090528,        GIN,     256,          1,          7,20090611,       1131,    74.5000,    15.4990,       1352,   399.1,   3.1410,  35.0258,2,  35.1067,3,  -999.0,9,    5.20,2,   11.50,2,    0.06,2,    0.80,2,-999.000,9,-999.000,9,-999.000000000,9,  -999.0,9,  -999.0,9,     -999.0,9,     -999.0,9,   3.1149
58GS20090528,        GIN,     256,          1,          8,20090611,       1131,    74.5000,    15.4990,       1352,   299.5,   4.0190,  35.0595,2,  35.1122,3,  -999.0,9,    4.70,2,   11.16,2,    0.10,2,    0.77,2,-999.000,9,-999.000,9,-999.000000000,9,  -999.0,9,  -999.0,9,     -999.0,9,     -999.0,9,   3.9976
58GS20090528,        GIN,     256,          1,          9,20090611,       1131,    74.5000,    15.4990,       1352,   199.5,   5.1390,  35.1191,2,  35.1179,2,  -999.0,9,    4.63,2,   11.14,2,    0.11,2,    0.76,2,-999.000,9,-999.000,9,-999.000000000,9,  -999.0,9,  -999.0,9,     -999.0,9,     -999.0,9,   5.1231
58GS20090528,        GIN,     256,          1,         10,20090611,       1131,    74.5000,    15.4990,       1352,   148.7,   5.8200,  35.1605,2,  35.1222,2,  -999.0,9,    4.73,2,   11.39,2,    0.05,2,    0.77,2,-999.000,9,-999.000,9,-999.000000000,9,  -999.0,9,  -999.0,9,     -999.0,9,     -999.0,9,   5.8074
58GS20090528,        GIN,     256,          1,         11,20090611,       1131,    74.5000,    15.4990,       1352,   123.8,   5.9320,  35.1648,2,  35.1252,2,  -999.0,9,    4.71,2,   11.37,2,    0.04,2,    0.77,2,-999.000,9,-999.000,9,-999.000000000,9,  -999.0,9,  -999.0,9,     -999.0,9,     -999.0,9,   5.9214
58GS20090528,        GIN,     256,          1,         12,20090611,       1131,    74.5000,    15.4990,       1352,    99.6,   6.1230,  35.1719,2,  35.1323,2,  -999.0,9,    4.64,2,   11.27,2,    0.04,2,    0.76,2,-999.000,9,-999.000,9,-999.000000000,9,  -999.0,9,  -999.0,9,       0.02,2,       0.15,2,   6.1144
58GS20090528,        GIN,     256,          1,         13,20090611,       1131,    74.5000,    15.4990,       1352,    74.6,   6.3690,  35.1784,2,  35.1285,2,  -999.0,9,    4.56,2,   11.21,2,    0.04,2,    0.75,2,-999.000,9,-999.000,9,-999.000000000,9,  -999.0,9,  -999.0,9,       0.03,2,       0.19,2,   6.3624
58GS20090528,        GIN,     256,          1,         14,20090611,       1131,    74.5000,    15.4990,       1352,    49.8,   6.5560,  35.1705,2,  35.1247,2,  -999.0,9,    4.22,2,    9.47,2,    0.14,2,    0.68,2,-999.000,9,-999.000,9,-999.000000000,9,  -999.0,9,  -999.0,9,       0.12,2,       0.13,2,   6.5515
58GS20090528,        GIN,     256,          1,         15,20090611,       1131,    74.5000,    15.4990,       1352,    29.5,   6.7520,  35.1365,2,  35.1211,2,  -999.0,9,    3.70,2,    6.34,2,    0.12,2,    0.52,2,-999.000,9,-999.000,9,-999.000000000,9,  -999.0,9,  -999.0,9,       0.25,2,       0.24,2,   6.7493
58GS20090528,        GIN,     256,          1,         16,20090611,       1131,    74.5000,    15.4990,       1352,    19.4,   6.8410,  35.1289,2,  35.1201,2,  -999.0,9,    3.63,2,    6.23,2,    0.12,2,    0.53,2,-999.000,9,-999.000,9,-999.000000000,9,  -999.0,9,  -999.0,9,       0.27,2,       0.27,2,   6.8392
58GS20090528,        GIN,     256,          1,         17,20090611,       1131,    74.5000,    15.4990,       1352,     9.4,   6.9110,  35.1159,2,-999.0000,9,  -999.0,9,    3.56,2,    5.94,2,    0.11,2,    0.48,2,-999.000,9,-999.000,9,-999.000000000,9,  -999.0,9,  -999.0,9,       0.50,2,       0.18,2,   6.9101
58GS20090528,        GIN,     256,          1,         18,20090611,       1131,    74.5000,    15.4990,       1352,     3.9,   7.0750,  35.1036,2,-999.0000,9,  -999.0,9,    3.52,2,    5.84,2,    0.11,2,    0.47,2,-999.000,9,-999.000,9,-999.000000000,9,  -999.0,9,  -999.0,9,       0.55,2,       0.20,2,   7.0746
58GS20090528,        GIN,     257,          1,          1,20090611,       1450,    74.5000,    15.9170,        982,   972.2,  -0.8270,  34.9050,2,-999.0000,9,   295.3,2,   12.60,2,   14.90,2,    0.02,2,    1.02,2,-999.000,9,-999.000,9,-999.000000000,9,  2166.4,2,  2302.1,2,     -999.0,9,     -999.0,9,  -0.8636
58GS20090528,        GIN,     257,          1,          2,20090611,       1450,    74.5000,    15.9170,        982,   800.6,  -0.5450,  34.9077,2,-999.0000,9,   296.7,2,   11.43,2,   14.62,2,    0.02,2,    1.01,2,-999.000,9,-999.000,9,-999.000000000,9,  2166.5,2,  2303.8,2,     -999.0,9,     -999.0,9,  -0.5757
58GS20090528,        GIN,     257,          1,          3,20090611,       1450,    74.5000,    15.9170,        982,   599.3,   2.1500,  34.9989,2,-999.0000,9,   302.4,2,    6.36,2,   12.38,2,    0.04,2,    0.87,2,-999.000,9,-999.000,9,-999.000000000,9,  2159.7,2,  2308.5,2,     -999.0,9,     -999.0,9,   2.1148
58GS20090528,        GIN,     257,          1,          4,20090611,       1450,    74.5000,    15.9170,        982,   499.8,   2.3820,  35.0106,2,-999.0000,9,  -999.0,9,    5.70,2,   11.78,2,    0.05,2,    0.82,2,-999.000,9,-999.000,9,-999.000000000,9,  -999.0,9,  -999.0,9,     -999.0,9,     -999.0,9,   2.3521
58GS20090528,        GIN,     257,          1,          5,20090611,       1450,    74.5000,    15.9170,        982,   399.6,   3.1970,  35.0278,2,-999.0000,9,   307.4,2,    4.85,2,   11.10,2,    0.04,2,    0.78,2,-999.000,9,-999.000,9,-999.000000000,9,  2153.7,2,  2312.4,2,     -999.0,9,     -999.0,9,   3.1708
58GS20090528,        GIN,     257,          1,          6,20090611,       1450,    74.5000,    15.9170,        982,   299.7,   3.9730,  35.0628,2,-999.0000,9,  -999.0,9,    4.71,2,   11.22,2,    0.04,2,    0.77,2,-999.000,9,-999.000,9,-999.000000000,9,  -999.0,9,  -999.0,9,     -999.0,9,     -999.0,9,   3.9517
58GS20090528,        GIN,     257,          1,          7,20090611,       1450,    74.5000,    15.9170,        982,   199.9,   4.8990,  35.1036,2,-999.0000,9,   298.4,2,    4.61,2,   11.05,2,    0.13,2,    0.76,2,-999.000,9,-999.000,9,-999.000000000,9,  2146.4,2,  2370.5,4,     -999.0,9,     -999.0,9,   4.8835
58GS20090528,        GIN,     257,          1,          8,20090611,       1450,    74.5000,    15.9170,        982,   150.1,   5.2130,  35.1156,2,-999.0000,9,  -999.0,9,    4.50,2,   10.81,2,    0.16,2,    0.75,2,-999.000,9,-999.000,9,-999.000000000,9,  -999.0,9,  -999.0,9,     -999.0,9,     -999.0,9,   5.2010
58GS20090528,        GIN,     257,          1,          9,20090611,       1450,    74.5000,    15.9170,        982,   124.4,   5.4090,  35.1195,2,-999.0000,9,   298.6,2,    4.35,2,   10.25,2,    0.16,2,    0.72,2,-999.000,9,-999.000,9,-999.000000000,9,  2141.8,2,  2318.6,2,     -999.0,9,     -999.0,9,   5.3989
58GS20090528,        GIN,     257,          1,         10,20090611,       1450,    74.5000,    15.9170,        982,   100.1,   5.6250,  35.1225,2,-999.0000,9,  -999.0,9,    4.22,2,    9.62,2,    0.15,2,    0.75,2,-999.000,9,-999.000,9,-999.000000000,9,  -999.0,9,  -999.0,9,       0.09,2,       0.17,2,   5.6167
58GS20090528,        GIN,     257,          1,         11,20090611,       1450,    74.5000,    15.9170,        982,    74.9,   5.8780,  35.1322,2,-999.0000,9,   303.0,2,    4.01,2,    8.61,2,    0.13,2,    0.63,2,-999.000,9,-999.000,9,-999.000000000,9,  2133.3,2,  2321.3,2,       0.12,2,       0.13,2,   5.8717
58GS20090528,        GIN,     257,          1,         12,20090611,       1450,    74.5000,    15.9170,        982,    50.6,   6.0880,  35.1366,2,-999.0000,9,  -999.0,9,    3.87,2,    7.85,2,    0.13,2,    0.60,2,-999.000,9,-999.000,9,-999.000000000,9,  -999.0,9,  -999.0,9,       0.15,2,       0.20,2,   6.0837
58GS20090528,        GIN,     257,          1,         13,20090611,       1450,    74.5000,    15.9170,        982,    30.0,   6.3160,  35.1339,2,-999.0000,9,   310.6,2,    3.77,2,    7.15,2,    0.11,2,    0.55,2,-999.000,9,-999.000,9,-999.000000000,9,  2124.4,2,  2322.6,2,       0.46,2,       0.46,2,   6.3134
58GS20090528,        GIN,     257,          1,         14,20090611,       1450,    74.5000,    15.9170,        982,    20.2,   6.3450,  35.1354,2,-999.0000,9,  -999.0,9,    3.68,2,    6.60,2,    0.10,2,    0.50,2,-999.000,9,-999.000,9,-999.000000000,9,  -999.0,9,  -999.0,9,       1.23,2,       0.41,2,   6.3432
58GS20090528,        GIN,     257,          1,         15,20090611,       1450,    74.5000,    15.9170,        982,    10.3,   6.4140,  35.1288,2,-999.0000,9,  -999.0,9,    3.68,2,    6.44,2,    0.11,2,    0.50,2,-999.000,9,-999.000,9,-999.000000000,9,  -999.0,9,  -999.0,9,       1.44,2,       0.27,2,   6.4131
58GS20090528,        GIN,     257,          1,         16,20090611,       1450,    74.5000,    15.9170,        982,     4.4,   6.5350,  35.1285,2,-999.0000,9,   317.2,2,    3.69,2,    6.42,2,    0.11,2,    0.50,2,-999.000,9,-999.000,9,-999.000000000,9,  2117.8,2,  2320.5,2,       1.33,2,       0.27,2,   6.5346