BOTTLE,20150327CCHSIORJL
EXPOCODE,SECT_ID,STNNBR,CASTNO,BTLNBR,DATE,TIME,LATITUDE,LONGITUDE,DEPTH,CTDPRS,CTDTMP,CTDSAL,CTDSAL_FLAG_W,SALNTY,SALNTY_FLAG_W,OXYGEN,OXYGEN_FLAG_W,SILCAT,SILCAT_FLAG_W,NITRAT,NITRAT_FLAG_W,NITRIT,NITRIT_FLAG_W,PHSPHT,PHSPHT_FLAG_W,CFC-11,CFC-11_FLAG_W,CFC-12,CFC-12_FLAG_W,SF6,SF6_FLAG_W,TCARBN,TCARBN_FLAG_W,ALKALI,ALKALI_FLAG_W,CHLORA,CHLORA_FLAG_W,PPHYTN,PPHYTN_FLAG_W,THETA
,,,,,,,,,METERS,DBAR,ITS-90,PSS-78,,PSS-78,,UMOL/KG,,UMOL/KG,,UMOL/KG,,UMOL/KG,,UMOL/KG,,PMOL/KG,,PMOL/KG,,FMOL/KG,,UMOL/KG,,UMOL/KG,,MG/M^3,,MG/M^3,,DEG C
58GS20090528,        GIN,     288,          1,          1,20090620,       0700,    77.0000,     6.0050,       2516,  1979.6,  -0.8320,  34.9091,2,  34.9122,2,   297.2,2,   12.78,2,   15.12,2,    0.02,2,    1.11,2,-999.000,9,-999.000,9,-999.000000000,9,  2161.9,2,  -999.0,9,     -999.0,9,     -999.0,9,  -0.9242
58GS20090528,        GIN,     288,          1,          2,20090620,       0700,    77.0000,     6.0050,       2516,  1500.3,  -0.7610,  34.9053,2,  34.9088,2,   299.2,2,   11.29,2,   14.52,2,    0.01,2,    1.05,2,-999.000,9,-999.000,9,-999.000000000,9,  2163.1,2,  -999.0,9,     -999.0,9,     -999.0,9,  -0.8254
58GS20090528,        GIN,     288,          1,          3,20090620,       0700,    77.0000,     6.0050,       2516,  1200.5,  -0.6770,  34.8999,2,  34.9064,2,  -999.0,9,    9.77,2,   14.14,2,    0.02,2,    0.99,2,-999.000,9,-999.000,9,-999.000000000,9,  -999.0,9,  -999.0,9,     -999.0,9,     -999.0,9,  -0.7261
58GS20090528,        GIN,     288,          1,          4,20090620,       0700,    77.0000,     6.0050,       2516,  1000.5,  -0.5680,  34.8997,2,  34.9066,2,   322.5,2,    7.57,2,   13.25,2,    0.01,2,    0.91,2,-999.000,9,-999.000,9,-999.000000000,9,  2163.5,2,  -999.0,9,     -999.0,9,     -999.0,9,  -0.6080
58GS20090528,        GIN,     288,          1,          5,20090620,       0700,    77.0000,     6.0050,       2516,   799.8,  -0.3560,  34.9113,2,  34.9129,2,   324.2,2,    7.02,2,   13.04,2,    0.01,2,    0.91,2,-999.000,9,-999.000,9,-999.000000000,9,  2162.0,2,  -999.0,9,     -999.0,9,     -999.0,9,  -0.3880
58GS20090528,        GIN,     288,          1,          6,20090620,       0700,    77.0000,     6.0050,       2516,   599.9,  -0.1850,  34.9177,2,  34.9227,2,   320.7,2,    6.95,2,   12.85,2,    0.01,2,    0.89,2,-999.000,9,-999.000,9,-999.000000000,9,  2162.9,2,  -999.0,9,     -999.0,9,     -999.0,9,  -0.2087
58GS20090528,        GIN,     288,          1,          7,20090620,       0700,    77.0000,     6.0050,       2516,   500.8,  -0.0170,  34.9276,2,  34.9296,2,   321.3,2,    6.78,2,   12.94,2,    0.02,2,    0.89,2,-999.000,9,-999.000,9,-999.000000000,9,  2162.9,2,  -999.0,9,     -999.0,9,     -999.0,9,  -0.0371
58GS20090528,        GIN,     288,          1,          8,20090620,       0700,    77.0000,     6.0050,       2516,   400.8,   0.1940,  34.9372,2,  34.9333,2,   321.6,2,    6.55,2,   12.78,2,    0.03,2,    0.88,2,-999.000,9,-999.000,9,-999.000000000,9,  2163.2,2,  -999.0,9,     -999.0,9,     -999.0,9,   0.1776
58GS20090528,        GIN,     288,          1,          9,20090620,       0700,    77.0000,     6.0050,       2516,   299.5,   0.3550,  34.9381,2,  34.9402,2,   319.4,2,    6.44,2,   12.86,2,    0.02,2,    0.88,2,-999.000,9,-999.000,9,-999.000000000,9,  2162.4,2,  -999.0,9,     -999.0,9,     -999.0,9,   0.3426
58GS20090528,        GIN,     288,          1,         10,20090620,       0700,    77.0000,     6.0050,       2516,   200.4,   0.7500,  34.9509,2,  34.9536,2,   322.4,2,    5.99,2,   12.33,2,    0.06,2,    0.87,2,-999.000,9,-999.000,9,-999.000000000,9,  2161.9,2,  -999.0,9,     -999.0,9,     -999.0,9,   0.7412
58GS20090528,        GIN,     288,          1,         11,20090620,       0700,    77.0000,     6.0050,       2516,   149.2,   1.1500,  34.9684,2,  34.9722,2,   321.7,2,    5.60,2,   11.83,2,    0.06,2,    0.83,2,-999.000,9,-999.000,9,-999.000000000,9,  2160.2,2,  -999.0,9,     -999.0,9,     -999.0,9,   1.1430
58GS20090528,        GIN,     288,          1,         12,20090620,       0700,    77.0000,     6.0050,       2516,   124.9,   1.4360,  34.9830,2,  34.9854,2,  -999.0,9,    5.79,2,   12.18,2,    0.07,2,    0.84,2,-999.000,9,-999.000,9,-999.000000000,9,  -999.0,9,  -999.0,9,     -999.0,9,     -999.0,9,   1.4299
58GS20090528,        GIN,     288,          1,         13,20090620,       0700,    77.0000,     6.0050,       2516,   100.6,   1.8800,  35.0116,2,  35.0111,2,   316.5,2,    5.53,2,   11.99,2,    0.10,2,    0.88,2,-999.000,9,-999.000,9,-999.000000000,9,  2159.4,2,  -999.0,9,       0.03,2,       0.08,2,   1.8747
58GS20090528,        GIN,     288,          1,         14,20090620,       0700,    77.0000,     6.0050,       2516,    75.5,   1.9840,  35.0162,2,  35.0186,2,   321.6,2,    5.14,2,   11.07,2,    0.10,2,    0.79,2,-999.000,9,-999.000,9,-999.000000000,9,  2154.7,2,  -999.0,9,       0.07,2,       0.17,2,   1.9800
58GS20090528,        GIN,     288,          1,         15,20090620,       0700,    77.0000,     6.0050,       2516,    49.6,   2.3650,  35.0313,2,  35.0346,2,   323.8,2,    4.95,2,   10.15,2,    0.12,2,    0.78,2,-999.000,9,-999.000,9,-999.000000000,9,  2151.1,2,  -999.0,9,       0.19,2,       0.16,2,   2.3622
58GS20090528,        GIN,     288,          1,         16,20090620,       0700,    77.0000,     6.0050,       2516,    49.7,   2.4970,  35.0351,2,-999.0000,9,  -999.0,9, -999.00,9, -999.00,9, -999.00,9, -999.00,9,-999.000,9,-999.000,9,-999.000000000,9,  -999.0,9,  -999.0,9,     -999.0,9,     -999.0,9,   2.4942
58GS20090528,        GIN,     288,          1,         17,20090620,       0700,    77.0000,     6.0050,       2516,    24.8,   3.7760,  35.0620,2,  35.0627,2,   333.1,2,    4.30,2,    6.84,2,    0.08,2,    0.56,2,-999.000,9,-999.000,9,-999.000000000,9,  2128.8,2,  -999.0,9,       1.14,2,       0.35,2,   3.7743
58GS20090528,        GIN,     288,          1,         18,20090620,       0700,    77.0000,     6.0050,       2516,    25.1,   3.8900,  35.0621,2,-999.0000,9,  -999.0,9, -999.00,9, -999.00,9, -999.00,9, -999.00,9,-999.000,9,-999.000,9,-999.000000000,9,  -999.0,9,  -999.0,9,     -999.0,9,     -999.0,9,   3.8883
58GS20090528,        GIN,     288,          1,         19,20090620,       0700,    77.0000,     6.0050,       2516,    14.9,   4.0640,  35.0670,2,  35.0633,2,  -999.0,9,    4.25,2,    6.22,2,    0.09,2,    0.56,2,-999.000,9,-999.000,9,-999.000000000,9,  -999.0,9,  -999.0,9,       1.69,2,       0.37,2,   4.0630
58GS20090528,        GIN,     288,          1,         20,20090620,       0700,    77.0000,     6.0050,       2516,    15.0,   4.0750,  35.0683,2,-999.0000,9,  -999.0,9, -999.00,9, -999.00,9, -999.00,9, -999.00,9,-999.000,9,-999.000,9,-999.000000000,9,  -999.0,9,  -999.0,9,     -999.0,9,     -999.0,9,   4.0740
58GS20090528,        GIN,     288,          1,         21,20090620,       0700,    77.0000,     6.0050,       2516,     9.3,   4.1610,  35.0711,2,  35.0720,2,   337.4,2,    4.16,2,    5.75,2,    0.08,2,    0.52,2,-999.000,9,-999.000,9,-999.000000000,9,  2122.5,2,  -999.0,9,       1.33,2,       0.33,2,   4.1603
58GS20090528,        GIN,     288,          1,         22,20090620,       0700,    77.0000,     6.0050,       2516,     9.7,   4.2920,  35.0720,2,-999.0000,9,  -999.0,9, -999.00,9, -999.00,9, -999.00,9, -999.00,9,-999.000,9,-999.000,9,-999.000000000,9,  -999.0,9,  -999.0,9,     -999.0,9,     -999.0,9,   4.2913
58GS20090528,        GIN,     288,          1,         23,20090620,       0700,    77.0000,     6.0050,       2516,     4.7,   4.5530,  35.0698,2,  35.0703,2,  -999.0,9,    4.14,2,    5.72,2,    0.08,2,    0.50,2,-999.000,9,-999.000,9,-999.000000000,9,  -999.0,9,  -999.0,9,       1.13,2,       0.29,2,   4.5527
58GS20090528,        GIN,     288,          1,         24,20090620,       0700,    77.0000,     6.0050,       2516,     5.0,   4.5720,  35.0713,2,-999.0000,9,  -999.0,9, -999.00,9, -999.00,9, -999.00,9, -999.00,9,-999.000,9,-999.000,9,-999.000000000,9,  -999.0,9,  -999.0,9,     -999.0,9,     -999.0,9,   4.5716
58GS20090528,        GIN,     289,          1,          1,20090620,       1236,    77.0000,     7.5010,       3360,  3349.7,  -0.7180,  34.9121,2,  34.9110,2,   296.4,2,   12.77,2,   14.82,2,    0.01,2,    1.01,2,-999.000,9,   0.384,2,-999.000000000,9,  2163.8,2,  2308.8,2,     -999.0,9,     -999.0,9,  -0.9157
58GS20090528,        GIN,     289,          1,          2,20090620,       1236,    77.0000,     7.5010,       3360,  3001.5,  -0.7510,  34.9110,2,  34.9116,2,   296.3,2,   12.84,2,   14.92,2,    0.01,2,    1.02,2,-999.000,9,   0.415,2,-999.000000000,9,  2161.0,2,  2309.3,2,     -999.0,9,     -999.0,9,  -0.9188
58GS20090528,        GIN,     289,          1,          3,20090620,       1236,    77.0000,     7.5010,       3360,  2500.1,  -0.7920,  34.9098,2,  34.9122,2,   296.3,2,   12.89,2,   15.04,2,    0.01,2,    1.02,2,-999.000,9,   0.422,2,-999.000000000,9,  2160.5,2,  2309.2,2,     -999.0,9,     -999.0,9,  -0.9204
58GS20090528,        GIN,     289,          1,          4,20090620,       1236,    77.0000,     7.5010,       3360,  2000.4,  -0.8100,  34.9080,2,  34.9060,2,   296.8,2,   12.47,2,   14.90,2,    0.01,2,    1.01,2,-999.000,9,   0.529,2,-999.000000000,9,  2161.0,2,  2392.5,4,     -999.0,9,     -999.0,9,  -0.9038
58GS20090528,        GIN,     289,          1,          5,20090620,       1236,    77.0000,     7.5010,       3360,  1499.9,  -0.7710,  34.9052,2,  34.9102,2,   298.7,2,   11.53,2,   14.66,2,    0.02,2,    1.01,2,-999.000,9,   0.845,2,-999.000000000,9,  2160.8,2,  2307.3,2,     -999.0,9,     -999.0,9,  -0.8352
58GS20090528,        GIN,     289,          1,          6,20090620,       1236,    77.0000,     7.5010,       3360,  1200.1,  -0.7070,  34.9007,2,  34.8990,2,  -999.0,9,   10.19,2,   14.28,2,    0.01,2,    0.99,2,-999.000,9,-999.000,9,-999.000000000,9,  -999.0,9,  -999.0,9,     -999.0,9,     -999.0,9,  -0.7558
58GS20090528,        GIN,     289,          1,          7,20090620,       1236,    77.0000,     7.5010,       3360,  1000.2,  -0.6390,  34.8979,2,  34.8969,2,   307.6,2,    9.22,2,   13.86,2,    0.02,2,    0.96,2,-999.000,9,   1.716,6,-999.000000000,9,  2160.5,2,  2307.0,2,     -999.0,9,     -999.0,9,  -0.6784
58GS20090528,        GIN,     289,          1,          8,20090620,       1236,    77.0000,     7.5010,       3360,   800.2,  -0.5120,  34.8983,2,  34.8983,2,   316.6,2,    7.85,2,   13.44,2,    0.02,2,    0.93,2,-999.000,9,   2.345,2,-999.000000000,9,  2164.0,2,  2307.5,2,     -999.0,9,     -999.0,9,  -0.5429
58GS20090528,        GIN,     289,          1,          9,20090620,       1236,    77.0000,     7.5010,       3360,   600.1,  -0.3090,  34.9067,2,  34.9075,2,   317.4,2,    7.34,2,   13.20,2,    0.03,2,    0.90,2,-999.000,9,   2.530,2,-999.000000000,9,  2163.8,2,  2308.8,2,     -999.0,9,     -999.0,9,  -0.3321
58GS20090528,        GIN,     289,          1,         10,20090620,       1236,    77.0000,     7.5010,       3360,   500.9,  -0.0120,  34.9262,2,  34.9208,2,   321.0,2,    6.73,2,   12.82,2,    0.03,2,    0.89,2,-999.000,9,   2.762,2,-999.000000000,9,  2163.3,2,  2309.6,2,     -999.0,9,     -999.0,9,  -0.0321
58GS20090528,        GIN,     289,          1,         11,20090620,       1236,    77.0000,     7.5010,       3360,   400.0,  -0.0560,  34.9142,2,  34.9167,2,   321.4,2,    6.69,2,   12.82,2,    0.03,2,    0.89,2,-999.000,9,   2.792,2,-999.000000000,9,  2162.9,2,  2306.0,2,     -999.0,9,     -999.0,9,  -0.0715
58GS20090528,        GIN,     289,          1,         12,20090620,       1236,    77.0000,     7.5010,       3360,   300.2,   0.3210,  34.9367,2,  34.9365,2,   320.7,2,    6.47,2,   12.75,2,    0.03,2,    0.89,2,-999.000,9,-999.000,9,-999.000000000,9,  2162.8,2,  2309.0,2,     -999.0,9,     -999.0,9,   0.3087
58GS20090528,        GIN,     289,          1,         13,20090620,       1236,    77.0000,     7.5010,       3360,   200.7,   0.6920,  34.9492,2,  34.9533,2,   317.6,2,    6.18,2,   12.62,2,    0.03,2,    0.87,2,-999.000,9,   2.872,2,-999.000000000,9,  2161.7,2,  2309.0,2,     -999.0,9,     -999.0,9,   0.6833
58GS20090528,        GIN,     289,          1,         14,20090620,       1236,    77.0000,     7.5010,       3360,   150.5,   1.2310,  34.9783,2,  34.9763,2,   319.3,2,    5.79,2,   12.08,2,    0.08,2,    0.84,2,-999.000,9,-999.000,9,-999.000000000,9,  2159.1,2,  2311.6,2,     -999.0,9,     -999.0,9,   1.2239
58GS20090528,        GIN,     289,          1,         15,20090620,       1236,    77.0000,     7.5010,       3360,   124.5,   1.3850,  34.9895,2,  34.9913,2,  -999.0,9,    5.63,2,   11.96,2,    0.09,2,    0.83,2,-999.000,9,-999.000,9,-999.000000000,9,  -999.0,9,  -999.0,9,     -999.0,9,     -999.0,9,   1.3790
58GS20090528,        GIN,     289,          1,         16,20090620,       1236,    77.0000,     7.5010,       3360,   100.5,   1.6770,  35.0004,2,  35.0022,2,   320.7,2,    5.23,2,   11.06,2,    0.09,2,    0.80,2,-999.000,9,   2.985,2,-999.000000000,9,  2156.3,2,  2312.3,2,       0.04,2,       0.14,2,   1.6719
58GS20090528,        GIN,     289,          1,         17,20090620,       1236,    77.0000,     7.5010,       3360,    74.9,   2.0430,  35.0182,2,  35.0205,2,   323.6,2,    4.97,2,   10.60,2,    0.11,2,    0.77,2,-999.000,9,-999.000,9,-999.000000000,9,  2152.1,2,  2313.0,2,       0.06,2,       0.20,2,   2.0390
58GS20090528,        GIN,     289,          1,         18,20090620,       1236,    77.0000,     7.5010,       3360,    50.3,   2.7530,  35.0426,2,  35.0483,2,   327.9,2,    4.53,2,    9.02,2,    0.10,2,    0.69,2,-999.000,9,   3.074,2,-999.000000000,9,  2144.8,2,  2317.8,2,       0.19,2,       0.18,2,   2.7500
58GS20090528,        GIN,     289,          1,         19,20090620,       1236,    77.0000,     7.5010,       3360,    24.4,   3.4960,  35.0565,2,  35.0599,2,   330.7,2,    4.34,2,    7.19,2,    0.08,2,    0.61,2,-999.000,9,-999.000,9,-999.000000000,9,  2134.6,2,  -999.0,9,       0.44,2,       0.29,2,   3.4944
58GS20090528,        GIN,     289,          1,         20,20090620,       1236,    77.0000,     7.5010,       3360,    14.8,   3.6860,  35.0645,2,  35.0651,2,  -999.0,9,    4.31,2,    6.48,2,    0.08,2,    0.57,2,-999.000,9,-999.000,9,-999.000000000,9,  -999.0,9,  -999.0,9,       0.85,2,       0.33,2,   3.6850
58GS20090528,        GIN,     289,          1,         21,20090620,       1236,    77.0000,     7.5010,       3360,    10.2,   4.0740,  35.0672,2,  35.0680,2,  -999.0,9,    4.23,2,    6.31,2,    0.08,2,    0.54,2,-999.000,9,-999.000,9,-999.000000000,9,  -999.0,9,  -999.0,9,       0.97,2,       0.29,2,   4.0733
58GS20090528,        GIN,     289,          1,         22,20090620,       1236,    77.0000,     7.5010,       3360,    10.2,   4.1650,  35.0707,2,  35.0700,2,  -999.0,9, -999.00,9, -999.00,9, -999.00,9, -999.00,9,-999.000,9,-999.000,9,-999.000000000,9,  -999.0,9,  -999.0,9,     -999.0,9,     -999.0,9,   4.1643
58GS20090528,        GIN,     289,          1,         23,20090620,       1236,    77.0000,     7.5010,       3360,     4.9,   4.4110,  35.0708,2,-999.0000,9,   333.8,2,    4.15,2,    5.87,2,    0.08,2,    0.52,2,-999.000,9,   2.963,2,-999.000000000,9,  2122.3,2,  2320.2,2,       1.24,2,       0.37,2,   4.4106
58GS20090528,        GIN,     289,          1,         24,20090620,       1236,    77.0000,     7.5010,       3360,     5.1,   4.6500,  35.0697,2,-999.0000,9,  -999.0,9, -999.00,9, -999.00,9, -999.00,9, -999.00,9,-999.000,9,-999.000,9,-999.000000000,9,  -999.0,9,  -999.0,9,     -999.0,9,     -999.0,9,   4.6496