BOTTLE,20150327CCHSIORJL
EXPOCODE,SECT_ID,STNNBR,CASTNO,BTLNBR,DATE,TIME,LATITUDE,LONGITUDE,DEPTH,CTDPRS,CTDTMP,CTDSAL,CTDSAL_FLAG_W,SALNTY,SALNTY_FLAG_W,OXYGEN,OXYGEN_FLAG_W,SILCAT,SILCAT_FLAG_W,NITRAT,NITRAT_FLAG_W,NITRIT,NITRIT_FLAG_W,PHSPHT,PHSPHT_FLAG_W,CFC-11,CFC-11_FLAG_W,CFC-12,CFC-12_FLAG_W,SF6,SF6_FLAG_W,TCARBN,TCARBN_FLAG_W,ALKALI,ALKALI_FLAG_W,CHLORA,CHLORA_FLAG_W,PPHYTN,PPHYTN_FLAG_W,THETA
,,,,,,,,,METERS,DBAR,ITS-90,PSS-78,,PSS-78,,UMOL/KG,,UMOL/KG,,UMOL/KG,,UMOL/KG,,UMOL/KG,,PMOL/KG,,PMOL/KG,,FMOL/KG,,UMOL/KG,,UMOL/KG,,MG/M^3,,MG/M^3,,DEG C
58GS20090528,        GIN,     325,          1,          1,20090629,       2126,    70.6660,    19.9640,        224,   144.8,   6.6060,  34.9483,2,  34.9371,2,   280.4,2,    4.08,2,   10.25,2,    0.02,2,    0.72,2,-999.000,9,   2.883,2,    2.24573709,2,  2140.8,2,  2313.6,2,     -999.0,9,     -999.0,9,   6.5929
58GS20090528,        GIN,     325,          1,          2,20090629,       2126,    70.6660,    19.9640,        224,   124.5,   6.8670,  34.9026,2,  34.9005,2,  -999.0,9,    3.77,2,    9.78,2,    0.02,2,    0.69,2,-999.000,9,   2.926,2,    2.68276906,2,  2139.2,2,  2313.0,2,     -999.0,9,     -999.0,9,   6.8555
58GS20090528,        GIN,     325,          1,          3,20090629,       2126,    70.6660,    19.9640,        224,    99.8,   6.8460,  34.7682,2,-999.0000,9,  -999.0,9, -999.00,9, -999.00,9, -999.00,9, -999.00,9,-999.000,9,   3.045,6,    2.66302738,6,  -999.0,9,  -999.0,9,     -999.0,9,     -999.0,9,   6.8369
58GS20090528,        GIN,     325,          1,          4,20090629,       2126,    70.6660,    19.9640,        224,    74.8,   6.9310,  34.6375,2,  34.6574,2,   286.5,2,    2.70,2,    5.92,2,    0.17,2,    0.54,2,-999.000,9,   3.137,2,    2.55752394,2,  2127.8,2,  2308.5,2,       0.11,2,       0.42,2,   6.9241
58GS20090528,        GIN,     325,          1,          5,20090629,       2126,    70.6660,    19.9640,        224,    49.9,   7.6620,  34.5169,2,  34.5288,2,   298.5,2,    0.80,2,    1.73,2,    0.09,2,    0.30,2,-999.000,9,   3.061,2,    2.20094999,2,  2097.2,2,  2308.8,2,       0.20,2,       0.12,2,   7.6572
58GS20090528,        GIN,     325,          1,          6,20090629,       2126,    70.6660,    19.9640,        224,    30.3,   8.2020,  34.3946,2,  34.4107,2,   306.3,2,    0.11,2,    0.21,2,    0.03,2,    0.15,2,-999.000,9,   2.977,2,    2.61233946,2,  2074.0,2,  2306.5,2,       0.58,2,       0.15,2,   8.1989
58GS20090528,        GIN,     325,          1,          7,20090629,       2126,    70.6660,    19.9640,        224,    18.2,   8.5170,  34.3783,2,  34.3978,2,  -999.0,9,    0.06,2,    0.20,2,    0.02,2,    0.13,2,-999.000,9,   2.998,2,    2.44927507,2,  -999.0,9,  -999.0,9,       0.65,2,       0.19,2,   8.5151
58GS20090528,        GIN,     325,          1,          8,20090629,       2126,    70.6660,    19.9640,        224,     9.4,   8.6510,  34.1965,2,  34.3531,2,  -999.0,9,    0.14,2,    0.34,2,    0.02,2,    0.14,2,-999.000,9,   2.972,2,    2.32211332,2,  -999.0,9,  -999.0,9,       0.66,2,       0.20,2,   8.6500
58GS20090528,        GIN,     325,          1,          9,20090629,       2126,    70.6660,    19.9640,        224,     5.1,   9.1600,  34.1225,2,  34.2778,2,   311.2,2,    0.01,2,    0.12,2,    0.01,2,    0.11,2,-999.000,9,   2.979,2,    2.27996122,2,  2067.6,2,  2300.1,2,       0.71,2,       0.18,2,   9.1595
58GS20090528,        GIN,     326,          1,          1,20090629,       2244,    70.5000,    20.0000,        183,   114.2,   6.8790,  34.5018,2,  34.4794,2,   286.2,2,    2.56,2,    6.18,2,    0.14,2,    0.54,2,-999.000,9,   2.468,2,    2.66309347,2,  2117.0,2,  2177.0,4,     -999.0,9,     -999.0,9,   6.8686
58GS20090528,        GIN,     326,          1,          2,20090629,       2244,    70.5000,    20.0000,        183,    99.7,   6.8950,  34.4475,2,  34.4437,2,   286.5,2,    2.46,2,    5.89,2,    0.14,2,    0.51,2,-999.000,9,   2.455,2,    2.14076852,2,  2115.3,2,  2295.5,2,       0.04,2,       0.15,2,   6.8859
58GS20090528,        GIN,     326,          1,          3,20090629,       2244,    70.5000,    20.0000,        183,    74.6,   6.7120,  34.3475,2,  34.3440,2,   286.3,2,    2.42,2,    5.90,2,    0.19,2,    0.54,2,-999.000,9,   2.511,2,    2.39275959,2,  2116.3,2,  2296.7,2,       0.06,2,       0.21,2,   6.7053
58GS20090528,        GIN,     326,          1,          4,20090629,       2244,    70.5000,    20.0000,        183,    49.7,   7.5030,  34.2336,2,  34.2393,2,   295.1,2,    1.20,2,    2.77,2,    0.10,2,    0.34,2,-999.000,9,   2.477,2,    2.63471661,2,  2093.1,2,  2292.8,2,       0.17,2,       0.06,2,   7.4983
58GS20090528,        GIN,     326,          1,          5,20090629,       2244,    70.5000,    20.0000,        183,    30.2,   7.9070,  34.1800,2,  34.1837,2,   301.2,2,    0.87,2,    2.05,2,    0.09,2,    0.30,2,-999.000,9,   2.442,2,    2.87388584,2,  2078.6,2,  2290.9,2,       0.34,2,       0.07,2,   7.9040
58GS20090528,        GIN,     326,          1,          6,20090629,       2244,    70.5000,    20.0000,        183,    20.1,   8.0640,  34.1596,2,  34.1610,2,  -999.0,9,    0.87,2,    1.87,2,    0.10,2, -999.00,9,-999.000,9,-999.000,9,-999.000000000,9,  -999.0,9,  -999.0,9,       0.34,2,       0.09,2,   8.0620
58GS20090528,        GIN,     326,          1,          7,20090629,       2244,    70.5000,    20.0000,        183,     9.7,   8.2090,  34.1636,2,  34.1657,2,  -999.0,9,    0.81,2,    1.79,2,    0.08,2,    0.27,2,-999.000,9,-999.000,9,-999.000000000,9,  -999.0,9,  -999.0,9,       0.27,2,       0.02,2,   8.2080
58GS20090528,        GIN,     326,          1,          8,20090629,       2244,    70.5000,    20.0000,        183,     4.4,   8.3880,  34.1607,2,  34.1625,2,   301.5,2,    0.78,2,    1.78,2,    0.08,2,    0.27,2,-999.000,9,   2.427,2,     2.3124067,2,  2078.3,2,  2288.8,2,       0.27,2,       0.04,2,   8.3876
58GS20090528,        GIN,     327,          1,          1,20090702,       0056,    69.9950,    17.7970,        201,    52.9,   6.8710,  34.2542,2,  34.2503,2,   285.5,2,    2.43,2,    4.92,2,    0.16,2,    0.48,2,-999.000,9,   2.420,2,    3.02667926,2,  2116.2,2,  2294.4,2,       0.15,2,       0.18,2,   6.8662
58GS20090528,        GIN,     327,          1,          2,20090702,       0056,    69.9950,    17.7970,        201,    49.6,   6.8600,  34.2554,2,  34.2569,2,   283.8,2,    2.61,2,    5.17,2,    0.17,2,    0.50,2,-999.000,9,-999.000,9,-999.000000000,9,  2118.1,2,  2294.8,2,       0.12,2,       0.18,2,   6.8555
58GS20090528,        GIN,     327,          1,          3,20090702,       0056,    69.9950,    17.7970,        201,    29.6,   7.1540,  34.2115,2,  34.2116,2,   286.7,2,    2.04,2,    4.39,2,    0.14,2,    0.45,2,-999.000,9,   2.457,2,    2.42941139,2,  2111.9,2,  2297.3,2,       0.20,2,       0.13,2,   7.1513
58GS20090528,        GIN,     327,          1,          4,20090702,       0056,    69.9950,    17.7970,        201,    20.1,   8.1880,  34.0998,2,  34.0933,2,   287.5,2,    1.33,2,    1.99,2,    0.09,2,    0.32,2,-999.000,9,   2.384,2,    3.62034879,2,  2103.3,2,  2296.5,2,       0.57,2,       0.14,2,   8.1860
58GS20090528,        GIN,     327,          1,          5,20090702,       0056,    69.9950,    17.7970,        201,     9.3,   9.4020,  33.9841,2,  33.9789,2,   303.1,2,    0.65,2,    0.05,2,    0.02,2,    0.09,2,-999.000,9,   2.245,2,     3.3600632,2,  2075.0,2,  2291.6,2,       0.55,2,       0.07,2,   9.4010
58GS20090528,        GIN,     327,          1,          6,20090702,       0056,    69.9950,    17.7970,        201,     4.3,  10.1440,  33.9076,2,  33.9130,2,   297.2,2,    0.24,2,    0.01,2,    0.01,2,    0.09,2,-999.000,9,   2.200,2,    2.56321275,2,  2058.8,2,  2283.5,2,       0.38,2,       0.04,2,  10.1435
58GS20090528,        GIN,     328,          1,          1,20090702,       0318,    70.0050,    16.8000,       1295,   559.7,   4.8140,  35.1203,2,  35.1175,2,   295.8,2,    5.08,2,   11.88,2,    0.02,2,    0.80,2,-999.000,9,   2.490,2,    2.43426145,2,  2154.2,2,  2318.4,2,     -999.0,9,     -999.0,9,   4.7694
58GS20090528,        GIN,     328,          1,          2,20090702,       0318,    70.0050,    16.8000,       1295,   501.5,   5.2060,  35.1390,2,  35.1393,2,   294.4,2,    5.05,2,   11.79,2,    0.01,2,    0.79,2,-999.000,9,   2.531,2,    4.01345246,2,  2151.6,2,  2319.4,2,     -999.0,9,     -999.0,9,   5.1647
58GS20090528,        GIN,     328,          1,          3,20090702,       0318,    70.0050,    16.8000,       1295,   400.6,   5.4650,  35.1505,2,  35.1492,2,   293.4,2,    5.05,2,   11.76,2,    0.01,2,    0.79,2,-999.000,9,-999.000,9,-999.000000000,9,  2150.8,2,  2320.1,2,     -999.0,9,     -999.0,9,   5.4315
58GS20090528,        GIN,     328,          1,          4,20090702,       0318,    70.0050,    16.8000,       1295,   300.6,   6.9110,  35.2165,2,  35.2113,2,   282.9,2,    5.12,2,   11.97,2,    0.02,2,    0.79,2,-999.000,9,   2.407,2,    3.62002021,2,  2150.3,2,  2324.1,2,     -999.0,9,     -999.0,9,   6.8827
58GS20090528,        GIN,     328,          1,          5,20090702,       0318,    70.0050,    16.8000,       1295,   200.8,   7.8440,  35.1074,2,  35.1126,2,   278.6,2,    2.55,2,    7.69,2,    0.14,2,    0.61,2,-999.000,9,-999.000,9,-999.000000000,9,  2135.6,2,  2324.3,2,     -999.0,9,     -999.0,9,   7.8239
58GS20090528,        GIN,     328,          1,          6,20090702,       0318,    70.0050,    16.8000,       1295,   150.4,   7.3290,  34.7613,2,  34.7938,2,   278.7,2,    3.27,2,    8.38,2,    0.08,2,    0.60,2,-999.000,9,   2.420,2,    2.23438786,2,  2134.1,2,  2313.8,2,     -999.0,9,     -999.0,9,   7.3146
58GS20090528,        GIN,     328,          1,          7,20090702,       0318,    70.0050,    16.8000,       1295,   125.0,   6.9320,  34.6129,2,  34.6208,2,   278.6,2,    3.49,2,    8.54,2,    0.04,2,    0.61,2,-999.000,9,-999.000,9,-999.000000000,9,  2134.6,2,  2307.3,2,     -999.0,9,     -999.0,9,   6.9205
58GS20090528,        GIN,     328,          1,          8,20090702,       0318,    70.0050,    16.8000,       1295,   100.3,   6.7630,  34.4568,2,  34.4644,2,   279.9,2,    3.42,2,    8.21,2,    0.03,2,    0.60,2,-999.000,9,   2.482,2,    2.80643879,2,  2129.8,2,  2301.9,2,       0.06,2,       0.24,2,   6.7539
58GS20090528,        GIN,     328,          1,          9,20090702,       0318,    70.0050,    16.8000,       1295,    74.9,   6.6530,  34.3583,2,  34.3736,2,   282.6,2,    3.04,2,    7.34,2,    0.12,2,    0.56,2,-999.000,9,-999.000,9,-999.000000000,9,  2125.0,2,  2296.7,2,       0.10,2,       0.29,2,   6.6463
58GS20090528,        GIN,     328,          1,         10,20090702,       0318,    70.0050,    16.8000,       1295,    50.3,   6.8480,  34.2878,2,  34.2916,2,   282.0,2,    2.99,2,    7.28,2,    0.05,2,    0.55,2,-999.000,9,   2.510,2,    2.76801216,2,  2124.1,2,  2296.4,2,       0.09,2,       0.30,2,   6.8434
58GS20090528,        GIN,     328,          1,         11,20090702,       0318,    70.0050,    16.8000,       1295,    29.8,   7.2100,  34.1622,2,  34.1807,2,   286.4,2,    2.48,2,    5.58,2,    0.13,2,    0.48,2,-999.000,9,   2.518,2,    2.87226879,2,  2114.5,2,  2294.7,2,       0.40,2,       0.28,2,   7.2072
58GS20090528,        GIN,     328,          1,         12,20090702,       0318,    70.0050,    16.8000,       1295,    29.8,   7.2130,  34.1616,2,  34.1764,2,   286.9,2, -999.00,9, -999.00,9, -999.00,9, -999.00,9,-999.000,9,-999.000,9,-999.000000000,9,  -999.0,9,  -999.0,9,     -999.0,9,     -999.0,9,   7.2102
58GS20090528,        GIN,     328,          1,         13,20090702,       0318,    70.0050,    16.8000,       1295,    10.6,   9.9160,  33.9481,2,  33.9550,2,   303.2,2,    0.58,2,    0.10,2,    0.02,2,    0.12,2,-999.000,9,   2.397,2,    4.67767677,2,  2068.2,2,  2291.9,2,       0.77,2,       0.12,2,   9.9148
58GS20090528,        GIN,     328,          1,         14,20090702,       0318,    70.0050,    16.8000,       1295,    10.7,   9.9180,  33.9480,2,-999.0000,9,  -999.0,9, -999.00,9, -999.00,9, -999.00,9, -999.00,9,-999.000,9,-999.000,9,-999.000000000,9,  -999.0,9,  -999.0,9,     -999.0,9,     -999.0,9,   9.9168
58GS20090528,        GIN,     328,          1,         15,20090702,       0318,    70.0050,    16.8000,       1295,     5.6,   9.9570,  33.9515,2,  33.9510,2,   300.8,2,    0.52,2,    0.00,2,    0.01,2,    0.08,2,-999.000,9,-999.000,9,-999.000000000,9,  2064.9,2,  2289.3,2,       0.55,2,       0.07,2,   9.9564
58GS20090528,        GIN,     328,          1,         16,20090702,       0318,    70.0050,    16.8000,       1295,     5.6,   9.9570,  33.9518,2,-999.0000,9,  -999.0,9, -999.00,9, -999.00,9, -999.00,9, -999.00,9,-999.000,9,-999.000,9,-999.000000000,9,  -999.0,9,  -999.0,9,     -999.0,9,     -999.0,9,   9.9564
58GS20090528,        GIN,     329,          1,          1,20090702,       0554,    70.0030,    16.6680,       1295,  1149.9,  -0.6190,  34.8988,2,  34.9000,2,   299.0,2,   10.45,2,   14.37,2,    0.00,2,    0.98,2,-999.000,9,   1.177,2,    1.86307124,2,  2166.0,2,  2305.6,2,     -999.0,9,     -999.0,9,  -0.6660
58GS20090528,        GIN,     329,          1,          2,20090702,       0554,    70.0030,    16.6680,       1295,  1001.1,  -0.4710,  34.8984,2,  34.9046,2,   299.6,2,    9.83,2,   14.36,2,    0.01,2,    0.97,2,-999.000,9,   1.506,2,     2.9975818,2,  2168.4,2,  2303.9,2,     -999.0,9,     -999.0,9,  -0.5118
58GS20090528,        GIN,     329,          1,          3,20090702,       0554,    70.0030,    16.6680,       1295,   801.0,  -0.0500,  34.9039,2,  34.9109,2,   299.9,2,    8.85,2,   14.09,2,    0.01,2,    0.96,2,-999.000,9,   1.851,2,    2.64037229,2,  2168.2,2,  2303.0,2,     -999.0,9,     -999.0,9,  -0.0840
58GS20090528,        GIN,     329,          1,          4,20090702,       0554,    70.0030,    16.6680,       1295,   601.1,   4.3720,  35.1043,2,  35.1030,2,   298.3,2,    5.18,2,   11.94,2,    0.01,2,    0.80,2,-999.000,9,   2.574,2,    2.80206334,2,  2153.2,2,  2313.1,2,     -999.0,9,     -999.0,9,   4.3260
58GS20090528,        GIN,     329,          1,          5,20090702,       0554,    70.0030,    16.6680,       1295,   501.4,   5.4520,  35.1536,2,  35.1545,2,   294.5,2,    4.94,2,   11.62,2,    0.01,2,    0.77,2,-999.000,9,-999.000,9,-999.000000000,9,  2149.8,2,  2315.9,2,     -999.0,9,     -999.0,9,   5.4098
58GS20090528,        GIN,     329,          1,          6,20090702,       0554,    70.0030,    16.6680,       1295,   401.4,   6.0450,  35.1818,2,  35.1793,2,   290.6,2,    5.01,2,   11.82,2,    0.01,2,    0.79,2,-999.000,9,   2.453,2,    2.95371207,2,  2149.3,2,  2319.0,2,     -999.0,9,     -999.0,9,   6.0096
58GS20090528,        GIN,     329,          1,          7,20090702,       0554,    70.0030,    16.6680,       1295,   302.0,   7.2180,  35.2356,2,  35.2345,2,   280.5,2,    5.20,2,   11.98,2,    0.02,2,    0.80,2,-999.000,9,   2.306,2,    3.55617585,2,  2147.7,2,  2319.7,2,     -999.0,9,     -999.0,9,   7.1889
58GS20090528,        GIN,     329,          1,          8,20090702,       0554,    70.0030,    16.6680,       1295,   201.8,   7.6010,  35.1929,2,  35.1974,2,   277.5,2,    4.16,2,   10.63,2,    0.07,2,    0.72,2,-999.000,9,   2.315,2,    3.50175227,2,  2142.5,2,  2320.8,2,     -999.0,9,     -999.0,9,   7.5811
58GS20090528,        GIN,     329,          1,          9,20090702,       0554,    70.0030,    16.6680,       1295,   153.4,   7.6350,  34.9342,2,  34.9323,2,   279.3,2,    3.08,2,    8.22,2,    0.09,2,    0.59,2,-999.000,9,   2.284,2,    2.56784551,2,  2131.6,2,  2314.8,2,     -999.0,9,     -999.0,9,   7.6199
58GS20090528,        GIN,     329,          1,         10,20090702,       0554,    70.0030,    16.6680,       1295,   125.0,   6.8710,  34.5392,2,  34.5386,2,   279.2,2,    3.54,2,    8.48,2,    0.03,2,    0.61,2,-999.000,9,-999.000,9,-999.000000000,9,  2132.2,2,  2300.3,2,     -999.0,9,     -999.0,9,   6.8596
58GS20090528,        GIN,     329,          1,         11,20090702,       0554,    70.0030,    16.6680,       1295,   100.7,   6.8120,  34.3649,2,  34.3790,2,   281.0,2,    3.14,2,    7.70,2,    0.03,2,    0.57,2,-999.000,9,   2.438,2,    3.47587557,2,  2127.2,2,  2294.8,2,       0.09,2,       0.31,2,   6.8029
58GS20090528,        GIN,     329,          1,         12,20090702,       0554,    70.0030,    16.6680,       1295,   100.6,   6.8190,  34.3647,2,  34.3695,2,   281.4,2, -999.00,9, -999.00,9, -999.00,9, -999.00,9,-999.000,9,   2.342,2,    2.27148318,2,  -999.0,9,  -999.0,9,     -999.0,9,     -999.0,9,   6.8099
58GS20090528,        GIN,     329,          1,         13,20090702,       0554,    70.0030,    16.6680,       1295,    75.3,   6.9690,  34.2394,2,  34.2457,2,   283.1,2, -999.00,9, -999.00,9, -999.00,9, -999.00,9,-999.000,9,-999.000,9,-999.000000000,9,  2121.0,2,  2290.7,2,       0.17,2,       0.28,2,   6.9621
58GS20090528,        GIN,     329,          1,         14,20090702,       0554,    70.0030,    16.6680,       1295,    75.3,   6.9700,  34.2381,2,-999.0000,9,  -999.0,9, -999.00,9, -999.00,9, -999.00,9, -999.00,9,-999.000,9,-999.000,9,-999.000000000,9,  -999.0,9,  -999.0,9,     -999.0,9,     -999.0,9,   6.9631
58GS20090528,        GIN,     329,          1,         15,20090702,       0554,    70.0030,    16.6680,       1295,    50.7,   7.1770,  34.2105,2,-999.0000,9,  -999.0,9, -999.00,9, -999.00,9, -999.00,9, -999.00,9,-999.000,9,-999.000,9,-999.000000000,9,  2114.6,2,  2289.0,2,     -999.0,9,     -999.0,9,   7.1723
58GS20090528,        GIN,     329,          1,         16,20090702,       0554,    70.0030,    16.6680,       1295,    50.5,   7.1710,  34.2126,2,  34.2050,2,   285.7,2,    2.43,2,    5.53,2,    0.15,2,    0.47,2,-999.000,9,   2.336,2,    2.44583204,2,  -999.0,9,  -999.0,9,       0.32,2,       0.28,2,   7.1663
58GS20090528,        GIN,     329,          1,         17,20090702,       0554,    70.0030,    16.6680,       1295,    30.7,   8.4700,  34.0257,2,  34.0605,2,   300.4,2,    1.12,2,    1.92,2,    0.09,2,    0.24,2,-999.000,9,   2.318,2,    2.16614799,2,  2087.4,2,  2288.6,2,       1.50,2,       0.26,2,   8.4669
58GS20090528,        GIN,     329,          1,         18,20090702,       0554,    70.0030,    16.6680,       1295,     9.6,   9.9250,  33.9470,2,  33.9475,2,   301.1,2,    0.58,2,    0.00,2,    0.01,2,    0.08,2,-999.000,9,   2.197,2,    1.99047801,2,  2065.9,2,  2284.6,2,       0.72,2,       0.08,2,   9.9239
58GS20090528,        GIN,     329,          1,         19,20090702,       0554,    70.0030,    16.6680,       1295,     5.0,   9.9280,  33.9466,2,  33.9481,2,   300.8,2, -999.00,9, -999.00,9, -999.00,9, -999.00,9,-999.000,9,-999.000,9,-999.000000000,9,  2064.5,2,  2286.1,2,       0.73,2,       0.08,2,   9.9274