BOTTLE,20150327CCHSIORJL
EXPOCODE,SECT_ID,STNNBR,CASTNO,BTLNBR,DATE,TIME,LATITUDE,LONGITUDE,DEPTH,CTDPRS,CTDTMP,CTDSAL,CTDSAL_FLAG_W,SALNTY,SALNTY_FLAG_W,OXYGEN,OXYGEN_FLAG_W,SILCAT,SILCAT_FLAG_W,NITRAT,NITRAT_FLAG_W,NITRIT,NITRIT_FLAG_W,PHSPHT,PHSPHT_FLAG_W,CFC-11,CFC-11_FLAG_W,CFC-12,CFC-12_FLAG_W,SF6,SF6_FLAG_W,TCARBN,TCARBN_FLAG_W,ALKALI,ALKALI_FLAG_W,CHLORA,CHLORA_FLAG_W,PPHYTN,PPHYTN_FLAG_W,THETA
,,,,,,,,,METERS,DBAR,ITS-90,PSS-78,,PSS-78,,UMOL/KG,,UMOL/KG,,UMOL/KG,,UMOL/KG,,UMOL/KG,,PMOL/KG,,PMOL/KG,,FMOL/KG,,UMOL/KG,,UMOL/KG,,MG/M^3,,MG/M^3,,DEG C
58GS20090528,        GIN,     238,          1,          1,20090607,       0336,    75.0010,     0.0040,       3710,  3700.4,  -0.7820,  34.9101,2,  34.9112,2,   299.1,2,   13.13,2,   14.84,2,    0.02,2,    1.02,2,   0.777,2,   0.395,2,-999.000000000,9,  2161.7,2,  2308.0,2,     -999.0,9,     -999.0,9,  -1.0092
58GS20090528,        GIN,     238,          1,          2,20090607,       0336,    75.0010,     0.0040,       3710,  3000.5,  -0.7960,  34.9122,2,  34.9127,2,   298.6,2,   12.47,2,   14.72,2,    0.02,2,    1.00,2,   0.797,2,   0.396,2,-999.000000000,9,  2160.8,2,  2306.5,2,     -999.0,9,     -999.0,9,  -0.9627
58GS20090528,        GIN,     238,          1,          3,20090607,       0336,    75.0010,     0.0040,       3710,  2500.6,  -0.7650,  34.9113,2,  34.9138,2,   298.2,2,   11.79,2,   14.62,2,    0.01,2,    0.99,2,   1.077,2,   0.525,2,-999.000000000,9,  2161.6,2,  2311.4,2,     -999.0,9,     -999.0,9,  -0.8940
58GS20090528,        GIN,     238,          1,          4,20090607,       0336,    75.0010,     0.0040,       3710,  2000.8,  -0.6900,  34.9049,2,  34.9076,2,   303.4,2,   10.28,2,   14.24,2,    0.02,2,    0.93,2,   2.373,2,   1.173,2,-999.000000000,9,  2162.8,2,  2308.4,2,     -999.0,9,     -999.0,9,  -0.7858
58GS20090528,        GIN,     238,          1,          5,20090607,       0336,    75.0010,     0.0040,       3710,  1500.7,  -0.6130,  34.9008,2,  34.9051,2,   331.2,2,    6.82,2,   12.56,2,    0.01,2,    0.88,2,   5.755,2,   2.932,2,-999.000000000,9,  2164.0,2,  2302.5,2,     -999.0,9,     -999.0,9,  -0.6792
58GS20090528,        GIN,     238,          1,          6,20090607,       0336,    75.0010,     0.0040,       3710,  1200.1,  -0.6310,  34.8993,2,  34.9016,2,  -999.0,9,    6.84,2,   12.71,2,    0.01,2,    0.88,2,   5.805,2,   2.992,2,-999.000000000,9,  -999.0,9,  -999.0,9,     -999.0,9,     -999.0,9,  -0.6805
58GS20090528,        GIN,     238,          1,          7,20090607,       0336,    75.0010,     0.0040,       3710,  1000.6,  -0.6260,  34.9003,2,  34.9027,2,   331.5,2,    6.70,2,   12.58,2,    0.01,2,    0.87,2,   5.875,2,   3.079,2,-999.000000000,9,  2164.3,2,  2308.0,2,     -999.0,9,     -999.0,9,  -0.6655
58GS20090528,        GIN,     238,          1,          8,20090607,       0336,    75.0010,     0.0040,       3710,   800.4,  -0.6400,  34.8984,2,  34.9017,2,   329.3,2,    6.97,2,   12.74,2,    0.03,2,    0.87,2,   5.714,2,   2.980,2,-999.000000000,9,  2165.8,2,  2306.6,2,     -999.0,9,     -999.0,9,  -0.6701
58GS20090528,        GIN,     238,          1,          9,20090607,       0336,    75.0010,     0.0040,       3710,   599.6,  -0.5910,  34.9017,2,-999.0000,9,  -999.0,9,    6.69,2,   12.65,2,    0.02,2,    0.88,2,-999.000,9,-999.000,9,-999.000000000,9,  -999.0,9,  -999.0,9,     -999.0,9,     -999.0,9,  -0.6127
58GS20090528,        GIN,     238,          1,         10,20090607,       0336,    75.0010,     0.0040,       3710,   599.7,  -0.5940,  34.9014,2,  34.9041,2,   331.0,2, -999.00,9, -999.00,9, -999.00,9, -999.00,9,   5.939,2,   3.113,2,-999.000000000,9,  2164.1,2,  2298.7,2,     -999.0,9,     -999.0,9,  -0.6157
58GS20090528,        GIN,     238,          1,         11,20090607,       0336,    75.0010,     0.0040,       3710,   499.4,  -0.6470,  34.8962,2,  34.8995,2,   331.3,2,    6.75,2,   12.68,2,    0.02,2,    0.88,2,   5.974,2,   3.082,2,-999.000000000,9,  2164.3,2,  2300.4,2,     -999.0,9,     -999.0,9,  -0.6643
58GS20090528,        GIN,     238,          1,         12,20090607,       0336,    75.0010,     0.0040,       3710,   400.0,  -0.6570,  34.8939,2,  34.8972,2,   332.6,2,    6.66,2,   12.61,2,    0.02,2,    0.88,2,   5.941,2,   3.243,2,-999.000000000,9,  2162.4,2,  2299.1,2,     -999.0,9,     -999.0,9,  -0.6705
58GS20090528,        GIN,     238,          1,         13,20090607,       0336,    75.0010,     0.0040,       3710,   299.5,  -0.6300,  34.8945,2,  34.8979,2,   332.2,2,    6.62,2,   12.54,2,    0.03,2,    0.88,2,   6.045,2,   3.197,2,-999.000000000,9,  2165.3,2,  2297.7,2,     -999.0,9,     -999.0,9,  -0.6399
58GS20090528,        GIN,     238,          1,         14,20090607,       0336,    75.0010,     0.0040,       3710,   200.1,  -0.5990,  34.8939,2,  34.8955,2,   329.3,2,    6.73,2,   12.66,2,    0.03,2,    0.88,2,   5.915,2,   3.195,2,-999.000000000,9,  2164.2,2,  2298.3,2,     -999.0,9,     -999.0,9,  -0.6055
58GS20090528,        GIN,     238,          1,         15,20090607,       0336,    75.0010,     0.0040,       3710,   149.4,  -0.5760,  34.8922,2,  34.8960,2,   330.8,2,    6.62,2,   12.56,2,    0.03,2,    0.87,2,   5.979,2,   3.214,2,-999.000000000,9,  2163.4,2,  2297.9,2,     -999.0,9,     -999.0,9,  -0.5808
58GS20090528,        GIN,     238,          1,         16,20090607,       0336,    75.0010,     0.0040,       3710,   100.4,  -0.5740,  34.8809,2,  34.8839,2,   336.8,2,    6.14,2,   11.95,2,    0.06,2,    0.84,2,   6.222,2,   3.352,2,-999.000000000,9,  2160.5,2,  2294.6,2,       0.12,2,       0.17,2,  -0.5772
58GS20090528,        GIN,     238,          1,         17,20090607,       0336,    75.0010,     0.0040,       3710,    74.4,  -0.5490,  34.8699,2,  34.8669,2,   342.5,2,    5.02,2,   11.10,2,    0.06,2,    0.79,2,-999.000,9,-999.000,9,-999.000000000,9,  2159.1,2,  2300.6,2,       0.44,2,       0.26,2,  -0.5513
58GS20090528,        GIN,     238,          1,         18,20090607,       0336,    75.0010,     0.0040,       3710,    50.2,  -0.4550,  34.8628,2,  34.8634,2,   350.6,2,    3.75,2,   10.32,2,    0.06,2,    0.76,2,   6.528,2,   3.570,2,-999.000000000,9,  2154.2,2,  2299.9,2,       0.71,2,       0.34,2,  -0.4566
58GS20090528,        GIN,     238,          1,         19,20090607,       0336,    75.0010,     0.0040,       3710,    29.8,   0.6790,  34.8596,2,  34.8635,2,   363.8,2,    1.80,2,    7.98,2,    0.06,2,    0.60,2,   6.761,2,   3.737,2,-999.000000000,9,  2136.3,2,  2304.5,2,       0.85,2,       0.48,2,   0.6778
58GS20090528,        GIN,     238,          1,         20,20090607,       0336,    75.0010,     0.0040,       3710,    20.1,   0.8970,  34.8663,2,-999.0000,9,  -999.0,9,    1.08,2,    6.70,2,    0.06,2,    0.51,2,-999.000,9,-999.000,9,-999.000000000,9,  -999.0,9,  -999.0,9,       0.78,2,       0.42,2,   0.8961
58GS20090528,        GIN,     238,          1,         21,20090607,       0336,    75.0010,     0.0040,       3710,    20.1,   0.9880,  34.8645,2,  34.8685,2,  -999.0,9, -999.00,9, -999.00,9, -999.00,9, -999.00,9,-999.000,9,-999.000,9,-999.000000000,9,  -999.0,9,  -999.0,9,     -999.0,9,     -999.0,9,   0.9871
58GS20090528,        GIN,     238,          1,         22,20090607,       0336,    75.0010,     0.0040,       3710,     9.5,   1.1450,  34.8609,2,  34.8581,2,  -999.0,9,    0.66,2,    5.94,2,    0.07,2,    0.47,2,-999.000,9,-999.000,9,-999.000000000,9,  -999.0,9,  -999.0,9,       1.09,2,       0.53,2,   1.1446
58GS20090528,        GIN,     238,          1,         23,20090607,       0336,    75.0010,     0.0040,       3710,     4.7,   1.1480,  34.8621,2,  34.8713,2,   366.9,2,    0.66,2,    5.97,2,    0.06,2,    0.47,2,   6.811,2,   3.870,2,-999.000000000,9,  2122.1,2,  2301.5,2,       1.26,2,       0.58,2,   1.1478
58GS20090528,        GIN,     238,          1,         24,20090607,       0336,    75.0010,     0.0040,       3710,     4.8,   1.1380,  34.8621,2,-999.0000,9,  -999.0,9, -999.00,9, -999.00,9, -999.00,9, -999.00,9,-999.000,9,-999.000,9,-999.000000000,9,  -999.0,9,  -999.0,9,     -999.0,9,     -999.0,9,   1.1378
58GS20090528,        GIN,     239,          1,          1,20090607,       0933,    75.0000,     1.0000,       3710,  3699.7,  -0.7850,  34.9098,2,-999.0000,9,   299.9,2,   13.14,2,   14.78,2,    0.02,2,    1.01,2,-999.000,9,-999.000,9,-999.000000000,9,  2159.3,2,  -999.0,9,     -999.0,9,     -999.0,9,  -1.0120
58GS20090528,        GIN,     239,          1,          2,20090607,       0933,    75.0000,     1.0000,       3710,  2999.8,  -0.7990,  34.9123,2,-999.0000,9,   299.0,2,   12.53,2,   14.60,2,    0.02,2,    1.02,2,-999.000,9,-999.000,9,-999.000000000,9,  2159.3,2,  -999.0,9,     -999.0,9,     -999.0,9,  -0.9656
58GS20090528,        GIN,     239,          1,          3,20090607,       0933,    75.0000,     1.0000,       3710,  2500.3,  -0.7790,  34.9115,2,-999.0000,9,   298.2,2,   12.06,2,   14.71,2,    0.03,2,    1.01,2,-999.000,9,-999.000,9,-999.000000000,9,  2159.7,2,  -999.0,9,     -999.0,9,     -999.0,9,  -0.9077
58GS20090528,        GIN,     239,          1,          4,20090607,       0933,    75.0000,     1.0000,       3710,  2000.0,  -0.7070,  34.9077,2,-999.0000,9,   301.0,2,   10.78,2,   14.31,2,    0.02,2,    1.00,2,-999.000,9,-999.000,9,-999.000000000,9,  2161.2,2,  -999.0,9,     -999.0,9,     -999.0,9,  -0.8024
58GS20090528,        GIN,     239,          1,          5,20090607,       0933,    75.0000,     1.0000,       3710,  1500.3,  -0.6010,  34.9023,2,-999.0000,9,   331.4,2,    6.85,2,   12.68,2,    0.04,2, -999.00,9,-999.000,9,-999.000,9,-999.000000000,9,  2165.0,2,  -999.0,9,     -999.0,9,     -999.0,9,  -0.6673
58GS20090528,        GIN,     239,          1,          6,20090607,       0933,    75.0000,     1.0000,       3710,  1200.1,  -0.6180,  34.9009,2,-999.0000,9,  -999.0,9,    6.72,2,   12.60,2,    0.02,2,    0.88,2,-999.000,9,-999.000,9,-999.000000000,9,  -999.0,9,  -999.0,9,     -999.0,9,     -999.0,9,  -0.6676
58GS20090528,        GIN,     239,          1,          7,20090607,       0933,    75.0000,     1.0000,       3710,  1000.4,  -0.6230,  34.9009,2,-999.0000,9,   332.3,2,    6.73,2,   12.63,2,    0.03,2,    0.88,2,-999.000,9,-999.000,9,-999.000000000,9,  2161.8,2,  -999.0,9,     -999.0,9,     -999.0,9,  -0.6625
58GS20090528,        GIN,     239,          1,          8,20090607,       0933,    75.0000,     1.0000,       3710,   799.6,  -0.6240,  34.9010,2,-999.0000,9,   332.0,2,    6.72,2,   12.58,2,    0.02,2,    0.88,2,-999.000,9,-999.000,9,-999.000000000,9,  2160.9,2,  -999.0,9,     -999.0,9,     -999.0,9,  -0.6541
58GS20090528,        GIN,     239,          1,          9,20090607,       0933,    75.0000,     1.0000,       3710,   600.1,  -0.6110,  34.9018,2,-999.0000,9,   331.3,2,    6.69,2,   12.51,2,    0.02,2,    0.87,2,-999.000,9,-999.000,9,-999.000000000,9,  2160.4,2,  -999.0,9,     -999.0,9,     -999.0,9,  -0.6326
58GS20090528,        GIN,     239,          1,         10,20090607,       0933,    75.0000,     1.0000,       3710,   600.4,  -0.6110,  34.9018,2,-999.0000,9,  -999.0,9, -999.00,9, -999.00,9, -999.00,9, -999.00,9,-999.000,9,-999.000,9,-999.000000000,9,  -999.0,9,  -999.0,9,     -999.0,9,     -999.0,9,  -0.6326
58GS20090528,        GIN,     239,          1,         11,20090607,       0933,    75.0000,     1.0000,       3710,   500.8,  -0.5990,  34.9023,2,-999.0000,9,   331.1,2,    6.73,2,   12.54,2,    0.03,2,    0.88,2,-999.000,9,-999.000,9,-999.000000000,9,  2161.7,2,  -999.0,9,     -999.0,9,     -999.0,9,  -0.6166
58GS20090528,        GIN,     239,          1,         12,20090607,       0933,    75.0000,     1.0000,       3710,   400.8,  -0.5740,  34.9030,2,-999.0000,9,   330.0,2,    6.73,2,   12.35,2,    0.05,2,    0.90,2,-999.000,9,-999.000,9,-999.000000000,9,  2163.1,2,  -999.0,9,     -999.0,9,     -999.0,9,  -0.5878
58GS20090528,        GIN,     239,          1,         13,20090607,       0933,    75.0000,     1.0000,       3710,   300.0,  -0.5210,  34.9048,2,-999.0000,9,   328.8,2,    6.79,2,   12.64,2,    0.04,2,    0.90,2,-999.000,9,-999.000,9,-999.000000000,9,  2161.7,2,  -999.0,9,     -999.0,9,     -999.0,9,  -0.5312
58GS20090528,        GIN,     239,          1,         14,20090607,       0933,    75.0000,     1.0000,       3710,   199.8,  -0.4330,  34.9069,2,-999.0000,9,   329.4,2,    6.62,2,   12.43,2,    0.04,2,    0.87,2,-999.000,9,-999.000,9,-999.000000000,9,  2161.5,2,  -999.0,9,     -999.0,9,     -999.0,9,  -0.4398
58GS20090528,        GIN,     239,          1,         15,20090607,       0933,    75.0000,     1.0000,       3710,   149.6,  -0.3480,  34.9096,2,-999.0000,9,   328.6,2,    6.58,2,   12.35,2,    0.04,2,    0.88,2,-999.000,9,-999.000,9,-999.000000000,9,  2158.4,2,  -999.0,9,     -999.0,9,     -999.0,9,  -0.3531
58GS20090528,        GIN,     239,          1,         16,20090607,       0933,    75.0000,     1.0000,       3710,    99.6,  -0.3220,  34.9003,2,-999.0000,9,   335.6,2,    6.43,2,   11.89,2,    0.04,2,    0.85,2,-999.000,9,-999.000,9,-999.000000000,9,  2158.9,2,  -999.0,9,       0.12,2,       0.49,2,  -0.3254
58GS20090528,        GIN,     239,          1,         17,20090607,       0933,    75.0000,     1.0000,       3710,    76.0,  -0.2570,  34.8969,2,-999.0000,9,   339.7,2,    6.01,2,   11.24,2,    0.04,2,    0.83,2,-999.000,9,-999.000,9,-999.000000000,9,  2158.7,2,  -999.0,9,       0.30,2,       0.58,2,  -0.2596
58GS20090528,        GIN,     239,          1,         18,20090607,       0933,    75.0000,     1.0000,       3710,    50.2,   0.0570,  34.8928,2,-999.0000,9,   355.2,2,    3.44,2,    9.12,2,    0.04,2,    0.72,2,-999.000,9,-999.000,9,-999.000000000,9,  2147.0,2,  -999.0,9,       0.87,2,       0.61,2,   0.0552
58GS20090528,        GIN,     239,          1,         19,20090607,       0933,    75.0000,     1.0000,       3710,    30.0,   1.0290,  34.8716,2,-999.0000,9,   370.6,2,    0.41,2,    5.75,2,    0.06,2,    0.49,2,-999.000,9,-999.000,9,-999.000000000,9,  2119.8,2,  -999.0,9,       0.93,2,       0.42,2,   1.0277
58GS20090528,        GIN,     239,          1,         20,20090607,       0933,    75.0000,     1.0000,       3710,    20.5,   1.0940,  34.8786,2,-999.0000,9,  -999.0,9,    0.28,2,    5.65,2,    0.06,2,    0.47,2,-999.000,9,-999.000,9,-999.000000000,9,  -999.0,9,  -999.0,9,       0.69,2,       0.29,2,   1.0931
58GS20090528,        GIN,     239,          1,         21,20090607,       0933,    75.0000,     1.0000,       3710,    20.5,   1.0950,  34.8794,2,-999.0000,9,  -999.0,9, -999.00,9, -999.00,9, -999.00,9, -999.00,9,-999.000,9,-999.000,9,-999.000000000,9,  -999.0,9,  -999.0,9,     -999.0,9,     -999.0,9,   1.0941
58GS20090528,        GIN,     239,          1,         22,20090607,       0933,    75.0000,     1.0000,       3710,    10.1,   1.2550,  34.8787,2,-999.0000,9,  -999.0,9,    0.29,2,    5.51,2,    0.06,2,    0.47,2,-999.000,9,-999.000,9,-999.000000000,9,  -999.0,9,  -999.0,9,       0.61,2,       0.25,2,   1.2545
58GS20090528,        GIN,     239,          1,         23,20090607,       0933,    75.0000,     1.0000,       3710,     5.0,   1.2870,  34.8783,2,-999.0000,9,   367.0,2,    0.29,2,    5.48,2,    0.06,2,    0.47,2,-999.000,9,-999.000,9,-999.000000000,9,  2119.5,2,  -999.0,9,       0.58,2,       0.21,2,   1.2868
58GS20090528,        GIN,     239,          1,         24,20090607,       0933,    75.0000,     1.0000,       3710,     4.8,   1.2850,  34.8787,2,-999.0000,9,  -999.0,9, -999.00,9, -999.00,9, -999.00,9, -999.00,9,-999.000,9,-999.000,9,-999.000000000,9,  -999.0,9,  -999.0,9,     -999.0,9,     -999.0,9,   1.2848