BOTTLE,20150327CCHSIORJL
EXPOCODE,SECT_ID,STNNBR,CASTNO,BTLNBR,DATE,TIME,LATITUDE,LONGITUDE,DEPTH,CTDPRS,CTDTMP,CTDSAL,CTDSAL_FLAG_W,SALNTY,SALNTY_FLAG_W,OXYGEN,OXYGEN_FLAG_W,SILCAT,SILCAT_FLAG_W,NITRAT,NITRAT_FLAG_W,NITRIT,NITRIT_FLAG_W,PHSPHT,PHSPHT_FLAG_W,CFC-11,CFC-11_FLAG_W,CFC-12,CFC-12_FLAG_W,SF6,SF6_FLAG_W,TCARBN,TCARBN_FLAG_W,ALKALI,ALKALI_FLAG_W,CHLORA,CHLORA_FLAG_W,PPHYTN,PPHYTN_FLAG_W,THETA
,,,,,,,,,METERS,DBAR,ITS-90,PSS-78,,PSS-78,,UMOL/KG,,UMOL/KG,,UMOL/KG,,UMOL/KG,,UMOL/KG,,PMOL/KG,,PMOL/KG,,FMOL/KG,,UMOL/KG,,UMOL/KG,,MG/M^3,,MG/M^3,,DEG C
58GS20090528,        GIN,     228,          1,          1,20090604,       0708,    72.5840,     1.1330,       2950,  2427.9,  -0.8150,  34.9120,2,  34.9127,2,  -999.0,9,   12.59,2,   14.69,2,    0.02,2,    1.01,2,-999.000,9,-999.000,9,-999.000000000,9,  -999.0,9,  -999.0,9,     -999.0,9,     -999.0,9,  -0.9378
58GS20090528,        GIN,     228,          1,          2,20090604,       0708,    72.5840,     1.1330,       2950,  2000.8,  -0.7990,  34.9115,2,  34.9149,2,  -999.0,9,   12.13,2,   14.58,2,    0.01,2,    1.01,2,-999.000,9,-999.000,9,-999.000000000,9,  -999.0,9,  -999.0,9,     -999.0,9,     -999.0,9,  -0.8931
58GS20090528,        GIN,     228,          1,          3,20090604,       0708,    72.5840,     1.1330,       2950,  1500.4,  -0.7190,  34.9087,2,  34.9121,2,  -999.0,9,   10.89,2,   14.22,2,    0.01,2,    0.99,2,-999.000,9,-999.000,9,-999.000000000,9,  -999.0,9,  -999.0,9,     -999.0,9,     -999.0,9,  -0.7839
58GS20090528,        GIN,     228,          1,          4,20090604,       0708,    72.5840,     1.1330,       2950,  1200.1,  -0.6420,  34.9012,2,  34.9019,2,  -999.0,9,    9.48,2,   13.82,2,    0.02,2,    0.98,2,-999.000,9,-999.000,9,-999.000000000,9,  -999.0,9,  -999.0,9,     -999.0,9,     -999.0,9,  -0.6914
58GS20090528,        GIN,     228,          1,          5,20090604,       0708,    72.5840,     1.1330,       2950,  1000.4,  -0.5690,  34.8979,2,  34.9020,2,  -999.0,9,    9.49,2,   13.93,2,    0.02,2,    0.97,2,-999.000,9,-999.000,9,-999.000000000,9,  -999.0,9,  -999.0,9,     -999.0,9,     -999.0,9,  -0.6090
58GS20090528,        GIN,     228,          1,          6,20090604,       0708,    72.5840,     1.1330,       2950,   800.0,  -0.4360,  34.8982,2,  34.8972,2,  -999.0,9,    7.78,2,   13.33,2,    0.02,2,    0.94,2,-999.000,9,-999.000,9,-999.000000000,9,  -999.0,9,  -999.0,9,     -999.0,9,     -999.0,9,  -0.4674
58GS20090528,        GIN,     228,          1,          7,20090604,       0708,    72.5840,     1.1330,       2950,   600.5,  -0.1450,  34.9068,2,  34.9076,2,  -999.0,9,    7.14,2,   12.87,2,    0.02,2,    0.91,2,-999.000,9,-999.000,9,-999.000000000,9,  -999.0,9,  -999.0,9,     -999.0,9,     -999.0,9,  -0.1690
58GS20090528,        GIN,     228,          1,          8,20090604,       0708,    72.5840,     1.1330,       2950,   500.5,  -0.0720,  34.8986,2,  34.8978,2,  -999.0,9,    6.91,2,   12.82,2,    0.01,2,    0.90,2,-999.000,9,-999.000,9,-999.000000000,9,  -999.0,9,  -999.0,9,     -999.0,9,     -999.0,9,  -0.0918
58GS20090528,        GIN,     228,          1,          9,20090604,       0708,    72.5840,     1.1330,       2950,   399.8,  -0.0190,  34.8906,2,  34.8922,2,  -999.0,9,    6.17,2,   12.18,2,    0.02,2,    0.86,2,-999.000,9,-999.000,9,-999.000000000,9,  -999.0,9,  -999.0,9,     -999.0,9,     -999.0,9,  -0.0346
58GS20090528,        GIN,     228,          1,         10,20090604,       0708,    72.5840,     1.1330,       2950,   300.1,   0.1030,  34.8938,2,  34.8896,2,  -999.0,9,    5.69,2,   11.79,2,    0.03,2,    0.83,2,-999.000,9,-999.000,9,-999.000000000,9,  -999.0,9,  -999.0,9,     -999.0,9,     -999.0,9,   0.0912
58GS20090528,        GIN,     228,          1,         11,20090604,       0708,    72.5840,     1.1330,       2950,   200.8,   0.5850,  34.9232,2,  34.9193,2,  -999.0,9,    5.58,2,   11.67,2,    0.07,2,    0.83,2,-999.000,9,-999.000,9,-999.000000000,9,  -999.0,9,  -999.0,9,     -999.0,9,     -999.0,9,   0.5765
58GS20090528,        GIN,     228,          1,         12,20090604,       0708,    72.5840,     1.1330,       2950,   149.9,   1.0020,  34.9492,2,  34.9421,2,  -999.0,9,    5.53,2,   11.93,2,    0.08,2,    0.84,2,-999.000,9,-999.000,9,-999.000000000,9,  -999.0,9,  -999.0,9,     -999.0,9,     -999.0,9,   0.9952
58GS20090528,        GIN,     228,          1,         13,20090604,       0708,    72.5840,     1.1330,       2950,   124.6,   1.1640,  34.9580,2,  34.9465,2,  -999.0,9,    5.50,2,   11.90,2,    0.08,2,    0.83,2,-999.000,9,-999.000,9,-999.000000000,9,  -999.0,9,  -999.0,9,     -999.0,9,     -999.0,9,   1.1582
58GS20090528,        GIN,     228,          1,         14,20090604,       0708,    72.5840,     1.1330,       2950,    99.6,   1.4370,  34.9743,2,-999.0000,9,  -999.0,9,    5.40,2,   11.86,2,    0.09,2,    0.82,2,-999.000,9,-999.000,9,-999.000000000,9,  -999.0,9,  -999.0,9,       0.03,2,       0.07,2,   1.4321
58GS20090528,        GIN,     228,          1,         15,20090604,       0708,    72.5840,     1.1330,       2950,    74.1,   1.7860,  34.9842,2,  34.9852,2,  -999.0,9,    5.33,2,   11.62,2,    0.15,2,    0.81,2,-999.000,9,-999.000,9,-999.000000000,9,  -999.0,9,  -999.0,9,       0.05,2,       0.09,2,   1.7822
58GS20090528,        GIN,     228,          1,         16,20090604,       0708,    72.5840,     1.1330,       2950,    49.7,   2.3030,  35.0101,2,  35.0144,2,  -999.0,9,    5.22,2,   11.50,2,    0.20,2,    0.82,2,-999.000,9,-999.000,9,-999.000000000,9,  -999.0,9,  -999.0,9,       0.14,2,       0.13,2,   2.3002
58GS20090528,        GIN,     228,          1,         17,20090604,       0708,    72.5840,     1.1330,       2950,    30.1,   3.5620,  35.0318,2,  35.0359,2,  -999.0,9,    4.47,2,    7.04,2,    0.09,2,    0.57,2,-999.000,9,-999.000,9,-999.000000000,9,  -999.0,9,  -999.0,9,       1.66,2,       0.20,2,   3.5600
58GS20090528,        GIN,     228,          1,         18,20090604,       0708,    72.5840,     1.1330,       2950,    20.2,   3.6840,  35.0343,2,  35.0365,2,  -999.0,9,    4.46,2,    6.95,2,    0.08,2,    0.57,2,-999.000,9,-999.000,9,-999.000000000,9,  -999.0,9,  -999.0,9,       1.72,2,       0.21,2,   3.6827
58GS20090528,        GIN,     228,          1,         19,20090604,       0708,    72.5840,     1.1330,       2950,    20.0,   3.6890,  35.0349,2,  35.0356,2,  -999.0,9, -999.00,9, -999.00,9, -999.00,9, -999.00,9,-999.000,9,-999.000,9,-999.000000000,9,  -999.0,9,  -999.0,9,     -999.0,9,     -999.0,9,   3.6877
58GS20090528,        GIN,     228,          1,         20,20090604,       0708,    72.5840,     1.1330,       2950,     9.0,   3.6990,  35.0354,2,  35.0340,2,  -999.0,9,    4.44,2,    6.90,2,    0.10,2,    0.57,2,-999.000,9,-999.000,9,-999.000000000,9,  -999.0,9,  -999.0,9,       1.71,2,       0.20,2,   3.6984
58GS20090528,        GIN,     228,          1,         21,20090604,       0708,    72.5840,     1.1330,       2950,     4.0,   3.6990,  35.0351,2,  35.0322,2,  -999.0,9,    4.43,2,    6.88,2,    0.10,2,    0.57,2,-999.000,9,-999.000,9,-999.000000000,9,  -999.0,9,  -999.0,9,       1.80,2,       0.19,2,   3.6987
58GS20090528,        GIN,     228,          1,         22,20090604,       0708,    72.5840,     1.1330,       2950,     4.2,   3.6990,  35.0351,2,-999.0000,9,  -999.0,9, -999.00,9, -999.00,9, -999.00,9, -999.00,9,-999.000,9,-999.000,9,-999.000000000,9,  -999.0,9,  -999.0,9,     -999.0,9,     -999.0,9,   3.6987
58GS20090528,        GIN,     229,          1,          1,20090604,       1043,    72.7510,     0.5820,       2992,  2699.1,  -0.8140,  34.9125,2,  34.9087,2,   297.9,2,   12.76,2,   14.69,2,    0.01,2,    1.02,2,-999.000,9,-999.000,9,-999.000000000,9,  2159.2,2,  -999.0,9,     -999.0,9,     -999.0,9,  -0.9567
58GS20090528,        GIN,     229,          1,          2,20090604,       1043,    72.7510,     0.5820,       2992,  2500.0,  -0.8220,  34.9126,2,  34.9082,2,   298.0,2,   12.62,2,   14.67,2,    0.01,2,    1.02,2,-999.000,9,-999.000,9,-999.000000000,9,  2160.1,2,  -999.0,9,     -999.0,9,     -999.0,9,  -0.9498
58GS20090528,        GIN,     229,          1,          3,20090604,       1043,    72.7510,     0.5820,       2992,  1999.6,  -0.8040,  34.9120,2,  34.9139,2,   298.0,2,   12.06,2,   14.53,2,    0.01,2,    1.01,2,-999.000,9,-999.000,9,-999.000000000,9,  2158.4,2,  -999.0,9,     -999.0,9,     -999.0,9,  -0.8979
58GS20090528,        GIN,     229,          1,          4,20090604,       1043,    72.7510,     0.5820,       2992,  1499.7,  -0.7000,  34.9076,2,  34.9080,2,   301.3,2,   10.55,2,   14.15,2,    0.01,2,    0.99,2,-999.000,9,-999.000,9,-999.000000000,9,  2158.4,2,  -999.0,9,     -999.0,9,     -999.0,9,  -0.7651
58GS20090528,        GIN,     229,          1,          5,20090604,       1043,    72.7510,     0.5820,       2992,  1199.8,  -0.6320,  34.9011,2,  34.9024,2,   310.5,2,    8.87,2,   13.30,2,    0.02,2,    0.95,2,-999.000,9,-999.000,9,-999.000000000,9,  2161.8,2,  -999.0,9,     -999.0,9,     -999.0,9,  -0.6815
58GS20090528,        GIN,     229,          1,          6,20090604,       1043,    72.7510,     0.5820,       2992,   999.3,  -0.5510,  34.9001,2,  34.9037,2,   320.4,2,    7.60,2,   13.01,2,    0.01,2,    0.92,2,-999.000,9,-999.000,9,-999.000000000,9,  2162.1,2,  -999.0,9,     -999.0,9,     -999.0,9,  -0.5911
58GS20090528,        GIN,     229,          1,          7,20090604,       1043,    72.7510,     0.5820,       2992,   799.6,  -0.4670,  34.9008,2,  34.9024,2,   320.5,2,    7.19,2,   12.80,2,    0.01,2,    0.90,2,-999.000,9,-999.000,9,-999.000000000,9,  2161.9,2,  -999.0,9,     -999.0,9,     -999.0,9,  -0.4982
58GS20090528,        GIN,     229,          1,          8,20090604,       1043,    72.7510,     0.5820,       2992,   599.8,  -0.2550,  34.9071,2,  34.9110,2,   316.8,2,    7.15,2,   12.82,2,    0.01,2,    0.91,2,-999.000,9,-999.000,9,-999.000000000,9,  2160.6,2,  -999.0,9,     -999.0,9,     -999.0,9,  -0.2784
58GS20090528,        GIN,     229,          1,          9,20090604,       1043,    72.7510,     0.5820,       2992,   500.3,  -0.1530,  34.9068,2,  34.9049,2,   314.6,2,    7.10,2,   12.79,2,    0.01,2,    0.91,2,-999.000,9,-999.000,9,-999.000000000,9,  2160.7,2,  -999.0,9,     -999.0,9,     -999.0,9,  -0.1725
58GS20090528,        GIN,     229,          1,         10,20090604,       1043,    72.7510,     0.5820,       2992,   400.7,  -0.0520,  34.9002,2,  34.9016,2,   316.2,2,    6.76,2,   12.65,2,    0.01,2,    0.89,2,-999.000,9,-999.000,9,-999.000000000,9,  2158.7,2,  -999.0,9,     -999.0,9,     -999.0,9,  -0.0676
58GS20090528,        GIN,     229,          1,         11,20090604,       1043,    72.7510,     0.5820,       2992,   299.7,  -0.0600,  34.8855,2,  34.8900,2,   330.6,2,    5.86,2,   11.86,2,    0.02,2,    0.87,2,-999.000,9,-999.000,9,-999.000000000,9,  2158.3,2,  -999.0,9,     -999.0,9,     -999.0,9,  -0.0713
58GS20090528,        GIN,     229,          1,         12,20090604,       1043,    72.7510,     0.5820,       2992,   200.4,   0.1220,  34.8937,2,  34.8982,2,   334.2,2,    5.65,2,   11.69,2,    0.05,2,    0.85,2,-999.000,9,-999.000,9,-999.000000000,9,  2157.1,2,  -999.0,9,     -999.0,9,     -999.0,9,   0.1143
58GS20090528,        GIN,     229,          1,         13,20090604,       1043,    72.7510,     0.5820,       2992,   147.3,   0.3460,  34.9065,2,  34.9104,2,   333.3,2,    5.55,2,   11.59,2,    0.09,2,    0.82,2,-999.000,9,-999.000,9,-999.000000000,9,  2155.9,2,  -999.0,9,     -999.0,9,     -999.0,9,   0.3401
58GS20090528,        GIN,     229,          1,         14,20090604,       1043,    72.7510,     0.5820,       2992,   125.2,   0.5420,  34.9220,2,  34.9259,2,  -999.0,9,    5.59,2,   11.75,2,    0.06,2,    0.83,2,-999.000,9,-999.000,9,-999.000000000,9,  -999.0,9,  -999.0,9,     -999.0,9,     -999.0,9,   0.5368
58GS20090528,        GIN,     229,          1,         15,20090604,       1043,    72.7510,     0.5820,       2992,   100.6,   0.7960,  34.9366,2,  34.9413,2,   325.6,2,    5.55,2,   11.76,2,    0.07,2,    0.83,2,-999.000,9,-999.000,9,-999.000000000,9,  2155.2,2,  -999.0,9,       0.04,2,       0.05,2,   0.7916
58GS20090528,        GIN,     229,          1,         16,20090604,       1043,    72.7510,     0.5820,       2992,    75.6,   1.0930,  34.9542,2,  34.9585,2,   323.9,2,    5.48,2,   11.82,2,    0.11,2,    0.83,2,-999.000,9,-999.000,9,-999.000000000,9,  2154.9,2,  -999.0,9,       0.05,2,       0.12,2,   1.0896
58GS20090528,        GIN,     229,          1,         17,20090604,       1043,    72.7510,     0.5820,       2992,    49.8,   1.5320,  34.9698,2,  34.9648,2,   327.3,2,    5.15,2,   10.96,2,    0.15,2,    0.79,2,-999.000,9,-999.000,9,-999.000000000,9,  2153.9,2,  -999.0,9,       0.18,2,       0.15,2,   1.5296
58GS20090528,        GIN,     229,          1,         18,20090604,       1043,    72.7510,     0.5820,       2992,    30.2,   2.8930,  35.0025,2,  35.0204,2,   335.5,2,    4.39,2,    6.53,2,    0.08,2,    0.55,2,-999.000,9,-999.000,9,-999.000000000,9,  2122.8,2,  -999.0,9,       1.20,2,       0.21,2,   2.8912
58GS20090528,        GIN,     229,          1,         19,20090604,       1043,    72.7510,     0.5820,       2992,    21.0,   3.7870,  35.0327,2,  35.0336,2,  -999.0,9, -999.00,9, -999.00,9, -999.00,9, -999.00,9,-999.000,9,-999.000,9,-999.000000000,9,  -999.0,9,  -999.0,9,     -999.0,9,     -999.0,9,   3.7856
58GS20090528,        GIN,     229,          1,         20,20090604,       1043,    72.7510,     0.5820,       2992,    20.8,   3.7930,  35.0353,2,  35.0347,2,  -999.0,9,    4.27,2,    5.92,2,    0.07,2,    0.52,2,-999.000,9,-999.000,9,-999.000000000,9,  -999.0,9,  -999.0,9,       1.49,2,       0.23,2,   3.7916
58GS20090528,        GIN,     229,          1,         21,20090604,       1043,    72.7510,     0.5820,       2992,    10.4,   3.8110,  35.0366,2,  35.0330,2,  -999.0,9,    4.27,2,    5.94,2,    0.08,2,    0.50,2,-999.000,9,-999.000,9,-999.000000000,9,  -999.0,9,  -999.0,9,       1.56,2,       0.25,2,   3.8103
58GS20090528,        GIN,     229,          1,         22,20090604,       1043,    72.7510,     0.5820,       2992,     5.4,   3.8150,  35.0369,2,  35.0331,2,   335.9,2, -999.00,9, -999.00,9, -999.00,9, -999.00,9,-999.000,9,-999.000,9,-999.000000000,9,  2118.6,2,  -999.0,9,       1.53,2,       0.26,2,   3.8146
58GS20090528,        GIN,     229,          1,         23,20090604,       1043,    72.7510,     0.5820,       2992,     5.4,   3.8130,  35.0368,2,  35.0270,2,  -999.0,9,    4.26,2,    5.90,2,    0.07,2,    0.50,2,-999.000,9,-999.000,9,-999.000000000,9,  -999.0,9,  -999.0,9,     -999.0,9,     -999.0,9,   3.8126