BOTTLE,20150327CCHSIORJL
EXPOCODE,SECT_ID,STNNBR,CASTNO,BTLNBR,DATE,TIME,LATITUDE,LONGITUDE,DEPTH,CTDPRS,CTDTMP,CTDSAL,CTDSAL_FLAG_W,SALNTY,SALNTY_FLAG_W,OXYGEN,OXYGEN_FLAG_W,SILCAT,SILCAT_FLAG_W,NITRAT,NITRAT_FLAG_W,NITRIT,NITRIT_FLAG_W,PHSPHT,PHSPHT_FLAG_W,CFC-11,CFC-11_FLAG_W,CFC-12,CFC-12_FLAG_W,SF6,SF6_FLAG_W,TCARBN,TCARBN_FLAG_W,ALKALI,ALKALI_FLAG_W,CHLORA,CHLORA_FLAG_W,PPHYTN,PPHYTN_FLAG_W,THETA
,,,,,,,,,METERS,DBAR,ITS-90,PSS-78,,PSS-78,,UMOL/KG,,UMOL/KG,,UMOL/KG,,UMOL/KG,,UMOL/KG,,PMOL/KG,,PMOL/KG,,FMOL/KG,,UMOL/KG,,UMOL/KG,,MG/M^3,,MG/M^3,,DEG C
58GS20090528,        GIN,     213,          1,          1,20090531,       1640,    68.7840,    12.9690,       2667,   172.8,   7.2750,  35.2052,2,  35.1990,2,   281.6,2,    4.48,2,   11.37,2,    0.04,2,    0.75,2,   4.451,2,   2.500,2,    2.63891864,2,  2145.3,2,  2314.7,3,     -999.0,9,     -999.0,9,   7.2584
58GS20090528,        GIN,     213,          1,          2,20090531,       1640,    68.7840,    12.9690,       2667,   150.5,   7.2880,  35.2019,2,  35.1940,2,   281.6,2,    4.46,2,   11.39,2,    0.04,2,    0.76,2,-999.000,9,-999.000,9,-999.000000000,9,  2144.2,2,  2308.7,3,     -999.0,9,     -999.0,9,   7.2736
58GS20090528,        GIN,     213,          1,          3,20090531,       1640,    68.7840,    12.9690,       2667,   125.0,   7.3190,  35.1985,2,  35.1922,2,  -999.0,9,    4.27,2,   11.14,2,    0.07,2,    0.74,2,-999.000,9,-999.000,9,-999.000000000,9,  -999.0,9,  -999.0,9,     -999.0,9,     -999.0,9,   7.3070
58GS20090528,        GIN,     213,          1,          4,20090531,       1640,    68.7840,    12.9690,       2667,   101.5,   7.3280,  35.1877,2,  35.1826,2,   281.8,2,    4.24,2,   10.98,2,    0.10,2,    0.73,2,   4.372,2,   2.453,2,     2.4297839,2,  2143.0,2,  2307.9,3,       0.04,2,       0.20,2,   7.3183
58GS20090528,        GIN,     213,          1,          5,20090531,       1640,    68.7840,    12.9690,       2667,    74.8,   7.3150,  35.1812,2,  35.1748,2,  -999.0,9,    4.26,2,   10.97,2,    0.10,2,    0.77,2,-999.000,9,-999.000,9,-999.000000000,9,  -999.0,9,  -999.0,9,       0.04,2,       0.20,2,   7.3078
58GS20090528,        GIN,     213,          1,          6,20090531,       1640,    68.7840,    12.9690,       2667,    50.8,   7.3000,  35.1738,2,  35.1682,2,   281.6,2,    4.20,2,   10.83,2,    0.12,2,    0.72,2,-999.000,9,-999.000,9,-999.000000000,9,  2142.3,2,  2298.7,3,       0.04,2,       0.19,2,   7.2952
58GS20090528,        GIN,     213,          1,          7,20090531,       1640,    68.7840,    12.9690,       2667,    31.0,   7.9190,  35.2201,2,  35.2008,2,  -999.0,9,    3.65,2,    9.35,2,    0.20,2,    0.67,2,-999.000,9,-999.000,9,-999.000000000,9,  -999.0,9,  -999.0,9,       0.22,2,       0.20,2,   7.9159
58GS20090528,        GIN,     213,          1,          8,20090531,       1640,    68.7840,    12.9690,       2667,    31.7,   7.9210,  35.2210,2,  35.1953,2,   285.5,2, -999.00,9, -999.00,9, -999.00,9, -999.00,9,   4.446,2,   2.465,2,    2.52057207,2,  2133.9,2,  2319.5,2,     -999.0,9,     -999.0,9,   7.9178
58GS20090528,        GIN,     213,          1,          9,20090531,       1640,    68.7840,    12.9690,       2667,    20.5,   7.9590,  35.1767,2,  35.0446,2,  -999.0,9,    3.27,2,    8.46,2,    0.24,2,    0.61,2,-999.000,9,-999.000,9,-999.000000000,9,  -999.0,9,  -999.0,9,       0.23,2,       0.16,2,   7.9570
58GS20090528,        GIN,     213,          1,         10,20090531,       1640,    68.7840,    12.9690,       2667,     9.5,   8.4850,  35.0134,2,  34.9896,2,   297.6,2,    1.66,2,    4.89,2,    0.19,2,    0.38,2,   4.378,2,   2.614,2,    2.41027001,2,  2106.8,2,  2307.3,2,       1.70,2,       0.56,2,   8.4840
58GS20090528,        GIN,     213,          1,         11,20090531,       1640,    68.7840,    12.9690,       2667,    10.2,   8.5150,  35.0075,2,-999.0000,9,  -999.0,9, -999.00,9, -999.00,9, -999.00,9, -999.00,9,-999.000,9,-999.000,9,-999.000000000,9,  -999.0,9,  -999.0,9,     -999.0,9,     -999.0,9,   8.5139
58GS20090528,        GIN,     213,          1,         12,20090531,       1640,    68.7840,    12.9690,       2667,     4.7,   8.5660,  34.9957,2,-999.0000,9,  -999.0,9,    1.26,2,    3.62,2,    0.14,2,    0.30,2,-999.000,9,-999.000,9,-999.000000000,9,  -999.0,9,  -999.0,9,       2.32,2,       0.63,2,   8.5655
58GS20090528,        GIN,     213,          1,         13,20090531,       1640,    68.7840,    12.9690,       2667,     4.8,   8.5680,  34.9954,2,-999.0000,9,  -999.0,9, -999.00,9, -999.00,9, -999.00,9, -999.00,9,-999.000,9,-999.000,9,-999.000000000,9,  -999.0,9,  -999.0,9,     -999.0,9,     -999.0,9,   8.5675
58GS20090528,        GIN,     214,          1,          1,20090531,       1806,    68.8480,    12.8040,       2667,   649.1,   2.6250,  35.0026,2,-999.0000,9,   295.6,2,    6.39,2,   13.11,2,    0.03,2,    0.92,2,   4.908,2,   2.672,2,    2.08706138,2,  2157.1,2,  2314.7,3,     -999.0,9,     -999.0,9,   2.5841
58GS20090528,        GIN,     214,          1,          2,20090531,       1806,    68.8480,    12.8040,       2667,   600.3,   3.4700,  35.0238,2,-999.0000,9,  -999.0,9,    5.94,2,   12.76,2,    0.03,2,    0.87,2,-999.000,9,-999.000,9,-999.000000000,9,  -999.0,9,  -999.0,9,     -999.0,9,     -999.0,9,   3.4284
58GS20090528,        GIN,     214,          1,          3,20090531,       1806,    68.8480,    12.8040,       2667,   501.1,   5.5640,  35.1438,2,-999.0000,9,   291.2,2,    5.17,2,   12.08,2,    0.04,2,    0.81,2,   4.845,2,   2.748,2,    2.53762206,2,  2145.9,2,  2308.7,3,     -999.0,9,     -999.0,9,   5.5214
58GS20090528,        GIN,     214,          1,          4,20090531,       1806,    68.8480,    12.8040,       2667,   401.7,   6.3380,  35.1939,2,-999.0000,9,  -999.0,9,    5.10,2,   12.04,2,    0.03,2,    0.80,2,-999.000,9,-999.000,9,-999.000000000,9,  -999.0,9,  -999.0,9,     -999.0,9,     -999.0,9,   6.3017
58GS20090528,        GIN,     214,          1,          5,20090531,       1806,    68.8480,    12.8040,       2667,   298.9,   6.8850,  35.2231,2,-999.0000,9,  -999.0,9,    5.15,2,   12.12,2,    0.04,2,    0.80,2,-999.000,9,-999.000,9,-999.000000000,9,  -999.0,9,  -999.0,9,     -999.0,9,     -999.0,9,   6.8569
58GS20090528,        GIN,     214,          1,          6,20090531,       1806,    68.8480,    12.8040,       2667,   199.4,   7.3930,  35.2450,2,-999.0000,9,  -999.0,9,    4.80,2,   11.68,2,    0.05,2,    0.76,2,-999.000,9,-999.000,9,-999.000000000,9,  -999.0,9,  -999.0,9,     -999.0,9,     -999.0,9,   7.3736
58GS20090528,        GIN,     214,          1,          7,20090531,       1806,    68.8480,    12.8040,       2667,   150.3,   7.4680,  35.2374,2,-999.0000,9,   281.5,2,    4.58,2,   11.01,2,    0.08,2,    0.74,2,   4.579,2,   2.634,2,     2.4242449,2,  2140.6,2,  2307.9,3,     -999.0,9,     -999.0,9,   7.4534
58GS20090528,        GIN,     214,          1,          8,20090531,       1806,    68.8480,    12.8040,       2667,   123.1,   7.5380,  35.2218,2,-999.0000,9,  -999.0,9,    4.45,2,   10.99,2,    0.10,2,    0.74,2,-999.000,9,-999.000,9,-999.000000000,9,  -999.0,9,  -999.0,9,     -999.0,9,     -999.0,9,   7.5260
58GS20090528,        GIN,     214,          1,          9,20090531,       1806,    68.8480,    12.8040,       2667,   100.3,   7.8210,  35.2515,2,-999.0000,9,  -999.0,9,    4.14,2,   10.16,2,    0.20,2,    0.72,2,-999.000,9,-999.000,9,-999.000000000,9,  -999.0,9,  -999.0,9,       0.10,2,       0.25,2,   7.8110
58GS20090528,        GIN,     214,          1,         10,20090531,       1806,    68.8480,    12.8040,       2667,    76.0,   8.1650,  35.2704,2,-999.0000,9,   281.8,2,    3.29,2,    8.77,2,    0.26,2,    0.66,2,   4.526,2,   2.602,2,    2.45677342,2,  2135.1,2,  2298.7,3,       0.17,2,       0.27,2,   8.1572
58GS20090528,        GIN,     214,          1,         11,20090531,       1806,    68.8480,    12.8040,       2667,    49.2,   8.4160,  35.1118,2,-999.0000,9,  -999.0,9,    1.73,2,    5.79,2,    0.19,2,    0.46,2,-999.000,9,-999.000,9,-999.000000000,9,  -999.0,9,  -999.0,9,       1.17,2,       0.63,2,   8.4109
58GS20090528,        GIN,     214,          1,         12,20090531,       1806,    68.8480,    12.8040,       2667,    29.3,   8.3700,  34.9631,2,-999.0000,9,   301.1,2,    1.01,2,    3.95,2,    0.16,2,    0.33,2,-999.000,9,-999.000,9,-999.000000000,9,  2103.0,2,  2319.5,2,       2.15,2,       0.97,2,   8.3670
58GS20090528,        GIN,     214,          1,         13,20090531,       1806,    68.8480,    12.8040,       2667,    20.8,   8.3800,  34.9569,2,-999.0000,9,  -999.0,9,    0.96,2,    3.78,2,    0.14,2,    0.31,2,-999.000,9,-999.000,9,-999.000000000,9,  -999.0,9,  -999.0,9,       2.57,2,       0.92,2,   8.3779
58GS20090528,        GIN,     214,          1,         14,20090531,       1806,    68.8480,    12.8040,       2667,     9.5,   8.3800,  34.9543,2,-999.0000,9,   303.4,2,    0.93,2,    3.76,2,    0.10,2,    0.29,2,   4.701,2,   2.605,2,    2.86727283,2,  2104.7,2,  2307.3,2,     -999.0,9,     -999.0,9,   8.3790
58GS20090528,        GIN,     214,          1,         15,20090531,       1806,    68.8480,    12.8040,       2667,     4.2,   8.3800,  34.9546,2,-999.0000,9,  -999.0,9,    0.99,2,    3.73,2,    0.14,2,    0.30,2,-999.000,9,-999.000,9,-999.000000000,9,  -999.0,9,  -999.0,9,       2.66,2,       0.78,2,   8.3796
58GS20090528,        GIN,     215,          1,          1,20090531,       2008,    68.8990,    12.6360,       2667,  1359.7,  -0.7290,  34.9058,2,  34.9102,2,   295.6,2,   12.26,2,   15.12,2,    0.03,2,    1.01,2,   1.742,2,   0.841,2,    1.13602823,2,  2166.6,2,  2084.8,4,     -999.0,9,     -999.0,9,  -0.7860
58GS20090528,        GIN,     215,          1,          2,20090531,       2008,    68.8990,    12.6360,       2667,  1202.1,  -0.7250,  34.9054,2,  34.9100,2,   296.2,2,   12.06,2,   15.02,2,    0.01,2,    1.01,2,   1.801,2,   0.877,2,   0.953278605,2,  2166.3,2,  2312.5,2,     -999.0,9,     -999.0,9,  -0.7737
58GS20090528,        GIN,     215,          1,          3,20090531,       2008,    68.8990,    12.6360,       2667,  1001.2,  -0.6170,  34.9029,2,  34.9070,2,   298.2,2,   10.84,2,   14.78,2,    0.02,2,    1.00,2,   2.507,2,   1.208,2,    1.35177171,2,  2166.2,2,  2305.7,2,     -999.0,9,     -999.0,9,  -0.6566
58GS20090528,        GIN,     215,          1,          4,20090531,       2008,    68.8990,    12.6360,       2667,   800.6,  -0.4620,  34.8977,2,  34.9023,2,   301.5,2,    9.10,2,   14.42,2,    0.00,2,    0.98,2,   3.660,2,   1.784,2,    1.89592484,2,  2166.5,2,  2300.7,2,     -999.0,9,     -999.0,9,  -0.4933
58GS20090528,        GIN,     215,          1,          5,20090531,       2008,    68.8990,    12.6360,       2667,   600.8,   1.0910,  34.9326,2,  34.9387,2,  -999.0,9,    7.86,2,   14.06,2,    0.01,2,    0.95,2,-999.000,9,-999.000,9,-999.000000000,9,  -999.0,9,  -999.0,9,     -999.0,9,     -999.0,9,   1.0609
58GS20090528,        GIN,     215,          1,          6,20090531,       2008,    68.8990,    12.6360,       2667,   500.3,   3.5140,  35.0301,2,  35.0293,2,   295.0,2,    5.95,2,   12.77,2,    0.02,2,    0.86,2,   4.909,2,   2.729,2,    2.33339429,2,  2156.1,2,  2321.0,3,     -999.0,9,     -999.0,9,   3.4795
58GS20090528,        GIN,     215,          1,          7,20090531,       2008,    68.8990,    12.6360,       2667,   401.9,   5.0150,  35.1078,2,  35.1064,2,  -999.0,9,    5.33,2,   12.42,2,    0.03,2,    0.81,2,-999.000,9,-999.000,9,-999.000000000,9,  -999.0,9,  -999.0,9,     -999.0,9,     -999.0,9,   4.9828
58GS20090528,        GIN,     215,          1,          8,20090531,       2008,    68.8990,    12.6360,       2667,   301.0,   6.2240,  35.1909,2,  35.1852,2,   289.9,2,    5.04,2,   12.01,2,    0.03,2,    0.79,2,   4.539,2,   2.639,2,    2.45418468,2,  2145.2,2,  2328.1,2,     -999.0,9,     -999.0,9,   6.1973
58GS20090528,        GIN,     215,          1,          9,20090531,       2008,    68.8990,    12.6360,       2667,   200.8,   6.8510,  35.2252,2,  35.2185,2,  -999.0,9,    4.97,2,   11.81,2,    0.15,2,    0.79,2,-999.000,9,-999.000,9,-999.000000000,9,  -999.0,9,  -999.0,9,     -999.0,9,     -999.0,9,   6.8323
58GS20090528,        GIN,     215,          1,         10,20090531,       2008,    68.8990,    12.6360,       2667,   151.0,   7.3100,  35.2398,2,  35.2359,2,   286.9,2,    4.44,2,    9.74,2,    0.19,2,    0.71,2,   4.468,2,   2.525,2,    2.41497373,2,  2138.3,2,  2333.1,3,     -999.0,9,     -999.0,9,   7.2955
58GS20090528,        GIN,     215,          1,         11,20090531,       2008,    68.8990,    12.6360,       2667,   125.6,   7.6240,  35.2474,2,  35.2413,2,  -999.0,9,    3.80,2,    8.04,2,    0.14,2,    0.63,2,-999.000,9,-999.000,9,-999.000000000,9,  -999.0,9,  -999.0,9,     -999.0,9,     -999.0,9,   7.6117
58GS20090528,        GIN,     215,          1,         12,20090531,       2008,    68.8990,    12.6360,       2667,   101.3,   7.7710,  35.2489,2,  35.2426,2,  -999.0,9,    3.27,2,    7.42,2,    0.11,2,    0.61,2,-999.000,9,-999.000,9,-999.000000000,9,  -999.0,9,  -999.0,9,     -999.0,9,     -999.0,9,   7.7609
58GS20090528,        GIN,     215,          1,         13,20090531,       2008,    68.8990,    12.6360,       2667,    74.0,   8.1210,  35.2016,2,  35.2195,2,   295.6,2,    2.46,2,    6.31,2,    0.14,2,    0.55,2,-999.000,9,-999.000,9,    2.63899081,2,  2121.5,2,  2335.2,3,       0.10,2,       0.12,2,   8.1135
58GS20090528,        GIN,     215,          1,         14,20090531,       2008,    68.8990,    12.6360,       2667,    52.0,   8.5310,  35.0644,2,  35.0646,2,  -999.0,9,    1.51,2,    4.38,2,    0.11,2,    0.36,2,-999.000,9,-999.000,9,-999.000000000,9,  -999.0,9,  -999.0,9,       0.19,2,       0.16,2,   8.5256
58GS20090528,        GIN,     215,          1,         15,20090531,       2008,    68.8990,    12.6360,       2667,    30.1,   8.5660,  35.0569,2,  35.0507,2,   303.0,2,    1.39,2,    4.15,2,    0.11,2,    0.33,2,   4.447,2,   2.599,2,    2.35420129,2,  2099.4,2,  2321.0,2,       1.78,2,       0.38,2,   8.5629
58GS20090528,        GIN,     215,          1,         16,20090531,       2008,    68.8990,    12.6360,       2667,    20.5,   8.5650,  35.0569,2,  35.0513,2,  -999.0,9,    1.41,2,    4.20,2,    0.11,2,    0.34,2,-999.000,9,-999.000,9,-999.000000000,9,  -999.0,9,  -999.0,9,       2.14,2,       0.42,2,   8.5629
58GS20090528,        GIN,     215,          1,         17,20090531,       2008,    68.8990,    12.6360,       2667,     9.5,   8.5660,  35.0589,2,  35.0515,2,   303.6,2,    1.43,2,    4.14,2,    0.10,2,    0.33,2,   4.457,2,   2.579,2,    2.36033249,2,  2098.9,2,  2323.2,2,       2.19,2,       0.37,2,   8.5650
58GS20090528,        GIN,     215,          1,         18,20090531,       2008,    68.8990,    12.6360,       2667,     4.9,   8.5630,  35.0581,2,  35.0511,2,  -999.0,9,    1.42,2,    4.14,2,    0.10,2,    0.33,2,-999.000,9,-999.000,9,-999.000000000,9,  -999.0,9,  -999.0,9,       2.12,2,       0.47,2,   8.5625