BOTTLE,20150327CCHSIORJL
EXPOCODE,SECT_ID,STNNBR,CASTNO,BTLNBR,DATE,TIME,LATITUDE,LONGITUDE,DEPTH,CTDPRS,CTDTMP,CTDSAL,CTDSAL_FLAG_W,SALNTY,SALNTY_FLAG_W,OXYGEN,OXYGEN_FLAG_W,SILCAT,SILCAT_FLAG_W,NITRAT,NITRAT_FLAG_W,NITRIT,NITRIT_FLAG_W,PHSPHT,PHSPHT_FLAG_W,CFC-11,CFC-11_FLAG_W,CFC-12,CFC-12_FLAG_W,SF6,SF6_FLAG_W,TCARBN,TCARBN_FLAG_W,ALKALI,ALKALI_FLAG_W,CHLORA,CHLORA_FLAG_W,PPHYTN,PPHYTN_FLAG_W,THETA
,,,,,,,,,METERS,DBAR,ITS-90,PSS-78,,PSS-78,,UMOL/KG,,UMOL/KG,,UMOL/KG,,UMOL/KG,,UMOL/KG,,PMOL/KG,,PMOL/KG,,FMOL/KG,,UMOL/KG,,UMOL/KG,,MG/M^3,,MG/M^3,,DEG C
58GS20090528,        GIN,     337,          1,          1,20090703,       2149,    69.9950,     5.2670,       3209,  3199.4,  -0.7860,  34.9059,2,  34.9054,2,   294.6,2,   14.21,2,   15.12,2,    0.02,2,    1.02,2,-999.000,9,   0.312,2,   0.364642711,2,  2168.4,2,  2308.4,2,     -999.0,9,     -999.0,9,  -0.9692
58GS20090528,        GIN,     337,          1,          2,20090703,       2149,    69.9950,     5.2670,       3209,  2999.4,  -0.7950,  34.9060,2,  34.9081,2,   295.6,2,   13.65,2,   15.07,2,    0.01,2,    1.02,2,-999.000,9,   0.322,2,   0.313828691,2,  2166.5,2,  2306.0,2,     -999.0,9,     -999.0,9,  -0.9616
58GS20090528,        GIN,     337,          1,          3,20090703,       2149,    69.9950,     5.2670,       3209,  2498.8,  -0.7950,  34.9060,2,  34.9092,2,   296.5,2,   12.68,2,   14.79,2,    0.01,2,    1.01,2,-999.000,9,   0.422,2,    0.76676216,2,  2164.6,2,  2305.0,2,     -999.0,9,     -999.0,9,  -0.9233
58GS20090528,        GIN,     337,          1,          4,20090703,       2149,    69.9950,     5.2670,       3209,  2000.4,  -0.7450,  34.9035,2,  34.9057,2,   297.6,2,   11.65,2,   14.66,2,    0.02,2,    1.01,2,-999.000,9,   0.642,2,   0.578704801,2,  2165.2,2,  2303.7,2,     -999.0,9,     -999.0,9,  -0.8399
58GS20090528,        GIN,     337,          1,          5,20090703,       2149,    69.9950,     5.2670,       3209,  1499.7,  -0.5630,  34.8955,2,  34.9004,2,   302.1,2,    9.49,2,   14.17,2,    0.01,2,    0.98,2,-999.000,9,   1.426,2,    2.35879318,2,  2167.3,2,  2301.6,2,     -999.0,9,     -999.0,9,  -0.6297
58GS20090528,        GIN,     337,          1,          6,20090703,       2149,    69.9950,     5.2670,       3209,  1199.2,  -0.2750,  34.8924,2,  34.8972,2,   304.4,2,    8.16,2,   13.90,2,    0.02,2,    0.95,2,-999.000,9,   1.967,2,    3.14449979,2,  2168.1,2,  2301.0,2,     -999.0,9,     -999.0,9,  -0.3279
58GS20090528,        GIN,     337,          1,          7,20090703,       2149,    69.9950,     5.2670,       3209,   999.4,   0.0960,  34.8935,2,  34.8985,2,   312.6,2,    6.93,2,   13.21,2,    0.02,2,    0.92,2,-999.000,9,-999.000,9,-999.000000000,9,  2168.0,2,  2300.6,2,     -999.0,9,     -999.0,9,   0.0506
58GS20090528,        GIN,     337,          1,          8,20090703,       2149,    69.9950,     5.2670,       3209,   999.2,   0.0960,  34.8937,2,  34.8978,2,   312.7,2,    6.91,2,   13.17,2,    0.02,2,    0.90,2,-999.000,9,   2.504,2,    3.18206489,2,  2166.6,2,  2301.6,2,     -999.0,9,     -999.0,9,   0.0506
58GS20090528,        GIN,     337,          1,          9,20090703,       2149,    69.9950,     5.2670,       3209,   800.0,   1.4820,  34.9450,2,  34.9497,2,   309.6,2,    5.90,2,   12.84,2,    0.02,2,    0.88,2,-999.000,9,   2.805,2,    3.32890771,2,  2165.0,2,  2304.8,2,     -999.0,9,     -999.0,9,   1.4380
58GS20090528,        GIN,     337,          1,         10,20090703,       2149,    69.9950,     5.2670,       3209,   598.8,   4.2530,  35.1049,2,  35.1043,2,   301.3,2,    4.87,2,   11.68,2,    0.03,2,    0.79,2,-999.000,9,   2.589,2,    3.55079303,2,  2152.8,2,  2313.7,2,     -999.0,9,     -999.0,9,   4.2077
58GS20090528,        GIN,     337,          1,         11,20090703,       2149,    69.9950,     5.2670,       3209,   499.8,   4.5230,  35.1239,2,  35.1217,2,   301.1,2,    4.80,2,   11.56,2,    0.03,2,    0.78,2,-999.000,9,-999.000,9,-999.000000000,9,  2152.3,2,  2319.5,2,     -999.0,9,     -999.0,9,   4.4845
58GS20090528,        GIN,     337,          1,         12,20090703,       2149,    69.9950,     5.2670,       3209,   399.9,   4.7320,  35.1331,2,  35.1319,2,   299.9,2,    4.84,2,   11.63,2,    0.03,2,    0.79,2,-999.000,9,   2.595,2,    4.51459494,2,  2152.0,2,  2315.3,2,     -999.0,9,     -999.0,9,   4.7008
58GS20090528,        GIN,     337,          1,         13,20090703,       2149,    69.9950,     5.2670,       3209,   300.1,   4.9460,  35.1378,2,  35.1359,2,   298.1,2,    4.82,2,   11.57,2,    0.02,2,    0.78,2,-999.000,9,-999.000,9,-999.000000000,9,  2151.0,2,  2315.8,2,     -999.0,9,     -999.0,9,   4.9223
58GS20090528,        GIN,     337,          1,         14,20090703,       2149,    69.9950,     5.2670,       3209,   199.7,   5.2340,  35.1475,2,  35.1474,2,   296.0,2,    4.94,2,   11.76,2,    0.02,2,    0.78,2,-999.000,9,   2.515,2,    3.87076145,2,  2151.0,2,  2319.6,2,     -999.0,9,     -999.0,9,   5.2180
58GS20090528,        GIN,     337,          1,         15,20090703,       2149,    69.9950,     5.2670,       3209,   150.1,   5.4230,  35.1476,2,  35.1455,2,   294.6,2,    5.00,2,   11.78,2,    0.02,2,    0.78,2,-999.000,9,-999.000,9,-999.000000000,9,  2150.4,2,  2318.4,2,     -999.0,9,     -999.0,9,   5.4108
58GS20090528,        GIN,     337,          1,         16,20090703,       2149,    69.9950,     5.2670,       3209,   124.4,   5.6210,  35.1464,2,  35.1449,2,   293.1,2,    5.03,2,   11.58,2,    0.06,2,    0.76,2,-999.000,9,   2.488,2,    4.57133198,2,  2149.0,2,  2318.9,2,     -999.0,9,     -999.0,9,   5.6107
58GS20090528,        GIN,     337,          1,         17,20090703,       2149,    69.9950,     5.2670,       3209,    99.9,   5.9800,  35.1719,2,  35.1688,2,   287.7,2,    5.13,2,   12.11,2,    0.04,2,    0.80,2,-999.000,9,-999.000,9,-999.000000000,9,  2151.5,2,  2321.4,2,       0.03,2,       0.09,2,   5.9715
58GS20090528,        GIN,     337,          1,         18,20090703,       2149,    69.9950,     5.2670,       3209,    74.8,   6.4810,  35.1972,2,  35.1931,2,   283.2,2,    4.98,2,   11.84,2,    0.09,2,    0.81,2,-999.000,9,   2.431,2,    3.46377822,2,  2151.1,2,  2320.2,2,       0.11,2,       0.10,2,   6.4743
58GS20090528,        GIN,     337,          1,         19,20090703,       2149,    69.9950,     5.2670,       3209,    49.6,   7.1240,  35.2029,2,  35.1989,2,   294.1,2,    2.11,2,    7.07,2,    0.13,2,    0.60,2,-999.000,9,   2.437,2,    4.47520857,2,  2132.2,2,  2325.8,2,       0.21,2,       0.04,2,   7.1193
58GS20090528,        GIN,     337,          1,         20,20090703,       2149,    69.9950,     5.2670,       3209,    29.5,   7.6780,  35.2008,2,  35.2008,2,   301.3,2,    0.53,2,    4.47,2,    0.11,2,    0.42,2,-999.000,9,-999.000,9,-999.000000000,9,  2113.1,2,  2327.4,2,       0.27,2,       0.06,2,   7.6751
58GS20090528,        GIN,     337,          1,         21,20090703,       2149,    69.9950,     5.2670,       3209,     9.5,   8.7840,  35.1736,2,  35.1717,2,   304.8,2,    0.31,2,    1.92,2,    0.09,2,    0.20,2,-999.000,9,   2.322,2,    4.03559116,2,  2087.9,2,  2325.9,2,       0.35,2,       0.06,2,   8.7830
58GS20090528,        GIN,     337,          1,         22,20090703,       2149,    69.9950,     5.2670,       3209,     5.1,   8.7840,  35.1753,2,  35.1716,2,   304.1,2,    0.30,2,    1.82,2,    0.10,2,    0.19,2,-999.000,9,-999.000,9,-999.000000000,9,  2086.6,2,  2327.5,2,       0.40,2,       0.05,2,   8.7835
58GS20090528,        GIN,     338,          1,          1,20090704,       0411,    70.0150,     3.2810,       3210,  3200.2,  -0.7860,  34.9063,2,  34.9106,2,   295.0,2,   14.15,2,   15.18,2,    0.01,2,    1.04,2,-999.000,9,   0.320,2,   0.028672819,2,  2169.1,2,  2307.5,2,     -999.0,9,     -999.0,9,  -0.9693
58GS20090528,        GIN,     338,          1,          2,20090704,       0411,    70.0150,     3.2810,       3210,  3000.0,  -0.7890,  34.9065,2,  34.9078,2,   296.1,2,   13.46,2,   15.08,2,    0.01,2,    1.03,2,-999.000,9,   0.345,2,    0.06512999,2,  2167.7,2,  -999.0,9,     -999.0,9,     -999.0,9,  -0.9558
58GS20090528,        GIN,     338,          1,          3,20090704,       0411,    70.0150,     3.2810,       3210,  2500.9,  -0.7800,  34.9062,2,  34.9097,2,   296.8,2,   12.51,2,   14.88,2,    0.03,2,    1.02,2,-999.000,9,   0.460,2,   0.176086015,2,  2166.7,2,  2305.8,2,     -999.0,9,     -999.0,9,  -0.9087
58GS20090528,        GIN,     338,          1,          4,20090704,       0411,    70.0150,     3.2810,       3210,  2002.4,  -0.6910,  34.9020,2,  34.9065,2,   298.8,2,   11.08,2,   14.58,2,    0.01,2,    1.01,2,-999.000,9,   0.840,2,   0.840275226,2,  2166.9,2,  -999.0,9,     -999.0,9,     -999.0,9,  -0.7869
58GS20090528,        GIN,     338,          1,          5,20090704,       0411,    70.0150,     3.2810,       3210,  1499.3,  -0.3350,  34.8933,2,  34.8985,2,   303.5,2,    8.44,2,   14.04,2,    0.01,2,    0.97,2,-999.000,9,   1.926,2,    1.75424093,2,  2170.5,2,  2300.5,2,     -999.0,9,     -999.0,9,  -0.4044
58GS20090528,        GIN,     338,          1,          6,20090704,       0411,    70.0150,     3.2810,       3210,  1198.2,   0.6180,  34.9079,2,  34.9112,2,   307.6,2,    6.66,2,   13.49,2,    0.02,2,    0.94,2,-999.000,9,-999.000,9,-999.000000000,9,  2169.2,2,  2300.5,2,     -999.0,9,     -999.0,9,   0.5564
58GS20090528,        GIN,     338,          1,          7,20090704,       0411,    70.0150,     3.2810,       3210,  1198.1,   0.6170,  34.9079,2,  34.9105,2,   307.6,2, -999.00,9, -999.00,9, -999.00,9, -999.00,9,-999.000,9,   2.699,2,    2.06198753,2,  2167.9,2,  2305.8,2,     -999.0,9,     -999.0,9,   0.5555
58GS20090528,        GIN,     338,          1,          8,20090704,       0411,    70.0150,     3.2810,       3210,  1001.3,   3.4090,  35.0378,2,  35.0365,2,   299.0,2,    5.36,2,   12.50,2,    0.04,2,    0.85,2,-999.000,9,   2.678,2,    3.38132683,2,  2160.1,2,  2312.1,2,     -999.0,9,     -999.0,9,   3.3369
58GS20090528,        GIN,     338,          1,          9,20090704,       0411,    70.0150,     3.2810,       3210,   801.8,   4.6480,  35.1309,2,  35.1294,2,   300.1,2,    4.77,2,   11.53,2,    0.06,2,    0.79,2,-999.000,9,   2.614,2,    2.78983853,2,  2152.6,3,  -999.0,9,     -999.0,9,     -999.0,9,   4.5837
58GS20090528,        GIN,     338,          1,         10,20090704,       0411,    70.0150,     3.2810,       3210,   601.4,   4.8150,  35.1382,2,  35.1361,2,   299.3,2,    4.76,2,   11.54,2,    0.02,2,    0.79,2,-999.000,9,   2.629,2,    3.41719592,2,  2150.8,2,  2316.7,2,     -999.0,9,     -999.0,9,   4.7669
58GS20090528,        GIN,     338,          1,         11,20090704,       0411,    70.0150,     3.2810,       3210,   502.0,   4.9130,  35.1394,2,  35.1383,2,   298.8,2,    4.77,2,   11.51,2,    0.02,2,    0.79,2,-999.000,9,-999.000,9,-999.000000000,9,  2149.8,2,  -999.0,9,     -999.0,9,     -999.0,9,   4.8728
58GS20090528,        GIN,     338,          1,         12,20090704,       0411,    70.0150,     3.2810,       3210,   400.7,   5.0750,  35.1527,2,  35.1512,2,   299.8,2,    4.83,2,   11.46,2,    0.02,2,    0.78,2,-999.000,9,   2.558,2,    2.06731185,2,  2149.1,2,  2319.5,2,     -999.0,9,     -999.0,9,   5.0427
58GS20090528,        GIN,     338,          1,         13,20090704,       0411,    70.0150,     3.2810,       3210,   302.6,   5.1240,  35.1546,2,  35.1543,2,   298.3,2,    4.94,2,   11.58,2,    0.03,2,    0.79,2,-999.000,9,-999.000,9,-999.000000000,9,  2150.0,2,  -999.0,9,     -999.0,9,     -999.0,9,   5.0997
58GS20090528,        GIN,     338,          1,         14,20090704,       0411,    70.0150,     3.2810,       3210,   201.8,   5.2650,  35.1574,2,  35.1573,2,   296.5,2,    4.97,2,   11.76,2,    0.03,2,    0.79,2,-999.000,9,   2.536,2,    1.74055488,2,  2150.8,2,  2318.5,2,     -999.0,9,     -999.0,9,   5.2487
58GS20090528,        GIN,     338,          1,         15,20090704,       0411,    70.0150,     3.2810,       3210,   151.3,   5.4500,  35.1638,2,  35.1603,2,   295.0,2,    4.99,2,   11.85,2,    0.03,2,    0.79,2,-999.000,9,-999.000,9,-999.000000000,9,  2150.6,2,  2319.0,2,     -999.0,9,     -999.0,9,   5.4376
58GS20090528,        GIN,     338,          1,         16,20090704,       0411,    70.0150,     3.2810,       3210,   125.6,   5.5880,  35.1666,2,  35.1646,2,   292.2,2,    5.01,2,   12.01,2,    0.03,2,    0.80,2,-999.000,9,   2.484,2,    2.06999368,2,  2150.9,2,  2318.2,2,     -999.0,9,     -999.0,9,   5.5776
58GS20090528,        GIN,     338,          1,         17,20090704,       0411,    70.0150,     3.2810,       3210,    99.8,   5.7660,  35.1741,2,  35.1732,2,   288.2,2,    4.99,2,   12.24,2,    0.08,2,    0.81,2,-999.000,9,-999.000,9,-999.000000000,9,  2152.3,2,  2318.6,2,       0.02,2,       0.09,2,   5.7576
58GS20090528,        GIN,     338,          1,         18,20090704,       0411,    70.0150,     3.2810,       3210,    76.4,   6.0390,  35.1820,2,  35.1817,2,   286.0,2,    4.25,2,   11.04,2,    0.11,2,    0.83,2,-999.000,9,   2.474,2,    1.68626229,2,  2152.4,2,  2322.1,2,       0.03,2,       0.06,2,   6.0324
58GS20090528,        GIN,     338,          1,         19,20090704,       0411,    70.0150,     3.2810,       3210,    50.5,   6.7550,  35.1841,2,  35.1823,2,   302.1,2,    0.86,2,    5.42,2,    0.17,2,    0.53,2,-999.000,9,-999.000,9,-999.000000000,9,  2125.6,2,  2326.6,2,       0.17,2,       0.09,2,   6.7504
58GS20090528,        GIN,     338,          1,         20,20090704,       0411,    70.0150,     3.2810,       3210,    30.9,   7.2980,  35.1747,2,  35.1758,2,   310.4,2,    0.18,2,    3.56,2,    0.19,2,    0.37,2,-999.000,9,   2.431,2,     1.5448959,2,  2109.3,2,  2326.3,2,       1.42,2,       0.12,2,   7.2951
58GS20090528,        GIN,     338,          1,         21,20090704,       0411,    70.0150,     3.2810,       3210,     8.2,   8.3750,  35.1495,2,  35.1487,2,   315.1,2,    0.11,2,    2.14,2,    0.15,2,    0.20,2,-999.000,9,   2.403,2,    2.00227599,2,  2088.1,2,  2326.0,2,       0.88,2,       0.07,2,   8.3742
58GS20090528,        GIN,     338,          1,         22,20090704,       0411,    70.0150,     3.2810,       3210,     4.4,   8.3930,  35.1494,2,  35.1457,2,   314.5,2,    0.08,2,    2.05,2,    0.15,2,    0.21,2,-999.000,9,-999.000,9,-999.000000000,9,  2087.9,2,  2325.4,2,       0.83,2,       0.06,2,   8.3925