BOTTLE,20150327CCHSIORJL
EXPOCODE,SECT_ID,STNNBR,CASTNO,BTLNBR,DATE,TIME,LATITUDE,LONGITUDE,DEPTH,CTDPRS,CTDTMP,CTDSAL,CTDSAL_FLAG_W,SALNTY,SALNTY_FLAG_W,OXYGEN,OXYGEN_FLAG_W,SILCAT,SILCAT_FLAG_W,NITRAT,NITRAT_FLAG_W,NITRIT,NITRIT_FLAG_W,PHSPHT,PHSPHT_FLAG_W,CFC-11,CFC-11_FLAG_W,CFC-12,CFC-12_FLAG_W,SF6,SF6_FLAG_W,TCARBN,TCARBN_FLAG_W,ALKALI,ALKALI_FLAG_W,CHLORA,CHLORA_FLAG_W,PPHYTN,PPHYTN_FLAG_W,THETA
,,,,,,,,,METERS,DBAR,ITS-90,PSS-78,,PSS-78,,UMOL/KG,,UMOL/KG,,UMOL/KG,,UMOL/KG,,UMOL/KG,,PMOL/KG,,PMOL/KG,,FMOL/KG,,UMOL/KG,,UMOL/KG,,MG/M^3,,MG/M^3,,DEG C
58GS20090528,        GIN,     305,          1,          1,20090625,       2110,    74.8320,    18.1020,        286,   276.5,   2.4790,  34.8992,2,  34.9024,2,   314.8,2,    4.99,2,   10.18,2,    0.19,2,    0.74,2,-999.000,9,   2.917,2,    2.57227281,2,  2155.4,2,  2310.1,2,     -999.0,9,     -999.0,9,   2.4628
58GS20090528,        GIN,     305,          1,          2,20090625,       2110,    74.8320,    18.1020,        286,   249.9,   2.5630,  34.8990,2,  34.8999,2,   316.2,2,    4.36,2,    9.56,2,    0.20,2,    0.71,2,-999.000,9,   2.963,2,    2.79061812,2,  2152.2,2,  2310.3,2,     -999.0,9,     -999.0,9,   2.5482
58GS20090528,        GIN,     305,          1,          3,20090625,       2110,    74.8320,    18.1020,        286,   200.0,   2.3550,  34.8570,2,  34.8598,2,   328.2,2,    3.41,2,    8.47,2,    0.19,2,    0.65,2,-999.000,9,   2.967,2,    3.16034978,2,  2142.6,2,  2309.9,2,     -999.0,9,     -999.0,9,   2.3436
58GS20090528,        GIN,     305,          1,          4,20090625,       2110,    74.8320,    18.1020,        286,   147.6,   3.6380,  34.9602,2,  34.9649,2,   308.6,2,    4.39,2,   10.67,2,    0.21,2,    0.73,2,-999.000,9,   2.772,2,     3.0075821,2,  2147.6,2,  2310.6,2,     -999.0,9,     -999.0,9,   3.6281
58GS20090528,        GIN,     305,          1,          5,20090625,       2110,    74.8320,    18.1020,        286,   124.5,   3.9970,  34.9819,2,  34.9860,2,  -999.0,9,    4.28,2,   10.27,2,    0.22,2,    0.71,2,-999.000,9,-999.000,9,-999.000000000,9,  -999.0,9,  -999.0,9,     -999.0,9,     -999.0,9,   3.9883
58GS20090528,        GIN,     305,          1,          6,20090625,       2110,    74.8320,    18.1020,        286,   100.1,   4.3860,  35.0033,2,  35.0029,2,   307.1,2,    4.17,2,    9.76,2,    0.22,2,    0.71,2,-999.000,9,   2.714,2,    2.95145688,2,  2142.4,2,  2313.0,2,       0.11,2,       0.29,2,   4.3787
58GS20090528,        GIN,     305,          1,          7,20090625,       2110,    74.8320,    18.1020,        286,    73.6,   4.8430,  35.0386,2,  35.0402,2,   304.6,2,    4.10,2,    9.48,2,    0.20,2,    0.68,2,-999.000,9,   2.625,2,    3.16996036,2,  2143.5,2,  2313.3,2,       0.22,2,       0.38,2,   4.8374
58GS20090528,        GIN,     305,          1,          8,20090625,       2110,    74.8320,    18.1020,        286,    48.4,   5.5990,  35.0326,2,  35.0355,2,   328.7,2,    1.43,2,    4.17,2,    0.12,2,    0.38,2,-999.000,9,   2.583,2,    3.12816893,2,  2106.6,2,  2318.3,2,       3.01,2,       0.76,2,   5.5950
58GS20090528,        GIN,     305,          1,          9,20090625,       2110,    74.8320,    18.1020,        286,    29.4,   5.6580,  35.0156,2,  35.0156,2,   338.6,2,    0.51,2,    2.54,2,    0.09,2,    0.24,2,-999.000,9,   2.613,6,     2.8373505,6,  2092.5,2,  2320.1,2,       3.73,2,       0.78,2,   5.6556
58GS20090528,        GIN,     305,          1,         10,20090625,       2110,    74.8320,    18.1020,        286,    29.8,   5.6580,  35.0154,2,-999.0000,9,  -999.0,9, -999.00,9, -999.00,9, -999.00,9, -999.00,9,-999.000,9,-999.000,9,-999.000000000,9,  -999.0,9,  -999.0,9,     -999.0,9,     -999.0,9,   5.6556
58GS20090528,        GIN,     305,          1,         11,20090625,       2110,    74.8320,    18.1020,        286,    21.7,   5.6540,  35.0168,2,  35.0149,2,  -999.0,9,    0.63,2,    2.65,2,    0.10,2,    0.25,2,-999.000,9,-999.000,9,-999.000000000,9,  -999.0,9,  -999.0,9,       3.90,2,       0.80,2,   5.6522
58GS20090528,        GIN,     305,          1,         12,20090625,       2110,    74.8320,    18.1020,        286,    13.8,   5.6550,  35.0161,2,  35.0144,2,  -999.0,9,    0.56,2,    2.60,2,    0.10,2,    0.25,2,-999.000,9,-999.000,9,-999.000000000,9,  -999.0,9,  -999.0,9,     -999.0,9,     -999.0,9,   5.6539
58GS20090528,        GIN,     305,          1,         13,20090625,       2110,    74.8320,    18.1020,        286,     9.4,   5.6550,  35.0157,2,  35.0155,2,  -999.0,9,    0.61,2,    2.62,2,    0.11,2,    0.29,2,-999.000,9,-999.000,9,-999.000000000,9,  -999.0,9,  -999.0,9,       3.04,2,       0.65,2,   5.6542
58GS20090528,        GIN,     305,          1,         14,20090625,       2110,    74.8320,    18.1020,        286,     5.3,   5.6540,  35.0156,2,  35.0150,2,   338.5,2,    0.55,2,    2.61,2,    0.10,2,    0.24,2,-999.000,9,   2.601,2,    2.77031805,2,  2093.8,2,  2320.6,2,       3.29,2,       0.70,2,   5.6536
58GS20090528,        GIN,     305,          1,         15,20090625,       2110,    74.8320,    18.1020,        286,     3.0,   5.6540,  35.0157,2,-999.0000,9,  -999.0,9,    0.61,2,    2.50,2,    0.15,2,    0.25,2,-999.000,9,-999.000,9,-999.000000000,9,  -999.0,9,  -999.0,9,       3.97,2,       0.85,2,   5.6538
58GS20090528,        GIN,     306,          1,          1,20090626,       0914,    74.2490,    19.1470,         76,    51.4,   2.3460,  34.6971,2,  34.6994,2,   380.1,2,    0.95,2,    0.64,2,    0.05,2,    0.24,2,-999.000,9,-999.000,9,-999.000000000,9,  2090.9,2,  2298.6,2,       1.80,2,       0.46,2,   2.3432
58GS20090528,        GIN,     306,          1,          2,20090626,       0914,    74.2490,    19.1470,         76,    30.2,   2.3930,  34.6931,2,  34.6990,2,   380.1,2,    0.95,2,    0.59,2,    0.05,2,    0.23,2,-999.000,9,-999.000,9,-999.000000000,9,  2093.4,2,  2298.1,2,       2.24,2,       1.78,2,   2.3913
58GS20090528,        GIN,     306,          1,          3,20090626,       0914,    74.2490,    19.1470,         76,    17.7,   2.3900,  34.6935,2,  34.6969,2,   380.3,2,    0.93,2,    0.57,2,    0.04,2,    0.23,2,-999.000,9,-999.000,9,-999.000000000,9,  2090.4,2,  2299.2,2,       2.49,2,       1.81,2,   2.3890
58GS20090528,        GIN,     306,          1,          4,20090626,       0914,    74.2490,    19.1470,         76,    10.3,   2.3910,  34.6937,2,  34.6913,2,   380.2,2,    0.93,2,    0.55,2,    0.04,2,    0.23,2,-999.000,9,-999.000,9,-999.000000000,9,  2090.3,2,  2299.7,2,       2.84,2,       1.43,2,   2.3904
58GS20090528,        GIN,     306,          1,          5,20090626,       0914,    74.2490,    19.1470,         76,     6.0,   2.4610,  34.6884,2,  34.6914,2,   380.6,2,    0.92,2,    0.44,2,    0.04,2,    0.22,2,-999.000,9,-999.000,9,-999.000000000,9,  2090.1,2,  2298.7,2,       2.59,2,       1.89,2,   2.4607
58GS20090528,        GIN,     307,          1,          1,20090626,       1034,    74.1680,    19.1600,         76,    60.3,   1.7270,  34.7160,2,  34.7186,2,   388.9,2,    0.99,2,    0.64,2,    0.04,2,    0.22,2,-999.000,9,-999.000,9,-999.000000000,9,  2097.6,2,  2302.3,2,       2.75,2,       1.38,2,   1.7240
58GS20090528,        GIN,     307,          1,          2,20090626,       1034,    74.1680,    19.1600,         76,    48.2,   1.7280,  34.7162,2,  34.7214,2,   388.9,2,    0.97,2,    0.61,2,    0.06,2,    0.24,2,-999.000,9,-999.000,9,-999.000000000,9,  2098.0,2,  2280.6,2,       2.55,2,       1.25,2,   1.7256
58GS20090528,        GIN,     307,          1,          3,20090626,       1034,    74.1680,    19.1600,         76,    31.1,   1.7250,  34.7164,2,  34.7213,2,   388.9,2,    0.98,2,    0.64,2,    0.04,2,    0.22,2,-999.000,9,-999.000,9,-999.000000000,9,  2097.3,2,  2301.2,2,       2.62,2,       1.28,2,   1.7234
58GS20090528,        GIN,     307,          1,          4,20090626,       1034,    74.1680,    19.1600,         76,    18.3,   1.7410,  34.7160,2,  34.7212,2,  -999.0,9,    0.96,2,    0.62,2,    0.04,2,    0.23,2,-999.000,9,-999.000,9,-999.000000000,9,  -999.0,9,  -999.0,9,       2.85,2,       1.42,2,   1.7401
58GS20090528,        GIN,     307,          1,          5,20090626,       1034,    74.1680,    19.1600,         76,    10.2,   1.7620,  34.7154,2,  34.7203,2,  -999.0,9,    1.00,2,    0.61,2,    0.06,2,    0.21,2,-999.000,9,-999.000,9,-999.000000000,9,  -999.0,9,  -999.0,9,       2.97,2,       1.38,2,   1.7615
58GS20090528,        GIN,     307,          1,          6,20090626,       1034,    74.1680,    19.1600,         76,     4.9,   1.7800,  34.7152,2,  34.7214,2,   389.0,2,    1.03,2,    0.63,2,    0.05,2,    0.22,2,-999.000,9,-999.000,9,-999.000000000,9,  2095.7,2,  2301.7,2,       2.75,2,       1.31,2,   1.7798
58GS20090528,        GIN,     308,          1,          1,20090626,       1156,    74.0030,    19.2260,        140,   129.9,   0.7050,  34.7492,2,-999.0000,9,   358.3,2,    1.06,2,    3.76,2,    0.11,2,    0.47,2,-999.000,9,   3.382,2,    3.54748379,2,  2131.6,2,  2301.7,2,     -999.0,9,     -999.0,9,   0.6995
58GS20090528,        GIN,     308,          1,          2,20090626,       1156,    74.0030,    19.2260,        140,   123.8,   0.7070,  34.7519,2,-999.0000,9,  -999.0,9,    1.12,2,    3.82,2,    0.11,2,    0.46,2,-999.000,9,-999.000,9,-999.000000000,9,  -999.0,9,  -999.0,9,     -999.0,9,     -999.0,9,   0.7017
58GS20090528,        GIN,     308,          1,          3,20090626,       1156,    74.0030,    19.2260,        140,    99.1,   0.7060,  34.7538,2,-999.0000,9,   357.1,2,    1.04,2,    3.84,2,    0.10,2,    0.47,2,-999.000,9,   3.367,2,    4.03799848,2,  2133.6,2,  2302.0,2,       0.31,2,       0.16,2,   0.7018
58GS20090528,        GIN,     308,          1,          4,20090626,       1156,    74.0030,    19.2260,        140,    75.3,   0.7220,  34.7500,2,-999.0000,9,   357.6,2,    0.97,2,    3.73,2,    0.10,2,    0.45,2,-999.000,9,   3.220,2,    2.48150318,2,  2131.3,2,  2301.9,2,       0.50,2,       0.27,2,   0.7188
58GS20090528,        GIN,     308,          1,          5,20090626,       1156,    74.0030,    19.2260,        140,    50.0,   0.9400,  34.7303,2,-999.0000,9,   363.5,2,    0.77,2,    2.66,2,    0.07,2,    0.37,2,-999.000,9,-999.000,9,-999.000000000,9,  2121.9,2,  2301.8,2,       0.61,2,       0.18,2,   0.9378
58GS20090528,        GIN,     308,          1,          6,20090626,       1156,    74.0030,    19.2260,        140,    30.3,   1.1020,  34.7255,2,-999.0000,9,   364.0,2,    0.71,2,    2.36,2,    0.07,2,    0.35,2,-999.000,9,   3.465,6,     2.7254094,6,  2118.8,2,  2297.9,2,       0.50,2,       0.26,2,   1.1006
58GS20090528,        GIN,     308,          1,          7,20090626,       1156,    74.0030,    19.2260,        140,    19.8,   1.1260,  34.7230,2,-999.0000,9,  -999.0,9,    0.68,2,    2.26,2,    0.08,2,    0.39,2,-999.000,9,-999.000,9,-999.000000000,9,  -999.0,9,  -999.0,9,       0.54,2,       0.25,2,   1.1251
58GS20090528,        GIN,     308,          1,          8,20090626,       1156,    74.0030,    19.2260,        140,     9.2,   1.1260,  34.7228,2,-999.0000,9,  -999.0,9,    0.67,2,    2.23,2,    0.07,2,    0.35,2,-999.000,9,-999.000,9,-999.000000000,9,  -999.0,9,  -999.0,9,       0.55,2,       0.25,2,   1.1256
58GS20090528,        GIN,     308,          1,          9,20090626,       1156,    74.0030,    19.2260,        140,     3.7,   1.1240,  34.7226,2,-999.0000,9,   365.0,2,    0.71,2,    2.22,2,    0.08,2,    0.34,2,-999.000,9,   3.424,2,    3.01090414,2,  2118.3,2,  2301.8,2,       0.52,2,       0.25,2,   1.1238
58GS20090528,        GIN,     309,          1,          1,20090626,       1518,    73.8370,    19.2730,        235,   224.8,   2.3220,  35.0099,2,  35.0123,2,   309.5,2,    5.01,2,   10.78,2,    0.17,2,    0.77,2,-999.000,9,   2.941,6,    2.47233121,6,  2161.3,2,  2310.1,2,     -999.0,9,     -999.0,9,   2.3092
58GS20090528,        GIN,     309,          1,          2,20090626,       1518,    73.8370,    19.2730,        235,   199.6,   2.3110,  35.0082,2,  35.0112,2,   309.7,2,    5.00,2,   10.75,2,    0.18,2,    0.77,2,-999.000,9,   2.956,2,    2.55609044,2,  2162.6,2,  2312.3,2,     -999.0,9,     -999.0,9,   2.2997
58GS20090528,        GIN,     309,          1,          3,20090626,       1518,    73.8370,    19.2730,        235,   149.4,   2.3060,  34.9795,2,  34.9899,2,   311.2,2,    4.64,2,   10.49,2,    0.22,2,    0.77,2,-999.000,9,   2.945,2,    2.77568892,2,  2159.6,2,  2309.5,2,     -999.0,9,     -999.0,9,   2.2976
58GS20090528,        GIN,     309,          1,          4,20090626,       1518,    73.8370,    19.2730,        235,   123.5,   2.8220,  35.0262,2,  35.0274,2,  -999.0,9,    4.64,2,   10.37,2,    0.21,2,    0.75,2,-999.000,9,-999.000,9,-999.000000000,9,  -999.0,9,  -999.0,9,     -999.0,9,     -999.0,9,   2.8145
58GS20090528,        GIN,     309,          1,          5,20090626,       1518,    73.8370,    19.2730,        235,   100.2,   3.1640,  35.0553,2,  35.0543,2,   308.4,2,    4.70,2,   10.48,2,    0.20,2,    0.75,2,-999.000,9,   2.794,2,    3.70033831,2,  2155.6,2,  2312.8,2,       0.02,2,       0.16,2,   3.1577
58GS20090528,        GIN,     309,          1,          6,20090626,       1518,    73.8370,    19.2730,        235,    75.8,   3.2610,  35.0537,2,  35.0568,2,   306.3,2,    4.64,2,   10.46,2,    0.20,2,    0.74,2,-999.000,9,-999.000,9,-999.000000000,9,  2154.3,2,  2312.4,2,       0.01,2,       0.21,2,   3.2562
58GS20090528,        GIN,     309,          1,          7,20090626,       1518,    73.8370,    19.2730,        235,    49.6,   3.3280,  35.0305,2,  35.0403,2,   307.9,2,    4.18,2,    8.63,2,    0.23,2,    0.69,2,-999.000,9,   2.818,2,    3.57221612,2,  2151.0,2,  2313.6,2,       0.04,2,       0.36,2,   3.3248
58GS20090528,        GIN,     309,          1,          8,20090626,       1518,    73.8370,    19.2730,        235,    29.3,   3.1320,  34.9664,2,  34.9736,2,   319.6,2,    3.26,2,    7.18,2,    0.20,2,    0.61,2,-999.000,9,   2.901,2,     2.3090772,2,  2140.2,2,  2313.0,2,       0.12,2,       0.30,2,   3.1302
58GS20090528,        GIN,     309,          1,          9,20090626,       1518,    73.8370,    19.2730,        235,    18.5,   4.4930,  34.9644,2,  34.9593,2,  -999.0,9,    2.15,2,    4.67,2,    0.14,2,    0.41,2,-999.000,9,-999.000,9,-999.000000000,9,  -999.0,9,  -999.0,9,       0.24,2,       0.29,2,   4.4917
58GS20090528,        GIN,     309,          1,         10,20090626,       1518,    73.8370,    19.2730,        235,     9.5,   4.8460,  34.9845,2,  34.9820,2,  -999.0,9,    1.28,2,    1.81,2,    0.07,2,    0.20,2,-999.000,9,-999.000,9,-999.000000000,9,  -999.0,9,  -999.0,9,       0.27,2,       0.30,2,   4.8453
58GS20090528,        GIN,     309,          1,         11,20090626,       1518,    73.8370,    19.2730,        235,     4.1,   4.8510,  34.9863,2,  34.9859,2,   331.7,2,    1.13,2,    1.46,2,    0.06,2,    0.16,2,-999.000,9,   2.756,2,    2.28776185,2,  2091.4,2,  2320.1,2,       0.44,2,       0.40,2,   4.8507
58GS20090528,        GIN,     310,          1,          1,20090626,       1659,    73.6670,    19.2970,        350,   339.5,   2.0230,  35.0449,2,  35.0457,2,   314.3,2,    4.98,2,   10.44,2,    0.11,2,    0.76,2,-999.000,9,   2.845,2,    2.89853586,2,  2162.8,2,  2314.5,2,     -999.0,9,     -999.0,9,   2.0041
58GS20090528,        GIN,     310,          1,          2,20090626,       1659,    73.6670,    19.2970,        350,   299.9,   2.2090,  35.0292,2,  35.0454,2,   313.1,2,    4.97,2,   10.28,2,    0.13,2,    0.75,2,-999.000,9,   2.835,2,    2.70861799,2,  2161.9,2,  2314.2,2,     -999.0,9,     -999.0,9,   2.1919
58GS20090528,        GIN,     310,          1,          3,20090626,       1659,    73.6670,    19.2970,        350,   249.1,   2.1720,  34.9900,2,  34.9913,2,   310.6,2,    4.72,2,   10.60,2,    0.15,2,    0.76,2,-999.000,9,   2.913,2,    2.32361717,2,  2161.0,2,  2311.6,2,     -999.0,9,     -999.0,9,   2.1580
58GS20090528,        GIN,     310,          1,          4,20090626,       1659,    73.6670,    19.2970,        350,   200.0,   3.0260,  35.0547,2,  35.0547,2,   309.6,2,    4.80,2,   10.51,2,    0.04,2,    0.74,2,-999.000,9,   2.732,2,    3.05995569,2,  2154.7,2,  2314.7,2,     -999.0,9,     -999.0,9,   3.0135
58GS20090528,        GIN,     310,          1,          5,20090626,       1659,    73.6670,    19.2970,        350,   149.6,   3.2630,  35.0555,2,  35.0566,2,   307.5,2,    4.67,2,   10.43,2,    0.13,2,    0.74,2,-999.000,9,-999.000,9,-999.000000000,9,  2154.2,2,  2316.0,2,     -999.0,9,     -999.0,9,   3.2534
58GS20090528,        GIN,     310,          1,          6,20090626,       1659,    73.6670,    19.2970,        350,    99.2,   3.6730,  35.0643,2,  35.0628,2,   305.6,2,    4.63,2,   10.61,2,    0.09,2,    0.75,2,-999.000,9,   2.703,2,    2.74858718,2,  2151.1,2,  2314.5,2,       0.01,2,       0.13,2,   3.6663
58GS20090528,        GIN,     310,          1,          7,20090626,       1659,    73.6670,    19.2970,        350,    74.4,   3.9410,  35.0752,2,  35.0724,2,   304.3,2,    4.29,2,    9.53,2,    0.13,2,    0.72,2,-999.000,9,-999.000,9,-999.000000000,9,  2148.4,2,  2318.6,2,       0.02,2,       0.16,2,   3.9359
58GS20090528,        GIN,     310,          1,          8,20090626,       1659,    73.6670,    19.2970,        350,    48.6,   4.2740,  35.0882,2,  35.0866,2,   303.8,2,    4.17,2,    9.26,2,    0.12,2,    0.72,2,-999.000,9,   2.614,6,    2.88355416,2,  2146.9,2,  2318.2,2,       0.04,2,       0.12,2,   4.2705
58GS20090528,        GIN,     310,          1,          9,20090626,       1659,    73.6670,    19.2970,        350,    29.6,   4.5790,  35.0765,2,  35.0699,2,   317.4,2,    2.94,2,    5.60,2,    0.09,2,    0.49,2,-999.000,9,-999.000,9,-999.000000000,9,  2121.8,2,  2321.5,2,       0.24,2,       0.14,2,   4.5768
58GS20090528,        GIN,     310,          1,         10,20090626,       1659,    73.6670,    19.2970,        350,    18.1,   5.2610,  35.0159,2,  35.0145,2,  -999.0,9,    1.64,2,    2.10,2,    0.05,2,    0.24,2,-999.000,9,-999.000,9,-999.000000000,9,  -999.0,9,  -999.0,9,       0.71,2,       0.42,2,   5.2596
58GS20090528,        GIN,     310,          1,         11,20090626,       1659,    73.6670,    19.2970,        350,    10.4,   5.3370,  35.0155,2,  35.0146,2,  -999.0,9,    1.63,2,    1.91,2,    0.04,2,    0.22,2,-999.000,9,-999.000,9,-999.000000000,9,  -999.0,9,  -999.0,9,       0.94,2,       0.30,2,   5.3362
58GS20090528,        GIN,     310,          1,         12,20090626,       1659,    73.6670,    19.2970,        350,     4.0,   5.4160,  35.0157,2,  35.0147,2,   327.7,2,    1.65,2,    1.83,2,    0.03,2,    0.22,2,-999.000,9,   2.598,2,    2.69800119,2,  2090.8,2,  2320.3,2,       0.71,2,       0.28,2,   5.4157