BOTTLE,20150327CCHSIORJL
EXPOCODE,SECT_ID,STNNBR,CASTNO,BTLNBR,DATE,TIME,LATITUDE,LONGITUDE,DEPTH,CTDPRS,CTDTMP,CTDSAL,CTDSAL_FLAG_W,SALNTY,SALNTY_FLAG_W,OXYGEN,OXYGEN_FLAG_W,SILCAT,SILCAT_FLAG_W,NITRAT,NITRAT_FLAG_W,NITRIT,NITRIT_FLAG_W,PHSPHT,PHSPHT_FLAG_W,CFC-11,CFC-11_FLAG_W,CFC-12,CFC-12_FLAG_W,SF6,SF6_FLAG_W,TCARBN,TCARBN_FLAG_W,ALKALI,ALKALI_FLAG_W,CHLORA,CHLORA_FLAG_W,PPHYTN,PPHYTN_FLAG_W,THETA
,,,,,,,,,METERS,DBAR,ITS-90,PSS-78,,PSS-78,,UMOL/KG,,UMOL/KG,,UMOL/KG,,UMOL/KG,,UMOL/KG,,PMOL/KG,,PMOL/KG,,FMOL/KG,,UMOL/KG,,UMOL/KG,,MG/M^3,,MG/M^3,,DEG C
58GS20090528,        GIN,     279,          1,          1,20090617,       2336,    76.9990,     1.4980,       3209,  3199.2,  -0.7860,  34.9091,2,  34.9116,2,   298.7,2,   12.80,2,   14.91,2,    0.01,2,    1.06,2,   0.865,6,   0.326,6,             0,2,  2160.5,2,  2311.9,2,     -999.0,9,     -999.0,9,  -0.9692
58GS20090528,        GIN,     279,          1,          2,20090617,       2336,    76.9990,     1.4980,       3209,  3000.9,  -0.7920,  34.9094,2,  34.9098,2,   298.5,2,   12.61,2,   14.84,2,    0.01,2,    1.00,2,   0.896,2,   0.318,2,             0,2,  2160.6,2,  2310.7,2,     -999.0,9,     -999.0,9,  -0.9588
58GS20090528,        GIN,     279,          1,          3,20090617,       2336,    76.9990,     1.4980,       3209,  2500.3,  -0.7920,  34.9092,2,  34.9115,2,   298.4,2,   12.11,2,   14.78,2,    0.01,2,    0.99,2,   1.032,2,   0.354,2,   0.169557748,2,  2161.5,2,  2311.0,2,     -999.0,9,     -999.0,9,  -0.9204
58GS20090528,        GIN,     279,          1,          4,20090617,       2336,    76.9990,     1.4980,       3209,  2000.4,  -0.7380,  34.9061,2,  34.9107,2,   299.8,2,   11.18,2,   14.57,2,    0.01,2,    1.00,2,   1.746,2,   0.567,2,   0.642800225,2,  2160.6,2,  2311.3,2,     -999.0,9,     -999.0,9,  -0.8330
58GS20090528,        GIN,     279,          1,          5,20090617,       2336,    76.9990,     1.4980,       3209,  1501.0,  -0.6180,  34.8982,2,  34.8992,2,   312.5,2,    8.66,2,   13.61,2,    0.01,2,    0.94,2,   4.470,2,   1.395,2,    1.70631195,2,  2163.5,2,  2309.8,2,     -999.0,9,     -999.0,9,  -0.6841
58GS20090528,        GIN,     279,          1,          6,20090617,       2336,    76.9990,     1.4980,       3209,  1200.0,  -0.5160,  34.8989,2,  34.9014,2,   321.4,2,    7.40,2,   13.02,2,    0.01,2,    0.90,2,   5.902,2,   1.797,2,    1.60269756,2,  2163.5,2,  2308.9,2,     -999.0,9,     -999.0,9,  -0.5666
58GS20090528,        GIN,     279,          1,          7,20090617,       2336,    76.9990,     1.4980,       3209,  1000.5,  -0.2800,  34.9171,2,  34.9171,2,   328.2,2,    6.46,2,   12.56,2,    0.01,2,    0.86,2,   6.711,2,   2.155,2,     2.0734575,2,  2162.3,2,  2307.3,2,     -999.0,9,     -999.0,9,  -0.3224
58GS20090528,        GIN,     279,          1,          8,20090617,       2336,    76.9990,     1.4980,       3209,   800.4,  -0.2090,  34.9224,2,  34.9261,2,   329.0,2,    6.25,2,   12.36,2,    0.01,2,    0.85,2,   6.937,2,   2.236,2,    1.67250322,2,  2163.4,2,  2308.0,2,     -999.0,9,     -999.0,9,  -0.2420
58GS20090528,        GIN,     279,          1,          9,20090617,       2336,    76.9990,     1.4980,       3209,   601.0,  -0.1570,  34.9245,2,  34.9248,2,   328.1,2,    6.30,2,   12.52,2,    0.02,2,    0.87,2,   7.040,2,-999.000,9,    1.59383578,2,  2162.0,2,  2309.5,2,     -999.0,9,     -999.0,9,  -0.1809
58GS20090528,        GIN,     279,          1,         10,20090617,       2336,    76.9990,     1.4980,       3209,   500.5,  -0.1080,  34.9263,2,  34.9231,2,   327.0,2,    6.33,2,   12.51,2,    0.01,2,    0.86,2,   6.517,2,   2.240,2,    1.57777962,2,  2161.8,2,  2308.1,2,     -999.0,9,     -999.0,9,  -0.1277
58GS20090528,        GIN,     279,          1,         11,20090617,       2336,    76.9990,     1.4980,       3209,   400.4,   0.0270,  34.9333,2,  34.9364,2,   325.0,2,    6.29,2,   12.55,2,    0.01,2,    0.88,2,   6.575,2,   2.192,2,    1.36578568,2,  2161.5,2,  2309.1,2,     -999.0,9,     -999.0,9,   0.0112
58GS20090528,        GIN,     279,          1,         12,20090617,       2336,    76.9990,     1.4980,       3209,   300.1,   0.1240,  34.9335,2,  34.9308,2,   324.1,2,    6.28,2,   12.54,2,    0.04,2,    0.87,2,   6.700,2,   2.196,2,    1.80151023,2,  2161.3,2,  2311.9,2,     -999.0,9,     -999.0,9,   0.1122
58GS20090528,        GIN,     279,          1,         13,20090617,       2336,    76.9990,     1.4980,       3209,   199.5,   0.3490,  34.9417,2,  34.9474,2,   323.6,2,    6.14,2,   12.30,2,    0.06,2,    0.87,2,   6.877,2,   2.192,2,    1.66901325,2,  2160.2,2,  2312.1,2,     -999.0,9,     -999.0,9,   0.3409
58GS20090528,        GIN,     279,          1,         14,20090617,       2336,    76.9990,     1.4980,       3209,   149.8,   0.5400,  34.9479,2,  34.9497,2,   321.5,2,    5.88,2,   12.01,2,    0.04,2,    0.82,2,-999.000,9,-999.000,9,-999.000000000,9,  2158.6,2,  2310.7,2,     -999.0,9,     -999.0,9,   0.5338
58GS20090528,        GIN,     279,          1,         15,20090617,       2336,    76.9990,     1.4980,       3209,   124.8,   0.8460,  34.9586,2,  34.9614,2,  -999.0,9,    5.75,2,   11.93,2,    0.06,2,    0.82,2,-999.000,9,-999.000,9,-999.000000000,9,  -999.0,9,  -999.0,9,     -999.0,9,     -999.0,9,   0.8405
58GS20090528,        GIN,     279,          1,         16,20090617,       2336,    76.9990,     1.4980,       3209,   100.4,   0.8910,  34.9563,2,  34.9606,2,   323.4,2,    5.63,2,   11.60,2,    0.07,2,    0.81,2,   6.885,2,   2.198,2,    1.82948959,2,  2157.1,2,  2311.6,2,       0.06,2,       0.11,2,   0.8866
58GS20090528,        GIN,     279,          1,         17,20090617,       2336,    76.9990,     1.4980,       3209,    74.8,   0.9730,  34.9434,2,  34.9479,2,   321.7,2,    5.43,2,   11.33,2,    0.07,2,    0.80,2,-999.000,9,-999.000,9,-999.000000000,9,  2154.3,2,  2312.8,2,       0.15,2,       0.12,2,   0.9697
58GS20090528,        GIN,     279,          1,         18,20090617,       2336,    76.9990,     1.4980,       3209,    49.3,   1.3560,  34.9633,2,  34.9699,2,   321.8,2,    5.07,2,   10.77,2,    0.09,2,    0.77,2,   7.013,2,   2.185,2,      2.210565,2,  2151.4,2,  2314.4,2,       0.24,2,       0.15,2,   1.3537
58GS20090528,        GIN,     279,          1,         19,20090617,       2336,    76.9990,     1.4980,       3209,    22.9,   2.0330,  34.9194,2,  34.8979,2,   348.2,2,    3.53,2,    6.24,2,    0.07,2,    0.55,2,-999.000,9,-999.000,9,-999.000000000,9,  2124.5,2,  2311.4,2,       0.85,2,       0.22,2,   2.0318
58GS20090528,        GIN,     279,          1,         20,20090617,       2336,    76.9990,     1.4980,       3209,    23.0,   2.2040,  34.8904,2,-999.0000,9,  -999.0,9, -999.00,9, -999.00,9, -999.00,9, -999.00,9,-999.000,9,-999.000,9,-999.000000000,9,  -999.0,9,  -999.0,9,     -999.0,9,     -999.0,9,   2.2028
58GS20090528,        GIN,     279,          1,         21,20090617,       2336,    76.9990,     1.4980,       3209,     9.9,   2.0980,  34.7276,2,  34.7365,2,   348.9,2,    2.78,2,    5.14,2,    0.06,2,    0.47,2,   8.048,2,   2.515,2,    4.83593142,2,  2111.4,2,  2304.7,2,       0.80,2,       0.12,2,   2.0975
58GS20090528,        GIN,     279,          1,         22,20090617,       2336,    76.9990,     1.4980,       3209,    10.1,   2.0550,  34.7063,2,-999.0000,9,  -999.0,9, -999.00,9, -999.00,9, -999.00,9, -999.00,9,-999.000,9,-999.000,9,-999.000000000,9,  -999.0,9,  -999.0,9,     -999.0,9,     -999.0,9,   2.0545
58GS20090528,        GIN,     279,          1,         23,20090617,       2336,    76.9990,     1.4980,       3209,     4.9,   2.0550,  34.7058,2,  34.7073,2,   348.7,2,    2.61,2,    4.87,2,    0.07,2,    0.45,2,-999.000,9,-999.000,9,-999.000000000,9,  2110.1,2,  2300.1,2,       0.84,2,       0.13,2,   2.0547
58GS20090528,        GIN,     279,          1,         24,20090617,       2336,    76.9990,     1.4980,       3209,     5.2,   2.0530,  34.7047,2,-999.0000,9,  -999.0,9, -999.00,9, -999.00,9, -999.00,9, -999.00,9,-999.000,9,-999.000,9,-999.000000000,9,  -999.0,9,  -999.0,9,     -999.0,9,     -999.0,9,   2.0527
58GS20090528,        GIN,     280,          1,          1,20090618,       0355,    77.0020,    -0.0020,       3209,  3199.4,  -0.7860,  34.9092,2,  34.9100,2,  -999.0,9, -999.00,9, -999.00,9, -999.00,9, -999.00,9,-999.000,9,-999.000,9,-999.000000000,9,  -999.0,9,  -999.0,9,     -999.0,9,     -999.0,9,  -0.9692
58GS20090528,        GIN,     280,          1,          2,20090618,       0355,    77.0020,    -0.0020,       3209,  3000.7,  -0.7950,  34.9095,2,  34.9112,2,  -999.0,9, -999.00,9, -999.00,9, -999.00,9, -999.00,9,-999.000,9,-999.000,9,-999.000000000,9,  -999.0,9,  -999.0,9,     -999.0,9,     -999.0,9,  -0.9617
58GS20090528,        GIN,     280,          1,          3,20090618,       0355,    77.0020,    -0.0020,       3209,  2500.7,  -0.7880,  34.9092,2,  34.9085,2,  -999.0,9, -999.00,9, -999.00,9, -999.00,9, -999.00,9,-999.000,9,-999.000,9,-999.000000000,9,  -999.0,9,  -999.0,9,     -999.0,9,     -999.0,9,  -0.9165
58GS20090528,        GIN,     280,          1,          4,20090618,       0355,    77.0020,    -0.0020,       3209,  2000.5,  -0.7280,  34.9060,2,  34.9064,2,  -999.0,9, -999.00,9, -999.00,9, -999.00,9, -999.00,9,-999.000,9,-999.000,9,-999.000000000,9,  -999.0,9,  -999.0,9,     -999.0,9,     -999.0,9,  -0.8231
58GS20090528,        GIN,     280,          1,          5,20090618,       0355,    77.0020,    -0.0020,       3209,  1500.6,  -0.5910,  34.8998,2,  34.9014,2,  -999.0,9, -999.00,9, -999.00,9, -999.00,9, -999.00,9,-999.000,9,-999.000,9,-999.000000000,9,  -999.0,9,  -999.0,9,     -999.0,9,     -999.0,9,  -0.6574
58GS20090528,        GIN,     280,          1,          6,20090618,       0355,    77.0020,    -0.0020,       3209,  1200.6,  -0.5300,  34.9002,2,  34.9006,2,  -999.0,9, -999.00,9, -999.00,9, -999.00,9, -999.00,9,-999.000,9,-999.000,9,-999.000000000,9,  -999.0,9,  -999.0,9,     -999.0,9,     -999.0,9,  -0.5805
58GS20090528,        GIN,     280,          1,          7,20090618,       0355,    77.0020,    -0.0020,       3209,  1000.8,  -0.3590,  34.9113,2,  34.9169,2,  -999.0,9, -999.00,9, -999.00,9, -999.00,9, -999.00,9,-999.000,9,-999.000,9,-999.000000000,9,  -999.0,9,  -999.0,9,     -999.0,9,     -999.0,9,  -0.4008
58GS20090528,        GIN,     280,          1,          8,20090618,       0355,    77.0020,    -0.0020,       3209,   800.7,  -0.2450,  34.9204,2,  34.9227,2,  -999.0,9, -999.00,9, -999.00,9, -999.00,9, -999.00,9,-999.000,9,-999.000,9,-999.000000000,9,  -999.0,9,  -999.0,9,     -999.0,9,     -999.0,9,  -0.2777
58GS20090528,        GIN,     280,          1,          9,20090618,       0355,    77.0020,    -0.0020,       3209,   600.5,  -0.1980,  34.9228,2,  34.9271,2,  -999.0,9, -999.00,9, -999.00,9, -999.00,9, -999.00,9,-999.000,9,-999.000,9,-999.000000000,9,  -999.0,9,  -999.0,9,     -999.0,9,     -999.0,9,  -0.2217
58GS20090528,        GIN,     280,          1,         10,20090618,       0355,    77.0020,    -0.0020,       3209,   500.3,  -0.1780,  34.9240,2,  34.9176,2,  -999.0,9, -999.00,9, -999.00,9, -999.00,9, -999.00,9,-999.000,9,-999.000,9,-999.000000000,9,  -999.0,9,  -999.0,9,     -999.0,9,     -999.0,9,  -0.1974
58GS20090528,        GIN,     280,          1,         11,20090618,       0355,    77.0020,    -0.0020,       3209,   400.7,  -0.1560,  34.9235,2,  34.9292,2,  -999.0,9, -999.00,9, -999.00,9, -999.00,9, -999.00,9,-999.000,9,-999.000,9,-999.000000000,9,  -999.0,9,  -999.0,9,     -999.0,9,     -999.0,9,  -0.1712
58GS20090528,        GIN,     280,          1,         12,20090618,       0355,    77.0020,    -0.0020,       3209,   300.8,  -0.0400,  34.9296,2,  34.9267,2,  -999.0,9, -999.00,9, -999.00,9, -999.00,9, -999.00,9,-999.000,9,-999.000,9,-999.000000000,9,  -999.0,9,  -999.0,9,     -999.0,9,     -999.0,9,  -0.0515
58GS20090528,        GIN,     280,          1,         13,20090618,       0355,    77.0020,    -0.0020,       3209,   200.6,   0.1510,  34.9368,2,  34.9244,2,  -999.0,9, -999.00,9, -999.00,9, -999.00,9, -999.00,9,-999.000,9,-999.000,9,-999.000000000,9,  -999.0,9,  -999.0,9,     -999.0,9,     -999.0,9,   0.1432
58GS20090528,        GIN,     280,          1,         14,20090618,       0355,    77.0020,    -0.0020,       3209,   150.3,   0.1040,  34.9206,2,  34.9159,2,  -999.0,9, -999.00,9, -999.00,9, -999.00,9, -999.00,9,-999.000,9,-999.000,9,-999.000000000,9,  -999.0,9,  -999.0,9,     -999.0,9,     -999.0,9,   0.0983
58GS20090528,        GIN,     280,          1,         15,20090618,       0355,    77.0020,    -0.0020,       3209,   124.6,   0.1110,  34.9135,2,  34.9293,2,  -999.0,9, -999.00,9, -999.00,9, -999.00,9, -999.00,9,-999.000,9,-999.000,9,-999.000000000,9,  -999.0,9,  -999.0,9,     -999.0,9,     -999.0,9,   0.1063
58GS20090528,        GIN,     280,          1,         16,20090618,       0355,    77.0020,    -0.0020,       3209,   100.6,   0.4610,  34.9307,2,  34.9437,2,  -999.0,9, -999.00,9, -999.00,9, -999.00,9, -999.00,9,-999.000,9,-999.000,9,-999.000000000,9,  -999.0,9,  -999.0,9,     -999.0,9,     -999.0,9,   0.4569
58GS20090528,        GIN,     280,          1,         17,20090618,       0355,    77.0020,    -0.0020,       3209,    74.5,   0.5410,  34.9320,2,  34.9403,2,  -999.0,9, -999.00,9, -999.00,9, -999.00,9, -999.00,9,-999.000,9,-999.000,9,-999.000000000,9,  -999.0,9,  -999.0,9,     -999.0,9,     -999.0,9,   0.5379
58GS20090528,        GIN,     280,          1,         18,20090618,       0355,    77.0020,    -0.0020,       3209,    50.3,   1.1750,  34.9436,2,  34.9350,2,  -999.0,9, -999.00,9, -999.00,9, -999.00,9, -999.00,9,-999.000,9,-999.000,9,-999.000000000,9,  -999.0,9,  -999.0,9,     -999.0,9,     -999.0,9,   1.1727
58GS20090528,        GIN,     280,          1,         19,20090618,       0355,    77.0020,    -0.0020,       3209,    25.1,   1.5190,  34.9262,2,  34.8981,2,  -999.0,9, -999.00,9, -999.00,9, -999.00,9, -999.00,9,-999.000,9,-999.000,9,-999.000000000,9,  -999.0,9,  -999.0,9,     -999.0,9,     -999.0,9,   1.5178
58GS20090528,        GIN,     280,          1,         20,20090618,       0355,    77.0020,    -0.0020,       3209,    24.9,   1.4300,  34.8781,2,-999.0000,9,  -999.0,9, -999.00,9, -999.00,9, -999.00,9, -999.00,9,-999.000,9,-999.000,9,-999.000000000,9,  -999.0,9,  -999.0,9,     -999.0,9,     -999.0,9,   1.4288
58GS20090528,        GIN,     280,          1,         21,20090618,       0355,    77.0020,    -0.0020,       3209,    10.2,   1.3760,  34.7692,2,  34.4448,2,  -999.0,9, -999.00,9, -999.00,9, -999.00,9, -999.00,9,-999.000,9,-999.000,9,-999.000000000,9,  -999.0,9,  -999.0,9,     -999.0,9,     -999.0,9,   1.3755
58GS20090528,        GIN,     280,          1,         22,20090618,       0355,    77.0020,    -0.0020,       3209,    10.0,   1.7580,  34.5441,2,-999.0000,9,  -999.0,9, -999.00,9, -999.00,9, -999.00,9, -999.00,9,-999.000,9,-999.000,9,-999.000000000,9,  -999.0,9,  -999.0,9,     -999.0,9,     -999.0,9,   1.7575
58GS20090528,        GIN,     280,          1,         23,20090618,       0355,    77.0020,    -0.0020,       3209,     4.1,   1.9670,  34.3959,2,  34.4263,2,  -999.0,9, -999.00,9, -999.00,9, -999.00,9, -999.00,9,-999.000,9,-999.000,9,-999.000000000,9,  -999.0,9,  -999.0,9,     -999.0,9,     -999.0,9,   1.9668
58GS20090528,        GIN,     280,          1,         24,20090618,       0355,    77.0020,    -0.0020,       3209,     4.4,   1.9780,  34.3891,2,-999.0000,9,  -999.0,9, -999.00,9, -999.00,9, -999.00,9, -999.00,9,-999.000,9,-999.000,9,-999.000000000,9,  -999.0,9,  -999.0,9,     -999.0,9,     -999.0,9,   1.9778