BOTTLE,20150327CCHSIORJL
EXPOCODE,SECT_ID,STNNBR,CASTNO,BTLNBR,DATE,TIME,LATITUDE,LONGITUDE,DEPTH,CTDPRS,CTDTMP,CTDSAL,CTDSAL_FLAG_W,SALNTY,SALNTY_FLAG_W,OXYGEN,OXYGEN_FLAG_W,SILCAT,SILCAT_FLAG_W,NITRAT,NITRAT_FLAG_W,NITRIT,NITRIT_FLAG_W,PHSPHT,PHSPHT_FLAG_W,CFC-11,CFC-11_FLAG_W,CFC-12,CFC-12_FLAG_W,SF6,SF6_FLAG_W,TCARBN,TCARBN_FLAG_W,ALKALI,ALKALI_FLAG_W,CHLORA,CHLORA_FLAG_W,PPHYTN,PPHYTN_FLAG_W,THETA
,,,,,,,,,METERS,DBAR,ITS-90,PSS-78,,PSS-78,,UMOL/KG,,UMOL/KG,,UMOL/KG,,UMOL/KG,,UMOL/KG,,PMOL/KG,,PMOL/KG,,FMOL/KG,,UMOL/KG,,UMOL/KG,,MG/M^3,,MG/M^3,,DEG C
58GS20090528,        GIN,     311,          1,          1,20090626,       1844,    73.5010,    19.3330,        475,   464.9,   1.8870,  35.0437,2,  35.0473,2,   314.4,2,    5.24,2,   10.85,2,    0.04,2,    0.76,2,-999.000,9,   2.858,2,    3.07473507,2,  2163.1,2,  2314.4,2,     -999.0,9,     -999.0,9,   1.8611
58GS20090528,        GIN,     311,          1,          2,20090626,       1844,    73.5010,    19.3330,        475,   399.8,   2.2480,  35.0466,2,  35.0489,2,   314.3,2,    4.91,2,   10.60,2,    0.09,2,    0.75,2,-999.000,9,   2.794,2,    3.62627431,2,  2159.8,2,  2316.0,2,     -999.0,9,     -999.0,9,   2.2248
58GS20090528,        GIN,     311,          1,          3,20090626,       1844,    73.5010,    19.3330,        475,   299.4,   2.8050,  35.0528,2,  35.0544,2,   313.5,2,    4.69,2,   10.36,2,    0.12,2,    0.73,2,-999.000,9,   2.770,2,    3.09247552,2,  2154.3,2,  2313.7,2,     -999.0,9,     -999.0,9,   2.7865
58GS20090528,        GIN,     311,          1,          4,20090626,       1844,    73.5010,    19.3330,        475,   199.6,   2.9210,  34.9937,2,  35.0078,2,   311.0,2,    3.52,2,    8.74,2,    0.20,2,    0.68,2,-999.000,9,   2.787,2,    3.28628333,2,  2153.2,2,  2313.7,2,     -999.0,9,     -999.0,9,   2.9087
58GS20090528,        GIN,     311,          1,          5,20090626,       1844,    73.5010,    19.3330,        475,   149.6,   3.5240,  35.0132,2,  35.0161,2,   311.4,2,    3.51,2,    8.43,2,    0.12,2,    0.67,2,-999.000,9,   2.724,6,    3.31798596,6,  2143.1,2,  2315.4,2,     -999.0,9,     -999.0,9,   3.5141
58GS20090528,        GIN,     311,          1,          6,20090626,       1844,    73.5010,    19.3330,        475,   119.4,   4.3310,  35.0877,2,  35.0882,2,  -999.0,9,    4.54,2,   10.96,2,    0.05,2,    0.75,2,-999.000,9,-999.000,9,-999.000000000,9,  -999.0,9,  -999.0,9,     -999.0,9,     -999.0,9,   4.3223
58GS20090528,        GIN,     311,          1,          7,20090626,       1844,    73.5010,    19.3330,        475,   100.1,   4.4250,  35.0737,2,  35.0703,2,   306.4,2,    4.01,2,    9.62,2,    0.07,2,    0.69,2,-999.000,9,   2.749,2,    3.87041035,2,  2140.4,2,  2315.6,2,       0.05,2,       0.19,2,   4.4177
58GS20090528,        GIN,     311,          1,          8,20090626,       1844,    73.5010,    19.3330,        475,    90.0,   4.4450,  35.0619,2,-999.0000,9,  -999.0,9,    3.85,2,    9.26,2,    0.12,2,    0.68,2,-999.000,9,-999.000,9,-999.000000000,9,  -999.0,9,  -999.0,9,       0.11,2,       0.21,2,   4.4384
58GS20090528,        GIN,     311,          1,          9,20090626,       1844,    73.5010,    19.3330,        475,    74.4,   4.9150,  35.0818,2,  35.0622,2,   303.6,2,    3.90,2,    9.82,2,    0.05,2,    0.69,2,-999.000,9,-999.000,9,-999.000000000,9,  2139.4,2,  2318.0,2,       0.08,2,       0.19,2,   4.9093
58GS20090528,        GIN,     311,          1,         10,20090626,       1844,    73.5010,    19.3330,        475,    59.8,   5.1810,  35.0983,2,-999.0000,9,  -999.0,9,    3.78,2,    9.70,2,    0.08,2,    0.73,2,-999.000,9,-999.000,9,-999.000000000,9,  -999.0,9,  -999.0,9,       0.11,2,       0.19,2,   5.1763
58GS20090528,        GIN,     311,          1,         11,20090626,       1844,    73.5010,    19.3330,        475,    49.4,   5.3010,  35.0924,2,  35.0905,2,   304.9,2,    3.54,2,    9.00,2,    0.05,2,    0.66,2,-999.000,9,   2.552,2,    2.31484546,2,  2136.7,2,  2319.5,2,       0.11,2,       0.17,2,   5.2971
58GS20090528,        GIN,     311,          1,         12,20090626,       1844,    73.5010,    19.3330,        475,    38.9,   5.7000,  35.0613,2,-999.0000,9,  -999.0,9,    3.29,2,    7.88,2,    0.06,2,    0.59,2,-999.000,9,-999.000,9,-999.000000000,9,  -999.0,9,  -999.0,9,       0.41,2,       0.24,2,   5.6968
58GS20090528,        GIN,     311,          1,         13,20090626,       1844,    73.5010,    19.3330,        475,    29.5,   5.7610,  35.0494,2,  35.0566,2,   316.8,2,    2.62,2,    5.53,2,    0.04,2,    0.46,2,-999.000,9,-999.000,9,-999.000000000,9,  2109.8,2,  2320.8,2,       0.15,2,       0.09,2,   5.7585
58GS20090528,        GIN,     311,          1,         14,20090626,       1844,    73.5010,    19.3330,        475,    17.9,   5.8290,  35.0486,2,  35.0470,2,  -999.0,9,    2.32,2,    4.31,2,    0.02,2,    0.36,2,-999.000,9,-999.000,9,-999.000000000,9,  -999.0,9,  -999.0,9,       1.21,2,       0.26,2,   5.8275
58GS20090528,        GIN,     311,          1,         15,20090626,       1844,    73.5010,    19.3330,        475,     8.0,   5.8320,  35.0488,2,  35.0465,2,  -999.0,9,    2.23,2,    3.97,2,    0.02,2,    0.35,2,-999.000,9,-999.000,9,-999.000000000,9,  -999.0,9,  -999.0,9,       1.04,2,       0.22,2,   5.8313
58GS20090528,        GIN,     311,          1,         16,20090626,       1844,    73.5010,    19.3330,        475,     3.4,   5.8310,  35.0485,2,  35.0478,2,   322.2,2,    2.13,2,    3.69,2,    0.02,2,    0.33,2,-999.000,9,   2.569,2,    2.77014735,2,  2098.6,2,  2319.8,2,       1.16,2,       0.33,2,   5.8307
58GS20090528,        GIN,     312,          1,          1,20090626,       2257,    73.4910,    19.3730,        288,    29.5,   5.7540,  35.0352,2,-999.0000,9,  -999.0,9, -999.00,9, -999.00,9, -999.00,9, -999.00,9,-999.000,9,-999.000,9,-999.000000000,9,  -999.0,9,  -999.0,9,     -999.0,9,     -999.0,9,   5.7515
58GS20090528,        GIN,     312,          1,          2,20090626,       2257,    73.4910,    19.3730,        288,    13.5,   5.7430,  35.0327,2,-999.0000,9,  -999.0,9, -999.00,9, -999.00,9, -999.00,9, -999.00,9,-999.000,9,-999.000,9,-999.000000000,9,  -999.0,9,  -999.0,9,     -999.0,9,     -999.0,9,   5.7419
58GS20090528,        GIN,     312,          1,          3,20090626,       2257,    73.4910,    19.3730,        288,     4.6,   5.7580,  35.0346,2,-999.0000,9,  -999.0,9, -999.00,9, -999.00,9, -999.00,9, -999.00,9,-999.000,9,-999.000,9,-999.000000000,9,  -999.0,9,  -999.0,9,     -999.0,9,     -999.0,9,   5.7576
58GS20090528,        GIN,     313,          1,          1,20090628,       0012,    73.2500,    19.4010,        447,   436.7,   2.0190,  35.0481,2,-999.0000,9,   314.0,2,    5.11,2,   10.84,2,    0.07,2,    0.77,2,-999.000,9,   2.813,2,    3.04375241,2,  -999.0,9,  2314.7,2,     -999.0,9,     -999.0,9,   1.9943
58GS20090528,        GIN,     313,          1,          2,20090628,       0012,    73.2500,    19.4010,        447,   399.7,   2.3500,  35.0507,2,-999.0000,9,   314.9,2,    4.74,2,   10.68,2,    0.09,2,    0.75,2,-999.000,9,   2.773,2,    1.98017752,2,  2157.4,2,  2315.0,2,     -999.0,9,     -999.0,9,   2.3265
58GS20090528,        GIN,     313,          1,          3,20090628,       0012,    73.2500,    19.4010,        447,   299.6,   3.0110,  35.0427,2,-999.0000,9,   309.4,2,    4.49,2,   10.56,2,    0.14,2,    0.74,2,-999.000,9,   2.721,2,    2.44627585,2,  2155.5,2,  2314.3,2,     -999.0,9,     -999.0,9,   2.9920
58GS20090528,        GIN,     313,          1,          4,20090628,       0012,    73.2500,    19.4010,        447,   199.6,   3.9660,  35.0743,2,-999.0000,9,   303.0,2,    4.67,2,   11.24,2,    0.01,2,    0.77,2,-999.000,9,   2.592,2,    2.77106746,2,  2151.5,2,  2315.6,2,     -999.0,9,     -999.0,9,   3.9520
58GS20090528,        GIN,     313,          1,          5,20090628,       0012,    73.2500,    19.4010,        447,   149.6,   4.6020,  35.1046,2,-999.0000,9,   300.0,2,    4.55,2,   11.06,2,    0.05,2,    0.76,2,-999.000,9,   2.502,2,    2.01106437,2,  2148.9,2,  2318.0,2,     -999.0,9,     -999.0,9,   4.5908
58GS20090528,        GIN,     313,          1,          6,20090628,       0012,    73.2500,    19.4010,        447,    99.2,   5.0940,  35.1025,2,-999.0000,9,   305.7,2,    3.57,2,    8.65,2,    0.08,2,    0.67,2,-999.000,9,   2.560,2,    2.09879245,2,  2138.4,2,  2317.4,2,       0.03,2,       0.12,2,   5.0862
58GS20090528,        GIN,     313,          1,          7,20090628,       0012,    73.2500,    19.4010,        447,    74.4,   5.7300,  35.1546,2,-999.0000,9,   297.3,2,    4.18,2,   10.30,2,    0.06,2,    0.70,2,-999.000,9,-999.000,9,-999.000000000,9,  2144.6,2,  2319.9,2,       0.02,2,       0.16,2,   5.7238
58GS20090528,        GIN,     313,          1,          8,20090628,       0012,    73.2500,    19.4010,        447,    49.4,   5.8680,  35.1524,2,-999.0000,9,   294.5,2,    4.25,2,   10.47,2,    0.04,2,    0.71,2,-999.000,9,   2.449,2,    2.59181899,2,  2143.7,2,  2320.0,2,       0.09,2,       0.13,2,   5.8638
58GS20090528,        GIN,     313,          1,          9,20090628,       0012,    73.2500,    19.4010,        447,    30.9,   6.3680,  35.1201,2,-999.0000,9,   307.6,2,    3.15,2,    6.42,2,    0.04,2,    0.47,2,-999.000,9,-999.000,9,-999.000000000,9,  2119.7,2,  2322.4,2,       0.67,2,       0.19,2,   6.3653
58GS20090528,        GIN,     313,          1,         10,20090628,       0012,    73.2500,    19.4010,        447,    30.1,   6.3510,  35.1217,2,-999.0000,9,  -999.0,9, -999.00,9, -999.00,9, -999.00,9, -999.00,9,-999.000,9,-999.000,9,-999.000000000,9,  -999.0,9,  -999.0,9,     -999.0,9,     -999.0,9,   6.3484
58GS20090528,        GIN,     313,          1,         11,20090628,       0012,    73.2500,    19.4010,        447,    19.9,   6.4040,  35.1124,2,-999.0000,9,  -999.0,9,    2.95,2,    5.71,2,    0.03,2,    0.44,2,-999.000,9,-999.000,9,-999.000000000,9,  -999.0,9,  -999.0,9,       0.80,2,       0.19,2,   6.4022
58GS20090528,        GIN,     313,          1,         12,20090628,       0012,    73.2500,    19.4010,        447,    15.3,   6.4040,  35.1105,2,-999.0000,9,  -999.0,9,    2.94,2,    5.68,2,    0.03,2,    0.44,2,-999.000,9,-999.000,9,-999.000000000,9,  -999.0,9,  -999.0,9,       0.76,2,       0.16,2,   6.4027
58GS20090528,        GIN,     313,          1,         13,20090628,       0012,    73.2500,    19.4010,        447,    10.0,   6.4040,  35.1096,2,-999.0000,9,  -999.0,9,    2.82,2,    5.18,2,    0.05,2,    0.41,2,-999.000,9,-999.000,9,-999.000000000,9,  -999.0,9,  -999.0,9,       0.88,2,       0.18,2,   6.4031
58GS20090528,        GIN,     313,          1,         14,20090628,       0012,    73.2500,    19.4010,        447,     4.5,   6.4050,  35.1095,2,-999.0000,9,   312.8,2,    2.74,2,    5.05,2,    0.04,2,    0.38,2,-999.000,9,   2.608,2,    1.90101007,2,  2110.8,2,  2323.2,2,       0.86,2,       0.16,2,   6.4046
58GS20090528,        GIN,     313,          1,         15,20090628,       0012,    73.2500,    19.4010,        447,     3.8,   6.4050,  35.1096,2,-999.0000,9,  -999.0,9,    2.77,2,    5.10,2,    0.04,2,    0.40,2,-999.000,9,-999.000,9,-999.000000000,9,  -999.0,9,  -999.0,9,       0.49,2,       0.10,2,   6.4047
58GS20090528,        GIN,     314,          1,          1,20090628,       0352,    73.0000,    19.4680,        461,   405.3,   2.0970,  35.0495,2,  35.0509,2,   313.7,2,    5.02,2,   10.84,2,    0.05,2,    0.75,2,-999.000,9,   2.862,2,    3.30752991,2,  2163.7,2,  2315.5,2,     -999.0,9,     -999.0,9,   2.0739
58GS20090528,        GIN,     314,          1,          2,20090628,       0352,    73.0000,    19.4680,        461,   299.9,   2.7570,  35.0378,2,  35.0402,2,   310.1,2,    4.81,2,   11.06,2,    0.00,2,    0.76,2,-999.000,9,   2.855,2,             0,2,  2157.4,2,  2313.8,2,     -999.0,9,     -999.0,9,   2.7386
58GS20090528,        GIN,     314,          1,          3,20090628,       0352,    73.0000,    19.4680,        461,   249.9,   3.0120,  35.0075,2,  35.0068,2,   307.0,2,    4.70,2,   11.18,2,    0.06,2,    0.76,2,-999.000,9,   2.679,2,    2.19540721,2,  2156.6,2,  2308.6,2,     -999.0,9,     -999.0,9,   2.9963
58GS20090528,        GIN,     314,          1,          4,20090628,       0352,    73.0000,    19.4680,        461,   199.6,   3.3700,  34.9960,2,  34.9950,2,   308.1,2,    4.16,2,   10.30,2,    0.13,2,    0.73,2,-999.000,9,   2.691,2,    1.60097371,2,  2150.2,2,  2311.1,2,     -999.0,9,     -999.0,9,   3.3570
58GS20090528,        GIN,     314,          1,          5,20090628,       0352,    73.0000,    19.4680,        461,   149.5,   4.5490,  35.0762,2,  35.0564,2,   305.4,2,    3.87,2,    9.56,2,    0.07,2,    0.69,2,-999.000,9,   2.564,2,    2.18979788,2,  2144.7,2,  2314.5,2,     -999.0,9,     -999.0,9,   4.5379
58GS20090528,        GIN,     314,          1,          6,20090628,       0352,    73.0000,    19.4680,        461,    99.3,   5.2970,  35.1075,2,  35.1052,2,   301.8,2,    3.84,2,    9.68,2,    0.06,2,    0.68,2,-999.000,9,   2.459,2,    1.50235652,2,  2141.9,2,  2317.4,2,       0.14,2,       0.16,2,   5.2891
58GS20090528,        GIN,     314,          1,          7,20090628,       0352,    73.0000,    19.4680,        461,    74.6,   5.7910,  35.1047,2,  35.0937,2,   307.2,2,    3.30,2,    7.85,2,    0.06,2,    0.60,2,-999.000,9,-999.000,9,-999.000000000,9,  2132.0,2,  2319.5,2,       0.10,2,       0.16,2,   5.7848
58GS20090528,        GIN,     314,          1,          8,20090628,       0352,    73.0000,    19.4680,        461,    49.5,   6.3920,  35.1228,2,  35.1086,2,   304.2,2,    3.45,2,    7.94,2,    0.06,2,    0.58,2,-999.000,9,   2.515,2,    2.19677958,2,  2131.7,2,  2319.6,2,       0.20,2,       0.17,2,   6.3876
58GS20090528,        GIN,     314,          1,          9,20090628,       0352,    73.0000,    19.4680,        461,    29.5,   6.5130,  35.1244,2,  35.1158,2,   305.0,2,    3.29,2,    6.99,2,    0.05,2,    0.52,2,-999.000,9,-999.000,9,-999.000000000,9,  2126.2,2,  2321.6,2,       0.41,2,       0.18,2,   6.5104
58GS20090528,        GIN,     314,          1,         10,20090628,       0352,    73.0000,    19.4680,        461,    20.2,   6.5920,  35.1187,2,  35.1172,2,  -999.0,9,    3.26,2,    6.65,2,    0.04,2,    0.50,2,-999.000,9,-999.000,9,-999.000000000,9,  -999.0,9,  -999.0,9,       0.48,2,       0.12,2,   6.5902
58GS20090528,        GIN,     314,          1,         11,20090628,       0352,    73.0000,    19.4680,        461,     9.1,   6.6810,  35.0928,2,  35.0993,2,  -999.0,9,    2.96,2,    5.45,2,    0.04,2,    0.44,2,-999.000,9,-999.000,9,-999.000000000,9,  -999.0,9,  -999.0,9,       0.74,2,       0.14,2,   6.6802
58GS20090528,        GIN,     314,          1,         12,20090628,       0352,    73.0000,    19.4680,        461,     4.2,   6.6400,  35.0839,2,  35.0822,2,   313.0,2,    2.68,2,    4.59,2,    0.04,2,    0.39,2,-999.000,9,   2.562,2,    2.27911419,2,  2109.6,2,  2322.4,2,       1.04,2,       0.27,2,   6.6396
58GS20090528,        GIN,     315,          1,          1,20090628,       0834,    72.7440,    19.5470,        463,   390.5,   2.3650,  35.0500,2,  35.0514,2,   312.5,2,    5.04,2,   10.93,2,    0.03,2,    0.77,2,-999.000,9,   2.807,2,   0.486782771,2,  2160.6,2,  2315.1,2,     -999.0,9,     -999.0,9,   2.3420
58GS20090528,        GIN,     315,          1,          2,20090628,       0834,    72.7440,    19.5470,        463,   299.5,   2.6370,  35.0409,2,  35.0427,2,   309.8,2,    4.98,2,   11.05,2,    0.02,2,    0.76,2,-999.000,9,   2.766,2,     1.9671465,2,  2158.1,2,  2314.0,2,     -999.0,9,     -999.0,9,   2.6189
58GS20090528,        GIN,     315,          1,          3,20090628,       0834,    72.7440,    19.5470,        463,   247.2,   3.0910,  35.0059,2,  35.0073,2,   307.4,2,    4.68,2,   11.15,2,    0.03,2,    0.76,2,-999.000,9,   2.782,2,    4.09809295,2,  2153.4,2,  2310.9,2,     -999.0,9,     -999.0,9,   3.0753
58GS20090528,        GIN,     315,          1,          4,20090628,       0834,    72.7440,    19.5470,        463,   199.6,   4.4720,  35.0875,2,  35.0830,2,   299.7,2,    4.57,2,   11.04,2,    0.04,2,    0.74,2,-999.000,9,   2.639,6,    3.36125017,6,  2149.0,2,  2316.3,2,     -999.0,9,     -999.0,9,   4.4572
58GS20090528,        GIN,     315,          1,          5,20090628,       0834,    72.7440,    19.5470,        463,   149.1,   5.1730,  35.1231,2,  35.1185,2,   295.4,2,    4.63,2,   11.23,2,    0.02,2,    0.75,2,-999.000,9,   2.551,2,    3.40830704,2,  2147.1,2,  2317.7,2,     -999.0,9,     -999.0,9,   5.1612
58GS20090528,        GIN,     315,          1,          6,20090628,       0834,    72.7440,    19.5470,        463,    99.1,   5.7880,  35.1491,2,  35.1429,2,   291.5,2,    4.62,2,   11.34,2,    0.00,2,    0.75,2,-999.000,9,   2.509,2,    3.82657795,2,  2146.7,2,  2318.6,2,       0.01,2,       0.04,2,   5.7797
58GS20090528,        GIN,     315,          1,          7,20090628,       0834,    72.7440,    19.5470,        463,    74.2,   5.9400,  35.1494,2,  35.1475,2,   290.6,2,    4.57,2,   11.38,2,    0.01,2,    0.75,2,-999.000,9,-999.000,9,-999.000000000,9,  2145.0,2,  2318.5,2,       0.02,2,       0.20,2,   5.9337
58GS20090528,        GIN,     315,          1,          8,20090628,       0834,    72.7440,    19.5470,        463,    49.3,   6.2690,  35.1357,2,  35.1162,2,   300.8,2,    3.56,2,    7.49,2,    0.06,2,    0.56,2,-999.000,9,   2.540,2,    3.92155038,2,  2127.3,2,  2321.7,2,       0.37,2,       0.12,2,   6.2647
58GS20090528,        GIN,     315,          1,          9,20090628,       0834,    72.7440,    19.5470,        463,    29.6,   7.0870,  35.0816,2,  35.0781,2,   309.4,2,    2.74,2,    4.33,2,    0.03,2,    0.37,2,-999.000,9,-999.000,9,-999.000000000,9,  2106.8,2,  2322.0,2,       0.46,2,       0.11,2,   7.0842
58GS20090528,        GIN,     315,          1,         10,20090628,       0834,    72.7440,    19.5470,        463,    20.9,   7.1320,  35.0791,2,  35.0757,2,  -999.0,9,    2.77,2,    4.37,2,    0.02,2,    0.37,2,-999.000,9,-999.000,9,-999.000000000,9,  -999.0,9,  -999.0,9,       0.51,2,       0.08,2,   7.1300
58GS20090528,        GIN,     315,          1,         11,20090628,       0834,    72.7440,    19.5470,        463,     9.9,   7.2240,  35.0805,2,  35.0757,2,  -999.0,9,    2.72,2,    4.16,2,    0.04,2,    0.36,2,-999.000,9,-999.000,9,-999.000000000,9,  -999.0,9,  -999.0,9,       0.58,2,       0.08,2,   7.2231
58GS20090528,        GIN,     315,          1,         12,20090628,       0834,    72.7440,    19.5470,        463,     4.7,   7.3060,  35.0792,2,  35.0744,2,   308.6,2,    2.73,2,    4.09,2,    0.04,2,    0.38,2,-999.000,9,   2.527,2,    3.37211186,2,  2107.4,2,  2323.0,2,       0.48,2,       0.06,2,   7.3056