BOTTLE,20150327CCHSIORJL
EXPOCODE,SECT_ID,STNNBR,CASTNO,BTLNBR,DATE,TIME,LATITUDE,LONGITUDE,DEPTH,CTDPRS,CTDTMP,CTDSAL,CTDSAL_FLAG_W,SALNTY,SALNTY_FLAG_W,OXYGEN,OXYGEN_FLAG_W,SILCAT,SILCAT_FLAG_W,NITRAT,NITRAT_FLAG_W,NITRIT,NITRIT_FLAG_W,PHSPHT,PHSPHT_FLAG_W,CFC-11,CFC-11_FLAG_W,CFC-12,CFC-12_FLAG_W,SF6,SF6_FLAG_W,TCARBN,TCARBN_FLAG_W,ALKALI,ALKALI_FLAG_W,CHLORA,CHLORA_FLAG_W,PPHYTN,PPHYTN_FLAG_W,THETA
,,,,,,,,,METERS,DBAR,ITS-90,PSS-78,,PSS-78,,UMOL/KG,,UMOL/KG,,UMOL/KG,,UMOL/KG,,UMOL/KG,,PMOL/KG,,PMOL/KG,,FMOL/KG,,UMOL/KG,,UMOL/KG,,MG/M^3,,MG/M^3,,DEG C
58GS20090528,        GIN,     333,          1,          1,20090702,       2202,    69.9960,    12.5760,       2790,  2780.0,  -0.8190,  34.9062,2,  34.9111,2,   294.5,2,   14.18,2,   15.36,2,    0.01,2,    1.05,2,-999.000,9,   0.308,2,   0.687703332,2,  2168.5,2,  2307.5,2,     -999.0,9,     -999.0,9,  -0.9678
58GS20090528,        GIN,     333,          1,          2,20090702,       2202,    69.9960,    12.5760,       2790,  2499.9,  -0.8190,  34.9063,2,  34.9116,2,   296.0,2,   13.16,2,   15.16,2,    0.00,2,    1.03,2,-999.000,9,   0.364,2,   0.713330076,2,  2165.8,2,  2306.7,2,     -999.0,9,     -999.0,9,  -0.9469
58GS20090528,        GIN,     333,          1,          3,20090702,       2202,    69.9960,    12.5760,       2790,  2000.4,  -0.7860,  34.9053,2,  34.9127,2,   296.8,2,   12.14,2,   14.81,2,    0.01,2,    1.01,2,-999.000,9,   0.520,2,    0.86457913,2,  2165.2,2,  -999.0,9,     -999.0,9,     -999.0,9,  -0.8802
58GS20090528,        GIN,     333,          1,          4,20090702,       2202,    69.9960,    12.5760,       2790,  1499.7,  -0.6730,  34.8999,2,  34.9072,2,   299.7,2,   10.45,2,   14.45,2,    0.01,2,    1.00,2,-999.000,9,   1.025,2,    1.45337139,2,  2165.7,2,  2302.9,2,     -999.0,9,     -999.0,9,  -0.7384
58GS20090528,        GIN,     333,          1,          5,20090702,       2202,    69.9960,    12.5760,       2790,  1200.1,  -0.5080,  34.8947,2,  34.9016,2,   302.3,2,    9.11,2,   14.16,2,    0.01,2,    0.98,2,-999.000,9,   1.587,2,    2.63901566,2,  2168.0,2,  -999.0,9,     -999.0,9,     -999.0,9,  -0.5587
58GS20090528,        GIN,     333,          1,          6,20090702,       2202,    69.9960,    12.5760,       2790,   999.6,  -0.2390,  34.8930,2,  34.9004,2,   303.1,2,    8.12,2,   13.98,2,    0.00,2,    0.97,2,-999.000,9,   1.981,2,    2.81951673,2,  2168.0,2,  2300.3,2,     -999.0,9,     -999.0,9,  -0.2817
58GS20090528,        GIN,     333,          1,          7,20090702,       2202,    69.9960,    12.5760,       2790,   799.0,   0.5040,  34.9073,2,  34.9114,2,   304.5,2,    7.01,2,   13.74,2,    0.02,2,    0.95,2,-999.000,9,   2.345,2,    2.07457874,2,  2167.7,2,  -999.0,9,     -999.0,9,     -999.0,9,   0.4664
58GS20090528,        GIN,     333,          1,          8,20090702,       2202,    69.9960,    12.5760,       2790,   599.5,   3.4790,  35.0421,2,  35.0421,2,   298.4,2,    5.57,2,   12.56,2,    0.02,2,    0.87,2,-999.000,9,   2.542,2,    5.10592576,2,  2159.8,2,  2311.3,2,     -999.0,9,     -999.0,9,   3.4374
58GS20090528,        GIN,     333,          1,          9,20090702,       2202,    69.9960,    12.5760,       2790,   500.3,   4.6160,  35.1217,2,  35.1230,2,   298.5,2,    4.92,2,   11.72,2,    0.01,2,    0.81,2,-999.000,9,-999.000,9,-999.000000000,9,  2151.6,2,  -999.0,9,     -999.0,9,     -999.0,9,   4.5771
58GS20090528,        GIN,     333,          1,         10,20090702,       2202,    69.9960,    12.5760,       2790,   399.4,   5.1700,  35.1435,2,  35.1429,2,   296.2,2,    4.95,2,   11.71,2,    0.01,2,    0.79,2,-999.000,9,-999.000,9,-999.000000000,9,  2150.2,2,  2319.5,2,     -999.0,9,     -999.0,9,   5.1375
58GS20090528,        GIN,     333,          1,         11,20090702,       2202,    69.9960,    12.5760,       2790,   399.1,   5.1680,  35.1435,2,  35.1426,2,   296.2,2, -999.00,9, -999.00,9, -999.00,9, -999.00,9,-999.000,9,   2.527,6,    4.45696838,2,  -999.0,9,  -999.0,9,     -999.0,9,     -999.0,9,   5.1356
58GS20090528,        GIN,     333,          1,         12,20090702,       2202,    69.9960,    12.5760,       2790,   301.7,   5.7400,  35.1675,2,  35.1677,2,   292.6,2,    5.04,2,   11.77,2,    0.02,2,    0.79,2,-999.000,9,-999.000,9,-999.000000000,9,  2149.1,2,  -999.0,9,     -999.0,9,     -999.0,9,   5.7143
58GS20090528,        GIN,     333,          1,         13,20090702,       2202,    69.9960,    12.5760,       2790,   199.6,   6.2580,  35.1907,2,  35.1906,2,   287.1,2,    5.02,2,   11.92,2,    0.01,2,    0.79,2,-999.000,9,   2.392,2,    4.05609102,2,  2150.0,2,  2320.1,2,     -999.0,9,     -999.0,9,   6.2404
58GS20090528,        GIN,     333,          1,         14,20090702,       2202,    69.9960,    12.5760,       2790,   152.0,   6.6490,  35.2071,2,  35.2072,2,   283.8,2,    5.12,2,   12.02,2,    0.01,2,    0.81,2,-999.000,9,-999.000,9,-999.000000000,9,  2149.4,2,  2322.8,2,     -999.0,9,     -999.0,9,   6.6352
58GS20090528,        GIN,     333,          1,         15,20090702,       2202,    69.9960,    12.5760,       2790,   124.8,   6.9260,  35.2214,2,  35.2180,2,   281.5,2,    5.19,2,   12.08,2,    0.03,2,    0.81,2,-999.000,9,   2.341,2,    4.14179703,2,  2148.2,2,  2323.2,2,     -999.0,9,     -999.0,9,   6.9144
58GS20090528,        GIN,     333,          1,         16,20090702,       2202,    69.9960,    12.5760,       2790,   100.0,   7.1080,  35.2093,2,-999.0000,9,   281.8,2,    4.23,2,    9.82,2,    0.20,2,    0.73,2,-999.000,9,-999.000,9,-999.000000000,9,  2143.0,2,  2324.5,2,       0.06,2,       0.20,2,   7.0986
58GS20090528,        GIN,     333,          1,         17,20090702,       2202,    69.9960,    12.5760,       2790,    75.3,   7.5320,  35.2054,2,  35.2048,2,   284.3,2,    2.55,2,    6.83,2,    0.11,2,    0.63,2,-999.000,9,   2.330,2,    3.66212396,2,  2134.3,2,  2329.6,2,       0.06,2,       0.20,2,   7.5247
58GS20090528,        GIN,     333,          1,         18,20090702,       2202,    69.9960,    12.5760,       2790,    49.9,   8.1340,  35.1817,2,  35.1840,2,   289.9,2,    0.58,2,    3.23,2,    0.10,2,    0.34,2,-999.000,9,-999.000,9,-999.000000000,9,  2111.4,2,  2331.7,2,       0.27,2,       0.33,2,   8.1289
58GS20090528,        GIN,     333,          1,         19,20090702,       2202,    69.9960,    12.5760,       2790,    29.6,   8.7920,  34.9999,2,  35.0860,2,   289.8,2,    0.26,2,    1.96,2,    0.09,2,    0.20,2,-999.000,9,   2.293,2,    3.33942975,2,  2103.4,2,  2330.1,2,       0.18,2,       0.14,2,   8.7889
58GS20090528,        GIN,     333,          1,         20,20090702,       2202,    69.9960,    12.5760,       2790,    10.2,   9.5900,  34.9204,2,  34.9310,2,   305.7,2,    0.02,2,    0.00,2,    0.01,2,    0.03,2,-999.000,9,   2.283,2,     3.6290738,2,  2070.4,2,  2326.0,2,       0.70,2,       0.28,2,   9.5889
58GS20090528,        GIN,     333,          1,         21,20090702,       2202,    69.9960,    12.5760,       2790,     5.0,  10.1250,  34.9299,2,  34.8941,2,   296.0,2,    0.04,2,    0.00,2,    0.02,2,    0.03,2,-999.000,9,-999.000,9,-999.000000000,9,  -999.0,9,  -999.0,9,       0.58,2,       0.15,2,  10.1244
58GS20090528,        GIN,     334,          1,          1,20090703,       0325,    70.0130,    11.0080,       2890,  2880.0,  -0.8140,  34.9063,2,  34.9116,2,   294.6,2,   13.99,2,   15.03,2,    0.01,2,    1.02,2,-999.000,9,   0.317,2,   0.596822719,2,  2166.6,2,  -999.0,9,     -999.0,9,     -999.0,9,  -0.9707
58GS20090528,        GIN,     334,          1,          2,20090703,       0325,    70.0130,    11.0080,       2890,  2499.7,  -0.8110,  34.9066,2,  34.9117,2,   296.2,2,   12.83,2,   14.80,2,    0.00,2,    1.02,2,-999.000,9,   0.384,2,   0.497291466,2,  2163.3,2,  -999.0,9,     -999.0,9,     -999.0,9,  -0.9390
58GS20090528,        GIN,     334,          1,          3,20090703,       0325,    70.0130,    11.0080,       2890,  1999.7,  -0.7770,  34.9054,2,-999.0000,9,   296.6,2,   12.02,2,   14.68,2,    0.00,2,    1.01,2,-999.000,9,   0.544,2,    1.53722648,2,  2163.6,2,  -999.0,9,     -999.0,9,     -999.0,9,  -0.8713
58GS20090528,        GIN,     334,          1,          4,20090703,       0325,    70.0130,    11.0080,       2890,  1499.5,  -0.6600,  34.8999,2,  34.9053,2,   299.6,2,   10.33,2,   14.28,2,    0.00,2,    1.01,2,-999.000,9,   1.120,2,    1.63827068,2,  2165.6,2,  -999.0,9,     -999.0,9,     -999.0,9,  -0.7255
58GS20090528,        GIN,     334,          1,          5,20090703,       0325,    70.0130,    11.0080,       2890,  1199.0,  -0.4730,  34.8944,2,  34.9024,2,   302.6,2,    8.80,2,   13.96,2,    0.01,2,    1.00,2,-999.000,9,   1.704,2,    2.70072967,2,  2167.1,2,  -999.0,9,     -999.0,9,     -999.0,9,  -0.5240
58GS20090528,        GIN,     334,          1,          6,20090703,       0325,    70.0130,    11.0080,       2890,   999.3,  -0.2020,  34.8927,2,-999.0000,9,   304.6,2,    7.72,2,   13.58,2,    0.02,2,    0.93,2,-999.000,9,   2.167,2,    2.80779605,2,  2167.8,2,  -999.0,9,     -999.0,9,     -999.0,9,  -0.2449
58GS20090528,        GIN,     334,          1,          7,20090703,       0325,    70.0130,    11.0080,       2890,   798.4,   0.4580,  34.9036,2,  34.9084,2,   305.8,2,    6.79,2,   13.49,2,    0.01,2,    0.95,2,-999.000,9,   2.565,2,    3.05679912,2,  2167.7,2,  -999.0,9,     -999.0,9,     -999.0,9,   0.4208
58GS20090528,        GIN,     334,          1,          8,20090703,       0325,    70.0130,    11.0080,       2890,   599.3,   3.5390,  35.0560,2,  35.0557,2,   299.7,2,    5.26,2,   12.19,2,    0.01,2,    0.84,2,-999.000,9,   2.688,2,    5.58543733,2,  2157.2,2,  -999.0,9,     -999.0,9,     -999.0,9,   3.4971
58GS20090528,        GIN,     334,          1,          9,20090703,       0325,    70.0130,    11.0080,       2890,   500.1,   4.5220,  35.1228,2,  35.1239,2,   300.3,2,    5.62,2,   11.50,2,    0.01,2,    0.79,2,-999.000,9,   2.649,2,    3.77296333,2,  2151.4,2,  -999.0,9,     -999.0,9,     -999.0,9,   4.4835
58GS20090528,        GIN,     334,          1,         10,20090703,       0325,    70.0130,    11.0080,       2890,   500.1,   4.5230,  35.1230,2,  35.1244,2,   300.4,2, -999.00,9, -999.00,9, -999.00,9, -999.00,9,-999.000,9,-999.000,9,-999.000000000,9,  -999.0,9,  -999.0,9,     -999.0,9,     -999.0,9,   4.4845
58GS20090528,        GIN,     334,          1,         11,20090703,       0325,    70.0130,    11.0080,       2890,   399.8,   4.8630,  35.1337,2,  35.1378,2,   298.8,2,    4.79,2,   11.54,2,    0.01,2,    0.78,2,-999.000,9,   2.577,2,    4.28291168,2,  2150.1,2,  -999.0,9,     -999.0,9,     -999.0,9,   4.8314
58GS20090528,        GIN,     334,          1,         12,20090703,       0325,    70.0130,    11.0080,       2890,   299.6,   5.4770,  35.1515,2,  35.1521,2,   294.0,2,    5.00,2,   11.64,2,    0.01,2,    0.79,2,-999.000,9,-999.000,9,-999.000000000,9,  2150.0,2,  -999.0,9,     -999.0,9,     -999.0,9,   5.4521
58GS20090528,        GIN,     334,          1,         13,20090703,       0325,    70.0130,    11.0080,       2890,   200.2,   6.1940,  35.1841,2,  35.1838,2,   288.1,2,    5.11,2,   11.92,2,    0.01,2,    0.80,2,-999.000,9,   2.459,2,    5.02726897,2,  2149.2,2,  -999.0,9,     -999.0,9,     -999.0,9,   6.1764
58GS20090528,        GIN,     334,          1,         14,20090703,       0325,    70.0130,    11.0080,       2890,   150.9,   6.7160,  35.2107,2,  35.2087,2,   283.8,2,    5.15,2,   12.06,2,    0.04,2,    0.81,2,-999.000,9,-999.000,9,-999.000000000,9,  2148.8,2,  -999.0,9,     -999.0,9,     -999.0,9,   6.7022
58GS20090528,        GIN,     334,          1,         15,20090703,       0325,    70.0130,    11.0080,       2890,   120.4,   7.0250,  35.2284,2,  35.2267,2,   281.3,2,    5.24,2,   12.11,2,    0.02,2,    0.81,2,-999.000,9,   2.340,2,     3.7599888,2,  2147.5,2,  -999.0,9,     -999.0,9,     -999.0,9,   7.0137
58GS20090528,        GIN,     334,          1,         16,20090703,       0325,    70.0130,    11.0080,       2890,    99.8,   7.2080,  35.2306,2,  35.2295,2,   281.9,2,    4.33,2,   10.56,2,    0.12,2,    0.75,2,-999.000,9,-999.000,9,-999.000000000,9,  2144.4,2,  -999.0,9,       0.04,2,       0.23,2,   7.1985
58GS20090528,        GIN,     334,          1,         17,20090703,       0325,    70.0130,    11.0080,       2890,    75.8,   7.3920,  35.2432,2,  35.2423,2,   278.5,2,    4.66,2,   11.39,2,    0.12,2,    0.78,2,-999.000,9,   2.340,2,    3.40780184,2,  2145.7,2,  -999.0,9,       0.06,2,       0.25,2,   7.3847
58GS20090528,        GIN,     334,          1,         18,20090703,       0325,    70.0130,    11.0080,       2890,    49.6,   7.5730,  35.2215,2,  35.2209,2,   283.6,2,    2.73,2,    7.92,2,    0.17,2,    0.63,2,-999.000,9,   2.352,2,     3.7741368,2,  2132.9,2,  -999.0,9,       0.04,2,       0.10,2,   7.5682
58GS20090528,        GIN,     334,          1,         19,20090703,       0325,    70.0130,    11.0080,       2890,    29.2,   8.5850,  35.2502,2,  35.2336,2,   288.9,2,    1.49,2,    5.27,2,    0.18,2,    0.45,2,-999.000,9,   2.295,2,    3.73973129,2,  2118.5,2,  -999.0,9,       0.52,2,       0.26,2,   8.5819
58GS20090528,        GIN,     334,          1,         20,20090703,       0325,    70.0130,    11.0080,       2890,     9.0,   9.8440,  35.0889,2,  35.1154,2,   304.7,2,    0.11,2,    0.87,2,    0.06,2,    0.07,2,-999.000,9,   2.150,2,    1.96400214,2,  2077.4,2,  -999.0,9,       1.07,2,       0.30,2,   9.8430
58GS20090528,        GIN,     334,          1,         21,20090703,       0325,    70.0130,    11.0080,       2890,     4.8,   9.9040,  35.0842,2,  35.0802,2,   301.3,2,    0.09,2,    0.70,2,    0.06,2,    0.06,2,-999.000,9,-999.000,9,-999.000000000,9,  2076.3,2,  -999.0,9,       1.12,2,       0.31,2,   9.9034