BOTTLE,20150327CCHSIORJL
EXPOCODE,SECT_ID,STNNBR,CASTNO,BTLNBR,DATE,TIME,LATITUDE,LONGITUDE,DEPTH,CTDPRS,CTDTMP,CTDSAL,CTDSAL_FLAG_W,SALNTY,SALNTY_FLAG_W,OXYGEN,OXYGEN_FLAG_W,SILCAT,SILCAT_FLAG_W,NITRAT,NITRAT_FLAG_W,NITRIT,NITRIT_FLAG_W,PHSPHT,PHSPHT_FLAG_W,CFC-11,CFC-11_FLAG_W,CFC-12,CFC-12_FLAG_W,SF6,SF6_FLAG_W,TCARBN,TCARBN_FLAG_W,ALKALI,ALKALI_FLAG_W,CHLORA,CHLORA_FLAG_W,PPHYTN,PPHYTN_FLAG_W,THETA
,,,,,,,,,METERS,DBAR,ITS-90,PSS-78,,PSS-78,,UMOL/KG,,UMOL/KG,,UMOL/KG,,UMOL/KG,,UMOL/KG,,PMOL/KG,,PMOL/KG,,FMOL/KG,,UMOL/KG,,UMOL/KG,,MG/M^3,,MG/M^3,,DEG C
58GS20090528,        GIN,     244,          1,          1,20090608,       1704,    74.5000,     5.0010,       3372,  3081.1,  -0.7930,  34.9120,2,  34.9112,2,   298.5,2,   12.57,2,   14.71,2,    0.02,2,    1.01,2,-999.000,9,-999.000,9,-999.000000000,9,  2156.5,2,  2298.6,2,     -999.0,9,     -999.0,9,  -0.9663
58GS20090528,        GIN,     244,          1,          2,20090608,       1704,    74.5000,     5.0010,       3372,  2500.6,  -0.8190,  34.9120,2,  34.9131,2,   298.1,2,   12.39,2,   14.64,2,    0.01,2,    1.00,2,-999.000,9,-999.000,9,-999.000000000,9,  2154.2,2,  2309.8,2,     -999.0,9,     -999.0,9,  -0.9469
58GS20090528,        GIN,     244,          1,          3,20090608,       1704,    74.5000,     5.0010,       3372,  2000.6,  -0.7710,  34.9110,2,  34.9046,2,   298.3,2,   11.48,2,   14.39,2,    0.01,2,    0.98,2,-999.000,9,-999.000,9,-999.000000000,9,  2155.5,2,  2307.9,2,     -999.0,9,     -999.0,9,  -0.8655
58GS20090528,        GIN,     244,          1,          4,20090608,       1704,    74.5000,     5.0010,       3372,  1500.1,  -0.6800,  34.9010,2,  34.9005,2,   307.3,2,    9.36,2,   13.86,2,    0.01,2,    0.95,2,-999.000,9,-999.000,9,-999.000000000,9,  2159.2,2,  2309.3,2,     -999.0,9,     -999.0,9,  -0.7453
58GS20090528,        GIN,     244,          1,          5,20090608,       1704,    74.5000,     5.0010,       3372,  1200.1,  -0.6090,  34.8990,2,  34.8965,2,  -999.0,9,    7.19,2,   12.94,2,    0.01,2,    0.89,2,-999.000,9,-999.000,9,-999.000000000,9,  -999.0,9,  -999.0,9,     -999.0,9,     -999.0,9,  -0.6587
58GS20090528,        GIN,     244,          1,          6,20090608,       1704,    74.5000,     5.0010,       3372,  1000.5,  -0.6200,  34.8954,2,  34.8892,2,   331.5,2,    6.61,2,   12.52,2,    0.01,2,    0.85,2,-999.000,9,-999.000,9,-999.000000000,9,  2158.5,2,  2307.4,2,     -999.0,9,     -999.0,9,  -0.6596
58GS20090528,        GIN,     244,          1,          7,20090608,       1704,    74.5000,     5.0010,       3372,   800.3,  -0.5910,  34.8958,2,  34.8905,2,   328.9,2,    6.69,2,   12.60,2,    0.01,2,    0.86,2,-999.000,9,-999.000,9,-999.000000000,9,  2160.6,2,  2305.6,2,     -999.0,9,     -999.0,9,  -0.6214
58GS20090528,        GIN,     244,          1,          8,20090608,       1704,    74.5000,     5.0010,       3372,   600.1,  -0.5300,  34.8968,2,  34.8963,2,   325.6,2,    6.81,2,   12.73,2,    0.02,2,    0.89,2,-999.000,9,-999.000,9,-999.000000000,9,  2159.9,2,  2304.6,2,     -999.0,9,     -999.0,9,  -0.5520
58GS20090528,        GIN,     244,          1,          9,20090608,       1704,    74.5000,     5.0010,       3372,   499.4,  -0.5150,  34.8951,2,  34.8974,2,   325.6,2,    6.70,2,   12.65,2,    0.02,2,    0.90,2,-999.000,9,-999.000,9,-999.000000000,9,  2158.0,2,  2305.8,2,     -999.0,9,     -999.0,9,  -0.5329
58GS20090528,        GIN,     244,          1,         10,20090608,       1704,    74.5000,     5.0010,       3372,   399.1,  -0.3710,  34.9005,2,  34.9026,2,   322.0,2,    6.79,2,   12.72,2,    0.02,2,    0.89,2,-999.000,9,-999.000,9,-999.000000000,9,  2159.3,2,  2305.1,2,     -999.0,9,     -999.0,9,  -0.3854
58GS20090528,        GIN,     244,          1,         11,20090608,       1704,    74.5000,     5.0010,       3372,   299.4,  -0.4750,  34.8869,2,  34.8885,2,   328.2,2,    6.37,2,   12.27,2,    0.03,2,    0.85,2,-999.000,9,-999.000,9,-999.000000000,9,  2171.8,3,  2305.2,2,     -999.0,9,     -999.0,9,  -0.4853
58GS20090528,        GIN,     244,          1,         12,20090608,       1704,    74.5000,     5.0010,       3372,   199.2,  -0.4730,  34.8794,2,  34.8776,2,   327.7,2,    6.38,2,   12.23,2,    0.04,2,    0.85,2,-999.000,9,-999.000,9,-999.000000000,9,  2156.4,2,  2307.0,2,     -999.0,9,     -999.0,9,  -0.4796
58GS20090528,        GIN,     244,          1,         13,20090608,       1704,    74.5000,     5.0010,       3372,   149.5,  -0.6690,  34.8610,2,  34.8595,2,   340.7,2,    5.78,2,   11.39,2,    0.07,2,    0.81,2,-999.000,9,-999.000,9,-999.000000000,9,  2155.4,2,  2305.3,2,     -999.0,9,     -999.0,9,  -0.6737
58GS20090528,        GIN,     244,          1,         14,20090608,       1704,    74.5000,     5.0010,       3372,   100.0,  -0.4370,  34.8651,2,  34.8659,2,   338.2,2,    5.68,2,   11.51,2,    0.09,2,    0.81,2,-999.000,9,-999.000,9,-999.000000000,9,  2162.9,2,  2306.6,2,       0.04,2,       0.09,2,  -0.4403
58GS20090528,        GIN,     244,          1,         15,20090608,       1704,    74.5000,     5.0010,       3372,    74.8,  -0.3690,  34.8607,2,  34.8521,2,   347.0,2,    5.14,2,   10.70,2,    0.07,2,    0.78,2,-999.000,9,-999.000,9,-999.000000000,9,  2161.9,2,  2305.2,2,       0.18,2,       0.23,2,  -0.3715
58GS20090528,        GIN,     244,          1,         16,20090608,       1704,    74.5000,     5.0010,       3372,    51.1,  -0.3820,  34.8466,2,  34.8443,2,   357.8,2,    4.33,2,    9.43,2,    0.05,2,    0.70,2,-999.000,9,-999.000,9,-999.000000000,9,  2158.4,2,  2306.7,2,       0.32,2,       0.71,2,  -0.3837
58GS20090528,        GIN,     244,          1,         17,20090608,       1704,    74.5000,     5.0010,       3372,    30.2,   0.6540,  34.8626,2,  34.8597,2,   356.2,2,    4.53,2,    8.08,2,    0.06,2,    0.61,2,-999.000,9,-999.000,9,-999.000000000,9,  2146.0,2,  2306.6,2,       0.49,2,       0.60,2,   0.6528
58GS20090528,        GIN,     244,          1,         18,20090608,       1704,    74.5000,     5.0010,       3372,    19.8,   0.9540,  34.8631,2,  34.8605,2,  -999.0,9,    4.56,2,    7.95,2,    0.07,2,    0.61,2,-999.000,9,-999.000,9,-999.000000000,9,  -999.0,9,  -999.0,9,       0.48,2,       0.44,2,   0.9531
58GS20090528,        GIN,     244,          1,         19,20090608,       1704,    74.5000,     5.0010,       3372,    19.8,   1.3500,  34.8583,2,  34.9319,2,  -999.0,9, -999.00,9, -999.00,9, -999.00,9, -999.00,9,-999.000,9,-999.000,9,-999.000000000,9,  -999.0,9,  -999.0,9,     -999.0,9,     -999.0,9,   1.3491
58GS20090528,        GIN,     244,          1,         20,20090608,       1704,    74.5000,     5.0010,       3372,     9.7,   2.6130,  34.9111,2,-999.0000,9,  -999.0,9,    4.48,2,    7.60,2,    0.07,2,    0.59,2,-999.000,9,-999.000,9,-999.000000000,9,  -999.0,9,  -999.0,9,       0.94,2,       0.59,2,   2.6124
58GS20090528,        GIN,     244,          1,         21,20090608,       1704,    74.5000,     5.0010,       3372,     4.4,   2.8110,  34.9378,2,-999.0000,9,   353.2,2,    4.31,2,    6.04,2,    0.07,2,    0.50,2,-999.000,9,-999.000,9,-999.000000000,9,  -999.0,9,  -999.0,9,       2.28,2,       0.78,2,   2.8107
58GS20090528,        GIN,     244,          1,         22,20090608,       1704,    74.5000,     5.0010,       3372,     4.5,   2.8340,  34.9392,2,-999.0000,9,  -999.0,9, -999.00,9, -999.00,9, -999.00,9, -999.00,9,-999.000,9,-999.000,9,-999.000000000,9,  2129.6,2,  2312.1,2,     -999.0,9,     -999.0,9,   2.8337
58GS20090528,        GIN,     245,          1,          1,20090609,       0123,    74.5000,     6.0000,       3437,  2650.8,  -0.8050,  34.9113,2,  34.9139,2,   298.3,2,   12.43,2,   14.70,2,    0.01,2,    1.00,2,-999.000,9,-999.000,9,-999.000000000,9,  2162.0,2,  2307.7,2,     -999.0,9,     -999.0,9,  -0.9443
58GS20090528,        GIN,     245,          1,          2,20090609,       0123,    74.5000,     6.0000,       3437,  2498.7,  -0.8070,  34.9113,2,  34.9129,2,   298.3,2,   12.36,2,   14.67,2,    0.01,2,    1.00,2,-999.000,9,-999.000,9,-999.000000000,9,  2159.0,2,  2310.3,2,     -999.0,9,     -999.0,9,  -0.9350
58GS20090528,        GIN,     245,          1,          3,20090609,       0123,    74.5000,     6.0000,       3437,  1999.2,  -0.7930,  34.9090,2,  34.9126,2,   297.8,2,   11.98,2,   14.65,2,    0.01,2,    1.00,2,-999.000,9,-999.000,9,-999.000000000,9,  2160.2,2,  2308.9,2,     -999.0,9,     -999.0,9,  -0.8871
58GS20090528,        GIN,     245,          1,          4,20090609,       0123,    74.5000,     6.0000,       3437,  1500.4,  -0.7130,  34.9039,2,  34.9092,2,   301.7,2,   10.42,2,   14.22,2,    0.01,2,    0.98,2,-999.000,9,-999.000,9,-999.000000000,9,  2163.9,2,  2305.6,2,     -999.0,9,     -999.0,9,  -0.7780
58GS20090528,        GIN,     245,          1,          5,20090609,       0123,    74.5000,     6.0000,       3437,  1200.3,  -0.6180,  34.8986,2,  34.9010,2,  -999.0,9,    7.65,2,   13.05,2,    0.01,2,    0.89,2,-999.000,9,-999.000,9,-999.000000000,9,  -999.0,9,  -999.0,9,     -999.0,9,     -999.0,9,  -0.6677
58GS20090528,        GIN,     245,          1,          6,20090609,       0123,    74.5000,     6.0000,       3437,   999.8,  -0.5910,  34.8968,2,  34.9019,2,   327.9,2,    6.91,2,   12.77,2,    0.01,2,    0.88,2,-999.000,9,-999.000,9,-999.000000000,9,  -999.0,9,  -999.0,9,     -999.0,9,     -999.0,9,  -0.6308
58GS20090528,        GIN,     245,          1,          7,20090609,       0123,    74.5000,     6.0000,       3437,   799.4,  -0.5520,  34.8968,2,  34.9022,2,   327.0,2,    6.81,2,   12.78,2,    0.01,2,    0.88,2,-999.000,9,-999.000,9,-999.000000000,9,  2160.4,2,  2306.7,2,     -999.0,9,     -999.0,9,  -0.5826
58GS20090528,        GIN,     245,          1,          8,20090609,       0123,    74.5000,     6.0000,       3437,   600.0,  -0.4790,  34.8968,2,  34.8985,2,   324.2,2,    6.80,2,   12.69,2,    0.01,2,    0.88,2,-999.000,9,-999.000,9,-999.000000000,9,  2160.7,2,  2309.0,2,     -999.0,9,     -999.0,9,  -0.5012
58GS20090528,        GIN,     245,          1,          9,20090609,       0123,    74.5000,     6.0000,       3437,   499.8,  -0.4740,  34.8927,2,  34.8975,2,   325.4,2,    6.69,2,   12.60,2,    0.01,2,    0.90,2,-999.000,9,-999.000,9,-999.000000000,9,  2160.4,2,  2301.5,2,     -999.0,9,     -999.0,9,  -0.4921
58GS20090528,        GIN,     245,          1,         10,20090609,       0123,    74.5000,     6.0000,       3437,   399.4,  -0.5060,  34.8849,2,  34.8884,2,   328.7,2,    6.41,2,   12.23,2,    0.02,2,    0.85,2,-999.000,9,-999.000,9,-999.000000000,9,  2161.6,2,  2303.7,2,     -999.0,9,     -999.0,9,  -0.5200
58GS20090528,        GIN,     245,          1,         11,20090609,       0123,    74.5000,     6.0000,       3437,   299.8,  -0.5970,  34.8713,2,  34.8722,2,   334.1,2,    6.14,2,   11.96,2,    0.06,2,    0.83,2,-999.000,9,-999.000,9,-999.000000000,9,  2160.0,2,  2290.3,3,     -999.0,9,     -999.0,9,  -0.6070
58GS20090528,        GIN,     245,          1,         12,20090609,       0123,    74.5000,     6.0000,       3437,   199.4,  -0.5530,  34.8647,2,  34.8662,2,   338.7,2,    5.82,2,   11.54,2,    0.09,2,    0.81,2,-999.000,9,-999.000,9,-999.000000000,9,  2160.3,2,  2288.6,3,     -999.0,9,     -999.0,9,  -0.5595
58GS20090528,        GIN,     245,          1,         13,20090609,       0123,    74.5000,     6.0000,       3437,   149.8,  -0.3250,  34.8720,2,  34.8650,2,   342.2,2,    5.51,2,   11.20,2,    0.09,2,    0.80,2,-999.000,9,-999.000,9,-999.000000000,9,  2158.5,2,  2288.1,3,     -999.0,9,     -999.0,9,  -0.3301
58GS20090528,        GIN,     245,          1,         14,20090609,       0123,    74.5000,     6.0000,       3437,    99.0,   0.1400,  34.8782,2,  34.8836,2,   339.2,2,    5.28,2,   10.87,2,    0.07,2,    0.78,2,-999.000,9,-999.000,9,-999.000000000,9,  2156.5,2,  2298.6,2,       0.16,2,       0.26,2,   0.1363
58GS20090528,        GIN,     245,          1,         15,20090609,       0123,    74.5000,     6.0000,       3437,    74.0,   0.3000,  34.8595,2,  34.8718,2,   348.7,2,    4.86,2,    9.79,2,    0.06,2,    0.72,2,-999.000,9,-999.000,9,-999.000000000,9,  2151.7,2,  2305.8,2,       0.28,2,       0.59,2,   0.2971
58GS20090528,        GIN,     245,          1,         16,20090609,       0123,    74.5000,     6.0000,       3437,    49.2,   1.3200,  34.8882,2,  34.8959,2,   345.4,2,    4.70,2,    9.11,2,    0.08,2,    0.68,2,-999.000,9,-999.000,9,-999.000000000,9,  2143.8,2,  2307.6,2,       0.33,2,       0.56,2,   1.3177
58GS20090528,        GIN,     245,          1,         17,20090609,       0123,    74.5000,     6.0000,       3437,    29.6,   1.7380,  34.8834,2,  34.8900,2,   348.6,2,    4.51,2,    8.11,2,    0.06,2,    0.62,2,-999.000,9,-999.000,9,-999.000000000,9,  2140.4,2,  2306.8,2,       0.63,2,       0.54,2,   1.7365
58GS20090528,        GIN,     245,          1,         18,20090609,       0123,    74.5000,     6.0000,       3437,    19.5,   2.3740,  34.9112,2,  34.8949,2,   349.8,2,    4.41,2,    7.64,2,    0.06,2,    0.60,2,-999.000,9,-999.000,9,-999.000000000,9,  2137.2,2,  2306.1,2,       1.00,2,       0.65,2,   2.3729
58GS20090528,        GIN,     245,          1,         19,20090609,       0123,    74.5000,     6.0000,       3437,    19.6,   2.5010,  34.9294,2,-999.0000,9,  -999.0,9, -999.00,9, -999.00,9, -999.00,9, -999.00,9,-999.000,9,-999.000,9,-999.000000000,9,  -999.0,9,  -999.0,9,     -999.0,9,     -999.0,9,   2.4999
58GS20090528,        GIN,     245,          1,         20,20090609,       0123,    74.5000,     6.0000,       3437,     8.7,   4.7570,  35.0734,2,  35.0781,2,  -999.0,9,    4.12,2,    4.80,2,    0.07,2,    0.44,2,-999.000,9,-999.000,9,-999.000000000,9,  -999.0,9,  -999.0,9,       1.15,2,       0.65,2,   4.7563
58GS20090528,        GIN,     245,          1,         21,20090609,       0123,    74.5000,     6.0000,       3437,     4.2,   4.7540,  35.0821,2,  35.0852,2,   334.6,2,    4.12,2,    4.71,2,    0.07,2,    0.39,2,-999.000,9,-999.000,9,-999.000000000,9,  2110.2,2,  2318.4,2,       1.32,2,       0.23,2,   4.7537
58GS20090528,        GIN,     245,          1,         22,20090609,       0123,    74.5000,     6.0000,       3437,     3.9,   4.7490,  35.0830,2,-999.0000,9,  -999.0,9, -999.00,9, -999.00,9, -999.00,9, -999.00,9,-999.000,9,-999.000,9,-999.000000000,9,  -999.0,9,  -999.0,9,     -999.0,9,     -999.0,9,   4.7487