BOTTLE,20150327CCHSIORJL
EXPOCODE,SECT_ID,STNNBR,CASTNO,BTLNBR,DATE,TIME,LATITUDE,LONGITUDE,DEPTH,CTDPRS,CTDTMP,CTDSAL,CTDSAL_FLAG_W,SALNTY,SALNTY_FLAG_W,OXYGEN,OXYGEN_FLAG_W,SILCAT,SILCAT_FLAG_W,NITRAT,NITRAT_FLAG_W,NITRIT,NITRIT_FLAG_W,PHSPHT,PHSPHT_FLAG_W,CFC-11,CFC-11_FLAG_W,CFC-12,CFC-12_FLAG_W,SF6,SF6_FLAG_W,TCARBN,TCARBN_FLAG_W,ALKALI,ALKALI_FLAG_W,CHLORA,CHLORA_FLAG_W,PPHYTN,PPHYTN_FLAG_W,THETA
,,,,,,,,,METERS,DBAR,ITS-90,PSS-78,,PSS-78,,UMOL/KG,,UMOL/KG,,UMOL/KG,,UMOL/KG,,UMOL/KG,,PMOL/KG,,PMOL/KG,,FMOL/KG,,UMOL/KG,,UMOL/KG,,MG/M^3,,MG/M^3,,DEG C
58GS20090528,        GIN,     294,          1,          1,20090621,       1050,    77.0000,    13.0020,        331,   320.9,   3.8800,  35.0511,2,-999.0000,9,   299.4,2,    5.29,2,   11.51,2,    0.12,2,    0.82,2,-999.000,9,   2.740,2,-999.000000000,9,  2152.3,2,  2311.4,2,     -999.0,9,     -999.0,9,   3.8574
58GS20090528,        GIN,     294,          1,          2,20090621,       1050,    77.0000,    13.0020,        331,   300.6,   4.0260,  35.0512,2,-999.0000,9,   298.8,2,    5.13,2,   11.43,2,    0.12,2,    0.81,2,-999.000,9,-999.000,9,-999.000000000,9,  2152.4,2,  2312.7,2,     -999.0,9,     -999.0,9,   4.0045
58GS20090528,        GIN,     294,          1,          3,20090621,       1050,    77.0000,    13.0020,        331,   200.8,   4.4830,  35.0653,2,-999.0000,9,   297.6,2,    4.67,2,   10.73,2,    0.14,2,    0.78,2,-999.000,9,   2.804,2,-999.000000000,9,  2148.9,2,  2314.5,2,     -999.0,9,     -999.0,9,   4.4681
58GS20090528,        GIN,     294,          1,          4,20090621,       1050,    77.0000,    13.0020,        331,   150.2,   4.9200,  35.0935,2,-999.0000,9,   298.0,2,    4.48,2,   10.55,2,    0.13,2,    0.76,2,-999.000,9,   2.734,2,-999.000000000,9,  2148.5,2,  2317.0,2,     -999.0,9,     -999.0,9,   4.9084
58GS20090528,        GIN,     294,          1,          5,20090621,       1050,    77.0000,    13.0020,        331,   125.1,   5.0390,  35.1001,2,-999.0000,9,  -999.0,9,    4.36,2,   10.34,2,    0.13,2,    0.76,2,-999.000,9,-999.000,9,-999.000000000,9,  -999.0,9,  -999.0,9,     -999.0,9,     -999.0,9,   5.0292
58GS20090528,        GIN,     294,          1,          6,20090621,       1050,    77.0000,    13.0020,        331,    99.9,   4.9990,  35.0746,2,-999.0000,9,   301.4,2,    3.46,2,    9.34,2,    0.15,2,    0.76,2,-999.000,9,   2.781,2,-999.000000000,9,  2140.7,2,  2313.9,2,       0.27,2,       0.28,2,   4.9912
58GS20090528,        GIN,     294,          1,          7,20090621,       1050,    77.0000,    13.0020,        331,   100.0,   4.9030,  35.0545,2,-999.0000,9,  -999.0,9, -999.00,9, -999.00,9, -999.00,9, -999.00,9,-999.000,9,-999.000,9,-999.000000000,9,  -999.0,9,  -999.0,9,     -999.0,9,     -999.0,9,   4.8953
58GS20090528,        GIN,     294,          1,          8,20090621,       1050,    77.0000,    13.0020,        331,    74.7,   5.2050,  35.0653,2,-999.0000,9,   302.9,2,    3.02,2,    8.65,2,    0.14,2,    0.68,2,-999.000,9,   2.744,2,-999.000000000,9,  2135.8,2,  2316.5,2,       0.19,2,       0.04,2,   5.1991
58GS20090528,        GIN,     294,          1,          9,20090621,       1050,    77.0000,    13.0020,        331,    75.0,   5.2570,  35.0580,2,-999.0000,9,  -999.0,9, -999.00,9, -999.00,9, -999.00,9, -999.00,9,-999.000,9,-999.000,9,-999.000000000,9,  -999.0,9,  -999.0,9,     -999.0,9,     -999.0,9,   5.2510
58GS20090528,        GIN,     294,          1,         10,20090621,       1050,    77.0000,    13.0020,        331,    50.3,   4.8290,  34.9664,2,-999.0000,9,   322.6,2,    1.31,2,    5.39,2,    0.12,2,    0.50,2,-999.000,9,   2.864,2,-999.000000000,9,  2114.0,2,  2311.5,2,       0.91,2,       0.56,2,   4.8252
58GS20090528,        GIN,     294,          1,         11,20090621,       1050,    77.0000,    13.0020,        331,    50.5,   4.6280,  34.9122,2,-999.0000,9,  -999.0,9, -999.00,9, -999.00,9, -999.00,9, -999.00,9,-999.000,9,-999.000,9,-999.000000000,9,  -999.0,9,  -999.0,9,     -999.0,9,     -999.0,9,   4.6243
58GS20090528,        GIN,     294,          1,         12,20090621,       1050,    77.0000,    13.0020,        331,    30.0,   4.2140,  34.8152,2,-999.0000,9,  -999.0,9,    1.01,2,    3.35,2,    0.09,2,    0.32,2,-999.000,9,-999.000,9,-999.000000000,9,  -999.0,9,  -999.0,9,       2.51,2,       0.91,2,   4.2119
58GS20090528,        GIN,     294,          1,         13,20090621,       1050,    77.0000,    13.0020,        331,    30.0,   4.1680,  34.7874,2,-999.0000,9,   345.0,2, -999.00,9, -999.00,9, -999.00,9, -999.00,9,-999.000,9,   2.959,2,-999.000000000,9,  2088.5,2,  2304.0,2,     -999.0,9,     -999.0,9,   4.1659
58GS20090528,        GIN,     294,          1,         14,20090621,       1050,    77.0000,    13.0020,        331,    24.3,   4.7510,  34.8199,2,-999.0000,9,  -999.0,9,    0.96,2,    0.82,2,    0.04,2,    0.17,2,-999.000,9,-999.000,9,-999.000000000,9,  -999.0,9,  -999.0,9,       3.59,2,       0.95,2,   4.7492
58GS20090528,        GIN,     294,          1,         15,20090621,       1050,    77.0000,    13.0020,        331,    24.4,   4.7910,  34.8275,2,-999.0000,9,  -999.0,9, -999.00,9, -999.00,9, -999.00,9, -999.00,9,-999.000,9,-999.000,9,-999.000000000,9,  -999.0,9,  -999.0,9,     -999.0,9,     -999.0,9,   4.7892
58GS20090528,        GIN,     294,          1,         16,20090621,       1050,    77.0000,    13.0020,        331,    14.9,   4.7070,  34.7720,2,-999.0000,9,  -999.0,9,    0.74,2,    0.07,2,    0.01,2,    0.07,2,-999.000,9,-999.000,9,-999.000000000,9,  -999.0,9,  -999.0,9,       3.09,2,       0.77,2,   4.7059
58GS20090528,        GIN,     294,          1,         17,20090621,       1050,    77.0000,    13.0020,        331,    14.9,   4.6540,  34.7392,2,-999.0000,9,  -999.0,9, -999.00,9, -999.00,9, -999.00,9, -999.00,9,-999.000,9,-999.000,9,-999.000000000,9,  -999.0,9,  -999.0,9,     -999.0,9,     -999.0,9,   4.6529
58GS20090528,        GIN,     294,          1,         18,20090621,       1050,    77.0000,    13.0020,        331,    10.3,   4.6470,  34.7350,2,-999.0000,9,  -999.0,9,    0.57,2,    0.04,2,    0.02,2,    0.05,2,-999.000,9,-999.000,9,-999.000000000,9,  -999.0,9,  -999.0,9,       1.01,2,       0.33,2,   4.6462
58GS20090528,        GIN,     294,          1,         19,20090621,       1050,    77.0000,    13.0020,        331,    10.3,   4.5900,  34.7037,2,-999.0000,9,  -999.0,9, -999.00,9, -999.00,9, -999.00,9, -999.00,9,-999.000,9,-999.000,9,-999.000000000,9,  -999.0,9,  -999.0,9,     -999.0,9,     -999.0,9,   4.5892
58GS20090528,        GIN,     294,          1,         20,20090621,       1050,    77.0000,    13.0020,        331,     4.3,   4.5480,  34.6757,2,-999.0000,9,   363.8,2,    0.42,2,    0.04,2,    0.01,2,    0.05,2,-999.000,9,   3.033,6,-999.000000000,9,  2032.2,2,  2299.1,2,       0.58,2,       0.17,2,   4.5477
58GS20090528,        GIN,     294,          1,         21,20090621,       1050,    77.0000,    13.0020,        331,     4.1,   4.5490,  34.6759,2,-999.0000,9,  -999.0,9, -999.00,9, -999.00,9, -999.00,9, -999.00,9,-999.000,9,-999.000,9,-999.000000000,9,  -999.0,9,  -999.0,9,     -999.0,9,     -999.0,9,   4.5487
58GS20090528,        GIN,     295,          1,          1,20090621,       1302,    77.0000,    14.0020,         96,    85.5,   4.1320,  34.9739,2,  34.9681,2,   301.9,2,    3.81,2,    9.48,2,    0.14,2,    0.72,2,-999.000,9,   2.752,2,-999.000000000,9,  2143.7,2,  2310.2,2,       0.24,2,       0.28,2,   4.1260
58GS20090528,        GIN,     295,          1,          2,20090621,       1302,    77.0000,    14.0020,         96,    75.3,   4.0820,  34.9655,2,  34.9678,2,   302.0,2,    3.82,2,    9.51,2,    0.15,2,    0.72,2,-999.000,9,-999.000,9,-999.000000000,9,  2144.9,2,  2309.2,2,       0.12,2,       0.13,2,   4.0767
58GS20090528,        GIN,     295,          1,          3,20090621,       1302,    77.0000,    14.0020,         96,    74.9,   4.0160,  34.9536,2,  34.7525,2,  -999.0,9, -999.00,9, -999.00,9, -999.00,9, -999.00,9,-999.000,9,-999.000,9,-999.000000000,9,  -999.0,9,  -999.0,9,     -999.0,9,     -999.0,9,   4.0108
58GS20090528,        GIN,     295,          1,          4,20090621,       1302,    77.0000,    14.0020,         96,    50.0,   2.6100,  34.7366,2,  34.6464,2,   314.2,2,    2.38,2,    7.09,2,    0.15,2,    0.65,2,-999.000,9,-999.000,9,-999.000000000,9,  2135.3,2,  2299.3,2,       0.28,2,       0.32,2,   2.6071
58GS20090528,        GIN,     295,          1,          5,20090621,       1302,    77.0000,    14.0020,         96,    50.1,   2.6030,  34.7341,2,  34.5669,2,  -999.0,9, -999.00,9, -999.00,9, -999.00,9, -999.00,9,-999.000,9,-999.000,9,-999.000000000,9,  -999.0,9,  -999.0,9,     -999.0,9,     -999.0,9,   2.6001
58GS20090528,        GIN,     295,          1,          6,20090621,       1302,    77.0000,    14.0020,         96,    29.8,   2.3930,  34.5839,2,  34.5053,2,   339.4,2,    1.02,2,    4.45,2,    0.12,2,    0.44,2,-999.000,9,-999.000,9,-999.000000000,9,  2105.1,2,  2293.5,2,       0.96,2,       0.41,2,   2.3914
58GS20090528,        GIN,     295,          1,          7,20090621,       1302,    77.0000,    14.0020,         96,    29.9,   2.3900,  34.5813,2,  34.4675,2,  -999.0,9, -999.00,9, -999.00,9, -999.00,9, -999.00,9,-999.000,9,-999.000,9,-999.000000000,9,  -999.0,9,  -999.0,9,     -999.0,9,     -999.0,9,   2.3884
58GS20090528,        GIN,     295,          1,          8,20090621,       1302,    77.0000,    14.0020,         96,    24.6,   2.4030,  34.5527,2,  34.4266,2,  -999.0,9,    0.45,2,    2.69,2,    0.10,2,    0.29,2,-999.000,9,-999.000,9,-999.000000000,9,  -999.0,9,  -999.0,9,       2.73,2,       0.76,2,   2.4016
58GS20090528,        GIN,     295,          1,          9,20090621,       1302,    77.0000,    14.0020,         96,    24.8,   2.4100,  34.5454,2,-999.0000,9,  -999.0,9, -999.00,9, -999.00,9, -999.00,9, -999.00,9,-999.000,9,-999.000,9,-999.000000000,9,  -999.0,9,  -999.0,9,     -999.0,9,     -999.0,9,   2.4086
58GS20090528,        GIN,     295,          1,         10,20090621,       1302,    77.0000,    14.0020,         96,    14.9,   2.5200,  34.5032,2,-999.0000,9,  -999.0,9,    0.29,2,    1.01,2,    0.06,2,    0.14,2,-999.000,9,-999.000,9,-999.000000000,9,  -999.0,9,  -999.0,9,       3.41,2,       0.66,2,   2.5192
58GS20090528,        GIN,     295,          1,         11,20090621,       1302,    77.0000,    14.0020,         96,    15.1,   2.5380,  34.5012,2,-999.0000,9,  -999.0,9, -999.00,9, -999.00,9, -999.00,9, -999.00,9,-999.000,9,-999.000,9,-999.000000000,9,  -999.0,9,  -999.0,9,     -999.0,9,     -999.0,9,   2.5371
58GS20090528,        GIN,     295,          1,         12,20090621,       1302,    77.0000,    14.0020,         96,     9.8,   2.6360,  34.4744,2,-999.0000,9,  -999.0,9,    0.24,2,    0.46,2,    0.08,2,    0.08,2,-999.000,9,-999.000,9,-999.000000000,9,  -999.0,9,  -999.0,9,       2.66,2,       0.56,2,   2.6354
58GS20090528,        GIN,     295,          1,         13,20090621,       1302,    77.0000,    14.0020,         96,     9.9,   2.7240,  34.4477,2,-999.0000,9,  -999.0,9, -999.00,9, -999.00,9, -999.00,9, -999.00,9,-999.000,9,-999.000,9,-999.000000000,9,  -999.0,9,  -999.0,9,     -999.0,9,     -999.0,9,   2.7234
58GS20090528,        GIN,     295,          1,         14,20090621,       1302,    77.0000,    14.0020,         96,     4.8,   2.7580,  34.4293,2,-999.0000,9,   366.2,2,    0.33,2,    0.63,2,    0.06,2,    0.12,2,-999.000,9,-999.000,9,-999.000000000,9,  -999.0,9,  2281.7,2,       1.25,2,       0.32,2,   2.7577
58GS20090528,        GIN,     295,          1,         15,20090621,       1302,    77.0000,    14.0020,         96,     4.9,   2.7620,  34.4279,2,-999.0000,9,  -999.0,9, -999.00,9, -999.00,9, -999.00,9, -999.00,9,-999.000,9,-999.000,9,-999.000000000,9,  -999.0,9,  -999.0,9,     -999.0,9,     -999.0,9,   2.7617
58GS20090528,        GIN,     296,          1,          1,20090621,       2254,    78.0010,     8.0000,       2440,  2429.7,  -0.7900,  34.9081,2,  34.9092,2,   296.2,2,   12.94,2,   14.99,2,    0.01,2,    1.01,2,-999.000,9,-999.000,9,-999.000000000,9,  2162.0,2,  2305.8,2,     -999.0,9,     -999.0,9,  -0.9134
58GS20090528,        GIN,     296,          1,          2,20090621,       2254,    78.0010,     8.0000,       2440,  2000.2,  -0.7900,  34.9069,2,  34.9087,2,  -999.0,9,   12.29,2,   14.74,2,    0.01,2,    1.01,2,-999.000,9,-999.000,9,-999.000000000,9,  2164.1,2,  2304.2,2,     -999.0,9,     -999.0,9,  -0.8842
58GS20090528,        GIN,     296,          1,          3,20090621,       2254,    78.0010,     8.0000,       2440,  1501.0,  -0.6980,  34.9019,2,  34.9054,2,   300.8,2,   10.71,2,   14.45,2,    0.01,2,    1.00,2,-999.000,9,-999.000,9,-999.000000000,9,  2161.9,2,  2302.9,2,     -999.0,9,     -999.0,9,  -0.7632
58GS20090528,        GIN,     296,          1,          4,20090621,       2254,    78.0010,     8.0000,       2440,  1199.8,  -0.5680,  34.8968,2,  34.9017,2,  -999.0,9,    8.51,2,   13.71,2,    0.01,2,    0.95,2,-999.000,9,-999.000,9,-999.000000000,9,  2164.6,2,  2303.7,2,     -999.0,9,     -999.0,9,  -0.6181
58GS20090528,        GIN,     296,          1,          5,20090621,       2254,    78.0010,     8.0000,       2440,  1000.6,  -0.4210,  34.8989,2,  34.9018,2,   315.6,2,    7.70,2,   13.37,2,    0.01,2,    0.94,2,-999.000,9,-999.000,9,-999.000000000,9,  2163.5,2,  2301.4,2,     -999.0,9,     -999.0,9,  -0.4622
58GS20090528,        GIN,     296,          1,          6,20090621,       2254,    78.0010,     8.0000,       2440,   800.4,  -0.0390,  34.9160,2,  34.9223,2,  -999.0,9,    6.99,2,   12.85,2,    0.01,2,    0.90,2,-999.000,9,-999.000,9,-999.000000000,9,  2163.2,2,  2303.4,2,     -999.0,9,     -999.0,9,  -0.0731
58GS20090528,        GIN,     296,          1,          7,20090621,       2254,    78.0010,     8.0000,       2440,   600.3,   0.3670,  34.9260,2,  34.9068,2,  -999.0,9,    6.48,2,   12.81,2,    0.01,2,    0.89,2,-999.000,9,-999.000,9,-999.000000000,9,  2161.6,2,  2302.7,2,     -999.0,9,     -999.0,9,   0.3405
58GS20090528,        GIN,     296,          1,          8,20090621,       2254,    78.0010,     8.0000,       2440,   500.2,   0.8040,  34.9432,2,  34.9469,2,   319.3,2,    6.17,2,   12.57,2,    0.03,2,    0.87,2,-999.000,9,-999.000,9,-999.000000000,9,  2162.5,2,  2305.7,2,     -999.0,9,     -999.0,9,   0.7805
58GS20090528,        GIN,     296,          1,          9,20090621,       2254,    78.0010,     8.0000,       2440,   399.8,   1.7130,  34.9992,2,  34.9987,2,  -999.0,9,    5.72,2,   12.47,2,    0.02,2,    0.85,2,-999.000,9,-999.000,9,-999.000000000,9,  2157.9,2,  2308.1,2,     -999.0,9,     -999.0,9,   1.6916
58GS20090528,        GIN,     296,          1,         10,20090621,       2254,    78.0010,     8.0000,       2440,   300.4,   2.5510,  35.0472,2,  35.0480,2,   312.2,2,    5.10,2,   11.95,2,    0.01,2,    0.82,2,-999.000,9,-999.000,9,-999.000000000,9,  2156.3,2,  2312.1,2,     -999.0,9,     -999.0,9,   2.5331
58GS20090528,        GIN,     296,          1,         11,20090621,       2254,    78.0010,     8.0000,       2440,   200.9,   3.0750,  35.0744,2,  35.0768,2,  -999.0,9,    4.94,2,   11.48,2,    0.08,2,    0.79,2,-999.000,9,-999.000,9,-999.000000000,9,  2154.2,2,  2316.3,2,     -999.0,9,     -999.0,9,   3.0623
58GS20090528,        GIN,     296,          1,         12,20090621,       2254,    78.0010,     8.0000,       2440,   150.0,   3.4540,  35.0822,2,  35.0817,2,  -999.0,9,    4.86,2,   10.45,2,    0.18,2,    0.75,2,-999.000,9,-999.000,9,-999.000000000,9,  2149.6,2,  2314.6,2,     -999.0,9,     -999.0,9,   3.4441
58GS20090528,        GIN,     296,          1,         13,20090621,       2254,    78.0010,     8.0000,       2440,   124.4,   3.6580,  35.0875,2,  35.0860,2,  -999.0,9,    4.85,2,   10.69,2,    0.15,2,    0.77,2,-999.000,9,-999.000,9,-999.000000000,9,  2148.2,2,  2315.9,2,     -999.0,9,     -999.0,9,   3.6496
58GS20090528,        GIN,     296,          1,         14,20090621,       2254,    78.0010,     8.0000,       2440,   100.2,   3.7490,  35.0730,2,  35.0721,2,   307.4,2,    4.84,2,   11.14,2,    0.09,2,    0.76,2,-999.000,9,-999.000,9,-999.000000000,9,  2149.0,2,  2315.2,2,       0.03,2,       0.15,2,   3.7422
58GS20090528,        GIN,     296,          1,         15,20090621,       2254,    78.0010,     8.0000,       2440,    74.5,   4.2020,  35.1005,2,  35.1047,2,  -999.0,9,    4.40,2,    8.94,2,    0.13,2,    0.68,2,-999.000,9,-999.000,9,-999.000000000,9,  2142.6,2,  2321.1,2,       0.17,2,       0.18,2,   4.1967
58GS20090528,        GIN,     296,          1,         16,20090621,       2254,    78.0010,     8.0000,       2440,    50.1,   5.0050,  35.1182,2,  35.1237,2,  -999.0,9,    4.10,2,    5.83,2,    0.09,2,    0.52,2,-999.000,9,-999.000,9,-999.000000000,9,  2124.7,2,  2326.2,2,       0.60,2,       0.34,2,   5.0011
58GS20090528,        GIN,     296,          1,         17,20090621,       2254,    78.0010,     8.0000,       2440,    30.0,   5.1620,  35.1238,2,  35.1261,2,  -999.0,9,    4.02,2,    5.42,2,    0.08,2,    0.47,2,-999.000,9,-999.000,9,-999.000000000,9,  -999.0,9,  -999.0,9,       1.13,2,       0.42,2,   5.1596
58GS20090528,        GIN,     296,          1,         18,20090621,       2254,    78.0010,     8.0000,       2440,    24.8,   5.3210,  35.1080,2,  35.1102,2,   324.6,2,    3.83,2,    5.19,2,    0.09,2,    0.44,2,-999.000,9,-999.000,9,-999.000000000,9,  2116.8,2,  -999.0,9,       1.53,2,       0.36,2,   5.3190
58GS20090528,        GIN,     296,          1,         19,20090621,       2254,    78.0010,     8.0000,       2440,    24.9,   5.3200,  35.1077,2,-999.0000,9,  -999.0,9, -999.00,9, -999.00,9, -999.00,9, -999.00,9,-999.000,9,-999.000,9,-999.000000000,9,  -999.0,9,  -999.0,9,     -999.0,9,     -999.0,9,   5.3180
58GS20090528,        GIN,     296,          1,         20,20090621,       2254,    78.0010,     8.0000,       2440,    14.7,   5.3210,  35.1077,2,  35.1068,2,  -999.0,9,    3.82,2,    5.15,2,    0.09,2,    0.44,2,-999.000,9,-999.000,9,-999.000000000,9,  -999.0,9,  -999.0,9,       1.49,2,       0.32,2,   5.3198
58GS20090528,        GIN,     296,          1,         21,20090621,       2254,    78.0010,     8.0000,       2440,     9.7,   5.3250,  35.1073,2,  35.1064,2,  -999.0,9,    3.84,2,    5.14,2,    0.10,2,    0.44,2,-999.000,9,-999.000,9,-999.000000000,9,  -999.0,9,  -999.0,9,       1.50,2,       0.28,2,   5.3242
58GS20090528,        GIN,     296,          1,         22,20090621,       2254,    78.0010,     8.0000,       2440,     9.9,   5.3240,  35.1074,2,-999.0000,9,  -999.0,9, -999.00,9, -999.00,9, -999.00,9, -999.00,9,-999.000,9,-999.000,9,-999.000000000,9,  -999.0,9,  -999.0,9,     -999.0,9,     -999.0,9,   5.3232
58GS20090528,        GIN,     296,          1,         23,20090621,       2254,    78.0010,     8.0000,       2440,     3.7,   5.3220,  35.1076,2,  35.1045,2,   325.6,2,    3.78,2,    5.13,2,    0.09,2,    0.44,2,-999.000,9,-999.000,9,-999.000000000,9,  2117.3,2,  2330.5,2,       1.62,2,       0.30,2,   5.3217
58GS20090528,        GIN,     296,          1,         24,20090621,       2254,    78.0010,     8.0000,       2440,     3.8,   5.3220,  35.1076,2,-999.0000,9,  -999.0,9, -999.00,9, -999.00,9, -999.00,9, -999.00,9,-999.000,9,-999.000,9,-999.000000000,9,  -999.0,9,  -999.0,9,     -999.0,9,     -999.0,9,   5.3217