BOTTLE,20150327CCHSIORJL
EXPOCODE,SECT_ID,STNNBR,CASTNO,BTLNBR,DATE,TIME,LATITUDE,LONGITUDE,DEPTH,CTDPRS,CTDTMP,CTDSAL,CTDSAL_FLAG_W,SALNTY,SALNTY_FLAG_W,OXYGEN,OXYGEN_FLAG_W,SILCAT,SILCAT_FLAG_W,NITRAT,NITRAT_FLAG_W,NITRIT,NITRIT_FLAG_W,PHSPHT,PHSPHT_FLAG_W,CFC-11,CFC-11_FLAG_W,CFC-12,CFC-12_FLAG_W,SF6,SF6_FLAG_W,TCARBN,TCARBN_FLAG_W,ALKALI,ALKALI_FLAG_W,CHLORA,CHLORA_FLAG_W,PPHYTN,PPHYTN_FLAG_W,THETA
,,,,,,,,,METERS,DBAR,ITS-90,PSS-78,,PSS-78,,UMOL/KG,,UMOL/KG,,UMOL/KG,,UMOL/KG,,UMOL/KG,,PMOL/KG,,PMOL/KG,,FMOL/KG,,UMOL/KG,,UMOL/KG,,MG/M^3,,MG/M^3,,DEG C
58GS20090528,        GIN,     230,          1,          1,20090604,       1848,    73.4170,    -1.5820,       3132,  2849.8,  -0.8360,  34.9099,2,  34.9073,2,   298.7,2,   12.77,2,   14.53,2,    0.01,2,    1.01,2,-999.000,9,-999.000,9,-999.000000000,9,  2159.3,2,  -999.0,9,     -999.0,9,     -999.0,9,  -0.9898
58GS20090528,        GIN,     230,          1,          2,20090604,       1848,    73.4170,    -1.5820,       3132,  2499.5,  -0.8470,  34.9104,2,  34.9062,2,   298.6,2,   12.55,2,   14.52,2,    0.01,2,    1.01,2,-999.000,9,-999.000,9,-999.000000000,9,  2159.4,2,  -999.0,9,     -999.0,9,     -999.0,9,  -0.9743
58GS20090528,        GIN,     230,          1,          3,20090604,       1848,    73.4170,    -1.5820,       3132,  2000.3,  -0.8000,  34.9103,2,  34.9076,2,   298.2,2,   11.85,2,   14.46,2,    0.01,2,    1.01,2,-999.000,9,-999.000,9,-999.000000000,9,  2160.4,2,  -999.0,9,     -999.0,9,     -999.0,9,  -0.8940
58GS20090528,        GIN,     230,          1,          4,20090604,       1848,    73.4170,    -1.5820,       3132,  1500.8,  -0.7070,  34.9038,2,  34.8943,2,   303.7,2,   10.07,2,   14.00,2,    0.01,2,    0.99,2,-999.000,9,-999.000,9,-999.000000000,9,  2161.5,2,  -999.0,9,     -999.0,9,     -999.0,9,  -0.7720
58GS20090528,        GIN,     230,          1,          5,20090604,       1848,    73.4170,    -1.5820,       3132,  1200.4,  -0.6450,  34.8977,2,  34.8800,2,   324.6,2,    7.47,2,   12.89,2,    0.01,2,    0.91,2,-999.000,9,-999.000,9,-999.000000000,9,  2162.4,2,  -999.0,9,     -999.0,9,     -999.0,9,  -0.6944
58GS20090528,        GIN,     230,          1,          6,20090604,       1848,    73.4170,    -1.5820,       3132,  1002.6,  -0.6280,  34.8974,2,  34.8927,2,   329.6,2,    6.89,2,   12.51,2,    0.01,2,    0.88,2,-999.000,9,-999.000,9,-999.000000000,9,  2163.5,2,  -999.0,9,     -999.0,9,     -999.0,9,  -0.6676
58GS20090528,        GIN,     230,          1,          7,20090604,       1848,    73.4170,    -1.5820,       3132,   800.0,  -0.6090,  34.8966,2,  34.8918,2,   328.0,2,    6.94,2,   12.59,2,    0.01,2,    0.89,2,-999.000,9,-999.000,9,-999.000000000,9,  2163.8,2,  -999.0,9,     -999.0,9,     -999.0,9,  -0.6392
58GS20090528,        GIN,     230,          1,          8,20090604,       1848,    73.4170,    -1.5820,       3132,   601.3,  -0.5910,  34.8945,2,  34.8901,2,   329.2,2,    6.76,2,   12.58,2,    0.01,2,    0.89,2,-999.000,9,-999.000,9,-999.000000000,9,  2163.2,2,  -999.0,9,     -999.0,9,     -999.0,9,  -0.6127
58GS20090528,        GIN,     230,          1,          9,20090604,       1848,    73.4170,    -1.5820,       3132,   500.1,  -0.5950,  34.8905,2,  34.8868,2,   330.8,2,    6.48,2,   12.23,2,    0.02,2,    0.88,2,-999.000,9,-999.000,9,-999.000000000,9,  2163.6,2,  -999.0,9,     -999.0,9,     -999.0,9,  -0.6126
58GS20090528,        GIN,     230,          1,         10,20090604,       1848,    73.4170,    -1.5820,       3132,   398.5,  -0.4550,  34.8982,2,  34.8965,2,   326.6,2,    6.69,2,   12.44,2,    0.02,2,    0.89,2,-999.000,9,-999.000,9,-999.000000000,9,  2163.7,2,  -999.0,9,     -999.0,9,     -999.0,9,  -0.4691
58GS20090528,        GIN,     230,          1,         11,20090604,       1848,    73.4170,    -1.5820,       3132,   301.3,  -0.2540,  34.9066,2,  34.9098,2,   320.0,2,    6.82,2,   12.44,2,    0.02,2,    0.90,2,-999.000,9,-999.000,9,-999.000000000,9,  2160.7,2,  -999.0,9,     -999.0,9,     -999.0,9,  -0.2649
58GS20090528,        GIN,     230,          1,         12,20090604,       1848,    73.4170,    -1.5820,       3132,   200.2,  -0.5240,  34.8750,2,  34.8670,2,   329.7,2,    6.27,2,   11.94,2,    0.03,2,    0.85,2,-999.000,9,-999.000,9,-999.000000000,9,  2160.2,2,  -999.0,9,     -999.0,9,     -999.0,9,  -0.5306
58GS20090528,        GIN,     230,          1,         13,20090604,       1848,    73.4170,    -1.5820,       3132,   149.2,  -0.6020,  34.8647,2,  34.8636,2,   332.9,2,    6.12,2,   11.75,2,    0.06,2,    0.84,2,-999.000,9,-999.000,9,-999.000000000,9,  2160.5,2,  -999.0,9,     -999.0,9,     -999.0,9,  -0.6067
58GS20090528,        GIN,     230,          1,         14,20090604,       1848,    73.4170,    -1.5820,       3132,   124.1,  -0.6420,  34.8602,2,  34.8568,2,  -999.0,9,    6.05,2,   11.62,2,    0.08,2,    0.84,2,-999.000,9,-999.000,9,-999.000000000,9,  -999.0,9,  -999.0,9,     -999.0,9,     -999.0,9,  -0.6459
58GS20090528,        GIN,     230,          1,         15,20090604,       1848,    73.4170,    -1.5820,       3132,   101.5,  -0.7910,  34.8473,2,  34.8393,2,   339.3,2,    5.87,2,   11.49,2,    0.09,2,    0.82,2,-999.000,9,-999.000,9,-999.000000000,9,  2161.5,2,  -999.0,9,       0.04,2,       0.09,2,  -0.7940
58GS20090528,        GIN,     230,          1,         16,20090604,       1848,    73.4170,    -1.5820,       3132,    74.7,  -0.8110,  34.8394,2,  34.8371,2,   343.2,2,    5.77,2,   11.30,2,    0.12,2,    0.82,2,-999.000,9,-999.000,9,-999.000000000,9,  2154.8,2,  -999.0,9,       0.05,2,       0.12,2,  -0.8132
58GS20090528,        GIN,     230,          1,         17,20090604,       1848,    73.4170,    -1.5820,       3132,    51.4,  -0.7930,  34.8355,2,  34.8351,2,   344.2,2,    5.79,2,   11.27,2,    0.14,2,    0.82,2,-999.000,9,-999.000,9,-999.000000000,9,  2158.5,2,  -999.0,9,       0.07,2,       0.19,2,  -0.7945
58GS20090528,        GIN,     230,          1,         18,20090604,       1848,    73.4170,    -1.5820,       3132,    29.7,  -0.6400,  34.8202,2,  34.7989,2,   354.3,2,    2.72,2,    9.98,2,    0.07,2,    0.75,2,-999.000,9,-999.000,9,-999.000000000,9,  2154.1,2,  -999.0,9,       0.56,2,       0.52,2,  -0.6409
58GS20090528,        GIN,     230,          1,         19,20090604,       1848,    73.4170,    -1.5820,       3132,    20.9,  -0.0630,  34.8134,2,  34.8120,2,  -999.0,9,    2.38,2,    9.18,2,    0.07,2,    0.80,2,-999.000,9,-999.000,9,-999.000000000,9,  -999.0,9,  -999.0,9,       0.91,2,       1.13,2,  -0.0637
58GS20090528,        GIN,     230,          1,         20,20090604,       1848,    73.4170,    -1.5820,       3132,    20.8,   0.2050,  34.8170,2,-999.0000,9,  -999.0,9, -999.00,9, -999.00,9, -999.00,9, -999.00,9,-999.000,9,-999.000,9,-999.000000000,9,  -999.0,9,  -999.0,9,     -999.0,9,     -999.0,9,   0.2042
58GS20090528,        GIN,     230,          1,         21,20090604,       1848,    73.4170,    -1.5820,       3132,     9.3,   0.6250,  34.8310,2,  34.8207,2,  -999.0,9,    2.34,2,    7.65,2,    0.07,2,    0.58,2,-999.000,9,-999.000,9,-999.000000000,9,  -999.0,9,  -999.0,9,       0.78,2,       0.86,2,   0.6246
58GS20090528,        GIN,     230,          1,         22,20090604,       1848,    73.4170,    -1.5820,       3132,     5.4,   0.7020,  34.8288,2,  34.8212,2,   365.6,2,    2.36,2,    7.49,2,    0.10,2,    0.58,2,-999.000,9,-999.000,9,-999.000000000,9,  2135.1,2,  -999.0,9,       0.82,2,       0.88,2,   0.7018
58GS20090528,        GIN,     230,          1,         23,20090604,       1848,    73.4170,    -1.5820,       3132,     5.5,   0.6780,  34.8288,2,  34.8211,2,  -999.0,9, -999.00,9, -999.00,9, -999.00,9, -999.00,9,-999.000,9,-999.000,9,-999.000000000,9,  -999.0,9,  -999.0,9,     -999.0,9,     -999.0,9,   0.6778
58GS20090528,        GIN,     231,          1,          1,20090605,       1251,    75.0000,    -6.9890,       3410,  3399.7,  -0.8070,  34.9094,2,  34.8889,2,   299.6,2,   12.96,2,   14.85,2,    0.01,2,    1.01,2,-999.000,9,-999.000,9,-999.000000000,9,  2162.3,2,  2307.6,2,     -999.0,9,     -999.0,9,  -1.0066
58GS20090528,        GIN,     231,          1,          2,20090605,       1251,    75.0000,    -6.9890,       3410,  3000.3,  -0.8220,  34.9102,2,  34.8838,2,   299.3,2,   12.88,2,   14.93,2,    0.03,2,    1.01,2,   0.840,2,   0.407,2,   0.326694037,2,  2162.5,2,  2304.2,2,     -999.0,9,     -999.0,9,  -0.9879
58GS20090528,        GIN,     231,          1,          3,20090605,       1251,    75.0000,    -6.9890,       3410,  2500.4,  -0.8020,  34.9114,2,  34.8764,2,   298.5,2,   12.22,2,   14.70,2,    0.02,2,    1.01,2,   0.937,2,   0.445,2,   0.544716304,2,  2163.4,2,  2304.3,2,     -999.0,9,     -999.0,9,  -0.9301
58GS20090528,        GIN,     231,          1,          4,20090605,       1251,    75.0000,    -6.9890,       3410,  1999.8,  -0.7310,  34.9082,2,  34.8741,2,   300.2,2,   11.14,2,   14.62,2,    0.02,2,    1.01,2,   1.688,2,   0.799,2,   0.933746501,2,  2164.1,2,  2302.8,2,     -999.0,9,     -999.0,9,  -0.8259
58GS20090528,        GIN,     231,          1,          5,20090605,       1251,    75.0000,    -6.9890,       3410,  1499.1,  -0.6280,  34.8985,2,  34.8632,2,   330.6,2,    7.01,2,   12.86,2,    0.01,2,    0.89,2,   5.730,2,   2.872,2,    3.26299674,2,  2177.8,3,  2300.6,2,     -999.0,9,     -999.0,9,  -0.6938
58GS20090528,        GIN,     231,          1,          6,20090605,       1251,    75.0000,    -6.9890,       3410,  1199.7,  -0.6030,  34.9010,2,  34.8614,2,   331.4,2,    6.82,2,   12.78,2,    0.01,2,    0.89,2,   5.984,2,   2.952,2,    3.52996572,2,  -999.0,9,  -999.0,9,     -999.0,9,     -999.0,9,  -0.6527
58GS20090528,        GIN,     231,          1,          7,20090605,       1251,    75.0000,    -6.9890,       3410,   999.8,  -0.6210,  34.8989,2,  34.8550,2,   330.9,2,    6.85,2,   12.76,2,    0.02,2,    0.89,2,   6.066,2,   2.931,2,    4.18105808,2,  2164.4,2,  2300.1,2,     -999.0,9,     -999.0,9,  -0.6605
58GS20090528,        GIN,     231,          1,          8,20090605,       1251,    75.0000,    -6.9890,       3410,   799.4,  -0.6000,  34.9001,2,  34.8557,2,   330.5,2,    6.83,2,   12.83,2,    0.01,2,    0.89,2,   6.077,2,   2.930,2,    3.61510475,2,  2165.1,2,  2298.8,2,     -999.0,9,     -999.0,9,  -0.6302
58GS20090528,        GIN,     231,          1,          9,20090605,       1251,    75.0000,    -6.9890,       3410,   600.6,  -0.5890,  34.8990,2,  34.9026,2,   330.7,2,    6.78,2,   12.73,2,    0.02,2,    0.89,2,-999.000,9,-999.000,9,-999.000000000,9,  -999.0,9,  -999.0,9,     -999.0,9,     -999.0,9,  -0.6107
58GS20090528,        GIN,     231,          1,         10,20090605,       1251,    75.0000,    -6.9890,       3410,   600.7,  -0.5890,  34.8991,2,-999.0000,9,   330.7,2, -999.00,9, -999.00,9, -999.00,9, -999.00,9,   6.090,6,   2.905,2,    4.27128663,2,  2164.4,2,  2297.3,2,     -999.0,9,     -999.0,9,  -0.6107
58GS20090528,        GIN,     231,          1,         11,20090605,       1251,    75.0000,    -6.9890,       3410,   499.6,  -0.5580,  34.8997,2,-999.0000,9,   329.9,2,    6.77,2,   12.69,2,    0.02,2,    0.88,2,   6.125,2,   2.867,2,    4.43860981,2,  2164.4,2,  2300.3,2,     -999.0,9,     -999.0,9,  -0.5757
58GS20090528,        GIN,     231,          1,         12,20090605,       1251,    75.0000,    -6.9890,       3410,   399.6,  -0.6030,  34.8950,2,-999.0000,9,  -999.0,9,    6.87,2,   12.80,2,    0.03,2,    0.89,2,   6.077,2,   2.842,2,    4.68650612,2,  2163.1,2,  2301.9,2,     -999.0,9,     -999.0,9,  -0.6167
58GS20090528,        GIN,     231,          1,         13,20090605,       1251,    75.0000,    -6.9890,       3410,   299.2,  -0.5210,  34.8977,2,-999.0000,9,   326.6,2,    6.92,2,   12.93,2,    0.02,2,    0.90,2,   5.868,2,   2.729,2,    4.08492183,2,  2164.2,2,  2304.0,2,     -999.0,9,     -999.0,9,  -0.5312
58GS20090528,        GIN,     231,          1,         14,20090605,       1251,    75.0000,    -6.9890,       3410,   199.5,  -0.4670,  34.8978,2,-999.0000,9,   328.3,2,    6.67,2,   12.59,2,    0.04,2,    0.89,2,   6.023,2,   2.727,2,    4.10085322,2,  2162.6,2,  2302.0,2,     -999.0,9,     -999.0,9,  -0.4737
58GS20090528,        GIN,     231,          1,         15,20090605,       1251,    75.0000,    -6.9890,       3410,   149.3,  -0.4270,  34.8946,2,-999.0000,9,   328.5,2,    6.54,2,   12.43,2,    0.05,2,    0.87,2,   6.062,2,   2.700,2,    3.58037221,2,  2162.7,2,  2301.6,2,     -999.0,9,     -999.0,9,  -0.4320
58GS20090528,        GIN,     231,          1,         16,20090605,       1251,    75.0000,    -6.9890,       3410,   123.8,  -0.4160,  34.8914,2,-999.0000,9,  -999.0,9,    6.51,2,   12.31,2,    0.05,2,    0.86,2,-999.000,9,-999.000,9,-999.000000000,9,  -999.0,9,  -999.0,9,     -999.0,9,     -999.0,9,  -0.4201
58GS20090528,        GIN,     231,          1,         17,20090605,       1251,    75.0000,    -6.9890,       3410,    99.3,  -0.4020,  34.8893,2,-999.0000,9,   327.2,2,    6.52,2,   12.08,2,    0.04,2,    0.87,2,   5.861,2,   2.606,2,    4.25441547,2,  2161.7,2,  2301.0,2,       0.02,2,       0.14,2,  -0.4053
58GS20090528,        GIN,     231,          1,         18,20090605,       1251,    75.0000,    -6.9890,       3410,    73.7,  -0.3190,  34.8868,2,-999.0000,9,   326.5,2,    6.39,2,   12.03,2,    0.05,2,    0.85,2,   5.879,2,   2.662,2,     3.6799051,2,  2159.0,2,  2300.6,2,       0.06,2,       0.17,2,  -0.3215
58GS20090528,        GIN,     231,          1,         19,20090605,       1251,    75.0000,    -6.9890,       3410,    49.9,  -0.1870,  34.8737,2,-999.0000,9,   336.7,2,    5.46,2,   10.81,2,    0.05,2,    0.79,2,   6.251,2,   2.829,2,    4.44190198,2,  2156.6,2,  2299.3,2,       0.44,2,       0.39,2,  -0.1887
58GS20090528,        GIN,     231,          1,         20,20090605,       1251,    75.0000,    -6.9890,       3410,    49.9,  -0.1880,  34.8739,2,-999.0000,9,  -999.0,9, -999.00,9, -999.00,9, -999.00,9, -999.00,9,-999.000,9,-999.000,9,-999.000000000,9,  -999.0,9,  -999.0,9,     -999.0,9,     -999.0,9,  -0.1897
58GS20090528,        GIN,     231,          1,         21,20090605,       1251,    75.0000,    -6.9890,       3410,    29.3,   0.1720,  34.8804,2,-999.0000,9,   375.1,2,    1.19,2,    7.56,2,    0.07,2,    0.58,2,   6.844,2,   3.060,2,     4.3002965,2,  2129.3,2,  2302.7,2,       1.16,2,       0.55,2,   0.1709
58GS20090528,        GIN,     231,          1,         22,20090605,       1251,    75.0000,    -6.9890,       3410,    19.7,   1.0490,  34.8574,2,-999.0000,9,  -999.0,9,    0.09,2,    5.10,2,    0.06,2,    0.43,2,-999.000,9,-999.000,9,-999.000000000,9,  -999.0,9,  -999.0,9,       0.91,2,       0.28,2,   1.0481
58GS20090528,        GIN,     231,          1,         23,20090605,       1251,    75.0000,    -6.9890,       3410,     9.6,   1.0420,  34.8596,2,-999.0000,9,  -999.0,9,    0.10,2,    5.20,2,    0.07,2,    0.45,2,-999.000,9,-999.000,9,-999.000000000,9,  -999.0,9,  -999.0,9,       0.96,2,       0.25,2,   1.0416
58GS20090528,        GIN,     231,          1,         24,20090605,       1251,    75.0000,    -6.9890,       3410,     4.4,   1.0350,  34.8602,2,-999.0000,9,   378.5,2,    0.09,2,    5.14,2,    0.07,2,    0.43,2,   6.944,2,   3.138,2,    4.20941237,2,  2113.1,2,  2302.7,2,       0.70,2,       0.23,2,   1.0348