BOTTLE,20150327CCHSIORJL
EXPOCODE,SECT_ID,STNNBR,CASTNO,BTLNBR,DATE,TIME,LATITUDE,LONGITUDE,DEPTH,CTDPRS,CTDTMP,CTDSAL,CTDSAL_FLAG_W,SALNTY,SALNTY_FLAG_W,OXYGEN,OXYGEN_FLAG_W,SILCAT,SILCAT_FLAG_W,NITRAT,NITRAT_FLAG_W,NITRIT,NITRIT_FLAG_W,PHSPHT,PHSPHT_FLAG_W,CFC-11,CFC-11_FLAG_W,CFC-12,CFC-12_FLAG_W,SF6,SF6_FLAG_W,TCARBN,TCARBN_FLAG_W,ALKALI,ALKALI_FLAG_W,CHLORA,CHLORA_FLAG_W,PPHYTN,PPHYTN_FLAG_W,THETA
,,,,,,,,,METERS,DBAR,ITS-90,PSS-78,,PSS-78,,UMOL/KG,,UMOL/KG,,UMOL/KG,,UMOL/KG,,UMOL/KG,,PMOL/KG,,PMOL/KG,,FMOL/KG,,UMOL/KG,,UMOL/KG,,MG/M^3,,MG/M^3,,DEG C
58GS20090528,        GIN,     335,          1,          1,20090703,       0908,    70.0010,     9.2460,       2861,  2850.6,  -0.8100,  34.9057,2,  34.9128,2,   294.6,2,   13.88,2,   15.17,2,    0.01,2,    1.05,2,-999.000,9,   0.309,2,   0.349113715,2,  2167.5,2,  2308.7,2,     -999.0,9,     -999.0,9,  -0.9645
58GS20090528,        GIN,     335,          1,          2,20090703,       0908,    70.0010,     9.2460,       2861,  2499.1,  -0.8060,  34.9058,2,  34.9123,2,   296.2,2,   12.86,2,   14.86,2,    0.01,2,    1.02,2,-999.000,9,   0.396,2,   0.296167911,2,  2164.4,2,  2304.4,2,     -999.0,9,     -999.0,9,  -0.9341
58GS20090528,        GIN,     335,          1,          3,20090703,       0908,    70.0010,     9.2460,       2861,  1999.7,  -0.7750,  34.9047,2,  34.9121,2,   296.9,2,   11.91,2,   14.66,2,    0.01,2,    1.01,2,-999.000,9,   0.571,2,   0.817516367,2,  2165.1,2,  -999.0,9,     -999.0,9,     -999.0,9,  -0.8694
58GS20090528,        GIN,     335,          1,          4,20090703,       0908,    70.0010,     9.2460,       2861,  1500.3,  -0.6640,  34.8991,2,  34.9093,2,   299.7,2,   10.32,2,   14.34,2,    0.01,2,    1.00,2,-999.000,9,   1.045,2,    1.49783771,2,  2165.8,2,  2302.8,2,     -999.0,9,     -999.0,9,  -0.7295
58GS20090528,        GIN,     335,          1,          5,20090703,       0908,    70.0010,     9.2460,       2861,  1200.0,  -0.4880,  34.8941,2,  34.9027,2,   302.2,2,    8.95,2,   14.09,2,    0.01,2,    0.98,2,-999.000,9,   1.589,2,    1.38919092,2,  2167.9,2,  -999.0,9,     -999.0,9,     -999.0,9,  -0.5389
58GS20090528,        GIN,     335,          1,          6,20090703,       0908,    70.0010,     9.2460,       2861,  1000.7,  -0.2030,  34.8920,2,  34.8969,2,   304.0,2,    7.84,2,   13.84,2,    0.01,2,    0.96,2,-999.000,9,   2.061,6,    1.94944233,6,  2169.3,2,  2300.1,2,     -999.0,9,     -999.0,9,  -0.2460
58GS20090528,        GIN,     335,          1,          7,20090703,       0908,    70.0010,     9.2460,       2861,   799.7,   0.5610,  34.9094,2,  34.9154,2,   305.6,2,    6.80,2,   13.51,2,    0.01,2,    0.94,2,-999.000,9,   2.447,2,    2.57299825,2,  2169.3,2,  -999.0,9,     -999.0,9,     -999.0,9,   0.5230
58GS20090528,        GIN,     335,          1,          8,20090703,       0908,    70.0010,     9.2460,       2861,   600.0,   3.7120,  35.0649,2,  35.0691,2,   300.7,2,    5.05,2,   12.06,2,    0.02,2,    0.83,2,-999.000,9,   2.553,2,    2.78698996,2,  2157.5,2,  2311.3,2,     -999.0,9,     -999.0,9,   3.6692
58GS20090528,        GIN,     335,          1,          9,20090703,       0908,    70.0010,     9.2460,       2861,   599.8,   3.7100,  35.0655,2,  35.0670,2,   300.7,2,    5.07,2,   12.10,2,    0.02,2,    0.82,2,-999.000,9,-999.000,9,-999.000000000,9,  2156.4,2,  2310.8,2,     -999.0,9,     -999.0,9,   3.6672
58GS20090528,        GIN,     335,          1,         10,20090703,       0908,    70.0010,     9.2460,       2861,   499.9,   4.3820,  35.1161,2,  35.1175,2,   301.4,2,    4.76,2,   11.56,2,    0.01,2,    0.79,2,-999.000,9,-999.000,9,-999.000000000,9,  2152.2,2,  -999.0,9,     -999.0,9,     -999.0,9,   4.3441
58GS20090528,        GIN,     335,          1,         11,20090703,       0908,    70.0010,     9.2460,       2861,   399.1,   4.6720,  35.1274,2,  35.1304,2,   298.8,2,    4.80,2,   11.67,2,    0.02,2,    0.81,2,-999.000,9,   2.480,2,    2.67094268,2,  2153.5,2,  2314.7,2,     -999.0,9,     -999.0,9,   4.6411
58GS20090528,        GIN,     335,          1,         12,20090703,       0908,    70.0010,     9.2460,       2861,   299.7,   5.1370,  35.1453,2,  35.1488,2,   296.7,2,    4.84,2,   11.67,2,    0.01,2,    0.80,2,-999.000,9,-999.000,9,-999.000000000,9,  2149.9,2,  -999.0,9,     -999.0,9,     -999.0,9,   5.1129
58GS20090528,        GIN,     335,          1,         13,20090703,       0908,    70.0010,     9.2460,       2861,   200.2,   5.8960,  35.1704,2,  35.1732,2,   289.7,2,    5.00,2,   11.84,2,    0.02,2,    0.81,2,-999.000,9,   2.379,2,     1.5439411,2,  2152.0,2,  2318.3,2,     -999.0,9,     -999.0,9,   5.8789
58GS20090528,        GIN,     335,          1,         14,20090703,       0908,    70.0010,     9.2460,       2861,   150.5,   6.3240,  35.1862,2,  35.1885,2,   285.6,2,    4.93,2,   11.63,2,    0.10,2,    0.79,2,-999.000,9,-999.000,9,-999.000000000,9,  2149.8,2,  2318.1,2,     -999.0,9,     -999.0,9,   6.3107
58GS20090528,        GIN,     335,          1,         15,20090703,       0908,    70.0010,     9.2460,       2861,   126.6,   6.9150,  35.2167,2,  35.2186,2,   282.6,2,    4.95,2,   11.43,2,    0.09,2,    0.78,2,-999.000,9,-999.000,9,-999.000000000,9,  2147.8,2,  2320.8,2,     -999.0,9,     -999.0,9,   6.9032
58GS20090528,        GIN,     335,          1,         16,20090703,       0908,    70.0010,     9.2460,       2861,   100.9,   7.2440,  35.2385,2,  35.2398,2,   279.5,2,    5.00,2,   11.80,2,    0.03,2,    0.79,2,-999.000,9,   2.272,2,    2.01416818,2,  2148.2,2,  2322.4,2,       0.01,2,       0.21,2,   7.2344
58GS20090528,        GIN,     335,          1,         17,20090703,       0908,    70.0010,     9.2460,       2861,    75.8,   7.4740,  35.2547,2,  35.2552,2,   278.4,2,    4.91,2,   11.77,2,    0.03,2,    0.79,2,-999.000,9,-999.000,9,-999.000000000,9,  2149.2,2,  2323.8,2,       0.02,2,       0.20,2,   7.4667
58GS20090528,        GIN,     335,          1,         18,20090703,       0908,    70.0010,     9.2460,       2861,    51.7,   7.7020,  35.2545,2,  35.2425,2,   280.2,2,    3.68,2,    9.75,2,    0.20,2,    0.71,2,-999.000,9,   2.253,2,    2.26977288,2,  2140.2,2,  2323.6,2,       0.05,2,       0.19,2,   7.6969
58GS20090528,        GIN,     335,          1,         19,20090703,       0908,    70.0010,     9.2460,       2861,    30.6,   8.4290,  35.2030,2,  35.2065,2,   284.5,2,    0.89,2,    5.34,2,    0.15,2,    0.46,2,-999.000,9,-999.000,9,-999.000000000,9,  2123.1,2,  2327.1,2,       0.73,2,       0.60,2,   8.4258
58GS20090528,        GIN,     335,          1,         20,20090703,       0908,    70.0010,     9.2460,       2861,    10.2,   9.6330,  35.1308,2,  35.1391,2,   309.4,2,    0.04,2,    0.64,2,    0.06,2,    0.06,2,-999.000,9,   2.234,2,    1.97022765,2,  2076.2,2,  2329.2,2,       0.88,2,       0.12,2,   9.6319
58GS20090528,        GIN,     335,          1,         21,20090703,       0908,    70.0010,     9.2460,       2861,     5.4,   9.6340,  35.1316,2,  35.1313,2,   309.2,2,    0.03,2,    0.56,2,    0.04,2,    0.06,2,-999.000,9,-999.000,9,-999.000000000,9,  2074.5,2,  2327.7,2,       0.82,2,       0.14,2,   9.6334
58GS20090528,        GIN,     336,          1,          1,20090703,       1514,    70.0010,     7.2610,       3095,  3084.6,  -0.7990,  34.9064,2,  34.9128,2,   294.6,2,   14.13,2,   15.15,2,    0.02,2,    0.99,2,-999.000,9,   0.304,6,   0.325310897,6,  2163.1,2,  2306.1,2,     -999.0,9,     -999.0,9,  -0.9724
58GS20090528,        GIN,     336,          1,          2,20090703,       1514,    70.0010,     7.2610,       3095,  3000.8,  -0.8030,  34.9063,2,  34.9131,2,   295.2,2,   13.97,2,   15.21,2,    0.01,2,    1.03,2,-999.000,9,   0.313,2,   0.243934677,2,  2162.3,2,  -999.0,9,     -999.0,9,     -999.0,9,  -0.9695
58GS20090528,        GIN,     336,          1,          3,20090703,       1514,    70.0010,     7.2610,       3095,  2500.5,  -0.8070,  34.9062,2,  34.9187,2,   296.5,2,   12.81,2,   14.93,2,    0.01,2,    1.01,2,-999.000,9,   0.378,2,   0.334048977,2,  2161.7,2,  2304.6,2,     -999.0,9,     -999.0,9,  -0.9352
58GS20090528,        GIN,     336,          1,          4,20090703,       1514,    70.0010,     7.2610,       3095,  1999.8,  -0.7650,  34.9046,2,  34.9132,2,   297.2,2,   11.84,2,   14.78,2,    0.01,2,    1.01,2,-999.000,9,   0.564,2,   0.589628892,2,  2159.2,2,  -999.0,9,     -999.0,9,     -999.0,9,  -0.8595
58GS20090528,        GIN,     336,          1,          5,20090703,       1514,    70.0010,     7.2610,       3095,  1500.1,  -0.6310,  34.8979,2,  34.9055,2,   300.5,2,   10.14,2,   14.38,2,    0.01,2,    1.00,2,-999.000,9,   1.149,2,    1.75797059,2,  2160.9,2,  2302.2,2,     -999.0,9,     -999.0,9,  -0.6969
58GS20090528,        GIN,     336,          1,          6,20090703,       1514,    70.0010,     7.2610,       3095,  1199.1,  -0.4140,  34.8928,2,  34.9018,2,   303.8,2,    8.58,2,   14.07,2,    0.01,2,    0.96,2,-999.000,9,   1.781,2,    2.19137411,2,  2162.6,2,  -999.0,9,     -999.0,9,     -999.0,9,  -0.4656
58GS20090528,        GIN,     336,          1,          7,20090703,       1514,    70.0010,     7.2610,       3095,  1000.3,  -0.0600,  34.8932,2,  34.9012,2,   310.0,2,    7.31,2,   13.57,2,    0.01,2,    0.96,2,-999.000,9,   2.346,2,    2.04799613,2,  2163.6,2,  2300.5,2,     -999.0,9,     -999.0,9,  -0.1042
58GS20090528,        GIN,     336,          1,          8,20090703,       1514,    70.0010,     7.2610,       3095,   800.0,   0.8020,  34.9142,2,  34.9209,2,   305.8,2, -999.00,9, -999.00,9, -999.00,9, -999.00,9,-999.000,9,   2.599,2,    2.16478029,2,  -999.0,9,  2302.6,2,     -999.0,9,     -999.0,9,   0.7624
58GS20090528,        GIN,     336,          1,          9,20090703,       1514,    70.0010,     7.2610,       3095,   800.3,   0.8170,  34.9154,2,-999.0000,9,   305.7,2, -999.00,9, -999.00,9, -999.00,9, -999.00,9,-999.000,9,-999.000,9,-999.000000000,9,  2163.7,2,  2301.7,2,     -999.0,9,     -999.0,9,   0.7773
58GS20090528,        GIN,     336,          1,         10,20090703,       1514,    70.0010,     7.2610,       3095,   600.5,   3.6090,  35.0585,2,  35.0638,2,   302.6,2,    5.08,2,   12.15,2,    0.02,2,    0.83,2,-999.000,9,   2.680,2,      2.622651,2,  2152.3,2,  2310.6,2,     -999.0,9,     -999.0,9,   3.5666
58GS20090528,        GIN,     336,          1,         11,20090703,       1514,    70.0010,     7.2610,       3095,   501.1,   4.2630,  35.1054,2,  35.1094,2,   301.9,2,    4.82,2,   11.74,2,    0.01,2,    0.79,2,-999.000,9,-999.000,9,-999.000000000,9,  2146.9,2,  -999.0,9,     -999.0,9,     -999.0,9,   4.2254
58GS20090528,        GIN,     336,          1,         12,20090703,       1514,    70.0010,     7.2610,       3095,   400.9,   4.5610,  35.1285,2,  35.1323,2,   301.3,2,    4.82,2,   11.71,2,    0.01,2,    0.80,2,-999.000,9,   2.618,2,    2.36827498,2,  2146.0,2,  2315.3,2,     -999.0,9,     -999.0,9,   4.5303
58GS20090528,        GIN,     336,          1,         13,20090703,       1514,    70.0010,     7.2610,       3095,   300.8,   4.7590,  35.1338,2,  35.1384,2,   299.5,2,    4.85,2,   11.73,2,    0.02,2,    0.79,2,-999.000,9,-999.000,9,-999.000000000,9,  2144.3,2,  -999.0,9,     -999.0,9,     -999.0,9,   4.7357
58GS20090528,        GIN,     336,          1,         14,20090703,       1514,    70.0010,     7.2610,       3095,   200.0,   5.0990,  35.1441,2,  35.1469,2,   296.5,2,    4.91,2,   11.83,2,    0.02,2,    0.79,2,-999.000,9,   2.460,2,    2.99755892,2,  -999.0,9,  2317.0,2,     -999.0,9,     -999.0,9,   5.0831
58GS20090528,        GIN,     336,          1,         15,20090703,       1514,    70.0010,     7.2610,       3095,   149.7,   5.2680,  35.1489,2,  35.1541,2,   295.4,2,    4.97,2,   11.92,2,    0.01,2,    0.79,2,-999.000,9,-999.000,9,-999.000000000,9,  2146.0,2,  2317.4,2,     -999.0,9,     -999.0,9,   5.2560
58GS20090528,        GIN,     336,          1,         16,20090703,       1514,    70.0010,     7.2610,       3095,   123.6,   5.4810,  35.1528,2,  35.1557,2,   292.9,2,    5.01,2,   11.90,2,    0.01,2,    0.78,2,-999.000,9,-999.000,9,-999.000000000,9,  -999.0,9,  2317.9,2,     -999.0,9,     -999.0,9,   5.4709
58GS20090528,        GIN,     336,          1,         17,20090703,       1514,    70.0010,     7.2610,       3095,    99.8,   5.8300,  35.1675,2,  35.1679,2,   289.3,2,    5.02,2,   12.06,2,    0.04,2,    0.79,2,-999.000,9,   2.403,2,    3.54012519,2,  2147.5,2,  2318.2,2,       0.04,2,       0.13,2,   5.8216
58GS20090528,        GIN,     336,          1,         18,20090703,       1514,    70.0010,     7.2610,       3095,    75.4,   6.2960,  35.1877,2,  35.1884,2,   284.8,2,    5.07,2,   11.97,2,    0.07,2,    0.81,2,-999.000,9,-999.000,9,-999.000000000,9,  2144.6,2,  2320.0,2,       0.10,2,       0.09,2,   6.2894
58GS20090528,        GIN,     336,          1,         19,20090703,       1514,    70.0010,     7.2610,       3095,    50.7,   6.9530,  35.2013,2,  35.1979,2,   286.6,2,    3.89,2,    9.09,2,    0.10,2,    0.70,2,-999.000,9,   2.327,2,    3.60671844,2,  2137.1,2,  2322.1,2,       0.11,2,       0.09,2,   6.9483
58GS20090528,        GIN,     336,          1,         20,20090703,       1514,    70.0010,     7.2610,       3095,    30.2,   7.9840,  35.2041,2,  35.2077,2,   300.1,2,    0.44,2,    4.20,2,    0.10,2,    0.35,2,-999.000,9,-999.000,9,-999.000000000,9,  2098.0,2,  2328.0,2,       0.39,2,       0.13,2,   7.9810
58GS20090528,        GIN,     336,          1,         21,20090703,       1514,    70.0010,     7.2610,       3095,     9.0,   8.9190,  35.1799,2,  35.1802,2,   303.6,2,    0.08,2,    1.54,2,    0.07,2,    0.18,2,-999.000,9,   2.382,2,    4.57274868,2,  2085.5,2,  2328.3,2,       0.41,2,       0.03,2,   8.9180
58GS20090528,        GIN,     336,          1,         22,20090703,       1514,    70.0010,     7.2610,       3095,     5.6,   8.9210,  35.1803,2,  35.1781,2,   303.2,2,    0.13,2,    1.51,2,    0.07,2,    0.18,2,-999.000,9,-999.000,9,-999.000000000,9,  2084.3,2,  2328.4,2,       0.37,2,       0.04,2,   8.9204