BOTTLE,20150327CCHSIORJL
EXPOCODE,SECT_ID,STNNBR,CASTNO,BTLNBR,DATE,TIME,LATITUDE,LONGITUDE,DEPTH,CTDPRS,CTDTMP,CTDSAL,CTDSAL_FLAG_W,SALNTY,SALNTY_FLAG_W,OXYGEN,OXYGEN_FLAG_W,SILCAT,SILCAT_FLAG_W,NITRAT,NITRAT_FLAG_W,NITRIT,NITRIT_FLAG_W,PHSPHT,PHSPHT_FLAG_W,CFC-11,CFC-11_FLAG_W,CFC-12,CFC-12_FLAG_W,SF6,SF6_FLAG_W,TCARBN,TCARBN_FLAG_W,ALKALI,ALKALI_FLAG_W,CHLORA,CHLORA_FLAG_W,PPHYTN,PPHYTN_FLAG_W,THETA
,,,,,,,,,METERS,DBAR,ITS-90,PSS-78,,PSS-78,,UMOL/KG,,UMOL/KG,,UMOL/KG,,UMOL/KG,,UMOL/KG,,PMOL/KG,,PMOL/KG,,FMOL/KG,,UMOL/KG,,UMOL/KG,,MG/M^3,,MG/M^3,,DEG C
58GS20090528,        GIN,     234,          1,          1,20090606,       0518,    75.0000,    -3.9870,       3570,  3559.9,  -0.7950,  34.9099,2,  34.9055,2,   299.2,2,   13.07,2,   14.79,2,    0.01,2,    1.01,2,   0.853,2,   0.367,2,   0.408167507,2,  2161.2,2,  2304.5,2,     -999.0,9,     -999.0,9,  -1.0091
58GS20090528,        GIN,     234,          1,          2,20090606,       0518,    75.0000,    -3.9870,       3570,  3000.8,  -0.7890,  34.9125,2,  34.9097,2,   298.4,2,   12.51,2,   14.69,2,    0.01,2,    1.01,2,   0.849,6,   0.366,6,   0.407563716,6,  2161.6,2,  2303.8,2,     -999.0,9,     -999.0,9,  -0.9558
58GS20090528,        GIN,     234,          1,          3,20090606,       0518,    75.0000,    -3.9870,       3570,  2500.8,  -0.7570,  34.9113,2,  34.9063,2,   298.2,2,   11.89,2,   14.69,2,    0.01,2,    1.01,2,   1.176,2,   0.508,2,   0.568424346,2,  2160.6,2,  2299.5,2,     -999.0,9,     -999.0,9,  -0.8861
58GS20090528,        GIN,     234,          1,          4,20090606,       0518,    75.0000,    -3.9870,       3570,  2001.6,  -0.6630,  34.9028,2,  34.9019,2,   305.2,2,    9.87,2,   13.99,2,    0.01,2,    0.97,2,   2.893,2,   1.243,2,    1.85976639,2,  2162.1,2,  2299.0,2,     -999.0,9,     -999.0,9,  -0.7592
58GS20090528,        GIN,     234,          1,          5,20090606,       0518,    75.0000,    -3.9870,       3570,  1500.4,  -0.5990,  34.9007,2,-999.0000,9,   331.1,2,    6.83,2,   12.74,2,    0.02,2,    0.89,2,   5.866,2,   2.646,2,    3.00934809,2,  2164.9,2,  2299.9,2,     -999.0,9,     -999.0,9,  -0.6653
58GS20090528,        GIN,     234,          1,          6,20090606,       0518,    75.0000,    -3.9870,       3570,  1200.6,  -0.6130,  34.8993,2,  34.8982,2,  -999.0,9,    6.80,2,   12.71,2,    0.02,2,    0.89,2,   6.069,2,   2.793,2,    4.87352159,2,  -999.0,9,  -999.0,9,     -999.0,9,     -999.0,9,  -0.6627
58GS20090528,        GIN,     234,          1,          7,20090606,       0518,    75.0000,    -3.9870,       3570,  1000.6,  -0.6180,  34.8983,2,  34.8997,2,   330.7,2,    6.76,2,   12.65,2,    0.02,2,    0.88,2,   6.015,2,   2.769,2,     3.8926254,2,  2164.8,2,  2297.9,2,     -999.0,9,     -999.0,9,  -0.6576
58GS20090528,        GIN,     234,          1,          8,20090606,       0518,    75.0000,    -3.9870,       3570,   800.4,  -0.6030,  34.8987,2,  34.8952,2,   330.9,2,    6.72,2,   12.48,2,    0.03,2,    0.89,2,   6.159,2,   2.795,2,    6.07737723,2,  2165.0,2,  2296.5,2,     -999.0,9,     -999.0,9,  -0.6333
58GS20090528,        GIN,     234,          1,          9,20090606,       0518,    75.0000,    -3.9870,       3570,   600.3,  -0.5990,  34.8970,2,  34.8991,2,  -999.0,9,    6.74,2,   12.67,2,    0.02,2,    0.88,2,-999.000,9,-999.000,9,-999.000000000,9,  -999.0,9,  -999.0,9,     -999.0,9,     -999.0,9,  -0.6207
58GS20090528,        GIN,     234,          1,         10,20090606,       0518,    75.0000,    -3.9870,       3570,   600.7,  -0.6000,  34.8968,2,-999.0000,9,   330.1,2, -999.00,9, -999.00,9, -999.00,9, -999.00,9,   6.133,2,   2.735,2,    3.49874036,2,  2162.8,2,  2302.1,2,     -999.0,9,     -999.0,9,  -0.6217
58GS20090528,        GIN,     234,          1,         11,20090606,       0518,    75.0000,    -3.9870,       3570,   505.4,  -0.5780,  34.8972,2,  34.8924,2,   329.8,2,    6.71,2,   12.56,2,    0.02,2,    0.88,2,-999.000,9,-999.000,9,-999.000000000,9,  2162.5,2,  2296.6,2,     -999.0,9,     -999.0,9,  -0.5959
58GS20090528,        GIN,     234,          1,         12,20090606,       0518,    75.0000,    -3.9870,       3570,   401.6,  -0.5550,  34.8964,2,  34.8964,2,   329.1,2,    6.68,2,   12.40,2,    0.02,2,    0.86,2,   6.029,2,   2.790,2,    4.31336308,2,  2163.2,2,  2302.1,2,     -999.0,9,     -999.0,9,  -0.5689
58GS20090528,        GIN,     234,          1,         13,20090606,       0518,    75.0000,    -3.9870,       3570,   299.5,  -0.4730,  34.8984,2,  34.8981,2,   327.9,2,    6.57,2,   12.53,2,    0.03,2,    0.86,2,-999.000,9,-999.000,9,-999.000000000,9,  2163.8,2,  2301.1,2,     -999.0,9,     -999.0,9,  -0.4833
58GS20090528,        GIN,     234,          1,         14,20090606,       0518,    75.0000,    -3.9870,       3570,   199.7,  -0.4110,  34.8961,2,  34.9001,2,   327.8,2,    6.54,2,   12.38,2,    0.04,2,    0.87,2,   5.926,2,   2.751,2,     3.8696273,2,  2160.2,2,  2307.0,2,     -999.0,9,     -999.0,9,  -0.4178
58GS20090528,        GIN,     234,          1,         15,20090606,       0518,    75.0000,    -3.9870,       3570,   149.4,  -0.3710,  34.8910,2,  34.8905,2,   328.4,2,    6.50,2,   12.23,2,    0.05,2,    0.86,2,-999.000,9,-999.000,9,-999.000000000,9,  2161.3,2,  2303.1,2,     -999.0,9,     -999.0,9,  -0.3761
58GS20090528,        GIN,     234,          1,         16,20090606,       0518,    75.0000,    -3.9870,       3570,    99.6,  -0.1970,  34.8872,2,  34.8870,2,   333.3,2,    6.07,2,   11.36,2,    0.05,2,    0.83,2,   6.191,2,   2.836,2,     4.4041608,2,  2155.9,2,  2306.1,2,       0.17,2,       0.44,2,  -0.2005
58GS20090528,        GIN,     234,          1,         17,20090606,       0518,    75.0000,    -3.9870,       3570,    74.1,  -0.1860,  34.8789,2,  34.8765,2,   340.2,2,    5.47,2,   10.71,2,    0.05,2,    0.78,2,-999.000,9,-999.000,9,-999.000000000,9,  2154.6,2,  2305.8,2,       0.29,2,       0.42,2,  -0.1886
58GS20090528,        GIN,     234,          1,         18,20090606,       0518,    75.0000,    -3.9870,       3570,    49.8,  -0.0530,  34.8677,2,  34.8677,2,   349.9,2,    4.35,2,    9.76,2,    0.05,2,    0.73,2,   6.685,2,   3.068,2,    4.81778842,2,  2149.8,2,  2307.2,2,       0.80,2,       0.58,2,  -0.0548
58GS20090528,        GIN,     234,          1,         19,20090606,       0518,    75.0000,    -3.9870,       3570,    29.6,   0.4750,  34.8696,2,  34.8731,2,   374.6,2,    0.64,2,    7.05,2,    0.06,2,    0.59,2,-999.000,9,-999.000,9,-999.000000000,9,  2128.4,2,  2308.0,2,       1.10,2,       0.52,2,   0.4738
58GS20090528,        GIN,     234,          1,         20,20090606,       0518,    75.0000,    -3.9870,       3570,    20.5,   0.9350,  34.8283,2,  34.8263,2,  -999.0,9,    0.23,2,    4.77,2,    0.07,2,    0.45,2,-999.000,9,-999.000,9,-999.000000000,9,  -999.0,9,  -999.0,9,       1.17,2,       0.25,2,   0.9341
58GS20090528,        GIN,     234,          1,         21,20090606,       0518,    75.0000,    -3.9870,       3570,    20.5,   0.9400,  34.8283,2,-999.0000,9,  -999.0,9, -999.00,9, -999.00,9, -999.00,9, -999.00,9,-999.000,9,-999.000,9,-999.000000000,9,  -999.0,9,  -999.0,9,     -999.0,9,     -999.0,9,   0.9391
58GS20090528,        GIN,     234,          1,         22,20090606,       0518,    75.0000,    -3.9870,       3570,     9.8,   0.9840,  34.8179,2,  34.8187,2,  -999.0,9,    0.22,2,    4.66,2,    0.06,2,    0.44,2,-999.000,9,-999.000,9,-999.000000000,9,  -999.0,9,  -999.0,9,       1.25,2,       0.19,2,   0.9836
58GS20090528,        GIN,     234,          1,         23,20090606,       0518,    75.0000,    -3.9870,       3570,     3.8,   1.0040,  34.8138,2,  34.8097,2,   378.1,2,    0.20,2,    4.60,2,    0.06,2,    0.45,2,   7.057,2,   3.244,2,    5.21150349,2,  2105.9,2,  2307.4,2,       1.22,2,       0.23,2,   1.0038
58GS20090528,        GIN,     234,          1,         24,20090606,       0518,    75.0000,    -3.9870,       3570,     4.0,   1.0030,  34.8143,2,-999.0000,9,  -999.0,9, -999.00,9, -999.00,9, -999.00,9, -999.00,9,-999.000,9,-999.000,9,-999.000000000,9,  -999.0,9,  -999.0,9,     -999.0,9,     -999.0,9,   1.0028
58GS20090528,        GIN,     235,          1,          1,20090606,       1013,    75.0000,    -2.9960,       3610,  3600.4,  -0.7910,  34.9099,2,  34.9094,2,   298.9,2,   13.15,2,   14.87,2,    0.02,2,    1.01,2,   0.870,2,   0.366,2,   0.518375844,2,  2160.9,2,  2304.8,2,     -999.0,9,     -999.0,9,  -1.0089
58GS20090528,        GIN,     235,          1,          2,20090606,       1013,    75.0000,    -2.9960,       3610,  3000.4,  -0.7870,  34.9129,2,  34.9105,2,   298.3,2,   12.54,2,   14.76,2,    0.02,2,    1.01,2,   0.867,2,   0.366,2,   0.374463335,2,  2157.6,2,  2305.7,2,     -999.0,9,     -999.0,9,  -0.9539
58GS20090528,        GIN,     235,          1,          3,20090606,       1013,    75.0000,    -2.9960,       3610,  2501.4,  -0.7620,  34.9114,2,  34.9112,2,   297.9,2,   11.91,2,   14.72,2,    0.01,2,    1.01,2,   1.155,2,   0.481,2,   0.797900988,2,  2157.7,2,  2303.7,2,     -999.0,9,     -999.0,9,  -0.8911
58GS20090528,        GIN,     235,          1,          4,20090606,       1013,    75.0000,    -2.9960,       3610,  1999.7,  -0.6840,  34.9058,2,  34.9070,2,   302.7,2,   10.38,2,   14.23,2,    0.01,2,    0.99,2,   2.359,2,   1.000,2,    1.41751605,2,  2160.8,2,  2301.1,2,     -999.0,9,     -999.0,9,  -0.7798
58GS20090528,        GIN,     235,          1,          5,20090606,       1013,    75.0000,    -2.9960,       3610,  1799.5,  -0.6490,  34.9007,2,  34.9008,2,   309.3,2, -999.00,9, -999.00,9, -999.00,9, -999.00,9,   3.491,2,   1.632,2,    2.59918402,2,  2159.9,2,  2301.2,2,     -999.0,9,     -999.0,9,  -0.7325
58GS20090528,        GIN,     235,          1,          6,20090606,       1013,    75.0000,    -2.9960,       3610,  1500.1,  -0.6130,  34.8989,2,  34.9024,2,   330.6,2,    9.13,2,   13.78,3,    0.01,2,    0.95,2,   5.635,2,   2.969,2,    2.88368241,2,  2159.6,2,  2304.5,2,     -999.0,9,     -999.0,9,  -0.6791
58GS20090528,        GIN,     235,          1,          7,20090606,       1013,    75.0000,    -2.9960,       3610,  1200.0,  -0.6150,  34.8988,2,  34.8977,2,  -999.0,9,    6.80,2,   12.65,2,    0.01,2,    0.87,2,   5.852,2,   2.561,2,-999.000000000,9,  -999.0,9,  -999.0,9,     -999.0,9,     -999.0,9,  -0.6647
58GS20090528,        GIN,     235,          1,          8,20090606,       1013,    75.0000,    -2.9960,       3610,  1000.4,  -0.5780,  34.9016,2,  34.8929,2,   331.2,2,    6.81,2,   12.73,2,    0.02,2,    0.88,2,   5.915,2,   2.876,2,-999.000000000,9,  2160.9,2,  2300.8,2,     -999.0,9,     -999.0,9,  -0.6179
58GS20090528,        GIN,     235,          1,          9,20090606,       1013,    75.0000,    -2.9960,       3610,   800.1,  -0.4550,  34.9094,2,  34.9118,2,   330.6,2,    6.74,2,   12.68,2,    0.02,2,    0.88,2,   6.211,2,   2.760,2,-999.000000000,9,  2161.8,2,  2302.7,2,     -999.0,9,     -999.0,9,  -0.4863
58GS20090528,        GIN,     235,          1,         10,20090606,       1013,    75.0000,    -2.9960,       3610,   599.9,  -0.4420,  34.9102,2,  34.9090,2,   330.3,2,    6.52,2,   12.48,2,    0.02,2,    0.86,2,   6.081,2,   2.867,2,-999.000000000,9,  2161.1,2,  2304.5,2,     -999.0,9,     -999.0,9,  -0.4644
58GS20090528,        GIN,     235,          1,         11,20090606,       1013,    75.0000,    -2.9960,       3610,   600.6,  -0.4380,  34.9101,2,-999.0000,9,  -999.0,9,    6.61,2,   12.47,2,    0.02,2,    0.87,2,-999.000,9,-999.000,9,-999.000000000,9,  -999.0,9,  -999.0,9,     -999.0,9,     -999.0,9,  -0.4605
58GS20090528,        GIN,     235,          1,         12,20090606,       1013,    75.0000,    -2.9960,       3610,   500.2,  -0.5820,  34.8961,2,-999.0000,9,   330.0,2,    6.68,2,   12.55,2,    0.02,2,    0.88,2,   6.232,2,   2.733,2,-999.000000000,9,  2161.0,2,  2302.0,2,     -999.0,9,     -999.0,9,  -0.5997
58GS20090528,        GIN,     235,          1,         13,20090606,       1013,    75.0000,    -2.9960,       3610,   399.9,  -0.5800,  34.8941,2,  34.8957,2,   329.8,2,    6.63,2,   12.55,2,    0.02,2,    0.89,2,-999.000,9,-999.000,9,-999.000000000,9,  2164.6,2,  -999.0,9,     -999.0,9,     -999.0,9,  -0.5937
58GS20090528,        GIN,     235,          1,         14,20090606,       1013,    75.0000,    -2.9960,       3610,   300.0,  -0.5000,  34.8965,2,  34.8842,2,   328.0,2,    6.60,2,   12.53,2,    0.02,2,    0.87,2,   6.213,2,   2.692,2,-999.000000000,9,  2160.7,2,  2302.9,2,     -999.0,9,     -999.0,9,  -0.5102
58GS20090528,        GIN,     235,          1,         15,20090606,       1013,    75.0000,    -2.9960,       3610,   199.6,  -0.4650,  34.8936,2,  34.8910,2,   329.1,2, -999.00,9, -999.00,9, -999.00,9, -999.00,9,-999.000,9,-999.000,9,-999.000000000,9,  2164.5,2,  -999.0,9,     -999.0,9,     -999.0,9,  -0.4717
58GS20090528,        GIN,     235,          1,         16,20090606,       1013,    75.0000,    -2.9960,       3610,   150.2,  -0.4320,  34.8895,2,  34.8858,2,   330.3,2, -999.00,9, -999.00,9, -999.00,9, -999.00,9,-999.000,9,-999.000,9,-999.000000000,9,  2162.7,2,  2317.9,2,     -999.0,9,     -999.0,9,  -0.4370
58GS20090528,        GIN,     235,          1,         17,20090606,       1013,    75.0000,    -2.9960,       3610,   100.2,  -0.3070,  34.8850,2,  34.8826,2,   327.3,2, -999.00,9, -999.00,9, -999.00,9, -999.00,9,   6.119,2,   2.492,2,-999.000000000,9,  2161.8,2,  -999.0,9,     -999.0,9,     -999.0,9,  -0.3104
58GS20090528,        GIN,     235,          1,         18,20090606,       1013,    75.0000,    -2.9960,       3610,    75.0,  -0.1430,  34.8777,2,  34.8776,2,   340.4,2, -999.00,9, -999.00,9, -999.00,9, -999.00,9,-999.000,9,-999.000,9,-999.000000000,9,  2158.2,2,  -999.0,9,     -999.0,9,     -999.0,9,  -0.1456
58GS20090528,        GIN,     235,          1,         19,20090606,       1013,    75.0000,    -2.9960,       3610,    50.1,   0.0900,  34.8733,2,  34.8704,2,   353.2,2, -999.00,9, -999.00,9, -999.00,9, -999.00,9,-999.000,9,-999.000,9,-999.000000000,9,  2148.6,2,  2301.3,2,     -999.0,9,     -999.0,9,   0.0882
58GS20090528,        GIN,     235,          1,         20,20090606,       1013,    75.0000,    -2.9960,       3610,    30.0,   0.3210,  34.8603,2,  34.8598,2,   370.0,2, -999.00,9, -999.00,9, -999.00,9, -999.00,9,   7.083,2,   2.817,2,-999.000000000,9,  2134.9,2,  2311.8,2,     -999.0,9,     -999.0,9,   0.3198
58GS20090528,        GIN,     235,          1,         21,20090606,       1013,    75.0000,    -2.9960,       3610,    20.6,   0.9610,  34.7794,2,  34.8271,2,  -999.0,9, -999.00,9, -999.00,9, -999.00,9, -999.00,9,-999.000,9,-999.000,9,-999.000000000,9,  -999.0,9,  -999.0,9,     -999.0,9,     -999.0,9,   0.9601
58GS20090528,        GIN,     235,          1,         22,20090606,       1013,    75.0000,    -2.9960,       3610,     9.9,   1.2860,  34.7226,2,  34.7143,2,  -999.0,9, -999.00,9, -999.00,9, -999.00,9, -999.00,9,-999.000,9,-999.000,9,-999.000000000,9,  -999.0,9,  -999.0,9,     -999.0,9,     -999.0,9,   1.2855
58GS20090528,        GIN,     235,          1,         23,20090606,       1013,    75.0000,    -2.9960,       3610,     5.2,   1.3710,  34.7245,2,  34.7225,2,  -999.0,9, -999.00,9, -999.00,9, -999.00,9, -999.00,9,-999.000,9,-999.000,9,-999.000000000,9,  -999.0,9,  -999.0,9,     -999.0,9,     -999.0,9,   1.3708
58GS20090528,        GIN,     235,          1,         24,20090606,       1013,    75.0000,    -2.9960,       3610,     5.2,   1.3630,  34.7255,2,-999.0000,9,   363.1,2, -999.00,9, -999.00,9, -999.00,9, -999.00,9,-999.000,9,-999.000,9,-999.000000000,9,  2109.9,2,  -999.0,9,     -999.0,9,     -999.0,9,   1.3628