BOTTLE,20150327CCHSIORJL
EXPOCODE,SECT_ID,STNNBR,CASTNO,BTLNBR,DATE,TIME,LATITUDE,LONGITUDE,DEPTH,CTDPRS,CTDTMP,CTDSAL,CTDSAL_FLAG_W,SALNTY,SALNTY_FLAG_W,OXYGEN,OXYGEN_FLAG_W,SILCAT,SILCAT_FLAG_W,NITRAT,NITRAT_FLAG_W,NITRIT,NITRIT_FLAG_W,PHSPHT,PHSPHT_FLAG_W,CFC-11,CFC-11_FLAG_W,CFC-12,CFC-12_FLAG_W,SF6,SF6_FLAG_W,TCARBN,TCARBN_FLAG_W,ALKALI,ALKALI_FLAG_W,CHLORA,CHLORA_FLAG_W,PPHYTN,PPHYTN_FLAG_W,THETA
,,,,,,,,,METERS,DBAR,ITS-90,PSS-78,,PSS-78,,UMOL/KG,,UMOL/KG,,UMOL/KG,,UMOL/KG,,UMOL/KG,,PMOL/KG,,PMOL/KG,,FMOL/KG,,UMOL/KG,,UMOL/KG,,MG/M^3,,MG/M^3,,DEG C
58GS20090528,        GIN,     266,          1,          1,20090615,       0257,    78.8000,     8.1410,        921,   910.8,  -0.8330,  34.9041,2,  34.9109,2,  -999.0,9, -999.00,9, -999.00,9, -999.00,9, -999.00,9,-999.000,9,-999.000,9,-999.000000000,9,  -999.0,9,  -999.0,9,     -999.0,9,     -999.0,9,  -0.8667
58GS20090528,        GIN,     266,          1,          2,20090615,       0257,    78.8000,     8.1410,        921,   799.9,  -0.3820,  34.9066,2,  34.9083,2,  -999.0,9, -999.00,9, -999.00,9, -999.00,9, -999.00,9,-999.000,9,-999.000,9,-999.000000000,9,  -999.0,9,  -999.0,9,     -999.0,9,     -999.0,9,  -0.4138
58GS20090528,        GIN,     266,          1,          3,20090615,       0257,    78.8000,     8.1410,        921,   599.5,   1.2950,  34.9691,2,  34.9839,2,  -999.0,9, -999.00,9, -999.00,9, -999.00,9, -999.00,9,-999.000,9,-999.000,9,-999.000000000,9,  -999.0,9,  -999.0,9,     -999.0,9,     -999.0,9,   1.2639
58GS20090528,        GIN,     266,          1,          4,20090615,       0257,    78.8000,     8.1410,        921,   499.9,   2.5100,  35.0423,2,  35.0415,2,  -999.0,9, -999.00,9, -999.00,9, -999.00,9, -999.00,9,-999.000,9,-999.000,9,-999.000000000,9,  -999.0,9,  -999.0,9,     -999.0,9,     -999.0,9,   2.4795
58GS20090528,        GIN,     266,          1,          5,20090615,       0257,    78.8000,     8.1410,        921,   400.2,   2.9340,  35.0609,2,  35.0605,2,  -999.0,9, -999.00,9, -999.00,9, -999.00,9, -999.00,9,-999.000,9,-999.000,9,-999.000000000,9,  -999.0,9,  -999.0,9,     -999.0,9,     -999.0,9,   2.9086
58GS20090528,        GIN,     266,          1,          6,20090615,       0257,    78.8000,     8.1410,        921,   300.1,   3.3700,  35.0624,2,  35.0624,2,  -999.0,9, -999.00,9, -999.00,9, -999.00,9, -999.00,9,-999.000,9,-999.000,9,-999.000000000,9,  -999.0,9,  -999.0,9,     -999.0,9,     -999.0,9,   3.3501
58GS20090528,        GIN,     266,          1,          7,20090615,       0257,    78.8000,     8.1410,        921,   199.6,   4.2050,  35.0909,2,  35.0925,2,  -999.0,9, -999.00,9, -999.00,9, -999.00,9, -999.00,9,-999.000,9,-999.000,9,-999.000000000,9,  -999.0,9,  -999.0,9,     -999.0,9,     -999.0,9,   4.1906
58GS20090528,        GIN,     266,          1,          8,20090615,       0257,    78.8000,     8.1410,        921,   150.1,   4.5500,  35.0723,2,  35.0784,2,  -999.0,9, -999.00,9, -999.00,9, -999.00,9, -999.00,9,-999.000,9,-999.000,9,-999.000000000,9,  -999.0,9,  -999.0,9,     -999.0,9,     -999.0,9,   4.5388
58GS20090528,        GIN,     266,          1,          9,20090615,       0257,    78.8000,     8.1410,        921,   124.7,   4.8300,  35.0909,2,  35.0853,2,  -999.0,9, -999.00,9, -999.00,9, -999.00,9, -999.00,9,-999.000,9,-999.000,9,-999.000000000,9,  -999.0,9,  -999.0,9,     -999.0,9,     -999.0,9,   4.8205
58GS20090528,        GIN,     266,          1,         10,20090615,       0257,    78.8000,     8.1410,        921,    99.7,   4.9230,  35.0856,2,-999.0000,9,  -999.0,9, -999.00,9, -999.00,9, -999.00,9, -999.00,9,-999.000,9,-999.000,9,-999.000000000,9,  -999.0,9,  -999.0,9,     -999.0,9,     -999.0,9,   4.9153
58GS20090528,        GIN,     266,          1,         11,20090615,       0257,    78.8000,     8.1410,        921,    99.8,   4.8940,  35.0797,2,  35.0806,2,  -999.0,9, -999.00,9, -999.00,9, -999.00,9, -999.00,9,-999.000,9,-999.000,9,-999.000000000,9,  -999.0,9,  -999.0,9,     -999.0,9,     -999.0,9,   4.8863
58GS20090528,        GIN,     266,          1,         12,20090615,       0257,    78.8000,     8.1410,        921,    74.7,   4.4660,  35.0074,2,-999.0000,9,  -999.0,9, -999.00,9, -999.00,9, -999.00,9, -999.00,9,-999.000,9,-999.000,9,-999.000000000,9,  -999.0,9,  -999.0,9,     -999.0,9,     -999.0,9,   4.4605
58GS20090528,        GIN,     266,          1,         13,20090615,       0257,    78.8000,     8.1410,        921,    74.8,   4.4480,  35.0025,2,  34.9532,2,  -999.0,9, -999.00,9, -999.00,9, -999.00,9, -999.00,9,-999.000,9,-999.000,9,-999.000000000,9,  -999.0,9,  -999.0,9,     -999.0,9,     -999.0,9,   4.4425
58GS20090528,        GIN,     266,          1,         14,20090615,       0257,    78.8000,     8.1410,        921,    50.6,   4.1110,  34.9279,2,-999.0000,9,  -999.0,9, -999.00,9, -999.00,9, -999.00,9, -999.00,9,-999.000,9,-999.000,9,-999.000000000,9,  -999.0,9,  -999.0,9,     -999.0,9,     -999.0,9,   4.1075
58GS20090528,        GIN,     266,          1,         15,20090615,       0257,    78.8000,     8.1410,        921,    50.6,   4.4610,  34.9522,2,  34.9180,2,  -999.0,9, -999.00,9, -999.00,9, -999.00,9, -999.00,9,-999.000,9,-999.000,9,-999.000000000,9,  -999.0,9,  -999.0,9,     -999.0,9,     -999.0,9,   4.4573
58GS20090528,        GIN,     266,          1,         16,20090615,       0257,    78.8000,     8.1410,        921,    24.8,   5.4400,  35.0466,2,-999.0000,9,  -999.0,9, -999.00,9, -999.00,9, -999.00,9, -999.00,9,-999.000,9,-999.000,9,-999.000000000,9,  -999.0,9,  -999.0,9,     -999.0,9,     -999.0,9,   5.4380
58GS20090528,        GIN,     266,          1,         17,20090615,       0257,    78.8000,     8.1410,        921,    25.0,   5.9040,  35.1059,2,  35.1188,2,  -999.0,9, -999.00,9, -999.00,9, -999.00,9, -999.00,9,-999.000,9,-999.000,9,-999.000000000,9,  -999.0,9,  -999.0,9,     -999.0,9,     -999.0,9,   5.9019
58GS20090528,        GIN,     266,          1,         18,20090615,       0257,    78.8000,     8.1410,        921,    10.0,   6.0280,  35.1291,2,-999.0000,9,  -999.0,9, -999.00,9, -999.00,9, -999.00,9, -999.00,9,-999.000,9,-999.000,9,-999.000000000,9,  -999.0,9,  -999.0,9,     -999.0,9,     -999.0,9,   6.0272
58GS20090528,        GIN,     266,          1,         19,20090615,       0257,    78.8000,     8.1410,        921,    10.0,   6.0270,  35.1294,2,  35.1208,2,  -999.0,9, -999.00,9, -999.00,9, -999.00,9, -999.00,9,-999.000,9,-999.000,9,-999.000000000,9,  -999.0,9,  -999.0,9,     -999.0,9,     -999.0,9,   6.0261
58GS20090528,        GIN,     266,          1,         20,20090615,       0257,    78.8000,     8.1410,        921,     5.2,   6.0230,  35.1290,2,-999.0000,9,  -999.0,9, -999.00,9, -999.00,9, -999.00,9, -999.00,9,-999.000,9,-999.000,9,-999.000000000,9,  -999.0,9,  -999.0,9,     -999.0,9,     -999.0,9,   6.0226
58GS20090528,        GIN,     266,          1,         21,20090615,       0257,    78.8000,     8.1410,        921,     5.2,   6.0230,  35.1282,2,  35.1219,2,  -999.0,9, -999.00,9, -999.00,9, -999.00,9, -999.00,9,-999.000,9,-999.000,9,-999.000000000,9,  -999.0,9,  -999.0,9,     -999.0,9,     -999.0,9,   6.0226
58GS20090528,        GIN,     267,          1,          1,20090615,       0403,    78.8000,     8.1410,        919,   909.2,  -0.8380,  34.9034,2,-999.0000,9,   296.1,2,   12.46,2,   14.88,2,    0.02,2,    1.01,2,-999.000,9,-999.000,9,-999.000000000,9,  2166.5,2,  2306.7,2,     -999.0,9,     -999.0,9,  -0.8716
58GS20090528,        GIN,     267,          1,          2,20090615,       0403,    78.8000,     8.1410,        919,   800.6,  -0.3540,  34.9058,2,-999.0000,9,   299.0,2,   10.37,2,   14.52,2,    0.02,2,    0.99,2,-999.000,9,-999.000,9,-999.000000000,9,  2168.5,2,  2306.3,2,     -999.0,9,     -999.0,9,  -0.3860
58GS20090528,        GIN,     267,          1,          3,20090615,       0403,    78.8000,     8.1410,        919,   600.4,   1.4350,  34.9768,2,-999.0000,9,   310.1,2,    6.18,2,   12.78,2,    0.03,2,    0.87,2,-999.000,9,-999.000,9,-999.000000000,9,  2162.5,2,  2309.6,2,     -999.0,9,     -999.0,9,   1.4032
58GS20090528,        GIN,     267,          1,          4,20090615,       0403,    78.8000,     8.1410,        919,   500.6,   2.4780,  35.0392,2,-999.0000,9,   310.9,2,    5.25,2,   12.12,2,    0.02,2,    0.82,2,-999.000,9,-999.000,9,-999.000000000,9,  2158.5,2,  2310.9,2,     -999.0,9,     -999.0,9,   2.4476
58GS20090528,        GIN,     267,          1,          5,20090615,       0403,    78.8000,     8.1410,        919,   399.9,   2.9320,  35.0593,2,-999.0000,9,   310.4,2,    5.07,2,   11.87,2,    0.03,2,    0.80,2,-999.000,9,-999.000,9,-999.000000000,9,  2156.3,2,  2313.9,2,     -999.0,9,     -999.0,9,   2.9066
58GS20090528,        GIN,     267,          1,          6,20090615,       0403,    78.8000,     8.1410,        919,   299.3,   3.3750,  35.0662,2,-999.0000,9,   308.1,2, -999.00,9, -999.00,9, -999.00,9, -999.00,9,-999.000,9,-999.000,9,-999.000000000,9,  2154.1,2,  2314.6,2,     -999.0,9,     -999.0,9,   3.3552
58GS20090528,        GIN,     267,          1,          7,20090615,       0403,    78.8000,     8.1410,        919,   200.2,   4.1600,  35.0987,2,-999.0000,9,   305.9,2,    4.96,2,   11.60,2,    0.06,2,    0.78,2,-999.000,9,-999.000,9,-999.000000000,9,  2151.2,2,  2317.1,2,     -999.0,9,     -999.0,9,   4.1456
58GS20090528,        GIN,     267,          1,          8,20090615,       0403,    78.8000,     8.1410,        919,   150.0,   4.4610,  35.0768,2,-999.0000,9,   304.9,2,    4.44,2,   10.41,2,    0.12,2,    0.73,2,-999.000,9,-999.000,9,-999.000000000,9,  2147.1,2,  2318.3,2,     -999.0,9,     -999.0,9,   4.4499
58GS20090528,        GIN,     267,          1,          9,20090615,       0403,    78.8000,     8.1410,        919,   125.2,   4.6840,  35.0847,2,-999.0000,9,   303.7,2,    4.22,2,   10.21,2,    0.14,2,    0.72,2,-999.000,9,-999.000,9,-999.000000000,9,  2146.2,2,  2320.0,2,     -999.0,9,     -999.0,9,   4.6746
58GS20090528,        GIN,     267,          1,         10,20090615,       0403,    78.8000,     8.1410,        919,   100.0,   4.7940,  35.0603,2,-999.0000,9,   309.4,2,    3.73,2,    8.91,2,    0.12,2,    0.64,2,-999.000,9,-999.000,9,-999.000000000,9,  2136.9,2,  2320.7,2,       0.59,2,       0.31,2,   4.7864
58GS20090528,        GIN,     267,          1,         11,20090615,       0403,    78.8000,     8.1410,        919,   100.0,   4.8200,  35.0641,2,-999.0000,9,  -999.0,9, -999.00,9, -999.00,9, -999.00,9, -999.00,9,-999.000,9,-999.000,9,-999.000000000,9,  -999.0,9,  -999.0,9,     -999.0,9,     -999.0,9,   4.8124
58GS20090528,        GIN,     267,          1,         12,20090615,       0403,    78.8000,     8.1410,        919,    74.8,   3.9860,  34.9277,2,-999.0000,9,   338.5,2, -999.00,9, -999.00,9, -999.00,9, -999.00,9,-999.000,9,-999.000,9,-999.000000000,9,  2107.6,2,  2313.9,2,     -999.0,9,     -999.0,9,   3.9808
58GS20090528,        GIN,     267,          1,         13,20090615,       0403,    78.8000,     8.1410,        919,    74.7,   3.9790,  34.9249,2,-999.0000,9,  -999.0,9,    1.89,2,    4.69,2,    0.09,2,    0.40,2,-999.000,9,-999.000,9,-999.000000000,9,  -999.0,9,  -999.0,9,       2.97,2,       0.83,2,   3.9738
58GS20090528,        GIN,     267,          1,         14,20090615,       0403,    78.8000,     8.1410,        919,    50.1,   4.1850,  34.9131,2,-999.0000,9,   362.1,2, -999.00,9, -999.00,9, -999.00,9, -999.00,9,-999.000,9,-999.000,9,-999.000000000,9,  2088.4,2,  2312.0,2,     -999.0,9,     -999.0,9,   4.1815
58GS20090528,        GIN,     267,          1,         15,20090615,       0403,    78.8000,     8.1410,        919,    50.2,   4.2200,  34.9319,2,-999.0000,9,  -999.0,9,    1.65,2,    2.37,2,    0.07,2,    0.22,2,-999.000,9,-999.000,9,-999.000000000,9,  -999.0,9,  -999.0,9,       4.46,2,       1.18,2,   4.2164
58GS20090528,        GIN,     267,          1,         16,20090615,       0403,    78.8000,     8.1410,        919,    25.2,   6.0390,  35.1156,2,-999.0000,9,   314.5,2, -999.00,9, -999.00,9, -999.00,9, -999.00,9,-999.000,9,-999.000,9,-999.000000000,9,  2124.6,2,  2321.0,2,     -999.0,9,     -999.0,9,   6.0368
58GS20090528,        GIN,     267,          1,         17,20090615,       0403,    78.8000,     8.1410,        919,    25.4,   6.0490,  35.1211,2,-999.0000,9,  -999.0,9,    3.73,2,    7.36,2,    0.11,2,    0.55,2,-999.000,9,-999.000,9,-999.000000000,9,  -999.0,9,  -999.0,9,       0.96,2,       0.58,2,   6.0468
58GS20090528,        GIN,     267,          1,         18,20090615,       0403,    78.8000,     8.1410,        919,    10.1,   6.0840,  35.1261,2,-999.0000,9,   317.2,2, -999.00,9, -999.00,9, -999.00,9, -999.00,9,-999.000,9,-999.000,9,-999.000000000,9,  2121.8,2,  2320.8,2,     -999.0,9,     -999.0,9,   6.0831
58GS20090528,        GIN,     267,          1,         19,20090615,       0403,    78.8000,     8.1410,        919,    10.2,   6.0820,  35.1262,2,-999.0000,9,  -999.0,9, -999.00,9, -999.00,9, -999.00,9, -999.00,9,-999.000,9,-999.000,9,-999.000000000,9,  -999.0,9,  -999.0,9,       1.16,2,       0.50,2,   6.0811
58GS20090528,        GIN,     267,          1,         20,20090615,       0403,    78.8000,     8.1410,        919,     5.2,   6.0860,  35.1261,2,-999.0000,9,   317.2,2, -999.00,9, -999.00,9, -999.00,9, -999.00,9,-999.000,9,-999.000,9,-999.000000000,9,  2121.9,2,  2319.9,2,     -999.0,9,     -999.0,9,   6.0856
58GS20090528,        GIN,     267,          1,         21,20090615,       0403,    78.8000,     8.1410,        919,     5.2,   6.0860,  35.1261,2,-999.0000,9,  -999.0,9,    3.70,2,    7.08,2,    0.12,2,    0.52,2,-999.000,9,-999.000,9,-999.000000000,9,  -999.0,9,  -999.0,9,       1.26,2,       0.50,2,   6.0856
58GS20090528,        GIN,     268,          1,          1,20090615,       0553,    78.9350,     7.7710,       1013,    49.9,   5.6130,  35.1422,2,-999.0000,9,  -999.0,9, -999.00,9, -999.00,9, -999.00,9, -999.00,9,-999.000,9,-999.000,9,-999.000000000,9,  -999.0,9,  -999.0,9,     -999.0,9,     -999.0,9,   5.6089
58GS20090528,        GIN,     268,          1,          2,20090615,       0553,    78.9350,     7.7710,       1013,    25.4,   5.9630,  35.1405,2,-999.0000,9,  -999.0,9, -999.00,9, -999.00,9, -999.00,9, -999.00,9,-999.000,9,-999.000,9,-999.000000000,9,  -999.0,9,  -999.0,9,     -999.0,9,     -999.0,9,   5.9608
58GS20090528,        GIN,     268,          1,          3,20090615,       0553,    78.9350,     7.7710,       1013,    25.4,   5.9580,  35.1410,2,-999.0000,9,  -999.0,9, -999.00,9, -999.00,9, -999.00,9, -999.00,9,-999.000,9,-999.000,9,-999.000000000,9,  -999.0,9,  -999.0,9,     -999.0,9,     -999.0,9,   5.9558
58GS20090528,        GIN,     268,          1,          4,20090615,       0553,    78.9350,     7.7710,       1013,    25.5,   5.9650,  35.1414,2,-999.0000,9,  -999.0,9, -999.00,9, -999.00,9, -999.00,9, -999.00,9,-999.000,9,-999.000,9,-999.000000000,9,  -999.0,9,  -999.0,9,     -999.0,9,     -999.0,9,   5.9628
58GS20090528,        GIN,     268,          1,          5,20090615,       0553,    78.9350,     7.7710,       1013,    17.0,   5.9900,  35.1429,2,-999.0000,9,  -999.0,9, -999.00,9, -999.00,9, -999.00,9, -999.00,9,-999.000,9,-999.000,9,-999.000000000,9,  -999.0,9,  -999.0,9,     -999.0,9,     -999.0,9,   5.9886
58GS20090528,        GIN,     268,          1,          6,20090615,       0553,    78.9350,     7.7710,       1013,    17.0,   5.9840,  35.1426,2,-999.0000,9,  -999.0,9, -999.00,9, -999.00,9, -999.00,9, -999.00,9,-999.000,9,-999.000,9,-999.000000000,9,  -999.0,9,  -999.0,9,     -999.0,9,     -999.0,9,   5.9826
58GS20090528,        GIN,     268,          1,          7,20090615,       0553,    78.9350,     7.7710,       1013,    17.0,   5.9740,  35.1422,2,-999.0000,9,  -999.0,9, -999.00,9, -999.00,9, -999.00,9, -999.00,9,-999.000,9,-999.000,9,-999.000000000,9,  -999.0,9,  -999.0,9,     -999.0,9,     -999.0,9,   5.9726
58GS20090528,        GIN,     268,          1,          8,20090615,       0553,    78.9350,     7.7710,       1013,     4.6,   5.9900,  35.1432,2,-999.0000,9,  -999.0,9, -999.00,9, -999.00,9, -999.00,9, -999.00,9,-999.000,9,-999.000,9,-999.000000000,9,  -999.0,9,  -999.0,9,     -999.0,9,     -999.0,9,   5.9896
58GS20090528,        GIN,     268,          1,          9,20090615,       0553,    78.9350,     7.7710,       1013,     4.6,   5.9900,  35.1431,2,-999.0000,9,  -999.0,9, -999.00,9, -999.00,9, -999.00,9, -999.00,9,-999.000,9,-999.000,9,-999.000000000,9,  -999.0,9,  -999.0,9,     -999.0,9,     -999.0,9,   5.9896
58GS20090528,        GIN,     268,          1,         10,20090615,       0553,    78.9350,     7.7710,       1013,     4.6,   5.9920,  35.1434,2,-999.0000,9,  -999.0,9, -999.00,9, -999.00,9, -999.00,9, -999.00,9,-999.000,9,-999.000,9,-999.000000000,9,  -999.0,9,  -999.0,9,     -999.0,9,     -999.0,9,   5.9916