BOTTLE,20150327CCHSIORJL
EXPOCODE,SECT_ID,STNNBR,CASTNO,BTLNBR,DATE,TIME,LATITUDE,LONGITUDE,DEPTH,CTDPRS,CTDTMP,CTDSAL,CTDSAL_FLAG_W,SALNTY,SALNTY_FLAG_W,OXYGEN,OXYGEN_FLAG_W,SILCAT,SILCAT_FLAG_W,NITRAT,NITRAT_FLAG_W,NITRIT,NITRIT_FLAG_W,PHSPHT,PHSPHT_FLAG_W,CFC-11,CFC-11_FLAG_W,CFC-12,CFC-12_FLAG_W,SF6,SF6_FLAG_W,TCARBN,TCARBN_FLAG_W,ALKALI,ALKALI_FLAG_W,CHLORA,CHLORA_FLAG_W,PPHYTN,PPHYTN_FLAG_W,THETA
,,,,,,,,,METERS,DBAR,ITS-90,PSS-78,,PSS-78,,UMOL/KG,,UMOL/KG,,UMOL/KG,,UMOL/KG,,UMOL/KG,,PMOL/KG,,PMOL/KG,,FMOL/KG,,UMOL/KG,,UMOL/KG,,MG/M^3,,MG/M^3,,DEG C
58GS20090528,        GIN,     252,          1,          1,20090610,       1759,    74.4990,    12.5830,       2253,  2242.9,  -0.8220,  34.9099,2,-999.0000,9,   296.2,2,   13.08,2,   14.99,2,    0.01,2,    1.01,2,-999.000,9,-999.000,9,-999.000000000,9,  2162.6,2,  2308.5,2,     -999.0,9,     -999.0,9,  -0.9317
58GS20090528,        GIN,     252,          1,          2,20090610,       1759,    74.4990,    12.5830,       2253,  2000.3,  -0.8290,  34.9094,2,-999.0000,9,   296.8,2,   12.92,2,   15.02,2,    0.02,2,    1.00,2,-999.000,9,-999.000,9,-999.000000000,9,  2164.2,2,  2309.0,2,     -999.0,9,     -999.0,9,  -0.9225
58GS20090528,        GIN,     252,          1,          3,20090610,       1759,    74.4990,    12.5830,       2253,  1500.5,  -0.7630,  34.9061,2,-999.0000,9,   298.2,2,   11.50,2,   14.68,2,    0.01,2,    1.00,2,-999.000,9,-999.000,9,-999.000000000,9,  2163.2,2,  2306.5,2,     -999.0,9,     -999.0,9,  -0.8273
58GS20090528,        GIN,     252,          1,          4,20090610,       1759,    74.4990,    12.5830,       2253,  1200.3,  -0.6480,  34.9001,2,-999.0000,9,  -999.0,9,    9.81,2,   14.25,2,    0.01,2,    0.98,2,-999.000,9,-999.000,9,-999.000000000,9,  -999.0,9,  -999.0,9,     -999.0,9,     -999.0,9,  -0.6974
58GS20090528,        GIN,     252,          1,          5,20090610,       1759,    74.4990,    12.5830,       2253,  1000.4,  -0.5140,  34.8966,2,-999.0000,9,   309.8,2,    8.43,2,   13.77,2,    0.01,2,    0.95,2,-999.000,9,-999.000,9,-999.000000000,9,  2165.6,2,  2305.8,2,     -999.0,9,     -999.0,9,  -0.5544
58GS20090528,        GIN,     252,          1,          6,20090610,       1759,    74.4990,    12.5830,       2253,   800.5,  -0.2190,  34.8996,2,-999.0000,9,   310.9,2,    7.57,2,   13.57,2,    0.01,2,    0.93,2,-999.000,9,-999.000,9,-999.000000000,9,  2167.3,2,  2307.5,2,     -999.0,9,     -999.0,9,  -0.2519
58GS20090528,        GIN,     252,          1,          7,20090610,       1759,    74.4990,    12.5830,       2253,   600.1,   0.8050,  34.9358,2,-999.0000,9,   311.9,2,    6.34,2,   13.03,2,    0.01,2,    0.90,2,-999.000,9,-999.000,9,-999.000000000,9,  2165.7,2,  2312.0,2,     -999.0,9,     -999.0,9,   0.7763
58GS20090528,        GIN,     252,          1,          8,20090610,       1759,    74.4990,    12.5830,       2253,   500.2,   1.8940,  35.0034,2,-999.0000,9,   310.7,2,    5.57,2,   12.39,2,    0.01,2,    0.84,2,-999.000,9,-999.000,9,-999.000000000,9,  2161.1,2,  2316.2,3,     -999.0,9,     -999.0,9,   1.8660
58GS20090528,        GIN,     252,          1,          9,20090610,       1759,    74.4990,    12.5830,       2253,   399.8,   2.7490,  35.0592,2,-999.0000,9,   311.6,2,    4.97,2,   11.72,2,    0.03,2,    0.84,2,-999.000,9,-999.000,9,-999.000000000,9,  2155.9,2,  2314.8,2,     -999.0,9,     -999.0,9,   2.7242
58GS20090528,        GIN,     252,          1,         10,20090610,       1759,    74.4990,    12.5830,       2253,   300.4,   3.1320,  35.0745,2,-999.0000,9,   309.7,2,    4.89,2,   11.72,2,    0.01,2,    0.78,2,-999.000,9,-999.000,9,-999.000000000,9,  2154.4,2,  2317.3,2,     -999.0,9,     -999.0,9,   3.1127
58GS20090528,        GIN,     252,          1,         11,20090610,       1759,    74.4990,    12.5830,       2253,   200.4,   3.6780,  35.1027,2,-999.0000,9,   307.3,2,    4.83,2,   11.54,2,    0.03,2,    0.78,2,-999.000,9,-999.000,9,-999.000000000,9,  2152.5,2,  2316.9,2,     -999.0,9,     -999.0,9,   3.6644
58GS20090528,        GIN,     252,          1,         12,20090610,       1759,    74.4990,    12.5830,       2253,   151.3,   3.8940,  35.1066,2,-999.0000,9,   306.9,2,    4.72,2,   11.27,2,    0.06,2,    0.80,2,-999.000,9,-999.000,9,-999.000000000,9,  2151.2,2,  2319.9,2,     -999.0,9,     -999.0,9,   3.8835
58GS20090528,        GIN,     252,          1,         13,20090610,       1759,    74.4990,    12.5830,       2253,   100.9,   4.2450,  35.1094,2,-999.0000,9,   304.2,2,    4.80,2,   11.32,2,    0.12,2,    0.77,2,-999.000,9,-999.000,9,-999.000000000,9,  2151.3,2,  2323.8,2,       0.04,2,       0.14,2,   4.2378
58GS20090528,        GIN,     252,          1,         14,20090610,       1759,    74.4990,    12.5830,       2253,    75.3,   4.6260,  35.1275,2,-999.0000,9,   301.2,2,    4.75,2,   10.96,2,    0.15,2,    0.75,2,-999.000,9,-999.000,9,-999.000000000,9,  2148.3,2,  2322.4,2,       0.02,2,       0.18,2,   4.6204
58GS20090528,        GIN,     252,          1,         15,20090610,       1759,    74.4990,    12.5830,       2253,    50.4,   5.1200,  35.1397,2,-999.0000,9,   299.7,2,    4.70,2,   10.65,2,    0.20,2,    0.74,2,-999.000,9,-999.000,9,-999.000000000,9,  2148.4,2,  2325.5,2,       0.12,2,       0.18,2,   5.1161
58GS20090528,        GIN,     252,          1,         16,20090610,       1759,    74.4990,    12.5830,       2253,    30.2,   5.3080,  35.1421,2,-999.0000,9,   308.2,2,    4.45,2,    8.45,2,    0.22,2,    0.62,2,-999.000,9,-999.000,9,-999.000000000,9,  2138.4,2,  2327.1,2,       0.64,2,       0.42,2,   5.3056
58GS20090528,        GIN,     252,          1,         17,20090610,       1759,    74.4990,    12.5830,       2253,    20.3,   5.6810,  35.1495,2,-999.0000,9,  -999.0,9,    4.04,2,    5.99,2,    0.14,2,    0.51,2,-999.000,9,-999.000,9,-999.000000000,9,  -999.0,9,  -999.0,9,       1.63,2,       0.67,2,   5.6793
58GS20090528,        GIN,     252,          1,         18,20090610,       1759,    74.4990,    12.5830,       2253,    20.3,   5.7250,  35.1499,2,-999.0000,9,  -999.0,9, -999.00,9, -999.00,9, -999.00,9, -999.00,9,-999.000,9,-999.000,9,-999.000000000,9,  -999.0,9,  -999.0,9,     -999.0,9,     -999.0,9,   5.7233
58GS20090528,        GIN,     252,          1,         19,20090610,       1759,    74.4990,    12.5830,       2253,    10.4,   6.1490,  35.1434,2,-999.0000,9,  -999.0,9,    3.79,2,    4.47,2,    0.11,2,    0.42,2,-999.000,9,-999.000,9,-999.000000000,9,  -999.0,9,  -999.0,9,       2.17,2,       0.51,2,   6.1481
58GS20090528,        GIN,     252,          1,         20,20090610,       1759,    74.4990,    12.5830,       2253,     5.6,   6.1410,  35.1463,2,-999.0000,9,   333.6,2,    3.64,2,    3.68,2,    0.10,2,    0.32,2,-999.000,9,-999.000,9,-999.000000000,9,  -999.0,9,  -999.0,9,       2.39,2,       0.38,2,   6.1405
58GS20090528,        GIN,     252,          1,         21,20090610,       1759,    74.4990,    12.5830,       2253,     5.6,   6.1540,  35.1471,2,-999.0000,9,  -999.0,9, -999.00,9, -999.00,9, -999.00,9, -999.00,9,-999.000,9,-999.000,9,-999.000000000,9,  -999.0,9,  -999.0,9,     -999.0,9,     -999.0,9,   6.1535
58GS20090528,        GIN,     253,          1,          1,20090610,       2230,    74.5000,    13.4990,       2160,  2150.2,  -0.8370,  34.9087,2,  34.9095,2,   294.6,2,   13.65,2,   15.19,2,    0.01,2,    1.03,2,-999.000,9,-999.000,9,-999.000000000,9,  2166.0,2,  2310.8,2,     -999.0,9,     -999.0,9,  -0.9402
58GS20090528,        GIN,     253,          1,          2,20090610,       2230,    74.5000,    13.4990,       2160,  1999.8,  -0.8400,  34.9086,2,  34.9111,2,   294.9,2,   13.48,2,   15.15,2,    0.01,2,    1.03,2,-999.000,9,-999.000,9,-999.000000000,9,  2164.4,2,  2309.9,2,     -999.0,9,     -999.0,9,  -0.9333
58GS20090528,        GIN,     253,          1,          3,20090610,       2230,    74.5000,    13.4990,       2160,  1500.4,  -0.7280,  34.9048,2,  34.9070,2,   298.1,2,   11.36,2,   14.68,2,    0.01,2,    1.01,2,-999.000,9,-999.000,9,-999.000000000,9,  2163.4,2,  2313.1,2,     -999.0,9,     -999.0,9,  -0.7928
58GS20090528,        GIN,     253,          1,          4,20090610,       2230,    74.5000,    13.4990,       2160,  1200.3,  -0.6240,  34.8987,2,  34.9026,2,  -999.0,9,    9.38,2,   14.02,2,    0.01,2,    0.98,2,-999.000,9,-999.000,9,-999.000000000,9,  -999.0,9,  -999.0,9,     -999.0,9,     -999.0,9,  -0.6736
58GS20090528,        GIN,     253,          1,          5,20090610,       2230,    74.5000,    13.4990,       2160,   999.7,  -0.4880,  34.8970,2,  34.9008,2,   310.0,2,    8.25,2,   13.73,2,    0.01,2,    0.95,2,-999.000,9,-999.000,9,-999.000000000,9,  2164.3,2,  2308.0,2,     -999.0,9,     -999.0,9,  -0.5286
58GS20090528,        GIN,     253,          1,          6,20090610,       2230,    74.5000,    13.4990,       2160,   800.5,  -0.2090,  34.9010,2,  34.9045,2,   309.2,2,    7.79,2,   13.67,2,    0.01,2,    0.94,2,-999.000,9,-999.000,9,-999.000000000,9,  2165.6,2,  2307.3,2,     -999.0,9,     -999.0,9,  -0.2419
58GS20090528,        GIN,     253,          1,          7,20090610,       2230,    74.5000,    13.4990,       2160,   599.7,   0.7080,  34.9296,2,  34.9324,2,   304.4,2,    7.19,2,   13.60,2,    0.01,2,    0.94,2,-999.000,9,-999.000,9,-999.000000000,9,  2164.0,2,  2308.7,2,     -999.0,9,     -999.0,9,   0.6798
58GS20090528,        GIN,     253,          1,          8,20090610,       2230,    74.5000,    13.4990,       2160,   499.9,   2.1030,  35.0161,2,  35.0005,2,   306.6,2,    5.95,2,   12.71,2,    0.01,2,    0.87,2,-999.000,9,-999.000,9,-999.000000000,9,  2159.8,2,  2316.8,2,     -999.0,9,     -999.0,9,   2.0742
58GS20090528,        GIN,     253,          1,          9,20090610,       2230,    74.5000,    13.4990,       2160,   400.3,   3.1360,  35.0683,2,  35.0738,2,   307.9,2,    5.03,2,   11.91,2,    0.02,2,    0.81,2,-999.000,9,-999.000,9,-999.000000000,9,  2153.9,2,  2321.6,2,     -999.0,9,     -999.0,9,   3.1099
58GS20090528,        GIN,     253,          1,         10,20090610,       2230,    74.5000,    13.4990,       2160,   300.3,   3.6840,  35.0997,2,  35.0964,2,   306.5,2,    4.87,2,   11.67,2,    0.03,2,    0.79,2,-999.000,9,-999.000,9,-999.000000000,9,  2150.6,2,  2319.5,2,     -999.0,9,     -999.0,9,   3.6633
58GS20090528,        GIN,     253,          1,         11,20090610,       2230,    74.5000,    13.4990,       2160,   199.8,   4.1430,  35.1032,2,  35.0972,2,   302.0,2,    4.87,2,   11.67,2,    0.03,2,    0.78,2,-999.000,9,-999.000,9,-999.000000000,9,  2149.0,2,  2321.9,2,     -999.0,9,     -999.0,9,   4.1287
58GS20090528,        GIN,     253,          1,         12,20090610,       2230,    74.5000,    13.4990,       2160,   149.9,   4.5220,  35.1214,2,  35.1175,2,   301.3,2,    4.79,2,   11.47,2,    0.08,2,    0.78,2,-999.000,9,-999.000,9,-999.000000000,9,  2147.7,2,  2322.6,2,     -999.0,9,     -999.0,9,   4.5109
58GS20090528,        GIN,     253,          1,         13,20090610,       2230,    74.5000,    13.4990,       2160,   100.5,   5.0320,  35.1357,2,  35.1342,2,   303.6,2,    4.67,2,   10.05,2,    0.17,2,    0.72,2,-999.000,9,-999.000,9,-999.000000000,9,  2143.5,2,  2324.9,2,       0.08,2,       0.19,2,   5.0242
58GS20090528,        GIN,     253,          1,         14,20090610,       2230,    74.5000,    13.4990,       2160,    74.7,   5.2450,  35.1405,2,  35.1379,2,   301.4,2,    4.67,2,   10.31,2,    0.18,2,    0.73,2,-999.000,9,-999.000,9,-999.000000000,9,  2141.5,2,  2322.9,2,       0.07,2,       0.21,2,   5.2391
58GS20090528,        GIN,     253,          1,         15,20090610,       2230,    74.5000,    13.4990,       2160,    50.4,   5.5100,  35.1468,2,  35.1466,2,   297.1,2,    4.65,2,   10.51,2,    0.18,2,    0.74,2,-999.000,9,-999.000,9,-999.000000000,9,  2143.2,2,  2326.1,2,       0.11,2,       0.19,2,   5.5059
58GS20090528,        GIN,     253,          1,         16,20090610,       2230,    74.5000,    13.4990,       2160,    30.2,   5.9810,  35.1489,2,  35.1507,2,   306.4,2,    4.35,2,    8.09,2,    0.17,2,    0.61,2,-999.000,9,-999.000,9,-999.000000000,9,  2131.6,2,  2322.6,2,       0.48,2,       0.36,2,   5.9784
58GS20090528,        GIN,     253,          1,         17,20090610,       2230,    74.5000,    13.4990,       2160,    20.0,   6.1150,  35.1445,2,  35.1422,2,  -999.0,9,    3.96,2,    5.38,2,    0.11,2,    0.45,2,-999.000,9,-999.000,9,-999.000000000,9,  -999.0,9,  -999.0,9,       1.37,2,       0.44,2,   6.1133
58GS20090528,        GIN,     253,          1,         18,20090610,       2230,    74.5000,    13.4990,       2160,    20.0,   6.1160,  35.1449,2,-999.0000,9,  -999.0,9, -999.00,9, -999.00,9, -999.00,9, -999.00,9,-999.000,9,-999.000,9,-999.000000000,9,  -999.0,9,  -999.0,9,     -999.0,9,     -999.0,9,   6.1143
58GS20090528,        GIN,     253,          1,         19,20090610,       2230,    74.5000,    13.4990,       2160,    10.0,   6.3820,  35.1421,2,  35.1428,2,  -999.0,9,    3.82,2,    4.64,2,    0.10,2,    0.39,2,-999.000,9,-999.000,9,-999.000000000,9,  -999.0,9,  -999.0,9,       1.79,2,       0.31,2,   6.3811
58GS20090528,        GIN,     253,          1,         20,20090610,       2230,    74.5000,    13.4990,       2160,     4.6,   6.3780,  35.1447,2,  35.1391,2,   325.4,2,    3.78,2,    4.48,2,    0.10,2,    0.40,2,-999.000,9,-999.000,9,-999.000000000,9,  2105.4,2,  2325.0,2,       1.68,2,       0.22,2,   6.3776
58GS20090528,        GIN,     253,          1,         21,20090610,       2230,    74.5000,    13.4990,       2160,     4.5,   6.3750,  35.1449,2,-999.0000,9,  -999.0,9, -999.00,9, -999.00,9, -999.00,9, -999.00,9,-999.000,9,-999.000,9,-999.000000000,9,  -999.0,9,  -999.0,9,     -999.0,9,     -999.0,9,   6.3746
58GS20090528,        GIN,     254,          1,          1,20090611,       0317,    74.5000,    14.4160,       2010,  2000.4,  -0.8490,  34.9079,2,  34.9107,2,   294.6,2,   13.73,2,   15.06,2,    0.01,2,    1.03,2,-999.000,9,-999.000,9,-999.000000000,9,  2166.2,2,  2310.8,2,     -999.0,9,     -999.0,9,  -0.9422
58GS20090528,        GIN,     254,          1,          2,20090611,       0317,    74.5000,    14.4160,       2010,  1499.1,  -0.7480,  34.9053,2,  34.9068,2,   296.8,2,   11.76,2,   14.61,2,    0.01,2,    1.01,2,-999.000,9,-999.000,9,-999.000000000,9,  2163.9,2,  2308.2,2,     -999.0,9,     -999.0,9,  -0.8125
58GS20090528,        GIN,     254,          1,          3,20090611,       0317,    74.5000,    14.4160,       2010,  1199.5,  -0.6300,  34.9015,2,  34.9049,2,  -999.0,9,   10.56,2,   14.43,2,    0.01,2,    1.00,2,-999.000,9,-999.000,9,-999.000000000,9,  -999.0,9,  -999.0,9,     -999.0,9,     -999.0,9,  -0.6795
58GS20090528,        GIN,     254,          1,          4,20090611,       0317,    74.5000,    14.4160,       2010,  1000.4,  -0.4840,  34.8983,2,  34.9007,2,   302.2,2,    9.28,2,   14.13,2,    0.01,2,    0.98,2,-999.000,9,-999.000,9,-999.000000000,9,  2166.0,2,  2307.1,2,     -999.0,9,     -999.0,9,  -0.5247
58GS20090528,        GIN,     254,          1,          5,20090611,       0317,    74.5000,    14.4160,       2010,   800.3,  -0.0900,  34.9005,2,  34.9746,3,   303.7,2,    8.05,2,   13.80,2,    0.01,2,    0.96,2,-999.000,9,-999.000,9,-999.000000000,9,  2167.1,2,  2308.2,2,     -999.0,9,     -999.0,9,  -0.1238
58GS20090528,        GIN,     254,          1,          6,20090611,       0317,    74.5000,    14.4160,       2010,   600.0,   1.6140,  34.9778,2,-999.0000,9,   307.2,2,    6.12,2,   12.87,2,    0.01,2,    0.89,2,-999.000,9,-999.000,9,-999.000000000,9,  2161.5,2,  2309.7,2,     -999.0,9,     -999.0,9,   1.5813
58GS20090528,        GIN,     254,          1,          7,20090611,       0317,    74.5000,    14.4160,       2010,   500.6,   2.6520,  35.0354,2,  35.0371,2,   307.7,2,    5.30,2,   12.17,2,    0.02,2,    0.83,2,-999.000,9,-999.000,9,-999.000000000,9,  2154.2,2,  2312.9,2,     -999.0,9,     -999.0,9,   2.6209
58GS20090528,        GIN,     254,          1,          8,20090611,       0317,    74.5000,    14.4160,       2010,   399.9,   3.5090,  35.0889,2,  35.0888,2,   307.8,2,    4.88,2,   11.48,2,    0.04,2,    0.78,2,-999.000,9,-999.000,9,-999.000000000,9,  2151.0,2,  2318.4,2,     -999.0,9,     -999.0,9,   3.4817
58GS20090528,        GIN,     254,          1,          9,20090611,       0317,    74.5000,    14.4160,       2010,   300.8,   4.0850,  35.1083,2,  35.1089,2,   303.0,2,    4.83,2,   11.61,2,    0.02,2,    0.79,2,-999.000,9,-999.000,9,-999.000000000,9,  2150.3,2,  2319.6,2,     -999.0,9,     -999.0,9,   4.0633
58GS20090528,        GIN,     254,          1,         10,20090611,       0317,    74.5000,    14.4160,       2010,   199.2,   4.9130,  35.1345,2,  35.1316,2,   298.0,2,    4.81,2,   11.45,2,    0.05,2,    0.78,2,-999.000,9,-999.000,9,-999.000000000,9,  2146.7,2,  2304.7,3,     -999.0,9,     -999.0,9,   4.8975
58GS20090528,        GIN,     254,          1,         11,20090611,       0317,    74.5000,    14.4160,       2010,   149.7,   5.2660,  35.1469,2,  35.1438,2,   295.8,2,    4.85,2,   11.43,2,    0.04,2,    0.78,2,-999.000,9,-999.000,9,-999.000000000,9,  2148.3,2,  2308.1,3,     -999.0,9,     -999.0,9,   5.2540
58GS20090528,        GIN,     254,          1,         12,20090611,       0317,    74.5000,    14.4160,       2010,   100.4,   5.7320,  35.1625,2,  35.1596,2,   293.5,2,    4.72,2,   11.28,2,    0.04,2,    0.77,2,-999.000,9,-999.000,9,-999.000000000,9,  -999.0,9,  -999.0,9,       0.03,2,       0.11,2,   5.7236
58GS20090528,        GIN,     254,          1,         13,20090611,       0317,    74.5000,    14.4160,       2010,    75.2,   5.9980,  35.1710,2,  35.1701,2,   291.6,2,    4.72,2,   11.22,2,    0.10,2,    0.76,2,-999.000,9,-999.000,9,-999.000000000,9,  2146.6,2,  2314.0,2,       0.04,2,       0.15,2,   5.9916
58GS20090528,        GIN,     254,          1,         14,20090611,       0317,    74.5000,    14.4160,       2010,    50.5,   6.2940,  35.1677,2,  35.1699,2,   290.7,2,    4.54,2,   10.81,2,    0.10,2,    0.74,2,-999.000,9,-999.000,9,-999.000000000,9,  2143.4,2,  2294.7,3,       0.15,2,       0.16,2,   6.2896
58GS20090528,        GIN,     254,          1,         15,20090611,       0317,    74.5000,    14.4160,       2010,    30.2,   6.5210,  35.1463,2,  35.1411,2,   309.4,2,    3.86,2,    6.08,2,    0.12,2,    0.50,2,-999.000,9,-999.000,9,-999.000000000,9,  2119.7,2,  2312.3,2,       0.53,2,       0.45,2,   6.5183
58GS20090528,        GIN,     254,          1,         16,20090611,       0317,    74.5000,    14.4160,       2010,    18.4,   7.0420,  35.1350,2,-999.0000,9,  -999.0,9,    3.62,2,    5.27,2,    0.10,2,    0.43,2,-999.000,9,-999.000,9,-999.000000000,9,  -999.0,9,  -999.0,9,       0.75,2,       0.28,2,   7.0403
58GS20090528,        GIN,     254,          1,         17,20090611,       0317,    74.5000,    14.4160,       2010,    18.5,   7.0030,  35.1363,2,-999.0000,9,  -999.0,9, -999.00,9, -999.00,9, -999.00,9, -999.00,9,-999.000,9,-999.000,9,-999.000000000,9,  -999.0,9,  -999.0,9,     -999.0,9,     -999.0,9,   7.0013
58GS20090528,        GIN,     254,          1,         18,20090611,       0317,    74.5000,    14.4160,       2010,    10.4,   7.0500,  35.1369,2,  35.1305,2,  -999.0,9,    3.55,2,    4.78,2,    0.09,2,    0.40,2,-999.000,9,-999.000,9,-999.000000000,9,  -999.0,9,  -999.0,9,       0.88,2,       0.15,2,   7.0490
58GS20090528,        GIN,     254,          1,         19,20090611,       0317,    74.5000,    14.4160,       2010,     4.8,   7.0510,  35.1374,2,  35.1305,2,   316.1,2,    3.50,2,    4.76,2,    0.09,2,    0.40,2,-999.000,9,-999.000,9,-999.000000000,9,  2110.2,2,  2323.9,2,       0.89,2,       0.19,2,   7.0506
58GS20090528,        GIN,     254,          1,         20,20090611,       0317,    74.5000,    14.4160,       2010,     4.7,   7.0510,  35.1374,2,-999.0000,9,  -999.0,9, -999.00,9, -999.00,9, -999.00,9, -999.00,9,-999.000,9,-999.000,9,-999.000000000,9,  -999.0,9,  -999.0,9,     -999.0,9,     -999.0,9,   7.0506